{"text_format":"1","workbook":"xlsx","n_sheets":16,"sheets":["Contents","Read Stocks","Multiple Stock Graph","Summary","Yahoo Index","FRED Indicies","Exchange Rates","Commodity Prices","Yahoo Stocks","Google Finance Stocks","Google Index","International Indicies","Errors","General Points","Forms","BREAK"],"not_rendered":{"charts":1,"images":1,"macros":1,"external_links":0,"defined_names":86,"comments":5,"pivot_tables":0},"unopened":[],"bounds":{"document_bytes":16777216,"sheet_cells":100000,"rows_first":2000,"rows_last":500,"rows_between":2000,"halvings":0,"cell_chars":16384,"cell_head_chars":4096},"cells_cut":0,"cells_raw":0,"read":"whole","date_system":"1900"}

{"sheet":"Contents","index":0,"n_rows":34,"n_cols":5,"rows_kept":34,"cut":false,"hidden":false,"merged":[]}
[null,null,"Go to Charts by Pressing Shift and Enter on Menu Item "]
[]
[null,null,"Sheet Tab","Description","Author"]
[null,1,"Contents"]
[null,2,"Read Stocks"]
[null,3,"Multiple Stock Graph"]
[null,4,"Summary"]
[null,5,"Yahoo Index"]
[null,6,"FRED Indicies"]
[null,7,"Exchange Rates"]
[null,8,"Commodity Prices"]
[null,9,"Yahoo Stocks"]
[null,10,"Google Finance Stocks"]
[null,11,"Google Index"]
[null,12,"International Indicies"]
[null,13,"Errors"]
[null,14,"General Points"]
[null,15,"Forms"]
[null,16,"BREAK"]
[null,17,"S&P 500"]
[null,18,"DAX"]
[null,19,"NASDAQCOM"]
[null,20,"GDP Inf"]
[null,21,"CPI US"]
[null,22,"CCUSSP01DEM650N"]
[null,23,"INR"]
[null,24,"UK"]
[null,25,"CFH"]
[null,26,"US NOM GNP"]
[null,27,"MCOILBRENTEU"]
[null,28,"GE"]
[null,29,"AAPL"]
[null,30,"GOOG"]
[null,31,"AMZN"]

{"sheet":"Read Stocks","index":1,"n_rows":206,"n_cols":71,"rows_kept":206,"cut":false,"hidden":false,"merged":[]}
[null,null,null,null,null,null,null,null,null,null,null,null,"Final Applied","Final Applied","Column","Source",null,null,"Finance.yahoo Index",null,null,null,null,"FRED Index",null,null,null,null,null,null,null,"Google Index",null,null,null,null,null,null,null,"FRED Commodities",null,null,null,null,null,null,null,"Yahoo Stock Prices",null,null,null,null,null,null,null,"Google Stock Prices",null,null,null,null,null,null,null,"FRED Exonomic Data"]
[null,null,null,null,null,null,"Start Row","Number","Column","Source",null,null,"Sheet Name","Stock or Index Name",null,null,"Counter","Accum","Sheet","Name","Column","Source",null,"Counter","Counter 1","Sheet","Re-ordered","Name","Re-ordered","Column","Source","Counter","Counter","Sheet","Re-ordered","Name","Re-ordered","Column","Source","counter","Accum","Sheet","Re-ordered","Name","Re-ordered","Column","Source","Counter","Counter 1","Sheet","Re-ordered","Name","Re-ordered","Column","Source","Counter","Counter 1","Sheet","Re-ordered","Name","Re-ordered","Column","Source","Counter","Counter 1","Sheet","Re-ordered","Name","Re-ordered","Column","Source"]
[null,null,null,null,null,true,1,{"$f":"'Yahoo Index'!Total_Tickers*F3","v":0},"F","yahoo",null,1,{"$f":"S3&AA3&AI3&AQ3&AY3&BG3&BO3","v":""},{"$f":"T3&AC3&AK3&AS3&BA3&BI3&BQ3","v":""},{"$f":"U3&AD3&AL3&AT3&BB3&BJ3&BR3","v":""},{"$f":"V3&AE3&AM3&AU3&BC3&BK3&BS3","v":""},{"$f":"G3","v":1},{"$f":"IF(AND($F$3,Q3<=$H$3),Q3,0)","v":0},{"$f":"IF(R3,'Yahoo Index'!E55,\"\")","v":""},{"$f":"IF(R3,'Yahoo Index'!F55,\"\")","v":""},{"$f":"IF(R3,$I$3,\"\")","v":""},{"$f":"IF(R3,$J$3,\"\")","v":""},null,{"$f":"G6","v":1},{"$f":"IF(AND($F$6,X3<=$H$6),X3)","v":false},{"$f":"IF($F$6,'FRED Indicies'!E16)","v":"(NASDAQ100)"},{"$f":"IFERROR(INDEX(Z:Z,MATCH(L3,Y:Y,0)),\"\")","v":""},{"$f":"IF($F$6,'FRED Indicies'!D16)","v":0},{"$f":"IFERROR(INDEX(AB:AB,MATCH(L3,Y:Y,0)),\"\")","v":""},{"$f":"IF(AA3<>\"\",$I$6,\"\")","v":""},{"$f":"IF(AA3<>\"\",$J$6,\"\")","v":""},{"$f":"G9","v":1},{"$f":"IF(AND($F$9,AF3<=$H$9),AF3)","v":false},{"$f":"IF(AG3,'Google Index'!E30)","v":false},{"$f":"IFERROR(INDEX(AH:AH,MATCH(Q3,AG:AG,0)),\"\")","v":""},{"$f":"IF(AF3,'Google Index'!F30)","v":"HT Media"},{"$f":"IFERROR(INDEX(AJ:AJ,MATCH(Q3,AG:AG,0)),\"\")","v":""},{"$f":"IF(AI3<>\"\",$I$6,\"\")","v":""},{"$f":"IF(AK3<>\"\",$J$6,\"\")","v":""},{"$f":"G12","v":1},{"$f":"IF(AND($F$12,AN3<=$H$12),AN3)","v":false},{"$f":"IF(AN3,'Commodity Prices'!C16)","v":0},{"$f":"IFERROR(INDEX(AP:AP,MATCH(L3,AO:AO,0)),\"\")","v":""},{"$f":"IF(AO3,'Commodity Prices'!E16)","v":false},{"$f":"IFERROR(INDEX(AR:AR,MATCH(L3,AO:AO,0)),\"\")","v":""},{"$f":"IF(AQ3<>\"\",$I$12,\"\")","v":""},{"$f":"IF(AS3<>\"\",$J$12,\"\")","v":""},{"$f":"G15","v":1},{"$f":"IF(AND($F$15,AV3<=$H$15),AV3)","v":false},{"$f":"IF(AW3,'Yahoo Stocks'!D30)","v":false},{"$f":"IFERROR(INDEX(AX:AX,MATCH(L3,AW:AW,0)),\"\")","v":""},{"$f":"IF(AW3,'Yahoo Stocks'!E30)","v":false},{"$f":"IFERROR(INDEX(AZ:AZ,MATCH(L3,AW:AW,0)),\"\")","v":""},{"$f":"IF(AY3<>\"\",$I$15,\"\")","v":""},{"$f":"IF(BA3<>\"\",$J$15,\"\")","v":""},{"$f":"G18","v":1},{"$f":"IF(AND($F$18,BD3<=$H$18),BD3)","v":false},{"$f":"IF(BE3,'Google Finance Stocks'!D27)","v":false},{"$f":"IFERROR(INDEX(BF:BF,MATCH(Q3,BE:BE,0)),\"\")","v":""},{"$f":"IF(BE3,'Google Finance Stocks'!E27)","v":false},{"$f":"IFERROR(INDEX(BH:BH,MATCH(Q3,BE:BE,0)),\"\")","v":""},{"$f":"IF(BI3<>\"\",$I$18,\"\")","v":""},{"$f":"IF(BI3<>\"\",$J$18,\"\")","v":""},{"$f":"G21","v":1},{"$f":"IF(AND($F$21,BL3<=$H$21),BL3)","v":false},{"$f":"'Exchange Rates'!D13","v":0},{"$f":"IFERROR(INDEX(BN:BN,MATCH(L3,BM:BM,0)),\"\")","v":""},{"$f":"IF(BM3,'Exchange Rates'!E13)","v":false},{"$f":"IFERROR(INDEX(BP:BP,MATCH(L3,BM:BM,0)),\"\")","v":""},{"$f":"IF(BQ3<>\"\",$I$21,\"\")","v":""},{"$f":"IF(BQ3<>\"\",$J$21,\"\")","v":""}]
[null,null,null,null,null,null,null,null,null,null,null,2,{"$f":"S4&AA4&AI4&AQ4&AY4&BG4&BO4","v":""},{"$f":"T4&AC4&AK4&AS4&BA4&BI4&BQ4","v":""},{"$f":"U4&AD4&AL4&AT4&BB4&BJ4&BR4","v":""},{"$f":"V4&AE4&AM4&AU4&BC4&BK4&BS4","v":""},{"$f":"Q3+1","v":2},{"$f":"IF(AND($F$3,Q4<=$H$3),Q4)","v":false},{"$f":"IF(R4,'Yahoo Index'!E56,\"\")","v":""},{"$f":"IF(R4,'Yahoo Index'!F56,\"\")","v":""},{"$f":"IF(R4,$I$3,\"\")","v":""},{"$f":"IF(R4,$J$3,\"\")","v":""},null,{"$f":"X3+1","v":2},false,{"$f":"IF($F$6,'FRED Indicies'!E17)","v":0},"",{"$f":"IF($F$6,'FRED Indicies'!D17)","v":0},"",{"$f":"IF(AA4<>\"\",$I$6,\"\")","v":""},{"$f":"IF(AA4<>\"\",$J$6,\"\")","v":""},{"$f":"AF3+1","v":2},{"$f":"IF(AND($F$9,AF4<=$H$9),AF4)","v":false},{"$f":"IF(AG4,'Google Index'!E31)","v":false},"",{"$f":"IF(AF4,'Google Index'!F31)","v":0},"",{"$f":"IF(AI4<>\"\",$I$6,\"\")","v":""},{"$f":"IF(AK4<>\"\",$J$6,\"\")","v":""},{"$f":"AN3+1","v":2},{"$f":"IF(AND($F$12,AN4<=$H$12),AN4)","v":false},{"$f":"IF(AN4,'Commodity Prices'!T16)","v":"MHHNGSP"},{"$f":"IFERROR(INDEX(AP:AP,MATCH(L4,AO:AO,0)),\"\")","v":""},{"$f":"IF(AO4,'Commodity Prices'!U16)","v":false},"",{"$f":"IF(AQ4<>\"\",$I$12,\"\")","v":""},{"$f":"IF(AS4<>\"\",$J$12,\"\")","v":""},{"$f":"AV3+1","v":2},{"$f":"IF(AND($F$15,AV4<=$H$15),AV4)","v":false},{"$f":"IF(AW4,'Yahoo Stocks'!D31)","v":false},{"$f":"IFERROR(INDEX(AX:AX,MATCH(L4,AW:AW,0)),\"\")","v":""},{"$f":"IF(AW4,'Yahoo Stocks'!E31)","v":false},{"$f":"IFERROR(INDEX(AZ:AZ,MATCH(L4,AW:AW,0)),\"\")","v":""},{"$f":"IF(AY4<>\"\",$I$15,\"\")","v":""},{"$f":"IF(BA4<>\"\",$J$15,\"\")","v":""},{"$f":"BD3+1","v":2},{"$f":"IF(AND($F$18,BD4<=$H$18),BD4)","v":false},{"$f":"IF(BE4,'Google Finance Stocks'!D28)","v":false},{"$f":"IFERROR(INDEX(BF:BF,MATCH(Q4,BE:BE,0)),\"\")","v":""},{"$f":"IF(BE4,'Google Finance Stocks'!E28)","v":false},{"$f":"IFERROR(INDEX(BH:BH,MATCH(Q4,BE:BE,0)),\"\")","v":""},{"$f":"IF(BI4<>\"\",$I$18,\"\")","v":""},{"$f":"IF(BI4<>\"\",$J$18,\"\")","v":""},{"$f":"BL3+1","v":2},{"$f":"IF(AND($F$21,BL4<=$H$21),BL4)","v":false},{"$f":"'Exchange Rates'!D14","v":0},{"$f":"IFERROR(INDEX(BN:BN,MATCH(L4,BM:BM,0)),\"\")","v":""},{"$f":"IF(BM4,'Exchange Rates'!E14)","v":false},{"$f":"IFERROR(INDEX(BP:BP,MATCH(L4,BM:BM,0)),\"\")","v":""},{"$f":"IF(BQ4<>\"\",$I$21,\"\")","v":""},{"$f":"IF(BQ4<>\"\",$J$21,\"\")","v":""}]
[null,null,null,null,null,null,null,null,null,null,null,3,"",{"$f":"T5&AC5&AK5&AS5&BA5&BI5&BQ5","v":""},"","",{"$f":"Q4+1","v":3},false,{"$f":"IF(R5,'Yahoo Index'!E57,\"\")","v":""},{"$f":"IF(R5,'Yahoo Index'!F57,\"\")","v":""},"","",null,{"$f":"X4+1","v":3},false,{"$f":"IF($F$6,'FRED Indicies'!E18)","v":0},"",{"$f":"IF($F$6,'FRED Indicies'!D18)","v":0},"","","",{"$f":"AF4+1","v":3},false,{"$f":"IF(AG5,'Google Index'!E32)","v":false},"",{"$f":"IF(AF5,'Google Index'!F32)","v":0},"","","",{"$f":"AN4+1","v":3},false,{"$f":"IF(AN5,'Commodity Prices'!T17)","v":"PNGASEUUSDM"},"",{"$f":"IF(AO5,'Commodity Prices'!U17)","v":false},"","","",{"$f":"AV4+1","v":3},false,{"$f":"IF(AW5,'Yahoo Stocks'!D32)","v":false},"",{"$f":"IF(AW5,'Yahoo Stocks'!E32)","v":false},"","","",{"$f":"BD4+1","v":3},false,{"$f":"IF(BE5,'Google Finance Stocks'!D29)","v":false},"",{"$f":"IF(BE5,'Google Finance Stocks'!E29)","v":false},"","","",{"$f":"BL4+1","v":3},false,{"$f":"'Exchange Rates'!D15","v":0},"",{"$f":"IF(BM5,'Exchange Rates'!E15)","v":false},"","",""]
[null,null,null,null,null,true,{"$f":"H3+1","v":1},{"$f":"'FRED Indicies'!Total_Index*F6+G6-1","v":0},"B","FRED",null,4,"","","","",4,false,{"$f":"IF(R6,'Yahoo Index'!E58,\"\")","v":""},{"$f":"IF(R6,'Yahoo Index'!F58,\"\")","v":""},"","",null,4,false,{"$f":"IF($F$6,'FRED Indicies'!E19)","v":0},"",{"$f":"IF($F$6,'FRED Indicies'!D19)","v":0},"","","",4,false,{"$f":"IF(AG6,'Google Index'!E33)","v":false},"",{"$f":"IF(AF6,'Google Index'!F33)","v":0},"","","",4,false,{"$f":"IF(AN6,'Commodity Prices'!T18)","v":"WDFUELUSGULF"},"",{"$f":"IF(AO6,'Commodity Prices'!U18)","v":false},"","","",4,false,{"$f":"IF(AW6,'Yahoo Stocks'!D33)","v":false},"",{"$f":"IF(AW6,'Yahoo Stocks'!E33)","v":false},"","","",4,false,{"$f":"IF(BE6,'Google Finance Stocks'!D30)","v":false},"",{"$f":"IF(BE6,'Google Finance Stocks'!E30)","v":false},"","","",4,false,{"$f":"'Exchange Rates'!D16","v":0},"",{"$f":"IF(BM6,'Exchange Rates'!E16)","v":false},"","",""]
[null,null,null,null,null,null,null,null,null,null,null,5,"","","","",5,false,{"$f":"IF(R7,'Yahoo Index'!E59,\"\")","v":""},{"$f":"IF(R7,'Yahoo Index'!F59,\"\")","v":""},"","",null,5,false,{"$f":"IF($F$6,'FRED Indicies'!E20)","v":0},"",{"$f":"IF($F$6,'FRED Indicies'!D20)","v":0},"","","",5,false,{"$f":"IF(AG7,'Google Index'!E34)","v":false},"",{"$f":"IF(AF7,'Google Index'!F34)","v":0},"","","",5,false,{"$f":"IF(AN7,'Commodity Prices'!T19)","v":"PNGASJPUSDM"},"",{"$f":"IF(AO7,'Commodity Prices'!U19)","v":false},"","","",5,false,{"$f":"IF(AW7,'Yahoo Stocks'!D37)","v":false},"",{"$f":"IF(AW7,'Yahoo Stocks'!E37)","v":false},"","","",5,false,{"$f":"IF(BE7,'Google Finance Stocks'!D31)","v":false},"",{"$f":"IF(BE7,'Google Finance Stocks'!E31)","v":false},"","","",5,false,{"$f":"'Exchange Rates'!D17","v":0},"",{"$f":"IF(BM7,'Exchange Rates'!E17)","v":false},"","",""]
[null,null,null,null,null,null,null,null,null,null,null,6,"","","","",6,false,{"$f":"IF(R8,'Yahoo Index'!E60,\"\")","v":""},{"$f":"IF(R8,'Yahoo Index'!F60,\"\")","v":""},"","",null,6,false,{"$f":"IF($F$6,'FRED Indicies'!E21)","v":0},"",{"$f":"IF($F$6,'FRED Indicies'!D21)","v":0},"","","",6,false,{"$f":"IF(AG8,'Google Index'!E35)","v":false},"",{"$f":"IF(AF8,'Google Index'!F35)","v":0},"","","",6,false,{"$f":"IF(AN8,'Commodity Prices'!T20)","v":"PNGASEUUSDM"},"",{"$f":"IF(AO8,'Commodity Prices'!U20)","v":false},"","","",6,false,{"$f":"IF(AW8,'Yahoo Stocks'!D38)","v":false},"",{"$f":"IF(AW8,'Yahoo Stocks'!E38)","v":false},"","","",6,false,{"$f":"IF(BE8,'Google Finance Stocks'!D32)","v":false},"",{"$f":"IF(BE8,'Google Finance Stocks'!E32)","v":false},"","","",6,false,{"$f":"'Exchange Rates'!D18","v":0},"",{"$f":"IF(BM8,'Exchange Rates'!E18)","v":false},"","",""]
[null,null,null,null,null,false,{"$f":"H6+1","v":1},{"$f":"'Google Index'!D20*F9+G9-1","v":0},"D","Google",null,7,"","","","",7,false,{"$f":"IF(R9,'Yahoo Index'!E61,\"\")","v":""},{"$f":"IF(R9,'Yahoo Index'!F61,\"\")","v":""},"","",null,7,false,{"$f":"IF($F$6,'FRED Indicies'!E22)","v":0},"",{"$f":"IF($F$6,'FRED Indicies'!D22)","v":0},"","","",7,false,{"$f":"IF(AG9,'Google Index'!E36)","v":false},"",{"$f":"IF(AF9,'Google Index'!F36)","v":0},"","","",7,false,{"$f":"IF(AN9,'Commodity Prices'!T21)","v":"PURANUSDM"},"",{"$f":"IF(AO9,'Commodity Prices'!U21)","v":false},"","","",7,false,{"$f":"IF(AW9,'Yahoo Stocks'!D39)","v":false},"",{"$f":"IF(AW9,'Yahoo Stocks'!E39)","v":false},"","","",7,false,{"$f":"IF(BE9,'Google Finance Stocks'!D33)","v":false},"",{"$f":"IF(BE9,'Google Finance Stocks'!E33)","v":false},"","","",7,false,{"$f":"'Exchange Rates'!D19","v":0},"",{"$f":"IF(BM9,'Exchange Rates'!E19)","v":false},"","",""]
[null,null,null,null,null,null,null,null,null,null,null,8,"","","","",8,false,{"$f":"IF(R10,'Yahoo Index'!E62,\"\")","v":""},{"$f":"IF(R10,'Yahoo Index'!F62,\"\")","v":""},"","",null,8,false,{"$f":"IF($F$6,'FRED Indicies'!E23)","v":0},"",{"$f":"IF($F$6,'FRED Indicies'!D23)","v":0},"","","",8,false,{"$f":"IF(AG10,'Google Index'!E37)","v":false},"",{"$f":"IF(AF10,'Google Index'!F37)","v":0},"","","",8,false,{"$f":"IF(AN10,'Commodity Prices'!T22)","v":"PCOPPUSDM"},"",{"$f":"IF(AO10,'Commodity Prices'!U22)","v":false},"","","",8,false,{"$f":"IF(AW10,'Yahoo Stocks'!D40)","v":false},"",{"$f":"IF(AW10,'Yahoo Stocks'!E40)","v":false},"","","",8,false,{"$f":"IF(BE10,'Google Finance Stocks'!D34)","v":false},"",{"$f":"IF(BE10,'Google Finance Stocks'!E34)","v":false},"","","",8,false,{"$f":"'Exchange Rates'!D20","v":0},"",{"$f":"IF(BM10,'Exchange Rates'!E20)","v":false},"","",""]
[null,null,null,null,null,null,null,null,null,null,null,9,"","","","",9,false,{"$f":"IF(R11,'Yahoo Index'!E63,\"\")","v":""},{"$f":"IF(R11,'Yahoo Index'!F63,\"\")","v":""},"","",null,9,false,{"$f":"IF($F$6,'FRED Indicies'!E24)","v":0},"",{"$f":"IF($F$6,'FRED Indicies'!D24)","v":0},"","","",9,false,{"$f":"IF(AG11,'Google Index'!E38)","v":false},"",{"$f":"IF(AF11,'Google Index'!F38)","v":0},"","","",9,false,{"$f":"IF(AN11,'Commodity Prices'!T23)","v":"PMAIZMTUSDM"},"",{"$f":"IF(AO11,'Commodity Prices'!U23)","v":false},"","","",9,false,{"$f":"IF(AW11,'Yahoo Stocks'!D41)","v":false},"",{"$f":"IF(AW11,'Yahoo Stocks'!E41)","v":false},"","","",9,false,{"$f":"IF(BE11,'Google Finance Stocks'!D35)","v":false},"",{"$f":"IF(BE11,'Google Finance Stocks'!E35)","v":false},"","","",9,false,{"$f":"'Exchange Rates'!D21","v":0},"",{"$f":"IF(BM11,'Exchange Rates'!E21)","v":false},"","",""]
[null,null,null,null,null,true,{"$f":"H9+1","v":1},{"$f":"Total_Com*F12+G12-1","v":0},"B","FRED",null,10,"","","","",10,false,{"$f":"IF(R12,'Yahoo Index'!E64,\"\")","v":""},{"$f":"IF(R12,'Yahoo Index'!F64,\"\")","v":""},"","",null,10,false,{"$f":"IF($F$6,'FRED Indicies'!E25)","v":0},"",{"$f":"IF($F$6,'FRED Indicies'!D25)","v":0},"","","",10,false,{"$f":"IF(AG12,'Google Index'!E39)","v":false},"",{"$f":"IF(AF12,'Google Index'!F39)","v":0},"","","",10,false,{"$f":"IF(AN12,'Commodity Prices'!T24)","v":"PHIDEUSDQ"},"",{"$f":"IF(AO12,'Commodity Prices'!U24)","v":false},"","","",10,false,{"$f":"IF(AW12,'Yahoo Stocks'!D42)","v":false},"",{"$f":"IF(AW12,'Yahoo Stocks'!E42)","v":false},"","","",10,false,{"$f":"IF(BE12,'Google Finance Stocks'!D36)","v":false},"",{"$f":"IF(BE12,'Google Finance Stocks'!E36)","v":false},"","","",10,false,{"$f":"'Exchange Rates'!D22","v":0},"",{"$f":"IF(BM12,'Exchange Rates'!E22)","v":false},"","",""]
[null,null,null,null,null,null,null,null,null,null,null,11,"","","","",11,false,{"$f":"IF(R13,'Yahoo Index'!E65,\"\")","v":""},{"$f":"IF(R13,'Yahoo Index'!F65,\"\")","v":""},"","",null,11,false,{"$f":"IF($F$6,'FRED Indicies'!E26)","v":0},"",{"$f":"IF($F$6,'FRED Indicies'!D26)","v":0},"","","",11,false,{"$f":"IF(AG13,'Google Index'!E40)","v":false},"",{"$f":"IF(AF13,'Google Index'!F40)","v":0},"","","",11,false,{"$f":"IF(AN13,'Commodity Prices'!T25)","v":"PCOTTINDUSDM"},"",{"$f":"IF(AO13,'Commodity Prices'!U25)","v":false},"","","",11,false,{"$f":"IF(AW13,'Yahoo Stocks'!D43)","v":false},"",{"$f":"IF(AW13,'Yahoo Stocks'!E43)","v":false},"","","",11,false,{"$f":"IF(BE13,'Google Finance Stocks'!D37)","v":false},"",{"$f":"IF(BE13,'Google Finance Stocks'!E37)","v":false},"","","",11,false,{"$f":"'Exchange Rates'!D23","v":0},"",{"$f":"IF(BM13,'Exchange Rates'!E23)","v":false},"","",""]
[null,null,null,null,null,null,null,null,null,null,null,12,"","","","",12,false,{"$f":"IF(R14,'Yahoo Index'!E66,\"\")","v":""},{"$f":"IF(R14,'Yahoo Index'!F66,\"\")","v":""},"","",null,12,false,{"$f":"IF($F$6,'FRED Indicies'!E27)","v":0},"",{"$f":"IF($F$6,'FRED Indicies'!D27)","v":0},"","","",12,false,{"$f":"IF(AG14,'Google Index'!E41)","v":false},"",{"$f":"IF(AF14,'Google Index'!F41)","v":0},"","","",12,false,{"$f":"IF(AN14,'Commodity Prices'!D27)","v":0},"",{"$f":"IF(AO14,'Commodity Prices'!E27)","v":false},"","","",12,false,{"$f":"IF(AW14,'Yahoo Stocks'!D44)","v":false},"",{"$f":"IF(AW14,'Yahoo Stocks'!E44)","v":false},"","","",12,false,{"$f":"IF(BE14,'Google Finance Stocks'!D38)","v":false},"",{"$f":"IF(BE14,'Google Finance Stocks'!E38)","v":false},"","","",12,false,{"$f":"'Exchange Rates'!D24","v":0},"",{"$f":"IF(BM14,'Exchange Rates'!E24)","v":false},"","",""]
[null,null,null,null,null,true,{"$f":"H12+1","v":1},{"$f":"Yahoo_Stock_Tickers*F15+G15-1","v":0},"F","Yahoo",null,13,"","","","",13,false,{"$f":"IF(R15,'Yahoo Index'!E67,\"\")","v":""},{"$f":"IF(R15,'Yahoo Index'!F67,\"\")","v":""},"","",null,13,false,{"$f":"IF($F$6,'FRED Indicies'!E28)","v":0},"",{"$f":"IF($F$6,'FRED Indicies'!D28)","v":0},"","","",13,false,{"$f":"IF(AG15,'Google Index'!E42)","v":false},"",{"$f":"IF(AF15,'Google Index'!F42)","v":0},"","","",13,false,{"$f":"IF(AN15,'Commodity Prices'!D28)","v":0},"",{"$f":"IF(AO15,'Commodity Prices'!E28)","v":false},"","","",13,false,{"$f":"IF(AW15,'Yahoo Stocks'!D45)","v":false},"",{"$f":"IF(AW15,'Yahoo Stocks'!E45)","v":false},"","","",13,false,{"$f":"IF(BE15,'Google Finance Stocks'!D39)","v":false},"",{"$f":"IF(BE15,'Google Finance Stocks'!E39)","v":false},"","","",13,false,{"$f":"'Exchange Rates'!D25","v":0},"",{"$f":"IF(BM15,'Exchange Rates'!E25)","v":false},"","",""]
[null,null,null,null,null,null,null,null,null,null,null,14,"","","","",14,false,{"$f":"IF(R16,'Yahoo Index'!E68,\"\")","v":""},{"$f":"IF(R16,'Yahoo Index'!F68,\"\")","v":""},"","",null,14,false,{"$f":"IF($F$6,'FRED Indicies'!E29)","v":0},"",{"$f":"IF($F$6,'FRED Indicies'!D29)","v":0},"","","",14,false,{"$f":"IF(AG16,'Google Index'!E43)","v":false},"",{"$f":"IF(AF16,'Google Index'!F43)","v":0},"","","",14,false,{"$f":"IF(AN16,'Commodity Prices'!D29)","v":0},"",{"$f":"IF(AO16,'Commodity Prices'!E29)","v":false},"","","",14,false,{"$f":"IF(AW16,'Yahoo Stocks'!D46)","v":false},"",{"$f":"IF(AW16,'Yahoo Stocks'!E46)","v":false},"","","",14,false,{"$f":"IF(BE16,'Google Finance Stocks'!D40)","v":false},"",{"$f":"IF(BE16,'Google Finance Stocks'!E40)","v":false},"","","",14,false,{"$f":"'Exchange Rates'!D26","v":0},"",{"$f":"IF(BM16,'Exchange Rates'!E26)","v":false},"","",""]
[null,null,null,null,null,null,null,null,null,null,null,15,"","","","",15,false,{"$f":"IF(R17,'Yahoo Index'!E69,\"\")","v":""},{"$f":"IF(R17,'Yahoo Index'!F69,\"\")","v":""},"","",null,15,false,{"$f":"IF($F$6,'FRED Indicies'!E30)","v":0},"",{"$f":"IF($F$6,'FRED Indicies'!D30)","v":0},"","","",15,false,{"$f":"IF(AG17,'Google Index'!E44)","v":false},"",{"$f":"IF(AF17,'Google Index'!F44)","v":0},"","","",15,false,{"$f":"IF(AN17,'Commodity Prices'!D30)","v":0},"",{"$f":"IF(AO17,'Commodity Prices'!E30)","v":false},"","","",15,false,{"$f":"IF(AW17,'Yahoo Stocks'!D47)","v":false},"",{"$f":"IF(AW17,'Yahoo Stocks'!E47)","v":false},"","","",15,false,{"$f":"IF(BE17,'Google Finance Stocks'!D41)","v":false},"",{"$f":"IF(BE17,'Google Finance Stocks'!E41)","v":false},"","","",15,false,{"$f":"'Exchange Rates'!D27","v":0},"",{"$f":"IF(BM17,'Exchange Rates'!E27)","v":false},"","",""]
[null,null,null,null,null,false,{"$f":"H15+1","v":1},{"$f":"Google_Tickers*F18+G18-1","v":0},"D","Google",null,16,"","","","",16,false,{"$f":"IF(R18,'Yahoo Index'!E70,\"\")","v":""},{"$f":"IF(R18,'Yahoo Index'!F70,\"\")","v":""},"","",null,16,false,{"$f":"IF($F$6,'FRED Indicies'!E31)","v":0},"",{"$f":"IF($F$6,'FRED Indicies'!D31)","v":0},"","","",16,false,{"$f":"IF(AG18,'Google Index'!E45)","v":false},"",{"$f":"IF(AF18,'Google Index'!F45)","v":0},"","","",16,false,{"$f":"IF(AN18,'Commodity Prices'!D31)","v":0},"",{"$f":"IF(AO18,'Commodity Prices'!E31)","v":false},"","","",16,false,{"$f":"IF(AW18,'Yahoo Stocks'!D48)","v":false},"",{"$f":"IF(AW18,'Yahoo Stocks'!E48)","v":false},"","","",16,false,{"$f":"IF(BE18,'Google Finance Stocks'!D42)","v":false},"",{"$f":"IF(BE18,'Google Finance Stocks'!E42)","v":false},"","","",16,false,{"$f":"'Exchange Rates'!D28","v":0},"",{"$f":"IF(BM18,'Exchange Rates'!E28)","v":false},"","",""]
[null,null,null,null,null,null,null,null,null,null,null,17,"","","","",17,false,{"$f":"IF(R19,'Yahoo Index'!E71,\"\")","v":""},{"$f":"IF(R19,'Yahoo Index'!F71,\"\")","v":""},"","",null,17,false,{"$f":"IF($F$6,'FRED Indicies'!E32)","v":0},"",{"$f":"IF($F$6,'FRED Indicies'!D32)","v":0},"","","",17,false,{"$f":"IF(AG19,'Google Index'!E46)","v":false},"",{"$f":"IF(AF19,'Google Index'!F46)","v":0},"","","",17,false,{"$f":"IF(AN19,'Commodity Prices'!D32)","v":0},"",{"$f":"IF(AO19,'Commodity Prices'!E32)","v":false},"","","",17,false,{"$f":"IF(AW19,'Yahoo Stocks'!D49)","v":false},"",{"$f":"IF(AW19,'Yahoo Stocks'!E49)","v":false},"","","",17,false,{"$f":"IF(BE19,'Google Finance Stocks'!D43)","v":false},"",{"$f":"IF(BE19,'Google Finance Stocks'!E43)","v":false},"","","",17,false,{"$f":"'Exchange Rates'!D29","v":0},"",{"$f":"IF(BM19,'Exchange Rates'!E29)","v":false},"","",""]
[null,null,null,null,null,null,null,null,null,null,null,18,"","","","",18,false,{"$f":"IF(R20,'Yahoo Index'!E72,\"\")","v":""},{"$f":"IF(R20,'Yahoo Index'!F72,\"\")","v":""},"","",null,18,false,{"$f":"IF($F$6,'FRED Indicies'!E33)","v":0},"",{"$f":"IF($F$6,'FRED Indicies'!D33)","v":0},"","","",18,false,{"$f":"IF(AG20,'Google Index'!E47)","v":false},"",{"$f":"IF(AF20,'Google Index'!F47)","v":0},"","","",18,false,{"$f":"IF(AN20,'Commodity Prices'!D33)","v":0},"",{"$f":"IF(AO20,'Commodity Prices'!E33)","v":false},"","","",18,false,{"$f":"IF(AW20,'Yahoo Stocks'!D50)","v":false},"",{"$f":"IF(AW20,'Yahoo Stocks'!E50)","v":false},"","","",18,false,{"$f":"IF(BE20,'Google Finance Stocks'!D44)","v":false},"",{"$f":"IF(BE20,'Google Finance Stocks'!E44)","v":false},"","","",18,false,{"$f":"'Exchange Rates'!D30","v":0},"",{"$f":"IF(BM20,'Exchange Rates'!E30)","v":false},"","",""]
[null,null,null,null,null,true,{"$f":"H18+1","v":1},{"$f":"'Exchange Rates'!D5*'Read Stocks'!F21+G21-1","v":0},"B","FRED",null,19,"","","","",19,false,{"$f":"IF(R21,'Yahoo Index'!E73,\"\")","v":""},{"$f":"IF(R21,'Yahoo Index'!F73,\"\")","v":""},"","",null,19,false,{"$f":"IF($F$6,'FRED Indicies'!E34)","v":0},"",{"$f":"IF($F$6,'FRED Indicies'!D34)","v":0},"","","",19,false,{"$f":"IF(AG21,'Google Index'!E48)","v":false},"",{"$f":"IF(AF21,'Google Index'!F48)","v":0},"","","",19,false,{"$f":"IF(AN21,'Commodity Prices'!D34)","v":0},"",{"$f":"IF(AO21,'Commodity Prices'!E34)","v":false},"","","",19,false,{"$f":"IF(AW21,'Yahoo Stocks'!D51)","v":false},"",{"$f":"IF(AW21,'Yahoo Stocks'!E51)","v":false},"","","",19,false,{"$f":"IF(BE21,'Google Finance Stocks'!D45)","v":false},"",{"$f":"IF(BE21,'Google Finance Stocks'!E45)","v":false},"","","",19,false,{"$f":"'Exchange Rates'!D31","v":0},"",{"$f":"IF(BM21,'Exchange Rates'!E31)","v":false},"","",""]
[null,null,null,null,null,null,null,null,null,null,null,20,"","","","",20,false,{"$f":"IF(R22,'Yahoo Index'!E74,\"\")","v":""},{"$f":"IF(R22,'Yahoo Index'!F74,\"\")","v":""},"","",null,20,false,{"$f":"IF($F$6,'FRED Indicies'!E35)","v":0},"",{"$f":"IF($F$6,'FRED Indicies'!D35)","v":0},"","","",20,false,{"$f":"IF(AG22,'Google Index'!E49)","v":false},"",{"$f":"IF(AF22,'Google Index'!F49)","v":0},"","","",20,false,{"$f":"IF(AN22,'Commodity Prices'!D35)","v":0},"",{"$f":"IF(AO22,'Commodity Prices'!E35)","v":false},"","","",20,false,{"$f":"IF(AW22,'Yahoo Stocks'!D52)","v":false},"",{"$f":"IF(AW22,'Yahoo Stocks'!E52)","v":false},"","","",20,false,{"$f":"IF(BE22,'Google Finance Stocks'!D46)","v":false},"",{"$f":"IF(BE22,'Google Finance Stocks'!E46)","v":false},"","","",20,false,{"$f":"'Exchange Rates'!D32","v":0},"",{"$f":"IF(BM22,'Exchange Rates'!E32)","v":false},"","",""]
[null,null,null,null,null,null,null,null,null,null,null,21,"","","","",21,false,{"$f":"IF(R23,'Yahoo Index'!E75,\"\")","v":""},{"$f":"IF(R23,'Yahoo Index'!F75,\"\")","v":""},"","",null,21,false,{"$f":"IF($F$6,'FRED Indicies'!E36)","v":0},"",{"$f":"IF($F$6,'FRED Indicies'!D36)","v":0},"","","",21,false,{"$f":"IF(AG23,'Google Index'!E50)","v":false},"",{"$f":"IF(AF23,'Google Index'!F50)","v":0},"","","",21,false,{"$f":"IF(AN23,'Commodity Prices'!D36)","v":0},"",{"$f":"IF(AO23,'Commodity Prices'!E36)","v":false},"","","",21,false,{"$f":"IF(AW23,'Yahoo Stocks'!D53)","v":false},"",{"$f":"IF(AW23,'Yahoo Stocks'!E53)","v":false},"","","",21,false,{"$f":"IF(BE23,'Google Finance Stocks'!D47)","v":false},"",{"$f":"IF(BE23,'Google Finance Stocks'!E47)","v":false},"","","",21,false,{"$f":"'Exchange Rates'!D33","v":0},"",{"$f":"IF(BM23,'Exchange Rates'!E33)","v":false},"","",""]
[null,null,null,null,null,null,null,null,null,null,null,22,"","","","",22,false,{"$f":"IF(R24,'Yahoo Index'!E76,\"\")","v":""},{"$f":"IF(R24,'Yahoo Index'!F76,\"\")","v":""},"","",null,22,false,{"$f":"IF($F$6,'FRED Indicies'!E37)","v":0},"",{"$f":"IF($F$6,'FRED Indicies'!D37)","v":0},"","","",22,false,{"$f":"IF(AG24,'Google Index'!E51)","v":false},"",{"$f":"IF(AF24,'Google Index'!F51)","v":0},"","","",22,false,{"$f":"IF(AN24,'Commodity Prices'!D37)","v":0},"",{"$f":"IF(AO24,'Commodity Prices'!E37)","v":false},"","","",22,false,{"$f":"IF(AW24,'Yahoo Stocks'!D54)","v":false},"",{"$f":"IF(AW24,'Yahoo Stocks'!E54)","v":false},"","","",22,false,{"$f":"IF(BE24,'Google Finance Stocks'!D48)","v":false},"",{"$f":"IF(BE24,'Google Finance Stocks'!E48)","v":false},"","","",22,false,{"$f":"'Exchange Rates'!D34","v":0},"",{"$f":"IF(BM24,'Exchange Rates'!E34)","v":false},"","",""]
[null,null,null,null,null,null,null,null,null,null,null,23,"","","","",23,false,{"$f":"IF(R25,'Yahoo Index'!E77,\"\")","v":""},{"$f":"IF(R25,'Yahoo Index'!F77,\"\")","v":""},"","",null,23,false,{"$f":"IF($F$6,'FRED Indicies'!E38)","v":0},"",{"$f":"IF($F$6,'FRED Indicies'!D38)","v":0},"","","",23,false,{"$f":"IF(AG25,'Google Index'!E52)","v":false},"",{"$f":"IF(AF25,'Google Index'!F52)","v":0},"","","",23,false,{"$f":"IF(AN25,'Commodity Prices'!D38)","v":0},"",{"$f":"IF(AO25,'Commodity Prices'!E38)","v":false},"","","",23,false,{"$f":"IF(AW25,'Yahoo Stocks'!D55)","v":false},"",{"$f":"IF(AW25,'Yahoo Stocks'!E55)","v":false},"","","",23,false,{"$f":"IF(BE25,'Google Finance Stocks'!D49)","v":false},"",{"$f":"IF(BE25,'Google Finance Stocks'!E49)","v":false},"","","",23,false,{"$f":"'Exchange Rates'!D35","v":0},"",{"$f":"IF(BM25,'Exchange Rates'!E35)","v":false},"","",""]
[null,null,null,null,null,null,null,null,null,null,null,24,"","","","",24,false,{"$f":"IF(R26,'Yahoo Index'!E78,\"\")","v":""},{"$f":"IF(R26,'Yahoo Index'!F78,\"\")","v":""},"","",null,24,false,{"$f":"IF($F$6,'FRED Indicies'!E39)","v":0},"",{"$f":"IF($F$6,'FRED Indicies'!D39)","v":0},"","","",24,false,{"$f":"IF(AG26,'Google Index'!E53)","v":false},"",{"$f":"IF(AF26,'Google Index'!F53)","v":0},"","","",24,false,{"$f":"IF(AN26,'Commodity Prices'!D39)","v":0},"",{"$f":"IF(AO26,'Commodity Prices'!E39)","v":false},"","","",24,false,{"$f":"IF(AW26,'Yahoo Stocks'!D56)","v":false},"",{"$f":"IF(AW26,'Yahoo Stocks'!E56)","v":false},"","","",24,false,{"$f":"IF(BE26,'Google Finance Stocks'!D50)","v":false},"",{"$f":"IF(BE26,'Google Finance Stocks'!E50)","v":false},"","","",24,false,{"$f":"'Exchange Rates'!D36","v":0},"",{"$f":"IF(BM26,'Exchange Rates'!E36)","v":false},"","",""]
[null,null,null,null,null,null,null,null,null,null,null,25,"","","","",25,false,{"$f":"IF(R27,'Yahoo Index'!E79,\"\")","v":""},{"$f":"IF(R27,'Yahoo Index'!F79,\"\")","v":""},"","",null,25,false,{"$f":"IF($F$6,'FRED Indicies'!E40)","v":0},"",{"$f":"IF($F$6,'FRED Indicies'!D40)","v":0},"","","",25,false,{"$f":"IF(AG27,'Google Index'!E54)","v":false},"",{"$f":"IF(AF27,'Google Index'!F54)","v":0},"","","",25,false,{"$f":"IF(AN27,'Commodity Prices'!D40)","v":0},"",{"$f":"IF(AO27,'Commodity Prices'!E40)","v":false},"","","",25,false,{"$f":"IF(AW27,'Yahoo Stocks'!D57)","v":false},"",{"$f":"IF(AW27,'Yahoo Stocks'!E57)","v":false},"","","",25,false,{"$f":"IF(BE27,'Google Finance Stocks'!D51)","v":false},"",{"$f":"IF(BE27,'Google Finance Stocks'!E51)","v":false},"","","",25,false,{"$f":"'Exchange Rates'!D37","v":0},"",{"$f":"IF(BM27,'Exchange Rates'!E37)","v":false},"","",""]
[null,null,null,null,null,null,null,null,null,null,null,26,"","","","",26,false,{"$f":"IF(R28,'Yahoo Index'!E80,\"\")","v":""},{"$f":"IF(R28,'Yahoo Index'!F80,\"\")","v":""},"","",null,26,false,{"$f":"IF($F$6,'FRED Indicies'!E41)","v":0},"",{"$f":"IF($F$6,'FRED Indicies'!D41)","v":0},"","","",26,false,{"$f":"IF(AG28,'Google Index'!E55)","v":false},"",{"$f":"IF(AF28,'Google Index'!F55)","v":0},"","","",26,false,{"$f":"IF(AN28,'Commodity Prices'!D41)","v":0},"",{"$f":"IF(AO28,'Commodity Prices'!E41)","v":false},"","","",26,false,{"$f":"IF(AW28,'Yahoo Stocks'!D58)","v":false},"",{"$f":"IF(AW28,'Yahoo Stocks'!E58)","v":false},"","","",26,false,{"$f":"IF(BE28,'Google Finance Stocks'!D52)","v":false},"",{"$f":"IF(BE28,'Google Finance Stocks'!E52)","v":false},"","","",26,false,{"$f":"'Exchange Rates'!D38","v":0},"",{"$f":"IF(BM28,'Exchange Rates'!E38)","v":false},"","",""]
[null,null,null,null,null,null,null,null,null,null,null,27,"","","","",27,false,{"$f":"IF(R29,'Yahoo Index'!E81,\"\")","v":""},{"$f":"IF(R29,'Yahoo Index'!F81,\"\")","v":""},"","",null,27,false,{"$f":"IF($F$6,'FRED Indicies'!E42)","v":0},"",{"$f":"IF($F$6,'FRED Indicies'!D42)","v":0},"","","",27,false,{"$f":"IF(AG29,'Google Index'!E56)","v":false},"",{"$f":"IF(AF29,'Google Index'!F56)","v":0},"","","",27,false,{"$f":"IF(AN29,'Commodity Prices'!D42)","v":0},"",{"$f":"IF(AO29,'Commodity Prices'!E42)","v":false},"","","",27,false,{"$f":"IF(AW29,'Yahoo Stocks'!D59)","v":false},"",{"$f":"IF(AW29,'Yahoo Stocks'!E59)","v":false},"","","",27,false,{"$f":"IF(BE29,'Google Finance Stocks'!D53)","v":false},"",{"$f":"IF(BE29,'Google Finance Stocks'!E53)","v":false},"","","",27,false,{"$f":"'Exchange Rates'!D39","v":0},"",{"$f":"IF(BM29,'Exchange Rates'!E39)","v":false},"","",""]
[null,null,null,null,null,null,null,null,null,null,null,28,"","","","",28,false,{"$f":"IF(R30,'Yahoo Index'!E82,\"\")","v":""},{"$f":"IF(R30,'Yahoo Index'!F82,\"\")","v":""},"","",null,28,false,{"$f":"IF($F$6,'FRED Indicies'!E43)","v":0},"",{"$f":"IF($F$6,'FRED Indicies'!D43)","v":0},"","","",28,false,{"$f":"IF(AG30,'Google Index'!E57)","v":false},"",{"$f":"IF(AF30,'Google Index'!F57)","v":0},"","","",28,false,{"$f":"IF(AN30,'Commodity Prices'!D43)","v":0},"",{"$f":"IF(AO30,'Commodity Prices'!E43)","v":false},"","","",28,false,{"$f":"IF(AW30,'Yahoo Stocks'!D60)","v":false},"",{"$f":"IF(AW30,'Yahoo Stocks'!E60)","v":false},"","","",28,false,{"$f":"IF(BE30,'Google Finance Stocks'!D54)","v":false},"",{"$f":"IF(BE30,'Google Finance Stocks'!E54)","v":false},"","","",28,false,{"$f":"'Exchange Rates'!D40","v":0},"",{"$f":"IF(BM30,'Exchange Rates'!E40)","v":false},"","",""]
[null,null,null,null,null,null,null,null,null,null,null,29,"","","","",29,false,{"$f":"IF(R31,'Yahoo Index'!E83,\"\")","v":""},{"$f":"IF(R31,'Yahoo Index'!F83,\"\")","v":""},"","",null,29,false,{"$f":"IF($F$6,'FRED Indicies'!E44)","v":0},"",{"$f":"IF($F$6,'FRED Indicies'!D44)","v":0},"","","",29,false,{"$f":"IF(AG31,'Google Index'!E58)","v":false},"",{"$f":"IF(AF31,'Google Index'!F58)","v":0},"","","",29,false,{"$f":"IF(AN31,'Commodity Prices'!D44)","v":0},"",{"$f":"IF(AO31,'Commodity Prices'!E44)","v":false},"","","",29,false,{"$f":"IF(AW31,'Yahoo Stocks'!D61)","v":false},"",{"$f":"IF(AW31,'Yahoo Stocks'!E61)","v":false},"","","",29,false,{"$f":"IF(BE31,'Google Finance Stocks'!D55)","v":false},"",{"$f":"IF(BE31,'Google Finance Stocks'!E55)","v":false},"","","",29,false,{"$f":"'Exchange Rates'!D41","v":0},"",{"$f":"IF(BM31,'Exchange Rates'!E41)","v":false},"","",""]
[null,null,null,null,null,null,null,null,null,null,null,30,"","","","",30,false,{"$f":"IF(R32,'Yahoo Index'!E84,\"\")","v":""},{"$f":"IF(R32,'Yahoo Index'!F84,\"\")","v":""},"","",null,30,false,{"$f":"IF($F$6,'FRED Indicies'!E45)","v":0},"",{"$f":"IF($F$6,'FRED Indicies'!D45)","v":0},"","","",30,false,{"$f":"IF(AG32,'Google Index'!E59)","v":false},"",{"$f":"IF(AF32,'Google Index'!F59)","v":0},"","","",30,false,{"$f":"IF(AN32,'Commodity Prices'!D45)","v":0},"",{"$f":"IF(AO32,'Commodity Prices'!E45)","v":false},"","","",30,false,{"$f":"IF(AW32,'Yahoo Stocks'!D62)","v":false},"",{"$f":"IF(AW32,'Yahoo Stocks'!E62)","v":false},"","","",30,false,{"$f":"IF(BE32,'Google Finance Stocks'!D56)","v":false},"",{"$f":"IF(BE32,'Google Finance Stocks'!E56)","v":false},"","","",30,false,{"$f":"'Exchange Rates'!D42","v":0},"",{"$f":"IF(BM32,'Exchange Rates'!E42)","v":false},"","",""]
[null,null,null,null,null,null,null,null,null,null,null,31,"","","","",31,false,{"$f":"IF(R33,'Yahoo Index'!E85,\"\")","v":""},{"$f":"IF(R33,'Yahoo Index'!F85,\"\")","v":""},"","",null,31,false,{"$f":"IF($F$6,'FRED Indicies'!E46)","v":0},"",{"$f":"IF($F$6,'FRED Indicies'!D46)","v":0},"","","",31,false,{"$f":"IF(AG33,'Google Index'!E60)","v":false},"",{"$f":"IF(AF33,'Google Index'!F60)","v":0},"","","",31,false,{"$f":"IF(AN33,'Commodity Prices'!D46)","v":0},"",{"$f":"IF(AO33,'Commodity Prices'!E46)","v":false},"","","",31,false,{"$f":"IF(AW33,'Yahoo Stocks'!D63)","v":false},"",{"$f":"IF(AW33,'Yahoo Stocks'!E63)","v":false},"","","",31,false,{"$f":"IF(BE33,'Google Finance Stocks'!D57)","v":false},"",{"$f":"IF(BE33,'Google Finance Stocks'!E57)","v":false},"","","",31,false,{"$f":"'Exchange Rates'!D43","v":0},"",{"$f":"IF(BM33,'Exchange Rates'!E43)","v":false},"","",""]
[null,null,null,null,null,null,null,null,null,null,null,32,"","","","",32,false,{"$f":"IF(R34,'Yahoo Index'!E86,\"\")","v":""},{"$f":"IF(R34,'Yahoo Index'!F86,\"\")","v":""},"","",null,32,false,{"$f":"IF($F$6,'FRED Indicies'!E47)","v":0},"",{"$f":"IF($F$6,'FRED Indicies'!D47)","v":0},"","","",32,false,{"$f":"IF(AG34,'Google Index'!E61)","v":false},"",{"$f":"IF(AF34,'Google Index'!F61)","v":0},"","","",32,false,{"$f":"IF(AN34,'Commodity Prices'!D47)","v":0},"",{"$f":"IF(AO34,'Commodity Prices'!E47)","v":false},"","","",32,false,{"$f":"IF(AW34,'Yahoo Stocks'!D64)","v":false},"",{"$f":"IF(AW34,'Yahoo Stocks'!E64)","v":false},"","","",32,false,{"$f":"IF(BE34,'Google Finance Stocks'!D58)","v":false},"",{"$f":"IF(BE34,'Google Finance Stocks'!E58)","v":false},"","","",32,false,{"$f":"'Exchange Rates'!D44","v":0},"",{"$f":"IF(BM34,'Exchange Rates'!E44)","v":false},"","",""]
[null,null,null,null,null,null,null,null,null,null,null,33,"","","","",33,false,{"$f":"IF(R35,'Yahoo Index'!E87,\"\")","v":""},{"$f":"IF(R35,'Yahoo Index'!F87,\"\")","v":""},"","",null,33,{"$f":"IF(AND($F$6,X35<=$H$6),X35)","v":false},{"$f":"IF($F$6,'FRED Indicies'!E48)","v":0},{"$f":"IFERROR(INDEX(Z:Z,MATCH(L35,Y:Y,0)),\"\")","v":""},{"$f":"IF($F$6,'FRED Indicies'!D48)","v":0},{"$f":"IFERROR(INDEX(AB:AB,MATCH(L35,Y:Y,0)),\"\")","v":""},"","",33,false,{"$f":"IF(AG35,'Google Index'!E62)","v":false},{"$f":"IFERROR(INDEX(AH:AH,MATCH(Q35,AG:AG,0)),\"\")","v":""},{"$f":"IF(AF35,'Google Index'!F62)","v":0},{"$f":"IFERROR(INDEX(AJ:AJ,MATCH(Q35,AG:AG,0)),\"\")","v":""},"","",33,false,{"$f":"IF(AN35,'Commodity Prices'!D48)","v":0},{"$f":"IFERROR(INDEX(AP:AP,MATCH(L35,AO:AO,0)),\"\")","v":""},{"$f":"IF(AO35,'Commodity Prices'!E48)","v":false},{"$f":"IFERROR(INDEX(AR:AR,MATCH(L35,AO:AO,0)),\"\")","v":""},"","",33,false,{"$f":"IF(AW35,'Yahoo Stocks'!D65)","v":false},"",{"$f":"IF(AW35,'Yahoo Stocks'!E65)","v":false},"","","",33,false,{"$f":"IF(BE35,'Google Finance Stocks'!D59)","v":false},"",{"$f":"IF(BE35,'Google Finance Stocks'!E59)","v":false},"","","",33,false,{"$f":"'Exchange Rates'!D45","v":0},"",{"$f":"IF(BM35,'Exchange Rates'!E45)","v":false},"","",""]
[null,null,null,null,null,null,null,null,null,null,null,34,"","","","",34,false,{"$f":"IF(R36,'Yahoo Index'!E88,\"\")","v":""},{"$f":"IF(R36,'Yahoo Index'!F88,\"\")","v":""},"","",null,34,false,{"$f":"IF($F$6,'FRED Indicies'!E49)","v":0},"",{"$f":"IF($F$6,'FRED Indicies'!D49)","v":0},"","","",34,false,{"$f":"IF(AG36,'Google Index'!E63)","v":false},"",{"$f":"IF(AF36,'Google Index'!F63)","v":0},"","","",34,false,{"$f":"IF(AN36,'Commodity Prices'!D49)","v":0},"",{"$f":"IF(AO36,'Commodity Prices'!E49)","v":false},"","","",34,false,{"$f":"IF(AW36,'Yahoo Stocks'!D66)","v":false},"",{"$f":"IF(AW36,'Yahoo Stocks'!E66)","v":false},"","","",34,false,{"$f":"IF(BE36,'Google Finance Stocks'!D60)","v":false},"",{"$f":"IF(BE36,'Google Finance Stocks'!E60)","v":false},"","","",34,false,{"$f":"'Exchange Rates'!D46","v":0},"",{"$f":"IF(BM36,'Exchange Rates'!E46)","v":false},"","",""]
[null,null,null,null,null,null,null,null,null,null,null,35,"","","","",35,false,{"$f":"IF(R37,'Yahoo Index'!E89,\"\")","v":""},{"$f":"IF(R37,'Yahoo Index'!F89,\"\")","v":""},"","",null,35,false,{"$f":"IF($F$6,'FRED Indicies'!E50)","v":0},"",{"$f":"IF($F$6,'FRED Indicies'!D50)","v":0},"","","",35,false,{"$f":"IF(AG37,'Google Index'!E64)","v":false},"",{"$f":"IF(AF37,'Google Index'!F64)","v":0},"","","",35,false,{"$f":"IF(AN37,'Commodity Prices'!D50)","v":0},"",{"$f":"IF(AO37,'Commodity Prices'!E50)","v":false},"","","",35,false,{"$f":"IF(AW37,'Yahoo Stocks'!D67)","v":false},"",{"$f":"IF(AW37,'Yahoo Stocks'!E67)","v":false},"","","",35,false,{"$f":"IF(BE37,'Google Finance Stocks'!D61)","v":false},"",{"$f":"IF(BE37,'Google Finance Stocks'!E61)","v":false},"","","",35,false,{"$f":"'Exchange Rates'!D47","v":0},"",{"$f":"IF(BM37,'Exchange Rates'!E47)","v":false},"","",""]
[null,null,null,null,null,null,null,null,null,null,null,36,"","","","",36,false,{"$f":"IF(R38,'Yahoo Index'!E90,\"\")","v":""},{"$f":"IF(R38,'Yahoo Index'!F90,\"\")","v":""},"","",null,36,false,{"$f":"IF($F$6,'FRED Indicies'!E51)","v":0},"",{"$f":"IF($F$6,'FRED Indicies'!D51)","v":0},"","","",36,false,{"$f":"IF(AG38,'Google Index'!E65)","v":false},"",{"$f":"IF(AF38,'Google Index'!F65)","v":0},"","","",36,false,{"$f":"IF(AN38,'Commodity Prices'!D51)","v":0},"",{"$f":"IF(AO38,'Commodity Prices'!E51)","v":false},"","","",36,false,{"$f":"IF(AW38,'Yahoo Stocks'!D68)","v":false},"",{"$f":"IF(AW38,'Yahoo Stocks'!E68)","v":false},"","","",36,false,{"$f":"IF(BE38,'Google Finance Stocks'!D62)","v":false},"",{"$f":"IF(BE38,'Google Finance Stocks'!E62)","v":false},"","","",36,false,{"$f":"'Exchange Rates'!D48","v":0},"",{"$f":"IF(BM38,'Exchange Rates'!E48)","v":false},"","",""]
[null,null,null,null,null,null,null,null,null,null,null,37,"","","","",37,false,{"$f":"IF(R39,'Yahoo Index'!E91,\"\")","v":""},{"$f":"IF(R39,'Yahoo Index'!F91,\"\")","v":""},"","",null,37,false,{"$f":"IF($F$6,'FRED Indicies'!E52)","v":0},"",{"$f":"IF($F$6,'FRED Indicies'!D52)","v":0},"","","",37,false,{"$f":"IF(AG39,'Google Index'!E66)","v":false},"",{"$f":"IF(AF39,'Google Index'!F66)","v":0},"","","",37,false,{"$f":"IF(AN39,'Commodity Prices'!D52)","v":0},"",{"$f":"IF(AO39,'Commodity Prices'!E52)","v":false},"","","",37,false,{"$f":"IF(AW39,'Yahoo Stocks'!D69)","v":false},"",{"$f":"IF(AW39,'Yahoo Stocks'!E69)","v":false},"","","",37,false,{"$f":"IF(BE39,'Google Finance Stocks'!D63)","v":false},"",{"$f":"IF(BE39,'Google Finance Stocks'!E63)","v":false},"","","",37,false,{"$f":"'Exchange Rates'!D49","v":0},"",{"$f":"IF(BM39,'Exchange Rates'!E49)","v":false},"","",""]
[null,null,null,null,null,null,null,null,null,null,null,38,"","","","",38,false,{"$f":"IF(R40,'Yahoo Index'!E92,\"\")","v":""},{"$f":"IF(R40,'Yahoo Index'!F92,\"\")","v":""},"","",null,38,false,{"$f":"IF($F$6,'FRED Indicies'!E53)","v":0},"",{"$f":"IF($F$6,'FRED Indicies'!D53)","v":0},"","","",38,false,{"$f":"IF(AG40,'Google Index'!E67)","v":false},"",{"$f":"IF(AF40,'Google Index'!F67)","v":0},"","","",38,false,{"$f":"IF(AN40,'Commodity Prices'!D53)","v":0},"",{"$f":"IF(AO40,'Commodity Prices'!E53)","v":false},"","","",38,false,{"$f":"IF(AW40,'Yahoo Stocks'!D70)","v":false},"",{"$f":"IF(AW40,'Yahoo Stocks'!E70)","v":false},"","","",38,false,{"$f":"IF(BE40,'Google Finance Stocks'!D64)","v":false},"",{"$f":"IF(BE40,'Google Finance Stocks'!E64)","v":false},"","","",38,false,{"$f":"'Exchange Rates'!D50","v":0},"",{"$f":"IF(BM40,'Exchange Rates'!E50)","v":false},"","",""]
[null,null,null,null,null,null,null,null,null,null,null,39,"","","","",39,false,{"$f":"IF(R41,'Yahoo Index'!E93,\"\")","v":""},{"$f":"IF(R41,'Yahoo Index'!F93,\"\")","v":""},"","",null,39,false,{"$f":"IF($F$6,'FRED Indicies'!E54)","v":0},"",{"$f":"IF($F$6,'FRED Indicies'!D54)","v":0},"","","",39,false,{"$f":"IF(AG41,'Google Index'!E68)","v":false},"",{"$f":"IF(AF41,'Google Index'!F68)","v":0},"","","",39,false,{"$f":"IF(AN41,'Commodity Prices'!D54)","v":0},"",{"$f":"IF(AO41,'Commodity Prices'!E54)","v":false},"","","",39,false,{"$f":"IF(AW41,'Yahoo Stocks'!D71)","v":false},"",{"$f":"IF(AW41,'Yahoo Stocks'!E71)","v":false},"","","",39,false,{"$f":"IF(BE41,'Google Finance Stocks'!D65)","v":false},"",{"$f":"IF(BE41,'Google Finance Stocks'!E65)","v":false},"","","",39,false,{"$f":"'Exchange Rates'!D51","v":0},"",{"$f":"IF(BM41,'Exchange Rates'!E51)","v":false},"","",""]
[null,null,null,null,null,null,null,null,null,null,null,40,"","","","",40,false,{"$f":"IF(R42,'Yahoo Index'!E94,\"\")","v":""},{"$f":"IF(R42,'Yahoo Index'!F94,\"\")","v":""},"","",null,40,false,{"$f":"IF($F$6,'FRED Indicies'!E55)","v":0},"",{"$f":"IF($F$6,'FRED Indicies'!D55)","v":0},"","","",40,false,{"$f":"IF(AG42,'Google Index'!E69)","v":false},"",{"$f":"IF(AF42,'Google Index'!F69)","v":0},"","","",40,false,{"$f":"IF(AN42,'Commodity Prices'!D55)","v":0},"",{"$f":"IF(AO42,'Commodity Prices'!E55)","v":false},"","","",40,false,{"$f":"IF(AW42,'Yahoo Stocks'!D72)","v":false},"",{"$f":"IF(AW42,'Yahoo Stocks'!E72)","v":false},"","","",40,false,{"$f":"IF(BE42,'Google Finance Stocks'!D66)","v":false},"",{"$f":"IF(BE42,'Google Finance Stocks'!E66)","v":false},"","","",40,false,{"$f":"'Exchange Rates'!D52","v":0},"",{"$f":"IF(BM42,'Exchange Rates'!E52)","v":false},"","",""]
[null,null,null,null,null,null,null,null,null,null,null,41,"","","","",41,false,{"$f":"IF(R43,'Yahoo Index'!E95,\"\")","v":""},{"$f":"IF(R43,'Yahoo Index'!F95,\"\")","v":""},"","",null,41,false,{"$f":"IF($F$6,'FRED Indicies'!E56)","v":0},"",{"$f":"IF($F$6,'FRED Indicies'!D56)","v":0},"","","",41,false,{"$f":"IF(AG43,'Google Index'!E70)","v":false},"",{"$f":"IF(AF43,'Google Index'!F70)","v":0},"","","",41,false,{"$f":"IF(AN43,'Commodity Prices'!D56)","v":0},"",{"$f":"IF(AO43,'Commodity Prices'!E56)","v":false},"","","",41,false,{"$f":"IF(AW43,'Yahoo Stocks'!D73)","v":false},"",{"$f":"IF(AW43,'Yahoo Stocks'!E73)","v":false},"","","",41,false,{"$f":"IF(BE43,'Google Finance Stocks'!D67)","v":false},"",{"$f":"IF(BE43,'Google Finance Stocks'!E67)","v":false},"","","",41,false,{"$f":"'Exchange Rates'!D53","v":0},"",{"$f":"IF(BM43,'Exchange Rates'!E53)","v":false},"","",""]
[null,null,null,null,null,null,null,null,null,null,null,42,"","","","",42,false,{"$f":"IF(R44,'Yahoo Index'!E96,\"\")","v":""},{"$f":"IF(R44,'Yahoo Index'!F96,\"\")","v":""},"","",null,42,false,{"$f":"IF($F$6,'FRED Indicies'!E57)","v":0},"",{"$f":"IF($F$6,'FRED Indicies'!D57)","v":0},"","","",42,false,{"$f":"IF(AG44,'Google Index'!E71)","v":false},"",{"$f":"IF(AF44,'Google Index'!F71)","v":0},"","","",42,false,{"$f":"IF(AN44,'Commodity Prices'!D57)","v":0},"",{"$f":"IF(AO44,'Commodity Prices'!E57)","v":false},"","","",42,false,{"$f":"IF(AW44,'Yahoo Stocks'!D74)","v":false},"",{"$f":"IF(AW44,'Yahoo Stocks'!E74)","v":false},"","","",42,false,{"$f":"IF(BE44,'Google Finance Stocks'!D68)","v":false},"",{"$f":"IF(BE44,'Google Finance Stocks'!E68)","v":false},"","","",42,false,{"$f":"'Exchange Rates'!D54","v":0},"",{"$f":"IF(BM44,'Exchange Rates'!E54)","v":false},"","",""]
[null,null,null,null,null,null,null,null,null,null,null,43,"","","","",43,false,{"$f":"IF(R45,'Yahoo Index'!E97,\"\")","v":""},{"$f":"IF(R45,'Yahoo Index'!F97,\"\")","v":""},"","",null,43,false,{"$f":"IF($F$6,'FRED Indicies'!E58)","v":0},"",{"$f":"IF($F$6,'FRED Indicies'!D58)","v":0},"","","",43,false,{"$f":"IF(AG45,'Google Index'!E72)","v":false},"",{"$f":"IF(AF45,'Google Index'!F72)","v":0},"","","",43,false,{"$f":"IF(AN45,'Commodity Prices'!D58)","v":0},"",{"$f":"IF(AO45,'Commodity Prices'!E58)","v":false},"","","",43,false,{"$f":"IF(AW45,'Yahoo Stocks'!D75)","v":false},"",{"$f":"IF(AW45,'Yahoo Stocks'!E75)","v":false},"","","",43,false,{"$f":"IF(BE45,'Google Finance Stocks'!D69)","v":false},"",{"$f":"IF(BE45,'Google Finance Stocks'!E69)","v":false},"","","",43,false,{"$f":"'Exchange Rates'!D55","v":0},"",{"$f":"IF(BM45,'Exchange Rates'!E55)","v":false},"","",""]
[null,null,null,null,null,null,null,null,null,null,null,44,"","","","",44,false,{"$f":"IF(R46,'Yahoo Index'!E98,\"\")","v":""},{"$f":"IF(R46,'Yahoo Index'!F98,\"\")","v":""},"","",null,44,false,{"$f":"IF($F$6,'FRED Indicies'!E59)","v":0},"",{"$f":"IF($F$6,'FRED Indicies'!D59)","v":0},"","","",44,false,{"$f":"IF(AG46,'Google Index'!E73)","v":false},"",{"$f":"IF(AF46,'Google Index'!F73)","v":0},"","","",44,false,{"$f":"IF(AN46,'Commodity Prices'!D59)","v":0},"",{"$f":"IF(AO46,'Commodity Prices'!E59)","v":false},"","","",44,false,{"$f":"IF(AW46,'Yahoo Stocks'!D76)","v":false},"",{"$f":"IF(AW46,'Yahoo Stocks'!E76)","v":false},"","","",44,false,{"$f":"IF(BE46,'Google Finance Stocks'!D70)","v":false},"",{"$f":"IF(BE46,'Google Finance Stocks'!E70)","v":false},"","","",44,false,{"$f":"'Exchange Rates'!D56","v":0},"",{"$f":"IF(BM46,'Exchange Rates'!E56)","v":false},"","",""]
[null,null,null,null,null,null,null,null,null,null,null,45,"","","","",45,false,{"$f":"IF(R47,'Yahoo Index'!E99,\"\")","v":""},{"$f":"IF(R47,'Yahoo Index'!F99,\"\")","v":""},"","",null,45,false,{"$f":"IF($F$6,'FRED Indicies'!E60)","v":0},"",{"$f":"IF($F$6,'FRED Indicies'!D60)","v":0},"","","",45,false,{"$f":"IF(AG47,'Google Index'!E74)","v":false},"",{"$f":"IF(AF47,'Google Index'!F74)","v":0},"","","",45,false,{"$f":"IF(AN47,'Commodity Prices'!D60)","v":0},"",{"$f":"IF(AO47,'Commodity Prices'!E60)","v":false},"","","",45,false,{"$f":"IF(AW47,'Yahoo Stocks'!D77)","v":false},"",{"$f":"IF(AW47,'Yahoo Stocks'!E77)","v":false},"","","",45,false,{"$f":"IF(BE47,'Google Finance Stocks'!D71)","v":false},"",{"$f":"IF(BE47,'Google Finance Stocks'!E71)","v":false},"","","",45,false,{"$f":"'Exchange Rates'!D57","v":0},"",{"$f":"IF(BM47,'Exchange Rates'!E57)","v":false},"","",""]
[null,null,null,null,null,null,null,null,null,null,null,46,"","","","",46,false,{"$f":"IF(R48,'Yahoo Index'!E100,\"\")","v":""},{"$f":"IF(R48,'Yahoo Index'!F100,\"\")","v":""},"","",null,46,false,{"$f":"IF($F$6,'FRED Indicies'!E61)","v":0},"",{"$f":"IF($F$6,'FRED Indicies'!D61)","v":0},"","","",46,false,{"$f":"IF(AG48,'Google Index'!E75)","v":false},"",{"$f":"IF(AF48,'Google Index'!F75)","v":0},"","","",46,false,{"$f":"IF(AN48,'Commodity Prices'!D61)","v":0},"",{"$f":"IF(AO48,'Commodity Prices'!E61)","v":false},"","","",46,false,{"$f":"IF(AW48,'Yahoo Stocks'!D78)","v":false},"",{"$f":"IF(AW48,'Yahoo Stocks'!E78)","v":false},"","","",46,false,{"$f":"IF(BE48,'Google Finance Stocks'!D72)","v":false},"",{"$f":"IF(BE48,'Google Finance Stocks'!E72)","v":false},"","","",46,false,{"$f":"'Exchange Rates'!D58","v":0},"",{"$f":"IF(BM48,'Exchange Rates'!E58)","v":false},"","",""]
[null,null,null,null,null,null,null,null,null,null,null,47,"","","","",47,false,{"$f":"IF(R49,'Yahoo Index'!E101,\"\")","v":""},{"$f":"IF(R49,'Yahoo Index'!F101,\"\")","v":""},"","",null,47,false,{"$f":"IF($F$6,'FRED Indicies'!E62)","v":0},"",{"$f":"IF($F$6,'FRED Indicies'!D62)","v":0},"","","",47,false,{"$f":"IF(AG49,'Google Index'!E76)","v":false},"",{"$f":"IF(AF49,'Google Index'!F76)","v":0},"","","",47,false,{"$f":"IF(AN49,'Commodity Prices'!D62)","v":0},"",{"$f":"IF(AO49,'Commodity Prices'!E62)","v":false},"","","",47,false,{"$f":"IF(AW49,'Yahoo Stocks'!D79)","v":false},"",{"$f":"IF(AW49,'Yahoo Stocks'!E79)","v":false},"","","",47,false,{"$f":"IF(BE49,'Google Finance Stocks'!D73)","v":false},"",{"$f":"IF(BE49,'Google Finance Stocks'!E73)","v":false},"","","",47,false,{"$f":"'Exchange Rates'!D59","v":0},"",{"$f":"IF(BM49,'Exchange Rates'!E59)","v":false},"","",""]
[null,null,null,null,null,null,null,null,null,null,null,48,"","","","",48,false,{"$f":"IF(R50,'Yahoo Index'!E102,\"\")","v":""},{"$f":"IF(R50,'Yahoo Index'!F102,\"\")","v":""},"","",null,48,false,{"$f":"IF($F$6,'FRED Indicies'!E63)","v":0},"",{"$f":"IF($F$6,'FRED Indicies'!D63)","v":0},"","","",48,false,{"$f":"IF(AG50,'Google Index'!E77)","v":false},"",{"$f":"IF(AF50,'Google Index'!F77)","v":0},"","","",48,false,{"$f":"IF(AN50,'Commodity Prices'!D63)","v":0},"",{"$f":"IF(AO50,'Commodity Prices'!E63)","v":false},"","","",48,false,{"$f":"IF(AW50,'Yahoo Stocks'!D80)","v":false},"",{"$f":"IF(AW50,'Yahoo Stocks'!E80)","v":false},"","","",48,false,{"$f":"IF(BE50,'Google Finance Stocks'!D74)","v":false},"",{"$f":"IF(BE50,'Google Finance Stocks'!E74)","v":false},"","","",48,false,{"$f":"'Exchange Rates'!D60","v":0},"",{"$f":"IF(BM50,'Exchange Rates'!E60)","v":false},"","",""]
[null,null,null,null,null,null,null,null,null,null,null,49,"","","","",49,false,{"$f":"IF(R51,'Yahoo Index'!E103,\"\")","v":""},{"$f":"IF(R51,'Yahoo Index'!F103,\"\")","v":""},"","",null,49,false,{"$f":"IF($F$6,'FRED Indicies'!E64)","v":0},"",{"$f":"IF($F$6,'FRED Indicies'!D64)","v":0},"","","",49,false,{"$f":"IF(AG51,'Google Index'!E78)","v":false},"",{"$f":"IF(AF51,'Google Index'!F78)","v":0},"","","",49,false,{"$f":"IF(AN51,'Commodity Prices'!D64)","v":0},"",{"$f":"IF(AO51,'Commodity Prices'!E64)","v":false},"","","",49,false,{"$f":"IF(AW51,'Yahoo Stocks'!D81)","v":false},"",{"$f":"IF(AW51,'Yahoo Stocks'!E81)","v":false},"","","",49,false,{"$f":"IF(BE51,'Google Finance Stocks'!D75)","v":false},"",{"$f":"IF(BE51,'Google Finance Stocks'!E75)","v":false},"","","",49,false,{"$f":"'Exchange Rates'!D61","v":0},"",{"$f":"IF(BM51,'Exchange Rates'!E61)","v":false},"","",""]
[null,null,null,null,null,null,null,null,null,null,null,50,"","","","",50,false,{"$f":"IF(R52,'Yahoo Index'!E104,\"\")","v":""},{"$f":"IF(R52,'Yahoo Index'!F104,\"\")","v":""},"","",null,50,false,{"$f":"IF($F$6,'FRED Indicies'!E65)","v":0},"",{"$f":"IF($F$6,'FRED Indicies'!D65)","v":0},"","","",50,false,{"$f":"IF(AG52,'Google Index'!E79)","v":false},"",{"$f":"IF(AF52,'Google Index'!F79)","v":0},"","","",50,false,{"$f":"IF(AN52,'Commodity Prices'!D65)","v":0},"",{"$f":"IF(AO52,'Commodity Prices'!E65)","v":false},"","","",50,false,{"$f":"IF(AW52,'Yahoo Stocks'!D82)","v":false},"",{"$f":"IF(AW52,'Yahoo Stocks'!E82)","v":false},"","","",50,false,{"$f":"IF(BE52,'Google Finance Stocks'!D76)","v":false},"",{"$f":"IF(BE52,'Google Finance Stocks'!E76)","v":false},"","","",50,false,{"$f":"'Exchange Rates'!D62","v":0},"",{"$f":"IF(BM52,'Exchange Rates'!E62)","v":false},"","",""]
[null,null,null,null,null,null,null,null,null,null,null,51,{"$f":"S53&AA53&AI53&AQ53&AY53&BG53&BO53","v":""},{"$f":"T53&AC53&AK53&AS53&BA53&BI53&BQ53","v":""},{"$f":"U53&AD53&AL53&AT53&BB53&BJ53&BR53","v":""},{"$f":"V53&AE53&AM53&AU53&BC53&BK53&BS53","v":""},51,{"$f":"IF(AND($F$3,Q53<=$H$3),Q53)","v":false},{"$f":"IF(R53,'Yahoo Index'!E105,\"\")","v":""},{"$f":"IF(R53,'Yahoo Index'!F105,\"\")","v":""},{"$f":"IF(R53,$I$3,\"\")","v":""},{"$f":"IF(R53,$J$3,\"\")","v":""},null,51,{"$f":"IF(AND($F$6,X53<=$H$6),X53)","v":false},{"$f":"IF($F$6,'FRED Indicies'!E66)","v":0},{"$f":"IFERROR(INDEX(Z:Z,MATCH(L53,Y:Y,0)),\"\")","v":""},{"$f":"IF($F$6,'FRED Indicies'!D66)","v":0},{"$f":"IFERROR(INDEX(AB:AB,MATCH(L53,Y:Y,0)),\"\")","v":""},{"$f":"IF(AA53<>\"\",$I$6,\"\")","v":""},{"$f":"IF(AA53<>\"\",$J$6,\"\")","v":""},51,{"$f":"IF(AND($F$9,AF53<=$H$9),AF53)","v":false},{"$f":"IF(AG53,'Google Index'!E80)","v":false},{"$f":"IFERROR(INDEX(AH:AH,MATCH(Q53,AG:AG,0)),\"\")","v":""},{"$f":"IF(AF53,'Google Index'!F80)","v":0},{"$f":"IFERROR(INDEX(AJ:AJ,MATCH(Q53,AG:AG,0)),\"\")","v":""},{"$f":"IF(AI53<>\"\",$I$6,\"\")","v":""},{"$f":"IF(AK53<>\"\",$J$6,\"\")","v":""},51,{"$f":"IF(AND($F$12,AN53<=$H$12),AN53)","v":false},{"$f":"IF(AN53,'Commodity Prices'!D66)","v":0},{"$f":"IFERROR(INDEX(AP:AP,MATCH(L53,AO:AO,0)),\"\")","v":""},{"$f":"IF(AO53,'Commodity Prices'!E66)","v":false},{"$f":"IFERROR(INDEX(AR:AR,MATCH(L53,AO:AO,0)),\"\")","v":""},{"$f":"IF(AQ53<>\"\",$I$12,\"\")","v":""},{"$f":"IF(AS53<>\"\",$J$12,\"\")","v":""},51,{"$f":"IF(AND($F$15,AV53<=$H$15),AV53)","v":false},{"$f":"IF(AW53,'Yahoo Stocks'!D83)","v":false},"",{"$f":"IF(AW53,'Yahoo Stocks'!E83)","v":false},"","","",51,{"$f":"IF(AND($F$18,BD53<=$H$18),BD53)","v":false},{"$f":"IF(BE53,'Google Finance Stocks'!D77)","v":false},{"$f":"IFERROR(INDEX(BF:BF,MATCH(Q53,BE:BE,0)),\"\")","v":""},{"$f":"IF(BE53,'Google Finance Stocks'!E77)","v":false},{"$f":"IFERROR(INDEX(BH:BH,MATCH(Q53,BE:BE,0)),\"\")","v":""},{"$f":"IF(BI53<>\"\",$I$18,\"\")","v":""},{"$f":"IF(BI53<>\"\",$J$18,\"\")","v":""},51,{"$f":"IF(AND($F$21,BL53<=$H$21),BL53)","v":false},{"$f":"'Exchange Rates'!D63","v":0},{"$f":"IFERROR(INDEX(BN:BN,MATCH(L53,BM:BM,0)),\"\")","v":""},{"$f":"IF(BM53,'Exchange Rates'!E63)","v":false},{"$f":"IFERROR(INDEX(BP:BP,MATCH(L53,BM:BM,0)),\"\")","v":""},{"$f":"IF(BQ53<>\"\",$I$21,\"\")","v":""},{"$f":"IF(BQ53<>\"\",$J$21,\"\")","v":""}]
[null,null,null,null,null,null,null,null,null,null,null,52,"","","","",52,false,{"$f":"IF(R54,'Yahoo Index'!E106,\"\")","v":""},{"$f":"IF(R54,'Yahoo Index'!F106,\"\")","v":""},"","",null,52,false,{"$f":"IF($F$6,'FRED Indicies'!E67)","v":0},"",{"$f":"IF($F$6,'FRED Indicies'!D67)","v":0},"","","",52,false,{"$f":"IF(AG54,'Google Index'!E81)","v":false},"",{"$f":"IF(AF54,'Google Index'!F81)","v":0},"","","",52,false,{"$f":"IF(AN54,'Commodity Prices'!D67)","v":0},"",{"$f":"IF(AO54,'Commodity Prices'!E67)","v":false},"","","",52,false,{"$f":"IF(AW54,'Yahoo Stocks'!D84)","v":false},"",{"$f":"IF(AW54,'Yahoo Stocks'!E84)","v":false},"","","",52,false,{"$f":"IF(BE54,'Google Finance Stocks'!D78)","v":false},"",{"$f":"IF(BE54,'Google Finance Stocks'!E78)","v":false},"","","",52,false,{"$f":"'Exchange Rates'!D64","v":0},"",{"$f":"IF(BM54,'Exchange Rates'!E64)","v":false},"","",""]
[null,null,null,null,null,null,null,null,null,null,null,53,"","","","",53,false,{"$f":"IF(R55,'Yahoo Index'!E107,\"\")","v":""},{"$f":"IF(R55,'Yahoo Index'!F107,\"\")","v":""},"","",null,53,false,{"$f":"IF($F$6,'FRED Indicies'!E68)","v":0},"",{"$f":"IF($F$6,'FRED Indicies'!D68)","v":0},"","","",53,false,{"$f":"IF(AG55,'Google Index'!E82)","v":false},"",{"$f":"IF(AF55,'Google Index'!F82)","v":0},"","","",53,false,{"$f":"IF(AN55,'Commodity Prices'!D68)","v":0},"",{"$f":"IF(AO55,'Commodity Prices'!E68)","v":false},"","","",53,false,{"$f":"IF(AW55,'Yahoo Stocks'!D85)","v":false},"",{"$f":"IF(AW55,'Yahoo Stocks'!E85)","v":false},"","","",53,false,{"$f":"IF(BE55,'Google Finance Stocks'!D79)","v":false},"",{"$f":"IF(BE55,'Google Finance Stocks'!E79)","v":false},"","","",53,false,{"$f":"'Exchange Rates'!D65","v":0},"",{"$f":"IF(BM55,'Exchange Rates'!E65)","v":false},"","",""]
[null,null,null,null,null,null,null,null,null,null,null,54,"","","","",54,false,{"$f":"IF(R56,'Yahoo Index'!E108,\"\")","v":""},{"$f":"IF(R56,'Yahoo Index'!F108,\"\")","v":""},"","",null,54,false,{"$f":"IF($F$6,'FRED Indicies'!E69)","v":0},"",{"$f":"IF($F$6,'FRED Indicies'!D69)","v":0},"","","",54,false,{"$f":"IF(AG56,'Google Index'!E83)","v":false},"",{"$f":"IF(AF56,'Google Index'!F83)","v":0},"","","",54,false,{"$f":"IF(AN56,'Commodity Prices'!D69)","v":0},"",{"$f":"IF(AO56,'Commodity Prices'!E69)","v":false},"","","",54,false,{"$f":"IF(AW56,'Yahoo Stocks'!D86)","v":false},"",{"$f":"IF(AW56,'Yahoo Stocks'!E86)","v":false},"","","",54,false,{"$f":"IF(BE56,'Google Finance Stocks'!D80)","v":false},"",{"$f":"IF(BE56,'Google Finance Stocks'!E80)","v":false},"","","",54,false,{"$f":"'Exchange Rates'!D66","v":0},"",{"$f":"IF(BM56,'Exchange Rates'!E66)","v":false},"","",""]
[null,null,null,null,null,null,null,null,null,null,null,55,"","","","",55,false,{"$f":"IF(R57,'Yahoo Index'!E109,\"\")","v":""},{"$f":"IF(R57,'Yahoo Index'!F109,\"\")","v":""},"","",null,55,false,{"$f":"IF($F$6,'FRED Indicies'!E70)","v":0},"",{"$f":"IF($F$6,'FRED Indicies'!D70)","v":0},"","","",55,false,{"$f":"IF(AG57,'Google Index'!E84)","v":false},"",{"$f":"IF(AF57,'Google Index'!F84)","v":0},"","","",55,false,{"$f":"IF(AN57,'Commodity Prices'!D70)","v":0},"",{"$f":"IF(AO57,'Commodity Prices'!E70)","v":false},"","","",55,false,{"$f":"IF(AW57,'Yahoo Stocks'!D87)","v":false},"",{"$f":"IF(AW57,'Yahoo Stocks'!E87)","v":false},"","","",55,false,{"$f":"IF(BE57,'Google Finance Stocks'!D81)","v":false},"",{"$f":"IF(BE57,'Google Finance Stocks'!E81)","v":false},"","","",55,false,{"$f":"'Exchange Rates'!D67","v":0},"",{"$f":"IF(BM57,'Exchange Rates'!E67)","v":false},"","",""]
[null,null,null,null,null,null,null,null,null,null,null,56,"","","","",56,false,{"$f":"IF(R58,'Yahoo Index'!E110,\"\")","v":""},{"$f":"IF(R58,'Yahoo Index'!F110,\"\")","v":""},"","",null,56,false,{"$f":"IF($F$6,'FRED Indicies'!E71)","v":0},"",{"$f":"IF($F$6,'FRED Indicies'!D71)","v":0},"","","",56,false,{"$f":"IF(AG58,'Google Index'!E85)","v":false},"",{"$f":"IF(AF58,'Google Index'!F85)","v":0},"","","",56,false,{"$f":"IF(AN58,'Commodity Prices'!D71)","v":0},"",{"$f":"IF(AO58,'Commodity Prices'!E71)","v":false},"","","",56,false,{"$f":"IF(AW58,'Yahoo Stocks'!D88)","v":false},"",{"$f":"IF(AW58,'Yahoo Stocks'!E88)","v":false},"","","",56,false,{"$f":"IF(BE58,'Google Finance Stocks'!D82)","v":false},"",{"$f":"IF(BE58,'Google Finance Stocks'!E82)","v":false},"","","",56,false,{"$f":"'Exchange Rates'!D68","v":0},"",{"$f":"IF(BM58,'Exchange Rates'!E68)","v":false},"","",""]
[null,null,null,null,null,null,null,null,null,null,null,57,"","","","",57,false,{"$f":"IF(R59,'Yahoo Index'!E111,\"\")","v":""},{"$f":"IF(R59,'Yahoo Index'!F111,\"\")","v":""},"","",null,57,false,{"$f":"IF($F$6,'FRED Indicies'!E72)","v":0},"",{"$f":"IF($F$6,'FRED Indicies'!D72)","v":0},"","","",57,false,{"$f":"IF(AG59,'Google Index'!E86)","v":false},"",{"$f":"IF(AF59,'Google Index'!F86)","v":0},"","","",57,false,{"$f":"IF(AN59,'Commodity Prices'!D72)","v":0},"",{"$f":"IF(AO59,'Commodity Prices'!E72)","v":false},"","","",57,false,{"$f":"IF(AW59,'Yahoo Stocks'!D89)","v":false},"",{"$f":"IF(AW59,'Yahoo Stocks'!E89)","v":false},"","","",57,false,{"$f":"IF(BE59,'Google Finance Stocks'!D83)","v":false},"",{"$f":"IF(BE59,'Google Finance Stocks'!E83)","v":false},"","","",57,false,{"$f":"'Exchange Rates'!D69","v":0},"",{"$f":"IF(BM59,'Exchange Rates'!E69)","v":false},"","",""]
[null,null,null,null,null,null,null,null,null,null,null,58,"","","","",58,false,{"$f":"IF(R60,'Yahoo Index'!E112,\"\")","v":""},{"$f":"IF(R60,'Yahoo Index'!F112,\"\")","v":""},"","",null,58,false,{"$f":"IF($F$6,'FRED Indicies'!E73)","v":0},"",{"$f":"IF($F$6,'FRED Indicies'!D73)","v":0},"","","",58,false,{"$f":"IF(AG60,'Google Index'!E87)","v":false},"",{"$f":"IF(AF60,'Google Index'!F87)","v":0},"","","",58,false,{"$f":"IF(AN60,'Commodity Prices'!D73)","v":0},"",{"$f":"IF(AO60,'Commodity Prices'!E73)","v":false},"","","",58,false,{"$f":"IF(AW60,'Yahoo Stocks'!D90)","v":false},"",{"$f":"IF(AW60,'Yahoo Stocks'!E90)","v":false},"","","",58,false,{"$f":"IF(BE60,'Google Finance Stocks'!D84)","v":false},"",{"$f":"IF(BE60,'Google Finance Stocks'!E84)","v":false},"","","",58,false,{"$f":"'Exchange Rates'!D70","v":0},"",{"$f":"IF(BM60,'Exchange Rates'!E70)","v":false},"","",""]
[null,null,null,null,null,null,null,null,null,null,null,59,"","","","",59,false,{"$f":"IF(R61,'Yahoo Index'!E113,\"\")","v":""},{"$f":"IF(R61,'Yahoo Index'!F113,\"\")","v":""},"","",null,59,false,{"$f":"IF($F$6,'FRED Indicies'!E74)","v":0},"",{"$f":"IF($F$6,'FRED Indicies'!D74)","v":0},"","","",59,false,{"$f":"IF(AG61,'Google Index'!E88)","v":false},"",{"$f":"IF(AF61,'Google Index'!F88)","v":0},"","","",59,false,{"$f":"IF(AN61,'Commodity Prices'!D74)","v":0},"",{"$f":"IF(AO61,'Commodity Prices'!E74)","v":false},"","","",59,false,{"$f":"IF(AW61,'Yahoo Stocks'!D91)","v":false},"",{"$f":"IF(AW61,'Yahoo Stocks'!E91)","v":false},"","","",59,false,{"$f":"IF(BE61,'Google Finance Stocks'!D85)","v":false},"",{"$f":"IF(BE61,'Google Finance Stocks'!E85)","v":false},"","","",59,false,{"$f":"'Exchange Rates'!D71","v":0},"",{"$f":"IF(BM61,'Exchange Rates'!E71)","v":false},"","",""]
[null,null,null,null,null,null,null,null,null,null,null,60,"","","","",60,false,{"$f":"IF(R62,'Yahoo Index'!E114,\"\")","v":""},{"$f":"IF(R62,'Yahoo Index'!F114,\"\")","v":""},"","",null,60,false,{"$f":"IF($F$6,'FRED Indicies'!E75)","v":0},"",{"$f":"IF($F$6,'FRED Indicies'!D75)","v":0},"","","",60,false,{"$f":"IF(AG62,'Google Index'!E89)","v":false},"",{"$f":"IF(AF62,'Google Index'!F89)","v":0},"","","",60,false,{"$f":"IF(AN62,'Commodity Prices'!D75)","v":0},"",{"$f":"IF(AO62,'Commodity Prices'!E75)","v":false},"","","",60,false,{"$f":"IF(AW62,'Yahoo Stocks'!D92)","v":false},"",{"$f":"IF(AW62,'Yahoo Stocks'!E92)","v":false},"","","",60,false,{"$f":"IF(BE62,'Google Finance Stocks'!D86)","v":false},"",{"$f":"IF(BE62,'Google Finance Stocks'!E86)","v":false},"","","",60,false,{"$f":"'Exchange Rates'!D72","v":0},"",{"$f":"IF(BM62,'Exchange Rates'!E72)","v":false},"","",""]
[null,null,null,null,null,null,null,null,null,null,null,61,"","","","",61,false,{"$f":"IF(R63,'Yahoo Index'!E115,\"\")","v":""},{"$f":"IF(R63,'Yahoo Index'!F115,\"\")","v":""},"","",null,61,false,{"$f":"IF($F$6,'FRED Indicies'!E76)","v":0},"",{"$f":"IF($F$6,'FRED Indicies'!D76)","v":0},"","","",61,false,{"$f":"IF(AG63,'Google Index'!E90)","v":false},"",{"$f":"IF(AF63,'Google Index'!F90)","v":0},"","","",61,false,{"$f":"IF(AN63,'Commodity Prices'!D76)","v":0},"",{"$f":"IF(AO63,'Commodity Prices'!E76)","v":false},"","","",61,false,{"$f":"IF(AW63,'Yahoo Stocks'!D93)","v":false},"",{"$f":"IF(AW63,'Yahoo Stocks'!E93)","v":false},"","","",61,false,{"$f":"IF(BE63,'Google Finance Stocks'!D87)","v":false},"",{"$f":"IF(BE63,'Google Finance Stocks'!E87)","v":false},"","","",61,false,{"$f":"'Exchange Rates'!D73","v":0},"",{"$f":"IF(BM63,'Exchange Rates'!E73)","v":false},"","",""]
[null,null,null,null,null,null,null,null,null,null,null,62,"","","","",62,false,{"$f":"IF(R64,'Yahoo Index'!E116,\"\")","v":""},{"$f":"IF(R64,'Yahoo Index'!F116,\"\")","v":""},"","",null,62,false,{"$f":"IF($F$6,'FRED Indicies'!E77)","v":0},"",{"$f":"IF($F$6,'FRED Indicies'!D77)","v":0},"","","",62,false,{"$f":"IF(AG64,'Google Index'!E91)","v":false},"",{"$f":"IF(AF64,'Google Index'!F91)","v":0},"","","",62,false,{"$f":"IF(AN64,'Commodity Prices'!D77)","v":0},"",{"$f":"IF(AO64,'Commodity Prices'!E77)","v":false},"","","",62,false,{"$f":"IF(AW64,'Yahoo Stocks'!D94)","v":false},"",{"$f":"IF(AW64,'Yahoo Stocks'!E94)","v":false},"","","",62,false,{"$f":"IF(BE64,'Google Finance Stocks'!D88)","v":false},"",{"$f":"IF(BE64,'Google Finance Stocks'!E88)","v":false},"","","",62,false,{"$f":"'Exchange Rates'!D74","v":0},"",{"$f":"IF(BM64,'Exchange Rates'!E74)","v":false},"","",""]
[null,null,null,null,null,null,null,null,null,null,null,63,"","","","",63,false,{"$f":"IF(R65,'Yahoo Index'!E117,\"\")","v":""},{"$f":"IF(R65,'Yahoo Index'!F117,\"\")","v":""},"","",null,63,false,{"$f":"IF($F$6,'FRED Indicies'!E78)","v":0},"",{"$f":"IF($F$6,'FRED Indicies'!D78)","v":0},"","","",63,false,{"$f":"IF(AG65,'Google Index'!E92)","v":false},"",{"$f":"IF(AF65,'Google Index'!F92)","v":0},"","","",63,false,{"$f":"IF(AN65,'Commodity Prices'!D78)","v":0},"",{"$f":"IF(AO65,'Commodity Prices'!E78)","v":false},"","","",63,false,{"$f":"IF(AW65,'Yahoo Stocks'!D95)","v":false},"",{"$f":"IF(AW65,'Yahoo Stocks'!E95)","v":false},"","","",63,false,{"$f":"IF(BE65,'Google Finance Stocks'!D89)","v":false},"",{"$f":"IF(BE65,'Google Finance Stocks'!E89)","v":false},"","","",63,false,{"$f":"'Exchange Rates'!D75","v":0},"",{"$f":"IF(BM65,'Exchange Rates'!E75)","v":false},"","",""]
[null,null,null,null,null,null,null,null,null,null,null,64,"","","","",64,false,{"$f":"IF(R66,'Yahoo Index'!E118,\"\")","v":""},{"$f":"IF(R66,'Yahoo Index'!F118,\"\")","v":""},"","",null,64,false,{"$f":"IF($F$6,'FRED Indicies'!E79)","v":0},"",{"$f":"IF($F$6,'FRED Indicies'!D79)","v":0},"","","",64,false,{"$f":"IF(AG66,'Google Index'!E93)","v":false},"",{"$f":"IF(AF66,'Google Index'!F93)","v":0},"","","",64,false,{"$f":"IF(AN66,'Commodity Prices'!D79)","v":0},"",{"$f":"IF(AO66,'Commodity Prices'!E79)","v":false},"","","",64,false,{"$f":"IF(AW66,'Yahoo Stocks'!D96)","v":false},"",{"$f":"IF(AW66,'Yahoo Stocks'!E96)","v":false},"","","",64,false,{"$f":"IF(BE66,'Google Finance Stocks'!D90)","v":false},"",{"$f":"IF(BE66,'Google Finance Stocks'!E90)","v":false},"","","",64,false,{"$f":"'Exchange Rates'!D76","v":0},"",{"$f":"IF(BM66,'Exchange Rates'!E76)","v":false},"","",""]
[null,null,null,null,null,null,null,null,null,null,null,65,"","","","",65,false,{"$f":"IF(R67,'Yahoo Index'!E119,\"\")","v":""},{"$f":"IF(R67,'Yahoo Index'!F119,\"\")","v":""},"","",null,65,false,{"$f":"IF($F$6,'FRED Indicies'!E80)","v":0},"",{"$f":"IF($F$6,'FRED Indicies'!D80)","v":0},"","","",65,false,{"$f":"IF(AG67,'Google Index'!E94)","v":false},"",{"$f":"IF(AF67,'Google Index'!F94)","v":0},"","","",65,false,{"$f":"IF(AN67,'Commodity Prices'!D80)","v":0},"",{"$f":"IF(AO67,'Commodity Prices'!E80)","v":false},"","","",65,false,{"$f":"IF(AW67,'Yahoo Stocks'!D97)","v":false},"",{"$f":"IF(AW67,'Yahoo Stocks'!E97)","v":false},"","","",65,false,{"$f":"IF(BE67,'Google Finance Stocks'!D91)","v":false},"",{"$f":"IF(BE67,'Google Finance Stocks'!E91)","v":false},"","","",65,false,{"$f":"'Exchange Rates'!D77","v":0},"",{"$f":"IF(BM67,'Exchange Rates'!E77)","v":false},"","",""]
[null,null,null,null,null,null,null,null,null,null,null,66,"","","","",66,false,{"$f":"IF(R68,'Yahoo Index'!E120,\"\")","v":""},{"$f":"IF(R68,'Yahoo Index'!F120,\"\")","v":""},"","",null,66,false,{"$f":"IF($F$6,'FRED Indicies'!E81)","v":0},"",{"$f":"IF($F$6,'FRED Indicies'!D81)","v":0},"","","",66,false,{"$f":"IF(AG68,'Google Index'!E95)","v":false},"",{"$f":"IF(AF68,'Google Index'!F95)","v":0},"","","",66,false,{"$f":"IF(AN68,'Commodity Prices'!D81)","v":0},"",{"$f":"IF(AO68,'Commodity Prices'!E81)","v":false},"","","",66,false,{"$f":"IF(AW68,'Yahoo Stocks'!D98)","v":false},{"$f":"IFERROR(INDEX(AX:AX,MATCH(L68,AW:AW,0)),\"\")","v":""},{"$f":"IF(AW68,'Yahoo Stocks'!E98)","v":false},{"$f":"IFERROR(INDEX(AZ:AZ,MATCH(L68,AW:AW,0)),\"\")","v":""},{"$f":"IF(AY68<>\"\",$I$15,\"\")","v":""},{"$f":"IF(BA68<>\"\",$J$15,\"\")","v":""},66,false,{"$f":"IF(BE68,'Google Finance Stocks'!D92)","v":false},"",{"$f":"IF(BE68,'Google Finance Stocks'!E92)","v":false},"","","",66,false,{"$f":"'Exchange Rates'!D78","v":0},"",{"$f":"IF(BM68,'Exchange Rates'!E78)","v":false},"","",""]
[null,null,null,null,null,null,null,null,null,null,null,67,"","","","",{"$f":"Q68+1","v":67},false,{"$f":"IF(R69,'Yahoo Index'!E121,\"\")","v":""},{"$f":"IF(R69,'Yahoo Index'!F121,\"\")","v":""},"","",null,{"$f":"X68+1","v":67},false,{"$f":"IF($F$6,'FRED Indicies'!E82)","v":0},"",{"$f":"IF($F$6,'FRED Indicies'!D82)","v":0},"","","",{"$f":"AF68+1","v":67},false,{"$f":"IF(AG69,'Google Index'!E96)","v":false},"",{"$f":"IF(AF69,'Google Index'!F96)","v":0},"","","",{"$f":"AN68+1","v":67},false,{"$f":"IF(AN69,'Commodity Prices'!D82)","v":0},"",{"$f":"IF(AO69,'Commodity Prices'!E82)","v":false},"","","",{"$f":"AV68+1","v":67},false,{"$f":"IF(AW69,'Yahoo Stocks'!D99)","v":false},"",{"$f":"IF(AW69,'Yahoo Stocks'!E99)","v":false},"","","",{"$f":"BD68+1","v":67},false,{"$f":"IF(BE69,'Google Finance Stocks'!D93)","v":false},"",{"$f":"IF(BE69,'Google Finance Stocks'!E93)","v":false},"","","",{"$f":"BL68+1","v":67},false,{"$f":"'Exchange Rates'!D79","v":0},"",{"$f":"IF(BM69,'Exchange Rates'!E79)","v":false},"","",""]
[null,null,null,null,null,null,null,null,null,null,null,68,"","","","",68,false,{"$f":"IF(R70,'Yahoo Index'!E122,\"\")","v":""},{"$f":"IF(R70,'Yahoo Index'!F122,\"\")","v":""},"","",null,68,false,{"$f":"IF($F$6,'FRED Indicies'!E83)","v":0},"",{"$f":"IF($F$6,'FRED Indicies'!D83)","v":0},"","","",68,false,{"$f":"IF(AG70,'Google Index'!E97)","v":false},"",{"$f":"IF(AF70,'Google Index'!F97)","v":0},"","","",68,false,{"$f":"IF(AN70,'Commodity Prices'!D83)","v":0},"",{"$f":"IF(AO70,'Commodity Prices'!E83)","v":false},"","","",68,false,{"$f":"IF(AW70,'Yahoo Stocks'!D100)","v":false},"",{"$f":"IF(AW70,'Yahoo Stocks'!E100)","v":false},"","","",68,false,{"$f":"IF(BE70,'Google Finance Stocks'!D94)","v":false},"",{"$f":"IF(BE70,'Google Finance Stocks'!E94)","v":false},"","","",68,false,{"$f":"'Exchange Rates'!D80","v":0},"",{"$f":"IF(BM70,'Exchange Rates'!E80)","v":false},"","",""]
[null,null,null,null,null,null,null,null,null,null,null,69,"","","","",69,false,{"$f":"IF(R71,'Yahoo Index'!E123,\"\")","v":""},{"$f":"IF(R71,'Yahoo Index'!F123,\"\")","v":""},"","",null,69,false,{"$f":"IF($F$6,'FRED Indicies'!E84)","v":0},"",{"$f":"IF($F$6,'FRED Indicies'!D84)","v":0},"","","",69,false,{"$f":"IF(AG71,'Google Index'!E98)","v":false},"",{"$f":"IF(AF71,'Google Index'!F98)","v":0},"","","",69,false,{"$f":"IF(AN71,'Commodity Prices'!D84)","v":0},"",{"$f":"IF(AO71,'Commodity Prices'!E84)","v":false},"","","",69,false,{"$f":"IF(AW71,'Yahoo Stocks'!D101)","v":false},"",{"$f":"IF(AW71,'Yahoo Stocks'!E101)","v":false},"","","",69,false,{"$f":"IF(BE71,'Google Finance Stocks'!D95)","v":false},"",{"$f":"IF(BE71,'Google Finance Stocks'!E95)","v":false},"","","",69,false,{"$f":"'Exchange Rates'!D81","v":0},"",{"$f":"IF(BM71,'Exchange Rates'!E81)","v":false},"","",""]
[null,null,null,null,null,null,null,null,null,null,null,70,"","","","",70,false,{"$f":"IF(R72,'Yahoo Index'!E124,\"\")","v":""},{"$f":"IF(R72,'Yahoo Index'!F124,\"\")","v":""},"","",null,70,false,{"$f":"IF($F$6,'FRED Indicies'!E85)","v":0},"",{"$f":"IF($F$6,'FRED Indicies'!D85)","v":0},"","","",70,false,{"$f":"IF(AG72,'Google Index'!E99)","v":false},"",{"$f":"IF(AF72,'Google Index'!F99)","v":0},"","","",70,false,{"$f":"IF(AN72,'Commodity Prices'!D85)","v":0},"",{"$f":"IF(AO72,'Commodity Prices'!E85)","v":false},"","","",70,false,{"$f":"IF(AW72,'Yahoo Stocks'!D102)","v":false},"",{"$f":"IF(AW72,'Yahoo Stocks'!E102)","v":false},"","","",70,false,{"$f":"IF(BE72,'Google Finance Stocks'!D96)","v":false},"",{"$f":"IF(BE72,'Google Finance Stocks'!E96)","v":false},"","","",70,false,{"$f":"'Exchange Rates'!D82","v":0},"",{"$f":"IF(BM72,'Exchange Rates'!E82)","v":false},"","",""]
[null,null,null,null,null,null,null,null,null,null,null,71,"","","","",71,false,{"$f":"IF(R73,'Yahoo Index'!E125,\"\")","v":""},{"$f":"IF(R73,'Yahoo Index'!F125,\"\")","v":""},"","",null,71,false,{"$f":"IF($F$6,'FRED Indicies'!E86)","v":0},"",{"$f":"IF($F$6,'FRED Indicies'!D86)","v":0},"","","",71,false,{"$f":"IF(AG73,'Google Index'!E100)","v":false},"",{"$f":"IF(AF73,'Google Index'!F100)","v":0},"","","",71,false,{"$f":"IF(AN73,'Commodity Prices'!D86)","v":0},"",{"$f":"IF(AO73,'Commodity Prices'!E86)","v":false},"","","",71,false,{"$f":"IF(AW73,'Yahoo Stocks'!D103)","v":false},"",{"$f":"IF(AW73,'Yahoo Stocks'!E103)","v":false},"","","",71,false,{"$f":"IF(BE73,'Google Finance Stocks'!D97)","v":false},"",{"$f":"IF(BE73,'Google Finance Stocks'!E97)","v":false},"","","",71,false,{"$f":"'Exchange Rates'!D83","v":0},"",{"$f":"IF(BM73,'Exchange Rates'!E83)","v":false},"","",""]
[null,null,null,null,null,null,null,null,null,null,null,72,"","","","",72,false,{"$f":"IF(R74,'Yahoo Index'!E126,\"\")","v":""},{"$f":"IF(R74,'Yahoo Index'!F126,\"\")","v":""},"","",null,72,false,{"$f":"IF($F$6,'FRED Indicies'!E87)","v":0},"",{"$f":"IF($F$6,'FRED Indicies'!D87)","v":0},"","","",72,false,{"$f":"IF(AG74,'Google Index'!E101)","v":false},"",{"$f":"IF(AF74,'Google Index'!F101)","v":0},"","","",72,false,{"$f":"IF(AN74,'Commodity Prices'!D87)","v":0},"",{"$f":"IF(AO74,'Commodity Prices'!E87)","v":false},"","","",72,false,{"$f":"IF(AW74,'Yahoo Stocks'!D104)","v":false},"",{"$f":"IF(AW74,'Yahoo Stocks'!E104)","v":false},"","","",72,false,{"$f":"IF(BE74,'Google Finance Stocks'!D98)","v":false},"",{"$f":"IF(BE74,'Google Finance Stocks'!E98)","v":false},"","","",72,false,{"$f":"'Exchange Rates'!D84","v":0},"",{"$f":"IF(BM74,'Exchange Rates'!E84)","v":false},"","",""]
[null,null,null,null,null,null,null,null,null,null,null,73,"","","","",73,false,{"$f":"IF(R75,'Yahoo Index'!E127,\"\")","v":""},{"$f":"IF(R75,'Yahoo Index'!F127,\"\")","v":""},"","",null,73,false,{"$f":"IF($F$6,'FRED Indicies'!E88)","v":0},"",{"$f":"IF($F$6,'FRED Indicies'!D88)","v":0},"","","",73,false,{"$f":"IF(AG75,'Google Index'!E102)","v":false},"",{"$f":"IF(AF75,'Google Index'!F102)","v":0},"","","",73,false,{"$f":"IF(AN75,'Commodity Prices'!D88)","v":0},"",{"$f":"IF(AO75,'Commodity Prices'!E88)","v":false},"","","",73,false,{"$f":"IF(AW75,'Yahoo Stocks'!D105)","v":false},"",{"$f":"IF(AW75,'Yahoo Stocks'!E105)","v":false},"","","",73,false,{"$f":"IF(BE75,'Google Finance Stocks'!D99)","v":false},"",{"$f":"IF(BE75,'Google Finance Stocks'!E99)","v":false},"","","",73,false,{"$f":"'Exchange Rates'!D85","v":0},"",{"$f":"IF(BM75,'Exchange Rates'!E85)","v":false},"","",""]
[null,null,null,null,null,null,null,null,null,null,null,74,"","","","",74,false,{"$f":"IF(R76,'Yahoo Index'!E128,\"\")","v":""},{"$f":"IF(R76,'Yahoo Index'!F128,\"\")","v":""},"","",null,74,false,{"$f":"IF($F$6,'FRED Indicies'!E89)","v":0},"",{"$f":"IF($F$6,'FRED Indicies'!D89)","v":0},"","","",74,false,{"$f":"IF(AG76,'Google Index'!E103)","v":false},"",{"$f":"IF(AF76,'Google Index'!F103)","v":0},"","","",74,false,{"$f":"IF(AN76,'Commodity Prices'!D89)","v":0},"",{"$f":"IF(AO76,'Commodity Prices'!E89)","v":false},"","","",74,false,{"$f":"IF(AW76,'Yahoo Stocks'!D106)","v":false},"",{"$f":"IF(AW76,'Yahoo Stocks'!E106)","v":false},"","","",74,false,{"$f":"IF(BE76,'Google Finance Stocks'!D100)","v":false},"",{"$f":"IF(BE76,'Google Finance Stocks'!E100)","v":false},"","","",74,false,{"$f":"'Exchange Rates'!D86","v":0},"",{"$f":"IF(BM76,'Exchange Rates'!E86)","v":false},"","",""]
[null,null,null,null,null,null,null,null,null,null,null,75,"","","","",75,false,{"$f":"IF(R77,'Yahoo Index'!E129,\"\")","v":""},{"$f":"IF(R77,'Yahoo Index'!F129,\"\")","v":""},"","",null,75,false,{"$f":"IF($F$6,'FRED Indicies'!E90)","v":0},"",{"$f":"IF($F$6,'FRED Indicies'!D90)","v":0},"","","",75,false,{"$f":"IF(AG77,'Google Index'!E104)","v":false},"",{"$f":"IF(AF77,'Google Index'!F104)","v":0},"","","",75,false,{"$f":"IF(AN77,'Commodity Prices'!D90)","v":0},"",{"$f":"IF(AO77,'Commodity Prices'!E90)","v":false},"","","",75,false,{"$f":"IF(AW77,'Yahoo Stocks'!D107)","v":false},"",{"$f":"IF(AW77,'Yahoo Stocks'!E107)","v":false},"","","",75,false,{"$f":"IF(BE77,'Google Finance Stocks'!D101)","v":false},"",{"$f":"IF(BE77,'Google Finance Stocks'!E101)","v":false},"","","",75,false,{"$f":"'Exchange Rates'!D87","v":0},"",{"$f":"IF(BM77,'Exchange Rates'!E87)","v":false},"","",""]
[null,null,null,null,null,null,null,null,null,null,null,76,"","","","",76,false,{"$f":"IF(R78,'Yahoo Index'!E130,\"\")","v":""},{"$f":"IF(R78,'Yahoo Index'!F130,\"\")","v":""},"","",null,76,false,{"$f":"IF($F$6,'FRED Indicies'!E91)","v":0},"",{"$f":"IF($F$6,'FRED Indicies'!D91)","v":0},"","","",76,false,{"$f":"IF(AG78,'Google Index'!E105)","v":false},"",{"$f":"IF(AF78,'Google Index'!F105)","v":0},"","","",76,false,{"$f":"IF(AN78,'Commodity Prices'!D91)","v":0},"",{"$f":"IF(AO78,'Commodity Prices'!E91)","v":false},"","","",76,false,{"$f":"IF(AW78,'Yahoo Stocks'!D108)","v":false},"",{"$f":"IF(AW78,'Yahoo Stocks'!E108)","v":false},"","","",76,false,{"$f":"IF(BE78,'Google Finance Stocks'!D102)","v":false},"",{"$f":"IF(BE78,'Google Finance Stocks'!E102)","v":false},"","","",76,false,{"$f":"'Exchange Rates'!D88","v":0},"",{"$f":"IF(BM78,'Exchange Rates'!E88)","v":false},"","",""]
[null,null,null,null,null,null,null,null,null,null,null,77,"","","","",77,false,{"$f":"IF(R79,'Yahoo Index'!E131,\"\")","v":""},{"$f":"IF(R79,'Yahoo Index'!F131,\"\")","v":""},"","",null,77,false,{"$f":"IF($F$6,'FRED Indicies'!E92)","v":0},"",{"$f":"IF($F$6,'FRED Indicies'!D92)","v":0},"","","",77,false,{"$f":"IF(AG79,'Google Index'!E106)","v":false},"",{"$f":"IF(AF79,'Google Index'!F106)","v":0},"","","",77,false,{"$f":"IF(AN79,'Commodity Prices'!D92)","v":0},"",{"$f":"IF(AO79,'Commodity Prices'!E92)","v":false},"","","",77,false,{"$f":"IF(AW79,'Yahoo Stocks'!D109)","v":false},"",{"$f":"IF(AW79,'Yahoo Stocks'!E109)","v":false},"","","",77,false,{"$f":"IF(BE79,'Google Finance Stocks'!D103)","v":false},"",{"$f":"IF(BE79,'Google Finance Stocks'!E103)","v":false},"","","",77,false,{"$f":"'Exchange Rates'!D89","v":0},"",{"$f":"IF(BM79,'Exchange Rates'!E89)","v":false},"","",""]
[null,null,null,null,null,null,null,null,null,null,null,78,"","","","",78,false,{"$f":"IF(R80,'Yahoo Index'!E132,\"\")","v":""},{"$f":"IF(R80,'Yahoo Index'!F132,\"\")","v":""},"","",null,78,false,{"$f":"IF($F$6,'FRED Indicies'!E93)","v":0},"",{"$f":"IF($F$6,'FRED Indicies'!D93)","v":0},"","","",78,false,{"$f":"IF(AG80,'Google Index'!E107)","v":false},"",{"$f":"IF(AF80,'Google Index'!F107)","v":0},"","","",78,false,{"$f":"IF(AN80,'Commodity Prices'!D93)","v":0},"",{"$f":"IF(AO80,'Commodity Prices'!E93)","v":false},"","","",78,false,{"$f":"IF(AW80,'Yahoo Stocks'!D110)","v":false},"",{"$f":"IF(AW80,'Yahoo Stocks'!E110)","v":false},"","","",78,false,{"$f":"IF(BE80,'Google Finance Stocks'!D104)","v":false},"",{"$f":"IF(BE80,'Google Finance Stocks'!E104)","v":false},"","","",78,false,{"$f":"'Exchange Rates'!D90","v":0},"",{"$f":"IF(BM80,'Exchange Rates'!E90)","v":false},"","",""]
[null,null,null,null,null,null,null,null,null,null,null,79,"","","","",79,false,{"$f":"IF(R81,'Yahoo Index'!E133,\"\")","v":""},{"$f":"IF(R81,'Yahoo Index'!F133,\"\")","v":""},"","",null,79,false,{"$f":"IF($F$6,'FRED Indicies'!E94)","v":0},"",{"$f":"IF($F$6,'FRED Indicies'!D94)","v":0},"","","",79,false,{"$f":"IF(AG81,'Google Index'!E108)","v":false},"",{"$f":"IF(AF81,'Google Index'!F108)","v":0},"","","",79,false,{"$f":"IF(AN81,'Commodity Prices'!D94)","v":0},"",{"$f":"IF(AO81,'Commodity Prices'!E94)","v":false},"","","",79,false,{"$f":"IF(AW81,'Yahoo Stocks'!D111)","v":false},"",{"$f":"IF(AW81,'Yahoo Stocks'!E111)","v":false},"","","",79,false,{"$f":"IF(BE81,'Google Finance Stocks'!D105)","v":false},"",{"$f":"IF(BE81,'Google Finance Stocks'!E105)","v":false},"","","",79,false,{"$f":"'Exchange Rates'!D91","v":0},"",{"$f":"IF(BM81,'Exchange Rates'!E91)","v":false},"","",""]
[null,null,null,null,null,null,null,null,null,null,null,80,"","","","",80,false,{"$f":"IF(R82,'Yahoo Index'!E134,\"\")","v":""},{"$f":"IF(R82,'Yahoo Index'!F134,\"\")","v":""},"","",null,80,false,{"$f":"IF($F$6,'FRED Indicies'!E95)","v":0},"",{"$f":"IF($F$6,'FRED Indicies'!D95)","v":0},"","","",80,false,{"$f":"IF(AG82,'Google Index'!E109)","v":false},"",{"$f":"IF(AF82,'Google Index'!F109)","v":0},"","","",80,false,{"$f":"IF(AN82,'Commodity Prices'!D95)","v":0},"",{"$f":"IF(AO82,'Commodity Prices'!E95)","v":false},"","","",80,false,{"$f":"IF(AW82,'Yahoo Stocks'!D112)","v":false},"",{"$f":"IF(AW82,'Yahoo Stocks'!E112)","v":false},"","","",80,false,{"$f":"IF(BE82,'Google Finance Stocks'!D106)","v":false},"",{"$f":"IF(BE82,'Google Finance Stocks'!E106)","v":false},"","","",80,false,{"$f":"'Exchange Rates'!D92","v":0},"",{"$f":"IF(BM82,'Exchange Rates'!E92)","v":false},"","",""]
[null,null,null,null,null,null,null,null,null,null,null,81,"","","","",81,false,{"$f":"IF(R83,'Yahoo Index'!E135,\"\")","v":""},{"$f":"IF(R83,'Yahoo Index'!F135,\"\")","v":""},"","",null,81,false,{"$f":"IF($F$6,'FRED Indicies'!E96)","v":0},"",{"$f":"IF($F$6,'FRED Indicies'!D96)","v":0},"","","",81,false,{"$f":"IF(AG83,'Google Index'!E110)","v":false},"",{"$f":"IF(AF83,'Google Index'!F110)","v":0},"","","",81,false,{"$f":"IF(AN83,'Commodity Prices'!D96)","v":0},"",{"$f":"IF(AO83,'Commodity Prices'!E96)","v":false},"","","",81,false,{"$f":"IF(AW83,'Yahoo Stocks'!D113)","v":false},"",{"$f":"IF(AW83,'Yahoo Stocks'!E113)","v":false},"","","",81,false,{"$f":"IF(BE83,'Google Finance Stocks'!D107)","v":false},"",{"$f":"IF(BE83,'Google Finance Stocks'!E107)","v":false},"","","",81,false,{"$f":"'Exchange Rates'!D93","v":0},"",{"$f":"IF(BM83,'Exchange Rates'!E93)","v":false},"","",""]
[null,null,null,null,null,null,null,null,null,null,null,82,"","","","",82,false,{"$f":"IF(R84,'Yahoo Index'!E136,\"\")","v":""},{"$f":"IF(R84,'Yahoo Index'!F136,\"\")","v":""},"","",null,82,false,{"$f":"IF($F$6,'FRED Indicies'!E97)","v":0},"",{"$f":"IF($F$6,'FRED Indicies'!D97)","v":0},"","","",82,false,{"$f":"IF(AG84,'Google Index'!E111)","v":false},"",{"$f":"IF(AF84,'Google Index'!F111)","v":0},"","","",82,false,{"$f":"IF(AN84,'Commodity Prices'!D97)","v":0},"",{"$f":"IF(AO84,'Commodity Prices'!E97)","v":false},"","","",82,false,{"$f":"IF(AW84,'Yahoo Stocks'!D114)","v":false},"",{"$f":"IF(AW84,'Yahoo Stocks'!E114)","v":false},"","","",82,false,{"$f":"IF(BE84,'Google Finance Stocks'!D108)","v":false},"",{"$f":"IF(BE84,'Google Finance Stocks'!E108)","v":false},"","","",82,false,{"$f":"'Exchange Rates'!D94","v":0},"",{"$f":"IF(BM84,'Exchange Rates'!E94)","v":false},"","",""]
[null,null,null,null,null,null,null,null,null,null,null,83,"","","","",83,false,{"$f":"IF(R85,'Yahoo Index'!E137,\"\")","v":""},{"$f":"IF(R85,'Yahoo Index'!F137,\"\")","v":""},"","",null,83,false,{"$f":"IF($F$6,'FRED Indicies'!E98)","v":0},"",{"$f":"IF($F$6,'FRED Indicies'!D98)","v":0},"","","",83,false,{"$f":"IF(AG85,'Google Index'!E112)","v":false},"",{"$f":"IF(AF85,'Google Index'!F112)","v":0},"","","",83,false,{"$f":"IF(AN85,'Commodity Prices'!D98)","v":0},"",{"$f":"IF(AO85,'Commodity Prices'!E98)","v":false},"","","",83,false,{"$f":"IF(AW85,'Yahoo Stocks'!D115)","v":false},"",{"$f":"IF(AW85,'Yahoo Stocks'!E115)","v":false},"","","",83,false,{"$f":"IF(BE85,'Google Finance Stocks'!D109)","v":false},"",{"$f":"IF(BE85,'Google Finance Stocks'!E109)","v":false},"","","",83,false,{"$f":"'Exchange Rates'!D95","v":0},"",{"$f":"IF(BM85,'Exchange Rates'!E95)","v":false},"","",""]
[null,null,null,null,null,null,null,null,null,null,null,84,"","","","",84,false,{"$f":"IF(R86,'Yahoo Index'!E138,\"\")","v":""},{"$f":"IF(R86,'Yahoo Index'!F138,\"\")","v":""},"","",null,84,false,{"$f":"IF($F$6,'FRED Indicies'!E99)","v":0},"",{"$f":"IF($F$6,'FRED Indicies'!D99)","v":0},"","","",84,false,{"$f":"IF(AG86,'Google Index'!E113)","v":false},"",{"$f":"IF(AF86,'Google Index'!F113)","v":0},"","","",84,false,{"$f":"IF(AN86,'Commodity Prices'!D99)","v":0},"",{"$f":"IF(AO86,'Commodity Prices'!E99)","v":false},"","","",84,false,{"$f":"IF(AW86,'Yahoo Stocks'!D116)","v":false},"",{"$f":"IF(AW86,'Yahoo Stocks'!E116)","v":false},"","","",84,false,{"$f":"IF(BE86,'Google Finance Stocks'!D110)","v":false},"",{"$f":"IF(BE86,'Google Finance Stocks'!E110)","v":false},"","","",84,false,{"$f":"'Exchange Rates'!D96","v":0},"",{"$f":"IF(BM86,'Exchange Rates'!E96)","v":false},"","",""]
[null,null,null,null,null,null,null,null,null,null,null,85,"","","","",85,false,{"$f":"IF(R87,'Yahoo Index'!E139,\"\")","v":""},{"$f":"IF(R87,'Yahoo Index'!F139,\"\")","v":""},"","",null,85,false,{"$f":"IF($F$6,'FRED Indicies'!E100)","v":0},"",{"$f":"IF($F$6,'FRED Indicies'!D100)","v":0},"","","",85,false,{"$f":"IF(AG87,'Google Index'!E114)","v":false},"",{"$f":"IF(AF87,'Google Index'!F114)","v":0},"","","",85,false,{"$f":"IF(AN87,'Commodity Prices'!D100)","v":0},"",{"$f":"IF(AO87,'Commodity Prices'!E100)","v":false},"","","",85,false,{"$f":"IF(AW87,'Yahoo Stocks'!D117)","v":false},"",{"$f":"IF(AW87,'Yahoo Stocks'!E117)","v":false},"","","",85,false,{"$f":"IF(BE87,'Google Finance Stocks'!D111)","v":false},"",{"$f":"IF(BE87,'Google Finance Stocks'!E111)","v":false},"","","",85,false,{"$f":"'Exchange Rates'!D97","v":0},"",{"$f":"IF(BM87,'Exchange Rates'!E97)","v":false},"","",""]
[null,null,null,null,null,null,null,null,null,null,null,86,"","","","",86,false,{"$f":"IF(R88,'Yahoo Index'!E140,\"\")","v":""},{"$f":"IF(R88,'Yahoo Index'!F140,\"\")","v":""},"","",null,86,false,{"$f":"IF($F$6,'FRED Indicies'!E101)","v":0},"",{"$f":"IF($F$6,'FRED Indicies'!D101)","v":0},"","","",86,false,{"$f":"IF(AG88,'Google Index'!E115)","v":false},"",{"$f":"IF(AF88,'Google Index'!F115)","v":0},"","","",86,false,{"$f":"IF(AN88,'Commodity Prices'!D101)","v":0},"",{"$f":"IF(AO88,'Commodity Prices'!E101)","v":false},"","","",86,false,{"$f":"IF(AW88,'Yahoo Stocks'!D118)","v":false},"",{"$f":"IF(AW88,'Yahoo Stocks'!E118)","v":false},"","","",86,false,{"$f":"IF(BE88,'Google Finance Stocks'!D112)","v":false},"",{"$f":"IF(BE88,'Google Finance Stocks'!E112)","v":false},"","","",86,false,{"$f":"'Exchange Rates'!D98","v":0},"",{"$f":"IF(BM88,'Exchange Rates'!E98)","v":false},"","",""]
[null,null,null,null,null,null,null,null,null,null,null,87,"","","","",87,false,{"$f":"IF(R89,'Yahoo Index'!E141,\"\")","v":""},{"$f":"IF(R89,'Yahoo Index'!F141,\"\")","v":""},"","",null,87,false,{"$f":"IF($F$6,'FRED Indicies'!E102)","v":0},"",{"$f":"IF($F$6,'FRED Indicies'!D102)","v":0},"","","",87,false,{"$f":"IF(AG89,'Google Index'!E116)","v":false},"",{"$f":"IF(AF89,'Google Index'!F116)","v":0},"","","",87,false,{"$f":"IF(AN89,'Commodity Prices'!D102)","v":0},"",{"$f":"IF(AO89,'Commodity Prices'!E102)","v":false},"","","",87,false,{"$f":"IF(AW89,'Yahoo Stocks'!D119)","v":false},"",{"$f":"IF(AW89,'Yahoo Stocks'!E119)","v":false},"","","",87,false,{"$f":"IF(BE89,'Google Finance Stocks'!D113)","v":false},"",{"$f":"IF(BE89,'Google Finance Stocks'!E113)","v":false},"","","",87,false,{"$f":"'Exchange Rates'!D99","v":0},"",{"$f":"IF(BM89,'Exchange Rates'!E99)","v":false},"","",""]
[null,null,null,null,null,null,null,null,null,null,null,88,"","","","",88,false,{"$f":"IF(R90,'Yahoo Index'!E142,\"\")","v":""},{"$f":"IF(R90,'Yahoo Index'!F142,\"\")","v":""},"","",null,88,false,{"$f":"IF($F$6,'FRED Indicies'!E103)","v":0},"",{"$f":"IF($F$6,'FRED Indicies'!D103)","v":0},"","","",88,false,{"$f":"IF(AG90,'Google Index'!E117)","v":false},"",{"$f":"IF(AF90,'Google Index'!F117)","v":0},"","","",88,false,{"$f":"IF(AN90,'Commodity Prices'!D103)","v":0},"",{"$f":"IF(AO90,'Commodity Prices'!E103)","v":false},"","","",88,false,{"$f":"IF(AW90,'Yahoo Stocks'!D120)","v":false},"",{"$f":"IF(AW90,'Yahoo Stocks'!E120)","v":false},"","","",88,false,{"$f":"IF(BE90,'Google Finance Stocks'!D114)","v":false},"",{"$f":"IF(BE90,'Google Finance Stocks'!E114)","v":false},"","","",88,false,{"$f":"'Exchange Rates'!D100","v":0},"",{"$f":"IF(BM90,'Exchange Rates'!E100)","v":false},"","",""]
[null,null,null,null,null,null,null,null,null,null,null,89,"","","","",89,false,{"$f":"IF(R91,'Yahoo Index'!E143,\"\")","v":""},{"$f":"IF(R91,'Yahoo Index'!F143,\"\")","v":""},"","",null,89,false,{"$f":"IF($F$6,'FRED Indicies'!E104)","v":0},"",{"$f":"IF($F$6,'FRED Indicies'!D104)","v":0},"","","",89,false,{"$f":"IF(AG91,'Google Index'!E118)","v":false},"",{"$f":"IF(AF91,'Google Index'!F118)","v":0},"","","",89,false,{"$f":"IF(AN91,'Commodity Prices'!D104)","v":0},"",{"$f":"IF(AO91,'Commodity Prices'!E104)","v":false},"","","",89,false,{"$f":"IF(AW91,'Yahoo Stocks'!D121)","v":false},"",{"$f":"IF(AW91,'Yahoo Stocks'!E121)","v":false},"","","",89,false,{"$f":"IF(BE91,'Google Finance Stocks'!D115)","v":false},"",{"$f":"IF(BE91,'Google Finance Stocks'!E115)","v":false},"","","",89,false,{"$f":"'Exchange Rates'!D101","v":0},"",{"$f":"IF(BM91,'Exchange Rates'!E101)","v":false},"","",""]
[null,null,null,null,null,null,null,null,null,null,null,90,"","","","",90,false,{"$f":"IF(R92,'Yahoo Index'!E144,\"\")","v":""},{"$f":"IF(R92,'Yahoo Index'!F144,\"\")","v":""},"","",null,90,false,{"$f":"IF($F$6,'FRED Indicies'!E105)","v":0},"",{"$f":"IF($F$6,'FRED Indicies'!D105)","v":0},"","","",90,false,{"$f":"IF(AG92,'Google Index'!E119)","v":false},"",{"$f":"IF(AF92,'Google Index'!F119)","v":0},"","","",90,false,{"$f":"IF(AN92,'Commodity Prices'!D105)","v":0},"",{"$f":"IF(AO92,'Commodity Prices'!E105)","v":false},"","","",90,false,{"$f":"IF(AW92,'Yahoo Stocks'!D122)","v":false},"",{"$f":"IF(AW92,'Yahoo Stocks'!E122)","v":false},"","","",90,false,{"$f":"IF(BE92,'Google Finance Stocks'!D116)","v":false},"",{"$f":"IF(BE92,'Google Finance Stocks'!E116)","v":false},"","","",90,false,{"$f":"'Exchange Rates'!D102","v":0},"",{"$f":"IF(BM92,'Exchange Rates'!E102)","v":false},"","",""]
[null,null,null,null,null,null,null,null,null,null,null,91,"","","","",91,false,{"$f":"IF(R93,'Yahoo Index'!E145,\"\")","v":""},{"$f":"IF(R93,'Yahoo Index'!F145,\"\")","v":""},"","",null,91,false,{"$f":"IF($F$6,'FRED Indicies'!E106)","v":0},"",{"$f":"IF($F$6,'FRED Indicies'!D106)","v":0},"","","",91,false,{"$f":"IF(AG93,'Google Index'!E120)","v":false},"",{"$f":"IF(AF93,'Google Index'!F120)","v":0},"","","",91,false,{"$f":"IF(AN93,'Commodity Prices'!D106)","v":0},"",{"$f":"IF(AO93,'Commodity Prices'!E106)","v":false},"","","",91,false,{"$f":"IF(AW93,'Yahoo Stocks'!D123)","v":false},"",{"$f":"IF(AW93,'Yahoo Stocks'!E123)","v":false},"","","",91,false,{"$f":"IF(BE93,'Google Finance Stocks'!D117)","v":false},"",{"$f":"IF(BE93,'Google Finance Stocks'!E117)","v":false},"","","",91,false,{"$f":"'Exchange Rates'!D103","v":0},"",{"$f":"IF(BM93,'Exchange Rates'!E103)","v":false},"","",""]
[null,null,null,null,null,null,null,null,null,null,null,92,"","","","",92,false,{"$f":"IF(R94,'Yahoo Index'!E146,\"\")","v":""},{"$f":"IF(R94,'Yahoo Index'!F146,\"\")","v":""},"","",null,92,false,{"$f":"IF($F$6,'FRED Indicies'!E107)","v":0},"",{"$f":"IF($F$6,'FRED Indicies'!D107)","v":0},"","","",92,false,{"$f":"IF(AG94,'Google Index'!E121)","v":false},"",{"$f":"IF(AF94,'Google Index'!F121)","v":0},"","","",92,false,{"$f":"IF(AN94,'Commodity Prices'!D107)","v":0},"",{"$f":"IF(AO94,'Commodity Prices'!E107)","v":false},"","","",92,false,{"$f":"IF(AW94,'Yahoo Stocks'!D124)","v":false},"",{"$f":"IF(AW94,'Yahoo Stocks'!E124)","v":false},"","","",92,false,{"$f":"IF(BE94,'Google Finance Stocks'!D118)","v":false},"",{"$f":"IF(BE94,'Google Finance Stocks'!E118)","v":false},"","","",92,false,{"$f":"'Exchange Rates'!D104","v":0},"",{"$f":"IF(BM94,'Exchange Rates'!E104)","v":false},"","",""]
[null,null,null,null,null,null,null,null,null,null,null,93,"","","","",93,false,{"$f":"IF(R95,'Yahoo Index'!E147,\"\")","v":""},{"$f":"IF(R95,'Yahoo Index'!F147,\"\")","v":""},"","",null,93,false,{"$f":"IF($F$6,'FRED Indicies'!E108)","v":0},"",{"$f":"IF($F$6,'FRED Indicies'!D108)","v":0},"","","",93,false,{"$f":"IF(AG95,'Google Index'!E122)","v":false},"",{"$f":"IF(AF95,'Google Index'!F122)","v":0},"","","",93,false,{"$f":"IF(AN95,'Commodity Prices'!D108)","v":0},"",{"$f":"IF(AO95,'Commodity Prices'!E108)","v":false},"","","",93,false,{"$f":"IF(AW95,'Yahoo Stocks'!D125)","v":false},"",{"$f":"IF(AW95,'Yahoo Stocks'!E125)","v":false},"","","",93,false,{"$f":"IF(BE95,'Google Finance Stocks'!D119)","v":false},"",{"$f":"IF(BE95,'Google Finance Stocks'!E119)","v":false},"","","",93,false,{"$f":"'Exchange Rates'!D105","v":0},"",{"$f":"IF(BM95,'Exchange Rates'!E105)","v":false},"","",""]
[null,null,null,null,null,null,null,null,null,null,null,94,"","","","",94,false,{"$f":"IF(R96,'Yahoo Index'!E148,\"\")","v":""},{"$f":"IF(R96,'Yahoo Index'!F148,\"\")","v":""},"","",null,94,false,{"$f":"IF($F$6,'FRED Indicies'!E109)","v":0},"",{"$f":"IF($F$6,'FRED Indicies'!D109)","v":0},"","","",94,false,{"$f":"IF(AG96,'Google Index'!E123)","v":false},"",{"$f":"IF(AF96,'Google Index'!F123)","v":0},"","","",94,false,{"$f":"IF(AN96,'Commodity Prices'!D109)","v":0},"",{"$f":"IF(AO96,'Commodity Prices'!E109)","v":false},"","","",94,false,{"$f":"IF(AW96,'Yahoo Stocks'!D126)","v":false},"",{"$f":"IF(AW96,'Yahoo Stocks'!E126)","v":false},"","","",94,false,{"$f":"IF(BE96,'Google Finance Stocks'!D120)","v":false},"",{"$f":"IF(BE96,'Google Finance Stocks'!E120)","v":false},"","","",94,false,{"$f":"'Exchange Rates'!D106","v":0},"",{"$f":"IF(BM96,'Exchange Rates'!E106)","v":false},"","",""]
[null,null,null,null,null,null,null,null,null,null,null,95,"","","","",95,false,{"$f":"IF(R97,'Yahoo Index'!E149,\"\")","v":""},{"$f":"IF(R97,'Yahoo Index'!F149,\"\")","v":""},"","",null,95,false,{"$f":"IF($F$6,'FRED Indicies'!E110)","v":0},"",{"$f":"IF($F$6,'FRED Indicies'!D110)","v":0},"","","",95,false,{"$f":"IF(AG97,'Google Index'!E124)","v":false},"",{"$f":"IF(AF97,'Google Index'!F124)","v":0},"","","",95,false,{"$f":"IF(AN97,'Commodity Prices'!D110)","v":0},"",{"$f":"IF(AO97,'Commodity Prices'!E110)","v":false},"","","",95,false,{"$f":"IF(AW97,'Yahoo Stocks'!D127)","v":false},"",{"$f":"IF(AW97,'Yahoo Stocks'!E127)","v":false},"","","",95,false,{"$f":"IF(BE97,'Google Finance Stocks'!D121)","v":false},"",{"$f":"IF(BE97,'Google Finance Stocks'!E121)","v":false},"","","",95,false,{"$f":"'Exchange Rates'!D107","v":0},"",{"$f":"IF(BM97,'Exchange Rates'!E107)","v":false},"","",""]
[null,null,null,null,null,null,null,null,null,null,null,96,"","","","",96,false,{"$f":"IF(R98,'Yahoo Index'!E150,\"\")","v":""},{"$f":"IF(R98,'Yahoo Index'!F150,\"\")","v":""},"","",null,96,false,{"$f":"IF($F$6,'FRED Indicies'!E111)","v":0},"",{"$f":"IF($F$6,'FRED Indicies'!D111)","v":0},"","","",96,false,{"$f":"IF(AG98,'Google Index'!E125)","v":false},"",{"$f":"IF(AF98,'Google Index'!F125)","v":0},"","","",96,false,{"$f":"IF(AN98,'Commodity Prices'!D111)","v":0},"",{"$f":"IF(AO98,'Commodity Prices'!E111)","v":false},"","","",96,false,{"$f":"IF(AW98,'Yahoo Stocks'!D128)","v":false},"",{"$f":"IF(AW98,'Yahoo Stocks'!E128)","v":false},"","","",96,false,{"$f":"IF(BE98,'Google Finance Stocks'!D122)","v":false},"",{"$f":"IF(BE98,'Google Finance Stocks'!E122)","v":false},"","","",96,false,{"$f":"'Exchange Rates'!D108","v":0},"",{"$f":"IF(BM98,'Exchange Rates'!E108)","v":false},"","",""]
[null,null,null,null,null,null,null,null,null,null,null,97,"","","","",97,false,{"$f":"IF(R99,'Yahoo Index'!E151,\"\")","v":""},{"$f":"IF(R99,'Yahoo Index'!F151,\"\")","v":""},"","",null,97,false,{"$f":"IF($F$6,'FRED Indicies'!E112)","v":0},"",{"$f":"IF($F$6,'FRED Indicies'!D112)","v":0},"","","",97,false,{"$f":"IF(AG99,'Google Index'!E126)","v":false},"",{"$f":"IF(AF99,'Google Index'!F126)","v":0},"","","",97,false,{"$f":"IF(AN99,'Commodity Prices'!D112)","v":0},"",{"$f":"IF(AO99,'Commodity Prices'!E112)","v":false},"","","",97,false,{"$f":"IF(AW99,'Yahoo Stocks'!D129)","v":false},"",{"$f":"IF(AW99,'Yahoo Stocks'!E129)","v":false},"","","",97,false,{"$f":"IF(BE99,'Google Finance Stocks'!D123)","v":false},"",{"$f":"IF(BE99,'Google Finance Stocks'!E123)","v":false},"","","",97,false,{"$f":"'Exchange Rates'!D109","v":0},"",{"$f":"IF(BM99,'Exchange Rates'!E109)","v":false},"","",""]
[null,null,null,null,null,null,null,null,null,null,null,98,"","","","",98,false,{"$f":"IF(R100,'Yahoo Index'!E152,\"\")","v":""},{"$f":"IF(R100,'Yahoo Index'!F152,\"\")","v":""},"","",null,98,false,{"$f":"IF($F$6,'FRED Indicies'!E113)","v":0},"",{"$f":"IF($F$6,'FRED Indicies'!D113)","v":0},"","","",98,false,{"$f":"IF(AG100,'Google Index'!E127)","v":false},"",{"$f":"IF(AF100,'Google Index'!F127)","v":0},"","","",98,false,{"$f":"IF(AN100,'Commodity Prices'!D113)","v":0},"",{"$f":"IF(AO100,'Commodity Prices'!E113)","v":false},"","","",98,false,{"$f":"IF(AW100,'Yahoo Stocks'!D130)","v":false},"",{"$f":"IF(AW100,'Yahoo Stocks'!E130)","v":false},"","","",98,false,{"$f":"IF(BE100,'Google Finance Stocks'!D124)","v":false},"",{"$f":"IF(BE100,'Google Finance Stocks'!E124)","v":false},"","","",98,false,{"$f":"'Exchange Rates'!D110","v":0},"",{"$f":"IF(BM100,'Exchange Rates'!E110)","v":false},"","",""]
[null,null,null,null,null,null,null,null,null,null,null,99,"","","","",99,false,{"$f":"IF(R101,'Yahoo Index'!E153,\"\")","v":""},{"$f":"IF(R101,'Yahoo Index'!F153,\"\")","v":""},"","",null,99,false,{"$f":"IF($F$6,'FRED Indicies'!E114)","v":0},"",{"$f":"IF($F$6,'FRED Indicies'!D114)","v":0},"","","",99,false,{"$f":"IF(AG101,'Google Index'!E128)","v":false},"",{"$f":"IF(AF101,'Google Index'!F128)","v":0},"","","",99,false,{"$f":"IF(AN101,'Commodity Prices'!D114)","v":0},"",{"$f":"IF(AO101,'Commodity Prices'!E114)","v":false},"","","",99,false,{"$f":"IF(AW101,'Yahoo Stocks'!D131)","v":false},"",{"$f":"IF(AW101,'Yahoo Stocks'!E131)","v":false},"","","",99,false,{"$f":"IF(BE101,'Google Finance Stocks'!D125)","v":false},"",{"$f":"IF(BE101,'Google Finance Stocks'!E125)","v":false},"","","",99,false,{"$f":"'Exchange Rates'!D111","v":0},"",{"$f":"IF(BM101,'Exchange Rates'!E111)","v":false},"","",""]
[null,null,null,null,null,null,null,null,null,null,null,100,"","","","",100,false,{"$f":"IF(R102,'Yahoo Index'!E154,\"\")","v":""},{"$f":"IF(R102,'Yahoo Index'!F154,\"\")","v":""},"","",null,100,false,{"$f":"IF($F$6,'FRED Indicies'!E115)","v":0},"",{"$f":"IF($F$6,'FRED Indicies'!D115)","v":0},"","","",100,false,{"$f":"IF(AG102,'Google Index'!E129)","v":false},"",{"$f":"IF(AF102,'Google Index'!F129)","v":0},"","","",100,false,{"$f":"IF(AN102,'Commodity Prices'!D115)","v":0},"",{"$f":"IF(AO102,'Commodity Prices'!E115)","v":false},"","","",100,false,{"$f":"IF(AW102,'Yahoo Stocks'!D132)","v":false},"",{"$f":"IF(AW102,'Yahoo Stocks'!E132)","v":false},"","","",100,false,{"$f":"IF(BE102,'Google Finance Stocks'!D126)","v":false},"",{"$f":"IF(BE102,'Google Finance Stocks'!E126)","v":false},"","","",100,false,{"$f":"'Exchange Rates'!D112","v":0},"",{"$f":"IF(BM102,'Exchange Rates'!E112)","v":false},"","",""]
[null,null,null,null,null,null,null,null,null,null,null,101,"","","","",101,false,{"$f":"IF(R103,'Yahoo Index'!E155,\"\")","v":""},{"$f":"IF(R103,'Yahoo Index'!F155,\"\")","v":""},"","",null,101,false,{"$f":"IF($F$6,'FRED Indicies'!E116)","v":0},"",{"$f":"IF($F$6,'FRED Indicies'!D116)","v":0},"","","",101,false,{"$f":"IF(AG103,'Google Index'!E130)","v":false},"",{"$f":"IF(AF103,'Google Index'!F130)","v":0},"","","",101,false,{"$f":"IF(AN103,'Commodity Prices'!D116)","v":0},"",{"$f":"IF(AO103,'Commodity Prices'!E116)","v":false},"","","",101,false,{"$f":"IF(AW103,'Yahoo Stocks'!D133)","v":false},"",{"$f":"IF(AW103,'Yahoo Stocks'!E133)","v":false},"","","",101,false,{"$f":"IF(BE103,'Google Finance Stocks'!D127)","v":false},"",{"$f":"IF(BE103,'Google Finance Stocks'!E127)","v":false},"","","",101,false,{"$f":"'Exchange Rates'!D113","v":0},"",{"$f":"IF(BM103,'Exchange Rates'!E113)","v":false},"","",""]
[null,null,null,null,null,null,null,null,null,null,null,102,"","","","",102,false,{"$f":"IF(R104,'Yahoo Index'!E156,\"\")","v":""},{"$f":"IF(R104,'Yahoo Index'!F156,\"\")","v":""},"","",null,102,false,{"$f":"IF($F$6,'FRED Indicies'!E117)","v":0},"",{"$f":"IF($F$6,'FRED Indicies'!D117)","v":0},"","","",102,false,{"$f":"IF(AG104,'Google Index'!E131)","v":false},"",{"$f":"IF(AF104,'Google Index'!F131)","v":0},"","","",102,false,{"$f":"IF(AN104,'Commodity Prices'!D117)","v":0},"",{"$f":"IF(AO104,'Commodity Prices'!E117)","v":false},"","","",102,false,{"$f":"IF(AW104,'Yahoo Stocks'!D134)","v":false},"",{"$f":"IF(AW104,'Yahoo Stocks'!E134)","v":false},"","","",102,false,{"$f":"IF(BE104,'Google Finance Stocks'!D128)","v":false},"",{"$f":"IF(BE104,'Google Finance Stocks'!E128)","v":false},"","","",102,false,{"$f":"'Exchange Rates'!D114","v":0},"",{"$f":"IF(BM104,'Exchange Rates'!E114)","v":false},"","",""]
[null,null,null,null,null,null,null,null,null,null,null,103,"","","","",103,false,{"$f":"IF(R105,'Yahoo Index'!E157,\"\")","v":""},{"$f":"IF(R105,'Yahoo Index'!F157,\"\")","v":""},"","",null,103,false,{"$f":"IF($F$6,'FRED Indicies'!E118)","v":0},"",{"$f":"IF($F$6,'FRED Indicies'!D118)","v":0},"","","",103,false,{"$f":"IF(AG105,'Google Index'!E132)","v":false},"",{"$f":"IF(AF105,'Google Index'!F132)","v":0},"","","",103,false,{"$f":"IF(AN105,'Commodity Prices'!D118)","v":0},"",{"$f":"IF(AO105,'Commodity Prices'!E118)","v":false},"","","",103,false,{"$f":"IF(AW105,'Yahoo Stocks'!D135)","v":false},"",{"$f":"IF(AW105,'Yahoo Stocks'!E135)","v":false},"","","",103,false,{"$f":"IF(BE105,'Google Finance Stocks'!D129)","v":false},"",{"$f":"IF(BE105,'Google Finance Stocks'!E129)","v":false},"","","",103,false,{"$f":"'Exchange Rates'!D115","v":0},"",{"$f":"IF(BM105,'Exchange Rates'!E115)","v":false},"","",""]
[null,null,null,null,null,null,null,null,null,null,null,104,"","","","",104,false,{"$f":"IF(R106,'Yahoo Index'!E158,\"\")","v":""},{"$f":"IF(R106,'Yahoo Index'!F158,\"\")","v":""},"","",null,104,false,{"$f":"IF($F$6,'FRED Indicies'!E119)","v":0},"",{"$f":"IF($F$6,'FRED Indicies'!D119)","v":0},"","","",104,false,{"$f":"IF(AG106,'Google Index'!E133)","v":false},"",{"$f":"IF(AF106,'Google Index'!F133)","v":0},"","","",104,false,{"$f":"IF(AN106,'Commodity Prices'!D119)","v":0},"",{"$f":"IF(AO106,'Commodity Prices'!E119)","v":false},"","","",104,false,{"$f":"IF(AW106,'Yahoo Stocks'!D136)","v":false},"",{"$f":"IF(AW106,'Yahoo Stocks'!E136)","v":false},"","","",104,false,{"$f":"IF(BE106,'Google Finance Stocks'!D130)","v":false},"",{"$f":"IF(BE106,'Google Finance Stocks'!E130)","v":false},"","","",104,false,{"$f":"'Exchange Rates'!D116","v":0},"",{"$f":"IF(BM106,'Exchange Rates'!E116)","v":false},"","",""]
[null,null,null,null,null,null,null,null,null,null,null,105,"","","","",105,false,{"$f":"IF(R107,'Yahoo Index'!E159,\"\")","v":""},{"$f":"IF(R107,'Yahoo Index'!F159,\"\")","v":""},"","",null,105,false,{"$f":"IF($F$6,'FRED Indicies'!E120)","v":0},"",{"$f":"IF($F$6,'FRED Indicies'!D120)","v":0},"","","",105,false,{"$f":"IF(AG107,'Google Index'!E134)","v":false},"",{"$f":"IF(AF107,'Google Index'!F134)","v":0},"","","",105,false,{"$f":"IF(AN107,'Commodity Prices'!D120)","v":0},"",{"$f":"IF(AO107,'Commodity Prices'!E120)","v":false},"","","",105,false,{"$f":"IF(AW107,'Yahoo Stocks'!D137)","v":false},"",{"$f":"IF(AW107,'Yahoo Stocks'!E137)","v":false},"","","",105,false,{"$f":"IF(BE107,'Google Finance Stocks'!D131)","v":false},"",{"$f":"IF(BE107,'Google Finance Stocks'!E131)","v":false},"","","",105,false,{"$f":"'Exchange Rates'!D117","v":0},"",{"$f":"IF(BM107,'Exchange Rates'!E117)","v":false},"","",""]
[null,null,null,null,null,null,null,null,null,null,null,106,"","","","",106,false,{"$f":"IF(R108,'Yahoo Index'!E160,\"\")","v":""},{"$f":"IF(R108,'Yahoo Index'!F160,\"\")","v":""},"","",null,106,false,{"$f":"IF($F$6,'FRED Indicies'!E121)","v":0},"",{"$f":"IF($F$6,'FRED Indicies'!D121)","v":0},"","","",106,false,{"$f":"IF(AG108,'Google Index'!E135)","v":false},"",{"$f":"IF(AF108,'Google Index'!F135)","v":0},"","","",106,false,{"$f":"IF(AN108,'Commodity Prices'!D121)","v":0},"",{"$f":"IF(AO108,'Commodity Prices'!E121)","v":false},"","","",106,false,{"$f":"IF(AW108,'Yahoo Stocks'!D138)","v":false},"",{"$f":"IF(AW108,'Yahoo Stocks'!E138)","v":false},"","","",106,false,{"$f":"IF(BE108,'Google Finance Stocks'!D132)","v":false},"",{"$f":"IF(BE108,'Google Finance Stocks'!E132)","v":false},"","","",106,false,{"$f":"'Exchange Rates'!D118","v":0},"",{"$f":"IF(BM108,'Exchange Rates'!E118)","v":false},"","",""]
[null,null,null,null,null,null,null,null,null,null,null,107,"","","","",107,false,{"$f":"IF(R109,'Yahoo Index'!E161,\"\")","v":""},{"$f":"IF(R109,'Yahoo Index'!F161,\"\")","v":""},"","",null,107,false,{"$f":"IF($F$6,'FRED Indicies'!E122)","v":0},"",{"$f":"IF($F$6,'FRED Indicies'!D122)","v":0},"","","",107,false,{"$f":"IF(AG109,'Google Index'!E136)","v":false},"",{"$f":"IF(AF109,'Google Index'!F136)","v":0},"","","",107,false,{"$f":"IF(AN109,'Commodity Prices'!D122)","v":0},"",{"$f":"IF(AO109,'Commodity Prices'!E122)","v":false},"","","",107,false,{"$f":"IF(AW109,'Yahoo Stocks'!D139)","v":false},"",{"$f":"IF(AW109,'Yahoo Stocks'!E139)","v":false},"","","",107,false,{"$f":"IF(BE109,'Google Finance Stocks'!D133)","v":false},"",{"$f":"IF(BE109,'Google Finance Stocks'!E133)","v":false},"","","",107,false,{"$f":"'Exchange Rates'!D119","v":0},"",{"$f":"IF(BM109,'Exchange Rates'!E119)","v":false},"","",""]
[null,null,null,null,null,null,null,null,null,null,null,108,"","","","",108,false,{"$f":"IF(R110,'Yahoo Index'!E162,\"\")","v":""},{"$f":"IF(R110,'Yahoo Index'!F162,\"\")","v":""},"","",null,108,false,{"$f":"IF($F$6,'FRED Indicies'!E123)","v":0},"",{"$f":"IF($F$6,'FRED Indicies'!D123)","v":0},"","","",108,false,{"$f":"IF(AG110,'Google Index'!E137)","v":false},"",{"$f":"IF(AF110,'Google Index'!F137)","v":0},"","","",108,false,{"$f":"IF(AN110,'Commodity Prices'!D123)","v":0},"",{"$f":"IF(AO110,'Commodity Prices'!E123)","v":false},"","","",108,false,{"$f":"IF(AW110,'Yahoo Stocks'!D140)","v":false},"",{"$f":"IF(AW110,'Yahoo Stocks'!E140)","v":false},"","","",108,false,{"$f":"IF(BE110,'Google Finance Stocks'!D134)","v":false},"",{"$f":"IF(BE110,'Google Finance Stocks'!E134)","v":false},"","","",108,false,{"$f":"'Exchange Rates'!D120","v":0},"",{"$f":"IF(BM110,'Exchange Rates'!E120)","v":false},"","",""]
[null,null,null,null,null,null,null,null,null,null,null,109,"","","","",109,false,{"$f":"IF(R111,'Yahoo Index'!E163,\"\")","v":""},{"$f":"IF(R111,'Yahoo Index'!F163,\"\")","v":""},"","",null,109,false,{"$f":"IF($F$6,'FRED Indicies'!E124)","v":0},"",{"$f":"IF($F$6,'FRED Indicies'!D124)","v":0},"","","",109,false,{"$f":"IF(AG111,'Google Index'!E138)","v":false},"",{"$f":"IF(AF111,'Google Index'!F138)","v":0},"","","",109,false,{"$f":"IF(AN111,'Commodity Prices'!D124)","v":0},"",{"$f":"IF(AO111,'Commodity Prices'!E124)","v":false},"","","",109,false,{"$f":"IF(AW111,'Yahoo Stocks'!D141)","v":false},"",{"$f":"IF(AW111,'Yahoo Stocks'!E141)","v":false},"","","",109,false,{"$f":"IF(BE111,'Google Finance Stocks'!D135)","v":false},"",{"$f":"IF(BE111,'Google Finance Stocks'!E135)","v":false},"","","",109,false,{"$f":"'Exchange Rates'!D121","v":0},"",{"$f":"IF(BM111,'Exchange Rates'!E121)","v":false},"","",""]
[null,null,null,null,null,null,null,null,null,null,null,110,"","","","",110,false,{"$f":"IF(R112,'Yahoo Index'!E164,\"\")","v":""},{"$f":"IF(R112,'Yahoo Index'!F164,\"\")","v":""},"","",null,110,false,{"$f":"IF($F$6,'FRED Indicies'!E125)","v":0},"",{"$f":"IF($F$6,'FRED Indicies'!D125)","v":0},"","","",110,false,{"$f":"IF(AG112,'Google Index'!E139)","v":false},"",{"$f":"IF(AF112,'Google Index'!F139)","v":0},"","","",110,false,{"$f":"IF(AN112,'Commodity Prices'!D125)","v":0},"",{"$f":"IF(AO112,'Commodity Prices'!E125)","v":false},"","","",110,false,{"$f":"IF(AW112,'Yahoo Stocks'!D142)","v":false},"",{"$f":"IF(AW112,'Yahoo Stocks'!E142)","v":false},"","","",110,false,{"$f":"IF(BE112,'Google Finance Stocks'!D136)","v":false},"",{"$f":"IF(BE112,'Google Finance Stocks'!E136)","v":false},"","","",110,false,{"$f":"'Exchange Rates'!D122","v":0},"",{"$f":"IF(BM112,'Exchange Rates'!E122)","v":false},"","",""]
[null,null,null,null,null,null,null,null,null,null,null,111,"","","","",111,false,{"$f":"IF(R113,'Yahoo Index'!E165,\"\")","v":""},{"$f":"IF(R113,'Yahoo Index'!F165,\"\")","v":""},"","",null,111,false,{"$f":"IF($F$6,'FRED Indicies'!E126)","v":0},"",{"$f":"IF($F$6,'FRED Indicies'!D126)","v":0},"","","",111,false,{"$f":"IF(AG113,'Google Index'!E140)","v":false},"",{"$f":"IF(AF113,'Google Index'!F140)","v":0},"","","",111,false,{"$f":"IF(AN113,'Commodity Prices'!D126)","v":0},"",{"$f":"IF(AO113,'Commodity Prices'!E126)","v":false},"","","",111,false,{"$f":"IF(AW113,'Yahoo Stocks'!D143)","v":false},"",{"$f":"IF(AW113,'Yahoo Stocks'!E143)","v":false},"","","",111,false,{"$f":"IF(BE113,'Google Finance Stocks'!D137)","v":false},"",{"$f":"IF(BE113,'Google Finance Stocks'!E137)","v":false},"","","",111,false,{"$f":"'Exchange Rates'!D123","v":0},"",{"$f":"IF(BM113,'Exchange Rates'!E123)","v":false},"","",""]
[null,null,null,null,null,null,null,null,null,null,null,112,"","","","",112,false,{"$f":"IF(R114,'Yahoo Index'!E166,\"\")","v":""},{"$f":"IF(R114,'Yahoo Index'!F166,\"\")","v":""},"","",null,112,false,{"$f":"IF($F$6,'FRED Indicies'!E127)","v":0},"",{"$f":"IF($F$6,'FRED Indicies'!D127)","v":0},"","","",112,false,{"$f":"IF(AG114,'Google Index'!E141)","v":false},"",{"$f":"IF(AF114,'Google Index'!F141)","v":0},"","","",112,false,{"$f":"IF(AN114,'Commodity Prices'!D127)","v":0},"",{"$f":"IF(AO114,'Commodity Prices'!E127)","v":false},"","","",112,false,{"$f":"IF(AW114,'Yahoo Stocks'!D144)","v":false},"",{"$f":"IF(AW114,'Yahoo Stocks'!E144)","v":false},"","","",112,false,{"$f":"IF(BE114,'Google Finance Stocks'!D138)","v":false},"",{"$f":"IF(BE114,'Google Finance Stocks'!E138)","v":false},"","","",112,false,{"$f":"'Exchange Rates'!D124","v":0},"",{"$f":"IF(BM114,'Exchange Rates'!E124)","v":false},"","",""]
[null,null,null,null,null,null,null,null,null,null,null,113,"","","","",113,false,{"$f":"IF(R115,'Yahoo Index'!E167,\"\")","v":""},{"$f":"IF(R115,'Yahoo Index'!F167,\"\")","v":""},"","",null,113,false,{"$f":"IF($F$6,'FRED Indicies'!E128)","v":0},"",{"$f":"IF($F$6,'FRED Indicies'!D128)","v":0},"","","",113,false,{"$f":"IF(AG115,'Google Index'!E142)","v":false},"",{"$f":"IF(AF115,'Google Index'!F142)","v":0},"","","",113,false,{"$f":"IF(AN115,'Commodity Prices'!D128)","v":0},"",{"$f":"IF(AO115,'Commodity Prices'!E128)","v":false},"","","",113,false,{"$f":"IF(AW115,'Yahoo Stocks'!D145)","v":false},"",{"$f":"IF(AW115,'Yahoo Stocks'!E145)","v":false},"","","",113,false,{"$f":"IF(BE115,'Google Finance Stocks'!D139)","v":false},"",{"$f":"IF(BE115,'Google Finance Stocks'!E139)","v":false},"","","",113,false,{"$f":"'Exchange Rates'!D125","v":0},"",{"$f":"IF(BM115,'Exchange Rates'!E125)","v":false},"","",""]
[null,null,null,null,null,null,null,null,null,null,null,114,"","","","",114,false,{"$f":"IF(R116,'Yahoo Index'!E168,\"\")","v":""},{"$f":"IF(R116,'Yahoo Index'!F168,\"\")","v":""},"","",null,114,false,{"$f":"IF($F$6,'FRED Indicies'!E129)","v":0},"",{"$f":"IF($F$6,'FRED Indicies'!D129)","v":0},"","","",114,false,{"$f":"IF(AG116,'Google Index'!E143)","v":false},"",{"$f":"IF(AF116,'Google Index'!F143)","v":0},"","","",114,false,{"$f":"IF(AN116,'Commodity Prices'!D129)","v":0},"",{"$f":"IF(AO116,'Commodity Prices'!E129)","v":false},"","","",114,false,{"$f":"IF(AW116,'Yahoo Stocks'!D146)","v":false},"",{"$f":"IF(AW116,'Yahoo Stocks'!E146)","v":false},"","","",114,false,{"$f":"IF(BE116,'Google Finance Stocks'!D140)","v":false},"",{"$f":"IF(BE116,'Google Finance Stocks'!E140)","v":false},"","","",114,false,{"$f":"'Exchange Rates'!D126","v":0},"",{"$f":"IF(BM116,'Exchange Rates'!E126)","v":false},"","",""]
[null,null,null,null,null,null,null,null,null,null,null,115,{"$f":"S117&AA117&AI117&AQ117&AY117&BG117&BO117","v":""},{"$f":"T117&AC117&AK117&AS117&BA117&BI117&BQ117","v":""},{"$f":"U117&AD117&AL117&AT117&BB117&BJ117&BR117","v":""},{"$f":"V117&AE117&AM117&AU117&BC117&BK117&BS117","v":""},115,{"$f":"IF(AND($F$3,Q117<=$H$3),Q117)","v":false},{"$f":"IF(R117,'Yahoo Index'!E169,\"\")","v":""},{"$f":"IF(R117,'Yahoo Index'!F169,\"\")","v":""},{"$f":"IF(R117,$I$3,\"\")","v":""},{"$f":"IF(R117,$J$3,\"\")","v":""},null,115,{"$f":"IF(AND($F$6,X117<=$H$6),X117)","v":false},{"$f":"IF($F$6,'FRED Indicies'!E130)","v":0},{"$f":"IFERROR(INDEX(Z:Z,MATCH(L117,Y:Y,0)),\"\")","v":""},{"$f":"IF($F$6,'FRED Indicies'!D130)","v":0},{"$f":"IFERROR(INDEX(AB:AB,MATCH(L117,Y:Y,0)),\"\")","v":""},{"$f":"IF(AA117<>\"\",$I$6,\"\")","v":""},{"$f":"IF(AA117<>\"\",$J$6,\"\")","v":""},115,{"$f":"IF(AND($F$9,AF117<=$H$9),AF117)","v":false},{"$f":"IF(AG117,'Google Index'!E144)","v":false},{"$f":"IFERROR(INDEX(AH:AH,MATCH(Q117,AG:AG,0)),\"\")","v":""},{"$f":"IF(AF117,'Google Index'!F144)","v":0},{"$f":"IFERROR(INDEX(AJ:AJ,MATCH(Q117,AG:AG,0)),\"\")","v":""},{"$f":"IF(AI117<>\"\",$I$6,\"\")","v":""},{"$f":"IF(AK117<>\"\",$J$6,\"\")","v":""},115,{"$f":"IF(AND($F$12,AN117<=$H$12),AN117)","v":false},{"$f":"IF(AN117,'Commodity Prices'!D130)","v":0},{"$f":"IFERROR(INDEX(AP:AP,MATCH(L117,AO:AO,0)),\"\")","v":""},{"$f":"IF(AO117,'Commodity Prices'!E130)","v":false},{"$f":"IFERROR(INDEX(AR:AR,MATCH(L117,AO:AO,0)),\"\")","v":""},{"$f":"IF(AQ117<>\"\",$I$12,\"\")","v":""},{"$f":"IF(AS117<>\"\",$J$12,\"\")","v":""},115,{"$f":"IF(AND($F$15,AV117<=$H$15),AV117)","v":false},{"$f":"IF(AW117,'Yahoo Stocks'!D147)","v":false},"",{"$f":"IF(AW117,'Yahoo Stocks'!E147)","v":false},"","","",115,{"$f":"IF(AND($F$18,BD117<=$H$18),BD117)","v":false},{"$f":"IF(BE117,'Google Finance Stocks'!D141)","v":false},{"$f":"IFERROR(INDEX(BF:BF,MATCH(Q117,BE:BE,0)),\"\")","v":""},{"$f":"IF(BE117,'Google Finance Stocks'!E141)","v":false},{"$f":"IFERROR(INDEX(BH:BH,MATCH(Q117,BE:BE,0)),\"\")","v":""},{"$f":"IF(BI117<>\"\",$I$18,\"\")","v":""},{"$f":"IF(BI117<>\"\",$J$18,\"\")","v":""},115,{"$f":"IF(AND($F$21,BL117<=$H$21),BL117)","v":false},{"$f":"'Exchange Rates'!D127","v":0},{"$f":"IFERROR(INDEX(BN:BN,MATCH(L117,BM:BM,0)),\"\")","v":""},{"$f":"IF(BM117,'Exchange Rates'!E127)","v":false},{"$f":"IFERROR(INDEX(BP:BP,MATCH(L117,BM:BM,0)),\"\")","v":""},{"$f":"IF(BQ117<>\"\",$I$21,\"\")","v":""},{"$f":"IF(BQ117<>\"\",$J$21,\"\")","v":""}]
[null,null,null,null,null,null,null,null,null,null,null,116,"","","","",116,false,{"$f":"IF(R118,'Yahoo Index'!E170,\"\")","v":""},{"$f":"IF(R118,'Yahoo Index'!F170,\"\")","v":""},"","",null,116,false,{"$f":"IF($F$6,'FRED Indicies'!E131)","v":0},"",{"$f":"IF($F$6,'FRED Indicies'!D131)","v":0},"","","",116,false,{"$f":"IF(AG118,'Google Index'!E145)","v":false},"",{"$f":"IF(AF118,'Google Index'!F145)","v":0},"","","",116,false,{"$f":"IF(AN118,'Commodity Prices'!D131)","v":0},"",{"$f":"IF(AO118,'Commodity Prices'!E131)","v":false},"","","",116,false,{"$f":"IF(AW118,'Yahoo Stocks'!D148)","v":false},"",{"$f":"IF(AW118,'Yahoo Stocks'!E148)","v":false},"","","",116,false,{"$f":"IF(BE118,'Google Finance Stocks'!D142)","v":false},"",{"$f":"IF(BE118,'Google Finance Stocks'!E142)","v":false},"","","",116,false,{"$f":"'Exchange Rates'!D128","v":0},"",{"$f":"IF(BM118,'Exchange Rates'!E128)","v":false},"","",""]
[null,null,null,null,null,null,null,null,null,null,null,117,"","","","",117,false,{"$f":"IF(R119,'Yahoo Index'!E171,\"\")","v":""},{"$f":"IF(R119,'Yahoo Index'!F171,\"\")","v":""},"","",null,117,false,{"$f":"IF($F$6,'FRED Indicies'!E132)","v":0},"",{"$f":"IF($F$6,'FRED Indicies'!D132)","v":0},"","","",117,false,{"$f":"IF(AG119,'Google Index'!E146)","v":false},"",{"$f":"IF(AF119,'Google Index'!F146)","v":0},"","","",117,false,{"$f":"IF(AN119,'Commodity Prices'!D132)","v":0},"",{"$f":"IF(AO119,'Commodity Prices'!E132)","v":false},"","","",117,false,{"$f":"IF(AW119,'Yahoo Stocks'!D149)","v":false},"",{"$f":"IF(AW119,'Yahoo Stocks'!E149)","v":false},"","","",117,false,{"$f":"IF(BE119,'Google Finance Stocks'!D143)","v":false},"",{"$f":"IF(BE119,'Google Finance Stocks'!E143)","v":false},"","","",117,false,{"$f":"'Exchange Rates'!D129","v":0},"",{"$f":"IF(BM119,'Exchange Rates'!E129)","v":false},"","",""]
[null,null,null,null,null,null,null,null,null,null,null,118,"","","","",118,false,{"$f":"IF(R120,'Yahoo Index'!E172,\"\")","v":""},{"$f":"IF(R120,'Yahoo Index'!F172,\"\")","v":""},"","",null,118,false,{"$f":"IF($F$6,'FRED Indicies'!E133)","v":0},"",{"$f":"IF($F$6,'FRED Indicies'!D133)","v":0},"","","",118,false,{"$f":"IF(AG120,'Google Index'!E147)","v":false},"",{"$f":"IF(AF120,'Google Index'!F147)","v":0},"","","",118,false,{"$f":"IF(AN120,'Commodity Prices'!D133)","v":0},"",{"$f":"IF(AO120,'Commodity Prices'!E133)","v":false},"","","",118,false,{"$f":"IF(AW120,'Yahoo Stocks'!D150)","v":false},"",{"$f":"IF(AW120,'Yahoo Stocks'!E150)","v":false},"","","",118,false,{"$f":"IF(BE120,'Google Finance Stocks'!D144)","v":false},"",{"$f":"IF(BE120,'Google Finance Stocks'!E144)","v":false},"","","",118,false,{"$f":"'Exchange Rates'!D130","v":0},"",{"$f":"IF(BM120,'Exchange Rates'!E130)","v":false},"","",""]
[null,null,null,null,null,null,null,null,null,null,null,119,"","","","",119,false,{"$f":"IF(R121,'Yahoo Index'!E173,\"\")","v":""},{"$f":"IF(R121,'Yahoo Index'!F173,\"\")","v":""},"","",null,119,false,{"$f":"IF($F$6,'FRED Indicies'!E134)","v":0},"",{"$f":"IF($F$6,'FRED Indicies'!D134)","v":0},"","","",119,false,{"$f":"IF(AG121,'Google Index'!E148)","v":false},"",{"$f":"IF(AF121,'Google Index'!F148)","v":0},"","","",119,false,{"$f":"IF(AN121,'Commodity Prices'!D134)","v":0},"",{"$f":"IF(AO121,'Commodity Prices'!E134)","v":false},"","","",119,false,{"$f":"IF(AW121,'Yahoo Stocks'!D151)","v":false},"",{"$f":"IF(AW121,'Yahoo Stocks'!E151)","v":false},"","","",119,false,{"$f":"IF(BE121,'Google Finance Stocks'!D145)","v":false},"",{"$f":"IF(BE121,'Google Finance Stocks'!E145)","v":false},"","","",119,false,{"$f":"'Exchange Rates'!D131","v":0},"",{"$f":"IF(BM121,'Exchange Rates'!E131)","v":false},"","",""]
[null,null,null,null,null,null,null,null,null,null,null,120,"","","","",120,false,{"$f":"IF(R122,'Yahoo Index'!E174,\"\")","v":""},{"$f":"IF(R122,'Yahoo Index'!F174,\"\")","v":""},"","",null,120,false,{"$f":"IF($F$6,'FRED Indicies'!E135)","v":0},"",{"$f":"IF($F$6,'FRED Indicies'!D135)","v":0},"","","",120,false,{"$f":"IF(AG122,'Google Index'!E149)","v":false},"",{"$f":"IF(AF122,'Google Index'!F149)","v":0},"","","",120,false,{"$f":"IF(AN122,'Commodity Prices'!D135)","v":0},"",{"$f":"IF(AO122,'Commodity Prices'!E135)","v":false},"","","",120,false,{"$f":"IF(AW122,'Yahoo Stocks'!D152)","v":false},"",{"$f":"IF(AW122,'Yahoo Stocks'!E152)","v":false},"","","",120,false,{"$f":"IF(BE122,'Google Finance Stocks'!D146)","v":false},"",{"$f":"IF(BE122,'Google Finance Stocks'!E146)","v":false},"","","",120,false,{"$f":"'Exchange Rates'!D132","v":0},"",{"$f":"IF(BM122,'Exchange Rates'!E132)","v":false},"","",""]
[null,null,null,null,null,null,null,null,null,null,null,121,"","","","",121,false,{"$f":"IF(R123,'Yahoo Index'!E175,\"\")","v":""},{"$f":"IF(R123,'Yahoo Index'!F175,\"\")","v":""},"","",null,121,false,{"$f":"IF($F$6,'FRED Indicies'!E136)","v":0},"",{"$f":"IF($F$6,'FRED Indicies'!D136)","v":0},"","","",121,false,{"$f":"IF(AG123,'Google Index'!E150)","v":false},"",{"$f":"IF(AF123,'Google Index'!F150)","v":0},"","","",121,false,{"$f":"IF(AN123,'Commodity Prices'!D136)","v":0},"",{"$f":"IF(AO123,'Commodity Prices'!E136)","v":false},"","","",121,false,{"$f":"IF(AW123,'Yahoo Stocks'!D153)","v":false},"",{"$f":"IF(AW123,'Yahoo Stocks'!E153)","v":false},"","","",121,false,{"$f":"IF(BE123,'Google Finance Stocks'!D147)","v":false},"",{"$f":"IF(BE123,'Google Finance Stocks'!E147)","v":false},"","","",121,false,{"$f":"'Exchange Rates'!D133","v":0},"",{"$f":"IF(BM123,'Exchange Rates'!E133)","v":false},"","",""]
[null,null,null,null,null,null,null,null,null,null,null,122,"","","","",122,false,{"$f":"IF(R124,'Yahoo Index'!E176,\"\")","v":""},{"$f":"IF(R124,'Yahoo Index'!F176,\"\")","v":""},"","",null,122,false,{"$f":"IF($F$6,'FRED Indicies'!E137)","v":0},"",{"$f":"IF($F$6,'FRED Indicies'!D137)","v":0},"","","",122,false,{"$f":"IF(AG124,'Google Index'!E151)","v":false},"",{"$f":"IF(AF124,'Google Index'!F151)","v":0},"","","",122,false,{"$f":"IF(AN124,'Commodity Prices'!D137)","v":0},"",{"$f":"IF(AO124,'Commodity Prices'!E137)","v":false},"","","",122,false,{"$f":"IF(AW124,'Yahoo Stocks'!D154)","v":false},"",{"$f":"IF(AW124,'Yahoo Stocks'!E154)","v":false},"","","",122,false,{"$f":"IF(BE124,'Google Finance Stocks'!D148)","v":false},"",{"$f":"IF(BE124,'Google Finance Stocks'!E148)","v":false},"","","",122,false,{"$f":"'Exchange Rates'!D134","v":0},"",{"$f":"IF(BM124,'Exchange Rates'!E134)","v":false},"","",""]
[null,null,null,null,null,null,null,null,null,null,null,123,"","","","",123,false,{"$f":"IF(R125,'Yahoo Index'!E177,\"\")","v":""},{"$f":"IF(R125,'Yahoo Index'!F177,\"\")","v":""},"","",null,123,false,{"$f":"IF($F$6,'FRED Indicies'!E138)","v":0},"",{"$f":"IF($F$6,'FRED Indicies'!D138)","v":0},"","","",123,false,{"$f":"IF(AG125,'Google Index'!E152)","v":false},"",{"$f":"IF(AF125,'Google Index'!F152)","v":0},"","","",123,false,{"$f":"IF(AN125,'Commodity Prices'!D138)","v":0},"",{"$f":"IF(AO125,'Commodity Prices'!E138)","v":false},"","","",123,false,{"$f":"IF(AW125,'Yahoo Stocks'!D155)","v":false},"",{"$f":"IF(AW125,'Yahoo Stocks'!E155)","v":false},"","","",123,false,{"$f":"IF(BE125,'Google Finance Stocks'!D149)","v":false},"",{"$f":"IF(BE125,'Google Finance Stocks'!E149)","v":false},"","","",123,false,{"$f":"'Exchange Rates'!D135","v":0},"",{"$f":"IF(BM125,'Exchange Rates'!E135)","v":false},"","",""]
[null,null,null,null,null,null,null,null,null,null,null,124,"","","","",124,false,{"$f":"IF(R126,'Yahoo Index'!E178,\"\")","v":""},{"$f":"IF(R126,'Yahoo Index'!F178,\"\")","v":""},"","",null,124,false,{"$f":"IF($F$6,'FRED Indicies'!E139)","v":0},"",{"$f":"IF($F$6,'FRED Indicies'!D139)","v":0},"","","",124,false,{"$f":"IF(AG126,'Google Index'!E153)","v":false},"",{"$f":"IF(AF126,'Google Index'!F153)","v":0},"","","",124,false,{"$f":"IF(AN126,'Commodity Prices'!D139)","v":0},"",{"$f":"IF(AO126,'Commodity Prices'!E139)","v":false},"","","",124,false,{"$f":"IF(AW126,'Yahoo Stocks'!D156)","v":false},"",{"$f":"IF(AW126,'Yahoo Stocks'!E156)","v":false},"","","",124,false,{"$f":"IF(BE126,'Google Finance Stocks'!D150)","v":false},"",{"$f":"IF(BE126,'Google Finance Stocks'!E150)","v":false},"","","",124,false,{"$f":"'Exchange Rates'!D136","v":0},{"$f":"IFERROR(INDEX(BN:BN,MATCH(L126,BM:BM,0)),\"\")","v":""},{"$f":"IF(BM126,'Exchange Rates'!E136)","v":false},"","",""]
[null,null,null,null,null,null,null,null,null,null,null,125,"","","","",125,false,{"$f":"IF(R127,'Yahoo Index'!E179,\"\")","v":""},{"$f":"IF(R127,'Yahoo Index'!F179,\"\")","v":""},"","",null,125,false,{"$f":"IF($F$6,'FRED Indicies'!E140)","v":0},"",{"$f":"IF($F$6,'FRED Indicies'!D140)","v":0},"","","",125,false,{"$f":"IF(AG127,'Google Index'!E154)","v":false},"",{"$f":"IF(AF127,'Google Index'!F154)","v":0},"","","",125,false,{"$f":"IF(AN127,'Commodity Prices'!D140)","v":0},"",{"$f":"IF(AO127,'Commodity Prices'!E140)","v":false},"","","",125,false,{"$f":"IF(AW127,'Yahoo Stocks'!D157)","v":false},"",{"$f":"IF(AW127,'Yahoo Stocks'!E157)","v":false},"","","",125,false,{"$f":"IF(BE127,'Google Finance Stocks'!D151)","v":false},"",{"$f":"IF(BE127,'Google Finance Stocks'!E151)","v":false},"","","",125,false,{"$f":"'Exchange Rates'!D137","v":0},{"$f":"IFERROR(INDEX(BN:BN,MATCH(L127,BM:BM,0)),\"\")","v":""},{"$f":"IF(BM127,'Exchange Rates'!E137)","v":false},"","",""]
[null,null,null,null,null,null,null,null,null,null,null,126,{"$f":"S128&AA128&AI128&AQ128&AY128&BG128&BO128","v":""},{"$f":"T128&AC128&AK128&AS128&BA128&BI128&BQ128","v":""},{"$f":"U128&AD128&AL128&AT128&BB128&BJ128&BR128","v":""},{"$f":"V128&AE128&AM128&AU128&BC128&BK128&BS128","v":""},126,{"$f":"IF(AND($F$3,Q128<=$H$3),Q128)","v":false},null,null,null,null,null,126,{"$f":"IF(AND($F$6,X128<=$H$6),X128)","v":false},{"$f":"IF($F$6,'FRED Indicies'!E141)","v":0},{"$f":"IFERROR(INDEX(Z:Z,MATCH(L128,Y:Y,0)),\"\")","v":""},{"$f":"IF($F$6,'FRED Indicies'!D141)","v":0},{"$f":"IFERROR(INDEX(AB:AB,MATCH(L128,Y:Y,0)),\"\")","v":""},{"$f":"IF(AA128<>\"\",$I$6,\"\")","v":""},{"$f":"IF(AA128<>\"\",$J$6,\"\")","v":""},126,{"$f":"IF(AND($F$9,AF128<=$H$9),AF128)","v":false},{"$f":"IF(AG128,'Google Index'!E155)","v":false},{"$f":"IFERROR(INDEX(AH:AH,MATCH(Q128,AG:AG,0)),\"\")","v":""},{"$f":"IF(AF128,'Google Index'!F155)","v":0},{"$f":"IFERROR(INDEX(AJ:AJ,MATCH(Q128,AG:AG,0)),\"\")","v":""},{"$f":"IF(AI128<>\"\",$I$6,\"\")","v":""},{"$f":"IF(AK128<>\"\",$J$6,\"\")","v":""},126,{"$f":"IF(AND($F$12,AN128<=$H$12),AN128)","v":false},{"$f":"IF(AN128,'Commodity Prices'!D141)","v":0},{"$f":"IFERROR(INDEX(AP:AP,MATCH(L128,AO:AO,0)),\"\")","v":""},{"$f":"IF(AO128,'Commodity Prices'!E141)","v":false},{"$f":"IFERROR(INDEX(AR:AR,MATCH(L128,AO:AO,0)),\"\")","v":""},{"$f":"IF(AQ128<>\"\",$I$12,\"\")","v":""},{"$f":"IF(AS128<>\"\",$J$12,\"\")","v":""},126,{"$f":"IF(AND($F$15,AV128<=$H$15),AV128)","v":false},{"$f":"IF(AW128,'Yahoo Stocks'!D158)","v":false},"",{"$f":"IF(AW128,'Yahoo Stocks'!E158)","v":false},"","","",126,{"$f":"IF(AND($F$18,BD128<=$H$18),BD128)","v":false},{"$f":"IF(BE128,'Google Finance Stocks'!D152)","v":false},{"$f":"IFERROR(INDEX(BF:BF,MATCH(Q128,BE:BE,0)),\"\")","v":""},{"$f":"IF(BE128,'Google Finance Stocks'!E152)","v":false},{"$f":"IFERROR(INDEX(BH:BH,MATCH(Q128,BE:BE,0)),\"\")","v":""},{"$f":"IF(BI128<>\"\",$I$18,\"\")","v":""},{"$f":"IF(BI128<>\"\",$J$18,\"\")","v":""},126,{"$f":"IF(AND($F$21,BL128<=$H$21),BL128)","v":false},{"$f":"'Exchange Rates'!D138","v":0},{"$f":"IFERROR(INDEX(BN:BN,MATCH(L128,BM:BM,0)),\"\")","v":""},{"$f":"IF(BM128,'Exchange Rates'!E138)","v":false},{"$f":"IFERROR(INDEX(BP:BP,MATCH(L128,BM:BM,0)),\"\")","v":""},{"$f":"IF(BQ128<>\"\",$I$21,\"\")","v":""},{"$f":"IF(BQ128<>\"\",$J$21,\"\")","v":""}]
[null,null,null,null,null,null,null,null,null,null,null,127,"","","","",127,false,null,null,null,null,null,127,false,{"$f":"IF($F$6,'FRED Indicies'!E142)","v":0},"",{"$f":"IF($F$6,'FRED Indicies'!D142)","v":0},"","","",127,false,{"$f":"IF(AG129,'Google Index'!E156)","v":false},"",{"$f":"IF(AF129,'Google Index'!F156)","v":0},"","","",127,false,{"$f":"IF(AN129,'Commodity Prices'!D142)","v":0},"",{"$f":"IF(AO129,'Commodity Prices'!E142)","v":false},"","","",127,false,{"$f":"IF(AW129,'Yahoo Stocks'!D159)","v":false},"",{"$f":"IF(AW129,'Yahoo Stocks'!E159)","v":false},"","","",127,false,{"$f":"IF(BE129,'Google Finance Stocks'!D153)","v":false},"",{"$f":"IF(BE129,'Google Finance Stocks'!E153)","v":false},"","","",127,false,{"$f":"'Exchange Rates'!D139","v":0},{"$f":"IFERROR(INDEX(BN:BN,MATCH(L129,BM:BM,0)),\"\")","v":""},{"$f":"IF(BM129,'Exchange Rates'!E139)","v":false},"","",""]
[null,null,null,null,null,null,null,null,null,null,null,128,"","","","",128,false,null,null,null,null,null,128,false,{"$f":"IF($F$6,'FRED Indicies'!E143)","v":0},"",{"$f":"IF($F$6,'FRED Indicies'!D143)","v":0},"","","",128,false,{"$f":"IF(AG130,'Google Index'!E157)","v":false},"",{"$f":"IF(AF130,'Google Index'!F157)","v":0},"","","",128,false,{"$f":"IF(AN130,'Commodity Prices'!D143)","v":0},"",{"$f":"IF(AO130,'Commodity Prices'!E143)","v":false},"","","",128,false,{"$f":"IF(AW130,'Yahoo Stocks'!D160)","v":false},"",{"$f":"IF(AW130,'Yahoo Stocks'!E160)","v":false},"","","",128,false,{"$f":"IF(BE130,'Google Finance Stocks'!D154)","v":false},"",{"$f":"IF(BE130,'Google Finance Stocks'!E154)","v":false},"","","",128,false,{"$f":"'Exchange Rates'!D140","v":0},"",{"$f":"IF(BM130,'Exchange Rates'!E140)","v":false},"","",""]
[null,null,null,null,null,null,null,null,null,null,null,129,"","","","",129,false,null,null,null,null,null,129,false,{"$f":"IF($F$6,'FRED Indicies'!E144)","v":0},"",{"$f":"IF($F$6,'FRED Indicies'!D144)","v":0},"","","",129,false,{"$f":"IF(AG131,'Google Index'!E158)","v":false},"",{"$f":"IF(AF131,'Google Index'!F158)","v":0},"","","",129,false,{"$f":"IF(AN131,'Commodity Prices'!D144)","v":0},"",{"$f":"IF(AO131,'Commodity Prices'!E144)","v":false},"","","",129,false,{"$f":"IF(AW131,'Yahoo Stocks'!D161)","v":false},"",{"$f":"IF(AW131,'Yahoo Stocks'!E161)","v":false},"","","",129,false,{"$f":"IF(BE131,'Google Finance Stocks'!D155)","v":false},"",{"$f":"IF(BE131,'Google Finance Stocks'!E155)","v":false},"","","",129,false,{"$f":"'Exchange Rates'!D141","v":0},"",{"$f":"IF(BM131,'Exchange Rates'!E141)","v":false},"","",""]
[null,null,null,null,null,null,null,null,null,null,null,130,"","","","",130,false,null,null,null,null,null,130,false,{"$f":"IF($F$6,'FRED Indicies'!E145)","v":0},"",{"$f":"IF($F$6,'FRED Indicies'!D145)","v":0},"","","",130,false,{"$f":"IF(AG132,'Google Index'!E159)","v":false},"",{"$f":"IF(AF132,'Google Index'!F159)","v":0},"","","",130,false,{"$f":"IF(AN132,'Commodity Prices'!D145)","v":0},"",{"$f":"IF(AO132,'Commodity Prices'!E145)","v":false},"","","",130,false,{"$f":"IF(AW132,'Yahoo Stocks'!D162)","v":false},{"$f":"IFERROR(INDEX(AX:AX,MATCH(L132,AW:AW,0)),\"\")","v":""},{"$f":"IF(AW132,'Yahoo Stocks'!E162)","v":false},{"$f":"IFERROR(INDEX(AZ:AZ,MATCH(L132,AW:AW,0)),\"\")","v":""},{"$f":"IF(AY132<>\"\",$I$15,\"\")","v":""},{"$f":"IF(BA132<>\"\",$J$15,\"\")","v":""},130,false,{"$f":"IF(BE132,'Google Finance Stocks'!D156)","v":false},"",{"$f":"IF(BE132,'Google Finance Stocks'!E156)","v":false},"","","",130,false,{"$f":"'Exchange Rates'!D142","v":0},"",{"$f":"IF(BM132,'Exchange Rates'!E142)","v":false},"","",""]
[null,null,null,null,null,null,null,null,null,null,null,131,"","","","",{"$f":"Q132+1","v":131},false,null,null,null,null,null,{"$f":"X132+1","v":131},false,{"$f":"IF($F$6,'FRED Indicies'!E146)","v":0},"",{"$f":"IF($F$6,'FRED Indicies'!D146)","v":0},"","","",{"$f":"AF132+1","v":131},false,{"$f":"IF(AG133,'Google Index'!E160)","v":false},"",{"$f":"IF(AF133,'Google Index'!F160)","v":0},"","","",{"$f":"AN132+1","v":131},false,{"$f":"IF(AN133,'Commodity Prices'!D146)","v":0},"",{"$f":"IF(AO133,'Commodity Prices'!E146)","v":false},"","","",{"$f":"AV132+1","v":131},false,{"$f":"IF(AW133,'Yahoo Stocks'!D163)","v":false},"",{"$f":"IF(AW133,'Yahoo Stocks'!E163)","v":false},"","","",{"$f":"BD132+1","v":131},false,{"$f":"IF(BE133,'Google Finance Stocks'!D157)","v":false},"",{"$f":"IF(BE133,'Google Finance Stocks'!E157)","v":false},"","","",{"$f":"BL132+1","v":131},false,{"$f":"'Exchange Rates'!D143","v":0},"",{"$f":"IF(BM133,'Exchange Rates'!E143)","v":false},"","",""]
[null,null,null,null,null,null,null,null,null,null,null,132,"","","","",132,false,null,null,null,null,null,132,false,{"$f":"IF($F$6,'FRED Indicies'!E147)","v":0},"",{"$f":"IF($F$6,'FRED Indicies'!D147)","v":0},"","","",132,false,{"$f":"IF(AG134,'Google Index'!E161)","v":false},"",{"$f":"IF(AF134,'Google Index'!F161)","v":0},"","","",132,false,{"$f":"IF(AN134,'Commodity Prices'!D147)","v":0},"",{"$f":"IF(AO134,'Commodity Prices'!E147)","v":false},"","","",132,false,{"$f":"IF(AW134,'Yahoo Stocks'!D164)","v":false},"",{"$f":"IF(AW134,'Yahoo Stocks'!E164)","v":false},"","","",132,false,{"$f":"IF(BE134,'Google Finance Stocks'!D158)","v":false},"",{"$f":"IF(BE134,'Google Finance Stocks'!E158)","v":false},"","","",132,false,{"$f":"'Exchange Rates'!D144","v":0},"",{"$f":"IF(BM134,'Exchange Rates'!E144)","v":false},"","",""]
[null,null,null,null,null,null,null,null,null,null,null,133,{"$f":"S135&AA135&AI135&AQ135&AY135&BG135&BO135","v":""},{"$f":"T135&AC135&AK135&AS135&BA135&BI135&BQ135","v":""},{"$f":"U135&AD135&AL135&AT135&BB135&BJ135&BR135","v":""},{"$f":"V135&AE135&AM135&AU135&BC135&BK135&BS135","v":""},133,{"$f":"IF(AND($F$3,Q135<=$H$3),Q135)","v":false},null,null,null,null,null,133,false,{"$f":"IF($F$6,'FRED Indicies'!E148)","v":0},"",{"$f":"IF($F$6,'FRED Indicies'!D148)","v":0},"","","",133,false,{"$f":"IF(AG135,'Google Index'!E162)","v":false},"",{"$f":"IF(AF135,'Google Index'!F162)","v":0},"","","",133,false,{"$f":"IF(AN135,'Commodity Prices'!D148)","v":0},"",{"$f":"IF(AO135,'Commodity Prices'!E148)","v":false},"","","",133,false,{"$f":"IF(AW135,'Yahoo Stocks'!D165)","v":false},"",{"$f":"IF(AW135,'Yahoo Stocks'!E165)","v":false},"","","",133,false,{"$f":"IF(BE135,'Google Finance Stocks'!D159)","v":false},"",{"$f":"IF(BE135,'Google Finance Stocks'!E159)","v":false},"","","",133,false,{"$f":"'Exchange Rates'!D145","v":0},"",{"$f":"IF(BM135,'Exchange Rates'!E145)","v":false},"","",""]
[null,null,null,null,null,null,null,null,null,null,null,134,"","","","",134,false,null,null,null,null,null,134,false,{"$f":"IF($F$6,'FRED Indicies'!E149)","v":0},"",{"$f":"IF($F$6,'FRED Indicies'!D149)","v":0},"","","",134,false,{"$f":"IF(AG136,'Google Index'!E163)","v":false},"",{"$f":"IF(AF136,'Google Index'!F163)","v":0},"","","",134,false,{"$f":"IF(AN136,'Commodity Prices'!D149)","v":0},"",{"$f":"IF(AO136,'Commodity Prices'!E149)","v":false},"","","",134,false,{"$f":"IF(AW136,'Yahoo Stocks'!D166)","v":false},"",{"$f":"IF(AW136,'Yahoo Stocks'!E166)","v":false},"","","",134,false,{"$f":"IF(BE136,'Google Finance Stocks'!D160)","v":false},"",{"$f":"IF(BE136,'Google Finance Stocks'!E160)","v":false},"","","",134,false,{"$f":"'Exchange Rates'!D146","v":0},"",{"$f":"IF(BM136,'Exchange Rates'!E146)","v":false},"","",""]
[null,null,null,null,null,null,null,null,null,null,null,135,"","","","",135,false,null,null,null,null,null,135,false,{"$f":"IF($F$6,'FRED Indicies'!E150)","v":0},"",{"$f":"IF($F$6,'FRED Indicies'!D150)","v":0},"","","",135,false,{"$f":"IF(AG137,'Google Index'!E164)","v":false},"",{"$f":"IF(AF137,'Google Index'!F164)","v":0},"","","",135,false,{"$f":"IF(AN137,'Commodity Prices'!D150)","v":0},"",{"$f":"IF(AO137,'Commodity Prices'!E150)","v":false},"","","",135,false,{"$f":"IF(AW137,'Yahoo Stocks'!D167)","v":false},"",{"$f":"IF(AW137,'Yahoo Stocks'!E167)","v":false},"","","",135,false,{"$f":"IF(BE137,'Google Finance Stocks'!D161)","v":false},"",{"$f":"IF(BE137,'Google Finance Stocks'!E161)","v":false},"","","",135,false,{"$f":"'Exchange Rates'!D147","v":0},"",{"$f":"IF(BM137,'Exchange Rates'!E147)","v":false},"","",""]
[null,null,null,null,null,null,null,null,null,null,null,136,"","","","",136,false,null,null,null,null,null,136,false,{"$f":"IF($F$6,'FRED Indicies'!E151)","v":0},"",{"$f":"IF($F$6,'FRED Indicies'!D151)","v":0},"","","",136,false,{"$f":"IF(AG138,'Google Index'!E165)","v":false},"",{"$f":"IF(AF138,'Google Index'!F165)","v":0},"","","",136,false,{"$f":"IF(AN138,'Commodity Prices'!D151)","v":0},"",{"$f":"IF(AO138,'Commodity Prices'!E151)","v":false},"","","",136,false,{"$f":"IF(AW138,'Yahoo Stocks'!D168)","v":false},"",{"$f":"IF(AW138,'Yahoo Stocks'!E168)","v":false},"","","",136,false,{"$f":"IF(BE138,'Google Finance Stocks'!D162)","v":false},"",{"$f":"IF(BE138,'Google Finance Stocks'!E162)","v":false},"","","",136,false,{"$f":"'Exchange Rates'!D148","v":0},"",{"$f":"IF(BM138,'Exchange Rates'!E148)","v":false},"","",""]
[null,null,null,null,null,null,null,null,null,null,null,137,"","","","",137,false,null,null,null,null,null,137,false,{"$f":"IF($F$6,'FRED Indicies'!E152)","v":0},"",{"$f":"IF($F$6,'FRED Indicies'!D152)","v":0},"","","",137,false,{"$f":"IF(AG139,'Google Index'!E166)","v":false},"",{"$f":"IF(AF139,'Google Index'!F166)","v":0},"","","",137,false,{"$f":"IF(AN139,'Commodity Prices'!D152)","v":0},"",{"$f":"IF(AO139,'Commodity Prices'!E152)","v":false},"","","",137,false,{"$f":"IF(AW139,'Yahoo Stocks'!D169)","v":false},"",{"$f":"IF(AW139,'Yahoo Stocks'!E169)","v":false},"","","",137,false,{"$f":"IF(BE139,'Google Finance Stocks'!D163)","v":false},"",{"$f":"IF(BE139,'Google Finance Stocks'!E163)","v":false},"","","",137,false,{"$f":"'Exchange Rates'!D149","v":0},"",{"$f":"IF(BM139,'Exchange Rates'!E149)","v":false},"","",""]
[null,null,null,null,null,null,null,null,null,null,null,138,"","","","",138,false,null,null,null,null,null,138,false,{"$f":"IF($F$6,'FRED Indicies'!E153)","v":0},"",{"$f":"IF($F$6,'FRED Indicies'!D153)","v":0},"","","",138,false,{"$f":"IF(AG140,'Google Index'!E167)","v":false},"",{"$f":"IF(AF140,'Google Index'!F167)","v":0},"","","",138,false,{"$f":"IF(AN140,'Commodity Prices'!D153)","v":0},"",{"$f":"IF(AO140,'Commodity Prices'!E153)","v":false},"","","",138,false,{"$f":"IF(AW140,'Yahoo Stocks'!D170)","v":false},"",{"$f":"IF(AW140,'Yahoo Stocks'!E170)","v":false},"","","",138,false,{"$f":"IF(BE140,'Google Finance Stocks'!D164)","v":false},"",{"$f":"IF(BE140,'Google Finance Stocks'!E164)","v":false},"","","",138,false,{"$f":"'Exchange Rates'!D150","v":0},"",{"$f":"IF(BM140,'Exchange Rates'!E150)","v":false},"","",""]
[null,null,null,null,null,null,null,null,null,null,null,139,{"$f":"S141&AA141&AI141&AQ141&AY141&BG141&BO141","v":""},{"$f":"T141&AC141&AK141&AS141&BA141&BI141&BQ141","v":""},{"$f":"U141&AD141&AL141&AT141&BB141&BJ141&BR141","v":""},{"$f":"V141&AE141&AM141&AU141&BC141&BK141&BS141","v":""},139,false,null,null,null,null,null,139,false,{"$f":"IF($F$6,'FRED Indicies'!E154)","v":0},"",{"$f":"IF($F$6,'FRED Indicies'!D154)","v":0},"","","",139,false,{"$f":"IF(AG141,'Google Index'!E168)","v":false},"",{"$f":"IF(AF141,'Google Index'!F168)","v":0},"","","",139,false,{"$f":"IF(AN141,'Commodity Prices'!D154)","v":0},"",{"$f":"IF(AO141,'Commodity Prices'!E154)","v":false},"","","",139,false,{"$f":"IF(AW141,'Yahoo Stocks'!D171)","v":false},"",{"$f":"IF(AW141,'Yahoo Stocks'!E171)","v":false},"","","",139,false,{"$f":"IF(BE141,'Google Finance Stocks'!D165)","v":false},"",{"$f":"IF(BE141,'Google Finance Stocks'!E165)","v":false},"","","",139,false,{"$f":"'Exchange Rates'!D151","v":0},"",{"$f":"IF(BM141,'Exchange Rates'!E151)","v":false},"","",""]
[null,null,null,null,null,null,null,null,null,null,null,140,"","","","",140,false,null,null,null,null,null,140,false,{"$f":"IF($F$6,'FRED Indicies'!E155)","v":0},"",{"$f":"IF($F$6,'FRED Indicies'!D155)","v":0},"","","",140,false,{"$f":"IF(AG142,'Google Index'!E169)","v":false},"",{"$f":"IF(AF142,'Google Index'!F169)","v":0},"","","",140,false,{"$f":"IF(AN142,'Commodity Prices'!D155)","v":0},"",{"$f":"IF(AO142,'Commodity Prices'!E155)","v":false},"","","",140,false,{"$f":"IF(AW142,'Yahoo Stocks'!D172)","v":false},"",{"$f":"IF(AW142,'Yahoo Stocks'!E172)","v":false},"","","",140,false,{"$f":"IF(BE142,'Google Finance Stocks'!D166)","v":false},"",{"$f":"IF(BE142,'Google Finance Stocks'!E166)","v":false},"","","",140,false,{"$f":"'Exchange Rates'!D152","v":0},"",{"$f":"IF(BM142,'Exchange Rates'!E152)","v":false},"","",""]
[null,null,null,null,null,null,null,null,null,null,null,141,"","","","",141,false,null,null,null,null,null,141,false,{"$f":"IF($F$6,'FRED Indicies'!E156)","v":0},"",{"$f":"IF($F$6,'FRED Indicies'!D156)","v":0},"","","",141,false,{"$f":"IF(AG143,'Google Index'!E170)","v":false},"",{"$f":"IF(AF143,'Google Index'!F170)","v":0},"","","",141,false,{"$f":"IF(AN143,'Commodity Prices'!D156)","v":0},"",{"$f":"IF(AO143,'Commodity Prices'!E156)","v":false},"","","",141,false,{"$f":"IF(AW143,'Yahoo Stocks'!D173)","v":false},"",{"$f":"IF(AW143,'Yahoo Stocks'!E173)","v":false},"","","",141,false,{"$f":"IF(BE143,'Google Finance Stocks'!D167)","v":false},"",{"$f":"IF(BE143,'Google Finance Stocks'!E167)","v":false},"","","",141,false,{"$f":"'Exchange Rates'!D153","v":0},"",{"$f":"IF(BM143,'Exchange Rates'!E153)","v":false},"","",""]
[null,null,null,null,null,null,null,null,null,null,null,142,"","","","",142,false,null,null,null,null,null,142,false,{"$f":"IF($F$6,'FRED Indicies'!E157)","v":0},"",{"$f":"IF($F$6,'FRED Indicies'!D157)","v":0},"","","",142,false,{"$f":"IF(AG144,'Google Index'!E171)","v":false},"",{"$f":"IF(AF144,'Google Index'!F171)","v":0},"","","",142,false,{"$f":"IF(AN144,'Commodity Prices'!D157)","v":0},"",{"$f":"IF(AO144,'Commodity Prices'!E157)","v":false},"","","",142,false,{"$f":"IF(AW144,'Yahoo Stocks'!D174)","v":false},"",{"$f":"IF(AW144,'Yahoo Stocks'!E174)","v":false},"","","",142,false,{"$f":"IF(BE144,'Google Finance Stocks'!D168)","v":false},"",{"$f":"IF(BE144,'Google Finance Stocks'!E168)","v":false},"","","",142,false,{"$f":"'Exchange Rates'!D154","v":0},"",{"$f":"IF(BM144,'Exchange Rates'!E154)","v":false},"","",""]
[null,null,null,null,null,null,null,null,null,null,null,143,"","","","",143,false,null,null,null,null,null,143,false,{"$f":"IF($F$6,'FRED Indicies'!E158)","v":0},"",{"$f":"IF($F$6,'FRED Indicies'!D158)","v":0},"","","",143,false,{"$f":"IF(AG145,'Google Index'!E172)","v":false},"",{"$f":"IF(AF145,'Google Index'!F172)","v":0},"","","",143,false,{"$f":"IF(AN145,'Commodity Prices'!D158)","v":0},"",{"$f":"IF(AO145,'Commodity Prices'!E158)","v":false},"","","",143,false,{"$f":"IF(AW145,'Yahoo Stocks'!D175)","v":false},"",{"$f":"IF(AW145,'Yahoo Stocks'!E175)","v":false},"","","",143,false,{"$f":"IF(BE145,'Google Finance Stocks'!D169)","v":false},"",{"$f":"IF(BE145,'Google Finance Stocks'!E169)","v":false},"","","",143,false,{"$f":"'Exchange Rates'!D155","v":0},"",{"$f":"IF(BM145,'Exchange Rates'!E155)","v":false},"","",""]
[null,null,null,null,null,null,null,null,null,null,null,144,"","","","",144,false,null,null,null,null,null,144,false,{"$f":"IF($F$6,'FRED Indicies'!E159)","v":0},"",{"$f":"IF($F$6,'FRED Indicies'!D159)","v":0},"","","",144,false,{"$f":"IF(AG146,'Google Index'!E173)","v":false},"",{"$f":"IF(AF146,'Google Index'!F173)","v":0},"","","",144,false,{"$f":"IF(AN146,'Commodity Prices'!D159)","v":0},"",{"$f":"IF(AO146,'Commodity Prices'!E159)","v":false},"","","",144,false,{"$f":"IF(AW146,'Yahoo Stocks'!D176)","v":false},"",{"$f":"IF(AW146,'Yahoo Stocks'!E176)","v":false},"","","",144,false,{"$f":"IF(BE146,'Google Finance Stocks'!D170)","v":false},"",{"$f":"IF(BE146,'Google Finance Stocks'!E170)","v":false},"","","",144,false,{"$f":"'Exchange Rates'!D156","v":0},"",{"$f":"IF(BM146,'Exchange Rates'!E156)","v":false},"","",""]
[null,null,null,null,null,null,null,null,null,null,null,145,"","","","",145,false,null,null,null,null,null,145,false,{"$f":"IF($F$6,'FRED Indicies'!E160)","v":0},"",{"$f":"IF($F$6,'FRED Indicies'!D160)","v":0},"","","",145,false,{"$f":"IF(AG147,'Google Index'!E174)","v":false},"",{"$f":"IF(AF147,'Google Index'!F174)","v":0},"","","",145,false,{"$f":"IF(AN147,'Commodity Prices'!D160)","v":0},"",{"$f":"IF(AO147,'Commodity Prices'!E160)","v":false},"","","",145,false,{"$f":"IF(AW147,'Yahoo Stocks'!D177)","v":false},"",{"$f":"IF(AW147,'Yahoo Stocks'!E177)","v":false},"","","",145,false,{"$f":"IF(BE147,'Google Finance Stocks'!D171)","v":false},"",{"$f":"IF(BE147,'Google Finance Stocks'!E171)","v":false},"","","",145,false,{"$f":"'Exchange Rates'!D157","v":0},"",{"$f":"IF(BM147,'Exchange Rates'!E157)","v":false},"","",""]
[null,null,null,null,null,null,null,null,null,null,null,146,"","","","",146,false,null,null,null,null,null,146,false,{"$f":"IF($F$6,'FRED Indicies'!E161)","v":0},"",{"$f":"IF($F$6,'FRED Indicies'!D161)","v":0},"","","",146,false,{"$f":"IF(AG148,'Google Index'!E175)","v":false},"",{"$f":"IF(AF148,'Google Index'!F175)","v":0},"","","",146,false,{"$f":"IF(AN148,'Commodity Prices'!D161)","v":0},"",{"$f":"IF(AO148,'Commodity Prices'!E161)","v":false},"","","",146,false,{"$f":"IF(AW148,'Yahoo Stocks'!D178)","v":false},"",{"$f":"IF(AW148,'Yahoo Stocks'!E178)","v":false},"","","",146,false,{"$f":"IF(BE148,'Google Finance Stocks'!D172)","v":false},"",{"$f":"IF(BE148,'Google Finance Stocks'!E172)","v":false},"","","",146,false,{"$f":"'Exchange Rates'!D158","v":0},"",{"$f":"IF(BM148,'Exchange Rates'!E158)","v":false},"","",""]
[null,null,null,null,null,null,null,null,null,null,null,147,"","","","",147,false,null,null,null,null,null,147,false,{"$f":"IF($F$6,'FRED Indicies'!E162)","v":0},"",{"$f":"IF($F$6,'FRED Indicies'!D162)","v":0},"","","",147,false,{"$f":"IF(AG149,'Google Index'!E176)","v":false},"",{"$f":"IF(AF149,'Google Index'!F176)","v":0},"","","",147,false,{"$f":"IF(AN149,'Commodity Prices'!D162)","v":0},"",{"$f":"IF(AO149,'Commodity Prices'!E162)","v":false},"","","",147,false,{"$f":"IF(AW149,'Yahoo Stocks'!D179)","v":false},"",{"$f":"IF(AW149,'Yahoo Stocks'!E179)","v":false},"","","",147,false,{"$f":"IF(BE149,'Google Finance Stocks'!D173)","v":false},"",{"$f":"IF(BE149,'Google Finance Stocks'!E173)","v":false},"","","",147,false,{"$f":"'Exchange Rates'!D159","v":0},"",{"$f":"IF(BM149,'Exchange Rates'!E159)","v":false},"","",""]
[null,null,null,null,null,null,null,null,null,null,null,148,"","","","",148,false,null,null,null,null,null,148,false,{"$f":"IF($F$6,'FRED Indicies'!E163)","v":0},"",{"$f":"IF($F$6,'FRED Indicies'!D163)","v":0},"","","",148,false,{"$f":"IF(AG150,'Google Index'!E177)","v":false},"",{"$f":"IF(AF150,'Google Index'!F177)","v":0},"","","",148,false,{"$f":"IF(AN150,'Commodity Prices'!D163)","v":0},"",{"$f":"IF(AO150,'Commodity Prices'!E163)","v":false},"","","",148,false,{"$f":"IF(AW150,'Yahoo Stocks'!D180)","v":false},"",{"$f":"IF(AW150,'Yahoo Stocks'!E180)","v":false},"","","",148,false,{"$f":"IF(BE150,'Google Finance Stocks'!D174)","v":false},"",{"$f":"IF(BE150,'Google Finance Stocks'!E174)","v":false},"","","",148,false,{"$f":"'Exchange Rates'!D160","v":0},"",{"$f":"IF(BM150,'Exchange Rates'!E160)","v":false},"","",""]
[null,null,null,null,null,null,null,null,null,null,null,149,"","","","",149,false,null,null,null,null,null,149,false,{"$f":"IF($F$6,'FRED Indicies'!E164)","v":0},"",{"$f":"IF($F$6,'FRED Indicies'!D164)","v":0},"","","",149,false,{"$f":"IF(AG151,'Google Index'!E178)","v":false},"",{"$f":"IF(AF151,'Google Index'!F178)","v":0},"","","",149,false,{"$f":"IF(AN151,'Commodity Prices'!D164)","v":0},"",{"$f":"IF(AO151,'Commodity Prices'!E164)","v":false},"","","",149,false,{"$f":"IF(AW151,'Yahoo Stocks'!D181)","v":false},"",{"$f":"IF(AW151,'Yahoo Stocks'!E181)","v":false},"","","",149,false,{"$f":"IF(BE151,'Google Finance Stocks'!D175)","v":false},"",{"$f":"IF(BE151,'Google Finance Stocks'!E175)","v":false},"","","",149,false,{"$f":"'Exchange Rates'!D161","v":0},"",{"$f":"IF(BM151,'Exchange Rates'!E161)","v":false},"","",""]
[null,null,null,null,null,null,null,null,null,null,null,150,"","","","",150,false,null,null,null,null,null,150,false,{"$f":"IF($F$6,'FRED Indicies'!E165)","v":0},"",{"$f":"IF($F$6,'FRED Indicies'!D165)","v":0},"","","",150,false,{"$f":"IF(AG152,'Google Index'!E179)","v":false},"",{"$f":"IF(AF152,'Google Index'!F179)","v":0},"","","",150,false,{"$f":"IF(AN152,'Commodity Prices'!D165)","v":0},"",{"$f":"IF(AO152,'Commodity Prices'!E165)","v":false},"","","",150,false,{"$f":"IF(AW152,'Yahoo Stocks'!D182)","v":false},"",{"$f":"IF(AW152,'Yahoo Stocks'!E182)","v":false},"","","",150,false,{"$f":"IF(BE152,'Google Finance Stocks'!D176)","v":false},"",{"$f":"IF(BE152,'Google Finance Stocks'!E176)","v":false},"","","",150,false,{"$f":"'Exchange Rates'!D162","v":0},"",{"$f":"IF(BM152,'Exchange Rates'!E162)","v":false},"","",""]
[null,null,null,null,null,null,null,null,null,null,null,151,"","","","",151,false,null,null,null,null,null,151,false,{"$f":"IF($F$6,'FRED Indicies'!E166)","v":0},"",{"$f":"IF($F$6,'FRED Indicies'!D166)","v":0},"","","",151,false,{"$f":"IF(AG153,'Google Index'!E180)","v":false},"",{"$f":"IF(AF153,'Google Index'!F180)","v":0},"","","",151,false,{"$f":"IF(AN153,'Commodity Prices'!D166)","v":0},"",{"$f":"IF(AO153,'Commodity Prices'!E166)","v":false},"","","",151,false,{"$f":"IF(AW153,'Yahoo Stocks'!D183)","v":false},"",{"$f":"IF(AW153,'Yahoo Stocks'!E183)","v":false},"","","",151,false,{"$f":"IF(BE153,'Google Finance Stocks'!D177)","v":false},"",{"$f":"IF(BE153,'Google Finance Stocks'!E177)","v":false},"","","",151,false,{"$f":"'Exchange Rates'!D163","v":0},"",{"$f":"IF(BM153,'Exchange Rates'!E163)","v":false},"","",""]
[null,null,null,null,null,null,null,null,null,null,null,152,"","","","",null,null,null,null,null,null,null,152,false,{"$f":"IF($F$6,'FRED Indicies'!E167)","v":0},"",{"$f":"IF($F$6,'FRED Indicies'!D167)","v":0},"","","",152,false,{"$f":"IF(AG154,'Google Index'!E181)","v":false},"",{"$f":"IF(AF154,'Google Index'!F181)","v":0},"","","",152,false,{"$f":"IF(AN154,'Commodity Prices'!D167)","v":0},"",{"$f":"IF(AO154,'Commodity Prices'!E167)","v":false},"","","",152,false,{"$f":"IF(AW154,'Yahoo Stocks'!D184)","v":false},"",{"$f":"IF(AW154,'Yahoo Stocks'!E184)","v":false},"","","",152,false,{"$f":"IF(BE154,'Google Finance Stocks'!D178)","v":false},"",{"$f":"IF(BE154,'Google Finance Stocks'!E178)","v":false},"","","",152,false,{"$f":"'Exchange Rates'!D164","v":0},"",{"$f":"IF(BM154,'Exchange Rates'!E164)","v":false},"","",""]
[null,null,null,null,null,null,null,null,null,null,null,153,"","","","",null,null,null,null,null,null,null,153,false,{"$f":"IF($F$6,'FRED Indicies'!E168)","v":0},"",{"$f":"IF($F$6,'FRED Indicies'!D168)","v":0},"","","",153,false,{"$f":"IF(AG155,'Google Index'!E182)","v":false},"",{"$f":"IF(AF155,'Google Index'!F182)","v":0},"","","",153,false,{"$f":"IF(AN155,'Commodity Prices'!D168)","v":0},"",{"$f":"IF(AO155,'Commodity Prices'!E168)","v":false},"","","",153,false,{"$f":"IF(AW155,'Yahoo Stocks'!D185)","v":false},"",{"$f":"IF(AW155,'Yahoo Stocks'!E185)","v":false},"","","",153,false,{"$f":"IF(BE155,'Google Finance Stocks'!D179)","v":false},"",{"$f":"IF(BE155,'Google Finance Stocks'!E179)","v":false},"","","",153,false,{"$f":"'Exchange Rates'!D165","v":0},"",{"$f":"IF(BM155,'Exchange Rates'!E165)","v":false},"","",""]
[null,null,null,null,null,null,null,null,null,null,null,154,"","","","",null,null,null,null,null,null,null,154,false,{"$f":"IF($F$6,'FRED Indicies'!E169)","v":0},"",{"$f":"IF($F$6,'FRED Indicies'!D169)","v":0},"","","",154,false,{"$f":"IF(AG156,'Google Index'!E183)","v":false},"",{"$f":"IF(AF156,'Google Index'!F183)","v":0},"","","",154,false,{"$f":"IF(AN156,'Commodity Prices'!D169)","v":0},"",{"$f":"IF(AO156,'Commodity Prices'!E169)","v":false},"","","",154,false,{"$f":"IF(AW156,'Yahoo Stocks'!D186)","v":false},"",{"$f":"IF(AW156,'Yahoo Stocks'!E186)","v":false},"","","",154,false,{"$f":"IF(BE156,'Google Finance Stocks'!D180)","v":false},"",{"$f":"IF(BE156,'Google Finance Stocks'!E180)","v":false},"","","",154,false,{"$f":"'Exchange Rates'!D166","v":0},"",{"$f":"IF(BM156,'Exchange Rates'!E166)","v":false},"","",""]
[null,null,null,null,null,null,null,null,null,null,null,155,"","","","",null,null,null,null,null,null,null,155,false,{"$f":"IF($F$6,'FRED Indicies'!E170)","v":0},"",{"$f":"IF($F$6,'FRED Indicies'!D170)","v":0},"","","",155,false,{"$f":"IF(AG157,'Google Index'!E184)","v":false},"",{"$f":"IF(AF157,'Google Index'!F184)","v":0},"","","",155,false,{"$f":"IF(AN157,'Commodity Prices'!D170)","v":0},"",{"$f":"IF(AO157,'Commodity Prices'!E170)","v":false},"","","",155,false,{"$f":"IF(AW157,'Yahoo Stocks'!D187)","v":false},"",{"$f":"IF(AW157,'Yahoo Stocks'!E187)","v":false},"","","",155,false,{"$f":"IF(BE157,'Google Finance Stocks'!D181)","v":false},"",{"$f":"IF(BE157,'Google Finance Stocks'!E181)","v":false},"","","",155,false,{"$f":"'Exchange Rates'!D167","v":0},"",{"$f":"IF(BM157,'Exchange Rates'!E167)","v":false},"","",""]
[null,null,null,null,null,null,null,null,null,null,null,156,"","","","",null,null,null,null,null,null,null,156,false,{"$f":"IF($F$6,'FRED Indicies'!E171)","v":0},"",{"$f":"IF($F$6,'FRED Indicies'!D171)","v":0},"","","",156,false,{"$f":"IF(AG158,'Google Index'!E185)","v":false},"",{"$f":"IF(AF158,'Google Index'!F185)","v":0},"","","",156,false,{"$f":"IF(AN158,'Commodity Prices'!D171)","v":0},"",{"$f":"IF(AO158,'Commodity Prices'!E171)","v":false},"","","",156,false,{"$f":"IF(AW158,'Yahoo Stocks'!D188)","v":false},"",{"$f":"IF(AW158,'Yahoo Stocks'!E188)","v":false},"","","",156,false,{"$f":"IF(BE158,'Google Finance Stocks'!D182)","v":false},"",{"$f":"IF(BE158,'Google Finance Stocks'!E182)","v":false},"","","",156,false,{"$f":"'Exchange Rates'!D168","v":0},"",{"$f":"IF(BM158,'Exchange Rates'!E168)","v":false},"","",""]
[null,null,null,null,null,null,null,null,null,null,null,157,"","","","",null,null,null,null,null,null,null,157,false,{"$f":"IF($F$6,'FRED Indicies'!E172)","v":0},"",{"$f":"IF($F$6,'FRED Indicies'!D172)","v":0},"","","",157,false,{"$f":"IF(AG159,'Google Index'!E186)","v":false},"",{"$f":"IF(AF159,'Google Index'!F186)","v":0},"","","",157,false,{"$f":"IF(AN159,'Commodity Prices'!D172)","v":0},"",{"$f":"IF(AO159,'Commodity Prices'!E172)","v":false},"","","",157,false,{"$f":"IF(AW159,'Yahoo Stocks'!D189)","v":false},"",{"$f":"IF(AW159,'Yahoo Stocks'!E189)","v":false},"","","",157,false,{"$f":"IF(BE159,'Google Finance Stocks'!D183)","v":false},"",{"$f":"IF(BE159,'Google Finance Stocks'!E183)","v":false},"","","",157,false,{"$f":"'Exchange Rates'!D169","v":0},"",{"$f":"IF(BM159,'Exchange Rates'!E169)","v":false},"","",""]
[null,null,null,null,null,null,null,null,null,null,null,158,"","","","",null,null,null,null,null,null,null,158,false,{"$f":"IF($F$6,'FRED Indicies'!E173)","v":0},"",{"$f":"IF($F$6,'FRED Indicies'!D173)","v":0},"","","",158,false,{"$f":"IF(AG160,'Google Index'!E187)","v":false},"",{"$f":"IF(AF160,'Google Index'!F187)","v":0},"","","",158,false,{"$f":"IF(AN160,'Commodity Prices'!D173)","v":0},"",{"$f":"IF(AO160,'Commodity Prices'!E173)","v":false},"","","",158,false,{"$f":"IF(AW160,'Yahoo Stocks'!D190)","v":false},"",{"$f":"IF(AW160,'Yahoo Stocks'!E190)","v":false},"","","",158,false,{"$f":"IF(BE160,'Google Finance Stocks'!D184)","v":false},"",{"$f":"IF(BE160,'Google Finance Stocks'!E184)","v":false},"","","",158,false,{"$f":"'Exchange Rates'!D170","v":0},"",{"$f":"IF(BM160,'Exchange Rates'!E170)","v":false},"","",""]
[null,null,null,null,null,null,null,null,null,null,null,159,"","","","",null,null,null,null,null,null,null,159,false,{"$f":"IF($F$6,'FRED Indicies'!E174)","v":0},"",{"$f":"IF($F$6,'FRED Indicies'!D174)","v":0},"","","",159,false,{"$f":"IF(AG161,'Google Index'!E188)","v":false},"",{"$f":"IF(AF161,'Google Index'!F188)","v":0},"","","",159,false,{"$f":"IF(AN161,'Commodity Prices'!D174)","v":0},"",{"$f":"IF(AO161,'Commodity Prices'!E174)","v":false},"","","",159,false,{"$f":"IF(AW161,'Yahoo Stocks'!D191)","v":false},"",{"$f":"IF(AW161,'Yahoo Stocks'!E191)","v":false},"","","",159,false,{"$f":"IF(BE161,'Google Finance Stocks'!D185)","v":false},"",{"$f":"IF(BE161,'Google Finance Stocks'!E185)","v":false},"","","",159,false,{"$f":"'Exchange Rates'!D171","v":0},"",{"$f":"IF(BM161,'Exchange Rates'!E171)","v":false},"","",""]
[null,null,null,null,null,null,null,null,null,null,null,160,"","","","",null,null,null,null,null,null,null,160,false,{"$f":"IF($F$6,'FRED Indicies'!E175)","v":0},"",{"$f":"IF($F$6,'FRED Indicies'!D175)","v":0},"","","",160,false,{"$f":"IF(AG162,'Google Index'!E189)","v":false},"",{"$f":"IF(AF162,'Google Index'!F189)","v":0},"","","",160,false,{"$f":"IF(AN162,'Commodity Prices'!D175)","v":0},"",{"$f":"IF(AO162,'Commodity Prices'!E175)","v":false},"","","",160,false,{"$f":"IF(AW162,'Yahoo Stocks'!D192)","v":false},"",{"$f":"IF(AW162,'Yahoo Stocks'!E192)","v":false},"","","",160,false,{"$f":"IF(BE162,'Google Finance Stocks'!D186)","v":false},"",{"$f":"IF(BE162,'Google Finance Stocks'!E186)","v":false},"","","",160,false,{"$f":"'Exchange Rates'!D172","v":0},"",{"$f":"IF(BM162,'Exchange Rates'!E172)","v":false},"","",""]
[null,null,null,null,null,null,null,null,null,null,null,161,"","","","",null,null,null,null,null,null,null,161,false,{"$f":"IF($F$6,'FRED Indicies'!E176)","v":0},"",{"$f":"IF($F$6,'FRED Indicies'!D176)","v":0},"","","",161,false,{"$f":"IF(AG163,'Google Index'!E190)","v":false},"",{"$f":"IF(AF163,'Google Index'!F190)","v":0},"","","",161,false,{"$f":"IF(AN163,'Commodity Prices'!D176)","v":0},"",{"$f":"IF(AO163,'Commodity Prices'!E176)","v":false},"","","",161,false,{"$f":"IF(AW163,'Yahoo Stocks'!D193)","v":false},"",{"$f":"IF(AW163,'Yahoo Stocks'!E193)","v":false},"","","",161,false,{"$f":"IF(BE163,'Google Finance Stocks'!D187)","v":false},"",{"$f":"IF(BE163,'Google Finance Stocks'!E187)","v":false},"","","",161,false,{"$f":"'Exchange Rates'!D173","v":0},"",{"$f":"IF(BM163,'Exchange Rates'!E173)","v":false},"","",""]
[null,null,null,null,null,null,null,null,null,null,null,162,"","","","",null,null,null,null,null,null,null,162,false,{"$f":"IF($F$6,'FRED Indicies'!E177)","v":0},"",{"$f":"IF($F$6,'FRED Indicies'!D177)","v":0},"","","",162,false,{"$f":"IF(AG164,'Google Index'!E191)","v":false},"",{"$f":"IF(AF164,'Google Index'!F191)","v":0},"","","",162,false,{"$f":"IF(AN164,'Commodity Prices'!D177)","v":0},"",{"$f":"IF(AO164,'Commodity Prices'!E177)","v":false},"","","",162,false,{"$f":"IF(AW164,'Yahoo Stocks'!D194)","v":false},"",{"$f":"IF(AW164,'Yahoo Stocks'!E194)","v":false},"","","",162,false,{"$f":"IF(BE164,'Google Finance Stocks'!D188)","v":false},"",{"$f":"IF(BE164,'Google Finance Stocks'!E188)","v":false},"","","",162,false,{"$f":"'Exchange Rates'!D174","v":0},"",{"$f":"IF(BM164,'Exchange Rates'!E174)","v":false},"","",""]
[null,null,null,null,null,null,null,null,null,null,null,163,"","","","",null,null,null,null,null,null,null,163,false,{"$f":"IF($F$6,'FRED Indicies'!E178)","v":0},"",{"$f":"IF($F$6,'FRED Indicies'!D178)","v":0},"","","",163,false,{"$f":"IF(AG165,'Google Index'!E192)","v":false},"",{"$f":"IF(AF165,'Google Index'!F192)","v":0},"","","",163,false,{"$f":"IF(AN165,'Commodity Prices'!D178)","v":0},"",{"$f":"IF(AO165,'Commodity Prices'!E178)","v":false},"","","",163,false,{"$f":"IF(AW165,'Yahoo Stocks'!D195)","v":false},"",{"$f":"IF(AW165,'Yahoo Stocks'!E195)","v":false},"","","",163,false,{"$f":"IF(BE165,'Google Finance Stocks'!D189)","v":false},"",{"$f":"IF(BE165,'Google Finance Stocks'!E189)","v":false},"","","",163,false,{"$f":"'Exchange Rates'!D175","v":0},"",{"$f":"IF(BM165,'Exchange Rates'!E175)","v":false},"","",""]
[null,null,null,null,null,null,null,null,null,null,null,164,"","","","",null,null,null,null,null,null,null,164,false,{"$f":"IF($F$6,'FRED Indicies'!E179)","v":0},"",{"$f":"IF($F$6,'FRED Indicies'!D179)","v":0},"","","",164,false,{"$f":"IF(AG166,'Google Index'!E193)","v":false},"",{"$f":"IF(AF166,'Google Index'!F193)","v":0},"","","",164,false,{"$f":"IF(AN166,'Commodity Prices'!D179)","v":0},"",{"$f":"IF(AO166,'Commodity Prices'!E179)","v":false},"","","",164,false,{"$f":"IF(AW166,'Yahoo Stocks'!D196)","v":false},"",{"$f":"IF(AW166,'Yahoo Stocks'!E196)","v":false},"","","",164,false,{"$f":"IF(BE166,'Google Finance Stocks'!D190)","v":false},"",{"$f":"IF(BE166,'Google Finance Stocks'!E190)","v":false},"","","",164,false,{"$f":"'Exchange Rates'!D176","v":0},"",{"$f":"IF(BM166,'Exchange Rates'!E176)","v":false},"","",""]
[null,null,null,null,null,null,null,null,null,null,null,165,"","","","",null,null,null,null,null,null,null,165,false,{"$f":"IF($F$6,'FRED Indicies'!E180)","v":0},"",{"$f":"IF($F$6,'FRED Indicies'!D180)","v":0},"","","",165,false,{"$f":"IF(AG167,'Google Index'!E194)","v":false},"",{"$f":"IF(AF167,'Google Index'!F194)","v":0},"","","",165,false,{"$f":"IF(AN167,'Commodity Prices'!D180)","v":0},"",{"$f":"IF(AO167,'Commodity Prices'!E180)","v":false},"","","",165,false,{"$f":"IF(AW167,'Yahoo Stocks'!D197)","v":false},"",{"$f":"IF(AW167,'Yahoo Stocks'!E197)","v":false},"","","",165,false,{"$f":"IF(BE167,'Google Finance Stocks'!D191)","v":false},"",{"$f":"IF(BE167,'Google Finance Stocks'!E191)","v":false},"","","",165,false,{"$f":"'Exchange Rates'!D177","v":0},"",{"$f":"IF(BM167,'Exchange Rates'!E177)","v":false},"","",""]
[null,null,null,null,null,null,null,null,null,null,null,166,"","","","",null,null,null,null,null,null,null,166,false,{"$f":"IF($F$6,'FRED Indicies'!E181)","v":0},"",{"$f":"IF($F$6,'FRED Indicies'!D181)","v":0},"","","",166,false,{"$f":"IF(AG168,'Google Index'!E195)","v":false},"",{"$f":"IF(AF168,'Google Index'!F195)","v":0},"","","",166,false,{"$f":"IF(AN168,'Commodity Prices'!D181)","v":0},"",{"$f":"IF(AO168,'Commodity Prices'!E181)","v":false},"","","",166,false,{"$f":"IF(AW168,'Yahoo Stocks'!D198)","v":false},"",{"$f":"IF(AW168,'Yahoo Stocks'!E198)","v":false},"","","",166,false,{"$f":"IF(BE168,'Google Finance Stocks'!D192)","v":false},"",{"$f":"IF(BE168,'Google Finance Stocks'!E192)","v":false},"","","",166,false,{"$f":"'Exchange Rates'!D178","v":0},"",{"$f":"IF(BM168,'Exchange Rates'!E178)","v":false},"","",""]
[null,null,null,null,null,null,null,null,null,null,null,167,"","","","",null,null,null,null,null,null,null,167,false,{"$f":"IF($F$6,'FRED Indicies'!E182)","v":0},"",{"$f":"IF($F$6,'FRED Indicies'!D182)","v":0},"","","",167,false,{"$f":"IF(AG169,'Google Index'!E196)","v":false},"",{"$f":"IF(AF169,'Google Index'!F196)","v":0},"","","",167,false,{"$f":"IF(AN169,'Commodity Prices'!D182)","v":0},"",{"$f":"IF(AO169,'Commodity Prices'!E182)","v":false},"","","",167,false,{"$f":"IF(AW169,'Yahoo Stocks'!D199)","v":false},"",{"$f":"IF(AW169,'Yahoo Stocks'!E199)","v":false},"","","",167,false,{"$f":"IF(BE169,'Google Finance Stocks'!D193)","v":false},"",{"$f":"IF(BE169,'Google Finance Stocks'!E193)","v":false},"","","",167,false,{"$f":"'Exchange Rates'!D179","v":0},"",{"$f":"IF(BM169,'Exchange Rates'!E179)","v":false},"","",""]
[null,null,null,null,null,null,null,null,null,null,null,168,"","","","",null,null,null,null,null,null,null,168,false,{"$f":"IF($F$6,'FRED Indicies'!E183)","v":0},"",{"$f":"IF($F$6,'FRED Indicies'!D183)","v":0},"","","",168,false,{"$f":"IF(AG170,'Google Index'!E197)","v":false},"",{"$f":"IF(AF170,'Google Index'!F197)","v":0},"","","",168,false,{"$f":"IF(AN170,'Commodity Prices'!D183)","v":0},"",{"$f":"IF(AO170,'Commodity Prices'!E183)","v":false},"","","",168,false,{"$f":"IF(AW170,'Yahoo Stocks'!D200)","v":false},"",{"$f":"IF(AW170,'Yahoo Stocks'!E200)","v":false},"","","",168,false,{"$f":"IF(BE170,'Google Finance Stocks'!D194)","v":false},"",{"$f":"IF(BE170,'Google Finance Stocks'!E194)","v":false},"","","",168,false,{"$f":"'Exchange Rates'!D180","v":0},"",{"$f":"IF(BM170,'Exchange Rates'!E180)","v":false},"","",""]
[null,null,null,null,null,null,null,null,null,null,null,169,"","","","",null,null,null,null,null,null,null,169,false,{"$f":"IF($F$6,'FRED Indicies'!E184)","v":0},"",{"$f":"IF($F$6,'FRED Indicies'!D184)","v":0},"","","",169,false,{"$f":"IF(AG171,'Google Index'!E198)","v":false},"",{"$f":"IF(AF171,'Google Index'!F198)","v":0},"","","",169,false,{"$f":"IF(AN171,'Commodity Prices'!D184)","v":0},"",{"$f":"IF(AO171,'Commodity Prices'!E184)","v":false},"","","",169,false,{"$f":"IF(AW171,'Yahoo Stocks'!D201)","v":false},"",{"$f":"IF(AW171,'Yahoo Stocks'!E201)","v":false},"","","",169,false,{"$f":"IF(BE171,'Google Finance Stocks'!D195)","v":false},"",{"$f":"IF(BE171,'Google Finance Stocks'!E195)","v":false},"","","",169,false,{"$f":"'Exchange Rates'!D181","v":0},"",{"$f":"IF(BM171,'Exchange Rates'!E181)","v":false},"","",""]
[null,null,null,null,null,null,null,null,null,null,null,170,"","","","",null,null,null,null,null,null,null,null,null,null,null,null,null,null,null,null,null,null,null,null,null,null,null,null,null,null,null,null,null,null,null,null,null,null,null,null,null,null,null,170,{"$f":"IF(AND($F$18,BD172<=$H$18),BD172)","v":false},{"$f":"IF(BE172,'Google Finance Stocks'!D196)","v":false},{"$f":"IFERROR(INDEX(BF:BF,MATCH(Q172,BE:BE,0)),\"\")","v":""},{"$f":"IF(BE172,'Google Finance Stocks'!E196)","v":false},{"$f":"IFERROR(INDEX(BH:BH,MATCH(Q172,BE:BE,0)),\"\")","v":""},{"$f":"IF(BI172<>\"\",$I$18,\"\")","v":""},{"$f":"IF(BI172<>\"\",$J$18,\"\")","v":""},170,{"$f":"IF(AND($F$21,BL172<=$H$21),BL172)","v":false},{"$f":"'Exchange Rates'!D182","v":0},{"$f":"IFERROR(INDEX(BN:BN,MATCH(L172,BM:BM,0)),\"\")","v":""},{"$f":"IF(BM172,'Exchange Rates'!E182)","v":false},{"$f":"IFERROR(INDEX(BP:BP,MATCH(L172,BM:BM,0)),\"\")","v":""},{"$f":"IF(BQ172<>\"\",$I$21,\"\")","v":""},{"$f":"IF(BQ172<>\"\",$J$21,\"\")","v":""}]
[null,null,null,null,null,null,null,null,null,null,null,171,"","","","",null,null,null,null,null,null,null,null,null,null,null,null,null,null,null,null,null,null,null,null,null,null,null,null,null,null,null,null,null,null,null,null,null,null,null,null,null,null,null,171,false,{"$f":"IF(BE173,'Google Finance Stocks'!D197)","v":false},"",{"$f":"IF(BE173,'Google Finance Stocks'!E197)","v":false},"","","",171,false,{"$f":"'Exchange Rates'!D183","v":0},"",{"$f":"IF(BM173,'Exchange Rates'!E183)","v":false},"","",""]
[null,null,null,null,null,null,null,null,null,null,null,172,"","","","",null,null,null,null,null,null,null,null,null,null,null,null,null,null,null,null,null,null,null,null,null,null,null,null,null,null,null,null,null,null,null,null,null,null,null,null,null,null,null,172,false,{"$f":"IF(BE174,'Google Finance Stocks'!D198)","v":false},"",{"$f":"IF(BE174,'Google Finance Stocks'!E198)","v":false},"","","",172,false,{"$f":"'Exchange Rates'!D184","v":0},"",{"$f":"IF(BM174,'Exchange Rates'!E184)","v":false},"","",""]
[null,null,null,null,null,null,null,null,null,null,null,173,"","","","",null,null,null,null,null,null,null,null,null,null,null,null,null,null,null,null,null,null,null,null,null,null,null,null,null,null,null,null,null,null,null,null,null,null,null,null,null,null,null,173,false,{"$f":"IF(BE175,'Google Finance Stocks'!D199)","v":false},"",{"$f":"IF(BE175,'Google Finance Stocks'!E199)","v":false},"","","",173,false,{"$f":"'Exchange Rates'!D185","v":0},"",{"$f":"IF(BM175,'Exchange Rates'!E185)","v":false},"","",""]
[null,null,null,null,null,null,null,null,null,null,null,174,"","","","",null,null,null,null,null,null,null,null,null,null,null,null,null,null,null,null,null,null,null,null,null,null,null,null,null,null,null,null,null,null,null,null,null,null,null,null,null,null,null,174,false,{"$f":"IF(BE176,'Google Finance Stocks'!D200)","v":false},"",{"$f":"IF(BE176,'Google Finance Stocks'!E200)","v":false},"","","",174,false,{"$f":"'Exchange Rates'!D186","v":0},"",{"$f":"IF(BM176,'Exchange Rates'!E186)","v":false},"","",""]
[null,null,null,null,null,null,null,null,null,null,null,null,null,null,null,null,null,null,null,null,null,null,null,null,null,null,null,null,null,null,null,null,null,null,null,null,null,null,null,null,null,null,null,null,null,null,null,null,null,null,null,null,null,null,null,175,false,{"$f":"IF(BE177,'Google Finance Stocks'!D201)","v":false},"",{"$f":"IF(BE177,'Google Finance Stocks'!E201)","v":false},"","","",175,false,{"$f":"'Exchange Rates'!D187","v":0},"",{"$f":"IF(BM177,'Exchange Rates'!E187)","v":false},"","",""]
[null,null,null,null,null,null,null,null,null,null,null,null,null,null,null,null,null,null,null,null,null,null,null,null,null,null,null,null,null,null,null,null,null,null,null,null,null,null,null,null,null,null,null,null,null,null,null,null,null,null,null,null,null,null,null,176,false,{"$f":"IF(BE178,'Google Finance Stocks'!D202)","v":false},"",{"$f":"IF(BE178,'Google Finance Stocks'!E202)","v":false},"","","",176,false,{"$f":"'Exchange Rates'!D188","v":0},"",{"$f":"IF(BM178,'Exchange Rates'!E188)","v":false},"","",""]
[null,null,null,null,null,null,null,null,null,null,null,null,null,null,null,null,null,null,null,null,null,null,null,null,null,null,null,null,null,null,null,null,null,null,null,null,null,null,null,null,null,null,null,null,null,null,null,null,null,null,null,null,null,null,null,177,false,{"$f":"IF(BE179,'Google Finance Stocks'!D203)","v":false},"",{"$f":"IF(BE179,'Google Finance Stocks'!E203)","v":false},"","","",177,false,{"$f":"'Exchange Rates'!D189","v":0},"",{"$f":"IF(BM179,'Exchange Rates'!E189)","v":false},"","",""]
[null,null,null,null,null,null,null,null,null,null,null,null,null,null,null,null,null,null,null,null,null,null,null,null,null,null,null,null,null,null,null,null,null,null,null,null,null,null,null,null,null,null,null,null,null,null,null,null,null,null,null,null,null,null,null,178,false,{"$f":"IF(BE180,'Google Finance Stocks'!D204)","v":false},"",{"$f":"IF(BE180,'Google Finance Stocks'!E204)","v":false},"","","",178,false,{"$f":"'Exchange Rates'!D190","v":0},"",{"$f":"IF(BM180,'Exchange Rates'!E190)","v":false},"","",""]
[null,null,null,null,null,null,null,null,null,null,null,null,null,null,null,null,null,null,null,null,null,null,null,null,null,null,null,null,null,null,null,null,null,null,null,null,null,null,null,null,null,null,null,null,null,null,null,null,null,null,null,null,null,null,null,179,false,{"$f":"IF(BE181,'Google Finance Stocks'!D205)","v":false},"",{"$f":"IF(BE181,'Google Finance Stocks'!E205)","v":false},"","","",179,false,{"$f":"'Exchange Rates'!D191","v":0},"",{"$f":"IF(BM181,'Exchange Rates'!E191)","v":false},"","",""]
[null,null,null,null,null,null,null,null,null,null,null,null,null,null,null,null,null,null,null,null,null,null,null,null,null,null,null,null,null,null,null,null,null,null,null,null,null,null,null,null,null,null,null,null,null,null,null,null,null,null,null,null,null,null,null,180,false,{"$f":"IF(BE182,'Google Finance Stocks'!D206)","v":false},"",{"$f":"IF(BE182,'Google Finance Stocks'!E206)","v":false},"","","",180,false,{"$f":"'Exchange Rates'!D192","v":0},"",{"$f":"IF(BM182,'Exchange Rates'!E192)","v":false},"","",""]
[null,null,null,null,null,null,null,null,null,null,null,null,null,null,null,null,null,null,null,null,null,null,null,null,null,null,null,null,null,null,null,null,null,null,null,null,null,null,null,null,null,null,null,null,null,null,null,null,null,null,null,null,null,null,null,181,false,{"$f":"IF(BE183,'Google Finance Stocks'!D207)","v":false},"",{"$f":"IF(BE183,'Google Finance Stocks'!E207)","v":false},"","","",181,false,{"$f":"'Exchange Rates'!D193","v":0},"",{"$f":"IF(BM183,'Exchange Rates'!E193)","v":false},"","",""]
[null,null,null,null,null,null,null,null,null,null,null,null,null,null,null,null,null,null,null,null,null,null,null,null,null,null,null,null,null,null,null,null,null,null,null,null,null,null,null,null,null,null,null,null,null,null,null,null,null,null,null,null,null,null,null,182,false,{"$f":"IF(BE184,'Google Finance Stocks'!D208)","v":false},"",{"$f":"IF(BE184,'Google Finance Stocks'!E208)","v":false},"","","",182,false,{"$f":"'Exchange Rates'!D194","v":0},"",{"$f":"IF(BM184,'Exchange Rates'!E194)","v":false},"","",""]
[null,null,null,null,null,null,null,null,null,null,null,null,null,null,null,null,null,null,null,null,null,null,null,null,null,null,null,null,null,null,null,null,null,null,null,null,null,null,null,null,null,null,null,null,null,null,null,null,null,null,null,null,null,null,null,183,false,{"$f":"IF(BE185,'Google Finance Stocks'!D209)","v":false},"",{"$f":"IF(BE185,'Google Finance Stocks'!E209)","v":false},"","","",183,false,{"$f":"'Exchange Rates'!D195","v":0},"",{"$f":"IF(BM185,'Exchange Rates'!E195)","v":false},"","",""]
[null,null,null,null,null,null,null,null,null,null,null,null,null,null,null,null,null,null,null,null,null,null,null,null,null,null,null,null,null,null,null,null,null,null,null,null,null,null,null,null,null,null,null,null,null,null,null,null,null,null,null,null,null,null,null,184,false,{"$f":"IF(BE186,'Google Finance Stocks'!D210)","v":false},"",{"$f":"IF(BE186,'Google Finance Stocks'!E210)","v":false},"","","",184,false,{"$f":"'Exchange Rates'!D196","v":0},"",{"$f":"IF(BM186,'Exchange Rates'!E196)","v":false},"","",""]
[null,null,null,null,null,null,null,null,null,null,null,null,null,null,null,null,null,null,null,null,null,null,null,null,null,null,null,null,null,null,null,null,null,null,null,null,null,null,null,null,null,null,null,null,null,null,null,null,null,null,null,null,null,null,null,185,false,{"$f":"IF(BE187,'Google Finance Stocks'!D211)","v":false},"",{"$f":"IF(BE187,'Google Finance Stocks'!E211)","v":false},"","","",185,false,{"$f":"'Exchange Rates'!D197","v":0},"",{"$f":"IF(BM187,'Exchange Rates'!E197)","v":false},"","",""]
[null,null,null,null,null,null,null,null,null,null,null,null,null,null,null,null,null,null,null,null,null,null,null,null,null,null,null,null,null,null,null,null,null,null,null,null,null,null,null,null,null,null,null,null,null,null,null,null,null,null,null,null,null,null,null,186,false,{"$f":"IF(BE188,'Google Finance Stocks'!D212)","v":false},"",{"$f":"IF(BE188,'Google Finance Stocks'!E212)","v":false},"","","",186,false,{"$f":"'Exchange Rates'!D198","v":0},"",{"$f":"IF(BM188,'Exchange Rates'!E198)","v":false},"","",""]
[null,null,null,null,null,null,null,null,null,null,null,null,null,null,null,null,null,null,null,null,null,null,null,null,null,null,null,null,null,null,null,null,null,null,null,null,null,null,null,null,null,null,null,null,null,null,null,null,null,null,null,null,null,null,null,187,false,{"$f":"IF(BE189,'Google Finance Stocks'!D213)","v":false},"",{"$f":"IF(BE189,'Google Finance Stocks'!E213)","v":false},"","","",187,false,{"$f":"'Exchange Rates'!D199","v":0},"",{"$f":"IF(BM189,'Exchange Rates'!E199)","v":false},"","",""]
[null,null,null,null,null,null,null,null,null,null,null,null,null,null,null,null,null,null,null,null,null,null,null,null,null,null,null,null,null,null,null,null,null,null,null,null,null,null,null,null,null,null,null,null,null,null,null,null,null,null,null,null,null,null,null,188,false,{"$f":"IF(BE190,'Google Finance Stocks'!D214)","v":false},"",{"$f":"IF(BE190,'Google Finance Stocks'!E214)","v":false},"","","",188,false,{"$f":"'Exchange Rates'!D200","v":0},"",{"$f":"IF(BM190,'Exchange Rates'!E200)","v":false},"","",""]
[null,null,null,null,null,null,null,null,null,null,null,null,null,null,null,null,null,null,null,null,null,null,null,null,null,null,null,null,null,null,null,null,null,null,null,null,null,null,null,null,null,null,null,null,null,null,null,null,null,null,null,null,null,null,null,189,false,{"$f":"IF(BE191,'Google Finance Stocks'!D215)","v":false},"",{"$f":"IF(BE191,'Google Finance Stocks'!E215)","v":false},"","","",189,false,{"$f":"'Exchange Rates'!D201","v":0},"",{"$f":"IF(BM191,'Exchange Rates'!E201)","v":false},"","",""]
[null,null,null,null,null,null,null,null,null,null,null,null,null,null,null,null,null,null,null,null,null,null,null,null,null,null,null,null,null,null,null,null,null,null,null,null,null,null,null,null,null,null,null,null,null,null,null,null,null,null,null,null,null,null,null,190,false,{"$f":"IF(BE192,'Google Finance Stocks'!D216)","v":false},"",{"$f":"IF(BE192,'Google Finance Stocks'!E216)","v":false},"","","",190,false,{"$f":"'Exchange Rates'!D202","v":0},"",{"$f":"IF(BM192,'Exchange Rates'!E202)","v":false},"","",""]
[null,null,null,null,null,null,null,null,null,null,null,null,null,null,null,null,null,null,null,null,null,null,null,null,null,null,null,null,null,null,null,null,null,null,null,null,null,null,null,null,null,null,null,null,null,null,null,null,null,null,null,null,null,null,null,191,false,{"$f":"IF(BE193,'Google Finance Stocks'!D217)","v":false},"",{"$f":"IF(BE193,'Google Finance Stocks'!E217)","v":false},"","","",191,false,{"$f":"'Exchange Rates'!D203","v":0},"",{"$f":"IF(BM193,'Exchange Rates'!E203)","v":false},"","",""]
[null,null,null,null,null,null,null,null,null,null,null,null,null,null,null,null,null,null,null,null,null,null,null,null,null,null,null,null,null,null,null,null,null,null,null,null,null,null,null,null,null,null,null,null,null,null,null,null,null,null,null,null,null,null,null,192,false,{"$f":"IF(BE194,'Google Finance Stocks'!D218)","v":false},"",{"$f":"IF(BE194,'Google Finance Stocks'!E218)","v":false},"","","",192,false,{"$f":"'Exchange Rates'!D204","v":0},"",{"$f":"IF(BM194,'Exchange Rates'!E204)","v":false},"","",""]
[null,null,null,null,null,null,null,null,null,null,null,null,null,null,null,null,null,null,null,null,null,null,null,null,null,null,null,null,null,null,null,null,null,null,null,null,null,null,null,null,null,null,null,null,null,null,null,null,null,null,null,null,null,null,null,193,false,{"$f":"IF(BE195,'Google Finance Stocks'!D219)","v":false},"",{"$f":"IF(BE195,'Google Finance Stocks'!E219)","v":false},"","","",193,false,{"$f":"'Exchange Rates'!D205","v":0},"",{"$f":"IF(BM195,'Exchange Rates'!E205)","v":false},"","",""]
[null,null,null,null,null,null,null,null,null,null,null,null,null,null,null,null,null,null,null,null,null,null,null,null,null,null,null,null,null,null,null,null,null,null,null,null,null,null,null,null,null,null,null,null,null,null,null,null,null,null,null,null,null,null,null,194,false,{"$f":"IF(BE196,'Google Finance Stocks'!D220)","v":false},"",{"$f":"IF(BE196,'Google Finance Stocks'!E220)","v":false},"","","",194,false,{"$f":"'Exchange Rates'!D206","v":0},"",{"$f":"IF(BM196,'Exchange Rates'!E206)","v":false},"","",""]
[null,null,null,null,null,null,null,null,null,null,null,null,null,null,null,null,null,null,null,null,null,null,null,null,null,null,null,null,null,null,null,null,null,null,null,null,null,null,null,null,null,null,null,null,null,null,null,null,null,null,null,null,null,null,null,{"$f":"BD196+1","v":195},false,{"$f":"IF(BE197,'Google Finance Stocks'!D221)","v":false},"",{"$f":"IF(BE197,'Google Finance Stocks'!E221)","v":false},"","","",{"$f":"BL196+1","v":195},false,{"$f":"'Exchange Rates'!D207","v":0},"",{"$f":"IF(BM197,'Exchange Rates'!E207)","v":false},"","",""]
[null,null,null,null,null,null,null,null,null,null,null,null,null,null,null,null,null,null,null,null,null,null,null,null,null,null,null,null,null,null,null,null,null,null,null,null,null,null,null,null,null,null,null,null,null,null,null,null,null,null,null,null,null,null,null,196,false,{"$f":"IF(BE198,'Google Finance Stocks'!D222)","v":false},"",{"$f":"IF(BE198,'Google Finance Stocks'!E222)","v":false},"","","",196,false,{"$f":"'Exchange Rates'!D208","v":0},"",{"$f":"IF(BM198,'Exchange Rates'!E208)","v":false},"","",""]
[null,null,null,null,null,null,null,null,null,null,null,null,null,null,null,null,null,null,null,null,null,null,null,null,null,null,null,null,null,null,null,null,null,null,null,null,null,null,null,null,null,null,null,null,null,null,null,null,null,null,null,null,null,null,null,197,false,{"$f":"IF(BE199,'Google Finance Stocks'!D223)","v":false},"",{"$f":"IF(BE199,'Google Finance Stocks'!E223)","v":false},"","","",197,false,{"$f":"'Exchange Rates'!D209","v":0},"",{"$f":"IF(BM199,'Exchange Rates'!E209)","v":false},"","",""]
[null,null,null,null,null,null,null,null,null,null,null,null,null,null,null,null,null,null,null,null,null,null,null,null,null,null,null,null,null,null,null,null,null,null,null,null,null,null,null,null,null,null,null,null,null,null,null,null,null,null,null,null,null,null,null,198,false,{"$f":"IF(BE200,'Google Finance Stocks'!D224)","v":false},"",{"$f":"IF(BE200,'Google Finance Stocks'!E224)","v":false},"","","",198,false,{"$f":"'Exchange Rates'!D210","v":0},"",{"$f":"IF(BM200,'Exchange Rates'!E210)","v":false},"","",""]
[null,null,null,null,null,null,null,null,null,null,null,null,null,null,null,null,null,null,null,null,null,null,null,null,null,null,null,null,null,null,null,null,null,null,null,null,null,null,null,null,null,null,null,null,null,null,null,null,null,null,null,null,null,null,null,199,false,{"$f":"IF(BE201,'Google Finance Stocks'!D225)","v":false},"",{"$f":"IF(BE201,'Google Finance Stocks'!E225)","v":false},"","","",199,false,{"$f":"'Exchange Rates'!D211","v":0},"",{"$f":"IF(BM201,'Exchange Rates'!E211)","v":false},"","",""]
[null,null,null,null,null,null,null,null,null,null,null,null,null,null,null,null,null,null,null,null,null,null,null,null,null,null,null,null,null,null,null,null,null,null,null,null,null,null,null,null,null,null,null,null,null,null,null,null,null,null,null,null,null,null,null,200,false,{"$f":"IF(BE202,'Google Finance Stocks'!D226)","v":false},"",{"$f":"IF(BE202,'Google Finance Stocks'!E226)","v":false},"","","",200,false,{"$f":"'Exchange Rates'!D212","v":0},"",{"$f":"IF(BM202,'Exchange Rates'!E212)","v":false},"","",""]
[null,null,null,null,null,null,null,null,null,null,null,null,null,null,null,null,null,null,null,null,null,null,null,null,null,null,null,null,null,null,null,null,null,null,null,null,null,null,null,null,null,null,null,null,null,null,null,null,null,null,null,null,null,null,null,201,false,{"$f":"IF(BE203,'Google Finance Stocks'!D227)","v":false},"",{"$f":"IF(BE203,'Google Finance Stocks'!E227)","v":false},"","","",201,false,{"$f":"'Exchange Rates'!D213","v":0},"",{"$f":"IF(BM203,'Exchange Rates'!E213)","v":false},"","",""]
[null,null,null,null,null,null,null,null,null,null,null,null,null,null,null,null,null,null,null,null,null,null,null,null,null,null,null,null,null,null,null,null,null,null,null,null,null,null,null,null,null,null,null,null,null,null,null,null,null,null,null,null,null,null,null,202,false,{"$f":"IF(BE204,'Google Finance Stocks'!D228)","v":false},"",{"$f":"IF(BE204,'Google Finance Stocks'!E228)","v":false},"","","",202,false,{"$f":"'Exchange Rates'!D214","v":0},"",{"$f":"IF(BM204,'Exchange Rates'!E214)","v":false},"","",""]
[null,null,null,null,null,null,null,null,null,null,null,null,null,null,null,null,null,null,null,null,null,null,null,null,null,null,null,null,null,null,null,null,null,null,null,null,null,null,null,null,null,null,null,null,null,null,null,null,null,null,null,null,null,null,null,203,false,{"$f":"IF(BE205,'Google Finance Stocks'!D229)","v":false},"",{"$f":"IF(BE205,'Google Finance Stocks'!E229)","v":false},"","","",203,false,{"$f":"'Exchange Rates'!D215","v":0},"",{"$f":"IF(BM205,'Exchange Rates'!E215)","v":false},"","",""]
[null,null,null,null,null,null,null,null,null,null,null,null,null,null,null,null,null,null,null,null,null,null,null,null,null,null,null,null,null,null,null,null,null,null,null,null,null,null,null,null,null,null,null,null,null,null,null,null,null,null,null,null,null,null,null,204,false,{"$f":"IF(BE206,'Google Finance Stocks'!D230)","v":false},"",{"$f":"IF(BE206,'Google Finance Stocks'!E230)","v":false},"","","",204,false,{"$f":"'Exchange Rates'!D216","v":0},"",{"$f":"IF(BM206,'Exchange Rates'!E216)","v":false},"","",""]

{"sheet":"Multiple Stock Graph","index":2,"n_rows":300,"n_cols":29,"rows_kept":300,"cut":false,"hidden":false,"merged":[]}
[null,null,"Index",null,null,null,null,null,null,null,"IRR","Vol","Beta",null,null,null,null,null,null,null,null,null,null,null,null,null,"Start","Final","Years"]
[null,null,null,null,null,null,null,null,null,{"$f":"O26","v":""},{"$f":"Summary!K4","v":{"$error":"#DIV/0!"}},{"$f":"Summary!AT5","v":{"$error":"#DIV/0!"}},{"$f":"Summary!AT3","v":{"$error":"#DIV/0!"}},null,null,null,null,null,null,null,null,null,null,null,{"$f":"J2","v":""},null,{"$f":"Summary!D3","v":"1950-01-01"},{"$f":"Summary!K3","v":{"$error":"#DIV/0!"}},{"$f":"Summary!E4","v":21.483305966064588}]
[null,"Comparison vs Base",null,null,null,null,"Counter","Match","Selection"]
[1,{"$f":"'Read Stocks'!M3","v":""},{"$f":"'Read Stocks'!N3","v":""},false,null,{"$f":"D4*1","v":0},1,{"$f":"MATCH(G4,F$1:F$555,0)","v":6},{"$f":"INDEX(B:B,H4)","v":""},{"$f":"INDEX(C:C,H4)","v":""},{"$f":"IFERROR(TRANSPOSE(Summary!BA4:BF4),\"\")","v":""},{"$f":"IFERROR(TRANSPOSE(Summary!AU5:AZ5),\"\")","v":""},{"$f":"IFERROR(TRANSPOSE(Summary!AU3:AZ3),\"\")","v":""},null,null,null,null,null,null,null,null,null,null,null,{"$f":"J4","v":""},null,{"$f":"TRANSPOSE(Summary!AB2:AG2)","v":{"$error":"#REF!"}},{"$f":"TRANSPOSE(Summary!BA3:BF3)","v":1}]
[2,{"$f":"'Read Stocks'!M4","v":""},{"$f":"'Read Stocks'!N4","v":""},false,null,{"$f":"F4+D5","v":0},2,{"$f":"MATCH(G5,F$1:F$555,0)","v":8},{"$f":"INDEX(B:B,H5)","v":""},{"$f":"INDEX(C:C,H5)","v":""},"","","",null,null,null,null,null,null,null,null,null,null,null,{"$f":"J5","v":""},null,{"$error":"#REF!"},1]
[3,{"$f":"'Read Stocks'!M5","v":""},{"$f":"'Read Stocks'!N5","v":""},true,null,1,3,9,"","","","","",null,null,null,null,null,null,null,null,null,null,null,"",null,{"$error":"#REF!"},1]
[4,{"$f":"'Read Stocks'!M6","v":""},{"$f":"'Read Stocks'!N6","v":""},false,null,1,4,11,"","","","","",null,null,null,null,null,null,null,null,null,null,null,"",null,{"$error":"#REF!"},1]
[5,{"$f":"'Read Stocks'!M7","v":""},{"$f":"'Read Stocks'!N7","v":""},true,null,2,5,{"$error":"#N/A"},{"$error":"#N/A"},{"$error":"#N/A"},"","","",null,null,null,null,null,null,null,null,null,null,null,{"$error":"#N/A"},null,{"$error":"#N/A"},1]
[6,{"$f":"'Read Stocks'!M8","v":""},{"$f":"'Read Stocks'!N8","v":""},true,null,3,6,{"$error":"#N/A"},{"$error":"#N/A"},{"$error":"#N/A"},"","","",null,null,null,null,null,null,null,null,null,null,null,null,null,{"$error":"#N/A"},1]
[7,{"$f":"'Read Stocks'!M9","v":""},{"$f":"'Read Stocks'!N9","v":""},false,null,3,7,{"$error":"#N/A"},{"$error":"#N/A"},{"$error":"#N/A"},null,null,null,null,null,null,null,null,null,null,null,null,null,null,null,null,{"$error":"#N/A"},{"$error":"#N/A"}]
[8,{"$f":"'Read Stocks'!M10","v":""},{"$f":"'Read Stocks'!N10","v":""},true,null,4,8,{"$error":"#N/A"},{"$error":"#N/A"},{"$error":"#N/A"}]
[9,{"$f":"'Read Stocks'!M11","v":""},{"$f":"'Read Stocks'!N11","v":""},false,null,4,9,{"$error":"#N/A"},{"$error":"#N/A"},{"$error":"#N/A"}]
[10,{"$f":"'Read Stocks'!M12","v":""},{"$f":"'Read Stocks'!N12","v":""},false,null,4,10,{"$error":"#N/A"},{"$error":"#N/A"},{"$error":"#N/A"}]
[11,{"$f":"'Read Stocks'!M13","v":""},{"$f":"'Read Stocks'!N13","v":""},false,null,4,11,{"$error":"#N/A"},{"$error":"#N/A"},{"$error":"#N/A"}]
[12,{"$f":"'Read Stocks'!M14","v":""},{"$f":"'Read Stocks'!N14","v":""},false,null,4,12,{"$error":"#N/A"},{"$error":"#N/A"},{"$f":"J2","v":""},0,{"$f":"IFERROR(INDEX('Read Stocks'!$BN$3:$BN$11,'Multiple Stock Graph'!K15),\"USD\")","v":"USD"}]
[13,{"$f":"'Read Stocks'!M15","v":""},{"$f":"'Read Stocks'!N15","v":""},false,null,4,13,{"$error":"#N/A"},{"$error":"#N/A"},{"$f":"J4","v":""},0,{"$f":"IFERROR(INDEX('Read Stocks'!$BN$3:$BN$11,'Multiple Stock Graph'!K16),\"USD\")","v":"USD"}]
[14,{"$f":"'Read Stocks'!M16","v":""},{"$f":"'Read Stocks'!N16","v":""},false,null,4,14,{"$error":"#N/A"},{"$error":"#N/A"},{"$f":"J5","v":""},0,{"$f":"IFERROR(INDEX('Read Stocks'!$BN$3:$BN$11,'Multiple Stock Graph'!K17),\"USD\")","v":"USD"}]
[15,{"$f":"'Read Stocks'!M17","v":""},{"$f":"'Read Stocks'!N17","v":""},false,null,4,15,{"$error":"#N/A"},{"$error":"#N/A"},"",0,{"$f":"IFERROR(INDEX('Read Stocks'!$BN$3:$BN$11,'Multiple Stock Graph'!K18),\"USD\")","v":"USD"}]
[16,{"$f":"'Read Stocks'!M18","v":""},{"$f":"'Read Stocks'!N18","v":""},false,null,4,16,{"$error":"#N/A"},{"$error":"#N/A"},"",0,{"$f":"IFERROR(INDEX('Read Stocks'!$BN$3:$BN$11,'Multiple Stock Graph'!K19),\"USD\")","v":"USD"}]
[17,{"$f":"'Read Stocks'!M19","v":""},{"$f":"'Read Stocks'!N19","v":""},false,null,4,17,{"$error":"#N/A"},{"$error":"#N/A"},{"$error":"#N/A"},0,{"$f":"IFERROR(INDEX('Read Stocks'!$BN$3:$BN$11,'Multiple Stock Graph'!K20),\"USD\")","v":"USD"}]
[18,{"$f":"'Read Stocks'!M20","v":""},{"$f":"'Read Stocks'!N20","v":""},false,null,4,18,{"$error":"#N/A"},{"$error":"#N/A"},{"$error":"#N/A"},0,{"$f":"IFERROR(INDEX('Read Stocks'!$BN$3:$BN$11,'Multiple Stock Graph'!K21),\"USD\")","v":"USD"}]
[19,{"$f":"'Read Stocks'!M21","v":""},{"$f":"'Read Stocks'!N21","v":""},false,null,4,19,{"$error":"#N/A"},{"$error":"#N/A"},{"$error":"#N/A"}]
[20,{"$f":"'Read Stocks'!M22","v":""},{"$f":"'Read Stocks'!N22","v":""},false,null,4,20,{"$error":"#N/A"},{"$error":"#N/A"},{"$error":"#N/A"}]
[21,{"$f":"'Read Stocks'!M23","v":""},{"$f":"'Read Stocks'!N23","v":""},false,null,4,21,{"$error":"#N/A"},{"$error":"#N/A"},{"$error":"#N/A"}]
[22,{"$f":"'Read Stocks'!M24","v":""},{"$f":"'Read Stocks'!N24","v":""},false,null,4,22,{"$error":"#N/A"},{"$error":"#N/A"},{"$error":"#N/A"}]
[23,{"$f":"'Read Stocks'!M25","v":""},{"$f":"'Read Stocks'!N25","v":""},false,null,4,23,{"$error":"#N/A"},{"$error":"#N/A"},{"$error":"#N/A"},null,"Primary Stock",null,{"$f":"Forms!J4","v":1},{"$f":"INDEX(C4:C195,Forms!J4)","v":""}]
[24,{"$f":"'Read Stocks'!M26","v":""},{"$f":"'Read Stocks'!N26","v":""},false,null,4,24,{"$error":"#N/A"},{"$error":"#N/A"},{"$error":"#N/A"},null,"Use the Drop Down Box for Selecting the Stock"]
[25,{"$f":"'Read Stocks'!M27","v":""},{"$f":"'Read Stocks'!N27","v":""},false,null,4,25,{"$error":"#N/A"},{"$error":"#N/A"},{"$error":"#N/A"},null,"Use the check boxes for comparison"]
[26,{"$f":"'Read Stocks'!M28","v":""},{"$f":"'Read Stocks'!N28","v":""},false,null,4,26,{"$error":"#N/A"},{"$error":"#N/A"},{"$error":"#N/A"},null,"Use the first check box for index in computing beta and other statistics"]
[27,{"$f":"'Read Stocks'!M29","v":""},{"$f":"'Read Stocks'!N29","v":""},false,null,4,27,{"$error":"#N/A"},{"$error":"#N/A"},{"$error":"#N/A"}]
[28,{"$f":"'Read Stocks'!M30","v":""},{"$f":"'Read Stocks'!N30","v":""},false,null,4,28,{"$error":"#N/A"},{"$error":"#N/A"},{"$error":"#N/A"}]
[29,{"$f":"'Read Stocks'!M31","v":""},{"$f":"'Read Stocks'!N31","v":""},false,null,4,29,{"$error":"#N/A"},{"$error":"#N/A"},{"$error":"#N/A"}]
[30,{"$f":"'Read Stocks'!M32","v":""},{"$f":"'Read Stocks'!N32","v":""},false,null,4,30,{"$error":"#N/A"},{"$error":"#N/A"},{"$error":"#N/A"}]
[31,{"$f":"'Read Stocks'!M33","v":""},{"$f":"'Read Stocks'!N33","v":""},false,null,4,31,{"$error":"#N/A"},{"$error":"#N/A"},{"$error":"#N/A"}]
[32,{"$f":"'Read Stocks'!M34","v":""},{"$f":"'Read Stocks'!N34","v":""},false,null,4,32,{"$error":"#N/A"},{"$error":"#N/A"},{"$error":"#N/A"}]
[33,{"$f":"'Read Stocks'!M35","v":""},{"$f":"'Read Stocks'!N35","v":""},false,null,4,33,{"$error":"#N/A"},{"$error":"#N/A"},{"$error":"#N/A"}]
[34,{"$f":"'Read Stocks'!M36","v":""},{"$f":"'Read Stocks'!N36","v":""},false,null,4,34,{"$error":"#N/A"},{"$error":"#N/A"},{"$error":"#N/A"}]
[35,{"$f":"'Read Stocks'!M37","v":""},{"$f":"'Read Stocks'!N37","v":""},false,null,4,35,{"$error":"#N/A"},{"$error":"#N/A"},{"$error":"#N/A"}]
[36,{"$f":"'Read Stocks'!M38","v":""},{"$f":"'Read Stocks'!N38","v":""},false,null,4,36,{"$error":"#N/A"},{"$error":"#N/A"},{"$error":"#N/A"}]
[37,{"$f":"'Read Stocks'!M39","v":""},{"$f":"'Read Stocks'!N39","v":""},false,null,4,37,{"$error":"#N/A"},{"$error":"#N/A"},{"$error":"#N/A"}]
[38,{"$f":"'Read Stocks'!M40","v":""},{"$f":"'Read Stocks'!N40","v":""},false,null,4,38,{"$error":"#N/A"},{"$error":"#N/A"},{"$error":"#N/A"}]
[39,{"$f":"'Read Stocks'!M41","v":""},{"$f":"'Read Stocks'!N41","v":""},false,null,4,39,{"$error":"#N/A"},{"$error":"#N/A"},{"$error":"#N/A"}]
[40,{"$f":"'Read Stocks'!M42","v":""},{"$f":"'Read Stocks'!N42","v":""},false,null,4,40,{"$error":"#N/A"},{"$error":"#N/A"},{"$error":"#N/A"}]
[41,{"$f":"'Read Stocks'!M43","v":""},{"$f":"'Read Stocks'!N43","v":""},false,null,{"$f":"F43+D44","v":4},41,{"$error":"#N/A"},{"$f":"INDEX(B:B,H44)","v":{"$error":"#N/A"}},{"$error":"#N/A"}]
[42,{"$f":"'Read Stocks'!M44","v":""},{"$f":"'Read Stocks'!N44","v":""},false,null,{"$f":"F44+D45","v":4},42,{"$error":"#N/A"},{"$error":"#N/A"},{"$error":"#N/A"}]
[43,{"$f":"'Read Stocks'!M45","v":""},{"$f":"'Read Stocks'!N45","v":""},false,null,4,43,{"$error":"#N/A"},{"$error":"#N/A"},{"$error":"#N/A"}]
[44,{"$f":"'Read Stocks'!M46","v":""},{"$f":"'Read Stocks'!N46","v":""},false,null,4,44,{"$error":"#N/A"},{"$error":"#N/A"},{"$error":"#N/A"}]
[45,{"$f":"'Read Stocks'!M47","v":""},{"$f":"'Read Stocks'!N47","v":""},false,null,4,45,{"$error":"#N/A"},{"$error":"#N/A"},{"$error":"#N/A"}]
[46,{"$f":"'Read Stocks'!M48","v":""},{"$f":"'Read Stocks'!N48","v":""},false,null,{"$f":"F48+D49","v":4},45,{"$error":"#N/A"},{"$f":"INDEX(B:B,H49)","v":{"$error":"#N/A"}},{"$error":"#N/A"}]
[47,{"$f":"'Read Stocks'!M49","v":""},{"$f":"'Read Stocks'!N49","v":""},false,null,4,45,{"$error":"#N/A"},{"$error":"#N/A"},{"$error":"#N/A"}]
[48,{"$f":"'Read Stocks'!M50","v":""},{"$f":"'Read Stocks'!N50","v":""},false,null,4,45,{"$error":"#N/A"},{"$error":"#N/A"},{"$error":"#N/A"}]
[49,{"$f":"'Read Stocks'!M51","v":""},{"$f":"'Read Stocks'!N51","v":""},false,null,4,45,{"$error":"#N/A"},{"$error":"#N/A"},{"$error":"#N/A"}]
[50,{"$f":"'Read Stocks'!M52","v":""},{"$f":"'Read Stocks'!N52","v":""},false,null,4,45,{"$error":"#N/A"},{"$error":"#N/A"},{"$error":"#N/A"}]
[51,{"$f":"'Read Stocks'!M53","v":""},{"$f":"'Read Stocks'!N53","v":""},false,null,4,45,{"$error":"#N/A"},{"$error":"#N/A"},{"$error":"#N/A"}]
[52,{"$f":"'Read Stocks'!M54","v":""},{"$f":"'Read Stocks'!N54","v":""},false,null,4,45,{"$error":"#N/A"},{"$error":"#N/A"},{"$error":"#N/A"}]
[53,{"$f":"'Read Stocks'!M55","v":""},{"$f":"'Read Stocks'!N55","v":""},false,null,4,45,{"$error":"#N/A"},{"$error":"#N/A"},{"$error":"#N/A"}]
[54,{"$f":"'Read Stocks'!M56","v":""},{"$f":"'Read Stocks'!N56","v":""},false,null,4,45,{"$error":"#N/A"},{"$error":"#N/A"},{"$error":"#N/A"}]
[55,{"$f":"'Read Stocks'!M57","v":""},{"$f":"'Read Stocks'!N57","v":""},false,null,4,45,{"$error":"#N/A"},{"$error":"#N/A"},{"$error":"#N/A"}]
[56,{"$f":"'Read Stocks'!M58","v":""},{"$f":"'Read Stocks'!N58","v":""},false,null,4,45,{"$error":"#N/A"},{"$error":"#N/A"},{"$error":"#N/A"}]
[57,{"$f":"'Read Stocks'!M59","v":""},{"$f":"'Read Stocks'!N59","v":""},false,null,4,45,{"$error":"#N/A"},{"$error":"#N/A"},{"$error":"#N/A"}]
[58,{"$f":"'Read Stocks'!M60","v":""},{"$f":"'Read Stocks'!N60","v":""},false,null,4,45,{"$error":"#N/A"},{"$error":"#N/A"},{"$error":"#N/A"}]
[59,{"$f":"'Read Stocks'!M61","v":""},{"$f":"'Read Stocks'!N61","v":""},false,null,4,45,{"$error":"#N/A"},{"$error":"#N/A"},{"$error":"#N/A"}]
[60,{"$f":"'Read Stocks'!M62","v":""},{"$f":"'Read Stocks'!N62","v":""},false,null,4,45,{"$error":"#N/A"},{"$error":"#N/A"},{"$error":"#N/A"}]
[61,{"$f":"'Read Stocks'!M63","v":""},{"$f":"'Read Stocks'!N63","v":""},false,null,4,45,{"$error":"#N/A"},{"$error":"#N/A"},{"$error":"#N/A"}]
[62,{"$f":"'Read Stocks'!M64","v":""},{"$f":"'Read Stocks'!N64","v":""},false,null,4,45,{"$error":"#N/A"},{"$error":"#N/A"},{"$error":"#N/A"}]
[63,{"$f":"'Read Stocks'!M65","v":""},{"$f":"'Read Stocks'!N65","v":""},false,null,4,45,{"$error":"#N/A"},{"$error":"#N/A"},{"$error":"#N/A"}]
[64,{"$f":"'Read Stocks'!M66","v":""},{"$f":"'Read Stocks'!N66","v":""},false,null,4,45,{"$error":"#N/A"},{"$error":"#N/A"},{"$error":"#N/A"}]
[65,{"$f":"'Read Stocks'!M67","v":""},{"$f":"'Read Stocks'!N67","v":""},false,null,4,45,{"$error":"#N/A"},{"$error":"#N/A"},{"$error":"#N/A"}]
[66,{"$f":"'Read Stocks'!M68","v":""},{"$f":"'Read Stocks'!N68","v":""},false,null,4,45,{"$f":"MATCH(G69,F$1:F$555,0)","v":{"$error":"#N/A"}},{"$error":"#N/A"},{"$f":"INDEX(C:C,H69)","v":{"$error":"#N/A"}}]
[67,{"$f":"'Read Stocks'!M69","v":""},{"$f":"'Read Stocks'!N69","v":""},false,null,4,45,{"$error":"#N/A"},{"$error":"#N/A"},{"$error":"#N/A"}]
[68,{"$f":"'Read Stocks'!M70","v":""},{"$f":"'Read Stocks'!N70","v":""},false,null,4,45,{"$error":"#N/A"},{"$error":"#N/A"},{"$error":"#N/A"}]
[69,{"$f":"'Read Stocks'!M71","v":""},{"$f":"'Read Stocks'!N71","v":""},false,null,4,45,{"$error":"#N/A"},{"$error":"#N/A"},{"$error":"#N/A"}]
[70,{"$f":"'Read Stocks'!M72","v":""},{"$f":"'Read Stocks'!N72","v":""},false,null,4,45,{"$error":"#N/A"},{"$error":"#N/A"},{"$error":"#N/A"}]
[71,{"$f":"'Read Stocks'!M73","v":""},{"$f":"'Read Stocks'!N73","v":""},false,null,4,45,{"$error":"#N/A"},{"$error":"#N/A"},{"$error":"#N/A"}]
[72,{"$f":"'Read Stocks'!M74","v":""},{"$f":"'Read Stocks'!N74","v":""},false,null,4,45,{"$error":"#N/A"},{"$error":"#N/A"},{"$error":"#N/A"}]
[73,{"$f":"'Read Stocks'!M75","v":""},{"$f":"'Read Stocks'!N75","v":""},false,null,4,45,{"$error":"#N/A"},{"$error":"#N/A"},{"$error":"#N/A"}]
[74,{"$f":"'Read Stocks'!M76","v":""},{"$f":"'Read Stocks'!N76","v":""},false,null,4,45,{"$error":"#N/A"},{"$error":"#N/A"},{"$error":"#N/A"}]
[75,{"$f":"'Read Stocks'!M77","v":""},{"$f":"'Read Stocks'!N77","v":""},false,null,4,45,{"$error":"#N/A"},{"$error":"#N/A"},{"$error":"#N/A"}]
[76,{"$f":"'Read Stocks'!M78","v":""},{"$f":"'Read Stocks'!N78","v":""},false,null,4,45,{"$error":"#N/A"},{"$error":"#N/A"},{"$error":"#N/A"}]
[77,{"$f":"'Read Stocks'!M79","v":""},{"$f":"'Read Stocks'!N79","v":""},false,null,4,45,{"$error":"#N/A"},{"$error":"#N/A"},{"$error":"#N/A"}]
[78,{"$f":"'Read Stocks'!M80","v":""},{"$f":"'Read Stocks'!N80","v":""},false,null,4,45,{"$error":"#N/A"},{"$error":"#N/A"},{"$error":"#N/A"}]
[79,{"$f":"'Read Stocks'!M81","v":""},{"$f":"'Read Stocks'!N81","v":""},false,null,4,45,{"$error":"#N/A"},{"$error":"#N/A"},{"$error":"#N/A"}]
[80,{"$f":"'Read Stocks'!M82","v":""},{"$f":"'Read Stocks'!N82","v":""},false,null,4,45,{"$error":"#N/A"},{"$error":"#N/A"},{"$error":"#N/A"}]
[81,{"$f":"'Read Stocks'!M83","v":""},{"$f":"'Read Stocks'!N83","v":""},false,null,4,45,{"$error":"#N/A"},{"$error":"#N/A"},{"$error":"#N/A"}]
[82,{"$f":"'Read Stocks'!M84","v":""},{"$f":"'Read Stocks'!N84","v":""},false,null,4,45,{"$error":"#N/A"},{"$error":"#N/A"},{"$error":"#N/A"}]
[83,{"$f":"'Read Stocks'!M85","v":""},{"$f":"'Read Stocks'!N85","v":""},false,null,4,45,{"$error":"#N/A"},{"$error":"#N/A"},{"$error":"#N/A"}]
[84,{"$f":"'Read Stocks'!M86","v":""},{"$f":"'Read Stocks'!N86","v":""},false,null,4,45,{"$error":"#N/A"},{"$error":"#N/A"},{"$error":"#N/A"}]
[85,{"$f":"'Read Stocks'!M87","v":""},{"$f":"'Read Stocks'!N87","v":""},false,null,4,45,{"$error":"#N/A"},{"$error":"#N/A"},{"$error":"#N/A"}]
[86,{"$f":"'Read Stocks'!M88","v":""},{"$f":"'Read Stocks'!N88","v":""},false,null,4,45,{"$error":"#N/A"},{"$error":"#N/A"},{"$error":"#N/A"}]
[87,{"$f":"'Read Stocks'!M89","v":""},{"$f":"'Read Stocks'!N89","v":""},false,null,4,45,{"$error":"#N/A"},{"$error":"#N/A"},{"$error":"#N/A"}]
[88,{"$f":"'Read Stocks'!M90","v":""},{"$f":"'Read Stocks'!N90","v":""},false,null,4,45,{"$error":"#N/A"},{"$error":"#N/A"},{"$error":"#N/A"}]
[89,{"$f":"'Read Stocks'!M91","v":""},{"$f":"'Read Stocks'!N91","v":""},false,null,4,45,{"$error":"#N/A"},{"$error":"#N/A"},{"$error":"#N/A"}]
[90,{"$f":"'Read Stocks'!M92","v":""},{"$f":"'Read Stocks'!N92","v":""},false,null,4,45,{"$error":"#N/A"},{"$error":"#N/A"},{"$error":"#N/A"}]
[91,{"$f":"'Read Stocks'!M93","v":""},{"$f":"'Read Stocks'!N93","v":""},false,null,4,45,{"$error":"#N/A"},{"$error":"#N/A"},{"$error":"#N/A"}]
[92,{"$f":"'Read Stocks'!M94","v":""},{"$f":"'Read Stocks'!N94","v":""},false,null,4,45,{"$error":"#N/A"},{"$error":"#N/A"},{"$error":"#N/A"}]
[93,{"$f":"'Read Stocks'!M95","v":""},{"$f":"'Read Stocks'!N95","v":""},false,null,4,45,{"$error":"#N/A"},{"$error":"#N/A"},{"$error":"#N/A"}]
[94,{"$f":"'Read Stocks'!M96","v":""},{"$f":"'Read Stocks'!N96","v":""},false,null,4,45,{"$error":"#N/A"},{"$error":"#N/A"},{"$error":"#N/A"}]
[95,{"$f":"'Read Stocks'!M97","v":""},{"$f":"'Read Stocks'!N97","v":""},false,null,4,45,{"$error":"#N/A"},{"$error":"#N/A"},{"$error":"#N/A"}]
[96,{"$f":"'Read Stocks'!M98","v":""},{"$f":"'Read Stocks'!N98","v":""},false,null,4,45,{"$error":"#N/A"},{"$error":"#N/A"},{"$error":"#N/A"}]
[97,{"$f":"'Read Stocks'!M99","v":""},{"$f":"'Read Stocks'!N99","v":""},false,null,4,45,{"$error":"#N/A"},{"$error":"#N/A"},{"$error":"#N/A"}]
[98,{"$f":"'Read Stocks'!M100","v":""},{"$f":"'Read Stocks'!N100","v":""},false,null,4,45,{"$error":"#N/A"},{"$error":"#N/A"},{"$error":"#N/A"}]
[99,{"$f":"'Read Stocks'!M101","v":""},{"$f":"'Read Stocks'!N101","v":""},false,null,4,45,{"$error":"#N/A"},{"$error":"#N/A"},{"$error":"#N/A"}]
[100,{"$f":"'Read Stocks'!M102","v":""},{"$f":"'Read Stocks'!N102","v":""},false,null,4,45,{"$error":"#N/A"},{"$error":"#N/A"},{"$error":"#N/A"}]
[101,{"$f":"'Read Stocks'!M103","v":""},{"$f":"'Read Stocks'!N103","v":""},false,null,4,45,{"$error":"#N/A"},{"$error":"#N/A"},{"$error":"#N/A"}]
[102,{"$f":"'Read Stocks'!M104","v":""},{"$f":"'Read Stocks'!N104","v":""},false,null,4,45,{"$error":"#N/A"},{"$error":"#N/A"},{"$error":"#N/A"}]
[103,{"$f":"'Read Stocks'!M105","v":""},{"$f":"'Read Stocks'!N105","v":""},false,null,4,45,{"$error":"#N/A"},{"$error":"#N/A"},{"$error":"#N/A"}]
[104,{"$f":"'Read Stocks'!M106","v":""},{"$f":"'Read Stocks'!N106","v":""},false,null,4,45,{"$error":"#N/A"},{"$error":"#N/A"},{"$error":"#N/A"}]
[105,{"$f":"'Read Stocks'!M107","v":""},{"$f":"'Read Stocks'!N107","v":""},false,null,4,45,{"$error":"#N/A"},{"$error":"#N/A"},{"$error":"#N/A"}]
[106,{"$f":"'Read Stocks'!M108","v":""},{"$f":"'Read Stocks'!N108","v":""},false,null,4,45,{"$error":"#N/A"},{"$error":"#N/A"},{"$error":"#N/A"}]
[107,{"$f":"'Read Stocks'!M109","v":""},{"$f":"'Read Stocks'!N109","v":""},false,null,4,45,{"$error":"#N/A"},{"$error":"#N/A"},{"$error":"#N/A"}]
[108,{"$f":"'Read Stocks'!M110","v":""},{"$f":"'Read Stocks'!N110","v":""},false,null,4,45,{"$error":"#N/A"},{"$error":"#N/A"},{"$error":"#N/A"}]
[109,{"$f":"'Read Stocks'!M111","v":""},{"$f":"'Read Stocks'!N111","v":""},false,null,4,45,{"$error":"#N/A"},{"$error":"#N/A"},{"$error":"#N/A"}]
[110,{"$f":"'Read Stocks'!M112","v":""},{"$f":"'Read Stocks'!N112","v":""},false,null,{"$f":"F112+D113","v":4},45,{"$error":"#N/A"},{"$f":"INDEX(B:B,H113)","v":{"$error":"#N/A"}},{"$error":"#N/A"}]
[111,{"$f":"'Read Stocks'!M113","v":""},{"$f":"'Read Stocks'!N113","v":""},false,null,4,45,{"$error":"#N/A"},{"$error":"#N/A"},{"$error":"#N/A"}]
[112,{"$f":"'Read Stocks'!M114","v":""},{"$f":"'Read Stocks'!N114","v":""},false,null,4,45,{"$error":"#N/A"},{"$error":"#N/A"},{"$error":"#N/A"}]
[113,{"$f":"'Read Stocks'!M115","v":""},{"$f":"'Read Stocks'!N115","v":""},false,null,4,45,{"$error":"#N/A"},{"$error":"#N/A"},{"$error":"#N/A"}]
[114,{"$f":"'Read Stocks'!M116","v":""},{"$f":"'Read Stocks'!N116","v":""},false,null,4,45,{"$error":"#N/A"},{"$error":"#N/A"},{"$error":"#N/A"}]
[115,{"$f":"'Read Stocks'!M117","v":""},{"$f":"'Read Stocks'!N117","v":""},false,null,4,45,{"$error":"#N/A"},{"$error":"#N/A"},{"$error":"#N/A"}]
[116,{"$f":"'Read Stocks'!M118","v":""},{"$f":"'Read Stocks'!N118","v":""},false,null,4,45,{"$error":"#N/A"},{"$error":"#N/A"},{"$error":"#N/A"}]
[117,{"$f":"'Read Stocks'!M119","v":""},{"$f":"'Read Stocks'!N119","v":""},false,null,4,45,{"$error":"#N/A"},{"$error":"#N/A"},{"$error":"#N/A"}]
[118,{"$f":"'Read Stocks'!M120","v":""},{"$f":"'Read Stocks'!N120","v":""},false,null,4,45,{"$error":"#N/A"},{"$error":"#N/A"},{"$error":"#N/A"}]
[119,{"$f":"'Read Stocks'!M121","v":""},{"$f":"'Read Stocks'!N121","v":""},false,null,4,45,{"$error":"#N/A"},{"$error":"#N/A"},{"$error":"#N/A"}]
[120,{"$f":"'Read Stocks'!M122","v":""},{"$f":"'Read Stocks'!N122","v":""},false,null,4,45,{"$error":"#N/A"},{"$error":"#N/A"},{"$error":"#N/A"}]
[121,{"$f":"'Read Stocks'!M123","v":""},{"$f":"'Read Stocks'!N123","v":""},false,null,4,45,{"$error":"#N/A"},{"$error":"#N/A"},{"$error":"#N/A"}]
[122,{"$f":"'Read Stocks'!M124","v":""},{"$f":"'Read Stocks'!N124","v":""},false,null,4,45,{"$error":"#N/A"},{"$error":"#N/A"},{"$error":"#N/A"}]
[123,{"$f":"'Read Stocks'!M125","v":""},{"$f":"'Read Stocks'!N125","v":""},false,null,4,45,{"$error":"#N/A"},{"$error":"#N/A"},{"$error":"#N/A"}]
[124,{"$f":"'Read Stocks'!M126","v":""},{"$f":"'Read Stocks'!N126","v":""},false,null,4,45,{"$error":"#N/A"},{"$error":"#N/A"},{"$error":"#N/A"}]
[125,{"$f":"'Read Stocks'!M127","v":""},{"$f":"'Read Stocks'!N127","v":""},false,null,4,45,{"$error":"#N/A"},{"$error":"#N/A"},{"$error":"#N/A"}]
[126,{"$f":"'Read Stocks'!M128","v":""},{"$f":"'Read Stocks'!N128","v":""},false,null,4,45,{"$error":"#N/A"},{"$error":"#N/A"},{"$error":"#N/A"}]
[127,{"$f":"'Read Stocks'!M129","v":""},{"$f":"'Read Stocks'!N129","v":""},false,null,4,45,{"$error":"#N/A"},{"$error":"#N/A"},{"$error":"#N/A"}]
[128,{"$f":"'Read Stocks'!M130","v":""},{"$f":"'Read Stocks'!N130","v":""},false,null,4,45,{"$error":"#N/A"},{"$error":"#N/A"},{"$error":"#N/A"}]
[129,{"$f":"'Read Stocks'!M131","v":""},{"$f":"'Read Stocks'!N131","v":""},false,null,4,45,{"$error":"#N/A"},{"$error":"#N/A"},{"$error":"#N/A"}]
[130,{"$f":"'Read Stocks'!M132","v":""},{"$f":"'Read Stocks'!N132","v":""},false,null,4,45,{"$f":"MATCH(G133,F$1:F$555,0)","v":{"$error":"#N/A"}},{"$error":"#N/A"},{"$f":"INDEX(C:C,H133)","v":{"$error":"#N/A"}}]
[131,{"$f":"'Read Stocks'!M133","v":""},{"$f":"'Read Stocks'!N133","v":""},false,null,4,45,{"$error":"#N/A"},{"$error":"#N/A"},{"$error":"#N/A"}]
[132,{"$f":"'Read Stocks'!M134","v":""},{"$f":"'Read Stocks'!N134","v":""},false,null,4,45,{"$error":"#N/A"},{"$error":"#N/A"},{"$error":"#N/A"}]
[133,{"$f":"'Read Stocks'!M135","v":""},{"$f":"'Read Stocks'!N135","v":""},false,null,4,45,{"$error":"#N/A"},{"$error":"#N/A"},{"$error":"#N/A"}]
[134,{"$f":"'Read Stocks'!M136","v":""},{"$f":"'Read Stocks'!N136","v":""},false,null,4,45,{"$error":"#N/A"},{"$error":"#N/A"},{"$error":"#N/A"}]
[135,{"$f":"'Read Stocks'!M137","v":""},{"$f":"'Read Stocks'!N137","v":""},false,null,4,45,{"$error":"#N/A"},{"$error":"#N/A"},{"$error":"#N/A"}]
[136,{"$f":"'Read Stocks'!M138","v":""},{"$f":"'Read Stocks'!N138","v":""},false,null,4,45,{"$error":"#N/A"},{"$error":"#N/A"},{"$error":"#N/A"}]
[137,{"$f":"'Read Stocks'!M139","v":""},{"$f":"'Read Stocks'!N139","v":""},false,null,4,45,{"$error":"#N/A"},{"$error":"#N/A"},{"$error":"#N/A"}]
[138,{"$f":"'Read Stocks'!M140","v":""},{"$f":"'Read Stocks'!N140","v":""},false,null,4,45,{"$error":"#N/A"},{"$error":"#N/A"},{"$error":"#N/A"}]
[139,{"$f":"'Read Stocks'!M141","v":""},{"$f":"'Read Stocks'!N141","v":""},false,null,4,45,{"$error":"#N/A"},{"$error":"#N/A"},{"$error":"#N/A"}]
[140,{"$f":"'Read Stocks'!M142","v":""},{"$f":"'Read Stocks'!N142","v":""},false,null,4,45,{"$error":"#N/A"},{"$error":"#N/A"},{"$error":"#N/A"}]
[141,{"$f":"'Read Stocks'!M143","v":""},{"$f":"'Read Stocks'!N143","v":""},false,null,4,45,{"$error":"#N/A"},{"$error":"#N/A"},{"$error":"#N/A"}]
[142,{"$f":"'Read Stocks'!M144","v":""},{"$f":"'Read Stocks'!N144","v":""},false,null,4,45,{"$error":"#N/A"},{"$error":"#N/A"},{"$error":"#N/A"}]
[143,{"$f":"'Read Stocks'!M145","v":""},{"$f":"'Read Stocks'!N145","v":""},false,null,4,45,{"$error":"#N/A"},{"$error":"#N/A"},{"$error":"#N/A"}]
[144,{"$f":"'Read Stocks'!M146","v":""},{"$f":"'Read Stocks'!N146","v":""},false,null,4,45,{"$error":"#N/A"},{"$error":"#N/A"},{"$error":"#N/A"}]
[145,{"$f":"'Read Stocks'!M147","v":""},{"$f":"'Read Stocks'!N147","v":""},false,null,4,45,{"$error":"#N/A"},{"$error":"#N/A"},{"$error":"#N/A"}]
[146,{"$f":"'Read Stocks'!M148","v":""},{"$f":"'Read Stocks'!N148","v":""},false,null,4,45,{"$error":"#N/A"},{"$error":"#N/A"},{"$error":"#N/A"}]
[147,{"$f":"'Read Stocks'!M149","v":""},{"$f":"'Read Stocks'!N149","v":""},false,null,4,45,{"$error":"#N/A"},{"$error":"#N/A"},{"$error":"#N/A"}]
[148,{"$f":"'Read Stocks'!M150","v":""},{"$f":"'Read Stocks'!N150","v":""},false,null,4,45,{"$error":"#N/A"},{"$error":"#N/A"},{"$error":"#N/A"}]
[149,{"$f":"'Read Stocks'!M151","v":""},{"$f":"'Read Stocks'!N151","v":""},false,null,4,45,{"$error":"#N/A"},{"$error":"#N/A"},{"$error":"#N/A"}]
[150,{"$f":"'Read Stocks'!M152","v":""},{"$f":"'Read Stocks'!N152","v":""},false,null,4,45,{"$error":"#N/A"},{"$error":"#N/A"},{"$error":"#N/A"}]
[151,{"$f":"'Read Stocks'!M153","v":""},{"$f":"'Read Stocks'!N153","v":""},false,null,4,45,{"$error":"#N/A"},{"$error":"#N/A"},{"$error":"#N/A"}]
[152,{"$f":"'Read Stocks'!M154","v":""},{"$f":"'Read Stocks'!N154","v":""},false,null,4,45,{"$error":"#N/A"},{"$error":"#N/A"},{"$error":"#N/A"}]
[153,{"$f":"'Read Stocks'!M155","v":""},{"$f":"'Read Stocks'!N155","v":""},false,null,4,45,{"$error":"#N/A"},{"$error":"#N/A"},{"$error":"#N/A"}]
[154,{"$f":"'Read Stocks'!M156","v":""},{"$f":"'Read Stocks'!N156","v":""},false,null,4,45,{"$error":"#N/A"},{"$error":"#N/A"},{"$error":"#N/A"}]
[155,{"$f":"'Read Stocks'!M157","v":""},{"$f":"'Read Stocks'!N157","v":""},false,null,4,45,{"$error":"#N/A"},{"$error":"#N/A"},{"$error":"#N/A"}]
[156,{"$f":"'Read Stocks'!M158","v":""},{"$f":"'Read Stocks'!N158","v":""},false,null,4,45,{"$error":"#N/A"},{"$error":"#N/A"},{"$error":"#N/A"}]
[157,{"$f":"'Read Stocks'!M159","v":""},{"$f":"'Read Stocks'!N159","v":""},false,null,4,45,{"$error":"#N/A"},{"$error":"#N/A"},{"$error":"#N/A"}]
[158,{"$f":"'Read Stocks'!M160","v":""},{"$f":"'Read Stocks'!N160","v":""},false,null,4,45,{"$error":"#N/A"},{"$error":"#N/A"},{"$error":"#N/A"}]
[159,{"$f":"'Read Stocks'!M161","v":""},{"$f":"'Read Stocks'!N161","v":""},false,null,4,45,{"$error":"#N/A"},{"$error":"#N/A"},{"$error":"#N/A"}]
[160,{"$f":"'Read Stocks'!M162","v":""},{"$f":"'Read Stocks'!N162","v":""},false,null,4,45,{"$error":"#N/A"},{"$error":"#N/A"},{"$error":"#N/A"}]
[161,{"$f":"'Read Stocks'!M163","v":""},{"$f":"'Read Stocks'!N163","v":""},false,null,4,45,{"$error":"#N/A"},{"$error":"#N/A"},{"$error":"#N/A"}]
[162,{"$f":"'Read Stocks'!M164","v":""},{"$f":"'Read Stocks'!N164","v":""},false,null,4,45,{"$error":"#N/A"},{"$error":"#N/A"},{"$error":"#N/A"}]
[163,{"$f":"'Read Stocks'!M165","v":""},{"$f":"'Read Stocks'!N165","v":""},false,null,4,45,{"$error":"#N/A"},{"$error":"#N/A"},{"$error":"#N/A"}]
[164,{"$f":"'Read Stocks'!M166","v":""},{"$f":"'Read Stocks'!N166","v":""},false,null,4,45,{"$error":"#N/A"},{"$error":"#N/A"},{"$error":"#N/A"}]
[165,{"$f":"'Read Stocks'!M167","v":""},{"$f":"'Read Stocks'!N167","v":""},false,null,4,45,{"$error":"#N/A"},{"$error":"#N/A"},{"$error":"#N/A"}]
[166,{"$f":"'Read Stocks'!M168","v":""},{"$f":"'Read Stocks'!N168","v":""},false,null,4,45,{"$error":"#N/A"},{"$error":"#N/A"},{"$error":"#N/A"}]
[167,{"$f":"'Read Stocks'!M169","v":""},{"$f":"'Read Stocks'!N169","v":""},false,null,4,45,{"$error":"#N/A"},{"$error":"#N/A"},{"$error":"#N/A"}]
[168,{"$f":"'Read Stocks'!M170","v":""},{"$f":"'Read Stocks'!N170","v":""},false,null,4,45,{"$error":"#N/A"},{"$error":"#N/A"},{"$error":"#N/A"}]
[169,{"$f":"'Read Stocks'!M171","v":""},{"$f":"'Read Stocks'!N171","v":""},false,null,4,45,{"$error":"#N/A"},{"$error":"#N/A"},{"$error":"#N/A"}]
[170,{"$f":"'Read Stocks'!M172","v":""},{"$f":"'Read Stocks'!N172","v":""},false,null,4,45,{"$error":"#N/A"},{"$error":"#N/A"},{"$error":"#N/A"}]
[171,{"$f":"'Read Stocks'!M173","v":""},{"$f":"'Read Stocks'!N173","v":""},false,null,4,45,{"$error":"#N/A"},{"$error":"#N/A"},{"$error":"#N/A"}]
[172,{"$f":"'Read Stocks'!M174","v":""},{"$f":"'Read Stocks'!N174","v":""},false,null,4,45,{"$error":"#N/A"},{"$error":"#N/A"},{"$error":"#N/A"}]
[173,{"$f":"'Read Stocks'!M175","v":""},{"$f":"'Read Stocks'!N175","v":""},false,null,4,45,{"$error":"#N/A"},{"$error":"#N/A"},{"$error":"#N/A"}]
[174,{"$f":"'Read Stocks'!M176","v":""},{"$f":"'Read Stocks'!N176","v":""},false,null,{"$f":"F176+D177","v":4},45,{"$error":"#N/A"},{"$f":"INDEX(B:B,H177)","v":{"$error":"#N/A"}},{"$error":"#N/A"}]
[175,{"$f":"'Read Stocks'!M177","v":0},{"$f":"'Read Stocks'!N177","v":0},false,null,4,45,{"$error":"#N/A"},{"$error":"#N/A"},{"$error":"#N/A"}]
[176,{"$f":"'Read Stocks'!M178","v":0},{"$f":"'Read Stocks'!N178","v":0},false,null,4,45,{"$error":"#N/A"},{"$error":"#N/A"},{"$error":"#N/A"}]
[177,{"$f":"'Read Stocks'!M179","v":0},{"$f":"'Read Stocks'!N179","v":0},false,null,4,45,{"$error":"#N/A"},{"$error":"#N/A"},{"$error":"#N/A"}]
[178,{"$f":"'Read Stocks'!M180","v":0},{"$f":"'Read Stocks'!N180","v":0},false,null,4,45,{"$error":"#N/A"},{"$error":"#N/A"},{"$error":"#N/A"}]
[179,{"$f":"'Read Stocks'!M181","v":0},{"$f":"'Read Stocks'!N181","v":0},false,null,4,45,{"$error":"#N/A"},{"$error":"#N/A"},{"$error":"#N/A"}]
[180,{"$f":"'Read Stocks'!M182","v":0},{"$f":"'Read Stocks'!N182","v":0},false,null,4,45,{"$error":"#N/A"},{"$error":"#N/A"},{"$error":"#N/A"}]
[181,{"$f":"'Read Stocks'!M183","v":0},{"$f":"'Read Stocks'!N183","v":0},false,null,4,45,{"$error":"#N/A"},{"$error":"#N/A"},{"$error":"#N/A"}]
[182,{"$f":"'Read Stocks'!M184","v":0},{"$f":"'Read Stocks'!N184","v":0},false,null,4,45,{"$error":"#N/A"},{"$error":"#N/A"},{"$error":"#N/A"}]
[183,{"$f":"'Read Stocks'!M185","v":0},{"$f":"'Read Stocks'!N185","v":0},false,null,4,45,{"$error":"#N/A"},{"$error":"#N/A"},{"$error":"#N/A"}]
[184,{"$f":"'Read Stocks'!M186","v":0},{"$f":"'Read Stocks'!N186","v":0},false,null,4,45,{"$error":"#N/A"},{"$error":"#N/A"},{"$error":"#N/A"}]
[185,{"$f":"'Read Stocks'!M187","v":0},{"$f":"'Read Stocks'!N187","v":0},false,null,4,45,{"$error":"#N/A"},{"$error":"#N/A"},{"$error":"#N/A"}]
[186,{"$f":"'Read Stocks'!M188","v":0},{"$f":"'Read Stocks'!N188","v":0},false,null,4,45,{"$error":"#N/A"},{"$error":"#N/A"},{"$error":"#N/A"}]
[187,{"$f":"'Read Stocks'!M189","v":0},{"$f":"'Read Stocks'!N189","v":0},false,null,4,45,{"$error":"#N/A"},{"$error":"#N/A"},{"$error":"#N/A"}]
[188,{"$f":"'Read Stocks'!M190","v":0},{"$f":"'Read Stocks'!N190","v":0},false,null,4,45,{"$error":"#N/A"},{"$error":"#N/A"},{"$error":"#N/A"}]
[189,{"$f":"'Read Stocks'!M191","v":0},{"$f":"'Read Stocks'!N191","v":0},false,null,4,45,{"$error":"#N/A"},{"$error":"#N/A"},{"$error":"#N/A"}]
[190,{"$f":"'Read Stocks'!M192","v":0},{"$f":"'Read Stocks'!N192","v":0},false,null,4,45,{"$error":"#N/A"},{"$error":"#N/A"},{"$error":"#N/A"}]
[191,{"$f":"'Read Stocks'!M193","v":0},{"$f":"'Read Stocks'!N193","v":0},false,null,4,45,{"$error":"#N/A"},{"$error":"#N/A"},{"$error":"#N/A"}]
[192,{"$f":"'Read Stocks'!M194","v":0},{"$f":"'Read Stocks'!N194","v":0},false,null,4,45,{"$error":"#N/A"},{"$error":"#N/A"},{"$error":"#N/A"}]
[null,null,null,false,null,4,45,{"$error":"#N/A"},{"$error":"#N/A"},{"$error":"#N/A"}]
[null,null,null,false,null,4,45,{"$f":"MATCH(G197,F$1:F$555,0)","v":{"$error":"#N/A"}},{"$error":"#N/A"},{"$f":"INDEX(C:C,H197)","v":{"$error":"#N/A"}}]
[null,null,null,false,null,4,45,{"$error":"#N/A"},{"$error":"#N/A"},{"$error":"#N/A"}]
[null,null,null,false,null,4,45,{"$error":"#N/A"},{"$error":"#N/A"},{"$error":"#N/A"}]
[null,null,null,false,null,4,45,{"$error":"#N/A"},{"$error":"#N/A"},{"$error":"#N/A"}]
[null,null,null,false,null,4,45,{"$error":"#N/A"},{"$error":"#N/A"},{"$error":"#N/A"}]
[null,null,null,false,null,4,45,{"$error":"#N/A"},{"$error":"#N/A"},{"$error":"#N/A"}]
[null,null,null,false,null,4,45,{"$error":"#N/A"},{"$error":"#N/A"},{"$error":"#N/A"}]
[null,null,null,false,null,4,45,{"$error":"#N/A"},{"$error":"#N/A"},{"$error":"#N/A"}]
[null,null,null,false,null,4,45,{"$error":"#N/A"},{"$error":"#N/A"},{"$error":"#N/A"}]
[null,null,null,false,null,4,45,{"$error":"#N/A"},{"$error":"#N/A"},{"$error":"#N/A"}]
[null,null,null,false,null,4,45,{"$error":"#N/A"},{"$error":"#N/A"},{"$error":"#N/A"}]
[null,null,null,false,null,4,45,{"$error":"#N/A"},{"$error":"#N/A"},{"$error":"#N/A"}]
[null,null,null,false,null,4,45,{"$error":"#N/A"},{"$error":"#N/A"},{"$error":"#N/A"}]
[null,null,null,false,null,4,45,{"$error":"#N/A"},{"$error":"#N/A"},{"$error":"#N/A"}]
[null,null,null,false,null,4,45,{"$error":"#N/A"},{"$error":"#N/A"},{"$error":"#N/A"}]
[null,null,null,false,null,4,45,{"$error":"#N/A"},{"$error":"#N/A"},{"$error":"#N/A"}]
[null,null,null,false,null,4,45,{"$error":"#N/A"},{"$error":"#N/A"},{"$error":"#N/A"}]
[null,null,null,false,null,4,45,{"$error":"#N/A"},{"$error":"#N/A"},{"$error":"#N/A"}]
[null,null,null,false,null,4,45,{"$error":"#N/A"},{"$error":"#N/A"},{"$error":"#N/A"}]
[null,null,null,false,null,4,45,{"$error":"#N/A"},{"$error":"#N/A"},{"$error":"#N/A"}]
[null,null,null,false,null,4,45,{"$error":"#N/A"},{"$error":"#N/A"},{"$error":"#N/A"}]
[null,null,null,false,null,4,45,{"$error":"#N/A"},{"$error":"#N/A"},{"$error":"#N/A"}]
[null,null,null,false,null,4,45,{"$error":"#N/A"},{"$error":"#N/A"},{"$error":"#N/A"}]
[null,null,null,false,null,4,45,{"$error":"#N/A"},{"$error":"#N/A"},{"$error":"#N/A"}]
[null,null,null,false,null,4,45,{"$error":"#N/A"},{"$error":"#N/A"},{"$error":"#N/A"}]
[null,null,null,false,null,4,45,{"$error":"#N/A"},{"$error":"#N/A"},{"$error":"#N/A"}]
[null,null,null,false,null,4,45,{"$error":"#N/A"},{"$error":"#N/A"},{"$error":"#N/A"}]
[null,null,null,false,null,4,45,{"$error":"#N/A"},{"$error":"#N/A"},{"$error":"#N/A"}]
[null,null,null,false,null,4,45,{"$error":"#N/A"},{"$error":"#N/A"},{"$error":"#N/A"}]
[null,null,null,false,null,4,45,{"$error":"#N/A"},{"$error":"#N/A"},{"$error":"#N/A"}]
[null,null,null,false,null,4,45,{"$error":"#N/A"},{"$error":"#N/A"},{"$error":"#N/A"}]
[null,null,null,false,null,4,45,{"$error":"#N/A"},{"$error":"#N/A"},{"$error":"#N/A"}]
[null,null,null,false,null,4,45,{"$error":"#N/A"},{"$error":"#N/A"},{"$error":"#N/A"}]
[null,null,null,false,null,4,45,{"$error":"#N/A"},{"$error":"#N/A"},{"$error":"#N/A"}]
[null,null,null,false,null,4,45,{"$error":"#N/A"},{"$error":"#N/A"},{"$error":"#N/A"}]
[null,null,null,false,null,4,45,{"$error":"#N/A"},{"$error":"#N/A"},{"$error":"#N/A"}]
[null,null,null,false,null,4,45,{"$error":"#N/A"},{"$error":"#N/A"},{"$error":"#N/A"}]
[null,null,null,false,null,4,45,{"$error":"#N/A"},{"$error":"#N/A"},{"$error":"#N/A"}]
[null,null,null,false,null,4,45,{"$error":"#N/A"},{"$error":"#N/A"},{"$error":"#N/A"}]
[null,null,null,false,null,4,45,{"$error":"#N/A"},{"$error":"#N/A"},{"$error":"#N/A"}]
[null,null,null,false,null,4,45,{"$error":"#N/A"},{"$error":"#N/A"},{"$error":"#N/A"}]
[null,null,null,false,null,4,45,{"$error":"#N/A"},{"$error":"#N/A"},{"$error":"#N/A"}]
[null,null,null,false,null,4,45,{"$error":"#N/A"},{"$error":"#N/A"},{"$error":"#N/A"}]
[null,null,null,false,null,4,45,{"$error":"#N/A"},{"$error":"#N/A"},{"$error":"#N/A"}]
[null,null,null,false,null,{"$f":"F240+D241","v":4},45,{"$error":"#N/A"},{"$f":"INDEX(B:B,H241)","v":{"$error":"#N/A"}},{"$error":"#N/A"}]
[null,null,null,false,null,4,45,{"$error":"#N/A"},{"$error":"#N/A"},{"$error":"#N/A"}]
[null,null,null,false,null,4,45,{"$error":"#N/A"},{"$error":"#N/A"},{"$error":"#N/A"}]
[null,null,null,false,null,4,45,{"$error":"#N/A"},{"$error":"#N/A"},{"$error":"#N/A"}]
[null,null,null,false,null,4,45,{"$error":"#N/A"},{"$error":"#N/A"},{"$error":"#N/A"}]
[null,null,null,false,null,4,45,{"$error":"#N/A"},{"$error":"#N/A"},{"$error":"#N/A"}]
[null,null,null,false,null,4,45,{"$error":"#N/A"},{"$error":"#N/A"},{"$error":"#N/A"}]
[null,null,null,false,null,4,45,{"$error":"#N/A"},{"$error":"#N/A"},{"$error":"#N/A"}]
[null,null,null,false,null,4,45,{"$error":"#N/A"},{"$error":"#N/A"},{"$error":"#N/A"}]
[null,null,null,false,null,4,45,{"$error":"#N/A"},{"$error":"#N/A"},{"$error":"#N/A"}]
[null,null,null,false,null,4,45,{"$error":"#N/A"},{"$error":"#N/A"},{"$error":"#N/A"}]
[null,null,null,false,null,4,45,{"$error":"#N/A"},{"$error":"#N/A"},{"$error":"#N/A"}]
[null,null,null,false,null,4,45,{"$error":"#N/A"},{"$error":"#N/A"},{"$error":"#N/A"}]
[null,null,null,false,null,4,45,{"$error":"#N/A"},{"$error":"#N/A"},{"$error":"#N/A"}]
[null,null,null,false,null,4,45,{"$error":"#N/A"},{"$error":"#N/A"},{"$error":"#N/A"}]
[null,null,null,false,null,4,45,{"$error":"#N/A"},{"$error":"#N/A"},{"$error":"#N/A"}]
[null,null,null,false]
[null,null,null,false]
[null,null,null,false]
[null,null,null,false]
[null,null,null,false]
[null,null,null,false]
[null,null,null,false]
[null,null,null,false]
[null,null,null,false]
[null,null,null,false]
[null,null,null,false]
[null,null,null,false]
[null,null,null,false]
[null,null,null,false]
[null,null,null,false]
[null,null,null,false]
[null,null,null,false]
[null,null,null,false]
[null,null,null,false]
[null,null,null,false]
[null,null,null,false]
[null,null,null,false]
[null,null,null,false]
[null,null,null,false]
[null,null,null,false]
[null,null,null,false]
[null,null,null,false]
[null,null,null,false]
[null,null,null,false]
[null,null,null,false]
[null,null,null,false]
[null,null,null,false]
[null,null,null,false]
[null,null,null,false]
[null,null,null,false]
[null,null,null,false]
[null,null,null,false]
[null,null,null,false]
[null,null,null,false]
[null,null,null,false]
[null,null,null,false]
[null,null,null,false]
[null,null,null,false]
[null,null,null,false]

{"sheet":"Summary","index":3,"n_rows":853,"n_cols":74,"rows_kept":853,"cut":false,"hidden":false,"merged":[]}
[null,null,"Selected Start",{"$f":"Forms!G9","v":"1997-01-01"},null,null,"Index No (Frms)",null,{"$f":"Forms!J4","v":1},null,null,"Graph Code",{"$f":"Forms!P7","v":3},"Height",{"$f":"COUNT(D10:D853)","v":259},"Graph Cols",{"$f":"COUNTIF('Multiple Stock Graph'!D:D,TRUE)+2","v":6},null,null,null,null,null,null,null,null,null,null,null,null,null,null,null,null,null,null,null,null,null,null,null,null,null,null,null,"Periods in Yr",null,{"$f":"IF(D6,52,12)","v":12}]
[null,null,"End Date",{"$f":"MIN(Forms!L9,MAX(A:A))","v":"2018-07-01"},null,null,"Col to Read",null,{"$f":"INDEX('Read Stocks'!O3:O202,Summary!I1)","v":""},null,null,null,null,"This is the data that is graphed",null,null,null,null,null,null,null,null,null,null,null,null,null,{"$f":"MIN(INDIRECT(AB5&\"!A:A\"))","v":{"$error":"#REF!"}},{"$f":"MIN(INDIRECT(AC5&\"!A:A\"))","v":{"$error":"#REF!"}},{"$error":"#REF!"},{"$error":"#REF!"},{"$error":"#N/A"},{"$error":"#N/A"},null,null,null,null,null,null,null,null,null,null,null,null,null,null,null,null,null,null,null,null,null,null,null,null,null,null,null,null,null,null,null,null,"First two are inflation, next 5 are exchange rates with multiplication"]
[null,null,"Start of Series",{"$f":"IFERROR(MIN(INDIRECT(\"'\"&$G$7&\"'!A:A\")),start_of_date)","v":"1950-01-01"},null,null,null,null,null,"Final Val",{"$f":"LOOKUP(D2,$D$10:$D$837,K10:K837)","v":{"$error":"#DIV/0!"}},null,null,null,null,null,null,null,null,null,null,null,null,null,null,null,null,null,null,null,null,null,null,"Exchange Rate Adjustments",null,null,null,null,null,"Adjusted Values for Exchange Rate",null,null,null,null,"Beta",{"$f":"SLOPE(AT10:AT837,$AT$10:$AT$837)","v":{"$error":"#DIV/0!"}},{"$f":"SLOPE(AU12:AU837,AT12:AT837)","v":{"$error":"#DIV/0!"}},{"$error":"#DIV/0!"},{"$error":"#DIV/0!"},{"$error":"#DIV/0!"},{"$error":"#DIV/0!"},{"$error":"#DIV/0!"},{"$f":"LOOKUP($D$2,$D:$D,BA:BA)","v":1},1,1,1,1,1]
[null,null,"Final Start",{"$f":"MAX(D3,D1)","v":"1997-01-01"},{"$f":"(D2-D4-1)/365.4","v":21.483305966064588},null,"No Re-calc",null,null,"IRR",{"$f":"(K3)^(1/($E$4-1))-1","v":{"$error":"#DIV/0!"}},null,null,null,null,null,null,null,null,null,null,"Raw Values without Re-calc",null,null,null,null,null,"Re-orded Lookup Value for Raw Value with Adjusted Date",null,null,null,null,null,null,null,null,null,null,null,null,null,null,null,null,"Std Dev",{"$f":"STDEV(AT10:AT837)","v":{"$error":"#DIV/0!"}},{"$error":"#DIV/0!"},{"$error":"#DIV/0!"},{"$error":"#DIV/0!"},{"$error":"#DIV/0!"},{"$error":"#DIV/0!"},{"$error":"#DIV/0!"},{"$f":"IF(BA3<>1,(BA3)^(1/($E$4-1))-1,\"\")","v":""},{"$f":"IF(BB3<>1,(BB3)^(1/($E$4-1))-1,\"\")","v":""},"","","","","Raw Retrieval of Inflation and Exchange Indirect",null,null,null,null,null,null,"Exchange Rate with Lookup"]
[null,null,null,"Monhly Switch",null,null,null,null,null,null,null,null,"Single",null,"Main","Comparators from Choose and Data to Right",null,null,null,null,null,{"$f":"TRANSPOSE('Multiple Stock Graph'!I4:I9)","v":""},"","","",{"$error":"#N/A"},{"$error":"#N/A"},{"$f":"V5","v":""},{"$f":"W5","v":""},"","",{"$error":"#N/A"},{"$error":"#N/A"},null,null,null,null,null,null,null,null,null,null,null,"Volatiltiy",{"$f":"AT4*$AU$1^0.5","v":{"$error":"#DIV/0!"}},{"$f":"AU4*$AU$1^0.5","v":{"$error":"#DIV/0!"}},{"$error":"#DIV/0!"},{"$error":"#DIV/0!"},{"$error":"#DIV/0!"},{"$error":"#DIV/0!"},{"$error":"#DIV/0!"}]
["Base",null,null,false,null,"Base Stock","Base Stock","Exc Rate/Infl","Adj for Inf/Exc","Change","Index",null,"Graph",null,"Item","First Comparator(Stats)",null,null,null,null,null,{"$f":"MATCH(V5,'Read Stocks'!$M:$M,0)","v":3},{"$f":"MATCH(W5,'Read Stocks'!$M:$M,0)","v":3},{"$f":"MATCH(X5,'Read Stocks'!$M:$M,0)","v":3},{"$f":"MATCH(Y5,'Read Stocks'!$M:$M,0)","v":3},{"$f":"MATCH(Z5,'Read Stocks'!$M:$M,0)","v":{"$error":"#N/A"}},{"$f":"MATCH(AA5,'Read Stocks'!$M:$M,0)","v":{"$error":"#N/A"}},null,null,null,null,null,null,false,false,false,false,false,false,null,null,null,null,null,null,"Growth Rate","Growth Rate",null,null,null,null,null,"Index",null,null,null,null,null,{"$f":"BN6","v":0},{"$f":"BO6","v":0},0,0,0,null,null,{"$f":"TRANSPOSE('Exchange Rates'!D13:D47)","v":0},0,0,0,0,0,0]
["Date ","Monthly","Weekely","Month or Day","Date Selected",{"$f":"Forms!K4","v":0},{"$f":"Forms!L4","v":""},"Adjustment",{"$f":"G7","v":""},{"$f":"G7","v":""},{"$f":"J7","v":""},"X-Axis",{"$f":"CHOOSE($M$1,G7,J7,K7)","v":""},"x-axis",{"$f":"INDEX('Read Stocks'!N3:N202,Summary!I1)","v":""},{"$f":"TRANSPOSE('Multiple Stock Graph'!J4:J9)","v":""},"","","",{"$error":"#N/A"},{"$error":"#N/A"},{"$f":"INDEX('Read Stocks'!$O:$O,Summary!V6)","v":""},{"$f":"INDEX('Read Stocks'!$O:$O,Summary!W6)","v":""},{"$f":"INDEX('Read Stocks'!$O:$O,Summary!X6)","v":""},{"$f":"INDEX('Read Stocks'!$O:$O,Summary!Y6)","v":""},{"$f":"INDEX('Read Stocks'!$O:$O,Summary!Z6)","v":{"$error":"#N/A"}},{"$f":"INDEX('Read Stocks'!$O:$O,Summary!AA6)","v":{"$error":"#N/A"}},null,null,null,null,null,null,{"$f":"TRANSPOSE('Multiple Stock Graph'!K16:K21)","v":0},0,0,0,0,0,{"$f":"P7","v":""},"","","",{"$error":"#N/A"},{"$error":"#N/A"},{"$f":"J7","v":""},{"$f":"V5","v":""},"","","",{"$error":"#N/A"},{"$error":"#N/A"},{"$f":"AU7","v":""},"","","",{"$error":"#N/A"},{"$error":"#N/A"},null,null,null,null,null,null,null,"B","B","B","B","B","B","B"]
["Copied","Date","Date","Date","Switch","Raw Data","Raw Data",{"$f":"'Multiple Stock Graph'!K15","v":0},null,null,null,null,null,null,null,1,2,3,4,5,6,1,2,3,4,5,6,null,null,null,null,null,null,{"$f":"IFERROR(INDEX($BN$6:$BT$6,AH7),\"\")","v":""},{"$f":"IFERROR(INDEX($BN$6:$BT$6,AI7),\"\")","v":""},"","","","",1,2,3,4,5,6,null,null,null,null,null,null,null,null,null,null,null,null,null,null,null,null,null,null,null,null,"Divide","Divide","Multply","Multply","Multply","Multply","Multply"]
[null,null,null,null,null,{"$f":"I2","v":""},{"$f":"I2","v":""},null,null,null,1,null,null,null,{"$f":"O7","v":""},{"$f":"P7","v":""},{"$f":"Q7","v":""},"","",{"$error":"#N/A"},{"$error":"#N/A"},null,null,null,null,null,null,null,null,null,null,null,null,null,null,null,null,null,null,null,null,null,null,null,null,null,null,null,null,null,null,null,1,1,1,1,1,1]
["1950-01-01",{"$f":"MAX(D3,D1)","v":"1997-01-01"},{"$f":"B10","v":"1997-01-01"},{"$f":"IF($D$6,C10,B10)","v":"1997-01-01"},{"$f":"AND(D10>=$D$4,D10<=$D$2)","v":true},{"$f":"LOOKUP(D10,A:A,G:G)","v":0},{"$f":"IFERROR(LOOKUP($A10,INDIRECT(\"'\"&G$7&\"'!A:A\"),INDIRECT(\"'\"&G$7&\"'!\"&$G$9&\":\"&$G$9)),0)","v":0},{"$f":"IF(H$8,INDEX($BN10:$BT10,H$8),1)","v":1},{"$f":"IF(ISNUMBER(F10),F10,I11)*H10","v":0},{"$f":"IFERROR(LN(G10/G9),FALSE)","v":false},{"$f":"IF($E10,(K9*(1+J10)),1)","v":1},{"$f":"IF(E10,D10,NA())","v":"1997-01-01"},{"$f":"CHOOSE($M$1,I10,J10,K10)","v":1},{"$f":"L10","v":"1997-01-01"},{"$f":"M10","v":1},{"$f":"CHOOSE($M$1,AN10,AU10,BA10)","v":1},{"$f":"CHOOSE($M$1,AO10,AV10,BB10)","v":1},{"$f":"CHOOSE($M$1,AP10,AW10,BC10)","v":1},{"$f":"CHOOSE($M$1,AQ10,AX10,BD10)","v":1},{"$f":"CHOOSE($M$1,AR10,AY10,BE10)","v":1},{"$f":"CHOOSE($M$1,AS10,AZ10,BF10)","v":1},{"$f":"LOOKUP($A10,INDIRECT(\"'\"&V$5&\"'!A:A\"),INDIRECT(\"'\"&V$5&\"'!\"&V$7&\":\"&V$7))","v":{"$error":"#REF!"}},{"$f":"LOOKUP($A10,INDIRECT(\"'\"&W$5&\"'!A:A\"),INDIRECT(\"'\"&W$5&\"'!\"&W$7&\":\"&W$7))","v":{"$error":"#REF!"}},{"$f":"LOOKUP($A10,INDIRECT(\"'\"&X$5&\"'!A:A\"),INDIRECT(\"'\"&X$5&\"'!\"&X$7&\":\"&X$7))","v":{"$error":"#REF!"}},{"$error":"#REF!"},{"$error":"#N/A"},{"$error":"#N/A"},{"$f":"IF(ISNUMBER(LOOKUP($D10,$A:$A,V:V)),LOOKUP($D10,$A:$A,V:V),AB9)","v":0},{"$f":"IF(ISNUMBER(LOOKUP($D10,$A:$A,W:W)),LOOKUP($D10,$A:$A,W:W),AC9)","v":0},0,0,0,0,{"$f":"IF(AH$7,INDEX($BN10:$BT10,AH$7),1)","v":1},{"$f":"IF(AI$7,INDEX($BN10:$BT10,AI$7),1)","v":1},1,1,1,1,{"$f":"IFERROR(IF(ISNUMBER(AB10)>0.1,AB10,AN11)*AH10,AN11)","v":0},{"$f":"IFERROR(IF(ISNUMBER(AC10)>0.1,AC10,AO11)*AI10,AO11)","v":0},0,0,0,{"$f":"IF(ISNUMBER(AG10)>0.1,AG10,AS11)","v":0},{"$f":"J10","v":false},{"$f":"IF(E10,IFERROR(LN(AN10/AN9),FALSE))","v":false},{"$f":"IF(E10,IFERROR(LN(AO10/AO9),FALSE))","v":false},{"$f":"IF(E10,IFERROR(LN(AP10/AP9),FALSE))","v":false},{"$f":"IF(E10,IFERROR(LN(AQ10/AQ9),FALSE))","v":false},{"$f":"IF(E10,IFERROR(LN(AR10/AR9),FALSE))","v":false},{"$f":"IF(E10,IFERROR(LN(AS10/AS9),FALSE))","v":false},1,1,1,1,1,1,{"$f":"IFERROR(LOOKUP($A10,INDIRECT(\"'\"&BN$6&\"'!A:A\"),INDIRECT(\"'\"&BN$6&\"'!\"&BN$7&\":\"&BN$7)),0)","v":0},{"$f":"IFERROR(LOOKUP($A10,INDIRECT(\"'\"&BO$6&\"'!A:A\"),INDIRECT(\"'\"&BO$6&\"'!\"&BO$7&\":\"&BO$7)),0)","v":0},0,0,0,0,0,{"$f":"IFERROR(1/IFERROR(LOOKUP($D10,$A:$A,BG:BG)*1,0),1)","v":1},{"$f":"IFERROR(1/IFERROR(LOOKUP($D10,$A:$A,BH:BH)*1,0),1)","v":1},{"$f":"IFERROR(LOOKUP($D10,$A:$A,BI:BI)*1,0)","v":0},0,0,0,0]
["1950-02-01",{"$f":"IF(B10<=$D$2,EOMONTH(B10,1))","v":"1997-02-28"},{"$f":"IF(C10<=$D$2,C10+7)","v":"1997-01-08"},{"$f":"IF($D$6,C11,B11)","v":"1997-02-28"},{"$f":"AND(D11>=$D$4,D10<=$D$2)","v":true},{"$f":"LOOKUP(D11,A:A,G:G)","v":0},{"$f":"IFERROR(LOOKUP($A11,INDIRECT(\"'\"&G$7&\"'!A:A\"),INDIRECT(\"'\"&G$7&\"'!\"&$G$9&\":\"&$G$9)),0)","v":0},{"$f":"IF(H$8,INDEX($BN11:$BT11,H$8),1)","v":1},{"$f":"IF(ISNUMBER(F11),F11,I12)*H11","v":0},{"$f":"IFERROR(LN(I11/I10),FALSE)","v":false},{"$f":"IF($E11,(K10*I11/I10),1)","v":{"$error":"#DIV/0!"}},{"$f":"IF(E11,D11,NA())","v":"1997-02-28"},{"$f":"CHOOSE($M$1,I11,J11,K11)","v":{"$error":"#DIV/0!"}},{"$f":"L11","v":"1997-02-28"},{"$f":"M11","v":{"$error":"#DIV/0!"}},{"$f":"IFERROR(CHOOSE($M$1,AN11,AU11,BA11),1)","v":1},1,1,1,1,1,{"$f":"LOOKUP($A11,INDIRECT(\"'\"&V$5&\"'!A:A\"),INDIRECT(\"'\"&V$5&\"'!\"&V$7&\":\"&V$7))","v":{"$error":"#REF!"}},{"$error":"#REF!"},{"$error":"#REF!"},{"$f":"LOOKUP($A11,INDIRECT(\"'\"&Y$5&\"'!A:A\"),INDIRECT(\"'\"&Y$5&\"'!\"&Y$7&\":\"&Y$7))","v":{"$error":"#REF!"}},{"$error":"#N/A"},{"$error":"#N/A"},{"$f":"IF(ISNUMBER(LOOKUP($D11,$A:$A,V:V)),LOOKUP($D11,$A:$A,V:V),AB10)","v":0},{"$f":"IF(ISNUMBER(LOOKUP($D11,$A:$A,W:W)),LOOKUP($D11,$A:$A,W:W),AC10)","v":0},{"$f":"IF(ISNUMBER(LOOKUP($D11,$A:$A,X:X)),LOOKUP($D11,$A:$A,X:X),AD10)","v":0},{"$f":"IF(ISNUMBER(LOOKUP($D11,$A:$A,Y:Y)),LOOKUP($D11,$A:$A,Y:Y),AE10)","v":0},{"$f":"IF(ISNUMBER(LOOKUP($D11,$A:$A,Z:Z)),LOOKUP($D11,$A:$A,Z:Z),AF10)","v":0},{"$f":"IF(ISNUMBER(LOOKUP($D11,$A:$A,AA:AA)),LOOKUP($D11,$A:$A,AA:AA),AG10)","v":0},{"$f":"IF(AH$7,INDEX($BN11:$BT11,AH$7),1)","v":1},1,1,1,1,1,{"$f":"IFERROR(IF(ISNUMBER(AB11)>0.1,AB11,AN12)*AH11,AN12)","v":0},{"$f":"IFERROR(IF(ISNUMBER(AC11)>0.1,AC11,AO12)*AI11,AO12)","v":0},{"$f":"IFERROR(IF(ISNUMBER(AD11)>0.1,AD11,AP12)*AJ11,AP12)","v":0},{"$f":"IFERROR(IF(ISNUMBER(AE11)>0.1,AE11,AQ12)*AK11,AQ12)","v":0},{"$f":"IFERROR(IF(ISNUMBER(AF11)>0.1,AF11,AR12)*AL11,AR12)","v":0},{"$f":"IF(ISNUMBER(AG11)>0.1,AG11,AS12)","v":0},{"$f":"J11","v":false},{"$f":"IF(E11,IFERROR(LN(AN11/AN10),FALSE))","v":false},{"$f":"IF(E11,IFERROR(LN(AO11/AO10),FALSE))","v":false},{"$f":"IF(E11,IFERROR(LN(AP11/AP10),FALSE))","v":false},{"$f":"IF(E11,IFERROR(LN(AQ11/AQ10),FALSE))","v":false},{"$f":"IF(E11,IFERROR(LN(AR11/AR10),FALSE))","v":false},{"$f":"IF(E11,IFERROR(LN(AS11/AS10),FALSE))","v":false},{"$f":"IFERROR(IF($E11,BA10*AN11/AN10,1),1)","v":1},{"$f":"IFERROR(IF($E11,BB10*AO11/AO10,1),1)","v":1},{"$f":"IFERROR(IF($E11,BC10*AP11/AP10,1),1)","v":1},{"$f":"IFERROR(IF($E11,BD10*AQ11/AQ10,1),1)","v":1},1,1,{"$f":"IFERROR(LOOKUP($A11,INDIRECT(\"'\"&BN$6&\"'!A:A\"),INDIRECT(\"'\"&BN$6&\"'!\"&BN$7&\":\"&BN$7)),0)","v":0},{"$f":"IFERROR(LOOKUP($A11,INDIRECT(\"'\"&BO$6&\"'!A:A\"),INDIRECT(\"'\"&BO$6&\"'!\"&BO$7&\":\"&BO$7)),0)","v":0},{"$f":"IFERROR(LOOKUP($A11,INDIRECT(\"'\"&BP$6&\"'!A:A\"),INDIRECT(\"'\"&BP$6&\"'!\"&BP$7&\":\"&BP$7)),0)","v":0},{"$f":"IFERROR(LOOKUP($A11,INDIRECT(\"'\"&BQ$6&\"'!A:A\"),INDIRECT(\"'\"&BQ$6&\"'!\"&BQ$7&\":\"&BQ$7)),0)","v":0},{"$f":"IFERROR(LOOKUP($A11,INDIRECT(\"'\"&BR$6&\"'!A:A\"),INDIRECT(\"'\"&BR$6&\"'!\"&BR$7&\":\"&BR$7)),0)","v":0},{"$f":"IFERROR(LOOKUP($A11,INDIRECT(\"'\"&BS$6&\"'!A:A\"),INDIRECT(\"'\"&BS$6&\"'!\"&BS$7&\":\"&BS$7)),0)","v":0},{"$f":"IFERROR(LOOKUP($A11,INDIRECT(\"'\"&BT$6&\"'!A:A\"),INDIRECT(\"'\"&BT$6&\"'!\"&BT$7&\":\"&BT$7)),0)","v":0},{"$f":"IFERROR(1/IFERROR(LOOKUP($D11,$A:$A,BG:BG)*1,0),1)","v":1},{"$f":"IFERROR(1/IFERROR(LOOKUP($D11,$A:$A,BH:BH)*1,0),1)","v":1},{"$f":"IFERROR(LOOKUP($D11,$A:$A,BI:BI)*1,BP10)","v":0},0,0,0,0]
["1950-03-01",{"$f":"IF(B11<=$D$2,EOMONTH(B11,1))","v":"1997-03-31"},{"$f":"IF(C11<=$D$2,C11+7)","v":"1997-01-15"},{"$f":"IF($D$6,C12,B12)","v":"1997-03-31"},{"$f":"AND(D12>=$D$4,D11<=$D$2)","v":true},0,0,1,0,{"$f":"IFERROR(LN(I12/I11),FALSE)","v":false},{"$f":"IF($E12,(K11*I12/I11),1)","v":{"$error":"#DIV/0!"}},"1997-03-31",{"$error":"#DIV/0!"},"1997-03-31",{"$f":"M12","v":{"$error":"#DIV/0!"}},{"$f":"IFERROR(CHOOSE($M$1,AN12,AU12,BA12),1)","v":1},{"$f":"IFERROR(CHOOSE($M$1,AO12,AV12,BB12),1)","v":1},{"$f":"IFERROR(CHOOSE($M$1,AP12,AW12,BC12),1)","v":1},{"$f":"IFERROR(CHOOSE($M$1,AQ12,AX12,BD12),1)","v":1},{"$f":"IFERROR(CHOOSE($M$1,AR12,AY12,BE12),1)","v":1},{"$f":"IFERROR(CHOOSE($M$1,AS12,AZ12,BF12),1)","v":1},{"$error":"#REF!"},{"$error":"#REF!"},{"$error":"#REF!"},{"$error":"#REF!"},{"$error":"#N/A"},{"$error":"#N/A"},0,0,0,0,0,0,1,1,1,1,1,1,0,0,0,0,0,0,{"$f":"J12","v":false},false,false,false,false,false,false,{"$f":"IFERROR(IF($E12,BA11*AN12/AN11,1),1)","v":1},{"$f":"IFERROR(IF($E12,BB11*AO12/AO11,1),1)","v":1},{"$f":"IFERROR(IF($E12,BC11*AP12/AP11,1),1)","v":1},{"$f":"IFERROR(IF($E12,BD11*AQ12/AQ11,1),1)","v":1},{"$f":"IFERROR(IF($E12,BE11*AR12/AR11,1),1)","v":1},{"$f":"IFERROR(IF($E12,BF11*AS12/AS11,1),1)","v":1},0,0,0,0,0,0,0,1,1,{"$f":"IFERROR(LOOKUP($D12,$A:$A,BI:BI)*1,BP11)","v":0},{"$f":"IFERROR(LOOKUP($D12,$A:$A,BJ:BJ)*1,BQ11)","v":0},{"$f":"IFERROR(LOOKUP($D12,$A:$A,BK:BK)*1,BR11)","v":0},{"$f":"IFERROR(LOOKUP($D12,$A:$A,BL:BL)*1,BS11)","v":0},{"$f":"IFERROR(LOOKUP($D12,$A:$A,BM:BM)*1,BT11)","v":0}]
["1950-04-01","1997-04-30","1997-01-22",{"$f":"IF($D$6,C13,B13)","v":"1997-04-30"},true,0,0,1,0,false,{"$f":"IF($E13,(K12*I13/I12),1)","v":{"$error":"#DIV/0!"}},{"$f":"IF(E13,D13,NA())","v":"1997-04-30"},{"$f":"CHOOSE($M$1,I13,J13,K13)","v":{"$error":"#DIV/0!"}},{"$f":"L13","v":"1997-04-30"},{"$f":"M13","v":{"$error":"#DIV/0!"}},{"$f":"IFERROR(CHOOSE($M$1,AN13,AU13,BA13),1)","v":1},{"$f":"IFERROR(CHOOSE($M$1,AO13,AV13,BB13),1)","v":1},{"$f":"IFERROR(CHOOSE($M$1,AP13,AW13,BC13),1)","v":1},{"$f":"IFERROR(CHOOSE($M$1,AQ13,AX13,BD13),1)","v":1},{"$f":"IFERROR(CHOOSE($M$1,AR13,AY13,BE13),1)","v":1},{"$f":"IFERROR(CHOOSE($M$1,AS13,AZ13,BF13),1)","v":1},{"$error":"#REF!"},{"$error":"#REF!"},{"$error":"#REF!"},{"$error":"#REF!"},{"$error":"#N/A"},{"$error":"#N/A"},0,0,0,0,0,0,1,1,1,1,1,1,0,0,0,0,0,0,{"$f":"J13","v":false},false,false,false,false,false,false,1,1,1,1,1,1,0,0,0,0,0,0,0,1,1,0,0,0,0,0]
["1950-05-01","1997-05-31","1997-01-29","1997-05-31",true,0,0,1,0,false,{"$error":"#DIV/0!"},"1997-05-31",{"$error":"#DIV/0!"},"1997-05-31",{"$error":"#DIV/0!"},1,1,1,1,1,1,{"$error":"#REF!"},{"$error":"#REF!"},{"$error":"#REF!"},{"$error":"#REF!"},{"$error":"#N/A"},{"$error":"#N/A"},0,0,0,0,0,0,1,1,1,1,1,1,0,0,0,0,0,0,false,false,false,false,false,false,false,1,1,1,1,1,1,0,0,0,0,0,0,0,1,1,0,0,0,0,0]
["1950-06-01","1997-06-30","1997-02-05","1997-06-30",true,0,0,1,0,false,{"$error":"#DIV/0!"},"1997-06-30",{"$error":"#DIV/0!"},"1997-06-30",{"$error":"#DIV/0!"},1,1,1,1,1,1,{"$error":"#REF!"},{"$error":"#REF!"},{"$error":"#REF!"},{"$error":"#REF!"},{"$error":"#N/A"},{"$error":"#N/A"},0,0,0,0,0,0,1,1,1,1,1,1,0,0,0,0,0,0,false,false,false,false,false,false,false,1,1,1,1,1,1,0,0,0,0,0,0,0,1,1,0,0,0,0,0]
["1950-07-01","1997-07-31","1997-02-12","1997-07-31",true,0,0,1,0,false,{"$error":"#DIV/0!"},"1997-07-31",{"$error":"#DIV/0!"},"1997-07-31",{"$error":"#DIV/0!"},1,1,1,1,1,1,{"$error":"#REF!"},{"$error":"#REF!"},{"$error":"#REF!"},{"$error":"#REF!"},{"$error":"#N/A"},{"$error":"#N/A"},0,0,0,0,0,0,1,1,1,1,1,1,0,0,0,0,0,0,false,false,false,false,false,false,false,1,1,1,1,1,1,0,0,0,0,0,0,0,1,1,0,0,0,0,0]
["1950-08-01","1997-08-31","1997-02-19","1997-08-31",true,0,0,1,0,false,{"$error":"#DIV/0!"},"1997-08-31",{"$error":"#DIV/0!"},"1997-08-31",{"$error":"#DIV/0!"},1,1,1,1,1,1,{"$error":"#REF!"},{"$error":"#REF!"},{"$error":"#REF!"},{"$error":"#REF!"},{"$error":"#N/A"},{"$error":"#N/A"},0,0,0,0,0,0,1,1,1,1,1,1,0,0,0,0,0,0,false,false,false,false,false,false,false,1,1,1,1,1,1,0,0,0,0,0,0,0,1,1,0,0,0,0,0]
["1950-09-01","1997-09-30","1997-02-26","1997-09-30",true,0,0,1,0,false,{"$error":"#DIV/0!"},"1997-09-30",{"$error":"#DIV/0!"},"1997-09-30",{"$error":"#DIV/0!"},1,1,1,1,1,1,{"$error":"#REF!"},{"$error":"#REF!"},{"$error":"#REF!"},{"$error":"#REF!"},{"$error":"#N/A"},{"$error":"#N/A"},0,0,0,0,0,0,1,1,1,1,1,1,0,0,0,0,0,0,false,false,false,false,false,false,false,1,1,1,1,1,1,0,0,0,0,0,0,0,1,1,0,0,0,0,0]
["1950-10-01","1997-10-31","1997-03-05","1997-10-31",true,0,0,1,0,false,{"$error":"#DIV/0!"},"1997-10-31",{"$error":"#DIV/0!"},"1997-10-31",{"$error":"#DIV/0!"},1,1,1,1,1,1,{"$error":"#REF!"},{"$error":"#REF!"},{"$error":"#REF!"},{"$error":"#REF!"},{"$error":"#N/A"},{"$error":"#N/A"},0,0,0,0,0,0,1,1,1,1,1,1,0,0,0,0,0,0,false,false,false,false,false,false,false,1,1,1,1,1,1,0,0,0,0,0,0,0,1,1,0,0,0,0,0]
["1950-11-01","1997-11-30","1997-03-12","1997-11-30",true,0,0,1,0,false,{"$error":"#DIV/0!"},"1997-11-30",{"$error":"#DIV/0!"},"1997-11-30",{"$error":"#DIV/0!"},1,1,1,1,1,1,{"$error":"#REF!"},{"$error":"#REF!"},{"$error":"#REF!"},{"$error":"#REF!"},{"$error":"#N/A"},{"$error":"#N/A"},0,0,0,0,0,0,1,1,1,1,1,1,0,0,0,0,0,0,false,false,false,false,false,false,false,1,1,1,1,1,1,0,0,0,0,0,0,0,1,1,0,0,0,0,0]
["1950-12-01","1997-12-31","1997-03-19","1997-12-31",true,0,0,1,0,false,{"$error":"#DIV/0!"},"1997-12-31",{"$error":"#DIV/0!"},"1997-12-31",{"$error":"#DIV/0!"},1,1,1,1,1,1,{"$error":"#REF!"},{"$error":"#REF!"},{"$error":"#REF!"},{"$error":"#REF!"},{"$error":"#N/A"},{"$error":"#N/A"},0,0,0,0,0,0,1,1,1,1,1,1,0,0,0,0,0,0,false,false,false,false,false,false,false,1,1,1,1,1,1,0,0,0,0,0,0,0,1,1,0,0,0,0,0]
["1951-01-01","1998-01-31","1997-03-26","1998-01-31",true,0,0,1,0,false,{"$error":"#DIV/0!"},"1998-01-31",{"$error":"#DIV/0!"},"1998-01-31",{"$error":"#DIV/0!"},1,1,1,1,1,1,{"$error":"#REF!"},{"$error":"#REF!"},{"$error":"#REF!"},{"$error":"#REF!"},{"$error":"#N/A"},{"$error":"#N/A"},0,0,0,0,0,0,1,1,1,1,1,1,0,0,0,0,0,0,false,false,false,false,false,false,false,1,1,1,1,1,1,0,0,0,0,0,0,0,1,1,0,0,0,0,0]
["1951-02-01","1998-02-28","1997-04-02","1998-02-28",true,0,0,1,0,false,{"$error":"#DIV/0!"},"1998-02-28",{"$error":"#DIV/0!"},"1998-02-28",{"$error":"#DIV/0!"},1,1,1,1,1,1,{"$error":"#REF!"},{"$error":"#REF!"},{"$error":"#REF!"},{"$error":"#REF!"},{"$error":"#N/A"},{"$error":"#N/A"},0,0,0,0,0,0,1,1,1,1,1,1,0,0,0,0,0,0,false,false,false,false,false,false,false,1,1,1,1,1,1,0,0,0,0,0,0,0,1,1,0,0,0,0,0]
["1951-03-01","1998-03-31","1997-04-09","1998-03-31",true,0,0,1,0,false,{"$error":"#DIV/0!"},"1998-03-31",{"$error":"#DIV/0!"},"1998-03-31",{"$error":"#DIV/0!"},1,1,1,1,1,1,{"$error":"#REF!"},{"$error":"#REF!"},{"$error":"#REF!"},{"$error":"#REF!"},{"$error":"#N/A"},{"$error":"#N/A"},0,0,0,0,0,0,1,1,1,1,1,1,0,0,0,0,0,0,false,false,false,false,false,false,false,1,1,1,1,1,1,0,0,0,0,0,0,0,1,1,0,0,0,0,0]
["1951-04-01","1998-04-30","1997-04-16","1998-04-30",true,0,0,1,0,false,{"$error":"#DIV/0!"},"1998-04-30",{"$error":"#DIV/0!"},"1998-04-30",{"$error":"#DIV/0!"},1,1,1,1,1,1,{"$error":"#REF!"},{"$error":"#REF!"},{"$error":"#REF!"},{"$error":"#REF!"},{"$error":"#N/A"},{"$error":"#N/A"},0,0,0,0,0,0,1,1,1,1,1,1,0,0,0,0,0,0,false,false,false,false,false,false,false,1,1,1,1,1,1,0,0,0,0,0,0,0,1,1,0,0,0,0,0]
["1951-05-01","1998-05-31","1997-04-23","1998-05-31",true,0,0,1,0,false,{"$error":"#DIV/0!"},"1998-05-31",{"$error":"#DIV/0!"},"1998-05-31",{"$error":"#DIV/0!"},1,1,1,1,1,1,{"$error":"#REF!"},{"$error":"#REF!"},{"$error":"#REF!"},{"$f":"LOOKUP($A26,INDIRECT(\"'\"&Y$5&\"'!A:A\"),INDIRECT(\"'\"&Y$5&\"'!\"&Y$7&\":\"&Y$7))","v":{"$error":"#REF!"}},{"$error":"#N/A"},{"$error":"#N/A"},0,0,0,0,0,0,1,1,1,1,1,1,0,0,0,0,0,0,false,false,false,false,false,false,false,1,1,1,1,1,1,0,0,0,0,0,0,0,1,1,0,0,0,0,0]
["1951-06-01","1998-06-30","1997-04-30","1998-06-30",true,0,0,1,0,false,{"$error":"#DIV/0!"},"1998-06-30",{"$error":"#DIV/0!"},"1998-06-30",{"$error":"#DIV/0!"},1,1,1,1,1,1,{"$error":"#REF!"},{"$error":"#REF!"},{"$error":"#REF!"},{"$error":"#REF!"},{"$error":"#N/A"},{"$error":"#N/A"},0,0,0,0,0,0,1,1,1,1,1,1,0,0,0,0,0,0,false,false,false,false,false,false,false,1,1,1,1,1,1,0,0,0,0,0,0,0,1,1,0,0,0,0,0]
["1951-07-01","1998-07-31","1997-05-07","1998-07-31",true,0,0,1,0,false,{"$error":"#DIV/0!"},"1998-07-31",{"$error":"#DIV/0!"},"1998-07-31",{"$error":"#DIV/0!"},1,1,1,1,1,1,{"$error":"#REF!"},{"$error":"#REF!"},{"$error":"#REF!"},{"$error":"#REF!"},{"$error":"#N/A"},{"$error":"#N/A"},0,0,0,0,0,0,1,1,1,1,1,1,0,0,0,0,0,0,false,false,false,false,false,false,false,1,1,1,1,1,1,0,0,0,0,0,0,0,1,1,0,0,0,0,0]
["1951-08-01","1998-08-31","1997-05-14","1998-08-31",true,0,0,1,0,false,{"$error":"#DIV/0!"},"1998-08-31",{"$error":"#DIV/0!"},"1998-08-31",{"$error":"#DIV/0!"},1,1,1,1,1,1,{"$error":"#REF!"},{"$error":"#REF!"},{"$error":"#REF!"},{"$error":"#REF!"},{"$error":"#N/A"},{"$error":"#N/A"},0,0,0,0,0,0,1,1,1,1,1,1,0,0,0,0,0,0,false,false,false,false,false,false,false,1,1,1,1,1,1,0,0,0,0,0,0,0,1,1,0,0,0,0,0]
["1951-09-01","1998-09-30","1997-05-21","1998-09-30",true,0,0,1,0,false,{"$error":"#DIV/0!"},"1998-09-30",{"$error":"#DIV/0!"},"1998-09-30",{"$error":"#DIV/0!"},1,1,1,1,1,1,{"$error":"#REF!"},{"$error":"#REF!"},{"$error":"#REF!"},{"$error":"#REF!"},{"$error":"#N/A"},{"$error":"#N/A"},0,0,0,0,0,0,1,1,1,1,1,1,0,0,0,0,0,0,false,false,false,false,false,false,false,1,1,1,1,1,1,0,0,0,0,0,0,0,1,1,0,0,0,0,0]
["1951-10-01","1998-10-31","1997-05-28","1998-10-31",true,0,0,1,0,false,{"$error":"#DIV/0!"},"1998-10-31",{"$error":"#DIV/0!"},"1998-10-31",{"$error":"#DIV/0!"},1,1,1,1,1,1,{"$error":"#REF!"},{"$error":"#REF!"},{"$error":"#REF!"},{"$error":"#REF!"},{"$error":"#N/A"},{"$error":"#N/A"},0,0,0,0,0,0,1,1,1,1,1,1,0,0,0,0,0,0,false,false,false,false,false,false,false,1,1,1,1,1,1,0,0,0,0,0,0,0,1,1,0,0,0,0,0]
["1951-11-01","1998-11-30","1997-06-04","1998-11-30",true,0,0,1,0,false,{"$error":"#DIV/0!"},"1998-11-30",{"$error":"#DIV/0!"},"1998-11-30",{"$error":"#DIV/0!"},1,1,1,1,1,1,{"$error":"#REF!"},{"$error":"#REF!"},{"$error":"#REF!"},{"$error":"#REF!"},{"$error":"#N/A"},{"$error":"#N/A"},0,0,0,0,0,0,1,1,1,1,1,1,0,0,0,0,0,0,false,false,false,false,false,false,false,1,1,1,1,1,1,0,0,0,0,0,0,0,1,1,0,0,0,0,0]
["1951-12-01","1998-12-31","1997-06-11","1998-12-31",true,0,0,1,0,false,{"$error":"#DIV/0!"},"1998-12-31",{"$error":"#DIV/0!"},"1998-12-31",{"$error":"#DIV/0!"},1,1,1,1,1,1,{"$error":"#REF!"},{"$error":"#REF!"},{"$error":"#REF!"},{"$error":"#REF!"},{"$error":"#N/A"},{"$error":"#N/A"},0,0,0,0,0,0,1,1,1,1,1,1,0,0,0,0,0,0,false,false,false,false,false,false,false,1,1,1,1,1,1,0,0,0,0,0,0,0,1,1,0,0,0,0,0]
["1952-01-01","1999-01-31","1997-06-18","1999-01-31",true,0,0,1,0,false,{"$error":"#DIV/0!"},"1999-01-31",{"$error":"#DIV/0!"},"1999-01-31",{"$error":"#DIV/0!"},1,1,1,1,1,1,{"$error":"#REF!"},{"$error":"#REF!"},{"$error":"#REF!"},{"$error":"#REF!"},{"$error":"#N/A"},{"$error":"#N/A"},0,0,0,0,0,0,1,1,1,1,1,1,0,0,0,0,0,0,false,false,false,false,false,false,false,1,1,1,1,1,1,0,0,0,0,0,0,0,1,1,0,0,0,0,0]
["1952-02-01","1999-02-28","1997-06-25","1999-02-28",true,0,0,1,0,false,{"$error":"#DIV/0!"},"1999-02-28",{"$error":"#DIV/0!"},"1999-02-28",{"$error":"#DIV/0!"},1,1,1,1,1,1,{"$error":"#REF!"},{"$error":"#REF!"},{"$error":"#REF!"},{"$error":"#REF!"},{"$error":"#N/A"},{"$error":"#N/A"},0,0,0,0,0,0,1,1,1,1,1,1,0,0,0,0,0,0,false,false,false,false,false,false,false,1,1,1,1,1,1,0,0,0,0,0,0,0,1,1,0,0,0,0,0]
["1952-03-01","1999-03-31","1997-07-02","1999-03-31",true,0,0,1,0,false,{"$error":"#DIV/0!"},"1999-03-31",{"$error":"#DIV/0!"},"1999-03-31",{"$error":"#DIV/0!"},1,1,1,1,1,1,{"$error":"#REF!"},{"$error":"#REF!"},{"$error":"#REF!"},{"$error":"#REF!"},{"$error":"#N/A"},{"$error":"#N/A"},0,0,0,0,0,0,1,1,1,1,1,1,0,0,0,0,0,0,false,false,false,false,false,false,false,1,1,1,1,1,1,0,0,0,0,0,0,0,1,1,0,0,0,0,0]
["1952-04-01","1999-04-30","1997-07-09","1999-04-30",true,0,0,1,0,false,{"$error":"#DIV/0!"},"1999-04-30",{"$error":"#DIV/0!"},"1999-04-30",{"$error":"#DIV/0!"},1,1,1,1,1,1,{"$error":"#REF!"},{"$error":"#REF!"},{"$error":"#REF!"},{"$error":"#REF!"},{"$error":"#N/A"},{"$error":"#N/A"},0,0,0,0,0,0,1,1,1,1,1,1,0,0,0,0,0,0,false,false,false,false,false,false,false,1,1,1,1,1,1,0,0,0,0,0,0,0,1,1,0,0,0,0,0]
["1952-05-01","1999-05-31","1997-07-16","1999-05-31",true,0,0,1,0,false,{"$error":"#DIV/0!"},"1999-05-31",{"$error":"#DIV/0!"},"1999-05-31",{"$error":"#DIV/0!"},1,1,1,1,1,1,{"$error":"#REF!"},{"$error":"#REF!"},{"$error":"#REF!"},{"$error":"#REF!"},{"$error":"#N/A"},{"$error":"#N/A"},0,0,0,0,0,0,1,1,1,1,1,1,0,0,0,0,0,0,false,false,false,false,false,false,false,1,1,1,1,1,1,0,0,0,0,0,0,0,1,1,0,0,0,0,0]
["1952-06-01","1999-06-30","1997-07-23","1999-06-30",true,0,0,1,0,false,{"$error":"#DIV/0!"},"1999-06-30",{"$error":"#DIV/0!"},"1999-06-30",{"$error":"#DIV/0!"},1,1,1,1,1,1,{"$error":"#REF!"},{"$error":"#REF!"},{"$error":"#REF!"},{"$error":"#REF!"},{"$error":"#N/A"},{"$error":"#N/A"},0,0,0,0,0,0,1,1,1,1,1,1,0,0,0,0,0,0,false,false,false,false,false,false,false,1,1,1,1,1,1,0,0,0,0,0,0,0,1,1,0,0,0,0,0]
["1952-07-01","1999-07-31","1997-07-30","1999-07-31",true,0,0,1,0,false,{"$error":"#DIV/0!"},"1999-07-31",{"$error":"#DIV/0!"},"1999-07-31",{"$error":"#DIV/0!"},1,1,1,1,1,1,{"$error":"#REF!"},{"$error":"#REF!"},{"$error":"#REF!"},{"$error":"#REF!"},{"$error":"#N/A"},{"$error":"#N/A"},0,0,0,0,0,0,1,1,1,1,1,1,0,0,0,0,0,0,false,false,false,false,false,false,false,1,1,1,1,1,1,0,0,0,0,0,0,0,1,1,0,0,0,0,0]
["1952-08-01","1999-08-31","1997-08-06","1999-08-31",true,0,0,1,0,false,{"$error":"#DIV/0!"},"1999-08-31",{"$error":"#DIV/0!"},"1999-08-31",{"$error":"#DIV/0!"},1,1,1,1,1,1,{"$error":"#REF!"},{"$error":"#REF!"},{"$error":"#REF!"},{"$error":"#REF!"},{"$error":"#N/A"},{"$error":"#N/A"},0,0,0,0,0,0,1,1,1,1,1,1,0,0,0,0,0,0,false,false,false,false,false,false,false,1,1,1,1,1,1,0,0,0,0,0,0,0,1,1,0,0,0,0,0]
["1952-09-01","1999-09-30","1997-08-13","1999-09-30",true,0,0,1,0,false,{"$error":"#DIV/0!"},"1999-09-30",{"$error":"#DIV/0!"},"1999-09-30",{"$error":"#DIV/0!"},1,1,1,1,1,1,{"$error":"#REF!"},{"$error":"#REF!"},{"$error":"#REF!"},{"$error":"#REF!"},{"$error":"#N/A"},{"$error":"#N/A"},0,0,0,0,0,0,1,1,1,1,1,1,0,0,0,0,0,0,false,false,false,false,false,false,false,1,1,1,1,1,1,0,0,0,0,0,0,0,1,1,0,0,0,0,0]
["1952-10-01","1999-10-31","1997-08-20","1999-10-31",true,0,0,1,0,false,{"$error":"#DIV/0!"},"1999-10-31",{"$error":"#DIV/0!"},"1999-10-31",{"$error":"#DIV/0!"},1,1,1,1,1,1,{"$error":"#REF!"},{"$error":"#REF!"},{"$error":"#REF!"},{"$error":"#REF!"},{"$error":"#N/A"},{"$error":"#N/A"},0,0,0,0,0,0,1,1,1,1,1,1,0,0,0,0,0,0,false,false,false,false,false,false,false,1,1,1,1,1,1,0,0,0,0,0,0,0,1,1,0,0,0,0,0]
["1952-11-01","1999-11-30","1997-08-27","1999-11-30",true,0,0,1,0,false,{"$error":"#DIV/0!"},"1999-11-30",{"$error":"#DIV/0!"},"1999-11-30",{"$error":"#DIV/0!"},1,1,1,1,1,1,{"$error":"#REF!"},{"$error":"#REF!"},{"$error":"#REF!"},{"$error":"#REF!"},{"$error":"#N/A"},{"$error":"#N/A"},0,0,0,0,0,0,1,1,1,1,1,1,0,0,0,0,0,0,false,false,false,false,false,false,false,1,1,1,1,1,1,0,0,0,0,0,0,0,1,1,0,0,0,0,0]
["1952-12-01","1999-12-31","1997-09-03","1999-12-31",true,0,0,1,0,false,{"$error":"#DIV/0!"},"1999-12-31",{"$error":"#DIV/0!"},"1999-12-31",{"$error":"#DIV/0!"},1,1,1,1,1,1,{"$error":"#REF!"},{"$error":"#REF!"},{"$error":"#REF!"},{"$error":"#REF!"},{"$error":"#N/A"},{"$error":"#N/A"},0,0,0,0,0,0,1,1,1,1,1,1,0,0,0,0,0,0,false,false,false,false,false,false,false,1,1,1,1,1,1,0,0,0,0,0,0,0,1,1,0,0,0,0,0]
["1953-01-01","2000-01-31","1997-09-10","2000-01-31",true,0,0,1,0,false,{"$error":"#DIV/0!"},"2000-01-31",{"$error":"#DIV/0!"},"2000-01-31",{"$error":"#DIV/0!"},1,1,1,1,1,1,{"$error":"#REF!"},{"$error":"#REF!"},{"$error":"#REF!"},{"$error":"#REF!"},{"$error":"#N/A"},{"$error":"#N/A"},0,0,0,0,0,0,1,1,1,1,1,1,0,0,0,0,0,0,false,false,false,false,false,false,false,1,1,1,1,1,1,0,0,0,0,0,0,0,1,1,0,0,0,0,0]
["1953-02-01","2000-02-29","1997-09-17","2000-02-29",true,0,0,1,0,false,{"$error":"#DIV/0!"},"2000-02-29",{"$error":"#DIV/0!"},"2000-02-29",{"$error":"#DIV/0!"},1,1,1,1,1,1,{"$error":"#REF!"},{"$error":"#REF!"},{"$error":"#REF!"},{"$error":"#REF!"},{"$error":"#N/A"},{"$error":"#N/A"},0,0,0,0,0,0,1,1,1,1,1,1,0,0,0,0,0,0,false,false,false,false,false,false,false,1,1,1,1,1,1,0,0,0,0,0,0,0,1,1,0,0,0,0,0]
["1953-03-01","2000-03-31","1997-09-24","2000-03-31",true,0,0,1,0,false,{"$error":"#DIV/0!"},"2000-03-31",{"$error":"#DIV/0!"},"2000-03-31",{"$error":"#DIV/0!"},1,1,1,1,1,1,{"$error":"#REF!"},{"$error":"#REF!"},{"$error":"#REF!"},{"$error":"#REF!"},{"$error":"#N/A"},{"$error":"#N/A"},0,0,0,0,0,0,1,1,1,1,1,1,0,0,0,0,0,0,false,false,false,false,false,false,false,1,1,1,1,1,1,0,0,0,0,0,0,0,1,1,0,0,0,0,0]
["1953-04-01","2000-04-30","1997-10-01","2000-04-30",true,0,0,1,0,false,{"$error":"#DIV/0!"},"2000-04-30",{"$error":"#DIV/0!"},"2000-04-30",{"$error":"#DIV/0!"},1,1,1,1,1,1,{"$error":"#REF!"},{"$error":"#REF!"},{"$error":"#REF!"},{"$error":"#REF!"},{"$error":"#N/A"},{"$error":"#N/A"},0,0,0,0,0,0,1,1,1,1,1,1,0,0,0,0,0,0,false,false,false,false,false,false,false,1,1,1,1,1,1,0,0,0,0,0,0,0,1,1,0,0,0,0,0]
["1953-05-01","2000-05-31","1997-10-08","2000-05-31",true,0,0,1,0,false,{"$error":"#DIV/0!"},"2000-05-31",{"$error":"#DIV/0!"},"2000-05-31",{"$error":"#DIV/0!"},1,1,1,1,1,1,{"$error":"#REF!"},{"$error":"#REF!"},{"$error":"#REF!"},{"$error":"#REF!"},{"$error":"#N/A"},{"$error":"#N/A"},0,0,0,0,0,0,1,1,1,1,1,1,0,0,0,0,0,0,false,false,false,false,false,false,false,1,1,1,1,1,1,0,0,0,0,0,0,0,1,1,0,0,0,0,0]
["1953-06-01","2000-06-30","1997-10-15","2000-06-30",true,0,0,1,0,false,{"$error":"#DIV/0!"},"2000-06-30",{"$error":"#DIV/0!"},"2000-06-30",{"$error":"#DIV/0!"},1,1,1,1,1,1,{"$error":"#REF!"},{"$error":"#REF!"},{"$error":"#REF!"},{"$error":"#REF!"},{"$error":"#N/A"},{"$error":"#N/A"},0,0,0,0,0,0,1,1,1,1,1,1,0,0,0,0,0,0,false,false,false,false,false,false,false,1,1,1,1,1,1,0,0,0,0,0,0,0,1,1,0,0,0,0,0]
["1953-07-01","2000-07-31","1997-10-22","2000-07-31",true,0,0,1,0,false,{"$error":"#DIV/0!"},"2000-07-31",{"$error":"#DIV/0!"},"2000-07-31",{"$error":"#DIV/0!"},1,1,1,1,1,1,{"$error":"#REF!"},{"$error":"#REF!"},{"$error":"#REF!"},{"$error":"#REF!"},{"$error":"#N/A"},{"$error":"#N/A"},0,0,0,0,0,0,1,1,1,1,1,1,0,0,0,0,0,0,false,false,false,false,false,false,false,1,1,1,1,1,1,0,0,0,0,0,0,0,1,1,0,0,0,0,0]
["1953-08-01","2000-08-31","1997-10-29","2000-08-31",true,0,0,1,0,false,{"$error":"#DIV/0!"},"2000-08-31",{"$error":"#DIV/0!"},"2000-08-31",{"$error":"#DIV/0!"},1,1,1,1,1,1,{"$error":"#REF!"},{"$error":"#REF!"},{"$error":"#REF!"},{"$error":"#REF!"},{"$error":"#N/A"},{"$error":"#N/A"},0,0,0,0,0,0,1,1,1,1,1,1,0,0,0,0,0,0,false,false,false,false,false,false,false,1,1,1,1,1,1,0,0,0,0,0,0,0,1,1,0,0,0,0,0]
["1953-09-01","2000-09-30","1997-11-05","2000-09-30",true,0,0,1,0,false,{"$error":"#DIV/0!"},"2000-09-30",{"$error":"#DIV/0!"},"2000-09-30",{"$error":"#DIV/0!"},1,1,1,1,1,1,{"$error":"#REF!"},{"$error":"#REF!"},{"$error":"#REF!"},{"$error":"#REF!"},{"$error":"#N/A"},{"$error":"#N/A"},0,0,0,0,0,0,1,1,1,1,1,1,0,0,0,0,0,0,false,false,false,false,false,false,false,1,1,1,1,1,1,0,0,0,0,0,0,0,1,1,0,0,0,0,0]
["1953-10-01","2000-10-31","1997-11-12","2000-10-31",true,0,0,1,0,false,{"$error":"#DIV/0!"},"2000-10-31",{"$error":"#DIV/0!"},"2000-10-31",{"$error":"#DIV/0!"},1,1,1,1,1,1,{"$error":"#REF!"},{"$error":"#REF!"},{"$error":"#REF!"},{"$error":"#REF!"},{"$error":"#N/A"},{"$error":"#N/A"},0,0,0,0,0,0,1,1,1,1,1,1,0,0,0,0,0,0,false,false,false,false,false,false,false,1,1,1,1,1,1,0,0,0,0,0,0,0,1,1,0,0,0,0,0]
["1953-11-01","2000-11-30","1997-11-19","2000-11-30",true,0,0,1,0,false,{"$error":"#DIV/0!"},"2000-11-30",{"$error":"#DIV/0!"},"2000-11-30",{"$error":"#DIV/0!"},1,1,1,1,1,1,{"$error":"#REF!"},{"$error":"#REF!"},{"$error":"#REF!"},{"$error":"#REF!"},{"$error":"#N/A"},{"$error":"#N/A"},0,0,0,0,0,0,1,1,1,1,1,1,0,0,0,0,0,0,false,false,false,false,false,false,false,1,1,1,1,1,1,0,0,0,0,0,0,0,1,1,0,0,0,0,0]
["1953-12-01","2000-12-31","1997-11-26","2000-12-31",true,0,0,1,0,false,{"$error":"#DIV/0!"},"2000-12-31",{"$error":"#DIV/0!"},"2000-12-31",{"$error":"#DIV/0!"},1,1,1,1,1,1,{"$error":"#REF!"},{"$error":"#REF!"},{"$error":"#REF!"},{"$error":"#REF!"},{"$error":"#N/A"},{"$error":"#N/A"},0,0,0,0,0,0,1,1,1,1,1,1,0,0,0,0,0,0,false,false,false,false,false,false,false,1,1,1,1,1,1,0,0,0,0,0,0,0,1,1,0,0,0,0,0]
["1954-01-01","2001-01-31","1997-12-03","2001-01-31",true,0,0,1,0,false,{"$error":"#DIV/0!"},"2001-01-31",{"$error":"#DIV/0!"},"2001-01-31",{"$error":"#DIV/0!"},1,1,1,1,1,1,{"$error":"#REF!"},{"$error":"#REF!"},{"$error":"#REF!"},{"$error":"#REF!"},{"$error":"#N/A"},{"$error":"#N/A"},0,0,0,0,0,0,1,1,1,1,1,1,{"$f":"IFERROR(IF(ISNUMBER(AB58)>0.1,AB58,AN59)*AH58,AN59)","v":0},0,0,0,0,0,false,false,false,false,false,false,false,1,1,1,1,1,1,0,0,0,0,0,0,0,1,1,0,0,0,0,0]
["1954-02-01","2001-02-28","1997-12-10","2001-02-28",true,0,0,1,0,false,{"$error":"#DIV/0!"},"2001-02-28",{"$error":"#DIV/0!"},"2001-02-28",{"$error":"#DIV/0!"},1,1,1,1,1,1,{"$error":"#REF!"},{"$error":"#REF!"},{"$error":"#REF!"},{"$error":"#REF!"},{"$error":"#N/A"},{"$error":"#N/A"},0,0,0,0,0,0,1,1,1,1,1,1,0,0,0,0,0,0,false,false,false,false,false,false,false,1,1,1,1,1,1,0,0,0,0,0,0,0,1,1,0,0,0,0,0]
["1954-03-01","2001-03-31","1997-12-17","2001-03-31",true,0,0,1,0,false,{"$error":"#DIV/0!"},"2001-03-31",{"$error":"#DIV/0!"},"2001-03-31",{"$error":"#DIV/0!"},1,1,1,1,1,1,{"$error":"#REF!"},{"$error":"#REF!"},{"$error":"#REF!"},{"$error":"#REF!"},{"$error":"#N/A"},{"$error":"#N/A"},0,0,0,0,0,0,1,1,1,1,1,1,0,0,0,0,0,0,false,false,false,false,false,false,false,1,1,1,1,1,1,0,0,0,0,0,0,0,1,1,0,0,0,0,0]
["1954-04-01","2001-04-30","1997-12-24","2001-04-30",true,0,0,1,0,false,{"$error":"#DIV/0!"},"2001-04-30",{"$error":"#DIV/0!"},"2001-04-30",{"$error":"#DIV/0!"},1,1,1,1,1,1,{"$error":"#REF!"},{"$error":"#REF!"},{"$error":"#REF!"},{"$error":"#REF!"},{"$error":"#N/A"},{"$error":"#N/A"},0,0,0,0,0,0,1,1,1,1,1,1,0,0,0,0,0,0,false,false,false,false,false,false,false,1,1,1,1,1,1,0,0,0,0,0,0,0,1,1,0,0,0,0,0]
["1954-05-01","2001-05-31","1997-12-31","2001-05-31",true,0,0,1,0,false,{"$error":"#DIV/0!"},"2001-05-31",{"$error":"#DIV/0!"},"2001-05-31",{"$error":"#DIV/0!"},1,1,1,1,1,1,{"$error":"#REF!"},{"$error":"#REF!"},{"$error":"#REF!"},{"$error":"#REF!"},{"$error":"#N/A"},{"$error":"#N/A"},0,0,0,0,0,0,1,1,1,1,1,1,0,0,0,0,0,0,false,false,false,false,false,false,false,1,1,1,1,1,1,0,0,0,0,0,0,0,1,1,0,0,0,0,0]
["1954-06-01","2001-06-30","1998-01-07","2001-06-30",true,0,0,1,0,false,{"$error":"#DIV/0!"},"2001-06-30",{"$error":"#DIV/0!"},"2001-06-30",{"$error":"#DIV/0!"},1,1,1,1,1,1,{"$error":"#REF!"},{"$error":"#REF!"},{"$error":"#REF!"},{"$error":"#REF!"},{"$error":"#N/A"},{"$error":"#N/A"},0,0,0,0,0,0,1,1,1,1,1,1,0,0,0,0,0,0,false,false,false,false,false,false,false,1,1,1,1,1,1,0,0,0,0,0,0,0,1,1,0,0,0,0,0]
["1954-07-01","2001-07-31","1998-01-14","2001-07-31",true,0,0,1,0,false,{"$error":"#DIV/0!"},"2001-07-31",{"$error":"#DIV/0!"},"2001-07-31",{"$error":"#DIV/0!"},1,1,1,1,1,1,{"$error":"#REF!"},{"$error":"#REF!"},{"$error":"#REF!"},{"$error":"#REF!"},{"$error":"#N/A"},{"$error":"#N/A"},0,0,0,0,0,0,1,1,1,1,1,1,0,0,0,0,0,0,false,false,false,false,false,false,false,1,1,1,1,1,1,0,0,0,0,0,0,0,1,1,0,0,0,0,0]
["1954-08-01","2001-08-31","1998-01-21","2001-08-31",true,0,0,1,0,false,{"$error":"#DIV/0!"},"2001-08-31",{"$error":"#DIV/0!"},"2001-08-31",{"$error":"#DIV/0!"},1,1,1,1,1,1,{"$error":"#REF!"},{"$error":"#REF!"},{"$error":"#REF!"},{"$error":"#REF!"},{"$error":"#N/A"},{"$error":"#N/A"},0,0,0,0,0,0,1,1,1,1,1,1,0,0,0,0,0,0,false,false,false,false,false,false,false,1,1,1,1,1,1,0,0,0,0,0,0,0,1,1,0,0,0,0,0]
["1954-09-01","2001-09-30","1998-01-28","2001-09-30",true,0,0,1,0,false,{"$error":"#DIV/0!"},"2001-09-30",{"$error":"#DIV/0!"},"2001-09-30",{"$error":"#DIV/0!"},1,1,1,1,1,1,{"$error":"#REF!"},{"$error":"#REF!"},{"$error":"#REF!"},{"$f":"LOOKUP($A66,INDIRECT(\"'\"&Y$5&\"'!A:A\"),INDIRECT(\"'\"&Y$5&\"'!\"&Y$7&\":\"&Y$7))","v":{"$error":"#REF!"}},{"$error":"#N/A"},{"$error":"#N/A"},0,0,0,0,0,0,{"$f":"IF(AH$7,INDEX($BN66:$BT66,AH$7),1)","v":1},1,1,1,1,1,0,0,0,0,0,0,false,false,false,false,false,false,false,1,1,1,1,1,1,0,0,0,0,0,0,0,1,1,0,0,0,0,0]
["1954-10-01","2001-10-31","1998-02-04","2001-10-31",true,0,0,1,0,false,{"$error":"#DIV/0!"},"2001-10-31",{"$error":"#DIV/0!"},"2001-10-31",{"$error":"#DIV/0!"},1,1,1,1,1,1,{"$error":"#REF!"},{"$error":"#REF!"},{"$error":"#REF!"},{"$error":"#REF!"},{"$error":"#N/A"},{"$error":"#N/A"},0,0,0,0,0,0,1,1,1,1,1,1,0,0,0,0,0,0,false,false,false,false,false,false,false,1,1,1,1,1,1,0,0,0,0,0,0,0,1,1,0,0,0,0,0]
["1954-11-01","2001-11-30","1998-02-11","2001-11-30",true,0,0,1,0,false,{"$error":"#DIV/0!"},"2001-11-30",{"$error":"#DIV/0!"},"2001-11-30",{"$error":"#DIV/0!"},1,1,1,1,1,1,{"$error":"#REF!"},{"$error":"#REF!"},{"$error":"#REF!"},{"$error":"#REF!"},{"$error":"#N/A"},{"$error":"#N/A"},0,0,0,0,0,0,1,1,1,1,1,1,0,0,0,0,0,0,false,false,false,false,false,false,false,1,1,1,1,1,1,0,0,0,0,0,0,0,1,1,0,0,0,0,0]
["1954-12-01","2001-12-31","1998-02-18","2001-12-31",true,0,0,1,0,false,{"$error":"#DIV/0!"},"2001-12-31",{"$error":"#DIV/0!"},"2001-12-31",{"$error":"#DIV/0!"},1,1,1,1,1,1,{"$error":"#REF!"},{"$error":"#REF!"},{"$error":"#REF!"},{"$error":"#REF!"},{"$error":"#N/A"},{"$error":"#N/A"},0,0,0,0,0,0,1,1,1,1,1,1,0,0,0,0,0,0,false,false,false,false,false,false,false,1,1,1,1,1,1,0,0,0,0,0,0,0,1,1,0,0,0,0,0]
["1955-01-01","2002-01-31","1998-02-25","2002-01-31",true,0,0,1,0,false,{"$error":"#DIV/0!"},"2002-01-31",{"$error":"#DIV/0!"},"2002-01-31",{"$error":"#DIV/0!"},1,1,1,1,1,1,{"$error":"#REF!"},{"$error":"#REF!"},{"$error":"#REF!"},{"$error":"#REF!"},{"$error":"#N/A"},{"$error":"#N/A"},0,0,0,0,0,0,1,1,1,1,1,1,0,0,0,0,0,0,false,false,false,false,false,false,false,1,1,1,1,1,1,0,0,0,0,0,0,0,1,1,0,0,0,0,0]
["1955-02-01","2002-02-28","1998-03-04","2002-02-28",true,0,0,1,0,false,{"$error":"#DIV/0!"},"2002-02-28",{"$error":"#DIV/0!"},"2002-02-28",{"$error":"#DIV/0!"},1,1,1,1,1,1,{"$error":"#REF!"},{"$error":"#REF!"},{"$error":"#REF!"},{"$error":"#REF!"},{"$error":"#N/A"},{"$error":"#N/A"},0,0,0,0,0,0,1,1,1,1,1,1,0,0,0,0,0,0,false,false,false,false,false,false,false,1,1,1,1,1,1,0,0,0,0,0,0,0,1,1,0,0,0,0,0]
["1955-03-01","2002-03-31","1998-03-11","2002-03-31",true,0,0,1,0,false,{"$error":"#DIV/0!"},"2002-03-31",{"$error":"#DIV/0!"},"2002-03-31",{"$error":"#DIV/0!"},1,1,1,1,1,1,{"$error":"#REF!"},{"$error":"#REF!"},{"$error":"#REF!"},{"$error":"#REF!"},{"$error":"#N/A"},{"$error":"#N/A"},0,0,0,0,0,0,1,1,1,1,1,1,0,0,0,0,0,0,false,false,false,false,false,false,false,1,1,1,1,1,1,0,0,0,0,0,0,0,1,1,0,0,0,0,0]
["1955-04-01","2002-04-30","1998-03-18","2002-04-30",true,0,0,1,0,false,{"$error":"#DIV/0!"},"2002-04-30",{"$error":"#DIV/0!"},"2002-04-30",{"$error":"#DIV/0!"},1,1,1,1,1,1,{"$error":"#REF!"},{"$error":"#REF!"},{"$error":"#REF!"},{"$error":"#REF!"},{"$error":"#N/A"},{"$error":"#N/A"},0,0,0,0,0,0,1,1,1,1,1,1,0,0,0,0,0,0,false,false,false,false,false,false,false,1,1,1,1,1,1,0,0,0,0,0,0,0,1,1,0,0,0,0,0]
["1955-05-01","2002-05-31","1998-03-25","2002-05-31",true,0,0,1,0,false,{"$error":"#DIV/0!"},"2002-05-31",{"$error":"#DIV/0!"},"2002-05-31",{"$error":"#DIV/0!"},1,1,1,1,1,1,{"$error":"#REF!"},{"$error":"#REF!"},{"$error":"#REF!"},{"$error":"#REF!"},{"$error":"#N/A"},{"$error":"#N/A"},0,0,0,0,0,0,1,1,1,1,1,1,0,0,0,0,0,0,false,false,false,false,false,false,false,1,1,1,1,1,1,0,0,0,0,0,0,0,1,1,0,0,0,0,0]
["1955-06-01",{"$f":"IF(B74<=$D$2,EOMONTH(B74,1))","v":"2002-06-30"},"1998-04-01","2002-06-30",true,{"$f":"LOOKUP(D75,A:A,G:G)","v":0},{"$f":"IFERROR(LOOKUP($A75,INDIRECT(\"'\"&G$7&\"'!A:A\"),INDIRECT(\"'\"&G$7&\"'!\"&$G$9&\":\"&$G$9)),0)","v":0},{"$f":"IF(H$8,INDEX($BN75:$BT75,H$8),1)","v":1},{"$f":"IF(ISNUMBER(F75),F75,I76)*H75","v":0},false,{"$error":"#DIV/0!"},"2002-06-30",{"$error":"#DIV/0!"},"2002-06-30",{"$error":"#DIV/0!"},1,1,1,1,1,1,{"$f":"LOOKUP($A75,INDIRECT(\"'\"&V$5&\"'!A:A\"),INDIRECT(\"'\"&V$5&\"'!\"&V$7&\":\"&V$7))","v":{"$error":"#REF!"}},{"$error":"#REF!"},{"$error":"#REF!"},{"$error":"#REF!"},{"$error":"#N/A"},{"$error":"#N/A"},{"$f":"IF(ISNUMBER(LOOKUP($D75,$A:$A,V:V)),LOOKUP($D75,$A:$A,V:V),AB74)","v":0},{"$f":"IF(ISNUMBER(LOOKUP($D75,$A:$A,W:W)),LOOKUP($D75,$A:$A,W:W),AC74)","v":0},{"$f":"IF(ISNUMBER(LOOKUP($D75,$A:$A,X:X)),LOOKUP($D75,$A:$A,X:X),AD74)","v":0},{"$f":"IF(ISNUMBER(LOOKUP($D75,$A:$A,Y:Y)),LOOKUP($D75,$A:$A,Y:Y),AE74)","v":0},{"$f":"IF(ISNUMBER(LOOKUP($D75,$A:$A,Z:Z)),LOOKUP($D75,$A:$A,Z:Z),AF74)","v":0},{"$f":"IF(ISNUMBER(LOOKUP($D75,$A:$A,AA:AA)),LOOKUP($D75,$A:$A,AA:AA),AG74)","v":0},1,1,1,1,1,1,{"$f":"IFERROR(IF(ISNUMBER(AB75)>0.1,AB75,AN76)*AH75,AN76)","v":0},{"$f":"IFERROR(IF(ISNUMBER(AC75)>0.1,AC75,AO76)*AI75,AO76)","v":0},{"$f":"IFERROR(IF(ISNUMBER(AD75)>0.1,AD75,AP76)*AJ75,AP76)","v":0},{"$f":"IFERROR(IF(ISNUMBER(AE75)>0.1,AE75,AQ76)*AK75,AQ76)","v":0},{"$f":"IFERROR(IF(ISNUMBER(AF75)>0.1,AF75,AR76)*AL75,AR76)","v":0},{"$f":"IF(ISNUMBER(AG75)>0.1,AG75,AS76)","v":0},false,{"$f":"IF(E75,IFERROR(LN(AN75/AN74),FALSE))","v":false},{"$f":"IF(E75,IFERROR(LN(AO75/AO74),FALSE))","v":false},{"$f":"IF(E75,IFERROR(LN(AP75/AP74),FALSE))","v":false},{"$f":"IF(E75,IFERROR(LN(AQ75/AQ74),FALSE))","v":false},{"$f":"IF(E75,IFERROR(LN(AR75/AR74),FALSE))","v":false},{"$f":"IF(E75,IFERROR(LN(AS75/AS74),FALSE))","v":false},1,1,1,1,1,1,{"$f":"IFERROR(LOOKUP($A75,INDIRECT(\"'\"&BN$6&\"'!A:A\"),INDIRECT(\"'\"&BN$6&\"'!\"&BN$7&\":\"&BN$7)),0)","v":0},{"$f":"IFERROR(LOOKUP($A75,INDIRECT(\"'\"&BO$6&\"'!A:A\"),INDIRECT(\"'\"&BO$6&\"'!\"&BO$7&\":\"&BO$7)),0)","v":0},{"$f":"IFERROR(LOOKUP($A75,INDIRECT(\"'\"&BP$6&\"'!A:A\"),INDIRECT(\"'\"&BP$6&\"'!\"&BP$7&\":\"&BP$7)),0)","v":0},{"$f":"IFERROR(LOOKUP($A75,INDIRECT(\"'\"&BQ$6&\"'!A:A\"),INDIRECT(\"'\"&BQ$6&\"'!\"&BQ$7&\":\"&BQ$7)),0)","v":0},{"$f":"IFERROR(LOOKUP($A75,INDIRECT(\"'\"&BR$6&\"'!A:A\"),INDIRECT(\"'\"&BR$6&\"'!\"&BR$7&\":\"&BR$7)),0)","v":0},{"$f":"IFERROR(LOOKUP($A75,INDIRECT(\"'\"&BS$6&\"'!A:A\"),INDIRECT(\"'\"&BS$6&\"'!\"&BS$7&\":\"&BS$7)),0)","v":0},{"$f":"IFERROR(LOOKUP($A75,INDIRECT(\"'\"&BT$6&\"'!A:A\"),INDIRECT(\"'\"&BT$6&\"'!\"&BT$7&\":\"&BT$7)),0)","v":0},{"$f":"IFERROR(1/IFERROR(LOOKUP($D75,$A:$A,BG:BG)*1,0),1)","v":1},{"$f":"IFERROR(1/IFERROR(LOOKUP($D75,$A:$A,BH:BH)*1,0),1)","v":1},0,0,0,0,0]
["1955-07-01","2002-07-31",{"$f":"IF(C75<=$D$2,C75+7)","v":"1998-04-08"},"2002-07-31",{"$f":"AND(D76>=$D$4,D75<=$D$2)","v":true},0,0,1,0,{"$f":"IFERROR(LN(I76/I75),FALSE)","v":false},{"$error":"#DIV/0!"},"2002-07-31",{"$error":"#DIV/0!"},"2002-07-31",{"$error":"#DIV/0!"},1,1,1,1,1,1,{"$error":"#REF!"},{"$error":"#REF!"},{"$error":"#REF!"},{"$error":"#REF!"},{"$error":"#N/A"},{"$error":"#N/A"},0,0,0,0,0,0,1,1,1,1,1,1,0,0,0,0,0,0,false,false,false,false,false,false,false,{"$f":"IFERROR(IF($E76,BA75*AN76/AN75,1),1)","v":1},{"$f":"IFERROR(IF($E76,BB75*AO76/AO75,1),1)","v":1},{"$f":"IFERROR(IF($E76,BC75*AP76/AP75,1),1)","v":1},{"$f":"IFERROR(IF($E76,BD75*AQ76/AQ75,1),1)","v":1},{"$f":"IFERROR(IF($E76,BE75*AR76/AR75,1),1)","v":1},{"$f":"IFERROR(IF($E76,BF75*AS76/AS75,1),1)","v":1},0,0,0,0,0,0,0,1,1,{"$f":"IFERROR(LOOKUP($D76,$A:$A,BI:BI)*1,BP75)","v":0},{"$f":"IFERROR(LOOKUP($D76,$A:$A,BJ:BJ)*1,BQ75)","v":0},{"$f":"IFERROR(LOOKUP($D76,$A:$A,BK:BK)*1,BR75)","v":0},{"$f":"IFERROR(LOOKUP($D76,$A:$A,BL:BL)*1,BS75)","v":0},{"$f":"IFERROR(LOOKUP($D76,$A:$A,BM:BM)*1,BT75)","v":0}]
["1955-08-01","2002-08-31","1998-04-15",{"$f":"IF($D$6,C77,B77)","v":"2002-08-31"},true,0,0,1,0,false,{"$f":"IF($E77,(K76*I77/I76),1)","v":{"$error":"#DIV/0!"}},{"$f":"IF(E77,D77,NA())","v":"2002-08-31"},{"$f":"CHOOSE($M$1,I77,J77,K77)","v":{"$error":"#DIV/0!"}},{"$f":"L77","v":"2002-08-31"},{"$f":"M77","v":{"$error":"#DIV/0!"}},{"$f":"IFERROR(CHOOSE($M$1,AN77,AU77,BA77),1)","v":1},{"$f":"IFERROR(CHOOSE($M$1,AO77,AV77,BB77),1)","v":1},{"$f":"IFERROR(CHOOSE($M$1,AP77,AW77,BC77),1)","v":1},{"$f":"IFERROR(CHOOSE($M$1,AQ77,AX77,BD77),1)","v":1},{"$f":"IFERROR(CHOOSE($M$1,AR77,AY77,BE77),1)","v":1},{"$f":"IFERROR(CHOOSE($M$1,AS77,AZ77,BF77),1)","v":1},{"$error":"#REF!"},{"$error":"#REF!"},{"$error":"#REF!"},{"$error":"#REF!"},{"$error":"#N/A"},{"$error":"#N/A"},0,0,0,0,0,0,1,1,1,1,1,1,0,0,0,0,0,0,{"$f":"J77","v":false},false,false,false,false,false,false,1,1,1,1,1,1,0,0,0,0,0,0,0,1,1,0,0,0,0,0]
["1955-09-01","2002-09-30","1998-04-22","2002-09-30",true,0,0,1,0,false,{"$error":"#DIV/0!"},"2002-09-30",{"$error":"#DIV/0!"},"2002-09-30",{"$error":"#DIV/0!"},1,1,1,1,1,1,{"$error":"#REF!"},{"$error":"#REF!"},{"$error":"#REF!"},{"$error":"#REF!"},{"$error":"#N/A"},{"$error":"#N/A"},0,0,0,0,0,0,1,1,1,1,1,1,0,0,0,0,0,0,false,false,false,false,false,false,false,1,1,1,1,1,1,0,0,0,0,0,0,0,1,1,0,0,0,0,0]
["1955-10-01","2002-10-31","1998-04-29","2002-10-31",true,0,0,1,0,false,{"$error":"#DIV/0!"},"2002-10-31",{"$error":"#DIV/0!"},"2002-10-31",{"$error":"#DIV/0!"},1,1,1,1,1,1,{"$error":"#REF!"},{"$error":"#REF!"},{"$error":"#REF!"},{"$error":"#REF!"},{"$error":"#N/A"},{"$error":"#N/A"},0,0,0,0,0,0,1,1,1,1,1,1,0,0,0,0,0,0,false,false,false,false,false,false,false,1,1,1,1,1,1,0,0,0,0,0,0,0,1,1,0,0,0,0,0]
["1955-11-01","2002-11-30","1998-05-06","2002-11-30",true,0,0,1,0,false,{"$error":"#DIV/0!"},"2002-11-30",{"$error":"#DIV/0!"},"2002-11-30",{"$error":"#DIV/0!"},1,1,1,1,1,1,{"$error":"#REF!"},{"$error":"#REF!"},{"$error":"#REF!"},{"$error":"#REF!"},{"$error":"#N/A"},{"$error":"#N/A"},0,0,0,0,0,0,1,1,1,1,1,1,0,0,0,0,0,0,false,false,false,false,false,false,false,1,1,1,1,1,1,0,0,0,0,0,0,0,1,1,0,0,0,0,0]
["1955-12-01","2002-12-31","1998-05-13","2002-12-31",true,0,0,1,0,false,{"$error":"#DIV/0!"},"2002-12-31",{"$error":"#DIV/0!"},"2002-12-31",{"$error":"#DIV/0!"},1,1,1,1,1,1,{"$error":"#REF!"},{"$error":"#REF!"},{"$error":"#REF!"},{"$error":"#REF!"},{"$error":"#N/A"},{"$error":"#N/A"},0,0,0,0,0,0,1,1,1,1,1,1,0,0,0,0,0,0,false,false,false,false,false,false,false,1,1,1,1,1,1,0,0,0,0,0,0,0,1,1,0,0,0,0,0]
["1956-01-01","2003-01-31","1998-05-20","2003-01-31",true,0,0,1,0,false,{"$error":"#DIV/0!"},"2003-01-31",{"$error":"#DIV/0!"},"2003-01-31",{"$error":"#DIV/0!"},1,1,1,1,1,1,{"$error":"#REF!"},{"$error":"#REF!"},{"$error":"#REF!"},{"$error":"#REF!"},{"$error":"#N/A"},{"$error":"#N/A"},0,0,0,0,0,0,1,1,1,1,1,1,0,0,0,0,0,0,false,false,false,false,false,false,false,1,1,1,1,1,1,0,0,0,0,0,0,0,1,1,0,0,0,0,0]
["1956-02-01","2003-02-28","1998-05-27","2003-02-28",true,0,0,1,0,false,{"$error":"#DIV/0!"},"2003-02-28",{"$error":"#DIV/0!"},"2003-02-28",{"$error":"#DIV/0!"},1,1,1,1,1,1,{"$error":"#REF!"},{"$error":"#REF!"},{"$error":"#REF!"},{"$error":"#REF!"},{"$error":"#N/A"},{"$error":"#N/A"},0,0,0,0,0,0,1,1,1,1,1,1,0,0,0,0,0,0,false,false,false,false,false,false,false,1,1,1,1,1,1,0,0,0,0,0,0,0,1,1,0,0,0,0,0]
["1956-03-01","2003-03-31","1998-06-03","2003-03-31",true,0,0,1,0,false,{"$error":"#DIV/0!"},"2003-03-31",{"$error":"#DIV/0!"},"2003-03-31",{"$error":"#DIV/0!"},1,1,1,1,1,1,{"$error":"#REF!"},{"$error":"#REF!"},{"$error":"#REF!"},{"$error":"#REF!"},{"$error":"#N/A"},{"$error":"#N/A"},0,0,0,0,0,0,1,1,1,1,1,1,0,0,0,0,0,0,false,false,false,false,false,false,false,1,1,1,1,1,1,0,0,0,0,0,0,0,1,1,0,0,0,0,0]
["1956-04-01","2003-04-30","1998-06-10","2003-04-30",true,0,0,1,0,false,{"$error":"#DIV/0!"},"2003-04-30",{"$error":"#DIV/0!"},"2003-04-30",{"$error":"#DIV/0!"},1,1,1,1,1,1,{"$error":"#REF!"},{"$error":"#REF!"},{"$error":"#REF!"},{"$error":"#REF!"},{"$error":"#N/A"},{"$error":"#N/A"},0,0,0,0,0,0,1,1,1,1,1,1,0,0,0,0,0,0,false,false,false,false,false,false,false,1,1,1,1,1,1,0,0,0,0,0,0,0,1,1,0,0,0,0,0]
["1956-05-01","2003-05-31","1998-06-17","2003-05-31",true,0,0,1,0,false,{"$error":"#DIV/0!"},"2003-05-31",{"$error":"#DIV/0!"},"2003-05-31",{"$error":"#DIV/0!"},1,1,1,1,1,1,{"$error":"#REF!"},{"$error":"#REF!"},{"$error":"#REF!"},{"$error":"#REF!"},{"$error":"#N/A"},{"$error":"#N/A"},0,0,0,0,0,0,1,1,1,1,1,1,0,0,0,0,0,0,false,false,false,false,false,false,false,1,1,1,1,1,1,0,0,0,0,0,0,0,1,1,0,0,0,0,0]
["1956-06-01","2003-06-30","1998-06-24","2003-06-30",true,0,0,1,0,false,{"$error":"#DIV/0!"},"2003-06-30",{"$error":"#DIV/0!"},"2003-06-30",{"$error":"#DIV/0!"},1,1,1,1,1,1,{"$error":"#REF!"},{"$error":"#REF!"},{"$error":"#REF!"},{"$error":"#REF!"},{"$error":"#N/A"},{"$error":"#N/A"},0,0,0,0,0,0,1,1,1,1,1,1,0,0,0,0,0,0,false,false,false,false,false,false,false,1,1,1,1,1,1,0,0,0,0,0,0,0,1,1,0,0,0,0,0]
["1956-07-01","2003-07-31","1998-07-01","2003-07-31",true,0,0,1,0,false,{"$error":"#DIV/0!"},"2003-07-31",{"$error":"#DIV/0!"},"2003-07-31",{"$error":"#DIV/0!"},1,1,1,1,1,1,{"$error":"#REF!"},{"$error":"#REF!"},{"$error":"#REF!"},{"$error":"#REF!"},{"$error":"#N/A"},{"$error":"#N/A"},0,0,0,0,0,0,1,1,1,1,1,1,0,0,0,0,0,0,false,false,false,false,false,false,false,1,1,1,1,1,1,0,0,0,0,0,0,0,1,1,0,0,0,0,0]
["1956-08-01","2003-08-31","1998-07-08","2003-08-31",true,0,0,1,0,false,{"$error":"#DIV/0!"},"2003-08-31",{"$error":"#DIV/0!"},"2003-08-31",{"$error":"#DIV/0!"},1,1,1,1,1,1,{"$error":"#REF!"},{"$error":"#REF!"},{"$error":"#REF!"},{"$error":"#REF!"},{"$error":"#N/A"},{"$error":"#N/A"},0,0,0,0,0,0,1,1,1,1,1,1,0,0,0,0,0,0,false,false,false,false,false,false,false,1,1,1,1,1,1,0,0,0,0,0,0,0,1,1,0,0,0,0,0]
["1956-09-01","2003-09-30","1998-07-15","2003-09-30",true,0,0,1,0,false,{"$error":"#DIV/0!"},"2003-09-30",{"$error":"#DIV/0!"},"2003-09-30",{"$error":"#DIV/0!"},1,1,1,1,1,1,{"$error":"#REF!"},{"$error":"#REF!"},{"$error":"#REF!"},{"$error":"#REF!"},{"$error":"#N/A"},{"$error":"#N/A"},0,0,0,0,0,0,1,1,1,1,1,1,0,0,0,0,0,0,false,false,false,false,false,false,false,1,1,1,1,1,1,0,0,0,0,0,0,0,1,1,0,0,0,0,0]
["1956-10-01","2003-10-31","1998-07-22","2003-10-31",true,0,0,1,0,false,{"$error":"#DIV/0!"},"2003-10-31",{"$error":"#DIV/0!"},"2003-10-31",{"$error":"#DIV/0!"},1,1,1,1,1,1,{"$error":"#REF!"},{"$error":"#REF!"},{"$error":"#REF!"},{"$error":"#REF!"},{"$error":"#N/A"},{"$error":"#N/A"},0,0,0,0,0,0,1,1,1,1,1,1,0,0,0,0,0,0,false,false,false,false,false,false,false,1,1,1,1,1,1,0,0,0,0,0,0,0,1,1,0,0,0,0,0]
["1956-11-01","2003-11-30","1998-07-29","2003-11-30",true,0,0,1,0,false,{"$error":"#DIV/0!"},"2003-11-30",{"$error":"#DIV/0!"},"2003-11-30",{"$error":"#DIV/0!"},1,1,1,1,1,1,{"$error":"#REF!"},{"$error":"#REF!"},{"$error":"#REF!"},{"$error":"#REF!"},{"$error":"#N/A"},{"$error":"#N/A"},0,0,0,0,0,0,1,1,1,1,1,1,0,0,0,0,0,0,false,false,false,false,false,false,false,1,1,1,1,1,1,0,0,0,0,0,0,0,1,1,0,0,0,0,0]
["1956-12-01","2003-12-31","1998-08-05","2003-12-31",true,0,0,1,0,false,{"$error":"#DIV/0!"},"2003-12-31",{"$error":"#DIV/0!"},"2003-12-31",{"$error":"#DIV/0!"},1,1,1,1,1,1,{"$error":"#REF!"},{"$error":"#REF!"},{"$error":"#REF!"},{"$error":"#REF!"},{"$error":"#N/A"},{"$error":"#N/A"},0,0,0,0,0,0,1,1,1,1,1,1,0,0,0,0,0,0,false,false,false,false,false,false,false,1,1,1,1,1,1,0,0,0,0,0,0,0,1,1,0,0,0,0,0]
["1957-01-01","2004-01-31","1998-08-12","2004-01-31",true,0,0,1,0,false,{"$error":"#DIV/0!"},"2004-01-31",{"$error":"#DIV/0!"},"2004-01-31",{"$error":"#DIV/0!"},1,1,1,1,1,1,{"$error":"#REF!"},{"$error":"#REF!"},{"$error":"#REF!"},{"$error":"#REF!"},{"$error":"#N/A"},{"$error":"#N/A"},0,0,0,0,0,0,1,1,1,1,1,1,0,0,0,0,0,0,false,false,false,false,false,false,false,1,1,1,1,1,1,0,0,0,0,0,0,0,1,1,0,0,0,0,0]
["1957-02-01","2004-02-29","1998-08-19","2004-02-29",true,0,0,1,0,false,{"$error":"#DIV/0!"},"2004-02-29",{"$error":"#DIV/0!"},"2004-02-29",{"$error":"#DIV/0!"},1,1,1,1,1,1,{"$error":"#REF!"},{"$error":"#REF!"},{"$error":"#REF!"},{"$error":"#REF!"},{"$error":"#N/A"},{"$error":"#N/A"},0,0,0,0,0,0,1,1,1,1,1,1,0,0,0,0,0,0,false,false,false,false,false,false,false,1,1,1,1,1,1,0,0,0,0,0,0,0,1,1,0,0,0,0,0]
["1957-03-01","2004-03-31","1998-08-26","2004-03-31",true,0,0,1,0,false,{"$error":"#DIV/0!"},"2004-03-31",{"$error":"#DIV/0!"},"2004-03-31",{"$error":"#DIV/0!"},1,1,1,1,1,1,{"$error":"#REF!"},{"$error":"#REF!"},{"$error":"#REF!"},{"$error":"#REF!"},{"$error":"#N/A"},{"$error":"#N/A"},0,0,0,0,0,0,1,1,1,1,1,1,0,0,0,0,0,0,false,false,false,false,false,false,false,1,1,1,1,1,1,0,0,0,0,0,0,0,1,1,0,0,0,0,0]
["1957-04-01","2004-04-30","1998-09-02","2004-04-30",true,0,0,1,0,false,{"$error":"#DIV/0!"},"2004-04-30",{"$error":"#DIV/0!"},"2004-04-30",{"$error":"#DIV/0!"},1,1,1,1,1,1,{"$error":"#REF!"},{"$error":"#REF!"},{"$error":"#REF!"},{"$error":"#REF!"},{"$error":"#N/A"},{"$error":"#N/A"},0,0,0,0,0,0,1,1,1,1,1,1,0,0,0,0,0,0,false,false,false,false,false,false,false,1,1,1,1,1,1,0,0,0,0,0,0,0,1,1,0,0,0,0,0]
["1957-05-01","2004-05-31","1998-09-09","2004-05-31",true,0,0,1,0,false,{"$error":"#DIV/0!"},"2004-05-31",{"$error":"#DIV/0!"},"2004-05-31",{"$error":"#DIV/0!"},1,1,1,1,1,1,{"$error":"#REF!"},{"$error":"#REF!"},{"$error":"#REF!"},{"$error":"#REF!"},{"$error":"#N/A"},{"$error":"#N/A"},0,0,0,0,0,0,1,1,1,1,1,1,0,0,0,0,0,0,false,false,false,false,false,false,false,1,1,1,1,1,1,0,0,0,0,0,0,0,1,1,0,0,0,0,0]
["1957-06-01","2004-06-30","1998-09-16","2004-06-30",true,0,0,1,0,false,{"$error":"#DIV/0!"},"2004-06-30",{"$error":"#DIV/0!"},"2004-06-30",{"$error":"#DIV/0!"},1,1,1,1,1,1,{"$error":"#REF!"},{"$error":"#REF!"},{"$error":"#REF!"},{"$error":"#REF!"},{"$error":"#N/A"},{"$error":"#N/A"},0,0,0,0,0,0,1,1,1,1,1,1,0,0,0,0,0,0,false,false,false,false,false,false,false,1,1,1,1,1,1,0,0,0,0,0,0,0,1,1,0,0,0,0,0]
["1957-07-01","2004-07-31","1998-09-23","2004-07-31",true,0,0,1,0,false,{"$error":"#DIV/0!"},"2004-07-31",{"$error":"#DIV/0!"},"2004-07-31",{"$error":"#DIV/0!"},1,1,1,1,1,1,{"$error":"#REF!"},{"$error":"#REF!"},{"$error":"#REF!"},{"$error":"#REF!"},{"$error":"#N/A"},{"$error":"#N/A"},0,0,0,0,0,0,1,1,1,1,1,1,0,0,0,0,0,0,false,false,false,false,false,false,false,1,1,1,1,1,1,0,0,0,0,0,0,0,1,1,0,0,0,0,0]
["1957-08-01","2004-08-31","1998-09-30","2004-08-31",true,0,0,1,0,false,{"$error":"#DIV/0!"},"2004-08-31",{"$error":"#DIV/0!"},"2004-08-31",{"$error":"#DIV/0!"},1,1,1,1,1,1,{"$error":"#REF!"},{"$error":"#REF!"},{"$error":"#REF!"},{"$error":"#REF!"},{"$error":"#N/A"},{"$error":"#N/A"},0,0,0,0,0,0,1,1,1,1,1,1,0,0,0,0,0,0,false,false,false,false,false,false,false,1,1,1,1,1,1,0,0,0,0,0,0,0,1,1,0,0,0,0,0]
["1957-09-01","2004-09-30","1998-10-07","2004-09-30",true,0,0,1,0,false,{"$error":"#DIV/0!"},"2004-09-30",{"$error":"#DIV/0!"},"2004-09-30",{"$error":"#DIV/0!"},1,1,1,1,1,1,{"$error":"#REF!"},{"$error":"#REF!"},{"$error":"#REF!"},{"$error":"#REF!"},{"$error":"#N/A"},{"$error":"#N/A"},0,0,0,0,0,0,1,1,1,1,1,1,0,0,0,0,0,0,false,false,false,false,false,false,false,1,1,1,1,1,1,0,0,0,0,0,0,0,1,1,0,0,0,0,0]
["1957-10-01","2004-10-31","1998-10-14","2004-10-31",true,0,0,1,0,false,{"$error":"#DIV/0!"},"2004-10-31",{"$error":"#DIV/0!"},"2004-10-31",{"$error":"#DIV/0!"},1,1,1,1,1,1,{"$error":"#REF!"},{"$error":"#REF!"},{"$error":"#REF!"},{"$error":"#REF!"},{"$error":"#N/A"},{"$error":"#N/A"},0,0,0,0,0,0,1,1,1,1,1,1,0,0,0,0,0,0,false,false,false,false,false,false,false,1,1,1,1,1,1,0,0,0,0,0,0,0,1,1,0,0,0,0,0]
["1957-11-01","2004-11-30","1998-10-21","2004-11-30",true,0,0,1,0,false,{"$error":"#DIV/0!"},"2004-11-30",{"$error":"#DIV/0!"},"2004-11-30",{"$error":"#DIV/0!"},1,1,1,1,1,1,{"$error":"#REF!"},{"$error":"#REF!"},{"$error":"#REF!"},{"$error":"#REF!"},{"$error":"#N/A"},{"$error":"#N/A"},0,0,0,0,0,0,1,1,1,1,1,1,0,0,0,0,0,0,false,false,false,false,false,false,false,1,1,1,1,1,1,0,0,0,0,0,0,0,1,1,0,0,0,0,0]
["1957-12-01","2004-12-31","1998-10-28","2004-12-31",true,0,0,1,0,false,{"$error":"#DIV/0!"},"2004-12-31",{"$error":"#DIV/0!"},"2004-12-31",{"$error":"#DIV/0!"},1,1,1,1,1,1,{"$error":"#REF!"},{"$error":"#REF!"},{"$error":"#REF!"},{"$error":"#REF!"},{"$error":"#N/A"},{"$error":"#N/A"},0,0,0,0,0,0,1,1,1,1,1,1,0,0,0,0,0,0,false,false,false,false,false,false,false,1,1,1,1,1,1,0,0,0,0,0,0,0,1,1,0,0,0,0,0]
["1958-01-01","2005-01-31","1998-11-04","2005-01-31",true,0,0,1,0,false,{"$error":"#DIV/0!"},"2005-01-31",{"$error":"#DIV/0!"},"2005-01-31",{"$error":"#DIV/0!"},1,1,1,1,1,1,{"$error":"#REF!"},{"$error":"#REF!"},{"$error":"#REF!"},{"$error":"#REF!"},{"$error":"#N/A"},{"$error":"#N/A"},0,0,0,0,0,0,1,1,1,1,1,1,0,0,0,0,0,0,false,false,false,false,false,false,false,1,1,1,1,1,1,0,0,0,0,0,0,0,1,1,0,0,0,0,0]
["1958-02-01","2005-02-28","1998-11-11","2005-02-28",true,0,0,1,0,false,{"$error":"#DIV/0!"},"2005-02-28",{"$error":"#DIV/0!"},"2005-02-28",{"$error":"#DIV/0!"},1,1,1,1,1,1,{"$error":"#REF!"},{"$error":"#REF!"},{"$error":"#REF!"},{"$error":"#REF!"},{"$error":"#N/A"},{"$error":"#N/A"},0,0,0,0,0,0,1,1,1,1,1,1,0,0,0,0,0,0,false,false,false,false,false,false,false,1,1,1,1,1,1,0,0,0,0,0,0,0,1,1,0,0,0,0,0]
["1958-03-01","2005-03-31","1998-11-18","2005-03-31",true,0,0,1,0,false,{"$error":"#DIV/0!"},"2005-03-31",{"$error":"#DIV/0!"},"2005-03-31",{"$error":"#DIV/0!"},1,1,1,1,1,1,{"$error":"#REF!"},{"$error":"#REF!"},{"$error":"#REF!"},{"$error":"#REF!"},{"$error":"#N/A"},{"$error":"#N/A"},0,0,0,0,0,0,1,1,1,{"$f":"IF(AK$7,INDEX($BN108:$BT108,AK$7),1)","v":1},1,1,0,0,0,0,0,0,false,false,false,false,false,false,false,1,1,1,1,1,1,0,0,0,0,0,0,0,1,1,0,0,0,0,0]
["1958-04-01","2005-04-30","1998-11-25","2005-04-30",true,0,0,1,0,false,{"$error":"#DIV/0!"},"2005-04-30",{"$error":"#DIV/0!"},"2005-04-30",{"$error":"#DIV/0!"},1,1,1,1,1,1,{"$error":"#REF!"},{"$error":"#REF!"},{"$error":"#REF!"},{"$error":"#REF!"},{"$error":"#N/A"},{"$error":"#N/A"},0,0,0,0,0,0,{"$f":"IF(AH$7,INDEX($BN109:$BT109,AH$7),1)","v":1},1,1,1,1,1,0,0,0,0,0,0,false,false,false,false,false,false,false,1,1,1,1,1,1,0,0,0,0,0,0,0,1,1,0,0,0,0,0]
["1958-05-01","2005-05-31","1998-12-02","2005-05-31",true,0,0,1,0,false,{"$error":"#DIV/0!"},"2005-05-31",{"$error":"#DIV/0!"},"2005-05-31",{"$error":"#DIV/0!"},1,1,1,1,1,1,{"$error":"#REF!"},{"$error":"#REF!"},{"$error":"#REF!"},{"$error":"#REF!"},{"$error":"#N/A"},{"$error":"#N/A"},0,0,0,0,0,0,1,1,1,1,1,1,0,0,0,0,0,0,false,false,false,false,false,false,false,1,1,1,1,1,1,0,0,0,0,0,0,0,1,1,0,0,0,0,0]
["1958-06-01","2005-06-30","1998-12-09","2005-06-30",true,0,0,1,0,false,{"$error":"#DIV/0!"},"2005-06-30",{"$error":"#DIV/0!"},"2005-06-30",{"$error":"#DIV/0!"},1,1,1,1,1,1,{"$error":"#REF!"},{"$error":"#REF!"},{"$error":"#REF!"},{"$error":"#REF!"},{"$error":"#N/A"},{"$error":"#N/A"},0,0,0,0,0,0,1,1,1,1,1,1,0,0,0,0,0,0,false,false,false,false,false,false,false,1,1,1,1,1,1,0,0,0,0,0,0,0,1,1,0,0,0,0,0]
["1958-07-01","2005-07-31","1998-12-16","2005-07-31",true,0,0,1,0,false,{"$error":"#DIV/0!"},"2005-07-31",{"$error":"#DIV/0!"},"2005-07-31",{"$error":"#DIV/0!"},1,1,1,1,1,1,{"$error":"#REF!"},{"$error":"#REF!"},{"$error":"#REF!"},{"$error":"#REF!"},{"$error":"#N/A"},{"$error":"#N/A"},0,0,0,0,0,0,1,1,1,1,1,1,0,0,0,0,0,0,false,false,false,false,false,false,false,1,1,1,1,1,1,0,0,0,0,0,0,0,1,1,0,0,0,0,0]
["1958-08-01","2005-08-31","1998-12-23","2005-08-31",true,0,0,1,0,false,{"$error":"#DIV/0!"},"2005-08-31",{"$error":"#DIV/0!"},"2005-08-31",{"$error":"#DIV/0!"},1,1,1,1,1,1,{"$error":"#REF!"},{"$error":"#REF!"},{"$error":"#REF!"},{"$error":"#REF!"},{"$error":"#N/A"},{"$error":"#N/A"},0,0,0,0,0,0,1,1,1,1,1,1,0,0,0,0,0,0,false,false,false,false,false,false,false,1,1,1,1,1,1,0,0,0,0,0,0,0,1,1,0,0,0,0,0]
["1958-09-01","2005-09-30","1998-12-30","2005-09-30",true,0,0,1,0,false,{"$error":"#DIV/0!"},"2005-09-30",{"$error":"#DIV/0!"},"2005-09-30",{"$error":"#DIV/0!"},1,1,1,1,1,1,{"$error":"#REF!"},{"$error":"#REF!"},{"$error":"#REF!"},{"$error":"#REF!"},{"$error":"#N/A"},{"$error":"#N/A"},0,0,0,0,0,0,1,1,1,1,1,1,0,0,0,0,0,0,false,false,false,false,false,false,false,1,1,1,1,1,1,0,0,0,0,0,0,0,1,1,0,0,0,0,0]
["1958-10-01","2005-10-31","1999-01-06","2005-10-31",true,0,0,1,0,false,{"$error":"#DIV/0!"},"2005-10-31",{"$error":"#DIV/0!"},"2005-10-31",{"$error":"#DIV/0!"},1,1,1,1,1,1,{"$error":"#REF!"},{"$error":"#REF!"},{"$error":"#REF!"},{"$error":"#REF!"},{"$error":"#N/A"},{"$error":"#N/A"},0,0,0,0,0,0,1,1,1,1,1,1,0,0,0,0,0,0,false,false,false,false,false,false,false,1,1,1,1,1,1,0,0,0,0,0,0,0,1,1,0,0,0,0,0]
["1958-11-01","2005-11-30","1999-01-13","2005-11-30",true,0,0,1,0,false,{"$error":"#DIV/0!"},"2005-11-30",{"$error":"#DIV/0!"},"2005-11-30",{"$error":"#DIV/0!"},1,1,1,1,1,1,{"$error":"#REF!"},{"$error":"#REF!"},{"$error":"#REF!"},{"$error":"#REF!"},{"$error":"#N/A"},{"$error":"#N/A"},0,0,0,0,0,0,1,1,1,1,1,1,0,0,0,0,0,0,false,false,false,false,false,false,false,1,1,1,1,1,1,0,0,0,0,0,0,0,1,1,0,0,0,0,0]
["1958-12-01","2005-12-31","1999-01-20","2005-12-31",true,0,0,1,0,false,{"$error":"#DIV/0!"},"2005-12-31",{"$error":"#DIV/0!"},"2005-12-31",{"$error":"#DIV/0!"},1,1,1,1,1,1,{"$error":"#REF!"},{"$error":"#REF!"},{"$error":"#REF!"},{"$f":"LOOKUP($A117,INDIRECT(\"'\"&Y$5&\"'!A:A\"),INDIRECT(\"'\"&Y$5&\"'!\"&Y$7&\":\"&Y$7))","v":{"$error":"#REF!"}},{"$error":"#N/A"},{"$error":"#N/A"},0,0,0,0,0,0,1,1,1,1,1,1,0,0,0,0,0,0,false,false,false,false,false,false,false,1,1,1,1,1,1,0,0,0,0,0,0,0,1,1,0,0,0,0,0]
["1959-01-01","2006-01-31","1999-01-27","2006-01-31",true,0,0,1,0,false,{"$error":"#DIV/0!"},"2006-01-31",{"$error":"#DIV/0!"},"2006-01-31",{"$error":"#DIV/0!"},1,1,1,1,1,1,{"$error":"#REF!"},{"$error":"#REF!"},{"$error":"#REF!"},{"$error":"#REF!"},{"$error":"#N/A"},{"$error":"#N/A"},0,0,0,0,0,0,1,1,1,1,1,1,0,0,0,0,0,0,false,false,false,false,false,false,false,1,1,1,1,1,1,0,0,0,0,0,0,0,1,1,0,0,0,0,0]
["1959-02-01","2006-02-28","1999-02-03","2006-02-28",true,0,0,1,0,false,{"$error":"#DIV/0!"},"2006-02-28",{"$error":"#DIV/0!"},"2006-02-28",{"$error":"#DIV/0!"},1,1,1,1,1,1,{"$error":"#REF!"},{"$error":"#REF!"},{"$error":"#REF!"},{"$error":"#REF!"},{"$error":"#N/A"},{"$error":"#N/A"},0,0,0,0,0,0,1,1,1,1,1,1,0,0,0,0,0,0,false,false,false,false,false,false,false,1,1,1,1,1,1,0,0,0,0,0,0,0,1,1,0,0,0,0,0]
["1959-03-01","2006-03-31","1999-02-10","2006-03-31",true,0,0,1,0,false,{"$error":"#DIV/0!"},"2006-03-31",{"$error":"#DIV/0!"},"2006-03-31",{"$error":"#DIV/0!"},1,1,1,1,1,1,{"$error":"#REF!"},{"$error":"#REF!"},{"$error":"#REF!"},{"$error":"#REF!"},{"$error":"#N/A"},{"$error":"#N/A"},0,0,0,0,0,0,1,1,1,1,1,1,0,0,0,0,0,0,false,false,false,false,false,false,false,1,1,1,1,1,1,0,0,0,0,0,0,0,1,1,0,0,0,0,0]
["1959-04-01","2006-04-30","1999-02-17","2006-04-30",true,0,0,1,0,false,{"$error":"#DIV/0!"},"2006-04-30",{"$error":"#DIV/0!"},"2006-04-30",{"$error":"#DIV/0!"},1,1,1,1,1,1,{"$error":"#REF!"},{"$error":"#REF!"},{"$error":"#REF!"},{"$error":"#REF!"},{"$error":"#N/A"},{"$error":"#N/A"},0,0,0,0,0,0,1,1,1,1,1,1,0,0,0,0,0,0,false,false,false,false,false,false,false,1,1,1,1,1,1,0,0,0,0,0,0,0,1,1,0,0,0,0,0]
["1959-05-01","2006-05-31","1999-02-24","2006-05-31",true,0,0,1,0,false,{"$error":"#DIV/0!"},"2006-05-31",{"$error":"#DIV/0!"},"2006-05-31",{"$error":"#DIV/0!"},1,1,1,1,1,1,{"$error":"#REF!"},{"$error":"#REF!"},{"$error":"#REF!"},{"$error":"#REF!"},{"$error":"#N/A"},{"$error":"#N/A"},0,0,0,0,0,0,1,1,1,1,1,1,0,0,0,0,0,0,false,false,false,false,false,false,false,1,1,1,1,1,1,0,0,0,0,0,0,0,1,1,0,0,0,0,0]
["1959-06-01","2006-06-30","1999-03-03","2006-06-30",true,0,0,1,0,false,{"$error":"#DIV/0!"},"2006-06-30",{"$error":"#DIV/0!"},"2006-06-30",{"$error":"#DIV/0!"},1,1,1,1,1,1,{"$error":"#REF!"},{"$error":"#REF!"},{"$error":"#REF!"},{"$error":"#REF!"},{"$error":"#N/A"},{"$error":"#N/A"},0,0,0,0,0,0,1,1,1,1,1,1,0,0,0,0,0,0,false,false,false,false,false,false,false,1,1,1,1,1,1,0,0,0,0,0,0,0,1,1,0,0,0,0,0]
["1959-07-01","2006-07-31","1999-03-10","2006-07-31",true,0,0,1,0,false,{"$error":"#DIV/0!"},"2006-07-31",{"$error":"#DIV/0!"},"2006-07-31",{"$error":"#DIV/0!"},1,1,1,1,1,1,{"$error":"#REF!"},{"$error":"#REF!"},{"$error":"#REF!"},{"$error":"#REF!"},{"$error":"#N/A"},{"$error":"#N/A"},0,0,0,0,0,0,1,1,1,1,1,1,0,0,0,0,0,0,false,false,false,false,false,false,false,1,1,1,1,1,1,0,0,0,0,0,0,0,1,1,0,0,0,0,0]
["1959-08-01","2006-08-31","1999-03-17","2006-08-31",true,0,0,1,0,false,{"$error":"#DIV/0!"},"2006-08-31",{"$error":"#DIV/0!"},"2006-08-31",{"$error":"#DIV/0!"},1,1,1,1,1,1,{"$error":"#REF!"},{"$error":"#REF!"},{"$error":"#REF!"},{"$error":"#REF!"},{"$error":"#N/A"},{"$error":"#N/A"},0,0,0,0,0,0,1,1,1,1,1,1,0,0,0,0,0,0,false,false,false,false,false,false,false,1,1,1,1,1,1,0,0,0,0,0,0,0,1,1,0,0,0,0,0]
["1959-09-01","2006-09-30","1999-03-24","2006-09-30",true,0,0,1,0,false,{"$error":"#DIV/0!"},"2006-09-30",{"$error":"#DIV/0!"},"2006-09-30",{"$error":"#DIV/0!"},1,1,1,1,1,1,{"$error":"#REF!"},{"$error":"#REF!"},{"$error":"#REF!"},{"$error":"#REF!"},{"$error":"#N/A"},{"$error":"#N/A"},0,0,0,0,0,0,1,1,1,1,1,1,0,0,0,0,0,0,false,false,false,false,false,false,false,1,1,1,1,1,1,0,0,0,0,0,0,0,1,1,0,0,0,0,0]
["1959-10-01","2006-10-31","1999-03-31","2006-10-31",true,0,0,1,0,false,{"$error":"#DIV/0!"},"2006-10-31",{"$error":"#DIV/0!"},"2006-10-31",{"$error":"#DIV/0!"},1,1,1,1,1,1,{"$error":"#REF!"},{"$error":"#REF!"},{"$error":"#REF!"},{"$error":"#REF!"},{"$error":"#N/A"},{"$error":"#N/A"},0,0,0,0,0,0,1,1,1,1,1,1,0,0,0,0,0,0,false,false,false,false,false,false,false,1,1,1,1,1,1,0,0,0,0,0,0,0,1,1,0,0,0,0,0]
["1959-11-01","2006-11-30","1999-04-07","2006-11-30",true,0,0,1,0,false,{"$error":"#DIV/0!"},"2006-11-30",{"$error":"#DIV/0!"},"2006-11-30",{"$error":"#DIV/0!"},1,1,1,1,1,1,{"$error":"#REF!"},{"$error":"#REF!"},{"$error":"#REF!"},{"$error":"#REF!"},{"$error":"#N/A"},{"$error":"#N/A"},0,0,0,0,0,0,1,1,1,1,1,1,0,0,0,0,0,0,false,false,false,false,false,false,false,1,1,1,1,1,1,0,0,0,0,0,0,0,1,1,0,0,0,0,0]
["1959-12-01","2006-12-31","1999-04-14","2006-12-31",true,0,0,1,0,false,{"$error":"#DIV/0!"},"2006-12-31",{"$error":"#DIV/0!"},"2006-12-31",{"$error":"#DIV/0!"},1,1,1,1,1,1,{"$error":"#REF!"},{"$error":"#REF!"},{"$error":"#REF!"},{"$error":"#REF!"},{"$error":"#N/A"},{"$error":"#N/A"},0,0,0,0,0,0,1,1,1,1,1,1,0,0,0,0,0,0,false,false,false,false,false,false,false,1,1,1,1,1,1,0,0,0,0,0,0,0,1,1,0,0,0,0,0]
["1960-01-01","2007-01-31","1999-04-21","2007-01-31",true,0,0,1,0,false,{"$error":"#DIV/0!"},"2007-01-31",{"$error":"#DIV/0!"},"2007-01-31",{"$error":"#DIV/0!"},1,1,1,1,1,1,{"$error":"#REF!"},{"$error":"#REF!"},{"$error":"#REF!"},{"$error":"#REF!"},{"$error":"#N/A"},{"$error":"#N/A"},0,0,0,0,0,0,1,1,1,1,1,1,0,0,0,0,0,0,false,false,false,false,false,false,false,1,1,1,1,1,1,0,0,0,0,0,0,0,1,1,0,0,0,0,0]
["1960-02-01","2007-02-28","1999-04-28","2007-02-28",true,0,0,1,0,false,{"$error":"#DIV/0!"},"2007-02-28",{"$error":"#DIV/0!"},"2007-02-28",{"$error":"#DIV/0!"},1,1,1,1,1,1,{"$error":"#REF!"},{"$error":"#REF!"},{"$error":"#REF!"},{"$error":"#REF!"},{"$error":"#N/A"},{"$error":"#N/A"},0,0,0,0,0,0,1,1,1,1,1,1,0,0,0,0,0,0,false,false,false,false,false,false,false,1,1,1,1,1,1,0,0,0,0,0,0,0,1,1,0,0,0,0,0]
["1960-03-01","2007-03-31","1999-05-05","2007-03-31",true,0,0,1,0,false,{"$error":"#DIV/0!"},"2007-03-31",{"$error":"#DIV/0!"},"2007-03-31",{"$error":"#DIV/0!"},1,1,1,1,1,1,{"$error":"#REF!"},{"$error":"#REF!"},{"$error":"#REF!"},{"$error":"#REF!"},{"$error":"#N/A"},{"$error":"#N/A"},0,0,0,0,0,0,1,1,1,1,1,1,0,0,0,0,0,0,false,false,false,false,false,false,false,1,1,1,1,1,1,0,0,0,0,0,0,0,1,1,0,0,0,0,0]
["1960-04-01","2007-04-30","1999-05-12","2007-04-30",true,0,0,1,0,false,{"$error":"#DIV/0!"},"2007-04-30",{"$error":"#DIV/0!"},"2007-04-30",{"$error":"#DIV/0!"},1,1,1,1,1,1,{"$error":"#REF!"},{"$error":"#REF!"},{"$error":"#REF!"},{"$error":"#REF!"},{"$error":"#N/A"},{"$error":"#N/A"},0,0,0,0,0,0,1,1,1,1,1,1,0,0,0,0,0,0,false,false,false,false,false,false,false,1,1,1,1,1,1,0,0,0,0,0,0,0,1,1,0,0,0,0,0]
["1960-05-01","2007-05-31","1999-05-19","2007-05-31",true,0,0,1,0,false,{"$error":"#DIV/0!"},"2007-05-31",{"$error":"#DIV/0!"},"2007-05-31",{"$error":"#DIV/0!"},1,1,1,1,1,1,{"$error":"#REF!"},{"$error":"#REF!"},{"$error":"#REF!"},{"$error":"#REF!"},{"$error":"#N/A"},{"$error":"#N/A"},0,0,0,0,0,0,1,1,1,1,1,1,0,0,0,0,0,0,false,false,false,false,false,false,false,1,1,1,1,1,1,0,0,0,0,0,0,0,1,1,0,0,0,0,0]
["1960-06-01","2007-06-30","1999-05-26","2007-06-30",true,0,0,1,0,false,{"$error":"#DIV/0!"},"2007-06-30",{"$error":"#DIV/0!"},"2007-06-30",{"$error":"#DIV/0!"},1,1,1,1,1,1,{"$error":"#REF!"},{"$error":"#REF!"},{"$error":"#REF!"},{"$error":"#REF!"},{"$error":"#N/A"},{"$error":"#N/A"},0,0,0,0,0,0,1,1,1,1,1,1,0,0,0,0,0,0,false,false,false,false,false,false,false,1,1,1,1,1,1,0,0,0,0,0,0,0,1,1,0,0,0,0,0]
["1960-07-01","2007-07-31","1999-06-02","2007-07-31",true,0,0,1,0,false,{"$error":"#DIV/0!"},"2007-07-31",{"$error":"#DIV/0!"},"2007-07-31",{"$error":"#DIV/0!"},1,1,1,1,1,1,{"$error":"#REF!"},{"$error":"#REF!"},{"$error":"#REF!"},{"$error":"#REF!"},{"$error":"#N/A"},{"$error":"#N/A"},0,0,0,0,0,0,1,1,1,1,1,1,0,0,0,0,0,0,false,false,false,false,false,false,false,1,1,1,1,1,1,0,0,0,0,0,0,0,1,1,0,0,0,0,0]
["1960-08-01","2007-08-31","1999-06-09","2007-08-31",true,0,0,1,0,false,{"$error":"#DIV/0!"},"2007-08-31",{"$error":"#DIV/0!"},"2007-08-31",{"$error":"#DIV/0!"},1,1,1,1,1,1,{"$error":"#REF!"},{"$error":"#REF!"},{"$error":"#REF!"},{"$error":"#REF!"},{"$error":"#N/A"},{"$error":"#N/A"},0,0,0,0,0,0,1,1,1,1,1,1,0,0,0,0,0,0,false,false,false,false,false,false,false,1,1,1,1,1,1,0,0,0,0,0,0,0,1,1,0,0,0,0,0]
["1960-09-01","2007-09-30","1999-06-16","2007-09-30",true,0,0,1,0,false,{"$error":"#DIV/0!"},"2007-09-30",{"$error":"#DIV/0!"},"2007-09-30",{"$error":"#DIV/0!"},1,1,1,1,1,1,{"$error":"#REF!"},{"$error":"#REF!"},{"$error":"#REF!"},{"$error":"#REF!"},{"$error":"#N/A"},{"$error":"#N/A"},0,0,0,0,0,0,1,1,1,1,1,1,0,0,0,0,0,0,false,false,false,false,false,false,false,1,1,1,1,1,1,0,0,0,0,0,0,0,1,1,0,0,0,0,0]
["1960-10-01",{"$f":"IF(B138<=$D$2,EOMONTH(B138,1))","v":"2007-10-31"},"1999-06-23","2007-10-31",true,{"$f":"LOOKUP(D139,A:A,G:G)","v":0},{"$f":"IFERROR(LOOKUP($A139,INDIRECT(\"'\"&G$7&\"'!A:A\"),INDIRECT(\"'\"&G$7&\"'!\"&$G$9&\":\"&$G$9)),0)","v":0},{"$f":"IF(H$8,INDEX($BN139:$BT139,H$8),1)","v":1},{"$f":"IF(ISNUMBER(F139),F139,I140)*H139","v":0},false,{"$error":"#DIV/0!"},"2007-10-31",{"$error":"#DIV/0!"},"2007-10-31",{"$error":"#DIV/0!"},1,1,1,1,1,1,{"$f":"LOOKUP($A139,INDIRECT(\"'\"&V$5&\"'!A:A\"),INDIRECT(\"'\"&V$5&\"'!\"&V$7&\":\"&V$7))","v":{"$error":"#REF!"}},{"$error":"#REF!"},{"$error":"#REF!"},{"$error":"#REF!"},{"$error":"#N/A"},{"$error":"#N/A"},{"$f":"IF(ISNUMBER(LOOKUP($D139,$A:$A,V:V)),LOOKUP($D139,$A:$A,V:V),AB138)","v":0},{"$f":"IF(ISNUMBER(LOOKUP($D139,$A:$A,W:W)),LOOKUP($D139,$A:$A,W:W),AC138)","v":0},{"$f":"IF(ISNUMBER(LOOKUP($D139,$A:$A,X:X)),LOOKUP($D139,$A:$A,X:X),AD138)","v":0},{"$f":"IF(ISNUMBER(LOOKUP($D139,$A:$A,Y:Y)),LOOKUP($D139,$A:$A,Y:Y),AE138)","v":0},{"$f":"IF(ISNUMBER(LOOKUP($D139,$A:$A,Z:Z)),LOOKUP($D139,$A:$A,Z:Z),AF138)","v":0},{"$f":"IF(ISNUMBER(LOOKUP($D139,$A:$A,AA:AA)),LOOKUP($D139,$A:$A,AA:AA),AG138)","v":0},1,1,1,1,1,1,{"$f":"IFERROR(IF(ISNUMBER(AB139)>0.1,AB139,AN140)*AH139,AN140)","v":0},{"$f":"IFERROR(IF(ISNUMBER(AC139)>0.1,AC139,AO140)*AI139,AO140)","v":0},{"$f":"IFERROR(IF(ISNUMBER(AD139)>0.1,AD139,AP140)*AJ139,AP140)","v":0},{"$f":"IFERROR(IF(ISNUMBER(AE139)>0.1,AE139,AQ140)*AK139,AQ140)","v":0},{"$f":"IFERROR(IF(ISNUMBER(AF139)>0.1,AF139,AR140)*AL139,AR140)","v":0},{"$f":"IF(ISNUMBER(AG139)>0.1,AG139,AS140)","v":0},false,{"$f":"IF(E139,IFERROR(LN(AN139/AN138),FALSE))","v":false},{"$f":"IF(E139,IFERROR(LN(AO139/AO138),FALSE))","v":false},{"$f":"IF(E139,IFERROR(LN(AP139/AP138),FALSE))","v":false},{"$f":"IF(E139,IFERROR(LN(AQ139/AQ138),FALSE))","v":false},{"$f":"IF(E139,IFERROR(LN(AR139/AR138),FALSE))","v":false},{"$f":"IF(E139,IFERROR(LN(AS139/AS138),FALSE))","v":false},1,1,1,1,1,1,{"$f":"IFERROR(LOOKUP($A139,INDIRECT(\"'\"&BN$6&\"'!A:A\"),INDIRECT(\"'\"&BN$6&\"'!\"&BN$7&\":\"&BN$7)),0)","v":0},{"$f":"IFERROR(LOOKUP($A139,INDIRECT(\"'\"&BO$6&\"'!A:A\"),INDIRECT(\"'\"&BO$6&\"'!\"&BO$7&\":\"&BO$7)),0)","v":0},{"$f":"IFERROR(LOOKUP($A139,INDIRECT(\"'\"&BP$6&\"'!A:A\"),INDIRECT(\"'\"&BP$6&\"'!\"&BP$7&\":\"&BP$7)),0)","v":0},{"$f":"IFERROR(LOOKUP($A139,INDIRECT(\"'\"&BQ$6&\"'!A:A\"),INDIRECT(\"'\"&BQ$6&\"'!\"&BQ$7&\":\"&BQ$7)),0)","v":0},{"$f":"IFERROR(LOOKUP($A139,INDIRECT(\"'\"&BR$6&\"'!A:A\"),INDIRECT(\"'\"&BR$6&\"'!\"&BR$7&\":\"&BR$7)),0)","v":0},{"$f":"IFERROR(LOOKUP($A139,INDIRECT(\"'\"&BS$6&\"'!A:A\"),INDIRECT(\"'\"&BS$6&\"'!\"&BS$7&\":\"&BS$7)),0)","v":0},{"$f":"IFERROR(LOOKUP($A139,INDIRECT(\"'\"&BT$6&\"'!A:A\"),INDIRECT(\"'\"&BT$6&\"'!\"&BT$7&\":\"&BT$7)),0)","v":0},{"$f":"IFERROR(1/IFERROR(LOOKUP($D139,$A:$A,BG:BG)*1,0),1)","v":1},{"$f":"IFERROR(1/IFERROR(LOOKUP($D139,$A:$A,BH:BH)*1,0),1)","v":1},0,0,0,0,0]
["1960-11-01","2007-11-30",{"$f":"IF(C139<=$D$2,C139+7)","v":"1999-06-30"},"2007-11-30",{"$f":"AND(D140>=$D$4,D139<=$D$2)","v":true},0,0,1,0,{"$f":"IFERROR(LN(I140/I139),FALSE)","v":false},{"$error":"#DIV/0!"},"2007-11-30",{"$error":"#DIV/0!"},"2007-11-30",{"$error":"#DIV/0!"},1,1,1,1,1,1,{"$error":"#REF!"},{"$error":"#REF!"},{"$error":"#REF!"},{"$error":"#REF!"},{"$error":"#N/A"},{"$error":"#N/A"},0,0,0,0,0,0,1,1,1,1,1,1,0,0,0,0,0,0,false,false,false,false,false,false,false,{"$f":"IFERROR(IF($E140,BA139*AN140/AN139,1),1)","v":1},{"$f":"IFERROR(IF($E140,BB139*AO140/AO139,1),1)","v":1},{"$f":"IFERROR(IF($E140,BC139*AP140/AP139,1),1)","v":1},{"$f":"IFERROR(IF($E140,BD139*AQ140/AQ139,1),1)","v":1},{"$f":"IFERROR(IF($E140,BE139*AR140/AR139,1),1)","v":1},{"$f":"IFERROR(IF($E140,BF139*AS140/AS139,1),1)","v":1},0,0,0,0,0,0,0,1,1,{"$f":"IFERROR(LOOKUP($D140,$A:$A,BI:BI)*1,BP139)","v":0},{"$f":"IFERROR(LOOKUP($D140,$A:$A,BJ:BJ)*1,BQ139)","v":0},{"$f":"IFERROR(LOOKUP($D140,$A:$A,BK:BK)*1,BR139)","v":0},{"$f":"IFERROR(LOOKUP($D140,$A:$A,BL:BL)*1,BS139)","v":0},{"$f":"IFERROR(LOOKUP($D140,$A:$A,BM:BM)*1,BT139)","v":0}]
["1960-12-01","2007-12-31","1999-07-07",{"$f":"IF($D$6,C141,B141)","v":"2007-12-31"},true,0,0,1,0,false,{"$f":"IF($E141,(K140*I141/I140),1)","v":{"$error":"#DIV/0!"}},{"$f":"IF(E141,D141,NA())","v":"2007-12-31"},{"$f":"CHOOSE($M$1,I141,J141,K141)","v":{"$error":"#DIV/0!"}},{"$f":"L141","v":"2007-12-31"},{"$f":"M141","v":{"$error":"#DIV/0!"}},{"$f":"IFERROR(CHOOSE($M$1,AN141,AU141,BA141),1)","v":1},{"$f":"IFERROR(CHOOSE($M$1,AO141,AV141,BB141),1)","v":1},{"$f":"IFERROR(CHOOSE($M$1,AP141,AW141,BC141),1)","v":1},{"$f":"IFERROR(CHOOSE($M$1,AQ141,AX141,BD141),1)","v":1},{"$f":"IFERROR(CHOOSE($M$1,AR141,AY141,BE141),1)","v":1},{"$f":"IFERROR(CHOOSE($M$1,AS141,AZ141,BF141),1)","v":1},{"$error":"#REF!"},{"$error":"#REF!"},{"$error":"#REF!"},{"$error":"#REF!"},{"$error":"#N/A"},{"$error":"#N/A"},0,0,0,0,0,0,1,1,1,1,1,1,0,0,0,0,0,0,{"$f":"J141","v":false},false,false,false,false,false,false,1,1,1,1,1,1,0,0,0,0,0,0,0,1,1,0,0,0,0,0]
["1961-01-01","2008-01-31","1999-07-14","2008-01-31",true,0,0,1,0,false,{"$error":"#DIV/0!"},"2008-01-31",{"$error":"#DIV/0!"},"2008-01-31",{"$error":"#DIV/0!"},1,1,1,1,1,1,{"$error":"#REF!"},{"$error":"#REF!"},{"$error":"#REF!"},{"$error":"#REF!"},{"$error":"#N/A"},{"$error":"#N/A"},0,0,0,0,0,0,1,1,1,1,1,1,0,0,0,0,0,0,false,false,false,false,false,false,false,1,1,1,1,1,1,0,0,0,0,0,0,0,1,1,0,0,0,0,0]
["1961-02-01","2008-02-29","1999-07-21","2008-02-29",true,0,0,1,0,false,{"$error":"#DIV/0!"},"2008-02-29",{"$error":"#DIV/0!"},"2008-02-29",{"$error":"#DIV/0!"},1,1,1,1,1,1,{"$error":"#REF!"},{"$error":"#REF!"},{"$error":"#REF!"},{"$error":"#REF!"},{"$error":"#N/A"},{"$error":"#N/A"},0,0,0,0,0,0,1,1,1,1,1,1,0,0,0,0,0,0,false,false,false,false,false,false,false,1,1,1,1,1,1,0,0,0,0,0,0,0,1,1,0,0,0,0,0]
["1961-03-01","2008-03-31","1999-07-28","2008-03-31",true,0,0,1,0,false,{"$error":"#DIV/0!"},"2008-03-31",{"$error":"#DIV/0!"},"2008-03-31",{"$error":"#DIV/0!"},1,1,1,1,1,1,{"$error":"#REF!"},{"$error":"#REF!"},{"$error":"#REF!"},{"$error":"#REF!"},{"$error":"#N/A"},{"$error":"#N/A"},0,0,0,0,0,0,1,1,1,1,1,1,0,0,0,0,0,0,false,false,false,false,false,false,false,1,1,1,1,1,1,0,0,0,0,0,0,0,1,1,0,0,0,0,0]
["1961-04-01","2008-04-30","1999-08-04","2008-04-30",true,0,0,1,0,false,{"$error":"#DIV/0!"},"2008-04-30",{"$error":"#DIV/0!"},"2008-04-30",{"$error":"#DIV/0!"},1,1,1,1,1,1,{"$error":"#REF!"},{"$error":"#REF!"},{"$error":"#REF!"},{"$error":"#REF!"},{"$error":"#N/A"},{"$error":"#N/A"},0,0,0,0,0,0,1,1,1,1,1,1,0,0,0,0,0,0,false,false,false,false,false,false,false,1,1,1,1,1,1,0,0,0,0,0,0,0,1,1,0,0,0,0,0]
["1961-05-01","2008-05-31","1999-08-11","2008-05-31",true,0,0,1,0,false,{"$error":"#DIV/0!"},"2008-05-31",{"$error":"#DIV/0!"},"2008-05-31",{"$error":"#DIV/0!"},1,1,1,1,1,1,{"$error":"#REF!"},{"$error":"#REF!"},{"$error":"#REF!"},{"$error":"#REF!"},{"$error":"#N/A"},{"$error":"#N/A"},0,0,0,0,0,0,1,1,1,1,1,1,0,0,0,0,0,0,false,false,false,false,false,false,false,1,1,1,1,1,1,0,0,0,0,0,0,0,1,1,0,0,0,0,0]
["1961-06-01","2008-06-30","1999-08-18","2008-06-30",true,0,0,1,0,false,{"$error":"#DIV/0!"},"2008-06-30",{"$error":"#DIV/0!"},"2008-06-30",{"$error":"#DIV/0!"},1,1,1,1,1,1,{"$error":"#REF!"},{"$error":"#REF!"},{"$error":"#REF!"},{"$error":"#REF!"},{"$error":"#N/A"},{"$error":"#N/A"},0,0,0,0,0,0,1,1,1,1,1,1,0,0,0,0,0,0,false,false,false,false,false,false,false,1,1,1,1,1,1,0,0,0,0,0,0,0,1,1,0,0,0,0,0]
["1961-07-01","2008-07-31","1999-08-25","2008-07-31",true,0,0,1,0,false,{"$error":"#DIV/0!"},"2008-07-31",{"$error":"#DIV/0!"},"2008-07-31",{"$error":"#DIV/0!"},1,1,1,1,1,1,{"$error":"#REF!"},{"$error":"#REF!"},{"$error":"#REF!"},{"$error":"#REF!"},{"$error":"#N/A"},{"$error":"#N/A"},0,0,0,0,0,0,1,1,1,1,1,1,0,0,0,0,0,0,false,false,false,false,false,false,false,1,1,1,1,1,1,0,0,0,0,0,0,0,1,1,0,0,0,0,0]
["1961-08-01","2008-08-31","1999-09-01","2008-08-31",true,0,0,1,0,false,{"$error":"#DIV/0!"},"2008-08-31",{"$error":"#DIV/0!"},"2008-08-31",{"$error":"#DIV/0!"},1,1,1,1,1,1,{"$error":"#REF!"},{"$error":"#REF!"},{"$error":"#REF!"},{"$error":"#REF!"},{"$error":"#N/A"},{"$error":"#N/A"},0,0,0,0,0,0,1,1,1,1,1,1,0,0,0,0,0,0,false,false,false,false,false,false,false,1,1,1,1,1,1,0,0,0,0,0,0,0,1,1,0,0,0,0,0]
["1961-09-01","2008-09-30","1999-09-08","2008-09-30",true,0,0,1,0,false,{"$error":"#DIV/0!"},"2008-09-30",{"$error":"#DIV/0!"},"2008-09-30",{"$error":"#DIV/0!"},1,1,1,1,1,1,{"$error":"#REF!"},{"$error":"#REF!"},{"$error":"#REF!"},{"$error":"#REF!"},{"$error":"#N/A"},{"$error":"#N/A"},0,0,0,0,0,0,1,1,1,1,1,1,0,0,0,0,0,0,false,false,false,false,false,false,false,1,1,1,1,1,1,0,0,0,0,0,0,0,1,1,0,0,0,0,0]
["1961-10-01","2008-10-31","1999-09-15","2008-10-31",true,0,0,1,0,false,{"$error":"#DIV/0!"},"2008-10-31",{"$error":"#DIV/0!"},"2008-10-31",{"$error":"#DIV/0!"},1,1,1,1,1,1,{"$error":"#REF!"},{"$error":"#REF!"},{"$error":"#REF!"},{"$error":"#REF!"},{"$error":"#N/A"},{"$error":"#N/A"},0,0,0,0,0,0,1,1,1,1,1,1,0,0,0,0,0,0,false,false,false,false,false,false,false,1,1,1,1,1,1,0,0,0,0,0,0,0,1,1,0,0,0,0,0]
["1961-11-01","2008-11-30","1999-09-22","2008-11-30",true,0,0,1,0,false,{"$error":"#DIV/0!"},"2008-11-30",{"$error":"#DIV/0!"},"2008-11-30",{"$error":"#DIV/0!"},1,1,1,1,1,1,{"$error":"#REF!"},{"$error":"#REF!"},{"$error":"#REF!"},{"$error":"#REF!"},{"$error":"#N/A"},{"$error":"#N/A"},0,0,0,0,0,0,1,1,1,1,1,1,0,0,0,0,0,0,false,false,false,false,false,false,false,1,1,1,1,1,1,0,0,0,0,0,0,0,1,1,0,0,0,0,0]
["1961-12-01","2008-12-31","1999-09-29","2008-12-31",true,0,0,1,0,false,{"$error":"#DIV/0!"},"2008-12-31",{"$error":"#DIV/0!"},"2008-12-31",{"$error":"#DIV/0!"},1,1,1,1,1,1,{"$error":"#REF!"},{"$error":"#REF!"},{"$error":"#REF!"},{"$error":"#REF!"},{"$error":"#N/A"},{"$error":"#N/A"},0,0,0,0,0,0,1,1,1,1,1,1,0,0,0,0,0,0,false,false,false,false,false,false,false,1,1,1,1,1,1,0,0,0,0,0,0,0,1,1,0,0,0,0,0]
["1962-01-01","2009-01-31","1999-10-06","2009-01-31",true,0,0,1,0,false,{"$error":"#DIV/0!"},"2009-01-31",{"$error":"#DIV/0!"},"2009-01-31",{"$error":"#DIV/0!"},1,1,1,1,1,1,{"$error":"#REF!"},{"$error":"#REF!"},{"$error":"#REF!"},{"$error":"#REF!"},{"$error":"#N/A"},{"$error":"#N/A"},0,0,0,0,0,0,1,1,1,1,1,1,0,0,0,0,0,0,false,false,false,false,false,false,false,1,1,1,1,1,1,0,0,0,0,0,0,0,1,1,0,0,0,0,0]
["1962-02-01","2009-02-28","1999-10-13","2009-02-28",true,0,0,1,0,false,{"$error":"#DIV/0!"},"2009-02-28",{"$error":"#DIV/0!"},"2009-02-28",{"$error":"#DIV/0!"},1,1,1,1,1,1,{"$error":"#REF!"},{"$error":"#REF!"},{"$error":"#REF!"},{"$error":"#REF!"},{"$error":"#N/A"},{"$error":"#N/A"},0,0,0,0,0,0,1,1,1,1,1,1,0,0,0,0,0,0,false,false,false,false,false,false,false,1,1,1,1,1,1,0,0,0,0,0,0,0,1,1,0,0,0,0,0]
["1962-03-01","2009-03-31","1999-10-20","2009-03-31",true,0,0,1,0,false,{"$error":"#DIV/0!"},"2009-03-31",{"$error":"#DIV/0!"},"2009-03-31",{"$error":"#DIV/0!"},1,1,1,1,1,1,{"$error":"#REF!"},{"$error":"#REF!"},{"$error":"#REF!"},{"$error":"#REF!"},{"$error":"#N/A"},{"$error":"#N/A"},0,0,0,0,0,0,1,1,1,1,1,1,0,0,0,0,0,0,false,false,false,false,false,false,false,1,1,1,1,1,1,0,0,0,0,0,0,0,1,1,0,0,0,0,0]
["1962-04-01","2009-04-30","1999-10-27","2009-04-30",true,0,0,1,0,false,{"$error":"#DIV/0!"},"2009-04-30",{"$error":"#DIV/0!"},"2009-04-30",{"$error":"#DIV/0!"},1,1,1,1,1,1,{"$error":"#REF!"},{"$error":"#REF!"},{"$error":"#REF!"},{"$error":"#REF!"},{"$error":"#N/A"},{"$error":"#N/A"},0,0,0,0,0,0,1,1,1,1,1,1,0,0,0,0,0,0,false,false,false,false,false,false,false,1,1,1,1,1,1,0,0,0,0,0,0,0,1,1,0,0,0,0,0]
["1962-05-01","2009-05-31","1999-11-03","2009-05-31",true,0,0,1,0,false,{"$error":"#DIV/0!"},"2009-05-31",{"$error":"#DIV/0!"},"2009-05-31",{"$error":"#DIV/0!"},1,1,1,1,1,1,{"$error":"#REF!"},{"$error":"#REF!"},{"$error":"#REF!"},{"$error":"#REF!"},{"$error":"#N/A"},{"$error":"#N/A"},0,0,0,0,0,0,1,1,1,1,1,1,0,0,0,0,0,0,false,false,false,false,false,false,false,1,1,1,1,1,1,0,0,0,0,0,0,0,1,1,0,0,0,0,0]
["1962-06-01","2009-06-30","1999-11-10","2009-06-30",true,0,0,1,0,false,{"$error":"#DIV/0!"},"2009-06-30",{"$error":"#DIV/0!"},"2009-06-30",{"$error":"#DIV/0!"},1,1,1,1,1,1,{"$error":"#REF!"},{"$error":"#REF!"},{"$error":"#REF!"},{"$error":"#REF!"},{"$error":"#N/A"},{"$error":"#N/A"},0,0,0,0,0,0,1,1,1,{"$f":"IF(AK$7,INDEX($BN159:$BT159,AK$7),1)","v":1},1,1,0,0,0,0,0,0,false,false,false,false,false,false,false,1,1,1,1,1,1,0,0,0,0,0,0,0,1,1,0,0,0,0,0]
["1962-07-01","2009-07-31","1999-11-17","2009-07-31",true,0,0,1,0,false,{"$error":"#DIV/0!"},"2009-07-31",{"$error":"#DIV/0!"},"2009-07-31",{"$error":"#DIV/0!"},1,1,1,1,1,1,{"$error":"#REF!"},{"$error":"#REF!"},{"$error":"#REF!"},{"$error":"#REF!"},{"$error":"#N/A"},{"$error":"#N/A"},0,0,0,0,0,0,1,1,1,1,1,1,0,0,0,0,0,0,false,false,false,false,false,false,false,1,1,1,1,1,1,0,0,0,0,0,0,0,1,1,0,0,0,0,0]
["1962-08-01","2009-08-31","1999-11-24","2009-08-31",true,0,0,1,0,false,{"$error":"#DIV/0!"},"2009-08-31",{"$error":"#DIV/0!"},"2009-08-31",{"$error":"#DIV/0!"},1,1,1,1,1,1,{"$error":"#REF!"},{"$error":"#REF!"},{"$error":"#REF!"},{"$error":"#REF!"},{"$error":"#N/A"},{"$error":"#N/A"},0,0,0,0,0,0,1,1,1,1,1,1,0,0,0,0,0,0,false,false,false,false,false,false,false,1,1,1,1,1,1,0,0,0,0,0,0,0,1,1,0,0,0,0,0]
["1962-09-01","2009-09-30","1999-12-01","2009-09-30",true,0,0,1,0,false,{"$error":"#DIV/0!"},"2009-09-30",{"$error":"#DIV/0!"},"2009-09-30",{"$error":"#DIV/0!"},1,1,1,1,1,1,{"$error":"#REF!"},{"$error":"#REF!"},{"$error":"#REF!"},{"$error":"#REF!"},{"$error":"#N/A"},{"$error":"#N/A"},0,0,0,0,0,0,1,1,1,1,1,1,0,0,0,0,0,0,false,false,false,false,false,false,false,1,1,1,1,1,1,0,0,0,0,0,0,0,1,1,0,0,0,0,0]
["1962-10-01","2009-10-31","1999-12-08","2009-10-31",true,0,0,1,0,false,{"$error":"#DIV/0!"},"2009-10-31",{"$error":"#DIV/0!"},"2009-10-31",{"$error":"#DIV/0!"},1,1,1,1,1,1,{"$error":"#REF!"},{"$error":"#REF!"},{"$error":"#REF!"},{"$error":"#REF!"},{"$error":"#N/A"},{"$error":"#N/A"},0,0,0,0,0,0,1,1,1,1,1,1,0,0,0,0,0,0,false,false,false,false,false,false,false,1,1,1,1,1,1,0,0,0,0,0,0,0,1,1,0,0,0,0,0]
["1962-11-01","2009-11-30","1999-12-15","2009-11-30",true,0,0,1,0,false,{"$error":"#DIV/0!"},"2009-11-30",{"$error":"#DIV/0!"},"2009-11-30",{"$error":"#DIV/0!"},1,1,1,1,1,1,{"$error":"#REF!"},{"$error":"#REF!"},{"$error":"#REF!"},{"$error":"#REF!"},{"$error":"#N/A"},{"$error":"#N/A"},0,0,0,0,0,0,1,1,1,1,1,1,0,0,0,0,0,0,false,false,false,false,false,false,false,1,1,1,1,1,1,0,0,0,0,0,0,0,1,1,0,0,0,0,0]
["1962-12-01","2009-12-31","1999-12-22","2009-12-31",true,0,0,1,0,false,{"$error":"#DIV/0!"},"2009-12-31",{"$error":"#DIV/0!"},"2009-12-31",{"$error":"#DIV/0!"},1,1,1,1,1,1,{"$error":"#REF!"},{"$error":"#REF!"},{"$error":"#REF!"},{"$error":"#REF!"},{"$error":"#N/A"},{"$error":"#N/A"},0,0,0,0,0,0,1,1,1,1,1,1,0,0,0,0,0,0,false,false,false,false,false,false,false,1,1,1,1,1,1,0,0,0,0,0,0,0,1,1,0,0,0,0,0]
["1963-01-01","2010-01-31","1999-12-29","2010-01-31",true,0,0,1,0,false,{"$error":"#DIV/0!"},"2010-01-31",{"$error":"#DIV/0!"},"2010-01-31",{"$error":"#DIV/0!"},1,1,1,1,1,1,{"$error":"#REF!"},{"$error":"#REF!"},{"$error":"#REF!"},{"$error":"#REF!"},{"$error":"#N/A"},{"$error":"#N/A"},0,0,0,0,0,0,1,1,1,1,1,1,0,0,0,0,0,0,false,false,false,false,false,false,false,1,1,1,1,1,1,0,0,0,0,0,0,0,1,1,0,0,0,0,0]
["1963-02-01","2010-02-28","2000-01-05","2010-02-28",true,0,0,1,0,false,{"$error":"#DIV/0!"},"2010-02-28",{"$error":"#DIV/0!"},"2010-02-28",{"$error":"#DIV/0!"},1,1,1,1,1,1,{"$error":"#REF!"},{"$error":"#REF!"},{"$error":"#REF!"},{"$error":"#REF!"},{"$error":"#N/A"},{"$error":"#N/A"},0,0,0,0,0,0,1,1,1,1,1,1,0,0,0,0,0,0,false,false,false,false,false,false,false,1,1,1,1,1,1,0,0,0,0,0,0,0,1,1,0,0,0,0,0]
["1963-03-01","2010-03-31","2000-01-12","2010-03-31",true,0,0,1,0,false,{"$error":"#DIV/0!"},"2010-03-31",{"$error":"#DIV/0!"},"2010-03-31",{"$error":"#DIV/0!"},1,1,1,1,1,1,{"$error":"#REF!"},{"$error":"#REF!"},{"$error":"#REF!"},{"$f":"LOOKUP($A168,INDIRECT(\"'\"&Y$5&\"'!A:A\"),INDIRECT(\"'\"&Y$5&\"'!\"&Y$7&\":\"&Y$7))","v":{"$error":"#REF!"}},{"$error":"#N/A"},{"$error":"#N/A"},0,0,0,0,0,0,1,1,1,1,1,1,0,0,0,0,0,0,false,false,false,false,false,false,false,1,1,1,1,1,1,0,0,0,0,0,0,0,1,1,0,0,0,0,0]
["1963-04-01","2010-04-30","2000-01-19","2010-04-30",true,0,0,1,0,false,{"$error":"#DIV/0!"},"2010-04-30",{"$error":"#DIV/0!"},"2010-04-30",{"$error":"#DIV/0!"},1,1,1,1,1,1,{"$error":"#REF!"},{"$error":"#REF!"},{"$error":"#REF!"},{"$error":"#REF!"},{"$error":"#N/A"},{"$error":"#N/A"},0,0,0,0,0,0,1,1,1,1,1,1,0,0,0,0,0,0,false,false,false,false,false,false,false,1,1,1,1,1,1,0,0,0,0,0,0,0,1,1,0,0,0,0,0]
["1963-05-01","2010-05-31","2000-01-26","2010-05-31",true,0,0,1,0,false,{"$error":"#DIV/0!"},"2010-05-31",{"$error":"#DIV/0!"},"2010-05-31",{"$error":"#DIV/0!"},1,1,1,1,1,1,{"$error":"#REF!"},{"$error":"#REF!"},{"$error":"#REF!"},{"$error":"#REF!"},{"$error":"#N/A"},{"$error":"#N/A"},0,0,0,0,0,0,1,1,1,1,1,1,0,0,0,0,0,0,false,false,false,false,false,false,false,1,1,1,1,1,1,0,0,0,0,0,0,0,1,1,0,0,0,0,0]
["1963-06-01","2010-06-30","2000-02-02","2010-06-30",true,0,0,1,0,false,{"$error":"#DIV/0!"},"2010-06-30",{"$error":"#DIV/0!"},"2010-06-30",{"$error":"#DIV/0!"},1,1,1,1,1,1,{"$error":"#REF!"},{"$error":"#REF!"},{"$error":"#REF!"},{"$error":"#REF!"},{"$error":"#N/A"},{"$error":"#N/A"},0,0,0,0,0,0,1,1,1,1,1,1,0,0,0,0,0,0,false,false,false,false,false,false,false,1,1,1,1,1,1,0,0,0,0,0,0,0,1,1,0,0,0,0,0]
["1963-07-01","2010-07-31","2000-02-09","2010-07-31",true,0,0,1,0,false,{"$error":"#DIV/0!"},"2010-07-31",{"$error":"#DIV/0!"},"2010-07-31",{"$error":"#DIV/0!"},1,1,1,1,1,1,{"$error":"#REF!"},{"$error":"#REF!"},{"$error":"#REF!"},{"$error":"#REF!"},{"$error":"#N/A"},{"$error":"#N/A"},0,0,0,0,0,0,1,1,1,1,1,1,0,0,0,0,0,0,false,false,false,false,false,false,false,1,1,1,1,1,1,0,0,0,0,0,0,0,1,1,0,0,0,0,0]
["1963-08-01","2010-08-31","2000-02-16","2010-08-31",true,0,0,1,0,false,{"$error":"#DIV/0!"},"2010-08-31",{"$error":"#DIV/0!"},"2010-08-31",{"$error":"#DIV/0!"},1,1,1,1,1,1,{"$error":"#REF!"},{"$error":"#REF!"},{"$error":"#REF!"},{"$error":"#REF!"},{"$error":"#N/A"},{"$error":"#N/A"},0,0,0,0,0,0,{"$f":"IF(AH$7,INDEX($BN173:$BT173,AH$7),1)","v":1},1,1,1,1,1,0,0,0,0,0,0,false,false,false,false,false,false,false,1,1,1,1,1,1,0,0,0,0,0,0,0,1,1,0,0,0,0,0]
["1963-09-01","2010-09-30","2000-02-23","2010-09-30",true,0,0,1,0,false,{"$error":"#DIV/0!"},"2010-09-30",{"$error":"#DIV/0!"},"2010-09-30",{"$error":"#DIV/0!"},1,1,1,1,1,1,{"$error":"#REF!"},{"$error":"#REF!"},{"$error":"#REF!"},{"$error":"#REF!"},{"$error":"#N/A"},{"$error":"#N/A"},0,0,0,0,0,0,1,1,1,1,1,1,0,0,0,0,0,0,false,false,false,false,false,false,false,1,1,1,1,1,1,0,0,0,0,0,0,0,1,1,0,0,0,0,0]
["1963-10-01","2010-10-31","2000-03-01","2010-10-31",true,0,0,1,0,false,{"$error":"#DIV/0!"},"2010-10-31",{"$error":"#DIV/0!"},"2010-10-31",{"$error":"#DIV/0!"},1,1,1,1,1,1,{"$error":"#REF!"},{"$error":"#REF!"},{"$error":"#REF!"},{"$error":"#REF!"},{"$error":"#N/A"},{"$error":"#N/A"},0,0,0,0,0,0,1,1,1,1,1,1,0,0,0,0,0,0,false,false,false,false,false,false,false,1,1,1,1,1,1,0,0,0,0,0,0,0,1,1,0,0,0,0,0]
["1963-11-01","2010-11-30","2000-03-08","2010-11-30",true,0,0,1,0,false,{"$error":"#DIV/0!"},"2010-11-30",{"$error":"#DIV/0!"},"2010-11-30",{"$error":"#DIV/0!"},1,1,1,1,1,1,{"$error":"#REF!"},{"$error":"#REF!"},{"$error":"#REF!"},{"$error":"#REF!"},{"$error":"#N/A"},{"$error":"#N/A"},0,0,0,0,0,0,1,1,1,1,1,1,0,0,0,0,0,0,false,false,false,false,false,false,false,1,1,1,1,1,1,0,0,0,0,0,0,0,1,1,0,0,0,0,0]
["1963-12-01","2010-12-31","2000-03-15","2010-12-31",true,0,0,1,0,false,{"$error":"#DIV/0!"},"2010-12-31",{"$error":"#DIV/0!"},"2010-12-31",{"$error":"#DIV/0!"},1,1,1,1,1,1,{"$error":"#REF!"},{"$error":"#REF!"},{"$error":"#REF!"},{"$error":"#REF!"},{"$error":"#N/A"},{"$error":"#N/A"},0,0,0,0,0,0,1,1,1,1,1,1,0,0,0,0,0,0,false,false,false,false,false,false,false,1,1,1,1,1,1,0,0,0,0,0,0,0,1,1,0,0,0,0,0]
["1964-01-01","2011-01-31","2000-03-22","2011-01-31",true,0,0,1,0,false,{"$error":"#DIV/0!"},"2011-01-31",{"$error":"#DIV/0!"},"2011-01-31",{"$error":"#DIV/0!"},1,1,1,1,1,1,{"$error":"#REF!"},{"$error":"#REF!"},{"$error":"#REF!"},{"$error":"#REF!"},{"$error":"#N/A"},{"$error":"#N/A"},0,0,0,0,0,0,1,1,1,1,1,1,0,0,0,0,0,0,false,false,false,false,false,false,false,1,1,1,1,1,1,0,0,0,0,0,0,0,1,1,0,0,0,0,0]
["1964-02-01","2011-02-28","2000-03-29","2011-02-28",true,0,0,1,0,false,{"$error":"#DIV/0!"},"2011-02-28",{"$error":"#DIV/0!"},"2011-02-28",{"$error":"#DIV/0!"},1,1,1,1,1,1,{"$error":"#REF!"},{"$error":"#REF!"},{"$error":"#REF!"},{"$error":"#REF!"},{"$error":"#N/A"},{"$error":"#N/A"},0,0,0,0,0,0,1,1,1,1,1,1,0,0,0,0,0,0,false,false,false,false,false,false,false,1,1,1,1,1,1,0,0,0,0,0,0,0,1,1,0,0,0,0,0]
["1964-03-01","2011-03-31","2000-04-05","2011-03-31",true,0,0,1,0,false,{"$error":"#DIV/0!"},"2011-03-31",{"$error":"#DIV/0!"},"2011-03-31",{"$error":"#DIV/0!"},1,1,1,1,1,1,{"$error":"#REF!"},{"$error":"#REF!"},{"$error":"#REF!"},{"$error":"#REF!"},{"$error":"#N/A"},{"$error":"#N/A"},0,0,0,0,0,0,1,1,1,1,1,1,0,0,0,0,0,0,false,false,false,false,false,false,false,1,1,1,1,1,1,0,0,0,0,0,0,0,1,1,0,0,0,0,0]
["1964-04-01","2011-04-30","2000-04-12","2011-04-30",true,0,0,1,0,false,{"$error":"#DIV/0!"},"2011-04-30",{"$error":"#DIV/0!"},"2011-04-30",{"$error":"#DIV/0!"},1,1,1,1,1,1,{"$error":"#REF!"},{"$error":"#REF!"},{"$error":"#REF!"},{"$error":"#REF!"},{"$error":"#N/A"},{"$error":"#N/A"},0,0,0,0,0,0,1,1,1,1,1,1,0,0,0,0,0,0,false,false,false,false,false,false,false,1,1,1,1,1,1,0,0,0,0,0,0,0,1,1,0,0,0,0,0]
["1964-05-01","2011-05-31","2000-04-19","2011-05-31",true,0,0,1,0,false,{"$error":"#DIV/0!"},"2011-05-31",{"$error":"#DIV/0!"},"2011-05-31",{"$error":"#DIV/0!"},1,1,1,1,1,1,{"$error":"#REF!"},{"$error":"#REF!"},{"$error":"#REF!"},{"$error":"#REF!"},{"$error":"#N/A"},{"$error":"#N/A"},0,0,0,0,0,0,1,1,1,1,1,1,0,0,0,0,0,0,false,false,false,false,false,false,false,1,1,1,1,1,1,0,0,0,0,0,0,0,1,1,0,0,0,0,0]
["1964-06-01","2011-06-30","2000-04-26","2011-06-30",true,0,0,1,0,false,{"$error":"#DIV/0!"},"2011-06-30",{"$error":"#DIV/0!"},"2011-06-30",{"$error":"#DIV/0!"},1,1,1,1,1,1,{"$error":"#REF!"},{"$error":"#REF!"},{"$error":"#REF!"},{"$error":"#REF!"},{"$error":"#N/A"},{"$error":"#N/A"},0,0,0,0,0,0,1,1,1,1,1,1,0,0,0,0,0,0,false,false,false,false,false,false,false,1,1,1,1,1,1,0,0,0,0,0,0,0,1,1,0,0,0,0,0]
["1964-07-01","2011-07-31","2000-05-03","2011-07-31",true,0,0,1,0,false,{"$error":"#DIV/0!"},"2011-07-31",{"$error":"#DIV/0!"},"2011-07-31",{"$error":"#DIV/0!"},1,1,1,1,1,1,{"$error":"#REF!"},{"$error":"#REF!"},{"$error":"#REF!"},{"$error":"#REF!"},{"$error":"#N/A"},{"$error":"#N/A"},0,0,0,0,0,0,1,1,1,1,1,1,0,0,0,0,0,0,false,false,false,false,false,false,false,1,1,1,1,1,1,0,0,0,0,0,0,0,1,1,0,0,0,0,0]
["1964-08-01","2011-08-31","2000-05-10","2011-08-31",true,0,0,1,0,false,{"$error":"#DIV/0!"},"2011-08-31",{"$error":"#DIV/0!"},"2011-08-31",{"$error":"#DIV/0!"},1,1,1,1,1,1,{"$error":"#REF!"},{"$error":"#REF!"},{"$error":"#REF!"},{"$error":"#REF!"},{"$error":"#N/A"},{"$error":"#N/A"},0,0,0,0,0,0,1,1,1,1,1,1,0,0,0,0,0,0,false,false,false,false,false,false,false,1,1,1,1,1,1,0,0,0,0,0,0,0,1,1,0,0,0,0,0]
["1964-09-01","2011-09-30","2000-05-17","2011-09-30",true,0,0,1,0,false,{"$error":"#DIV/0!"},"2011-09-30",{"$error":"#DIV/0!"},"2011-09-30",{"$error":"#DIV/0!"},1,1,1,1,1,1,{"$error":"#REF!"},{"$error":"#REF!"},{"$error":"#REF!"},{"$error":"#REF!"},{"$error":"#N/A"},{"$error":"#N/A"},0,0,0,0,0,0,1,1,1,1,1,1,0,0,0,0,0,0,false,false,false,false,false,false,false,1,1,1,1,1,1,0,0,0,0,0,0,0,1,1,0,0,0,0,0]
["1964-10-01","2011-10-31","2000-05-24","2011-10-31",true,0,0,1,0,false,{"$error":"#DIV/0!"},"2011-10-31",{"$error":"#DIV/0!"},"2011-10-31",{"$error":"#DIV/0!"},1,1,1,1,1,1,{"$error":"#REF!"},{"$error":"#REF!"},{"$error":"#REF!"},{"$error":"#REF!"},{"$error":"#N/A"},{"$error":"#N/A"},0,0,0,0,0,0,1,1,1,1,1,1,0,0,0,0,0,0,false,false,false,false,false,false,false,1,1,1,1,1,1,0,0,0,0,0,0,0,1,1,0,0,0,0,0]
["1964-11-01","2011-11-30","2000-05-31","2011-11-30",true,0,0,1,0,false,{"$error":"#DIV/0!"},"2011-11-30",{"$error":"#DIV/0!"},"2011-11-30",{"$error":"#DIV/0!"},1,1,1,1,1,1,{"$error":"#REF!"},{"$error":"#REF!"},{"$error":"#REF!"},{"$error":"#REF!"},{"$error":"#N/A"},{"$error":"#N/A"},0,0,0,0,0,0,1,1,1,1,1,1,0,0,0,0,0,0,false,false,false,false,false,false,false,1,1,1,1,1,1,0,0,0,0,0,0,0,1,1,0,0,0,0,0]
["1964-12-01","2011-12-31","2000-06-07","2011-12-31",true,0,0,1,0,false,{"$error":"#DIV/0!"},"2011-12-31",{"$error":"#DIV/0!"},"2011-12-31",{"$error":"#DIV/0!"},1,1,1,1,1,1,{"$error":"#REF!"},{"$error":"#REF!"},{"$error":"#REF!"},{"$error":"#REF!"},{"$error":"#N/A"},{"$error":"#N/A"},0,0,0,0,0,0,1,1,1,1,1,1,0,0,0,0,0,0,false,false,false,false,false,false,false,1,1,1,1,1,1,0,0,0,0,0,0,0,1,1,0,0,0,0,0]
["1965-01-01","2012-01-31","2000-06-14","2012-01-31",true,0,0,1,0,false,{"$error":"#DIV/0!"},"2012-01-31",{"$error":"#DIV/0!"},"2012-01-31",{"$error":"#DIV/0!"},1,1,1,1,1,1,{"$error":"#REF!"},{"$error":"#REF!"},{"$error":"#REF!"},{"$error":"#REF!"},{"$error":"#N/A"},{"$error":"#N/A"},0,0,0,0,0,0,1,1,1,1,1,1,0,0,0,0,0,0,false,false,false,false,false,false,false,1,1,1,1,1,1,0,0,0,0,0,0,0,1,1,0,0,0,0,0]
["1965-02-01","2012-02-29","2000-06-21","2012-02-29",true,0,0,1,0,false,{"$error":"#DIV/0!"},"2012-02-29",{"$error":"#DIV/0!"},"2012-02-29",{"$error":"#DIV/0!"},1,1,1,1,1,1,{"$error":"#REF!"},{"$error":"#REF!"},{"$error":"#REF!"},{"$error":"#REF!"},{"$error":"#N/A"},{"$error":"#N/A"},0,0,0,0,0,0,1,1,1,1,1,1,0,0,0,0,0,0,false,false,false,false,false,false,false,1,1,1,1,1,1,0,0,0,0,0,0,0,1,1,0,0,0,0,0]
["1965-03-01","2012-03-31","2000-06-28","2012-03-31",true,0,0,1,0,false,{"$error":"#DIV/0!"},"2012-03-31",{"$error":"#DIV/0!"},"2012-03-31",{"$error":"#DIV/0!"},1,1,1,1,1,1,{"$error":"#REF!"},{"$error":"#REF!"},{"$error":"#REF!"},{"$error":"#REF!"},{"$error":"#N/A"},{"$error":"#N/A"},0,0,0,0,0,0,1,1,1,1,1,1,0,0,0,0,0,0,false,false,false,false,false,false,false,1,1,1,1,1,1,0,0,0,0,0,0,0,1,1,0,0,0,0,0]
["1965-04-01","2012-04-30","2000-07-05","2012-04-30",true,0,0,1,0,false,{"$error":"#DIV/0!"},"2012-04-30",{"$error":"#DIV/0!"},"2012-04-30",{"$error":"#DIV/0!"},1,1,1,1,1,1,{"$error":"#REF!"},{"$error":"#REF!"},{"$error":"#REF!"},{"$error":"#REF!"},{"$error":"#N/A"},{"$error":"#N/A"},0,0,0,0,0,0,1,1,1,1,1,1,0,0,0,0,0,0,false,false,false,false,false,false,false,1,1,1,1,1,1,0,0,0,0,0,0,0,1,1,0,0,0,0,0]
["1965-05-01","2012-05-31","2000-07-12","2012-05-31",true,0,0,1,0,false,{"$error":"#DIV/0!"},"2012-05-31",{"$error":"#DIV/0!"},"2012-05-31",{"$error":"#DIV/0!"},1,1,1,1,1,1,{"$error":"#REF!"},{"$error":"#REF!"},{"$error":"#REF!"},{"$error":"#REF!"},{"$error":"#N/A"},{"$error":"#N/A"},0,0,0,0,0,0,1,1,1,1,1,1,0,0,0,0,0,0,false,false,false,false,false,false,false,1,1,1,1,1,1,0,0,0,0,0,0,0,1,1,0,0,0,0,0]
["1965-06-01","2012-06-30","2000-07-19","2012-06-30",true,0,0,1,0,false,{"$error":"#DIV/0!"},"2012-06-30",{"$error":"#DIV/0!"},"2012-06-30",{"$error":"#DIV/0!"},1,1,1,1,1,1,{"$error":"#REF!"},{"$error":"#REF!"},{"$error":"#REF!"},{"$error":"#REF!"},{"$error":"#N/A"},{"$error":"#N/A"},0,0,0,0,0,0,1,1,1,1,1,1,0,0,0,0,0,0,false,false,false,false,false,false,false,1,1,1,1,1,1,0,0,0,0,0,0,0,1,1,0,0,0,0,0]
["1965-07-01","2012-07-31","2000-07-26","2012-07-31",true,0,0,1,0,false,{"$error":"#DIV/0!"},"2012-07-31",{"$error":"#DIV/0!"},"2012-07-31",{"$error":"#DIV/0!"},1,1,1,1,1,1,{"$error":"#REF!"},{"$error":"#REF!"},{"$error":"#REF!"},{"$error":"#REF!"},{"$error":"#N/A"},{"$error":"#N/A"},0,0,0,0,0,0,1,1,1,1,1,1,0,0,0,0,0,0,false,false,false,false,false,false,false,1,1,1,1,1,1,0,0,0,0,0,0,0,1,1,0,0,0,0,0]
["1965-08-01","2012-08-31","2000-08-02","2012-08-31",true,0,0,1,0,false,{"$error":"#DIV/0!"},"2012-08-31",{"$error":"#DIV/0!"},"2012-08-31",{"$error":"#DIV/0!"},1,1,1,1,1,1,{"$error":"#REF!"},{"$error":"#REF!"},{"$error":"#REF!"},{"$error":"#REF!"},{"$error":"#N/A"},{"$error":"#N/A"},0,0,0,0,0,0,1,1,1,1,1,1,0,0,0,0,0,0,false,false,false,false,false,false,false,1,1,1,1,1,1,0,0,0,0,0,0,0,1,1,0,0,0,0,0]
["1965-09-01","2012-09-30","2000-08-09","2012-09-30",true,0,0,1,0,false,{"$error":"#DIV/0!"},"2012-09-30",{"$error":"#DIV/0!"},"2012-09-30",{"$error":"#DIV/0!"},1,1,1,1,1,1,{"$error":"#REF!"},{"$error":"#REF!"},{"$error":"#REF!"},{"$error":"#REF!"},{"$error":"#N/A"},{"$error":"#N/A"},0,0,0,0,0,0,1,1,1,1,1,1,0,0,0,0,0,0,false,false,false,false,false,false,false,1,1,1,1,1,1,0,0,0,0,0,0,0,1,1,0,0,0,0,0]
["1965-10-01","2012-10-31","2000-08-16","2012-10-31",true,0,0,1,0,false,{"$error":"#DIV/0!"},"2012-10-31",{"$error":"#DIV/0!"},"2012-10-31",{"$error":"#DIV/0!"},1,1,1,1,1,1,{"$error":"#REF!"},{"$error":"#REF!"},{"$error":"#REF!"},{"$error":"#REF!"},{"$error":"#N/A"},{"$error":"#N/A"},0,0,0,0,0,0,1,1,1,1,1,1,0,0,0,0,0,0,false,false,false,false,false,false,false,1,1,1,1,1,1,0,0,0,0,0,0,0,1,1,0,0,0,0,0]
["1965-11-01","2012-11-30","2000-08-23","2012-11-30",true,0,0,1,0,false,{"$error":"#DIV/0!"},"2012-11-30",{"$error":"#DIV/0!"},"2012-11-30",{"$error":"#DIV/0!"},1,1,1,1,1,1,{"$error":"#REF!"},{"$error":"#REF!"},{"$error":"#REF!"},{"$error":"#REF!"},{"$error":"#N/A"},{"$error":"#N/A"},0,0,0,0,0,0,1,1,1,1,1,1,0,0,0,0,0,0,false,false,false,false,false,false,false,1,1,1,1,1,1,0,0,0,0,0,0,0,1,1,0,0,0,0,0]
["1965-12-01","2012-12-31","2000-08-30","2012-12-31",true,0,0,1,0,false,{"$error":"#DIV/0!"},"2012-12-31",{"$error":"#DIV/0!"},"2012-12-31",{"$error":"#DIV/0!"},1,1,1,1,1,1,{"$error":"#REF!"},{"$error":"#REF!"},{"$error":"#REF!"},{"$error":"#REF!"},{"$error":"#N/A"},{"$error":"#N/A"},0,0,0,0,0,0,1,1,1,1,1,1,0,0,0,0,0,0,false,false,false,false,false,false,false,1,1,1,1,1,1,0,0,0,0,0,0,0,1,1,0,0,0,0,0]
["1966-01-01","2013-01-31","2000-09-06","2013-01-31",true,0,0,1,0,false,{"$error":"#DIV/0!"},"2013-01-31",{"$error":"#DIV/0!"},"2013-01-31",{"$error":"#DIV/0!"},1,1,1,1,1,1,{"$error":"#REF!"},{"$error":"#REF!"},{"$error":"#REF!"},{"$error":"#REF!"},{"$error":"#N/A"},{"$error":"#N/A"},0,0,0,0,0,0,1,1,1,1,1,1,0,0,0,0,0,0,false,false,false,false,false,false,false,1,1,1,1,1,1,0,0,0,0,0,0,0,1,1,0,0,0,0,0]
["1966-02-01",{"$f":"IF(B202<=$D$2,EOMONTH(B202,1))","v":"2013-02-28"},"2000-09-13","2013-02-28",true,{"$f":"LOOKUP(D203,A:A,G:G)","v":0},{"$f":"IFERROR(LOOKUP($A203,INDIRECT(\"'\"&G$7&\"'!A:A\"),INDIRECT(\"'\"&G$7&\"'!\"&$G$9&\":\"&$G$9)),0)","v":0},{"$f":"IF(H$8,INDEX($BN203:$BT203,H$8),1)","v":1},{"$f":"IF(ISNUMBER(F203),F203,I204)*H203","v":0},false,{"$error":"#DIV/0!"},"2013-02-28",{"$error":"#DIV/0!"},"2013-02-28",{"$error":"#DIV/0!"},1,1,1,1,1,1,{"$f":"LOOKUP($A203,INDIRECT(\"'\"&V$5&\"'!A:A\"),INDIRECT(\"'\"&V$5&\"'!\"&V$7&\":\"&V$7))","v":{"$error":"#REF!"}},{"$error":"#REF!"},{"$error":"#REF!"},{"$error":"#REF!"},{"$error":"#N/A"},{"$error":"#N/A"},{"$f":"IF(ISNUMBER(LOOKUP($D203,$A:$A,V:V)),LOOKUP($D203,$A:$A,V:V),AB202)","v":0},{"$f":"IF(ISNUMBER(LOOKUP($D203,$A:$A,W:W)),LOOKUP($D203,$A:$A,W:W),AC202)","v":0},{"$f":"IF(ISNUMBER(LOOKUP($D203,$A:$A,X:X)),LOOKUP($D203,$A:$A,X:X),AD202)","v":0},{"$f":"IF(ISNUMBER(LOOKUP($D203,$A:$A,Y:Y)),LOOKUP($D203,$A:$A,Y:Y),AE202)","v":0},{"$f":"IF(ISNUMBER(LOOKUP($D203,$A:$A,Z:Z)),LOOKUP($D203,$A:$A,Z:Z),AF202)","v":0},{"$f":"IF(ISNUMBER(LOOKUP($D203,$A:$A,AA:AA)),LOOKUP($D203,$A:$A,AA:AA),AG202)","v":0},1,1,1,1,1,1,{"$f":"IFERROR(IF(ISNUMBER(AB203)>0.1,AB203,AN204)*AH203,AN204)","v":0},{"$f":"IFERROR(IF(ISNUMBER(AC203)>0.1,AC203,AO204)*AI203,AO204)","v":0},{"$f":"IFERROR(IF(ISNUMBER(AD203)>0.1,AD203,AP204)*AJ203,AP204)","v":0},{"$f":"IFERROR(IF(ISNUMBER(AE203)>0.1,AE203,AQ204)*AK203,AQ204)","v":0},{"$f":"IFERROR(IF(ISNUMBER(AF203)>0.1,AF203,AR204)*AL203,AR204)","v":0},{"$f":"IF(ISNUMBER(AG203)>0.1,AG203,AS204)","v":0},false,{"$f":"IF(E203,IFERROR(LN(AN203/AN202),FALSE))","v":false},{"$f":"IF(E203,IFERROR(LN(AO203/AO202),FALSE))","v":false},{"$f":"IF(E203,IFERROR(LN(AP203/AP202),FALSE))","v":false},{"$f":"IF(E203,IFERROR(LN(AQ203/AQ202),FALSE))","v":false},{"$f":"IF(E203,IFERROR(LN(AR203/AR202),FALSE))","v":false},{"$f":"IF(E203,IFERROR(LN(AS203/AS202),FALSE))","v":false},1,1,1,1,1,1,{"$f":"IFERROR(LOOKUP($A203,INDIRECT(\"'\"&BN$6&\"'!A:A\"),INDIRECT(\"'\"&BN$6&\"'!\"&BN$7&\":\"&BN$7)),0)","v":0},{"$f":"IFERROR(LOOKUP($A203,INDIRECT(\"'\"&BO$6&\"'!A:A\"),INDIRECT(\"'\"&BO$6&\"'!\"&BO$7&\":\"&BO$7)),0)","v":0},{"$f":"IFERROR(LOOKUP($A203,INDIRECT(\"'\"&BP$6&\"'!A:A\"),INDIRECT(\"'\"&BP$6&\"'!\"&BP$7&\":\"&BP$7)),0)","v":0},{"$f":"IFERROR(LOOKUP($A203,INDIRECT(\"'\"&BQ$6&\"'!A:A\"),INDIRECT(\"'\"&BQ$6&\"'!\"&BQ$7&\":\"&BQ$7)),0)","v":0},{"$f":"IFERROR(LOOKUP($A203,INDIRECT(\"'\"&BR$6&\"'!A:A\"),INDIRECT(\"'\"&BR$6&\"'!\"&BR$7&\":\"&BR$7)),0)","v":0},{"$f":"IFERROR(LOOKUP($A203,INDIRECT(\"'\"&BS$6&\"'!A:A\"),INDIRECT(\"'\"&BS$6&\"'!\"&BS$7&\":\"&BS$7)),0)","v":0},{"$f":"IFERROR(LOOKUP($A203,INDIRECT(\"'\"&BT$6&\"'!A:A\"),INDIRECT(\"'\"&BT$6&\"'!\"&BT$7&\":\"&BT$7)),0)","v":0},{"$f":"IFERROR(1/IFERROR(LOOKUP($D203,$A:$A,BG:BG)*1,0),1)","v":1},{"$f":"IFERROR(1/IFERROR(LOOKUP($D203,$A:$A,BH:BH)*1,0),1)","v":1},0,0,0,0,0]
["1966-03-01","2013-03-31",{"$f":"IF(C203<=$D$2,C203+7)","v":"2000-09-20"},"2013-03-31",{"$f":"AND(D204>=$D$4,D203<=$D$2)","v":true},0,0,1,0,{"$f":"IFERROR(LN(I204/I203),FALSE)","v":false},{"$error":"#DIV/0!"},"2013-03-31",{"$error":"#DIV/0!"},"2013-03-31",{"$error":"#DIV/0!"},1,1,1,1,1,1,{"$error":"#REF!"},{"$error":"#REF!"},{"$error":"#REF!"},{"$error":"#REF!"},{"$error":"#N/A"},{"$error":"#N/A"},0,0,0,0,0,0,1,1,1,1,1,1,0,0,0,0,0,0,false,false,false,false,false,false,false,{"$f":"IFERROR(IF($E204,BA203*AN204/AN203,1),1)","v":1},{"$f":"IFERROR(IF($E204,BB203*AO204/AO203,1),1)","v":1},{"$f":"IFERROR(IF($E204,BC203*AP204/AP203,1),1)","v":1},{"$f":"IFERROR(IF($E204,BD203*AQ204/AQ203,1),1)","v":1},{"$f":"IFERROR(IF($E204,BE203*AR204/AR203,1),1)","v":1},{"$f":"IFERROR(IF($E204,BF203*AS204/AS203,1),1)","v":1},0,0,0,0,0,0,0,1,1,{"$f":"IFERROR(LOOKUP($D204,$A:$A,BI:BI)*1,BP203)","v":0},{"$f":"IFERROR(LOOKUP($D204,$A:$A,BJ:BJ)*1,BQ203)","v":0},{"$f":"IFERROR(LOOKUP($D204,$A:$A,BK:BK)*1,BR203)","v":0},{"$f":"IFERROR(LOOKUP($D204,$A:$A,BL:BL)*1,BS203)","v":0},{"$f":"IFERROR(LOOKUP($D204,$A:$A,BM:BM)*1,BT203)","v":0}]
["1966-04-01","2013-04-30","2000-09-27",{"$f":"IF($D$6,C205,B205)","v":"2013-04-30"},true,0,0,1,0,false,{"$f":"IF($E205,(K204*I205/I204),1)","v":{"$error":"#DIV/0!"}},{"$f":"IF(E205,D205,NA())","v":"2013-04-30"},{"$f":"CHOOSE($M$1,I205,J205,K205)","v":{"$error":"#DIV/0!"}},{"$f":"L205","v":"2013-04-30"},{"$f":"M205","v":{"$error":"#DIV/0!"}},{"$f":"IFERROR(CHOOSE($M$1,AN205,AU205,BA205),1)","v":1},{"$f":"IFERROR(CHOOSE($M$1,AO205,AV205,BB205),1)","v":1},{"$f":"IFERROR(CHOOSE($M$1,AP205,AW205,BC205),1)","v":1},{"$f":"IFERROR(CHOOSE($M$1,AQ205,AX205,BD205),1)","v":1},{"$f":"IFERROR(CHOOSE($M$1,AR205,AY205,BE205),1)","v":1},{"$f":"IFERROR(CHOOSE($M$1,AS205,AZ205,BF205),1)","v":1},{"$error":"#REF!"},{"$error":"#REF!"},{"$error":"#REF!"},{"$error":"#REF!"},{"$error":"#N/A"},{"$error":"#N/A"},0,0,0,0,0,0,1,1,1,1,1,1,0,0,0,0,0,0,{"$f":"J205","v":false},false,false,false,false,false,false,1,1,1,1,1,1,0,0,0,0,0,0,0,1,1,0,0,0,0,0]
["1966-05-01","2013-05-31","2000-10-04","2013-05-31",true,0,0,1,0,false,{"$error":"#DIV/0!"},"2013-05-31",{"$error":"#DIV/0!"},"2013-05-31",{"$error":"#DIV/0!"},1,1,1,1,1,1,{"$error":"#REF!"},{"$error":"#REF!"},{"$error":"#REF!"},{"$error":"#REF!"},{"$error":"#N/A"},{"$error":"#N/A"},0,0,0,0,0,0,1,1,1,1,1,1,0,0,0,0,0,0,false,false,false,false,false,false,false,1,1,1,1,1,1,0,0,0,0,0,0,0,1,1,0,0,0,0,0]
["1966-06-01","2013-06-30","2000-10-11","2013-06-30",true,0,0,1,0,false,{"$error":"#DIV/0!"},"2013-06-30",{"$error":"#DIV/0!"},"2013-06-30",{"$error":"#DIV/0!"},1,1,1,1,1,1,{"$error":"#REF!"},{"$error":"#REF!"},{"$error":"#REF!"},{"$error":"#REF!"},{"$error":"#N/A"},{"$error":"#N/A"},0,0,0,0,0,0,1,1,1,1,1,1,0,0,0,0,0,0,false,false,false,false,false,false,false,1,1,1,1,1,1,0,0,0,0,0,0,0,1,1,0,0,0,0,0]
["1966-07-01","2013-07-31","2000-10-18","2013-07-31",true,0,0,1,0,false,{"$error":"#DIV/0!"},"2013-07-31",{"$error":"#DIV/0!"},"2013-07-31",{"$error":"#DIV/0!"},1,1,1,1,1,1,{"$error":"#REF!"},{"$error":"#REF!"},{"$error":"#REF!"},{"$error":"#REF!"},{"$error":"#N/A"},{"$error":"#N/A"},0,0,0,0,0,0,1,1,1,1,1,1,0,0,0,0,0,0,false,false,false,false,false,false,false,1,1,1,1,1,1,0,0,0,0,0,0,0,1,1,0,0,0,0,0]
["1966-08-01","2013-08-31","2000-10-25","2013-08-31",true,0,0,1,0,false,{"$error":"#DIV/0!"},"2013-08-31",{"$error":"#DIV/0!"},"2013-08-31",{"$error":"#DIV/0!"},1,1,1,1,1,1,{"$error":"#REF!"},{"$error":"#REF!"},{"$error":"#REF!"},{"$error":"#REF!"},{"$error":"#N/A"},{"$error":"#N/A"},0,0,0,0,0,0,1,1,1,1,1,1,0,0,0,0,0,0,false,false,false,false,false,false,false,1,1,1,1,1,1,0,0,0,0,0,0,0,1,1,0,0,0,0,0]
["1966-09-01","2013-09-30","2000-11-01","2013-09-30",true,0,0,1,0,false,{"$error":"#DIV/0!"},"2013-09-30",{"$error":"#DIV/0!"},"2013-09-30",{"$error":"#DIV/0!"},1,1,1,1,1,1,{"$error":"#REF!"},{"$error":"#REF!"},{"$error":"#REF!"},{"$error":"#REF!"},{"$error":"#N/A"},{"$error":"#N/A"},0,0,0,0,0,0,1,1,1,{"$f":"IF(AK$7,INDEX($BN210:$BT210,AK$7),1)","v":1},1,1,0,0,0,0,0,0,false,false,false,false,false,false,false,1,1,1,1,1,1,0,0,0,0,0,0,0,1,1,0,0,0,0,0]
["1966-10-01","2013-10-31","2000-11-08","2013-10-31",true,0,0,1,0,false,{"$error":"#DIV/0!"},"2013-10-31",{"$error":"#DIV/0!"},"2013-10-31",{"$error":"#DIV/0!"},1,1,1,1,1,1,{"$error":"#REF!"},{"$error":"#REF!"},{"$error":"#REF!"},{"$error":"#REF!"},{"$error":"#N/A"},{"$error":"#N/A"},0,0,0,0,0,0,1,1,1,1,1,1,0,0,0,0,0,0,false,false,false,false,false,false,false,1,1,1,1,1,1,0,0,0,0,0,0,0,1,1,0,0,0,0,0]
["1966-11-01","2013-11-30","2000-11-15","2013-11-30",true,0,0,1,0,false,{"$error":"#DIV/0!"},"2013-11-30",{"$error":"#DIV/0!"},"2013-11-30",{"$error":"#DIV/0!"},1,1,1,1,1,1,{"$error":"#REF!"},{"$error":"#REF!"},{"$error":"#REF!"},{"$error":"#REF!"},{"$error":"#N/A"},{"$error":"#N/A"},0,0,0,0,0,0,1,1,1,1,1,1,0,0,0,0,0,0,false,false,false,false,false,false,false,1,1,1,1,1,1,0,0,0,0,0,0,0,1,1,0,0,0,0,0]
["1966-12-01","2013-12-31","2000-11-22","2013-12-31",true,0,0,1,0,false,{"$error":"#DIV/0!"},"2013-12-31",{"$error":"#DIV/0!"},"2013-12-31",{"$error":"#DIV/0!"},1,1,1,1,1,1,{"$error":"#REF!"},{"$error":"#REF!"},{"$error":"#REF!"},{"$error":"#REF!"},{"$error":"#N/A"},{"$error":"#N/A"},0,0,0,0,0,0,1,1,1,1,1,1,0,0,0,0,0,0,false,false,false,false,false,false,false,1,1,1,1,1,1,0,0,0,0,0,0,0,1,1,0,0,0,0,0]
["1967-01-01","2014-01-31","2000-11-29","2014-01-31",true,0,0,1,0,false,{"$error":"#DIV/0!"},"2014-01-31",{"$error":"#DIV/0!"},"2014-01-31",{"$error":"#DIV/0!"},1,1,1,1,1,1,{"$error":"#REF!"},{"$error":"#REF!"},{"$error":"#REF!"},{"$error":"#REF!"},{"$error":"#N/A"},{"$error":"#N/A"},0,0,0,0,0,0,1,1,1,1,1,1,0,0,0,0,0,0,false,false,false,false,false,false,false,1,1,1,1,1,1,0,0,0,0,0,0,0,1,1,0,0,0,0,0]
["1967-02-01","2014-02-28","2000-12-06","2014-02-28",true,0,0,1,0,false,{"$error":"#DIV/0!"},"2014-02-28",{"$error":"#DIV/0!"},"2014-02-28",{"$error":"#DIV/0!"},1,1,1,1,1,1,{"$error":"#REF!"},{"$error":"#REF!"},{"$error":"#REF!"},{"$error":"#REF!"},{"$error":"#N/A"},{"$error":"#N/A"},0,0,0,0,0,0,1,1,1,1,1,1,0,0,0,0,0,0,false,false,false,false,false,false,false,1,1,1,1,1,1,0,0,0,0,0,0,0,1,1,0,0,0,0,0]
["1967-03-01","2014-03-31","2000-12-13","2014-03-31",true,0,0,1,0,false,{"$error":"#DIV/0!"},"2014-03-31",{"$error":"#DIV/0!"},"2014-03-31",{"$error":"#DIV/0!"},1,1,1,1,1,1,{"$error":"#REF!"},{"$error":"#REF!"},{"$error":"#REF!"},{"$error":"#REF!"},{"$error":"#N/A"},{"$error":"#N/A"},0,0,0,0,0,0,1,1,1,1,1,1,0,0,0,0,0,0,false,false,false,false,false,false,false,1,1,1,1,1,1,0,0,0,0,0,0,0,1,1,0,0,0,0,0]
["1967-04-01","2014-04-30","2000-12-20","2014-04-30",true,0,0,1,0,false,{"$error":"#DIV/0!"},"2014-04-30",{"$error":"#DIV/0!"},"2014-04-30",{"$error":"#DIV/0!"},1,1,1,1,1,1,{"$error":"#REF!"},{"$error":"#REF!"},{"$error":"#REF!"},{"$error":"#REF!"},{"$error":"#N/A"},{"$error":"#N/A"},0,0,0,0,0,0,1,1,1,1,1,1,0,0,0,0,0,0,false,false,false,false,false,false,false,1,1,1,1,1,1,0,0,0,0,0,0,0,1,1,0,0,0,0,0]
["1967-05-01","2014-05-31","2000-12-27","2014-05-31",true,0,0,1,0,false,{"$error":"#DIV/0!"},"2014-05-31",{"$error":"#DIV/0!"},"2014-05-31",{"$error":"#DIV/0!"},1,1,1,1,1,1,{"$error":"#REF!"},{"$error":"#REF!"},{"$error":"#REF!"},{"$error":"#REF!"},{"$error":"#N/A"},{"$error":"#N/A"},0,0,0,0,0,0,1,1,1,1,1,1,0,0,0,0,0,0,false,false,false,false,false,false,false,1,1,1,1,1,1,0,0,0,0,0,0,0,1,1,0,0,0,0,0]
["1967-06-01","2014-06-30","2001-01-03","2014-06-30",true,0,0,1,0,false,{"$error":"#DIV/0!"},"2014-06-30",{"$error":"#DIV/0!"},"2014-06-30",{"$error":"#DIV/0!"},1,1,1,1,1,1,{"$error":"#REF!"},{"$error":"#REF!"},{"$error":"#REF!"},{"$f":"LOOKUP($A219,INDIRECT(\"'\"&Y$5&\"'!A:A\"),INDIRECT(\"'\"&Y$5&\"'!\"&Y$7&\":\"&Y$7))","v":{"$error":"#REF!"}},{"$error":"#N/A"},{"$error":"#N/A"},0,0,0,0,0,0,1,1,1,1,1,1,0,0,0,0,0,0,false,false,false,false,false,false,false,1,1,1,1,1,1,0,0,0,0,0,0,0,1,1,0,0,0,0,0]
["1967-07-01","2014-07-31","2001-01-10","2014-07-31",true,0,0,1,0,false,{"$error":"#DIV/0!"},"2014-07-31",{"$error":"#DIV/0!"},"2014-07-31",{"$error":"#DIV/0!"},1,1,1,1,1,1,{"$error":"#REF!"},{"$error":"#REF!"},{"$error":"#REF!"},{"$error":"#REF!"},{"$error":"#N/A"},{"$error":"#N/A"},0,0,0,0,0,0,1,1,1,1,1,1,0,0,0,0,0,0,false,false,false,false,false,false,false,1,1,1,1,1,1,0,0,0,0,0,0,0,1,1,0,0,0,0,0]
["1967-08-01","2014-08-31","2001-01-17","2014-08-31",true,0,0,1,0,false,{"$error":"#DIV/0!"},"2014-08-31",{"$error":"#DIV/0!"},"2014-08-31",{"$error":"#DIV/0!"},1,1,1,1,1,1,{"$error":"#REF!"},{"$error":"#REF!"},{"$error":"#REF!"},{"$error":"#REF!"},{"$error":"#N/A"},{"$error":"#N/A"},0,0,0,0,0,0,1,1,1,1,1,1,0,0,0,0,0,0,false,false,false,false,false,false,false,1,1,1,1,1,1,0,0,0,0,0,0,0,1,1,0,0,0,0,0]
["1967-09-01","2014-09-30","2001-01-24","2014-09-30",true,0,0,1,0,false,{"$error":"#DIV/0!"},"2014-09-30",{"$error":"#DIV/0!"},"2014-09-30",{"$error":"#DIV/0!"},1,1,1,1,1,1,{"$error":"#REF!"},{"$error":"#REF!"},{"$error":"#REF!"},{"$error":"#REF!"},{"$error":"#N/A"},{"$error":"#N/A"},0,0,0,0,0,0,1,1,1,1,1,1,0,0,0,0,0,0,false,false,false,false,false,false,false,1,1,1,1,1,1,0,0,0,0,0,0,0,1,1,0,0,0,0,0]
["1967-10-01","2014-10-31","2001-01-31","2014-10-31",true,0,0,1,0,false,{"$error":"#DIV/0!"},"2014-10-31",{"$error":"#DIV/0!"},"2014-10-31",{"$error":"#DIV/0!"},1,1,1,1,1,1,{"$error":"#REF!"},{"$error":"#REF!"},{"$error":"#REF!"},{"$error":"#REF!"},{"$error":"#N/A"},{"$error":"#N/A"},0,0,0,0,0,0,1,1,1,1,1,1,0,0,0,0,0,0,false,false,false,false,false,false,false,1,1,1,1,1,1,0,0,0,0,0,0,0,1,1,0,0,0,0,0]
["1967-11-01","2014-11-30","2001-02-07","2014-11-30",true,0,0,1,0,false,{"$error":"#DIV/0!"},"2014-11-30",{"$error":"#DIV/0!"},"2014-11-30",{"$error":"#DIV/0!"},1,1,1,1,1,1,{"$error":"#REF!"},{"$error":"#REF!"},{"$error":"#REF!"},{"$error":"#REF!"},{"$error":"#N/A"},{"$error":"#N/A"},0,0,0,0,0,0,1,1,1,1,1,1,0,0,0,0,0,0,false,false,false,false,false,false,false,1,1,1,1,1,1,0,0,0,0,0,0,0,1,1,0,0,0,0,0]
["1967-12-01","2014-12-31","2001-02-14","2014-12-31",true,0,0,1,0,false,{"$error":"#DIV/0!"},"2014-12-31",{"$error":"#DIV/0!"},"2014-12-31",{"$error":"#DIV/0!"},1,1,1,1,1,1,{"$error":"#REF!"},{"$error":"#REF!"},{"$error":"#REF!"},{"$error":"#REF!"},{"$error":"#N/A"},{"$error":"#N/A"},0,0,0,0,0,0,1,1,1,1,1,1,0,0,0,0,0,0,false,false,false,false,false,false,false,1,1,1,1,1,1,0,0,0,0,0,0,0,1,1,0,0,0,0,0]
["1968-01-01","2015-01-31","2001-02-21","2015-01-31",true,0,0,1,0,false,{"$error":"#DIV/0!"},"2015-01-31",{"$error":"#DIV/0!"},"2015-01-31",{"$error":"#DIV/0!"},1,1,1,1,1,1,{"$error":"#REF!"},{"$error":"#REF!"},{"$error":"#REF!"},{"$error":"#REF!"},{"$error":"#N/A"},{"$error":"#N/A"},0,0,0,0,0,0,1,1,1,1,1,1,0,0,0,0,0,0,false,false,false,false,false,false,false,1,1,1,1,1,1,0,0,0,0,0,0,0,1,1,0,0,0,0,0]
["1968-02-01","2015-02-28","2001-02-28","2015-02-28",true,0,0,1,0,false,{"$error":"#DIV/0!"},"2015-02-28",{"$error":"#DIV/0!"},"2015-02-28",{"$error":"#DIV/0!"},1,1,1,1,1,1,{"$error":"#REF!"},{"$error":"#REF!"},{"$error":"#REF!"},{"$error":"#REF!"},{"$error":"#N/A"},{"$error":"#N/A"},0,0,0,0,0,0,1,1,1,1,1,1,0,0,0,0,0,0,false,false,false,false,false,false,false,1,1,1,1,1,1,0,0,0,0,0,0,0,1,1,0,0,0,0,0]
["1968-03-01","2015-03-31","2001-03-07","2015-03-31",true,0,0,1,0,false,{"$error":"#DIV/0!"},"2015-03-31",{"$error":"#DIV/0!"},"2015-03-31",{"$error":"#DIV/0!"},1,1,1,1,1,1,{"$error":"#REF!"},{"$error":"#REF!"},{"$error":"#REF!"},{"$error":"#REF!"},{"$error":"#N/A"},{"$error":"#N/A"},0,0,0,0,0,0,1,1,1,1,1,1,0,0,0,0,0,0,false,false,false,false,false,false,false,1,1,1,1,1,1,0,0,0,0,0,0,0,1,1,0,0,0,0,0]
["1968-04-01","2015-04-30","2001-03-14","2015-04-30",true,0,0,1,0,false,{"$error":"#DIV/0!"},"2015-04-30",{"$error":"#DIV/0!"},"2015-04-30",{"$error":"#DIV/0!"},1,1,1,1,1,1,{"$error":"#REF!"},{"$error":"#REF!"},{"$error":"#REF!"},{"$error":"#REF!"},{"$error":"#N/A"},{"$error":"#N/A"},0,0,0,0,0,0,1,1,1,1,1,1,0,0,0,0,0,0,false,false,false,false,false,false,false,1,1,1,1,1,1,0,0,0,0,0,0,0,1,1,0,0,0,0,0]
["1968-05-01","2015-05-31","2001-03-21","2015-05-31",true,0,0,1,0,false,{"$error":"#DIV/0!"},"2015-05-31",{"$error":"#DIV/0!"},"2015-05-31",{"$error":"#DIV/0!"},1,1,1,1,1,1,{"$error":"#REF!"},{"$error":"#REF!"},{"$error":"#REF!"},{"$error":"#REF!"},{"$error":"#N/A"},{"$error":"#N/A"},0,0,0,0,0,0,1,1,1,1,1,1,0,0,0,0,0,0,false,false,false,false,false,false,false,1,1,1,1,1,1,0,0,0,0,0,0,0,1,1,0,0,0,0,0]
["1968-06-01","2015-06-30","2001-03-28","2015-06-30",true,0,0,1,0,false,{"$error":"#DIV/0!"},"2015-06-30",{"$error":"#DIV/0!"},"2015-06-30",{"$error":"#DIV/0!"},1,1,1,1,1,1,{"$error":"#REF!"},{"$error":"#REF!"},{"$error":"#REF!"},{"$error":"#REF!"},{"$error":"#N/A"},{"$error":"#N/A"},0,0,0,0,0,0,1,1,1,1,1,1,0,0,0,0,0,0,false,false,false,false,false,false,false,1,1,1,1,1,1,0,0,0,0,0,0,0,1,1,0,0,0,0,0]
["1968-07-01","2015-07-31","2001-04-04","2015-07-31",true,0,0,1,0,false,{"$error":"#DIV/0!"},"2015-07-31",{"$error":"#DIV/0!"},"2015-07-31",{"$error":"#DIV/0!"},1,1,1,1,1,1,{"$error":"#REF!"},{"$error":"#REF!"},{"$error":"#REF!"},{"$error":"#REF!"},{"$error":"#N/A"},{"$error":"#N/A"},0,0,0,0,0,0,1,1,1,1,1,1,0,0,0,0,0,0,false,false,false,false,false,false,false,1,1,1,1,1,1,0,0,0,0,0,0,0,1,1,0,0,0,0,0]
["1968-08-01","2015-08-31","2001-04-11","2015-08-31",true,0,0,1,0,false,{"$error":"#DIV/0!"},"2015-08-31",{"$error":"#DIV/0!"},"2015-08-31",{"$error":"#DIV/0!"},1,1,1,1,1,1,{"$error":"#REF!"},{"$error":"#REF!"},{"$error":"#REF!"},{"$error":"#REF!"},{"$error":"#N/A"},{"$error":"#N/A"},0,0,0,0,0,0,1,1,1,1,1,1,0,0,0,0,0,0,false,false,false,false,false,false,false,1,1,1,1,1,1,0,0,0,0,0,0,0,1,1,0,0,0,0,0]
["1968-09-01","2015-09-30","2001-04-18","2015-09-30",true,0,0,1,0,false,{"$error":"#DIV/0!"},"2015-09-30",{"$error":"#DIV/0!"},"2015-09-30",{"$error":"#DIV/0!"},1,1,1,1,1,1,{"$error":"#REF!"},{"$error":"#REF!"},{"$error":"#REF!"},{"$error":"#REF!"},{"$error":"#N/A"},{"$error":"#N/A"},0,0,0,0,0,0,1,1,1,1,1,1,0,0,0,0,0,0,false,false,false,false,false,false,false,1,1,1,1,1,1,0,0,0,0,0,0,0,1,1,0,0,0,0,0]
["1968-10-01","2015-10-31","2001-04-25","2015-10-31",true,0,0,1,0,false,{"$error":"#DIV/0!"},"2015-10-31",{"$error":"#DIV/0!"},"2015-10-31",{"$error":"#DIV/0!"},1,1,1,1,1,1,{"$error":"#REF!"},{"$error":"#REF!"},{"$error":"#REF!"},{"$error":"#REF!"},{"$error":"#N/A"},{"$error":"#N/A"},0,0,0,0,0,0,1,1,1,1,1,1,0,0,0,0,0,0,false,false,false,false,false,false,false,1,1,1,1,1,1,0,0,0,0,0,0,0,1,1,0,0,0,0,0]
["1968-11-01","2015-11-30","2001-05-02","2015-11-30",true,0,0,1,0,false,{"$error":"#DIV/0!"},"2015-11-30",{"$error":"#DIV/0!"},"2015-11-30",{"$error":"#DIV/0!"},1,1,1,1,1,1,{"$error":"#REF!"},{"$error":"#REF!"},{"$error":"#REF!"},{"$error":"#REF!"},{"$error":"#N/A"},{"$error":"#N/A"},0,0,0,0,0,0,1,1,1,1,1,1,0,0,0,0,0,0,false,false,false,false,false,false,false,1,1,1,1,1,1,0,0,0,0,0,0,0,1,1,0,0,0,0,0]
["1968-12-01","2015-12-31","2001-05-09","2015-12-31",true,0,0,1,0,false,{"$error":"#DIV/0!"},"2015-12-31",{"$error":"#DIV/0!"},"2015-12-31",{"$error":"#DIV/0!"},1,1,1,1,1,1,{"$error":"#REF!"},{"$error":"#REF!"},{"$error":"#REF!"},{"$error":"#REF!"},{"$error":"#N/A"},{"$error":"#N/A"},0,0,0,0,0,0,{"$f":"IF(AH$7,INDEX($BN237:$BT237,AH$7),1)","v":1},1,1,1,1,1,0,0,0,0,0,0,false,false,false,false,false,false,false,1,1,1,1,1,1,0,0,0,0,0,0,0,1,1,0,0,0,0,0]
["1969-01-01","2016-01-31","2001-05-16","2016-01-31",true,0,0,1,0,false,{"$error":"#DIV/0!"},"2016-01-31",{"$error":"#DIV/0!"},"2016-01-31",{"$error":"#DIV/0!"},1,1,1,1,1,1,{"$error":"#REF!"},{"$error":"#REF!"},{"$error":"#REF!"},{"$error":"#REF!"},{"$error":"#N/A"},{"$error":"#N/A"},0,0,0,0,0,0,1,1,1,1,1,1,0,0,0,0,0,0,false,false,false,false,false,false,false,1,1,1,1,1,1,0,0,0,0,0,0,0,1,1,0,0,0,0,0]
["1969-02-01","2016-02-29","2001-05-23","2016-02-29",true,0,0,1,0,false,{"$error":"#DIV/0!"},"2016-02-29",{"$error":"#DIV/0!"},"2016-02-29",{"$error":"#DIV/0!"},1,1,1,1,1,1,{"$error":"#REF!"},{"$error":"#REF!"},{"$error":"#REF!"},{"$error":"#REF!"},{"$error":"#N/A"},{"$error":"#N/A"},0,0,0,0,0,0,1,1,1,1,1,1,0,0,0,0,0,0,false,false,false,false,false,false,false,1,1,1,1,1,1,0,0,0,0,0,0,0,1,1,0,0,0,0,0]
["1969-03-01","2016-03-31","2001-05-30","2016-03-31",true,0,0,1,0,false,{"$error":"#DIV/0!"},"2016-03-31",{"$error":"#DIV/0!"},"2016-03-31",{"$error":"#DIV/0!"},1,1,1,1,1,1,{"$error":"#REF!"},{"$error":"#REF!"},{"$error":"#REF!"},{"$error":"#REF!"},{"$error":"#N/A"},{"$error":"#N/A"},0,0,0,0,0,0,1,1,1,1,1,1,0,0,0,0,0,0,false,false,false,false,false,false,false,1,1,1,1,1,1,0,0,0,0,0,0,0,1,1,0,0,0,0,0]
["1969-04-01","2016-04-30","2001-06-06","2016-04-30",true,0,0,1,0,false,{"$error":"#DIV/0!"},"2016-04-30",{"$error":"#DIV/0!"},"2016-04-30",{"$error":"#DIV/0!"},1,1,1,1,1,1,{"$error":"#REF!"},{"$error":"#REF!"},{"$error":"#REF!"},{"$error":"#REF!"},{"$error":"#N/A"},{"$error":"#N/A"},0,0,0,0,0,0,1,1,1,1,1,1,0,0,0,0,0,0,false,false,false,false,false,false,false,1,1,1,1,1,1,0,0,0,0,0,0,0,1,1,0,0,0,0,0]
["1969-05-01","2016-05-31","2001-06-13","2016-05-31",true,0,0,1,0,false,{"$error":"#DIV/0!"},"2016-05-31",{"$error":"#DIV/0!"},"2016-05-31",{"$error":"#DIV/0!"},1,1,1,1,1,1,{"$error":"#REF!"},{"$error":"#REF!"},{"$error":"#REF!"},{"$error":"#REF!"},{"$error":"#N/A"},{"$error":"#N/A"},0,0,0,0,0,0,1,1,1,1,1,1,0,0,0,0,0,0,false,false,false,false,false,false,false,1,1,1,1,1,1,0,0,0,0,0,0,0,1,1,0,0,0,0,0]
["1969-06-01","2016-06-30","2001-06-20","2016-06-30",true,0,0,1,0,false,{"$error":"#DIV/0!"},"2016-06-30",{"$error":"#DIV/0!"},"2016-06-30",{"$error":"#DIV/0!"},1,1,1,1,1,1,{"$error":"#REF!"},{"$error":"#REF!"},{"$error":"#REF!"},{"$error":"#REF!"},{"$error":"#N/A"},{"$error":"#N/A"},0,0,0,0,0,0,1,1,1,1,1,1,0,0,0,0,0,0,false,false,false,false,false,false,false,1,1,1,1,1,1,0,0,0,0,0,0,0,1,1,0,0,0,0,0]
["1969-07-01","2016-07-31","2001-06-27","2016-07-31",true,0,0,1,0,false,{"$error":"#DIV/0!"},"2016-07-31",{"$error":"#DIV/0!"},"2016-07-31",{"$error":"#DIV/0!"},1,1,1,1,1,1,{"$error":"#REF!"},{"$error":"#REF!"},{"$error":"#REF!"},{"$error":"#REF!"},{"$error":"#N/A"},{"$error":"#N/A"},0,0,0,0,0,0,1,1,1,1,1,1,0,0,0,0,0,0,false,false,false,false,false,false,false,1,1,1,1,1,1,0,0,0,0,0,0,0,1,1,0,0,0,0,0]
["1969-08-01","2016-08-31","2001-07-04","2016-08-31",true,0,0,1,0,false,{"$error":"#DIV/0!"},"2016-08-31",{"$error":"#DIV/0!"},"2016-08-31",{"$error":"#DIV/0!"},1,1,1,1,1,1,{"$error":"#REF!"},{"$error":"#REF!"},{"$error":"#REF!"},{"$error":"#REF!"},{"$error":"#N/A"},{"$error":"#N/A"},0,0,0,0,0,0,1,1,1,1,1,1,0,0,0,0,0,0,false,false,false,false,false,false,false,1,1,1,1,1,1,0,0,0,0,0,0,0,1,1,0,0,0,0,0]
["1969-09-01","2016-09-30","2001-07-11","2016-09-30",true,0,0,1,0,false,{"$error":"#DIV/0!"},"2016-09-30",{"$error":"#DIV/0!"},"2016-09-30",{"$error":"#DIV/0!"},1,1,1,1,1,1,{"$error":"#REF!"},{"$error":"#REF!"},{"$error":"#REF!"},{"$error":"#REF!"},{"$error":"#N/A"},{"$error":"#N/A"},0,0,0,0,0,0,1,1,1,1,1,1,0,0,0,0,0,0,false,false,false,false,false,false,false,1,1,1,1,1,1,0,0,0,0,0,0,0,1,1,0,0,0,0,0]
["1969-10-01","2016-10-31","2001-07-18","2016-10-31",true,0,0,1,0,false,{"$error":"#DIV/0!"},"2016-10-31",{"$error":"#DIV/0!"},"2016-10-31",{"$error":"#DIV/0!"},1,1,1,1,1,1,{"$error":"#REF!"},{"$error":"#REF!"},{"$error":"#REF!"},{"$error":"#REF!"},{"$error":"#N/A"},{"$error":"#N/A"},0,0,0,0,0,0,1,1,1,1,1,1,0,0,0,0,0,0,false,false,false,false,false,false,false,1,1,1,1,1,1,0,0,0,0,0,0,0,1,1,0,0,0,0,0]
["1969-11-01","2016-11-30","2001-07-25","2016-11-30",true,0,0,1,0,false,{"$error":"#DIV/0!"},"2016-11-30",{"$error":"#DIV/0!"},"2016-11-30",{"$error":"#DIV/0!"},1,1,1,1,1,1,{"$error":"#REF!"},{"$error":"#REF!"},{"$error":"#REF!"},{"$error":"#REF!"},{"$error":"#N/A"},{"$error":"#N/A"},0,0,0,0,0,0,1,1,1,1,1,1,0,0,0,0,0,0,false,false,false,false,false,false,false,1,1,1,1,1,1,0,0,0,0,0,0,0,1,1,0,0,0,0,0]
["1969-12-01","2016-12-31","2001-08-01","2016-12-31",true,0,0,1,0,false,{"$error":"#DIV/0!"},"2016-12-31",{"$error":"#DIV/0!"},"2016-12-31",{"$error":"#DIV/0!"},1,1,1,1,1,1,{"$error":"#REF!"},{"$error":"#REF!"},{"$error":"#REF!"},{"$error":"#REF!"},{"$error":"#N/A"},{"$error":"#N/A"},0,0,0,0,0,0,1,1,1,1,1,1,0,0,0,0,0,0,false,false,false,false,false,false,false,1,1,1,1,1,1,0,0,0,0,0,0,0,1,1,0,0,0,0,0]
["1970-01-01","2017-01-31","2001-08-08","2017-01-31",true,0,0,1,0,false,{"$error":"#DIV/0!"},"2017-01-31",{"$error":"#DIV/0!"},"2017-01-31",{"$error":"#DIV/0!"},1,1,1,1,1,1,{"$error":"#REF!"},{"$error":"#REF!"},{"$error":"#REF!"},{"$error":"#REF!"},{"$error":"#N/A"},{"$error":"#N/A"},0,0,0,0,0,0,1,1,1,1,1,1,0,0,0,0,0,0,false,false,false,false,false,false,false,1,1,1,1,1,1,0,0,0,0,0,0,0,1,1,0,0,0,0,0]
["1970-02-01","2017-02-28","2001-08-15","2017-02-28",true,0,0,1,0,false,{"$error":"#DIV/0!"},"2017-02-28",{"$error":"#DIV/0!"},"2017-02-28",{"$error":"#DIV/0!"},1,1,1,1,1,1,{"$error":"#REF!"},{"$error":"#REF!"},{"$error":"#REF!"},{"$error":"#REF!"},{"$error":"#N/A"},{"$error":"#N/A"},0,0,0,0,0,0,1,1,1,1,1,1,0,0,0,0,0,0,false,false,false,false,false,false,false,1,1,1,1,1,1,0,0,0,0,0,0,0,1,1,0,0,0,0,0]
["1970-03-01","2017-03-31","2001-08-22","2017-03-31",true,0,0,1,0,false,{"$error":"#DIV/0!"},"2017-03-31",{"$error":"#DIV/0!"},"2017-03-31",{"$error":"#DIV/0!"},1,1,1,1,1,1,{"$error":"#REF!"},{"$error":"#REF!"},{"$error":"#REF!"},{"$error":"#REF!"},{"$error":"#N/A"},{"$error":"#N/A"},0,0,0,0,0,0,1,1,1,1,1,1,0,0,0,0,0,0,false,false,false,false,false,false,false,1,1,1,1,1,1,0,0,0,0,0,0,0,1,1,0,0,0,0,0]
["1970-04-01","2017-04-30","2001-08-29","2017-04-30",true,0,0,1,0,false,{"$error":"#DIV/0!"},"2017-04-30",{"$error":"#DIV/0!"},"2017-04-30",{"$error":"#DIV/0!"},1,1,1,1,1,1,{"$error":"#REF!"},{"$error":"#REF!"},{"$error":"#REF!"},{"$error":"#REF!"},{"$error":"#N/A"},{"$error":"#N/A"},0,0,0,0,0,0,1,1,1,1,1,1,0,0,0,0,0,0,false,false,false,false,false,false,false,1,1,1,1,1,1,0,0,0,0,0,0,0,1,1,0,0,0,0,0]
["1970-05-01","2017-05-31","2001-09-05","2017-05-31",true,0,0,1,0,false,{"$error":"#DIV/0!"},"2017-05-31",{"$error":"#DIV/0!"},"2017-05-31",{"$error":"#DIV/0!"},1,1,1,1,1,1,{"$error":"#REF!"},{"$error":"#REF!"},{"$error":"#REF!"},{"$error":"#REF!"},{"$error":"#N/A"},{"$error":"#N/A"},0,0,0,0,0,0,1,1,1,1,1,1,0,0,0,0,0,0,false,false,false,false,false,false,false,1,1,1,1,1,1,0,0,0,0,0,0,0,1,1,0,0,0,0,0]
["1970-06-01","2017-06-30","2001-09-12","2017-06-30",true,0,0,1,0,false,{"$error":"#DIV/0!"},"2017-06-30",{"$error":"#DIV/0!"},"2017-06-30",{"$error":"#DIV/0!"},1,1,1,1,1,1,{"$error":"#REF!"},{"$error":"#REF!"},{"$error":"#REF!"},{"$error":"#REF!"},{"$error":"#N/A"},{"$error":"#N/A"},0,0,0,0,0,0,1,1,1,1,1,1,0,0,0,0,0,0,false,false,false,false,false,false,false,1,1,1,1,1,1,0,0,0,0,0,0,0,1,1,0,0,0,0,0]
["1970-07-01","2017-07-31","2001-09-19","2017-07-31",true,0,0,1,0,false,{"$error":"#DIV/0!"},"2017-07-31",{"$error":"#DIV/0!"},"2017-07-31",{"$error":"#DIV/0!"},1,1,1,1,1,1,{"$error":"#REF!"},{"$error":"#REF!"},{"$error":"#REF!"},{"$error":"#REF!"},{"$error":"#N/A"},{"$error":"#N/A"},0,0,0,0,0,0,1,1,1,1,1,1,0,0,0,0,0,0,false,false,false,false,false,false,false,1,1,1,1,1,1,0,0,0,0,0,0,0,1,1,0,0,0,0,0]
["1970-08-01","2017-08-31","2001-09-26","2017-08-31",true,0,0,1,0,false,{"$error":"#DIV/0!"},"2017-08-31",{"$error":"#DIV/0!"},"2017-08-31",{"$error":"#DIV/0!"},1,1,1,1,1,1,{"$error":"#REF!"},{"$error":"#REF!"},{"$error":"#REF!"},{"$error":"#REF!"},{"$error":"#N/A"},{"$error":"#N/A"},0,0,0,0,0,0,1,1,1,1,1,1,0,0,0,0,0,0,false,false,false,false,false,false,false,1,1,1,1,1,1,0,0,0,0,0,0,0,1,1,0,0,0,0,0]
["1970-09-01","2017-09-30","2001-10-03","2017-09-30",true,0,0,1,0,false,{"$error":"#DIV/0!"},"2017-09-30",{"$error":"#DIV/0!"},"2017-09-30",{"$error":"#DIV/0!"},1,1,1,1,1,1,{"$error":"#REF!"},{"$error":"#REF!"},{"$error":"#REF!"},{"$error":"#REF!"},{"$error":"#N/A"},{"$error":"#N/A"},0,0,0,0,0,0,1,1,1,1,1,1,0,0,0,0,0,0,false,false,false,false,false,false,false,1,1,1,1,1,1,0,0,0,0,0,0,0,1,1,0,0,0,0,0]
["1970-10-01","2017-10-31","2001-10-10","2017-10-31",true,0,0,1,0,false,{"$error":"#DIV/0!"},"2017-10-31",{"$error":"#DIV/0!"},"2017-10-31",{"$error":"#DIV/0!"},1,1,1,1,1,1,{"$error":"#REF!"},{"$error":"#REF!"},{"$error":"#REF!"},{"$error":"#REF!"},{"$error":"#N/A"},{"$error":"#N/A"},0,0,0,0,0,0,1,1,1,1,1,1,0,0,0,0,0,0,false,false,false,false,false,false,false,1,1,1,1,1,1,0,0,0,0,0,0,0,1,1,0,0,0,0,0]
["1970-11-01","2017-11-30","2001-10-17","2017-11-30",true,0,0,1,0,false,{"$error":"#DIV/0!"},"2017-11-30",{"$error":"#DIV/0!"},"2017-11-30",{"$error":"#DIV/0!"},1,1,1,1,1,1,{"$error":"#REF!"},{"$error":"#REF!"},{"$error":"#REF!"},{"$error":"#REF!"},{"$error":"#N/A"},{"$error":"#N/A"},0,0,0,0,0,0,1,1,1,1,1,1,0,0,0,0,0,0,false,false,false,false,false,false,false,1,1,1,1,1,1,0,0,0,0,0,0,0,1,1,0,0,0,0,0]
["1970-12-01","2017-12-31","2001-10-24","2017-12-31",true,0,0,1,0,false,{"$error":"#DIV/0!"},"2017-12-31",{"$error":"#DIV/0!"},"2017-12-31",{"$error":"#DIV/0!"},1,1,1,1,1,1,{"$error":"#REF!"},{"$error":"#REF!"},{"$error":"#REF!"},{"$error":"#REF!"},{"$error":"#N/A"},{"$error":"#N/A"},0,0,0,0,0,0,1,1,1,{"$f":"IF(AK$7,INDEX($BN261:$BT261,AK$7),1)","v":1},1,1,0,0,0,0,0,0,false,false,false,false,false,false,false,1,1,1,1,1,1,0,0,0,0,0,0,0,1,1,0,0,0,0,0]
["1971-01-01","2018-01-31","2001-10-31","2018-01-31",true,0,0,1,0,false,{"$error":"#DIV/0!"},"2018-01-31",{"$error":"#DIV/0!"},"2018-01-31",{"$error":"#DIV/0!"},1,1,1,1,1,1,{"$error":"#REF!"},{"$error":"#REF!"},{"$error":"#REF!"},{"$error":"#REF!"},{"$error":"#N/A"},{"$error":"#N/A"},0,0,0,0,0,0,1,1,1,1,1,1,0,0,0,0,0,0,false,false,false,false,false,false,false,1,1,1,1,1,1,0,0,0,0,0,0,0,1,1,0,0,0,0,0]
["1971-02-01","2018-02-28","2001-11-07","2018-02-28",true,0,0,1,0,false,{"$error":"#DIV/0!"},"2018-02-28",{"$error":"#DIV/0!"},"2018-02-28",{"$error":"#DIV/0!"},1,1,1,1,1,1,{"$error":"#REF!"},{"$error":"#REF!"},{"$error":"#REF!"},{"$error":"#REF!"},{"$error":"#N/A"},{"$error":"#N/A"},0,0,0,0,0,0,1,1,1,1,1,1,0,0,0,0,0,0,false,false,false,false,false,false,false,1,1,1,1,1,1,0,0,0,0,0,0,0,1,1,0,0,0,0,0]
["1971-03-01","2018-03-31","2001-11-14","2018-03-31",true,0,0,1,0,false,{"$error":"#DIV/0!"},"2018-03-31",{"$error":"#DIV/0!"},"2018-03-31",{"$error":"#DIV/0!"},1,1,1,1,1,1,{"$error":"#REF!"},{"$error":"#REF!"},{"$error":"#REF!"},{"$error":"#REF!"},{"$error":"#N/A"},{"$error":"#N/A"},0,0,0,0,0,0,1,1,1,1,1,1,0,0,0,0,0,0,false,false,false,false,false,false,false,1,1,1,1,1,1,0,0,0,0,0,0,0,1,1,0,0,0,0,0]
["1971-04-01","2018-04-30","2001-11-21","2018-04-30",true,0,0,1,0,false,{"$error":"#DIV/0!"},"2018-04-30",{"$error":"#DIV/0!"},"2018-04-30",{"$error":"#DIV/0!"},1,1,1,1,1,1,{"$error":"#REF!"},{"$error":"#REF!"},{"$error":"#REF!"},{"$error":"#REF!"},{"$error":"#N/A"},{"$error":"#N/A"},0,0,0,0,0,0,1,1,1,1,1,1,0,0,0,0,0,0,false,false,false,false,false,false,false,1,1,1,1,1,1,0,0,0,0,0,0,0,1,1,0,0,0,0,0]
["1971-05-01","2018-05-31","2001-11-28","2018-05-31",true,0,0,1,0,false,{"$error":"#DIV/0!"},"2018-05-31",{"$error":"#DIV/0!"},"2018-05-31",{"$error":"#DIV/0!"},1,1,1,1,1,1,{"$error":"#REF!"},{"$error":"#REF!"},{"$error":"#REF!"},{"$error":"#REF!"},{"$error":"#N/A"},{"$error":"#N/A"},0,0,0,0,0,0,1,1,1,1,1,1,0,0,0,0,0,0,false,false,false,false,false,false,false,1,1,1,1,1,1,0,0,0,0,0,0,0,1,1,0,0,0,0,0]
["1971-06-01",{"$f":"IF(B266<=$D$2,EOMONTH(B266,1))","v":"2018-06-30"},"2001-12-05","2018-06-30",true,{"$f":"LOOKUP(D267,A:A,G:G)","v":0},{"$f":"IFERROR(LOOKUP($A267,INDIRECT(\"'\"&G$7&\"'!A:A\"),INDIRECT(\"'\"&G$7&\"'!\"&$G$9&\":\"&$G$9)),0)","v":0},{"$f":"IF(H$8,INDEX($BN267:$BT267,H$8),1)","v":1},{"$f":"IF(ISNUMBER(F267),F267,I268)*H267","v":0},false,{"$error":"#DIV/0!"},"2018-06-30",{"$error":"#DIV/0!"},"2018-06-30",{"$error":"#DIV/0!"},1,1,1,1,1,1,{"$f":"LOOKUP($A267,INDIRECT(\"'\"&V$5&\"'!A:A\"),INDIRECT(\"'\"&V$5&\"'!\"&V$7&\":\"&V$7))","v":{"$error":"#REF!"}},{"$error":"#REF!"},{"$error":"#REF!"},{"$error":"#REF!"},{"$error":"#N/A"},{"$error":"#N/A"},{"$f":"IF(ISNUMBER(LOOKUP($D267,$A:$A,V:V)),LOOKUP($D267,$A:$A,V:V),AB266)","v":0},{"$f":"IF(ISNUMBER(LOOKUP($D267,$A:$A,W:W)),LOOKUP($D267,$A:$A,W:W),AC266)","v":0},{"$f":"IF(ISNUMBER(LOOKUP($D267,$A:$A,X:X)),LOOKUP($D267,$A:$A,X:X),AD266)","v":0},{"$f":"IF(ISNUMBER(LOOKUP($D267,$A:$A,Y:Y)),LOOKUP($D267,$A:$A,Y:Y),AE266)","v":0},{"$f":"IF(ISNUMBER(LOOKUP($D267,$A:$A,Z:Z)),LOOKUP($D267,$A:$A,Z:Z),AF266)","v":0},{"$f":"IF(ISNUMBER(LOOKUP($D267,$A:$A,AA:AA)),LOOKUP($D267,$A:$A,AA:AA),AG266)","v":0},1,1,1,1,1,1,{"$f":"IFERROR(IF(ISNUMBER(AB267)>0.1,AB267,AN268)*AH267,AN268)","v":0},{"$f":"IFERROR(IF(ISNUMBER(AC267)>0.1,AC267,AO268)*AI267,AO268)","v":0},{"$f":"IFERROR(IF(ISNUMBER(AD267)>0.1,AD267,AP268)*AJ267,AP268)","v":0},{"$f":"IFERROR(IF(ISNUMBER(AE267)>0.1,AE267,AQ268)*AK267,AQ268)","v":0},{"$f":"IFERROR(IF(ISNUMBER(AF267)>0.1,AF267,AR268)*AL267,AR268)","v":0},{"$f":"IF(ISNUMBER(AG267)>0.1,AG267,AS268)","v":0},false,{"$f":"IF(E267,IFERROR(LN(AN267/AN266),FALSE))","v":false},{"$f":"IF(E267,IFERROR(LN(AO267/AO266),FALSE))","v":false},{"$f":"IF(E267,IFERROR(LN(AP267/AP266),FALSE))","v":false},{"$f":"IF(E267,IFERROR(LN(AQ267/AQ266),FALSE))","v":false},{"$f":"IF(E267,IFERROR(LN(AR267/AR266),FALSE))","v":false},{"$f":"IF(E267,IFERROR(LN(AS267/AS266),FALSE))","v":false},1,1,1,1,1,1,{"$f":"IFERROR(LOOKUP($A267,INDIRECT(\"'\"&BN$6&\"'!A:A\"),INDIRECT(\"'\"&BN$6&\"'!\"&BN$7&\":\"&BN$7)),0)","v":0},{"$f":"IFERROR(LOOKUP($A267,INDIRECT(\"'\"&BO$6&\"'!A:A\"),INDIRECT(\"'\"&BO$6&\"'!\"&BO$7&\":\"&BO$7)),0)","v":0},{"$f":"IFERROR(LOOKUP($A267,INDIRECT(\"'\"&BP$6&\"'!A:A\"),INDIRECT(\"'\"&BP$6&\"'!\"&BP$7&\":\"&BP$7)),0)","v":0},{"$f":"IFERROR(LOOKUP($A267,INDIRECT(\"'\"&BQ$6&\"'!A:A\"),INDIRECT(\"'\"&BQ$6&\"'!\"&BQ$7&\":\"&BQ$7)),0)","v":0},{"$f":"IFERROR(LOOKUP($A267,INDIRECT(\"'\"&BR$6&\"'!A:A\"),INDIRECT(\"'\"&BR$6&\"'!\"&BR$7&\":\"&BR$7)),0)","v":0},{"$f":"IFERROR(LOOKUP($A267,INDIRECT(\"'\"&BS$6&\"'!A:A\"),INDIRECT(\"'\"&BS$6&\"'!\"&BS$7&\":\"&BS$7)),0)","v":0},{"$f":"IFERROR(LOOKUP($A267,INDIRECT(\"'\"&BT$6&\"'!A:A\"),INDIRECT(\"'\"&BT$6&\"'!\"&BT$7&\":\"&BT$7)),0)","v":0},{"$f":"IFERROR(1/IFERROR(LOOKUP($D267,$A:$A,BG:BG)*1,0),1)","v":1},{"$f":"IFERROR(1/IFERROR(LOOKUP($D267,$A:$A,BH:BH)*1,0),1)","v":1},0,0,0,0,0]
["1971-07-01","2018-07-31",{"$f":"IF(C267<=$D$2,C267+7)","v":"2001-12-12"},"2018-07-31",{"$f":"AND(D268>=$D$4,D267<=$D$2)","v":true},0,0,1,0,{"$f":"IFERROR(LN(I268/I267),FALSE)","v":false},{"$error":"#DIV/0!"},"2018-07-31",{"$error":"#DIV/0!"},"2018-07-31",{"$error":"#DIV/0!"},1,1,1,1,1,1,{"$error":"#REF!"},{"$error":"#REF!"},{"$error":"#REF!"},{"$error":"#REF!"},{"$error":"#N/A"},{"$error":"#N/A"},0,0,0,0,0,0,1,1,1,1,1,1,0,0,0,0,0,0,false,false,false,false,false,false,false,{"$f":"IFERROR(IF($E268,BA267*AN268/AN267,1),1)","v":1},{"$f":"IFERROR(IF($E268,BB267*AO268/AO267,1),1)","v":1},{"$f":"IFERROR(IF($E268,BC267*AP268/AP267,1),1)","v":1},{"$f":"IFERROR(IF($E268,BD267*AQ268/AQ267,1),1)","v":1},{"$f":"IFERROR(IF($E268,BE267*AR268/AR267,1),1)","v":1},{"$f":"IFERROR(IF($E268,BF267*AS268/AS267,1),1)","v":1},0,0,0,0,0,0,0,1,1,{"$f":"IFERROR(LOOKUP($D268,$A:$A,BI:BI)*1,BP267)","v":0},{"$f":"IFERROR(LOOKUP($D268,$A:$A,BJ:BJ)*1,BQ267)","v":0},{"$f":"IFERROR(LOOKUP($D268,$A:$A,BK:BK)*1,BR267)","v":0},{"$f":"IFERROR(LOOKUP($D268,$A:$A,BL:BL)*1,BS267)","v":0},{"$f":"IFERROR(LOOKUP($D268,$A:$A,BM:BM)*1,BT267)","v":0}]
["1971-08-01",false,"2001-12-19",{"$f":"IF($D$6,C269,B269)","v":false},false,{"$error":"#N/A"},0,1,0,false,{"$f":"IF($E269,(K268*I269/I268),1)","v":1},{"$f":"IF(E269,D269,NA())","v":{"$error":"#N/A"}},{"$f":"CHOOSE($M$1,I269,J269,K269)","v":1},{"$f":"L269","v":{"$error":"#N/A"}},{"$f":"M269","v":1},{"$f":"IFERROR(CHOOSE($M$1,AN269,AU269,BA269),1)","v":1},{"$f":"IFERROR(CHOOSE($M$1,AO269,AV269,BB269),1)","v":1},{"$f":"IFERROR(CHOOSE($M$1,AP269,AW269,BC269),1)","v":1},{"$f":"IFERROR(CHOOSE($M$1,AQ269,AX269,BD269),1)","v":1},{"$f":"IFERROR(CHOOSE($M$1,AR269,AY269,BE269),1)","v":1},{"$f":"IFERROR(CHOOSE($M$1,AS269,AZ269,BF269),1)","v":1},{"$error":"#REF!"},{"$error":"#REF!"},{"$error":"#REF!"},{"$error":"#REF!"},{"$error":"#N/A"},{"$error":"#N/A"},0,0,0,0,0,0,1,1,1,1,1,1,0,0,0,0,0,0,{"$f":"J269","v":false},false,false,false,false,false,false,1,1,1,1,1,1,0,0,0,0,0,0,0,1,1,0,0,0,0,0]
["1971-09-01",false,"2001-12-26",false,false,{"$error":"#N/A"},0,1,0,false,1,{"$error":"#N/A"},1,{"$error":"#N/A"},1,1,1,1,1,1,1,{"$error":"#REF!"},{"$error":"#REF!"},{"$error":"#REF!"},{"$f":"LOOKUP($A270,INDIRECT(\"'\"&Y$5&\"'!A:A\"),INDIRECT(\"'\"&Y$5&\"'!\"&Y$7&\":\"&Y$7))","v":{"$error":"#REF!"}},{"$error":"#N/A"},{"$error":"#N/A"},0,0,0,0,0,0,1,1,1,1,1,1,0,0,0,0,0,0,false,false,false,false,false,false,false,1,1,1,1,1,1,0,0,0,0,0,0,0,1,1,0,0,0,0,0]
["1971-10-01",false,"2002-01-02",false,false,{"$error":"#N/A"},0,1,0,false,1,{"$error":"#N/A"},1,{"$error":"#N/A"},1,1,1,1,1,1,1,{"$error":"#REF!"},{"$error":"#REF!"},{"$error":"#REF!"},{"$error":"#REF!"},{"$error":"#N/A"},{"$error":"#N/A"},0,0,0,0,0,0,1,1,1,1,1,1,0,0,0,0,0,0,false,false,false,false,false,false,false,1,1,1,1,1,1,0,0,0,0,0,0,0,1,1,0,0,0,0,0]
["1971-11-01",false,"2002-01-09",false,false,{"$error":"#N/A"},0,1,0,false,1,{"$error":"#N/A"},1,{"$error":"#N/A"},1,1,1,1,1,1,1,{"$error":"#REF!"},{"$error":"#REF!"},{"$error":"#REF!"},{"$error":"#REF!"},{"$error":"#N/A"},{"$error":"#N/A"},0,0,0,0,0,0,1,1,1,1,1,1,0,0,0,0,0,0,false,false,false,false,false,false,false,1,1,1,1,1,1,0,0,0,0,0,0,0,1,1,0,0,0,0,0]
["1971-12-01",false,"2002-01-16",false,false,{"$error":"#N/A"},0,1,0,false,1,{"$error":"#N/A"},1,{"$error":"#N/A"},1,1,1,1,1,1,1,{"$error":"#REF!"},{"$error":"#REF!"},{"$error":"#REF!"},{"$error":"#REF!"},{"$error":"#N/A"},{"$error":"#N/A"},0,0,0,0,0,0,1,1,1,1,1,1,0,0,0,0,0,0,false,false,false,false,false,false,false,1,1,1,1,1,1,0,0,0,0,0,0,0,1,1,0,0,0,0,0]
["1972-01-01",false,"2002-01-23",false,false,{"$error":"#N/A"},0,1,0,false,1,{"$error":"#N/A"},1,{"$error":"#N/A"},1,1,1,1,1,1,1,{"$error":"#REF!"},{"$error":"#REF!"},{"$error":"#REF!"},{"$error":"#REF!"},{"$error":"#N/A"},{"$error":"#N/A"},0,0,0,0,0,0,1,1,1,1,1,1,0,0,0,0,0,0,false,false,false,false,false,false,false,1,1,1,1,1,1,0,0,0,0,0,0,0,1,1,0,0,0,0,0]
["1972-02-01",false,"2002-01-30",false,false,{"$error":"#N/A"},0,1,0,false,1,{"$error":"#N/A"},1,{"$error":"#N/A"},1,1,1,1,1,1,1,{"$error":"#REF!"},{"$error":"#REF!"},{"$error":"#REF!"},{"$error":"#REF!"},{"$error":"#N/A"},{"$error":"#N/A"},0,0,0,0,0,0,1,1,1,1,1,1,0,0,0,0,0,0,false,false,false,false,false,false,false,1,1,1,1,1,1,0,0,0,0,0,0,0,1,1,0,0,0,0,0]
["1972-03-01",false,"2002-02-06",false,false,{"$error":"#N/A"},0,1,0,false,1,{"$error":"#N/A"},1,{"$error":"#N/A"},1,1,1,1,1,1,1,{"$error":"#REF!"},{"$error":"#REF!"},{"$error":"#REF!"},{"$error":"#REF!"},{"$error":"#N/A"},{"$error":"#N/A"},0,0,0,0,0,0,1,1,1,1,1,1,0,0,0,0,0,0,false,false,false,false,false,false,false,1,1,1,1,1,1,0,0,0,0,0,0,0,1,1,0,0,0,0,0]
["1972-04-01",false,"2002-02-13",false,false,{"$error":"#N/A"},0,1,0,false,1,{"$error":"#N/A"},1,{"$error":"#N/A"},1,1,1,1,1,1,1,{"$error":"#REF!"},{"$error":"#REF!"},{"$error":"#REF!"},{"$error":"#REF!"},{"$error":"#N/A"},{"$error":"#N/A"},0,0,0,0,0,0,1,1,1,1,1,1,0,0,0,0,0,0,false,false,false,false,false,false,false,1,1,1,1,1,1,0,0,0,0,0,0,0,1,1,0,0,0,0,0]
["1972-05-01",false,"2002-02-20",false,false,{"$error":"#N/A"},0,1,0,false,1,{"$error":"#N/A"},1,{"$error":"#N/A"},1,1,1,1,1,1,1,{"$error":"#REF!"},{"$error":"#REF!"},{"$error":"#REF!"},{"$error":"#REF!"},{"$error":"#N/A"},{"$error":"#N/A"},0,0,0,0,0,0,1,1,1,1,1,1,0,0,0,0,0,0,false,false,false,false,false,false,false,1,1,1,1,1,1,0,0,0,0,0,0,0,1,1,0,0,0,0,0]
["1972-06-01",false,"2002-02-27",false,false,{"$error":"#N/A"},0,1,0,false,1,{"$error":"#N/A"},1,{"$error":"#N/A"},1,1,1,1,1,1,1,{"$error":"#REF!"},{"$error":"#REF!"},{"$error":"#REF!"},{"$error":"#REF!"},{"$error":"#N/A"},{"$error":"#N/A"},0,0,0,0,0,0,1,1,1,1,1,1,0,0,0,0,0,0,false,false,false,false,false,false,false,1,1,1,1,1,1,0,0,0,0,0,0,0,1,1,0,0,0,0,0]
["1972-07-01",false,"2002-03-06",false,false,{"$error":"#N/A"},0,1,0,false,1,{"$error":"#N/A"},1,{"$error":"#N/A"},1,1,1,1,1,1,1,{"$error":"#REF!"},{"$error":"#REF!"},{"$error":"#REF!"},{"$error":"#REF!"},{"$error":"#N/A"},{"$error":"#N/A"},0,0,0,0,0,0,1,1,1,1,1,1,0,0,0,0,0,0,false,false,false,false,false,false,false,1,1,1,1,1,1,0,0,0,0,0,0,0,1,1,0,0,0,0,0]
["1972-08-01",false,"2002-03-13",false,false,{"$error":"#N/A"},0,1,0,false,1,{"$error":"#N/A"},1,{"$error":"#N/A"},1,1,1,1,1,1,1,{"$error":"#REF!"},{"$error":"#REF!"},{"$error":"#REF!"},{"$error":"#REF!"},{"$error":"#N/A"},{"$error":"#N/A"},0,0,0,0,0,0,1,1,1,1,1,1,0,0,0,0,0,0,false,false,false,false,false,false,false,1,1,1,1,1,1,0,0,0,0,0,0,0,1,1,0,0,0,0,0]
["1972-09-01",false,"2002-03-20",false,false,{"$error":"#N/A"},0,1,0,false,1,{"$error":"#N/A"},1,{"$error":"#N/A"},1,1,1,1,1,1,1,{"$error":"#REF!"},{"$error":"#REF!"},{"$error":"#REF!"},{"$error":"#REF!"},{"$error":"#N/A"},{"$error":"#N/A"},0,0,0,0,0,0,1,1,1,1,1,1,0,0,0,0,0,0,false,false,false,false,false,false,false,1,1,1,1,1,1,0,0,0,0,0,0,0,1,1,0,0,0,0,0]
["1972-10-01",false,"2002-03-27",false,false,{"$error":"#N/A"},0,1,0,false,1,{"$error":"#N/A"},1,{"$error":"#N/A"},1,1,1,1,1,1,1,{"$error":"#REF!"},{"$error":"#REF!"},{"$error":"#REF!"},{"$error":"#REF!"},{"$error":"#N/A"},{"$error":"#N/A"},0,0,0,0,0,0,1,1,1,1,1,1,0,0,0,0,0,0,false,false,false,false,false,false,false,1,1,1,1,1,1,0,0,0,0,0,0,0,1,1,0,0,0,0,0]
["1972-11-01",false,"2002-04-03",false,false,{"$error":"#N/A"},0,1,0,false,1,{"$error":"#N/A"},1,{"$error":"#N/A"},1,1,1,1,1,1,1,{"$error":"#REF!"},{"$error":"#REF!"},{"$error":"#REF!"},{"$error":"#REF!"},{"$error":"#N/A"},{"$error":"#N/A"},0,0,0,0,0,0,1,1,1,1,1,1,0,0,0,0,0,0,false,false,false,false,false,false,false,1,1,1,1,1,1,0,0,0,0,0,0,0,1,1,0,0,0,0,0]
["1972-12-01",false,"2002-04-10",false,false,{"$error":"#N/A"},0,1,0,false,1,{"$error":"#N/A"},1,{"$error":"#N/A"},1,1,1,1,1,1,1,{"$error":"#REF!"},{"$error":"#REF!"},{"$error":"#REF!"},{"$error":"#REF!"},{"$error":"#N/A"},{"$error":"#N/A"},0,0,0,0,0,0,1,1,1,1,1,1,0,0,0,0,0,0,false,false,false,false,false,false,false,1,1,1,1,1,1,0,0,0,0,0,0,0,1,1,0,0,0,0,0]
["1973-01-01",false,"2002-04-17",false,false,{"$error":"#N/A"},0,1,0,false,1,{"$error":"#N/A"},1,{"$error":"#N/A"},1,1,1,1,1,1,1,{"$error":"#REF!"},{"$error":"#REF!"},{"$error":"#REF!"},{"$error":"#REF!"},{"$error":"#N/A"},{"$error":"#N/A"},0,0,0,0,0,0,1,1,1,1,1,1,0,0,0,0,0,0,false,false,false,false,false,false,false,1,1,1,1,1,1,0,0,0,0,0,0,0,1,1,0,0,0,0,0]
["1973-02-01",false,"2002-04-24",false,false,{"$error":"#N/A"},0,1,0,false,1,{"$error":"#N/A"},1,{"$error":"#N/A"},1,1,1,1,1,1,1,{"$error":"#REF!"},{"$error":"#REF!"},{"$error":"#REF!"},{"$error":"#REF!"},{"$error":"#N/A"},{"$error":"#N/A"},0,0,0,0,0,0,1,1,1,1,1,1,0,0,0,0,0,0,false,false,false,false,false,false,false,1,1,1,1,1,1,0,0,0,0,0,0,0,1,1,0,0,0,0,0]
["1973-03-01",false,"2002-05-01",false,false,{"$error":"#N/A"},0,1,0,false,1,{"$error":"#N/A"},1,{"$error":"#N/A"},1,1,1,1,1,1,1,{"$error":"#REF!"},{"$error":"#REF!"},{"$error":"#REF!"},{"$error":"#REF!"},{"$error":"#N/A"},{"$error":"#N/A"},0,0,0,0,0,0,1,1,1,1,1,1,0,0,0,0,0,0,false,false,false,false,false,false,false,1,1,1,1,1,1,0,0,0,0,0,0,0,1,1,0,0,0,0,0]
["1973-04-01",false,"2002-05-08",false,false,{"$error":"#N/A"},0,1,0,false,1,{"$error":"#N/A"},1,{"$error":"#N/A"},1,1,1,1,1,1,1,{"$error":"#REF!"},{"$error":"#REF!"},{"$error":"#REF!"},{"$error":"#REF!"},{"$error":"#N/A"},{"$error":"#N/A"},0,0,0,0,0,0,1,1,1,1,1,1,0,0,0,0,0,0,false,false,false,false,false,false,false,1,1,1,1,1,1,0,0,0,0,0,0,0,1,1,0,0,0,0,0]
["1973-05-01",false,"2002-05-15",false,false,{"$error":"#N/A"},0,1,0,false,1,{"$error":"#N/A"},1,{"$error":"#N/A"},1,1,1,1,1,1,1,{"$error":"#REF!"},{"$error":"#REF!"},{"$error":"#REF!"},{"$error":"#REF!"},{"$error":"#N/A"},{"$error":"#N/A"},0,0,0,0,0,0,1,1,1,1,1,1,0,0,0,0,0,0,false,false,false,false,false,false,false,1,1,1,1,1,1,0,0,0,0,0,0,0,1,1,0,0,0,0,0]
["1973-06-01",false,"2002-05-22",false,false,{"$error":"#N/A"},0,1,0,false,1,{"$error":"#N/A"},1,{"$error":"#N/A"},1,1,1,1,1,1,1,{"$error":"#REF!"},{"$error":"#REF!"},{"$error":"#REF!"},{"$error":"#REF!"},{"$error":"#N/A"},{"$error":"#N/A"},0,0,0,0,0,0,1,1,1,1,1,1,0,0,0,0,0,0,false,false,false,false,false,false,false,1,1,1,1,1,1,0,0,0,0,0,0,0,1,1,0,0,0,0,0]
["1973-07-01",false,"2002-05-29",false,false,{"$error":"#N/A"},0,1,0,false,1,{"$error":"#N/A"},1,{"$error":"#N/A"},1,1,1,1,1,1,1,{"$error":"#REF!"},{"$error":"#REF!"},{"$error":"#REF!"},{"$error":"#REF!"},{"$error":"#N/A"},{"$error":"#N/A"},0,0,0,0,0,0,1,1,1,1,1,1,0,0,0,0,0,0,false,false,false,false,false,false,false,1,1,1,1,1,1,0,0,0,0,0,0,0,1,1,0,0,0,0,0]
["1973-08-01",false,"2002-06-05",false,false,{"$error":"#N/A"},0,1,0,false,1,{"$error":"#N/A"},1,{"$error":"#N/A"},1,1,1,1,1,1,1,{"$error":"#REF!"},{"$error":"#REF!"},{"$error":"#REF!"},{"$error":"#REF!"},{"$error":"#N/A"},{"$error":"#N/A"},0,0,0,0,0,0,1,1,1,1,1,1,0,0,0,0,0,0,false,false,false,false,false,false,false,1,1,1,1,1,1,0,0,0,0,0,0,0,1,1,0,0,0,0,0]
["1973-09-01",false,"2002-06-12",false,false,{"$error":"#N/A"},0,1,0,false,1,{"$error":"#N/A"},1,{"$error":"#N/A"},1,1,1,1,1,1,1,{"$error":"#REF!"},{"$error":"#REF!"},{"$error":"#REF!"},{"$error":"#REF!"},{"$error":"#N/A"},{"$error":"#N/A"},0,0,0,0,0,0,1,1,1,1,1,1,0,0,0,0,0,0,false,false,false,false,false,false,false,1,1,1,1,1,1,0,0,0,0,0,0,0,1,1,0,0,0,0,0]
["1973-10-01",false,"2002-06-19",false,false,{"$error":"#N/A"},0,1,0,false,1,{"$error":"#N/A"},1,{"$error":"#N/A"},1,1,1,1,1,1,1,{"$error":"#REF!"},{"$error":"#REF!"},{"$error":"#REF!"},{"$error":"#REF!"},{"$error":"#N/A"},{"$error":"#N/A"},0,0,0,0,0,0,1,1,1,1,1,1,0,0,0,0,0,0,false,false,false,false,false,false,false,1,1,1,1,1,1,0,0,0,0,0,0,0,1,1,0,0,0,0,0]
["1973-11-01",false,"2002-06-26",false,false,{"$error":"#N/A"},0,1,0,false,1,{"$error":"#N/A"},1,{"$error":"#N/A"},1,1,1,1,1,1,1,{"$error":"#REF!"},{"$error":"#REF!"},{"$error":"#REF!"},{"$error":"#REF!"},{"$error":"#N/A"},{"$error":"#N/A"},0,0,0,0,0,0,1,1,1,1,1,1,0,0,0,0,0,0,false,false,false,false,false,false,false,1,1,1,1,1,1,0,0,0,0,0,0,0,1,1,0,0,0,0,0]
["1973-12-01",false,"2002-07-03",false,false,{"$error":"#N/A"},0,1,0,false,1,{"$error":"#N/A"},1,{"$error":"#N/A"},1,1,1,1,1,1,1,{"$error":"#REF!"},{"$error":"#REF!"},{"$error":"#REF!"},{"$error":"#REF!"},{"$error":"#N/A"},{"$error":"#N/A"},0,0,0,0,0,0,1,1,1,1,1,1,0,0,0,0,0,0,false,false,false,false,false,false,false,1,1,1,1,1,1,0,0,0,0,0,0,0,1,1,0,0,0,0,0]
["1974-01-01",false,"2002-07-10",false,false,{"$error":"#N/A"},0,1,0,false,1,{"$error":"#N/A"},1,{"$error":"#N/A"},1,1,1,1,1,1,1,{"$error":"#REF!"},{"$error":"#REF!"},{"$error":"#REF!"},{"$error":"#REF!"},{"$error":"#N/A"},{"$error":"#N/A"},0,0,0,0,0,0,1,1,1,1,1,1,0,0,0,0,0,0,false,false,false,false,false,false,false,1,1,1,1,1,1,0,0,0,0,0,0,0,1,1,0,0,0,0,0]
["1974-02-01",false,"2002-07-17",false,false,{"$error":"#N/A"},0,1,0,false,1,{"$error":"#N/A"},1,{"$error":"#N/A"},1,1,1,1,1,1,1,{"$error":"#REF!"},{"$error":"#REF!"},{"$error":"#REF!"},{"$error":"#REF!"},{"$error":"#N/A"},{"$error":"#N/A"},0,0,0,0,0,0,1,1,1,1,1,1,0,0,0,0,0,0,false,false,false,false,false,false,false,1,1,1,1,1,1,0,0,0,0,0,0,0,1,1,0,0,0,0,0]
["1974-03-01",false,"2002-07-24",false,false,{"$error":"#N/A"},0,1,0,false,1,{"$error":"#N/A"},1,{"$error":"#N/A"},1,1,1,1,1,1,1,{"$error":"#REF!"},{"$error":"#REF!"},{"$error":"#REF!"},{"$error":"#REF!"},{"$error":"#N/A"},{"$error":"#N/A"},0,0,0,0,0,0,1,1,1,1,1,1,0,0,0,0,0,0,false,false,false,false,false,false,false,1,1,1,1,1,1,0,0,0,0,0,0,0,1,1,0,0,0,0,0]
["1974-04-01",false,"2002-07-31",false,false,{"$error":"#N/A"},0,1,0,false,1,{"$error":"#N/A"},1,{"$error":"#N/A"},1,1,1,1,1,1,1,{"$error":"#REF!"},{"$error":"#REF!"},{"$error":"#REF!"},{"$error":"#REF!"},{"$error":"#N/A"},{"$error":"#N/A"},0,0,0,0,0,0,{"$f":"IF(AH$7,INDEX($BN301:$BT301,AH$7),1)","v":1},1,1,1,1,1,0,0,0,0,0,0,false,false,false,false,false,false,false,1,1,1,1,1,1,0,0,0,0,0,0,0,1,1,0,0,0,0,0]
["1974-05-01",false,"2002-08-07",false,false,{"$error":"#N/A"},0,1,0,false,1,{"$error":"#N/A"},1,{"$error":"#N/A"},1,1,1,1,1,1,1,{"$error":"#REF!"},{"$error":"#REF!"},{"$error":"#REF!"},{"$error":"#REF!"},{"$error":"#N/A"},{"$error":"#N/A"},0,0,0,0,0,0,1,1,1,1,1,1,0,0,0,0,0,0,false,false,false,false,false,false,false,1,1,1,1,1,1,0,0,0,0,0,0,0,1,1,0,0,0,0,0]
["1974-06-01",false,"2002-08-14",false,false,{"$error":"#N/A"},0,1,0,false,1,{"$error":"#N/A"},1,{"$error":"#N/A"},1,1,1,1,1,1,1,{"$error":"#REF!"},{"$error":"#REF!"},{"$error":"#REF!"},{"$error":"#REF!"},{"$error":"#N/A"},{"$error":"#N/A"},0,0,0,0,0,0,1,1,1,1,1,1,0,0,0,0,0,0,false,false,false,false,false,false,false,1,1,1,1,1,1,0,0,0,0,0,0,0,1,1,0,0,0,0,0]
["1974-07-01",false,"2002-08-21",false,false,{"$error":"#N/A"},0,1,0,false,1,{"$error":"#N/A"},1,{"$error":"#N/A"},1,1,1,1,1,1,1,{"$error":"#REF!"},{"$error":"#REF!"},{"$error":"#REF!"},{"$error":"#REF!"},{"$error":"#N/A"},{"$error":"#N/A"},0,0,0,0,0,0,1,1,1,1,1,1,0,0,0,0,0,0,false,false,false,false,false,false,false,1,1,1,1,1,1,0,0,0,0,0,0,0,1,1,0,0,0,0,0]
["1974-08-01",false,"2002-08-28",false,false,{"$error":"#N/A"},0,1,0,false,1,{"$error":"#N/A"},1,{"$error":"#N/A"},1,1,1,1,1,1,1,{"$error":"#REF!"},{"$error":"#REF!"},{"$error":"#REF!"},{"$error":"#REF!"},{"$error":"#N/A"},{"$error":"#N/A"},0,0,0,0,0,0,1,1,1,1,1,1,0,0,0,0,0,0,false,false,false,false,false,false,false,1,1,1,1,1,1,0,0,0,0,0,0,0,1,1,0,0,0,0,0]
["1974-09-01",false,"2002-09-04",false,false,{"$error":"#N/A"},0,1,0,false,1,{"$error":"#N/A"},1,{"$error":"#N/A"},1,1,1,1,1,1,1,{"$error":"#REF!"},{"$error":"#REF!"},{"$error":"#REF!"},{"$error":"#REF!"},{"$error":"#N/A"},{"$error":"#N/A"},0,0,0,0,0,0,1,1,1,1,1,1,0,0,0,0,0,0,false,false,false,false,false,false,false,1,1,1,1,1,1,0,0,0,0,0,0,0,1,1,0,0,0,0,0]
["1974-10-01",false,"2002-09-11",false,false,{"$error":"#N/A"},0,1,0,false,1,{"$error":"#N/A"},1,{"$error":"#N/A"},1,1,1,1,1,1,1,{"$error":"#REF!"},{"$error":"#REF!"},{"$error":"#REF!"},{"$error":"#REF!"},{"$error":"#N/A"},{"$error":"#N/A"},0,0,0,0,0,0,1,1,1,1,1,1,0,0,0,0,0,0,false,false,false,false,false,false,false,1,1,1,1,1,1,0,0,0,0,0,0,0,1,1,0,0,0,0,0]
["1974-11-01",false,"2002-09-18",false,false,{"$error":"#N/A"},0,1,0,false,1,{"$error":"#N/A"},1,{"$error":"#N/A"},1,1,1,1,1,1,1,{"$error":"#REF!"},{"$error":"#REF!"},{"$error":"#REF!"},{"$error":"#REF!"},{"$error":"#N/A"},{"$error":"#N/A"},0,0,0,0,0,0,1,1,1,1,1,1,0,0,0,0,0,0,false,false,false,false,false,false,false,1,1,1,1,1,1,0,0,0,0,0,0,0,1,1,0,0,0,0,0]
["1974-12-01",false,"2002-09-25",false,false,{"$error":"#N/A"},0,1,0,false,1,{"$error":"#N/A"},1,{"$error":"#N/A"},1,1,1,1,1,1,1,{"$error":"#REF!"},{"$error":"#REF!"},{"$error":"#REF!"},{"$error":"#REF!"},{"$error":"#N/A"},{"$error":"#N/A"},0,0,0,0,0,0,1,1,1,1,1,1,0,0,0,0,0,0,false,false,false,false,false,false,false,1,1,1,1,1,1,0,0,0,0,0,0,0,1,1,0,0,0,0,0]
["1975-01-01",false,"2002-10-02",false,false,{"$error":"#N/A"},0,1,0,false,1,{"$error":"#N/A"},1,{"$error":"#N/A"},1,1,1,1,1,1,1,{"$error":"#REF!"},{"$error":"#REF!"},{"$error":"#REF!"},{"$error":"#REF!"},{"$error":"#N/A"},{"$error":"#N/A"},0,0,0,0,0,0,1,1,1,1,1,1,0,0,0,0,0,0,false,false,false,false,false,false,false,1,1,1,1,1,1,0,0,0,0,0,0,0,1,1,0,0,0,0,0]
["1975-02-01",false,"2002-10-09",false,false,{"$error":"#N/A"},0,1,0,false,1,{"$error":"#N/A"},1,{"$error":"#N/A"},1,1,1,1,1,1,1,{"$error":"#REF!"},{"$error":"#REF!"},{"$error":"#REF!"},{"$error":"#REF!"},{"$error":"#N/A"},{"$error":"#N/A"},0,0,0,0,0,0,1,1,1,1,1,1,0,0,0,0,0,0,false,false,false,false,false,false,false,1,1,1,1,1,1,0,0,0,0,0,0,0,1,1,0,0,0,0,0]
["1975-03-01",false,"2002-10-16",false,false,{"$error":"#N/A"},0,1,0,false,1,{"$error":"#N/A"},1,{"$error":"#N/A"},1,1,1,1,1,1,1,{"$error":"#REF!"},{"$error":"#REF!"},{"$error":"#REF!"},{"$error":"#REF!"},{"$error":"#N/A"},{"$error":"#N/A"},0,0,0,0,0,0,1,1,1,{"$f":"IF(AK$7,INDEX($BN312:$BT312,AK$7),1)","v":1},1,1,0,0,0,0,0,0,false,false,false,false,false,false,false,1,1,1,1,1,1,0,0,0,0,0,0,0,1,1,0,0,0,0,0]
["1975-04-01",false,"2002-10-23",false,false,{"$error":"#N/A"},0,1,0,false,1,{"$error":"#N/A"},1,{"$error":"#N/A"},1,1,1,1,1,1,1,{"$error":"#REF!"},{"$error":"#REF!"},{"$error":"#REF!"},{"$error":"#REF!"},{"$error":"#N/A"},{"$error":"#N/A"},0,0,0,0,0,0,1,1,1,1,1,1,0,0,0,0,0,0,false,false,false,false,false,false,false,1,1,1,1,1,1,0,0,0,0,0,0,0,1,1,0,0,0,0,0]
["1975-05-01",false,"2002-10-30",false,false,{"$error":"#N/A"},0,1,0,false,1,{"$error":"#N/A"},1,{"$error":"#N/A"},1,1,1,1,1,1,1,{"$error":"#REF!"},{"$error":"#REF!"},{"$error":"#REF!"},{"$error":"#REF!"},{"$error":"#N/A"},{"$error":"#N/A"},0,0,0,0,0,0,1,1,1,1,1,1,0,0,0,0,0,0,false,false,false,false,false,false,false,1,1,1,1,1,1,0,0,0,0,0,0,0,1,1,0,0,0,0,0]
["1975-06-01",false,"2002-11-06",false,false,{"$error":"#N/A"},0,1,0,false,1,{"$error":"#N/A"},1,{"$error":"#N/A"},1,1,1,1,1,1,1,{"$error":"#REF!"},{"$error":"#REF!"},{"$error":"#REF!"},{"$error":"#REF!"},{"$error":"#N/A"},{"$error":"#N/A"},0,0,0,0,0,0,1,1,1,1,1,1,0,0,0,0,0,0,false,false,false,false,false,false,false,1,1,1,1,1,1,0,0,0,0,0,0,0,1,1,0,0,0,0,0]
["1975-07-01",false,"2002-11-13",false,false,{"$error":"#N/A"},0,1,0,false,1,{"$error":"#N/A"},1,{"$error":"#N/A"},1,1,1,1,1,1,1,{"$error":"#REF!"},{"$error":"#REF!"},{"$error":"#REF!"},{"$error":"#REF!"},{"$error":"#N/A"},{"$error":"#N/A"},0,0,0,0,0,0,1,1,1,1,1,1,0,0,0,0,0,0,false,false,false,false,false,false,false,1,1,1,1,1,1,0,0,0,0,0,0,0,1,1,0,0,0,0,0]
["1975-08-01",false,"2002-11-20",false,false,{"$error":"#N/A"},0,1,0,false,1,{"$error":"#N/A"},1,{"$error":"#N/A"},1,1,1,1,1,1,1,{"$error":"#REF!"},{"$error":"#REF!"},{"$error":"#REF!"},{"$error":"#REF!"},{"$error":"#N/A"},{"$error":"#N/A"},0,0,0,0,0,0,1,1,1,1,1,1,0,0,0,0,0,0,false,false,false,false,false,false,false,1,1,1,1,1,1,0,0,0,0,0,0,0,1,1,0,0,0,0,0]
["1975-09-01",false,"2002-11-27",false,false,{"$error":"#N/A"},0,1,0,false,1,{"$error":"#N/A"},1,{"$error":"#N/A"},1,1,1,1,1,1,1,{"$error":"#REF!"},{"$error":"#REF!"},{"$error":"#REF!"},{"$error":"#REF!"},{"$error":"#N/A"},{"$error":"#N/A"},0,0,0,0,0,0,1,1,1,1,1,1,0,0,0,0,0,0,false,false,false,false,false,false,false,1,1,1,1,1,1,0,0,0,0,0,0,0,1,1,0,0,0,0,0]
["1975-10-01",false,"2002-12-04",false,false,{"$error":"#N/A"},0,1,0,false,1,{"$error":"#N/A"},1,{"$error":"#N/A"},1,1,1,1,1,1,1,{"$error":"#REF!"},{"$error":"#REF!"},{"$error":"#REF!"},{"$error":"#REF!"},{"$error":"#N/A"},{"$error":"#N/A"},0,0,0,0,0,0,1,1,1,1,1,1,0,0,0,0,0,0,false,false,false,false,false,false,false,1,1,1,1,1,1,0,0,0,0,0,0,0,1,1,0,0,0,0,0]
["1975-11-01",false,"2002-12-11",false,false,{"$error":"#N/A"},0,1,0,false,1,{"$error":"#N/A"},1,{"$error":"#N/A"},1,1,1,1,1,1,1,{"$error":"#REF!"},{"$error":"#REF!"},{"$error":"#REF!"},{"$error":"#REF!"},{"$error":"#N/A"},{"$error":"#N/A"},0,0,0,0,0,0,1,1,1,1,1,1,0,0,0,0,0,0,false,false,false,false,false,false,false,1,1,1,1,1,1,0,0,0,0,0,0,0,1,1,0,0,0,0,0]
["1975-12-01",false,"2002-12-18",false,false,{"$error":"#N/A"},0,1,0,false,1,{"$error":"#N/A"},1,{"$error":"#N/A"},1,1,1,1,1,1,1,{"$error":"#REF!"},{"$error":"#REF!"},{"$error":"#REF!"},{"$f":"LOOKUP($A321,INDIRECT(\"'\"&Y$5&\"'!A:A\"),INDIRECT(\"'\"&Y$5&\"'!\"&Y$7&\":\"&Y$7))","v":{"$error":"#REF!"}},{"$error":"#N/A"},{"$error":"#N/A"},0,0,0,0,0,0,1,1,1,1,1,1,0,0,0,0,0,0,false,false,false,false,false,false,false,1,1,1,1,1,1,0,0,0,0,0,0,0,1,1,0,0,0,0,0]
["1976-01-01",false,"2002-12-25",false,false,{"$error":"#N/A"},0,1,0,false,1,{"$error":"#N/A"},1,{"$error":"#N/A"},1,1,1,1,1,1,1,{"$error":"#REF!"},{"$error":"#REF!"},{"$error":"#REF!"},{"$error":"#REF!"},{"$error":"#N/A"},{"$error":"#N/A"},0,0,0,0,0,0,1,1,1,1,1,1,0,0,0,0,0,0,false,false,false,false,false,false,false,1,1,1,1,1,1,0,0,0,0,0,0,0,1,1,0,0,0,0,0]
["1976-02-01",false,"2003-01-01",false,false,{"$error":"#N/A"},0,1,0,false,1,{"$error":"#N/A"},1,{"$error":"#N/A"},1,1,1,1,1,1,1,{"$error":"#REF!"},{"$error":"#REF!"},{"$error":"#REF!"},{"$error":"#REF!"},{"$error":"#N/A"},{"$error":"#N/A"},0,0,0,0,0,0,1,1,1,1,1,1,0,0,0,0,0,0,false,false,false,false,false,false,false,1,1,1,1,1,1,0,0,0,0,0,0,0,1,1,0,0,0,0,0]
["1976-03-01",false,"2003-01-08",false,false,{"$error":"#N/A"},0,1,0,false,1,{"$error":"#N/A"},1,{"$error":"#N/A"},1,1,1,1,1,1,1,{"$error":"#REF!"},{"$error":"#REF!"},{"$error":"#REF!"},{"$error":"#REF!"},{"$error":"#N/A"},{"$error":"#N/A"},0,0,0,0,0,0,1,1,1,1,1,1,0,0,0,0,0,0,false,false,false,false,false,false,false,1,1,1,1,1,1,0,0,0,0,0,0,0,1,1,0,0,0,0,0]
["1976-04-01",false,"2003-01-15",false,false,{"$error":"#N/A"},0,1,0,false,1,{"$error":"#N/A"},1,{"$error":"#N/A"},1,1,1,1,1,1,1,{"$error":"#REF!"},{"$error":"#REF!"},{"$error":"#REF!"},{"$error":"#REF!"},{"$error":"#N/A"},{"$error":"#N/A"},0,0,0,0,0,0,1,1,1,1,1,1,0,0,0,0,0,0,false,false,false,false,false,false,false,1,1,1,1,1,1,0,0,0,0,0,0,0,1,1,0,0,0,0,0]
["1976-05-01",false,"2003-01-22",false,false,{"$error":"#N/A"},0,1,0,false,1,{"$error":"#N/A"},1,{"$error":"#N/A"},1,1,1,1,1,1,1,{"$error":"#REF!"},{"$error":"#REF!"},{"$error":"#REF!"},{"$error":"#REF!"},{"$error":"#N/A"},{"$error":"#N/A"},0,0,0,0,0,0,1,1,1,1,1,1,0,0,0,0,0,0,false,false,false,false,false,false,false,1,1,1,1,1,1,0,0,0,0,0,0,0,1,1,0,0,0,0,0]
["1976-06-01",false,"2003-01-29",false,false,{"$error":"#N/A"},0,1,0,false,1,{"$error":"#N/A"},1,{"$error":"#N/A"},1,1,1,1,1,1,1,{"$error":"#REF!"},{"$error":"#REF!"},{"$error":"#REF!"},{"$error":"#REF!"},{"$error":"#N/A"},{"$error":"#N/A"},0,0,0,0,0,0,1,1,1,1,1,1,0,0,0,0,0,0,false,false,false,false,false,false,false,1,1,1,1,1,1,0,0,0,0,0,0,0,1,1,0,0,0,0,0]
["1976-07-01",false,"2003-02-05",false,false,{"$error":"#N/A"},0,1,0,false,1,{"$error":"#N/A"},1,{"$error":"#N/A"},1,1,1,1,1,1,1,{"$error":"#REF!"},{"$error":"#REF!"},{"$error":"#REF!"},{"$error":"#REF!"},{"$error":"#N/A"},{"$error":"#N/A"},0,0,0,0,0,0,1,1,1,1,1,1,0,0,0,0,0,0,false,false,false,false,false,false,false,1,1,1,1,1,1,0,0,0,0,0,0,0,1,1,0,0,0,0,0]
["1976-08-01",false,"2003-02-12",false,false,{"$error":"#N/A"},0,1,0,false,1,{"$error":"#N/A"},1,{"$error":"#N/A"},1,1,1,1,1,1,1,{"$error":"#REF!"},{"$error":"#REF!"},{"$error":"#REF!"},{"$error":"#REF!"},{"$error":"#N/A"},{"$error":"#N/A"},0,0,0,0,0,0,1,1,1,1,1,1,0,0,0,0,0,0,false,false,false,false,false,false,false,1,1,1,1,1,1,0,0,0,0,0,0,0,1,1,0,0,0,0,0]
["1976-09-01",false,"2003-02-19",false,false,{"$error":"#N/A"},0,1,0,false,1,{"$error":"#N/A"},1,{"$error":"#N/A"},1,1,1,1,1,1,1,{"$error":"#REF!"},{"$error":"#REF!"},{"$error":"#REF!"},{"$error":"#REF!"},{"$error":"#N/A"},{"$error":"#N/A"},0,0,0,0,0,0,1,1,1,1,1,1,0,0,0,0,0,0,false,false,false,false,false,false,false,1,1,1,1,1,1,0,0,0,0,0,0,0,1,1,0,0,0,0,0]
["1976-10-01",{"$f":"IF(B330<=$D$2,EOMONTH(B330,1))","v":false},"2003-02-26",false,false,{"$f":"LOOKUP(D331,A:A,G:G)","v":{"$error":"#N/A"}},{"$f":"IFERROR(LOOKUP($A331,INDIRECT(\"'\"&G$7&\"'!A:A\"),INDIRECT(\"'\"&G$7&\"'!\"&$G$9&\":\"&$G$9)),0)","v":0},{"$f":"IF(H$8,INDEX($BN331:$BT331,H$8),1)","v":1},{"$f":"IF(ISNUMBER(F331),F331,I332)*H331","v":0},false,1,{"$error":"#N/A"},1,{"$error":"#N/A"},1,1,1,1,1,1,1,{"$f":"LOOKUP($A331,INDIRECT(\"'\"&V$5&\"'!A:A\"),INDIRECT(\"'\"&V$5&\"'!\"&V$7&\":\"&V$7))","v":{"$error":"#REF!"}},{"$error":"#REF!"},{"$error":"#REF!"},{"$error":"#REF!"},{"$error":"#N/A"},{"$error":"#N/A"},{"$f":"IF(ISNUMBER(LOOKUP($D331,$A:$A,V:V)),LOOKUP($D331,$A:$A,V:V),AB330)","v":0},{"$f":"IF(ISNUMBER(LOOKUP($D331,$A:$A,W:W)),LOOKUP($D331,$A:$A,W:W),AC330)","v":0},{"$f":"IF(ISNUMBER(LOOKUP($D331,$A:$A,X:X)),LOOKUP($D331,$A:$A,X:X),AD330)","v":0},{"$f":"IF(ISNUMBER(LOOKUP($D331,$A:$A,Y:Y)),LOOKUP($D331,$A:$A,Y:Y),AE330)","v":0},{"$f":"IF(ISNUMBER(LOOKUP($D331,$A:$A,Z:Z)),LOOKUP($D331,$A:$A,Z:Z),AF330)","v":0},{"$f":"IF(ISNUMBER(LOOKUP($D331,$A:$A,AA:AA)),LOOKUP($D331,$A:$A,AA:AA),AG330)","v":0},1,1,1,1,1,1,{"$f":"IFERROR(IF(ISNUMBER(AB331)>0.1,AB331,AN332)*AH331,AN332)","v":0},{"$f":"IFERROR(IF(ISNUMBER(AC331)>0.1,AC331,AO332)*AI331,AO332)","v":0},{"$f":"IFERROR(IF(ISNUMBER(AD331)>0.1,AD331,AP332)*AJ331,AP332)","v":0},{"$f":"IFERROR(IF(ISNUMBER(AE331)>0.1,AE331,AQ332)*AK331,AQ332)","v":0},{"$f":"IFERROR(IF(ISNUMBER(AF331)>0.1,AF331,AR332)*AL331,AR332)","v":0},{"$f":"IF(ISNUMBER(AG331)>0.1,AG331,AS332)","v":0},false,{"$f":"IF(E331,IFERROR(LN(AN331/AN330),FALSE))","v":false},{"$f":"IF(E331,IFERROR(LN(AO331/AO330),FALSE))","v":false},{"$f":"IF(E331,IFERROR(LN(AP331/AP330),FALSE))","v":false},{"$f":"IF(E331,IFERROR(LN(AQ331/AQ330),FALSE))","v":false},{"$f":"IF(E331,IFERROR(LN(AR331/AR330),FALSE))","v":false},{"$f":"IF(E331,IFERROR(LN(AS331/AS330),FALSE))","v":false},1,1,1,1,1,1,{"$f":"IFERROR(LOOKUP($A331,INDIRECT(\"'\"&BN$6&\"'!A:A\"),INDIRECT(\"'\"&BN$6&\"'!\"&BN$7&\":\"&BN$7)),0)","v":0},{"$f":"IFERROR(LOOKUP($A331,INDIRECT(\"'\"&BO$6&\"'!A:A\"),INDIRECT(\"'\"&BO$6&\"'!\"&BO$7&\":\"&BO$7)),0)","v":0},{"$f":"IFERROR(LOOKUP($A331,INDIRECT(\"'\"&BP$6&\"'!A:A\"),INDIRECT(\"'\"&BP$6&\"'!\"&BP$7&\":\"&BP$7)),0)","v":0},{"$f":"IFERROR(LOOKUP($A331,INDIRECT(\"'\"&BQ$6&\"'!A:A\"),INDIRECT(\"'\"&BQ$6&\"'!\"&BQ$7&\":\"&BQ$7)),0)","v":0},{"$f":"IFERROR(LOOKUP($A331,INDIRECT(\"'\"&BR$6&\"'!A:A\"),INDIRECT(\"'\"&BR$6&\"'!\"&BR$7&\":\"&BR$7)),0)","v":0},{"$f":"IFERROR(LOOKUP($A331,INDIRECT(\"'\"&BS$6&\"'!A:A\"),INDIRECT(\"'\"&BS$6&\"'!\"&BS$7&\":\"&BS$7)),0)","v":0},{"$f":"IFERROR(LOOKUP($A331,INDIRECT(\"'\"&BT$6&\"'!A:A\"),INDIRECT(\"'\"&BT$6&\"'!\"&BT$7&\":\"&BT$7)),0)","v":0},{"$f":"IFERROR(1/IFERROR(LOOKUP($D331,$A:$A,BG:BG)*1,0),1)","v":1},{"$f":"IFERROR(1/IFERROR(LOOKUP($D331,$A:$A,BH:BH)*1,0),1)","v":1},0,0,0,0,0]
["1976-11-01",false,{"$f":"IF(C331<=$D$2,C331+7)","v":"2003-03-05"},false,{"$f":"AND(D332>=$D$4,D331<=$D$2)","v":false},{"$error":"#N/A"},0,1,0,{"$f":"IFERROR(LN(I332/I331),FALSE)","v":false},1,{"$error":"#N/A"},1,{"$error":"#N/A"},1,1,1,1,1,1,1,{"$error":"#REF!"},{"$error":"#REF!"},{"$error":"#REF!"},{"$error":"#REF!"},{"$error":"#N/A"},{"$error":"#N/A"},0,0,0,0,0,0,1,1,1,1,1,1,0,0,0,0,0,0,false,false,false,false,false,false,false,{"$f":"IFERROR(IF($E332,BA331*AN332/AN331,1),1)","v":1},{"$f":"IFERROR(IF($E332,BB331*AO332/AO331,1),1)","v":1},{"$f":"IFERROR(IF($E332,BC331*AP332/AP331,1),1)","v":1},{"$f":"IFERROR(IF($E332,BD331*AQ332/AQ331,1),1)","v":1},{"$f":"IFERROR(IF($E332,BE331*AR332/AR331,1),1)","v":1},{"$f":"IFERROR(IF($E332,BF331*AS332/AS331,1),1)","v":1},0,0,0,0,0,0,0,1,1,{"$f":"IFERROR(LOOKUP($D332,$A:$A,BI:BI)*1,BP331)","v":0},{"$f":"IFERROR(LOOKUP($D332,$A:$A,BJ:BJ)*1,BQ331)","v":0},{"$f":"IFERROR(LOOKUP($D332,$A:$A,BK:BK)*1,BR331)","v":0},{"$f":"IFERROR(LOOKUP($D332,$A:$A,BL:BL)*1,BS331)","v":0},{"$f":"IFERROR(LOOKUP($D332,$A:$A,BM:BM)*1,BT331)","v":0}]
["1976-12-01",false,"2003-03-12",{"$f":"IF($D$6,C333,B333)","v":false},false,{"$error":"#N/A"},0,1,0,false,{"$f":"IF($E333,(K332*I333/I332),1)","v":1},{"$f":"IF(E333,D333,NA())","v":{"$error":"#N/A"}},{"$f":"CHOOSE($M$1,I333,J333,K333)","v":1},{"$f":"L333","v":{"$error":"#N/A"}},{"$f":"M333","v":1},{"$f":"IFERROR(CHOOSE($M$1,AN333,AU333,BA333),1)","v":1},{"$f":"IFERROR(CHOOSE($M$1,AO333,AV333,BB333),1)","v":1},{"$f":"IFERROR(CHOOSE($M$1,AP333,AW333,BC333),1)","v":1},{"$f":"IFERROR(CHOOSE($M$1,AQ333,AX333,BD333),1)","v":1},{"$f":"IFERROR(CHOOSE($M$1,AR333,AY333,BE333),1)","v":1},{"$f":"IFERROR(CHOOSE($M$1,AS333,AZ333,BF333),1)","v":1},{"$error":"#REF!"},{"$error":"#REF!"},{"$error":"#REF!"},{"$error":"#REF!"},{"$error":"#N/A"},{"$error":"#N/A"},0,0,0,0,0,0,1,1,1,1,1,1,0,0,0,0,0,0,{"$f":"J333","v":false},false,false,false,false,false,false,1,1,1,1,1,1,0,0,0,0,0,0,0,1,1,0,0,0,0,0]
["1977-01-01",false,"2003-03-19",false,false,{"$error":"#N/A"},0,1,0,false,1,{"$error":"#N/A"},1,{"$error":"#N/A"},1,1,1,1,1,1,1,{"$error":"#REF!"},{"$error":"#REF!"},{"$error":"#REF!"},{"$error":"#REF!"},{"$error":"#N/A"},{"$error":"#N/A"},0,0,0,0,0,0,1,1,1,1,1,1,0,0,0,0,0,0,false,false,false,false,false,false,false,1,1,1,1,1,1,0,0,0,0,0,0,0,1,1,0,0,0,0,0]
["1977-02-01",false,"2003-03-26",false,false,{"$error":"#N/A"},0,1,0,false,1,{"$error":"#N/A"},1,{"$error":"#N/A"},1,1,1,1,1,1,1,{"$error":"#REF!"},{"$error":"#REF!"},{"$error":"#REF!"},{"$error":"#REF!"},{"$error":"#N/A"},{"$error":"#N/A"},0,0,0,0,0,0,1,1,1,1,1,1,0,0,0,0,0,0,false,false,false,false,false,false,false,1,1,1,1,1,1,0,0,0,0,0,0,0,1,1,0,0,0,0,0]
["1977-03-01",false,"2003-04-02",false,false,{"$error":"#N/A"},0,1,0,false,1,{"$error":"#N/A"},1,{"$error":"#N/A"},1,1,1,1,1,1,1,{"$error":"#REF!"},{"$error":"#REF!"},{"$error":"#REF!"},{"$error":"#REF!"},{"$error":"#N/A"},{"$error":"#N/A"},0,0,0,0,0,0,1,1,1,1,1,1,0,0,0,0,0,0,false,false,false,false,false,false,false,1,1,1,1,1,1,0,0,0,0,0,0,0,1,1,0,0,0,0,0]
["1977-04-01",false,"2003-04-09",false,false,{"$error":"#N/A"},0,1,0,false,1,{"$error":"#N/A"},1,{"$error":"#N/A"},1,1,1,1,1,1,1,{"$error":"#REF!"},{"$error":"#REF!"},{"$error":"#REF!"},{"$error":"#REF!"},{"$error":"#N/A"},{"$error":"#N/A"},0,0,0,0,0,0,1,1,1,1,1,1,0,0,0,0,0,0,false,false,false,false,false,false,false,1,1,1,1,1,1,0,0,0,0,0,0,0,1,1,0,0,0,0,0]
["1977-05-01",false,"2003-04-16",false,false,{"$error":"#N/A"},0,1,0,false,1,{"$error":"#N/A"},1,{"$error":"#N/A"},1,1,1,1,1,1,1,{"$error":"#REF!"},{"$error":"#REF!"},{"$error":"#REF!"},{"$error":"#REF!"},{"$error":"#N/A"},{"$error":"#N/A"},0,0,0,0,0,0,1,1,1,1,1,1,0,0,0,0,0,0,false,false,false,false,false,false,false,1,1,1,1,1,1,0,0,0,0,0,0,0,1,1,0,0,0,0,0]
["1977-06-01",false,"2003-04-23",false,false,{"$error":"#N/A"},0,1,0,false,1,{"$error":"#N/A"},1,{"$error":"#N/A"},1,1,1,1,1,1,1,{"$error":"#REF!"},{"$error":"#REF!"},{"$error":"#REF!"},{"$error":"#REF!"},{"$error":"#N/A"},{"$error":"#N/A"},0,0,0,0,0,0,1,1,1,1,1,1,0,0,0,0,0,0,false,false,false,false,false,false,false,1,1,1,1,1,1,0,0,0,0,0,0,0,1,1,0,0,0,0,0]
["1977-07-01",false,"2003-04-30",false,false,{"$error":"#N/A"},0,1,0,false,1,{"$error":"#N/A"},1,{"$error":"#N/A"},1,1,1,1,1,1,1,{"$error":"#REF!"},{"$error":"#REF!"},{"$error":"#REF!"},{"$error":"#REF!"},{"$error":"#N/A"},{"$error":"#N/A"},0,0,0,0,0,0,1,1,1,1,1,1,0,0,0,0,0,0,false,false,false,false,false,false,false,1,1,1,1,1,1,0,0,0,0,0,0,0,1,1,0,0,0,0,0]
["1977-08-01",false,"2003-05-07",false,false,{"$error":"#N/A"},0,1,0,false,1,{"$error":"#N/A"},1,{"$error":"#N/A"},1,1,1,1,1,1,1,{"$error":"#REF!"},{"$error":"#REF!"},{"$error":"#REF!"},{"$error":"#REF!"},{"$error":"#N/A"},{"$error":"#N/A"},0,0,0,0,0,0,1,1,1,1,1,1,0,0,0,0,0,0,false,false,false,false,false,false,false,1,1,1,1,1,1,0,0,0,0,0,0,0,1,1,0,0,0,0,0]
["1977-09-01",false,"2003-05-14",false,false,{"$error":"#N/A"},0,1,0,false,1,{"$error":"#N/A"},1,{"$error":"#N/A"},1,1,1,1,1,1,1,{"$error":"#REF!"},{"$error":"#REF!"},{"$error":"#REF!"},{"$error":"#REF!"},{"$error":"#N/A"},{"$error":"#N/A"},0,0,0,0,0,0,1,1,1,1,1,1,0,0,0,0,0,0,false,false,false,false,false,false,false,1,1,1,1,1,1,0,0,0,0,0,0,0,1,1,0,0,0,0,0]
["1977-10-01",false,"2003-05-21",false,false,{"$error":"#N/A"},0,1,0,false,1,{"$error":"#N/A"},1,{"$error":"#N/A"},1,1,1,1,1,1,1,{"$error":"#REF!"},{"$error":"#REF!"},{"$error":"#REF!"},{"$error":"#REF!"},{"$error":"#N/A"},{"$error":"#N/A"},0,0,0,0,0,0,1,1,1,1,1,1,0,0,0,0,0,0,false,false,false,false,false,false,false,1,1,1,1,1,1,0,0,0,0,0,0,0,1,1,0,0,0,0,0]
["1977-11-01",false,"2003-05-28",false,false,{"$error":"#N/A"},0,1,0,false,1,{"$error":"#N/A"},1,{"$error":"#N/A"},1,1,1,1,1,1,1,{"$error":"#REF!"},{"$error":"#REF!"},{"$error":"#REF!"},{"$error":"#REF!"},{"$error":"#N/A"},{"$error":"#N/A"},0,0,0,0,0,0,1,1,1,1,1,1,0,0,0,0,0,0,false,false,false,false,false,false,false,1,1,1,1,1,1,0,0,0,0,0,0,0,1,1,0,0,0,0,0]
["1977-12-01",false,"2003-06-04",false,false,{"$error":"#N/A"},0,1,0,false,1,{"$error":"#N/A"},1,{"$error":"#N/A"},1,1,1,1,1,1,1,{"$error":"#REF!"},{"$error":"#REF!"},{"$error":"#REF!"},{"$error":"#REF!"},{"$error":"#N/A"},{"$error":"#N/A"},0,0,0,0,0,0,1,1,1,1,1,1,0,0,0,0,0,0,false,false,false,false,false,false,false,1,1,1,1,1,1,0,0,0,0,0,0,0,1,1,0,0,0,0,0]
["1978-01-01",false,"2003-06-11",false,false,{"$error":"#N/A"},0,1,0,false,1,{"$error":"#N/A"},1,{"$error":"#N/A"},1,1,1,1,1,1,1,{"$error":"#REF!"},{"$error":"#REF!"},{"$error":"#REF!"},{"$error":"#REF!"},{"$error":"#N/A"},{"$error":"#N/A"},0,0,0,0,0,0,1,1,1,1,1,1,0,0,0,0,0,0,false,false,false,false,false,false,false,1,1,1,1,1,1,0,0,0,0,0,0,0,1,1,0,0,0,0,0]
["1978-02-01",false,"2003-06-18",false,false,{"$error":"#N/A"},0,1,0,false,1,{"$error":"#N/A"},1,{"$error":"#N/A"},1,1,1,1,1,1,1,{"$error":"#REF!"},{"$error":"#REF!"},{"$error":"#REF!"},{"$error":"#REF!"},{"$error":"#N/A"},{"$error":"#N/A"},0,0,0,0,0,0,1,1,1,1,1,1,0,0,0,0,0,0,false,false,false,false,false,false,false,1,1,1,1,1,1,0,0,0,0,0,0,0,1,1,0,0,0,0,0]
["1978-03-01",false,"2003-06-25",false,false,{"$error":"#N/A"},0,1,0,false,1,{"$error":"#N/A"},1,{"$error":"#N/A"},1,1,1,1,1,1,1,{"$error":"#REF!"},{"$error":"#REF!"},{"$error":"#REF!"},{"$error":"#REF!"},{"$error":"#N/A"},{"$error":"#N/A"},0,0,0,0,0,0,1,1,1,1,1,1,0,0,0,0,0,0,false,false,false,false,false,false,false,1,1,1,1,1,1,0,0,0,0,0,0,0,1,1,0,0,0,0,0]
["1978-04-01",false,"2003-07-02",false,false,{"$error":"#N/A"},0,1,0,false,1,{"$error":"#N/A"},1,{"$error":"#N/A"},1,1,1,1,1,1,1,{"$error":"#REF!"},{"$error":"#REF!"},{"$error":"#REF!"},{"$error":"#REF!"},{"$error":"#N/A"},{"$error":"#N/A"},0,0,0,0,0,0,1,1,1,1,1,1,0,0,0,0,0,0,false,false,false,false,false,false,false,1,1,1,1,1,1,0,0,0,0,0,0,0,1,1,0,0,0,0,0]
["1978-05-01",false,"2003-07-09",false,false,{"$error":"#N/A"},0,1,0,false,1,{"$error":"#N/A"},1,{"$error":"#N/A"},1,1,1,1,1,1,1,{"$error":"#REF!"},{"$error":"#REF!"},{"$error":"#REF!"},{"$error":"#REF!"},{"$error":"#N/A"},{"$error":"#N/A"},0,0,0,0,0,0,1,1,1,1,1,1,0,0,0,0,0,0,false,false,false,false,false,false,false,1,1,1,1,1,1,0,0,0,0,0,0,0,1,1,0,0,0,0,0]
["1978-06-01",false,"2003-07-16",false,false,{"$error":"#N/A"},0,1,0,false,1,{"$error":"#N/A"},1,{"$error":"#N/A"},1,1,1,1,1,1,1,{"$error":"#REF!"},{"$error":"#REF!"},{"$error":"#REF!"},{"$error":"#REF!"},{"$error":"#N/A"},{"$error":"#N/A"},0,0,0,0,0,0,1,1,1,1,1,1,0,0,0,0,0,0,false,false,false,false,false,false,false,1,1,1,1,1,1,0,0,0,0,0,0,0,1,1,0,0,0,0,0]
["1978-07-01",false,"2003-07-23",false,false,{"$error":"#N/A"},0,1,0,false,1,{"$error":"#N/A"},1,{"$error":"#N/A"},1,1,1,1,1,1,1,{"$error":"#REF!"},{"$error":"#REF!"},{"$error":"#REF!"},{"$error":"#REF!"},{"$error":"#N/A"},{"$error":"#N/A"},0,0,0,0,0,0,1,1,1,1,1,1,0,0,0,0,0,0,false,false,false,false,false,false,false,1,1,1,1,1,1,0,0,0,0,0,0,0,1,1,0,0,0,0,0]
["1978-08-01",false,"2003-07-30",false,false,{"$error":"#N/A"},0,1,0,false,1,{"$error":"#N/A"},1,{"$error":"#N/A"},1,1,1,1,1,1,1,{"$error":"#REF!"},{"$error":"#REF!"},{"$error":"#REF!"},{"$error":"#REF!"},{"$error":"#N/A"},{"$error":"#N/A"},0,0,0,0,0,0,1,1,1,1,1,1,0,0,0,0,0,0,false,false,false,false,false,false,false,1,1,1,1,1,1,0,0,0,0,0,0,0,1,1,0,0,0,0,0]
["1978-09-01",false,"2003-08-06",false,false,{"$error":"#N/A"},0,1,0,false,1,{"$error":"#N/A"},1,{"$error":"#N/A"},1,1,1,1,1,1,1,{"$error":"#REF!"},{"$error":"#REF!"},{"$error":"#REF!"},{"$error":"#REF!"},{"$error":"#N/A"},{"$error":"#N/A"},0,0,0,0,0,0,1,1,1,1,1,1,0,0,0,0,0,0,false,false,false,false,false,false,false,1,1,1,1,1,1,0,0,0,0,0,0,0,1,1,0,0,0,0,0]
["1978-10-01",false,"2003-08-13",false,false,{"$error":"#N/A"},0,1,0,false,1,{"$error":"#N/A"},1,{"$error":"#N/A"},1,1,1,1,1,1,1,{"$error":"#REF!"},{"$error":"#REF!"},{"$error":"#REF!"},{"$error":"#REF!"},{"$error":"#N/A"},{"$error":"#N/A"},0,0,0,0,0,0,1,1,1,1,1,1,0,0,0,0,0,0,false,false,false,false,false,false,false,1,1,1,1,1,1,0,0,0,0,0,0,0,1,1,0,0,0,0,0]
["1978-11-01",false,"2003-08-20",false,false,{"$error":"#N/A"},0,1,0,false,1,{"$error":"#N/A"},1,{"$error":"#N/A"},1,1,1,1,1,1,1,{"$error":"#REF!"},{"$error":"#REF!"},{"$error":"#REF!"},{"$error":"#REF!"},{"$error":"#N/A"},{"$error":"#N/A"},0,0,0,0,0,0,1,1,1,1,1,1,0,0,0,0,0,0,false,false,false,false,false,false,false,1,1,1,1,1,1,0,0,0,0,0,0,0,1,1,0,0,0,0,0]
["1978-12-01",false,"2003-08-27",false,false,{"$error":"#N/A"},0,1,0,false,1,{"$error":"#N/A"},1,{"$error":"#N/A"},1,1,1,1,1,1,1,{"$error":"#REF!"},{"$error":"#REF!"},{"$error":"#REF!"},{"$error":"#REF!"},{"$error":"#N/A"},{"$error":"#N/A"},0,0,0,0,0,0,1,1,1,1,1,1,0,0,0,0,0,0,false,false,false,false,false,false,false,1,1,1,1,1,1,0,0,0,0,0,0,0,1,1,0,0,0,0,0]
["1979-01-01",false,"2003-09-03",false,false,{"$error":"#N/A"},0,1,0,false,1,{"$error":"#N/A"},1,{"$error":"#N/A"},1,1,1,1,1,1,1,{"$error":"#REF!"},{"$error":"#REF!"},{"$error":"#REF!"},{"$error":"#REF!"},{"$error":"#N/A"},{"$error":"#N/A"},0,0,0,0,0,0,1,1,1,1,1,1,0,0,0,0,0,0,false,false,false,false,false,false,false,1,1,1,1,1,1,0,0,0,0,0,0,0,1,1,0,0,0,0,0]
["1979-02-01",false,"2003-09-10",false,false,{"$error":"#N/A"},0,1,0,false,1,{"$error":"#N/A"},1,{"$error":"#N/A"},1,1,1,1,1,1,1,{"$error":"#REF!"},{"$error":"#REF!"},{"$error":"#REF!"},{"$error":"#REF!"},{"$error":"#N/A"},{"$error":"#N/A"},0,0,0,0,0,0,1,1,1,1,1,1,0,0,0,0,0,0,false,false,false,false,false,false,false,1,1,1,1,1,1,0,0,0,0,0,0,0,1,1,0,0,0,0,0]
["1979-03-01",false,"2003-09-17",false,false,{"$error":"#N/A"},0,1,0,false,1,{"$error":"#N/A"},1,{"$error":"#N/A"},1,1,1,1,1,1,1,{"$error":"#REF!"},{"$error":"#REF!"},{"$error":"#REF!"},{"$error":"#REF!"},{"$error":"#N/A"},{"$error":"#N/A"},0,0,0,0,0,0,1,1,1,1,1,1,0,0,0,0,0,0,false,false,false,false,false,false,false,1,1,1,1,1,1,0,0,0,0,0,0,0,1,1,0,0,0,0,0]
["1979-04-01",false,"2003-09-24",false,false,{"$error":"#N/A"},0,1,0,false,1,{"$error":"#N/A"},1,{"$error":"#N/A"},1,1,1,1,1,1,1,{"$error":"#REF!"},{"$error":"#REF!"},{"$error":"#REF!"},{"$error":"#REF!"},{"$error":"#N/A"},{"$error":"#N/A"},0,0,0,0,0,0,1,1,1,1,1,1,0,0,0,0,0,0,false,false,false,false,false,false,false,1,1,1,1,1,1,0,0,0,0,0,0,0,1,1,0,0,0,0,0]
["1979-05-01",false,"2003-10-01",false,false,{"$error":"#N/A"},0,1,0,false,1,{"$error":"#N/A"},1,{"$error":"#N/A"},1,1,1,1,1,1,1,{"$error":"#REF!"},{"$error":"#REF!"},{"$error":"#REF!"},{"$error":"#REF!"},{"$error":"#N/A"},{"$error":"#N/A"},0,0,0,0,0,0,1,1,1,1,1,1,0,0,0,0,0,0,false,false,false,false,false,false,false,1,1,1,1,1,1,0,0,0,0,0,0,0,1,1,0,0,0,0,0]
["1979-06-01",false,"2003-10-08",false,false,{"$error":"#N/A"},0,1,0,false,1,{"$error":"#N/A"},1,{"$error":"#N/A"},1,1,1,1,1,1,1,{"$error":"#REF!"},{"$error":"#REF!"},{"$error":"#REF!"},{"$error":"#REF!"},{"$error":"#N/A"},{"$error":"#N/A"},0,0,0,0,0,0,1,1,1,{"$f":"IF(AK$7,INDEX($BN363:$BT363,AK$7),1)","v":1},1,1,0,0,0,0,0,0,false,false,false,false,false,false,false,1,1,1,1,1,1,0,0,0,0,0,0,0,1,1,0,0,0,0,0]
["1979-07-01",false,"2003-10-15",false,false,{"$error":"#N/A"},0,1,0,false,1,{"$error":"#N/A"},1,{"$error":"#N/A"},1,1,1,1,1,1,1,{"$error":"#REF!"},{"$error":"#REF!"},{"$error":"#REF!"},{"$error":"#REF!"},{"$error":"#N/A"},{"$error":"#N/A"},0,0,0,0,0,0,1,1,1,1,1,1,0,0,0,0,0,0,false,false,false,false,false,false,false,1,1,1,1,1,1,0,0,0,0,0,0,0,1,1,0,0,0,0,0]
["1979-08-01",false,"2003-10-22",false,false,{"$error":"#N/A"},0,1,0,false,1,{"$error":"#N/A"},1,{"$error":"#N/A"},1,1,1,1,1,1,1,{"$error":"#REF!"},{"$error":"#REF!"},{"$error":"#REF!"},{"$error":"#REF!"},{"$error":"#N/A"},{"$error":"#N/A"},0,0,0,0,0,0,{"$f":"IF(AH$7,INDEX($BN365:$BT365,AH$7),1)","v":1},1,1,1,1,1,0,0,0,0,0,0,false,false,false,false,false,false,false,1,1,1,1,1,1,0,0,0,0,0,0,0,1,1,0,0,0,0,0]
["1979-09-01",false,"2003-10-29",false,false,{"$error":"#N/A"},0,1,0,false,1,{"$error":"#N/A"},1,{"$error":"#N/A"},1,1,1,1,1,1,1,{"$error":"#REF!"},{"$error":"#REF!"},{"$error":"#REF!"},{"$error":"#REF!"},{"$error":"#N/A"},{"$error":"#N/A"},0,0,0,0,0,0,1,1,1,1,1,1,0,0,0,0,0,0,false,false,false,false,false,false,false,1,1,1,1,1,1,0,0,0,0,0,0,0,1,1,0,0,0,0,0]
["1979-10-01",false,"2003-11-05",false,false,{"$error":"#N/A"},0,1,0,false,1,{"$error":"#N/A"},1,{"$error":"#N/A"},1,1,1,1,1,1,1,{"$error":"#REF!"},{"$error":"#REF!"},{"$error":"#REF!"},{"$error":"#REF!"},{"$error":"#N/A"},{"$error":"#N/A"},0,0,0,0,0,0,1,1,1,1,1,1,0,0,0,0,0,0,false,false,false,false,false,false,false,1,1,1,1,1,1,0,0,0,0,0,0,0,1,1,0,0,0,0,0]
["1979-11-01",false,"2003-11-12",false,false,{"$error":"#N/A"},0,1,0,false,1,{"$error":"#N/A"},1,{"$error":"#N/A"},1,1,1,1,1,1,1,{"$error":"#REF!"},{"$error":"#REF!"},{"$error":"#REF!"},{"$error":"#REF!"},{"$error":"#N/A"},{"$error":"#N/A"},0,0,0,0,0,0,1,1,1,1,1,1,0,0,0,0,0,0,false,false,false,false,false,false,false,1,1,1,1,1,1,0,0,0,0,0,0,0,1,1,0,0,0,0,0]
["1979-12-01",false,"2003-11-19",false,false,{"$error":"#N/A"},0,1,0,false,1,{"$error":"#N/A"},1,{"$error":"#N/A"},1,1,1,1,1,1,1,{"$error":"#REF!"},{"$error":"#REF!"},{"$error":"#REF!"},{"$error":"#REF!"},{"$error":"#N/A"},{"$error":"#N/A"},0,0,0,0,0,0,1,1,1,1,1,1,0,0,0,0,0,0,false,false,false,false,false,false,false,1,1,1,1,1,1,0,0,0,0,0,0,0,1,1,0,0,0,0,0]
["1980-01-01",false,"2003-11-26",false,false,{"$error":"#N/A"},0,1,0,false,1,{"$error":"#N/A"},1,{"$error":"#N/A"},1,1,1,1,1,1,1,{"$error":"#REF!"},{"$error":"#REF!"},{"$error":"#REF!"},{"$error":"#REF!"},{"$error":"#N/A"},{"$error":"#N/A"},0,0,0,0,0,0,1,1,1,1,1,1,0,0,0,0,0,0,false,false,false,false,false,false,false,1,1,1,1,1,1,0,0,0,0,0,0,0,1,1,0,0,0,0,0]
["1980-02-01",false,"2003-12-03",false,false,{"$error":"#N/A"},0,1,0,false,1,{"$error":"#N/A"},1,{"$error":"#N/A"},1,1,1,1,1,1,1,{"$error":"#REF!"},{"$error":"#REF!"},{"$error":"#REF!"},{"$error":"#REF!"},{"$error":"#N/A"},{"$error":"#N/A"},0,0,0,0,0,0,1,1,1,1,1,1,0,0,0,0,0,0,false,false,false,false,false,false,false,1,1,1,1,1,1,0,0,0,0,0,0,0,1,1,0,0,0,0,0]
["1980-03-01",false,"2003-12-10",false,false,{"$error":"#N/A"},0,1,0,false,1,{"$error":"#N/A"},1,{"$error":"#N/A"},1,1,1,1,1,1,1,{"$error":"#REF!"},{"$error":"#REF!"},{"$error":"#REF!"},{"$f":"LOOKUP($A372,INDIRECT(\"'\"&Y$5&\"'!A:A\"),INDIRECT(\"'\"&Y$5&\"'!\"&Y$7&\":\"&Y$7))","v":{"$error":"#REF!"}},{"$error":"#N/A"},{"$error":"#N/A"},0,0,0,0,0,0,1,1,1,1,1,1,0,0,0,0,0,0,false,false,false,false,false,false,false,1,1,1,1,1,1,0,0,0,0,0,0,0,1,1,0,0,0,0,0]
["1980-04-01",false,"2003-12-17",false,false,{"$error":"#N/A"},0,1,0,false,1,{"$error":"#N/A"},1,{"$error":"#N/A"},1,1,1,1,1,1,1,{"$error":"#REF!"},{"$error":"#REF!"},{"$error":"#REF!"},{"$error":"#REF!"},{"$error":"#N/A"},{"$error":"#N/A"},0,0,0,0,0,0,1,1,1,1,1,1,0,0,0,0,0,0,false,false,false,false,false,false,false,1,1,1,1,1,1,0,0,0,0,0,0,0,1,1,0,0,0,0,0]
["1980-05-01",false,"2003-12-24",false,false,{"$error":"#N/A"},0,1,0,false,1,{"$error":"#N/A"},1,{"$error":"#N/A"},1,1,1,1,1,1,1,{"$error":"#REF!"},{"$error":"#REF!"},{"$error":"#REF!"},{"$error":"#REF!"},{"$error":"#N/A"},{"$error":"#N/A"},0,0,0,0,0,0,1,1,1,1,1,1,0,0,0,0,0,0,false,false,false,false,false,false,false,1,1,1,1,1,1,0,0,0,0,0,0,0,1,1,0,0,0,0,0]
["1980-06-01",false,"2003-12-31",false,false,{"$error":"#N/A"},0,1,0,false,1,{"$error":"#N/A"},1,{"$error":"#N/A"},1,1,1,1,1,1,1,{"$error":"#REF!"},{"$error":"#REF!"},{"$error":"#REF!"},{"$error":"#REF!"},{"$error":"#N/A"},{"$error":"#N/A"},0,0,0,0,0,0,1,1,1,1,1,1,0,0,0,0,0,0,false,false,false,false,false,false,false,1,1,1,1,1,1,0,0,0,0,0,0,0,1,1,0,0,0,0,0]
["1980-07-01",false,"2004-01-07",false,false,{"$error":"#N/A"},0,1,0,false,1,{"$error":"#N/A"},1,{"$error":"#N/A"},1,1,1,1,1,1,1,{"$error":"#REF!"},{"$error":"#REF!"},{"$error":"#REF!"},{"$error":"#REF!"},{"$error":"#N/A"},{"$error":"#N/A"},0,0,0,0,0,0,1,1,1,1,1,1,0,0,0,0,0,0,false,false,false,false,false,false,false,1,1,1,1,1,1,0,0,0,0,0,0,0,1,1,0,0,0,0,0,null,"a"]
["1980-08-01",false,"2004-01-14",false,false,{"$error":"#N/A"},0,1,0,false,1,{"$error":"#N/A"},1,{"$error":"#N/A"},1,1,1,1,1,1,1,{"$error":"#REF!"},{"$error":"#REF!"},{"$error":"#REF!"},{"$error":"#REF!"},{"$error":"#N/A"},{"$error":"#N/A"},0,0,0,0,0,0,1,1,1,1,1,1,0,0,0,0,0,0,false,false,false,false,false,false,false,1,1,1,1,1,1,0,0,0,0,0,0,0,1,1,0,0,0,0,0]
["1980-09-01",false,"2004-01-21",false,false,{"$error":"#N/A"},0,1,0,false,1,{"$error":"#N/A"},1,{"$error":"#N/A"},1,1,1,1,1,1,1,{"$error":"#REF!"},{"$error":"#REF!"},{"$error":"#REF!"},{"$error":"#REF!"},{"$error":"#N/A"},{"$error":"#N/A"},0,0,0,0,0,0,1,1,1,1,1,1,0,0,0,0,0,0,false,false,false,false,false,false,false,1,1,1,1,1,1,0,0,0,0,0,0,0,1,1,0,0,0,0,0]
["1980-10-01",false,"2004-01-28",false,false,{"$error":"#N/A"},0,1,0,false,1,{"$error":"#N/A"},1,{"$error":"#N/A"},1,1,1,1,1,1,1,{"$error":"#REF!"},{"$error":"#REF!"},{"$error":"#REF!"},{"$error":"#REF!"},{"$error":"#N/A"},{"$error":"#N/A"},0,0,0,0,0,0,1,1,1,1,1,1,0,0,0,0,0,0,false,false,false,false,false,false,false,1,1,1,1,1,1,0,0,0,0,0,0,0,1,1,0,0,0,0,0]
["1980-11-01",false,"2004-02-04",false,false,{"$error":"#N/A"},0,1,0,false,1,{"$error":"#N/A"},1,{"$error":"#N/A"},1,1,1,1,1,1,1,{"$error":"#REF!"},{"$error":"#REF!"},{"$error":"#REF!"},{"$error":"#REF!"},{"$error":"#N/A"},{"$error":"#N/A"},0,0,0,0,0,0,1,1,1,1,1,1,0,0,0,0,0,0,false,false,false,false,false,false,false,1,1,1,1,1,1,0,0,0,0,0,0,0,1,1,0,0,0,0,0]
["1980-12-01",false,"2004-02-11",false,false,{"$error":"#N/A"},0,1,0,false,1,{"$error":"#N/A"},1,{"$error":"#N/A"},1,1,1,1,1,1,1,{"$error":"#REF!"},{"$error":"#REF!"},{"$error":"#REF!"},{"$error":"#REF!"},{"$error":"#N/A"},{"$error":"#N/A"},0,0,0,0,0,0,1,1,1,1,1,1,0,0,0,0,0,0,false,false,false,false,false,false,false,1,1,1,1,1,1,0,0,0,0,0,0,0,1,1,0,0,0,0,0]
["1981-01-01",false,"2004-02-18",false,false,{"$error":"#N/A"},0,1,0,false,1,{"$error":"#N/A"},1,{"$error":"#N/A"},1,1,1,1,1,1,1,{"$error":"#REF!"},{"$error":"#REF!"},{"$error":"#REF!"},{"$error":"#REF!"},{"$error":"#N/A"},{"$error":"#N/A"},0,0,0,0,0,0,1,1,1,1,1,1,0,0,0,0,0,0,false,false,false,false,false,false,false,1,1,1,1,1,1,0,0,0,0,0,0,0,1,1,0,0,0,0,0]
["1981-02-01",false,"2004-02-25",false,false,{"$error":"#N/A"},0,1,0,false,1,{"$error":"#N/A"},1,{"$error":"#N/A"},1,1,1,1,1,1,1,{"$error":"#REF!"},{"$error":"#REF!"},{"$error":"#REF!"},{"$error":"#REF!"},{"$error":"#N/A"},{"$error":"#N/A"},0,0,0,0,0,0,1,1,1,1,1,1,0,0,0,0,0,0,false,false,false,false,false,false,false,1,1,1,1,1,1,0,0,0,0,0,0,0,1,1,0,0,0,0,0]
["1981-03-01",false,"2004-03-03",false,false,{"$error":"#N/A"},0,1,0,false,1,{"$error":"#N/A"},1,{"$error":"#N/A"},1,1,1,1,1,1,1,{"$error":"#REF!"},{"$error":"#REF!"},{"$error":"#REF!"},{"$error":"#REF!"},{"$error":"#N/A"},{"$error":"#N/A"},0,0,0,0,0,0,1,1,1,1,1,1,0,0,0,0,0,0,false,false,false,false,false,false,false,1,1,1,1,1,1,0,0,0,0,0,0,0,1,1,0,0,0,0,0]
["1981-04-01",false,"2004-03-10",false,false,{"$error":"#N/A"},0,1,0,false,1,{"$error":"#N/A"},1,{"$error":"#N/A"},1,1,1,1,1,1,1,{"$error":"#REF!"},{"$error":"#REF!"},{"$error":"#REF!"},{"$error":"#REF!"},{"$error":"#N/A"},{"$error":"#N/A"},0,0,0,0,0,0,1,1,1,1,1,1,0,0,0,0,0,0,false,false,false,false,false,false,false,1,1,1,1,1,1,0,0,0,0,0,0,0,1,1,0,0,0,0,0]
["1981-05-01",false,"2004-03-17",false,false,{"$error":"#N/A"},0,1,0,false,1,{"$error":"#N/A"},1,{"$error":"#N/A"},1,1,1,1,1,1,1,{"$error":"#REF!"},{"$error":"#REF!"},{"$error":"#REF!"},{"$error":"#REF!"},{"$error":"#N/A"},{"$error":"#N/A"},0,0,0,0,0,0,1,1,1,1,1,1,0,0,0,0,0,0,false,false,false,false,false,false,false,1,1,1,1,1,1,0,0,0,0,0,0,0,1,1,0,0,0,0,0]
["1981-06-01",false,"2004-03-24",false,false,{"$error":"#N/A"},0,1,0,false,1,{"$error":"#N/A"},1,{"$error":"#N/A"},1,1,1,1,1,1,1,{"$error":"#REF!"},{"$error":"#REF!"},{"$error":"#REF!"},{"$error":"#REF!"},{"$error":"#N/A"},{"$error":"#N/A"},0,0,0,0,0,0,1,1,1,1,1,1,0,0,0,0,0,0,false,false,false,false,false,false,false,1,1,1,1,1,1,0,0,0,0,0,0,0,1,1,0,0,0,0,0]
["1981-07-01",false,"2004-03-31",false,false,{"$error":"#N/A"},0,1,0,false,1,{"$error":"#N/A"},1,{"$error":"#N/A"},1,1,1,1,1,1,1,{"$error":"#REF!"},{"$error":"#REF!"},{"$error":"#REF!"},{"$error":"#REF!"},{"$error":"#N/A"},{"$error":"#N/A"},0,0,0,0,0,0,1,1,1,1,1,1,0,0,0,0,0,0,false,false,false,false,false,false,false,1,1,1,1,1,1,0,0,0,0,0,0,0,1,1,0,0,0,0,0]
["1981-08-01",false,"2004-04-07",false,false,{"$error":"#N/A"},0,1,0,false,1,{"$error":"#N/A"},1,{"$error":"#N/A"},1,1,1,1,1,1,1,{"$error":"#REF!"},{"$error":"#REF!"},{"$error":"#REF!"},{"$error":"#REF!"},{"$error":"#N/A"},{"$error":"#N/A"},0,0,0,0,0,0,1,1,1,1,1,1,0,0,0,0,0,0,false,false,false,false,false,false,false,1,1,1,1,1,1,0,0,0,0,0,0,0,1,1,0,0,0,0,0]
["1981-09-01",false,"2004-04-14",false,false,{"$error":"#N/A"},0,1,0,false,1,{"$error":"#N/A"},1,{"$error":"#N/A"},1,1,1,1,1,1,1,{"$error":"#REF!"},{"$error":"#REF!"},{"$error":"#REF!"},{"$error":"#REF!"},{"$error":"#N/A"},{"$error":"#N/A"},0,0,0,0,0,0,1,1,1,1,1,1,0,0,0,0,0,0,false,false,false,false,false,false,false,1,1,1,1,1,1,0,0,0,0,0,0,0,1,1,0,0,0,0,0]
["1981-10-01",false,"2004-04-21",false,false,{"$error":"#N/A"},0,1,0,false,1,{"$error":"#N/A"},1,{"$error":"#N/A"},1,1,1,1,1,1,1,{"$error":"#REF!"},{"$error":"#REF!"},{"$error":"#REF!"},{"$error":"#REF!"},{"$error":"#N/A"},{"$error":"#N/A"},0,0,0,0,0,0,1,1,1,1,1,1,0,0,0,0,0,0,false,false,false,false,false,false,false,1,1,1,1,1,1,0,0,0,0,0,0,0,1,1,0,0,0,0,0]
["1981-11-01",false,"2004-04-28",false,false,{"$error":"#N/A"},0,1,0,false,1,{"$error":"#N/A"},1,{"$error":"#N/A"},1,1,1,1,1,1,1,{"$error":"#REF!"},{"$error":"#REF!"},{"$error":"#REF!"},{"$error":"#REF!"},{"$error":"#N/A"},{"$error":"#N/A"},0,0,0,0,0,0,1,1,1,1,1,1,0,0,0,0,0,0,false,false,false,false,false,false,false,1,1,1,1,1,1,0,0,0,0,0,0,0,1,1,0,0,0,0,0]
["1981-12-01",false,"2004-05-05",false,false,{"$error":"#N/A"},0,1,0,false,1,{"$error":"#N/A"},1,{"$error":"#N/A"},1,1,1,1,1,1,1,{"$error":"#REF!"},{"$error":"#REF!"},{"$error":"#REF!"},{"$error":"#REF!"},{"$error":"#N/A"},{"$error":"#N/A"},0,0,0,0,0,0,1,1,1,1,1,1,0,0,0,0,0,0,false,false,false,false,false,false,false,1,1,1,1,1,1,0,0,0,0,0,0,0,1,1,0,0,0,0,0]
["1982-01-01",false,"2004-05-12",false,false,{"$error":"#N/A"},0,1,0,false,1,{"$error":"#N/A"},1,{"$error":"#N/A"},1,1,1,1,1,1,1,{"$error":"#REF!"},{"$error":"#REF!"},{"$error":"#REF!"},{"$error":"#REF!"},{"$error":"#N/A"},{"$error":"#N/A"},0,0,0,0,0,0,1,1,1,1,1,1,0,0,0,0,0,0,false,false,false,false,false,false,false,1,1,1,1,1,1,0,0,0,0,0,0,0,1,1,0,0,0,0,0]
["1982-02-01",{"$f":"IF(B394<=$D$2,EOMONTH(B394,1))","v":false},"2004-05-19",false,false,{"$f":"LOOKUP(D395,A:A,G:G)","v":{"$error":"#N/A"}},{"$f":"IFERROR(LOOKUP($A395,INDIRECT(\"'\"&G$7&\"'!A:A\"),INDIRECT(\"'\"&G$7&\"'!\"&$G$9&\":\"&$G$9)),0)","v":0},{"$f":"IF(H$8,INDEX($BN395:$BT395,H$8),1)","v":1},{"$f":"IF(ISNUMBER(F395),F395,I396)*H395","v":0},false,1,{"$error":"#N/A"},1,{"$error":"#N/A"},1,1,1,1,1,1,1,{"$f":"LOOKUP($A395,INDIRECT(\"'\"&V$5&\"'!A:A\"),INDIRECT(\"'\"&V$5&\"'!\"&V$7&\":\"&V$7))","v":{"$error":"#REF!"}},{"$error":"#REF!"},{"$error":"#REF!"},{"$error":"#REF!"},{"$error":"#N/A"},{"$error":"#N/A"},{"$f":"IF(ISNUMBER(LOOKUP($D395,$A:$A,V:V)),LOOKUP($D395,$A:$A,V:V),AB394)","v":0},{"$f":"IF(ISNUMBER(LOOKUP($D395,$A:$A,W:W)),LOOKUP($D395,$A:$A,W:W),AC394)","v":0},{"$f":"IF(ISNUMBER(LOOKUP($D395,$A:$A,X:X)),LOOKUP($D395,$A:$A,X:X),AD394)","v":0},{"$f":"IF(ISNUMBER(LOOKUP($D395,$A:$A,Y:Y)),LOOKUP($D395,$A:$A,Y:Y),AE394)","v":0},{"$f":"IF(ISNUMBER(LOOKUP($D395,$A:$A,Z:Z)),LOOKUP($D395,$A:$A,Z:Z),AF394)","v":0},{"$f":"IF(ISNUMBER(LOOKUP($D395,$A:$A,AA:AA)),LOOKUP($D395,$A:$A,AA:AA),AG394)","v":0},1,1,1,1,1,1,{"$f":"IFERROR(IF(ISNUMBER(AB395)>0.1,AB395,AN396)*AH395,AN396)","v":0},{"$f":"IFERROR(IF(ISNUMBER(AC395)>0.1,AC395,AO396)*AI395,AO396)","v":0},{"$f":"IFERROR(IF(ISNUMBER(AD395)>0.1,AD395,AP396)*AJ395,AP396)","v":0},{"$f":"IFERROR(IF(ISNUMBER(AE395)>0.1,AE395,AQ396)*AK395,AQ396)","v":0},{"$f":"IFERROR(IF(ISNUMBER(AF395)>0.1,AF395,AR396)*AL395,AR396)","v":0},{"$f":"IF(ISNUMBER(AG395)>0.1,AG395,AS396)","v":0},false,{"$f":"IF(E395,IFERROR(LN(AN395/AN394),FALSE))","v":false},{"$f":"IF(E395,IFERROR(LN(AO395/AO394),FALSE))","v":false},{"$f":"IF(E395,IFERROR(LN(AP395/AP394),FALSE))","v":false},{"$f":"IF(E395,IFERROR(LN(AQ395/AQ394),FALSE))","v":false},{"$f":"IF(E395,IFERROR(LN(AR395/AR394),FALSE))","v":false},{"$f":"IF(E395,IFERROR(LN(AS395/AS394),FALSE))","v":false},1,1,1,1,1,1,{"$f":"IFERROR(LOOKUP($A395,INDIRECT(\"'\"&BN$6&\"'!A:A\"),INDIRECT(\"'\"&BN$6&\"'!\"&BN$7&\":\"&BN$7)),0)","v":0},{"$f":"IFERROR(LOOKUP($A395,INDIRECT(\"'\"&BO$6&\"'!A:A\"),INDIRECT(\"'\"&BO$6&\"'!\"&BO$7&\":\"&BO$7)),0)","v":0},{"$f":"IFERROR(LOOKUP($A395,INDIRECT(\"'\"&BP$6&\"'!A:A\"),INDIRECT(\"'\"&BP$6&\"'!\"&BP$7&\":\"&BP$7)),0)","v":0},{"$f":"IFERROR(LOOKUP($A395,INDIRECT(\"'\"&BQ$6&\"'!A:A\"),INDIRECT(\"'\"&BQ$6&\"'!\"&BQ$7&\":\"&BQ$7)),0)","v":0},{"$f":"IFERROR(LOOKUP($A395,INDIRECT(\"'\"&BR$6&\"'!A:A\"),INDIRECT(\"'\"&BR$6&\"'!\"&BR$7&\":\"&BR$7)),0)","v":0},{"$f":"IFERROR(LOOKUP($A395,INDIRECT(\"'\"&BS$6&\"'!A:A\"),INDIRECT(\"'\"&BS$6&\"'!\"&BS$7&\":\"&BS$7)),0)","v":0},{"$f":"IFERROR(LOOKUP($A395,INDIRECT(\"'\"&BT$6&\"'!A:A\"),INDIRECT(\"'\"&BT$6&\"'!\"&BT$7&\":\"&BT$7)),0)","v":0},{"$f":"IFERROR(1/IFERROR(LOOKUP($D395,$A:$A,BG:BG)*1,0),1)","v":1},{"$f":"IFERROR(1/IFERROR(LOOKUP($D395,$A:$A,BH:BH)*1,0),1)","v":1},0,0,0,0,0]
["1982-03-01",false,{"$f":"IF(C395<=$D$2,C395+7)","v":"2004-05-26"},false,{"$f":"AND(D396>=$D$4,D395<=$D$2)","v":false},{"$error":"#N/A"},0,1,0,{"$f":"IFERROR(LN(I396/I395),FALSE)","v":false},1,{"$error":"#N/A"},1,{"$error":"#N/A"},1,1,1,1,1,1,1,{"$error":"#REF!"},{"$error":"#REF!"},{"$error":"#REF!"},{"$error":"#REF!"},{"$error":"#N/A"},{"$error":"#N/A"},0,0,0,0,0,0,1,1,1,1,1,1,0,0,0,0,0,0,false,false,false,false,false,false,false,{"$f":"IFERROR(IF($E396,BA395*AN396/AN395,1),1)","v":1},{"$f":"IFERROR(IF($E396,BB395*AO396/AO395,1),1)","v":1},{"$f":"IFERROR(IF($E396,BC395*AP396/AP395,1),1)","v":1},{"$f":"IFERROR(IF($E396,BD395*AQ396/AQ395,1),1)","v":1},{"$f":"IFERROR(IF($E396,BE395*AR396/AR395,1),1)","v":1},{"$f":"IFERROR(IF($E396,BF395*AS396/AS395,1),1)","v":1},0,0,0,0,0,0,0,1,1,{"$f":"IFERROR(LOOKUP($D396,$A:$A,BI:BI)*1,BP395)","v":0},{"$f":"IFERROR(LOOKUP($D396,$A:$A,BJ:BJ)*1,BQ395)","v":0},{"$f":"IFERROR(LOOKUP($D396,$A:$A,BK:BK)*1,BR395)","v":0},{"$f":"IFERROR(LOOKUP($D396,$A:$A,BL:BL)*1,BS395)","v":0},{"$f":"IFERROR(LOOKUP($D396,$A:$A,BM:BM)*1,BT395)","v":0}]
["1982-04-01",false,"2004-06-02",{"$f":"IF($D$6,C397,B397)","v":false},false,{"$error":"#N/A"},0,1,0,false,{"$f":"IF($E397,(K396*I397/I396),1)","v":1},{"$f":"IF(E397,D397,NA())","v":{"$error":"#N/A"}},{"$f":"CHOOSE($M$1,I397,J397,K397)","v":1},{"$f":"L397","v":{"$error":"#N/A"}},{"$f":"M397","v":1},{"$f":"IFERROR(CHOOSE($M$1,AN397,AU397,BA397),1)","v":1},{"$f":"IFERROR(CHOOSE($M$1,AO397,AV397,BB397),1)","v":1},{"$f":"IFERROR(CHOOSE($M$1,AP397,AW397,BC397),1)","v":1},{"$f":"IFERROR(CHOOSE($M$1,AQ397,AX397,BD397),1)","v":1},{"$f":"IFERROR(CHOOSE($M$1,AR397,AY397,BE397),1)","v":1},{"$f":"IFERROR(CHOOSE($M$1,AS397,AZ397,BF397),1)","v":1},{"$error":"#REF!"},{"$error":"#REF!"},{"$error":"#REF!"},{"$error":"#REF!"},{"$error":"#N/A"},{"$error":"#N/A"},0,0,0,0,0,0,1,1,1,1,1,1,0,0,0,0,0,0,{"$f":"J397","v":false},false,false,false,false,false,false,1,1,1,1,1,1,0,0,0,0,0,0,0,1,1,0,0,0,0,0]
["1982-05-01",false,"2004-06-09",false,false,{"$error":"#N/A"},0,1,0,false,1,{"$error":"#N/A"},1,{"$error":"#N/A"},1,1,1,1,1,1,1,{"$error":"#REF!"},{"$error":"#REF!"},{"$error":"#REF!"},{"$error":"#REF!"},{"$error":"#N/A"},{"$error":"#N/A"},0,0,0,0,0,0,1,1,1,1,1,1,0,0,0,0,0,0,false,false,false,false,false,false,false,1,1,1,1,1,1,0,0,0,0,0,0,0,1,1,0,0,0,0,0]
["1982-06-01",false,"2004-06-16",false,false,{"$error":"#N/A"},0,1,0,false,1,{"$error":"#N/A"},1,{"$error":"#N/A"},1,1,1,1,1,1,1,{"$error":"#REF!"},{"$error":"#REF!"},{"$error":"#REF!"},{"$error":"#REF!"},{"$error":"#N/A"},{"$error":"#N/A"},0,0,0,0,0,0,1,1,1,1,1,1,0,0,0,0,0,0,false,false,false,false,false,false,false,1,1,1,1,1,1,0,0,0,0,0,0,0,1,1,0,0,0,0,0]
["1982-07-01",false,"2004-06-23",false,false,{"$error":"#N/A"},0,1,0,false,1,{"$error":"#N/A"},1,{"$error":"#N/A"},1,1,1,1,1,1,1,{"$error":"#REF!"},{"$error":"#REF!"},{"$error":"#REF!"},{"$error":"#REF!"},{"$error":"#N/A"},{"$error":"#N/A"},0,0,0,0,0,0,1,1,1,1,1,1,0,0,0,0,0,0,false,false,false,false,false,false,false,1,1,1,1,1,1,0,0,0,0,0,0,0,1,1,0,0,0,0,0]
["1982-08-01",false,"2004-06-30",false,false,{"$error":"#N/A"},0,1,0,false,1,{"$error":"#N/A"},1,{"$error":"#N/A"},1,1,1,1,1,1,1,{"$error":"#REF!"},{"$error":"#REF!"},{"$error":"#REF!"},{"$error":"#REF!"},{"$error":"#N/A"},{"$error":"#N/A"},0,0,0,0,0,0,1,1,1,1,1,1,0,0,0,0,0,0,false,false,false,false,false,false,false,1,1,1,1,1,1,0,0,0,0,0,0,0,1,1,0,0,0,0,0]
["1982-09-01",false,"2004-07-07",false,false,{"$error":"#N/A"},0,1,0,false,1,{"$error":"#N/A"},1,{"$error":"#N/A"},1,1,1,1,1,1,1,{"$error":"#REF!"},{"$error":"#REF!"},{"$error":"#REF!"},{"$error":"#REF!"},{"$error":"#N/A"},{"$error":"#N/A"},0,0,0,0,0,0,1,1,1,1,1,1,0,0,0,0,0,0,false,false,false,false,false,false,false,1,1,1,1,1,1,0,0,0,0,0,0,0,1,1,0,0,0,0,0]
["1982-10-01",false,"2004-07-14",false,false,{"$error":"#N/A"},0,1,0,false,1,{"$error":"#N/A"},1,{"$error":"#N/A"},1,1,1,1,1,1,1,{"$error":"#REF!"},{"$error":"#REF!"},{"$error":"#REF!"},{"$error":"#REF!"},{"$error":"#N/A"},{"$error":"#N/A"},0,0,0,0,0,0,1,1,1,1,1,1,0,0,0,0,0,0,false,false,false,false,false,false,false,1,1,1,1,1,1,0,0,0,0,0,0,0,1,1,0,0,0,0,0]
["1982-11-01",false,"2004-07-21",false,false,{"$error":"#N/A"},0,1,0,false,1,{"$error":"#N/A"},1,{"$error":"#N/A"},1,1,1,1,1,1,1,{"$error":"#REF!"},{"$error":"#REF!"},{"$error":"#REF!"},{"$error":"#REF!"},{"$error":"#N/A"},{"$error":"#N/A"},0,0,0,0,0,0,1,1,1,1,1,1,0,0,0,0,0,0,false,false,false,false,false,false,false,1,1,1,1,1,1,0,0,0,0,0,0,0,1,1,0,0,0,0,0]
["1982-12-01",false,"2004-07-28",false,false,{"$error":"#N/A"},0,1,0,false,1,{"$error":"#N/A"},1,{"$error":"#N/A"},1,1,1,1,1,1,1,{"$error":"#REF!"},{"$error":"#REF!"},{"$error":"#REF!"},{"$error":"#REF!"},{"$error":"#N/A"},{"$error":"#N/A"},0,0,0,0,0,0,1,1,1,1,1,1,0,0,0,0,0,0,false,false,false,false,false,false,false,1,1,1,1,1,1,0,0,0,0,0,0,0,1,1,0,0,0,0,0]
["1983-01-01",false,"2004-08-04",false,false,{"$error":"#N/A"},0,1,0,false,1,{"$error":"#N/A"},1,{"$error":"#N/A"},1,1,1,1,1,1,1,{"$error":"#REF!"},{"$error":"#REF!"},{"$error":"#REF!"},{"$error":"#REF!"},{"$error":"#N/A"},{"$error":"#N/A"},0,0,0,0,0,0,1,1,1,1,1,1,0,0,0,0,0,0,false,false,false,false,false,false,false,1,1,1,1,1,1,0,0,0,0,0,0,0,1,1,0,0,0,0,0]
["1983-02-01",false,"2004-08-11",false,false,{"$error":"#N/A"},0,1,0,false,1,{"$error":"#N/A"},1,{"$error":"#N/A"},1,1,1,1,1,1,1,{"$error":"#REF!"},{"$error":"#REF!"},{"$error":"#REF!"},{"$error":"#REF!"},{"$error":"#N/A"},{"$error":"#N/A"},0,0,0,0,0,0,1,1,1,1,1,1,0,0,0,0,0,0,false,false,false,false,false,false,false,1,1,1,1,1,1,0,0,0,0,0,0,0,1,1,0,0,0,0,0]
["1983-03-01",false,"2004-08-18",false,false,{"$error":"#N/A"},0,1,0,false,1,{"$error":"#N/A"},1,{"$error":"#N/A"},1,1,1,1,1,1,1,{"$error":"#REF!"},{"$error":"#REF!"},{"$error":"#REF!"},{"$error":"#REF!"},{"$error":"#N/A"},{"$error":"#N/A"},0,0,0,0,0,0,1,1,1,1,1,1,0,0,0,0,0,0,false,false,false,false,false,false,false,1,1,1,1,1,1,0,0,0,0,0,0,0,1,1,0,0,0,0,0]
["1983-04-01",false,"2004-08-25",false,false,{"$error":"#N/A"},0,1,0,false,1,{"$error":"#N/A"},1,{"$error":"#N/A"},1,1,1,1,1,1,1,{"$error":"#REF!"},{"$error":"#REF!"},{"$error":"#REF!"},{"$error":"#REF!"},{"$error":"#N/A"},{"$error":"#N/A"},0,0,0,0,0,0,1,1,1,1,1,1,0,0,0,0,0,0,false,false,false,false,false,false,false,1,1,1,1,1,1,0,0,0,0,0,0,0,1,1,0,0,0,0,0]
["1983-05-01",false,"2004-09-01",false,false,{"$error":"#N/A"},0,1,0,false,1,{"$error":"#N/A"},1,{"$error":"#N/A"},1,1,1,1,1,1,1,{"$error":"#REF!"},{"$error":"#REF!"},{"$error":"#REF!"},{"$error":"#REF!"},{"$error":"#N/A"},{"$error":"#N/A"},0,0,0,0,0,0,1,1,1,1,1,1,0,0,0,0,0,0,false,false,false,false,false,false,false,1,1,1,1,1,1,0,0,0,0,0,0,0,1,1,0,0,0,0,0]
["1983-06-01",false,"2004-09-08",false,false,{"$error":"#N/A"},0,1,0,false,1,{"$error":"#N/A"},1,{"$error":"#N/A"},1,1,1,1,1,1,1,{"$error":"#REF!"},{"$error":"#REF!"},{"$error":"#REF!"},{"$error":"#REF!"},{"$error":"#N/A"},{"$error":"#N/A"},0,0,0,0,0,0,1,1,1,1,1,1,0,0,0,0,0,0,false,false,false,false,false,false,false,1,1,1,1,1,1,0,0,0,0,0,0,0,1,1,0,0,0,0,0]
["1983-07-01",false,"2004-09-15",false,false,{"$error":"#N/A"},0,1,0,false,1,{"$error":"#N/A"},1,{"$error":"#N/A"},1,1,1,1,1,1,1,{"$error":"#REF!"},{"$error":"#REF!"},{"$error":"#REF!"},{"$error":"#REF!"},{"$error":"#N/A"},{"$error":"#N/A"},0,0,0,0,0,0,1,1,1,1,1,1,0,0,0,0,0,0,false,false,false,false,false,false,false,1,1,1,1,1,1,0,0,0,0,0,0,0,1,1,0,0,0,0,0]
["1983-08-01",false,"2004-09-22",false,false,{"$error":"#N/A"},0,1,0,false,1,{"$error":"#N/A"},1,{"$error":"#N/A"},1,1,1,1,1,1,1,{"$error":"#REF!"},{"$error":"#REF!"},{"$error":"#REF!"},{"$error":"#REF!"},{"$error":"#N/A"},{"$error":"#N/A"},0,0,0,0,0,0,1,1,1,1,1,1,0,0,0,0,0,0,false,false,false,false,false,false,false,1,1,1,1,1,1,0,0,0,0,0,0,0,1,1,0,0,0,0,0]
["1983-09-01",false,"2004-09-29",false,false,{"$error":"#N/A"},0,1,0,false,1,{"$error":"#N/A"},1,{"$error":"#N/A"},1,1,1,1,1,1,1,{"$error":"#REF!"},{"$error":"#REF!"},{"$error":"#REF!"},{"$error":"#REF!"},{"$error":"#N/A"},{"$error":"#N/A"},0,0,0,0,0,0,1,1,1,{"$f":"IF(AK$7,INDEX($BN414:$BT414,AK$7),1)","v":1},1,1,0,0,0,0,0,0,false,false,false,false,false,false,false,1,1,1,1,1,1,0,0,0,0,0,0,0,1,1,0,0,0,0,0]
["1983-10-01",false,"2004-10-06",false,false,{"$error":"#N/A"},0,1,0,false,1,{"$error":"#N/A"},1,{"$error":"#N/A"},1,1,1,1,1,1,1,{"$error":"#REF!"},{"$error":"#REF!"},{"$error":"#REF!"},{"$error":"#REF!"},{"$error":"#N/A"},{"$error":"#N/A"},0,0,0,0,0,0,1,1,1,1,1,1,0,0,0,0,0,0,false,false,false,false,false,false,false,1,1,1,1,1,1,0,0,0,0,0,0,0,1,1,0,0,0,0,0]
["1983-11-01",false,"2004-10-13",false,false,{"$error":"#N/A"},0,1,0,false,1,{"$error":"#N/A"},1,{"$error":"#N/A"},1,1,1,1,1,1,1,{"$error":"#REF!"},{"$error":"#REF!"},{"$error":"#REF!"},{"$error":"#REF!"},{"$error":"#N/A"},{"$error":"#N/A"},0,0,0,0,0,0,1,1,1,1,1,1,0,0,0,0,0,0,false,false,false,false,false,false,false,1,1,1,1,1,1,0,0,0,0,0,0,0,1,1,0,0,0,0,0]
["1983-12-01",false,"2004-10-20",false,false,{"$error":"#N/A"},0,1,0,false,1,{"$error":"#N/A"},1,{"$error":"#N/A"},1,1,1,1,1,1,1,{"$error":"#REF!"},{"$error":"#REF!"},{"$error":"#REF!"},{"$error":"#REF!"},{"$error":"#N/A"},{"$error":"#N/A"},0,0,0,0,0,0,1,1,1,1,1,1,0,0,0,0,0,0,false,false,false,false,false,false,false,1,1,1,1,1,1,0,0,0,0,0,0,0,1,1,0,0,0,0,0]
["1984-01-01",false,"2004-10-27",false,false,{"$error":"#N/A"},0,1,0,false,1,{"$error":"#N/A"},1,{"$error":"#N/A"},1,1,1,1,1,1,1,{"$error":"#REF!"},{"$error":"#REF!"},{"$error":"#REF!"},{"$error":"#REF!"},{"$error":"#N/A"},{"$error":"#N/A"},0,0,0,0,0,0,1,1,1,1,1,1,0,0,0,0,0,0,false,false,false,false,false,false,false,1,1,1,1,1,1,0,0,0,0,0,0,0,1,1,0,0,0,0,0]
["1984-02-01",false,"2004-11-03",false,false,{"$error":"#N/A"},0,1,0,false,1,{"$error":"#N/A"},1,{"$error":"#N/A"},1,1,1,1,1,1,1,{"$error":"#REF!"},{"$error":"#REF!"},{"$error":"#REF!"},{"$error":"#REF!"},{"$error":"#N/A"},{"$error":"#N/A"},0,0,0,0,0,0,1,1,1,1,1,1,0,0,0,0,0,0,false,false,false,false,false,false,false,1,1,1,1,1,1,0,0,0,0,0,0,0,1,1,0,0,0,0,0]
["1984-03-01",false,"2004-11-10",false,false,{"$error":"#N/A"},0,1,0,false,1,{"$error":"#N/A"},1,{"$error":"#N/A"},1,1,1,1,1,1,1,{"$error":"#REF!"},{"$error":"#REF!"},{"$error":"#REF!"},{"$error":"#REF!"},{"$error":"#N/A"},{"$error":"#N/A"},0,0,0,0,0,0,1,1,1,1,1,1,0,0,0,0,0,0,false,false,false,false,false,false,false,1,1,1,1,1,1,0,0,0,0,0,0,0,1,1,0,0,0,0,0]
["1984-04-01",false,"2004-11-17",false,false,{"$error":"#N/A"},0,1,0,false,1,{"$error":"#N/A"},1,{"$error":"#N/A"},1,1,1,1,1,1,1,{"$error":"#REF!"},{"$error":"#REF!"},{"$error":"#REF!"},{"$error":"#REF!"},{"$error":"#N/A"},{"$error":"#N/A"},0,0,0,0,0,0,1,1,1,1,1,1,0,0,0,0,0,0,false,false,false,false,false,false,false,1,1,1,1,1,1,0,0,0,0,0,0,0,1,1,0,0,0,0,0]
["1984-05-01",false,"2004-11-24",false,false,{"$error":"#N/A"},0,1,0,false,1,{"$error":"#N/A"},1,{"$error":"#N/A"},1,1,1,1,1,1,1,{"$error":"#REF!"},{"$error":"#REF!"},{"$error":"#REF!"},{"$error":"#REF!"},{"$error":"#N/A"},{"$error":"#N/A"},0,0,0,0,0,0,1,1,1,1,1,1,0,0,0,0,0,0,false,false,false,false,false,false,false,1,1,1,1,1,1,0,0,0,0,0,0,0,1,1,0,0,0,0,0]
["1984-06-01",false,"2004-12-01",false,false,{"$error":"#N/A"},0,1,0,false,1,{"$error":"#N/A"},1,{"$error":"#N/A"},1,1,1,1,1,1,1,{"$error":"#REF!"},{"$error":"#REF!"},{"$error":"#REF!"},{"$f":"LOOKUP($A423,INDIRECT(\"'\"&Y$5&\"'!A:A\"),INDIRECT(\"'\"&Y$5&\"'!\"&Y$7&\":\"&Y$7))","v":{"$error":"#REF!"}},{"$error":"#N/A"},{"$error":"#N/A"},0,0,0,0,0,0,1,1,1,1,1,1,0,0,0,0,0,0,false,false,false,false,false,false,false,1,1,1,1,1,1,0,0,0,0,0,0,0,1,1,0,0,0,0,0]
["1984-07-01",false,"2004-12-08",false,false,{"$error":"#N/A"},0,1,0,false,1,{"$error":"#N/A"},1,{"$error":"#N/A"},1,1,1,1,1,1,1,{"$error":"#REF!"},{"$error":"#REF!"},{"$error":"#REF!"},{"$error":"#REF!"},{"$error":"#N/A"},{"$error":"#N/A"},0,0,0,0,0,0,1,1,1,1,1,1,0,0,0,0,0,0,false,false,false,false,false,false,false,1,1,1,1,1,1,0,0,0,0,0,0,0,1,1,0,0,0,0,0]
["1984-08-01",false,"2004-12-15",false,false,{"$error":"#N/A"},0,1,0,false,1,{"$error":"#N/A"},1,{"$error":"#N/A"},1,1,1,1,1,1,1,{"$error":"#REF!"},{"$error":"#REF!"},{"$error":"#REF!"},{"$error":"#REF!"},{"$error":"#N/A"},{"$error":"#N/A"},0,0,0,0,0,0,1,1,1,1,1,1,0,0,0,0,0,0,false,false,false,false,false,false,false,1,1,1,1,1,1,0,0,0,0,0,0,0,1,1,0,0,0,0,0]
["1984-09-01",false,"2004-12-22",false,false,{"$error":"#N/A"},0,1,0,false,1,{"$error":"#N/A"},1,{"$error":"#N/A"},1,1,1,1,1,1,1,{"$error":"#REF!"},{"$error":"#REF!"},{"$error":"#REF!"},{"$error":"#REF!"},{"$error":"#N/A"},{"$error":"#N/A"},0,0,0,0,0,0,1,1,1,1,1,1,0,0,0,0,0,0,false,false,false,false,false,false,false,1,1,1,1,1,1,0,0,0,0,0,0,0,1,1,0,0,0,0,0]
["1984-10-01",false,"2004-12-29",false,false,{"$error":"#N/A"},0,1,0,false,1,{"$error":"#N/A"},1,{"$error":"#N/A"},1,1,1,1,1,1,1,{"$error":"#REF!"},{"$error":"#REF!"},{"$error":"#REF!"},{"$error":"#REF!"},{"$error":"#N/A"},{"$error":"#N/A"},0,0,0,0,0,0,1,1,1,1,1,1,0,0,0,0,0,0,false,false,false,false,false,false,false,1,1,1,1,1,1,0,0,0,0,0,0,0,1,1,0,0,0,0,0]
["1984-11-01",false,"2005-01-05",false,false,{"$error":"#N/A"},0,1,0,false,1,{"$error":"#N/A"},1,{"$error":"#N/A"},1,1,1,1,1,1,1,{"$error":"#REF!"},{"$error":"#REF!"},{"$error":"#REF!"},{"$error":"#REF!"},{"$error":"#N/A"},{"$error":"#N/A"},0,0,0,0,0,0,1,1,1,1,1,1,0,0,0,0,0,0,false,false,false,false,false,false,false,1,1,1,1,1,1,0,0,0,0,0,0,0,1,1,0,0,0,0,0]
["1984-12-01",false,"2005-01-12",false,false,{"$error":"#N/A"},0,1,0,false,1,{"$error":"#N/A"},1,{"$error":"#N/A"},1,1,1,1,1,1,1,{"$error":"#REF!"},{"$error":"#REF!"},{"$error":"#REF!"},{"$error":"#REF!"},{"$error":"#N/A"},{"$error":"#N/A"},0,0,0,0,0,0,{"$f":"IF(AH$7,INDEX($BN429:$BT429,AH$7),1)","v":1},1,1,1,1,1,0,0,0,0,0,0,false,false,false,false,false,false,false,1,1,1,1,1,1,0,0,0,0,0,0,0,1,1,0,0,0,0,0]
["1985-01-01",false,"2005-01-19",false,false,{"$error":"#N/A"},0,1,0,false,1,{"$error":"#N/A"},1,{"$error":"#N/A"},1,1,1,1,1,1,1,{"$error":"#REF!"},{"$error":"#REF!"},{"$error":"#REF!"},{"$error":"#REF!"},{"$error":"#N/A"},{"$error":"#N/A"},0,0,0,0,0,0,1,1,1,1,1,1,0,0,0,0,0,0,false,false,false,false,false,false,false,1,1,1,1,1,1,0,0,0,0,0,0,0,1,1,0,0,0,0,0]
["1985-02-01",false,"2005-01-26",false,false,{"$error":"#N/A"},0,1,0,false,1,{"$error":"#N/A"},1,{"$error":"#N/A"},1,1,1,1,1,1,1,{"$error":"#REF!"},{"$error":"#REF!"},{"$error":"#REF!"},{"$error":"#REF!"},{"$error":"#N/A"},{"$error":"#N/A"},0,0,0,0,0,0,1,1,1,1,1,1,0,0,0,0,0,0,false,false,false,false,false,false,false,1,1,1,1,1,1,0,0,0,0,0,0,0,1,1,0,0,0,0,0]
["1985-03-01",false,"2005-02-02",false,false,{"$error":"#N/A"},0,1,0,false,1,{"$error":"#N/A"},1,{"$error":"#N/A"},1,1,1,1,1,1,1,{"$error":"#REF!"},{"$error":"#REF!"},{"$error":"#REF!"},{"$error":"#REF!"},{"$error":"#N/A"},{"$error":"#N/A"},0,0,0,0,0,0,1,1,1,1,1,1,0,0,0,0,0,0,false,false,false,false,false,false,false,1,1,1,1,1,1,0,0,0,0,0,0,0,1,1,0,0,0,0,0]
["1985-04-01",false,"2005-02-09",false,false,{"$error":"#N/A"},0,1,0,false,1,{"$error":"#N/A"},1,{"$error":"#N/A"},1,1,1,1,1,1,1,{"$error":"#REF!"},{"$error":"#REF!"},{"$error":"#REF!"},{"$error":"#REF!"},{"$error":"#N/A"},{"$error":"#N/A"},0,0,0,0,0,0,1,1,1,1,1,1,0,0,0,0,0,0,false,false,false,false,false,false,false,1,1,1,1,1,1,0,0,0,0,0,0,0,1,1,0,0,0,0,0]
["1985-05-01",false,"2005-02-16",false,false,{"$error":"#N/A"},0,1,0,false,1,{"$error":"#N/A"},1,{"$error":"#N/A"},1,1,1,1,1,1,1,{"$error":"#REF!"},{"$error":"#REF!"},{"$error":"#REF!"},{"$error":"#REF!"},{"$error":"#N/A"},{"$error":"#N/A"},0,0,0,0,0,0,1,1,1,1,1,1,0,0,0,0,0,0,false,false,false,false,false,false,false,1,1,1,1,1,1,0,0,0,0,0,0,0,1,1,0,0,0,0,0]
["1985-06-01",false,"2005-02-23",false,false,{"$error":"#N/A"},0,1,0,false,1,{"$error":"#N/A"},1,{"$error":"#N/A"},1,1,1,1,1,1,1,{"$error":"#REF!"},{"$error":"#REF!"},{"$error":"#REF!"},{"$error":"#REF!"},{"$error":"#N/A"},{"$error":"#N/A"},0,0,0,0,0,0,1,1,1,1,1,1,0,0,0,0,0,0,false,false,false,false,false,false,false,1,1,1,1,1,1,0,0,0,0,0,0,0,1,1,0,0,0,0,0]
["1985-07-01",false,"2005-03-02",false,false,{"$error":"#N/A"},0,1,0,false,1,{"$error":"#N/A"},1,{"$error":"#N/A"},1,1,1,1,1,1,1,{"$error":"#REF!"},{"$error":"#REF!"},{"$error":"#REF!"},{"$error":"#REF!"},{"$error":"#N/A"},{"$error":"#N/A"},0,0,0,0,0,0,1,1,1,1,1,1,0,0,0,0,0,0,false,false,false,false,false,false,false,1,1,1,1,1,1,0,0,0,0,0,0,0,1,1,0,0,0,0,0]
["1985-08-01",false,"2005-03-09",false,false,{"$error":"#N/A"},0,1,0,false,1,{"$error":"#N/A"},1,{"$error":"#N/A"},1,1,1,1,1,1,1,{"$error":"#REF!"},{"$error":"#REF!"},{"$error":"#REF!"},{"$error":"#REF!"},{"$error":"#N/A"},{"$error":"#N/A"},0,0,0,0,0,0,1,1,1,1,1,1,0,0,0,0,0,0,false,false,false,false,false,false,false,1,1,1,1,1,1,0,0,0,0,0,0,0,1,1,0,0,0,0,0]
["1985-09-01",false,"2005-03-16",false,false,{"$error":"#N/A"},0,1,0,false,1,{"$error":"#N/A"},1,{"$error":"#N/A"},1,1,1,1,1,1,1,{"$error":"#REF!"},{"$error":"#REF!"},{"$error":"#REF!"},{"$error":"#REF!"},{"$error":"#N/A"},{"$error":"#N/A"},0,0,0,0,0,0,1,1,1,1,1,1,0,0,0,0,0,0,false,false,false,false,false,false,false,1,1,1,1,1,1,0,0,0,0,0,0,0,1,1,0,0,0,0,0]
["1985-10-01",false,"2005-03-23",false,false,{"$error":"#N/A"},0,1,0,false,1,{"$error":"#N/A"},1,{"$error":"#N/A"},1,1,1,1,1,1,1,{"$error":"#REF!"},{"$error":"#REF!"},{"$error":"#REF!"},{"$error":"#REF!"},{"$error":"#N/A"},{"$error":"#N/A"},0,0,0,0,0,0,1,1,1,1,1,1,0,0,0,0,0,0,false,false,false,false,false,false,false,1,1,1,1,1,1,0,0,0,0,0,0,0,1,1,0,0,0,0,0]
["1985-11-01",false,"2005-03-30",false,false,{"$error":"#N/A"},0,1,0,false,1,{"$error":"#N/A"},1,{"$error":"#N/A"},1,1,1,1,1,1,1,{"$error":"#REF!"},{"$error":"#REF!"},{"$error":"#REF!"},{"$error":"#REF!"},{"$error":"#N/A"},{"$error":"#N/A"},0,0,0,0,0,0,1,1,1,1,1,1,0,0,0,0,0,0,false,false,false,false,false,false,false,1,1,1,1,1,1,0,0,0,0,0,0,0,1,1,0,0,0,0,0]
["1985-12-01",false,"2005-04-06",false,false,{"$error":"#N/A"},0,1,0,false,1,{"$error":"#N/A"},1,{"$error":"#N/A"},1,1,1,1,1,1,1,{"$error":"#REF!"},{"$error":"#REF!"},{"$error":"#REF!"},{"$error":"#REF!"},{"$error":"#N/A"},{"$error":"#N/A"},0,0,0,0,0,0,1,1,1,1,1,1,0,0,0,0,0,0,false,false,false,false,false,false,false,1,1,1,1,1,1,0,0,0,0,0,0,0,1,1,0,0,0,0,0]
["1986-01-01",false,"2005-04-13",false,false,{"$error":"#N/A"},0,1,0,false,1,{"$error":"#N/A"},1,{"$error":"#N/A"},1,1,1,1,1,1,1,{"$error":"#REF!"},{"$error":"#REF!"},{"$error":"#REF!"},{"$error":"#REF!"},{"$error":"#N/A"},{"$error":"#N/A"},0,0,0,0,0,0,1,1,1,1,1,1,0,0,0,0,0,0,false,false,false,false,false,false,false,1,1,1,1,1,1,0,0,0,0,0,0,0,1,1,0,0,0,0,0]
["1986-02-01",false,"2005-04-20",false,false,{"$error":"#N/A"},0,1,0,false,1,{"$error":"#N/A"},1,{"$error":"#N/A"},1,1,1,1,1,1,1,{"$error":"#REF!"},{"$error":"#REF!"},{"$error":"#REF!"},{"$error":"#REF!"},{"$error":"#N/A"},{"$error":"#N/A"},0,0,0,0,0,0,1,1,1,1,1,1,0,0,0,0,0,0,false,false,false,false,false,false,false,1,1,1,1,1,1,0,0,0,0,0,0,0,1,1,0,0,0,0,0]
["1986-03-01",false,"2005-04-27",false,false,{"$error":"#N/A"},0,1,0,false,1,{"$error":"#N/A"},1,{"$error":"#N/A"},1,1,1,1,1,1,1,{"$error":"#REF!"},{"$error":"#REF!"},{"$error":"#REF!"},{"$error":"#REF!"},{"$error":"#N/A"},{"$error":"#N/A"},0,0,0,0,0,0,1,1,1,1,1,1,0,0,0,0,0,0,false,false,false,false,false,false,false,1,1,1,1,1,1,0,0,0,0,0,0,0,1,1,0,0,0,0,0]
["1986-04-01",false,"2005-05-04",false,false,{"$error":"#N/A"},0,1,0,false,1,{"$error":"#N/A"},1,{"$error":"#N/A"},1,1,1,1,1,1,1,{"$error":"#REF!"},{"$error":"#REF!"},{"$error":"#REF!"},{"$error":"#REF!"},{"$error":"#N/A"},{"$error":"#N/A"},0,0,0,0,0,0,1,1,1,1,1,1,0,0,0,0,0,0,false,false,false,false,false,false,false,1,1,1,1,1,1,0,0,0,0,0,0,0,1,1,0,0,0,0,0]
["1986-05-01",false,"2005-05-11",false,false,{"$error":"#N/A"},0,1,0,false,1,{"$error":"#N/A"},1,{"$error":"#N/A"},1,1,1,1,1,1,1,{"$error":"#REF!"},{"$error":"#REF!"},{"$error":"#REF!"},{"$error":"#REF!"},{"$error":"#N/A"},{"$error":"#N/A"},0,0,0,0,0,0,1,1,1,1,1,1,0,0,0,0,0,0,false,false,false,false,false,false,false,1,1,1,1,1,1,0,0,0,0,0,0,0,1,1,0,0,0,0,0]
["1986-06-01",false,"2005-05-18",false,false,{"$error":"#N/A"},0,1,0,false,1,{"$error":"#N/A"},1,{"$error":"#N/A"},1,1,1,1,1,1,1,{"$error":"#REF!"},{"$error":"#REF!"},{"$error":"#REF!"},{"$error":"#REF!"},{"$error":"#N/A"},{"$error":"#N/A"},0,0,0,0,0,0,1,1,1,1,1,1,0,0,0,0,0,0,false,false,false,false,false,false,false,1,1,1,1,1,1,0,0,0,0,0,0,0,1,1,0,0,0,0,0]
["1986-07-01",false,"2005-05-25",false,false,{"$error":"#N/A"},0,1,0,false,1,{"$error":"#N/A"},1,{"$error":"#N/A"},1,1,1,1,1,1,1,{"$error":"#REF!"},{"$error":"#REF!"},{"$error":"#REF!"},{"$error":"#REF!"},{"$error":"#N/A"},{"$error":"#N/A"},0,0,0,0,0,0,1,1,1,1,1,1,0,0,0,0,0,0,false,false,false,false,false,false,false,1,1,1,1,1,1,0,0,0,0,0,0,0,1,1,0,0,0,0,0]
["1986-08-01",false,"2005-06-01",false,false,{"$error":"#N/A"},0,1,0,false,1,{"$error":"#N/A"},1,{"$error":"#N/A"},1,1,1,1,1,1,1,{"$error":"#REF!"},{"$error":"#REF!"},{"$error":"#REF!"},{"$error":"#REF!"},{"$error":"#N/A"},{"$error":"#N/A"},0,0,0,0,0,0,1,1,1,1,1,1,0,0,0,0,0,0,false,false,false,false,false,false,false,1,1,1,1,1,1,0,0,0,0,0,0,0,1,1,0,0,0,0,0]
["1986-09-01",false,"2005-06-08",false,false,{"$error":"#N/A"},0,1,0,false,1,{"$error":"#N/A"},1,{"$error":"#N/A"},1,1,1,1,1,1,1,{"$error":"#REF!"},{"$error":"#REF!"},{"$error":"#REF!"},{"$error":"#REF!"},{"$error":"#N/A"},{"$error":"#N/A"},0,0,0,0,0,0,1,1,1,1,1,1,0,0,0,0,0,0,false,false,false,false,false,false,false,1,1,1,1,1,1,0,0,0,0,0,0,0,1,1,0,0,0,0,0]
["1986-10-01",false,"2005-06-15",false,false,{"$error":"#N/A"},0,1,0,false,1,{"$error":"#N/A"},1,{"$error":"#N/A"},1,1,1,1,1,1,1,{"$error":"#REF!"},{"$error":"#REF!"},{"$error":"#REF!"},{"$error":"#REF!"},{"$error":"#N/A"},{"$error":"#N/A"},0,0,0,0,0,0,1,1,1,1,1,1,0,0,0,0,0,0,false,false,false,false,false,false,false,1,1,1,1,1,1,0,0,0,0,0,0,0,1,1,0,0,0,0,0]
["1986-11-01",false,"2005-06-22",false,false,{"$error":"#N/A"},0,1,0,false,1,{"$error":"#N/A"},1,{"$error":"#N/A"},1,1,1,1,1,1,1,{"$error":"#REF!"},{"$error":"#REF!"},{"$error":"#REF!"},{"$error":"#REF!"},{"$error":"#N/A"},{"$error":"#N/A"},0,0,0,0,0,0,1,1,1,1,1,1,0,0,0,0,0,0,false,false,false,false,false,false,false,1,1,1,1,1,1,0,0,0,0,0,0,0,1,1,0,0,0,0,0]
["1986-12-01",false,"2005-06-29",false,false,{"$error":"#N/A"},0,1,0,false,1,{"$error":"#N/A"},1,{"$error":"#N/A"},1,1,1,1,1,1,1,{"$error":"#REF!"},{"$error":"#REF!"},{"$error":"#REF!"},{"$error":"#REF!"},{"$error":"#N/A"},{"$error":"#N/A"},0,0,0,0,0,0,1,1,1,1,1,1,0,0,0,0,0,0,false,false,false,false,false,false,false,1,1,1,1,1,1,0,0,0,0,0,0,0,1,1,0,0,0,0,0]
["1987-01-01",false,"2005-07-06",false,false,{"$error":"#N/A"},0,1,0,false,1,{"$error":"#N/A"},1,{"$error":"#N/A"},1,1,1,1,1,1,1,{"$error":"#REF!"},{"$error":"#REF!"},{"$error":"#REF!"},{"$error":"#REF!"},{"$error":"#N/A"},{"$error":"#N/A"},0,0,0,0,0,0,1,1,1,1,1,1,0,0,0,0,0,0,false,false,false,false,false,false,false,1,1,1,1,1,1,0,0,0,0,0,0,0,1,1,0,0,0,0,0]
["1987-02-01",false,"2005-07-13",false,false,{"$error":"#N/A"},0,1,0,false,1,{"$error":"#N/A"},1,{"$error":"#N/A"},1,1,1,1,1,1,1,{"$error":"#REF!"},{"$error":"#REF!"},{"$error":"#REF!"},{"$error":"#REF!"},{"$error":"#N/A"},{"$error":"#N/A"},0,0,0,0,0,0,1,1,1,1,1,1,0,0,0,0,0,0,false,false,false,false,false,false,false,1,1,1,1,1,1,0,0,0,0,0,0,0,1,1,0,0,0,0,0]
["1987-03-01",false,"2005-07-20",false,false,{"$error":"#N/A"},0,1,0,false,1,{"$error":"#N/A"},1,{"$error":"#N/A"},1,1,1,1,1,1,1,{"$error":"#REF!"},{"$error":"#REF!"},{"$error":"#REF!"},{"$error":"#REF!"},{"$error":"#N/A"},{"$error":"#N/A"},0,0,0,0,0,0,1,1,1,1,1,1,0,0,0,0,0,0,false,false,false,false,false,false,false,1,1,1,1,1,1,0,0,0,0,0,0,0,1,1,0,0,0,0,0]
["1987-04-01",false,"2005-07-27",false,false,{"$error":"#N/A"},0,1,0,false,1,{"$error":"#N/A"},1,{"$error":"#N/A"},1,1,1,1,1,1,1,{"$error":"#REF!"},{"$error":"#REF!"},{"$error":"#REF!"},{"$error":"#REF!"},{"$error":"#N/A"},{"$error":"#N/A"},0,0,0,0,0,0,1,1,1,1,1,1,0,0,0,0,0,0,false,false,false,false,false,false,false,1,1,1,1,1,1,0,0,0,0,0,0,0,1,1,0,0,0,0,0]
["1987-05-01",false,"2005-08-03",false,false,{"$error":"#N/A"},0,1,0,false,1,{"$error":"#N/A"},1,{"$error":"#N/A"},1,1,1,1,1,1,1,{"$error":"#REF!"},{"$error":"#REF!"},{"$error":"#REF!"},{"$error":"#REF!"},{"$error":"#N/A"},{"$error":"#N/A"},0,0,0,0,0,0,1,1,1,1,1,1,0,0,0,0,0,0,false,false,false,false,false,false,false,1,1,1,1,1,1,0,0,0,0,0,0,0,1,1,0,0,0,0,0]
["1987-06-01",{"$f":"IF(B458<=$D$2,EOMONTH(B458,1))","v":false},"2005-08-10",false,false,{"$f":"LOOKUP(D459,A:A,G:G)","v":{"$error":"#N/A"}},{"$f":"IFERROR(LOOKUP($A459,INDIRECT(\"'\"&G$7&\"'!A:A\"),INDIRECT(\"'\"&G$7&\"'!\"&$G$9&\":\"&$G$9)),0)","v":0},{"$f":"IF(H$8,INDEX($BN459:$BT459,H$8),1)","v":1},{"$f":"IF(ISNUMBER(F459),F459,I460)*H459","v":0},false,1,{"$error":"#N/A"},1,{"$error":"#N/A"},1,1,1,1,1,1,1,{"$f":"LOOKUP($A459,INDIRECT(\"'\"&V$5&\"'!A:A\"),INDIRECT(\"'\"&V$5&\"'!\"&V$7&\":\"&V$7))","v":{"$error":"#REF!"}},{"$error":"#REF!"},{"$error":"#REF!"},{"$error":"#REF!"},{"$error":"#N/A"},{"$error":"#N/A"},{"$f":"IF(ISNUMBER(LOOKUP($D459,$A:$A,V:V)),LOOKUP($D459,$A:$A,V:V),AB458)","v":0},{"$f":"IF(ISNUMBER(LOOKUP($D459,$A:$A,W:W)),LOOKUP($D459,$A:$A,W:W),AC458)","v":0},{"$f":"IF(ISNUMBER(LOOKUP($D459,$A:$A,X:X)),LOOKUP($D459,$A:$A,X:X),AD458)","v":0},{"$f":"IF(ISNUMBER(LOOKUP($D459,$A:$A,Y:Y)),LOOKUP($D459,$A:$A,Y:Y),AE458)","v":0},{"$f":"IF(ISNUMBER(LOOKUP($D459,$A:$A,Z:Z)),LOOKUP($D459,$A:$A,Z:Z),AF458)","v":0},{"$f":"IF(ISNUMBER(LOOKUP($D459,$A:$A,AA:AA)),LOOKUP($D459,$A:$A,AA:AA),AG458)","v":0},1,1,1,1,1,1,{"$f":"IFERROR(IF(ISNUMBER(AB459)>0.1,AB459,AN460)*AH459,AN460)","v":0},{"$f":"IFERROR(IF(ISNUMBER(AC459)>0.1,AC459,AO460)*AI459,AO460)","v":0},{"$f":"IFERROR(IF(ISNUMBER(AD459)>0.1,AD459,AP460)*AJ459,AP460)","v":0},{"$f":"IFERROR(IF(ISNUMBER(AE459)>0.1,AE459,AQ460)*AK459,AQ460)","v":0},{"$f":"IFERROR(IF(ISNUMBER(AF459)>0.1,AF459,AR460)*AL459,AR460)","v":0},{"$f":"IF(ISNUMBER(AG459)>0.1,AG459,AS460)","v":0},false,{"$f":"IF(E459,IFERROR(LN(AN459/AN458),FALSE))","v":false},{"$f":"IF(E459,IFERROR(LN(AO459/AO458),FALSE))","v":false},{"$f":"IF(E459,IFERROR(LN(AP459/AP458),FALSE))","v":false},{"$f":"IF(E459,IFERROR(LN(AQ459/AQ458),FALSE))","v":false},{"$f":"IF(E459,IFERROR(LN(AR459/AR458),FALSE))","v":false},{"$f":"IF(E459,IFERROR(LN(AS459/AS458),FALSE))","v":false},1,1,1,1,1,1,{"$f":"IFERROR(LOOKUP($A459,INDIRECT(\"'\"&BN$6&\"'!A:A\"),INDIRECT(\"'\"&BN$6&\"'!\"&BN$7&\":\"&BN$7)),0)","v":0},{"$f":"IFERROR(LOOKUP($A459,INDIRECT(\"'\"&BO$6&\"'!A:A\"),INDIRECT(\"'\"&BO$6&\"'!\"&BO$7&\":\"&BO$7)),0)","v":0},{"$f":"IFERROR(LOOKUP($A459,INDIRECT(\"'\"&BP$6&\"'!A:A\"),INDIRECT(\"'\"&BP$6&\"'!\"&BP$7&\":\"&BP$7)),0)","v":0},{"$f":"IFERROR(LOOKUP($A459,INDIRECT(\"'\"&BQ$6&\"'!A:A\"),INDIRECT(\"'\"&BQ$6&\"'!\"&BQ$7&\":\"&BQ$7)),0)","v":0},{"$f":"IFERROR(LOOKUP($A459,INDIRECT(\"'\"&BR$6&\"'!A:A\"),INDIRECT(\"'\"&BR$6&\"'!\"&BR$7&\":\"&BR$7)),0)","v":0},{"$f":"IFERROR(LOOKUP($A459,INDIRECT(\"'\"&BS$6&\"'!A:A\"),INDIRECT(\"'\"&BS$6&\"'!\"&BS$7&\":\"&BS$7)),0)","v":0},{"$f":"IFERROR(LOOKUP($A459,INDIRECT(\"'\"&BT$6&\"'!A:A\"),INDIRECT(\"'\"&BT$6&\"'!\"&BT$7&\":\"&BT$7)),0)","v":0},{"$f":"IFERROR(1/IFERROR(LOOKUP($D459,$A:$A,BG:BG)*1,0),1)","v":1},{"$f":"IFERROR(1/IFERROR(LOOKUP($D459,$A:$A,BH:BH)*1,0),1)","v":1},0,0,0,0,0]
["1987-07-01",false,{"$f":"IF(C459<=$D$2,C459+7)","v":"2005-08-17"},false,{"$f":"AND(D460>=$D$4,D459<=$D$2)","v":false},{"$error":"#N/A"},{"$f":"IFERROR(LOOKUP($A460,INDIRECT(\"'\"&G$7&\"'!A:A\"),INDIRECT(\"'\"&G$7&\"'!\"&$G$9&\":\"&$G$9)),0)","v":0},1,0,{"$f":"IFERROR(LN(I460/I459),FALSE)","v":false},1,{"$error":"#N/A"},1,{"$error":"#N/A"},1,1,1,1,1,1,1,{"$error":"#REF!"},{"$error":"#REF!"},{"$error":"#REF!"},{"$error":"#REF!"},{"$error":"#N/A"},{"$error":"#N/A"},0,0,0,0,0,0,1,1,1,1,1,1,0,0,0,0,0,0,false,false,false,false,false,false,false,{"$f":"IFERROR(IF($E460,BA459*AN460/AN459,1),1)","v":1},{"$f":"IFERROR(IF($E460,BB459*AO460/AO459,1),1)","v":1},{"$f":"IFERROR(IF($E460,BC459*AP460/AP459,1),1)","v":1},{"$f":"IFERROR(IF($E460,BD459*AQ460/AQ459,1),1)","v":1},{"$f":"IFERROR(IF($E460,BE459*AR460/AR459,1),1)","v":1},{"$f":"IFERROR(IF($E460,BF459*AS460/AS459,1),1)","v":1},0,0,0,0,0,0,0,1,1,{"$f":"IFERROR(LOOKUP($D460,$A:$A,BI:BI)*1,BP459)","v":0},{"$f":"IFERROR(LOOKUP($D460,$A:$A,BJ:BJ)*1,BQ459)","v":0},{"$f":"IFERROR(LOOKUP($D460,$A:$A,BK:BK)*1,BR459)","v":0},{"$f":"IFERROR(LOOKUP($D460,$A:$A,BL:BL)*1,BS459)","v":0},{"$f":"IFERROR(LOOKUP($D460,$A:$A,BM:BM)*1,BT459)","v":0}]
["1987-08-01",false,"2005-08-24",{"$f":"IF($D$6,C461,B461)","v":false},false,{"$error":"#N/A"},0,1,0,false,{"$f":"IF($E461,(K460*I461/I460),1)","v":1},{"$f":"IF(E461,D461,NA())","v":{"$error":"#N/A"}},{"$f":"CHOOSE($M$1,I461,J461,K461)","v":1},{"$f":"L461","v":{"$error":"#N/A"}},{"$f":"M461","v":1},{"$f":"IFERROR(CHOOSE($M$1,AN461,AU461,BA461),1)","v":1},{"$f":"IFERROR(CHOOSE($M$1,AO461,AV461,BB461),1)","v":1},{"$f":"IFERROR(CHOOSE($M$1,AP461,AW461,BC461),1)","v":1},{"$f":"IFERROR(CHOOSE($M$1,AQ461,AX461,BD461),1)","v":1},{"$f":"IFERROR(CHOOSE($M$1,AR461,AY461,BE461),1)","v":1},{"$f":"IFERROR(CHOOSE($M$1,AS461,AZ461,BF461),1)","v":1},{"$error":"#REF!"},{"$error":"#REF!"},{"$error":"#REF!"},{"$error":"#REF!"},{"$error":"#N/A"},{"$error":"#N/A"},0,0,0,0,0,0,1,1,1,1,1,1,0,0,0,0,0,0,{"$f":"J461","v":false},false,false,false,false,false,false,1,1,1,1,1,1,0,0,0,0,0,0,0,1,1,0,0,0,0,0]
["1987-09-01",false,"2005-08-31",false,false,{"$error":"#N/A"},0,1,0,false,1,{"$error":"#N/A"},1,{"$error":"#N/A"},1,1,1,1,1,1,1,{"$error":"#REF!"},{"$error":"#REF!"},{"$error":"#REF!"},{"$error":"#REF!"},{"$error":"#N/A"},{"$error":"#N/A"},0,0,0,0,0,0,1,1,1,1,1,1,0,0,0,0,0,0,false,false,false,false,false,false,false,1,1,1,1,1,1,0,0,0,0,0,0,0,1,1,0,0,0,0,0]
["1987-10-01",false,"2005-09-07",false,false,{"$error":"#N/A"},0,1,0,false,1,{"$error":"#N/A"},1,{"$error":"#N/A"},1,1,1,1,1,1,1,{"$error":"#REF!"},{"$error":"#REF!"},{"$error":"#REF!"},{"$error":"#REF!"},{"$error":"#N/A"},{"$error":"#N/A"},0,0,0,0,0,0,1,1,1,1,1,1,0,0,0,0,0,0,false,false,false,false,false,false,false,1,1,1,1,1,1,0,0,0,0,0,0,0,1,1,0,0,0,0,0]
["1987-11-01",false,"2005-09-14",false,false,{"$error":"#N/A"},0,1,0,false,1,{"$error":"#N/A"},1,{"$error":"#N/A"},1,1,1,1,1,1,1,{"$error":"#REF!"},{"$error":"#REF!"},{"$error":"#REF!"},{"$error":"#REF!"},{"$error":"#N/A"},{"$error":"#N/A"},0,0,0,0,0,0,1,1,1,1,1,1,0,0,0,0,0,0,false,false,false,false,false,false,false,1,1,1,1,1,1,0,0,0,0,0,0,0,1,1,0,0,0,0,0]
["1987-12-01",false,"2005-09-21",false,false,{"$error":"#N/A"},0,1,0,false,1,{"$error":"#N/A"},1,{"$error":"#N/A"},1,1,1,1,1,1,1,{"$error":"#REF!"},{"$error":"#REF!"},{"$error":"#REF!"},{"$error":"#REF!"},{"$error":"#N/A"},{"$error":"#N/A"},0,0,0,0,0,0,1,1,1,{"$f":"IF(AK$7,INDEX($BN465:$BT465,AK$7),1)","v":1},1,1,0,0,0,0,0,0,false,false,false,false,false,false,false,1,1,1,1,1,1,0,0,0,0,0,0,0,1,1,0,0,0,0,0]
["1988-01-01",false,"2005-09-28",false,false,{"$error":"#N/A"},0,1,0,false,1,{"$error":"#N/A"},1,{"$error":"#N/A"},1,1,1,1,1,1,1,{"$error":"#REF!"},{"$error":"#REF!"},{"$error":"#REF!"},{"$error":"#REF!"},{"$error":"#N/A"},{"$error":"#N/A"},0,0,0,0,0,0,1,1,1,1,1,1,0,0,0,0,0,0,false,false,false,false,false,false,false,1,1,1,1,1,1,0,0,0,0,0,0,0,1,1,0,0,0,0,0]
["1988-02-01",false,"2005-10-05",false,false,{"$error":"#N/A"},0,1,0,false,1,{"$error":"#N/A"},1,{"$error":"#N/A"},1,1,1,1,1,1,1,{"$error":"#REF!"},{"$error":"#REF!"},{"$error":"#REF!"},{"$error":"#REF!"},{"$error":"#N/A"},{"$error":"#N/A"},0,0,0,0,0,0,1,1,1,1,1,1,0,0,0,0,0,0,false,false,false,false,false,false,false,1,1,1,1,1,1,0,0,0,0,0,0,0,1,1,0,0,0,0,0]
["1988-03-01",false,"2005-10-12",false,false,{"$error":"#N/A"},0,1,0,false,1,{"$error":"#N/A"},1,{"$error":"#N/A"},1,1,1,1,1,1,1,{"$error":"#REF!"},{"$error":"#REF!"},{"$error":"#REF!"},{"$error":"#REF!"},{"$error":"#N/A"},{"$error":"#N/A"},0,0,0,0,0,0,1,1,1,1,1,1,0,0,0,0,0,0,false,false,false,false,false,false,false,1,1,1,1,1,1,0,0,0,0,0,0,0,1,1,0,0,0,0,0]
["1988-04-01",false,"2005-10-19",false,false,{"$error":"#N/A"},0,1,0,false,1,{"$error":"#N/A"},1,{"$error":"#N/A"},1,1,1,1,1,1,1,{"$error":"#REF!"},{"$error":"#REF!"},{"$error":"#REF!"},{"$error":"#REF!"},{"$error":"#N/A"},{"$error":"#N/A"},0,0,0,0,0,0,1,1,1,1,1,1,0,0,0,0,0,0,false,false,false,false,false,false,false,1,1,1,1,1,1,0,0,0,0,0,0,0,1,1,0,0,0,0,0]
["1988-05-01",false,"2005-10-26",false,false,{"$error":"#N/A"},0,1,0,false,1,{"$error":"#N/A"},1,{"$error":"#N/A"},1,1,1,1,1,1,1,{"$error":"#REF!"},{"$error":"#REF!"},{"$error":"#REF!"},{"$error":"#REF!"},{"$error":"#N/A"},{"$error":"#N/A"},0,0,0,0,0,0,1,1,1,1,1,1,0,0,0,0,0,0,false,false,false,false,false,false,false,1,1,1,1,1,1,0,0,0,0,0,0,0,1,1,0,0,0,0,0]
["1988-06-01",false,"2005-11-02",false,false,{"$error":"#N/A"},0,1,0,false,1,{"$error":"#N/A"},1,{"$error":"#N/A"},1,1,1,1,1,1,1,{"$error":"#REF!"},{"$error":"#REF!"},{"$error":"#REF!"},{"$error":"#REF!"},{"$error":"#N/A"},{"$error":"#N/A"},0,0,0,0,0,0,1,1,1,1,1,1,0,0,0,0,0,0,false,false,false,false,false,false,false,1,1,1,1,1,1,0,0,0,0,0,0,0,1,1,0,0,0,0,0]
["1988-07-01",false,"2005-11-09",false,false,{"$error":"#N/A"},0,1,0,false,1,{"$error":"#N/A"},1,{"$error":"#N/A"},1,1,1,1,1,1,1,{"$error":"#REF!"},{"$error":"#REF!"},{"$error":"#REF!"},{"$error":"#REF!"},{"$error":"#N/A"},{"$error":"#N/A"},0,0,0,0,0,0,1,1,1,1,1,1,0,0,0,0,0,0,false,false,false,false,false,false,false,1,1,1,1,1,1,0,0,0,0,0,0,0,1,1,0,0,0,0,0]
["1988-08-01",false,"2005-11-16",false,false,{"$error":"#N/A"},0,1,0,false,1,{"$error":"#N/A"},1,{"$error":"#N/A"},1,1,1,1,1,1,1,{"$error":"#REF!"},{"$error":"#REF!"},{"$error":"#REF!"},{"$error":"#REF!"},{"$error":"#N/A"},{"$error":"#N/A"},0,0,0,0,0,0,1,1,1,1,1,1,0,0,0,0,0,0,false,false,false,false,false,false,false,1,1,1,1,1,1,0,0,0,0,0,0,0,1,1,0,0,0,0,0]
["1988-09-01",false,"2005-11-23",false,false,{"$error":"#N/A"},0,1,0,false,1,{"$error":"#N/A"},1,{"$error":"#N/A"},1,1,1,1,1,1,1,{"$error":"#REF!"},{"$error":"#REF!"},{"$error":"#REF!"},{"$f":"LOOKUP($A474,INDIRECT(\"'\"&Y$5&\"'!A:A\"),INDIRECT(\"'\"&Y$5&\"'!\"&Y$7&\":\"&Y$7))","v":{"$error":"#REF!"}},{"$error":"#N/A"},{"$error":"#N/A"},0,0,0,0,0,0,1,1,1,1,1,1,0,0,0,0,0,0,false,false,false,false,false,false,false,1,1,1,1,1,1,0,0,0,0,0,0,0,1,1,0,0,0,0,0]
["1988-10-01",false,"2005-11-30",false,false,{"$error":"#N/A"},0,1,0,false,1,{"$error":"#N/A"},1,{"$error":"#N/A"},1,1,1,1,1,1,1,{"$error":"#REF!"},{"$error":"#REF!"},{"$error":"#REF!"},{"$error":"#REF!"},{"$error":"#N/A"},{"$error":"#N/A"},0,0,0,0,0,0,1,1,1,1,1,1,0,0,0,0,0,0,false,false,false,false,false,false,false,1,1,1,1,1,1,0,0,0,0,0,0,0,1,1,0,0,0,0,0]
["1988-11-01",false,"2005-12-07",false,false,{"$error":"#N/A"},0,1,0,false,1,{"$error":"#N/A"},1,{"$error":"#N/A"},1,1,1,1,1,1,1,{"$error":"#REF!"},{"$error":"#REF!"},{"$error":"#REF!"},{"$error":"#REF!"},{"$error":"#N/A"},{"$error":"#N/A"},0,0,0,0,0,0,1,1,1,1,1,1,0,0,0,0,0,0,false,false,false,false,false,false,false,1,1,1,1,1,1,0,0,0,0,0,0,0,1,1,0,0,0,0,0]
["1988-12-01",false,"2005-12-14",false,false,{"$error":"#N/A"},0,1,0,false,1,{"$error":"#N/A"},1,{"$error":"#N/A"},1,1,1,1,1,1,1,{"$error":"#REF!"},{"$error":"#REF!"},{"$error":"#REF!"},{"$error":"#REF!"},{"$error":"#N/A"},{"$error":"#N/A"},0,0,0,0,0,0,1,1,1,1,1,1,0,0,0,0,0,0,false,false,false,false,false,false,false,1,1,1,1,1,1,0,0,0,0,0,0,0,1,1,0,0,0,0,0]
["1989-01-01",false,"2005-12-21",false,false,{"$error":"#N/A"},0,1,0,false,1,{"$error":"#N/A"},1,{"$error":"#N/A"},1,1,1,1,1,1,1,{"$error":"#REF!"},{"$error":"#REF!"},{"$error":"#REF!"},{"$error":"#REF!"},{"$error":"#N/A"},{"$error":"#N/A"},0,0,0,0,0,0,1,1,1,1,1,1,0,0,0,0,0,0,false,false,false,false,false,false,false,1,1,1,1,1,1,0,0,0,0,0,0,0,1,1,0,0,0,0,0]
["1989-02-01",false,"2005-12-28",false,false,{"$error":"#N/A"},0,1,0,false,1,{"$error":"#N/A"},1,{"$error":"#N/A"},1,1,1,1,1,1,1,{"$error":"#REF!"},{"$error":"#REF!"},{"$error":"#REF!"},{"$error":"#REF!"},{"$error":"#N/A"},{"$error":"#N/A"},0,0,0,0,0,0,1,1,1,1,1,1,0,0,0,0,0,0,false,false,false,false,false,false,false,1,1,1,1,1,1,0,0,0,0,0,0,0,1,1,0,0,0,0,0]
["1989-03-01",false,"2006-01-04",false,false,{"$error":"#N/A"},0,1,0,false,1,{"$error":"#N/A"},1,{"$error":"#N/A"},1,1,1,1,1,1,1,{"$error":"#REF!"},{"$error":"#REF!"},{"$error":"#REF!"},{"$error":"#REF!"},{"$error":"#N/A"},{"$error":"#N/A"},0,0,0,0,0,0,1,1,1,1,1,1,0,0,0,0,0,0,false,false,false,false,false,false,false,1,1,1,1,1,1,0,0,0,0,0,0,0,1,1,0,0,0,0,0]
["1989-04-01",false,"2006-01-11",false,false,{"$error":"#N/A"},0,1,0,false,1,{"$error":"#N/A"},1,{"$error":"#N/A"},1,1,1,1,1,1,1,{"$error":"#REF!"},{"$error":"#REF!"},{"$error":"#REF!"},{"$error":"#REF!"},{"$error":"#N/A"},{"$error":"#N/A"},0,0,0,0,0,0,1,1,1,1,1,1,0,0,0,0,0,0,false,false,false,false,false,false,false,1,1,1,1,1,1,0,0,0,0,0,0,0,1,1,0,0,0,0,0]
["1989-05-01",false,"2006-01-18",false,false,{"$error":"#N/A"},0,1,0,false,1,{"$error":"#N/A"},1,{"$error":"#N/A"},1,1,1,1,1,1,1,{"$error":"#REF!"},{"$error":"#REF!"},{"$error":"#REF!"},{"$error":"#REF!"},{"$error":"#N/A"},{"$error":"#N/A"},0,0,0,0,0,0,1,1,1,1,1,1,0,0,0,0,0,0,false,false,false,false,false,false,false,1,1,1,1,1,1,0,0,0,0,0,0,0,1,1,0,0,0,0,0]
["1989-06-01",false,"2006-01-25",false,false,{"$error":"#N/A"},0,1,0,false,1,{"$error":"#N/A"},1,{"$error":"#N/A"},1,1,1,1,1,1,1,{"$error":"#REF!"},{"$error":"#REF!"},{"$error":"#REF!"},{"$error":"#REF!"},{"$error":"#N/A"},{"$error":"#N/A"},0,0,0,0,0,0,1,1,1,1,1,1,0,0,0,0,0,0,false,false,false,false,false,false,false,1,1,1,1,1,1,0,0,0,0,0,0,0,1,1,0,0,0,0,0]
["1989-07-01",false,"2006-02-01",false,false,{"$error":"#N/A"},0,1,0,false,1,{"$error":"#N/A"},1,{"$error":"#N/A"},1,1,1,1,1,1,1,{"$error":"#REF!"},{"$error":"#REF!"},{"$error":"#REF!"},{"$error":"#REF!"},{"$error":"#N/A"},{"$error":"#N/A"},0,0,0,0,0,0,1,1,1,1,1,1,0,0,0,0,0,0,false,false,false,false,false,false,false,1,1,1,1,1,1,0,0,0,0,0,0,0,1,1,0,0,0,0,0]
["1989-08-01",false,"2006-02-08",false,false,{"$error":"#N/A"},0,1,0,false,1,{"$error":"#N/A"},1,{"$error":"#N/A"},1,1,1,1,1,1,1,{"$error":"#REF!"},{"$error":"#REF!"},{"$error":"#REF!"},{"$error":"#REF!"},{"$error":"#N/A"},{"$error":"#N/A"},0,0,0,0,0,0,1,1,1,1,1,1,0,0,0,0,0,0,false,false,false,false,false,false,false,1,1,1,1,1,1,0,0,0,0,0,0,0,1,1,0,0,0,0,0]
["1989-09-01",false,"2006-02-15",false,false,{"$error":"#N/A"},0,1,0,false,1,{"$error":"#N/A"},1,{"$error":"#N/A"},1,1,1,1,1,1,1,{"$error":"#REF!"},{"$error":"#REF!"},{"$error":"#REF!"},{"$error":"#REF!"},{"$error":"#N/A"},{"$error":"#N/A"},0,0,0,0,0,0,1,1,1,1,1,1,0,0,0,0,0,0,false,false,false,false,false,false,false,1,1,1,1,1,1,0,0,0,0,0,0,0,1,1,0,0,0,0,0]
["1989-10-01",false,"2006-02-22",false,false,{"$error":"#N/A"},0,1,0,false,1,{"$error":"#N/A"},1,{"$error":"#N/A"},1,1,1,1,1,1,1,{"$error":"#REF!"},{"$error":"#REF!"},{"$error":"#REF!"},{"$error":"#REF!"},{"$error":"#N/A"},{"$error":"#N/A"},0,0,0,0,0,0,1,1,1,1,1,1,0,0,0,0,0,0,false,false,false,false,false,false,false,1,1,1,1,1,1,0,0,0,0,0,0,0,1,1,0,0,0,0,0]
["1989-11-01",false,"2006-03-01",false,false,{"$error":"#N/A"},0,1,0,false,1,{"$error":"#N/A"},1,{"$error":"#N/A"},1,1,1,1,1,1,1,{"$error":"#REF!"},{"$error":"#REF!"},{"$error":"#REF!"},{"$error":"#REF!"},{"$error":"#N/A"},{"$error":"#N/A"},0,0,0,0,0,0,1,1,1,1,1,1,0,0,0,0,0,0,false,false,false,false,false,false,false,1,1,1,1,1,1,0,0,0,0,0,0,0,1,1,0,0,0,0,0]
["1989-12-01",false,"2006-03-08",false,false,{"$error":"#N/A"},0,1,0,false,1,{"$error":"#N/A"},1,{"$error":"#N/A"},1,1,1,1,1,1,1,{"$error":"#REF!"},{"$error":"#REF!"},{"$error":"#REF!"},{"$error":"#REF!"},{"$error":"#N/A"},{"$error":"#N/A"},0,0,0,0,0,0,1,1,1,1,1,1,0,0,0,0,0,0,false,false,false,false,false,false,false,1,1,1,1,1,1,0,0,0,0,0,0,0,1,1,0,0,0,0,0]
["1990-01-01",false,"2006-03-15",false,false,{"$error":"#N/A"},0,1,0,false,1,{"$error":"#N/A"},1,{"$error":"#N/A"},1,1,1,1,1,1,1,{"$error":"#REF!"},{"$error":"#REF!"},{"$error":"#REF!"},{"$error":"#REF!"},{"$error":"#N/A"},{"$error":"#N/A"},0,0,0,0,0,0,1,1,1,1,1,1,0,0,0,0,0,0,false,false,false,false,false,false,false,1,1,1,1,1,1,0,0,0,0,0,0,0,1,1,0,0,0,0,0]
["1990-02-01",false,"2006-03-22",false,false,{"$error":"#N/A"},0,1,0,false,1,{"$error":"#N/A"},1,{"$error":"#N/A"},1,1,1,1,1,1,1,{"$error":"#REF!"},{"$error":"#REF!"},{"$error":"#REF!"},{"$error":"#REF!"},{"$error":"#N/A"},{"$error":"#N/A"},0,0,0,0,0,0,1,1,1,1,1,1,0,0,0,0,0,0,false,false,false,false,false,false,false,1,1,1,1,1,1,0,0,0,0,0,0,0,1,1,0,0,0,0,0]
["1990-03-01",false,"2006-03-29",false,false,{"$error":"#N/A"},0,1,0,false,1,{"$error":"#N/A"},1,{"$error":"#N/A"},1,1,1,1,1,1,1,{"$error":"#REF!"},{"$error":"#REF!"},{"$error":"#REF!"},{"$error":"#REF!"},{"$error":"#N/A"},{"$error":"#N/A"},0,0,0,0,0,0,1,1,1,1,1,1,0,0,0,0,0,0,false,false,false,false,false,false,false,1,1,1,1,1,1,0,0,0,0,0,0,0,1,1,0,0,0,0,0]
["1990-04-01",false,"2006-04-05",false,false,{"$error":"#N/A"},0,1,0,false,1,{"$error":"#N/A"},1,{"$error":"#N/A"},1,1,1,1,1,1,1,{"$error":"#REF!"},{"$error":"#REF!"},{"$error":"#REF!"},{"$error":"#REF!"},{"$error":"#N/A"},{"$error":"#N/A"},0,0,0,0,0,0,{"$f":"IF(AH$7,INDEX($BN493:$BT493,AH$7),1)","v":1},1,1,1,1,1,0,0,0,0,0,0,false,false,false,false,false,false,false,1,1,1,1,1,1,0,0,0,0,0,0,0,1,1,0,0,0,0,0]
["1990-05-01",false,"2006-04-12",false,false,{"$error":"#N/A"},0,1,0,false,1,{"$error":"#N/A"},1,{"$error":"#N/A"},1,1,1,1,1,1,1,{"$error":"#REF!"},{"$error":"#REF!"},{"$error":"#REF!"},{"$error":"#REF!"},{"$error":"#N/A"},{"$error":"#N/A"},0,0,0,0,0,0,1,1,1,1,1,1,0,0,0,0,0,0,false,false,false,false,false,false,false,1,1,1,1,1,1,0,0,0,0,0,0,0,1,1,0,0,0,0,0]
["1990-06-01",false,"2006-04-19",false,false,{"$error":"#N/A"},0,1,0,false,1,{"$error":"#N/A"},1,{"$error":"#N/A"},1,1,1,1,1,1,1,{"$error":"#REF!"},{"$error":"#REF!"},{"$error":"#REF!"},{"$error":"#REF!"},{"$error":"#N/A"},{"$error":"#N/A"},0,0,0,0,0,0,1,1,1,1,1,1,0,0,0,0,0,0,false,false,false,false,false,false,false,1,1,1,1,1,1,0,0,0,0,0,0,0,1,1,0,0,0,0,0]
["1990-07-01",false,"2006-04-26",false,false,{"$error":"#N/A"},0,1,0,false,1,{"$error":"#N/A"},1,{"$error":"#N/A"},1,1,1,1,1,1,1,{"$error":"#REF!"},{"$error":"#REF!"},{"$error":"#REF!"},{"$error":"#REF!"},{"$error":"#N/A"},{"$error":"#N/A"},0,0,0,0,0,0,1,1,1,1,1,1,0,0,0,0,0,0,false,false,false,false,false,false,false,1,1,1,1,1,1,0,0,0,0,0,0,0,1,1,0,0,0,0,0]
["1990-08-01",false,"2006-05-03",false,false,{"$error":"#N/A"},0,1,0,false,1,{"$error":"#N/A"},1,{"$error":"#N/A"},1,1,1,1,1,1,1,{"$error":"#REF!"},{"$error":"#REF!"},{"$error":"#REF!"},{"$error":"#REF!"},{"$error":"#N/A"},{"$error":"#N/A"},0,0,0,0,0,0,1,1,1,1,1,1,0,0,0,0,0,0,false,false,false,false,false,false,false,1,1,1,1,1,1,0,0,0,0,0,0,0,1,1,0,0,0,0,0]
["1990-09-01",false,"2006-05-10",false,false,{"$error":"#N/A"},0,1,0,false,1,{"$error":"#N/A"},1,{"$error":"#N/A"},1,1,1,1,1,1,1,{"$error":"#REF!"},{"$error":"#REF!"},{"$error":"#REF!"},{"$error":"#REF!"},{"$error":"#N/A"},{"$error":"#N/A"},0,0,0,0,0,0,1,1,1,1,1,1,0,0,0,0,0,0,false,false,false,false,false,false,false,1,1,1,1,1,1,0,0,0,0,0,0,0,1,1,0,0,0,0,0]
["1990-10-01",false,"2006-05-17",false,false,{"$error":"#N/A"},0,1,0,false,1,{"$error":"#N/A"},1,{"$error":"#N/A"},1,1,1,1,1,1,1,{"$error":"#REF!"},{"$error":"#REF!"},{"$error":"#REF!"},{"$error":"#REF!"},{"$error":"#N/A"},{"$error":"#N/A"},0,0,0,0,0,0,1,1,1,1,1,1,0,0,0,0,0,0,false,false,false,false,false,false,false,1,1,1,1,1,1,0,0,0,0,0,0,0,1,1,0,0,0,0,0]
["1990-11-01",false,"2006-05-24",false,false,{"$error":"#N/A"},0,1,0,false,1,{"$error":"#N/A"},1,{"$error":"#N/A"},1,1,1,1,1,1,1,{"$error":"#REF!"},{"$error":"#REF!"},{"$error":"#REF!"},{"$error":"#REF!"},{"$error":"#N/A"},{"$error":"#N/A"},0,0,0,0,0,0,1,1,1,1,1,1,0,0,0,0,0,0,false,false,false,false,false,false,false,1,1,1,1,1,1,0,0,0,0,0,0,0,1,1,0,0,0,0,0]
["1990-12-01",false,"2006-05-31",false,false,{"$error":"#N/A"},0,1,0,false,1,{"$error":"#N/A"},1,{"$error":"#N/A"},1,1,1,1,1,1,1,{"$error":"#REF!"},{"$error":"#REF!"},{"$error":"#REF!"},{"$error":"#REF!"},{"$error":"#N/A"},{"$error":"#N/A"},0,0,0,0,0,0,1,1,1,1,1,1,0,0,0,0,0,0,false,false,false,false,false,false,false,1,1,1,1,1,1,0,0,0,0,0,0,0,1,1,0,0,0,0,0]
["1991-01-01",false,"2006-06-07",false,false,{"$error":"#N/A"},0,1,0,false,1,{"$error":"#N/A"},1,{"$error":"#N/A"},1,1,1,1,1,1,1,{"$error":"#REF!"},{"$error":"#REF!"},{"$error":"#REF!"},{"$error":"#REF!"},{"$error":"#N/A"},{"$error":"#N/A"},0,0,0,0,0,0,1,1,1,1,1,1,0,0,0,0,0,0,false,false,false,false,false,false,false,1,1,1,1,1,1,0,0,0,0,0,0,0,1,1,0,0,0,0,0]
["1991-02-01",false,"2006-06-14",false,false,{"$error":"#N/A"},0,1,0,false,1,{"$error":"#N/A"},1,{"$error":"#N/A"},1,1,1,1,1,1,1,{"$error":"#REF!"},{"$error":"#REF!"},{"$error":"#REF!"},{"$error":"#REF!"},{"$error":"#N/A"},{"$error":"#N/A"},0,0,0,0,0,0,1,1,1,1,1,1,0,0,0,0,0,0,false,false,false,false,false,false,false,1,1,1,1,1,1,0,0,0,0,0,0,0,1,1,0,0,0,0,0]
["1991-03-01",false,"2006-06-21",false,false,{"$error":"#N/A"},0,1,0,false,1,{"$error":"#N/A"},1,{"$error":"#N/A"},1,1,1,1,1,1,1,{"$error":"#REF!"},{"$error":"#REF!"},{"$error":"#REF!"},{"$error":"#REF!"},{"$error":"#N/A"},{"$error":"#N/A"},0,0,0,0,0,0,1,1,1,1,1,1,0,0,0,0,0,0,false,false,false,false,false,false,false,1,1,1,1,1,1,0,0,0,0,0,0,0,1,1,0,0,0,0,0]
["1991-04-01",false,"2006-06-28",false,false,{"$error":"#N/A"},0,1,0,false,1,{"$error":"#N/A"},1,{"$error":"#N/A"},1,1,1,1,1,1,1,{"$error":"#REF!"},{"$error":"#REF!"},{"$error":"#REF!"},{"$error":"#REF!"},{"$error":"#N/A"},{"$error":"#N/A"},0,0,0,0,0,0,1,1,1,1,1,1,0,0,0,0,0,0,false,false,false,false,false,false,false,1,1,1,1,1,1,0,0,0,0,0,0,0,1,1,0,0,0,0,0]
["1991-05-01",false,"2006-07-05",false,false,{"$error":"#N/A"},0,1,0,false,1,{"$error":"#N/A"},1,{"$error":"#N/A"},1,1,1,1,1,1,1,{"$error":"#REF!"},{"$error":"#REF!"},{"$error":"#REF!"},{"$error":"#REF!"},{"$error":"#N/A"},{"$error":"#N/A"},0,0,0,0,0,0,1,1,1,1,1,1,0,0,0,0,0,0,false,false,false,false,false,false,false,1,1,1,1,1,1,0,0,0,0,0,0,0,1,1,0,0,0,0,0]
["1991-06-01",false,"2006-07-12",false,false,{"$error":"#N/A"},0,1,0,false,1,{"$error":"#N/A"},1,{"$error":"#N/A"},1,1,1,1,1,1,1,{"$error":"#REF!"},{"$error":"#REF!"},{"$error":"#REF!"},{"$error":"#REF!"},{"$error":"#N/A"},{"$error":"#N/A"},0,0,0,0,0,0,1,1,1,1,1,1,0,0,0,0,0,0,false,false,false,false,false,false,false,1,1,1,1,1,1,0,0,0,0,0,0,0,1,1,0,0,0,0,0]
["1991-07-01",false,"2006-07-19",false,false,{"$error":"#N/A"},0,1,0,false,1,{"$error":"#N/A"},1,{"$error":"#N/A"},1,1,1,1,1,1,1,{"$error":"#REF!"},{"$error":"#REF!"},{"$error":"#REF!"},{"$error":"#REF!"},{"$error":"#N/A"},{"$error":"#N/A"},0,0,0,0,0,0,1,1,1,1,1,1,0,0,0,0,0,0,false,false,false,false,false,false,false,1,1,1,1,1,1,0,0,0,0,0,0,0,1,1,0,0,0,0,0]
["1991-08-01",false,"2006-07-26",false,false,{"$error":"#N/A"},0,1,0,false,1,{"$error":"#N/A"},1,{"$error":"#N/A"},1,1,1,1,1,1,1,{"$error":"#REF!"},{"$error":"#REF!"},{"$error":"#REF!"},{"$error":"#REF!"},{"$error":"#N/A"},{"$error":"#N/A"},0,0,0,0,0,0,1,1,1,1,1,1,0,0,0,0,0,0,false,false,false,false,false,false,false,1,1,1,1,1,1,0,0,0,0,0,0,0,1,1,0,0,0,0,0]
["1991-09-01",false,"2006-08-02",false,false,{"$error":"#N/A"},0,1,0,false,1,{"$error":"#N/A"},1,{"$error":"#N/A"},1,1,1,1,1,1,1,{"$error":"#REF!"},{"$error":"#REF!"},{"$error":"#REF!"},{"$error":"#REF!"},{"$error":"#N/A"},{"$error":"#N/A"},0,0,0,0,0,0,1,1,1,1,1,1,0,0,0,0,0,0,false,false,false,false,false,false,false,1,1,1,1,1,1,0,0,0,0,0,0,0,1,1,0,0,0,0,0]
["1991-10-01",false,"2006-08-09",false,false,{"$error":"#N/A"},0,1,0,false,1,{"$error":"#N/A"},1,{"$error":"#N/A"},1,1,1,1,1,1,1,{"$error":"#REF!"},{"$error":"#REF!"},{"$error":"#REF!"},{"$error":"#REF!"},{"$error":"#N/A"},{"$error":"#N/A"},0,0,0,0,0,0,1,1,1,1,1,1,0,0,0,0,0,0,false,false,false,false,false,false,false,1,1,1,1,1,1,0,0,0,0,0,0,0,1,1,0,0,0,0,0]
["1991-11-01",false,"2006-08-16",false,false,{"$error":"#N/A"},0,1,0,false,1,{"$error":"#N/A"},1,{"$error":"#N/A"},1,1,1,1,1,1,1,{"$error":"#REF!"},{"$error":"#REF!"},{"$error":"#REF!"},{"$error":"#REF!"},{"$error":"#N/A"},{"$error":"#N/A"},0,0,0,0,0,0,1,1,1,1,1,1,0,0,0,0,0,0,false,false,false,false,false,false,false,1,1,1,1,1,1,0,0,0,0,0,0,0,1,1,0,0,0,0,0]
["1991-12-01",false,"2006-08-23",false,false,{"$error":"#N/A"},0,1,0,false,1,{"$error":"#N/A"},1,{"$error":"#N/A"},1,1,1,1,1,1,1,{"$error":"#REF!"},{"$error":"#REF!"},{"$error":"#REF!"},{"$error":"#REF!"},{"$error":"#N/A"},{"$error":"#N/A"},0,0,0,0,0,0,1,1,1,1,1,1,0,0,0,0,0,0,false,false,false,false,false,false,false,1,1,1,1,1,1,0,0,0,0,0,0,0,1,1,0,0,0,0,0]
["1992-01-01",false,"2006-08-30",false,false,{"$error":"#N/A"},0,1,0,false,1,{"$error":"#N/A"},1,{"$error":"#N/A"},1,1,1,1,1,1,1,{"$error":"#REF!"},{"$error":"#REF!"},{"$error":"#REF!"},{"$error":"#REF!"},{"$error":"#N/A"},{"$error":"#N/A"},0,0,0,0,0,0,1,1,1,1,1,1,0,0,0,0,0,0,false,false,false,false,false,false,false,1,1,1,1,1,1,0,0,0,0,0,0,0,1,1,0,0,0,0,0]
["1992-02-01",false,"2006-09-06",false,false,{"$error":"#N/A"},0,1,0,false,1,{"$error":"#N/A"},1,{"$error":"#N/A"},1,1,1,1,1,1,1,{"$error":"#REF!"},{"$error":"#REF!"},{"$error":"#REF!"},{"$error":"#REF!"},{"$error":"#N/A"},{"$error":"#N/A"},0,0,0,0,0,0,1,1,1,1,1,1,0,0,0,0,0,0,false,false,false,false,false,false,false,1,1,1,1,1,1,0,0,0,0,0,0,0,1,1,0,0,0,0,0]
["1992-03-01",false,"2006-09-13",false,false,{"$error":"#N/A"},0,1,0,false,1,{"$error":"#N/A"},1,{"$error":"#N/A"},1,1,1,1,1,1,1,{"$error":"#REF!"},{"$error":"#REF!"},{"$error":"#REF!"},{"$error":"#REF!"},{"$error":"#N/A"},{"$error":"#N/A"},0,0,0,0,0,0,1,1,1,{"$f":"IF(AK$7,INDEX($BN516:$BT516,AK$7),1)","v":1},1,1,0,0,0,0,0,0,false,false,false,false,false,false,false,1,1,1,1,1,1,0,0,0,0,0,0,0,1,1,0,0,0,0,0]
["1992-04-01",false,"2006-09-20",false,false,{"$error":"#N/A"},0,1,0,false,1,{"$error":"#N/A"},1,{"$error":"#N/A"},1,1,1,1,1,1,1,{"$error":"#REF!"},{"$error":"#REF!"},{"$error":"#REF!"},{"$error":"#REF!"},{"$error":"#N/A"},{"$error":"#N/A"},0,0,0,0,0,0,1,1,1,1,1,1,0,0,0,0,0,0,false,false,false,false,false,false,false,1,1,1,1,1,1,0,0,0,0,0,0,0,1,1,0,0,0,0,0]
["1992-05-01",false,"2006-09-27",false,false,{"$error":"#N/A"},0,1,0,false,1,{"$error":"#N/A"},1,{"$error":"#N/A"},1,1,1,1,1,1,1,{"$error":"#REF!"},{"$error":"#REF!"},{"$error":"#REF!"},{"$error":"#REF!"},{"$error":"#N/A"},{"$error":"#N/A"},0,0,0,0,0,0,1,1,1,1,1,1,0,0,0,0,0,0,false,false,false,false,false,false,false,1,1,1,1,1,1,0,0,0,0,0,0,0,1,1,0,0,0,0,0]
["1992-06-01",false,"2006-10-04",false,false,{"$error":"#N/A"},0,1,0,false,1,{"$error":"#N/A"},1,{"$error":"#N/A"},1,1,1,1,1,1,1,{"$error":"#REF!"},{"$error":"#REF!"},{"$error":"#REF!"},{"$error":"#REF!"},{"$error":"#N/A"},{"$error":"#N/A"},0,0,0,0,0,0,1,1,1,1,1,1,0,0,0,0,0,0,false,false,false,false,false,false,false,1,1,1,1,1,1,0,0,0,0,0,0,0,1,1,0,0,0,0,0]
["1992-07-01",false,"2006-10-11",false,false,{"$error":"#N/A"},0,1,0,false,1,{"$error":"#N/A"},1,{"$error":"#N/A"},1,1,1,1,1,1,1,{"$error":"#REF!"},{"$error":"#REF!"},{"$error":"#REF!"},{"$error":"#REF!"},{"$error":"#N/A"},{"$error":"#N/A"},0,0,0,0,0,0,1,1,1,1,1,1,0,0,0,0,0,0,false,false,false,false,false,false,false,1,1,1,1,1,1,0,0,0,0,0,0,0,1,1,0,0,0,0,0]
["1992-08-01",false,"2006-10-18",false,false,{"$error":"#N/A"},0,1,0,false,1,{"$error":"#N/A"},1,{"$error":"#N/A"},1,1,1,1,1,1,1,{"$error":"#REF!"},{"$error":"#REF!"},{"$error":"#REF!"},{"$error":"#REF!"},{"$error":"#N/A"},{"$error":"#N/A"},0,0,0,0,0,0,1,1,1,1,1,1,0,0,0,0,0,0,false,false,false,false,false,false,false,1,1,1,1,1,1,0,0,0,0,0,0,0,1,1,0,0,0,0,0]
["1992-09-01",false,"2006-10-25",false,false,{"$error":"#N/A"},0,1,0,false,1,{"$error":"#N/A"},1,{"$error":"#N/A"},1,1,1,1,1,1,1,{"$error":"#REF!"},{"$error":"#REF!"},{"$error":"#REF!"},{"$error":"#REF!"},{"$error":"#N/A"},{"$error":"#N/A"},0,0,0,0,0,0,1,1,1,1,1,1,0,0,0,0,0,0,false,false,false,false,false,false,false,1,1,1,1,1,1,0,0,0,0,0,0,0,1,1,0,0,0,0,0]
["1992-10-01",{"$f":"IF(B522<=$D$2,EOMONTH(B522,1))","v":false},"2006-11-01",false,false,{"$f":"LOOKUP(D523,A:A,G:G)","v":{"$error":"#N/A"}},{"$f":"IFERROR(LOOKUP($A523,INDIRECT(\"'\"&G$7&\"'!A:A\"),INDIRECT(\"'\"&G$7&\"'!\"&$G$9&\":\"&$G$9)),0)","v":0},{"$f":"IF(H$8,INDEX($BN523:$BT523,H$8),1)","v":1},{"$f":"IF(ISNUMBER(F523),F523,I524)*H523","v":0},false,1,{"$error":"#N/A"},1,{"$error":"#N/A"},1,1,1,1,1,1,1,{"$f":"LOOKUP($A523,INDIRECT(\"'\"&V$5&\"'!A:A\"),INDIRECT(\"'\"&V$5&\"'!\"&V$7&\":\"&V$7))","v":{"$error":"#REF!"}},{"$error":"#REF!"},{"$error":"#REF!"},{"$error":"#REF!"},{"$error":"#N/A"},{"$error":"#N/A"},{"$f":"IF(ISNUMBER(LOOKUP($D523,$A:$A,V:V)),LOOKUP($D523,$A:$A,V:V),AB522)","v":0},{"$f":"IF(ISNUMBER(LOOKUP($D523,$A:$A,W:W)),LOOKUP($D523,$A:$A,W:W),AC522)","v":0},{"$f":"IF(ISNUMBER(LOOKUP($D523,$A:$A,X:X)),LOOKUP($D523,$A:$A,X:X),AD522)","v":0},{"$f":"IF(ISNUMBER(LOOKUP($D523,$A:$A,Y:Y)),LOOKUP($D523,$A:$A,Y:Y),AE522)","v":0},{"$f":"IF(ISNUMBER(LOOKUP($D523,$A:$A,Z:Z)),LOOKUP($D523,$A:$A,Z:Z),AF522)","v":0},{"$f":"IF(ISNUMBER(LOOKUP($D523,$A:$A,AA:AA)),LOOKUP($D523,$A:$A,AA:AA),AG522)","v":0},1,1,1,1,1,1,{"$f":"IFERROR(IF(ISNUMBER(AB523)>0.1,AB523,AN524)*AH523,AN524)","v":0},{"$f":"IFERROR(IF(ISNUMBER(AC523)>0.1,AC523,AO524)*AI523,AO524)","v":0},{"$f":"IFERROR(IF(ISNUMBER(AD523)>0.1,AD523,AP524)*AJ523,AP524)","v":0},{"$f":"IFERROR(IF(ISNUMBER(AE523)>0.1,AE523,AQ524)*AK523,AQ524)","v":0},{"$f":"IFERROR(IF(ISNUMBER(AF523)>0.1,AF523,AR524)*AL523,AR524)","v":0},{"$f":"IF(ISNUMBER(AG523)>0.1,AG523,AS524)","v":0},false,{"$f":"IF(E523,IFERROR(LN(AN523/AN522),FALSE))","v":false},{"$f":"IF(E523,IFERROR(LN(AO523/AO522),FALSE))","v":false},{"$f":"IF(E523,IFERROR(LN(AP523/AP522),FALSE))","v":false},{"$f":"IF(E523,IFERROR(LN(AQ523/AQ522),FALSE))","v":false},{"$f":"IF(E523,IFERROR(LN(AR523/AR522),FALSE))","v":false},{"$f":"IF(E523,IFERROR(LN(AS523/AS522),FALSE))","v":false},1,1,1,1,1,1,{"$f":"IFERROR(LOOKUP($A523,INDIRECT(\"'\"&BN$6&\"'!A:A\"),INDIRECT(\"'\"&BN$6&\"'!\"&BN$7&\":\"&BN$7)),0)","v":0},{"$f":"IFERROR(LOOKUP($A523,INDIRECT(\"'\"&BO$6&\"'!A:A\"),INDIRECT(\"'\"&BO$6&\"'!\"&BO$7&\":\"&BO$7)),0)","v":0},{"$f":"IFERROR(LOOKUP($A523,INDIRECT(\"'\"&BP$6&\"'!A:A\"),INDIRECT(\"'\"&BP$6&\"'!\"&BP$7&\":\"&BP$7)),0)","v":0},{"$f":"IFERROR(LOOKUP($A523,INDIRECT(\"'\"&BQ$6&\"'!A:A\"),INDIRECT(\"'\"&BQ$6&\"'!\"&BQ$7&\":\"&BQ$7)),0)","v":0},{"$f":"IFERROR(LOOKUP($A523,INDIRECT(\"'\"&BR$6&\"'!A:A\"),INDIRECT(\"'\"&BR$6&\"'!\"&BR$7&\":\"&BR$7)),0)","v":0},{"$f":"IFERROR(LOOKUP($A523,INDIRECT(\"'\"&BS$6&\"'!A:A\"),INDIRECT(\"'\"&BS$6&\"'!\"&BS$7&\":\"&BS$7)),0)","v":0},{"$f":"IFERROR(LOOKUP($A523,INDIRECT(\"'\"&BT$6&\"'!A:A\"),INDIRECT(\"'\"&BT$6&\"'!\"&BT$7&\":\"&BT$7)),0)","v":0},{"$f":"IFERROR(1/IFERROR(LOOKUP($D523,$A:$A,BG:BG)*1,0),1)","v":1},{"$f":"IFERROR(1/IFERROR(LOOKUP($D523,$A:$A,BH:BH)*1,0),1)","v":1},0,0,0,0,0]
["1992-11-01",false,{"$f":"IF(C523<=$D$2,C523+7)","v":"2006-11-08"},false,{"$f":"AND(D524>=$D$4,D523<=$D$2)","v":false},{"$error":"#N/A"},0,1,0,{"$f":"IFERROR(LN(I524/I523),FALSE)","v":false},1,{"$error":"#N/A"},1,{"$error":"#N/A"},1,1,1,1,1,1,1,{"$error":"#REF!"},{"$error":"#REF!"},{"$error":"#REF!"},{"$error":"#REF!"},{"$error":"#N/A"},{"$error":"#N/A"},0,0,0,0,0,0,1,1,1,1,1,1,0,0,0,0,0,0,false,false,false,false,false,false,false,{"$f":"IFERROR(IF($E524,BA523*AN524/AN523,1),1)","v":1},{"$f":"IFERROR(IF($E524,BB523*AO524/AO523,1),1)","v":1},{"$f":"IFERROR(IF($E524,BC523*AP524/AP523,1),1)","v":1},{"$f":"IFERROR(IF($E524,BD523*AQ524/AQ523,1),1)","v":1},{"$f":"IFERROR(IF($E524,BE523*AR524/AR523,1),1)","v":1},{"$f":"IFERROR(IF($E524,BF523*AS524/AS523,1),1)","v":1},0,0,0,0,0,0,0,1,1,{"$f":"IFERROR(LOOKUP($D524,$A:$A,BI:BI)*1,BP523)","v":0},{"$f":"IFERROR(LOOKUP($D524,$A:$A,BJ:BJ)*1,BQ523)","v":0},{"$f":"IFERROR(LOOKUP($D524,$A:$A,BK:BK)*1,BR523)","v":0},{"$f":"IFERROR(LOOKUP($D524,$A:$A,BL:BL)*1,BS523)","v":0},{"$f":"IFERROR(LOOKUP($D524,$A:$A,BM:BM)*1,BT523)","v":0}]
["1992-12-01",false,"2006-11-15",{"$f":"IF($D$6,C525,B525)","v":false},false,{"$error":"#N/A"},0,1,0,false,{"$f":"IF($E525,(K524*I525/I524),1)","v":1},{"$f":"IF(E525,D525,NA())","v":{"$error":"#N/A"}},{"$f":"CHOOSE($M$1,I525,J525,K525)","v":1},{"$f":"L525","v":{"$error":"#N/A"}},{"$f":"M525","v":1},{"$f":"IFERROR(CHOOSE($M$1,AN525,AU525,BA525),1)","v":1},{"$f":"IFERROR(CHOOSE($M$1,AO525,AV525,BB525),1)","v":1},{"$f":"IFERROR(CHOOSE($M$1,AP525,AW525,BC525),1)","v":1},{"$f":"IFERROR(CHOOSE($M$1,AQ525,AX525,BD525),1)","v":1},{"$f":"IFERROR(CHOOSE($M$1,AR525,AY525,BE525),1)","v":1},{"$f":"IFERROR(CHOOSE($M$1,AS525,AZ525,BF525),1)","v":1},{"$error":"#REF!"},{"$error":"#REF!"},{"$error":"#REF!"},{"$f":"LOOKUP($A525,INDIRECT(\"'\"&Y$5&\"'!A:A\"),INDIRECT(\"'\"&Y$5&\"'!\"&Y$7&\":\"&Y$7))","v":{"$error":"#REF!"}},{"$error":"#N/A"},{"$error":"#N/A"},0,0,0,0,0,0,1,1,1,1,1,1,0,0,0,0,0,0,{"$f":"J525","v":false},false,false,false,false,false,false,1,1,1,1,1,1,0,0,0,0,0,0,0,1,1,0,0,0,0,0]
["1993-01-01",false,"2006-11-22",false,false,{"$error":"#N/A"},0,1,0,false,1,{"$error":"#N/A"},1,{"$error":"#N/A"},1,1,1,1,1,1,1,{"$error":"#REF!"},{"$error":"#REF!"},{"$error":"#REF!"},{"$error":"#REF!"},{"$error":"#N/A"},{"$error":"#N/A"},0,0,0,0,0,0,1,1,1,1,1,1,0,0,0,0,0,0,false,false,false,false,false,false,false,1,1,1,1,1,1,0,0,0,0,0,0,0,1,1,0,0,0,0,0]
["1993-02-01",false,"2006-11-29",false,false,{"$error":"#N/A"},0,1,0,false,1,{"$error":"#N/A"},1,{"$error":"#N/A"},1,1,1,1,1,1,1,{"$error":"#REF!"},{"$error":"#REF!"},{"$error":"#REF!"},{"$error":"#REF!"},{"$error":"#N/A"},{"$error":"#N/A"},0,0,0,0,0,0,1,1,1,1,1,1,0,0,0,0,0,0,false,false,false,false,false,false,false,1,1,1,1,1,1,0,0,0,0,0,0,0,1,1,0,0,0,0,0]
["1993-03-01",false,"2006-12-06",false,false,{"$error":"#N/A"},0,1,0,false,1,{"$error":"#N/A"},1,{"$error":"#N/A"},1,1,1,1,1,1,1,{"$error":"#REF!"},{"$error":"#REF!"},{"$error":"#REF!"},{"$error":"#REF!"},{"$error":"#N/A"},{"$error":"#N/A"},0,0,0,0,0,0,1,1,1,1,1,1,0,0,0,0,0,0,false,false,false,false,false,false,false,1,1,1,1,1,1,0,0,0,0,0,0,0,1,1,0,0,0,0,0]
["1993-04-01",false,"2006-12-13",false,false,{"$error":"#N/A"},0,1,0,false,1,{"$error":"#N/A"},1,{"$error":"#N/A"},1,1,1,1,1,1,1,{"$error":"#REF!"},{"$error":"#REF!"},{"$error":"#REF!"},{"$error":"#REF!"},{"$error":"#N/A"},{"$error":"#N/A"},0,0,0,0,0,0,1,1,1,1,1,1,0,0,0,0,0,0,false,false,false,false,false,false,false,1,1,1,1,1,1,0,0,0,0,0,0,0,1,1,0,0,0,0,0]
["1993-05-01",false,"2006-12-20",false,false,{"$error":"#N/A"},0,1,0,false,1,{"$error":"#N/A"},1,{"$error":"#N/A"},1,1,1,1,1,1,1,{"$error":"#REF!"},{"$error":"#REF!"},{"$error":"#REF!"},{"$error":"#REF!"},{"$error":"#N/A"},{"$error":"#N/A"},0,0,0,0,0,0,1,1,1,1,1,1,0,0,0,0,0,0,false,false,false,false,false,false,false,1,1,1,1,1,1,0,0,0,0,0,0,0,1,1,0,0,0,0,0]
["1993-06-01",false,"2006-12-27",false,false,{"$error":"#N/A"},0,1,0,false,1,{"$error":"#N/A"},1,{"$error":"#N/A"},1,1,1,1,1,1,1,{"$error":"#REF!"},{"$error":"#REF!"},{"$error":"#REF!"},{"$error":"#REF!"},{"$error":"#N/A"},{"$error":"#N/A"},0,0,0,0,0,0,1,1,1,1,1,1,0,0,0,0,0,0,false,false,false,false,false,false,false,1,1,1,1,1,1,0,0,0,0,0,0,0,1,1,0,0,0,0,0]
["1993-07-01",false,"2007-01-03",false,false,{"$error":"#N/A"},0,1,0,false,1,{"$error":"#N/A"},1,{"$error":"#N/A"},1,1,1,1,1,1,1,{"$error":"#REF!"},{"$error":"#REF!"},{"$error":"#REF!"},{"$error":"#REF!"},{"$error":"#N/A"},{"$error":"#N/A"},0,0,0,0,0,0,1,1,1,1,1,1,0,0,0,0,0,0,false,false,false,false,false,false,false,1,1,1,1,1,1,0,0,0,0,0,0,0,1,1,0,0,0,0,0]
["1993-08-01",false,"2007-01-10",false,false,{"$error":"#N/A"},0,1,0,false,1,{"$error":"#N/A"},1,{"$error":"#N/A"},1,1,1,1,1,1,1,{"$error":"#REF!"},{"$error":"#REF!"},{"$error":"#REF!"},{"$error":"#REF!"},{"$error":"#N/A"},{"$error":"#N/A"},0,0,0,0,0,0,1,1,1,1,1,1,0,0,0,0,0,0,false,false,false,false,false,false,false,1,1,1,1,1,1,0,0,0,0,0,0,0,1,1,0,0,0,0,0]
["1993-09-01",false,"2007-01-17",false,false,{"$error":"#N/A"},0,1,0,false,1,{"$error":"#N/A"},1,{"$error":"#N/A"},1,1,1,1,1,1,1,{"$error":"#REF!"},{"$error":"#REF!"},{"$error":"#REF!"},{"$error":"#REF!"},{"$error":"#N/A"},{"$error":"#N/A"},0,0,0,0,0,0,1,1,1,1,1,1,0,0,0,0,0,0,false,false,false,false,false,false,false,1,1,1,1,1,1,0,0,0,0,0,0,0,1,1,0,0,0,0,0]
["1993-10-01",false,"2007-01-24",false,false,{"$error":"#N/A"},0,1,0,false,1,{"$error":"#N/A"},1,{"$error":"#N/A"},1,1,1,1,1,1,1,{"$error":"#REF!"},{"$error":"#REF!"},{"$error":"#REF!"},{"$error":"#REF!"},{"$error":"#N/A"},{"$error":"#N/A"},0,0,0,0,0,0,1,1,1,1,1,1,0,0,0,0,0,0,false,false,false,false,false,false,false,1,1,1,1,1,1,0,0,0,0,0,0,0,1,1,0,0,0,0,0]
["1993-11-01",false,"2007-01-31",false,false,{"$error":"#N/A"},0,1,0,false,1,{"$error":"#N/A"},1,{"$error":"#N/A"},1,1,1,1,1,1,1,{"$error":"#REF!"},{"$error":"#REF!"},{"$error":"#REF!"},{"$error":"#REF!"},{"$error":"#N/A"},{"$error":"#N/A"},0,0,0,0,0,0,1,1,1,1,1,1,0,0,0,0,0,0,false,false,false,false,false,false,false,1,1,1,1,1,1,0,0,0,0,0,0,0,1,1,0,0,0,0,0]
["1993-12-01",false,"2007-02-07",false,false,{"$error":"#N/A"},0,1,0,false,1,{"$error":"#N/A"},1,{"$error":"#N/A"},1,1,1,1,1,1,1,{"$error":"#REF!"},{"$error":"#REF!"},{"$error":"#REF!"},{"$error":"#REF!"},{"$error":"#N/A"},{"$error":"#N/A"},0,0,0,0,0,0,1,1,1,1,1,1,0,0,0,0,0,0,false,false,false,false,false,false,false,1,1,1,1,1,1,0,0,0,0,0,0,0,1,1,0,0,0,0,0]
["1994-01-01",false,"2007-02-14",false,false,{"$error":"#N/A"},0,1,0,false,1,{"$error":"#N/A"},1,{"$error":"#N/A"},1,1,1,1,1,1,1,{"$error":"#REF!"},{"$error":"#REF!"},{"$error":"#REF!"},{"$error":"#REF!"},{"$error":"#N/A"},{"$error":"#N/A"},0,0,0,0,0,0,1,1,1,1,1,1,0,0,0,0,0,0,false,false,false,false,false,false,false,1,1,1,1,1,1,0,0,0,0,0,0,0,1,1,0,0,0,0,0]
["1994-02-01",false,"2007-02-21",false,false,{"$error":"#N/A"},0,1,0,false,1,{"$error":"#N/A"},1,{"$error":"#N/A"},1,1,1,1,1,1,1,{"$error":"#REF!"},{"$error":"#REF!"},{"$error":"#REF!"},{"$error":"#REF!"},{"$error":"#N/A"},{"$error":"#N/A"},0,0,0,0,0,0,1,1,1,1,1,1,0,0,0,0,0,0,false,false,false,false,false,false,false,1,1,1,1,1,1,0,0,0,0,0,0,0,1,1,0,0,0,0,0]
["1994-03-01",false,"2007-02-28",false,false,{"$error":"#N/A"},0,1,0,false,1,{"$error":"#N/A"},1,{"$error":"#N/A"},1,1,1,1,1,1,1,{"$error":"#REF!"},{"$error":"#REF!"},{"$error":"#REF!"},{"$error":"#REF!"},{"$error":"#N/A"},{"$error":"#N/A"},0,0,0,0,0,0,1,1,1,1,1,1,0,0,0,0,0,0,false,false,false,false,false,false,false,1,1,1,1,1,1,0,0,0,0,0,0,0,1,1,0,0,0,0,0]
["1994-04-01",false,"2007-03-07",false,false,{"$error":"#N/A"},0,1,0,false,1,{"$error":"#N/A"},1,{"$error":"#N/A"},1,1,1,1,1,1,1,{"$error":"#REF!"},{"$error":"#REF!"},{"$error":"#REF!"},{"$error":"#REF!"},{"$error":"#N/A"},{"$error":"#N/A"},0,0,0,0,0,0,1,1,1,1,1,1,0,0,0,0,0,0,false,false,false,false,false,false,false,1,1,1,1,1,1,0,0,0,0,0,0,0,1,1,0,0,0,0,0]
["1994-05-01",false,"2007-03-14",false,false,{"$error":"#N/A"},0,1,0,false,1,{"$error":"#N/A"},1,{"$error":"#N/A"},1,1,1,1,1,1,1,{"$error":"#REF!"},{"$error":"#REF!"},{"$error":"#REF!"},{"$error":"#REF!"},{"$error":"#N/A"},{"$error":"#N/A"},0,0,0,0,0,0,1,1,1,1,1,1,0,0,0,0,0,0,false,false,false,false,false,false,false,1,1,1,1,1,1,0,0,0,0,0,0,0,1,1,0,0,0,0,0]
["1994-06-01",false,"2007-03-21",false,false,{"$error":"#N/A"},0,1,0,false,1,{"$error":"#N/A"},1,{"$error":"#N/A"},1,1,1,1,1,1,1,{"$error":"#REF!"},{"$error":"#REF!"},{"$error":"#REF!"},{"$error":"#REF!"},{"$error":"#N/A"},{"$error":"#N/A"},0,0,0,0,0,0,1,1,1,1,1,1,0,0,0,0,0,0,false,false,false,false,false,false,false,1,1,1,1,1,1,0,0,0,0,0,0,0,1,1,0,0,0,0,0]
["1994-07-01",false,"2007-03-28",false,false,{"$error":"#N/A"},0,1,0,false,1,{"$error":"#N/A"},1,{"$error":"#N/A"},1,1,1,1,1,1,1,{"$error":"#REF!"},{"$error":"#REF!"},{"$error":"#REF!"},{"$error":"#REF!"},{"$error":"#N/A"},{"$error":"#N/A"},0,0,0,0,0,0,1,1,1,1,1,1,0,0,0,0,0,0,false,false,false,false,false,false,false,1,1,1,1,1,1,0,0,0,0,0,0,0,1,1,0,0,0,0,0]
["1994-08-01",false,"2007-04-04",false,false,{"$error":"#N/A"},0,1,0,false,1,{"$error":"#N/A"},1,{"$error":"#N/A"},1,1,1,1,1,1,1,{"$error":"#REF!"},{"$error":"#REF!"},{"$error":"#REF!"},{"$error":"#REF!"},{"$error":"#N/A"},{"$error":"#N/A"},0,0,0,0,0,0,1,1,1,1,1,1,0,0,0,0,0,0,false,false,false,false,false,false,false,1,1,1,1,1,1,0,0,0,0,0,0,0,1,1,0,0,0,0,0]
["1994-09-01",false,"2007-04-11",false,false,{"$error":"#N/A"},0,1,0,false,1,{"$error":"#N/A"},1,{"$error":"#N/A"},1,1,1,1,1,1,1,{"$error":"#REF!"},{"$error":"#REF!"},{"$error":"#REF!"},{"$error":"#REF!"},{"$error":"#N/A"},{"$error":"#N/A"},0,0,0,0,0,0,1,1,1,1,1,1,0,0,0,0,0,0,false,false,false,false,false,false,false,1,1,1,1,1,1,0,0,0,0,0,0,0,1,1,0,0,0,0,0]
["1994-10-01",false,"2007-04-18",false,false,{"$error":"#N/A"},0,1,0,false,1,{"$error":"#N/A"},1,{"$error":"#N/A"},1,1,1,1,1,1,1,{"$error":"#REF!"},{"$error":"#REF!"},{"$error":"#REF!"},{"$error":"#REF!"},{"$error":"#N/A"},{"$error":"#N/A"},0,0,0,0,0,0,1,1,1,1,1,1,0,0,0,0,0,0,false,false,false,false,false,false,false,1,1,1,1,1,1,0,0,0,0,0,0,0,1,1,0,0,0,0,0]
["1994-11-01",false,"2007-04-25",false,false,{"$error":"#N/A"},0,1,0,false,1,{"$error":"#N/A"},1,{"$error":"#N/A"},1,1,1,1,1,1,1,{"$error":"#REF!"},{"$error":"#REF!"},{"$error":"#REF!"},{"$error":"#REF!"},{"$error":"#N/A"},{"$error":"#N/A"},0,0,0,0,0,0,1,1,1,1,1,1,0,0,0,0,0,0,false,false,false,false,false,false,false,1,1,1,1,1,1,0,0,0,0,0,0,0,1,1,0,0,0,0,0]
["1994-12-01",false,"2007-05-02",false,false,{"$error":"#N/A"},0,1,0,false,1,{"$error":"#N/A"},1,{"$error":"#N/A"},1,1,1,1,1,1,1,{"$error":"#REF!"},{"$error":"#REF!"},{"$error":"#REF!"},{"$error":"#REF!"},{"$error":"#N/A"},{"$error":"#N/A"},0,0,0,0,0,0,1,1,1,1,1,1,0,0,0,0,0,0,false,false,false,false,false,false,false,1,1,1,1,1,1,0,0,0,0,0,0,0,1,1,0,0,0,0,0]
["1995-01-01",false,"2007-05-09",false,false,{"$error":"#N/A"},0,1,0,false,1,{"$error":"#N/A"},1,{"$error":"#N/A"},1,1,1,1,1,1,1,{"$error":"#REF!"},{"$error":"#REF!"},{"$error":"#REF!"},{"$error":"#REF!"},{"$error":"#N/A"},{"$error":"#N/A"},0,0,0,0,0,0,1,1,1,1,1,1,0,0,0,0,0,0,false,false,false,false,false,false,false,1,1,1,1,1,1,0,0,0,0,0,0,0,1,1,0,0,0,0,0]
["1995-02-01",false,"2007-05-16",false,false,{"$error":"#N/A"},0,1,0,false,1,{"$error":"#N/A"},1,{"$error":"#N/A"},1,1,1,1,1,1,1,{"$error":"#REF!"},{"$error":"#REF!"},{"$error":"#REF!"},{"$error":"#REF!"},{"$error":"#N/A"},{"$error":"#N/A"},0,0,0,0,0,0,1,1,1,1,1,1,0,0,0,0,0,0,false,false,false,false,false,false,false,1,1,1,1,1,1,0,0,0,0,0,0,0,1,1,0,0,0,0,0]
["1995-03-01",false,"2007-05-23",false,false,{"$error":"#N/A"},0,1,0,false,1,{"$error":"#N/A"},1,{"$error":"#N/A"},1,1,1,1,1,1,1,{"$error":"#REF!"},{"$error":"#REF!"},{"$error":"#REF!"},{"$error":"#REF!"},{"$error":"#N/A"},{"$error":"#N/A"},0,0,0,0,0,0,1,1,1,1,1,1,0,0,0,0,0,0,false,false,false,false,false,false,false,1,1,1,1,1,1,0,0,0,0,0,0,0,1,1,0,0,0,0,0]
["1995-04-01",false,"2007-05-30",false,false,{"$error":"#N/A"},0,1,0,false,1,{"$error":"#N/A"},1,{"$error":"#N/A"},1,1,1,1,1,1,1,{"$error":"#REF!"},{"$error":"#REF!"},{"$error":"#REF!"},{"$error":"#REF!"},{"$error":"#N/A"},{"$error":"#N/A"},0,0,0,0,0,0,1,1,1,1,1,1,0,0,0,0,0,0,false,false,false,false,false,false,false,1,1,1,1,1,1,0,0,0,0,0,0,0,1,1,0,0,0,0,0]
["1995-05-01",false,"2007-06-06",false,false,{"$error":"#N/A"},0,1,0,false,1,{"$error":"#N/A"},1,{"$error":"#N/A"},1,1,1,1,1,1,1,{"$error":"#REF!"},{"$error":"#REF!"},{"$error":"#REF!"},{"$error":"#REF!"},{"$error":"#N/A"},{"$error":"#N/A"},0,0,0,0,0,0,1,1,1,1,1,1,0,0,0,0,0,0,false,false,false,false,false,false,false,1,1,1,1,1,1,0,0,0,0,0,0,0,1,1,0,0,0,0,0]
["1995-06-01",false,"2007-06-13",false,false,{"$error":"#N/A"},0,1,0,false,1,{"$error":"#N/A"},1,{"$error":"#N/A"},1,1,1,1,1,1,1,{"$error":"#REF!"},{"$error":"#REF!"},{"$error":"#REF!"},{"$error":"#REF!"},{"$error":"#N/A"},{"$error":"#N/A"},0,0,0,0,0,0,1,1,1,1,1,1,0,0,0,0,0,0,false,false,false,false,false,false,false,1,1,1,1,1,1,0,0,0,0,0,0,0,1,1,0,0,0,0,0]
["1995-07-01",false,"2007-06-20",false,false,{"$error":"#N/A"},0,1,0,false,1,{"$error":"#N/A"},1,{"$error":"#N/A"},1,1,1,1,1,1,1,{"$error":"#REF!"},{"$error":"#REF!"},{"$error":"#REF!"},{"$error":"#REF!"},{"$error":"#N/A"},{"$error":"#N/A"},0,0,0,0,0,0,1,1,1,1,1,1,0,0,0,0,0,0,false,false,false,false,false,false,false,1,1,1,1,1,1,0,0,0,0,0,0,0,1,1,0,0,0,0,0]
["1995-08-01",false,"2007-06-27",false,false,{"$error":"#N/A"},0,1,0,false,1,{"$error":"#N/A"},1,{"$error":"#N/A"},1,1,1,1,1,1,1,{"$error":"#REF!"},{"$error":"#REF!"},{"$error":"#REF!"},{"$error":"#REF!"},{"$error":"#N/A"},{"$error":"#N/A"},0,0,0,0,0,0,{"$f":"IF(AH$7,INDEX($BN557:$BT557,AH$7),1)","v":1},1,1,1,1,1,0,0,0,0,0,0,false,false,false,false,false,false,false,1,1,1,1,1,1,0,0,0,0,0,0,0,1,1,0,0,0,0,0]
["1995-09-01",false,"2007-07-04",false,false,{"$error":"#N/A"},0,1,0,false,1,{"$error":"#N/A"},1,{"$error":"#N/A"},1,1,1,1,1,1,1,{"$error":"#REF!"},{"$error":"#REF!"},{"$error":"#REF!"},{"$error":"#REF!"},{"$error":"#N/A"},{"$error":"#N/A"},0,0,0,0,0,0,1,1,1,1,1,1,0,0,0,0,0,0,false,false,false,false,false,false,false,1,1,1,1,1,1,0,0,0,0,0,0,0,1,1,0,0,0,0,0]
["1995-10-01",false,"2007-07-11",false,false,{"$error":"#N/A"},0,1,0,false,1,{"$error":"#N/A"},1,{"$error":"#N/A"},1,1,1,1,1,1,1,{"$error":"#REF!"},{"$error":"#REF!"},{"$error":"#REF!"},{"$error":"#REF!"},{"$error":"#N/A"},{"$error":"#N/A"},0,0,0,0,0,0,1,1,1,1,1,1,0,0,0,0,0,0,false,false,false,false,false,false,false,1,1,1,1,1,1,0,0,0,0,0,0,0,1,1,0,0,0,0,0]
["1995-11-01",false,"2007-07-18",false,false,{"$error":"#N/A"},0,1,0,false,1,{"$error":"#N/A"},1,{"$error":"#N/A"},1,1,1,1,1,1,1,{"$error":"#REF!"},{"$error":"#REF!"},{"$error":"#REF!"},{"$error":"#REF!"},{"$error":"#N/A"},{"$error":"#N/A"},0,0,0,0,0,0,1,1,1,1,1,1,0,0,0,0,0,0,false,false,false,false,false,false,false,1,1,1,1,1,1,0,0,0,0,0,0,0,1,1,0,0,0,0,0]
["1995-12-01",false,"2007-07-25",false,false,{"$error":"#N/A"},0,1,0,false,1,{"$error":"#N/A"},1,{"$error":"#N/A"},1,1,1,1,1,1,1,{"$error":"#REF!"},{"$error":"#REF!"},{"$error":"#REF!"},{"$error":"#REF!"},{"$error":"#N/A"},{"$error":"#N/A"},0,0,0,0,0,0,1,1,1,1,1,1,0,0,0,0,0,0,false,false,false,false,false,false,false,1,1,1,1,1,1,0,0,0,0,0,0,0,1,1,0,0,0,0,0]
["1996-01-01",false,"2007-08-01",false,false,{"$error":"#N/A"},0,1,0,false,1,{"$error":"#N/A"},1,{"$error":"#N/A"},1,1,1,1,1,1,1,{"$error":"#REF!"},{"$error":"#REF!"},{"$error":"#REF!"},{"$error":"#REF!"},{"$error":"#N/A"},{"$error":"#N/A"},0,0,0,0,0,0,1,1,1,1,1,1,0,0,0,0,0,0,false,false,false,false,false,false,false,1,1,1,1,1,1,0,0,0,0,0,0,0,1,1,0,0,0,0,0]
["1996-02-01",false,"2007-08-08",false,false,{"$error":"#N/A"},0,1,0,false,1,{"$error":"#N/A"},1,{"$error":"#N/A"},1,1,1,1,1,1,1,{"$error":"#REF!"},{"$error":"#REF!"},{"$error":"#REF!"},{"$error":"#REF!"},{"$error":"#N/A"},{"$error":"#N/A"},0,0,0,0,0,0,1,1,1,1,1,1,0,0,0,0,0,0,false,false,false,false,false,false,false,1,1,1,1,1,1,0,0,0,0,0,0,0,1,1,0,0,0,0,0]
["1996-03-01",false,"2007-08-15",false,false,{"$error":"#N/A"},0,1,0,false,1,{"$error":"#N/A"},1,{"$error":"#N/A"},1,1,1,1,1,1,1,{"$error":"#REF!"},{"$error":"#REF!"},{"$error":"#REF!"},{"$error":"#REF!"},{"$error":"#N/A"},{"$error":"#N/A"},0,0,0,0,0,0,1,1,1,1,1,1,0,0,0,0,0,0,false,false,false,false,false,false,false,1,1,1,1,1,1,0,0,0,0,0,0,0,1,1,0,0,0,0,0]
["1996-04-01",false,"2007-08-22",false,false,{"$error":"#N/A"},0,1,0,false,1,{"$error":"#N/A"},1,{"$error":"#N/A"},1,1,1,1,1,1,1,{"$error":"#REF!"},{"$error":"#REF!"},{"$error":"#REF!"},{"$error":"#REF!"},{"$error":"#N/A"},{"$error":"#N/A"},0,0,0,0,0,0,1,1,1,1,1,1,0,0,0,0,0,0,false,false,false,false,false,false,false,1,1,1,1,1,1,0,0,0,0,0,0,0,1,1,0,0,0,0,0]
["1996-05-01",false,"2007-08-29",false,false,{"$error":"#N/A"},0,1,0,false,1,{"$error":"#N/A"},1,{"$error":"#N/A"},1,1,1,1,1,1,1,{"$error":"#REF!"},{"$error":"#REF!"},{"$error":"#REF!"},{"$error":"#REF!"},{"$error":"#N/A"},{"$error":"#N/A"},0,0,0,0,0,0,1,1,1,1,1,1,0,0,0,0,0,0,false,false,false,false,false,false,false,1,1,1,1,1,1,0,0,0,0,0,0,0,1,1,0,0,0,0,0]
["1996-06-01",false,"2007-09-05",false,false,{"$error":"#N/A"},0,1,0,false,1,{"$error":"#N/A"},1,{"$error":"#N/A"},1,1,1,1,1,1,1,{"$error":"#REF!"},{"$error":"#REF!"},{"$error":"#REF!"},{"$error":"#REF!"},{"$error":"#N/A"},{"$error":"#N/A"},0,0,0,0,0,0,1,1,1,{"$f":"IF(AK$7,INDEX($BN567:$BT567,AK$7),1)","v":1},1,1,0,0,0,0,0,0,false,false,false,false,false,false,false,1,1,1,1,1,1,0,0,0,0,0,0,0,1,1,0,0,0,0,0]
["1996-07-01",false,"2007-09-12",false,false,{"$error":"#N/A"},0,1,0,false,1,{"$error":"#N/A"},1,{"$error":"#N/A"},1,1,1,1,1,1,1,{"$error":"#REF!"},{"$error":"#REF!"},{"$error":"#REF!"},{"$error":"#REF!"},{"$error":"#N/A"},{"$error":"#N/A"},0,0,0,0,0,0,1,1,1,1,1,1,0,0,0,0,0,0,false,false,false,false,false,false,false,1,1,1,1,1,1,0,0,0,0,0,0,0,1,1,0,0,0,0,0]
["1996-08-01",false,"2007-09-19",false,false,{"$error":"#N/A"},0,1,0,false,1,{"$error":"#N/A"},1,{"$error":"#N/A"},1,1,1,1,1,1,1,{"$error":"#REF!"},{"$error":"#REF!"},{"$error":"#REF!"},{"$error":"#REF!"},{"$error":"#N/A"},{"$error":"#N/A"},0,0,0,0,0,0,1,1,1,1,1,1,0,0,0,0,0,0,false,false,false,false,false,false,false,1,1,1,1,1,1,0,0,0,0,0,0,0,1,1,0,0,0,0,0]
["1996-09-01",false,"2007-09-26",false,false,{"$error":"#N/A"},0,1,0,false,1,{"$error":"#N/A"},1,{"$error":"#N/A"},1,1,1,1,1,1,1,{"$error":"#REF!"},{"$error":"#REF!"},{"$error":"#REF!"},{"$error":"#REF!"},{"$error":"#N/A"},{"$error":"#N/A"},0,0,0,0,0,0,1,1,1,1,1,1,0,0,0,0,0,0,false,false,false,false,false,false,false,1,1,1,1,1,1,0,0,0,0,0,0,0,1,1,0,0,0,0,0]
["1996-10-01",false,"2007-10-03",false,false,{"$error":"#N/A"},0,1,0,false,1,{"$error":"#N/A"},1,{"$error":"#N/A"},1,1,1,1,1,1,1,{"$error":"#REF!"},{"$error":"#REF!"},{"$error":"#REF!"},{"$error":"#REF!"},{"$error":"#N/A"},{"$error":"#N/A"},0,0,0,0,0,0,1,1,1,1,1,1,0,0,0,0,0,0,false,false,false,false,false,false,false,1,1,1,1,1,1,0,0,0,0,0,0,0,1,1,0,0,0,0,0]
["1996-11-01",false,"2007-10-10",false,false,{"$error":"#N/A"},0,1,0,false,1,{"$error":"#N/A"},1,{"$error":"#N/A"},1,1,1,1,1,1,1,{"$error":"#REF!"},{"$error":"#REF!"},{"$error":"#REF!"},{"$error":"#REF!"},{"$error":"#N/A"},{"$error":"#N/A"},0,0,0,0,0,0,1,1,1,1,1,1,0,0,0,0,0,0,false,false,false,false,false,false,false,1,1,1,1,1,1,0,0,0,0,0,0,0,1,1,0,0,0,0,0]
["1996-12-01",false,"2007-10-17",false,false,{"$error":"#N/A"},0,1,0,false,1,{"$error":"#N/A"},1,{"$error":"#N/A"},1,1,1,1,1,1,1,{"$error":"#REF!"},{"$error":"#REF!"},{"$error":"#REF!"},{"$error":"#REF!"},{"$error":"#N/A"},{"$error":"#N/A"},0,0,0,0,0,0,1,1,1,1,1,1,0,0,0,0,0,0,false,false,false,false,false,false,false,1,1,1,1,1,1,0,0,0,0,0,0,0,1,1,0,0,0,0,0]
["1997-01-01",false,"2007-10-24",false,false,{"$error":"#N/A"},0,1,0,false,1,{"$error":"#N/A"},1,{"$error":"#N/A"},1,1,1,1,1,1,1,{"$error":"#REF!"},{"$error":"#REF!"},{"$error":"#REF!"},{"$error":"#REF!"},{"$error":"#N/A"},{"$error":"#N/A"},0,0,0,0,0,0,1,1,1,1,1,1,0,0,0,0,0,0,false,false,false,false,false,false,false,1,1,1,1,1,1,0,0,0,0,0,0,0,1,1,0,0,0,0,0]
["1997-02-01",false,"2007-10-31",false,false,{"$error":"#N/A"},0,1,0,false,1,{"$error":"#N/A"},1,{"$error":"#N/A"},1,1,1,1,1,1,1,{"$error":"#REF!"},{"$error":"#REF!"},{"$error":"#REF!"},{"$error":"#REF!"},{"$error":"#N/A"},{"$error":"#N/A"},0,0,0,0,0,0,1,1,1,1,1,1,0,0,0,0,0,0,false,false,false,false,false,false,false,1,1,1,1,1,1,0,0,0,0,0,0,0,1,1,0,0,0,0,0]
["1997-03-01",false,"2007-11-07",false,false,{"$error":"#N/A"},0,1,0,false,1,{"$error":"#N/A"},1,{"$error":"#N/A"},1,1,1,1,1,1,1,{"$error":"#REF!"},{"$error":"#REF!"},{"$error":"#REF!"},{"$f":"LOOKUP($A576,INDIRECT(\"'\"&Y$5&\"'!A:A\"),INDIRECT(\"'\"&Y$5&\"'!\"&Y$7&\":\"&Y$7))","v":{"$error":"#REF!"}},{"$error":"#N/A"},{"$error":"#N/A"},0,0,0,0,0,0,1,1,1,1,1,1,0,0,0,0,0,0,false,false,false,false,false,false,false,1,1,1,1,1,1,0,0,0,0,0,0,0,1,1,0,0,0,0,0]
["1997-04-01",false,"2007-11-14",false,false,{"$error":"#N/A"},0,1,0,false,1,{"$error":"#N/A"},1,{"$error":"#N/A"},1,1,1,1,1,1,1,{"$error":"#REF!"},{"$error":"#REF!"},{"$error":"#REF!"},{"$error":"#REF!"},{"$error":"#N/A"},{"$error":"#N/A"},0,0,0,0,0,0,1,1,1,1,1,1,0,0,0,0,0,0,false,false,false,false,false,false,false,1,1,1,1,1,1,0,0,0,0,0,0,0,1,1,0,0,0,0,0]
["1997-05-01",false,"2007-11-21",false,false,{"$error":"#N/A"},0,1,0,false,1,{"$error":"#N/A"},1,{"$error":"#N/A"},1,1,1,1,1,1,1,{"$error":"#REF!"},{"$error":"#REF!"},{"$error":"#REF!"},{"$error":"#REF!"},{"$error":"#N/A"},{"$error":"#N/A"},0,0,0,0,0,0,1,1,1,1,1,1,0,0,0,0,0,0,false,false,false,false,false,false,false,1,1,1,1,1,1,0,0,0,0,0,0,0,1,1,0,0,0,0,0]
["1997-06-01",false,"2007-11-28",false,false,{"$error":"#N/A"},0,1,0,false,1,{"$error":"#N/A"},1,{"$error":"#N/A"},1,1,1,1,1,1,1,{"$error":"#REF!"},{"$error":"#REF!"},{"$error":"#REF!"},{"$error":"#REF!"},{"$error":"#N/A"},{"$error":"#N/A"},0,0,0,0,0,0,1,1,1,1,1,1,0,0,0,0,0,0,false,false,false,false,false,false,false,1,1,1,1,1,1,0,0,0,0,0,0,0,1,1,0,0,0,0,0]
["1997-07-01",false,"2007-12-05",false,false,{"$error":"#N/A"},0,1,0,false,1,{"$error":"#N/A"},1,{"$error":"#N/A"},1,1,1,1,1,1,1,{"$error":"#REF!"},{"$error":"#REF!"},{"$error":"#REF!"},{"$error":"#REF!"},{"$error":"#N/A"},{"$error":"#N/A"},0,0,0,0,0,0,1,1,1,1,1,1,0,0,0,0,0,0,false,false,false,false,false,false,false,1,1,1,1,1,1,0,0,0,0,0,0,0,1,1,0,0,0,0,0]
["1997-08-01",false,"2007-12-12",false,false,{"$error":"#N/A"},0,1,0,false,1,{"$error":"#N/A"},1,{"$error":"#N/A"},1,1,1,1,1,1,1,{"$error":"#REF!"},{"$error":"#REF!"},{"$error":"#REF!"},{"$error":"#REF!"},{"$error":"#N/A"},{"$error":"#N/A"},0,0,0,0,0,0,1,1,1,1,1,1,0,0,0,0,0,0,false,false,false,false,false,false,false,1,1,1,1,1,1,0,0,0,0,0,0,0,1,1,0,0,0,0,0]
["1997-09-01",false,"2007-12-19",false,false,{"$error":"#N/A"},0,1,0,false,1,{"$error":"#N/A"},1,{"$error":"#N/A"},1,1,1,1,1,1,1,{"$error":"#REF!"},{"$error":"#REF!"},{"$error":"#REF!"},{"$error":"#REF!"},{"$error":"#N/A"},{"$error":"#N/A"},0,0,0,0,0,0,1,1,1,1,1,1,0,0,0,0,0,0,false,false,false,false,false,false,false,1,1,1,1,1,1,0,0,0,0,0,0,0,1,1,0,0,0,0,0]
["1997-10-01",false,"2007-12-26",false,false,{"$error":"#N/A"},0,1,0,false,1,{"$error":"#N/A"},1,{"$error":"#N/A"},1,1,1,1,1,1,1,{"$error":"#REF!"},{"$error":"#REF!"},{"$error":"#REF!"},{"$error":"#REF!"},{"$error":"#N/A"},{"$error":"#N/A"},0,0,0,0,0,0,1,1,1,1,1,1,0,0,0,0,0,0,false,false,false,false,false,false,false,1,1,1,1,1,1,0,0,0,0,0,0,0,1,1,0,0,0,0,0]
["1997-11-01",false,"2008-01-02",false,false,{"$error":"#N/A"},0,1,0,false,1,{"$error":"#N/A"},1,{"$error":"#N/A"},1,1,1,1,1,1,1,{"$error":"#REF!"},{"$error":"#REF!"},{"$error":"#REF!"},{"$error":"#REF!"},{"$error":"#N/A"},{"$error":"#N/A"},0,0,0,0,0,0,1,1,1,1,1,1,0,0,0,0,0,0,false,false,false,false,false,false,false,1,1,1,1,1,1,0,0,0,0,0,0,0,1,1,0,0,0,0,0]
["1997-12-01",false,"2008-01-09",false,false,{"$error":"#N/A"},0,1,0,false,1,{"$error":"#N/A"},1,{"$error":"#N/A"},1,1,1,1,1,1,1,{"$error":"#REF!"},{"$error":"#REF!"},{"$error":"#REF!"},{"$error":"#REF!"},{"$error":"#N/A"},{"$error":"#N/A"},0,0,0,0,0,0,1,1,1,1,1,1,0,0,0,0,0,0,false,false,false,false,false,false,false,1,1,1,1,1,1,0,0,0,0,0,0,0,1,1,0,0,0,0,0]
["1998-01-01",false,"2008-01-16",false,false,{"$error":"#N/A"},0,1,0,false,1,{"$error":"#N/A"},1,{"$error":"#N/A"},1,1,1,1,1,1,1,{"$error":"#REF!"},{"$error":"#REF!"},{"$error":"#REF!"},{"$error":"#REF!"},{"$error":"#N/A"},{"$error":"#N/A"},0,0,0,0,0,0,1,1,1,1,1,1,0,0,0,0,0,0,false,false,false,false,false,false,false,1,1,1,1,1,1,0,0,0,0,0,0,0,1,1,0,0,0,0,0]
["1998-02-01",{"$f":"IF(B586<=$D$2,EOMONTH(B586,1))","v":false},"2008-01-23",false,false,{"$f":"LOOKUP(D587,A:A,G:G)","v":{"$error":"#N/A"}},{"$f":"IFERROR(LOOKUP($A587,INDIRECT(\"'\"&G$7&\"'!A:A\"),INDIRECT(\"'\"&G$7&\"'!\"&$G$9&\":\"&$G$9)),0)","v":0},{"$f":"IF(H$8,INDEX($BN587:$BT587,H$8),1)","v":1},{"$f":"IF(ISNUMBER(F587),F587,I588)*H587","v":0},false,1,{"$error":"#N/A"},1,{"$error":"#N/A"},1,1,1,1,1,1,1,{"$f":"LOOKUP($A587,INDIRECT(\"'\"&V$5&\"'!A:A\"),INDIRECT(\"'\"&V$5&\"'!\"&V$7&\":\"&V$7))","v":{"$error":"#REF!"}},{"$error":"#REF!"},{"$error":"#REF!"},{"$error":"#REF!"},{"$error":"#N/A"},{"$error":"#N/A"},{"$f":"IF(ISNUMBER(LOOKUP($D587,$A:$A,V:V)),LOOKUP($D587,$A:$A,V:V),AB586)","v":0},{"$f":"IF(ISNUMBER(LOOKUP($D587,$A:$A,W:W)),LOOKUP($D587,$A:$A,W:W),AC586)","v":0},{"$f":"IF(ISNUMBER(LOOKUP($D587,$A:$A,X:X)),LOOKUP($D587,$A:$A,X:X),AD586)","v":0},{"$f":"IF(ISNUMBER(LOOKUP($D587,$A:$A,Y:Y)),LOOKUP($D587,$A:$A,Y:Y),AE586)","v":0},{"$f":"IF(ISNUMBER(LOOKUP($D587,$A:$A,Z:Z)),LOOKUP($D587,$A:$A,Z:Z),AF586)","v":0},{"$f":"IF(ISNUMBER(LOOKUP($D587,$A:$A,AA:AA)),LOOKUP($D587,$A:$A,AA:AA),AG586)","v":0},1,1,1,1,1,1,{"$f":"IFERROR(IF(ISNUMBER(AB587)>0.1,AB587,AN588)*AH587,AN588)","v":0},{"$f":"IFERROR(IF(ISNUMBER(AC587)>0.1,AC587,AO588)*AI587,AO588)","v":0},{"$f":"IFERROR(IF(ISNUMBER(AD587)>0.1,AD587,AP588)*AJ587,AP588)","v":0},{"$f":"IFERROR(IF(ISNUMBER(AE587)>0.1,AE587,AQ588)*AK587,AQ588)","v":0},{"$f":"IFERROR(IF(ISNUMBER(AF587)>0.1,AF587,AR588)*AL587,AR588)","v":0},{"$f":"IF(ISNUMBER(AG587)>0.1,AG587,AS588)","v":0},false,{"$f":"IF(E587,IFERROR(LN(AN587/AN586),FALSE))","v":false},{"$f":"IF(E587,IFERROR(LN(AO587/AO586),FALSE))","v":false},{"$f":"IF(E587,IFERROR(LN(AP587/AP586),FALSE))","v":false},{"$f":"IF(E587,IFERROR(LN(AQ587/AQ586),FALSE))","v":false},{"$f":"IF(E587,IFERROR(LN(AR587/AR586),FALSE))","v":false},{"$f":"IF(E587,IFERROR(LN(AS587/AS586),FALSE))","v":false},1,1,1,1,1,1,{"$f":"IFERROR(LOOKUP($A587,INDIRECT(\"'\"&BN$6&\"'!A:A\"),INDIRECT(\"'\"&BN$6&\"'!\"&BN$7&\":\"&BN$7)),0)","v":0},{"$f":"IFERROR(LOOKUP($A587,INDIRECT(\"'\"&BO$6&\"'!A:A\"),INDIRECT(\"'\"&BO$6&\"'!\"&BO$7&\":\"&BO$7)),0)","v":0},{"$f":"IFERROR(LOOKUP($A587,INDIRECT(\"'\"&BP$6&\"'!A:A\"),INDIRECT(\"'\"&BP$6&\"'!\"&BP$7&\":\"&BP$7)),0)","v":0},{"$f":"IFERROR(LOOKUP($A587,INDIRECT(\"'\"&BQ$6&\"'!A:A\"),INDIRECT(\"'\"&BQ$6&\"'!\"&BQ$7&\":\"&BQ$7)),0)","v":0},{"$f":"IFERROR(LOOKUP($A587,INDIRECT(\"'\"&BR$6&\"'!A:A\"),INDIRECT(\"'\"&BR$6&\"'!\"&BR$7&\":\"&BR$7)),0)","v":0},{"$f":"IFERROR(LOOKUP($A587,INDIRECT(\"'\"&BS$6&\"'!A:A\"),INDIRECT(\"'\"&BS$6&\"'!\"&BS$7&\":\"&BS$7)),0)","v":0},{"$f":"IFERROR(LOOKUP($A587,INDIRECT(\"'\"&BT$6&\"'!A:A\"),INDIRECT(\"'\"&BT$6&\"'!\"&BT$7&\":\"&BT$7)),0)","v":0},{"$f":"IFERROR(1/IFERROR(LOOKUP($D587,$A:$A,BG:BG)*1,0),1)","v":1},{"$f":"IFERROR(1/IFERROR(LOOKUP($D587,$A:$A,BH:BH)*1,0),1)","v":1},0,0,0,0,0]
["1998-03-01",false,{"$f":"IF(C587<=$D$2,C587+7)","v":"2008-01-30"},false,{"$f":"AND(D588>=$D$4,D587<=$D$2)","v":false},{"$error":"#N/A"},0,1,0,{"$f":"IFERROR(LN(I588/I587),FALSE)","v":false},1,{"$error":"#N/A"},1,{"$error":"#N/A"},1,1,1,1,1,1,1,{"$error":"#REF!"},{"$error":"#REF!"},{"$error":"#REF!"},{"$error":"#REF!"},{"$error":"#N/A"},{"$error":"#N/A"},0,0,0,0,0,0,1,1,1,1,1,1,0,0,0,0,0,0,false,false,false,false,false,false,false,{"$f":"IFERROR(IF($E588,BA587*AN588/AN587,1),1)","v":1},{"$f":"IFERROR(IF($E588,BB587*AO588/AO587,1),1)","v":1},{"$f":"IFERROR(IF($E588,BC587*AP588/AP587,1),1)","v":1},{"$f":"IFERROR(IF($E588,BD587*AQ588/AQ587,1),1)","v":1},{"$f":"IFERROR(IF($E588,BE587*AR588/AR587,1),1)","v":1},{"$f":"IFERROR(IF($E588,BF587*AS588/AS587,1),1)","v":1},0,0,0,0,0,0,0,1,1,{"$f":"IFERROR(LOOKUP($D588,$A:$A,BI:BI)*1,BP587)","v":0},{"$f":"IFERROR(LOOKUP($D588,$A:$A,BJ:BJ)*1,BQ587)","v":0},{"$f":"IFERROR(LOOKUP($D588,$A:$A,BK:BK)*1,BR587)","v":0},{"$f":"IFERROR(LOOKUP($D588,$A:$A,BL:BL)*1,BS587)","v":0},{"$f":"IFERROR(LOOKUP($D588,$A:$A,BM:BM)*1,BT587)","v":0}]
["1998-04-01",false,"2008-02-06",{"$f":"IF($D$6,C589,B589)","v":false},false,{"$error":"#N/A"},0,1,0,false,{"$f":"IF($E589,(K588*I589/I588),1)","v":1},{"$f":"IF(E589,D589,NA())","v":{"$error":"#N/A"}},{"$f":"CHOOSE($M$1,I589,J589,K589)","v":1},{"$f":"L589","v":{"$error":"#N/A"}},{"$f":"M589","v":1},{"$f":"IFERROR(CHOOSE($M$1,AN589,AU589,BA589),1)","v":1},{"$f":"IFERROR(CHOOSE($M$1,AO589,AV589,BB589),1)","v":1},{"$f":"IFERROR(CHOOSE($M$1,AP589,AW589,BC589),1)","v":1},{"$f":"IFERROR(CHOOSE($M$1,AQ589,AX589,BD589),1)","v":1},{"$f":"IFERROR(CHOOSE($M$1,AR589,AY589,BE589),1)","v":1},{"$f":"IFERROR(CHOOSE($M$1,AS589,AZ589,BF589),1)","v":1},{"$error":"#REF!"},{"$error":"#REF!"},{"$error":"#REF!"},{"$error":"#REF!"},{"$error":"#N/A"},{"$error":"#N/A"},0,0,0,0,0,0,1,1,1,1,1,1,0,0,0,0,0,0,{"$f":"J589","v":false},false,false,false,false,false,false,1,1,1,1,1,1,0,0,0,0,0,0,0,1,1,0,0,0,0,0]
["1998-05-01",false,"2008-02-13",false,false,{"$error":"#N/A"},0,1,0,false,1,{"$error":"#N/A"},1,{"$error":"#N/A"},1,1,1,1,1,1,1,{"$error":"#REF!"},{"$error":"#REF!"},{"$error":"#REF!"},{"$error":"#REF!"},{"$error":"#N/A"},{"$error":"#N/A"},0,0,0,0,0,0,1,1,1,1,1,1,0,0,0,0,0,0,false,false,false,false,false,false,false,1,1,1,1,1,1,0,0,0,0,0,0,0,1,1,0,0,0,0,0]
["1998-06-01",false,"2008-02-20",false,false,{"$error":"#N/A"},0,1,0,false,1,{"$error":"#N/A"},1,{"$error":"#N/A"},1,1,1,1,1,1,1,{"$error":"#REF!"},{"$error":"#REF!"},{"$error":"#REF!"},{"$error":"#REF!"},{"$error":"#N/A"},{"$error":"#N/A"},0,0,0,0,0,0,1,1,1,1,1,1,0,0,0,0,0,0,false,false,false,false,false,false,false,1,1,1,1,1,1,0,0,0,0,0,0,0,1,1,0,0,0,0,0]
["1998-07-01",false,"2008-02-27",false,false,{"$error":"#N/A"},0,1,0,false,1,{"$error":"#N/A"},1,{"$error":"#N/A"},1,1,1,1,1,1,1,{"$error":"#REF!"},{"$error":"#REF!"},{"$error":"#REF!"},{"$error":"#REF!"},{"$error":"#N/A"},{"$error":"#N/A"},0,0,0,0,0,0,1,1,1,1,1,1,0,0,0,0,0,0,false,false,false,false,false,false,false,1,1,1,1,1,1,0,0,0,0,0,0,0,1,1,0,0,0,0,0]
["1998-08-01",false,"2008-03-05",false,false,{"$error":"#N/A"},0,1,0,false,1,{"$error":"#N/A"},1,{"$error":"#N/A"},1,1,1,1,1,1,1,{"$error":"#REF!"},{"$error":"#REF!"},{"$error":"#REF!"},{"$error":"#REF!"},{"$error":"#N/A"},{"$error":"#N/A"},0,0,0,0,0,0,1,1,1,1,1,1,0,0,0,0,0,0,false,false,false,false,false,false,false,1,1,1,1,1,1,0,0,0,0,0,0,0,1,1,0,0,0,0,0]
["1998-09-01",false,"2008-03-12",false,false,{"$error":"#N/A"},0,1,0,false,1,{"$error":"#N/A"},1,{"$error":"#N/A"},1,1,1,1,1,1,1,{"$error":"#REF!"},{"$error":"#REF!"},{"$error":"#REF!"},{"$error":"#REF!"},{"$error":"#N/A"},{"$error":"#N/A"},0,0,0,0,0,0,1,1,1,1,1,1,0,0,0,0,0,0,false,false,false,false,false,false,false,1,1,1,1,1,1,0,0,0,0,0,0,0,1,1,0,0,0,0,0]
["1998-10-01",false,"2008-03-19",false,false,{"$error":"#N/A"},0,1,0,false,1,{"$error":"#N/A"},1,{"$error":"#N/A"},1,1,1,1,1,1,1,{"$error":"#REF!"},{"$error":"#REF!"},{"$error":"#REF!"},{"$error":"#REF!"},{"$error":"#N/A"},{"$error":"#N/A"},0,0,0,0,0,0,1,1,1,1,1,1,0,0,0,0,0,0,false,false,false,false,false,false,false,1,1,1,1,1,1,0,0,0,0,0,0,0,1,1,0,0,0,0,0]
["1998-11-01",false,"2008-03-26",false,false,{"$error":"#N/A"},0,1,0,false,1,{"$error":"#N/A"},1,{"$error":"#N/A"},1,1,1,1,1,1,1,{"$error":"#REF!"},{"$error":"#REF!"},{"$error":"#REF!"},{"$error":"#REF!"},{"$error":"#N/A"},{"$error":"#N/A"},0,0,0,0,0,0,1,1,1,1,1,1,0,0,0,0,0,0,false,false,false,false,false,false,false,1,1,1,1,1,1,0,0,0,0,0,0,0,1,1,0,0,0,0,0]
["1998-12-01",false,"2008-04-02",false,false,{"$error":"#N/A"},0,1,0,false,1,{"$error":"#N/A"},1,{"$error":"#N/A"},1,1,1,1,1,1,1,{"$error":"#REF!"},{"$error":"#REF!"},{"$error":"#REF!"},{"$error":"#REF!"},{"$error":"#N/A"},{"$error":"#N/A"},0,0,0,0,0,0,1,1,1,1,1,1,0,0,0,0,0,0,false,false,false,false,false,false,false,1,1,1,1,1,1,0,0,0,0,0,0,0,1,1,0,0,0,0,0]
["1999-01-01",false,"2008-04-09",false,false,{"$error":"#N/A"},0,1,0,false,1,{"$error":"#N/A"},1,{"$error":"#N/A"},1,1,1,1,1,1,1,{"$error":"#REF!"},{"$error":"#REF!"},{"$error":"#REF!"},{"$error":"#REF!"},{"$error":"#N/A"},{"$error":"#N/A"},0,0,0,0,0,0,1,1,1,1,1,1,0,0,0,0,0,0,false,false,false,false,false,false,false,1,1,1,1,1,1,0,0,0,0,0,0,0,1,1,0,0,0,0,0]
["1999-02-01",false,"2008-04-16",false,false,{"$error":"#N/A"},0,1,0,false,1,{"$error":"#N/A"},1,{"$error":"#N/A"},1,1,1,1,1,1,1,{"$error":"#REF!"},{"$error":"#REF!"},{"$error":"#REF!"},{"$error":"#REF!"},{"$error":"#N/A"},{"$error":"#N/A"},0,0,0,0,0,0,1,1,1,1,1,1,0,0,0,0,0,0,false,false,false,false,false,false,false,1,1,1,1,1,1,0,0,0,0,0,0,0,1,1,0,0,0,0,0]
["1999-03-01",false,"2008-04-23",false,false,{"$error":"#N/A"},0,1,0,false,1,{"$error":"#N/A"},1,{"$error":"#N/A"},1,1,1,1,1,1,1,{"$error":"#REF!"},{"$error":"#REF!"},{"$error":"#REF!"},{"$error":"#REF!"},{"$error":"#N/A"},{"$error":"#N/A"},0,0,0,0,0,0,1,1,1,1,1,1,0,0,0,0,0,0,false,false,false,false,false,false,false,1,1,1,1,1,1,0,0,0,0,0,0,0,1,1,0,0,0,0,0]
["1999-04-01",false,"2008-04-30",false,false,{"$error":"#N/A"},0,1,0,false,1,{"$error":"#N/A"},1,{"$error":"#N/A"},1,1,1,1,1,1,1,{"$error":"#REF!"},{"$error":"#REF!"},{"$error":"#REF!"},{"$error":"#REF!"},{"$error":"#N/A"},{"$error":"#N/A"},0,0,0,0,0,0,1,1,1,1,1,1,0,0,0,0,0,0,false,false,false,false,false,false,false,1,1,1,1,1,1,0,0,0,0,0,0,0,1,1,0,0,0,0,0]
["1999-05-01",false,"2008-05-07",false,false,{"$error":"#N/A"},0,1,0,false,1,{"$error":"#N/A"},1,{"$error":"#N/A"},1,1,1,1,1,1,1,{"$error":"#REF!"},{"$error":"#REF!"},{"$error":"#REF!"},{"$error":"#REF!"},{"$error":"#N/A"},{"$error":"#N/A"},0,0,0,0,0,0,1,1,1,1,1,1,0,0,0,0,0,0,false,false,false,false,false,false,false,1,1,1,1,1,1,0,0,0,0,0,0,0,1,1,0,0,0,0,0]
["1999-06-01",false,"2008-05-14",false,false,{"$error":"#N/A"},0,1,0,false,1,{"$error":"#N/A"},1,{"$error":"#N/A"},1,1,1,1,1,1,1,{"$error":"#REF!"},{"$error":"#REF!"},{"$error":"#REF!"},{"$error":"#REF!"},{"$error":"#N/A"},{"$error":"#N/A"},0,0,0,0,0,0,1,1,1,1,1,1,0,0,0,0,0,0,false,false,false,false,false,false,false,1,1,1,1,1,1,0,0,0,0,0,0,0,1,1,0,0,0,0,0]
["1999-07-01",false,"2008-05-21",false,false,{"$error":"#N/A"},0,1,0,false,1,{"$error":"#N/A"},1,{"$error":"#N/A"},1,1,1,1,1,1,1,{"$error":"#REF!"},{"$error":"#REF!"},{"$error":"#REF!"},{"$error":"#REF!"},{"$error":"#N/A"},{"$error":"#N/A"},0,0,0,0,0,0,1,1,1,1,1,1,0,0,0,0,0,0,false,false,false,false,false,false,false,1,1,1,1,1,1,0,0,0,0,0,0,0,1,1,0,0,0,0,0]
["1999-08-01",false,"2008-05-28",false,false,{"$error":"#N/A"},0,1,0,false,1,{"$error":"#N/A"},1,{"$error":"#N/A"},1,1,1,1,1,1,1,{"$error":"#REF!"},{"$error":"#REF!"},{"$error":"#REF!"},{"$error":"#REF!"},{"$error":"#N/A"},{"$error":"#N/A"},0,0,0,0,0,0,1,1,1,1,1,1,0,0,0,0,0,0,false,false,false,false,false,false,false,1,1,1,1,1,1,0,0,0,0,0,0,0,1,1,0,0,0,0,0]
["1999-09-01",false,"2008-06-04",false,false,{"$error":"#N/A"},0,1,0,false,1,{"$error":"#N/A"},1,{"$error":"#N/A"},1,1,1,1,1,1,1,{"$error":"#REF!"},{"$error":"#REF!"},{"$error":"#REF!"},{"$error":"#REF!"},{"$error":"#N/A"},{"$error":"#N/A"},0,0,0,0,0,0,1,1,1,1,1,1,0,0,0,0,0,0,false,false,false,false,false,false,false,1,1,1,1,1,1,0,0,0,0,0,0,0,1,1,0,0,0,0,0]
["1999-10-01",false,"2008-06-11",false,false,{"$error":"#N/A"},0,1,0,false,1,{"$error":"#N/A"},1,{"$error":"#N/A"},1,1,1,1,1,1,1,{"$error":"#REF!"},{"$error":"#REF!"},{"$error":"#REF!"},{"$error":"#REF!"},{"$error":"#N/A"},{"$error":"#N/A"},0,0,0,0,0,0,1,1,1,1,1,1,0,0,0,0,0,0,false,false,false,false,false,false,false,1,1,1,1,1,1,0,0,0,0,0,0,0,1,1,0,0,0,0,0]
["1999-11-01",false,"2008-06-18",false,false,{"$error":"#N/A"},0,1,0,false,1,{"$error":"#N/A"},1,{"$error":"#N/A"},1,1,1,1,1,1,1,{"$error":"#REF!"},{"$error":"#REF!"},{"$error":"#REF!"},{"$error":"#REF!"},{"$error":"#N/A"},{"$error":"#N/A"},0,0,0,0,0,0,1,1,1,1,1,1,0,0,0,0,0,0,false,false,false,false,false,false,false,1,1,1,1,1,1,0,0,0,0,0,0,0,1,1,0,0,0,0,0]
["1999-12-01",false,"2008-06-25",false,false,{"$error":"#N/A"},0,1,0,false,1,{"$error":"#N/A"},1,{"$error":"#N/A"},1,1,1,1,1,1,1,{"$error":"#REF!"},{"$error":"#REF!"},{"$error":"#REF!"},{"$error":"#REF!"},{"$error":"#N/A"},{"$error":"#N/A"},0,0,0,0,0,0,1,1,1,1,1,1,0,0,0,0,0,0,false,false,false,false,false,false,false,1,1,1,1,1,1,0,0,0,0,0,0,0,1,1,0,0,0,0,0]
["2000-01-01",false,"2008-07-02",false,false,{"$error":"#N/A"},0,1,0,false,1,{"$error":"#N/A"},1,{"$error":"#N/A"},1,1,1,1,1,1,1,{"$error":"#REF!"},{"$error":"#REF!"},{"$error":"#REF!"},{"$error":"#REF!"},{"$error":"#N/A"},{"$error":"#N/A"},0,0,0,0,0,0,1,1,1,1,1,1,0,0,0,0,0,0,false,false,false,false,false,false,false,1,1,1,1,1,1,0,0,0,0,0,0,0,1,1,0,0,0,0,0]
["2000-02-01",false,"2008-07-09",false,false,{"$error":"#N/A"},0,1,0,false,1,{"$error":"#N/A"},1,{"$error":"#N/A"},1,1,1,1,1,1,1,{"$error":"#REF!"},{"$error":"#REF!"},{"$error":"#REF!"},{"$error":"#REF!"},{"$error":"#N/A"},{"$error":"#N/A"},0,0,0,0,0,0,1,1,1,1,1,1,0,0,0,0,0,0,false,false,false,false,false,false,false,1,1,1,1,1,1,0,0,0,0,0,0,0,1,1,0,0,0,0,0]
["2000-03-01",false,"2008-07-16",false,false,{"$error":"#N/A"},0,1,0,false,1,{"$error":"#N/A"},1,{"$error":"#N/A"},1,1,1,1,1,1,1,{"$error":"#REF!"},{"$error":"#REF!"},{"$error":"#REF!"},{"$error":"#REF!"},{"$error":"#N/A"},{"$error":"#N/A"},0,0,0,0,0,0,1,1,1,1,1,1,0,0,0,0,0,0,false,false,false,false,false,false,false,1,1,1,1,1,1,0,0,0,0,0,0,0,1,1,0,0,0,0,0]
["2000-04-01",false,"2008-07-23",false,false,{"$error":"#N/A"},0,1,0,false,1,{"$error":"#N/A"},1,{"$error":"#N/A"},1,1,1,1,1,1,1,{"$error":"#REF!"},{"$error":"#REF!"},{"$error":"#REF!"},{"$error":"#REF!"},{"$error":"#N/A"},{"$error":"#N/A"},0,0,0,0,0,0,1,1,1,1,1,1,0,0,0,0,0,0,false,false,false,false,false,false,false,1,1,1,1,1,1,0,0,0,0,0,0,0,1,1,0,0,0,0,0]
["2000-05-01",false,"2008-07-30",false,false,{"$error":"#N/A"},0,1,0,false,1,{"$error":"#N/A"},1,{"$error":"#N/A"},1,1,1,1,1,1,1,{"$error":"#REF!"},{"$error":"#REF!"},{"$error":"#REF!"},{"$error":"#REF!"},{"$error":"#N/A"},{"$error":"#N/A"},0,0,0,0,0,0,1,1,1,1,1,1,0,0,0,0,0,0,false,false,false,false,false,false,false,1,1,1,1,1,1,0,0,0,0,0,0,0,1,1,0,0,0,0,0]
["2000-06-01",false,"2008-08-06",false,false,{"$error":"#N/A"},0,1,0,false,1,{"$error":"#N/A"},1,{"$error":"#N/A"},1,1,1,1,1,1,1,{"$error":"#REF!"},{"$error":"#REF!"},{"$error":"#REF!"},{"$error":"#REF!"},{"$error":"#N/A"},{"$error":"#N/A"},0,0,0,0,0,0,1,1,1,1,1,1,0,0,0,0,0,0,false,false,false,false,false,false,false,1,1,1,1,1,1,0,0,0,0,0,0,0,1,1,0,0,0,0,0]
["2000-07-01",false,"2008-08-13",false,false,{"$error":"#N/A"},0,1,0,false,1,{"$error":"#N/A"},1,{"$error":"#N/A"},1,1,1,1,1,1,1,{"$error":"#REF!"},{"$error":"#REF!"},{"$error":"#REF!"},{"$error":"#REF!"},{"$error":"#N/A"},{"$error":"#N/A"},0,0,0,0,0,0,1,1,1,1,1,1,0,0,0,0,0,0,false,false,false,false,false,false,false,1,1,1,1,1,1,0,0,0,0,0,0,0,1,1,0,0,0,0,0]
["2000-08-01",false,"2008-08-20",false,false,{"$error":"#N/A"},0,1,0,false,1,{"$error":"#N/A"},1,{"$error":"#N/A"},1,1,1,1,1,1,1,{"$error":"#REF!"},{"$error":"#REF!"},{"$error":"#REF!"},{"$error":"#REF!"},{"$error":"#N/A"},{"$error":"#N/A"},0,0,0,0,0,0,1,1,1,1,1,1,0,0,0,0,0,0,false,false,false,false,false,false,false,1,1,1,1,1,1,0,0,0,0,0,0,0,1,1,0,0,0,0,0]
["2000-09-01",false,"2008-08-27",false,false,{"$error":"#N/A"},0,1,0,false,1,{"$error":"#N/A"},1,{"$error":"#N/A"},1,1,1,1,1,1,1,{"$error":"#REF!"},{"$error":"#REF!"},{"$error":"#REF!"},{"$error":"#REF!"},{"$error":"#N/A"},{"$error":"#N/A"},0,0,0,0,0,0,1,1,1,{"$f":"IF(AK$7,INDEX($BN618:$BT618,AK$7),1)","v":1},1,1,0,0,0,0,0,0,false,false,false,false,false,false,false,1,1,1,1,1,1,0,0,0,0,0,0,0,1,1,0,0,0,0,0]
["2000-10-01",false,"2008-09-03",false,false,{"$error":"#N/A"},0,1,0,false,1,{"$error":"#N/A"},1,{"$error":"#N/A"},1,1,1,1,1,1,1,{"$error":"#REF!"},{"$error":"#REF!"},{"$error":"#REF!"},{"$error":"#REF!"},{"$error":"#N/A"},{"$error":"#N/A"},0,0,0,0,0,0,1,1,1,1,1,1,0,0,0,0,0,0,false,false,false,false,false,false,false,1,1,1,1,1,1,0,0,0,0,0,0,0,1,1,0,0,0,0,0]
["2000-11-01",false,"2008-09-10",false,false,{"$error":"#N/A"},0,1,0,false,1,{"$error":"#N/A"},1,{"$error":"#N/A"},1,1,1,1,1,1,1,{"$error":"#REF!"},{"$error":"#REF!"},{"$error":"#REF!"},{"$error":"#REF!"},{"$error":"#N/A"},{"$error":"#N/A"},0,0,0,0,0,0,1,1,1,1,1,1,0,0,0,0,0,0,false,false,false,false,false,false,false,1,1,1,1,1,1,0,0,0,0,0,0,0,1,1,0,0,0,0,0]
["2000-12-01",false,"2008-09-17",false,false,{"$error":"#N/A"},0,1,0,false,1,{"$error":"#N/A"},1,{"$error":"#N/A"},1,1,1,1,1,1,1,{"$error":"#REF!"},{"$error":"#REF!"},{"$error":"#REF!"},{"$error":"#REF!"},{"$error":"#N/A"},{"$error":"#N/A"},0,0,0,0,0,0,{"$f":"IF(AH$7,INDEX($BN621:$BT621,AH$7),1)","v":1},1,1,1,1,1,0,0,0,0,0,0,false,false,false,false,false,false,false,1,1,1,1,1,1,0,0,0,0,0,0,0,1,1,0,0,0,0,0]
["2001-01-01",false,"2008-09-24",false,false,{"$error":"#N/A"},0,1,0,false,1,{"$error":"#N/A"},1,{"$error":"#N/A"},1,1,1,1,1,1,1,{"$error":"#REF!"},{"$error":"#REF!"},{"$error":"#REF!"},{"$error":"#REF!"},{"$error":"#N/A"},{"$error":"#N/A"},0,0,0,0,0,0,1,1,1,1,1,1,0,0,0,0,0,0,false,false,false,false,false,false,false,1,1,1,1,1,1,0,0,0,0,0,0,0,1,1,0,0,0,0,0]
["2001-02-01",false,"2008-10-01",false,false,{"$error":"#N/A"},0,1,0,false,1,{"$error":"#N/A"},1,{"$error":"#N/A"},1,1,1,1,1,1,1,{"$error":"#REF!"},{"$error":"#REF!"},{"$error":"#REF!"},{"$error":"#REF!"},{"$error":"#N/A"},{"$error":"#N/A"},0,0,0,0,0,0,1,1,1,1,1,1,0,0,0,0,0,0,false,false,false,false,false,false,false,1,1,1,1,1,1,0,0,0,0,0,0,0,1,1,0,0,0,0,0]
["2001-03-01",false,"2008-10-08",false,false,{"$error":"#N/A"},0,1,0,false,1,{"$error":"#N/A"},1,{"$error":"#N/A"},1,1,1,1,1,1,1,{"$error":"#REF!"},{"$error":"#REF!"},{"$error":"#REF!"},{"$error":"#REF!"},{"$error":"#N/A"},{"$error":"#N/A"},0,0,0,0,0,0,1,1,1,1,1,1,0,0,0,0,0,0,false,false,false,false,false,false,false,1,1,1,1,1,1,0,0,0,0,0,0,0,1,1,0,0,0,0,0]
["2001-04-01",false,"2008-10-15",false,false,{"$error":"#N/A"},0,1,0,false,1,{"$error":"#N/A"},1,{"$error":"#N/A"},1,1,1,1,1,1,1,{"$error":"#REF!"},{"$error":"#REF!"},{"$error":"#REF!"},{"$error":"#REF!"},{"$error":"#N/A"},{"$error":"#N/A"},0,0,0,0,0,0,1,1,1,1,1,1,0,0,0,0,0,0,false,false,false,false,false,false,false,1,1,1,1,1,1,0,0,0,0,0,0,0,1,1,0,0,0,0,0]
["2001-05-01",false,"2008-10-22",false,false,{"$error":"#N/A"},0,1,0,false,1,{"$error":"#N/A"},1,{"$error":"#N/A"},1,1,1,1,1,1,1,{"$error":"#REF!"},{"$error":"#REF!"},{"$error":"#REF!"},{"$error":"#REF!"},{"$error":"#N/A"},{"$error":"#N/A"},0,0,0,0,0,0,1,1,1,1,1,1,0,0,0,0,0,0,false,false,false,false,false,false,false,1,1,1,1,1,1,0,0,0,0,0,0,0,1,1,0,0,0,0,0]
["2001-06-01",false,"2008-10-29",false,false,{"$error":"#N/A"},0,1,0,false,1,{"$error":"#N/A"},1,{"$error":"#N/A"},1,1,1,1,1,1,1,{"$error":"#REF!"},{"$error":"#REF!"},{"$error":"#REF!"},{"$f":"LOOKUP($A627,INDIRECT(\"'\"&Y$5&\"'!A:A\"),INDIRECT(\"'\"&Y$5&\"'!\"&Y$7&\":\"&Y$7))","v":{"$error":"#REF!"}},{"$error":"#N/A"},{"$error":"#N/A"},0,0,0,0,0,0,1,1,1,1,1,1,0,0,0,0,0,0,false,false,false,false,false,false,false,1,1,1,1,1,1,0,0,0,0,0,0,0,1,1,0,0,0,0,0]
["2001-07-01",false,"2008-11-05",false,false,{"$error":"#N/A"},0,1,0,false,1,{"$error":"#N/A"},1,{"$error":"#N/A"},1,1,1,1,1,1,1,{"$error":"#REF!"},{"$error":"#REF!"},{"$error":"#REF!"},{"$error":"#REF!"},{"$error":"#N/A"},{"$error":"#N/A"},0,0,0,0,0,0,1,1,1,1,1,1,0,0,0,0,0,0,false,false,false,false,false,false,false,1,1,1,1,1,1,0,0,0,0,0,0,0,1,1,0,0,0,0,0]
["2001-08-01",false,"2008-11-12",false,false,{"$error":"#N/A"},0,1,0,false,1,{"$error":"#N/A"},1,{"$error":"#N/A"},1,1,1,1,1,1,1,{"$error":"#REF!"},{"$error":"#REF!"},{"$error":"#REF!"},{"$error":"#REF!"},{"$error":"#N/A"},{"$error":"#N/A"},0,0,0,0,0,0,1,1,1,1,1,1,0,0,0,0,0,0,false,false,false,false,false,false,false,1,1,1,1,1,1,0,0,0,0,0,0,0,1,1,0,0,0,0,0]
["2001-09-01",false,"2008-11-19",false,false,{"$error":"#N/A"},0,1,0,false,1,{"$error":"#N/A"},1,{"$error":"#N/A"},1,1,1,1,1,1,1,{"$error":"#REF!"},{"$error":"#REF!"},{"$error":"#REF!"},{"$error":"#REF!"},{"$error":"#N/A"},{"$error":"#N/A"},0,0,0,0,0,0,1,1,1,1,1,1,0,0,0,0,0,0,false,false,false,false,false,false,false,1,1,1,1,1,1,0,0,0,0,0,0,0,1,1,0,0,0,0,0]
["2001-10-01",false,"2008-11-26",false,false,{"$error":"#N/A"},0,1,0,false,1,{"$error":"#N/A"},1,{"$error":"#N/A"},1,1,1,1,1,1,1,{"$error":"#REF!"},{"$error":"#REF!"},{"$error":"#REF!"},{"$error":"#REF!"},{"$error":"#N/A"},{"$error":"#N/A"},0,0,0,0,0,0,1,1,1,1,1,1,0,0,0,0,0,0,false,false,false,false,false,false,false,1,1,1,1,1,1,0,0,0,0,0,0,0,1,1,0,0,0,0,0]
["2001-11-01",false,"2008-12-03",false,false,{"$error":"#N/A"},0,1,0,false,1,{"$error":"#N/A"},1,{"$error":"#N/A"},1,1,1,1,1,1,1,{"$error":"#REF!"},{"$error":"#REF!"},{"$error":"#REF!"},{"$error":"#REF!"},{"$error":"#N/A"},{"$error":"#N/A"},0,0,0,0,0,0,1,1,1,1,1,1,0,0,0,0,0,0,false,false,false,false,false,false,false,1,1,1,1,1,1,0,0,0,0,0,0,0,1,1,0,0,0,0,0]
["2001-12-01",false,"2008-12-10",false,false,{"$error":"#N/A"},0,1,0,false,1,{"$error":"#N/A"},1,{"$error":"#N/A"},1,1,1,1,1,1,1,{"$error":"#REF!"},{"$error":"#REF!"},{"$error":"#REF!"},{"$error":"#REF!"},{"$error":"#N/A"},{"$error":"#N/A"},0,0,0,0,0,0,1,1,1,1,1,1,0,0,0,0,0,0,false,false,false,false,false,false,false,1,1,1,1,1,1,0,0,0,0,0,0,0,1,1,0,0,0,0,0]
["2002-01-01",false,"2008-12-17",false,false,{"$error":"#N/A"},0,1,0,false,1,{"$error":"#N/A"},1,{"$error":"#N/A"},1,1,1,1,1,1,1,{"$error":"#REF!"},{"$error":"#REF!"},{"$error":"#REF!"},{"$error":"#REF!"},{"$error":"#N/A"},{"$error":"#N/A"},0,0,0,0,0,0,1,1,1,1,1,1,0,0,0,0,0,0,false,false,false,false,false,false,false,1,1,1,1,1,1,0,0,0,0,0,0,0,1,1,0,0,0,0,0]
["2002-02-01",false,"2008-12-24",false,false,{"$error":"#N/A"},0,1,0,false,1,{"$error":"#N/A"},1,{"$error":"#N/A"},1,1,1,1,1,1,1,{"$error":"#REF!"},{"$error":"#REF!"},{"$error":"#REF!"},{"$error":"#REF!"},{"$error":"#N/A"},{"$error":"#N/A"},0,0,0,0,0,0,1,1,1,1,1,1,0,0,0,0,0,0,false,false,false,false,false,false,false,1,1,1,1,1,1,0,0,0,0,0,0,0,1,1,0,0,0,0,0]
["2002-03-01",false,"2008-12-31",false,false,{"$error":"#N/A"},0,1,0,false,1,{"$error":"#N/A"},1,{"$error":"#N/A"},1,1,1,1,1,1,1,{"$error":"#REF!"},{"$error":"#REF!"},{"$error":"#REF!"},{"$error":"#REF!"},{"$error":"#N/A"},{"$error":"#N/A"},0,0,0,0,0,0,1,1,1,1,1,1,0,0,0,0,0,0,false,false,false,false,false,false,false,1,1,1,1,1,1,0,0,0,0,0,0,0,1,1,0,0,0,0,0]
["2002-04-01",false,"2009-01-07",false,false,{"$error":"#N/A"},0,1,0,false,1,{"$error":"#N/A"},1,{"$error":"#N/A"},1,1,1,1,1,1,1,{"$error":"#REF!"},{"$error":"#REF!"},{"$error":"#REF!"},{"$error":"#REF!"},{"$error":"#N/A"},{"$error":"#N/A"},0,0,0,0,0,0,1,1,1,1,1,1,0,0,0,0,0,0,false,false,false,false,false,false,false,1,1,1,1,1,1,0,0,0,0,0,0,0,1,1,0,0,0,0,0]
["2002-05-01",false,"2009-01-14",false,false,{"$error":"#N/A"},0,1,0,false,1,{"$error":"#N/A"},1,{"$error":"#N/A"},1,1,1,1,1,1,1,{"$error":"#REF!"},{"$error":"#REF!"},{"$error":"#REF!"},{"$error":"#REF!"},{"$error":"#N/A"},{"$error":"#N/A"},0,0,0,0,0,0,1,1,1,1,1,1,0,0,0,0,0,0,false,false,false,false,false,false,false,1,1,1,1,1,1,0,0,0,0,0,0,0,1,1,0,0,0,0,0]
["2002-06-01",false,"2009-01-21",false,false,{"$error":"#N/A"},0,1,0,false,1,{"$error":"#N/A"},1,{"$error":"#N/A"},1,1,1,1,1,1,1,{"$error":"#REF!"},{"$error":"#REF!"},{"$error":"#REF!"},{"$error":"#REF!"},{"$error":"#N/A"},{"$error":"#N/A"},0,0,0,0,0,0,1,1,1,1,1,1,0,0,0,0,0,0,false,false,false,false,false,false,false,1,1,1,1,1,1,0,0,0,0,0,0,0,1,1,0,0,0,0,0]
["2002-07-01",false,"2009-01-28",false,false,{"$error":"#N/A"},0,1,0,false,1,{"$error":"#N/A"},1,{"$error":"#N/A"},1,1,1,1,1,1,1,{"$error":"#REF!"},{"$error":"#REF!"},{"$error":"#REF!"},{"$error":"#REF!"},{"$error":"#N/A"},{"$error":"#N/A"},0,0,0,0,0,0,1,1,1,1,1,1,0,0,0,0,0,0,false,false,false,false,false,false,false,1,1,1,1,1,1,0,0,0,0,0,0,0,1,1,0,0,0,0,0]
["2002-08-01",false,"2009-02-04",false,false,{"$error":"#N/A"},0,1,0,false,1,{"$error":"#N/A"},1,{"$error":"#N/A"},1,1,1,1,1,1,1,{"$error":"#REF!"},{"$error":"#REF!"},{"$error":"#REF!"},{"$error":"#REF!"},{"$error":"#N/A"},{"$error":"#N/A"},0,0,0,0,0,0,1,1,1,1,1,1,0,0,0,0,0,0,false,false,false,false,false,false,false,1,1,1,1,1,1,0,0,0,0,0,0,0,1,1,0,0,0,0,0]
["2002-09-01",false,"2009-02-11",false,false,{"$error":"#N/A"},0,1,0,false,1,{"$error":"#N/A"},1,{"$error":"#N/A"},1,1,1,1,1,1,1,{"$error":"#REF!"},{"$error":"#REF!"},{"$error":"#REF!"},{"$error":"#REF!"},{"$error":"#N/A"},{"$error":"#N/A"},0,0,0,0,0,0,1,1,1,1,1,1,0,0,0,0,0,0,false,false,false,false,false,false,false,1,1,1,1,1,1,0,0,0,0,0,0,0,1,1,0,0,0,0,0]
["2002-10-01",false,"2009-02-18",false,false,{"$error":"#N/A"},0,1,0,false,1,{"$error":"#N/A"},1,{"$error":"#N/A"},1,1,1,1,1,1,1,{"$error":"#REF!"},{"$error":"#REF!"},{"$error":"#REF!"},{"$error":"#REF!"},{"$error":"#N/A"},{"$error":"#N/A"},0,0,0,0,0,0,1,1,1,1,1,1,0,0,0,0,0,0,false,false,false,false,false,false,false,1,1,1,1,1,1,0,0,0,0,0,0,0,1,1,0,0,0,0,0]
["2002-11-01",false,"2009-02-25",false,false,{"$error":"#N/A"},0,1,0,false,1,{"$error":"#N/A"},1,{"$error":"#N/A"},1,1,1,1,1,1,1,{"$error":"#REF!"},{"$error":"#REF!"},{"$error":"#REF!"},{"$error":"#REF!"},{"$error":"#N/A"},{"$error":"#N/A"},0,0,0,0,0,0,1,1,1,1,1,1,0,0,0,0,0,0,false,false,false,false,false,false,false,1,1,1,1,1,1,0,0,0,0,0,0,0,1,1,0,0,0,0,0]
["2002-12-01",false,"2009-03-04",false,false,{"$error":"#N/A"},0,1,0,false,1,{"$error":"#N/A"},1,{"$error":"#N/A"},1,1,1,1,1,1,1,{"$error":"#REF!"},{"$error":"#REF!"},{"$error":"#REF!"},{"$error":"#REF!"},{"$error":"#N/A"},{"$error":"#N/A"},0,0,0,0,0,0,1,1,1,1,1,1,0,0,0,0,0,0,false,false,false,false,false,false,false,1,1,1,1,1,1,0,0,0,0,0,0,0,1,1,0,0,0,0,0]
["2003-01-01",false,"2009-03-11",false,false,{"$error":"#N/A"},0,1,0,false,1,{"$error":"#N/A"},1,{"$error":"#N/A"},1,1,1,1,1,1,1,{"$error":"#REF!"},{"$error":"#REF!"},{"$error":"#REF!"},{"$error":"#REF!"},{"$error":"#N/A"},{"$error":"#N/A"},0,0,0,0,0,0,1,1,1,1,1,1,0,0,0,0,0,0,false,false,false,false,false,false,false,1,1,1,1,1,1,0,0,0,0,0,0,0,1,1,0,0,0,0,0]
["2003-02-01",false,"2009-03-18",false,false,{"$error":"#N/A"},0,1,0,false,1,{"$error":"#N/A"},1,{"$error":"#N/A"},1,1,1,1,1,1,1,{"$error":"#REF!"},{"$error":"#REF!"},{"$error":"#REF!"},{"$error":"#REF!"},{"$error":"#N/A"},{"$error":"#N/A"},0,0,0,0,0,0,1,1,1,1,1,1,0,0,0,0,0,0,false,false,false,false,false,false,false,1,1,1,1,1,1,0,0,0,0,0,0,0,1,1,0,0,0,0,0]
["2003-03-01",false,"2009-03-25",false,false,{"$error":"#N/A"},0,1,0,false,1,{"$error":"#N/A"},1,{"$error":"#N/A"},1,1,1,1,1,1,1,{"$error":"#REF!"},{"$error":"#REF!"},{"$error":"#REF!"},{"$error":"#REF!"},{"$error":"#N/A"},{"$error":"#N/A"},0,0,0,0,0,0,1,1,1,1,1,1,0,0,0,0,0,0,false,false,false,false,false,false,false,1,1,1,1,1,1,0,0,0,0,0,0,0,1,1,0,0,0,0,0]
["2003-04-01",false,"2009-04-01",false,false,{"$error":"#N/A"},0,1,0,false,1,{"$error":"#N/A"},1,{"$error":"#N/A"},1,1,1,1,1,1,1,{"$error":"#REF!"},{"$error":"#REF!"},{"$error":"#REF!"},{"$error":"#REF!"},{"$error":"#N/A"},{"$error":"#N/A"},0,0,0,0,0,0,1,1,1,1,1,1,0,0,0,0,0,0,false,false,false,false,false,false,false,1,1,1,1,1,1,0,0,0,0,0,0,0,1,1,0,0,0,0,0]
["2003-05-01",false,"2009-04-08",false,false,{"$error":"#N/A"},0,1,0,false,1,{"$error":"#N/A"},1,{"$error":"#N/A"},1,1,1,1,1,1,1,{"$error":"#REF!"},{"$error":"#REF!"},{"$error":"#REF!"},{"$error":"#REF!"},{"$error":"#N/A"},{"$error":"#N/A"},0,0,0,0,0,0,1,1,1,1,1,1,0,0,0,0,0,0,false,false,false,false,false,false,false,1,1,1,1,1,1,0,0,0,0,0,0,0,1,1,0,0,0,0,0]
["2003-06-01",{"$f":"IF(B650<=$D$2,EOMONTH(B650,1))","v":false},"2009-04-15",false,false,{"$f":"LOOKUP(D651,A:A,G:G)","v":{"$error":"#N/A"}},{"$f":"IFERROR(LOOKUP($A651,INDIRECT(\"'\"&G$7&\"'!A:A\"),INDIRECT(\"'\"&G$7&\"'!\"&$G$9&\":\"&$G$9)),0)","v":0},{"$f":"IF(H$8,INDEX($BN651:$BT651,H$8),1)","v":1},{"$f":"IF(ISNUMBER(F651),F651,I652)*H651","v":0},false,1,{"$error":"#N/A"},1,{"$error":"#N/A"},1,1,1,1,1,1,1,{"$f":"LOOKUP($A651,INDIRECT(\"'\"&V$5&\"'!A:A\"),INDIRECT(\"'\"&V$5&\"'!\"&V$7&\":\"&V$7))","v":{"$error":"#REF!"}},{"$error":"#REF!"},{"$error":"#REF!"},{"$error":"#REF!"},{"$error":"#N/A"},{"$error":"#N/A"},{"$f":"IF(ISNUMBER(LOOKUP($D651,$A:$A,V:V)),LOOKUP($D651,$A:$A,V:V),AB650)","v":0},{"$f":"IF(ISNUMBER(LOOKUP($D651,$A:$A,W:W)),LOOKUP($D651,$A:$A,W:W),AC650)","v":0},{"$f":"IF(ISNUMBER(LOOKUP($D651,$A:$A,X:X)),LOOKUP($D651,$A:$A,X:X),AD650)","v":0},{"$f":"IF(ISNUMBER(LOOKUP($D651,$A:$A,Y:Y)),LOOKUP($D651,$A:$A,Y:Y),AE650)","v":0},{"$f":"IF(ISNUMBER(LOOKUP($D651,$A:$A,Z:Z)),LOOKUP($D651,$A:$A,Z:Z),AF650)","v":0},{"$f":"IF(ISNUMBER(LOOKUP($D651,$A:$A,AA:AA)),LOOKUP($D651,$A:$A,AA:AA),AG650)","v":0},1,1,1,1,1,1,{"$f":"IFERROR(IF(ISNUMBER(AB651)>0.1,AB651,AN652)*AH651,AN652)","v":0},{"$f":"IFERROR(IF(ISNUMBER(AC651)>0.1,AC651,AO652)*AI651,AO652)","v":0},{"$f":"IFERROR(IF(ISNUMBER(AD651)>0.1,AD651,AP652)*AJ651,AP652)","v":0},{"$f":"IFERROR(IF(ISNUMBER(AE651)>0.1,AE651,AQ652)*AK651,AQ652)","v":0},{"$f":"IFERROR(IF(ISNUMBER(AF651)>0.1,AF651,AR652)*AL651,AR652)","v":0},{"$f":"IF(ISNUMBER(AG651)>0.1,AG651,AS652)","v":0},false,{"$f":"IF(E651,IFERROR(LN(AN651/AN650),FALSE))","v":false},{"$f":"IF(E651,IFERROR(LN(AO651/AO650),FALSE))","v":false},{"$f":"IF(E651,IFERROR(LN(AP651/AP650),FALSE))","v":false},{"$f":"IF(E651,IFERROR(LN(AQ651/AQ650),FALSE))","v":false},{"$f":"IF(E651,IFERROR(LN(AR651/AR650),FALSE))","v":false},{"$f":"IF(E651,IFERROR(LN(AS651/AS650),FALSE))","v":false},1,1,1,1,1,1,{"$f":"IFERROR(LOOKUP($A651,INDIRECT(\"'\"&BN$6&\"'!A:A\"),INDIRECT(\"'\"&BN$6&\"'!\"&BN$7&\":\"&BN$7)),0)","v":0},{"$f":"IFERROR(LOOKUP($A651,INDIRECT(\"'\"&BO$6&\"'!A:A\"),INDIRECT(\"'\"&BO$6&\"'!\"&BO$7&\":\"&BO$7)),0)","v":0},{"$f":"IFERROR(LOOKUP($A651,INDIRECT(\"'\"&BP$6&\"'!A:A\"),INDIRECT(\"'\"&BP$6&\"'!\"&BP$7&\":\"&BP$7)),0)","v":0},{"$f":"IFERROR(LOOKUP($A651,INDIRECT(\"'\"&BQ$6&\"'!A:A\"),INDIRECT(\"'\"&BQ$6&\"'!\"&BQ$7&\":\"&BQ$7)),0)","v":0},{"$f":"IFERROR(LOOKUP($A651,INDIRECT(\"'\"&BR$6&\"'!A:A\"),INDIRECT(\"'\"&BR$6&\"'!\"&BR$7&\":\"&BR$7)),0)","v":0},{"$f":"IFERROR(LOOKUP($A651,INDIRECT(\"'\"&BS$6&\"'!A:A\"),INDIRECT(\"'\"&BS$6&\"'!\"&BS$7&\":\"&BS$7)),0)","v":0},{"$f":"IFERROR(LOOKUP($A651,INDIRECT(\"'\"&BT$6&\"'!A:A\"),INDIRECT(\"'\"&BT$6&\"'!\"&BT$7&\":\"&BT$7)),0)","v":0},{"$f":"IFERROR(1/IFERROR(LOOKUP($D651,$A:$A,BG:BG)*1,0),1)","v":1},{"$f":"IFERROR(1/IFERROR(LOOKUP($D651,$A:$A,BH:BH)*1,0),1)","v":1},0,0,0,0,0]
["2003-07-01",false,{"$f":"IF(C651<=$D$2,C651+7)","v":"2009-04-22"},false,{"$f":"AND(D652>=$D$4,D651<=$D$2)","v":false},{"$error":"#N/A"},0,1,0,{"$f":"IFERROR(LN(I652/I651),FALSE)","v":false},1,{"$error":"#N/A"},1,{"$error":"#N/A"},1,1,1,1,1,1,1,{"$error":"#REF!"},{"$error":"#REF!"},{"$error":"#REF!"},{"$error":"#REF!"},{"$error":"#N/A"},{"$error":"#N/A"},0,0,0,0,0,0,1,1,1,1,1,1,0,0,0,0,0,0,false,false,false,false,false,false,false,{"$f":"IFERROR(IF($E652,BA651*AN652/AN651,1),1)","v":1},{"$f":"IFERROR(IF($E652,BB651*AO652/AO651,1),1)","v":1},{"$f":"IFERROR(IF($E652,BC651*AP652/AP651,1),1)","v":1},{"$f":"IFERROR(IF($E652,BD651*AQ652/AQ651,1),1)","v":1},{"$f":"IFERROR(IF($E652,BE651*AR652/AR651,1),1)","v":1},{"$f":"IFERROR(IF($E652,BF651*AS652/AS651,1),1)","v":1},0,0,0,0,0,0,0,1,1,{"$f":"IFERROR(LOOKUP($D652,$A:$A,BI:BI)*1,BP651)","v":0},{"$f":"IFERROR(LOOKUP($D652,$A:$A,BJ:BJ)*1,BQ651)","v":0},{"$f":"IFERROR(LOOKUP($D652,$A:$A,BK:BK)*1,BR651)","v":0},{"$f":"IFERROR(LOOKUP($D652,$A:$A,BL:BL)*1,BS651)","v":0},{"$f":"IFERROR(LOOKUP($D652,$A:$A,BM:BM)*1,BT651)","v":0}]
["2003-08-01",false,"2009-04-29",{"$f":"IF($D$6,C653,B653)","v":false},false,{"$error":"#N/A"},0,1,0,false,{"$f":"IF($E653,(K652*I653/I652),1)","v":1},{"$f":"IF(E653,D653,NA())","v":{"$error":"#N/A"}},{"$f":"CHOOSE($M$1,I653,J653,K653)","v":1},{"$f":"L653","v":{"$error":"#N/A"}},{"$f":"M653","v":1},{"$f":"IFERROR(CHOOSE($M$1,AN653,AU653,BA653),1)","v":1},{"$f":"IFERROR(CHOOSE($M$1,AO653,AV653,BB653),1)","v":1},{"$f":"IFERROR(CHOOSE($M$1,AP653,AW653,BC653),1)","v":1},{"$f":"IFERROR(CHOOSE($M$1,AQ653,AX653,BD653),1)","v":1},{"$f":"IFERROR(CHOOSE($M$1,AR653,AY653,BE653),1)","v":1},{"$f":"IFERROR(CHOOSE($M$1,AS653,AZ653,BF653),1)","v":1},{"$error":"#REF!"},{"$error":"#REF!"},{"$error":"#REF!"},{"$error":"#REF!"},{"$error":"#N/A"},{"$error":"#N/A"},0,0,0,0,0,0,1,1,1,1,1,1,0,0,0,0,0,0,{"$f":"J653","v":false},false,false,false,false,false,false,1,1,1,1,1,1,0,0,0,0,0,0,0,1,1,0,0,0,0,0]
["2003-09-01",false,"2009-05-06",false,false,{"$error":"#N/A"},0,1,0,false,1,{"$error":"#N/A"},1,{"$error":"#N/A"},1,1,1,1,1,1,1,{"$error":"#REF!"},{"$error":"#REF!"},{"$error":"#REF!"},{"$error":"#REF!"},{"$error":"#N/A"},{"$error":"#N/A"},0,0,0,0,0,0,1,1,1,1,1,1,0,0,0,0,0,0,false,false,false,false,false,false,false,1,1,1,1,1,1,0,0,0,0,0,0,0,1,1,0,0,0,0,0]
["2003-10-01",false,"2009-05-13",false,false,{"$error":"#N/A"},0,1,0,false,1,{"$error":"#N/A"},1,{"$error":"#N/A"},1,1,1,1,1,1,1,{"$error":"#REF!"},{"$error":"#REF!"},{"$error":"#REF!"},{"$error":"#REF!"},{"$error":"#N/A"},{"$error":"#N/A"},0,0,0,0,0,0,1,1,1,1,1,1,0,0,0,0,0,0,false,false,false,false,false,false,false,1,1,1,1,1,1,0,0,0,0,0,0,0,1,1,0,0,0,0,0]
["2003-11-01",false,"2009-05-20",false,false,{"$error":"#N/A"},0,1,0,false,1,{"$error":"#N/A"},1,{"$error":"#N/A"},1,1,1,1,1,1,1,{"$error":"#REF!"},{"$error":"#REF!"},{"$error":"#REF!"},{"$error":"#REF!"},{"$error":"#N/A"},{"$error":"#N/A"},0,0,0,0,0,0,1,1,1,1,1,1,0,0,0,0,0,0,false,false,false,false,false,false,false,1,1,1,1,1,1,0,0,0,0,0,0,0,1,1,0,0,0,0,0]
["2003-12-01",false,"2009-05-27",false,false,{"$error":"#N/A"},0,1,0,false,1,{"$error":"#N/A"},1,{"$error":"#N/A"},1,1,1,1,1,1,1,{"$error":"#REF!"},{"$error":"#REF!"},{"$error":"#REF!"},{"$error":"#REF!"},{"$error":"#N/A"},{"$error":"#N/A"},0,0,0,0,0,0,1,1,1,1,1,1,0,0,0,0,0,0,false,false,false,false,false,false,false,1,1,1,1,1,1,0,0,0,0,0,0,0,1,1,0,0,0,0,0]
["2004-01-01",false,"2009-06-03",false,false,{"$error":"#N/A"},0,1,0,false,1,{"$error":"#N/A"},1,{"$error":"#N/A"},1,1,1,1,1,1,1,{"$error":"#REF!"},{"$error":"#REF!"},{"$error":"#REF!"},{"$error":"#REF!"},{"$error":"#N/A"},{"$error":"#N/A"},0,0,0,0,0,0,1,1,1,1,1,1,0,0,0,0,0,0,false,false,false,false,false,false,false,1,1,1,1,1,1,0,0,0,0,0,0,0,1,1,0,0,0,0,0]
["2004-02-01",false,"2009-06-10",false,false,{"$error":"#N/A"},0,1,0,false,1,{"$error":"#N/A"},1,{"$error":"#N/A"},1,1,1,1,1,1,1,{"$error":"#REF!"},{"$error":"#REF!"},{"$error":"#REF!"},{"$error":"#REF!"},{"$error":"#N/A"},{"$error":"#N/A"},0,0,0,0,0,0,1,1,1,1,1,1,0,0,0,0,0,0,false,false,false,false,false,false,false,1,1,1,1,1,1,0,0,0,0,0,0,0,1,1,0,0,0,0,0]
["2004-03-01",false,"2009-06-17",false,false,{"$error":"#N/A"},0,1,0,false,1,{"$error":"#N/A"},1,{"$error":"#N/A"},1,1,1,1,1,1,1,{"$error":"#REF!"},{"$error":"#REF!"},{"$error":"#REF!"},{"$error":"#REF!"},{"$error":"#N/A"},{"$error":"#N/A"},0,0,0,0,0,0,1,1,1,1,1,1,0,0,0,0,0,0,false,false,false,false,false,false,false,1,1,1,1,1,1,0,0,0,0,0,0,0,1,1,0,0,0,0,0]
["2004-04-01",false,"2009-06-24",false,false,{"$error":"#N/A"},0,1,0,false,1,{"$error":"#N/A"},1,{"$error":"#N/A"},1,1,1,1,1,1,1,{"$error":"#REF!"},{"$error":"#REF!"},{"$error":"#REF!"},{"$error":"#REF!"},{"$error":"#N/A"},{"$error":"#N/A"},0,0,0,0,0,0,1,1,1,1,1,1,0,0,0,0,0,0,false,false,false,false,false,false,false,1,1,1,1,1,1,0,0,0,0,0,0,0,1,1,0,0,0,0,0]
["2004-05-01",false,"2009-07-01",false,false,{"$error":"#N/A"},0,1,0,false,1,{"$error":"#N/A"},1,{"$error":"#N/A"},1,1,1,1,1,1,1,{"$error":"#REF!"},{"$error":"#REF!"},{"$error":"#REF!"},{"$error":"#REF!"},{"$error":"#N/A"},{"$error":"#N/A"},0,0,0,0,0,0,1,1,1,1,1,1,0,0,0,0,0,0,false,false,false,false,false,false,false,1,1,1,1,1,1,0,0,0,0,0,0,0,1,1,0,0,0,0,0]
["2004-06-01",false,"2009-07-08",false,false,{"$error":"#N/A"},0,1,0,false,1,{"$error":"#N/A"},1,{"$error":"#N/A"},1,1,1,1,1,1,1,{"$error":"#REF!"},{"$error":"#REF!"},{"$error":"#REF!"},{"$error":"#REF!"},{"$error":"#N/A"},{"$error":"#N/A"},0,0,0,0,0,0,1,1,1,1,1,1,0,0,0,0,0,0,false,false,false,false,false,false,false,1,1,1,1,1,1,0,0,0,0,0,0,0,1,1,0,0,0,0,0]
["2004-07-01",false,"2009-07-15",false,false,{"$error":"#N/A"},0,1,0,false,1,{"$error":"#N/A"},1,{"$error":"#N/A"},1,1,1,1,1,1,1,{"$error":"#REF!"},{"$error":"#REF!"},{"$error":"#REF!"},{"$error":"#REF!"},{"$error":"#N/A"},{"$error":"#N/A"},0,0,0,0,0,0,1,1,1,1,1,1,0,0,0,0,0,0,false,false,false,false,false,false,false,1,1,1,1,1,1,0,0,0,0,0,0,0,1,1,0,0,0,0,0]
["2004-08-01",false,"2009-07-22",false,false,{"$error":"#N/A"},0,1,0,false,1,{"$error":"#N/A"},1,{"$error":"#N/A"},1,1,1,1,1,1,1,{"$error":"#REF!"},{"$error":"#REF!"},{"$error":"#REF!"},{"$error":"#REF!"},{"$error":"#N/A"},{"$error":"#N/A"},0,0,0,0,0,0,1,1,1,1,1,1,0,0,0,0,0,0,false,false,false,false,false,false,false,1,1,1,1,1,1,0,0,0,0,0,0,0,1,1,0,0,0,0,0]
["2004-09-01",false,"2009-07-29",false,false,{"$error":"#N/A"},0,1,0,false,1,{"$error":"#N/A"},1,{"$error":"#N/A"},1,1,1,1,1,1,1,{"$error":"#REF!"},{"$error":"#REF!"},{"$error":"#REF!"},{"$error":"#REF!"},{"$error":"#N/A"},{"$error":"#N/A"},0,0,0,0,0,0,1,1,1,1,1,1,0,0,0,0,0,0,false,false,false,false,false,false,false,1,1,1,1,1,1,0,0,0,0,0,0,0,1,1,0,0,0,0,0]
["2004-10-01",false,"2009-08-05",false,false,{"$error":"#N/A"},0,1,0,false,1,{"$error":"#N/A"},1,{"$error":"#N/A"},1,1,1,1,1,1,1,{"$error":"#REF!"},{"$error":"#REF!"},{"$error":"#REF!"},{"$error":"#REF!"},{"$error":"#N/A"},{"$error":"#N/A"},0,0,0,0,0,0,1,1,1,1,1,1,0,0,0,0,0,0,false,false,false,false,false,false,false,1,1,1,1,1,1,0,0,0,0,0,0,0,1,1,0,0,0,0,0]
["2004-11-01",false,"2009-08-12",false,false,{"$error":"#N/A"},0,1,0,false,1,{"$error":"#N/A"},1,{"$error":"#N/A"},1,1,1,1,1,1,1,{"$error":"#REF!"},{"$error":"#REF!"},{"$error":"#REF!"},{"$error":"#REF!"},{"$error":"#N/A"},{"$error":"#N/A"},0,0,0,0,0,0,1,1,1,1,1,1,0,0,0,0,0,0,false,false,false,false,false,false,false,1,1,1,1,1,1,0,0,0,0,0,0,0,1,1,0,0,0,0,0]
["2004-12-01",false,"2009-08-19",false,false,{"$error":"#N/A"},0,1,0,false,1,{"$error":"#N/A"},1,{"$error":"#N/A"},1,1,1,1,1,1,1,{"$error":"#REF!"},{"$error":"#REF!"},{"$error":"#REF!"},{"$error":"#REF!"},{"$error":"#N/A"},{"$error":"#N/A"},0,0,0,0,0,0,1,1,1,{"$f":"IF(AK$7,INDEX($BN669:$BT669,AK$7),1)","v":1},1,1,0,0,0,0,0,0,false,false,false,false,false,false,false,1,1,1,1,1,1,0,0,0,0,0,0,0,1,1,0,0,0,0,0]
["2005-01-01",false,"2009-08-26",false,false,{"$error":"#N/A"},0,1,0,false,1,{"$error":"#N/A"},1,{"$error":"#N/A"},1,1,1,1,1,1,1,{"$error":"#REF!"},{"$error":"#REF!"},{"$error":"#REF!"},{"$error":"#REF!"},{"$error":"#N/A"},{"$error":"#N/A"},0,0,0,0,0,0,1,1,1,1,1,1,0,0,0,0,0,0,false,false,false,false,false,false,false,1,1,1,1,1,1,0,0,0,0,0,0,0,1,1,0,0,0,0,0]
["2005-02-01",false,"2009-09-02",false,false,{"$error":"#N/A"},0,1,0,false,1,{"$error":"#N/A"},1,{"$error":"#N/A"},1,1,1,1,1,1,1,{"$error":"#REF!"},{"$error":"#REF!"},{"$error":"#REF!"},{"$error":"#REF!"},{"$error":"#N/A"},{"$error":"#N/A"},0,0,0,0,0,0,1,1,1,1,1,1,0,0,0,0,0,0,false,false,false,false,false,false,false,1,1,1,1,1,1,0,0,0,0,0,0,0,1,1,0,0,0,0,0]
["2005-03-01",false,"2009-09-09",false,false,{"$error":"#N/A"},0,1,0,false,1,{"$error":"#N/A"},1,{"$error":"#N/A"},1,1,1,1,1,1,1,{"$error":"#REF!"},{"$error":"#REF!"},{"$error":"#REF!"},{"$error":"#REF!"},{"$error":"#N/A"},{"$error":"#N/A"},0,0,0,0,0,0,1,1,1,1,1,1,0,0,0,0,0,0,false,false,false,false,false,false,false,1,1,1,1,1,1,0,0,0,0,0,0,0,1,1,0,0,0,0,0]
["2005-04-01",false,"2009-09-16",false,false,{"$error":"#N/A"},0,1,0,false,1,{"$error":"#N/A"},1,{"$error":"#N/A"},1,1,1,1,1,1,1,{"$error":"#REF!"},{"$error":"#REF!"},{"$error":"#REF!"},{"$error":"#REF!"},{"$error":"#N/A"},{"$error":"#N/A"},0,0,0,0,0,0,1,1,1,1,1,1,0,0,0,0,0,0,false,false,false,false,false,false,false,1,1,1,1,1,1,0,0,0,0,0,0,0,1,1,0,0,0,0,0]
["2005-05-01",false,"2009-09-23",false,false,{"$error":"#N/A"},0,1,0,false,1,{"$error":"#N/A"},1,{"$error":"#N/A"},1,1,1,1,1,1,1,{"$error":"#REF!"},{"$error":"#REF!"},{"$error":"#REF!"},{"$error":"#REF!"},{"$error":"#N/A"},{"$error":"#N/A"},0,0,0,0,0,0,1,1,1,1,1,1,0,0,0,0,0,0,false,false,false,false,false,false,false,1,1,1,1,1,1,0,0,0,0,0,0,0,1,1,0,0,0,0,0]
["2005-06-01",false,"2009-09-30",false,false,{"$error":"#N/A"},0,1,0,false,1,{"$error":"#N/A"},1,{"$error":"#N/A"},1,1,1,1,1,1,1,{"$error":"#REF!"},{"$error":"#REF!"},{"$error":"#REF!"},{"$error":"#REF!"},{"$error":"#N/A"},{"$error":"#N/A"},0,0,0,0,0,0,1,1,1,1,1,1,0,0,0,0,0,0,false,false,false,false,false,false,false,1,1,1,1,1,1,0,0,0,0,0,0,0,1,1,0,0,0,0,0]
["2005-07-01",false,"2009-10-07",false,false,{"$error":"#N/A"},0,1,0,false,1,{"$error":"#N/A"},1,{"$error":"#N/A"},1,1,1,1,1,1,1,{"$error":"#REF!"},{"$error":"#REF!"},{"$error":"#REF!"},{"$error":"#REF!"},{"$error":"#N/A"},{"$error":"#N/A"},0,0,0,0,0,0,1,1,1,1,1,1,0,0,0,0,0,0,false,false,false,false,false,false,false,1,1,1,1,1,1,0,0,0,0,0,0,0,1,1,0,0,0,0,0]
["2005-08-01",false,"2009-10-14",false,false,{"$error":"#N/A"},0,1,0,false,1,{"$error":"#N/A"},1,{"$error":"#N/A"},1,1,1,1,1,1,1,{"$error":"#REF!"},{"$error":"#REF!"},{"$error":"#REF!"},{"$error":"#REF!"},{"$error":"#N/A"},{"$error":"#N/A"},0,0,0,0,0,0,1,1,1,1,1,1,0,0,0,0,0,0,false,false,false,false,false,false,false,1,1,1,1,1,1,0,0,0,0,0,0,0,1,1,0,0,0,0,0]
["2005-09-01",false,"2009-10-21",false,false,{"$error":"#N/A"},0,1,0,false,1,{"$error":"#N/A"},1,{"$error":"#N/A"},1,1,1,1,1,1,1,{"$error":"#REF!"},{"$error":"#REF!"},{"$error":"#REF!"},{"$f":"LOOKUP($A678,INDIRECT(\"'\"&Y$5&\"'!A:A\"),INDIRECT(\"'\"&Y$5&\"'!\"&Y$7&\":\"&Y$7))","v":{"$error":"#REF!"}},{"$error":"#N/A"},{"$error":"#N/A"},0,0,0,0,0,0,1,1,1,1,1,1,0,0,0,0,0,0,false,false,false,false,false,false,false,1,1,1,1,1,1,0,0,0,0,0,0,0,1,1,0,0,0,0,0]
["2005-10-01",false,"2009-10-28",false,false,{"$error":"#N/A"},0,1,0,false,1,{"$error":"#N/A"},1,{"$error":"#N/A"},1,1,1,1,1,1,1,{"$error":"#REF!"},{"$error":"#REF!"},{"$error":"#REF!"},{"$error":"#REF!"},{"$error":"#N/A"},{"$error":"#N/A"},0,0,0,0,0,0,1,1,1,1,1,1,0,0,0,0,0,0,false,false,false,false,false,false,false,1,1,1,1,1,1,0,0,0,0,0,0,0,1,1,0,0,0,0,0]
["2005-11-01",false,"2009-11-04",false,false,{"$error":"#N/A"},0,1,0,false,1,{"$error":"#N/A"},1,{"$error":"#N/A"},1,1,1,1,1,1,1,{"$error":"#REF!"},{"$error":"#REF!"},{"$error":"#REF!"},{"$error":"#REF!"},{"$error":"#N/A"},{"$error":"#N/A"},0,0,0,0,0,0,1,1,1,1,1,1,0,0,0,0,0,0,false,false,false,false,false,false,false,1,1,1,1,1,1,0,0,0,0,0,0,0,1,1,0,0,0,0,0]
["2005-12-01",false,"2009-11-11",false,false,{"$error":"#N/A"},0,1,0,false,1,{"$error":"#N/A"},1,{"$error":"#N/A"},1,1,1,1,1,1,1,{"$error":"#REF!"},{"$error":"#REF!"},{"$error":"#REF!"},{"$error":"#REF!"},{"$error":"#N/A"},{"$error":"#N/A"},0,0,0,0,0,0,1,1,1,1,1,1,0,0,0,0,0,0,false,false,false,false,false,false,false,1,1,1,1,1,1,0,0,0,0,0,0,0,1,1,0,0,0,0,0]
["2006-01-01",false,"2009-11-18",false,false,{"$error":"#N/A"},0,1,0,false,1,{"$error":"#N/A"},1,{"$error":"#N/A"},1,1,1,1,1,1,1,{"$error":"#REF!"},{"$error":"#REF!"},{"$error":"#REF!"},{"$error":"#REF!"},{"$error":"#N/A"},{"$error":"#N/A"},0,0,0,0,0,0,1,1,1,1,1,1,0,0,0,0,0,0,false,false,false,false,false,false,false,1,1,1,1,1,1,0,0,0,0,0,0,0,1,1,0,0,0,0,0]
["2006-02-01",false,"2009-11-25",false,false,{"$error":"#N/A"},0,1,0,false,1,{"$error":"#N/A"},1,{"$error":"#N/A"},1,1,1,1,1,1,1,{"$error":"#REF!"},{"$error":"#REF!"},{"$error":"#REF!"},{"$error":"#REF!"},{"$error":"#N/A"},{"$error":"#N/A"},0,0,0,0,0,0,1,1,1,1,1,1,0,0,0,0,0,0,false,false,false,false,false,false,false,1,1,1,1,1,1,0,0,0,0,0,0,0,1,1,0,0,0,0,0]
["2006-03-01",false,"2009-12-02",false,false,{"$error":"#N/A"},0,1,0,false,1,{"$error":"#N/A"},1,{"$error":"#N/A"},1,1,1,1,1,1,1,{"$error":"#REF!"},{"$error":"#REF!"},{"$error":"#REF!"},{"$error":"#REF!"},{"$error":"#N/A"},{"$error":"#N/A"},0,0,0,0,0,0,1,1,1,1,1,1,0,0,0,0,0,0,false,false,false,false,false,false,false,1,1,1,1,1,1,0,0,0,0,0,0,0,1,1,0,0,0,0,0]
["2006-04-01",false,"2009-12-09",false,false,{"$error":"#N/A"},0,1,0,false,1,{"$error":"#N/A"},1,{"$error":"#N/A"},1,1,1,1,1,1,1,{"$error":"#REF!"},{"$error":"#REF!"},{"$error":"#REF!"},{"$error":"#REF!"},{"$error":"#N/A"},{"$error":"#N/A"},0,0,0,0,0,0,{"$f":"IF(AH$7,INDEX($BN685:$BT685,AH$7),1)","v":1},1,1,1,1,1,0,0,0,0,0,0,false,false,false,false,false,false,false,1,1,1,1,1,1,0,0,0,0,0,0,0,1,1,0,0,0,0,0]
["2006-05-01",false,"2009-12-16",false,false,{"$error":"#N/A"},0,1,0,false,1,{"$error":"#N/A"},1,{"$error":"#N/A"},1,1,1,1,1,1,1,{"$error":"#REF!"},{"$error":"#REF!"},{"$error":"#REF!"},{"$error":"#REF!"},{"$error":"#N/A"},{"$error":"#N/A"},0,0,0,0,0,0,1,1,1,1,1,1,0,0,0,0,0,0,false,false,false,false,false,false,false,1,1,1,1,1,1,0,0,0,0,0,0,0,1,1,0,0,0,0,0]
["2006-06-01",false,"2009-12-23",false,false,{"$error":"#N/A"},0,1,0,false,1,{"$error":"#N/A"},1,{"$error":"#N/A"},1,1,1,1,1,1,1,{"$error":"#REF!"},{"$error":"#REF!"},{"$error":"#REF!"},{"$error":"#REF!"},{"$error":"#N/A"},{"$error":"#N/A"},0,0,0,0,0,0,1,1,1,1,1,1,0,0,0,0,0,0,false,false,false,false,false,false,false,1,1,1,1,1,1,0,0,0,0,0,0,0,1,1,0,0,0,0,0]
["2006-07-01",false,"2009-12-30",false,false,{"$error":"#N/A"},0,1,0,false,1,{"$error":"#N/A"},1,{"$error":"#N/A"},1,1,1,1,1,1,1,{"$error":"#REF!"},{"$error":"#REF!"},{"$error":"#REF!"},{"$error":"#REF!"},{"$error":"#N/A"},{"$error":"#N/A"},0,0,0,0,0,0,1,1,1,1,1,1,0,0,0,0,0,0,false,false,false,false,false,false,false,1,1,1,1,1,1,0,0,0,0,0,0,0,1,1,0,0,0,0,0]
["2006-08-01",false,"2010-01-06",false,false,{"$error":"#N/A"},0,1,0,false,1,{"$error":"#N/A"},1,{"$error":"#N/A"},1,1,1,1,1,1,1,{"$error":"#REF!"},{"$error":"#REF!"},{"$error":"#REF!"},{"$error":"#REF!"},{"$error":"#N/A"},{"$error":"#N/A"},0,0,0,0,0,0,1,1,1,1,1,1,0,0,0,0,0,0,false,false,false,false,false,false,false,1,1,1,1,1,1,0,0,0,0,0,0,0,1,1,0,0,0,0,0]
["2006-09-01",false,"2010-01-13",false,false,{"$error":"#N/A"},0,1,0,false,1,{"$error":"#N/A"},1,{"$error":"#N/A"},1,1,1,1,1,1,1,{"$error":"#REF!"},{"$error":"#REF!"},{"$error":"#REF!"},{"$error":"#REF!"},{"$error":"#N/A"},{"$error":"#N/A"},0,0,0,0,0,0,1,1,1,1,1,1,0,0,0,0,0,0,false,false,false,false,false,false,false,1,1,1,1,1,1,0,0,0,0,0,0,0,1,1,0,0,0,0,0]
["2006-10-01",false,"2010-01-20",false,false,{"$error":"#N/A"},0,1,0,false,1,{"$error":"#N/A"},1,{"$error":"#N/A"},1,1,1,1,1,1,1,{"$error":"#REF!"},{"$error":"#REF!"},{"$error":"#REF!"},{"$error":"#REF!"},{"$error":"#N/A"},{"$error":"#N/A"},0,0,0,0,0,0,1,1,1,1,1,1,0,0,0,0,0,0,false,false,false,false,false,false,false,1,1,1,1,1,1,0,0,0,0,0,0,0,1,1,0,0,0,0,0]
["2006-11-01",false,"2010-01-27",false,false,{"$error":"#N/A"},0,1,0,false,1,{"$error":"#N/A"},1,{"$error":"#N/A"},1,1,1,1,1,1,1,{"$error":"#REF!"},{"$error":"#REF!"},{"$error":"#REF!"},{"$error":"#REF!"},{"$error":"#N/A"},{"$error":"#N/A"},0,0,0,0,0,0,1,1,1,1,1,1,0,0,0,0,0,0,false,false,false,false,false,false,false,1,1,1,1,1,1,0,0,0,0,0,0,0,1,1,0,0,0,0,0]
["2006-12-01",false,"2010-02-03",false,false,{"$error":"#N/A"},0,1,0,false,1,{"$error":"#N/A"},1,{"$error":"#N/A"},1,1,1,1,1,1,1,{"$error":"#REF!"},{"$error":"#REF!"},{"$error":"#REF!"},{"$error":"#REF!"},{"$error":"#N/A"},{"$error":"#N/A"},0,0,0,0,0,0,1,1,1,1,1,1,0,0,0,0,0,0,false,false,false,false,false,false,false,1,1,1,1,1,1,0,0,0,0,0,0,0,1,1,0,0,0,0,0]
["2007-01-01",false,"2010-02-10",false,false,{"$error":"#N/A"},0,1,0,false,1,{"$error":"#N/A"},1,{"$error":"#N/A"},1,1,1,1,1,1,1,{"$error":"#REF!"},{"$error":"#REF!"},{"$error":"#REF!"},{"$error":"#REF!"},{"$error":"#N/A"},{"$error":"#N/A"},0,0,0,0,0,0,1,1,1,1,1,1,0,0,0,0,0,0,false,false,false,false,false,false,false,1,1,1,1,1,1,0,0,0,0,0,0,0,1,1,0,0,0,0,0]
["2007-02-01",false,"2010-02-17",false,false,{"$error":"#N/A"},0,1,0,false,1,{"$error":"#N/A"},1,{"$error":"#N/A"},1,1,1,1,1,1,1,{"$error":"#REF!"},{"$error":"#REF!"},{"$error":"#REF!"},{"$error":"#REF!"},{"$error":"#N/A"},{"$error":"#N/A"},0,0,0,0,0,0,1,1,1,1,1,1,0,0,0,0,0,0,false,false,false,false,false,false,false,1,1,1,1,1,1,0,0,0,0,0,0,0,1,1,0,0,0,0,0]
["2007-03-01",false,"2010-02-24",false,false,{"$error":"#N/A"},0,1,0,false,1,{"$error":"#N/A"},1,{"$error":"#N/A"},1,1,1,1,1,1,1,{"$error":"#REF!"},{"$error":"#REF!"},{"$error":"#REF!"},{"$error":"#REF!"},{"$error":"#N/A"},{"$error":"#N/A"},0,0,0,0,0,0,1,1,1,1,1,1,0,0,0,0,0,0,false,false,false,false,false,false,false,1,1,1,1,1,1,0,0,0,0,0,0,0,1,1,0,0,0,0,0]
["2007-04-01",false,"2010-03-03",false,false,{"$error":"#N/A"},0,1,0,false,1,{"$error":"#N/A"},1,{"$error":"#N/A"},1,1,1,1,1,1,1,{"$error":"#REF!"},{"$error":"#REF!"},{"$error":"#REF!"},{"$error":"#REF!"},{"$error":"#N/A"},{"$error":"#N/A"},0,0,0,0,0,0,1,1,1,1,1,1,0,0,0,0,0,0,false,false,false,false,false,false,false,1,1,1,1,1,1,0,0,0,0,0,0,0,1,1,0,0,0,0,0]
["2007-05-01",false,"2010-03-10",false,false,{"$error":"#N/A"},0,1,0,false,1,{"$error":"#N/A"},1,{"$error":"#N/A"},1,1,1,1,1,1,1,{"$error":"#REF!"},{"$error":"#REF!"},{"$error":"#REF!"},{"$error":"#REF!"},{"$error":"#N/A"},{"$error":"#N/A"},0,0,0,0,0,0,1,1,1,1,1,1,0,0,0,0,0,0,false,false,false,false,false,false,false,1,1,1,1,1,1,0,0,0,0,0,0,0,1,1,0,0,0,0,0]
["2007-06-01",false,"2010-03-17",false,false,{"$error":"#N/A"},0,1,0,false,1,{"$error":"#N/A"},1,{"$error":"#N/A"},1,1,1,1,1,1,1,{"$error":"#REF!"},{"$error":"#REF!"},{"$error":"#REF!"},{"$error":"#REF!"},{"$error":"#N/A"},{"$error":"#N/A"},0,0,0,0,0,0,1,1,1,1,1,1,0,0,0,0,0,0,false,false,false,false,false,false,false,1,1,1,1,1,1,0,0,0,0,0,0,0,1,1,0,0,0,0,0]
["2007-07-01",false,"2010-03-24",false,false,{"$error":"#N/A"},0,1,0,false,1,{"$error":"#N/A"},1,{"$error":"#N/A"},1,1,1,1,1,1,1,{"$error":"#REF!"},{"$error":"#REF!"},{"$error":"#REF!"},{"$error":"#REF!"},{"$error":"#N/A"},{"$error":"#N/A"},0,0,0,0,0,0,1,1,1,1,1,1,0,0,0,0,0,0,false,false,false,false,false,false,false,1,1,1,1,1,1,0,0,0,0,0,0,0,1,1,0,0,0,0,0]
["2007-08-01",false,"2010-03-31",false,false,{"$error":"#N/A"},0,1,0,false,1,{"$error":"#N/A"},1,{"$error":"#N/A"},1,1,1,1,1,1,1,{"$error":"#REF!"},{"$error":"#REF!"},{"$error":"#REF!"},{"$error":"#REF!"},{"$error":"#N/A"},{"$error":"#N/A"},0,0,0,0,0,0,1,1,1,1,1,1,0,0,0,0,0,0,false,false,false,false,false,false,false,1,1,1,1,1,1,0,0,0,0,0,0,0,1,1,0,0,0,0,0]
["2007-09-01",false,"2010-04-07",false,false,{"$error":"#N/A"},0,1,0,false,1,{"$error":"#N/A"},1,{"$error":"#N/A"},1,1,1,1,1,1,1,{"$error":"#REF!"},{"$error":"#REF!"},{"$error":"#REF!"},{"$error":"#REF!"},{"$error":"#N/A"},{"$error":"#N/A"},0,0,0,0,0,0,1,1,1,1,1,1,0,0,0,0,0,0,false,false,false,false,false,false,false,1,1,1,1,1,1,0,0,0,0,0,0,0,1,1,0,0,0,0,0]
["2007-10-01",false,"2010-04-14",false,false,{"$error":"#N/A"},0,1,0,false,1,{"$error":"#N/A"},1,{"$error":"#N/A"},1,1,1,1,1,1,1,{"$error":"#REF!"},{"$error":"#REF!"},{"$error":"#REF!"},{"$error":"#REF!"},{"$error":"#N/A"},{"$error":"#N/A"},0,0,0,0,0,0,1,1,1,1,1,1,0,0,0,0,0,0,false,false,false,false,false,false,false,1,1,1,1,1,1,0,0,0,0,0,0,0,1,1,0,0,0,0,0]
["2007-11-01",false,"2010-04-21",false,false,{"$error":"#N/A"},0,1,0,false,1,{"$error":"#N/A"},1,{"$error":"#N/A"},1,1,1,1,1,1,1,{"$error":"#REF!"},{"$error":"#REF!"},{"$error":"#REF!"},{"$error":"#REF!"},{"$error":"#N/A"},{"$error":"#N/A"},0,0,0,0,0,0,1,1,1,1,1,1,0,0,0,0,0,0,false,false,false,false,false,false,false,1,1,1,1,1,1,0,0,0,0,0,0,0,1,1,0,0,0,0,0]
["2007-12-01",false,"2010-04-28",false,false,{"$error":"#N/A"},0,1,0,false,1,{"$error":"#N/A"},1,{"$error":"#N/A"},1,1,1,1,1,1,1,{"$error":"#REF!"},{"$error":"#REF!"},{"$error":"#REF!"},{"$error":"#REF!"},{"$error":"#N/A"},{"$error":"#N/A"},0,0,0,0,0,0,1,1,1,1,1,1,0,0,0,0,0,0,false,false,false,false,false,false,false,1,1,1,1,1,1,0,0,0,0,0,0,0,1,1,0,0,0,0,0]
["2008-01-01",false,"2010-05-05",false,false,{"$error":"#N/A"},0,1,0,false,1,{"$error":"#N/A"},1,{"$error":"#N/A"},1,1,1,1,1,1,1,{"$error":"#REF!"},{"$error":"#REF!"},{"$error":"#REF!"},{"$error":"#REF!"},{"$error":"#N/A"},{"$error":"#N/A"},0,0,0,0,0,0,1,1,1,1,1,1,0,0,0,0,0,0,false,false,false,false,false,false,false,1,1,1,1,1,1,0,0,0,0,0,0,0,1,1,0,0,0,0,0]
["2008-02-01",false,"2010-05-12",false,false,{"$error":"#N/A"},0,1,0,false,1,{"$error":"#N/A"},1,{"$error":"#N/A"},1,1,1,1,1,1,1,{"$error":"#REF!"},{"$error":"#REF!"},{"$error":"#REF!"},{"$error":"#REF!"},{"$error":"#N/A"},{"$error":"#N/A"},0,0,0,0,0,0,1,1,1,1,1,1,0,0,0,0,0,0,false,false,false,false,false,false,false,1,1,1,1,1,1,0,0,0,0,0,0,0,1,1,0,0,0,0,0]
["2008-03-01",false,"2010-05-19",false,false,{"$error":"#N/A"},0,1,0,false,1,{"$error":"#N/A"},1,{"$error":"#N/A"},1,1,1,1,1,1,1,{"$error":"#REF!"},{"$error":"#REF!"},{"$error":"#REF!"},{"$error":"#REF!"},{"$error":"#N/A"},{"$error":"#N/A"},0,0,0,0,0,0,1,1,1,1,1,1,0,0,0,0,0,0,false,false,false,false,false,false,false,1,1,1,1,1,1,0,0,0,0,0,0,0,1,1,0,0,0,0,0]
["2008-04-01",false,"2010-05-26",false,false,{"$error":"#N/A"},0,1,0,false,1,{"$error":"#N/A"},1,{"$error":"#N/A"},1,1,1,1,1,1,1,{"$error":"#REF!"},{"$error":"#REF!"},{"$error":"#REF!"},{"$error":"#REF!"},{"$error":"#N/A"},{"$error":"#N/A"},0,0,0,0,0,0,1,1,1,1,1,1,0,0,0,0,0,0,false,false,false,false,false,false,false,1,1,1,1,1,1,0,0,0,0,0,0,0,1,1,0,0,0,0,0]
["2008-05-01",false,"2010-06-02",false,false,{"$error":"#N/A"},0,1,0,false,1,{"$error":"#N/A"},1,{"$error":"#N/A"},1,1,1,1,1,1,1,{"$error":"#REF!"},{"$error":"#REF!"},{"$error":"#REF!"},{"$error":"#REF!"},{"$error":"#N/A"},{"$error":"#N/A"},0,0,0,0,0,0,1,1,1,1,1,1,0,0,0,0,0,0,false,false,false,false,false,false,false,1,1,1,1,1,1,0,0,0,0,0,0,0,1,1,0,0,0,0,0]
["2008-06-01",false,"2010-06-09",false,false,{"$error":"#N/A"},0,1,0,false,1,{"$error":"#N/A"},1,{"$error":"#N/A"},1,1,1,1,1,1,1,{"$error":"#REF!"},{"$error":"#REF!"},{"$error":"#REF!"},{"$error":"#REF!"},{"$error":"#N/A"},{"$error":"#N/A"},0,0,0,0,0,0,1,1,1,1,1,1,0,0,0,0,0,0,false,false,false,false,false,false,false,1,1,1,1,1,1,0,0,0,0,0,0,0,1,1,0,0,0,0,0]
["2008-07-01",false,"2010-06-16",false,false,{"$error":"#N/A"},0,1,0,false,1,{"$error":"#N/A"},1,{"$error":"#N/A"},1,1,1,1,1,1,1,{"$error":"#REF!"},{"$error":"#REF!"},{"$error":"#REF!"},{"$error":"#REF!"},{"$error":"#N/A"},{"$error":"#N/A"},0,0,0,0,0,0,1,1,1,1,1,1,0,0,0,0,0,0,false,false,false,false,false,false,false,1,1,1,1,1,1,0,0,0,0,0,0,0,1,1,0,0,0,0,0]
["2008-08-01",false,"2010-06-23",false,false,{"$error":"#N/A"},0,1,0,false,1,{"$error":"#N/A"},1,{"$error":"#N/A"},1,1,1,1,1,1,1,{"$error":"#REF!"},{"$error":"#REF!"},{"$error":"#REF!"},{"$error":"#REF!"},{"$error":"#N/A"},{"$error":"#N/A"},0,0,0,0,0,0,1,1,1,1,1,1,0,0,0,0,0,0,false,false,false,false,false,false,false,1,1,1,1,1,1,0,0,0,0,0,0,0,1,1,0,0,0,0,0]
["2008-09-01",false,"2010-06-30",false,false,{"$error":"#N/A"},0,1,0,false,1,{"$error":"#N/A"},1,{"$error":"#N/A"},1,1,1,1,1,1,1,{"$error":"#REF!"},{"$error":"#REF!"},{"$error":"#REF!"},{"$error":"#REF!"},{"$error":"#N/A"},{"$error":"#N/A"},0,0,0,0,0,0,1,1,1,1,1,1,0,0,0,0,0,0,false,false,false,false,false,false,false,1,1,1,1,1,1,0,0,0,0,0,0,0,1,1,0,0,0,0,0]
["2008-10-01",{"$f":"IF(B714<=$D$2,EOMONTH(B714,1))","v":false},"2010-07-07",false,false,{"$f":"LOOKUP(D715,A:A,G:G)","v":{"$error":"#N/A"}},{"$f":"IFERROR(LOOKUP($A715,INDIRECT(\"'\"&G$7&\"'!A:A\"),INDIRECT(\"'\"&G$7&\"'!\"&$G$9&\":\"&$G$9)),0)","v":0},{"$f":"IF(H$8,INDEX($BN715:$BT715,H$8),1)","v":1},{"$f":"IF(ISNUMBER(F715),F715,I716)*H715","v":0},false,1,{"$error":"#N/A"},1,{"$error":"#N/A"},1,1,1,1,1,1,1,{"$f":"LOOKUP($A715,INDIRECT(\"'\"&V$5&\"'!A:A\"),INDIRECT(\"'\"&V$5&\"'!\"&V$7&\":\"&V$7))","v":{"$error":"#REF!"}},{"$error":"#REF!"},{"$error":"#REF!"},{"$error":"#REF!"},{"$error":"#N/A"},{"$error":"#N/A"},{"$f":"IF(ISNUMBER(LOOKUP($D715,$A:$A,V:V)),LOOKUP($D715,$A:$A,V:V),AB714)","v":0},{"$f":"IF(ISNUMBER(LOOKUP($D715,$A:$A,W:W)),LOOKUP($D715,$A:$A,W:W),AC714)","v":0},{"$f":"IF(ISNUMBER(LOOKUP($D715,$A:$A,X:X)),LOOKUP($D715,$A:$A,X:X),AD714)","v":0},{"$f":"IF(ISNUMBER(LOOKUP($D715,$A:$A,Y:Y)),LOOKUP($D715,$A:$A,Y:Y),AE714)","v":0},{"$f":"IF(ISNUMBER(LOOKUP($D715,$A:$A,Z:Z)),LOOKUP($D715,$A:$A,Z:Z),AF714)","v":0},{"$f":"IF(ISNUMBER(LOOKUP($D715,$A:$A,AA:AA)),LOOKUP($D715,$A:$A,AA:AA),AG714)","v":0},1,1,1,1,1,1,{"$f":"IFERROR(IF(ISNUMBER(AB715)>0.1,AB715,AN716)*AH715,AN716)","v":0},{"$f":"IFERROR(IF(ISNUMBER(AC715)>0.1,AC715,AO716)*AI715,AO716)","v":0},{"$f":"IFERROR(IF(ISNUMBER(AD715)>0.1,AD715,AP716)*AJ715,AP716)","v":0},{"$f":"IFERROR(IF(ISNUMBER(AE715)>0.1,AE715,AQ716)*AK715,AQ716)","v":0},{"$f":"IFERROR(IF(ISNUMBER(AF715)>0.1,AF715,AR716)*AL715,AR716)","v":0},{"$f":"IF(ISNUMBER(AG715)>0.1,AG715,AS716)","v":0},false,{"$f":"IF(E715,IFERROR(LN(AN715/AN714),FALSE))","v":false},{"$f":"IF(E715,IFERROR(LN(AO715/AO714),FALSE))","v":false},{"$f":"IF(E715,IFERROR(LN(AP715/AP714),FALSE))","v":false},{"$f":"IF(E715,IFERROR(LN(AQ715/AQ714),FALSE))","v":false},{"$f":"IF(E715,IFERROR(LN(AR715/AR714),FALSE))","v":false},{"$f":"IF(E715,IFERROR(LN(AS715/AS714),FALSE))","v":false},1,1,1,1,1,1,{"$f":"IFERROR(LOOKUP($A715,INDIRECT(\"'\"&BN$6&\"'!A:A\"),INDIRECT(\"'\"&BN$6&\"'!\"&BN$7&\":\"&BN$7)),0)","v":0},{"$f":"IFERROR(LOOKUP($A715,INDIRECT(\"'\"&BO$6&\"'!A:A\"),INDIRECT(\"'\"&BO$6&\"'!\"&BO$7&\":\"&BO$7)),0)","v":0},{"$f":"IFERROR(LOOKUP($A715,INDIRECT(\"'\"&BP$6&\"'!A:A\"),INDIRECT(\"'\"&BP$6&\"'!\"&BP$7&\":\"&BP$7)),0)","v":0},{"$f":"IFERROR(LOOKUP($A715,INDIRECT(\"'\"&BQ$6&\"'!A:A\"),INDIRECT(\"'\"&BQ$6&\"'!\"&BQ$7&\":\"&BQ$7)),0)","v":0},{"$f":"IFERROR(LOOKUP($A715,INDIRECT(\"'\"&BR$6&\"'!A:A\"),INDIRECT(\"'\"&BR$6&\"'!\"&BR$7&\":\"&BR$7)),0)","v":0},{"$f":"IFERROR(LOOKUP($A715,INDIRECT(\"'\"&BS$6&\"'!A:A\"),INDIRECT(\"'\"&BS$6&\"'!\"&BS$7&\":\"&BS$7)),0)","v":0},{"$f":"IFERROR(LOOKUP($A715,INDIRECT(\"'\"&BT$6&\"'!A:A\"),INDIRECT(\"'\"&BT$6&\"'!\"&BT$7&\":\"&BT$7)),0)","v":0},{"$f":"IFERROR(1/IFERROR(LOOKUP($D715,$A:$A,BG:BG)*1,0),1)","v":1},{"$f":"IFERROR(1/IFERROR(LOOKUP($D715,$A:$A,BH:BH)*1,0),1)","v":1},0,0,0,0,0]
["2008-11-01",false,{"$f":"IF(C715<=$D$2,C715+7)","v":"2010-07-14"},false,{"$f":"AND(D716>=$D$4,D715<=$D$2)","v":false},{"$error":"#N/A"},0,1,0,{"$f":"IFERROR(LN(I716/I715),FALSE)","v":false},1,{"$error":"#N/A"},1,{"$error":"#N/A"},1,1,1,1,1,1,1,{"$error":"#REF!"},{"$error":"#REF!"},{"$error":"#REF!"},{"$error":"#REF!"},{"$error":"#N/A"},{"$error":"#N/A"},0,0,0,0,0,0,1,1,1,1,1,1,0,0,0,0,0,0,false,false,false,false,false,false,false,{"$f":"IFERROR(IF($E716,BA715*AN716/AN715,1),1)","v":1},{"$f":"IFERROR(IF($E716,BB715*AO716/AO715,1),1)","v":1},{"$f":"IFERROR(IF($E716,BC715*AP716/AP715,1),1)","v":1},{"$f":"IFERROR(IF($E716,BD715*AQ716/AQ715,1),1)","v":1},{"$f":"IFERROR(IF($E716,BE715*AR716/AR715,1),1)","v":1},{"$f":"IFERROR(IF($E716,BF715*AS716/AS715,1),1)","v":1},0,0,0,0,0,0,0,1,1,{"$f":"IFERROR(LOOKUP($D716,$A:$A,BI:BI)*1,BP715)","v":0},{"$f":"IFERROR(LOOKUP($D716,$A:$A,BJ:BJ)*1,BQ715)","v":0},{"$f":"IFERROR(LOOKUP($D716,$A:$A,BK:BK)*1,BR715)","v":0},{"$f":"IFERROR(LOOKUP($D716,$A:$A,BL:BL)*1,BS715)","v":0},{"$f":"IFERROR(LOOKUP($D716,$A:$A,BM:BM)*1,BT715)","v":0}]
["2008-12-01",false,"2010-07-21",{"$f":"IF($D$6,C717,B717)","v":false},false,{"$error":"#N/A"},0,1,0,false,{"$f":"IF($E717,(K716*I717/I716),1)","v":1},{"$f":"IF(E717,D717,NA())","v":{"$error":"#N/A"}},{"$f":"CHOOSE($M$1,I717,J717,K717)","v":1},{"$f":"L717","v":{"$error":"#N/A"}},{"$f":"M717","v":1},{"$f":"IFERROR(CHOOSE($M$1,AN717,AU717,BA717),1)","v":1},{"$f":"IFERROR(CHOOSE($M$1,AO717,AV717,BB717),1)","v":1},{"$f":"IFERROR(CHOOSE($M$1,AP717,AW717,BC717),1)","v":1},{"$f":"IFERROR(CHOOSE($M$1,AQ717,AX717,BD717),1)","v":1},{"$f":"IFERROR(CHOOSE($M$1,AR717,AY717,BE717),1)","v":1},{"$f":"IFERROR(CHOOSE($M$1,AS717,AZ717,BF717),1)","v":1},{"$error":"#REF!"},{"$error":"#REF!"},{"$error":"#REF!"},{"$error":"#REF!"},{"$error":"#N/A"},{"$error":"#N/A"},0,0,0,0,0,0,1,1,1,1,1,1,0,0,0,0,0,0,{"$f":"J717","v":false},false,false,false,false,false,false,1,1,1,1,1,1,0,0,0,0,0,0,0,1,1,0,0,0,0,0]
["2009-01-01",false,"2010-07-28",false,false,{"$error":"#N/A"},0,1,0,false,1,{"$error":"#N/A"},1,{"$error":"#N/A"},1,1,1,1,1,1,1,{"$error":"#REF!"},{"$error":"#REF!"},{"$error":"#REF!"},{"$error":"#REF!"},{"$error":"#N/A"},{"$error":"#N/A"},0,0,0,0,0,0,1,1,1,1,1,1,0,0,0,0,0,0,false,false,false,false,false,false,false,1,1,1,1,1,1,0,0,0,0,0,0,0,1,1,0,0,0,0,0]
["2009-02-01",false,"2010-08-04",false,false,{"$error":"#N/A"},0,1,0,false,1,{"$error":"#N/A"},1,{"$error":"#N/A"},1,1,1,1,1,1,1,{"$error":"#REF!"},{"$error":"#REF!"},{"$error":"#REF!"},{"$error":"#REF!"},{"$error":"#N/A"},{"$error":"#N/A"},0,0,0,0,0,0,1,1,1,1,1,1,0,0,0,0,0,0,false,false,false,false,false,false,false,1,1,1,1,1,1,0,0,0,0,0,0,0,1,1,0,0,0,0,0]
["2009-03-01",false,"2010-08-11",false,false,{"$error":"#N/A"},0,1,0,false,1,{"$error":"#N/A"},1,{"$error":"#N/A"},1,1,1,1,1,1,1,{"$error":"#REF!"},{"$error":"#REF!"},{"$error":"#REF!"},{"$error":"#REF!"},{"$error":"#N/A"},{"$error":"#N/A"},0,0,0,0,0,0,1,1,1,{"$f":"IF(AK$7,INDEX($BN720:$BT720,AK$7),1)","v":1},1,1,0,0,0,0,0,0,false,false,false,false,false,false,false,1,1,1,1,1,1,0,0,0,0,0,0,0,1,1,0,0,0,0,0]
["2009-04-01",false,"2010-08-18",false,false,{"$error":"#N/A"},0,1,0,false,1,{"$error":"#N/A"},1,{"$error":"#N/A"},1,1,1,1,1,1,1,{"$error":"#REF!"},{"$error":"#REF!"},{"$error":"#REF!"},{"$error":"#REF!"},{"$error":"#N/A"},{"$error":"#N/A"},0,0,0,0,0,0,1,1,1,1,1,1,0,0,0,0,0,0,false,false,false,false,false,false,false,1,1,1,1,1,1,0,0,0,0,0,0,0,1,1,0,0,0,0,0]
["2009-05-01",false,"2010-08-25",false,false,{"$error":"#N/A"},0,1,0,false,1,{"$error":"#N/A"},1,{"$error":"#N/A"},1,1,1,1,1,1,1,{"$error":"#REF!"},{"$error":"#REF!"},{"$error":"#REF!"},{"$error":"#REF!"},{"$error":"#N/A"},{"$error":"#N/A"},0,0,0,0,0,0,1,1,1,1,1,1,0,0,0,0,0,0,false,false,false,false,false,false,false,1,1,1,1,1,1,0,0,0,0,0,0,0,1,1,0,0,0,0,0]
["2009-06-01",false,"2010-09-01",false,false,{"$error":"#N/A"},0,1,0,false,1,{"$error":"#N/A"},1,{"$error":"#N/A"},1,1,1,1,1,1,1,{"$error":"#REF!"},{"$error":"#REF!"},{"$error":"#REF!"},{"$error":"#REF!"},{"$error":"#N/A"},{"$error":"#N/A"},0,0,0,0,0,0,1,1,1,1,1,1,0,0,0,0,0,0,false,false,false,false,false,false,false,1,1,1,1,1,1,0,0,0,0,0,0,0,1,1,0,0,0,0,0]
["2009-07-01",false,"2010-09-08",false,false,{"$error":"#N/A"},0,1,0,false,1,{"$error":"#N/A"},1,{"$error":"#N/A"},1,1,1,1,1,1,1,{"$error":"#REF!"},{"$error":"#REF!"},{"$error":"#REF!"},{"$error":"#REF!"},{"$error":"#N/A"},{"$error":"#N/A"},0,0,0,0,0,0,1,1,1,1,1,1,0,0,0,0,0,0,false,false,false,false,false,false,false,1,1,1,1,1,1,0,0,0,0,0,0,0,1,1,0,0,0,0,0]
["2009-08-01",false,"2010-09-15",false,false,{"$error":"#N/A"},0,1,0,false,1,{"$error":"#N/A"},1,{"$error":"#N/A"},1,1,1,1,1,1,1,{"$error":"#REF!"},{"$error":"#REF!"},{"$error":"#REF!"},{"$error":"#REF!"},{"$error":"#N/A"},{"$error":"#N/A"},0,0,0,0,0,0,1,1,1,1,1,1,0,0,0,0,0,0,false,false,false,false,false,false,false,1,1,1,1,1,1,0,0,0,0,0,0,0,1,1,0,0,0,0,0]
["2009-09-01",false,"2010-09-22",false,false,{"$error":"#N/A"},0,1,0,false,1,{"$error":"#N/A"},1,{"$error":"#N/A"},1,1,1,1,1,1,1,{"$error":"#REF!"},{"$error":"#REF!"},{"$error":"#REF!"},{"$error":"#REF!"},{"$error":"#N/A"},{"$error":"#N/A"},0,0,0,0,0,0,1,1,1,1,1,1,0,0,0,0,0,0,false,false,false,false,false,false,false,1,1,1,1,1,1,0,0,0,0,0,0,0,1,1,0,0,0,0,0]
["2009-10-01",false,"2010-09-29",false,false,{"$error":"#N/A"},0,1,0,false,1,{"$error":"#N/A"},1,{"$error":"#N/A"},1,1,1,1,1,1,1,{"$error":"#REF!"},{"$error":"#REF!"},{"$error":"#REF!"},{"$error":"#REF!"},{"$error":"#N/A"},{"$error":"#N/A"},0,0,0,0,0,0,1,1,1,1,1,1,0,0,0,0,0,0,false,false,false,false,false,false,false,1,1,1,1,1,1,0,0,0,0,0,0,0,1,1,0,0,0,0,0]
["2009-11-01",false,"2010-10-06",false,false,{"$error":"#N/A"},0,1,0,false,1,{"$error":"#N/A"},1,{"$error":"#N/A"},1,1,1,1,1,1,1,{"$error":"#REF!"},{"$error":"#REF!"},{"$error":"#REF!"},{"$error":"#REF!"},{"$error":"#N/A"},{"$error":"#N/A"},0,0,0,0,0,0,1,1,1,1,1,1,0,0,0,0,0,0,false,false,false,false,false,false,false,1,1,1,1,1,1,0,0,0,0,0,0,0,1,1,0,0,0,0,0]
["2009-12-01",false,"2010-10-13",false,false,{"$error":"#N/A"},0,1,0,false,1,{"$error":"#N/A"},1,{"$error":"#N/A"},1,1,1,1,1,1,1,{"$error":"#REF!"},{"$error":"#REF!"},{"$error":"#REF!"},{"$f":"LOOKUP($A729,INDIRECT(\"'\"&Y$5&\"'!A:A\"),INDIRECT(\"'\"&Y$5&\"'!\"&Y$7&\":\"&Y$7))","v":{"$error":"#REF!"}},{"$error":"#N/A"},{"$error":"#N/A"},0,0,0,0,0,0,1,1,1,1,1,1,0,0,0,0,0,0,false,false,false,false,false,false,false,1,1,1,1,1,1,0,0,0,0,0,0,0,1,1,0,0,0,0,0]
["2010-01-01",false,"2010-10-20",false,false,{"$error":"#N/A"},0,1,0,false,1,{"$error":"#N/A"},1,{"$error":"#N/A"},1,1,1,1,1,1,1,{"$error":"#REF!"},{"$error":"#REF!"},{"$error":"#REF!"},{"$error":"#REF!"},{"$error":"#N/A"},{"$error":"#N/A"},0,0,0,0,0,0,1,1,1,1,1,1,0,0,0,0,0,0,false,false,false,false,false,false,false,1,1,1,1,1,1,0,0,0,0,0,0,0,1,1,0,0,0,0,0]
["2010-02-01",false,"2010-10-27",false,false,{"$error":"#N/A"},0,1,0,false,1,{"$error":"#N/A"},1,{"$error":"#N/A"},1,1,1,1,1,1,1,{"$error":"#REF!"},{"$error":"#REF!"},{"$error":"#REF!"},{"$error":"#REF!"},{"$error":"#N/A"},{"$error":"#N/A"},0,0,0,0,0,0,1,1,1,1,1,1,0,0,0,0,0,0,false,false,false,false,false,false,false,1,1,1,1,1,1,0,0,0,0,0,0,0,1,1,0,0,0,0,0]
["2010-03-01",false,"2010-11-03",false,false,{"$error":"#N/A"},0,1,0,false,1,{"$error":"#N/A"},1,{"$error":"#N/A"},1,1,1,1,1,1,1,{"$error":"#REF!"},{"$error":"#REF!"},{"$error":"#REF!"},{"$error":"#REF!"},{"$error":"#N/A"},{"$error":"#N/A"},0,0,0,0,0,0,1,1,1,1,1,1,0,0,0,0,0,0,false,false,false,false,false,false,false,1,1,1,1,1,1,0,0,0,0,0,0,0,1,1,0,0,0,0,0]
["2010-04-01",false,"2010-11-10",false,false,{"$error":"#N/A"},0,1,0,false,1,{"$error":"#N/A"},1,{"$error":"#N/A"},1,1,1,1,1,1,1,{"$error":"#REF!"},{"$error":"#REF!"},{"$error":"#REF!"},{"$error":"#REF!"},{"$error":"#N/A"},{"$error":"#N/A"},0,0,0,0,0,0,1,1,1,1,1,1,0,0,0,0,0,0,false,false,false,false,false,false,false,1,1,1,1,1,1,0,0,0,0,0,0,0,1,1,0,0,0,0,0]
["2010-05-01",false,"2010-11-17",false,false,{"$error":"#N/A"},0,1,0,false,1,{"$error":"#N/A"},1,{"$error":"#N/A"},1,1,1,1,1,1,1,{"$error":"#REF!"},{"$error":"#REF!"},{"$error":"#REF!"},{"$error":"#REF!"},{"$error":"#N/A"},{"$error":"#N/A"},0,0,0,0,0,0,1,1,1,1,1,1,0,0,0,0,0,0,false,false,false,false,false,false,false,1,1,1,1,1,1,0,0,0,0,0,0,0,1,1,0,0,0,0,0]
["2010-06-01",false,"2010-11-24",false,false,{"$error":"#N/A"},0,1,0,false,1,{"$error":"#N/A"},1,{"$error":"#N/A"},1,1,1,1,1,1,1,{"$error":"#REF!"},{"$error":"#REF!"},{"$error":"#REF!"},{"$error":"#REF!"},{"$error":"#N/A"},{"$error":"#N/A"},0,0,0,0,0,0,1,1,1,1,1,1,0,0,0,0,0,0,false,false,false,false,false,false,false,1,1,1,1,1,1,0,0,0,0,0,0,0,1,1,0,0,0,0,0]
["2010-07-01",false,"2010-12-01",false,false,{"$error":"#N/A"},0,1,0,false,1,{"$error":"#N/A"},1,{"$error":"#N/A"},1,1,1,1,1,1,1,{"$error":"#REF!"},{"$error":"#REF!"},{"$error":"#REF!"},{"$error":"#REF!"},{"$error":"#N/A"},{"$error":"#N/A"},0,0,0,0,0,0,1,1,1,1,1,1,0,0,0,0,0,0,false,false,false,false,false,false,false,1,1,1,1,1,1,0,0,0,0,0,0,0,1,1,0,0,0,0,0]
["2010-08-01",false,"2010-12-08",false,false,{"$error":"#N/A"},0,1,0,false,1,{"$error":"#N/A"},1,{"$error":"#N/A"},1,1,1,1,1,1,1,{"$error":"#REF!"},{"$error":"#REF!"},{"$error":"#REF!"},{"$error":"#REF!"},{"$error":"#N/A"},{"$error":"#N/A"},0,0,0,0,0,0,1,1,1,1,1,1,0,0,0,0,0,0,false,false,false,false,false,false,false,1,1,1,1,1,1,0,0,0,0,0,0,0,1,1,0,0,0,0,0]
["2010-09-01",false,"2010-12-15",false,false,{"$error":"#N/A"},0,1,0,false,1,{"$error":"#N/A"},1,{"$error":"#N/A"},1,1,1,1,1,1,1,{"$error":"#REF!"},{"$error":"#REF!"},{"$error":"#REF!"},{"$error":"#REF!"},{"$error":"#N/A"},{"$error":"#N/A"},0,0,0,0,0,0,1,1,1,1,1,1,0,0,0,0,0,0,false,false,false,false,false,false,false,1,1,1,1,1,1,0,0,0,0,0,0,0,1,1,0,0,0,0,0]
["2010-10-01",false,"2010-12-22",false,false,{"$error":"#N/A"},0,1,0,false,1,{"$error":"#N/A"},1,{"$error":"#N/A"},1,1,1,1,1,1,1,{"$error":"#REF!"},{"$error":"#REF!"},{"$error":"#REF!"},{"$error":"#REF!"},{"$error":"#N/A"},{"$error":"#N/A"},0,0,0,0,0,0,1,1,1,1,1,1,0,0,0,0,0,0,false,false,false,false,false,false,false,1,1,1,1,1,1,0,0,0,0,0,0,0,1,1,0,0,0,0,0]
["2010-11-01",false,"2010-12-29",false,false,{"$error":"#N/A"},0,1,0,false,1,{"$error":"#N/A"},1,{"$error":"#N/A"},1,1,1,1,1,1,1,{"$error":"#REF!"},{"$error":"#REF!"},{"$error":"#REF!"},{"$error":"#REF!"},{"$error":"#N/A"},{"$error":"#N/A"},0,0,0,0,0,0,1,1,1,1,1,1,0,0,0,0,0,0,false,false,false,false,false,false,false,1,1,1,1,1,1,0,0,0,0,0,0,0,1,1,0,0,0,0,0]
["2010-12-01",false,"2011-01-05",false,false,{"$error":"#N/A"},0,1,0,false,1,{"$error":"#N/A"},1,{"$error":"#N/A"},1,1,1,1,1,1,1,{"$error":"#REF!"},{"$error":"#REF!"},{"$error":"#REF!"},{"$error":"#REF!"},{"$error":"#N/A"},{"$error":"#N/A"},0,0,0,0,0,0,1,1,1,1,1,1,0,0,0,0,0,0,false,false,false,false,false,false,false,1,1,1,1,1,1,0,0,0,0,0,0,0,1,1,0,0,0,0,0]
["2011-01-01",false,"2011-01-12",false,false,{"$error":"#N/A"},0,1,0,false,1,{"$error":"#N/A"},1,{"$error":"#N/A"},1,1,1,1,1,1,1,{"$error":"#REF!"},{"$error":"#REF!"},{"$error":"#REF!"},{"$error":"#REF!"},{"$error":"#N/A"},{"$error":"#N/A"},0,0,0,0,0,0,1,1,1,1,1,1,0,0,0,0,0,0,false,false,false,false,false,false,false,1,1,1,1,1,1,0,0,0,0,0,0,0,1,1,0,0,0,0,0]
["2011-02-01",false,"2011-01-19",false,false,{"$error":"#N/A"},0,1,0,false,1,{"$error":"#N/A"},1,{"$error":"#N/A"},1,1,1,1,1,1,1,{"$error":"#REF!"},{"$error":"#REF!"},{"$error":"#REF!"},{"$error":"#REF!"},{"$error":"#N/A"},{"$error":"#N/A"},0,0,0,0,0,0,1,1,1,1,1,1,0,0,0,0,0,0,false,false,false,false,false,false,false,1,1,1,1,1,1,0,0,0,0,0,0,0,1,1,0,0,0,0,0]
["2011-03-01",false,"2011-01-26",false,false,{"$error":"#N/A"},0,1,0,false,1,{"$error":"#N/A"},1,{"$error":"#N/A"},1,1,1,1,1,1,1,{"$error":"#REF!"},{"$error":"#REF!"},{"$error":"#REF!"},{"$error":"#REF!"},{"$error":"#N/A"},{"$error":"#N/A"},0,0,0,0,0,0,1,1,1,1,1,1,0,0,0,0,0,0,false,false,false,false,false,false,false,1,1,1,1,1,1,0,0,0,0,0,0,0,1,1,0,0,0,0,0]
["2011-04-01",false,"2011-02-02",false,false,{"$error":"#N/A"},0,1,0,false,1,{"$error":"#N/A"},1,{"$error":"#N/A"},1,1,1,1,1,1,1,{"$error":"#REF!"},{"$error":"#REF!"},{"$error":"#REF!"},{"$error":"#REF!"},{"$error":"#N/A"},{"$error":"#N/A"},0,0,0,0,0,0,1,1,1,1,1,1,0,0,0,0,0,0,false,false,false,false,false,false,false,1,1,1,1,1,1,0,0,0,0,0,0,0,1,1,0,0,0,0,0]
["2011-05-01",false,"2011-02-09",false,false,{"$error":"#N/A"},0,1,0,false,1,{"$error":"#N/A"},1,{"$error":"#N/A"},1,1,1,1,1,1,1,{"$error":"#REF!"},{"$error":"#REF!"},{"$error":"#REF!"},{"$error":"#REF!"},{"$error":"#N/A"},{"$error":"#N/A"},0,0,0,0,0,0,1,1,1,1,1,1,0,0,0,0,0,0,false,false,false,false,false,false,false,1,1,1,1,1,1,0,0,0,0,0,0,0,1,1,0,0,0,0,0]
["2011-06-01",false,"2011-02-16",false,false,{"$error":"#N/A"},0,1,0,false,1,{"$error":"#N/A"},1,{"$error":"#N/A"},1,1,1,1,1,1,1,{"$error":"#REF!"},{"$error":"#REF!"},{"$error":"#REF!"},{"$error":"#REF!"},{"$error":"#N/A"},{"$error":"#N/A"},0,0,0,0,0,0,1,1,1,1,1,1,0,0,0,0,0,0,false,false,false,false,false,false,false,1,1,1,1,1,1,0,0,0,0,0,0,0,1,1,0,0,0,0,0]
["2011-07-01",false,"2011-02-23",false,false,{"$error":"#N/A"},0,1,0,false,1,{"$error":"#N/A"},1,{"$error":"#N/A"},1,1,1,1,1,1,1,{"$error":"#REF!"},{"$error":"#REF!"},{"$error":"#REF!"},{"$error":"#REF!"},{"$error":"#N/A"},{"$error":"#N/A"},0,0,0,0,0,0,1,1,1,1,1,1,0,0,0,0,0,0,false,false,false,false,false,false,false,1,1,1,1,1,1,0,0,0,0,0,0,0,1,1,0,0,0,0,0]
["2011-08-01",false,"2011-03-02",false,false,{"$error":"#N/A"},0,1,0,false,1,{"$error":"#N/A"},1,{"$error":"#N/A"},1,1,1,1,1,1,1,{"$error":"#REF!"},{"$error":"#REF!"},{"$error":"#REF!"},{"$error":"#REF!"},{"$error":"#N/A"},{"$error":"#N/A"},0,0,0,0,0,0,{"$f":"IF(AH$7,INDEX($BN749:$BT749,AH$7),1)","v":1},1,1,1,1,1,0,0,0,0,0,0,false,false,false,false,false,false,false,1,1,1,1,1,1,0,0,0,0,0,0,0,1,1,0,0,0,0,0]
["2011-09-01",false,"2011-03-09",false,false,{"$error":"#N/A"},0,1,0,false,1,{"$error":"#N/A"},1,{"$error":"#N/A"},1,1,1,1,1,1,1,{"$error":"#REF!"},{"$error":"#REF!"},{"$error":"#REF!"},{"$error":"#REF!"},{"$error":"#N/A"},{"$error":"#N/A"},0,0,0,0,0,0,1,1,1,1,1,1,0,0,0,0,0,0,false,false,false,false,false,false,false,1,1,1,1,1,1,0,0,0,0,0,0,0,1,1,0,0,0,0,0]
["2011-10-01",false,"2011-03-16",false,false,{"$error":"#N/A"},0,1,0,false,1,{"$error":"#N/A"},1,{"$error":"#N/A"},1,1,1,1,1,1,1,{"$error":"#REF!"},{"$error":"#REF!"},{"$error":"#REF!"},{"$error":"#REF!"},{"$error":"#N/A"},{"$error":"#N/A"},0,0,0,0,0,0,1,1,1,1,1,1,0,0,0,0,0,0,false,false,false,false,false,false,false,1,1,1,1,1,1,0,0,0,0,0,0,0,1,1,0,0,0,0,0]
["2011-11-01",false,"2011-03-23",false,false,{"$error":"#N/A"},0,1,0,false,1,{"$error":"#N/A"},1,{"$error":"#N/A"},1,1,1,1,1,1,1,{"$error":"#REF!"},{"$error":"#REF!"},{"$error":"#REF!"},{"$error":"#REF!"},{"$error":"#N/A"},{"$error":"#N/A"},0,0,0,0,0,0,1,1,1,1,1,1,0,0,0,0,0,0,false,false,false,false,false,false,false,1,1,1,1,1,1,0,0,0,0,0,0,0,1,1,0,0,0,0,0]
["2011-12-01",false,"2011-03-30",false,false,{"$error":"#N/A"},0,1,0,false,1,{"$error":"#N/A"},1,{"$error":"#N/A"},1,1,1,1,1,1,1,{"$error":"#REF!"},{"$error":"#REF!"},{"$error":"#REF!"},{"$error":"#REF!"},{"$error":"#N/A"},{"$error":"#N/A"},0,0,0,0,0,0,1,1,1,1,1,1,0,0,0,0,0,0,false,false,false,false,false,false,false,1,1,1,1,1,1,0,0,0,0,0,0,0,1,1,0,0,0,0,0]
["2012-01-01",false,"2011-04-06",false,false,{"$error":"#N/A"},0,1,0,false,1,{"$error":"#N/A"},1,{"$error":"#N/A"},1,1,1,1,1,1,1,{"$error":"#REF!"},{"$error":"#REF!"},{"$error":"#REF!"},{"$error":"#REF!"},{"$error":"#N/A"},{"$error":"#N/A"},0,0,0,0,0,0,1,1,1,1,1,1,0,0,0,0,0,0,false,false,false,false,false,false,false,1,1,1,1,1,1,0,0,0,0,0,0,0,1,1,0,0,0,0,0]
["2012-02-01",false,"2011-04-13",false,false,{"$error":"#N/A"},0,1,0,false,1,{"$error":"#N/A"},1,{"$error":"#N/A"},1,1,1,1,1,1,1,{"$error":"#REF!"},{"$error":"#REF!"},{"$error":"#REF!"},{"$error":"#REF!"},{"$error":"#N/A"},{"$error":"#N/A"},0,0,0,0,0,0,1,1,1,1,1,1,0,0,0,0,0,0,false,false,false,false,false,false,false,1,1,1,1,1,1,0,0,0,0,0,0,0,1,1,0,0,0,0,0]
["2012-03-01",false,"2011-04-20",false,false,{"$error":"#N/A"},0,1,0,false,1,{"$error":"#N/A"},1,{"$error":"#N/A"},1,1,1,1,1,1,1,{"$error":"#REF!"},{"$error":"#REF!"},{"$error":"#REF!"},{"$error":"#REF!"},{"$error":"#N/A"},{"$error":"#N/A"},0,0,0,0,0,0,1,1,1,1,1,1,0,0,0,0,0,0,false,false,false,false,false,false,false,1,1,1,1,1,1,0,0,0,0,0,0,0,1,1,0,0,0,0,0]
["2012-04-01",false,"2011-04-27",false,false,{"$error":"#N/A"},0,1,0,false,1,{"$error":"#N/A"},1,{"$error":"#N/A"},1,1,1,1,1,1,1,{"$error":"#REF!"},{"$error":"#REF!"},{"$error":"#REF!"},{"$error":"#REF!"},{"$error":"#N/A"},{"$error":"#N/A"},0,0,0,0,0,0,1,1,1,1,1,1,0,0,0,0,0,0,false,false,false,false,false,false,false,1,1,1,1,1,1,0,0,0,0,0,0,0,1,1,0,0,0,0,0]
["2012-05-01",false,"2011-05-04",false,false,{"$error":"#N/A"},0,1,0,false,1,{"$error":"#N/A"},1,{"$error":"#N/A"},1,1,1,1,1,1,1,{"$error":"#REF!"},{"$error":"#REF!"},{"$error":"#REF!"},{"$error":"#REF!"},{"$error":"#N/A"},{"$error":"#N/A"},0,0,0,0,0,0,1,1,1,1,1,1,0,0,0,0,0,0,false,false,false,false,false,false,false,1,1,1,1,1,1,0,0,0,0,0,0,0,1,1,0,0,0,0,0]
["2012-06-01",false,"2011-05-11",false,false,{"$error":"#N/A"},0,1,0,false,1,{"$error":"#N/A"},1,{"$error":"#N/A"},1,1,1,1,1,1,1,{"$error":"#REF!"},{"$error":"#REF!"},{"$error":"#REF!"},{"$error":"#REF!"},{"$error":"#N/A"},{"$error":"#N/A"},0,0,0,0,0,0,1,1,1,1,1,1,0,0,0,0,0,0,false,false,false,false,false,false,false,1,1,1,1,1,1,0,0,0,0,0,0,0,1,1,0,0,0,0,0]
["2012-07-01",false,"2011-05-18",false,false,{"$error":"#N/A"},0,1,0,false,1,{"$error":"#N/A"},1,{"$error":"#N/A"},1,1,1,1,1,1,1,{"$error":"#REF!"},{"$error":"#REF!"},{"$error":"#REF!"},{"$error":"#REF!"},{"$error":"#N/A"},{"$error":"#N/A"},0,0,0,0,0,0,1,1,1,1,1,1,0,0,0,0,0,0,false,false,false,false,false,false,false,1,1,1,1,1,1,0,0,0,0,0,0,0,1,1,0,0,0,0,0]
["2012-08-01",false,"2011-05-25",false,false,{"$error":"#N/A"},0,1,0,false,1,{"$error":"#N/A"},1,{"$error":"#N/A"},1,1,1,1,1,1,1,{"$error":"#REF!"},{"$error":"#REF!"},{"$error":"#REF!"},{"$error":"#REF!"},{"$error":"#N/A"},{"$error":"#N/A"},0,0,0,0,0,0,1,1,1,1,1,1,0,0,0,0,0,0,false,false,false,false,false,false,false,1,1,1,1,1,1,0,0,0,0,0,0,0,1,1,0,0,0,0,0]
["2012-09-01",false,"2011-06-01",false,false,{"$error":"#N/A"},0,1,0,false,1,{"$error":"#N/A"},1,{"$error":"#N/A"},1,1,1,1,1,1,1,{"$error":"#REF!"},{"$error":"#REF!"},{"$error":"#REF!"},{"$error":"#REF!"},{"$error":"#N/A"},{"$error":"#N/A"},0,0,0,0,0,0,1,1,1,1,1,1,0,0,0,0,0,0,false,false,false,false,false,false,false,1,1,1,1,1,1,0,0,0,0,0,0,0,1,1,0,0,0,0,0]
["2012-10-01",false,"2011-06-08",false,false,{"$error":"#N/A"},0,1,0,false,1,{"$error":"#N/A"},1,{"$error":"#N/A"},1,1,1,1,1,1,1,{"$error":"#REF!"},{"$error":"#REF!"},{"$error":"#REF!"},{"$error":"#REF!"},{"$error":"#N/A"},{"$error":"#N/A"},0,0,0,0,0,0,1,1,1,1,1,1,0,0,0,0,0,0,false,false,false,false,false,false,false,1,1,1,1,1,1,0,0,0,0,0,0,0,1,1,0,0,0,0,0]
["2012-11-01",false,"2011-06-15",false,false,{"$error":"#N/A"},0,1,0,false,1,{"$error":"#N/A"},1,{"$error":"#N/A"},1,1,1,1,1,1,1,{"$error":"#REF!"},{"$error":"#REF!"},{"$error":"#REF!"},{"$error":"#REF!"},{"$error":"#N/A"},{"$error":"#N/A"},0,0,0,0,0,0,1,1,1,1,1,1,0,0,0,0,0,0,false,false,false,false,false,false,false,1,1,1,1,1,1,0,0,0,0,0,0,0,1,1,0,0,0,0,0]
["2012-12-01",false,"2011-06-22",false,false,{"$error":"#N/A"},0,1,0,false,1,{"$error":"#N/A"},1,{"$error":"#N/A"},1,1,1,1,1,1,1,{"$error":"#REF!"},{"$error":"#REF!"},{"$error":"#REF!"},{"$error":"#REF!"},{"$error":"#N/A"},{"$error":"#N/A"},0,0,0,0,0,0,1,1,1,1,1,1,0,0,0,0,0,0,false,false,false,false,false,false,false,1,1,1,1,1,1,0,0,0,0,0,0,0,1,1,0,0,0,0,0]
["2013-01-01",false,"2011-06-29",false,false,{"$error":"#N/A"},0,1,0,false,1,{"$error":"#N/A"},1,{"$error":"#N/A"},1,1,1,1,1,1,1,{"$error":"#REF!"},{"$error":"#REF!"},{"$error":"#REF!"},{"$error":"#REF!"},{"$error":"#N/A"},{"$error":"#N/A"},0,0,0,0,0,0,1,1,1,1,1,1,0,0,0,0,0,0,false,false,false,false,false,false,false,1,1,1,1,1,1,0,0,0,0,0,0,0,1,1,0,0,0,0,0]
["2013-02-01",false,"2011-07-06",false,false,{"$error":"#N/A"},0,1,0,false,1,{"$error":"#N/A"},1,{"$error":"#N/A"},1,1,1,1,1,1,1,{"$error":"#REF!"},{"$error":"#REF!"},{"$error":"#REF!"},{"$error":"#REF!"},{"$error":"#N/A"},{"$error":"#N/A"},0,0,0,0,0,0,1,1,1,1,1,1,0,0,0,0,0,0,false,false,false,false,false,false,false,1,1,1,1,1,1,0,0,0,0,0,0,0,1,1,0,0,0,0,0]
["2013-03-01",false,"2011-07-13",false,false,{"$error":"#N/A"},0,1,0,false,1,{"$error":"#N/A"},1,{"$error":"#N/A"},1,1,1,1,1,1,1,{"$error":"#REF!"},{"$error":"#REF!"},{"$error":"#REF!"},{"$error":"#REF!"},{"$error":"#N/A"},{"$error":"#N/A"},0,0,0,0,0,0,1,1,1,1,1,1,0,0,0,0,0,0,false,false,false,false,false,false,false,1,1,1,1,1,1,0,0,0,0,0,0,0,1,1,0,0,0,0,0]
["2013-04-01",false,"2011-07-20",false,false,{"$error":"#N/A"},0,1,0,false,1,{"$error":"#N/A"},1,{"$error":"#N/A"},1,1,1,1,1,1,1,{"$error":"#REF!"},{"$error":"#REF!"},{"$error":"#REF!"},{"$error":"#REF!"},{"$error":"#N/A"},{"$error":"#N/A"},0,0,0,0,0,0,1,1,1,1,1,1,0,0,0,0,0,0,false,false,false,false,false,false,false,1,1,1,1,1,1,0,0,0,0,0,0,0,1,1,0,0,0,0,0]
["2013-05-01",false,"2011-07-27",false,false,{"$error":"#N/A"},0,1,0,false,1,{"$error":"#N/A"},1,{"$error":"#N/A"},1,1,1,1,1,1,1,{"$error":"#REF!"},{"$error":"#REF!"},{"$error":"#REF!"},{"$error":"#REF!"},{"$error":"#N/A"},{"$error":"#N/A"},0,0,0,0,0,0,1,1,1,1,1,1,0,0,0,0,0,0,false,false,false,false,false,false,false,1,1,1,1,1,1,0,0,0,0,0,0,0,1,1,0,0,0,0,0]
["2013-06-01",false,"2011-08-03",false,false,{"$error":"#N/A"},0,1,0,false,1,{"$error":"#N/A"},1,{"$error":"#N/A"},1,1,1,1,1,1,1,{"$error":"#REF!"},{"$error":"#REF!"},{"$error":"#REF!"},{"$error":"#REF!"},{"$error":"#N/A"},{"$error":"#N/A"},0,0,0,0,0,0,1,1,1,{"$f":"IF(AK$7,INDEX($BN771:$BT771,AK$7),1)","v":1},1,1,0,0,0,0,0,0,false,false,false,false,false,false,false,1,1,1,1,1,1,0,0,0,0,0,0,0,1,1,0,0,0,0,0]
["2013-07-01",false,"2011-08-10",false,false,{"$error":"#N/A"},0,1,0,false,1,{"$error":"#N/A"},1,{"$error":"#N/A"},1,1,1,1,1,1,1,{"$error":"#REF!"},{"$error":"#REF!"},{"$error":"#REF!"},{"$error":"#REF!"},{"$error":"#N/A"},{"$error":"#N/A"},0,0,0,0,0,0,1,1,1,1,1,1,0,0,0,0,0,0,false,false,false,false,false,false,false,1,1,1,1,1,1,0,0,0,0,0,0,0,1,1,0,0,0,0,0]
["2013-08-01",false,"2011-08-17",false,false,{"$error":"#N/A"},0,1,0,false,1,{"$error":"#N/A"},1,{"$error":"#N/A"},1,1,1,1,1,1,1,{"$error":"#REF!"},{"$error":"#REF!"},{"$error":"#REF!"},{"$error":"#REF!"},{"$error":"#N/A"},{"$error":"#N/A"},0,0,0,0,0,0,1,1,1,1,1,1,0,0,0,0,0,0,false,false,false,false,false,false,false,1,1,1,1,1,1,0,0,0,0,0,0,0,1,1,0,0,0,0,0]
["2013-09-01",false,"2011-08-24",false,false,{"$error":"#N/A"},0,1,0,false,1,{"$error":"#N/A"},1,{"$error":"#N/A"},1,1,1,1,1,1,1,{"$error":"#REF!"},{"$error":"#REF!"},{"$error":"#REF!"},{"$error":"#REF!"},{"$error":"#N/A"},{"$error":"#N/A"},0,0,0,0,0,0,1,1,1,1,1,1,0,0,0,0,0,0,false,false,false,false,false,false,false,1,1,1,1,1,1,0,0,0,0,0,0,0,1,1,0,0,0,0,0]
["2013-10-01",false,"2011-08-31",false,false,{"$error":"#N/A"},0,1,0,false,1,{"$error":"#N/A"},1,{"$error":"#N/A"},1,1,1,1,1,1,1,{"$error":"#REF!"},{"$error":"#REF!"},{"$error":"#REF!"},{"$error":"#REF!"},{"$error":"#N/A"},{"$error":"#N/A"},0,0,0,0,0,0,1,1,1,1,1,1,0,0,0,0,0,0,false,false,false,false,false,false,false,1,1,1,1,1,1,0,0,0,0,0,0,0,1,1,0,0,0,0,0]
["2013-11-01",false,"2011-09-07",false,false,{"$error":"#N/A"},0,1,0,false,1,{"$error":"#N/A"},1,{"$error":"#N/A"},1,1,1,1,1,1,1,{"$error":"#REF!"},{"$error":"#REF!"},{"$error":"#REF!"},{"$error":"#REF!"},{"$error":"#N/A"},{"$error":"#N/A"},0,0,0,0,0,0,1,1,1,1,1,1,0,0,0,0,0,0,false,false,false,false,false,false,false,1,1,1,1,1,1,0,0,0,0,0,0,0,1,1,0,0,0,0,0]
["2013-12-01",false,"2011-09-14",false,false,{"$error":"#N/A"},0,1,0,false,1,{"$error":"#N/A"},1,{"$error":"#N/A"},1,1,1,1,1,1,1,{"$error":"#REF!"},{"$error":"#REF!"},{"$error":"#REF!"},{"$error":"#REF!"},{"$error":"#N/A"},{"$error":"#N/A"},0,0,0,0,0,0,1,1,1,1,1,1,0,0,0,0,0,0,false,false,false,false,false,false,false,1,1,1,1,1,1,0,0,0,0,0,0,0,1,1,0,0,0,0,0]
["2014-01-01",false,"2011-09-21",false,false,{"$error":"#N/A"},0,1,0,false,1,{"$error":"#N/A"},1,{"$error":"#N/A"},1,1,1,1,1,1,1,{"$error":"#REF!"},{"$error":"#REF!"},{"$error":"#REF!"},{"$error":"#REF!"},{"$error":"#N/A"},{"$error":"#N/A"},0,0,0,0,0,0,1,1,1,1,1,1,0,0,0,0,0,0,false,false,false,false,false,false,false,1,1,1,1,1,1,0,0,0,0,0,0,0,1,1,0,0,0,0,0]
["2014-02-01",{"$f":"IF(B778<=$D$2,EOMONTH(B778,1))","v":false},"2011-09-28",false,false,{"$f":"LOOKUP(D779,A:A,G:G)","v":{"$error":"#N/A"}},{"$f":"IFERROR(LOOKUP($A779,INDIRECT(\"'\"&G$7&\"'!A:A\"),INDIRECT(\"'\"&G$7&\"'!\"&$G$9&\":\"&$G$9)),0)","v":0},{"$f":"IF(H$8,INDEX($BN779:$BT779,H$8),1)","v":1},{"$f":"IF(ISNUMBER(F779),F779,I780)*H779","v":0},false,1,{"$error":"#N/A"},1,{"$error":"#N/A"},1,1,1,1,1,1,1,{"$f":"LOOKUP($A779,INDIRECT(\"'\"&V$5&\"'!A:A\"),INDIRECT(\"'\"&V$5&\"'!\"&V$7&\":\"&V$7))","v":{"$error":"#REF!"}},{"$error":"#REF!"},{"$error":"#REF!"},{"$error":"#REF!"},{"$error":"#N/A"},{"$error":"#N/A"},{"$f":"IF(ISNUMBER(LOOKUP($D779,$A:$A,V:V)),LOOKUP($D779,$A:$A,V:V),AB778)","v":0},{"$f":"IF(ISNUMBER(LOOKUP($D779,$A:$A,W:W)),LOOKUP($D779,$A:$A,W:W),AC778)","v":0},{"$f":"IF(ISNUMBER(LOOKUP($D779,$A:$A,X:X)),LOOKUP($D779,$A:$A,X:X),AD778)","v":0},{"$f":"IF(ISNUMBER(LOOKUP($D779,$A:$A,Y:Y)),LOOKUP($D779,$A:$A,Y:Y),AE778)","v":0},{"$f":"IF(ISNUMBER(LOOKUP($D779,$A:$A,Z:Z)),LOOKUP($D779,$A:$A,Z:Z),AF778)","v":0},{"$f":"IF(ISNUMBER(LOOKUP($D779,$A:$A,AA:AA)),LOOKUP($D779,$A:$A,AA:AA),AG778)","v":0},1,1,1,1,1,1,{"$f":"IFERROR(IF(ISNUMBER(AB779)>0.1,AB779,AN780)*AH779,AN780)","v":0},{"$f":"IFERROR(IF(ISNUMBER(AC779)>0.1,AC779,AO780)*AI779,AO780)","v":0},{"$f":"IFERROR(IF(ISNUMBER(AD779)>0.1,AD779,AP780)*AJ779,AP780)","v":0},{"$f":"IFERROR(IF(ISNUMBER(AE779)>0.1,AE779,AQ780)*AK779,AQ780)","v":0},{"$f":"IFERROR(IF(ISNUMBER(AF779)>0.1,AF779,AR780)*AL779,AR780)","v":0},{"$f":"IF(ISNUMBER(AG779)>0.1,AG779,AS780)","v":0},false,{"$f":"IF(E779,IFERROR(LN(AN779/AN778),FALSE))","v":false},{"$f":"IF(E779,IFERROR(LN(AO779/AO778),FALSE))","v":false},{"$f":"IF(E779,IFERROR(LN(AP779/AP778),FALSE))","v":false},{"$f":"IF(E779,IFERROR(LN(AQ779/AQ778),FALSE))","v":false},{"$f":"IF(E779,IFERROR(LN(AR779/AR778),FALSE))","v":false},{"$f":"IF(E779,IFERROR(LN(AS779/AS778),FALSE))","v":false},1,1,1,1,1,1,{"$f":"IFERROR(LOOKUP($A779,INDIRECT(\"'\"&BN$6&\"'!A:A\"),INDIRECT(\"'\"&BN$6&\"'!\"&BN$7&\":\"&BN$7)),0)","v":0},{"$f":"IFERROR(LOOKUP($A779,INDIRECT(\"'\"&BO$6&\"'!A:A\"),INDIRECT(\"'\"&BO$6&\"'!\"&BO$7&\":\"&BO$7)),0)","v":0},{"$f":"IFERROR(LOOKUP($A779,INDIRECT(\"'\"&BP$6&\"'!A:A\"),INDIRECT(\"'\"&BP$6&\"'!\"&BP$7&\":\"&BP$7)),0)","v":0},{"$f":"IFERROR(LOOKUP($A779,INDIRECT(\"'\"&BQ$6&\"'!A:A\"),INDIRECT(\"'\"&BQ$6&\"'!\"&BQ$7&\":\"&BQ$7)),0)","v":0},{"$f":"IFERROR(LOOKUP($A779,INDIRECT(\"'\"&BR$6&\"'!A:A\"),INDIRECT(\"'\"&BR$6&\"'!\"&BR$7&\":\"&BR$7)),0)","v":0},{"$f":"IFERROR(LOOKUP($A779,INDIRECT(\"'\"&BS$6&\"'!A:A\"),INDIRECT(\"'\"&BS$6&\"'!\"&BS$7&\":\"&BS$7)),0)","v":0},{"$f":"IFERROR(LOOKUP($A779,INDIRECT(\"'\"&BT$6&\"'!A:A\"),INDIRECT(\"'\"&BT$6&\"'!\"&BT$7&\":\"&BT$7)),0)","v":0},{"$f":"IFERROR(1/IFERROR(LOOKUP($D779,$A:$A,BG:BG)*1,0),1)","v":1},{"$f":"IFERROR(1/IFERROR(LOOKUP($D779,$A:$A,BH:BH)*1,0),1)","v":1},0,0,0,0,0]
["2014-03-01",false,{"$f":"IF(C779<=$D$2,C779+7)","v":"2011-10-05"},false,{"$f":"AND(D780>=$D$4,D779<=$D$2)","v":false},{"$error":"#N/A"},0,1,0,{"$f":"IFERROR(LN(I780/I779),FALSE)","v":false},1,{"$error":"#N/A"},1,{"$error":"#N/A"},1,1,1,1,1,1,1,{"$error":"#REF!"},{"$error":"#REF!"},{"$error":"#REF!"},{"$f":"LOOKUP($A780,INDIRECT(\"'\"&Y$5&\"'!A:A\"),INDIRECT(\"'\"&Y$5&\"'!\"&Y$7&\":\"&Y$7))","v":{"$error":"#REF!"}},{"$error":"#N/A"},{"$error":"#N/A"},0,0,0,0,0,0,1,1,1,1,1,1,0,0,0,0,0,0,false,false,false,false,false,false,false,{"$f":"IFERROR(IF($E780,BA779*AN780/AN779,1),1)","v":1},{"$f":"IFERROR(IF($E780,BB779*AO780/AO779,1),1)","v":1},{"$f":"IFERROR(IF($E780,BC779*AP780/AP779,1),1)","v":1},{"$f":"IFERROR(IF($E780,BD779*AQ780/AQ779,1),1)","v":1},{"$f":"IFERROR(IF($E780,BE779*AR780/AR779,1),1)","v":1},{"$f":"IFERROR(IF($E780,BF779*AS780/AS779,1),1)","v":1},0,0,0,0,0,0,0,1,1,{"$f":"IFERROR(LOOKUP($D780,$A:$A,BI:BI)*1,BP779)","v":0},{"$f":"IFERROR(LOOKUP($D780,$A:$A,BJ:BJ)*1,BQ779)","v":0},{"$f":"IFERROR(LOOKUP($D780,$A:$A,BK:BK)*1,BR779)","v":0},{"$f":"IFERROR(LOOKUP($D780,$A:$A,BL:BL)*1,BS779)","v":0},{"$f":"IFERROR(LOOKUP($D780,$A:$A,BM:BM)*1,BT779)","v":0}]
["2014-04-01",false,"2011-10-12",{"$f":"IF($D$6,C781,B781)","v":false},false,{"$error":"#N/A"},0,1,0,false,{"$f":"IF($E781,(K780*I781/I780),1)","v":1},{"$f":"IF(E781,D781,NA())","v":{"$error":"#N/A"}},{"$f":"CHOOSE($M$1,I781,J781,K781)","v":1},{"$f":"L781","v":{"$error":"#N/A"}},{"$f":"M781","v":1},{"$f":"IFERROR(CHOOSE($M$1,AN781,AU781,BA781),1)","v":1},{"$f":"IFERROR(CHOOSE($M$1,AO781,AV781,BB781),1)","v":1},{"$f":"IFERROR(CHOOSE($M$1,AP781,AW781,BC781),1)","v":1},{"$f":"IFERROR(CHOOSE($M$1,AQ781,AX781,BD781),1)","v":1},{"$f":"IFERROR(CHOOSE($M$1,AR781,AY781,BE781),1)","v":1},{"$f":"IFERROR(CHOOSE($M$1,AS781,AZ781,BF781),1)","v":1},{"$error":"#REF!"},{"$error":"#REF!"},{"$error":"#REF!"},{"$error":"#REF!"},{"$error":"#N/A"},{"$error":"#N/A"},0,0,0,0,0,0,1,1,1,1,1,1,0,0,0,0,0,0,{"$f":"J781","v":false},false,false,false,false,false,false,1,1,1,1,1,1,0,0,0,0,0,0,0,1,1,0,0,0,0,0]
["2014-05-01",false,"2011-10-19",false,false,{"$error":"#N/A"},0,1,0,false,1,{"$error":"#N/A"},1,{"$error":"#N/A"},1,1,1,1,1,1,1,{"$error":"#REF!"},{"$error":"#REF!"},{"$error":"#REF!"},{"$error":"#REF!"},{"$error":"#N/A"},{"$error":"#N/A"},0,0,0,0,0,0,1,1,1,1,1,1,0,0,0,0,0,0,false,false,false,false,false,false,false,1,1,1,1,1,1,0,0,0,0,0,0,0,1,1,0,0,0,0,0]
["2014-06-01",false,"2011-10-26",false,false,{"$error":"#N/A"},0,1,0,false,1,{"$error":"#N/A"},1,{"$error":"#N/A"},1,1,1,1,1,1,1,{"$error":"#REF!"},{"$error":"#REF!"},{"$error":"#REF!"},{"$error":"#REF!"},{"$error":"#N/A"},{"$error":"#N/A"},0,0,0,0,0,0,1,1,1,1,1,1,0,0,0,0,0,0,false,false,false,false,false,false,false,1,1,1,1,1,1,0,0,0,0,0,0,0,1,1,0,0,0,0,0]
["2014-07-01",false,"2011-11-02",false,false,{"$error":"#N/A"},0,1,0,false,1,{"$error":"#N/A"},1,{"$error":"#N/A"},1,1,1,1,1,1,1,{"$error":"#REF!"},{"$error":"#REF!"},{"$error":"#REF!"},{"$error":"#REF!"},{"$error":"#N/A"},{"$error":"#N/A"},0,0,0,0,0,0,1,1,1,1,1,1,0,0,0,0,0,0,false,false,false,false,false,false,false,1,1,1,1,1,1,0,0,0,0,0,0,0,1,1,0,0,0,0,0]
["2014-08-01",false,"2011-11-09",false,false,{"$error":"#N/A"},0,1,0,false,1,{"$error":"#N/A"},1,{"$error":"#N/A"},1,1,1,1,1,1,1,{"$error":"#REF!"},{"$error":"#REF!"},{"$error":"#REF!"},{"$error":"#REF!"},{"$error":"#N/A"},{"$error":"#N/A"},0,0,0,0,0,0,1,1,1,1,1,1,0,0,0,0,0,0,false,false,false,false,false,false,false,1,1,1,1,1,1,0,0,0,0,0,0,0,1,1,0,0,0,0,0]
["2014-09-01",false,"2011-11-16",false,false,{"$error":"#N/A"},0,1,0,false,1,{"$error":"#N/A"},1,{"$error":"#N/A"},1,1,1,1,1,1,1,{"$error":"#REF!"},{"$error":"#REF!"},{"$error":"#REF!"},{"$error":"#REF!"},{"$error":"#N/A"},{"$error":"#N/A"},0,0,0,0,0,0,1,1,1,1,1,1,0,0,0,0,0,0,false,false,false,false,false,false,false,1,1,1,1,1,1,0,0,0,0,0,0,0,1,1,0,0,0,0,0]
["2014-10-01",false,"2011-11-23",false,false,{"$error":"#N/A"},0,1,0,false,1,{"$error":"#N/A"},1,{"$error":"#N/A"},1,1,1,1,1,1,1,{"$error":"#REF!"},{"$error":"#REF!"},{"$error":"#REF!"},{"$error":"#REF!"},{"$error":"#N/A"},{"$error":"#N/A"},0,0,0,0,0,0,1,1,1,1,1,1,0,0,0,0,0,0,false,false,false,false,false,false,false,1,1,1,1,1,1,0,0,0,0,0,0,0,1,1,0,0,0,0,0]
["2014-11-01",false,"2011-11-30",false,false,{"$error":"#N/A"},0,1,0,false,1,{"$error":"#N/A"},1,{"$error":"#N/A"},1,1,1,1,1,1,1,{"$error":"#REF!"},{"$error":"#REF!"},{"$error":"#REF!"},{"$error":"#REF!"},{"$error":"#N/A"},{"$error":"#N/A"},0,0,0,0,0,0,1,1,1,1,1,1,0,0,0,0,0,0,false,false,false,false,false,false,false,1,1,1,1,1,1,0,0,0,0,0,0,0,1,1,0,0,0,0,0]
["2014-12-01",false,"2011-12-07",false,false,{"$error":"#N/A"},0,1,0,false,1,{"$error":"#N/A"},1,{"$error":"#N/A"},1,1,1,1,1,1,1,{"$error":"#REF!"},{"$error":"#REF!"},{"$error":"#REF!"},{"$error":"#REF!"},{"$error":"#N/A"},{"$error":"#N/A"},0,0,0,0,0,0,1,1,1,1,1,1,0,0,0,0,0,0,false,false,false,false,false,false,false,1,1,1,1,1,1,0,0,0,0,0,0,0,1,1,0,0,0,0,0]
["2015-01-01",false,"2011-12-14",false,false,{"$error":"#N/A"},0,1,0,false,1,{"$error":"#N/A"},1,{"$error":"#N/A"},1,1,1,1,1,1,1,{"$error":"#REF!"},{"$error":"#REF!"},{"$error":"#REF!"},{"$error":"#REF!"},{"$error":"#N/A"},{"$error":"#N/A"},0,0,0,0,0,0,1,1,1,1,1,1,0,0,0,0,0,0,false,false,false,false,false,false,false,1,1,1,1,1,1,0,0,0,0,0,0,0,1,1,0,0,0,0,0]
["2015-02-01",false,"2011-12-21",false,false,{"$error":"#N/A"},0,1,0,false,1,{"$error":"#N/A"},1,{"$error":"#N/A"},1,1,1,1,1,1,1,{"$error":"#REF!"},{"$error":"#REF!"},{"$error":"#REF!"},{"$error":"#REF!"},{"$error":"#N/A"},{"$error":"#N/A"},0,0,0,0,0,0,1,1,1,1,1,1,0,0,0,0,0,0,false,false,false,false,false,false,false,1,1,1,1,1,1,0,0,0,0,0,0,0,1,1,0,0,0,0,0]
["2015-03-01",false,"2011-12-28",false,false,{"$error":"#N/A"},0,1,0,false,1,{"$error":"#N/A"},1,{"$error":"#N/A"},1,1,1,1,1,1,1,{"$error":"#REF!"},{"$error":"#REF!"},{"$error":"#REF!"},{"$error":"#REF!"},{"$error":"#N/A"},{"$error":"#N/A"},0,0,0,0,0,0,1,1,1,1,1,1,0,0,0,0,0,0,false,false,false,false,false,false,false,1,1,1,1,1,1,0,0,0,0,0,0,0,1,1,0,0,0,0,0]
["2015-04-01",false,"2012-01-04",false,false,{"$error":"#N/A"},0,1,0,false,1,{"$error":"#N/A"},1,{"$error":"#N/A"},1,1,1,1,1,1,1,{"$error":"#REF!"},{"$error":"#REF!"},{"$error":"#REF!"},{"$error":"#REF!"},{"$error":"#N/A"},{"$error":"#N/A"},0,0,0,0,0,0,1,1,1,1,1,1,0,0,0,0,0,0,false,false,false,false,false,false,false,1,1,1,1,1,1,0,0,0,0,0,0,0,1,1,0,0,0,0,0]
["2015-05-01",false,"2012-01-11",false,false,{"$error":"#N/A"},0,1,0,false,1,{"$error":"#N/A"},1,{"$error":"#N/A"},1,1,1,1,1,1,1,{"$error":"#REF!"},{"$error":"#REF!"},{"$error":"#REF!"},{"$error":"#REF!"},{"$error":"#N/A"},{"$error":"#N/A"},0,0,0,0,0,0,1,1,1,1,1,1,0,0,0,0,0,0,false,false,false,false,false,false,false,1,1,1,1,1,1,0,0,0,0,0,0,0,1,1,0,0,0,0,0]
["2015-06-01",false,"2012-01-18",false,false,{"$error":"#N/A"},0,1,0,false,1,{"$error":"#N/A"},1,{"$error":"#N/A"},1,1,1,1,1,1,1,{"$error":"#REF!"},{"$error":"#REF!"},{"$error":"#REF!"},{"$error":"#REF!"},{"$error":"#N/A"},{"$error":"#N/A"},0,0,0,0,0,0,1,1,1,1,1,1,0,0,0,0,0,0,false,false,false,false,false,false,false,1,1,1,1,1,1,0,0,0,0,0,0,0,1,1,0,0,0,0,0]
["2015-07-01",false,"2012-01-25",false,false,{"$error":"#N/A"},0,1,0,false,1,{"$error":"#N/A"},1,{"$error":"#N/A"},1,1,1,1,1,1,1,{"$error":"#REF!"},{"$error":"#REF!"},{"$error":"#REF!"},{"$error":"#REF!"},{"$error":"#N/A"},{"$error":"#N/A"},0,0,0,0,0,0,1,1,1,1,1,1,0,0,0,0,0,0,false,false,false,false,false,false,false,1,1,1,1,1,1,0,0,0,0,0,0,0,1,1,0,0,0,0,0]
["2015-08-01",false,"2012-02-01",false,false,{"$error":"#N/A"},0,1,0,false,1,{"$error":"#N/A"},1,{"$error":"#N/A"},1,1,1,1,1,1,1,{"$error":"#REF!"},{"$error":"#REF!"},{"$error":"#REF!"},{"$error":"#REF!"},{"$error":"#N/A"},{"$error":"#N/A"},0,0,0,0,0,0,1,1,1,1,1,1,0,0,0,0,0,0,false,false,false,false,false,false,false,1,1,1,1,1,1,0,0,0,0,0,0,0,1,1,0,0,0,0,0]
["2015-09-01",false,"2012-02-08",false,false,{"$error":"#N/A"},0,1,0,false,1,{"$error":"#N/A"},1,{"$error":"#N/A"},1,1,1,1,1,1,1,{"$error":"#REF!"},{"$error":"#REF!"},{"$error":"#REF!"},{"$error":"#REF!"},{"$error":"#N/A"},{"$error":"#N/A"},0,0,0,0,0,0,1,1,1,1,1,1,0,0,0,0,0,0,false,false,false,false,false,false,false,1,1,1,1,1,1,0,0,0,0,0,0,0,1,1,0,0,0,0,0]
["2015-10-01",false,"2012-02-15",false,false,{"$error":"#N/A"},0,1,0,false,1,{"$error":"#N/A"},1,{"$error":"#N/A"},1,1,1,1,1,1,1,{"$error":"#REF!"},{"$error":"#REF!"},{"$error":"#REF!"},{"$error":"#REF!"},{"$error":"#N/A"},{"$error":"#N/A"},0,0,0,0,0,0,1,1,1,1,1,1,0,0,0,0,0,0,false,false,false,false,false,false,false,1,1,1,1,1,1,0,0,0,0,0,0,0,1,1,0,0,0,0,0]
["2015-11-01",false,"2012-02-22",false,false,{"$error":"#N/A"},0,1,0,false,1,{"$error":"#N/A"},1,{"$error":"#N/A"},1,1,1,1,1,1,1,{"$error":"#REF!"},{"$error":"#REF!"},{"$error":"#REF!"},{"$error":"#REF!"},{"$error":"#N/A"},{"$error":"#N/A"},0,0,0,0,0,0,1,1,1,1,1,1,0,0,0,0,0,0,false,false,false,false,false,false,false,1,1,1,1,1,1,0,0,0,0,0,0,0,1,1,0,0,0,0,0]
["2015-12-01",false,"2012-02-29",false,false,{"$error":"#N/A"},0,1,0,false,1,{"$error":"#N/A"},1,{"$error":"#N/A"},1,1,1,1,1,1,1,{"$error":"#REF!"},{"$error":"#REF!"},{"$error":"#REF!"},{"$error":"#REF!"},{"$error":"#N/A"},{"$error":"#N/A"},0,0,0,0,0,0,1,1,1,1,1,1,0,0,0,0,0,0,false,false,false,false,false,false,false,1,1,1,1,1,1,0,0,0,0,0,0,0,1,1,0,0,0,0,0]
["2016-01-01",false,"2012-03-07",false,false,{"$error":"#N/A"},0,1,0,false,1,{"$error":"#N/A"},1,{"$error":"#N/A"},1,1,1,1,1,1,1,{"$error":"#REF!"},{"$error":"#REF!"},{"$error":"#REF!"},{"$error":"#REF!"},{"$error":"#N/A"},{"$error":"#N/A"},0,0,0,0,0,0,1,1,1,1,1,1,0,0,0,0,0,0,false,false,false,false,false,false,false,1,1,1,1,1,1,0,0,0,0,0,0,0,1,1,0,0,0,0,0]
["2016-02-01",false,"2012-03-14",false,false,{"$error":"#N/A"},0,1,0,false,1,{"$error":"#N/A"},1,{"$error":"#N/A"},1,1,1,1,1,1,1,{"$error":"#REF!"},{"$error":"#REF!"},{"$error":"#REF!"},{"$error":"#REF!"},{"$error":"#N/A"},{"$error":"#N/A"},0,0,0,0,0,0,1,1,1,1,1,1,0,0,0,0,0,0,false,false,false,false,false,false,false,1,1,1,1,1,1,0,0,0,0,0,0,0,1,1,0,0,0,0,0]
["2016-03-01",false,"2012-03-21",false,false,{"$error":"#N/A"},0,1,0,false,1,{"$error":"#N/A"},1,{"$error":"#N/A"},1,1,1,1,1,1,1,{"$error":"#REF!"},{"$error":"#REF!"},{"$error":"#REF!"},{"$error":"#REF!"},{"$error":"#N/A"},{"$error":"#N/A"},0,0,0,0,0,0,1,1,1,1,1,1,0,0,0,0,0,0,false,false,false,false,false,false,false,1,1,1,1,1,1,0,0,0,0,0,0,0,1,1,0,0,0,0,0]
["2016-04-01",false,"2012-03-28",false,false,{"$error":"#N/A"},0,1,0,false,1,{"$error":"#N/A"},1,{"$error":"#N/A"},1,1,1,1,1,1,1,{"$error":"#REF!"},{"$error":"#REF!"},{"$error":"#REF!"},{"$error":"#REF!"},{"$error":"#N/A"},{"$error":"#N/A"},0,0,0,0,0,0,1,1,1,1,1,1,0,0,0,0,0,0,false,false,false,false,false,false,false,1,1,1,1,1,1,0,0,0,0,0,0,0,1,1,0,0,0,0,0]
["2016-05-01",false,"2012-04-04",false,false,{"$error":"#N/A"},0,1,0,false,1,{"$error":"#N/A"},1,{"$error":"#N/A"},1,1,1,1,1,1,1,{"$error":"#REF!"},{"$error":"#REF!"},{"$error":"#REF!"},{"$error":"#REF!"},{"$error":"#N/A"},{"$error":"#N/A"},0,0,0,0,0,0,1,1,1,1,1,1,0,0,0,0,0,0,false,false,false,false,false,false,false,1,1,1,1,1,1,0,0,0,0,0,0,0,1,1,0,0,0,0,0]
["2016-06-01",false,"2012-04-11",false,false,{"$error":"#N/A"},0,1,0,false,1,{"$error":"#N/A"},1,{"$error":"#N/A"},1,1,1,1,1,1,1,{"$error":"#REF!"},{"$error":"#REF!"},{"$error":"#REF!"},{"$error":"#REF!"},{"$error":"#N/A"},{"$error":"#N/A"},0,0,0,0,0,0,1,1,1,1,1,1,0,0,0,0,0,0,false,false,false,false,false,false,false,1,1,1,1,1,1,0,0,0,0,0,0,0,1,1,0,0,0,0,0]
["2016-07-01",false,"2012-04-18",false,false,{"$error":"#N/A"},0,1,0,false,1,{"$error":"#N/A"},1,{"$error":"#N/A"},1,1,1,1,1,1,1,{"$error":"#REF!"},{"$error":"#REF!"},{"$error":"#REF!"},{"$error":"#REF!"},{"$error":"#N/A"},{"$error":"#N/A"},0,0,0,0,0,0,1,1,1,1,1,1,0,0,0,0,0,0,false,false,false,false,false,false,false,1,1,1,1,1,1,0,0,0,0,0,0,0,1,1,0,0,0,0,0]
["2016-08-01",false,"2012-04-25",false,false,{"$error":"#N/A"},0,1,0,false,1,{"$error":"#N/A"},1,{"$error":"#N/A"},1,1,1,1,1,1,1,{"$error":"#REF!"},{"$error":"#REF!"},{"$error":"#REF!"},{"$error":"#REF!"},{"$error":"#N/A"},{"$error":"#N/A"},0,0,0,0,0,0,1,1,1,1,1,1,0,0,0,0,0,0,false,false,false,false,false,false,false,1,1,1,1,1,1,0,0,0,0,0,0,0,1,1,0,0,0,0,0]
["2016-09-01",false,"2012-05-02",false,false,{"$error":"#N/A"},0,1,0,false,1,{"$error":"#N/A"},1,{"$error":"#N/A"},1,1,1,1,1,1,1,{"$error":"#REF!"},{"$error":"#REF!"},{"$error":"#REF!"},{"$error":"#REF!"},{"$error":"#N/A"},{"$error":"#N/A"},0,0,0,0,0,0,1,1,1,1,1,1,0,0,0,0,0,0,false,false,false,false,false,false,false,1,1,1,1,1,1,0,0,0,0,0,0,0,1,1,0,0,0,0,0]
["2016-10-01",false,"2012-05-09",false,false,{"$error":"#N/A"},0,1,0,false,1,{"$error":"#N/A"},1,{"$error":"#N/A"},1,1,1,1,1,1,1,{"$error":"#REF!"},{"$error":"#REF!"},{"$error":"#REF!"},{"$error":"#REF!"},{"$error":"#N/A"},{"$error":"#N/A"},0,0,0,0,0,0,1,1,1,1,1,1,0,0,0,0,0,0,false,false,false,false,false,false,false,1,1,1,1,1,1,0,0,0,0,0,0,0,1,1,0,0,0,0,0]
["2016-11-01",false,"2012-05-16",false,false,{"$error":"#N/A"},0,1,0,false,1,{"$error":"#N/A"},1,{"$error":"#N/A"},1,1,1,1,1,1,1,{"$error":"#REF!"},{"$error":"#REF!"},{"$error":"#REF!"},{"$error":"#REF!"},{"$error":"#N/A"},{"$error":"#N/A"},0,0,0,0,0,0,1,1,1,1,1,1,0,0,0,0,0,0,false,false,false,false,false,false,false,1,1,1,1,1,1,0,0,0,0,0,0,0,1,1,0,0,0,0,0]
["2016-12-01",false,"2012-05-23",false,false,{"$error":"#N/A"},0,1,0,false,1,{"$error":"#N/A"},1,{"$error":"#N/A"},1,1,1,1,1,1,1,{"$error":"#REF!"},{"$error":"#REF!"},{"$error":"#REF!"},{"$error":"#REF!"},{"$error":"#N/A"},{"$error":"#N/A"},0,0,0,0,0,0,{"$f":"IF(AH$7,INDEX($BN813:$BT813,AH$7),1)","v":1},1,1,1,1,1,0,0,0,0,0,0,false,false,false,false,false,false,false,1,1,1,1,1,1,0,0,0,0,0,0,0,1,1,0,0,0,0,0]
["2017-01-01",false,"2012-05-30",false,false,{"$error":"#N/A"},0,1,0,false,1,{"$error":"#N/A"},1,{"$error":"#N/A"},1,1,1,1,1,1,1,{"$error":"#REF!"},{"$error":"#REF!"},{"$error":"#REF!"},{"$error":"#REF!"},{"$error":"#N/A"},{"$error":"#N/A"},0,0,0,0,0,0,1,1,1,1,1,1,0,0,0,0,0,0,false,false,false,false,false,false,false,1,1,1,1,1,1,0,0,0,0,0,0,0,1,1,0,0,0,0,0]
["2017-02-01",false,"2012-06-06",false,false,{"$error":"#N/A"},0,1,0,false,1,{"$error":"#N/A"},1,{"$error":"#N/A"},1,1,1,1,1,1,1,{"$error":"#REF!"},{"$error":"#REF!"},{"$error":"#REF!"},{"$error":"#REF!"},{"$error":"#N/A"},{"$error":"#N/A"},0,0,0,0,0,0,1,1,1,1,1,1,0,0,0,0,0,0,false,false,false,false,false,false,false,1,1,1,1,1,1,0,0,0,0,0,0,0,1,1,0,0,0,0,0]
["2017-03-01",false,"2012-06-13",false,false,{"$error":"#N/A"},0,1,0,false,1,{"$error":"#N/A"},1,{"$error":"#N/A"},1,1,1,1,1,1,1,{"$error":"#REF!"},{"$error":"#REF!"},{"$error":"#REF!"},{"$error":"#REF!"},{"$error":"#N/A"},{"$error":"#N/A"},0,0,0,0,0,0,1,1,1,1,1,1,0,0,0,0,0,0,false,false,false,false,false,false,false,1,1,1,1,1,1,0,0,0,0,0,0,0,1,1,0,0,0,0,0]
["2017-04-01",false,"2012-06-20",false,false,{"$error":"#N/A"},0,1,0,false,1,{"$error":"#N/A"},1,{"$error":"#N/A"},1,1,1,1,1,1,1,{"$error":"#REF!"},{"$error":"#REF!"},{"$error":"#REF!"},{"$error":"#REF!"},{"$error":"#N/A"},{"$error":"#N/A"},0,0,0,0,0,0,1,1,1,1,1,1,0,0,0,0,0,0,false,false,false,false,false,false,false,1,1,1,1,1,1,0,0,0,0,0,0,0,1,1,0,0,0,0,0]
["2017-05-01",false,"2012-06-27",false,false,{"$error":"#N/A"},0,1,0,false,1,{"$error":"#N/A"},1,{"$error":"#N/A"},1,1,1,1,1,1,1,{"$error":"#REF!"},{"$error":"#REF!"},{"$error":"#REF!"},{"$error":"#REF!"},{"$error":"#N/A"},{"$error":"#N/A"},0,0,0,0,0,0,1,1,1,1,1,1,0,0,0,0,0,0,false,false,false,false,false,false,false,1,1,1,1,1,1,0,0,0,0,0,0,0,1,1,0,0,0,0,0]
["2017-06-01",false,"2012-07-04",false,false,{"$error":"#N/A"},0,1,0,false,1,{"$error":"#N/A"},1,{"$error":"#N/A"},1,1,1,1,1,1,1,{"$error":"#REF!"},{"$error":"#REF!"},{"$error":"#REF!"},{"$error":"#REF!"},{"$error":"#N/A"},{"$error":"#N/A"},0,0,0,0,0,0,1,1,1,1,1,1,0,0,0,0,0,0,false,false,false,false,false,false,false,1,1,1,1,1,1,0,0,0,0,0,0,0,1,1,0,0,0,0,0]
["2017-07-01",false,"2012-07-11",false,false,{"$error":"#N/A"},0,1,0,false,1,{"$error":"#N/A"},1,{"$error":"#N/A"},1,1,1,1,1,1,1,{"$error":"#REF!"},{"$error":"#REF!"},{"$error":"#REF!"},{"$error":"#REF!"},{"$error":"#N/A"},{"$error":"#N/A"},0,0,0,0,0,0,1,1,1,1,1,1,0,0,0,0,0,0,false,false,false,false,false,false,false,1,1,1,1,1,1,0,0,0,0,0,0,0,1,1,0,0,0,0,0]
["2017-08-01",false,"2012-07-18",false,false,{"$error":"#N/A"},0,1,0,false,1,{"$error":"#N/A"},1,{"$error":"#N/A"},1,1,1,1,1,1,1,{"$error":"#REF!"},{"$error":"#REF!"},{"$error":"#REF!"},{"$error":"#REF!"},{"$error":"#N/A"},{"$error":"#N/A"},0,0,0,0,0,0,1,1,1,1,1,1,0,0,0,0,0,0,false,false,false,false,false,false,false,1,1,1,1,1,1,0,0,0,0,0,0,0,1,1,0,0,0,0,0]
["2017-09-01",false,"2012-07-25",false,false,{"$error":"#N/A"},0,1,0,false,1,{"$error":"#N/A"},1,{"$error":"#N/A"},1,1,1,1,1,1,1,{"$error":"#REF!"},{"$error":"#REF!"},{"$error":"#REF!"},{"$error":"#REF!"},{"$error":"#N/A"},{"$error":"#N/A"},0,0,0,0,0,0,1,1,1,{"$f":"IF(AK$7,INDEX($BN822:$BT822,AK$7),1)","v":1},1,1,0,0,0,0,0,0,false,false,false,false,false,false,false,1,1,1,1,1,1,0,0,0,0,0,0,0,1,1,0,0,0,0,0]
["2017-10-01",false,"2012-08-01",false,false,{"$error":"#N/A"},0,1,0,false,1,{"$error":"#N/A"},1,{"$error":"#N/A"},1,1,1,1,1,1,1,{"$error":"#REF!"},{"$error":"#REF!"},{"$error":"#REF!"},{"$error":"#REF!"},{"$error":"#N/A"},{"$error":"#N/A"},0,0,0,0,0,0,1,1,1,1,1,1,0,0,0,0,0,0,false,false,false,false,false,false,false,1,1,1,1,1,1,0,0,0,0,0,0,0,1,1,0,0,0,0,0]
["2017-11-01",false,"2012-08-08",false,false,{"$error":"#N/A"},0,1,0,false,1,{"$error":"#N/A"},1,{"$error":"#N/A"},1,1,1,1,1,1,1,{"$error":"#REF!"},{"$error":"#REF!"},{"$error":"#REF!"},{"$error":"#REF!"},{"$error":"#N/A"},{"$error":"#N/A"},0,0,0,0,0,0,1,1,1,1,1,1,0,0,0,0,0,0,false,false,false,false,false,false,false,1,1,1,1,1,1,0,0,0,0,0,0,0,1,1,0,0,0,0,0]
["2017-12-01",false,"2012-08-15",false,false,{"$error":"#N/A"},0,1,0,false,1,{"$error":"#N/A"},1,{"$error":"#N/A"},1,1,1,1,1,1,1,{"$error":"#REF!"},{"$error":"#REF!"},{"$error":"#REF!"},{"$error":"#REF!"},{"$error":"#N/A"},{"$error":"#N/A"},0,0,0,0,0,0,1,1,1,1,1,1,0,0,0,0,0,0,false,false,false,false,false,false,false,1,1,1,1,1,1,0,0,0,0,0,0,0,1,1,0,0,0,0,0]
["2018-01-01",false,"2012-08-22",false,false,{"$error":"#N/A"},0,1,0,false,1,{"$error":"#N/A"},1,{"$error":"#N/A"},1,1,1,1,1,1,1,{"$error":"#REF!"},{"$error":"#REF!"},{"$error":"#REF!"},{"$error":"#REF!"},{"$error":"#N/A"},{"$error":"#N/A"},0,0,0,0,0,0,1,1,1,1,1,1,0,0,0,0,0,0,false,false,false,false,false,false,false,1,1,1,1,1,1,0,0,0,0,0,0,0,1,1,0,0,0,0,0]
["2018-02-01",false,"2012-08-29",false,false,{"$error":"#N/A"},0,1,0,false,1,{"$error":"#N/A"},1,{"$error":"#N/A"},1,1,1,1,1,1,1,{"$error":"#REF!"},{"$error":"#REF!"},{"$error":"#REF!"},{"$error":"#REF!"},{"$error":"#N/A"},{"$error":"#N/A"},0,0,0,0,0,0,1,1,1,1,1,1,0,0,0,0,0,0,false,false,false,false,false,false,false,1,1,1,1,1,1,0,0,0,0,0,0,0,1,1,0,0,0,0,0]
["2018-03-01",false,"2012-09-05",false,false,{"$error":"#N/A"},0,1,0,false,1,{"$error":"#N/A"},1,{"$error":"#N/A"},1,1,1,1,1,1,1,{"$error":"#REF!"},{"$error":"#REF!"},{"$error":"#REF!"},{"$error":"#REF!"},{"$error":"#N/A"},{"$error":"#N/A"},0,0,0,0,0,0,1,1,1,1,1,1,0,0,0,0,0,0,false,false,false,false,false,false,false,1,1,1,1,1,1,0,0,0,0,0,0,0,1,1,0,0,0,0,0]
["2018-04-01",false,"2012-09-12",false,false,{"$error":"#N/A"},0,1,0,false,1,{"$error":"#N/A"},1,{"$error":"#N/A"},1,1,1,1,1,1,1,{"$error":"#REF!"},{"$error":"#REF!"},{"$error":"#REF!"},{"$error":"#REF!"},{"$error":"#N/A"},{"$error":"#N/A"},0,0,0,0,0,0,1,1,1,1,1,1,0,0,0,0,0,0,false,false,false,false,false,false,false,1,1,1,1,1,1,0,0,0,0,0,0,0,1,1,0,0,0,0,0]
["2018-05-01",false,"2012-09-19",false,false,{"$error":"#N/A"},0,1,0,false,1,{"$error":"#N/A"},1,{"$error":"#N/A"},1,1,1,1,1,1,1,{"$error":"#REF!"},{"$error":"#REF!"},{"$error":"#REF!"},{"$error":"#REF!"},{"$error":"#N/A"},{"$error":"#N/A"},0,0,0,0,0,0,1,1,1,1,1,1,0,0,0,0,0,0,false,false,false,false,false,false,false,1,1,1,1,1,1,0,0,0,0,0,0,0,1,1,0,0,0,0,0]
["2018-06-01",false,"2012-09-26",false,false,{"$error":"#N/A"},0,1,0,false,1,{"$error":"#N/A"},1,{"$error":"#N/A"},1,1,1,1,1,1,1,{"$error":"#REF!"},{"$error":"#REF!"},{"$error":"#REF!"},{"$f":"LOOKUP($A831,INDIRECT(\"'\"&Y$5&\"'!A:A\"),INDIRECT(\"'\"&Y$5&\"'!\"&Y$7&\":\"&Y$7))","v":{"$error":"#REF!"}},{"$error":"#N/A"},{"$error":"#N/A"},0,0,0,0,0,0,1,1,1,1,1,1,0,0,0,0,0,0,false,false,false,false,false,false,false,1,1,1,1,1,1,0,0,0,0,0,0,0,1,1,0,0,0,0,0]
["2018-07-01",false,"2012-10-03",false,false,{"$error":"#N/A"},0,1,0,false,1,{"$error":"#N/A"},1,{"$error":"#N/A"},1,1,1,1,1,1,1,{"$error":"#REF!"},{"$error":"#REF!"},{"$error":"#REF!"},{"$error":"#REF!"},{"$error":"#N/A"},{"$error":"#N/A"},0,0,0,0,0,0,1,1,1,1,1,1,0,0,0,0,0,0,false,false,false,false,false,false,false,1,1,1,1,1,1,0,0,0,0,0,0,0,1,1,0,0,0,0,0]
[null,false,"2012-10-10",false,false,{"$error":"#N/A"},0,1,0,false,1,{"$error":"#N/A"},1,{"$error":"#N/A"},1,1,1,1,1,1,1,{"$error":"#REF!"},{"$error":"#REF!"},{"$error":"#REF!"},{"$error":"#REF!"},{"$error":"#N/A"},{"$error":"#N/A"},0,0,0,0,0,0,1,1,1,1,1,1,0,0,0,0,0,0,false,false,false,false,false,false,false,1,1,1,1,1,1,0,0,0,0,0,0,0,1,1,0,0,0,0,0]
[null,false,"2012-10-17",false,false,{"$error":"#N/A"},0,1,0,false,1,{"$error":"#N/A"},1,{"$error":"#N/A"},1,1,1,1,1,1,1,{"$error":"#REF!"},{"$error":"#REF!"},{"$error":"#REF!"},{"$error":"#REF!"},{"$error":"#N/A"},{"$error":"#N/A"},0,0,0,0,0,0,1,1,1,1,1,1,0,0,0,0,0,0,false,false,false,false,false,false,false,1,1,1,1,1,1,0,0,0,0,0,0,0,1,1,0,0,0,0,0]
[null,false,"2012-10-24",false,false,{"$error":"#N/A"},0,1,0,false,1,{"$error":"#N/A"},1,{"$error":"#N/A"},1,1,1,1,1,1,1,{"$error":"#REF!"},{"$error":"#REF!"},{"$error":"#REF!"},{"$error":"#REF!"},{"$error":"#N/A"},{"$error":"#N/A"},0,0,0,0,0,0,1,1,1,1,1,1,0,0,0,0,0,0,false,false,false,false,false,false,false,1,1,1,1,1,1,0,0,0,0,0,0,0,1,1,0,0,0,0,0]
[null,false,"2012-10-31",false,false,{"$error":"#N/A"},0,1,0,false,1,{"$error":"#N/A"},1,{"$error":"#N/A"},1,1,1,1,1,1,1,{"$error":"#REF!"},{"$error":"#REF!"},{"$error":"#REF!"},{"$error":"#REF!"},{"$error":"#N/A"},{"$error":"#N/A"},0,0,0,0,0,0,1,1,1,1,1,1,0,0,0,0,0,0,false,false,false,false,false,false,false,1,1,1,1,1,1,0,0,0,0,0,0,0,1,1,0,0,0,0,0]
[null,false,"2012-11-07",false,false,{"$error":"#N/A"},0,1,0,false,1,{"$error":"#N/A"},1,{"$error":"#N/A"},1,1,1,1,1,1,1,{"$error":"#REF!"},{"$error":"#REF!"},{"$error":"#REF!"},{"$error":"#REF!"},{"$error":"#N/A"},{"$error":"#N/A"},0,0,0,0,0,0,1,1,1,1,1,1,0,0,0,0,0,0,false,false,false,false,false,false,false,1,1,1,1,1,1,0,0,0,0,0,0,0,1,1,0,0,0,0,0]
[null,false,"2012-11-14",{"$f":"IF($D$6,C838,B838)","v":false},false,{"$f":"LOOKUP(D838,A:A,G:G)","v":{"$error":"#N/A"}},0,1,{"$f":"IF(ISNUMBER(F838),F838,I839)*H838","v":0},{"$f":"IFERROR(LN(I838/I837),FALSE)","v":false},{"$f":"IF($E838,(K837*I838/I837),1)","v":1},{"$f":"IF(E838,D838,NA())","v":{"$error":"#N/A"}},{"$f":"CHOOSE($M$1,I838,J838,K838)","v":1},{"$f":"L838","v":{"$error":"#N/A"}},{"$f":"M838","v":1},{"$f":"IFERROR(CHOOSE($M$1,AN838,AU838,BA838),1)","v":1},{"$f":"IFERROR(CHOOSE($M$1,AO838,AV838,BB838),1)","v":1},{"$f":"IFERROR(CHOOSE($M$1,AP838,AW838,BC838),1)","v":1},{"$f":"IFERROR(CHOOSE($M$1,AQ838,AX838,BD838),1)","v":1},{"$f":"IFERROR(CHOOSE($M$1,AR838,AY838,BE838),1)","v":1},{"$f":"IFERROR(CHOOSE($M$1,AS838,AZ838,BF838),1)","v":1},{"$error":"#REF!"},{"$error":"#REF!"},{"$error":"#REF!"},{"$error":"#REF!"},{"$error":"#N/A"},{"$error":"#N/A"},0,0,0,0,0,0,1,1,1,1,1,1,{"$f":"IFERROR(IF(ISNUMBER(AB838)>0.1,AB838,AN839)*AH838,AN839)","v":0},{"$f":"IFERROR(IF(ISNUMBER(AC838)>0.1,AC838,AO839)*AI838,AO839)","v":0},{"$f":"IFERROR(IF(ISNUMBER(AD838)>0.1,AD838,AP839)*AJ838,AP839)","v":0},{"$f":"IFERROR(IF(ISNUMBER(AE838)>0.1,AE838,AQ839)*AK838,AQ839)","v":0},{"$f":"IFERROR(IF(ISNUMBER(AF838)>0.1,AF838,AR839)*AL838,AR839)","v":0},{"$f":"IF(ISNUMBER(AG838)>0.1,AG838,AS839)","v":0},{"$f":"J838","v":false},false,false,false,false,false,false,{"$f":"IFERROR(IF($E838,BA837*AN838/AN837,1),1)","v":1},{"$f":"IFERROR(IF($E838,BB837*AO838/AO837,1),1)","v":1},{"$f":"IFERROR(IF($E838,BC837*AP838/AP837,1),1)","v":1},{"$f":"IFERROR(IF($E838,BD837*AQ838/AQ837,1),1)","v":1},{"$f":"IFERROR(IF($E838,BE837*AR838/AR837,1),1)","v":1},{"$f":"IFERROR(IF($E838,BF837*AS838/AS837,1),1)","v":1},{"$f":"IFERROR(LOOKUP($A838,INDIRECT(\"'\"&BN$6&\"'!A:A\"),INDIRECT(\"'\"&BN$6&\"'!\"&BN$7&\":\"&BN$7)),0)","v":0},{"$f":"IFERROR(LOOKUP($A838,INDIRECT(\"'\"&BO$6&\"'!A:A\"),INDIRECT(\"'\"&BO$6&\"'!\"&BO$7&\":\"&BO$7)),0)","v":0},{"$f":"IFERROR(LOOKUP($A838,INDIRECT(\"'\"&BP$6&\"'!A:A\"),INDIRECT(\"'\"&BP$6&\"'!\"&BP$7&\":\"&BP$7)),0)","v":0},{"$f":"IFERROR(LOOKUP($A838,INDIRECT(\"'\"&BQ$6&\"'!A:A\"),INDIRECT(\"'\"&BQ$6&\"'!\"&BQ$7&\":\"&BQ$7)),0)","v":0},{"$f":"IFERROR(LOOKUP($A838,INDIRECT(\"'\"&BR$6&\"'!A:A\"),INDIRECT(\"'\"&BR$6&\"'!\"&BR$7&\":\"&BR$7)),0)","v":0},{"$f":"IFERROR(LOOKUP($A838,INDIRECT(\"'\"&BS$6&\"'!A:A\"),INDIRECT(\"'\"&BS$6&\"'!\"&BS$7&\":\"&BS$7)),0)","v":0},{"$f":"IFERROR(LOOKUP($A838,INDIRECT(\"'\"&BT$6&\"'!A:A\"),INDIRECT(\"'\"&BT$6&\"'!\"&BT$7&\":\"&BT$7)),0)","v":0},{"$f":"IFERROR(1/IFERROR(LOOKUP($D838,$A:$A,BG:BG)*1,0),1)","v":1},{"$f":"IFERROR(1/IFERROR(LOOKUP($D838,$A:$A,BH:BH)*1,0),1)","v":1},{"$f":"IFERROR(LOOKUP($D838,$A:$A,BI:BI)*1,BP837)","v":0},{"$f":"IFERROR(LOOKUP($D838,$A:$A,BJ:BJ)*1,BQ837)","v":0},{"$f":"IFERROR(LOOKUP($D838,$A:$A,BK:BK)*1,BR837)","v":0},{"$f":"IFERROR(LOOKUP($D838,$A:$A,BL:BL)*1,BS837)","v":0},{"$f":"IFERROR(LOOKUP($D838,$A:$A,BM:BM)*1,BT837)","v":0}]
[null,false,"2012-11-21",false,false,{"$error":"#N/A"},0,1,0,false,1,{"$error":"#N/A"},1,{"$error":"#N/A"},1,1,1,1,1,1,1,{"$f":"LOOKUP($A839,INDIRECT(\"'\"&V$5&\"'!A:A\"),INDIRECT(\"'\"&V$5&\"'!\"&V$7&\":\"&V$7))","v":{"$error":"#REF!"}},{"$error":"#REF!"},{"$error":"#REF!"},{"$error":"#REF!"},{"$error":"#N/A"},{"$error":"#N/A"},0,0,0,0,0,0,1,1,1,1,1,1,0,0,0,0,0,0,false,false,false,false,false,false,false,1,1,1,1,1,1,0,0,0,0,0,0,0,1,1,0,0,0,0,0]
[null,false,"2012-11-28",false,false,{"$error":"#N/A"},0,1,0,false,1,{"$error":"#N/A"},1,{"$error":"#N/A"},1,1,1,1,1,1,1,{"$error":"#REF!"},{"$error":"#REF!"},{"$error":"#REF!"},{"$error":"#REF!"},{"$error":"#N/A"},{"$error":"#N/A"},0,0,0,0,0,0,{"$f":"IF(AH$7,INDEX($BN840:$BT840,AH$7),1)","v":1},1,1,1,1,1,0,0,0,0,0,0,false,false,false,false,false,false,false,1,1,1,1,1,1,0,0,0,0,0,0,0,1,1,0,0,0,0,0]
[null,false,"2012-12-05",false,false,{"$error":"#N/A"},0,1,0,false,1,{"$error":"#N/A"},1,{"$error":"#N/A"},1,1,1,1,1,1,1,{"$error":"#REF!"},{"$error":"#REF!"},{"$error":"#REF!"},{"$error":"#REF!"},{"$error":"#N/A"},{"$error":"#N/A"},0,0,0,0,0,0,1,1,1,1,1,1,0,0,0,0,0,0,false,false,false,false,false,false,false,1,1,1,1,1,1,0,0,0,0,0,0,0,1,1,0,0,0,0,0]
[null,false,"2012-12-12",false,false,{"$error":"#N/A"},0,1,0,false,1,{"$error":"#N/A"},1,{"$error":"#N/A"},1,1,1,1,1,1,1,{"$error":"#REF!"},{"$error":"#REF!"},{"$error":"#REF!"},{"$error":"#REF!"},{"$error":"#N/A"},{"$error":"#N/A"},0,0,0,0,0,0,1,1,1,1,1,1,0,0,0,0,0,0,false,false,false,false,false,false,false,1,1,1,1,1,1,0,0,0,0,0,0,0,1,1,0,0,0,0,0]
[null,{"$f":"IF(B842<=$D$2,EOMONTH(B842,1))","v":false},"2012-12-19",false,false,{"$error":"#N/A"},{"$f":"IFERROR(LOOKUP($A843,INDIRECT(\"'\"&G$7&\"'!A:A\"),INDIRECT(\"'\"&G$7&\"'!\"&$G$9&\":\"&$G$9)),0)","v":0},{"$f":"IF(H$8,INDEX($BN843:$BT843,H$8),1)","v":1},0,false,1,{"$error":"#N/A"},1,{"$error":"#N/A"},1,1,1,1,1,1,1,{"$error":"#REF!"},{"$error":"#REF!"},{"$error":"#REF!"},{"$error":"#REF!"},{"$error":"#N/A"},{"$error":"#N/A"},{"$f":"IF(ISNUMBER(LOOKUP($D843,$A:$A,V:V)),LOOKUP($D843,$A:$A,V:V),AB842)","v":0},{"$f":"IF(ISNUMBER(LOOKUP($D843,$A:$A,W:W)),LOOKUP($D843,$A:$A,W:W),AC842)","v":0},{"$f":"IF(ISNUMBER(LOOKUP($D843,$A:$A,X:X)),LOOKUP($D843,$A:$A,X:X),AD842)","v":0},{"$f":"IF(ISNUMBER(LOOKUP($D843,$A:$A,Y:Y)),LOOKUP($D843,$A:$A,Y:Y),AE842)","v":0},{"$f":"IF(ISNUMBER(LOOKUP($D843,$A:$A,Z:Z)),LOOKUP($D843,$A:$A,Z:Z),AF842)","v":0},{"$f":"IF(ISNUMBER(LOOKUP($D843,$A:$A,AA:AA)),LOOKUP($D843,$A:$A,AA:AA),AG842)","v":0},1,1,1,1,1,1,0,0,0,0,0,0,false,{"$f":"IF(E843,IFERROR(LN(AN843/AN842),FALSE))","v":false},{"$f":"IF(E843,IFERROR(LN(AO843/AO842),FALSE))","v":false},{"$f":"IF(E843,IFERROR(LN(AP843/AP842),FALSE))","v":false},{"$f":"IF(E843,IFERROR(LN(AQ843/AQ842),FALSE))","v":false},{"$f":"IF(E843,IFERROR(LN(AR843/AR842),FALSE))","v":false},{"$f":"IF(E843,IFERROR(LN(AS843/AS842),FALSE))","v":false},1,1,1,1,1,1,0,0,0,0,0,0,0,1,1,0,0,0,0,0]
[null,false,{"$f":"IF(C843<=$D$2,C843+7)","v":"2012-12-26"},false,{"$f":"AND(D844>=$D$4,D843<=$D$2)","v":false},{"$error":"#N/A"},0,1,0,false,1,{"$error":"#N/A"},1,{"$error":"#N/A"},1,1,1,1,1,1,1,{"$error":"#REF!"},{"$error":"#REF!"},{"$error":"#REF!"},{"$error":"#REF!"},{"$error":"#N/A"},{"$error":"#N/A"},0,0,0,0,0,0,1,1,1,1,1,1,0,0,0,0,0,0,false,false,false,false,false,false,false,1,1,1,1,1,1,0,0,0,0,0,0,0,1,1,0,0,0,0,0]
[null,false,"2013-01-02",false,false,{"$error":"#N/A"},0,1,0,false,1,{"$error":"#N/A"},1,{"$error":"#N/A"},1,1,1,1,1,1,1,{"$error":"#REF!"},{"$error":"#REF!"},{"$error":"#REF!"},{"$error":"#REF!"},{"$error":"#N/A"},{"$error":"#N/A"},0,0,0,0,0,0,1,1,1,1,1,1,0,0,0,0,0,0,false,false,false,false,false,false,false,1,1,1,1,1,1,0,0,0,0,0,0,0,1,1,0,0,0,0,0]
[null,false,"2013-01-09",false,false,{"$error":"#N/A"},0,1,0,false,1,{"$error":"#N/A"},1,{"$error":"#N/A"},1,1,1,1,1,1,1,{"$error":"#REF!"},{"$error":"#REF!"},{"$error":"#REF!"},{"$error":"#REF!"},{"$error":"#N/A"},{"$error":"#N/A"},0,0,0,0,0,0,1,1,1,1,1,1,0,0,0,0,0,0,false,false,false,false,false,false,false,1,1,1,1,1,1,0,0,0,0,0,0,0,1,1,0,0,0,0,0]
[null,false,"2013-01-16",false,false,{"$error":"#N/A"},0,1,0,false,1,{"$error":"#N/A"},1,{"$error":"#N/A"},1,1,1,1,1,1,1,{"$error":"#REF!"},{"$error":"#REF!"},{"$error":"#REF!"},{"$error":"#REF!"},{"$error":"#N/A"},{"$error":"#N/A"},0,0,0,0,0,0,1,1,1,1,1,1,0,0,0,0,0,0,false,false,false,false,false,false,false,1,1,1,1,1,1,0,0,0,0,0,0,0,1,1,0,0,0,0,0]
[null,false,"2013-01-23",false,false,{"$error":"#N/A"},0,1,0,false,1,{"$error":"#N/A"},1,{"$error":"#N/A"},1,1,1,1,1,1,1,{"$error":"#REF!"},{"$error":"#REF!"},{"$error":"#REF!"},{"$error":"#REF!"},{"$error":"#N/A"},{"$error":"#N/A"},0,0,0,0,0,0,1,1,1,1,1,1,0,0,0,0,0,0,false,false,false,false,false,false,false,1,1,1,1,1,1,0,0,0,0,0,0,0,1,1,0,0,0,0,0]
[null,false,"2013-01-30",false,false,{"$error":"#N/A"},0,1,0,false,1,{"$error":"#N/A"},1,{"$error":"#N/A"},1,1,1,1,1,1,1,{"$error":"#REF!"},{"$error":"#REF!"},{"$error":"#REF!"},{"$error":"#REF!"},{"$error":"#N/A"},{"$error":"#N/A"},0,0,0,0,0,0,1,1,1,1,1,1,0,0,0,0,0,0,false,false,false,false,false,false,false,1,1,1,1,1,1,0,0,0,0,0,0,0,1,1,0,0,0,0,0]
[null,false,"2013-02-06",false,false,{"$error":"#N/A"},0,1,0,false,1,{"$error":"#N/A"},1,{"$error":"#N/A"},1,1,1,1,1,1,1,{"$error":"#REF!"},{"$error":"#REF!"},{"$error":"#REF!"},{"$error":"#REF!"},{"$error":"#N/A"},{"$error":"#N/A"},0,0,0,0,0,0,1,1,1,1,1,1,0,0,0,0,0,0,false,false,false,false,false,false,false,1,1,1,1,1,1,0,0,0,0,0,0,0,1,1,0,0,0,0,0]
[null,false,"2013-02-13",false,false,{"$error":"#N/A"},0,1,0,false,1,{"$error":"#N/A"},1,{"$error":"#N/A"},1,1,1,1,1,1,1,{"$error":"#REF!"},{"$error":"#REF!"},{"$error":"#REF!"},{"$error":"#REF!"},{"$error":"#N/A"},{"$error":"#N/A"},0,0,0,0,0,0,1,1,1,1,1,1,0,0,0,0,0,0,false,false,false,false,false,false,false,1,1,1,1,1,1,0,0,0,0,0,0,0,1,1,0,0,0,0,0]
[null,false,"2013-02-20",false,false,{"$error":"#N/A"},0,1,0,false,1,{"$error":"#N/A"},1,{"$error":"#N/A"},1,1,1,1,1,1,1,{"$error":"#REF!"},{"$error":"#REF!"},{"$error":"#REF!"},{"$error":"#REF!"},{"$error":"#N/A"},{"$error":"#N/A"},0,0,0,0,0,0,1,1,1,1,1,1,0,0,0,0,0,0,false,false,false,false,false,false,false,1,1,1,1,1,1,0,0,0,0,0,0,0,1,1,0,0,0,0,0]
[null,false,"2013-02-27",false,false,{"$error":"#N/A"},0,1,0,false,1,{"$error":"#N/A"},1,{"$error":"#N/A"},1,1,1,1,1,1,1,{"$error":"#REF!"},{"$error":"#REF!"},{"$error":"#REF!"},{"$error":"#REF!"},{"$error":"#N/A"},{"$error":"#N/A"},0,0,0,0,0,0,1,1,1,1,1,1,0,0,0,0,0,0,false,false,false,false,false,false,false,1,1,1,1,1,1,0,0,0,0,0,0,0,1,1,0,0,0,0,0]

{"sheet":"Yahoo Index","index":4,"n_rows":83,"n_cols":26,"rows_kept":83,"cut":false,"hidden":false,"merged":[]}
[]
["URL to Read Yahoo with WEBREQUEST"]
[]
[null,null,"yahoo index url",{"$f":"D25","v":"https://query1.finance.yahoo.com/v7/finance/download/0?period1=-631152000&period2=1535414400&interval=1mo&events=history&crumb=sQ0BVwitYk5"}]
[null,null,"Fixed","https://query1.finance.yahoo.com/v7/finance/download/GE?period1=-631152000&period2=1510444800&interval=1wk&events=history&crumb=icbgE5Cs2YY"]
[]
[null,null,"Yahoo Index Ticker",2,{"$f":"Google_Ticker","v":0}]
[null,null,"Total Tickers From Count",{"$f":"COUNTA(D55:D148)","v":0}]
[]
[null,null,null,null,null,null,null,null,null,null,null,null,null,null,null,null,null,null,null,null,null,null,null,null,1,"TGfSWDsZJYT"]
[null,null,null,null,null,null,null,null,null,null,null,null,null,null,null,null,null,null,null,null,null,null,null,null,2,"CQ6.CdbO7Vs"]
["Putting Together the URL for WEBREQUEST",null,null,null,null,null,null,null,null,null,null,null,null,null,null,null,null,null,null,null,null,null,null,null,3,"O8FSIw42rxF"]
[null,null,null,null,null,null,null,null,null,null,null,null,null,null,null,null,null,null,null,null,null,null,null,null,4,"CSlGI2sdBG0"]
[null,null,"Part 1","https://query1.finance.yahoo.com/v7/finance/download/",null,null,null,null,null,null,null,null,null,null,null,null,null,null,null,null,null,null,null,null,5,"XqOSmY3l4xa"]
[null,null,"Symbol",{"$f":"Google_Ticker","v":0},null,null,null,null,null,null,null,null,null,null,null,null,null,null,null,null,null,null,null,null,null,"bZ13SIJ1ujV"]
[null,null,"Part 2","?period1=",null,null,null,null,null,null,null,null,null,null,null,null,null,null,null,null,null,null,null,null,null,"eifZc4X.5c9"]
[null,null,"Start Date",{"$f":"D29","v":-631152000},null,null,null,null,null,null,null,null,null,null,null,null,null,null,null,null,null,null,null,null,null,"o5GkgmuQPjR"]
[null,null,"Part 3","&period2=",null,null,null,null,null,null,null,null,null,null,null,null,null,null,null,null,null,null,null,null,6,"atAaPiixhv3"]
[null,null,"End Date",{"$f":"D28","v":1535414400},null,null,null,null,null,null,null,null,null,null,null,null,null,null,null,null,null,null,null,null,7,"HMInudozYZG"]
[null,null,"Part 4","&interval=1",null,null,null,null,null,null,null,"=(A1-DATE(1970,1,1))*86400",null,null,null,null,null,null,null,null,null,null,null,null,8,"1tWBOBQnX2t"]
[null,null,"Period","mo",null,null,null,null,null,null,{"$f":"TODAY()","v":"2018-08-28"},{"$f":"(K21-DATE(1970,1,1))*86400","v":1535414400},null,null,null,null,null,null,null,null,null,null,null,null,9,"2rRQ4y6.uzL"]
[null,null,"Part 5","&events=history&crumb=",null,null,null,null,null,null,null,null,null,null,null,null,null,null,null,null,null,null,null,null,10,"a5Us3Rk4hyO"]
[null,null,"Crumb","sQ0BVwitYk5",null,null,null,null,null,null,null,null,null,null,null,null,null,null,null,null,null,null,null,null,null,"0kqOBm4nIld"]
[null,null,null,null,null,null,null,null,null,null,null,null,null,null,null,null,null,null,null,null,null,null,null,null,null,"vByltQk3sUB"]
[null,null,"URL",{"$f":"D14&D15&D16&D17&D18&D19&D20&D21&D22&Crumb","v":"https://query1.finance.yahoo.com/v7/finance/download/0?period1=-631152000&period2=1535414400&interval=1mo&events=history&crumb=sQ0BVwitYk5"},null,null,null,null,null,null,null,null,null,null,null,null,null,null,null,null,null,null,null,null,null,"vVmUXvpBskH"]
[null,null,null,null,null,null,null,null,null,null,null,null,null,null,null,null,null,null,null,null,null,null,null,null,null,"z2LXjkN7s9F"]
[null,null,"Date","Unix Date",null,null,null,null,null,null,null,null,null,null,null,null,null,null,null,null,null,null,null,null,null,"P5BIJQPrhY2"]
[null,null,{"$f":"TODAY()","v":"2018-08-28"},{"$f":"(C28-DATE(1970,1,1))*86400","v":1535414400},null,null,null,null,null,null,null,null,null,null,null,null,null,null,null,null,null,null,null,null,null,"gEkJpIMXCpF"]
[null,null,"1950-01-01",{"$f":"(C29-DATE(1970,1,1))*86400","v":-631152000},null,null,null,null,null,null,null,null,null,null,null,null,null,null,null,null,null,null,null,null,null,"cramylo4rtq"]
[]
[null,null,"cookie","B=327e9ppdoankd&b=3&s=nk"]
[null,null,null,null,null,null,null,null,null,null,null,null,null,null,null,null,null,null,null,null,null,null,null,null,14,"647kXnSPl6G"]
[null,null,"Yahoo Index",{"$f":"D35&D50&D36&E42&D37&F42&D38","v":"http://www.google.com/finance/historical?q=0&startdate=Jun 28, 1999&enddate=Aug 28, 2018&output=csv"},null,null,null,null,null,null,null,null,null,null,null,null,null,null,null,null,null,null,null,null,15,"mmD9oHwXc4Q"]
[null,null,null,null,null,null,null,null,null,null,null,null,null,null,null,null,null,null,null,null,null,null,null,null,16,"QGPH.wTFCEz"]
[null,null,null,"http://www.google.com/finance/historical?q=",null,null,null,null,null,null,null,null,null,null,null,null,null,null,null,null,null,null,null,null,17,"2oXbf.DMbbF"]
[null,null,null,"&startdate=",null,null,null,null,null,null,null,null,null,null,null,null,null,null,null,null,null,null,null,null,18,"dIkNm9YBdCc"]
[null,null,null,"&enddate=",null,null,null,null,"Data from Google Site",null,null,null,null,"Single Stock with Combo Box and Check Box",null,null,null,null,"Step 1: Insert and Modify Checkbox",null,null,null,null,null,19,"NYteS5Qvgrn"]
[null,null,null,"&output=csv",null,null,null,null,"Getting the Data Directly",null,null,null,null,"Create and Attach Checkboxes",null,null,null,null,"Step 2: Find the number of the first checkbox",null,null,null,null,null,20,"XV0zNccsK.P"]
[null,null,null,null,null,null,null,null,"Alternative URL",null,null,null,null,"Re-set Checkboxes",null,null,null,null,"Step 3: Open the macro file to put together checkboxes",null,null,null,null,null,21]
[null,null,null,null,"Start","End",null,null,"Creating Macro Workbooks.open",null,null,null,null,"Set-up Master Date and Forms",null,null,null,null,"Step 4: Run the macro (Shift, CNTL, E)",null,null,null,null,null,22]
[null,null,null,null,"1999-06-28",{"$f":"TODAY()","v":"2018-08-28"},null,null,"Adding Macro to Move Data",null,null,null,null,"Option for Raw, Index or Pct Change",null,null,null,null,"Step 5: Insert the standard count, match and index",null,null,null,null,null,23]
[null,null,null,null,{"$f":"TEXT(E41,\"MMM DD, YYYY\")","v":"Jun 28, 1999"},{"$f":"TEXT(F41,\"MMM DD, YYYY\")","v":"Aug 28, 2018"},null,null,"Loop with Multiple Stocks",null,null,null,null,"Analysis of Single Stock vs Index",null,null,null,null,"Step 6: Use Indirect and lookup to read selected stocks",null,null,null,null,null,24]
[null,null,null,null,null,null,null,null,"Import Stocks to Power BI",null,null,null,null,"Frequency Distribution vs Normal",null,null,null,null,"Step 7: Create growth and index for each stock",null,null,null,null,null,25]
[null,null,"Read Stocks Switch",{"$f":"'Read Stocks'!F3","v":true},null,null,null,null,null,null,null,null,null,null,null,null,null,null,"Step 8: Compute statistics and frequency vs normal",null,null,null,null,null,26]
[null,null,null,null,null,null,null,null,null,null,null,null,null,null,null,null,null,null,"Step 9: Put together graphs",null,null,null,null,null,27]
[]
[]
["Input Indicies"]
[]
[null,null,"Yahoo Index",{"$f":"INDEX(D55:D136,Counter)","v":0}]
[null,null,"Sheet name Yahoo",{"$f":"INDEX(E55:E126,Counter)","v":0}]
[]
[null,null,null,"Ticker","Sheet Name","Description",null,null,null,"Ticker","Index","Description","Currency",null,null,null,null,null,null,1,"GE","General Electric",null,null,28]
[null,null,null,null,null,null,null,null,1,"^GSPC","S&P 500","US S&P 500","USD",null,"^GSPC","S&P 500","US S&P 500",null,null,2,"AAPL","Apple",null,null,29]
[null,null,null,null,null,null,null,null,2,"^GDAXI","DAX","DAX in Euro","Euro",null,"^GDAXI","DAX","DAX",null,null,3,"CBB","Cincinnati Bell Inc. (CBB)",null,null,30]
[null,null,null,null,null,null,null,null,3,"^FCHI","CAC 40","France CAC 40","Euro",null,"^FTSE","FTSE 100","FTSE 100",null,null,4,"JPM","JP Morgan",null,null,31]
[null,null,null,null,null,null,null,null,4,"FTSEMIB.MI","Milan","Italy Milan","Euro",null,"^DJI","30 Industrials","30 Industrials",null,null,5,"MCD","McDonalds",null,null,32]
[null,null,null,null,null,null,null,null,5,"^IBEX","IBEX 35","Spain IBEX 35","Euro",null,"^SSMI","Swiss","Swiss SMI",null,null,6,"WMT","Wall Mart",null,null,33]
[null,null,null,null,null,null,null,null,6,"^OMX","Sweeden","Sweeden Index","SEK",null,"^N225","Nikkei 225","Japan 225",null,null,7,"ED","Consolidated Edison",null,null,34]
[null,null,null,null,null,null,null,null,7,"^OSEAX","Oslo","Finland","NOK",null,"^FCHI","CAC 40","France CAC 40",null,null,8,"CAG","Conagra",null,null,35]
[null,null,null,null,null,null,null,null,8,"^SSMI","Swiss","Swiss SMI","CFH",null,"^OEX","Chi Options","Chicago Options",null,null,9,"CCE","Coca Cola",null,null,36]
[null,null,null,null,null,null,null,null,9,"^BFX","Brussels","Brussels","Euro",null,null,null,null,null,null,10,"EXC","Excelon",null,null,37]
[null,null,null,null,null,null,null,null,10,"^DJI","30 Industrials","Dow Jones 30 Industrials","USD",null,null,null,null,null,null,11,"FOE","Ferro",null,null,38]
[null,null,null,null,null,null,null,null,11,"^OEX","Chi Options","Chicago Options","USD",null,null,null,null,null,null,12,"FSLR","First Solar",null,null,39]
[null,null,null,null,null,null,null,null,12,"^NDX","Nasdaq 100","Nasdaq 100","USD",null,null,null,null,null,null,13,"GIS","General Mills",null,null,40]
[null,null,null,null,null,null,null,null,14,"^N225","Nikkei 225","Japan 225","JPY",null,null,null,null,null,null,14,"HNZ","Heintz"]
[null,null,null,null,null,null,null,null,15,"^HSI","Hang Seng","Hong Kong Hang Seng","HKD",null,null,null,null,null,null,15,"HPQ","HP"]
[null,null,null,null,null,null,null,null,16,"^AORD","Austrailian","Austrailian","AUD",null,null,null,null,null,null,16,"K","Kellogs"]
[null,null,null,null,null,null,null,null,17,"^BSESN","India",{"$f":"K69","v":"India"},"INR",null,null,null,null,null,null,17,"MSFT","Microsoft"]
[null,null,null,null,null,null,null,null,18,"^JKSE","Indonesia",{"$f":"K70","v":"Indonesia"},"IDR",null,null,null,null,null,null,18,"NOK","Nokia"]
[null,null,null,null,null,null,null,null,19,"^KLSE","Malaysia","Malaysia","MYR",null,null,null,null,null,null,19,"USM","US Cellular"]
[null,null,null,null,null,null,null,null,20,"^NZ50","New Zealand","New Zealand","NZD",null,null,null,null,null,null,20,"PEP","Pepsico"]
[null,null,null,null,null,null,null,null,21,"^NSEI","S&P CNX NIFTY","S&P CNX NIFTY","INR",null,null,null,null,null,null,21,"VOD","Vodaphone"]
[null,null,null,null,null,null,null,null,22,"^KS11","Seoul Composite","Seoul Composite","KWR",null,null,null,null,null,null,22,"BT","Brittish Telecom"]
[null,null,null,null,null,null,null,null,23,"^TWII","Taiwan Weighted","Taiwan Weighted","TWII",null,null,null,null,null,null,23,"AES","AES"]
[null,null,null,null,null,null,null,null,24,"NGE","Nigeria","Nigeria","USD",null,null,null,null,null,null,24,"S","Sprint"]
[null,null,null,null,null,null,null,null,30,"000001.SS","CMA","CMA","Yuan",null,null,null,null,null,null,25,"KEP","Korean Electric Power"]
[null,null,null,null,null,null,null,null,25,"^BATSK","BATS 1000 Index","BATS 1000 Index","USD",null,null,null,null,null,null,26,"MSI","Motarola"]
[null,null,null,null,null,null,null,null,26,"^FTSE","FTSE 100","FTSE 100","GBP",null,null,null,null,null,null,27,"NYT","New York Times"]
[null,null,null,null,null,null,null,null,27,"RTS.RS","Russia Index","Russia Index","RUB",null,null,null,null,null,null,28,"DELL","Dell computers"]
[null,null,null,null,null,null,null,null,28,"FPXAA.PR","Prague","Prague","CZX",null,null,null,null,null,null,29,"BBRY","Blackberry"]
[null,null,null,null,null,null,null,null,29,"^STI","Straits Times","Straits Times","SGD",null,null,null,null,null,null,30,"NRG","NRG Energy"]
[null,null,null,null,null,null,null,null,null,null,"Amazon"]

{"sheet":"FRED Indicies","index":5,"n_rows":70,"n_cols":14,"rows_kept":70,"cut":false,"hidden":false,"merged":[]}
[null,null,"Base for URL","https://research.stlouisfed.org/fred2/data/",null,null,"Add .txt"]
[null,null,"Fred URL",{"$f":"D1&E12&\".txt\"","v":"https://research.stlouisfed.org/fred2/data/.txt"},null,null,"Take away parenthesis"]
[]
[null,null,"Example","https://research.stlouisfed.org/fred2/data/RU2000PR.txt"]
[null,null,"Number to Read",1]
[null,null,"Total Index",{"$f":"COUNTA(D16:D70)","v":0}]
[]
[null,null,"SHIFT,CNLT, F --> Fix the format of sheets"]
[]
[null,null,null,"Sheet Name","FRED Code","Length",null,"Name Length",null,"Total List",null,"FRED Code",null,"Cleaned Code for Use"]
[]
[null,null,"Index Function",{"$f":"INDEX(D16:D70,$D$5)","v":0},{"$f":"SUBSTITUTE(SUBSTITUTE(INDEX(E16:E70,D5),\"(\",\"\",1),\")\",\"\",1)","v":""},{"$f":"LEN(E12)","v":0}]
[]
["Input FRED Indicies"]
[]
[null,null,null,null,null,null,null,null,null,"Dow Jones Industrial",null,"(DJIA)",{"$f":"LEN(J16)","v":20},{"$f":"SUBSTITUTE(SUBSTITUTE(L16,\"(\",\"\",1),\")\",\"\",1)","v":"DJIA"}]
[null,null,null,null,null,null,null,null,null,"Wilshire 5000 Index",null,"(WILL5000INDFC)",{"$f":"LEN(J17)","v":19},{"$f":"SUBSTITUTE(SUBSTITUTE(L17,\"(\",\"\",1),\")\",\"\",1)","v":"WILL5000INDFC"}]
[null,null,null,null,null,null,null,null,null,"Nasdaq Composite",null,"(NASDAQCOM)",16,"NASDAQCOM"]
[null,null,null,null,null,null,null,null,null,"Wilshire 5000 Large Cap",null,"(WILL5000PRFC)",23,"WILL5000PRFC"]
[null,null,null,null,null,null,null,null,null,"Russel 2000 Index",null,"(RU2000PR)",17,"RU2000PR"]
[null,null,null,null,null,{"$f":"SUBSTITUTE(SUBSTITUTE(E21,\"(\",\"\",1),\")\",\"\",1)","v":""},null,null,null,"Wilshire 5000 Tot Mkt",null,"(WILL5000IND)",21,"WILL5000IND"]
[null,null,null,null,null,"",null,null,null,"Russel 3000 Index",null," (RU3000TR)",17," RU3000TR"]
[null,null,null,null,null,"",null,null,null,"Nasdaq 100 Index",null,"(NASDAQ100)",16,"NASDAQ100"]
[null,null,null,null,null,"",null,null,null,"Wilshire REIT Index",null," (WILLREITIND)",19," WILLREITIND"]
[null,null,null,null,null,"",null,null,null,"Wilshire 5000 Price",null,"(WILL5000PR)",19,"WILL5000PR"]
[null,null,null,null,null,"",null,null,null,"Russel 3000 Price Index",null," (RU3000PR)",23," RU3000PR"]
[null,null,null,null,null,"",null,null,null,"Russel 1000 Price Index",null,"(RU1000TR)",23,"RU1000TR"]
[null,null,null,null,null,"",null,null,null,"Dow Jones Composite ",null,"(DJCA)",20,"DJCA"]
[null,null,null,null,null,"",null,null,null,"Wilshire REIT Price ",null,"(WILLRESIPR)",20,"WILLRESIPR"]
[null,null,null,null,null,null,null,null,null,"Dow Jones Transp",null," (DJTA)",16," DJTA"]
[null,null,null,null,null,null,null,null,null,"Russel 1000 Total Mkt",null,"(RU1000VTR)",21,"RU1000VTR"]
[null,null,null,null,null,null,null,null,null,"Russel 2000 Total Mkt",null,"(RU2000VTR)",21,"RU2000VTR"]
[null,null,null,null,null,null,null,null,null,"Wihshire U.S. Large Cap",null," (WILLLRGCAP)",23," WILLLRGCAP"]
[null,null,null,null,null,null,null,null,null,"Russel 3000 Growth Pr",null,"(RU3000GPR)",21,"RU3000GPR"]
[null,null,null,null,null,null,null,null,null,"Russel 2500 Total Mkt",null," (RU2500TR)",21," RU2500TR"]
[null,null,null,null,null,null,null,null,null,"Wilshire Mid Cap Tot Mkt",null,"(WILLMIDCAP)",24,"WILLMIDCAP"]
[null,null,null,null,null,null,null,null,null,"Russel 2500 Value Price",null,"(R2500VLPR)",23,"R2500VLPR"]
[null,null,null,null,null,null,null,null,null,"Russel 200 Top Value",null,"(RUTOP200TR)",20,"RUTOP200TR"]
[null,null,null,null,null,null,null,null,null,"Russel 3000 Growth Price",null," (RU3000GPR)",24," RU3000GPR"]
[null,null,null,null,null,null,null,null,null,"Russel Mid Cap Price ",null,"(RUMIDCAPPR)",21,"RUMIDCAPPR"]
[null,null,null,null,null,null,null,null,null,"Russel 2500 Growth Price",null,"(R2500GRPR)",24,"R2500GRPR"]
[null,null,null,null,null,null,null,null,null,"Wilshire Mid Cap Price",null," (WILLMIDCAPPR)",22," WILLMIDCAPPR"]
[null,null,null,null,null,null,null,null,null,"Russel 1000 Growth ",null,"(RU1000GPR)",19,"RU1000GPR"]
[null,null,null,null,null,null,null,null,null,"Russel 2000 Value Price",null,"(RU2000VPR)",23,"RU2000VPR"]
[null,null,null,null,null,null,null,null,null,"Russel 3000 Value Price",null," (RU3000VPR)",23," RU3000VPR"]
[null,null,null,null,null,null,null,null,null,"Wilshier Small Cap Growth",null,"(WILLSMLCAPGR)",25,"WILLSMLCAPGR"]
[null,null,null,null,null,null,null,null,null,"Wilshier US Large Cap Gr",null,"(WILLLRGCAPGR)",24,"WILLLRGCAPGR"]
[null,null,null,null,null,null,null,null,null,"Russel Mid Cap Gr",null,"(RMIDGRPR)",17,"RMIDGRPR"]
[null,null,null,null,null,null,null,null,null,"Russel Mid Cap Total Val",null,"(RMIDVLTR)",24,"RMIDVLTR"]
[null,null,null,null,null,null,null,null,null,"Russel Top 200 Val",null,"(RTOP200VTR)",18,"RTOP200VTR"]
[null,null,null,null,null,null,null,null,null,"Wilshire 4500 Market Value",null,"(WILL4500IND)",26,"WILL4500IND"]
[null,null,null,null,null,null,null,null,null,"Wilshire US Large Cap Val Pr",null," (WILLLRGCAPVALPR)",28," WILLLRGCAPVALPR"]
[null,null,null,null,null,null,null,null,null,"Wilshire US Mid Cap Gr Pr",null,"(WILLMIDCAPGRPR)",25,"WILLMIDCAPGRPR"]
[null,null,null,null,null,null,null,null,null,"Wilshire US Small Cap Gr",null,"(WILLSMLCAPPR)",24,"WILLSMLCAPPR"]
[null,null,null,null,null,null,null,null,null,"Russel Mid Cap Total Mkt",null,"(RMIDGRTR)",24,"RMIDGRTR"]
[null,null,null,null,null,null,null,null,null,"Russel Top 200 Gr Tot Mkt",null,"(RTOP200GTR)",25,"RTOP200GTR"]
[null,null,null,null,null,null,null,null,null,"Russel Top 200 Price ",null,"(RUTOP200PR)",21,"RUTOP200PR"]
[null,null,null,null,null,null,null,null,null,"Wilshire Mid Cap Tot  ",null,"(WILLMIDCAPVAL)",22,"WILLMIDCAPVAL"]
[null,null,null,null,null,null,null,null,null,"Wilshire Small Cap Gr Pr",null," (WILLSMLCAPGRPR)",24," WILLSMLCAPGRPR"]
[null,null,null,null,null,null,null,null,null,"Wilshire 2500 Mkt",null," (WILL2500IND)",17," WILL2500IND"]
[null,null,null,null,null,null,null,null,null,"Wilshire 2500 Tot Val",null," (WILL2500INDVAL)",21," WILL2500INDVAL"]
[null,null,null,null,null,null,null,null,null,"Wilshire 4500 Pr Index",null,"(WILL4500PR)",22,"WILL4500PR"]
[null,null,null,null,null,null,null,null,null,"Wilshire US Micro ",null,"(WILLMICROCAP)",18,"WILLMICROCAP"]
[null,null,null,null,null,null,null,null,null,"Russel 2500 Tot Pr",null,"(RU2500PR)",18,"RU2500PR"]
[null,null,null,null,null,null,null,null,null,"Wilshire 2500 Gr Ind",null," (WILL2500INDGR)",20," WILL2500INDGR"]
[null,null,null,null,null,null,null,null,null,"Wilshire 2500 Price",null," (WILL2500PR)",19," WILL2500PR"]
[null,null,null,null,null,null,null,null,null,"Wilshire 2500 Value",null,"(WILL2500PRVAL)",19,"WILL2500PRVAL"]
[null,null,null,null,null,null,null,null,null,"Wilshire US Large Cap  ",null,"(WILLLRGCAPPR)",23,"WILLLRGCAPPR"]
[null,null,null,null,null,null,null,null,null,"British Railways",null,"(M11014GB00LONM324NNBR)",16,"M11014GB00LONM324NNBR"]
[null,null,null,null,null,null,null,null,null,"S&P 500",null,"(SP500)",7,"SP500"]

{"sheet":"Exchange Rates","index":6,"n_rows":84,"n_cols":32,"rows_kept":84,"cut":false,"hidden":false,"merged":[]}
[null,null,"Currency_URL",{"$f":"D2&C9&\".txt\"","v":"https://research.stlouisfed.org/fred2/data/GDPDEF.txt"}]
[null,null,"Base URL","https://research.stlouisfed.org/fred2/data/"]
[]
[null,null,"Exchange Counter",1]
[null,null,"Total Exch Rates",{"$f":"COUNTA(E13:E145)","v":1}]
[]
[null,null,"Fred Code","exc_sheet","Title"]
[]
[null,null,{"$f":"INDEX(C13:C165,$D$4)","v":"GDPDEF"},{"$f":"INDEX(D13:D165,$D$4)","v":"GDP Inf"},{"$f":"INDEX(E13:E165,$D$4)","v":"Implicit Price Deflator"}]
[]
["Inflation, Exchange Rate and Economic Series from FRED"]
[]
[null,null,null,null,null,null,null,null,null,"Deflator/Index: Divide",null,null,{"$f":"FIND(\"(\",Q13,1)","v":35},{"$f":"FIND(\")\",Q13,1)","v":42},{"$f":"MID(Q13,M13+1,N13-M13-1)","v":"EXUSEU"},"Euro","U.S. / Euro Foreign Exchange Rate (EXUSEU)",null,null,null,null,null,null,null,null,null,null,null,null,"GDPDEF","GDP Inf","Implicit Price Deflator"]
[null,null,null,null,null,null,null,null,null,"Deflator/Index: Divide",null,null,{"$f":"FIND(\"(\",Q14,1)","v":35},{"$f":"FIND(\")\",Q14,1)","v":42},{"$f":"MID(Q14,M14+1,N14-M14-1)","v":"EXUSUK"},"UK","U.S. / U.K. Foreign Exchange Rate (EXUSUK)",null,null,null,null,null,null,null,null,null,null,null,null,"CPIAUCSL","CPI US","Consumer Price Inflation"]
[null,null,null,null,null,null,null,null,null,"Deflator/Index: Multiply",null,null,63,79,"CCUSSP01SEQ650N","SEK","US Dollar to National Currency Spot Exchange Rate for Sweden© (CCUSSP01SEQ650N)",null,null,null,null,null,null,null,null,null,null,null,null,"EXUSEU","Euro","U.S. / Euro Foreign Exchange Rate (EXUSEU)"]
[null,null,null,null,null,null,null,null,null,"Deflator/Index: Multiply",null,null,37,45,"DEXNOUS","NOK","Norway / U.S. Foreign Exchange Rate (DEXNOUS)",null,null,null,null,null,null,null,null,null,null,null,null,"DEXINUS","INR","India / U.S. Foreign Exchange Rate (DEXINUS)"]
[null,null,null,null,null,null,null,null,null,"Deflator/Index: Multiply",null,null,42,50,"DEXSZUS","CFH","Switzerland / U.S. Foreign Exchange Rate (DEXSZUS)",null,null,null,null,null,null,null,null,null,null,null,null,"EXUSUK","UK","U.S. / U.K. Foreign Exchange Rate (EXUSUK)"]
[null,null,null,null,null,null,null,null,null,"Deflator/Index: Multiply",null,null,75,91,"CCUSSP01CZM650N","CZX","US Dollar to National Currency Spot Exchange Rate for the Czech Republic© (CCUSSP01CZM650N)",null,null,null,null,null,null,null,null,null,null,null,null,"DEXSZUS","CFH","Switzerland / U.S. Foreign Exchange Rate (DEXSZUS)"]
[null,null,null,null,null,null,null,null,null,null,null,null,41,58,"FXRATERUA618NUPN","RUB","Exchange Rate to U.S. Dollar for Russia (FXRATERUA618NUPN)",null,null,null,null,null,null,null,null,null,null,null,null,"GNP","US NOM GNP","Gross National Product (GNP)"]
[null,null,null,null,null,null,null,null,null,null,null,null,62,78,"CCUSSP01JPM650N","JPY","US Dollar to National Currency Spot Exchange Rate for Japan© (CCUSSP01JPM650N)"]
[null,null,null,null,null,null,null,null,null,null,null,null,40,48,"DEXHKUS","HKD","Hong Kong / U.S. Foreign Exchange Rate (DEXHKUS)"]
[null,null,null,null,null,null,null,null,null,null,null,null,40,48,"DEXSIUS","SGD","Singapore / U.S. Foreign Exchange Rate (DEXSIUS)"]
[null,null,null,null,null,null,null,null,null,null,null,null,40,47,"EXUSAL","AUD","U.S. / Australia Foreign Exchange Rate (EXUSAL)"]
[null,null,null,null,null,null,null,null,null,null,null,null,36,44,"DEXINUS","INR","India / U.S. Foreign Exchange Rate (DEXINUS)"]
[null,null,null,null,null,null,null,null,null,null,null,null,66,82,"CCUSSP02IDQ650N","IDR","National Currency to US Dollar Spot Exchange Rate for Indonesia© (CCUSSP02IDQ650N)"]
[null,null,null,null,null,null,null,null,null,null,null,null,39,47,"DEXMAUS","MYR","Malaysia / U.S. Foreign Exchange Rate (DEXMAUS)"]
[null,null,null,null,null,null,null,null,null,null,null,null,42,50,"DEXUSNZ","NZD","U.S. / New Zealand Foreign Exchange Rate (DEXUSNZ)"]
[null,null,null,null,null,null,null,null,null,null,null,null,42,49,"EXKOUS","KWR","South Korea / U.S. Foreign Exchange Rate (EXKOUS)"]
[null,null,null,null,null,null,null,null,null,null,null,null,37,45,"DEXTAUS","TWII","Taiwan / U.S. Foreign Exchange Rate (DEXTAUS)"]
[null,null,null,null,null,null,null,null,null,null,null,null,62,78,"CCUSSP02CNQ650N","Yuan","National Currency to US Dollar Spot Exchange Rate for China© (CCUSSP02CNQ650N)"]
[null,null,null,null,null,null,null,null,null,null,null,null,46,54,"NBXMBIS","Euro 1","Broad Effective Exchange Rate for Euro Area© (NBXMBIS)"]
[null,null,null,null,null,null,null,null,null,null,null,null,40,57,"FXRATEGHA618NUPN","GHS","Exchange Rate to U.S. Dollar for Ghana (FXRATEGHA618NUPN)"]
[null,null,null,null,null,null,null,null,null,null,null,null,81,97,"CCUSMA02FRM618N","France","National Currency to US Dollar Exchange Rate: Average of Daily Rates for France (CCUSMA02FRM618N)"]
[null,null,null,null,null,null,null,null,null,null,null,null,{"$f":"FIND(\"(\",Q34,1)","v":63},{"$f":"FIND(\")\",Q34,1)","v":79},{"$f":"MID(Q34,M34+1,N34-M34-1)","v":"CCUSSP01DEM650N"},"Germany","US Dollar to National Currency Spot Exchange Rate for Germany (CCUSSP01DEM650N)"]
[null,null,null,null,null,null,null,null,null,null,null,null,{"$f":"FIND(\"(\",Q35,1)","v":66},{"$f":"FIND(\")\",Q35,1)","v":80},{"$f":"MID(Q35,M35+1,N35-M35-1)","v":"INTGSTMXM193N"},"Mex Int","Interest Rates, Government Securities, Treasury Bills for Mexico (INTGSTMXM193N)"]
[null,null,null,null,null,null,null,null,null,null,null,null,{"$f":"FIND(\"(\",Q36,1)","v":80},{"$f":"FIND(\")\",Q36,1)","v":96},{"$f":"MID(Q36,M36+1,N36-M36-1)","v":"IRLTLT01MXM156N"},"Mex Bnd","Long-Term Government Bond Yields: 10-year: Main Including Benchmark for Mexico (IRLTLT01MXM156N)"]
[null,null,null,null,null,null,null,null,null,null,null,null,81,97,"CPGRLE01MXM659N","Mex CP!","Consumer Price Index: OECD Groups: All Items Non-Food and Non-Energy for Mexico (CPGRLE01MXM659N)"]
[null,null,null,null,null,null,null,null,null,null,null,null,81,97,"CPGRLE01MXM657N","Mex CPI 1","Consumer Price Index: OECD Groups: All Items Non-Food and Non-Energy for Mexico (CPGRLE01MXM657N)"]
[null,null,null,null,null,null,null,null,null,null,null,null,37,44,"EXMXUS","Mex exch","Mexico / U.S. Foreign Exchange Rate (EXMXUS)"]
[null,null,null,null,null,null,null,null,null,null,null,null,67,83,"IR3TIB01IDQ156N","INDO Int","3-Month or 90-day Rates and Yields: Interbank Rates for Indonesia (IR3TIB01IDQ156N)"]
[null,null,null,null,null,null,null,null,null,null,null,null,45,59,"INTDSRIDM193N","INDO Int1","Interest Rates, Discount Rate for Indonesia (INTDSRIDM193N)"]
[null,null,null,null,null,null,null,null,null,null,null,null,42,57,"FPCPITOTLZGIDN","INDO Inf","Inflation, consumer prices for Indonesia (FPCPITOTLZGIDN)"]
[null,null,null,null,null,null,null,null,null,null,null,null,65,81,"CCUSSP02IDM650N","INDO Exch","National Currency to US Dollar Spot Exchange Rate for Indonesia (CCUSSP02IDM650N)"]
[null,null,null,null,null,null,null,null,null,null,null,null,43,59,"INDCPIALLMINMEI","IND CPI","Consumer Price Index: All Items for India (INDCPIALLMINMEI)"]
[null,null,null,null,null,null,null,null,null,null,null,null,{"$f":"FIND(\"(\",Q45,1)","v":57},{"$f":"FIND(\")\",Q45,1)","v":66},"CPIAUCSL","US CPI","Consumer Price Index for All Urban Consumers: All Items (CPIAUCSL)"]
[null,null,null,null,null,null,null,null,null,null,null,null,23,27,"GDI","US GDI","Gross Domestic Income (GDI)"]
[null,null,null,null,null,null,null,null,null,null,null,null,29,35,"GDPC1","US Real GDP","Real Gross Domestic Product (GDPC1)"]
[null,null,null,null,null,null,null,null,null,null,null,null,29,35,"GDPCA","US Real GDP A","Real Gross Domestic Product (GDPCA)"]
[null,null,null,null,null,null,null,null,null,null,null,null,24,29,"GDPA","US GDP","Gross Domestic Product (GDPA)"]
[null,null,null,null,null,null,null,null,null,null,null,null,40,56,"A939RX0Q048SBEA","US REAL GDP CAP","Real gross domestic product per capita (A939RX0Q048SBEA)"]
[null,null,null,null,null,null,null,null,null,null,null,null,24,28,"GNP","US NOM GNP","Gross National Product (GNP)"]
[null,null,null,null,null,null,null,null,null,null,null,null,42,50,"NGDPPOT","US NOM GDP","Nominal Potential Gross Domestic Product (NGDPPOT)"]
[null,null,null,null,null,null,null,null,null,null,null,null,35,51,"A939RC0Q052SBEA","US GDP CAP","Gross domestic product per capita (A939RC0Q052SBEA)"]
[null,null,null,null,null,null,null,null,null,null,null,null,35,51,"A791RC0Q052SBEA","US GNP CAP","Gross national product per capita (A791RC0Q052SBEA)"]
[null,null,null,null,null,null,null,null,null,null,null,null,23,39,"A023RC1Q027SBEA","US GNI","Gross national income (A023RC1Q027SBEA)"]
[null,null,null,null,null,null,null,null,null,null,null,null,{"$f":"FIND(\"(\",Q56,1)","v":51},{"$f":"FIND(\")\",Q56,1)","v":65},{"$f":"MID(Q56,M56+1,N56-M56-1)","v":"MEHOINUSA672N"},"Real Median Income","Real Median Household Income in the United States (MEHOINUSA672N)"]
[null,null,null,null,null,null,null,null,null,null,null,null,46,60,"MEHOINUSA646N","US Med Inc Nom","Median Household Income in the United States (MEHOINUSA646N)"]
[null,null,null,null,null,null,null,null,null,null,null,null,63,78,"LES1252881600Q","Median Income","Employed full time: Median usual weekly real earnings: d over (LES1252881600Q)"]
[null,null,null,null,null,null,null,null,null,null,null,null,117,132,"LEU0252881500Q","Median Income 1","Employed full time: Median usual weekly nominal earnings second quartile Wage and salary workers: 16 years and over (LEU0252881500Q)"]
[null,null,null,null,null,null,null,null,null,null,null,null,74,90,"N3291C0A144NBEA","Insurance"," Corporate profits after tax: Domestic industries: Finance and insurance (N3291C0A144NBEA)"]
[null,null,null,null,null,null,null,null,null,null,null,null,37,54,"POPTOTUSA647NWDB","US Population","Population, Total for United States (POPTOTUSA647NWDB)"]
[null,null,null,null,null,null,null,null,null,null,null,null,{"$f":"FIND(\"(\",Q62,1)","v":30},{"$f":"FIND(\")\",Q62,1)","v":43},{"$f":"MID(Q62,M62+1,N62-M62-1)","v":"SPPOPTOTLWLD"},"World Population"," Population, Total for World (SPPOPTOTLWLD)"]
[null,null,null,null,null,null,null,null,null,null,null,null,{"$f":"FIND(\"(\",Q63,1)","v":35},{"$f":"FIND(\")\",Q63,1)","v":39},{"$f":"MID(Q63,M63+1,N63-M63-1)","v":"PCE"},"Consumption","Personal Consumption Expenditures (PCE)"]
[null,null,null,null,null,null,null,null,null,null,null,null,{"$f":"FIND(\"(\",Q64,1)","v":24},{"$f":"FIND(\")\",Q64,1)","v":28},{"$f":"MID(Q64,M64+1,N64-M64-1)","v":"GDP"},"US GDP","Gross Domestic Product (GDP)"]
[]
[]
[null,null,null,null,null,null,null,null,null,null,null,null,null,null,"CP","Corp Profit","Corporate Profits",null,null,null,null,"https://research.stlouisfed.org/fred2/data/CP.txt"]
[null,null,null,null,null,null,null,null,null,null,null,null,null,null,"CPATAX","Adj Corp Profit","Adjusted Corporate Profits",null,null,null,null,"https://research.stlouisfed.org/fred2/data/"]
[null,null,null,null,null,null,null,null,null,null,null,null,null,null,"WASCUR","Comp Emp","Compenstation of Employees",null,null,null,null,"https://research.stlouisfed.org/fred2/data/WASCUR.txt"]
[null,null,null,null,null,null,null,null,null,null,null,null,null,null,"NFCPATAX","Corp Nonfin","Non Financial Corporate Profits",null,null,null,null,"https://research.stlouisfed.org/fred2/data/"]
[null,null,null,null,null,null,null,null,null,null,null,null,null,null,"NFCPATAX","Corp Nonfin Adj","Non Financial Corporate Profits No Adj",null,null,null,null,"https://research.stlouisfed.org/fred2/data/"]
[null,null,null,null,null,null,null,null,null,null,null,null,null,null,"A466RD3Q052SBEA","Corp Val Added","Corporate per Unit Value Added",null,null,null,null,"https://research.stlouisfed.org/fred2/data/"]
[null,null,null,null,null,null,null,null,null,null,null,null,null,null,"COE","Employee Comp","Compensation of Employees",null,null,null,null,"https://research.stlouisfed.org/fred2/data/"]
[null,null,null,null,null,null,null,null,null,null,null,null,null,null,"COFC","Comp Cap","Compensation of Capital",null,null,null,null,"https://research.stlouisfed.org/fred2/data/"]
[null,null,null,null,null,null,null,null,null,null,null,null,null,null,"A055RC0A144NBEA","Corp Aft Tax","Corporate Profits After Tax",null,null,null,null,"https://research.stlouisfed.org/fred2/data/"]
[null,null,null,null,null,null,null,null,null,null,null,null,null,null,"A445RC1Q027SBEA","Corp Inf Adjusted","Corporate Profits with Inflation Adj",null,null,null,null,"https://research.stlouisfed.org/fred2/data/"]
[null,null,null,null,null,null,null,null,null,null,null,null,null,null,"B394RC1Q027SBEA","Corp Non Dom","Corporate Profits non Domestic",null,null,null,null,"https://research.stlouisfed.org/fred2/data/"]
[null,null,null,null,null,null,null,null,null,null,null,null,null,null,"GDI","GDI US","Gross Domestic Income",null,null,null,null,"https://research.stlouisfed.org/fred2/data/"]
[null,null,null,null,null,null,null,null,null,null,null,null,null,null,"GDPC1","GDP Real","Real Gross Domestic Product",null,null,null,null,"https://research.stlouisfed.org/fred2/data/"]
[null,null,null,null,null,null,null,null,null,null,null,null,null,null,"GDP","GDP US","Gross Domestic Product",null,null,null,null,"https://research.stlouisfed.org/fred2/data/"]
[null,null,null,null,null,null,null,null,null,null,null,null,null,null,"GDPDEF","GDP Inf","Implicit Price Deflator",null,null,null,null,"https://research.stlouisfed.org/fred2/data/"]
[null,null,null,null,null,null,null,null,null,null,null,null,null,null,"CPIAUCSL","CPI US","Consumer Price Inflation",null,null,null,null,"https://research.stlouisfed.org/fred2/data/"]
[null,null,null,null,null,null,null,null,null,null,null,null,null,null,null,null,null,null,null,null,null,"http://real-chart.finance.yahoo.com/table.csv?s=%5EGSPC&a=00&b=3&c=1950&d=03&e=29&f=2016&g=m&ignore=.csv"]
[null,null,null,null,null,null,null,null,null,null,null,null,null,null,null,null,null,null,null,null,null,"http://www.multpl.com/shiller-pe/table"]

{"sheet":"Commodity Prices","index":7,"n_rows":89,"n_cols":22,"rows_kept":89,"cut":false,"hidden":false,"merged":[]}
[null,null,"Example URL","https://research.stlouisfed.org/fred2/data/DCOILBRENTEU.txt"]
[null,null,"First Part","https://research.stlouisfed.org/fred2/data/"]
[null,null,"Fred_com_url",{"$f":"D2&C12&\".txt\"","v":"https://research.stlouisfed.org/fred2/data/.txt"}]
[]
[null,null,"Number Applied (com_num)",1]
[null,null,"Total Commodites in List (total_com)",{"$f":"COUNTA(D16:D118)","v":0}]
[]
[null,null,"SHIFT,CNLT, F --> Fix the format of sheets"]
[]
[null,null,"Sheet Name (Substitute)","Title of Series in FRED","Code with Brackets"]
[null,null,null,null,null,null,"Note: Sometimes D is Daily; M is Monthly etc"]
[null,null,{"$f":"INDEX(C16:C82,com_num)","v":""},{"$f":"INDEX(D16:D98,com_num)","v":0},{"$f":"INDEX(E16:E98,com_num)","v":0}]
[]
["Commodity Prices from Fred"]
[]
[null,null,{"$f":"SUBSTITUTE(SUBSTITUTE(E16,\"(\",\"\",1),\")\",\"\",1)","v":""},null,null,null,"(DCOILBRENTEU)",null,null,"Crude Oil Prices: Brent - Europe (DCOILBRENTEU)",null,null,null,null,null,null,null,null,null,{"$f":"SUBSTITUTE(SUBSTITUTE(V16,\"(\",\"\",1),\")\",\"\",1)","v":"MHHNGSP"},{"$f":"J19","v":"Henry Hub Natural Gas Spot Price (MHHNGSP)"},{"$f":"G19","v":"(MHHNGSP)"}]
[null,null,{"$f":"SUBSTITUTE(SUBSTITUTE(E17,\"(\",\"\",1),\")\",\"\",1)","v":""},null,null,null,"(MCOILBRENTEU)",null,null,"Crude Oil Prices: Brent - Europe (DCOILBRENTEU)",null,null,null,null,null,null,null,null,null,{"$f":"SUBSTITUTE(SUBSTITUTE(V17,\"(\",\"\",1),\")\",\"\",1)","v":"PNGASEUUSDM"},{"$f":"J20","v":" Global Price Index of All Commodities© (PALLFNFINDEXQ)"},{"$f":"G22","v":"(PNGASEUUSDM)"}]
[null,null,"",null,null,null,"(GOLDAMGBD228NLBM)",null,null," Gold Fixing Price 10:30 A.M. (London time) in London Bullion Market, based in U.S. Dollars© (GOLDAMGBD228NLBM)",null,null,null,null,null,null,null,null,null,{"$f":"SUBSTITUTE(SUBSTITUTE(V18,\"(\",\"\",1),\")\",\"\",1)","v":"WDFUELUSGULF"},{"$f":"J21","v":" Ultra-Low-Sulfur No. 2 Diesel Fuel Prices: U.S. Gulf Coast (WDFUELUSGULF)"},{"$f":"G21","v":"(WDFUELUSGULF)"}]
[null,null,"",null,null,null,"(MHHNGSP)",null,null,"Henry Hub Natural Gas Spot Price (MHHNGSP)",null,null,null,null,null,null,null,null,null,{"$f":"SUBSTITUTE(SUBSTITUTE(V19,\"(\",\"\",1),\")\",\"\",1)","v":"PNGASJPUSDM"},{"$f":"J33","v":"Global price of LNG, Asia© (PNGASJPUSDM)"},{"$f":"G33","v":"(PNGASJPUSDM)"}]
[null,null,"",null,null,null,"(PALLFNFINDEXQ)",null,null," Global Price Index of All Commodities© (PALLFNFINDEXQ)",null,null,null,null,null,null,null,null,null,{"$f":"SUBSTITUTE(SUBSTITUTE(V20,\"(\",\"\",1),\")\",\"\",1)","v":"PNGASEUUSDM"},{"$f":"J59","v":"Global price of Natural gas, EU© (PNGASEUUSDM)"},{"$f":"G59","v":"(PNGASEUUSDM)"}]
[null,null,"",null,null,null,"(WDFUELUSGULF)",null,null," Ultra-Low-Sulfur No. 2 Diesel Fuel Prices: U.S. Gulf Coast (WDFUELUSGULF)",null,null,null,null,null,null,null,null,null,{"$f":"SUBSTITUTE(SUBSTITUTE(V21,\"(\",\"\",1),\")\",\"\",1)","v":"PURANUSDM"},{"$f":"J23","v":"Global price of Uranium© (PURANUSDM)"},{"$f":"G23","v":"(PURANUSDM)"}]
[null,null,"",null,null,null,"(PNGASEUUSDM)",null,null," Global price of Natural gas, EU© (PNGASEUUSDM)",null,null,null,null,null,null,null,null,null,{"$f":"SUBSTITUTE(SUBSTITUTE(V22,\"(\",\"\",1),\")\",\"\",1)","v":"PCOPPUSDM"},{"$f":"J32","v":"Global price of Copper© (PCOPPUSDM)"},{"$f":"G32","v":"(PCOPPUSDM)"}]
[null,null,{"$f":"SUBSTITUTE(SUBSTITUTE(E23,\"(\",\"\",1),\")\",\"\",1)","v":""},null,null,null,"(PURANUSDM)",null,null,"Global price of Uranium© (PURANUSDM)",null,null,null,null,null,null,null,null,null,{"$f":"SUBSTITUTE(SUBSTITUTE(V23,\"(\",\"\",1),\")\",\"\",1)","v":"PMAIZMTUSDM"},{"$f":"J34","v":"Global price of Corn© (PMAIZMTUSDM)"},{"$f":"G34","v":"(PMAIZMTUSDM)"}]
[null,null,"",null,null,null,"(WDFUELNYH)",null,null,"Ultra-Low-Sulfur No. 2 Diesel Fuel Prices: New York Harbor (WDFUELNYH)",null,null,null,null,null,null,null,null,null,{"$f":"SUBSTITUTE(SUBSTITUTE(V24,\"(\",\"\",1),\")\",\"\",1)","v":"PHIDEUSDQ"},{"$f":"J80","v":"Global price of Hides© (PHIDEUSDQ)"},{"$f":"G80","v":"(PHIDEUSDQ)"}]
[null,null,"",null,null,null,"(WHOILNYH)",null,null," No. 2 Heating Oil Prices: New York Harbor (WHOILNYH)",null,null,null,null,null,null,null,null,null,{"$f":"SUBSTITUTE(SUBSTITUTE(V25,\"(\",\"\",1),\")\",\"\",1)","v":"PCOTTINDUSDM"},{"$f":"J46","v":"Global price of Cotton© (PCOTTINDUSDM)"},{"$f":"G46","v":"(PCOTTINDUSDM)"}]
[null,null,"",null,null,null,"(MNGLCP)",null,null,"U.S. Natural Gas Liquid Composite Price (MNGLCP)"]
[null,null,"",null,null,null,"(PHIDEUSDQ)",null,null,"Global price of Hides© (PHIDEUSDQ)"]
[null,null,"",null,null,null,"(DGASUSGULF)",null,null," Conventional Gasoline Prices: U.S. Gulf Coast, Regular (DGASUSGULF)"]
[null,null,"",null,null,null,"(GASREGW)",null,null,"US Regular All Formulations Gas Price (GASREGW)"]
[null,null,"",null,null,null,"(WHHNGSP)",null,null,"Henry Hub Natural Gas Spot Price (WHHNGSP)"]
[null,null,"",null,null,null,"(DHHNGSP)",null,null,"Henry Hub Natural Gas Spot Price (DHHNGSP)"]
[null,null,"",null,null,null,"(PCOPPUSDM)",null,null,"Global price of Copper© (PCOPPUSDM)"]
[null,null,"",null,null,null,"(PNGASJPUSDM)",null,null,"Global price of LNG, Asia© (PNGASJPUSDM)"]
[null,null,"",null,null,null,"(PMAIZMTUSDM)",null,null,"Global price of Corn© (PMAIZMTUSDM)"]
[null,null,"",null,null,null,"(PWHEAMTUSDM)",null,null,"Global price of Wheat© (PWHEAMTUSDM)"]
[null,null,"",null,null,null,"(DPROPANEMBTX)",null,null,"Propane Prices: Mont Belvieu, Texas (DPROPANEMBTX)"]
[null,null,"",null,null,null,"(PIORECRUSDM)",null,null,"Global price of Iron Ore© (PIORECRUSDM)"]
[null,null,"",null,null,null,"(GASREGW)",null,null,"US Regular All Formulations Gas Price (GASREGW)"]
[null,null,"",null,null,null,"(PALUMUSDM)",null,null,"Global price of Aluminum© (PALUMUSDM)"]
[null,null,"",null,null,null,"(PCOALAUUSDM)",null,null,"Global price of Coal, Australia© (PCOALAUUSDM)"]
[null,null,"",null,null,null,"(POILDUBUSDM)",null,null,"Global price of Dubai Crude© (POILDUBUSDM)"]
[null,null,"",null,null,null,"(PSOYBUSDM)",null,null,"Global price of Soybeans© (PSOYBUSDM)"]
[null,null,"",null,null,null,"(PSHRIUSDM)",null,null,"Global price of Shrimp© (PSHRIUSDM)"]
[null,null,"",null,null,null,"(DJFUELUSGULF)",null,null,"Kerosene-Type Jet Fuel Prices: U.S. Gulf Coast (DJFUELUSGULF)"]
[null,null,"",null,null,null,"(PRUBBUSDM)",null,null,"Global price of Rubber© (PRUBBUSDM)"]
[null,null,"",null,null,null,"(PCOTTINDUSDM)",null,null,"Global price of Cotton© (PCOTTINDUSDM)"]
[null,null,"",null,null,null,"(PBEEFUSDQ)",null,null,"Global price of Beef© (PBEEFUSDQ)"]
[null,null,"",null,null,null,"(PSUNOUSDM)",null,null,"Global price of Sunflower Oil© (PSUNOUSDM)"]
[null,null,"",null,null,null,"(PBANSOPUSDM)",null,null,"Global price of Bananas© (PBANSOPUSDM)"]
[null,null,"",null,null,null,"(PBARLUSDM)",null,null,"Global price of Barley© (PBARLUSDM)"]
[null,null,"",null,null,null,"(CP0111E3CCM086NEST)",null,null,"Harmonized Index of Consumer Prices: Bread and Cereals for European Economic Area (EEA18-2004, EEA28-2006, EEA30)© (CP0111E3CCM086NEST)"]
[null,null,"",null,null,null,"(CP0111EZ18M086NEST)",null,null,"Harmonized Index of Consumer Prices: Bread and Cereals for Euro Area (18 countries)© (CP0111EZ18M086NEST)"]
[null,null,"",null,null,null,"(PCOFFOTMUSDQ)",null,null,"Global price of Coffee, Other Mild Arabica© (PCOFFOTMUSDQ)"]
[null,null,"",null,null,null,"(GASDESW)",null,null,"US Diesel Sales Price (GASDESW)"]
[null,null,"",null,null,null,"(PZINCUSDA)",null,null,"Global price of Zinc© (PZINCUSDA)"]
[null,null,"",null,null,null,"(PSUGAISAUSDM)",null,null,"Global price of Sugar, No. 11, World© (PSUGAISAUSDM)"]
[null,null,"",null,null,null,"(PINDUINDEXM)",null,null,"Global price of Industrial Materials index© (PINDUINDEXM)"]
[null,null,"",null,null,null,"(PNICKUSDA)",null,null,"Global price of Nickel© (PNICKUSDA)"]
[null,null,null,null,null,null,"(PNGASEUUSDM)",null,null,"Global price of Natural gas, EU© (PNGASEUUSDM)"]
[null,null,null,null,null,null,"(PRICENPQUSDM)",null,null,"Global price of Rice, Thailand© (PRICENPQUSDM)"]
[null,null,null,null,null,null,"(PFISHUSDM)",null,null,"Global price of Fish Meal© (PFISHUSDM)"]
[null,null,null,null,null,null,"(PMETAINDEXM)",null,null,"Global price of Metal index© (PMETAINDEXM)"]
[null,null,null,null,null,null,"(PRAWMINDEXM)",null,null,"Global price of Agr. Raw Material Index© (PRAWMINDEXM)"]
[null,null,null,null,null,null,"(PCOCOUSDM)",null,null,"Global price of Cocoa© (PCOCOUSDM)"]
[null,null,null,null,null,null,"(PORANGUSDM)",null,null,"Global price of Orange© (PORANGUSDM)"]
[null,null,null,null,null,null,"(PFOODINDEXM)",null,null,"Global price of Food index© (PFOODINDEXM)"]
[null,null,null,null,null,null,"(PPOILUSDM)",null,null,"Global price of Palm Oil© (PPOILUSDM)"]
[null,null,null,null,null,null,"(MNGLCP)",null,null,"U.S. Natural Gas Liquid Composite Price (MNGLCP)"]
[null,null,null,null,null,null,"(PPOULTUSDA)",null,null,"Global price of Poultry© (PPOULTUSDA)"]
[null,null,null,null,null,null,"(PTINUSDM)",null,null,"Global price of Tin© (PTINUSDM)"]
[null,null,null,null,null,null,"(PCOFFROBUSDM)",null,null,"Global price of Coffee, Robustas© (PCOFFROBUSDM)"]
[null,null,null,null,null,null,"(PSMEAUSDM)",null,null,"Global price of Soybean Meal© (PSMEAUSDM)"]
[null,null,null,null,null,null,"(POLVOILUSDM)",null,null,"Global price of Olive Oil© (POLVOILUSDM)"]
[null,null,null,null,null,null,"(PSOILUSDA)",null,null,"Global price of Soybeans Oil© (PSOILUSDA)"]
[null,null,null,null,null,null,"(PSUGAEECUSDA)",null,null,"Global price of Sugar, EU© (PSUGAEECUSDA)"]
[null,null,null,null,null,null,"(PWOOLFUSDM)",null,null,"Global price of Wool, Fine© (PWOOLFUSDM)"]
[null,null,null,null,null,null,"(PSALMUSDM)",null,null,"Global price of Fish© (PSALMUSDM)"]
[null,null,null,null,null,null,"(PTEAUSDM)",null,null,"Global price of Tea, Kenyan© (PTEAUSDM)"]
[null,null,null,null,null,null,"(PLOGOREUSDM)",null,null,"Global price of Soft Logs© (PLOGOREUSDM)"]
[null,null,null,null,null,null,"(PHIDEUSDQ)",null,null,"Global price of Hides© (PHIDEUSDQ)"]
[null,null,null,null,null,null,"(PFANDBINDEXA)",null,null,"Global price of Food and beverage index© (PFANDBINDEXA)"]
[null,null,null,null,null,null,"(PSAWOREUSDA)",null,null,"Global price of Soft Sawnwood, Average of Softwoods,© (PSAWOREUSDA)"]
[null,null,null,null,null,null,"(PLAMBUSDA)",null,null,"Global price of Lamb© (PLAMBUSDA)"]
[null,null,null,null,null,null,"(PROILUSDA)",null,null,"Global price of Rapeseed Oil© (PROILUSDA)"]
[null,null,null,null,null,null,"(PWOOLCUSDM)",null,null,"Global price of Wool, Coarse© (PWOOLCUSDM)"]
[null,null,null,null,null,null,"(PGNUTSUSDA)",null,null,"Global price of Groundnuts© (PGNUTSUSDA)"]
[null,null,null,null,null,null,"(PLOGSKUSDM)",null,null,"Global price of Hard Logs, Import Price Japan© (PLOGSKUSDM)"]
[null,null,null,null,null,null,"(PSAWMALUSDQ)",null,null,"Global price of Hard Sawnwood, Dark Red Meranti© (PSAWMALUSDQ)"]
[null,null,null,null,null,null,"(GASMIDREFM)",null,null,"US Midgrade Reformulated Gas Price (GASMIDREFM)"]

{"sheet":"Yahoo Stocks","index":8,"n_rows":121,"n_cols":47,"rows_kept":121,"cut":false,"hidden":false,"merged":[]}
["URL to read Yahoo stock with WEBREQUEST"]
[]
[]
[]
[null,null,"yahoo url",{"$f":"Part_1&D10&Part_2&Part_3&Part4&Crumb_String","v":"https://query1.finance.yahoo.com/v7/finance/download/0?period1=-631152000&period2=1535414400&interval=1mo&events=history&crumb=eZDB4uhojHJ"}]
[null,null,"Fixed","https://query1.finance.yahoo.com/v7/finance/download/GE?period1=-631152000&period2=1510444800&interval=1wk&events=history&crumb=z9oVYd3qdiN"]
[]
["Parts to URL for WEBREQUEST",null,null,null,null,null,null,null,null,null,null,null,null,null,null,null,null,null,null,null,null,null,null,null,null,null,null,null,null,null,null,null,null,null,null,null,null,null,null,null,null,null,null,null,null,4,"0DogTmPS.ad"]
[null,null,"Part 1","https://query1.finance.yahoo.com/v7/finance/download/",null,null,null,null,null,null,null,null,null,null,null,"Yahoo Index",{"$f":"Q11&D24&Q12&L25&Q13&M25&Q14","v":"http://www.google.com/finance/historical?q=0&startdate=Jun 28, 1999&enddate=Aug 28, 2018&output=csv"},null,null,null,null,null,null,null,null,null,null,null,null,null,null,null,null,null,null,null,null,null,null,null,null,null,null,null,null,5,"YR4DTj5nWxK"]
[null,null,"Part 2",{"$f":"Google_Ticker","v":0},null,null,null,null,null,null,null,null,null,null,null,null,null,null,null,null,null,null,null,null,null,null,null,null,null,null,null,null,null,null,null,null,null,null,null,null,null,null,null,null,null,6,".lxRRFrSiBH"]
[null,null,"Part 2","?period1=-631152000&period2=",null,null,null,null,null,null,null,null,null,null,null,null,"http://www.google.com/finance/historical?q=",null,null,null,null,null,null,null,null,null,null,null,null,null,null,null,null,null,null,null,null,null,null,null,null,null,null,null,null,7,"ayso2ZErQOf"]
[null,null,"Part 3",{"$f":"TEXT(L16,0)","v":"1535414400"},null,null,null,null,null,null,null,null,null,null,null,null,"&startdate=",null,null,null,null,null,null,null,null,null,null,null,null,null,null,null,null,null,null,null,null,null,null,null,null,null,null,null,null,8,"aTX22e7zn34"]
[null,null,"Part4","&interval=1mo&events=history&crumb=",null,null,null,null,null,null,null,null,null,null,null,null,"&enddate=",null,null,null,null,null,null,null,null,null,null,null,null,null,null,null,null,null,null,null,null,null,null,null,null,null,null,null,null,9,"VI5Xh7BcvmY"]
[null,null,"Cookie String","B=8b3oq25dob9ni&b=3&s=ca",null,null,null,null,null,null,null,null,null,null,null,null,"&output=csv",null,null,null,null,null,null,null,null,null,null,null,null,null,null,null,null,null,null,null,null,null,null,null,null,null,null,null,null,10,"Apevnkl89Do"]
[null,null,"Cookie num",1,null,null,null,null,null,null,null,"=(A1-DATE(1970,1,1))*86400",null,null,null,null,null,null,null,null,null,null,null,null,null,null,null,null,null,null,null,null,null,null,null,null,null,null,null,null,null,null,null,null,null,11,"UEsp04Vhq1V"]
[null,null,"Cookie in VBA","B=bt97nr5d0h3e6&b=3&s=t2",null,null,null,null,null,null,{"$f":"TODAY()","v":"2018-08-28"},{"$f":"(K16-DATE(1970,1,1))*86400","v":1535414400},null,null,null,null,null,null,null,null,null,null,null,null,null,null,null,null,null,null,null,null,null,null,null,null,null,null,null,null,null,null,null,null,null,12,"ibMkdnG5sRs"]
[null,null,"Crumb String","eZDB4uhojHJ",null,null,null,null,null,null,null,null,null,null,null,null,null,null,null,null,null,null,null,null,null,null,null,null,null,null,null,null,null,null,null,null,null,null,null,null,null,null,null,null,null,13,"NYyK5l5bdIv"]
[null,null,"response wait",3]
[]
[null,null,"Yahoo Counter",4,null,null,null,null,null,null,null,null,null,null,null,null,null,null,null,null,null,null,null,null,null,null,null,null,null,null,null,null,null,null,null,null,null,null,null,null,null,null,null,null,null,15,"mmD9oHwXc4Q"]
[null,null,"Yahoo Stock Tickers",{"$f":"E21","v":0},{"$f":"COUNTA(D30:D203)","v":0},null,null,null,null,null,null,null,null,null,null,null,null,null,null,null,null,null,null,null,null,null,null,null,null,null,null,null,null,null,null,null,null,null,null,null,null,null,null,null,null,16,"QGPH.wTFCEz"]
[null,null,null,null,null,null,null,null,null,null,null,null,null,null,null,null,null,null,null,null,null,null,null,null,null,null,null,null,null,null,null,null,null,null,null,null,null,null,null,null,null,null,null,null,null,17,"2oXbf.DMbbF"]
[null,null,null,"Yahoo Stock Sheet","Yahoo name",null,null,null,null,null,null,"Start","End",null,null,null,null,null,"Step 3: Open the macro file to put together checkboxes",null,null,null,null,null,null,null,null,null,null,null,null,null,null,null,null,null,null,null,null,null,null,null,null,null,null,24]
[null,null,null,{"$f":"INDEX(D30:D257,Counter)","v":0},{"$f":"INDEX(E30:E164,Counter)","v":0},null,null,null,null,null,null,"1999-06-28",{"$f":"TODAY()","v":"2018-08-28"},null,null,null,null,null,"Step 4: Run the macro (Shift, CNTL, E)",null,null,null,null,null,null,null,null,null,null,null,null,null,null,null,null,null,null,null,null,null,null,null,null,null,null,25]
[null,null,null,null,null,null,null,null,null,null,null,{"$f":"TEXT(L24,\"MMM DD, YYYY\")","v":"Jun 28, 1999"},{"$f":"TEXT(M24,\"MMM DD, YYYY\")","v":"Aug 28, 2018"},null,null,null,null,null,"Step 5: Insert the standard count, match and index",null,null,null,null,null,null,null,null,null,null,null,null,null,null,null,null,null,null,null,null,null,null,null,null,null,null,26]
["Stock Tickers and Company Names from Yahoo"]
[]
[null,null,null,"Sheet Name","Company Name"]
[null,null,null,null,null,null,null,null,null,"General",null,null,null,null,"Oil Companies",null,null,null,null,null,null,null,null,null,null,null,null,null,null,null,null,null,null,null,null,null,"Insurance Company"]
[null,null,null,null,null,null,null,null,null,null,null,null,null,null,null,null,null,null,"Step 9: Put together graphs"]
[null,null,null,null,null,null,null,null,1,"GE","General Electric",null,null,null,"Ticker","Index","Currency",null,null," CHK ","Cheasapeak Energy",null,null,"NSRGY","Nestle",null,"DTE.DE","Deutsche Telekom AG (ADR)",null,null,null,null,"GE","General Electric",null,null,"L&G","LGEN.L",null,"FB","Facebook"]
[null,null,null,null,null,null,null,null,2,"AAPL","Apple",null,null,1," CHK ","Cheasapeak Energy",null,null,null,"RRC","Range Resources",null,null,"KRFT","Kraft",null,"FTE","France Telecom SA (ADR)",null,null,null,null,"C ","Citibank",null,null,"L&G ADR","LGGNY",null,"MSFT","Microsoft"]
[null,null,null,null,null,null,null,null,3,"GOOG","Google",null,null,2,"RRC","Range Resources",null,null,null,"CLR","Contential Resources",null,null,"HSY","Hershey",null,"BT","BT Group plc (ADR) (BT)",null,null,null,null,"AAPL","Apple",null,null,"Met Life","MET",null,"BBRY","Blackberry"]
[null,null,null,null,null,null,null,null,4,"AMZN","Amazon",null,null,3,"CLR","Contential Resources",null,null,null,"SD","Sandy Ridge",null,null,"BN.PA","Dannone",null,"VOD","Vodafone Group plc",null,null,null,null,"GOOG","Google",null,null,"AIG","AIG",null,"HPQ","HP"]
[null,null,null,null,null,null,null,null,5,"FB","Facebook",null,null,4,"SD","Sandy Ridge",null,null,null,"MPO","Midstates Petroleum",null,null,"PEP","Pepsi Co",null,"VZ","Verizon Communications...",null,null,null,null,"CBB","Cincinnati Bell Inc. (CBB)",null,null,"Prudential","PRU",null,"005930.KS","Samsung Electronics"]
[null,null,null,null,null,null,null,null,6,"MSFT","Microsoft",null,null,5,"MPO","Midstates Petroleum",null,null,null,"RDS-B","Shell Oil",null,null,"CCE","Coca Cola",null,"S","Sprint",null,null,null,null,"JPM","JP Morgan",null,null,"Genworth","GWO.TO",null,"010140.KS","Samsung Heavy Industries"]
[null,null,null,null,null,null,null,null,7,"BBRY","Blackberry",null,null,6,"RDS-B","Shell Oil",null,null,null,"XOM","Exxon Mobil",null,null,"K","Kellog",null,"PHI","Philippine Long Distance (PHI)",null,null,null,null,"MCD","McDonalds",null,null,"Genworth ADR","GNW",null,"BT","Brittish Telecom"]
[null,null,null,null,null,null,null,null,8,"HPQ","HP",null,null,7,"XOM","Exxon Mobil",null,null,null,"CVX","Chevron",null,null,"GIS","General Mills",null,"TKC","Turkcell Iletisim Hizm...",null,null,null,null,"WMT","Wall Mart",null,null,"China Insurance Company","LFC",null,"NOK","Nokia"]
[null,null,null,null,null,null,null,null,9,"005930.KS","Samsung Electronics",null,null,8,"CVX","Chevron",null,null,null,"BECC","Breitling Energy Corp.",null,null,"CAG","ConAgra",null,"CHU","China Unicom Limited (ADR (CHU)",null,null,null,null,"ED","Con Ed",null,null,"AIA Group","AAGIY",null,"USM","US Cellular"]
[null,null,null,null,null,null,null,null,10,"010140.KS","Samsung Heavy Industries",null,null,9,"TOT","Total",null,null,null,"TOT","Total",null,null,"HNZ","Heinz",null,"CN","China Netcom Group Corp ( (CN)",null,null,null,null,"ATO","Atmos Energy Corp. (ATO)",null,null,"China Pacific Insrance","2601.HK",null,"VOD","Vodaphone"]
[null,null,null,null,null,null,null,null,11,"BT","Brittish Telecom",null,null,10,"BP","BP",null,null,null,"BP","BP",null,null,"SLE","Sara Lee",null,"CTL","CenturyTel, Inc. (CTL)",null,null,null,null,"LG","Laclede SA (LG)",null,null,"Aflac","AFL",null,"S","Sprint"]
[null,null,null,null,null,null,null,null,12,"NOK","Nokia",null,null,11,"GDP","Goodrich Petroleum Corp.",null,null,null,"GDP","Goodrich Petroleum Corp.",null,null,"SENEB","Seneca Foods Corp",null,"DCM","NTT DoCoMo, Inc. (ADR)",null,null,null,null,"NJR","New Jersey Resources Corp. (NJR)",null,null,"Dai-ichi Life Holdings Inc","DSNKY",null,"CBB","Cincinnati Bell Inc. (CBB)"]
[null,null,null,null,null,null,null,null,13,"USM","US Cellular",null,null,12,"SN","Sanchez Energy Corp.",null,null,null,"SN","Sanchez Energy Corp.",null,null,"CZZ","Cosan LTD",null,"NIHD","NII Holdings, Inc. (NIHD)",null,null,null,null,"GAS","Nicor Inc. (GAS)",null,null,"Old Mutual","ODMTY",null,"JPM","JP Morgan"]
[null,null,null,null,null,null,null,null,14,"VOD","Vodaphone",null,null,14,"CWEI","Clayton Williams Energy Inc.",null,null,null,"CWEI","Clayton Williams Energy Inc.",null,null,"JBSS","John B Snfillippo",null,"NTT","Nippon Telegraph & Teleph (NTT)",null,null,null,null,"NWN","Northwest Natural Gas Co. (NWN)",null,null,"Power Financial Corp","PWF.TO",null,"MCD","McDonalds"]
[null,null,null,null,null,null,null,null,15,"S","Sprint",null,null,15,"CPE","Callon Petroleum Co.",null,null,null,"CPE","Callon Petroleum Co.",null,null,"CMFP","China Marine",null,"GNCMA","General Communication, In (GNCMA)",null,null,null,null,"PNY","Piedmont Natural Gas Co. Inc. (PNY)",null,null,"Lincoln National Corp","LNC",null,"WMT","Wall Mart"]
[null,null,null,null,null,null,null,null,16,"CBB","Cincinnati Bell Inc. (CBB)",null,null,16,"LPI","Laredo Petroleum Co.",null,null,null,"LPI","Laredo Petroleum Co.",null,null,"DF","Dean Foods",null,"IIT","P.T. Indosat Tbk (ADR) (IIT)",null,null,null,null,"SJI","South Jersey Industries Inc. (SJI)",null,null,"Principal Financial Group","PFG",null,"NG.L","National Grid"]
[null,null,null,null,null,null,null,null,17,"JPM","JP Morgan",null,null,17,"OAS","Oasis Petroleum Inc.",null,null,null,"OAS","Oasis Petroleum Inc.",null,null,"DLM","Delmonte",null,"JCOM","j2 Global Communications (JCOM)",null,null,null,null,"SWX","Southwest Gas Corp. (SWX)",null,null,"Allianz","ALIZF",null,"EXC","Exelon"]
[null,null,null,null,null,null,null,null,18,"MCD","McDonalds",null,null,18,"SGY","Stone Energy Corp.",null,null,null,"SGY","Stone Energy Corp.",null,null,"LANC","Lancaster Colony",null,"LEAP.OB","Leap Wireless Internation (LEAP.OB)",null,null,null,null,"WGL","WGL Holdings Inc. (WGL)",null,null,"Zurich Insurance Group","ZFSVF",null,"ENGI.PA","GDF Suez"]
[null,null,null,null,null,null,null,null,19,"WMT","Wall Mart",null,null,19,"TPLM","Triangle Petroleum Corp.",null,null,null,"TPLM","Triangle Petroleum Corp.",null,null,"SJM","The JM Smucker Company",null,"MBT","Mobile TeleSystems OJS...",null,null,null,null,"CHG","CH Energy Group Inc. (CHG)",null,null,"Swiss Life ","SWSDF",null,"EDF.PA","EDF"]
[null,null,null,null,null,null,null,null,20,"NG.L","National Grid",null,null,20,"EPE","EP Energy Corp. Class A",null,null,null,"EPE","EP Energy Corp. Class A",null,null,"SNAK","Inventure Foods",null,"NZT","Telecom Corp of New Zeala (NZT)",null,null,null,null,"UIL","UIL Holdings Corp. (UIL)",null,null,"Sun Life","SLF",null,"ED","Consolidated Edison"]
[null,null,null,null,null,null,null,null,21,"EXC","Exelon",null,null,21,"SWN","Southwestern",null,null,null,"NBL","Noble Energy",null,null,"FLO","Flowers Foods",null,"PGI","Premiere Global Services (PGI)",null,null,null,null,"IDA","IdaCorp, Inc. (IDA)",null,null,"AXA SA","AXAHY",null,"5347.KL","Tenaga"]
[null,null,null,null,null,null,null,null,22,"ENGI.PA","GDF Suez",null,null,22,"CXO","Concho",null,null,null,"SWN","Southwestern",null,null,"YMZBY","Yamazaki Baking Co. Ltd. (YMZBY)",null,"PT","Portugal Telecom, SGPS (A (PT)",null,null,null,null,"NI","Nisource Inc. (NI)",null,null,"Sumpo Holdings","SMPNY",null,"MAEOY","Meralco"]
[null,null,null,null,null,null,null,null,23,"EDF.PA","EDF",null,null,23," CNX "," CNX ",null,null,null,"CXO","Concho",null,null,"WN.TO","George Weston Limited (WN.TO)",null,"PTNR","Partner Communications Co (PTNR)",null,null,null,null,"SCG","SCANA Corp. (SCG)",null,null,"Aegon NV","AEG",null,"TATAPOWER.BO","TATA Power"]
[null,null,null,null,null,null,null,null,24,"ED","Consolidated Edison",null,null,24," COG "," COG ",null,null,null," CNX "," CNX ",null,null,"TR","Tootsie Roll Industries Inc. (TR",null,"CBB","Cincinnati Bell Inc. (CBB)",null,null,null,null,"WEC","Wisconsin Energy Corp. (WEC)",null,null,"NN Group NV","NNGRY",null,"AES","AES"]
[null,null,null,null,null,null,null,null,25,"5347.KL","Tenaga",null,null,30," CPE "," CPE ",null,null,null," COG "," COG ",null,null,"DMND","Diamond Foods Inc",null,"CHA","China Telecom Corporation (CHA)",null,null,null,null,"XEL","Xcel Energy Inc. (XEL)",null,null,null,null,null,"ED","Consolidated Edison"]
[null,null,null,null,null,null,null,null,26,"MAEOY","Meralco",null,null,25," CRZO"," CRZO",null,null,null," CPE "," CPE ",null,null,"C","Citibank",null,"CHL","China Mobile (Hong Kong) (CHL)",null,null,null,null,null,null,null,null,null,null,null,"KEP","Korean Electric Power"]
[null,null,null,null,null,null,null,null,27,"TATAPOWER.BO","TATA Power",null,null,26," DVN ","Devon Energy",null,null,null," CRZO"," CRZO",null,null,"JPM","JP Morgan Chase",null,"CHT","Chung Hwa Telecom Co., Lt (CHT)",null,null,null,null,null,null,null,null,null,null,null,"NRG","NRG Energy"]
[null,null,null,null,null,null,null,null,28,"AES","AES",null,null,27," ERF "," ERF ",null,null,null," DVN ","Devon Energy",null,null,"MSFT","Microsoft",null,"SKM","SK Telecom Co., Ltd. (ADR (SKM)",null,null,null,null,null,null,null,null,null,null,null,"ENER","Energy Conversion Devices"]
[null,null,null,null,null,null,null,null,29,"ED","Consolidated Edison",null,null,28," GDP ","Goodrich Energy",null,null,null," ERF "," ERF ",null,null,"NOK","Nokia",null,"SNGNF.PK","Singapore Telecommunicati (SNGNF.PK)",null,null,null,null,null,null,null,null,null,null,null,"FOE","Ferro"]
[null,null,null,null,null,null,null,null,30,"KEP","Korean Electric Power",null,null,29," IDT "," IDT ",null,null,null," GDP ","Goodrich Energy",null,null,"VOD","Vodaphone",null,"SSI","SpectraSite Inc. (SSI)",null,null,null,null,null,null,null,null,null,null,null,"FSLR","First Solar"]
[null,null,null,null,null,null,null,null,31,"NRG","NRG Energy",null,null,null," LEI ","Lucas Energy Company",null,null,null," IDT "," IDT ",null,null,null,null,null,"TDS","Telephone & Data Systems (TDS)",null,null,null,null,null,null,null,null,null,null,null,"GIS","General Mills"]
[null,null,null,null,null,null,null,null,32,"ENER","Energy Conversion Devices",null,null,null," NFG ","National Fuel Gas",null,null,null," LEI ","Lucas Energy Company",null,null,null,null,null,"TEF","Telefonica S.A. (ADR)",null,null,null,null,null,null,null,null,null,null,null,"K","Kellogs"]
[null,null,null,null,null,null,null,null,33,"FOE","Ferro",null,null,null," NGS ","Natonal Gas Services",null,null,null," NFG ","National Fuel Gas",null,null,null,null,null,"TELNY","Telenor ASA (ADR)",null,null,null,null,null,null,null,null,null,null,null,"CAG","Conagra"]
[null,null,null,null,null,null,null,null,34,"FSLR","First Solar",null,null,null," PQ ","Petroquest Energy",null,null,null," NGS ","Natonal Gas Services",null,null,null,null,null,"TI","Telecom Italia S.p.A. (AD (TI)",null,null,null,null,null,null,null,null,null,null,null,"CCE","Coca Cola"]
[null,null,null,null,null,null,null,null,null,"GIS","General Mills",null,null,null," PXD ","Pioneer Energy",null,null,null," PQ ","Petroquest Energy",null,null,null,null,null,"TLK","PT Telekomunikasi Indones (TLK)",null,null,null,null,null,null,null,null,null,null,null,"PEP","Pepsico"]
[null,null,null,null,null,null,null,null,null,"K","Kellogs",null,null,null," REXX","Rex Energy Company",null,null,null," PXD ","Pioneer Energy",null,null,null,null,null,"TNE","Tele Norte Leste Particip (TNE)",null,null,null,null,null,null,null,null,null,null,null,"MSI","Motarola"]
[null,null,null,null,null,null,null,null,null,"CAG","Conagra",null,null,null," UNT "," UNT ",null,null,null," REXX","Rex Energy Company",null,null,null,null,null,"USM","United States Cellular Co (USM)",null,null,null,null,null,null,null,null,null,null,null,"NYT","New York Times"]
[null,null,null,null,null,null,null,null,null,"CCE","Coca Cola",null,null,null,"TPLM","Triangle Petroleum Corporation",null,null,null," UNT "," UNT ",null,null,null,null,null,"USMO","USA Mobility, Inc. (USMO)",null,null,null,null,null,null,null,null,null,null,null,"066570.KS","LG Electronics"]
[null,null,null,null,null,null,null,null,null,"PEP","Pepsico",null,null,null,"AR","Antero",null,null,null,"TPLM","Triangle Petroleum Corporation",null,null,null,null,null,"UTSI","UTStarcom, Inc. (UTSI)",null,null,null,null,null,null,null,null,null,null,null,"CARL-B.CO","Carlesberg"]
[null,null,null,null,null,null,null,null,null,"MSI","Motarola",null,null,null,"LNG","Cheniere Energy",null,null,null,"AR","Antero",null,null,null,null,null,"VIP","Vimpel-Communications (AD (VIP)",null,null,null,null,null,null,null,null,null,null,null,"BUD","Anheuser-Busch Inbev SA (USD) "]
[null,null,null,null,null,null,null,null,null,"NYT","New York Times",null,null,null,"ROSE","Rosetta Resources",null,null,null,"LNG","Cheniere Energy",null,null,null,null,null,"T","AT&T",null,null,null,null,null,null,null,null,null,null,null,"ABEV","Ambev SA (USD,BRL) "]
[null,null,null,null,null,null,null,null,null,"066570.KS","LG Electronics",null,null,null,null,null,null,null,null,"4K2.F","Kodiak Oil and Gas",null,null,null,null,null,"AT","Alltel Corporation (AT)",null,null,null,null,null,null,null,null,null,null,null,"TAP","Molson Coors Brewing Company "]
[null,null,null,null,null,null,null,null,null,"CARL-B.CO","Carlesberg",null,null,null,null,null,null,null,null,"ROSE","Rosetta Resources",null,null,null,null,null,"BCE","BCE Inc. (USA) (BCE)",null,null,null,null,null,null,null,null,null,null,null,"STBFY","Suntory Beverage & Food Limited"]
[null,null,null,null,null,null,null,null,null,"BUD","Anheuser-Busch Inbev SA (USD) ",null,null,null,null,null,null,null,null," MHR ","Magmum Hunter",null,null,null,null,null,null,null,null,null,null,null,null,null,null,null,null,null,null,"SAM","Boston Beer"]
[null,null,null,null,null,null,null,null,null,"ABEV","Ambev SA (USD,BRL) ",null,null,null,null,null,null,null,null,null,null,null,null,null,null,null,null,null,null,null,null,null,null,null,null,null,null,null,null,"STZ","Constellation Brands"]
[null,null,null,null,null,null,null,null,null,"TAP","Molson Coors Brewing Company ",null,null,null,null,null,null,null,null,null,null,null,null,null,null,null,null,null,null,null,null,null,null,null,null,null,null,null,null,"BREW","Craft Brew Alliance"]
[null,null,null,null,null,null,null,null,null,"STBFY","Suntory Beverage & Food Limited",null,null,null,null,null,null,null,null,null,null,null,null,null,null,null,null,null,null,null,null,null,null,null,null,null,null,null,null,"WVVI","Willamett Valley"]
[null,null,null,null,null,null,null,null,null,"SAM","Boston Beer",null,null,null,null,null,null,null,null,null,null,null,null,null,null,null,null,null,null,null,null,null,null,null,null,null,null,null,null,"KOF","Coca Cola"]
[null,null,null,null,null,null,null,null,null,"STZ","Constellation Brands",null,null,null,null,null,null,null,null,null,null,null,null,null,null,null,null,null,null,null,null,null,null,null,null,null,null,null,null,"COKE","Coca Cola Botteling"]
[null,null,null,null,null,null,null,null,null,"BREW","Craft Brew Alliance",null,null,null,null,null,null,null,null,null,null,null,null,null,null,null,null,null,null,null,null,null,null,null,null,null,null,null,null,"DPS","Dr Pepper"]
[null,null,null,null,null,null,null,null,null,"WVVI","Willamett Valley",null,null,null,null,null,null,null,null,null,null,null,null,null,null,null,null,null,null,null,null,null,null,null,null,null,null,null,null,"LTEA","Long Island Tea"]
[null,null,null,null,null,null,null,null,null,"KOF","Coca Cola",null,null,null,null,null,null,null,null,null,null,null,null,null,null,null,null,null,null,null,null,null,null,null,null,null,null,null,null,"PEP","Pepsi Co"]
[null,null,null,null,null,null,null,null,null,"COKE","Coca Cola Botteling",null,null,null,null,null,null,null,null,null,null,null,null,null,null,null,null,null,null,null,null,null,null,null,null,null,null,null,null,"HEINY","Heineken"]
[null,null,null,null,null,null,null,null,null,"DPS","Dr Pepper",null,null,null,null,null,null,null,null,null,null,null,null,null,null,null,null,null,null,null,null,null,null,null,null,null,null,null,null,"FMOCY","Fomento Economico Mexicano SAB de CV (USD,MXN) "]
[null,null,null,null,null,null,null,null,null,"LTEA","Long Island Tea",null,null,null,null,null,null,null,null,null,null,null,null,null,null,null,null,null,null,null,null,null,null,null,null,null,null,null,null,"KNBWY","Kirin Holdings Company, Limited"]
[null,null,null,null,null,null,null,null,null,"PEP","Pepsi Co",null,null,null,null,null,null,null,null,null,null,null,null,null,null,null,null,null,null,null,null,null,null,null,null,null,null,null,null,"TSGTF","Tsingtao Brewery Company Limited"]
[null,null,null,null,null,null,null,null,null,"HEINY","Heineken",null,null,null,null,null,null,null,null,null,null,null,null,null,null,null,null,null,null,null,null,null,null,null,null,null,null,null,null,"DEO","Diageo"]
[null,null,null,null,null,null,null,null,null,"FMOCY","Fomento Economico Mexicano SAB de CV (USD,MXN) ",null,null,null,null,null,null,null,null,null,null,null,null,null,null,null,null,null,null,null,null,null,null,null,null,null,null,null,null,"CHK","Cheasapeak Energy"]
[null,null,null,null,null,null,null,null,null,"KNBWY","Kirin Holdings Company, Limited",null,null,null,null,null,null,null,null,null,null,null,null,null,null,null,null,null,null,null,null,null,null,null,null,null,null,null,null,"RRC","Range Resources"]
[null,null,null,null,null,null,null,null,null,"TSGTF","Tsingtao Brewery Company Limited",null,null,null,null,null,null,null,null,null,null,null,null,null,null,null,null,null,null,null,null,null,null,null,null,null,null,null,null,"CLR","Contential Resources"]
[null,null,null,null,null,null,null,null,null,"DEO","Diageo",null,null,null,null,null,null,null,null,null,null,null,null,null,null,null,null,null,null,null,null,null,null,null,null,null,null,null,null,"SD","Sandy Ridge"]
[null,null,null,null,null,null,null,null,null,"CHK","Cheasapeak Energy",null,null,null,null,null,null,null,null,null,null,null,null,null,null,null,null,null,null,null,null,null,null,null,null,null,null,null,null,"CAT","Catepillar"]
[null,null,null,null,null,null,null,null,null,"RRC","Range Resources",null,null,null,null,null,null,null,null,null,null,null,null,null,null,null,null,null,null,null,null,null,null,null,null,null,null,null,null,"ECL","Eco Lab"]
[null,null,null,null,null,null,null,null,null,"CLR","Contential Resources",null,null,null,null,null,null,null,null,null,null,null,null,null,null,null,null,null,null,null,null,null,null,null,null,null,null,null,null,"MFIN","Medallion Financial Corp."]
[null,null,null,null,null,null,null,null,null,"SD","Sandy Ridge",null,null,null,null,null,null,null,null,null,null,null,null,null,null,null,null,null,null,null,null,null,null,null,null,null,null,null,null,"PYPL","Paypal"]
[null,null,null,null,null,null,null,null,null,"CAT","Catepillar",null,null,null,null,null,null,null,null,null,null,null,null,null,null,null,null,null,null,null,null,null,null,null,null,null,null,null,null,"PCLN","Priceline"]
[null,null,null,null,null,null,null,null,null,"ECL","Eco Lab",null,null,null,null,null,null,null,null,null,null,null,null,null,null,null,null,null,null,null,null,null,null,null,null,null,null,null,null,"EBAY","Ebay"]
[null,null,null,null,null,null,null,null,null,"MFIN","Medallion Financial Corp.",null,null,null,null,null,null,null,null,null,null,null,null,null,null,null,null,null,null,null,null,null,null,null,null,null,null,null,null,"LGEN.L","L&G"]
[null,null,null,null,null,null,null,null,null,"PYPL","Paypal",null,null,null,null,null,null,null,null,null,null,null,null,null,null,null,null,null,null,null,null,null,null,null,null,null,null,null,null,"LGGNY","L&G ADR"]
[null,null,null,null,null,null,null,null,null,"PCLN","Priceline",null,null,null,null,null,null,null,null,null,null,null,null,null,null,null,null,null,null,null,null,null,null,null,null,null,null,null,null,"MET","Met Life"]
[null,null,null,null,null,null,null,null,null,"EBAY","Ebay",null,null,null,null,null,null,null,null,null,null,null,null,null,null,null,null,null,null,null,null,null,null,null,null,null,null,null,null,"AIG","AIG"]
[null,null,null,null,null,null,null,null,null,null,null,null,null,null,null,null,null,null,null,null,null,null,null,null,null,null,null,null,null,null,null,null,null,null,null,null,null,null,null,"PRU","Prudential"]
[null,null,null,null,null,null,null,null,null,null,null,null,null,null,null,null,null,null,null,null,null,null,null,null,null,null,null,null,null,null,null,null,null,null,null,null,null,null,null,"GWO.TO","Genworth"]
[null,null,null,null,null,null,null,null,null,null,null,null,null,null,null,null,null,null,null,null,null,null,null,null,null,null,null,null,null,null,null,null,null,null,null,null,null,null,null,"GNW","Genworth ADR"]
[null,null,null,null,null,null,null,null,null,null,null,null,null,null,null,null,null,null,null,null,null,null,null,null,null,null,null,null,null,null,null,null,null,null,null,null,null,null,null,"LFC","China Insurance Company"]
[null,null,null,null,null,null,null,null,null,null,null,null,null,null,null,null,null,null,null,null,null,null,null,null,null,null,null,null,null,null,null,null,null,null,null,null,null,null,null,"AAGIY","AIA Group"]
[null,null,null,null,null,null,null,null,null,null,null,null,null,null,null,null,null,null,null,null,null,null,null,null,null,null,null,null,null,null,null,null,null,null,null,null,null,null,null,"2601.HK","China Pacific Insrance"]
[null,null,null,null,null,null,null,null,null,null,null,null,null,null,null,null,null,null,null,null,null,null,null,null,null,null,null,null,null,null,null,null,null,null,null,null,null,null,null,"AFL","Aflac"]
[null,null,null,null,null,null,null,null,null,null,null,null,null,null,null,null,null,null,null,null,null,null,null,null,null,null,null,null,null,null,null,null,null,null,null,null,null,null,null,"DSNKY","Dai-ichi Life Holdings Inc"]
[null,null,null,null,null,null,null,null,null,null,null,null,null,null,null,null,null,null,null,null,null,null,null,null,null,null,null,null,null,null,null,null,null,null,null,null,null,null,null,"ODMTY","Old Mutual"]
[null,null,null,null,null,null,null,null,null,null,null,null,null,null,null,null,null,null,null,null,null,null,null,null,null,null,null,null,null,null,null,null,null,null,null,null,null,null,null,"PWF.TO","Power Financial Corp"]
[null,null,null,null,null,null,null,null,null,null,null,null,null,null,null,null,null,null,null,null,null,null,null,null,null,null,null,null,null,null,null,null,null,null,null,null,null,null,null,"LNC","Lincoln National Corp"]
[null,null,null,null,null,null,null,null,null,null,null,null,null,null,null,null,null,null,null,null,null,null,null,null,null,null,null,null,null,null,null,null,null,null,null,null,null,null,null,"PFG","Principal Financial Group"]
[null,null,null,null,null,null,null,null,null,null,null,null,null,null,null,null,null,null,null,null,null,null,null,null,null,null,null,null,null,null,null,null,null,null,null,null,null,null,null,"ALIZF","Allianz"]
[null,null,null,null,null,null,null,null,null,null,null,null,null,null,null,null,null,null,null,null,null,null,null,null,null,null,null,null,null,null,null,null,null,null,null,null,null,null,null,"ZFSVF","Zurich Insurance Group"]
[null,null,null,null,null,null,null,null,null,null,null,null,null,null,null,null,null,null,null,null,null,null,null,null,null,null,null,null,null,null,null,null,null,null,null,null,null,null,null,"SWSDF","Swiss Life "]
[null,null,null,null,null,null,null,null,null,null,null,null,null,null,null,null,null,null,null,null,null,null,null,null,null,null,null,null,null,null,null,null,null,null,null,null,null,null,null,"SLF","Sun Life"]
[null,null,null,null,null,null,null,null,null,null,null,null,null,null,null,null,null,null,null,null,null,null,null,null,null,null,null,null,null,null,null,null,null,null,null,null,null,null,null,"AXAHY","AXA SA"]
[null,null,null,null,null,null,null,null,null,null,null,null,null,null,null,null,null,null,null,null,null,null,null,null,null,null,null,null,null,null,null,null,null,null,null,null,null,null,null,"SMPNY","Sumpo Holdings"]
[null,null,null,null,null,null,null,null,null,null,null,null,null,null,null,null,null,null,null,null,null,null,null,null,null,null,null,null,null,null,null,null,null,null,null,null,null,null,null,"AEG","Aegon NV"]
[null,null,null,null,null,null,null,null,null,null,null,null,null,null,null,null,null,null,null,null,null,null,null,null,null,null,null,null,null,null,null,null,null,null,null,null,null,null,null,"NNGRY","NN Group NV"]

{"sheet":"Google Finance Stocks","index":9,"n_rows":66,"n_cols":19,"rows_kept":66,"cut":false,"hidden":false,"merged":[]}
[]
[]
[null,null,"Applied URL",{"$f":"D15","v":"http://www.google.com/finance/historical?q=0&startdate=Jun 28, 1999&enddate=Aug 27, 2018&output=csv"}]
[]
[]
[]
[]
[]
[null,null,"Basic URL","http://www.google.com/finance/historical?cid=14135&startdate=Jun+11%2C+2002&enddate=Jun+10%2C+2017&num=30&ei=dT87Wfn4Htf_jAH86KvAAw&output=csv"]
[null,null,"Cleaned URL","http://www.google.com/finance/historical?q=AAPL&startdate=Nov 1, 2011&enddate=Nov 30, 2011&output=csv"]
[]
[null,null,"Counter",2]
[null,null,"Google Tickers",2,{"$f":"COUNTA(D27:D84)","v":1}]
[]
[null,null,"Google URL",{"$f":"D17&D22&D18&E24&D19&F24&D20","v":"http://www.google.com/finance/historical?q=0&startdate=Jun 28, 1999&enddate=Aug 27, 2018&output=csv"}]
[]
[null,null,null,"http://www.google.com/finance/historical?q="]
[null,null,null,"&startdate="]
[null,null,null,"&enddate=",null,null,null,null,"Data from Google Site",null,null,null,null,"Single Stock with Combo Box and Check Box",null,null,null,null,"Step 1: Insert and Modify Checkbox"]
[null,null,null,"&output=csv",null,null,null,null,"Getting the Data Directly",null,null,null,null,"Create and Attach Checkboxes",null,null,null,null,"Step 2: Find the number of the first checkbox"]
[null,null,null,null,null,null,null,null,"Alternative URL",null,null,null,null,"Re-set Checkboxes",null,null,null,null,"Step 3: Open the macro file to put together checkboxes"]
[null,null,"Google Ticker",{"$f":"INDEX(D27:D158,Counter)","v":0},"Start","End",null,null,"Creating Macro Workbooks.open",null,null,null,null,"Set-up Master Date and Forms",null,null,null,null,"Step 4: Run the macro (Shift, CNTL, E)"]
[null,null,null,{"$f":"INDEX('Multiple Stock Graph'!C4:C49,Counter)","v":""},"1999-06-28",{"$f":"TODAY()-1","v":"2018-08-27"},null,null,"Adding Macro to Move Data",null,null,null,null,"Option for Raw, Index or Pct Change",null,null,null,null,"Step 5: Insert the standard count, match and index"]
[null,null,null,null,{"$f":"TEXT(E23,\"MMM DD, YYYY\")","v":"Jun 28, 1999"},{"$f":"TEXT(F23,\"MMM DD, YYYY\")","v":"Aug 27, 2018"},null,null,"Loop with Multiple Stocks",null,null,null,null,"Analysis of Single Stock vs Index",null,null,null,null,"Step 6: Use Indirect and lookup to read selected stocks"]
[null,null,null,null,null,null,null,null,"Import Stocks to Power BI",null,null,null,null,"Frequency Distribution vs Normal",null,null,null,null,"Step 7: Create growth and index for each stock"]
[null,null,null,null,null,null,null,null,null,null,null,null,null,null,null,null,null,null,"Step 8: Compute statistics and frequency vs normal"]
[null,null,null," CHK ","Cheasapeak Energy",null,null,null,1,"GE","General Electric",null,null," CHK ","Cheasapeak Energy",null,null,null,"Step 9: Put together graphs"]
[null,null,null,null,null,null,null,null,2,"AAPL","Apple",null,null,"RRC","Range Resources"]
[null,null,null,null,null,null,null,null,3,"CBB","Cincinnati Bell Inc. (CBB)",null,null,"CLR","Contential Resources"]
[null,null,null,null,null,null,null,null,4,"JPM","JP Morgan",null,null,"SD","Sandy Ridge"]
[null,null,null,null,null,null,null,null,5,"MCD","McDonalds",null,null,"MPO","Midstates Petroleum"]
[null,null,null,null,null,null,null,null,6,"WMT","Wall Mart",null,null,"RDS-B","Shell Oil"]
[null,null,null,null,null,null,null,null,7,"ED","Consolidated Edison",null,null,"XOM","Exxon Mobil"]
[null,null,null,null,null,null,null,null,8,"CAG","Conagra",null,null,"CVX","Chevron"]
[null,null,null,null,null,null,null,null,9,"CCE","Coca Cola",null,null,"TOT","Total"]
[null,null,null,null,null,null,null,null,10,"EXC","Excelon",null,null,"BP","BP"]
[null,null,null,null,null,null,null,null,11,"FOE","Ferro",null,null,"GDP","Goodrich Petroleum Corp."]
[null,null,null,null,null,null,null,null,12,"FSLR","First Solar",null,null,"SN","Sanchez Energy Corp."]
[null,null,null,null,null,null,null,null,13,"GIS","General Mills",null,null,"CWEI","Clayton Williams Energy Inc."]
[null,null,null,null,null,null,null,null,14,"HNZ","Heintz",null,null,"CPE","Callon Petroleum Co."]
[null,null,null,null,null,null,null,null,15,"HPQ","HP",null,null,"LPI","Laredo Petroleum Co."]
[null,null,null,null,null,null,null,null,16,"K","Kellogs",null,null,"OAS","Oasis Petroleum Inc."]
[null,null,null,null,null,null,null,null,17,"MSFT","Microsoft",null,null,"SGY","Stone Energy Corp."]
[null,null,null,null,null,null,null,null,18,"NOK","Nokia",null,null,"TPLM","Triangle Petroleum Corp."]
[null,null,null,null,null,null,null,null,19,"USM","US Cellular",null,null,"EPE","EP Energy Corp. Class A"]
[null,null,null,null,null,null,null,null,20,"PEP","Pepsico",null,null,"SWN","Southwestern"]
[null,null,null,null,null,null,null,null,21,"VOD","Vodaphone",null,null,"CXO","Concho"]
[null,null,null,null,null,null,null,null,22,"BT","Brittish Telecom",null,null," CNX "," CNX "]
[null,null,null,null,null,null,null,null,23,"AES","AES",null,null," COG "," COG "]
[null,null,null,null,null,null,null,null,24,"S","Sprint",null,null," CPE "," CPE "]
[null,null,null,null,null,null,null,null,25,"KEP","Korean Electric Power",null,null," CRZO"," CRZO"]
[null,null,null,null,null,null,null,null,26,"MSI","Motarola",null,null," DVN ","Devon Energy"]
[null,null,null,null,null,null,null,null,27,"NYT","New York Times",null,null," ERF "," ERF "]
[null,null,null,null,null,null,null,null,28,"DELL","Dell computers",null,null," GDP ","Goodrich Energy"]
[null,null,null,null,null,null,null,null,29,"BBRY","Blackberry",null,null," IDT "," IDT "]
[null,null,null,null,null,null,null,null,30,"NRG","NRG Energy",null,null," LEI ","Lucas Energy Company"]
[null,null,null,null,null,null,null,null,null,null,"Amazon",null,null," NFG ","National Fuel Gas"]
[null,null,null,null,null,null,null,null,null,null,null,null,null," NGS ","Natonal Gas Services"]
[null,null,null,null,null,null,null,null,null,null,null,null,null," PQ ","Petroquest Energy"]
[null,null,null,null,null,null,null,null,null,null,null,null,null," PXD ","Pioneer Energy"]
[null,null,null,null,null,null,null,null,null,null,null,null,null," REXX","Rex Energy Company"]
[null,null,null,null,null,null,null,null,null,null,null,null,null," UNT "," UNT "]
[null,null,null,null,null,null,null,null,null,null,null,null,null,"TPLM","Triangle Petroleum Corporation"]
[null,null,null,null,null,null,null,null,null,null,null,null,null,"AR","Antero"]
[null,null,null,null,null,null,null,null,null,null,null,null,null,"LNG","Cheniere Energy"]
[null,null,null,null,null,null,null,null,null,null,null,null,null,"ROSE","Rosetta Resources"]

{"sheet":"Google Index","index":10,"n_rows":75,"n_cols":14,"rows_kept":75,"cut":false,"hidden":false,"merged":[]}
[]
[null,null,"Not Ready Because of Change in Google Index "]
[]
[null,null,"Example","https://www.google.com/finance/historical?q=INDEXSP%3A.INX&ei=kWpUWaG2ItjKjAHMtKp4"]
[null,null,null,"https://www.google.com/finance/historical?q=NSE:HTMEDIA&startdate=Nov 1, 2001&enddate=June 28,2017&num=200&start=601"]
[]
[null,null,"url_part1",{"$f":"D9&D23&D10&D18&D11&E18&D12","v":"http://www.google.com/finance/historical?q=0&startdate=Jun 28, 1979&enddate=Aug 28, 2018&num="}]
[]
[null,null,null,"http://www.google.com/finance/historical?q="]
[null,null,null,"&startdate="]
[null,null,null,"&enddate="]
[null,null,null,"&num=",null,null,null,"Need to check this"]
[]
[null,null,"url_part2","&start="]
[null,null,null,null,null,null,null,null,null,"NSE:HTMEDIA",null,{"$f":"SUBSTITUTE(J15,\":\",\"\")","v":"NSEHTMEDIA"},null,"HT Media"]
[null,null,null,"Start","End",null,null,null,null,"INDEXDB:DAX",null,{"$f":"SUBSTITUTE(J16,\":\",\"\")","v":"INDEXDBDAX"},null,"Germany DAX"]
[null,null,null,"1979-06-28",{"$f":"TODAY()","v":"2018-08-28"},null,null,null,null,"INDEXFTSE:UKX",null,"INDEXFTSEUKX",null,"UK FTSE"]
[null,null,null,{"$f":"TEXT(D17,\"MMM DD, YYYY\")","v":"Jun 28, 1979"},{"$f":"TEXT(E17,\"MMM DD, YYYY\")","v":"Aug 28, 2018"},null,null,null,null,"BOM:532331",null,"Ajanta Pharma Ltd",null,"Ajanta"]
[]
[null,null,"Number of Series",1]
[null,null,"Index",4]
[]
[null,null,"google list name",{"$f":"D27","v":0}]
[]
[]
[null,null,null,"Ticker","Google Sheet Name"]
[null,null,null,{"$f":"INDEX(D30:D45,$D$21)","v":0},{"$f":"INDEX(E30:E45,$D$21)","v":0}]
[]
[]
[null,null,1,{"$f":"J15","v":"NSE:HTMEDIA"},{"$f":"SUBSTITUTE(J15,\":\",\"\")","v":"NSEHTMEDIA"},{"$f":"N15","v":"HT Media"},null,null,null,"NSE:HTMEDIA","NSEHTMEDIA","HT Media"]
[null,null,2,null,null,null,null,null,null,"INDEXDB:DAX","INDEXDBDAX","Germany DAX"]
[null,null,3,null,null,null,null,null,null,"INDEXFTSE:UKX","INDEXFTSEUKX","UK FTSE"]
[null,null,4,null,null,null,null,null,null,"BOM:532331","Ajanta","Ajanta"]
[null,null,5]
[null,null,6]
[null,null,7]
[null,null,8]
[null,null,9]
[null,null,10]
[null,null,11]
[null,null,12]
[null,null,13]
[null,null,14]
[null,null,15]
[null,null,16]
[null,null,17]
[null,null,18]
[null,null,19]
[null,null,20]
[null,null,21]
[null,null,22]
[null,null,23]
[null,null,24]
[null,null,25]
[null,null,26]
[null,null,27]
[null,null,28]
[null,null,29]
[null,null,30]
[null,null,31]
[null,null,32]
[null,null,33]
[null,null,34]
[null,null,35]
[null,null,36]
[null,null,37]
[null,null,38]
[null,null,39]
[null,null,40]
[null,null,41]
[null,null,42]
[null,null,43]
[null,null,44]
[null,null,45]
[null,null,46]

{"sheet":"International Indicies","index":11,"n_rows":47,"n_cols":7,"rows_kept":47,"cut":false,"hidden":false,"merged":[]}
[]
[null,null,"Number Applied",null,1]
[null,null,"Total International Indicies",null,{"$f":"COUNTA(D15:D47)","v":33}]
[]
[null,null,"Base for URL","https://research.stlouisfed.org/fred2/data/"]
[null,null,"fred_int",{"$f":"D5&E13&\".txt\"","v":"https://research.stlouisfed.org/fred2/data/SPASTT01USM661N.txt"}]
[]
[null,null,"Part 1",null,"SPASTT01"]
[null,null,"Part 2",null,"M661N"]
[]
[null,null,null,"Sheet Name","FRED Code",null,"Country Code"]
[]
[null,null,"fred_int_name",{"$f":"INDEX(D15:D47,E2)","v":"United States"},{"$f":"E8&G13&E9","v":"SPASTT01USM661N"},null,{"$f":"INDEX(G15:G47,E2)","v":"US"}]
[]
[null,null,null,"United States","(SPASTT01USM661N)",{"$f":"FIND(\"01\",E15,1)","v":8},{"$f":"MID(E15,F15+2,2)","v":"US"}]
[null,null,null,"China","(SPASTT01CNM661N)",{"$f":"FIND(\"01\",E16,1)","v":8},{"$f":"MID(E16,F16+2,2)","v":"CN"}]
[null,null,null,"Germany","(SPASTT01DEM661N)",8,"DE"]
[null,null,null,"Japan","(SPASTT01JPM661N)",8,"JP"]
[null,null,null,"South Africa","(SPASTT01ZAM661N)",8,"ZA"]
[null,null,null,"Korea","(SPASTT01KRM661N)",8,"KR"]
[null,null,null,"India","(SPASTT01INM661N)",8,"IN"]
[null,null,null,"Australia","(SPASTT01AUM661N)",8,"AU"]
[null,null,null,"Turkey","(SPASTT01TRA661N)",8,"TR"]
[null,null,null,"Mexico","(SPASTT01MXM661N)",8,"MX"]
[null,null,null,"Indonesia","(SPASTT01IDM661N)",8,"ID"]
[null,null,null,"Euro Area","(SPASTT01EZM661N)",8,"EZ"]
[null,null,null,"France","(SPASTT01FRM661N)",8,"FR"]
[null,null,null,"Poland","(SPASTT01PLM661N)",8,"PL"]
[null,null,null,"Austria","(SPASTT01ATM661N)",8,"AT"]
[null,null,null,"Norway","(SPASTT01NOM661N)",8,"NO"]
[null,null,null,"Switzerland","(SPASTT01CHM661N)",8,"CH"]
[null,null,null,"Italy","(SPASTT01ITM661N)",8,"IT"]
[null,null,null,"Greece","(SPASTT01GRM661N)",8,"GR"]
[null,null,null,"Sweeden","(SPASTT01SEM661N)",8,"SE"]
[null,null,null,"Denmark","(SPASTT01DKM661N)",8,"DK"]
[null,null,null,"Czech Republic","(SPASTT01CZM661N)",8,"CZ"]
[null,null,null,"Iceland","(SPASTT01ISM661N)",8,"IS"]
[null,null,null,"Spain","(SPASTT01ESM661N)",8,"ES"]
[null,null,null,"Hungary","(SPASTT01HUM661N)",8,"HU"]
[null,null,null,"Israel","(SPASTT01ILM661N)",8,"IL"]
[null,null,null,"Belgium","(SPASTT01BEM661N)",8,"BE"]
[null,null,null,"Finland","(SPASTT01FIM661N)",8,"FI"]
[null,null,null,"Luxembourg","(SPASTT01LUM661N)",8,"LU"]
[null,null,null,"Netherlands","(SPASTT01NLM661N)",8,"NL"]
[null,null,null,"Estonia","(SPASTT01EEM657N)",8,"EE"]
[null,null,null,"New Zealand","(SPASTT01NZM661N)",8,"NZ"]
[null,null,null,"United Kingdom","(SPINTT01GBM661N)",8,"GB"]

{"sheet":"Errors","index":12,"n_rows":2,"n_cols":3,"rows_kept":2,"cut":false,"hidden":false,"merged":[]}
[null,null,"http://www.google.com/finance/historical?q= CHK &startdate=Jun 28, 1999&enddate=Dec 01, 2017&output=csv"]
[null,null,"http://www.google.com/finance/historical?q=RRC&startdate=Jun 28, 1999&enddate=Dec 01, 2017&output=csv"]

{"sheet":"General Points","index":13,"n_rows":10,"n_cols":14,"rows_kept":10,"cut":false,"hidden":false,"merged":[]}
[]
[]
[null,"Read from alternative sources using alternative methods",null,null,null,null,null,null,null,null,null,null,"comment",false]
[null,"Create comprehensive list of companies, indicies, commodities and exchange rates"]
[null,"Use daily data that can be converted to monthly data"]
[]
[]
[]
[]
[null,"Each Reading Sheet has a list of sheet names and descriptions.  Also URL's"]

{"sheet":"Forms","index":14,"n_rows":824,"n_cols":18,"rows_kept":824,"cut":false,"hidden":false,"merged":[]}
["Date"]
["1950-01-01"]
["1950-02-01",null,null,null,null,null,null,null,null,null,null,null,null,null,null,"Raw"]
["1950-03-01",null,null,null,null,null,null,null,null,1,null,{"$f":"INDEX('Multiple Stock Graph'!$B$4:$B$456,Forms!J4)","v":""},null,null,null,"Change"]
["1950-04-01",null,null,null,null,null,null,null,null,null,null,null,null,null,null,"Index"]
["1950-05-01",null,null,null,null,null,"Start",null,null,null,null,"End"]
["1950-06-01",null,null,null,null,null,48,null,null,null,null,69,null,null,null,3]
["1950-07-01",null,null,null,null,null,{"$f":"INDEX(D13:D80,G7)","v":1997},null,null,null,null,{"$f":"INDEX(D13:D85,L7)+1","v":2019}]
["1950-08-01",null,null,null,null,null,{"$f":"DATE(G8,1,1)","v":"1997-01-01"},null,null,null,null,{"$f":"MIN(L10,L11)","v":"2018-08-31"},null,"2007-01-01",{"$f":"TEXT(N9,\"dddd\")","v":"Monday"},{"$f":"WEEKDAY(N9)","v":2},{"$f":"N9","v":"2007-01-01"},{"$f":"TEXT(Q9,\"ddddd\")","v":"Monday"}]
["1950-09-01",null,null,null,null,null,null,null,null,null,null,{"$f":"EOMONTH(TODAY(),0)","v":"2018-08-31"},null,{"$f":"N9+1","v":"2007-01-02"},{"$f":"TEXT(N10,\"dddd\")","v":"Tuesday"},{"$f":"WEEKDAY(N10)","v":3},{"$f":"IF(OR(WEEKDAY(Q9)=6),Q9+3,Q9+1)","v":"2007-01-02"},{"$f":"TEXT(Q10,\"ddddd\")","v":"Tuesday"}]
["1950-10-01",null,null,null,null,null,null,null,null,null,null,{"$f":"DATE(L8,12,31)","v":"2019-12-31"},null,{"$f":"N10+1","v":"2007-01-03"},"Wednesday",4,{"$f":"IF(OR(WEEKDAY(Q10)=6),Q10+3,Q10+1)","v":"2007-01-03"},"Wednesday"]
["1950-11-01",null,null,"List of Years Dropdown",null,null,null,null,null,null,null,null,null,"2007-01-04","Thursday",5,"2007-01-04","Thursday"]
["1950-12-01",null,null,1950,null,null,null,null,null,null,null,null,null,"2007-01-05","Friday",6,"2007-01-05","Friday"]
["1951-01-01",null,null,1951,null,null,null,null,null,null,null,null,null,"2007-01-06","Saturday",7,"2007-01-08","Monday"]
["1951-02-01",null,null,1952,null,null,null,null,null,null,null,null,null,"2007-01-07","Sunday",1,"2007-01-09","Tuesday"]
["1951-03-01",null,null,1953,null,null,null,null,null,null,null,null,null,"2007-01-08","Monday",2,"2007-01-10","Wednesday"]
["1951-04-01",null,null,1954,null,null,null,null,null,null,null,null,null,"2007-01-09","Tuesday",3,"2007-01-11","Thursday"]
["1951-05-01",null,null,1955,null,null,null,null,null,null,null,null,null,"2007-01-10","Wednesday",4,"2007-01-12","Friday"]
["1951-06-01",null,null,1956,null,null,null,null,null,null,null,null,null,"2007-01-11","Thursday",5,"2007-01-15","Monday"]
["1951-07-01",null,null,1957,null,null,null,null,null,null,null,null,null,"2007-01-12","Friday",6,"2007-01-16","Tuesday"]
["1951-08-01",null,null,1958]
["1951-09-01",null,null,1959]
["1951-10-01",null,null,1960]
["1951-11-01",null,null,1961]
["1951-12-01",null,null,1962]
["1952-01-01",null,null,1963]
["1952-02-01",null,null,1964]
["1952-03-01",null,null,1965]
["1952-04-01",null,null,1966]
["1952-05-01",null,null,1967]
["1952-06-01",null,null,1968]
["1952-07-01",null,null,1969]
["1952-08-01",null,null,1970]
["1952-09-01",null,null,1971]
["1952-10-01",null,null,1972]
["1952-11-01",null,null,1973]
["1952-12-01",null,null,1974]
["1953-01-01",null,null,1975]
["1953-02-01",null,null,1976]
["1953-03-01",null,null,1977]
["1953-04-01",null,null,1978]
["1953-05-01",null,null,1979]
["1953-06-01",null,null,1980]
["1953-07-01",null,null,1981]
["1953-08-01",null,null,1982]
["1953-09-01",null,null,1983]
["1953-10-01",null,null,1984]
["1953-11-01",null,null,1985]
["1953-12-01",null,null,1986]
["1954-01-01",null,null,1987]
["1954-02-01",null,null,1988]
["1954-03-01",null,null,1989]
["1954-04-01",null,null,1990]
["1954-05-01",null,null,1991]
["1954-06-01",null,null,1992]
["1954-07-01",null,null,1993]
["1954-08-01",null,null,1994]
["1954-09-01",null,null,1995]
["1954-10-01",null,null,1996]
["1954-11-01",null,null,1997]
["1954-12-01",null,null,1998]
["1955-01-01",null,null,1999]
["1955-02-01",null,null,2000]
["1955-03-01",null,null,2001]
["1955-04-01",null,null,2002]
["1955-05-01",null,null,2003]
["1955-06-01",null,null,2004]
["1955-07-01",null,null,2005]
["1955-08-01",null,null,2006]
["1955-09-01",null,null,2007]
["1955-10-01",null,null,2008]
["1955-11-01",null,null,2009]
["1955-12-01",null,null,2010]
["1956-01-01",null,null,2011]
["1956-02-01",null,null,2012]
["1956-03-01",null,null,2013]
["1956-04-01",null,null,2014]
["1956-05-01",null,null,2015]
["1956-06-01",null,null,2016]
["1956-07-01",null,null,2017]
["1956-08-01",null,null,2018]
["1956-09-01",null,null,2019]
["1956-10-01",null,null,2020]
["1956-11-01",null,null,2021]
["1956-12-01"]
["1957-01-01"]
["1957-02-01"]
["1957-03-01"]
["1957-04-01"]
["1957-05-01"]
["1957-06-01"]
["1957-07-01"]
["1957-08-01"]
["1957-09-01"]
["1957-10-01"]
["1957-11-01"]
["1957-12-01"]
["1958-01-01"]
["1958-02-01"]
["1958-03-01"]
["1958-04-01"]
["1958-05-01"]
["1958-06-01"]
["1958-07-01"]
["1958-08-01"]
["1958-09-01"]
["1958-10-01"]
["1958-11-01"]
["1958-12-01"]
["1959-01-01"]
["1959-02-01"]
["1959-03-01"]
["1959-04-01"]
["1959-05-01"]
["1959-06-01"]
["1959-07-01"]
["1959-08-01"]
["1959-09-01"]
["1959-10-01"]
["1959-11-01"]
["1959-12-01"]
["1960-01-01"]
["1960-02-01"]
["1960-03-01"]
["1960-04-01"]
["1960-05-01"]
["1960-06-01"]
["1960-07-01"]
["1960-08-01"]
["1960-09-01"]
["1960-10-01"]
["1960-11-01"]
["1960-12-01"]
["1961-01-01"]
["1961-02-01"]
["1961-03-01"]
["1961-04-01"]
["1961-05-01"]
["1961-06-01"]
["1961-07-01"]
["1961-08-01"]
["1961-09-01"]
["1961-10-01"]
["1961-11-01"]
["1961-12-01"]
["1962-01-01"]
["1962-02-01"]
["1962-03-01"]
["1962-04-01"]
["1962-05-01"]
["1962-06-01"]
["1962-07-01"]
["1962-08-01"]
["1962-09-01"]
["1962-10-01"]
["1962-11-01"]
["1962-12-01"]
["1963-01-01"]
["1963-02-01"]
["1963-03-01"]
["1963-04-01"]
["1963-05-01"]
["1963-06-01"]
["1963-07-01"]
["1963-08-01"]
["1963-09-01"]
["1963-10-01"]
["1963-11-01"]
["1963-12-01"]
["1964-01-01"]
["1964-02-01"]
["1964-03-01"]
["1964-04-01"]
["1964-05-01"]
["1964-06-01"]
["1964-07-01"]
["1964-08-01"]
["1964-09-01"]
["1964-10-01"]
["1964-11-01"]
["1964-12-01"]
["1965-01-01"]
["1965-02-01"]
["1965-03-01"]
["1965-04-01"]
["1965-05-01"]
["1965-06-01"]
["1965-07-01"]
["1965-08-01"]
["1965-09-01"]
["1965-10-01"]
["1965-11-01"]
["1965-12-01"]
["1966-01-01"]
["1966-02-01"]
["1966-03-01"]
["1966-04-01"]
["1966-05-01"]
["1966-06-01"]
["1966-07-01"]
["1966-08-01"]
["1966-09-01"]
["1966-10-01"]
["1966-11-01"]
["1966-12-01"]
["1967-01-01"]
["1967-02-01"]
["1967-03-01"]
["1967-04-01"]
["1967-05-01"]
["1967-06-01"]
["1967-07-01"]
["1967-08-01"]
["1967-09-01"]
["1967-10-01"]
["1967-11-01"]
["1967-12-01"]
["1968-01-01"]
["1968-02-01"]
["1968-03-01"]
["1968-04-01"]
["1968-05-01"]
["1968-06-01"]
["1968-07-01"]
["1968-08-01"]
["1968-09-01"]
["1968-10-01"]
["1968-11-01"]
["1968-12-01"]
["1969-01-01"]
["1969-02-01"]
["1969-03-01"]
["1969-04-01"]
["1969-05-01"]
["1969-06-01"]
["1969-07-01"]
["1969-08-01"]
["1969-09-01"]
["1969-10-01"]
["1969-11-01"]
["1969-12-01"]
["1970-01-01"]
["1970-02-01"]
["1970-03-01"]
["1970-04-01"]
["1970-05-01"]
["1970-06-01"]
["1970-07-01"]
["1970-08-01"]
["1970-09-01"]
["1970-10-01"]
["1970-11-01"]
["1970-12-01"]
["1971-01-01"]
["1971-02-01"]
["1971-03-01"]
["1971-04-01"]
["1971-05-01"]
["1971-06-01"]
["1971-07-01"]
["1971-08-01"]
["1971-09-01"]
["1971-10-01"]
["1971-11-01"]
["1971-12-01"]
["1972-01-01"]
["1972-02-01"]
["1972-03-01"]
["1972-04-01"]
["1972-05-01"]
["1972-06-01"]
["1972-07-01"]
["1972-08-01"]
["1972-09-01"]
["1972-10-01"]
["1972-11-01"]
["1972-12-01"]
["1973-01-01"]
["1973-02-01"]
["1973-03-01"]
["1973-04-01"]
["1973-05-01"]
["1973-06-01"]
["1973-07-01"]
["1973-08-01"]
["1973-09-01"]
["1973-10-01"]
["1973-11-01"]
["1973-12-01"]
["1974-01-01"]
["1974-02-01"]
["1974-03-01"]
["1974-04-01"]
["1974-05-01"]
["1974-06-01"]
["1974-07-01"]
["1974-08-01"]
["1974-09-01"]
["1974-10-01"]
["1974-11-01"]
["1974-12-01"]
["1975-01-01"]
["1975-02-01"]
["1975-03-01"]
["1975-04-01"]
["1975-05-01"]
["1975-06-01"]
["1975-07-01"]
["1975-08-01"]
["1975-09-01"]
["1975-10-01"]
["1975-11-01"]
["1975-12-01"]
["1976-01-01"]
["1976-02-01"]
["1976-03-01"]
["1976-04-01"]
["1976-05-01"]
["1976-06-01"]
["1976-07-01"]
["1976-08-01"]
["1976-09-01"]
["1976-10-01"]
["1976-11-01"]
["1976-12-01"]
["1977-01-01"]
["1977-02-01"]
["1977-03-01"]
["1977-04-01"]
["1977-05-01"]
["1977-06-01"]
["1977-07-01"]
["1977-08-01"]
["1977-09-01"]
["1977-10-01"]
["1977-11-01"]
["1977-12-01"]
["1978-01-01"]
["1978-02-01"]
["1978-03-01"]
["1978-04-01"]
["1978-05-01"]
["1978-06-01"]
["1978-07-01"]
["1978-08-01"]
["1978-09-01"]
["1978-10-01"]
["1978-11-01"]
["1978-12-01"]
["1979-01-01"]
["1979-02-01"]
["1979-03-01"]
["1979-04-01"]
["1979-05-01"]
["1979-06-01"]
["1979-07-01"]
["1979-08-01"]
["1979-09-01"]
["1979-10-01"]
["1979-11-01"]
["1979-12-01"]
["1980-01-01"]
["1980-02-01"]
["1980-03-01"]
["1980-04-01"]
["1980-05-01"]
["1980-06-01"]
["1980-07-01"]
["1980-08-01"]
["1980-09-01"]
["1980-10-01"]
["1980-11-01"]
["1980-12-01"]
["1981-01-01"]
["1981-02-01"]
["1981-03-01"]
["1981-04-01"]
["1981-05-01"]
["1981-06-01"]
["1981-07-01"]
["1981-08-01"]
["1981-09-01"]
["1981-10-01"]
["1981-11-01"]
["1981-12-01"]
["1982-01-01"]
["1982-02-01"]
["1982-03-01"]
["1982-04-01"]
["1982-05-01"]
["1982-06-01"]
["1982-07-01"]
["1982-08-01"]
["1982-09-01"]
["1982-10-01"]
["1982-11-01"]
["1982-12-01"]
["1983-01-01"]
["1983-02-01"]
["1983-03-01"]
["1983-04-01"]
["1983-05-01"]
["1983-06-01"]
["1983-07-01"]
["1983-08-01"]
["1983-09-01"]
["1983-10-01"]
["1983-11-01"]
["1983-12-01"]
["1984-01-01"]
["1984-02-01"]
["1984-03-01"]
["1984-04-01"]
["1984-05-01"]
["1984-06-01"]
["1984-07-01"]
["1984-08-01"]
["1984-09-01"]
["1984-10-01"]
["1984-11-01"]
["1984-12-01"]
["1985-01-01"]
["1985-02-01"]
["1985-03-01"]
["1985-04-01"]
["1985-05-01"]
["1985-06-01"]
["1985-07-01"]
["1985-08-01"]
["1985-09-01"]
["1985-10-01"]
["1985-11-01"]
["1985-12-01"]
["1986-01-01"]
["1986-02-01"]
["1986-03-01"]
["1986-04-01"]
["1986-05-01"]
["1986-06-01"]
["1986-07-01"]
["1986-08-01"]
["1986-09-01"]
["1986-10-01"]
["1986-11-01"]
["1986-12-01"]
["1987-01-01"]
["1987-02-01"]
["1987-03-01"]
["1987-04-01"]
["1987-05-01"]
["1987-06-01"]
["1987-07-01"]
["1987-08-01"]
["1987-09-01"]
["1987-10-01"]
["1987-11-01"]
["1987-12-01"]
["1988-01-01"]
["1988-02-01"]
["1988-03-01"]
["1988-04-01"]
["1988-05-01"]
["1988-06-01"]
["1988-07-01"]
["1988-08-01"]
["1988-09-01"]
["1988-10-01"]
["1988-11-01"]
["1988-12-01"]
["1989-01-01"]
["1989-02-01"]
["1989-03-01"]
["1989-04-01"]
["1989-05-01"]
["1989-06-01"]
["1989-07-01"]
["1989-08-01"]
["1989-09-01"]
["1989-10-01"]
["1989-11-01"]
["1989-12-01"]
["1990-01-01"]
["1990-02-01"]
["1990-03-01"]
["1990-04-01"]
["1990-05-01"]
["1990-06-01"]
["1990-07-01"]
["1990-08-01"]
["1990-09-01"]
["1990-10-01"]
["1990-11-01"]
["1990-12-01"]
["1991-01-01"]
["1991-02-01"]
["1991-03-01"]
["1991-04-01"]
["1991-05-01"]
["1991-06-01"]
["1991-07-01"]
["1991-08-01"]
["1991-09-01"]
["1991-10-01"]
["1991-11-01"]
["1991-12-01"]
["1992-01-01"]
["1992-02-01"]
["1992-03-01"]
["1992-04-01"]
["1992-05-01"]
["1992-06-01"]
["1992-07-01"]
["1992-08-01"]
["1992-09-01"]
["1992-10-01"]
["1992-11-01"]
["1992-12-01"]
["1993-01-01"]
["1993-02-01"]
["1993-03-01"]
["1993-04-01"]
["1993-05-01"]
["1993-06-01"]
["1993-07-01"]
["1993-08-01"]
["1993-09-01"]
["1993-10-01"]
["1993-11-01"]
["1993-12-01"]
["1994-01-01"]
["1994-02-01"]
["1994-03-01"]
["1994-04-01"]
["1994-05-01"]
["1994-06-01"]
["1994-07-01"]
["1994-08-01"]
["1994-09-01"]
["1994-10-01"]
["1994-11-01"]
["1994-12-01"]
["1995-01-01"]
["1995-02-01"]
["1995-03-01"]
["1995-04-01"]
["1995-05-01"]
["1995-06-01"]
["1995-07-01"]
["1995-08-01"]
["1995-09-01"]
["1995-10-01"]
["1995-11-01"]
["1995-12-01"]
["1996-01-01"]
["1996-02-01"]
["1996-03-01"]
["1996-04-01"]
["1996-05-01"]
["1996-06-01"]
["1996-07-01"]
["1996-08-01"]
["1996-09-01"]
["1996-10-01"]
["1996-11-01"]
["1996-12-01"]
["1997-01-01"]
["1997-02-01"]
["1997-03-01"]
["1997-04-01"]
["1997-05-01"]
["1997-06-01"]
["1997-07-01"]
["1997-08-01"]
["1997-09-01"]
["1997-10-01"]
["1997-11-01"]
["1997-12-01"]
["1998-01-01"]
["1998-02-01"]
["1998-03-01"]
["1998-04-01"]
["1998-05-01"]
["1998-06-01"]
["1998-07-01"]
["1998-08-01"]
["1998-09-01"]
["1998-10-01"]
["1998-11-01"]
["1998-12-01"]
["1999-01-01"]
["1999-02-01"]
["1999-03-01"]
["1999-04-01"]
["1999-05-01"]
["1999-06-01"]
["1999-07-01"]
["1999-08-01"]
["1999-09-01"]
["1999-10-01"]
["1999-11-01"]
["1999-12-01"]
["2000-01-01"]
["2000-02-01"]
["2000-03-01"]
["2000-04-01"]
["2000-05-01"]
["2000-06-01"]
["2000-07-01"]
["2000-08-01"]
["2000-09-01"]
["2000-10-01"]
["2000-11-01"]
["2000-12-01"]
["2001-01-01"]
["2001-02-01"]
["2001-03-01"]
["2001-04-01"]
["2001-05-01"]
["2001-06-01"]
["2001-07-01"]
["2001-08-01"]
["2001-09-01"]
["2001-10-01"]
["2001-11-01"]
["2001-12-01"]
["2002-01-01"]
["2002-02-01"]
["2002-03-01"]
["2002-04-01"]
["2002-05-01"]
["2002-06-01"]
["2002-07-01"]
["2002-08-01"]
["2002-09-01"]
["2002-10-01"]
["2002-11-01"]
["2002-12-01"]
["2003-01-01"]
["2003-02-01"]
["2003-03-01"]
["2003-04-01"]
["2003-05-01"]
["2003-06-01"]
["2003-07-01"]
["2003-08-01"]
["2003-09-01"]
["2003-10-01"]
["2003-11-01"]
["2003-12-01"]
["2004-01-01"]
["2004-02-01"]
["2004-03-01"]
["2004-04-01"]
["2004-05-01"]
["2004-06-01"]
["2004-07-01"]
["2004-08-01"]
["2004-09-01"]
["2004-10-01"]
["2004-11-01"]
["2004-12-01"]
["2005-01-01"]
["2005-02-01"]
["2005-03-01"]
["2005-04-01"]
["2005-05-01"]
["2005-06-01"]
["2005-07-01"]
["2005-08-01"]
["2005-09-01"]
["2005-10-01"]
["2005-11-01"]
["2005-12-01"]
["2006-01-01"]
["2006-02-01"]
["2006-03-01"]
["2006-04-01"]
["2006-05-01"]
["2006-06-01"]
["2006-07-01"]
["2006-08-01"]
["2006-09-01"]
["2006-10-01"]
["2006-11-01"]
["2006-12-01"]
["2007-01-01"]
["2007-02-01"]
["2007-03-01"]
["2007-04-01"]
["2007-05-01"]
["2007-06-01"]
["2007-07-01"]
["2007-08-01"]
["2007-09-01"]
["2007-10-01"]
["2007-11-01"]
["2007-12-01"]
["2008-01-01"]
["2008-02-01"]
["2008-03-01"]
["2008-04-01"]
["2008-05-01"]
["2008-06-01"]
["2008-07-01"]
["2008-08-01"]
["2008-09-01"]
["2008-10-01"]
["2008-11-01"]
["2008-12-01"]
["2009-01-01"]
["2009-02-01"]
["2009-03-01"]
["2009-04-01"]
["2009-05-01"]
["2009-06-01"]
["2009-07-01"]
["2009-08-01"]
["2009-09-01"]
["2009-10-01"]
["2009-11-01"]
["2009-12-01"]
["2010-01-01"]
["2010-02-01"]
["2010-03-01"]
["2010-04-01"]
["2010-05-01"]
["2010-06-01"]
["2010-07-01"]
["2010-08-01"]
["2010-09-01"]
["2010-10-01"]
["2010-11-01"]
["2010-12-01"]
["2011-01-01"]
["2011-02-01"]
["2011-03-01"]
["2011-04-01"]
["2011-05-01"]
["2011-06-01"]
["2011-07-01"]
["2011-08-01"]
["2011-09-01"]
["2011-10-01"]
["2011-11-01"]
["2011-12-01"]
["2012-01-01"]
["2012-02-01"]
["2012-03-01"]
["2012-04-01"]
["2012-05-01"]
["2012-06-01"]
["2012-07-01"]
["2012-08-01"]
["2012-09-01"]
["2012-10-01"]
["2012-11-01"]
["2012-12-01"]
["2013-01-01"]
["2013-02-01"]
["2013-03-01"]
["2013-04-01"]
["2013-05-01"]
["2013-06-01"]
["2013-07-01"]
["2013-08-01"]
["2013-09-01"]
["2013-10-01"]
["2013-11-01"]
["2013-12-01"]
["2014-01-01"]
["2014-02-01"]
["2014-03-01"]
["2014-04-01"]
["2014-05-01"]
["2014-06-01"]
["2014-07-01"]
["2014-08-01"]
["2014-09-01"]
["2014-10-01"]
["2014-11-01"]
["2014-12-01"]
["2015-01-01"]
["2015-02-01"]
["2015-03-01"]
["2015-04-01"]
["2015-05-01"]
["2015-06-01"]
["2015-07-01"]
["2015-08-01"]
["2015-09-01"]
["2015-10-01"]
["2015-11-01"]
["2015-12-01"]
["2016-01-01"]
["2016-02-01"]
["2016-03-01"]
["2016-04-01"]
["2016-05-01"]
["2016-06-01"]
["2016-07-01"]
["2016-08-01"]
["2016-09-01"]
["2016-10-01"]
["2016-11-01"]
["2016-12-01"]
["2017-01-01"]
["2017-02-01"]
["2017-03-01"]
["2017-04-01"]
["2017-05-01"]
["2017-06-01"]
["2017-07-01"]
["2017-08-01"]
["2017-09-01"]
["2017-10-01"]
["2017-11-01"]
["2017-12-01"]
["2018-01-01"]
["2018-02-01"]
["2018-03-01"]
["2018-04-01"]
["2018-05-01"]
["2018-06-01"]
["2018-07-01"]

{"sheet":"BREAK","index":15,"n_rows":0,"n_cols":0,"rows_kept":0,"cut":false,"hidden":false,"merged":[]}