{"text_format":"1","workbook":"xlsx","n_sheets":45,"sheets":["Get Data Page","Database","Single Graph","Graph of One Series","Double Graph","Graph of Two Series","BREAK","Case Shiller","Case Shiller US","Case Shiller US 1","Case Shiller US 2","Case Shiller Arizona","Case Shiller 10 City","Case Shiller NY","Case Shiller Miami","Case Shiller Chicago","Case Shiller Las Vegas","DS as Pct of Income","Home Ownership Pct","Vacant Homes","Charge offs on RE Loans","Charge offs on RE Loans 1","Deliquency Rate on RE 1","Deliquency Rate on RE 2","Deliquency Rate on RE 3","Housing Units Completed","1 Unit Housing","New Homes Sold","Homes for Sale","Pct Home Ownership","Rental Vacancy Rate","Home Inventory","Home Vacancy Rate","Homeowner Vacancy Rate","Vacant Units for Sale","Occupied Housing","Year Around Vacant Housing","Consumer Price Index","GDP Deflator","Population 24-55","Men over 20","Women over 20","Housing Vacancy","Home Vacancy for Sale","Personal Cons Excl Energy"],"not_rendered":{"charts":4,"images":0,"macros":1,"external_links":0,"defined_names":4,"comments":0,"pivot_tables":0},"unopened":[{"sheet":"Single Graph","index":2,"reason":"not_a_worksheet"},{"sheet":"Double Graph","index":4,"reason":"not_a_worksheet"}],"bounds":{"document_bytes":16777216,"sheet_cells":100000,"rows_first":2000,"rows_last":500,"rows_between":2000,"halvings":0,"cell_chars":16384,"cell_head_chars":4096},"cells_cut":0,"cells_raw":0,"read":"whole","date_system":"1900"}

{"sheet":"Get Data Page","index":0,"n_rows":43,"n_cols":13,"rows_kept":43,"cut":false,"hidden":false,"merged":[]}
[]
[null,"http://research.stlouisfed.org/fred2/",null,null,null,null,"Website with Data",null,null,null,"Code Number",null,38]
[]
[null,null,null,null,null,null,null,null,null,null,{"$f":"INDEX(K6:K43,$M$2)","v":"Personal Cons Excl Energy"},null,{"$f":"INDEX(M6:M43,$M$2)","v":"http://research.stlouisfed.org/fred2/data/JCXFE.txt"}]
[]
[null,null,null,null,null,null,null,null,null,null,"Case Shiller",null,"http://research.stlouisfed.org/fred2/data/SPCS20RSA.txt"]
[null,null,null,null,null,null,null,null,null,null,"Case Shiller US",null,"http://research.stlouisfed.org/fred2/data/CSUSHPINSA.txt"]
[null,null,null,null,null,null,null,null,null,null,"Case Shiller US 1",null,"http://research.stlouisfed.org/fred2/data/CSUSHPISA.txt"]
[null,null,null,null,null,null,null,null,null,null,"Case Shiller US 2",null,"http://research.stlouisfed.org/fred2/data/USCSCOMHPISA.txt"]
[null,null,null,null,null,null,null,null,null,null,"Case Shiller Arizona",null,"http://research.stlouisfed.org/fred2/data/PHXRNSA.txt"]
[null,null,null,null,null,null,null,null,null,null,"Case Shiller 10 City",null,"http://research.stlouisfed.org/fred2/data/SPCS10RSA.txt"]
[null,null,null,null,null,null,null,null,null,null,"Case Shiller NY",null,"http://research.stlouisfed.org/fred2/data/NYXRSA.txt"]
[null,null,null,null,null,null,null,null,null,null,"Case Shiller Miami",null,"http://research.stlouisfed.org/fred2/data/MIXRNSA.txt"]
[null,null,null,null,null,null,null,null,null,null,"Case Shiller Chicago",null,"http://research.stlouisfed.org/fred2/data/CHXRSA.txt"]
[null,null,null,null,null,null,null,null,null,null,"Case Shiller Las Vegas",null,"http://research.stlouisfed.org/fred2/data/LVXRNSA.txt"]
[null,null,null,null,null,null,null,null,null,null,"DS as Pct of Income",null,"http://research.stlouisfed.org/fred2/data/TDSP.txt"]
[null,null,null,null,null,null,null,null,null,null,"Home Ownership Pct",null,"http://research.stlouisfed.org/fred2/data/RSAHORUSQ156S.txt"]
[null,null,null,null,null,null,null,null,null,null,"Vacant Homes",null,"http://research.stlouisfed.org/fred2/data/ESALEUSQ176N.txt"]
[null,null,null,null,null,null,null,null,null,null,"Charge offs on RE Loans",null,"http://research.stlouisfed.org/fred2/data/NCOALLSREACB.txt"]
[null,null,null,null,null,null,null,null,null,null,"Charge offs on RE Loans 1",null,"http://research.stlouisfed.org/fred2/data/NCOALLSRE1FRMACB.txt"]
[null,null,null,null,null,null,null,null,null,null,"Deliquency Rate on RE 1",null,"http://research.stlouisfed.org/fred2/data/DRSFRMACBS.txt"]
[null,null,null,null,null,null,null,null,null,null,"Deliquency Rate on RE 2",null,"http://research.stlouisfed.org/fred2/data/DRSFRMACBS.txt"]
[null,null,null,null,null,null,null,null,null,null,"Deliquency Rate on RE 3",null,"http://research.stlouisfed.org/fred2/data/DALLSRESFRMT100EP.txt"]
[null,null,null,null,null,null,null,null,null,null,"Housing Units Completed",null,"http://research.stlouisfed.org/fred2/data/COMPUTSA.txt"]
[null,null,null,null,null,null,null,null,null,null,"1 Unit Housing",null,"http://research.stlouisfed.org/fred2/data/COMPU1USA.txt"]
[null,null,null,null,null,null,null,null,null,null,"New Homes Sold",null,"http://research.stlouisfed.org/fred2/data/HSN1F.txt"]
[null,null,null,null,null,null,null,null,null,null,"Homes for Sale",null,"http://research.stlouisfed.org/fred2/data/MSACSR.txt"]
[null,null,null,null,null,null,null,null,null,null,"Pct Home Ownership",null,"http://research.stlouisfed.org/fred2/data/USHOWN.txt"]
[null,null,null,null,null,null,null,null,null,null,"Rental Vacancy Rate",null,"http://research.stlouisfed.org/fred2/data/RRVRUSQ156N.txt"]
[null,null,null,null,null,null,null,null,null,null,"Home Inventory",null,"http://research.stlouisfed.org/fred2/data/ETOTALUSQ176N.txt"]
[null,null,null,null,null,null,null,null,null,null,"Home Vacancy Rate",null,"http://research.stlouisfed.org/fred2/data/USHVAC.txt"]
[null,null,null,null,null,null,null,null,null,null,"Homeowner Vacancy Rate",null,"http://research.stlouisfed.org/fred2/data/RHVRUSQ156N.txt"]
[null,null,null,null,null,null,null,null,null,null,"Vacant Units for Sale",null,"http://research.stlouisfed.org/fred2/data/ESALEUSQ176N.txt"]
[null,null,null,null,null,null,null,null,null,null,"Occupied Housing",null,"http://research.stlouisfed.org/fred2/data/EOCCUSQ176N.txt"]
[null,null,null,null,null,null,null,null,null,null,"Year Around Vacant Housing",null,"http://research.stlouisfed.org/fred2/data/EYRVACUSQ176N.txt"]
[null,null,null,null,null,null,null,null,null,null,"Consumer Price Index",null,"http://research.stlouisfed.org/fred2/data/CPIAUCSL.txt"]
[null,null,null,null,null,null,null,null,null,null,"GDP Deflator",null,"http://research.stlouisfed.org/fred2/data/GDPDEF.txt"]
[null,null,null,null,null,null,null,null,null,null,"Population 24-55",null,"https://research.stlouisfed.org/fred2/data/LNU00000060.txt"]
[null,null,null,null,null,null,null,null,null,null,"Men over 20",null,"http://research.stlouisfed.org/fred2/data/LNU00000025.txt"]
[null,null,null,null,null,null,null,null,null,null,"Women over 20",null,"http://research.stlouisfed.org/fred2/data/LNU00000026.txt"]
[null,null,null,null,null,null,null,null,null,null,"Housing Vacancy",null,"http://research.stlouisfed.org/fred2/data/EVACANTUSQ176N.txt"]
[null,null,null,null,null,null,null,null,null,null,"Home Vacancy for Sale",null,"http://research.stlouisfed.org/fred2/data/ESALEUSQ176N.txt"]
[null,null,null,null,null,null,null,null,null,null,"Personal Cons Excl Energy",null,"http://research.stlouisfed.org/fred2/data/JCXFE.txt"]

{"sheet":"Database","index":1,"n_rows":758,"n_cols":49,"rows_kept":758,"cut":false,"hidden":false,"merged":[]}
[null,null,"Quarterly",false,{"$f":"IF(D1,2,0)","v":0}]
[]
[null,null,"Nominal",null,true,true,true,true,true,true,true,true,true,true,false,false,false,true,true,false,false,false,false,false,false,false,false,false,false,false,false,false,false,false,false,false,false,false,false,false,false,false]
[null,null,"Days Increment",null,{"$f":"DAYS360(E6,E5)","v":30},{"$f":"DAYS360(F6,F5)","v":30},30,90,30,30,30,30,30,30,90,90,90,90,90,90,90,90,30,30,30,30,360,90,90,360,90,90,90,90,30,90,30,30,30,90,90,90,{"$error":"#N/A"},{"$error":"#N/A"},{"$error":"#N/A"},{"$error":"#N/A"},{"$error":"#N/A"},{"$error":"#N/A"},{"$error":"#N/A"}]
[null,null,null,null,{"$f":"INDEX(INDIRECT(\"'\"&E7&\"'!A:A\"),MATCH(E6,INDIRECT(\"'\"&E7&\"'!A:A\"),0)+1)","v":"2000-02-01"},{"$f":"INDEX(INDIRECT(\"'\"&F7&\"'!A:A\"),MATCH(F6,INDIRECT(\"'\"&F7&\"'!A:A\"),0)+1)","v":"1975-02-01"},"1975-02-01","1987-04-01","1989-02-01","1987-02-01","1987-02-01","1987-02-01","1987-02-01","1987-02-01","1980-04-01","1980-04-01","2000-07-01","1985-04-01","1991-04-01","1991-04-01","1991-04-01","1991-04-01","1968-02-01","1968-02-01","1963-02-01","1963-02-01","1985-01-01","1956-04-01","2000-07-01","1987-01-01","1956-04-01","2000-07-01","2000-07-01","2000-07-01","1947-02-01","1947-04-01","1948-02-01","1948-02-01","1948-02-01","2000-07-01","2000-07-01","1959-04-01",{"$error":"#N/A"},{"$error":"#N/A"},{"$error":"#N/A"},{"$error":"#N/A"},{"$error":"#N/A"},{"$error":"#N/A"},{"$error":"#N/A"}]
[null,null,"Start Date",null,{"$f":"MIN(INDIRECT(\"'\"&E7&\"'!A:A\"))","v":"2000-01-01"},{"$f":"MIN(INDIRECT(\"'\"&F7&\"'!A:A\"))","v":"1975-01-01"},"1975-01-01","1987-01-01","1989-01-01","1987-01-01","1987-01-01","1987-01-01","1987-01-01","1987-01-01","1980-01-01","1980-01-01","2000-04-01","1985-01-01","1991-01-01","1991-01-01","1991-01-01","1991-01-01","1968-01-01","1968-01-01","1963-01-01","1963-01-01","1984-01-01","1956-01-01","2000-04-01","1986-01-01","1956-01-01","2000-04-01","2000-04-01","2000-04-01","1947-01-01","1947-01-01","1948-01-01","1948-01-01","1948-01-01","2000-04-01","2000-04-01","1959-01-01",{"$error":"#N/A"},{"$error":"#N/A"},{"$error":"#N/A"},{"$error":"#N/A"},{"$error":"#N/A"},{"$error":"#N/A"},{"$error":"#N/A"}]
[null,null,null,"Date",{"$f":"TRANSPOSE('Get Data Page'!K6:K43)","v":"Case Shiller"},"Case Shiller US","Case Shiller US 1","Case Shiller US 2","Case Shiller Arizona","Case Shiller 10 City","Case Shiller NY","Case Shiller Miami","Case Shiller Chicago","Case Shiller Las Vegas","DS as Pct of Income","Home Ownership Pct","Vacant Homes","Charge offs on RE Loans","Charge offs on RE Loans 1","Deliquency Rate on RE 1","Deliquency Rate on RE 2","Deliquency Rate on RE 3","Housing Units Completed","1 Unit Housing","New Homes Sold","Homes for Sale","Pct Home Ownership","Rental Vacancy Rate","Home Inventory","Home Vacancy Rate","Homeowner Vacancy Rate","Vacant Units for Sale","Occupied Housing","Year Around Vacant Housing","Consumer Price Index","GDP Deflator","Population 24-55","Men over 20","Women over 20","Housing Vacancy","Home Vacancy for Sale","Personal Cons Excl Energy",{"$error":"#N/A"},{"$error":"#N/A"},{"$error":"#N/A"},{"$error":"#N/A"},{"$error":"#N/A"},{"$error":"#N/A"},{"$error":"#N/A"}]
[null,null,null,"1956-01-01",{"$f":"INDEX(INDIRECT(\"'\"&E$7&\"'!B:B\"),MATCH($D8,INDIRECT(\"'\"&E$7&\"'!A:A\")))","v":{"$error":"#N/A"}},{"$f":"INDEX(INDIRECT(\"'\"&F$7&\"'!B:B\"),MATCH($D8,INDIRECT(\"'\"&F$7&\"'!A:A\")))","v":{"$error":"#N/A"}},{"$f":"INDEX(INDIRECT(\"'\"&G$7&\"'!B:B\"),MATCH($D8,INDIRECT(\"'\"&G$7&\"'!A:A\")))","v":{"$error":"#N/A"}},{"$error":"#N/A"},{"$error":"#N/A"},{"$error":"#N/A"},{"$error":"#N/A"},{"$error":"#N/A"},{"$error":"#N/A"},{"$error":"#N/A"},{"$error":"#N/A"},{"$error":"#N/A"},{"$error":"#N/A"},{"$error":"#N/A"},{"$error":"#N/A"},{"$error":"#N/A"},{"$error":"#N/A"},{"$error":"#N/A"},{"$error":"#N/A"},{"$error":"#N/A"},{"$error":"#N/A"},{"$error":"#N/A"},{"$error":"#N/A"},6.2,{"$error":"#N/A"},{"$error":"#N/A"},1,{"$error":"#N/A"},{"$error":"#N/A"},{"$error":"#N/A"},26.83,15.901999999999999,64496,48430,53557,{"$error":"#N/A"},{"$error":"#N/A"},{"$error":"#N/A"},{"$error":"#N/A"},{"$error":"#N/A"},{"$error":"#N/A"},{"$error":"#N/A"},{"$error":"#N/A"},{"$error":"#N/A"},{"$error":"#N/A"}]
[null,null,null,{"$f":"EOMONTH(D8,$E$1)+1","v":"1956-02-01"},{"$f":"INDEX(INDIRECT(\"'\"&E$7&\"'!B:B\"),MATCH($D9,INDIRECT(\"'\"&E$7&\"'!A:A\")))","v":{"$error":"#N/A"}},{"$error":"#N/A"},{"$error":"#N/A"},{"$error":"#N/A"},{"$error":"#N/A"},{"$error":"#N/A"},{"$error":"#N/A"},{"$error":"#N/A"},{"$error":"#N/A"},{"$error":"#N/A"},{"$error":"#N/A"},{"$error":"#N/A"},{"$error":"#N/A"},{"$error":"#N/A"},{"$error":"#N/A"},{"$error":"#N/A"},{"$error":"#N/A"},{"$error":"#N/A"},{"$error":"#N/A"},{"$error":"#N/A"},{"$error":"#N/A"},{"$error":"#N/A"},{"$error":"#N/A"},6.2,{"$error":"#N/A"},{"$error":"#N/A"},1,{"$error":"#N/A"},{"$error":"#N/A"},{"$error":"#N/A"},26.86,15.901999999999999,64508,48478,53599,{"$error":"#N/A"},{"$error":"#N/A"},{"$error":"#N/A"},{"$error":"#N/A"},{"$error":"#N/A"},{"$error":"#N/A"},{"$error":"#N/A"},{"$error":"#N/A"},{"$error":"#N/A"},{"$error":"#N/A"}]
[null,null,null,{"$f":"EOMONTH(D9,$E$1)+1","v":"1956-03-01"},{"$error":"#N/A"},{"$error":"#N/A"},{"$error":"#N/A"},{"$error":"#N/A"},{"$error":"#N/A"},{"$error":"#N/A"},{"$error":"#N/A"},{"$error":"#N/A"},{"$error":"#N/A"},{"$error":"#N/A"},{"$error":"#N/A"},{"$error":"#N/A"},{"$error":"#N/A"},{"$error":"#N/A"},{"$error":"#N/A"},{"$error":"#N/A"},{"$error":"#N/A"},{"$error":"#N/A"},{"$error":"#N/A"},{"$error":"#N/A"},{"$error":"#N/A"},{"$error":"#N/A"},{"$error":"#N/A"},6.2,{"$error":"#N/A"},{"$error":"#N/A"},1,{"$error":"#N/A"},{"$error":"#N/A"},{"$error":"#N/A"},26.89,15.901999999999999,64522,48540,53644,{"$error":"#N/A"},{"$error":"#N/A"},{"$error":"#N/A"},{"$error":"#N/A"},{"$error":"#N/A"},{"$error":"#N/A"},{"$error":"#N/A"},{"$error":"#N/A"},{"$error":"#N/A"},{"$error":"#N/A"}]
[null,null,null,"1956-04-01",{"$error":"#N/A"},{"$error":"#N/A"},{"$error":"#N/A"},{"$error":"#N/A"},{"$error":"#N/A"},{"$error":"#N/A"},{"$error":"#N/A"},{"$error":"#N/A"},{"$error":"#N/A"},{"$error":"#N/A"},{"$error":"#N/A"},{"$error":"#N/A"},{"$error":"#N/A"},{"$error":"#N/A"},{"$error":"#N/A"},{"$error":"#N/A"},{"$error":"#N/A"},{"$error":"#N/A"},{"$error":"#N/A"},{"$error":"#N/A"},{"$error":"#N/A"},{"$error":"#N/A"},{"$error":"#N/A"},5.9,{"$error":"#N/A"},{"$error":"#N/A"},1,{"$error":"#N/A"},{"$error":"#N/A"},{"$error":"#N/A"},26.93,15.997,64527,48578,53675,{"$error":"#N/A"},{"$error":"#N/A"},{"$error":"#N/A"},{"$error":"#N/A"},{"$error":"#N/A"},{"$error":"#N/A"},{"$error":"#N/A"},{"$error":"#N/A"},{"$error":"#N/A"},{"$error":"#N/A"}]
[null,null,null,"1956-05-01",{"$error":"#N/A"},{"$error":"#N/A"},{"$error":"#N/A"},{"$error":"#N/A"},{"$error":"#N/A"},{"$error":"#N/A"},{"$error":"#N/A"},{"$error":"#N/A"},{"$error":"#N/A"},{"$error":"#N/A"},{"$error":"#N/A"},{"$error":"#N/A"},{"$error":"#N/A"},{"$error":"#N/A"},{"$error":"#N/A"},{"$error":"#N/A"},{"$error":"#N/A"},{"$error":"#N/A"},{"$error":"#N/A"},{"$error":"#N/A"},{"$error":"#N/A"},{"$error":"#N/A"},{"$error":"#N/A"},5.9,{"$error":"#N/A"},{"$error":"#N/A"},1,{"$error":"#N/A"},{"$error":"#N/A"},{"$error":"#N/A"},27.03,15.997,64568,48660,53754,{"$error":"#N/A"},{"$error":"#N/A"},{"$error":"#N/A"},{"$error":"#N/A"},{"$error":"#N/A"},{"$error":"#N/A"},{"$error":"#N/A"},{"$error":"#N/A"},{"$error":"#N/A"},{"$error":"#N/A"}]
[null,null,null,"1956-06-01",{"$error":"#N/A"},{"$error":"#N/A"},{"$error":"#N/A"},{"$error":"#N/A"},{"$error":"#N/A"},{"$error":"#N/A"},{"$error":"#N/A"},{"$error":"#N/A"},{"$error":"#N/A"},{"$error":"#N/A"},{"$error":"#N/A"},{"$error":"#N/A"},{"$error":"#N/A"},{"$error":"#N/A"},{"$error":"#N/A"},{"$error":"#N/A"},{"$error":"#N/A"},{"$error":"#N/A"},{"$error":"#N/A"},{"$error":"#N/A"},{"$error":"#N/A"},{"$error":"#N/A"},{"$error":"#N/A"},5.9,{"$error":"#N/A"},{"$error":"#N/A"},1,{"$error":"#N/A"},{"$error":"#N/A"},{"$error":"#N/A"},27.15,15.997,64605,48702,53791,{"$error":"#N/A"},{"$error":"#N/A"},{"$error":"#N/A"},{"$error":"#N/A"},{"$error":"#N/A"},{"$error":"#N/A"},{"$error":"#N/A"},{"$error":"#N/A"},{"$error":"#N/A"},{"$error":"#N/A"}]
[null,null,null,"1956-07-01",{"$error":"#N/A"},{"$error":"#N/A"},{"$error":"#N/A"},{"$error":"#N/A"},{"$error":"#N/A"},{"$error":"#N/A"},{"$error":"#N/A"},{"$error":"#N/A"},{"$error":"#N/A"},{"$error":"#N/A"},{"$error":"#N/A"},{"$error":"#N/A"},{"$error":"#N/A"},{"$f":"INDEX(INDIRECT(\"'\"&R$7&\"'!B:B\"),MATCH($D14,INDIRECT(\"'\"&R$7&\"'!A:A\")))","v":{"$error":"#N/A"}},{"$error":"#N/A"},{"$error":"#N/A"},{"$error":"#N/A"},{"$error":"#N/A"},{"$error":"#N/A"},{"$error":"#N/A"},{"$error":"#N/A"},{"$error":"#N/A"},{"$error":"#N/A"},6.3,{"$error":"#N/A"},{"$error":"#N/A"},1.1000000000000001,{"$error":"#N/A"},{"$error":"#N/A"},{"$error":"#N/A"},27.29,16.196999999999999,64706,48750,53840,{"$error":"#N/A"},{"$error":"#N/A"},{"$error":"#N/A"},{"$error":"#N/A"},{"$error":"#N/A"},{"$error":"#N/A"},{"$error":"#N/A"},{"$error":"#N/A"},{"$error":"#N/A"},{"$error":"#N/A"}]
[null,null,null,"1956-08-01",{"$error":"#N/A"},{"$error":"#N/A"},{"$error":"#N/A"},{"$error":"#N/A"},{"$error":"#N/A"},{"$error":"#N/A"},{"$error":"#N/A"},{"$error":"#N/A"},{"$error":"#N/A"},{"$error":"#N/A"},{"$error":"#N/A"},{"$error":"#N/A"},{"$error":"#N/A"},{"$error":"#N/A"},{"$error":"#N/A"},{"$error":"#N/A"},{"$error":"#N/A"},{"$error":"#N/A"},{"$error":"#N/A"},{"$error":"#N/A"},{"$error":"#N/A"},{"$error":"#N/A"},{"$error":"#N/A"},6.3,{"$error":"#N/A"},{"$error":"#N/A"},1.1000000000000001,{"$error":"#N/A"},{"$error":"#N/A"},{"$error":"#N/A"},27.31,16.196999999999999,64729,48769,53882,{"$error":"#N/A"},{"$error":"#N/A"},{"$error":"#N/A"},{"$error":"#N/A"},{"$error":"#N/A"},{"$error":"#N/A"},{"$error":"#N/A"},{"$error":"#N/A"},{"$error":"#N/A"},{"$error":"#N/A"}]
[null,null,null,"1956-09-01",{"$error":"#N/A"},{"$error":"#N/A"},{"$error":"#N/A"},{"$error":"#N/A"},{"$error":"#N/A"},{"$error":"#N/A"},{"$error":"#N/A"},{"$error":"#N/A"},{"$error":"#N/A"},{"$error":"#N/A"},{"$error":"#N/A"},{"$error":"#N/A"},{"$error":"#N/A"},{"$error":"#N/A"},{"$error":"#N/A"},{"$error":"#N/A"},{"$error":"#N/A"},{"$error":"#N/A"},{"$error":"#N/A"},{"$error":"#N/A"},{"$error":"#N/A"},{"$error":"#N/A"},{"$error":"#N/A"},6.3,{"$error":"#N/A"},{"$error":"#N/A"},1.1000000000000001,{"$error":"#N/A"},{"$error":"#N/A"},{"$error":"#N/A"},27.35,16.196999999999999,64765,48818,53935,{"$error":"#N/A"},{"$error":"#N/A"},{"$error":"#N/A"},{"$error":"#N/A"},{"$error":"#N/A"},{"$error":"#N/A"},{"$error":"#N/A"},{"$error":"#N/A"},{"$error":"#N/A"},{"$error":"#N/A"}]
[null,null,null,"1956-10-01",{"$error":"#N/A"},{"$error":"#N/A"},{"$error":"#N/A"},{"$error":"#N/A"},{"$error":"#N/A"},{"$error":"#N/A"},{"$error":"#N/A"},{"$error":"#N/A"},{"$error":"#N/A"},{"$error":"#N/A"},{"$error":"#N/A"},{"$error":"#N/A"},{"$error":"#N/A"},{"$error":"#N/A"},{"$error":"#N/A"},{"$error":"#N/A"},{"$error":"#N/A"},{"$error":"#N/A"},{"$error":"#N/A"},{"$error":"#N/A"},{"$error":"#N/A"},{"$error":"#N/A"},{"$error":"#N/A"},5.8,{"$error":"#N/A"},{"$error":"#N/A"},0.9,{"$error":"#N/A"},{"$error":"#N/A"},{"$error":"#N/A"},27.51,16.263999999999999,64790,48868,53989,{"$error":"#N/A"},{"$error":"#N/A"},{"$error":"#N/A"},{"$error":"#N/A"},{"$error":"#N/A"},{"$error":"#N/A"},{"$error":"#N/A"},{"$error":"#N/A"},{"$error":"#N/A"},{"$error":"#N/A"}]
[null,null,null,"1956-11-01",{"$error":"#N/A"},{"$error":"#N/A"},{"$error":"#N/A"},{"$error":"#N/A"},{"$error":"#N/A"},{"$error":"#N/A"},{"$error":"#N/A"},{"$error":"#N/A"},{"$error":"#N/A"},{"$error":"#N/A"},{"$error":"#N/A"},{"$error":"#N/A"},{"$error":"#N/A"},{"$error":"#N/A"},{"$error":"#N/A"},{"$error":"#N/A"},{"$error":"#N/A"},{"$error":"#N/A"},{"$error":"#N/A"},{"$error":"#N/A"},{"$error":"#N/A"},{"$error":"#N/A"},{"$error":"#N/A"},5.8,{"$error":"#N/A"},{"$error":"#N/A"},0.9,{"$error":"#N/A"},{"$error":"#N/A"},{"$error":"#N/A"},27.51,16.263999999999999,64810,48908,54037,{"$error":"#N/A"},{"$error":"#N/A"},{"$error":"#N/A"},{"$error":"#N/A"},{"$error":"#N/A"},{"$error":"#N/A"},{"$error":"#N/A"},{"$error":"#N/A"},{"$error":"#N/A"},{"$error":"#N/A"}]
[null,null,null,"1956-12-01",{"$error":"#N/A"},{"$error":"#N/A"},{"$error":"#N/A"},{"$error":"#N/A"},{"$error":"#N/A"},{"$error":"#N/A"},{"$error":"#N/A"},{"$error":"#N/A"},{"$error":"#N/A"},{"$error":"#N/A"},{"$error":"#N/A"},{"$error":"#N/A"},{"$error":"#N/A"},{"$error":"#N/A"},{"$error":"#N/A"},{"$error":"#N/A"},{"$error":"#N/A"},{"$error":"#N/A"},{"$error":"#N/A"},{"$error":"#N/A"},{"$error":"#N/A"},{"$error":"#N/A"},{"$error":"#N/A"},5.8,{"$error":"#N/A"},{"$error":"#N/A"},0.9,{"$error":"#N/A"},{"$error":"#N/A"},{"$error":"#N/A"},27.63,16.263999999999999,64828,48948,54082,{"$error":"#N/A"},{"$error":"#N/A"},{"$error":"#N/A"},{"$error":"#N/A"},{"$error":"#N/A"},{"$error":"#N/A"},{"$error":"#N/A"},{"$error":"#N/A"},{"$error":"#N/A"},{"$error":"#N/A"}]
[null,null,null,"1957-01-01",{"$error":"#N/A"},{"$error":"#N/A"},{"$error":"#N/A"},{"$error":"#N/A"},{"$error":"#N/A"},{"$error":"#N/A"},{"$error":"#N/A"},{"$error":"#N/A"},{"$error":"#N/A"},{"$error":"#N/A"},{"$f":"INDEX(INDIRECT(\"'\"&O$7&\"'!B:B\"),MATCH($D20,INDIRECT(\"'\"&O$7&\"'!A:A\")))","v":{"$error":"#N/A"}},{"$error":"#N/A"},{"$error":"#N/A"},{"$error":"#N/A"},{"$error":"#N/A"},{"$error":"#N/A"},{"$error":"#N/A"},{"$error":"#N/A"},{"$error":"#N/A"},{"$error":"#N/A"},{"$error":"#N/A"},{"$error":"#N/A"},{"$error":"#N/A"},5.3,{"$error":"#N/A"},{"$error":"#N/A"},0.9,{"$error":"#N/A"},{"$error":"#N/A"},{"$error":"#N/A"},27.67,16.484999999999999,64857,48989,54129,{"$error":"#N/A"},{"$error":"#N/A"},{"$error":"#N/A"},{"$error":"#N/A"},{"$error":"#N/A"},{"$error":"#N/A"},{"$error":"#N/A"},{"$error":"#N/A"},{"$error":"#N/A"},{"$error":"#N/A"}]
[null,null,null,"1957-02-01",{"$error":"#N/A"},{"$error":"#N/A"},{"$error":"#N/A"},{"$error":"#N/A"},{"$error":"#N/A"},{"$error":"#N/A"},{"$error":"#N/A"},{"$error":"#N/A"},{"$error":"#N/A"},{"$error":"#N/A"},{"$error":"#N/A"},{"$error":"#N/A"},{"$error":"#N/A"},{"$error":"#N/A"},{"$error":"#N/A"},{"$error":"#N/A"},{"$error":"#N/A"},{"$error":"#N/A"},{"$error":"#N/A"},{"$error":"#N/A"},{"$error":"#N/A"},{"$error":"#N/A"},{"$error":"#N/A"},5.3,{"$error":"#N/A"},{"$error":"#N/A"},0.9,{"$error":"#N/A"},{"$error":"#N/A"},{"$error":"#N/A"},27.8,16.484999999999999,64879,49015,54169,{"$error":"#N/A"},{"$error":"#N/A"},{"$error":"#N/A"},{"$error":"#N/A"},{"$error":"#N/A"},{"$error":"#N/A"},{"$error":"#N/A"},{"$error":"#N/A"},{"$error":"#N/A"},{"$error":"#N/A"}]
[null,null,null,"1957-03-01",{"$error":"#N/A"},{"$error":"#N/A"},{"$error":"#N/A"},{"$error":"#N/A"},{"$error":"#N/A"},{"$error":"#N/A"},{"$error":"#N/A"},{"$error":"#N/A"},{"$error":"#N/A"},{"$error":"#N/A"},{"$error":"#N/A"},{"$error":"#N/A"},{"$error":"#N/A"},{"$error":"#N/A"},{"$error":"#N/A"},{"$error":"#N/A"},{"$error":"#N/A"},{"$error":"#N/A"},{"$error":"#N/A"},{"$error":"#N/A"},{"$error":"#N/A"},{"$error":"#N/A"},{"$error":"#N/A"},5.3,{"$error":"#N/A"},{"$error":"#N/A"},0.9,{"$error":"#N/A"},{"$error":"#N/A"},{"$error":"#N/A"},27.86,16.484999999999999,64908,49058,54224,{"$error":"#N/A"},{"$error":"#N/A"},{"$error":"#N/A"},{"$error":"#N/A"},{"$error":"#N/A"},{"$error":"#N/A"},{"$error":"#N/A"},{"$error":"#N/A"},{"$error":"#N/A"},{"$error":"#N/A"}]
[null,null,null,"1957-04-01",{"$error":"#N/A"},{"$error":"#N/A"},{"$error":"#N/A"},{"$error":"#N/A"},{"$error":"#N/A"},{"$error":"#N/A"},{"$error":"#N/A"},{"$error":"#N/A"},{"$error":"#N/A"},{"$error":"#N/A"},{"$error":"#N/A"},{"$error":"#N/A"},{"$error":"#N/A"},{"$error":"#N/A"},{"$error":"#N/A"},{"$error":"#N/A"},{"$error":"#N/A"},{"$error":"#N/A"},{"$error":"#N/A"},{"$error":"#N/A"},{"$error":"#N/A"},{"$error":"#N/A"},{"$error":"#N/A"},5.3,{"$error":"#N/A"},{"$error":"#N/A"},1,{"$error":"#N/A"},{"$error":"#N/A"},{"$error":"#N/A"},27.93,16.600999999999999,64934,49099,54280,{"$error":"#N/A"},{"$error":"#N/A"},{"$error":"#N/A"},{"$error":"#N/A"},{"$error":"#N/A"},{"$error":"#N/A"},{"$error":"#N/A"},{"$error":"#N/A"},{"$error":"#N/A"},{"$error":"#N/A"}]
[null,null,null,"1957-05-01",{"$error":"#N/A"},{"$error":"#N/A"},{"$error":"#N/A"},{"$error":"#N/A"},{"$error":"#N/A"},{"$error":"#N/A"},{"$error":"#N/A"},{"$error":"#N/A"},{"$error":"#N/A"},{"$error":"#N/A"},{"$error":"#N/A"},{"$error":"#N/A"},{"$error":"#N/A"},{"$error":"#N/A"},{"$error":"#N/A"},{"$error":"#N/A"},{"$error":"#N/A"},{"$error":"#N/A"},{"$error":"#N/A"},{"$error":"#N/A"},{"$error":"#N/A"},{"$error":"#N/A"},{"$error":"#N/A"},5.3,{"$error":"#N/A"},{"$error":"#N/A"},1,{"$error":"#N/A"},{"$error":"#N/A"},{"$error":"#N/A"},28,16.600999999999999,64972,49130,54326,{"$error":"#N/A"},{"$error":"#N/A"},{"$error":"#N/A"},{"$error":"#N/A"},{"$error":"#N/A"},{"$error":"#N/A"},{"$error":"#N/A"},{"$error":"#N/A"},{"$error":"#N/A"},{"$error":"#N/A"}]
[null,null,null,"1957-06-01",{"$error":"#N/A"},{"$error":"#N/A"},{"$error":"#N/A"},{"$error":"#N/A"},{"$error":"#N/A"},{"$error":"#N/A"},{"$error":"#N/A"},{"$error":"#N/A"},{"$error":"#N/A"},{"$error":"#N/A"},{"$error":"#N/A"},{"$error":"#N/A"},{"$error":"#N/A"},{"$error":"#N/A"},{"$error":"#N/A"},{"$error":"#N/A"},{"$error":"#N/A"},{"$error":"#N/A"},{"$error":"#N/A"},{"$error":"#N/A"},{"$error":"#N/A"},{"$error":"#N/A"},{"$error":"#N/A"},5.3,{"$error":"#N/A"},{"$error":"#N/A"},1,{"$error":"#N/A"},{"$error":"#N/A"},{"$error":"#N/A"},28.11,16.600999999999999,65025,49179,54396,{"$error":"#N/A"},{"$error":"#N/A"},{"$error":"#N/A"},{"$error":"#N/A"},{"$error":"#N/A"},{"$error":"#N/A"},{"$error":"#N/A"},{"$error":"#N/A"},{"$error":"#N/A"},{"$error":"#N/A"}]
[null,null,null,"1957-07-01",{"$error":"#N/A"},{"$error":"#N/A"},{"$error":"#N/A"},{"$error":"#N/A"},{"$error":"#N/A"},{"$error":"#N/A"},{"$error":"#N/A"},{"$f":"INDEX(INDIRECT(\"'\"&L$7&\"'!B:B\"),MATCH($D26,INDIRECT(\"'\"&L$7&\"'!A:A\")))","v":{"$error":"#N/A"}},{"$error":"#N/A"},{"$error":"#N/A"},{"$error":"#N/A"},{"$error":"#N/A"},{"$error":"#N/A"},{"$error":"#N/A"},{"$error":"#N/A"},{"$error":"#N/A"},{"$error":"#N/A"},{"$error":"#N/A"},{"$error":"#N/A"},{"$error":"#N/A"},{"$error":"#N/A"},{"$error":"#N/A"},{"$error":"#N/A"},5.7,{"$error":"#N/A"},{"$error":"#N/A"},0.9,{"$error":"#N/A"},{"$error":"#N/A"},{"$error":"#N/A"},28.19,16.701000000000001,65113,49258,54457,{"$error":"#N/A"},{"$error":"#N/A"},{"$error":"#N/A"},{"$error":"#N/A"},{"$error":"#N/A"},{"$error":"#N/A"},{"$error":"#N/A"},{"$error":"#N/A"},{"$error":"#N/A"},{"$error":"#N/A"}]
[null,null,null,"1957-08-01",{"$error":"#N/A"},{"$error":"#N/A"},{"$error":"#N/A"},{"$error":"#N/A"},{"$error":"#N/A"},{"$error":"#N/A"},{"$error":"#N/A"},{"$error":"#N/A"},{"$error":"#N/A"},{"$error":"#N/A"},{"$error":"#N/A"},{"$error":"#N/A"},{"$error":"#N/A"},{"$error":"#N/A"},{"$error":"#N/A"},{"$error":"#N/A"},{"$error":"#N/A"},{"$error":"#N/A"},{"$error":"#N/A"},{"$error":"#N/A"},{"$error":"#N/A"},{"$error":"#N/A"},{"$error":"#N/A"},5.7,{"$error":"#N/A"},{"$error":"#N/A"},0.9,{"$error":"#N/A"},{"$error":"#N/A"},{"$error":"#N/A"},28.28,16.701000000000001,65134,49285,54510,{"$error":"#N/A"},{"$error":"#N/A"},{"$error":"#N/A"},{"$error":"#N/A"},{"$error":"#N/A"},{"$error":"#N/A"},{"$error":"#N/A"},{"$error":"#N/A"},{"$error":"#N/A"},{"$error":"#N/A"}]
[null,null,null,"1957-09-01",{"$error":"#N/A"},{"$error":"#N/A"},{"$error":"#N/A"},{"$error":"#N/A"},{"$error":"#N/A"},{"$error":"#N/A"},{"$error":"#N/A"},{"$error":"#N/A"},{"$error":"#N/A"},{"$error":"#N/A"},{"$error":"#N/A"},{"$error":"#N/A"},{"$error":"#N/A"},{"$error":"#N/A"},{"$error":"#N/A"},{"$error":"#N/A"},{"$error":"#N/A"},{"$error":"#N/A"},{"$error":"#N/A"},{"$error":"#N/A"},{"$error":"#N/A"},{"$error":"#N/A"},{"$error":"#N/A"},5.7,{"$error":"#N/A"},{"$error":"#N/A"},0.9,{"$error":"#N/A"},{"$error":"#N/A"},{"$error":"#N/A"},28.32,16.701000000000001,65165,49338,54560,{"$error":"#N/A"},{"$error":"#N/A"},{"$error":"#N/A"},{"$error":"#N/A"},{"$error":"#N/A"},{"$error":"#N/A"},{"$error":"#N/A"},{"$error":"#N/A"},{"$error":"#N/A"},{"$error":"#N/A"}]
[null,null,null,"1957-10-01",{"$error":"#N/A"},{"$error":"#N/A"},{"$error":"#N/A"},{"$error":"#N/A"},{"$error":"#N/A"},{"$error":"#N/A"},{"$error":"#N/A"},{"$error":"#N/A"},{"$error":"#N/A"},{"$error":"#N/A"},{"$error":"#N/A"},{"$error":"#N/A"},{"$error":"#N/A"},{"$error":"#N/A"},{"$error":"#N/A"},{"$error":"#N/A"},{"$error":"#N/A"},{"$error":"#N/A"},{"$error":"#N/A"},{"$error":"#N/A"},{"$error":"#N/A"},{"$error":"#N/A"},{"$error":"#N/A"},5.8,{"$error":"#N/A"},{"$error":"#N/A"},1,{"$error":"#N/A"},{"$error":"#N/A"},{"$error":"#N/A"},28.32,16.710999999999999,65205,49405,54617,{"$error":"#N/A"},{"$error":"#N/A"},{"$error":"#N/A"},{"$error":"#N/A"},{"$error":"#N/A"},{"$error":"#N/A"},{"$error":"#N/A"},{"$error":"#N/A"},{"$error":"#N/A"},{"$error":"#N/A"}]
[null,null,null,"1957-11-01",{"$error":"#N/A"},{"$error":"#N/A"},{"$error":"#N/A"},{"$error":"#N/A"},{"$error":"#N/A"},{"$error":"#N/A"},{"$error":"#N/A"},{"$error":"#N/A"},{"$error":"#N/A"},{"$error":"#N/A"},{"$error":"#N/A"},{"$error":"#N/A"},{"$error":"#N/A"},{"$error":"#N/A"},{"$error":"#N/A"},{"$error":"#N/A"},{"$error":"#N/A"},{"$error":"#N/A"},{"$error":"#N/A"},{"$error":"#N/A"},{"$error":"#N/A"},{"$error":"#N/A"},{"$error":"#N/A"},5.8,{"$error":"#N/A"},{"$error":"#N/A"},1,{"$error":"#N/A"},{"$error":"#N/A"},{"$error":"#N/A"},28.41,16.710999999999999,65251,49483,54667,{"$error":"#N/A"},{"$error":"#N/A"},{"$error":"#N/A"},{"$error":"#N/A"},{"$error":"#N/A"},{"$error":"#N/A"},{"$error":"#N/A"},{"$error":"#N/A"},{"$error":"#N/A"},{"$error":"#N/A"}]
[null,null,null,"1957-12-01",{"$error":"#N/A"},{"$error":"#N/A"},{"$error":"#N/A"},{"$error":"#N/A"},{"$error":"#N/A"},{"$error":"#N/A"},{"$error":"#N/A"},{"$error":"#N/A"},{"$error":"#N/A"},{"$error":"#N/A"},{"$error":"#N/A"},{"$error":"#N/A"},{"$error":"#N/A"},{"$error":"#N/A"},{"$error":"#N/A"},{"$error":"#N/A"},{"$error":"#N/A"},{"$error":"#N/A"},{"$error":"#N/A"},{"$error":"#N/A"},{"$error":"#N/A"},{"$error":"#N/A"},{"$error":"#N/A"},5.8,{"$error":"#N/A"},{"$error":"#N/A"},1,{"$error":"#N/A"},{"$error":"#N/A"},{"$error":"#N/A"},28.47,16.710999999999999,65290,49543,54712,{"$error":"#N/A"},{"$error":"#N/A"},{"$error":"#N/A"},{"$error":"#N/A"},{"$error":"#N/A"},{"$error":"#N/A"},{"$error":"#N/A"},{"$error":"#N/A"},{"$error":"#N/A"},{"$error":"#N/A"}]
[null,null,null,"1958-01-01",{"$error":"#N/A"},{"$error":"#N/A"},{"$error":"#N/A"},{"$error":"#N/A"},{"$f":"INDEX(INDIRECT(\"'\"&I$7&\"'!B:B\"),MATCH($D32,INDIRECT(\"'\"&I$7&\"'!A:A\")))","v":{"$error":"#N/A"}},{"$error":"#N/A"},{"$error":"#N/A"},{"$error":"#N/A"},{"$error":"#N/A"},{"$error":"#N/A"},{"$error":"#N/A"},{"$error":"#N/A"},{"$error":"#N/A"},{"$error":"#N/A"},{"$error":"#N/A"},{"$error":"#N/A"},{"$error":"#N/A"},{"$error":"#N/A"},{"$error":"#N/A"},{"$error":"#N/A"},{"$error":"#N/A"},{"$error":"#N/A"},{"$error":"#N/A"},6.3,{"$error":"#N/A"},{"$error":"#N/A"},1.2,{"$error":"#N/A"},{"$error":"#N/A"},{"$error":"#N/A"},28.64,16.891999999999999,65325,49595,54751,{"$error":"#N/A"},{"$error":"#N/A"},{"$error":"#N/A"},{"$error":"#N/A"},{"$error":"#N/A"},{"$error":"#N/A"},{"$error":"#N/A"},{"$error":"#N/A"},{"$error":"#N/A"},{"$error":"#N/A"}]
[null,null,null,"1958-02-01",{"$error":"#N/A"},{"$error":"#N/A"},{"$error":"#N/A"},{"$error":"#N/A"},{"$error":"#N/A"},{"$error":"#N/A"},{"$error":"#N/A"},{"$error":"#N/A"},{"$error":"#N/A"},{"$error":"#N/A"},{"$error":"#N/A"},{"$error":"#N/A"},{"$error":"#N/A"},{"$error":"#N/A"},{"$error":"#N/A"},{"$error":"#N/A"},{"$error":"#N/A"},{"$error":"#N/A"},{"$error":"#N/A"},{"$error":"#N/A"},{"$error":"#N/A"},{"$error":"#N/A"},{"$error":"#N/A"},6.3,{"$error":"#N/A"},{"$error":"#N/A"},1.2,{"$error":"#N/A"},{"$error":"#N/A"},{"$error":"#N/A"},28.7,16.891999999999999,65350,49623,54793,{"$error":"#N/A"},{"$error":"#N/A"},{"$error":"#N/A"},{"$error":"#N/A"},{"$error":"#N/A"},{"$error":"#N/A"},{"$error":"#N/A"},{"$error":"#N/A"},{"$error":"#N/A"},{"$error":"#N/A"}]
[null,null,null,"1958-03-01",{"$error":"#N/A"},{"$error":"#N/A"},{"$error":"#N/A"},{"$error":"#N/A"},{"$error":"#N/A"},{"$error":"#N/A"},{"$error":"#N/A"},{"$error":"#N/A"},{"$error":"#N/A"},{"$error":"#N/A"},{"$error":"#N/A"},{"$error":"#N/A"},{"$error":"#N/A"},{"$error":"#N/A"},{"$error":"#N/A"},{"$error":"#N/A"},{"$error":"#N/A"},{"$error":"#N/A"},{"$error":"#N/A"},{"$error":"#N/A"},{"$error":"#N/A"},{"$error":"#N/A"},{"$error":"#N/A"},6.3,{"$error":"#N/A"},{"$error":"#N/A"},1.2,{"$error":"#N/A"},{"$error":"#N/A"},{"$error":"#N/A"},28.87,16.891999999999999,65373,49654,54842,{"$error":"#N/A"},{"$error":"#N/A"},{"$error":"#N/A"},{"$error":"#N/A"},{"$error":"#N/A"},{"$error":"#N/A"},{"$error":"#N/A"},{"$error":"#N/A"},{"$error":"#N/A"},{"$error":"#N/A"}]
[null,null,null,"1958-04-01",{"$error":"#N/A"},{"$error":"#N/A"},{"$error":"#N/A"},{"$error":"#N/A"},{"$error":"#N/A"},{"$error":"#N/A"},{"$error":"#N/A"},{"$error":"#N/A"},{"$error":"#N/A"},{"$error":"#N/A"},{"$error":"#N/A"},{"$error":"#N/A"},{"$error":"#N/A"},{"$error":"#N/A"},{"$error":"#N/A"},{"$error":"#N/A"},{"$error":"#N/A"},{"$error":"#N/A"},{"$error":"#N/A"},{"$error":"#N/A"},{"$error":"#N/A"},{"$error":"#N/A"},{"$error":"#N/A"},6.5,{"$error":"#N/A"},{"$error":"#N/A"},1.2,{"$error":"#N/A"},{"$error":"#N/A"},{"$error":"#N/A"},28.94,16.940000000000001,65392,49667,54882,{"$error":"#N/A"},{"$error":"#N/A"},{"$error":"#N/A"},{"$error":"#N/A"},{"$error":"#N/A"},{"$error":"#N/A"},{"$error":"#N/A"},{"$error":"#N/A"},{"$error":"#N/A"},{"$error":"#N/A"}]
[null,null,null,"1958-05-01",{"$error":"#N/A"},{"$error":"#N/A"},{"$error":"#N/A"},{"$error":"#N/A"},{"$error":"#N/A"},{"$error":"#N/A"},{"$error":"#N/A"},{"$error":"#N/A"},{"$error":"#N/A"},{"$error":"#N/A"},{"$error":"#N/A"},{"$error":"#N/A"},{"$error":"#N/A"},{"$error":"#N/A"},{"$error":"#N/A"},{"$error":"#N/A"},{"$error":"#N/A"},{"$error":"#N/A"},{"$error":"#N/A"},{"$error":"#N/A"},{"$error":"#N/A"},{"$error":"#N/A"},{"$error":"#N/A"},6.5,{"$error":"#N/A"},{"$error":"#N/A"},1.2,{"$error":"#N/A"},{"$error":"#N/A"},{"$error":"#N/A"},28.94,16.940000000000001,65422,49711,54928,{"$error":"#N/A"},{"$error":"#N/A"},{"$error":"#N/A"},{"$error":"#N/A"},{"$error":"#N/A"},{"$error":"#N/A"},{"$error":"#N/A"},{"$error":"#N/A"},{"$error":"#N/A"},{"$error":"#N/A"}]
[null,null,null,"1958-06-01",{"$error":"#N/A"},{"$error":"#N/A"},{"$error":"#N/A"},{"$error":"#N/A"},{"$error":"#N/A"},{"$error":"#N/A"},{"$error":"#N/A"},{"$error":"#N/A"},{"$error":"#N/A"},{"$error":"#N/A"},{"$error":"#N/A"},{"$error":"#N/A"},{"$error":"#N/A"},{"$error":"#N/A"},{"$error":"#N/A"},{"$error":"#N/A"},{"$error":"#N/A"},{"$error":"#N/A"},{"$error":"#N/A"},{"$error":"#N/A"},{"$error":"#N/A"},{"$error":"#N/A"},{"$error":"#N/A"},6.5,{"$error":"#N/A"},{"$error":"#N/A"},1.2,{"$error":"#N/A"},{"$error":"#N/A"},{"$error":"#N/A"},28.91,16.940000000000001,65451,49749,54977,{"$error":"#N/A"},{"$error":"#N/A"},{"$error":"#N/A"},{"$error":"#N/A"},{"$error":"#N/A"},{"$error":"#N/A"},{"$error":"#N/A"},{"$error":"#N/A"},{"$error":"#N/A"},{"$f":"INDEX(INDIRECT(\"'\"&AW$7&\"'!B:B\"),MATCH($D37,INDIRECT(\"'\"&AW$7&\"'!A:A\")))","v":{"$error":"#N/A"}}]
[null,null,null,"1958-07-01",{"$error":"#N/A"},{"$error":"#N/A"},{"$error":"#N/A"},{"$error":"#N/A"},{"$error":"#N/A"},{"$error":"#N/A"},{"$error":"#N/A"},{"$error":"#N/A"},{"$error":"#N/A"},{"$error":"#N/A"},{"$error":"#N/A"},{"$error":"#N/A"},{"$error":"#N/A"},{"$error":"#N/A"},{"$error":"#N/A"},{"$error":"#N/A"},{"$error":"#N/A"},{"$error":"#N/A"},{"$error":"#N/A"},{"$error":"#N/A"},{"$error":"#N/A"},{"$error":"#N/A"},{"$error":"#N/A"},6.3,{"$error":"#N/A"},{"$error":"#N/A"},1.2,{"$error":"#N/A"},{"$error":"#N/A"},{"$error":"#N/A"},28.89,17.042999999999999,65460,49772,55013,{"$error":"#N/A"},{"$error":"#N/A"},{"$error":"#N/A"},{"$error":"#N/A"},{"$error":"#N/A"},{"$error":"#N/A"},{"$error":"#N/A"},{"$error":"#N/A"},{"$error":"#N/A"},{"$error":"#N/A"}]
[null,null,null,"1958-08-01",{"$error":"#N/A"},{"$error":"#N/A"},{"$error":"#N/A"},{"$error":"#N/A"},{"$error":"#N/A"},{"$error":"#N/A"},{"$error":"#N/A"},{"$error":"#N/A"},{"$error":"#N/A"},{"$error":"#N/A"},{"$error":"#N/A"},{"$error":"#N/A"},{"$error":"#N/A"},{"$error":"#N/A"},{"$error":"#N/A"},{"$error":"#N/A"},{"$error":"#N/A"},{"$error":"#N/A"},{"$error":"#N/A"},{"$error":"#N/A"},{"$error":"#N/A"},{"$error":"#N/A"},{"$error":"#N/A"},6.3,{"$error":"#N/A"},{"$error":"#N/A"},1.2,{"$error":"#N/A"},{"$error":"#N/A"},{"$error":"#N/A"},28.94,17.042999999999999,65449,49767,55052,{"$error":"#N/A"},{"$error":"#N/A"},{"$error":"#N/A"},{"$error":"#N/A"},{"$error":"#N/A"},{"$error":"#N/A"},{"$error":"#N/A"},{"$error":"#N/A"},{"$error":"#N/A"},{"$error":"#N/A"}]
[null,null,null,"1958-09-01",{"$error":"#N/A"},{"$error":"#N/A"},{"$error":"#N/A"},{"$error":"#N/A"},{"$error":"#N/A"},{"$error":"#N/A"},{"$error":"#N/A"},{"$error":"#N/A"},{"$error":"#N/A"},{"$error":"#N/A"},{"$error":"#N/A"},{"$error":"#N/A"},{"$error":"#N/A"},{"$error":"#N/A"},{"$error":"#N/A"},{"$error":"#N/A"},{"$error":"#N/A"},{"$error":"#N/A"},{"$error":"#N/A"},{"$error":"#N/A"},{"$error":"#N/A"},{"$error":"#N/A"},{"$error":"#N/A"},6.3,{"$error":"#N/A"},{"$error":"#N/A"},1.2,{"$error":"#N/A"},{"$error":"#N/A"},{"$error":"#N/A"},28.91,17.042999999999999,65426,49769,55101,{"$error":"#N/A"},{"$error":"#N/A"},{"$error":"#N/A"},{"$error":"#N/A"},{"$error":"#N/A"},{"$error":"#N/A"},{"$error":"#N/A"},{"$error":"#N/A"},{"$error":"#N/A"},{"$error":"#N/A"}]
[null,null,null,"1958-10-01",{"$error":"#N/A"},{"$error":"#N/A"},{"$error":"#N/A"},{"$error":"#N/A"},{"$error":"#N/A"},{"$error":"#N/A"},{"$error":"#N/A"},{"$error":"#N/A"},{"$error":"#N/A"},{"$error":"#N/A"},{"$error":"#N/A"},{"$error":"#N/A"},{"$error":"#N/A"},{"$error":"#N/A"},{"$error":"#N/A"},{"$error":"#N/A"},{"$error":"#N/A"},{"$error":"#N/A"},{"$error":"#N/A"},{"$error":"#N/A"},{"$error":"#N/A"},{"$error":"#N/A"},{"$error":"#N/A"},6.6,{"$error":"#N/A"},{"$error":"#N/A"},1.2,{"$error":"#N/A"},{"$error":"#N/A"},{"$error":"#N/A"},28.91,17.123000000000001,65454,49819,55159,{"$error":"#N/A"},{"$error":"#N/A"},{"$error":"#N/A"},{"$error":"#N/A"},{"$error":"#N/A"},{"$error":"#N/A"},{"$error":"#N/A"},{"$error":"#N/A"},{"$error":"#N/A"},{"$error":"#N/A"}]
[null,null,null,"1958-11-01",{"$error":"#N/A"},{"$error":"#N/A"},{"$error":"#N/A"},{"$error":"#N/A"},{"$error":"#N/A"},{"$error":"#N/A"},{"$error":"#N/A"},{"$error":"#N/A"},{"$error":"#N/A"},{"$error":"#N/A"},{"$error":"#N/A"},{"$error":"#N/A"},{"$error":"#N/A"},{"$error":"#N/A"},{"$error":"#N/A"},{"$error":"#N/A"},{"$error":"#N/A"},{"$error":"#N/A"},{"$error":"#N/A"},{"$error":"#N/A"},{"$error":"#N/A"},{"$error":"#N/A"},{"$error":"#N/A"},6.6,{"$error":"#N/A"},{"$error":"#N/A"},1.2,{"$error":"#N/A"},{"$error":"#N/A"},{"$error":"#N/A"},28.95,17.123000000000001,65476,49859,55212,{"$error":"#N/A"},{"$error":"#N/A"},{"$error":"#N/A"},{"$error":"#N/A"},{"$error":"#N/A"},{"$error":"#N/A"},{"$error":"#N/A"},{"$error":"#N/A"},{"$error":"#N/A"},{"$error":"#N/A"}]
[null,null,null,"1958-12-01",{"$error":"#N/A"},{"$error":"#N/A"},{"$error":"#N/A"},{"$error":"#N/A"},{"$error":"#N/A"},{"$error":"#N/A"},{"$error":"#N/A"},{"$error":"#N/A"},{"$error":"#N/A"},{"$error":"#N/A"},{"$error":"#N/A"},{"$error":"#N/A"},{"$error":"#N/A"},{"$error":"#N/A"},{"$error":"#N/A"},{"$error":"#N/A"},{"$error":"#N/A"},{"$error":"#N/A"},{"$error":"#N/A"},{"$error":"#N/A"},{"$error":"#N/A"},{"$error":"#N/A"},{"$error":"#N/A"},6.6,{"$error":"#N/A"},{"$error":"#N/A"},1.2,{"$error":"#N/A"},{"$error":"#N/A"},{"$error":"#N/A"},28.97,17.123000000000001,65497,49902,55261,{"$error":"#N/A"},{"$error":"#N/A"},{"$error":"#N/A"},{"$error":"#N/A"},{"$error":"#N/A"},{"$error":"#N/A"},{"$f":"INDEX(INDIRECT(\"'\"&AT$7&\"'!B:B\"),MATCH($D43,INDIRECT(\"'\"&AT$7&\"'!A:A\")))","v":{"$error":"#N/A"}},{"$error":"#N/A"},{"$error":"#N/A"},{"$error":"#N/A"}]
[null,null,null,"1959-01-01",{"$error":"#N/A"},{"$error":"#N/A"},{"$error":"#N/A"},{"$error":"#N/A"},{"$error":"#N/A"},{"$error":"#N/A"},{"$error":"#N/A"},{"$error":"#N/A"},{"$error":"#N/A"},{"$error":"#N/A"},{"$error":"#N/A"},{"$error":"#N/A"},{"$error":"#N/A"},{"$error":"#N/A"},{"$error":"#N/A"},{"$error":"#N/A"},{"$error":"#N/A"},{"$error":"#N/A"},{"$error":"#N/A"},{"$error":"#N/A"},{"$error":"#N/A"},{"$error":"#N/A"},{"$error":"#N/A"},6.8,{"$error":"#N/A"},{"$error":"#N/A"},1.1000000000000001,{"$error":"#N/A"},{"$error":"#N/A"},{"$error":"#N/A"},29.01,17.169,65525,49952,55308,{"$error":"#N/A"},{"$error":"#N/A"},17.611000000000001,{"$error":"#N/A"},{"$error":"#N/A"},{"$error":"#N/A"},{"$error":"#N/A"},{"$error":"#N/A"},{"$error":"#N/A"},{"$error":"#N/A"}]
[null,null,null,"1959-02-01",{"$error":"#N/A"},{"$error":"#N/A"},{"$error":"#N/A"},{"$error":"#N/A"},{"$error":"#N/A"},{"$error":"#N/A"},{"$error":"#N/A"},{"$error":"#N/A"},{"$error":"#N/A"},{"$error":"#N/A"},{"$error":"#N/A"},{"$error":"#N/A"},{"$error":"#N/A"},{"$error":"#N/A"},{"$error":"#N/A"},{"$error":"#N/A"},{"$error":"#N/A"},{"$error":"#N/A"},{"$error":"#N/A"},{"$error":"#N/A"},{"$error":"#N/A"},{"$error":"#N/A"},{"$error":"#N/A"},6.8,{"$error":"#N/A"},{"$error":"#N/A"},1.1000000000000001,{"$error":"#N/A"},{"$error":"#N/A"},{"$error":"#N/A"},29,17.169,65544,49974,55352,{"$error":"#N/A"},{"$error":"#N/A"},17.611000000000001,{"$error":"#N/A"},{"$error":"#N/A"},{"$error":"#N/A"},{"$error":"#N/A"},{"$error":"#N/A"},{"$error":"#N/A"},{"$error":"#N/A"}]
[null,null,null,"1959-03-01",{"$error":"#N/A"},{"$error":"#N/A"},{"$error":"#N/A"},{"$error":"#N/A"},{"$error":"#N/A"},{"$error":"#N/A"},{"$error":"#N/A"},{"$error":"#N/A"},{"$error":"#N/A"},{"$error":"#N/A"},{"$error":"#N/A"},{"$error":"#N/A"},{"$error":"#N/A"},{"$error":"#N/A"},{"$error":"#N/A"},{"$error":"#N/A"},{"$error":"#N/A"},{"$error":"#N/A"},{"$error":"#N/A"},{"$error":"#N/A"},{"$error":"#N/A"},{"$error":"#N/A"},{"$error":"#N/A"},6.8,{"$error":"#N/A"},{"$error":"#N/A"},1.1000000000000001,{"$error":"#N/A"},{"$error":"#N/A"},{"$error":"#N/A"},28.97,17.169,65566,50014,55396,{"$error":"#N/A"},{"$error":"#N/A"},17.611000000000001,{"$error":"#N/A"},{"$error":"#N/A"},{"$error":"#N/A"},{"$error":"#N/A"},{"$error":"#N/A"},{"$error":"#N/A"},{"$error":"#N/A"}]
[null,null,null,"1959-04-01",{"$error":"#N/A"},{"$error":"#N/A"},{"$error":"#N/A"},{"$error":"#N/A"},{"$error":"#N/A"},{"$error":"#N/A"},{"$error":"#N/A"},{"$error":"#N/A"},{"$error":"#N/A"},{"$error":"#N/A"},{"$error":"#N/A"},{"$error":"#N/A"},{"$error":"#N/A"},{"$error":"#N/A"},{"$error":"#N/A"},{"$error":"#N/A"},{"$error":"#N/A"},{"$error":"#N/A"},{"$error":"#N/A"},{"$error":"#N/A"},{"$error":"#N/A"},{"$error":"#N/A"},{"$error":"#N/A"},7.3,{"$error":"#N/A"},{"$error":"#N/A"},1.3,{"$error":"#N/A"},{"$error":"#N/A"},{"$error":"#N/A"},28.98,17.193999999999999,65587,50051,55442,{"$error":"#N/A"},{"$error":"#N/A"},17.701000000000001,{"$error":"#N/A"},{"$error":"#N/A"},{"$error":"#N/A"},{"$error":"#N/A"},{"$error":"#N/A"},{"$error":"#N/A"},{"$error":"#N/A"}]
[null,null,null,"1959-05-01",{"$error":"#N/A"},{"$error":"#N/A"},{"$error":"#N/A"},{"$error":"#N/A"},{"$error":"#N/A"},{"$error":"#N/A"},{"$error":"#N/A"},{"$error":"#N/A"},{"$error":"#N/A"},{"$error":"#N/A"},{"$error":"#N/A"},{"$error":"#N/A"},{"$error":"#N/A"},{"$error":"#N/A"},{"$error":"#N/A"},{"$error":"#N/A"},{"$error":"#N/A"},{"$error":"#N/A"},{"$error":"#N/A"},{"$error":"#N/A"},{"$error":"#N/A"},{"$error":"#N/A"},{"$error":"#N/A"},7.3,{"$error":"#N/A"},{"$error":"#N/A"},1.3,{"$error":"#N/A"},{"$error":"#N/A"},{"$error":"#N/A"},29.04,17.193999999999999,65614,50102,55493,{"$error":"#N/A"},{"$error":"#N/A"},17.701000000000001,{"$error":"#N/A"},{"$error":"#N/A"},{"$error":"#N/A"},{"$error":"#N/A"},{"$error":"#N/A"},{"$error":"#N/A"},{"$error":"#N/A"}]
[null,null,null,"1959-06-01",{"$error":"#N/A"},{"$error":"#N/A"},{"$error":"#N/A"},{"$error":"#N/A"},{"$error":"#N/A"},{"$error":"#N/A"},{"$error":"#N/A"},{"$error":"#N/A"},{"$error":"#N/A"},{"$error":"#N/A"},{"$error":"#N/A"},{"$error":"#N/A"},{"$error":"#N/A"},{"$error":"#N/A"},{"$error":"#N/A"},{"$error":"#N/A"},{"$error":"#N/A"},{"$error":"#N/A"},{"$error":"#N/A"},{"$error":"#N/A"},{"$error":"#N/A"},{"$error":"#N/A"},{"$error":"#N/A"},7.3,{"$error":"#N/A"},{"$error":"#N/A"},1.3,{"$error":"#N/A"},{"$error":"#N/A"},{"$error":"#N/A"},29.11,17.193999999999999,65638,50144,55540,{"$error":"#N/A"},{"$error":"#N/A"},17.701000000000001,{"$f":"INDEX(INDIRECT(\"'\"&AQ$7&\"'!B:B\"),MATCH($D49,INDIRECT(\"'\"&AQ$7&\"'!A:A\")))","v":{"$error":"#N/A"}},{"$error":"#N/A"},{"$error":"#N/A"},{"$error":"#N/A"},{"$error":"#N/A"},{"$error":"#N/A"},{"$error":"#N/A"}]
[null,null,null,"1959-07-01",{"$error":"#N/A"},{"$error":"#N/A"},{"$error":"#N/A"},{"$error":"#N/A"},{"$error":"#N/A"},{"$error":"#N/A"},{"$error":"#N/A"},{"$error":"#N/A"},{"$error":"#N/A"},{"$error":"#N/A"},{"$error":"#N/A"},{"$error":"#N/A"},{"$error":"#N/A"},{"$error":"#N/A"},{"$error":"#N/A"},{"$error":"#N/A"},{"$error":"#N/A"},{"$error":"#N/A"},{"$error":"#N/A"},{"$error":"#N/A"},{"$error":"#N/A"},{"$error":"#N/A"},{"$error":"#N/A"},7.2,{"$error":"#N/A"},{"$error":"#N/A"},1.2,{"$error":"#N/A"},{"$error":"#N/A"},{"$error":"#N/A"},29.15,17.257999999999999,65660,50183,55591,{"$error":"#N/A"},{"$error":"#N/A"},17.815999999999999,{"$error":"#N/A"},{"$error":"#N/A"},{"$error":"#N/A"},{"$error":"#N/A"},{"$error":"#N/A"},{"$error":"#N/A"},{"$error":"#N/A"}]
[null,null,null,"1959-08-01",{"$error":"#N/A"},{"$error":"#N/A"},{"$error":"#N/A"},{"$error":"#N/A"},{"$error":"#N/A"},{"$error":"#N/A"},{"$error":"#N/A"},{"$error":"#N/A"},{"$error":"#N/A"},{"$error":"#N/A"},{"$error":"#N/A"},{"$error":"#N/A"},{"$error":"#N/A"},{"$error":"#N/A"},{"$error":"#N/A"},{"$error":"#N/A"},{"$error":"#N/A"},{"$error":"#N/A"},{"$error":"#N/A"},{"$error":"#N/A"},{"$error":"#N/A"},{"$error":"#N/A"},{"$error":"#N/A"},7.2,{"$error":"#N/A"},{"$error":"#N/A"},1.2,{"$error":"#N/A"},{"$error":"#N/A"},{"$error":"#N/A"},29.18,17.257999999999999,65681,50219,55642,{"$error":"#N/A"},{"$error":"#N/A"},17.815999999999999,{"$error":"#N/A"},{"$error":"#N/A"},{"$error":"#N/A"},{"$error":"#N/A"},{"$error":"#N/A"},{"$error":"#N/A"},{"$error":"#N/A"}]
[null,null,null,"1959-09-01",{"$error":"#N/A"},{"$error":"#N/A"},{"$error":"#N/A"},{"$error":"#N/A"},{"$error":"#N/A"},{"$error":"#N/A"},{"$error":"#N/A"},{"$error":"#N/A"},{"$error":"#N/A"},{"$error":"#N/A"},{"$error":"#N/A"},{"$error":"#N/A"},{"$error":"#N/A"},{"$error":"#N/A"},{"$error":"#N/A"},{"$error":"#N/A"},{"$error":"#N/A"},{"$error":"#N/A"},{"$error":"#N/A"},{"$error":"#N/A"},{"$error":"#N/A"},{"$error":"#N/A"},{"$error":"#N/A"},7.2,{"$error":"#N/A"},{"$error":"#N/A"},1.2,{"$error":"#N/A"},{"$error":"#N/A"},{"$error":"#N/A"},29.25,17.257999999999999,65650,50226,55695,{"$error":"#N/A"},{"$error":"#N/A"},17.815999999999999,{"$error":"#N/A"},{"$error":"#N/A"},{"$error":"#N/A"},{"$error":"#N/A"},{"$error":"#N/A"},{"$error":"#N/A"},{"$error":"#N/A"}]
[null,null,null,"1959-10-01",{"$error":"#N/A"},{"$error":"#N/A"},{"$error":"#N/A"},{"$error":"#N/A"},{"$error":"#N/A"},{"$error":"#N/A"},{"$error":"#N/A"},{"$error":"#N/A"},{"$error":"#N/A"},{"$error":"#N/A"},{"$error":"#N/A"},{"$error":"#N/A"},{"$error":"#N/A"},{"$error":"#N/A"},{"$error":"#N/A"},{"$error":"#N/A"},{"$error":"#N/A"},{"$error":"#N/A"},{"$error":"#N/A"},{"$error":"#N/A"},{"$error":"#N/A"},{"$error":"#N/A"},{"$error":"#N/A"},7,{"$error":"#N/A"},{"$error":"#N/A"},1.1000000000000001,{"$error":"#N/A"},{"$error":"#N/A"},{"$error":"#N/A"},29.35,17.326000000000001,65639,50251,55747,{"$error":"#N/A"},{"$error":"#N/A"},17.917999999999999,{"$error":"#N/A"},{"$error":"#N/A"},{"$error":"#N/A"},{"$error":"#N/A"},{"$error":"#N/A"},{"$error":"#N/A"},{"$error":"#N/A"}]
[null,null,null,"1959-11-01",{"$error":"#N/A"},{"$error":"#N/A"},{"$error":"#N/A"},{"$error":"#N/A"},{"$error":"#N/A"},{"$error":"#N/A"},{"$error":"#N/A"},{"$error":"#N/A"},{"$error":"#N/A"},{"$error":"#N/A"},{"$error":"#N/A"},{"$error":"#N/A"},{"$error":"#N/A"},{"$error":"#N/A"},{"$error":"#N/A"},{"$error":"#N/A"},{"$error":"#N/A"},{"$error":"#N/A"},{"$error":"#N/A"},{"$error":"#N/A"},{"$error":"#N/A"},{"$error":"#N/A"},{"$error":"#N/A"},7,{"$error":"#N/A"},{"$error":"#N/A"},1.1000000000000001,{"$error":"#N/A"},{"$error":"#N/A"},{"$error":"#N/A"},29.35,17.326000000000001,65621,50269,55794,{"$error":"#N/A"},{"$error":"#N/A"},17.917999999999999,{"$error":"#N/A"},{"$error":"#N/A"},{"$error":"#N/A"},{"$error":"#N/A"},{"$error":"#N/A"},{"$error":"#N/A"},{"$error":"#N/A"}]
[null,null,null,"1959-12-01",{"$error":"#N/A"},{"$error":"#N/A"},{"$error":"#N/A"},{"$error":"#N/A"},{"$error":"#N/A"},{"$error":"#N/A"},{"$error":"#N/A"},{"$error":"#N/A"},{"$error":"#N/A"},{"$error":"#N/A"},{"$error":"#N/A"},{"$error":"#N/A"},{"$error":"#N/A"},{"$error":"#N/A"},{"$error":"#N/A"},{"$error":"#N/A"},{"$error":"#N/A"},{"$error":"#N/A"},{"$error":"#N/A"},{"$error":"#N/A"},{"$error":"#N/A"},{"$error":"#N/A"},{"$error":"#N/A"},7,{"$error":"#N/A"},{"$error":"#N/A"},1.1000000000000001,{"$error":"#N/A"},{"$error":"#N/A"},{"$error":"#N/A"},29.41,17.326000000000001,65642,50303,55845,{"$f":"INDEX(INDIRECT(\"'\"&AN$7&\"'!B:B\"),MATCH($D55,INDIRECT(\"'\"&AN$7&\"'!A:A\")))","v":{"$error":"#N/A"}},{"$error":"#N/A"},17.917999999999999,{"$error":"#N/A"},{"$error":"#N/A"},{"$error":"#N/A"},{"$error":"#N/A"},{"$error":"#N/A"},{"$error":"#N/A"},{"$error":"#N/A"}]
[null,null,null,"1960-01-01",{"$error":"#N/A"},{"$error":"#N/A"},{"$error":"#N/A"},{"$error":"#N/A"},{"$error":"#N/A"},{"$error":"#N/A"},{"$error":"#N/A"},{"$error":"#N/A"},{"$error":"#N/A"},{"$error":"#N/A"},{"$error":"#N/A"},{"$error":"#N/A"},{"$error":"#N/A"},{"$error":"#N/A"},{"$error":"#N/A"},{"$error":"#N/A"},{"$error":"#N/A"},{"$error":"#N/A"},{"$error":"#N/A"},{"$error":"#N/A"},{"$error":"#N/A"},{"$error":"#N/A"},{"$error":"#N/A"},8,{"$error":"#N/A"},{"$error":"#N/A"},1.2,{"$error":"#N/A"},{"$error":"#N/A"},{"$error":"#N/A"},29.37,17.396999999999998,65931,50529,56087,{"$error":"#N/A"},{"$error":"#N/A"},17.975999999999999,{"$error":"#N/A"},{"$error":"#N/A"},{"$error":"#N/A"},{"$error":"#N/A"},{"$error":"#N/A"},{"$error":"#N/A"},{"$error":"#N/A"}]
[null,null,null,"1960-02-01",{"$error":"#N/A"},{"$error":"#N/A"},{"$error":"#N/A"},{"$error":"#N/A"},{"$error":"#N/A"},{"$error":"#N/A"},{"$error":"#N/A"},{"$error":"#N/A"},{"$error":"#N/A"},{"$error":"#N/A"},{"$error":"#N/A"},{"$error":"#N/A"},{"$error":"#N/A"},{"$error":"#N/A"},{"$error":"#N/A"},{"$error":"#N/A"},{"$error":"#N/A"},{"$error":"#N/A"},{"$error":"#N/A"},{"$error":"#N/A"},{"$error":"#N/A"},{"$error":"#N/A"},{"$error":"#N/A"},8,{"$error":"#N/A"},{"$error":"#N/A"},1.2,{"$error":"#N/A"},{"$error":"#N/A"},{"$error":"#N/A"},29.41,17.396999999999998,65952,50555,56131,{"$error":"#N/A"},{"$error":"#N/A"},17.975999999999999,{"$error":"#N/A"},{"$error":"#N/A"},{"$error":"#N/A"},{"$error":"#N/A"},{"$error":"#N/A"},{"$error":"#N/A"},{"$error":"#N/A"}]
[null,null,null,"1960-03-01",{"$error":"#N/A"},{"$error":"#N/A"},{"$error":"#N/A"},{"$error":"#N/A"},{"$error":"#N/A"},{"$error":"#N/A"},{"$error":"#N/A"},{"$error":"#N/A"},{"$error":"#N/A"},{"$error":"#N/A"},{"$error":"#N/A"},{"$error":"#N/A"},{"$error":"#N/A"},{"$error":"#N/A"},{"$error":"#N/A"},{"$error":"#N/A"},{"$error":"#N/A"},{"$error":"#N/A"},{"$error":"#N/A"},{"$error":"#N/A"},{"$error":"#N/A"},{"$error":"#N/A"},{"$error":"#N/A"},8,{"$error":"#N/A"},{"$error":"#N/A"},1.2,{"$error":"#N/A"},{"$error":"#N/A"},{"$error":"#N/A"},29.41,17.396999999999998,65975,50589,56183,{"$error":"#N/A"},{"$error":"#N/A"},17.975999999999999,{"$error":"#N/A"},{"$error":"#N/A"},{"$error":"#N/A"},{"$error":"#N/A"},{"$error":"#N/A"},{"$error":"#N/A"},{"$error":"#N/A"}]
[null,null,null,"1960-04-01",{"$error":"#N/A"},{"$error":"#N/A"},{"$error":"#N/A"},{"$error":"#N/A"},{"$error":"#N/A"},{"$error":"#N/A"},{"$error":"#N/A"},{"$error":"#N/A"},{"$error":"#N/A"},{"$error":"#N/A"},{"$error":"#N/A"},{"$error":"#N/A"},{"$error":"#N/A"},{"$error":"#N/A"},{"$error":"#N/A"},{"$error":"#N/A"},{"$error":"#N/A"},{"$error":"#N/A"},{"$error":"#N/A"},{"$error":"#N/A"},{"$error":"#N/A"},{"$error":"#N/A"},{"$error":"#N/A"},8,{"$error":"#N/A"},{"$error":"#N/A"},1.3,{"$error":"#N/A"},{"$error":"#N/A"},{"$error":"#N/A"},29.54,17.443000000000001,65974,50595,56216,{"$error":"#N/A"},{"$error":"#N/A"},18.045000000000002,{"$error":"#N/A"},{"$error":"#N/A"},{"$error":"#N/A"},{"$error":"#N/A"},{"$error":"#N/A"},{"$error":"#N/A"},{"$error":"#N/A"}]
[null,null,null,"1960-05-01",{"$error":"#N/A"},{"$error":"#N/A"},{"$error":"#N/A"},{"$error":"#N/A"},{"$error":"#N/A"},{"$error":"#N/A"},{"$error":"#N/A"},{"$error":"#N/A"},{"$error":"#N/A"},{"$error":"#N/A"},{"$error":"#N/A"},{"$error":"#N/A"},{"$error":"#N/A"},{"$error":"#N/A"},{"$error":"#N/A"},{"$error":"#N/A"},{"$error":"#N/A"},{"$error":"#N/A"},{"$error":"#N/A"},{"$error":"#N/A"},{"$error":"#N/A"},{"$error":"#N/A"},{"$error":"#N/A"},8,{"$error":"#N/A"},{"$error":"#N/A"},1.3,{"$error":"#N/A"},{"$error":"#N/A"},{"$error":"#N/A"},29.57,17.443000000000001,65989,50630,56259,{"$error":"#N/A"},{"$error":"#N/A"},18.045000000000002,{"$error":"#N/A"},{"$error":"#N/A"},{"$error":"#N/A"},{"$error":"#N/A"},{"$error":"#N/A"},{"$error":"#N/A"},{"$error":"#N/A"}]
[null,null,null,"1960-06-01",{"$error":"#N/A"},{"$error":"#N/A"},{"$error":"#N/A"},{"$error":"#N/A"},{"$error":"#N/A"},{"$error":"#N/A"},{"$error":"#N/A"},{"$error":"#N/A"},{"$error":"#N/A"},{"$error":"#N/A"},{"$error":"#N/A"},{"$error":"#N/A"},{"$error":"#N/A"},{"$error":"#N/A"},{"$error":"#N/A"},{"$error":"#N/A"},{"$error":"#N/A"},{"$error":"#N/A"},{"$error":"#N/A"},{"$error":"#N/A"},{"$error":"#N/A"},{"$error":"#N/A"},{"$error":"#N/A"},8,{"$error":"#N/A"},{"$error":"#N/A"},1.3,{"$error":"#N/A"},{"$error":"#N/A"},{"$error":"#N/A"},29.61,17.443000000000001,{"$f":"INDEX(INDIRECT(\"'\"&AK$7&\"'!B:B\"),MATCH($D61,INDIRECT(\"'\"&AK$7&\"'!A:A\")))","v":66017},50672,56310,{"$error":"#N/A"},{"$error":"#N/A"},18.045000000000002,{"$error":"#N/A"},{"$error":"#N/A"},{"$error":"#N/A"},{"$error":"#N/A"},{"$error":"#N/A"},{"$error":"#N/A"},{"$error":"#N/A"}]
[null,null,null,"1960-07-01",{"$error":"#N/A"},{"$error":"#N/A"},{"$error":"#N/A"},{"$error":"#N/A"},{"$error":"#N/A"},{"$error":"#N/A"},{"$error":"#N/A"},{"$error":"#N/A"},{"$error":"#N/A"},{"$error":"#N/A"},{"$error":"#N/A"},{"$error":"#N/A"},{"$error":"#N/A"},{"$error":"#N/A"},{"$error":"#N/A"},{"$error":"#N/A"},{"$error":"#N/A"},{"$error":"#N/A"},{"$error":"#N/A"},{"$error":"#N/A"},{"$error":"#N/A"},{"$error":"#N/A"},{"$error":"#N/A"},8.3000000000000007,{"$error":"#N/A"},{"$error":"#N/A"},1.3,{"$error":"#N/A"},{"$error":"#N/A"},{"$error":"#N/A"},29.55,17.506,66034,50697,56363,{"$error":"#N/A"},{"$error":"#N/A"},18.117999999999999,{"$error":"#N/A"},{"$error":"#N/A"},{"$error":"#N/A"},{"$error":"#N/A"},{"$error":"#N/A"},{"$error":"#N/A"},{"$error":"#N/A"}]
[null,null,null,"1960-08-01",{"$error":"#N/A"},{"$error":"#N/A"},{"$error":"#N/A"},{"$error":"#N/A"},{"$error":"#N/A"},{"$error":"#N/A"},{"$error":"#N/A"},{"$error":"#N/A"},{"$error":"#N/A"},{"$error":"#N/A"},{"$error":"#N/A"},{"$error":"#N/A"},{"$error":"#N/A"},{"$error":"#N/A"},{"$error":"#N/A"},{"$error":"#N/A"},{"$error":"#N/A"},{"$error":"#N/A"},{"$error":"#N/A"},{"$error":"#N/A"},{"$error":"#N/A"},{"$error":"#N/A"},{"$error":"#N/A"},8.3000000000000007,{"$error":"#N/A"},{"$error":"#N/A"},1.3,{"$error":"#N/A"},{"$error":"#N/A"},{"$error":"#N/A"},29.61,17.506,66069,50757,56419,{"$error":"#N/A"},{"$error":"#N/A"},18.117999999999999,{"$error":"#N/A"},{"$error":"#N/A"},{"$error":"#N/A"},{"$error":"#N/A"},{"$error":"#N/A"},{"$error":"#N/A"},{"$error":"#N/A"}]
[null,null,null,"1960-09-01",{"$error":"#N/A"},{"$error":"#N/A"},{"$error":"#N/A"},{"$error":"#N/A"},{"$error":"#N/A"},{"$error":"#N/A"},{"$error":"#N/A"},{"$error":"#N/A"},{"$error":"#N/A"},{"$error":"#N/A"},{"$error":"#N/A"},{"$error":"#N/A"},{"$error":"#N/A"},{"$error":"#N/A"},{"$error":"#N/A"},{"$error":"#N/A"},{"$error":"#N/A"},{"$error":"#N/A"},{"$error":"#N/A"},{"$error":"#N/A"},{"$error":"#N/A"},{"$error":"#N/A"},{"$error":"#N/A"},8.3000000000000007,{"$error":"#N/A"},{"$error":"#N/A"},1.3,{"$error":"#N/A"},{"$error":"#N/A"},{"$error":"#N/A"},29.61,17.506,66073,50769,56474,{"$error":"#N/A"},{"$error":"#N/A"},18.117999999999999,{"$error":"#N/A"},{"$error":"#N/A"},{"$error":"#N/A"},{"$error":"#N/A"},{"$error":"#N/A"},{"$error":"#N/A"},{"$error":"#N/A"}]
[null,null,null,"1960-10-01",{"$error":"#N/A"},{"$error":"#N/A"},{"$error":"#N/A"},{"$error":"#N/A"},{"$error":"#N/A"},{"$error":"#N/A"},{"$error":"#N/A"},{"$error":"#N/A"},{"$error":"#N/A"},{"$error":"#N/A"},{"$error":"#N/A"},{"$error":"#N/A"},{"$error":"#N/A"},{"$error":"#N/A"},{"$error":"#N/A"},{"$error":"#N/A"},{"$error":"#N/A"},{"$error":"#N/A"},{"$error":"#N/A"},{"$error":"#N/A"},{"$error":"#N/A"},{"$error":"#N/A"},{"$error":"#N/A"},8.4,{"$error":"#N/A"},{"$error":"#N/A"},1.3,{"$error":"#N/A"},{"$error":"#N/A"},{"$error":"#N/A"},29.75,17.559999999999999,66091,50804,56532,{"$error":"#N/A"},{"$error":"#N/A"},18.178000000000001,{"$error":"#N/A"},{"$error":"#N/A"},{"$error":"#N/A"},{"$error":"#N/A"},{"$error":"#N/A"},{"$error":"#N/A"},{"$error":"#N/A"}]
[null,null,null,"1960-11-01",{"$error":"#N/A"},{"$error":"#N/A"},{"$error":"#N/A"},{"$error":"#N/A"},{"$error":"#N/A"},{"$error":"#N/A"},{"$error":"#N/A"},{"$error":"#N/A"},{"$error":"#N/A"},{"$error":"#N/A"},{"$error":"#N/A"},{"$error":"#N/A"},{"$error":"#N/A"},{"$error":"#N/A"},{"$error":"#N/A"},{"$error":"#N/A"},{"$error":"#N/A"},{"$error":"#N/A"},{"$error":"#N/A"},{"$error":"#N/A"},{"$error":"#N/A"},{"$error":"#N/A"},{"$error":"#N/A"},8.4,{"$error":"#N/A"},{"$error":"#N/A"},1.3,{"$error":"#N/A"},{"$error":"#N/A"},{"$error":"#N/A"},29.78,17.559999999999999,66146,50864,56625,{"$error":"#N/A"},{"$error":"#N/A"},18.178000000000001,{"$error":"#N/A"},{"$error":"#N/A"},{"$error":"#N/A"},{"$error":"#N/A"},{"$error":"#N/A"},{"$error":"#N/A"},{"$error":"#N/A"}]
[null,null,null,"1960-12-01",{"$error":"#N/A"},{"$error":"#N/A"},{"$error":"#N/A"},{"$error":"#N/A"},{"$error":"#N/A"},{"$error":"#N/A"},{"$error":"#N/A"},{"$error":"#N/A"},{"$error":"#N/A"},{"$error":"#N/A"},{"$error":"#N/A"},{"$error":"#N/A"},{"$error":"#N/A"},{"$error":"#N/A"},{"$error":"#N/A"},{"$error":"#N/A"},{"$error":"#N/A"},{"$error":"#N/A"},{"$error":"#N/A"},{"$error":"#N/A"},{"$error":"#N/A"},{"$error":"#N/A"},{"$error":"#N/A"},8.4,{"$error":"#N/A"},{"$error":"#N/A"},1.3,{"$error":"#N/A"},{"$error":"#N/A"},{"$f":"INDEX(INDIRECT(\"'\"&AH$7&\"'!B:B\"),MATCH($D67,INDIRECT(\"'\"&AH$7&\"'!A:A\")))","v":{"$error":"#N/A"}},29.81,17.559999999999999,66194,50923,56705,{"$error":"#N/A"},{"$error":"#N/A"},18.178000000000001,{"$error":"#N/A"},{"$error":"#N/A"},{"$error":"#N/A"},{"$error":"#N/A"},{"$error":"#N/A"},{"$error":"#N/A"},{"$error":"#N/A"}]
[null,null,null,"1961-01-01",{"$error":"#N/A"},{"$error":"#N/A"},{"$error":"#N/A"},{"$error":"#N/A"},{"$error":"#N/A"},{"$error":"#N/A"},{"$error":"#N/A"},{"$error":"#N/A"},{"$error":"#N/A"},{"$error":"#N/A"},{"$error":"#N/A"},{"$error":"#N/A"},{"$error":"#N/A"},{"$error":"#N/A"},{"$error":"#N/A"},{"$error":"#N/A"},{"$error":"#N/A"},{"$error":"#N/A"},{"$error":"#N/A"},{"$error":"#N/A"},{"$error":"#N/A"},{"$error":"#N/A"},{"$error":"#N/A"},8.9,{"$error":"#N/A"},{"$error":"#N/A"},1.3,{"$error":"#N/A"},{"$error":"#N/A"},{"$error":"#N/A"},29.84,17.597999999999999,66237,50974,56776,{"$error":"#N/A"},{"$error":"#N/A"},18.209,{"$error":"#N/A"},{"$error":"#N/A"},{"$error":"#N/A"},{"$error":"#N/A"},{"$error":"#N/A"},{"$error":"#N/A"},{"$error":"#N/A"}]
[null,null,null,"1961-02-01",{"$error":"#N/A"},{"$error":"#N/A"},{"$error":"#N/A"},{"$error":"#N/A"},{"$error":"#N/A"},{"$error":"#N/A"},{"$error":"#N/A"},{"$error":"#N/A"},{"$error":"#N/A"},{"$error":"#N/A"},{"$error":"#N/A"},{"$error":"#N/A"},{"$error":"#N/A"},{"$error":"#N/A"},{"$error":"#N/A"},{"$error":"#N/A"},{"$error":"#N/A"},{"$error":"#N/A"},{"$error":"#N/A"},{"$error":"#N/A"},{"$error":"#N/A"},{"$error":"#N/A"},{"$error":"#N/A"},8.9,{"$error":"#N/A"},{"$error":"#N/A"},1.3,{"$error":"#N/A"},{"$error":"#N/A"},{"$error":"#N/A"},29.84,17.597999999999999,66243,51001,56824,{"$error":"#N/A"},{"$error":"#N/A"},18.209,{"$error":"#N/A"},{"$error":"#N/A"},{"$error":"#N/A"},{"$error":"#N/A"},{"$error":"#N/A"},{"$error":"#N/A"},{"$error":"#N/A"}]
[null,null,null,"1961-03-01",{"$error":"#N/A"},{"$error":"#N/A"},{"$error":"#N/A"},{"$error":"#N/A"},{"$error":"#N/A"},{"$error":"#N/A"},{"$error":"#N/A"},{"$error":"#N/A"},{"$error":"#N/A"},{"$error":"#N/A"},{"$error":"#N/A"},{"$error":"#N/A"},{"$error":"#N/A"},{"$error":"#N/A"},{"$error":"#N/A"},{"$error":"#N/A"},{"$error":"#N/A"},{"$error":"#N/A"},{"$error":"#N/A"},{"$error":"#N/A"},{"$error":"#N/A"},{"$error":"#N/A"},{"$error":"#N/A"},8.9,{"$error":"#N/A"},{"$error":"#N/A"},1.3,{"$error":"#N/A"},{"$error":"#N/A"},{"$error":"#N/A"},29.84,17.597999999999999,66253,51041,56870,{"$error":"#N/A"},{"$error":"#N/A"},18.209,{"$error":"#N/A"},{"$error":"#N/A"},{"$error":"#N/A"},{"$error":"#N/A"},{"$error":"#N/A"},{"$error":"#N/A"},{"$error":"#N/A"}]
[null,null,null,"1961-04-01",{"$error":"#N/A"},{"$error":"#N/A"},{"$error":"#N/A"},{"$error":"#N/A"},{"$error":"#N/A"},{"$error":"#N/A"},{"$error":"#N/A"},{"$error":"#N/A"},{"$error":"#N/A"},{"$error":"#N/A"},{"$error":"#N/A"},{"$error":"#N/A"},{"$error":"#N/A"},{"$error":"#N/A"},{"$error":"#N/A"},{"$error":"#N/A"},{"$error":"#N/A"},{"$error":"#N/A"},{"$error":"#N/A"},{"$error":"#N/A"},{"$error":"#N/A"},{"$error":"#N/A"},{"$error":"#N/A"},8.8000000000000007,{"$error":"#N/A"},{"$error":"#N/A"},1.5,{"$error":"#N/A"},{"$error":"#N/A"},{"$error":"#N/A"},29.81,17.640999999999998,66274,51101,56932,{"$error":"#N/A"},{"$error":"#N/A"},18.268999999999998,{"$error":"#N/A"},{"$error":"#N/A"},{"$error":"#N/A"},{"$error":"#N/A"},{"$error":"#N/A"},{"$error":"#N/A"},{"$error":"#N/A"}]
[null,null,null,"1961-05-01",{"$error":"#N/A"},{"$error":"#N/A"},{"$error":"#N/A"},{"$error":"#N/A"},{"$error":"#N/A"},{"$error":"#N/A"},{"$error":"#N/A"},{"$error":"#N/A"},{"$error":"#N/A"},{"$error":"#N/A"},{"$error":"#N/A"},{"$error":"#N/A"},{"$error":"#N/A"},{"$error":"#N/A"},{"$error":"#N/A"},{"$error":"#N/A"},{"$error":"#N/A"},{"$error":"#N/A"},{"$error":"#N/A"},{"$error":"#N/A"},{"$error":"#N/A"},{"$error":"#N/A"},{"$error":"#N/A"},8.8000000000000007,{"$error":"#N/A"},{"$error":"#N/A"},1.5,{"$error":"#N/A"},{"$error":"#N/A"},{"$error":"#N/A"},29.84,17.640999999999998,66301,51150,56990,{"$error":"#N/A"},{"$error":"#N/A"},18.268999999999998,{"$error":"#N/A"},{"$error":"#N/A"},{"$error":"#N/A"},{"$error":"#N/A"},{"$error":"#N/A"},{"$error":"#N/A"},{"$error":"#N/A"}]
[null,null,null,"1961-06-01",{"$f":"INDEX(INDIRECT(\"'\"&E$7&\"'!B:B\"),MATCH($D73,INDIRECT(\"'\"&E$7&\"'!A:A\")))","v":{"$error":"#N/A"}},{"$error":"#N/A"},{"$error":"#N/A"},{"$error":"#N/A"},{"$error":"#N/A"},{"$error":"#N/A"},{"$error":"#N/A"},{"$error":"#N/A"},{"$error":"#N/A"},{"$error":"#N/A"},{"$error":"#N/A"},{"$error":"#N/A"},{"$error":"#N/A"},{"$error":"#N/A"},{"$error":"#N/A"},{"$error":"#N/A"},{"$error":"#N/A"},{"$error":"#N/A"},{"$error":"#N/A"},{"$error":"#N/A"},{"$error":"#N/A"},{"$error":"#N/A"},{"$error":"#N/A"},8.8000000000000007,{"$error":"#N/A"},{"$error":"#N/A"},1.5,{"$error":"#N/A"},{"$error":"#N/A"},{"$error":"#N/A"},29.84,17.640999999999998,66328,51191,57046,{"$error":"#N/A"},{"$error":"#N/A"},18.268999999999998,{"$error":"#N/A"},{"$error":"#N/A"},{"$f":"INDEX(INDIRECT(\"'\"&AS$7&\"'!B:B\"),MATCH($D73,INDIRECT(\"'\"&AS$7&\"'!A:A\")))","v":{"$error":"#N/A"}},{"$error":"#N/A"},{"$error":"#N/A"},{"$error":"#N/A"},{"$error":"#N/A"}]
[null,null,null,{"$f":"EOMONTH(D73,$E$1)+1","v":"1961-07-01"},{"$error":"#N/A"},{"$error":"#N/A"},{"$error":"#N/A"},{"$error":"#N/A"},{"$error":"#N/A"},{"$error":"#N/A"},{"$error":"#N/A"},{"$error":"#N/A"},{"$error":"#N/A"},{"$error":"#N/A"},{"$error":"#N/A"},{"$error":"#N/A"},{"$error":"#N/A"},{"$error":"#N/A"},{"$error":"#N/A"},{"$error":"#N/A"},{"$error":"#N/A"},{"$error":"#N/A"},{"$error":"#N/A"},{"$error":"#N/A"},{"$error":"#N/A"},{"$error":"#N/A"},{"$error":"#N/A"},8.6,{"$error":"#N/A"},{"$error":"#N/A"},1.5,{"$error":"#N/A"},{"$error":"#N/A"},{"$error":"#N/A"},29.92,17.687000000000001,66348,51227,57104,{"$error":"#N/A"},{"$error":"#N/A"},18.350000000000001,{"$error":"#N/A"},{"$error":"#N/A"},{"$error":"#N/A"},{"$error":"#N/A"},{"$error":"#N/A"},{"$error":"#N/A"},{"$error":"#N/A"}]
[null,null,null,"1961-08-01",{"$error":"#N/A"},{"$error":"#N/A"},{"$error":"#N/A"},{"$error":"#N/A"},{"$error":"#N/A"},{"$error":"#N/A"},{"$error":"#N/A"},{"$error":"#N/A"},{"$error":"#N/A"},{"$error":"#N/A"},{"$error":"#N/A"},{"$error":"#N/A"},{"$error":"#N/A"},{"$error":"#N/A"},{"$error":"#N/A"},{"$error":"#N/A"},{"$error":"#N/A"},{"$error":"#N/A"},{"$error":"#N/A"},{"$error":"#N/A"},{"$error":"#N/A"},{"$error":"#N/A"},{"$error":"#N/A"},8.6,{"$error":"#N/A"},{"$error":"#N/A"},1.5,{"$error":"#N/A"},{"$error":"#N/A"},{"$error":"#N/A"},29.94,17.687000000000001,66362,51264,57168,{"$error":"#N/A"},{"$error":"#N/A"},18.350000000000001,{"$error":"#N/A"},{"$error":"#N/A"},{"$error":"#N/A"},{"$error":"#N/A"},{"$error":"#N/A"},{"$error":"#N/A"},{"$error":"#N/A"}]
[null,null,null,"1961-09-01",{"$error":"#N/A"},{"$error":"#N/A"},{"$error":"#N/A"},{"$error":"#N/A"},{"$error":"#N/A"},{"$error":"#N/A"},{"$error":"#N/A"},{"$error":"#N/A"},{"$error":"#N/A"},{"$error":"#N/A"},{"$error":"#N/A"},{"$error":"#N/A"},{"$error":"#N/A"},{"$error":"#N/A"},{"$error":"#N/A"},{"$error":"#N/A"},{"$error":"#N/A"},{"$error":"#N/A"},{"$error":"#N/A"},{"$error":"#N/A"},{"$error":"#N/A"},{"$error":"#N/A"},{"$error":"#N/A"},8.6,{"$error":"#N/A"},{"$error":"#N/A"},1.5,{"$error":"#N/A"},{"$error":"#N/A"},{"$error":"#N/A"},29.98,17.687000000000001,66373,51302,57229,{"$error":"#N/A"},{"$error":"#N/A"},18.350000000000001,{"$error":"#N/A"},{"$error":"#N/A"},{"$error":"#N/A"},{"$error":"#N/A"},{"$error":"#N/A"},{"$error":"#N/A"},{"$error":"#N/A"}]
[null,null,null,"1961-10-01",{"$error":"#N/A"},{"$error":"#N/A"},{"$error":"#N/A"},{"$error":"#N/A"},{"$error":"#N/A"},{"$error":"#N/A"},{"$error":"#N/A"},{"$error":"#N/A"},{"$error":"#N/A"},{"$error":"#N/A"},{"$error":"#N/A"},{"$error":"#N/A"},{"$error":"#N/A"},{"$error":"#N/A"},{"$error":"#N/A"},{"$error":"#N/A"},{"$error":"#N/A"},{"$error":"#N/A"},{"$error":"#N/A"},{"$error":"#N/A"},{"$error":"#N/A"},{"$error":"#N/A"},{"$error":"#N/A"},8.5,{"$error":"#N/A"},{"$error":"#N/A"},1.3,{"$error":"#N/A"},{"$error":"#N/A"},{"$error":"#N/A"},29.98,17.745000000000001,66380,51333,57293,{"$error":"#N/A"},{"$error":"#N/A"},18.396000000000001,{"$error":"#N/A"},{"$error":"#N/A"},{"$error":"#N/A"},{"$error":"#N/A"},{"$error":"#N/A"},{"$error":"#N/A"},{"$error":"#N/A"}]
[null,null,null,"1961-11-01",{"$error":"#N/A"},{"$error":"#N/A"},{"$error":"#N/A"},{"$error":"#N/A"},{"$error":"#N/A"},{"$error":"#N/A"},{"$error":"#N/A"},{"$error":"#N/A"},{"$error":"#N/A"},{"$error":"#N/A"},{"$error":"#N/A"},{"$error":"#N/A"},{"$error":"#N/A"},{"$error":"#N/A"},{"$error":"#N/A"},{"$error":"#N/A"},{"$error":"#N/A"},{"$error":"#N/A"},{"$error":"#N/A"},{"$error":"#N/A"},{"$error":"#N/A"},{"$error":"#N/A"},{"$error":"#N/A"},8.5,{"$error":"#N/A"},{"$error":"#N/A"},1.3,{"$error":"#N/A"},{"$error":"#N/A"},{"$error":"#N/A"},29.98,17.745000000000001,66324,51251,57352,{"$error":"#N/A"},{"$error":"#N/A"},18.396000000000001,{"$error":"#N/A"},{"$error":"#N/A"},{"$error":"#N/A"},{"$error":"#N/A"},{"$error":"#N/A"},{"$error":"#N/A"},{"$error":"#N/A"}]
[null,null,null,"1961-12-01",{"$error":"#N/A"},{"$error":"#N/A"},{"$error":"#N/A"},{"$error":"#N/A"},{"$error":"#N/A"},{"$error":"#N/A"},{"$error":"#N/A"},{"$error":"#N/A"},{"$error":"#N/A"},{"$error":"#N/A"},{"$error":"#N/A"},{"$error":"#N/A"},{"$error":"#N/A"},{"$error":"#N/A"},{"$error":"#N/A"},{"$error":"#N/A"},{"$error":"#N/A"},{"$error":"#N/A"},{"$error":"#N/A"},{"$error":"#N/A"},{"$error":"#N/A"},{"$error":"#N/A"},{"$error":"#N/A"},8.5,{"$error":"#N/A"},{"$error":"#N/A"},1.3,{"$error":"#N/A"},{"$error":"#N/A"},{"$error":"#N/A"},30.01,17.745000000000001,66316,51248,57409,{"$error":"#N/A"},{"$error":"#N/A"},{"$f":"INDEX(INDIRECT(\"'\"&AP$7&\"'!B:B\"),MATCH($D79,INDIRECT(\"'\"&AP$7&\"'!A:A\")))","v":18.396000000000001},{"$error":"#N/A"},{"$error":"#N/A"},{"$error":"#N/A"},{"$error":"#N/A"},{"$error":"#N/A"},{"$error":"#N/A"},{"$error":"#N/A"}]
[null,null,null,"1962-01-01",{"$error":"#N/A"},{"$error":"#N/A"},{"$error":"#N/A"},{"$error":"#N/A"},{"$error":"#N/A"},{"$error":"#N/A"},{"$error":"#N/A"},{"$error":"#N/A"},{"$error":"#N/A"},{"$error":"#N/A"},{"$error":"#N/A"},{"$error":"#N/A"},{"$error":"#N/A"},{"$error":"#N/A"},{"$error":"#N/A"},{"$error":"#N/A"},{"$error":"#N/A"},{"$error":"#N/A"},{"$error":"#N/A"},{"$error":"#N/A"},{"$error":"#N/A"},{"$error":"#N/A"},{"$error":"#N/A"},8.5,{"$error":"#N/A"},{"$error":"#N/A"},1.3,{"$error":"#N/A"},{"$error":"#N/A"},{"$error":"#N/A"},30.04,17.837,66277,51224,57459,{"$error":"#N/A"},{"$error":"#N/A"},18.465,{"$error":"#N/A"},{"$error":"#N/A"},{"$error":"#N/A"},{"$error":"#N/A"},{"$error":"#N/A"},{"$error":"#N/A"},{"$error":"#N/A"}]
[null,null,null,"1962-02-01",{"$error":"#N/A"},{"$error":"#N/A"},{"$error":"#N/A"},{"$error":"#N/A"},{"$error":"#N/A"},{"$error":"#N/A"},{"$error":"#N/A"},{"$error":"#N/A"},{"$error":"#N/A"},{"$error":"#N/A"},{"$error":"#N/A"},{"$error":"#N/A"},{"$error":"#N/A"},{"$error":"#N/A"},{"$error":"#N/A"},{"$error":"#N/A"},{"$error":"#N/A"},{"$error":"#N/A"},{"$error":"#N/A"},{"$error":"#N/A"},{"$error":"#N/A"},{"$error":"#N/A"},{"$error":"#N/A"},8.5,{"$error":"#N/A"},{"$error":"#N/A"},1.3,{"$error":"#N/A"},{"$error":"#N/A"},{"$error":"#N/A"},30.11,17.837,66272,51213,57520,{"$error":"#N/A"},{"$error":"#N/A"},18.465,{"$error":"#N/A"},{"$error":"#N/A"},{"$error":"#N/A"},{"$error":"#N/A"},{"$error":"#N/A"},{"$error":"#N/A"},{"$error":"#N/A"}]
[null,null,null,"1962-03-01",{"$error":"#N/A"},{"$error":"#N/A"},{"$error":"#N/A"},{"$error":"#N/A"},{"$error":"#N/A"},{"$error":"#N/A"},{"$error":"#N/A"},{"$error":"#N/A"},{"$error":"#N/A"},{"$error":"#N/A"},{"$error":"#N/A"},{"$error":"#N/A"},{"$error":"#N/A"},{"$error":"#N/A"},{"$error":"#N/A"},{"$error":"#N/A"},{"$error":"#N/A"},{"$error":"#N/A"},{"$error":"#N/A"},{"$error":"#N/A"},{"$error":"#N/A"},{"$error":"#N/A"},{"$error":"#N/A"},8.5,{"$error":"#N/A"},{"$error":"#N/A"},1.3,{"$error":"#N/A"},{"$error":"#N/A"},{"$error":"#N/A"},30.17,17.837,66290,51252,57580,{"$error":"#N/A"},{"$error":"#N/A"},18.465,{"$error":"#N/A"},{"$error":"#N/A"},{"$error":"#N/A"},{"$error":"#N/A"},{"$error":"#N/A"},{"$error":"#N/A"},{"$error":"#N/A"}]
[null,null,null,"1962-04-01",{"$error":"#N/A"},{"$error":"#N/A"},{"$error":"#N/A"},{"$error":"#N/A"},{"$error":"#N/A"},{"$error":"#N/A"},{"$error":"#N/A"},{"$error":"#N/A"},{"$error":"#N/A"},{"$error":"#N/A"},{"$error":"#N/A"},{"$error":"#N/A"},{"$error":"#N/A"},{"$error":"#N/A"},{"$error":"#N/A"},{"$error":"#N/A"},{"$error":"#N/A"},{"$error":"#N/A"},{"$error":"#N/A"},{"$error":"#N/A"},{"$error":"#N/A"},{"$error":"#N/A"},{"$error":"#N/A"},8.1,{"$error":"#N/A"},{"$error":"#N/A"},1.4,{"$error":"#N/A"},{"$error":"#N/A"},{"$error":"#N/A"},30.21,17.866,66023,51556,57619,{"$error":"#N/A"},{"$error":"#N/A"},18.536000000000001,{"$error":"#N/A"},{"$error":"#N/A"},{"$error":"#N/A"},{"$error":"#N/A"},{"$error":"#N/A"},{"$error":"#N/A"},{"$error":"#N/A"}]
[null,null,null,"1962-05-01",{"$error":"#N/A"},{"$error":"#N/A"},{"$error":"#N/A"},{"$error":"#N/A"},{"$error":"#N/A"},{"$error":"#N/A"},{"$error":"#N/A"},{"$error":"#N/A"},{"$error":"#N/A"},{"$error":"#N/A"},{"$error":"#N/A"},{"$error":"#N/A"},{"$error":"#N/A"},{"$error":"#N/A"},{"$error":"#N/A"},{"$error":"#N/A"},{"$error":"#N/A"},{"$error":"#N/A"},{"$error":"#N/A"},{"$error":"#N/A"},{"$error":"#N/A"},{"$error":"#N/A"},{"$error":"#N/A"},8.1,{"$error":"#N/A"},{"$error":"#N/A"},1.4,{"$error":"#N/A"},{"$error":"#N/A"},{"$error":"#N/A"},30.24,17.866,66043,51600,57675,{"$error":"#N/A"},{"$error":"#N/A"},18.536000000000001,{"$error":"#N/A"},{"$error":"#N/A"},{"$error":"#N/A"},{"$error":"#N/A"},{"$error":"#N/A"},{"$error":"#N/A"},{"$error":"#N/A"}]
[null,null,null,"1962-06-01",{"$error":"#N/A"},{"$error":"#N/A"},{"$error":"#N/A"},{"$error":"#N/A"},{"$error":"#N/A"},{"$error":"#N/A"},{"$error":"#N/A"},{"$error":"#N/A"},{"$error":"#N/A"},{"$error":"#N/A"},{"$error":"#N/A"},{"$error":"#N/A"},{"$error":"#N/A"},{"$error":"#N/A"},{"$error":"#N/A"},{"$error":"#N/A"},{"$error":"#N/A"},{"$error":"#N/A"},{"$error":"#N/A"},{"$error":"#N/A"},{"$error":"#N/A"},{"$error":"#N/A"},{"$error":"#N/A"},8.1,{"$error":"#N/A"},{"$error":"#N/A"},1.4,{"$error":"#N/A"},{"$error":"#N/A"},{"$error":"#N/A"},30.21,17.866,66069,51658,{"$f":"INDEX(INDIRECT(\"'\"&AM$7&\"'!B:B\"),MATCH($D85,INDIRECT(\"'\"&AM$7&\"'!A:A\")))","v":57734},{"$error":"#N/A"},{"$error":"#N/A"},18.536000000000001,{"$error":"#N/A"},{"$error":"#N/A"},{"$error":"#N/A"},{"$error":"#N/A"},{"$error":"#N/A"},{"$error":"#N/A"},{"$error":"#N/A"}]
[null,null,null,"1962-07-01",{"$error":"#N/A"},{"$error":"#N/A"},{"$error":"#N/A"},{"$error":"#N/A"},{"$error":"#N/A"},{"$error":"#N/A"},{"$error":"#N/A"},{"$error":"#N/A"},{"$error":"#N/A"},{"$error":"#N/A"},{"$error":"#N/A"},{"$error":"#N/A"},{"$error":"#N/A"},{"$error":"#N/A"},{"$error":"#N/A"},{"$error":"#N/A"},{"$error":"#N/A"},{"$error":"#N/A"},{"$error":"#N/A"},{"$error":"#N/A"},{"$error":"#N/A"},{"$error":"#N/A"},{"$error":"#N/A"},8,{"$error":"#N/A"},{"$error":"#N/A"},1.4,{"$error":"#N/A"},{"$error":"#N/A"},{"$error":"#N/A"},30.22,17.902999999999999,66167,51718,57861,{"$error":"#N/A"},{"$error":"#N/A"},18.594000000000001,{"$error":"#N/A"},{"$error":"#N/A"},{"$error":"#N/A"},{"$error":"#N/A"},{"$error":"#N/A"},{"$error":"#N/A"},{"$error":"#N/A"}]
[null,null,null,"1962-08-01",{"$error":"#N/A"},{"$error":"#N/A"},{"$error":"#N/A"},{"$error":"#N/A"},{"$error":"#N/A"},{"$error":"#N/A"},{"$error":"#N/A"},{"$error":"#N/A"},{"$error":"#N/A"},{"$error":"#N/A"},{"$error":"#N/A"},{"$error":"#N/A"},{"$error":"#N/A"},{"$error":"#N/A"},{"$error":"#N/A"},{"$error":"#N/A"},{"$error":"#N/A"},{"$error":"#N/A"},{"$error":"#N/A"},{"$error":"#N/A"},{"$error":"#N/A"},{"$error":"#N/A"},{"$error":"#N/A"},8,{"$error":"#N/A"},{"$error":"#N/A"},1.4,{"$error":"#N/A"},{"$error":"#N/A"},{"$error":"#N/A"},30.28,17.902999999999999,66204,51792,57931,{"$error":"#N/A"},{"$error":"#N/A"},18.594000000000001,{"$error":"#N/A"},{"$error":"#N/A"},{"$error":"#N/A"},{"$error":"#N/A"},{"$error":"#N/A"},{"$error":"#N/A"},{"$error":"#N/A"}]
[null,null,null,"1962-09-01",{"$error":"#N/A"},{"$error":"#N/A"},{"$error":"#N/A"},{"$error":"#N/A"},{"$error":"#N/A"},{"$error":"#N/A"},{"$error":"#N/A"},{"$error":"#N/A"},{"$error":"#N/A"},{"$error":"#N/A"},{"$error":"#N/A"},{"$error":"#N/A"},{"$error":"#N/A"},{"$error":"#N/A"},{"$error":"#N/A"},{"$error":"#N/A"},{"$error":"#N/A"},{"$error":"#N/A"},{"$error":"#N/A"},{"$error":"#N/A"},{"$error":"#N/A"},{"$error":"#N/A"},{"$error":"#N/A"},8,{"$error":"#N/A"},{"$error":"#N/A"},1.4,{"$error":"#N/A"},{"$error":"#N/A"},{"$error":"#N/A"},30.42,17.902999999999999,66282,51947,58006,{"$error":"#N/A"},{"$error":"#N/A"},18.594000000000001,{"$error":"#N/A"},{"$error":"#N/A"},{"$error":"#N/A"},{"$error":"#N/A"},{"$error":"#N/A"},{"$error":"#N/A"},{"$error":"#N/A"}]
[null,null,null,"1962-10-01",{"$error":"#N/A"},{"$error":"#N/A"},{"$error":"#N/A"},{"$error":"#N/A"},{"$error":"#N/A"},{"$error":"#N/A"},{"$error":"#N/A"},{"$error":"#N/A"},{"$error":"#N/A"},{"$error":"#N/A"},{"$error":"#N/A"},{"$error":"#N/A"},{"$error":"#N/A"},{"$error":"#N/A"},{"$error":"#N/A"},{"$error":"#N/A"},{"$error":"#N/A"},{"$error":"#N/A"},{"$error":"#N/A"},{"$error":"#N/A"},{"$error":"#N/A"},{"$error":"#N/A"},{"$error":"#N/A"},8.1,{"$error":"#N/A"},{"$error":"#N/A"},1.5,{"$error":"#N/A"},{"$error":"#N/A"},{"$error":"#N/A"},30.38,17.937999999999999,66318,52027,58078,{"$error":"#N/A"},{"$error":"#N/A"},18.626999999999999,{"$error":"#N/A"},{"$error":"#N/A"},{"$error":"#N/A"},{"$error":"#N/A"},{"$error":"#N/A"},{"$error":"#N/A"},{"$error":"#N/A"}]
[null,null,null,"1962-11-01",{"$error":"#N/A"},{"$error":"#N/A"},{"$error":"#N/A"},{"$error":"#N/A"},{"$error":"#N/A"},{"$error":"#N/A"},{"$error":"#N/A"},{"$error":"#N/A"},{"$error":"#N/A"},{"$error":"#N/A"},{"$error":"#N/A"},{"$error":"#N/A"},{"$error":"#N/A"},{"$error":"#N/A"},{"$error":"#N/A"},{"$error":"#N/A"},{"$error":"#N/A"},{"$error":"#N/A"},{"$error":"#N/A"},{"$error":"#N/A"},{"$error":"#N/A"},{"$error":"#N/A"},{"$error":"#N/A"},8.1,{"$error":"#N/A"},{"$error":"#N/A"},1.5,{"$error":"#N/A"},{"$error":"#N/A"},{"$error":"#N/A"},30.38,17.937999999999999,66334,52070,58148,{"$error":"#N/A"},{"$error":"#N/A"},18.626999999999999,{"$error":"#N/A"},{"$error":"#N/A"},{"$error":"#N/A"},{"$error":"#N/A"},{"$error":"#N/A"},{"$error":"#N/A"},{"$error":"#N/A"}]
[null,null,null,"1962-12-01",{"$error":"#N/A"},{"$error":"#N/A"},{"$error":"#N/A"},{"$error":"#N/A"},{"$error":"#N/A"},{"$error":"#N/A"},{"$error":"#N/A"},{"$error":"#N/A"},{"$error":"#N/A"},{"$error":"#N/A"},{"$error":"#N/A"},{"$error":"#N/A"},{"$error":"#N/A"},{"$error":"#N/A"},{"$error":"#N/A"},{"$error":"#N/A"},{"$error":"#N/A"},{"$error":"#N/A"},{"$error":"#N/A"},{"$error":"#N/A"},{"$error":"#N/A"},{"$error":"#N/A"},{"$error":"#N/A"},8.1,{"$error":"#N/A"},{"$error":"#N/A"},1.5,{"$error":"#N/A"},{"$error":"#N/A"},{"$error":"#N/A"},30.38,{"$f":"INDEX(INDIRECT(\"'\"&AJ$7&\"'!B:B\"),MATCH($D91,INDIRECT(\"'\"&AJ$7&\"'!A:A\")))","v":17.937999999999999},66349,52115,58220,{"$error":"#N/A"},{"$error":"#N/A"},18.626999999999999,{"$error":"#N/A"},{"$error":"#N/A"},{"$error":"#N/A"},{"$error":"#N/A"},{"$error":"#N/A"},{"$error":"#N/A"},{"$error":"#N/A"}]
[null,null,null,"1963-01-01",{"$error":"#N/A"},{"$error":"#N/A"},{"$error":"#N/A"},{"$error":"#N/A"},{"$error":"#N/A"},{"$error":"#N/A"},{"$error":"#N/A"},{"$error":"#N/A"},{"$error":"#N/A"},{"$error":"#N/A"},{"$error":"#N/A"},{"$error":"#N/A"},{"$error":"#N/A"},{"$error":"#N/A"},{"$error":"#N/A"},{"$error":"#N/A"},{"$error":"#N/A"},{"$error":"#N/A"},{"$error":"#N/A"},{"$error":"#N/A"},591,4.7,{"$error":"#N/A"},8,{"$error":"#N/A"},{"$error":"#N/A"},1.5,{"$error":"#N/A"},{"$error":"#N/A"},{"$error":"#N/A"},30.44,18.016999999999999,66390,52194,58282,{"$error":"#N/A"},{"$error":"#N/A"},18.687999999999999,{"$error":"#N/A"},{"$error":"#N/A"},{"$error":"#N/A"},{"$error":"#N/A"},{"$error":"#N/A"},{"$error":"#N/A"},{"$error":"#N/A"}]
[null,null,null,"1963-02-01",{"$error":"#N/A"},{"$error":"#N/A"},{"$error":"#N/A"},{"$error":"#N/A"},{"$error":"#N/A"},{"$error":"#N/A"},{"$error":"#N/A"},{"$error":"#N/A"},{"$error":"#N/A"},{"$error":"#N/A"},{"$error":"#N/A"},{"$error":"#N/A"},{"$error":"#N/A"},{"$error":"#N/A"},{"$error":"#N/A"},{"$error":"#N/A"},{"$error":"#N/A"},{"$error":"#N/A"},{"$error":"#N/A"},{"$error":"#N/A"},464,6.6,{"$error":"#N/A"},8,{"$error":"#N/A"},{"$error":"#N/A"},1.5,{"$error":"#N/A"},{"$error":"#N/A"},{"$error":"#N/A"},30.48,18.016999999999999,66405,52230,58342,{"$error":"#N/A"},{"$error":"#N/A"},18.687999999999999,{"$error":"#N/A"},{"$error":"#N/A"},{"$error":"#N/A"},{"$error":"#N/A"},{"$error":"#N/A"},{"$error":"#N/A"},{"$error":"#N/A"}]
[null,null,null,"1963-03-01",{"$error":"#N/A"},{"$error":"#N/A"},{"$error":"#N/A"},{"$error":"#N/A"},{"$error":"#N/A"},{"$error":"#N/A"},{"$error":"#N/A"},{"$error":"#N/A"},{"$error":"#N/A"},{"$error":"#N/A"},{"$error":"#N/A"},{"$error":"#N/A"},{"$error":"#N/A"},{"$error":"#N/A"},{"$error":"#N/A"},{"$error":"#N/A"},{"$error":"#N/A"},{"$error":"#N/A"},{"$error":"#N/A"},{"$error":"#N/A"},461,6.4,{"$error":"#N/A"},8,{"$error":"#N/A"},{"$error":"#N/A"},1.5,{"$error":"#N/A"},{"$error":"#N/A"},{"$error":"#N/A"},30.51,18.016999999999999,66422,52274,58412,{"$error":"#N/A"},{"$error":"#N/A"},18.687999999999999,{"$error":"#N/A"},{"$error":"#N/A"},{"$error":"#N/A"},{"$error":"#N/A"},{"$error":"#N/A"},{"$error":"#N/A"},{"$error":"#N/A"}]
[null,null,null,"1963-04-01",{"$error":"#N/A"},{"$error":"#N/A"},{"$error":"#N/A"},{"$error":"#N/A"},{"$error":"#N/A"},{"$error":"#N/A"},{"$error":"#N/A"},{"$error":"#N/A"},{"$error":"#N/A"},{"$error":"#N/A"},{"$error":"#N/A"},{"$error":"#N/A"},{"$error":"#N/A"},{"$error":"#N/A"},{"$error":"#N/A"},{"$error":"#N/A"},{"$error":"#N/A"},{"$error":"#N/A"},{"$error":"#N/A"},{"$error":"#N/A"},605,5.3,{"$error":"#N/A"},8.1999999999999993,{"$error":"#N/A"},{"$error":"#N/A"},1.5,{"$error":"#N/A"},{"$error":"#N/A"},{"$error":"#N/A"},30.48,18.047000000000001,66437,52306,58468,{"$error":"#N/A"},{"$error":"#N/A"},18.754999999999999,{"$error":"#N/A"},{"$error":"#N/A"},{"$error":"#N/A"},{"$error":"#N/A"},{"$error":"#N/A"},{"$error":"#N/A"},{"$error":"#N/A"}]
[null,null,null,"1963-05-01",{"$error":"#N/A"},{"$error":"#N/A"},{"$error":"#N/A"},{"$error":"#N/A"},{"$error":"#N/A"},{"$error":"#N/A"},{"$error":"#N/A"},{"$error":"#N/A"},{"$error":"#N/A"},{"$error":"#N/A"},{"$error":"#N/A"},{"$error":"#N/A"},{"$error":"#N/A"},{"$error":"#N/A"},{"$error":"#N/A"},{"$error":"#N/A"},{"$error":"#N/A"},{"$error":"#N/A"},{"$error":"#N/A"},{"$error":"#N/A"},586,5.0999999999999996,{"$error":"#N/A"},8.1999999999999993,{"$error":"#N/A"},{"$error":"#N/A"},1.5,{"$error":"#N/A"},{"$error":"#N/A"},{"$error":"#N/A"},30.51,18.047000000000001,66440,52360,58514,{"$error":"#N/A"},{"$error":"#N/A"},18.754999999999999,{"$error":"#N/A"},{"$error":"#N/A"},{"$error":"#N/A"},{"$error":"#N/A"},{"$error":"#N/A"},{"$error":"#N/A"},{"$error":"#N/A"}]
[null,null,null,"1963-06-01",{"$error":"#N/A"},{"$error":"#N/A"},{"$error":"#N/A"},{"$error":"#N/A"},{"$error":"#N/A"},{"$error":"#N/A"},{"$error":"#N/A"},{"$error":"#N/A"},{"$error":"#N/A"},{"$error":"#N/A"},{"$error":"#N/A"},{"$error":"#N/A"},{"$error":"#N/A"},{"$error":"#N/A"},{"$error":"#N/A"},{"$error":"#N/A"},{"$error":"#N/A"},{"$error":"#N/A"},{"$error":"#N/A"},{"$error":"#N/A"},526,6,{"$error":"#N/A"},8.1999999999999993,{"$error":"#N/A"},{"$error":"#N/A"},1.5,{"$error":"#N/A"},{"$f":"INDEX(INDIRECT(\"'\"&AG$7&\"'!B:B\"),MATCH($D97,INDIRECT(\"'\"&AG$7&\"'!A:A\")))","v":{"$error":"#N/A"}},{"$error":"#N/A"},30.61,18.047000000000001,66461,52413,58586,{"$error":"#N/A"},{"$error":"#N/A"},18.754999999999999,{"$error":"#N/A"},{"$error":"#N/A"},{"$error":"#N/A"},{"$error":"#N/A"},{"$error":"#N/A"},{"$error":"#N/A"},{"$error":"#N/A"}]
[null,null,null,"1963-07-01",{"$error":"#N/A"},{"$error":"#N/A"},{"$error":"#N/A"},{"$error":"#N/A"},{"$error":"#N/A"},{"$error":"#N/A"},{"$error":"#N/A"},{"$error":"#N/A"},{"$error":"#N/A"},{"$error":"#N/A"},{"$error":"#N/A"},{"$error":"#N/A"},{"$error":"#N/A"},{"$error":"#N/A"},{"$error":"#N/A"},{"$error":"#N/A"},{"$error":"#N/A"},{"$error":"#N/A"},{"$error":"#N/A"},{"$error":"#N/A"},665,4.5999999999999996,{"$error":"#N/A"},8.3000000000000007,{"$error":"#N/A"},{"$error":"#N/A"},1.7,{"$error":"#N/A"},{"$error":"#N/A"},{"$error":"#N/A"},30.69,18.068999999999999,66509,52442,58654,{"$error":"#N/A"},{"$error":"#N/A"},18.824999999999999,{"$error":"#N/A"},{"$error":"#N/A"},{"$error":"#N/A"},{"$error":"#N/A"},{"$error":"#N/A"},{"$error":"#N/A"},{"$error":"#N/A"}]
[null,null,null,"1963-08-01",{"$error":"#N/A"},{"$error":"#N/A"},{"$error":"#N/A"},{"$error":"#N/A"},{"$error":"#N/A"},{"$error":"#N/A"},{"$error":"#N/A"},{"$error":"#N/A"},{"$error":"#N/A"},{"$error":"#N/A"},{"$error":"#N/A"},{"$error":"#N/A"},{"$error":"#N/A"},{"$error":"#N/A"},{"$error":"#N/A"},{"$error":"#N/A"},{"$error":"#N/A"},{"$error":"#N/A"},{"$error":"#N/A"},{"$error":"#N/A"},570,5.6,{"$error":"#N/A"},8.3000000000000007,{"$error":"#N/A"},{"$error":"#N/A"},1.7,{"$error":"#N/A"},{"$error":"#N/A"},{"$error":"#N/A"},30.75,18.068999999999999,66551,52463,58710,{"$error":"#N/A"},{"$error":"#N/A"},18.824999999999999,{"$error":"#N/A"},{"$error":"#N/A"},{"$error":"#N/A"},{"$error":"#N/A"},{"$error":"#N/A"},{"$error":"#N/A"},{"$error":"#N/A"}]
[null,null,null,"1963-09-01",{"$error":"#N/A"},{"$error":"#N/A"},{"$error":"#N/A"},{"$error":"#N/A"},{"$error":"#N/A"},{"$error":"#N/A"},{"$error":"#N/A"},{"$error":"#N/A"},{"$error":"#N/A"},{"$error":"#N/A"},{"$error":"#N/A"},{"$error":"#N/A"},{"$error":"#N/A"},{"$error":"#N/A"},{"$error":"#N/A"},{"$error":"#N/A"},{"$error":"#N/A"},{"$error":"#N/A"},{"$error":"#N/A"},{"$error":"#N/A"},590,5.4,{"$error":"#N/A"},8.3000000000000007,{"$error":"#N/A"},{"$error":"#N/A"},1.7,{"$error":"#N/A"},{"$error":"#N/A"},{"$error":"#N/A"},30.72,18.068999999999999,66547,52524,58768,{"$error":"#N/A"},{"$error":"#N/A"},18.824999999999999,{"$error":"#N/A"},{"$error":"#N/A"},{"$error":"#N/A"},{"$error":"#N/A"},{"$error":"#N/A"},{"$error":"#N/A"},{"$error":"#N/A"}]
[null,null,null,"1963-10-01",{"$error":"#N/A"},{"$error":"#N/A"},{"$error":"#N/A"},{"$error":"#N/A"},{"$error":"#N/A"},{"$error":"#N/A"},{"$error":"#N/A"},{"$error":"#N/A"},{"$error":"#N/A"},{"$error":"#N/A"},{"$error":"#N/A"},{"$error":"#N/A"},{"$error":"#N/A"},{"$error":"#N/A"},{"$error":"#N/A"},{"$error":"#N/A"},{"$error":"#N/A"},{"$error":"#N/A"},{"$error":"#N/A"},{"$error":"#N/A"},567,5.9,{"$error":"#N/A"},8.3000000000000007,{"$error":"#N/A"},{"$error":"#N/A"},1.5,{"$error":"#N/A"},{"$error":"#N/A"},{"$error":"#N/A"},30.75,18.216000000000001,66572,52583,58839,{"$error":"#N/A"},{"$error":"#N/A"},18.917000000000002,{"$error":"#N/A"},{"$error":"#N/A"},{"$error":"#N/A"},{"$error":"#N/A"},{"$error":"#N/A"},{"$error":"#N/A"},{"$error":"#N/A"}]
[null,null,null,"1963-11-01",{"$error":"#N/A"},{"$error":"#N/A"},{"$error":"#N/A"},{"$error":"#N/A"},{"$error":"#N/A"},{"$error":"#N/A"},{"$error":"#N/A"},{"$error":"#N/A"},{"$error":"#N/A"},{"$error":"#N/A"},{"$error":"#N/A"},{"$error":"#N/A"},{"$error":"#N/A"},{"$error":"#N/A"},{"$error":"#N/A"},{"$error":"#N/A"},{"$error":"#N/A"},{"$error":"#N/A"},{"$error":"#N/A"},{"$error":"#N/A"},579,5.5,{"$error":"#N/A"},8.3000000000000007,{"$error":"#N/A"},{"$error":"#N/A"},1.5,{"$error":"#N/A"},{"$error":"#N/A"},{"$error":"#N/A"},30.78,18.216000000000001,66596,52634,58904,{"$error":"#N/A"},{"$error":"#N/A"},18.917000000000002,{"$error":"#N/A"},{"$error":"#N/A"},{"$error":"#N/A"},{"$error":"#N/A"},{"$error":"#N/A"},{"$error":"#N/A"},{"$error":"#N/A"}]
[null,null,null,"1963-12-01",{"$error":"#N/A"},{"$error":"#N/A"},{"$error":"#N/A"},{"$error":"#N/A"},{"$error":"#N/A"},{"$error":"#N/A"},{"$error":"#N/A"},{"$error":"#N/A"},{"$error":"#N/A"},{"$error":"#N/A"},{"$error":"#N/A"},{"$error":"#N/A"},{"$error":"#N/A"},{"$error":"#N/A"},{"$error":"#N/A"},{"$error":"#N/A"},{"$error":"#N/A"},{"$error":"#N/A"},{"$error":"#N/A"},{"$error":"#N/A"},514,6.1,{"$error":"#N/A"},8.3000000000000007,{"$error":"#N/A"},{"$f":"INDEX(INDIRECT(\"'\"&AD$7&\"'!B:B\"),MATCH($D103,INDIRECT(\"'\"&AD$7&\"'!A:A\")))","v":{"$error":"#N/A"}},1.5,{"$error":"#N/A"},{"$error":"#N/A"},{"$error":"#N/A"},30.88,18.216000000000001,66613,52680,58966,{"$error":"#N/A"},{"$error":"#N/A"},18.917000000000002,{"$error":"#N/A"},{"$error":"#N/A"},{"$error":"#N/A"},{"$error":"#N/A"},{"$error":"#N/A"},{"$error":"#N/A"},{"$error":"#N/A"}]
[null,null,null,"1964-01-01",{"$error":"#N/A"},{"$error":"#N/A"},{"$error":"#N/A"},{"$error":"#N/A"},{"$error":"#N/A"},{"$error":"#N/A"},{"$error":"#N/A"},{"$error":"#N/A"},{"$error":"#N/A"},{"$error":"#N/A"},{"$error":"#N/A"},{"$error":"#N/A"},{"$error":"#N/A"},{"$error":"#N/A"},{"$error":"#N/A"},{"$error":"#N/A"},{"$error":"#N/A"},{"$error":"#N/A"},{"$error":"#N/A"},{"$error":"#N/A"},549,5.8,{"$error":"#N/A"},8.1,{"$error":"#N/A"},{"$error":"#N/A"},1.4,{"$error":"#N/A"},{"$error":"#N/A"},{"$error":"#N/A"},30.94,18.274000000000001,66653,52744,59036,{"$error":"#N/A"},{"$error":"#N/A"},18.998999999999999,{"$error":"#N/A"},{"$error":"#N/A"},{"$error":"#N/A"},{"$error":"#N/A"},{"$error":"#N/A"},{"$error":"#N/A"},{"$error":"#N/A"}]
[null,null,null,"1964-02-01",{"$error":"#N/A"},{"$error":"#N/A"},{"$error":"#N/A"},{"$error":"#N/A"},{"$error":"#N/A"},{"$error":"#N/A"},{"$error":"#N/A"},{"$error":"#N/A"},{"$error":"#N/A"},{"$error":"#N/A"},{"$error":"#N/A"},{"$error":"#N/A"},{"$error":"#N/A"},{"$error":"#N/A"},{"$error":"#N/A"},{"$error":"#N/A"},{"$error":"#N/A"},{"$error":"#N/A"},{"$error":"#N/A"},{"$error":"#N/A"},609,5.5,{"$error":"#N/A"},8.1,{"$error":"#N/A"},{"$error":"#N/A"},1.4,{"$error":"#N/A"},{"$error":"#N/A"},{"$error":"#N/A"},30.91,18.274000000000001,66666,52771,59096,{"$error":"#N/A"},{"$error":"#N/A"},18.998999999999999,{"$error":"#N/A"},{"$error":"#N/A"},{"$error":"#N/A"},{"$error":"#N/A"},{"$error":"#N/A"},{"$error":"#N/A"},{"$error":"#N/A"}]
[null,null,null,"1964-03-01",{"$error":"#N/A"},{"$error":"#N/A"},{"$error":"#N/A"},{"$error":"#N/A"},{"$error":"#N/A"},{"$error":"#N/A"},{"$error":"#N/A"},{"$error":"#N/A"},{"$error":"#N/A"},{"$error":"#N/A"},{"$error":"#N/A"},{"$error":"#N/A"},{"$error":"#N/A"},{"$error":"#N/A"},{"$error":"#N/A"},{"$error":"#N/A"},{"$error":"#N/A"},{"$error":"#N/A"},{"$error":"#N/A"},{"$error":"#N/A"},562,5.8,{"$error":"#N/A"},8.1,{"$error":"#N/A"},{"$error":"#N/A"},1.4,{"$error":"#N/A"},{"$error":"#N/A"},{"$error":"#N/A"},30.94,18.274000000000001,66679,52804,59154,{"$error":"#N/A"},{"$error":"#N/A"},18.998999999999999,{"$error":"#N/A"},{"$error":"#N/A"},{"$error":"#N/A"},{"$error":"#N/A"},{"$error":"#N/A"},{"$error":"#N/A"},{"$error":"#N/A"}]
[null,null,null,"1964-04-01",{"$error":"#N/A"},{"$error":"#N/A"},{"$error":"#N/A"},{"$error":"#N/A"},{"$error":"#N/A"},{"$error":"#N/A"},{"$error":"#N/A"},{"$error":"#N/A"},{"$error":"#N/A"},{"$error":"#N/A"},{"$error":"#N/A"},{"$error":"#N/A"},{"$error":"#N/A"},{"$error":"#N/A"},{"$error":"#N/A"},{"$error":"#N/A"},{"$error":"#N/A"},{"$error":"#N/A"},{"$error":"#N/A"},{"$error":"#N/A"},559,6,{"$error":"#N/A"},8.1,{"$error":"#N/A"},{"$error":"#N/A"},1.5,{"$error":"#N/A"},{"$error":"#N/A"},{"$error":"#N/A"},30.95,18.318000000000001,66702,52843,59217,{"$error":"#N/A"},{"$error":"#N/A"},19.058,{"$error":"#N/A"},{"$error":"#N/A"},{"$error":"#N/A"},{"$error":"#N/A"},{"$error":"#N/A"},{"$error":"#N/A"},{"$error":"#N/A"}]
[null,null,null,"1964-05-01",{"$error":"#N/A"},{"$error":"#N/A"},{"$error":"#N/A"},{"$error":"#N/A"},{"$error":"#N/A"},{"$error":"#N/A"},{"$error":"#N/A"},{"$error":"#N/A"},{"$error":"#N/A"},{"$error":"#N/A"},{"$error":"#N/A"},{"$error":"#N/A"},{"$error":"#N/A"},{"$error":"#N/A"},{"$error":"#N/A"},{"$error":"#N/A"},{"$error":"#N/A"},{"$error":"#N/A"},{"$error":"#N/A"},{"$error":"#N/A"},523,6.2,{"$error":"#N/A"},8.1,{"$error":"#N/A"},{"$error":"#N/A"},1.5,{"$error":"#N/A"},{"$error":"#N/A"},{"$error":"#N/A"},30.98,18.318000000000001,66724,52897,59288,{"$error":"#N/A"},{"$error":"#N/A"},19.058,{"$error":"#N/A"},{"$error":"#N/A"},{"$error":"#N/A"},{"$error":"#N/A"},{"$error":"#N/A"},{"$error":"#N/A"},{"$error":"#N/A"}]
[null,null,null,"1964-06-01",{"$error":"#N/A"},{"$error":"#N/A"},{"$error":"#N/A"},{"$error":"#N/A"},{"$error":"#N/A"},{"$error":"#N/A"},{"$error":"#N/A"},{"$error":"#N/A"},{"$error":"#N/A"},{"$error":"#N/A"},{"$error":"#N/A"},{"$error":"#N/A"},{"$error":"#N/A"},{"$error":"#N/A"},{"$error":"#N/A"},{"$error":"#N/A"},{"$error":"#N/A"},{"$error":"#N/A"},{"$error":"#N/A"},{"$error":"#N/A"},580,5.7,{"$f":"INDEX(INDIRECT(\"'\"&AA$7&\"'!B:B\"),MATCH($D109,INDIRECT(\"'\"&AA$7&\"'!A:A\")))","v":{"$error":"#N/A"}},8.1,{"$error":"#N/A"},{"$error":"#N/A"},1.5,{"$error":"#N/A"},{"$error":"#N/A"},{"$error":"#N/A"},31.01,18.318000000000001,66749,52949,59355,{"$error":"#N/A"},{"$error":"#N/A"},19.058,{"$error":"#N/A"},{"$error":"#N/A"},{"$error":"#N/A"},{"$error":"#N/A"},{"$error":"#N/A"},{"$error":"#N/A"},{"$error":"#N/A"}]
[null,null,null,"1964-07-01",{"$error":"#N/A"},{"$error":"#N/A"},{"$error":"#N/A"},{"$error":"#N/A"},{"$error":"#N/A"},{"$error":"#N/A"},{"$error":"#N/A"},{"$error":"#N/A"},{"$error":"#N/A"},{"$error":"#N/A"},{"$error":"#N/A"},{"$error":"#N/A"},{"$error":"#N/A"},{"$error":"#N/A"},{"$error":"#N/A"},{"$error":"#N/A"},{"$error":"#N/A"},{"$error":"#N/A"},{"$error":"#N/A"},{"$error":"#N/A"},575,5.5,{"$error":"#N/A"},8.4,{"$error":"#N/A"},{"$error":"#N/A"},1.5,{"$error":"#N/A"},{"$error":"#N/A"},{"$error":"#N/A"},31.02,18.391999999999999,66774,53000,59423,{"$error":"#N/A"},{"$error":"#N/A"},19.114000000000001,{"$error":"#N/A"},{"$error":"#N/A"},{"$error":"#N/A"},{"$error":"#N/A"},{"$error":"#N/A"},{"$error":"#N/A"},{"$error":"#N/A"}]
[null,null,null,"1964-08-01",{"$error":"#N/A"},{"$error":"#N/A"},{"$error":"#N/A"},{"$error":"#N/A"},{"$error":"#N/A"},{"$error":"#N/A"},{"$error":"#N/A"},{"$error":"#N/A"},{"$error":"#N/A"},{"$error":"#N/A"},{"$error":"#N/A"},{"$error":"#N/A"},{"$error":"#N/A"},{"$error":"#N/A"},{"$error":"#N/A"},{"$error":"#N/A"},{"$error":"#N/A"},{"$error":"#N/A"},{"$error":"#N/A"},{"$error":"#N/A"},582,5.4,{"$error":"#N/A"},8.4,{"$error":"#N/A"},{"$error":"#N/A"},1.5,{"$error":"#N/A"},{"$error":"#N/A"},{"$error":"#N/A"},31.05,18.391999999999999,66789,53041,59489,{"$error":"#N/A"},{"$error":"#N/A"},19.114000000000001,{"$error":"#N/A"},{"$error":"#N/A"},{"$error":"#N/A"},{"$error":"#N/A"},{"$error":"#N/A"},{"$error":"#N/A"},{"$error":"#N/A"}]
[null,null,null,"1964-09-01",{"$error":"#N/A"},{"$error":"#N/A"},{"$error":"#N/A"},{"$error":"#N/A"},{"$error":"#N/A"},{"$error":"#N/A"},{"$error":"#N/A"},{"$error":"#N/A"},{"$error":"#N/A"},{"$error":"#N/A"},{"$error":"#N/A"},{"$error":"#N/A"},{"$error":"#N/A"},{"$error":"#N/A"},{"$error":"#N/A"},{"$error":"#N/A"},{"$error":"#N/A"},{"$error":"#N/A"},{"$error":"#N/A"},{"$error":"#N/A"},590,5.4,{"$error":"#N/A"},8.4,{"$error":"#N/A"},{"$error":"#N/A"},1.5,{"$error":"#N/A"},{"$error":"#N/A"},{"$error":"#N/A"},31.08,18.391999999999999,66814,53099,59557,{"$error":"#N/A"},{"$error":"#N/A"},19.114000000000001,{"$error":"#N/A"},{"$error":"#N/A"},{"$error":"#N/A"},{"$error":"#N/A"},{"$error":"#N/A"},{"$error":"#N/A"},{"$error":"#N/A"}]
[null,null,null,"1964-10-01",{"$error":"#N/A"},{"$error":"#N/A"},{"$error":"#N/A"},{"$error":"#N/A"},{"$error":"#N/A"},{"$error":"#N/A"},{"$error":"#N/A"},{"$error":"#N/A"},{"$error":"#N/A"},{"$error":"#N/A"},{"$error":"#N/A"},{"$error":"#N/A"},{"$error":"#N/A"},{"$error":"#N/A"},{"$error":"#N/A"},{"$error":"#N/A"},{"$error":"#N/A"},{"$error":"#N/A"},{"$error":"#N/A"},{"$error":"#N/A"},583,5.3,{"$error":"#N/A"},8.3000000000000007,{"$error":"#N/A"},{"$error":"#N/A"},1.5,{"$error":"#N/A"},{"$error":"#N/A"},{"$error":"#N/A"},31.12,18.475999999999999,66838,53156,59626,{"$error":"#N/A"},{"$error":"#N/A"},19.164000000000001,{"$error":"#N/A"},{"$error":"#N/A"},{"$error":"#N/A"},{"$error":"#N/A"},{"$error":"#N/A"},{"$error":"#N/A"},{"$error":"#N/A"}]
[null,null,null,"1964-11-01",{"$error":"#N/A"},{"$error":"#N/A"},{"$error":"#N/A"},{"$error":"#N/A"},{"$error":"#N/A"},{"$error":"#N/A"},{"$error":"#N/A"},{"$error":"#N/A"},{"$error":"#N/A"},{"$error":"#N/A"},{"$error":"#N/A"},{"$error":"#N/A"},{"$error":"#N/A"},{"$error":"#N/A"},{"$error":"#N/A"},{"$error":"#N/A"},{"$error":"#N/A"},{"$error":"#N/A"},{"$error":"#N/A"},{"$error":"#N/A"},548,5.6,{"$error":"#N/A"},8.3000000000000007,{"$error":"#N/A"},{"$error":"#N/A"},1.5,{"$error":"#N/A"},{"$error":"#N/A"},{"$error":"#N/A"},31.21,18.475999999999999,66862,53209,59694,{"$error":"#N/A"},{"$error":"#N/A"},19.164000000000001,{"$error":"#N/A"},{"$error":"#N/A"},{"$error":"#N/A"},{"$error":"#N/A"},{"$error":"#N/A"},{"$error":"#N/A"},{"$error":"#N/A"}]
[null,null,null,"1964-12-01",{"$error":"#N/A"},{"$error":"#N/A"},{"$error":"#N/A"},{"$error":"#N/A"},{"$error":"#N/A"},{"$error":"#N/A"},{"$error":"#N/A"},{"$error":"#N/A"},{"$error":"#N/A"},{"$error":"#N/A"},{"$error":"#N/A"},{"$error":"#N/A"},{"$error":"#N/A"},{"$error":"#N/A"},{"$error":"#N/A"},{"$error":"#N/A"},{"$error":"#N/A"},{"$error":"#N/A"},{"$error":"#N/A"},{"$f":"INDEX(INDIRECT(\"'\"&X$7&\"'!B:B\"),MATCH($D115,INDIRECT(\"'\"&X$7&\"'!A:A\")))","v":{"$error":"#N/A"}},540,5.5,{"$error":"#N/A"},8.3000000000000007,{"$error":"#N/A"},{"$error":"#N/A"},1.5,{"$error":"#N/A"},{"$error":"#N/A"},{"$error":"#N/A"},31.25,18.475999999999999,66885,53260,59759,{"$error":"#N/A"},{"$error":"#N/A"},19.164000000000001,{"$error":"#N/A"},{"$error":"#N/A"},{"$error":"#N/A"},{"$error":"#N/A"},{"$error":"#N/A"},{"$error":"#N/A"},{"$error":"#N/A"}]
[null,null,null,"1965-01-01",{"$error":"#N/A"},{"$error":"#N/A"},{"$error":"#N/A"},{"$error":"#N/A"},{"$error":"#N/A"},{"$error":"#N/A"},{"$error":"#N/A"},{"$error":"#N/A"},{"$error":"#N/A"},{"$error":"#N/A"},{"$error":"#N/A"},{"$error":"#N/A"},{"$error":"#N/A"},{"$error":"#N/A"},{"$error":"#N/A"},{"$error":"#N/A"},{"$error":"#N/A"},{"$error":"#N/A"},{"$error":"#N/A"},{"$error":"#N/A"},533,5.6,{"$error":"#N/A"},8.5,{"$error":"#N/A"},{"$error":"#N/A"},1.7,{"$error":"#N/A"},{"$error":"#N/A"},{"$error":"#N/A"},31.28,18.568999999999999,66911,53318,59816,{"$error":"#N/A"},{"$error":"#N/A"},19.234999999999999,{"$error":"#N/A"},{"$error":"#N/A"},{"$error":"#N/A"},{"$error":"#N/A"},{"$error":"#N/A"},{"$error":"#N/A"},{"$error":"#N/A"}]
[null,null,null,"1965-02-01",{"$error":"#N/A"},{"$error":"#N/A"},{"$error":"#N/A"},{"$error":"#N/A"},{"$error":"#N/A"},{"$error":"#N/A"},{"$error":"#N/A"},{"$error":"#N/A"},{"$error":"#N/A"},{"$error":"#N/A"},{"$error":"#N/A"},{"$error":"#N/A"},{"$error":"#N/A"},{"$error":"#N/A"},{"$error":"#N/A"},{"$error":"#N/A"},{"$error":"#N/A"},{"$error":"#N/A"},{"$error":"#N/A"},{"$error":"#N/A"},559,5.5,{"$error":"#N/A"},8.5,{"$error":"#N/A"},{"$error":"#N/A"},1.7,{"$error":"#N/A"},{"$error":"#N/A"},{"$error":"#N/A"},31.28,18.568999999999999,66929,53359,59877,{"$error":"#N/A"},{"$error":"#N/A"},19.234999999999999,{"$error":"#N/A"},{"$error":"#N/A"},{"$error":"#N/A"},{"$error":"#N/A"},{"$error":"#N/A"},{"$error":"#N/A"},{"$error":"#N/A"}]
[null,null,null,"1965-03-01",{"$error":"#N/A"},{"$error":"#N/A"},{"$error":"#N/A"},{"$error":"#N/A"},{"$error":"#N/A"},{"$error":"#N/A"},{"$error":"#N/A"},{"$error":"#N/A"},{"$error":"#N/A"},{"$error":"#N/A"},{"$error":"#N/A"},{"$error":"#N/A"},{"$error":"#N/A"},{"$error":"#N/A"},{"$error":"#N/A"},{"$error":"#N/A"},{"$error":"#N/A"},{"$error":"#N/A"},{"$error":"#N/A"},{"$error":"#N/A"},556,5.4,{"$error":"#N/A"},8.5,{"$error":"#N/A"},{"$error":"#N/A"},1.7,{"$error":"#N/A"},{"$error":"#N/A"},{"$error":"#N/A"},31.31,18.568999999999999,66951,53408,59943,{"$error":"#N/A"},{"$error":"#N/A"},19.234999999999999,{"$error":"#N/A"},{"$error":"#N/A"},{"$error":"#N/A"},{"$error":"#N/A"},{"$error":"#N/A"},{"$error":"#N/A"},{"$error":"#N/A"}]
[null,null,null,"1965-04-01",{"$error":"#N/A"},{"$error":"#N/A"},{"$error":"#N/A"},{"$error":"#N/A"},{"$error":"#N/A"},{"$error":"#N/A"},{"$error":"#N/A"},{"$error":"#N/A"},{"$error":"#N/A"},{"$error":"#N/A"},{"$error":"#N/A"},{"$error":"#N/A"},{"$error":"#N/A"},{"$error":"#N/A"},{"$error":"#N/A"},{"$error":"#N/A"},{"$error":"#N/A"},{"$error":"#N/A"},{"$error":"#N/A"},{"$error":"#N/A"},555,5.6,{"$error":"#N/A"},8.1999999999999993,{"$error":"#N/A"},{"$error":"#N/A"},1.5,{"$error":"#N/A"},{"$error":"#N/A"},{"$error":"#N/A"},31.38,18.652000000000001,66977,53458,60000,{"$error":"#N/A"},{"$error":"#N/A"},19.294,{"$error":"#N/A"},{"$error":"#N/A"},{"$error":"#N/A"},{"$error":"#N/A"},{"$error":"#N/A"},{"$error":"#N/A"},{"$error":"#N/A"}]
[null,null,null,"1965-05-01",{"$error":"#N/A"},{"$error":"#N/A"},{"$error":"#N/A"},{"$error":"#N/A"},{"$error":"#N/A"},{"$error":"#N/A"},{"$error":"#N/A"},{"$error":"#N/A"},{"$error":"#N/A"},{"$error":"#N/A"},{"$error":"#N/A"},{"$error":"#N/A"},{"$error":"#N/A"},{"$error":"#N/A"},{"$error":"#N/A"},{"$error":"#N/A"},{"$error":"#N/A"},{"$error":"#N/A"},{"$error":"#N/A"},{"$error":"#N/A"},544,5.3,{"$error":"#N/A"},8.1999999999999993,{"$error":"#N/A"},{"$error":"#N/A"},1.5,{"$error":"#N/A"},{"$error":"#N/A"},{"$error":"#N/A"},31.48,18.652000000000001,66996,53501,60061,{"$error":"#N/A"},{"$error":"#N/A"},19.294,{"$error":"#N/A"},{"$error":"#N/A"},{"$error":"#N/A"},{"$error":"#N/A"},{"$error":"#N/A"},{"$error":"#N/A"},{"$error":"#N/A"}]
[null,null,null,"1965-06-01",{"$error":"#N/A"},{"$error":"#N/A"},{"$error":"#N/A"},{"$error":"#N/A"},{"$error":"#N/A"},{"$error":"#N/A"},{"$error":"#N/A"},{"$error":"#N/A"},{"$error":"#N/A"},{"$error":"#N/A"},{"$error":"#N/A"},{"$error":"#N/A"},{"$error":"#N/A"},{"$error":"#N/A"},{"$error":"#N/A"},{"$error":"#N/A"},{"$f":"INDEX(INDIRECT(\"'\"&U$7&\"'!B:B\"),MATCH($D121,INDIRECT(\"'\"&U$7&\"'!A:A\")))","v":{"$error":"#N/A"}},{"$error":"#N/A"},{"$error":"#N/A"},{"$error":"#N/A"},614,4.7,{"$error":"#N/A"},8.1999999999999993,{"$error":"#N/A"},{"$error":"#N/A"},1.5,{"$error":"#N/A"},{"$error":"#N/A"},{"$error":"#N/A"},31.61,18.652000000000001,67021,53552,60127,{"$error":"#N/A"},{"$error":"#N/A"},19.294,{"$error":"#N/A"},{"$error":"#N/A"},{"$error":"#N/A"},{"$error":"#N/A"},{"$error":"#N/A"},{"$error":"#N/A"},{"$error":"#N/A"}]
[null,null,null,"1965-07-01",{"$error":"#N/A"},{"$error":"#N/A"},{"$error":"#N/A"},{"$error":"#N/A"},{"$error":"#N/A"},{"$error":"#N/A"},{"$error":"#N/A"},{"$error":"#N/A"},{"$error":"#N/A"},{"$error":"#N/A"},{"$error":"#N/A"},{"$error":"#N/A"},{"$error":"#N/A"},{"$error":"#N/A"},{"$error":"#N/A"},{"$error":"#N/A"},{"$error":"#N/A"},{"$error":"#N/A"},{"$error":"#N/A"},{"$error":"#N/A"},554,5.2,{"$error":"#N/A"},7.8,{"$error":"#N/A"},{"$error":"#N/A"},1.6,{"$error":"#N/A"},{"$error":"#N/A"},{"$error":"#N/A"},31.58,18.725999999999999,66934,53507,60110,{"$error":"#N/A"},{"$error":"#N/A"},19.353999999999999,{"$error":"#N/A"},{"$error":"#N/A"},{"$error":"#N/A"},{"$error":"#N/A"},{"$error":"#N/A"},{"$error":"#N/A"},{"$error":"#N/A"}]
[null,null,null,"1965-08-01",{"$error":"#N/A"},{"$error":"#N/A"},{"$error":"#N/A"},{"$error":"#N/A"},{"$error":"#N/A"},{"$error":"#N/A"},{"$error":"#N/A"},{"$error":"#N/A"},{"$error":"#N/A"},{"$error":"#N/A"},{"$error":"#N/A"},{"$error":"#N/A"},{"$error":"#N/A"},{"$error":"#N/A"},{"$error":"#N/A"},{"$error":"#N/A"},{"$error":"#N/A"},{"$error":"#N/A"},{"$error":"#N/A"},{"$error":"#N/A"},615,4.5999999999999996,{"$error":"#N/A"},7.8,{"$error":"#N/A"},{"$error":"#N/A"},1.6,{"$error":"#N/A"},{"$error":"#N/A"},{"$error":"#N/A"},31.55,18.725999999999999,66975,53498,60169,{"$error":"#N/A"},{"$error":"#N/A"},19.353999999999999,{"$error":"#N/A"},{"$error":"#N/A"},{"$error":"#N/A"},{"$error":"#N/A"},{"$error":"#N/A"},{"$error":"#N/A"},{"$error":"#N/A"}]
[null,null,null,"1965-09-01",{"$error":"#N/A"},{"$error":"#N/A"},{"$error":"#N/A"},{"$error":"#N/A"},{"$error":"#N/A"},{"$error":"#N/A"},{"$error":"#N/A"},{"$error":"#N/A"},{"$error":"#N/A"},{"$error":"#N/A"},{"$error":"#N/A"},{"$error":"#N/A"},{"$error":"#N/A"},{"$error":"#N/A"},{"$error":"#N/A"},{"$error":"#N/A"},{"$error":"#N/A"},{"$error":"#N/A"},{"$error":"#N/A"},{"$error":"#N/A"},587,4.9000000000000004,{"$error":"#N/A"},7.8,{"$error":"#N/A"},{"$error":"#N/A"},1.6,{"$error":"#N/A"},{"$error":"#N/A"},{"$error":"#N/A"},31.62,18.725999999999999,67005,53472,60236,{"$error":"#N/A"},{"$error":"#N/A"},19.353999999999999,{"$error":"#N/A"},{"$error":"#N/A"},{"$error":"#N/A"},{"$error":"#N/A"},{"$error":"#N/A"},{"$error":"#N/A"},{"$error":"#N/A"}]
[null,null,null,"1965-10-01",{"$error":"#N/A"},{"$error":"#N/A"},{"$error":"#N/A"},{"$error":"#N/A"},{"$error":"#N/A"},{"$error":"#N/A"},{"$error":"#N/A"},{"$error":"#N/A"},{"$error":"#N/A"},{"$error":"#N/A"},{"$error":"#N/A"},{"$error":"#N/A"},{"$error":"#N/A"},{"$error":"#N/A"},{"$error":"#N/A"},{"$error":"#N/A"},{"$error":"#N/A"},{"$error":"#N/A"},{"$error":"#N/A"},{"$error":"#N/A"},555,5,{"$error":"#N/A"},8.5,{"$error":"#N/A"},{"$error":"#N/A"},1.5,{"$error":"#N/A"},{"$error":"#N/A"},{"$error":"#N/A"},31.65,18.853000000000002,67013,53486,60303,{"$error":"#N/A"},{"$error":"#N/A"},19.417999999999999,{"$error":"#N/A"},{"$error":"#N/A"},{"$error":"#N/A"},{"$error":"#N/A"},{"$error":"#N/A"},{"$error":"#N/A"},{"$error":"#N/A"}]
[null,null,null,"1965-11-01",{"$error":"#N/A"},{"$error":"#N/A"},{"$error":"#N/A"},{"$error":"#N/A"},{"$error":"#N/A"},{"$error":"#N/A"},{"$error":"#N/A"},{"$error":"#N/A"},{"$error":"#N/A"},{"$error":"#N/A"},{"$error":"#N/A"},{"$error":"#N/A"},{"$error":"#N/A"},{"$error":"#N/A"},{"$error":"#N/A"},{"$error":"#N/A"},{"$error":"#N/A"},{"$error":"#N/A"},{"$error":"#N/A"},{"$error":"#N/A"},616,4.5999999999999996,{"$error":"#N/A"},8.5,{"$error":"#N/A"},{"$error":"#N/A"},1.5,{"$error":"#N/A"},{"$error":"#N/A"},{"$error":"#N/A"},31.75,18.853000000000002,67019,53500,60362,{"$error":"#N/A"},{"$error":"#N/A"},19.417999999999999,{"$error":"#N/A"},{"$error":"#N/A"},{"$error":"#N/A"},{"$error":"#N/A"},{"$error":"#N/A"},{"$error":"#N/A"},{"$error":"#N/A"}]
[null,null,null,"1965-12-01",{"$error":"#N/A"},{"$error":"#N/A"},{"$error":"#N/A"},{"$error":"#N/A"},{"$error":"#N/A"},{"$error":"#N/A"},{"$error":"#N/A"},{"$error":"#N/A"},{"$error":"#N/A"},{"$error":"#N/A"},{"$error":"#N/A"},{"$error":"#N/A"},{"$error":"#N/A"},{"$f":"INDEX(INDIRECT(\"'\"&R$7&\"'!B:B\"),MATCH($D127,INDIRECT(\"'\"&R$7&\"'!A:A\")))","v":{"$error":"#N/A"}},{"$error":"#N/A"},{"$error":"#N/A"},{"$error":"#N/A"},{"$error":"#N/A"},{"$error":"#N/A"},{"$error":"#N/A"},609,4.4000000000000004,{"$error":"#N/A"},8.5,{"$error":"#N/A"},{"$error":"#N/A"},1.5,{"$error":"#N/A"},{"$error":"#N/A"},{"$error":"#N/A"},31.85,18.853000000000002,67024,53504,60425,{"$error":"#N/A"},{"$error":"#N/A"},19.417999999999999,{"$error":"#N/A"},{"$error":"#N/A"},{"$error":"#N/A"},{"$error":"#N/A"},{"$error":"#N/A"},{"$error":"#N/A"},{"$error":"#N/A"}]
[null,null,null,"1966-01-01",{"$error":"#N/A"},{"$error":"#N/A"},{"$error":"#N/A"},{"$error":"#N/A"},{"$error":"#N/A"},{"$error":"#N/A"},{"$error":"#N/A"},{"$error":"#N/A"},{"$error":"#N/A"},{"$error":"#N/A"},{"$error":"#N/A"},{"$error":"#N/A"},{"$error":"#N/A"},{"$error":"#N/A"},{"$error":"#N/A"},{"$error":"#N/A"},{"$error":"#N/A"},{"$error":"#N/A"},{"$error":"#N/A"},{"$error":"#N/A"},599,4.7,{"$error":"#N/A"},8.3000000000000007,{"$error":"#N/A"},{"$error":"#N/A"},1.5,{"$error":"#N/A"},{"$error":"#N/A"},{"$error":"#N/A"},31.88,18.975000000000001,67022,53497,60479,{"$error":"#N/A"},{"$error":"#N/A"},19.516999999999999,{"$error":"#N/A"},{"$error":"#N/A"},{"$error":"#N/A"},{"$error":"#N/A"},{"$error":"#N/A"},{"$error":"#N/A"},{"$error":"#N/A"}]
[null,null,null,"1966-02-01",{"$error":"#N/A"},{"$error":"#N/A"},{"$error":"#N/A"},{"$error":"#N/A"},{"$error":"#N/A"},{"$error":"#N/A"},{"$error":"#N/A"},{"$error":"#N/A"},{"$error":"#N/A"},{"$error":"#N/A"},{"$error":"#N/A"},{"$error":"#N/A"},{"$error":"#N/A"},{"$error":"#N/A"},{"$error":"#N/A"},{"$error":"#N/A"},{"$error":"#N/A"},{"$error":"#N/A"},{"$error":"#N/A"},{"$error":"#N/A"},541,4.9000000000000004,{"$error":"#N/A"},8.3000000000000007,{"$error":"#N/A"},{"$error":"#N/A"},1.5,{"$error":"#N/A"},{"$error":"#N/A"},{"$error":"#N/A"},32.08,18.975000000000001,67029,53504,60535,{"$error":"#N/A"},{"$error":"#N/A"},19.516999999999999,{"$error":"#N/A"},{"$error":"#N/A"},{"$error":"#N/A"},{"$error":"#N/A"},{"$error":"#N/A"},{"$error":"#N/A"},{"$error":"#N/A"}]
[null,null,null,"1966-03-01",{"$error":"#N/A"},{"$error":"#N/A"},{"$error":"#N/A"},{"$error":"#N/A"},{"$error":"#N/A"},{"$error":"#N/A"},{"$error":"#N/A"},{"$error":"#N/A"},{"$error":"#N/A"},{"$error":"#N/A"},{"$error":"#N/A"},{"$error":"#N/A"},{"$error":"#N/A"},{"$error":"#N/A"},{"$error":"#N/A"},{"$error":"#N/A"},{"$error":"#N/A"},{"$error":"#N/A"},{"$error":"#N/A"},{"$error":"#N/A"},557,5,{"$error":"#N/A"},8.3000000000000007,{"$error":"#N/A"},{"$error":"#N/A"},1.5,{"$error":"#N/A"},{"$error":"#N/A"},{"$error":"#N/A"},32.18,18.975000000000001,67002,53535,60596,{"$error":"#N/A"},{"$error":"#N/A"},19.516999999999999,{"$error":"#N/A"},{"$error":"#N/A"},{"$error":"#N/A"},{"$error":"#N/A"},{"$error":"#N/A"},{"$error":"#N/A"},{"$error":"#N/A"}]
[null,null,null,"1966-04-01",{"$error":"#N/A"},{"$error":"#N/A"},{"$error":"#N/A"},{"$error":"#N/A"},{"$error":"#N/A"},{"$error":"#N/A"},{"$error":"#N/A"},{"$error":"#N/A"},{"$error":"#N/A"},{"$error":"#N/A"},{"$error":"#N/A"},{"$error":"#N/A"},{"$error":"#N/A"},{"$error":"#N/A"},{"$error":"#N/A"},{"$error":"#N/A"},{"$error":"#N/A"},{"$error":"#N/A"},{"$error":"#N/A"},{"$error":"#N/A"},545,5.0999999999999996,{"$error":"#N/A"},7.4,{"$error":"#N/A"},{"$error":"#N/A"},1.5,{"$error":"#N/A"},{"$error":"#N/A"},{"$error":"#N/A"},32.28,19.131,67037,53505,60652,{"$error":"#N/A"},{"$error":"#N/A"},19.675999999999998,{"$error":"#N/A"},{"$error":"#N/A"},{"$error":"#N/A"},{"$error":"#N/A"},{"$error":"#N/A"},{"$error":"#N/A"},{"$error":"#N/A"}]
[null,null,null,"1966-05-01",{"$error":"#N/A"},{"$error":"#N/A"},{"$error":"#N/A"},{"$error":"#N/A"},{"$error":"#N/A"},{"$error":"#N/A"},{"$error":"#N/A"},{"$error":"#N/A"},{"$error":"#N/A"},{"$error":"#N/A"},{"$error":"#N/A"},{"$error":"#N/A"},{"$error":"#N/A"},{"$error":"#N/A"},{"$error":"#N/A"},{"$error":"#N/A"},{"$error":"#N/A"},{"$error":"#N/A"},{"$error":"#N/A"},{"$error":"#N/A"},499,5.3,{"$error":"#N/A"},7.4,{"$error":"#N/A"},{"$error":"#N/A"},1.5,{"$error":"#N/A"},{"$error":"#N/A"},{"$error":"#N/A"},32.35,19.131,67096,53572,60718,{"$error":"#N/A"},{"$error":"#N/A"},19.675999999999998,{"$error":"#N/A"},{"$error":"#N/A"},{"$error":"#N/A"},{"$error":"#N/A"},{"$error":"#N/A"},{"$error":"#N/A"},{"$error":"#N/A"}]
[null,null,null,"1966-06-01",{"$error":"#N/A"},{"$error":"#N/A"},{"$error":"#N/A"},{"$error":"#N/A"},{"$error":"#N/A"},{"$error":"#N/A"},{"$error":"#N/A"},{"$error":"#N/A"},{"$error":"#N/A"},{"$error":"#N/A"},{"$f":"INDEX(INDIRECT(\"'\"&O$7&\"'!B:B\"),MATCH($D133,INDIRECT(\"'\"&O$7&\"'!A:A\")))","v":{"$error":"#N/A"}},{"$error":"#N/A"},{"$error":"#N/A"},{"$error":"#N/A"},{"$error":"#N/A"},{"$error":"#N/A"},{"$error":"#N/A"},{"$error":"#N/A"},{"$error":"#N/A"},{"$error":"#N/A"},434,6,{"$error":"#N/A"},7.4,{"$error":"#N/A"},{"$error":"#N/A"},1.5,{"$error":"#N/A"},{"$error":"#N/A"},{"$error":"#N/A"},32.380000000000003,19.131,67098,53563,60778,{"$error":"#N/A"},{"$error":"#N/A"},19.675999999999998,{"$error":"#N/A"},{"$error":"#N/A"},{"$error":"#N/A"},{"$error":"#N/A"},{"$error":"#N/A"},{"$error":"#N/A"},{"$error":"#N/A"}]
[null,null,null,"1966-07-01",{"$error":"#N/A"},{"$error":"#N/A"},{"$error":"#N/A"},{"$error":"#N/A"},{"$error":"#N/A"},{"$error":"#N/A"},{"$error":"#N/A"},{"$error":"#N/A"},{"$error":"#N/A"},{"$error":"#N/A"},{"$error":"#N/A"},{"$error":"#N/A"},{"$error":"#N/A"},{"$error":"#N/A"},{"$error":"#N/A"},{"$error":"#N/A"},{"$error":"#N/A"},{"$error":"#N/A"},{"$error":"#N/A"},{"$error":"#N/A"},435,5.9,{"$error":"#N/A"},7.4,{"$error":"#N/A"},{"$error":"#N/A"},1.4,{"$error":"#N/A"},{"$error":"#N/A"},{"$error":"#N/A"},32.450000000000003,19.317,67105,53569,60836,{"$error":"#N/A"},{"$error":"#N/A"},19.84,{"$error":"#N/A"},{"$error":"#N/A"},{"$error":"#N/A"},{"$error":"#N/A"},{"$error":"#N/A"},{"$error":"#N/A"},{"$error":"#N/A"}]
[null,null,null,"1966-08-01",{"$error":"#N/A"},{"$error":"#N/A"},{"$error":"#N/A"},{"$error":"#N/A"},{"$error":"#N/A"},{"$error":"#N/A"},{"$error":"#N/A"},{"$error":"#N/A"},{"$error":"#N/A"},{"$error":"#N/A"},{"$error":"#N/A"},{"$error":"#N/A"},{"$error":"#N/A"},{"$error":"#N/A"},{"$error":"#N/A"},{"$error":"#N/A"},{"$error":"#N/A"},{"$error":"#N/A"},{"$error":"#N/A"},{"$error":"#N/A"},377,6.8,{"$error":"#N/A"},7.4,{"$error":"#N/A"},{"$error":"#N/A"},1.4,{"$error":"#N/A"},{"$error":"#N/A"},{"$error":"#N/A"},32.65,19.317,67129,53617,60941,{"$error":"#N/A"},{"$error":"#N/A"},19.84,{"$error":"#N/A"},{"$error":"#N/A"},{"$error":"#N/A"},{"$error":"#N/A"},{"$error":"#N/A"},{"$error":"#N/A"},{"$error":"#N/A"}]
[null,null,null,"1966-09-01",{"$error":"#N/A"},{"$error":"#N/A"},{"$error":"#N/A"},{"$error":"#N/A"},{"$error":"#N/A"},{"$error":"#N/A"},{"$error":"#N/A"},{"$error":"#N/A"},{"$error":"#N/A"},{"$error":"#N/A"},{"$error":"#N/A"},{"$error":"#N/A"},{"$error":"#N/A"},{"$error":"#N/A"},{"$error":"#N/A"},{"$error":"#N/A"},{"$error":"#N/A"},{"$error":"#N/A"},{"$error":"#N/A"},{"$error":"#N/A"},358,7.2,{"$error":"#N/A"},7.4,{"$error":"#N/A"},{"$error":"#N/A"},1.4,{"$error":"#N/A"},{"$error":"#N/A"},{"$error":"#N/A"},32.75,19.317,67144,53654,61041,{"$error":"#N/A"},{"$error":"#N/A"},19.84,{"$error":"#N/A"},{"$error":"#N/A"},{"$error":"#N/A"},{"$error":"#N/A"},{"$error":"#N/A"},{"$error":"#N/A"},{"$error":"#N/A"}]
[null,null,null,"1966-10-01",{"$f":"INDEX(INDIRECT(\"'\"&E$7&\"'!B:B\"),MATCH($D137,INDIRECT(\"'\"&E$7&\"'!A:A\")))","v":{"$error":"#N/A"}},{"$error":"#N/A"},{"$error":"#N/A"},{"$error":"#N/A"},{"$error":"#N/A"},{"$error":"#N/A"},{"$error":"#N/A"},{"$error":"#N/A"},{"$error":"#N/A"},{"$error":"#N/A"},{"$error":"#N/A"},{"$error":"#N/A"},{"$error":"#N/A"},{"$error":"#N/A"},{"$error":"#N/A"},{"$error":"#N/A"},{"$error":"#N/A"},{"$error":"#N/A"},{"$error":"#N/A"},{"$error":"#N/A"},387,6.3,{"$error":"#N/A"},7.7,{"$error":"#N/A"},{"$error":"#N/A"},1.3,{"$error":"#N/A"},{"$error":"#N/A"},{"$error":"#N/A"},32.85,19.481000000000002,67162,53700,61148,{"$error":"#N/A"},{"$error":"#N/A"},20.013000000000002,{"$error":"#N/A"},{"$error":"#N/A"},{"$error":"#N/A"},{"$error":"#N/A"},{"$error":"#N/A"},{"$error":"#N/A"},{"$error":"#N/A"}]
[null,null,null,{"$f":"EOMONTH(D137,$E$1)+1","v":"1966-11-01"},{"$error":"#N/A"},{"$error":"#N/A"},{"$error":"#N/A"},{"$error":"#N/A"},{"$error":"#N/A"},{"$error":"#N/A"},{"$error":"#N/A"},{"$error":"#N/A"},{"$error":"#N/A"},{"$error":"#N/A"},{"$error":"#N/A"},{"$error":"#N/A"},{"$error":"#N/A"},{"$error":"#N/A"},{"$error":"#N/A"},{"$error":"#N/A"},{"$error":"#N/A"},{"$error":"#N/A"},{"$error":"#N/A"},{"$error":"#N/A"},382,6.2,{"$error":"#N/A"},7.7,{"$error":"#N/A"},{"$error":"#N/A"},1.3,{"$error":"#N/A"},{"$error":"#N/A"},{"$error":"#N/A"},32.880000000000003,19.481000000000002,67179,53748,61249,{"$error":"#N/A"},{"$error":"#N/A"},20.013000000000002,{"$error":"#N/A"},{"$error":"#N/A"},{"$error":"#N/A"},{"$error":"#N/A"},{"$error":"#N/A"},{"$error":"#N/A"},{"$error":"#N/A"}]
[null,null,null,"1966-12-01",{"$error":"#N/A"},{"$error":"#N/A"},{"$error":"#N/A"},{"$error":"#N/A"},{"$error":"#N/A"},{"$error":"#N/A"},{"$error":"#N/A"},{"$error":"#N/A"},{"$error":"#N/A"},{"$error":"#N/A"},{"$error":"#N/A"},{"$error":"#N/A"},{"$error":"#N/A"},{"$error":"#N/A"},{"$error":"#N/A"},{"$error":"#N/A"},{"$error":"#N/A"},{"$error":"#N/A"},{"$error":"#N/A"},{"$error":"#N/A"},369,{"$f":"INDEX(INDIRECT(\"'\"&Z$7&\"'!B:B\"),MATCH($D139,INDIRECT(\"'\"&Z$7&\"'!A:A\")))","v":6.3},{"$error":"#N/A"},7.7,{"$error":"#N/A"},{"$error":"#N/A"},1.3,{"$error":"#N/A"},{"$error":"#N/A"},{"$error":"#N/A"},32.92,19.481000000000002,67212,53783,61351,{"$error":"#N/A"},{"$error":"#N/A"},20.013000000000002,{"$error":"#N/A"},{"$error":"#N/A"},{"$error":"#N/A"},{"$error":"#N/A"},{"$error":"#N/A"},{"$error":"#N/A"},{"$error":"#N/A"}]
[null,null,null,"1967-01-01",{"$error":"#N/A"},{"$error":"#N/A"},{"$error":"#N/A"},{"$error":"#N/A"},{"$error":"#N/A"},{"$error":"#N/A"},{"$error":"#N/A"},{"$error":"#N/A"},{"$error":"#N/A"},{"$error":"#N/A"},{"$error":"#N/A"},{"$error":"#N/A"},{"$error":"#N/A"},{"$error":"#N/A"},{"$error":"#N/A"},{"$error":"#N/A"},{"$error":"#N/A"},{"$error":"#N/A"},{"$error":"#N/A"},{"$error":"#N/A"},416,5.7,{"$error":"#N/A"},7.3,{"$error":"#N/A"},{"$error":"#N/A"},1.4,{"$error":"#N/A"},{"$error":"#N/A"},{"$error":"#N/A"},32.9,19.562000000000001,67275,53880,61454,{"$error":"#N/A"},{"$error":"#N/A"},20.123999999999999,{"$error":"#N/A"},{"$error":"#N/A"},{"$error":"#N/A"},{"$error":"#N/A"},{"$error":"#N/A"},{"$error":"#N/A"},{"$error":"#N/A"}]
[null,null,null,"1967-02-01",{"$error":"#N/A"},{"$error":"#N/A"},{"$error":"#N/A"},{"$error":"#N/A"},{"$error":"#N/A"},{"$error":"#N/A"},{"$error":"#N/A"},{"$error":"#N/A"},{"$error":"#N/A"},{"$error":"#N/A"},{"$error":"#N/A"},{"$error":"#N/A"},{"$error":"#N/A"},{"$error":"#N/A"},{"$error":"#N/A"},{"$error":"#N/A"},{"$error":"#N/A"},{"$error":"#N/A"},{"$error":"#N/A"},{"$error":"#N/A"},408,5.7,{"$error":"#N/A"},7.3,{"$error":"#N/A"},{"$error":"#N/A"},1.4,{"$error":"#N/A"},{"$error":"#N/A"},{"$error":"#N/A"},33,19.562000000000001,67318,53934,61549,{"$error":"#N/A"},{"$error":"#N/A"},20.123999999999999,{"$error":"#N/A"},{"$error":"#N/A"},{"$error":"#N/A"},{"$error":"#N/A"},{"$error":"#N/A"},{"$error":"#N/A"},{"$error":"#N/A"}]
[null,null,null,"1967-03-01",{"$error":"#N/A"},{"$error":"#N/A"},{"$error":"#N/A"},{"$error":"#N/A"},{"$error":"#N/A"},{"$error":"#N/A"},{"$error":"#N/A"},{"$error":"#N/A"},{"$error":"#N/A"},{"$error":"#N/A"},{"$error":"#N/A"},{"$error":"#N/A"},{"$error":"#N/A"},{"$error":"#N/A"},{"$error":"#N/A"},{"$error":"#N/A"},{"$error":"#N/A"},{"$error":"#N/A"},{"$error":"#N/A"},{"$error":"#N/A"},439,5.4,{"$error":"#N/A"},7.3,{"$error":"#N/A"},{"$error":"#N/A"},1.4,{"$error":"#N/A"},{"$error":"#N/A"},{"$error":"#N/A"},33,19.562000000000001,67348,54004,61651,{"$error":"#N/A"},{"$error":"#N/A"},20.123999999999999,{"$error":"#N/A"},{"$error":"#N/A"},{"$error":"#N/A"},{"$error":"#N/A"},{"$error":"#N/A"},{"$error":"#N/A"},{"$error":"#N/A"}]
[null,null,null,"1967-04-01",{"$error":"#N/A"},{"$error":"#N/A"},{"$error":"#N/A"},{"$error":"#N/A"},{"$error":"#N/A"},{"$error":"#N/A"},{"$error":"#N/A"},{"$error":"#N/A"},{"$error":"#N/A"},{"$error":"#N/A"},{"$error":"#N/A"},{"$error":"#N/A"},{"$error":"#N/A"},{"$error":"#N/A"},{"$error":"#N/A"},{"$error":"#N/A"},{"$error":"#N/A"},{"$error":"#N/A"},{"$error":"#N/A"},{"$error":"#N/A"},479,4.9000000000000004,{"$error":"#N/A"},6.9,{"$error":"#N/A"},{"$error":"#N/A"},1.3,{"$error":"#N/A"},{"$error":"#N/A"},{"$error":"#N/A"},33.1,19.661000000000001,67357,54062,61748,{"$error":"#N/A"},{"$error":"#N/A"},20.257999999999999,{"$error":"#N/A"},{"$error":"#N/A"},{"$error":"#N/A"},{"$error":"#N/A"},{"$error":"#N/A"},{"$error":"#N/A"},{"$error":"#N/A"}]
[null,null,null,"1967-05-01",{"$error":"#N/A"},{"$error":"#N/A"},{"$error":"#N/A"},{"$error":"#N/A"},{"$error":"#N/A"},{"$error":"#N/A"},{"$error":"#N/A"},{"$error":"#N/A"},{"$error":"#N/A"},{"$error":"#N/A"},{"$error":"#N/A"},{"$error":"#N/A"},{"$error":"#N/A"},{"$error":"#N/A"},{"$error":"#N/A"},{"$error":"#N/A"},{"$error":"#N/A"},{"$error":"#N/A"},{"$error":"#N/A"},{"$error":"#N/A"},503,4.5,{"$error":"#N/A"},6.9,{"$error":"#N/A"},{"$error":"#N/A"},1.3,{"$error":"#N/A"},{"$error":"#N/A"},{"$error":"#N/A"},33.1,19.661000000000001,67398,54139,61852,{"$error":"#N/A"},{"$error":"#N/A"},20.257999999999999,{"$error":"#N/A"},{"$error":"#N/A"},{"$error":"#N/A"},{"$error":"#N/A"},{"$error":"#N/A"},{"$error":"#N/A"},{"$error":"#N/A"}]
[null,null,null,"1967-06-01",{"$error":"#N/A"},{"$error":"#N/A"},{"$error":"#N/A"},{"$error":"#N/A"},{"$error":"#N/A"},{"$error":"#N/A"},{"$error":"#N/A"},{"$error":"#N/A"},{"$error":"#N/A"},{"$error":"#N/A"},{"$error":"#N/A"},{"$error":"#N/A"},{"$error":"#N/A"},{"$error":"#N/A"},{"$error":"#N/A"},{"$error":"#N/A"},{"$error":"#N/A"},{"$error":"#N/A"},{"$f":"INDEX(INDIRECT(\"'\"&W$7&\"'!B:B\"),MATCH($D145,INDIRECT(\"'\"&W$7&\"'!A:A\")))","v":{"$error":"#N/A"}},{"$error":"#N/A"},499,4.5999999999999996,{"$error":"#N/A"},6.9,{"$error":"#N/A"},{"$error":"#N/A"},1.3,{"$error":"#N/A"},{"$error":"#N/A"},{"$error":"#N/A"},33.299999999999997,19.661000000000001,67475,54249,61966,{"$error":"#N/A"},{"$error":"#N/A"},20.257999999999999,{"$error":"#N/A"},{"$error":"#N/A"},{"$error":"#N/A"},{"$error":"#N/A"},{"$error":"#N/A"},{"$error":"#N/A"},{"$error":"#N/A"}]
[null,null,null,"1967-07-01",{"$error":"#N/A"},{"$error":"#N/A"},{"$error":"#N/A"},{"$error":"#N/A"},{"$error":"#N/A"},{"$error":"#N/A"},{"$error":"#N/A"},{"$error":"#N/A"},{"$error":"#N/A"},{"$error":"#N/A"},{"$error":"#N/A"},{"$error":"#N/A"},{"$error":"#N/A"},{"$error":"#N/A"},{"$error":"#N/A"},{"$error":"#N/A"},{"$error":"#N/A"},{"$error":"#N/A"},{"$error":"#N/A"},{"$error":"#N/A"},515,4.4000000000000004,{"$error":"#N/A"},7,{"$error":"#N/A"},{"$error":"#N/A"},1.4,{"$error":"#N/A"},{"$error":"#N/A"},{"$error":"#N/A"},33.4,19.849,67579,54384,62079,{"$error":"#N/A"},{"$error":"#N/A"},20.440999999999999,{"$error":"#N/A"},{"$error":"#N/A"},{"$error":"#N/A"},{"$error":"#N/A"},{"$error":"#N/A"},{"$error":"#N/A"},{"$error":"#N/A"}]
[null,null,null,"1967-08-01",{"$error":"#N/A"},{"$error":"#N/A"},{"$error":"#N/A"},{"$error":"#N/A"},{"$error":"#N/A"},{"$error":"#N/A"},{"$error":"#N/A"},{"$error":"#N/A"},{"$error":"#N/A"},{"$error":"#N/A"},{"$error":"#N/A"},{"$error":"#N/A"},{"$error":"#N/A"},{"$error":"#N/A"},{"$error":"#N/A"},{"$error":"#N/A"},{"$error":"#N/A"},{"$error":"#N/A"},{"$error":"#N/A"},{"$error":"#N/A"},504,4.4000000000000004,{"$error":"#N/A"},7,{"$error":"#N/A"},{"$error":"#N/A"},1.4,{"$error":"#N/A"},{"$error":"#N/A"},{"$error":"#N/A"},33.5,19.849,67788,54560,62206,{"$error":"#N/A"},{"$error":"#N/A"},20.440999999999999,{"$error":"#N/A"},{"$error":"#N/A"},{"$error":"#N/A"},{"$error":"#N/A"},{"$error":"#N/A"},{"$error":"#N/A"},{"$error":"#N/A"}]
[null,null,null,"1967-09-01",{"$error":"#N/A"},{"$error":"#N/A"},{"$error":"#N/A"},{"$error":"#N/A"},{"$error":"#N/A"},{"$error":"#N/A"},{"$error":"#N/A"},{"$error":"#N/A"},{"$error":"#N/A"},{"$error":"#N/A"},{"$error":"#N/A"},{"$error":"#N/A"},{"$error":"#N/A"},{"$error":"#N/A"},{"$error":"#N/A"},{"$error":"#N/A"},{"$error":"#N/A"},{"$error":"#N/A"},{"$error":"#N/A"},{"$error":"#N/A"},531,4.3,{"$error":"#N/A"},7,{"$error":"#N/A"},{"$error":"#N/A"},1.4,{"$error":"#N/A"},{"$error":"#N/A"},{"$error":"#N/A"},33.6,19.849,67908,54688,62307,{"$error":"#N/A"},{"$error":"#N/A"},20.440999999999999,{"$error":"#N/A"},{"$error":"#N/A"},{"$error":"#N/A"},{"$error":"#N/A"},{"$error":"#N/A"},{"$error":"#N/A"},{"$error":"#N/A"}]
[null,null,null,"1967-10-01",{"$error":"#N/A"},{"$error":"#N/A"},{"$error":"#N/A"},{"$error":"#N/A"},{"$error":"#N/A"},{"$error":"#N/A"},{"$error":"#N/A"},{"$error":"#N/A"},{"$error":"#N/A"},{"$error":"#N/A"},{"$error":"#N/A"},{"$error":"#N/A"},{"$error":"#N/A"},{"$error":"#N/A"},{"$error":"#N/A"},{"$error":"#N/A"},{"$error":"#N/A"},{"$error":"#N/A"},{"$error":"#N/A"},{"$error":"#N/A"},566,4.0999999999999996,{"$error":"#N/A"},6.2,{"$error":"#N/A"},{"$error":"#N/A"},1.3,{"$error":"#N/A"},{"$error":"#N/A"},{"$error":"#N/A"},33.700000000000003,20.067,67973,54768,62404,{"$error":"#N/A"},{"$error":"#N/A"},20.646000000000001,{"$error":"#N/A"},{"$error":"#N/A"},{"$error":"#N/A"},{"$error":"#N/A"},{"$error":"#N/A"},{"$error":"#N/A"},{"$error":"#N/A"}]
[null,null,null,"1967-11-01",{"$error":"#N/A"},{"$error":"#N/A"},{"$error":"#N/A"},{"$error":"#N/A"},{"$error":"#N/A"},{"$error":"#N/A"},{"$error":"#N/A"},{"$error":"#N/A"},{"$error":"#N/A"},{"$error":"#N/A"},{"$error":"#N/A"},{"$error":"#N/A"},{"$error":"#N/A"},{"$error":"#N/A"},{"$error":"#N/A"},{"$error":"#N/A"},{"$error":"#N/A"},{"$error":"#N/A"},{"$error":"#N/A"},{"$error":"#N/A"},500,4.5999999999999996,{"$error":"#N/A"},6.2,{"$error":"#N/A"},{"$error":"#N/A"},1.3,{"$error":"#N/A"},{"$error":"#N/A"},{"$error":"#N/A"},33.9,20.067,68036,54834,62495,{"$error":"#N/A"},{"$error":"#N/A"},20.646000000000001,{"$error":"#N/A"},{"$error":"#N/A"},{"$error":"#N/A"},{"$error":"#N/A"},{"$error":"#N/A"},{"$error":"#N/A"},{"$error":"#N/A"}]
[null,null,null,"1967-12-01",{"$error":"#N/A"},{"$error":"#N/A"},{"$error":"#N/A"},{"$error":"#N/A"},{"$error":"#N/A"},{"$error":"#N/A"},{"$error":"#N/A"},{"$error":"#N/A"},{"$error":"#N/A"},{"$error":"#N/A"},{"$error":"#N/A"},{"$error":"#N/A"},{"$error":"#N/A"},{"$error":"#N/A"},{"$error":"#N/A"},{"$f":"INDEX(INDIRECT(\"'\"&T$7&\"'!B:B\"),MATCH($D151,INDIRECT(\"'\"&T$7&\"'!A:A\")))","v":{"$error":"#N/A"}},{"$error":"#N/A"},{"$error":"#N/A"},{"$error":"#N/A"},{"$error":"#N/A"},502,4.7,{"$error":"#N/A"},6.2,{"$error":"#N/A"},{"$error":"#N/A"},1.3,{"$error":"#N/A"},{"$error":"#N/A"},{"$error":"#N/A"},34,20.067,68102,54910,62586,{"$error":"#N/A"},{"$error":"#N/A"},20.646000000000001,{"$error":"#N/A"},{"$error":"#N/A"},{"$error":"#N/A"},{"$error":"#N/A"},{"$error":"#N/A"},{"$error":"#N/A"},{"$error":"#N/A"}]
[null,null,null,"1968-01-01",{"$error":"#N/A"},{"$error":"#N/A"},{"$error":"#N/A"},{"$error":"#N/A"},{"$error":"#N/A"},{"$error":"#N/A"},{"$error":"#N/A"},{"$error":"#N/A"},{"$error":"#N/A"},{"$error":"#N/A"},{"$error":"#N/A"},{"$error":"#N/A"},{"$error":"#N/A"},{"$error":"#N/A"},{"$error":"#N/A"},{"$error":"#N/A"},{"$error":"#N/A"},{"$error":"#N/A"},1257,875,494,4.7,{"$error":"#N/A"},6.1,{"$error":"#N/A"},{"$error":"#N/A"},1.1000000000000001,{"$error":"#N/A"},{"$error":"#N/A"},{"$error":"#N/A"},34.1,20.29,68170,54983,62673,{"$error":"#N/A"},{"$error":"#N/A"},20.878,{"$error":"#N/A"},{"$error":"#N/A"},{"$error":"#N/A"},{"$error":"#N/A"},{"$error":"#N/A"},{"$error":"#N/A"},{"$error":"#N/A"}]
[null,null,null,"1968-02-01",{"$error":"#N/A"},{"$error":"#N/A"},{"$error":"#N/A"},{"$error":"#N/A"},{"$error":"#N/A"},{"$error":"#N/A"},{"$error":"#N/A"},{"$error":"#N/A"},{"$error":"#N/A"},{"$error":"#N/A"},{"$error":"#N/A"},{"$error":"#N/A"},{"$error":"#N/A"},{"$error":"#N/A"},{"$error":"#N/A"},{"$error":"#N/A"},{"$error":"#N/A"},{"$error":"#N/A"},1174,771,543,4.0999999999999996,{"$error":"#N/A"},6.1,{"$error":"#N/A"},{"$error":"#N/A"},1.1000000000000001,{"$error":"#N/A"},{"$error":"#N/A"},{"$error":"#N/A"},34.200000000000003,20.29,68232,55048,62760,{"$error":"#N/A"},{"$error":"#N/A"},20.878,{"$error":"#N/A"},{"$error":"#N/A"},{"$error":"#N/A"},{"$error":"#N/A"},{"$error":"#N/A"},{"$error":"#N/A"},{"$error":"#N/A"}]
[null,null,null,"1968-03-01",{"$error":"#N/A"},{"$error":"#N/A"},{"$error":"#N/A"},{"$error":"#N/A"},{"$error":"#N/A"},{"$error":"#N/A"},{"$error":"#N/A"},{"$error":"#N/A"},{"$error":"#N/A"},{"$error":"#N/A"},{"$error":"#N/A"},{"$error":"#N/A"},{"$error":"#N/A"},{"$error":"#N/A"},{"$error":"#N/A"},{"$error":"#N/A"},{"$error":"#N/A"},{"$error":"#N/A"},1323,874,490,4.8,{"$error":"#N/A"},6.1,{"$error":"#N/A"},{"$error":"#N/A"},1.1000000000000001,{"$error":"#N/A"},{"$error":"#N/A"},{"$error":"#N/A"},34.299999999999997,20.29,68293,55041,62841,{"$error":"#N/A"},{"$error":"#N/A"},20.878,{"$error":"#N/A"},{"$error":"#N/A"},{"$error":"#N/A"},{"$error":"#N/A"},{"$error":"#N/A"},{"$error":"#N/A"},{"$error":"#N/A"}]
[null,null,null,"1968-04-01",{"$error":"#N/A"},{"$error":"#N/A"},{"$error":"#N/A"},{"$error":"#N/A"},{"$error":"#N/A"},{"$error":"#N/A"},{"$error":"#N/A"},{"$error":"#N/A"},{"$error":"#N/A"},{"$error":"#N/A"},{"$error":"#N/A"},{"$error":"#N/A"},{"$error":"#N/A"},{"$error":"#N/A"},{"$error":"#N/A"},{"$error":"#N/A"},{"$error":"#N/A"},{"$error":"#N/A"},1328,898,501,4.9000000000000004,{"$error":"#N/A"},6.2,{"$error":"#N/A"},{"$error":"#N/A"},1.1000000000000001,{"$error":"#N/A"},{"$error":"#N/A"},{"$error":"#N/A"},34.4,20.504000000000001,68356,55039,62921,{"$error":"#N/A"},{"$error":"#N/A"},21.12,{"$error":"#N/A"},{"$error":"#N/A"},{"$error":"#N/A"},{"$error":"#N/A"},{"$error":"#N/A"},{"$error":"#N/A"},{"$error":"#N/A"}]
[null,null,null,"1968-05-01",{"$error":"#N/A"},{"$error":"#N/A"},{"$error":"#N/A"},{"$error":"#N/A"},{"$error":"#N/A"},{"$error":"#N/A"},{"$error":"#N/A"},{"$error":"#N/A"},{"$error":"#N/A"},{"$error":"#N/A"},{"$error":"#N/A"},{"$error":"#N/A"},{"$error":"#N/A"},{"$error":"#N/A"},{"$error":"#N/A"},{"$error":"#N/A"},{"$error":"#N/A"},{"$error":"#N/A"},1367,900,441,5.5,{"$error":"#N/A"},6.2,{"$error":"#N/A"},{"$error":"#N/A"},1.1000000000000001,{"$error":"#N/A"},{"$error":"#N/A"},{"$error":"#N/A"},34.5,20.504000000000001,68418,55043,63015,{"$error":"#N/A"},{"$error":"#N/A"},21.12,{"$error":"#N/A"},{"$error":"#N/A"},{"$error":"#N/A"},{"$error":"#N/A"},{"$error":"#N/A"},{"$error":"#N/A"},{"$error":"#N/A"}]
[null,null,null,"1968-06-01",{"$error":"#N/A"},{"$error":"#N/A"},{"$error":"#N/A"},{"$error":"#N/A"},{"$error":"#N/A"},{"$error":"#N/A"},{"$error":"#N/A"},{"$error":"#N/A"},{"$error":"#N/A"},{"$error":"#N/A"},{"$error":"#N/A"},{"$error":"#N/A"},{"$f":"INDEX(INDIRECT(\"'\"&Q$7&\"'!B:B\"),MATCH($D157,INDIRECT(\"'\"&Q$7&\"'!A:A\")))","v":{"$error":"#N/A"}},{"$error":"#N/A"},{"$error":"#N/A"},{"$error":"#N/A"},{"$error":"#N/A"},{"$error":"#N/A"},1184,792,441,5.5,{"$error":"#N/A"},6.2,{"$error":"#N/A"},{"$error":"#N/A"},1.1000000000000001,{"$error":"#N/A"},{"$error":"#N/A"},{"$error":"#N/A"},34.700000000000003,20.504000000000001,68473,55096,63112,{"$error":"#N/A"},{"$error":"#N/A"},21.12,{"$error":"#N/A"},{"$error":"#N/A"},{"$error":"#N/A"},{"$error":"#N/A"},{"$error":"#N/A"},{"$error":"#N/A"},{"$error":"#N/A"}]
[null,null,null,"1968-07-01",{"$error":"#N/A"},{"$error":"#N/A"},{"$error":"#N/A"},{"$error":"#N/A"},{"$error":"#N/A"},{"$error":"#N/A"},{"$error":"#N/A"},{"$error":"#N/A"},{"$error":"#N/A"},{"$error":"#N/A"},{"$error":"#N/A"},{"$error":"#N/A"},{"$error":"#N/A"},{"$error":"#N/A"},{"$error":"#N/A"},{"$error":"#N/A"},{"$error":"#N/A"},{"$error":"#N/A"},1370,892,493,5.0999999999999996,{"$error":"#N/A"},5.9,{"$error":"#N/A"},{"$error":"#N/A"},1.2,{"$error":"#N/A"},{"$error":"#N/A"},{"$error":"#N/A"},34.9,20.706,68522,55117,63211,{"$error":"#N/A"},{"$error":"#N/A"},21.356999999999999,{"$error":"#N/A"},{"$error":"#N/A"},{"$error":"#N/A"},{"$error":"#N/A"},{"$error":"#N/A"},{"$error":"#N/A"},{"$error":"#N/A"}]
[null,null,null,"1968-08-01",{"$error":"#N/A"},{"$error":"#N/A"},{"$error":"#N/A"},{"$error":"#N/A"},{"$error":"#N/A"},{"$error":"#N/A"},{"$error":"#N/A"},{"$error":"#N/A"},{"$error":"#N/A"},{"$error":"#N/A"},{"$error":"#N/A"},{"$error":"#N/A"},{"$error":"#N/A"},{"$error":"#N/A"},{"$error":"#N/A"},{"$error":"#N/A"},{"$error":"#N/A"},{"$error":"#N/A"},1279,836,507,5,{"$error":"#N/A"},5.9,{"$error":"#N/A"},{"$error":"#N/A"},1.2,{"$error":"#N/A"},{"$error":"#N/A"},{"$error":"#N/A"},35,20.706,68557,55147,63304,{"$error":"#N/A"},{"$error":"#N/A"},21.356999999999999,{"$error":"#N/A"},{"$error":"#N/A"},{"$error":"#N/A"},{"$error":"#N/A"},{"$error":"#N/A"},{"$error":"#N/A"},{"$error":"#N/A"}]
[null,null,null,"1968-09-01",{"$error":"#N/A"},{"$error":"#N/A"},{"$error":"#N/A"},{"$error":"#N/A"},{"$error":"#N/A"},{"$error":"#N/A"},{"$error":"#N/A"},{"$error":"#N/A"},{"$error":"#N/A"},{"$error":"#N/A"},{"$error":"#N/A"},{"$error":"#N/A"},{"$error":"#N/A"},{"$error":"#N/A"},{"$error":"#N/A"},{"$error":"#N/A"},{"$error":"#N/A"},{"$error":"#N/A"},1397,877,501,5.0999999999999996,{"$error":"#N/A"},5.9,{"$error":"#N/A"},{"$error":"#N/A"},1.2,{"$error":"#N/A"},{"$error":"#N/A"},{"$error":"#N/A"},35.1,20.706,68607,55222,63397,{"$error":"#N/A"},{"$error":"#N/A"},21.356999999999999,{"$error":"#N/A"},{"$error":"#N/A"},{"$error":"#N/A"},{"$error":"#N/A"},{"$error":"#N/A"},{"$error":"#N/A"},{"$error":"#N/A"}]
[null,null,null,"1968-10-01",{"$error":"#N/A"},{"$error":"#N/A"},{"$error":"#N/A"},{"$error":"#N/A"},{"$error":"#N/A"},{"$error":"#N/A"},{"$error":"#N/A"},{"$error":"#N/A"},{"$error":"#N/A"},{"$error":"#N/A"},{"$error":"#N/A"},{"$error":"#N/A"},{"$error":"#N/A"},{"$error":"#N/A"},{"$error":"#N/A"},{"$error":"#N/A"},{"$error":"#N/A"},{"$error":"#N/A"},1348,828,502,5.2,{"$error":"#N/A"},5.4,{"$error":"#N/A"},{"$error":"#N/A"},1.2,{"$error":"#N/A"},{"$error":"#N/A"},{"$error":"#N/A"},35.299999999999997,20.998999999999999,68651,55281,63484,{"$error":"#N/A"},{"$error":"#N/A"},21.606000000000002,{"$error":"#N/A"},{"$error":"#N/A"},{"$error":"#N/A"},{"$error":"#N/A"},{"$error":"#N/A"},{"$error":"#N/A"},{"$error":"#N/A"}]
[null,null,null,"1968-11-01",{"$error":"#N/A"},{"$error":"#N/A"},{"$error":"#N/A"},{"$error":"#N/A"},{"$error":"#N/A"},{"$error":"#N/A"},{"$error":"#N/A"},{"$error":"#N/A"},{"$error":"#N/A"},{"$error":"#N/A"},{"$error":"#N/A"},{"$error":"#N/A"},{"$error":"#N/A"},{"$error":"#N/A"},{"$error":"#N/A"},{"$error":"#N/A"},{"$error":"#N/A"},{"$error":"#N/A"},1367,865,469,5.6,{"$error":"#N/A"},5.4,{"$error":"#N/A"},{"$error":"#N/A"},1.2,{"$error":"#N/A"},{"$error":"#N/A"},{"$error":"#N/A"},35.4,20.998999999999999,68734,55434,63579,{"$error":"#N/A"},{"$error":"#N/A"},21.606000000000002,{"$error":"#N/A"},{"$error":"#N/A"},{"$error":"#N/A"},{"$error":"#N/A"},{"$error":"#N/A"},{"$error":"#N/A"},{"$error":"#N/A"}]
[null,null,null,"1968-12-01",{"$error":"#N/A"},{"$error":"#N/A"},{"$error":"#N/A"},{"$error":"#N/A"},{"$error":"#N/A"},{"$error":"#N/A"},{"$error":"#N/A"},{"$error":"#N/A"},{"$error":"#N/A"},{"$f":"INDEX(INDIRECT(\"'\"&N$7&\"'!B:B\"),MATCH($D163,INDIRECT(\"'\"&N$7&\"'!A:A\")))","v":{"$error":"#N/A"}},{"$error":"#N/A"},{"$error":"#N/A"},{"$error":"#N/A"},{"$error":"#N/A"},{"$error":"#N/A"},{"$error":"#N/A"},{"$error":"#N/A"},{"$error":"#N/A"},1390,875,511,5.2,{"$error":"#N/A"},5.4,{"$error":"#N/A"},{"$error":"#N/A"},1.2,{"$error":"#N/A"},{"$error":"#N/A"},{"$error":"#N/A"},35.6,20.998999999999999,68793,55528,63673,{"$error":"#N/A"},{"$error":"#N/A"},21.606000000000002,{"$error":"#N/A"},{"$error":"#N/A"},{"$error":"#N/A"},{"$error":"#N/A"},{"$error":"#N/A"},{"$error":"#N/A"},{"$error":"#N/A"}]
[null,null,null,"1969-01-01",{"$error":"#N/A"},{"$error":"#N/A"},{"$error":"#N/A"},{"$error":"#N/A"},{"$error":"#N/A"},{"$error":"#N/A"},{"$error":"#N/A"},{"$error":"#N/A"},{"$error":"#N/A"},{"$error":"#N/A"},{"$error":"#N/A"},{"$error":"#N/A"},{"$error":"#N/A"},{"$error":"#N/A"},{"$error":"#N/A"},{"$error":"#N/A"},{"$error":"#N/A"},{"$error":"#N/A"},1257,839,480,5.5,{"$error":"#N/A"},5.6,{"$error":"#N/A"},{"$error":"#N/A"},1,{"$error":"#N/A"},{"$error":"#N/A"},{"$error":"#N/A"},35.700000000000003,21.216999999999999,68857,55577,63759,{"$error":"#N/A"},{"$error":"#N/A"},21.846,{"$error":"#N/A"},{"$error":"#N/A"},{"$error":"#N/A"},{"$error":"#N/A"},{"$error":"#N/A"},{"$error":"#N/A"},{"$error":"#N/A"}]
[null,null,null,"1969-02-01",{"$error":"#N/A"},{"$error":"#N/A"},{"$error":"#N/A"},{"$error":"#N/A"},{"$error":"#N/A"},{"$error":"#N/A"},{"$error":"#N/A"},{"$error":"#N/A"},{"$error":"#N/A"},{"$error":"#N/A"},{"$error":"#N/A"},{"$error":"#N/A"},{"$error":"#N/A"},{"$error":"#N/A"},{"$error":"#N/A"},{"$error":"#N/A"},{"$error":"#N/A"},{"$error":"#N/A"},1414,872,524,4.9000000000000004,{"$error":"#N/A"},5.6,{"$error":"#N/A"},{"$error":"#N/A"},1,{"$error":"#N/A"},{"$error":"#N/A"},{"$error":"#N/A"},35.799999999999997,21.216999999999999,68900,55624,63827,{"$error":"#N/A"},{"$error":"#N/A"},21.846,{"$error":"#N/A"},{"$error":"#N/A"},{"$error":"#N/A"},{"$error":"#N/A"},{"$error":"#N/A"},{"$error":"#N/A"},{"$error":"#N/A"}]
[null,null,null,"1969-03-01",{"$error":"#N/A"},{"$error":"#N/A"},{"$error":"#N/A"},{"$error":"#N/A"},{"$error":"#N/A"},{"$error":"#N/A"},{"$error":"#N/A"},{"$error":"#N/A"},{"$error":"#N/A"},{"$error":"#N/A"},{"$error":"#N/A"},{"$error":"#N/A"},{"$error":"#N/A"},{"$error":"#N/A"},{"$error":"#N/A"},{"$error":"#N/A"},{"$error":"#N/A"},{"$error":"#N/A"},1558,872,474,5.7,{"$error":"#N/A"},5.6,{"$error":"#N/A"},{"$error":"#N/A"},1,{"$error":"#N/A"},{"$error":"#N/A"},{"$error":"#N/A"},36.1,21.216999999999999,68942,55680,63922,{"$error":"#N/A"},{"$error":"#N/A"},21.846,{"$error":"#N/A"},{"$error":"#N/A"},{"$error":"#N/A"},{"$error":"#N/A"},{"$error":"#N/A"},{"$error":"#N/A"},{"$error":"#N/A"}]
[null,null,null,"1969-04-01",{"$error":"#N/A"},{"$error":"#N/A"},{"$error":"#N/A"},{"$error":"#N/A"},{"$error":"#N/A"},{"$error":"#N/A"},{"$error":"#N/A"},{"$error":"#N/A"},{"$error":"#N/A"},{"$error":"#N/A"},{"$error":"#N/A"},{"$error":"#N/A"},{"$error":"#N/A"},{"$error":"#N/A"},{"$error":"#N/A"},{"$error":"#N/A"},{"$error":"#N/A"},{"$error":"#N/A"},1318,752,450,6,{"$error":"#N/A"},5.7,{"$error":"#N/A"},{"$error":"#N/A"},1,{"$error":"#N/A"},{"$error":"#N/A"},{"$error":"#N/A"},36.299999999999997,21.488,68988,55745,64013,{"$error":"#N/A"},{"$error":"#N/A"},22.11,{"$error":"#N/A"},{"$error":"#N/A"},{"$error":"#N/A"},{"$error":"#N/A"},{"$error":"#N/A"},{"$error":"#N/A"},{"$error":"#N/A"}]
[null,null,null,"1969-05-01",{"$error":"#N/A"},{"$error":"#N/A"},{"$error":"#N/A"},{"$error":"#N/A"},{"$error":"#N/A"},{"$error":"#N/A"},{"$error":"#N/A"},{"$error":"#N/A"},{"$error":"#N/A"},{"$error":"#N/A"},{"$error":"#N/A"},{"$error":"#N/A"},{"$error":"#N/A"},{"$error":"#N/A"},{"$error":"#N/A"},{"$error":"#N/A"},{"$error":"#N/A"},{"$error":"#N/A"},1430,821,447,6.1,{"$error":"#N/A"},5.7,{"$error":"#N/A"},{"$error":"#N/A"},1,{"$error":"#N/A"},{"$error":"#N/A"},{"$error":"#N/A"},36.4,21.488,69054,55822,64125,{"$error":"#N/A"},{"$error":"#N/A"},22.11,{"$error":"#N/A"},{"$error":"#N/A"},{"$error":"#N/A"},{"$error":"#N/A"},{"$error":"#N/A"},{"$error":"#N/A"},{"$error":"#N/A"}]
[null,null,null,"1969-06-01",{"$error":"#N/A"},{"$error":"#N/A"},{"$error":"#N/A"},{"$error":"#N/A"},{"$error":"#N/A"},{"$error":"#N/A"},{"$f":"INDEX(INDIRECT(\"'\"&K$7&\"'!B:B\"),MATCH($D169,INDIRECT(\"'\"&K$7&\"'!A:A\")))","v":{"$error":"#N/A"}},{"$error":"#N/A"},{"$error":"#N/A"},{"$error":"#N/A"},{"$error":"#N/A"},{"$error":"#N/A"},{"$error":"#N/A"},{"$error":"#N/A"},{"$error":"#N/A"},{"$error":"#N/A"},{"$error":"#N/A"},{"$error":"#N/A"},1455,850,461,5.8,{"$error":"#N/A"},5.7,{"$error":"#N/A"},{"$error":"#N/A"},1,{"$error":"#N/A"},{"$error":"#N/A"},{"$error":"#N/A"},36.6,21.488,69106,55892,64215,{"$error":"#N/A"},{"$error":"#N/A"},22.11,{"$error":"#N/A"},{"$error":"#N/A"},{"$error":"#N/A"},{"$error":"#N/A"},{"$error":"#N/A"},{"$error":"#N/A"},{"$error":"#N/A"}]
[null,null,null,"1969-07-01",{"$error":"#N/A"},{"$error":"#N/A"},{"$error":"#N/A"},{"$error":"#N/A"},{"$error":"#N/A"},{"$error":"#N/A"},{"$error":"#N/A"},{"$error":"#N/A"},{"$error":"#N/A"},{"$error":"#N/A"},{"$error":"#N/A"},{"$error":"#N/A"},{"$error":"#N/A"},{"$error":"#N/A"},{"$error":"#N/A"},{"$error":"#N/A"},{"$error":"#N/A"},{"$error":"#N/A"},1432,811,436,6.3,{"$error":"#N/A"},5.5,{"$error":"#N/A"},{"$error":"#N/A"},1.1000000000000001,{"$error":"#N/A"},{"$error":"#N/A"},{"$error":"#N/A"},36.799999999999997,21.79,69208,55997,64335,{"$error":"#N/A"},{"$error":"#N/A"},22.366,{"$error":"#N/A"},{"$error":"#N/A"},{"$error":"#N/A"},{"$error":"#N/A"},{"$error":"#N/A"},{"$error":"#N/A"},{"$error":"#N/A"}]
[null,null,null,"1969-08-01",{"$error":"#N/A"},{"$error":"#N/A"},{"$error":"#N/A"},{"$error":"#N/A"},{"$error":"#N/A"},{"$error":"#N/A"},{"$error":"#N/A"},{"$error":"#N/A"},{"$error":"#N/A"},{"$error":"#N/A"},{"$error":"#N/A"},{"$error":"#N/A"},{"$error":"#N/A"},{"$error":"#N/A"},{"$error":"#N/A"},{"$error":"#N/A"},{"$error":"#N/A"},{"$error":"#N/A"},1393,800,422,6.5,{"$error":"#N/A"},5.5,{"$error":"#N/A"},{"$error":"#N/A"},1.1000000000000001,{"$error":"#N/A"},{"$error":"#N/A"},{"$error":"#N/A"},36.9,21.79,69258,56089,64422,{"$error":"#N/A"},{"$error":"#N/A"},22.366,{"$error":"#N/A"},{"$error":"#N/A"},{"$error":"#N/A"},{"$error":"#N/A"},{"$error":"#N/A"},{"$error":"#N/A"},{"$error":"#N/A"}]
[null,null,null,"1969-09-01",{"$error":"#N/A"},{"$error":"#N/A"},{"$error":"#N/A"},{"$error":"#N/A"},{"$error":"#N/A"},{"$error":"#N/A"},{"$error":"#N/A"},{"$error":"#N/A"},{"$error":"#N/A"},{"$error":"#N/A"},{"$error":"#N/A"},{"$error":"#N/A"},{"$error":"#N/A"},{"$error":"#N/A"},{"$error":"#N/A"},{"$error":"#N/A"},{"$error":"#N/A"},{"$error":"#N/A"},1367,770,396,6.9,{"$error":"#N/A"},5.5,{"$error":"#N/A"},{"$error":"#N/A"},1.1000000000000001,{"$error":"#N/A"},{"$error":"#N/A"},{"$error":"#N/A"},37.1,21.79,69302,56146,64509,{"$error":"#N/A"},{"$error":"#N/A"},22.366,{"$error":"#N/A"},{"$error":"#N/A"},{"$error":"#N/A"},{"$error":"#N/A"},{"$error":"#N/A"},{"$error":"#N/A"},{"$error":"#N/A"}]
[null,null,null,"1969-10-01",{"$error":"#N/A"},{"$error":"#N/A"},{"$error":"#N/A"},{"$error":"#N/A"},{"$error":"#N/A"},{"$error":"#N/A"},{"$error":"#N/A"},{"$error":"#N/A"},{"$error":"#N/A"},{"$error":"#N/A"},{"$error":"#N/A"},{"$error":"#N/A"},{"$error":"#N/A"},{"$error":"#N/A"},{"$error":"#N/A"},{"$error":"#N/A"},{"$error":"#N/A"},{"$error":"#N/A"},1406,806,401,7,{"$error":"#N/A"},5.0999999999999996,{"$error":"#N/A"},{"$error":"#N/A"},1,{"$error":"#N/A"},{"$error":"#N/A"},{"$error":"#N/A"},37.299999999999997,22.071000000000002,69362,56245,64611,{"$error":"#N/A"},{"$error":"#N/A"},22.63,{"$error":"#N/A"},{"$error":"#N/A"},{"$error":"#N/A"},{"$error":"#N/A"},{"$error":"#N/A"},{"$error":"#N/A"},{"$error":"#N/A"}]
[null,null,null,"1969-11-01",{"$error":"#N/A"},{"$error":"#N/A"},{"$error":"#N/A"},{"$error":"#N/A"},{"$error":"#N/A"},{"$error":"#N/A"},{"$error":"#N/A"},{"$error":"#N/A"},{"$error":"#N/A"},{"$error":"#N/A"},{"$error":"#N/A"},{"$error":"#N/A"},{"$error":"#N/A"},{"$error":"#N/A"},{"$error":"#N/A"},{"$error":"#N/A"},{"$error":"#N/A"},{"$error":"#N/A"},1404,765,441,6.2,{"$error":"#N/A"},5.0999999999999996,{"$error":"#N/A"},{"$error":"#N/A"},1,{"$error":"#N/A"},{"$error":"#N/A"},{"$error":"#N/A"},37.5,22.071000000000002,69424,56344,64700,{"$error":"#N/A"},{"$error":"#N/A"},22.63,{"$error":"#N/A"},{"$error":"#N/A"},{"$error":"#N/A"},{"$error":"#N/A"},{"$error":"#N/A"},{"$error":"#N/A"},{"$error":"#N/A"}]
[null,null,null,"1969-12-01",{"$error":"#N/A"},{"$error":"#N/A"},{"$error":"#N/A"},{"$f":"INDEX(INDIRECT(\"'\"&H$7&\"'!B:B\"),MATCH($D175,INDIRECT(\"'\"&H$7&\"'!A:A\")))","v":{"$error":"#N/A"}},{"$error":"#N/A"},{"$error":"#N/A"},{"$error":"#N/A"},{"$error":"#N/A"},{"$error":"#N/A"},{"$error":"#N/A"},{"$error":"#N/A"},{"$error":"#N/A"},{"$error":"#N/A"},{"$error":"#N/A"},{"$error":"#N/A"},{"$error":"#N/A"},{"$error":"#N/A"},{"$error":"#N/A"},1402,766,452,6.1,{"$error":"#N/A"},5.0999999999999996,{"$error":"#N/A"},{"$error":"#N/A"},1,{"$error":"#N/A"},{"$error":"#N/A"},{"$error":"#N/A"},37.700000000000003,22.071000000000002,69541,56472,64792,{"$error":"#N/A"},{"$error":"#N/A"},22.63,{"$error":"#N/A"},{"$error":"#N/A"},{"$error":"#N/A"},{"$error":"#N/A"},{"$error":"#N/A"},{"$error":"#N/A"},{"$error":"#N/A"}]
[null,null,null,"1970-01-01",{"$error":"#N/A"},{"$error":"#N/A"},{"$error":"#N/A"},{"$error":"#N/A"},{"$error":"#N/A"},{"$error":"#N/A"},{"$error":"#N/A"},{"$error":"#N/A"},{"$error":"#N/A"},{"$error":"#N/A"},{"$error":"#N/A"},{"$error":"#N/A"},{"$error":"#N/A"},{"$error":"#N/A"},{"$error":"#N/A"},{"$error":"#N/A"},{"$error":"#N/A"},{"$error":"#N/A"},1434,830,461,5.5,{"$error":"#N/A"},5.4,{"$error":"#N/A"},{"$error":"#N/A"},1,{"$error":"#N/A"},{"$error":"#N/A"},{"$error":"#N/A"},37.9,22.382000000000001,69604,56576,64871,{"$error":"#N/A"},{"$error":"#N/A"},22.876000000000001,{"$error":"#N/A"},{"$error":"#N/A"},{"$error":"#N/A"},{"$error":"#N/A"},{"$error":"#N/A"},{"$error":"#N/A"},{"$error":"#N/A"}]
[null,null,null,"1970-02-01",{"$error":"#N/A"},{"$error":"#N/A"},{"$error":"#N/A"},{"$error":"#N/A"},{"$error":"#N/A"},{"$error":"#N/A"},{"$error":"#N/A"},{"$error":"#N/A"},{"$error":"#N/A"},{"$error":"#N/A"},{"$error":"#N/A"},{"$error":"#N/A"},{"$error":"#N/A"},{"$error":"#N/A"},{"$error":"#N/A"},{"$error":"#N/A"},{"$error":"#N/A"},{"$error":"#N/A"},1430,761,373,7.2,{"$error":"#N/A"},5.4,{"$error":"#N/A"},{"$error":"#N/A"},1,{"$error":"#N/A"},{"$error":"#N/A"},{"$error":"#N/A"},38.1,22.382000000000001,69672,56688,64962,{"$error":"#N/A"},{"$error":"#N/A"},22.876000000000001,{"$error":"#N/A"},{"$error":"#N/A"},{"$error":"#N/A"},{"$error":"#N/A"},{"$error":"#N/A"},{"$error":"#N/A"},{"$error":"#N/A"}]
[null,null,null,"1970-03-01",{"$error":"#N/A"},{"$error":"#N/A"},{"$error":"#N/A"},{"$error":"#N/A"},{"$error":"#N/A"},{"$error":"#N/A"},{"$error":"#N/A"},{"$error":"#N/A"},{"$error":"#N/A"},{"$error":"#N/A"},{"$error":"#N/A"},{"$error":"#N/A"},{"$error":"#N/A"},{"$error":"#N/A"},{"$error":"#N/A"},{"$error":"#N/A"},{"$error":"#N/A"},{"$error":"#N/A"},1317,715,389,6.8,{"$error":"#N/A"},5.4,{"$error":"#N/A"},{"$error":"#N/A"},1,{"$error":"#N/A"},{"$error":"#N/A"},{"$error":"#N/A"},38.299999999999997,22.382000000000001,69743,56770,65052,{"$error":"#N/A"},{"$error":"#N/A"},22.876000000000001,{"$error":"#N/A"},{"$error":"#N/A"},{"$error":"#N/A"},{"$error":"#N/A"},{"$error":"#N/A"},{"$error":"#N/A"},{"$error":"#N/A"}]
[null,null,null,"1970-04-01",{"$error":"#N/A"},{"$error":"#N/A"},{"$error":"#N/A"},{"$error":"#N/A"},{"$error":"#N/A"},{"$error":"#N/A"},{"$error":"#N/A"},{"$error":"#N/A"},{"$error":"#N/A"},{"$error":"#N/A"},{"$error":"#N/A"},{"$error":"#N/A"},{"$error":"#N/A"},{"$error":"#N/A"},{"$error":"#N/A"},{"$error":"#N/A"},{"$error":"#N/A"},{"$error":"#N/A"},1354,743,445,6,{"$error":"#N/A"},5.4,{"$error":"#N/A"},{"$error":"#N/A"},1,{"$error":"#N/A"},{"$error":"#N/A"},{"$error":"#N/A"},38.5,22.693999999999999,69821,56865,65140,{"$error":"#N/A"},{"$error":"#N/A"},23.135000000000002,{"$error":"#N/A"},{"$error":"#N/A"},{"$error":"#N/A"},{"$error":"#N/A"},{"$error":"#N/A"},{"$error":"#N/A"},{"$error":"#N/A"}]
[null,null,null,"1970-05-01",{"$error":"#N/A"},{"$error":"#N/A"},{"$error":"#N/A"},{"$error":"#N/A"},{"$error":"#N/A"},{"$error":"#N/A"},{"$error":"#N/A"},{"$error":"#N/A"},{"$error":"#N/A"},{"$error":"#N/A"},{"$error":"#N/A"},{"$error":"#N/A"},{"$error":"#N/A"},{"$error":"#N/A"},{"$error":"#N/A"},{"$error":"#N/A"},{"$error":"#N/A"},{"$error":"#N/A"},1334,766,466,5.7,{"$error":"#N/A"},5.4,{"$error":"#N/A"},{"$error":"#N/A"},1,{"$error":"#N/A"},{"$error":"#N/A"},{"$error":"#N/A"},38.6,22.693999999999999,69903,56988,65246,{"$error":"#N/A"},{"$error":"#N/A"},23.135000000000002,{"$error":"#N/A"},{"$error":"#N/A"},{"$error":"#N/A"},{"$error":"#N/A"},{"$error":"#N/A"},{"$f":"INDEX(INDIRECT(\"'\"&AV$7&\"'!B:B\"),MATCH($D180,INDIRECT(\"'\"&AV$7&\"'!A:A\")))","v":{"$error":"#N/A"}},{"$error":"#N/A"}]
[null,null,null,"1970-06-01",{"$error":"#N/A"},{"$error":"#N/A"},{"$error":"#N/A"},{"$error":"#N/A"},{"$error":"#N/A"},{"$error":"#N/A"},{"$error":"#N/A"},{"$error":"#N/A"},{"$error":"#N/A"},{"$error":"#N/A"},{"$error":"#N/A"},{"$error":"#N/A"},{"$error":"#N/A"},{"$error":"#N/A"},{"$error":"#N/A"},{"$error":"#N/A"},{"$error":"#N/A"},{"$error":"#N/A"},1431,772,485,5.5,{"$error":"#N/A"},5.4,{"$error":"#N/A"},{"$error":"#N/A"},1,{"$error":"#N/A"},{"$error":"#N/A"},{"$error":"#N/A"},38.799999999999997,22.693999999999999,69967,57093,65332,{"$error":"#N/A"},{"$error":"#N/A"},23.135000000000002,{"$error":"#N/A"},{"$error":"#N/A"},{"$error":"#N/A"},{"$error":"#N/A"},{"$error":"#N/A"},{"$error":"#N/A"},{"$error":"#N/A"}]
[null,null,null,"1970-07-01",{"$error":"#N/A"},{"$error":"#N/A"},{"$error":"#N/A"},{"$error":"#N/A"},{"$error":"#N/A"},{"$error":"#N/A"},{"$error":"#N/A"},{"$error":"#N/A"},{"$error":"#N/A"},{"$error":"#N/A"},{"$error":"#N/A"},{"$error":"#N/A"},{"$error":"#N/A"},{"$error":"#N/A"},{"$error":"#N/A"},{"$error":"#N/A"},{"$error":"#N/A"},{"$error":"#N/A"},1384,792,481,5.4,{"$error":"#N/A"},5.3,{"$error":"#N/A"},{"$error":"#N/A"},1.1000000000000001,{"$error":"#N/A"},{"$error":"#N/A"},{"$error":"#N/A"},38.9,22.88,70043,57208,65445,{"$error":"#N/A"},{"$error":"#N/A"},23.393000000000001,{"$error":"#N/A"},{"$error":"#N/A"},{"$error":"#N/A"},{"$error":"#N/A"},{"$error":"#N/A"},{"$error":"#N/A"},{"$error":"#N/A"}]
[null,null,null,"1970-08-01",{"$error":"#N/A"},{"$error":"#N/A"},{"$error":"#N/A"},{"$error":"#N/A"},{"$error":"#N/A"},{"$error":"#N/A"},{"$error":"#N/A"},{"$error":"#N/A"},{"$error":"#N/A"},{"$error":"#N/A"},{"$error":"#N/A"},{"$error":"#N/A"},{"$error":"#N/A"},{"$error":"#N/A"},{"$error":"#N/A"},{"$error":"#N/A"},{"$error":"#N/A"},{"$error":"#N/A"},1609,843,515,5.0999999999999996,{"$error":"#N/A"},5.3,{"$error":"#N/A"},{"$error":"#N/A"},1.1000000000000001,{"$error":"#N/A"},{"$error":"#N/A"},{"$error":"#N/A"},39,22.88,70093,57306,65552,{"$error":"#N/A"},{"$error":"#N/A"},23.393000000000001,{"$error":"#N/A"},{"$error":"#N/A"},{"$error":"#N/A"},{"$error":"#N/A"},{"$error":"#N/A"},{"$error":"#N/A"},{"$error":"#N/A"}]
[null,null,null,"1970-09-01",{"$error":"#N/A"},{"$error":"#N/A"},{"$error":"#N/A"},{"$error":"#N/A"},{"$error":"#N/A"},{"$error":"#N/A"},{"$error":"#N/A"},{"$error":"#N/A"},{"$error":"#N/A"},{"$error":"#N/A"},{"$error":"#N/A"},{"$error":"#N/A"},{"$error":"#N/A"},{"$error":"#N/A"},{"$error":"#N/A"},{"$error":"#N/A"},{"$error":"#N/A"},{"$error":"#N/A"},1383,883,564,4.7,{"$error":"#N/A"},5.3,{"$error":"#N/A"},{"$error":"#N/A"},1.1000000000000001,{"$error":"#N/A"},{"$error":"#N/A"},{"$error":"#N/A"},39.200000000000003,22.88,70138,57425,65661,{"$error":"#N/A"},{"$error":"#N/A"},23.393000000000001,{"$error":"#N/A"},{"$error":"#N/A"},{"$error":"#N/A"},{"$error":"#N/A"},{"$error":"#N/A"},{"$error":"#N/A"},{"$error":"#N/A"}]
[null,null,null,"1970-10-01",{"$error":"#N/A"},{"$error":"#N/A"},{"$error":"#N/A"},{"$error":"#N/A"},{"$error":"#N/A"},{"$error":"#N/A"},{"$error":"#N/A"},{"$error":"#N/A"},{"$error":"#N/A"},{"$error":"#N/A"},{"$error":"#N/A"},{"$error":"#N/A"},{"$error":"#N/A"},{"$error":"#N/A"},{"$error":"#N/A"},{"$error":"#N/A"},{"$error":"#N/A"},{"$error":"#N/A"},1437,806,545,4.8,{"$error":"#N/A"},5.2,{"$error":"#N/A"},{"$error":"#N/A"},1.1000000000000001,{"$error":"#N/A"},{"$error":"#N/A"},{"$error":"#N/A"},39.4,23.181999999999999,70210,57543,65773,{"$error":"#N/A"},{"$error":"#N/A"},23.721,{"$error":"#N/A"},{"$error":"#N/A"},{"$error":"#N/A"},{"$error":"#N/A"},{"$error":"#N/A"},{"$error":"#N/A"},{"$error":"#N/A"}]
[null,null,null,"1970-11-01",{"$error":"#N/A"},{"$error":"#N/A"},{"$error":"#N/A"},{"$error":"#N/A"},{"$error":"#N/A"},{"$error":"#N/A"},{"$error":"#N/A"},{"$error":"#N/A"},{"$error":"#N/A"},{"$error":"#N/A"},{"$error":"#N/A"},{"$error":"#N/A"},{"$error":"#N/A"},{"$error":"#N/A"},{"$error":"#N/A"},{"$error":"#N/A"},{"$error":"#N/A"},{"$error":"#N/A"},1457,845,570,4.5999999999999996,{"$error":"#N/A"},5.2,{"$error":"#N/A"},{"$error":"#N/A"},1.1000000000000001,{"$error":"#N/A"},{"$error":"#N/A"},{"$error":"#N/A"},39.6,23.181999999999999,70284,57667,65881,{"$error":"#N/A"},{"$error":"#N/A"},23.721,{"$error":"#N/A"},{"$error":"#N/A"},{"$f":"INDEX(INDIRECT(\"'\"&AS$7&\"'!B:B\"),MATCH($D186,INDIRECT(\"'\"&AS$7&\"'!A:A\")))","v":{"$error":"#N/A"}},{"$error":"#N/A"},{"$error":"#N/A"},{"$error":"#N/A"},{"$error":"#N/A"}]
[null,null,null,"1970-12-01",{"$error":"#N/A"},{"$error":"#N/A"},{"$error":"#N/A"},{"$error":"#N/A"},{"$error":"#N/A"},{"$error":"#N/A"},{"$error":"#N/A"},{"$error":"#N/A"},{"$error":"#N/A"},{"$error":"#N/A"},{"$error":"#N/A"},{"$error":"#N/A"},{"$error":"#N/A"},{"$error":"#N/A"},{"$error":"#N/A"},{"$error":"#N/A"},{"$error":"#N/A"},{"$error":"#N/A"},1437,835,582,4.7,{"$error":"#N/A"},5.2,{"$error":"#N/A"},{"$error":"#N/A"},1.1000000000000001,{"$error":"#N/A"},{"$error":"#N/A"},{"$error":"#N/A"},39.799999999999997,23.181999999999999,70340,57767,65991,{"$error":"#N/A"},{"$error":"#N/A"},23.721,{"$error":"#N/A"},{"$error":"#N/A"},{"$error":"#N/A"},{"$error":"#N/A"},{"$error":"#N/A"},{"$error":"#N/A"},{"$error":"#N/A"}]
[null,null,null,"1971-01-01",{"$error":"#N/A"},{"$error":"#N/A"},{"$error":"#N/A"},{"$error":"#N/A"},{"$error":"#N/A"},{"$error":"#N/A"},{"$error":"#N/A"},{"$error":"#N/A"},{"$error":"#N/A"},{"$error":"#N/A"},{"$error":"#N/A"},{"$error":"#N/A"},{"$error":"#N/A"},{"$error":"#N/A"},{"$error":"#N/A"},{"$error":"#N/A"},{"$error":"#N/A"},{"$error":"#N/A"},1471,847,618,4.3,{"$error":"#N/A"},5.3,{"$error":"#N/A"},{"$error":"#N/A"},1,{"$error":"#N/A"},{"$error":"#N/A"},{"$error":"#N/A"},39.9,23.536000000000001,70414,57883,66099,{"$error":"#N/A"},{"$error":"#N/A"},24.021999999999998,{"$error":"#N/A"},{"$error":"#N/A"},{"$error":"#N/A"},{"$error":"#N/A"},{"$error":"#N/A"},{"$error":"#N/A"},{"$error":"#N/A"}]
[null,null,null,"1971-02-01",{"$error":"#N/A"},{"$error":"#N/A"},{"$error":"#N/A"},{"$error":"#N/A"},{"$error":"#N/A"},{"$error":"#N/A"},{"$error":"#N/A"},{"$error":"#N/A"},{"$error":"#N/A"},{"$error":"#N/A"},{"$error":"#N/A"},{"$error":"#N/A"},{"$error":"#N/A"},{"$error":"#N/A"},{"$error":"#N/A"},{"$error":"#N/A"},{"$error":"#N/A"},{"$error":"#N/A"},1448,868,618,4.4000000000000004,{"$error":"#N/A"},5.3,{"$error":"#N/A"},{"$error":"#N/A"},1,{"$error":"#N/A"},{"$error":"#N/A"},{"$error":"#N/A"},39.9,23.536000000000001,70472,57978,66190,{"$error":"#N/A"},{"$error":"#N/A"},24.021999999999998,{"$error":"#N/A"},{"$error":"#N/A"},{"$error":"#N/A"},{"$error":"#N/A"},{"$error":"#N/A"},{"$error":"#N/A"},{"$error":"#N/A"}]
[null,null,null,"1971-03-01",{"$error":"#N/A"},{"$error":"#N/A"},{"$error":"#N/A"},{"$error":"#N/A"},{"$error":"#N/A"},{"$error":"#N/A"},{"$error":"#N/A"},{"$error":"#N/A"},{"$error":"#N/A"},{"$error":"#N/A"},{"$error":"#N/A"},{"$error":"#N/A"},{"$error":"#N/A"},{"$error":"#N/A"},{"$error":"#N/A"},{"$error":"#N/A"},{"$error":"#N/A"},{"$error":"#N/A"},1489,903,681,4,{"$error":"#N/A"},5.3,{"$error":"#N/A"},{"$error":"#N/A"},1,{"$error":"#N/A"},{"$error":"#N/A"},{"$error":"#N/A"},40,23.536000000000001,70511,58074,66301,{"$error":"#N/A"},{"$error":"#N/A"},24.021999999999998,{"$error":"#N/A"},{"$error":"#N/A"},{"$error":"#N/A"},{"$error":"#N/A"},{"$error":"#N/A"},{"$error":"#N/A"},{"$error":"#N/A"}]
[null,null,null,"1971-04-01",{"$error":"#N/A"},{"$error":"#N/A"},{"$error":"#N/A"},{"$error":"#N/A"},{"$error":"#N/A"},{"$error":"#N/A"},{"$error":"#N/A"},{"$error":"#N/A"},{"$error":"#N/A"},{"$error":"#N/A"},{"$error":"#N/A"},{"$error":"#N/A"},{"$error":"#N/A"},{"$error":"#N/A"},{"$error":"#N/A"},{"$error":"#N/A"},{"$error":"#N/A"},{"$error":"#N/A"},1709,1028,662,4.2,{"$error":"#N/A"},5.3,{"$error":"#N/A"},{"$error":"#N/A"},0.9,{"$error":"#N/A"},{"$error":"#N/A"},{"$error":"#N/A"},40.1,23.846,70588,58204,66410,{"$error":"#N/A"},{"$error":"#N/A"},24.295999999999999,{"$error":"#N/A"},{"$error":"#N/A"},{"$error":"#N/A"},{"$error":"#N/A"},{"$error":"#N/A"},{"$error":"#N/A"},{"$error":"#N/A"}]
[null,null,null,"1971-05-01",{"$error":"#N/A"},{"$error":"#N/A"},{"$error":"#N/A"},{"$error":"#N/A"},{"$error":"#N/A"},{"$error":"#N/A"},{"$error":"#N/A"},{"$error":"#N/A"},{"$error":"#N/A"},{"$error":"#N/A"},{"$error":"#N/A"},{"$error":"#N/A"},{"$error":"#N/A"},{"$error":"#N/A"},{"$error":"#N/A"},{"$error":"#N/A"},{"$error":"#N/A"},{"$error":"#N/A"},1637,973,618,4.5999999999999996,{"$error":"#N/A"},5.3,{"$error":"#N/A"},{"$error":"#N/A"},0.9,{"$error":"#N/A"},{"$error":"#N/A"},{"$error":"#N/A"},40.299999999999997,23.846,70663,58317,66517,{"$error":"#N/A"},{"$error":"#N/A"},{"$f":"INDEX(INDIRECT(\"'\"&AP$7&\"'!B:B\"),MATCH($D192,INDIRECT(\"'\"&AP$7&\"'!A:A\")))","v":24.295999999999999},{"$error":"#N/A"},{"$error":"#N/A"},{"$error":"#N/A"},{"$error":"#N/A"},{"$error":"#N/A"},{"$error":"#N/A"},{"$error":"#N/A"}]
[null,null,null,"1971-06-01",{"$error":"#N/A"},{"$error":"#N/A"},{"$error":"#N/A"},{"$error":"#N/A"},{"$error":"#N/A"},{"$error":"#N/A"},{"$error":"#N/A"},{"$error":"#N/A"},{"$error":"#N/A"},{"$error":"#N/A"},{"$error":"#N/A"},{"$error":"#N/A"},{"$error":"#N/A"},{"$error":"#N/A"},{"$error":"#N/A"},{"$error":"#N/A"},{"$error":"#N/A"},{"$error":"#N/A"},1637,965,646,4.7,{"$error":"#N/A"},5.3,{"$error":"#N/A"},{"$error":"#N/A"},0.9,{"$error":"#N/A"},{"$error":"#N/A"},{"$error":"#N/A"},40.5,23.846,70721,58466,66623,{"$error":"#N/A"},{"$error":"#N/A"},24.295999999999999,{"$error":"#N/A"},{"$error":"#N/A"},{"$error":"#N/A"},{"$error":"#N/A"},{"$error":"#N/A"},{"$error":"#N/A"},{"$error":"#N/A"}]
[null,null,null,"1971-07-01",{"$error":"#N/A"},{"$error":"#N/A"},{"$error":"#N/A"},{"$error":"#N/A"},{"$error":"#N/A"},{"$error":"#N/A"},{"$error":"#N/A"},{"$error":"#N/A"},{"$error":"#N/A"},{"$error":"#N/A"},{"$error":"#N/A"},{"$error":"#N/A"},{"$error":"#N/A"},{"$error":"#N/A"},{"$error":"#N/A"},{"$error":"#N/A"},{"$error":"#N/A"},{"$error":"#N/A"},1699,1034,706,4.0999999999999996,{"$error":"#N/A"},5.6,{"$error":"#N/A"},{"$error":"#N/A"},1,{"$error":"#N/A"},{"$error":"#N/A"},{"$error":"#N/A"},40.6,24.088000000000001,70789,58572,66731,{"$error":"#N/A"},{"$error":"#N/A"},24.524999999999999,{"$error":"#N/A"},{"$error":"#N/A"},{"$error":"#N/A"},{"$error":"#N/A"},{"$error":"#N/A"},{"$error":"#N/A"},{"$error":"#N/A"}]
[null,null,null,"1971-08-01",{"$error":"#N/A"},{"$error":"#N/A"},{"$error":"#N/A"},{"$error":"#N/A"},{"$error":"#N/A"},{"$error":"#N/A"},{"$error":"#N/A"},{"$error":"#N/A"},{"$error":"#N/A"},{"$error":"#N/A"},{"$error":"#N/A"},{"$error":"#N/A"},{"$error":"#N/A"},{"$error":"#N/A"},{"$error":"#N/A"},{"$error":"#N/A"},{"$error":"#N/A"},{"$error":"#N/A"},1896,1041,659,4.7,{"$error":"#N/A"},5.6,{"$error":"#N/A"},{"$error":"#N/A"},1,{"$error":"#N/A"},{"$error":"#N/A"},{"$error":"#N/A"},40.700000000000003,24.088000000000001,70938,58686,66835,{"$error":"#N/A"},{"$error":"#N/A"},24.524999999999999,{"$error":"#N/A"},{"$error":"#N/A"},{"$error":"#N/A"},{"$error":"#N/A"},{"$error":"#N/A"},{"$error":"#N/A"},{"$error":"#N/A"}]
[null,null,null,"1971-09-01",{"$error":"#N/A"},{"$error":"#N/A"},{"$error":"#N/A"},{"$error":"#N/A"},{"$error":"#N/A"},{"$error":"#N/A"},{"$error":"#N/A"},{"$error":"#N/A"},{"$error":"#N/A"},{"$error":"#N/A"},{"$error":"#N/A"},{"$error":"#N/A"},{"$error":"#N/A"},{"$error":"#N/A"},{"$error":"#N/A"},{"$error":"#N/A"},{"$error":"#N/A"},{"$error":"#N/A"},1804,1078,625,5.2,{"$error":"#N/A"},5.6,{"$error":"#N/A"},{"$error":"#N/A"},1,{"$error":"#N/A"},{"$error":"#N/A"},{"$error":"#N/A"},40.799999999999997,24.088000000000001,71087,58807,66952,{"$error":"#N/A"},{"$error":"#N/A"},24.524999999999999,{"$error":"#N/A"},{"$error":"#N/A"},{"$error":"#N/A"},{"$error":"#N/A"},{"$error":"#N/A"},{"$error":"#N/A"},{"$error":"#N/A"}]
[null,null,null,"1971-10-01",{"$error":"#N/A"},{"$error":"#N/A"},{"$error":"#N/A"},{"$error":"#N/A"},{"$error":"#N/A"},{"$error":"#N/A"},{"$error":"#N/A"},{"$error":"#N/A"},{"$error":"#N/A"},{"$error":"#N/A"},{"$error":"#N/A"},{"$error":"#N/A"},{"$error":"#N/A"},{"$error":"#N/A"},{"$error":"#N/A"},{"$error":"#N/A"},{"$error":"#N/A"},{"$error":"#N/A"},1815,1092,647,5,{"$error":"#N/A"},5.6,{"$error":"#N/A"},{"$error":"#N/A"},1,{"$error":"#N/A"},{"$error":"#N/A"},{"$error":"#N/A"},40.9,24.288,71238,58932,67068,{"$error":"#N/A"},{"$error":"#N/A"},24.666,{"$error":"#N/A"},{"$error":"#N/A"},{"$error":"#N/A"},{"$error":"#N/A"},{"$error":"#N/A"},{"$error":"#N/A"},{"$error":"#N/A"}]
[null,null,null,"1971-11-01",{"$error":"#N/A"},{"$error":"#N/A"},{"$error":"#N/A"},{"$error":"#N/A"},{"$error":"#N/A"},{"$error":"#N/A"},{"$error":"#N/A"},{"$error":"#N/A"},{"$error":"#N/A"},{"$error":"#N/A"},{"$error":"#N/A"},{"$error":"#N/A"},{"$error":"#N/A"},{"$error":"#N/A"},{"$error":"#N/A"},{"$error":"#N/A"},{"$error":"#N/A"},{"$error":"#N/A"},1844,1114,710,4.9000000000000004,{"$error":"#N/A"},5.6,{"$error":"#N/A"},{"$error":"#N/A"},1,{"$error":"#N/A"},{"$error":"#N/A"},{"$error":"#N/A"},41,24.288,71362,59044,{"$f":"INDEX(INDIRECT(\"'\"&AM$7&\"'!B:B\"),MATCH($D198,INDIRECT(\"'\"&AM$7&\"'!A:A\")))","v":67173},{"$error":"#N/A"},{"$error":"#N/A"},24.666,{"$error":"#N/A"},{"$error":"#N/A"},{"$error":"#N/A"},{"$error":"#N/A"},{"$error":"#N/A"},{"$error":"#N/A"},{"$error":"#N/A"}]
[null,null,null,"1971-12-01",{"$error":"#N/A"},{"$error":"#N/A"},{"$error":"#N/A"},{"$error":"#N/A"},{"$error":"#N/A"},{"$error":"#N/A"},{"$error":"#N/A"},{"$error":"#N/A"},{"$error":"#N/A"},{"$error":"#N/A"},{"$error":"#N/A"},{"$error":"#N/A"},{"$error":"#N/A"},{"$error":"#N/A"},{"$error":"#N/A"},{"$error":"#N/A"},{"$error":"#N/A"},{"$error":"#N/A"},1895,1144,689,5.0999999999999996,{"$error":"#N/A"},5.6,{"$error":"#N/A"},{"$error":"#N/A"},1,{"$error":"#N/A"},{"$error":"#N/A"},{"$error":"#N/A"},41.1,24.288,71514,59169,67284,{"$error":"#N/A"},{"$error":"#N/A"},24.666,{"$error":"#N/A"},{"$error":"#N/A"},{"$error":"#N/A"},{"$error":"#N/A"},{"$error":"#N/A"},{"$error":"#N/A"},{"$error":"#N/A"}]
[null,null,null,"1972-01-01",{"$error":"#N/A"},{"$error":"#N/A"},{"$error":"#N/A"},{"$error":"#N/A"},{"$error":"#N/A"},{"$error":"#N/A"},{"$error":"#N/A"},{"$error":"#N/A"},{"$error":"#N/A"},{"$error":"#N/A"},{"$error":"#N/A"},{"$error":"#N/A"},{"$error":"#N/A"},{"$error":"#N/A"},{"$error":"#N/A"},{"$error":"#N/A"},{"$error":"#N/A"},{"$error":"#N/A"},1942,1133,698,5.2,{"$error":"#N/A"},5.3,{"$error":"#N/A"},{"$error":"#N/A"},1,{"$error":"#N/A"},{"$error":"#N/A"},{"$error":"#N/A"},41.2,24.664000000000001,71723,59473,67895,{"$error":"#N/A"},{"$error":"#N/A"},24.902999999999999,{"$error":"#N/A"},{"$error":"#N/A"},{"$error":"#N/A"},{"$error":"#N/A"},{"$error":"#N/A"},{"$error":"#N/A"},{"$error":"#N/A"}]
[null,null,null,"1972-02-01",{"$f":"INDEX(INDIRECT(\"'\"&E$7&\"'!B:B\"),MATCH($D201,INDIRECT(\"'\"&E$7&\"'!A:A\")))","v":{"$error":"#N/A"}},{"$error":"#N/A"},{"$error":"#N/A"},{"$error":"#N/A"},{"$error":"#N/A"},{"$error":"#N/A"},{"$error":"#N/A"},{"$error":"#N/A"},{"$error":"#N/A"},{"$error":"#N/A"},{"$error":"#N/A"},{"$error":"#N/A"},{"$error":"#N/A"},{"$error":"#N/A"},{"$error":"#N/A"},{"$error":"#N/A"},{"$error":"#N/A"},{"$error":"#N/A"},2061,1122,711,5.4,{"$error":"#N/A"},5.3,{"$error":"#N/A"},{"$error":"#N/A"},1,{"$error":"#N/A"},{"$error":"#N/A"},{"$error":"#N/A"},41.4,24.664000000000001,71878,59607,68003,{"$error":"#N/A"},{"$error":"#N/A"},24.902999999999999,{"$error":"#N/A"},{"$error":"#N/A"},{"$error":"#N/A"},{"$error":"#N/A"},{"$error":"#N/A"},{"$error":"#N/A"},{"$error":"#N/A"}]
[null,null,null,{"$f":"EOMONTH(D201,$E$1)+1","v":"1972-03-01"},{"$error":"#N/A"},{"$error":"#N/A"},{"$error":"#N/A"},{"$error":"#N/A"},{"$error":"#N/A"},{"$error":"#N/A"},{"$error":"#N/A"},{"$error":"#N/A"},{"$error":"#N/A"},{"$error":"#N/A"},{"$error":"#N/A"},{"$error":"#N/A"},{"$error":"#N/A"},{"$error":"#N/A"},{"$error":"#N/A"},{"$error":"#N/A"},{"$error":"#N/A"},{"$error":"#N/A"},1981,1154,640,6.1,{"$error":"#N/A"},5.3,{"$error":"#N/A"},{"$error":"#N/A"},1,{"$error":"#N/A"},{"$error":"#N/A"},{"$error":"#N/A"},41.4,24.664000000000001,71997,59748,68102,{"$error":"#N/A"},{"$error":"#N/A"},24.902999999999999,{"$error":"#N/A"},{"$error":"#N/A"},{"$error":"#N/A"},{"$error":"#N/A"},{"$error":"#N/A"},{"$error":"#N/A"},{"$error":"#N/A"}]
[null,null,null,"1972-04-01",{"$error":"#N/A"},{"$error":"#N/A"},{"$error":"#N/A"},{"$error":"#N/A"},{"$error":"#N/A"},{"$error":"#N/A"},{"$error":"#N/A"},{"$error":"#N/A"},{"$error":"#N/A"},{"$error":"#N/A"},{"$error":"#N/A"},{"$error":"#N/A"},{"$error":"#N/A"},{"$error":"#N/A"},{"$error":"#N/A"},{"$error":"#N/A"},{"$error":"#N/A"},{"$error":"#N/A"},1970,1188,684,5.8,{"$error":"#N/A"},5.5,{"$error":"#N/A"},{"$error":"#N/A"},1,{"$error":"#N/A"},{"$error":"#N/A"},{"$error":"#N/A"},41.5,24.815000000000001,72138,59848,68188,{"$error":"#N/A"},{"$error":"#N/A"},25.073,{"$error":"#N/A"},{"$error":"#N/A"},{"$error":"#N/A"},{"$error":"#N/A"},{"$error":"#N/A"},{"$error":"#N/A"},{"$error":"#N/A"}]
[null,null,null,"1972-05-01",{"$error":"#N/A"},{"$error":"#N/A"},{"$error":"#N/A"},{"$error":"#N/A"},{"$error":"#N/A"},{"$error":"#N/A"},{"$error":"#N/A"},{"$error":"#N/A"},{"$error":"#N/A"},{"$error":"#N/A"},{"$error":"#N/A"},{"$error":"#N/A"},{"$error":"#N/A"},{"$error":"#N/A"},{"$error":"#N/A"},{"$error":"#N/A"},{"$error":"#N/A"},{"$error":"#N/A"},1896,1131,677,6.1,{"$error":"#N/A"},5.5,{"$error":"#N/A"},{"$error":"#N/A"},1,{"$error":"#N/A"},{"$error":"#N/A"},{"$error":"#N/A"},41.6,24.815000000000001,72293,59979,68300,{"$error":"#N/A"},{"$error":"#N/A"},25.073,{"$error":"#N/A"},{"$error":"#N/A"},{"$error":"#N/A"},{"$error":"#N/A"},{"$error":"#N/A"},{"$error":"#N/A"},{"$error":"#N/A"}]
[null,null,null,"1972-06-01",{"$error":"#N/A"},{"$error":"#N/A"},{"$f":"INDEX(INDIRECT(\"'\"&G$7&\"'!B:B\"),MATCH($D205,INDIRECT(\"'\"&G$7&\"'!A:A\")))","v":{"$error":"#N/A"}},{"$error":"#N/A"},{"$error":"#N/A"},{"$error":"#N/A"},{"$error":"#N/A"},{"$error":"#N/A"},{"$error":"#N/A"},{"$error":"#N/A"},{"$error":"#N/A"},{"$error":"#N/A"},{"$error":"#N/A"},{"$error":"#N/A"},{"$error":"#N/A"},{"$error":"#N/A"},{"$error":"#N/A"},{"$error":"#N/A"},1936,1145,687,6.3,{"$error":"#N/A"},5.5,{"$error":"#N/A"},{"$error":"#N/A"},1,{"$error":"#N/A"},{"$error":"#N/A"},{"$error":"#N/A"},41.7,24.815000000000001,72393,60117,68416,{"$error":"#N/A"},{"$error":"#N/A"},25.073,{"$error":"#N/A"},{"$error":"#N/A"},{"$error":"#N/A"},{"$error":"#N/A"},{"$error":"#N/A"},{"$error":"#N/A"},{"$error":"#N/A"}]
[null,null,null,"1972-07-01",{"$error":"#N/A"},{"$error":"#N/A"},{"$error":"#N/A"},{"$error":"#N/A"},{"$error":"#N/A"},{"$error":"#N/A"},{"$error":"#N/A"},{"$error":"#N/A"},{"$error":"#N/A"},{"$error":"#N/A"},{"$error":"#N/A"},{"$error":"#N/A"},{"$error":"#N/A"},{"$error":"#N/A"},{"$error":"#N/A"},{"$error":"#N/A"},{"$error":"#N/A"},{"$error":"#N/A"},1930,1121,681,6.3,{"$error":"#N/A"},5.8,{"$error":"#N/A"},{"$error":"#N/A"},0.9,{"$error":"#N/A"},{"$error":"#N/A"},{"$error":"#N/A"},41.8,25.047999999999998,72538,60223,68534,{"$error":"#N/A"},{"$error":"#N/A"},25.262,{"$error":"#N/A"},{"$error":"#N/A"},{"$error":"#N/A"},{"$error":"#N/A"},{"$error":"#N/A"},{"$error":"#N/A"},{"$error":"#N/A"}]
[null,null,null,"1972-08-01",{"$error":"#N/A"},{"$error":"#N/A"},{"$error":"#N/A"},{"$error":"#N/A"},{"$error":"#N/A"},{"$error":"#N/A"},{"$error":"#N/A"},{"$error":"#N/A"},{"$error":"#N/A"},{"$error":"#N/A"},{"$error":"#N/A"},{"$error":"#N/A"},{"$error":"#N/A"},{"$error":"#N/A"},{"$error":"#N/A"},{"$error":"#N/A"},{"$error":"#N/A"},{"$error":"#N/A"},2102,1248,773,6,{"$error":"#N/A"},5.8,{"$error":"#N/A"},{"$error":"#N/A"},0.9,{"$error":"#N/A"},{"$error":"#N/A"},{"$error":"#N/A"},41.9,25.047999999999998,72648,60314,68650,{"$error":"#N/A"},{"$error":"#N/A"},25.262,{"$error":"#N/A"},{"$error":"#N/A"},{"$error":"#N/A"},{"$error":"#N/A"},{"$error":"#N/A"},{"$error":"#N/A"},{"$error":"#N/A"}]
[null,null,null,"1972-09-01",{"$error":"#N/A"},{"$error":"#N/A"},{"$error":"#N/A"},{"$error":"#N/A"},{"$error":"#N/A"},{"$error":"#N/A"},{"$error":"#N/A"},{"$error":"#N/A"},{"$error":"#N/A"},{"$error":"#N/A"},{"$error":"#N/A"},{"$error":"#N/A"},{"$error":"#N/A"},{"$error":"#N/A"},{"$error":"#N/A"},{"$error":"#N/A"},{"$error":"#N/A"},{"$error":"#N/A"},2053,1112,767,6.2,{"$error":"#N/A"},5.8,{"$error":"#N/A"},{"$error":"#N/A"},0.9,{"$error":"#N/A"},{"$error":"#N/A"},{"$error":"#N/A"},42.1,25.047999999999998,72761,60408,68765,{"$error":"#N/A"},{"$error":"#N/A"},25.262,{"$error":"#N/A"},{"$error":"#N/A"},{"$error":"#N/A"},{"$error":"#N/A"},{"$error":"#N/A"},{"$error":"#N/A"},{"$error":"#N/A"}]
[null,null,null,"1972-10-01",{"$error":"#N/A"},{"$error":"#N/A"},{"$error":"#N/A"},{"$error":"#N/A"},{"$error":"#N/A"},{"$error":"#N/A"},{"$error":"#N/A"},{"$error":"#N/A"},{"$error":"#N/A"},{"$error":"#N/A"},{"$error":"#N/A"},{"$error":"#N/A"},{"$error":"#N/A"},{"$error":"#N/A"},{"$error":"#N/A"},{"$error":"#N/A"},{"$error":"#N/A"},{"$error":"#N/A"},1995,1182,843,5.7,{"$error":"#N/A"},5.6,{"$error":"#N/A"},{"$error":"#N/A"},1,{"$error":"#N/A"},{"$error":"#N/A"},{"$error":"#N/A"},42.2,25.366,72854,60512,68875,{"$error":"#N/A"},{"$error":"#N/A"},25.420999999999999,{"$error":"#N/A"},{"$error":"#N/A"},{"$error":"#N/A"},{"$error":"#N/A"},{"$error":"#N/A"},{"$error":"#N/A"},{"$error":"#N/A"}]
[null,null,null,"1972-11-01",{"$error":"#N/A"},{"$error":"#N/A"},{"$error":"#N/A"},{"$error":"#N/A"},{"$error":"#N/A"},{"$error":"#N/A"},{"$error":"#N/A"},{"$error":"#N/A"},{"$error":"#N/A"},{"$error":"#N/A"},{"$error":"#N/A"},{"$error":"#N/A"},{"$error":"#N/A"},{"$error":"#N/A"},{"$error":"#N/A"},{"$error":"#N/A"},{"$error":"#N/A"},{"$error":"#N/A"},1985,1150,735,6.8,{"$error":"#N/A"},5.6,{"$error":"#N/A"},{"$error":"#N/A"},1,{"$error":"#N/A"},{"$error":"#N/A"},{"$error":"#N/A"},42.4,25.366,72959,60594,68988,{"$error":"#N/A"},{"$error":"#N/A"},25.420999999999999,{"$error":"#N/A"},{"$error":"#N/A"},{"$error":"#N/A"},{"$error":"#N/A"},{"$f":"INDEX(INDIRECT(\"'\"&AU$7&\"'!B:B\"),MATCH($D210,INDIRECT(\"'\"&AU$7&\"'!A:A\")))","v":{"$error":"#N/A"}},{"$error":"#N/A"},{"$error":"#N/A"}]
[null,null,null,"1972-12-01",{"$error":"#N/A"},{"$error":"#N/A"},{"$error":"#N/A"},{"$error":"#N/A"},{"$error":"#N/A"},{"$error":"#N/A"},{"$error":"#N/A"},{"$error":"#N/A"},{"$error":"#N/A"},{"$error":"#N/A"},{"$error":"#N/A"},{"$error":"#N/A"},{"$error":"#N/A"},{"$error":"#N/A"},{"$error":"#N/A"},{"$error":"#N/A"},{"$error":"#N/A"},{"$error":"#N/A"},2121,1207,772,6.5,{"$error":"#N/A"},5.6,{"$error":"#N/A"},{"$error":"#N/A"},1,{"$error":"#N/A"},{"$error":"#N/A"},{"$error":"#N/A"},42.5,25.366,73092,60726,69102,{"$error":"#N/A"},{"$error":"#N/A"},25.420999999999999,{"$error":"#N/A"},{"$error":"#N/A"},{"$error":"#N/A"},{"$error":"#N/A"},{"$error":"#N/A"},{"$error":"#N/A"},{"$error":"#N/A"}]
[null,null,null,"1973-01-01",{"$error":"#N/A"},{"$error":"#N/A"},{"$error":"#N/A"},{"$error":"#N/A"},{"$error":"#N/A"},{"$error":"#N/A"},{"$error":"#N/A"},{"$error":"#N/A"},{"$error":"#N/A"},{"$error":"#N/A"},{"$error":"#N/A"},{"$error":"#N/A"},{"$error":"#N/A"},{"$error":"#N/A"},{"$error":"#N/A"},{"$error":"#N/A"},{"$error":"#N/A"},{"$error":"#N/A"},2162,1294,781,6.5,{"$error":"#N/A"},5.7,{"$error":"#N/A"},{"$error":"#N/A"},1,{"$error":"#N/A"},{"$error":"#N/A"},{"$error":"#N/A"},42.7,25.661000000000001,73216,60849,69213,{"$error":"#N/A"},{"$error":"#N/A"},25.599,{"$error":"#N/A"},{"$error":"#N/A"},{"$error":"#N/A"},{"$error":"#N/A"},{"$error":"#N/A"},{"$error":"#N/A"},{"$error":"#N/A"}]
[null,null,null,"1973-02-01",{"$error":"#N/A"},{"$error":"#N/A"},{"$error":"#N/A"},{"$error":"#N/A"},{"$error":"#N/A"},{"$error":"#N/A"},{"$error":"#N/A"},{"$error":"#N/A"},{"$error":"#N/A"},{"$error":"#N/A"},{"$error":"#N/A"},{"$error":"#N/A"},{"$error":"#N/A"},{"$error":"#N/A"},{"$error":"#N/A"},{"$error":"#N/A"},{"$error":"#N/A"},{"$error":"#N/A"},2124,1290,737,6.8,{"$error":"#N/A"},5.7,{"$error":"#N/A"},{"$error":"#N/A"},1,{"$error":"#N/A"},{"$error":"#N/A"},{"$error":"#N/A"},43,25.661000000000001,73330,60938,69314,{"$error":"#N/A"},{"$error":"#N/A"},25.599,{"$error":"#N/A"},{"$error":"#N/A"},{"$error":"#N/A"},{"$error":"#N/A"},{"$error":"#N/A"},{"$error":"#N/A"},{"$error":"#N/A"}]
[null,null,null,"1973-03-01",{"$error":"#N/A"},{"$error":"#N/A"},{"$error":"#N/A"},{"$error":"#N/A"},{"$error":"#N/A"},{"$error":"#N/A"},{"$error":"#N/A"},{"$error":"#N/A"},{"$error":"#N/A"},{"$error":"#N/A"},{"$error":"#N/A"},{"$error":"#N/A"},{"$error":"#N/A"},{"$error":"#N/A"},{"$error":"#N/A"},{"$error":"#N/A"},{"$error":"#N/A"},{"$error":"#N/A"},2196,1305,725,7,{"$error":"#N/A"},5.7,{"$error":"#N/A"},{"$error":"#N/A"},1,{"$error":"#N/A"},{"$error":"#N/A"},{"$error":"#N/A"},43.4,25.661000000000001,73492,61061,69423,{"$error":"#N/A"},{"$error":"#N/A"},25.599,{"$error":"#N/A"},{"$error":"#N/A"},{"$error":"#N/A"},{"$error":"#N/A"},{"$error":"#N/A"},{"$error":"#N/A"},{"$error":"#N/A"}]
[null,null,null,"1973-04-01",{"$error":"#N/A"},{"$error":"#N/A"},{"$error":"#N/A"},{"$error":"#N/A"},{"$error":"#N/A"},{"$error":"#N/A"},{"$error":"#N/A"},{"$error":"#N/A"},{"$error":"#N/A"},{"$error":"#N/A"},{"$error":"#N/A"},{"$error":"#N/A"},{"$error":"#N/A"},{"$error":"#N/A"},{"$error":"#N/A"},{"$error":"#N/A"},{"$error":"#N/A"},{"$error":"#N/A"},2195,1282,661,7.7,{"$error":"#N/A"},5.8,{"$error":"#N/A"},{"$error":"#N/A"},0.9,{"$error":"#N/A"},{"$error":"#N/A"},{"$error":"#N/A"},43.7,26.052,73605,61155,69527,{"$error":"#N/A"},{"$error":"#N/A"},25.949000000000002,{"$error":"#N/A"},{"$error":"#N/A"},{"$error":"#N/A"},{"$error":"#N/A"},{"$error":"#N/A"},{"$error":"#N/A"},{"$error":"#N/A"}]
[null,null,null,"1973-05-01",{"$error":"#N/A"},{"$error":"#N/A"},{"$error":"#N/A"},{"$error":"#N/A"},{"$error":"#N/A"},{"$error":"#N/A"},{"$error":"#N/A"},{"$error":"#N/A"},{"$error":"#N/A"},{"$error":"#N/A"},{"$error":"#N/A"},{"$error":"#N/A"},{"$error":"#N/A"},{"$error":"#N/A"},{"$error":"#N/A"},{"$error":"#N/A"},{"$error":"#N/A"},{"$error":"#N/A"},2299,1299,660,7.5,{"$error":"#N/A"},5.8,{"$error":"#N/A"},{"$error":"#N/A"},0.9,{"$error":"#N/A"},{"$error":"#N/A"},{"$error":"#N/A"},43.9,26.052,73730,61267,69643,{"$error":"#N/A"},{"$error":"#N/A"},25.949000000000002,{"$error":"#N/A"},{"$f":"INDEX(INDIRECT(\"'\"&AR$7&\"'!B:B\"),MATCH($D216,INDIRECT(\"'\"&AR$7&\"'!A:A\")))","v":{"$error":"#N/A"}},{"$error":"#N/A"},{"$error":"#N/A"},{"$error":"#N/A"},{"$error":"#N/A"},{"$error":"#N/A"}]
[null,null,null,"1973-06-01",{"$error":"#N/A"},{"$error":"#N/A"},{"$error":"#N/A"},{"$error":"#N/A"},{"$error":"#N/A"},{"$error":"#N/A"},{"$error":"#N/A"},{"$error":"#N/A"},{"$error":"#N/A"},{"$error":"#N/A"},{"$error":"#N/A"},{"$error":"#N/A"},{"$error":"#N/A"},{"$error":"#N/A"},{"$error":"#N/A"},{"$error":"#N/A"},{"$error":"#N/A"},{"$error":"#N/A"},2258,1269,650,7.8,{"$error":"#N/A"},5.8,{"$error":"#N/A"},{"$error":"#N/A"},0.9,{"$error":"#N/A"},{"$error":"#N/A"},{"$error":"#N/A"},44.2,26.052,73836,61386,69754,{"$error":"#N/A"},{"$error":"#N/A"},25.949000000000002,{"$error":"#N/A"},{"$error":"#N/A"},{"$error":"#N/A"},{"$error":"#N/A"},{"$error":"#N/A"},{"$error":"#N/A"},{"$error":"#N/A"}]
[null,null,null,"1973-07-01",{"$error":"#N/A"},{"$error":"#N/A"},{"$error":"#N/A"},{"$error":"#N/A"},{"$error":"#N/A"},{"$error":"#N/A"},{"$error":"#N/A"},{"$error":"#N/A"},{"$error":"#N/A"},{"$error":"#N/A"},{"$error":"#N/A"},{"$error":"#N/A"},{"$error":"#N/A"},{"$error":"#N/A"},{"$error":"#N/A"},{"$error":"#N/A"},{"$error":"#N/A"},{"$error":"#N/A"},2066,1081,601,8.6999999999999993,{"$error":"#N/A"},5.8,{"$error":"#N/A"},{"$error":"#N/A"},1.1000000000000001,{"$error":"#N/A"},{"$error":"#N/A"},{"$error":"#N/A"},44.2,26.548999999999999,73958,61490,69873,{"$error":"#N/A"},{"$error":"#N/A"},26.294,{"$error":"#N/A"},{"$error":"#N/A"},{"$error":"#N/A"},{"$error":"#N/A"},{"$error":"#N/A"},{"$error":"#N/A"},{"$error":"#N/A"}]
[null,null,null,"1973-08-01",{"$error":"#N/A"},{"$error":"#N/A"},{"$error":"#N/A"},{"$error":"#N/A"},{"$error":"#N/A"},{"$error":"#N/A"},{"$error":"#N/A"},{"$error":"#N/A"},{"$error":"#N/A"},{"$error":"#N/A"},{"$error":"#N/A"},{"$error":"#N/A"},{"$error":"#N/A"},{"$error":"#N/A"},{"$error":"#N/A"},{"$error":"#N/A"},{"$error":"#N/A"},{"$error":"#N/A"},2056,1149,566,9.4,{"$error":"#N/A"},5.8,{"$error":"#N/A"},{"$error":"#N/A"},1.1000000000000001,{"$error":"#N/A"},{"$error":"#N/A"},{"$error":"#N/A"},45,26.548999999999999,74071,61592,69988,{"$error":"#N/A"},{"$error":"#N/A"},26.294,{"$error":"#N/A"},{"$error":"#N/A"},{"$error":"#N/A"},{"$error":"#N/A"},{"$error":"#N/A"},{"$error":"#N/A"},{"$error":"#N/A"}]
[null,null,null,"1973-09-01",{"$error":"#N/A"},{"$error":"#N/A"},{"$error":"#N/A"},{"$error":"#N/A"},{"$error":"#N/A"},{"$error":"#N/A"},{"$error":"#N/A"},{"$error":"#N/A"},{"$error":"#N/A"},{"$error":"#N/A"},{"$error":"#N/A"},{"$error":"#N/A"},{"$error":"#N/A"},{"$error":"#N/A"},{"$error":"#N/A"},{"$error":"#N/A"},{"$error":"#N/A"},{"$error":"#N/A"},2061,1171,561,9.5,{"$error":"#N/A"},5.8,{"$error":"#N/A"},{"$error":"#N/A"},1.1000000000000001,{"$error":"#N/A"},{"$error":"#N/A"},{"$error":"#N/A"},45.2,26.548999999999999,74184,61705,70104,{"$error":"#N/A"},{"$error":"#N/A"},26.294,{"$error":"#N/A"},{"$error":"#N/A"},{"$error":"#N/A"},{"$error":"#N/A"},{"$error":"#N/A"},{"$error":"#N/A"},{"$error":"#N/A"}]
[null,null,null,"1973-10-01",{"$error":"#N/A"},{"$error":"#N/A"},{"$error":"#N/A"},{"$error":"#N/A"},{"$error":"#N/A"},{"$error":"#N/A"},{"$error":"#N/A"},{"$error":"#N/A"},{"$error":"#N/A"},{"$error":"#N/A"},{"$error":"#N/A"},{"$error":"#N/A"},{"$error":"#N/A"},{"$error":"#N/A"},{"$error":"#N/A"},{"$error":"#N/A"},{"$error":"#N/A"},{"$error":"#N/A"},2052,1129,565,9.4,{"$error":"#N/A"},5.8,{"$error":"#N/A"},{"$error":"#N/A"},1.2,{"$error":"#N/A"},{"$error":"#N/A"},{"$error":"#N/A"},45.6,27.077000000000002,74297,61810,70223,{"$error":"#N/A"},{"$error":"#N/A"},26.661000000000001,{"$error":"#N/A"},{"$error":"#N/A"},{"$error":"#N/A"},{"$error":"#N/A"},{"$error":"#N/A"},{"$error":"#N/A"},{"$error":"#N/A"}]
[null,null,null,"1973-11-01",{"$error":"#N/A"},{"$error":"#N/A"},{"$error":"#N/A"},{"$error":"#N/A"},{"$error":"#N/A"},{"$error":"#N/A"},{"$error":"#N/A"},{"$error":"#N/A"},{"$error":"#N/A"},{"$error":"#N/A"},{"$error":"#N/A"},{"$error":"#N/A"},{"$error":"#N/A"},{"$error":"#N/A"},{"$error":"#N/A"},{"$error":"#N/A"},{"$error":"#N/A"},{"$error":"#N/A"},1925,1105,547,9.6,{"$error":"#N/A"},5.8,{"$error":"#N/A"},{"$error":"#N/A"},1.2,{"$error":"#N/A"},{"$error":"#N/A"},{"$error":"#N/A"},45.9,27.077000000000002,74410,61911,70337,{"$error":"#N/A"},{"$f":"INDEX(INDIRECT(\"'\"&AO$7&\"'!B:B\"),MATCH($D222,INDIRECT(\"'\"&AO$7&\"'!A:A\")))","v":{"$error":"#N/A"}},26.661000000000001,{"$error":"#N/A"},{"$error":"#N/A"},{"$error":"#N/A"},{"$error":"#N/A"},{"$error":"#N/A"},{"$error":"#N/A"},{"$error":"#N/A"}]
[null,null,null,"1973-12-01",{"$error":"#N/A"},{"$error":"#N/A"},{"$error":"#N/A"},{"$error":"#N/A"},{"$error":"#N/A"},{"$error":"#N/A"},{"$error":"#N/A"},{"$error":"#N/A"},{"$error":"#N/A"},{"$error":"#N/A"},{"$error":"#N/A"},{"$error":"#N/A"},{"$error":"#N/A"},{"$error":"#N/A"},{"$error":"#N/A"},{"$error":"#N/A"},{"$error":"#N/A"},{"$error":"#N/A"},1869,1062,519,10.1,{"$error":"#N/A"},5.8,{"$error":"#N/A"},{"$error":"#N/A"},1.2,{"$error":"#N/A"},{"$error":"#N/A"},{"$error":"#N/A"},46.3,27.077000000000002,74582,62072,70432,{"$error":"#N/A"},{"$error":"#N/A"},26.661000000000001,{"$error":"#N/A"},{"$error":"#N/A"},{"$error":"#N/A"},{"$error":"#N/A"},{"$error":"#N/A"},{"$error":"#N/A"},{"$error":"#N/A"}]
[null,null,null,"1974-01-01",{"$error":"#N/A"},{"$error":"#N/A"},{"$error":"#N/A"},{"$error":"#N/A"},{"$error":"#N/A"},{"$error":"#N/A"},{"$error":"#N/A"},{"$error":"#N/A"},{"$error":"#N/A"},{"$error":"#N/A"},{"$error":"#N/A"},{"$error":"#N/A"},{"$error":"#N/A"},{"$error":"#N/A"},{"$error":"#N/A"},{"$error":"#N/A"},{"$error":"#N/A"},{"$error":"#N/A"},1932,1025,523,9.6999999999999993,{"$error":"#N/A"},6.2,{"$error":"#N/A"},{"$error":"#N/A"},1.2,{"$error":"#N/A"},{"$error":"#N/A"},{"$error":"#N/A"},46.8,27.591999999999999,74878,62201,70506,{"$error":"#N/A"},{"$error":"#N/A"},27.117999999999999,{"$error":"#N/A"},{"$error":"#N/A"},{"$error":"#N/A"},{"$error":"#N/A"},{"$error":"#N/A"},{"$error":"#N/A"},{"$error":"#N/A"}]
[null,null,null,"1974-02-01",{"$error":"#N/A"},{"$error":"#N/A"},{"$error":"#N/A"},{"$error":"#N/A"},{"$error":"#N/A"},{"$error":"#N/A"},{"$error":"#N/A"},{"$error":"#N/A"},{"$error":"#N/A"},{"$error":"#N/A"},{"$error":"#N/A"},{"$error":"#N/A"},{"$error":"#N/A"},{"$error":"#N/A"},{"$error":"#N/A"},{"$error":"#N/A"},{"$error":"#N/A"},{"$error":"#N/A"},1938,1027,539,9.6,{"$error":"#N/A"},6.2,{"$error":"#N/A"},{"$error":"#N/A"},1.2,{"$error":"#N/A"},{"$error":"#N/A"},{"$error":"#N/A"},47.3,27.591999999999999,74987,62293,70615,{"$error":"#N/A"},{"$error":"#N/A"},27.117999999999999,{"$error":"#N/A"},{"$error":"#N/A"},{"$error":"#N/A"},{"$error":"#N/A"},{"$error":"#N/A"},{"$error":"#N/A"},{"$error":"#N/A"}]
[null,null,null,"1974-03-01",{"$error":"#N/A"},{"$error":"#N/A"},{"$error":"#N/A"},{"$error":"#N/A"},{"$error":"#N/A"},{"$error":"#N/A"},{"$error":"#N/A"},{"$error":"#N/A"},{"$error":"#N/A"},{"$error":"#N/A"},{"$error":"#N/A"},{"$error":"#N/A"},{"$error":"#N/A"},{"$error":"#N/A"},{"$error":"#N/A"},{"$error":"#N/A"},{"$error":"#N/A"},{"$error":"#N/A"},1806,973,572,8.8000000000000007,{"$error":"#N/A"},6.2,{"$error":"#N/A"},{"$error":"#N/A"},1.2,{"$error":"#N/A"},{"$error":"#N/A"},{"$error":"#N/A"},47.8,27.591999999999999,75085,62396,70726,{"$error":"#N/A"},{"$error":"#N/A"},27.117999999999999,{"$error":"#N/A"},{"$error":"#N/A"},{"$error":"#N/A"},{"$error":"#N/A"},{"$error":"#N/A"},{"$error":"#N/A"},{"$error":"#N/A"}]
[null,null,null,"1974-04-01",{"$error":"#N/A"},{"$error":"#N/A"},{"$error":"#N/A"},{"$error":"#N/A"},{"$error":"#N/A"},{"$error":"#N/A"},{"$error":"#N/A"},{"$error":"#N/A"},{"$error":"#N/A"},{"$error":"#N/A"},{"$error":"#N/A"},{"$error":"#N/A"},{"$error":"#N/A"},{"$error":"#N/A"},{"$error":"#N/A"},{"$error":"#N/A"},{"$error":"#N/A"},{"$error":"#N/A"},1830,936,544,9.1,{"$error":"#N/A"},6.3,{"$error":"#N/A"},{"$error":"#N/A"},1.1000000000000001,{"$error":"#N/A"},{"$error":"#N/A"},{"$error":"#N/A"},48.1,28.248000000000001,75199,62506,70845,{"$error":"#N/A"},{"$error":"#N/A"},27.792000000000002,{"$error":"#N/A"},{"$error":"#N/A"},{"$error":"#N/A"},{"$error":"#N/A"},{"$error":"#N/A"},{"$error":"#N/A"},{"$error":"#N/A"}]
[null,null,null,"1974-05-01",{"$error":"#N/A"},{"$error":"#N/A"},{"$error":"#N/A"},{"$error":"#N/A"},{"$error":"#N/A"},{"$error":"#N/A"},{"$error":"#N/A"},{"$error":"#N/A"},{"$error":"#N/A"},{"$error":"#N/A"},{"$error":"#N/A"},{"$error":"#N/A"},{"$error":"#N/A"},{"$error":"#N/A"},{"$error":"#N/A"},{"$error":"#N/A"},{"$error":"#N/A"},{"$error":"#N/A"},1715,930,590,8,{"$error":"#N/A"},6.3,{"$error":"#N/A"},{"$error":"#N/A"},1.1000000000000001,{"$error":"#N/A"},{"$error":"#N/A"},{"$error":"#N/A"},48.6,28.248000000000001,75327,{"$f":"INDEX(INDIRECT(\"'\"&AL$7&\"'!B:B\"),MATCH($D228,INDIRECT(\"'\"&AL$7&\"'!A:A\")))","v":62626},70971,{"$error":"#N/A"},{"$error":"#N/A"},27.792000000000002,{"$error":"#N/A"},{"$error":"#N/A"},{"$error":"#N/A"},{"$error":"#N/A"},{"$error":"#N/A"},{"$error":"#N/A"},{"$error":"#N/A"}]
[null,null,null,"1974-06-01",{"$error":"#N/A"},{"$error":"#N/A"},{"$error":"#N/A"},{"$error":"#N/A"},{"$error":"#N/A"},{"$error":"#N/A"},{"$error":"#N/A"},{"$error":"#N/A"},{"$error":"#N/A"},{"$error":"#N/A"},{"$error":"#N/A"},{"$error":"#N/A"},{"$error":"#N/A"},{"$error":"#N/A"},{"$error":"#N/A"},{"$error":"#N/A"},{"$error":"#N/A"},{"$error":"#N/A"},1897,1110,534,8.9,{"$error":"#N/A"},6.3,{"$error":"#N/A"},{"$error":"#N/A"},1.1000000000000001,{"$error":"#N/A"},{"$error":"#N/A"},{"$error":"#N/A"},49,28.248000000000001,75452,62740,71090,{"$error":"#N/A"},{"$error":"#N/A"},27.792000000000002,{"$error":"#N/A"},{"$error":"#N/A"},{"$error":"#N/A"},{"$error":"#N/A"},{"$error":"#N/A"},{"$error":"#N/A"},{"$error":"#N/A"}]
[null,null,null,"1974-07-01",{"$error":"#N/A"},{"$error":"#N/A"},{"$error":"#N/A"},{"$error":"#N/A"},{"$error":"#N/A"},{"$error":"#N/A"},{"$error":"#N/A"},{"$error":"#N/A"},{"$error":"#N/A"},{"$error":"#N/A"},{"$error":"#N/A"},{"$error":"#N/A"},{"$error":"#N/A"},{"$error":"#N/A"},{"$error":"#N/A"},{"$error":"#N/A"},{"$error":"#N/A"},{"$error":"#N/A"},1695,918,534,8.8000000000000007,{"$error":"#N/A"},6.2,{"$error":"#N/A"},{"$error":"#N/A"},1.2,{"$error":"#N/A"},{"$error":"#N/A"},{"$error":"#N/A"},49.3,29.067,75563,62835,71209,{"$error":"#N/A"},{"$error":"#N/A"},28.588000000000001,{"$error":"#N/A"},{"$error":"#N/A"},{"$error":"#N/A"},{"$error":"#N/A"},{"$error":"#N/A"},{"$error":"#N/A"},{"$error":"#N/A"}]
[null,null,null,"1974-08-01",{"$error":"#N/A"},{"$error":"#N/A"},{"$error":"#N/A"},{"$error":"#N/A"},{"$error":"#N/A"},{"$error":"#N/A"},{"$error":"#N/A"},{"$error":"#N/A"},{"$error":"#N/A"},{"$error":"#N/A"},{"$error":"#N/A"},{"$error":"#N/A"},{"$error":"#N/A"},{"$error":"#N/A"},{"$error":"#N/A"},{"$error":"#N/A"},{"$error":"#N/A"},{"$error":"#N/A"},1634,909,492,9.3000000000000007,{"$error":"#N/A"},6.2,{"$error":"#N/A"},{"$error":"#N/A"},1.2,{"$error":"#N/A"},{"$error":"#N/A"},{"$error":"#N/A"},49.9,29.067,75660,62946,71325,{"$error":"#N/A"},{"$error":"#N/A"},28.588000000000001,{"$error":"#N/A"},{"$error":"#N/A"},{"$error":"#N/A"},{"$error":"#N/A"},{"$error":"#N/A"},{"$error":"#N/A"},{"$error":"#N/A"}]
[null,null,null,"1974-09-01",{"$error":"#N/A"},{"$error":"#N/A"},{"$error":"#N/A"},{"$error":"#N/A"},{"$error":"#N/A"},{"$error":"#N/A"},{"$error":"#N/A"},{"$error":"#N/A"},{"$error":"#N/A"},{"$error":"#N/A"},{"$error":"#N/A"},{"$error":"#N/A"},{"$error":"#N/A"},{"$error":"#N/A"},{"$error":"#N/A"},{"$error":"#N/A"},{"$error":"#N/A"},{"$error":"#N/A"},1651,905,511,9.1,{"$error":"#N/A"},6.2,{"$error":"#N/A"},{"$error":"#N/A"},1.2,{"$error":"#N/A"},{"$error":"#N/A"},{"$error":"#N/A"},50.6,29.067,75756,63090,71426,{"$error":"#N/A"},{"$error":"#N/A"},28.588000000000001,{"$error":"#N/A"},{"$error":"#N/A"},{"$error":"#N/A"},{"$error":"#N/A"},{"$error":"#N/A"},{"$error":"#N/A"},{"$error":"#N/A"}]
[null,null,null,"1974-10-01",{"$error":"#N/A"},{"$error":"#N/A"},{"$error":"#N/A"},{"$error":"#N/A"},{"$error":"#N/A"},{"$error":"#N/A"},{"$error":"#N/A"},{"$error":"#N/A"},{"$error":"#N/A"},{"$error":"#N/A"},{"$error":"#N/A"},{"$error":"#N/A"},{"$error":"#N/A"},{"$error":"#N/A"},{"$error":"#N/A"},{"$error":"#N/A"},{"$error":"#N/A"},{"$error":"#N/A"},1630,913,448,9.8000000000000007,{"$error":"#N/A"},6,{"$error":"#N/A"},{"$error":"#N/A"},1.3,{"$error":"#N/A"},{"$error":"#N/A"},{"$error":"#N/A"},51,29.922999999999998,75859,63202,71549,{"$error":"#N/A"},{"$error":"#N/A"},29.286999999999999,{"$error":"#N/A"},{"$error":"#N/A"},{"$error":"#N/A"},{"$error":"#N/A"},{"$error":"#N/A"},{"$error":"#N/A"},{"$error":"#N/A"}]
[null,null,null,"1974-11-01",{"$error":"#N/A"},{"$error":"#N/A"},{"$error":"#N/A"},{"$error":"#N/A"},{"$error":"#N/A"},{"$error":"#N/A"},{"$error":"#N/A"},{"$error":"#N/A"},{"$error":"#N/A"},{"$error":"#N/A"},{"$error":"#N/A"},{"$error":"#N/A"},{"$error":"#N/A"},{"$error":"#N/A"},{"$error":"#N/A"},{"$error":"#N/A"},{"$error":"#N/A"},{"$error":"#N/A"},1590,859,450,9.6999999999999993,{"$error":"#N/A"},6,{"$error":"#N/A"},{"$error":"#N/A"},1.3,{"$error":"#N/A"},{"$error":"#N/A"},{"$error":"#N/A"},{"$f":"INDEX(INDIRECT(\"'\"&AI$7&\"'!B:B\"),MATCH($D234,INDIRECT(\"'\"&AI$7&\"'!A:A\")))","v":51.5},29.922999999999998,75959,63307,71671,{"$error":"#N/A"},{"$error":"#N/A"},29.286999999999999,{"$error":"#N/A"},{"$error":"#N/A"},{"$error":"#N/A"},{"$error":"#N/A"},{"$error":"#N/A"},{"$error":"#N/A"},{"$error":"#N/A"}]
[null,null,null,"1974-12-01",{"$error":"#N/A"},{"$error":"#N/A"},{"$error":"#N/A"},{"$error":"#N/A"},{"$error":"#N/A"},{"$error":"#N/A"},{"$error":"#N/A"},{"$error":"#N/A"},{"$error":"#N/A"},{"$error":"#N/A"},{"$error":"#N/A"},{"$error":"#N/A"},{"$error":"#N/A"},{"$error":"#N/A"},{"$error":"#N/A"},{"$error":"#N/A"},{"$error":"#N/A"},{"$error":"#N/A"},1540,841,417,10.3,{"$error":"#N/A"},6,{"$error":"#N/A"},{"$error":"#N/A"},1.3,{"$error":"#N/A"},{"$error":"#N/A"},{"$error":"#N/A"},51.9,29.922999999999998,76058,63406,71788,{"$error":"#N/A"},{"$error":"#N/A"},29.286999999999999,{"$error":"#N/A"},{"$error":"#N/A"},{"$error":"#N/A"},{"$error":"#N/A"},{"$error":"#N/A"},{"$error":"#N/A"},{"$error":"#N/A"}]
[null,null,null,"1975-01-01",{"$error":"#N/A"},25.19,25.29,{"$error":"#N/A"},{"$error":"#N/A"},{"$error":"#N/A"},{"$error":"#N/A"},{"$error":"#N/A"},{"$error":"#N/A"},{"$error":"#N/A"},{"$error":"#N/A"},{"$error":"#N/A"},{"$error":"#N/A"},{"$error":"#N/A"},{"$error":"#N/A"},{"$error":"#N/A"},{"$error":"#N/A"},{"$error":"#N/A"},1588,970,416,9.9,{"$error":"#N/A"},6.1,{"$error":"#N/A"},{"$error":"#N/A"},1.2,{"$error":"#N/A"},{"$error":"#N/A"},{"$error":"#N/A"},52.3,30.600999999999999,76167,63550,71903,{"$error":"#N/A"},{"$error":"#N/A"},29.861999999999998,{"$error":"#N/A"},{"$error":"#N/A"},{"$error":"#N/A"},{"$error":"#N/A"},{"$error":"#N/A"},{"$error":"#N/A"},{"$error":"#N/A"}]
[null,null,null,"1975-02-01",{"$error":"#N/A"},25.24,25.35,{"$error":"#N/A"},{"$error":"#N/A"},{"$error":"#N/A"},{"$error":"#N/A"},{"$error":"#N/A"},{"$error":"#N/A"},{"$error":"#N/A"},{"$error":"#N/A"},{"$error":"#N/A"},{"$error":"#N/A"},{"$error":"#N/A"},{"$error":"#N/A"},{"$error":"#N/A"},{"$error":"#N/A"},{"$error":"#N/A"},1346,790,422,10.4,{"$error":"#N/A"},6.1,{"$error":"#N/A"},{"$error":"#N/A"},1.2,{"$error":"#N/A"},{"$error":"#N/A"},{"$error":"#N/A"},52.6,30.600999999999999,76266,63647,72022,{"$error":"#N/A"},{"$error":"#N/A"},29.861999999999998,{"$error":"#N/A"},{"$error":"#N/A"},{"$error":"#N/A"},{"$error":"#N/A"},{"$error":"#N/A"},{"$error":"#N/A"},{"$error":"#N/A"}]
[null,null,null,"1975-03-01",{"$error":"#N/A"},25.33,25.39,{"$error":"#N/A"},{"$error":"#N/A"},{"$error":"#N/A"},{"$error":"#N/A"},{"$error":"#N/A"},{"$error":"#N/A"},{"$error":"#N/A"},{"$error":"#N/A"},{"$error":"#N/A"},{"$error":"#N/A"},{"$error":"#N/A"},{"$error":"#N/A"},{"$error":"#N/A"},{"$error":"#N/A"},{"$error":"#N/A"},1293,760,477,8.9,{"$error":"#N/A"},6.1,{"$error":"#N/A"},{"$error":"#N/A"},1.2,{"$error":"#N/A"},{"$error":"#N/A"},{"$error":"#N/A"},52.8,30.600999999999999,76363,63744,72134,{"$error":"#N/A"},{"$error":"#N/A"},29.861999999999998,{"$error":"#N/A"},{"$error":"#N/A"},{"$error":"#N/A"},{"$error":"#N/A"},{"$error":"#N/A"},{"$error":"#N/A"},{"$error":"#N/A"}]
[null,null,null,"1975-04-01",{"$error":"#N/A"},25.4,25.39,{"$error":"#N/A"},{"$error":"#N/A"},{"$error":"#N/A"},{"$error":"#N/A"},{"$error":"#N/A"},{"$error":"#N/A"},{"$error":"#N/A"},{"$error":"#N/A"},{"$error":"#N/A"},{"$error":"#N/A"},{"$error":"#N/A"},{"$error":"#N/A"},{"$error":"#N/A"},{"$error":"#N/A"},{"$error":"#N/A"},1278,793,543,7.2,{"$error":"#N/A"},6.3,{"$error":"#N/A"},{"$error":"#N/A"},1.2,{"$error":"#N/A"},{"$error":"#N/A"},{"$error":"#N/A"},53,31.059000000000001,76456,63842,72241,{"$error":"#N/A"},{"$error":"#N/A"},30.318999999999999,{"$error":"#N/A"},{"$error":"#N/A"},{"$error":"#N/A"},{"$error":"#N/A"},{"$error":"#N/A"},{"$error":"#N/A"},{"$error":"#N/A"}]
[null,null,null,"1975-05-01",{"$error":"#N/A"},25.48,25.41,{"$error":"#N/A"},{"$error":"#N/A"},{"$error":"#N/A"},{"$error":"#N/A"},{"$error":"#N/A"},{"$error":"#N/A"},{"$error":"#N/A"},{"$error":"#N/A"},{"$error":"#N/A"},{"$error":"#N/A"},{"$error":"#N/A"},{"$error":"#N/A"},{"$error":"#N/A"},{"$error":"#N/A"},{"$error":"#N/A"},1349,885,579,6.8,{"$error":"#N/A"},6.3,{"$error":"#N/A"},{"$error":"#N/A"},1.2,{"$f":"INDEX(INDIRECT(\"'\"&AF$7&\"'!B:B\"),MATCH($D240,INDIRECT(\"'\"&AF$7&\"'!A:A\")))","v":{"$error":"#N/A"}},{"$error":"#N/A"},{"$error":"#N/A"},53.1,31.059000000000001,76570,63959,72364,{"$error":"#N/A"},{"$error":"#N/A"},30.318999999999999,{"$error":"#N/A"},{"$error":"#N/A"},{"$error":"#N/A"},{"$error":"#N/A"},{"$error":"#N/A"},{"$error":"#N/A"},{"$error":"#N/A"}]
[null,null,null,"1975-06-01",{"$error":"#N/A"},25.47,25.43,{"$error":"#N/A"},{"$error":"#N/A"},{"$error":"#N/A"},{"$error":"#N/A"},{"$error":"#N/A"},{"$error":"#N/A"},{"$error":"#N/A"},{"$error":"#N/A"},{"$error":"#N/A"},{"$error":"#N/A"},{"$error":"#N/A"},{"$error":"#N/A"},{"$error":"#N/A"},{"$error":"#N/A"},{"$error":"#N/A"},1234,816,557,7.2,{"$error":"#N/A"},6.3,{"$error":"#N/A"},{"$error":"#N/A"},1.2,{"$error":"#N/A"},{"$error":"#N/A"},{"$error":"#N/A"},53.5,31.059000000000001,76686,64080,72496,{"$error":"#N/A"},{"$error":"#N/A"},30.318999999999999,{"$error":"#N/A"},{"$error":"#N/A"},{"$error":"#N/A"},{"$error":"#N/A"},{"$error":"#N/A"},{"$error":"#N/A"},{"$error":"#N/A"}]
[null,null,null,"1975-07-01",{"$error":"#N/A"},25.61,25.56,{"$error":"#N/A"},{"$error":"#N/A"},{"$error":"#N/A"},{"$error":"#N/A"},{"$error":"#N/A"},{"$error":"#N/A"},{"$error":"#N/A"},{"$error":"#N/A"},{"$error":"#N/A"},{"$error":"#N/A"},{"$error":"#N/A"},{"$error":"#N/A"},{"$error":"#N/A"},{"$error":"#N/A"},{"$error":"#N/A"},1276,881,569,7,{"$error":"#N/A"},6.2,{"$error":"#N/A"},{"$error":"#N/A"},1.4,{"$error":"#N/A"},{"$error":"#N/A"},{"$error":"#N/A"},54,31.611999999999998,76840,64217,72669,{"$error":"#N/A"},{"$error":"#N/A"},30.774999999999999,{"$error":"#N/A"},{"$error":"#N/A"},{"$error":"#N/A"},{"$error":"#N/A"},{"$error":"#N/A"},{"$error":"#N/A"},{"$error":"#N/A"}]
[null,null,null,"1975-08-01",{"$error":"#N/A"},25.76,25.72,{"$error":"#N/A"},{"$error":"#N/A"},{"$error":"#N/A"},{"$error":"#N/A"},{"$error":"#N/A"},{"$error":"#N/A"},{"$error":"#N/A"},{"$error":"#N/A"},{"$error":"#N/A"},{"$error":"#N/A"},{"$error":"#N/A"},{"$error":"#N/A"},{"$error":"#N/A"},{"$error":"#N/A"},{"$error":"#N/A"},1290,877,566,6.8,{"$error":"#N/A"},6.2,{"$error":"#N/A"},{"$error":"#N/A"},1.4,{"$error":"#N/A"},{"$error":"#N/A"},{"$error":"#N/A"},54.2,31.611999999999998,76947,64326,72794,{"$error":"#N/A"},{"$error":"#N/A"},30.774999999999999,{"$error":"#N/A"},{"$error":"#N/A"},{"$error":"#N/A"},{"$error":"#N/A"},{"$error":"#N/A"},{"$error":"#N/A"},{"$error":"#N/A"}]
[null,null,null,"1975-09-01",{"$error":"#N/A"},26.01,25.95,{"$error":"#N/A"},{"$error":"#N/A"},{"$error":"#N/A"},{"$error":"#N/A"},{"$error":"#N/A"},{"$error":"#N/A"},{"$error":"#N/A"},{"$error":"#N/A"},{"$error":"#N/A"},{"$error":"#N/A"},{"$error":"#N/A"},{"$error":"#N/A"},{"$error":"#N/A"},{"$error":"#N/A"},{"$error":"#N/A"},1333,967,556,7.3,{"$error":"#N/A"},6.2,{"$error":"#N/A"},{"$error":"#N/A"},1.4,{"$error":"#N/A"},{"$error":"#N/A"},{"$error":"#N/A"},54.6,31.611999999999998,77068,64469,72893,{"$error":"#N/A"},{"$error":"#N/A"},30.774999999999999,{"$error":"#N/A"},{"$error":"#N/A"},{"$error":"#N/A"},{"$error":"#N/A"},{"$error":"#N/A"},{"$error":"#N/A"},{"$error":"#N/A"}]
[null,null,null,"1975-10-01",{"$error":"#N/A"},26.19,26.16,{"$error":"#N/A"},{"$error":"#N/A"},{"$error":"#N/A"},{"$error":"#N/A"},{"$error":"#N/A"},{"$error":"#N/A"},{"$error":"#N/A"},{"$error":"#N/A"},{"$error":"#N/A"},{"$error":"#N/A"},{"$error":"#N/A"},{"$error":"#N/A"},{"$error":"#N/A"},{"$error":"#N/A"},{"$error":"#N/A"},1134,756,609,6.6,{"$error":"#N/A"},5.4,{"$error":"#N/A"},{"$error":"#N/A"},1.2,{"$error":"#N/A"},{"$error":"#N/A"},{"$error":"#N/A"},54.9,32.139000000000003,77175,64575,73007,{"$error":"#N/A"},{"$error":"#N/A"},31.276,{"$error":"#N/A"},{"$error":"#N/A"},{"$error":"#N/A"},{"$error":"#N/A"},{"$error":"#N/A"},{"$error":"#N/A"},{"$error":"#N/A"}]
[null,null,null,"1975-11-01",{"$error":"#N/A"},26.37,26.36,{"$error":"#N/A"},{"$error":"#N/A"},{"$error":"#N/A"},{"$error":"#N/A"},{"$error":"#N/A"},{"$error":"#N/A"},{"$error":"#N/A"},{"$error":"#N/A"},{"$error":"#N/A"},{"$error":"#N/A"},{"$error":"#N/A"},{"$error":"#N/A"},{"$error":"#N/A"},{"$error":"#N/A"},{"$error":"#N/A"},1383,990,680,5.8,{"$error":"#N/A"},5.4,{"$f":"INDEX(INDIRECT(\"'\"&AC$7&\"'!B:B\"),MATCH($D246,INDIRECT(\"'\"&AC$7&\"'!A:A\")))","v":{"$error":"#N/A"}},{"$error":"#N/A"},1.2,{"$error":"#N/A"},{"$error":"#N/A"},{"$error":"#N/A"},55.3,32.139000000000003,77291,64690,73130,{"$error":"#N/A"},{"$error":"#N/A"},31.276,{"$error":"#N/A"},{"$error":"#N/A"},{"$error":"#N/A"},{"$error":"#N/A"},{"$error":"#N/A"},{"$error":"#N/A"},{"$error":"#N/A"}]
[null,null,null,"1975-12-01",{"$error":"#N/A"},26.45,26.5,{"$error":"#N/A"},{"$error":"#N/A"},{"$error":"#N/A"},{"$error":"#N/A"},{"$error":"#N/A"},{"$error":"#N/A"},{"$error":"#N/A"},{"$error":"#N/A"},{"$error":"#N/A"},{"$error":"#N/A"},{"$error":"#N/A"},{"$error":"#N/A"},{"$error":"#N/A"},{"$error":"#N/A"},{"$error":"#N/A"},1306,974,669,5.8,{"$error":"#N/A"},5.4,{"$error":"#N/A"},{"$error":"#N/A"},1.2,{"$error":"#N/A"},{"$error":"#N/A"},{"$error":"#N/A"},55.6,32.139000000000003,77407,64799,73255,{"$error":"#N/A"},{"$error":"#N/A"},31.276,{"$error":"#N/A"},{"$error":"#N/A"},{"$error":"#N/A"},{"$error":"#N/A"},{"$error":"#N/A"},{"$error":"#N/A"},{"$error":"#N/A"}]
[null,null,null,"1976-01-01",{"$error":"#N/A"},26.56,26.66,{"$error":"#N/A"},{"$error":"#N/A"},{"$error":"#N/A"},{"$error":"#N/A"},{"$error":"#N/A"},{"$error":"#N/A"},{"$error":"#N/A"},{"$error":"#N/A"},{"$error":"#N/A"},{"$error":"#N/A"},{"$error":"#N/A"},{"$error":"#N/A"},{"$error":"#N/A"},{"$error":"#N/A"},{"$error":"#N/A"},1258,954,603,6.4,{"$error":"#N/A"},5.5,{"$error":"#N/A"},{"$error":"#N/A"},1.2,{"$error":"#N/A"},{"$error":"#N/A"},{"$error":"#N/A"},55.8,32.472999999999999,77527,64934,73373,{"$error":"#N/A"},{"$error":"#N/A"},31.751999999999999,{"$error":"#N/A"},{"$error":"#N/A"},{"$error":"#N/A"},{"$error":"#N/A"},{"$error":"#N/A"},{"$error":"#N/A"},{"$error":"#N/A"}]
[null,null,null,"1976-02-01",{"$error":"#N/A"},26.61,26.73,{"$error":"#N/A"},{"$error":"#N/A"},{"$error":"#N/A"},{"$error":"#N/A"},{"$error":"#N/A"},{"$error":"#N/A"},{"$error":"#N/A"},{"$error":"#N/A"},{"$error":"#N/A"},{"$error":"#N/A"},{"$error":"#N/A"},{"$error":"#N/A"},{"$error":"#N/A"},{"$error":"#N/A"},{"$error":"#N/A"},1311,985,644,5.9,{"$error":"#N/A"},5.5,{"$error":"#N/A"},{"$error":"#N/A"},1.2,{"$error":"#N/A"},{"$error":"#N/A"},{"$error":"#N/A"},55.9,32.472999999999999,77635,65022,73484,{"$error":"#N/A"},{"$error":"#N/A"},31.751999999999999,{"$error":"#N/A"},{"$error":"#N/A"},{"$error":"#N/A"},{"$error":"#N/A"},{"$error":"#N/A"},{"$error":"#N/A"},{"$error":"#N/A"}]
[null,null,null,"1976-03-01",{"$error":"#N/A"},26.85,26.91,{"$error":"#N/A"},{"$error":"#N/A"},{"$error":"#N/A"},{"$error":"#N/A"},{"$error":"#N/A"},{"$error":"#N/A"},{"$error":"#N/A"},{"$error":"#N/A"},{"$error":"#N/A"},{"$error":"#N/A"},{"$error":"#N/A"},{"$error":"#N/A"},{"$error":"#N/A"},{"$error":"#N/A"},{"$error":"#N/A"},1347,998,591,6.8,{"$error":"#N/A"},5.5,{"$error":"#N/A"},{"$error":"#N/A"},1.2,{"$error":"#N/A"},{"$error":"#N/A"},{"$error":"#N/A"},56,32.472999999999999,77746,65129,73605,{"$error":"#N/A"},{"$error":"#N/A"},31.751999999999999,{"$error":"#N/A"},{"$error":"#N/A"},{"$error":"#N/A"},{"$error":"#N/A"},{"$error":"#N/A"},{"$error":"#N/A"},{"$error":"#N/A"}]
[null,null,null,"1976-04-01",{"$error":"#N/A"},27.13,27.12,{"$error":"#N/A"},{"$error":"#N/A"},{"$error":"#N/A"},{"$error":"#N/A"},{"$error":"#N/A"},{"$error":"#N/A"},{"$error":"#N/A"},{"$error":"#N/A"},{"$error":"#N/A"},{"$error":"#N/A"},{"$error":"#N/A"},{"$error":"#N/A"},{"$error":"#N/A"},{"$error":"#N/A"},{"$error":"#N/A"},1332,1002,611,6.4,{"$error":"#N/A"},5.8,{"$error":"#N/A"},{"$error":"#N/A"},1.2,{"$error":"#N/A"},{"$error":"#N/A"},{"$error":"#N/A"},56.1,32.802999999999997,77851,65225,73712,{"$error":"#N/A"},{"$error":"#N/A"},32.131999999999998,{"$error":"#N/A"},{"$error":"#N/A"},{"$error":"#N/A"},{"$error":"#N/A"},{"$error":"#N/A"},{"$error":"#N/A"},{"$error":"#N/A"}]
[null,null,null,"1976-05-01",{"$error":"#N/A"},27.46,27.38,{"$error":"#N/A"},{"$error":"#N/A"},{"$error":"#N/A"},{"$error":"#N/A"},{"$error":"#N/A"},{"$error":"#N/A"},{"$error":"#N/A"},{"$error":"#N/A"},{"$error":"#N/A"},{"$error":"#N/A"},{"$error":"#N/A"},{"$error":"#N/A"},{"$error":"#N/A"},{"$error":"#N/A"},{"$error":"#N/A"},1440,1009,570,{"$f":"INDEX(INDIRECT(\"'\"&Z$7&\"'!B:B\"),MATCH($D252,INDIRECT(\"'\"&Z$7&\"'!A:A\")))","v":7},{"$error":"#N/A"},5.8,{"$error":"#N/A"},{"$error":"#N/A"},1.2,{"$error":"#N/A"},{"$error":"#N/A"},{"$error":"#N/A"},56.4,32.802999999999997,77973,65330,73832,{"$error":"#N/A"},{"$error":"#N/A"},32.131999999999998,{"$error":"#N/A"},{"$error":"#N/A"},{"$error":"#N/A"},{"$error":"#N/A"},{"$error":"#N/A"},{"$error":"#N/A"},{"$error":"#N/A"}]
[null,null,null,"1976-06-01",{"$error":"#N/A"},27.54,27.5,{"$error":"#N/A"},{"$error":"#N/A"},{"$error":"#N/A"},{"$error":"#N/A"},{"$error":"#N/A"},{"$error":"#N/A"},{"$error":"#N/A"},{"$error":"#N/A"},{"$error":"#N/A"},{"$error":"#N/A"},{"$error":"#N/A"},{"$error":"#N/A"},{"$error":"#N/A"},{"$error":"#N/A"},{"$error":"#N/A"},1390,1058,591,6.9,{"$error":"#N/A"},5.8,{"$error":"#N/A"},{"$error":"#N/A"},1.2,{"$error":"#N/A"},{"$error":"#N/A"},{"$error":"#N/A"},56.7,32.802999999999997,78099,65444,73958,{"$error":"#N/A"},{"$error":"#N/A"},32.131999999999998,{"$error":"#N/A"},{"$error":"#N/A"},{"$error":"#N/A"},{"$error":"#N/A"},{"$error":"#N/A"},{"$error":"#N/A"},{"$error":"#N/A"}]
[null,null,null,"1976-07-01",{"$error":"#N/A"},27.76,27.7,{"$error":"#N/A"},{"$error":"#N/A"},{"$error":"#N/A"},{"$error":"#N/A"},{"$error":"#N/A"},{"$error":"#N/A"},{"$error":"#N/A"},{"$error":"#N/A"},{"$error":"#N/A"},{"$error":"#N/A"},{"$error":"#N/A"},{"$error":"#N/A"},{"$error":"#N/A"},{"$error":"#N/A"},{"$error":"#N/A"},1322,1040,664,6.4,{"$error":"#N/A"},5.7,{"$error":"#N/A"},{"$error":"#N/A"},1.3,{"$error":"#N/A"},{"$error":"#N/A"},{"$error":"#N/A"},57,33.225999999999999,78218,65555,74085,{"$error":"#N/A"},{"$error":"#N/A"},32.634,{"$error":"#N/A"},{"$error":"#N/A"},{"$error":"#N/A"},{"$error":"#N/A"},{"$error":"#N/A"},{"$error":"#N/A"},{"$error":"#N/A"}]
[null,null,null,"1976-08-01",{"$error":"#N/A"},27.94,27.9,{"$error":"#N/A"},{"$error":"#N/A"},{"$error":"#N/A"},{"$error":"#N/A"},{"$error":"#N/A"},{"$error":"#N/A"},{"$error":"#N/A"},{"$error":"#N/A"},{"$error":"#N/A"},{"$error":"#N/A"},{"$error":"#N/A"},{"$error":"#N/A"},{"$error":"#N/A"},{"$error":"#N/A"},{"$error":"#N/A"},1374,1060,648,6.2,{"$error":"#N/A"},5.7,{"$error":"#N/A"},{"$error":"#N/A"},1.3,{"$error":"#N/A"},{"$error":"#N/A"},{"$error":"#N/A"},57.3,33.225999999999999,78339,65671,74212,{"$error":"#N/A"},{"$error":"#N/A"},32.634,{"$error":"#N/A"},{"$error":"#N/A"},{"$error":"#N/A"},{"$error":"#N/A"},{"$error":"#N/A"},{"$error":"#N/A"},{"$error":"#N/A"}]
[null,null,null,"1976-09-01",{"$error":"#N/A"},28.16,28.09,{"$error":"#N/A"},{"$error":"#N/A"},{"$error":"#N/A"},{"$error":"#N/A"},{"$error":"#N/A"},{"$error":"#N/A"},{"$error":"#N/A"},{"$error":"#N/A"},{"$error":"#N/A"},{"$error":"#N/A"},{"$error":"#N/A"},{"$error":"#N/A"},{"$error":"#N/A"},{"$error":"#N/A"},{"$error":"#N/A"},1371,979,696,6.2,{"$error":"#N/A"},5.7,{"$error":"#N/A"},{"$error":"#N/A"},1.3,{"$error":"#N/A"},{"$error":"#N/A"},{"$error":"#N/A"},57.6,33.225999999999999,78459,65791,74341,{"$error":"#N/A"},{"$error":"#N/A"},32.634,{"$error":"#N/A"},{"$error":"#N/A"},{"$error":"#N/A"},{"$error":"#N/A"},{"$error":"#N/A"},{"$error":"#N/A"},{"$error":"#N/A"}]
[null,null,null,"1976-10-01",{"$error":"#N/A"},28.28,28.25,{"$error":"#N/A"},{"$error":"#N/A"},{"$error":"#N/A"},{"$error":"#N/A"},{"$error":"#N/A"},{"$error":"#N/A"},{"$error":"#N/A"},{"$error":"#N/A"},{"$error":"#N/A"},{"$error":"#N/A"},{"$error":"#N/A"},{"$error":"#N/A"},{"$error":"#N/A"},{"$error":"#N/A"},{"$error":"#N/A"},1388,1043,708,5.8,{"$error":"#N/A"},5.3,{"$error":"#N/A"},{"$error":"#N/A"},1.2,{"$error":"#N/A"},{"$error":"#N/A"},{"$error":"#N/A"},57.9,33.814999999999998,78558,65907,74444,{"$error":"#N/A"},{"$error":"#N/A"},33.143000000000001,{"$error":"#N/A"},{"$error":"#N/A"},{"$error":"#N/A"},{"$error":"#N/A"},{"$error":"#N/A"},{"$error":"#N/A"},{"$error":"#N/A"}]
[null,null,null,"1976-11-01",{"$error":"#N/A"},28.47,28.46,{"$error":"#N/A"},{"$error":"#N/A"},{"$error":"#N/A"},{"$error":"#N/A"},{"$error":"#N/A"},{"$error":"#N/A"},{"$error":"#N/A"},{"$error":"#N/A"},{"$error":"#N/A"},{"$error":"#N/A"},{"$error":"#N/A"},{"$error":"#N/A"},{"$error":"#N/A"},{"$error":"#N/A"},{"$error":"#N/A"},{"$f":"INDEX(INDIRECT(\"'\"&W$7&\"'!B:B\"),MATCH($D258,INDIRECT(\"'\"&W$7&\"'!A:A\")))","v":1428},1095,735,6,{"$error":"#N/A"},5.3,{"$error":"#N/A"},{"$error":"#N/A"},1.2,{"$error":"#N/A"},{"$error":"#N/A"},{"$error":"#N/A"},58.1,33.814999999999998,78673,66016,74569,{"$error":"#N/A"},{"$error":"#N/A"},33.143000000000001,{"$error":"#N/A"},{"$error":"#N/A"},{"$error":"#N/A"},{"$error":"#N/A"},{"$error":"#N/A"},{"$error":"#N/A"},{"$error":"#N/A"}]
[null,null,null,"1976-12-01",{"$error":"#N/A"},28.7,28.75,{"$error":"#N/A"},{"$error":"#N/A"},{"$error":"#N/A"},{"$error":"#N/A"},{"$error":"#N/A"},{"$error":"#N/A"},{"$error":"#N/A"},{"$error":"#N/A"},{"$error":"#N/A"},{"$error":"#N/A"},{"$error":"#N/A"},{"$error":"#N/A"},{"$error":"#N/A"},{"$error":"#N/A"},{"$error":"#N/A"},1457,1095,767,5.6,{"$error":"#N/A"},5.3,{"$error":"#N/A"},{"$error":"#N/A"},1.2,{"$error":"#N/A"},{"$error":"#N/A"},{"$error":"#N/A"},58.4,33.814999999999998,78820,66163,74627,{"$error":"#N/A"},{"$error":"#N/A"},33.143000000000001,{"$error":"#N/A"},{"$error":"#N/A"},{"$error":"#N/A"},{"$error":"#N/A"},{"$error":"#N/A"},{"$error":"#N/A"},{"$error":"#N/A"}]
[null,null,null,"1977-01-01",{"$error":"#N/A"},28.9,29.01,{"$error":"#N/A"},{"$error":"#N/A"},{"$error":"#N/A"},{"$error":"#N/A"},{"$error":"#N/A"},{"$error":"#N/A"},{"$error":"#N/A"},{"$error":"#N/A"},{"$error":"#N/A"},{"$error":"#N/A"},{"$error":"#N/A"},{"$error":"#N/A"},{"$error":"#N/A"},{"$error":"#N/A"},{"$error":"#N/A"},1457,1132,825,5.3,{"$error":"#N/A"},5.0999999999999996,{"$error":"#N/A"},{"$error":"#N/A"},1.3,{"$error":"#N/A"},{"$error":"#N/A"},{"$error":"#N/A"},58.7,34.359000000000002,78934,66282,74747,{"$error":"#N/A"},{"$error":"#N/A"},33.695,{"$error":"#N/A"},{"$error":"#N/A"},{"$error":"#N/A"},{"$error":"#N/A"},{"$error":"#N/A"},{"$error":"#N/A"},{"$error":"#N/A"}]
[null,null,null,"1977-02-01",{"$error":"#N/A"},29.21,29.34,{"$error":"#N/A"},{"$error":"#N/A"},{"$error":"#N/A"},{"$error":"#N/A"},{"$error":"#N/A"},{"$error":"#N/A"},{"$error":"#N/A"},{"$error":"#N/A"},{"$error":"#N/A"},{"$error":"#N/A"},{"$error":"#N/A"},{"$error":"#N/A"},{"$error":"#N/A"},{"$error":"#N/A"},{"$error":"#N/A"},1655,1275,839,5.0999999999999996,{"$error":"#N/A"},5.0999999999999996,{"$error":"#N/A"},{"$error":"#N/A"},1.3,{"$error":"#N/A"},{"$error":"#N/A"},{"$error":"#N/A"},59.3,34.359000000000002,79048,66383,74863,{"$error":"#N/A"},{"$error":"#N/A"},33.695,{"$error":"#N/A"},{"$error":"#N/A"},{"$error":"#N/A"},{"$error":"#N/A"},{"$error":"#N/A"},{"$error":"#N/A"},{"$error":"#N/A"}]
[null,null,null,"1977-03-01",{"$error":"#N/A"},29.62,29.7,{"$error":"#N/A"},{"$error":"#N/A"},{"$error":"#N/A"},{"$error":"#N/A"},{"$error":"#N/A"},{"$error":"#N/A"},{"$error":"#N/A"},{"$error":"#N/A"},{"$error":"#N/A"},{"$error":"#N/A"},{"$error":"#N/A"},{"$error":"#N/A"},{"$error":"#N/A"},{"$error":"#N/A"},{"$error":"#N/A"},1619,1186,872,5,{"$error":"#N/A"},5.0999999999999996,{"$error":"#N/A"},{"$error":"#N/A"},1.3,{"$error":"#N/A"},{"$error":"#N/A"},{"$error":"#N/A"},59.6,34.359000000000002,79154,66474,74978,{"$error":"#N/A"},{"$error":"#N/A"},33.695,{"$error":"#N/A"},{"$error":"#N/A"},{"$error":"#N/A"},{"$error":"#N/A"},{"$error":"#N/A"},{"$error":"#N/A"},{"$error":"#N/A"}]
[null,null,null,"1977-04-01",{"$error":"#N/A"},30.16,30.15,{"$error":"#N/A"},{"$error":"#N/A"},{"$error":"#N/A"},{"$error":"#N/A"},{"$error":"#N/A"},{"$error":"#N/A"},{"$error":"#N/A"},{"$error":"#N/A"},{"$error":"#N/A"},{"$error":"#N/A"},{"$error":"#N/A"},{"$error":"#N/A"},{"$error":"#N/A"},{"$error":"#N/A"},{"$error":"#N/A"},1548,1188,799,5.5,{"$error":"#N/A"},5.3,{"$error":"#N/A"},{"$error":"#N/A"},1.3,{"$error":"#N/A"},{"$error":"#N/A"},{"$error":"#N/A"},60,34.841000000000001,79275,66588,75099,{"$error":"#N/A"},{"$error":"#N/A"},34.210999999999999,{"$error":"#N/A"},{"$error":"#N/A"},{"$error":"#N/A"},{"$error":"#N/A"},{"$error":"#N/A"},{"$error":"#N/A"},{"$error":"#N/A"}]
[null,null,null,"1977-05-01",{"$error":"#N/A"},30.53,30.45,{"$error":"#N/A"},{"$error":"#N/A"},{"$error":"#N/A"},{"$error":"#N/A"},{"$error":"#N/A"},{"$error":"#N/A"},{"$error":"#N/A"},{"$error":"#N/A"},{"$error":"#N/A"},{"$error":"#N/A"},{"$error":"#N/A"},{"$error":"#N/A"},{"$f":"INDEX(INDIRECT(\"'\"&T$7&\"'!B:B\"),MATCH($D264,INDIRECT(\"'\"&T$7&\"'!A:A\")))","v":{"$error":"#N/A"}},{"$error":"#N/A"},{"$error":"#N/A"},1555,1183,807,5.4,{"$error":"#N/A"},5.3,{"$error":"#N/A"},{"$error":"#N/A"},1.3,{"$error":"#N/A"},{"$error":"#N/A"},{"$error":"#N/A"},60.2,34.841000000000001,79412,66726,75243,{"$error":"#N/A"},{"$error":"#N/A"},34.210999999999999,{"$error":"#N/A"},{"$error":"#N/A"},{"$error":"#N/A"},{"$error":"#N/A"},{"$error":"#N/A"},{"$error":"#N/A"},{"$error":"#N/A"}]
[null,null,null,"1977-06-01",{"$f":"INDEX(INDIRECT(\"'\"&E$7&\"'!B:B\"),MATCH($D265,INDIRECT(\"'\"&E$7&\"'!A:A\")))","v":{"$error":"#N/A"}},30.76,30.7,{"$error":"#N/A"},{"$error":"#N/A"},{"$error":"#N/A"},{"$error":"#N/A"},{"$error":"#N/A"},{"$error":"#N/A"},{"$error":"#N/A"},{"$error":"#N/A"},{"$error":"#N/A"},{"$error":"#N/A"},{"$error":"#N/A"},{"$error":"#N/A"},{"$error":"#N/A"},{"$error":"#N/A"},{"$error":"#N/A"},1636,1214,805,5.5,{"$error":"#N/A"},5.3,{"$error":"#N/A"},{"$error":"#N/A"},1.3,{"$error":"#N/A"},{"$error":"#N/A"},{"$error":"#N/A"},60.5,34.841000000000001,79544,66850,75381,{"$error":"#N/A"},{"$error":"#N/A"},34.210999999999999,{"$error":"#N/A"},{"$error":"#N/A"},{"$error":"#N/A"},{"$error":"#N/A"},{"$error":"#N/A"},{"$error":"#N/A"},{"$error":"#N/A"}]
[null,null,null,{"$f":"EOMONTH(D265,$E$1)+1","v":"1977-07-01"},{"$error":"#N/A"},31.07,{"$f":"INDEX(INDIRECT(\"'\"&G$7&\"'!B:B\"),MATCH($D266,INDIRECT(\"'\"&G$7&\"'!A:A\")))","v":31},{"$error":"#N/A"},{"$error":"#N/A"},{"$error":"#N/A"},{"$error":"#N/A"},{"$error":"#N/A"},{"$error":"#N/A"},{"$error":"#N/A"},{"$error":"#N/A"},{"$error":"#N/A"},{"$error":"#N/A"},{"$error":"#N/A"},{"$error":"#N/A"},{"$error":"#N/A"},{"$error":"#N/A"},{"$error":"#N/A"},1687,1277,755,6.1,{"$error":"#N/A"},5.4,{"$error":"#N/A"},{"$error":"#N/A"},1.1000000000000001,{"$error":"#N/A"},{"$error":"#N/A"},{"$error":"#N/A"},60.8,35.270000000000003,79670,66969,75515,{"$error":"#N/A"},{"$error":"#N/A"},34.781999999999996,{"$error":"#N/A"},{"$error":"#N/A"},{"$error":"#N/A"},{"$error":"#N/A"},{"$error":"#N/A"},{"$error":"#N/A"},{"$error":"#N/A"}]
[null,null,null,"1977-08-01",{"$error":"#N/A"},31.39,31.33,{"$error":"#N/A"},{"$error":"#N/A"},{"$error":"#N/A"},{"$error":"#N/A"},{"$error":"#N/A"},{"$error":"#N/A"},{"$error":"#N/A"},{"$error":"#N/A"},{"$error":"#N/A"},{"$error":"#N/A"},{"$error":"#N/A"},{"$error":"#N/A"},{"$error":"#N/A"},{"$error":"#N/A"},{"$error":"#N/A"},1673,1274,808,5.8,{"$error":"#N/A"},5.4,{"$error":"#N/A"},{"$error":"#N/A"},1.1000000000000001,{"$error":"#N/A"},{"$error":"#N/A"},{"$error":"#N/A"},61.1,35.270000000000003,79800,67086,75645,{"$error":"#N/A"},{"$error":"#N/A"},34.781999999999996,{"$error":"#N/A"},{"$error":"#N/A"},{"$error":"#N/A"},{"$error":"#N/A"},{"$error":"#N/A"},{"$error":"#N/A"},{"$error":"#N/A"}]
[null,null,null,"1977-09-01",{"$error":"#N/A"},31.8,31.72,{"$error":"#N/A"},{"$error":"#N/A"},{"$error":"#N/A"},{"$error":"#N/A"},{"$error":"#N/A"},{"$error":"#N/A"},{"$error":"#N/A"},{"$error":"#N/A"},{"$error":"#N/A"},{"$error":"#N/A"},{"$error":"#N/A"},{"$error":"#N/A"},{"$error":"#N/A"},{"$error":"#N/A"},{"$error":"#N/A"},1865,1450,842,5.9,{"$error":"#N/A"},5.4,{"$error":"#N/A"},{"$error":"#N/A"},1.1000000000000001,{"$error":"#N/A"},{"$error":"#N/A"},{"$error":"#N/A"},61.3,35.270000000000003,79927,67206,75768,{"$error":"#N/A"},{"$error":"#N/A"},34.781999999999996,{"$error":"#N/A"},{"$error":"#N/A"},{"$error":"#N/A"},{"$error":"#N/A"},{"$error":"#N/A"},{"$error":"#N/A"},{"$error":"#N/A"}]
[null,null,null,"1977-10-01",{"$error":"#N/A"},32.19,32.159999999999997,{"$error":"#N/A"},{"$error":"#N/A"},{"$error":"#N/A"},{"$error":"#N/A"},{"$error":"#N/A"},{"$error":"#N/A"},{"$error":"#N/A"},{"$error":"#N/A"},{"$error":"#N/A"},{"$error":"#N/A"},{"$error":"#N/A"},{"$error":"#N/A"},{"$error":"#N/A"},{"$error":"#N/A"},{"$error":"#N/A"},1675,1244,819,6.1,{"$error":"#N/A"},5.0999999999999996,{"$error":"#N/A"},{"$error":"#N/A"},1,{"$error":"#N/A"},{"$error":"#N/A"},{"$error":"#N/A"},61.6,36.036000000000001,80054,67321,75895,{"$error":"#N/A"},{"$error":"#N/A"},35.292999999999999,{"$error":"#N/A"},{"$error":"#N/A"},{"$error":"#N/A"},{"$error":"#N/A"},{"$error":"#N/A"},{"$error":"#N/A"},{"$error":"#N/A"}]
[null,null,null,"1977-11-01",{"$error":"#N/A"},32.53,32.53,{"$error":"#N/A"},{"$error":"#N/A"},{"$error":"#N/A"},{"$error":"#N/A"},{"$error":"#N/A"},{"$error":"#N/A"},{"$error":"#N/A"},{"$error":"#N/A"},{"$error":"#N/A"},{"$error":"#N/A"},{"$error":"#N/A"},{"$error":"#N/A"},{"$error":"#N/A"},{"$error":"#N/A"},{"$error":"#N/A"},1770,1300,829,6,{"$error":"#N/A"},5.0999999999999996,{"$error":"#N/A"},{"$error":"#N/A"},1,{"$error":"#N/A"},{"$error":"#N/A"},{"$error":"#N/A"},62,36.036000000000001,80190,67426,76015,{"$error":"#N/A"},{"$error":"#N/A"},35.292999999999999,{"$error":"#N/A"},{"$error":"#N/A"},{"$error":"#N/A"},{"$error":"#N/A"},{"$error":"#N/A"},{"$error":"#N/A"},{"$error":"#N/A"}]
[null,null,null,"1977-12-01",{"$error":"#N/A"},32.83,32.89,{"$error":"#N/A"},{"$error":"#N/A"},{"$error":"#N/A"},{"$error":"#N/A"},{"$error":"#N/A"},{"$error":"#N/A"},{"$error":"#N/A"},{"$error":"#N/A"},{"$error":"#N/A"},{"$error":"#N/A"},{"$error":"#N/A"},{"$error":"#N/A"},{"$error":"#N/A"},{"$error":"#N/A"},{"$error":"#N/A"},1634,1287,835,6,{"$error":"#N/A"},5.0999999999999996,{"$error":"#N/A"},{"$error":"#N/A"},1,{"$error":"#N/A"},{"$error":"#N/A"},{"$error":"#N/A"},62.3,36.036000000000001,80317,67541,76142,{"$error":"#N/A"},{"$error":"#N/A"},35.292999999999999,{"$error":"#N/A"},{"$error":"#N/A"},{"$error":"#N/A"},{"$error":"#N/A"},{"$f":"INDEX(INDIRECT(\"'\"&AU$7&\"'!B:B\"),MATCH($D271,INDIRECT(\"'\"&AU$7&\"'!A:A\")))","v":{"$error":"#N/A"}},{"$error":"#N/A"},{"$error":"#N/A"}]
[null,null,null,"1978-01-01",{"$error":"#N/A"},33.15,33.270000000000003,{"$error":"#N/A"},{"$error":"#N/A"},{"$error":"#N/A"},{"$error":"#N/A"},{"$error":"#N/A"},{"$error":"#N/A"},{"$error":"#N/A"},{"$error":"#N/A"},{"$error":"#N/A"},{"$error":"#N/A"},{"$error":"#N/A"},{"$error":"#N/A"},{"$error":"#N/A"},{"$error":"#N/A"},{"$error":"#N/A"},1777,1298,795,5.9,{"$error":"#N/A"},5,{"$error":"#N/A"},{"$error":"#N/A"},1,{"$error":"#N/A"},{"$error":"#N/A"},{"$error":"#N/A"},62.7,36.573,80444,67652,76266,{"$error":"#N/A"},{"$error":"#N/A"},35.853999999999999,{"$error":"#N/A"},{"$error":"#N/A"},{"$error":"#N/A"},{"$error":"#N/A"},{"$error":"#N/A"},{"$error":"#N/A"},{"$error":"#N/A"}]
[null,null,null,"1978-02-01",{"$error":"#N/A"},33.51,33.659999999999997,{"$error":"#N/A"},{"$error":"#N/A"},{"$error":"#N/A"},{"$error":"#N/A"},{"$error":"#N/A"},{"$error":"#N/A"},{"$error":"#N/A"},{"$error":"#N/A"},{"$error":"#N/A"},{"$error":"#N/A"},{"$error":"#N/A"},{"$error":"#N/A"},{"$error":"#N/A"},{"$error":"#N/A"},{"$error":"#N/A"},1719,1258,791,6.3,{"$error":"#N/A"},5,{"$error":"#N/A"},{"$error":"#N/A"},1,{"$error":"#N/A"},{"$error":"#N/A"},{"$error":"#N/A"},63,36.573,80564,67749,76382,{"$error":"#N/A"},{"$error":"#N/A"},35.853999999999999,{"$error":"#N/A"},{"$error":"#N/A"},{"$error":"#N/A"},{"$error":"#N/A"},{"$error":"#N/A"},{"$error":"#N/A"},{"$error":"#N/A"}]
[null,null,null,"1978-03-01",{"$error":"#N/A"},33.979999999999997,34.07,{"$error":"#N/A"},{"$error":"#N/A"},{"$error":"#N/A"},{"$error":"#N/A"},{"$error":"#N/A"},{"$error":"#N/A"},{"$error":"#N/A"},{"$error":"#N/A"},{"$error":"#N/A"},{"$error":"#N/A"},{"$error":"#N/A"},{"$error":"#N/A"},{"$error":"#N/A"},{"$error":"#N/A"},{"$error":"#N/A"},1785,1347,814,6.1,{"$error":"#N/A"},5,{"$error":"#N/A"},{"$error":"#N/A"},1,{"$error":"#N/A"},{"$error":"#N/A"},{"$error":"#N/A"},63.4,36.573,80679,67848,76490,{"$error":"#N/A"},{"$error":"#N/A"},35.853999999999999,{"$error":"#N/A"},{"$error":"#N/A"},{"$error":"#N/A"},{"$error":"#N/A"},{"$error":"#N/A"},{"$error":"#N/A"},{"$error":"#N/A"}]
[null,null,null,"1978-04-01",{"$error":"#N/A"},34.43,34.43,{"$error":"#N/A"},{"$error":"#N/A"},{"$error":"#N/A"},{"$error":"#N/A"},{"$error":"#N/A"},{"$error":"#N/A"},{"$error":"#N/A"},{"$error":"#N/A"},{"$error":"#N/A"},{"$error":"#N/A"},{"$error":"#N/A"},{"$error":"#N/A"},{"$error":"#N/A"},{"$error":"#N/A"},{"$error":"#N/A"},1843,1413,864,5.8,{"$error":"#N/A"},5.0999999999999996,{"$error":"#N/A"},{"$error":"#N/A"},0.9,{"$error":"#N/A"},{"$error":"#N/A"},{"$error":"#N/A"},63.9,37.241999999999997,80810,67959,76610,{"$error":"#N/A"},{"$error":"#N/A"},36.476999999999997,{"$error":"#N/A"},{"$error":"#N/A"},{"$error":"#N/A"},{"$error":"#N/A"},{"$error":"#N/A"},{"$error":"#N/A"},{"$error":"#N/A"}]
[null,null,null,"1978-05-01",{"$error":"#N/A"},34.909999999999997,34.83,{"$error":"#N/A"},{"$error":"#N/A"},{"$error":"#N/A"},{"$error":"#N/A"},{"$error":"#N/A"},{"$error":"#N/A"},{"$error":"#N/A"},{"$error":"#N/A"},{"$error":"#N/A"},{"$error":"#N/A"},{"$error":"#N/A"},{"$error":"#N/A"},{"$error":"#N/A"},{"$error":"#N/A"},{"$error":"#N/A"},1850,1395,857,5.9,{"$error":"#N/A"},5.0999999999999996,{"$error":"#N/A"},{"$error":"#N/A"},0.9,{"$error":"#N/A"},{"$error":"#N/A"},{"$error":"#N/A"},64.5,37.241999999999997,80950,68083,76743,{"$error":"#N/A"},{"$error":"#N/A"},36.476999999999997,{"$error":"#N/A"},{"$error":"#N/A"},{"$error":"#N/A"},{"$error":"#N/A"},{"$error":"#N/A"},{"$error":"#N/A"},{"$error":"#N/A"}]
[null,null,null,"1978-06-01",{"$error":"#N/A"},35.44,35.369999999999997,{"$error":"#N/A"},{"$error":"#N/A"},{"$error":"#N/A"},{"$error":"#N/A"},{"$error":"#N/A"},{"$error":"#N/A"},{"$error":"#N/A"},{"$error":"#N/A"},{"$error":"#N/A"},{"$error":"#N/A"},{"$error":"#N/A"},{"$error":"#N/A"},{"$error":"#N/A"},{"$error":"#N/A"},{"$error":"#N/A"},1905,1377,834,6.2,{"$error":"#N/A"},5.0999999999999996,{"$error":"#N/A"},{"$error":"#N/A"},0.9,{"$error":"#N/A"},{"$error":"#N/A"},{"$error":"#N/A"},65,37.241999999999997,81097,68208,76880,{"$error":"#N/A"},{"$error":"#N/A"},36.476999999999997,{"$error":"#N/A"},{"$f":"INDEX(INDIRECT(\"'\"&AR$7&\"'!B:B\"),MATCH($D277,INDIRECT(\"'\"&AR$7&\"'!A:A\")))","v":{"$error":"#N/A"}},{"$error":"#N/A"},{"$error":"#N/A"},{"$error":"#N/A"},{"$error":"#N/A"},{"$error":"#N/A"}]
[null,null,null,"1978-07-01",{"$error":"#N/A"},35.950000000000003,35.86,{"$error":"#N/A"},{"$error":"#N/A"},{"$error":"#N/A"},{"$error":"#N/A"},{"$error":"#N/A"},{"$error":"#N/A"},{"$error":"#N/A"},{"$error":"#N/A"},{"$error":"#N/A"},{"$error":"#N/A"},{"$error":"#N/A"},{"$error":"#N/A"},{"$error":"#N/A"},{"$error":"#N/A"},{"$error":"#N/A"},1957,1343,789,6.6,{"$error":"#N/A"},5,{"$error":"#N/A"},{"$error":"#N/A"},1,{"$error":"#N/A"},{"$error":"#N/A"},{"$error":"#N/A"},65.5,37.865000000000002,81226,68318,77014,{"$error":"#N/A"},{"$error":"#N/A"},37.104999999999997,{"$error":"#N/A"},{"$error":"#N/A"},{"$error":"#N/A"},{"$error":"#N/A"},{"$error":"#N/A"},{"$error":"#N/A"},{"$error":"#N/A"}]
[null,null,null,"1978-08-01",{"$error":"#N/A"},36.43,36.340000000000003,{"$error":"#N/A"},{"$error":"#N/A"},{"$error":"#N/A"},{"$error":"#N/A"},{"$error":"#N/A"},{"$error":"#N/A"},{"$error":"#N/A"},{"$error":"#N/A"},{"$error":"#N/A"},{"$error":"#N/A"},{"$error":"#N/A"},{"$error":"#N/A"},{"$error":"#N/A"},{"$error":"#N/A"},{"$error":"#N/A"},1976,1396,756,6.6,{"$error":"#N/A"},5,{"$error":"#N/A"},{"$error":"#N/A"},1,{"$error":"#N/A"},{"$error":"#N/A"},{"$error":"#N/A"},65.900000000000006,37.865000000000002,81364,68421,77137,{"$error":"#N/A"},{"$error":"#N/A"},37.104999999999997,{"$error":"#N/A"},{"$error":"#N/A"},{"$error":"#N/A"},{"$error":"#N/A"},{"$error":"#N/A"},{"$error":"#N/A"},{"$error":"#N/A"}]
[null,null,null,"1978-09-01",{"$error":"#N/A"},36.81,36.729999999999997,{"$error":"#N/A"},{"$error":"#N/A"},{"$error":"#N/A"},{"$error":"#N/A"},{"$error":"#N/A"},{"$error":"#N/A"},{"$error":"#N/A"},{"$error":"#N/A"},{"$error":"#N/A"},{"$error":"#N/A"},{"$error":"#N/A"},{"$error":"#N/A"},{"$error":"#N/A"},{"$error":"#N/A"},{"$error":"#N/A"},1944,1427,812,5.9,{"$error":"#N/A"},5,{"$error":"#N/A"},{"$error":"#N/A"},1,{"$error":"#N/A"},{"$error":"#N/A"},{"$error":"#N/A"},66.5,37.865000000000002,81498,68541,77266,{"$error":"#N/A"},{"$error":"#N/A"},37.104999999999997,{"$error":"#N/A"},{"$error":"#N/A"},{"$error":"#N/A"},{"$error":"#N/A"},{"$error":"#N/A"},{"$error":"#N/A"},{"$error":"#N/A"}]
[null,null,null,"1978-10-01",{"$error":"#N/A"},37.17,37.119999999999997,{"$error":"#N/A"},{"$error":"#N/A"},{"$error":"#N/A"},{"$error":"#N/A"},{"$error":"#N/A"},{"$error":"#N/A"},{"$error":"#N/A"},{"$error":"#N/A"},{"$error":"#N/A"},{"$error":"#N/A"},{"$error":"#N/A"},{"$error":"#N/A"},{"$error":"#N/A"},{"$error":"#N/A"},{"$error":"#N/A"},1885,1421,872,5.7,{"$error":"#N/A"},5,{"$error":"#N/A"},{"$error":"#N/A"},1.1000000000000001,{"$error":"#N/A"},{"$error":"#N/A"},{"$error":"#N/A"},67.099999999999994,38.661000000000001,81652,68696,77401,{"$error":"#N/A"},{"$error":"#N/A"},37.771000000000001,{"$error":"#N/A"},{"$error":"#N/A"},{"$error":"#N/A"},{"$error":"#N/A"},{"$error":"#N/A"},{"$error":"#N/A"},{"$error":"#N/A"}]
[null,null,null,"1978-11-01",{"$error":"#N/A"},37.56,37.56,{"$error":"#N/A"},{"$error":"#N/A"},{"$error":"#N/A"},{"$error":"#N/A"},{"$error":"#N/A"},{"$error":"#N/A"},{"$error":"#N/A"},{"$error":"#N/A"},{"$error":"#N/A"},{"$error":"#N/A"},{"$error":"#N/A"},{"$error":"#N/A"},{"$error":"#N/A"},{"$error":"#N/A"},{"$error":"#N/A"},1877,1380,798,6.5,{"$error":"#N/A"},5,{"$error":"#N/A"},{"$error":"#N/A"},1.1000000000000001,{"$error":"#N/A"},{"$error":"#N/A"},{"$error":"#N/A"},67.5,38.661000000000001,81788,68809,77524,{"$error":"#N/A"},{"$error":"#N/A"},37.771000000000001,{"$error":"#N/A"},{"$error":"#N/A"},{"$error":"#N/A"},{"$error":"#N/A"},{"$error":"#N/A"},{"$error":"#N/A"},{"$error":"#N/A"}]
[null,null,null,"1978-12-01",{"$error":"#N/A"},38,38.07,{"$error":"#N/A"},{"$error":"#N/A"},{"$error":"#N/A"},{"$error":"#N/A"},{"$error":"#N/A"},{"$error":"#N/A"},{"$error":"#N/A"},{"$error":"#N/A"},{"$error":"#N/A"},{"$error":"#N/A"},{"$error":"#N/A"},{"$error":"#N/A"},{"$error":"#N/A"},{"$error":"#N/A"},{"$error":"#N/A"},1844,1351,805,6.1,{"$error":"#N/A"},5,{"$error":"#N/A"},{"$error":"#N/A"},1.1000000000000001,{"$error":"#N/A"},{"$error":"#N/A"},{"$error":"#N/A"},67.900000000000006,38.661000000000001,81931,68930,77655,{"$error":"#N/A"},{"$f":"INDEX(INDIRECT(\"'\"&AO$7&\"'!B:B\"),MATCH($D283,INDIRECT(\"'\"&AO$7&\"'!A:A\")))","v":{"$error":"#N/A"}},37.771000000000001,{"$error":"#N/A"},{"$error":"#N/A"},{"$error":"#N/A"},{"$error":"#N/A"},{"$error":"#N/A"},{"$error":"#N/A"},{"$error":"#N/A"}]
[null,null,null,"1979-01-01",{"$error":"#N/A"},38.51,38.64,{"$error":"#N/A"},{"$error":"#N/A"},{"$error":"#N/A"},{"$error":"#N/A"},{"$error":"#N/A"},{"$error":"#N/A"},{"$error":"#N/A"},{"$error":"#N/A"},{"$error":"#N/A"},{"$error":"#N/A"},{"$error":"#N/A"},{"$error":"#N/A"},{"$error":"#N/A"},{"$error":"#N/A"},{"$error":"#N/A"},1850,1312,754,6.6,{"$error":"#N/A"},5.0999999999999996,{"$error":"#N/A"},{"$error":"#N/A"},1.1000000000000001,{"$error":"#N/A"},{"$error":"#N/A"},{"$error":"#N/A"},68.5,39.351999999999997,82080,69064,77779,{"$error":"#N/A"},{"$error":"#N/A"},38.283000000000001,{"$error":"#N/A"},{"$error":"#N/A"},{"$error":"#N/A"},{"$error":"#N/A"},{"$error":"#N/A"},{"$error":"#N/A"},{"$error":"#N/A"}]
[null,null,null,"1979-02-01",{"$error":"#N/A"},38.99,39.159999999999997,{"$error":"#N/A"},{"$error":"#N/A"},{"$error":"#N/A"},{"$error":"#N/A"},{"$error":"#N/A"},{"$error":"#N/A"},{"$error":"#N/A"},{"$error":"#N/A"},{"$error":"#N/A"},{"$error":"#N/A"},{"$error":"#N/A"},{"$error":"#N/A"},{"$error":"#N/A"},{"$error":"#N/A"},{"$error":"#N/A"},1845,1318,723,6.8,{"$error":"#N/A"},5.0999999999999996,{"$error":"#N/A"},{"$error":"#N/A"},1.1000000000000001,{"$error":"#N/A"},{"$error":"#N/A"},{"$error":"#N/A"},69.2,39.351999999999997,82211,69162,77895,{"$error":"#N/A"},{"$error":"#N/A"},38.283000000000001,{"$error":"#N/A"},{"$error":"#N/A"},{"$error":"#N/A"},{"$error":"#N/A"},{"$error":"#N/A"},{"$error":"#N/A"},{"$error":"#N/A"}]
[null,null,null,"1979-03-01",{"$error":"#N/A"},39.51,39.61,{"$error":"#N/A"},{"$error":"#N/A"},{"$error":"#N/A"},{"$error":"#N/A"},{"$error":"#N/A"},{"$error":"#N/A"},{"$error":"#N/A"},{"$error":"#N/A"},{"$error":"#N/A"},{"$error":"#N/A"},{"$error":"#N/A"},{"$error":"#N/A"},{"$error":"#N/A"},{"$error":"#N/A"},{"$error":"#N/A"},1946,1402,793,6.6,{"$error":"#N/A"},5.0999999999999996,{"$error":"#N/A"},{"$error":"#N/A"},1.1000000000000001,{"$error":"#N/A"},{"$error":"#N/A"},{"$error":"#N/A"},69.900000000000006,39.351999999999997,82359,69294,78050,{"$error":"#N/A"},{"$error":"#N/A"},38.283000000000001,{"$error":"#N/A"},{"$error":"#N/A"},{"$error":"#N/A"},{"$error":"#N/A"},{"$error":"#N/A"},{"$error":"#N/A"},{"$error":"#N/A"}]
[null,null,null,"1979-04-01",{"$error":"#N/A"},40.020000000000003,40.03,{"$error":"#N/A"},{"$error":"#N/A"},{"$error":"#N/A"},{"$error":"#N/A"},{"$error":"#N/A"},{"$error":"#N/A"},{"$error":"#N/A"},{"$error":"#N/A"},{"$error":"#N/A"},{"$error":"#N/A"},{"$error":"#N/A"},{"$error":"#N/A"},{"$error":"#N/A"},{"$error":"#N/A"},{"$error":"#N/A"},1866,1342,748,6.8,{"$error":"#N/A"},5.5,{"$error":"#N/A"},{"$error":"#N/A"},1.1000000000000001,{"$error":"#N/A"},{"$error":"#N/A"},{"$error":"#N/A"},70.599999999999994,40.304000000000002,82470,69368,78121,{"$error":"#N/A"},{"$error":"#N/A"},39.122,{"$error":"#N/A"},{"$error":"#N/A"},{"$error":"#N/A"},{"$error":"#N/A"},{"$error":"#N/A"},{"$error":"#N/A"},{"$error":"#N/A"}]
[null,null,null,"1979-05-01",{"$error":"#N/A"},40.53,40.46,{"$error":"#N/A"},{"$error":"#N/A"},{"$error":"#N/A"},{"$error":"#N/A"},{"$error":"#N/A"},{"$error":"#N/A"},{"$error":"#N/A"},{"$error":"#N/A"},{"$error":"#N/A"},{"$error":"#N/A"},{"$error":"#N/A"},{"$error":"#N/A"},{"$error":"#N/A"},{"$error":"#N/A"},{"$error":"#N/A"},2007,1335,727,7.1,{"$error":"#N/A"},5.5,{"$error":"#N/A"},{"$error":"#N/A"},1.1000000000000001,{"$error":"#N/A"},{"$error":"#N/A"},{"$error":"#N/A"},71.400000000000006,40.304000000000002,82632,69515,78281,{"$error":"#N/A"},{"$error":"#N/A"},39.122,{"$error":"#N/A"},{"$error":"#N/A"},{"$error":"#N/A"},{"$error":"#N/A"},{"$error":"#N/A"},{"$error":"#N/A"},{"$error":"#N/A"}]
[null,null,null,"1979-06-01",{"$error":"#N/A"},41.05,40.96,{"$error":"#N/A"},{"$error":"#N/A"},{"$error":"#N/A"},{"$error":"#N/A"},{"$error":"#N/A"},{"$error":"#N/A"},{"$error":"#N/A"},{"$error":"#N/A"},{"$error":"#N/A"},{"$error":"#N/A"},{"$error":"#N/A"},{"$error":"#N/A"},{"$error":"#N/A"},{"$error":"#N/A"},{"$error":"#N/A"},1853,1338,700,7.4,{"$error":"#N/A"},5.5,{"$error":"#N/A"},{"$error":"#N/A"},1.1000000000000001,{"$error":"#N/A"},{"$error":"#N/A"},{"$error":"#N/A"},72.2,40.304000000000002,82789,{"$f":"INDEX(INDIRECT(\"'\"&AL$7&\"'!B:B\"),MATCH($D289,INDIRECT(\"'\"&AL$7&\"'!A:A\")))","v":69643},78421,{"$error":"#N/A"},{"$error":"#N/A"},39.122,{"$error":"#N/A"},{"$error":"#N/A"},{"$error":"#N/A"},{"$error":"#N/A"},{"$error":"#N/A"},{"$error":"#N/A"},{"$error":"#N/A"}]
[null,null,null,"1979-07-01",{"$error":"#N/A"},41.5,41.39,{"$error":"#N/A"},{"$error":"#N/A"},{"$error":"#N/A"},{"$error":"#N/A"},{"$error":"#N/A"},{"$error":"#N/A"},{"$error":"#N/A"},{"$error":"#N/A"},{"$error":"#N/A"},{"$error":"#N/A"},{"$error":"#N/A"},{"$error":"#N/A"},{"$error":"#N/A"},{"$error":"#N/A"},{"$error":"#N/A"},1759,1238,715,7.1,{"$error":"#N/A"},5.7,{"$error":"#N/A"},{"$error":"#N/A"},1.2,{"$error":"#N/A"},{"$error":"#N/A"},{"$error":"#N/A"},73,41.164999999999999,82926,69754,78553,{"$error":"#N/A"},{"$error":"#N/A"},39.841000000000001,{"$error":"#N/A"},{"$error":"#N/A"},{"$error":"#N/A"},{"$error":"#N/A"},{"$error":"#N/A"},{"$error":"#N/A"},{"$error":"#N/A"}]
[null,null,null,"1979-08-01",{"$error":"#N/A"},41.92,41.8,{"$error":"#N/A"},{"$error":"#N/A"},{"$error":"#N/A"},{"$error":"#N/A"},{"$error":"#N/A"},{"$error":"#N/A"},{"$error":"#N/A"},{"$error":"#N/A"},{"$error":"#N/A"},{"$error":"#N/A"},{"$error":"#N/A"},{"$error":"#N/A"},{"$error":"#N/A"},{"$error":"#N/A"},{"$error":"#N/A"},1779,1241,729,6.9,{"$error":"#N/A"},5.7,{"$error":"#N/A"},{"$error":"#N/A"},1.2,{"$error":"#N/A"},{"$error":"#N/A"},{"$error":"#N/A"},73.7,41.164999999999999,83068,69866,78677,{"$error":"#N/A"},{"$error":"#N/A"},39.841000000000001,{"$error":"#N/A"},{"$error":"#N/A"},{"$error":"#N/A"},{"$error":"#N/A"},{"$error":"#N/A"},{"$error":"#N/A"},{"$error":"#N/A"}]
[null,null,null,"1979-09-01",{"$error":"#N/A"},42.29,42.19,{"$error":"#N/A"},{"$error":"#N/A"},{"$error":"#N/A"},{"$error":"#N/A"},{"$error":"#N/A"},{"$error":"#N/A"},{"$error":"#N/A"},{"$error":"#N/A"},{"$error":"#N/A"},{"$error":"#N/A"},{"$error":"#N/A"},{"$error":"#N/A"},{"$error":"#N/A"},{"$error":"#N/A"},{"$error":"#N/A"},1983,1251,727,7.4,{"$error":"#N/A"},5.7,{"$error":"#N/A"},{"$error":"#N/A"},1.2,{"$error":"#N/A"},{"$error":"#N/A"},{"$error":"#N/A"},74.400000000000006,41.164999999999999,83211,69982,78805,{"$error":"#N/A"},{"$error":"#N/A"},39.841000000000001,{"$error":"#N/A"},{"$error":"#N/A"},{"$error":"#N/A"},{"$error":"#N/A"},{"$error":"#N/A"},{"$error":"#N/A"},{"$error":"#N/A"}]
[null,null,null,"1979-10-01",{"$error":"#N/A"},42.67,42.62,{"$error":"#N/A"},{"$error":"#N/A"},{"$error":"#N/A"},{"$error":"#N/A"},{"$error":"#N/A"},{"$error":"#N/A"},{"$error":"#N/A"},{"$error":"#N/A"},{"$error":"#N/A"},{"$error":"#N/A"},{"$error":"#N/A"},{"$error":"#N/A"},{"$error":"#N/A"},{"$error":"#N/A"},{"$error":"#N/A"},1832,1272,670,7.4,{"$error":"#N/A"},5.4,{"$error":"#N/A"},{"$error":"#N/A"},1.3,{"$error":"#N/A"},{"$error":"#N/A"},{"$error":"#N/A"},75.2,41.985999999999997,83439,70166,78998,{"$error":"#N/A"},{"$error":"#N/A"},40.668999999999997,{"$error":"#N/A"},{"$error":"#N/A"},{"$error":"#N/A"},{"$error":"#N/A"},{"$error":"#N/A"},{"$error":"#N/A"},{"$error":"#N/A"}]
[null,null,null,"1979-11-01",{"$error":"#N/A"},42.97,42.99,{"$error":"#N/A"},{"$error":"#N/A"},{"$error":"#N/A"},{"$error":"#N/A"},{"$error":"#N/A"},{"$error":"#N/A"},{"$error":"#N/A"},{"$error":"#N/A"},{"$error":"#N/A"},{"$error":"#N/A"},{"$error":"#N/A"},{"$error":"#N/A"},{"$error":"#N/A"},{"$error":"#N/A"},{"$error":"#N/A"},1892,1269,597,8.3000000000000007,{"$error":"#N/A"},5.4,{"$error":"#N/A"},{"$error":"#N/A"},1.3,{"$error":"#N/A"},{"$error":"#N/A"},{"$error":"#N/A"},76,41.985999999999997,83582,70281,79127,{"$error":"#N/A"},{"$error":"#N/A"},40.668999999999997,{"$error":"#N/A"},{"$error":"#N/A"},{"$error":"#N/A"},{"$error":"#N/A"},{"$error":"#N/A"},{"$error":"#N/A"},{"$error":"#N/A"}]
[null,null,null,"1979-12-01",{"$error":"#N/A"},43.23,43.31,{"$error":"#N/A"},{"$error":"#N/A"},{"$error":"#N/A"},{"$error":"#N/A"},{"$error":"#N/A"},{"$error":"#N/A"},{"$error":"#N/A"},{"$error":"#N/A"},{"$error":"#N/A"},{"$error":"#N/A"},{"$error":"#N/A"},{"$error":"#N/A"},{"$error":"#N/A"},{"$error":"#N/A"},{"$error":"#N/A"},1863,1310,559,8.6,{"$error":"#N/A"},5.4,{"$error":"#N/A"},{"$error":"#N/A"},1.3,{"$error":"#N/A"},{"$error":"#N/A"},{"$error":"#N/A"},{"$f":"INDEX(INDIRECT(\"'\"&AI$7&\"'!B:B\"),MATCH($D295,INDIRECT(\"'\"&AI$7&\"'!A:A\")))","v":76.900000000000006},41.985999999999997,83737,70424,79255,{"$error":"#N/A"},{"$error":"#N/A"},40.668999999999997,{"$error":"#N/A"},{"$error":"#N/A"},{"$error":"#N/A"},{"$error":"#N/A"},{"$error":"#N/A"},{"$error":"#N/A"},{"$error":"#N/A"}]
[null,null,null,"1980-01-01",{"$error":"#N/A"},43.44,43.59,{"$error":"#N/A"},{"$error":"#N/A"},{"$error":"#N/A"},{"$error":"#N/A"},{"$error":"#N/A"},{"$error":"#N/A"},{"$error":"#N/A"},10.621969999999999,65.5,{"$error":"#N/A"},{"$error":"#N/A"},{"$error":"#N/A"},{"$error":"#N/A"},{"$error":"#N/A"},{"$error":"#N/A"},1794,1241,592,7.9,{"$error":"#N/A"},5.2,{"$error":"#N/A"},{"$error":"#N/A"},1.3,{"$error":"#N/A"},{"$error":"#N/A"},{"$error":"#N/A"},78,42.859000000000002,83886,70538,79385,{"$error":"#N/A"},{"$error":"#N/A"},41.658999999999999,{"$error":"#N/A"},{"$error":"#N/A"},{"$error":"#N/A"},{"$error":"#N/A"},{"$error":"#N/A"},{"$error":"#N/A"},{"$error":"#N/A"}]
[null,null,null,"1980-02-01",{"$error":"#N/A"},43.69,43.87,{"$error":"#N/A"},{"$error":"#N/A"},{"$error":"#N/A"},{"$error":"#N/A"},{"$error":"#N/A"},{"$error":"#N/A"},{"$error":"#N/A"},10.621969999999999,65.5,{"$error":"#N/A"},{"$error":"#N/A"},{"$error":"#N/A"},{"$error":"#N/A"},{"$error":"#N/A"},{"$error":"#N/A"},1803,1181,541,8.6,{"$error":"#N/A"},5.2,{"$error":"#N/A"},{"$error":"#N/A"},1.3,{"$error":"#N/A"},{"$error":"#N/A"},{"$error":"#N/A"},79,42.859000000000002,84026,70638,79506,{"$error":"#N/A"},{"$error":"#N/A"},41.658999999999999,{"$error":"#N/A"},{"$error":"#N/A"},{"$error":"#N/A"},{"$error":"#N/A"},{"$error":"#N/A"},{"$error":"#N/A"},{"$error":"#N/A"}]
[null,null,null,"1980-03-01",{"$error":"#N/A"},44.06,44.17,{"$error":"#N/A"},{"$error":"#N/A"},{"$error":"#N/A"},{"$error":"#N/A"},{"$error":"#N/A"},{"$error":"#N/A"},{"$error":"#N/A"},10.621969999999999,65.5,{"$error":"#N/A"},{"$error":"#N/A"},{"$error":"#N/A"},{"$error":"#N/A"},{"$error":"#N/A"},{"$error":"#N/A"},1701,1114,474,9.8000000000000007,{"$error":"#N/A"},5.2,{"$error":"#N/A"},{"$error":"#N/A"},1.3,{"$error":"#N/A"},{"$error":"#N/A"},{"$error":"#N/A"},80.099999999999994,42.859000000000002,84163,70745,79626,{"$error":"#N/A"},{"$error":"#N/A"},41.658999999999999,{"$error":"#N/A"},{"$error":"#N/A"},{"$error":"#N/A"},{"$error":"#N/A"},{"$error":"#N/A"},{"$error":"#N/A"},{"$error":"#N/A"}]
[null,null,null,"1980-04-01",{"$error":"#N/A"},44.46,44.48,{"$error":"#N/A"},{"$error":"#N/A"},{"$error":"#N/A"},{"$error":"#N/A"},{"$error":"#N/A"},{"$error":"#N/A"},{"$error":"#N/A"},10.705450000000001,65.599999999999994,{"$error":"#N/A"},{"$error":"#N/A"},{"$error":"#N/A"},{"$error":"#N/A"},{"$error":"#N/A"},{"$error":"#N/A"},1751,1076,370,11.6,{"$error":"#N/A"},5.6,{"$error":"#N/A"},{"$error":"#N/A"},1.4,{"$error":"#N/A"},{"$error":"#N/A"},{"$error":"#N/A"},80.900000000000006,43.8,84311,70852,79746,{"$error":"#N/A"},{"$error":"#N/A"},42.588999999999999,{"$error":"#N/A"},{"$error":"#N/A"},{"$error":"#N/A"},{"$error":"#N/A"},{"$error":"#N/A"},{"$error":"#N/A"},{"$error":"#N/A"}]
[null,null,null,"1980-05-01",{"$error":"#N/A"},44.77,44.71,{"$error":"#N/A"},{"$error":"#N/A"},{"$error":"#N/A"},{"$error":"#N/A"},{"$error":"#N/A"},{"$error":"#N/A"},{"$error":"#N/A"},10.705450000000001,65.599999999999994,{"$error":"#N/A"},{"$error":"#N/A"},{"$error":"#N/A"},{"$error":"#N/A"},{"$error":"#N/A"},{"$error":"#N/A"},1532,970,469,9.1999999999999993,{"$error":"#N/A"},5.6,{"$error":"#N/A"},{"$error":"#N/A"},1.4,{"$error":"#N/A"},{"$error":"#N/A"},{"$error":"#N/A"},81.7,43.8,84458,70960,79863,{"$error":"#N/A"},{"$error":"#N/A"},42.588999999999999,{"$error":"#N/A"},{"$error":"#N/A"},{"$error":"#N/A"},{"$error":"#N/A"},{"$error":"#N/A"},{"$error":"#N/A"},{"$error":"#N/A"}]
[null,null,null,"1980-06-01",{"$error":"#N/A"},45.05,44.95,{"$error":"#N/A"},{"$error":"#N/A"},{"$error":"#N/A"},{"$error":"#N/A"},{"$error":"#N/A"},{"$error":"#N/A"},{"$error":"#N/A"},10.705450000000001,65.599999999999994,{"$error":"#N/A"},{"$error":"#N/A"},{"$error":"#N/A"},{"$error":"#N/A"},{"$error":"#N/A"},{"$error":"#N/A"},1480,912,552,7.6,{"$error":"#N/A"},5.6,{"$error":"#N/A"},{"$error":"#N/A"},1.4,{"$f":"INDEX(INDIRECT(\"'\"&AF$7&\"'!B:B\"),MATCH($D301,INDIRECT(\"'\"&AF$7&\"'!A:A\")))","v":{"$error":"#N/A"}},{"$error":"#N/A"},{"$error":"#N/A"},82.5,43.8,84612,71076,79996,{"$error":"#N/A"},{"$error":"#N/A"},42.588999999999999,{"$error":"#N/A"},{"$error":"#N/A"},{"$error":"#N/A"},{"$error":"#N/A"},{"$error":"#N/A"},{"$error":"#N/A"},{"$error":"#N/A"}]
[null,null,null,"1980-07-01",{"$error":"#N/A"},45.37,45.24,{"$error":"#N/A"},{"$error":"#N/A"},{"$error":"#N/A"},{"$error":"#N/A"},{"$error":"#N/A"},{"$error":"#N/A"},{"$error":"#N/A"},10.464090000000001,65.599999999999994,{"$error":"#N/A"},{"$error":"#N/A"},{"$error":"#N/A"},{"$error":"#N/A"},{"$error":"#N/A"},{"$error":"#N/A"},1472,874,636,6.5,{"$error":"#N/A"},5.7,{"$error":"#N/A"},{"$error":"#N/A"},1.4,{"$error":"#N/A"},{"$error":"#N/A"},{"$error":"#N/A"},82.6,44.808,84798,71215,80151,{"$error":"#N/A"},{"$error":"#N/A"},43.533999999999999,{"$error":"#N/A"},{"$error":"#N/A"},{"$error":"#N/A"},{"$error":"#N/A"},{"$error":"#N/A"},{"$error":"#N/A"},{"$error":"#N/A"}]
[null,null,null,"1980-08-01",{"$error":"#N/A"},45.64,45.5,{"$error":"#N/A"},{"$error":"#N/A"},{"$error":"#N/A"},{"$error":"#N/A"},{"$error":"#N/A"},{"$error":"#N/A"},{"$error":"#N/A"},10.464090000000001,65.599999999999994,{"$error":"#N/A"},{"$error":"#N/A"},{"$error":"#N/A"},{"$error":"#N/A"},{"$error":"#N/A"},{"$error":"#N/A"},1440,939,659,6,{"$error":"#N/A"},5.7,{"$error":"#N/A"},{"$error":"#N/A"},1.4,{"$error":"#N/A"},{"$error":"#N/A"},{"$error":"#N/A"},83.2,44.808,84932,71309,80264,{"$error":"#N/A"},{"$error":"#N/A"},43.533999999999999,{"$error":"#N/A"},{"$error":"#N/A"},{"$error":"#N/A"},{"$error":"#N/A"},{"$error":"#N/A"},{"$error":"#N/A"},{"$error":"#N/A"}]
[null,null,null,"1980-09-01",{"$error":"#N/A"},45.86,45.76,{"$error":"#N/A"},{"$error":"#N/A"},{"$error":"#N/A"},{"$error":"#N/A"},{"$error":"#N/A"},{"$error":"#N/A"},{"$error":"#N/A"},10.464090000000001,65.599999999999994,{"$error":"#N/A"},{"$error":"#N/A"},{"$error":"#N/A"},{"$error":"#N/A"},{"$error":"#N/A"},{"$error":"#N/A"},1267,759,596,7.3,{"$error":"#N/A"},5.7,{"$error":"#N/A"},{"$error":"#N/A"},1.4,{"$error":"#N/A"},{"$error":"#N/A"},{"$error":"#N/A"},83.9,44.808,85076,71414,80383,{"$error":"#N/A"},{"$error":"#N/A"},43.533999999999999,{"$error":"#N/A"},{"$error":"#N/A"},{"$error":"#N/A"},{"$error":"#N/A"},{"$error":"#N/A"},{"$error":"#N/A"},{"$error":"#N/A"}]
[null,null,null,"1980-10-01",{"$error":"#N/A"},46.05,46,{"$error":"#N/A"},{"$error":"#N/A"},{"$error":"#N/A"},{"$error":"#N/A"},{"$error":"#N/A"},{"$error":"#N/A"},{"$error":"#N/A"},10.25113,65.599999999999994,{"$error":"#N/A"},{"$error":"#N/A"},{"$error":"#N/A"},{"$error":"#N/A"},{"$error":"#N/A"},{"$error":"#N/A"},1272,829,561,7.3,{"$error":"#N/A"},5,{"$error":"#N/A"},{"$error":"#N/A"},1.4,{"$error":"#N/A"},{"$error":"#N/A"},{"$error":"#N/A"},84.7,46.045999999999999,85227,71533,80502,{"$error":"#N/A"},{"$error":"#N/A"},44.591999999999999,{"$error":"#N/A"},{"$error":"#N/A"},{"$error":"#N/A"},{"$error":"#N/A"},{"$error":"#N/A"},{"$error":"#N/A"},{"$error":"#N/A"}]
[null,null,null,"1980-11-01",{"$error":"#N/A"},46.23,46.26,{"$error":"#N/A"},{"$error":"#N/A"},{"$error":"#N/A"},{"$error":"#N/A"},{"$error":"#N/A"},{"$error":"#N/A"},{"$error":"#N/A"},10.25113,65.599999999999994,{"$error":"#N/A"},{"$error":"#N/A"},{"$error":"#N/A"},{"$error":"#N/A"},{"$error":"#N/A"},{"$error":"#N/A"},1313,842,562,7.4,{"$error":"#N/A"},5,{"$error":"#N/A"},{"$error":"#N/A"},1.4,{"$error":"#N/A"},{"$error":"#N/A"},{"$error":"#N/A"},85.6,46.045999999999999,85369,71636,80617,{"$error":"#N/A"},{"$error":"#N/A"},44.591999999999999,{"$error":"#N/A"},{"$error":"#N/A"},{"$error":"#N/A"},{"$error":"#N/A"},{"$error":"#N/A"},{"$error":"#N/A"},{"$error":"#N/A"}]
[null,null,null,"1980-12-01",{"$error":"#N/A"},46.41,46.51,{"$error":"#N/A"},{"$error":"#N/A"},{"$error":"#N/A"},{"$error":"#N/A"},{"$error":"#N/A"},{"$error":"#N/A"},{"$error":"#N/A"},10.25113,65.599999999999994,{"$error":"#N/A"},{"$error":"#N/A"},{"$error":"#N/A"},{"$error":"#N/A"},{"$error":"#N/A"},{"$error":"#N/A"},1378,902,532,7.6,{"$error":"#N/A"},5,{"$f":"INDEX(INDIRECT(\"'\"&AC$7&\"'!B:B\"),MATCH($D307,INDIRECT(\"'\"&AC$7&\"'!A:A\")))","v":{"$error":"#N/A"}},{"$error":"#N/A"},1.4,{"$error":"#N/A"},{"$error":"#N/A"},{"$error":"#N/A"},86.4,46.045999999999999,85508,71733,80732,{"$error":"#N/A"},{"$error":"#N/A"},44.591999999999999,{"$error":"#N/A"},{"$error":"#N/A"},{"$error":"#N/A"},{"$error":"#N/A"},{"$error":"#N/A"},{"$error":"#N/A"},{"$error":"#N/A"}]
[null,null,null,"1981-01-01",{"$error":"#N/A"},46.56,46.71,{"$error":"#N/A"},{"$error":"#N/A"},{"$error":"#N/A"},{"$error":"#N/A"},{"$error":"#N/A"},{"$error":"#N/A"},{"$error":"#N/A"},10.31109,65.599999999999994,{"$error":"#N/A"},{"$error":"#N/A"},{"$error":"#N/A"},{"$error":"#N/A"},{"$error":"#N/A"},{"$error":"#N/A"},1270,898,511,8,{"$error":"#N/A"},5.2,{"$error":"#N/A"},{"$error":"#N/A"},1.3,{"$error":"#N/A"},{"$error":"#N/A"},{"$error":"#N/A"},87.2,47.195999999999998,85659,71850,80856,{"$error":"#N/A"},{"$error":"#N/A"},45.581000000000003,{"$error":"#N/A"},{"$error":"#N/A"},{"$error":"#N/A"},{"$error":"#N/A"},{"$error":"#N/A"},{"$error":"#N/A"},{"$error":"#N/A"}]
[null,null,null,"1981-02-01",{"$error":"#N/A"},46.74,46.93,{"$error":"#N/A"},{"$error":"#N/A"},{"$error":"#N/A"},{"$error":"#N/A"},{"$error":"#N/A"},{"$error":"#N/A"},{"$error":"#N/A"},10.31109,65.599999999999994,{"$error":"#N/A"},{"$error":"#N/A"},{"$error":"#N/A"},{"$error":"#N/A"},{"$error":"#N/A"},{"$error":"#N/A"},1395,961,510,8.1,{"$error":"#N/A"},5.2,{"$error":"#N/A"},{"$error":"#N/A"},1.3,{"$error":"#N/A"},{"$error":"#N/A"},{"$error":"#N/A"},88,47.195999999999998,85809,71951,80966,{"$error":"#N/A"},{"$error":"#N/A"},45.581000000000003,{"$error":"#N/A"},{"$error":"#N/A"},{"$error":"#N/A"},{"$error":"#N/A"},{"$error":"#N/A"},{"$error":"#N/A"},{"$error":"#N/A"}]
[null,null,null,"1981-03-01",{"$error":"#N/A"},47.03,47.15,{"$error":"#N/A"},{"$error":"#N/A"},{"$error":"#N/A"},{"$error":"#N/A"},{"$error":"#N/A"},{"$error":"#N/A"},{"$error":"#N/A"},10.31109,65.599999999999994,{"$error":"#N/A"},{"$error":"#N/A"},{"$error":"#N/A"},{"$error":"#N/A"},{"$error":"#N/A"},{"$error":"#N/A"},1377,888,514,7.7,{"$error":"#N/A"},5.2,{"$error":"#N/A"},{"$error":"#N/A"},1.3,{"$error":"#N/A"},{"$error":"#N/A"},{"$error":"#N/A"},88.6,47.195999999999998,85950,72037,81076,{"$error":"#N/A"},{"$error":"#N/A"},45.581000000000003,{"$error":"#N/A"},{"$error":"#N/A"},{"$error":"#N/A"},{"$error":"#N/A"},{"$error":"#N/A"},{"$error":"#N/A"},{"$error":"#N/A"}]
[null,null,null,"1981-04-01",{"$error":"#N/A"},47.46,47.49,{"$error":"#N/A"},{"$error":"#N/A"},{"$error":"#N/A"},{"$error":"#N/A"},{"$error":"#N/A"},{"$error":"#N/A"},{"$error":"#N/A"},10.456379999999999,65.400000000000006,{"$error":"#N/A"},{"$error":"#N/A"},{"$error":"#N/A"},{"$error":"#N/A"},{"$error":"#N/A"},{"$error":"#N/A"},1469,935,470,8.6,{"$error":"#N/A"},5,{"$error":"#N/A"},{"$error":"#N/A"},1.3,{"$error":"#N/A"},{"$error":"#N/A"},{"$error":"#N/A"},89.1,48.081000000000003,86100,72142,81193,{"$error":"#N/A"},{"$error":"#N/A"},46.436999999999998,{"$error":"#N/A"},{"$error":"#N/A"},{"$error":"#N/A"},{"$error":"#N/A"},{"$error":"#N/A"},{"$error":"#N/A"},{"$error":"#N/A"}]
[null,null,null,"1981-05-01",{"$error":"#N/A"},47.8,47.74,{"$error":"#N/A"},{"$error":"#N/A"},{"$error":"#N/A"},{"$error":"#N/A"},{"$error":"#N/A"},{"$error":"#N/A"},{"$error":"#N/A"},10.456379999999999,65.400000000000006,{"$error":"#N/A"},{"$error":"#N/A"},{"$error":"#N/A"},{"$error":"#N/A"},{"$error":"#N/A"},{"$error":"#N/A"},1246,879,467,8.4,{"$error":"#N/A"},5,{"$error":"#N/A"},{"$error":"#N/A"},1.3,{"$error":"#N/A"},{"$error":"#N/A"},{"$error":"#N/A"},89.7,48.081000000000003,86250,72251,81308,{"$error":"#N/A"},{"$error":"#N/A"},46.436999999999998,{"$error":"#N/A"},{"$error":"#N/A"},{"$error":"#N/A"},{"$error":"#N/A"},{"$error":"#N/A"},{"$error":"#N/A"},{"$error":"#N/A"}]
[null,null,null,"1981-06-01",{"$error":"#N/A"},48.1,48,{"$error":"#N/A"},{"$error":"#N/A"},{"$error":"#N/A"},{"$error":"#N/A"},{"$error":"#N/A"},{"$error":"#N/A"},{"$error":"#N/A"},10.456379999999999,65.400000000000006,{"$error":"#N/A"},{"$error":"#N/A"},{"$error":"#N/A"},{"$error":"#N/A"},{"$error":"#N/A"},{"$error":"#N/A"},1350,864,415,{"$f":"INDEX(INDIRECT(\"'\"&Z$7&\"'!B:B\"),MATCH($D313,INDIRECT(\"'\"&Z$7&\"'!A:A\")))","v":9.1999999999999993},{"$error":"#N/A"},5,{"$error":"#N/A"},{"$error":"#N/A"},1.3,{"$error":"#N/A"},{"$error":"#N/A"},{"$error":"#N/A"},90.5,48.081000000000003,86398,72359,81434,{"$error":"#N/A"},{"$error":"#N/A"},46.436999999999998,{"$error":"#N/A"},{"$error":"#N/A"},{"$error":"#N/A"},{"$error":"#N/A"},{"$error":"#N/A"},{"$error":"#N/A"},{"$error":"#N/A"}]
[null,null,null,"1981-07-01",{"$error":"#N/A"},48.35,48.2,{"$error":"#N/A"},{"$error":"#N/A"},{"$error":"#N/A"},{"$error":"#N/A"},{"$error":"#N/A"},{"$error":"#N/A"},{"$error":"#N/A"},10.357839999999999,65.400000000000006,{"$error":"#N/A"},{"$error":"#N/A"},{"$error":"#N/A"},{"$error":"#N/A"},{"$error":"#N/A"},{"$error":"#N/A"},1337,851,431,9,{"$error":"#N/A"},5,{"$error":"#N/A"},{"$error":"#N/A"},1.5,{"$error":"#N/A"},{"$error":"#N/A"},{"$error":"#N/A"},91.5,48.945999999999998,86553,72472,81561,{"$error":"#N/A"},{"$error":"#N/A"},47.286999999999999,{"$error":"#N/A"},{"$error":"#N/A"},{"$error":"#N/A"},{"$error":"#N/A"},{"$error":"#N/A"},{"$error":"#N/A"},{"$error":"#N/A"}]
[null,null,null,"1981-08-01",{"$error":"#N/A"},48.59,48.42,{"$error":"#N/A"},{"$error":"#N/A"},{"$error":"#N/A"},{"$error":"#N/A"},{"$error":"#N/A"},{"$error":"#N/A"},{"$error":"#N/A"},10.357839999999999,65.400000000000006,{"$error":"#N/A"},{"$error":"#N/A"},{"$error":"#N/A"},{"$error":"#N/A"},{"$error":"#N/A"},{"$error":"#N/A"},1222,801,378,9.8000000000000007,{"$error":"#N/A"},5,{"$error":"#N/A"},{"$error":"#N/A"},1.5,{"$error":"#N/A"},{"$error":"#N/A"},{"$error":"#N/A"},92.2,48.945999999999998,86698,72559,81671,{"$error":"#N/A"},{"$error":"#N/A"},47.286999999999999,{"$error":"#N/A"},{"$error":"#N/A"},{"$error":"#N/A"},{"$error":"#N/A"},{"$error":"#N/A"},{"$error":"#N/A"},{"$error":"#N/A"}]
[null,null,null,"1981-09-01",{"$error":"#N/A"},48.68,48.56,{"$error":"#N/A"},{"$error":"#N/A"},{"$error":"#N/A"},{"$error":"#N/A"},{"$error":"#N/A"},{"$error":"#N/A"},{"$error":"#N/A"},10.357839999999999,65.400000000000006,{"$error":"#N/A"},{"$error":"#N/A"},{"$error":"#N/A"},{"$error":"#N/A"},{"$error":"#N/A"},{"$error":"#N/A"},1221,795,338,11.3,{"$error":"#N/A"},5,{"$error":"#N/A"},{"$error":"#N/A"},1.5,{"$error":"#N/A"},{"$error":"#N/A"},{"$error":"#N/A"},93.1,48.945999999999998,86862,72670,81792,{"$error":"#N/A"},{"$error":"#N/A"},47.286999999999999,{"$error":"#N/A"},{"$error":"#N/A"},{"$error":"#N/A"},{"$error":"#N/A"},{"$error":"#N/A"},{"$error":"#N/A"},{"$error":"#N/A"}]
[null,null,null,"1981-10-01",{"$error":"#N/A"},48.76,48.7,{"$error":"#N/A"},{"$error":"#N/A"},{"$error":"#N/A"},{"$error":"#N/A"},{"$error":"#N/A"},{"$error":"#N/A"},{"$error":"#N/A"},10.422700000000001,65.3,{"$error":"#N/A"},{"$error":"#N/A"},{"$error":"#N/A"},{"$error":"#N/A"},{"$error":"#N/A"},{"$error":"#N/A"},1206,712,356,10.3,{"$error":"#N/A"},5,{"$error":"#N/A"},{"$error":"#N/A"},1.4,{"$error":"#N/A"},{"$error":"#N/A"},{"$error":"#N/A"},93.4,49.863,87036,72795,81920,{"$error":"#N/A"},{"$error":"#N/A"},48.122,{"$error":"#N/A"},{"$error":"#N/A"},{"$error":"#N/A"},{"$error":"#N/A"},{"$error":"#N/A"},{"$error":"#N/A"},{"$error":"#N/A"}]
[null,null,null,"1981-11-01",{"$error":"#N/A"},48.76,48.8,{"$error":"#N/A"},{"$error":"#N/A"},{"$error":"#N/A"},{"$error":"#N/A"},{"$error":"#N/A"},{"$error":"#N/A"},{"$error":"#N/A"},10.422700000000001,65.3,{"$error":"#N/A"},{"$error":"#N/A"},{"$error":"#N/A"},{"$error":"#N/A"},{"$error":"#N/A"},{"$error":"#N/A"},1074,672,382,9.1,{"$error":"#N/A"},5,{"$error":"#N/A"},{"$error":"#N/A"},1.4,{"$error":"#N/A"},{"$error":"#N/A"},{"$error":"#N/A"},93.8,49.863,87203,72921,82038,{"$error":"#N/A"},{"$error":"#N/A"},48.122,{"$error":"#N/A"},{"$error":"#N/A"},{"$error":"#N/A"},{"$error":"#N/A"},{"$error":"#N/A"},{"$error":"#N/A"},{"$error":"#N/A"}]
[null,null,null,"1981-12-01",{"$error":"#N/A"},48.79,48.89,{"$error":"#N/A"},{"$error":"#N/A"},{"$error":"#N/A"},{"$error":"#N/A"},{"$error":"#N/A"},{"$error":"#N/A"},{"$error":"#N/A"},10.422700000000001,65.3,{"$error":"#N/A"},{"$error":"#N/A"},{"$error":"#N/A"},{"$error":"#N/A"},{"$error":"#N/A"},{"$error":"#N/A"},{"$f":"INDEX(INDIRECT(\"'\"&W$7&\"'!B:B\"),MATCH($D319,INDIRECT(\"'\"&W$7&\"'!A:A\")))","v":1129},682,457,7.1,{"$error":"#N/A"},5,{"$error":"#N/A"},{"$error":"#N/A"},1.4,{"$error":"#N/A"},{"$error":"#N/A"},{"$error":"#N/A"},94.1,49.863,87358,73020,82151,{"$error":"#N/A"},{"$error":"#N/A"},48.122,{"$error":"#N/A"},{"$error":"#N/A"},{"$error":"#N/A"},{"$error":"#N/A"},{"$error":"#N/A"},{"$error":"#N/A"},{"$error":"#N/A"}]
[null,null,null,"1982-01-01",{"$error":"#N/A"},48.81,48.97,{"$error":"#N/A"},{"$error":"#N/A"},{"$error":"#N/A"},{"$error":"#N/A"},{"$error":"#N/A"},{"$error":"#N/A"},{"$error":"#N/A"},10.503550000000001,64.8,{"$error":"#N/A"},{"$error":"#N/A"},{"$error":"#N/A"},{"$error":"#N/A"},{"$error":"#N/A"},{"$error":"#N/A"},1052,642,368,8.9,{"$error":"#N/A"},5.3,{"$error":"#N/A"},{"$error":"#N/A"},1.4,{"$error":"#N/A"},{"$error":"#N/A"},{"$error":"#N/A"},94.4,50.561,87517,73120,82260,{"$error":"#N/A"},{"$error":"#N/A"},48.817999999999998,{"$error":"#N/A"},{"$error":"#N/A"},{"$error":"#N/A"},{"$error":"#N/A"},{"$error":"#N/A"},{"$error":"#N/A"},{"$error":"#N/A"}]
[null,null,null,"1982-02-01",{"$error":"#N/A"},48.88,49.07,{"$error":"#N/A"},{"$error":"#N/A"},{"$error":"#N/A"},{"$error":"#N/A"},{"$error":"#N/A"},{"$error":"#N/A"},{"$error":"#N/A"},10.503550000000001,64.8,{"$error":"#N/A"},{"$error":"#N/A"},{"$error":"#N/A"},{"$error":"#N/A"},{"$error":"#N/A"},{"$error":"#N/A"},935,555,365,9.1999999999999993,{"$error":"#N/A"},5.3,{"$error":"#N/A"},{"$error":"#N/A"},1.4,{"$error":"#N/A"},{"$error":"#N/A"},{"$error":"#N/A"},94.7,50.561,87670,73209,82367,{"$error":"#N/A"},{"$error":"#N/A"},48.817999999999998,{"$error":"#N/A"},{"$error":"#N/A"},{"$error":"#N/A"},{"$error":"#N/A"},{"$error":"#N/A"},{"$error":"#N/A"},{"$error":"#N/A"}]
[null,null,null,"1982-03-01",{"$error":"#N/A"},48.86,49,{"$error":"#N/A"},{"$error":"#N/A"},{"$error":"#N/A"},{"$error":"#N/A"},{"$error":"#N/A"},{"$error":"#N/A"},{"$error":"#N/A"},10.503550000000001,64.8,{"$error":"#N/A"},{"$error":"#N/A"},{"$error":"#N/A"},{"$error":"#N/A"},{"$error":"#N/A"},{"$error":"#N/A"},965,593,374,8.6999999999999993,{"$error":"#N/A"},5.3,{"$error":"#N/A"},{"$error":"#N/A"},1.4,{"$error":"#N/A"},{"$error":"#N/A"},{"$error":"#N/A"},94.7,50.561,87813,73287,82478,{"$error":"#N/A"},{"$error":"#N/A"},48.817999999999998,{"$error":"#N/A"},{"$error":"#N/A"},{"$error":"#N/A"},{"$error":"#N/A"},{"$error":"#N/A"},{"$error":"#N/A"},{"$error":"#N/A"}]
[null,null,null,"1982-04-01",{"$error":"#N/A"},48.93,48.97,{"$error":"#N/A"},{"$error":"#N/A"},{"$error":"#N/A"},{"$error":"#N/A"},{"$error":"#N/A"},{"$error":"#N/A"},{"$error":"#N/A"},10.564080000000001,65,{"$error":"#N/A"},{"$error":"#N/A"},{"$error":"#N/A"},{"$error":"#N/A"},{"$error":"#N/A"},{"$error":"#N/A"},979,606,339,9.4,{"$error":"#N/A"},5.0999999999999996,{"$error":"#N/A"},{"$error":"#N/A"},1.6,{"$error":"#N/A"},{"$error":"#N/A"},{"$error":"#N/A"},95,51.17,87967,73392,82591,{"$error":"#N/A"},{"$error":"#N/A"},49.473999999999997,{"$error":"#N/A"},{"$error":"#N/A"},{"$error":"#N/A"},{"$error":"#N/A"},{"$error":"#N/A"},{"$error":"#N/A"},{"$error":"#N/A"}]
[null,null,null,"1982-05-01",{"$error":"#N/A"},49,48.95,{"$error":"#N/A"},{"$error":"#N/A"},{"$error":"#N/A"},{"$error":"#N/A"},{"$error":"#N/A"},{"$error":"#N/A"},{"$error":"#N/A"},10.564080000000001,65,{"$error":"#N/A"},{"$error":"#N/A"},{"$error":"#N/A"},{"$error":"#N/A"},{"$error":"#N/A"},{"$error":"#N/A"},1060,683,384,8.3000000000000007,{"$error":"#N/A"},5.0999999999999996,{"$error":"#N/A"},{"$error":"#N/A"},1.6,{"$error":"#N/A"},{"$error":"#N/A"},{"$error":"#N/A"},95.9,51.17,88128,73499,82707,{"$error":"#N/A"},{"$error":"#N/A"},49.473999999999997,{"$error":"#N/A"},{"$error":"#N/A"},{"$error":"#N/A"},{"$error":"#N/A"},{"$error":"#N/A"},{"$error":"#N/A"},{"$error":"#N/A"}]
[null,null,null,"1982-06-01",{"$error":"#N/A"},49,48.9,{"$error":"#N/A"},{"$error":"#N/A"},{"$error":"#N/A"},{"$error":"#N/A"},{"$error":"#N/A"},{"$error":"#N/A"},{"$error":"#N/A"},10.564080000000001,65,{"$error":"#N/A"},{"$error":"#N/A"},{"$error":"#N/A"},{"$f":"INDEX(INDIRECT(\"'\"&T$7&\"'!B:B\"),MATCH($D325,INDIRECT(\"'\"&T$7&\"'!A:A\")))","v":{"$error":"#N/A"}},{"$error":"#N/A"},{"$error":"#N/A"},930,573,370,8.3000000000000007,{"$error":"#N/A"},5.0999999999999996,{"$error":"#N/A"},{"$error":"#N/A"},1.6,{"$error":"#N/A"},{"$error":"#N/A"},{"$error":"#N/A"},97,51.17,88281,73585,82811,{"$error":"#N/A"},{"$error":"#N/A"},49.473999999999997,{"$error":"#N/A"},{"$error":"#N/A"},{"$error":"#N/A"},{"$error":"#N/A"},{"$error":"#N/A"},{"$error":"#N/A"},{"$error":"#N/A"}]
[null,null,null,"1982-07-01",{"$error":"#N/A"},48.99,48.84,{"$error":"#N/A"},{"$error":"#N/A"},{"$error":"#N/A"},{"$error":"#N/A"},{"$error":"#N/A"},{"$error":"#N/A"},{"$error":"#N/A"},10.463939999999999,64.7,{"$error":"#N/A"},{"$error":"#N/A"},{"$error":"#N/A"},{"$error":"#N/A"},{"$error":"#N/A"},{"$error":"#N/A"},1006,671,375,8.1999999999999993,{"$error":"#N/A"},5.3,{"$error":"#N/A"},{"$error":"#N/A"},1.5,{"$error":"#N/A"},{"$error":"#N/A"},{"$error":"#N/A"},97.5,51.906999999999996,88437,73685,82926,{"$error":"#N/A"},{"$error":"#N/A"},50.264000000000003,{"$error":"#N/A"},{"$error":"#N/A"},{"$error":"#N/A"},{"$error":"#N/A"},{"$error":"#N/A"},{"$error":"#N/A"},{"$error":"#N/A"}]
[null,null,null,"1982-08-01",{"$error":"#N/A"},48.97,48.79,{"$error":"#N/A"},{"$error":"#N/A"},{"$error":"#N/A"},{"$error":"#N/A"},{"$error":"#N/A"},{"$error":"#N/A"},{"$error":"#N/A"},10.463939999999999,64.7,{"$error":"#N/A"},{"$error":"#N/A"},{"$error":"#N/A"},{"$error":"#N/A"},{"$error":"#N/A"},{"$error":"#N/A"},985,626,407,7.1,{"$error":"#N/A"},5.3,{"$error":"#N/A"},{"$error":"#N/A"},1.5,{"$error":"#N/A"},{"$error":"#N/A"},{"$error":"#N/A"},97.7,51.906999999999996,88593,73774,83035,{"$error":"#N/A"},{"$error":"#N/A"},50.264000000000003,{"$error":"#N/A"},{"$error":"#N/A"},{"$error":"#N/A"},{"$error":"#N/A"},{"$error":"#N/A"},{"$error":"#N/A"},{"$error":"#N/A"}]
[null,null,null,"1982-09-01",{"$error":"#N/A"},48.99,48.86,{"$error":"#N/A"},{"$error":"#N/A"},{"$error":"#N/A"},{"$error":"#N/A"},{"$error":"#N/A"},{"$error":"#N/A"},{"$error":"#N/A"},10.463939999999999,64.7,{"$error":"#N/A"},{"$error":"#N/A"},{"$error":"#N/A"},{"$error":"#N/A"},{"$error":"#N/A"},{"$error":"#N/A"},947,594,481,6.7,{"$error":"#N/A"},5.3,{"$error":"#N/A"},{"$error":"#N/A"},1.5,{"$error":"#N/A"},{"$error":"#N/A"},{"$error":"#N/A"},97.7,51.906999999999996,88756,73867,83152,{"$error":"#N/A"},{"$error":"#N/A"},50.264000000000003,{"$error":"#N/A"},{"$error":"#N/A"},{"$error":"#N/A"},{"$error":"#N/A"},{"$error":"#N/A"},{"$error":"#N/A"},{"$error":"#N/A"}]
[null,null,null,"1982-10-01",{"$f":"INDEX(INDIRECT(\"'\"&E$7&\"'!B:B\"),MATCH($D329,INDIRECT(\"'\"&E$7&\"'!A:A\")))","v":{"$error":"#N/A"}},48.99,48.93,{"$error":"#N/A"},{"$error":"#N/A"},{"$error":"#N/A"},{"$error":"#N/A"},{"$error":"#N/A"},{"$error":"#N/A"},{"$error":"#N/A"},10.419180000000001,64.7,{"$error":"#N/A"},{"$error":"#N/A"},{"$error":"#N/A"},{"$error":"#N/A"},{"$error":"#N/A"},{"$error":"#N/A"},1059,673,480,6.2,{"$error":"#N/A"},5.5,{"$error":"#N/A"},{"$error":"#N/A"},1.6,{"$error":"#N/A"},{"$error":"#N/A"},{"$error":"#N/A"},98.1,52.482999999999997,88935,73984,83271,{"$error":"#N/A"},{"$error":"#N/A"},50.969000000000001,{"$error":"#N/A"},{"$error":"#N/A"},{"$error":"#N/A"},{"$error":"#N/A"},{"$error":"#N/A"},{"$error":"#N/A"},{"$error":"#N/A"}]
[null,null,null,{"$f":"EOMONTH(D329,$E$1)+1","v":"1982-11-01"},{"$error":"#N/A"},48.99,49.04,{"$error":"#N/A"},{"$error":"#N/A"},{"$error":"#N/A"},{"$error":"#N/A"},{"$error":"#N/A"},{"$error":"#N/A"},{"$error":"#N/A"},10.419180000000001,64.7,{"$error":"#N/A"},{"$error":"#N/A"},{"$error":"#N/A"},{"$error":"#N/A"},{"$error":"#N/A"},{"$error":"#N/A"},1079,688,554,5.4,{"$error":"#N/A"},5.5,{"$error":"#N/A"},{"$error":"#N/A"},1.6,{"$error":"#N/A"},{"$error":"#N/A"},{"$error":"#N/A"},98,52.482999999999997,89107,74094,83385,{"$error":"#N/A"},{"$error":"#N/A"},50.969000000000001,{"$error":"#N/A"},{"$error":"#N/A"},{"$error":"#N/A"},{"$error":"#N/A"},{"$error":"#N/A"},{"$error":"#N/A"},{"$error":"#N/A"}]
[null,null,null,"1982-12-01",{"$error":"#N/A"},49.08,49.18,{"$error":"#N/A"},{"$error":"#N/A"},{"$error":"#N/A"},{"$error":"#N/A"},{"$error":"#N/A"},{"$error":"#N/A"},{"$error":"#N/A"},10.419180000000001,64.7,{"$error":"#N/A"},{"$error":"#N/A"},{"$error":"#N/A"},{"$error":"#N/A"},{"$error":"#N/A"},{"$error":"#N/A"},1047,657,521,5.8,{"$error":"#N/A"},5.5,{"$error":"#N/A"},{"$error":"#N/A"},{"$f":"INDEX(INDIRECT(\"'\"&AE$7&\"'!B:B\"),MATCH($D331,INDIRECT(\"'\"&AE$7&\"'!A:A\")))","v":1.6},{"$error":"#N/A"},{"$error":"#N/A"},{"$error":"#N/A"},97.7,52.482999999999997,89198,74236,83383,{"$error":"#N/A"},{"$error":"#N/A"},50.969000000000001,{"$error":"#N/A"},{"$error":"#N/A"},{"$error":"#N/A"},{"$error":"#N/A"},{"$error":"#N/A"},{"$error":"#N/A"},{"$error":"#N/A"}]
[null,null,null,"1983-01-01",{"$error":"#N/A"},49.24,49.4,{"$error":"#N/A"},{"$error":"#N/A"},{"$error":"#N/A"},{"$error":"#N/A"},{"$error":"#N/A"},{"$error":"#N/A"},{"$error":"#N/A"},10.392250000000001,64.7,{"$error":"#N/A"},{"$error":"#N/A"},{"$error":"#N/A"},{"$error":"#N/A"},{"$error":"#N/A"},{"$error":"#N/A"},1187,776,582,5.4,{"$error":"#N/A"},5.7,{"$error":"#N/A"},{"$error":"#N/A"},1.4,{"$error":"#N/A"},{"$error":"#N/A"},{"$error":"#N/A"},97.9,52.906999999999996,89349,74339,83490,{"$error":"#N/A"},{"$error":"#N/A"},51.662999999999997,{"$error":"#N/A"},{"$error":"#N/A"},{"$error":"#N/A"},{"$error":"#N/A"},{"$error":"#N/A"},{"$error":"#N/A"},{"$error":"#N/A"}]
[null,null,null,"1983-02-01",{"$error":"#N/A"},49.49,49.68,{"$error":"#N/A"},{"$error":"#N/A"},{"$error":"#N/A"},{"$error":"#N/A"},{"$error":"#N/A"},{"$error":"#N/A"},{"$error":"#N/A"},10.392250000000001,64.7,{"$error":"#N/A"},{"$error":"#N/A"},{"$error":"#N/A"},{"$error":"#N/A"},{"$error":"#N/A"},{"$error":"#N/A"},1135,714,562,5.6,{"$error":"#N/A"},5.7,{"$error":"#N/A"},{"$error":"#N/A"},1.4,{"$error":"#N/A"},{"$error":"#N/A"},{"$error":"#N/A"},98,52.906999999999996,89513,74434,83593,{"$error":"#N/A"},{"$error":"#N/A"},51.662999999999997,{"$error":"#N/A"},{"$error":"#N/A"},{"$error":"#N/A"},{"$error":"#N/A"},{"$error":"#N/A"},{"$error":"#N/A"},{"$error":"#N/A"}]
[null,null,null,"1983-03-01",{"$error":"#N/A"},49.69,49.84,{"$error":"#N/A"},{"$error":"#N/A"},{"$error":"#N/A"},{"$error":"#N/A"},{"$error":"#N/A"},{"$error":"#N/A"},{"$error":"#N/A"},10.392250000000001,64.7,{"$error":"#N/A"},{"$error":"#N/A"},{"$error":"#N/A"},{"$error":"#N/A"},{"$error":"#N/A"},{"$error":"#N/A"},1168,788,596,5.4,{"$error":"#N/A"},5.7,{"$error":"#N/A"},{"$error":"#N/A"},1.4,{"$error":"#N/A"},{"$error":"#N/A"},{"$error":"#N/A"},98.1,52.906999999999996,89671,74528,83699,{"$error":"#N/A"},{"$error":"#N/A"},51.662999999999997,{"$error":"#N/A"},{"$error":"#N/A"},{"$error":"#N/A"},{"$error":"#N/A"},{"$error":"#N/A"},{"$error":"#N/A"},{"$error":"#N/A"}]
[null,null,null,"1983-04-01",{"$error":"#N/A"},49.94,50,{"$error":"#N/A"},{"$error":"#N/A"},{"$error":"#N/A"},{"$error":"#N/A"},{"$error":"#N/A"},{"$error":"#N/A"},{"$error":"#N/A"},10.417199999999999,64.7,{"$error":"#N/A"},{"$error":"#N/A"},{"$error":"#N/A"},{"$error":"#N/A"},{"$error":"#N/A"},{"$error":"#N/A"},1197,817,638,5.0999999999999996,{"$error":"#N/A"},5.5,{"$error":"#N/A"},{"$error":"#N/A"},1.5,{"$error":"#N/A"},{"$error":"#N/A"},{"$error":"#N/A"},98.8,53.265000000000001,89823,74611,83794,{"$error":"#N/A"},{"$error":"#N/A"},52.064,{"$error":"#N/A"},{"$error":"#N/A"},{"$error":"#N/A"},{"$error":"#N/A"},{"$error":"#N/A"},{"$error":"#N/A"},{"$error":"#N/A"}]
[null,null,null,"1983-05-01",{"$error":"#N/A"},50.19,50.16,{"$error":"#N/A"},{"$error":"#N/A"},{"$error":"#N/A"},{"$error":"#N/A"},{"$error":"#N/A"},{"$error":"#N/A"},{"$error":"#N/A"},10.417199999999999,64.7,{"$error":"#N/A"},{"$error":"#N/A"},{"$error":"#N/A"},{"$error":"#N/A"},{"$error":"#N/A"},{"$error":"#N/A"},1300,856,664,4.9000000000000004,{"$error":"#N/A"},5.5,{"$error":"#N/A"},{"$error":"#N/A"},1.5,{"$error":"#N/A"},{"$error":"#N/A"},{"$error":"#N/A"},99.2,53.265000000000001,89988,74712,83899,{"$error":"#N/A"},{"$error":"#N/A"},52.064,{"$error":"#N/A"},{"$error":"#N/A"},{"$error":"#N/A"},{"$error":"#N/A"},{"$error":"#N/A"},{"$error":"#N/A"},{"$error":"#N/A"}]
[null,null,null,"1983-06-01",{"$error":"#N/A"},50.44,50.34,{"$error":"#N/A"},{"$error":"#N/A"},{"$error":"#N/A"},{"$error":"#N/A"},{"$error":"#N/A"},{"$error":"#N/A"},{"$error":"#N/A"},10.417199999999999,64.7,{"$error":"#N/A"},{"$error":"#N/A"},{"$error":"#N/A"},{"$error":"#N/A"},{"$error":"#N/A"},{"$error":"#N/A"},1344,923,651,5.3,{"$error":"#N/A"},{"$f":"INDEX(INDIRECT(\"'\"&AB$7&\"'!B:B\"),MATCH($D337,INDIRECT(\"'\"&AB$7&\"'!A:A\")))","v":5.5},{"$error":"#N/A"},{"$error":"#N/A"},1.5,{"$error":"#N/A"},{"$error":"#N/A"},{"$error":"#N/A"},99.4,53.265000000000001,90149,74814,84008,{"$error":"#N/A"},{"$error":"#N/A"},52.064,{"$error":"#N/A"},{"$error":"#N/A"},{"$error":"#N/A"},{"$error":"#N/A"},{"$error":"#N/A"},{"$error":"#N/A"},{"$error":"#N/A"}]
[null,null,null,"1983-07-01",{"$error":"#N/A"},50.73,50.57,{"$error":"#N/A"},{"$error":"#N/A"},{"$error":"#N/A"},{"$error":"#N/A"},{"$error":"#N/A"},{"$error":"#N/A"},{"$error":"#N/A"},10.42104,64.599999999999994,{"$error":"#N/A"},{"$error":"#N/A"},{"$error":"#N/A"},{"$error":"#N/A"},{"$error":"#N/A"},{"$error":"#N/A"},1410,971,606,5.8,{"$error":"#N/A"},5.8,{"$error":"#N/A"},{"$error":"#N/A"},1.6,{"$error":"#N/A"},{"$error":"#N/A"},{"$error":"#N/A"},99.8,53.823,90319,74927,84122,{"$error":"#N/A"},{"$error":"#N/A"},52.856999999999999,{"$error":"#N/A"},{"$error":"#N/A"},{"$error":"#N/A"},{"$error":"#N/A"},{"$error":"#N/A"},{"$error":"#N/A"},{"$error":"#N/A"}]
[null,null,null,"1983-08-01",{"$error":"#N/A"},50.95,50.75,{"$error":"#N/A"},{"$error":"#N/A"},{"$error":"#N/A"},{"$error":"#N/A"},{"$error":"#N/A"},{"$error":"#N/A"},{"$error":"#N/A"},10.42104,64.599999999999994,{"$error":"#N/A"},{"$error":"#N/A"},{"$error":"#N/A"},{"$error":"#N/A"},{"$error":"#N/A"},{"$error":"#N/A"},1711,1033,572,6.2,{"$error":"#N/A"},5.8,{"$error":"#N/A"},{"$error":"#N/A"},1.6,{"$error":"#N/A"},{"$error":"#N/A"},{"$error":"#N/A"},100.1,53.823,90480,75012,84224,{"$error":"#N/A"},{"$error":"#N/A"},52.856999999999999,{"$error":"#N/A"},{"$error":"#N/A"},{"$error":"#N/A"},{"$error":"#N/A"},{"$error":"#N/A"},{"$error":"#N/A"},{"$error":"#N/A"}]
[null,null,null,"1983-09-01",{"$error":"#N/A"},51.09,50.93,{"$error":"#N/A"},{"$error":"#N/A"},{"$error":"#N/A"},{"$error":"#N/A"},{"$error":"#N/A"},{"$error":"#N/A"},{"$error":"#N/A"},10.42104,64.599999999999994,{"$error":"#N/A"},{"$error":"#N/A"},{"$error":"#N/A"},{"$error":"#N/A"},{"$error":"#N/A"},{"$error":"#N/A"},1493,985,608,6.2,{"$error":"#N/A"},5.8,{"$error":"#N/A"},{"$error":"#N/A"},1.6,{"$error":"#N/A"},{"$error":"#N/A"},{"$error":"#N/A"},100.4,53.823,90655,75115,84333,{"$error":"#N/A"},{"$error":"#N/A"},52.856999999999999,{"$error":"#N/A"},{"$error":"#N/A"},{"$error":"#N/A"},{"$error":"#N/A"},{"$error":"#N/A"},{"$error":"#N/A"},{"$error":"#N/A"}]
[null,null,null,"1983-10-01",{"$error":"#N/A"},51.18,51.11,{"$error":"#N/A"},{"$error":"#N/A"},{"$error":"#N/A"},{"$error":"#N/A"},{"$error":"#N/A"},{"$error":"#N/A"},{"$error":"#N/A"},10.472530000000001,64.599999999999994,{"$error":"#N/A"},{"$error":"#N/A"},{"$error":"#N/A"},{"$error":"#N/A"},{"$error":"#N/A"},{"$error":"#N/A"},1586,1049,632,5.6,{"$error":"#N/A"},5.5,{"$error":"#N/A"},{"$error":"#N/A"},1.6,{"$error":"#N/A"},{"$error":"#N/A"},{"$error":"#N/A"},100.8,54.219000000000001,90821,75216,84443,{"$error":"#N/A"},{"$error":"#N/A"},53.280999999999999,{"$error":"#N/A"},{"$error":"#N/A"},{"$error":"#N/A"},{"$error":"#N/A"},{"$error":"#N/A"},{"$error":"#N/A"},{"$error":"#N/A"}]
[null,null,null,"1983-11-01",{"$error":"#N/A"},51.25,51.3,{"$error":"#N/A"},{"$error":"#N/A"},{"$error":"#N/A"},{"$error":"#N/A"},{"$error":"#N/A"},{"$error":"#N/A"},{"$error":"#N/A"},10.472530000000001,64.599999999999994,{"$error":"#N/A"},{"$error":"#N/A"},{"$error":"#N/A"},{"$error":"#N/A"},{"$error":"#N/A"},{"$error":"#N/A"},1462,1003,644,5.8,{"$error":"#N/A"},5.5,{"$error":"#N/A"},{"$error":"#N/A"},1.6,{"$error":"#N/A"},{"$error":"#N/A"},{"$error":"#N/A"},101.1,54.219000000000001,91003,75327,84553,{"$error":"#N/A"},{"$error":"#N/A"},53.280999999999999,{"$error":"#N/A"},{"$error":"#N/A"},{"$error":"#N/A"},{"$error":"#N/A"},{"$error":"#N/A"},{"$error":"#N/A"},{"$error":"#N/A"}]
[null,null,null,"1983-12-01",{"$error":"#N/A"},51.39,51.5,{"$error":"#N/A"},{"$error":"#N/A"},{"$error":"#N/A"},{"$error":"#N/A"},{"$error":"#N/A"},{"$error":"#N/A"},{"$error":"#N/A"},10.472530000000001,64.599999999999994,{"$error":"#N/A"},{"$error":"#N/A"},{"$error":"#N/A"},{"$error":"#N/A"},{"$error":"#N/A"},{"$error":"#N/A"},1509,1008,{"$f":"INDEX(INDIRECT(\"'\"&Y$7&\"'!B:B\"),MATCH($D343,INDIRECT(\"'\"&Y$7&\"'!A:A\")))","v":773},4.7,{"$error":"#N/A"},5.5,{"$error":"#N/A"},{"$error":"#N/A"},1.6,{"$error":"#N/A"},{"$error":"#N/A"},{"$error":"#N/A"},101.4,54.219000000000001,91176,75433,84666,{"$error":"#N/A"},{"$error":"#N/A"},53.280999999999999,{"$error":"#N/A"},{"$error":"#N/A"},{"$error":"#N/A"},{"$error":"#N/A"},{"$error":"#N/A"},{"$error":"#N/A"},{"$error":"#N/A"}]
[null,null,null,"1984-01-01",{"$error":"#N/A"},51.53,51.7,{"$error":"#N/A"},{"$error":"#N/A"},{"$error":"#N/A"},{"$error":"#N/A"},{"$error":"#N/A"},{"$error":"#N/A"},{"$error":"#N/A"},10.521990000000001,64.599999999999994,{"$error":"#N/A"},{"$error":"#N/A"},{"$error":"#N/A"},{"$error":"#N/A"},{"$error":"#N/A"},{"$error":"#N/A"},1595,1014,691,5.3,64.5,5.6,{"$error":"#N/A"},{"$error":"#N/A"},1.6,{"$error":"#N/A"},{"$error":"#N/A"},{"$error":"#N/A"},102.1,54.795999999999999,91517,75692,84860,{"$error":"#N/A"},{"$error":"#N/A"},53.817,{"$error":"#N/A"},{"$error":"#N/A"},{"$error":"#N/A"},{"$error":"#N/A"},{"$error":"#N/A"},{"$error":"#N/A"},{"$error":"#N/A"}]
[null,null,null,"1984-02-01",{"$error":"#N/A"},51.7,51.89,{"$error":"#N/A"},{"$error":"#N/A"},{"$error":"#N/A"},{"$error":"#N/A"},{"$error":"#N/A"},{"$error":"#N/A"},{"$error":"#N/A"},10.521990000000001,64.599999999999994,{"$error":"#N/A"},{"$error":"#N/A"},{"$error":"#N/A"},{"$error":"#N/A"},{"$error":"#N/A"},{"$error":"#N/A"},1562,1036,696,5.0999999999999996,64.5,5.6,{"$error":"#N/A"},{"$error":"#N/A"},1.6,{"$error":"#N/A"},{"$error":"#N/A"},{"$error":"#N/A"},102.6,54.795999999999999,91690,75786,84962,{"$error":"#N/A"},{"$error":"#N/A"},53.817,{"$error":"#N/A"},{"$error":"#N/A"},{"$error":"#N/A"},{"$error":"#N/A"},{"$error":"#N/A"},{"$error":"#N/A"},{"$error":"#N/A"}]
[null,null,null,"1984-03-01",{"$error":"#N/A"},51.93,52.1,{"$error":"#N/A"},{"$error":"#N/A"},{"$error":"#N/A"},{"$error":"#N/A"},{"$error":"#N/A"},{"$error":"#N/A"},{"$error":"#N/A"},10.521990000000001,64.599999999999994,{"$error":"#N/A"},{"$error":"#N/A"},{"$error":"#N/A"},{"$error":"#N/A"},{"$error":"#N/A"},{"$error":"#N/A"},1600,1032,641,6.1,64.5,5.6,{"$error":"#N/A"},{"$error":"#N/A"},1.6,{"$error":"#N/A"},{"$error":"#N/A"},{"$error":"#N/A"},102.9,54.795999999999999,91863,75880,85064,{"$error":"#N/A"},{"$error":"#N/A"},53.817,{"$error":"#N/A"},{"$error":"#N/A"},{"$error":"#N/A"},{"$error":"#N/A"},{"$error":"#N/A"},{"$error":"#N/A"},{"$error":"#N/A"}]
[null,null,null,"1984-04-01",{"$error":"#N/A"},52.22,52.3,{"$error":"#N/A"},{"$error":"#N/A"},{"$error":"#N/A"},{"$error":"#N/A"},{"$error":"#N/A"},{"$error":"#N/A"},{"$error":"#N/A"},10.65104,64.599999999999994,{"$error":"#N/A"},{"$error":"#N/A"},{"$error":"#N/A"},{"$error":"#N/A"},{"$error":"#N/A"},{"$error":"#N/A"},1683,988,639,6,64.5,5.5,{"$error":"#N/A"},{"$error":"#N/A"},1.7,{"$error":"#N/A"},{"$error":"#N/A"},{"$error":"#N/A"},103.3,55.256999999999998,92033,75973,85168,{"$error":"#N/A"},{"$error":"#N/A"},54.448,{"$error":"#N/A"},{"$error":"#N/A"},{"$error":"#N/A"},{"$error":"#N/A"},{"$error":"#N/A"},{"$error":"#N/A"},{"$error":"#N/A"}]
[null,null,null,"1984-05-01",{"$error":"#N/A"},52.56,52.53,{"$error":"#N/A"},{"$error":"#N/A"},{"$error":"#N/A"},{"$error":"#N/A"},{"$error":"#N/A"},{"$error":"#N/A"},{"$error":"#N/A"},10.65104,64.599999999999994,{"$error":"#N/A"},{"$error":"#N/A"},{"$error":"#N/A"},{"$error":"#N/A"},{"$error":"#N/A"},{"$error":"#N/A"},1732,1070,615,6.7,64.5,5.5,{"$error":"#N/A"},{"$error":"#N/A"},1.7,{"$error":"#N/A"},{"$error":"#N/A"},{"$error":"#N/A"},103.5,55.256999999999998,92212,76073,85272,{"$error":"#N/A"},{"$error":"#N/A"},54.448,{"$error":"#N/A"},{"$error":"#N/A"},{"$error":"#N/A"},{"$error":"#N/A"},{"$error":"#N/A"},{"$error":"#N/A"},{"$error":"#N/A"}]
[null,null,null,"1984-06-01",{"$error":"#N/A"},52.86,52.76,{"$error":"#N/A"},{"$error":"#N/A"},{"$error":"#N/A"},{"$error":"#N/A"},{"$error":"#N/A"},{"$error":"#N/A"},{"$error":"#N/A"},10.65104,64.599999999999994,{"$error":"#N/A"},{"$error":"#N/A"},{"$error":"#N/A"},{"$error":"#N/A"},{"$error":"#N/A"},{"$f":"INDEX(INDIRECT(\"'\"&V$7&\"'!B:B\"),MATCH($D349,INDIRECT(\"'\"&V$7&\"'!A:A\")))","v":{"$error":"#N/A"}},1714,1041,630,6.6,64.5,5.5,{"$error":"#N/A"},{"$error":"#N/A"},1.7,{"$error":"#N/A"},{"$error":"#N/A"},{"$error":"#N/A"},103.7,55.256999999999998,92390,76176,85380,{"$error":"#N/A"},{"$error":"#N/A"},54.448,{"$error":"#N/A"},{"$error":"#N/A"},{"$error":"#N/A"},{"$error":"#N/A"},{"$error":"#N/A"},{"$error":"#N/A"},{"$error":"#N/A"}]
[null,null,null,"1984-07-01",{"$error":"#N/A"},53.16,52.98,{"$error":"#N/A"},{"$error":"#N/A"},{"$error":"#N/A"},{"$error":"#N/A"},{"$error":"#N/A"},{"$error":"#N/A"},{"$error":"#N/A"},10.75671,64.5,{"$error":"#N/A"},{"$error":"#N/A"},{"$error":"#N/A"},{"$error":"#N/A"},{"$error":"#N/A"},{"$error":"#N/A"},1692,1064,619,6.7,64.5,6,{"$error":"#N/A"},{"$error":"#N/A"},1.7,{"$error":"#N/A"},{"$error":"#N/A"},{"$error":"#N/A"},104.1,55.704999999999998,92555,76269,85488,{"$error":"#N/A"},{"$error":"#N/A"},54.960999999999999,{"$error":"#N/A"},{"$error":"#N/A"},{"$error":"#N/A"},{"$error":"#N/A"},{"$error":"#N/A"},{"$error":"#N/A"},{"$error":"#N/A"}]
[null,null,null,"1984-08-01",{"$error":"#N/A"},53.42,53.2,{"$error":"#N/A"},{"$error":"#N/A"},{"$error":"#N/A"},{"$error":"#N/A"},{"$error":"#N/A"},{"$error":"#N/A"},{"$error":"#N/A"},10.75671,64.5,{"$error":"#N/A"},{"$error":"#N/A"},{"$error":"#N/A"},{"$error":"#N/A"},{"$error":"#N/A"},{"$error":"#N/A"},1685,1040,567,7.5,64.5,6,{"$error":"#N/A"},{"$error":"#N/A"},1.7,{"$error":"#N/A"},{"$error":"#N/A"},{"$error":"#N/A"},104.4,55.704999999999998,92726,76350,85581,{"$error":"#N/A"},{"$error":"#N/A"},54.960999999999999,{"$error":"#N/A"},{"$error":"#N/A"},{"$error":"#N/A"},{"$error":"#N/A"},{"$error":"#N/A"},{"$error":"#N/A"},{"$error":"#N/A"}]
[null,null,null,"1984-09-01",{"$error":"#N/A"},53.57,53.39,{"$error":"#N/A"},{"$error":"#N/A"},{"$error":"#N/A"},{"$error":"#N/A"},{"$error":"#N/A"},{"$error":"#N/A"},{"$error":"#N/A"},10.75671,64.5,{"$error":"#N/A"},{"$error":"#N/A"},{"$error":"#N/A"},{"$error":"#N/A"},{"$error":"#N/A"},{"$error":"#N/A"},1642,1031,662,6.5,64.5,6,{"$error":"#N/A"},{"$error":"#N/A"},1.7,{"$error":"#N/A"},{"$error":"#N/A"},{"$error":"#N/A"},104.7,55.704999999999998,92905,76451,85688,{"$error":"#N/A"},{"$error":"#N/A"},54.960999999999999,{"$error":"#N/A"},{"$error":"#N/A"},{"$error":"#N/A"},{"$error":"#N/A"},{"$error":"#N/A"},{"$error":"#N/A"},{"$error":"#N/A"}]
[null,null,null,"1984-10-01",{"$error":"#N/A"},53.67,53.58,{"$error":"#N/A"},{"$error":"#N/A"},{"$error":"#N/A"},{"$error":"#N/A"},{"$error":"#N/A"},{"$error":"#N/A"},{"$error":"#N/A"},10.9153,64.3,{"$error":"#N/A"},{"$error":"#N/A"},{"$error":"#N/A"},{"$error":"#N/A"},{"$error":"#N/A"},{"$error":"#N/A"},1633,977,687,6,64.5,6.3,{"$error":"#N/A"},{"$error":"#N/A"},1.7,{"$error":"#N/A"},{"$error":"#N/A"},{"$error":"#N/A"},105.1,56.079000000000001,93096,76565,85793,{"$error":"#N/A"},{"$error":"#N/A"},55.356000000000002,{"$error":"#N/A"},{"$error":"#N/A"},{"$error":"#N/A"},{"$error":"#N/A"},{"$error":"#N/A"},{"$error":"#N/A"},{"$error":"#N/A"}]
[null,null,null,"1984-11-01",{"$error":"#N/A"},53.67,53.71,{"$error":"#N/A"},{"$error":"#N/A"},{"$error":"#N/A"},{"$error":"#N/A"},{"$error":"#N/A"},{"$error":"#N/A"},{"$error":"#N/A"},10.9153,64.3,{"$error":"#N/A"},{"$error":"#N/A"},{"$error":"#N/A"},{"$error":"#N/A"},{"$error":"#N/A"},{"$error":"#N/A"},1611,1015,597,7.2,64.5,6.3,{"$error":"#N/A"},{"$error":"#N/A"},1.7,{"$error":"#N/A"},{"$error":"#N/A"},{"$error":"#N/A"},105.3,56.079000000000001,93280,76663,85897,{"$error":"#N/A"},{"$error":"#N/A"},55.356000000000002,{"$error":"#N/A"},{"$error":"#N/A"},{"$error":"#N/A"},{"$error":"#N/A"},{"$error":"#N/A"},{"$error":"#N/A"},{"$error":"#N/A"}]
[null,null,null,"1984-12-01",{"$error":"#N/A"},53.79,53.9,{"$error":"#N/A"},{"$error":"#N/A"},{"$error":"#N/A"},{"$error":"#N/A"},{"$error":"#N/A"},{"$error":"#N/A"},{"$error":"#N/A"},10.9153,64.3,{"$error":"#N/A"},{"$error":"#N/A"},{"$f":"INDEX(INDIRECT(\"'\"&S$7&\"'!B:B\"),MATCH($D355,INDIRECT(\"'\"&S$7&\"'!A:A\")))","v":{"$error":"#N/A"}},{"$error":"#N/A"},{"$error":"#N/A"},{"$error":"#N/A"},1629,987,597,7.3,64.5,6.3,{"$error":"#N/A"},{"$error":"#N/A"},1.7,{"$error":"#N/A"},{"$error":"#N/A"},{"$error":"#N/A"},105.5,56.079000000000001,93432,76753,85995,{"$error":"#N/A"},{"$error":"#N/A"},55.356000000000002,{"$error":"#N/A"},{"$error":"#N/A"},{"$error":"#N/A"},{"$error":"#N/A"},{"$error":"#N/A"},{"$error":"#N/A"},{"$error":"#N/A"}]
[null,null,null,"1985-01-01",{"$error":"#N/A"},53.97,54.15,{"$error":"#N/A"},{"$error":"#N/A"},{"$error":"#N/A"},{"$error":"#N/A"},{"$error":"#N/A"},{"$error":"#N/A"},{"$error":"#N/A"},11.25398,64.099999999999994,{"$error":"#N/A"},160,{"$error":"#N/A"},{"$error":"#N/A"},{"$error":"#N/A"},{"$error":"#N/A"},1646,1070,645,6.7,63.9,6.3,{"$error":"#N/A"},{"$error":"#N/A"},1.8,{"$error":"#N/A"},{"$error":"#N/A"},{"$error":"#N/A"},105.7,56.723999999999997,93534,76760,86015,{"$error":"#N/A"},{"$error":"#N/A"},56.122,{"$error":"#N/A"},{"$error":"#N/A"},{"$error":"#N/A"},{"$error":"#N/A"},{"$error":"#N/A"},{"$error":"#N/A"},{"$error":"#N/A"}]
[null,null,null,"1985-02-01",{"$error":"#N/A"},54.22,54.43,{"$error":"#N/A"},{"$error":"#N/A"},{"$error":"#N/A"},{"$error":"#N/A"},{"$error":"#N/A"},{"$error":"#N/A"},{"$error":"#N/A"},11.25398,64.099999999999994,{"$error":"#N/A"},160,{"$error":"#N/A"},{"$error":"#N/A"},{"$error":"#N/A"},{"$error":"#N/A"},1772,1091,682,6.5,63.9,6.3,{"$error":"#N/A"},{"$error":"#N/A"},1.8,{"$error":"#N/A"},{"$error":"#N/A"},{"$error":"#N/A"},106.3,56.723999999999997,93663,76829,86086,{"$error":"#N/A"},{"$error":"#N/A"},56.122,{"$error":"#N/A"},{"$error":"#N/A"},{"$error":"#N/A"},{"$error":"#N/A"},{"$error":"#N/A"},{"$error":"#N/A"},{"$error":"#N/A"}]
[null,null,null,"1985-03-01",{"$error":"#N/A"},54.53,54.72,{"$error":"#N/A"},{"$error":"#N/A"},{"$error":"#N/A"},{"$error":"#N/A"},{"$error":"#N/A"},{"$error":"#N/A"},{"$error":"#N/A"},11.25398,64.099999999999994,{"$error":"#N/A"},160,{"$error":"#N/A"},{"$error":"#N/A"},{"$error":"#N/A"},{"$error":"#N/A"},1715,1036,671,6.4,63.9,6.3,{"$error":"#N/A"},{"$error":"#N/A"},1.8,{"$error":"#N/A"},{"$error":"#N/A"},{"$error":"#N/A"},106.8,56.723999999999997,93869,76904,86181,{"$error":"#N/A"},{"$error":"#N/A"},56.122,{"$error":"#N/A"},{"$error":"#N/A"},{"$error":"#N/A"},{"$error":"#N/A"},{"$error":"#N/A"},{"$error":"#N/A"},{"$error":"#N/A"}]
[null,null,null,"1985-04-01",{"$error":"#N/A"},54.9,55,{"$error":"#N/A"},{"$error":"#N/A"},{"$error":"#N/A"},{"$error":"#N/A"},{"$error":"#N/A"},{"$error":"#N/A"},{"$error":"#N/A"},11.343349999999999,64.099999999999994,{"$error":"#N/A"},223,{"$error":"#N/A"},{"$error":"#N/A"},{"$error":"#N/A"},{"$error":"#N/A"},1630,1078,620,6.9,63.9,6.2,{"$error":"#N/A"},{"$error":"#N/A"},1.9,{"$error":"#N/A"},{"$error":"#N/A"},{"$error":"#N/A"},107,57.075000000000003,94031,76988,86274,{"$error":"#N/A"},{"$error":"#N/A"},56.63,{"$error":"#N/A"},{"$error":"#N/A"},{"$error":"#N/A"},{"$error":"#N/A"},{"$error":"#N/A"},{"$error":"#N/A"},{"$error":"#N/A"}]
[null,null,null,"1985-05-01",{"$error":"#N/A"},55.32,55.31,{"$error":"#N/A"},{"$error":"#N/A"},{"$error":"#N/A"},{"$error":"#N/A"},{"$error":"#N/A"},{"$error":"#N/A"},{"$error":"#N/A"},11.343349999999999,64.099999999999994,{"$error":"#N/A"},223,{"$error":"#N/A"},{"$error":"#N/A"},{"$error":"#N/A"},{"$error":"#N/A"},1665,1037,678,6.4,63.9,6.2,{"$error":"#N/A"},{"$error":"#N/A"},1.9,{"$error":"#N/A"},{"$error":"#N/A"},{"$error":"#N/A"},107.2,57.075000000000003,94193,77068,86380,{"$error":"#N/A"},{"$error":"#N/A"},56.63,{"$error":"#N/A"},{"$error":"#N/A"},{"$error":"#N/A"},{"$error":"#N/A"},{"$error":"#N/A"},{"$error":"#N/A"},{"$error":"#N/A"}]
[null,null,null,"1985-06-01",{"$error":"#N/A"},55.72,55.61,{"$error":"#N/A"},{"$error":"#N/A"},{"$error":"#N/A"},{"$error":"#N/A"},{"$error":"#N/A"},{"$error":"#N/A"},{"$error":"#N/A"},11.343349999999999,{"$f":"INDEX(INDIRECT(\"'\"&P$7&\"'!B:B\"),MATCH($D361,INDIRECT(\"'\"&P$7&\"'!A:A\")))","v":64.099999999999994},{"$error":"#N/A"},223,{"$error":"#N/A"},{"$error":"#N/A"},{"$error":"#N/A"},{"$error":"#N/A"},1791,1075,722,6,63.9,6.2,{"$error":"#N/A"},{"$error":"#N/A"},1.9,{"$error":"#N/A"},{"$error":"#N/A"},{"$error":"#N/A"},107.5,57.075000000000003,94381,77135,86477,{"$error":"#N/A"},{"$error":"#N/A"},56.63,{"$error":"#N/A"},{"$error":"#N/A"},{"$error":"#N/A"},{"$error":"#N/A"},{"$error":"#N/A"},{"$error":"#N/A"},{"$error":"#N/A"}]
[null,null,null,"1985-07-01",{"$error":"#N/A"},56.12,55.92,{"$error":"#N/A"},{"$error":"#N/A"},{"$error":"#N/A"},{"$error":"#N/A"},{"$error":"#N/A"},{"$error":"#N/A"},{"$error":"#N/A"},11.63049,63.8,{"$error":"#N/A"},248,{"$error":"#N/A"},{"$error":"#N/A"},{"$error":"#N/A"},{"$error":"#N/A"},1693,1048,766,5.6,63.9,6.8,{"$error":"#N/A"},{"$error":"#N/A"},1.8,{"$error":"#N/A"},{"$error":"#N/A"},{"$error":"#N/A"},107.7,57.405999999999999,94562,77243,86575,{"$error":"#N/A"},{"$error":"#N/A"},57.22,{"$error":"#N/A"},{"$error":"#N/A"},{"$error":"#N/A"},{"$error":"#N/A"},{"$error":"#N/A"},{"$error":"#N/A"},{"$error":"#N/A"}]
[null,null,null,"1985-08-01",{"$error":"#N/A"},56.5,56.26,{"$error":"#N/A"},{"$error":"#N/A"},{"$error":"#N/A"},{"$error":"#N/A"},{"$error":"#N/A"},{"$error":"#N/A"},{"$error":"#N/A"},11.63049,63.8,{"$error":"#N/A"},248,{"$error":"#N/A"},{"$error":"#N/A"},{"$error":"#N/A"},{"$error":"#N/A"},1685,1031,726,5.8,63.9,6.8,{"$error":"#N/A"},{"$error":"#N/A"},1.8,{"$error":"#N/A"},{"$error":"#N/A"},{"$error":"#N/A"},107.9,57.405999999999999,94712,77306,86652,{"$error":"#N/A"},{"$error":"#N/A"},57.22,{"$error":"#N/A"},{"$error":"#N/A"},{"$error":"#N/A"},{"$error":"#N/A"},{"$error":"#N/A"},{"$error":"#N/A"},{"$error":"#N/A"}]
[null,null,null,"1985-09-01",{"$error":"#N/A"},56.87,56.66,{"$error":"#N/A"},{"$error":"#N/A"},{"$error":"#N/A"},{"$error":"#N/A"},{"$error":"#N/A"},{"$error":"#N/A"},{"$error":"#N/A"},11.63049,63.8,{"$error":"#N/A"},248,{"$error":"#N/A"},{"$error":"#N/A"},{"$error":"#N/A"},{"$error":"#N/A"},1806,1112,678,6.3,63.9,6.8,{"$error":"#N/A"},{"$error":"#N/A"},1.8,{"$error":"#N/A"},{"$error":"#N/A"},{"$error":"#N/A"},108.1,57.405999999999999,94872,77389,86727,{"$error":"#N/A"},{"$error":"#N/A"},57.22,{"$error":"#N/A"},{"$error":"#N/A"},{"$error":"#N/A"},{"$error":"#N/A"},{"$error":"#N/A"},{"$error":"#N/A"},{"$error":"#N/A"}]
[null,null,null,"1985-10-01",{"$error":"#N/A"},57.19,57.08,{"$error":"#N/A"},{"$error":"#N/A"},{"$error":"#N/A"},{"$error":"#N/A"},{"$error":"#N/A"},{"$error":"#N/A"},{"$error":"#N/A"},11.751300000000001,63.6,{"$error":"#N/A"},487,{"$error":"#N/A"},{"$error":"#N/A"},{"$error":"#N/A"},{"$error":"#N/A"},1565,1073,655,6.4,63.9,6.7,{"$error":"#N/A"},{"$error":"#N/A"},1.6,{"$error":"#N/A"},{"$error":"#N/A"},{"$error":"#N/A"},108.5,57.738,95072,77498,86810,{"$error":"#N/A"},{"$error":"#N/A"},57.622,{"$error":"#N/A"},{"$error":"#N/A"},{"$error":"#N/A"},{"$error":"#N/A"},{"$error":"#N/A"},{"$error":"#N/A"},{"$error":"#N/A"}]
[null,null,null,"1985-11-01",{"$error":"#N/A"},57.51,57.54,{"$error":"#N/A"},{"$error":"#N/A"},{"$error":"#N/A"},{"$error":"#N/A"},{"$error":"#N/A"},{"$error":"#N/A"},{"$error":"#N/A"},11.751300000000001,63.6,{"$error":"#N/A"},487,{"$error":"#N/A"},{"$error":"#N/A"},{"$error":"#N/A"},{"$error":"#N/A"},1749,1094,733,5.9,63.9,6.7,{"$error":"#N/A"},{"$error":"#N/A"},1.6,{"$error":"#N/A"},{"$error":"#N/A"},{"$error":"#N/A"},109,57.738,95252,77566,86901,{"$error":"#N/A"},{"$error":"#N/A"},57.622,{"$error":"#N/A"},{"$error":"#N/A"},{"$error":"#N/A"},{"$error":"#N/A"},{"$error":"#N/A"},{"$error":"#N/A"},{"$error":"#N/A"}]
[null,null,null,"1985-12-01",{"$error":"#N/A"},57.81,57.94,{"$error":"#N/A"},{"$error":"#N/A"},{"$error":"#N/A"},{"$error":"#N/A"},{"$error":"#N/A"},{"$f":"INDEX(INDIRECT(\"'\"&M$7&\"'!B:B\"),MATCH($D367,INDIRECT(\"'\"&M$7&\"'!A:A\")))","v":{"$error":"#N/A"}},{"$error":"#N/A"},11.751300000000001,63.6,{"$error":"#N/A"},487,{"$error":"#N/A"},{"$error":"#N/A"},{"$error":"#N/A"},{"$error":"#N/A"},1732,1120,721,5.8,63.9,6.7,{"$error":"#N/A"},{"$error":"#N/A"},1.6,{"$error":"#N/A"},{"$error":"#N/A"},{"$error":"#N/A"},109.5,57.738,95451,77651,86988,{"$error":"#N/A"},{"$error":"#N/A"},57.622,{"$error":"#N/A"},{"$error":"#N/A"},{"$error":"#N/A"},{"$error":"#N/A"},{"$error":"#N/A"},{"$error":"#N/A"},{"$error":"#N/A"}]
[null,null,null,"1986-01-01",{"$error":"#N/A"},58.16,58.36,{"$error":"#N/A"},{"$error":"#N/A"},{"$error":"#N/A"},{"$error":"#N/A"},{"$error":"#N/A"},{"$error":"#N/A"},{"$error":"#N/A"},11.772869999999999,63.7,{"$error":"#N/A"},240,{"$error":"#N/A"},{"$error":"#N/A"},{"$error":"#N/A"},{"$error":"#N/A"},1723,1045,733,5.7,63.8,6.9,{"$error":"#N/A"},1.6,1.5,{"$error":"#N/A"},{"$error":"#N/A"},{"$error":"#N/A"},109.9,58.02,96074,78101,87112,{"$error":"#N/A"},{"$error":"#N/A"},58.247999999999998,{"$error":"#N/A"},{"$error":"#N/A"},{"$error":"#N/A"},{"$error":"#N/A"},{"$error":"#N/A"},{"$error":"#N/A"},{"$error":"#N/A"}]
[null,null,null,"1986-02-01",{"$error":"#N/A"},58.5,58.75,{"$error":"#N/A"},{"$error":"#N/A"},{"$error":"#N/A"},{"$error":"#N/A"},{"$error":"#N/A"},{"$error":"#N/A"},{"$error":"#N/A"},11.772869999999999,63.7,{"$error":"#N/A"},240,{"$error":"#N/A"},{"$error":"#N/A"},{"$error":"#N/A"},{"$error":"#N/A"},1753,1067,728,6,63.8,6.9,{"$error":"#N/A"},1.6,1.5,{"$error":"#N/A"},{"$error":"#N/A"},{"$error":"#N/A"},109.7,58.02,96220,78171,87185,{"$error":"#N/A"},{"$error":"#N/A"},58.247999999999998,{"$error":"#N/A"},{"$error":"#N/A"},{"$error":"#N/A"},{"$error":"#N/A"},{"$error":"#N/A"},{"$error":"#N/A"},{"$error":"#N/A"}]
[null,null,null,"1986-03-01",{"$error":"#N/A"},58.94,59.17,{"$error":"#N/A"},{"$error":"#N/A"},{"$error":"#N/A"},{"$error":"#N/A"},{"$error":"#N/A"},{"$error":"#N/A"},{"$error":"#N/A"},11.772869999999999,63.7,{"$error":"#N/A"},240,{"$error":"#N/A"},{"$error":"#N/A"},{"$error":"#N/A"},{"$error":"#N/A"},1756,1128,880,4.7,63.8,6.9,{"$error":"#N/A"},1.6,1.5,{"$error":"#N/A"},{"$error":"#N/A"},{"$error":"#N/A"},109.1,58.02,96383,78236,87263,{"$error":"#N/A"},{"$error":"#N/A"},58.247999999999998,{"$error":"#N/A"},{"$error":"#N/A"},{"$error":"#N/A"},{"$error":"#N/A"},{"$error":"#N/A"},{"$error":"#N/A"},{"$error":"#N/A"}]
[null,null,null,"1986-04-01",{"$error":"#N/A"},59.48,59.62,{"$error":"#N/A"},{"$error":"#N/A"},{"$error":"#N/A"},{"$error":"#N/A"},{"$error":"#N/A"},{"$error":"#N/A"},{"$error":"#N/A"},11.84141,63.8,{"$error":"#N/A"},413,{"$error":"#N/A"},{"$error":"#N/A"},{"$error":"#N/A"},{"$error":"#N/A"},1685,1138,857,4.7,63.8,7.3,{"$error":"#N/A"},1.6,1.7,{"$error":"#N/A"},{"$error":"#N/A"},{"$error":"#N/A"},108.7,58.252000000000002,96532,78309,87355,{"$error":"#N/A"},{"$error":"#N/A"},58.634,{"$error":"#N/A"},{"$error":"#N/A"},{"$error":"#N/A"},{"$error":"#N/A"},{"$error":"#N/A"},{"$error":"#N/A"},{"$error":"#N/A"}]
[null,null,null,"1986-05-01",{"$error":"#N/A"},60.05,60.06,{"$error":"#N/A"},{"$error":"#N/A"},{"$error":"#N/A"},{"$error":"#N/A"},{"$error":"#N/A"},{"$error":"#N/A"},{"$error":"#N/A"},11.84141,63.8,{"$error":"#N/A"},413,{"$error":"#N/A"},{"$error":"#N/A"},{"$error":"#N/A"},{"$error":"#N/A"},1833,1145,789,5.2,63.8,7.3,{"$error":"#N/A"},1.6,1.7,{"$error":"#N/A"},{"$error":"#N/A"},{"$error":"#N/A"},109,58.252000000000002,96694,78387,87444,{"$error":"#N/A"},{"$error":"#N/A"},58.634,{"$error":"#N/A"},{"$error":"#N/A"},{"$error":"#N/A"},{"$error":"#N/A"},{"$error":"#N/A"},{"$error":"#N/A"},{"$error":"#N/A"}]
[null,null,null,"1986-06-01",{"$error":"#N/A"},60.65,60.52,{"$error":"#N/A"},{"$error":"#N/A"},{"$f":"INDEX(INDIRECT(\"'\"&J$7&\"'!B:B\"),MATCH($D373,INDIRECT(\"'\"&J$7&\"'!A:A\")))","v":{"$error":"#N/A"}},{"$error":"#N/A"},{"$error":"#N/A"},{"$error":"#N/A"},{"$error":"#N/A"},11.84141,63.8,{"$error":"#N/A"},413,{"$error":"#N/A"},{"$error":"#N/A"},{"$error":"#N/A"},{"$error":"#N/A"},1672,1070,728,5.7,63.8,7.3,{"$error":"#N/A"},1.6,1.7,{"$error":"#N/A"},{"$error":"#N/A"},{"$error":"#N/A"},109.4,58.252000000000002,96950,78484,87547,{"$error":"#N/A"},{"$error":"#N/A"},58.634,{"$error":"#N/A"},{"$error":"#N/A"},{"$error":"#N/A"},{"$error":"#N/A"},{"$error":"#N/A"},{"$error":"#N/A"},{"$error":"#N/A"}]
[null,null,null,"1986-07-01",{"$error":"#N/A"},61.25,61.01,{"$error":"#N/A"},{"$error":"#N/A"},{"$error":"#N/A"},{"$error":"#N/A"},{"$error":"#N/A"},{"$error":"#N/A"},{"$error":"#N/A"},11.940530000000001,63.7,{"$error":"#N/A"},501,{"$error":"#N/A"},{"$error":"#N/A"},{"$error":"#N/A"},{"$error":"#N/A"},1722,1070,698,6.1,63.8,7.5,{"$error":"#N/A"},1.6,1.6,{"$error":"#N/A"},{"$error":"#N/A"},{"$error":"#N/A"},109.5,58.487000000000002,97128,78586,87629,{"$error":"#N/A"},{"$error":"#N/A"},59.023000000000003,{"$error":"#N/A"},{"$error":"#N/A"},{"$error":"#N/A"},{"$error":"#N/A"},{"$error":"#N/A"},{"$error":"#N/A"},{"$error":"#N/A"}]
[null,null,null,"1986-08-01",{"$error":"#N/A"},61.78,61.5,{"$error":"#N/A"},{"$error":"#N/A"},{"$error":"#N/A"},{"$error":"#N/A"},{"$error":"#N/A"},{"$error":"#N/A"},{"$error":"#N/A"},11.940530000000001,63.7,{"$error":"#N/A"},501,{"$error":"#N/A"},{"$error":"#N/A"},{"$error":"#N/A"},{"$error":"#N/A"},1763,1131,621,7,63.8,7.5,{"$error":"#N/A"},1.6,1.6,{"$error":"#N/A"},{"$error":"#N/A"},{"$error":"#N/A"},109.6,58.487000000000002,97297,78634,87689,{"$error":"#N/A"},{"$error":"#N/A"},59.023000000000003,{"$error":"#N/A"},{"$error":"#N/A"},{"$error":"#N/A"},{"$error":"#N/A"},{"$error":"#N/A"},{"$error":"#N/A"},{"$error":"#N/A"}]
[null,null,null,"1986-09-01",{"$error":"#N/A"},62.24,61.99,{"$error":"#N/A"},{"$error":"#N/A"},{"$error":"#N/A"},{"$error":"#N/A"},{"$error":"#N/A"},{"$error":"#N/A"},{"$error":"#N/A"},11.940530000000001,63.7,{"$error":"#N/A"},501,{"$error":"#N/A"},{"$error":"#N/A"},{"$error":"#N/A"},{"$error":"#N/A"},1732,1113,763,5.8,63.8,7.5,{"$error":"#N/A"},1.6,1.6,{"$error":"#N/A"},{"$error":"#N/A"},{"$error":"#N/A"},110,58.487000000000002,97448,78722,87779,{"$error":"#N/A"},{"$error":"#N/A"},59.023000000000003,{"$error":"#N/A"},{"$error":"#N/A"},{"$error":"#N/A"},{"$error":"#N/A"},{"$error":"#N/A"},{"$error":"#N/A"},{"$error":"#N/A"}]
[null,null,null,"1986-10-01",{"$error":"#N/A"},62.59,62.45,{"$error":"#N/A"},{"$error":"#N/A"},{"$error":"#N/A"},{"$error":"#N/A"},{"$error":"#N/A"},{"$error":"#N/A"},{"$error":"#N/A"},12.08309,63.9,{"$error":"#N/A"},778,{"$error":"#N/A"},{"$error":"#N/A"},{"$error":"#N/A"},{"$error":"#N/A"},1782,1170,669,6.5,63.8,7.7,{"$error":"#N/A"},1.6,1.6,{"$error":"#N/A"},{"$error":"#N/A"},{"$error":"#N/A"},110.2,58.813000000000002,97627,78802,87856,{"$error":"#N/A"},{"$error":"#N/A"},59.494999999999997,{"$error":"#N/A"},{"$error":"#N/A"},{"$error":"#N/A"},{"$error":"#N/A"},{"$error":"#N/A"},{"$error":"#N/A"},{"$error":"#N/A"}]
[null,null,null,"1986-11-01",{"$error":"#N/A"},62.9,62.92,{"$error":"#N/A"},{"$error":"#N/A"},{"$error":"#N/A"},{"$error":"#N/A"},{"$error":"#N/A"},{"$error":"#N/A"},{"$error":"#N/A"},12.08309,63.9,{"$error":"#N/A"},778,{"$error":"#N/A"},{"$error":"#N/A"},{"$error":"#N/A"},{"$error":"#N/A"},1793,1153,707,6.1,63.8,7.7,{"$error":"#N/A"},1.6,1.6,{"$error":"#N/A"},{"$error":"#N/A"},{"$error":"#N/A"},110.4,58.813000000000002,97801,78874,87933,{"$error":"#N/A"},{"$error":"#N/A"},59.494999999999997,{"$error":"#N/A"},{"$error":"#N/A"},{"$error":"#N/A"},{"$error":"#N/A"},{"$error":"#N/A"},{"$error":"#N/A"},{"$error":"#N/A"}]
[null,null,null,"1986-12-01",{"$error":"#N/A"},63.37,{"$f":"INDEX(INDIRECT(\"'\"&G$7&\"'!B:B\"),MATCH($D379,INDIRECT(\"'\"&G$7&\"'!A:A\")))","v":63.51},{"$error":"#N/A"},{"$error":"#N/A"},{"$error":"#N/A"},{"$error":"#N/A"},{"$error":"#N/A"},{"$error":"#N/A"},{"$error":"#N/A"},12.08309,63.9,{"$error":"#N/A"},778,{"$error":"#N/A"},{"$error":"#N/A"},{"$error":"#N/A"},{"$error":"#N/A"},1840,1164,784,5.5,63.8,7.7,{"$error":"#N/A"},1.6,1.6,{"$error":"#N/A"},{"$error":"#N/A"},{"$error":"#N/A"},110.8,58.813000000000002,98010,78973,88016,{"$error":"#N/A"},{"$error":"#N/A"},59.494999999999997,{"$error":"#N/A"},{"$error":"#N/A"},{"$error":"#N/A"},{"$error":"#N/A"},{"$error":"#N/A"},{"$error":"#N/A"},{"$error":"#N/A"}]
[null,null,null,"1987-01-01",{"$error":"#N/A"},63.75,63.99,62.47,{"$error":"#N/A"},63.1,74.680000000000007,68.5,54.21,66.36,11.9483,63.9,{"$error":"#N/A"},461,{"$error":"#N/A"},{"$error":"#N/A"},{"$error":"#N/A"},{"$error":"#N/A"},1862,1165,709,6,64,7.4,{"$error":"#N/A"},1.7,1.7,{"$error":"#N/A"},{"$error":"#N/A"},{"$error":"#N/A"},111.4,59.24,98267,79132,88150,{"$error":"#N/A"},{"$error":"#N/A"},59.866,{"$error":"#N/A"},{"$error":"#N/A"},{"$error":"#N/A"},{"$error":"#N/A"},{"$error":"#N/A"},{"$error":"#N/A"},{"$error":"#N/A"}]
[null,null,null,"1987-02-01",{"$error":"#N/A"},64.150000000000006,64.45,62.47,{"$error":"#N/A"},63.8,76.040000000000006,68.760000000000005,55.23,67.03,11.9483,63.9,{"$error":"#N/A"},461,{"$error":"#N/A"},{"$error":"#N/A"},{"$error":"#N/A"},{"$error":"#N/A"},1771,1144,732,6.2,64,7.4,{"$error":"#N/A"},1.7,1.7,{"$error":"#N/A"},{"$error":"#N/A"},{"$error":"#N/A"},111.8,59.24,98447,79216,88237,{"$error":"#N/A"},{"$error":"#N/A"},59.866,{"$error":"#N/A"},{"$error":"#N/A"},{"$error":"#N/A"},{"$error":"#N/A"},{"$error":"#N/A"},{"$error":"#N/A"},{"$error":"#N/A"}]
[null,null,null,"1987-03-01",{"$error":"#N/A"},64.489999999999995,64.760000000000005,62.47,{"$error":"#N/A"},64.430000000000007,77.239999999999995,69.23,54.81,67.34,11.9483,63.9,{"$error":"#N/A"},461,{"$error":"#N/A"},{"$error":"#N/A"},{"$error":"#N/A"},{"$error":"#N/A"},1694,1147,713,6,64,7.4,{"$error":"#N/A"},1.7,1.7,{"$error":"#N/A"},{"$error":"#N/A"},{"$error":"#N/A"},112.2,59.24,98621,79303,88321,{"$error":"#N/A"},{"$error":"#N/A"},59.866,{"$error":"#N/A"},{"$error":"#N/A"},{"$error":"#N/A"},{"$error":"#N/A"},{"$error":"#N/A"},{"$error":"#N/A"},{"$error":"#N/A"}]
[null,null,null,"1987-04-01",{"$error":"#N/A"},65,65.16,63.71,{"$error":"#N/A"},65.06,78.28,69.2,54.8,67.88,12.08986,63.9,{"$error":"#N/A"},530,{"$error":"#N/A"},{"$error":"#N/A"},{"$error":"#N/A"},{"$error":"#N/A"},1735,1157,735,6,64,7.5,{"$error":"#N/A"},1.7,1.7,{"$error":"#N/A"},{"$error":"#N/A"},{"$error":"#N/A"},112.7,59.637,98816,79387,88395,{"$error":"#N/A"},{"$error":"#N/A"},60.436999999999998,{"$error":"#N/A"},{"$error":"#N/A"},{"$error":"#N/A"},{"$error":"#N/A"},{"$error":"#N/A"},{"$error":"#N/A"},{"$error":"#N/A"}]
[null,null,null,"1987-05-01",{"$error":"#N/A"},65.569999999999993,65.59,63.71,{"$error":"#N/A"},65.819999999999993,79.680000000000007,69.459999999999994,55.48,67.900000000000006,12.08986,63.9,{"$error":"#N/A"},530,{"$error":"#N/A"},{"$error":"#N/A"},{"$error":"#N/A"},{"$error":"#N/A"},1713,1165,651,6.7,64,7.5,{"$error":"#N/A"},1.7,1.7,{"$error":"#N/A"},{"$error":"#N/A"},{"$error":"#N/A"},113,59.637,98991,79474,88464,{"$error":"#N/A"},{"$error":"#N/A"},60.436999999999998,{"$error":"#N/A"},{"$error":"#N/A"},{"$error":"#N/A"},{"$error":"#N/A"},{"$f":"INDEX(INDIRECT(\"'\"&AU$7&\"'!B:B\"),MATCH($D384,INDIRECT(\"'\"&AU$7&\"'!A:A\")))","v":{"$error":"#N/A"}},{"$error":"#N/A"},{"$error":"#N/A"}]
[null,null,null,"1987-06-01",{"$error":"#N/A"},66.239999999999995,66.09,63.71,{"$error":"#N/A"},66.48,80.84,69.31,56.06,66.48,12.08986,63.9,{"$error":"#N/A"},530,{"$error":"#N/A"},{"$error":"#N/A"},{"$error":"#N/A"},{"$error":"#N/A"},1635,1112,637,6.9,64,7.5,{"$error":"#N/A"},1.7,1.7,{"$error":"#N/A"},{"$error":"#N/A"},{"$error":"#N/A"},113.5,59.637,99155,79536,88546,{"$error":"#N/A"},{"$error":"#N/A"},60.436999999999998,{"$error":"#N/A"},{"$error":"#N/A"},{"$error":"#N/A"},{"$error":"#N/A"},{"$error":"#N/A"},{"$error":"#N/A"},{"$error":"#N/A"}]
[null,null,null,"1987-07-01",{"$error":"#N/A"},66.8,66.52,65.010000000000005,{"$error":"#N/A"},67.12,81.7,69.7,57.11,65.430000000000007,11.95965,64.099999999999994,{"$error":"#N/A"},620,{"$error":"#N/A"},{"$error":"#N/A"},{"$error":"#N/A"},{"$error":"#N/A"},1685,1127,658,6.7,64,8.1,{"$error":"#N/A"},1.7,1.7,{"$error":"#N/A"},{"$error":"#N/A"},{"$error":"#N/A"},113.8,60.07,99344,79625,88632,{"$error":"#N/A"},{"$error":"#N/A"},60.972000000000001,{"$error":"#N/A"},{"$error":"#N/A"},{"$error":"#N/A"},{"$error":"#N/A"},{"$error":"#N/A"},{"$error":"#N/A"},{"$error":"#N/A"}]
[null,null,null,"1987-08-01",{"$error":"#N/A"},67.290000000000006,66.95,65.010000000000005,{"$error":"#N/A"},67.709999999999994,82.22,70.16,57.61,65.14,11.95965,64.099999999999994,{"$error":"#N/A"},620,{"$error":"#N/A"},{"$error":"#N/A"},{"$error":"#N/A"},{"$error":"#N/A"},1624,1074,657,6.8,64,8.1,{"$error":"#N/A"},1.7,1.7,{"$error":"#N/A"},{"$error":"#N/A"},{"$error":"#N/A"},114.3,60.07,99471,79668,88685,{"$error":"#N/A"},{"$error":"#N/A"},60.972000000000001,{"$error":"#N/A"},{"$error":"#N/A"},{"$error":"#N/A"},{"$error":"#N/A"},{"$error":"#N/A"},{"$error":"#N/A"},{"$error":"#N/A"}]
[null,null,null,"1987-09-01",{"$error":"#N/A"},67.64,67.34,65.010000000000005,{"$error":"#N/A"},68.349999999999994,82.38,70.95,58.27,65.849999999999994,11.95965,64.099999999999994,{"$error":"#N/A"},620,{"$error":"#N/A"},{"$error":"#N/A"},{"$error":"#N/A"},{"$error":"#N/A"},1587,1109,666,6.8,64,8.1,{"$error":"#N/A"},1.7,1.7,{"$error":"#N/A"},{"$error":"#N/A"},{"$error":"#N/A"},114.7,60.07,99647,79740,88785,{"$error":"#N/A"},{"$error":"#N/A"},60.972000000000001,{"$error":"#N/A"},{"$error":"#N/A"},{"$error":"#N/A"},{"$error":"#N/A"},{"$error":"#N/A"},{"$error":"#N/A"},{"$error":"#N/A"}]
[null,null,null,"1987-10-01",{"$error":"#N/A"},67.92,67.760000000000005,66.430000000000007,{"$error":"#N/A"},68.989999999999995,83.16,71.28,59.01,66.209999999999994,11.825850000000001,64.099999999999994,{"$error":"#N/A"},932,{"$error":"#N/A"},{"$error":"#N/A"},{"$error":"#N/A"},{"$error":"#N/A"},1577,1118,650,6.8,64,7.8,{"$error":"#N/A"},1.7,1.6,{"$error":"#N/A"},{"$error":"#N/A"},{"$error":"#N/A"},115,60.567,99823,79807,88843,{"$error":"#N/A"},{"$error":"#N/A"},61.600999999999999,{"$error":"#N/A"},{"$error":"#N/A"},{"$error":"#N/A"},{"$error":"#N/A"},{"$error":"#N/A"},{"$error":"#N/A"},{"$error":"#N/A"}]
[null,null,null,"1987-11-01",{"$error":"#N/A"},68.11,68.12,66.430000000000007,{"$error":"#N/A"},69.569999999999993,83.68,71.5,59.71,67.05,11.825850000000001,64.099999999999994,{"$error":"#N/A"},932,{"$error":"#N/A"},{"$error":"#N/A"},{"$error":"#N/A"},{"$error":"#N/A"},1578,1085,625,7,64,7.8,{"$error":"#N/A"},1.7,1.6,{"$error":"#N/A"},{"$error":"#N/A"},{"$error":"#N/A"},115.4,60.567,100021,79885,88923,{"$error":"#N/A"},{"$error":"#N/A"},61.600999999999999,{"$error":"#N/A"},{"$f":"INDEX(INDIRECT(\"'\"&AR$7&\"'!B:B\"),MATCH($D390,INDIRECT(\"'\"&AR$7&\"'!A:A\")))","v":{"$error":"#N/A"}},{"$error":"#N/A"},{"$error":"#N/A"},{"$error":"#N/A"},{"$error":"#N/A"},{"$error":"#N/A"}]
[null,null,null,"1987-12-01",{"$error":"#N/A"},68.36,68.52,66.430000000000007,{"$error":"#N/A"},70.31,84.5,71.41,61.08,66.66,11.825850000000001,64.099999999999994,{"$error":"#N/A"},932,{"$error":"#N/A"},{"$error":"#N/A"},{"$error":"#N/A"},{"$error":"#N/A"},1632,1111,595,7.6,64,7.8,{"$error":"#N/A"},1.7,1.6,{"$error":"#N/A"},{"$error":"#N/A"},{"$error":"#N/A"},115.6,60.567,100202,80002,89010,{"$error":"#N/A"},{"$error":"#N/A"},61.600999999999999,{"$error":"#N/A"},{"$error":"#N/A"},{"$error":"#N/A"},{"$error":"#N/A"},{"$error":"#N/A"},{"$error":"#N/A"},{"$error":"#N/A"}]
[null,null,null,"1988-01-01",{"$error":"#N/A"},68.599999999999994,68.87,67.14,{"$error":"#N/A"},70.760000000000005,84.32,71.66,61.97,66.64,11.77472,63.8,{"$error":"#N/A"},527,{"$error":"#N/A"},{"$error":"#N/A"},{"$error":"#N/A"},{"$error":"#N/A"},1554,1093,585,7.5,63.8,8,{"$error":"#N/A"},1.6,1.6,{"$error":"#N/A"},{"$error":"#N/A"},{"$error":"#N/A"},116,61.042999999999999,100429,80120,89110,{"$error":"#N/A"},{"$error":"#N/A"},62.186,{"$error":"#N/A"},{"$error":"#N/A"},{"$error":"#N/A"},{"$error":"#N/A"},{"$error":"#N/A"},{"$error":"#N/A"},{"$error":"#N/A"}]
[null,null,null,"1988-02-01",{"$f":"INDEX(INDIRECT(\"'\"&E$7&\"'!B:B\"),MATCH($D393,INDIRECT(\"'\"&E$7&\"'!A:A\")))","v":{"$error":"#N/A"}},68.930000000000007,69.28,67.14,{"$error":"#N/A"},71.239999999999995,84.49,71.680000000000007,63.45,65.89,11.77472,63.8,{"$error":"#N/A"},527,{"$error":"#N/A"},{"$error":"#N/A"},{"$error":"#N/A"},{"$error":"#N/A"},1450,1022,663,6.6,63.8,8,{"$error":"#N/A"},1.6,1.6,{"$error":"#N/A"},{"$error":"#N/A"},{"$error":"#N/A"},116.2,61.042999999999999,100611,80203,89178,{"$error":"#N/A"},{"$error":"#N/A"},62.186,{"$error":"#N/A"},{"$error":"#N/A"},{"$error":"#N/A"},{"$error":"#N/A"},{"$error":"#N/A"},{"$error":"#N/A"},{"$error":"#N/A"}]
[null,null,null,{"$f":"EOMONTH(D393,$E$1)+1","v":"1988-03-01"},{"$error":"#N/A"},69.33,69.650000000000006,67.14,{"$error":"#N/A"},71.739999999999995,84.48,72.19,64.510000000000005,66.260000000000005,11.77472,63.8,{"$error":"#N/A"},527,{"$error":"#N/A"},{"$error":"#N/A"},{"$error":"#N/A"},{"$error":"#N/A"},1600,1098,669,6.6,63.8,8,{"$error":"#N/A"},1.6,1.6,{"$error":"#N/A"},{"$error":"#N/A"},{"$error":"#N/A"},116.5,61.042999999999999,100748,80260,89261,{"$error":"#N/A"},{"$error":"#N/A"},62.186,{"$error":"#N/A"},{"$error":"#N/A"},{"$error":"#N/A"},{"$error":"#N/A"},{"$error":"#N/A"},{"$error":"#N/A"},{"$error":"#N/A"}]
[null,null,null,"1988-04-01",{"$error":"#N/A"},69.8,69.989999999999995,68.86,{"$error":"#N/A"},72.2,84.69,72.47,65.150000000000006,67.11,11.758570000000001,63.8,{"$error":"#N/A"},957,{"$error":"#N/A"},{"$error":"#N/A"},{"$error":"#N/A"},{"$error":"#N/A"},1615,1043,699,6.4,63.8,7.7,{"$error":"#N/A"},1.6,1.6,{"$error":"#N/A"},{"$error":"#N/A"},{"$error":"#N/A"},117.2,61.633000000000003,100950,80326,89307,{"$error":"#N/A"},{"$error":"#N/A"},62.94,{"$error":"#N/A"},{"$error":"#N/A"},{"$error":"#N/A"},{"$error":"#N/A"},{"$error":"#N/A"},{"$error":"#N/A"},{"$error":"#N/A"}]
[null,null,null,"1988-05-01",{"$error":"#N/A"},70.42,70.430000000000007,68.86,{"$error":"#N/A"},72.760000000000005,84.76,72.760000000000005,65.569999999999993,67.510000000000005,11.758570000000001,63.8,{"$error":"#N/A"},957,{"$error":"#N/A"},{"$error":"#N/A"},{"$error":"#N/A"},{"$error":"#N/A"},1483,1089,684,6.6,63.8,7.7,{"$error":"#N/A"},1.6,1.6,{"$error":"#N/A"},{"$error":"#N/A"},{"$error":"#N/A"},117.5,61.633000000000003,101127,80402,89382,{"$error":"#N/A"},{"$error":"#N/A"},62.94,{"$error":"#N/A"},{"$error":"#N/A"},{"$error":"#N/A"},{"$error":"#N/A"},{"$error":"#N/A"},{"$error":"#N/A"},{"$error":"#N/A"}]
[null,null,null,"1988-06-01",{"$error":"#N/A"},71.08,70.89,68.86,{"$error":"#N/A"},73.5,84.6,{"$f":"INDEX(INDIRECT(\"'\"&L$7&\"'!B:B\"),MATCH($D397,INDIRECT(\"'\"&L$7&\"'!A:A\")))","v":73.55},66.459999999999994,67.180000000000007,11.758570000000001,63.8,{"$error":"#N/A"},957,{"$error":"#N/A"},{"$error":"#N/A"},{"$error":"#N/A"},{"$error":"#N/A"},1512,1102,717,6.2,63.8,7.7,{"$error":"#N/A"},1.6,1.6,{"$error":"#N/A"},{"$error":"#N/A"},{"$error":"#N/A"},118,61.633000000000003,101318,80526,89502,{"$error":"#N/A"},{"$error":"#N/A"},62.94,{"$error":"#N/A"},{"$error":"#N/A"},{"$error":"#N/A"},{"$error":"#N/A"},{"$error":"#N/A"},{"$error":"#N/A"},{"$error":"#N/A"}]
[null,null,null,"1988-07-01",{"$error":"#N/A"},71.69,71.36,70.16,{"$error":"#N/A"},74.34,84.5,74.13,66.55,67.36,11.71374,63.8,{"$error":"#N/A"},693,{"$error":"#N/A"},{"$error":"#N/A"},{"$error":"#N/A"},{"$error":"#N/A"},1527,1082,679,6.6,63.8,7.8,{"$error":"#N/A"},1.6,1.6,{"$error":"#N/A"},{"$error":"#N/A"},{"$error":"#N/A"},118.5,62.359000000000002,101515,80608,89588,{"$error":"#N/A"},{"$error":"#N/A"},63.664999999999999,{"$error":"#N/A"},{"$error":"#N/A"},{"$error":"#N/A"},{"$error":"#N/A"},{"$error":"#N/A"},{"$error":"#N/A"},{"$error":"#N/A"}]
[null,null,null,"1988-08-01",{"$error":"#N/A"},72.19,71.81,70.16,{"$error":"#N/A"},75.09,84.59,75.02,67.75,68.11,11.71374,63.8,{"$error":"#N/A"},693,{"$error":"#N/A"},{"$error":"#N/A"},{"$error":"#N/A"},{"$error":"#N/A"},1551,1083,688,6.6,63.8,7.8,{"$error":"#N/A"},1.6,1.6,{"$error":"#N/A"},{"$error":"#N/A"},{"$error":"#N/A"},119,62.359000000000002,101700,80669,89670,{"$error":"#N/A"},{"$error":"#N/A"},63.664999999999999,{"$error":"#N/A"},{"$error":"#N/A"},{"$error":"#N/A"},{"$error":"#N/A"},{"$error":"#N/A"},{"$error":"#N/A"},{"$error":"#N/A"}]
[null,null,null,"1988-09-01",{"$error":"#N/A"},72.58,72.25,70.16,{"$error":"#N/A"},75.819999999999993,84.58,75.63,68.02,69.06,11.71374,63.8,{"$error":"#N/A"},693,{"$error":"#N/A"},{"$error":"#N/A"},{"$error":"#N/A"},{"$error":"#N/A"},1531,1111,703,6.5,63.8,7.8,{"$error":"#N/A"},1.6,1.6,{"$error":"#N/A"},{"$error":"#N/A"},{"$error":"#N/A"},119.5,62.359000000000002,101873,80751,89735,{"$error":"#N/A"},{"$error":"#N/A"},63.664999999999999,{"$error":"#N/A"},{"$error":"#N/A"},{"$error":"#N/A"},{"$error":"#N/A"},{"$error":"#N/A"},{"$error":"#N/A"},{"$error":"#N/A"}]
[null,null,null,"1988-10-01",{"$error":"#N/A"},72.83,72.650000000000006,71.48,{"$error":"#N/A"},76.430000000000007,84.48,75.86,69.03,69.19,11.590070000000001,63.8,{"$error":"#N/A"},849,{"$error":"#N/A"},{"$error":"#N/A"},{"$error":"#N/A"},{"$error":"#N/A"},1529,1096,718,6,63.8,7.3,{"$error":"#N/A"},1.6,1.6,{"$error":"#N/A"},{"$error":"#N/A"},{"$error":"#N/A"},119.9,62.859000000000002,102038,80851,89807,{"$error":"#N/A"},{"$error":"#N/A"},64.367999999999995,{"$error":"#N/A"},{"$error":"#N/A"},{"$error":"#N/A"},{"$error":"#N/A"},{"$error":"#N/A"},{"$error":"#N/A"},{"$error":"#N/A"}]
[null,null,null,"1988-11-01",{"$error":"#N/A"},73.08,73.08,71.48,{"$error":"#N/A"},77.08,84.49,76.09,68.650000000000006,68.64,11.590070000000001,63.8,{"$error":"#N/A"},849,{"$error":"#N/A"},{"$error":"#N/A"},{"$error":"#N/A"},{"$error":"#N/A"},1407,1020,628,7.2,63.8,7.3,{"$error":"#N/A"},1.6,1.6,{"$error":"#N/A"},{"$error":"#N/A"},{"$error":"#N/A"},120.3,62.859000000000002,102163,80924,89887,{"$error":"#N/A"},{"$error":"#N/A"},64.367999999999995,{"$error":"#N/A"},{"$error":"#N/A"},{"$error":"#N/A"},{"$error":"#N/A"},{"$error":"#N/A"},{"$error":"#N/A"},{"$error":"#N/A"}]
[null,null,null,"1988-12-01",{"$error":"#N/A"},73.290000000000006,73.48,71.48,{"$f":"INDEX(INDIRECT(\"'\"&I$7&\"'!B:B\"),MATCH($D403,INDIRECT(\"'\"&I$7&\"'!A:A\")))","v":{"$error":"#N/A"}},77.680000000000007,84.38,76.19,68.510000000000005,67.98,11.590070000000001,63.8,{"$error":"#N/A"},849,{"$error":"#N/A"},{"$error":"#N/A"},{"$error":"#N/A"},{"$error":"#N/A"},1547,1115,658,6.8,63.8,7.3,{"$error":"#N/A"},1.6,1.6,{"$error":"#N/A"},{"$error":"#N/A"},{"$error":"#N/A"},120.7,62.859000000000002,102311,81001,89954,{"$error":"#N/A"},{"$error":"#N/A"},64.367999999999995,{"$error":"#N/A"},{"$error":"#N/A"},{"$error":"#N/A"},{"$error":"#N/A"},{"$error":"#N/A"},{"$error":"#N/A"},{"$error":"#N/A"}]
[null,null,null,"1989-01-01",{"$error":"#N/A"},73.62,73.959999999999994,72.959999999999994,67.540000000000006,78.33,84.48,76.59,68.33,68.73,11.579090000000001,64,{"$error":"#N/A"},616,{"$error":"#N/A"},{"$error":"#N/A"},{"$error":"#N/A"},{"$error":"#N/A"},1561,1157,719,6.2,63.9,7.5,{"$error":"#N/A"},1.8,1.7,{"$error":"#N/A"},{"$error":"#N/A"},{"$error":"#N/A"},121.2,63.55,102558,81162,90072,{"$error":"#N/A"},{"$error":"#N/A"},65.049000000000007,{"$error":"#N/A"},{"$error":"#N/A"},{"$error":"#N/A"},{"$error":"#N/A"},{"$error":"#N/A"},{"$error":"#N/A"},{"$error":"#N/A"}]
[null,null,null,"1989-02-01",{"$error":"#N/A"},73.97,74.39,72.959999999999994,67.430000000000007,78.900000000000006,84.27,76.819999999999993,69.010000000000005,69.11,11.579090000000001,64,{"$error":"#N/A"},616,{"$error":"#N/A"},{"$error":"#N/A"},{"$error":"#N/A"},{"$error":"#N/A"},1597,1163,622,7.5,63.9,7.5,{"$error":"#N/A"},1.8,1.7,{"$error":"#N/A"},{"$error":"#N/A"},{"$error":"#N/A"},121.6,63.55,102803,81256,90153,{"$error":"#N/A"},{"$error":"#N/A"},65.049000000000007,{"$error":"#N/A"},{"$error":"#N/A"},{"$error":"#N/A"},{"$error":"#N/A"},{"$error":"#N/A"},{"$error":"#N/A"},{"$error":"#N/A"}]
[null,null,null,"1989-03-01",{"$error":"#N/A"},74.42,74.790000000000006,72.959999999999994,67.709999999999994,79.819999999999993,84.19,77,70.069999999999993,69.97,11.579090000000001,64,{"$error":"#N/A"},616,{"$error":"#N/A"},{"$error":"#N/A"},{"$error":"#N/A"},{"$error":"#N/A"},1442,1038,567,8.1999999999999993,63.9,7.5,{"$error":"#N/A"},1.8,1.7,{"$error":"#N/A"},{"$error":"#N/A"},{"$error":"#N/A"},122.2,63.55,103008,81333,90242,{"$error":"#N/A"},{"$error":"#N/A"},65.049000000000007,{"$error":"#N/A"},{"$error":"#N/A"},{"$error":"#N/A"},{"$error":"#N/A"},{"$error":"#N/A"},{"$error":"#N/A"},{"$error":"#N/A"}]
[null,null,null,"1989-04-01",{"$error":"#N/A"},74.87,75.09,73.97,67.650000000000006,80.44,83.88,77.319999999999993,70.650000000000006,69.61,11.746790000000001,63.9,{"$error":"#N/A"},766,{"$error":"#N/A"},{"$error":"#N/A"},{"$error":"#N/A"},{"$error":"#N/A"},1542,1106,608,7.4,63.9,7.4,{"$error":"#N/A"},1.8,1.7,{"$error":"#N/A"},{"$error":"#N/A"},{"$error":"#N/A"},123.1,64.206999999999994,103163,81413,90318,{"$error":"#N/A"},{"$error":"#N/A"},65.628,{"$error":"#N/A"},{"$error":"#N/A"},{"$error":"#N/A"},{"$error":"#N/A"},{"$error":"#N/A"},{"$error":"#N/A"},{"$error":"#N/A"}]
[null,null,null,"1989-05-01",{"$error":"#N/A"},75.3,75.31,73.97,67.900000000000006,80.83,83.49,77.19,70.510000000000005,69.64,11.746790000000001,63.9,{"$error":"#N/A"},766,{"$error":"#N/A"},{"$error":"#N/A"},{"$error":"#N/A"},{"$error":"#N/A"},1449,1042,656,7.1,63.9,7.4,{"$error":"#N/A"},1.8,1.7,{"$error":"#N/A"},{"$error":"#N/A"},{"$error":"#N/A"},123.7,64.206999999999994,103328,81524,90432,{"$error":"#N/A"},{"$error":"#N/A"},65.628,{"$error":"#N/A"},{"$error":"#N/A"},{"$error":"#N/A"},{"$error":"#N/A"},{"$error":"#N/A"},{"$error":"#N/A"},{"$f":"INDEX(INDIRECT(\"'\"&AW$7&\"'!B:B\"),MATCH($D408,INDIRECT(\"'\"&AW$7&\"'!A:A\")))","v":{"$error":"#N/A"}}]
[null,null,null,"1989-06-01",{"$error":"#N/A"},75.7,75.48,73.97,67.66,81.069999999999993,82.95,77.680000000000007,70.52,71.19,11.746790000000001,63.9,{"$error":"#N/A"},766,{"$error":"#N/A"},{"$error":"#N/A"},{"$error":"#N/A"},{"$error":"#N/A"},1346,969,642,7.2,63.9,7.4,{"$error":"#N/A"},1.8,1.7,{"$error":"#N/A"},{"$error":"#N/A"},{"$error":"#N/A"},124.1,64.206999999999994,103455,81592,90526,{"$error":"#N/A"},{"$error":"#N/A"},65.628,{"$error":"#N/A"},{"$error":"#N/A"},{"$error":"#N/A"},{"$error":"#N/A"},{"$error":"#N/A"},{"$error":"#N/A"},{"$error":"#N/A"}]
[null,null,null,"1989-07-01",{"$error":"#N/A"},76.05,75.66,74.83,67.56,81.14,82.17,78.05,70.33,71.56,11.80972,63.9,{"$error":"#N/A"},963,{"$error":"#N/A"},{"$error":"#N/A"},{"$error":"#N/A"},{"$error":"#N/A"},1386,974,731,6.1,63.9,7.6,{"$error":"#N/A"},1.8,1.9,{"$error":"#N/A"},{"$error":"#N/A"},{"$error":"#N/A"},124.5,64.671999999999997,103672,81679,90607,{"$error":"#N/A"},{"$error":"#N/A"},66.099999999999994,{"$error":"#N/A"},{"$error":"#N/A"},{"$error":"#N/A"},{"$error":"#N/A"},{"$error":"#N/A"},{"$error":"#N/A"},{"$error":"#N/A"}]
[null,null,null,"1989-08-01",{"$error":"#N/A"},76.28,75.84,74.83,67.28,81.400000000000006,81.94,78.56,70.37,72.650000000000006,11.80972,63.9,{"$error":"#N/A"},963,{"$error":"#N/A"},{"$error":"#N/A"},{"$error":"#N/A"},{"$error":"#N/A"},1429,1042,697,6.4,63.9,7.6,{"$error":"#N/A"},1.8,1.9,{"$error":"#N/A"},{"$error":"#N/A"},{"$error":"#N/A"},124.5,64.671999999999997,103836,81754,90684,{"$error":"#N/A"},{"$error":"#N/A"},66.099999999999994,{"$error":"#N/A"},{"$error":"#N/A"},{"$error":"#N/A"},{"$error":"#N/A"},{"$error":"#N/A"},{"$error":"#N/A"},{"$error":"#N/A"}]
[null,null,null,"1989-09-01",{"$error":"#N/A"},76.430000000000007,76.06,74.83,67.14,81.62,81.540000000000006,78.58,70.180000000000007,73.41,11.80972,63.9,{"$error":"#N/A"},963,{"$error":"#N/A"},{"$error":"#N/A"},{"$error":"#N/A"},{"$error":"#N/A"},1338,950,639,7.1,63.9,7.6,{"$error":"#N/A"},1.8,1.9,{"$error":"#N/A"},{"$error":"#N/A"},{"$error":"#N/A"},124.8,64.671999999999997,103983,81790,90771,{"$error":"#N/A"},{"$error":"#N/A"},66.099999999999994,{"$error":"#N/A"},{"$error":"#N/A"},{"$error":"#N/A"},{"$error":"#N/A"},{"$error":"#N/A"},{"$error":"#N/A"},{"$error":"#N/A"}]
[null,null,null,"1989-10-01",{"$error":"#N/A"},76.489999999999995,76.290000000000006,75.64,66.680000000000007,81.94,81.790000000000006,78.62,70.06,74.27,11.767049999999999,63.7,{"$error":"#N/A"},1360,{"$error":"#N/A"},{"$error":"#N/A"},{"$error":"#N/A"},{"$error":"#N/A"},1333,993,645,6.9,63.9,7.1,{"$error":"#N/A"},1.8,1.8,{"$error":"#N/A"},{"$error":"#N/A"},{"$error":"#N/A"},125.4,65.122,104159,81905,90860,{"$error":"#N/A"},{"$error":"#N/A"},66.7,{"$error":"#N/A"},{"$error":"#N/A"},{"$error":"#N/A"},{"$error":"#N/A"},{"$error":"#N/A"},{"$error":"#N/A"},{"$error":"#N/A"}]
[null,null,null,"1989-11-01",{"$error":"#N/A"},76.52,76.52,75.64,66.52,82.23,81.55,78.510000000000005,69.87,74.739999999999995,11.767049999999999,63.7,{"$error":"#N/A"},1360,{"$error":"#N/A"},{"$error":"#N/A"},{"$error":"#N/A"},{"$error":"#N/A"},1475,1074,684,6.6,63.9,7.1,{"$error":"#N/A"},1.8,1.8,{"$error":"#N/A"},{"$error":"#N/A"},{"$error":"#N/A"},125.9,65.122,104338,81968,90952,{"$error":"#N/A"},{"$error":"#N/A"},66.7,{"$error":"#N/A"},{"$error":"#N/A"},{"$error":"#N/A"},{"$f":"INDEX(INDIRECT(\"'\"&AT$7&\"'!B:B\"),MATCH($D414,INDIRECT(\"'\"&AT$7&\"'!A:A\")))","v":{"$error":"#N/A"}},{"$error":"#N/A"},{"$error":"#N/A"},{"$error":"#N/A"}]
[null,null,null,"1989-12-01",{"$error":"#N/A"},76.5,76.709999999999994,75.64,66.41,82.47,81.34,78.739999999999995,69.680000000000007,74.989999999999995,11.767049999999999,63.7,{"$error":"#N/A"},1360,{"$error":"#N/A"},{"$error":"#N/A"},{"$error":"#N/A"},{"$error":"#N/A"},1304,924,630,7,63.9,7.1,{"$error":"#N/A"},1.8,1.8,{"$error":"#N/A"},{"$error":"#N/A"},{"$error":"#N/A"},126.3,65.122,104480,82055,91042,{"$error":"#N/A"},{"$error":"#N/A"},66.7,{"$error":"#N/A"},{"$error":"#N/A"},{"$error":"#N/A"},{"$error":"#N/A"},{"$error":"#N/A"},{"$error":"#N/A"},{"$error":"#N/A"}]
[null,null,null,"1990-01-01",{"$error":"#N/A"},76.53,76.900000000000006,76.150000000000006,66.56,82.65,81.040000000000006,79.2,69.36,75.459999999999994,11.66461,64.099999999999994,{"$error":"#N/A"},1061,{"$error":"#N/A"},{"$error":"#N/A"},{"$error":"#N/A"},{"$error":"#N/A"},1508,1071,620,7,63.9,7.5,{"$error":"#N/A"},1.7,1.7,{"$error":"#N/A"},{"$error":"#N/A"},{"$error":"#N/A"},127.5,65.840999999999994,104971,82499,91148,{"$error":"#N/A"},{"$error":"#N/A"},67.450999999999993,{"$error":"#N/A"},{"$error":"#N/A"},{"$error":"#N/A"},{"$error":"#N/A"},{"$error":"#N/A"},{"$error":"#N/A"},{"$error":"#N/A"}]
[null,null,null,"1990-02-01",{"$error":"#N/A"},76.59,77.05,76.150000000000006,66.510000000000005,82.73,80.98,79.48,68.7,75.14,11.66461,64.099999999999994,{"$error":"#N/A"},1061,{"$error":"#N/A"},{"$error":"#N/A"},{"$error":"#N/A"},{"$error":"#N/A"},1352,1036,591,7.6,63.9,7.5,{"$error":"#N/A"},1.7,1.7,{"$error":"#N/A"},{"$error":"#N/A"},{"$error":"#N/A"},128,65.840999999999994,105137,82561,91203,{"$error":"#N/A"},{"$error":"#N/A"},67.450999999999993,{"$error":"#N/A"},{"$error":"#N/A"},{"$error":"#N/A"},{"$error":"#N/A"},{"$error":"#N/A"},{"$error":"#N/A"},{"$error":"#N/A"}]
[null,null,null,"1990-03-01",{"$error":"#N/A"},76.790000000000006,77.2,76.150000000000006,66.44,82.76,80.81,79.3,68.900000000000006,76.08,11.66461,64.099999999999994,{"$error":"#N/A"},1061,{"$error":"#N/A"},{"$error":"#N/A"},{"$error":"#N/A"},{"$error":"#N/A"},1345,1007,574,7.8,63.9,7.5,{"$error":"#N/A"},1.7,1.7,{"$error":"#N/A"},{"$error":"#N/A"},{"$error":"#N/A"},128.6,65.840999999999994,105254,82691,91280,{"$error":"#N/A"},{"$error":"#N/A"},67.450999999999993,{"$error":"#N/A"},{"$error":"#N/A"},{"$error":"#N/A"},{"$error":"#N/A"},{"$error":"#N/A"},{"$error":"#N/A"},{"$error":"#N/A"}]
[null,null,null,"1990-04-01",{"$error":"#N/A"},77.040000000000006,77.28,75.98,66.48,82.68,80.209999999999994,79.239999999999995,69.48,76.77,11.628349999999999,63.9,{"$error":"#N/A"},1409,{"$error":"#N/A"},{"$error":"#N/A"},{"$error":"#N/A"},{"$error":"#N/A"},1332,964,542,8.3000000000000007,63.9,7,{"$error":"#N/A"},1.7,1.7,{"$error":"#N/A"},{"$error":"#N/A"},{"$error":"#N/A"},128.9,66.52,105374,82788,91359,{"$error":"#N/A"},{"$error":"#N/A"},68.197000000000003,{"$error":"#N/A"},{"$error":"#N/A"},{"$error":"#N/A"},{"$error":"#N/A"},{"$error":"#N/A"},{"$error":"#N/A"},{"$error":"#N/A"}]
[null,null,null,"1990-05-01",{"$error":"#N/A"},77.3,77.3,75.98,66.44,82.33,79.55,79.33,70,77.59,11.628349999999999,63.9,{"$error":"#N/A"},1409,{"$error":"#N/A"},{"$error":"#N/A"},{"$error":"#N/A"},{"$error":"#N/A"},1351,989,534,8.1999999999999993,63.9,7,{"$error":"#N/A"},1.7,1.7,{"$error":"#N/A"},{"$error":"#N/A"},{"$error":"#N/A"},129.1,66.52,105575,82877,91451,{"$error":"#N/A"},{"$error":"#N/A"},68.197000000000003,{"$f":"INDEX(INDIRECT(\"'\"&AQ$7&\"'!B:B\"),MATCH($D420,INDIRECT(\"'\"&AQ$7&\"'!A:A\")))","v":{"$error":"#N/A"}},{"$error":"#N/A"},{"$error":"#N/A"},{"$error":"#N/A"},{"$error":"#N/A"},{"$error":"#N/A"},{"$error":"#N/A"}]
[null,null,null,"1990-06-01",{"$error":"#N/A"},77.5,77.260000000000005,75.98,66.56,81.99,78.930000000000007,79.78,70.25,78.34,11.628349999999999,63.9,{"$error":"#N/A"},1409,{"$error":"#N/A"},{"$error":"#N/A"},{"$error":"#N/A"},{"$error":"#N/A"},1263,947,545,7.9,63.9,7,{"$error":"#N/A"},1.7,1.7,{"$error":"#N/A"},{"$error":"#N/A"},{"$error":"#N/A"},129.9,66.52,105618,82967,91531,{"$error":"#N/A"},{"$error":"#N/A"},68.197000000000003,{"$error":"#N/A"},{"$error":"#N/A"},{"$error":"#N/A"},{"$error":"#N/A"},{"$error":"#N/A"},{"$error":"#N/A"},{"$error":"#N/A"}]
[null,null,null,"1990-07-01",{"$error":"#N/A"},77.56,77.14,75.44,66.61,81.569999999999993,78.3,80.03,70.66,79.53,11.604100000000001,63.9,{"$error":"#N/A"},1590,{"$error":"#N/A"},{"$error":"#N/A"},{"$error":"#N/A"},{"$error":"#N/A"},1295,978,542,7.8,63.9,7.2,{"$error":"#N/A"},1.7,1.7,{"$error":"#N/A"},{"$error":"#N/A"},{"$error":"#N/A"},130.5,67.114000000000004,105756,83048,91615,{"$error":"#N/A"},{"$error":"#N/A"},68.875,{"$error":"#N/A"},{"$error":"#N/A"},{"$error":"#N/A"},{"$error":"#N/A"},{"$error":"#N/A"},{"$error":"#N/A"},{"$error":"#N/A"}]
[null,null,null,"1990-08-01",{"$error":"#N/A"},77.48,77,75.44,66.58,81.17,77.55,80.11,70.58,80.95,11.604100000000001,63.9,{"$error":"#N/A"},1590,{"$error":"#N/A"},{"$error":"#N/A"},{"$error":"#N/A"},{"$error":"#N/A"},1307,959,528,8.1999999999999993,63.9,7.2,{"$error":"#N/A"},1.7,1.7,{"$error":"#N/A"},{"$error":"#N/A"},{"$error":"#N/A"},131.6,67.114000000000004,105980,83181,91747,{"$error":"#N/A"},{"$error":"#N/A"},68.875,{"$error":"#N/A"},{"$error":"#N/A"},{"$error":"#N/A"},{"$error":"#N/A"},{"$error":"#N/A"},{"$error":"#N/A"},{"$error":"#N/A"}]
[null,null,null,"1990-09-01",{"$error":"#N/A"},77.22,76.84,75.44,66.25,80.77,76.680000000000007,79.94,70.94,81.64,11.604100000000001,63.9,{"$error":"#N/A"},1590,{"$error":"#N/A"},{"$error":"#N/A"},{"$error":"#N/A"},{"$error":"#N/A"},1312,958,496,8.4,63.9,7.2,{"$error":"#N/A"},1.7,1.7,{"$error":"#N/A"},{"$error":"#N/A"},{"$error":"#N/A"},132.5,67.114000000000004,106142,83293,91838,{"$error":"#N/A"},{"$error":"#N/A"},68.875,{"$error":"#N/A"},{"$error":"#N/A"},{"$error":"#N/A"},{"$error":"#N/A"},{"$error":"#N/A"},{"$error":"#N/A"},{"$error":"#N/A"}]
[null,null,null,"1990-10-01",{"$error":"#N/A"},76.91,76.7,74.849999999999994,65.930000000000007,80.36,76.31,79.67,70.72,82.41,11.619630000000001,64,{"$error":"#N/A"},2460,{"$error":"#N/A"},{"$error":"#N/A"},{"$error":"#N/A"},{"$error":"#N/A"},1282,926,465,8.6999999999999993,63.9,7.2,{"$error":"#N/A"},1.7,1.7,{"$error":"#N/A"},{"$error":"#N/A"},{"$error":"#N/A"},133.4,67.622,106332,83408,91956,{"$error":"#N/A"},{"$error":"#N/A"},69.445999999999998,{"$error":"#N/A"},{"$error":"#N/A"},{"$error":"#N/A"},{"$error":"#N/A"},{"$error":"#N/A"},{"$error":"#N/A"},{"$error":"#N/A"}]
[null,null,null,"1990-11-01",{"$error":"#N/A"},76.38,76.36,74.849999999999994,65.41,79.91,75.88,79.75,70.959999999999994,81.849999999999994,11.619630000000001,64,{"$error":"#N/A"},2460,{"$error":"#N/A"},{"$error":"#N/A"},{"$error":"#N/A"},{"$error":"#N/A"},1248,923,493,8.1999999999999993,63.9,7.2,{"$error":"#N/A"},1.7,1.7,{"$error":"#N/A"},{"$error":"#N/A"},{"$error":"#N/A"},133.69999999999999,67.622,106533,83475,92079,{"$f":"INDEX(INDIRECT(\"'\"&AN$7&\"'!B:B\"),MATCH($D426,INDIRECT(\"'\"&AN$7&\"'!A:A\")))","v":{"$error":"#N/A"}},{"$error":"#N/A"},69.445999999999998,{"$error":"#N/A"},{"$error":"#N/A"},{"$error":"#N/A"},{"$error":"#N/A"},{"$error":"#N/A"},{"$error":"#N/A"},{"$error":"#N/A"}]
[null,null,null,"1990-12-01",{"$error":"#N/A"},75.97,76.180000000000007,74.849999999999994,65.36,79.52,75.62,79.41,70.75,81.78,11.619630000000001,64,{"$error":"#N/A"},2460,{"$error":"#N/A"},{"$error":"#N/A"},{"$error":"#N/A"},{"$error":"#N/A"},1173,890,464,8.5,63.9,7.2,{"$error":"#N/A"},1.7,1.7,{"$error":"#N/A"},{"$error":"#N/A"},{"$error":"#N/A"},134.19999999999999,67.622,106647,83573,92162,{"$error":"#N/A"},{"$error":"#N/A"},69.445999999999998,{"$error":"#N/A"},{"$error":"#N/A"},{"$error":"#N/A"},{"$error":"#N/A"},{"$error":"#N/A"},{"$error":"#N/A"},{"$error":"#N/A"}]
[null,null,null,"1991-01-01",{"$error":"#N/A"},75.53,75.91,74,65.260000000000005,78.87,74.739999999999995,79.08,70.84,80.959999999999994,11.600820000000001,64,{"$error":"#N/A"},1526,156,3.24,3.24,5144,1149,855,401,9.4,64.099999999999994,7.5,{"$error":"#N/A"},1.7,1.7,{"$error":"#N/A"},{"$error":"#N/A"},{"$error":"#N/A"},134.69999999999999,68.296000000000006,106760,83666,92287,{"$error":"#N/A"},{"$error":"#N/A"},70.036000000000001,{"$error":"#N/A"},{"$error":"#N/A"},{"$error":"#N/A"},{"$error":"#N/A"},{"$error":"#N/A"},{"$error":"#N/A"},{"$error":"#N/A"}]
[null,null,null,"1991-02-01",{"$error":"#N/A"},75.25,75.739999999999995,74,65.290000000000006,78.34,74.11,78.55,71.099999999999994,81.58,11.600820000000001,64,{"$error":"#N/A"},1526,156,3.24,3.24,5144,1090,823,482,7.9,64.099999999999994,7.5,{"$error":"#N/A"},1.7,1.7,{"$error":"#N/A"},{"$error":"#N/A"},{"$error":"#N/A"},134.80000000000001,68.296000000000006,106888,83745,92331,{"$error":"#N/A"},{"$error":"#N/A"},70.036000000000001,{"$error":"#N/A"},{"$error":"#N/A"},{"$error":"#N/A"},{"$error":"#N/A"},{"$error":"#N/A"},{"$error":"#N/A"},{"$error":"#N/A"}]
[null,null,null,"1991-03-01",{"$error":"#N/A"},75.150000000000006,75.58,74,64.599999999999994,77.709999999999994,73.58,78.44,70.94,81.650000000000006,11.600820000000001,64,{"$error":"#N/A"},1526,156,3.24,3.24,5144,1176,864,507,7.3,64.099999999999994,7.5,{"$error":"#N/A"},1.7,1.7,{"$error":"#N/A"},{"$error":"#N/A"},{"$error":"#N/A"},134.80000000000001,68.296000000000006,106971,83799,92389,{"$error":"#N/A"},{"$error":"#N/A"},70.036000000000001,{"$error":"#N/A"},{"$error":"#N/A"},{"$error":"#N/A"},{"$error":"#N/A"},{"$error":"#N/A"},{"$error":"#N/A"},{"$error":"#N/A"}]
[null,null,null,"1991-04-01",{"$error":"#N/A"},75.319999999999993,75.569999999999993,74.319999999999993,64.349999999999994,77.45,73.05,78.55,71.239999999999995,81.67,11.46288,64.099999999999994,{"$error":"#N/A"},1964,182,3.31,3.31,5291,1093,821,508,7.3,64.099999999999994,7.3,{"$error":"#N/A"},1.7,1.8,{"$error":"#N/A"},{"$error":"#N/A"},{"$error":"#N/A"},135.1,68.763999999999996,107091,83862,92465,{"$error":"#N/A"},{"$error":"#N/A"},70.563999999999993,{"$error":"#N/A"},{"$error":"#N/A"},{"$error":"#N/A"},{"$error":"#N/A"},{"$error":"#N/A"},{"$error":"#N/A"},{"$error":"#N/A"}]
[null,null,null,"1991-05-01",{"$error":"#N/A"},75.77,75.77,74.319999999999993,64.37,77.599999999999994,73.09,77.95,71.400000000000006,82.02,11.46288,64.099999999999994,{"$error":"#N/A"},1964,182,3.31,3.31,5291,1070,800,517,7,64.099999999999994,7.3,{"$error":"#N/A"},1.7,1.8,{"$error":"#N/A"},{"$error":"#N/A"},{"$error":"#N/A"},135.6,68.763999999999996,{"$f":"INDEX(INDIRECT(\"'\"&AK$7&\"'!B:B\"),MATCH($D432,INDIRECT(\"'\"&AK$7&\"'!A:A\")))","v":107268},83966,92558,{"$error":"#N/A"},{"$error":"#N/A"},70.563999999999993,{"$error":"#N/A"},{"$error":"#N/A"},{"$error":"#N/A"},{"$error":"#N/A"},{"$error":"#N/A"},{"$error":"#N/A"},{"$error":"#N/A"}]
[null,null,null,"1991-06-01",{"$error":"#N/A"},76.260000000000005,76,74.319999999999993,64.88,77.81,73.459999999999994,78.489999999999995,71.319999999999993,81.91,11.46288,64.099999999999994,{"$error":"#N/A"},1964,182,3.31,3.31,5291,1093,816,516,7,64.099999999999994,7.3,{"$error":"#N/A"},1.7,1.8,{"$error":"#N/A"},{"$error":"#N/A"},{"$error":"#N/A"},136,68.763999999999996,107428,84065,92639,{"$error":"#N/A"},{"$error":"#N/A"},70.563999999999993,{"$error":"#N/A"},{"$error":"#N/A"},{"$error":"#N/A"},{"$error":"#N/A"},{"$error":"#N/A"},{"$error":"#N/A"},{"$error":"#N/A"}]
[null,null,null,"1991-07-01",{"$error":"#N/A"},76.510000000000005,76.08,74.75,65.5,78.09,73.91,78.64,71.58,83.35,11.352320000000001,64.099999999999994,{"$error":"#N/A"},2166,215,3.36,3.36,5498,1076,823,511,7.1,64.099999999999994,7.6,{"$error":"#N/A"},1.7,1.8,{"$error":"#N/A"},{"$error":"#N/A"},{"$error":"#N/A"},136.19999999999999,69.269000000000005,107575,84158,92745,{"$error":"#N/A"},{"$error":"#N/A"},71.195999999999998,{"$error":"#N/A"},{"$error":"#N/A"},{"$error":"#N/A"},{"$error":"#N/A"},{"$error":"#N/A"},{"$error":"#N/A"},{"$error":"#N/A"}]
[null,null,null,"1991-08-01",{"$error":"#N/A"},76.59,76.11,74.75,65.87,78.25,74.239999999999995,79.56,71.790000000000006,84.07,11.352320000000001,64.099999999999994,{"$error":"#N/A"},2166,215,3.36,3.36,5498,1050,820,526,6.8,64.099999999999994,7.6,{"$error":"#N/A"},1.7,1.8,{"$error":"#N/A"},{"$error":"#N/A"},{"$error":"#N/A"},136.6,69.269000000000005,107694,84256,92826,{"$error":"#N/A"},{"$error":"#N/A"},71.195999999999998,{"$error":"#N/A"},{"$error":"#N/A"},{"$error":"#N/A"},{"$error":"#N/A"},{"$error":"#N/A"},{"$error":"#N/A"},{"$error":"#N/A"}]
[null,null,null,"1991-09-01",{"$error":"#N/A"},76.58,76.2,74.75,66.040000000000006,78.27,74.39,79.27,71.97,85.46,11.352320000000001,64.099999999999994,{"$error":"#N/A"},2166,215,3.36,3.36,5498,1216,885,487,7.4,64.099999999999994,7.6,{"$error":"#N/A"},1.7,1.8,{"$error":"#N/A"},{"$error":"#N/A"},{"$error":"#N/A"},137,69.269000000000005,107855,84363,92923,{"$error":"#N/A"},{"$error":"#N/A"},71.195999999999998,{"$error":"#N/A"},{"$error":"#N/A"},{"$error":"#N/A"},{"$error":"#N/A"},{"$error":"#N/A"},{"$error":"#N/A"},{"$error":"#N/A"}]
[null,null,null,"1991-10-01",{"$error":"#N/A"},76.290000000000006,76.069999999999993,74.91,65.84,78.239999999999995,74.56,79.31,72.180000000000007,83.81,11.148669999999999,64.099999999999994,{"$error":"#N/A"},2924,262,3.36,3.36,5962,1076,877,524,6.7,64.099999999999994,7.3,{"$error":"#N/A"},1.7,1.6,{"$error":"#N/A"},{"$error":"#N/A"},{"$error":"#N/A"},137.19999999999999,69.643000000000001,108005,84517,93021,{"$error":"#N/A"},{"$error":"#N/A"},71.748999999999995,{"$error":"#N/A"},{"$error":"#N/A"},{"$error":"#N/A"},{"$error":"#N/A"},{"$error":"#N/A"},{"$error":"#N/A"},{"$error":"#N/A"}]
[null,null,null,"1991-11-01",{"$error":"#N/A"},76.040000000000006,76.02,74.91,66.099999999999994,78.150000000000006,74.62,79.290000000000006,72.37,81.98,11.148669999999999,64.099999999999994,{"$error":"#N/A"},2924,262,3.36,3.36,5962,1013,827,575,6.2,64.099999999999994,7.3,{"$error":"#N/A"},1.7,1.6,{"$error":"#N/A"},{"$error":"#N/A"},{"$f":"INDEX(INDIRECT(\"'\"&AH$7&\"'!B:B\"),MATCH($D438,INDIRECT(\"'\"&AH$7&\"'!A:A\")))","v":{"$error":"#N/A"}},137.80000000000001,69.643000000000001,108236,84605,93116,{"$error":"#N/A"},{"$error":"#N/A"},71.748999999999995,{"$error":"#N/A"},{"$error":"#N/A"},{"$error":"#N/A"},{"$error":"#N/A"},{"$error":"#N/A"},{"$error":"#N/A"},{"$error":"#N/A"}]
[null,null,null,"1991-12-01",{"$error":"#N/A"},75.84,76.05,74.91,65.95,78.150000000000006,74.77,79.09,73.010000000000005,82.87,11.148669999999999,64.099999999999994,{"$error":"#N/A"},2924,262,3.36,3.36,5962,1002,835,558,6.2,64.099999999999994,7.3,{"$error":"#N/A"},1.7,1.6,{"$error":"#N/A"},{"$error":"#N/A"},{"$error":"#N/A"},138.19999999999999,69.643000000000001,108383,84727,93193,{"$error":"#N/A"},{"$error":"#N/A"},71.748999999999995,{"$error":"#N/A"},{"$error":"#N/A"},{"$error":"#N/A"},{"$error":"#N/A"},{"$error":"#N/A"},{"$error":"#N/A"},{"$error":"#N/A"}]
[null,null,null,"1992-01-01",{"$error":"#N/A"},75.7,76.09,74.89,66.010000000000005,78.069999999999993,74.760000000000005,79.099999999999994,73.430000000000007,82.85,10.873060000000001,64.099999999999994,{"$error":"#N/A"},1816,168,3.27,3.27,6174,1061,854,676,5.2,64.099999999999994,7.4,{"$error":"#N/A"},1.5,1.5,{"$error":"#N/A"},{"$error":"#N/A"},{"$error":"#N/A"},138.30000000000001,69.941999999999993,108520,84816,93291,{"$error":"#N/A"},{"$error":"#N/A"},72.287999999999997,{"$error":"#N/A"},{"$error":"#N/A"},{"$error":"#N/A"},{"$error":"#N/A"},{"$error":"#N/A"},{"$error":"#N/A"},{"$error":"#N/A"}]
[null,null,null,"1992-02-01",{"$error":"#N/A"},75.66,76.16,74.89,65.88,78.08,74.819999999999993,78.510000000000005,73.72,83.09,10.873060000000001,64.099999999999994,{"$error":"#N/A"},1816,168,3.27,3.27,6174,1098,902,639,4.9000000000000004,64.099999999999994,7.4,{"$error":"#N/A"},1.5,1.5,{"$error":"#N/A"},{"$error":"#N/A"},{"$error":"#N/A"},138.6,69.941999999999993,108768,84896,93377,{"$error":"#N/A"},{"$error":"#N/A"},72.287999999999997,{"$error":"#N/A"},{"$error":"#N/A"},{"$error":"#N/A"},{"$error":"#N/A"},{"$error":"#N/A"},{"$error":"#N/A"},{"$error":"#N/A"}]
[null,null,null,"1992-03-01",{"$error":"#N/A"},75.819999999999993,76.28,74.89,65.930000000000007,78.010000000000005,74.959999999999994,78.599999999999994,73.89,82.66,10.873060000000001,64.099999999999994,{"$error":"#N/A"},1816,168,3.27,3.27,6174,1128,966,554,6.1,64.099999999999994,7.4,{"$error":"#N/A"},1.5,1.5,{"$error":"#N/A"},{"$error":"#N/A"},{"$error":"#N/A"},139.1,69.941999999999993,108835,84936,93423,{"$error":"#N/A"},{"$error":"#N/A"},72.287999999999997,{"$error":"#N/A"},{"$error":"#N/A"},{"$error":"#N/A"},{"$error":"#N/A"},{"$error":"#N/A"},{"$error":"#N/A"},{"$error":"#N/A"}]
[null,null,null,"1992-04-01",{"$error":"#N/A"},76.08,76.349999999999994,75.06,65.83,77.95,75.17,78.98,73.23,82.47,10.692589999999999,64.099999999999994,{"$error":"#N/A"},1998,219,3.16,3.16,5957,1083,895,546,6.1,64.099999999999994,7.7,{"$error":"#N/A"},1.5,1.6,{"$error":"#N/A"},{"$error":"#N/A"},{"$error":"#N/A"},139.4,70.388000000000005,108977,85008,93483,{"$error":"#N/A"},{"$error":"#N/A"},72.796999999999997,{"$error":"#N/A"},{"$error":"#N/A"},{"$error":"#N/A"},{"$error":"#N/A"},{"$error":"#N/A"},{"$error":"#N/A"},{"$error":"#N/A"}]
[null,null,null,"1992-05-01",{"$error":"#N/A"},76.400000000000006,76.400000000000006,75.06,66.02,77.89,75.150000000000006,79.42,73.42,82.89,10.692589999999999,64.099999999999994,{"$error":"#N/A"},1998,219,3.16,3.16,5957,1187,995,554,6,64.099999999999994,7.7,{"$error":"#N/A"},1.5,{"$f":"INDEX(INDIRECT(\"'\"&AE$7&\"'!B:B\"),MATCH($D444,INDIRECT(\"'\"&AE$7&\"'!A:A\")))","v":1.6},{"$error":"#N/A"},{"$error":"#N/A"},{"$error":"#N/A"},139.69999999999999,70.388000000000005,109112,85090,93584,{"$error":"#N/A"},{"$error":"#N/A"},72.796999999999997,{"$error":"#N/A"},{"$error":"#N/A"},{"$error":"#N/A"},{"$error":"#N/A"},{"$error":"#N/A"},{"$error":"#N/A"},{"$error":"#N/A"}]
[null,null,null,"1992-06-01",{"$error":"#N/A"},76.61,76.34,75.06,66.08,77.7,75.06,79.78,74.13,82.84,10.692589999999999,64.099999999999994,{"$error":"#N/A"},1998,219,3.16,3.16,5957,1189,992,596,5.6,64.099999999999994,7.7,{"$error":"#N/A"},1.5,1.6,{"$error":"#N/A"},{"$error":"#N/A"},{"$error":"#N/A"},140.1,70.388000000000005,109239,85177,93653,{"$error":"#N/A"},{"$error":"#N/A"},72.796999999999997,{"$error":"#N/A"},{"$error":"#N/A"},{"$error":"#N/A"},{"$error":"#N/A"},{"$error":"#N/A"},{"$error":"#N/A"},{"$error":"#N/A"}]
[null,null,null,"1992-07-01",{"$error":"#N/A"},76.72,76.27,74.97,66.260000000000005,77.430000000000007,74.959999999999994,78.05,74.900000000000006,82.85,10.55447,64.099999999999994,{"$error":"#N/A"},2575,296,3.02,3.02,6023,1251,1035,627,5.3,64.099999999999994,7.3,{"$error":"#N/A"},1.5,1.6,{"$error":"#N/A"},{"$error":"#N/A"},{"$error":"#N/A"},140.5,70.722999999999999,109381,85265,93730,{"$error":"#N/A"},{"$error":"#N/A"},73.227999999999994,{"$error":"#N/A"},{"$error":"#N/A"},{"$error":"#N/A"},{"$error":"#N/A"},{"$error":"#N/A"},{"$error":"#N/A"},{"$error":"#N/A"}]
[null,null,null,"1992-08-01",{"$error":"#N/A"},76.739999999999995,76.239999999999995,74.97,66.459999999999994,77.31,75.11,77.95,74.98,82.8,10.55447,64.099999999999994,{"$error":"#N/A"},2575,296,3.02,3.02,6023,1140,956,636,5.2,64.099999999999994,7.3,{"$error":"#N/A"},1.5,1.6,{"$error":"#N/A"},{"$error":"#N/A"},{"$error":"#N/A"},140.80000000000001,70.722999999999999,109516,85361,93825,{"$error":"#N/A"},{"$error":"#N/A"},73.227999999999994,{"$error":"#N/A"},{"$error":"#N/A"},{"$error":"#N/A"},{"$error":"#N/A"},{"$error":"#N/A"},{"$error":"#N/A"},{"$error":"#N/A"}]
[null,null,null,"1992-09-01",{"$error":"#N/A"},76.64,76.25,74.97,66.540000000000006,77.150000000000006,75.09,77.61,75.23,82.98,10.55447,64.099999999999994,{"$error":"#N/A"},2575,296,3.02,3.02,6023,1123,941,650,5,64.099999999999994,7.3,{"$error":"#N/A"},1.5,1.6,{"$error":"#N/A"},{"$error":"#N/A"},{"$error":"#N/A"},141.1,70.722999999999999,109693,85458,93923,{"$error":"#N/A"},{"$error":"#N/A"},73.227999999999994,{"$error":"#N/A"},{"$error":"#N/A"},{"$error":"#N/A"},{"$error":"#N/A"},{"$error":"#N/A"},{"$error":"#N/A"},{"$error":"#N/A"}]
[null,null,null,"1992-10-01",{"$error":"#N/A"},76.61,76.39,75,66.55,77.03,75.05,79.540000000000006,75.55,83.65,10.480549999999999,64.3,{"$error":"#N/A"},2739,345,2.89,2.89,6232,1139,970,621,5.0999999999999996,64.099999999999994,7.1,{"$error":"#N/A"},1.5,1.5,{"$error":"#N/A"},{"$error":"#N/A"},{"$error":"#N/A"},141.69999999999999,71.200999999999993,109828,85559,94012,{"$error":"#N/A"},{"$error":"#N/A"},73.77,{"$error":"#N/A"},{"$error":"#N/A"},{"$error":"#N/A"},{"$error":"#N/A"},{"$error":"#N/A"},{"$error":"#N/A"},{"$error":"#N/A"}]
[null,null,null,"1992-11-01",{"$error":"#N/A"},76.59,76.569999999999993,75,66.52,76.959999999999994,75.19,79.7,75.91,83.67,10.480549999999999,64.3,{"$error":"#N/A"},2739,345,2.89,2.89,6232,1224,1004,614,5.4,64.099999999999994,{"$f":"INDEX(INDIRECT(\"'\"&AB$7&\"'!B:B\"),MATCH($D450,INDIRECT(\"'\"&AB$7&\"'!A:A\")))","v":7.1},{"$error":"#N/A"},1.5,1.5,{"$error":"#N/A"},{"$error":"#N/A"},{"$error":"#N/A"},142.1,71.200999999999993,109955,85653,94099,{"$error":"#N/A"},{"$error":"#N/A"},73.77,{"$error":"#N/A"},{"$error":"#N/A"},{"$error":"#N/A"},{"$error":"#N/A"},{"$error":"#N/A"},{"$error":"#N/A"},{"$error":"#N/A"}]
[null,null,null,"1992-12-01",{"$error":"#N/A"},76.48,76.69,75,66.59,76.86,75.400000000000006,79.989999999999995,75.849999999999994,82.91,10.480549999999999,64.3,{"$error":"#N/A"},2739,345,2.89,2.89,6232,1199,991,650,5,64.099999999999994,7.1,{"$error":"#N/A"},1.5,1.5,{"$error":"#N/A"},{"$error":"#N/A"},{"$error":"#N/A"},142.30000000000001,71.200999999999993,110205,85742,94215,{"$error":"#N/A"},{"$error":"#N/A"},73.77,{"$error":"#N/A"},{"$error":"#N/A"},{"$error":"#N/A"},{"$error":"#N/A"},{"$error":"#N/A"},{"$error":"#N/A"},{"$error":"#N/A"}]
[null,null,null,"1993-01-01",{"$error":"#N/A"},76.41,76.790000000000006,75.05,66.83,76.89,75.739999999999995,79.94,76.010000000000005,82.34,10.42512,63.9,{"$error":"#N/A"},1386,186,2.84,2.84,6165,1135,975,596,5.4,64,7.8,{"$error":"#N/A"},1.4,1.4,{"$error":"#N/A"},{"$error":"#N/A"},{"$error":"#N/A"},142.80000000000001,71.605999999999995,110320,85847,94282,{"$error":"#N/A"},{"$error":"#N/A"},74.277000000000001,{"$error":"#N/A"},{"$error":"#N/A"},{"$error":"#N/A"},{"$error":"#N/A"},{"$error":"#N/A"},{"$error":"#N/A"},{"$error":"#N/A"}]
[null,null,null,"1993-02-01",{"$error":"#N/A"},76.34,76.849999999999994,75.05,66.83,76.849999999999994,75.89,79.92,76.010000000000005,82.67,10.42512,63.9,{"$error":"#N/A"},1386,186,2.84,2.84,6165,1236,1043,604,5.3,64,7.8,{"$error":"#N/A"},1.4,1.4,{"$error":"#N/A"},{"$error":"#N/A"},{"$error":"#N/A"},143.1,71.605999999999995,110505,85961,94369,{"$error":"#N/A"},{"$error":"#N/A"},74.277000000000001,{"$error":"#N/A"},{"$error":"#N/A"},{"$error":"#N/A"},{"$error":"#N/A"},{"$error":"#N/A"},{"$error":"#N/A"},{"$error":"#N/A"}]
[null,null,null,"1993-03-01",{"$error":"#N/A"},76.39,76.88,75.05,67.209999999999994,76.599999999999994,75.989999999999995,79.64,76.22,82.78,10.42512,63.9,{"$error":"#N/A"},1386,186,2.84,2.84,6165,1105,983,602,5.4,64,7.8,{"$error":"#N/A"},1.4,1.4,{"$error":"#N/A"},{"$error":"#N/A"},{"$error":"#N/A"},143.30000000000001,71.605999999999995,110622,86047,94413,{"$error":"#N/A"},{"$error":"#N/A"},74.277000000000001,{"$error":"#N/A"},{"$error":"#N/A"},{"$error":"#N/A"},{"$error":"#N/A"},{"$error":"#N/A"},{"$error":"#N/A"},{"$error":"#N/A"}]
[null,null,null,"1993-04-01",{"$error":"#N/A"},76.67,76.94,75.06,67.3,76.400000000000006,76.069999999999993,80.13,76.319999999999993,82.34,10.373889999999999,64,{"$error":"#N/A"},1632,284,2.74,2.74,6178,1216,1067,701,4.7,64,7.6,{"$error":"#N/A"},1.4,1.4,{"$error":"#N/A"},{"$error":"#N/A"},{"$error":"#N/A"},143.80000000000001,72.040999999999997,110751,86084,94465,{"$error":"#N/A"},{"$error":"#N/A"},74.843000000000004,{"$error":"#N/A"},{"$error":"#N/A"},{"$error":"#N/A"},{"$error":"#N/A"},{"$error":"#N/A"},{"$error":"#N/A"},{"$error":"#N/A"}]
[null,null,null,"1993-05-01",{"$error":"#N/A"},77.040000000000006,77.05,75.06,67.75,76.27,76.14,80.77,76.69,81.72,10.373889999999999,64,{"$error":"#N/A"},1632,284,2.74,2.74,6178,1111,973,{"$f":"INDEX(INDIRECT(\"'\"&Y$7&\"'!B:B\"),MATCH($D456,INDIRECT(\"'\"&Y$7&\"'!A:A\")))","v":626},5.3,64,7.6,{"$error":"#N/A"},1.4,1.4,{"$error":"#N/A"},{"$error":"#N/A"},{"$error":"#N/A"},144.19999999999999,72.040999999999997,110831,86150,94509,{"$error":"#N/A"},{"$error":"#N/A"},74.843000000000004,{"$error":"#N/A"},{"$error":"#N/A"},{"$error":"#N/A"},{"$error":"#N/A"},{"$error":"#N/A"},{"$error":"#N/A"},{"$error":"#N/A"}]
[null,null,null,"1993-06-01",{"$f":"INDEX(INDIRECT(\"'\"&E$7&\"'!B:B\"),MATCH($D457,INDIRECT(\"'\"&E$7&\"'!A:A\")))","v":{"$error":"#N/A"}},77.53,77.25,75.06,67.95,76.260000000000005,76.33,81.36,77.290000000000006,81.73,10.373889999999999,64,{"$error":"#N/A"},1632,284,2.74,{"$f":"INDEX(INDIRECT(\"'\"&U$7&\"'!B:B\"),MATCH($D457,INDIRECT(\"'\"&U$7&\"'!A:A\")))","v":2.74},6178,1193,1017,653,5.2,64,7.6,{"$error":"#N/A"},1.4,1.4,{"$error":"#N/A"},{"$error":"#N/A"},{"$error":"#N/A"},144.30000000000001,72.040999999999997,110944,86207,94550,{"$error":"#N/A"},{"$error":"#N/A"},74.843000000000004,{"$error":"#N/A"},{"$error":"#N/A"},{"$error":"#N/A"},{"$error":"#N/A"},{"$error":"#N/A"},{"$error":"#N/A"},{"$error":"#N/A"}]
[null,null,null,{"$f":"EOMONTH(D457,$E$1)+1","v":"1993-07-01"},{"$error":"#N/A"},77.900000000000006,77.44,75.62,68.44,76.09,76.319999999999993,81.78,77.55,82.13,10.427569999999999,64,{"$error":"#N/A"},1332,230,2.7,2.7,6296,1090,956,655,5.3,64,7,{"$error":"#N/A"},1.4,1.4,{"$error":"#N/A"},{"$error":"#N/A"},{"$error":"#N/A"},144.5,72.474999999999994,111149,86269,94664,{"$error":"#N/A"},{"$error":"#N/A"},75.263000000000005,{"$error":"#N/A"},{"$error":"#N/A"},{"$error":"#N/A"},{"$error":"#N/A"},{"$error":"#N/A"},{"$error":"#N/A"},{"$error":"#N/A"}]
[null,null,null,"1993-08-01",{"$error":"#N/A"},78.14,77.62,75.62,68.72,75.900000000000006,76.28,82.14,77.63,82.73,10.427569999999999,64,{"$error":"#N/A"},1332,230,2.7,2.7,6296,1264,1084,645,5.5,64,7,{"$error":"#N/A"},1.4,1.4,{"$error":"#N/A"},{"$error":"#N/A"},{"$error":"#N/A"},144.80000000000001,72.474999999999994,111176,86309,94739,{"$error":"#N/A"},{"$error":"#N/A"},75.263000000000005,{"$error":"#N/A"},{"$error":"#N/A"},{"$error":"#N/A"},{"$error":"#N/A"},{"$error":"#N/A"},{"$error":"#N/A"},{"$error":"#N/A"}]
[null,null,null,"1993-09-01",{"$error":"#N/A"},78.209999999999994,77.81,75.62,69.28,75.87,76.33,82.49,77.81,83.3,10.427569999999999,64,{"$error":"#N/A"},1332,230,2.7,2.7,6296,1172,1047,726,4.9000000000000004,64,7,{"$error":"#N/A"},1.4,1.4,{"$error":"#N/A"},{"$error":"#N/A"},{"$error":"#N/A"},145,72.474999999999994,111362,86413,94837,{"$error":"#N/A"},{"$error":"#N/A"},75.263000000000005,{"$error":"#N/A"},{"$error":"#N/A"},{"$error":"#N/A"},{"$error":"#N/A"},{"$error":"#N/A"},{"$error":"#N/A"},{"$error":"#N/A"}]
[null,null,null,"1993-10-01",{"$error":"#N/A"},78.180000000000007,77.959999999999994,76.180000000000007,69.41,75.81,76.5,82.82,78.11,83.7,10.39466,64.099999999999994,{"$error":"#N/A"},1403,271,2.4500000000000002,2.4500000000000002,6254,1246,1078,704,5,64,6.9,{"$error":"#N/A"},1.4,1.4,{"$error":"#N/A"},{"$error":"#N/A"},{"$error":"#N/A"},145.6,72.852999999999994,111503,86494,94923,{"$error":"#N/A"},{"$error":"#N/A"},75.649000000000001,{"$error":"#N/A"},{"$error":"#N/A"},{"$error":"#N/A"},{"$error":"#N/A"},{"$error":"#N/A"},{"$error":"#N/A"},{"$error":"#N/A"}]
[null,null,null,"1993-11-01",{"$error":"#N/A"},78.180000000000007,78.16,76.180000000000007,69.81,75.900000000000006,76.739999999999995,82.68,78.430000000000007,84.03,10.39466,64.099999999999994,{"$error":"#N/A"},1403,271,2.4500000000000002,2.4500000000000002,6254,1235,1102,769,4.8,64,6.9,{"$error":"#N/A"},1.4,1.4,{"$error":"#N/A"},{"$error":"#N/A"},{"$error":"#N/A"},146,72.852999999999994,111629,86580,94977,{"$error":"#N/A"},{"$error":"#N/A"},75.649000000000001,{"$error":"#N/A"},{"$error":"#N/A"},{"$error":"#N/A"},{"$error":"#N/A"},{"$error":"#N/A"},{"$error":"#N/A"},{"$error":"#N/A"}]
[null,null,null,"1993-12-01",{"$error":"#N/A"},78.13,78.34,76.180000000000007,70.03,75.91,76.8,82.89,79.11,83.78,10.39466,64.099999999999994,{"$error":"#N/A"},{"$f":"INDEX(INDIRECT(\"'\"&R$7&\"'!B:B\"),MATCH($D463,INDIRECT(\"'\"&R$7&\"'!A:A\")))","v":1403},271,2.4500000000000002,2.4500000000000002,6254,1289,1129,812,4.5,64,6.9,{"$error":"#N/A"},1.4,1.4,{"$error":"#N/A"},{"$error":"#N/A"},{"$error":"#N/A"},146.30000000000001,72.852999999999994,111847,86706,95040,{"$error":"#N/A"},{"$error":"#N/A"},75.649000000000001,{"$error":"#N/A"},{"$error":"#N/A"},{"$error":"#N/A"},{"$error":"#N/A"},{"$error":"#N/A"},{"$error":"#N/A"},{"$error":"#N/A"}]
[null,null,null,"1994-01-01",{"$error":"#N/A"},78.209999999999994,78.599999999999994,77.069999999999993,70.53,76.06,76.849999999999994,83.46,80.19,83.72,10.410780000000001,64,{"$error":"#N/A"},745,168,2.4900000000000002,2.4900000000000002,6210,1228,1083,619,5.9,64,7.5,{"$error":"#N/A"},1.5,1.4,{"$error":"#N/A"},{"$error":"#N/A"},{"$error":"#N/A"},146.30000000000001,73.206000000000003,111955,86778,95109,{"$error":"#N/A"},{"$error":"#N/A"},75.988,{"$error":"#N/A"},{"$error":"#N/A"},{"$error":"#N/A"},{"$error":"#N/A"},{"$error":"#N/A"},{"$error":"#N/A"},{"$error":"#N/A"}]
[null,null,null,"1994-02-01",{"$error":"#N/A"},78.22,78.739999999999995,77.069999999999993,70.819999999999993,76.23,76.91,84.25,80.17,83.48,10.410780000000001,64,{"$error":"#N/A"},745,168,2.4900000000000002,2.4900000000000002,6210,1353,1198,686,5,64,7.5,{"$error":"#N/A"},1.5,1.4,{"$error":"#N/A"},{"$error":"#N/A"},{"$error":"#N/A"},146.69999999999999,73.206000000000003,112144,86820,95159,{"$error":"#N/A"},{"$error":"#N/A"},75.988,{"$error":"#N/A"},{"$error":"#N/A"},{"$error":"#N/A"},{"$error":"#N/A"},{"$error":"#N/A"},{"$error":"#N/A"},{"$error":"#N/A"}]
[null,null,null,"1994-03-01",{"$error":"#N/A"},78.36,78.87,77.069999999999993,71.28,76.41,77.239999999999995,84.74,80.08,83.69,10.410780000000001,64,{"$error":"#N/A"},745,168,2.4900000000000002,2.4900000000000002,6210,1257,1091,747,4.8,64,7.5,{"$error":"#N/A"},1.5,1.4,{"$error":"#N/A"},{"$error":"#N/A"},{"$error":"#N/A"},147.1,73.206000000000003,112261,86901,95225,{"$error":"#N/A"},{"$error":"#N/A"},75.988,{"$error":"#N/A"},{"$error":"#N/A"},{"$error":"#N/A"},{"$error":"#N/A"},{"$error":"#N/A"},{"$error":"#N/A"},{"$error":"#N/A"}]
[null,null,null,"1994-04-01",{"$error":"#N/A"},78.72,79.010000000000005,77.63,71.73,76.58,77.59,84.85,80.2,84.04,10.46956,63.9,{"$error":"#N/A"},847,224,2.31,2.31,5840,1374,1209,692,5.2,64,7.4,{"$error":"#N/A"},1.5,1.4,{"$error":"#N/A"},{"$error":"#N/A"},{"$error":"#N/A"},147.19999999999999,73.570999999999998,112359,86946,95282,{"$error":"#N/A"},{"$error":"#N/A"},76.498000000000005,{"$error":"#N/A"},{"$error":"#N/A"},{"$error":"#N/A"},{"$error":"#N/A"},{"$error":"#N/A"},{"$error":"#N/A"},{"$error":"#N/A"}]
[null,null,null,"1994-05-01",{"$error":"#N/A"},79.23,79.239999999999995,77.63,72.14,76.69,77.97,84.89,80.569999999999993,85.26,10.46956,63.9,{"$error":"#N/A"},847,224,2.31,2.31,5840,1430,1242,691,5.3,64,7.4,{"$error":"#N/A"},1.5,1.4,{"$error":"#N/A"},{"$error":"#N/A"},{"$error":"#N/A"},147.5,73.570999999999998,112427,87000,95329,{"$error":"#N/A"},{"$error":"#N/A"},76.498000000000005,{"$error":"#N/A"},{"$error":"#N/A"},{"$error":"#N/A"},{"$error":"#N/A"},{"$error":"#N/A"},{"$error":"#N/A"},{"$error":"#N/A"}]
[null,null,null,"1994-06-01",{"$error":"#N/A"},79.72,79.44,77.63,72.47,76.77,78.06,85.31,80.62,85.84,{"$f":"INDEX(INDIRECT(\"'\"&O$7&\"'!B:B\"),MATCH($D469,INDIRECT(\"'\"&O$7&\"'!A:A\")))","v":10.46956},63.9,{"$error":"#N/A"},847,224,2.31,2.31,5840,1336,1149,621,6.2,64,7.4,{"$error":"#N/A"},1.5,1.4,{"$error":"#N/A"},{"$error":"#N/A"},{"$error":"#N/A"},147.9,73.570999999999998,112506,87095,95407,{"$error":"#N/A"},{"$error":"#N/A"},76.498000000000005,{"$error":"#N/A"},{"$error":"#N/A"},{"$error":"#N/A"},{"$error":"#N/A"},{"$error":"#N/A"},{"$error":"#N/A"},{"$error":"#N/A"}]
[null,null,null,"1994-07-01",{"$error":"#N/A"},80.08,79.61,77.77,73,76.87,78.239999999999995,85.63,80.66,86.45,10.603440000000001,63.9,{"$error":"#N/A"},632,162,2.19,2.19,5770,1281,1170,628,6.3,64,7.2,{"$error":"#N/A"},1.5,1.4,{"$error":"#N/A"},{"$error":"#N/A"},{"$error":"#N/A"},148.4,73.968999999999994,112592,87123,95469,{"$error":"#N/A"},{"$error":"#N/A"},76.921999999999997,{"$error":"#N/A"},{"$error":"#N/A"},{"$error":"#N/A"},{"$error":"#N/A"},{"$error":"#N/A"},{"$error":"#N/A"},{"$error":"#N/A"}]
[null,null,null,"1994-08-01",{"$error":"#N/A"},80.33,79.8,77.77,73.53,76.94,78.34,86.11,80.91,86.37,10.603440000000001,63.9,{"$error":"#N/A"},632,162,2.19,2.19,5770,1348,1149,656,6.1,64,7.2,{"$error":"#N/A"},1.5,1.4,{"$error":"#N/A"},{"$error":"#N/A"},{"$error":"#N/A"},149,73.968999999999994,112719,87248,95544,{"$error":"#N/A"},{"$error":"#N/A"},76.921999999999997,{"$error":"#N/A"},{"$error":"#N/A"},{"$error":"#N/A"},{"$error":"#N/A"},{"$error":"#N/A"},{"$error":"#N/A"},{"$error":"#N/A"}]
[null,null,null,"1994-09-01",{"$error":"#N/A"},80.36,79.94,77.77,74.06,76.97,78.41,86.3,81.180000000000007,86.54,10.603440000000001,63.9,{"$error":"#N/A"},632,162,2.19,2.19,5770,1414,1158,677,6,64,7.2,{"$error":"#N/A"},1.5,1.4,{"$error":"#N/A"},{"$error":"#N/A"},{"$error":"#N/A"},149.30000000000001,73.968999999999994,112872,87321,95658,{"$error":"#N/A"},{"$error":"#N/A"},76.921999999999997,{"$error":"#N/A"},{"$error":"#N/A"},{"$error":"#N/A"},{"$error":"#N/A"},{"$error":"#N/A"},{"$error":"#N/A"},{"$error":"#N/A"}]
[null,null,null,"1994-10-01",{"$error":"#N/A"},80.319999999999993,80.08,78.17,74.260000000000005,77.099999999999994,78.45,86.47,81.62,86.69,10.7209,64.099999999999994,{"$error":"#N/A"},872,255,2.1,2.1,5788,1378,1170,715,5.6,64,7.4,{"$error":"#N/A"},1.5,1.6,{"$error":"#N/A"},{"$error":"#N/A"},{"$error":"#N/A"},149.4,74.376000000000005,113046,87439,95729,{"$error":"#N/A"},{"$error":"#N/A"},77.313000000000002,{"$error":"#N/A"},{"$error":"#N/A"},{"$error":"#N/A"},{"$error":"#N/A"},{"$error":"#N/A"},{"$error":"#N/A"},{"$error":"#N/A"}]
[null,null,null,"1994-11-01",{"$error":"#N/A"},80.19,80.17,78.17,74.459999999999994,77.13,78.38,86.69,81.72,86.77,10.7209,64.099999999999994,{"$error":"#N/A"},872,255,2.1,2.1,5788,1365,1139,646,6.3,64,7.4,{"$error":"#N/A"},1.5,1.6,{"$error":"#N/A"},{"$error":"#N/A"},{"$error":"#N/A"},149.80000000000001,74.376000000000005,113223,87529,95821,{"$error":"#N/A"},{"$error":"#N/A"},77.313000000000002,{"$error":"#N/A"},{"$error":"#N/A"},{"$error":"#N/A"},{"$error":"#N/A"},{"$error":"#N/A"},{"$error":"#N/A"},{"$error":"#N/A"}]
[null,null,null,"1994-12-01",{"$error":"#N/A"},80.099999999999994,80.31,78.17,74.790000000000006,77.209999999999994,78.489999999999995,{"$f":"INDEX(INDIRECT(\"'\"&L$7&\"'!B:B\"),MATCH($D475,INDIRECT(\"'\"&L$7&\"'!A:A\")))","v":87.01},81.86,87.17,10.7209,64.099999999999994,{"$error":"#N/A"},872,255,2.1,2.1,5788,1386,1172,629,6.6,64,7.4,{"$error":"#N/A"},1.5,1.6,{"$error":"#N/A"},{"$error":"#N/A"},{"$error":"#N/A"},150.1,74.376000000000005,113308,87617,95873,{"$error":"#N/A"},{"$error":"#N/A"},77.313000000000002,{"$error":"#N/A"},{"$error":"#N/A"},{"$error":"#N/A"},{"$error":"#N/A"},{"$error":"#N/A"},{"$error":"#N/A"},{"$error":"#N/A"}]
[null,null,null,"1995-01-01",{"$error":"#N/A"},80.05,80.45,78.36,75.11,77.2,78.569999999999993,87.02,81.88,87.04,10.90043,64.400000000000006,{"$error":"#N/A"},343,140,2.13,2.13,5958,1423,1195,626,6.8,64.7,7.4,{"$error":"#N/A"},1.5,1.5,{"$error":"#N/A"},{"$error":"#N/A"},{"$error":"#N/A"},150.5,74.802999999999997,113389,87528,95961,{"$error":"#N/A"},{"$error":"#N/A"},77.709000000000003,{"$error":"#N/A"},{"$error":"#N/A"},{"$error":"#N/A"},{"$error":"#N/A"},{"$error":"#N/A"},{"$error":"#N/A"},{"$error":"#N/A"}]
[null,null,null,"1995-02-01",{"$error":"#N/A"},80.010000000000005,80.55,78.36,75.37,77.28,78.78,86.64,82.15,87.34,10.90043,64.400000000000006,{"$error":"#N/A"},343,140,2.13,2.13,5958,1294,1079,559,7.3,64.7,7.4,{"$error":"#N/A"},1.5,1.5,{"$error":"#N/A"},{"$error":"#N/A"},{"$error":"#N/A"},150.9,74.802999999999997,113598,87572,96020,{"$error":"#N/A"},{"$error":"#N/A"},77.709000000000003,{"$error":"#N/A"},{"$error":"#N/A"},{"$error":"#N/A"},{"$error":"#N/A"},{"$error":"#N/A"},{"$error":"#N/A"},{"$error":"#N/A"}]
[null,null,null,"1995-03-01",{"$error":"#N/A"},80.099999999999994,80.62,78.36,75.52,77.06,78.569999999999993,86.3,82.28,87.39,10.90043,64.400000000000006,{"$error":"#N/A"},343,140,2.13,2.13,5958,1413,1195,616,6.8,64.7,7.4,{"$error":"#N/A"},1.5,1.5,{"$error":"#N/A"},{"$error":"#N/A"},{"$error":"#N/A"},151.19999999999999,74.802999999999997,113688,87622,96037,{"$error":"#N/A"},{"$error":"#N/A"},77.709000000000003,{"$error":"#N/A"},{"$error":"#N/A"},{"$error":"#N/A"},{"$error":"#N/A"},{"$error":"#N/A"},{"$error":"#N/A"},{"$error":"#N/A"}]
[null,null,null,"1995-04-01",{"$error":"#N/A"},80.400000000000006,80.69,78.849999999999994,75.8,76.88,78.45,86.47,82.35,87.99,11.10079,64.7,{"$error":"#N/A"},648,180,2.16,2.16,6252,1342,1098,621,6.7,64.7,7.7,{"$error":"#N/A"},1.5,1.6,{"$error":"#N/A"},{"$error":"#N/A"},{"$error":"#N/A"},151.80000000000001,75.132000000000005,113758,87664,96099,{"$error":"#N/A"},{"$error":"#N/A"},78.155000000000001,{"$error":"#N/A"},{"$error":"#N/A"},{"$error":"#N/A"},{"$error":"#N/A"},{"$error":"#N/A"},{"$error":"#N/A"},{"$error":"#N/A"}]
[null,null,null,"1995-05-01",{"$error":"#N/A"},80.72,80.73,78.849999999999994,76.16,76.77,78.430000000000007,86.67,82.32,88.04,11.10079,64.7,{"$error":"#N/A"},648,180,2.16,2.16,6252,1326,1062,674,6.3,64.7,7.7,{"$error":"#N/A"},1.5,1.6,{"$error":"#N/A"},{"$error":"#N/A"},{"$error":"#N/A"},152.1,75.132000000000005,113826,87691,96141,{"$error":"#N/A"},{"$error":"#N/A"},78.155000000000001,{"$error":"#N/A"},{"$error":"#N/A"},{"$error":"#N/A"},{"$error":"#N/A"},{"$error":"#N/A"},{"$error":"#N/A"},{"$error":"#N/A"}]
[null,null,null,"1995-06-01",{"$error":"#N/A"},81.099999999999994,80.81,78.849999999999994,{"$f":"INDEX(INDIRECT(\"'\"&I$7&\"'!B:B\"),MATCH($D481,INDIRECT(\"'\"&I$7&\"'!A:A\")))","v":76.819999999999993},76.66,78.430000000000007,86.98,82.52,88.03,11.10079,64.7,{"$error":"#N/A"},648,180,2.16,2.16,6252,1242,1038,725,5.8,64.7,7.7,{"$error":"#N/A"},1.5,1.6,{"$error":"#N/A"},{"$error":"#N/A"},{"$error":"#N/A"},152.4,75.132000000000005,113873,87750,96204,{"$error":"#N/A"},{"$error":"#N/A"},78.155000000000001,{"$error":"#N/A"},{"$error":"#N/A"},{"$error":"#N/A"},{"$error":"#N/A"},{"$error":"#N/A"},{"$error":"#N/A"},{"$error":"#N/A"}]
[null,null,null,"1995-07-01",{"$error":"#N/A"},81.44,80.959999999999994,79.39,77.260000000000005,76.7,78.45,86.96,82.85,88.1,11.209149999999999,64.8,{"$error":"#N/A"},409,173,2.23,2.23,6550,1352,1054,765,5.6,64.7,7.7,{"$error":"#N/A"},1.5,1.5,{"$error":"#N/A"},{"$error":"#N/A"},{"$error":"#N/A"},152.6,75.489000000000004,114002,87818,96265,{"$error":"#N/A"},{"$error":"#N/A"},78.52,{"$error":"#N/A"},{"$error":"#N/A"},{"$error":"#N/A"},{"$error":"#N/A"},{"$error":"#N/A"},{"$error":"#N/A"},{"$error":"#N/A"}]
[null,null,null,"1995-08-01",{"$error":"#N/A"},81.680000000000007,81.14,79.39,77.709999999999994,76.75,78.44,87.39,83.11,88.6,11.209149999999999,64.8,{"$error":"#N/A"},409,173,2.23,2.23,6550,1265,1028,701,6.1,64.7,7.7,{"$error":"#N/A"},1.5,1.5,{"$error":"#N/A"},{"$error":"#N/A"},{"$error":"#N/A"},152.9,75.489000000000004,114137,87905,96327,{"$error":"#N/A"},{"$error":"#N/A"},78.52,{"$error":"#N/A"},{"$error":"#N/A"},{"$error":"#N/A"},{"$error":"#N/A"},{"$error":"#N/A"},{"$error":"#N/A"},{"$error":"#N/A"}]
[null,null,null,"1995-09-01",{"$error":"#N/A"},81.77,81.33,79.39,77.87,76.819999999999993,78.510000000000005,87.37,83.43,88.96,11.209149999999999,64.8,{"$error":"#N/A"},409,173,2.23,2.23,6550,1279,1005,678,6.3,64.7,7.7,{"$error":"#N/A"},1.5,1.5,{"$error":"#N/A"},{"$error":"#N/A"},{"$error":"#N/A"},153.1,75.489000000000004,114282,87940,96409,{"$error":"#N/A"},{"$error":"#N/A"},78.52,{"$error":"#N/A"},{"$error":"#N/A"},{"$error":"#N/A"},{"$error":"#N/A"},{"$error":"#N/A"},{"$error":"#N/A"},{"$error":"#N/A"}]
[null,null,null,"1995-10-01",{"$error":"#N/A"},81.760000000000005,81.510000000000005,79.790000000000006,78.150000000000006,76.86,78.67,87.64,83.51,89.21,11.24757,65.099999999999994,{"$error":"#N/A"},507,213,2.2400000000000002,2.2400000000000002,7030,1335,1049,696,6.3,64.7,7.7,{"$error":"#N/A"},1.5,1.6,{"$error":"#N/A"},{"$error":"#N/A"},{"$error":"#N/A"},153.5,75.861000000000004,114459,88027,96487,{"$error":"#N/A"},{"$error":"#N/A"},78.914000000000001,{"$error":"#N/A"},{"$error":"#N/A"},{"$error":"#N/A"},{"$error":"#N/A"},{"$error":"#N/A"},{"$error":"#N/A"},{"$error":"#N/A"}]
[null,null,null,"1995-11-01",{"$error":"#N/A"},81.66,81.650000000000006,79.790000000000006,78.39,76.88,78.739999999999995,87.55,83.88,89.15,11.24757,65.099999999999994,{"$error":"#N/A"},507,213,2.2400000000000002,2.2400000000000002,7030,1360,1070,664,6.8,64.7,7.7,{"$error":"#N/A"},1.5,1.6,{"$error":"#N/A"},{"$error":"#N/A"},{"$error":"#N/A"},153.69999999999999,75.861000000000004,114598,88046,96555,{"$error":"#N/A"},{"$error":"#N/A"},78.914000000000001,{"$error":"#N/A"},{"$error":"#N/A"},{"$error":"#N/A"},{"$error":"#N/A"},{"$error":"#N/A"},{"$error":"#N/A"},{"$f":"INDEX(INDIRECT(\"'\"&AW$7&\"'!B:B\"),MATCH($D486,INDIRECT(\"'\"&AW$7&\"'!A:A\")))","v":{"$error":"#N/A"}}]
[null,null,null,"1995-12-01",{"$error":"#N/A"},81.540000000000006,81.77,79.790000000000006,78.739999999999995,76.92,78.849999999999994,87.69,83.96,89.04,11.24757,65.099999999999994,{"$error":"#N/A"},507,213,2.2400000000000002,2.2400000000000002,7030,1200,1000,709,6.4,64.7,7.7,{"$error":"#N/A"},1.5,1.6,{"$error":"#N/A"},{"$error":"#N/A"},{"$error":"#N/A"},153.9,75.861000000000004,114700,88172,96633,{"$error":"#N/A"},{"$error":"#N/A"},78.914000000000001,{"$error":"#N/A"},{"$error":"#N/A"},{"$error":"#N/A"},{"$error":"#N/A"},{"$error":"#N/A"},{"$error":"#N/A"},{"$error":"#N/A"}]
[null,null,null,"1996-01-01",{"$error":"#N/A"},81.459999999999994,81.87,80.23,79.099999999999994,76.989999999999995,78.95,87.52,84.26,88.91,11.26469,65.3,{"$error":"#N/A"},270,148,2.25,2.25,6834,1402,1113,714,6.4,65.400000000000006,7.9,{"$error":"#N/A"},1.6,1.6,{"$error":"#N/A"},{"$error":"#N/A"},{"$error":"#N/A"},154.69999999999999,76.272000000000006,114724,88223,96717,{"$error":"#N/A"},{"$error":"#N/A"},79.228999999999999,{"$error":"#N/A"},{"$error":"#N/A"},{"$error":"#N/A"},{"$error":"#N/A"},{"$error":"#N/A"},{"$error":"#N/A"},{"$error":"#N/A"}]
[null,null,null,"1996-02-01",{"$error":"#N/A"},81.430000000000007,81.99,80.23,79.47,77.12,79.22,87.43,83.92,89.25,11.26469,65.3,{"$error":"#N/A"},270,148,2.25,2.25,6834,1317,1046,769,5.3,65.400000000000006,7.9,{"$error":"#N/A"},1.6,1.6,{"$error":"#N/A"},{"$error":"#N/A"},{"$error":"#N/A"},155,76.272000000000006,114957,88296,96757,{"$error":"#N/A"},{"$error":"#N/A"},79.228999999999999,{"$error":"#N/A"},{"$error":"#N/A"},{"$error":"#N/A"},{"$error":"#N/A"},{"$error":"#N/A"},{"$error":"#N/A"},{"$error":"#N/A"}]
[null,null,null,"1996-03-01",{"$error":"#N/A"},81.7,82.23,80.23,79.930000000000007,77.17,79.5,86.73,84.02,89.13,11.26469,65.3,{"$error":"#N/A"},270,148,2.25,2.25,6834,1369,1103,721,6.2,65.400000000000006,7.9,{"$error":"#N/A"},1.6,1.6,{"$error":"#N/A"},{"$error":"#N/A"},{"$error":"#N/A"},155.5,76.272000000000006,115069,88366,96798,{"$error":"#N/A"},{"$error":"#N/A"},79.228999999999999,{"$error":"#N/A"},{"$error":"#N/A"},{"$error":"#N/A"},{"$error":"#N/A"},{"$error":"#N/A"},{"$error":"#N/A"},{"$error":"#N/A"}]
[null,null,null,"1996-04-01",{"$error":"#N/A"},82.16,82.45,80.7,80.39,77.34,79.61,87.1,84.83,89.59,11.28903,65.400000000000006,{"$error":"#N/A"},295,151,2.31,2.31,7236,1327,1054,736,6,65.400000000000006,7.8,{"$error":"#N/A"},1.6,1.5,{"$error":"#N/A"},{"$error":"#N/A"},{"$error":"#N/A"},156.1,76.561999999999998,115238,88440,96857,{"$error":"#N/A"},{"$error":"#N/A"},79.599000000000004,{"$error":"#N/A"},{"$error":"#N/A"},{"$error":"#N/A"},{"$error":"#N/A"},{"$error":"#N/A"},{"$error":"#N/A"},{"$error":"#N/A"}]
[null,null,null,"1996-05-01",{"$error":"#N/A"},82.63,82.64,80.7,80.73,77.47,79.78,87.34,85.06,89.77,11.28903,65.400000000000006,{"$error":"#N/A"},295,151,2.31,2.31,7236,1423,1147,746,5.9,65.400000000000006,7.8,{"$error":"#N/A"},1.6,1.5,{"$error":"#N/A"},{"$error":"#N/A"},{"$error":"#N/A"},156.4,76.561999999999998,115403,88530,96925,{"$error":"#N/A"},{"$error":"#N/A"},79.599000000000004,{"$error":"#N/A"},{"$error":"#N/A"},{"$error":"#N/A"},{"$f":"INDEX(INDIRECT(\"'\"&AT$7&\"'!B:B\"),MATCH($D492,INDIRECT(\"'\"&AT$7&\"'!A:A\")))","v":{"$error":"#N/A"}},{"$error":"#N/A"},{"$error":"#N/A"},{"$error":"#N/A"}]
[null,null,null,"1996-06-01",{"$error":"#N/A"},83.08,82.78,80.7,81.099999999999994,77.47,79.37,87.61,85.21,90.26,11.28903,65.400000000000006,{"$error":"#N/A"},295,151,2.31,2.31,7236,1437,1131,721,6,65.400000000000006,7.8,{"$error":"#N/A"},1.6,1.5,{"$error":"#N/A"},{"$error":"#N/A"},{"$error":"#N/A"},156.69999999999999,76.561999999999998,115488,88570,96999,{"$error":"#N/A"},{"$error":"#N/A"},79.599000000000004,{"$error":"#N/A"},{"$error":"#N/A"},{"$error":"#N/A"},{"$error":"#N/A"},{"$error":"#N/A"},{"$error":"#N/A"},{"$error":"#N/A"}]
[null,null,null,"1996-07-01",{"$error":"#N/A"},83.45,82.96,81.22,81.45,77.510000000000005,79.430000000000007,87.84,85.18,90.43,11.335750000000001,65.400000000000006,{"$error":"#N/A"},260,134,2.2999999999999998,2.2999999999999998,7750,1453,1145,770,5.7,65.400000000000006,8,{"$error":"#N/A"},1.6,1.7,{"$error":"#N/A"},{"$error":"#N/A"},{"$error":"#N/A"},157,76.778000000000006,115581,88614,97064,{"$error":"#N/A"},{"$error":"#N/A"},79.962999999999994,{"$error":"#N/A"},{"$error":"#N/A"},{"$error":"#N/A"},{"$error":"#N/A"},{"$error":"#N/A"},{"$error":"#N/A"},{"$error":"#N/A"}]
[null,null,null,"1996-08-01",{"$error":"#N/A"},83.68,83.12,81.22,81.87,77.61,79.56,87.97,85.31,90.37,11.335750000000001,65.400000000000006,{"$error":"#N/A"},260,134,2.2999999999999998,2.2999999999999998,7750,1468,1172,826,5,65.400000000000006,8,{"$error":"#N/A"},1.6,1.7,{"$error":"#N/A"},{"$error":"#N/A"},{"$error":"#N/A"},157.19999999999999,76.778000000000006,115667,88650,97146,{"$error":"#N/A"},{"$error":"#N/A"},79.962999999999994,{"$error":"#N/A"},{"$error":"#N/A"},{"$error":"#N/A"},{"$error":"#N/A"},{"$error":"#N/A"},{"$error":"#N/A"},{"$error":"#N/A"}]
[null,null,null,"1996-09-01",{"$error":"#N/A"},83.74,83.29,81.22,82.1,77.75,79.760000000000005,88.13,85.54,90.1,11.335750000000001,65.400000000000006,{"$error":"#N/A"},260,134,2.2999999999999998,2.2999999999999998,7750,1379,1116,770,5.2,65.400000000000006,8,{"$error":"#N/A"},1.6,1.7,{"$error":"#N/A"},{"$error":"#N/A"},{"$error":"#N/A"},157.69999999999999,76.778000000000006,115818,88733,97226,{"$error":"#N/A"},{"$error":"#N/A"},79.962999999999994,{"$error":"#N/A"},{"$error":"#N/A"},{"$error":"#N/A"},{"$error":"#N/A"},{"$error":"#N/A"},{"$error":"#N/A"},{"$error":"#N/A"}]
[null,null,null,"1996-10-01",{"$error":"#N/A"},83.67,83.41,81.459999999999994,82.21,77.95,79.89,88.11,85.81,89.88,11.393509999999999,65.400000000000006,{"$error":"#N/A"},279,168,2.34,2.34,8294,1392,1146,720,5.6,65.400000000000006,7.7,{"$error":"#N/A"},1.6,1.7,{"$error":"#N/A"},{"$error":"#N/A"},{"$error":"#N/A"},158.19999999999999,77.168000000000006,115938,88840,97290,{"$error":"#N/A"},{"$error":"#N/A"},80.414000000000001,{"$error":"#N/A"},{"$error":"#N/A"},{"$error":"#N/A"},{"$error":"#N/A"},{"$error":"#N/A"},{"$error":"#N/A"},{"$error":"#N/A"}]
[null,null,null,"1996-11-01",{"$error":"#N/A"},83.59,83.59,81.459999999999994,82.3,78.180000000000007,79.92,88.24,86.12,89.58,11.393509999999999,65.400000000000006,{"$error":"#N/A"},279,168,2.34,2.34,8294,1413,1118,771,5.2,65.400000000000006,7.7,{"$error":"#N/A"},1.6,1.7,{"$error":"#N/A"},{"$error":"#N/A"},{"$error":"#N/A"},158.69999999999999,77.168000000000006,116059,88971,97366,{"$error":"#N/A"},{"$error":"#N/A"},80.414000000000001,{"$f":"INDEX(INDIRECT(\"'\"&AQ$7&\"'!B:B\"),MATCH($D498,INDIRECT(\"'\"&AQ$7&\"'!A:A\")))","v":{"$error":"#N/A"}},{"$error":"#N/A"},{"$error":"#N/A"},{"$error":"#N/A"},{"$error":"#N/A"},{"$error":"#N/A"},{"$error":"#N/A"}]
[null,null,null,"1996-12-01",{"$error":"#N/A"},83.53,83.76,81.459999999999994,82.34,78.38,80.2,88.16,86.45,90.01,11.393509999999999,65.400000000000006,{"$error":"#N/A"},279,168,2.34,2.34,8294,1487,1180,805,5,65.400000000000006,7.7,{"$error":"#N/A"},1.6,1.7,{"$error":"#N/A"},{"$error":"#N/A"},{"$error":"#N/A"},159.1,77.168000000000006,116131,89040,97457,{"$error":"#N/A"},{"$error":"#N/A"},80.414000000000001,{"$error":"#N/A"},{"$error":"#N/A"},{"$error":"#N/A"},{"$error":"#N/A"},{"$error":"#N/A"},{"$error":"#N/A"},{"$error":"#N/A"}]
[null,null,null,"1997-01-01",{"$error":"#N/A"},83.56,83.99,82.46,82.59,78.569999999999993,80.44,88.14,86.52,90.49,11.34535,65.5,{"$error":"#N/A"},119,127,2.36,2.36,8135,1377,1128,830,4.7,65.7,7.5,{"$error":"#N/A"},1.6,1.7,{"$error":"#N/A"},{"$error":"#N/A"},{"$error":"#N/A"},159.4,77.647000000000006,116348,89446,97520,{"$error":"#N/A"},{"$error":"#N/A"},80.728999999999999,{"$error":"#N/A"},{"$error":"#N/A"},{"$error":"#N/A"},{"$error":"#N/A"},{"$error":"#N/A"},{"$error":"#N/A"},{"$error":"#N/A"}]
[null,null,null,"1997-02-01",{"$error":"#N/A"},83.63,84.22,82.46,82.9,78.72,80.59,87.94,86.53,91.39,11.34535,65.5,{"$error":"#N/A"},119,127,2.36,2.36,8135,1545,1247,801,4.5,65.7,7.5,{"$error":"#N/A"},1.6,1.7,{"$error":"#N/A"},{"$error":"#N/A"},{"$error":"#N/A"},159.69999999999999,77.647000000000006,116462,89556,97571,{"$error":"#N/A"},{"$error":"#N/A"},80.728999999999999,{"$error":"#N/A"},{"$error":"#N/A"},{"$error":"#N/A"},{"$error":"#N/A"},{"$error":"#N/A"},{"$error":"#N/A"},{"$error":"#N/A"}]
[null,null,null,"1997-03-01",{"$error":"#N/A"},83.94,84.49,82.46,83.39,78.989999999999995,80.59,87.93,86.83,91.62,11.34535,65.5,{"$error":"#N/A"},119,127,2.36,2.36,8135,1445,1150,831,4.0999999999999996,65.7,7.5,{"$error":"#N/A"},1.6,1.7,{"$error":"#N/A"},{"$error":"#N/A"},{"$error":"#N/A"},159.80000000000001,77.647000000000006,116559,89604,97638,{"$error":"#N/A"},{"$error":"#N/A"},80.728999999999999,{"$error":"#N/A"},{"$error":"#N/A"},{"$error":"#N/A"},{"$error":"#N/A"},{"$error":"#N/A"},{"$error":"#N/A"},{"$error":"#N/A"}]
[null,null,null,"1997-04-01",{"$error":"#N/A"},84.36,84.66,83.15,83.88,79.25,80.67,88.33,86.92,91.46,11.34937,65.7,{"$error":"#N/A"},179,167,2.33,2.33,8851,1438,1133,744,4.7,65.7,7.9,{"$error":"#N/A"},1.6,1.6,{"$error":"#N/A"},{"$error":"#N/A"},{"$error":"#N/A"},159.9,77.856999999999999,116662,89680,97685,{"$error":"#N/A"},{"$error":"#N/A"},81.144999999999996,{"$error":"#N/A"},{"$error":"#N/A"},{"$error":"#N/A"},{"$error":"#N/A"},{"$error":"#N/A"},{"$error":"#N/A"},{"$error":"#N/A"}]
[null,null,null,"1997-05-01",{"$error":"#N/A"},84.91,84.9,83.15,84.26,79.53,80.95,88.58,86.89,91.48,11.34937,65.7,{"$error":"#N/A"},179,167,2.33,2.33,8851,1400,1115,760,4.5999999999999996,65.7,7.9,{"$error":"#N/A"},1.6,1.6,{"$error":"#N/A"},{"$error":"#N/A"},{"$error":"#N/A"},159.9,77.856999999999999,116873,89766,97767,{"$f":"INDEX(INDIRECT(\"'\"&AN$7&\"'!B:B\"),MATCH($D504,INDIRECT(\"'\"&AN$7&\"'!A:A\")))","v":{"$error":"#N/A"}},{"$error":"#N/A"},81.144999999999996,{"$error":"#N/A"},{"$error":"#N/A"},{"$error":"#N/A"},{"$error":"#N/A"},{"$error":"#N/A"},{"$error":"#N/A"},{"$error":"#N/A"}]
[null,null,null,"1997-06-01",{"$error":"#N/A"},85.44,85.12,83.15,84.52,79.91,81.39,88.81,86.89,91.8,11.34937,65.7,{"$error":"#N/A"},179,167,2.33,2.33,8851,1315,1096,793,4.4000000000000004,65.7,7.9,{"$error":"#N/A"},1.6,1.6,{"$error":"#N/A"},{"$error":"#N/A"},{"$error":"#N/A"},160.19999999999999,77.856999999999999,116902,89829,97834,{"$error":"#N/A"},{"$error":"#N/A"},81.144999999999996,{"$error":"#N/A"},{"$error":"#N/A"},{"$error":"#N/A"},{"$error":"#N/A"},{"$error":"#N/A"},{"$error":"#N/A"},{"$error":"#N/A"}]
[null,null,null,"1997-07-01",{"$error":"#N/A"},85.88,85.37,83.86,84.56,80.22,81.78,88.83,87.22,92.32,11.35772,65.8,{"$error":"#N/A"},183,143,2.29,2.29,9484,1313,1056,805,4.4000000000000004,65.7,7.9,{"$error":"#N/A"},1.6,1.5,{"$error":"#N/A"},{"$error":"#N/A"},{"$error":"#N/A"},160.4,78.135000000000005,116881,89888,97919,{"$error":"#N/A"},{"$error":"#N/A"},81.328000000000003,{"$error":"#N/A"},{"$error":"#N/A"},{"$error":"#N/A"},{"$error":"#N/A"},{"$error":"#N/A"},{"$error":"#N/A"},{"$error":"#N/A"}]
[null,null,null,"1997-08-01",{"$error":"#N/A"},86.19,85.61,83.86,84.84,80.61,81.94,89,87.56,92.74,11.35772,65.8,{"$error":"#N/A"},183,143,2.29,2.29,9484,1332,1062,815,4.3,65.7,7.9,{"$error":"#N/A"},1.6,1.5,{"$error":"#N/A"},{"$error":"#N/A"},{"$error":"#N/A"},160.80000000000001,78.135000000000005,116940,89982,98000,{"$error":"#N/A"},{"$error":"#N/A"},81.328000000000003,{"$error":"#N/A"},{"$error":"#N/A"},{"$error":"#N/A"},{"$error":"#N/A"},{"$error":"#N/A"},{"$error":"#N/A"},{"$error":"#N/A"}]
[null,null,null,"1997-09-01",{"$error":"#N/A"},86.35,85.89,83.86,85.26,80.91,82.06,89.31,87.97,92.88,11.35772,65.8,{"$error":"#N/A"},183,143,2.29,2.29,9484,1442,1148,840,4.2,65.7,7.9,{"$error":"#N/A"},1.6,1.5,{"$error":"#N/A"},{"$error":"#N/A"},{"$error":"#N/A"},161.19999999999999,78.135000000000005,117018,90068,98082,{"$error":"#N/A"},{"$error":"#N/A"},81.328000000000003,{"$error":"#N/A"},{"$error":"#N/A"},{"$error":"#N/A"},{"$error":"#N/A"},{"$error":"#N/A"},{"$error":"#N/A"},{"$error":"#N/A"}]
[null,null,null,"1997-10-01",{"$error":"#N/A"},86.45,86.19,85.06,85.81,81.42,82.34,89.71,88.33,93.1,11.312709999999999,65.8,{"$error":"#N/A"},248,181,2.25,2.25,10153,1396,1074,800,4.3,65.7,7.7,{"$error":"#N/A"},1.6,1.7,{"$error":"#N/A"},{"$error":"#N/A"},{"$error":"#N/A"},161.5,78.394999999999996,117039,90140,98144,{"$error":"#N/A"},{"$error":"#N/A"},81.581999999999994,{"$error":"#N/A"},{"$error":"#N/A"},{"$error":"#N/A"},{"$error":"#N/A"},{"$error":"#N/A"},{"$error":"#N/A"},{"$error":"#N/A"}]
[null,null,null,"1997-11-01",{"$error":"#N/A"},86.67,86.67,85.06,86.17,81.96,82.82,90.03,88.92,93.01,11.312709999999999,65.8,{"$error":"#N/A"},248,181,2.25,2.25,10153,1420,1131,864,3.9,65.7,7.7,{"$error":"#N/A"},1.6,1.7,{"$error":"#N/A"},{"$error":"#N/A"},{"$error":"#N/A"},161.69999999999999,78.394999999999996,{"$f":"INDEX(INDIRECT(\"'\"&AK$7&\"'!B:B\"),MATCH($D510,INDIRECT(\"'\"&AK$7&\"'!A:A\")))","v":117124},90251,98212,{"$error":"#N/A"},{"$error":"#N/A"},81.581999999999994,{"$error":"#N/A"},{"$error":"#N/A"},{"$error":"#N/A"},{"$error":"#N/A"},{"$error":"#N/A"},{"$error":"#N/A"},{"$error":"#N/A"}]
[null,null,null,"1997-12-01",{"$error":"#N/A"},86.89,87.13,85.06,86.41,82.59,83.27,90.5,89.38,93.04,11.312709999999999,65.8,{"$error":"#N/A"},248,181,2.25,2.25,10153,1428,1096,793,4.4000000000000004,65.7,7.7,{"$error":"#N/A"},1.6,1.7,{"$error":"#N/A"},{"$error":"#N/A"},{"$error":"#N/A"},161.80000000000001,78.394999999999996,117181,90339,98300,{"$error":"#N/A"},{"$error":"#N/A"},81.581999999999994,{"$error":"#N/A"},{"$error":"#N/A"},{"$error":"#N/A"},{"$error":"#N/A"},{"$error":"#N/A"},{"$error":"#N/A"},{"$error":"#N/A"}]
[null,null,null,"1998-01-01",{"$error":"#N/A"},87.2,87.66,86.39,86.64,83.26,83.73,90.8,90.19,92.94,11.166880000000001,66,{"$error":"#N/A"},144,133,2.21,2.21,9829,1316,1018,872,4,66.3,7.7,{"$error":"#N/A"},1.7,1.7,{"$error":"#N/A"},{"$error":"#N/A"},{"$error":"#N/A"},162,78.522999999999996,117202,90391,98420,{"$error":"#N/A"},{"$error":"#N/A"},81.808000000000007,{"$error":"#N/A"},{"$error":"#N/A"},{"$error":"#N/A"},{"$error":"#N/A"},{"$error":"#N/A"},{"$error":"#N/A"},{"$error":"#N/A"}]
[null,null,null,"1998-02-01",{"$error":"#N/A"},87.42,88.05,86.39,87.09,83.97,84.41,90.88,90.54,93.3,11.166880000000001,66,{"$error":"#N/A"},144,133,2.21,2.21,9829,1441,1127,866,3.9,66.3,7.7,{"$error":"#N/A"},1.7,1.7,{"$error":"#N/A"},{"$error":"#N/A"},{"$error":"#N/A"},162,78.522999999999996,117246,90476,98471,{"$error":"#N/A"},{"$error":"#N/A"},81.808000000000007,{"$error":"#N/A"},{"$error":"#N/A"},{"$error":"#N/A"},{"$error":"#N/A"},{"$error":"#N/A"},{"$error":"#N/A"},{"$error":"#N/A"}]
[null,null,null,"1998-03-01",{"$error":"#N/A"},87.92,88.48,86.39,87.52,84.62,84.94,90.75,90.7,94.48,11.166880000000001,66,{"$error":"#N/A"},144,133,2.21,2.21,9829,1477,1131,836,4.0999999999999996,66.3,7.7,{"$error":"#N/A"},1.7,1.7,{"$error":"#N/A"},{"$error":"#N/A"},{"$error":"#N/A"},162,78.522999999999996,117218,90502,98534,{"$error":"#N/A"},{"$error":"#N/A"},81.808000000000007,{"$error":"#N/A"},{"$error":"#N/A"},{"$error":"#N/A"},{"$error":"#N/A"},{"$error":"#N/A"},{"$error":"#N/A"},{"$error":"#N/A"}]
[null,null,null,"1998-04-01",{"$error":"#N/A"},88.6,88.92,87.92,88.06,85.19,85.42,91.03,90.67,94.58,11.18712,66.099999999999994,{"$error":"#N/A"},108,133,2.17,2.17,9360,1498,1186,866,4,66.3,8,{"$error":"#N/A"},1.7,1.7,{"$error":"#N/A"},{"$error":"#N/A"},{"$error":"#N/A"},162.19999999999999,78.686999999999998,117329,90580,98583,{"$error":"#N/A"},{"$error":"#N/A"},82.055999999999997,{"$error":"#N/A"},{"$error":"#N/A"},{"$error":"#N/A"},{"$error":"#N/A"},{"$error":"#N/A"},{"$error":"#N/A"},{"$error":"#N/A"}]
[null,null,null,"1998-05-01",{"$error":"#N/A"},89.41,89.4,87.92,88.6,85.86,85.99,91.43,90.99,94.5,11.18712,66.099999999999994,{"$error":"#N/A"},108,133,2.17,2.17,9360,1465,1116,887,3.9,66.3,8,{"$error":"#N/A"},1.7,1.7,{"$error":"#N/A"},{"$error":"#N/A"},{"$f":"INDEX(INDIRECT(\"'\"&AH$7&\"'!B:B\"),MATCH($D516,INDIRECT(\"'\"&AH$7&\"'!A:A\")))","v":{"$error":"#N/A"}},162.6,78.686999999999998,117483,90622,98668,{"$error":"#N/A"},{"$error":"#N/A"},82.055999999999997,{"$error":"#N/A"},{"$error":"#N/A"},{"$error":"#N/A"},{"$error":"#N/A"},{"$error":"#N/A"},{"$error":"#N/A"},{"$error":"#N/A"}]
[null,null,null,"1998-06-01",{"$error":"#N/A"},90.23,89.88,87.92,89.41,86.63,86.48,92.12,91.56,94.32,11.18712,66.099999999999994,{"$error":"#N/A"},108,133,2.17,2.17,9360,1467,1163,923,3.8,66.3,8,{"$error":"#N/A"},1.7,1.7,{"$error":"#N/A"},{"$error":"#N/A"},{"$error":"#N/A"},162.80000000000001,78.686999999999998,117427,90700,98735,{"$error":"#N/A"},{"$error":"#N/A"},82.055999999999997,{"$error":"#N/A"},{"$error":"#N/A"},{"$error":"#N/A"},{"$error":"#N/A"},{"$error":"#N/A"},{"$error":"#N/A"},{"$error":"#N/A"}]
[null,null,null,"1998-07-01",{"$error":"#N/A"},90.9,90.35,89.54,90.05,87.43,87.16,92.67,91.81,94.58,11.17252,66.599999999999994,{"$error":"#N/A"},172,136,2.1800000000000002,2.1800000000000002,9693,1552,1223,876,4,66.3,8.1999999999999993,{"$error":"#N/A"},1.7,1.7,{"$error":"#N/A"},{"$error":"#N/A"},{"$error":"#N/A"},163.19999999999999,78.980999999999995,117375,90802,98778,{"$error":"#N/A"},{"$error":"#N/A"},82.341999999999999,{"$error":"#N/A"},{"$error":"#N/A"},{"$error":"#N/A"},{"$error":"#N/A"},{"$error":"#N/A"},{"$error":"#N/A"},{"$error":"#N/A"}]
[null,null,null,"1998-08-01",{"$error":"#N/A"},91.45,90.83,89.54,90.54,88.14,87.67,92.98,92.15,94.69,11.17252,66.599999999999994,{"$error":"#N/A"},172,136,2.1800000000000002,2.1800000000000002,9693,1521,1179,846,4.0999999999999996,66.3,8.1999999999999993,{"$error":"#N/A"},1.7,1.7,{"$error":"#N/A"},{"$error":"#N/A"},{"$error":"#N/A"},163.4,78.980999999999995,117487,90889,98901,{"$error":"#N/A"},{"$error":"#N/A"},82.341999999999999,{"$error":"#N/A"},{"$error":"#N/A"},{"$error":"#N/A"},{"$error":"#N/A"},{"$error":"#N/A"},{"$error":"#N/A"},{"$error":"#N/A"}]
[null,null,null,"1998-09-01",{"$error":"#N/A"},91.79,91.3,89.54,90.86,88.85,88.23,93.2,92.27,95.14,11.17252,66.599999999999994,{"$error":"#N/A"},172,136,2.1800000000000002,2.1800000000000002,9693,1452,1186,864,4.0999999999999996,66.3,8.1999999999999993,{"$error":"#N/A"},1.7,1.7,{"$error":"#N/A"},{"$error":"#N/A"},{"$error":"#N/A"},163.5,78.980999999999995,117511,91003,98994,{"$error":"#N/A"},{"$error":"#N/A"},82.341999999999999,{"$error":"#N/A"},{"$error":"#N/A"},{"$error":"#N/A"},{"$error":"#N/A"},{"$error":"#N/A"},{"$error":"#N/A"},{"$error":"#N/A"}]
[null,null,null,"1998-10-01",{"$f":"INDEX(INDIRECT(\"'\"&E$7&\"'!B:B\"),MATCH($D521,INDIRECT(\"'\"&E$7&\"'!A:A\")))","v":{"$error":"#N/A"}},92.04,91.75,91.05,91.15,89.35,88.74,93.25,92.52,95.14,11.23395,66.5,{"$error":"#N/A"},257,163,2.0699999999999998,2.0699999999999998,10347,1452,1168,893,4,66.3,7.8,{"$error":"#N/A"},1.7,1.8,{"$error":"#N/A"},{"$error":"#N/A"},{"$error":"#N/A"},163.9,79.227999999999994,117596,91101,99037,{"$error":"#N/A"},{"$error":"#N/A"},82.593999999999994,{"$error":"#N/A"},{"$error":"#N/A"},{"$error":"#N/A"},{"$error":"#N/A"},{"$error":"#N/A"},{"$error":"#N/A"},{"$error":"#N/A"}]
[null,null,null,{"$f":"EOMONTH(D521,$E$1)+1","v":"1998-11-01"},{"$error":"#N/A"},92.23,92.23,91.05,91.59,89.73,89.26,93.49,92.11,95.46,11.23395,66.5,{"$error":"#N/A"},257,163,2.0699999999999998,2.0699999999999998,10347,1604,1255,995,3.5,66.3,7.8,{"$error":"#N/A"},1.7,1.8,{"$error":"#N/A"},{"$error":"#N/A"},{"$error":"#N/A"},164.1,79.227999999999994,117731,91192,99135,{"$error":"#N/A"},{"$error":"#N/A"},82.593999999999994,{"$error":"#N/A"},{"$error":"#N/A"},{"$f":"INDEX(INDIRECT(\"'\"&AS$7&\"'!B:B\"),MATCH($D522,INDIRECT(\"'\"&AS$7&\"'!A:A\")))","v":{"$error":"#N/A"}},{"$error":"#N/A"},{"$error":"#N/A"},{"$error":"#N/A"},{"$error":"#N/A"}]
[null,null,null,"1998-12-01",{"$error":"#N/A"},92.48,92.74,91.05,92.04,90.14,89.56,93.75,92.66,95.46,11.23395,66.5,{"$error":"#N/A"},257,163,2.0699999999999998,2.0699999999999998,10347,1433,1141,949,3.8,66.3,7.8,{"$error":"#N/A"},1.7,1.8,{"$error":"#N/A"},{"$error":"#N/A"},{"$error":"#N/A"},164.4,79.227999999999994,117789,91220,99181,{"$error":"#N/A"},{"$error":"#N/A"},82.593999999999994,{"$error":"#N/A"},{"$error":"#N/A"},{"$error":"#N/A"},{"$error":"#N/A"},{"$error":"#N/A"},{"$error":"#N/A"},{"$error":"#N/A"}]
[null,null,null,"1999-01-01",{"$error":"#N/A"},92.75,93.25,92.8,92.41,90.71,89.86,94.01,92.94,95.92,11.29949,66.7,{"$error":"#N/A"},173,153,1.94,1.94,8337,1599,1239,875,3.9,66.8,8.1999999999999993,{"$error":"#N/A"},1.7,1.8,{"$error":"#N/A"},{"$error":"#N/A"},{"$error":"#N/A"},164.7,79.623999999999995,117912,91124,99686,{"$error":"#N/A"},{"$error":"#N/A"},82.861000000000004,{"$error":"#N/A"},{"$error":"#N/A"},{"$error":"#N/A"},{"$error":"#N/A"},{"$error":"#N/A"},{"$error":"#N/A"},{"$error":"#N/A"}]
[null,null,null,"1999-02-01",{"$error":"#N/A"},93.02,93.71,92.8,92.91,91.44,90.51,94.21,93.52,96.38,11.29949,66.7,{"$error":"#N/A"},173,153,1.94,1.94,8337,1459,1199,848,4,66.8,8.1999999999999993,{"$error":"#N/A"},1.7,1.8,{"$error":"#N/A"},{"$error":"#N/A"},{"$error":"#N/A"},164.7,79.623999999999995,117808,91189,99746,{"$error":"#N/A"},{"$error":"#N/A"},82.861000000000004,{"$error":"#N/A"},{"$error":"#N/A"},{"$error":"#N/A"},{"$error":"#N/A"},{"$error":"#N/A"},{"$error":"#N/A"},{"$error":"#N/A"}]
[null,null,null,"1999-03-01",{"$error":"#N/A"},93.65,94.26,92.8,93.81,92.13,91.29,94.75,93.62,96.33,11.29949,66.7,{"$error":"#N/A"},173,153,1.94,1.94,8337,1673,1319,863,4.0999999999999996,66.8,8.1999999999999993,{"$error":"#N/A"},1.7,1.8,{"$error":"#N/A"},{"$error":"#N/A"},{"$error":"#N/A"},164.8,79.623999999999995,117854,91215,99833,{"$error":"#N/A"},{"$error":"#N/A"},82.861000000000004,{"$error":"#N/A"},{"$error":"#N/A"},{"$error":"#N/A"},{"$error":"#N/A"},{"$error":"#N/A"},{"$error":"#N/A"},{"$error":"#N/A"}]
[null,null,null,"1999-04-01",{"$error":"#N/A"},94.48,94.83,94.38,94.63,93.05,92.27,95.67,94.65,96.59,11.450979999999999,66.7,{"$error":"#N/A"},215,190,1.93,1.93,8216,1580,1271,918,3.9,66.8,8.1,{"$error":"#N/A"},1.7,1.6,{"$error":"#N/A"},{"$error":"#N/A"},{"$error":"#N/A"},165.9,79.891000000000005,117862,91302,99923,{"$error":"#N/A"},{"$error":"#N/A"},83.117999999999995,{"$error":"#N/A"},{"$error":"#N/A"},{"$error":"#N/A"},{"$error":"#N/A"},{"$error":"#N/A"},{"$error":"#N/A"},{"$error":"#N/A"}]
[null,null,null,"1999-05-01",{"$error":"#N/A"},95.4,95.39,94.38,95.14,93.75,93,96.21,95.43,97.27,11.450979999999999,66.7,{"$error":"#N/A"},215,190,1.93,1.93,8216,1623,1302,888,4,66.8,8.1,{"$error":"#N/A"},1.7,1.6,{"$error":"#N/A"},{"$error":"#N/A"},{"$error":"#N/A"},166,79.891000000000005,117995,91368,100008,{"$error":"#N/A"},{"$error":"#N/A"},{"$f":"INDEX(INDIRECT(\"'\"&AP$7&\"'!B:B\"),MATCH($D528,INDIRECT(\"'\"&AP$7&\"'!A:A\")))","v":83.117999999999995},{"$error":"#N/A"},{"$error":"#N/A"},{"$error":"#N/A"},{"$error":"#N/A"},{"$error":"#N/A"},{"$error":"#N/A"},{"$error":"#N/A"}]
[null,null,null,"1999-06-01",{"$error":"#N/A"},96.41,96.02,94.38,95.77,94.65,94.04,96.18,96.32,98.07,11.450979999999999,66.7,{"$error":"#N/A"},215,190,1.93,1.93,8216,1648,1311,923,3.9,66.8,8.1,{"$error":"#N/A"},1.7,1.6,{"$error":"#N/A"},{"$error":"#N/A"},{"$error":"#N/A"},166,79.891000000000005,118240,91487,100131,{"$error":"#N/A"},{"$error":"#N/A"},83.117999999999995,{"$error":"#N/A"},{"$error":"#N/A"},{"$error":"#N/A"},{"$error":"#N/A"},{"$error":"#N/A"},{"$error":"#N/A"},{"$error":"#N/A"}]
[null,null,null,"1999-07-01",{"$error":"#N/A"},97.23,96.63,96.43,96.33,95.5,94.94,96.79,96.63,98.58,11.57728,66.8,{"$error":"#N/A"},335,270,2.2200000000000002,2.2200000000000002,11574,1597,1228,900,4,66.8,8.1999999999999993,{"$error":"#N/A"},1.7,1.6,{"$error":"#N/A"},{"$error":"#N/A"},{"$error":"#N/A"},166.7,80.180000000000007,118266,91561,100203,{"$error":"#N/A"},{"$error":"#N/A"},83.403000000000006,{"$error":"#N/A"},{"$error":"#N/A"},{"$error":"#N/A"},{"$error":"#N/A"},{"$error":"#N/A"},{"$error":"#N/A"},{"$error":"#N/A"}]
[null,null,null,"1999-08-01",{"$error":"#N/A"},97.94,97.26,96.43,97.23,96.38,96.02,97.32,97.18,98.53,11.57728,66.8,{"$error":"#N/A"},335,270,2.2200000000000002,2.2200000000000002,11574,1563,1225,893,4,66.8,8.1999999999999993,{"$error":"#N/A"},1.7,1.6,{"$error":"#N/A"},{"$error":"#N/A"},{"$error":"#N/A"},167.1,80.180000000000007,118369,91692,100285,{"$error":"#N/A"},{"$error":"#N/A"},83.403000000000006,{"$error":"#N/A"},{"$error":"#N/A"},{"$error":"#N/A"},{"$error":"#N/A"},{"$error":"#N/A"},{"$error":"#N/A"},{"$error":"#N/A"}]
[null,null,null,"1999-09-01",{"$error":"#N/A"},98.44,97.91,96.43,97.91,97.2,96.79,98.01,97.75,99.03,11.57728,66.8,{"$error":"#N/A"},335,270,2.2200000000000002,2.2200000000000002,11574,1643,1292,826,4.5,66.8,8.1999999999999993,{"$error":"#N/A"},1.7,1.6,{"$error":"#N/A"},{"$error":"#N/A"},{"$error":"#N/A"},167.8,80.180000000000007,118328,91793,100385,{"$error":"#N/A"},{"$error":"#N/A"},83.403000000000006,{"$error":"#N/A"},{"$error":"#N/A"},{"$error":"#N/A"},{"$error":"#N/A"},{"$error":"#N/A"},{"$error":"#N/A"},{"$error":"#N/A"}]
[null,null,null,"1999-10-01",{"$error":"#N/A"},98.88,98.57,98.5,98.56,97.98,97.59,98.05,98.66,99.34,11.567629999999999,66.900000000000006,{"$error":"#N/A"},408,305,1.96,1.96,11940,1593,1250,872,4.2,66.8,7.9,{"$error":"#N/A"},1.7,1.6,{"$error":"#N/A"},{"$error":"#N/A"},{"$error":"#N/A"},168.1,80.546999999999997,118433,91896,100458,{"$error":"#N/A"},{"$error":"#N/A"},83.781999999999996,{"$error":"#N/A"},{"$error":"#N/A"},{"$error":"#N/A"},{"$error":"#N/A"},{"$error":"#N/A"},{"$error":"#N/A"},{"$error":"#N/A"}]
[null,null,null,"1999-11-01",{"$error":"#N/A"},99.2,99.2,98.5,99.03,98.89,98.4,98.68,99.41,99.78,11.567629999999999,66.900000000000006,{"$error":"#N/A"},408,305,1.96,1.96,11940,1596,1289,863,4.3,66.8,7.9,{"$error":"#N/A"},1.7,1.6,{"$error":"#N/A"},{"$error":"#N/A"},{"$error":"#N/A"},168.4,80.546999999999997,118577,91986,{"$f":"INDEX(INDIRECT(\"'\"&AM$7&\"'!B:B\"),MATCH($D534,INDIRECT(\"'\"&AM$7&\"'!A:A\")))","v":100573},{"$error":"#N/A"},{"$error":"#N/A"},83.781999999999996,{"$error":"#N/A"},{"$error":"#N/A"},{"$error":"#N/A"},{"$error":"#N/A"},{"$error":"#N/A"},{"$error":"#N/A"},{"$error":"#N/A"}]
[null,null,null,"1999-12-01",{"$error":"#N/A"},99.59,99.89,98.5,99.49,99.87,99.35,99.52,100.14,99.69,11.567629999999999,66.900000000000006,{"$error":"#N/A"},408,305,1.96,1.96,11940,1659,1309,873,4.3,66.8,7.9,{"$error":"#N/A"},1.7,1.6,{"$error":"#N/A"},{"$error":"#N/A"},{"$error":"#N/A"},168.8,80.546999999999997,118734,92052,100666,{"$error":"#N/A"},{"$error":"#N/A"},83.781999999999996,{"$error":"#N/A"},{"$error":"#N/A"},{"$error":"#N/A"},{"$error":"#N/A"},{"$error":"#N/A"},{"$error":"#N/A"},{"$error":"#N/A"}]
[null,null,null,"2000-01-01",100.59,100,100.56,100.78,100,100.75,100.34,100,100.56,100,11.51895,67.099999999999994,{"$error":"#N/A"},279,227,1.98,1.98,11640,1574,1262,873,4.3,67.400000000000006,7.9,{"$error":"#N/A"},1.6,1.6,{"$error":"#N/A"},{"$error":"#N/A"},{"$error":"#N/A"},169.3,81.162999999999997,120252,93203,102205,{"$error":"#N/A"},{"$error":"#N/A"},84.244,{"$error":"#N/A"},{"$error":"#N/A"},{"$error":"#N/A"},{"$error":"#N/A"},{"$error":"#N/A"},{"$error":"#N/A"},{"$error":"#N/A"}]
[null,null,null,"2000-02-01",101.69,100.57,101.34,100.78,100.43,101.89,101.24,100.21,101.41,100.33,11.51895,67.099999999999994,{"$error":"#N/A"},279,227,1.98,1.98,11640,1677,1326,856,4.3,67.400000000000006,7.9,{"$error":"#N/A"},1.6,1.6,{"$error":"#N/A"},{"$error":"#N/A"},{"$error":"#N/A"},170,81.162999999999997,120264,93256,102313,{"$error":"#N/A"},{"$error":"#N/A"},84.244,{"$error":"#N/A"},{"$error":"#N/A"},{"$error":"#N/A"},{"$error":"#N/A"},{"$error":"#N/A"},{"$error":"#N/A"},{"$error":"#N/A"}]
[null,null,null,"2000-03-01",102.78,101.47,102.13,100.78,101.42,103.15,102.06,100.74,102.43,100.9,11.51895,67.099999999999994,{"$error":"#N/A"},279,227,1.98,1.98,11640,1704,1312,900,4.3,67.400000000000006,7.9,{"$error":"#N/A"},1.6,1.6,{"$error":"#N/A"},{"$error":"#N/A"},{"$error":"#N/A"},171,81.162999999999997,120237,93332,102371,{"$error":"#N/A"},{"$error":"#N/A"},84.244,{"$error":"#N/A"},{"$error":"#N/A"},{"$error":"#N/A"},{"$error":"#N/A"},{"$error":"#N/A"},{"$error":"#N/A"},{"$error":"#N/A"}]
[null,null,null,"2000-04-01",104,102.54,102.92,103.42,102.13,104.53,103.13,101.83,103.41,101.2,11.68289,67.3,1031,311,222,2.0099999999999998,2.0099999999999998,12237,1610,1307,841,4.4000000000000004,67.400000000000006,8,116047,1.6,1.5,1031,102274,10341,170.9,81.623000000000005,120319,93540,102495,13773,1031,84.52,{"$error":"#N/A"},{"$error":"#N/A"},{"$error":"#N/A"},{"$error":"#N/A"},{"$error":"#N/A"},{"$error":"#N/A"},{"$error":"#N/A"}]
[null,null,null,"2000-05-01",105.25,103.7,103.68,103.42,102.98,106.01,104.92,102.81,104.39,101.93,11.68289,67.3,1031,311,222,2.0099999999999998,2.0099999999999998,12237,1682,1334,857,4.4000000000000004,67.400000000000006,8,116047,1.6,1.5,1031,102274,10341,171.2,{"$f":"INDEX(INDIRECT(\"'\"&AJ$7&\"'!B:B\"),MATCH($D540,INDIRECT(\"'\"&AJ$7&\"'!A:A\")))","v":81.623000000000005},120534,93685,102639,13773,1031,84.52,{"$error":"#N/A"},{"$error":"#N/A"},{"$error":"#N/A"},{"$error":"#N/A"},{"$error":"#N/A"},{"$error":"#N/A"},{"$error":"#N/A"}]
[null,null,null,"2000-06-01",106.4,104.86,104.42,103.42,103.89,107.34,106.06,103.49,105.51,102.44,11.68289,67.3,1031,311,222,2.0099999999999998,2.0099999999999998,12237,1530,1190,793,4.8,67.400000000000006,8,116047,1.6,1.5,1031,102274,10341,172.2,81.623000000000005,120546,93859,102737,13773,1031,84.52,{"$error":"#N/A"},{"$error":"#N/A"},{"$error":"#N/A"},{"$error":"#N/A"},{"$error":"#N/A"},{"$error":"#N/A"},{"$error":"#N/A"}]
[null,null,null,"2000-07-01",107.13,105.72,105.05,105.68,104.35,108.17,107.02,103.67,106.03,103.14,11.85891,67.5,1144,379,265,2.14,2.14,13750,1495,1187,887,4.0999999999999996,67.400000000000006,8.1999999999999993,116482,1.6,1.6,1144,102896,10290,172.7,82.152000000000001,120716,93967,102860,13586,1144,84.906000000000006,{"$error":"#N/A"},{"$error":"#N/A"},{"$error":"#N/A"},{"$error":"#N/A"},{"$error":"#N/A"},{"$error":"#N/A"},{"$error":"#N/A"}]
[null,null,null,"2000-08-01",107.86,106.52,105.77,105.68,104.92,109.07,108.02,104.37,106.42,103.73,11.85891,67.5,1144,379,265,2.14,2.14,13750,1573,1231,848,4.4000000000000004,67.400000000000006,8.1999999999999993,116482,1.6,1.6,1144,102896,10290,172.7,82.152000000000001,120847,94102,102966,13586,1144,84.906000000000006,{"$error":"#N/A"},{"$error":"#N/A"},{"$error":"#N/A"},{"$error":"#N/A"},{"$error":"#N/A"},{"$error":"#N/A"},{"$error":"#N/A"}]
[null,null,null,"2000-09-01",108.61,107.13,106.54,105.68,105.34,110.03,108.83,105.23,106.71,104.51,11.85891,67.5,1144,379,265,2.14,2.14,13750,1528,1175,912,4,67.400000000000006,8.1999999999999993,116482,1.6,1.6,1144,102896,10290,173.6,82.152000000000001,120843,94229,103090,13586,1144,84.906000000000006,{"$error":"#N/A"},{"$error":"#N/A"},{"$error":"#N/A"},{"$error":"#N/A"},{"$error":"#N/A"},{"$error":"#N/A"},{"$error":"#N/A"}]
[null,null,null,"2000-10-01",109.49,107.73,107.38,108.07,105.67,111.17,109.79,106.25,106.98,105.16,12.08849,67.5,1154,530,350,2.27,2.27,16233,1513,1176,933,4,67.400000000000006,7.8,116914,1.6,1.6,1154,103646,9910,173.9,82.593000000000004,121056,94351,103226,13268,1154,85.314999999999998,{"$error":"#N/A"},{"$error":"#N/A"},{"$error":"#N/A"},{"$error":"#N/A"},{"$error":"#N/A"},{"$error":"#N/A"},{"$error":"#N/A"}]
[null,null,null,"2000-11-01",110.57,108.29,108.3,108.07,105.93,112.5,110.64,107.56,107.47,105.34,12.08849,67.5,1154,530,350,2.27,2.27,16233,1539,1227,880,4.2,67.400000000000006,7.8,116914,1.6,1.6,1154,{"$f":"INDEX(INDIRECT(\"'\"&AG$7&\"'!B:B\"),MATCH($D546,INDIRECT(\"'\"&AG$7&\"'!A:A\")))","v":103646},9910,174.2,82.593000000000004,121072,94504,103184,13268,1154,85.314999999999998,{"$error":"#N/A"},{"$error":"#N/A"},{"$error":"#N/A"},{"$error":"#N/A"},{"$error":"#N/A"},{"$error":"#N/A"},{"$error":"#N/A"}]
[null,null,null,"2000-12-01",111.8,108.79,109.13,108.07,105.88,113.93,111.84,108.89,108.15,105.36,12.08849,67.5,1154,530,350,2.27,2.27,16233,1521,1227,983,3.6,67.400000000000006,7.8,116914,1.6,1.6,1154,103646,9910,174.6,82.593000000000004,121191,94468,103389,13268,1154,85.314999999999998,{"$error":"#N/A"},{"$error":"#N/A"},{"$error":"#N/A"},{"$error":"#N/A"},{"$error":"#N/A"},{"$error":"#N/A"},{"$error":"#N/A"}]
[null,null,null,"2001-01-01",113.05,109.22,109.85,110.1,105.93,115.43,112.94,110.28,108.92,105.23,12.19412,67.599999999999994,1104,464,288,2.29,2.29,15383,1456,1122,936,3.8,67.8,8.1999999999999993,117347,1.8,1.5,1104,103456,10458,175.6,83.111999999999995,121330,94506,103449,13891,1104,85.798000000000002,{"$error":"#N/A"},{"$error":"#N/A"},{"$error":"#N/A"},{"$error":"#N/A"},{"$error":"#N/A"},{"$error":"#N/A"},{"$error":"#N/A"}]
[null,null,null,"2001-02-01",114.13,109.64,110.51,110.1,106.27,116.69,114.25,110.76,109.52,105.39,12.19412,67.599999999999994,1104,464,288,2.29,2.29,15383,1536,1198,963,3.7,67.8,8.1999999999999993,117347,1.8,1.5,1104,103456,10458,176,83.111999999999995,121340,94616,103525,13891,1104,85.798000000000002,{"$error":"#N/A"},{"$error":"#N/A"},{"$error":"#N/A"},{"$error":"#N/A"},{"$error":"#N/A"},{"$error":"#N/A"},{"$error":"#N/A"}]
[null,null,null,"2001-03-01",115.09,110.4,111.11,110.1,107.05,117.72,115.31,111.94,110.36,106.21,12.19412,67.599999999999994,1104,464,288,2.29,2.29,15383,1470,1193,939,3.8,67.8,8.1999999999999993,117347,1.8,1.5,1104,103456,10458,176.1,83.111999999999995,121477,94717,103649,13891,1104,85.798000000000002,{"$error":"#N/A"},{"$error":"#N/A"},{"$error":"#N/A"},{"$error":"#N/A"},{"$error":"#N/A"},{"$error":"#N/A"},{"$error":"#N/A"}]
[null,null,null,"2001-04-01",115.84,111.25,111.65,112.36,107.85,118.5,116.36,113.32,111.29,107.4,12.405889999999999,67.900000000000006,1258,547,365,2.42,2.42,15995,1574,1242,909,3.9,67.8,8.3000000000000007,117786,1.8,1.8,1258,103411,10722,176.4,83.698999999999998,121555,94897,103764,14375,1258,86.132000000000005,{"$error":"#N/A"},{"$error":"#N/A"},{"$error":"#N/A"},{"$error":"#N/A"},{"$error":"#N/A"},{"$error":"#N/A"},{"$error":"#N/A"}]
[null,null,null,"2001-05-01",116.3,112.2,112.16,112.36,108.65,118.95,116.98,114.84,112.09,108.56,12.405889999999999,67.900000000000006,1258,547,365,2.42,2.42,15995,1497,1224,885,4,67.8,8.3000000000000007,117786,{"$f":"INDEX(INDIRECT(\"'\"&AD$7&\"'!B:B\"),MATCH($D552,INDIRECT(\"'\"&AD$7&\"'!A:A\")))","v":1.8},1.8,1258,103411,10722,177.3,83.698999999999998,121556,95054,103847,14375,1258,86.132000000000005,{"$error":"#N/A"},{"$error":"#N/A"},{"$error":"#N/A"},{"$error":"#N/A"},{"$error":"#N/A"},{"$error":"#N/A"},{"$error":"#N/A"}]
[null,null,null,"2001-06-01",116.9,113.27,112.8,112.36,109.19,119.5,118.08,115.97,113.22,109.76,12.405889999999999,67.900000000000006,1258,547,365,2.42,2.42,15995,1654,1283,882,4.2,67.8,8.3000000000000007,117786,1.8,1.8,1258,103411,10722,177.7,83.698999999999998,121579,95143,103947,14375,1258,86.132000000000005,{"$error":"#N/A"},{"$error":"#N/A"},{"$error":"#N/A"},{"$error":"#N/A"},{"$error":"#N/A"},{"$error":"#N/A"},{"$error":"#N/A"}]
[null,null,null,"2001-07-01",117.5,114.23,113.49,114.8,109.85,120.1,119.22,117.08,114.21,110.93,12.33667,67.900000000000006,1375,1289,1027,2.2400000000000002,2.2400000000000002,14519,1582,1273,880,4.2,67.8,8.4,118216,1.8,1.9,1375,104228,10578,177.4,83.972999999999999,121616,95259,104003,13988,1375,86.378,{"$error":"#N/A"},{"$error":"#N/A"},{"$error":"#N/A"},{"$error":"#N/A"},{"$error":"#N/A"},{"$error":"#N/A"},{"$error":"#N/A"}]
[null,null,null,"2001-08-01",118.24,114.99,114.17,114.8,110.36,120.95,120.59,118.3,115.25,111.74,12.33667,67.900000000000006,1375,1289,1027,2.2400000000000002,2.2400000000000002,14519,1615,1281,866,4.4000000000000004,67.8,8.4,118216,1.8,1.9,1375,104228,10578,177.4,83.972999999999999,121740,95381,104113,13988,1375,86.378,{"$error":"#N/A"},{"$error":"#N/A"},{"$error":"#N/A"},{"$error":"#N/A"},{"$error":"#N/A"},{"$error":"#N/A"},{"$error":"#N/A"}]
[null,null,null,"2001-09-01",119.03,115.47,114.81,114.8,110.75,121.95,121.98,119.67,116.1,112.54,12.33667,67.900000000000006,1375,1289,1027,2.2400000000000002,2.2400000000000002,14519,1551,1262,853,4.4000000000000004,67.8,8.4,118216,1.8,1.9,1375,104228,10578,178.1,83.972999999999999,121735,95503,104239,13988,1375,86.378,{"$error":"#N/A"},{"$error":"#N/A"},{"$error":"#N/A"},{"$error":"#N/A"},{"$error":"#N/A"},{"$error":"#N/A"},{"$error":"#N/A"}]
[null,null,null,"2001-10-01",119.69,115.68,115.31,116.38,111.2,122.81,123.09,121.32,116.52,112.73,12.63242,67.900000000000006,1315,984,506,2.23,2.23,16675,1599,1334,871,4.3,67.8,8.8000000000000007,118635,1.8,1.8,1315,104698,10609,177.6,84.227000000000004,121771,95609,104347,13937,1315,86.816999999999993,{"$error":"#N/A"},{"$error":"#N/A"},{"$error":"#N/A"},{"$error":"#N/A"},{"$error":"#N/A"},{"$error":"#N/A"},{"$error":"#N/A"}]
[null,null,null,"2001-11-01",120.27,115.84,115.86,116.38,111.31,123.62,124.4,122.89,116.8,113.3,12.63242,67.900000000000006,1315,984,506,2.23,2.23,16675,1555,1242,924,4.0999999999999996,{"$f":"INDEX(INDIRECT(\"'\"&AA$7&\"'!B:B\"),MATCH($D558,INDIRECT(\"'\"&AA$7&\"'!A:A\")))","v":67.8},8.8000000000000007,118635,1.8,1.8,1315,104698,10609,177.5,84.227000000000004,121769,95689,104422,13937,1315,86.816999999999993,{"$error":"#N/A"},{"$error":"#N/A"},{"$error":"#N/A"},{"$error":"#N/A"},{"$error":"#N/A"},{"$error":"#N/A"},{"$error":"#N/A"}]
[null,null,null,"2001-12-01",120.67,116.06,116.45,116.38,111.57,124.02,124.57,124.02,117.09,113.32,12.63242,67.900000000000006,1315,984,506,2.23,2.23,16675,1693,1351,979,3.8,67.8,8.8000000000000007,118635,1.8,1.8,1315,104698,10609,177.4,84.227000000000004,121779,95794,104490,13937,1315,86.816999999999993,{"$error":"#N/A"},{"$error":"#N/A"},{"$error":"#N/A"},{"$error":"#N/A"},{"$error":"#N/A"},{"$error":"#N/A"},{"$error":"#N/A"}]
[null,null,null,"2002-01-01",121.36,116.44,117.15,118.87,111.61,124.83,125.38,124.52,117.51,113.7,12.404999999999999,67.900000000000006,1200,679,359,2.23,2.23,15595,1632,1324,880,4.2,67.900000000000006,9.1,119061,1.7,1.7,1200,104719,10787,177.7,84.497,121880,95875,104553,14342,1200,87.064999999999998,{"$error":"#N/A"},{"$error":"#N/A"},{"$error":"#N/A"},{"$error":"#N/A"},{"$error":"#N/A"},{"$error":"#N/A"},{"$error":"#N/A"}]
[null,null,null,"2002-02-01",122.19,116.92,117.85,118.87,112.05,125.76,126.1,125.06,118.12,113.96,12.404999999999999,67.900000000000006,1200,679,359,2.23,2.23,15595,1671,1370,948,4,67.900000000000006,9.1,119061,1.7,1.7,1200,104719,10787,178,84.497,121814,95929,104668,14342,1200,87.064999999999998,{"$error":"#N/A"},{"$error":"#N/A"},{"$error":"#N/A"},{"$error":"#N/A"},{"$error":"#N/A"},{"$error":"#N/A"},{"$error":"#N/A"}]
[null,null,null,"2002-03-01",123.32,117.93,118.69,118.87,112.63,127.04,127.32,126.35,118.72,114.32,12.404999999999999,67.900000000000006,1200,679,359,2.23,2.23,15595,1559,1324,923,4.0999999999999996,67.900000000000006,9.1,119061,1.7,1.7,1200,104719,10787,178.5,84.497,121912,95999,104752,14342,1200,87.064999999999998,{"$error":"#N/A"},{"$error":"#N/A"},{"$error":"#N/A"},{"$error":"#N/A"},{"$error":"#N/A"},{"$error":"#N/A"},{"$error":"#N/A"}]
[null,null,null,"2002-04-01",124.51,119.21,119.61,121.93,113.34,128.54,128.69,127.84,119.63,114.72,12.34422,67.8,1229,650,396,2.16,2.16,15604,1625,1258,936,4.3,67.900000000000006,8.4,119483,1.7,1.7,1229,105276,10659,179.3,84.811999999999998,121913,96116,104871,14207,1229,87.573999999999998,{"$error":"#N/A"},{"$error":"#N/A"},{"$error":"#N/A"},{"$error":"#N/A"},{"$error":"#N/A"},{"$error":"#N/A"},{"$error":"#N/A"}]
[null,null,null,"2002-05-01",125.93,120.79,120.73,121.93,114.05,130.34,130.49,129.83000000000001,120.34,115.63,12.34422,67.8,1229,650,396,2.16,2.16,15604,1705,{"$f":"INDEX(INDIRECT(\"'\"&X$7&\"'!B:B\"),MATCH($D564,INDIRECT(\"'\"&X$7&\"'!A:A\")))","v":1359},978,4,67.900000000000006,8.4,119483,1.7,1.7,1229,105276,10659,179.5,84.811999999999998,121988,96205,104977,14207,1229,87.573999999999998,{"$error":"#N/A"},{"$error":"#N/A"},{"$error":"#N/A"},{"$error":"#N/A"},{"$error":"#N/A"},{"$error":"#N/A"},{"$error":"#N/A"}]
[null,null,null,"2002-06-01",127.39,122.33,121.81,121.93,114.83,132.22,132.5,131.59,121.05,116.7,12.34422,67.8,1229,650,396,2.16,2.16,15604,1589,1281,957,4.2,67.900000000000006,8.4,119483,1.7,1.7,1229,105276,10659,179.6,84.811999999999998,122114,96375,105089,14207,1229,87.573999999999998,{"$error":"#N/A"},{"$error":"#N/A"},{"$error":"#N/A"},{"$error":"#N/A"},{"$error":"#N/A"},{"$error":"#N/A"},{"$error":"#N/A"}]
[null,null,null,"2002-07-01",128.88,123.69,122.89,125.38,115.41,134.1,134.85,133.38999999999999,121.86,117.61,12.388450000000001,67.900000000000006,1218,706,388,2.11,2.11,16797,1615,1275,956,4.2,67.900000000000006,9,119909,1.7,1.7,1218,105527,10747,180,85.19,122103,96468,105190,14383,1218,88.027000000000001,{"$error":"#N/A"},{"$error":"#N/A"},{"$error":"#N/A"},{"$error":"#N/A"},{"$error":"#N/A"},{"$error":"#N/A"},{"$error":"#N/A"}]
[null,null,null,"2002-08-01",130.30000000000001,124.73,123.83,125.38,115.9,135.94999999999999,137,134.91,122.64,118.34,12.388450000000001,67.900000000000006,1218,706,388,2.11,2.11,16797,1722,1339,1014,4,67.900000000000006,9,119909,1.7,1.7,1218,105527,10747,180.5,85.19,122201,96552,105334,14383,1218,88.027000000000001,{"$error":"#N/A"},{"$error":"#N/A"},{"$error":"#N/A"},{"$error":"#N/A"},{"$error":"#N/A"},{"$error":"#N/A"},{"$error":"#N/A"}]
[null,null,null,"2002-09-01",131.53,125.49,124.78,125.38,116.14,137.61000000000001,138.83000000000001,136.76,123.48,118.91,12.388450000000001,67.900000000000006,1218,706,388,2.11,2.11,16797,1641,1331,1044,3.9,67.900000000000006,9,119909,1.7,1.7,1218,105527,10747,180.8,85.19,122234,96732,105421,14383,1218,88.027000000000001,{"$error":"#N/A"},{"$error":"#N/A"},{"$error":"#N/A"},{"$error":"#N/A"},{"$error":"#N/A"},{"$error":"#N/A"},{"$error":"#N/A"}]
[null,null,null,"2002-10-01",132.85,126.14,125.73,128.72,116.42,139.37,140.80000000000001,138.62,124.35,119.98,12.37279,68.2,1249,899,449,1.96,1.96,18436,1601,1286,1006,4,67.900000000000006,9.3000000000000007,120350,1.7,1.7,1249,105759,11035,181.2,85.650999999999996,122213,96860,105509,14591,1249,88.332999999999998,{"$error":"#N/A"},{"$error":"#N/A"},{"$error":"#N/A"},{"$error":"#N/A"},{"$error":"#N/A"},{"$error":"#N/A"},{"$error":"#N/A"}]
[null,null,null,"2002-11-01",134.1,126.64,126.67,128.72,116.59,141.01,142.84,140.09,125.32,120.93,12.37279,68.2,1249,899,449,1.96,{"$f":"INDEX(INDIRECT(\"'\"&U$7&\"'!B:B\"),MATCH($D570,INDIRECT(\"'\"&U$7&\"'!A:A\")))","v":1.96},18436,1718,1401,1024,4,67.900000000000006,9.3000000000000007,120350,1.7,1.7,1249,105759,11035,181.5,85.650999999999996,122264,97022,105594,14591,1249,88.332999999999998,{"$error":"#N/A"},{"$error":"#N/A"},{"$error":"#N/A"},{"$error":"#N/A"},{"$error":"#N/A"},{"$error":"#N/A"},{"$error":"#N/A"}]
[null,null,null,"2002-12-01",135.41,127.15,127.62,128.72,116.7,142.57,144.91,141.97999999999999,126.37,121.73,12.37279,68.2,1249,899,449,1.96,1.96,18436,1671,1349,1048,4,67.900000000000006,9.3000000000000007,120350,1.7,1.7,1249,105759,11035,181.8,85.650999999999996,122284,97139,105678,14591,1249,88.332999999999998,{"$error":"#N/A"},{"$error":"#N/A"},{"$error":"#N/A"},{"$error":"#N/A"},{"$error":"#N/A"},{"$error":"#N/A"},{"$error":"#N/A"}]
[null,null,null,"2003-01-01",136.47,127.65,128.46,131.44,117.1,143.86000000000001,146.63999999999999,143.78,127.22,121.94,12.366630000000001,68.099999999999994,1248,631,412,1.98,1.98,17061,1654,1317,999,4,68.3,9.4,120792,1.8,1.7,1248,105884,11370,182.6,86.179000000000002,122930,97635,106235,14908,1248,88.548000000000002,{"$error":"#N/A"},{"$error":"#N/A"},{"$error":"#N/A"},{"$error":"#N/A"},{"$error":"#N/A"},{"$error":"#N/A"},{"$error":"#N/A"}]
[null,null,null,"2003-02-01",137.46,128.33000000000001,129.36000000000001,131.44,117.72,145.04,147.94,145.46,128.21,122.46,12.366630000000001,68.099999999999994,1248,631,412,1.98,1.98,17061,1688,1342,936,4.5,68.3,9.4,120792,1.8,1.7,1248,105884,11370,183.6,86.179000000000002,123006,97762,106322,14908,1248,88.548000000000002,{"$error":"#N/A"},{"$error":"#N/A"},{"$error":"#N/A"},{"$error":"#N/A"},{"$error":"#N/A"},{"$error":"#N/A"},{"$error":"#N/A"}]
[null,null,null,"2003-03-01",138.38999999999999,129.31,130.15,131.44,118.75,146.13999999999999,149.22,147.09,129.49,122.94,12.366630000000001,68.099999999999994,1248,631,412,1.98,1.98,17061,1638,1305,999,4.0999999999999996,68.3,9.4,120792,1.8,1.7,1248,105884,11370,183.9,86.179000000000002,123046,97869,106411,14908,1248,88.548000000000002,{"$error":"#N/A"},{"$error":"#N/A"},{"$error":"#N/A"},{"$error":"#N/A"},{"$error":"#N/A"},{"$error":"#N/A"},{"$error":"#N/A"}]
[null,null,null,"2003-04-01",139.24,130.49,130.88999999999999,133.9,119.37,147.13999999999999,150.34,148.36000000000001,129.78,124.46,12.27209,68.2,1256,783,446,1.83,1.83,16426,1662,1350,1012,4.0999999999999996,68.3,9.6,121233,1.8,1.7,1256,105989,11663,183.2,86.454999999999998,123125,97979,106510,15244,1256,88.869,{"$error":"#N/A"},{"$error":"#N/A"},{"$error":"#N/A"},{"$error":"#N/A"},{"$error":"#N/A"},{"$error":"#N/A"},{"$error":"#N/A"}]
[null,null,null,"2003-05-01",140.15,131.84,131.74,133.9,120,148.19,151.49,149.75,130.53,125.68,12.27209,68.2,1256,{"$f":"INDEX(INDIRECT(\"'\"&R$7&\"'!B:B\"),MATCH($D576,INDIRECT(\"'\"&R$7&\"'!A:A\")))","v":783},446,1.83,1.83,16426,1733,1390,1078,3.9,68.3,9.6,121233,1.8,1.7,1256,105989,11663,182.9,86.454999999999998,123172,98083,106613,15244,1256,88.869,{"$error":"#N/A"},{"$error":"#N/A"},{"$error":"#N/A"},{"$error":"#N/A"},{"$error":"#N/A"},{"$error":"#N/A"},{"$error":"#N/A"}]
[null,null,null,"2003-06-01",140.91999999999999,133.22999999999999,132.65,133.9,120.79,149.13,152.25,150.66999999999999,131.02000000000001,127.38,12.27209,68.2,1256,783,446,1.83,1.83,16426,1641,1354,1193,3.5,68.3,9.6,121233,1.8,1.7,1256,105989,11663,183.1,86.454999999999998,123231,98196,106724,15244,1256,88.869,{"$error":"#N/A"},{"$error":"#N/A"},{"$error":"#N/A"},{"$error":"#N/A"},{"$error":"#N/A"},{"$error":"#N/A"},{"$error":"#N/A"}]
[null,null,null,"2003-07-01",142.12,134.65,133.78,137.57,121.79,150.63999999999999,153.29,152.65,131.69999999999999,129.30000000000001,12.129849999999999,68.3,1419,750,396,1.73,1.73,16262,1680,1424,1168,3.6,68.3,9.9,121682,1.8,1.9,1419,106068,11859,183.7,86.933999999999997,123317,98304,106839,15614,1419,89.228999999999999,{"$error":"#N/A"},{"$error":"#N/A"},{"$error":"#N/A"},{"$error":"#N/A"},{"$error":"#N/A"},{"$error":"#N/A"},{"$error":"#N/A"}]
[null,null,null,"2003-08-01",143.53,135.97,134.97,137.57,122.89,152.43,154.49,155.07,132.19999999999999,131.85,12.129849999999999,68.3,1419,750,396,1.73,1.73,16262,1570,1329,1206,3.5,68.3,9.9,121682,1.8,1.9,1419,106068,11859,184.5,86.933999999999997,123379,98434,106957,15614,1419,89.228999999999999,{"$error":"#N/A"},{"$error":"#N/A"},{"$error":"#N/A"},{"$error":"#N/A"},{"$error":"#N/A"},{"$error":"#N/A"},{"$error":"#N/A"}]
[null,null,null,"2003-09-01",145.26,137.08000000000001,136.30000000000001,137.57,123.82,154.66,156.36000000000001,157.28,133.29,134.16,12.129849999999999,68.3,1419,750,396,1.73,1.73,16262,1719,1413,1131,3.8,68.3,9.9,121682,1.8,1.9,1419,106068,11859,185.1,86.933999999999997,123469,98568,107080,15614,1419,89.228999999999999,{"$error":"#N/A"},{"$error":"#N/A"},{"$error":"#N/A"},{"$error":"#N/A"},{"$error":"#N/A"},{"$error":"#N/A"},{"$error":"#N/A"}]
[null,null,null,"2003-10-01",146.99,137.97999999999999,137.53,142.43,124.75,156.81,157.97999999999999,159.59,134.44999999999999,136.77000000000001,12.1942,68.5,1339,1453,1106,1.78,1.78,18737,1728,1479,1144,3.8,68.3,10.199999999999999,122159,1.8,1.8,1339,106505,11882,184.9,87.346000000000004,123523,98696,107197,15654,1339,89.540999999999997,{"$error":"#N/A"},{"$error":"#N/A"},{"$error":"#N/A"},{"$error":"#N/A"},{"$error":"#N/A"},{"$error":"#N/A"},{"$error":"#N/A"}]
[null,null,null,"2003-11-01",148.82,138.77000000000001,138.80000000000001,142.43,125.53,159.16999999999999,160.01,161.11000000000001,135.65,139.16,{"$f":"INDEX(INDIRECT(\"'\"&O$7&\"'!B:B\"),MATCH($D582,INDIRECT(\"'\"&O$7&\"'!A:A\")))","v":12.1942},68.5,1339,1453,1106,1.78,1.78,18737,1692,1439,1093,4.0999999999999996,68.3,10.199999999999999,122159,1.8,1.8,1339,106505,11882,185,87.346000000000004,123595,98814,107303,15654,1339,89.540999999999997,{"$error":"#N/A"},{"$error":"#N/A"},{"$error":"#N/A"},{"$error":"#N/A"},{"$error":"#N/A"},{"$error":"#N/A"},{"$error":"#N/A"}]
[null,null,null,"2003-12-01",150.76,139.63,140.18,142.43,126.33,161.65,161.88999999999999,162.93,137.04,142.69,12.1942,68.5,1339,1453,1106,1.78,1.78,18737,1716,1434,1129,4,68.3,10.199999999999999,122159,1.8,1.8,1339,106505,11882,185.5,87.346000000000004,123676,98927,107404,15654,1339,89.540999999999997,{"$error":"#N/A"},{"$error":"#N/A"},{"$error":"#N/A"},{"$error":"#N/A"},{"$error":"#N/A"},{"$error":"#N/A"},{"$error":"#N/A"}]
[null,null,null,"2004-01-01",152.63,140.71,141.65,147.38999999999999,126.61,164.01,163.63999999999999,164.82,138.03,145.94999999999999,12.16465,68.7,1283,553,391,1.65,1.65,16271,1709,1434,1165,3.8,69,10.4,122632,1.7,1.7,1283,106738,12168,186.3,88.108000000000004,123095,98866,107131,15895,1283,90.025999999999996,{"$error":"#N/A"},{"$error":"#N/A"},{"$error":"#N/A"},{"$error":"#N/A"},{"$error":"#N/A"},{"$error":"#N/A"},{"$error":"#N/A"}]
[null,null,null,"2004-02-01",{"$f":"INDEX(INDIRECT(\"'\"&E$7&\"'!B:B\"),MATCH($D585,INDIRECT(\"'\"&E$7&\"'!A:A\")))","v":154.54},142.04,143.19999999999999,147.38999999999999,127.28,166.42,165.45,166.65,138.76,149.93,12.16465,68.7,1283,553,391,1.65,1.65,16271,1718,1447,1159,3.7,69,10.4,122632,1.7,1.7,1283,106738,12168,186.7,88.108000000000004,123150,98966,107216,15895,1283,90.025999999999996,{"$error":"#N/A"},{"$error":"#N/A"},{"$error":"#N/A"},{"$error":"#N/A"},{"$error":"#N/A"},{"$error":"#N/A"},{"$error":"#N/A"}]
[null,null,null,{"$f":"EOMONTH(D585,$E$1)+1","v":"2004-03-01"},156.94999999999999,144.09,145.06,147.38999999999999,128.5,169.5,167.48,170,139.61000000000001,157.87,12.16465,68.7,1283,553,391,1.65,1.65,16271,1794,1491,1276,3.6,69,10.4,122632,1.7,1.7,1283,106738,12168,187.1,88.108000000000004,123208,99065,107299,15895,1283,90.025999999999996,{"$error":"#N/A"},{"$error":"#N/A"},{"$error":"#N/A"},{"$error":"#N/A"},{"$error":"#N/A"},{"$error":"#N/A"},{"$error":"#N/A"}]
[null,null,null,"2004-04-01",159.34,146.18,146.59,152.61000000000001,130.1,172.47,169.16,172.61,140.16999999999999,166.32,12.10491,69.400000000000006,1272,518,336,1.6,1.6,16404,1938,1645,1186,4,69,10.199999999999999,123099,1.7,1.7,1272,107020,12055,187.4,88.875,123262,99170,107389,16079,1272,90.572000000000003,{"$error":"#N/A"},{"$error":"#N/A"},{"$error":"#N/A"},{"$error":"#N/A"},{"$error":"#N/A"},{"$error":"#N/A"},{"$error":"#N/A"}]
[null,null,null,"2004-05-01",161.75,148.34,148.19,152.61000000000001,131.94999999999999,175.54,171.15,176.4,141.47,174.98,12.10491,69.400000000000006,1272,518,336,1.6,1.6,16404,1893,1505,1241,{"$f":"INDEX(INDIRECT(\"'\"&Z$7&\"'!B:B\"),MATCH($D588,INDIRECT(\"'\"&Z$7&\"'!A:A\")))","v":3.8},69,10.199999999999999,123099,1.7,1.7,1272,107020,12055,188.2,88.875,123301,99279,107483,16079,1272,90.572000000000003,{"$error":"#N/A"},{"$error":"#N/A"},{"$error":"#N/A"},{"$error":"#N/A"},{"$error":"#N/A"},{"$error":"#N/A"},{"$error":"#N/A"}]
[null,null,null,"2004-06-01",164.31,150.52000000000001,149.85,152.61000000000001,134,178.84,173.35,179.64,142.31,185.55,12.10491,69.400000000000006,1272,518,336,1.6,1.6,16404,1857,1521,1180,3.9,69,10.199999999999999,123099,1.7,1.7,1272,107020,12055,188.9,88.875,123373,99396,107586,16079,1272,90.572000000000003,{"$error":"#N/A"},{"$error":"#N/A"},{"$error":"#N/A"},{"$error":"#N/A"},{"$error":"#N/A"},{"$error":"#N/A"},{"$error":"#N/A"}]
[null,null,null,"2004-07-01",166.39,152.34,151.34,157.43,136.41999999999999,181.53,175.65,183.12,143.22999999999999,195.03,12.22308,68.900000000000006,1333,482,301,1.58,1.58,17265,1881,1546,1088,4.5,69,10.1,123587,1.7,1.7,1333,107932,11966,189.1,89.421999999999997,123426,99512,107687,15656,1333,90.989000000000004,{"$error":"#N/A"},{"$error":"#N/A"},{"$error":"#N/A"},{"$error":"#N/A"},{"$error":"#N/A"},{"$error":"#N/A"},{"$error":"#N/A"}]
[null,null,null,"2004-08-01",168.04,153.82,152.63999999999999,157.43,138.66,183.5,177.28,186.78,143.85,201.71,12.22308,68.900000000000006,1333,482,301,1.58,1.58,17265,1911,1554,1175,4.3,69,10.1,123587,1.7,1.7,1333,107932,11966,189.2,89.421999999999997,123496,99642,107801,15656,1333,90.989000000000004,{"$error":"#N/A"},{"$error":"#N/A"},{"$error":"#N/A"},{"$error":"#N/A"},{"$error":"#N/A"},{"$error":"#N/A"},{"$error":"#N/A"}]
[null,null,null,"2004-09-01",169.66,155.11000000000001,154.18,157.43,141.63999999999999,185.52,179.12,190.68,145.18,205.49,12.22308,68.900000000000006,1333,482,301,1.58,1.58,17265,1796,1533,1214,4.0999999999999996,69,10.1,123587,1.7,1.7,1333,107932,11966,189.8,89.421999999999997,123564,99776,107920,15656,1333,90.989000000000004,{"$error":"#N/A"},{"$error":"#N/A"},{"$error":"#N/A"},{"$error":"#N/A"},{"$error":"#N/A"},{"$error":"#N/A"},{"$error":"#N/A"}]
[null,null,null,"2004-10-01",171.29,156.30000000000001,155.75,163.16999999999999,145.07,187.44,181.12,194.29,146.16999999999999,207.07,12.2262,69,1389,639,376,1.39,1.39,17166,1839,1539,1305,3.9,69,10,124096,1.7,1.8,1389,108735,11804,190.8,90.049000000000007,123607,99904,108032,15361,1389,91.415000000000006,{"$error":"#N/A"},{"$error":"#N/A"},{"$error":"#N/A"},{"$error":"#N/A"},{"$error":"#N/A"},{"$error":"#N/A"},{"$error":"#N/A"}]
[null,null,null,"2004-11-01",173.08,157.5,157.52000000000001,163.16999999999999,148.59,189.49,182.92,197.64,147.25,207.48,12.2262,69,1389,639,376,1.39,1.39,17166,{"$f":"INDEX(INDIRECT(\"'\"&W$7&\"'!B:B\"),MATCH($D594,INDIRECT(\"'\"&W$7&\"'!A:A\")))","v":1758},1464,1179,4.3,69,10,124096,1.7,1.8,1389,108735,11804,191.7,90.049000000000007,123686,100017,108129,15361,1389,91.415000000000006,{"$error":"#N/A"},{"$error":"#N/A"},{"$error":"#N/A"},{"$error":"#N/A"},{"$error":"#N/A"},{"$error":"#N/A"},{"$error":"#N/A"}]
[null,null,null,"2004-12-01",175.08,158.66999999999999,159.33000000000001,163.16999999999999,152.38,191.76,184.59,201.37,148.59,207.62,12.2262,69,1389,639,376,1.39,1.39,17166,1921,1655,1242,4.0999999999999996,69,10,124096,1.7,1.8,1389,108735,11804,191.7,90.049000000000007,123751,100126,108221,15361,1389,91.415000000000006,{"$error":"#N/A"},{"$error":"#N/A"},{"$error":"#N/A"},{"$error":"#N/A"},{"$error":"#N/A"},{"$error":"#N/A"},{"$error":"#N/A"}]
[null,null,null,"2005-01-01",177.55,160.13999999999999,161.29,170.77,155.49,194.63,187.17,205.42,150.04,207.35,12.530239999999999,69.2,1401,399,284,1.43,1.43,16551,1892,1589,1203,4.4000000000000004,68.900000000000006,10.1,124611,1.9,1.8,1401,108863,12110,191.6,90.882999999999996,123764,100219,108316,15748,1401,91.998999999999995,{"$error":"#N/A"},{"$error":"#N/A"},{"$error":"#N/A"},{"$error":"#N/A"},{"$error":"#N/A"},{"$error":"#N/A"},{"$error":"#N/A"}]
[null,null,null,"2005-02-01",180.26,161.93,163.36000000000001,170.77,160,197.78,189.79,209.67,151.83000000000001,209.31,12.530239999999999,69.2,1401,399,284,1.43,1.43,16551,1908,1608,1319,4.3,68.900000000000006,10.1,124611,1.9,1.8,1401,108863,12110,192.4,90.882999999999996,123813,100321,108403,15748,1401,91.998999999999995,{"$error":"#N/A"},{"$error":"#N/A"},{"$error":"#N/A"},{"$error":"#N/A"},{"$error":"#N/A"},{"$error":"#N/A"},{"$error":"#N/A"}]
[null,null,null,"2005-03-01",183.26,164.58,165.81,170.77,165.96,201.31,193.19,215.44,154,210.98,12.530239999999999,69.2,1401,399,284,1.43,1.43,16551,1787,1524,1328,4.0999999999999996,68.900000000000006,10.1,124611,1.9,1.8,1401,108863,12110,193.1,90.882999999999996,123877,100419,108486,15748,1401,91.998999999999995,{"$error":"#N/A"},{"$error":"#N/A"},{"$error":"#N/A"},{"$error":"#N/A"},{"$error":"#N/A"},{"$error":"#N/A"},{"$error":"#N/A"}]
[null,null,null,"2005-04-01",185.5,167,167.5,176.33,173.08,203.81,195.21,221.42,154.6,214.52,12.53509,68.8,1384,406,261,1.55,1.55,18597,1927,1626,1260,4.3,68.900000000000006,9.8000000000000007,125118,1.9,1.8,1384,109057,12107,193.7,91.543000000000006,123941,100520,108573,16061,1384,92.489000000000004,{"$error":"#N/A"},{"$error":"#N/A"},{"$error":"#N/A"},{"$error":"#N/A"},{"$error":"#N/A"},{"$error":"#N/A"},{"$error":"#N/A"}]
[null,null,null,"2005-05-01",187.55,169.54,169.35,176.33,180.16,206.08,196.74,227.1,155.27000000000001,217.28,12.53509,68.8,1384,406,261,{"$f":"INDEX(INDIRECT(\"'\"&T$7&\"'!B:B\"),MATCH($D600,INDIRECT(\"'\"&T$7&\"'!A:A\")))","v":1.55},1.55,18597,2103,1750,1286,4.2,68.900000000000006,9.8000000000000007,125118,1.9,1.8,1384,109057,12107,193.6,91.543000000000006,124017,100634,108672,16061,1384,92.489000000000004,{"$error":"#N/A"},{"$error":"#N/A"},{"$error":"#N/A"},{"$error":"#N/A"},{"$error":"#N/A"},{"$error":"#N/A"},{"$error":"#N/A"}]
[null,null,null,"2005-06-01",189.53,172.01,171.19,176.33,188.96,208.22,198.2,233.42,156.06,219.87,12.53509,68.8,1384,406,261,1.55,1.55,18597,1965,1679,1274,4.3,68.900000000000006,9.8000000000000007,125118,1.9,1.8,1384,109057,12107,193.7,91.543000000000006,124121,100754,108776,16061,1384,92.489000000000004,{"$error":"#N/A"},{"$error":"#N/A"},{"$error":"#N/A"},{"$error":"#N/A"},{"$error":"#N/A"},{"$error":"#N/A"},{"$error":"#N/A"}]
[null,null,null,"2005-07-01",191.38,174.1,172.86,181.47,197.15,210.28,199.81,238.98,156.61000000000001,221.93,12.56053,68.7,1500,453,290,1.57,1.57,20297,1886,1639,1389,4.2,68.900000000000006,9.9,125619,1.9,1.9,1500,109736,12003,194.9,92.399000000000001,124194,100874,108880,15883,1500,92.873999999999995,{"$error":"#N/A"},{"$error":"#N/A"},{"$error":"#N/A"},{"$error":"#N/A"},{"$error":"#N/A"},{"$error":"#N/A"},{"$error":"#N/A"}]
[null,null,null,"2005-08-01",193.31,175.92,174.45,181.47,204.94,212.27,201.49,245.24,156.56,224.51,12.56053,68.7,1500,453,290,1.57,1.57,20297,1952,1649,1255,4.5,68.900000000000006,9.9,125619,1.9,1.9,1500,109736,12003,196.1,92.399000000000001,124270,101004,108996,15883,1500,92.873999999999995,{"$error":"#N/A"},{"$error":"#N/A"},{"$error":"#N/A"},{"$error":"#N/A"},{"$error":"#N/A"},{"$error":"#N/A"},{"$error":"#N/A"}]
[null,null,null,"2005-09-01",195.62,177.61,176.44,181.47,211.45,214.97,204.07,251.21,157.97,226.59,12.56053,68.7,1500,453,290,1.57,1.57,20297,1922,1631,1244,4.7,68.900000000000006,9.9,125619,1.9,1.9,1500,109736,12003,198.8,92.399000000000001,124382,101136,109114,15883,1500,92.873999999999995,{"$error":"#N/A"},{"$error":"#N/A"},{"$error":"#N/A"},{"$error":"#N/A"},{"$error":"#N/A"},{"$error":"#N/A"},{"$error":"#N/A"}]
[null,null,null,"2005-10-01",197.87,178.76,178.03,187.06,215.95,217.45,206.67,256.99,159.15,227.81,12.585279999999999,68.900000000000006,1585,505,350,1.64,1.64,23991,1962,1618,1336,4.5,68.900000000000006,9.6,126104,1.9,2,1585,110281,12012,199.1,93.1,124472,101265,109228,15823,1585,93.480999999999995,{"$error":"#N/A"},{"$error":"#N/A"},{"$error":"#N/A"},{"$error":"#N/A"},{"$error":"#N/A"},{"$error":"#N/A"},{"$error":"#N/A"}]
[null,null,null,"2005-11-01",200.13,179.68,179.68,187.06,219.12,219.93,209.31,261,161.32,228.77,12.585279999999999,68.900000000000006,{"$f":"INDEX(INDIRECT(\"'\"&Q$7&\"'!B:B\"),MATCH($D606,INDIRECT(\"'\"&Q$7&\"'!A:A\")))","v":1585},505,350,1.64,1.64,23991,1907,1633,1214,5,68.900000000000006,9.6,126104,1.9,2,1585,110281,12012,198.1,93.1,124582,101383,109332,15823,1585,93.480999999999995,{"$error":"#N/A"},{"$error":"#N/A"},{"$error":"#N/A"},{"$error":"#N/A"},{"$error":"#N/A"},{"$error":"#N/A"},{"$error":"#N/A"}]
[null,null,null,"2005-12-01",202.16,180.12,180.91,187.06,220.75,222.17,212.04,264.83,162.68,229.42,12.585279999999999,68.900000000000006,1585,505,350,1.64,1.64,23991,1941,1662,1239,4.9000000000000004,68.900000000000006,9.6,126104,1.9,2,1585,110281,12012,198.1,93.1,124671,101489,109425,15823,1585,93.480999999999995,{"$error":"#N/A"},{"$error":"#N/A"},{"$error":"#N/A"},{"$error":"#N/A"},{"$error":"#N/A"},{"$error":"#N/A"},{"$error":"#N/A"}]
[null,null,null,"2006-01-01",203.77,180.83,182.33,190.99,221.81,223.93,213.5,268.25,164.44,230.48,12.572900000000001,68.599999999999994,1593,453,364,1.6,1.6,21179,2036,1663,1174,5.3,68.8,9.5,126584,2.4,2.1,1593,110350,12288,199.3,93.831999999999994,124579,101560,109478,16234,1593,93.956999999999994,{"$error":"#N/A"},{"$error":"#N/A"},{"$error":"#N/A"},{"$error":"#N/A"},{"$error":"#N/A"},{"$error":"#N/A"},{"$error":"#N/A"}]
[null,null,null,"2006-02-01",205.37,181.51,183.32,190.99,222.65,225.64,215.04,271.68,165.92,231.94,12.572900000000001,68.599999999999994,1593,453,364,1.6,1.6,21179,2048,1742,1061,6.1,68.8,9.5,126584,2.4,2.1,1593,110350,12288,199.4,93.831999999999994,124637,101657,109562,16234,1593,93.956999999999994,{"$error":"#N/A"},{"$error":"#N/A"},{"$error":"#N/A"},{"$error":"#N/A"},{"$error":"#N/A"},{"$error":"#N/A"},{"$error":"#N/A"}]
[null,null,null,"2006-03-01",206.32,182.76,184.37,190.99,223.53,226.54,215.72,274.02,168.03,232.38,12.572900000000001,68.599999999999994,1593,453,364,1.6,1.6,21179,2245,1911,1116,5.9,68.8,9.5,126584,2.4,2.1,1593,110350,12288,199.7,93.831999999999994,124661,101754,109646,16234,1593,93.956999999999994,{"$error":"#N/A"},{"$error":"#N/A"},{"$error":"#N/A"},{"$error":"#N/A"},{"$error":"#N/A"},{"$error":"#N/A"},{"$error":"#N/A"}]
[null,null,null,"2006-04-01",206.61,183.66,184.34,189.46,225.12,226.87,216.53,276.37,167.62,233.78,12.668010000000001,68.8,1746,485,341,1.62,1.62,21690,2071,1737,1123,6.3,68.8,9.6,127072,2.4,2.2000000000000002,1746,110560,12498,200.7,94.587000000000003,124711,101857,109736,16513,1746,94.59,{"$error":"#N/A"},{"$error":"#N/A"},{"$error":"#N/A"},{"$error":"#N/A"},{"$error":"#N/A"},{"$error":"#N/A"},{"$error":"#N/A"}]
[null,null,null,"2006-05-01",206.49,184.39,184.17,189.46,226.51,226.64,216.62,278.68,167.72,{"$f":"INDEX(INDIRECT(\"'\"&N$7&\"'!B:B\"),MATCH($D612,INDIRECT(\"'\"&N$7&\"'!A:A\")))","v":234.39},12.668010000000001,68.8,1746,485,341,1.62,1.62,21690,1897,1609,1086,6.2,68.8,9.6,127072,2.4,2.2000000000000002,1746,110560,12498,201.3,94.587000000000003,124756,101963,109829,16513,1746,94.59,{"$error":"#N/A"},{"$error":"#N/A"},{"$error":"#N/A"},{"$error":"#N/A"},{"$error":"#N/A"},{"$error":"#N/A"},{"$error":"#N/A"}]
[null,null,null,"2006-06-01",205.81,184.56,183.52,189.46,227.42,225.69,216.2,278.22000000000003,167.11,233.75,12.668010000000001,68.8,1746,485,341,1.62,1.62,21690,2050,1742,1074,6.3,68.8,9.6,127072,2.4,2.2000000000000002,1746,110560,12498,201.8,94.587000000000003,124805,102075,109927,16513,1746,94.59,{"$error":"#N/A"},{"$error":"#N/A"},{"$error":"#N/A"},{"$error":"#N/A"},{"$error":"#N/A"},{"$error":"#N/A"},{"$error":"#N/A"}]
[null,null,null,"2006-07-01",204.94,184.62,183.08,185.93,227.38,224.56,215.05,278.33,166.55,234.29,12.76765,68.900000000000006,1954,585,439,1.75,1.75,24409,1934,1654,965,7.3,68.8,9.9,127548,2.4,2.5,1954,110779,12738,202.9,95.247,124881,102187,110026,16769,1954,95.096999999999994,{"$error":"#N/A"},{"$error":"#N/A"},{"$error":"#N/A"},{"$error":"#N/A"},{"$error":"#N/A"},{"$error":"#N/A"},{"$error":"#N/A"}]
[null,null,null,"2006-08-01",204.04,184.42,182.61,185.93,227.01,223.2,213.08,276.8,166.02,234.78,12.76765,68.900000000000006,1954,585,439,1.75,1.75,24409,1877,1614,1035,6.7,68.8,9.9,127548,2.4,2.5,1954,110779,12738,203.8,95.247,124974,102308,110134,16769,1954,95.096999999999994,{"$error":"#N/A"},{"$error":"#N/A"},{"$error":"#N/A"},{"$error":"#N/A"},{"$error":"#N/A"},{"$error":"#N/A"},{"$error":"#N/A"}]
[null,null,null,"2006-09-01",203.58,184.21,182.81,185.93,225.2,222.83,213.01,277.23,166.47,234.71,12.76765,68.900000000000006,1954,585,439,1.75,1.75,24409,2011,1675,1016,6.7,68.8,9.9,127548,2.4,2.5,1954,110779,12738,202.8,95.247,125045,102428,110241,16769,1954,95.096999999999994,{"$error":"#N/A"},{"$error":"#N/A"},{"$error":"#N/A"},{"$error":"#N/A"},{"$error":"#N/A"},{"$error":"#N/A"},{"$error":"#N/A"}]
[null,null,null,"2006-10-01",203.53,184.07,183.2,186.48,224.5,222.76,213,278.91000000000003,166.47,233.8,12.848319999999999,68.8,2121,1110,627,1.95,1.95,33955,1918,1559,941,7.3,68.8,9.8000000000000007,127991,2.4,2.7,2121,111096,12806,201.9,95.58,125113,102549,110349,16894,2121,95.498000000000005,{"$error":"#N/A"},{"$error":"#N/A"},{"$error":"#N/A"},{"$error":"#N/A"},{"$error":"#N/A"},{"$error":"#N/A"},{"$error":"#N/A"}]
[null,null,null,"2006-11-01",203.63,183.65,183.61,186.48,223.13,222.85,{"$f":"INDEX(INDIRECT(\"'\"&K$7&\"'!B:B\"),MATCH($D618,INDIRECT(\"'\"&K$7&\"'!A:A\")))","v":213.14},280.3,166.49,232.56,12.848319999999999,68.8,2121,1110,627,1.95,1.95,33955,1893,1525,1003,6.6,68.8,9.8000000000000007,127991,2.4,2.7,2121,111096,12806,202,95.58,125201,102656,110445,16894,2121,95.498000000000005,{"$error":"#N/A"},{"$error":"#N/A"},{"$error":"#N/A"},{"$error":"#N/A"},{"$error":"#N/A"},{"$error":"#N/A"},{"$error":"#N/A"}]
[null,null,null,"2006-12-01",203.45,183.25,184.15,186.48,221.5,222.53,213.24,280.87,167.01,231.57,12.848319999999999,68.8,2121,1110,627,1.95,1.95,33955,1888,1509,998,6.5,68.8,9.8000000000000007,127991,2.4,2.7,2121,111096,12806,203.1,95.58,125244,102751,110528,16894,2121,95.498000000000005,{"$error":"#N/A"},{"$error":"#N/A"},{"$error":"#N/A"},{"$error":"#N/A"},{"$error":"#N/A"},{"$error":"#N/A"},{"$error":"#N/A"}]
[null,null,null,"2007-01-01",203.73,182.74,184.54,187.92,220.2,222.82,212.9,279.42,168.25,230.52,12.87689,68.5,2198,941,690,2.0299999999999998,2.0299999999999998,31341,1822,1501,891,7.2,68.099999999999994,10.1,128439,2.7,2.8,2198,110715,13514,203.43700000000001,96.653999999999996,125387,102956,110803,17724,2198,96.177000000000007,{"$error":"#N/A"},{"$error":"#N/A"},{"$error":"#N/A"},{"$error":"#N/A"},{"$error":"#N/A"},{"$error":"#N/A"},{"$error":"#N/A"}]
[null,null,null,"2007-02-01",204.08,182.49,184.66,187.92,218.07,222.97,213.3,279.43,169.48,229.64,12.87689,68.5,2198,941,690,2.0299999999999998,2.0299999999999998,31341,1640,1318,828,7.9,68.099999999999994,10.1,128439,2.7,2.8,2198,110715,13514,204.226,96.653999999999996,125456,103046,110880,17724,2198,96.177000000000007,{"$error":"#N/A"},{"$error":"#N/A"},{"$error":"#N/A"},{"$error":"#N/A"},{"$error":"#N/A"},{"$error":"#N/A"},{"$error":"#N/A"}]
[null,null,null,"2007-03-01",204.25,182.21,184.18,187.92,216.86,223.02,214.26,276.89,171.3,228.55,12.87689,68.5,2198,941,690,2.0299999999999998,2.0299999999999998,31341,1623,1312,833,7.9,68.099999999999994,10.1,128439,2.7,2.8,2198,110715,13514,205.28800000000001,96.653999999999996,125488,103143,110964,17724,2198,96.177000000000007,{"$error":"#N/A"},{"$error":"#N/A"},{"$error":"#N/A"},{"$error":"#N/A"},{"$error":"#N/A"},{"$error":"#N/A"},{"$error":"#N/A"}]
[null,null,null,"2007-04-01",202.83,182.15,183.03,182.51,215.04,221.35,213.74,273.52999999999997,168.8,226.65,12.951000000000001,68.3,2055,1291,826,2.2999999999999998,2.2999999999999998,35393,1539,1276,887,7.4,68.099999999999994,9.5,128888,2.7,2.6,2055,111342,13176,205.904,97.194000000000003,125550,103248,111057,17547,2055,96.516000000000005,{"$error":"#N/A"},{"$error":"#N/A"},{"$error":"#N/A"},{"$error":"#N/A"},{"$error":"#N/A"},{"$error":"#N/A"},{"$error":"#N/A"}]
[null,null,null,"2007-05-01",200.99,181.91,181.63,{"$f":"INDEX(INDIRECT(\"'\"&H$7&\"'!B:B\"),MATCH($D624,INDIRECT(\"'\"&H$7&\"'!A:A\")))","v":182.51},213.94,219.28,211.88,269.52,167.4,224.79,12.951000000000001,68.3,2055,1291,826,2.2999999999999998,2.2999999999999998,35393,1536,1278,842,7.8,68.099999999999994,9.5,128888,2.7,2.6,2055,111342,13176,206.755,97.194000000000003,125581,103361,111157,17547,2055,96.516000000000005,{"$error":"#N/A"},{"$error":"#N/A"},{"$error":"#N/A"},{"$error":"#N/A"},{"$error":"#N/A"},{"$error":"#N/A"},{"$error":"#N/A"}]
[null,null,null,"2007-06-01",198.84,181.56,180.27,182.51,212.52,216.8,209.71,264.89,165.9,221.86,12.951000000000001,68.3,2055,1291,826,2.2999999999999998,2.2999999999999998,35393,1481,1220,793,8.1999999999999993,68.099999999999994,9.5,128888,2.7,2.6,2055,111342,13176,207.23400000000001,97.194000000000003,125620,103477,111259,17547,2055,96.516000000000005,{"$error":"#N/A"},{"$error":"#N/A"},{"$error":"#N/A"},{"$error":"#N/A"},{"$error":"#N/A"},{"$error":"#N/A"},{"$error":"#N/A"}]
[null,null,null,"2007-07-01",196.84,181.01,179.12,177.36,210.78,214.44,207.81,260.39,164.65,219.91,13.049160000000001,68,2093,1830,1202,2.76,2.76,45658,1534,1208,778,8.3000000000000007,68.099999999999994,9.8000000000000007,129300,2.7,2.7,2093,111251,13450,207.60300000000001,97.531000000000006,125715,103598,111367,18049,2093,96.99,{"$error":"#N/A"},{"$error":"#N/A"},{"$error":"#N/A"},{"$error":"#N/A"},{"$error":"#N/A"},{"$error":"#N/A"},{"$error":"#N/A"}]
[null,null,null,"2007-08-01",194.81,180.25,178.13,177.36,208.86,211.88,205.35,255.29,162.91999999999999,216.83,13.049160000000001,68,2093,1830,1202,2.76,2.76,45658,1512,1241,699,9.1999999999999993,68.099999999999994,9.8000000000000007,129300,2.7,2.7,2093,111251,13450,207.667,97.531000000000006,125791,103723,111479,18049,2093,96.99,{"$error":"#N/A"},{"$error":"#N/A"},{"$error":"#N/A"},{"$error":"#N/A"},{"$error":"#N/A"},{"$error":"#N/A"},{"$error":"#N/A"}]
[null,null,null,"2007-09-01",193.1,179.14,177.57,177.36,205.28,210.09,204.78,249.61,161.43,213.47,13.049160000000001,68,2093,1830,1202,2.76,2.76,45658,1356,1085,686,9.1999999999999993,68.099999999999994,9.8000000000000007,129300,2.7,2.7,2093,111251,13450,208.547,97.531000000000006,125867,103847,111590,18049,2093,96.99,{"$error":"#N/A"},{"$error":"#N/A"},{"$error":"#N/A"},{"$error":"#N/A"},{"$error":"#N/A"},{"$error":"#N/A"},{"$error":"#N/A"}]
[null,null,null,"2007-10-01",190.94,177.56,176.64,170.79,200.72,207.63,203.93,244.35,160.28,208.68,13.17414,67.8,2194,3958,2318,3.08,3.08,57922,1405,1138,727,8.5,68.099999999999994,9.6,129634,2.7,2.8,2194,111724,13428,209.19,97.956000000000003,125916,103973,111703,17910,2194,97.644999999999996,{"$error":"#N/A"},{"$error":"#N/A"},{"$error":"#N/A"},{"$error":"#N/A"},{"$error":"#N/A"},{"$f":"INDEX(INDIRECT(\"'\"&AV$7&\"'!B:B\"),MATCH($D629,INDIRECT(\"'\"&AV$7&\"'!A:A\")))","v":{"$error":"#N/A"}},{"$error":"#N/A"}]
[null,null,null,"2007-11-01",187.87,175.2,175.16,170.79,194.45,204.12,203.28,237.99,159.59,201.95,13.17414,67.8,2194,3958,2318,3.08,3.08,57922,1390,1128,641,9.4,68.099999999999994,9.6,129634,2.7,2.8,2194,111724,13428,210.834,97.956000000000003,125978,104087,111805,17910,2194,97.644999999999996,{"$error":"#N/A"},{"$error":"#N/A"},{"$error":"#N/A"},{"$error":"#N/A"},{"$error":"#N/A"},{"$error":"#N/A"},{"$error":"#N/A"}]
[null,null,null,"2007-12-01",185.06,173.38,174.36,170.79,187.67,200.76,201.71,231.71,159.41,196.05,13.17414,67.8,2194,3958,2318,3.08,3.08,57922,1328,1031,619,9.6,68.099999999999994,9.6,129634,2.7,2.8,2194,111724,13428,211.44499999999999,97.956000000000003,126009,104197,111903,17910,2194,97.644999999999996,{"$error":"#N/A"},{"$error":"#N/A"},{"$error":"#N/A"},{"$error":"#N/A"},{"$error":"#N/A"},{"$error":"#N/A"},{"$error":"#N/A"}]
[null,null,null,"2008-01-01",182.11,171.11,173.16,162.82,180.06,197.52,200.8,225.4,157.5,186.05,13.04274,67.900000000000006,2286,5968,4193,3.69,3.69,64197,1331,1004,627,9.3000000000000007,67.8,10.1,129968,2.8,2.9,2286,111326,13909,212.17400000000001,98.516000000000005,125396,103866,111739,18642,2286,98.207999999999998,{"$error":"#N/A"},{"$error":"#N/A"},{"$error":"#N/A"},{"$error":"#N/A"},{"$error":"#N/A"},{"$error":"#N/A"},{"$error":"#N/A"}]
[null,null,null,"2008-02-01",178.53,169.22,171.65,162.82,172.72,193.13,199.44,218.74,155.96,177.18,13.04274,67.900000000000006,2286,5968,4193,3.69,3.69,64197,1274,930,593,9.6999999999999993,67.8,10.1,129968,2.8,2.9,2286,111326,13909,212.68700000000001,98.516000000000005,125440,103961,111822,18642,2286,98.207999999999998,{"$error":"#N/A"},{"$error":"#N/A"},{"$error":"#N/A"},{"$error":"#N/A"},{"$error":"#N/A"},{"$error":"#N/A"},{"$error":"#N/A"}]
[null,null,null,"2008-03-01",175.55,167.94,170.11,162.82,166.97,189.55,198.85,208.88,155.27000000000001,169.31,13.04274,67.900000000000006,2286,5968,4193,3.69,3.69,64197,1195,904,535,10.5,67.8,10.1,129968,2.8,2.9,2286,111326,13909,213.44800000000001,98.516000000000005,125474,104052,111902,18642,2286,98.207999999999998,{"$error":"#N/A"},{"$error":"#N/A"},{"$error":"#N/A"},{"$error":"#N/A"},{"$error":"#N/A"},{"$error":"#N/A"},{"$error":"#N/A"}]
[null,null,null,"2008-04-01",172.37,167.35,168.36,155.07,161.33000000000001,185.86,197.31,200.42,154.01,165.71,12.667439999999999,68.099999999999994,2175,9384,5718,4.38,4.38,71818,1022,795,536,10.3,67.8,10,130303,2.8,2.8,2175,111601,13906,213.94200000000001,98.995000000000005,125506,104152,111990,18701,2175,98.703000000000003,{"$error":"#N/A"},{"$error":"#N/A"},{"$f":"INDEX(INDIRECT(\"'\"&AS$7&\"'!B:B\"),MATCH($D635,INDIRECT(\"'\"&AS$7&\"'!A:A\")))","v":{"$error":"#N/A"}},{"$error":"#N/A"},{"$error":"#N/A"},{"$error":"#N/A"},{"$error":"#N/A"}]
[null,null,null,"2008-05-01",169.5,167.05,166.7,155.07,157.32,182.54,195.84,193.19,152.07,161.1,12.667439999999999,68.099999999999994,2175,9384,5718,4.38,4.38,71818,1142,879,504,10.7,67.8,10,130303,2.8,2.8,2175,111601,13906,215.208,98.995000000000005,125563,104258,112083,18701,2175,98.703000000000003,{"$error":"#N/A"},{"$error":"#N/A"},{"$error":"#N/A"},{"$error":"#N/A"},{"$error":"#N/A"},{"$error":"#N/A"},{"$error":"#N/A"}]
[null,null,null,"2008-06-01",167.18,166.57,165.05,155.07,153.19,179.98,194.84,189.87,149.88,158.80000000000001,12.667439999999999,68.099999999999994,2175,9384,5718,4.38,4.38,71818,1142,850,487,10.7,67.8,10,130303,2.8,2.8,2175,111601,13906,217.46299999999999,98.995000000000005,125627,104371,112183,18701,2175,98.703000000000003,{"$error":"#N/A"},{"$error":"#N/A"},{"$error":"#N/A"},{"$error":"#N/A"},{"$error":"#N/A"},{"$error":"#N/A"},{"$error":"#N/A"}]
[null,null,null,"2008-07-01",164.39,165.75,163.58000000000001,147.80000000000001,149.09,176.75,192.63,186.84,147.57,154.63999999999999,12.771660000000001,67.7,2230,13131,8732,5.22,5.22,97723,1087,831,477,10.5,67.8,9.9,130590,2.8,2.8,2230,111939,13856,219.01599999999999,99.673000000000002,125699,104490,112290,18651,2230,99.149000000000001,{"$error":"#N/A"},{"$error":"#N/A"},{"$error":"#N/A"},{"$error":"#N/A"},{"$error":"#N/A"},{"$error":"#N/A"},{"$error":"#N/A"}]
[null,null,null,"2008-08-01",162.02000000000001,164.32,162.02000000000001,147.80000000000001,144.83000000000001,173.96,191.06,183.48,145.88,150.93,12.771660000000001,67.7,2230,13131,8732,5.22,5.22,97723,1017,712,435,11.3,67.8,9.9,130590,2.8,2.8,2230,111939,13856,218.69,99.673000000000002,125742,104613,112401,18651,2230,99.149000000000001,{"$error":"#N/A"},{"$error":"#N/A"},{"$error":"#N/A"},{"$error":"#N/A"},{"$error":"#N/A"},{"$error":"#N/A"},{"$error":"#N/A"}]
[null,null,null,"2008-09-01",159.08000000000001,161.94999999999999,160.33000000000001,147.80000000000001,139.79,170.74,189.47,178.72,144.25,146.86000000000001,12.771660000000001,67.7,2230,13131,8732,5.22,5.22,97723,1160,820,433,10.9,67.8,9.9,130590,2.8,2.8,2230,111939,13856,218.87700000000001,99.673000000000002,125801,104741,112518,18651,2230,99.149000000000001,{"$error":"#N/A"},{"$error":"#N/A"},{"$error":"#N/A"},{"$error":"#N/A"},{"$error":"#N/A"},{"$error":"#N/A"},{"$error":"#N/A"}]
[null,null,null,"2008-10-01",156.25,159.19999999999999,158.34,139.54,135.18,167.76,187.79,173.42,142.29,142.74,12.736330000000001,67.5,2228,17587,8466,6.66,6.66,132955,1055,749,393,11.6,67.8,10.1,130797,2.8,2.9,2228,111823,14177,216.995,99.814999999999998,125812,104869,112633,18973,2228,{"$f":"INDEX(INDIRECT(\"'\"&AP$7&\"'!B:B\"),MATCH($D641,INDIRECT(\"'\"&AP$7&\"'!A:A\")))","v":99.248000000000005},{"$error":"#N/A"},{"$error":"#N/A"},{"$error":"#N/A"},{"$error":"#N/A"},{"$error":"#N/A"},{"$error":"#N/A"},{"$error":"#N/A"}]
[null,null,null,"2008-11-01",153.61000000000001,156.11000000000001,156.15,139.54,130.54,165.01,185.49,169.62,139.47999999999999,138.04,12.736330000000001,67.5,2228,17587,8466,6.66,6.66,132955,1076,754,389,11.4,67.8,10.1,130797,2.8,2.9,2228,111823,14177,213.15299999999999,99.814999999999998,125857,104978,112731,18973,2228,99.248000000000005,{"$error":"#N/A"},{"$error":"#N/A"},{"$error":"#N/A"},{"$error":"#N/A"},{"$error":"#N/A"},{"$error":"#N/A"},{"$error":"#N/A"}]
[null,null,null,"2008-12-01",150.68,152.58000000000001,153.63999999999999,139.54,123.93,162.21,183.3,165.01,136.74,131.4,12.736330000000001,67.5,2228,17587,8466,6.66,6.66,132955,1021,686,377,11.2,67.8,10.1,130797,2.8,2.9,2228,111823,14177,211.398,99.814999999999998,125904,105083,112825,18973,2228,99.248000000000005,{"$error":"#N/A"},{"$error":"#N/A"},{"$error":"#N/A"},{"$error":"#N/A"},{"$error":"#N/A"},{"$error":"#N/A"},{"$error":"#N/A"}]
[null,null,null,"2009-01-01",147.66999999999999,149.4,151.55000000000001,132.58000000000001,117.13,159.28,181.56,158.97,132.13,125.68,12.63805,67.400000000000006,2123,14738,9344,7.85,7.85,149980,777,566,336,12.2,67.400000000000006,10.1,131001,2.6,2.7,2123,111862,14220,211.93299999999999,100.062,125461,104902,112738,19137,2123,99.366,{"$error":"#N/A"},{"$error":"#N/A"},{"$error":"#N/A"},{"$error":"#N/A"},{"$error":"#N/A"},{"$error":"#N/A"},{"$error":"#N/A"}]
[null,null,null,"2009-02-01",145.57,147.66,150.16,132.58000000000001,111.95,157.05000000000001,179.35,154.22999999999999,129.37,121.11,12.63805,67.400000000000006,2123,14738,9344,7.85,7.85,149980,819,535,372,10.5,67.400000000000006,10.1,131001,2.6,2.7,2123,111862,14220,212.70500000000001,100.062,125498,104999,112824,19137,2123,99.366,{"$error":"#N/A"},{"$error":"#N/A"},{"$error":"#N/A"},{"$error":"#N/A"},{"$error":"#N/A"},{"$error":"#N/A"},{"$error":"#N/A"}]
[null,null,null,"2009-03-01",143.22,146.56,148.75,132.58000000000001,106.92,154.74,176.25,148.75,127.42,116.53,12.63805,67.400000000000006,2123,14738,9344,7.85,7.85,149980,839,545,339,11,67.400000000000006,10.1,131001,2.6,2.7,2123,111862,14220,212.495,100.062,125493,105095,112908,19137,2123,99.366,{"$error":"#N/A"},{"$error":"#N/A"},{"$error":"#N/A"},{"$error":"#N/A"},{"$error":"#N/A"},{"$error":"#N/A"},{"$error":"#N/A"}]
[null,null,null,"2009-04-01",141.53,146.99,147.97999999999999,132.1,104.45,152.85,173.51,145.78,126,112.4,12.28795,67.400000000000006,1921,21441,12328,8.6199999999999992,8.6199999999999992,161295,846,532,337,10.7,67.400000000000006,10.6,131207,2.6,2.5,1921,112453,14130,212.709,99.894999999999996,125491,105196,{"$f":"INDEX(INDIRECT(\"'\"&AM$7&\"'!B:B\"),MATCH($D647,INDIRECT(\"'\"&AM$7&\"'!A:A\")))","v":112999},18752,1921,99.85,{"$error":"#N/A"},{"$error":"#N/A"},{"$error":"#N/A"},{"$error":"#N/A"},{"$error":"#N/A"},{"$error":"#N/A"},{"$error":"#N/A"}]
[null,null,null,"2009-05-01",140.78,148.21,147.75,132.1,103.56,152.07,172.88,144.59,125.85,109.5,12.28795,67.400000000000006,1921,21441,12328,8.6199999999999992,8.6199999999999992,161295,818,492,376,9.3000000000000007,67.400000000000006,10.6,131207,2.6,2.5,1921,112453,14130,213.02199999999999,99.894999999999996,125513,105299,113089,18752,1921,99.85,{"$error":"#N/A"},{"$error":"#N/A"},{"$error":"#N/A"},{"$error":"#N/A"},{"$error":"#N/A"},{"$error":"#N/A"},{"$error":"#N/A"}]
[null,null,null,"2009-06-01",{"$f":"INDEX(INDIRECT(\"'\"&E$7&\"'!B:B\"),MATCH($D649,INDIRECT(\"'\"&E$7&\"'!A:A\")))","v":141.29},149.84,148.11000000000001,132.1,104.73,152.74,172.26,145.38,124.51,107.31,12.28795,67.400000000000006,1921,21441,12328,8.6199999999999992,8.6199999999999992,161295,797,507,393,8.5,67.400000000000006,10.6,131207,2.6,2.5,1921,112453,14130,214.79,99.894999999999996,125533,105412,113189,18752,1921,99.85,{"$error":"#N/A"},{"$error":"#N/A"},{"$error":"#N/A"},{"$error":"#N/A"},{"$error":"#N/A"},{"$error":"#N/A"},{"$error":"#N/A"}]
[null,null,null,{"$f":"EOMONTH(D649,$E$1)+1","v":"2009-07-01"},142.22,150.79,148.4,134.75,106.66,153.86000000000001,172.39,147.27000000000001,125.97,106.08,12.13565,67.400000000000006,2000,22755,12614,9.59,9.59,181180,797,500,411,7.9,67.400000000000006,11.1,131375,2.6,2.6,2000,112381,14342,214.726,99.873000000000005,125604,105530,113296,18996,2000,100.131,{"$error":"#N/A"},{"$error":"#N/A"},{"$error":"#N/A"},{"$error":"#N/A"},{"$error":"#N/A"},{"$error":"#N/A"},{"$error":"#N/A"}]
[null,null,null,"2009-08-01",143.37,150.71,148.29,134.75,108.41,155.19,172.3,148.91,126.51,105.78,12.13565,67.400000000000006,2000,22755,12614,9.59,9.59,181180,792,517,418,7.5,67.400000000000006,11.1,131375,2.6,2.6,2000,112381,14342,215.44499999999999,99.873000000000005,125617,105651,113405,18996,2000,100.131,{"$error":"#N/A"},{"$error":"#N/A"},{"$error":"#N/A"},{"$error":"#N/A"},{"$error":"#N/A"},{"$error":"#N/A"},{"$error":"#N/A"}]
[null,null,null,"2009-09-01",144.01,149.66,148.03,134.75,109.26,156.01,172.13,149.69,128.16,104.82,12.13565,67.400000000000006,2000,22755,12614,9.59,9.59,181180,721,481,386,7.8,67.400000000000006,11.1,131375,2.6,2.6,2000,112381,14342,215.86099999999999,99.873000000000005,125637,105780,113522,18996,2000,100.131,{"$error":"#N/A"},{"$error":"#N/A"},{"$error":"#N/A"},{"$error":"#N/A"},{"$error":"#N/A"},{"$error":"#N/A"},{"$error":"#N/A"}]
[null,null,null,"2009-10-01",144.72,148.62,147.85,136.31,110.71,156.80000000000001,172.36,149.09,127.46,104.71,11.88104,67.2,2100,27485,14742,10.52,10.52,217186,746,526,396,7.4,67.400000000000006,10.7,131490,2.6,2.7,2100,112485,14348,216.50899999999999,100.169,125644,105906,113636,19006,2100,100.65300000000001,{"$error":"#N/A"},{"$error":"#N/A"},{"$error":"#N/A"},{"$error":"#N/A"},{"$error":"#N/A"},{"$error":"#N/A"},{"$error":"#N/A"}]
[null,null,null,"2009-11-01",145.4,147.97999999999999,{"$f":"INDEX(INDIRECT(\"'\"&G$7&\"'!B:B\"),MATCH($D654,INDIRECT(\"'\"&G$7&\"'!A:A\")))","v":148.15},136.31,111.96,157.51,171.74,149.08000000000001,127.67,104.22,11.88104,67.2,2100,27485,14742,10.52,10.52,217186,844,567,375,7.6,67.400000000000006,10.7,131490,2.6,2.7,2100,112485,14348,217.23400000000001,100.169,125647,106018,113737,19006,2100,100.65300000000001,{"$error":"#N/A"},{"$error":"#N/A"},{"$error":"#N/A"},{"$error":"#N/A"},{"$error":"#N/A"},{"$error":"#N/A"},{"$error":"#N/A"}]
[null,null,null,"2009-12-01",146.18,146.71,147.96,136.31,112.48,158.43,171.95,148.66,127.1,104.38,11.88104,67.2,2100,27485,14742,10.52,10.52,217186,750,493,352,8,67.400000000000006,10.7,131490,2.6,2.7,2100,112485,14348,217.34700000000001,100.169,125640,106125,113832,19006,2100,100.65300000000001,{"$error":"#N/A"},{"$error":"#N/A"},{"$error":"#N/A"},{"$error":"#N/A"},{"$error":"#N/A"},{"$error":"#N/A"},{"$error":"#N/A"}]
[null,null,null,"2010-01-01",146.87,145,147.41,136,111.76,159.44,172.36,148.32,126.76,103.82,11.651859999999999,67.2,2006,21224,12867,11.27,11.27,222493,689,448,345,8.1,66.900000000000006,10.6,131590,2.6,2.6,2006,112468,14467,217.488,100.52200000000001,125156,105998,113796,19120,2006,100.91,{"$error":"#N/A"},{"$error":"#N/A"},{"$error":"#N/A"},{"$error":"#N/A"},{"$error":"#N/A"},{"$error":"#N/A"},{"$error":"#N/A"}]
[null,null,null,"2010-02-01",146.85,143.06,145.82,136,110.11,159.66999999999999,172.48,147.52000000000001,126.19,103.4,11.651859999999999,67.2,2006,21224,12867,11.27,11.27,222493,670,456,336,8.3000000000000007,66.900000000000006,10.6,131590,2.6,2.6,2006,112468,14467,217.28100000000001,100.52200000000001,125178,106100,113886,19120,2006,100.91,{"$error":"#N/A"},{"$error":"#N/A"},{"$error":"#N/A"},{"$error":"#N/A"},{"$error":"#N/A"},{"$error":"#N/A"},{"$error":"#N/A"}]
[null,null,null,"2010-03-01",146.91999999999999,143.6,145.93,136,109.52,159.97,172.41,146.15,125.24,102.58,11.651859999999999,67.2,2006,21224,12867,11.27,11.27,222493,635,491,381,7.1,66.900000000000006,10.6,131590,2.6,2.6,2006,112468,14467,217.35300000000001,100.52200000000001,125191,106198,113974,19120,2006,100.91,{"$error":"#N/A"},{"$error":"#N/A"},{"$error":"#N/A"},{"$error":"#N/A"},{"$error":"#N/A"},{"$error":"#N/A"},{"$error":"#N/A"}]
[null,null,null,"2010-04-01",147.09,145.4,146.38999999999999,136.78,110.06,160.08000000000001,172.11,145.04,124.54,102.82,11.349930000000001,67,1975,19947,11124,11.13,11.13,209056,737,556,422,6.2,66.900000000000006,10.6,131726,2.6,2.5,1975,112708,14548,217.40299999999999,100.968,125192,106301,114066,19020,1975,101.17700000000001,{"$error":"#N/A"},{"$error":"#N/A"},{"$error":"#N/A"},{"$error":"#N/A"},{"$f":"INDEX(INDIRECT(\"'\"&AU$7&\"'!B:B\"),MATCH($D659,INDIRECT(\"'\"&AU$7&\"'!A:A\")))","v":{"$error":"#N/A"}},{"$error":"#N/A"},{"$error":"#N/A"}]
[null,null,null,"2010-05-01",147.22999999999999,147.03,146.38999999999999,136.78,111,160.26,172.34,146.33000000000001,124.15,102.35,11.349930000000001,67,1975,19947,11124,11.13,11.13,209056,702,518,280,9.3000000000000007,66.900000000000006,10.6,131726,2.6,2.5,1975,112708,14548,217.29,100.968,125249,106407,114160,19020,1975,101.17700000000001,{"$error":"#N/A"},{"$error":"#N/A"},{"$error":"#N/A"},{"$error":"#N/A"},{"$error":"#N/A"},{"$error":"#N/A"},{"$error":"#N/A"}]
[null,null,null,"2010-06-01",147.05000000000001,147.69,145.66999999999999,136.78,110.98,160.19999999999999,172.59,146.91999999999999,124.1,101.77,11.349930000000001,67,1975,19947,11124,11.13,11.13,209056,894,684,305,8.3000000000000007,66.900000000000006,10.6,131726,2.6,2.5,1975,112708,14548,217.19900000000001,100.968,125268,106522,114264,19020,1975,101.17700000000001,{"$error":"#N/A"},{"$error":"#N/A"},{"$error":"#N/A"},{"$error":"#N/A"},{"$error":"#N/A"},{"$error":"#N/A"},{"$error":"#N/A"}]
[null,null,null,"2010-07-01",146.34,147.55000000000001,144.88,132.69999999999999,110.3,159.66999999999999,172.93,147.88,123.19,100.91,11.148070000000001,66.7,1949,18526,9923,10.76,10.76,208181,572,470,283,8.9,66.900000000000006,10.3,131791,2.6,2.5,1949,112870,14439,217.60499999999999,101.429,125326,106641,114372,18922,1949,101.425,{"$error":"#N/A"},{"$error":"#N/A"},{"$error":"#N/A"},{"$error":"#N/A"},{"$error":"#N/A"},{"$error":"#N/A"},{"$error":"#N/A"}]
[null,null,null,"2010-08-01",145.37,146.4,143.82,132.69999999999999,108.84,158.71,171.81,147.47,122.01,101.03,11.148070000000001,66.7,1949,18526,9923,10.76,10.76,208181,592,473,282,8.8000000000000007,66.900000000000006,10.3,131791,2.6,2.5,1949,112870,14439,217.923,101.429,125337,106761,114481,18922,1949,101.425,{"$error":"#N/A"},{"$error":"#N/A"},{"$error":"#N/A"},{"$error":"#N/A"},{"$error":"#N/A"},{"$error":"#N/A"},{"$error":"#N/A"}]
[null,null,null,"2010-09-01",144.41999999999999,144.59,142.93,132.69999999999999,107.16,157.94,171.19,145.63999999999999,120.46,101.18,11.148070000000001,66.7,1949,18526,9923,10.76,10.76,208181,632,484,317,7.6,66.900000000000006,10.3,131791,2.6,2.5,1949,112870,14439,218.27500000000001,101.429,125354,106887,114596,18922,1949,101.425,{"$error":"#N/A"},{"$error":"#N/A"},{"$error":"#N/A"},{"$error":"#N/A"},{"$error":"#N/A"},{"$error":"#N/A"},{"$error":"#N/A"}]
[null,null,null,"2010-10-01",143.47999999999999,143.13,142.47,131.44,105.97,156.97999999999999,169.2,144.03,119,100.97,10.972250000000001,66.5,2066,19148,10362,10.199999999999999,10.199999999999999,205332,605,479,291,8.1999999999999993,66.900000000000006,9.4,131862,2.6,2.7,2066,113331,14204,219.035,101.949,125407,107007,114704,18532,2066,101.63,{"$error":"#N/A"},{"$f":"INDEX(INDIRECT(\"'\"&AR$7&\"'!B:B\"),MATCH($D665,INDIRECT(\"'\"&AR$7&\"'!A:A\")))","v":{"$error":"#N/A"}},{"$error":"#N/A"},{"$error":"#N/A"},{"$error":"#N/A"},{"$error":"#N/A"},{"$error":"#N/A"}]
[null,null,null,"2010-11-01",143.16,141.82,142.16,131.44,104.85,156.83000000000001,168.71,143.81,118.22,100.59,10.972250000000001,66.5,2066,19148,10362,10.199999999999999,10.199999999999999,205332,552,432,287,8.1999999999999993,66.900000000000006,9.4,131862,2.6,2.7,2066,113331,14204,219.59,101.949,125415,107114,114801,18532,2066,101.63,{"$error":"#N/A"},{"$error":"#N/A"},{"$error":"#N/A"},{"$error":"#N/A"},{"$error":"#N/A"},{"$error":"#N/A"},{"$error":"#N/A"}]
[null,null,null,"2010-12-01",142.88999999999999,140.63999999999999,142.08000000000001,131.44,103.1,156.53,168.27,143.11000000000001,118.04,99.48,10.972250000000001,66.5,2066,19148,10362,10.199999999999999,10.199999999999999,205332,565,454,326,7,66.900000000000006,9.4,131862,2.6,2.7,2066,113331,14204,220.47200000000001,101.949,125410,107216,114894,18532,2066,101.63,{"$error":"#N/A"},{"$error":"#N/A"},{"$error":"#N/A"},{"$error":"#N/A"},{"$error":"#N/A"},{"$error":"#N/A"},{"$error":"#N/A"}]
[null,null,null,"2011-01-01",142.55000000000001,139.05000000000001,141.6,129.66,101.54,156.18,167.21,141.30000000000001,117.69,99.23,10.7502,66.5,2003,14088,8782,10.41,10.41,199011,520,423,307,7.3,66.099999999999994,9.6999999999999993,131933,2.5,2.6,2003,112961,14362,221.148,102.399,124628,107203,114637,18972,2003,101.974,{"$error":"#N/A"},{"$error":"#N/A"},{"$error":"#N/A"},{"$error":"#N/A"},{"$error":"#N/A"},{"$error":"#N/A"},{"$error":"#N/A"}]
[null,null,null,"2011-02-01",142,137.75,140.63,129.66,100.81,155.41,166.73,138.44,117.14,98.28,10.7502,66.5,2003,14088,8782,10.41,10.41,199011,615,481,270,8.1,66.099999999999994,9.6999999999999993,131933,2.5,2.6,2003,112961,14362,221.904,102.399,124647,107292,114714,18972,2003,101.974,{"$error":"#N/A"},{"$error":"#N/A"},{"$error":"#N/A"},{"$error":"#N/A"},{"$error":"#N/A"},{"$error":"#N/A"},{"$error":"#N/A"}]
[null,null,null,"2011-03-01",141.26,137.80000000000001,140.09,129.66,100.27,154.77000000000001,165.78,137.28,116.13,97.18,10.7502,66.5,2003,14088,8782,10.41,10.41,199011,591,368,300,7.2,66.099999999999994,9.6999999999999993,131933,2.5,2.6,2003,112961,14362,223.04400000000001,102.399,124644,107381,114792,18972,2003,101.974,{"$error":"#N/A"},{"$error":"#N/A"},{"$error":"#N/A"},{"$error":"#N/A"},{"$error":"#N/A"},{"$error":"#N/A"},{"$error":"#N/A"}]
[null,null,null,"2011-04-01",140.86000000000001,139.16,140.02000000000001,129.07,100.36,154.44999999999999,167.34,136.99,114.12,96.47,10.65169,66,1956,13444,8459,10.58,10.58,194759,549,433,310,6.7,66.099999999999994,9.1999999999999993,132004,2.5,2.5,1956,113198,14245,224.06,103.145,124658,107469,114868,18809,{"$f":"INDEX(INDIRECT(\"'\"&AO$7&\"'!B:B\"),MATCH($D671,INDIRECT(\"'\"&AO$7&\"'!A:A\")))","v":1956},102.593,{"$error":"#N/A"},{"$error":"#N/A"},{"$error":"#N/A"},{"$error":"#N/A"},{"$error":"#N/A"},{"$error":"#N/A"},{"$error":"#N/A"}]
[null,null,null,"2011-05-01",140.44,140.69,139.9,129.07,100.4,153.97999999999999,166.97,138.6,114.02,95.6,10.65169,66,1956,13444,8459,10.58,10.58,194759,549,443,305,6.6,66.099999999999994,9.1999999999999993,132004,2.5,2.5,1956,113198,14245,224.869,103.145,124727,107566,114954,18809,1956,102.593,{"$error":"#N/A"},{"$error":"#N/A"},{"$error":"#N/A"},{"$error":"#N/A"},{"$error":"#N/A"},{"$error":"#N/A"},{"$error":"#N/A"}]
[null,null,null,"2011-06-01",140.37,141.94,139.77000000000001,129.07,100.69,153.78,166.34,139.46,114.57,95.67,10.65169,66,1956,13444,8459,10.58,10.58,194759,579,453,301,6.6,66.099999999999994,9.1999999999999993,132004,2.5,2.5,1956,113198,14245,224.84100000000001,103.145,124738,107668,115045,18809,1956,102.593,{"$error":"#N/A"},{"$error":"#N/A"},{"$error":"#N/A"},{"$error":"#N/A"},{"$error":"#N/A"},{"$error":"#N/A"},{"$error":"#N/A"}]
[null,null,null,"2011-07-01",140.19,142.34,139.56,128.16,100.54,153.54,167.09,141.15,114.48,95.48,10.53143,66.099999999999994,1858,12023,7711,10.36,10.36,196973,634,488,296,6.7,66.099999999999994,9.8000000000000007,132060,2.5,2.4,1858,113298,14394,225.41900000000001,103.768,124771,107773,115138,18761,1858,103.11,{"$error":"#N/A"},{"$error":"#N/A"},{"$error":"#N/A"},{"$error":"#N/A"},{"$error":"#N/A"},{"$error":"#N/A"},{"$error":"#N/A"}]
[null,null,null,"2011-08-01",139.78,141.79,139.15,128.16,100.43,153.11000000000001,166.54,140.75,114.48,95.18,10.53143,66.099999999999994,1858,12023,7711,10.36,10.36,196973,614,479,299,6.5,66.099999999999994,9.8000000000000007,132060,2.5,2.4,1858,113298,14394,226.08199999999999,103.768,124756,107884,115238,18761,1858,103.11,{"$error":"#N/A"},{"$error":"#N/A"},{"$error":"#N/A"},{"$error":"#N/A"},{"$error":"#N/A"},{"$error":"#N/A"},{"$error":"#N/A"}]
[null,null,null,"2011-09-01",139.15,140.16999999999999,138.53,128.16,100.22,152.53,166.4,139.83000000000001,114.03,93.8,10.53143,66.099999999999994,1858,12023,7711,10.36,10.36,196973,603,426,304,6.3,66.099999999999994,9.8000000000000007,132060,2.5,2.4,1858,113298,14394,226.67599999999999,103.768,124728,107994,115338,18761,1858,103.11,{"$error":"#N/A"},{"$error":"#N/A"},{"$error":"#N/A"},{"$error":"#N/A"},{"$error":"#N/A"},{"$error":"#N/A"},{"$error":"#N/A"}]
[null,null,null,"2011-10-01",138.41,138.41,137.88,126.75,100.54,151.71,164.94,138.19999999999999,113.26,92.36,10.43721,65.900000000000006,1779,11709,7210,10.31,10.31,204091,566,438,316,6,66.099999999999994,9.4,132140,2.5,2.2999999999999998,1779,113801,13841,226.81100000000001,103.917,124743,{"$f":"INDEX(INDIRECT(\"'\"&AL$7&\"'!B:B\"),MATCH($D677,INDIRECT(\"'\"&AL$7&\"'!A:A\")))","v":108104},115437,18341,1779,103.52200000000001,{"$error":"#N/A"},{"$error":"#N/A"},{"$error":"#N/A"},{"$error":"#N/A"},{"$error":"#N/A"},{"$error":"#N/A"},{"$error":"#N/A"}]
[null,null,null,"2011-11-01",137.76,136.66999999999999,137.16999999999999,126.75,101.12,150.93,164.16,137.47,111.44,91.41,10.43721,65.900000000000006,1779,11709,7210,10.31,10.31,204091,585,462,328,5.7,66.099999999999994,9.4,132140,2.5,2.2999999999999998,1779,113801,13841,227.15700000000001,103.917,124722,108203,115526,18341,1779,103.52200000000001,{"$error":"#N/A"},{"$error":"#N/A"},{"$error":"#N/A"},{"$error":"#N/A"},{"$error":"#N/A"},{"$error":"#N/A"},{"$error":"#N/A"}]
[null,null,null,"2011-12-01",137.29,135.18,136.77000000000001,126.75,101.91,150.28,162.93,137.74,110.65,90.7,10.43721,65.900000000000006,1779,11709,7210,10.31,10.31,204091,610,462,341,5.3,66.099999999999994,9.4,132140,2.5,2.2999999999999998,1779,113801,13841,227.14500000000001,103.917,124690,108290,115602,18341,1779,103.52200000000001,{"$error":"#N/A"},{"$error":"#N/A"},{"$error":"#N/A"},{"$error":"#N/A"},{"$error":"#N/A"},{"$error":"#N/A"},{"$error":"#N/A"}]
[null,null,null,"2012-01-01",137.13999999999999,134.19,136.80000000000001,128.15,102.84,149.99,162.16999999999999,138.63999999999999,110.06,90.24,10.22312,65.599999999999994,1648,9761,7234,10.33,10.33,202458,545,392,335,5.3,65.400000000000006,8.8000000000000007,132221,2,2.2000000000000002,1648,113803,13953,227.75899999999999,104.461,124356,108087,117082,18420,1648,104.063,{"$error":"#N/A"},{"$error":"#N/A"},{"$error":"#N/A"},{"$error":"#N/A"},{"$error":"#N/A"},{"$error":"#N/A"},{"$error":"#N/A"}]
[null,null,null,"2012-02-01",137.04,134.03,136.96,128.15,104.12,149.68,161.37,139.53,109.19,89.88,10.22312,65.599999999999994,1648,9761,7234,10.33,10.33,202458,561,421,366,4.8,65.400000000000006,8.8000000000000007,132221,2,2.2000000000000002,1648,113803,13953,228.285,104.461,124341,108188,117170,18420,1648,104.063,{"$error":"#N/A"},{"$error":"#N/A"},{"$error":"#N/A"},{"$error":"#N/A"},{"$error":"#N/A"},{"$error":"#N/A"},{"$error":"#N/A"}]
[null,null,null,"2012-03-01",137.66,135.91999999999999,138.15,128.15,106.38,150.28,160.99,140.76,108.12,89.87,10.22312,65.599999999999994,1648,9761,7234,10.33,10.33,202458,582,434,354,4.9000000000000004,65.400000000000006,8.8000000000000007,132221,2,2.2000000000000002,1648,113803,13953,228.86600000000001,104.461,124323,108289,117260,18420,1648,104.063,{"$error":"#N/A"},{"$error":"#N/A"},{"$error":"#N/A"},{"$error":"#N/A"},{"$error":"#N/A"},{"$error":"#N/A"},{"$error":"#N/A"}]
[null,null,null,"2012-04-01",138.27000000000001,138.54,139.27000000000001,131.1,109.01,150.96,161.37,141.33000000000001,107.79,90.84,10.131930000000001,65.599999999999994,1590,8963,6399,10.46,10.46,201066,671,494,354,4.9000000000000004,65.400000000000006,8.6,132302,2,2.1,1590,113845,13979,{"$f":"INDEX(INDIRECT(\"'\"&AI$7&\"'!B:B\"),MATCH($D683,INDIRECT(\"'\"&AI$7&\"'!A:A\")))","v":229.172},104.94199999999999,124357,108396,117353,18457,1590,104.54600000000001,{"$error":"#N/A"},{"$error":"#N/A"},{"$error":"#N/A"},{"$error":"#N/A"},{"$error":"#N/A"},{"$error":"#N/A"},{"$error":"#N/A"}]
[null,null,null,"2012-05-01",139.59,141.12,140.19,131.1,111.92,152.21,161.99,143.35,110.43,92.55,10.131930000000001,65.599999999999994,1590,8963,6399,10.46,10.46,201066,626,475,370,4.7,65.400000000000006,8.6,132302,2,2.1,1590,113845,13979,228.785,104.94199999999999,124363,108503,117448,18457,1590,104.54600000000001,{"$error":"#N/A"},{"$error":"#N/A"},{"$error":"#N/A"},{"$error":"#N/A"},{"$error":"#N/A"},{"$error":"#N/A"},{"$error":"#N/A"}]
[null,null,null,"2012-06-01",141.03,143.22999999999999,140.91,131.1,114.68,153.63999999999999,162.65,145.62,112.32,93.94,10.131930000000001,65.599999999999994,1590,8963,6399,10.46,10.46,201066,625,482,360,4.8,65.400000000000006,8.6,132302,2,2.1,1590,113845,13979,228.626,104.94199999999999,124355,108613,117546,18457,1590,104.54600000000001,{"$error":"#N/A"},{"$error":"#N/A"},{"$error":"#N/A"},{"$error":"#N/A"},{"$error":"#N/A"},{"$error":"#N/A"},{"$error":"#N/A"}]
[null,null,null,"2012-07-01",141.69999999999999,144.33000000000001,141.41,132.79,117.22,154.22999999999999,162.5,148.69999999999999,112.99,94.57,10.13578,65.3,1470,11314,9057,10.69,10.69,208916,676,474,369,4.5999999999999996,65.400000000000006,8.6,132376,2,1.9,1470,114298,13536,228.584,105.428,124372,108727,117648,18078,1470,104.871,{"$error":"#N/A"},{"$error":"#N/A"},{"$error":"#N/A"},{"$error":"#N/A"},{"$error":"#N/A"},{"$error":"#N/A"},{"$error":"#N/A"}]
[null,null,null,"2012-08-01",142.47,144.75,142.02000000000001,132.79,119.28,154.97999999999999,162.6,150.12,112.33,96.03,10.13578,65.3,1470,11314,9057,10.69,10.69,208916,684,492,375,4.5999999999999996,65.400000000000006,8.6,132376,2,1.9,1470,114298,13536,229.911,105.428,124308,108851,117760,18078,1470,104.871,{"$error":"#N/A"},{"$error":"#N/A"},{"$error":"#N/A"},{"$error":"#N/A"},{"$error":"#N/A"},{"$error":"#N/A"},{"$error":"#N/A"}]
[null,null,null,"2012-09-01",143.32,144.41999999999999,142.72,132.79,120.65,155.77000000000001,162.62,150.24,112.11,97.38,10.13578,65.3,1470,11314,9057,10.69,10.69,208916,652,512,385,4.5,65.400000000000006,8.6,132376,2,1.9,1470,114298,13536,231.10400000000001,105.428,124259,108973,117869,18078,1470,104.871,{"$error":"#N/A"},{"$error":"#N/A"},{"$error":"#N/A"},{"$error":"#N/A"},{"$error":"#N/A"},{"$error":"#N/A"},{"$error":"#N/A"}]
[null,null,null,"2012-10-01",144.36000000000001,144.04,143.56,136.09,122.39,156.82,162.71,149.97,111.84,100.14,9.8314699999999995,65.3,1493,7939,5659,10.029999999999999,10.029999999999999,202542,730,525,358,4.9000000000000004,65.400000000000006,8.6999999999999993,132498,2,1.9,{"$f":"INDEX(INDIRECT(\"'\"&AF$7&\"'!B:B\"),MATCH($D689,INDIRECT(\"'\"&AF$7&\"'!A:A\")))","v":1493},114636,13548,231.74100000000001,105.824,124270,109096,117980,17862,1493,105.23,{"$error":"#N/A"},{"$error":"#N/A"},{"$error":"#N/A"},{"$error":"#N/A"},{"$error":"#N/A"},{"$error":"#N/A"},{"$error":"#N/A"}]
[null,null,null,"2012-11-01",145.53,144.04,144.72,136.09,124.16,157.94,162.25,151.13,112.6,100.56,9.8314699999999995,65.3,1493,7939,5659,10.029999999999999,10.029999999999999,202542,668,513,392,4.5999999999999996,65.400000000000006,8.6999999999999993,132498,2,1.9,1493,114636,13548,231.202,105.824,124248,109206,118079,17862,1493,105.23,{"$error":"#N/A"},{"$error":"#N/A"},{"$error":"#N/A"},{"$error":"#N/A"},{"$error":"#N/A"},{"$error":"#N/A"},{"$error":"#N/A"}]
[null,null,null,"2012-12-01",147.02000000000001,143.94999999999999,145.81,136.09,125.33,159.56,162.65,152.37,113.39,102.41,9.8314699999999995,65.3,1493,7939,5659,10.029999999999999,10.029999999999999,202542,677,525,399,4.5,65.400000000000006,8.6999999999999993,132498,2,1.9,1493,114636,13548,231.16499999999999,105.824,124219,109308,118170,17862,1493,105.23,{"$error":"#N/A"},{"$error":"#N/A"},{"$error":"#N/A"},{"$error":"#N/A"},{"$error":"#N/A"},{"$error":"#N/A"},{"$error":"#N/A"}]
[null,null,null,"2013-01-01",148.41,144.38999999999999,147.27000000000001,140.93,126.69,160.97,162.94,153.51,114,104.04,10.119540000000001,65.2,1603,5922,4721,9.69,9.69,191329,726,557,453,3.9,65.099999999999994,8.6,132620,2,2.1,1603,114248,13921,231.44399999999999,106.20399999999999,124357,109448,118348,18374,1603,105.60599999999999,{"$error":"#N/A"},{"$error":"#N/A"},{"$error":"#N/A"},{"$error":"#N/A"},{"$error":"#N/A"},{"$error":"#N/A"},{"$error":"#N/A"}]
[null,null,null,"2013-02-01",149.81,145.22999999999999,148.43,140.93,128.1,162.49,164.2,153.97,115.03,105.46,10.119540000000001,65.2,1603,5922,4721,9.69,9.69,191329,723,569,448,4.0999999999999996,65.099999999999994,8.6,132620,2,2.1,1603,114248,13921,232.803,106.20399999999999,124354,109541,118433,18374,1603,105.60599999999999,{"$error":"#N/A"},{"$error":"#N/A"},{"$error":"#N/A"},{"$error":"#N/A"},{"$error":"#N/A"},{"$error":"#N/A"},{"$error":"#N/A"}]
[null,null,null,"2013-03-01",152.41,148.04,150.38999999999999,140.93,130.29,165.34,164.03,155.88999999999999,116.57,108.36,10.119540000000001,65.2,1603,5922,4721,9.69,9.69,191329,805,591,440,4.2,65.099999999999994,8.6,132620,2,2.1,1603,114248,13921,232.245,106.20399999999999,124343,109635,118520,18374,1603,105.60599999999999,{"$error":"#N/A"},{"$error":"#N/A"},{"$error":"#N/A"},{"$error":"#N/A"},{"$error":"#N/A"},{"$error":"#N/A"},{"$error":"#N/A"}]
[null,null,null,"2013-04-01",154.68,151.07,151.74,144.19,132.47,168.04,165.53,159.65,117.93,111.05,10.01826,65.099999999999994,1460,4782,3768,9.3000000000000007,9.3000000000000007,178538,699,529,452,4.3,65.099999999999994,8.1999999999999993,{"$f":"INDEX(INDIRECT(\"'\"&AC$7&\"'!B:B\"),MATCH($D695,INDIRECT(\"'\"&AC$7&\"'!A:A\")))","v":132742},2,1.9,1460,114669,13699,231.672,106.488,124380,109736,118612,18074,1460,105.875,{"$error":"#N/A"},{"$error":"#N/A"},{"$error":"#N/A"},{"$error":"#N/A"},{"$error":"#N/A"},{"$error":"#N/A"},{"$error":"#N/A"}]
[null,null,null,"2013-05-01",156.34,153.97,152.85,144.19,134.97,169.83,166.49,163.74,119.69,114.09,10.01826,65.099999999999994,1460,4782,3768,9.3000000000000007,9.3000000000000007,178538,719,560,431,4.5,65.099999999999994,8.1999999999999993,132742,2,1.9,1460,114669,13699,231.99,106.488,124388,109839,118708,18074,1460,105.875,{"$error":"#N/A"},{"$error":"#N/A"},{"$error":"#N/A"},{"$error":"#N/A"},{"$error":"#N/A"},{"$error":"#N/A"},{"$error":"#N/A"}]
[null,null,null,"2013-06-01",157.82,156.54,153.94,144.19,137.36000000000001,171.54,167.17,167.1,120.27,117.28,10.01826,65.099999999999994,1460,4782,3768,9.3000000000000007,9.3000000000000007,178538,763,541,459,4.2,65.099999999999994,8.1999999999999993,132742,2,1.9,1460,114669,13699,232.583,106.488,124406,109943,118804,18074,1460,105.875,{"$error":"#N/A"},{"$error":"#N/A"},{"$error":"#N/A"},{"$error":"#N/A"},{"$error":"#N/A"},{"$error":"#N/A"},{"$error":"#N/A"}]
[null,null,null,"2013-07-01",159.08000000000001,158.4,155.16,147.72,139.36000000000001,172.95,167.57,169.07,121.59,120.58,9.9809400000000004,65.099999999999994,1470,3293,2429,8.64,8.64,165377,779,579,367,5.6,65.099999999999994,8.3000000000000007,132843,2,1.9,1470,114769,13603,232.98,106.923,124401,110054,118907,18075,1470,106.252,{"$error":"#N/A"},{"$error":"#N/A"},{"$error":"#N/A"},{"$error":"#N/A"},{"$error":"#N/A"},{"$error":"#N/A"},{"$error":"#N/A"}]
[null,null,null,"2013-08-01",160.69,159.51,156.5,147.72,141.47,174.69,168.26,170.41,122.02,124.09,9.9809400000000004,65.099999999999994,1470,3293,2429,8.64,8.64,165377,763,569,379,5.5,65.099999999999994,8.3000000000000007,132843,2,1.9,1470,114769,13603,233.41300000000001,106.923,124409,110172,119018,18075,1470,106.252,{"$error":"#N/A"},{"$error":"#N/A"},{"$error":"#N/A"},{"$error":"#N/A"},{"$error":"#N/A"},{"$error":"#N/A"},{"$error":"#N/A"}]
[null,null,null,"2013-09-01",162.35,159.79,157.91,147.72,143.13999999999999,176.42,169.3,171.7,122.93,125.74,9.9809400000000004,65.099999999999994,1470,3293,2429,8.64,8.64,165377,761,563,399,5.5,65.099999999999994,8.3000000000000007,132843,2,1.9,1470,114769,13603,233.773,106.923,124465,110292,119131,18075,1470,106.252,{"$error":"#N/A"},{"$error":"#N/A"},{"$error":"#N/A"},{"$error":"#N/A"},{"$error":"#N/A"},{"$error":"#N/A"},{"$error":"#N/A"}]
[null,null,null,"2013-10-01",164.04,159.68,159.19999999999999,151.65,144.49,178.22,170.68,173.63,124.14,127.23,10.024509999999999,65.099999999999994,1587,3150,2465,8.26,8.26,158862,815,604,450,{"$f":"INDEX(INDIRECT(\"'\"&Z$7&\"'!B:B\"),MATCH($D701,INDIRECT(\"'\"&Z$7&\"'!A:A\")))","v":4.9000000000000004},65.099999999999994,8.1999999999999993,132965,2,2.1,1587,114992,13551,233.90299999999999,107.301,124461,110414,119246,17974,1587,106.60299999999999,{"$error":"#N/A"},{"$error":"#N/A"},{"$error":"#N/A"},{"$error":"#N/A"},{"$error":"#N/A"},{"$error":"#N/A"},{"$error":"#N/A"}]
[null,null,null,"2013-11-01",165.58,159.5,160.35,151.65,144.86000000000001,179.94,172.12,176.02,125.18,128,10.024509999999999,65.099999999999994,1587,3150,2465,8.26,8.26,158862,826,593,445,5,65.099999999999994,8.1999999999999993,132965,2,2.1,1587,114992,13551,234.03800000000001,107.301,124474,110515,119341,17974,1587,106.60299999999999,{"$error":"#N/A"},{"$error":"#N/A"},{"$error":"#N/A"},{"$error":"#N/A"},{"$error":"#N/A"},{"$error":"#N/A"},{"$error":"#N/A"}]
[null,null,null,"2013-12-01",166.81,159.44,161.6,151.65,144.47999999999999,181.29,172.8,177.57,126.36,128.53,10.024509999999999,65.099999999999994,1587,3150,2465,8.26,8.26,158862,775,568,442,5.0999999999999996,65.099999999999994,8.1999999999999993,132965,2,2.1,1587,114992,13551,234.697,107.301,124438,110613,119433,17974,1587,106.60299999999999,{"$error":"#N/A"},{"$error":"#N/A"},{"$error":"#N/A"},{"$error":"#N/A"},{"$error":"#N/A"},{"$error":"#N/A"},{"$error":"#N/A"}]
[null,null,null,"2014-01-01",168.08,159.53,162.74,155.47,144.18,182.76,173.87,178.85,126.47,129.93,9.9564699999999995,65,1521,2093,1840,7.81,7.81,147720,850,609,457,5,64.5,8.3000000000000007,133087,1.9,2,1521,114762,13791,235.12799999999999,107.658,124453,110746,119497,18326,1521,106.922,{"$error":"#N/A"},{"$error":"#N/A"},{"$error":"#N/A"},{"$error":"#N/A"},{"$error":"#N/A"},{"$error":"#N/A"},{"$error":"#N/A"}]
[null,null,null,"2014-02-01",169.08,160.04,163.57,155.47,144.1,183.82,174.26,178.57,127.5,129.85,9.9564699999999995,65,1521,2093,1840,7.81,7.81,147720,866,617,432,5.2,64.5,8.3000000000000007,133087,1.9,2,1521,114762,13791,235.35599999999999,107.658,124439,110838,119583,18326,1521,106.922,{"$error":"#N/A"},{"$error":"#N/A"},{"$error":"#N/A"},{"$error":"#N/A"},{"$error":"#N/A"},{"$error":"#N/A"},{"$error":"#N/A"}]
[null,null,null,"2014-03-01",171.22,161.35,163.86,155.47,144.71,186.15,174.68,181.03,130.1,131.28,9.9564699999999995,65,1521,2093,1840,7.81,7.81,147720,874,614,403,5.7,64.5,8.3000000000000007,133087,1.9,2,1521,114762,13791,235.79,107.658,124410,110930,119669,18326,1521,106.922,{"$error":"#N/A"},{"$error":"#N/A"},{"$error":"#N/A"},{"$error":"#N/A"},{"$error":"#N/A"},{"$error":"#N/A"},{"$error":"#N/A"}]
[null,null,null,"2014-04-01",171.32,163.13,163.78,155.47,145.36000000000001,186.23,174.56,183.04,130.49,131.88,9.9253800000000005,64.8,1425,1711,1334,7.4,7.4,139363,{"$f":"INDEX(INDIRECT(\"'\"&W$7&\"'!B:B\"),MATCH($D707,INDIRECT(\"'\"&W$7&\"'!A:A\")))","v":832},606,413,5.5,64.5,7.5,133209,1.9,1.9,1425,115127,13596,236.24,108.23099999999999,124453,111027,119760,18082,1425,107.447,{"$error":"#N/A"},{"$error":"#N/A"},{"$error":"#N/A"},{"$error":"#N/A"},{"$error":"#N/A"},{"$error":"#N/A"},{"$error":"#N/A"}]
[null,null,null,"2014-05-01",170.83,164.87,163.63,155.47,145.97999999999999,185.61,174.24,185.21,129.75,133.29,9.9253800000000005,64.8,1425,1711,1334,7.4,7.4,139363,898,628,458,5,64.5,7.5,133209,1.9,1.9,1425,115127,13596,236.95,108.23099999999999,124442,111126,119852,18082,1425,107.447,{"$error":"#N/A"},{"$error":"#N/A"},{"$error":"#N/A"},{"$error":"#N/A"},{"$error":"#N/A"},{"$error":"#N/A"},{"$error":"#N/A"}]
[null,null,null,"2014-06-01",170.49,166.42,163.63999999999999,155.47,146.84,185.38,174.25,186.24,128.31,135.07,9.9253800000000005,64.8,1425,1711,1334,7.4,7.4,139363,809,591,409,5.8,64.5,7.5,133209,1.9,1.9,1425,115127,13596,237.34800000000001,108.23099999999999,124478,111230,119948,18082,1425,107.447,{"$error":"#N/A"},{"$error":"#N/A"},{"$error":"#N/A"},{"$error":"#N/A"},{"$error":"#N/A"},{"$error":"#N/A"},{"$error":"#N/A"}]
[null,null,null,"2014-07-01",169.79,167.35,163.94,155.47,147.26,184.64,174.06,187.62,126.67,135.93,9.9181299999999997,64.3,1370,1606,1319,6.99,6.99,131815,860,631,399,6.2,64.5,7.4,133331,1.9,1.8,1370,115310,13447,237.596,108.60299999999999,124500,111342,120052,18021,1370,107.821,{"$error":"#N/A"},{"$error":"#N/A"},{"$error":"#N/A"},{"$error":"#N/A"},{"$error":"#N/A"},{"$error":"#N/A"},{"$error":"#N/A"}]
[null,null,null,"2014-08-01",169.66,167.66,164.5,155.47,147.55000000000001,184.38,173.73,188.15,125.62,136.66,9.9181299999999997,64.3,1370,1606,1319,6.99,6.99,131815,908,611,448,5.5,64.5,7.4,133331,1.9,1.8,1370,115310,13447,237.40899999999999,108.60299999999999,124549,111451,120156,18021,1370,107.821,{"$error":"#N/A"},{"$error":"#N/A"},{"$error":"#N/A"},{"$error":"#N/A"},{"$error":"#N/A"},{"$error":"#N/A"},{"$error":"#N/A"}]
[null,null,null,"2014-09-01",170.12,167.45,165.49,155.47,147.32,184.75,173.54,189.21,125.8,137.25,9.9181299999999997,64.3,1370,1606,1319,6.99,6.99,131815,950,627,456,5.5,64.5,7.4,133331,1.9,1.8,1370,115310,13447,237.626,108.60299999999999,124587,111567,120265,18021,1370,107.821,{"$error":"#N/A"},{"$error":"#N/A"},{"$error":"#N/A"},{"$error":"#N/A"},{"$error":"#N/A"},{"$error":"#N/A"},{"$error":"#N/A"}]
[null,null,null,"2014-10-01",{"$f":"INDEX(INDIRECT(\"'\"&E$7&\"'!B:B\"),MATCH($D713,INDIRECT(\"'\"&E$7&\"'!A:A\")))","v":171.34},167.15,166.66,155.47,147.41999999999999,186,173.87,189.97,126.33,137.34,9.9119700000000002,63.9,1449,1634,1347,6.63,6.63,126655,915,614,469,5.4,64.5,7,133453,1.9,1.9,1449,116647,{"$f":"INDEX(INDIRECT(\"'\"&AH$7&\"'!B:B\"),MATCH($D713,INDIRECT(\"'\"&AH$7&\"'!A:A\")))","v":12683},237.75299999999999,108.64700000000001,124607,111679,120370,16806,1449,108.111,{"$error":"#N/A"},{"$error":"#N/A"},{"$error":"#N/A"},{"$error":"#N/A"},{"$error":"#N/A"},{"$error":"#N/A"},{"$error":"#N/A"}]
[null,null,null,{"$f":"EOMONTH(D713,$E$1)+1","v":"2014-11-01"},172.7,166.94,167.86,155.47,147.69,187.44,174.62,191.09,127.48,137.85,9.9119700000000002,63.9,1449,1634,1347,6.63,6.63,126655,867,613,448,5.7,64.5,7,133453,1.9,1.9,1449,116647,12683,237.06700000000001,108.64700000000001,124612,111778,120465,16806,1449,108.111,{"$error":"#N/A"},{"$error":"#N/A"},{"$error":"#N/A"},{"$error":"#N/A"},{"$error":"#N/A"},{"$error":"#N/A"},{"$error":"#N/A"}]
[null,null,null,"2014-12-01",174.28,166.75,169.05,155.47,147.99,189.14,176.13,192.38,128.22,137.41,9.9119700000000002,63.9,1449,1634,1347,6.63,6.63,126655,941,667,496,5.0999999999999996,64.5,7,133453,1.9,1.9,1449,116647,12683,236.28399999999999,108.64700000000001,124597,111875,120557,16806,1449,108.111,{"$error":"#N/A"},{"$error":"#N/A"},{"$error":"#N/A"},{"$error":"#N/A"},{"$error":"#N/A"},{"$error":"#N/A"},{"$error":"#N/A"}]
[null,null,null,"2015-01-01",175.8,166.66,170.01,155.47,147.97999999999999,190.8,177.5,193.76,129.66999999999999,137.63999999999999,9.9119700000000002,63.9,1449,1634,1347,6.63,6.63,126655,973,674,514,5,64.5,7,133453,1.9,1.9,1449,116647,12683,234.67699999999999,108.64700000000001,124974,112117,120970,16806,1449,108.111,{"$error":"#N/A"},{"$error":"#N/A"},{"$error":"#N/A"},{"$error":"#N/A"},{"$error":"#N/A"},{"$error":"#N/A"},{"$error":"#N/A"}]
[null,null,null,"2015-02-01",175.8,166.66,170.01,155.47,147.97999999999999,190.8,177.5,193.76,129.66999999999999,137.63999999999999,9.9119700000000002,63.9,1449,1634,1347,6.63,6.63,126655,856,597,543,4.5999999999999996,64.5,7,133453,1.9,1.9,1449,116647,12683,235.18600000000001,108.64700000000001,124959,112209,121060,16806,1449,108.111,{"$error":"#N/A"},{"$error":"#N/A"},{"$error":"#N/A"},{"$error":"#N/A"},{"$error":"#N/A"},{"$error":"#N/A"},{"$error":"#N/A"}]
[null,null,null,"2015-03-01",175.8,166.66,170.01,155.47,147.97999999999999,190.8,177.5,193.76,129.66999999999999,137.63999999999999,9.9119700000000002,63.9,1449,1634,1347,6.63,6.63,126655,823,602,481,5.3,64.5,7,133453,1.9,1.9,1449,116647,12683,235.74,108.64700000000001,124949,112304,121152,16806,1449,108.111,{"$error":"#N/A"},{"$error":"#N/A"},{"$error":"#N/A"},{"$error":"#N/A"},{"$error":"#N/A"},{"$error":"#N/A"},{"$error":"#N/A"}]
[null,null,null,"2015-04-01",175.8,166.66,170.01,155.47,147.97999999999999,190.8,177.5,193.76,129.66999999999999,137.63999999999999,9.9119700000000002,63.9,1449,1634,1347,6.63,6.63,126655,823,602,481,5.3,64.5,7,133453,1.9,{"$f":"INDEX(INDIRECT(\"'\"&AE$7&\"'!B:B\"),MATCH($D719,INDIRECT(\"'\"&AE$7&\"'!A:A\")))","v":1.9},1449,116647,12683,235.74,108.64700000000001,124949,112304,121152,16806,1449,108.111,{"$error":"#N/A"},{"$error":"#N/A"},{"$error":"#N/A"},{"$error":"#N/A"},{"$error":"#N/A"},{"$error":"#N/A"},{"$error":"#N/A"}]
[null,null,null,"2015-05-01",175.8,166.66,170.01,155.47,147.97999999999999,190.8,177.5,193.76,129.66999999999999,137.63999999999999,9.9119700000000002,63.9,1449,1634,1347,6.63,6.63,126655,823,602,481,5.3,64.5,7,133453,1.9,1.9,1449,116647,12683,235.74,108.64700000000001,124949,112304,121152,16806,1449,108.111,{"$error":"#N/A"},{"$error":"#N/A"},{"$error":"#N/A"},{"$error":"#N/A"},{"$error":"#N/A"},{"$error":"#N/A"},{"$error":"#N/A"}]
[null,null,null,"2015-06-01",175.8,166.66,170.01,155.47,147.97999999999999,190.8,177.5,193.76,129.66999999999999,137.63999999999999,9.9119700000000002,63.9,1449,1634,1347,6.63,6.63,126655,823,602,481,5.3,64.5,7,133453,1.9,1.9,1449,116647,12683,235.74,108.64700000000001,124949,112304,121152,16806,1449,108.111,{"$error":"#N/A"},{"$error":"#N/A"},{"$error":"#N/A"},{"$error":"#N/A"},{"$error":"#N/A"},{"$error":"#N/A"},{"$error":"#N/A"}]
[null,null,null,"2015-07-01",175.8,166.66,170.01,155.47,147.97999999999999,190.8,177.5,193.76,129.66999999999999,137.63999999999999,9.9119700000000002,63.9,1449,1634,1347,6.63,6.63,126655,823,602,481,5.3,64.5,7,133453,1.9,1.9,1449,116647,12683,235.74,108.64700000000001,124949,112304,121152,16806,1449,108.111,{"$error":"#N/A"},{"$error":"#N/A"},{"$error":"#N/A"},{"$error":"#N/A"},{"$error":"#N/A"},{"$error":"#N/A"},{"$error":"#N/A"}]
[null,null,null,"2015-08-01",175.8,166.66,170.01,155.47,147.97999999999999,190.8,177.5,193.76,129.66999999999999,137.63999999999999,9.9119700000000002,63.9,1449,1634,1347,6.63,6.63,126655,823,602,481,5.3,64.5,7,133453,1.9,1.9,1449,116647,12683,235.74,108.64700000000001,124949,112304,121152,16806,1449,108.111,{"$error":"#N/A"},{"$error":"#N/A"},{"$error":"#N/A"},{"$error":"#N/A"},{"$error":"#N/A"},{"$error":"#N/A"},{"$error":"#N/A"}]
[null,null,null,"2015-09-01",175.8,166.66,170.01,155.47,147.97999999999999,190.8,177.5,193.76,129.66999999999999,137.63999999999999,9.9119700000000002,63.9,1449,1634,1347,6.63,6.63,126655,823,602,481,5.3,64.5,7,133453,1.9,1.9,1449,116647,12683,235.74,108.64700000000001,124949,112304,121152,16806,1449,108.111,{"$error":"#N/A"},{"$error":"#N/A"},{"$error":"#N/A"},{"$error":"#N/A"},{"$error":"#N/A"},{"$error":"#N/A"},{"$error":"#N/A"}]
[null,null,null,"2015-10-01",175.8,166.66,170.01,155.47,147.97999999999999,190.8,177.5,193.76,129.66999999999999,137.63999999999999,9.9119700000000002,63.9,1449,1634,1347,6.63,6.63,126655,823,602,481,5.3,64.5,{"$f":"INDEX(INDIRECT(\"'\"&AB$7&\"'!B:B\"),MATCH($D725,INDIRECT(\"'\"&AB$7&\"'!A:A\")))","v":7},133453,1.9,1.9,1449,116647,12683,235.74,108.64700000000001,124949,112304,121152,16806,1449,108.111,{"$error":"#N/A"},{"$error":"#N/A"},{"$error":"#N/A"},{"$error":"#N/A"},{"$error":"#N/A"},{"$error":"#N/A"},{"$error":"#N/A"}]
[null,null,null,"2015-11-01",175.8,166.66,170.01,155.47,147.97999999999999,190.8,177.5,193.76,129.66999999999999,137.63999999999999,9.9119700000000002,63.9,1449,1634,1347,6.63,6.63,126655,823,602,481,5.3,64.5,7,133453,1.9,1.9,1449,116647,12683,235.74,108.64700000000001,124949,112304,121152,16806,1449,108.111,{"$error":"#N/A"},{"$error":"#N/A"},{"$error":"#N/A"},{"$error":"#N/A"},{"$error":"#N/A"},{"$error":"#N/A"},{"$error":"#N/A"}]
[null,null,null,"2015-12-01",175.8,166.66,170.01,155.47,147.97999999999999,190.8,177.5,193.76,129.66999999999999,137.63999999999999,9.9119700000000002,63.9,1449,1634,1347,6.63,6.63,126655,823,602,481,5.3,64.5,7,133453,1.9,1.9,1449,116647,12683,235.74,108.64700000000001,124949,112304,121152,16806,1449,108.111,{"$error":"#N/A"},{"$error":"#N/A"},{"$error":"#N/A"},{"$error":"#N/A"},{"$error":"#N/A"},{"$error":"#N/A"},{"$error":"#N/A"}]
[null,null,null,"2016-01-01",175.8,166.66,170.01,155.47,147.97999999999999,190.8,177.5,193.76,129.66999999999999,137.63999999999999,9.9119700000000002,63.9,1449,1634,1347,6.63,6.63,126655,823,602,481,5.3,64.5,7,133453,1.9,1.9,1449,116647,12683,235.74,108.64700000000001,124949,112304,121152,16806,1449,108.111,{"$error":"#N/A"},{"$error":"#N/A"},{"$error":"#N/A"},{"$error":"#N/A"},{"$error":"#N/A"},{"$error":"#N/A"},{"$error":"#N/A"}]
[null,null,null,"2016-02-01",175.8,166.66,170.01,155.47,147.97999999999999,190.8,177.5,193.76,129.66999999999999,137.63999999999999,9.9119700000000002,63.9,1449,1634,1347,6.63,6.63,126655,823,602,481,5.3,64.5,7,133453,1.9,1.9,1449,116647,12683,235.74,108.64700000000001,124949,112304,121152,16806,1449,108.111,{"$error":"#N/A"},{"$error":"#N/A"},{"$error":"#N/A"},{"$error":"#N/A"},{"$error":"#N/A"},{"$error":"#N/A"},{"$error":"#N/A"}]
[null,null,null,"2016-03-01",175.8,166.66,170.01,155.47,147.97999999999999,190.8,177.5,193.76,129.66999999999999,137.63999999999999,9.9119700000000002,63.9,1449,1634,1347,6.63,6.63,126655,823,602,481,5.3,64.5,7,133453,1.9,1.9,1449,116647,12683,235.74,108.64700000000001,124949,112304,121152,16806,1449,108.111,{"$error":"#N/A"},{"$error":"#N/A"},{"$error":"#N/A"},{"$error":"#N/A"},{"$error":"#N/A"},{"$error":"#N/A"},{"$error":"#N/A"}]
[null,null,null,"2016-04-01",175.8,166.66,170.01,155.47,147.97999999999999,190.8,177.5,193.76,129.66999999999999,137.63999999999999,9.9119700000000002,63.9,1449,1634,1347,6.63,6.63,126655,823,602,{"$f":"INDEX(INDIRECT(\"'\"&Y$7&\"'!B:B\"),MATCH($D731,INDIRECT(\"'\"&Y$7&\"'!A:A\")))","v":481},5.3,64.5,7,133453,1.9,1.9,1449,116647,12683,235.74,108.64700000000001,124949,112304,121152,16806,1449,108.111,{"$error":"#N/A"},{"$error":"#N/A"},{"$error":"#N/A"},{"$error":"#N/A"},{"$error":"#N/A"},{"$error":"#N/A"},{"$error":"#N/A"}]
[null,null,null,"2016-05-01",175.8,166.66,170.01,155.47,147.97999999999999,190.8,177.5,193.76,129.66999999999999,137.63999999999999,9.9119700000000002,63.9,1449,1634,1347,6.63,6.63,126655,823,602,481,5.3,64.5,7,133453,1.9,1.9,1449,116647,12683,235.74,108.64700000000001,124949,112304,121152,16806,1449,108.111,{"$error":"#N/A"},{"$error":"#N/A"},{"$error":"#N/A"},{"$error":"#N/A"},{"$error":"#N/A"},{"$error":"#N/A"},{"$error":"#N/A"}]
[null,null,null,"2016-06-01",175.8,166.66,170.01,155.47,147.97999999999999,190.8,177.5,193.76,129.66999999999999,137.63999999999999,9.9119700000000002,63.9,1449,1634,1347,6.63,6.63,126655,823,602,481,5.3,64.5,7,133453,1.9,1.9,1449,116647,12683,235.74,108.64700000000001,124949,112304,121152,16806,1449,108.111,{"$error":"#N/A"},{"$error":"#N/A"},{"$error":"#N/A"},{"$error":"#N/A"},{"$error":"#N/A"},{"$error":"#N/A"},{"$error":"#N/A"}]
[null,null,null,"2016-07-01",175.8,166.66,170.01,155.47,147.97999999999999,190.8,177.5,193.76,129.66999999999999,137.63999999999999,9.9119700000000002,63.9,1449,1634,1347,6.63,6.63,126655,823,602,481,5.3,64.5,7,133453,1.9,1.9,1449,116647,12683,235.74,108.64700000000001,124949,112304,121152,16806,1449,108.111,{"$error":"#N/A"},{"$error":"#N/A"},{"$error":"#N/A"},{"$error":"#N/A"},{"$error":"#N/A"},{"$error":"#N/A"},{"$error":"#N/A"}]
[null,null,null,"2016-08-01",175.8,166.66,170.01,155.47,147.97999999999999,190.8,177.5,193.76,129.66999999999999,137.63999999999999,9.9119700000000002,63.9,1449,1634,1347,6.63,6.63,126655,823,602,481,5.3,64.5,7,133453,1.9,1.9,1449,116647,12683,235.74,108.64700000000001,124949,112304,121152,16806,1449,108.111,{"$error":"#N/A"},{"$error":"#N/A"},{"$error":"#N/A"},{"$error":"#N/A"},{"$error":"#N/A"},{"$error":"#N/A"},{"$error":"#N/A"}]
[null,null,null,"2016-09-01",175.8,166.66,170.01,155.47,147.97999999999999,190.8,177.5,193.76,129.66999999999999,137.63999999999999,9.9119700000000002,63.9,1449,1634,1347,6.63,6.63,126655,823,602,481,5.3,64.5,7,133453,1.9,1.9,1449,116647,12683,235.74,108.64700000000001,124949,112304,121152,16806,1449,108.111,{"$error":"#N/A"},{"$error":"#N/A"},{"$error":"#N/A"},{"$error":"#N/A"},{"$error":"#N/A"},{"$error":"#N/A"},{"$error":"#N/A"}]
[null,null,null,"2016-10-01",175.8,166.66,170.01,155.47,147.97999999999999,190.8,177.5,193.76,129.66999999999999,137.63999999999999,9.9119700000000002,63.9,1449,1634,1347,6.63,6.63,{"$f":"INDEX(INDIRECT(\"'\"&V$7&\"'!B:B\"),MATCH($D737,INDIRECT(\"'\"&V$7&\"'!A:A\")))","v":126655},823,602,481,5.3,64.5,7,133453,1.9,1.9,1449,116647,12683,235.74,108.64700000000001,124949,112304,121152,16806,1449,108.111,{"$error":"#N/A"},{"$error":"#N/A"},{"$error":"#N/A"},{"$error":"#N/A"},{"$error":"#N/A"},{"$error":"#N/A"},{"$error":"#N/A"}]
[null,null,null,"2016-11-01",175.8,166.66,170.01,155.47,147.97999999999999,190.8,177.5,193.76,129.66999999999999,137.63999999999999,9.9119700000000002,63.9,1449,1634,1347,6.63,6.63,126655,823,602,481,5.3,64.5,7,133453,1.9,1.9,1449,116647,12683,235.74,108.64700000000001,124949,112304,121152,16806,1449,108.111,{"$error":"#N/A"},{"$error":"#N/A"},{"$error":"#N/A"},{"$error":"#N/A"},{"$error":"#N/A"},{"$error":"#N/A"},{"$error":"#N/A"}]
[null,null,null,"2016-12-01",175.8,166.66,170.01,155.47,147.97999999999999,190.8,177.5,193.76,129.66999999999999,137.63999999999999,9.9119700000000002,63.9,1449,1634,1347,6.63,6.63,126655,823,602,481,5.3,64.5,7,133453,1.9,1.9,1449,116647,12683,235.74,108.64700000000001,124949,112304,121152,16806,1449,108.111,{"$error":"#N/A"},{"$error":"#N/A"},{"$error":"#N/A"},{"$error":"#N/A"},{"$error":"#N/A"},{"$error":"#N/A"},{"$error":"#N/A"}]
[null,null,null,"2017-01-01",175.8,166.66,170.01,155.47,147.97999999999999,190.8,177.5,193.76,129.66999999999999,137.63999999999999,9.9119700000000002,63.9,1449,1634,1347,6.63,6.63,126655,823,602,481,5.3,64.5,7,133453,1.9,1.9,1449,116647,12683,235.74,108.64700000000001,124949,112304,121152,16806,1449,108.111,{"$error":"#N/A"},{"$error":"#N/A"},{"$error":"#N/A"},{"$error":"#N/A"},{"$error":"#N/A"},{"$error":"#N/A"},{"$error":"#N/A"}]
[null,null,null,"2017-02-01",175.8,166.66,170.01,155.47,147.97999999999999,190.8,177.5,193.76,129.66999999999999,137.63999999999999,9.9119700000000002,63.9,1449,1634,1347,6.63,6.63,126655,823,602,481,5.3,64.5,7,133453,1.9,1.9,1449,116647,12683,235.74,108.64700000000001,124949,112304,121152,16806,1449,108.111,{"$error":"#N/A"},{"$error":"#N/A"},{"$error":"#N/A"},{"$error":"#N/A"},{"$error":"#N/A"},{"$error":"#N/A"},{"$error":"#N/A"}]
[null,null,null,"2017-03-01",175.8,166.66,170.01,155.47,147.97999999999999,190.8,177.5,193.76,129.66999999999999,137.63999999999999,9.9119700000000002,63.9,1449,1634,1347,6.63,6.63,126655,823,602,481,5.3,64.5,7,133453,1.9,1.9,1449,116647,12683,235.74,108.64700000000001,124949,112304,121152,16806,1449,108.111,{"$error":"#N/A"},{"$error":"#N/A"},{"$error":"#N/A"},{"$error":"#N/A"},{"$error":"#N/A"},{"$error":"#N/A"},{"$error":"#N/A"}]
[null,null,null,"2017-04-01",175.8,166.66,170.01,155.47,147.97999999999999,190.8,177.5,193.76,129.66999999999999,137.63999999999999,9.9119700000000002,63.9,1449,1634,{"$f":"INDEX(INDIRECT(\"'\"&S$7&\"'!B:B\"),MATCH($D743,INDIRECT(\"'\"&S$7&\"'!A:A\")))","v":1347},6.63,6.63,126655,823,602,481,5.3,64.5,7,133453,1.9,1.9,1449,116647,12683,235.74,108.64700000000001,124949,112304,121152,16806,1449,108.111,{"$error":"#N/A"},{"$error":"#N/A"},{"$error":"#N/A"},{"$error":"#N/A"},{"$error":"#N/A"},{"$error":"#N/A"},{"$error":"#N/A"}]
[null,null,null,"2017-05-01",175.8,166.66,170.01,155.47,147.97999999999999,190.8,177.5,193.76,129.66999999999999,137.63999999999999,9.9119700000000002,63.9,1449,1634,1347,6.63,6.63,126655,823,602,481,5.3,64.5,7,133453,1.9,1.9,1449,116647,12683,235.74,108.64700000000001,124949,112304,121152,16806,1449,108.111,{"$error":"#N/A"},{"$error":"#N/A"},{"$error":"#N/A"},{"$error":"#N/A"},{"$error":"#N/A"},{"$error":"#N/A"},{"$error":"#N/A"}]
[null,null,null,"2017-06-01",175.8,166.66,170.01,155.47,147.97999999999999,190.8,177.5,193.76,129.66999999999999,137.63999999999999,9.9119700000000002,63.9,1449,1634,1347,6.63,6.63,126655,823,602,481,5.3,64.5,7,133453,1.9,1.9,1449,116647,12683,235.74,108.64700000000001,124949,112304,121152,16806,1449,108.111,{"$error":"#N/A"},{"$error":"#N/A"},{"$error":"#N/A"},{"$error":"#N/A"},{"$error":"#N/A"},{"$error":"#N/A"},{"$error":"#N/A"}]
[null,null,null,"2017-07-01",175.8,166.66,170.01,155.47,147.97999999999999,190.8,177.5,193.76,129.66999999999999,137.63999999999999,9.9119700000000002,63.9,1449,1634,1347,6.63,6.63,126655,823,602,481,5.3,64.5,7,133453,1.9,1.9,1449,116647,12683,235.74,108.64700000000001,124949,112304,121152,16806,1449,108.111,{"$error":"#N/A"},{"$error":"#N/A"},{"$error":"#N/A"},{"$error":"#N/A"},{"$error":"#N/A"},{"$error":"#N/A"},{"$error":"#N/A"}]
[null,null,null,"2017-08-01",175.8,166.66,170.01,155.47,147.97999999999999,190.8,177.5,193.76,129.66999999999999,137.63999999999999,9.9119700000000002,63.9,1449,1634,1347,6.63,6.63,126655,823,602,481,5.3,64.5,7,133453,1.9,1.9,1449,116647,12683,235.74,108.64700000000001,124949,112304,121152,16806,1449,108.111,{"$error":"#N/A"},{"$error":"#N/A"},{"$error":"#N/A"},{"$error":"#N/A"},{"$error":"#N/A"},{"$error":"#N/A"},{"$error":"#N/A"}]
[null,null,null,"2017-09-01",175.8,166.66,170.01,155.47,147.97999999999999,190.8,177.5,193.76,129.66999999999999,137.63999999999999,9.9119700000000002,63.9,1449,1634,1347,6.63,6.63,126655,823,602,481,5.3,64.5,7,133453,1.9,1.9,1449,116647,12683,235.74,108.64700000000001,124949,112304,121152,16806,1449,108.111,{"$error":"#N/A"},{"$error":"#N/A"},{"$error":"#N/A"},{"$error":"#N/A"},{"$error":"#N/A"},{"$error":"#N/A"},{"$error":"#N/A"}]
[null,null,null,"2017-10-01",175.8,166.66,170.01,155.47,147.97999999999999,190.8,177.5,193.76,129.66999999999999,137.63999999999999,9.9119700000000002,{"$f":"INDEX(INDIRECT(\"'\"&P$7&\"'!B:B\"),MATCH($D749,INDIRECT(\"'\"&P$7&\"'!A:A\")))","v":63.9},1449,1634,1347,6.63,6.63,126655,823,602,481,5.3,64.5,7,133453,1.9,1.9,1449,116647,12683,235.74,108.64700000000001,124949,112304,121152,16806,1449,108.111,{"$error":"#N/A"},{"$error":"#N/A"},{"$error":"#N/A"},{"$error":"#N/A"},{"$error":"#N/A"},{"$error":"#N/A"},{"$error":"#N/A"}]
[null,null,null,"2017-11-01",175.8,166.66,170.01,155.47,147.97999999999999,190.8,177.5,193.76,129.66999999999999,137.63999999999999,9.9119700000000002,63.9,1449,1634,1347,6.63,6.63,126655,823,602,481,5.3,64.5,7,133453,1.9,1.9,1449,116647,12683,235.74,108.64700000000001,124949,112304,121152,16806,1449,108.111,{"$error":"#N/A"},{"$error":"#N/A"},{"$error":"#N/A"},{"$error":"#N/A"},{"$error":"#N/A"},{"$error":"#N/A"},{"$error":"#N/A"}]
[null,null,null,"2017-12-01",175.8,166.66,170.01,155.47,147.97999999999999,190.8,177.5,193.76,129.66999999999999,137.63999999999999,9.9119700000000002,63.9,1449,1634,1347,6.63,6.63,126655,823,602,481,5.3,64.5,7,133453,1.9,1.9,1449,116647,12683,235.74,108.64700000000001,124949,112304,121152,16806,1449,108.111,{"$error":"#N/A"},{"$error":"#N/A"},{"$error":"#N/A"},{"$error":"#N/A"},{"$error":"#N/A"},{"$error":"#N/A"},{"$error":"#N/A"}]
[null,null,null,"2018-01-01",175.8,166.66,170.01,155.47,147.97999999999999,190.8,177.5,193.76,129.66999999999999,137.63999999999999,9.9119700000000002,63.9,1449,1634,1347,6.63,6.63,126655,823,602,481,5.3,64.5,7,133453,1.9,1.9,1449,116647,12683,235.74,108.64700000000001,124949,112304,121152,16806,1449,108.111,{"$error":"#N/A"},{"$error":"#N/A"},{"$error":"#N/A"},{"$error":"#N/A"},{"$error":"#N/A"},{"$error":"#N/A"},{"$error":"#N/A"}]
[null,null,null,"2018-02-01",175.8,166.66,170.01,155.47,147.97999999999999,190.8,177.5,193.76,129.66999999999999,137.63999999999999,9.9119700000000002,63.9,1449,1634,1347,6.63,6.63,126655,823,602,481,5.3,64.5,7,133453,1.9,1.9,1449,116647,12683,235.74,108.64700000000001,124949,112304,121152,16806,1449,108.111,{"$error":"#N/A"},{"$error":"#N/A"},{"$error":"#N/A"},{"$error":"#N/A"},{"$error":"#N/A"},{"$error":"#N/A"},{"$error":"#N/A"}]
[null,null,null,"2018-03-01",175.8,166.66,170.01,155.47,147.97999999999999,190.8,177.5,193.76,129.66999999999999,137.63999999999999,9.9119700000000002,63.9,1449,1634,1347,6.63,6.63,126655,823,602,481,5.3,64.5,7,133453,1.9,1.9,1449,116647,12683,235.74,108.64700000000001,124949,112304,121152,16806,1449,108.111,{"$error":"#N/A"},{"$error":"#N/A"},{"$error":"#N/A"},{"$error":"#N/A"},{"$error":"#N/A"},{"$error":"#N/A"},{"$error":"#N/A"}]
[null,null,null,"2018-04-01",175.8,166.66,170.01,155.47,147.97999999999999,190.8,177.5,193.76,{"$f":"INDEX(INDIRECT(\"'\"&M$7&\"'!B:B\"),MATCH($D755,INDIRECT(\"'\"&M$7&\"'!A:A\")))","v":129.66999999999999},137.63999999999999,9.9119700000000002,63.9,1449,1634,1347,6.63,6.63,126655,823,602,481,5.3,64.5,7,133453,1.9,1.9,1449,116647,12683,235.74,108.64700000000001,124949,112304,121152,16806,1449,108.111,{"$error":"#N/A"},{"$error":"#N/A"},{"$error":"#N/A"},{"$error":"#N/A"},{"$error":"#N/A"},{"$error":"#N/A"},{"$error":"#N/A"}]
[null,null,null,"2018-05-01",175.8,166.66,170.01,155.47,147.97999999999999,190.8,177.5,193.76,129.66999999999999,137.63999999999999,9.9119700000000002,63.9,1449,1634,1347,6.63,6.63,126655,823,602,481,5.3,64.5,7,133453,1.9,1.9,1449,116647,12683,235.74,108.64700000000001,124949,112304,121152,16806,1449,108.111,{"$error":"#N/A"},{"$error":"#N/A"},{"$error":"#N/A"},{"$error":"#N/A"},{"$error":"#N/A"},{"$error":"#N/A"},{"$error":"#N/A"}]
[null,null,null,"2018-06-01",175.8,166.66,170.01,155.47,147.97999999999999,190.8,177.5,193.76,129.66999999999999,137.63999999999999,9.9119700000000002,63.9,1449,1634,1347,6.63,6.63,126655,823,602,481,5.3,64.5,7,133453,1.9,1.9,1449,116647,12683,235.74,108.64700000000001,124949,112304,121152,16806,1449,108.111,{"$error":"#N/A"},{"$error":"#N/A"},{"$error":"#N/A"},{"$error":"#N/A"},{"$error":"#N/A"},{"$error":"#N/A"},{"$error":"#N/A"}]
[null,null,null,"2018-07-01",175.8,166.66,170.01,155.47,147.97999999999999,190.8,177.5,193.76,129.66999999999999,137.63999999999999,9.9119700000000002,63.9,1449,1634,1347,6.63,6.63,126655,823,602,481,5.3,64.5,7,133453,1.9,1.9,1449,116647,12683,235.74,108.64700000000001,124949,112304,121152,16806,1449,108.111,{"$error":"#N/A"},{"$error":"#N/A"},{"$error":"#N/A"},{"$error":"#N/A"},{"$error":"#N/A"},{"$error":"#N/A"},{"$error":"#N/A"}]

{"sheet":"Graph of One Series","index":3,"n_rows":824,"n_cols":21,"rows_kept":824,"cut":false,"hidden":false,"merged":[]}
[]
[null,null,null,null,null,425,null,"Start",{"$f":"INDEX(D9:D824,F2)","v":"1991-05-01"},null,null,null,null,null,20,null,null,"None"]
[null,null,null,null,null,727,null,"End",{"$f":"INDEX(D9:D824,F3)","v":"2016-07-01"},null,null,"Start",null,null,{"$f":"INDEX(Database!$E$6:$AW$6,'Graph of One Series'!O2)","v":"1968-01-01"},null,null,"CPI"]
[null,null,null,null,null,null,null,null,null,null,null,"Monetary",null,null,{"$f":"INDEX(Database!E3:AP3,'Graph of One Series'!O2)","v":false},null,null,"GDP Def",null,null,1]
[null,null,null,null,null,"End Index",{"$f":"INDEX(F:F,MATCH(E8,D:D,0))","v":1},null,null,null,null,null,null,null,null,null,null,"Excl Eng, Food"]
[]
[null,null,null,"Start",{"$f":"MAX($I$2,D9,$O$3)","v":"1991-05-01"},null,"Adj Inf","X-axis"]
[null,null,null,"End",{"$f":"MIN($I$3,EOMONTH(TODAY(),-1)+1)","v":"2015-04-01"},"Inf Index","w/ End",null,{"$f":"INDEX(Database!E7:AW7,'Graph of One Series'!$O$2)","v":"1 Unit Housing"}]
[null,null,null,{"$f":"Database!D8","v":"1956-01-01"},{"$f":"AND($D9>=E$7,$D9<=E$8)","v":false},{"$f":"IF($O$4,CHOOSE($U$4,1,Database!AI8,Database!AJ8,Database!AP8),1)","v":1},{"$f":"F9/$G$5","v":1},{"$f":"IF(E9,D9,NA())","v":{"$error":"#N/A"}},{"$f":"INDEX(Database!E8:AW8,'Graph of One Series'!$O$2)/G9","v":{"$error":"#N/A"}}]
[null,null,null,{"$f":"Database!D9","v":"1956-02-01"},{"$f":"AND($D10>=E$7,$D10<=E$8)","v":false},{"$f":"IF($O$4,CHOOSE($U$4,1,Database!AI9,Database!AJ9,Database!AP9),1)","v":1},1,{"$error":"#N/A"},{"$f":"INDEX(Database!E9:AW9,'Graph of One Series'!$O$2)/G10","v":{"$error":"#N/A"}}]
[null,null,null,{"$f":"Database!D10","v":"1956-03-01"},false,{"$f":"IF($O$4,CHOOSE($U$4,1,Database!AI10,Database!AJ10,Database!AP10),1)","v":1},1,{"$error":"#N/A"},{"$f":"INDEX(Database!E10:AW10,'Graph of One Series'!$O$2)/G11","v":{"$error":"#N/A"}}]
[null,null,null,{"$f":"Database!D11","v":"1956-04-01"},false,{"$f":"IF($O$4,CHOOSE($U$4,1,Database!AI11,Database!AJ11,Database!AP11),1)","v":1},1,{"$error":"#N/A"},{"$f":"INDEX(Database!E11:AW11,'Graph of One Series'!$O$2)/G12","v":{"$error":"#N/A"}}]
[null,null,null,{"$f":"Database!D12","v":"1956-05-01"},false,{"$f":"IF($O$4,CHOOSE($U$4,1,Database!AI12,Database!AJ12,Database!AP12),1)","v":1},1,{"$error":"#N/A"},{"$f":"INDEX(Database!E12:AW12,'Graph of One Series'!$O$2)/G13","v":{"$error":"#N/A"}}]
[null,null,null,{"$f":"Database!D13","v":"1956-06-01"},false,{"$f":"IF($O$4,CHOOSE($U$4,1,Database!AI13,Database!AJ13,Database!AP13),1)","v":1},1,{"$error":"#N/A"},{"$f":"INDEX(Database!E13:AW13,'Graph of One Series'!$O$2)/G14","v":{"$error":"#N/A"}}]
[null,null,null,{"$f":"Database!D14","v":"1956-07-01"},false,{"$f":"IF($O$4,CHOOSE($U$4,1,Database!AI14,Database!AJ14,Database!AP14),1)","v":1},1,{"$error":"#N/A"},{"$f":"INDEX(Database!E14:AW14,'Graph of One Series'!$O$2)/G15","v":{"$error":"#N/A"}}]
[null,null,null,{"$f":"Database!D15","v":"1956-08-01"},false,{"$f":"IF($O$4,CHOOSE($U$4,1,Database!AI15,Database!AJ15,Database!AP15),1)","v":1},1,{"$error":"#N/A"},{"$f":"INDEX(Database!E15:AW15,'Graph of One Series'!$O$2)/G16","v":{"$error":"#N/A"}}]
[null,null,null,{"$f":"Database!D16","v":"1956-09-01"},false,{"$f":"IF($O$4,CHOOSE($U$4,1,Database!AI16,Database!AJ16,Database!AP16),1)","v":1},1,{"$error":"#N/A"},{"$f":"INDEX(Database!E16:AW16,'Graph of One Series'!$O$2)/G17","v":{"$error":"#N/A"}}]
[null,null,null,{"$f":"Database!D17","v":"1956-10-01"},false,{"$f":"IF($O$4,CHOOSE($U$4,1,Database!AI17,Database!AJ17,Database!AP17),1)","v":1},1,{"$error":"#N/A"},{"$f":"INDEX(Database!E17:AW17,'Graph of One Series'!$O$2)/G18","v":{"$error":"#N/A"}}]
[null,null,null,{"$f":"Database!D18","v":"1956-11-01"},false,{"$f":"IF($O$4,CHOOSE($U$4,1,Database!AI18,Database!AJ18,Database!AP18),1)","v":1},1,{"$error":"#N/A"},{"$f":"INDEX(Database!E18:AW18,'Graph of One Series'!$O$2)/G19","v":{"$error":"#N/A"}}]
[null,null,null,{"$f":"Database!D19","v":"1956-12-01"},false,{"$f":"IF($O$4,CHOOSE($U$4,1,Database!AI19,Database!AJ19,Database!AP19),1)","v":1},1,{"$error":"#N/A"},{"$f":"INDEX(Database!E19:AW19,'Graph of One Series'!$O$2)/G20","v":{"$error":"#N/A"}}]
[null,null,null,{"$f":"Database!D20","v":"1957-01-01"},false,{"$f":"IF($O$4,CHOOSE($U$4,1,Database!AI20,Database!AJ20,Database!AP20),1)","v":1},1,{"$error":"#N/A"},{"$f":"INDEX(Database!E20:AW20,'Graph of One Series'!$O$2)/G21","v":{"$error":"#N/A"}}]
[null,null,null,{"$f":"Database!D21","v":"1957-02-01"},false,{"$f":"IF($O$4,CHOOSE($U$4,1,Database!AI21,Database!AJ21,Database!AP21),1)","v":1},1,{"$error":"#N/A"},{"$f":"INDEX(Database!E21:AW21,'Graph of One Series'!$O$2)/G22","v":{"$error":"#N/A"}}]
[null,null,null,{"$f":"Database!D22","v":"1957-03-01"},false,{"$f":"IF($O$4,CHOOSE($U$4,1,Database!AI22,Database!AJ22,Database!AP22),1)","v":1},1,{"$error":"#N/A"},{"$f":"INDEX(Database!E22:AW22,'Graph of One Series'!$O$2)/G23","v":{"$error":"#N/A"}}]
[null,null,null,{"$f":"Database!D23","v":"1957-04-01"},false,{"$f":"IF($O$4,CHOOSE($U$4,1,Database!AI23,Database!AJ23,Database!AP23),1)","v":1},1,{"$error":"#N/A"},{"$f":"INDEX(Database!E23:AW23,'Graph of One Series'!$O$2)/G24","v":{"$error":"#N/A"}}]
[null,null,null,{"$f":"Database!D24","v":"1957-05-01"},false,{"$f":"IF($O$4,CHOOSE($U$4,1,Database!AI24,Database!AJ24,Database!AP24),1)","v":1},1,{"$error":"#N/A"},{"$f":"INDEX(Database!E24:AW24,'Graph of One Series'!$O$2)/G25","v":{"$error":"#N/A"}}]
[null,null,null,{"$f":"Database!D25","v":"1957-06-01"},false,{"$f":"IF($O$4,CHOOSE($U$4,1,Database!AI25,Database!AJ25,Database!AP25),1)","v":1},1,{"$error":"#N/A"},{"$f":"INDEX(Database!E25:AW25,'Graph of One Series'!$O$2)/G26","v":{"$error":"#N/A"}}]
[null,null,null,{"$f":"Database!D26","v":"1957-07-01"},false,{"$f":"IF($O$4,CHOOSE($U$4,1,Database!AI26,Database!AJ26,Database!AP26),1)","v":1},1,{"$error":"#N/A"},{"$f":"INDEX(Database!E26:AW26,'Graph of One Series'!$O$2)/G27","v":{"$error":"#N/A"}}]
[null,null,null,{"$f":"Database!D27","v":"1957-08-01"},false,{"$f":"IF($O$4,CHOOSE($U$4,1,Database!AI27,Database!AJ27,Database!AP27),1)","v":1},1,{"$error":"#N/A"},{"$f":"INDEX(Database!E27:AW27,'Graph of One Series'!$O$2)/G28","v":{"$error":"#N/A"}}]
[null,null,null,{"$f":"Database!D28","v":"1957-09-01"},false,{"$f":"IF($O$4,CHOOSE($U$4,1,Database!AI28,Database!AJ28,Database!AP28),1)","v":1},1,{"$error":"#N/A"},{"$f":"INDEX(Database!E28:AW28,'Graph of One Series'!$O$2)/G29","v":{"$error":"#N/A"}}]
[null,null,null,{"$f":"Database!D29","v":"1957-10-01"},false,{"$f":"IF($O$4,CHOOSE($U$4,1,Database!AI29,Database!AJ29,Database!AP29),1)","v":1},1,{"$error":"#N/A"},{"$f":"INDEX(Database!E29:AW29,'Graph of One Series'!$O$2)/G30","v":{"$error":"#N/A"}}]
[null,null,null,{"$f":"Database!D30","v":"1957-11-01"},false,{"$f":"IF($O$4,CHOOSE($U$4,1,Database!AI30,Database!AJ30,Database!AP30),1)","v":1},1,{"$error":"#N/A"},{"$f":"INDEX(Database!E30:AW30,'Graph of One Series'!$O$2)/G31","v":{"$error":"#N/A"}}]
[null,null,null,{"$f":"Database!D31","v":"1957-12-01"},false,{"$f":"IF($O$4,CHOOSE($U$4,1,Database!AI31,Database!AJ31,Database!AP31),1)","v":1},1,{"$error":"#N/A"},{"$f":"INDEX(Database!E31:AW31,'Graph of One Series'!$O$2)/G32","v":{"$error":"#N/A"}}]
[null,null,null,{"$f":"Database!D32","v":"1958-01-01"},false,{"$f":"IF($O$4,CHOOSE($U$4,1,Database!AI32,Database!AJ32,Database!AP32),1)","v":1},1,{"$error":"#N/A"},{"$f":"INDEX(Database!E32:AW32,'Graph of One Series'!$O$2)/G33","v":{"$error":"#N/A"}}]
[null,null,null,{"$f":"Database!D33","v":"1958-02-01"},false,{"$f":"IF($O$4,CHOOSE($U$4,1,Database!AI33,Database!AJ33,Database!AP33),1)","v":1},1,{"$error":"#N/A"},{"$f":"INDEX(Database!E33:AW33,'Graph of One Series'!$O$2)/G34","v":{"$error":"#N/A"}}]
[null,null,null,{"$f":"Database!D34","v":"1958-03-01"},false,{"$f":"IF($O$4,CHOOSE($U$4,1,Database!AI34,Database!AJ34,Database!AP34),1)","v":1},1,{"$error":"#N/A"},{"$f":"INDEX(Database!E34:AW34,'Graph of One Series'!$O$2)/G35","v":{"$error":"#N/A"}}]
[null,null,null,{"$f":"Database!D35","v":"1958-04-01"},false,{"$f":"IF($O$4,CHOOSE($U$4,1,Database!AI35,Database!AJ35,Database!AP35),1)","v":1},1,{"$error":"#N/A"},{"$f":"INDEX(Database!E35:AW35,'Graph of One Series'!$O$2)/G36","v":{"$error":"#N/A"}}]
[null,null,null,{"$f":"Database!D36","v":"1958-05-01"},false,{"$f":"IF($O$4,CHOOSE($U$4,1,Database!AI36,Database!AJ36,Database!AP36),1)","v":1},1,{"$error":"#N/A"},{"$f":"INDEX(Database!E36:AW36,'Graph of One Series'!$O$2)/G37","v":{"$error":"#N/A"}}]
[null,null,null,{"$f":"Database!D37","v":"1958-06-01"},false,{"$f":"IF($O$4,CHOOSE($U$4,1,Database!AI37,Database!AJ37,Database!AP37),1)","v":1},1,{"$error":"#N/A"},{"$f":"INDEX(Database!E37:AW37,'Graph of One Series'!$O$2)/G38","v":{"$error":"#N/A"}}]
[null,null,null,{"$f":"Database!D38","v":"1958-07-01"},false,{"$f":"IF($O$4,CHOOSE($U$4,1,Database!AI38,Database!AJ38,Database!AP38),1)","v":1},1,{"$error":"#N/A"},{"$f":"INDEX(Database!E38:AW38,'Graph of One Series'!$O$2)/G39","v":{"$error":"#N/A"}}]
[null,null,null,{"$f":"Database!D39","v":"1958-08-01"},false,{"$f":"IF($O$4,CHOOSE($U$4,1,Database!AI39,Database!AJ39,Database!AP39),1)","v":1},1,{"$error":"#N/A"},{"$f":"INDEX(Database!E39:AW39,'Graph of One Series'!$O$2)/G40","v":{"$error":"#N/A"}}]
[null,null,null,{"$f":"Database!D40","v":"1958-09-01"},false,{"$f":"IF($O$4,CHOOSE($U$4,1,Database!AI40,Database!AJ40,Database!AP40),1)","v":1},1,{"$error":"#N/A"},{"$f":"INDEX(Database!E40:AW40,'Graph of One Series'!$O$2)/G41","v":{"$error":"#N/A"}}]
[null,null,null,{"$f":"Database!D41","v":"1958-10-01"},false,{"$f":"IF($O$4,CHOOSE($U$4,1,Database!AI41,Database!AJ41,Database!AP41),1)","v":1},1,{"$error":"#N/A"},{"$f":"INDEX(Database!E41:AW41,'Graph of One Series'!$O$2)/G42","v":{"$error":"#N/A"}}]
[null,null,null,{"$f":"Database!D42","v":"1958-11-01"},false,{"$f":"IF($O$4,CHOOSE($U$4,1,Database!AI42,Database!AJ42,Database!AP42),1)","v":1},1,{"$error":"#N/A"},{"$f":"INDEX(Database!E42:AW42,'Graph of One Series'!$O$2)/G43","v":{"$error":"#N/A"}}]
[null,null,null,{"$f":"Database!D43","v":"1958-12-01"},false,{"$f":"IF($O$4,CHOOSE($U$4,1,Database!AI43,Database!AJ43,Database!AP43),1)","v":1},1,{"$error":"#N/A"},{"$f":"INDEX(Database!E43:AW43,'Graph of One Series'!$O$2)/G44","v":{"$error":"#N/A"}}]
[null,null,null,{"$f":"Database!D44","v":"1959-01-01"},false,{"$f":"IF($O$4,CHOOSE($U$4,1,Database!AI44,Database!AJ44,Database!AP44),1)","v":1},1,{"$error":"#N/A"},{"$f":"INDEX(Database!E44:AW44,'Graph of One Series'!$O$2)/G45","v":{"$error":"#N/A"}}]
[null,null,null,{"$f":"Database!D45","v":"1959-02-01"},false,{"$f":"IF($O$4,CHOOSE($U$4,1,Database!AI45,Database!AJ45,Database!AP45),1)","v":1},1,{"$error":"#N/A"},{"$f":"INDEX(Database!E45:AW45,'Graph of One Series'!$O$2)/G46","v":{"$error":"#N/A"}}]
[null,null,null,{"$f":"Database!D46","v":"1959-03-01"},false,{"$f":"IF($O$4,CHOOSE($U$4,1,Database!AI46,Database!AJ46,Database!AP46),1)","v":1},1,{"$error":"#N/A"},{"$f":"INDEX(Database!E46:AW46,'Graph of One Series'!$O$2)/G47","v":{"$error":"#N/A"}}]
[null,null,null,{"$f":"Database!D47","v":"1959-04-01"},false,{"$f":"IF($O$4,CHOOSE($U$4,1,Database!AI47,Database!AJ47,Database!AP47),1)","v":1},1,{"$error":"#N/A"},{"$f":"INDEX(Database!E47:AW47,'Graph of One Series'!$O$2)/G48","v":{"$error":"#N/A"}}]
[null,null,null,{"$f":"Database!D48","v":"1959-05-01"},false,{"$f":"IF($O$4,CHOOSE($U$4,1,Database!AI48,Database!AJ48,Database!AP48),1)","v":1},1,{"$error":"#N/A"},{"$f":"INDEX(Database!E48:AW48,'Graph of One Series'!$O$2)/G49","v":{"$error":"#N/A"}}]
[null,null,null,{"$f":"Database!D49","v":"1959-06-01"},false,{"$f":"IF($O$4,CHOOSE($U$4,1,Database!AI49,Database!AJ49,Database!AP49),1)","v":1},1,{"$error":"#N/A"},{"$f":"INDEX(Database!E49:AW49,'Graph of One Series'!$O$2)/G50","v":{"$error":"#N/A"}}]
[null,null,null,{"$f":"Database!D50","v":"1959-07-01"},false,{"$f":"IF($O$4,CHOOSE($U$4,1,Database!AI50,Database!AJ50,Database!AP50),1)","v":1},1,{"$error":"#N/A"},{"$f":"INDEX(Database!E50:AW50,'Graph of One Series'!$O$2)/G51","v":{"$error":"#N/A"}}]
[null,null,null,{"$f":"Database!D51","v":"1959-08-01"},false,{"$f":"IF($O$4,CHOOSE($U$4,1,Database!AI51,Database!AJ51,Database!AP51),1)","v":1},1,{"$error":"#N/A"},{"$f":"INDEX(Database!E51:AW51,'Graph of One Series'!$O$2)/G52","v":{"$error":"#N/A"}}]
[null,null,null,{"$f":"Database!D52","v":"1959-09-01"},false,{"$f":"IF($O$4,CHOOSE($U$4,1,Database!AI52,Database!AJ52,Database!AP52),1)","v":1},1,{"$error":"#N/A"},{"$f":"INDEX(Database!E52:AW52,'Graph of One Series'!$O$2)/G53","v":{"$error":"#N/A"}}]
[null,null,null,{"$f":"Database!D53","v":"1959-10-01"},false,{"$f":"IF($O$4,CHOOSE($U$4,1,Database!AI53,Database!AJ53,Database!AP53),1)","v":1},1,{"$error":"#N/A"},{"$f":"INDEX(Database!E53:AW53,'Graph of One Series'!$O$2)/G54","v":{"$error":"#N/A"}}]
[null,null,null,{"$f":"Database!D54","v":"1959-11-01"},false,{"$f":"IF($O$4,CHOOSE($U$4,1,Database!AI54,Database!AJ54,Database!AP54),1)","v":1},1,{"$error":"#N/A"},{"$f":"INDEX(Database!E54:AW54,'Graph of One Series'!$O$2)/G55","v":{"$error":"#N/A"}}]
[null,null,null,{"$f":"Database!D55","v":"1959-12-01"},false,{"$f":"IF($O$4,CHOOSE($U$4,1,Database!AI55,Database!AJ55,Database!AP55),1)","v":1},1,{"$error":"#N/A"},{"$f":"INDEX(Database!E55:AW55,'Graph of One Series'!$O$2)/G56","v":{"$error":"#N/A"}}]
[null,null,null,{"$f":"Database!D56","v":"1960-01-01"},false,{"$f":"IF($O$4,CHOOSE($U$4,1,Database!AI56,Database!AJ56,Database!AP56),1)","v":1},1,{"$error":"#N/A"},{"$f":"INDEX(Database!E56:AW56,'Graph of One Series'!$O$2)/G57","v":{"$error":"#N/A"}}]
[null,null,null,{"$f":"Database!D57","v":"1960-02-01"},false,{"$f":"IF($O$4,CHOOSE($U$4,1,Database!AI57,Database!AJ57,Database!AP57),1)","v":1},1,{"$error":"#N/A"},{"$f":"INDEX(Database!E57:AW57,'Graph of One Series'!$O$2)/G58","v":{"$error":"#N/A"}}]
[null,null,null,{"$f":"Database!D58","v":"1960-03-01"},false,{"$f":"IF($O$4,CHOOSE($U$4,1,Database!AI58,Database!AJ58,Database!AP58),1)","v":1},1,{"$error":"#N/A"},{"$f":"INDEX(Database!E58:AW58,'Graph of One Series'!$O$2)/G59","v":{"$error":"#N/A"}}]
[null,null,null,{"$f":"Database!D59","v":"1960-04-01"},false,{"$f":"IF($O$4,CHOOSE($U$4,1,Database!AI59,Database!AJ59,Database!AP59),1)","v":1},1,{"$error":"#N/A"},{"$f":"INDEX(Database!E59:AW59,'Graph of One Series'!$O$2)/G60","v":{"$error":"#N/A"}}]
[null,null,null,{"$f":"Database!D60","v":"1960-05-01"},false,{"$f":"IF($O$4,CHOOSE($U$4,1,Database!AI60,Database!AJ60,Database!AP60),1)","v":1},1,{"$error":"#N/A"},{"$f":"INDEX(Database!E60:AW60,'Graph of One Series'!$O$2)/G61","v":{"$error":"#N/A"}}]
[null,null,null,{"$f":"Database!D61","v":"1960-06-01"},false,{"$f":"IF($O$4,CHOOSE($U$4,1,Database!AI61,Database!AJ61,Database!AP61),1)","v":1},1,{"$error":"#N/A"},{"$f":"INDEX(Database!E61:AW61,'Graph of One Series'!$O$2)/G62","v":{"$error":"#N/A"}}]
[null,null,null,{"$f":"Database!D62","v":"1960-07-01"},false,{"$f":"IF($O$4,CHOOSE($U$4,1,Database!AI62,Database!AJ62,Database!AP62),1)","v":1},1,{"$error":"#N/A"},{"$f":"INDEX(Database!E62:AW62,'Graph of One Series'!$O$2)/G63","v":{"$error":"#N/A"}}]
[null,null,null,{"$f":"Database!D63","v":"1960-08-01"},false,{"$f":"IF($O$4,CHOOSE($U$4,1,Database!AI63,Database!AJ63,Database!AP63),1)","v":1},1,{"$error":"#N/A"},{"$f":"INDEX(Database!E63:AW63,'Graph of One Series'!$O$2)/G64","v":{"$error":"#N/A"}}]
[null,null,null,{"$f":"Database!D64","v":"1960-09-01"},false,{"$f":"IF($O$4,CHOOSE($U$4,1,Database!AI64,Database!AJ64,Database!AP64),1)","v":1},1,{"$error":"#N/A"},{"$f":"INDEX(Database!E64:AW64,'Graph of One Series'!$O$2)/G65","v":{"$error":"#N/A"}}]
[null,null,null,{"$f":"Database!D65","v":"1960-10-01"},false,{"$f":"IF($O$4,CHOOSE($U$4,1,Database!AI65,Database!AJ65,Database!AP65),1)","v":1},1,{"$error":"#N/A"},{"$f":"INDEX(Database!E65:AW65,'Graph of One Series'!$O$2)/G66","v":{"$error":"#N/A"}}]
[null,null,null,{"$f":"Database!D66","v":"1960-11-01"},false,{"$f":"IF($O$4,CHOOSE($U$4,1,Database!AI66,Database!AJ66,Database!AP66),1)","v":1},1,{"$error":"#N/A"},{"$f":"INDEX(Database!E66:AW66,'Graph of One Series'!$O$2)/G67","v":{"$error":"#N/A"}}]
[null,null,null,{"$f":"Database!D67","v":"1960-12-01"},false,{"$f":"IF($O$4,CHOOSE($U$4,1,Database!AI67,Database!AJ67,Database!AP67),1)","v":1},1,{"$error":"#N/A"},{"$f":"INDEX(Database!E67:AW67,'Graph of One Series'!$O$2)/G68","v":{"$error":"#N/A"}}]
[null,null,null,{"$f":"Database!D68","v":"1961-01-01"},false,{"$f":"IF($O$4,CHOOSE($U$4,1,Database!AI68,Database!AJ68,Database!AP68),1)","v":1},1,{"$error":"#N/A"},{"$f":"INDEX(Database!E68:AW68,'Graph of One Series'!$O$2)/G69","v":{"$error":"#N/A"}}]
[null,null,null,{"$f":"Database!D69","v":"1961-02-01"},false,{"$f":"IF($O$4,CHOOSE($U$4,1,Database!AI69,Database!AJ69,Database!AP69),1)","v":1},1,{"$error":"#N/A"},{"$f":"INDEX(Database!E69:AW69,'Graph of One Series'!$O$2)/G70","v":{"$error":"#N/A"}}]
[null,null,null,{"$f":"Database!D70","v":"1961-03-01"},false,{"$f":"IF($O$4,CHOOSE($U$4,1,Database!AI70,Database!AJ70,Database!AP70),1)","v":1},1,{"$error":"#N/A"},{"$f":"INDEX(Database!E70:AW70,'Graph of One Series'!$O$2)/G71","v":{"$error":"#N/A"}}]
[null,null,null,{"$f":"Database!D71","v":"1961-04-01"},false,{"$f":"IF($O$4,CHOOSE($U$4,1,Database!AI71,Database!AJ71,Database!AP71),1)","v":1},1,{"$error":"#N/A"},{"$f":"INDEX(Database!E71:AW71,'Graph of One Series'!$O$2)/G72","v":{"$error":"#N/A"}}]
[null,null,null,{"$f":"Database!D72","v":"1961-05-01"},false,{"$f":"IF($O$4,CHOOSE($U$4,1,Database!AI72,Database!AJ72,Database!AP72),1)","v":1},{"$f":"F73/$G$5","v":1},{"$f":"IF(E73,D73,NA())","v":{"$error":"#N/A"}},{"$f":"INDEX(Database!E72:AW72,'Graph of One Series'!$O$2)/G73","v":{"$error":"#N/A"}}]
[null,null,null,{"$f":"Database!D73","v":"1961-06-01"},{"$f":"AND($D74>=E$7,$D74<=E$8)","v":false},{"$f":"IF($O$4,CHOOSE($U$4,1,Database!AI73,Database!AJ73,Database!AP73),1)","v":1},1,{"$error":"#N/A"},{"$f":"INDEX(Database!E73:AW73,'Graph of One Series'!$O$2)/G74","v":{"$error":"#N/A"}}]
[null,null,null,{"$f":"Database!D74","v":"1961-07-01"},false,{"$f":"IF($O$4,CHOOSE($U$4,1,Database!AI74,Database!AJ74,Database!AP74),1)","v":1},1,{"$error":"#N/A"},{"$f":"INDEX(Database!E74:AW74,'Graph of One Series'!$O$2)/G75","v":{"$error":"#N/A"}}]
[null,null,null,{"$f":"Database!D75","v":"1961-08-01"},false,{"$f":"IF($O$4,CHOOSE($U$4,1,Database!AI75,Database!AJ75,Database!AP75),1)","v":1},1,{"$error":"#N/A"},{"$f":"INDEX(Database!E75:AW75,'Graph of One Series'!$O$2)/G76","v":{"$error":"#N/A"}}]
[null,null,null,{"$f":"Database!D76","v":"1961-09-01"},false,{"$f":"IF($O$4,CHOOSE($U$4,1,Database!AI76,Database!AJ76,Database!AP76),1)","v":1},1,{"$error":"#N/A"},{"$f":"INDEX(Database!E76:AW76,'Graph of One Series'!$O$2)/G77","v":{"$error":"#N/A"}}]
[null,null,null,{"$f":"Database!D77","v":"1961-10-01"},false,{"$f":"IF($O$4,CHOOSE($U$4,1,Database!AI77,Database!AJ77,Database!AP77),1)","v":1},1,{"$error":"#N/A"},{"$f":"INDEX(Database!E77:AW77,'Graph of One Series'!$O$2)/G78","v":{"$error":"#N/A"}}]
[null,null,null,{"$f":"Database!D78","v":"1961-11-01"},false,{"$f":"IF($O$4,CHOOSE($U$4,1,Database!AI78,Database!AJ78,Database!AP78),1)","v":1},1,{"$error":"#N/A"},{"$f":"INDEX(Database!E78:AW78,'Graph of One Series'!$O$2)/G79","v":{"$error":"#N/A"}}]
[null,null,null,{"$f":"Database!D79","v":"1961-12-01"},false,{"$f":"IF($O$4,CHOOSE($U$4,1,Database!AI79,Database!AJ79,Database!AP79),1)","v":1},1,{"$error":"#N/A"},{"$f":"INDEX(Database!E79:AW79,'Graph of One Series'!$O$2)/G80","v":{"$error":"#N/A"}}]
[null,null,null,{"$f":"Database!D80","v":"1962-01-01"},false,{"$f":"IF($O$4,CHOOSE($U$4,1,Database!AI80,Database!AJ80,Database!AP80),1)","v":1},1,{"$error":"#N/A"},{"$f":"INDEX(Database!E80:AW80,'Graph of One Series'!$O$2)/G81","v":{"$error":"#N/A"}}]
[null,null,null,{"$f":"Database!D81","v":"1962-02-01"},false,{"$f":"IF($O$4,CHOOSE($U$4,1,Database!AI81,Database!AJ81,Database!AP81),1)","v":1},1,{"$error":"#N/A"},{"$f":"INDEX(Database!E81:AW81,'Graph of One Series'!$O$2)/G82","v":{"$error":"#N/A"}}]
[null,null,null,{"$f":"Database!D82","v":"1962-03-01"},false,{"$f":"IF($O$4,CHOOSE($U$4,1,Database!AI82,Database!AJ82,Database!AP82),1)","v":1},1,{"$error":"#N/A"},{"$f":"INDEX(Database!E82:AW82,'Graph of One Series'!$O$2)/G83","v":{"$error":"#N/A"}}]
[null,null,null,{"$f":"Database!D83","v":"1962-04-01"},false,{"$f":"IF($O$4,CHOOSE($U$4,1,Database!AI83,Database!AJ83,Database!AP83),1)","v":1},1,{"$error":"#N/A"},{"$f":"INDEX(Database!E83:AW83,'Graph of One Series'!$O$2)/G84","v":{"$error":"#N/A"}}]
[null,null,null,{"$f":"Database!D84","v":"1962-05-01"},false,{"$f":"IF($O$4,CHOOSE($U$4,1,Database!AI84,Database!AJ84,Database!AP84),1)","v":1},1,{"$error":"#N/A"},{"$f":"INDEX(Database!E84:AW84,'Graph of One Series'!$O$2)/G85","v":{"$error":"#N/A"}}]
[null,null,null,{"$f":"Database!D85","v":"1962-06-01"},false,{"$f":"IF($O$4,CHOOSE($U$4,1,Database!AI85,Database!AJ85,Database!AP85),1)","v":1},1,{"$error":"#N/A"},{"$f":"INDEX(Database!E85:AW85,'Graph of One Series'!$O$2)/G86","v":{"$error":"#N/A"}}]
[null,null,null,{"$f":"Database!D86","v":"1962-07-01"},false,{"$f":"IF($O$4,CHOOSE($U$4,1,Database!AI86,Database!AJ86,Database!AP86),1)","v":1},1,{"$error":"#N/A"},{"$f":"INDEX(Database!E86:AW86,'Graph of One Series'!$O$2)/G87","v":{"$error":"#N/A"}}]
[null,null,null,{"$f":"Database!D87","v":"1962-08-01"},false,{"$f":"IF($O$4,CHOOSE($U$4,1,Database!AI87,Database!AJ87,Database!AP87),1)","v":1},1,{"$error":"#N/A"},{"$f":"INDEX(Database!E87:AW87,'Graph of One Series'!$O$2)/G88","v":{"$error":"#N/A"}}]
[null,null,null,{"$f":"Database!D88","v":"1962-09-01"},false,{"$f":"IF($O$4,CHOOSE($U$4,1,Database!AI88,Database!AJ88,Database!AP88),1)","v":1},1,{"$error":"#N/A"},{"$f":"INDEX(Database!E88:AW88,'Graph of One Series'!$O$2)/G89","v":{"$error":"#N/A"}}]
[null,null,null,{"$f":"Database!D89","v":"1962-10-01"},false,{"$f":"IF($O$4,CHOOSE($U$4,1,Database!AI89,Database!AJ89,Database!AP89),1)","v":1},1,{"$error":"#N/A"},{"$f":"INDEX(Database!E89:AW89,'Graph of One Series'!$O$2)/G90","v":{"$error":"#N/A"}}]
[null,null,null,{"$f":"Database!D90","v":"1962-11-01"},false,{"$f":"IF($O$4,CHOOSE($U$4,1,Database!AI90,Database!AJ90,Database!AP90),1)","v":1},1,{"$error":"#N/A"},{"$f":"INDEX(Database!E90:AW90,'Graph of One Series'!$O$2)/G91","v":{"$error":"#N/A"}}]
[null,null,null,{"$f":"Database!D91","v":"1962-12-01"},false,{"$f":"IF($O$4,CHOOSE($U$4,1,Database!AI91,Database!AJ91,Database!AP91),1)","v":1},1,{"$error":"#N/A"},{"$f":"INDEX(Database!E91:AW91,'Graph of One Series'!$O$2)/G92","v":{"$error":"#N/A"}}]
[null,null,null,{"$f":"Database!D92","v":"1963-01-01"},false,{"$f":"IF($O$4,CHOOSE($U$4,1,Database!AI92,Database!AJ92,Database!AP92),1)","v":1},1,{"$error":"#N/A"},{"$f":"INDEX(Database!E92:AW92,'Graph of One Series'!$O$2)/G93","v":{"$error":"#N/A"}}]
[null,null,null,{"$f":"Database!D93","v":"1963-02-01"},false,{"$f":"IF($O$4,CHOOSE($U$4,1,Database!AI93,Database!AJ93,Database!AP93),1)","v":1},1,{"$error":"#N/A"},{"$f":"INDEX(Database!E93:AW93,'Graph of One Series'!$O$2)/G94","v":{"$error":"#N/A"}}]
[null,null,null,{"$f":"Database!D94","v":"1963-03-01"},false,{"$f":"IF($O$4,CHOOSE($U$4,1,Database!AI94,Database!AJ94,Database!AP94),1)","v":1},1,{"$error":"#N/A"},{"$f":"INDEX(Database!E94:AW94,'Graph of One Series'!$O$2)/G95","v":{"$error":"#N/A"}}]
[null,null,null,{"$f":"Database!D95","v":"1963-04-01"},false,{"$f":"IF($O$4,CHOOSE($U$4,1,Database!AI95,Database!AJ95,Database!AP95),1)","v":1},1,{"$error":"#N/A"},{"$f":"INDEX(Database!E95:AW95,'Graph of One Series'!$O$2)/G96","v":{"$error":"#N/A"}}]
[null,null,null,{"$f":"Database!D96","v":"1963-05-01"},false,{"$f":"IF($O$4,CHOOSE($U$4,1,Database!AI96,Database!AJ96,Database!AP96),1)","v":1},1,{"$error":"#N/A"},{"$f":"INDEX(Database!E96:AW96,'Graph of One Series'!$O$2)/G97","v":{"$error":"#N/A"}}]
[null,null,null,{"$f":"Database!D97","v":"1963-06-01"},false,{"$f":"IF($O$4,CHOOSE($U$4,1,Database!AI97,Database!AJ97,Database!AP97),1)","v":1},1,{"$error":"#N/A"},{"$f":"INDEX(Database!E97:AW97,'Graph of One Series'!$O$2)/G98","v":{"$error":"#N/A"}}]
[null,null,null,{"$f":"Database!D98","v":"1963-07-01"},false,{"$f":"IF($O$4,CHOOSE($U$4,1,Database!AI98,Database!AJ98,Database!AP98),1)","v":1},1,{"$error":"#N/A"},{"$f":"INDEX(Database!E98:AW98,'Graph of One Series'!$O$2)/G99","v":{"$error":"#N/A"}}]
[null,null,null,{"$f":"Database!D99","v":"1963-08-01"},false,{"$f":"IF($O$4,CHOOSE($U$4,1,Database!AI99,Database!AJ99,Database!AP99),1)","v":1},1,{"$error":"#N/A"},{"$f":"INDEX(Database!E99:AW99,'Graph of One Series'!$O$2)/G100","v":{"$error":"#N/A"}}]
[null,null,null,{"$f":"Database!D100","v":"1963-09-01"},false,{"$f":"IF($O$4,CHOOSE($U$4,1,Database!AI100,Database!AJ100,Database!AP100),1)","v":1},1,{"$error":"#N/A"},{"$f":"INDEX(Database!E100:AW100,'Graph of One Series'!$O$2)/G101","v":{"$error":"#N/A"}}]
[null,null,null,{"$f":"Database!D101","v":"1963-10-01"},false,{"$f":"IF($O$4,CHOOSE($U$4,1,Database!AI101,Database!AJ101,Database!AP101),1)","v":1},1,{"$error":"#N/A"},{"$f":"INDEX(Database!E101:AW101,'Graph of One Series'!$O$2)/G102","v":{"$error":"#N/A"}}]
[null,null,null,{"$f":"Database!D102","v":"1963-11-01"},false,{"$f":"IF($O$4,CHOOSE($U$4,1,Database!AI102,Database!AJ102,Database!AP102),1)","v":1},1,{"$error":"#N/A"},{"$f":"INDEX(Database!E102:AW102,'Graph of One Series'!$O$2)/G103","v":{"$error":"#N/A"}}]
[null,null,null,{"$f":"Database!D103","v":"1963-12-01"},false,{"$f":"IF($O$4,CHOOSE($U$4,1,Database!AI103,Database!AJ103,Database!AP103),1)","v":1},1,{"$error":"#N/A"},{"$f":"INDEX(Database!E103:AW103,'Graph of One Series'!$O$2)/G104","v":{"$error":"#N/A"}}]
[null,null,null,{"$f":"Database!D104","v":"1964-01-01"},false,{"$f":"IF($O$4,CHOOSE($U$4,1,Database!AI104,Database!AJ104,Database!AP104),1)","v":1},1,{"$error":"#N/A"},{"$f":"INDEX(Database!E104:AW104,'Graph of One Series'!$O$2)/G105","v":{"$error":"#N/A"}}]
[null,null,null,{"$f":"Database!D105","v":"1964-02-01"},false,{"$f":"IF($O$4,CHOOSE($U$4,1,Database!AI105,Database!AJ105,Database!AP105),1)","v":1},1,{"$error":"#N/A"},{"$f":"INDEX(Database!E105:AW105,'Graph of One Series'!$O$2)/G106","v":{"$error":"#N/A"}}]
[null,null,null,{"$f":"Database!D106","v":"1964-03-01"},false,{"$f":"IF($O$4,CHOOSE($U$4,1,Database!AI106,Database!AJ106,Database!AP106),1)","v":1},1,{"$error":"#N/A"},{"$f":"INDEX(Database!E106:AW106,'Graph of One Series'!$O$2)/G107","v":{"$error":"#N/A"}}]
[null,null,null,{"$f":"Database!D107","v":"1964-04-01"},false,{"$f":"IF($O$4,CHOOSE($U$4,1,Database!AI107,Database!AJ107,Database!AP107),1)","v":1},1,{"$error":"#N/A"},{"$f":"INDEX(Database!E107:AW107,'Graph of One Series'!$O$2)/G108","v":{"$error":"#N/A"}}]
[null,null,null,{"$f":"Database!D108","v":"1964-05-01"},false,{"$f":"IF($O$4,CHOOSE($U$4,1,Database!AI108,Database!AJ108,Database!AP108),1)","v":1},1,{"$error":"#N/A"},{"$f":"INDEX(Database!E108:AW108,'Graph of One Series'!$O$2)/G109","v":{"$error":"#N/A"}}]
[null,null,null,{"$f":"Database!D109","v":"1964-06-01"},false,{"$f":"IF($O$4,CHOOSE($U$4,1,Database!AI109,Database!AJ109,Database!AP109),1)","v":1},1,{"$error":"#N/A"},{"$f":"INDEX(Database!E109:AW109,'Graph of One Series'!$O$2)/G110","v":{"$error":"#N/A"}}]
[null,null,null,{"$f":"Database!D110","v":"1964-07-01"},false,{"$f":"IF($O$4,CHOOSE($U$4,1,Database!AI110,Database!AJ110,Database!AP110),1)","v":1},1,{"$error":"#N/A"},{"$f":"INDEX(Database!E110:AW110,'Graph of One Series'!$O$2)/G111","v":{"$error":"#N/A"}}]
[null,null,null,{"$f":"Database!D111","v":"1964-08-01"},false,{"$f":"IF($O$4,CHOOSE($U$4,1,Database!AI111,Database!AJ111,Database!AP111),1)","v":1},1,{"$error":"#N/A"},{"$f":"INDEX(Database!E111:AW111,'Graph of One Series'!$O$2)/G112","v":{"$error":"#N/A"}}]
[null,null,null,{"$f":"Database!D112","v":"1964-09-01"},false,{"$f":"IF($O$4,CHOOSE($U$4,1,Database!AI112,Database!AJ112,Database!AP112),1)","v":1},1,{"$error":"#N/A"},{"$f":"INDEX(Database!E112:AW112,'Graph of One Series'!$O$2)/G113","v":{"$error":"#N/A"}}]
[null,null,null,{"$f":"Database!D113","v":"1964-10-01"},false,{"$f":"IF($O$4,CHOOSE($U$4,1,Database!AI113,Database!AJ113,Database!AP113),1)","v":1},1,{"$error":"#N/A"},{"$f":"INDEX(Database!E113:AW113,'Graph of One Series'!$O$2)/G114","v":{"$error":"#N/A"}}]
[null,null,null,{"$f":"Database!D114","v":"1964-11-01"},false,{"$f":"IF($O$4,CHOOSE($U$4,1,Database!AI114,Database!AJ114,Database!AP114),1)","v":1},1,{"$error":"#N/A"},{"$f":"INDEX(Database!E114:AW114,'Graph of One Series'!$O$2)/G115","v":{"$error":"#N/A"}}]
[null,null,null,{"$f":"Database!D115","v":"1964-12-01"},false,{"$f":"IF($O$4,CHOOSE($U$4,1,Database!AI115,Database!AJ115,Database!AP115),1)","v":1},1,{"$error":"#N/A"},{"$f":"INDEX(Database!E115:AW115,'Graph of One Series'!$O$2)/G116","v":{"$error":"#N/A"}}]
[null,null,null,{"$f":"Database!D116","v":"1965-01-01"},false,{"$f":"IF($O$4,CHOOSE($U$4,1,Database!AI116,Database!AJ116,Database!AP116),1)","v":1},1,{"$error":"#N/A"},{"$f":"INDEX(Database!E116:AW116,'Graph of One Series'!$O$2)/G117","v":{"$error":"#N/A"}}]
[null,null,null,{"$f":"Database!D117","v":"1965-02-01"},false,{"$f":"IF($O$4,CHOOSE($U$4,1,Database!AI117,Database!AJ117,Database!AP117),1)","v":1},1,{"$error":"#N/A"},{"$f":"INDEX(Database!E117:AW117,'Graph of One Series'!$O$2)/G118","v":{"$error":"#N/A"}}]
[null,null,null,{"$f":"Database!D118","v":"1965-03-01"},false,{"$f":"IF($O$4,CHOOSE($U$4,1,Database!AI118,Database!AJ118,Database!AP118),1)","v":1},1,{"$error":"#N/A"},{"$f":"INDEX(Database!E118:AW118,'Graph of One Series'!$O$2)/G119","v":{"$error":"#N/A"}}]
[null,null,null,{"$f":"Database!D119","v":"1965-04-01"},false,{"$f":"IF($O$4,CHOOSE($U$4,1,Database!AI119,Database!AJ119,Database!AP119),1)","v":1},1,{"$error":"#N/A"},{"$f":"INDEX(Database!E119:AW119,'Graph of One Series'!$O$2)/G120","v":{"$error":"#N/A"}}]
[null,null,null,{"$f":"Database!D120","v":"1965-05-01"},false,{"$f":"IF($O$4,CHOOSE($U$4,1,Database!AI120,Database!AJ120,Database!AP120),1)","v":1},1,{"$error":"#N/A"},{"$f":"INDEX(Database!E120:AW120,'Graph of One Series'!$O$2)/G121","v":{"$error":"#N/A"}}]
[null,null,null,{"$f":"Database!D121","v":"1965-06-01"},false,{"$f":"IF($O$4,CHOOSE($U$4,1,Database!AI121,Database!AJ121,Database!AP121),1)","v":1},1,{"$error":"#N/A"},{"$f":"INDEX(Database!E121:AW121,'Graph of One Series'!$O$2)/G122","v":{"$error":"#N/A"}}]
[null,null,null,{"$f":"Database!D122","v":"1965-07-01"},false,{"$f":"IF($O$4,CHOOSE($U$4,1,Database!AI122,Database!AJ122,Database!AP122),1)","v":1},1,{"$error":"#N/A"},{"$f":"INDEX(Database!E122:AW122,'Graph of One Series'!$O$2)/G123","v":{"$error":"#N/A"}}]
[null,null,null,{"$f":"Database!D123","v":"1965-08-01"},false,{"$f":"IF($O$4,CHOOSE($U$4,1,Database!AI123,Database!AJ123,Database!AP123),1)","v":1},1,{"$error":"#N/A"},{"$f":"INDEX(Database!E123:AW123,'Graph of One Series'!$O$2)/G124","v":{"$error":"#N/A"}}]
[null,null,null,{"$f":"Database!D124","v":"1965-09-01"},false,{"$f":"IF($O$4,CHOOSE($U$4,1,Database!AI124,Database!AJ124,Database!AP124),1)","v":1},1,{"$error":"#N/A"},{"$f":"INDEX(Database!E124:AW124,'Graph of One Series'!$O$2)/G125","v":{"$error":"#N/A"}}]
[null,null,null,{"$f":"Database!D125","v":"1965-10-01"},false,{"$f":"IF($O$4,CHOOSE($U$4,1,Database!AI125,Database!AJ125,Database!AP125),1)","v":1},1,{"$error":"#N/A"},{"$f":"INDEX(Database!E125:AW125,'Graph of One Series'!$O$2)/G126","v":{"$error":"#N/A"}}]
[null,null,null,{"$f":"Database!D126","v":"1965-11-01"},false,{"$f":"IF($O$4,CHOOSE($U$4,1,Database!AI126,Database!AJ126,Database!AP126),1)","v":1},1,{"$error":"#N/A"},{"$f":"INDEX(Database!E126:AW126,'Graph of One Series'!$O$2)/G127","v":{"$error":"#N/A"}}]
[null,null,null,{"$f":"Database!D127","v":"1965-12-01"},false,{"$f":"IF($O$4,CHOOSE($U$4,1,Database!AI127,Database!AJ127,Database!AP127),1)","v":1},1,{"$error":"#N/A"},{"$f":"INDEX(Database!E127:AW127,'Graph of One Series'!$O$2)/G128","v":{"$error":"#N/A"}}]
[null,null,null,{"$f":"Database!D128","v":"1966-01-01"},false,{"$f":"IF($O$4,CHOOSE($U$4,1,Database!AI128,Database!AJ128,Database!AP128),1)","v":1},1,{"$error":"#N/A"},{"$f":"INDEX(Database!E128:AW128,'Graph of One Series'!$O$2)/G129","v":{"$error":"#N/A"}}]
[null,null,null,{"$f":"Database!D129","v":"1966-02-01"},false,{"$f":"IF($O$4,CHOOSE($U$4,1,Database!AI129,Database!AJ129,Database!AP129),1)","v":1},1,{"$error":"#N/A"},{"$f":"INDEX(Database!E129:AW129,'Graph of One Series'!$O$2)/G130","v":{"$error":"#N/A"}}]
[null,null,null,{"$f":"Database!D130","v":"1966-03-01"},false,{"$f":"IF($O$4,CHOOSE($U$4,1,Database!AI130,Database!AJ130,Database!AP130),1)","v":1},1,{"$error":"#N/A"},{"$f":"INDEX(Database!E130:AW130,'Graph of One Series'!$O$2)/G131","v":{"$error":"#N/A"}}]
[null,null,null,{"$f":"Database!D131","v":"1966-04-01"},false,{"$f":"IF($O$4,CHOOSE($U$4,1,Database!AI131,Database!AJ131,Database!AP131),1)","v":1},1,{"$error":"#N/A"},{"$f":"INDEX(Database!E131:AW131,'Graph of One Series'!$O$2)/G132","v":{"$error":"#N/A"}}]
[null,null,null,{"$f":"Database!D132","v":"1966-05-01"},false,{"$f":"IF($O$4,CHOOSE($U$4,1,Database!AI132,Database!AJ132,Database!AP132),1)","v":1},1,{"$error":"#N/A"},{"$f":"INDEX(Database!E132:AW132,'Graph of One Series'!$O$2)/G133","v":{"$error":"#N/A"}}]
[null,null,null,{"$f":"Database!D133","v":"1966-06-01"},false,{"$f":"IF($O$4,CHOOSE($U$4,1,Database!AI133,Database!AJ133,Database!AP133),1)","v":1},1,{"$error":"#N/A"},{"$f":"INDEX(Database!E133:AW133,'Graph of One Series'!$O$2)/G134","v":{"$error":"#N/A"}}]
[null,null,null,{"$f":"Database!D134","v":"1966-07-01"},false,{"$f":"IF($O$4,CHOOSE($U$4,1,Database!AI134,Database!AJ134,Database!AP134),1)","v":1},1,{"$error":"#N/A"},{"$f":"INDEX(Database!E134:AW134,'Graph of One Series'!$O$2)/G135","v":{"$error":"#N/A"}}]
[null,null,null,{"$f":"Database!D135","v":"1966-08-01"},false,{"$f":"IF($O$4,CHOOSE($U$4,1,Database!AI135,Database!AJ135,Database!AP135),1)","v":1},1,{"$error":"#N/A"},{"$f":"INDEX(Database!E135:AW135,'Graph of One Series'!$O$2)/G136","v":{"$error":"#N/A"}}]
[null,null,null,{"$f":"Database!D136","v":"1966-09-01"},false,{"$f":"IF($O$4,CHOOSE($U$4,1,Database!AI136,Database!AJ136,Database!AP136),1)","v":1},{"$f":"F137/$G$5","v":1},{"$f":"IF(E137,D137,NA())","v":{"$error":"#N/A"}},{"$f":"INDEX(Database!E136:AW136,'Graph of One Series'!$O$2)/G137","v":{"$error":"#N/A"}}]
[null,null,null,{"$f":"Database!D137","v":"1966-10-01"},{"$f":"AND($D138>=E$7,$D138<=E$8)","v":false},{"$f":"IF($O$4,CHOOSE($U$4,1,Database!AI137,Database!AJ137,Database!AP137),1)","v":1},1,{"$error":"#N/A"},{"$f":"INDEX(Database!E137:AW137,'Graph of One Series'!$O$2)/G138","v":{"$error":"#N/A"}}]
[null,null,null,{"$f":"Database!D138","v":"1966-11-01"},false,{"$f":"IF($O$4,CHOOSE($U$4,1,Database!AI138,Database!AJ138,Database!AP138),1)","v":1},1,{"$error":"#N/A"},{"$f":"INDEX(Database!E138:AW138,'Graph of One Series'!$O$2)/G139","v":{"$error":"#N/A"}}]
[null,null,null,{"$f":"Database!D139","v":"1966-12-01"},false,{"$f":"IF($O$4,CHOOSE($U$4,1,Database!AI139,Database!AJ139,Database!AP139),1)","v":1},1,{"$error":"#N/A"},{"$f":"INDEX(Database!E139:AW139,'Graph of One Series'!$O$2)/G140","v":{"$error":"#N/A"}}]
[null,null,null,{"$f":"Database!D140","v":"1967-01-01"},false,{"$f":"IF($O$4,CHOOSE($U$4,1,Database!AI140,Database!AJ140,Database!AP140),1)","v":1},1,{"$error":"#N/A"},{"$f":"INDEX(Database!E140:AW140,'Graph of One Series'!$O$2)/G141","v":{"$error":"#N/A"}}]
[null,null,null,{"$f":"Database!D141","v":"1967-02-01"},false,{"$f":"IF($O$4,CHOOSE($U$4,1,Database!AI141,Database!AJ141,Database!AP141),1)","v":1},1,{"$error":"#N/A"},{"$f":"INDEX(Database!E141:AW141,'Graph of One Series'!$O$2)/G142","v":{"$error":"#N/A"}}]
[null,null,null,{"$f":"Database!D142","v":"1967-03-01"},false,{"$f":"IF($O$4,CHOOSE($U$4,1,Database!AI142,Database!AJ142,Database!AP142),1)","v":1},1,{"$error":"#N/A"},{"$f":"INDEX(Database!E142:AW142,'Graph of One Series'!$O$2)/G143","v":{"$error":"#N/A"}}]
[null,null,null,{"$f":"Database!D143","v":"1967-04-01"},false,{"$f":"IF($O$4,CHOOSE($U$4,1,Database!AI143,Database!AJ143,Database!AP143),1)","v":1},1,{"$error":"#N/A"},{"$f":"INDEX(Database!E143:AW143,'Graph of One Series'!$O$2)/G144","v":{"$error":"#N/A"}}]
[null,null,null,{"$f":"Database!D144","v":"1967-05-01"},false,{"$f":"IF($O$4,CHOOSE($U$4,1,Database!AI144,Database!AJ144,Database!AP144),1)","v":1},1,{"$error":"#N/A"},{"$f":"INDEX(Database!E144:AW144,'Graph of One Series'!$O$2)/G145","v":{"$error":"#N/A"}}]
[null,null,null,{"$f":"Database!D145","v":"1967-06-01"},false,{"$f":"IF($O$4,CHOOSE($U$4,1,Database!AI145,Database!AJ145,Database!AP145),1)","v":1},1,{"$error":"#N/A"},{"$f":"INDEX(Database!E145:AW145,'Graph of One Series'!$O$2)/G146","v":{"$error":"#N/A"}}]
[null,null,null,{"$f":"Database!D146","v":"1967-07-01"},false,{"$f":"IF($O$4,CHOOSE($U$4,1,Database!AI146,Database!AJ146,Database!AP146),1)","v":1},1,{"$error":"#N/A"},{"$f":"INDEX(Database!E146:AW146,'Graph of One Series'!$O$2)/G147","v":{"$error":"#N/A"}}]
[null,null,null,{"$f":"Database!D147","v":"1967-08-01"},false,{"$f":"IF($O$4,CHOOSE($U$4,1,Database!AI147,Database!AJ147,Database!AP147),1)","v":1},1,{"$error":"#N/A"},{"$f":"INDEX(Database!E147:AW147,'Graph of One Series'!$O$2)/G148","v":{"$error":"#N/A"}}]
[null,null,null,{"$f":"Database!D148","v":"1967-09-01"},false,{"$f":"IF($O$4,CHOOSE($U$4,1,Database!AI148,Database!AJ148,Database!AP148),1)","v":1},1,{"$error":"#N/A"},{"$f":"INDEX(Database!E148:AW148,'Graph of One Series'!$O$2)/G149","v":{"$error":"#N/A"}}]
[null,null,null,{"$f":"Database!D149","v":"1967-10-01"},false,{"$f":"IF($O$4,CHOOSE($U$4,1,Database!AI149,Database!AJ149,Database!AP149),1)","v":1},1,{"$error":"#N/A"},{"$f":"INDEX(Database!E149:AW149,'Graph of One Series'!$O$2)/G150","v":{"$error":"#N/A"}}]
[null,null,null,{"$f":"Database!D150","v":"1967-11-01"},false,{"$f":"IF($O$4,CHOOSE($U$4,1,Database!AI150,Database!AJ150,Database!AP150),1)","v":1},1,{"$error":"#N/A"},{"$f":"INDEX(Database!E150:AW150,'Graph of One Series'!$O$2)/G151","v":{"$error":"#N/A"}}]
[null,null,null,{"$f":"Database!D151","v":"1967-12-01"},false,{"$f":"IF($O$4,CHOOSE($U$4,1,Database!AI151,Database!AJ151,Database!AP151),1)","v":1},1,{"$error":"#N/A"},{"$f":"INDEX(Database!E151:AW151,'Graph of One Series'!$O$2)/G152","v":{"$error":"#N/A"}}]
[null,null,null,{"$f":"Database!D152","v":"1968-01-01"},false,{"$f":"IF($O$4,CHOOSE($U$4,1,Database!AI152,Database!AJ152,Database!AP152),1)","v":1},1,{"$error":"#N/A"},{"$f":"INDEX(Database!E152:AW152,'Graph of One Series'!$O$2)/G153","v":875}]
[null,null,null,{"$f":"Database!D153","v":"1968-02-01"},false,{"$f":"IF($O$4,CHOOSE($U$4,1,Database!AI153,Database!AJ153,Database!AP153),1)","v":1},1,{"$error":"#N/A"},{"$f":"INDEX(Database!E153:AW153,'Graph of One Series'!$O$2)/G154","v":771}]
[null,null,null,{"$f":"Database!D154","v":"1968-03-01"},false,{"$f":"IF($O$4,CHOOSE($U$4,1,Database!AI154,Database!AJ154,Database!AP154),1)","v":1},1,{"$error":"#N/A"},{"$f":"INDEX(Database!E154:AW154,'Graph of One Series'!$O$2)/G155","v":874}]
[null,null,null,{"$f":"Database!D155","v":"1968-04-01"},false,{"$f":"IF($O$4,CHOOSE($U$4,1,Database!AI155,Database!AJ155,Database!AP155),1)","v":1},1,{"$error":"#N/A"},{"$f":"INDEX(Database!E155:AW155,'Graph of One Series'!$O$2)/G156","v":898}]
[null,null,null,{"$f":"Database!D156","v":"1968-05-01"},false,{"$f":"IF($O$4,CHOOSE($U$4,1,Database!AI156,Database!AJ156,Database!AP156),1)","v":1},1,{"$error":"#N/A"},{"$f":"INDEX(Database!E156:AW156,'Graph of One Series'!$O$2)/G157","v":900}]
[null,null,null,{"$f":"Database!D157","v":"1968-06-01"},false,{"$f":"IF($O$4,CHOOSE($U$4,1,Database!AI157,Database!AJ157,Database!AP157),1)","v":1},1,{"$error":"#N/A"},{"$f":"INDEX(Database!E157:AW157,'Graph of One Series'!$O$2)/G158","v":792}]
[null,null,null,{"$f":"Database!D158","v":"1968-07-01"},false,{"$f":"IF($O$4,CHOOSE($U$4,1,Database!AI158,Database!AJ158,Database!AP158),1)","v":1},1,{"$error":"#N/A"},{"$f":"INDEX(Database!E158:AW158,'Graph of One Series'!$O$2)/G159","v":892}]
[null,null,null,{"$f":"Database!D159","v":"1968-08-01"},false,{"$f":"IF($O$4,CHOOSE($U$4,1,Database!AI159,Database!AJ159,Database!AP159),1)","v":1},1,{"$error":"#N/A"},{"$f":"INDEX(Database!E159:AW159,'Graph of One Series'!$O$2)/G160","v":836}]
[null,null,null,{"$f":"Database!D160","v":"1968-09-01"},false,{"$f":"IF($O$4,CHOOSE($U$4,1,Database!AI160,Database!AJ160,Database!AP160),1)","v":1},1,{"$error":"#N/A"},{"$f":"INDEX(Database!E160:AW160,'Graph of One Series'!$O$2)/G161","v":877}]
[null,null,null,{"$f":"Database!D161","v":"1968-10-01"},false,{"$f":"IF($O$4,CHOOSE($U$4,1,Database!AI161,Database!AJ161,Database!AP161),1)","v":1},1,{"$error":"#N/A"},{"$f":"INDEX(Database!E161:AW161,'Graph of One Series'!$O$2)/G162","v":828}]
[null,null,null,{"$f":"Database!D162","v":"1968-11-01"},false,{"$f":"IF($O$4,CHOOSE($U$4,1,Database!AI162,Database!AJ162,Database!AP162),1)","v":1},1,{"$error":"#N/A"},{"$f":"INDEX(Database!E162:AW162,'Graph of One Series'!$O$2)/G163","v":865}]
[null,null,null,{"$f":"Database!D163","v":"1968-12-01"},false,{"$f":"IF($O$4,CHOOSE($U$4,1,Database!AI163,Database!AJ163,Database!AP163),1)","v":1},1,{"$error":"#N/A"},{"$f":"INDEX(Database!E163:AW163,'Graph of One Series'!$O$2)/G164","v":875}]
[null,null,null,{"$f":"Database!D164","v":"1969-01-01"},false,{"$f":"IF($O$4,CHOOSE($U$4,1,Database!AI164,Database!AJ164,Database!AP164),1)","v":1},1,{"$error":"#N/A"},{"$f":"INDEX(Database!E164:AW164,'Graph of One Series'!$O$2)/G165","v":839}]
[null,null,null,{"$f":"Database!D165","v":"1969-02-01"},false,{"$f":"IF($O$4,CHOOSE($U$4,1,Database!AI165,Database!AJ165,Database!AP165),1)","v":1},1,{"$error":"#N/A"},{"$f":"INDEX(Database!E165:AW165,'Graph of One Series'!$O$2)/G166","v":872}]
[null,null,null,{"$f":"Database!D166","v":"1969-03-01"},false,{"$f":"IF($O$4,CHOOSE($U$4,1,Database!AI166,Database!AJ166,Database!AP166),1)","v":1},1,{"$error":"#N/A"},{"$f":"INDEX(Database!E166:AW166,'Graph of One Series'!$O$2)/G167","v":872}]
[null,null,null,{"$f":"Database!D167","v":"1969-04-01"},false,{"$f":"IF($O$4,CHOOSE($U$4,1,Database!AI167,Database!AJ167,Database!AP167),1)","v":1},1,{"$error":"#N/A"},{"$f":"INDEX(Database!E167:AW167,'Graph of One Series'!$O$2)/G168","v":752}]
[null,null,null,{"$f":"Database!D168","v":"1969-05-01"},false,{"$f":"IF($O$4,CHOOSE($U$4,1,Database!AI168,Database!AJ168,Database!AP168),1)","v":1},1,{"$error":"#N/A"},{"$f":"INDEX(Database!E168:AW168,'Graph of One Series'!$O$2)/G169","v":821}]
[null,null,null,{"$f":"Database!D169","v":"1969-06-01"},false,{"$f":"IF($O$4,CHOOSE($U$4,1,Database!AI169,Database!AJ169,Database!AP169),1)","v":1},1,{"$error":"#N/A"},{"$f":"INDEX(Database!E169:AW169,'Graph of One Series'!$O$2)/G170","v":850}]
[null,null,null,{"$f":"Database!D170","v":"1969-07-01"},false,{"$f":"IF($O$4,CHOOSE($U$4,1,Database!AI170,Database!AJ170,Database!AP170),1)","v":1},1,{"$error":"#N/A"},{"$f":"INDEX(Database!E170:AW170,'Graph of One Series'!$O$2)/G171","v":811}]
[null,null,null,{"$f":"Database!D171","v":"1969-08-01"},false,{"$f":"IF($O$4,CHOOSE($U$4,1,Database!AI171,Database!AJ171,Database!AP171),1)","v":1},1,{"$error":"#N/A"},{"$f":"INDEX(Database!E171:AW171,'Graph of One Series'!$O$2)/G172","v":800}]
[null,null,null,{"$f":"Database!D172","v":"1969-09-01"},false,{"$f":"IF($O$4,CHOOSE($U$4,1,Database!AI172,Database!AJ172,Database!AP172),1)","v":1},1,{"$error":"#N/A"},{"$f":"INDEX(Database!E172:AW172,'Graph of One Series'!$O$2)/G173","v":770}]
[null,null,null,{"$f":"Database!D173","v":"1969-10-01"},false,{"$f":"IF($O$4,CHOOSE($U$4,1,Database!AI173,Database!AJ173,Database!AP173),1)","v":1},1,{"$error":"#N/A"},{"$f":"INDEX(Database!E173:AW173,'Graph of One Series'!$O$2)/G174","v":806}]
[null,null,null,{"$f":"Database!D174","v":"1969-11-01"},false,{"$f":"IF($O$4,CHOOSE($U$4,1,Database!AI174,Database!AJ174,Database!AP174),1)","v":1},1,{"$error":"#N/A"},{"$f":"INDEX(Database!E174:AW174,'Graph of One Series'!$O$2)/G175","v":765}]
[null,null,null,{"$f":"Database!D175","v":"1969-12-01"},false,{"$f":"IF($O$4,CHOOSE($U$4,1,Database!AI175,Database!AJ175,Database!AP175),1)","v":1},1,{"$error":"#N/A"},{"$f":"INDEX(Database!E175:AW175,'Graph of One Series'!$O$2)/G176","v":766}]
[null,null,null,{"$f":"Database!D176","v":"1970-01-01"},false,{"$f":"IF($O$4,CHOOSE($U$4,1,Database!AI176,Database!AJ176,Database!AP176),1)","v":1},1,{"$error":"#N/A"},{"$f":"INDEX(Database!E176:AW176,'Graph of One Series'!$O$2)/G177","v":830}]
[null,null,null,{"$f":"Database!D177","v":"1970-02-01"},false,{"$f":"IF($O$4,CHOOSE($U$4,1,Database!AI177,Database!AJ177,Database!AP177),1)","v":1},1,{"$error":"#N/A"},{"$f":"INDEX(Database!E177:AW177,'Graph of One Series'!$O$2)/G178","v":761}]
[null,null,null,{"$f":"Database!D178","v":"1970-03-01"},false,{"$f":"IF($O$4,CHOOSE($U$4,1,Database!AI178,Database!AJ178,Database!AP178),1)","v":1},1,{"$error":"#N/A"},{"$f":"INDEX(Database!E178:AW178,'Graph of One Series'!$O$2)/G179","v":715}]
[null,null,null,{"$f":"Database!D179","v":"1970-04-01"},false,{"$f":"IF($O$4,CHOOSE($U$4,1,Database!AI179,Database!AJ179,Database!AP179),1)","v":1},1,{"$error":"#N/A"},{"$f":"INDEX(Database!E179:AW179,'Graph of One Series'!$O$2)/G180","v":743}]
[null,null,null,{"$f":"Database!D180","v":"1970-05-01"},false,{"$f":"IF($O$4,CHOOSE($U$4,1,Database!AI180,Database!AJ180,Database!AP180),1)","v":1},1,{"$error":"#N/A"},{"$f":"INDEX(Database!E180:AW180,'Graph of One Series'!$O$2)/G181","v":766}]
[null,null,null,{"$f":"Database!D181","v":"1970-06-01"},false,{"$f":"IF($O$4,CHOOSE($U$4,1,Database!AI181,Database!AJ181,Database!AP181),1)","v":1},1,{"$error":"#N/A"},{"$f":"INDEX(Database!E181:AW181,'Graph of One Series'!$O$2)/G182","v":772}]
[null,null,null,{"$f":"Database!D182","v":"1970-07-01"},false,{"$f":"IF($O$4,CHOOSE($U$4,1,Database!AI182,Database!AJ182,Database!AP182),1)","v":1},1,{"$error":"#N/A"},{"$f":"INDEX(Database!E182:AW182,'Graph of One Series'!$O$2)/G183","v":792}]
[null,null,null,{"$f":"Database!D183","v":"1970-08-01"},false,{"$f":"IF($O$4,CHOOSE($U$4,1,Database!AI183,Database!AJ183,Database!AP183),1)","v":1},1,{"$error":"#N/A"},{"$f":"INDEX(Database!E183:AW183,'Graph of One Series'!$O$2)/G184","v":843}]
[null,null,null,{"$f":"Database!D184","v":"1970-09-01"},false,{"$f":"IF($O$4,CHOOSE($U$4,1,Database!AI184,Database!AJ184,Database!AP184),1)","v":1},1,{"$error":"#N/A"},{"$f":"INDEX(Database!E184:AW184,'Graph of One Series'!$O$2)/G185","v":883}]
[null,null,null,{"$f":"Database!D185","v":"1970-10-01"},false,{"$f":"IF($O$4,CHOOSE($U$4,1,Database!AI185,Database!AJ185,Database!AP185),1)","v":1},1,{"$error":"#N/A"},{"$f":"INDEX(Database!E185:AW185,'Graph of One Series'!$O$2)/G186","v":806}]
[null,null,null,{"$f":"Database!D186","v":"1970-11-01"},false,{"$f":"IF($O$4,CHOOSE($U$4,1,Database!AI186,Database!AJ186,Database!AP186),1)","v":1},1,{"$error":"#N/A"},{"$f":"INDEX(Database!E186:AW186,'Graph of One Series'!$O$2)/G187","v":845}]
[null,null,null,{"$f":"Database!D187","v":"1970-12-01"},false,{"$f":"IF($O$4,CHOOSE($U$4,1,Database!AI187,Database!AJ187,Database!AP187),1)","v":1},1,{"$error":"#N/A"},{"$f":"INDEX(Database!E187:AW187,'Graph of One Series'!$O$2)/G188","v":835}]
[null,null,null,{"$f":"Database!D188","v":"1971-01-01"},false,{"$f":"IF($O$4,CHOOSE($U$4,1,Database!AI188,Database!AJ188,Database!AP188),1)","v":1},1,{"$error":"#N/A"},{"$f":"INDEX(Database!E188:AW188,'Graph of One Series'!$O$2)/G189","v":847}]
[null,null,null,{"$f":"Database!D189","v":"1971-02-01"},false,{"$f":"IF($O$4,CHOOSE($U$4,1,Database!AI189,Database!AJ189,Database!AP189),1)","v":1},1,{"$error":"#N/A"},{"$f":"INDEX(Database!E189:AW189,'Graph of One Series'!$O$2)/G190","v":868}]
[null,null,null,{"$f":"Database!D190","v":"1971-03-01"},false,{"$f":"IF($O$4,CHOOSE($U$4,1,Database!AI190,Database!AJ190,Database!AP190),1)","v":1},1,{"$error":"#N/A"},{"$f":"INDEX(Database!E190:AW190,'Graph of One Series'!$O$2)/G191","v":903}]
[null,null,null,{"$f":"Database!D191","v":"1971-04-01"},false,{"$f":"IF($O$4,CHOOSE($U$4,1,Database!AI191,Database!AJ191,Database!AP191),1)","v":1},1,{"$error":"#N/A"},{"$f":"INDEX(Database!E191:AW191,'Graph of One Series'!$O$2)/G192","v":1028}]
[null,null,null,{"$f":"Database!D192","v":"1971-05-01"},false,{"$f":"IF($O$4,CHOOSE($U$4,1,Database!AI192,Database!AJ192,Database!AP192),1)","v":1},1,{"$error":"#N/A"},{"$f":"INDEX(Database!E192:AW192,'Graph of One Series'!$O$2)/G193","v":973}]
[null,null,null,{"$f":"Database!D193","v":"1971-06-01"},false,{"$f":"IF($O$4,CHOOSE($U$4,1,Database!AI193,Database!AJ193,Database!AP193),1)","v":1},1,{"$error":"#N/A"},{"$f":"INDEX(Database!E193:AW193,'Graph of One Series'!$O$2)/G194","v":965}]
[null,null,null,{"$f":"Database!D194","v":"1971-07-01"},false,{"$f":"IF($O$4,CHOOSE($U$4,1,Database!AI194,Database!AJ194,Database!AP194),1)","v":1},1,{"$error":"#N/A"},{"$f":"INDEX(Database!E194:AW194,'Graph of One Series'!$O$2)/G195","v":1034}]
[null,null,null,{"$f":"Database!D195","v":"1971-08-01"},false,{"$f":"IF($O$4,CHOOSE($U$4,1,Database!AI195,Database!AJ195,Database!AP195),1)","v":1},1,{"$error":"#N/A"},{"$f":"INDEX(Database!E195:AW195,'Graph of One Series'!$O$2)/G196","v":1041}]
[null,null,null,{"$f":"Database!D196","v":"1971-09-01"},false,{"$f":"IF($O$4,CHOOSE($U$4,1,Database!AI196,Database!AJ196,Database!AP196),1)","v":1},1,{"$error":"#N/A"},{"$f":"INDEX(Database!E196:AW196,'Graph of One Series'!$O$2)/G197","v":1078}]
[null,null,null,{"$f":"Database!D197","v":"1971-10-01"},false,{"$f":"IF($O$4,CHOOSE($U$4,1,Database!AI197,Database!AJ197,Database!AP197),1)","v":1},1,{"$error":"#N/A"},{"$f":"INDEX(Database!E197:AW197,'Graph of One Series'!$O$2)/G198","v":1092}]
[null,null,null,{"$f":"Database!D198","v":"1971-11-01"},false,{"$f":"IF($O$4,CHOOSE($U$4,1,Database!AI198,Database!AJ198,Database!AP198),1)","v":1},1,{"$error":"#N/A"},{"$f":"INDEX(Database!E198:AW198,'Graph of One Series'!$O$2)/G199","v":1114}]
[null,null,null,{"$f":"Database!D199","v":"1971-12-01"},false,{"$f":"IF($O$4,CHOOSE($U$4,1,Database!AI199,Database!AJ199,Database!AP199),1)","v":1},1,{"$error":"#N/A"},{"$f":"INDEX(Database!E199:AW199,'Graph of One Series'!$O$2)/G200","v":1144}]
[null,null,null,{"$f":"Database!D200","v":"1972-01-01"},false,{"$f":"IF($O$4,CHOOSE($U$4,1,Database!AI200,Database!AJ200,Database!AP200),1)","v":1},{"$f":"F201/$G$5","v":1},{"$f":"IF(E201,D201,NA())","v":{"$error":"#N/A"}},{"$f":"INDEX(Database!E200:AW200,'Graph of One Series'!$O$2)/G201","v":1133}]
[null,null,null,{"$f":"Database!D201","v":"1972-02-01"},{"$f":"AND($D202>=E$7,$D202<=E$8)","v":false},{"$f":"IF($O$4,CHOOSE($U$4,1,Database!AI201,Database!AJ201,Database!AP201),1)","v":1},1,{"$error":"#N/A"},{"$f":"INDEX(Database!E201:AW201,'Graph of One Series'!$O$2)/G202","v":1122}]
[null,null,null,{"$f":"Database!D202","v":"1972-03-01"},false,{"$f":"IF($O$4,CHOOSE($U$4,1,Database!AI202,Database!AJ202,Database!AP202),1)","v":1},1,{"$error":"#N/A"},{"$f":"INDEX(Database!E202:AW202,'Graph of One Series'!$O$2)/G203","v":1154}]
[null,null,null,{"$f":"Database!D203","v":"1972-04-01"},false,{"$f":"IF($O$4,CHOOSE($U$4,1,Database!AI203,Database!AJ203,Database!AP203),1)","v":1},1,{"$error":"#N/A"},{"$f":"INDEX(Database!E203:AW203,'Graph of One Series'!$O$2)/G204","v":1188}]
[null,null,null,{"$f":"Database!D204","v":"1972-05-01"},false,{"$f":"IF($O$4,CHOOSE($U$4,1,Database!AI204,Database!AJ204,Database!AP204),1)","v":1},1,{"$error":"#N/A"},{"$f":"INDEX(Database!E204:AW204,'Graph of One Series'!$O$2)/G205","v":1131}]
[null,null,null,{"$f":"Database!D205","v":"1972-06-01"},false,{"$f":"IF($O$4,CHOOSE($U$4,1,Database!AI205,Database!AJ205,Database!AP205),1)","v":1},1,{"$error":"#N/A"},{"$f":"INDEX(Database!E205:AW205,'Graph of One Series'!$O$2)/G206","v":1145}]
[null,null,null,{"$f":"Database!D206","v":"1972-07-01"},false,{"$f":"IF($O$4,CHOOSE($U$4,1,Database!AI206,Database!AJ206,Database!AP206),1)","v":1},1,{"$error":"#N/A"},{"$f":"INDEX(Database!E206:AW206,'Graph of One Series'!$O$2)/G207","v":1121}]
[null,null,null,{"$f":"Database!D207","v":"1972-08-01"},false,{"$f":"IF($O$4,CHOOSE($U$4,1,Database!AI207,Database!AJ207,Database!AP207),1)","v":1},1,{"$error":"#N/A"},{"$f":"INDEX(Database!E207:AW207,'Graph of One Series'!$O$2)/G208","v":1248}]
[null,null,null,{"$f":"Database!D208","v":"1972-09-01"},false,{"$f":"IF($O$4,CHOOSE($U$4,1,Database!AI208,Database!AJ208,Database!AP208),1)","v":1},1,{"$error":"#N/A"},{"$f":"INDEX(Database!E208:AW208,'Graph of One Series'!$O$2)/G209","v":1112}]
[null,null,null,{"$f":"Database!D209","v":"1972-10-01"},false,{"$f":"IF($O$4,CHOOSE($U$4,1,Database!AI209,Database!AJ209,Database!AP209),1)","v":1},1,{"$error":"#N/A"},{"$f":"INDEX(Database!E209:AW209,'Graph of One Series'!$O$2)/G210","v":1182}]
[null,null,null,{"$f":"Database!D210","v":"1972-11-01"},false,{"$f":"IF($O$4,CHOOSE($U$4,1,Database!AI210,Database!AJ210,Database!AP210),1)","v":1},1,{"$error":"#N/A"},{"$f":"INDEX(Database!E210:AW210,'Graph of One Series'!$O$2)/G211","v":1150}]
[null,null,null,{"$f":"Database!D211","v":"1972-12-01"},false,{"$f":"IF($O$4,CHOOSE($U$4,1,Database!AI211,Database!AJ211,Database!AP211),1)","v":1},1,{"$error":"#N/A"},{"$f":"INDEX(Database!E211:AW211,'Graph of One Series'!$O$2)/G212","v":1207}]
[null,null,null,{"$f":"Database!D212","v":"1973-01-01"},false,{"$f":"IF($O$4,CHOOSE($U$4,1,Database!AI212,Database!AJ212,Database!AP212),1)","v":1},1,{"$error":"#N/A"},{"$f":"INDEX(Database!E212:AW212,'Graph of One Series'!$O$2)/G213","v":1294}]
[null,null,null,{"$f":"Database!D213","v":"1973-02-01"},false,{"$f":"IF($O$4,CHOOSE($U$4,1,Database!AI213,Database!AJ213,Database!AP213),1)","v":1},1,{"$error":"#N/A"},{"$f":"INDEX(Database!E213:AW213,'Graph of One Series'!$O$2)/G214","v":1290}]
[null,null,null,{"$f":"Database!D214","v":"1973-03-01"},false,{"$f":"IF($O$4,CHOOSE($U$4,1,Database!AI214,Database!AJ214,Database!AP214),1)","v":1},1,{"$error":"#N/A"},{"$f":"INDEX(Database!E214:AW214,'Graph of One Series'!$O$2)/G215","v":1305}]
[null,null,null,{"$f":"Database!D215","v":"1973-04-01"},false,{"$f":"IF($O$4,CHOOSE($U$4,1,Database!AI215,Database!AJ215,Database!AP215),1)","v":1},1,{"$error":"#N/A"},{"$f":"INDEX(Database!E215:AW215,'Graph of One Series'!$O$2)/G216","v":1282}]
[null,null,null,{"$f":"Database!D216","v":"1973-05-01"},false,{"$f":"IF($O$4,CHOOSE($U$4,1,Database!AI216,Database!AJ216,Database!AP216),1)","v":1},1,{"$error":"#N/A"},{"$f":"INDEX(Database!E216:AW216,'Graph of One Series'!$O$2)/G217","v":1299}]
[null,null,null,{"$f":"Database!D217","v":"1973-06-01"},false,{"$f":"IF($O$4,CHOOSE($U$4,1,Database!AI217,Database!AJ217,Database!AP217),1)","v":1},1,{"$error":"#N/A"},{"$f":"INDEX(Database!E217:AW217,'Graph of One Series'!$O$2)/G218","v":1269}]
[null,null,null,{"$f":"Database!D218","v":"1973-07-01"},false,{"$f":"IF($O$4,CHOOSE($U$4,1,Database!AI218,Database!AJ218,Database!AP218),1)","v":1},1,{"$error":"#N/A"},{"$f":"INDEX(Database!E218:AW218,'Graph of One Series'!$O$2)/G219","v":1081}]
[null,null,null,{"$f":"Database!D219","v":"1973-08-01"},false,{"$f":"IF($O$4,CHOOSE($U$4,1,Database!AI219,Database!AJ219,Database!AP219),1)","v":1},1,{"$error":"#N/A"},{"$f":"INDEX(Database!E219:AW219,'Graph of One Series'!$O$2)/G220","v":1149}]
[null,null,null,{"$f":"Database!D220","v":"1973-09-01"},false,{"$f":"IF($O$4,CHOOSE($U$4,1,Database!AI220,Database!AJ220,Database!AP220),1)","v":1},1,{"$error":"#N/A"},{"$f":"INDEX(Database!E220:AW220,'Graph of One Series'!$O$2)/G221","v":1171}]
[null,null,null,{"$f":"Database!D221","v":"1973-10-01"},false,{"$f":"IF($O$4,CHOOSE($U$4,1,Database!AI221,Database!AJ221,Database!AP221),1)","v":1},1,{"$error":"#N/A"},{"$f":"INDEX(Database!E221:AW221,'Graph of One Series'!$O$2)/G222","v":1129}]
[null,null,null,{"$f":"Database!D222","v":"1973-11-01"},false,{"$f":"IF($O$4,CHOOSE($U$4,1,Database!AI222,Database!AJ222,Database!AP222),1)","v":1},1,{"$error":"#N/A"},{"$f":"INDEX(Database!E222:AW222,'Graph of One Series'!$O$2)/G223","v":1105}]
[null,null,null,{"$f":"Database!D223","v":"1973-12-01"},false,{"$f":"IF($O$4,CHOOSE($U$4,1,Database!AI223,Database!AJ223,Database!AP223),1)","v":1},1,{"$error":"#N/A"},{"$f":"INDEX(Database!E223:AW223,'Graph of One Series'!$O$2)/G224","v":1062}]
[null,null,null,{"$f":"Database!D224","v":"1974-01-01"},false,{"$f":"IF($O$4,CHOOSE($U$4,1,Database!AI224,Database!AJ224,Database!AP224),1)","v":1},1,{"$error":"#N/A"},{"$f":"INDEX(Database!E224:AW224,'Graph of One Series'!$O$2)/G225","v":1025}]
[null,null,null,{"$f":"Database!D225","v":"1974-02-01"},false,{"$f":"IF($O$4,CHOOSE($U$4,1,Database!AI225,Database!AJ225,Database!AP225),1)","v":1},1,{"$error":"#N/A"},{"$f":"INDEX(Database!E225:AW225,'Graph of One Series'!$O$2)/G226","v":1027}]
[null,null,null,{"$f":"Database!D226","v":"1974-03-01"},false,{"$f":"IF($O$4,CHOOSE($U$4,1,Database!AI226,Database!AJ226,Database!AP226),1)","v":1},1,{"$error":"#N/A"},{"$f":"INDEX(Database!E226:AW226,'Graph of One Series'!$O$2)/G227","v":973}]
[null,null,null,{"$f":"Database!D227","v":"1974-04-01"},false,{"$f":"IF($O$4,CHOOSE($U$4,1,Database!AI227,Database!AJ227,Database!AP227),1)","v":1},1,{"$error":"#N/A"},{"$f":"INDEX(Database!E227:AW227,'Graph of One Series'!$O$2)/G228","v":936}]
[null,null,null,{"$f":"Database!D228","v":"1974-05-01"},false,{"$f":"IF($O$4,CHOOSE($U$4,1,Database!AI228,Database!AJ228,Database!AP228),1)","v":1},1,{"$error":"#N/A"},{"$f":"INDEX(Database!E228:AW228,'Graph of One Series'!$O$2)/G229","v":930}]
[null,null,null,{"$f":"Database!D229","v":"1974-06-01"},false,{"$f":"IF($O$4,CHOOSE($U$4,1,Database!AI229,Database!AJ229,Database!AP229),1)","v":1},1,{"$error":"#N/A"},{"$f":"INDEX(Database!E229:AW229,'Graph of One Series'!$O$2)/G230","v":1110}]
[null,null,null,{"$f":"Database!D230","v":"1974-07-01"},false,{"$f":"IF($O$4,CHOOSE($U$4,1,Database!AI230,Database!AJ230,Database!AP230),1)","v":1},1,{"$error":"#N/A"},{"$f":"INDEX(Database!E230:AW230,'Graph of One Series'!$O$2)/G231","v":918}]
[null,null,null,{"$f":"Database!D231","v":"1974-08-01"},false,{"$f":"IF($O$4,CHOOSE($U$4,1,Database!AI231,Database!AJ231,Database!AP231),1)","v":1},1,{"$error":"#N/A"},{"$f":"INDEX(Database!E231:AW231,'Graph of One Series'!$O$2)/G232","v":909}]
[null,null,null,{"$f":"Database!D232","v":"1974-09-01"},false,{"$f":"IF($O$4,CHOOSE($U$4,1,Database!AI232,Database!AJ232,Database!AP232),1)","v":1},1,{"$error":"#N/A"},{"$f":"INDEX(Database!E232:AW232,'Graph of One Series'!$O$2)/G233","v":905}]
[null,null,null,{"$f":"Database!D233","v":"1974-10-01"},false,{"$f":"IF($O$4,CHOOSE($U$4,1,Database!AI233,Database!AJ233,Database!AP233),1)","v":1},1,{"$error":"#N/A"},{"$f":"INDEX(Database!E233:AW233,'Graph of One Series'!$O$2)/G234","v":913}]
[null,null,null,{"$f":"Database!D234","v":"1974-11-01"},false,{"$f":"IF($O$4,CHOOSE($U$4,1,Database!AI234,Database!AJ234,Database!AP234),1)","v":1},1,{"$error":"#N/A"},{"$f":"INDEX(Database!E234:AW234,'Graph of One Series'!$O$2)/G235","v":859}]
[null,null,null,{"$f":"Database!D235","v":"1974-12-01"},false,{"$f":"IF($O$4,CHOOSE($U$4,1,Database!AI235,Database!AJ235,Database!AP235),1)","v":1},1,{"$error":"#N/A"},{"$f":"INDEX(Database!E235:AW235,'Graph of One Series'!$O$2)/G236","v":841}]
[null,null,null,{"$f":"Database!D236","v":"1975-01-01"},false,{"$f":"IF($O$4,CHOOSE($U$4,1,Database!AI236,Database!AJ236,Database!AP236),1)","v":1},1,{"$error":"#N/A"},{"$f":"INDEX(Database!E236:AW236,'Graph of One Series'!$O$2)/G237","v":970}]
[null,null,null,{"$f":"Database!D237","v":"1975-02-01"},false,{"$f":"IF($O$4,CHOOSE($U$4,1,Database!AI237,Database!AJ237,Database!AP237),1)","v":1},1,{"$error":"#N/A"},{"$f":"INDEX(Database!E237:AW237,'Graph of One Series'!$O$2)/G238","v":790}]
[null,null,null,{"$f":"Database!D238","v":"1975-03-01"},false,{"$f":"IF($O$4,CHOOSE($U$4,1,Database!AI238,Database!AJ238,Database!AP238),1)","v":1},1,{"$error":"#N/A"},{"$f":"INDEX(Database!E238:AW238,'Graph of One Series'!$O$2)/G239","v":760}]
[null,null,null,{"$f":"Database!D239","v":"1975-04-01"},false,{"$f":"IF($O$4,CHOOSE($U$4,1,Database!AI239,Database!AJ239,Database!AP239),1)","v":1},1,{"$error":"#N/A"},{"$f":"INDEX(Database!E239:AW239,'Graph of One Series'!$O$2)/G240","v":793}]
[null,null,null,{"$f":"Database!D240","v":"1975-05-01"},false,{"$f":"IF($O$4,CHOOSE($U$4,1,Database!AI240,Database!AJ240,Database!AP240),1)","v":1},1,{"$error":"#N/A"},{"$f":"INDEX(Database!E240:AW240,'Graph of One Series'!$O$2)/G241","v":885}]
[null,null,null,{"$f":"Database!D241","v":"1975-06-01"},false,{"$f":"IF($O$4,CHOOSE($U$4,1,Database!AI241,Database!AJ241,Database!AP241),1)","v":1},1,{"$error":"#N/A"},{"$f":"INDEX(Database!E241:AW241,'Graph of One Series'!$O$2)/G242","v":816}]
[null,null,null,{"$f":"Database!D242","v":"1975-07-01"},false,{"$f":"IF($O$4,CHOOSE($U$4,1,Database!AI242,Database!AJ242,Database!AP242),1)","v":1},1,{"$error":"#N/A"},{"$f":"INDEX(Database!E242:AW242,'Graph of One Series'!$O$2)/G243","v":881}]
[null,null,null,{"$f":"Database!D243","v":"1975-08-01"},false,{"$f":"IF($O$4,CHOOSE($U$4,1,Database!AI243,Database!AJ243,Database!AP243),1)","v":1},1,{"$error":"#N/A"},{"$f":"INDEX(Database!E243:AW243,'Graph of One Series'!$O$2)/G244","v":877}]
[null,null,null,{"$f":"Database!D244","v":"1975-09-01"},false,{"$f":"IF($O$4,CHOOSE($U$4,1,Database!AI244,Database!AJ244,Database!AP244),1)","v":1},1,{"$error":"#N/A"},{"$f":"INDEX(Database!E244:AW244,'Graph of One Series'!$O$2)/G245","v":967}]
[null,null,null,{"$f":"Database!D245","v":"1975-10-01"},false,{"$f":"IF($O$4,CHOOSE($U$4,1,Database!AI245,Database!AJ245,Database!AP245),1)","v":1},1,{"$error":"#N/A"},{"$f":"INDEX(Database!E245:AW245,'Graph of One Series'!$O$2)/G246","v":756}]
[null,null,null,{"$f":"Database!D246","v":"1975-11-01"},false,{"$f":"IF($O$4,CHOOSE($U$4,1,Database!AI246,Database!AJ246,Database!AP246),1)","v":1},1,{"$error":"#N/A"},{"$f":"INDEX(Database!E246:AW246,'Graph of One Series'!$O$2)/G247","v":990}]
[null,null,null,{"$f":"Database!D247","v":"1975-12-01"},false,{"$f":"IF($O$4,CHOOSE($U$4,1,Database!AI247,Database!AJ247,Database!AP247),1)","v":1},1,{"$error":"#N/A"},{"$f":"INDEX(Database!E247:AW247,'Graph of One Series'!$O$2)/G248","v":974}]
[null,null,null,{"$f":"Database!D248","v":"1976-01-01"},false,{"$f":"IF($O$4,CHOOSE($U$4,1,Database!AI248,Database!AJ248,Database!AP248),1)","v":1},1,{"$error":"#N/A"},{"$f":"INDEX(Database!E248:AW248,'Graph of One Series'!$O$2)/G249","v":954}]
[null,null,null,{"$f":"Database!D249","v":"1976-02-01"},false,{"$f":"IF($O$4,CHOOSE($U$4,1,Database!AI249,Database!AJ249,Database!AP249),1)","v":1},1,{"$error":"#N/A"},{"$f":"INDEX(Database!E249:AW249,'Graph of One Series'!$O$2)/G250","v":985}]
[null,null,null,{"$f":"Database!D250","v":"1976-03-01"},false,{"$f":"IF($O$4,CHOOSE($U$4,1,Database!AI250,Database!AJ250,Database!AP250),1)","v":1},1,{"$error":"#N/A"},{"$f":"INDEX(Database!E250:AW250,'Graph of One Series'!$O$2)/G251","v":998}]
[null,null,null,{"$f":"Database!D251","v":"1976-04-01"},false,{"$f":"IF($O$4,CHOOSE($U$4,1,Database!AI251,Database!AJ251,Database!AP251),1)","v":1},1,{"$error":"#N/A"},{"$f":"INDEX(Database!E251:AW251,'Graph of One Series'!$O$2)/G252","v":1002}]
[null,null,null,{"$f":"Database!D252","v":"1976-05-01"},false,{"$f":"IF($O$4,CHOOSE($U$4,1,Database!AI252,Database!AJ252,Database!AP252),1)","v":1},1,{"$error":"#N/A"},{"$f":"INDEX(Database!E252:AW252,'Graph of One Series'!$O$2)/G253","v":1009}]
[null,null,null,{"$f":"Database!D253","v":"1976-06-01"},false,{"$f":"IF($O$4,CHOOSE($U$4,1,Database!AI253,Database!AJ253,Database!AP253),1)","v":1},1,{"$error":"#N/A"},{"$f":"INDEX(Database!E253:AW253,'Graph of One Series'!$O$2)/G254","v":1058}]
[null,null,null,{"$f":"Database!D254","v":"1976-07-01"},false,{"$f":"IF($O$4,CHOOSE($U$4,1,Database!AI254,Database!AJ254,Database!AP254),1)","v":1},1,{"$error":"#N/A"},{"$f":"INDEX(Database!E254:AW254,'Graph of One Series'!$O$2)/G255","v":1040}]
[null,null,null,{"$f":"Database!D255","v":"1976-08-01"},false,{"$f":"IF($O$4,CHOOSE($U$4,1,Database!AI255,Database!AJ255,Database!AP255),1)","v":1},1,{"$error":"#N/A"},{"$f":"INDEX(Database!E255:AW255,'Graph of One Series'!$O$2)/G256","v":1060}]
[null,null,null,{"$f":"Database!D256","v":"1976-09-01"},false,{"$f":"IF($O$4,CHOOSE($U$4,1,Database!AI256,Database!AJ256,Database!AP256),1)","v":1},1,{"$error":"#N/A"},{"$f":"INDEX(Database!E256:AW256,'Graph of One Series'!$O$2)/G257","v":979}]
[null,null,null,{"$f":"Database!D257","v":"1976-10-01"},false,{"$f":"IF($O$4,CHOOSE($U$4,1,Database!AI257,Database!AJ257,Database!AP257),1)","v":1},1,{"$error":"#N/A"},{"$f":"INDEX(Database!E257:AW257,'Graph of One Series'!$O$2)/G258","v":1043}]
[null,null,null,{"$f":"Database!D258","v":"1976-11-01"},false,{"$f":"IF($O$4,CHOOSE($U$4,1,Database!AI258,Database!AJ258,Database!AP258),1)","v":1},1,{"$error":"#N/A"},{"$f":"INDEX(Database!E258:AW258,'Graph of One Series'!$O$2)/G259","v":1095}]
[null,null,null,{"$f":"Database!D259","v":"1976-12-01"},false,{"$f":"IF($O$4,CHOOSE($U$4,1,Database!AI259,Database!AJ259,Database!AP259),1)","v":1},1,{"$error":"#N/A"},{"$f":"INDEX(Database!E259:AW259,'Graph of One Series'!$O$2)/G260","v":1095}]
[null,null,null,{"$f":"Database!D260","v":"1977-01-01"},false,{"$f":"IF($O$4,CHOOSE($U$4,1,Database!AI260,Database!AJ260,Database!AP260),1)","v":1},1,{"$error":"#N/A"},{"$f":"INDEX(Database!E260:AW260,'Graph of One Series'!$O$2)/G261","v":1132}]
[null,null,null,{"$f":"Database!D261","v":"1977-02-01"},false,{"$f":"IF($O$4,CHOOSE($U$4,1,Database!AI261,Database!AJ261,Database!AP261),1)","v":1},1,{"$error":"#N/A"},{"$f":"INDEX(Database!E261:AW261,'Graph of One Series'!$O$2)/G262","v":1275}]
[null,null,null,{"$f":"Database!D262","v":"1977-03-01"},false,{"$f":"IF($O$4,CHOOSE($U$4,1,Database!AI262,Database!AJ262,Database!AP262),1)","v":1},1,{"$error":"#N/A"},{"$f":"INDEX(Database!E262:AW262,'Graph of One Series'!$O$2)/G263","v":1186}]
[null,null,null,{"$f":"Database!D263","v":"1977-04-01"},false,{"$f":"IF($O$4,CHOOSE($U$4,1,Database!AI263,Database!AJ263,Database!AP263),1)","v":1},1,{"$error":"#N/A"},{"$f":"INDEX(Database!E263:AW263,'Graph of One Series'!$O$2)/G264","v":1188}]
[null,null,null,{"$f":"Database!D264","v":"1977-05-01"},false,{"$f":"IF($O$4,CHOOSE($U$4,1,Database!AI264,Database!AJ264,Database!AP264),1)","v":1},{"$f":"F265/$G$5","v":1},{"$f":"IF(E265,D265,NA())","v":{"$error":"#N/A"}},{"$f":"INDEX(Database!E264:AW264,'Graph of One Series'!$O$2)/G265","v":1183}]
[null,null,null,{"$f":"Database!D265","v":"1977-06-01"},{"$f":"AND($D266>=E$7,$D266<=E$8)","v":false},{"$f":"IF($O$4,CHOOSE($U$4,1,Database!AI265,Database!AJ265,Database!AP265),1)","v":1},1,{"$error":"#N/A"},{"$f":"INDEX(Database!E265:AW265,'Graph of One Series'!$O$2)/G266","v":1214}]
[null,null,null,{"$f":"Database!D266","v":"1977-07-01"},false,{"$f":"IF($O$4,CHOOSE($U$4,1,Database!AI266,Database!AJ266,Database!AP266),1)","v":1},1,{"$error":"#N/A"},{"$f":"INDEX(Database!E266:AW266,'Graph of One Series'!$O$2)/G267","v":1277}]
[null,null,null,{"$f":"Database!D267","v":"1977-08-01"},false,{"$f":"IF($O$4,CHOOSE($U$4,1,Database!AI267,Database!AJ267,Database!AP267),1)","v":1},1,{"$error":"#N/A"},{"$f":"INDEX(Database!E267:AW267,'Graph of One Series'!$O$2)/G268","v":1274}]
[null,null,null,{"$f":"Database!D268","v":"1977-09-01"},false,{"$f":"IF($O$4,CHOOSE($U$4,1,Database!AI268,Database!AJ268,Database!AP268),1)","v":1},1,{"$error":"#N/A"},{"$f":"INDEX(Database!E268:AW268,'Graph of One Series'!$O$2)/G269","v":1450}]
[null,null,null,{"$f":"Database!D269","v":"1977-10-01"},false,{"$f":"IF($O$4,CHOOSE($U$4,1,Database!AI269,Database!AJ269,Database!AP269),1)","v":1},1,{"$error":"#N/A"},{"$f":"INDEX(Database!E269:AW269,'Graph of One Series'!$O$2)/G270","v":1244}]
[null,null,null,{"$f":"Database!D270","v":"1977-11-01"},false,{"$f":"IF($O$4,CHOOSE($U$4,1,Database!AI270,Database!AJ270,Database!AP270),1)","v":1},1,{"$error":"#N/A"},{"$f":"INDEX(Database!E270:AW270,'Graph of One Series'!$O$2)/G271","v":1300}]
[null,null,null,{"$f":"Database!D271","v":"1977-12-01"},false,{"$f":"IF($O$4,CHOOSE($U$4,1,Database!AI271,Database!AJ271,Database!AP271),1)","v":1},1,{"$error":"#N/A"},{"$f":"INDEX(Database!E271:AW271,'Graph of One Series'!$O$2)/G272","v":1287}]
[null,null,null,{"$f":"Database!D272","v":"1978-01-01"},false,{"$f":"IF($O$4,CHOOSE($U$4,1,Database!AI272,Database!AJ272,Database!AP272),1)","v":1},1,{"$error":"#N/A"},{"$f":"INDEX(Database!E272:AW272,'Graph of One Series'!$O$2)/G273","v":1298}]
[null,null,null,{"$f":"Database!D273","v":"1978-02-01"},false,{"$f":"IF($O$4,CHOOSE($U$4,1,Database!AI273,Database!AJ273,Database!AP273),1)","v":1},1,{"$error":"#N/A"},{"$f":"INDEX(Database!E273:AW273,'Graph of One Series'!$O$2)/G274","v":1258}]
[null,null,null,{"$f":"Database!D274","v":"1978-03-01"},false,{"$f":"IF($O$4,CHOOSE($U$4,1,Database!AI274,Database!AJ274,Database!AP274),1)","v":1},1,{"$error":"#N/A"},{"$f":"INDEX(Database!E274:AW274,'Graph of One Series'!$O$2)/G275","v":1347}]
[null,null,null,{"$f":"Database!D275","v":"1978-04-01"},false,{"$f":"IF($O$4,CHOOSE($U$4,1,Database!AI275,Database!AJ275,Database!AP275),1)","v":1},1,{"$error":"#N/A"},{"$f":"INDEX(Database!E275:AW275,'Graph of One Series'!$O$2)/G276","v":1413}]
[null,null,null,{"$f":"Database!D276","v":"1978-05-01"},false,{"$f":"IF($O$4,CHOOSE($U$4,1,Database!AI276,Database!AJ276,Database!AP276),1)","v":1},1,{"$error":"#N/A"},{"$f":"INDEX(Database!E276:AW276,'Graph of One Series'!$O$2)/G277","v":1395}]
[null,null,null,{"$f":"Database!D277","v":"1978-06-01"},false,{"$f":"IF($O$4,CHOOSE($U$4,1,Database!AI277,Database!AJ277,Database!AP277),1)","v":1},1,{"$error":"#N/A"},{"$f":"INDEX(Database!E277:AW277,'Graph of One Series'!$O$2)/G278","v":1377}]
[null,null,null,{"$f":"Database!D278","v":"1978-07-01"},false,{"$f":"IF($O$4,CHOOSE($U$4,1,Database!AI278,Database!AJ278,Database!AP278),1)","v":1},1,{"$error":"#N/A"},{"$f":"INDEX(Database!E278:AW278,'Graph of One Series'!$O$2)/G279","v":1343}]
[null,null,null,{"$f":"Database!D279","v":"1978-08-01"},false,{"$f":"IF($O$4,CHOOSE($U$4,1,Database!AI279,Database!AJ279,Database!AP279),1)","v":1},1,{"$error":"#N/A"},{"$f":"INDEX(Database!E279:AW279,'Graph of One Series'!$O$2)/G280","v":1396}]
[null,null,null,{"$f":"Database!D280","v":"1978-09-01"},false,{"$f":"IF($O$4,CHOOSE($U$4,1,Database!AI280,Database!AJ280,Database!AP280),1)","v":1},1,{"$error":"#N/A"},{"$f":"INDEX(Database!E280:AW280,'Graph of One Series'!$O$2)/G281","v":1427}]
[null,null,null,{"$f":"Database!D281","v":"1978-10-01"},false,{"$f":"IF($O$4,CHOOSE($U$4,1,Database!AI281,Database!AJ281,Database!AP281),1)","v":1},1,{"$error":"#N/A"},{"$f":"INDEX(Database!E281:AW281,'Graph of One Series'!$O$2)/G282","v":1421}]
[null,null,null,{"$f":"Database!D282","v":"1978-11-01"},false,{"$f":"IF($O$4,CHOOSE($U$4,1,Database!AI282,Database!AJ282,Database!AP282),1)","v":1},1,{"$error":"#N/A"},{"$f":"INDEX(Database!E282:AW282,'Graph of One Series'!$O$2)/G283","v":1380}]
[null,null,null,{"$f":"Database!D283","v":"1978-12-01"},false,{"$f":"IF($O$4,CHOOSE($U$4,1,Database!AI283,Database!AJ283,Database!AP283),1)","v":1},1,{"$error":"#N/A"},{"$f":"INDEX(Database!E283:AW283,'Graph of One Series'!$O$2)/G284","v":1351}]
[null,null,null,{"$f":"Database!D284","v":"1979-01-01"},false,{"$f":"IF($O$4,CHOOSE($U$4,1,Database!AI284,Database!AJ284,Database!AP284),1)","v":1},1,{"$error":"#N/A"},{"$f":"INDEX(Database!E284:AW284,'Graph of One Series'!$O$2)/G285","v":1312}]
[null,null,null,{"$f":"Database!D285","v":"1979-02-01"},false,{"$f":"IF($O$4,CHOOSE($U$4,1,Database!AI285,Database!AJ285,Database!AP285),1)","v":1},1,{"$error":"#N/A"},{"$f":"INDEX(Database!E285:AW285,'Graph of One Series'!$O$2)/G286","v":1318}]
[null,null,null,{"$f":"Database!D286","v":"1979-03-01"},false,{"$f":"IF($O$4,CHOOSE($U$4,1,Database!AI286,Database!AJ286,Database!AP286),1)","v":1},1,{"$error":"#N/A"},{"$f":"INDEX(Database!E286:AW286,'Graph of One Series'!$O$2)/G287","v":1402}]
[null,null,null,{"$f":"Database!D287","v":"1979-04-01"},false,{"$f":"IF($O$4,CHOOSE($U$4,1,Database!AI287,Database!AJ287,Database!AP287),1)","v":1},1,{"$error":"#N/A"},{"$f":"INDEX(Database!E287:AW287,'Graph of One Series'!$O$2)/G288","v":1342}]
[null,null,null,{"$f":"Database!D288","v":"1979-05-01"},false,{"$f":"IF($O$4,CHOOSE($U$4,1,Database!AI288,Database!AJ288,Database!AP288),1)","v":1},1,{"$error":"#N/A"},{"$f":"INDEX(Database!E288:AW288,'Graph of One Series'!$O$2)/G289","v":1335}]
[null,null,null,{"$f":"Database!D289","v":"1979-06-01"},false,{"$f":"IF($O$4,CHOOSE($U$4,1,Database!AI289,Database!AJ289,Database!AP289),1)","v":1},1,{"$error":"#N/A"},{"$f":"INDEX(Database!E289:AW289,'Graph of One Series'!$O$2)/G290","v":1338}]
[null,null,null,{"$f":"Database!D290","v":"1979-07-01"},false,{"$f":"IF($O$4,CHOOSE($U$4,1,Database!AI290,Database!AJ290,Database!AP290),1)","v":1},1,{"$error":"#N/A"},{"$f":"INDEX(Database!E290:AW290,'Graph of One Series'!$O$2)/G291","v":1238}]
[null,null,null,{"$f":"Database!D291","v":"1979-08-01"},false,{"$f":"IF($O$4,CHOOSE($U$4,1,Database!AI291,Database!AJ291,Database!AP291),1)","v":1},1,{"$error":"#N/A"},{"$f":"INDEX(Database!E291:AW291,'Graph of One Series'!$O$2)/G292","v":1241}]
[null,null,null,{"$f":"Database!D292","v":"1979-09-01"},false,{"$f":"IF($O$4,CHOOSE($U$4,1,Database!AI292,Database!AJ292,Database!AP292),1)","v":1},1,{"$error":"#N/A"},{"$f":"INDEX(Database!E292:AW292,'Graph of One Series'!$O$2)/G293","v":1251}]
[null,null,null,{"$f":"Database!D293","v":"1979-10-01"},false,{"$f":"IF($O$4,CHOOSE($U$4,1,Database!AI293,Database!AJ293,Database!AP293),1)","v":1},1,{"$error":"#N/A"},{"$f":"INDEX(Database!E293:AW293,'Graph of One Series'!$O$2)/G294","v":1272}]
[null,null,null,{"$f":"Database!D294","v":"1979-11-01"},false,{"$f":"IF($O$4,CHOOSE($U$4,1,Database!AI294,Database!AJ294,Database!AP294),1)","v":1},1,{"$error":"#N/A"},{"$f":"INDEX(Database!E294:AW294,'Graph of One Series'!$O$2)/G295","v":1269}]
[null,null,null,{"$f":"Database!D295","v":"1979-12-01"},false,{"$f":"IF($O$4,CHOOSE($U$4,1,Database!AI295,Database!AJ295,Database!AP295),1)","v":1},1,{"$error":"#N/A"},{"$f":"INDEX(Database!E295:AW295,'Graph of One Series'!$O$2)/G296","v":1310}]
[null,null,null,{"$f":"Database!D296","v":"1980-01-01"},false,{"$f":"IF($O$4,CHOOSE($U$4,1,Database!AI296,Database!AJ296,Database!AP296),1)","v":1},1,{"$error":"#N/A"},{"$f":"INDEX(Database!E296:AW296,'Graph of One Series'!$O$2)/G297","v":1241}]
[null,null,null,{"$f":"Database!D297","v":"1980-02-01"},false,{"$f":"IF($O$4,CHOOSE($U$4,1,Database!AI297,Database!AJ297,Database!AP297),1)","v":1},1,{"$error":"#N/A"},{"$f":"INDEX(Database!E297:AW297,'Graph of One Series'!$O$2)/G298","v":1181}]
[null,null,null,{"$f":"Database!D298","v":"1980-03-01"},false,{"$f":"IF($O$4,CHOOSE($U$4,1,Database!AI298,Database!AJ298,Database!AP298),1)","v":1},1,{"$error":"#N/A"},{"$f":"INDEX(Database!E298:AW298,'Graph of One Series'!$O$2)/G299","v":1114}]
[null,null,null,{"$f":"Database!D299","v":"1980-04-01"},false,{"$f":"IF($O$4,CHOOSE($U$4,1,Database!AI299,Database!AJ299,Database!AP299),1)","v":1},1,{"$error":"#N/A"},{"$f":"INDEX(Database!E299:AW299,'Graph of One Series'!$O$2)/G300","v":1076}]
[null,null,null,{"$f":"Database!D300","v":"1980-05-01"},false,{"$f":"IF($O$4,CHOOSE($U$4,1,Database!AI300,Database!AJ300,Database!AP300),1)","v":1},1,{"$error":"#N/A"},{"$f":"INDEX(Database!E300:AW300,'Graph of One Series'!$O$2)/G301","v":970}]
[null,null,null,{"$f":"Database!D301","v":"1980-06-01"},false,{"$f":"IF($O$4,CHOOSE($U$4,1,Database!AI301,Database!AJ301,Database!AP301),1)","v":1},1,{"$error":"#N/A"},{"$f":"INDEX(Database!E301:AW301,'Graph of One Series'!$O$2)/G302","v":912}]
[null,null,null,{"$f":"Database!D302","v":"1980-07-01"},false,{"$f":"IF($O$4,CHOOSE($U$4,1,Database!AI302,Database!AJ302,Database!AP302),1)","v":1},1,{"$error":"#N/A"},{"$f":"INDEX(Database!E302:AW302,'Graph of One Series'!$O$2)/G303","v":874}]
[null,null,null,{"$f":"Database!D303","v":"1980-08-01"},false,{"$f":"IF($O$4,CHOOSE($U$4,1,Database!AI303,Database!AJ303,Database!AP303),1)","v":1},1,{"$error":"#N/A"},{"$f":"INDEX(Database!E303:AW303,'Graph of One Series'!$O$2)/G304","v":939}]
[null,null,null,{"$f":"Database!D304","v":"1980-09-01"},false,{"$f":"IF($O$4,CHOOSE($U$4,1,Database!AI304,Database!AJ304,Database!AP304),1)","v":1},1,{"$error":"#N/A"},{"$f":"INDEX(Database!E304:AW304,'Graph of One Series'!$O$2)/G305","v":759}]
[null,null,null,{"$f":"Database!D305","v":"1980-10-01"},false,{"$f":"IF($O$4,CHOOSE($U$4,1,Database!AI305,Database!AJ305,Database!AP305),1)","v":1},1,{"$error":"#N/A"},{"$f":"INDEX(Database!E305:AW305,'Graph of One Series'!$O$2)/G306","v":829}]
[null,null,null,{"$f":"Database!D306","v":"1980-11-01"},false,{"$f":"IF($O$4,CHOOSE($U$4,1,Database!AI306,Database!AJ306,Database!AP306),1)","v":1},1,{"$error":"#N/A"},{"$f":"INDEX(Database!E306:AW306,'Graph of One Series'!$O$2)/G307","v":842}]
[null,null,null,{"$f":"Database!D307","v":"1980-12-01"},false,{"$f":"IF($O$4,CHOOSE($U$4,1,Database!AI307,Database!AJ307,Database!AP307),1)","v":1},1,{"$error":"#N/A"},{"$f":"INDEX(Database!E307:AW307,'Graph of One Series'!$O$2)/G308","v":902}]
[null,null,null,{"$f":"Database!D308","v":"1981-01-01"},false,{"$f":"IF($O$4,CHOOSE($U$4,1,Database!AI308,Database!AJ308,Database!AP308),1)","v":1},1,{"$error":"#N/A"},{"$f":"INDEX(Database!E308:AW308,'Graph of One Series'!$O$2)/G309","v":898}]
[null,null,null,{"$f":"Database!D309","v":"1981-02-01"},false,{"$f":"IF($O$4,CHOOSE($U$4,1,Database!AI309,Database!AJ309,Database!AP309),1)","v":1},1,{"$error":"#N/A"},{"$f":"INDEX(Database!E309:AW309,'Graph of One Series'!$O$2)/G310","v":961}]
[null,null,null,{"$f":"Database!D310","v":"1981-03-01"},false,{"$f":"IF($O$4,CHOOSE($U$4,1,Database!AI310,Database!AJ310,Database!AP310),1)","v":1},1,{"$error":"#N/A"},{"$f":"INDEX(Database!E310:AW310,'Graph of One Series'!$O$2)/G311","v":888}]
[null,null,null,{"$f":"Database!D311","v":"1981-04-01"},false,{"$f":"IF($O$4,CHOOSE($U$4,1,Database!AI311,Database!AJ311,Database!AP311),1)","v":1},1,{"$error":"#N/A"},{"$f":"INDEX(Database!E311:AW311,'Graph of One Series'!$O$2)/G312","v":935}]
[null,null,null,{"$f":"Database!D312","v":"1981-05-01"},false,{"$f":"IF($O$4,CHOOSE($U$4,1,Database!AI312,Database!AJ312,Database!AP312),1)","v":1},1,{"$error":"#N/A"},{"$f":"INDEX(Database!E312:AW312,'Graph of One Series'!$O$2)/G313","v":879}]
[null,null,null,{"$f":"Database!D313","v":"1981-06-01"},false,{"$f":"IF($O$4,CHOOSE($U$4,1,Database!AI313,Database!AJ313,Database!AP313),1)","v":1},1,{"$error":"#N/A"},{"$f":"INDEX(Database!E313:AW313,'Graph of One Series'!$O$2)/G314","v":864}]
[null,null,null,{"$f":"Database!D314","v":"1981-07-01"},false,{"$f":"IF($O$4,CHOOSE($U$4,1,Database!AI314,Database!AJ314,Database!AP314),1)","v":1},1,{"$error":"#N/A"},{"$f":"INDEX(Database!E314:AW314,'Graph of One Series'!$O$2)/G315","v":851}]
[null,null,null,{"$f":"Database!D315","v":"1981-08-01"},false,{"$f":"IF($O$4,CHOOSE($U$4,1,Database!AI315,Database!AJ315,Database!AP315),1)","v":1},1,{"$error":"#N/A"},{"$f":"INDEX(Database!E315:AW315,'Graph of One Series'!$O$2)/G316","v":801}]
[null,null,null,{"$f":"Database!D316","v":"1981-09-01"},false,{"$f":"IF($O$4,CHOOSE($U$4,1,Database!AI316,Database!AJ316,Database!AP316),1)","v":1},1,{"$error":"#N/A"},{"$f":"INDEX(Database!E316:AW316,'Graph of One Series'!$O$2)/G317","v":795}]
[null,null,null,{"$f":"Database!D317","v":"1981-10-01"},false,{"$f":"IF($O$4,CHOOSE($U$4,1,Database!AI317,Database!AJ317,Database!AP317),1)","v":1},1,{"$error":"#N/A"},{"$f":"INDEX(Database!E317:AW317,'Graph of One Series'!$O$2)/G318","v":712}]
[null,null,null,{"$f":"Database!D318","v":"1981-11-01"},false,{"$f":"IF($O$4,CHOOSE($U$4,1,Database!AI318,Database!AJ318,Database!AP318),1)","v":1},1,{"$error":"#N/A"},{"$f":"INDEX(Database!E318:AW318,'Graph of One Series'!$O$2)/G319","v":672}]
[null,null,null,{"$f":"Database!D319","v":"1981-12-01"},false,{"$f":"IF($O$4,CHOOSE($U$4,1,Database!AI319,Database!AJ319,Database!AP319),1)","v":1},1,{"$error":"#N/A"},{"$f":"INDEX(Database!E319:AW319,'Graph of One Series'!$O$2)/G320","v":682}]
[null,null,null,{"$f":"Database!D320","v":"1982-01-01"},false,{"$f":"IF($O$4,CHOOSE($U$4,1,Database!AI320,Database!AJ320,Database!AP320),1)","v":1},1,{"$error":"#N/A"},{"$f":"INDEX(Database!E320:AW320,'Graph of One Series'!$O$2)/G321","v":642}]
[null,null,null,{"$f":"Database!D321","v":"1982-02-01"},false,{"$f":"IF($O$4,CHOOSE($U$4,1,Database!AI321,Database!AJ321,Database!AP321),1)","v":1},1,{"$error":"#N/A"},{"$f":"INDEX(Database!E321:AW321,'Graph of One Series'!$O$2)/G322","v":555}]
[null,null,null,{"$f":"Database!D322","v":"1982-03-01"},false,{"$f":"IF($O$4,CHOOSE($U$4,1,Database!AI322,Database!AJ322,Database!AP322),1)","v":1},1,{"$error":"#N/A"},{"$f":"INDEX(Database!E322:AW322,'Graph of One Series'!$O$2)/G323","v":593}]
[null,null,null,{"$f":"Database!D323","v":"1982-04-01"},false,{"$f":"IF($O$4,CHOOSE($U$4,1,Database!AI323,Database!AJ323,Database!AP323),1)","v":1},1,{"$error":"#N/A"},{"$f":"INDEX(Database!E323:AW323,'Graph of One Series'!$O$2)/G324","v":606}]
[null,null,null,{"$f":"Database!D324","v":"1982-05-01"},false,{"$f":"IF($O$4,CHOOSE($U$4,1,Database!AI324,Database!AJ324,Database!AP324),1)","v":1},1,{"$error":"#N/A"},{"$f":"INDEX(Database!E324:AW324,'Graph of One Series'!$O$2)/G325","v":683}]
[null,null,null,{"$f":"Database!D325","v":"1982-06-01"},false,{"$f":"IF($O$4,CHOOSE($U$4,1,Database!AI325,Database!AJ325,Database!AP325),1)","v":1},1,{"$error":"#N/A"},{"$f":"INDEX(Database!E325:AW325,'Graph of One Series'!$O$2)/G326","v":573}]
[null,null,null,{"$f":"Database!D326","v":"1982-07-01"},false,{"$f":"IF($O$4,CHOOSE($U$4,1,Database!AI326,Database!AJ326,Database!AP326),1)","v":1},1,{"$error":"#N/A"},{"$f":"INDEX(Database!E326:AW326,'Graph of One Series'!$O$2)/G327","v":671}]
[null,null,null,{"$f":"Database!D327","v":"1982-08-01"},false,{"$f":"IF($O$4,CHOOSE($U$4,1,Database!AI327,Database!AJ327,Database!AP327),1)","v":1},1,{"$error":"#N/A"},{"$f":"INDEX(Database!E327:AW327,'Graph of One Series'!$O$2)/G328","v":626}]
[null,null,null,{"$f":"Database!D328","v":"1982-09-01"},false,{"$f":"IF($O$4,CHOOSE($U$4,1,Database!AI328,Database!AJ328,Database!AP328),1)","v":1},{"$f":"F329/$G$5","v":1},{"$f":"IF(E329,D329,NA())","v":{"$error":"#N/A"}},{"$f":"INDEX(Database!E328:AW328,'Graph of One Series'!$O$2)/G329","v":594}]
[null,null,null,{"$f":"Database!D329","v":"1982-10-01"},{"$f":"AND($D330>=E$7,$D330<=E$8)","v":false},{"$f":"IF($O$4,CHOOSE($U$4,1,Database!AI329,Database!AJ329,Database!AP329),1)","v":1},1,{"$error":"#N/A"},{"$f":"INDEX(Database!E329:AW329,'Graph of One Series'!$O$2)/G330","v":673}]
[null,null,null,{"$f":"Database!D330","v":"1982-11-01"},false,{"$f":"IF($O$4,CHOOSE($U$4,1,Database!AI330,Database!AJ330,Database!AP330),1)","v":1},1,{"$error":"#N/A"},{"$f":"INDEX(Database!E330:AW330,'Graph of One Series'!$O$2)/G331","v":688}]
[null,null,null,{"$f":"Database!D331","v":"1982-12-01"},false,{"$f":"IF($O$4,CHOOSE($U$4,1,Database!AI331,Database!AJ331,Database!AP331),1)","v":1},1,{"$error":"#N/A"},{"$f":"INDEX(Database!E331:AW331,'Graph of One Series'!$O$2)/G332","v":657}]
[null,null,null,{"$f":"Database!D332","v":"1983-01-01"},false,{"$f":"IF($O$4,CHOOSE($U$4,1,Database!AI332,Database!AJ332,Database!AP332),1)","v":1},1,{"$error":"#N/A"},{"$f":"INDEX(Database!E332:AW332,'Graph of One Series'!$O$2)/G333","v":776}]
[null,null,null,{"$f":"Database!D333","v":"1983-02-01"},false,{"$f":"IF($O$4,CHOOSE($U$4,1,Database!AI333,Database!AJ333,Database!AP333),1)","v":1},1,{"$error":"#N/A"},{"$f":"INDEX(Database!E333:AW333,'Graph of One Series'!$O$2)/G334","v":714}]
[null,null,null,{"$f":"Database!D334","v":"1983-03-01"},false,{"$f":"IF($O$4,CHOOSE($U$4,1,Database!AI334,Database!AJ334,Database!AP334),1)","v":1},1,{"$error":"#N/A"},{"$f":"INDEX(Database!E334:AW334,'Graph of One Series'!$O$2)/G335","v":788}]
[null,null,null,{"$f":"Database!D335","v":"1983-04-01"},false,{"$f":"IF($O$4,CHOOSE($U$4,1,Database!AI335,Database!AJ335,Database!AP335),1)","v":1},1,{"$error":"#N/A"},{"$f":"INDEX(Database!E335:AW335,'Graph of One Series'!$O$2)/G336","v":817}]
[null,null,null,{"$f":"Database!D336","v":"1983-05-01"},false,{"$f":"IF($O$4,CHOOSE($U$4,1,Database!AI336,Database!AJ336,Database!AP336),1)","v":1},1,{"$error":"#N/A"},{"$f":"INDEX(Database!E336:AW336,'Graph of One Series'!$O$2)/G337","v":856}]
[null,null,null,{"$f":"Database!D337","v":"1983-06-01"},false,{"$f":"IF($O$4,CHOOSE($U$4,1,Database!AI337,Database!AJ337,Database!AP337),1)","v":1},1,{"$error":"#N/A"},{"$f":"INDEX(Database!E337:AW337,'Graph of One Series'!$O$2)/G338","v":923}]
[null,null,null,{"$f":"Database!D338","v":"1983-07-01"},false,{"$f":"IF($O$4,CHOOSE($U$4,1,Database!AI338,Database!AJ338,Database!AP338),1)","v":1},1,{"$error":"#N/A"},{"$f":"INDEX(Database!E338:AW338,'Graph of One Series'!$O$2)/G339","v":971}]
[null,null,null,{"$f":"Database!D339","v":"1983-08-01"},false,{"$f":"IF($O$4,CHOOSE($U$4,1,Database!AI339,Database!AJ339,Database!AP339),1)","v":1},1,{"$error":"#N/A"},{"$f":"INDEX(Database!E339:AW339,'Graph of One Series'!$O$2)/G340","v":1033}]
[null,null,null,{"$f":"Database!D340","v":"1983-09-01"},false,{"$f":"IF($O$4,CHOOSE($U$4,1,Database!AI340,Database!AJ340,Database!AP340),1)","v":1},1,{"$error":"#N/A"},{"$f":"INDEX(Database!E340:AW340,'Graph of One Series'!$O$2)/G341","v":985}]
[null,null,null,{"$f":"Database!D341","v":"1983-10-01"},false,{"$f":"IF($O$4,CHOOSE($U$4,1,Database!AI341,Database!AJ341,Database!AP341),1)","v":1},1,{"$error":"#N/A"},{"$f":"INDEX(Database!E341:AW341,'Graph of One Series'!$O$2)/G342","v":1049}]
[null,null,null,{"$f":"Database!D342","v":"1983-11-01"},false,{"$f":"IF($O$4,CHOOSE($U$4,1,Database!AI342,Database!AJ342,Database!AP342),1)","v":1},1,{"$error":"#N/A"},{"$f":"INDEX(Database!E342:AW342,'Graph of One Series'!$O$2)/G343","v":1003}]
[null,null,null,{"$f":"Database!D343","v":"1983-12-01"},false,{"$f":"IF($O$4,CHOOSE($U$4,1,Database!AI343,Database!AJ343,Database!AP343),1)","v":1},1,{"$error":"#N/A"},{"$f":"INDEX(Database!E343:AW343,'Graph of One Series'!$O$2)/G344","v":1008}]
[null,null,null,{"$f":"Database!D344","v":"1984-01-01"},false,{"$f":"IF($O$4,CHOOSE($U$4,1,Database!AI344,Database!AJ344,Database!AP344),1)","v":1},1,{"$error":"#N/A"},{"$f":"INDEX(Database!E344:AW344,'Graph of One Series'!$O$2)/G345","v":1014}]
[null,null,null,{"$f":"Database!D345","v":"1984-02-01"},false,{"$f":"IF($O$4,CHOOSE($U$4,1,Database!AI345,Database!AJ345,Database!AP345),1)","v":1},1,{"$error":"#N/A"},{"$f":"INDEX(Database!E345:AW345,'Graph of One Series'!$O$2)/G346","v":1036}]
[null,null,null,{"$f":"Database!D346","v":"1984-03-01"},false,{"$f":"IF($O$4,CHOOSE($U$4,1,Database!AI346,Database!AJ346,Database!AP346),1)","v":1},1,{"$error":"#N/A"},{"$f":"INDEX(Database!E346:AW346,'Graph of One Series'!$O$2)/G347","v":1032}]
[null,null,null,{"$f":"Database!D347","v":"1984-04-01"},false,{"$f":"IF($O$4,CHOOSE($U$4,1,Database!AI347,Database!AJ347,Database!AP347),1)","v":1},1,{"$error":"#N/A"},{"$f":"INDEX(Database!E347:AW347,'Graph of One Series'!$O$2)/G348","v":988}]
[null,null,null,{"$f":"Database!D348","v":"1984-05-01"},false,{"$f":"IF($O$4,CHOOSE($U$4,1,Database!AI348,Database!AJ348,Database!AP348),1)","v":1},1,{"$error":"#N/A"},{"$f":"INDEX(Database!E348:AW348,'Graph of One Series'!$O$2)/G349","v":1070}]
[null,null,null,{"$f":"Database!D349","v":"1984-06-01"},false,{"$f":"IF($O$4,CHOOSE($U$4,1,Database!AI349,Database!AJ349,Database!AP349),1)","v":1},1,{"$error":"#N/A"},{"$f":"INDEX(Database!E349:AW349,'Graph of One Series'!$O$2)/G350","v":1041}]
[null,null,null,{"$f":"Database!D350","v":"1984-07-01"},false,{"$f":"IF($O$4,CHOOSE($U$4,1,Database!AI350,Database!AJ350,Database!AP350),1)","v":1},1,{"$error":"#N/A"},{"$f":"INDEX(Database!E350:AW350,'Graph of One Series'!$O$2)/G351","v":1064}]
[null,null,null,{"$f":"Database!D351","v":"1984-08-01"},false,{"$f":"IF($O$4,CHOOSE($U$4,1,Database!AI351,Database!AJ351,Database!AP351),1)","v":1},1,{"$error":"#N/A"},{"$f":"INDEX(Database!E351:AW351,'Graph of One Series'!$O$2)/G352","v":1040}]
[null,null,null,{"$f":"Database!D352","v":"1984-09-01"},false,{"$f":"IF($O$4,CHOOSE($U$4,1,Database!AI352,Database!AJ352,Database!AP352),1)","v":1},1,{"$error":"#N/A"},{"$f":"INDEX(Database!E352:AW352,'Graph of One Series'!$O$2)/G353","v":1031}]
[null,null,null,{"$f":"Database!D353","v":"1984-10-01"},false,{"$f":"IF($O$4,CHOOSE($U$4,1,Database!AI353,Database!AJ353,Database!AP353),1)","v":1},1,{"$error":"#N/A"},{"$f":"INDEX(Database!E353:AW353,'Graph of One Series'!$O$2)/G354","v":977}]
[null,null,null,{"$f":"Database!D354","v":"1984-11-01"},false,{"$f":"IF($O$4,CHOOSE($U$4,1,Database!AI354,Database!AJ354,Database!AP354),1)","v":1},1,{"$error":"#N/A"},{"$f":"INDEX(Database!E354:AW354,'Graph of One Series'!$O$2)/G355","v":1015}]
[null,null,null,{"$f":"Database!D355","v":"1984-12-01"},false,{"$f":"IF($O$4,CHOOSE($U$4,1,Database!AI355,Database!AJ355,Database!AP355),1)","v":1},1,{"$error":"#N/A"},{"$f":"INDEX(Database!E355:AW355,'Graph of One Series'!$O$2)/G356","v":987}]
[null,null,null,{"$f":"Database!D356","v":"1985-01-01"},false,{"$f":"IF($O$4,CHOOSE($U$4,1,Database!AI356,Database!AJ356,Database!AP356),1)","v":1},1,{"$error":"#N/A"},{"$f":"INDEX(Database!E356:AW356,'Graph of One Series'!$O$2)/G357","v":1070}]
[null,null,null,{"$f":"Database!D357","v":"1985-02-01"},false,{"$f":"IF($O$4,CHOOSE($U$4,1,Database!AI357,Database!AJ357,Database!AP357),1)","v":1},1,{"$error":"#N/A"},{"$f":"INDEX(Database!E357:AW357,'Graph of One Series'!$O$2)/G358","v":1091}]
[null,null,null,{"$f":"Database!D358","v":"1985-03-01"},false,{"$f":"IF($O$4,CHOOSE($U$4,1,Database!AI358,Database!AJ358,Database!AP358),1)","v":1},1,{"$error":"#N/A"},{"$f":"INDEX(Database!E358:AW358,'Graph of One Series'!$O$2)/G359","v":1036}]
[null,null,null,{"$f":"Database!D359","v":"1985-04-01"},false,{"$f":"IF($O$4,CHOOSE($U$4,1,Database!AI359,Database!AJ359,Database!AP359),1)","v":1},1,{"$error":"#N/A"},{"$f":"INDEX(Database!E359:AW359,'Graph of One Series'!$O$2)/G360","v":1078}]
[null,null,null,{"$f":"Database!D360","v":"1985-05-01"},false,{"$f":"IF($O$4,CHOOSE($U$4,1,Database!AI360,Database!AJ360,Database!AP360),1)","v":1},1,{"$error":"#N/A"},{"$f":"INDEX(Database!E360:AW360,'Graph of One Series'!$O$2)/G361","v":1037}]
[null,null,null,{"$f":"Database!D361","v":"1985-06-01"},false,{"$f":"IF($O$4,CHOOSE($U$4,1,Database!AI361,Database!AJ361,Database!AP361),1)","v":1},1,{"$error":"#N/A"},{"$f":"INDEX(Database!E361:AW361,'Graph of One Series'!$O$2)/G362","v":1075}]
[null,null,null,{"$f":"Database!D362","v":"1985-07-01"},false,{"$f":"IF($O$4,CHOOSE($U$4,1,Database!AI362,Database!AJ362,Database!AP362),1)","v":1},1,{"$error":"#N/A"},{"$f":"INDEX(Database!E362:AW362,'Graph of One Series'!$O$2)/G363","v":1048}]
[null,null,null,{"$f":"Database!D363","v":"1985-08-01"},false,{"$f":"IF($O$4,CHOOSE($U$4,1,Database!AI363,Database!AJ363,Database!AP363),1)","v":1},1,{"$error":"#N/A"},{"$f":"INDEX(Database!E363:AW363,'Graph of One Series'!$O$2)/G364","v":1031}]
[null,null,null,{"$f":"Database!D364","v":"1985-09-01"},false,{"$f":"IF($O$4,CHOOSE($U$4,1,Database!AI364,Database!AJ364,Database!AP364),1)","v":1},1,{"$error":"#N/A"},{"$f":"INDEX(Database!E364:AW364,'Graph of One Series'!$O$2)/G365","v":1112}]
[null,null,null,{"$f":"Database!D365","v":"1985-10-01"},false,{"$f":"IF($O$4,CHOOSE($U$4,1,Database!AI365,Database!AJ365,Database!AP365),1)","v":1},1,{"$error":"#N/A"},{"$f":"INDEX(Database!E365:AW365,'Graph of One Series'!$O$2)/G366","v":1073}]
[null,null,null,{"$f":"Database!D366","v":"1985-11-01"},false,{"$f":"IF($O$4,CHOOSE($U$4,1,Database!AI366,Database!AJ366,Database!AP366),1)","v":1},1,{"$error":"#N/A"},{"$f":"INDEX(Database!E366:AW366,'Graph of One Series'!$O$2)/G367","v":1094}]
[null,null,null,{"$f":"Database!D367","v":"1985-12-01"},false,{"$f":"IF($O$4,CHOOSE($U$4,1,Database!AI367,Database!AJ367,Database!AP367),1)","v":1},1,{"$error":"#N/A"},{"$f":"INDEX(Database!E367:AW367,'Graph of One Series'!$O$2)/G368","v":1120}]
[null,null,null,{"$f":"Database!D368","v":"1986-01-01"},false,{"$f":"IF($O$4,CHOOSE($U$4,1,Database!AI368,Database!AJ368,Database!AP368),1)","v":1},1,{"$error":"#N/A"},{"$f":"INDEX(Database!E368:AW368,'Graph of One Series'!$O$2)/G369","v":1045}]
[null,null,null,{"$f":"Database!D369","v":"1986-02-01"},false,{"$f":"IF($O$4,CHOOSE($U$4,1,Database!AI369,Database!AJ369,Database!AP369),1)","v":1},1,{"$error":"#N/A"},{"$f":"INDEX(Database!E369:AW369,'Graph of One Series'!$O$2)/G370","v":1067}]
[null,null,null,{"$f":"Database!D370","v":"1986-03-01"},false,{"$f":"IF($O$4,CHOOSE($U$4,1,Database!AI370,Database!AJ370,Database!AP370),1)","v":1},1,{"$error":"#N/A"},{"$f":"INDEX(Database!E370:AW370,'Graph of One Series'!$O$2)/G371","v":1128}]
[null,null,null,{"$f":"Database!D371","v":"1986-04-01"},false,{"$f":"IF($O$4,CHOOSE($U$4,1,Database!AI371,Database!AJ371,Database!AP371),1)","v":1},1,{"$error":"#N/A"},{"$f":"INDEX(Database!E371:AW371,'Graph of One Series'!$O$2)/G372","v":1138}]
[null,null,null,{"$f":"Database!D372","v":"1986-05-01"},false,{"$f":"IF($O$4,CHOOSE($U$4,1,Database!AI372,Database!AJ372,Database!AP372),1)","v":1},1,{"$error":"#N/A"},{"$f":"INDEX(Database!E372:AW372,'Graph of One Series'!$O$2)/G373","v":1145}]
[null,null,null,{"$f":"Database!D373","v":"1986-06-01"},false,{"$f":"IF($O$4,CHOOSE($U$4,1,Database!AI373,Database!AJ373,Database!AP373),1)","v":1},1,{"$error":"#N/A"},{"$f":"INDEX(Database!E373:AW373,'Graph of One Series'!$O$2)/G374","v":1070}]
[null,null,null,{"$f":"Database!D374","v":"1986-07-01"},false,{"$f":"IF($O$4,CHOOSE($U$4,1,Database!AI374,Database!AJ374,Database!AP374),1)","v":1},1,{"$error":"#N/A"},{"$f":"INDEX(Database!E374:AW374,'Graph of One Series'!$O$2)/G375","v":1070}]
[null,null,null,{"$f":"Database!D375","v":"1986-08-01"},false,{"$f":"IF($O$4,CHOOSE($U$4,1,Database!AI375,Database!AJ375,Database!AP375),1)","v":1},1,{"$error":"#N/A"},{"$f":"INDEX(Database!E375:AW375,'Graph of One Series'!$O$2)/G376","v":1131}]
[null,null,null,{"$f":"Database!D376","v":"1986-09-01"},false,{"$f":"IF($O$4,CHOOSE($U$4,1,Database!AI376,Database!AJ376,Database!AP376),1)","v":1},1,{"$error":"#N/A"},{"$f":"INDEX(Database!E376:AW376,'Graph of One Series'!$O$2)/G377","v":1113}]
[null,null,null,{"$f":"Database!D377","v":"1986-10-01"},false,{"$f":"IF($O$4,CHOOSE($U$4,1,Database!AI377,Database!AJ377,Database!AP377),1)","v":1},1,{"$error":"#N/A"},{"$f":"INDEX(Database!E377:AW377,'Graph of One Series'!$O$2)/G378","v":1170}]
[null,null,null,{"$f":"Database!D378","v":"1986-11-01"},false,{"$f":"IF($O$4,CHOOSE($U$4,1,Database!AI378,Database!AJ378,Database!AP378),1)","v":1},1,{"$error":"#N/A"},{"$f":"INDEX(Database!E378:AW378,'Graph of One Series'!$O$2)/G379","v":1153}]
[null,null,null,{"$f":"Database!D379","v":"1986-12-01"},false,{"$f":"IF($O$4,CHOOSE($U$4,1,Database!AI379,Database!AJ379,Database!AP379),1)","v":1},1,{"$error":"#N/A"},{"$f":"INDEX(Database!E379:AW379,'Graph of One Series'!$O$2)/G380","v":1164}]
[null,null,null,{"$f":"Database!D380","v":"1987-01-01"},false,{"$f":"IF($O$4,CHOOSE($U$4,1,Database!AI380,Database!AJ380,Database!AP380),1)","v":1},1,{"$error":"#N/A"},{"$f":"INDEX(Database!E380:AW380,'Graph of One Series'!$O$2)/G381","v":1165}]
[null,null,null,{"$f":"Database!D381","v":"1987-02-01"},false,{"$f":"IF($O$4,CHOOSE($U$4,1,Database!AI381,Database!AJ381,Database!AP381),1)","v":1},1,{"$error":"#N/A"},{"$f":"INDEX(Database!E381:AW381,'Graph of One Series'!$O$2)/G382","v":1144}]
[null,null,null,{"$f":"Database!D382","v":"1987-03-01"},false,{"$f":"IF($O$4,CHOOSE($U$4,1,Database!AI382,Database!AJ382,Database!AP382),1)","v":1},1,{"$error":"#N/A"},{"$f":"INDEX(Database!E382:AW382,'Graph of One Series'!$O$2)/G383","v":1147}]
[null,null,null,{"$f":"Database!D383","v":"1987-04-01"},false,{"$f":"IF($O$4,CHOOSE($U$4,1,Database!AI383,Database!AJ383,Database!AP383),1)","v":1},1,{"$error":"#N/A"},{"$f":"INDEX(Database!E383:AW383,'Graph of One Series'!$O$2)/G384","v":1157}]
[null,null,null,{"$f":"Database!D384","v":"1987-05-01"},false,{"$f":"IF($O$4,CHOOSE($U$4,1,Database!AI384,Database!AJ384,Database!AP384),1)","v":1},1,{"$error":"#N/A"},{"$f":"INDEX(Database!E384:AW384,'Graph of One Series'!$O$2)/G385","v":1165}]
[null,null,null,{"$f":"Database!D385","v":"1987-06-01"},false,{"$f":"IF($O$4,CHOOSE($U$4,1,Database!AI385,Database!AJ385,Database!AP385),1)","v":1},1,{"$error":"#N/A"},{"$f":"INDEX(Database!E385:AW385,'Graph of One Series'!$O$2)/G386","v":1112}]
[null,null,null,{"$f":"Database!D386","v":"1987-07-01"},false,{"$f":"IF($O$4,CHOOSE($U$4,1,Database!AI386,Database!AJ386,Database!AP386),1)","v":1},1,{"$error":"#N/A"},{"$f":"INDEX(Database!E386:AW386,'Graph of One Series'!$O$2)/G387","v":1127}]
[null,null,null,{"$f":"Database!D387","v":"1987-08-01"},false,{"$f":"IF($O$4,CHOOSE($U$4,1,Database!AI387,Database!AJ387,Database!AP387),1)","v":1},1,{"$error":"#N/A"},{"$f":"INDEX(Database!E387:AW387,'Graph of One Series'!$O$2)/G388","v":1074}]
[null,null,null,{"$f":"Database!D388","v":"1987-09-01"},false,{"$f":"IF($O$4,CHOOSE($U$4,1,Database!AI388,Database!AJ388,Database!AP388),1)","v":1},1,{"$error":"#N/A"},{"$f":"INDEX(Database!E388:AW388,'Graph of One Series'!$O$2)/G389","v":1109}]
[null,null,null,{"$f":"Database!D389","v":"1987-10-01"},false,{"$f":"IF($O$4,CHOOSE($U$4,1,Database!AI389,Database!AJ389,Database!AP389),1)","v":1},1,{"$error":"#N/A"},{"$f":"INDEX(Database!E389:AW389,'Graph of One Series'!$O$2)/G390","v":1118}]
[null,null,null,{"$f":"Database!D390","v":"1987-11-01"},false,{"$f":"IF($O$4,CHOOSE($U$4,1,Database!AI390,Database!AJ390,Database!AP390),1)","v":1},1,{"$error":"#N/A"},{"$f":"INDEX(Database!E390:AW390,'Graph of One Series'!$O$2)/G391","v":1085}]
[null,null,null,{"$f":"Database!D391","v":"1987-12-01"},false,{"$f":"IF($O$4,CHOOSE($U$4,1,Database!AI391,Database!AJ391,Database!AP391),1)","v":1},1,{"$error":"#N/A"},{"$f":"INDEX(Database!E391:AW391,'Graph of One Series'!$O$2)/G392","v":1111}]
[null,null,null,{"$f":"Database!D392","v":"1988-01-01"},false,{"$f":"IF($O$4,CHOOSE($U$4,1,Database!AI392,Database!AJ392,Database!AP392),1)","v":1},{"$f":"F393/$G$5","v":1},{"$f":"IF(E393,D393,NA())","v":{"$error":"#N/A"}},{"$f":"INDEX(Database!E392:AW392,'Graph of One Series'!$O$2)/G393","v":1093}]
[null,null,null,{"$f":"Database!D393","v":"1988-02-01"},{"$f":"AND($D394>=E$7,$D394<=E$8)","v":false},{"$f":"IF($O$4,CHOOSE($U$4,1,Database!AI393,Database!AJ393,Database!AP393),1)","v":1},1,{"$error":"#N/A"},{"$f":"INDEX(Database!E393:AW393,'Graph of One Series'!$O$2)/G394","v":1022}]
[null,null,null,{"$f":"Database!D394","v":"1988-03-01"},false,{"$f":"IF($O$4,CHOOSE($U$4,1,Database!AI394,Database!AJ394,Database!AP394),1)","v":1},1,{"$error":"#N/A"},{"$f":"INDEX(Database!E394:AW394,'Graph of One Series'!$O$2)/G395","v":1098}]
[null,null,null,{"$f":"Database!D395","v":"1988-04-01"},false,{"$f":"IF($O$4,CHOOSE($U$4,1,Database!AI395,Database!AJ395,Database!AP395),1)","v":1},1,{"$error":"#N/A"},{"$f":"INDEX(Database!E395:AW395,'Graph of One Series'!$O$2)/G396","v":1043}]
[null,null,null,{"$f":"Database!D396","v":"1988-05-01"},false,{"$f":"IF($O$4,CHOOSE($U$4,1,Database!AI396,Database!AJ396,Database!AP396),1)","v":1},1,{"$error":"#N/A"},{"$f":"INDEX(Database!E396:AW396,'Graph of One Series'!$O$2)/G397","v":1089}]
[null,null,null,{"$f":"Database!D397","v":"1988-06-01"},false,{"$f":"IF($O$4,CHOOSE($U$4,1,Database!AI397,Database!AJ397,Database!AP397),1)","v":1},1,{"$error":"#N/A"},{"$f":"INDEX(Database!E397:AW397,'Graph of One Series'!$O$2)/G398","v":1102}]
[null,null,null,{"$f":"Database!D398","v":"1988-07-01"},false,{"$f":"IF($O$4,CHOOSE($U$4,1,Database!AI398,Database!AJ398,Database!AP398),1)","v":1},1,{"$error":"#N/A"},{"$f":"INDEX(Database!E398:AW398,'Graph of One Series'!$O$2)/G399","v":1082}]
[null,null,null,{"$f":"Database!D399","v":"1988-08-01"},false,{"$f":"IF($O$4,CHOOSE($U$4,1,Database!AI399,Database!AJ399,Database!AP399),1)","v":1},1,{"$error":"#N/A"},{"$f":"INDEX(Database!E399:AW399,'Graph of One Series'!$O$2)/G400","v":1083}]
[null,null,null,{"$f":"Database!D400","v":"1988-09-01"},false,{"$f":"IF($O$4,CHOOSE($U$4,1,Database!AI400,Database!AJ400,Database!AP400),1)","v":1},1,{"$error":"#N/A"},{"$f":"INDEX(Database!E400:AW400,'Graph of One Series'!$O$2)/G401","v":1111}]
[null,null,null,{"$f":"Database!D401","v":"1988-10-01"},false,{"$f":"IF($O$4,CHOOSE($U$4,1,Database!AI401,Database!AJ401,Database!AP401),1)","v":1},1,{"$error":"#N/A"},{"$f":"INDEX(Database!E401:AW401,'Graph of One Series'!$O$2)/G402","v":1096}]
[null,null,null,{"$f":"Database!D402","v":"1988-11-01"},false,{"$f":"IF($O$4,CHOOSE($U$4,1,Database!AI402,Database!AJ402,Database!AP402),1)","v":1},1,{"$error":"#N/A"},{"$f":"INDEX(Database!E402:AW402,'Graph of One Series'!$O$2)/G403","v":1020}]
[null,null,null,{"$f":"Database!D403","v":"1988-12-01"},false,{"$f":"IF($O$4,CHOOSE($U$4,1,Database!AI403,Database!AJ403,Database!AP403),1)","v":1},1,{"$error":"#N/A"},{"$f":"INDEX(Database!E403:AW403,'Graph of One Series'!$O$2)/G404","v":1115}]
[null,null,null,{"$f":"Database!D404","v":"1989-01-01"},false,{"$f":"IF($O$4,CHOOSE($U$4,1,Database!AI404,Database!AJ404,Database!AP404),1)","v":1},1,{"$error":"#N/A"},{"$f":"INDEX(Database!E404:AW404,'Graph of One Series'!$O$2)/G405","v":1157}]
[null,null,null,{"$f":"Database!D405","v":"1989-02-01"},false,{"$f":"IF($O$4,CHOOSE($U$4,1,Database!AI405,Database!AJ405,Database!AP405),1)","v":1},1,{"$error":"#N/A"},{"$f":"INDEX(Database!E405:AW405,'Graph of One Series'!$O$2)/G406","v":1163}]
[null,null,null,{"$f":"Database!D406","v":"1989-03-01"},false,{"$f":"IF($O$4,CHOOSE($U$4,1,Database!AI406,Database!AJ406,Database!AP406),1)","v":1},1,{"$error":"#N/A"},{"$f":"INDEX(Database!E406:AW406,'Graph of One Series'!$O$2)/G407","v":1038}]
[null,null,null,{"$f":"Database!D407","v":"1989-04-01"},false,{"$f":"IF($O$4,CHOOSE($U$4,1,Database!AI407,Database!AJ407,Database!AP407),1)","v":1},1,{"$error":"#N/A"},{"$f":"INDEX(Database!E407:AW407,'Graph of One Series'!$O$2)/G408","v":1106}]
[null,null,null,{"$f":"Database!D408","v":"1989-05-01"},false,{"$f":"IF($O$4,CHOOSE($U$4,1,Database!AI408,Database!AJ408,Database!AP408),1)","v":1},1,{"$error":"#N/A"},{"$f":"INDEX(Database!E408:AW408,'Graph of One Series'!$O$2)/G409","v":1042}]
[null,null,null,{"$f":"Database!D409","v":"1989-06-01"},false,{"$f":"IF($O$4,CHOOSE($U$4,1,Database!AI409,Database!AJ409,Database!AP409),1)","v":1},1,{"$error":"#N/A"},{"$f":"INDEX(Database!E409:AW409,'Graph of One Series'!$O$2)/G410","v":969}]
[null,null,null,{"$f":"Database!D410","v":"1989-07-01"},false,{"$f":"IF($O$4,CHOOSE($U$4,1,Database!AI410,Database!AJ410,Database!AP410),1)","v":1},1,{"$error":"#N/A"},{"$f":"INDEX(Database!E410:AW410,'Graph of One Series'!$O$2)/G411","v":974}]
[null,null,null,{"$f":"Database!D411","v":"1989-08-01"},false,{"$f":"IF($O$4,CHOOSE($U$4,1,Database!AI411,Database!AJ411,Database!AP411),1)","v":1},1,{"$error":"#N/A"},{"$f":"INDEX(Database!E411:AW411,'Graph of One Series'!$O$2)/G412","v":1042}]
[null,null,null,{"$f":"Database!D412","v":"1989-09-01"},false,{"$f":"IF($O$4,CHOOSE($U$4,1,Database!AI412,Database!AJ412,Database!AP412),1)","v":1},1,{"$error":"#N/A"},{"$f":"INDEX(Database!E412:AW412,'Graph of One Series'!$O$2)/G413","v":950}]
[null,null,null,{"$f":"Database!D413","v":"1989-10-01"},false,{"$f":"IF($O$4,CHOOSE($U$4,1,Database!AI413,Database!AJ413,Database!AP413),1)","v":1},1,{"$error":"#N/A"},{"$f":"INDEX(Database!E413:AW413,'Graph of One Series'!$O$2)/G414","v":993}]
[null,null,null,{"$f":"Database!D414","v":"1989-11-01"},false,{"$f":"IF($O$4,CHOOSE($U$4,1,Database!AI414,Database!AJ414,Database!AP414),1)","v":1},1,{"$error":"#N/A"},{"$f":"INDEX(Database!E414:AW414,'Graph of One Series'!$O$2)/G415","v":1074}]
[null,null,null,{"$f":"Database!D415","v":"1989-12-01"},false,{"$f":"IF($O$4,CHOOSE($U$4,1,Database!AI415,Database!AJ415,Database!AP415),1)","v":1},1,{"$error":"#N/A"},{"$f":"INDEX(Database!E415:AW415,'Graph of One Series'!$O$2)/G416","v":924}]
[null,null,null,{"$f":"Database!D416","v":"1990-01-01"},false,{"$f":"IF($O$4,CHOOSE($U$4,1,Database!AI416,Database!AJ416,Database!AP416),1)","v":1},1,{"$error":"#N/A"},{"$f":"INDEX(Database!E416:AW416,'Graph of One Series'!$O$2)/G417","v":1071}]
[null,null,null,{"$f":"Database!D417","v":"1990-02-01"},false,{"$f":"IF($O$4,CHOOSE($U$4,1,Database!AI417,Database!AJ417,Database!AP417),1)","v":1},1,{"$error":"#N/A"},{"$f":"INDEX(Database!E417:AW417,'Graph of One Series'!$O$2)/G418","v":1036}]
[null,null,null,{"$f":"Database!D418","v":"1990-03-01"},false,{"$f":"IF($O$4,CHOOSE($U$4,1,Database!AI418,Database!AJ418,Database!AP418),1)","v":1},1,{"$error":"#N/A"},{"$f":"INDEX(Database!E418:AW418,'Graph of One Series'!$O$2)/G419","v":1007}]
[null,null,null,{"$f":"Database!D419","v":"1990-04-01"},false,{"$f":"IF($O$4,CHOOSE($U$4,1,Database!AI419,Database!AJ419,Database!AP419),1)","v":1},1,{"$error":"#N/A"},{"$f":"INDEX(Database!E419:AW419,'Graph of One Series'!$O$2)/G420","v":964}]
[null,null,null,{"$f":"Database!D420","v":"1990-05-01"},false,{"$f":"IF($O$4,CHOOSE($U$4,1,Database!AI420,Database!AJ420,Database!AP420),1)","v":1},1,{"$error":"#N/A"},{"$f":"INDEX(Database!E420:AW420,'Graph of One Series'!$O$2)/G421","v":989}]
[null,null,null,{"$f":"Database!D421","v":"1990-06-01"},false,{"$f":"IF($O$4,CHOOSE($U$4,1,Database!AI421,Database!AJ421,Database!AP421),1)","v":1},1,{"$error":"#N/A"},{"$f":"INDEX(Database!E421:AW421,'Graph of One Series'!$O$2)/G422","v":947}]
[null,null,null,{"$f":"Database!D422","v":"1990-07-01"},false,{"$f":"IF($O$4,CHOOSE($U$4,1,Database!AI422,Database!AJ422,Database!AP422),1)","v":1},1,{"$error":"#N/A"},{"$f":"INDEX(Database!E422:AW422,'Graph of One Series'!$O$2)/G423","v":978}]
[null,null,null,{"$f":"Database!D423","v":"1990-08-01"},false,{"$f":"IF($O$4,CHOOSE($U$4,1,Database!AI423,Database!AJ423,Database!AP423),1)","v":1},1,{"$error":"#N/A"},{"$f":"INDEX(Database!E423:AW423,'Graph of One Series'!$O$2)/G424","v":959}]
[null,null,null,{"$f":"Database!D424","v":"1990-09-01"},false,{"$f":"IF($O$4,CHOOSE($U$4,1,Database!AI424,Database!AJ424,Database!AP424),1)","v":1},1,{"$error":"#N/A"},{"$f":"INDEX(Database!E424:AW424,'Graph of One Series'!$O$2)/G425","v":958}]
[null,null,null,{"$f":"Database!D425","v":"1990-10-01"},false,{"$f":"IF($O$4,CHOOSE($U$4,1,Database!AI425,Database!AJ425,Database!AP425),1)","v":1},1,{"$error":"#N/A"},{"$f":"INDEX(Database!E425:AW425,'Graph of One Series'!$O$2)/G426","v":926}]
[null,null,null,{"$f":"Database!D426","v":"1990-11-01"},false,{"$f":"IF($O$4,CHOOSE($U$4,1,Database!AI426,Database!AJ426,Database!AP426),1)","v":1},1,{"$error":"#N/A"},{"$f":"INDEX(Database!E426:AW426,'Graph of One Series'!$O$2)/G427","v":923}]
[null,null,null,{"$f":"Database!D427","v":"1990-12-01"},false,{"$f":"IF($O$4,CHOOSE($U$4,1,Database!AI427,Database!AJ427,Database!AP427),1)","v":1},1,{"$error":"#N/A"},{"$f":"INDEX(Database!E427:AW427,'Graph of One Series'!$O$2)/G428","v":890}]
[null,null,null,{"$f":"Database!D428","v":"1991-01-01"},false,{"$f":"IF($O$4,CHOOSE($U$4,1,Database!AI428,Database!AJ428,Database!AP428),1)","v":1},1,{"$error":"#N/A"},{"$f":"INDEX(Database!E428:AW428,'Graph of One Series'!$O$2)/G429","v":855}]
[null,null,null,{"$f":"Database!D429","v":"1991-02-01"},false,{"$f":"IF($O$4,CHOOSE($U$4,1,Database!AI429,Database!AJ429,Database!AP429),1)","v":1},1,{"$error":"#N/A"},{"$f":"INDEX(Database!E429:AW429,'Graph of One Series'!$O$2)/G430","v":823}]
[null,null,null,{"$f":"Database!D430","v":"1991-03-01"},false,{"$f":"IF($O$4,CHOOSE($U$4,1,Database!AI430,Database!AJ430,Database!AP430),1)","v":1},1,{"$error":"#N/A"},{"$f":"INDEX(Database!E430:AW430,'Graph of One Series'!$O$2)/G431","v":864}]
[null,null,null,{"$f":"Database!D431","v":"1991-04-01"},false,{"$f":"IF($O$4,CHOOSE($U$4,1,Database!AI431,Database!AJ431,Database!AP431),1)","v":1},1,{"$error":"#N/A"},{"$f":"INDEX(Database!E431:AW431,'Graph of One Series'!$O$2)/G432","v":821}]
[null,null,null,{"$f":"Database!D432","v":"1991-05-01"},true,{"$f":"IF($O$4,CHOOSE($U$4,1,Database!AI432,Database!AJ432,Database!AP432),1)","v":1},1,"1991-05-01",{"$f":"INDEX(Database!E432:AW432,'Graph of One Series'!$O$2)/G433","v":800}]
[null,null,null,{"$f":"Database!D433","v":"1991-06-01"},true,{"$f":"IF($O$4,CHOOSE($U$4,1,Database!AI433,Database!AJ433,Database!AP433),1)","v":1},1,"1991-06-01",{"$f":"INDEX(Database!E433:AW433,'Graph of One Series'!$O$2)/G434","v":816}]
[null,null,null,{"$f":"Database!D434","v":"1991-07-01"},true,{"$f":"IF($O$4,CHOOSE($U$4,1,Database!AI434,Database!AJ434,Database!AP434),1)","v":1},1,"1991-07-01",{"$f":"INDEX(Database!E434:AW434,'Graph of One Series'!$O$2)/G435","v":823}]
[null,null,null,{"$f":"Database!D435","v":"1991-08-01"},true,{"$f":"IF($O$4,CHOOSE($U$4,1,Database!AI435,Database!AJ435,Database!AP435),1)","v":1},1,"1991-08-01",{"$f":"INDEX(Database!E435:AW435,'Graph of One Series'!$O$2)/G436","v":820}]
[null,null,null,{"$f":"Database!D436","v":"1991-09-01"},true,{"$f":"IF($O$4,CHOOSE($U$4,1,Database!AI436,Database!AJ436,Database!AP436),1)","v":1},1,"1991-09-01",{"$f":"INDEX(Database!E436:AW436,'Graph of One Series'!$O$2)/G437","v":885}]
[null,null,null,{"$f":"Database!D437","v":"1991-10-01"},true,{"$f":"IF($O$4,CHOOSE($U$4,1,Database!AI437,Database!AJ437,Database!AP437),1)","v":1},1,"1991-10-01",{"$f":"INDEX(Database!E437:AW437,'Graph of One Series'!$O$2)/G438","v":877}]
[null,null,null,{"$f":"Database!D438","v":"1991-11-01"},true,{"$f":"IF($O$4,CHOOSE($U$4,1,Database!AI438,Database!AJ438,Database!AP438),1)","v":1},1,"1991-11-01",{"$f":"INDEX(Database!E438:AW438,'Graph of One Series'!$O$2)/G439","v":827}]
[null,null,null,{"$f":"Database!D439","v":"1991-12-01"},true,{"$f":"IF($O$4,CHOOSE($U$4,1,Database!AI439,Database!AJ439,Database!AP439),1)","v":1},1,"1991-12-01",{"$f":"INDEX(Database!E439:AW439,'Graph of One Series'!$O$2)/G440","v":835}]
[null,null,null,{"$f":"Database!D440","v":"1992-01-01"},true,{"$f":"IF($O$4,CHOOSE($U$4,1,Database!AI440,Database!AJ440,Database!AP440),1)","v":1},1,"1992-01-01",{"$f":"INDEX(Database!E440:AW440,'Graph of One Series'!$O$2)/G441","v":854}]
[null,null,null,{"$f":"Database!D441","v":"1992-02-01"},true,{"$f":"IF($O$4,CHOOSE($U$4,1,Database!AI441,Database!AJ441,Database!AP441),1)","v":1},1,"1992-02-01",{"$f":"INDEX(Database!E441:AW441,'Graph of One Series'!$O$2)/G442","v":902}]
[null,null,null,{"$f":"Database!D442","v":"1992-03-01"},true,{"$f":"IF($O$4,CHOOSE($U$4,1,Database!AI442,Database!AJ442,Database!AP442),1)","v":1},1,"1992-03-01",{"$f":"INDEX(Database!E442:AW442,'Graph of One Series'!$O$2)/G443","v":966}]
[null,null,null,{"$f":"Database!D443","v":"1992-04-01"},true,{"$f":"IF($O$4,CHOOSE($U$4,1,Database!AI443,Database!AJ443,Database!AP443),1)","v":1},1,"1992-04-01",{"$f":"INDEX(Database!E443:AW443,'Graph of One Series'!$O$2)/G444","v":895}]
[null,null,null,{"$f":"Database!D444","v":"1992-05-01"},true,{"$f":"IF($O$4,CHOOSE($U$4,1,Database!AI444,Database!AJ444,Database!AP444),1)","v":1},1,"1992-05-01",{"$f":"INDEX(Database!E444:AW444,'Graph of One Series'!$O$2)/G445","v":995}]
[null,null,null,{"$f":"Database!D445","v":"1992-06-01"},true,{"$f":"IF($O$4,CHOOSE($U$4,1,Database!AI445,Database!AJ445,Database!AP445),1)","v":1},1,"1992-06-01",{"$f":"INDEX(Database!E445:AW445,'Graph of One Series'!$O$2)/G446","v":992}]
[null,null,null,{"$f":"Database!D446","v":"1992-07-01"},true,{"$f":"IF($O$4,CHOOSE($U$4,1,Database!AI446,Database!AJ446,Database!AP446),1)","v":1},1,"1992-07-01",{"$f":"INDEX(Database!E446:AW446,'Graph of One Series'!$O$2)/G447","v":1035}]
[null,null,null,{"$f":"Database!D447","v":"1992-08-01"},true,{"$f":"IF($O$4,CHOOSE($U$4,1,Database!AI447,Database!AJ447,Database!AP447),1)","v":1},1,"1992-08-01",{"$f":"INDEX(Database!E447:AW447,'Graph of One Series'!$O$2)/G448","v":956}]
[null,null,null,{"$f":"Database!D448","v":"1992-09-01"},true,{"$f":"IF($O$4,CHOOSE($U$4,1,Database!AI448,Database!AJ448,Database!AP448),1)","v":1},1,"1992-09-01",{"$f":"INDEX(Database!E448:AW448,'Graph of One Series'!$O$2)/G449","v":941}]
[null,null,null,{"$f":"Database!D449","v":"1992-10-01"},true,{"$f":"IF($O$4,CHOOSE($U$4,1,Database!AI449,Database!AJ449,Database!AP449),1)","v":1},1,"1992-10-01",{"$f":"INDEX(Database!E449:AW449,'Graph of One Series'!$O$2)/G450","v":970}]
[null,null,null,{"$f":"Database!D450","v":"1992-11-01"},true,{"$f":"IF($O$4,CHOOSE($U$4,1,Database!AI450,Database!AJ450,Database!AP450),1)","v":1},1,"1992-11-01",{"$f":"INDEX(Database!E450:AW450,'Graph of One Series'!$O$2)/G451","v":1004}]
[null,null,null,{"$f":"Database!D451","v":"1992-12-01"},true,{"$f":"IF($O$4,CHOOSE($U$4,1,Database!AI451,Database!AJ451,Database!AP451),1)","v":1},1,"1992-12-01",{"$f":"INDEX(Database!E451:AW451,'Graph of One Series'!$O$2)/G452","v":991}]
[null,null,null,{"$f":"Database!D452","v":"1993-01-01"},true,{"$f":"IF($O$4,CHOOSE($U$4,1,Database!AI452,Database!AJ452,Database!AP452),1)","v":1},1,"1993-01-01",{"$f":"INDEX(Database!E452:AW452,'Graph of One Series'!$O$2)/G453","v":975}]
[null,null,null,{"$f":"Database!D453","v":"1993-02-01"},true,{"$f":"IF($O$4,CHOOSE($U$4,1,Database!AI453,Database!AJ453,Database!AP453),1)","v":1},1,"1993-02-01",{"$f":"INDEX(Database!E453:AW453,'Graph of One Series'!$O$2)/G454","v":1043}]
[null,null,null,{"$f":"Database!D454","v":"1993-03-01"},true,{"$f":"IF($O$4,CHOOSE($U$4,1,Database!AI454,Database!AJ454,Database!AP454),1)","v":1},1,"1993-03-01",{"$f":"INDEX(Database!E454:AW454,'Graph of One Series'!$O$2)/G455","v":983}]
[null,null,null,{"$f":"Database!D455","v":"1993-04-01"},true,{"$f":"IF($O$4,CHOOSE($U$4,1,Database!AI455,Database!AJ455,Database!AP455),1)","v":1},1,"1993-04-01",{"$f":"INDEX(Database!E455:AW455,'Graph of One Series'!$O$2)/G456","v":1067}]
[null,null,null,{"$f":"Database!D456","v":"1993-05-01"},true,{"$f":"IF($O$4,CHOOSE($U$4,1,Database!AI456,Database!AJ456,Database!AP456),1)","v":1},{"$f":"F457/$G$5","v":1},{"$f":"IF(E457,D457,NA())","v":"1993-05-01"},{"$f":"INDEX(Database!E456:AW456,'Graph of One Series'!$O$2)/G457","v":973}]
[null,null,null,{"$f":"Database!D457","v":"1993-06-01"},{"$f":"AND($D458>=E$7,$D458<=E$8)","v":true},{"$f":"IF($O$4,CHOOSE($U$4,1,Database!AI457,Database!AJ457,Database!AP457),1)","v":1},1,"1993-06-01",{"$f":"INDEX(Database!E457:AW457,'Graph of One Series'!$O$2)/G458","v":1017}]
[null,null,null,{"$f":"Database!D458","v":"1993-07-01"},true,{"$f":"IF($O$4,CHOOSE($U$4,1,Database!AI458,Database!AJ458,Database!AP458),1)","v":1},1,"1993-07-01",{"$f":"INDEX(Database!E458:AW458,'Graph of One Series'!$O$2)/G459","v":956}]
[null,null,null,{"$f":"Database!D459","v":"1993-08-01"},true,{"$f":"IF($O$4,CHOOSE($U$4,1,Database!AI459,Database!AJ459,Database!AP459),1)","v":1},1,"1993-08-01",{"$f":"INDEX(Database!E459:AW459,'Graph of One Series'!$O$2)/G460","v":1084}]
[null,null,null,{"$f":"Database!D460","v":"1993-09-01"},true,{"$f":"IF($O$4,CHOOSE($U$4,1,Database!AI460,Database!AJ460,Database!AP460),1)","v":1},1,"1993-09-01",{"$f":"INDEX(Database!E460:AW460,'Graph of One Series'!$O$2)/G461","v":1047}]
[null,null,null,{"$f":"Database!D461","v":"1993-10-01"},true,{"$f":"IF($O$4,CHOOSE($U$4,1,Database!AI461,Database!AJ461,Database!AP461),1)","v":1},1,"1993-10-01",{"$f":"INDEX(Database!E461:AW461,'Graph of One Series'!$O$2)/G462","v":1078}]
[null,null,null,{"$f":"Database!D462","v":"1993-11-01"},true,{"$f":"IF($O$4,CHOOSE($U$4,1,Database!AI462,Database!AJ462,Database!AP462),1)","v":1},1,"1993-11-01",{"$f":"INDEX(Database!E462:AW462,'Graph of One Series'!$O$2)/G463","v":1102}]
[null,null,null,{"$f":"Database!D463","v":"1993-12-01"},true,{"$f":"IF($O$4,CHOOSE($U$4,1,Database!AI463,Database!AJ463,Database!AP463),1)","v":1},1,"1993-12-01",{"$f":"INDEX(Database!E463:AW463,'Graph of One Series'!$O$2)/G464","v":1129}]
[null,null,null,{"$f":"Database!D464","v":"1994-01-01"},true,{"$f":"IF($O$4,CHOOSE($U$4,1,Database!AI464,Database!AJ464,Database!AP464),1)","v":1},1,"1994-01-01",{"$f":"INDEX(Database!E464:AW464,'Graph of One Series'!$O$2)/G465","v":1083}]
[null,null,null,{"$f":"Database!D465","v":"1994-02-01"},true,{"$f":"IF($O$4,CHOOSE($U$4,1,Database!AI465,Database!AJ465,Database!AP465),1)","v":1},1,"1994-02-01",{"$f":"INDEX(Database!E465:AW465,'Graph of One Series'!$O$2)/G466","v":1198}]
[null,null,null,{"$f":"Database!D466","v":"1994-03-01"},true,{"$f":"IF($O$4,CHOOSE($U$4,1,Database!AI466,Database!AJ466,Database!AP466),1)","v":1},1,"1994-03-01",{"$f":"INDEX(Database!E466:AW466,'Graph of One Series'!$O$2)/G467","v":1091}]
[null,null,null,{"$f":"Database!D467","v":"1994-04-01"},true,{"$f":"IF($O$4,CHOOSE($U$4,1,Database!AI467,Database!AJ467,Database!AP467),1)","v":1},1,"1994-04-01",{"$f":"INDEX(Database!E467:AW467,'Graph of One Series'!$O$2)/G468","v":1209}]
[null,null,null,{"$f":"Database!D468","v":"1994-05-01"},true,{"$f":"IF($O$4,CHOOSE($U$4,1,Database!AI468,Database!AJ468,Database!AP468),1)","v":1},1,"1994-05-01",{"$f":"INDEX(Database!E468:AW468,'Graph of One Series'!$O$2)/G469","v":1242}]
[null,null,null,{"$f":"Database!D469","v":"1994-06-01"},true,{"$f":"IF($O$4,CHOOSE($U$4,1,Database!AI469,Database!AJ469,Database!AP469),1)","v":1},1,"1994-06-01",{"$f":"INDEX(Database!E469:AW469,'Graph of One Series'!$O$2)/G470","v":1149}]
[null,null,null,{"$f":"Database!D470","v":"1994-07-01"},true,{"$f":"IF($O$4,CHOOSE($U$4,1,Database!AI470,Database!AJ470,Database!AP470),1)","v":1},1,"1994-07-01",{"$f":"INDEX(Database!E470:AW470,'Graph of One Series'!$O$2)/G471","v":1170}]
[null,null,null,{"$f":"Database!D471","v":"1994-08-01"},true,{"$f":"IF($O$4,CHOOSE($U$4,1,Database!AI471,Database!AJ471,Database!AP471),1)","v":1},1,"1994-08-01",{"$f":"INDEX(Database!E471:AW471,'Graph of One Series'!$O$2)/G472","v":1149}]
[null,null,null,{"$f":"Database!D472","v":"1994-09-01"},true,{"$f":"IF($O$4,CHOOSE($U$4,1,Database!AI472,Database!AJ472,Database!AP472),1)","v":1},1,"1994-09-01",{"$f":"INDEX(Database!E472:AW472,'Graph of One Series'!$O$2)/G473","v":1158}]
[null,null,null,{"$f":"Database!D473","v":"1994-10-01"},true,{"$f":"IF($O$4,CHOOSE($U$4,1,Database!AI473,Database!AJ473,Database!AP473),1)","v":1},1,"1994-10-01",{"$f":"INDEX(Database!E473:AW473,'Graph of One Series'!$O$2)/G474","v":1170}]
[null,null,null,{"$f":"Database!D474","v":"1994-11-01"},true,{"$f":"IF($O$4,CHOOSE($U$4,1,Database!AI474,Database!AJ474,Database!AP474),1)","v":1},1,"1994-11-01",{"$f":"INDEX(Database!E474:AW474,'Graph of One Series'!$O$2)/G475","v":1139}]
[null,null,null,{"$f":"Database!D475","v":"1994-12-01"},true,{"$f":"IF($O$4,CHOOSE($U$4,1,Database!AI475,Database!AJ475,Database!AP475),1)","v":1},1,"1994-12-01",{"$f":"INDEX(Database!E475:AW475,'Graph of One Series'!$O$2)/G476","v":1172}]
[null,null,null,{"$f":"Database!D476","v":"1995-01-01"},true,{"$f":"IF($O$4,CHOOSE($U$4,1,Database!AI476,Database!AJ476,Database!AP476),1)","v":1},1,"1995-01-01",{"$f":"INDEX(Database!E476:AW476,'Graph of One Series'!$O$2)/G477","v":1195}]
[null,null,null,{"$f":"Database!D477","v":"1995-02-01"},true,{"$f":"IF($O$4,CHOOSE($U$4,1,Database!AI477,Database!AJ477,Database!AP477),1)","v":1},1,"1995-02-01",{"$f":"INDEX(Database!E477:AW477,'Graph of One Series'!$O$2)/G478","v":1079}]
[null,null,null,{"$f":"Database!D478","v":"1995-03-01"},true,{"$f":"IF($O$4,CHOOSE($U$4,1,Database!AI478,Database!AJ478,Database!AP478),1)","v":1},1,"1995-03-01",{"$f":"INDEX(Database!E478:AW478,'Graph of One Series'!$O$2)/G479","v":1195}]
[null,null,null,{"$f":"Database!D479","v":"1995-04-01"},true,{"$f":"IF($O$4,CHOOSE($U$4,1,Database!AI479,Database!AJ479,Database!AP479),1)","v":1},1,"1995-04-01",{"$f":"INDEX(Database!E479:AW479,'Graph of One Series'!$O$2)/G480","v":1098}]
[null,null,null,{"$f":"Database!D480","v":"1995-05-01"},true,{"$f":"IF($O$4,CHOOSE($U$4,1,Database!AI480,Database!AJ480,Database!AP480),1)","v":1},1,"1995-05-01",{"$f":"INDEX(Database!E480:AW480,'Graph of One Series'!$O$2)/G481","v":1062}]
[null,null,null,{"$f":"Database!D481","v":"1995-06-01"},true,{"$f":"IF($O$4,CHOOSE($U$4,1,Database!AI481,Database!AJ481,Database!AP481),1)","v":1},1,"1995-06-01",{"$f":"INDEX(Database!E481:AW481,'Graph of One Series'!$O$2)/G482","v":1038}]
[null,null,null,{"$f":"Database!D482","v":"1995-07-01"},true,{"$f":"IF($O$4,CHOOSE($U$4,1,Database!AI482,Database!AJ482,Database!AP482),1)","v":1},1,"1995-07-01",{"$f":"INDEX(Database!E482:AW482,'Graph of One Series'!$O$2)/G483","v":1054}]
[null,null,null,{"$f":"Database!D483","v":"1995-08-01"},true,{"$f":"IF($O$4,CHOOSE($U$4,1,Database!AI483,Database!AJ483,Database!AP483),1)","v":1},1,"1995-08-01",{"$f":"INDEX(Database!E483:AW483,'Graph of One Series'!$O$2)/G484","v":1028}]
[null,null,null,{"$f":"Database!D484","v":"1995-09-01"},true,{"$f":"IF($O$4,CHOOSE($U$4,1,Database!AI484,Database!AJ484,Database!AP484),1)","v":1},1,"1995-09-01",{"$f":"INDEX(Database!E484:AW484,'Graph of One Series'!$O$2)/G485","v":1005}]
[null,null,null,{"$f":"Database!D485","v":"1995-10-01"},true,{"$f":"IF($O$4,CHOOSE($U$4,1,Database!AI485,Database!AJ485,Database!AP485),1)","v":1},1,"1995-10-01",{"$f":"INDEX(Database!E485:AW485,'Graph of One Series'!$O$2)/G486","v":1049}]
[null,null,null,{"$f":"Database!D486","v":"1995-11-01"},true,{"$f":"IF($O$4,CHOOSE($U$4,1,Database!AI486,Database!AJ486,Database!AP486),1)","v":1},1,"1995-11-01",{"$f":"INDEX(Database!E486:AW486,'Graph of One Series'!$O$2)/G487","v":1070}]
[null,null,null,{"$f":"Database!D487","v":"1995-12-01"},true,{"$f":"IF($O$4,CHOOSE($U$4,1,Database!AI487,Database!AJ487,Database!AP487),1)","v":1},1,"1995-12-01",{"$f":"INDEX(Database!E487:AW487,'Graph of One Series'!$O$2)/G488","v":1000}]
[null,null,null,{"$f":"Database!D488","v":"1996-01-01"},true,{"$f":"IF($O$4,CHOOSE($U$4,1,Database!AI488,Database!AJ488,Database!AP488),1)","v":1},1,"1996-01-01",{"$f":"INDEX(Database!E488:AW488,'Graph of One Series'!$O$2)/G489","v":1113}]
[null,null,null,{"$f":"Database!D489","v":"1996-02-01"},true,{"$f":"IF($O$4,CHOOSE($U$4,1,Database!AI489,Database!AJ489,Database!AP489),1)","v":1},1,"1996-02-01",{"$f":"INDEX(Database!E489:AW489,'Graph of One Series'!$O$2)/G490","v":1046}]
[null,null,null,{"$f":"Database!D490","v":"1996-03-01"},true,{"$f":"IF($O$4,CHOOSE($U$4,1,Database!AI490,Database!AJ490,Database!AP490),1)","v":1},1,"1996-03-01",{"$f":"INDEX(Database!E490:AW490,'Graph of One Series'!$O$2)/G491","v":1103}]
[null,null,null,{"$f":"Database!D491","v":"1996-04-01"},true,{"$f":"IF($O$4,CHOOSE($U$4,1,Database!AI491,Database!AJ491,Database!AP491),1)","v":1},1,"1996-04-01",{"$f":"INDEX(Database!E491:AW491,'Graph of One Series'!$O$2)/G492","v":1054}]
[null,null,null,{"$f":"Database!D492","v":"1996-05-01"},true,{"$f":"IF($O$4,CHOOSE($U$4,1,Database!AI492,Database!AJ492,Database!AP492),1)","v":1},1,"1996-05-01",{"$f":"INDEX(Database!E492:AW492,'Graph of One Series'!$O$2)/G493","v":1147}]
[null,null,null,{"$f":"Database!D493","v":"1996-06-01"},true,{"$f":"IF($O$4,CHOOSE($U$4,1,Database!AI493,Database!AJ493,Database!AP493),1)","v":1},1,"1996-06-01",{"$f":"INDEX(Database!E493:AW493,'Graph of One Series'!$O$2)/G494","v":1131}]
[null,null,null,{"$f":"Database!D494","v":"1996-07-01"},true,{"$f":"IF($O$4,CHOOSE($U$4,1,Database!AI494,Database!AJ494,Database!AP494),1)","v":1},1,"1996-07-01",{"$f":"INDEX(Database!E494:AW494,'Graph of One Series'!$O$2)/G495","v":1145}]
[null,null,null,{"$f":"Database!D495","v":"1996-08-01"},true,{"$f":"IF($O$4,CHOOSE($U$4,1,Database!AI495,Database!AJ495,Database!AP495),1)","v":1},1,"1996-08-01",{"$f":"INDEX(Database!E495:AW495,'Graph of One Series'!$O$2)/G496","v":1172}]
[null,null,null,{"$f":"Database!D496","v":"1996-09-01"},true,{"$f":"IF($O$4,CHOOSE($U$4,1,Database!AI496,Database!AJ496,Database!AP496),1)","v":1},1,"1996-09-01",{"$f":"INDEX(Database!E496:AW496,'Graph of One Series'!$O$2)/G497","v":1116}]
[null,null,null,{"$f":"Database!D497","v":"1996-10-01"},true,{"$f":"IF($O$4,CHOOSE($U$4,1,Database!AI497,Database!AJ497,Database!AP497),1)","v":1},1,"1996-10-01",{"$f":"INDEX(Database!E497:AW497,'Graph of One Series'!$O$2)/G498","v":1146}]
[null,null,null,{"$f":"Database!D498","v":"1996-11-01"},true,{"$f":"IF($O$4,CHOOSE($U$4,1,Database!AI498,Database!AJ498,Database!AP498),1)","v":1},1,"1996-11-01",{"$f":"INDEX(Database!E498:AW498,'Graph of One Series'!$O$2)/G499","v":1118}]
[null,null,null,{"$f":"Database!D499","v":"1996-12-01"},true,{"$f":"IF($O$4,CHOOSE($U$4,1,Database!AI499,Database!AJ499,Database!AP499),1)","v":1},1,"1996-12-01",{"$f":"INDEX(Database!E499:AW499,'Graph of One Series'!$O$2)/G500","v":1180}]
[null,null,null,{"$f":"Database!D500","v":"1997-01-01"},true,{"$f":"IF($O$4,CHOOSE($U$4,1,Database!AI500,Database!AJ500,Database!AP500),1)","v":1},1,"1997-01-01",{"$f":"INDEX(Database!E500:AW500,'Graph of One Series'!$O$2)/G501","v":1128}]
[null,null,null,{"$f":"Database!D501","v":"1997-02-01"},true,{"$f":"IF($O$4,CHOOSE($U$4,1,Database!AI501,Database!AJ501,Database!AP501),1)","v":1},1,"1997-02-01",{"$f":"INDEX(Database!E501:AW501,'Graph of One Series'!$O$2)/G502","v":1247}]
[null,null,null,{"$f":"Database!D502","v":"1997-03-01"},true,{"$f":"IF($O$4,CHOOSE($U$4,1,Database!AI502,Database!AJ502,Database!AP502),1)","v":1},1,"1997-03-01",{"$f":"INDEX(Database!E502:AW502,'Graph of One Series'!$O$2)/G503","v":1150}]
[null,null,null,{"$f":"Database!D503","v":"1997-04-01"},true,{"$f":"IF($O$4,CHOOSE($U$4,1,Database!AI503,Database!AJ503,Database!AP503),1)","v":1},1,"1997-04-01",{"$f":"INDEX(Database!E503:AW503,'Graph of One Series'!$O$2)/G504","v":1133}]
[null,null,null,{"$f":"Database!D504","v":"1997-05-01"},true,{"$f":"IF($O$4,CHOOSE($U$4,1,Database!AI504,Database!AJ504,Database!AP504),1)","v":1},1,"1997-05-01",{"$f":"INDEX(Database!E504:AW504,'Graph of One Series'!$O$2)/G505","v":1115}]
[null,null,null,{"$f":"Database!D505","v":"1997-06-01"},true,{"$f":"IF($O$4,CHOOSE($U$4,1,Database!AI505,Database!AJ505,Database!AP505),1)","v":1},1,"1997-06-01",{"$f":"INDEX(Database!E505:AW505,'Graph of One Series'!$O$2)/G506","v":1096}]
[null,null,null,{"$f":"Database!D506","v":"1997-07-01"},true,{"$f":"IF($O$4,CHOOSE($U$4,1,Database!AI506,Database!AJ506,Database!AP506),1)","v":1},1,"1997-07-01",{"$f":"INDEX(Database!E506:AW506,'Graph of One Series'!$O$2)/G507","v":1056}]
[null,null,null,{"$f":"Database!D507","v":"1997-08-01"},true,{"$f":"IF($O$4,CHOOSE($U$4,1,Database!AI507,Database!AJ507,Database!AP507),1)","v":1},1,"1997-08-01",{"$f":"INDEX(Database!E507:AW507,'Graph of One Series'!$O$2)/G508","v":1062}]
[null,null,null,{"$f":"Database!D508","v":"1997-09-01"},true,{"$f":"IF($O$4,CHOOSE($U$4,1,Database!AI508,Database!AJ508,Database!AP508),1)","v":1},1,"1997-09-01",{"$f":"INDEX(Database!E508:AW508,'Graph of One Series'!$O$2)/G509","v":1148}]
[null,null,null,{"$f":"Database!D509","v":"1997-10-01"},true,{"$f":"IF($O$4,CHOOSE($U$4,1,Database!AI509,Database!AJ509,Database!AP509),1)","v":1},1,"1997-10-01",{"$f":"INDEX(Database!E509:AW509,'Graph of One Series'!$O$2)/G510","v":1074}]
[null,null,null,{"$f":"Database!D510","v":"1997-11-01"},true,{"$f":"IF($O$4,CHOOSE($U$4,1,Database!AI510,Database!AJ510,Database!AP510),1)","v":1},1,"1997-11-01",{"$f":"INDEX(Database!E510:AW510,'Graph of One Series'!$O$2)/G511","v":1131}]
[null,null,null,{"$f":"Database!D511","v":"1997-12-01"},true,{"$f":"IF($O$4,CHOOSE($U$4,1,Database!AI511,Database!AJ511,Database!AP511),1)","v":1},1,"1997-12-01",{"$f":"INDEX(Database!E511:AW511,'Graph of One Series'!$O$2)/G512","v":1096}]
[null,null,null,{"$f":"Database!D512","v":"1998-01-01"},true,{"$f":"IF($O$4,CHOOSE($U$4,1,Database!AI512,Database!AJ512,Database!AP512),1)","v":1},1,"1998-01-01",{"$f":"INDEX(Database!E512:AW512,'Graph of One Series'!$O$2)/G513","v":1018}]
[null,null,null,{"$f":"Database!D513","v":"1998-02-01"},true,{"$f":"IF($O$4,CHOOSE($U$4,1,Database!AI513,Database!AJ513,Database!AP513),1)","v":1},1,"1998-02-01",{"$f":"INDEX(Database!E513:AW513,'Graph of One Series'!$O$2)/G514","v":1127}]
[null,null,null,{"$f":"Database!D514","v":"1998-03-01"},true,{"$f":"IF($O$4,CHOOSE($U$4,1,Database!AI514,Database!AJ514,Database!AP514),1)","v":1},1,"1998-03-01",{"$f":"INDEX(Database!E514:AW514,'Graph of One Series'!$O$2)/G515","v":1131}]
[null,null,null,{"$f":"Database!D515","v":"1998-04-01"},true,{"$f":"IF($O$4,CHOOSE($U$4,1,Database!AI515,Database!AJ515,Database!AP515),1)","v":1},1,"1998-04-01",{"$f":"INDEX(Database!E515:AW515,'Graph of One Series'!$O$2)/G516","v":1186}]
[null,null,null,{"$f":"Database!D516","v":"1998-05-01"},true,{"$f":"IF($O$4,CHOOSE($U$4,1,Database!AI516,Database!AJ516,Database!AP516),1)","v":1},1,"1998-05-01",{"$f":"INDEX(Database!E516:AW516,'Graph of One Series'!$O$2)/G517","v":1116}]
[null,null,null,{"$f":"Database!D517","v":"1998-06-01"},true,{"$f":"IF($O$4,CHOOSE($U$4,1,Database!AI517,Database!AJ517,Database!AP517),1)","v":1},1,"1998-06-01",{"$f":"INDEX(Database!E517:AW517,'Graph of One Series'!$O$2)/G518","v":1163}]
[null,null,null,{"$f":"Database!D518","v":"1998-07-01"},true,{"$f":"IF($O$4,CHOOSE($U$4,1,Database!AI518,Database!AJ518,Database!AP518),1)","v":1},1,"1998-07-01",{"$f":"INDEX(Database!E518:AW518,'Graph of One Series'!$O$2)/G519","v":1223}]
[null,null,null,{"$f":"Database!D519","v":"1998-08-01"},true,{"$f":"IF($O$4,CHOOSE($U$4,1,Database!AI519,Database!AJ519,Database!AP519),1)","v":1},1,"1998-08-01",{"$f":"INDEX(Database!E519:AW519,'Graph of One Series'!$O$2)/G520","v":1179}]
[null,null,null,{"$f":"Database!D520","v":"1998-09-01"},true,{"$f":"IF($O$4,CHOOSE($U$4,1,Database!AI520,Database!AJ520,Database!AP520),1)","v":1},{"$f":"F521/$G$5","v":1},{"$f":"IF(E521,D521,NA())","v":"1998-09-01"},{"$f":"INDEX(Database!E520:AW520,'Graph of One Series'!$O$2)/G521","v":1186}]
[null,null,null,{"$f":"Database!D521","v":"1998-10-01"},{"$f":"AND($D522>=E$7,$D522<=E$8)","v":true},{"$f":"IF($O$4,CHOOSE($U$4,1,Database!AI521,Database!AJ521,Database!AP521),1)","v":1},1,"1998-10-01",{"$f":"INDEX(Database!E521:AW521,'Graph of One Series'!$O$2)/G522","v":1168}]
[null,null,null,{"$f":"Database!D522","v":"1998-11-01"},true,{"$f":"IF($O$4,CHOOSE($U$4,1,Database!AI522,Database!AJ522,Database!AP522),1)","v":1},1,"1998-11-01",{"$f":"INDEX(Database!E522:AW522,'Graph of One Series'!$O$2)/G523","v":1255}]
[null,null,null,{"$f":"Database!D523","v":"1998-12-01"},true,{"$f":"IF($O$4,CHOOSE($U$4,1,Database!AI523,Database!AJ523,Database!AP523),1)","v":1},1,"1998-12-01",{"$f":"INDEX(Database!E523:AW523,'Graph of One Series'!$O$2)/G524","v":1141}]
[null,null,null,{"$f":"Database!D524","v":"1999-01-01"},true,{"$f":"IF($O$4,CHOOSE($U$4,1,Database!AI524,Database!AJ524,Database!AP524),1)","v":1},1,"1999-01-01",{"$f":"INDEX(Database!E524:AW524,'Graph of One Series'!$O$2)/G525","v":1239}]
[null,null,null,{"$f":"Database!D525","v":"1999-02-01"},true,{"$f":"IF($O$4,CHOOSE($U$4,1,Database!AI525,Database!AJ525,Database!AP525),1)","v":1},1,"1999-02-01",{"$f":"INDEX(Database!E525:AW525,'Graph of One Series'!$O$2)/G526","v":1199}]
[null,null,null,{"$f":"Database!D526","v":"1999-03-01"},true,{"$f":"IF($O$4,CHOOSE($U$4,1,Database!AI526,Database!AJ526,Database!AP526),1)","v":1},1,"1999-03-01",{"$f":"INDEX(Database!E526:AW526,'Graph of One Series'!$O$2)/G527","v":1319}]
[null,null,null,{"$f":"Database!D527","v":"1999-04-01"},true,{"$f":"IF($O$4,CHOOSE($U$4,1,Database!AI527,Database!AJ527,Database!AP527),1)","v":1},1,"1999-04-01",{"$f":"INDEX(Database!E527:AW527,'Graph of One Series'!$O$2)/G528","v":1271}]
[null,null,null,{"$f":"Database!D528","v":"1999-05-01"},true,{"$f":"IF($O$4,CHOOSE($U$4,1,Database!AI528,Database!AJ528,Database!AP528),1)","v":1},1,"1999-05-01",{"$f":"INDEX(Database!E528:AW528,'Graph of One Series'!$O$2)/G529","v":1302}]
[null,null,null,{"$f":"Database!D529","v":"1999-06-01"},true,{"$f":"IF($O$4,CHOOSE($U$4,1,Database!AI529,Database!AJ529,Database!AP529),1)","v":1},1,"1999-06-01",{"$f":"INDEX(Database!E529:AW529,'Graph of One Series'!$O$2)/G530","v":1311}]
[null,null,null,{"$f":"Database!D530","v":"1999-07-01"},true,{"$f":"IF($O$4,CHOOSE($U$4,1,Database!AI530,Database!AJ530,Database!AP530),1)","v":1},1,"1999-07-01",{"$f":"INDEX(Database!E530:AW530,'Graph of One Series'!$O$2)/G531","v":1228}]
[null,null,null,{"$f":"Database!D531","v":"1999-08-01"},true,{"$f":"IF($O$4,CHOOSE($U$4,1,Database!AI531,Database!AJ531,Database!AP531),1)","v":1},1,"1999-08-01",{"$f":"INDEX(Database!E531:AW531,'Graph of One Series'!$O$2)/G532","v":1225}]
[null,null,null,{"$f":"Database!D532","v":"1999-09-01"},true,{"$f":"IF($O$4,CHOOSE($U$4,1,Database!AI532,Database!AJ532,Database!AP532),1)","v":1},1,"1999-09-01",{"$f":"INDEX(Database!E532:AW532,'Graph of One Series'!$O$2)/G533","v":1292}]
[null,null,null,{"$f":"Database!D533","v":"1999-10-01"},true,{"$f":"IF($O$4,CHOOSE($U$4,1,Database!AI533,Database!AJ533,Database!AP533),1)","v":1},1,"1999-10-01",{"$f":"INDEX(Database!E533:AW533,'Graph of One Series'!$O$2)/G534","v":1250}]
[null,null,null,{"$f":"Database!D534","v":"1999-11-01"},true,{"$f":"IF($O$4,CHOOSE($U$4,1,Database!AI534,Database!AJ534,Database!AP534),1)","v":1},1,"1999-11-01",{"$f":"INDEX(Database!E534:AW534,'Graph of One Series'!$O$2)/G535","v":1289}]
[null,null,null,{"$f":"Database!D535","v":"1999-12-01"},true,{"$f":"IF($O$4,CHOOSE($U$4,1,Database!AI535,Database!AJ535,Database!AP535),1)","v":1},1,"1999-12-01",{"$f":"INDEX(Database!E535:AW535,'Graph of One Series'!$O$2)/G536","v":1309}]
[null,null,null,{"$f":"Database!D536","v":"2000-01-01"},true,{"$f":"IF($O$4,CHOOSE($U$4,1,Database!AI536,Database!AJ536,Database!AP536),1)","v":1},1,"2000-01-01",{"$f":"INDEX(Database!E536:AW536,'Graph of One Series'!$O$2)/G537","v":1262}]
[null,null,null,{"$f":"Database!D537","v":"2000-02-01"},true,{"$f":"IF($O$4,CHOOSE($U$4,1,Database!AI537,Database!AJ537,Database!AP537),1)","v":1},1,"2000-02-01",{"$f":"INDEX(Database!E537:AW537,'Graph of One Series'!$O$2)/G538","v":1326}]
[null,null,null,{"$f":"Database!D538","v":"2000-03-01"},true,{"$f":"IF($O$4,CHOOSE($U$4,1,Database!AI538,Database!AJ538,Database!AP538),1)","v":1},1,"2000-03-01",{"$f":"INDEX(Database!E538:AW538,'Graph of One Series'!$O$2)/G539","v":1312}]
[null,null,null,{"$f":"Database!D539","v":"2000-04-01"},true,{"$f":"IF($O$4,CHOOSE($U$4,1,Database!AI539,Database!AJ539,Database!AP539),1)","v":1},1,"2000-04-01",{"$f":"INDEX(Database!E539:AW539,'Graph of One Series'!$O$2)/G540","v":1307}]
[null,null,null,{"$f":"Database!D540","v":"2000-05-01"},true,{"$f":"IF($O$4,CHOOSE($U$4,1,Database!AI540,Database!AJ540,Database!AP540),1)","v":1},1,"2000-05-01",{"$f":"INDEX(Database!E540:AW540,'Graph of One Series'!$O$2)/G541","v":1334}]
[null,null,null,{"$f":"Database!D541","v":"2000-06-01"},true,{"$f":"IF($O$4,CHOOSE($U$4,1,Database!AI541,Database!AJ541,Database!AP541),1)","v":1},1,"2000-06-01",{"$f":"INDEX(Database!E541:AW541,'Graph of One Series'!$O$2)/G542","v":1190}]
[null,null,null,{"$f":"Database!D542","v":"2000-07-01"},true,{"$f":"IF($O$4,CHOOSE($U$4,1,Database!AI542,Database!AJ542,Database!AP542),1)","v":1},1,"2000-07-01",{"$f":"INDEX(Database!E542:AW542,'Graph of One Series'!$O$2)/G543","v":1187}]
[null,null,null,{"$f":"Database!D543","v":"2000-08-01"},true,{"$f":"IF($O$4,CHOOSE($U$4,1,Database!AI543,Database!AJ543,Database!AP543),1)","v":1},1,"2000-08-01",{"$f":"INDEX(Database!E543:AW543,'Graph of One Series'!$O$2)/G544","v":1231}]
[null,null,null,{"$f":"Database!D544","v":"2000-09-01"},true,{"$f":"IF($O$4,CHOOSE($U$4,1,Database!AI544,Database!AJ544,Database!AP544),1)","v":1},1,"2000-09-01",{"$f":"INDEX(Database!E544:AW544,'Graph of One Series'!$O$2)/G545","v":1175}]
[null,null,null,{"$f":"Database!D545","v":"2000-10-01"},true,{"$f":"IF($O$4,CHOOSE($U$4,1,Database!AI545,Database!AJ545,Database!AP545),1)","v":1},1,"2000-10-01",{"$f":"INDEX(Database!E545:AW545,'Graph of One Series'!$O$2)/G546","v":1176}]
[null,null,null,{"$f":"Database!D546","v":"2000-11-01"},true,{"$f":"IF($O$4,CHOOSE($U$4,1,Database!AI546,Database!AJ546,Database!AP546),1)","v":1},1,"2000-11-01",{"$f":"INDEX(Database!E546:AW546,'Graph of One Series'!$O$2)/G547","v":1227}]
[null,null,null,{"$f":"Database!D547","v":"2000-12-01"},true,{"$f":"IF($O$4,CHOOSE($U$4,1,Database!AI547,Database!AJ547,Database!AP547),1)","v":1},1,"2000-12-01",{"$f":"INDEX(Database!E547:AW547,'Graph of One Series'!$O$2)/G548","v":1227}]
[null,null,null,{"$f":"Database!D548","v":"2001-01-01"},true,{"$f":"IF($O$4,CHOOSE($U$4,1,Database!AI548,Database!AJ548,Database!AP548),1)","v":1},1,"2001-01-01",{"$f":"INDEX(Database!E548:AW548,'Graph of One Series'!$O$2)/G549","v":1122}]
[null,null,null,{"$f":"Database!D549","v":"2001-02-01"},true,{"$f":"IF($O$4,CHOOSE($U$4,1,Database!AI549,Database!AJ549,Database!AP549),1)","v":1},1,"2001-02-01",{"$f":"INDEX(Database!E549:AW549,'Graph of One Series'!$O$2)/G550","v":1198}]
[null,null,null,{"$f":"Database!D550","v":"2001-03-01"},true,{"$f":"IF($O$4,CHOOSE($U$4,1,Database!AI550,Database!AJ550,Database!AP550),1)","v":1},1,"2001-03-01",{"$f":"INDEX(Database!E550:AW550,'Graph of One Series'!$O$2)/G551","v":1193}]
[null,null,null,{"$f":"Database!D551","v":"2001-04-01"},true,{"$f":"IF($O$4,CHOOSE($U$4,1,Database!AI551,Database!AJ551,Database!AP551),1)","v":1},1,"2001-04-01",{"$f":"INDEX(Database!E551:AW551,'Graph of One Series'!$O$2)/G552","v":1242}]
[null,null,null,{"$f":"Database!D552","v":"2001-05-01"},true,{"$f":"IF($O$4,CHOOSE($U$4,1,Database!AI552,Database!AJ552,Database!AP552),1)","v":1},1,"2001-05-01",{"$f":"INDEX(Database!E552:AW552,'Graph of One Series'!$O$2)/G553","v":1224}]
[null,null,null,{"$f":"Database!D553","v":"2001-06-01"},true,{"$f":"IF($O$4,CHOOSE($U$4,1,Database!AI553,Database!AJ553,Database!AP553),1)","v":1},1,"2001-06-01",{"$f":"INDEX(Database!E553:AW553,'Graph of One Series'!$O$2)/G554","v":1283}]
[null,null,null,{"$f":"Database!D554","v":"2001-07-01"},true,{"$f":"IF($O$4,CHOOSE($U$4,1,Database!AI554,Database!AJ554,Database!AP554),1)","v":1},1,"2001-07-01",{"$f":"INDEX(Database!E554:AW554,'Graph of One Series'!$O$2)/G555","v":1273}]
[null,null,null,{"$f":"Database!D555","v":"2001-08-01"},true,{"$f":"IF($O$4,CHOOSE($U$4,1,Database!AI555,Database!AJ555,Database!AP555),1)","v":1},1,"2001-08-01",{"$f":"INDEX(Database!E555:AW555,'Graph of One Series'!$O$2)/G556","v":1281}]
[null,null,null,{"$f":"Database!D556","v":"2001-09-01"},true,{"$f":"IF($O$4,CHOOSE($U$4,1,Database!AI556,Database!AJ556,Database!AP556),1)","v":1},1,"2001-09-01",{"$f":"INDEX(Database!E556:AW556,'Graph of One Series'!$O$2)/G557","v":1262}]
[null,null,null,{"$f":"Database!D557","v":"2001-10-01"},true,{"$f":"IF($O$4,CHOOSE($U$4,1,Database!AI557,Database!AJ557,Database!AP557),1)","v":1},1,"2001-10-01",{"$f":"INDEX(Database!E557:AW557,'Graph of One Series'!$O$2)/G558","v":1334}]
[null,null,null,{"$f":"Database!D558","v":"2001-11-01"},true,{"$f":"IF($O$4,CHOOSE($U$4,1,Database!AI558,Database!AJ558,Database!AP558),1)","v":1},1,"2001-11-01",{"$f":"INDEX(Database!E558:AW558,'Graph of One Series'!$O$2)/G559","v":1242}]
[null,null,null,{"$f":"Database!D559","v":"2001-12-01"},true,{"$f":"IF($O$4,CHOOSE($U$4,1,Database!AI559,Database!AJ559,Database!AP559),1)","v":1},1,"2001-12-01",{"$f":"INDEX(Database!E559:AW559,'Graph of One Series'!$O$2)/G560","v":1351}]
[null,null,null,{"$f":"Database!D560","v":"2002-01-01"},true,{"$f":"IF($O$4,CHOOSE($U$4,1,Database!AI560,Database!AJ560,Database!AP560),1)","v":1},1,"2002-01-01",{"$f":"INDEX(Database!E560:AW560,'Graph of One Series'!$O$2)/G561","v":1324}]
[null,null,null,{"$f":"Database!D561","v":"2002-02-01"},true,{"$f":"IF($O$4,CHOOSE($U$4,1,Database!AI561,Database!AJ561,Database!AP561),1)","v":1},1,"2002-02-01",{"$f":"INDEX(Database!E561:AW561,'Graph of One Series'!$O$2)/G562","v":1370}]
[null,null,null,{"$f":"Database!D562","v":"2002-03-01"},true,{"$f":"IF($O$4,CHOOSE($U$4,1,Database!AI562,Database!AJ562,Database!AP562),1)","v":1},1,"2002-03-01",{"$f":"INDEX(Database!E562:AW562,'Graph of One Series'!$O$2)/G563","v":1324}]
[null,null,null,{"$f":"Database!D563","v":"2002-04-01"},true,{"$f":"IF($O$4,CHOOSE($U$4,1,Database!AI563,Database!AJ563,Database!AP563),1)","v":1},1,"2002-04-01",{"$f":"INDEX(Database!E563:AW563,'Graph of One Series'!$O$2)/G564","v":1258}]
[null,null,null,{"$f":"Database!D564","v":"2002-05-01"},true,{"$f":"IF($O$4,CHOOSE($U$4,1,Database!AI564,Database!AJ564,Database!AP564),1)","v":1},1,"2002-05-01",{"$f":"INDEX(Database!E564:AW564,'Graph of One Series'!$O$2)/G565","v":1359}]
[null,null,null,{"$f":"Database!D565","v":"2002-06-01"},true,{"$f":"IF($O$4,CHOOSE($U$4,1,Database!AI565,Database!AJ565,Database!AP565),1)","v":1},1,"2002-06-01",{"$f":"INDEX(Database!E565:AW565,'Graph of One Series'!$O$2)/G566","v":1281}]
[null,null,null,{"$f":"Database!D566","v":"2002-07-01"},true,{"$f":"IF($O$4,CHOOSE($U$4,1,Database!AI566,Database!AJ566,Database!AP566),1)","v":1},1,"2002-07-01",{"$f":"INDEX(Database!E566:AW566,'Graph of One Series'!$O$2)/G567","v":1275}]
[null,null,null,{"$f":"Database!D567","v":"2002-08-01"},true,{"$f":"IF($O$4,CHOOSE($U$4,1,Database!AI567,Database!AJ567,Database!AP567),1)","v":1},1,"2002-08-01",{"$f":"INDEX(Database!E567:AW567,'Graph of One Series'!$O$2)/G568","v":1339}]
[null,null,null,{"$f":"Database!D568","v":"2002-09-01"},true,{"$f":"IF($O$4,CHOOSE($U$4,1,Database!AI568,Database!AJ568,Database!AP568),1)","v":1},1,"2002-09-01",{"$f":"INDEX(Database!E568:AW568,'Graph of One Series'!$O$2)/G569","v":1331}]
[null,null,null,{"$f":"Database!D569","v":"2002-10-01"},true,{"$f":"IF($O$4,CHOOSE($U$4,1,Database!AI569,Database!AJ569,Database!AP569),1)","v":1},1,"2002-10-01",{"$f":"INDEX(Database!E569:AW569,'Graph of One Series'!$O$2)/G570","v":1286}]
[null,null,null,{"$f":"Database!D570","v":"2002-11-01"},true,{"$f":"IF($O$4,CHOOSE($U$4,1,Database!AI570,Database!AJ570,Database!AP570),1)","v":1},1,"2002-11-01",{"$f":"INDEX(Database!E570:AW570,'Graph of One Series'!$O$2)/G571","v":1401}]
[null,null,null,{"$f":"Database!D571","v":"2002-12-01"},true,{"$f":"IF($O$4,CHOOSE($U$4,1,Database!AI571,Database!AJ571,Database!AP571),1)","v":1},1,"2002-12-01",{"$f":"INDEX(Database!E571:AW571,'Graph of One Series'!$O$2)/G572","v":1349}]
[null,null,null,{"$f":"Database!D572","v":"2003-01-01"},true,{"$f":"IF($O$4,CHOOSE($U$4,1,Database!AI572,Database!AJ572,Database!AP572),1)","v":1},1,"2003-01-01",{"$f":"INDEX(Database!E572:AW572,'Graph of One Series'!$O$2)/G573","v":1317}]
[null,null,null,{"$f":"Database!D573","v":"2003-02-01"},true,{"$f":"IF($O$4,CHOOSE($U$4,1,Database!AI573,Database!AJ573,Database!AP573),1)","v":1},1,"2003-02-01",{"$f":"INDEX(Database!E573:AW573,'Graph of One Series'!$O$2)/G574","v":1342}]
[null,null,null,{"$f":"Database!D574","v":"2003-03-01"},true,{"$f":"IF($O$4,CHOOSE($U$4,1,Database!AI574,Database!AJ574,Database!AP574),1)","v":1},1,"2003-03-01",{"$f":"INDEX(Database!E574:AW574,'Graph of One Series'!$O$2)/G575","v":1305}]
[null,null,null,{"$f":"Database!D575","v":"2003-04-01"},true,{"$f":"IF($O$4,CHOOSE($U$4,1,Database!AI575,Database!AJ575,Database!AP575),1)","v":1},1,"2003-04-01",{"$f":"INDEX(Database!E575:AW575,'Graph of One Series'!$O$2)/G576","v":1350}]
[null,null,null,{"$f":"Database!D576","v":"2003-05-01"},true,{"$f":"IF($O$4,CHOOSE($U$4,1,Database!AI576,Database!AJ576,Database!AP576),1)","v":1},1,"2003-05-01",{"$f":"INDEX(Database!E576:AW576,'Graph of One Series'!$O$2)/G577","v":1390}]
[null,null,null,{"$f":"Database!D577","v":"2003-06-01"},true,{"$f":"IF($O$4,CHOOSE($U$4,1,Database!AI577,Database!AJ577,Database!AP577),1)","v":1},1,"2003-06-01",{"$f":"INDEX(Database!E577:AW577,'Graph of One Series'!$O$2)/G578","v":1354}]
[null,null,null,{"$f":"Database!D578","v":"2003-07-01"},true,{"$f":"IF($O$4,CHOOSE($U$4,1,Database!AI578,Database!AJ578,Database!AP578),1)","v":1},1,"2003-07-01",{"$f":"INDEX(Database!E578:AW578,'Graph of One Series'!$O$2)/G579","v":1424}]
[null,null,null,{"$f":"Database!D579","v":"2003-08-01"},true,{"$f":"IF($O$4,CHOOSE($U$4,1,Database!AI579,Database!AJ579,Database!AP579),1)","v":1},1,"2003-08-01",{"$f":"INDEX(Database!E579:AW579,'Graph of One Series'!$O$2)/G580","v":1329}]
[null,null,null,{"$f":"Database!D580","v":"2003-09-01"},true,{"$f":"IF($O$4,CHOOSE($U$4,1,Database!AI580,Database!AJ580,Database!AP580),1)","v":1},1,"2003-09-01",{"$f":"INDEX(Database!E580:AW580,'Graph of One Series'!$O$2)/G581","v":1413}]
[null,null,null,{"$f":"Database!D581","v":"2003-10-01"},true,{"$f":"IF($O$4,CHOOSE($U$4,1,Database!AI581,Database!AJ581,Database!AP581),1)","v":1},1,"2003-10-01",{"$f":"INDEX(Database!E581:AW581,'Graph of One Series'!$O$2)/G582","v":1479}]
[null,null,null,{"$f":"Database!D582","v":"2003-11-01"},true,{"$f":"IF($O$4,CHOOSE($U$4,1,Database!AI582,Database!AJ582,Database!AP582),1)","v":1},1,"2003-11-01",{"$f":"INDEX(Database!E582:AW582,'Graph of One Series'!$O$2)/G583","v":1439}]
[null,null,null,{"$f":"Database!D583","v":"2003-12-01"},true,{"$f":"IF($O$4,CHOOSE($U$4,1,Database!AI583,Database!AJ583,Database!AP583),1)","v":1},1,"2003-12-01",{"$f":"INDEX(Database!E583:AW583,'Graph of One Series'!$O$2)/G584","v":1434}]
[null,null,null,{"$f":"Database!D584","v":"2004-01-01"},true,{"$f":"IF($O$4,CHOOSE($U$4,1,Database!AI584,Database!AJ584,Database!AP584),1)","v":1},{"$f":"F585/$G$5","v":1},{"$f":"IF(E585,D585,NA())","v":"2004-01-01"},{"$f":"INDEX(Database!E584:AW584,'Graph of One Series'!$O$2)/G585","v":1434}]
[null,null,null,{"$f":"Database!D585","v":"2004-02-01"},{"$f":"AND($D586>=E$7,$D586<=E$8)","v":true},{"$f":"IF($O$4,CHOOSE($U$4,1,Database!AI585,Database!AJ585,Database!AP585),1)","v":1},1,"2004-02-01",{"$f":"INDEX(Database!E585:AW585,'Graph of One Series'!$O$2)/G586","v":1447}]
[null,null,null,{"$f":"Database!D586","v":"2004-03-01"},true,{"$f":"IF($O$4,CHOOSE($U$4,1,Database!AI586,Database!AJ586,Database!AP586),1)","v":1},1,"2004-03-01",{"$f":"INDEX(Database!E586:AW586,'Graph of One Series'!$O$2)/G587","v":1491}]
[null,null,null,{"$f":"Database!D587","v":"2004-04-01"},true,{"$f":"IF($O$4,CHOOSE($U$4,1,Database!AI587,Database!AJ587,Database!AP587),1)","v":1},1,"2004-04-01",{"$f":"INDEX(Database!E587:AW587,'Graph of One Series'!$O$2)/G588","v":1645}]
[null,null,null,{"$f":"Database!D588","v":"2004-05-01"},true,{"$f":"IF($O$4,CHOOSE($U$4,1,Database!AI588,Database!AJ588,Database!AP588),1)","v":1},1,"2004-05-01",{"$f":"INDEX(Database!E588:AW588,'Graph of One Series'!$O$2)/G589","v":1505}]
[null,null,null,{"$f":"Database!D589","v":"2004-06-01"},true,{"$f":"IF($O$4,CHOOSE($U$4,1,Database!AI589,Database!AJ589,Database!AP589),1)","v":1},1,"2004-06-01",{"$f":"INDEX(Database!E589:AW589,'Graph of One Series'!$O$2)/G590","v":1521}]
[null,null,null,{"$f":"Database!D590","v":"2004-07-01"},true,{"$f":"IF($O$4,CHOOSE($U$4,1,Database!AI590,Database!AJ590,Database!AP590),1)","v":1},1,"2004-07-01",{"$f":"INDEX(Database!E590:AW590,'Graph of One Series'!$O$2)/G591","v":1546}]
[null,null,null,{"$f":"Database!D591","v":"2004-08-01"},true,{"$f":"IF($O$4,CHOOSE($U$4,1,Database!AI591,Database!AJ591,Database!AP591),1)","v":1},1,"2004-08-01",{"$f":"INDEX(Database!E591:AW591,'Graph of One Series'!$O$2)/G592","v":1554}]
[null,null,null,{"$f":"Database!D592","v":"2004-09-01"},true,{"$f":"IF($O$4,CHOOSE($U$4,1,Database!AI592,Database!AJ592,Database!AP592),1)","v":1},1,"2004-09-01",{"$f":"INDEX(Database!E592:AW592,'Graph of One Series'!$O$2)/G593","v":1533}]
[null,null,null,{"$f":"Database!D593","v":"2004-10-01"},true,{"$f":"IF($O$4,CHOOSE($U$4,1,Database!AI593,Database!AJ593,Database!AP593),1)","v":1},1,"2004-10-01",{"$f":"INDEX(Database!E593:AW593,'Graph of One Series'!$O$2)/G594","v":1539}]
[null,null,null,{"$f":"Database!D594","v":"2004-11-01"},true,{"$f":"IF($O$4,CHOOSE($U$4,1,Database!AI594,Database!AJ594,Database!AP594),1)","v":1},1,"2004-11-01",{"$f":"INDEX(Database!E594:AW594,'Graph of One Series'!$O$2)/G595","v":1464}]
[null,null,null,{"$f":"Database!D595","v":"2004-12-01"},true,{"$f":"IF($O$4,CHOOSE($U$4,1,Database!AI595,Database!AJ595,Database!AP595),1)","v":1},1,"2004-12-01",{"$f":"INDEX(Database!E595:AW595,'Graph of One Series'!$O$2)/G596","v":1655}]
[null,null,null,{"$f":"Database!D596","v":"2005-01-01"},true,{"$f":"IF($O$4,CHOOSE($U$4,1,Database!AI596,Database!AJ596,Database!AP596),1)","v":1},1,"2005-01-01",{"$f":"INDEX(Database!E596:AW596,'Graph of One Series'!$O$2)/G597","v":1589}]
[null,null,null,{"$f":"Database!D597","v":"2005-02-01"},true,{"$f":"IF($O$4,CHOOSE($U$4,1,Database!AI597,Database!AJ597,Database!AP597),1)","v":1},1,"2005-02-01",{"$f":"INDEX(Database!E597:AW597,'Graph of One Series'!$O$2)/G598","v":1608}]
[null,null,null,{"$f":"Database!D598","v":"2005-03-01"},true,{"$f":"IF($O$4,CHOOSE($U$4,1,Database!AI598,Database!AJ598,Database!AP598),1)","v":1},1,"2005-03-01",{"$f":"INDEX(Database!E598:AW598,'Graph of One Series'!$O$2)/G599","v":1524}]
[null,null,null,{"$f":"Database!D599","v":"2005-04-01"},true,{"$f":"IF($O$4,CHOOSE($U$4,1,Database!AI599,Database!AJ599,Database!AP599),1)","v":1},1,"2005-04-01",{"$f":"INDEX(Database!E599:AW599,'Graph of One Series'!$O$2)/G600","v":1626}]
[null,null,null,{"$f":"Database!D600","v":"2005-05-01"},true,{"$f":"IF($O$4,CHOOSE($U$4,1,Database!AI600,Database!AJ600,Database!AP600),1)","v":1},1,"2005-05-01",{"$f":"INDEX(Database!E600:AW600,'Graph of One Series'!$O$2)/G601","v":1750}]
[null,null,null,{"$f":"Database!D601","v":"2005-06-01"},true,{"$f":"IF($O$4,CHOOSE($U$4,1,Database!AI601,Database!AJ601,Database!AP601),1)","v":1},1,"2005-06-01",{"$f":"INDEX(Database!E601:AW601,'Graph of One Series'!$O$2)/G602","v":1679}]
[null,null,null,{"$f":"Database!D602","v":"2005-07-01"},true,{"$f":"IF($O$4,CHOOSE($U$4,1,Database!AI602,Database!AJ602,Database!AP602),1)","v":1},1,"2005-07-01",{"$f":"INDEX(Database!E602:AW602,'Graph of One Series'!$O$2)/G603","v":1639}]
[null,null,null,{"$f":"Database!D603","v":"2005-08-01"},true,{"$f":"IF($O$4,CHOOSE($U$4,1,Database!AI603,Database!AJ603,Database!AP603),1)","v":1},1,"2005-08-01",{"$f":"INDEX(Database!E603:AW603,'Graph of One Series'!$O$2)/G604","v":1649}]
[null,null,null,{"$f":"Database!D604","v":"2005-09-01"},true,{"$f":"IF($O$4,CHOOSE($U$4,1,Database!AI604,Database!AJ604,Database!AP604),1)","v":1},1,"2005-09-01",{"$f":"INDEX(Database!E604:AW604,'Graph of One Series'!$O$2)/G605","v":1631}]
[null,null,null,{"$f":"Database!D605","v":"2005-10-01"},true,{"$f":"IF($O$4,CHOOSE($U$4,1,Database!AI605,Database!AJ605,Database!AP605),1)","v":1},1,"2005-10-01",{"$f":"INDEX(Database!E605:AW605,'Graph of One Series'!$O$2)/G606","v":1618}]
[null,null,null,{"$f":"Database!D606","v":"2005-11-01"},true,{"$f":"IF($O$4,CHOOSE($U$4,1,Database!AI606,Database!AJ606,Database!AP606),1)","v":1},1,"2005-11-01",{"$f":"INDEX(Database!E606:AW606,'Graph of One Series'!$O$2)/G607","v":1633}]
[null,null,null,{"$f":"Database!D607","v":"2005-12-01"},true,{"$f":"IF($O$4,CHOOSE($U$4,1,Database!AI607,Database!AJ607,Database!AP607),1)","v":1},1,"2005-12-01",{"$f":"INDEX(Database!E607:AW607,'Graph of One Series'!$O$2)/G608","v":1662}]
[null,null,null,{"$f":"Database!D608","v":"2006-01-01"},true,{"$f":"IF($O$4,CHOOSE($U$4,1,Database!AI608,Database!AJ608,Database!AP608),1)","v":1},1,"2006-01-01",{"$f":"INDEX(Database!E608:AW608,'Graph of One Series'!$O$2)/G609","v":1663}]
[null,null,null,{"$f":"Database!D609","v":"2006-02-01"},true,{"$f":"IF($O$4,CHOOSE($U$4,1,Database!AI609,Database!AJ609,Database!AP609),1)","v":1},1,"2006-02-01",{"$f":"INDEX(Database!E609:AW609,'Graph of One Series'!$O$2)/G610","v":1742}]
[null,null,null,{"$f":"Database!D610","v":"2006-03-01"},true,{"$f":"IF($O$4,CHOOSE($U$4,1,Database!AI610,Database!AJ610,Database!AP610),1)","v":1},1,"2006-03-01",{"$f":"INDEX(Database!E610:AW610,'Graph of One Series'!$O$2)/G611","v":1911}]
[null,null,null,{"$f":"Database!D611","v":"2006-04-01"},true,{"$f":"IF($O$4,CHOOSE($U$4,1,Database!AI611,Database!AJ611,Database!AP611),1)","v":1},1,"2006-04-01",{"$f":"INDEX(Database!E611:AW611,'Graph of One Series'!$O$2)/G612","v":1737}]
[null,null,null,{"$f":"Database!D612","v":"2006-05-01"},true,{"$f":"IF($O$4,CHOOSE($U$4,1,Database!AI612,Database!AJ612,Database!AP612),1)","v":1},1,"2006-05-01",{"$f":"INDEX(Database!E612:AW612,'Graph of One Series'!$O$2)/G613","v":1609}]
[null,null,null,{"$f":"Database!D613","v":"2006-06-01"},true,{"$f":"IF($O$4,CHOOSE($U$4,1,Database!AI613,Database!AJ613,Database!AP613),1)","v":1},1,"2006-06-01",{"$f":"INDEX(Database!E613:AW613,'Graph of One Series'!$O$2)/G614","v":1742}]
[null,null,null,{"$f":"Database!D614","v":"2006-07-01"},true,{"$f":"IF($O$4,CHOOSE($U$4,1,Database!AI614,Database!AJ614,Database!AP614),1)","v":1},1,"2006-07-01",{"$f":"INDEX(Database!E614:AW614,'Graph of One Series'!$O$2)/G615","v":1654}]
[null,null,null,{"$f":"Database!D615","v":"2006-08-01"},true,{"$f":"IF($O$4,CHOOSE($U$4,1,Database!AI615,Database!AJ615,Database!AP615),1)","v":1},1,"2006-08-01",{"$f":"INDEX(Database!E615:AW615,'Graph of One Series'!$O$2)/G616","v":1614}]
[null,null,null,{"$f":"Database!D616","v":"2006-09-01"},true,{"$f":"IF($O$4,CHOOSE($U$4,1,Database!AI616,Database!AJ616,Database!AP616),1)","v":1},1,"2006-09-01",{"$f":"INDEX(Database!E616:AW616,'Graph of One Series'!$O$2)/G617","v":1675}]
[null,null,null,{"$f":"Database!D617","v":"2006-10-01"},true,{"$f":"IF($O$4,CHOOSE($U$4,1,Database!AI617,Database!AJ617,Database!AP617),1)","v":1},1,"2006-10-01",{"$f":"INDEX(Database!E617:AW617,'Graph of One Series'!$O$2)/G618","v":1559}]
[null,null,null,{"$f":"Database!D618","v":"2006-11-01"},true,{"$f":"IF($O$4,CHOOSE($U$4,1,Database!AI618,Database!AJ618,Database!AP618),1)","v":1},1,"2006-11-01",{"$f":"INDEX(Database!E618:AW618,'Graph of One Series'!$O$2)/G619","v":1525}]
[null,null,null,{"$f":"Database!D619","v":"2006-12-01"},true,{"$f":"IF($O$4,CHOOSE($U$4,1,Database!AI619,Database!AJ619,Database!AP619),1)","v":1},1,"2006-12-01",{"$f":"INDEX(Database!E619:AW619,'Graph of One Series'!$O$2)/G620","v":1509}]
[null,null,null,{"$f":"Database!D620","v":"2007-01-01"},true,{"$f":"IF($O$4,CHOOSE($U$4,1,Database!AI620,Database!AJ620,Database!AP620),1)","v":1},1,"2007-01-01",{"$f":"INDEX(Database!E620:AW620,'Graph of One Series'!$O$2)/G621","v":1501}]
[null,null,null,{"$f":"Database!D621","v":"2007-02-01"},true,{"$f":"IF($O$4,CHOOSE($U$4,1,Database!AI621,Database!AJ621,Database!AP621),1)","v":1},1,"2007-02-01",{"$f":"INDEX(Database!E621:AW621,'Graph of One Series'!$O$2)/G622","v":1318}]
[null,null,null,{"$f":"Database!D622","v":"2007-03-01"},true,{"$f":"IF($O$4,CHOOSE($U$4,1,Database!AI622,Database!AJ622,Database!AP622),1)","v":1},1,"2007-03-01",{"$f":"INDEX(Database!E622:AW622,'Graph of One Series'!$O$2)/G623","v":1312}]
[null,null,null,{"$f":"Database!D623","v":"2007-04-01"},true,{"$f":"IF($O$4,CHOOSE($U$4,1,Database!AI623,Database!AJ623,Database!AP623),1)","v":1},1,"2007-04-01",{"$f":"INDEX(Database!E623:AW623,'Graph of One Series'!$O$2)/G624","v":1276}]
[null,null,null,{"$f":"Database!D624","v":"2007-05-01"},true,{"$f":"IF($O$4,CHOOSE($U$4,1,Database!AI624,Database!AJ624,Database!AP624),1)","v":1},1,"2007-05-01",{"$f":"INDEX(Database!E624:AW624,'Graph of One Series'!$O$2)/G625","v":1278}]
[null,null,null,{"$f":"Database!D625","v":"2007-06-01"},true,{"$f":"IF($O$4,CHOOSE($U$4,1,Database!AI625,Database!AJ625,Database!AP625),1)","v":1},1,"2007-06-01",{"$f":"INDEX(Database!E625:AW625,'Graph of One Series'!$O$2)/G626","v":1220}]
[null,null,null,{"$f":"Database!D626","v":"2007-07-01"},true,{"$f":"IF($O$4,CHOOSE($U$4,1,Database!AI626,Database!AJ626,Database!AP626),1)","v":1},1,"2007-07-01",{"$f":"INDEX(Database!E626:AW626,'Graph of One Series'!$O$2)/G627","v":1208}]
[null,null,null,{"$f":"Database!D627","v":"2007-08-01"},true,{"$f":"IF($O$4,CHOOSE($U$4,1,Database!AI627,Database!AJ627,Database!AP627),1)","v":1},1,"2007-08-01",{"$f":"INDEX(Database!E627:AW627,'Graph of One Series'!$O$2)/G628","v":1241}]
[null,null,null,{"$f":"Database!D628","v":"2007-09-01"},true,{"$f":"IF($O$4,CHOOSE($U$4,1,Database!AI628,Database!AJ628,Database!AP628),1)","v":1},1,"2007-09-01",{"$f":"INDEX(Database!E628:AW628,'Graph of One Series'!$O$2)/G629","v":1085}]
[null,null,null,{"$f":"Database!D629","v":"2007-10-01"},true,{"$f":"IF($O$4,CHOOSE($U$4,1,Database!AI629,Database!AJ629,Database!AP629),1)","v":1},1,"2007-10-01",{"$f":"INDEX(Database!E629:AW629,'Graph of One Series'!$O$2)/G630","v":1138}]
[null,null,null,{"$f":"Database!D630","v":"2007-11-01"},true,{"$f":"IF($O$4,CHOOSE($U$4,1,Database!AI630,Database!AJ630,Database!AP630),1)","v":1},1,"2007-11-01",{"$f":"INDEX(Database!E630:AW630,'Graph of One Series'!$O$2)/G631","v":1128}]
[null,null,null,{"$f":"Database!D631","v":"2007-12-01"},true,{"$f":"IF($O$4,CHOOSE($U$4,1,Database!AI631,Database!AJ631,Database!AP631),1)","v":1},1,"2007-12-01",{"$f":"INDEX(Database!E631:AW631,'Graph of One Series'!$O$2)/G632","v":1031}]
[null,null,null,{"$f":"Database!D632","v":"2008-01-01"},true,{"$f":"IF($O$4,CHOOSE($U$4,1,Database!AI632,Database!AJ632,Database!AP632),1)","v":1},1,"2008-01-01",{"$f":"INDEX(Database!E632:AW632,'Graph of One Series'!$O$2)/G633","v":1004}]
[null,null,null,{"$f":"Database!D633","v":"2008-02-01"},true,{"$f":"IF($O$4,CHOOSE($U$4,1,Database!AI633,Database!AJ633,Database!AP633),1)","v":1},1,"2008-02-01",{"$f":"INDEX(Database!E633:AW633,'Graph of One Series'!$O$2)/G634","v":930}]
[null,null,null,{"$f":"Database!D634","v":"2008-03-01"},true,{"$f":"IF($O$4,CHOOSE($U$4,1,Database!AI634,Database!AJ634,Database!AP634),1)","v":1},1,"2008-03-01",{"$f":"INDEX(Database!E634:AW634,'Graph of One Series'!$O$2)/G635","v":904}]
[null,null,null,{"$f":"Database!D635","v":"2008-04-01"},true,{"$f":"IF($O$4,CHOOSE($U$4,1,Database!AI635,Database!AJ635,Database!AP635),1)","v":1},1,"2008-04-01",{"$f":"INDEX(Database!E635:AW635,'Graph of One Series'!$O$2)/G636","v":795}]
[null,null,null,{"$f":"Database!D636","v":"2008-05-01"},true,{"$f":"IF($O$4,CHOOSE($U$4,1,Database!AI636,Database!AJ636,Database!AP636),1)","v":1},1,"2008-05-01",{"$f":"INDEX(Database!E636:AW636,'Graph of One Series'!$O$2)/G637","v":879}]
[null,null,null,{"$f":"Database!D637","v":"2008-06-01"},true,{"$f":"IF($O$4,CHOOSE($U$4,1,Database!AI637,Database!AJ637,Database!AP637),1)","v":1},1,"2008-06-01",{"$f":"INDEX(Database!E637:AW637,'Graph of One Series'!$O$2)/G638","v":850}]
[null,null,null,{"$f":"Database!D638","v":"2008-07-01"},true,{"$f":"IF($O$4,CHOOSE($U$4,1,Database!AI638,Database!AJ638,Database!AP638),1)","v":1},1,"2008-07-01",{"$f":"INDEX(Database!E638:AW638,'Graph of One Series'!$O$2)/G639","v":831}]
[null,null,null,{"$f":"Database!D639","v":"2008-08-01"},true,{"$f":"IF($O$4,CHOOSE($U$4,1,Database!AI639,Database!AJ639,Database!AP639),1)","v":1},1,"2008-08-01",{"$f":"INDEX(Database!E639:AW639,'Graph of One Series'!$O$2)/G640","v":712}]
[null,null,null,{"$f":"Database!D640","v":"2008-09-01"},true,{"$f":"IF($O$4,CHOOSE($U$4,1,Database!AI640,Database!AJ640,Database!AP640),1)","v":1},1,"2008-09-01",{"$f":"INDEX(Database!E640:AW640,'Graph of One Series'!$O$2)/G641","v":820}]
[null,null,null,{"$f":"Database!D641","v":"2008-10-01"},true,{"$f":"IF($O$4,CHOOSE($U$4,1,Database!AI641,Database!AJ641,Database!AP641),1)","v":1},1,"2008-10-01",{"$f":"INDEX(Database!E641:AW641,'Graph of One Series'!$O$2)/G642","v":749}]
[null,null,null,{"$f":"Database!D642","v":"2008-11-01"},true,{"$f":"IF($O$4,CHOOSE($U$4,1,Database!AI642,Database!AJ642,Database!AP642),1)","v":1},1,"2008-11-01",{"$f":"INDEX(Database!E642:AW642,'Graph of One Series'!$O$2)/G643","v":754}]
[null,null,null,{"$f":"Database!D643","v":"2008-12-01"},true,{"$f":"IF($O$4,CHOOSE($U$4,1,Database!AI643,Database!AJ643,Database!AP643),1)","v":1},1,"2008-12-01",{"$f":"INDEX(Database!E643:AW643,'Graph of One Series'!$O$2)/G644","v":686}]
[null,null,null,{"$f":"Database!D644","v":"2009-01-01"},true,{"$f":"IF($O$4,CHOOSE($U$4,1,Database!AI644,Database!AJ644,Database!AP644),1)","v":1},1,"2009-01-01",{"$f":"INDEX(Database!E644:AW644,'Graph of One Series'!$O$2)/G645","v":566}]
[null,null,null,{"$f":"Database!D645","v":"2009-02-01"},true,{"$f":"IF($O$4,CHOOSE($U$4,1,Database!AI645,Database!AJ645,Database!AP645),1)","v":1},1,"2009-02-01",{"$f":"INDEX(Database!E645:AW645,'Graph of One Series'!$O$2)/G646","v":535}]
[null,null,null,{"$f":"Database!D646","v":"2009-03-01"},true,{"$f":"IF($O$4,CHOOSE($U$4,1,Database!AI646,Database!AJ646,Database!AP646),1)","v":1},1,"2009-03-01",{"$f":"INDEX(Database!E646:AW646,'Graph of One Series'!$O$2)/G647","v":545}]
[null,null,null,{"$f":"Database!D647","v":"2009-04-01"},true,{"$f":"IF($O$4,CHOOSE($U$4,1,Database!AI647,Database!AJ647,Database!AP647),1)","v":1},1,"2009-04-01",{"$f":"INDEX(Database!E647:AW647,'Graph of One Series'!$O$2)/G648","v":532}]
[null,null,null,{"$f":"Database!D648","v":"2009-05-01"},true,{"$f":"IF($O$4,CHOOSE($U$4,1,Database!AI648,Database!AJ648,Database!AP648),1)","v":1},{"$f":"F649/$G$5","v":1},{"$f":"IF(E649,D649,NA())","v":"2009-05-01"},{"$f":"INDEX(Database!E648:AW648,'Graph of One Series'!$O$2)/G649","v":492}]
[null,null,null,{"$f":"Database!D649","v":"2009-06-01"},{"$f":"AND($D650>=E$7,$D650<=E$8)","v":true},{"$f":"IF($O$4,CHOOSE($U$4,1,Database!AI649,Database!AJ649,Database!AP649),1)","v":1},1,"2009-06-01",{"$f":"INDEX(Database!E649:AW649,'Graph of One Series'!$O$2)/G650","v":507}]
[null,null,null,{"$f":"Database!D650","v":"2009-07-01"},true,{"$f":"IF($O$4,CHOOSE($U$4,1,Database!AI650,Database!AJ650,Database!AP650),1)","v":1},1,"2009-07-01",{"$f":"INDEX(Database!E650:AW650,'Graph of One Series'!$O$2)/G651","v":500}]
[null,null,null,{"$f":"Database!D651","v":"2009-08-01"},true,{"$f":"IF($O$4,CHOOSE($U$4,1,Database!AI651,Database!AJ651,Database!AP651),1)","v":1},1,"2009-08-01",{"$f":"INDEX(Database!E651:AW651,'Graph of One Series'!$O$2)/G652","v":517}]
[null,null,null,{"$f":"Database!D652","v":"2009-09-01"},true,{"$f":"IF($O$4,CHOOSE($U$4,1,Database!AI652,Database!AJ652,Database!AP652),1)","v":1},1,"2009-09-01",{"$f":"INDEX(Database!E652:AW652,'Graph of One Series'!$O$2)/G653","v":481}]
[null,null,null,{"$f":"Database!D653","v":"2009-10-01"},true,{"$f":"IF($O$4,CHOOSE($U$4,1,Database!AI653,Database!AJ653,Database!AP653),1)","v":1},1,"2009-10-01",{"$f":"INDEX(Database!E653:AW653,'Graph of One Series'!$O$2)/G654","v":526}]
[null,null,null,{"$f":"Database!D654","v":"2009-11-01"},true,{"$f":"IF($O$4,CHOOSE($U$4,1,Database!AI654,Database!AJ654,Database!AP654),1)","v":1},1,"2009-11-01",{"$f":"INDEX(Database!E654:AW654,'Graph of One Series'!$O$2)/G655","v":567}]
[null,null,null,{"$f":"Database!D655","v":"2009-12-01"},true,{"$f":"IF($O$4,CHOOSE($U$4,1,Database!AI655,Database!AJ655,Database!AP655),1)","v":1},1,"2009-12-01",{"$f":"INDEX(Database!E655:AW655,'Graph of One Series'!$O$2)/G656","v":493}]
[null,null,null,{"$f":"Database!D656","v":"2010-01-01"},true,{"$f":"IF($O$4,CHOOSE($U$4,1,Database!AI656,Database!AJ656,Database!AP656),1)","v":1},1,"2010-01-01",{"$f":"INDEX(Database!E656:AW656,'Graph of One Series'!$O$2)/G657","v":448}]
[null,null,null,{"$f":"Database!D657","v":"2010-02-01"},true,{"$f":"IF($O$4,CHOOSE($U$4,1,Database!AI657,Database!AJ657,Database!AP657),1)","v":1},1,"2010-02-01",{"$f":"INDEX(Database!E657:AW657,'Graph of One Series'!$O$2)/G658","v":456}]
[null,null,null,{"$f":"Database!D658","v":"2010-03-01"},true,{"$f":"IF($O$4,CHOOSE($U$4,1,Database!AI658,Database!AJ658,Database!AP658),1)","v":1},1,"2010-03-01",{"$f":"INDEX(Database!E658:AW658,'Graph of One Series'!$O$2)/G659","v":491}]
[null,null,null,{"$f":"Database!D659","v":"2010-04-01"},true,{"$f":"IF($O$4,CHOOSE($U$4,1,Database!AI659,Database!AJ659,Database!AP659),1)","v":1},1,"2010-04-01",{"$f":"INDEX(Database!E659:AW659,'Graph of One Series'!$O$2)/G660","v":556}]
[null,null,null,{"$f":"Database!D660","v":"2010-05-01"},true,{"$f":"IF($O$4,CHOOSE($U$4,1,Database!AI660,Database!AJ660,Database!AP660),1)","v":1},1,"2010-05-01",{"$f":"INDEX(Database!E660:AW660,'Graph of One Series'!$O$2)/G661","v":518}]
[null,null,null,{"$f":"Database!D661","v":"2010-06-01"},true,{"$f":"IF($O$4,CHOOSE($U$4,1,Database!AI661,Database!AJ661,Database!AP661),1)","v":1},1,"2010-06-01",{"$f":"INDEX(Database!E661:AW661,'Graph of One Series'!$O$2)/G662","v":684}]
[null,null,null,{"$f":"Database!D662","v":"2010-07-01"},true,{"$f":"IF($O$4,CHOOSE($U$4,1,Database!AI662,Database!AJ662,Database!AP662),1)","v":1},1,"2010-07-01",{"$f":"INDEX(Database!E662:AW662,'Graph of One Series'!$O$2)/G663","v":470}]
[null,null,null,{"$f":"Database!D663","v":"2010-08-01"},true,{"$f":"IF($O$4,CHOOSE($U$4,1,Database!AI663,Database!AJ663,Database!AP663),1)","v":1},1,"2010-08-01",{"$f":"INDEX(Database!E663:AW663,'Graph of One Series'!$O$2)/G664","v":473}]
[null,null,null,{"$f":"Database!D664","v":"2010-09-01"},true,{"$f":"IF($O$4,CHOOSE($U$4,1,Database!AI664,Database!AJ664,Database!AP664),1)","v":1},1,"2010-09-01",{"$f":"INDEX(Database!E664:AW664,'Graph of One Series'!$O$2)/G665","v":484}]
[null,null,null,{"$f":"Database!D665","v":"2010-10-01"},true,{"$f":"IF($O$4,CHOOSE($U$4,1,Database!AI665,Database!AJ665,Database!AP665),1)","v":1},1,"2010-10-01",{"$f":"INDEX(Database!E665:AW665,'Graph of One Series'!$O$2)/G666","v":479}]
[null,null,null,{"$f":"Database!D666","v":"2010-11-01"},true,{"$f":"IF($O$4,CHOOSE($U$4,1,Database!AI666,Database!AJ666,Database!AP666),1)","v":1},1,"2010-11-01",{"$f":"INDEX(Database!E666:AW666,'Graph of One Series'!$O$2)/G667","v":432}]
[null,null,null,{"$f":"Database!D667","v":"2010-12-01"},true,{"$f":"IF($O$4,CHOOSE($U$4,1,Database!AI667,Database!AJ667,Database!AP667),1)","v":1},1,"2010-12-01",{"$f":"INDEX(Database!E667:AW667,'Graph of One Series'!$O$2)/G668","v":454}]
[null,null,null,{"$f":"Database!D668","v":"2011-01-01"},true,{"$f":"IF($O$4,CHOOSE($U$4,1,Database!AI668,Database!AJ668,Database!AP668),1)","v":1},1,"2011-01-01",{"$f":"INDEX(Database!E668:AW668,'Graph of One Series'!$O$2)/G669","v":423}]
[null,null,null,{"$f":"Database!D669","v":"2011-02-01"},true,{"$f":"IF($O$4,CHOOSE($U$4,1,Database!AI669,Database!AJ669,Database!AP669),1)","v":1},1,"2011-02-01",{"$f":"INDEX(Database!E669:AW669,'Graph of One Series'!$O$2)/G670","v":481}]
[null,null,null,{"$f":"Database!D670","v":"2011-03-01"},true,{"$f":"IF($O$4,CHOOSE($U$4,1,Database!AI670,Database!AJ670,Database!AP670),1)","v":1},1,"2011-03-01",{"$f":"INDEX(Database!E670:AW670,'Graph of One Series'!$O$2)/G671","v":368}]
[null,null,null,{"$f":"Database!D671","v":"2011-04-01"},true,{"$f":"IF($O$4,CHOOSE($U$4,1,Database!AI671,Database!AJ671,Database!AP671),1)","v":1},1,"2011-04-01",{"$f":"INDEX(Database!E671:AW671,'Graph of One Series'!$O$2)/G672","v":433}]
[null,null,null,{"$f":"Database!D672","v":"2011-05-01"},true,{"$f":"IF($O$4,CHOOSE($U$4,1,Database!AI672,Database!AJ672,Database!AP672),1)","v":1},1,"2011-05-01",{"$f":"INDEX(Database!E672:AW672,'Graph of One Series'!$O$2)/G673","v":443}]
[null,null,null,{"$f":"Database!D673","v":"2011-06-01"},true,{"$f":"IF($O$4,CHOOSE($U$4,1,Database!AI673,Database!AJ673,Database!AP673),1)","v":1},1,"2011-06-01",{"$f":"INDEX(Database!E673:AW673,'Graph of One Series'!$O$2)/G674","v":453}]
[null,null,null,{"$f":"Database!D674","v":"2011-07-01"},true,{"$f":"IF($O$4,CHOOSE($U$4,1,Database!AI674,Database!AJ674,Database!AP674),1)","v":1},1,"2011-07-01",{"$f":"INDEX(Database!E674:AW674,'Graph of One Series'!$O$2)/G675","v":488}]
[null,null,null,{"$f":"Database!D675","v":"2011-08-01"},true,{"$f":"IF($O$4,CHOOSE($U$4,1,Database!AI675,Database!AJ675,Database!AP675),1)","v":1},1,"2011-08-01",{"$f":"INDEX(Database!E675:AW675,'Graph of One Series'!$O$2)/G676","v":479}]
[null,null,null,{"$f":"Database!D676","v":"2011-09-01"},true,{"$f":"IF($O$4,CHOOSE($U$4,1,Database!AI676,Database!AJ676,Database!AP676),1)","v":1},1,"2011-09-01",{"$f":"INDEX(Database!E676:AW676,'Graph of One Series'!$O$2)/G677","v":426}]
[null,null,null,{"$f":"Database!D677","v":"2011-10-01"},true,{"$f":"IF($O$4,CHOOSE($U$4,1,Database!AI677,Database!AJ677,Database!AP677),1)","v":1},1,"2011-10-01",{"$f":"INDEX(Database!E677:AW677,'Graph of One Series'!$O$2)/G678","v":438}]
[null,null,null,{"$f":"Database!D678","v":"2011-11-01"},true,{"$f":"IF($O$4,CHOOSE($U$4,1,Database!AI678,Database!AJ678,Database!AP678),1)","v":1},1,"2011-11-01",{"$f":"INDEX(Database!E678:AW678,'Graph of One Series'!$O$2)/G679","v":462}]
[null,null,null,{"$f":"Database!D679","v":"2011-12-01"},true,{"$f":"IF($O$4,CHOOSE($U$4,1,Database!AI679,Database!AJ679,Database!AP679),1)","v":1},1,"2011-12-01",{"$f":"INDEX(Database!E679:AW679,'Graph of One Series'!$O$2)/G680","v":462}]
[null,null,null,{"$f":"Database!D680","v":"2012-01-01"},true,{"$f":"IF($O$4,CHOOSE($U$4,1,Database!AI680,Database!AJ680,Database!AP680),1)","v":1},1,"2012-01-01",{"$f":"INDEX(Database!E680:AW680,'Graph of One Series'!$O$2)/G681","v":392}]
[null,null,null,{"$f":"Database!D681","v":"2012-02-01"},true,{"$f":"IF($O$4,CHOOSE($U$4,1,Database!AI681,Database!AJ681,Database!AP681),1)","v":1},1,"2012-02-01",{"$f":"INDEX(Database!E681:AW681,'Graph of One Series'!$O$2)/G682","v":421}]
[null,null,null,{"$f":"Database!D682","v":"2012-03-01"},true,{"$f":"IF($O$4,CHOOSE($U$4,1,Database!AI682,Database!AJ682,Database!AP682),1)","v":1},1,"2012-03-01",{"$f":"INDEX(Database!E682:AW682,'Graph of One Series'!$O$2)/G683","v":434}]
[null,null,null,{"$f":"Database!D683","v":"2012-04-01"},true,{"$f":"IF($O$4,CHOOSE($U$4,1,Database!AI683,Database!AJ683,Database!AP683),1)","v":1},1,"2012-04-01",{"$f":"INDEX(Database!E683:AW683,'Graph of One Series'!$O$2)/G684","v":494}]
[null,null,null,{"$f":"Database!D684","v":"2012-05-01"},true,{"$f":"IF($O$4,CHOOSE($U$4,1,Database!AI684,Database!AJ684,Database!AP684),1)","v":1},1,"2012-05-01",{"$f":"INDEX(Database!E684:AW684,'Graph of One Series'!$O$2)/G685","v":475}]
[null,null,null,{"$f":"Database!D685","v":"2012-06-01"},true,{"$f":"IF($O$4,CHOOSE($U$4,1,Database!AI685,Database!AJ685,Database!AP685),1)","v":1},1,"2012-06-01",{"$f":"INDEX(Database!E685:AW685,'Graph of One Series'!$O$2)/G686","v":482}]
[null,null,null,{"$f":"Database!D686","v":"2012-07-01"},true,{"$f":"IF($O$4,CHOOSE($U$4,1,Database!AI686,Database!AJ686,Database!AP686),1)","v":1},1,"2012-07-01",{"$f":"INDEX(Database!E686:AW686,'Graph of One Series'!$O$2)/G687","v":474}]
[null,null,null,{"$f":"Database!D687","v":"2012-08-01"},true,{"$f":"IF($O$4,CHOOSE($U$4,1,Database!AI687,Database!AJ687,Database!AP687),1)","v":1},1,"2012-08-01",{"$f":"INDEX(Database!E687:AW687,'Graph of One Series'!$O$2)/G688","v":492}]
[null,null,null,{"$f":"Database!D688","v":"2012-09-01"},true,{"$f":"IF($O$4,CHOOSE($U$4,1,Database!AI688,Database!AJ688,Database!AP688),1)","v":1},1,"2012-09-01",{"$f":"INDEX(Database!E688:AW688,'Graph of One Series'!$O$2)/G689","v":512}]
[null,null,null,{"$f":"Database!D689","v":"2012-10-01"},true,{"$f":"IF($O$4,CHOOSE($U$4,1,Database!AI689,Database!AJ689,Database!AP689),1)","v":1},1,"2012-10-01",{"$f":"INDEX(Database!E689:AW689,'Graph of One Series'!$O$2)/G690","v":525}]
[null,null,null,{"$f":"Database!D690","v":"2012-11-01"},true,{"$f":"IF($O$4,CHOOSE($U$4,1,Database!AI690,Database!AJ690,Database!AP690),1)","v":1},1,"2012-11-01",{"$f":"INDEX(Database!E690:AW690,'Graph of One Series'!$O$2)/G691","v":513}]
[null,null,null,{"$f":"Database!D691","v":"2012-12-01"},true,{"$f":"IF($O$4,CHOOSE($U$4,1,Database!AI691,Database!AJ691,Database!AP691),1)","v":1},1,"2012-12-01",{"$f":"INDEX(Database!E691:AW691,'Graph of One Series'!$O$2)/G692","v":525}]
[null,null,null,{"$f":"Database!D692","v":"2013-01-01"},true,{"$f":"IF($O$4,CHOOSE($U$4,1,Database!AI692,Database!AJ692,Database!AP692),1)","v":1},1,"2013-01-01",{"$f":"INDEX(Database!E692:AW692,'Graph of One Series'!$O$2)/G693","v":557}]
[null,null,null,{"$f":"Database!D693","v":"2013-02-01"},true,{"$f":"IF($O$4,CHOOSE($U$4,1,Database!AI693,Database!AJ693,Database!AP693),1)","v":1},1,"2013-02-01",{"$f":"INDEX(Database!E693:AW693,'Graph of One Series'!$O$2)/G694","v":569}]
[null,null,null,{"$f":"Database!D694","v":"2013-03-01"},true,{"$f":"IF($O$4,CHOOSE($U$4,1,Database!AI694,Database!AJ694,Database!AP694),1)","v":1},1,"2013-03-01",{"$f":"INDEX(Database!E694:AW694,'Graph of One Series'!$O$2)/G695","v":591}]
[null,null,null,{"$f":"Database!D695","v":"2013-04-01"},true,{"$f":"IF($O$4,CHOOSE($U$4,1,Database!AI695,Database!AJ695,Database!AP695),1)","v":1},1,"2013-04-01",{"$f":"INDEX(Database!E695:AW695,'Graph of One Series'!$O$2)/G696","v":529}]
[null,null,null,{"$f":"Database!D696","v":"2013-05-01"},true,{"$f":"IF($O$4,CHOOSE($U$4,1,Database!AI696,Database!AJ696,Database!AP696),1)","v":1},1,"2013-05-01",{"$f":"INDEX(Database!E696:AW696,'Graph of One Series'!$O$2)/G697","v":560}]
[null,null,null,{"$f":"Database!D697","v":"2013-06-01"},true,{"$f":"IF($O$4,CHOOSE($U$4,1,Database!AI697,Database!AJ697,Database!AP697),1)","v":1},1,"2013-06-01",{"$f":"INDEX(Database!E697:AW697,'Graph of One Series'!$O$2)/G698","v":541}]
[null,null,null,{"$f":"Database!D698","v":"2013-07-01"},true,{"$f":"IF($O$4,CHOOSE($U$4,1,Database!AI698,Database!AJ698,Database!AP698),1)","v":1},1,"2013-07-01",{"$f":"INDEX(Database!E698:AW698,'Graph of One Series'!$O$2)/G699","v":579}]
[null,null,null,{"$f":"Database!D699","v":"2013-08-01"},true,{"$f":"IF($O$4,CHOOSE($U$4,1,Database!AI699,Database!AJ699,Database!AP699),1)","v":1},1,"2013-08-01",{"$f":"INDEX(Database!E699:AW699,'Graph of One Series'!$O$2)/G700","v":569}]
[null,null,null,{"$f":"Database!D700","v":"2013-09-01"},true,{"$f":"IF($O$4,CHOOSE($U$4,1,Database!AI700,Database!AJ700,Database!AP700),1)","v":1},1,"2013-09-01",{"$f":"INDEX(Database!E700:AW700,'Graph of One Series'!$O$2)/G701","v":563}]
[null,null,null,{"$f":"Database!D701","v":"2013-10-01"},true,{"$f":"IF($O$4,CHOOSE($U$4,1,Database!AI701,Database!AJ701,Database!AP701),1)","v":1},1,"2013-10-01",{"$f":"INDEX(Database!E701:AW701,'Graph of One Series'!$O$2)/G702","v":604}]
[null,null,null,{"$f":"Database!D702","v":"2013-11-01"},true,{"$f":"IF($O$4,CHOOSE($U$4,1,Database!AI702,Database!AJ702,Database!AP702),1)","v":1},1,"2013-11-01",{"$f":"INDEX(Database!E702:AW702,'Graph of One Series'!$O$2)/G703","v":593}]
[null,null,null,{"$f":"Database!D703","v":"2013-12-01"},true,{"$f":"IF($O$4,CHOOSE($U$4,1,Database!AI703,Database!AJ703,Database!AP703),1)","v":1},1,"2013-12-01",{"$f":"INDEX(Database!E703:AW703,'Graph of One Series'!$O$2)/G704","v":568}]
[null,null,null,{"$f":"Database!D704","v":"2014-01-01"},true,{"$f":"IF($O$4,CHOOSE($U$4,1,Database!AI704,Database!AJ704,Database!AP704),1)","v":1},1,"2014-01-01",{"$f":"INDEX(Database!E704:AW704,'Graph of One Series'!$O$2)/G705","v":609}]
[null,null,null,{"$f":"Database!D705","v":"2014-02-01"},true,{"$f":"IF($O$4,CHOOSE($U$4,1,Database!AI705,Database!AJ705,Database!AP705),1)","v":1},1,"2014-02-01",{"$f":"INDEX(Database!E705:AW705,'Graph of One Series'!$O$2)/G706","v":617}]
[null,null,null,{"$f":"Database!D706","v":"2014-03-01"},true,{"$f":"IF($O$4,CHOOSE($U$4,1,Database!AI706,Database!AJ706,Database!AP706),1)","v":1},1,"2014-03-01",{"$f":"INDEX(Database!E706:AW706,'Graph of One Series'!$O$2)/G707","v":614}]
[null,null,null,{"$f":"Database!D707","v":"2014-04-01"},true,{"$f":"IF($O$4,CHOOSE($U$4,1,Database!AI707,Database!AJ707,Database!AP707),1)","v":1},1,"2014-04-01",{"$f":"INDEX(Database!E707:AW707,'Graph of One Series'!$O$2)/G708","v":606}]
[null,null,null,{"$f":"Database!D708","v":"2014-05-01"},true,{"$f":"IF($O$4,CHOOSE($U$4,1,Database!AI708,Database!AJ708,Database!AP708),1)","v":1},1,"2014-05-01",{"$f":"INDEX(Database!E708:AW708,'Graph of One Series'!$O$2)/G709","v":628}]
[null,null,null,{"$f":"Database!D709","v":"2014-06-01"},true,{"$f":"IF($O$4,CHOOSE($U$4,1,Database!AI709,Database!AJ709,Database!AP709),1)","v":1},1,"2014-06-01",{"$f":"INDEX(Database!E709:AW709,'Graph of One Series'!$O$2)/G710","v":591}]
[null,null,null,{"$f":"Database!D710","v":"2014-07-01"},true,{"$f":"IF($O$4,CHOOSE($U$4,1,Database!AI710,Database!AJ710,Database!AP710),1)","v":1},1,"2014-07-01",{"$f":"INDEX(Database!E710:AW710,'Graph of One Series'!$O$2)/G711","v":631}]
[null,null,null,{"$f":"Database!D711","v":"2014-08-01"},true,{"$f":"IF($O$4,CHOOSE($U$4,1,Database!AI711,Database!AJ711,Database!AP711),1)","v":1},1,"2014-08-01",{"$f":"INDEX(Database!E711:AW711,'Graph of One Series'!$O$2)/G712","v":611}]
[null,null,null,{"$f":"Database!D712","v":"2014-09-01"},true,{"$f":"IF($O$4,CHOOSE($U$4,1,Database!AI712,Database!AJ712,Database!AP712),1)","v":1},{"$f":"F713/$G$5","v":1},{"$f":"IF(E713,D713,NA())","v":"2014-09-01"},{"$f":"INDEX(Database!E712:AW712,'Graph of One Series'!$O$2)/G713","v":627}]
[null,null,null,{"$f":"Database!D713","v":"2014-10-01"},{"$f":"AND($D714>=E$7,$D714<=E$8)","v":true},{"$f":"IF($O$4,CHOOSE($U$4,1,Database!AI713,Database!AJ713,Database!AP713),1)","v":1},1,"2014-10-01",{"$f":"INDEX(Database!E713:AW713,'Graph of One Series'!$O$2)/G714","v":614}]
[null,null,null,{"$f":"Database!D714","v":"2014-11-01"},true,{"$f":"IF($O$4,CHOOSE($U$4,1,Database!AI714,Database!AJ714,Database!AP714),1)","v":1},1,"2014-11-01",{"$f":"INDEX(Database!E714:AW714,'Graph of One Series'!$O$2)/G715","v":613}]
[null,null,null,{"$f":"Database!D715","v":"2014-12-01"},true,{"$f":"IF($O$4,CHOOSE($U$4,1,Database!AI715,Database!AJ715,Database!AP715),1)","v":1},1,"2014-12-01",{"$f":"INDEX(Database!E715:AW715,'Graph of One Series'!$O$2)/G716","v":667}]
[null,null,null,{"$f":"Database!D716","v":"2015-01-01"},true,{"$f":"IF($O$4,CHOOSE($U$4,1,Database!AI716,Database!AJ716,Database!AP716),1)","v":1},1,"2015-01-01",{"$f":"INDEX(Database!E716:AW716,'Graph of One Series'!$O$2)/G717","v":674}]
[null,null,null,{"$f":"Database!D717","v":"2015-02-01"},true,{"$f":"IF($O$4,CHOOSE($U$4,1,Database!AI717,Database!AJ717,Database!AP717),1)","v":1},1,"2015-02-01",{"$f":"INDEX(Database!E717:AW717,'Graph of One Series'!$O$2)/G718","v":597}]
[null,null,null,{"$f":"Database!D718","v":"2015-03-01"},true,{"$f":"IF($O$4,CHOOSE($U$4,1,Database!AI718,Database!AJ718,Database!AP718),1)","v":1},1,"2015-03-01",{"$f":"INDEX(Database!E718:AW718,'Graph of One Series'!$O$2)/G719","v":602}]
[null,null,null,{"$f":"Database!D719","v":"2015-04-01"},true,{"$f":"IF($O$4,CHOOSE($U$4,1,Database!AI719,Database!AJ719,Database!AP719),1)","v":1},1,"2015-04-01",{"$f":"INDEX(Database!E719:AW719,'Graph of One Series'!$O$2)/G720","v":602}]
[null,null,null,{"$f":"Database!D720","v":"2015-05-01"},false,{"$f":"IF($O$4,CHOOSE($U$4,1,Database!AI720,Database!AJ720,Database!AP720),1)","v":1},1,{"$error":"#N/A"},{"$f":"INDEX(Database!E720:AW720,'Graph of One Series'!$O$2)/G721","v":602}]
[null,null,null,{"$f":"Database!D721","v":"2015-06-01"},false,{"$f":"IF($O$4,CHOOSE($U$4,1,Database!AI721,Database!AJ721,Database!AP721),1)","v":1},1,{"$error":"#N/A"},{"$f":"INDEX(Database!E721:AW721,'Graph of One Series'!$O$2)/G722","v":602}]
[null,null,null,{"$f":"Database!D722","v":"2015-07-01"},false,{"$f":"IF($O$4,CHOOSE($U$4,1,Database!AI722,Database!AJ722,Database!AP722),1)","v":1},1,{"$error":"#N/A"},{"$f":"INDEX(Database!E722:AW722,'Graph of One Series'!$O$2)/G723","v":602}]
[null,null,null,{"$f":"Database!D723","v":"2015-08-01"},false,{"$f":"IF($O$4,CHOOSE($U$4,1,Database!AI723,Database!AJ723,Database!AP723),1)","v":1},1,{"$error":"#N/A"},{"$f":"INDEX(Database!E723:AW723,'Graph of One Series'!$O$2)/G724","v":602}]
[null,null,null,{"$f":"Database!D724","v":"2015-09-01"},false,{"$f":"IF($O$4,CHOOSE($U$4,1,Database!AI724,Database!AJ724,Database!AP724),1)","v":1},1,{"$error":"#N/A"},{"$f":"INDEX(Database!E724:AW724,'Graph of One Series'!$O$2)/G725","v":602}]
[null,null,null,{"$f":"Database!D725","v":"2015-10-01"},false,{"$f":"IF($O$4,CHOOSE($U$4,1,Database!AI725,Database!AJ725,Database!AP725),1)","v":1},1,{"$error":"#N/A"},{"$f":"INDEX(Database!E725:AW725,'Graph of One Series'!$O$2)/G726","v":602}]
[null,null,null,{"$f":"Database!D726","v":"2015-11-01"},false,{"$f":"IF($O$4,CHOOSE($U$4,1,Database!AI726,Database!AJ726,Database!AP726),1)","v":1},1,{"$error":"#N/A"},{"$f":"INDEX(Database!E726:AW726,'Graph of One Series'!$O$2)/G727","v":602}]
[null,null,null,{"$f":"Database!D727","v":"2015-12-01"},false,{"$f":"IF($O$4,CHOOSE($U$4,1,Database!AI727,Database!AJ727,Database!AP727),1)","v":1},1,{"$error":"#N/A"},{"$f":"INDEX(Database!E727:AW727,'Graph of One Series'!$O$2)/G728","v":602}]
[null,null,null,{"$f":"Database!D728","v":"2016-01-01"},false,{"$f":"IF($O$4,CHOOSE($U$4,1,Database!AI728,Database!AJ728,Database!AP728),1)","v":1},1,{"$error":"#N/A"},{"$f":"INDEX(Database!E728:AW728,'Graph of One Series'!$O$2)/G729","v":602}]
[null,null,null,{"$f":"Database!D729","v":"2016-02-01"},false,{"$f":"IF($O$4,CHOOSE($U$4,1,Database!AI729,Database!AJ729,Database!AP729),1)","v":1},1,{"$error":"#N/A"},{"$f":"INDEX(Database!E729:AW729,'Graph of One Series'!$O$2)/G730","v":602}]
[null,null,null,{"$f":"Database!D730","v":"2016-03-01"},false,{"$f":"IF($O$4,CHOOSE($U$4,1,Database!AI730,Database!AJ730,Database!AP730),1)","v":1},1,{"$error":"#N/A"},{"$f":"INDEX(Database!E730:AW730,'Graph of One Series'!$O$2)/G731","v":602}]
[null,null,null,{"$f":"Database!D731","v":"2016-04-01"},false,{"$f":"IF($O$4,CHOOSE($U$4,1,Database!AI731,Database!AJ731,Database!AP731),1)","v":1},1,{"$error":"#N/A"},{"$f":"INDEX(Database!E731:AW731,'Graph of One Series'!$O$2)/G732","v":602}]
[null,null,null,{"$f":"Database!D732","v":"2016-05-01"},false,{"$f":"IF($O$4,CHOOSE($U$4,1,Database!AI732,Database!AJ732,Database!AP732),1)","v":1},1,{"$error":"#N/A"},{"$f":"INDEX(Database!E732:AW732,'Graph of One Series'!$O$2)/G733","v":602}]
[null,null,null,{"$f":"Database!D733","v":"2016-06-01"},false,{"$f":"IF($O$4,CHOOSE($U$4,1,Database!AI733,Database!AJ733,Database!AP733),1)","v":1},1,{"$error":"#N/A"},{"$f":"INDEX(Database!E733:AW733,'Graph of One Series'!$O$2)/G734","v":602}]
[null,null,null,{"$f":"Database!D734","v":"2016-07-01"},false,{"$f":"IF($O$4,CHOOSE($U$4,1,Database!AI734,Database!AJ734,Database!AP734),1)","v":1},1,{"$error":"#N/A"},{"$f":"INDEX(Database!E734:AW734,'Graph of One Series'!$O$2)/G735","v":602}]
[null,null,null,{"$f":"Database!D735","v":"2016-08-01"},false,{"$f":"IF($O$4,CHOOSE($U$4,1,Database!AI735,Database!AJ735,Database!AP735),1)","v":1},1,{"$error":"#N/A"},{"$f":"INDEX(Database!E735:AW735,'Graph of One Series'!$O$2)/G736","v":602}]
[null,null,null,{"$f":"Database!D736","v":"2016-09-01"},false,{"$f":"IF($O$4,CHOOSE($U$4,1,Database!AI736,Database!AJ736,Database!AP736),1)","v":1},1,{"$error":"#N/A"},{"$f":"INDEX(Database!E736:AW736,'Graph of One Series'!$O$2)/G737","v":602}]
[null,null,null,{"$f":"Database!D737","v":"2016-10-01"},false,{"$f":"IF($O$4,CHOOSE($U$4,1,Database!AI737,Database!AJ737,Database!AP737),1)","v":1},1,{"$error":"#N/A"},{"$f":"INDEX(Database!E737:AW737,'Graph of One Series'!$O$2)/G738","v":602}]
[null,null,null,{"$f":"Database!D738","v":"2016-11-01"},false,{"$f":"IF($O$4,CHOOSE($U$4,1,Database!AI738,Database!AJ738,Database!AP738),1)","v":1},1,{"$error":"#N/A"},{"$f":"INDEX(Database!E738:AW738,'Graph of One Series'!$O$2)/G739","v":602}]
[null,null,null,{"$f":"Database!D739","v":"2016-12-01"},false,{"$f":"IF($O$4,CHOOSE($U$4,1,Database!AI739,Database!AJ739,Database!AP739),1)","v":1},1,{"$error":"#N/A"},{"$f":"INDEX(Database!E739:AW739,'Graph of One Series'!$O$2)/G740","v":602}]
[null,null,null,{"$f":"Database!D740","v":"2017-01-01"},false,{"$f":"IF($O$4,CHOOSE($U$4,1,Database!AI740,Database!AJ740,Database!AP740),1)","v":1},1,{"$error":"#N/A"},{"$f":"INDEX(Database!E740:AW740,'Graph of One Series'!$O$2)/G741","v":602}]
[null,null,null,{"$f":"Database!D741","v":"2017-02-01"},false,{"$f":"IF($O$4,CHOOSE($U$4,1,Database!AI741,Database!AJ741,Database!AP741),1)","v":1},1,{"$error":"#N/A"},{"$f":"INDEX(Database!E741:AW741,'Graph of One Series'!$O$2)/G742","v":602}]
[null,null,null,{"$f":"Database!D742","v":"2017-03-01"},false,{"$f":"IF($O$4,CHOOSE($U$4,1,Database!AI742,Database!AJ742,Database!AP742),1)","v":1},1,{"$error":"#N/A"},{"$f":"INDEX(Database!E742:AW742,'Graph of One Series'!$O$2)/G743","v":602}]
[null,null,null,{"$f":"Database!D743","v":"2017-04-01"},false,{"$f":"IF($O$4,CHOOSE($U$4,1,Database!AI743,Database!AJ743,Database!AP743),1)","v":1},1,{"$error":"#N/A"},{"$f":"INDEX(Database!E743:AW743,'Graph of One Series'!$O$2)/G744","v":602}]
[null,null,null,{"$f":"Database!D744","v":"2017-05-01"},false,{"$f":"IF($O$4,CHOOSE($U$4,1,Database!AI744,Database!AJ744,Database!AP744),1)","v":1},1,{"$error":"#N/A"},{"$f":"INDEX(Database!E744:AW744,'Graph of One Series'!$O$2)/G745","v":602}]
[null,null,null,{"$f":"Database!D745","v":"2017-06-01"},false,{"$f":"IF($O$4,CHOOSE($U$4,1,Database!AI745,Database!AJ745,Database!AP745),1)","v":1},1,{"$error":"#N/A"},{"$f":"INDEX(Database!E745:AW745,'Graph of One Series'!$O$2)/G746","v":602}]
[null,null,null,{"$f":"Database!D746","v":"2017-07-01"},false,{"$f":"IF($O$4,CHOOSE($U$4,1,Database!AI746,Database!AJ746,Database!AP746),1)","v":1},1,{"$error":"#N/A"},{"$f":"INDEX(Database!E746:AW746,'Graph of One Series'!$O$2)/G747","v":602}]
[null,null,null,{"$f":"Database!D747","v":"2017-08-01"},false,{"$f":"IF($O$4,CHOOSE($U$4,1,Database!AI747,Database!AJ747,Database!AP747),1)","v":1},1,{"$error":"#N/A"},{"$f":"INDEX(Database!E747:AW747,'Graph of One Series'!$O$2)/G748","v":602}]
[null,null,null,{"$f":"Database!D748","v":"2017-09-01"},false,{"$f":"IF($O$4,CHOOSE($U$4,1,Database!AI748,Database!AJ748,Database!AP748),1)","v":1},1,{"$error":"#N/A"},{"$f":"INDEX(Database!E748:AW748,'Graph of One Series'!$O$2)/G749","v":602}]
[null,null,null,{"$f":"Database!D749","v":"2017-10-01"},false,{"$f":"IF($O$4,CHOOSE($U$4,1,Database!AI749,Database!AJ749,Database!AP749),1)","v":1},1,{"$error":"#N/A"},{"$f":"INDEX(Database!E749:AW749,'Graph of One Series'!$O$2)/G750","v":602}]
[null,null,null,{"$f":"Database!D750","v":"2017-11-01"},false,{"$f":"IF($O$4,CHOOSE($U$4,1,Database!AI750,Database!AJ750,Database!AP750),1)","v":1},1,{"$error":"#N/A"},{"$f":"INDEX(Database!E750:AW750,'Graph of One Series'!$O$2)/G751","v":602}]
[null,null,null,{"$f":"Database!D751","v":"2017-12-01"},false,{"$f":"IF($O$4,CHOOSE($U$4,1,Database!AI751,Database!AJ751,Database!AP751),1)","v":1},1,{"$error":"#N/A"},{"$f":"INDEX(Database!E751:AW751,'Graph of One Series'!$O$2)/G752","v":602}]
[null,null,null,{"$f":"Database!D752","v":"2018-01-01"},false,{"$f":"IF($O$4,CHOOSE($U$4,1,Database!AI752,Database!AJ752,Database!AP752),1)","v":1},1,{"$error":"#N/A"},{"$f":"INDEX(Database!E752:AW752,'Graph of One Series'!$O$2)/G753","v":602}]
[null,null,null,{"$f":"Database!D753","v":"2018-02-01"},false,{"$f":"IF($O$4,CHOOSE($U$4,1,Database!AI753,Database!AJ753,Database!AP753),1)","v":1},1,{"$error":"#N/A"},{"$f":"INDEX(Database!E753:AW753,'Graph of One Series'!$O$2)/G754","v":602}]
[null,null,null,{"$f":"Database!D754","v":"2018-03-01"},false,{"$f":"IF($O$4,CHOOSE($U$4,1,Database!AI754,Database!AJ754,Database!AP754),1)","v":1},1,{"$error":"#N/A"},{"$f":"INDEX(Database!E754:AW754,'Graph of One Series'!$O$2)/G755","v":602}]
[null,null,null,{"$f":"Database!D755","v":"2018-04-01"},false,{"$f":"IF($O$4,CHOOSE($U$4,1,Database!AI755,Database!AJ755,Database!AP755),1)","v":1},1,{"$error":"#N/A"},{"$f":"INDEX(Database!E755:AW755,'Graph of One Series'!$O$2)/G756","v":602}]
[null,null,null,{"$f":"Database!D756","v":"2018-05-01"},false,{"$f":"IF($O$4,CHOOSE($U$4,1,Database!AI756,Database!AJ756,Database!AP756),1)","v":1},1,{"$error":"#N/A"},{"$f":"INDEX(Database!E756:AW756,'Graph of One Series'!$O$2)/G757","v":602}]
[null,null,null,{"$f":"Database!D757","v":"2018-06-01"},false,{"$f":"IF($O$4,CHOOSE($U$4,1,Database!AI757,Database!AJ757,Database!AP757),1)","v":1},1,{"$error":"#N/A"},{"$f":"INDEX(Database!E757:AW757,'Graph of One Series'!$O$2)/G758","v":602}]
[null,null,null,{"$f":"Database!D758","v":"2018-07-01"},false,{"$f":"IF($O$4,CHOOSE($U$4,1,Database!AI758,Database!AJ758,Database!AP758),1)","v":1},1,{"$error":"#N/A"},{"$f":"INDEX(Database!E758:AW758,'Graph of One Series'!$O$2)/G759","v":602}]
[null,null,null,{"$f":"Database!D759","v":"00:00:00"},false,{"$f":"IF($O$4,CHOOSE($U$4,1,Database!AI759,Database!AJ759,Database!AP759),1)","v":1},1,{"$error":"#N/A"},{"$f":"INDEX(Database!E759:AW759,'Graph of One Series'!$O$2)/G760","v":0}]
[null,null,null,{"$f":"Database!D760","v":"00:00:00"},false,{"$f":"IF($O$4,CHOOSE($U$4,1,Database!AI760,Database!AJ760,Database!AP760),1)","v":1},1,{"$error":"#N/A"},{"$f":"INDEX(Database!E760:AW760,'Graph of One Series'!$O$2)/G761","v":0}]
[null,null,null,{"$f":"Database!D761","v":"00:00:00"},false,{"$f":"IF($O$4,CHOOSE($U$4,1,Database!AI761,Database!AJ761,Database!AP761),1)","v":1},1,{"$error":"#N/A"},{"$f":"INDEX(Database!E761:AW761,'Graph of One Series'!$O$2)/G762","v":0}]
[null,null,null,{"$f":"Database!D762","v":"00:00:00"},false,{"$f":"IF($O$4,CHOOSE($U$4,1,Database!AI762,Database!AJ762,Database!AP762),1)","v":1},1,{"$error":"#N/A"},{"$f":"INDEX(Database!E762:AW762,'Graph of One Series'!$O$2)/G763","v":0}]
[null,null,null,{"$f":"Database!D763","v":"00:00:00"},false,{"$f":"IF($O$4,CHOOSE($U$4,1,Database!AI763,Database!AJ763,Database!AP763),1)","v":1},1,{"$error":"#N/A"},{"$f":"INDEX(Database!E763:AW763,'Graph of One Series'!$O$2)/G764","v":0}]
[null,null,null,{"$f":"Database!D764","v":"00:00:00"},false,{"$f":"IF($O$4,CHOOSE($U$4,1,Database!AI764,Database!AJ764,Database!AP764),1)","v":1},1,{"$error":"#N/A"},{"$f":"INDEX(Database!E764:AW764,'Graph of One Series'!$O$2)/G765","v":0}]
[null,null,null,{"$f":"Database!D765","v":"00:00:00"},false,{"$f":"IF($O$4,CHOOSE($U$4,1,Database!AI765,Database!AJ765,Database!AP765),1)","v":1},1,{"$error":"#N/A"},{"$f":"INDEX(Database!E765:AW765,'Graph of One Series'!$O$2)/G766","v":0}]
[null,null,null,{"$f":"Database!D766","v":"00:00:00"},false,{"$f":"IF($O$4,CHOOSE($U$4,1,Database!AI766,Database!AJ766,Database!AP766),1)","v":1},1,{"$error":"#N/A"},{"$f":"INDEX(Database!E766:AW766,'Graph of One Series'!$O$2)/G767","v":0}]
[null,null,null,{"$f":"Database!D767","v":"00:00:00"},false,{"$f":"IF($O$4,CHOOSE($U$4,1,Database!AI767,Database!AJ767,Database!AP767),1)","v":1},1,{"$error":"#N/A"},{"$f":"INDEX(Database!E767:AW767,'Graph of One Series'!$O$2)/G768","v":0}]
[null,null,null,{"$f":"Database!D768","v":"00:00:00"},false,{"$f":"IF($O$4,CHOOSE($U$4,1,Database!AI768,Database!AJ768,Database!AP768),1)","v":1},1,{"$error":"#N/A"},{"$f":"INDEX(Database!E768:AW768,'Graph of One Series'!$O$2)/G769","v":0}]
[null,null,null,{"$f":"Database!D769","v":"00:00:00"},false,{"$f":"IF($O$4,CHOOSE($U$4,1,Database!AI769,Database!AJ769,Database!AP769),1)","v":1},1,{"$error":"#N/A"},{"$f":"INDEX(Database!E769:AW769,'Graph of One Series'!$O$2)/G770","v":0}]
[null,null,null,{"$f":"Database!D770","v":"00:00:00"},false,{"$f":"IF($O$4,CHOOSE($U$4,1,Database!AI770,Database!AJ770,Database!AP770),1)","v":1},1,{"$error":"#N/A"},{"$f":"INDEX(Database!E770:AW770,'Graph of One Series'!$O$2)/G771","v":0}]
[null,null,null,{"$f":"Database!D771","v":"00:00:00"},false,{"$f":"IF($O$4,CHOOSE($U$4,1,Database!AI771,Database!AJ771,Database!AP771),1)","v":1},1,{"$error":"#N/A"},{"$f":"INDEX(Database!E771:AW771,'Graph of One Series'!$O$2)/G772","v":0}]
[null,null,null,{"$f":"Database!D772","v":"00:00:00"},false,{"$f":"IF($O$4,CHOOSE($U$4,1,Database!AI772,Database!AJ772,Database!AP772),1)","v":1},1,{"$error":"#N/A"},{"$f":"INDEX(Database!E772:AW772,'Graph of One Series'!$O$2)/G773","v":0}]
[null,null,null,{"$f":"Database!D773","v":"00:00:00"},false,{"$f":"IF($O$4,CHOOSE($U$4,1,Database!AI773,Database!AJ773,Database!AP773),1)","v":1},1,{"$error":"#N/A"},{"$f":"INDEX(Database!E773:AW773,'Graph of One Series'!$O$2)/G774","v":0}]
[null,null,null,{"$f":"Database!D774","v":"00:00:00"},false,{"$f":"IF($O$4,CHOOSE($U$4,1,Database!AI774,Database!AJ774,Database!AP774),1)","v":1},1,{"$error":"#N/A"},{"$f":"INDEX(Database!E774:AW774,'Graph of One Series'!$O$2)/G775","v":0}]
[null,null,null,{"$f":"Database!D775","v":"00:00:00"},false,{"$f":"IF($O$4,CHOOSE($U$4,1,Database!AI775,Database!AJ775,Database!AP775),1)","v":1},1,{"$error":"#N/A"},{"$f":"INDEX(Database!E775:AW775,'Graph of One Series'!$O$2)/G776","v":0}]
[null,null,null,{"$f":"Database!D776","v":"00:00:00"},false,{"$f":"IF($O$4,CHOOSE($U$4,1,Database!AI776,Database!AJ776,Database!AP776),1)","v":1},{"$f":"F777/$G$5","v":1},{"$f":"IF(E777,D777,NA())","v":{"$error":"#N/A"}},{"$f":"INDEX(Database!E776:AW776,'Graph of One Series'!$O$2)/G777","v":0}]
[null,null,null,{"$f":"Database!D777","v":"00:00:00"},{"$f":"AND($D778>=E$7,$D778<=E$8)","v":false},{"$f":"IF($O$4,CHOOSE($U$4,1,Database!AI777,Database!AJ777,Database!AP777),1)","v":1},1,{"$error":"#N/A"},{"$f":"INDEX(Database!E777:AW777,'Graph of One Series'!$O$2)/G778","v":0}]
[null,null,null,{"$f":"Database!D778","v":"00:00:00"},false,{"$f":"IF($O$4,CHOOSE($U$4,1,Database!AI778,Database!AJ778,Database!AP778),1)","v":1},1,{"$error":"#N/A"},{"$f":"INDEX(Database!E778:AW778,'Graph of One Series'!$O$2)/G779","v":0}]
[null,null,null,{"$f":"Database!D779","v":"00:00:00"},false,{"$f":"IF($O$4,CHOOSE($U$4,1,Database!AI779,Database!AJ779,Database!AP779),1)","v":1},1,{"$error":"#N/A"},{"$f":"INDEX(Database!E779:AW779,'Graph of One Series'!$O$2)/G780","v":0}]
[null,null,null,{"$f":"Database!D780","v":"00:00:00"},false,{"$f":"IF($O$4,CHOOSE($U$4,1,Database!AI780,Database!AJ780,Database!AP780),1)","v":1},1,{"$error":"#N/A"},{"$f":"INDEX(Database!E780:AW780,'Graph of One Series'!$O$2)/G781","v":0}]
[null,null,null,{"$f":"Database!D781","v":"00:00:00"},false,{"$f":"IF($O$4,CHOOSE($U$4,1,Database!AI781,Database!AJ781,Database!AP781),1)","v":1},1,{"$error":"#N/A"},{"$f":"INDEX(Database!E781:AW781,'Graph of One Series'!$O$2)/G782","v":0}]
[null,null,null,{"$f":"Database!D782","v":"00:00:00"},false,{"$f":"IF($O$4,CHOOSE($U$4,1,Database!AI782,Database!AJ782,Database!AP782),1)","v":1},1,{"$error":"#N/A"},{"$f":"INDEX(Database!E782:AW782,'Graph of One Series'!$O$2)/G783","v":0}]
[null,null,null,{"$f":"Database!D783","v":"00:00:00"},false,{"$f":"IF($O$4,CHOOSE($U$4,1,Database!AI783,Database!AJ783,Database!AP783),1)","v":1},1,{"$error":"#N/A"},{"$f":"INDEX(Database!E783:AW783,'Graph of One Series'!$O$2)/G784","v":0}]
[null,null,null,{"$f":"Database!D784","v":"00:00:00"},false,{"$f":"IF($O$4,CHOOSE($U$4,1,Database!AI784,Database!AJ784,Database!AP784),1)","v":1},1,{"$error":"#N/A"},{"$f":"INDEX(Database!E784:AW784,'Graph of One Series'!$O$2)/G785","v":0}]
[null,null,null,{"$f":"Database!D785","v":"00:00:00"},false,{"$f":"IF($O$4,CHOOSE($U$4,1,Database!AI785,Database!AJ785,Database!AP785),1)","v":1},1,{"$error":"#N/A"},{"$f":"INDEX(Database!E785:AW785,'Graph of One Series'!$O$2)/G786","v":0}]
[null,null,null,{"$f":"Database!D786","v":"00:00:00"},false,{"$f":"IF($O$4,CHOOSE($U$4,1,Database!AI786,Database!AJ786,Database!AP786),1)","v":1},1,{"$error":"#N/A"},{"$f":"INDEX(Database!E786:AW786,'Graph of One Series'!$O$2)/G787","v":0}]
[null,null,null,{"$f":"Database!D787","v":"00:00:00"},false,{"$f":"IF($O$4,CHOOSE($U$4,1,Database!AI787,Database!AJ787,Database!AP787),1)","v":1},1,{"$error":"#N/A"},{"$f":"INDEX(Database!E787:AW787,'Graph of One Series'!$O$2)/G788","v":0}]
[null,null,null,{"$f":"Database!D788","v":"00:00:00"},false,{"$f":"IF($O$4,CHOOSE($U$4,1,Database!AI788,Database!AJ788,Database!AP788),1)","v":1},1,{"$error":"#N/A"},{"$f":"INDEX(Database!E788:AW788,'Graph of One Series'!$O$2)/G789","v":0}]
[null,null,null,{"$f":"Database!D789","v":"00:00:00"},false,{"$f":"IF($O$4,CHOOSE($U$4,1,Database!AI789,Database!AJ789,Database!AP789),1)","v":1},1,{"$error":"#N/A"},{"$f":"INDEX(Database!E789:AW789,'Graph of One Series'!$O$2)/G790","v":0}]
[null,null,null,{"$f":"Database!D790","v":"00:00:00"},false,{"$f":"IF($O$4,CHOOSE($U$4,1,Database!AI790,Database!AJ790,Database!AP790),1)","v":1},1,{"$error":"#N/A"},{"$f":"INDEX(Database!E790:AW790,'Graph of One Series'!$O$2)/G791","v":0}]
[null,null,null,{"$f":"Database!D791","v":"00:00:00"},false,{"$f":"IF($O$4,CHOOSE($U$4,1,Database!AI791,Database!AJ791,Database!AP791),1)","v":1},1,{"$error":"#N/A"},{"$f":"INDEX(Database!E791:AW791,'Graph of One Series'!$O$2)/G792","v":0}]
[null,null,null,{"$f":"Database!D792","v":"00:00:00"},false,{"$f":"IF($O$4,CHOOSE($U$4,1,Database!AI792,Database!AJ792,Database!AP792),1)","v":1},1,{"$error":"#N/A"},{"$f":"INDEX(Database!E792:AW792,'Graph of One Series'!$O$2)/G793","v":0}]
[null,null,null,{"$f":"Database!D793","v":"00:00:00"},false,{"$f":"IF($O$4,CHOOSE($U$4,1,Database!AI793,Database!AJ793,Database!AP793),1)","v":1},1,{"$error":"#N/A"},{"$f":"INDEX(Database!E793:AW793,'Graph of One Series'!$O$2)/G794","v":0}]
[null,null,null,{"$f":"Database!D794","v":"00:00:00"},false,{"$f":"IF($O$4,CHOOSE($U$4,1,Database!AI794,Database!AJ794,Database!AP794),1)","v":1},1,{"$error":"#N/A"},{"$f":"INDEX(Database!E794:AW794,'Graph of One Series'!$O$2)/G795","v":0}]
[null,null,null,{"$f":"Database!D795","v":"00:00:00"},false,{"$f":"IF($O$4,CHOOSE($U$4,1,Database!AI795,Database!AJ795,Database!AP795),1)","v":1},1,{"$error":"#N/A"},{"$f":"INDEX(Database!E795:AW795,'Graph of One Series'!$O$2)/G796","v":0}]
[null,null,null,{"$f":"Database!D796","v":"00:00:00"},false,{"$f":"IF($O$4,CHOOSE($U$4,1,Database!AI796,Database!AJ796,Database!AP796),1)","v":1},1,{"$error":"#N/A"},{"$f":"INDEX(Database!E796:AW796,'Graph of One Series'!$O$2)/G797","v":0}]
[null,null,null,{"$f":"Database!D797","v":"00:00:00"},false,{"$f":"IF($O$4,CHOOSE($U$4,1,Database!AI797,Database!AJ797,Database!AP797),1)","v":1},1,{"$error":"#N/A"},{"$f":"INDEX(Database!E797:AW797,'Graph of One Series'!$O$2)/G798","v":0}]
[null,null,null,{"$f":"Database!D798","v":"00:00:00"},false,{"$f":"IF($O$4,CHOOSE($U$4,1,Database!AI798,Database!AJ798,Database!AP798),1)","v":1},1,{"$error":"#N/A"},{"$f":"INDEX(Database!E798:AW798,'Graph of One Series'!$O$2)/G799","v":0}]
[null,null,null,{"$f":"Database!D799","v":"00:00:00"},false,{"$f":"IF($O$4,CHOOSE($U$4,1,Database!AI799,Database!AJ799,Database!AP799),1)","v":1},1,{"$error":"#N/A"},{"$f":"INDEX(Database!E799:AW799,'Graph of One Series'!$O$2)/G800","v":0}]
[null,null,null,{"$f":"Database!D800","v":"00:00:00"},false,{"$f":"IF($O$4,CHOOSE($U$4,1,Database!AI800,Database!AJ800,Database!AP800),1)","v":1},1,{"$error":"#N/A"},{"$f":"INDEX(Database!E800:AW800,'Graph of One Series'!$O$2)/G801","v":0}]
[null,null,null,{"$f":"Database!D801","v":"00:00:00"},false,{"$f":"IF($O$4,CHOOSE($U$4,1,Database!AI801,Database!AJ801,Database!AP801),1)","v":1},1,{"$error":"#N/A"},{"$f":"INDEX(Database!E801:AW801,'Graph of One Series'!$O$2)/G802","v":0}]
[null,null,null,{"$f":"Database!D802","v":"00:00:00"},false,{"$f":"IF($O$4,CHOOSE($U$4,1,Database!AI802,Database!AJ802,Database!AP802),1)","v":1},1,{"$error":"#N/A"},{"$f":"INDEX(Database!E802:AW802,'Graph of One Series'!$O$2)/G803","v":0}]
[null,null,null,{"$f":"Database!D803","v":"00:00:00"},false,{"$f":"IF($O$4,CHOOSE($U$4,1,Database!AI803,Database!AJ803,Database!AP803),1)","v":1},1,{"$error":"#N/A"},{"$f":"INDEX(Database!E803:AW803,'Graph of One Series'!$O$2)/G804","v":0}]
[null,null,null,{"$f":"Database!D804","v":"00:00:00"},false,{"$f":"IF($O$4,CHOOSE($U$4,1,Database!AI804,Database!AJ804,Database!AP804),1)","v":1},1,{"$error":"#N/A"},{"$f":"INDEX(Database!E804:AW804,'Graph of One Series'!$O$2)/G805","v":0}]
[null,null,null,{"$f":"Database!D805","v":"00:00:00"},false,{"$f":"IF($O$4,CHOOSE($U$4,1,Database!AI805,Database!AJ805,Database!AP805),1)","v":1},1,{"$error":"#N/A"},{"$f":"INDEX(Database!E805:AW805,'Graph of One Series'!$O$2)/G806","v":0}]
[null,null,null,{"$f":"Database!D806","v":"00:00:00"},false,{"$f":"IF($O$4,CHOOSE($U$4,1,Database!AI806,Database!AJ806,Database!AP806),1)","v":1},1,{"$error":"#N/A"},{"$f":"INDEX(Database!E806:AW806,'Graph of One Series'!$O$2)/G807","v":0}]
[null,null,null,{"$f":"Database!D807","v":"00:00:00"},false,{"$f":"IF($O$4,CHOOSE($U$4,1,Database!AI807,Database!AJ807,Database!AP807),1)","v":1},1,{"$error":"#N/A"},{"$f":"INDEX(Database!E807:AW807,'Graph of One Series'!$O$2)/G808","v":0}]
[null,null,null,{"$f":"Database!D808","v":"00:00:00"},false,{"$f":"IF($O$4,CHOOSE($U$4,1,Database!AI808,Database!AJ808,Database!AP808),1)","v":1},1,{"$error":"#N/A"},{"$f":"INDEX(Database!E808:AW808,'Graph of One Series'!$O$2)/G809","v":0}]
[null,null,null,{"$f":"Database!D809","v":"00:00:00"},false,{"$f":"IF($O$4,CHOOSE($U$4,1,Database!AI809,Database!AJ809,Database!AP809),1)","v":1},1,{"$error":"#N/A"},{"$f":"INDEX(Database!E809:AW809,'Graph of One Series'!$O$2)/G810","v":0}]
[null,null,null,{"$f":"Database!D810","v":"00:00:00"},false,{"$f":"IF($O$4,CHOOSE($U$4,1,Database!AI810,Database!AJ810,Database!AP810),1)","v":1},1,{"$error":"#N/A"},{"$f":"INDEX(Database!E810:AW810,'Graph of One Series'!$O$2)/G811","v":0}]
[null,null,null,{"$f":"Database!D811","v":"00:00:00"},false,{"$f":"IF($O$4,CHOOSE($U$4,1,Database!AI811,Database!AJ811,Database!AP811),1)","v":1},1,{"$error":"#N/A"},{"$f":"INDEX(Database!E811:AW811,'Graph of One Series'!$O$2)/G812","v":0}]
[null,null,null,{"$f":"Database!D812","v":"00:00:00"},false,{"$f":"IF($O$4,CHOOSE($U$4,1,Database!AI812,Database!AJ812,Database!AP812),1)","v":1},1,{"$error":"#N/A"},{"$f":"INDEX(Database!E812:AW812,'Graph of One Series'!$O$2)/G813","v":0}]
[null,null,null,{"$f":"Database!D813","v":"00:00:00"},false,{"$f":"IF($O$4,CHOOSE($U$4,1,Database!AI813,Database!AJ813,Database!AP813),1)","v":1},1,{"$error":"#N/A"},{"$f":"INDEX(Database!E813:AW813,'Graph of One Series'!$O$2)/G814","v":0}]
[null,null,null,{"$f":"Database!D814","v":"00:00:00"},false,{"$f":"IF($O$4,CHOOSE($U$4,1,Database!AI814,Database!AJ814,Database!AP814),1)","v":1},1,{"$error":"#N/A"},{"$f":"INDEX(Database!E814:AW814,'Graph of One Series'!$O$2)/G815","v":0}]
[null,null,null,{"$f":"Database!D815","v":"00:00:00"},false,{"$f":"IF($O$4,CHOOSE($U$4,1,Database!AI815,Database!AJ815,Database!AP815),1)","v":1},1,{"$error":"#N/A"},{"$f":"INDEX(Database!E815:AW815,'Graph of One Series'!$O$2)/G816","v":0}]
[null,null,null,{"$f":"Database!D816","v":"00:00:00"},false,{"$f":"IF($O$4,CHOOSE($U$4,1,Database!AI816,Database!AJ816,Database!AP816),1)","v":1},1,{"$error":"#N/A"},{"$f":"INDEX(Database!E816:AW816,'Graph of One Series'!$O$2)/G817","v":0}]
[null,null,null,{"$f":"Database!D817","v":"00:00:00"},false,{"$f":"IF($O$4,CHOOSE($U$4,1,Database!AI817,Database!AJ817,Database!AP817),1)","v":1},1,{"$error":"#N/A"},{"$f":"INDEX(Database!E817:AW817,'Graph of One Series'!$O$2)/G818","v":0}]
[null,null,null,{"$f":"Database!D818","v":"00:00:00"},false,{"$f":"IF($O$4,CHOOSE($U$4,1,Database!AI818,Database!AJ818,Database!AP818),1)","v":1},1,{"$error":"#N/A"},{"$f":"INDEX(Database!E818:AW818,'Graph of One Series'!$O$2)/G819","v":0}]
[null,null,null,{"$f":"Database!D819","v":"00:00:00"},false,{"$f":"IF($O$4,CHOOSE($U$4,1,Database!AI819,Database!AJ819,Database!AP819),1)","v":1},1,{"$error":"#N/A"},{"$f":"INDEX(Database!E819:AW819,'Graph of One Series'!$O$2)/G820","v":0}]
[null,null,null,{"$f":"Database!D820","v":"00:00:00"},false,{"$f":"IF($O$4,CHOOSE($U$4,1,Database!AI820,Database!AJ820,Database!AP820),1)","v":1},1,{"$error":"#N/A"},{"$f":"INDEX(Database!E820:AW820,'Graph of One Series'!$O$2)/G821","v":0}]
[null,null,null,{"$f":"Database!D821","v":"00:00:00"},false,{"$f":"IF($O$4,CHOOSE($U$4,1,Database!AI821,Database!AJ821,Database!AP821),1)","v":1},1,{"$error":"#N/A"},{"$f":"INDEX(Database!E821:AW821,'Graph of One Series'!$O$2)/G822","v":0}]
[null,null,null,{"$f":"Database!D822","v":"00:00:00"},false,{"$f":"IF($O$4,CHOOSE($U$4,1,Database!AI822,Database!AJ822,Database!AP822),1)","v":1},1,{"$error":"#N/A"},{"$f":"INDEX(Database!E822:AW822,'Graph of One Series'!$O$2)/G823","v":0}]
[null,null,null,{"$f":"Database!D823","v":"00:00:00"},false,{"$f":"IF($O$4,CHOOSE($U$4,1,Database!AI823,Database!AJ823,Database!AP823),1)","v":1},1,{"$error":"#N/A"},{"$f":"INDEX(Database!E823:AW823,'Graph of One Series'!$O$2)/G824","v":0}]

{"sheet":"Graph of Two Series","index":5,"n_rows":828,"n_cols":21,"rows_kept":828,"cut":false,"hidden":false,"merged":[]}
[]
[null,null,null,null,null,231,null,"Start",{"$f":"INDEX(D13:D828,F2)","v":"1975-03-01"},null,null,null,null,null,10,null,null,"None"]
[null,null,null,null,null,747,null,"End",{"$f":"INDEX(D13:D828,F3)","v":"2018-03-01"},null,null,"Start",null,null,{"$f":"INDEX(Database!$E$6:$AW$6,'Graph of Two Series'!O2)","v":"1987-01-01"},null,null,"CPI"]
[null,null,null,null,null,null,null,null,null,null,null,"Monetary",null,null,{"$f":"INDEX(Database!E3:AP3,'Graph of Two Series'!O2)","v":true},null,null,"GDP Def",null,null,2]
[null,null,null,null,null,"End Index",{"$f":"INDEX(F:F,MATCH(E12,D:D,0))","v":235.74},null,null,null,null,null,null,null,null,null,null,"Excl Eng, Food"]
[null,null,null,null,null,null,null,null,null,null,null,null,null,null,6]
[null,null,null,null,null,null,null,null,null,null,null,"Start",null,null,{"$f":"INDEX(Database!E6:AW6,'Graph of Two Series'!O6)","v":"1987-01-01"}]
[null,null,null,null,null,null,null,null,null,null,null,"Monetary",null,null,{"$f":"INDEX(Database!E3:AW3,'Graph of Two Series'!O6)","v":true}]
[null,null,null,null,null,null,null,null,{"$f":"I12","v":"Case Shiller Las Vegas"},"vs",{"$f":"J12","v":"Case Shiller 10 City"}]
[]
[null,null,null,"Start",{"$f":"MAX($I$2,D13,$O$3,$O$7)","v":"1987-01-01"},null,"Adj Inf","X-axis"]
[null,null,null,"End",{"$f":"MIN($I$3,EOMONTH(TODAY(),-1)+1)","v":"2015-04-01"},"Inf Index","w/ End",null,{"$f":"INDEX(Database!E7:AW7,'Graph of Two Series'!$O$2)","v":"Case Shiller Las Vegas"},{"$f":"INDEX(Database!E7:AW7,'Graph of Two Series'!$O$6)","v":"Case Shiller 10 City"},{"$f":"J12","v":"Case Shiller 10 City"}]
[null,null,null,{"$f":"Database!D8","v":"1956-01-01"},{"$f":"AND($D13>=E$11,$D13<=E$12)","v":false},{"$f":"IF($O$4,CHOOSE($U$4,1,Database!AI8,Database!AJ8,Database!AP8),1)","v":26.83},{"$f":"F13/$G$5","v":0.11381182658861456},{"$f":"IF(E13,D13,NA())","v":{"$error":"#N/A"}},{"$f":"INDEX(Database!E8:AW8,'Graph of Two Series'!$O$2)/G13","v":{"$error":"#N/A"}},{"$f":"INDEX(Database!E8:AW8,'Graph of Two Series'!$O$6)/G13","v":{"$error":"#N/A"}}]
[null,null,null,{"$f":"Database!D9","v":"1956-02-01"},{"$f":"AND($D14>=E$11,$D14<=E$12)","v":false},{"$f":"IF($O$4,CHOOSE($U$4,1,Database!AI9,Database!AJ9,Database!AP9),1)","v":26.86},0.11393908543310426,{"$error":"#N/A"},{"$f":"INDEX(Database!E9:AW9,'Graph of Two Series'!$O$2)/G14","v":{"$error":"#N/A"}},{"$f":"INDEX(Database!E9:AW9,'Graph of Two Series'!$O$6)/G14","v":{"$error":"#N/A"}},{"$f":"J14-J13","v":{"$error":"#N/A"}}]
[null,null,null,{"$f":"Database!D10","v":"1956-03-01"},false,{"$f":"IF($O$4,CHOOSE($U$4,1,Database!AI10,Database!AJ10,Database!AP10),1)","v":26.89},0.11406634427759396,{"$error":"#N/A"},{"$f":"INDEX(Database!E10:AW10,'Graph of Two Series'!$O$2)/G15","v":{"$error":"#N/A"}},{"$f":"INDEX(Database!E10:AW10,'Graph of Two Series'!$O$6)/G15","v":{"$error":"#N/A"}},{"$f":"J15-J14","v":{"$error":"#N/A"}}]
[null,null,null,{"$f":"Database!D11","v":"1956-04-01"},false,{"$f":"IF($O$4,CHOOSE($U$4,1,Database!AI11,Database!AJ11,Database!AP11),1)","v":26.93},0.11423602273691354,{"$error":"#N/A"},{"$f":"INDEX(Database!E11:AW11,'Graph of Two Series'!$O$2)/G16","v":{"$error":"#N/A"}},{"$f":"INDEX(Database!E11:AW11,'Graph of Two Series'!$O$6)/G16","v":{"$error":"#N/A"}},{"$error":"#N/A"}]
[null,null,null,{"$f":"Database!D12","v":"1956-05-01"},false,{"$f":"IF($O$4,CHOOSE($U$4,1,Database!AI12,Database!AJ12,Database!AP12),1)","v":27.03},0.11466021888521252,{"$error":"#N/A"},{"$f":"INDEX(Database!E12:AW12,'Graph of Two Series'!$O$2)/G17","v":{"$error":"#N/A"}},{"$f":"INDEX(Database!E12:AW12,'Graph of Two Series'!$O$6)/G17","v":{"$error":"#N/A"}},{"$error":"#N/A"}]
[null,null,null,{"$f":"Database!D13","v":"1956-06-01"},false,{"$f":"IF($O$4,CHOOSE($U$4,1,Database!AI13,Database!AJ13,Database!AP13),1)","v":27.15},0.11516925426317128,{"$error":"#N/A"},{"$f":"INDEX(Database!E13:AW13,'Graph of Two Series'!$O$2)/G18","v":{"$error":"#N/A"}},{"$f":"INDEX(Database!E13:AW13,'Graph of Two Series'!$O$6)/G18","v":{"$error":"#N/A"}},{"$error":"#N/A"}]
[null,null,null,{"$f":"Database!D14","v":"1956-07-01"},false,{"$f":"IF($O$4,CHOOSE($U$4,1,Database!AI14,Database!AJ14,Database!AP14),1)","v":27.29},0.11576312887078985,{"$error":"#N/A"},{"$f":"INDEX(Database!E14:AW14,'Graph of Two Series'!$O$2)/G19","v":{"$error":"#N/A"}},{"$f":"INDEX(Database!E14:AW14,'Graph of Two Series'!$O$6)/G19","v":{"$error":"#N/A"}},{"$error":"#N/A"}]
[null,null,null,{"$f":"Database!D15","v":"1956-08-01"},false,{"$f":"IF($O$4,CHOOSE($U$4,1,Database!AI15,Database!AJ15,Database!AP15),1)","v":27.31},0.11584796810044964,{"$error":"#N/A"},{"$f":"INDEX(Database!E15:AW15,'Graph of Two Series'!$O$2)/G20","v":{"$error":"#N/A"}},{"$f":"INDEX(Database!E15:AW15,'Graph of Two Series'!$O$6)/G20","v":{"$error":"#N/A"}},{"$error":"#N/A"}]
[null,null,null,{"$f":"Database!D16","v":"1956-09-01"},false,{"$f":"IF($O$4,CHOOSE($U$4,1,Database!AI16,Database!AJ16,Database!AP16),1)","v":27.35},0.11601764655976923,{"$error":"#N/A"},{"$f":"INDEX(Database!E16:AW16,'Graph of Two Series'!$O$2)/G21","v":{"$error":"#N/A"}},{"$f":"INDEX(Database!E16:AW16,'Graph of Two Series'!$O$6)/G21","v":{"$error":"#N/A"}},{"$error":"#N/A"}]
[null,null,null,{"$f":"Database!D17","v":"1956-10-01"},false,{"$f":"IF($O$4,CHOOSE($U$4,1,Database!AI17,Database!AJ17,Database!AP17),1)","v":27.51},0.1166963603970476,{"$error":"#N/A"},{"$f":"INDEX(Database!E17:AW17,'Graph of Two Series'!$O$2)/G22","v":{"$error":"#N/A"}},{"$f":"INDEX(Database!E17:AW17,'Graph of Two Series'!$O$6)/G22","v":{"$error":"#N/A"}},{"$error":"#N/A"}]
[null,null,null,{"$f":"Database!D18","v":"1956-11-01"},false,{"$f":"IF($O$4,CHOOSE($U$4,1,Database!AI18,Database!AJ18,Database!AP18),1)","v":27.51},0.1166963603970476,{"$error":"#N/A"},{"$f":"INDEX(Database!E18:AW18,'Graph of Two Series'!$O$2)/G23","v":{"$error":"#N/A"}},{"$f":"INDEX(Database!E18:AW18,'Graph of Two Series'!$O$6)/G23","v":{"$error":"#N/A"}},{"$error":"#N/A"}]
[null,null,null,{"$f":"Database!D19","v":"1956-12-01"},false,{"$f":"IF($O$4,CHOOSE($U$4,1,Database!AI19,Database!AJ19,Database!AP19),1)","v":27.63},0.11720539577500635,{"$error":"#N/A"},{"$f":"INDEX(Database!E19:AW19,'Graph of Two Series'!$O$2)/G24","v":{"$error":"#N/A"}},{"$f":"INDEX(Database!E19:AW19,'Graph of Two Series'!$O$6)/G24","v":{"$error":"#N/A"}},{"$error":"#N/A"}]
[null,null,null,{"$f":"Database!D20","v":"1957-01-01"},false,{"$f":"IF($O$4,CHOOSE($U$4,1,Database!AI20,Database!AJ20,Database!AP20),1)","v":27.67},0.11737507423432596,{"$error":"#N/A"},{"$f":"INDEX(Database!E20:AW20,'Graph of Two Series'!$O$2)/G25","v":{"$error":"#N/A"}},{"$f":"INDEX(Database!E20:AW20,'Graph of Two Series'!$O$6)/G25","v":{"$error":"#N/A"}},{"$error":"#N/A"}]
[null,null,null,{"$f":"Database!D21","v":"1957-02-01"},false,{"$f":"IF($O$4,CHOOSE($U$4,1,Database!AI21,Database!AJ21,Database!AP21),1)","v":27.8},0.11792652922711462,{"$error":"#N/A"},{"$f":"INDEX(Database!E21:AW21,'Graph of Two Series'!$O$2)/G26","v":{"$error":"#N/A"}},{"$f":"INDEX(Database!E21:AW21,'Graph of Two Series'!$O$6)/G26","v":{"$error":"#N/A"}},{"$error":"#N/A"}]
[null,null,null,{"$f":"Database!D22","v":"1957-03-01"},false,{"$f":"IF($O$4,CHOOSE($U$4,1,Database!AI22,Database!AJ22,Database!AP22),1)","v":27.86},0.11818104691609399,{"$error":"#N/A"},{"$f":"INDEX(Database!E22:AW22,'Graph of Two Series'!$O$2)/G27","v":{"$error":"#N/A"}},{"$f":"INDEX(Database!E22:AW22,'Graph of Two Series'!$O$6)/G27","v":{"$error":"#N/A"}},{"$error":"#N/A"}]
[null,null,null,{"$f":"Database!D23","v":"1957-04-01"},false,{"$f":"IF($O$4,CHOOSE($U$4,1,Database!AI23,Database!AJ23,Database!AP23),1)","v":27.93},0.11847798421990327,{"$error":"#N/A"},{"$f":"INDEX(Database!E23:AW23,'Graph of Two Series'!$O$2)/G28","v":{"$error":"#N/A"}},{"$f":"INDEX(Database!E23:AW23,'Graph of Two Series'!$O$6)/G28","v":{"$error":"#N/A"}},{"$error":"#N/A"}]
[null,null,null,{"$f":"Database!D24","v":"1957-05-01"},false,{"$f":"IF($O$4,CHOOSE($U$4,1,Database!AI24,Database!AJ24,Database!AP24),1)","v":28},0.11877492152371256,{"$error":"#N/A"},{"$f":"INDEX(Database!E24:AW24,'Graph of Two Series'!$O$2)/G29","v":{"$error":"#N/A"}},{"$f":"INDEX(Database!E24:AW24,'Graph of Two Series'!$O$6)/G29","v":{"$error":"#N/A"}},{"$error":"#N/A"}]
[null,null,null,{"$f":"Database!D25","v":"1957-06-01"},false,{"$f":"IF($O$4,CHOOSE($U$4,1,Database!AI25,Database!AJ25,Database!AP25),1)","v":28.11},0.11924153728684143,{"$error":"#N/A"},{"$f":"INDEX(Database!E25:AW25,'Graph of Two Series'!$O$2)/G30","v":{"$error":"#N/A"}},{"$f":"INDEX(Database!E25:AW25,'Graph of Two Series'!$O$6)/G30","v":{"$error":"#N/A"}},{"$error":"#N/A"}]
[null,null,null,{"$f":"Database!D26","v":"1957-07-01"},false,{"$f":"IF($O$4,CHOOSE($U$4,1,Database!AI26,Database!AJ26,Database!AP26),1)","v":28.19},0.11958089420548061,{"$error":"#N/A"},{"$f":"INDEX(Database!E26:AW26,'Graph of Two Series'!$O$2)/G31","v":{"$error":"#N/A"}},{"$f":"INDEX(Database!E26:AW26,'Graph of Two Series'!$O$6)/G31","v":{"$error":"#N/A"}},{"$error":"#N/A"}]
[null,null,null,{"$f":"Database!D27","v":"1957-08-01"},false,{"$f":"IF($O$4,CHOOSE($U$4,1,Database!AI27,Database!AJ27,Database!AP27),1)","v":28.28},0.11996267073894969,{"$error":"#N/A"},{"$f":"INDEX(Database!E27:AW27,'Graph of Two Series'!$O$2)/G32","v":{"$error":"#N/A"}},{"$f":"INDEX(Database!E27:AW27,'Graph of Two Series'!$O$6)/G32","v":{"$error":"#N/A"}},{"$error":"#N/A"}]
[null,null,null,{"$f":"Database!D28","v":"1957-09-01"},false,{"$f":"IF($O$4,CHOOSE($U$4,1,Database!AI28,Database!AJ28,Database!AP28),1)","v":28.32},0.12013234919826928,{"$error":"#N/A"},{"$f":"INDEX(Database!E28:AW28,'Graph of Two Series'!$O$2)/G33","v":{"$error":"#N/A"}},{"$f":"INDEX(Database!E28:AW28,'Graph of Two Series'!$O$6)/G33","v":{"$error":"#N/A"}},{"$error":"#N/A"}]
[null,null,null,{"$f":"Database!D29","v":"1957-10-01"},false,{"$f":"IF($O$4,CHOOSE($U$4,1,Database!AI29,Database!AJ29,Database!AP29),1)","v":28.32},0.12013234919826928,{"$error":"#N/A"},{"$f":"INDEX(Database!E29:AW29,'Graph of Two Series'!$O$2)/G34","v":{"$error":"#N/A"}},{"$f":"INDEX(Database!E29:AW29,'Graph of Two Series'!$O$6)/G34","v":{"$error":"#N/A"}},{"$error":"#N/A"}]
[null,null,null,{"$f":"Database!D30","v":"1957-11-01"},false,{"$f":"IF($O$4,CHOOSE($U$4,1,Database!AI30,Database!AJ30,Database!AP30),1)","v":28.41},0.12051412573173835,{"$error":"#N/A"},{"$f":"INDEX(Database!E30:AW30,'Graph of Two Series'!$O$2)/G35","v":{"$error":"#N/A"}},{"$f":"INDEX(Database!E30:AW30,'Graph of Two Series'!$O$6)/G35","v":{"$error":"#N/A"}},{"$error":"#N/A"}]
[null,null,null,{"$f":"Database!D31","v":"1957-12-01"},false,{"$f":"IF($O$4,CHOOSE($U$4,1,Database!AI31,Database!AJ31,Database!AP31),1)","v":28.47},0.12076864342071773,{"$error":"#N/A"},{"$f":"INDEX(Database!E31:AW31,'Graph of Two Series'!$O$2)/G36","v":{"$error":"#N/A"}},{"$f":"INDEX(Database!E31:AW31,'Graph of Two Series'!$O$6)/G36","v":{"$error":"#N/A"}},{"$error":"#N/A"}]
[null,null,null,{"$f":"Database!D32","v":"1958-01-01"},false,{"$f":"IF($O$4,CHOOSE($U$4,1,Database!AI32,Database!AJ32,Database!AP32),1)","v":28.64},0.12148977687282599,{"$error":"#N/A"},{"$f":"INDEX(Database!E32:AW32,'Graph of Two Series'!$O$2)/G37","v":{"$error":"#N/A"}},{"$f":"INDEX(Database!E32:AW32,'Graph of Two Series'!$O$6)/G37","v":{"$error":"#N/A"}},{"$error":"#N/A"}]
[null,null,null,{"$f":"Database!D33","v":"1958-02-01"},false,{"$f":"IF($O$4,CHOOSE($U$4,1,Database!AI33,Database!AJ33,Database!AP33),1)","v":28.7},0.12174429456180537,{"$error":"#N/A"},{"$f":"INDEX(Database!E33:AW33,'Graph of Two Series'!$O$2)/G38","v":{"$error":"#N/A"}},{"$f":"INDEX(Database!E33:AW33,'Graph of Two Series'!$O$6)/G38","v":{"$error":"#N/A"}},{"$error":"#N/A"}]
[null,null,null,{"$f":"Database!D34","v":"1958-03-01"},false,{"$f":"IF($O$4,CHOOSE($U$4,1,Database!AI34,Database!AJ34,Database!AP34),1)","v":28.87},0.12246542801391364,{"$error":"#N/A"},{"$f":"INDEX(Database!E34:AW34,'Graph of Two Series'!$O$2)/G39","v":{"$error":"#N/A"}},{"$f":"INDEX(Database!E34:AW34,'Graph of Two Series'!$O$6)/G39","v":{"$error":"#N/A"}},{"$error":"#N/A"}]
[null,null,null,{"$f":"Database!D35","v":"1958-04-01"},false,{"$f":"IF($O$4,CHOOSE($U$4,1,Database!AI35,Database!AJ35,Database!AP35),1)","v":28.94},0.12276236531772292,{"$error":"#N/A"},{"$f":"INDEX(Database!E35:AW35,'Graph of Two Series'!$O$2)/G40","v":{"$error":"#N/A"}},{"$f":"INDEX(Database!E35:AW35,'Graph of Two Series'!$O$6)/G40","v":{"$error":"#N/A"}},{"$error":"#N/A"}]
[null,null,null,{"$f":"Database!D36","v":"1958-05-01"},false,{"$f":"IF($O$4,CHOOSE($U$4,1,Database!AI36,Database!AJ36,Database!AP36),1)","v":28.94},0.12276236531772292,{"$error":"#N/A"},{"$f":"INDEX(Database!E36:AW36,'Graph of Two Series'!$O$2)/G41","v":{"$error":"#N/A"}},{"$f":"INDEX(Database!E36:AW36,'Graph of Two Series'!$O$6)/G41","v":{"$error":"#N/A"}},{"$error":"#N/A"}]
[null,null,null,{"$f":"Database!D37","v":"1958-06-01"},false,{"$f":"IF($O$4,CHOOSE($U$4,1,Database!AI37,Database!AJ37,Database!AP37),1)","v":28.91},0.12263510647323322,{"$error":"#N/A"},{"$f":"INDEX(Database!E37:AW37,'Graph of Two Series'!$O$2)/G42","v":{"$error":"#N/A"}},{"$f":"INDEX(Database!E37:AW37,'Graph of Two Series'!$O$6)/G42","v":{"$error":"#N/A"}},{"$error":"#N/A"}]
[null,null,null,{"$f":"Database!D38","v":"1958-07-01"},false,{"$f":"IF($O$4,CHOOSE($U$4,1,Database!AI38,Database!AJ38,Database!AP38),1)","v":28.89},0.12255026724357343,{"$error":"#N/A"},{"$f":"INDEX(Database!E38:AW38,'Graph of Two Series'!$O$2)/G43","v":{"$error":"#N/A"}},{"$f":"INDEX(Database!E38:AW38,'Graph of Two Series'!$O$6)/G43","v":{"$error":"#N/A"}},{"$error":"#N/A"}]
[null,null,null,{"$f":"Database!D39","v":"1958-08-01"},false,{"$f":"IF($O$4,CHOOSE($U$4,1,Database!AI39,Database!AJ39,Database!AP39),1)","v":28.94},0.12276236531772292,{"$error":"#N/A"},{"$f":"INDEX(Database!E39:AW39,'Graph of Two Series'!$O$2)/G44","v":{"$error":"#N/A"}},{"$f":"INDEX(Database!E39:AW39,'Graph of Two Series'!$O$6)/G44","v":{"$error":"#N/A"}},{"$error":"#N/A"}]
[null,null,null,{"$f":"Database!D40","v":"1958-09-01"},false,{"$f":"IF($O$4,CHOOSE($U$4,1,Database!AI40,Database!AJ40,Database!AP40),1)","v":28.91},0.12263510647323322,{"$error":"#N/A"},{"$f":"INDEX(Database!E40:AW40,'Graph of Two Series'!$O$2)/G45","v":{"$error":"#N/A"}},{"$f":"INDEX(Database!E40:AW40,'Graph of Two Series'!$O$6)/G45","v":{"$error":"#N/A"}},{"$error":"#N/A"}]
[null,null,null,{"$f":"Database!D41","v":"1958-10-01"},false,{"$f":"IF($O$4,CHOOSE($U$4,1,Database!AI41,Database!AJ41,Database!AP41),1)","v":28.91},0.12263510647323322,{"$error":"#N/A"},{"$f":"INDEX(Database!E41:AW41,'Graph of Two Series'!$O$2)/G46","v":{"$error":"#N/A"}},{"$f":"INDEX(Database!E41:AW41,'Graph of Two Series'!$O$6)/G46","v":{"$error":"#N/A"}},{"$error":"#N/A"}]
[null,null,null,{"$f":"Database!D42","v":"1958-11-01"},false,{"$f":"IF($O$4,CHOOSE($U$4,1,Database!AI42,Database!AJ42,Database!AP42),1)","v":28.95},0.1228047849325528,{"$error":"#N/A"},{"$f":"INDEX(Database!E42:AW42,'Graph of Two Series'!$O$2)/G47","v":{"$error":"#N/A"}},{"$f":"INDEX(Database!E42:AW42,'Graph of Two Series'!$O$6)/G47","v":{"$error":"#N/A"}},{"$error":"#N/A"}]
[null,null,null,{"$f":"Database!D43","v":"1958-12-01"},false,{"$f":"IF($O$4,CHOOSE($U$4,1,Database!AI43,Database!AJ43,Database!AP43),1)","v":28.97},0.12288962416221259,{"$error":"#N/A"},{"$f":"INDEX(Database!E43:AW43,'Graph of Two Series'!$O$2)/G48","v":{"$error":"#N/A"}},{"$f":"INDEX(Database!E43:AW43,'Graph of Two Series'!$O$6)/G48","v":{"$error":"#N/A"}},{"$error":"#N/A"}]
[null,null,null,{"$f":"Database!D44","v":"1959-01-01"},false,{"$f":"IF($O$4,CHOOSE($U$4,1,Database!AI44,Database!AJ44,Database!AP44),1)","v":29.01},0.1230593026215322,{"$error":"#N/A"},{"$f":"INDEX(Database!E44:AW44,'Graph of Two Series'!$O$2)/G49","v":{"$error":"#N/A"}},{"$f":"INDEX(Database!E44:AW44,'Graph of Two Series'!$O$6)/G49","v":{"$error":"#N/A"}},{"$error":"#N/A"}]
[null,null,null,{"$f":"Database!D45","v":"1959-02-01"},false,{"$f":"IF($O$4,CHOOSE($U$4,1,Database!AI45,Database!AJ45,Database!AP45),1)","v":29},0.1230168830067023,{"$error":"#N/A"},{"$f":"INDEX(Database!E45:AW45,'Graph of Two Series'!$O$2)/G50","v":{"$error":"#N/A"}},{"$f":"INDEX(Database!E45:AW45,'Graph of Two Series'!$O$6)/G50","v":{"$error":"#N/A"}},{"$error":"#N/A"}]
[null,null,null,{"$f":"Database!D46","v":"1959-03-01"},false,{"$f":"IF($O$4,CHOOSE($U$4,1,Database!AI46,Database!AJ46,Database!AP46),1)","v":28.97},0.12288962416221259,{"$error":"#N/A"},{"$f":"INDEX(Database!E46:AW46,'Graph of Two Series'!$O$2)/G51","v":{"$error":"#N/A"}},{"$f":"INDEX(Database!E46:AW46,'Graph of Two Series'!$O$6)/G51","v":{"$error":"#N/A"}},{"$error":"#N/A"}]
[null,null,null,{"$f":"Database!D47","v":"1959-04-01"},false,{"$f":"IF($O$4,CHOOSE($U$4,1,Database!AI47,Database!AJ47,Database!AP47),1)","v":28.98},0.1229320437770425,{"$error":"#N/A"},{"$f":"INDEX(Database!E47:AW47,'Graph of Two Series'!$O$2)/G52","v":{"$error":"#N/A"}},{"$f":"INDEX(Database!E47:AW47,'Graph of Two Series'!$O$6)/G52","v":{"$error":"#N/A"}},{"$error":"#N/A"}]
[null,null,null,{"$f":"Database!D48","v":"1959-05-01"},false,{"$f":"IF($O$4,CHOOSE($U$4,1,Database!AI48,Database!AJ48,Database!AP48),1)","v":29.04},0.12318656146602187,{"$error":"#N/A"},{"$f":"INDEX(Database!E48:AW48,'Graph of Two Series'!$O$2)/G53","v":{"$error":"#N/A"}},{"$f":"INDEX(Database!E48:AW48,'Graph of Two Series'!$O$6)/G53","v":{"$error":"#N/A"}},{"$error":"#N/A"}]
[null,null,null,{"$f":"Database!D49","v":"1959-06-01"},false,{"$f":"IF($O$4,CHOOSE($U$4,1,Database!AI49,Database!AJ49,Database!AP49),1)","v":29.11},0.12348349876983117,{"$error":"#N/A"},{"$f":"INDEX(Database!E49:AW49,'Graph of Two Series'!$O$2)/G54","v":{"$error":"#N/A"}},{"$f":"INDEX(Database!E49:AW49,'Graph of Two Series'!$O$6)/G54","v":{"$error":"#N/A"}},{"$error":"#N/A"}]
[null,null,null,{"$f":"Database!D50","v":"1959-07-01"},false,{"$f":"IF($O$4,CHOOSE($U$4,1,Database!AI50,Database!AJ50,Database!AP50),1)","v":29.15},0.12365317722915074,{"$error":"#N/A"},{"$f":"INDEX(Database!E50:AW50,'Graph of Two Series'!$O$2)/G55","v":{"$error":"#N/A"}},{"$f":"INDEX(Database!E50:AW50,'Graph of Two Series'!$O$6)/G55","v":{"$error":"#N/A"}},{"$error":"#N/A"}]
[null,null,null,{"$f":"Database!D51","v":"1959-08-01"},false,{"$f":"IF($O$4,CHOOSE($U$4,1,Database!AI51,Database!AJ51,Database!AP51),1)","v":29.18},0.12378043607364045,{"$error":"#N/A"},{"$f":"INDEX(Database!E51:AW51,'Graph of Two Series'!$O$2)/G56","v":{"$error":"#N/A"}},{"$f":"INDEX(Database!E51:AW51,'Graph of Two Series'!$O$6)/G56","v":{"$error":"#N/A"}},{"$error":"#N/A"}]
[null,null,null,{"$f":"Database!D52","v":"1959-09-01"},false,{"$f":"IF($O$4,CHOOSE($U$4,1,Database!AI52,Database!AJ52,Database!AP52),1)","v":29.25},0.12407737337744973,{"$error":"#N/A"},{"$f":"INDEX(Database!E52:AW52,'Graph of Two Series'!$O$2)/G57","v":{"$error":"#N/A"}},{"$f":"INDEX(Database!E52:AW52,'Graph of Two Series'!$O$6)/G57","v":{"$error":"#N/A"}},{"$error":"#N/A"}]
[null,null,null,{"$f":"Database!D53","v":"1959-10-01"},false,{"$f":"IF($O$4,CHOOSE($U$4,1,Database!AI53,Database!AJ53,Database!AP53),1)","v":29.35},0.1245015695257487,{"$error":"#N/A"},{"$f":"INDEX(Database!E53:AW53,'Graph of Two Series'!$O$2)/G58","v":{"$error":"#N/A"}},{"$f":"INDEX(Database!E53:AW53,'Graph of Two Series'!$O$6)/G58","v":{"$error":"#N/A"}},{"$error":"#N/A"}]
[null,null,null,{"$f":"Database!D54","v":"1959-11-01"},false,{"$f":"IF($O$4,CHOOSE($U$4,1,Database!AI54,Database!AJ54,Database!AP54),1)","v":29.35},0.1245015695257487,{"$error":"#N/A"},{"$f":"INDEX(Database!E54:AW54,'Graph of Two Series'!$O$2)/G59","v":{"$error":"#N/A"}},{"$f":"INDEX(Database!E54:AW54,'Graph of Two Series'!$O$6)/G59","v":{"$error":"#N/A"}},{"$error":"#N/A"}]
[null,null,null,{"$f":"Database!D55","v":"1959-12-01"},false,{"$f":"IF($O$4,CHOOSE($U$4,1,Database!AI55,Database!AJ55,Database!AP55),1)","v":29.41},0.12475608721472808,{"$error":"#N/A"},{"$f":"INDEX(Database!E55:AW55,'Graph of Two Series'!$O$2)/G60","v":{"$error":"#N/A"}},{"$f":"INDEX(Database!E55:AW55,'Graph of Two Series'!$O$6)/G60","v":{"$error":"#N/A"}},{"$error":"#N/A"}]
[null,null,null,{"$f":"Database!D56","v":"1960-01-01"},false,{"$f":"IF($O$4,CHOOSE($U$4,1,Database!AI56,Database!AJ56,Database!AP56),1)","v":29.37},0.1245864087554085,{"$error":"#N/A"},{"$f":"INDEX(Database!E56:AW56,'Graph of Two Series'!$O$2)/G61","v":{"$error":"#N/A"}},{"$f":"INDEX(Database!E56:AW56,'Graph of Two Series'!$O$6)/G61","v":{"$error":"#N/A"}},{"$error":"#N/A"}]
[null,null,null,{"$f":"Database!D57","v":"1960-02-01"},false,{"$f":"IF($O$4,CHOOSE($U$4,1,Database!AI57,Database!AJ57,Database!AP57),1)","v":29.41},0.12475608721472808,{"$error":"#N/A"},{"$f":"INDEX(Database!E57:AW57,'Graph of Two Series'!$O$2)/G62","v":{"$error":"#N/A"}},{"$f":"INDEX(Database!E57:AW57,'Graph of Two Series'!$O$6)/G62","v":{"$error":"#N/A"}},{"$error":"#N/A"}]
[null,null,null,{"$f":"Database!D58","v":"1960-03-01"},false,{"$f":"IF($O$4,CHOOSE($U$4,1,Database!AI58,Database!AJ58,Database!AP58),1)","v":29.41},0.12475608721472808,{"$error":"#N/A"},{"$f":"INDEX(Database!E58:AW58,'Graph of Two Series'!$O$2)/G63","v":{"$error":"#N/A"}},{"$f":"INDEX(Database!E58:AW58,'Graph of Two Series'!$O$6)/G63","v":{"$error":"#N/A"}},{"$error":"#N/A"}]
[null,null,null,{"$f":"Database!D59","v":"1960-04-01"},false,{"$f":"IF($O$4,CHOOSE($U$4,1,Database!AI59,Database!AJ59,Database!AP59),1)","v":29.54},0.12530754220751675,{"$error":"#N/A"},{"$f":"INDEX(Database!E59:AW59,'Graph of Two Series'!$O$2)/G64","v":{"$error":"#N/A"}},{"$f":"INDEX(Database!E59:AW59,'Graph of Two Series'!$O$6)/G64","v":{"$error":"#N/A"}},{"$error":"#N/A"}]
[null,null,null,{"$f":"Database!D60","v":"1960-05-01"},false,{"$f":"IF($O$4,CHOOSE($U$4,1,Database!AI60,Database!AJ60,Database!AP60),1)","v":29.57},0.12543480105200644,{"$error":"#N/A"},{"$f":"INDEX(Database!E60:AW60,'Graph of Two Series'!$O$2)/G65","v":{"$error":"#N/A"}},{"$f":"INDEX(Database!E60:AW60,'Graph of Two Series'!$O$6)/G65","v":{"$error":"#N/A"}},{"$error":"#N/A"}]
[null,null,null,{"$f":"Database!D61","v":"1960-06-01"},false,{"$f":"IF($O$4,CHOOSE($U$4,1,Database!AI61,Database!AJ61,Database!AP61),1)","v":29.61},0.12560447951132603,{"$error":"#N/A"},{"$f":"INDEX(Database!E61:AW61,'Graph of Two Series'!$O$2)/G66","v":{"$error":"#N/A"}},{"$f":"INDEX(Database!E61:AW61,'Graph of Two Series'!$O$6)/G66","v":{"$error":"#N/A"}},{"$error":"#N/A"}]
[null,null,null,{"$f":"Database!D62","v":"1960-07-01"},false,{"$f":"IF($O$4,CHOOSE($U$4,1,Database!AI62,Database!AJ62,Database!AP62),1)","v":29.55},0.12534996182234664,{"$error":"#N/A"},{"$f":"INDEX(Database!E62:AW62,'Graph of Two Series'!$O$2)/G67","v":{"$error":"#N/A"}},{"$f":"INDEX(Database!E62:AW62,'Graph of Two Series'!$O$6)/G67","v":{"$error":"#N/A"}},{"$error":"#N/A"}]
[null,null,null,{"$f":"Database!D63","v":"1960-08-01"},false,{"$f":"IF($O$4,CHOOSE($U$4,1,Database!AI63,Database!AJ63,Database!AP63),1)","v":29.61},0.12560447951132603,{"$error":"#N/A"},{"$f":"INDEX(Database!E63:AW63,'Graph of Two Series'!$O$2)/G68","v":{"$error":"#N/A"}},{"$f":"INDEX(Database!E63:AW63,'Graph of Two Series'!$O$6)/G68","v":{"$error":"#N/A"}},{"$error":"#N/A"}]
[null,null,null,{"$f":"Database!D64","v":"1960-09-01"},false,{"$f":"IF($O$4,CHOOSE($U$4,1,Database!AI64,Database!AJ64,Database!AP64),1)","v":29.61},0.12560447951132603,{"$error":"#N/A"},{"$f":"INDEX(Database!E64:AW64,'Graph of Two Series'!$O$2)/G69","v":{"$error":"#N/A"}},{"$f":"INDEX(Database!E64:AW64,'Graph of Two Series'!$O$6)/G69","v":{"$error":"#N/A"}},{"$error":"#N/A"}]
[null,null,null,{"$f":"Database!D65","v":"1960-10-01"},false,{"$f":"IF($O$4,CHOOSE($U$4,1,Database!AI65,Database!AJ65,Database!AP65),1)","v":29.75},0.12619835411894459,{"$error":"#N/A"},{"$f":"INDEX(Database!E65:AW65,'Graph of Two Series'!$O$2)/G70","v":{"$error":"#N/A"}},{"$f":"INDEX(Database!E65:AW65,'Graph of Two Series'!$O$6)/G70","v":{"$error":"#N/A"}},{"$error":"#N/A"}]
[null,null,null,{"$f":"Database!D66","v":"1960-11-01"},false,{"$f":"IF($O$4,CHOOSE($U$4,1,Database!AI66,Database!AJ66,Database!AP66),1)","v":29.78},0.12632561296343428,{"$error":"#N/A"},{"$f":"INDEX(Database!E66:AW66,'Graph of Two Series'!$O$2)/G71","v":{"$error":"#N/A"}},{"$f":"INDEX(Database!E66:AW66,'Graph of Two Series'!$O$6)/G71","v":{"$error":"#N/A"}},{"$error":"#N/A"}]
[null,null,null,{"$f":"Database!D67","v":"1960-12-01"},false,{"$f":"IF($O$4,CHOOSE($U$4,1,Database!AI67,Database!AJ67,Database!AP67),1)","v":29.81},0.12645287180792397,{"$error":"#N/A"},{"$f":"INDEX(Database!E67:AW67,'Graph of Two Series'!$O$2)/G72","v":{"$error":"#N/A"}},{"$f":"INDEX(Database!E67:AW67,'Graph of Two Series'!$O$6)/G72","v":{"$error":"#N/A"}},{"$error":"#N/A"}]
[null,null,null,{"$f":"Database!D68","v":"1961-01-01"},false,{"$f":"IF($O$4,CHOOSE($U$4,1,Database!AI68,Database!AJ68,Database!AP68),1)","v":29.84},0.12658013065241366,{"$error":"#N/A"},{"$f":"INDEX(Database!E68:AW68,'Graph of Two Series'!$O$2)/G73","v":{"$error":"#N/A"}},{"$f":"INDEX(Database!E68:AW68,'Graph of Two Series'!$O$6)/G73","v":{"$error":"#N/A"}},{"$error":"#N/A"}]
[null,null,null,{"$f":"Database!D69","v":"1961-02-01"},false,{"$f":"IF($O$4,CHOOSE($U$4,1,Database!AI69,Database!AJ69,Database!AP69),1)","v":29.84},0.12658013065241366,{"$error":"#N/A"},{"$f":"INDEX(Database!E69:AW69,'Graph of Two Series'!$O$2)/G74","v":{"$error":"#N/A"}},{"$f":"INDEX(Database!E69:AW69,'Graph of Two Series'!$O$6)/G74","v":{"$error":"#N/A"}},{"$error":"#N/A"}]
[null,null,null,{"$f":"Database!D70","v":"1961-03-01"},false,{"$f":"IF($O$4,CHOOSE($U$4,1,Database!AI70,Database!AJ70,Database!AP70),1)","v":29.84},0.12658013065241366,{"$error":"#N/A"},{"$f":"INDEX(Database!E70:AW70,'Graph of Two Series'!$O$2)/G75","v":{"$error":"#N/A"}},{"$f":"INDEX(Database!E70:AW70,'Graph of Two Series'!$O$6)/G75","v":{"$error":"#N/A"}},{"$error":"#N/A"}]
[null,null,null,{"$f":"Database!D71","v":"1961-04-01"},false,{"$f":"IF($O$4,CHOOSE($U$4,1,Database!AI71,Database!AJ71,Database!AP71),1)","v":29.81},0.12645287180792397,{"$error":"#N/A"},{"$f":"INDEX(Database!E71:AW71,'Graph of Two Series'!$O$2)/G76","v":{"$error":"#N/A"}},{"$f":"INDEX(Database!E71:AW71,'Graph of Two Series'!$O$6)/G76","v":{"$error":"#N/A"}},{"$error":"#N/A"}]
[null,null,null,{"$f":"Database!D72","v":"1961-05-01"},false,{"$f":"IF($O$4,CHOOSE($U$4,1,Database!AI72,Database!AJ72,Database!AP72),1)","v":29.84},{"$f":"F77/$G$5","v":0.12658013065241366},{"$f":"IF(E77,D77,NA())","v":{"$error":"#N/A"}},{"$f":"INDEX(Database!E72:AW72,'Graph of Two Series'!$O$2)/G77","v":{"$error":"#N/A"}},{"$f":"INDEX(Database!E72:AW72,'Graph of Two Series'!$O$6)/G77","v":{"$error":"#N/A"}},{"$error":"#N/A"}]
[null,null,null,{"$f":"Database!D73","v":"1961-06-01"},{"$f":"AND($D78>=E$11,$D78<=E$12)","v":false},{"$f":"IF($O$4,CHOOSE($U$4,1,Database!AI73,Database!AJ73,Database!AP73),1)","v":29.84},0.12658013065241366,{"$error":"#N/A"},{"$f":"INDEX(Database!E73:AW73,'Graph of Two Series'!$O$2)/G78","v":{"$error":"#N/A"}},{"$f":"INDEX(Database!E73:AW73,'Graph of Two Series'!$O$6)/G78","v":{"$error":"#N/A"}},{"$error":"#N/A"}]
[null,null,null,{"$f":"Database!D74","v":"1961-07-01"},false,{"$f":"IF($O$4,CHOOSE($U$4,1,Database!AI74,Database!AJ74,Database!AP74),1)","v":29.92},0.12691948757105287,{"$error":"#N/A"},{"$f":"INDEX(Database!E74:AW74,'Graph of Two Series'!$O$2)/G79","v":{"$error":"#N/A"}},{"$f":"INDEX(Database!E74:AW74,'Graph of Two Series'!$O$6)/G79","v":{"$error":"#N/A"}},{"$f":"J79-J78","v":{"$error":"#N/A"}}]
[null,null,null,{"$f":"Database!D75","v":"1961-08-01"},false,{"$f":"IF($O$4,CHOOSE($U$4,1,Database!AI75,Database!AJ75,Database!AP75),1)","v":29.94},0.12700432680071266,{"$error":"#N/A"},{"$f":"INDEX(Database!E75:AW75,'Graph of Two Series'!$O$2)/G80","v":{"$error":"#N/A"}},{"$f":"INDEX(Database!E75:AW75,'Graph of Two Series'!$O$6)/G80","v":{"$error":"#N/A"}},{"$error":"#N/A"}]
[null,null,null,{"$f":"Database!D76","v":"1961-09-01"},false,{"$f":"IF($O$4,CHOOSE($U$4,1,Database!AI76,Database!AJ76,Database!AP76),1)","v":29.98},0.12717400526003222,{"$error":"#N/A"},{"$f":"INDEX(Database!E76:AW76,'Graph of Two Series'!$O$2)/G81","v":{"$error":"#N/A"}},{"$f":"INDEX(Database!E76:AW76,'Graph of Two Series'!$O$6)/G81","v":{"$error":"#N/A"}},{"$error":"#N/A"}]
[null,null,null,{"$f":"Database!D77","v":"1961-10-01"},false,{"$f":"IF($O$4,CHOOSE($U$4,1,Database!AI77,Database!AJ77,Database!AP77),1)","v":29.98},0.12717400526003222,{"$error":"#N/A"},{"$f":"INDEX(Database!E77:AW77,'Graph of Two Series'!$O$2)/G82","v":{"$error":"#N/A"}},{"$f":"INDEX(Database!E77:AW77,'Graph of Two Series'!$O$6)/G82","v":{"$error":"#N/A"}},{"$error":"#N/A"}]
[null,null,null,{"$f":"Database!D78","v":"1961-11-01"},false,{"$f":"IF($O$4,CHOOSE($U$4,1,Database!AI78,Database!AJ78,Database!AP78),1)","v":29.98},0.12717400526003222,{"$error":"#N/A"},{"$f":"INDEX(Database!E78:AW78,'Graph of Two Series'!$O$2)/G83","v":{"$error":"#N/A"}},{"$f":"INDEX(Database!E78:AW78,'Graph of Two Series'!$O$6)/G83","v":{"$error":"#N/A"}},{"$error":"#N/A"}]
[null,null,null,{"$f":"Database!D79","v":"1961-12-01"},false,{"$f":"IF($O$4,CHOOSE($U$4,1,Database!AI79,Database!AJ79,Database!AP79),1)","v":30.01},0.12730126410452194,{"$error":"#N/A"},{"$f":"INDEX(Database!E79:AW79,'Graph of Two Series'!$O$2)/G84","v":{"$error":"#N/A"}},{"$f":"INDEX(Database!E79:AW79,'Graph of Two Series'!$O$6)/G84","v":{"$error":"#N/A"}},{"$error":"#N/A"}]
[null,null,null,{"$f":"Database!D80","v":"1962-01-01"},false,{"$f":"IF($O$4,CHOOSE($U$4,1,Database!AI80,Database!AJ80,Database!AP80),1)","v":30.04},0.12742852294901161,{"$error":"#N/A"},{"$f":"INDEX(Database!E80:AW80,'Graph of Two Series'!$O$2)/G85","v":{"$error":"#N/A"}},{"$f":"INDEX(Database!E80:AW80,'Graph of Two Series'!$O$6)/G85","v":{"$error":"#N/A"}},{"$error":"#N/A"}]
[null,null,null,{"$f":"Database!D81","v":"1962-02-01"},false,{"$f":"IF($O$4,CHOOSE($U$4,1,Database!AI81,Database!AJ81,Database!AP81),1)","v":30.11},0.12772546025282089,{"$error":"#N/A"},{"$f":"INDEX(Database!E81:AW81,'Graph of Two Series'!$O$2)/G86","v":{"$error":"#N/A"}},{"$f":"INDEX(Database!E81:AW81,'Graph of Two Series'!$O$6)/G86","v":{"$error":"#N/A"}},{"$error":"#N/A"}]
[null,null,null,{"$f":"Database!D82","v":"1962-03-01"},false,{"$f":"IF($O$4,CHOOSE($U$4,1,Database!AI82,Database!AJ82,Database!AP82),1)","v":30.17},0.1279799779418003,{"$error":"#N/A"},{"$f":"INDEX(Database!E82:AW82,'Graph of Two Series'!$O$2)/G87","v":{"$error":"#N/A"}},{"$f":"INDEX(Database!E82:AW82,'Graph of Two Series'!$O$6)/G87","v":{"$error":"#N/A"}},{"$error":"#N/A"}]
[null,null,null,{"$f":"Database!D83","v":"1962-04-01"},false,{"$f":"IF($O$4,CHOOSE($U$4,1,Database!AI83,Database!AJ83,Database!AP83),1)","v":30.21},0.12814965640111989,{"$error":"#N/A"},{"$f":"INDEX(Database!E83:AW83,'Graph of Two Series'!$O$2)/G88","v":{"$error":"#N/A"}},{"$f":"INDEX(Database!E83:AW83,'Graph of Two Series'!$O$6)/G88","v":{"$error":"#N/A"}},{"$error":"#N/A"}]
[null,null,null,{"$f":"Database!D84","v":"1962-05-01"},false,{"$f":"IF($O$4,CHOOSE($U$4,1,Database!AI84,Database!AJ84,Database!AP84),1)","v":30.24},0.12827691524560955,{"$error":"#N/A"},{"$f":"INDEX(Database!E84:AW84,'Graph of Two Series'!$O$2)/G89","v":{"$error":"#N/A"}},{"$f":"INDEX(Database!E84:AW84,'Graph of Two Series'!$O$6)/G89","v":{"$error":"#N/A"}},{"$error":"#N/A"}]
[null,null,null,{"$f":"Database!D85","v":"1962-06-01"},false,{"$f":"IF($O$4,CHOOSE($U$4,1,Database!AI85,Database!AJ85,Database!AP85),1)","v":30.21},0.12814965640111989,{"$error":"#N/A"},{"$f":"INDEX(Database!E85:AW85,'Graph of Two Series'!$O$2)/G90","v":{"$error":"#N/A"}},{"$f":"INDEX(Database!E85:AW85,'Graph of Two Series'!$O$6)/G90","v":{"$error":"#N/A"}},{"$error":"#N/A"}]
[null,null,null,{"$f":"Database!D86","v":"1962-07-01"},false,{"$f":"IF($O$4,CHOOSE($U$4,1,Database!AI86,Database!AJ86,Database!AP86),1)","v":30.22},0.12819207601594976,{"$error":"#N/A"},{"$f":"INDEX(Database!E86:AW86,'Graph of Two Series'!$O$2)/G91","v":{"$error":"#N/A"}},{"$f":"INDEX(Database!E86:AW86,'Graph of Two Series'!$O$6)/G91","v":{"$error":"#N/A"}},{"$error":"#N/A"}]
[null,null,null,{"$f":"Database!D87","v":"1962-08-01"},false,{"$f":"IF($O$4,CHOOSE($U$4,1,Database!AI87,Database!AJ87,Database!AP87),1)","v":30.28},0.12844659370492917,{"$error":"#N/A"},{"$f":"INDEX(Database!E87:AW87,'Graph of Two Series'!$O$2)/G92","v":{"$error":"#N/A"}},{"$f":"INDEX(Database!E87:AW87,'Graph of Two Series'!$O$6)/G92","v":{"$error":"#N/A"}},{"$error":"#N/A"}]
[null,null,null,{"$f":"Database!D88","v":"1962-09-01"},false,{"$f":"IF($O$4,CHOOSE($U$4,1,Database!AI88,Database!AJ88,Database!AP88),1)","v":30.42},0.12904046831254773,{"$error":"#N/A"},{"$f":"INDEX(Database!E88:AW88,'Graph of Two Series'!$O$2)/G93","v":{"$error":"#N/A"}},{"$f":"INDEX(Database!E88:AW88,'Graph of Two Series'!$O$6)/G93","v":{"$error":"#N/A"}},{"$error":"#N/A"}]
[null,null,null,{"$f":"Database!D89","v":"1962-10-01"},false,{"$f":"IF($O$4,CHOOSE($U$4,1,Database!AI89,Database!AJ89,Database!AP89),1)","v":30.38},0.12887078985322811,{"$error":"#N/A"},{"$f":"INDEX(Database!E89:AW89,'Graph of Two Series'!$O$2)/G94","v":{"$error":"#N/A"}},{"$f":"INDEX(Database!E89:AW89,'Graph of Two Series'!$O$6)/G94","v":{"$error":"#N/A"}},{"$error":"#N/A"}]
[null,null,null,{"$f":"Database!D90","v":"1962-11-01"},false,{"$f":"IF($O$4,CHOOSE($U$4,1,Database!AI90,Database!AJ90,Database!AP90),1)","v":30.38},0.12887078985322811,{"$error":"#N/A"},{"$f":"INDEX(Database!E90:AW90,'Graph of Two Series'!$O$2)/G95","v":{"$error":"#N/A"}},{"$f":"INDEX(Database!E90:AW90,'Graph of Two Series'!$O$6)/G95","v":{"$error":"#N/A"}},{"$error":"#N/A"}]
[null,null,null,{"$f":"Database!D91","v":"1962-12-01"},false,{"$f":"IF($O$4,CHOOSE($U$4,1,Database!AI91,Database!AJ91,Database!AP91),1)","v":30.38},0.12887078985322811,{"$error":"#N/A"},{"$f":"INDEX(Database!E91:AW91,'Graph of Two Series'!$O$2)/G96","v":{"$error":"#N/A"}},{"$f":"INDEX(Database!E91:AW91,'Graph of Two Series'!$O$6)/G96","v":{"$error":"#N/A"}},{"$error":"#N/A"}]
[null,null,null,{"$f":"Database!D92","v":"1963-01-01"},false,{"$f":"IF($O$4,CHOOSE($U$4,1,Database!AI92,Database!AJ92,Database!AP92),1)","v":30.44},0.12912530754220752,{"$error":"#N/A"},{"$f":"INDEX(Database!E92:AW92,'Graph of Two Series'!$O$2)/G97","v":{"$error":"#N/A"}},{"$f":"INDEX(Database!E92:AW92,'Graph of Two Series'!$O$6)/G97","v":{"$error":"#N/A"}},{"$error":"#N/A"}]
[null,null,null,{"$f":"Database!D93","v":"1963-02-01"},false,{"$f":"IF($O$4,CHOOSE($U$4,1,Database!AI93,Database!AJ93,Database!AP93),1)","v":30.48},0.12929498600152711,{"$error":"#N/A"},{"$f":"INDEX(Database!E93:AW93,'Graph of Two Series'!$O$2)/G98","v":{"$error":"#N/A"}},{"$f":"INDEX(Database!E93:AW93,'Graph of Two Series'!$O$6)/G98","v":{"$error":"#N/A"}},{"$error":"#N/A"}]
[null,null,null,{"$f":"Database!D94","v":"1963-03-01"},false,{"$f":"IF($O$4,CHOOSE($U$4,1,Database!AI94,Database!AJ94,Database!AP94),1)","v":30.51},0.1294222448460168,{"$error":"#N/A"},{"$f":"INDEX(Database!E94:AW94,'Graph of Two Series'!$O$2)/G99","v":{"$error":"#N/A"}},{"$f":"INDEX(Database!E94:AW94,'Graph of Two Series'!$O$6)/G99","v":{"$error":"#N/A"}},{"$error":"#N/A"}]
[null,null,null,{"$f":"Database!D95","v":"1963-04-01"},false,{"$f":"IF($O$4,CHOOSE($U$4,1,Database!AI95,Database!AJ95,Database!AP95),1)","v":30.48},0.12929498600152711,{"$error":"#N/A"},{"$f":"INDEX(Database!E95:AW95,'Graph of Two Series'!$O$2)/G100","v":{"$error":"#N/A"}},{"$f":"INDEX(Database!E95:AW95,'Graph of Two Series'!$O$6)/G100","v":{"$error":"#N/A"}},{"$error":"#N/A"}]
[null,null,null,{"$f":"Database!D96","v":"1963-05-01"},false,{"$f":"IF($O$4,CHOOSE($U$4,1,Database!AI96,Database!AJ96,Database!AP96),1)","v":30.51},0.1294222448460168,{"$error":"#N/A"},{"$f":"INDEX(Database!E96:AW96,'Graph of Two Series'!$O$2)/G101","v":{"$error":"#N/A"}},{"$f":"INDEX(Database!E96:AW96,'Graph of Two Series'!$O$6)/G101","v":{"$error":"#N/A"}},{"$error":"#N/A"}]
[null,null,null,{"$f":"Database!D97","v":"1963-06-01"},false,{"$f":"IF($O$4,CHOOSE($U$4,1,Database!AI97,Database!AJ97,Database!AP97),1)","v":30.61},0.12984644099431578,{"$error":"#N/A"},{"$f":"INDEX(Database!E97:AW97,'Graph of Two Series'!$O$2)/G102","v":{"$error":"#N/A"}},{"$f":"INDEX(Database!E97:AW97,'Graph of Two Series'!$O$6)/G102","v":{"$error":"#N/A"}},{"$error":"#N/A"}]
[null,null,null,{"$f":"Database!D98","v":"1963-07-01"},false,{"$f":"IF($O$4,CHOOSE($U$4,1,Database!AI98,Database!AJ98,Database!AP98),1)","v":30.69},0.13018579791295495,{"$error":"#N/A"},{"$f":"INDEX(Database!E98:AW98,'Graph of Two Series'!$O$2)/G103","v":{"$error":"#N/A"}},{"$f":"INDEX(Database!E98:AW98,'Graph of Two Series'!$O$6)/G103","v":{"$error":"#N/A"}},{"$error":"#N/A"}]
[null,null,null,{"$f":"Database!D99","v":"1963-08-01"},false,{"$f":"IF($O$4,CHOOSE($U$4,1,Database!AI99,Database!AJ99,Database!AP99),1)","v":30.75},0.13044031560193434,{"$error":"#N/A"},{"$f":"INDEX(Database!E99:AW99,'Graph of Two Series'!$O$2)/G104","v":{"$error":"#N/A"}},{"$f":"INDEX(Database!E99:AW99,'Graph of Two Series'!$O$6)/G104","v":{"$error":"#N/A"}},{"$error":"#N/A"}]
[null,null,null,{"$f":"Database!D100","v":"1963-09-01"},false,{"$f":"IF($O$4,CHOOSE($U$4,1,Database!AI100,Database!AJ100,Database!AP100),1)","v":30.72},0.13031305675744465,{"$error":"#N/A"},{"$f":"INDEX(Database!E100:AW100,'Graph of Two Series'!$O$2)/G105","v":{"$error":"#N/A"}},{"$f":"INDEX(Database!E100:AW100,'Graph of Two Series'!$O$6)/G105","v":{"$error":"#N/A"}},{"$error":"#N/A"}]
[null,null,null,{"$f":"Database!D101","v":"1963-10-01"},false,{"$f":"IF($O$4,CHOOSE($U$4,1,Database!AI101,Database!AJ101,Database!AP101),1)","v":30.75},0.13044031560193434,{"$error":"#N/A"},{"$f":"INDEX(Database!E101:AW101,'Graph of Two Series'!$O$2)/G106","v":{"$error":"#N/A"}},{"$f":"INDEX(Database!E101:AW101,'Graph of Two Series'!$O$6)/G106","v":{"$error":"#N/A"}},{"$error":"#N/A"}]
[null,null,null,{"$f":"Database!D102","v":"1963-11-01"},false,{"$f":"IF($O$4,CHOOSE($U$4,1,Database!AI102,Database!AJ102,Database!AP102),1)","v":30.78},0.13056757444642403,{"$error":"#N/A"},{"$f":"INDEX(Database!E102:AW102,'Graph of Two Series'!$O$2)/G107","v":{"$error":"#N/A"}},{"$f":"INDEX(Database!E102:AW102,'Graph of Two Series'!$O$6)/G107","v":{"$error":"#N/A"}},{"$error":"#N/A"}]
[null,null,null,{"$f":"Database!D103","v":"1963-12-01"},false,{"$f":"IF($O$4,CHOOSE($U$4,1,Database!AI103,Database!AJ103,Database!AP103),1)","v":30.88},0.130991770594723,{"$error":"#N/A"},{"$f":"INDEX(Database!E103:AW103,'Graph of Two Series'!$O$2)/G108","v":{"$error":"#N/A"}},{"$f":"INDEX(Database!E103:AW103,'Graph of Two Series'!$O$6)/G108","v":{"$error":"#N/A"}},{"$error":"#N/A"}]
[null,null,null,{"$f":"Database!D104","v":"1964-01-01"},false,{"$f":"IF($O$4,CHOOSE($U$4,1,Database!AI104,Database!AJ104,Database!AP104),1)","v":30.94},0.13124628828370238,{"$error":"#N/A"},{"$f":"INDEX(Database!E104:AW104,'Graph of Two Series'!$O$2)/G109","v":{"$error":"#N/A"}},{"$f":"INDEX(Database!E104:AW104,'Graph of Two Series'!$O$6)/G109","v":{"$error":"#N/A"}},{"$error":"#N/A"}]
[null,null,null,{"$f":"Database!D105","v":"1964-02-01"},false,{"$f":"IF($O$4,CHOOSE($U$4,1,Database!AI105,Database!AJ105,Database!AP105),1)","v":30.91},0.13111902943921269,{"$error":"#N/A"},{"$f":"INDEX(Database!E105:AW105,'Graph of Two Series'!$O$2)/G110","v":{"$error":"#N/A"}},{"$f":"INDEX(Database!E105:AW105,'Graph of Two Series'!$O$6)/G110","v":{"$error":"#N/A"}},{"$error":"#N/A"}]
[null,null,null,{"$f":"Database!D106","v":"1964-03-01"},false,{"$f":"IF($O$4,CHOOSE($U$4,1,Database!AI106,Database!AJ106,Database!AP106),1)","v":30.94},0.13124628828370238,{"$error":"#N/A"},{"$f":"INDEX(Database!E106:AW106,'Graph of Two Series'!$O$2)/G111","v":{"$error":"#N/A"}},{"$f":"INDEX(Database!E106:AW106,'Graph of Two Series'!$O$6)/G111","v":{"$error":"#N/A"}},{"$error":"#N/A"}]
[null,null,null,{"$f":"Database!D107","v":"1964-04-01"},false,{"$f":"IF($O$4,CHOOSE($U$4,1,Database!AI107,Database!AJ107,Database!AP107),1)","v":30.95},0.13128870789853228,{"$error":"#N/A"},{"$f":"INDEX(Database!E107:AW107,'Graph of Two Series'!$O$2)/G112","v":{"$error":"#N/A"}},{"$f":"INDEX(Database!E107:AW107,'Graph of Two Series'!$O$6)/G112","v":{"$error":"#N/A"}},{"$error":"#N/A"}]
[null,null,null,{"$f":"Database!D108","v":"1964-05-01"},false,{"$f":"IF($O$4,CHOOSE($U$4,1,Database!AI108,Database!AJ108,Database!AP108),1)","v":30.98},0.13141596674302197,{"$error":"#N/A"},{"$f":"INDEX(Database!E108:AW108,'Graph of Two Series'!$O$2)/G113","v":{"$error":"#N/A"}},{"$f":"INDEX(Database!E108:AW108,'Graph of Two Series'!$O$6)/G113","v":{"$error":"#N/A"}},{"$error":"#N/A"}]
[null,null,null,{"$f":"Database!D109","v":"1964-06-01"},false,{"$f":"IF($O$4,CHOOSE($U$4,1,Database!AI109,Database!AJ109,Database!AP109),1)","v":31.01},0.13154322558751166,{"$error":"#N/A"},{"$f":"INDEX(Database!E109:AW109,'Graph of Two Series'!$O$2)/G114","v":{"$error":"#N/A"}},{"$f":"INDEX(Database!E109:AW109,'Graph of Two Series'!$O$6)/G114","v":{"$error":"#N/A"}},{"$error":"#N/A"}]
[null,null,null,{"$f":"Database!D110","v":"1964-07-01"},false,{"$f":"IF($O$4,CHOOSE($U$4,1,Database!AI110,Database!AJ110,Database!AP110),1)","v":31.02},0.13158564520234156,{"$error":"#N/A"},{"$f":"INDEX(Database!E110:AW110,'Graph of Two Series'!$O$2)/G115","v":{"$error":"#N/A"}},{"$f":"INDEX(Database!E110:AW110,'Graph of Two Series'!$O$6)/G115","v":{"$error":"#N/A"}},{"$error":"#N/A"}]
[null,null,null,{"$f":"Database!D111","v":"1964-08-01"},false,{"$f":"IF($O$4,CHOOSE($U$4,1,Database!AI111,Database!AJ111,Database!AP111),1)","v":31.05},0.13171290404683125,{"$error":"#N/A"},{"$f":"INDEX(Database!E111:AW111,'Graph of Two Series'!$O$2)/G116","v":{"$error":"#N/A"}},{"$f":"INDEX(Database!E111:AW111,'Graph of Two Series'!$O$6)/G116","v":{"$error":"#N/A"}},{"$error":"#N/A"}]
[null,null,null,{"$f":"Database!D112","v":"1964-09-01"},false,{"$f":"IF($O$4,CHOOSE($U$4,1,Database!AI112,Database!AJ112,Database!AP112),1)","v":31.08},0.13184016289132094,{"$error":"#N/A"},{"$f":"INDEX(Database!E112:AW112,'Graph of Two Series'!$O$2)/G117","v":{"$error":"#N/A"}},{"$f":"INDEX(Database!E112:AW112,'Graph of Two Series'!$O$6)/G117","v":{"$error":"#N/A"}},{"$error":"#N/A"}]
[null,null,null,{"$f":"Database!D113","v":"1964-10-01"},false,{"$f":"IF($O$4,CHOOSE($U$4,1,Database!AI113,Database!AJ113,Database!AP113),1)","v":31.12},0.13200984135064053,{"$error":"#N/A"},{"$f":"INDEX(Database!E113:AW113,'Graph of Two Series'!$O$2)/G118","v":{"$error":"#N/A"}},{"$f":"INDEX(Database!E113:AW113,'Graph of Two Series'!$O$6)/G118","v":{"$error":"#N/A"}},{"$error":"#N/A"}]
[null,null,null,{"$f":"Database!D114","v":"1964-11-01"},false,{"$f":"IF($O$4,CHOOSE($U$4,1,Database!AI114,Database!AJ114,Database!AP114),1)","v":31.21},0.13239161788410961,{"$error":"#N/A"},{"$f":"INDEX(Database!E114:AW114,'Graph of Two Series'!$O$2)/G119","v":{"$error":"#N/A"}},{"$f":"INDEX(Database!E114:AW114,'Graph of Two Series'!$O$6)/G119","v":{"$error":"#N/A"}},{"$error":"#N/A"}]
[null,null,null,{"$f":"Database!D115","v":"1964-12-01"},false,{"$f":"IF($O$4,CHOOSE($U$4,1,Database!AI115,Database!AJ115,Database!AP115),1)","v":31.25},0.1325612963434292,{"$error":"#N/A"},{"$f":"INDEX(Database!E115:AW115,'Graph of Two Series'!$O$2)/G120","v":{"$error":"#N/A"}},{"$f":"INDEX(Database!E115:AW115,'Graph of Two Series'!$O$6)/G120","v":{"$error":"#N/A"}},{"$error":"#N/A"}]
[null,null,null,{"$f":"Database!D116","v":"1965-01-01"},false,{"$f":"IF($O$4,CHOOSE($U$4,1,Database!AI116,Database!AJ116,Database!AP116),1)","v":31.28},0.13268855518791889,{"$error":"#N/A"},{"$f":"INDEX(Database!E116:AW116,'Graph of Two Series'!$O$2)/G121","v":{"$error":"#N/A"}},{"$f":"INDEX(Database!E116:AW116,'Graph of Two Series'!$O$6)/G121","v":{"$error":"#N/A"}},{"$error":"#N/A"}]
[null,null,null,{"$f":"Database!D117","v":"1965-02-01"},false,{"$f":"IF($O$4,CHOOSE($U$4,1,Database!AI117,Database!AJ117,Database!AP117),1)","v":31.28},0.13268855518791889,{"$error":"#N/A"},{"$f":"INDEX(Database!E117:AW117,'Graph of Two Series'!$O$2)/G122","v":{"$error":"#N/A"}},{"$f":"INDEX(Database!E117:AW117,'Graph of Two Series'!$O$6)/G122","v":{"$error":"#N/A"}},{"$error":"#N/A"}]
[null,null,null,{"$f":"Database!D118","v":"1965-03-01"},false,{"$f":"IF($O$4,CHOOSE($U$4,1,Database!AI118,Database!AJ118,Database!AP118),1)","v":31.31},0.13281581403240858,{"$error":"#N/A"},{"$f":"INDEX(Database!E118:AW118,'Graph of Two Series'!$O$2)/G123","v":{"$error":"#N/A"}},{"$f":"INDEX(Database!E118:AW118,'Graph of Two Series'!$O$6)/G123","v":{"$error":"#N/A"}},{"$error":"#N/A"}]
[null,null,null,{"$f":"Database!D119","v":"1965-04-01"},false,{"$f":"IF($O$4,CHOOSE($U$4,1,Database!AI119,Database!AJ119,Database!AP119),1)","v":31.38},0.13311275133621786,{"$error":"#N/A"},{"$f":"INDEX(Database!E119:AW119,'Graph of Two Series'!$O$2)/G124","v":{"$error":"#N/A"}},{"$f":"INDEX(Database!E119:AW119,'Graph of Two Series'!$O$6)/G124","v":{"$error":"#N/A"}},{"$error":"#N/A"}]
[null,null,null,{"$f":"Database!D120","v":"1965-05-01"},false,{"$f":"IF($O$4,CHOOSE($U$4,1,Database!AI120,Database!AJ120,Database!AP120),1)","v":31.48},0.13353694748451683,{"$error":"#N/A"},{"$f":"INDEX(Database!E120:AW120,'Graph of Two Series'!$O$2)/G125","v":{"$error":"#N/A"}},{"$f":"INDEX(Database!E120:AW120,'Graph of Two Series'!$O$6)/G125","v":{"$error":"#N/A"}},{"$error":"#N/A"}]
[null,null,null,{"$f":"Database!D121","v":"1965-06-01"},false,{"$f":"IF($O$4,CHOOSE($U$4,1,Database!AI121,Database!AJ121,Database!AP121),1)","v":31.61},0.1340884024773055,{"$error":"#N/A"},{"$f":"INDEX(Database!E121:AW121,'Graph of Two Series'!$O$2)/G126","v":{"$error":"#N/A"}},{"$f":"INDEX(Database!E121:AW121,'Graph of Two Series'!$O$6)/G126","v":{"$error":"#N/A"}},{"$error":"#N/A"}]
[null,null,null,{"$f":"Database!D122","v":"1965-07-01"},false,{"$f":"IF($O$4,CHOOSE($U$4,1,Database!AI122,Database!AJ122,Database!AP122),1)","v":31.58},0.1339611436328158,{"$error":"#N/A"},{"$f":"INDEX(Database!E122:AW122,'Graph of Two Series'!$O$2)/G127","v":{"$error":"#N/A"}},{"$f":"INDEX(Database!E122:AW122,'Graph of Two Series'!$O$6)/G127","v":{"$error":"#N/A"}},{"$error":"#N/A"}]
[null,null,null,{"$f":"Database!D123","v":"1965-08-01"},false,{"$f":"IF($O$4,CHOOSE($U$4,1,Database!AI123,Database!AJ123,Database!AP123),1)","v":31.55},0.13383388478832611,{"$error":"#N/A"},{"$f":"INDEX(Database!E123:AW123,'Graph of Two Series'!$O$2)/G128","v":{"$error":"#N/A"}},{"$f":"INDEX(Database!E123:AW123,'Graph of Two Series'!$O$6)/G128","v":{"$error":"#N/A"}},{"$error":"#N/A"}]
[null,null,null,{"$f":"Database!D124","v":"1965-09-01"},false,{"$f":"IF($O$4,CHOOSE($U$4,1,Database!AI124,Database!AJ124,Database!AP124),1)","v":31.62},0.13413082209213539,{"$error":"#N/A"},{"$f":"INDEX(Database!E124:AW124,'Graph of Two Series'!$O$2)/G129","v":{"$error":"#N/A"}},{"$f":"INDEX(Database!E124:AW124,'Graph of Two Series'!$O$6)/G129","v":{"$error":"#N/A"}},{"$error":"#N/A"}]
[null,null,null,{"$f":"Database!D125","v":"1965-10-01"},false,{"$f":"IF($O$4,CHOOSE($U$4,1,Database!AI125,Database!AJ125,Database!AP125),1)","v":31.65},0.13425808093662508,{"$error":"#N/A"},{"$f":"INDEX(Database!E125:AW125,'Graph of Two Series'!$O$2)/G130","v":{"$error":"#N/A"}},{"$f":"INDEX(Database!E125:AW125,'Graph of Two Series'!$O$6)/G130","v":{"$error":"#N/A"}},{"$error":"#N/A"}]
[null,null,null,{"$f":"Database!D126","v":"1965-11-01"},false,{"$f":"IF($O$4,CHOOSE($U$4,1,Database!AI126,Database!AJ126,Database!AP126),1)","v":31.75},0.13468227708492406,{"$error":"#N/A"},{"$f":"INDEX(Database!E126:AW126,'Graph of Two Series'!$O$2)/G131","v":{"$error":"#N/A"}},{"$f":"INDEX(Database!E126:AW126,'Graph of Two Series'!$O$6)/G131","v":{"$error":"#N/A"}},{"$error":"#N/A"}]
[null,null,null,{"$f":"Database!D127","v":"1965-12-01"},false,{"$f":"IF($O$4,CHOOSE($U$4,1,Database!AI127,Database!AJ127,Database!AP127),1)","v":31.85},0.13510647323322306,{"$error":"#N/A"},{"$f":"INDEX(Database!E127:AW127,'Graph of Two Series'!$O$2)/G132","v":{"$error":"#N/A"}},{"$f":"INDEX(Database!E127:AW127,'Graph of Two Series'!$O$6)/G132","v":{"$error":"#N/A"}},{"$error":"#N/A"}]
[null,null,null,{"$f":"Database!D128","v":"1966-01-01"},false,{"$f":"IF($O$4,CHOOSE($U$4,1,Database!AI128,Database!AJ128,Database!AP128),1)","v":31.88},0.13523373207771272,{"$error":"#N/A"},{"$f":"INDEX(Database!E128:AW128,'Graph of Two Series'!$O$2)/G133","v":{"$error":"#N/A"}},{"$f":"INDEX(Database!E128:AW128,'Graph of Two Series'!$O$6)/G133","v":{"$error":"#N/A"}},{"$error":"#N/A"}]
[null,null,null,{"$f":"Database!D129","v":"1966-02-01"},false,{"$f":"IF($O$4,CHOOSE($U$4,1,Database!AI129,Database!AJ129,Database!AP129),1)","v":32.08},0.13608212437431066,{"$error":"#N/A"},{"$f":"INDEX(Database!E129:AW129,'Graph of Two Series'!$O$2)/G134","v":{"$error":"#N/A"}},{"$f":"INDEX(Database!E129:AW129,'Graph of Two Series'!$O$6)/G134","v":{"$error":"#N/A"}},{"$error":"#N/A"}]
[null,null,null,{"$f":"Database!D130","v":"1966-03-01"},false,{"$f":"IF($O$4,CHOOSE($U$4,1,Database!AI130,Database!AJ130,Database!AP130),1)","v":32.18},0.13650632052260964,{"$error":"#N/A"},{"$f":"INDEX(Database!E130:AW130,'Graph of Two Series'!$O$2)/G135","v":{"$error":"#N/A"}},{"$f":"INDEX(Database!E130:AW130,'Graph of Two Series'!$O$6)/G135","v":{"$error":"#N/A"}},{"$error":"#N/A"}]
[null,null,null,{"$f":"Database!D131","v":"1966-04-01"},false,{"$f":"IF($O$4,CHOOSE($U$4,1,Database!AI131,Database!AJ131,Database!AP131),1)","v":32.28},0.13693051667090864,{"$error":"#N/A"},{"$f":"INDEX(Database!E131:AW131,'Graph of Two Series'!$O$2)/G136","v":{"$error":"#N/A"}},{"$f":"INDEX(Database!E131:AW131,'Graph of Two Series'!$O$6)/G136","v":{"$error":"#N/A"}},{"$error":"#N/A"}]
[null,null,null,{"$f":"Database!D132","v":"1966-05-01"},false,{"$f":"IF($O$4,CHOOSE($U$4,1,Database!AI132,Database!AJ132,Database!AP132),1)","v":32.35},0.13722745397471792,{"$error":"#N/A"},{"$f":"INDEX(Database!E132:AW132,'Graph of Two Series'!$O$2)/G137","v":{"$error":"#N/A"}},{"$f":"INDEX(Database!E132:AW132,'Graph of Two Series'!$O$6)/G137","v":{"$error":"#N/A"}},{"$error":"#N/A"}]
[null,null,null,{"$f":"Database!D133","v":"1966-06-01"},false,{"$f":"IF($O$4,CHOOSE($U$4,1,Database!AI133,Database!AJ133,Database!AP133),1)","v":32.380000000000003},0.13735471281920761,{"$error":"#N/A"},{"$f":"INDEX(Database!E133:AW133,'Graph of Two Series'!$O$2)/G138","v":{"$error":"#N/A"}},{"$f":"INDEX(Database!E133:AW133,'Graph of Two Series'!$O$6)/G138","v":{"$error":"#N/A"}},{"$error":"#N/A"}]
[null,null,null,{"$f":"Database!D134","v":"1966-07-01"},false,{"$f":"IF($O$4,CHOOSE($U$4,1,Database!AI134,Database!AJ134,Database!AP134),1)","v":32.450000000000003},0.13765165012301689,{"$error":"#N/A"},{"$f":"INDEX(Database!E134:AW134,'Graph of Two Series'!$O$2)/G139","v":{"$error":"#N/A"}},{"$f":"INDEX(Database!E134:AW134,'Graph of Two Series'!$O$6)/G139","v":{"$error":"#N/A"}},{"$error":"#N/A"}]
[null,null,null,{"$f":"Database!D135","v":"1966-08-01"},false,{"$f":"IF($O$4,CHOOSE($U$4,1,Database!AI135,Database!AJ135,Database!AP135),1)","v":32.65},0.13850004241961481,{"$error":"#N/A"},{"$f":"INDEX(Database!E135:AW135,'Graph of Two Series'!$O$2)/G140","v":{"$error":"#N/A"}},{"$f":"INDEX(Database!E135:AW135,'Graph of Two Series'!$O$6)/G140","v":{"$error":"#N/A"}},{"$error":"#N/A"}]
[null,null,null,{"$f":"Database!D136","v":"1966-09-01"},false,{"$f":"IF($O$4,CHOOSE($U$4,1,Database!AI136,Database!AJ136,Database!AP136),1)","v":32.75},{"$f":"F141/$G$5","v":0.1389242385679138},{"$f":"IF(E141,D141,NA())","v":{"$error":"#N/A"}},{"$f":"INDEX(Database!E136:AW136,'Graph of Two Series'!$O$2)/G141","v":{"$error":"#N/A"}},{"$f":"INDEX(Database!E136:AW136,'Graph of Two Series'!$O$6)/G141","v":{"$error":"#N/A"}},{"$error":"#N/A"}]
[null,null,null,{"$f":"Database!D137","v":"1966-10-01"},{"$f":"AND($D142>=E$11,$D142<=E$12)","v":false},{"$f":"IF($O$4,CHOOSE($U$4,1,Database!AI137,Database!AJ137,Database!AP137),1)","v":32.85},0.13934843471621278,{"$error":"#N/A"},{"$f":"INDEX(Database!E137:AW137,'Graph of Two Series'!$O$2)/G142","v":{"$error":"#N/A"}},{"$f":"INDEX(Database!E137:AW137,'Graph of Two Series'!$O$6)/G142","v":{"$error":"#N/A"}},{"$error":"#N/A"}]
[null,null,null,{"$f":"Database!D138","v":"1966-11-01"},false,{"$f":"IF($O$4,CHOOSE($U$4,1,Database!AI138,Database!AJ138,Database!AP138),1)","v":32.880000000000003},0.13947569356070247,{"$error":"#N/A"},{"$f":"INDEX(Database!E138:AW138,'Graph of Two Series'!$O$2)/G143","v":{"$error":"#N/A"}},{"$f":"INDEX(Database!E138:AW138,'Graph of Two Series'!$O$6)/G143","v":{"$error":"#N/A"}},{"$f":"J143-J142","v":{"$error":"#N/A"}}]
[null,null,null,{"$f":"Database!D139","v":"1966-12-01"},false,{"$f":"IF($O$4,CHOOSE($U$4,1,Database!AI139,Database!AJ139,Database!AP139),1)","v":32.92},0.13964537202002206,{"$error":"#N/A"},{"$f":"INDEX(Database!E139:AW139,'Graph of Two Series'!$O$2)/G144","v":{"$error":"#N/A"}},{"$f":"INDEX(Database!E139:AW139,'Graph of Two Series'!$O$6)/G144","v":{"$error":"#N/A"}},{"$error":"#N/A"}]
[null,null,null,{"$f":"Database!D140","v":"1967-01-01"},false,{"$f":"IF($O$4,CHOOSE($U$4,1,Database!AI140,Database!AJ140,Database!AP140),1)","v":32.9},0.13956053279036226,{"$error":"#N/A"},{"$f":"INDEX(Database!E140:AW140,'Graph of Two Series'!$O$2)/G145","v":{"$error":"#N/A"}},{"$f":"INDEX(Database!E140:AW140,'Graph of Two Series'!$O$6)/G145","v":{"$error":"#N/A"}},{"$error":"#N/A"}]
[null,null,null,{"$f":"Database!D141","v":"1967-02-01"},false,{"$f":"IF($O$4,CHOOSE($U$4,1,Database!AI141,Database!AJ141,Database!AP141),1)","v":33},0.13998472893866123,{"$error":"#N/A"},{"$f":"INDEX(Database!E141:AW141,'Graph of Two Series'!$O$2)/G146","v":{"$error":"#N/A"}},{"$f":"INDEX(Database!E141:AW141,'Graph of Two Series'!$O$6)/G146","v":{"$error":"#N/A"}},{"$error":"#N/A"}]
[null,null,null,{"$f":"Database!D142","v":"1967-03-01"},false,{"$f":"IF($O$4,CHOOSE($U$4,1,Database!AI142,Database!AJ142,Database!AP142),1)","v":33},0.13998472893866123,{"$error":"#N/A"},{"$f":"INDEX(Database!E142:AW142,'Graph of Two Series'!$O$2)/G147","v":{"$error":"#N/A"}},{"$f":"INDEX(Database!E142:AW142,'Graph of Two Series'!$O$6)/G147","v":{"$error":"#N/A"}},{"$error":"#N/A"}]
[null,null,null,{"$f":"Database!D143","v":"1967-04-01"},false,{"$f":"IF($O$4,CHOOSE($U$4,1,Database!AI143,Database!AJ143,Database!AP143),1)","v":33.1},0.14040892508696021,{"$error":"#N/A"},{"$f":"INDEX(Database!E143:AW143,'Graph of Two Series'!$O$2)/G148","v":{"$error":"#N/A"}},{"$f":"INDEX(Database!E143:AW143,'Graph of Two Series'!$O$6)/G148","v":{"$error":"#N/A"}},{"$error":"#N/A"}]
[null,null,null,{"$f":"Database!D144","v":"1967-05-01"},false,{"$f":"IF($O$4,CHOOSE($U$4,1,Database!AI144,Database!AJ144,Database!AP144),1)","v":33.1},0.14040892508696021,{"$error":"#N/A"},{"$f":"INDEX(Database!E144:AW144,'Graph of Two Series'!$O$2)/G149","v":{"$error":"#N/A"}},{"$f":"INDEX(Database!E144:AW144,'Graph of Two Series'!$O$6)/G149","v":{"$error":"#N/A"}},{"$error":"#N/A"}]
[null,null,null,{"$f":"Database!D145","v":"1967-06-01"},false,{"$f":"IF($O$4,CHOOSE($U$4,1,Database!AI145,Database!AJ145,Database!AP145),1)","v":33.299999999999997},0.14125731738355815,{"$error":"#N/A"},{"$f":"INDEX(Database!E145:AW145,'Graph of Two Series'!$O$2)/G150","v":{"$error":"#N/A"}},{"$f":"INDEX(Database!E145:AW145,'Graph of Two Series'!$O$6)/G150","v":{"$error":"#N/A"}},{"$error":"#N/A"}]
[null,null,null,{"$f":"Database!D146","v":"1967-07-01"},false,{"$f":"IF($O$4,CHOOSE($U$4,1,Database!AI146,Database!AJ146,Database!AP146),1)","v":33.4},0.14168151353185712,{"$error":"#N/A"},{"$f":"INDEX(Database!E146:AW146,'Graph of Two Series'!$O$2)/G151","v":{"$error":"#N/A"}},{"$f":"INDEX(Database!E146:AW146,'Graph of Two Series'!$O$6)/G151","v":{"$error":"#N/A"}},{"$error":"#N/A"}]
[null,null,null,{"$f":"Database!D147","v":"1967-08-01"},false,{"$f":"IF($O$4,CHOOSE($U$4,1,Database!AI147,Database!AJ147,Database!AP147),1)","v":33.5},0.14210570968015609,{"$error":"#N/A"},{"$f":"INDEX(Database!E147:AW147,'Graph of Two Series'!$O$2)/G152","v":{"$error":"#N/A"}},{"$f":"INDEX(Database!E147:AW147,'Graph of Two Series'!$O$6)/G152","v":{"$error":"#N/A"}},{"$error":"#N/A"}]
[null,null,null,{"$f":"Database!D148","v":"1967-09-01"},false,{"$f":"IF($O$4,CHOOSE($U$4,1,Database!AI148,Database!AJ148,Database!AP148),1)","v":33.6},0.14252990582845507,{"$error":"#N/A"},{"$f":"INDEX(Database!E148:AW148,'Graph of Two Series'!$O$2)/G153","v":{"$error":"#N/A"}},{"$f":"INDEX(Database!E148:AW148,'Graph of Two Series'!$O$6)/G153","v":{"$error":"#N/A"}},{"$error":"#N/A"}]
[null,null,null,{"$f":"Database!D149","v":"1967-10-01"},false,{"$f":"IF($O$4,CHOOSE($U$4,1,Database!AI149,Database!AJ149,Database!AP149),1)","v":33.700000000000003},0.14295410197675407,{"$error":"#N/A"},{"$f":"INDEX(Database!E149:AW149,'Graph of Two Series'!$O$2)/G154","v":{"$error":"#N/A"}},{"$f":"INDEX(Database!E149:AW149,'Graph of Two Series'!$O$6)/G154","v":{"$error":"#N/A"}},{"$error":"#N/A"}]
[null,null,null,{"$f":"Database!D150","v":"1967-11-01"},false,{"$f":"IF($O$4,CHOOSE($U$4,1,Database!AI150,Database!AJ150,Database!AP150),1)","v":33.9},0.14380249427335198,{"$error":"#N/A"},{"$f":"INDEX(Database!E150:AW150,'Graph of Two Series'!$O$2)/G155","v":{"$error":"#N/A"}},{"$f":"INDEX(Database!E150:AW150,'Graph of Two Series'!$O$6)/G155","v":{"$error":"#N/A"}},{"$error":"#N/A"}]
[null,null,null,{"$f":"Database!D151","v":"1967-12-01"},false,{"$f":"IF($O$4,CHOOSE($U$4,1,Database!AI151,Database!AJ151,Database!AP151),1)","v":34},0.14422669042165095,{"$error":"#N/A"},{"$f":"INDEX(Database!E151:AW151,'Graph of Two Series'!$O$2)/G156","v":{"$error":"#N/A"}},{"$f":"INDEX(Database!E151:AW151,'Graph of Two Series'!$O$6)/G156","v":{"$error":"#N/A"}},{"$error":"#N/A"}]
[null,null,null,{"$f":"Database!D152","v":"1968-01-01"},false,{"$f":"IF($O$4,CHOOSE($U$4,1,Database!AI152,Database!AJ152,Database!AP152),1)","v":34.1},0.14465088656994995,{"$error":"#N/A"},{"$f":"INDEX(Database!E152:AW152,'Graph of Two Series'!$O$2)/G157","v":{"$error":"#N/A"}},{"$f":"INDEX(Database!E152:AW152,'Graph of Two Series'!$O$6)/G157","v":{"$error":"#N/A"}},{"$error":"#N/A"}]
[null,null,null,{"$f":"Database!D153","v":"1968-02-01"},false,{"$f":"IF($O$4,CHOOSE($U$4,1,Database!AI153,Database!AJ153,Database!AP153),1)","v":34.200000000000003},0.14507508271824893,{"$error":"#N/A"},{"$f":"INDEX(Database!E153:AW153,'Graph of Two Series'!$O$2)/G158","v":{"$error":"#N/A"}},{"$f":"INDEX(Database!E153:AW153,'Graph of Two Series'!$O$6)/G158","v":{"$error":"#N/A"}},{"$error":"#N/A"}]
[null,null,null,{"$f":"Database!D154","v":"1968-03-01"},false,{"$f":"IF($O$4,CHOOSE($U$4,1,Database!AI154,Database!AJ154,Database!AP154),1)","v":34.299999999999997},0.14549927886654787,{"$error":"#N/A"},{"$f":"INDEX(Database!E154:AW154,'Graph of Two Series'!$O$2)/G159","v":{"$error":"#N/A"}},{"$f":"INDEX(Database!E154:AW154,'Graph of Two Series'!$O$6)/G159","v":{"$error":"#N/A"}},{"$error":"#N/A"}]
[null,null,null,{"$f":"Database!D155","v":"1968-04-01"},false,{"$f":"IF($O$4,CHOOSE($U$4,1,Database!AI155,Database!AJ155,Database!AP155),1)","v":34.4},0.14592347501484684,{"$error":"#N/A"},{"$f":"INDEX(Database!E155:AW155,'Graph of Two Series'!$O$2)/G160","v":{"$error":"#N/A"}},{"$f":"INDEX(Database!E155:AW155,'Graph of Two Series'!$O$6)/G160","v":{"$error":"#N/A"}},{"$error":"#N/A"}]
[null,null,null,{"$f":"Database!D156","v":"1968-05-01"},false,{"$f":"IF($O$4,CHOOSE($U$4,1,Database!AI156,Database!AJ156,Database!AP156),1)","v":34.5},0.14634767116314584,{"$error":"#N/A"},{"$f":"INDEX(Database!E156:AW156,'Graph of Two Series'!$O$2)/G161","v":{"$error":"#N/A"}},{"$f":"INDEX(Database!E156:AW156,'Graph of Two Series'!$O$6)/G161","v":{"$error":"#N/A"}},{"$error":"#N/A"}]
[null,null,null,{"$f":"Database!D157","v":"1968-06-01"},false,{"$f":"IF($O$4,CHOOSE($U$4,1,Database!AI157,Database!AJ157,Database!AP157),1)","v":34.700000000000003},0.14719606345974379,{"$error":"#N/A"},{"$f":"INDEX(Database!E157:AW157,'Graph of Two Series'!$O$2)/G162","v":{"$error":"#N/A"}},{"$f":"INDEX(Database!E157:AW157,'Graph of Two Series'!$O$6)/G162","v":{"$error":"#N/A"}},{"$error":"#N/A"}]
[null,null,null,{"$f":"Database!D158","v":"1968-07-01"},false,{"$f":"IF($O$4,CHOOSE($U$4,1,Database!AI158,Database!AJ158,Database!AP158),1)","v":34.9},0.14804445575634173,{"$error":"#N/A"},{"$f":"INDEX(Database!E158:AW158,'Graph of Two Series'!$O$2)/G163","v":{"$error":"#N/A"}},{"$f":"INDEX(Database!E158:AW158,'Graph of Two Series'!$O$6)/G163","v":{"$error":"#N/A"}},{"$error":"#N/A"}]
[null,null,null,{"$f":"Database!D159","v":"1968-08-01"},false,{"$f":"IF($O$4,CHOOSE($U$4,1,Database!AI159,Database!AJ159,Database!AP159),1)","v":35},0.1484686519046407,{"$error":"#N/A"},{"$f":"INDEX(Database!E159:AW159,'Graph of Two Series'!$O$2)/G164","v":{"$error":"#N/A"}},{"$f":"INDEX(Database!E159:AW159,'Graph of Two Series'!$O$6)/G164","v":{"$error":"#N/A"}},{"$error":"#N/A"}]
[null,null,null,{"$f":"Database!D160","v":"1968-09-01"},false,{"$f":"IF($O$4,CHOOSE($U$4,1,Database!AI160,Database!AJ160,Database!AP160),1)","v":35.1},0.14889284805293967,{"$error":"#N/A"},{"$f":"INDEX(Database!E160:AW160,'Graph of Two Series'!$O$2)/G165","v":{"$error":"#N/A"}},{"$f":"INDEX(Database!E160:AW160,'Graph of Two Series'!$O$6)/G165","v":{"$error":"#N/A"}},{"$error":"#N/A"}]
[null,null,null,{"$f":"Database!D161","v":"1968-10-01"},false,{"$f":"IF($O$4,CHOOSE($U$4,1,Database!AI161,Database!AJ161,Database!AP161),1)","v":35.299999999999997},0.14974124034953762,{"$error":"#N/A"},{"$f":"INDEX(Database!E161:AW161,'Graph of Two Series'!$O$2)/G166","v":{"$error":"#N/A"}},{"$f":"INDEX(Database!E161:AW161,'Graph of Two Series'!$O$6)/G166","v":{"$error":"#N/A"}},{"$error":"#N/A"}]
[null,null,null,{"$f":"Database!D162","v":"1968-11-01"},false,{"$f":"IF($O$4,CHOOSE($U$4,1,Database!AI162,Database!AJ162,Database!AP162),1)","v":35.4},0.15016543649783659,{"$error":"#N/A"},{"$f":"INDEX(Database!E162:AW162,'Graph of Two Series'!$O$2)/G167","v":{"$error":"#N/A"}},{"$f":"INDEX(Database!E162:AW162,'Graph of Two Series'!$O$6)/G167","v":{"$error":"#N/A"}},{"$error":"#N/A"}]
[null,null,null,{"$f":"Database!D163","v":"1968-12-01"},false,{"$f":"IF($O$4,CHOOSE($U$4,1,Database!AI163,Database!AJ163,Database!AP163),1)","v":35.6},0.15101382879443453,{"$error":"#N/A"},{"$f":"INDEX(Database!E163:AW163,'Graph of Two Series'!$O$2)/G168","v":{"$error":"#N/A"}},{"$f":"INDEX(Database!E163:AW163,'Graph of Two Series'!$O$6)/G168","v":{"$error":"#N/A"}},{"$error":"#N/A"}]
[null,null,null,{"$f":"Database!D164","v":"1969-01-01"},false,{"$f":"IF($O$4,CHOOSE($U$4,1,Database!AI164,Database!AJ164,Database!AP164),1)","v":35.700000000000003},0.15143802494273353,{"$error":"#N/A"},{"$f":"INDEX(Database!E164:AW164,'Graph of Two Series'!$O$2)/G169","v":{"$error":"#N/A"}},{"$f":"INDEX(Database!E164:AW164,'Graph of Two Series'!$O$6)/G169","v":{"$error":"#N/A"}},{"$error":"#N/A"}]
[null,null,null,{"$f":"Database!D165","v":"1969-02-01"},false,{"$f":"IF($O$4,CHOOSE($U$4,1,Database!AI165,Database!AJ165,Database!AP165),1)","v":35.799999999999997},0.15186222109103248,{"$error":"#N/A"},{"$f":"INDEX(Database!E165:AW165,'Graph of Two Series'!$O$2)/G170","v":{"$error":"#N/A"}},{"$f":"INDEX(Database!E165:AW165,'Graph of Two Series'!$O$6)/G170","v":{"$error":"#N/A"}},{"$error":"#N/A"}]
[null,null,null,{"$f":"Database!D166","v":"1969-03-01"},false,{"$f":"IF($O$4,CHOOSE($U$4,1,Database!AI166,Database!AJ166,Database!AP166),1)","v":36.1},0.15313480953592942,{"$error":"#N/A"},{"$f":"INDEX(Database!E166:AW166,'Graph of Two Series'!$O$2)/G171","v":{"$error":"#N/A"}},{"$f":"INDEX(Database!E166:AW166,'Graph of Two Series'!$O$6)/G171","v":{"$error":"#N/A"}},{"$error":"#N/A"}]
[null,null,null,{"$f":"Database!D167","v":"1969-04-01"},false,{"$f":"IF($O$4,CHOOSE($U$4,1,Database!AI167,Database!AJ167,Database!AP167),1)","v":36.299999999999997},0.15398320183252734,{"$error":"#N/A"},{"$f":"INDEX(Database!E167:AW167,'Graph of Two Series'!$O$2)/G172","v":{"$error":"#N/A"}},{"$f":"INDEX(Database!E167:AW167,'Graph of Two Series'!$O$6)/G172","v":{"$error":"#N/A"}},{"$error":"#N/A"}]
[null,null,null,{"$f":"Database!D168","v":"1969-05-01"},false,{"$f":"IF($O$4,CHOOSE($U$4,1,Database!AI168,Database!AJ168,Database!AP168),1)","v":36.4},0.15440739798082631,{"$error":"#N/A"},{"$f":"INDEX(Database!E168:AW168,'Graph of Two Series'!$O$2)/G173","v":{"$error":"#N/A"}},{"$f":"INDEX(Database!E168:AW168,'Graph of Two Series'!$O$6)/G173","v":{"$error":"#N/A"}},{"$error":"#N/A"}]
[null,null,null,{"$f":"Database!D169","v":"1969-06-01"},false,{"$f":"IF($O$4,CHOOSE($U$4,1,Database!AI169,Database!AJ169,Database!AP169),1)","v":36.6},0.15525579027742428,{"$error":"#N/A"},{"$f":"INDEX(Database!E169:AW169,'Graph of Two Series'!$O$2)/G174","v":{"$error":"#N/A"}},{"$f":"INDEX(Database!E169:AW169,'Graph of Two Series'!$O$6)/G174","v":{"$error":"#N/A"}},{"$error":"#N/A"}]
[null,null,null,{"$f":"Database!D170","v":"1969-07-01"},false,{"$f":"IF($O$4,CHOOSE($U$4,1,Database!AI170,Database!AJ170,Database!AP170),1)","v":36.799999999999997},0.1561041825740222,{"$error":"#N/A"},{"$f":"INDEX(Database!E170:AW170,'Graph of Two Series'!$O$2)/G175","v":{"$error":"#N/A"}},{"$f":"INDEX(Database!E170:AW170,'Graph of Two Series'!$O$6)/G175","v":{"$error":"#N/A"}},{"$error":"#N/A"}]
[null,null,null,{"$f":"Database!D171","v":"1969-08-01"},false,{"$f":"IF($O$4,CHOOSE($U$4,1,Database!AI171,Database!AJ171,Database!AP171),1)","v":36.9},0.1565283787223212,{"$error":"#N/A"},{"$f":"INDEX(Database!E171:AW171,'Graph of Two Series'!$O$2)/G176","v":{"$error":"#N/A"}},{"$f":"INDEX(Database!E171:AW171,'Graph of Two Series'!$O$6)/G176","v":{"$error":"#N/A"}},{"$error":"#N/A"}]
[null,null,null,{"$f":"Database!D172","v":"1969-09-01"},false,{"$f":"IF($O$4,CHOOSE($U$4,1,Database!AI172,Database!AJ172,Database!AP172),1)","v":37.1},0.15737677101891914,{"$error":"#N/A"},{"$f":"INDEX(Database!E172:AW172,'Graph of Two Series'!$O$2)/G177","v":{"$error":"#N/A"}},{"$f":"INDEX(Database!E172:AW172,'Graph of Two Series'!$O$6)/G177","v":{"$error":"#N/A"}},{"$error":"#N/A"}]
[null,null,null,{"$f":"Database!D173","v":"1969-10-01"},false,{"$f":"IF($O$4,CHOOSE($U$4,1,Database!AI173,Database!AJ173,Database!AP173),1)","v":37.299999999999997},0.15822516331551709,{"$error":"#N/A"},{"$f":"INDEX(Database!E173:AW173,'Graph of Two Series'!$O$2)/G178","v":{"$error":"#N/A"}},{"$f":"INDEX(Database!E173:AW173,'Graph of Two Series'!$O$6)/G178","v":{"$error":"#N/A"}},{"$error":"#N/A"}]
[null,null,null,{"$f":"Database!D174","v":"1969-11-01"},false,{"$f":"IF($O$4,CHOOSE($U$4,1,Database!AI174,Database!AJ174,Database!AP174),1)","v":37.5},0.15907355561211503,{"$error":"#N/A"},{"$f":"INDEX(Database!E174:AW174,'Graph of Two Series'!$O$2)/G179","v":{"$error":"#N/A"}},{"$f":"INDEX(Database!E174:AW174,'Graph of Two Series'!$O$6)/G179","v":{"$error":"#N/A"}},{"$error":"#N/A"}]
[null,null,null,{"$f":"Database!D175","v":"1969-12-01"},false,{"$f":"IF($O$4,CHOOSE($U$4,1,Database!AI175,Database!AJ175,Database!AP175),1)","v":37.700000000000003},0.159921947908713,{"$error":"#N/A"},{"$f":"INDEX(Database!E175:AW175,'Graph of Two Series'!$O$2)/G180","v":{"$error":"#N/A"}},{"$f":"INDEX(Database!E175:AW175,'Graph of Two Series'!$O$6)/G180","v":{"$error":"#N/A"}},{"$error":"#N/A"}]
[null,null,null,{"$f":"Database!D176","v":"1970-01-01"},false,{"$f":"IF($O$4,CHOOSE($U$4,1,Database!AI176,Database!AJ176,Database!AP176),1)","v":37.9},0.16077034020531092,{"$error":"#N/A"},{"$f":"INDEX(Database!E176:AW176,'Graph of Two Series'!$O$2)/G181","v":{"$error":"#N/A"}},{"$f":"INDEX(Database!E176:AW176,'Graph of Two Series'!$O$6)/G181","v":{"$error":"#N/A"}},{"$error":"#N/A"}]
[null,null,null,{"$f":"Database!D177","v":"1970-02-01"},false,{"$f":"IF($O$4,CHOOSE($U$4,1,Database!AI177,Database!AJ177,Database!AP177),1)","v":38.1},0.16161873250190889,{"$error":"#N/A"},{"$f":"INDEX(Database!E177:AW177,'Graph of Two Series'!$O$2)/G182","v":{"$error":"#N/A"}},{"$f":"INDEX(Database!E177:AW177,'Graph of Two Series'!$O$6)/G182","v":{"$error":"#N/A"}},{"$error":"#N/A"}]
[null,null,null,{"$f":"Database!D178","v":"1970-03-01"},false,{"$f":"IF($O$4,CHOOSE($U$4,1,Database!AI178,Database!AJ178,Database!AP178),1)","v":38.299999999999997},0.16246712479850681,{"$error":"#N/A"},{"$f":"INDEX(Database!E178:AW178,'Graph of Two Series'!$O$2)/G183","v":{"$error":"#N/A"}},{"$f":"INDEX(Database!E178:AW178,'Graph of Two Series'!$O$6)/G183","v":{"$error":"#N/A"}},{"$error":"#N/A"}]
[null,null,null,{"$f":"Database!D179","v":"1970-04-01"},false,{"$f":"IF($O$4,CHOOSE($U$4,1,Database!AI179,Database!AJ179,Database!AP179),1)","v":38.5},0.16331551709510478,{"$error":"#N/A"},{"$f":"INDEX(Database!E179:AW179,'Graph of Two Series'!$O$2)/G184","v":{"$error":"#N/A"}},{"$f":"INDEX(Database!E179:AW179,'Graph of Two Series'!$O$6)/G184","v":{"$error":"#N/A"}},{"$error":"#N/A"}]
[null,null,null,{"$f":"Database!D180","v":"1970-05-01"},false,{"$f":"IF($O$4,CHOOSE($U$4,1,Database!AI180,Database!AJ180,Database!AP180),1)","v":38.6},0.16373971324340375,{"$error":"#N/A"},{"$f":"INDEX(Database!E180:AW180,'Graph of Two Series'!$O$2)/G185","v":{"$error":"#N/A"}},{"$f":"INDEX(Database!E180:AW180,'Graph of Two Series'!$O$6)/G185","v":{"$error":"#N/A"}},{"$error":"#N/A"}]
[null,null,null,{"$f":"Database!D181","v":"1970-06-01"},false,{"$f":"IF($O$4,CHOOSE($U$4,1,Database!AI181,Database!AJ181,Database!AP181),1)","v":38.799999999999997},0.16458810554000167,{"$error":"#N/A"},{"$f":"INDEX(Database!E181:AW181,'Graph of Two Series'!$O$2)/G186","v":{"$error":"#N/A"}},{"$f":"INDEX(Database!E181:AW181,'Graph of Two Series'!$O$6)/G186","v":{"$error":"#N/A"}},{"$error":"#N/A"}]
[null,null,null,{"$f":"Database!D182","v":"1970-07-01"},false,{"$f":"IF($O$4,CHOOSE($U$4,1,Database!AI182,Database!AJ182,Database!AP182),1)","v":38.9},0.16501230168830067,{"$error":"#N/A"},{"$f":"INDEX(Database!E182:AW182,'Graph of Two Series'!$O$2)/G187","v":{"$error":"#N/A"}},{"$f":"INDEX(Database!E182:AW182,'Graph of Two Series'!$O$6)/G187","v":{"$error":"#N/A"}},{"$error":"#N/A"}]
[null,null,null,{"$f":"Database!D183","v":"1970-08-01"},false,{"$f":"IF($O$4,CHOOSE($U$4,1,Database!AI183,Database!AJ183,Database!AP183),1)","v":39},0.16543649783659964,{"$error":"#N/A"},{"$f":"INDEX(Database!E183:AW183,'Graph of Two Series'!$O$2)/G188","v":{"$error":"#N/A"}},{"$f":"INDEX(Database!E183:AW183,'Graph of Two Series'!$O$6)/G188","v":{"$error":"#N/A"}},{"$error":"#N/A"}]
[null,null,null,{"$f":"Database!D184","v":"1970-09-01"},false,{"$f":"IF($O$4,CHOOSE($U$4,1,Database!AI184,Database!AJ184,Database!AP184),1)","v":39.200000000000003},0.16628489013319758,{"$error":"#N/A"},{"$f":"INDEX(Database!E184:AW184,'Graph of Two Series'!$O$2)/G189","v":{"$error":"#N/A"}},{"$f":"INDEX(Database!E184:AW184,'Graph of Two Series'!$O$6)/G189","v":{"$error":"#N/A"}},{"$error":"#N/A"}]
[null,null,null,{"$f":"Database!D185","v":"1970-10-01"},false,{"$f":"IF($O$4,CHOOSE($U$4,1,Database!AI185,Database!AJ185,Database!AP185),1)","v":39.4},0.16713328242979553,{"$error":"#N/A"},{"$f":"INDEX(Database!E185:AW185,'Graph of Two Series'!$O$2)/G190","v":{"$error":"#N/A"}},{"$f":"INDEX(Database!E185:AW185,'Graph of Two Series'!$O$6)/G190","v":{"$error":"#N/A"}},{"$error":"#N/A"}]
[null,null,null,{"$f":"Database!D186","v":"1970-11-01"},false,{"$f":"IF($O$4,CHOOSE($U$4,1,Database!AI186,Database!AJ186,Database!AP186),1)","v":39.6},0.16798167472639347,{"$error":"#N/A"},{"$f":"INDEX(Database!E186:AW186,'Graph of Two Series'!$O$2)/G191","v":{"$error":"#N/A"}},{"$f":"INDEX(Database!E186:AW186,'Graph of Two Series'!$O$6)/G191","v":{"$error":"#N/A"}},{"$error":"#N/A"}]
[null,null,null,{"$f":"Database!D187","v":"1970-12-01"},false,{"$f":"IF($O$4,CHOOSE($U$4,1,Database!AI187,Database!AJ187,Database!AP187),1)","v":39.799999999999997},0.16883006702299141,{"$error":"#N/A"},{"$f":"INDEX(Database!E187:AW187,'Graph of Two Series'!$O$2)/G192","v":{"$error":"#N/A"}},{"$f":"INDEX(Database!E187:AW187,'Graph of Two Series'!$O$6)/G192","v":{"$error":"#N/A"}},{"$error":"#N/A"}]
[null,null,null,{"$f":"Database!D188","v":"1971-01-01"},false,{"$f":"IF($O$4,CHOOSE($U$4,1,Database!AI188,Database!AJ188,Database!AP188),1)","v":39.9},0.16925426317129039,{"$error":"#N/A"},{"$f":"INDEX(Database!E188:AW188,'Graph of Two Series'!$O$2)/G193","v":{"$error":"#N/A"}},{"$f":"INDEX(Database!E188:AW188,'Graph of Two Series'!$O$6)/G193","v":{"$error":"#N/A"}},{"$error":"#N/A"}]
[null,null,null,{"$f":"Database!D189","v":"1971-02-01"},false,{"$f":"IF($O$4,CHOOSE($U$4,1,Database!AI189,Database!AJ189,Database!AP189),1)","v":39.9},0.16925426317129039,{"$error":"#N/A"},{"$f":"INDEX(Database!E189:AW189,'Graph of Two Series'!$O$2)/G194","v":{"$error":"#N/A"}},{"$f":"INDEX(Database!E189:AW189,'Graph of Two Series'!$O$6)/G194","v":{"$error":"#N/A"}},{"$error":"#N/A"}]
[null,null,null,{"$f":"Database!D190","v":"1971-03-01"},false,{"$f":"IF($O$4,CHOOSE($U$4,1,Database!AI190,Database!AJ190,Database!AP190),1)","v":40},0.16967845931958936,{"$error":"#N/A"},{"$f":"INDEX(Database!E190:AW190,'Graph of Two Series'!$O$2)/G195","v":{"$error":"#N/A"}},{"$f":"INDEX(Database!E190:AW190,'Graph of Two Series'!$O$6)/G195","v":{"$error":"#N/A"}},{"$error":"#N/A"}]
[null,null,null,{"$f":"Database!D191","v":"1971-04-01"},false,{"$f":"IF($O$4,CHOOSE($U$4,1,Database!AI191,Database!AJ191,Database!AP191),1)","v":40.1},0.17010265546788836,{"$error":"#N/A"},{"$f":"INDEX(Database!E191:AW191,'Graph of Two Series'!$O$2)/G196","v":{"$error":"#N/A"}},{"$f":"INDEX(Database!E191:AW191,'Graph of Two Series'!$O$6)/G196","v":{"$error":"#N/A"}},{"$error":"#N/A"}]
[null,null,null,{"$f":"Database!D192","v":"1971-05-01"},false,{"$f":"IF($O$4,CHOOSE($U$4,1,Database!AI192,Database!AJ192,Database!AP192),1)","v":40.299999999999997},0.17095104776448627,{"$error":"#N/A"},{"$f":"INDEX(Database!E192:AW192,'Graph of Two Series'!$O$2)/G197","v":{"$error":"#N/A"}},{"$f":"INDEX(Database!E192:AW192,'Graph of Two Series'!$O$6)/G197","v":{"$error":"#N/A"}},{"$error":"#N/A"}]
[null,null,null,{"$f":"Database!D193","v":"1971-06-01"},false,{"$f":"IF($O$4,CHOOSE($U$4,1,Database!AI193,Database!AJ193,Database!AP193),1)","v":40.5},0.17179944006108425,{"$error":"#N/A"},{"$f":"INDEX(Database!E193:AW193,'Graph of Two Series'!$O$2)/G198","v":{"$error":"#N/A"}},{"$f":"INDEX(Database!E193:AW193,'Graph of Two Series'!$O$6)/G198","v":{"$error":"#N/A"}},{"$error":"#N/A"}]
[null,null,null,{"$f":"Database!D194","v":"1971-07-01"},false,{"$f":"IF($O$4,CHOOSE($U$4,1,Database!AI194,Database!AJ194,Database!AP194),1)","v":40.6},0.17222363620938322,{"$error":"#N/A"},{"$f":"INDEX(Database!E194:AW194,'Graph of Two Series'!$O$2)/G199","v":{"$error":"#N/A"}},{"$f":"INDEX(Database!E194:AW194,'Graph of Two Series'!$O$6)/G199","v":{"$error":"#N/A"}},{"$error":"#N/A"}]
[null,null,null,{"$f":"Database!D195","v":"1971-08-01"},false,{"$f":"IF($O$4,CHOOSE($U$4,1,Database!AI195,Database!AJ195,Database!AP195),1)","v":40.700000000000003},0.17264783235768219,{"$error":"#N/A"},{"$f":"INDEX(Database!E195:AW195,'Graph of Two Series'!$O$2)/G200","v":{"$error":"#N/A"}},{"$f":"INDEX(Database!E195:AW195,'Graph of Two Series'!$O$6)/G200","v":{"$error":"#N/A"}},{"$error":"#N/A"}]
[null,null,null,{"$f":"Database!D196","v":"1971-09-01"},false,{"$f":"IF($O$4,CHOOSE($U$4,1,Database!AI196,Database!AJ196,Database!AP196),1)","v":40.799999999999997},0.17307202850598113,{"$error":"#N/A"},{"$f":"INDEX(Database!E196:AW196,'Graph of Two Series'!$O$2)/G201","v":{"$error":"#N/A"}},{"$f":"INDEX(Database!E196:AW196,'Graph of Two Series'!$O$6)/G201","v":{"$error":"#N/A"}},{"$error":"#N/A"}]
[null,null,null,{"$f":"Database!D197","v":"1971-10-01"},false,{"$f":"IF($O$4,CHOOSE($U$4,1,Database!AI197,Database!AJ197,Database!AP197),1)","v":40.9},0.17349622465428013,{"$error":"#N/A"},{"$f":"INDEX(Database!E197:AW197,'Graph of Two Series'!$O$2)/G202","v":{"$error":"#N/A"}},{"$f":"INDEX(Database!E197:AW197,'Graph of Two Series'!$O$6)/G202","v":{"$error":"#N/A"}},{"$error":"#N/A"}]
[null,null,null,{"$f":"Database!D198","v":"1971-11-01"},false,{"$f":"IF($O$4,CHOOSE($U$4,1,Database!AI198,Database!AJ198,Database!AP198),1)","v":41},0.17392042080257911,{"$error":"#N/A"},{"$f":"INDEX(Database!E198:AW198,'Graph of Two Series'!$O$2)/G203","v":{"$error":"#N/A"}},{"$f":"INDEX(Database!E198:AW198,'Graph of Two Series'!$O$6)/G203","v":{"$error":"#N/A"}},{"$error":"#N/A"}]
[null,null,null,{"$f":"Database!D199","v":"1971-12-01"},false,{"$f":"IF($O$4,CHOOSE($U$4,1,Database!AI199,Database!AJ199,Database!AP199),1)","v":41.1},0.17434461695087808,{"$error":"#N/A"},{"$f":"INDEX(Database!E199:AW199,'Graph of Two Series'!$O$2)/G204","v":{"$error":"#N/A"}},{"$f":"INDEX(Database!E199:AW199,'Graph of Two Series'!$O$6)/G204","v":{"$error":"#N/A"}},{"$error":"#N/A"}]
[null,null,null,{"$f":"Database!D200","v":"1972-01-01"},false,{"$f":"IF($O$4,CHOOSE($U$4,1,Database!AI200,Database!AJ200,Database!AP200),1)","v":41.2},{"$f":"F205/$G$5","v":0.17476881309917708},{"$f":"IF(E205,D205,NA())","v":{"$error":"#N/A"}},{"$f":"INDEX(Database!E200:AW200,'Graph of Two Series'!$O$2)/G205","v":{"$error":"#N/A"}},{"$f":"INDEX(Database!E200:AW200,'Graph of Two Series'!$O$6)/G205","v":{"$error":"#N/A"}},{"$error":"#N/A"}]
[null,null,null,{"$f":"Database!D201","v":"1972-02-01"},{"$f":"AND($D206>=E$11,$D206<=E$12)","v":false},{"$f":"IF($O$4,CHOOSE($U$4,1,Database!AI201,Database!AJ201,Database!AP201),1)","v":41.4},0.17561720539577499,{"$error":"#N/A"},{"$f":"INDEX(Database!E201:AW201,'Graph of Two Series'!$O$2)/G206","v":{"$error":"#N/A"}},{"$f":"INDEX(Database!E201:AW201,'Graph of Two Series'!$O$6)/G206","v":{"$error":"#N/A"}},{"$error":"#N/A"}]
[null,null,null,{"$f":"Database!D202","v":"1972-03-01"},false,{"$f":"IF($O$4,CHOOSE($U$4,1,Database!AI202,Database!AJ202,Database!AP202),1)","v":41.4},0.17561720539577499,{"$error":"#N/A"},{"$f":"INDEX(Database!E202:AW202,'Graph of Two Series'!$O$2)/G207","v":{"$error":"#N/A"}},{"$f":"INDEX(Database!E202:AW202,'Graph of Two Series'!$O$6)/G207","v":{"$error":"#N/A"}},{"$f":"J207-J206","v":{"$error":"#N/A"}}]
[null,null,null,{"$f":"Database!D203","v":"1972-04-01"},false,{"$f":"IF($O$4,CHOOSE($U$4,1,Database!AI203,Database!AJ203,Database!AP203),1)","v":41.5},0.17604140154407397,{"$error":"#N/A"},{"$f":"INDEX(Database!E203:AW203,'Graph of Two Series'!$O$2)/G208","v":{"$error":"#N/A"}},{"$f":"INDEX(Database!E203:AW203,'Graph of Two Series'!$O$6)/G208","v":{"$error":"#N/A"}},{"$error":"#N/A"}]
[null,null,null,{"$f":"Database!D204","v":"1972-05-01"},false,{"$f":"IF($O$4,CHOOSE($U$4,1,Database!AI204,Database!AJ204,Database!AP204),1)","v":41.6},0.17646559769237297,{"$error":"#N/A"},{"$f":"INDEX(Database!E204:AW204,'Graph of Two Series'!$O$2)/G209","v":{"$error":"#N/A"}},{"$f":"INDEX(Database!E204:AW204,'Graph of Two Series'!$O$6)/G209","v":{"$error":"#N/A"}},{"$error":"#N/A"}]
[null,null,null,{"$f":"Database!D205","v":"1972-06-01"},false,{"$f":"IF($O$4,CHOOSE($U$4,1,Database!AI205,Database!AJ205,Database!AP205),1)","v":41.7},0.17688979384067194,{"$error":"#N/A"},{"$f":"INDEX(Database!E205:AW205,'Graph of Two Series'!$O$2)/G210","v":{"$error":"#N/A"}},{"$f":"INDEX(Database!E205:AW205,'Graph of Two Series'!$O$6)/G210","v":{"$error":"#N/A"}},{"$error":"#N/A"}]
[null,null,null,{"$f":"Database!D206","v":"1972-07-01"},false,{"$f":"IF($O$4,CHOOSE($U$4,1,Database!AI206,Database!AJ206,Database!AP206),1)","v":41.8},0.17731398998897088,{"$error":"#N/A"},{"$f":"INDEX(Database!E206:AW206,'Graph of Two Series'!$O$2)/G211","v":{"$error":"#N/A"}},{"$f":"INDEX(Database!E206:AW206,'Graph of Two Series'!$O$6)/G211","v":{"$error":"#N/A"}},{"$error":"#N/A"}]
[null,null,null,{"$f":"Database!D207","v":"1972-08-01"},false,{"$f":"IF($O$4,CHOOSE($U$4,1,Database!AI207,Database!AJ207,Database!AP207),1)","v":41.9},0.17773818613726985,{"$error":"#N/A"},{"$f":"INDEX(Database!E207:AW207,'Graph of Two Series'!$O$2)/G212","v":{"$error":"#N/A"}},{"$f":"INDEX(Database!E207:AW207,'Graph of Two Series'!$O$6)/G212","v":{"$error":"#N/A"}},{"$error":"#N/A"}]
[null,null,null,{"$f":"Database!D208","v":"1972-09-01"},false,{"$f":"IF($O$4,CHOOSE($U$4,1,Database!AI208,Database!AJ208,Database!AP208),1)","v":42.1},0.17858657843386783,{"$error":"#N/A"},{"$f":"INDEX(Database!E208:AW208,'Graph of Two Series'!$O$2)/G213","v":{"$error":"#N/A"}},{"$f":"INDEX(Database!E208:AW208,'Graph of Two Series'!$O$6)/G213","v":{"$error":"#N/A"}},{"$error":"#N/A"}]
[null,null,null,{"$f":"Database!D209","v":"1972-10-01"},false,{"$f":"IF($O$4,CHOOSE($U$4,1,Database!AI209,Database!AJ209,Database!AP209),1)","v":42.2},0.1790107745821668,{"$error":"#N/A"},{"$f":"INDEX(Database!E209:AW209,'Graph of Two Series'!$O$2)/G214","v":{"$error":"#N/A"}},{"$f":"INDEX(Database!E209:AW209,'Graph of Two Series'!$O$6)/G214","v":{"$error":"#N/A"}},{"$error":"#N/A"}]
[null,null,null,{"$f":"Database!D210","v":"1972-11-01"},false,{"$f":"IF($O$4,CHOOSE($U$4,1,Database!AI210,Database!AJ210,Database!AP210),1)","v":42.4},0.17985916687876471,{"$error":"#N/A"},{"$f":"INDEX(Database!E210:AW210,'Graph of Two Series'!$O$2)/G215","v":{"$error":"#N/A"}},{"$f":"INDEX(Database!E210:AW210,'Graph of Two Series'!$O$6)/G215","v":{"$error":"#N/A"}},{"$error":"#N/A"}]
[null,null,null,{"$f":"Database!D211","v":"1972-12-01"},false,{"$f":"IF($O$4,CHOOSE($U$4,1,Database!AI211,Database!AJ211,Database!AP211),1)","v":42.5},0.18028336302706371,{"$error":"#N/A"},{"$f":"INDEX(Database!E211:AW211,'Graph of Two Series'!$O$2)/G216","v":{"$error":"#N/A"}},{"$f":"INDEX(Database!E211:AW211,'Graph of Two Series'!$O$6)/G216","v":{"$error":"#N/A"}},{"$error":"#N/A"}]
[null,null,null,{"$f":"Database!D212","v":"1973-01-01"},false,{"$f":"IF($O$4,CHOOSE($U$4,1,Database!AI212,Database!AJ212,Database!AP212),1)","v":42.7},0.18113175532366166,{"$error":"#N/A"},{"$f":"INDEX(Database!E212:AW212,'Graph of Two Series'!$O$2)/G217","v":{"$error":"#N/A"}},{"$f":"INDEX(Database!E212:AW212,'Graph of Two Series'!$O$6)/G217","v":{"$error":"#N/A"}},{"$error":"#N/A"}]
[null,null,null,{"$f":"Database!D213","v":"1973-02-01"},false,{"$f":"IF($O$4,CHOOSE($U$4,1,Database!AI213,Database!AJ213,Database!AP213),1)","v":43},0.18240434376855857,{"$error":"#N/A"},{"$f":"INDEX(Database!E213:AW213,'Graph of Two Series'!$O$2)/G218","v":{"$error":"#N/A"}},{"$f":"INDEX(Database!E213:AW213,'Graph of Two Series'!$O$6)/G218","v":{"$error":"#N/A"}},{"$error":"#N/A"}]
[null,null,null,{"$f":"Database!D214","v":"1973-03-01"},false,{"$f":"IF($O$4,CHOOSE($U$4,1,Database!AI214,Database!AJ214,Database!AP214),1)","v":43.4},0.18410112836175446,{"$error":"#N/A"},{"$f":"INDEX(Database!E214:AW214,'Graph of Two Series'!$O$2)/G219","v":{"$error":"#N/A"}},{"$f":"INDEX(Database!E214:AW214,'Graph of Two Series'!$O$6)/G219","v":{"$error":"#N/A"}},{"$error":"#N/A"}]
[null,null,null,{"$f":"Database!D215","v":"1973-04-01"},false,{"$f":"IF($O$4,CHOOSE($U$4,1,Database!AI215,Database!AJ215,Database!AP215),1)","v":43.7},0.18537371680665141,{"$error":"#N/A"},{"$f":"INDEX(Database!E215:AW215,'Graph of Two Series'!$O$2)/G220","v":{"$error":"#N/A"}},{"$f":"INDEX(Database!E215:AW215,'Graph of Two Series'!$O$6)/G220","v":{"$error":"#N/A"}},{"$error":"#N/A"}]
[null,null,null,{"$f":"Database!D216","v":"1973-05-01"},false,{"$f":"IF($O$4,CHOOSE($U$4,1,Database!AI216,Database!AJ216,Database!AP216),1)","v":43.9},0.18622210910324932,{"$error":"#N/A"},{"$f":"INDEX(Database!E216:AW216,'Graph of Two Series'!$O$2)/G221","v":{"$error":"#N/A"}},{"$f":"INDEX(Database!E216:AW216,'Graph of Two Series'!$O$6)/G221","v":{"$error":"#N/A"}},{"$error":"#N/A"}]
[null,null,null,{"$f":"Database!D217","v":"1973-06-01"},false,{"$f":"IF($O$4,CHOOSE($U$4,1,Database!AI217,Database!AJ217,Database!AP217),1)","v":44.2},0.18749469754814627,{"$error":"#N/A"},{"$f":"INDEX(Database!E217:AW217,'Graph of Two Series'!$O$2)/G222","v":{"$error":"#N/A"}},{"$f":"INDEX(Database!E217:AW217,'Graph of Two Series'!$O$6)/G222","v":{"$error":"#N/A"}},{"$error":"#N/A"}]
[null,null,null,{"$f":"Database!D218","v":"1973-07-01"},false,{"$f":"IF($O$4,CHOOSE($U$4,1,Database!AI218,Database!AJ218,Database!AP218),1)","v":44.2},0.18749469754814627,{"$error":"#N/A"},{"$f":"INDEX(Database!E218:AW218,'Graph of Two Series'!$O$2)/G223","v":{"$error":"#N/A"}},{"$f":"INDEX(Database!E218:AW218,'Graph of Two Series'!$O$6)/G223","v":{"$error":"#N/A"}},{"$error":"#N/A"}]
[null,null,null,{"$f":"Database!D219","v":"1973-08-01"},false,{"$f":"IF($O$4,CHOOSE($U$4,1,Database!AI219,Database!AJ219,Database!AP219),1)","v":45},0.19088826673453804,{"$error":"#N/A"},{"$f":"INDEX(Database!E219:AW219,'Graph of Two Series'!$O$2)/G224","v":{"$error":"#N/A"}},{"$f":"INDEX(Database!E219:AW219,'Graph of Two Series'!$O$6)/G224","v":{"$error":"#N/A"}},{"$error":"#N/A"}]
[null,null,null,{"$f":"Database!D220","v":"1973-09-01"},false,{"$f":"IF($O$4,CHOOSE($U$4,1,Database!AI220,Database!AJ220,Database!AP220),1)","v":45.2},0.19173665903113601,{"$error":"#N/A"},{"$f":"INDEX(Database!E220:AW220,'Graph of Two Series'!$O$2)/G225","v":{"$error":"#N/A"}},{"$f":"INDEX(Database!E220:AW220,'Graph of Two Series'!$O$6)/G225","v":{"$error":"#N/A"}},{"$error":"#N/A"}]
[null,null,null,{"$f":"Database!D221","v":"1973-10-01"},false,{"$f":"IF($O$4,CHOOSE($U$4,1,Database!AI221,Database!AJ221,Database!AP221),1)","v":45.6},0.1934334436243319,{"$error":"#N/A"},{"$f":"INDEX(Database!E221:AW221,'Graph of Two Series'!$O$2)/G226","v":{"$error":"#N/A"}},{"$f":"INDEX(Database!E221:AW221,'Graph of Two Series'!$O$6)/G226","v":{"$error":"#N/A"}},{"$error":"#N/A"}]
[null,null,null,{"$f":"Database!D222","v":"1973-11-01"},false,{"$f":"IF($O$4,CHOOSE($U$4,1,Database!AI222,Database!AJ222,Database!AP222),1)","v":45.9},0.19470603206922879,{"$error":"#N/A"},{"$f":"INDEX(Database!E222:AW222,'Graph of Two Series'!$O$2)/G227","v":{"$error":"#N/A"}},{"$f":"INDEX(Database!E222:AW222,'Graph of Two Series'!$O$6)/G227","v":{"$error":"#N/A"}},{"$error":"#N/A"}]
[null,null,null,{"$f":"Database!D223","v":"1973-12-01"},false,{"$f":"IF($O$4,CHOOSE($U$4,1,Database!AI223,Database!AJ223,Database!AP223),1)","v":46.3},0.19640281666242468,{"$error":"#N/A"},{"$f":"INDEX(Database!E223:AW223,'Graph of Two Series'!$O$2)/G228","v":{"$error":"#N/A"}},{"$f":"INDEX(Database!E223:AW223,'Graph of Two Series'!$O$6)/G228","v":{"$error":"#N/A"}},{"$error":"#N/A"}]
[null,null,null,{"$f":"Database!D224","v":"1974-01-01"},false,{"$f":"IF($O$4,CHOOSE($U$4,1,Database!AI224,Database!AJ224,Database!AP224),1)","v":46.8},0.19852379740391957,{"$error":"#N/A"},{"$f":"INDEX(Database!E224:AW224,'Graph of Two Series'!$O$2)/G229","v":{"$error":"#N/A"}},{"$f":"INDEX(Database!E224:AW224,'Graph of Two Series'!$O$6)/G229","v":{"$error":"#N/A"}},{"$error":"#N/A"}]
[null,null,null,{"$f":"Database!D225","v":"1974-02-01"},false,{"$f":"IF($O$4,CHOOSE($U$4,1,Database!AI225,Database!AJ225,Database!AP225),1)","v":47.3},0.20064477814541443,{"$error":"#N/A"},{"$f":"INDEX(Database!E225:AW225,'Graph of Two Series'!$O$2)/G230","v":{"$error":"#N/A"}},{"$f":"INDEX(Database!E225:AW225,'Graph of Two Series'!$O$6)/G230","v":{"$error":"#N/A"}},{"$error":"#N/A"}]
[null,null,null,{"$f":"Database!D226","v":"1974-03-01"},false,{"$f":"IF($O$4,CHOOSE($U$4,1,Database!AI226,Database!AJ226,Database!AP226),1)","v":47.8},0.20276575888690929,{"$error":"#N/A"},{"$f":"INDEX(Database!E226:AW226,'Graph of Two Series'!$O$2)/G231","v":{"$error":"#N/A"}},{"$f":"INDEX(Database!E226:AW226,'Graph of Two Series'!$O$6)/G231","v":{"$error":"#N/A"}},{"$error":"#N/A"}]
[null,null,null,{"$f":"Database!D227","v":"1974-04-01"},false,{"$f":"IF($O$4,CHOOSE($U$4,1,Database!AI227,Database!AJ227,Database!AP227),1)","v":48.1},0.20403834733180623,{"$error":"#N/A"},{"$f":"INDEX(Database!E227:AW227,'Graph of Two Series'!$O$2)/G232","v":{"$error":"#N/A"}},{"$f":"INDEX(Database!E227:AW227,'Graph of Two Series'!$O$6)/G232","v":{"$error":"#N/A"}},{"$error":"#N/A"}]
[null,null,null,{"$f":"Database!D228","v":"1974-05-01"},false,{"$f":"IF($O$4,CHOOSE($U$4,1,Database!AI228,Database!AJ228,Database!AP228),1)","v":48.6},0.20615932807330109,{"$error":"#N/A"},{"$f":"INDEX(Database!E228:AW228,'Graph of Two Series'!$O$2)/G233","v":{"$error":"#N/A"}},{"$f":"INDEX(Database!E228:AW228,'Graph of Two Series'!$O$6)/G233","v":{"$error":"#N/A"}},{"$error":"#N/A"}]
[null,null,null,{"$f":"Database!D229","v":"1974-06-01"},false,{"$f":"IF($O$4,CHOOSE($U$4,1,Database!AI229,Database!AJ229,Database!AP229),1)","v":49},0.20785611266649698,{"$error":"#N/A"},{"$f":"INDEX(Database!E229:AW229,'Graph of Two Series'!$O$2)/G234","v":{"$error":"#N/A"}},{"$f":"INDEX(Database!E229:AW229,'Graph of Two Series'!$O$6)/G234","v":{"$error":"#N/A"}},{"$error":"#N/A"}]
[null,null,null,{"$f":"Database!D230","v":"1974-07-01"},false,{"$f":"IF($O$4,CHOOSE($U$4,1,Database!AI230,Database!AJ230,Database!AP230),1)","v":49.3},0.20912870111139389,{"$error":"#N/A"},{"$f":"INDEX(Database!E230:AW230,'Graph of Two Series'!$O$2)/G235","v":{"$error":"#N/A"}},{"$f":"INDEX(Database!E230:AW230,'Graph of Two Series'!$O$6)/G235","v":{"$error":"#N/A"}},{"$error":"#N/A"}]
[null,null,null,{"$f":"Database!D231","v":"1974-08-01"},false,{"$f":"IF($O$4,CHOOSE($U$4,1,Database!AI231,Database!AJ231,Database!AP231),1)","v":49.9},0.21167387800118773,{"$error":"#N/A"},{"$f":"INDEX(Database!E231:AW231,'Graph of Two Series'!$O$2)/G236","v":{"$error":"#N/A"}},{"$f":"INDEX(Database!E231:AW231,'Graph of Two Series'!$O$6)/G236","v":{"$error":"#N/A"}},{"$error":"#N/A"}]
[null,null,null,{"$f":"Database!D232","v":"1974-09-01"},false,{"$f":"IF($O$4,CHOOSE($U$4,1,Database!AI232,Database!AJ232,Database!AP232),1)","v":50.6},0.21464325103928056,{"$error":"#N/A"},{"$f":"INDEX(Database!E232:AW232,'Graph of Two Series'!$O$2)/G237","v":{"$error":"#N/A"}},{"$f":"INDEX(Database!E232:AW232,'Graph of Two Series'!$O$6)/G237","v":{"$error":"#N/A"}},{"$error":"#N/A"}]
[null,null,null,{"$f":"Database!D233","v":"1974-10-01"},false,{"$f":"IF($O$4,CHOOSE($U$4,1,Database!AI233,Database!AJ233,Database!AP233),1)","v":51},0.21634003563247645,{"$error":"#N/A"},{"$f":"INDEX(Database!E233:AW233,'Graph of Two Series'!$O$2)/G238","v":{"$error":"#N/A"}},{"$f":"INDEX(Database!E233:AW233,'Graph of Two Series'!$O$6)/G238","v":{"$error":"#N/A"}},{"$error":"#N/A"}]
[null,null,null,{"$f":"Database!D234","v":"1974-11-01"},false,{"$f":"IF($O$4,CHOOSE($U$4,1,Database!AI234,Database!AJ234,Database!AP234),1)","v":51.5},0.21846101637397131,{"$error":"#N/A"},{"$f":"INDEX(Database!E234:AW234,'Graph of Two Series'!$O$2)/G239","v":{"$error":"#N/A"}},{"$f":"INDEX(Database!E234:AW234,'Graph of Two Series'!$O$6)/G239","v":{"$error":"#N/A"}},{"$error":"#N/A"}]
[null,null,null,{"$f":"Database!D235","v":"1974-12-01"},false,{"$f":"IF($O$4,CHOOSE($U$4,1,Database!AI235,Database!AJ235,Database!AP235),1)","v":51.9},0.22015780096716719,{"$error":"#N/A"},{"$f":"INDEX(Database!E235:AW235,'Graph of Two Series'!$O$2)/G240","v":{"$error":"#N/A"}},{"$f":"INDEX(Database!E235:AW235,'Graph of Two Series'!$O$6)/G240","v":{"$error":"#N/A"}},{"$error":"#N/A"}]
[null,null,null,{"$f":"Database!D236","v":"1975-01-01"},false,{"$f":"IF($O$4,CHOOSE($U$4,1,Database!AI236,Database!AJ236,Database!AP236),1)","v":52.3},0.22185458556036308,{"$error":"#N/A"},{"$f":"INDEX(Database!E236:AW236,'Graph of Two Series'!$O$2)/G241","v":{"$error":"#N/A"}},{"$f":"INDEX(Database!E236:AW236,'Graph of Two Series'!$O$6)/G241","v":{"$error":"#N/A"}},{"$error":"#N/A"}]
[null,null,null,{"$f":"Database!D237","v":"1975-02-01"},false,{"$f":"IF($O$4,CHOOSE($U$4,1,Database!AI237,Database!AJ237,Database!AP237),1)","v":52.6},0.22312717400526003,{"$error":"#N/A"},{"$f":"INDEX(Database!E237:AW237,'Graph of Two Series'!$O$2)/G242","v":{"$error":"#N/A"}},{"$f":"INDEX(Database!E237:AW237,'Graph of Two Series'!$O$6)/G242","v":{"$error":"#N/A"}},{"$error":"#N/A"}]
[null,null,null,{"$f":"Database!D238","v":"1975-03-01"},false,{"$f":"IF($O$4,CHOOSE($U$4,1,Database!AI238,Database!AJ238,Database!AP238),1)","v":52.8},0.22397556630185797,{"$error":"#N/A"},{"$f":"INDEX(Database!E238:AW238,'Graph of Two Series'!$O$2)/G243","v":{"$error":"#N/A"}},{"$f":"INDEX(Database!E238:AW238,'Graph of Two Series'!$O$6)/G243","v":{"$error":"#N/A"}},{"$error":"#N/A"}]
[null,null,null,{"$f":"Database!D239","v":"1975-04-01"},false,{"$f":"IF($O$4,CHOOSE($U$4,1,Database!AI239,Database!AJ239,Database!AP239),1)","v":53},0.22482395859845591,{"$error":"#N/A"},{"$f":"INDEX(Database!E239:AW239,'Graph of Two Series'!$O$2)/G244","v":{"$error":"#N/A"}},{"$f":"INDEX(Database!E239:AW239,'Graph of Two Series'!$O$6)/G244","v":{"$error":"#N/A"}},{"$error":"#N/A"}]
[null,null,null,{"$f":"Database!D240","v":"1975-05-01"},false,{"$f":"IF($O$4,CHOOSE($U$4,1,Database!AI240,Database!AJ240,Database!AP240),1)","v":53.1},0.22524815474675489,{"$error":"#N/A"},{"$f":"INDEX(Database!E240:AW240,'Graph of Two Series'!$O$2)/G245","v":{"$error":"#N/A"}},{"$f":"INDEX(Database!E240:AW240,'Graph of Two Series'!$O$6)/G245","v":{"$error":"#N/A"}},{"$error":"#N/A"}]
[null,null,null,{"$f":"Database!D241","v":"1975-06-01"},false,{"$f":"IF($O$4,CHOOSE($U$4,1,Database!AI241,Database!AJ241,Database!AP241),1)","v":53.5},0.22694493933995077,{"$error":"#N/A"},{"$f":"INDEX(Database!E241:AW241,'Graph of Two Series'!$O$2)/G246","v":{"$error":"#N/A"}},{"$f":"INDEX(Database!E241:AW241,'Graph of Two Series'!$O$6)/G246","v":{"$error":"#N/A"}},{"$error":"#N/A"}]
[null,null,null,{"$f":"Database!D242","v":"1975-07-01"},false,{"$f":"IF($O$4,CHOOSE($U$4,1,Database!AI242,Database!AJ242,Database!AP242),1)","v":54},0.22906592008144566,{"$error":"#N/A"},{"$f":"INDEX(Database!E242:AW242,'Graph of Two Series'!$O$2)/G247","v":{"$error":"#N/A"}},{"$f":"INDEX(Database!E242:AW242,'Graph of Two Series'!$O$6)/G247","v":{"$error":"#N/A"}},{"$error":"#N/A"}]
[null,null,null,{"$f":"Database!D243","v":"1975-08-01"},false,{"$f":"IF($O$4,CHOOSE($U$4,1,Database!AI243,Database!AJ243,Database!AP243),1)","v":54.2},0.22991431237804361,{"$error":"#N/A"},{"$f":"INDEX(Database!E243:AW243,'Graph of Two Series'!$O$2)/G248","v":{"$error":"#N/A"}},{"$f":"INDEX(Database!E243:AW243,'Graph of Two Series'!$O$6)/G248","v":{"$error":"#N/A"}},{"$error":"#N/A"}]
[null,null,null,{"$f":"Database!D244","v":"1975-09-01"},false,{"$f":"IF($O$4,CHOOSE($U$4,1,Database!AI244,Database!AJ244,Database!AP244),1)","v":54.6},0.23161109697123949,{"$error":"#N/A"},{"$f":"INDEX(Database!E244:AW244,'Graph of Two Series'!$O$2)/G249","v":{"$error":"#N/A"}},{"$f":"INDEX(Database!E244:AW244,'Graph of Two Series'!$O$6)/G249","v":{"$error":"#N/A"}},{"$error":"#N/A"}]
[null,null,null,{"$f":"Database!D245","v":"1975-10-01"},false,{"$f":"IF($O$4,CHOOSE($U$4,1,Database!AI245,Database!AJ245,Database!AP245),1)","v":54.9},0.23288368541613641,{"$error":"#N/A"},{"$f":"INDEX(Database!E245:AW245,'Graph of Two Series'!$O$2)/G250","v":{"$error":"#N/A"}},{"$f":"INDEX(Database!E245:AW245,'Graph of Two Series'!$O$6)/G250","v":{"$error":"#N/A"}},{"$error":"#N/A"}]
[null,null,null,{"$f":"Database!D246","v":"1975-11-01"},false,{"$f":"IF($O$4,CHOOSE($U$4,1,Database!AI246,Database!AJ246,Database!AP246),1)","v":55.3},0.2345804700093323,{"$error":"#N/A"},{"$f":"INDEX(Database!E246:AW246,'Graph of Two Series'!$O$2)/G251","v":{"$error":"#N/A"}},{"$f":"INDEX(Database!E246:AW246,'Graph of Two Series'!$O$6)/G251","v":{"$error":"#N/A"}},{"$error":"#N/A"}]
[null,null,null,{"$f":"Database!D247","v":"1975-12-01"},false,{"$f":"IF($O$4,CHOOSE($U$4,1,Database!AI247,Database!AJ247,Database!AP247),1)","v":55.6},0.23585305845422924,{"$error":"#N/A"},{"$f":"INDEX(Database!E247:AW247,'Graph of Two Series'!$O$2)/G252","v":{"$error":"#N/A"}},{"$f":"INDEX(Database!E247:AW247,'Graph of Two Series'!$O$6)/G252","v":{"$error":"#N/A"}},{"$error":"#N/A"}]
[null,null,null,{"$f":"Database!D248","v":"1976-01-01"},false,{"$f":"IF($O$4,CHOOSE($U$4,1,Database!AI248,Database!AJ248,Database!AP248),1)","v":55.8},0.23670145075082716,{"$error":"#N/A"},{"$f":"INDEX(Database!E248:AW248,'Graph of Two Series'!$O$2)/G253","v":{"$error":"#N/A"}},{"$f":"INDEX(Database!E248:AW248,'Graph of Two Series'!$O$6)/G253","v":{"$error":"#N/A"}},{"$error":"#N/A"}]
[null,null,null,{"$f":"Database!D249","v":"1976-02-01"},false,{"$f":"IF($O$4,CHOOSE($U$4,1,Database!AI249,Database!AJ249,Database!AP249),1)","v":55.9},0.23712564689912613,{"$error":"#N/A"},{"$f":"INDEX(Database!E249:AW249,'Graph of Two Series'!$O$2)/G254","v":{"$error":"#N/A"}},{"$f":"INDEX(Database!E249:AW249,'Graph of Two Series'!$O$6)/G254","v":{"$error":"#N/A"}},{"$error":"#N/A"}]
[null,null,null,{"$f":"Database!D250","v":"1976-03-01"},false,{"$f":"IF($O$4,CHOOSE($U$4,1,Database!AI250,Database!AJ250,Database!AP250),1)","v":56},0.23754984304742513,{"$error":"#N/A"},{"$f":"INDEX(Database!E250:AW250,'Graph of Two Series'!$O$2)/G255","v":{"$error":"#N/A"}},{"$f":"INDEX(Database!E250:AW250,'Graph of Two Series'!$O$6)/G255","v":{"$error":"#N/A"}},{"$error":"#N/A"}]
[null,null,null,{"$f":"Database!D251","v":"1976-04-01"},false,{"$f":"IF($O$4,CHOOSE($U$4,1,Database!AI251,Database!AJ251,Database!AP251),1)","v":56.1},0.2379740391957241,{"$error":"#N/A"},{"$f":"INDEX(Database!E251:AW251,'Graph of Two Series'!$O$2)/G256","v":{"$error":"#N/A"}},{"$f":"INDEX(Database!E251:AW251,'Graph of Two Series'!$O$6)/G256","v":{"$error":"#N/A"}},{"$error":"#N/A"}]
[null,null,null,{"$f":"Database!D252","v":"1976-05-01"},false,{"$f":"IF($O$4,CHOOSE($U$4,1,Database!AI252,Database!AJ252,Database!AP252),1)","v":56.4},0.23924662764062102,{"$error":"#N/A"},{"$f":"INDEX(Database!E252:AW252,'Graph of Two Series'!$O$2)/G257","v":{"$error":"#N/A"}},{"$f":"INDEX(Database!E252:AW252,'Graph of Two Series'!$O$6)/G257","v":{"$error":"#N/A"}},{"$error":"#N/A"}]
[null,null,null,{"$f":"Database!D253","v":"1976-06-01"},false,{"$f":"IF($O$4,CHOOSE($U$4,1,Database!AI253,Database!AJ253,Database!AP253),1)","v":56.7},0.24051921608551793,{"$error":"#N/A"},{"$f":"INDEX(Database!E253:AW253,'Graph of Two Series'!$O$2)/G258","v":{"$error":"#N/A"}},{"$f":"INDEX(Database!E253:AW253,'Graph of Two Series'!$O$6)/G258","v":{"$error":"#N/A"}},{"$error":"#N/A"}]
[null,null,null,{"$f":"Database!D254","v":"1976-07-01"},false,{"$f":"IF($O$4,CHOOSE($U$4,1,Database!AI254,Database!AJ254,Database!AP254),1)","v":57},0.24179180453041485,{"$error":"#N/A"},{"$f":"INDEX(Database!E254:AW254,'Graph of Two Series'!$O$2)/G259","v":{"$error":"#N/A"}},{"$f":"INDEX(Database!E254:AW254,'Graph of Two Series'!$O$6)/G259","v":{"$error":"#N/A"}},{"$error":"#N/A"}]
[null,null,null,{"$f":"Database!D255","v":"1976-08-01"},false,{"$f":"IF($O$4,CHOOSE($U$4,1,Database!AI255,Database!AJ255,Database!AP255),1)","v":57.3},0.24306439297531177,{"$error":"#N/A"},{"$f":"INDEX(Database!E255:AW255,'Graph of Two Series'!$O$2)/G260","v":{"$error":"#N/A"}},{"$f":"INDEX(Database!E255:AW255,'Graph of Two Series'!$O$6)/G260","v":{"$error":"#N/A"}},{"$error":"#N/A"}]
[null,null,null,{"$f":"Database!D256","v":"1976-09-01"},false,{"$f":"IF($O$4,CHOOSE($U$4,1,Database!AI256,Database!AJ256,Database!AP256),1)","v":57.6},0.24433698142020871,{"$error":"#N/A"},{"$f":"INDEX(Database!E256:AW256,'Graph of Two Series'!$O$2)/G261","v":{"$error":"#N/A"}},{"$f":"INDEX(Database!E256:AW256,'Graph of Two Series'!$O$6)/G261","v":{"$error":"#N/A"}},{"$error":"#N/A"}]
[null,null,null,{"$f":"Database!D257","v":"1976-10-01"},false,{"$f":"IF($O$4,CHOOSE($U$4,1,Database!AI257,Database!AJ257,Database!AP257),1)","v":57.9},0.2456095698651056,{"$error":"#N/A"},{"$f":"INDEX(Database!E257:AW257,'Graph of Two Series'!$O$2)/G262","v":{"$error":"#N/A"}},{"$f":"INDEX(Database!E257:AW257,'Graph of Two Series'!$O$6)/G262","v":{"$error":"#N/A"}},{"$error":"#N/A"}]
[null,null,null,{"$f":"Database!D258","v":"1976-11-01"},false,{"$f":"IF($O$4,CHOOSE($U$4,1,Database!AI258,Database!AJ258,Database!AP258),1)","v":58.1},0.24645796216170357,{"$error":"#N/A"},{"$f":"INDEX(Database!E258:AW258,'Graph of Two Series'!$O$2)/G263","v":{"$error":"#N/A"}},{"$f":"INDEX(Database!E258:AW258,'Graph of Two Series'!$O$6)/G263","v":{"$error":"#N/A"}},{"$error":"#N/A"}]
[null,null,null,{"$f":"Database!D259","v":"1976-12-01"},false,{"$f":"IF($O$4,CHOOSE($U$4,1,Database!AI259,Database!AJ259,Database!AP259),1)","v":58.4},0.24773055060660049,{"$error":"#N/A"},{"$f":"INDEX(Database!E259:AW259,'Graph of Two Series'!$O$2)/G264","v":{"$error":"#N/A"}},{"$f":"INDEX(Database!E259:AW259,'Graph of Two Series'!$O$6)/G264","v":{"$error":"#N/A"}},{"$error":"#N/A"}]
[null,null,null,{"$f":"Database!D260","v":"1977-01-01"},false,{"$f":"IF($O$4,CHOOSE($U$4,1,Database!AI260,Database!AJ260,Database!AP260),1)","v":58.7},0.2490031390514974,{"$error":"#N/A"},{"$f":"INDEX(Database!E260:AW260,'Graph of Two Series'!$O$2)/G265","v":{"$error":"#N/A"}},{"$f":"INDEX(Database!E260:AW260,'Graph of Two Series'!$O$6)/G265","v":{"$error":"#N/A"}},{"$error":"#N/A"}]
[null,null,null,{"$f":"Database!D261","v":"1977-02-01"},false,{"$f":"IF($O$4,CHOOSE($U$4,1,Database!AI261,Database!AJ261,Database!AP261),1)","v":59.3},0.25154831594129123,{"$error":"#N/A"},{"$f":"INDEX(Database!E261:AW261,'Graph of Two Series'!$O$2)/G266","v":{"$error":"#N/A"}},{"$f":"INDEX(Database!E261:AW261,'Graph of Two Series'!$O$6)/G266","v":{"$error":"#N/A"}},{"$error":"#N/A"}]
[null,null,null,{"$f":"Database!D262","v":"1977-03-01"},false,{"$f":"IF($O$4,CHOOSE($U$4,1,Database!AI262,Database!AJ262,Database!AP262),1)","v":59.6},0.25282090438618815,{"$error":"#N/A"},{"$f":"INDEX(Database!E262:AW262,'Graph of Two Series'!$O$2)/G267","v":{"$error":"#N/A"}},{"$f":"INDEX(Database!E262:AW262,'Graph of Two Series'!$O$6)/G267","v":{"$error":"#N/A"}},{"$error":"#N/A"}]
[null,null,null,{"$f":"Database!D263","v":"1977-04-01"},false,{"$f":"IF($O$4,CHOOSE($U$4,1,Database!AI263,Database!AJ263,Database!AP263),1)","v":60},0.25451768897938404,{"$error":"#N/A"},{"$f":"INDEX(Database!E263:AW263,'Graph of Two Series'!$O$2)/G268","v":{"$error":"#N/A"}},{"$f":"INDEX(Database!E263:AW263,'Graph of Two Series'!$O$6)/G268","v":{"$error":"#N/A"}},{"$error":"#N/A"}]
[null,null,null,{"$f":"Database!D264","v":"1977-05-01"},false,{"$f":"IF($O$4,CHOOSE($U$4,1,Database!AI264,Database!AJ264,Database!AP264),1)","v":60.2},{"$f":"F269/$G$5","v":0.25536608127598204},{"$f":"IF(E269,D269,NA())","v":{"$error":"#N/A"}},{"$f":"INDEX(Database!E264:AW264,'Graph of Two Series'!$O$2)/G269","v":{"$error":"#N/A"}},{"$f":"INDEX(Database!E264:AW264,'Graph of Two Series'!$O$6)/G269","v":{"$error":"#N/A"}},{"$error":"#N/A"}]
[null,null,null,{"$f":"Database!D265","v":"1977-06-01"},{"$f":"AND($D270>=E$11,$D270<=E$12)","v":false},{"$f":"IF($O$4,CHOOSE($U$4,1,Database!AI265,Database!AJ265,Database!AP265),1)","v":60.5},0.2566386697208789,{"$error":"#N/A"},{"$f":"INDEX(Database!E265:AW265,'Graph of Two Series'!$O$2)/G270","v":{"$error":"#N/A"}},{"$f":"INDEX(Database!E265:AW265,'Graph of Two Series'!$O$6)/G270","v":{"$error":"#N/A"}},{"$error":"#N/A"}]
[null,null,null,{"$f":"Database!D266","v":"1977-07-01"},false,{"$f":"IF($O$4,CHOOSE($U$4,1,Database!AI266,Database!AJ266,Database!AP266),1)","v":60.8},0.25791125816577581,{"$error":"#N/A"},{"$f":"INDEX(Database!E266:AW266,'Graph of Two Series'!$O$2)/G271","v":{"$error":"#N/A"}},{"$f":"INDEX(Database!E266:AW266,'Graph of Two Series'!$O$6)/G271","v":{"$error":"#N/A"}},{"$f":"J271-J270","v":{"$error":"#N/A"}}]
[null,null,null,{"$f":"Database!D267","v":"1977-08-01"},false,{"$f":"IF($O$4,CHOOSE($U$4,1,Database!AI267,Database!AJ267,Database!AP267),1)","v":61.1},0.25918384661067279,{"$error":"#N/A"},{"$f":"INDEX(Database!E267:AW267,'Graph of Two Series'!$O$2)/G272","v":{"$error":"#N/A"}},{"$f":"INDEX(Database!E267:AW267,'Graph of Two Series'!$O$6)/G272","v":{"$error":"#N/A"}},{"$error":"#N/A"}]
[null,null,null,{"$f":"Database!D268","v":"1977-09-01"},false,{"$f":"IF($O$4,CHOOSE($U$4,1,Database!AI268,Database!AJ268,Database!AP268),1)","v":61.3},0.26003223890727067,{"$error":"#N/A"},{"$f":"INDEX(Database!E268:AW268,'Graph of Two Series'!$O$2)/G273","v":{"$error":"#N/A"}},{"$f":"INDEX(Database!E268:AW268,'Graph of Two Series'!$O$6)/G273","v":{"$error":"#N/A"}},{"$error":"#N/A"}]
[null,null,null,{"$f":"Database!D269","v":"1977-10-01"},false,{"$f":"IF($O$4,CHOOSE($U$4,1,Database!AI269,Database!AJ269,Database!AP269),1)","v":61.6},0.26130482735216765,{"$error":"#N/A"},{"$f":"INDEX(Database!E269:AW269,'Graph of Two Series'!$O$2)/G274","v":{"$error":"#N/A"}},{"$f":"INDEX(Database!E269:AW269,'Graph of Two Series'!$O$6)/G274","v":{"$error":"#N/A"}},{"$error":"#N/A"}]
[null,null,null,{"$f":"Database!D270","v":"1977-11-01"},false,{"$f":"IF($O$4,CHOOSE($U$4,1,Database!AI270,Database!AJ270,Database!AP270),1)","v":62},0.26300161194536353,{"$error":"#N/A"},{"$f":"INDEX(Database!E270:AW270,'Graph of Two Series'!$O$2)/G275","v":{"$error":"#N/A"}},{"$f":"INDEX(Database!E270:AW270,'Graph of Two Series'!$O$6)/G275","v":{"$error":"#N/A"}},{"$error":"#N/A"}]
[null,null,null,{"$f":"Database!D271","v":"1977-12-01"},false,{"$f":"IF($O$4,CHOOSE($U$4,1,Database!AI271,Database!AJ271,Database!AP271),1)","v":62.3},0.26427420039026045,{"$error":"#N/A"},{"$f":"INDEX(Database!E271:AW271,'Graph of Two Series'!$O$2)/G276","v":{"$error":"#N/A"}},{"$f":"INDEX(Database!E271:AW271,'Graph of Two Series'!$O$6)/G276","v":{"$error":"#N/A"}},{"$error":"#N/A"}]
[null,null,null,{"$f":"Database!D272","v":"1978-01-01"},false,{"$f":"IF($O$4,CHOOSE($U$4,1,Database!AI272,Database!AJ272,Database!AP272),1)","v":62.7},0.26597098498345634,{"$error":"#N/A"},{"$f":"INDEX(Database!E272:AW272,'Graph of Two Series'!$O$2)/G277","v":{"$error":"#N/A"}},{"$f":"INDEX(Database!E272:AW272,'Graph of Two Series'!$O$6)/G277","v":{"$error":"#N/A"}},{"$error":"#N/A"}]
[null,null,null,{"$f":"Database!D273","v":"1978-02-01"},false,{"$f":"IF($O$4,CHOOSE($U$4,1,Database!AI273,Database!AJ273,Database!AP273),1)","v":63},0.26724357342835325,{"$error":"#N/A"},{"$f":"INDEX(Database!E273:AW273,'Graph of Two Series'!$O$2)/G278","v":{"$error":"#N/A"}},{"$f":"INDEX(Database!E273:AW273,'Graph of Two Series'!$O$6)/G278","v":{"$error":"#N/A"}},{"$error":"#N/A"}]
[null,null,null,{"$f":"Database!D274","v":"1978-03-01"},false,{"$f":"IF($O$4,CHOOSE($U$4,1,Database!AI274,Database!AJ274,Database!AP274),1)","v":63.4},0.26894035802154914,{"$error":"#N/A"},{"$f":"INDEX(Database!E274:AW274,'Graph of Two Series'!$O$2)/G279","v":{"$error":"#N/A"}},{"$f":"INDEX(Database!E274:AW274,'Graph of Two Series'!$O$6)/G279","v":{"$error":"#N/A"}},{"$error":"#N/A"}]
[null,null,null,{"$f":"Database!D275","v":"1978-04-01"},false,{"$f":"IF($O$4,CHOOSE($U$4,1,Database!AI275,Database!AJ275,Database!AP275),1)","v":63.9},0.271061338763044,{"$error":"#N/A"},{"$f":"INDEX(Database!E275:AW275,'Graph of Two Series'!$O$2)/G280","v":{"$error":"#N/A"}},{"$f":"INDEX(Database!E275:AW275,'Graph of Two Series'!$O$6)/G280","v":{"$error":"#N/A"}},{"$error":"#N/A"}]
[null,null,null,{"$f":"Database!D276","v":"1978-05-01"},false,{"$f":"IF($O$4,CHOOSE($U$4,1,Database!AI276,Database!AJ276,Database!AP276),1)","v":64.5},0.27360651565283789,{"$error":"#N/A"},{"$f":"INDEX(Database!E276:AW276,'Graph of Two Series'!$O$2)/G281","v":{"$error":"#N/A"}},{"$f":"INDEX(Database!E276:AW276,'Graph of Two Series'!$O$6)/G281","v":{"$error":"#N/A"}},{"$error":"#N/A"}]
[null,null,null,{"$f":"Database!D277","v":"1978-06-01"},false,{"$f":"IF($O$4,CHOOSE($U$4,1,Database!AI277,Database!AJ277,Database!AP277),1)","v":65},0.27572749639433275,{"$error":"#N/A"},{"$f":"INDEX(Database!E277:AW277,'Graph of Two Series'!$O$2)/G282","v":{"$error":"#N/A"}},{"$f":"INDEX(Database!E277:AW277,'Graph of Two Series'!$O$6)/G282","v":{"$error":"#N/A"}},{"$error":"#N/A"}]
[null,null,null,{"$f":"Database!D278","v":"1978-07-01"},false,{"$f":"IF($O$4,CHOOSE($U$4,1,Database!AI278,Database!AJ278,Database!AP278),1)","v":65.5},0.27784847713582761,{"$error":"#N/A"},{"$f":"INDEX(Database!E278:AW278,'Graph of Two Series'!$O$2)/G283","v":{"$error":"#N/A"}},{"$f":"INDEX(Database!E278:AW278,'Graph of Two Series'!$O$6)/G283","v":{"$error":"#N/A"}},{"$error":"#N/A"}]
[null,null,null,{"$f":"Database!D279","v":"1978-08-01"},false,{"$f":"IF($O$4,CHOOSE($U$4,1,Database!AI279,Database!AJ279,Database!AP279),1)","v":65.900000000000006},0.2795452617290235,{"$error":"#N/A"},{"$f":"INDEX(Database!E279:AW279,'Graph of Two Series'!$O$2)/G284","v":{"$error":"#N/A"}},{"$f":"INDEX(Database!E279:AW279,'Graph of Two Series'!$O$6)/G284","v":{"$error":"#N/A"}},{"$error":"#N/A"}]
[null,null,null,{"$f":"Database!D280","v":"1978-09-01"},false,{"$f":"IF($O$4,CHOOSE($U$4,1,Database!AI280,Database!AJ280,Database!AP280),1)","v":66.5},0.28209043861881733,{"$error":"#N/A"},{"$f":"INDEX(Database!E280:AW280,'Graph of Two Series'!$O$2)/G285","v":{"$error":"#N/A"}},{"$f":"INDEX(Database!E280:AW280,'Graph of Two Series'!$O$6)/G285","v":{"$error":"#N/A"}},{"$error":"#N/A"}]
[null,null,null,{"$f":"Database!D281","v":"1978-10-01"},false,{"$f":"IF($O$4,CHOOSE($U$4,1,Database!AI281,Database!AJ281,Database!AP281),1)","v":67.099999999999994},0.28463561550861116,{"$error":"#N/A"},{"$f":"INDEX(Database!E281:AW281,'Graph of Two Series'!$O$2)/G286","v":{"$error":"#N/A"}},{"$f":"INDEX(Database!E281:AW281,'Graph of Two Series'!$O$6)/G286","v":{"$error":"#N/A"}},{"$error":"#N/A"}]
[null,null,null,{"$f":"Database!D282","v":"1978-11-01"},false,{"$f":"IF($O$4,CHOOSE($U$4,1,Database!AI282,Database!AJ282,Database!AP282),1)","v":67.5},0.28633240010180705,{"$error":"#N/A"},{"$f":"INDEX(Database!E282:AW282,'Graph of Two Series'!$O$2)/G287","v":{"$error":"#N/A"}},{"$f":"INDEX(Database!E282:AW282,'Graph of Two Series'!$O$6)/G287","v":{"$error":"#N/A"}},{"$error":"#N/A"}]
[null,null,null,{"$f":"Database!D283","v":"1978-12-01"},false,{"$f":"IF($O$4,CHOOSE($U$4,1,Database!AI283,Database!AJ283,Database!AP283),1)","v":67.900000000000006},0.28802918469500299,{"$error":"#N/A"},{"$f":"INDEX(Database!E283:AW283,'Graph of Two Series'!$O$2)/G288","v":{"$error":"#N/A"}},{"$f":"INDEX(Database!E283:AW283,'Graph of Two Series'!$O$6)/G288","v":{"$error":"#N/A"}},{"$error":"#N/A"}]
[null,null,null,{"$f":"Database!D284","v":"1979-01-01"},false,{"$f":"IF($O$4,CHOOSE($U$4,1,Database!AI284,Database!AJ284,Database!AP284),1)","v":68.5},0.29057436158479683,{"$error":"#N/A"},{"$f":"INDEX(Database!E284:AW284,'Graph of Two Series'!$O$2)/G289","v":{"$error":"#N/A"}},{"$f":"INDEX(Database!E284:AW284,'Graph of Two Series'!$O$6)/G289","v":{"$error":"#N/A"}},{"$error":"#N/A"}]
[null,null,null,{"$f":"Database!D285","v":"1979-02-01"},false,{"$f":"IF($O$4,CHOOSE($U$4,1,Database!AI285,Database!AJ285,Database!AP285),1)","v":69.2},0.29354373462288963,{"$error":"#N/A"},{"$f":"INDEX(Database!E285:AW285,'Graph of Two Series'!$O$2)/G290","v":{"$error":"#N/A"}},{"$f":"INDEX(Database!E285:AW285,'Graph of Two Series'!$O$6)/G290","v":{"$error":"#N/A"}},{"$error":"#N/A"}]
[null,null,null,{"$f":"Database!D286","v":"1979-03-01"},false,{"$f":"IF($O$4,CHOOSE($U$4,1,Database!AI286,Database!AJ286,Database!AP286),1)","v":69.900000000000006},0.29651310766098243,{"$error":"#N/A"},{"$f":"INDEX(Database!E286:AW286,'Graph of Two Series'!$O$2)/G291","v":{"$error":"#N/A"}},{"$f":"INDEX(Database!E286:AW286,'Graph of Two Series'!$O$6)/G291","v":{"$error":"#N/A"}},{"$error":"#N/A"}]
[null,null,null,{"$f":"Database!D287","v":"1979-04-01"},false,{"$f":"IF($O$4,CHOOSE($U$4,1,Database!AI287,Database!AJ287,Database!AP287),1)","v":70.599999999999994},0.29948248069907524,{"$error":"#N/A"},{"$f":"INDEX(Database!E287:AW287,'Graph of Two Series'!$O$2)/G292","v":{"$error":"#N/A"}},{"$f":"INDEX(Database!E287:AW287,'Graph of Two Series'!$O$6)/G292","v":{"$error":"#N/A"}},{"$error":"#N/A"}]
[null,null,null,{"$f":"Database!D288","v":"1979-05-01"},false,{"$f":"IF($O$4,CHOOSE($U$4,1,Database!AI288,Database!AJ288,Database!AP288),1)","v":71.400000000000006},0.30287604988546707,{"$error":"#N/A"},{"$f":"INDEX(Database!E288:AW288,'Graph of Two Series'!$O$2)/G293","v":{"$error":"#N/A"}},{"$f":"INDEX(Database!E288:AW288,'Graph of Two Series'!$O$6)/G293","v":{"$error":"#N/A"}},{"$error":"#N/A"}]
[null,null,null,{"$f":"Database!D289","v":"1979-06-01"},false,{"$f":"IF($O$4,CHOOSE($U$4,1,Database!AI289,Database!AJ289,Database!AP289),1)","v":72.2},0.30626961907185885,{"$error":"#N/A"},{"$f":"INDEX(Database!E289:AW289,'Graph of Two Series'!$O$2)/G294","v":{"$error":"#N/A"}},{"$f":"INDEX(Database!E289:AW289,'Graph of Two Series'!$O$6)/G294","v":{"$error":"#N/A"}},{"$error":"#N/A"}]
[null,null,null,{"$f":"Database!D290","v":"1979-07-01"},false,{"$f":"IF($O$4,CHOOSE($U$4,1,Database!AI290,Database!AJ290,Database!AP290),1)","v":73},0.30966318825825062,{"$error":"#N/A"},{"$f":"INDEX(Database!E290:AW290,'Graph of Two Series'!$O$2)/G295","v":{"$error":"#N/A"}},{"$f":"INDEX(Database!E290:AW290,'Graph of Two Series'!$O$6)/G295","v":{"$error":"#N/A"}},{"$error":"#N/A"}]
[null,null,null,{"$f":"Database!D291","v":"1979-08-01"},false,{"$f":"IF($O$4,CHOOSE($U$4,1,Database!AI291,Database!AJ291,Database!AP291),1)","v":73.7},0.31263256129634343,{"$error":"#N/A"},{"$f":"INDEX(Database!E291:AW291,'Graph of Two Series'!$O$2)/G296","v":{"$error":"#N/A"}},{"$f":"INDEX(Database!E291:AW291,'Graph of Two Series'!$O$6)/G296","v":{"$error":"#N/A"}},{"$error":"#N/A"}]
[null,null,null,{"$f":"Database!D292","v":"1979-09-01"},false,{"$f":"IF($O$4,CHOOSE($U$4,1,Database!AI292,Database!AJ292,Database!AP292),1)","v":74.400000000000006},0.31560193433443623,{"$error":"#N/A"},{"$f":"INDEX(Database!E292:AW292,'Graph of Two Series'!$O$2)/G297","v":{"$error":"#N/A"}},{"$f":"INDEX(Database!E292:AW292,'Graph of Two Series'!$O$6)/G297","v":{"$error":"#N/A"}},{"$error":"#N/A"}]
[null,null,null,{"$f":"Database!D293","v":"1979-10-01"},false,{"$f":"IF($O$4,CHOOSE($U$4,1,Database!AI293,Database!AJ293,Database!AP293),1)","v":75.2},0.31899550352082801,{"$error":"#N/A"},{"$f":"INDEX(Database!E293:AW293,'Graph of Two Series'!$O$2)/G298","v":{"$error":"#N/A"}},{"$f":"INDEX(Database!E293:AW293,'Graph of Two Series'!$O$6)/G298","v":{"$error":"#N/A"}},{"$error":"#N/A"}]
[null,null,null,{"$f":"Database!D294","v":"1979-11-01"},false,{"$f":"IF($O$4,CHOOSE($U$4,1,Database!AI294,Database!AJ294,Database!AP294),1)","v":76},0.32238907270721978,{"$error":"#N/A"},{"$f":"INDEX(Database!E294:AW294,'Graph of Two Series'!$O$2)/G299","v":{"$error":"#N/A"}},{"$f":"INDEX(Database!E294:AW294,'Graph of Two Series'!$O$6)/G299","v":{"$error":"#N/A"}},{"$error":"#N/A"}]
[null,null,null,{"$f":"Database!D295","v":"1979-12-01"},false,{"$f":"IF($O$4,CHOOSE($U$4,1,Database!AI295,Database!AJ295,Database!AP295),1)","v":76.900000000000006},0.32620683804191059,{"$error":"#N/A"},{"$f":"INDEX(Database!E295:AW295,'Graph of Two Series'!$O$2)/G300","v":{"$error":"#N/A"}},{"$f":"INDEX(Database!E295:AW295,'Graph of Two Series'!$O$6)/G300","v":{"$error":"#N/A"}},{"$error":"#N/A"}]
[null,null,null,{"$f":"Database!D296","v":"1980-01-01"},false,{"$f":"IF($O$4,CHOOSE($U$4,1,Database!AI296,Database!AJ296,Database!AP296),1)","v":78},0.33087299567319928,{"$error":"#N/A"},{"$f":"INDEX(Database!E296:AW296,'Graph of Two Series'!$O$2)/G301","v":{"$error":"#N/A"}},{"$f":"INDEX(Database!E296:AW296,'Graph of Two Series'!$O$6)/G301","v":{"$error":"#N/A"}},{"$error":"#N/A"}]
[null,null,null,{"$f":"Database!D297","v":"1980-02-01"},false,{"$f":"IF($O$4,CHOOSE($U$4,1,Database!AI297,Database!AJ297,Database!AP297),1)","v":79},0.335114957156189,{"$error":"#N/A"},{"$f":"INDEX(Database!E297:AW297,'Graph of Two Series'!$O$2)/G302","v":{"$error":"#N/A"}},{"$f":"INDEX(Database!E297:AW297,'Graph of Two Series'!$O$6)/G302","v":{"$error":"#N/A"}},{"$error":"#N/A"}]
[null,null,null,{"$f":"Database!D298","v":"1980-03-01"},false,{"$f":"IF($O$4,CHOOSE($U$4,1,Database!AI298,Database!AJ298,Database!AP298),1)","v":80.099999999999994},0.33978111478747769,{"$error":"#N/A"},{"$f":"INDEX(Database!E298:AW298,'Graph of Two Series'!$O$2)/G303","v":{"$error":"#N/A"}},{"$f":"INDEX(Database!E298:AW298,'Graph of Two Series'!$O$6)/G303","v":{"$error":"#N/A"}},{"$error":"#N/A"}]
[null,null,null,{"$f":"Database!D299","v":"1980-04-01"},false,{"$f":"IF($O$4,CHOOSE($U$4,1,Database!AI299,Database!AJ299,Database!AP299),1)","v":80.900000000000006},0.34317468397386952,{"$error":"#N/A"},{"$f":"INDEX(Database!E299:AW299,'Graph of Two Series'!$O$2)/G304","v":{"$error":"#N/A"}},{"$f":"INDEX(Database!E299:AW299,'Graph of Two Series'!$O$6)/G304","v":{"$error":"#N/A"}},{"$error":"#N/A"}]
[null,null,null,{"$f":"Database!D300","v":"1980-05-01"},false,{"$f":"IF($O$4,CHOOSE($U$4,1,Database!AI300,Database!AJ300,Database!AP300),1)","v":81.7},0.3465682531602613,{"$error":"#N/A"},{"$f":"INDEX(Database!E300:AW300,'Graph of Two Series'!$O$2)/G305","v":{"$error":"#N/A"}},{"$f":"INDEX(Database!E300:AW300,'Graph of Two Series'!$O$6)/G305","v":{"$error":"#N/A"}},{"$error":"#N/A"}]
[null,null,null,{"$f":"Database!D301","v":"1980-06-01"},false,{"$f":"IF($O$4,CHOOSE($U$4,1,Database!AI301,Database!AJ301,Database!AP301),1)","v":82.5},0.34996182234665307,{"$error":"#N/A"},{"$f":"INDEX(Database!E301:AW301,'Graph of Two Series'!$O$2)/G306","v":{"$error":"#N/A"}},{"$f":"INDEX(Database!E301:AW301,'Graph of Two Series'!$O$6)/G306","v":{"$error":"#N/A"}},{"$error":"#N/A"}]
[null,null,null,{"$f":"Database!D302","v":"1980-07-01"},false,{"$f":"IF($O$4,CHOOSE($U$4,1,Database!AI302,Database!AJ302,Database!AP302),1)","v":82.6},0.35038601849495205,{"$error":"#N/A"},{"$f":"INDEX(Database!E302:AW302,'Graph of Two Series'!$O$2)/G307","v":{"$error":"#N/A"}},{"$f":"INDEX(Database!E302:AW302,'Graph of Two Series'!$O$6)/G307","v":{"$error":"#N/A"}},{"$error":"#N/A"}]
[null,null,null,{"$f":"Database!D303","v":"1980-08-01"},false,{"$f":"IF($O$4,CHOOSE($U$4,1,Database!AI303,Database!AJ303,Database!AP303),1)","v":83.2},0.35293119538474593,{"$error":"#N/A"},{"$f":"INDEX(Database!E303:AW303,'Graph of Two Series'!$O$2)/G308","v":{"$error":"#N/A"}},{"$f":"INDEX(Database!E303:AW303,'Graph of Two Series'!$O$6)/G308","v":{"$error":"#N/A"}},{"$error":"#N/A"}]
[null,null,null,{"$f":"Database!D304","v":"1980-09-01"},false,{"$f":"IF($O$4,CHOOSE($U$4,1,Database!AI304,Database!AJ304,Database!AP304),1)","v":83.9},0.35590056842283874,{"$error":"#N/A"},{"$f":"INDEX(Database!E304:AW304,'Graph of Two Series'!$O$2)/G309","v":{"$error":"#N/A"}},{"$f":"INDEX(Database!E304:AW304,'Graph of Two Series'!$O$6)/G309","v":{"$error":"#N/A"}},{"$error":"#N/A"}]
[null,null,null,{"$f":"Database!D305","v":"1980-10-01"},false,{"$f":"IF($O$4,CHOOSE($U$4,1,Database!AI305,Database!AJ305,Database!AP305),1)","v":84.7},0.35929413760923051,{"$error":"#N/A"},{"$f":"INDEX(Database!E305:AW305,'Graph of Two Series'!$O$2)/G310","v":{"$error":"#N/A"}},{"$f":"INDEX(Database!E305:AW305,'Graph of Two Series'!$O$6)/G310","v":{"$error":"#N/A"}},{"$error":"#N/A"}]
[null,null,null,{"$f":"Database!D306","v":"1980-11-01"},false,{"$f":"IF($O$4,CHOOSE($U$4,1,Database!AI306,Database!AJ306,Database!AP306),1)","v":85.6},0.36311190294392121,{"$error":"#N/A"},{"$f":"INDEX(Database!E306:AW306,'Graph of Two Series'!$O$2)/G311","v":{"$error":"#N/A"}},{"$f":"INDEX(Database!E306:AW306,'Graph of Two Series'!$O$6)/G311","v":{"$error":"#N/A"}},{"$error":"#N/A"}]
[null,null,null,{"$f":"Database!D307","v":"1980-12-01"},false,{"$f":"IF($O$4,CHOOSE($U$4,1,Database!AI307,Database!AJ307,Database!AP307),1)","v":86.4},0.36650547213031309,{"$error":"#N/A"},{"$f":"INDEX(Database!E307:AW307,'Graph of Two Series'!$O$2)/G312","v":{"$error":"#N/A"}},{"$f":"INDEX(Database!E307:AW307,'Graph of Two Series'!$O$6)/G312","v":{"$error":"#N/A"}},{"$error":"#N/A"}]
[null,null,null,{"$f":"Database!D308","v":"1981-01-01"},false,{"$f":"IF($O$4,CHOOSE($U$4,1,Database!AI308,Database!AJ308,Database!AP308),1)","v":87.2},0.36989904131670487,{"$error":"#N/A"},{"$f":"INDEX(Database!E308:AW308,'Graph of Two Series'!$O$2)/G313","v":{"$error":"#N/A"}},{"$f":"INDEX(Database!E308:AW308,'Graph of Two Series'!$O$6)/G313","v":{"$error":"#N/A"}},{"$error":"#N/A"}]
[null,null,null,{"$f":"Database!D309","v":"1981-02-01"},false,{"$f":"IF($O$4,CHOOSE($U$4,1,Database!AI309,Database!AJ309,Database!AP309),1)","v":88},0.37329261050309664,{"$error":"#N/A"},{"$f":"INDEX(Database!E309:AW309,'Graph of Two Series'!$O$2)/G314","v":{"$error":"#N/A"}},{"$f":"INDEX(Database!E309:AW309,'Graph of Two Series'!$O$6)/G314","v":{"$error":"#N/A"}},{"$error":"#N/A"}]
[null,null,null,{"$f":"Database!D310","v":"1981-03-01"},false,{"$f":"IF($O$4,CHOOSE($U$4,1,Database!AI310,Database!AJ310,Database!AP310),1)","v":88.6},0.37583778739289042,{"$error":"#N/A"},{"$f":"INDEX(Database!E310:AW310,'Graph of Two Series'!$O$2)/G315","v":{"$error":"#N/A"}},{"$f":"INDEX(Database!E310:AW310,'Graph of Two Series'!$O$6)/G315","v":{"$error":"#N/A"}},{"$error":"#N/A"}]
[null,null,null,{"$f":"Database!D311","v":"1981-04-01"},false,{"$f":"IF($O$4,CHOOSE($U$4,1,Database!AI311,Database!AJ311,Database!AP311),1)","v":89.1},0.37795876813438528,{"$error":"#N/A"},{"$f":"INDEX(Database!E311:AW311,'Graph of Two Series'!$O$2)/G316","v":{"$error":"#N/A"}},{"$f":"INDEX(Database!E311:AW311,'Graph of Two Series'!$O$6)/G316","v":{"$error":"#N/A"}},{"$error":"#N/A"}]
[null,null,null,{"$f":"Database!D312","v":"1981-05-01"},false,{"$f":"IF($O$4,CHOOSE($U$4,1,Database!AI312,Database!AJ312,Database!AP312),1)","v":89.7},0.38050394502417917,{"$error":"#N/A"},{"$f":"INDEX(Database!E312:AW312,'Graph of Two Series'!$O$2)/G317","v":{"$error":"#N/A"}},{"$f":"INDEX(Database!E312:AW312,'Graph of Two Series'!$O$6)/G317","v":{"$error":"#N/A"}},{"$error":"#N/A"}]
[null,null,null,{"$f":"Database!D313","v":"1981-06-01"},false,{"$f":"IF($O$4,CHOOSE($U$4,1,Database!AI313,Database!AJ313,Database!AP313),1)","v":90.5},0.38389751421057094,{"$error":"#N/A"},{"$f":"INDEX(Database!E313:AW313,'Graph of Two Series'!$O$2)/G318","v":{"$error":"#N/A"}},{"$f":"INDEX(Database!E313:AW313,'Graph of Two Series'!$O$6)/G318","v":{"$error":"#N/A"}},{"$error":"#N/A"}]
[null,null,null,{"$f":"Database!D314","v":"1981-07-01"},false,{"$f":"IF($O$4,CHOOSE($U$4,1,Database!AI314,Database!AJ314,Database!AP314),1)","v":91.5},0.38813947569356066,{"$error":"#N/A"},{"$f":"INDEX(Database!E314:AW314,'Graph of Two Series'!$O$2)/G319","v":{"$error":"#N/A"}},{"$f":"INDEX(Database!E314:AW314,'Graph of Two Series'!$O$6)/G319","v":{"$error":"#N/A"}},{"$error":"#N/A"}]
[null,null,null,{"$f":"Database!D315","v":"1981-08-01"},false,{"$f":"IF($O$4,CHOOSE($U$4,1,Database!AI315,Database!AJ315,Database!AP315),1)","v":92.2},0.39110884873165352,{"$error":"#N/A"},{"$f":"INDEX(Database!E315:AW315,'Graph of Two Series'!$O$2)/G320","v":{"$error":"#N/A"}},{"$f":"INDEX(Database!E315:AW315,'Graph of Two Series'!$O$6)/G320","v":{"$error":"#N/A"}},{"$error":"#N/A"}]
[null,null,null,{"$f":"Database!D316","v":"1981-09-01"},false,{"$f":"IF($O$4,CHOOSE($U$4,1,Database!AI316,Database!AJ316,Database!AP316),1)","v":93.1},0.39492661406634422,{"$error":"#N/A"},{"$f":"INDEX(Database!E316:AW316,'Graph of Two Series'!$O$2)/G321","v":{"$error":"#N/A"}},{"$f":"INDEX(Database!E316:AW316,'Graph of Two Series'!$O$6)/G321","v":{"$error":"#N/A"}},{"$error":"#N/A"}]
[null,null,null,{"$f":"Database!D317","v":"1981-10-01"},false,{"$f":"IF($O$4,CHOOSE($U$4,1,Database!AI317,Database!AJ317,Database!AP317),1)","v":93.4},0.39619920251124119,{"$error":"#N/A"},{"$f":"INDEX(Database!E317:AW317,'Graph of Two Series'!$O$2)/G322","v":{"$error":"#N/A"}},{"$f":"INDEX(Database!E317:AW317,'Graph of Two Series'!$O$6)/G322","v":{"$error":"#N/A"}},{"$error":"#N/A"}]
[null,null,null,{"$f":"Database!D318","v":"1981-11-01"},false,{"$f":"IF($O$4,CHOOSE($U$4,1,Database!AI318,Database!AJ318,Database!AP318),1)","v":93.8},0.39789598710443708,{"$error":"#N/A"},{"$f":"INDEX(Database!E318:AW318,'Graph of Two Series'!$O$2)/G323","v":{"$error":"#N/A"}},{"$f":"INDEX(Database!E318:AW318,'Graph of Two Series'!$O$6)/G323","v":{"$error":"#N/A"}},{"$error":"#N/A"}]
[null,null,null,{"$f":"Database!D319","v":"1981-12-01"},false,{"$f":"IF($O$4,CHOOSE($U$4,1,Database!AI319,Database!AJ319,Database!AP319),1)","v":94.1},0.39916857554933399,{"$error":"#N/A"},{"$f":"INDEX(Database!E319:AW319,'Graph of Two Series'!$O$2)/G324","v":{"$error":"#N/A"}},{"$f":"INDEX(Database!E319:AW319,'Graph of Two Series'!$O$6)/G324","v":{"$error":"#N/A"}},{"$error":"#N/A"}]
[null,null,null,{"$f":"Database!D320","v":"1982-01-01"},false,{"$f":"IF($O$4,CHOOSE($U$4,1,Database!AI320,Database!AJ320,Database!AP320),1)","v":94.4},0.40044116399423096,{"$error":"#N/A"},{"$f":"INDEX(Database!E320:AW320,'Graph of Two Series'!$O$2)/G325","v":{"$error":"#N/A"}},{"$f":"INDEX(Database!E320:AW320,'Graph of Two Series'!$O$6)/G325","v":{"$error":"#N/A"}},{"$error":"#N/A"}]
[null,null,null,{"$f":"Database!D321","v":"1982-02-01"},false,{"$f":"IF($O$4,CHOOSE($U$4,1,Database!AI321,Database!AJ321,Database!AP321),1)","v":94.7},0.40171375243912782,{"$error":"#N/A"},{"$f":"INDEX(Database!E321:AW321,'Graph of Two Series'!$O$2)/G326","v":{"$error":"#N/A"}},{"$f":"INDEX(Database!E321:AW321,'Graph of Two Series'!$O$6)/G326","v":{"$error":"#N/A"}},{"$error":"#N/A"}]
[null,null,null,{"$f":"Database!D322","v":"1982-03-01"},false,{"$f":"IF($O$4,CHOOSE($U$4,1,Database!AI322,Database!AJ322,Database!AP322),1)","v":94.7},0.40171375243912782,{"$error":"#N/A"},{"$f":"INDEX(Database!E322:AW322,'Graph of Two Series'!$O$2)/G327","v":{"$error":"#N/A"}},{"$f":"INDEX(Database!E322:AW322,'Graph of Two Series'!$O$6)/G327","v":{"$error":"#N/A"}},{"$error":"#N/A"}]
[null,null,null,{"$f":"Database!D323","v":"1982-04-01"},false,{"$f":"IF($O$4,CHOOSE($U$4,1,Database!AI323,Database!AJ323,Database!AP323),1)","v":95},0.40298634088402474,{"$error":"#N/A"},{"$f":"INDEX(Database!E323:AW323,'Graph of Two Series'!$O$2)/G328","v":{"$error":"#N/A"}},{"$f":"INDEX(Database!E323:AW323,'Graph of Two Series'!$O$6)/G328","v":{"$error":"#N/A"}},{"$error":"#N/A"}]
[null,null,null,{"$f":"Database!D324","v":"1982-05-01"},false,{"$f":"IF($O$4,CHOOSE($U$4,1,Database!AI324,Database!AJ324,Database!AP324),1)","v":95.9},0.40680410621871554,{"$error":"#N/A"},{"$f":"INDEX(Database!E324:AW324,'Graph of Two Series'!$O$2)/G329","v":{"$error":"#N/A"}},{"$f":"INDEX(Database!E324:AW324,'Graph of Two Series'!$O$6)/G329","v":{"$error":"#N/A"}},{"$error":"#N/A"}]
[null,null,null,{"$f":"Database!D325","v":"1982-06-01"},false,{"$f":"IF($O$4,CHOOSE($U$4,1,Database!AI325,Database!AJ325,Database!AP325),1)","v":97},0.41147026385000424,{"$error":"#N/A"},{"$f":"INDEX(Database!E325:AW325,'Graph of Two Series'!$O$2)/G330","v":{"$error":"#N/A"}},{"$f":"INDEX(Database!E325:AW325,'Graph of Two Series'!$O$6)/G330","v":{"$error":"#N/A"}},{"$error":"#N/A"}]
[null,null,null,{"$f":"Database!D326","v":"1982-07-01"},false,{"$f":"IF($O$4,CHOOSE($U$4,1,Database!AI326,Database!AJ326,Database!AP326),1)","v":97.5},0.4135912445914991,{"$error":"#N/A"},{"$f":"INDEX(Database!E326:AW326,'Graph of Two Series'!$O$2)/G331","v":{"$error":"#N/A"}},{"$f":"INDEX(Database!E326:AW326,'Graph of Two Series'!$O$6)/G331","v":{"$error":"#N/A"}},{"$error":"#N/A"}]
[null,null,null,{"$f":"Database!D327","v":"1982-08-01"},false,{"$f":"IF($O$4,CHOOSE($U$4,1,Database!AI327,Database!AJ327,Database!AP327),1)","v":97.7},0.41443963688809704,{"$error":"#N/A"},{"$f":"INDEX(Database!E327:AW327,'Graph of Two Series'!$O$2)/G332","v":{"$error":"#N/A"}},{"$f":"INDEX(Database!E327:AW327,'Graph of Two Series'!$O$6)/G332","v":{"$error":"#N/A"}},{"$error":"#N/A"}]
[null,null,null,{"$f":"Database!D328","v":"1982-09-01"},false,{"$f":"IF($O$4,CHOOSE($U$4,1,Database!AI328,Database!AJ328,Database!AP328),1)","v":97.7},{"$f":"F333/$G$5","v":0.41443963688809704},{"$f":"IF(E333,D333,NA())","v":{"$error":"#N/A"}},{"$f":"INDEX(Database!E328:AW328,'Graph of Two Series'!$O$2)/G333","v":{"$error":"#N/A"}},{"$f":"INDEX(Database!E328:AW328,'Graph of Two Series'!$O$6)/G333","v":{"$error":"#N/A"}},{"$error":"#N/A"}]
[null,null,null,{"$f":"Database!D329","v":"1982-10-01"},{"$f":"AND($D334>=E$11,$D334<=E$12)","v":false},{"$f":"IF($O$4,CHOOSE($U$4,1,Database!AI329,Database!AJ329,Database!AP329),1)","v":98.1},0.41613642148129293,{"$error":"#N/A"},{"$f":"INDEX(Database!E329:AW329,'Graph of Two Series'!$O$2)/G334","v":{"$error":"#N/A"}},{"$f":"INDEX(Database!E329:AW329,'Graph of Two Series'!$O$6)/G334","v":{"$error":"#N/A"}},{"$error":"#N/A"}]
[null,null,null,{"$f":"Database!D330","v":"1982-11-01"},false,{"$f":"IF($O$4,CHOOSE($U$4,1,Database!AI330,Database!AJ330,Database!AP330),1)","v":98},0.41571222533299396,{"$error":"#N/A"},{"$f":"INDEX(Database!E330:AW330,'Graph of Two Series'!$O$2)/G335","v":{"$error":"#N/A"}},{"$f":"INDEX(Database!E330:AW330,'Graph of Two Series'!$O$6)/G335","v":{"$error":"#N/A"}},{"$f":"J335-J334","v":{"$error":"#N/A"}}]
[null,null,null,{"$f":"Database!D331","v":"1982-12-01"},false,{"$f":"IF($O$4,CHOOSE($U$4,1,Database!AI331,Database!AJ331,Database!AP331),1)","v":97.7},0.41443963688809704,{"$error":"#N/A"},{"$f":"INDEX(Database!E331:AW331,'Graph of Two Series'!$O$2)/G336","v":{"$error":"#N/A"}},{"$f":"INDEX(Database!E331:AW331,'Graph of Two Series'!$O$6)/G336","v":{"$error":"#N/A"}},{"$error":"#N/A"}]
[null,null,null,{"$f":"Database!D332","v":"1983-01-01"},false,{"$f":"IF($O$4,CHOOSE($U$4,1,Database!AI332,Database!AJ332,Database!AP332),1)","v":97.9},0.41528802918469498,{"$error":"#N/A"},{"$f":"INDEX(Database!E332:AW332,'Graph of Two Series'!$O$2)/G337","v":{"$error":"#N/A"}},{"$f":"INDEX(Database!E332:AW332,'Graph of Two Series'!$O$6)/G337","v":{"$error":"#N/A"}},{"$error":"#N/A"}]
[null,null,null,{"$f":"Database!D333","v":"1983-02-01"},false,{"$f":"IF($O$4,CHOOSE($U$4,1,Database!AI333,Database!AJ333,Database!AP333),1)","v":98},0.41571222533299396,{"$error":"#N/A"},{"$f":"INDEX(Database!E333:AW333,'Graph of Two Series'!$O$2)/G338","v":{"$error":"#N/A"}},{"$f":"INDEX(Database!E333:AW333,'Graph of Two Series'!$O$6)/G338","v":{"$error":"#N/A"}},{"$error":"#N/A"}]
[null,null,null,{"$f":"Database!D334","v":"1983-03-01"},false,{"$f":"IF($O$4,CHOOSE($U$4,1,Database!AI334,Database!AJ334,Database!AP334),1)","v":98.1},0.41613642148129293,{"$error":"#N/A"},{"$f":"INDEX(Database!E334:AW334,'Graph of Two Series'!$O$2)/G339","v":{"$error":"#N/A"}},{"$f":"INDEX(Database!E334:AW334,'Graph of Two Series'!$O$6)/G339","v":{"$error":"#N/A"}},{"$error":"#N/A"}]
[null,null,null,{"$f":"Database!D335","v":"1983-04-01"},false,{"$f":"IF($O$4,CHOOSE($U$4,1,Database!AI335,Database!AJ335,Database!AP335),1)","v":98.8},0.41910579451938573,{"$error":"#N/A"},{"$f":"INDEX(Database!E335:AW335,'Graph of Two Series'!$O$2)/G340","v":{"$error":"#N/A"}},{"$f":"INDEX(Database!E335:AW335,'Graph of Two Series'!$O$6)/G340","v":{"$error":"#N/A"}},{"$error":"#N/A"}]
[null,null,null,{"$f":"Database!D336","v":"1983-05-01"},false,{"$f":"IF($O$4,CHOOSE($U$4,1,Database!AI336,Database!AJ336,Database!AP336),1)","v":99.2},0.42080257911258168,{"$error":"#N/A"},{"$f":"INDEX(Database!E336:AW336,'Graph of Two Series'!$O$2)/G341","v":{"$error":"#N/A"}},{"$f":"INDEX(Database!E336:AW336,'Graph of Two Series'!$O$6)/G341","v":{"$error":"#N/A"}},{"$error":"#N/A"}]
[null,null,null,{"$f":"Database!D337","v":"1983-06-01"},false,{"$f":"IF($O$4,CHOOSE($U$4,1,Database!AI337,Database!AJ337,Database!AP337),1)","v":99.4},0.42165097140917962,{"$error":"#N/A"},{"$f":"INDEX(Database!E337:AW337,'Graph of Two Series'!$O$2)/G342","v":{"$error":"#N/A"}},{"$f":"INDEX(Database!E337:AW337,'Graph of Two Series'!$O$6)/G342","v":{"$error":"#N/A"}},{"$error":"#N/A"}]
[null,null,null,{"$f":"Database!D338","v":"1983-07-01"},false,{"$f":"IF($O$4,CHOOSE($U$4,1,Database!AI338,Database!AJ338,Database!AP338),1)","v":99.8},0.42334775600237545,{"$error":"#N/A"},{"$f":"INDEX(Database!E338:AW338,'Graph of Two Series'!$O$2)/G343","v":{"$error":"#N/A"}},{"$f":"INDEX(Database!E338:AW338,'Graph of Two Series'!$O$6)/G343","v":{"$error":"#N/A"}},{"$error":"#N/A"}]
[null,null,null,{"$f":"Database!D339","v":"1983-08-01"},false,{"$f":"IF($O$4,CHOOSE($U$4,1,Database!AI339,Database!AJ339,Database!AP339),1)","v":100.1},0.42462034444727237,{"$error":"#N/A"},{"$f":"INDEX(Database!E339:AW339,'Graph of Two Series'!$O$2)/G344","v":{"$error":"#N/A"}},{"$f":"INDEX(Database!E339:AW339,'Graph of Two Series'!$O$6)/G344","v":{"$error":"#N/A"}},{"$error":"#N/A"}]
[null,null,null,{"$f":"Database!D340","v":"1983-09-01"},false,{"$f":"IF($O$4,CHOOSE($U$4,1,Database!AI340,Database!AJ340,Database!AP340),1)","v":100.4},0.42589293289216934,{"$error":"#N/A"},{"$f":"INDEX(Database!E340:AW340,'Graph of Two Series'!$O$2)/G345","v":{"$error":"#N/A"}},{"$f":"INDEX(Database!E340:AW340,'Graph of Two Series'!$O$6)/G345","v":{"$error":"#N/A"}},{"$error":"#N/A"}]
[null,null,null,{"$f":"Database!D341","v":"1983-10-01"},false,{"$f":"IF($O$4,CHOOSE($U$4,1,Database!AI341,Database!AJ341,Database!AP341),1)","v":100.8},0.42758971748536523,{"$error":"#N/A"},{"$f":"INDEX(Database!E341:AW341,'Graph of Two Series'!$O$2)/G346","v":{"$error":"#N/A"}},{"$f":"INDEX(Database!E341:AW341,'Graph of Two Series'!$O$6)/G346","v":{"$error":"#N/A"}},{"$error":"#N/A"}]
[null,null,null,{"$f":"Database!D342","v":"1983-11-01"},false,{"$f":"IF($O$4,CHOOSE($U$4,1,Database!AI342,Database!AJ342,Database!AP342),1)","v":101.1},0.42886230593026209,{"$error":"#N/A"},{"$f":"INDEX(Database!E342:AW342,'Graph of Two Series'!$O$2)/G347","v":{"$error":"#N/A"}},{"$f":"INDEX(Database!E342:AW342,'Graph of Two Series'!$O$6)/G347","v":{"$error":"#N/A"}},{"$error":"#N/A"}]
[null,null,null,{"$f":"Database!D343","v":"1983-12-01"},false,{"$f":"IF($O$4,CHOOSE($U$4,1,Database!AI343,Database!AJ343,Database!AP343),1)","v":101.4},0.43013489437515906,{"$error":"#N/A"},{"$f":"INDEX(Database!E343:AW343,'Graph of Two Series'!$O$2)/G348","v":{"$error":"#N/A"}},{"$f":"INDEX(Database!E343:AW343,'Graph of Two Series'!$O$6)/G348","v":{"$error":"#N/A"}},{"$error":"#N/A"}]
[null,null,null,{"$f":"Database!D344","v":"1984-01-01"},false,{"$f":"IF($O$4,CHOOSE($U$4,1,Database!AI344,Database!AJ344,Database!AP344),1)","v":102.1},0.43310426741325186,{"$error":"#N/A"},{"$f":"INDEX(Database!E344:AW344,'Graph of Two Series'!$O$2)/G349","v":{"$error":"#N/A"}},{"$f":"INDEX(Database!E344:AW344,'Graph of Two Series'!$O$6)/G349","v":{"$error":"#N/A"}},{"$error":"#N/A"}]
[null,null,null,{"$f":"Database!D345","v":"1984-02-01"},false,{"$f":"IF($O$4,CHOOSE($U$4,1,Database!AI345,Database!AJ345,Database!AP345),1)","v":102.6},0.43522524815474672,{"$error":"#N/A"},{"$f":"INDEX(Database!E345:AW345,'Graph of Two Series'!$O$2)/G350","v":{"$error":"#N/A"}},{"$f":"INDEX(Database!E345:AW345,'Graph of Two Series'!$O$6)/G350","v":{"$error":"#N/A"}},{"$error":"#N/A"}]
[null,null,null,{"$f":"Database!D346","v":"1984-03-01"},false,{"$f":"IF($O$4,CHOOSE($U$4,1,Database!AI346,Database!AJ346,Database!AP346),1)","v":102.9},0.4364978365996437,{"$error":"#N/A"},{"$f":"INDEX(Database!E346:AW346,'Graph of Two Series'!$O$2)/G351","v":{"$error":"#N/A"}},{"$f":"INDEX(Database!E346:AW346,'Graph of Two Series'!$O$6)/G351","v":{"$error":"#N/A"}},{"$error":"#N/A"}]
[null,null,null,{"$f":"Database!D347","v":"1984-04-01"},false,{"$f":"IF($O$4,CHOOSE($U$4,1,Database!AI347,Database!AJ347,Database!AP347),1)","v":103.3},0.43819462119283953,{"$error":"#N/A"},{"$f":"INDEX(Database!E347:AW347,'Graph of Two Series'!$O$2)/G352","v":{"$error":"#N/A"}},{"$f":"INDEX(Database!E347:AW347,'Graph of Two Series'!$O$6)/G352","v":{"$error":"#N/A"}},{"$error":"#N/A"}]
[null,null,null,{"$f":"Database!D348","v":"1984-05-01"},false,{"$f":"IF($O$4,CHOOSE($U$4,1,Database!AI348,Database!AJ348,Database!AP348),1)","v":103.5},0.43904301348943747,{"$error":"#N/A"},{"$f":"INDEX(Database!E348:AW348,'Graph of Two Series'!$O$2)/G353","v":{"$error":"#N/A"}},{"$f":"INDEX(Database!E348:AW348,'Graph of Two Series'!$O$6)/G353","v":{"$error":"#N/A"}},{"$error":"#N/A"}]
[null,null,null,{"$f":"Database!D349","v":"1984-06-01"},false,{"$f":"IF($O$4,CHOOSE($U$4,1,Database!AI349,Database!AJ349,Database!AP349),1)","v":103.7},0.43989140578603547,{"$error":"#N/A"},{"$f":"INDEX(Database!E349:AW349,'Graph of Two Series'!$O$2)/G354","v":{"$error":"#N/A"}},{"$f":"INDEX(Database!E349:AW349,'Graph of Two Series'!$O$6)/G354","v":{"$error":"#N/A"}},{"$error":"#N/A"}]
[null,null,null,{"$f":"Database!D350","v":"1984-07-01"},false,{"$f":"IF($O$4,CHOOSE($U$4,1,Database!AI350,Database!AJ350,Database!AP350),1)","v":104.1},0.4415881903792313,{"$error":"#N/A"},{"$f":"INDEX(Database!E350:AW350,'Graph of Two Series'!$O$2)/G355","v":{"$error":"#N/A"}},{"$f":"INDEX(Database!E350:AW350,'Graph of Two Series'!$O$6)/G355","v":{"$error":"#N/A"}},{"$error":"#N/A"}]
[null,null,null,{"$f":"Database!D351","v":"1984-08-01"},false,{"$f":"IF($O$4,CHOOSE($U$4,1,Database!AI351,Database!AJ351,Database!AP351),1)","v":104.4},0.44286077882412828,{"$error":"#N/A"},{"$f":"INDEX(Database!E351:AW351,'Graph of Two Series'!$O$2)/G356","v":{"$error":"#N/A"}},{"$f":"INDEX(Database!E351:AW351,'Graph of Two Series'!$O$6)/G356","v":{"$error":"#N/A"}},{"$error":"#N/A"}]
[null,null,null,{"$f":"Database!D352","v":"1984-09-01"},false,{"$f":"IF($O$4,CHOOSE($U$4,1,Database!AI352,Database!AJ352,Database!AP352),1)","v":104.7},0.44413336726902519,{"$error":"#N/A"},{"$f":"INDEX(Database!E352:AW352,'Graph of Two Series'!$O$2)/G357","v":{"$error":"#N/A"}},{"$f":"INDEX(Database!E352:AW352,'Graph of Two Series'!$O$6)/G357","v":{"$error":"#N/A"}},{"$error":"#N/A"}]
[null,null,null,{"$f":"Database!D353","v":"1984-10-01"},false,{"$f":"IF($O$4,CHOOSE($U$4,1,Database!AI353,Database!AJ353,Database!AP353),1)","v":105.1},0.44583015186222102,{"$error":"#N/A"},{"$f":"INDEX(Database!E353:AW353,'Graph of Two Series'!$O$2)/G358","v":{"$error":"#N/A"}},{"$f":"INDEX(Database!E353:AW353,'Graph of Two Series'!$O$6)/G358","v":{"$error":"#N/A"}},{"$error":"#N/A"}]
[null,null,null,{"$f":"Database!D354","v":"1984-11-01"},false,{"$f":"IF($O$4,CHOOSE($U$4,1,Database!AI354,Database!AJ354,Database!AP354),1)","v":105.3},0.44667854415881902,{"$error":"#N/A"},{"$f":"INDEX(Database!E354:AW354,'Graph of Two Series'!$O$2)/G359","v":{"$error":"#N/A"}},{"$f":"INDEX(Database!E354:AW354,'Graph of Two Series'!$O$6)/G359","v":{"$error":"#N/A"}},{"$error":"#N/A"}]
[null,null,null,{"$f":"Database!D355","v":"1984-12-01"},false,{"$f":"IF($O$4,CHOOSE($U$4,1,Database!AI355,Database!AJ355,Database!AP355),1)","v":105.5},0.44752693645541697,{"$error":"#N/A"},{"$f":"INDEX(Database!E355:AW355,'Graph of Two Series'!$O$2)/G360","v":{"$error":"#N/A"}},{"$f":"INDEX(Database!E355:AW355,'Graph of Two Series'!$O$6)/G360","v":{"$error":"#N/A"}},{"$error":"#N/A"}]
[null,null,null,{"$f":"Database!D356","v":"1985-01-01"},false,{"$f":"IF($O$4,CHOOSE($U$4,1,Database!AI356,Database!AJ356,Database!AP356),1)","v":105.7},0.44837532875201491,{"$error":"#N/A"},{"$f":"INDEX(Database!E356:AW356,'Graph of Two Series'!$O$2)/G361","v":{"$error":"#N/A"}},{"$f":"INDEX(Database!E356:AW356,'Graph of Two Series'!$O$6)/G361","v":{"$error":"#N/A"}},{"$error":"#N/A"}]
[null,null,null,{"$f":"Database!D357","v":"1985-02-01"},false,{"$f":"IF($O$4,CHOOSE($U$4,1,Database!AI357,Database!AJ357,Database!AP357),1)","v":106.3},0.45092050564180874,{"$error":"#N/A"},{"$f":"INDEX(Database!E357:AW357,'Graph of Two Series'!$O$2)/G362","v":{"$error":"#N/A"}},{"$f":"INDEX(Database!E357:AW357,'Graph of Two Series'!$O$6)/G362","v":{"$error":"#N/A"}},{"$error":"#N/A"}]
[null,null,null,{"$f":"Database!D358","v":"1985-03-01"},false,{"$f":"IF($O$4,CHOOSE($U$4,1,Database!AI358,Database!AJ358,Database!AP358),1)","v":106.8},0.4530414863833036,{"$error":"#N/A"},{"$f":"INDEX(Database!E358:AW358,'Graph of Two Series'!$O$2)/G363","v":{"$error":"#N/A"}},{"$f":"INDEX(Database!E358:AW358,'Graph of Two Series'!$O$6)/G363","v":{"$error":"#N/A"}},{"$error":"#N/A"}]
[null,null,null,{"$f":"Database!D359","v":"1985-04-01"},false,{"$f":"IF($O$4,CHOOSE($U$4,1,Database!AI359,Database!AJ359,Database!AP359),1)","v":107},0.45388987867990155,{"$error":"#N/A"},{"$f":"INDEX(Database!E359:AW359,'Graph of Two Series'!$O$2)/G364","v":{"$error":"#N/A"}},{"$f":"INDEX(Database!E359:AW359,'Graph of Two Series'!$O$6)/G364","v":{"$error":"#N/A"}},{"$error":"#N/A"}]
[null,null,null,{"$f":"Database!D360","v":"1985-05-01"},false,{"$f":"IF($O$4,CHOOSE($U$4,1,Database!AI360,Database!AJ360,Database!AP360),1)","v":107.2},0.45473827097649955,{"$error":"#N/A"},{"$f":"INDEX(Database!E360:AW360,'Graph of Two Series'!$O$2)/G365","v":{"$error":"#N/A"}},{"$f":"INDEX(Database!E360:AW360,'Graph of Two Series'!$O$6)/G365","v":{"$error":"#N/A"}},{"$error":"#N/A"}]
[null,null,null,{"$f":"Database!D361","v":"1985-06-01"},false,{"$f":"IF($O$4,CHOOSE($U$4,1,Database!AI361,Database!AJ361,Database!AP361),1)","v":107.5},0.45601085942139641,{"$error":"#N/A"},{"$f":"INDEX(Database!E361:AW361,'Graph of Two Series'!$O$2)/G366","v":{"$error":"#N/A"}},{"$f":"INDEX(Database!E361:AW361,'Graph of Two Series'!$O$6)/G366","v":{"$error":"#N/A"}},{"$error":"#N/A"}]
[null,null,null,{"$f":"Database!D362","v":"1985-07-01"},false,{"$f":"IF($O$4,CHOOSE($U$4,1,Database!AI362,Database!AJ362,Database!AP362),1)","v":107.7},0.45685925171799441,{"$error":"#N/A"},{"$f":"INDEX(Database!E362:AW362,'Graph of Two Series'!$O$2)/G367","v":{"$error":"#N/A"}},{"$f":"INDEX(Database!E362:AW362,'Graph of Two Series'!$O$6)/G367","v":{"$error":"#N/A"}},{"$error":"#N/A"}]
[null,null,null,{"$f":"Database!D363","v":"1985-08-01"},false,{"$f":"IF($O$4,CHOOSE($U$4,1,Database!AI363,Database!AJ363,Database!AP363),1)","v":107.9},0.45770764401459235,{"$error":"#N/A"},{"$f":"INDEX(Database!E363:AW363,'Graph of Two Series'!$O$2)/G368","v":{"$error":"#N/A"}},{"$f":"INDEX(Database!E363:AW363,'Graph of Two Series'!$O$6)/G368","v":{"$error":"#N/A"}},{"$error":"#N/A"}]
[null,null,null,{"$f":"Database!D364","v":"1985-09-01"},false,{"$f":"IF($O$4,CHOOSE($U$4,1,Database!AI364,Database!AJ364,Database!AP364),1)","v":108.1},0.45855603631119024,{"$error":"#N/A"},{"$f":"INDEX(Database!E364:AW364,'Graph of Two Series'!$O$2)/G369","v":{"$error":"#N/A"}},{"$f":"INDEX(Database!E364:AW364,'Graph of Two Series'!$O$6)/G369","v":{"$error":"#N/A"}},{"$error":"#N/A"}]
[null,null,null,{"$f":"Database!D365","v":"1985-10-01"},false,{"$f":"IF($O$4,CHOOSE($U$4,1,Database!AI365,Database!AJ365,Database!AP365),1)","v":108.5},0.46025282090438618,{"$error":"#N/A"},{"$f":"INDEX(Database!E365:AW365,'Graph of Two Series'!$O$2)/G370","v":{"$error":"#N/A"}},{"$f":"INDEX(Database!E365:AW365,'Graph of Two Series'!$O$6)/G370","v":{"$error":"#N/A"}},{"$error":"#N/A"}]
[null,null,null,{"$f":"Database!D366","v":"1985-11-01"},false,{"$f":"IF($O$4,CHOOSE($U$4,1,Database!AI366,Database!AJ366,Database!AP366),1)","v":109},0.46237380164588104,{"$error":"#N/A"},{"$f":"INDEX(Database!E366:AW366,'Graph of Two Series'!$O$2)/G371","v":{"$error":"#N/A"}},{"$f":"INDEX(Database!E366:AW366,'Graph of Two Series'!$O$6)/G371","v":{"$error":"#N/A"}},{"$error":"#N/A"}]
[null,null,null,{"$f":"Database!D367","v":"1985-12-01"},false,{"$f":"IF($O$4,CHOOSE($U$4,1,Database!AI367,Database!AJ367,Database!AP367),1)","v":109.5},0.4644947823873759,{"$error":"#N/A"},{"$f":"INDEX(Database!E367:AW367,'Graph of Two Series'!$O$2)/G372","v":{"$error":"#N/A"}},{"$f":"INDEX(Database!E367:AW367,'Graph of Two Series'!$O$6)/G372","v":{"$error":"#N/A"}},{"$error":"#N/A"}]
[null,null,null,{"$f":"Database!D368","v":"1986-01-01"},false,{"$f":"IF($O$4,CHOOSE($U$4,1,Database!AI368,Database!AJ368,Database!AP368),1)","v":109.9},0.46619156698057185,{"$error":"#N/A"},{"$f":"INDEX(Database!E368:AW368,'Graph of Two Series'!$O$2)/G373","v":{"$error":"#N/A"}},{"$f":"INDEX(Database!E368:AW368,'Graph of Two Series'!$O$6)/G373","v":{"$error":"#N/A"}},{"$error":"#N/A"}]
[null,null,null,{"$f":"Database!D369","v":"1986-02-01"},false,{"$f":"IF($O$4,CHOOSE($U$4,1,Database!AI369,Database!AJ369,Database!AP369),1)","v":109.7},0.46534317468397385,{"$error":"#N/A"},{"$f":"INDEX(Database!E369:AW369,'Graph of Two Series'!$O$2)/G374","v":{"$error":"#N/A"}},{"$f":"INDEX(Database!E369:AW369,'Graph of Two Series'!$O$6)/G374","v":{"$error":"#N/A"}},{"$error":"#N/A"}]
[null,null,null,{"$f":"Database!D370","v":"1986-03-01"},false,{"$f":"IF($O$4,CHOOSE($U$4,1,Database!AI370,Database!AJ370,Database!AP370),1)","v":109.1},0.46279799779417996,{"$error":"#N/A"},{"$f":"INDEX(Database!E370:AW370,'Graph of Two Series'!$O$2)/G375","v":{"$error":"#N/A"}},{"$f":"INDEX(Database!E370:AW370,'Graph of Two Series'!$O$6)/G375","v":{"$error":"#N/A"}},{"$error":"#N/A"}]
[null,null,null,{"$f":"Database!D371","v":"1986-04-01"},false,{"$f":"IF($O$4,CHOOSE($U$4,1,Database!AI371,Database!AJ371,Database!AP371),1)","v":108.7},0.46110121320098413,{"$error":"#N/A"},{"$f":"INDEX(Database!E371:AW371,'Graph of Two Series'!$O$2)/G376","v":{"$error":"#N/A"}},{"$f":"INDEX(Database!E371:AW371,'Graph of Two Series'!$O$6)/G376","v":{"$error":"#N/A"}},{"$error":"#N/A"}]
[null,null,null,{"$f":"Database!D372","v":"1986-05-01"},false,{"$f":"IF($O$4,CHOOSE($U$4,1,Database!AI372,Database!AJ372,Database!AP372),1)","v":109},0.46237380164588104,{"$error":"#N/A"},{"$f":"INDEX(Database!E372:AW372,'Graph of Two Series'!$O$2)/G377","v":{"$error":"#N/A"}},{"$f":"INDEX(Database!E372:AW372,'Graph of Two Series'!$O$6)/G377","v":{"$error":"#N/A"}},{"$error":"#N/A"}]
[null,null,null,{"$f":"Database!D373","v":"1986-06-01"},false,{"$f":"IF($O$4,CHOOSE($U$4,1,Database!AI373,Database!AJ373,Database!AP373),1)","v":109.4},0.46407058623907693,{"$error":"#N/A"},{"$f":"INDEX(Database!E373:AW373,'Graph of Two Series'!$O$2)/G378","v":{"$error":"#N/A"}},{"$f":"INDEX(Database!E373:AW373,'Graph of Two Series'!$O$6)/G378","v":{"$error":"#N/A"}},{"$error":"#N/A"}]
[null,null,null,{"$f":"Database!D374","v":"1986-07-01"},false,{"$f":"IF($O$4,CHOOSE($U$4,1,Database!AI374,Database!AJ374,Database!AP374),1)","v":109.5},0.4644947823873759,{"$error":"#N/A"},{"$f":"INDEX(Database!E374:AW374,'Graph of Two Series'!$O$2)/G379","v":{"$error":"#N/A"}},{"$f":"INDEX(Database!E374:AW374,'Graph of Two Series'!$O$6)/G379","v":{"$error":"#N/A"}},{"$error":"#N/A"}]
[null,null,null,{"$f":"Database!D375","v":"1986-08-01"},false,{"$f":"IF($O$4,CHOOSE($U$4,1,Database!AI375,Database!AJ375,Database!AP375),1)","v":109.6},0.46491897853567488,{"$error":"#N/A"},{"$f":"INDEX(Database!E375:AW375,'Graph of Two Series'!$O$2)/G380","v":{"$error":"#N/A"}},{"$f":"INDEX(Database!E375:AW375,'Graph of Two Series'!$O$6)/G380","v":{"$error":"#N/A"}},{"$error":"#N/A"}]
[null,null,null,{"$f":"Database!D376","v":"1986-09-01"},false,{"$f":"IF($O$4,CHOOSE($U$4,1,Database!AI376,Database!AJ376,Database!AP376),1)","v":110},0.46661576312887076,{"$error":"#N/A"},{"$f":"INDEX(Database!E376:AW376,'Graph of Two Series'!$O$2)/G381","v":{"$error":"#N/A"}},{"$f":"INDEX(Database!E376:AW376,'Graph of Two Series'!$O$6)/G381","v":{"$error":"#N/A"}},{"$error":"#N/A"}]
[null,null,null,{"$f":"Database!D377","v":"1986-10-01"},false,{"$f":"IF($O$4,CHOOSE($U$4,1,Database!AI377,Database!AJ377,Database!AP377),1)","v":110.2},0.46746415542546871,{"$error":"#N/A"},{"$f":"INDEX(Database!E377:AW377,'Graph of Two Series'!$O$2)/G382","v":{"$error":"#N/A"}},{"$f":"INDEX(Database!E377:AW377,'Graph of Two Series'!$O$6)/G382","v":{"$error":"#N/A"}},{"$error":"#N/A"}]
[null,null,null,{"$f":"Database!D378","v":"1986-11-01"},false,{"$f":"IF($O$4,CHOOSE($U$4,1,Database!AI378,Database!AJ378,Database!AP378),1)","v":110.4},0.46831254772206671,{"$error":"#N/A"},{"$f":"INDEX(Database!E378:AW378,'Graph of Two Series'!$O$2)/G383","v":{"$error":"#N/A"}},{"$f":"INDEX(Database!E378:AW378,'Graph of Two Series'!$O$6)/G383","v":{"$error":"#N/A"}},{"$error":"#N/A"}]
[null,null,null,{"$f":"Database!D379","v":"1986-12-01"},false,{"$f":"IF($O$4,CHOOSE($U$4,1,Database!AI379,Database!AJ379,Database!AP379),1)","v":110.8},0.47000933231526254,{"$error":"#N/A"},{"$f":"INDEX(Database!E379:AW379,'Graph of Two Series'!$O$2)/G384","v":{"$error":"#N/A"}},{"$f":"INDEX(Database!E379:AW379,'Graph of Two Series'!$O$6)/G384","v":{"$error":"#N/A"}},{"$error":"#N/A"}]
[null,null,null,{"$f":"Database!D380","v":"1987-01-01"},true,{"$f":"IF($O$4,CHOOSE($U$4,1,Database!AI380,Database!AJ380,Database!AP380),1)","v":111.4},0.47255450920505643,"1987-01-01",{"$f":"INDEX(Database!E380:AW380,'Graph of Two Series'!$O$2)/G385","v":140.42824416517055},{"$f":"INDEX(Database!E380:AW380,'Graph of Two Series'!$O$6)/G385","v":133.52956912028725},{"$error":"#N/A"}]
[null,null,null,{"$f":"Database!D381","v":"1987-02-01"},true,{"$f":"IF($O$4,CHOOSE($U$4,1,Database!AI381,Database!AJ381,Database!AP381),1)","v":111.8},0.47425129379825226,"1987-02-01",{"$f":"INDEX(Database!E381:AW381,'Graph of Two Series'!$O$2)/G386","v":141.33857066189626},{"$f":"INDEX(Database!E381:AW381,'Graph of Two Series'!$O$6)/G386","v":134.52783542039356},0.99826630010630879]
[null,null,null,{"$f":"Database!D382","v":"1987-03-01"},true,{"$f":"IF($O$4,CHOOSE($U$4,1,Database!AI382,Database!AJ382,Database!AP382),1)","v":112.2},0.4759480783914482,"1987-03-01",{"$f":"INDEX(Database!E382:AW382,'Graph of Two Series'!$O$2)/G387","v":141.48602139037433},{"$f":"INDEX(Database!E382:AW382,'Graph of Two Series'!$O$6)/G387","v":135.3719090909091},0.84407367051554161]
[null,null,null,{"$f":"Database!D383","v":"1987-04-01"},true,{"$f":"IF($O$4,CHOOSE($U$4,1,Database!AI383,Database!AJ383,Database!AP383),1)","v":112.7},0.47806905913294306,"1987-04-01",{"$f":"INDEX(Database!E383:AW383,'Graph of Two Series'!$O$2)/G388","v":141.98785448092281},{"$f":"INDEX(Database!E383:AW383,'Graph of Two Series'!$O$6)/G388","v":136.08912511091393},0.71721602000482676]
[null,null,null,{"$f":"Database!D384","v":"1987-05-01"},true,{"$f":"IF($O$4,CHOOSE($U$4,1,Database!AI384,Database!AJ384,Database!AP384),1)","v":113},0.47934164757783998,"1987-05-01",{"$f":"INDEX(Database!E384:AW384,'Graph of Two Series'!$O$2)/G389","v":141.65261946902658},{"$f":"INDEX(Database!E384:AW384,'Graph of Two Series'!$O$6)/G389","v":137.31333451327433},1.2242094023604011]
[null,null,null,{"$f":"Database!D385","v":"1987-06-01"},true,{"$f":"IF($O$4,CHOOSE($U$4,1,Database!AI385,Database!AJ385,Database!AP385),1)","v":113.5},0.48146262831933484,"1987-06-01",{"$f":"INDEX(Database!E385:AW385,'Graph of Two Series'!$O$2)/G390","v":138.07925286343612},{"$f":"INDEX(Database!E385:AW385,'Graph of Two Series'!$O$6)/G390","v":138.07925286343612},0.76591835016179743]
[null,null,null,{"$f":"Database!D386","v":"1987-07-01"},true,{"$f":"IF($O$4,CHOOSE($U$4,1,Database!AI386,Database!AJ386,Database!AP386),1)","v":113.8},0.48273521676423176,"1987-07-01",{"$f":"INDEX(Database!E386:AW386,'Graph of Two Series'!$O$2)/G391","v":135.54014235500881},{"$f":"INDEX(Database!E386:AW386,'Graph of Two Series'!$O$6)/G391","v":139.04102636203868},0.9617734986025539]
[null,null,null,{"$f":"Database!D387","v":"1987-08-01"},true,{"$f":"IF($O$4,CHOOSE($U$4,1,Database!AI387,Database!AJ387,Database!AP387),1)","v":114.3},0.48485619750572662,"1987-08-01",{"$f":"INDEX(Database!E387:AW387,'Graph of Two Series'!$O$2)/G392","v":134.3491128608924},{"$f":"INDEX(Database!E387:AW387,'Graph of Two Series'!$O$6)/G392","v":139.6496535433071},0.60862718126841742]
[null,null,null,{"$f":"Database!D388","v":"1987-09-01"},true,{"$f":"IF($O$4,CHOOSE($U$4,1,Database!AI388,Database!AJ388,Database!AP388),1)","v":114.7},0.48655298209892256,"1987-09-01",{"$f":"INDEX(Database!E388:AW388,'Graph of Two Series'!$O$2)/G393","v":135.33983435047949},{"$f":"INDEX(Database!E388:AW388,'Graph of Two Series'!$O$6)/G393","v":140.47802092414994},0.82836738084284889]
[null,null,null,{"$f":"Database!D389","v":"1987-10-01"},true,{"$f":"IF($O$4,CHOOSE($U$4,1,Database!AI389,Database!AJ389,Database!AP389),1)","v":115},0.48782557054381942,"1987-10-01",{"$f":"INDEX(Database!E389:AW389,'Graph of Two Series'!$O$2)/G394","v":135.72474260869566},{"$f":"INDEX(Database!E389:AW389,'Graph of Two Series'!$O$6)/G394","v":141.42350086956523},0.94547994541528624]
[null,null,null,{"$f":"Database!D390","v":"1987-11-01"},true,{"$f":"IF($O$4,CHOOSE($U$4,1,Database!AI390,Database!AJ390,Database!AP390),1)","v":115.4},0.48952235513701536,"1987-11-01",{"$f":"INDEX(Database!E390:AW390,'Graph of Two Series'!$O$2)/G395","v":136.97025129982669},{"$f":"INDEX(Database!E390:AW390,'Graph of Two Series'!$O$6)/G395","v":142.11812651646446},0.69462564689922601]
[null,null,null,{"$f":"Database!D391","v":"1987-12-01"},true,{"$f":"IF($O$4,CHOOSE($U$4,1,Database!AI391,Database!AJ391,Database!AP391),1)","v":115.6},0.49037074743361325,"1987-12-01",{"$f":"INDEX(Database!E391:AW391,'Graph of Two Series'!$O$2)/G396","v":135.93796193771627},{"$f":"INDEX(Database!E391:AW391,'Graph of Two Series'!$O$6)/G396","v":143.38130968858133},1.263183172116868]
[null,null,null,{"$f":"Database!D392","v":"1988-01-01"},true,{"$f":"IF($O$4,CHOOSE($U$4,1,Database!AI392,Database!AJ392,Database!AP392),1)","v":116},{"$f":"F397/$G$5","v":0.4920675320268092},{"$f":"IF(E397,D397,NA())","v":"1988-01-01"},{"$f":"INDEX(Database!E392:AW392,'Graph of Two Series'!$O$2)/G397","v":135.42856551724137},{"$f":"INDEX(Database!E392:AW392,'Graph of Two Series'!$O$6)/G397","v":143.8014},0.42009031141867581]
[null,null,null,{"$f":"Database!D393","v":"1988-02-01"},{"$f":"AND($D398>=E$11,$D398<=E$12)","v":true},{"$f":"IF($O$4,CHOOSE($U$4,1,Database!AI393,Database!AJ393,Database!AP393),1)","v":116.2},0.49291592432340714,"1988-02-01",{"$f":"INDEX(Database!E393:AW393,'Graph of Two Series'!$O$2)/G398","v":133.6739122203098},{"$f":"INDEX(Database!E393:AW393,'Graph of Two Series'!$O$6)/G398","v":144.52769018932872},0.72629018932872214]
[null,null,null,{"$f":"Database!D394","v":"1988-03-01"},true,{"$f":"IF($O$4,CHOOSE($U$4,1,Database!AI394,Database!AJ394,Database!AP394),1)","v":116.5},0.49418851276830406,"1988-03-01",{"$f":"INDEX(Database!E394:AW394,'Graph of Two Series'!$O$2)/G399","v":134.07838969957083},{"$f":"INDEX(Database!E394:AW394,'Graph of Two Series'!$O$6)/G399","v":145.16727553648067},{"$f":"J399-J398","v":0.63958534715195015}]
[null,null,null,{"$f":"Database!D395","v":"1988-04-01"},true,{"$f":"IF($O$4,CHOOSE($U$4,1,Database!AI395,Database!AJ395,Database!AP395),1)","v":117.2},0.49715788580639686,"1988-04-01",{"$f":"INDEX(Database!E395:AW395,'Graph of Two Series'!$O$2)/G400","v":134.98729863481228},{"$f":"INDEX(Database!E395:AW395,'Graph of Two Series'!$O$6)/G400","v":145.22549488054608},5.8219344065406631E-2]
[null,null,null,{"$f":"Database!D396","v":"1988-05-01"},true,{"$f":"IF($O$4,CHOOSE($U$4,1,Database!AI396,Database!AJ396,Database!AP396),1)","v":117.5},0.49843047425129378,"1988-05-01",{"$f":"INDEX(Database!E396:AW396,'Graph of Two Series'!$O$2)/G401","v":135.44516936170214},{"$f":"INDEX(Database!E396:AW396,'Graph of Two Series'!$O$6)/G401","v":145.97823319148938},0.75273831094330035]
[null,null,null,{"$f":"Database!D397","v":"1988-06-01"},true,{"$f":"IF($O$4,CHOOSE($U$4,1,Database!AI397,Database!AJ397,Database!AP397),1)","v":118},0.50055145499278864,"1988-06-01",{"$f":"INDEX(Database!E397:AW397,'Graph of Two Series'!$O$2)/G402","v":134.21197627118647},{"$f":"INDEX(Database!E397:AW397,'Graph of Two Series'!$O$6)/G402","v":146.83805084745762},0.85981765596824289]
[null,null,null,{"$f":"Database!D398","v":"1988-07-01"},true,{"$f":"IF($O$4,CHOOSE($U$4,1,Database!AI398,Database!AJ398,Database!AP398),1)","v":118.5},0.50267243573428355,"1988-07-01",{"$f":"INDEX(Database!E398:AW398,'Graph of Two Series'!$O$2)/G403","v":134.00376708860759},{"$f":"INDEX(Database!E398:AW398,'Graph of Two Series'!$O$6)/G403","v":147.88954936708862},1.0514985196309965]
[null,null,null,{"$f":"Database!D399","v":"1988-08-01"},true,{"$f":"IF($O$4,CHOOSE($U$4,1,Database!AI399,Database!AJ399,Database!AP399),1)","v":119},0.50479341647577836,"1988-08-01",{"$f":"INDEX(Database!E399:AW399,'Graph of Two Series'!$O$2)/G404","v":134.92648235294118},{"$f":"INDEX(Database!E399:AW399,'Graph of Two Series'!$O$6)/G404","v":148.75392100840338},0.86437164131476152]
[null,null,null,{"$f":"Database!D400","v":"1988-09-01"},true,{"$f":"IF($O$4,CHOOSE($U$4,1,Database!AI400,Database!AJ400,Database!AP400),1)","v":119.5},0.50691439721727327,"1988-09-01",{"$f":"INDEX(Database!E400:AW400,'Graph of Two Series'!$O$2)/G405","v":136.23602008368201},{"$f":"INDEX(Database!E400:AW400,'Graph of Two Series'!$O$6)/G405","v":149.57160502092049},0.81768401251710543]
[null,null,null,{"$f":"Database!D401","v":"1988-10-01"},true,{"$f":"IF($O$4,CHOOSE($U$4,1,Database!AI401,Database!AJ401,Database!AP401),1)","v":119.9},0.50861118181046916,"1988-10-01",{"$f":"INDEX(Database!E401:AW401,'Graph of Two Series'!$O$2)/G406","v":136.03711926605504},{"$f":"INDEX(Database!E401:AW401,'Graph of Two Series'!$O$6)/G406","v":150.2719616346956},0.7003566137751136]
[null,null,null,{"$f":"Database!D402","v":"1988-11-01"},true,{"$f":"IF($O$4,CHOOSE($U$4,1,Database!AI402,Database!AJ402,Database!AP402),1)","v":120.3},0.51030796640366505,"1988-11-01",{"$f":"INDEX(Database!E402:AW402,'Graph of Two Series'!$O$2)/G407","v":134.50701246882792},{"$f":"INDEX(Database!E402:AW402,'Graph of Two Series'!$O$6)/G407","v":151.04604488778054},0.77408325308493886]
[null,null,null,{"$f":"Database!D403","v":"1988-12-01"},true,{"$f":"IF($O$4,CHOOSE($U$4,1,Database!AI403,Database!AJ403,Database!AP403),1)","v":120.7},0.51200475099686094,"1988-12-01",{"$f":"INDEX(Database!E403:AW403,'Graph of Two Series'!$O$2)/G408","v":132.77220546810275},{"$f":"INDEX(Database!E403:AW403,'Graph of Two Series'!$O$6)/G408","v":151.71734217067109},0.67129728289054924]
[null,null,null,{"$f":"Database!D404","v":"1989-01-01"},true,{"$f":"IF($O$4,CHOOSE($U$4,1,Database!AI404,Database!AJ404,Database!AP404),1)","v":121.2},0.51412573173835585,"1989-01-01",{"$f":"INDEX(Database!E404:AW404,'Graph of Two Series'!$O$2)/G409","v":133.68325247524751},{"$f":"INDEX(Database!E404:AW404,'Graph of Two Series'!$O$6)/G409","v":152.35572772277226},0.63838555210116965]
[null,null,null,{"$f":"Database!D405","v":"1989-02-01"},true,{"$f":"IF($O$4,CHOOSE($U$4,1,Database!AI405,Database!AJ405,Database!AP405),1)","v":121.6},0.51582251633155163,"1989-02-01",{"$f":"INDEX(Database!E405:AW405,'Graph of Two Series'!$O$2)/G410","v":133.98019243421055},{"$f":"INDEX(Database!E405:AW405,'Graph of Two Series'!$O$6)/G410","v":152.95958881578952},0.6038610930172581]
[null,null,null,{"$f":"Database!D406","v":"1989-03-01"},true,{"$f":"IF($O$4,CHOOSE($U$4,1,Database!AI406,Database!AJ406,Database!AP406),1)","v":122.2},0.51836769322134557,"1989-03-01",{"$f":"INDEX(Database!E406:AW406,'Graph of Two Series'!$O$2)/G411","v":134.98140589198036},{"$f":"INDEX(Database!E406:AW406,'Graph of Two Series'!$O$6)/G411","v":153.98336170212764},1.0237728863381221]
[null,null,null,{"$f":"Database!D407","v":"1989-04-01"},true,{"$f":"IF($O$4,CHOOSE($U$4,1,Database!AI407,Database!AJ407,Database!AP407),1)","v":123.1},0.52218545855603626,"1989-04-01",{"$f":"INDEX(Database!E407:AW407,'Graph of Two Series'!$O$2)/G412","v":133.30512916328189},{"$f":"INDEX(Database!E407:AW407,'Graph of Two Series'!$O$6)/G412","v":154.04488708367182},6.1525381544186075E-2]
[null,null,null,{"$f":"Database!D408","v":"1989-05-01"},true,{"$f":"IF($O$4,CHOOSE($U$4,1,Database!AI408,Database!AJ408,Database!AP408),1)","v":123.7},0.5247306354458301,"1989-05-01",{"$f":"INDEX(Database!E408:AW408,'Graph of Two Series'!$O$2)/G413","v":132.71571220695233},{"$f":"INDEX(Database!E408:AW408,'Graph of Two Series'!$O$6)/G413","v":154.04093936944221},-3.9477142296107104E-3]
[null,null,null,{"$f":"Database!D409","v":"1989-06-01"},true,{"$f":"IF($O$4,CHOOSE($U$4,1,Database!AI409,Database!AJ409,Database!AP409),1)","v":124.1},0.52642742003902598,"1989-06-01",{"$f":"INDEX(Database!E409:AW409,'Graph of Two Series'!$O$2)/G414","v":135.23231748589848},{"$f":"INDEX(Database!E409:AW409,'Graph of Two Series'!$O$6)/G414","v":154.00033682514103},-4.0602544301179933E-2]
[null,null,null,{"$f":"Database!D410","v":"1989-07-01"},true,{"$f":"IF($O$4,CHOOSE($U$4,1,Database!AI410,Database!AJ410,Database!AP410),1)","v":124.5},0.52812420463222187,"1989-07-01",{"$f":"INDEX(Database!E410:AW410,'Graph of Two Series'!$O$2)/G415","v":135.49842891566269},{"$f":"INDEX(Database!E410:AW410,'Graph of Two Series'!$O$6)/G415","v":153.63810120481929},-0.36223562032174073]
[null,null,null,{"$f":"Database!D411","v":"1989-08-01"},true,{"$f":"IF($O$4,CHOOSE($U$4,1,Database!AI411,Database!AJ411,Database!AP411),1)","v":124.5},0.52812420463222187,"1989-08-01",{"$f":"INDEX(Database!E411:AW411,'Graph of Two Series'!$O$2)/G416","v":137.56233734939761},{"$f":"INDEX(Database!E411:AW411,'Graph of Two Series'!$O$6)/G416","v":154.13040963855426},0.49230843373496214]
[null,null,null,{"$f":"Database!D412","v":"1989-09-01"},true,{"$f":"IF($O$4,CHOOSE($U$4,1,Database!AI412,Database!AJ412,Database!AP412),1)","v":124.8},0.52939679307711884,"1989-09-01",{"$f":"INDEX(Database!E412:AW412,'Graph of Two Series'!$O$2)/G417","v":138.6672548076923},{"$f":"INDEX(Database!E412:AW412,'Graph of Two Series'!$O$6)/G417","v":154.17547115384616},4.5061515291905607E-2]
[null,null,null,{"$f":"Database!D413","v":"1989-10-01"},true,{"$f":"IF($O$4,CHOOSE($U$4,1,Database!AI413,Database!AJ413,Database!AP413),1)","v":125.4},0.53194196996691268,"1989-10-01",{"$f":"INDEX(Database!E413:AW413,'Graph of Two Series'!$O$2)/G418","v":139.6204928229665},{"$f":"INDEX(Database!E413:AW413,'Graph of Two Series'!$O$6)/G418","v":154.03935885167465},-0.1361123021715116]
[null,null,null,{"$f":"Database!D414","v":"1989-11-01"},true,{"$f":"IF($O$4,CHOOSE($U$4,1,Database!AI414,Database!AJ414,Database!AP414),1)","v":125.9},0.53406295070840759,"1989-11-01",{"$f":"INDEX(Database!E414:AW414,'Graph of Two Series'!$O$2)/G419","v":139.94604924543287},{"$f":"INDEX(Database!E414:AW414,'Graph of Two Series'!$O$6)/G419","v":153.97061318506752},-6.8745666607128442E-2]
[null,null,null,{"$f":"Database!D415","v":"1989-12-01"},true,{"$f":"IF($O$4,CHOOSE($U$4,1,Database!AI415,Database!AJ415,Database!AP415),1)","v":126.3},0.53575973530160348,"1989-12-01",{"$f":"INDEX(Database!E415:AW415,'Graph of Two Series'!$O$2)/G420","v":139.96945843230404},{"$f":"INDEX(Database!E415:AW415,'Graph of Two Series'!$O$6)/G420","v":153.93094061757719},-3.9672567490327992E-2]
[null,null,null,{"$f":"Database!D416","v":"1990-01-01"},true,{"$f":"IF($O$4,CHOOSE($U$4,1,Database!AI416,Database!AJ416,Database!AP416),1)","v":127.5},0.54085008908119114,"1990-01-01",{"$f":"INDEX(Database!E416:AW416,'Graph of Two Series'!$O$2)/G421","v":139.52110117647058},{"$f":"INDEX(Database!E416:AW416,'Graph of Two Series'!$O$6)/G421","v":152.81498823529412},-1.1159523822830693]
[null,null,null,{"$f":"Database!D417","v":"1990-02-01"},true,{"$f":"IF($O$4,CHOOSE($U$4,1,Database!AI417,Database!AJ417,Database!AP417),1)","v":128},0.54297106982268595,"1990-02-01",{"$f":"INDEX(Database!E417:AW417,'Graph of Two Series'!$O$2)/G422","v":138.38674687500003},{"$f":"INDEX(Database!E417:AW417,'Graph of Two Series'!$O$6)/G422","v":152.36539218750002},-0.44959604779410256]
[null,null,null,{"$f":"Database!D418","v":"1990-03-01"},true,{"$f":"IF($O$4,CHOOSE($U$4,1,Database!AI418,Database!AJ418,Database!AP418),1)","v":128.6},0.54551624671247978,"1990-03-01",{"$f":"INDEX(Database!E418:AW418,'Graph of Two Series'!$O$2)/G423","v":139.4642239502333},{"$f":"INDEX(Database!E418:AW418,'Graph of Two Series'!$O$6)/G423","v":151.70950544323486},-0.65588674426516036]
[null,null,null,{"$f":"Database!D419","v":"1990-04-01"},true,{"$f":"IF($O$4,CHOOSE($U$4,1,Database!AI419,Database!AJ419,Database!AP419),1)","v":128.9},0.54678883515737675,"1990-04-01",{"$f":"INDEX(Database!E419:AW419,'Graph of Two Series'!$O$2)/G424","v":140.40155003878976},{"$f":"INDEX(Database!E419:AW419,'Graph of Two Series'!$O$6)/G424","v":151.210110162917},-0.49939528031785585]
[null,null,null,{"$f":"Database!D420","v":"1990-05-01"},true,{"$f":"IF($O$4,CHOOSE($U$4,1,Database!AI420,Database!AJ420,Database!AP420),1)","v":129.1},0.5476372274539747,"1990-05-01",{"$f":"INDEX(Database!E420:AW420,'Graph of Two Series'!$O$2)/G425","v":141.68138342370256},{"$f":"INDEX(Database!E420:AW420,'Graph of Two Series'!$O$6)/G425","v":150.336748257165},-0.8733619057520059]
[null,null,null,{"$f":"Database!D421","v":"1990-06-01"},true,{"$f":"IF($O$4,CHOOSE($U$4,1,Database!AI421,Database!AJ421,Database!AP421),1)","v":129.9},0.55103079664036647,"1990-06-01",{"$f":"INDEX(Database!E421:AW421,'Graph of Two Series'!$O$2)/G426","v":142.16991224018477},{"$f":"INDEX(Database!E421:AW421,'Graph of Two Series'!$O$6)/G426","v":148.79386143187068},-1.5428868252943175]
[null,null,null,{"$f":"Database!D422","v":"1990-07-01"},true,{"$f":"IF($O$4,CHOOSE($U$4,1,Database!AI422,Database!AJ422,Database!AP422),1)","v":130.5},0.5535759735301603,"1990-07-01",{"$f":"INDEX(Database!E422:AW422,'Graph of Two Series'!$O$2)/G427","v":143.66591724137933},{"$f":"INDEX(Database!E422:AW422,'Graph of Two Series'!$O$6)/G427","v":147.35104827586207},-1.4428131560086115]
[null,null,null,{"$f":"Database!D423","v":"1990-08-01"},true,{"$f":"IF($O$4,CHOOSE($U$4,1,Database!AI423,Database!AJ423,Database!AP423),1)","v":131.6},0.55824213116144905,"1990-08-01",{"$f":"INDEX(Database!E423:AW423,'Graph of Two Series'!$O$2)/G428","v":145.00876139817629},{"$f":"INDEX(Database!E423:AW423,'Graph of Two Series'!$O$6)/G428","v":145.40285562310029},-1.9481926527617759]
[null,null,null,{"$f":"Database!D424","v":"1990-09-01"},true,{"$f":"IF($O$4,CHOOSE($U$4,1,Database!AI424,Database!AJ424,Database!AP424),1)","v":132.5},0.56205989649613974,"1990-09-01",{"$f":"INDEX(Database!E424:AW424,'Graph of Two Series'!$O$2)/G429","v":145.25142339622644},{"$f":"INDEX(Database!E424:AW424,'Graph of Two Series'!$O$6)/G429","v":143.70354566037736},-1.6993099627229356]
[null,null,null,{"$f":"Database!D425","v":"1990-10-01"},true,{"$f":"IF($O$4,CHOOSE($U$4,1,Database!AI425,Database!AJ425,Database!AP425),1)","v":133.4},0.56587766183083055,"1990-10-01",{"$f":"INDEX(Database!E425:AW425,'Graph of Two Series'!$O$2)/G430","v":145.6321844077961},{"$f":"INDEX(Database!E425:AW425,'Graph of Two Series'!$O$6)/G430","v":142.00949325337331},-1.694052407004051]
[null,null,null,{"$f":"Database!D426","v":"1990-11-01"},true,{"$f":"IF($O$4,CHOOSE($U$4,1,Database!AI426,Database!AJ426,Database!AP426),1)","v":133.69999999999999},0.56715025027572741,"1990-11-01",{"$f":"INDEX(Database!E426:AW426,'Graph of Two Series'!$O$2)/G431","v":144.31801795063578},{"$f":"INDEX(Database!E426:AW426,'Graph of Two Series'!$O$6)/G431","v":140.89740762902022},-1.1120856243530852]
[null,null,null,{"$f":"Database!D427","v":"1990-12-01"},true,{"$f":"IF($O$4,CHOOSE($U$4,1,Database!AI427,Database!AJ427,Database!AP427),1)","v":134.19999999999999},0.56927123101722232,"1990-12-01",{"$f":"INDEX(Database!E427:AW427,'Graph of Two Series'!$O$2)/G432","v":143.65735618479883},{"$f":"INDEX(Database!E427:AW427,'Graph of Two Series'!$O$6)/G432","v":139.68736810730255},-1.2100395217176754]
[null,null,null,{"$f":"Database!D428","v":"1991-01-01"},true,{"$f":"IF($O$4,CHOOSE($U$4,1,Database!AI428,Database!AJ428,Database!AP428),1)","v":134.69999999999999},0.57139221175871713,"1991-01-01",{"$f":"INDEX(Database!E428:AW428,'Graph of Two Series'!$O$2)/G433","v":141.68901559020046},{"$f":"INDEX(Database!E428:AW428,'Graph of Two Series'!$O$6)/G433","v":138.03128285077955},-1.6560852565229993]
[null,null,null,{"$f":"Database!D429","v":"1991-02-01"},true,{"$f":"IF($O$4,CHOOSE($U$4,1,Database!AI429,Database!AJ429,Database!AP429),1)","v":134.80000000000001},0.57181640790701627,"1991-02-01",{"$f":"INDEX(Database!E429:AW429,'Graph of Two Series'!$O$2)/G434","v":142.66816913946585},{"$f":"INDEX(Database!E429:AW429,'Graph of Two Series'!$O$6)/G434","v":137.00201483679524},-1.0292680139843071]
[null,null,null,{"$f":"Database!D430","v":"1991-03-01"},true,{"$f":"IF($O$4,CHOOSE($U$4,1,Database!AI430,Database!AJ430,Database!AP430),1)","v":134.80000000000001},0.57181640790701627,"1991-03-01",{"$f":"INDEX(Database!E430:AW430,'Graph of Two Series'!$O$2)/G435","v":142.79058605341245},{"$f":"INDEX(Database!E430:AW430,'Graph of Two Series'!$O$6)/G435","v":135.90026261127593},-1.1017522255193057]
[null,null,null,{"$f":"Database!D431","v":"1991-04-01"},true,{"$f":"IF($O$4,CHOOSE($U$4,1,Database!AI431,Database!AJ431,Database!AP431),1)","v":135.1},0.57308899635191313,"1991-04-01",{"$f":"INDEX(Database!E431:AW431,'Graph of Two Series'!$O$2)/G436","v":142.50840710584751},{"$f":"INDEX(Database!E431:AW431,'Graph of Two Series'!$O$6)/G436","v":135.14480384900074},-0.7554587622751967]
[null,null,null,{"$f":"Database!D432","v":"1991-05-01"},true,{"$f":"IF($O$4,CHOOSE($U$4,1,Database!AI432,Database!AJ432,Database!AP432),1)","v":135.6},0.57520997709340793,"1991-05-01",{"$f":"INDEX(Database!E432:AW432,'Graph of Two Series'!$O$2)/G437","v":142.59140707964602},{"$f":"INDEX(Database!E432:AW432,'Graph of Two Series'!$O$6)/G437","v":134.90725663716813},-0.23754721183260585]
[null,null,null,{"$f":"Database!D433","v":"1991-06-01"},true,{"$f":"IF($O$4,CHOOSE($U$4,1,Database!AI433,Database!AJ433,Database!AP433),1)","v":136},0.57690676168660382,"1991-06-01",{"$f":"INDEX(Database!E433:AW433,'Graph of Two Series'!$O$2)/G438","v":141.98134852941178},{"$f":"INDEX(Database!E433:AW433,'Graph of Two Series'!$O$6)/G438","v":134.87448088235297},-3.2775754815162372E-2]
[null,null,null,{"$f":"Database!D434","v":"1991-07-01"},true,{"$f":"IF($O$4,CHOOSE($U$4,1,Database!AI434,Database!AJ434,Database!AP434),1)","v":136.19999999999999},0.57775515398320176,"1991-07-01",{"$f":"INDEX(Database!E434:AW434,'Graph of Two Series'!$O$2)/G439","v":144.26526431718062},{"$f":"INDEX(Database!E434:AW434,'Graph of Two Series'!$O$6)/G439","v":135.16106167400883},0.28658079165586514]
[null,null,null,{"$f":"Database!D435","v":"1991-08-01"},true,{"$f":"IF($O$4,CHOOSE($U$4,1,Database!AI435,Database!AJ435,Database!AP435),1)","v":136.6},0.57945193857639765,"1991-08-01",{"$f":"INDEX(Database!E435:AW435,'Graph of Two Series'!$O$2)/G440","v":145.08537188872623},{"$f":"INDEX(Database!E435:AW435,'Graph of Two Series'!$O$6)/G440","v":135.04139824304539},-0.1196634309634419]
[null,null,null,{"$f":"Database!D436","v":"1991-09-01"},true,{"$f":"IF($O$4,CHOOSE($U$4,1,Database!AI436,Database!AJ436,Database!AP436),1)","v":137},0.58114872316959365,"1991-09-01",{"$f":"INDEX(Database!E436:AW436,'Graph of Two Series'!$O$2)/G441","v":147.05357956204378},{"$f":"INDEX(Database!E436:AW436,'Graph of Two Series'!$O$6)/G441","v":134.68153138686131},-0.35986685618408387]
[null,null,null,{"$f":"Database!D437","v":"1991-10-01"},true,{"$f":"IF($O$4,CHOOSE($U$4,1,Database!AI437,Database!AJ437,Database!AP437),1)","v":137.19999999999999},0.58199711546619148,"1991-10-01",{"$f":"INDEX(Database!E437:AW437,'Graph of Two Series'!$O$2)/G442","v":144.00415014577263},{"$f":"INDEX(Database!E437:AW437,'Graph of Two Series'!$O$6)/G442","v":134.43365597667639},-0.24787541018491765]
[null,null,null,{"$f":"Database!D438","v":"1991-11-01"},true,{"$f":"IF($O$4,CHOOSE($U$4,1,Database!AI438,Database!AJ438,Database!AP438),1)","v":137.80000000000001},0.58454229235598543,"1991-11-01",{"$f":"INDEX(Database!E438:AW438,'Graph of Two Series'!$O$2)/G443","v":140.24648185776488},{"$f":"INDEX(Database!E438:AW438,'Graph of Two Series'!$O$6)/G443","v":133.69434687953557},-0.73930909714081849]
[null,null,null,{"$f":"Database!D439","v":"1991-12-01"},true,{"$f":"IF($O$4,CHOOSE($U$4,1,Database!AI439,Database!AJ439,Database!AP439),1)","v":138.19999999999999},0.5862390769491812,"1991-12-01",{"$f":"INDEX(Database!E439:AW439,'Graph of Two Series'!$O$2)/G444","v":141.35871056439944},{"$f":"INDEX(Database!E439:AW439,'Graph of Two Series'!$O$6)/G444","v":133.30738784370482},-0.38695903583075619]
[null,null,null,{"$f":"Database!D440","v":"1992-01-01"},true,{"$f":"IF($O$4,CHOOSE($U$4,1,Database!AI440,Database!AJ440,Database!AP440),1)","v":138.30000000000001},0.58666327309748034,"1992-01-01",{"$f":"INDEX(Database!E440:AW440,'Graph of Two Series'!$O$2)/G445","v":141.22240780911059},{"$f":"INDEX(Database!E440:AW440,'Graph of Two Series'!$O$6)/G445","v":133.07463340563987},-0.23275443806494422]
[null,null,null,{"$f":"Database!D441","v":"1992-02-01"},true,{"$f":"IF($O$4,CHOOSE($U$4,1,Database!AI441,Database!AJ441,Database!AP441),1)","v":138.6},0.5879358615423772,"1992-02-01",{"$f":"INDEX(Database!E441:AW441,'Graph of Two Series'!$O$2)/G446","v":141.32493939393939},{"$f":"INDEX(Database!E441:AW441,'Graph of Two Series'!$O$6)/G446","v":132.80360173160173},-0.27103167403814155]
[null,null,null,{"$f":"Database!D442","v":"1992-03-01"},true,{"$f":"IF($O$4,CHOOSE($U$4,1,Database!AI442,Database!AJ442,Database!AP442),1)","v":139.1},0.59005684228387201,"1992-03-01",{"$f":"INDEX(Database!E442:AW442,'Graph of Two Series'!$O$2)/G447","v":140.08819841840403},{"$f":"INDEX(Database!E442:AW442,'Graph of Two Series'!$O$6)/G447","v":132.20760172537746},-0.59600000622427274]
[null,null,null,{"$f":"Database!D443","v":"1992-04-01"},true,{"$f":"IF($O$4,CHOOSE($U$4,1,Database!AI443,Database!AJ443,Database!AP443),1)","v":139.4},0.59132943072876898,"1992-04-01",{"$f":"INDEX(Database!E443:AW443,'Graph of Two Series'!$O$2)/G448","v":139.46540746054518},{"$f":"INDEX(Database!E443:AW443,'Graph of Two Series'!$O$6)/G448","v":131.82161406025824},-0.38598766511921667]
[null,null,null,{"$f":"Database!D444","v":"1992-05-01"},true,{"$f":"IF($O$4,CHOOSE($U$4,1,Database!AI444,Database!AJ444,Database!AP444),1)","v":139.69999999999999},0.59260201917366584,"1992-05-01",{"$f":"INDEX(Database!E444:AW444,'Graph of Two Series'!$O$2)/G449","v":139.87464996420903},{"$f":"INDEX(Database!E444:AW444,'Graph of Two Series'!$O$6)/G449","v":131.43728418038657},-0.38432987987167166]
[null,null,null,{"$f":"Database!D445","v":"1992-06-01"},true,{"$f":"IF($O$4,CHOOSE($U$4,1,Database!AI445,Database!AJ445,Database!AP445),1)","v":140.1},0.59429880376686173,"1992-06-01",{"$f":"INDEX(Database!E445:AW445,'Graph of Two Series'!$O$2)/G450","v":139.39116059957175},{"$f":"INDEX(Database!E445:AW445,'Graph of Two Series'!$O$6)/G450","v":130.742312633833},-0.69497154655357463]
[null,null,null,{"$f":"Database!D446","v":"1992-07-01"},true,{"$f":"IF($O$4,CHOOSE($U$4,1,Database!AI446,Database!AJ446,Database!AP446),1)","v":140.5},0.59599558836005762,"1992-07-01",{"$f":"INDEX(Database!E446:AW446,'Graph of Two Series'!$O$2)/G451","v":139.01109608540926},{"$f":"INDEX(Database!E446:AW446,'Graph of Two Series'!$O$6)/G451","v":129.91706903914593},-0.82524359468706621]
[null,null,null,{"$f":"Database!D447","v":"1992-08-01"},true,{"$f":"IF($O$4,CHOOSE($U$4,1,Database!AI447,Database!AJ447,Database!AP447),1)","v":140.80000000000001},0.59726817680495459,"1992-08-01",{"$f":"INDEX(Database!E447:AW447,'Graph of Two Series'!$O$2)/G452","v":138.63119318181819},{"$f":"INDEX(Database!E447:AW447,'Graph of Two Series'!$O$6)/G452","v":129.43934232954547},-0.47772670960046071]
[null,null,null,{"$f":"Database!D448","v":"1992-09-01"},true,{"$f":"IF($O$4,CHOOSE($U$4,1,Database!AI448,Database!AJ448,Database!AP448),1)","v":141.1},0.59854076524985145,"1992-09-01",{"$f":"INDEX(Database!E448:AW448,'Graph of Two Series'!$O$2)/G453","v":138.63717363571936},{"$f":"INDEX(Database!E448:AW448,'Graph of Two Series'!$O$6)/G453","v":128.89681785967403},-0.54252446987143799]
[null,null,null,{"$f":"Database!D449","v":"1992-10-01"},true,{"$f":"IF($O$4,CHOOSE($U$4,1,Database!AI449,Database!AJ449,Database!AP449),1)","v":141.69999999999999},0.60108594213964528,"1992-10-01",{"$f":"INDEX(Database!E449:AW449,'Graph of Two Series'!$O$2)/G454","v":139.16479181369093},{"$f":"INDEX(Database!E449:AW449,'Graph of Two Series'!$O$6)/G454","v":128.15139167254765},-0.74542618712638387]
[null,null,null,{"$f":"Database!D450","v":"1992-11-01"},true,{"$f":"IF($O$4,CHOOSE($U$4,1,Database!AI450,Database!AJ450,Database!AP450),1)","v":142.1},0.60278272673284117,"1992-11-01",{"$f":"INDEX(Database!E450:AW450,'Graph of Two Series'!$O$2)/G455","v":138.80623363828292},{"$f":"INDEX(Database!E450:AW450,'Graph of Two Series'!$O$6)/G455","v":127.67452779732584},-0.47686387522180951]
[null,null,null,{"$f":"Database!D451","v":"1992-12-01"},true,{"$f":"IF($O$4,CHOOSE($U$4,1,Database!AI451,Database!AJ451,Database!AP451),1)","v":142.30000000000001},0.60363111902943922,"1992-12-01",{"$f":"INDEX(Database!E451:AW451,'Graph of Two Series'!$O$2)/G456","v":137.35209697821503},{"$f":"INDEX(Database!E451:AW451,'Graph of Two Series'!$O$6)/G456","v":127.32941953619114},-0.34510826113469761]
[null,null,null,{"$f":"Database!D452","v":"1993-01-01"},true,{"$f":"IF($O$4,CHOOSE($U$4,1,Database!AI452,Database!AJ452,Database!AP452),1)","v":142.80000000000001},0.60575209977093414,"1993-01-01",{"$f":"INDEX(Database!E452:AW452,'Graph of Two Series'!$O$2)/G457","v":135.93019327731091},{"$f":"INDEX(Database!E452:AW452,'Graph of Two Series'!$O$6)/G457","v":126.93311344537814},-0.39630609081299895]
[null,null,null,{"$f":"Database!D453","v":"1993-02-01"},true,{"$f":"IF($O$4,CHOOSE($U$4,1,Database!AI453,Database!AJ453,Database!AP453),1)","v":143.1},0.607024688215831,"1993-02-01",{"$f":"INDEX(Database!E453:AW453,'Graph of Two Series'!$O$2)/G458","v":136.18885953878407},{"$f":"INDEX(Database!E453:AW453,'Graph of Two Series'!$O$6)/G458","v":126.60111111111111},-0.33200233426703107]
[null,null,null,{"$f":"Database!D454","v":"1993-03-01"},true,{"$f":"IF($O$4,CHOOSE($U$4,1,Database!AI454,Database!AJ454,Database!AP454),1)","v":143.30000000000001},0.60787308051242894,"1993-03-01",{"$f":"INDEX(Database!E454:AW454,'Graph of Two Series'!$O$2)/G459","v":136.17974319609212},{"$f":"INDEX(Database!E454:AW454,'Graph of Two Series'!$O$6)/G459","v":126.01314724354501},-0.58796386756610275]
[null,null,null,{"$f":"Database!D455","v":"1993-04-01"},true,{"$f":"IF($O$4,CHOOSE($U$4,1,Database!AI455,Database!AJ455,Database!AP455),1)","v":143.80000000000001},0.60999406125392386,"1993-04-01",{"$f":"INDEX(Database!E455:AW455,'Graph of Two Series'!$O$2)/G460","v":134.98492072322671},{"$f":"INDEX(Database!E455:AW455,'Graph of Two Series'!$O$6)/G460","v":125.24712100139082},-0.76602624215418302]
[null,null,null,{"$f":"Database!D456","v":"1993-05-01"},true,{"$f":"IF($O$4,CHOOSE($U$4,1,Database!AI456,Database!AJ456,Database!AP456),1)","v":144.19999999999999},{"$f":"F461/$G$5","v":0.61169084584711964},{"$f":"IF(E461,D461,NA())","v":"1993-05-01"},{"$f":"INDEX(Database!E456:AW456,'Graph of Two Series'!$O$2)/G461","v":133.5968987517337},{"$f":"INDEX(Database!E456:AW456,'Graph of Two Series'!$O$6)/G461","v":124.68716920943136},-0.55995179195946321]
[null,null,null,{"$f":"Database!D457","v":"1993-06-01"},{"$f":"AND($D462>=E$11,$D462<=E$12)","v":true},{"$f":"IF($O$4,CHOOSE($U$4,1,Database!AI457,Database!AJ457,Database!AP457),1)","v":144.30000000000001},0.61211504199541866,"1993-06-01",{"$f":"INDEX(Database!E457:AW457,'Graph of Two Series'!$O$2)/G462","v":133.52065280665281},{"$f":"INDEX(Database!E457:AW457,'Graph of Two Series'!$O$6)/G462","v":124.58442411642413},-0.10274509300722912]
[null,null,null,{"$f":"Database!D458","v":"1993-07-01"},true,{"$f":"IF($O$4,CHOOSE($U$4,1,Database!AI458,Database!AJ458,Database!AP458),1)","v":144.5},0.61296343429201661,"1993-07-01",{"$f":"INDEX(Database!E458:AW458,'Graph of Two Series'!$O$2)/G463","v":133.98841660899654},{"$f":"INDEX(Database!E458:AW458,'Graph of Two Series'!$O$6)/G463","v":124.13464775086506},{"$f":"J463-J462","v":-0.44977636555907452}]
[null,null,null,{"$f":"Database!D459","v":"1993-08-01"},true,{"$f":"IF($O$4,CHOOSE($U$4,1,Database!AI459,Database!AJ459,Database!AP459),1)","v":144.80000000000001},0.61423602273691358,"1993-08-01",{"$f":"INDEX(Database!E459:AW459,'Graph of Two Series'!$O$2)/G464","v":134.68763950276244},{"$f":"INDEX(Database!E459:AW459,'Graph of Two Series'!$O$6)/G464","v":123.56813535911603},-0.56651239174902912]
[null,null,null,{"$f":"Database!D460","v":"1993-09-01"},true,{"$f":"IF($O$4,CHOOSE($U$4,1,Database!AI460,Database!AJ460,Database!AP460),1)","v":145},0.61508441503351152,"1993-09-01",{"$f":"INDEX(Database!E460:AW460,'Graph of Two Series'!$O$2)/G465","v":135.42856551724137},{"$f":"INDEX(Database!E460:AW460,'Graph of Two Series'!$O$6)/G465","v":123.34892275862069},-0.21921260049533942]
[null,null,null,{"$f":"Database!D461","v":"1993-10-01"},true,{"$f":"IF($O$4,CHOOSE($U$4,1,Database!AI461,Database!AJ461,Database!AP461),1)","v":145.6},0.61762959192330524,"1993-10-01",{"$f":"INDEX(Database!E461:AW461,'Graph of Two Series'!$O$2)/G466","v":135.51811813186816},{"$f":"INDEX(Database!E461:AW461,'Graph of Two Series'!$O$6)/G466","v":122.74347115384617},-0.60545160477451532]
[null,null,null,{"$f":"Database!D462","v":"1993-11-01"},true,{"$f":"IF($O$4,CHOOSE($U$4,1,Database!AI462,Database!AJ462,Database!AP462),1)","v":146},0.61932637651650124,"1993-11-01",{"$f":"INDEX(Database!E462:AW462,'Graph of Two Series'!$O$2)/G467","v":135.67967260273971},{"$f":"INDEX(Database!E462:AW462,'Graph of Two Series'!$O$6)/G467","v":122.55250684931508},-0.19096430453109292]
[null,null,null,{"$f":"Database!D463","v":"1993-12-01"},true,{"$f":"IF($O$4,CHOOSE($U$4,1,Database!AI463,Database!AJ463,Database!AP463),1)","v":146.30000000000001},0.62059896496139821,"1993-12-01",{"$f":"INDEX(Database!E463:AW463,'Graph of Two Series'!$O$2)/G468","v":134.99861380724536},{"$f":"INDEX(Database!E463:AW463,'Graph of Two Series'!$O$6)/G468","v":122.31731647300066},-0.23519037631442075]
[null,null,null,{"$f":"Database!D464","v":"1994-01-01"},true,{"$f":"IF($O$4,CHOOSE($U$4,1,Database!AI464,Database!AJ464,Database!AP464),1)","v":146.30000000000001},0.62059896496139821,"1994-01-01",{"$f":"INDEX(Database!E464:AW464,'Graph of Two Series'!$O$2)/G469","v":134.90193301435406},{"$f":"INDEX(Database!E464:AW464,'Graph of Two Series'!$O$6)/G469","v":122.55901845522897},0.24170198222830663]
[null,null,null,{"$f":"Database!D465","v":"1994-02-01"},true,{"$f":"IF($O$4,CHOOSE($U$4,1,Database!AI465,Database!AJ465,Database!AP465),1)","v":146.69999999999999},0.62229574955459399,"1994-02-01",{"$f":"INDEX(Database!E465:AW465,'Graph of Two Series'!$O$2)/G470","v":134.14843353783232},{"$f":"INDEX(Database!E465:AW465,'Graph of Two Series'!$O$6)/G470","v":122.49802453987732},-6.0993915351645001E-2]
[null,null,null,{"$f":"Database!D466","v":"1994-03-01"},true,{"$f":"IF($O$4,CHOOSE($U$4,1,Database!AI466,Database!AJ466,Database!AP466),1)","v":147.1},0.62399253414778988,"1994-03-01",{"$f":"INDEX(Database!E466:AW466,'Graph of Two Series'!$O$2)/G471","v":134.12019442556084},{"$f":"INDEX(Database!E466:AW466,'Graph of Two Series'!$O$6)/G471","v":122.45338817131204},-4.4636368565278417E-2]
[null,null,null,{"$f":"Database!D467","v":"1994-04-01"},true,{"$f":"IF($O$4,CHOOSE($U$4,1,Database!AI467,Database!AJ467,Database!AP467),1)","v":147.19999999999999},0.6244167302960888,"1994-04-01",{"$f":"INDEX(Database!E467:AW467,'Graph of Two Series'!$O$2)/G472","v":134.58960326086961},{"$f":"INDEX(Database!E467:AW467,'Graph of Two Series'!$O$6)/G472","v":122.64245380434785},0.18906563303580981]
[null,null,null,{"$f":"Database!D468","v":"1994-05-01"},true,{"$f":"IF($O$4,CHOOSE($U$4,1,Database!AI468,Database!AJ468,Database!AP468),1)","v":147.5},0.62568931874098577,"1994-05-01",{"$f":"INDEX(Database!E468:AW468,'Graph of Two Series'!$O$2)/G473","v":136.26571118644071},{"$f":"INDEX(Database!E468:AW468,'Graph of Two Series'!$O$6)/G473","v":122.56881762711865},-7.3636177229204236E-2]
[null,null,null,{"$f":"Database!D469","v":"1994-06-01"},true,{"$f":"IF($O$4,CHOOSE($U$4,1,Database!AI469,Database!AJ469,Database!AP469),1)","v":147.9},0.62738610333418177,"1994-06-01",{"$f":"INDEX(Database!E469:AW469,'Graph of Two Series'!$O$2)/G474","v":136.82164705882352},{"$f":"INDEX(Database!E469:AW469,'Graph of Two Series'!$O$6)/G474","v":122.36483975659227},-0.20397787052637284]
[null,null,null,{"$f":"Database!D470","v":"1994-07-01"},true,{"$f":"IF($O$4,CHOOSE($U$4,1,Database!AI470,Database!AJ470,Database!AP470),1)","v":148.4},0.62950708407567657,"1994-07-01",{"$f":"INDEX(Database!E470:AW470,'Graph of Two Series'!$O$2)/G475","v":137.32966981132077},{"$f":"INDEX(Database!E470:AW470,'Graph of Two Series'!$O$6)/G475","v":122.11141374663075},-0.25342600996152953]
[null,null,null,{"$f":"Database!D471","v":"1994-08-01"},true,{"$f":"IF($O$4,CHOOSE($U$4,1,Database!AI471,Database!AJ471,Database!AP471),1)","v":149},0.6320522609654704,"1994-08-01",{"$f":"INDEX(Database!E471:AW471,'Graph of Two Series'!$O$2)/G476","v":136.65009261744967},{"$f":"INDEX(Database!E471:AW471,'Graph of Two Series'!$O$6)/G476","v":121.73044026845638},-0.38097347817436855]
[null,null,null,{"$f":"Database!D472","v":"1994-09-01"},true,{"$f":"IF($O$4,CHOOSE($U$4,1,Database!AI472,Database!AJ472,Database!AP472),1)","v":149.30000000000001},0.63332484941036737,"1994-09-01",{"$f":"INDEX(Database!E472:AW472,'Graph of Two Series'!$O$2)/G477","v":136.64393569993302},{"$f":"INDEX(Database!E472:AW472,'Graph of Two Series'!$O$6)/G477","v":121.53320696584058},-0.19723330261579974]
[null,null,null,{"$f":"Database!D473","v":"1994-10-01"},true,{"$f":"IF($O$4,CHOOSE($U$4,1,Database!AI473,Database!AJ473,Database!AP473),1)","v":149.4},0.63374904555866629,"1994-10-01",{"$f":"INDEX(Database!E473:AW473,'Graph of Two Series'!$O$2)/G478","v":136.78916064257029},{"$f":"INDEX(Database!E473:AW473,'Graph of Two Series'!$O$6)/G478","v":121.65698795180722},0.12378098596664699]
[null,null,null,{"$f":"Database!D474","v":"1994-11-01"},true,{"$f":"IF($O$4,CHOOSE($U$4,1,Database!AI474,Database!AJ474,Database!AP474),1)","v":149.80000000000001},0.63544583015186229,"1994-11-01",{"$f":"INDEX(Database!E474:AW474,'Graph of Two Series'!$O$2)/G479","v":136.54979839786381},{"$f":"INDEX(Database!E474:AW474,'Graph of Two Series'!$O$6)/G479","v":121.37934712950599},-0.27764082230123677]
[null,null,null,{"$f":"Database!D475","v":"1994-12-01"},true,{"$f":"IF($O$4,CHOOSE($U$4,1,Database!AI475,Database!AJ475,Database!AP475),1)","v":150.1},0.63671841859675904,"1994-12-01",{"$f":"INDEX(Database!E475:AW475,'Graph of Two Series'!$O$2)/G480","v":136.90510193204534},{"$f":"INDEX(Database!E475:AW475,'Graph of Two Series'!$O$6)/G480","v":121.26239440373085},-0.11695272577513549]
[null,null,null,{"$f":"Database!D476","v":"1995-01-01"},true,{"$f":"IF($O$4,CHOOSE($U$4,1,Database!AI476,Database!AJ476,Database!AP476),1)","v":150.5},0.63841520318995504,"1995-01-01",{"$f":"INDEX(Database!E476:AW476,'Graph of Two Series'!$O$2)/G481","v":136.33760531561464},{"$f":"INDEX(Database!E476:AW476,'Graph of Two Series'!$O$6)/G481","v":120.92443853820599},-0.33795586552486157]
[null,null,null,{"$f":"Database!D477","v":"1995-02-01"},true,{"$f":"IF($O$4,CHOOSE($U$4,1,Database!AI477,Database!AJ477,Database!AP477),1)","v":150.9},0.64011198778315093,"1995-02-01",{"$f":"INDEX(Database!E477:AW477,'Graph of Two Series'!$O$2)/G482","v":136.44487475149106},{"$f":"INDEX(Database!E477:AW477,'Graph of Two Series'!$O$6)/G482","v":120.72887475149106},-0.1955637867149278]
[null,null,null,{"$f":"Database!D478","v":"1995-03-01"},true,{"$f":"IF($O$4,CHOOSE($U$4,1,Database!AI478,Database!AJ478,Database!AP478),1)","v":151.19999999999999},0.64138457622804779,"1995-03-01",{"$f":"INDEX(Database!E478:AW478,'Graph of Two Series'!$O$2)/G483","v":136.25210714285717},{"$f":"INDEX(Database!E478:AW478,'Graph of Two Series'!$O$6)/G483","v":120.14632539682542},-0.58254935466564461]
[null,null,null,{"$f":"Database!D479","v":"1995-04-01"},true,{"$f":"IF($O$4,CHOOSE($U$4,1,Database!AI479,Database!AJ479,Database!AP479),1)","v":151.80000000000001},0.64392975311784173,"1995-04-01",{"$f":"INDEX(Database!E479:AW479,'Graph of Two Series'!$O$2)/G484","v":136.6453399209486},{"$f":"INDEX(Database!E479:AW479,'Graph of Two Series'!$O$6)/G484","v":119.39190513833991},-0.75442025848550998]
[null,null,null,{"$f":"Database!D480","v":"1995-05-01"},true,{"$f":"IF($O$4,CHOOSE($U$4,1,Database!AI480,Database!AJ480,Database!AP480),1)","v":152.1},0.64520234156273859,"1995-05-01",{"$f":"INDEX(Database!E480:AW480,'Graph of Two Series'!$O$2)/G485","v":136.45331755424064},{"$f":"INDEX(Database!E480:AW480,'Graph of Two Series'!$O$6)/G485","v":118.98592899408284},-0.40597614425706752]
[null,null,null,{"$f":"Database!D481","v":"1995-06-01"},true,{"$f":"IF($O$4,CHOOSE($U$4,1,Database!AI481,Database!AJ481,Database!AP481),1)","v":152.4},0.64647493000763556,"1995-06-01",{"$f":"INDEX(Database!E481:AW481,'Graph of Two Series'!$O$2)/G486","v":136.16924015748032},{"$f":"INDEX(Database!E481:AW481,'Graph of Two Series'!$O$6)/G486","v":118.58155118110236},-0.40437781298048492]
[null,null,null,{"$f":"Database!D482","v":"1995-07-01"},true,{"$f":"IF($O$4,CHOOSE($U$4,1,Database!AI482,Database!AJ482,Database!AP482),1)","v":152.6},0.6473233223042334,"1995-07-01",{"$f":"INDEX(Database!E482:AW482,'Graph of Two Series'!$O$2)/G487","v":136.09891218872872},{"$f":"INDEX(Database!E482:AW482,'Graph of Two Series'!$O$6)/G487","v":118.48792922673658},-9.3621954365772808E-2]
[null,null,null,{"$f":"Database!D483","v":"1995-08-01"},true,{"$f":"IF($O$4,CHOOSE($U$4,1,Database!AI483,Database!AJ483,Database!AP483),1)","v":152.9},0.64859591074913037,"1995-08-01",{"$f":"INDEX(Database!E483:AW483,'Graph of Two Series'!$O$2)/G488","v":136.60277305428383},{"$f":"INDEX(Database!E483:AW483,'Graph of Two Series'!$O$6)/G488","v":118.33253760627862},-0.15539162045796218]
[null,null,null,{"$f":"Database!D484","v":"1995-09-01"},true,{"$f":"IF($O$4,CHOOSE($U$4,1,Database!AI484,Database!AJ484,Database!AP484),1)","v":153.1},0.64944430304572831,"1995-09-01",{"$f":"INDEX(Database!E484:AW484,'Graph of Two Series'!$O$2)/G489","v":136.97864402351405},{"$f":"INDEX(Database!E484:AW484,'Graph of Two Series'!$O$6)/G489","v":118.28574003919007},-4.6797567088546543E-2]
[null,null,null,{"$f":"Database!D485","v":"1995-10-01"},true,{"$f":"IF($O$4,CHOOSE($U$4,1,Database!AI485,Database!AJ485,Database!AP485),1)","v":153.5},0.6511410876389242,"1995-10-01",{"$f":"INDEX(Database!E485:AW485,'Graph of Two Series'!$O$2)/G490","v":137.00563778501629},{"$f":"INDEX(Database!E485:AW485,'Graph of Two Series'!$O$6)/G490","v":118.0389342019544},-0.2468058372356694]
[null,null,null,{"$f":"Database!D486","v":"1995-11-01"},true,{"$f":"IF($O$4,CHOOSE($U$4,1,Database!AI486,Database!AJ486,Database!AP486),1)","v":153.69999999999999},0.65198947993552214,"1995-11-01",{"$f":"INDEX(Database!E486:AW486,'Graph of Two Series'!$O$2)/G491","v":136.73533506831492},{"$f":"INDEX(Database!E486:AW486,'Graph of Two Series'!$O$6)/G491","v":117.91601301236174},-0.12292118959265963]
[null,null,null,{"$f":"Database!D487","v":"1995-12-01"},true,{"$f":"IF($O$4,CHOOSE($U$4,1,Database!AI487,Database!AJ487,Database!AP487),1)","v":153.9},0.65283787223212009,"1995-12-01",{"$f":"INDEX(Database!E487:AW487,'Graph of Two Series'!$O$2)/G492","v":136.38914619883042},{"$f":"INDEX(Database!E487:AW487,'Graph of Two Series'!$O$6)/G492","v":117.82404678362575},-9.1966228735998357E-2]
[null,null,null,{"$f":"Database!D488","v":"1996-01-01"},true,{"$f":"IF($O$4,CHOOSE($U$4,1,Database!AI488,Database!AJ488,Database!AP488),1)","v":154.69999999999999},0.65623144141851186,"1996-01-01",{"$f":"INDEX(Database!E488:AW488,'Graph of Two Series'!$O$2)/G493","v":135.48573626373627},{"$f":"INDEX(Database!E488:AW488,'Graph of Two Series'!$O$6)/G493","v":117.32141305753071},-0.50263372609504131]
[null,null,null,{"$f":"Database!D489","v":"1996-02-01"},true,{"$f":"IF($O$4,CHOOSE($U$4,1,Database!AI489,Database!AJ489,Database!AP489),1)","v":155},0.65750402986340883,"1996-02-01",{"$f":"INDEX(Database!E489:AW489,'Graph of Two Series'!$O$2)/G494","v":135.74061290322581},{"$f":"INDEX(Database!E489:AW489,'Graph of Two Series'!$O$6)/G494","v":117.29205677419355},-2.9356283337151012E-2]
[null,null,null,{"$f":"Database!D490","v":"1996-03-01"},true,{"$f":"IF($O$4,CHOOSE($U$4,1,Database!AI490,Database!AJ490,Database!AP490),1)","v":155.5},0.65962501060490364,"1996-03-01",{"$f":"INDEX(Database!E490:AW490,'Graph of Two Series'!$O$2)/G495","v":135.12222636655949},{"$f":"INDEX(Database!E490:AW490,'Graph of Two Series'!$O$6)/G495","v":116.99071254019294},-0.30134423400060939]
[null,null,null,{"$f":"Database!D491","v":"1996-04-01"},true,{"$f":"IF($O$4,CHOOSE($U$4,1,Database!AI491,Database!AJ491,Database!AP491),1)","v":156.1},0.66217018749469747,"1996-04-01",{"$f":"INDEX(Database!E491:AW491,'Graph of Two Series'!$O$2)/G496","v":135.29754388212686},{"$f":"INDEX(Database!E491:AW491,'Graph of Two Series'!$O$6)/G496","v":116.79776809737349},-0.19294444281945289]
[null,null,null,{"$f":"Database!D492","v":"1996-05-01"},true,{"$f":"IF($O$4,CHOOSE($U$4,1,Database!AI492,Database!AJ492,Database!AP492),1)","v":156.4},0.66344277593959444,"1996-05-01",{"$f":"INDEX(Database!E492:AW492,'Graph of Two Series'!$O$2)/G497","v":135.3093337595908},{"$f":"INDEX(Database!E492:AW492,'Graph of Two Series'!$O$6)/G497","v":116.769679028133},-2.8089069240493814E-2]
[null,null,null,{"$f":"Database!D493","v":"1996-06-01"},true,{"$f":"IF($O$4,CHOOSE($U$4,1,Database!AI493,Database!AJ493,Database!AP493),1)","v":156.69999999999999},0.6647153643844913,"1996-06-01",{"$f":"INDEX(Database!E493:AW493,'Graph of Two Series'!$O$2)/G498","v":135.78744352265477},{"$f":"INDEX(Database!E493:AW493,'Graph of Two Series'!$O$6)/G498","v":116.54612507977028},-0.22355394836272069]
[null,null,null,{"$f":"Database!D494","v":"1996-07-01"},true,{"$f":"IF($O$4,CHOOSE($U$4,1,Database!AI494,Database!AJ494,Database!AP494),1)","v":157},0.66598795282938827,"1996-07-01",{"$f":"INDEX(Database!E494:AW494,'Graph of Two Series'!$O$2)/G499","v":135.78323694267519},{"$f":"INDEX(Database!E494:AW494,'Graph of Two Series'!$O$6)/G499","v":116.38348662420384},-0.1626384555664373]
[null,null,null,{"$f":"Database!D495","v":"1996-08-01"},true,{"$f":"IF($O$4,CHOOSE($U$4,1,Database!AI495,Database!AJ495,Database!AP495),1)","v":157.19999999999999},0.66683634512598622,"1996-08-01",{"$f":"INDEX(Database!E495:AW495,'Graph of Two Series'!$O$2)/G500","v":135.52050763358781},{"$f":"INDEX(Database!E495:AW495,'Graph of Two Series'!$O$6)/G500","v":116.38537786259542},1.8912383915790087E-3]
[null,null,null,{"$f":"Database!D496","v":"1996-09-01"},true,{"$f":"IF($O$4,CHOOSE($U$4,1,Database!AI496,Database!AJ496,Database!AP496),1)","v":157.69999999999999},0.66895732586748102,"1996-09-01",{"$f":"INDEX(Database!E496:AW496,'Graph of Two Series'!$O$2)/G501","v":134.68721623335449},{"$f":"INDEX(Database!E496:AW496,'Graph of Two Series'!$O$6)/G501","v":116.22564996829425},-0.15972789430117018]
[null,null,null,{"$f":"Database!D497","v":"1996-10-01"},true,{"$f":"IF($O$4,CHOOSE($U$4,1,Database!AI497,Database!AJ497,Database!AP497),1)","v":158.19999999999999},0.67107830660897594,"1996-10-01",{"$f":"INDEX(Database!E497:AW497,'Graph of Two Series'!$O$2)/G502","v":133.93369911504425},{"$f":"INDEX(Database!E497:AW497,'Graph of Two Series'!$O$6)/G502","v":116.15634007585336},-6.9309892440884369E-2]
[null,null,null,{"$f":"Database!D498","v":"1996-11-01"},true,{"$f":"IF($O$4,CHOOSE($U$4,1,Database!AI498,Database!AJ498,Database!AP498),1)","v":158.69999999999999},0.67319928735047074,"1996-11-01",{"$f":"INDEX(Database!E498:AW498,'Graph of Two Series'!$O$2)/G503","v":133.06609451795842},{"$f":"INDEX(Database!E498:AW498,'Graph of Two Series'!$O$6)/G503","v":116.13203024574672},-2.4309830106645336E-2]
[null,null,null,{"$f":"Database!D499","v":"1996-12-01"},true,{"$f":"IF($O$4,CHOOSE($U$4,1,Database!AI499,Database!AJ499,Database!AP499),1)","v":159.1},0.67489607194366674,"1996-12-01",{"$f":"INDEX(Database!E499:AW499,'Graph of Two Series'!$O$2)/G504","v":133.36868258956633},{"$f":"INDEX(Database!E499:AW499,'Graph of Two Series'!$O$6)/G504","v":116.13639974858579},4.369502839068673E-3]
[null,null,null,{"$f":"Database!D500","v":"1997-01-01"},true,{"$f":"IF($O$4,CHOOSE($U$4,1,Database!AI500,Database!AJ500,Database!AP500),1)","v":159.4},0.67616866038856371,"1997-01-01",{"$f":"INDEX(Database!E500:AW500,'Graph of Two Series'!$O$2)/G505","v":133.82755708908405},{"$f":"INDEX(Database!E500:AW500,'Graph of Two Series'!$O$6)/G505","v":116.1988193224592},6.2419573873413015E-2]
[null,null,null,{"$f":"Database!D501","v":"1997-02-01"},true,{"$f":"IF($O$4,CHOOSE($U$4,1,Database!AI501,Database!AJ501,Database!AP501),1)","v":159.69999999999999},0.67744124883346046,"1997-02-01",{"$f":"INDEX(Database!E501:AW501,'Graph of Two Series'!$O$2)/G506","v":134.90468753913589},{"$f":"INDEX(Database!E501:AW501,'Graph of Two Series'!$O$6)/G506","v":116.20195867251098},3.1393500517822304E-3]
[null,null,null,{"$f":"Database!D502","v":"1997-03-01"},true,{"$f":"IF($O$4,CHOOSE($U$4,1,Database!AI502,Database!AJ502,Database!AP502),1)","v":159.80000000000001},0.6778654449817596,"1997-03-01",{"$f":"INDEX(Database!E502:AW502,'Graph of Two Series'!$O$2)/G507","v":135.15956695869838},{"$f":"INDEX(Database!E502:AW502,'Graph of Two Series'!$O$6)/G507","v":116.52755068836044},0.32559201584945185]
[null,null,null,{"$f":"Database!D503","v":"1997-04-01"},true,{"$f":"IF($O$4,CHOOSE($U$4,1,Database!AI503,Database!AJ503,Database!AP503),1)","v":159.9},0.67828964113005852,"1997-04-01",{"$f":"INDEX(Database!E503:AW503,'Graph of Two Series'!$O$2)/G508","v":134.83915196998123},{"$f":"INDEX(Database!E503:AW503,'Graph of Two Series'!$O$6)/G508","v":116.83799249530958},0.31044180694914303]
[null,null,null,{"$f":"Database!D504","v":"1997-05-01"},true,{"$f":"IF($O$4,CHOOSE($U$4,1,Database!AI504,Database!AJ504,Database!AP504),1)","v":159.9},0.67828964113005852,"1997-05-01",{"$f":"INDEX(Database!E504:AW504,'Graph of Two Series'!$O$2)/G509","v":134.8686378986867},{"$f":"INDEX(Database!E504:AW504,'Graph of Two Series'!$O$6)/G509","v":117.25079549718575},0.41280300187617058]
[null,null,null,{"$f":"Database!D505","v":"1997-06-01"},true,{"$f":"IF($O$4,CHOOSE($U$4,1,Database!AI505,Database!AJ505,Database!AP505),1)","v":160.19999999999999},0.67956222957495538,"1997-06-01",{"$f":"INDEX(Database!E505:AW505,'Graph of Two Series'!$O$2)/G510","v":135.08696629213483},{"$f":"INDEX(Database!E505:AW505,'Graph of Two Series'!$O$6)/G510","v":117.59040823970038},0.3396127425146318]
[null,null,null,{"$f":"Database!D506","v":"1997-07-01"},true,{"$f":"IF($O$4,CHOOSE($U$4,1,Database!AI506,Database!AJ506,Database!AP506),1)","v":160.4},0.68041062187155343,"1997-07-01",{"$f":"INDEX(Database!E506:AW506,'Graph of Two Series'!$O$2)/G511","v":135.68277306733165},{"$f":"INDEX(Database!E506:AW506,'Graph of Two Series'!$O$6)/G511","v":117.89939401496258},0.30898577526220095]
[null,null,null,{"$f":"Database!D507","v":"1997-08-01"},true,{"$f":"IF($O$4,CHOOSE($U$4,1,Database!AI507,Database!AJ507,Database!AP507),1)","v":160.80000000000001},0.68210740646474932,"1997-08-01",{"$f":"INDEX(Database!E507:AW507,'Graph of Two Series'!$O$2)/G512","v":135.96099253731342},{"$f":"INDEX(Database!E507:AW507,'Graph of Two Series'!$O$6)/G512","v":118.17786940298507},0.2784753880224855]
[null,null,null,{"$f":"Database!D508","v":"1997-09-01"},true,{"$f":"IF($O$4,CHOOSE($U$4,1,Database!AI508,Database!AJ508,Database!AP508),1)","v":161.19999999999999},0.6838041910579451,"1997-09-01",{"$f":"INDEX(Database!E508:AW508,'Graph of Two Series'!$O$2)/G513","v":135.82835732009926},{"$f":"INDEX(Database!E508:AW508,'Graph of Two Series'!$O$6)/G513","v":118.32334615384616},0.1454767508610928]
[null,null,null,{"$f":"Database!D509","v":"1997-10-01"},true,{"$f":"IF($O$4,CHOOSE($U$4,1,Database!AI509,Database!AJ509,Database!AP509),1)","v":161.5},0.68507677950284207,"1997-10-01",{"$f":"INDEX(Database!E509:AW509,'Graph of Two Series'!$O$2)/G514","v":135.89717647058825},{"$f":"INDEX(Database!E509:AW509,'Graph of Two Series'!$O$6)/G514","v":118.84799256965945},0.52464641581329374]
[null,null,null,{"$f":"Database!D510","v":"1997-11-01"},true,{"$f":"IF($O$4,CHOOSE($U$4,1,Database!AI510,Database!AJ510,Database!AP510),1)","v":161.69999999999999},0.68592517179944001,"1997-11-01",{"$f":"INDEX(Database!E510:AW510,'Graph of Two Series'!$O$2)/G515","v":135.59788126159557},{"$f":"INDEX(Database!E510:AW510,'Graph of Two Series'!$O$6)/G515","v":119.48825231910946},0.64025974945000996]
[null,null,null,{"$f":"Database!D511","v":"1997-12-01"},true,{"$f":"IF($O$4,CHOOSE($U$4,1,Database!AI511,Database!AJ511,Database!AP511),1)","v":161.80000000000001},0.68634936794773904,"1997-12-01",{"$f":"INDEX(Database!E511:AW511,'Graph of Two Series'!$O$2)/G516","v":135.5577849196539},{"$f":"INDEX(Database!E511:AW511,'Graph of Two Series'!$O$6)/G516","v":120.33230284301607},0.84405052390660273]
[null,null,null,{"$f":"Database!D512","v":"1998-01-01"},true,{"$f":"IF($O$4,CHOOSE($U$4,1,Database!AI512,Database!AJ512,Database!AP512),1)","v":162},0.68719776024433699,"1998-01-01",{"$f":"INDEX(Database!E512:AW512,'Graph of Two Series'!$O$2)/G517","v":135.24491111111109},{"$f":"INDEX(Database!E512:AW512,'Graph of Two Series'!$O$6)/G517","v":121.15871851851853},0.82641567550246009]
[null,null,null,{"$f":"Database!D513","v":"1998-02-01"},true,{"$f":"IF($O$4,CHOOSE($U$4,1,Database!AI513,Database!AJ513,Database!AP513),1)","v":162},0.68719776024433699,"1998-02-01",{"$f":"INDEX(Database!E513:AW513,'Graph of Two Series'!$O$2)/G518","v":135.76877777777779},{"$f":"INDEX(Database!E513:AW513,'Graph of Two Series'!$O$6)/G518","v":122.1919},1.0331814814814777]
[null,null,null,{"$f":"Database!D514","v":"1998-03-01"},true,{"$f":"IF($O$4,CHOOSE($U$4,1,Database!AI514,Database!AJ514,Database!AP514),1)","v":162},0.68719776024433699,"1998-03-01",{"$f":"INDEX(Database!E514:AW514,'Graph of Two Series'!$O$2)/G519","v":137.48589629629629},{"$f":"INDEX(Database!E514:AW514,'Graph of Two Series'!$O$6)/G519","v":123.13777037037038},0.94587037037037192]
[null,null,null,{"$f":"Database!D515","v":"1998-04-01"},true,{"$f":"IF($O$4,CHOOSE($U$4,1,Database!AI515,Database!AJ515,Database!AP515),1)","v":162.19999999999999},0.68804615254093482,"1998-04-01",{"$f":"INDEX(Database!E515:AW515,'Graph of Two Series'!$O$2)/G520","v":137.46170900123306},{"$f":"INDEX(Database!E515:AW515,'Graph of Two Series'!$O$6)/G520","v":123.81436868064119},0.67659831027081907]
[null,null,null,{"$f":"Database!D516","v":"1998-05-01"},true,{"$f":"IF($O$4,CHOOSE($U$4,1,Database!AI516,Database!AJ516,Database!AP516),1)","v":162.6},0.68974293713413082,"1998-05-01",{"$f":"INDEX(Database!E516:AW516,'Graph of Two Series'!$O$2)/G521","v":137.00756457564574},{"$f":"INDEX(Database!E516:AW516,'Graph of Two Series'!$O$6)/G521","v":124.48115867158671},0.66678999094551727]
[null,null,null,{"$f":"Database!D517","v":"1998-06-01"},true,{"$f":"IF($O$4,CHOOSE($U$4,1,Database!AI517,Database!AJ517,Database!AP517),1)","v":162.80000000000001},0.69059132943072876,"1998-06-01",{"$f":"INDEX(Database!E517:AW517,'Graph of Two Series'!$O$2)/G522","v":136.57860442260443},{"$f":"INDEX(Database!E517:AW517,'Graph of Two Series'!$O$6)/G522","v":125.4432199017199},0.96206123013318745]
[null,null,null,{"$f":"Database!D518","v":"1998-07-01"},true,{"$f":"IF($O$4,CHOOSE($U$4,1,Database!AI518,Database!AJ518,Database!AP518),1)","v":163.19999999999999},0.69228811402392454,"1998-07-01",{"$f":"INDEX(Database!E518:AW518,'Graph of Two Series'!$O$2)/G523","v":136.61941911764708},{"$f":"INDEX(Database!E518:AW518,'Graph of Two Series'!$O$6)/G523","v":126.29134926470591},0.84812936298601471]
[null,null,null,{"$f":"Database!D519","v":"1998-08-01"},true,{"$f":"IF($O$4,CHOOSE($U$4,1,Database!AI519,Database!AJ519,Database!AP519),1)","v":163.4},0.69313650632052259,"1998-08-01",{"$f":"INDEX(Database!E519:AW519,'Graph of Two Series'!$O$2)/G524","v":136.61089718482253},{"$f":"INDEX(Database!E519:AW519,'Graph of Two Series'!$O$6)/G524","v":127.16109914320685},0.8697498785009401]
[null,null,null,{"$f":"Database!D520","v":"1998-09-01"},true,{"$f":"IF($O$4,CHOOSE($U$4,1,Database!AI520,Database!AJ520,Database!AP520),1)","v":163.5},{"$f":"F525/$G$5","v":0.69356070246882151},{"$f":"IF(E525,D525,NA())","v":"1998-09-01"},{"$f":"INDEX(Database!E520:AW520,'Graph of Two Series'!$O$2)/G525","v":137.17616880733945},{"$f":"INDEX(Database!E520:AW520,'Graph of Two Series'!$O$6)/G525","v":128.10702752293579},0.94592837972894017]
[null,null,null,{"$f":"Database!D521","v":"1998-10-01"},{"$f":"AND($D526>=E$11,$D526<=E$12)","v":true},{"$f":"IF($O$4,CHOOSE($U$4,1,Database!AI521,Database!AJ521,Database!AP521),1)","v":163.9},0.69525748706201751,"1998-10-01",{"$f":"INDEX(Database!E521:AW521,'Graph of Two Series'!$O$2)/G526","v":136.84138865161682},{"$f":"INDEX(Database!E521:AW521,'Graph of Two Series'!$O$6)/G526","v":128.51353874313605},0.40651122020025809]
[null,null,null,{"$f":"Database!D522","v":"1998-11-01"},true,{"$f":"IF($O$4,CHOOSE($U$4,1,Database!AI522,Database!AJ522,Database!AP522),1)","v":164.1},0.69610587935861534,"1998-11-01",{"$f":"INDEX(Database!E522:AW522,'Graph of Two Series'!$O$2)/G527","v":137.13431078610603},{"$f":"INDEX(Database!E522:AW522,'Graph of Two Series'!$O$6)/G527","v":128.90280438756858},{"$f":"J527-J526","v":0.38926564443252687}]
[null,null,null,{"$f":"Database!D523","v":"1998-12-01"},true,{"$f":"IF($O$4,CHOOSE($U$4,1,Database!AI523,Database!AJ523,Database!AP523),1)","v":164.4},0.69737846780351231,"1998-12-01",{"$f":"INDEX(Database!E523:AW523,'Graph of Two Series'!$O$2)/G528","v":136.88406569343064},{"$f":"INDEX(Database!E523:AW523,'Graph of Two Series'!$O$6)/G528","v":129.25549635036498},0.35269196279639914]
[null,null,null,{"$f":"Database!D524","v":"1999-01-01"},true,{"$f":"IF($O$4,CHOOSE($U$4,1,Database!AI524,Database!AJ524,Database!AP524),1)","v":164.7},0.69865105624840917,"1999-01-01",{"$f":"INDEX(Database!E524:AW524,'Graph of Two Series'!$O$2)/G529","v":137.29314389799637},{"$f":"INDEX(Database!E524:AW524,'Graph of Two Series'!$O$6)/G529","v":129.83591621129327},0.58041986092828779]
[null,null,null,{"$f":"Database!D525","v":"1999-02-01"},true,{"$f":"IF($O$4,CHOOSE($U$4,1,Database!AI525,Database!AJ525,Database!AP525),1)","v":164.7},0.69865105624840917,"1999-02-01",{"$f":"INDEX(Database!E525:AW525,'Graph of Two Series'!$O$2)/G530","v":137.95155555555556},{"$f":"INDEX(Database!E525:AW525,'Graph of Two Series'!$O$6)/G530","v":130.88078688524593},1.0448706739526585]
[null,null,null,{"$f":"Database!D526","v":"1999-03-01"},true,{"$f":"IF($O$4,CHOOSE($U$4,1,Database!AI526,Database!AJ526,Database!AP526),1)","v":164.8},0.69907525239670831,"1999-03-01",{"$f":"INDEX(Database!E526:AW526,'Graph of Two Series'!$O$2)/G531","v":137.7963240291262},{"$f":"INDEX(Database!E526:AW526,'Graph of Two Series'!$O$6)/G531","v":131.78838713592231},0.90760025067638139]
[null,null,null,{"$f":"Database!D527","v":"1999-04-01"},true,{"$f":"IF($O$4,CHOOSE($U$4,1,Database!AI527,Database!AJ527,Database!AP527),1)","v":165.9},0.70374141002799695,"1999-04-01",{"$f":"INDEX(Database!E527:AW527,'Graph of Two Series'!$O$2)/G532","v":137.25211934900543},{"$f":"INDEX(Database!E527:AW527,'Graph of Two Series'!$O$6)/G532","v":132.22186256781194},0.433475431889633]
[null,null,null,{"$f":"Database!D528","v":"1999-05-01"},true,{"$f":"IF($O$4,CHOOSE($U$4,1,Database!AI528,Database!AJ528,Database!AP528),1)","v":166},0.70416560617629587,"1999-05-01",{"$f":"INDEX(Database!E528:AW528,'Graph of Two Series'!$O$2)/G533","v":138.13511927710843},{"$f":"INDEX(Database!E528:AW528,'Graph of Two Series'!$O$6)/G533","v":133.1362951807229},0.91443261291095723]
[null,null,null,{"$f":"Database!D529","v":"1999-06-01"},true,{"$f":"IF($O$4,CHOOSE($U$4,1,Database!AI529,Database!AJ529,Database!AP529),1)","v":166},0.70416560617629587,"1999-06-01",{"$f":"INDEX(Database!E529:AW529,'Graph of Two Series'!$O$2)/G534","v":139.2712156626506},{"$f":"INDEX(Database!E529:AW529,'Graph of Two Series'!$O$6)/G534","v":134.41440361445785},1.2781084337349569]
[null,null,null,{"$f":"Database!D530","v":"1999-07-01"},true,{"$f":"IF($O$4,CHOOSE($U$4,1,Database!AI530,Database!AJ530,Database!AP530),1)","v":166.7},0.70713497921438861,"1999-07-01",{"$f":"INDEX(Database!E530:AW530,'Graph of Two Series'!$O$2)/G535","v":139.40761367726458},{"$f":"INDEX(Database!E530:AW530,'Graph of Two Series'!$O$6)/G535","v":135.05200959808042},0.6376059836225636]
[null,null,null,{"$f":"Database!D531","v":"1999-08-01"},true,{"$f":"IF($O$4,CHOOSE($U$4,1,Database!AI531,Database!AJ531,Database!AP531),1)","v":167.1},0.70883176380758461,"1999-08-01",{"$f":"INDEX(Database!E531:AW531,'Graph of Two Series'!$O$2)/G536","v":139.00336445242371},{"$f":"INDEX(Database!E531:AW531,'Graph of Two Series'!$O$6)/G536","v":135.97020466786356},0.91819506978313825]
[null,null,null,{"$f":"Database!D532","v":"1999-09-01"},true,{"$f":"IF($O$4,CHOOSE($U$4,1,Database!AI532,Database!AJ532,Database!AP532),1)","v":167.8},0.71180113684567747,"1999-09-01",{"$f":"INDEX(Database!E532:AW532,'Graph of Two Series'!$O$2)/G537","v":139.12593682955898},{"$f":"INDEX(Database!E532:AW532,'Graph of Two Series'!$O$6)/G537","v":136.55499404052443},0.58478937266087883]
[null,null,null,{"$f":"Database!D533","v":"1999-10-01"},true,{"$f":"IF($O$4,CHOOSE($U$4,1,Database!AI533,Database!AJ533,Database!AP533),1)","v":168.1},0.71307372529057433,"1999-10-01",{"$f":"INDEX(Database!E533:AW533,'Graph of Two Series'!$O$2)/G538","v":139.31238310529449},{"$f":"INDEX(Database!E533:AW533,'Graph of Two Series'!$O$6)/G538","v":137.40514693634742},0.85015289582298692]
[null,null,null,{"$f":"Database!D534","v":"1999-11-01"},true,{"$f":"IF($O$4,CHOOSE($U$4,1,Database!AI534,Database!AJ534,Database!AP534),1)","v":168.4},0.71434631373547131,"1999-11-01",{"$f":"INDEX(Database!E534:AW534,'Graph of Two Series'!$O$2)/G539","v":139.68014964370545},{"$f":"INDEX(Database!E534:AW534,'Graph of Two Series'!$O$6)/G539","v":138.43425534441806},1.0291084080706412]
[null,null,null,{"$f":"Database!D535","v":"1999-12-01"},true,{"$f":"IF($O$4,CHOOSE($U$4,1,Database!AI535,Database!AJ535,Database!AP535),1)","v":168.8},0.71604309832866719,"1999-12-01",{"$f":"INDEX(Database!E535:AW535,'Graph of Two Series'!$O$2)/G540","v":139.22346327014216},{"$f":"INDEX(Database!E535:AW535,'Graph of Two Series'!$O$6)/G540","v":139.47484478672985},1.0405894423117843]
[null,null,null,{"$f":"Database!D536","v":"2000-01-01"},true,{"$f":"IF($O$4,CHOOSE($U$4,1,Database!AI536,Database!AJ536,Database!AP536),1)","v":169.3},0.71816407907016211,"2000-01-01",{"$f":"INDEX(Database!E536:AW536,'Graph of Two Series'!$O$2)/G541","v":139.24394565859419},{"$f":"INDEX(Database!E536:AW536,'Graph of Two Series'!$O$6)/G541","v":140.28827525103367},0.8134304643038206]
[null,null,null,{"$f":"Database!D537","v":"2000-02-01"},true,{"$f":"IF($O$4,CHOOSE($U$4,1,Database!AI537,Database!AJ537,Database!AP537),1)","v":170},0.72113345210825486,"2000-02-01",{"$f":"INDEX(Database!E537:AW537,'Graph of Two Series'!$O$2)/G542","v":139.12820117647058},{"$f":"INDEX(Database!E537:AW537,'Graph of Two Series'!$O$6)/G542","v":141.29146235294118},1.003187101907514]
[null,null,null,{"$f":"Database!D538","v":"2000-03-01"},true,{"$f":"IF($O$4,CHOOSE($U$4,1,Database!AI538,Database!AJ538,Database!AP538),1)","v":171},0.72537541359124458,"2000-03-01",{"$f":"INDEX(Database!E538:AW538,'Graph of Two Series'!$O$2)/G543","v":139.10038596491228},{"$f":"INDEX(Database!E538:AW538,'Graph of Two Series'!$O$6)/G543","v":142.20222807017544},0.91076571723425559]
[null,null,null,{"$f":"Database!D539","v":"2000-04-01"},true,{"$f":"IF($O$4,CHOOSE($U$4,1,Database!AI539,Database!AJ539,Database!AP539),1)","v":170.9},0.72495121744294566,"2000-04-01",{"$f":"INDEX(Database!E539:AW539,'Graph of Two Series'!$O$2)/G544","v":139.595599765945},{"$f":"INDEX(Database!E539:AW539,'Graph of Two Series'!$O$6)/G544","v":144.18901228788764},1.9867842177121986]
[null,null,null,{"$f":"Database!D540","v":"2000-05-01"},true,{"$f":"IF($O$4,CHOOSE($U$4,1,Database!AI540,Database!AJ540,Database!AP540),1)","v":171.2},0.72622380588784241,"2000-05-01",{"$f":"INDEX(Database!E540:AW540,'Graph of Two Series'!$O$2)/G545","v":140.3561810747664},{"$f":"INDEX(Database!E540:AW540,'Graph of Two Series'!$O$6)/G545","v":145.97428387850471},1.7852715906170715]
[null,null,null,{"$f":"Database!D541","v":"2000-06-01"},true,{"$f":"IF($O$4,CHOOSE($U$4,1,Database!AI541,Database!AJ541,Database!AP541),1)","v":172.2},0.73046576737083224,"2000-06-01",{"$f":"INDEX(Database!E541:AW541,'Graph of Two Series'!$O$2)/G546","v":140.23928919860629},{"$f":"INDEX(Database!E541:AW541,'Graph of Two Series'!$O$6)/G546","v":146.9473379790941},0.97305410058939401]
[null,null,null,{"$f":"Database!D542","v":"2000-07-01"},true,{"$f":"IF($O$4,CHOOSE($U$4,1,Database!AI542,Database!AJ542,Database!AP542),1)","v":172.7},0.73258674811232705,"2000-07-01",{"$f":"INDEX(Database!E542:AW542,'Graph of Two Series'!$O$2)/G547","v":140.78878749276203},{"$f":"INDEX(Database!E542:AW542,'Graph of Two Series'!$O$6)/G547","v":147.65486855819341},0.70753057909931272]
[null,null,null,{"$f":"Database!D543","v":"2000-08-01"},true,{"$f":"IF($O$4,CHOOSE($U$4,1,Database!AI543,Database!AJ543,Database!AP543),1)","v":172.7},0.73258674811232705,"2000-08-01",{"$f":"INDEX(Database!E543:AW543,'Graph of Two Series'!$O$2)/G548","v":141.59415286624207},{"$f":"INDEX(Database!E543:AW543,'Graph of Two Series'!$O$6)/G548","v":148.88339200926464},1.2285234510712257]
[null,null,null,{"$f":"Database!D544","v":"2000-09-01"},true,{"$f":"IF($O$4,CHOOSE($U$4,1,Database!AI544,Database!AJ544,Database!AP544),1)","v":173.6},0.73640451344701785,"2000-09-01",{"$f":"INDEX(Database!E544:AW544,'Graph of Two Series'!$O$2)/G549","v":141.91928225806453},{"$f":"INDEX(Database!E544:AW544,'Graph of Two Series'!$O$6)/G549","v":149.41516244239634},0.53177043313169747]
[null,null,null,{"$f":"Database!D545","v":"2000-10-01"},true,{"$f":"IF($O$4,CHOOSE($U$4,1,Database!AI545,Database!AJ545,Database!AP545),1)","v":173.9},0.73767710189191482,"2000-10-01",{"$f":"INDEX(Database!E545:AW545,'Graph of Two Series'!$O$2)/G550","v":142.55559746981024},{"$f":"INDEX(Database!E545:AW545,'Graph of Two Series'!$O$6)/G550","v":150.70279355951698},1.2876311171206396]
[null,null,null,{"$f":"Database!D546","v":"2000-11-01"},true,{"$f":"IF($O$4,CHOOSE($U$4,1,Database!AI546,Database!AJ546,Database!AP546),1)","v":174.2},0.73894969033681168,"2000-11-01",{"$f":"INDEX(Database!E546:AW546,'Graph of Two Series'!$O$2)/G551","v":142.55368312284733},{"$f":"INDEX(Database!E546:AW546,'Graph of Two Series'!$O$6)/G551","v":152.2431113662457},1.5403178067287229]
[null,null,null,{"$f":"Database!D547","v":"2000-12-01"},true,{"$f":"IF($O$4,CHOOSE($U$4,1,Database!AI547,Database!AJ547,Database!AP547),1)","v":174.6},0.74064647493000757,"2000-12-01",{"$f":"INDEX(Database!E547:AW547,'Graph of Two Series'!$O$2)/G552","v":142.25410309278351},{"$f":"INDEX(Database!E547:AW547,'Graph of Two Series'!$O$6)/G552","v":153.82507560137461},1.5819642351289076]
[null,null,null,{"$f":"Database!D548","v":"2001-01-01"},true,{"$f":"IF($O$4,CHOOSE($U$4,1,Database!AI548,Database!AJ548,Database!AP548),1)","v":175.6},0.74488843641299729,"2001-01-01",{"$f":"INDEX(Database!E548:AW548,'Graph of Two Series'!$O$2)/G553","v":141.26947722095673},{"$f":"INDEX(Database!E548:AW548,'Graph of Two Series'!$O$6)/G553","v":154.96280296127566},1.1377273599010493]
[null,null,null,{"$f":"Database!D549","v":"2001-02-01"},true,{"$f":"IF($O$4,CHOOSE($U$4,1,Database!AI549,Database!AJ549,Database!AP549),1)","v":176},0.74658522100619329,"2001-02-01",{"$f":"INDEX(Database!E549:AW549,'Graph of Two Series'!$O$2)/G554","v":141.16271931818181},{"$f":"INDEX(Database!E549:AW549,'Graph of Two Series'!$O$6)/G554","v":156.29829886363635},1.3354959023606909]
[null,null,null,{"$f":"Database!D550","v":"2001-03-01"},true,{"$f":"IF($O$4,CHOOSE($U$4,1,Database!AI550,Database!AJ550,Database!AP550),1)","v":176.1},0.74700941715449221,"2001-03-01",{"$f":"INDEX(Database!E550:AW550,'Graph of Two Series'!$O$2)/G555","v":142.18026916524701},{"$f":"INDEX(Database!E550:AW550,'Graph of Two Series'!$O$6)/G555","v":157.58837478705283},1.2900759234164809]
[null,null,null,{"$f":"Database!D551","v":"2001-04-01"},true,{"$f":"IF($O$4,CHOOSE($U$4,1,Database!AI551,Database!AJ551,Database!AP551),1)","v":176.4},0.74828200559938918,"2001-04-01",{"$f":"INDEX(Database!E551:AW551,'Graph of Two Series'!$O$2)/G556","v":143.5287755102041},{"$f":"INDEX(Database!E551:AW551,'Graph of Two Series'!$O$6)/G556","v":158.36275510204081},0.77438031498797955]
[null,null,null,{"$f":"Database!D552","v":"2001-05-01"},true,{"$f":"IF($O$4,CHOOSE($U$4,1,Database!AI552,Database!AJ552,Database!AP552),1)","v":177.3},0.75209977093407998,"2001-05-01",{"$f":"INDEX(Database!E552:AW552,'Graph of Two Series'!$O$2)/G557","v":144.34255160744499},{"$f":"INDEX(Database!E552:AW552,'Graph of Two Series'!$O$6)/G557","v":158.15720812182741},-0.20554698021339846]
[null,null,null,{"$f":"Database!D553","v":"2001-06-01"},true,{"$f":"IF($O$4,CHOOSE($U$4,1,Database!AI553,Database!AJ553,Database!AP553),1)","v":177.7},0.75379655552727576,"2001-06-01",{"$f":"INDEX(Database!E553:AW553,'Graph of Two Series'!$O$2)/G558","v":145.60958019133372},{"$f":"INDEX(Database!E553:AW553,'Graph of Two Series'!$O$6)/G558","v":158.5308384918402},0.37363037001279054]
[null,null,null,{"$f":"Database!D554","v":"2001-07-01"},true,{"$f":"IF($O$4,CHOOSE($U$4,1,Database!AI554,Database!AJ554,Database!AP554),1)","v":177.4},0.7525239670823789,"2001-07-01",{"$f":"INDEX(Database!E554:AW554,'Graph of Two Series'!$O$2)/G559","v":147.410587373168},{"$f":"INDEX(Database!E554:AW554,'Graph of Two Series'!$O$6)/G559","v":159.59624577226606},1.065407280425859]
[null,null,null,{"$f":"Database!D555","v":"2001-08-01"},true,{"$f":"IF($O$4,CHOOSE($U$4,1,Database!AI555,Database!AJ555,Database!AP555),1)","v":177.4},0.7525239670823789,"2001-08-01",{"$f":"INDEX(Database!E555:AW555,'Graph of Two Series'!$O$2)/G560","v":148.48696505073281},{"$f":"INDEX(Database!E555:AW555,'Graph of Two Series'!$O$6)/G560","v":160.72577790304396},1.1295321307779034]
[null,null,null,{"$f":"Database!D556","v":"2001-09-01"},true,{"$f":"IF($O$4,CHOOSE($U$4,1,Database!AI556,Database!AJ556,Database!AP556),1)","v":178.1},0.75549334012047165,"2001-09-01",{"$f":"INDEX(Database!E556:AW556,'Graph of Two Series'!$O$2)/G561","v":148.96226614261653},{"$f":"INDEX(Database!E556:AW556,'Graph of Two Series'!$O$6)/G561","v":161.41770353733858},0.69192563429461984]
[null,null,null,{"$f":"Database!D557","v":"2001-10-01"},true,{"$f":"IF($O$4,CHOOSE($U$4,1,Database!AI557,Database!AJ557,Database!AP557),1)","v":177.6},0.75337235937897673,"2001-10-01",{"$f":"INDEX(Database!E557:AW557,'Graph of Two Series'!$O$2)/G562","v":149.63384121621624},{"$f":"INDEX(Database!E557:AW557,'Graph of Two Series'!$O$6)/G562","v":163.01367905405408},1.5959755167154981]
[null,null,null,{"$f":"Database!D558","v":"2001-11-01"},true,{"$f":"IF($O$4,CHOOSE($U$4,1,Database!AI558,Database!AJ558,Database!AP558),1)","v":177.5},0.75294816323067781,"2001-11-01",{"$f":"INDEX(Database!E558:AW558,'Graph of Two Series'!$O$2)/G563","v":150.47516619718311},{"$f":"INDEX(Database!E558:AW558,'Graph of Two Series'!$O$6)/G563","v":164.18128901408451},1.1676099600304326]
[null,null,null,{"$f":"Database!D559","v":"2001-12-01"},true,{"$f":"IF($O$4,CHOOSE($U$4,1,Database!AI559,Database!AJ559,Database!AP559),1)","v":177.4},0.7525239670823789,"2001-12-01",{"$f":"INDEX(Database!E559:AW559,'Graph of Two Series'!$O$2)/G564","v":150.58656595264938},{"$f":"INDEX(Database!E559:AW559,'Graph of Two Series'!$O$6)/G564","v":164.80538218714767},0.6240931730631587]
[null,null,null,{"$f":"Database!D560","v":"2002-01-01"},true,{"$f":"IF($O$4,CHOOSE($U$4,1,Database!AI560,Database!AJ560,Database!AP560),1)","v":177.7},0.75379655552727576,"2002-01-01",{"$f":"INDEX(Database!E560:AW560,'Graph of Two Series'!$O$2)/G565","v":150.83645469893079},{"$f":"INDEX(Database!E560:AW560,'Graph of Two Series'!$O$6)/G565","v":165.60171187394485},0.79632968679717919]
[null,null,null,{"$f":"Database!D561","v":"2002-02-01"},true,{"$f":"IF($O$4,CHOOSE($U$4,1,Database!AI561,Database!AJ561,Database!AP561),1)","v":178},0.75506914397217273,"2002-02-01",{"$f":"INDEX(Database!E561:AW561,'Graph of Two Series'!$O$2)/G566","v":150.92657528089887},{"$f":"INDEX(Database!E561:AW561,'Graph of Two Series'!$O$6)/G566","v":166.55428314606743},0.95257127212258297]
[null,null,null,{"$f":"Database!D562","v":"2002-03-01"},true,{"$f":"IF($O$4,CHOOSE($U$4,1,Database!AI562,Database!AJ562,Database!AP562),1)","v":178.5},0.75719012471366753,"2002-03-01",{"$f":"INDEX(Database!E562:AW562,'Graph of Two Series'!$O$2)/G567","v":150.9792537815126},{"$f":"INDEX(Database!E562:AW562,'Graph of Two Series'!$O$6)/G567","v":167.77820504201682},1.2239218959493883]
[null,null,null,{"$f":"Database!D563","v":"2002-04-01"},true,{"$f":"IF($O$4,CHOOSE($U$4,1,Database!AI563,Database!AJ563,Database!AP563),1)","v":179.3},0.76058369390005942,"2002-04-01",{"$f":"INDEX(Database!E563:AW563,'Graph of Two Series'!$O$2)/G568","v":150.83152704963746},{"$f":"INDEX(Database!E563:AW563,'Graph of Two Series'!$O$6)/G568","v":169.00178248745118},1.2235774454343584]
[null,null,null,{"$f":"Database!D564","v":"2002-05-01"},true,{"$f":"IF($O$4,CHOOSE($U$4,1,Database!AI564,Database!AJ564,Database!AP564),1)","v":179.5},0.76143208619665725,"2002-05-01",{"$f":"INDEX(Database!E564:AW564,'Graph of Two Series'!$O$2)/G569","v":151.85858607242341},{"$f":"INDEX(Database!E564:AW564,'Graph of Two Series'!$O$6)/G569","v":171.17744623955434},2.1756637521031621]
[null,null,null,{"$f":"Database!D565","v":"2002-06-01"},true,{"$f":"IF($O$4,CHOOSE($U$4,1,Database!AI565,Database!AJ565,Database!AP565),1)","v":179.6},0.76185628234495628,"2002-06-01",{"$f":"INDEX(Database!E565:AW565,'Graph of Two Series'!$O$2)/G570","v":153.17849665924277},{"$f":"INDEX(Database!E565:AW565,'Graph of Two Series'!$O$6)/G570","v":173.54979287305122},2.3723466334968748]
[null,null,null,{"$f":"Database!D566","v":"2002-07-01"},true,{"$f":"IF($O$4,CHOOSE($U$4,1,Database!AI566,Database!AJ566,Database!AP566),1)","v":180},0.76355306693815217,"2002-07-01",{"$f":"INDEX(Database!E566:AW566,'Graph of Two Series'!$O$2)/G571","v":154.02989666666667},{"$f":"INDEX(Database!E566:AW566,'Graph of Two Series'!$O$6)/G571","v":175.62629999999999},2.0765071269487692]
[null,null,null,{"$f":"Database!D567","v":"2002-08-01"},true,{"$f":"IF($O$4,CHOOSE($U$4,1,Database!AI567,Database!AJ567,Database!AP567),1)","v":180.5},0.76567404767964709,"2002-08-01",{"$f":"INDEX(Database!E567:AW567,'Graph of Two Series'!$O$2)/G572","v":154.5566293628809},{"$f":"INDEX(Database!E567:AW567,'Graph of Two Series'!$O$6)/G572","v":177.55597229916896},1.9296722991689705]
[null,null,null,{"$f":"Database!D568","v":"2002-09-01"},true,{"$f":"IF($O$4,CHOOSE($U$4,1,Database!AI568,Database!AJ568,Database!AP568),1)","v":180.8},0.76694663612454406,"2002-09-01",{"$f":"INDEX(Database!E568:AW568,'Graph of Two Series'!$O$2)/G573","v":155.04338163716812},{"$f":"INDEX(Database!E568:AW568,'Graph of Two Series'!$O$6)/G573","v":179.42578207964601},1.8698097804770555]
[null,null,null,{"$f":"Database!D569","v":"2002-10-01"},true,{"$f":"IF($O$4,CHOOSE($U$4,1,Database!AI569,Database!AJ569,Database!AP569),1)","v":181.2},0.76864342071773983,"2002-10-01",{"$f":"INDEX(Database!E569:AW569,'Graph of Two Series'!$O$2)/G574","v":156.09318543046359},{"$f":"INDEX(Database!E569:AW569,'Graph of Two Series'!$O$6)/G574","v":181.31944701986757},1.8936649402215551]
[null,null,null,{"$f":"Database!D570","v":"2002-11-01"},true,{"$f":"IF($O$4,CHOOSE($U$4,1,Database!AI570,Database!AJ570,Database!AP570),1)","v":181.5},0.76991600916263681,"2002-11-01",{"$f":"INDEX(Database!E570:AW570,'Graph of Two Series'!$O$2)/G575","v":157.06908099173555},{"$f":"INDEX(Database!E570:AW570,'Graph of Two Series'!$O$6)/G575","v":183.14984793388427},1.8304009140167068]
[null,null,null,{"$f":"Database!D571","v":"2002-12-01"},true,{"$f":"IF($O$4,CHOOSE($U$4,1,Database!AI571,Database!AJ571,Database!AP571),1)","v":181.8},0.77118859760753378,"2002-12-01",{"$f":"INDEX(Database!E571:AW571,'Graph of Two Series'!$O$2)/G576","v":157.84725082508251},{"$f":"INDEX(Database!E571:AW571,'Graph of Two Series'!$O$6)/G576","v":184.87047194719469},1.7206240133104131]
[null,null,null,{"$f":"Database!D572","v":"2003-01-01"},true,{"$f":"IF($O$4,CHOOSE($U$4,1,Database!AI572,Database!AJ572,Database!AP572),1)","v":182.6},0.77458216679392544,"2003-01-01",{"$f":"INDEX(Database!E572:AW572,'Graph of Two Series'!$O$2)/G577","v":157.42681051478644},{"$f":"INDEX(Database!E572:AW572,'Graph of Two Series'!$O$6)/G577","v":185.72593866374592},0.85546671655123419]
[null,null,null,{"$f":"Database!D573","v":"2003-02-01"},true,{"$f":"IF($O$4,CHOOSE($U$4,1,Database!AI573,Database!AJ573,Database!AP573),1)","v":183.6},0.77882412827691516,"2003-02-01",{"$f":"INDEX(Database!E573:AW573,'Graph of Two Series'!$O$2)/G578","v":157.23703921568628},{"$f":"INDEX(Database!E573:AW573,'Graph of Two Series'!$O$6)/G578","v":186.2294640522876},0.50352538854167506]
[null,null,null,{"$f":"Database!D574","v":"2003-03-01"},true,{"$f":"IF($O$4,CHOOSE($U$4,1,Database!AI574,Database!AJ574,Database!AP574),1)","v":183.9},0.78009671672181213,"2003-03-01",{"$f":"INDEX(Database!E574:AW574,'Graph of Two Series'!$O$2)/G579","v":157.59584339314844},{"$f":"INDEX(Database!E574:AW574,'Graph of Two Series'!$O$6)/G579","v":187.33574551386621},1.1062814615786181]
[null,null,null,{"$f":"Database!D575","v":"2003-04-01"},true,{"$f":"IF($O$4,CHOOSE($U$4,1,Database!AI575,Database!AJ575,Database!AP575),1)","v":183.2},0.77712734368371927,"2003-04-01",{"$f":"INDEX(Database!E575:AW575,'Graph of Two Series'!$O$2)/G580","v":160.1539323144105},{"$f":"INDEX(Database!E575:AW575,'Graph of Two Series'!$O$6)/G580","v":189.3383384279476},2.0025929140813901]
[null,null,null,{"$f":"Database!D576","v":"2003-05-01"},true,{"$f":"IF($O$4,CHOOSE($U$4,1,Database!AI576,Database!AJ576,Database!AP576),1)","v":182.9},0.77585475523882241,"2003-05-01",{"$f":"INDEX(Database!E576:AW576,'Graph of Two Series'!$O$2)/G581","v":161.98908255877529},{"$f":"INDEX(Database!E576:AW576,'Graph of Two Series'!$O$6)/G581","v":191.00224494259157},1.6639065146439691]
[null,null,null,{"$f":"Database!D577","v":"2003-06-01"},true,{"$f":"IF($O$4,CHOOSE($U$4,1,Database!AI577,Database!AJ577,Database!AP577),1)","v":183.1},0.77670314753542036,"2003-06-01",{"$f":"INDEX(Database!E577:AW577,'Graph of Two Series'!$O$2)/G582","v":164.00088039322773},{"$f":"INDEX(Database!E577:AW577,'Graph of Two Series'!$O$6)/G582","v":192.00385690879301},1.0016119662014376]
[null,null,null,{"$f":"Database!D578","v":"2003-07-01"},true,{"$f":"IF($O$4,CHOOSE($U$4,1,Database!AI578,Database!AJ578,Database!AP578),1)","v":183.7},0.77924832442521419,"2003-07-01",{"$f":"INDEX(Database!E578:AW578,'Graph of Two Series'!$O$2)/G583","v":165.92913445835603},{"$f":"INDEX(Database!E578:AW578,'Graph of Two Series'!$O$6)/G583","v":193.31449972781709},1.310642819024082]
[null,null,null,{"$f":"Database!D579","v":"2003-08-01"},true,{"$f":"IF($O$4,CHOOSE($U$4,1,Database!AI579,Database!AJ579,Database!AP579),1)","v":184.5},0.78264189361160597,"2003-08-01",{"$f":"INDEX(Database!E579:AW579,'Graph of Two Series'!$O$2)/G584","v":168.4678536585366},{"$f":"INDEX(Database!E579:AW579,'Graph of Two Series'!$O$6)/G584","v":194.76340487804879},1.4489051502316954]
[null,null,null,{"$f":"Database!D580","v":"2003-09-01"},true,{"$f":"IF($O$4,CHOOSE($U$4,1,Database!AI580,Database!AJ580,Database!AP580),1)","v":185.1},0.7851870705013998,"2003-09-01",{"$f":"INDEX(Database!E580:AW580,'Graph of Two Series'!$O$2)/G585","v":170.86374068071314},{"$f":"INDEX(Database!E580:AW580,'Graph of Two Series'!$O$6)/G585","v":196.97216855753646},2.2087636794876744]
[null,null,null,{"$f":"Database!D581","v":"2003-10-01"},true,{"$f":"IF($O$4,CHOOSE($U$4,1,Database!AI581,Database!AJ581,Database!AP581),1)","v":184.9},0.78433867820480185,"2003-10-01",{"$f":"INDEX(Database!E581:AW581,'Graph of Two Series'!$O$2)/G586","v":174.37620227149813},{"$f":"INDEX(Database!E581:AW581,'Graph of Two Series'!$O$6)/G586","v":199.92638939967551},2.9542208421390512]
[null,null,null,{"$f":"Database!D582","v":"2003-11-01"},true,{"$f":"IF($O$4,CHOOSE($U$4,1,Database!AI582,Database!AJ582,Database!AP582),1)","v":185},0.78476287435310088,"2003-11-01",{"$f":"INDEX(Database!E582:AW582,'Graph of Two Series'!$O$2)/G587","v":177.3274508108108},{"$f":"INDEX(Database!E582:AW582,'Graph of Two Series'!$O$6)/G587","v":202.8255989189189},2.8992095192433851]
[null,null,null,{"$f":"Database!D583","v":"2003-12-01"},true,{"$f":"IF($O$4,CHOOSE($U$4,1,Database!AI583,Database!AJ583,Database!AP583),1)","v":185.5},0.78688385509459569,"2003-12-01",{"$f":"INDEX(Database!E583:AW583,'Graph of Two Series'!$O$2)/G588","v":181.33552884097037},{"$f":"INDEX(Database!E583:AW583,'Graph of Two Series'!$O$6)/G588","v":205.43057142857145},2.6049725096525549]
[null,null,null,{"$f":"Database!D584","v":"2004-01-01"},true,{"$f":"IF($O$4,CHOOSE($U$4,1,Database!AI584,Database!AJ584,Database!AP584),1)","v":186.3},{"$f":"F589/$G$5","v":0.79027742428098757},{"$f":"IF(E589,D589,NA())","v":"2004-01-01"},{"$f":"INDEX(Database!E584:AW584,'Graph of Two Series'!$O$2)/G589","v":184.68198067632846},{"$f":"INDEX(Database!E584:AW584,'Graph of Two Series'!$O$6)/G589","v":207.53471497584539},2.1041435472739352]
[null,null,null,{"$f":"Database!D585","v":"2004-02-01"},{"$f":"AND($D590>=E$11,$D590<=E$12)","v":true},{"$f":"IF($O$4,CHOOSE($U$4,1,Database!AI585,Database!AJ585,Database!AP585),1)","v":186.7},0.79197420887418335,"2004-02-01",{"$f":"INDEX(Database!E585:AW585,'Graph of Two Series'!$O$2)/G590","v":189.3117204070702},{"$f":"INDEX(Database!E585:AW585,'Graph of Two Series'!$O$6)/G590","v":210.13310551687198},2.5983905410265891]
[null,null,null,{"$f":"Database!D586","v":"2004-03-01"},true,{"$f":"IF($O$4,CHOOSE($U$4,1,Database!AI586,Database!AJ586,Database!AP586),1)","v":187.1},0.79367099346737924,"2004-03-01",{"$f":"INDEX(Database!E586:AW586,'Graph of Two Series'!$O$2)/G591","v":198.91113735970072},{"$f":"INDEX(Database!E586:AW586,'Graph of Two Series'!$O$6)/G591","v":213.56456440406203},{"$f":"J591-J590","v":3.4314588871900469}]
[null,null,null,{"$f":"Database!D587","v":"2004-04-01"},true,{"$f":"IF($O$4,CHOOSE($U$4,1,Database!AI587,Database!AJ587,Database!AP587),1)","v":187.4},0.79494358191227621,"2004-04-01",{"$f":"INDEX(Database!E587:AW587,'Graph of Two Series'!$O$2)/G592","v":209.22239487726787},{"$f":"INDEX(Database!E587:AW587,'Graph of Two Series'!$O$6)/G592","v":216.95879295624334},3.3942285521813176]
[null,null,null,{"$f":"Database!D588","v":"2004-05-01"},true,{"$f":"IF($O$4,CHOOSE($U$4,1,Database!AI588,Database!AJ588,Database!AP588),1)","v":188.2},0.79833715109866799,"2004-05-01",{"$f":"INDEX(Database!E588:AW588,'Graph of Two Series'!$O$2)/G593","v":219.18058023379385},{"$f":"INDEX(Database!E588:AW588,'Graph of Two Series'!$O$6)/G593","v":219.88203825717321},2.9232453009298638]
[null,null,null,{"$f":"Database!D589","v":"2004-06-01"},true,{"$f":"IF($O$4,CHOOSE($U$4,1,Database!AI589,Database!AJ589,Database!AP589),1)","v":188.9},0.80130652413676084,"2004-06-01",{"$f":"INDEX(Database!E589:AW589,'Graph of Two Series'!$O$2)/G594","v":231.55932768660668},{"$f":"INDEX(Database!E589:AW589,'Graph of Two Series'!$O$6)/G594","v":223.18550344097406},3.3034651838008529]
[null,null,null,{"$f":"Database!D590","v":"2004-07-01"},true,{"$f":"IF($O$4,CHOOSE($U$4,1,Database!AI590,Database!AJ590,Database!AP590),1)","v":189.1},0.80215491643335868,"2004-07-01",{"$f":"INDEX(Database!E590:AW590,'Graph of Two Series'!$O$2)/G595","v":243.13258699101007},{"$f":"INDEX(Database!E590:AW590,'Graph of Two Series'!$O$6)/G595","v":226.30292014806983},3.1174167070957708]
[null,null,null,{"$f":"Database!D591","v":"2004-08-01"},true,{"$f":"IF($O$4,CHOOSE($U$4,1,Database!AI591,Database!AJ591,Database!AP591),1)","v":189.2},0.80257911258165771,"2004-08-01",{"$f":"INDEX(Database!E591:AW591,'Graph of Two Series'!$O$2)/G596","v":251.32724841437636},{"$f":"INDEX(Database!E591:AW591,'Graph of Two Series'!$O$6)/G596","v":228.63789640591969},2.3349762578498598]
[null,null,null,{"$f":"Database!D592","v":"2004-09-01"},true,{"$f":"IF($O$4,CHOOSE($U$4,1,Database!AI592,Database!AJ592,Database!AP592),1)","v":189.8},0.80512428947145165,"2004-09-01",{"$f":"INDEX(Database!E592:AW592,'Graph of Two Series'!$O$2)/G597","v":255.22767439409904},{"$f":"INDEX(Database!E592:AW592,'Graph of Two Series'!$O$6)/G597","v":230.42405057955742},1.7861541736377262]
[null,null,null,{"$f":"Database!D593","v":"2004-10-01"},true,{"$f":"IF($O$4,CHOOSE($U$4,1,Database!AI593,Database!AJ593,Database!AP593),1)","v":190.8},0.80936625095444137,"2004-10-01",{"$f":"INDEX(Database!E593:AW593,'Graph of Two Series'!$O$2)/G598","v":255.84214779874213},{"$f":"INDEX(Database!E593:AW593,'Graph of Two Series'!$O$6)/G598","v":231.58860377358488},1.1645531940274623]
[null,null,null,{"$f":"Database!D594","v":"2004-11-01"},true,{"$f":"IF($O$4,CHOOSE($U$4,1,Database!AI594,Database!AJ594,Database!AP594),1)","v":191.7},0.81318401628913206,"2004-11-01",{"$f":"INDEX(Database!E594:AW594,'Graph of Two Series'!$O$2)/G599","v":255.14520187793428},{"$f":"INDEX(Database!E594:AW594,'Graph of Two Series'!$O$6)/G599","v":233.02228794992178},1.4336841763368966]
[null,null,null,{"$f":"Database!D595","v":"2004-12-01"},true,{"$f":"IF($O$4,CHOOSE($U$4,1,Database!AI595,Database!AJ595,Database!AP595),1)","v":191.7},0.81318401628913206,"2004-12-01",{"$f":"INDEX(Database!E595:AW595,'Graph of Two Series'!$O$2)/G600","v":255.31736463223788},{"$f":"INDEX(Database!E595:AW595,'Graph of Two Series'!$O$6)/G600","v":235.81378403755869},2.791496087636915]
[null,null,null,{"$f":"Database!D596","v":"2005-01-01"},true,{"$f":"IF($O$4,CHOOSE($U$4,1,Database!AI596,Database!AJ596,Database!AP596),1)","v":191.6},0.81275982014083303,"2005-01-01",{"$f":"INDEX(Database!E596:AW596,'Graph of Two Series'!$O$2)/G601","v":255.11841858037582},{"$f":"INDEX(Database!E596:AW596,'Graph of Two Series'!$O$6)/G601","v":239.46803862212946},3.654254584570765]
[null,null,null,{"$f":"Database!D597","v":"2005-02-01"},true,{"$f":"IF($O$4,CHOOSE($U$4,1,Database!AI597,Database!AJ597,Database!AP597),1)","v":192.4},0.81615338932722492,"2005-02-01",{"$f":"INDEX(Database!E597:AW597,'Graph of Two Series'!$O$2)/G602","v":256.45914449064446},{"$f":"INDEX(Database!E597:AW597,'Graph of Two Series'!$O$6)/G602","v":242.33189812889813},2.8638595067686765]
[null,null,null,{"$f":"Database!D598","v":"2005-03-01"},true,{"$f":"IF($O$4,CHOOSE($U$4,1,Database!AI598,Database!AJ598,Database!AP598),1)","v":193.1},0.81912276236531767,"2005-03-01",{"$f":"INDEX(Database!E598:AW598,'Graph of Two Series'!$O$2)/G603","v":257.56822993267735},{"$f":"INDEX(Database!E598:AW598,'Graph of Two Series'!$O$6)/G603","v":245.76291765924393},3.4310195303457931]
[null,null,null,{"$f":"Database!D599","v":"2005-04-01"},true,{"$f":"IF($O$4,CHOOSE($U$4,1,Database!AI599,Database!AJ599,Database!AP599),1)","v":193.7},0.8216679392551115,"2005-04-01",{"$f":"INDEX(Database!E599:AW599,'Graph of Two Series'!$O$2)/G604","v":261.07870314919984},{"$f":"INDEX(Database!E599:AW599,'Graph of Two Series'!$O$6)/G604","v":248.04424057821376},2.2813229189698347]
[null,null,null,{"$f":"Database!D600","v":"2005-05-01"},true,{"$f":"IF($O$4,CHOOSE($U$4,1,Database!AI600,Database!AJ600,Database!AP600),1)","v":193.6},0.82124374310681258,"2005-05-01",{"$f":"INDEX(Database!E600:AW600,'Graph of Two Series'!$O$2)/G605","v":264.5743140495868},{"$f":"INDEX(Database!E600:AW600,'Graph of Two Series'!$O$6)/G605","v":250.93646280991737},2.892222231703613]
[null,null,null,{"$f":"Database!D601","v":"2005-06-01"},true,{"$f":"IF($O$4,CHOOSE($U$4,1,Database!AI601,Database!AJ601,Database!AP601),1)","v":193.7},0.8216679392551115,"2005-06-01",{"$f":"INDEX(Database!E601:AW601,'Graph of Two Series'!$O$2)/G606","v":267.58984925141976},{"$f":"INDEX(Database!E601:AW601,'Graph of Two Series'!$O$6)/G606","v":253.41137222509036},2.4749094151729878]
[null,null,null,{"$f":"Database!D602","v":"2005-07-01"},true,{"$f":"IF($O$4,CHOOSE($U$4,1,Database!AI602,Database!AJ602,Database!AP602),1)","v":194.9},0.82675829303469928,"2005-07-01",{"$f":"INDEX(Database!E602:AW602,'Graph of Two Series'!$O$2)/G607","v":268.43395690097486},{"$f":"INDEX(Database!E602:AW602,'Graph of Two Series'!$O$6)/G607","v":254.34277680861979},0.93140458352942801]
[null,null,null,{"$f":"Database!D603","v":"2005-08-01"},true,{"$f":"IF($O$4,CHOOSE($U$4,1,Database!AI603,Database!AJ603,Database!AP603),1)","v":196.1},0.83184864681428683,"2005-08-01",{"$f":"INDEX(Database!E603:AW603,'Graph of Two Series'!$O$2)/G608","v":269.89284752677207},{"$f":"INDEX(Database!E603:AW603,'Graph of Two Series'!$O$6)/G608","v":255.17863233044369},0.83585552182390188]
[null,null,null,{"$f":"Database!D604","v":"2005-09-01"},true,{"$f":"IF($O$4,CHOOSE($U$4,1,Database!AI604,Database!AJ604,Database!AP604),1)","v":198.8},0.84330194281835924,"2005-09-01",{"$f":"INDEX(Database!E604:AW604,'Graph of Two Series'!$O$2)/G609","v":268.69379577464787},{"$f":"INDEX(Database!E604:AW604,'Graph of Two Series'!$O$6)/G609","v":254.91462676056338},-0.26400556988031099]
[null,null,null,{"$f":"Database!D605","v":"2005-10-01"},true,{"$f":"IF($O$4,CHOOSE($U$4,1,Database!AI605,Database!AJ605,Database!AP605),1)","v":199.1},0.8445745312632561,"2005-10-01",{"$f":"INDEX(Database!E605:AW605,'Graph of Two Series'!$O$2)/G610","v":269.73344751381217},{"$f":"INDEX(Database!E605:AW605,'Graph of Two Series'!$O$6)/G610","v":257.46691612255148},2.5522893619881017]
[null,null,null,{"$f":"Database!D606","v":"2005-11-01"},true,{"$f":"IF($O$4,CHOOSE($U$4,1,Database!AI606,Database!AJ606,Database!AP606),1)","v":198.1},0.84033256978026638,"2005-11-01",{"$f":"INDEX(Database!E606:AW606,'Graph of Two Series'!$O$2)/G611","v":272.23745482079761},{"$f":"INDEX(Database!E606:AW606,'Graph of Two Series'!$O$6)/G611","v":261.71781019687029},4.2508940743188077]
[null,null,null,{"$f":"Database!D607","v":"2005-12-01"},true,{"$f":"IF($O$4,CHOOSE($U$4,1,Database!AI607,Database!AJ607,Database!AP607),1)","v":198.1},0.84033256978026638,"2005-12-01",{"$f":"INDEX(Database!E607:AW607,'Graph of Two Series'!$O$2)/G612","v":273.0109581019687},{"$f":"INDEX(Database!E607:AW607,'Graph of Two Series'!$O$6)/G612","v":264.38342150429077},2.6656113074204768]
[null,null,null,{"$f":"Database!D608","v":"2006-01-01"},true,{"$f":"IF($O$4,CHOOSE($U$4,1,Database!AI608,Database!AJ608,Database!AP608),1)","v":199.3},0.84542292355985404,"2006-01-01",{"$f":"INDEX(Database!E608:AW608,'Graph of Two Series'!$O$2)/G613","v":272.6209493226292},{"$f":"INDEX(Database!E608:AW608,'Graph of Two Series'!$O$6)/G613","v":264.87334771700955},0.48992621271878534]
[null,null,null,{"$f":"Database!D609","v":"2006-02-01"},true,{"$f":"IF($O$4,CHOOSE($U$4,1,Database!AI609,Database!AJ609,Database!AP609),1)","v":199.4},0.84584711970815307,"2006-02-01",{"$f":"INDEX(Database!E609:AW609,'Graph of Two Series'!$O$2)/G614","v":274.21030892678033},{"$f":"INDEX(Database!E609:AW609,'Graph of Two Series'!$O$6)/G614","v":266.76215446339017},1.8888067463806237]
[null,null,null,{"$f":"Database!D610","v":"2006-03-01"},true,{"$f":"IF($O$4,CHOOSE($U$4,1,Database!AI610,Database!AJ610,Database!AP610),1)","v":199.7},0.84711970815304993,"2006-03-01",{"$f":"INDEX(Database!E610:AW610,'Graph of Two Series'!$O$2)/G615","v":274.31778267401103},{"$f":"INDEX(Database!E610:AW610,'Graph of Two Series'!$O$6)/G615","v":267.42383375062593},0.66167928723575642]
[null,null,null,{"$f":"Database!D611","v":"2006-04-01"},true,{"$f":"IF($O$4,CHOOSE($U$4,1,Database!AI611,Database!AJ611,Database!AP611),1)","v":200.7},0.85136166963603965,"2006-04-01",{"$f":"INDEX(Database!E611:AW611,'Graph of Two Series'!$O$2)/G616","v":274.59540209267567},{"$f":"INDEX(Database!E611:AW611,'Graph of Two Series'!$O$6)/G616","v":266.47899252615849},-0.94484122446743868]
[null,null,null,{"$f":"Database!D612","v":"2006-05-01"},true,{"$f":"IF($O$4,CHOOSE($U$4,1,Database!AI612,Database!AJ612,Database!AP612),1)","v":201.3},0.8539068465258336,"2006-05-01",{"$f":"INDEX(Database!E612:AW612,'Graph of Two Series'!$O$2)/G617","v":274.49129955290607},{"$f":"INDEX(Database!E612:AW612,'Graph of Two Series'!$O$6)/G617","v":265.41536810730253},-1.0636244188559658]
[null,null,null,{"$f":"Database!D613","v":"2006-06-01"},true,{"$f":"IF($O$4,CHOOSE($U$4,1,Database!AI613,Database!AJ613,Database!AP613),1)","v":201.8},0.8560278272673284,"2006-06-01",{"$f":"INDEX(Database!E613:AW613,'Graph of Two Series'!$O$2)/G618","v":273.06355302279485},{"$f":"INDEX(Database!E613:AW613,'Graph of Two Series'!$O$6)/G618","v":263.64797125867193},-1.7673968486305967]
[null,null,null,{"$f":"Database!D614","v":"2006-07-01"},true,{"$f":"IF($O$4,CHOOSE($U$4,1,Database!AI614,Database!AJ614,Database!AP614),1)","v":202.9},0.86069398489861715,"2006-07-01",{"$f":"INDEX(Database!E614:AW614,'Graph of Two Series'!$O$2)/G619","v":272.21056973878757},{"$f":"INDEX(Database!E614:AW614,'Graph of Two Series'!$O$6)/G619","v":260.90573878758011},-2.7422324710918247]
[null,null,null,{"$f":"Database!D615","v":"2006-08-01"},true,{"$f":"IF($O$4,CHOOSE($U$4,1,Database!AI615,Database!AJ615,Database!AP615),1)","v":203.8},0.86451175023330795,"2006-08-01",{"$f":"INDEX(Database!E615:AW615,'Graph of Two Series'!$O$2)/G620","v":271.57525613346417},{"$f":"INDEX(Database!E615:AW615,'Graph of Two Series'!$O$6)/G620","v":258.18041216879288},-2.7253266187872214]
[null,null,null,{"$f":"Database!D616","v":"2006-09-01"},true,{"$f":"IF($O$4,CHOOSE($U$4,1,Database!AI616,Database!AJ616,Database!AP616),1)","v":202.8},0.86026978875031812,"2006-09-01",{"$f":"INDEX(Database!E616:AW616,'Graph of Two Series'!$O$2)/G621","v":272.83301479289941},{"$f":"INDEX(Database!E616:AW616,'Graph of Two Series'!$O$6)/G621","v":259.0233934911243},0.84298132233141132]
[null,null,null,{"$f":"Database!D617","v":"2006-10-01"},true,{"$f":"IF($O$4,CHOOSE($U$4,1,Database!AI617,Database!AJ617,Database!AP617),1)","v":201.9},0.85645202341562743,"2006-10-01",{"$f":"INDEX(Database!E617:AW617,'Graph of Two Series'!$O$2)/G622","v":272.98668647845466},{"$f":"INDEX(Database!E617:AW617,'Graph of Two Series'!$O$6)/G622","v":260.0962971768202},1.0729036856959056]
[null,null,null,{"$f":"Database!D618","v":"2006-11-01"},true,{"$f":"IF($O$4,CHOOSE($U$4,1,Database!AI618,Database!AJ618,Database!AP618),1)","v":202},0.85687621956392634,"2006-11-01",{"$f":"INDEX(Database!E618:AW618,'Graph of Two Series'!$O$2)/G623","v":271.40442772277231},{"$f":"INDEX(Database!E618:AW618,'Graph of Two Series'!$O$6)/G623","v":260.07256930693069},-2.3727869889512476E-2]
[null,null,null,{"$f":"Database!D619","v":"2006-12-01"},true,{"$f":"IF($O$4,CHOOSE($U$4,1,Database!AI619,Database!AJ619,Database!AP619),1)","v":203.1},0.86154237719521498,"2006-12-01",{"$f":"INDEX(Database!E619:AW619,'Graph of Two Series'!$O$2)/G624","v":268.78538552437226},{"$f":"INDEX(Database!E619:AW619,'Graph of Two Series'!$O$6)/G624","v":258.29257607090108},-1.7799932360296111]
[null,null,null,{"$f":"Database!D620","v":"2007-01-01"},true,{"$f":"IF($O$4,CHOOSE($U$4,1,Database!AI620,Database!AJ620,Database!AP620),1)","v":203.43700000000001},0.86297191821498265,"2007-01-01",{"$f":"INDEX(Database!E620:AW620,'Graph of Two Series'!$O$2)/G625","v":267.12340822957475},{"$f":"INDEX(Database!E620:AW620,'Graph of Two Series'!$O$6)/G625","v":258.20075404179181},-9.1822029109266623E-2]
[null,null,null,{"$f":"Database!D621","v":"2007-02-01"},true,{"$f":"IF($O$4,CHOOSE($U$4,1,Database!AI621,Database!AJ621,Database!AP621),1)","v":204.226},0.86631882582506148,"2007-02-01",{"$f":"INDEX(Database!E621:AW621,'Graph of Two Series'!$O$2)/G626","v":265.07562014630849},{"$f":"INDEX(Database!E621:AW621,'Graph of Two Series'!$O$6)/G626","v":257.3763761714963},-0.82437787029550691]
[null,null,null,{"$f":"Database!D622","v":"2007-03-01"},true,{"$f":"IF($O$4,CHOOSE($U$4,1,Database!AI622,Database!AJ622,Database!AP622),1)","v":205.28800000000001},0.87082378891999657,"2007-03-01",{"$f":"INDEX(Database!E622:AW622,'Graph of Two Series'!$O$2)/G627","v":262.45263727056624},{"$f":"INDEX(Database!E622:AW622,'Graph of Two Series'!$O$6)/G627","v":256.10232843614824},-1.2740477353480628]
[null,null,null,{"$f":"Database!D623","v":"2007-04-01"},true,{"$f":"IF($O$4,CHOOSE($U$4,1,Database!AI623,Database!AJ623,Database!AP623),1)","v":205.904},0.87343683719351828,"2007-04-01",{"$f":"INDEX(Database!E623:AW623,'Graph of Two Series'!$O$2)/G628","v":259.49214682570516},{"$f":"INDEX(Database!E623:AW623,'Graph of Two Series'!$O$6)/G628","v":253.42416368793224},-2.6781647482160054]
[null,null,null,{"$f":"Database!D624","v":"2007-05-01"},true,{"$f":"IF($O$4,CHOOSE($U$4,1,Database!AI624,Database!AJ624,Database!AP624),1)","v":206.755},0.87704674641554248,"2007-05-01",{"$f":"INDEX(Database!E624:AW624,'Graph of Two Series'!$O$2)/G629","v":256.30332809363739},{"$f":"INDEX(Database!E624:AW624,'Graph of Two Series'!$O$6)/G629","v":250.02088075258158},-3.40328293535066]
[null,null,null,{"$f":"Database!D625","v":"2007-06-01"},true,{"$f":"IF($O$4,CHOOSE($U$4,1,Database!AI625,Database!AJ625,Database!AP625),1)","v":207.23400000000001},0.87907864596589458,"2007-06-01",{"$f":"INDEX(Database!E625:AW625,'Graph of Two Series'!$O$2)/G630","v":252.37787428703788},{"$f":"INDEX(Database!E625:AW625,'Graph of Two Series'!$O$6)/G630","v":246.6218477662932},-3.3990329862883755]
[null,null,null,{"$f":"Database!D626","v":"2007-07-01"},true,{"$f":"IF($O$4,CHOOSE($U$4,1,Database!AI626,Database!AJ626,Database!AP626),1)","v":207.60300000000001},0.88064392975311789,"2007-07-01",{"$f":"INDEX(Database!E626:AW626,'Graph of Two Series'!$O$2)/G631","v":249.71500122830594},{"$f":"INDEX(Database!E626:AW626,'Graph of Two Series'!$O$6)/G631","v":243.50363723067585},-3.1182105356173508]
[null,null,null,{"$f":"Database!D627","v":"2007-08-01"},true,{"$f":"IF($O$4,CHOOSE($U$4,1,Database!AI627,Database!AJ627,Database!AP627),1)","v":207.667},0.88091541528802919,"2007-08-01",{"$f":"INDEX(Database!E627:AW627,'Graph of Two Series'!$O$2)/G632","v":246.14167970837929},{"$f":"INDEX(Database!E627:AW627,'Graph of Two Series'!$O$6)/G632","v":240.5225250039727},-2.9811122267031465]
[null,null,null,{"$f":"Database!D628","v":"2007-09-01"},true,{"$f":"IF($O$4,CHOOSE($U$4,1,Database!AI628,Database!AJ628,Database!AP628),1)","v":208.547},0.88464834139306014,"2007-09-01",{"$f":"INDEX(Database!E628:AW628,'Graph of Two Series'!$O$2)/G633","v":241.30492311085752},{"$f":"INDEX(Database!E628:AW628,'Graph of Two Series'!$O$6)/G633","v":237.48419588869655},-3.0383291152761558]
[null,null,null,{"$f":"Database!D629","v":"2007-10-01"},true,{"$f":"IF($O$4,CHOOSE($U$4,1,Database!AI629,Database!AJ629,Database!AP629),1)","v":209.19},0.88737592262662246,"2007-10-01",{"$f":"INDEX(Database!E629:AW629,'Graph of Two Series'!$O$2)/G634","v":235.16527176251259},{"$f":"INDEX(Database!E629:AW629,'Graph of Two Series'!$O$6)/G634","v":233.98200774415605},-3.5021881445404972]
[null,null,null,{"$f":"Database!D630","v":"2007-11-01"},true,{"$f":"IF($O$4,CHOOSE($U$4,1,Database!AI630,Database!AJ630,Database!AP630),1)","v":210.834},0.89434970730465768,"2007-11-01",{"$f":"INDEX(Database!E630:AW630,'Graph of Two Series'!$O$2)/G635","v":225.80652551296279},{"$f":"INDEX(Database!E630:AW630,'Graph of Two Series'!$O$6)/G635","v":228.23286946128235},-5.7491382828737017]
[null,null,null,{"$f":"Database!D631","v":"2007-12-01"},true,{"$f":"IF($O$4,CHOOSE($U$4,1,Database!AI631,Database!AJ631,Database!AP631),1)","v":211.44499999999999},0.89694154577076435,"2007-12-01",{"$f":"INDEX(Database!E631:AW631,'Graph of Two Series'!$O$2)/G636","v":218.57611672066025},{"$f":"INDEX(Database!E631:AW631,'Graph of Two Series'!$O$6)/G636","v":223.82729504126368},-4.4055744200186666]
[null,null,null,{"$f":"Database!D632","v":"2008-01-01"},true,{"$f":"IF($O$4,CHOOSE($U$4,1,Database!AI632,Database!AJ632,Database!AP632),1)","v":212.17400000000001},0.90003393569186396,"2008-01-01",{"$f":"INDEX(Database!E632:AW632,'Graph of Two Series'!$O$2)/G637","v":206.71442778097222},{"$f":"INDEX(Database!E632:AW632,'Graph of Two Series'!$O$6)/G637","v":219.45839169738045},-4.3689033438832325]
[null,null,null,{"$f":"Database!D633","v":"2008-02-01"},true,{"$f":"IF($O$4,CHOOSE($U$4,1,Database!AI633,Database!AJ633,Database!AP633),1)","v":212.68700000000001},0.90221006193263764,"2008-02-01",{"$f":"INDEX(Database!E633:AW633,'Graph of Two Series'!$O$2)/G638","v":196.38442029837273},{"$f":"INDEX(Database!E633:AW633,'Graph of Two Series'!$O$6)/G638","v":214.06323000465471},-5.3951616927257362]
[null,null,null,{"$f":"Database!D634","v":"2008-03-01"},true,{"$f":"IF($O$4,CHOOSE($U$4,1,Database!AI634,Database!AJ634,Database!AP634),1)","v":213.44800000000001},0.90543819462119279,"2008-03-01",{"$f":"INDEX(Database!E634:AW634,'Graph of Two Series'!$O$2)/G639","v":186.99233255874969},{"$f":"INDEX(Database!E634:AW634,'Graph of Two Series'!$O$6)/G639","v":209.34614988193849},-4.7170801227162258]
[null,null,null,{"$f":"Database!D635","v":"2008-04-01"},true,{"$f":"IF($O$4,CHOOSE($U$4,1,Database!AI635,Database!AJ635,Database!AP635),1)","v":213.94200000000001},0.90753372359378981,"2008-04-01",{"$f":"INDEX(Database!E635:AW635,'Graph of Two Series'!$O$2)/G640","v":182.59376560002244},{"$f":"INDEX(Database!E635:AW635,'Graph of Two Series'!$O$6)/G640","v":204.79679726280955},-4.5493526191289391]
[null,null,null,{"$f":"Database!D636","v":"2008-05-01"},true,{"$f":"IF($O$4,CHOOSE($U$4,1,Database!AI636,Database!AJ636,Database!AP636),1)","v":215.208},0.9129040468312547,"2008-05-01",{"$f":"INDEX(Database!E636:AW636,'Graph of Two Series'!$O$2)/G641","v":176.46980595516897},{"$f":"INDEX(Database!E636:AW636,'Graph of Two Series'!$O$6)/G641","v":199.95529720084755},-4.8415000619619946]
[null,null,null,{"$f":"Database!D637","v":"2008-06-01"},true,{"$f":"IF($O$4,CHOOSE($U$4,1,Database!AI637,Database!AJ637,Database!AP637),1)","v":217.46299999999999},0.92246966997539659,"2008-06-01",{"$f":"INDEX(Database!E637:AW637,'Graph of Two Series'!$O$2)/G642","v":172.14658125750128},{"$f":"INDEX(Database!E637:AW637,'Graph of Two Series'!$O$6)/G642","v":195.10668573504458},-4.8486114658029749]
[null,null,null,{"$f":"Database!D638","v":"2008-07-01"},true,{"$f":"IF($O$4,CHOOSE($U$4,1,Database!AI638,Database!AJ638,Database!AP638),1)","v":219.01599999999999},0.92905743615847958,"2008-07-01",{"$f":"INDEX(Database!E638:AW638,'Graph of Two Series'!$O$2)/G643","v":166.44826679329364},{"$f":"INDEX(Database!E638:AW638,'Graph of Two Series'!$O$6)/G643","v":190.24658015852725},-4.8601055765173271]
[null,null,null,{"$f":"Database!D639","v":"2008-08-01"},true,{"$f":"IF($O$4,CHOOSE($U$4,1,Database!AI639,Database!AJ639,Database!AP639),1)","v":218.69},0.92767455671502497,"2008-08-01",{"$f":"INDEX(Database!E639:AW639,'Graph of Two Series'!$O$2)/G644","v":162.69714298779095},{"$f":"INDEX(Database!E639:AW639,'Graph of Two Series'!$O$6)/G644","v":187.52265947231243},-2.7239206862148251]
[null,null,null,{"$f":"Database!D640","v":"2008-09-01"},true,{"$f":"IF($O$4,CHOOSE($U$4,1,Database!AI640,Database!AJ640,Database!AP640),1)","v":218.87700000000001},0.92846780351234415,"2008-09-01",{"$f":"INDEX(Database!E640:AW640,'Graph of Two Series'!$O$2)/G645","v":158.17457476116724},{"$f":"INDEX(Database!E640:AW640,'Graph of Two Series'!$O$6)/G645","v":183.89436806973779},-3.6282914025746322]
[null,null,null,{"$f":"Database!D641","v":"2008-10-01"},true,{"$f":"IF($O$4,CHOOSE($U$4,1,Database!AI641,Database!AJ641,Database!AP641),1)","v":216.995},0.92048443200135743,"2008-10-01",{"$f":"INDEX(Database!E641:AW641,'Graph of Two Series'!$O$2)/G646","v":155.07052051890597},{"$f":"INDEX(Database!E641:AW641,'Graph of Two Series'!$O$6)/G646","v":182.25186018111015},-1.6425078886276481]
[null,null,null,{"$f":"Database!D642","v":"2008-11-01"},true,{"$f":"IF($O$4,CHOOSE($U$4,1,Database!AI642,Database!AJ642,Database!AP642),1)","v":213.15299999999999},0.90418681598371076,"2008-11-01",{"$f":"INDEX(Database!E642:AW642,'Graph of Two Series'!$O$2)/G647","v":152.66756555150528},{"$f":"INDEX(Database!E642:AW642,'Graph of Two Series'!$O$6)/G647","v":182.49547226640021},0.24361208529006717]
[null,null,null,{"$f":"Database!D643","v":"2008-12-01"},true,{"$f":"IF($O$4,CHOOSE($U$4,1,Database!AI643,Database!AJ643,Database!AP643),1)","v":211.398},0.89674217358106378,"2008-12-01",{"$f":"INDEX(Database!E643:AW643,'Graph of Two Series'!$O$2)/G648","v":146.53041182981866},{"$f":"INDEX(Database!E643:AW643,'Graph of Two Series'!$O$6)/G648","v":180.88811341639942},-1.6073588500007929]
[null,null,null,{"$f":"Database!D644","v":"2009-01-01"},true,{"$f":"IF($O$4,CHOOSE($U$4,1,Database!AI644,Database!AJ644,Database!AP644),1)","v":211.93299999999999},0.89901162297446335,"2009-01-01",{"$f":"INDEX(Database!E644:AW644,'Graph of Two Series'!$O$2)/G649","v":139.79797011319616},{"$f":"INDEX(Database!E644:AW644,'Graph of Two Series'!$O$6)/G649","v":177.17234786465534},-3.7157655517440844]
[null,null,null,{"$f":"Database!D645","v":"2009-02-01"},true,{"$f":"IF($O$4,CHOOSE($U$4,1,Database!AI645,Database!AJ645,Database!AP645),1)","v":212.70500000000001},0.90228641723933145,"2009-02-01",{"$f":"INDEX(Database!E645:AW645,'Graph of Two Series'!$O$2)/G650","v":134.22567123480877},{"$f":"INDEX(Database!E645:AW645,'Graph of Two Series'!$O$6)/G650","v":174.05781246327075},-3.1145354013845861]
[null,null,null,{"$f":"Database!D646","v":"2009-03-01"},true,{"$f":"IF($O$4,CHOOSE($U$4,1,Database!AI646,Database!AJ646,Database!AP646),1)","v":212.495},0.90139560532790364,"2009-03-01",{"$f":"INDEX(Database!E646:AW646,'Graph of Two Series'!$O$2)/G651","v":129.27731099555282},{"$f":"INDEX(Database!E646:AW646,'Graph of Two Series'!$O$6)/G651","v":171.66713381491331},-2.3906786483574365]
[null,null,null,{"$f":"Database!D647","v":"2009-04-01"},true,{"$f":"IF($O$4,CHOOSE($U$4,1,Database!AI647,Database!AJ647,Database!AP647),1)","v":212.709},0.90230338508526342,"2009-04-01",{"$f":"INDEX(Database!E647:AW647,'Graph of Two Series'!$O$2)/G652","v":124.57007460897283},{"$f":"INDEX(Database!E647:AW647,'Graph of Two Series'!$O$6)/G652","v":169.39978562261118},-2.267348192302137]
[null,null,null,{"$f":"Database!D648","v":"2009-05-01"},true,{"$f":"IF($O$4,CHOOSE($U$4,1,Database!AI648,Database!AJ648,Database!AP648),1)","v":213.02199999999999},{"$f":"F653/$G$5","v":0.90363111902943916},{"$f":"IF(E653,D653,NA())","v":"2009-05-01"},{"$f":"INDEX(Database!E648:AW648,'Graph of Two Series'!$O$2)/G653","v":121.17776567678456},{"$f":"INDEX(Database!E648:AW648,'Graph of Two Series'!$O$6)/G653","v":168.28769704537561},-1.1120885772355678]
[null,null,null,{"$f":"Database!D649","v":"2009-06-01"},{"$f":"AND($D654>=E$11,$D654<=E$12)","v":true},{"$f":"IF($O$4,CHOOSE($U$4,1,Database!AI649,Database!AJ649,Database!AP649),1)","v":214.79},0.911130906931365,"2009-06-01",{"$f":"INDEX(Database!E649:AW649,'Graph of Two Series'!$O$2)/G654","v":117.77670934401044},{"$f":"INDEX(Database!E649:AW649,'Graph of Two Series'!$O$6)/G654","v":167.63782112761305},-0.64987591776255726]
[null,null,null,{"$f":"Database!D650","v":"2009-07-01"},true,{"$f":"IF($O$4,CHOOSE($U$4,1,Database!AI650,Database!AJ650,Database!AP650),1)","v":214.726},0.91085942139645371,"2009-07-01",{"$f":"INDEX(Database!E650:AW650,'Graph of Two Series'!$O$2)/G655","v":116.46144016094931},{"$f":"INDEX(Database!E650:AW650,'Graph of Two Series'!$O$6)/G655","v":168.91739426059257},{"$f":"J655-J654","v":1.2795731329795217}]
[null,null,null,{"$f":"Database!D651","v":"2009-08-01"},true,{"$f":"IF($O$4,CHOOSE($U$4,1,Database!AI651,Database!AJ651,Database!AP651),1)","v":215.44499999999999},0.91390939170272323,"2009-08-01",{"$f":"INDEX(Database!E651:AW651,'Graph of Two Series'!$O$2)/G656","v":115.74451576968602},{"$f":"INDEX(Database!E651:AW651,'Graph of Two Series'!$O$6)/G656","v":169.80895634616726},0.89156208557469085]
[null,null,null,{"$f":"Database!D652","v":"2009-09-01"},true,{"$f":"IF($O$4,CHOOSE($U$4,1,Database!AI652,Database!AJ652,Database!AP652),1)","v":215.86099999999999},0.915674047679647,"2009-09-01",{"$f":"INDEX(Database!E652:AW652,'Graph of Two Series'!$O$2)/G657","v":114.47304886014611},{"$f":"INDEX(Database!E652:AW652,'Graph of Two Series'!$O$6)/G657","v":170.3772214526941},0.56826510652683737]
[null,null,null,{"$f":"Database!D653","v":"2009-10-01"},true,{"$f":"IF($O$4,CHOOSE($U$4,1,Database!AI653,Database!AJ653,Database!AP653),1)","v":216.50899999999999},0.91842283872062436,"2009-10-01",{"$f":"INDEX(Database!E653:AW653,'Graph of Two Series'!$O$2)/G658","v":114.01066653118346},{"$f":"INDEX(Database!E653:AW653,'Graph of Two Series'!$O$6)/G658","v":170.72746167595807},0.35024022326396675]
[null,null,null,{"$f":"Database!D654","v":"2009-11-01"},true,{"$f":"IF($O$4,CHOOSE($U$4,1,Database!AI654,Database!AJ654,Database!AP654),1)","v":217.23400000000001},0.921498260795792,"2009-11-01",{"$f":"INDEX(Database!E654:AW654,'Graph of Two Series'!$O$2)/G659","v":113.09842289880957},{"$f":"INDEX(Database!E654:AW654,'Graph of Two Series'!$O$6)/G659","v":170.92815765487904},0.2006959789209759]
[null,null,null,{"$f":"Database!D655","v":"2009-12-01"},true,{"$f":"IF($O$4,CHOOSE($U$4,1,Database!AI655,Database!AJ655,Database!AP655),1)","v":217.34700000000001},0.92197760244336979,"2009-12-01",{"$f":"INDEX(Database!E655:AW655,'Graph of Two Series'!$O$2)/G660","v":113.21316236248947},{"$f":"INDEX(Database!E655:AW655,'Graph of Two Series'!$O$6)/G660","v":171.83714613038137},0.90898847550232631]
[null,null,null,{"$f":"Database!D656","v":"2010-01-01"},true,{"$f":"IF($O$4,CHOOSE($U$4,1,Database!AI656,Database!AJ656,Database!AP656),1)","v":217.488},0.92257571901247137,"2010-01-01",{"$f":"INDEX(Database!E656:AW656,'Graph of Two Series'!$O$2)/G661","v":112.53276870448023},{"$f":"INDEX(Database!E656:AW656,'Graph of Two Series'!$O$6)/G661","v":172.82050320017655},0.98335706979517568]
[null,null,null,{"$f":"Database!D657","v":"2010-02-01"},true,{"$f":"IF($O$4,CHOOSE($U$4,1,Database!AI657,Database!AJ657,Database!AP657),1)","v":217.28100000000001},0.92169763298549245,"2010-02-01",{"$f":"INDEX(Database!E657:AW657,'Graph of Two Series'!$O$2)/G662","v":112.18429591174564},{"$f":"INDEX(Database!E657:AW657,'Graph of Two Series'!$O$6)/G662","v":173.23468595965593},0.4141827594793881]
[null,null,null,{"$f":"Database!D658","v":"2010-03-01"},true,{"$f":"IF($O$4,CHOOSE($U$4,1,Database!AI658,Database!AJ658,Database!AP658),1)","v":217.35300000000001},0.9220030542122678,"2010-03-01",{"$f":"INDEX(Database!E658:AW658,'Graph of Two Series'!$O$2)/G663","v":111.25776593835833},{"$f":"INDEX(Database!E658:AW658,'Graph of Two Series'!$O$6)/G663","v":173.50267905204896},0.26799309239302715]
[null,null,null,{"$f":"Database!D659","v":"2010-04-01"},true,{"$f":"IF($O$4,CHOOSE($U$4,1,Database!AI659,Database!AJ659,Database!AP659),1)","v":217.40299999999999},0.92221515228641715,"2010-04-01",{"$f":"INDEX(Database!E659:AW659,'Graph of Two Series'!$O$2)/G664","v":111.49242098775086},{"$f":"INDEX(Database!E659:AW659,'Graph of Two Series'!$O$6)/G664","v":173.58205360551605},7.9374553467090436E-2]
[null,null,null,{"$f":"Database!D660","v":"2010-05-01"},true,{"$f":"IF($O$4,CHOOSE($U$4,1,Database!AI660,Database!AJ660,Database!AP660),1)","v":217.29},0.92173581063883936,"2010-05-01",{"$f":"INDEX(Database!E660:AW660,'Graph of Two Series'!$O$2)/G665","v":111.04049427032997},{"$f":"INDEX(Database!E660:AW660,'Graph of Two Series'!$O$6)/G665","v":173.86760734502278},0.28555373950672447]
[null,null,null,{"$f":"Database!D661","v":"2010-06-01"},true,{"$f":"IF($O$4,CHOOSE($U$4,1,Database!AI661,Database!AJ661,Database!AP661),1)","v":217.19900000000001},0.92134979214388735,"2010-06-01",{"$f":"INDEX(Database!E661:AW661,'Graph of Two Series'!$O$2)/G666","v":110.45750578962149},{"$f":"INDEX(Database!E661:AW661,'Graph of Two Series'!$O$6)/G666","v":173.8753309177298},7.7235727070217308E-3]
[null,null,null,{"$f":"Database!D662","v":"2010-07-01"},true,{"$f":"IF($O$4,CHOOSE($U$4,1,Database!AI662,Database!AJ662,Database!AP662),1)","v":217.60499999999999},0.92307202850598113,"2010-07-01",{"$f":"INDEX(Database!E662:AW662,'Graph of Two Series'!$O$2)/G667","v":109.31974632935824},{"$f":"INDEX(Database!E662:AW662,'Graph of Two Series'!$O$6)/G667","v":172.97675053422486},-0.8985803835049353]
[null,null,null,{"$f":"Database!D663","v":"2010-08-01"},true,{"$f":"IF($O$4,CHOOSE($U$4,1,Database!AI663,Database!AJ663,Database!AP663),1)","v":217.923},0.92442097225757192,"2010-08-01",{"$f":"INDEX(Database!E663:AW663,'Graph of Two Series'!$O$2)/G668","v":109.29003455348908},{"$f":"INDEX(Database!E663:AW663,'Graph of Two Series'!$O$6)/G668","v":171.68584958907505},-1.290900945149815]
[null,null,null,{"$f":"Database!D664","v":"2010-09-01"},true,{"$f":"IF($O$4,CHOOSE($U$4,1,Database!AI664,Database!AJ664,Database!AP664),1)","v":218.27500000000001},0.92591414269958427,"2010-09-01",{"$f":"INDEX(Database!E664:AW664,'Graph of Two Series'!$O$2)/G669","v":109.27579063108465},{"$f":"INDEX(Database!E664:AW664,'Graph of Two Series'!$O$6)/G669","v":170.57737074790975},-1.1084788411652937]
[null,null,null,{"$f":"Database!D665","v":"2010-10-01"},true,{"$f":"IF($O$4,CHOOSE($U$4,1,Database!AI665,Database!AJ665,Database!AP665),1)","v":219.035},0.92913803342665646,"2010-10-01",{"$f":"INDEX(Database!E665:AW665,'Graph of Two Series'!$O$2)/G670","v":108.6706133722921},{"$f":"INDEX(Database!E665:AW665,'Graph of Two Series'!$O$6)/G670","v":168.95229164288813},-1.6250791050216264]
[null,null,null,{"$f":"Database!D666","v":"2010-11-01"},true,{"$f":"IF($O$4,CHOOSE($U$4,1,Database!AI666,Database!AJ666,Database!AP666),1)","v":219.59},0.93149232204971577,"2010-11-01",{"$f":"INDEX(Database!E666:AW666,'Graph of Two Series'!$O$2)/G671","v":107.98800765062163},{"$f":"INDEX(Database!E666:AW666,'Graph of Two Series'!$O$6)/G671","v":168.36424336263036},-0.58804828025776601]
[null,null,null,{"$f":"Database!D667","v":"2010-12-01"},true,{"$f":"IF($O$4,CHOOSE($U$4,1,Database!AI667,Database!AJ667,Database!AP667),1)","v":220.47200000000001},0.93523373207771276,"2010-12-01",{"$f":"INDEX(Database!E667:AW667,'Graph of Two Series'!$O$2)/G672","v":106.36913168112051},{"$f":"INDEX(Database!E667:AW667,'Graph of Two Series'!$O$6)/G672","v":167.36992543270802},-0.99431792992234591]
[null,null,null,{"$f":"Database!D668","v":"2011-01-01"},true,{"$f":"IF($O$4,CHOOSE($U$4,1,Database!AI668,Database!AJ668,Database!AP668),1)","v":221.148},0.93810129804021369,"2011-01-01",{"$f":"INDEX(Database!E668:AW668,'Graph of Two Series'!$O$2)/G673","v":105.77748928319498},{"$f":"INDEX(Database!E668:AW668,'Graph of Two Series'!$O$6)/G673","v":166.48521894839658},-0.88470648431143672]
[null,null,null,{"$f":"Database!D669","v":"2011-02-01"},true,{"$f":"IF($O$4,CHOOSE($U$4,1,Database!AI669,Database!AJ669,Database!AP669),1)","v":221.904},0.94130822092135402,"2011-02-01",{"$f":"INDEX(Database!E669:AW669,'Graph of Two Series'!$O$2)/G674","v":104.40788449059053},{"$f":"INDEX(Database!E669:AW669,'Graph of Two Series'!$O$6)/G674","v":165.10001351935972},-1.3852054290368585]
[null,null,null,{"$f":"Database!D670","v":"2011-03-01"},true,{"$f":"IF($O$4,CHOOSE($U$4,1,Database!AI670,Database!AJ670,Database!AP670),1)","v":223.04400000000001},0.94614405701196236,"2011-03-01",{"$f":"INDEX(Database!E670:AW670,'Graph of Two Series'!$O$2)/G675","v":102.71163178565665},{"$f":"INDEX(Database!E670:AW670,'Graph of Two Series'!$O$6)/G675","v":163.57974121697961},-1.520272302380107]
[null,null,null,{"$f":"Database!D671","v":"2011-04-01"},true,{"$f":"IF($O$4,CHOOSE($U$4,1,Database!AI671,Database!AJ671,Database!AP671),1)","v":224.06},0.95045388987867985,"2011-04-01",{"$f":"INDEX(Database!E671:AW671,'Graph of Two Series'!$O$2)/G676","v":101.49887440864055},{"$f":"INDEX(Database!E671:AW671,'Graph of Two Series'!$O$6)/G676","v":162.50130768544139},-1.0784335315382236]
[null,null,null,{"$f":"Database!D672","v":"2011-05-01"},true,{"$f":"IF($O$4,CHOOSE($U$4,1,Database!AI672,Database!AJ672,Database!AP672),1)","v":224.869},0.95388563671841853,"2011-05-01",{"$f":"INDEX(Database!E672:AW672,'Graph of Two Series'!$O$2)/G677","v":100.22165794306908},{"$f":"INDEX(Database!E672:AW672,'Graph of Two Series'!$O$6)/G677","v":161.42396328529054},-1.0773444001508494]
[null,null,null,{"$f":"Database!D673","v":"2011-06-01"},true,{"$f":"IF($O$4,CHOOSE($U$4,1,Database!AI673,Database!AJ673,Database!AP673),1)","v":224.84100000000001},0.95376686179689485,"2011-06-01",{"$f":"INDEX(Database!E673:AW673,'Graph of Two Series'!$O$2)/G678","v":100.30753198927242},{"$f":"INDEX(Database!E673:AW673,'Graph of Two Series'!$O$6)/G678","v":161.23437095547521},-0.18959232981532637]
[null,null,null,{"$f":"Database!D674","v":"2011-07-01"},true,{"$f":"IF($O$4,CHOOSE($U$4,1,Database!AI674,Database!AJ674,Database!AP674),1)","v":225.41900000000001},0.95621871553406301,"2011-07-01",{"$f":"INDEX(Database!E674:AW674,'Graph of Two Series'!$O$2)/G679","v":99.851632737258171},{"$f":"INDEX(Database!E674:AW674,'Graph of Two Series'!$O$6)/G679","v":160.56995905402826},-0.66441190144695383]
[null,null,null,{"$f":"Database!D675","v":"2011-08-01"},true,{"$f":"IF($O$4,CHOOSE($U$4,1,Database!AI675,Database!AJ675,Database!AP675),1)","v":226.08199999999999},0.95903113599728507,"2011-08-01",{"$f":"INDEX(Database!E675:AW675,'Graph of Two Series'!$O$2)/G680","v":99.245995700674996},{"$f":"INDEX(Database!E675:AW675,'Graph of Two Series'!$O$6)/G680","v":159.65070815014025},-0.91925090388801323]
[null,null,null,{"$f":"Database!D676","v":"2011-09-01"},true,{"$f":"IF($O$4,CHOOSE($U$4,1,Database!AI676,Database!AJ676,Database!AP676),1)","v":226.67599999999999},0.961550861118181,"2011-09-01",{"$f":"INDEX(Database!E676:AW676,'Graph of Two Series'!$O$2)/G681","v":97.550742028269426},{"$f":"INDEX(Database!E676:AW676,'Graph of Two Series'!$O$6)/G681","v":158.62915438776051},-1.0215537623797388]
[null,null,null,{"$f":"Database!D677","v":"2011-10-01"},true,{"$f":"IF($O$4,CHOOSE($U$4,1,Database!AI677,Database!AJ677,Database!AP677),1)","v":226.81100000000001},0.96212352591838468,"2011-10-01",{"$f":"INDEX(Database!E677:AW677,'Graph of Two Series'!$O$2)/G682","v":95.995989612496743},{"$f":"INDEX(Database!E677:AW677,'Graph of Two Series'!$O$6)/G682","v":157.68245543646472},-0.94669895129578663]
[null,null,null,{"$f":"Database!D678","v":"2011-11-01"},true,{"$f":"IF($O$4,CHOOSE($U$4,1,Database!AI678,Database!AJ678,Database!AP678),1)","v":227.15700000000001},0.96359124459149914,"2011-11-01",{"$f":"INDEX(Database!E678:AW678,'Graph of Two Series'!$O$2)/G683","v":94.863875645478672},{"$f":"INDEX(Database!E678:AW678,'Graph of Two Series'!$O$6)/G683","v":156.63280550456292},-1.0496499319017971]
[null,null,null,{"$f":"Database!D679","v":"2011-12-01"},true,{"$f":"IF($O$4,CHOOSE($U$4,1,Database!AI679,Database!AJ679,Database!AP679),1)","v":227.14500000000001},0.96354034105370323,"2011-12-01",{"$f":"INDEX(Database!E679:AW679,'Graph of Two Series'!$O$2)/G684","v":94.13202139602457},{"$f":"INDEX(Database!E679:AW679,'Graph of Two Series'!$O$6)/G684","v":155.96648484448261},-0.66632066008031643]
[null,null,null,{"$f":"Database!D680","v":"2012-01-01"},true,{"$f":"IF($O$4,CHOOSE($U$4,1,Database!AI680,Database!AJ680,Database!AP680),1)","v":227.75899999999999},0.96614490540425879,"2012-01-01",{"$f":"INDEX(Database!E680:AW680,'Graph of Two Series'!$O$2)/G685","v":93.40213822505369},{"$f":"INDEX(Database!E680:AW680,'Graph of Two Series'!$O$6)/G685","v":155.24586339068932},-0.72062145379328513]
[null,null,null,{"$f":"Database!D681","v":"2012-02-01"},true,{"$f":"IF($O$4,CHOOSE($U$4,1,Database!AI681,Database!AJ681,Database!AP681),1)","v":228.285},0.96837617714431146,"2012-02-01",{"$f":"INDEX(Database!E681:AW681,'Graph of Two Series'!$O$2)/G686","v":92.815170510546025},{"$f":"INDEX(Database!E681:AW681,'Graph of Two Series'!$O$6)/G686","v":154.56803206518171},-0.67783132550761138]
[null,null,null,{"$f":"Database!D682","v":"2012-03-01"},true,{"$f":"IF($O$4,CHOOSE($U$4,1,Database!AI682,Database!AJ682,Database!AP682),1)","v":228.86600000000001},0.97084075676592863,"2012-03-01",{"$f":"INDEX(Database!E682:AW682,'Graph of Two Series'!$O$2)/G687","v":92.569249255022584},{"$f":"INDEX(Database!E682:AW682,'Graph of Two Series'!$O$6)/G687","v":154.79366616273276},0.22563409755105113]
[null,null,null,{"$f":"Database!D683","v":"2012-04-01"},true,{"$f":"IF($O$4,CHOOSE($U$4,1,Database!AI683,Database!AJ683,Database!AP683),1)","v":229.172},0.97213879697972339,"2012-04-01",{"$f":"INDEX(Database!E683:AW683,'Graph of Two Series'!$O$2)/G688","v":93.443446843418926},{"$f":"INDEX(Database!E683:AW683,'Graph of Two Series'!$O$6)/G688","v":155.28646780584018},0.4928016431074127]
[null,null,null,{"$f":"Database!D684","v":"2012-05-01"},true,{"$f":"IF($O$4,CHOOSE($U$4,1,Database!AI684,Database!AJ684,Database!AP684),1)","v":228.785},0.97049715788580637,"2012-05-01",{"$f":"INDEX(Database!E684:AW684,'Graph of Two Series'!$O$2)/G689","v":95.363494110190786},{"$f":"INDEX(Database!E684:AW684,'Graph of Two Series'!$O$6)/G689","v":156.83714142098478},1.5506736151446034]
[null,null,null,{"$f":"Database!D685","v":"2012-06-01"},true,{"$f":"IF($O$4,CHOOSE($U$4,1,Database!AI685,Database!AJ685,Database!AP685),1)","v":228.626},0.96982268601001098,"2012-06-01",{"$f":"INDEX(Database!E685:AW685,'Graph of Two Series'!$O$2)/G690","v":96.863067192707746},{"$f":"INDEX(Database!E685:AW685,'Graph of Two Series'!$O$6)/G690","v":158.42071155511621},1.5835701341314348]
[null,null,null,{"$f":"Database!D686","v":"2012-07-01"},true,{"$f":"IF($O$4,CHOOSE($U$4,1,Database!AI686,Database!AJ686,Database!AP686),1)","v":228.584},0.96964452362772546,"2012-07-01",{"$f":"INDEX(Database!E686:AW686,'Graph of Two Series'!$O$2)/G691","v":97.530587442690646},{"$f":"INDEX(Database!E686:AW686,'Graph of Two Series'!$O$6)/G691","v":159.0582901690407},0.63757861392448945]
[null,null,null,{"$f":"Database!D687","v":"2012-08-01"},true,{"$f":"IF($O$4,CHOOSE($U$4,1,Database!AI687,Database!AJ687,Database!AP687),1)","v":229.911},0.97527360651565276,"2012-08-01",{"$f":"INDEX(Database!E687:AW687,'Graph of Two Series'!$O$2)/G692","v":98.464676331276024},{"$f":"INDEX(Database!E687:AW687,'Graph of Two Series'!$O$6)/G692","v":158.90925271083159},-0.14903745820910785]
[null,null,null,{"$f":"Database!D688","v":"2012-09-01"},true,{"$f":"IF($O$4,CHOOSE($U$4,1,Database!AI688,Database!AJ688,Database!AP688),1)","v":231.10400000000001},0.98033426656485956,"2012-09-01",{"$f":"INDEX(Database!E688:AW688,'Graph of Two Series'!$O$2)/G693","v":99.333465452783159},{"$f":"INDEX(Database!E688:AW688,'Graph of Two Series'!$O$6)/G693","v":158.89478243561342},-1.4470275218172901E-2]
[null,null,null,{"$f":"Database!D689","v":"2012-10-01"},true,{"$f":"IF($O$4,CHOOSE($U$4,1,Database!AI689,Database!AJ689,Database!AP689),1)","v":231.74100000000001},0.98303639602952408,"2012-10-01",{"$f":"INDEX(Database!E689:AW689,'Graph of Two Series'!$O$2)/G694","v":101.86804924463085},{"$f":"INDEX(Database!E689:AW689,'Graph of Two Series'!$O$6)/G694","v":159.52613823190543},0.63135579629201288]
[null,null,null,{"$f":"Database!D690","v":"2012-11-01"},true,{"$f":"IF($O$4,CHOOSE($U$4,1,Database!AI690,Database!AJ690,Database!AP690),1)","v":231.202},0.98074997879019254,"2012-11-01",{"$f":"INDEX(Database!E690:AW690,'Graph of Two Series'!$O$2)/G695","v":102.53377738946895},{"$f":"INDEX(Database!E690:AW690,'Graph of Two Series'!$O$6)/G695","v":161.04002387522598},1.513885643320549]
[null,null,null,{"$f":"Database!D691","v":"2012-12-01"},true,{"$f":"IF($O$4,CHOOSE($U$4,1,Database!AI691,Database!AJ691,Database!AP691),1)","v":231.16499999999999},0.98059302621532185,"2012-12-01",{"$f":"INDEX(Database!E691:AW691,'Graph of Two Series'!$O$2)/G696","v":104.4368022840828},{"$f":"INDEX(Database!E691:AW691,'Graph of Two Series'!$O$6)/G696","v":162.71786126792554},1.6778373926995584]
[null,null,null,{"$f":"Database!D692","v":"2013-01-01"},true,{"$f":"IF($O$4,CHOOSE($U$4,1,Database!AI692,Database!AJ692,Database!AP692),1)","v":231.44399999999999},0.98177653346907601,"2013-01-01",{"$f":"INDEX(Database!E692:AW692,'Graph of Two Series'!$O$2)/G697","v":105.97116192253851},{"$f":"INDEX(Database!E692:AW692,'Graph of Two Series'!$O$6)/G697","v":163.95788095608444},1.2400196881588954]
[null,null,null,{"$f":"Database!D693","v":"2013-02-01"},true,{"$f":"IF($O$4,CHOOSE($U$4,1,Database!AI693,Database!AJ693,Database!AP693),1)","v":232.803},0.98754135912445906,"2013-02-01",{"$f":"INDEX(Database!E693:AW693,'Graph of Two Series'!$O$2)/G698","v":106.79046404041185},{"$f":"INDEX(Database!E693:AW693,'Graph of Two Series'!$O$6)/G698","v":164.53994407288567},0.5820631168012369]
[null,null,null,{"$f":"Database!D694","v":"2013-03-01"},true,{"$f":"IF($O$4,CHOOSE($U$4,1,Database!AI694,Database!AJ694,Database!AP694),1)","v":232.245},0.98517434461695086,"2013-03-01",{"$f":"INDEX(Database!E694:AW694,'Graph of Two Series'!$O$2)/G699","v":109.99068397597365},{"$f":"INDEX(Database!E694:AW694,'Graph of Two Series'!$O$6)/G699","v":167.82816250080734},3.2882184279216631]
[null,null,null,{"$f":"Database!D695","v":"2013-04-01"},true,{"$f":"IF($O$4,CHOOSE($U$4,1,Database!AI695,Database!AJ695,Database!AP695),1)","v":231.672},0.98274370068719774,"2013-04-01",{"$f":"INDEX(Database!E695:AW695,'Graph of Two Series'!$O$2)/G700","v":112.99996115197348},{"$f":"INDEX(Database!E695:AW695,'Graph of Two Series'!$O$6)/G700","v":170.9906661141614},3.1625036133540618]
[null,null,null,{"$f":"Database!D696","v":"2013-05-01"},true,{"$f":"IF($O$4,CHOOSE($U$4,1,Database!AI696,Database!AJ696,Database!AP696),1)","v":231.99},0.98409264443878852,"2013-05-01",{"$f":"INDEX(Database!E696:AW696,'Graph of Two Series'!$O$2)/G701","v":115.93420664683822},{"$f":"INDEX(Database!E696:AW696,'Graph of Two Series'!$O$6)/G701","v":172.5752153110048},1.5845491968433976]
[null,null,null,{"$f":"Database!D697","v":"2013-06-01"},true,{"$f":"IF($O$4,CHOOSE($U$4,1,Database!AI697,Database!AJ697,Database!AP697),1)","v":232.583},0.98660812759820138,"2013-06-01",{"$f":"INDEX(Database!E697:AW697,'Graph of Two Series'!$O$2)/G702","v":118.8719175520137},{"$f":"INDEX(Database!E697:AW697,'Graph of Two Series'!$O$6)/G702","v":173.86842374550162},1.2932084344968189]
[null,null,null,{"$f":"Database!D698","v":"2013-07-01"},true,{"$f":"IF($O$4,CHOOSE($U$4,1,Database!AI698,Database!AJ698,Database!AP698),1)","v":232.98},0.98829218630694826,"2013-07-01",{"$f":"INDEX(Database!E698:AW698,'Graph of Two Series'!$O$2)/G703","v":122.00845222765903},{"$f":"INDEX(Database!E698:AW698,'Graph of Two Series'!$O$6)/G703","v":174.99885397888229},1.1304302333806788]
[null,null,null,{"$f":"Database!D699","v":"2013-08-01"},true,{"$f":"IF($O$4,CHOOSE($U$4,1,Database!AI699,Database!AJ699,Database!AP699),1)","v":233.41300000000001},0.99012895562908287,"2013-08-01",{"$f":"INDEX(Database!E699:AW699,'Graph of Two Series'!$O$2)/G704","v":125.32710945834208},{"$f":"INDEX(Database!E699:AW699,'Graph of Two Series'!$O$6)/G704","v":176.43156379464725},1.4327098157649516]
[null,null,null,{"$f":"Database!D700","v":"2013-09-01"},true,{"$f":"IF($O$4,CHOOSE($U$4,1,Database!AI700,Database!AJ700,Database!AP700),1)","v":233.773},0.99165606176295917,"2013-09-01",{"$f":"INDEX(Database!E700:AW700,'Graph of Two Series'!$O$2)/G705","v":126.79799463582192},{"$f":"INDEX(Database!E700:AW700,'Graph of Two Series'!$O$6)/G705","v":177.90442352196359},1.4728597273163473]
[null,null,null,{"$f":"Database!D701","v":"2013-10-01"},true,{"$f":"IF($O$4,CHOOSE($U$4,1,Database!AI701,Database!AJ701,Database!AP701),1)","v":233.90299999999999},0.99220751675574781,"2013-10-01",{"$f":"INDEX(Database!E701:AW701,'Graph of Two Series'!$O$2)/G706","v":128.22922408006738},{"$f":"INDEX(Database!E701:AW701,'Graph of Two Series'!$O$6)/G706","v":179.61968337302216},1.7152598510585619]
[null,null,null,{"$f":"Database!D702","v":"2013-11-01"},true,{"$f":"IF($O$4,CHOOSE($U$4,1,Database!AI702,Database!AJ702,Database!AP702),1)","v":234.03800000000001},0.99278018155595149,"2013-11-01",{"$f":"INDEX(Database!E702:AW702,'Graph of Two Series'!$O$2)/G707","v":128.93085738213452},{"$f":"INDEX(Database!E702:AW702,'Graph of Two Series'!$O$6)/G707","v":181.2485818542288},1.6288984812066474]
[null,null,null,{"$f":"Database!D703","v":"2013-12-01"},true,{"$f":"IF($O$4,CHOOSE($U$4,1,Database!AI703,Database!AJ703,Database!AP703),1)","v":234.697},0.99557563417324169,"2013-12-01",{"$f":"INDEX(Database!E703:AW703,'Graph of Two Series'!$O$2)/G708","v":129.10119089719936},{"$f":"INDEX(Database!E703:AW703,'Graph of Two Series'!$O$6)/G708","v":182.09565780559615},0.84707595136734426]
[null,null,null,{"$f":"Database!D704","v":"2014-01-01"},true,{"$f":"IF($O$4,CHOOSE($U$4,1,Database!AI704,Database!AJ704,Database!AP704),1)","v":235.12799999999999},0.99740391957241015,"2014-01-01",{"$f":"INDEX(Database!E704:AW704,'Graph of Two Series'!$O$2)/G709","v":130.26818668980303},{"$f":"INDEX(Database!E704:AW704,'Graph of Two Series'!$O$6)/G709","v":183.23569460038789},1.1400367947917402]
[null,null,null,{"$f":"Database!D705","v":"2014-02-01"},true,{"$f":"IF($O$4,CHOOSE($U$4,1,Database!AI705,Database!AJ705,Database!AP705),1)","v":235.35599999999999},0.99837108679053188,"2014-02-01",{"$f":"INDEX(Database!E705:AW705,'Graph of Two Series'!$O$2)/G710","v":130.06185948095651},{"$f":"INDEX(Database!E705:AW705,'Graph of Two Series'!$O$6)/G710","v":184.11991536225972},0.88422076187183052]
[null,null,null,{"$f":"Database!D706","v":"2014-03-01"},true,{"$f":"IF($O$4,CHOOSE($U$4,1,Database!AI706,Database!AJ706,Database!AP706),1)","v":235.79},1.0002120980741493,"2014-03-01",{"$f":"INDEX(Database!E706:AW706,'Graph of Two Series'!$O$2)/G711","v":131.252161669282},{"$f":"INDEX(Database!E706:AW706,'Graph of Two Series'!$O$6)/G711","v":186.11052631578951},1.9906109535297958]
[null,null,null,{"$f":"Database!D707","v":"2014-04-01"},true,{"$f":"IF($O$4,CHOOSE($U$4,1,Database!AI707,Database!AJ707,Database!AP707),1)","v":236.24},1.0021209807414948,"2014-04-01",{"$f":"INDEX(Database!E707:AW707,'Graph of Two Series'!$O$2)/G712","v":131.60087707416187},{"$f":"INDEX(Database!E707:AW707,'Graph of Two Series'!$O$6)/G712","v":185.83584575008467},-0.27468056570484123]
[null,null,null,{"$f":"Database!D708","v":"2014-05-01"},true,{"$f":"IF($O$4,CHOOSE($U$4,1,Database!AI708,Database!AJ708,Database!AP708),1)","v":236.95},1.0051327733944175,"2014-05-01",{"$f":"INDEX(Database!E708:AW708,'Graph of Two Series'!$O$2)/G713","v":132.60934627558555},{"$f":"INDEX(Database!E708:AW708,'Graph of Two Series'!$O$6)/G713","v":184.66217092213549},-1.1736748279491849]
[null,null,null,{"$f":"Database!D709","v":"2014-06-01"},true,{"$f":"IF($O$4,CHOOSE($U$4,1,Database!AI709,Database!AJ709,Database!AP709),1)","v":237.34800000000001},1.0068210740646475,"2014-06-01",{"$f":"INDEX(Database!E709:AW709,'Graph of Two Series'!$O$2)/G714","v":134.154919358916},{"$f":"INDEX(Database!E709:AW709,'Graph of Two Series'!$O$6)/G714","v":184.12407604024469},-0.53809488189079957]
[null,null,null,{"$f":"Database!D710","v":"2014-07-01"},true,{"$f":"IF($O$4,CHOOSE($U$4,1,Database!AI710,Database!AJ710,Database!AP710),1)","v":237.596},1.007873080512429,"2014-07-01",{"$f":"INDEX(Database!E710:AW710,'Graph of Two Series'!$O$2)/G715","v":134.86817202309803},{"$f":"INDEX(Database!E710:AW710,'Graph of Two Series'!$O$6)/G715","v":183.19766999444434},-0.92640604580034847]
[null,null,null,{"$f":"Database!D711","v":"2014-08-01"},true,{"$f":"IF($O$4,CHOOSE($U$4,1,Database!AI711,Database!AJ711,Database!AP711),1)","v":237.40899999999999},1.0070798337151099,"2014-08-01",{"$f":"INDEX(Database!E711:AW711,'Graph of Two Series'!$O$2)/G716","v":135.69927172095413},{"$f":"INDEX(Database!E711:AW711,'Graph of Two Series'!$O$6)/G716","v":183.08379716017504},-0.11387283426930139]
[null,null,null,{"$f":"Database!D712","v":"2014-09-01"},true,{"$f":"IF($O$4,CHOOSE($U$4,1,Database!AI712,Database!AJ712,Database!AP712),1)","v":237.626},{"$f":"F717/$G$5","v":1.0080003393569186},{"$f":"IF(E717,D717,NA())","v":"2014-09-01"},{"$f":"INDEX(Database!E712:AW712,'Graph of Two Series'!$O$2)/G717","v":136.16066844537215},{"$f":"INDEX(Database!E712:AW712,'Graph of Two Series'!$O$6)/G717","v":183.28366845378875},0.19987129361371103]
[null,null,null,{"$f":"Database!D713","v":"2014-10-01"},{"$f":"AND($D718>=E$11,$D718<=E$12)","v":true},{"$f":"IF($O$4,CHOOSE($U$4,1,Database!AI713,Database!AJ713,Database!AP713),1)","v":237.75299999999999},1.0085390684652582,"2014-10-01",{"$f":"INDEX(Database!E713:AW713,'Graph of Two Series'!$O$2)/G718","v":136.17717378960521},{"$f":"INDEX(Database!E713:AW713,'Graph of Two Series'!$O$6)/G718","v":184.42518075481701},1.1415123010282571]
[null,null,null,{"$f":"Database!D714","v":"2014-11-01"},true,{"$f":"IF($O$4,CHOOSE($U$4,1,Database!AI714,Database!AJ714,Database!AP714),1)","v":237.06700000000001},1.0056290828879273,"2014-11-01",{"$f":"INDEX(Database!E714:AW714,'Graph of Two Series'!$O$2)/G719","v":137.07837446797743},{"$f":"INDEX(Database!E714:AW714,'Graph of Two Series'!$O$6)/G719","v":186.39079078910183},{"$f":"J719-J718","v":1.9656100342848219}]
[null,null,null,{"$f":"Database!D715","v":"2014-12-01"},true,{"$f":"IF($O$4,CHOOSE($U$4,1,Database!AI715,Database!AJ715,Database!AP715),1)","v":236.28399999999999},1.0023076270467464,"2014-12-01",{"$f":"INDEX(Database!E715:AW715,'Graph of Two Series'!$O$2)/G720","v":137.09363901068207},{"$f":"INDEX(Database!E715:AW715,'Graph of Two Series'!$O$6)/G720","v":188.70454029896226},2.313749509860429]
[null,null,null,{"$f":"Database!D716","v":"2015-01-01"},true,{"$f":"IF($O$4,CHOOSE($U$4,1,Database!AI716,Database!AJ716,Database!AP716),1)","v":234.67699999999999},0.99549079494358184,"2015-01-01",{"$f":"INDEX(Database!E716:AW716,'Graph of Two Series'!$O$2)/G721","v":138.26345828521755},{"$f":"INDEX(Database!E716:AW716,'Graph of Two Series'!$O$6)/G721","v":191.66425342065907},2.959713121696808]
[null,null,null,{"$f":"Database!D717","v":"2015-02-01"},true,{"$f":"IF($O$4,CHOOSE($U$4,1,Database!AI717,Database!AJ717,Database!AP717),1)","v":235.18600000000001},0.99764995333842366,"2015-02-01",{"$f":"INDEX(Database!E717:AW717,'Graph of Two Series'!$O$2)/G722","v":137.96422236017449},{"$f":"INDEX(Database!E717:AW717,'Graph of Two Series'!$O$6)/G722","v":191.24944512003268},-0.41480830062639029]
[null,null,null,{"$f":"Database!D718","v":"2015-03-01"},true,{"$f":"IF($O$4,CHOOSE($U$4,1,Database!AI718,Database!AJ718,Database!AP718),1)","v":235.74},1,"2015-03-01",{"$f":"INDEX(Database!E718:AW718,'Graph of Two Series'!$O$2)/G723","v":137.63999999999999},{"$f":"INDEX(Database!E718:AW718,'Graph of Two Series'!$O$6)/G723","v":190.8},-0.44944512003266368]
[null,null,null,{"$f":"Database!D719","v":"2015-04-01"},true,{"$f":"IF($O$4,CHOOSE($U$4,1,Database!AI719,Database!AJ719,Database!AP719),1)","v":235.74},1,"2015-04-01",{"$f":"INDEX(Database!E719:AW719,'Graph of Two Series'!$O$2)/G724","v":137.63999999999999},{"$f":"INDEX(Database!E719:AW719,'Graph of Two Series'!$O$6)/G724","v":190.8},0]
[null,null,null,{"$f":"Database!D720","v":"2015-05-01"},false,{"$f":"IF($O$4,CHOOSE($U$4,1,Database!AI720,Database!AJ720,Database!AP720),1)","v":235.74},1,{"$error":"#N/A"},{"$f":"INDEX(Database!E720:AW720,'Graph of Two Series'!$O$2)/G725","v":137.63999999999999},{"$f":"INDEX(Database!E720:AW720,'Graph of Two Series'!$O$6)/G725","v":190.8},0]
[null,null,null,{"$f":"Database!D721","v":"2015-06-01"},false,{"$f":"IF($O$4,CHOOSE($U$4,1,Database!AI721,Database!AJ721,Database!AP721),1)","v":235.74},1,{"$error":"#N/A"},{"$f":"INDEX(Database!E721:AW721,'Graph of Two Series'!$O$2)/G726","v":137.63999999999999},{"$f":"INDEX(Database!E721:AW721,'Graph of Two Series'!$O$6)/G726","v":190.8},0]
[null,null,null,{"$f":"Database!D722","v":"2015-07-01"},false,{"$f":"IF($O$4,CHOOSE($U$4,1,Database!AI722,Database!AJ722,Database!AP722),1)","v":235.74},1,{"$error":"#N/A"},{"$f":"INDEX(Database!E722:AW722,'Graph of Two Series'!$O$2)/G727","v":137.63999999999999},{"$f":"INDEX(Database!E722:AW722,'Graph of Two Series'!$O$6)/G727","v":190.8},0]
[null,null,null,{"$f":"Database!D723","v":"2015-08-01"},false,{"$f":"IF($O$4,CHOOSE($U$4,1,Database!AI723,Database!AJ723,Database!AP723),1)","v":235.74},1,{"$error":"#N/A"},{"$f":"INDEX(Database!E723:AW723,'Graph of Two Series'!$O$2)/G728","v":137.63999999999999},{"$f":"INDEX(Database!E723:AW723,'Graph of Two Series'!$O$6)/G728","v":190.8},0]
[null,null,null,{"$f":"Database!D724","v":"2015-09-01"},false,{"$f":"IF($O$4,CHOOSE($U$4,1,Database!AI724,Database!AJ724,Database!AP724),1)","v":235.74},1,{"$error":"#N/A"},{"$f":"INDEX(Database!E724:AW724,'Graph of Two Series'!$O$2)/G729","v":137.63999999999999},{"$f":"INDEX(Database!E724:AW724,'Graph of Two Series'!$O$6)/G729","v":190.8},0]
[null,null,null,{"$f":"Database!D725","v":"2015-10-01"},false,{"$f":"IF($O$4,CHOOSE($U$4,1,Database!AI725,Database!AJ725,Database!AP725),1)","v":235.74},1,{"$error":"#N/A"},{"$f":"INDEX(Database!E725:AW725,'Graph of Two Series'!$O$2)/G730","v":137.63999999999999},{"$f":"INDEX(Database!E725:AW725,'Graph of Two Series'!$O$6)/G730","v":190.8},0]
[null,null,null,{"$f":"Database!D726","v":"2015-11-01"},false,{"$f":"IF($O$4,CHOOSE($U$4,1,Database!AI726,Database!AJ726,Database!AP726),1)","v":235.74},1,{"$error":"#N/A"},{"$f":"INDEX(Database!E726:AW726,'Graph of Two Series'!$O$2)/G731","v":137.63999999999999},{"$f":"INDEX(Database!E726:AW726,'Graph of Two Series'!$O$6)/G731","v":190.8},0]
[null,null,null,{"$f":"Database!D727","v":"2015-12-01"},false,{"$f":"IF($O$4,CHOOSE($U$4,1,Database!AI727,Database!AJ727,Database!AP727),1)","v":235.74},1,{"$error":"#N/A"},{"$f":"INDEX(Database!E727:AW727,'Graph of Two Series'!$O$2)/G732","v":137.63999999999999},{"$f":"INDEX(Database!E727:AW727,'Graph of Two Series'!$O$6)/G732","v":190.8},0]
[null,null,null,{"$f":"Database!D728","v":"2016-01-01"},false,{"$f":"IF($O$4,CHOOSE($U$4,1,Database!AI728,Database!AJ728,Database!AP728),1)","v":235.74},1,{"$error":"#N/A"},{"$f":"INDEX(Database!E728:AW728,'Graph of Two Series'!$O$2)/G733","v":137.63999999999999},{"$f":"INDEX(Database!E728:AW728,'Graph of Two Series'!$O$6)/G733","v":190.8},0]
[null,null,null,{"$f":"Database!D729","v":"2016-02-01"},false,{"$f":"IF($O$4,CHOOSE($U$4,1,Database!AI729,Database!AJ729,Database!AP729),1)","v":235.74},1,{"$error":"#N/A"},{"$f":"INDEX(Database!E729:AW729,'Graph of Two Series'!$O$2)/G734","v":137.63999999999999},{"$f":"INDEX(Database!E729:AW729,'Graph of Two Series'!$O$6)/G734","v":190.8},0]
[null,null,null,{"$f":"Database!D730","v":"2016-03-01"},false,{"$f":"IF($O$4,CHOOSE($U$4,1,Database!AI730,Database!AJ730,Database!AP730),1)","v":235.74},1,{"$error":"#N/A"},{"$f":"INDEX(Database!E730:AW730,'Graph of Two Series'!$O$2)/G735","v":137.63999999999999},{"$f":"INDEX(Database!E730:AW730,'Graph of Two Series'!$O$6)/G735","v":190.8},0]
[null,null,null,{"$f":"Database!D731","v":"2016-04-01"},false,{"$f":"IF($O$4,CHOOSE($U$4,1,Database!AI731,Database!AJ731,Database!AP731),1)","v":235.74},1,{"$error":"#N/A"},{"$f":"INDEX(Database!E731:AW731,'Graph of Two Series'!$O$2)/G736","v":137.63999999999999},{"$f":"INDEX(Database!E731:AW731,'Graph of Two Series'!$O$6)/G736","v":190.8},0]
[null,null,null,{"$f":"Database!D732","v":"2016-05-01"},false,{"$f":"IF($O$4,CHOOSE($U$4,1,Database!AI732,Database!AJ732,Database!AP732),1)","v":235.74},1,{"$error":"#N/A"},{"$f":"INDEX(Database!E732:AW732,'Graph of Two Series'!$O$2)/G737","v":137.63999999999999},{"$f":"INDEX(Database!E732:AW732,'Graph of Two Series'!$O$6)/G737","v":190.8},0]
[null,null,null,{"$f":"Database!D733","v":"2016-06-01"},false,{"$f":"IF($O$4,CHOOSE($U$4,1,Database!AI733,Database!AJ733,Database!AP733),1)","v":235.74},1,{"$error":"#N/A"},{"$f":"INDEX(Database!E733:AW733,'Graph of Two Series'!$O$2)/G738","v":137.63999999999999},{"$f":"INDEX(Database!E733:AW733,'Graph of Two Series'!$O$6)/G738","v":190.8},0]
[null,null,null,{"$f":"Database!D734","v":"2016-07-01"},false,{"$f":"IF($O$4,CHOOSE($U$4,1,Database!AI734,Database!AJ734,Database!AP734),1)","v":235.74},1,{"$error":"#N/A"},{"$f":"INDEX(Database!E734:AW734,'Graph of Two Series'!$O$2)/G739","v":137.63999999999999},{"$f":"INDEX(Database!E734:AW734,'Graph of Two Series'!$O$6)/G739","v":190.8},0]
[null,null,null,{"$f":"Database!D735","v":"2016-08-01"},false,{"$f":"IF($O$4,CHOOSE($U$4,1,Database!AI735,Database!AJ735,Database!AP735),1)","v":235.74},1,{"$error":"#N/A"},{"$f":"INDEX(Database!E735:AW735,'Graph of Two Series'!$O$2)/G740","v":137.63999999999999},{"$f":"INDEX(Database!E735:AW735,'Graph of Two Series'!$O$6)/G740","v":190.8},0]
[null,null,null,{"$f":"Database!D736","v":"2016-09-01"},false,{"$f":"IF($O$4,CHOOSE($U$4,1,Database!AI736,Database!AJ736,Database!AP736),1)","v":235.74},1,{"$error":"#N/A"},{"$f":"INDEX(Database!E736:AW736,'Graph of Two Series'!$O$2)/G741","v":137.63999999999999},{"$f":"INDEX(Database!E736:AW736,'Graph of Two Series'!$O$6)/G741","v":190.8},0]
[null,null,null,{"$f":"Database!D737","v":"2016-10-01"},false,{"$f":"IF($O$4,CHOOSE($U$4,1,Database!AI737,Database!AJ737,Database!AP737),1)","v":235.74},1,{"$error":"#N/A"},{"$f":"INDEX(Database!E737:AW737,'Graph of Two Series'!$O$2)/G742","v":137.63999999999999},{"$f":"INDEX(Database!E737:AW737,'Graph of Two Series'!$O$6)/G742","v":190.8},0]
[null,null,null,{"$f":"Database!D738","v":"2016-11-01"},false,{"$f":"IF($O$4,CHOOSE($U$4,1,Database!AI738,Database!AJ738,Database!AP738),1)","v":235.74},1,{"$error":"#N/A"},{"$f":"INDEX(Database!E738:AW738,'Graph of Two Series'!$O$2)/G743","v":137.63999999999999},{"$f":"INDEX(Database!E738:AW738,'Graph of Two Series'!$O$6)/G743","v":190.8},0]
[null,null,null,{"$f":"Database!D739","v":"2016-12-01"},false,{"$f":"IF($O$4,CHOOSE($U$4,1,Database!AI739,Database!AJ739,Database!AP739),1)","v":235.74},1,{"$error":"#N/A"},{"$f":"INDEX(Database!E739:AW739,'Graph of Two Series'!$O$2)/G744","v":137.63999999999999},{"$f":"INDEX(Database!E739:AW739,'Graph of Two Series'!$O$6)/G744","v":190.8},0]
[null,null,null,{"$f":"Database!D740","v":"2017-01-01"},false,{"$f":"IF($O$4,CHOOSE($U$4,1,Database!AI740,Database!AJ740,Database!AP740),1)","v":235.74},1,{"$error":"#N/A"},{"$f":"INDEX(Database!E740:AW740,'Graph of Two Series'!$O$2)/G745","v":137.63999999999999},{"$f":"INDEX(Database!E740:AW740,'Graph of Two Series'!$O$6)/G745","v":190.8},0]
[null,null,null,{"$f":"Database!D741","v":"2017-02-01"},false,{"$f":"IF($O$4,CHOOSE($U$4,1,Database!AI741,Database!AJ741,Database!AP741),1)","v":235.74},1,{"$error":"#N/A"},{"$f":"INDEX(Database!E741:AW741,'Graph of Two Series'!$O$2)/G746","v":137.63999999999999},{"$f":"INDEX(Database!E741:AW741,'Graph of Two Series'!$O$6)/G746","v":190.8},0]
[null,null,null,{"$f":"Database!D742","v":"2017-03-01"},false,{"$f":"IF($O$4,CHOOSE($U$4,1,Database!AI742,Database!AJ742,Database!AP742),1)","v":235.74},1,{"$error":"#N/A"},{"$f":"INDEX(Database!E742:AW742,'Graph of Two Series'!$O$2)/G747","v":137.63999999999999},{"$f":"INDEX(Database!E742:AW742,'Graph of Two Series'!$O$6)/G747","v":190.8},0]
[null,null,null,{"$f":"Database!D743","v":"2017-04-01"},false,{"$f":"IF($O$4,CHOOSE($U$4,1,Database!AI743,Database!AJ743,Database!AP743),1)","v":235.74},1,{"$error":"#N/A"},{"$f":"INDEX(Database!E743:AW743,'Graph of Two Series'!$O$2)/G748","v":137.63999999999999},{"$f":"INDEX(Database!E743:AW743,'Graph of Two Series'!$O$6)/G748","v":190.8},0]
[null,null,null,{"$f":"Database!D744","v":"2017-05-01"},false,{"$f":"IF($O$4,CHOOSE($U$4,1,Database!AI744,Database!AJ744,Database!AP744),1)","v":235.74},1,{"$error":"#N/A"},{"$f":"INDEX(Database!E744:AW744,'Graph of Two Series'!$O$2)/G749","v":137.63999999999999},{"$f":"INDEX(Database!E744:AW744,'Graph of Two Series'!$O$6)/G749","v":190.8},0]
[null,null,null,{"$f":"Database!D745","v":"2017-06-01"},false,{"$f":"IF($O$4,CHOOSE($U$4,1,Database!AI745,Database!AJ745,Database!AP745),1)","v":235.74},1,{"$error":"#N/A"},{"$f":"INDEX(Database!E745:AW745,'Graph of Two Series'!$O$2)/G750","v":137.63999999999999},{"$f":"INDEX(Database!E745:AW745,'Graph of Two Series'!$O$6)/G750","v":190.8},0]
[null,null,null,{"$f":"Database!D746","v":"2017-07-01"},false,{"$f":"IF($O$4,CHOOSE($U$4,1,Database!AI746,Database!AJ746,Database!AP746),1)","v":235.74},1,{"$error":"#N/A"},{"$f":"INDEX(Database!E746:AW746,'Graph of Two Series'!$O$2)/G751","v":137.63999999999999},{"$f":"INDEX(Database!E746:AW746,'Graph of Two Series'!$O$6)/G751","v":190.8},0]
[null,null,null,{"$f":"Database!D747","v":"2017-08-01"},false,{"$f":"IF($O$4,CHOOSE($U$4,1,Database!AI747,Database!AJ747,Database!AP747),1)","v":235.74},1,{"$error":"#N/A"},{"$f":"INDEX(Database!E747:AW747,'Graph of Two Series'!$O$2)/G752","v":137.63999999999999},{"$f":"INDEX(Database!E747:AW747,'Graph of Two Series'!$O$6)/G752","v":190.8},0]
[null,null,null,{"$f":"Database!D748","v":"2017-09-01"},false,{"$f":"IF($O$4,CHOOSE($U$4,1,Database!AI748,Database!AJ748,Database!AP748),1)","v":235.74},1,{"$error":"#N/A"},{"$f":"INDEX(Database!E748:AW748,'Graph of Two Series'!$O$2)/G753","v":137.63999999999999},{"$f":"INDEX(Database!E748:AW748,'Graph of Two Series'!$O$6)/G753","v":190.8},0]
[null,null,null,{"$f":"Database!D749","v":"2017-10-01"},false,{"$f":"IF($O$4,CHOOSE($U$4,1,Database!AI749,Database!AJ749,Database!AP749),1)","v":235.74},1,{"$error":"#N/A"},{"$f":"INDEX(Database!E749:AW749,'Graph of Two Series'!$O$2)/G754","v":137.63999999999999},{"$f":"INDEX(Database!E749:AW749,'Graph of Two Series'!$O$6)/G754","v":190.8},0]
[null,null,null,{"$f":"Database!D750","v":"2017-11-01"},false,{"$f":"IF($O$4,CHOOSE($U$4,1,Database!AI750,Database!AJ750,Database!AP750),1)","v":235.74},1,{"$error":"#N/A"},{"$f":"INDEX(Database!E750:AW750,'Graph of Two Series'!$O$2)/G755","v":137.63999999999999},{"$f":"INDEX(Database!E750:AW750,'Graph of Two Series'!$O$6)/G755","v":190.8},0]
[null,null,null,{"$f":"Database!D751","v":"2017-12-01"},false,{"$f":"IF($O$4,CHOOSE($U$4,1,Database!AI751,Database!AJ751,Database!AP751),1)","v":235.74},1,{"$error":"#N/A"},{"$f":"INDEX(Database!E751:AW751,'Graph of Two Series'!$O$2)/G756","v":137.63999999999999},{"$f":"INDEX(Database!E751:AW751,'Graph of Two Series'!$O$6)/G756","v":190.8},0]
[null,null,null,{"$f":"Database!D752","v":"2018-01-01"},false,{"$f":"IF($O$4,CHOOSE($U$4,1,Database!AI752,Database!AJ752,Database!AP752),1)","v":235.74},1,{"$error":"#N/A"},{"$f":"INDEX(Database!E752:AW752,'Graph of Two Series'!$O$2)/G757","v":137.63999999999999},{"$f":"INDEX(Database!E752:AW752,'Graph of Two Series'!$O$6)/G757","v":190.8},0]
[null,null,null,{"$f":"Database!D753","v":"2018-02-01"},false,{"$f":"IF($O$4,CHOOSE($U$4,1,Database!AI753,Database!AJ753,Database!AP753),1)","v":235.74},1,{"$error":"#N/A"},{"$f":"INDEX(Database!E753:AW753,'Graph of Two Series'!$O$2)/G758","v":137.63999999999999},{"$f":"INDEX(Database!E753:AW753,'Graph of Two Series'!$O$6)/G758","v":190.8},0]
[null,null,null,{"$f":"Database!D754","v":"2018-03-01"},false,{"$f":"IF($O$4,CHOOSE($U$4,1,Database!AI754,Database!AJ754,Database!AP754),1)","v":235.74},1,{"$error":"#N/A"},{"$f":"INDEX(Database!E754:AW754,'Graph of Two Series'!$O$2)/G759","v":137.63999999999999},{"$f":"INDEX(Database!E754:AW754,'Graph of Two Series'!$O$6)/G759","v":190.8},0]
[null,null,null,{"$f":"Database!D755","v":"2018-04-01"},false,{"$f":"IF($O$4,CHOOSE($U$4,1,Database!AI755,Database!AJ755,Database!AP755),1)","v":235.74},1,{"$error":"#N/A"},{"$f":"INDEX(Database!E755:AW755,'Graph of Two Series'!$O$2)/G760","v":137.63999999999999},{"$f":"INDEX(Database!E755:AW755,'Graph of Two Series'!$O$6)/G760","v":190.8},0]
[null,null,null,{"$f":"Database!D756","v":"2018-05-01"},false,{"$f":"IF($O$4,CHOOSE($U$4,1,Database!AI756,Database!AJ756,Database!AP756),1)","v":235.74},1,{"$error":"#N/A"},{"$f":"INDEX(Database!E756:AW756,'Graph of Two Series'!$O$2)/G761","v":137.63999999999999},{"$f":"INDEX(Database!E756:AW756,'Graph of Two Series'!$O$6)/G761","v":190.8},0]
[null,null,null,{"$f":"Database!D757","v":"2018-06-01"},false,{"$f":"IF($O$4,CHOOSE($U$4,1,Database!AI757,Database!AJ757,Database!AP757),1)","v":235.74},1,{"$error":"#N/A"},{"$f":"INDEX(Database!E757:AW757,'Graph of Two Series'!$O$2)/G762","v":137.63999999999999},{"$f":"INDEX(Database!E757:AW757,'Graph of Two Series'!$O$6)/G762","v":190.8},0]
[null,null,null,{"$f":"Database!D758","v":"2018-07-01"},false,{"$f":"IF($O$4,CHOOSE($U$4,1,Database!AI758,Database!AJ758,Database!AP758),1)","v":235.74},1,{"$error":"#N/A"},{"$f":"INDEX(Database!E758:AW758,'Graph of Two Series'!$O$2)/G763","v":137.63999999999999},{"$f":"INDEX(Database!E758:AW758,'Graph of Two Series'!$O$6)/G763","v":190.8},0]
[null,null,null,{"$f":"Database!D759","v":"00:00:00"},false,{"$f":"IF($O$4,CHOOSE($U$4,1,Database!AI759,Database!AJ759,Database!AP759),1)","v":0},0,{"$error":"#N/A"},{"$f":"INDEX(Database!E759:AW759,'Graph of Two Series'!$O$2)/G764","v":{"$error":"#DIV/0!"}},{"$f":"INDEX(Database!E759:AW759,'Graph of Two Series'!$O$6)/G764","v":{"$error":"#DIV/0!"}},{"$error":"#DIV/0!"}]
[null,null,null,{"$f":"Database!D760","v":"00:00:00"},false,{"$f":"IF($O$4,CHOOSE($U$4,1,Database!AI760,Database!AJ760,Database!AP760),1)","v":0},0,{"$error":"#N/A"},{"$f":"INDEX(Database!E760:AW760,'Graph of Two Series'!$O$2)/G765","v":{"$error":"#DIV/0!"}},{"$f":"INDEX(Database!E760:AW760,'Graph of Two Series'!$O$6)/G765","v":{"$error":"#DIV/0!"}},{"$error":"#DIV/0!"}]
[null,null,null,{"$f":"Database!D761","v":"00:00:00"},false,{"$f":"IF($O$4,CHOOSE($U$4,1,Database!AI761,Database!AJ761,Database!AP761),1)","v":0},0,{"$error":"#N/A"},{"$f":"INDEX(Database!E761:AW761,'Graph of Two Series'!$O$2)/G766","v":{"$error":"#DIV/0!"}},{"$f":"INDEX(Database!E761:AW761,'Graph of Two Series'!$O$6)/G766","v":{"$error":"#DIV/0!"}},{"$error":"#DIV/0!"}]
[null,null,null,{"$f":"Database!D762","v":"00:00:00"},false,{"$f":"IF($O$4,CHOOSE($U$4,1,Database!AI762,Database!AJ762,Database!AP762),1)","v":0},0,{"$error":"#N/A"},{"$f":"INDEX(Database!E762:AW762,'Graph of Two Series'!$O$2)/G767","v":{"$error":"#DIV/0!"}},{"$f":"INDEX(Database!E762:AW762,'Graph of Two Series'!$O$6)/G767","v":{"$error":"#DIV/0!"}},{"$error":"#DIV/0!"}]
[null,null,null,{"$f":"Database!D763","v":"00:00:00"},false,{"$f":"IF($O$4,CHOOSE($U$4,1,Database!AI763,Database!AJ763,Database!AP763),1)","v":0},0,{"$error":"#N/A"},{"$f":"INDEX(Database!E763:AW763,'Graph of Two Series'!$O$2)/G768","v":{"$error":"#DIV/0!"}},{"$f":"INDEX(Database!E763:AW763,'Graph of Two Series'!$O$6)/G768","v":{"$error":"#DIV/0!"}},{"$error":"#DIV/0!"}]
[null,null,null,{"$f":"Database!D764","v":"00:00:00"},false,{"$f":"IF($O$4,CHOOSE($U$4,1,Database!AI764,Database!AJ764,Database!AP764),1)","v":0},0,{"$error":"#N/A"},{"$f":"INDEX(Database!E764:AW764,'Graph of Two Series'!$O$2)/G769","v":{"$error":"#DIV/0!"}},{"$f":"INDEX(Database!E764:AW764,'Graph of Two Series'!$O$6)/G769","v":{"$error":"#DIV/0!"}},{"$error":"#DIV/0!"}]
[null,null,null,{"$f":"Database!D765","v":"00:00:00"},false,{"$f":"IF($O$4,CHOOSE($U$4,1,Database!AI765,Database!AJ765,Database!AP765),1)","v":0},0,{"$error":"#N/A"},{"$f":"INDEX(Database!E765:AW765,'Graph of Two Series'!$O$2)/G770","v":{"$error":"#DIV/0!"}},{"$f":"INDEX(Database!E765:AW765,'Graph of Two Series'!$O$6)/G770","v":{"$error":"#DIV/0!"}},{"$error":"#DIV/0!"}]
[null,null,null,{"$f":"Database!D766","v":"00:00:00"},false,{"$f":"IF($O$4,CHOOSE($U$4,1,Database!AI766,Database!AJ766,Database!AP766),1)","v":0},0,{"$error":"#N/A"},{"$f":"INDEX(Database!E766:AW766,'Graph of Two Series'!$O$2)/G771","v":{"$error":"#DIV/0!"}},{"$f":"INDEX(Database!E766:AW766,'Graph of Two Series'!$O$6)/G771","v":{"$error":"#DIV/0!"}},{"$error":"#DIV/0!"}]
[null,null,null,{"$f":"Database!D767","v":"00:00:00"},false,{"$f":"IF($O$4,CHOOSE($U$4,1,Database!AI767,Database!AJ767,Database!AP767),1)","v":0},0,{"$error":"#N/A"},{"$f":"INDEX(Database!E767:AW767,'Graph of Two Series'!$O$2)/G772","v":{"$error":"#DIV/0!"}},{"$f":"INDEX(Database!E767:AW767,'Graph of Two Series'!$O$6)/G772","v":{"$error":"#DIV/0!"}},{"$error":"#DIV/0!"}]
[null,null,null,{"$f":"Database!D768","v":"00:00:00"},false,{"$f":"IF($O$4,CHOOSE($U$4,1,Database!AI768,Database!AJ768,Database!AP768),1)","v":0},0,{"$error":"#N/A"},{"$f":"INDEX(Database!E768:AW768,'Graph of Two Series'!$O$2)/G773","v":{"$error":"#DIV/0!"}},{"$f":"INDEX(Database!E768:AW768,'Graph of Two Series'!$O$6)/G773","v":{"$error":"#DIV/0!"}},{"$error":"#DIV/0!"}]
[null,null,null,{"$f":"Database!D769","v":"00:00:00"},false,{"$f":"IF($O$4,CHOOSE($U$4,1,Database!AI769,Database!AJ769,Database!AP769),1)","v":0},0,{"$error":"#N/A"},{"$f":"INDEX(Database!E769:AW769,'Graph of Two Series'!$O$2)/G774","v":{"$error":"#DIV/0!"}},{"$f":"INDEX(Database!E769:AW769,'Graph of Two Series'!$O$6)/G774","v":{"$error":"#DIV/0!"}},{"$error":"#DIV/0!"}]
[null,null,null,{"$f":"Database!D770","v":"00:00:00"},false,{"$f":"IF($O$4,CHOOSE($U$4,1,Database!AI770,Database!AJ770,Database!AP770),1)","v":0},0,{"$error":"#N/A"},{"$f":"INDEX(Database!E770:AW770,'Graph of Two Series'!$O$2)/G775","v":{"$error":"#DIV/0!"}},{"$f":"INDEX(Database!E770:AW770,'Graph of Two Series'!$O$6)/G775","v":{"$error":"#DIV/0!"}},{"$error":"#DIV/0!"}]
[null,null,null,{"$f":"Database!D771","v":"00:00:00"},false,{"$f":"IF($O$4,CHOOSE($U$4,1,Database!AI771,Database!AJ771,Database!AP771),1)","v":0},0,{"$error":"#N/A"},{"$f":"INDEX(Database!E771:AW771,'Graph of Two Series'!$O$2)/G776","v":{"$error":"#DIV/0!"}},{"$f":"INDEX(Database!E771:AW771,'Graph of Two Series'!$O$6)/G776","v":{"$error":"#DIV/0!"}},{"$error":"#DIV/0!"}]
[null,null,null,{"$f":"Database!D772","v":"00:00:00"},false,{"$f":"IF($O$4,CHOOSE($U$4,1,Database!AI772,Database!AJ772,Database!AP772),1)","v":0},0,{"$error":"#N/A"},{"$f":"INDEX(Database!E772:AW772,'Graph of Two Series'!$O$2)/G777","v":{"$error":"#DIV/0!"}},{"$f":"INDEX(Database!E772:AW772,'Graph of Two Series'!$O$6)/G777","v":{"$error":"#DIV/0!"}},{"$error":"#DIV/0!"}]
[null,null,null,{"$f":"Database!D773","v":"00:00:00"},false,{"$f":"IF($O$4,CHOOSE($U$4,1,Database!AI773,Database!AJ773,Database!AP773),1)","v":0},0,{"$error":"#N/A"},{"$f":"INDEX(Database!E773:AW773,'Graph of Two Series'!$O$2)/G778","v":{"$error":"#DIV/0!"}},{"$f":"INDEX(Database!E773:AW773,'Graph of Two Series'!$O$6)/G778","v":{"$error":"#DIV/0!"}},{"$error":"#DIV/0!"}]
[null,null,null,{"$f":"Database!D774","v":"00:00:00"},false,{"$f":"IF($O$4,CHOOSE($U$4,1,Database!AI774,Database!AJ774,Database!AP774),1)","v":0},0,{"$error":"#N/A"},{"$f":"INDEX(Database!E774:AW774,'Graph of Two Series'!$O$2)/G779","v":{"$error":"#DIV/0!"}},{"$f":"INDEX(Database!E774:AW774,'Graph of Two Series'!$O$6)/G779","v":{"$error":"#DIV/0!"}},{"$error":"#DIV/0!"}]
[null,null,null,{"$f":"Database!D775","v":"00:00:00"},false,{"$f":"IF($O$4,CHOOSE($U$4,1,Database!AI775,Database!AJ775,Database!AP775),1)","v":0},0,{"$error":"#N/A"},{"$f":"INDEX(Database!E775:AW775,'Graph of Two Series'!$O$2)/G780","v":{"$error":"#DIV/0!"}},{"$f":"INDEX(Database!E775:AW775,'Graph of Two Series'!$O$6)/G780","v":{"$error":"#DIV/0!"}},{"$error":"#DIV/0!"}]
[null,null,null,{"$f":"Database!D776","v":"00:00:00"},false,{"$f":"IF($O$4,CHOOSE($U$4,1,Database!AI776,Database!AJ776,Database!AP776),1)","v":0},{"$f":"F781/$G$5","v":0},{"$f":"IF(E781,D781,NA())","v":{"$error":"#N/A"}},{"$f":"INDEX(Database!E776:AW776,'Graph of Two Series'!$O$2)/G781","v":{"$error":"#DIV/0!"}},{"$f":"INDEX(Database!E776:AW776,'Graph of Two Series'!$O$6)/G781","v":{"$error":"#DIV/0!"}},{"$error":"#DIV/0!"}]
[null,null,null,{"$f":"Database!D777","v":"00:00:00"},{"$f":"AND($D782>=E$11,$D782<=E$12)","v":false},{"$f":"IF($O$4,CHOOSE($U$4,1,Database!AI777,Database!AJ777,Database!AP777),1)","v":0},0,{"$error":"#N/A"},{"$f":"INDEX(Database!E777:AW777,'Graph of Two Series'!$O$2)/G782","v":{"$error":"#DIV/0!"}},{"$f":"INDEX(Database!E777:AW777,'Graph of Two Series'!$O$6)/G782","v":{"$error":"#DIV/0!"}},{"$error":"#DIV/0!"}]
[null,null,null,{"$f":"Database!D778","v":"00:00:00"},false,{"$f":"IF($O$4,CHOOSE($U$4,1,Database!AI778,Database!AJ778,Database!AP778),1)","v":0},0,{"$error":"#N/A"},{"$f":"INDEX(Database!E778:AW778,'Graph of Two Series'!$O$2)/G783","v":{"$error":"#DIV/0!"}},{"$f":"INDEX(Database!E778:AW778,'Graph of Two Series'!$O$6)/G783","v":{"$error":"#DIV/0!"}},{"$f":"J783-J782","v":{"$error":"#DIV/0!"}}]
[null,null,null,{"$f":"Database!D779","v":"00:00:00"},false,{"$f":"IF($O$4,CHOOSE($U$4,1,Database!AI779,Database!AJ779,Database!AP779),1)","v":0},0,{"$error":"#N/A"},{"$f":"INDEX(Database!E779:AW779,'Graph of Two Series'!$O$2)/G784","v":{"$error":"#DIV/0!"}},{"$f":"INDEX(Database!E779:AW779,'Graph of Two Series'!$O$6)/G784","v":{"$error":"#DIV/0!"}},{"$error":"#DIV/0!"}]
[null,null,null,{"$f":"Database!D780","v":"00:00:00"},false,{"$f":"IF($O$4,CHOOSE($U$4,1,Database!AI780,Database!AJ780,Database!AP780),1)","v":0},0,{"$error":"#N/A"},{"$f":"INDEX(Database!E780:AW780,'Graph of Two Series'!$O$2)/G785","v":{"$error":"#DIV/0!"}},{"$f":"INDEX(Database!E780:AW780,'Graph of Two Series'!$O$6)/G785","v":{"$error":"#DIV/0!"}},{"$error":"#DIV/0!"}]
[null,null,null,{"$f":"Database!D781","v":"00:00:00"},false,{"$f":"IF($O$4,CHOOSE($U$4,1,Database!AI781,Database!AJ781,Database!AP781),1)","v":0},0,{"$error":"#N/A"},{"$f":"INDEX(Database!E781:AW781,'Graph of Two Series'!$O$2)/G786","v":{"$error":"#DIV/0!"}},{"$f":"INDEX(Database!E781:AW781,'Graph of Two Series'!$O$6)/G786","v":{"$error":"#DIV/0!"}},{"$error":"#DIV/0!"}]
[null,null,null,{"$f":"Database!D782","v":"00:00:00"},false,{"$f":"IF($O$4,CHOOSE($U$4,1,Database!AI782,Database!AJ782,Database!AP782),1)","v":0},0,{"$error":"#N/A"},{"$f":"INDEX(Database!E782:AW782,'Graph of Two Series'!$O$2)/G787","v":{"$error":"#DIV/0!"}},{"$f":"INDEX(Database!E782:AW782,'Graph of Two Series'!$O$6)/G787","v":{"$error":"#DIV/0!"}},{"$error":"#DIV/0!"}]
[null,null,null,{"$f":"Database!D783","v":"00:00:00"},false,{"$f":"IF($O$4,CHOOSE($U$4,1,Database!AI783,Database!AJ783,Database!AP783),1)","v":0},0,{"$error":"#N/A"},{"$f":"INDEX(Database!E783:AW783,'Graph of Two Series'!$O$2)/G788","v":{"$error":"#DIV/0!"}},{"$f":"INDEX(Database!E783:AW783,'Graph of Two Series'!$O$6)/G788","v":{"$error":"#DIV/0!"}},{"$error":"#DIV/0!"}]
[null,null,null,{"$f":"Database!D784","v":"00:00:00"},false,{"$f":"IF($O$4,CHOOSE($U$4,1,Database!AI784,Database!AJ784,Database!AP784),1)","v":0},0,{"$error":"#N/A"},{"$f":"INDEX(Database!E784:AW784,'Graph of Two Series'!$O$2)/G789","v":{"$error":"#DIV/0!"}},{"$f":"INDEX(Database!E784:AW784,'Graph of Two Series'!$O$6)/G789","v":{"$error":"#DIV/0!"}},{"$error":"#DIV/0!"}]
[null,null,null,{"$f":"Database!D785","v":"00:00:00"},false,{"$f":"IF($O$4,CHOOSE($U$4,1,Database!AI785,Database!AJ785,Database!AP785),1)","v":0},0,{"$error":"#N/A"},{"$f":"INDEX(Database!E785:AW785,'Graph of Two Series'!$O$2)/G790","v":{"$error":"#DIV/0!"}},{"$f":"INDEX(Database!E785:AW785,'Graph of Two Series'!$O$6)/G790","v":{"$error":"#DIV/0!"}},{"$error":"#DIV/0!"}]
[null,null,null,{"$f":"Database!D786","v":"00:00:00"},false,{"$f":"IF($O$4,CHOOSE($U$4,1,Database!AI786,Database!AJ786,Database!AP786),1)","v":0},0,{"$error":"#N/A"},{"$f":"INDEX(Database!E786:AW786,'Graph of Two Series'!$O$2)/G791","v":{"$error":"#DIV/0!"}},{"$f":"INDEX(Database!E786:AW786,'Graph of Two Series'!$O$6)/G791","v":{"$error":"#DIV/0!"}},{"$error":"#DIV/0!"}]
[null,null,null,{"$f":"Database!D787","v":"00:00:00"},false,{"$f":"IF($O$4,CHOOSE($U$4,1,Database!AI787,Database!AJ787,Database!AP787),1)","v":0},0,{"$error":"#N/A"},{"$f":"INDEX(Database!E787:AW787,'Graph of Two Series'!$O$2)/G792","v":{"$error":"#DIV/0!"}},{"$f":"INDEX(Database!E787:AW787,'Graph of Two Series'!$O$6)/G792","v":{"$error":"#DIV/0!"}},{"$error":"#DIV/0!"}]
[null,null,null,{"$f":"Database!D788","v":"00:00:00"},false,{"$f":"IF($O$4,CHOOSE($U$4,1,Database!AI788,Database!AJ788,Database!AP788),1)","v":0},0,{"$error":"#N/A"},{"$f":"INDEX(Database!E788:AW788,'Graph of Two Series'!$O$2)/G793","v":{"$error":"#DIV/0!"}},{"$f":"INDEX(Database!E788:AW788,'Graph of Two Series'!$O$6)/G793","v":{"$error":"#DIV/0!"}},{"$error":"#DIV/0!"}]
[null,null,null,{"$f":"Database!D789","v":"00:00:00"},false,{"$f":"IF($O$4,CHOOSE($U$4,1,Database!AI789,Database!AJ789,Database!AP789),1)","v":0},0,{"$error":"#N/A"},{"$f":"INDEX(Database!E789:AW789,'Graph of Two Series'!$O$2)/G794","v":{"$error":"#DIV/0!"}},{"$f":"INDEX(Database!E789:AW789,'Graph of Two Series'!$O$6)/G794","v":{"$error":"#DIV/0!"}},{"$error":"#DIV/0!"}]
[null,null,null,{"$f":"Database!D790","v":"00:00:00"},false,{"$f":"IF($O$4,CHOOSE($U$4,1,Database!AI790,Database!AJ790,Database!AP790),1)","v":0},0,{"$error":"#N/A"},{"$f":"INDEX(Database!E790:AW790,'Graph of Two Series'!$O$2)/G795","v":{"$error":"#DIV/0!"}},{"$f":"INDEX(Database!E790:AW790,'Graph of Two Series'!$O$6)/G795","v":{"$error":"#DIV/0!"}},{"$error":"#DIV/0!"}]
[null,null,null,{"$f":"Database!D791","v":"00:00:00"},false,{"$f":"IF($O$4,CHOOSE($U$4,1,Database!AI791,Database!AJ791,Database!AP791),1)","v":0},0,{"$error":"#N/A"},{"$f":"INDEX(Database!E791:AW791,'Graph of Two Series'!$O$2)/G796","v":{"$error":"#DIV/0!"}},{"$f":"INDEX(Database!E791:AW791,'Graph of Two Series'!$O$6)/G796","v":{"$error":"#DIV/0!"}},{"$error":"#DIV/0!"}]
[null,null,null,{"$f":"Database!D792","v":"00:00:00"},false,{"$f":"IF($O$4,CHOOSE($U$4,1,Database!AI792,Database!AJ792,Database!AP792),1)","v":0},0,{"$error":"#N/A"},{"$f":"INDEX(Database!E792:AW792,'Graph of Two Series'!$O$2)/G797","v":{"$error":"#DIV/0!"}},{"$f":"INDEX(Database!E792:AW792,'Graph of Two Series'!$O$6)/G797","v":{"$error":"#DIV/0!"}},{"$error":"#DIV/0!"}]
[null,null,null,{"$f":"Database!D793","v":"00:00:00"},false,{"$f":"IF($O$4,CHOOSE($U$4,1,Database!AI793,Database!AJ793,Database!AP793),1)","v":0},0,{"$error":"#N/A"},{"$f":"INDEX(Database!E793:AW793,'Graph of Two Series'!$O$2)/G798","v":{"$error":"#DIV/0!"}},{"$f":"INDEX(Database!E793:AW793,'Graph of Two Series'!$O$6)/G798","v":{"$error":"#DIV/0!"}},{"$error":"#DIV/0!"}]
[null,null,null,{"$f":"Database!D794","v":"00:00:00"},false,{"$f":"IF($O$4,CHOOSE($U$4,1,Database!AI794,Database!AJ794,Database!AP794),1)","v":0},0,{"$error":"#N/A"},{"$f":"INDEX(Database!E794:AW794,'Graph of Two Series'!$O$2)/G799","v":{"$error":"#DIV/0!"}},{"$f":"INDEX(Database!E794:AW794,'Graph of Two Series'!$O$6)/G799","v":{"$error":"#DIV/0!"}},{"$error":"#DIV/0!"}]
[null,null,null,{"$f":"Database!D795","v":"00:00:00"},false,{"$f":"IF($O$4,CHOOSE($U$4,1,Database!AI795,Database!AJ795,Database!AP795),1)","v":0},0,{"$error":"#N/A"},{"$f":"INDEX(Database!E795:AW795,'Graph of Two Series'!$O$2)/G800","v":{"$error":"#DIV/0!"}},{"$f":"INDEX(Database!E795:AW795,'Graph of Two Series'!$O$6)/G800","v":{"$error":"#DIV/0!"}},{"$error":"#DIV/0!"}]
[null,null,null,{"$f":"Database!D796","v":"00:00:00"},false,{"$f":"IF($O$4,CHOOSE($U$4,1,Database!AI796,Database!AJ796,Database!AP796),1)","v":0},0,{"$error":"#N/A"},{"$f":"INDEX(Database!E796:AW796,'Graph of Two Series'!$O$2)/G801","v":{"$error":"#DIV/0!"}},{"$f":"INDEX(Database!E796:AW796,'Graph of Two Series'!$O$6)/G801","v":{"$error":"#DIV/0!"}},{"$error":"#DIV/0!"}]
[null,null,null,{"$f":"Database!D797","v":"00:00:00"},false,{"$f":"IF($O$4,CHOOSE($U$4,1,Database!AI797,Database!AJ797,Database!AP797),1)","v":0},0,{"$error":"#N/A"},{"$f":"INDEX(Database!E797:AW797,'Graph of Two Series'!$O$2)/G802","v":{"$error":"#DIV/0!"}},{"$f":"INDEX(Database!E797:AW797,'Graph of Two Series'!$O$6)/G802","v":{"$error":"#DIV/0!"}},{"$error":"#DIV/0!"}]
[null,null,null,{"$f":"Database!D798","v":"00:00:00"},false,{"$f":"IF($O$4,CHOOSE($U$4,1,Database!AI798,Database!AJ798,Database!AP798),1)","v":0},0,{"$error":"#N/A"},{"$f":"INDEX(Database!E798:AW798,'Graph of Two Series'!$O$2)/G803","v":{"$error":"#DIV/0!"}},{"$f":"INDEX(Database!E798:AW798,'Graph of Two Series'!$O$6)/G803","v":{"$error":"#DIV/0!"}},{"$error":"#DIV/0!"}]
[null,null,null,{"$f":"Database!D799","v":"00:00:00"},false,{"$f":"IF($O$4,CHOOSE($U$4,1,Database!AI799,Database!AJ799,Database!AP799),1)","v":0},0,{"$error":"#N/A"},{"$f":"INDEX(Database!E799:AW799,'Graph of Two Series'!$O$2)/G804","v":{"$error":"#DIV/0!"}},{"$f":"INDEX(Database!E799:AW799,'Graph of Two Series'!$O$6)/G804","v":{"$error":"#DIV/0!"}},{"$error":"#DIV/0!"}]
[null,null,null,{"$f":"Database!D800","v":"00:00:00"},false,{"$f":"IF($O$4,CHOOSE($U$4,1,Database!AI800,Database!AJ800,Database!AP800),1)","v":0},0,{"$error":"#N/A"},{"$f":"INDEX(Database!E800:AW800,'Graph of Two Series'!$O$2)/G805","v":{"$error":"#DIV/0!"}},{"$f":"INDEX(Database!E800:AW800,'Graph of Two Series'!$O$6)/G805","v":{"$error":"#DIV/0!"}},{"$error":"#DIV/0!"}]
[null,null,null,{"$f":"Database!D801","v":"00:00:00"},false,{"$f":"IF($O$4,CHOOSE($U$4,1,Database!AI801,Database!AJ801,Database!AP801),1)","v":0},0,{"$error":"#N/A"},{"$f":"INDEX(Database!E801:AW801,'Graph of Two Series'!$O$2)/G806","v":{"$error":"#DIV/0!"}},{"$f":"INDEX(Database!E801:AW801,'Graph of Two Series'!$O$6)/G806","v":{"$error":"#DIV/0!"}},{"$error":"#DIV/0!"}]
[null,null,null,{"$f":"Database!D802","v":"00:00:00"},false,{"$f":"IF($O$4,CHOOSE($U$4,1,Database!AI802,Database!AJ802,Database!AP802),1)","v":0},0,{"$error":"#N/A"},{"$f":"INDEX(Database!E802:AW802,'Graph of Two Series'!$O$2)/G807","v":{"$error":"#DIV/0!"}},{"$f":"INDEX(Database!E802:AW802,'Graph of Two Series'!$O$6)/G807","v":{"$error":"#DIV/0!"}},{"$error":"#DIV/0!"}]
[null,null,null,{"$f":"Database!D803","v":"00:00:00"},false,{"$f":"IF($O$4,CHOOSE($U$4,1,Database!AI803,Database!AJ803,Database!AP803),1)","v":0},0,{"$error":"#N/A"},{"$f":"INDEX(Database!E803:AW803,'Graph of Two Series'!$O$2)/G808","v":{"$error":"#DIV/0!"}},{"$f":"INDEX(Database!E803:AW803,'Graph of Two Series'!$O$6)/G808","v":{"$error":"#DIV/0!"}},{"$error":"#DIV/0!"}]
[null,null,null,{"$f":"Database!D804","v":"00:00:00"},false,{"$f":"IF($O$4,CHOOSE($U$4,1,Database!AI804,Database!AJ804,Database!AP804),1)","v":0},0,{"$error":"#N/A"},{"$f":"INDEX(Database!E804:AW804,'Graph of Two Series'!$O$2)/G809","v":{"$error":"#DIV/0!"}},{"$f":"INDEX(Database!E804:AW804,'Graph of Two Series'!$O$6)/G809","v":{"$error":"#DIV/0!"}},{"$error":"#DIV/0!"}]
[null,null,null,{"$f":"Database!D805","v":"00:00:00"},false,{"$f":"IF($O$4,CHOOSE($U$4,1,Database!AI805,Database!AJ805,Database!AP805),1)","v":0},0,{"$error":"#N/A"},{"$f":"INDEX(Database!E805:AW805,'Graph of Two Series'!$O$2)/G810","v":{"$error":"#DIV/0!"}},{"$f":"INDEX(Database!E805:AW805,'Graph of Two Series'!$O$6)/G810","v":{"$error":"#DIV/0!"}},{"$error":"#DIV/0!"}]
[null,null,null,{"$f":"Database!D806","v":"00:00:00"},false,{"$f":"IF($O$4,CHOOSE($U$4,1,Database!AI806,Database!AJ806,Database!AP806),1)","v":0},0,{"$error":"#N/A"},{"$f":"INDEX(Database!E806:AW806,'Graph of Two Series'!$O$2)/G811","v":{"$error":"#DIV/0!"}},{"$f":"INDEX(Database!E806:AW806,'Graph of Two Series'!$O$6)/G811","v":{"$error":"#DIV/0!"}},{"$error":"#DIV/0!"}]
[null,null,null,{"$f":"Database!D807","v":"00:00:00"},false,{"$f":"IF($O$4,CHOOSE($U$4,1,Database!AI807,Database!AJ807,Database!AP807),1)","v":0},0,{"$error":"#N/A"},{"$f":"INDEX(Database!E807:AW807,'Graph of Two Series'!$O$2)/G812","v":{"$error":"#DIV/0!"}},{"$f":"INDEX(Database!E807:AW807,'Graph of Two Series'!$O$6)/G812","v":{"$error":"#DIV/0!"}},{"$error":"#DIV/0!"}]
[null,null,null,{"$f":"Database!D808","v":"00:00:00"},false,{"$f":"IF($O$4,CHOOSE($U$4,1,Database!AI808,Database!AJ808,Database!AP808),1)","v":0},0,{"$error":"#N/A"},{"$f":"INDEX(Database!E808:AW808,'Graph of Two Series'!$O$2)/G813","v":{"$error":"#DIV/0!"}},{"$f":"INDEX(Database!E808:AW808,'Graph of Two Series'!$O$6)/G813","v":{"$error":"#DIV/0!"}},{"$error":"#DIV/0!"}]
[null,null,null,{"$f":"Database!D809","v":"00:00:00"},false,{"$f":"IF($O$4,CHOOSE($U$4,1,Database!AI809,Database!AJ809,Database!AP809),1)","v":0},0,{"$error":"#N/A"},{"$f":"INDEX(Database!E809:AW809,'Graph of Two Series'!$O$2)/G814","v":{"$error":"#DIV/0!"}},{"$f":"INDEX(Database!E809:AW809,'Graph of Two Series'!$O$6)/G814","v":{"$error":"#DIV/0!"}},{"$error":"#DIV/0!"}]
[null,null,null,{"$f":"Database!D810","v":"00:00:00"},false,{"$f":"IF($O$4,CHOOSE($U$4,1,Database!AI810,Database!AJ810,Database!AP810),1)","v":0},0,{"$error":"#N/A"},{"$f":"INDEX(Database!E810:AW810,'Graph of Two Series'!$O$2)/G815","v":{"$error":"#DIV/0!"}},{"$f":"INDEX(Database!E810:AW810,'Graph of Two Series'!$O$6)/G815","v":{"$error":"#DIV/0!"}},{"$error":"#DIV/0!"}]
[null,null,null,{"$f":"Database!D811","v":"00:00:00"},false,{"$f":"IF($O$4,CHOOSE($U$4,1,Database!AI811,Database!AJ811,Database!AP811),1)","v":0},0,{"$error":"#N/A"},{"$f":"INDEX(Database!E811:AW811,'Graph of Two Series'!$O$2)/G816","v":{"$error":"#DIV/0!"}},{"$f":"INDEX(Database!E811:AW811,'Graph of Two Series'!$O$6)/G816","v":{"$error":"#DIV/0!"}},{"$error":"#DIV/0!"}]
[null,null,null,{"$f":"Database!D812","v":"00:00:00"},false,{"$f":"IF($O$4,CHOOSE($U$4,1,Database!AI812,Database!AJ812,Database!AP812),1)","v":0},0,{"$error":"#N/A"},{"$f":"INDEX(Database!E812:AW812,'Graph of Two Series'!$O$2)/G817","v":{"$error":"#DIV/0!"}},{"$f":"INDEX(Database!E812:AW812,'Graph of Two Series'!$O$6)/G817","v":{"$error":"#DIV/0!"}},{"$error":"#DIV/0!"}]
[null,null,null,{"$f":"Database!D813","v":"00:00:00"},false,{"$f":"IF($O$4,CHOOSE($U$4,1,Database!AI813,Database!AJ813,Database!AP813),1)","v":0},0,{"$error":"#N/A"},{"$f":"INDEX(Database!E813:AW813,'Graph of Two Series'!$O$2)/G818","v":{"$error":"#DIV/0!"}},{"$f":"INDEX(Database!E813:AW813,'Graph of Two Series'!$O$6)/G818","v":{"$error":"#DIV/0!"}},{"$error":"#DIV/0!"}]
[null,null,null,{"$f":"Database!D814","v":"00:00:00"},false,{"$f":"IF($O$4,CHOOSE($U$4,1,Database!AI814,Database!AJ814,Database!AP814),1)","v":0},0,{"$error":"#N/A"},{"$f":"INDEX(Database!E814:AW814,'Graph of Two Series'!$O$2)/G819","v":{"$error":"#DIV/0!"}},{"$f":"INDEX(Database!E814:AW814,'Graph of Two Series'!$O$6)/G819","v":{"$error":"#DIV/0!"}},{"$error":"#DIV/0!"}]
[null,null,null,{"$f":"Database!D815","v":"00:00:00"},false,{"$f":"IF($O$4,CHOOSE($U$4,1,Database!AI815,Database!AJ815,Database!AP815),1)","v":0},0,{"$error":"#N/A"},{"$f":"INDEX(Database!E815:AW815,'Graph of Two Series'!$O$2)/G820","v":{"$error":"#DIV/0!"}},{"$f":"INDEX(Database!E815:AW815,'Graph of Two Series'!$O$6)/G820","v":{"$error":"#DIV/0!"}},{"$error":"#DIV/0!"}]
[null,null,null,{"$f":"Database!D816","v":"00:00:00"},false,{"$f":"IF($O$4,CHOOSE($U$4,1,Database!AI816,Database!AJ816,Database!AP816),1)","v":0},0,{"$error":"#N/A"},{"$f":"INDEX(Database!E816:AW816,'Graph of Two Series'!$O$2)/G821","v":{"$error":"#DIV/0!"}},{"$f":"INDEX(Database!E816:AW816,'Graph of Two Series'!$O$6)/G821","v":{"$error":"#DIV/0!"}},{"$error":"#DIV/0!"}]
[null,null,null,{"$f":"Database!D817","v":"00:00:00"},false,{"$f":"IF($O$4,CHOOSE($U$4,1,Database!AI817,Database!AJ817,Database!AP817),1)","v":0},0,{"$error":"#N/A"},{"$f":"INDEX(Database!E817:AW817,'Graph of Two Series'!$O$2)/G822","v":{"$error":"#DIV/0!"}},{"$f":"INDEX(Database!E817:AW817,'Graph of Two Series'!$O$6)/G822","v":{"$error":"#DIV/0!"}},{"$error":"#DIV/0!"}]
[null,null,null,{"$f":"Database!D818","v":"00:00:00"},false,{"$f":"IF($O$4,CHOOSE($U$4,1,Database!AI818,Database!AJ818,Database!AP818),1)","v":0},0,{"$error":"#N/A"},{"$f":"INDEX(Database!E818:AW818,'Graph of Two Series'!$O$2)/G823","v":{"$error":"#DIV/0!"}},{"$f":"INDEX(Database!E818:AW818,'Graph of Two Series'!$O$6)/G823","v":{"$error":"#DIV/0!"}},{"$error":"#DIV/0!"}]
[null,null,null,{"$f":"Database!D819","v":"00:00:00"},false,{"$f":"IF($O$4,CHOOSE($U$4,1,Database!AI819,Database!AJ819,Database!AP819),1)","v":0},0,{"$error":"#N/A"},{"$f":"INDEX(Database!E819:AW819,'Graph of Two Series'!$O$2)/G824","v":{"$error":"#DIV/0!"}},{"$f":"INDEX(Database!E819:AW819,'Graph of Two Series'!$O$6)/G824","v":{"$error":"#DIV/0!"}},{"$error":"#DIV/0!"}]
[null,null,null,{"$f":"Database!D820","v":"00:00:00"},false,{"$f":"IF($O$4,CHOOSE($U$4,1,Database!AI820,Database!AJ820,Database!AP820),1)","v":0},0,{"$error":"#N/A"},{"$f":"INDEX(Database!E820:AW820,'Graph of Two Series'!$O$2)/G825","v":{"$error":"#DIV/0!"}},{"$f":"INDEX(Database!E820:AW820,'Graph of Two Series'!$O$6)/G825","v":{"$error":"#DIV/0!"}},{"$error":"#DIV/0!"}]
[null,null,null,{"$f":"Database!D821","v":"00:00:00"},false,{"$f":"IF($O$4,CHOOSE($U$4,1,Database!AI821,Database!AJ821,Database!AP821),1)","v":0},0,{"$error":"#N/A"},{"$f":"INDEX(Database!E821:AW821,'Graph of Two Series'!$O$2)/G826","v":{"$error":"#DIV/0!"}},{"$f":"INDEX(Database!E821:AW821,'Graph of Two Series'!$O$6)/G826","v":{"$error":"#DIV/0!"}},{"$error":"#DIV/0!"}]
[null,null,null,{"$f":"Database!D822","v":"00:00:00"},false,{"$f":"IF($O$4,CHOOSE($U$4,1,Database!AI822,Database!AJ822,Database!AP822),1)","v":0},0,{"$error":"#N/A"},{"$f":"INDEX(Database!E822:AW822,'Graph of Two Series'!$O$2)/G827","v":{"$error":"#DIV/0!"}},{"$f":"INDEX(Database!E822:AW822,'Graph of Two Series'!$O$6)/G827","v":{"$error":"#DIV/0!"}},{"$error":"#DIV/0!"}]
[null,null,null,{"$f":"Database!D823","v":"00:00:00"},false,{"$f":"IF($O$4,CHOOSE($U$4,1,Database!AI823,Database!AJ823,Database!AP823),1)","v":0},0,{"$error":"#N/A"},{"$f":"INDEX(Database!E823:AW823,'Graph of Two Series'!$O$2)/G828","v":{"$error":"#DIV/0!"}},{"$f":"INDEX(Database!E823:AW823,'Graph of Two Series'!$O$6)/G828","v":{"$error":"#DIV/0!"}},{"$error":"#DIV/0!"}]

{"sheet":"BREAK","index":6,"n_rows":0,"n_cols":0,"rows_kept":0,"cut":false,"hidden":false,"merged":[]}

{"sheet":"Case Shiller","index":7,"n_rows":214,"n_cols":14,"rows_kept":214,"cut":false,"hidden":false,"merged":[]}
["Title:","S&P/Case-Shiller","20-City","Composite","Home","Price","IndexÂ©"]
["Series","ID:","SPCS20RSA"]
["Source:","S&P","Dow","Jones","Indices","LLC"]
["Release:","S&P/Case-Shiller","Home","Price","Indices"]
["Seasonal","Adjustment:","Seasonally","Adjusted"]
["Frequency:","Monthly"]
["Units:","Index","January",2000,"=",100]
["Date","Range:","2000-01-01","to","2015-01-01"]
["Last","Updated:","2015-03-31","09:06:00","AM","CDT"]
["Notes:","For","more","information","regarding","the","index,","please","visit,"]
[null,"http://www.standardandpoors.com/indices/sp-case-shiller-home-price-indices/en/us/?indexId=spusa-cashpidff--p-us----."]
[]
[null,"Copyright","Â©","2014,","S&P","Dow","Jones","Indices","LLC.","All","rights","reserved."]
[null,"Reproduction","of","S&P","Case-Shiller","20-City","Home","Price","Index","in","any","form"]
[null,"is","prohibited","except","with","the","prior","written","permission","of","S&P","Dow"]
[null,"Jones","Indices","LLC","S&P.","S&P","does","not","guarantee","the","accuracy,"]
[null,"adequacy,","completeness","or","availability","of","any","information","and","is","not"]
[null,"responsible","for","any","errors","or","omissions,","regardless","of","the","cause","or"]
[null,"for","the","results","obtained","from","the","use","of","such","information.","S&P"]
[null,"DISCLAIMS","ANY","AND","ALL","EXPRESS","OR","IMPLIED","WARRANTIES,","INCLUDING,","BUT"]
[null,"NOT","LIMITED","TO,","ANY","WARRANTIES","OF","MERCHANTABILITY","OR","FITNESS","FOR","A"]
[null,"PARTICULAR","PURPOSE","OR","USE.","In","no","event","shall","S&P","be","liable","for","any"]
[null,"direct,","indirect,","special","or","consequential","damages,","costs,","expenses,"]
[null,"legal","fees,","or","losses","(including","lost","income","or","lost","profit","and"]
[null,"opportunity","costs)","in","connection","with","subscriber's","or","others'","user","of"]
[null,"S&P","Case-Shiller","20-City","Home","Price","Index."]
[]
[null,"Permission","to","reproduce","this","series","can","be","requested","from"]
[null,"index_services@spdji.com.","More","contact","details","are","available","from"]
[null,"http://us.spindices.com/contact-us/,","including","phone","numbers","for","all"]
[null,"of","its","regional","offices."]
[]
["DATE","VALUE"]
["2000-01-01",100.59]
["2000-02-01",101.69]
["2000-03-01",102.78]
["2000-04-01",104]
["2000-05-01",105.25]
["2000-06-01",106.4]
["2000-07-01",107.13]
["2000-08-01",107.86]
["2000-09-01",108.61]
["2000-10-01",109.49]
["2000-11-01",110.57]
["2000-12-01",111.8]
["2001-01-01",113.05]
["2001-02-01",114.13]
["2001-03-01",115.09]
["2001-04-01",115.84]
["2001-05-01",116.3]
["2001-06-01",116.9]
["2001-07-01",117.5]
["2001-08-01",118.24]
["2001-09-01",119.03]
["2001-10-01",119.69]
["2001-11-01",120.27]
["2001-12-01",120.67]
["2002-01-01",121.36]
["2002-02-01",122.19]
["2002-03-01",123.32]
["2002-04-01",124.51]
["2002-05-01",125.93]
["2002-06-01",127.39]
["2002-07-01",128.88]
["2002-08-01",130.30000000000001]
["2002-09-01",131.53]
["2002-10-01",132.85]
["2002-11-01",134.1]
["2002-12-01",135.41]
["2003-01-01",136.47]
["2003-02-01",137.46]
["2003-03-01",138.38999999999999]
["2003-04-01",139.24]
["2003-05-01",140.15]
["2003-06-01",140.91999999999999]
["2003-07-01",142.12]
["2003-08-01",143.53]
["2003-09-01",145.26]
["2003-10-01",146.99]
["2003-11-01",148.82]
["2003-12-01",150.76]
["2004-01-01",152.63]
["2004-02-01",154.54]
["2004-03-01",156.94999999999999]
["2004-04-01",159.34]
["2004-05-01",161.75]
["2004-06-01",164.31]
["2004-07-01",166.39]
["2004-08-01",168.04]
["2004-09-01",169.66]
["2004-10-01",171.29]
["2004-11-01",173.08]
["2004-12-01",175.08]
["2005-01-01",177.55]
["2005-02-01",180.26]
["2005-03-01",183.26]
["2005-04-01",185.5]
["2005-05-01",187.55]
["2005-06-01",189.53]
["2005-07-01",191.38]
["2005-08-01",193.31]
["2005-09-01",195.62]
["2005-10-01",197.87]
["2005-11-01",200.13]
["2005-12-01",202.16]
["2006-01-01",203.77]
["2006-02-01",205.37]
["2006-03-01",206.32]
["2006-04-01",206.61]
["2006-05-01",206.49]
["2006-06-01",205.81]
["2006-07-01",204.94]
["2006-08-01",204.04]
["2006-09-01",203.58]
["2006-10-01",203.53]
["2006-11-01",203.63]
["2006-12-01",203.45]
["2007-01-01",203.73]
["2007-02-01",204.08]
["2007-03-01",204.25]
["2007-04-01",202.83]
["2007-05-01",200.99]
["2007-06-01",198.84]
["2007-07-01",196.84]
["2007-08-01",194.81]
["2007-09-01",193.1]
["2007-10-01",190.94]
["2007-11-01",187.87]
["2007-12-01",185.06]
["2008-01-01",182.11]
["2008-02-01",178.53]
["2008-03-01",175.55]
["2008-04-01",172.37]
["2008-05-01",169.5]
["2008-06-01",167.18]
["2008-07-01",164.39]
["2008-08-01",162.02000000000001]
["2008-09-01",159.08000000000001]
["2008-10-01",156.25]
["2008-11-01",153.61000000000001]
["2008-12-01",150.68]
["2009-01-01",147.66999999999999]
["2009-02-01",145.57]
["2009-03-01",143.22]
["2009-04-01",141.53]
["2009-05-01",140.78]
["2009-06-01",141.29]
["2009-07-01",142.22]
["2009-08-01",143.37]
["2009-09-01",144.01]
["2009-10-01",144.72]
["2009-11-01",145.4]
["2009-12-01",146.18]
["2010-01-01",146.87]
["2010-02-01",146.85]
["2010-03-01",146.91999999999999]
["2010-04-01",147.09]
["2010-05-01",147.22999999999999]
["2010-06-01",147.05000000000001]
["2010-07-01",146.34]
["2010-08-01",145.37]
["2010-09-01",144.41999999999999]
["2010-10-01",143.47999999999999]
["2010-11-01",143.16]
["2010-12-01",142.88999999999999]
["2011-01-01",142.55000000000001]
["2011-02-01",142]
["2011-03-01",141.26]
["2011-04-01",140.86000000000001]
["2011-05-01",140.44]
["2011-06-01",140.37]
["2011-07-01",140.19]
["2011-08-01",139.78]
["2011-09-01",139.15]
["2011-10-01",138.41]
["2011-11-01",137.76]
["2011-12-01",137.29]
["2012-01-01",137.13999999999999]
["2012-02-01",137.04]
["2012-03-01",137.66]
["2012-04-01",138.27000000000001]
["2012-05-01",139.59]
["2012-06-01",141.03]
["2012-07-01",141.69999999999999]
["2012-08-01",142.47]
["2012-09-01",143.32]
["2012-10-01",144.36000000000001]
["2012-11-01",145.53]
["2012-12-01",147.02000000000001]
["2013-01-01",148.41]
["2013-02-01",149.81]
["2013-03-01",152.41]
["2013-04-01",154.68]
["2013-05-01",156.34]
["2013-06-01",157.82]
["2013-07-01",159.08000000000001]
["2013-08-01",160.69]
["2013-09-01",162.35]
["2013-10-01",164.04]
["2013-11-01",165.58]
["2013-12-01",166.81]
["2014-01-01",168.08]
["2014-02-01",169.08]
["2014-03-01",171.22]
["2014-04-01",171.32]
["2014-05-01",170.83]
["2014-06-01",170.49]
["2014-07-01",169.79]
["2014-08-01",169.66]
["2014-09-01",170.12]
["2014-10-01",171.34]
["2014-11-01",172.7]
["2014-12-01",174.28]
["2015-01-01",175.8]

{"sheet":"Case Shiller US","index":8,"n_rows":497,"n_cols":12,"rows_kept":497,"cut":false,"hidden":false,"merged":[]}
["Title:","S&P/Case-Shiller","U.S.","National","Home","Price","IndexÂ©"]
["Series","ID:","CSUSHPINSA"]
["Source:","S&P","Dow","Jones","Indices","LLC"]
["Release:","S&P/Case-Shiller","Home","Price","Indices"]
["Seasonal","Adjustment:","Not","Seasonally","Adjusted"]
["Frequency:","Monthly"]
["Units:","Index","January",2000,"=",100]
["Date","Range:","1975-01-01","to","2015-01-01"]
["Last","Updated:","2015-03-31","09:06:00","AM","CDT"]
["Notes:","For","more","information","regarding","the","index,","please","visit,"]
[null,"http://www.standardandpoors.com/indices/sp-case-shiller-home-price-indices/en/us/?indexId=spusa-cashpidff--p-us----."]
[null,"There","is","more","information","about","home","price","sales","pairs","in","the"]
[null,"Methodology","section.","Copyright,","2014,","Standard","&","Poor's","Financial"]
[null,"Services","LLC.","Reprinted","with","permission."]
[]
["DATE","VALUE"]
["1975-01-01",25.19]
["1975-02-01",25.24]
["1975-03-01",25.33]
["1975-04-01",25.4]
["1975-05-01",25.48]
["1975-06-01",25.47]
["1975-07-01",25.61]
["1975-08-01",25.76]
["1975-09-01",26.01]
["1975-10-01",26.19]
["1975-11-01",26.37]
["1975-12-01",26.45]
["1976-01-01",26.56]
["1976-02-01",26.61]
["1976-03-01",26.85]
["1976-04-01",27.13]
["1976-05-01",27.46]
["1976-06-01",27.54]
["1976-07-01",27.76]
["1976-08-01",27.94]
["1976-09-01",28.16]
["1976-10-01",28.28]
["1976-11-01",28.47]
["1976-12-01",28.7]
["1977-01-01",28.9]
["1977-02-01",29.21]
["1977-03-01",29.62]
["1977-04-01",30.16]
["1977-05-01",30.53]
["1977-06-01",30.76]
["1977-07-01",31.07]
["1977-08-01",31.39]
["1977-09-01",31.8]
["1977-10-01",32.19]
["1977-11-01",32.53]
["1977-12-01",32.83]
["1978-01-01",33.15]
["1978-02-01",33.51]
["1978-03-01",33.979999999999997]
["1978-04-01",34.43]
["1978-05-01",34.909999999999997]
["1978-06-01",35.44]
["1978-07-01",35.950000000000003]
["1978-08-01",36.43]
["1978-09-01",36.81]
["1978-10-01",37.17]
["1978-11-01",37.56]
["1978-12-01",38]
["1979-01-01",38.51]
["1979-02-01",38.99]
["1979-03-01",39.51]
["1979-04-01",40.020000000000003]
["1979-05-01",40.53]
["1979-06-01",41.05]
["1979-07-01",41.5]
["1979-08-01",41.92]
["1979-09-01",42.29]
["1979-10-01",42.67]
["1979-11-01",42.97]
["1979-12-01",43.23]
["1980-01-01",43.44]
["1980-02-01",43.69]
["1980-03-01",44.06]
["1980-04-01",44.46]
["1980-05-01",44.77]
["1980-06-01",45.05]
["1980-07-01",45.37]
["1980-08-01",45.64]
["1980-09-01",45.86]
["1980-10-01",46.05]
["1980-11-01",46.23]
["1980-12-01",46.41]
["1981-01-01",46.56]
["1981-02-01",46.74]
["1981-03-01",47.03]
["1981-04-01",47.46]
["1981-05-01",47.8]
["1981-06-01",48.1]
["1981-07-01",48.35]
["1981-08-01",48.59]
["1981-09-01",48.68]
["1981-10-01",48.76]
["1981-11-01",48.76]
["1981-12-01",48.79]
["1982-01-01",48.81]
["1982-02-01",48.88]
["1982-03-01",48.86]
["1982-04-01",48.93]
["1982-05-01",49]
["1982-06-01",49]
["1982-07-01",48.99]
["1982-08-01",48.97]
["1982-09-01",48.99]
["1982-10-01",48.99]
["1982-11-01",48.99]
["1982-12-01",49.08]
["1983-01-01",49.24]
["1983-02-01",49.49]
["1983-03-01",49.69]
["1983-04-01",49.94]
["1983-05-01",50.19]
["1983-06-01",50.44]
["1983-07-01",50.73]
["1983-08-01",50.95]
["1983-09-01",51.09]
["1983-10-01",51.18]
["1983-11-01",51.25]
["1983-12-01",51.39]
["1984-01-01",51.53]
["1984-02-01",51.7]
["1984-03-01",51.93]
["1984-04-01",52.22]
["1984-05-01",52.56]
["1984-06-01",52.86]
["1984-07-01",53.16]
["1984-08-01",53.42]
["1984-09-01",53.57]
["1984-10-01",53.67]
["1984-11-01",53.67]
["1984-12-01",53.79]
["1985-01-01",53.97]
["1985-02-01",54.22]
["1985-03-01",54.53]
["1985-04-01",54.9]
["1985-05-01",55.32]
["1985-06-01",55.72]
["1985-07-01",56.12]
["1985-08-01",56.5]
["1985-09-01",56.87]
["1985-10-01",57.19]
["1985-11-01",57.51]
["1985-12-01",57.81]
["1986-01-01",58.16]
["1986-02-01",58.5]
["1986-03-01",58.94]
["1986-04-01",59.48]
["1986-05-01",60.05]
["1986-06-01",60.65]
["1986-07-01",61.25]
["1986-08-01",61.78]
["1986-09-01",62.24]
["1986-10-01",62.59]
["1986-11-01",62.9]
["1986-12-01",63.37]
["1987-01-01",63.75]
["1987-02-01",64.150000000000006]
["1987-03-01",64.489999999999995]
["1987-04-01",65]
["1987-05-01",65.569999999999993]
["1987-06-01",66.239999999999995]
["1987-07-01",66.8]
["1987-08-01",67.290000000000006]
["1987-09-01",67.64]
["1987-10-01",67.92]
["1987-11-01",68.11]
["1987-12-01",68.36]
["1988-01-01",68.599999999999994]
["1988-02-01",68.930000000000007]
["1988-03-01",69.33]
["1988-04-01",69.8]
["1988-05-01",70.42]
["1988-06-01",71.08]
["1988-07-01",71.69]
["1988-08-01",72.19]
["1988-09-01",72.58]
["1988-10-01",72.83]
["1988-11-01",73.08]
["1988-12-01",73.290000000000006]
["1989-01-01",73.62]
["1989-02-01",73.97]
["1989-03-01",74.42]
["1989-04-01",74.87]
["1989-05-01",75.3]
["1989-06-01",75.7]
["1989-07-01",76.05]
["1989-08-01",76.28]
["1989-09-01",76.430000000000007]
["1989-10-01",76.489999999999995]
["1989-11-01",76.52]
["1989-12-01",76.5]
["1990-01-01",76.53]
["1990-02-01",76.59]
["1990-03-01",76.790000000000006]
["1990-04-01",77.040000000000006]
["1990-05-01",77.3]
["1990-06-01",77.5]
["1990-07-01",77.56]
["1990-08-01",77.48]
["1990-09-01",77.22]
["1990-10-01",76.91]
["1990-11-01",76.38]
["1990-12-01",75.97]
["1991-01-01",75.53]
["1991-02-01",75.25]
["1991-03-01",75.150000000000006]
["1991-04-01",75.319999999999993]
["1991-05-01",75.77]
["1991-06-01",76.260000000000005]
["1991-07-01",76.510000000000005]
["1991-08-01",76.59]
["1991-09-01",76.58]
["1991-10-01",76.290000000000006]
["1991-11-01",76.040000000000006]
["1991-12-01",75.84]
["1992-01-01",75.7]
["1992-02-01",75.66]
["1992-03-01",75.819999999999993]
["1992-04-01",76.08]
["1992-05-01",76.400000000000006]
["1992-06-01",76.61]
["1992-07-01",76.72]
["1992-08-01",76.739999999999995]
["1992-09-01",76.64]
["1992-10-01",76.61]
["1992-11-01",76.59]
["1992-12-01",76.48]
["1993-01-01",76.41]
["1993-02-01",76.34]
["1993-03-01",76.39]
["1993-04-01",76.67]
["1993-05-01",77.040000000000006]
["1993-06-01",77.53]
["1993-07-01",77.900000000000006]
["1993-08-01",78.14]
["1993-09-01",78.209999999999994]
["1993-10-01",78.180000000000007]
["1993-11-01",78.180000000000007]
["1993-12-01",78.13]
["1994-01-01",78.209999999999994]
["1994-02-01",78.22]
["1994-03-01",78.36]
["1994-04-01",78.72]
["1994-05-01",79.23]
["1994-06-01",79.72]
["1994-07-01",80.08]
["1994-08-01",80.33]
["1994-09-01",80.36]
["1994-10-01",80.319999999999993]
["1994-11-01",80.19]
["1994-12-01",80.099999999999994]
["1995-01-01",80.05]
["1995-02-01",80.010000000000005]
["1995-03-01",80.099999999999994]
["1995-04-01",80.400000000000006]
["1995-05-01",80.72]
["1995-06-01",81.099999999999994]
["1995-07-01",81.44]
["1995-08-01",81.680000000000007]
["1995-09-01",81.77]
["1995-10-01",81.760000000000005]
["1995-11-01",81.66]
["1995-12-01",81.540000000000006]
["1996-01-01",81.459999999999994]
["1996-02-01",81.430000000000007]
["1996-03-01",81.7]
["1996-04-01",82.16]
["1996-05-01",82.63]
["1996-06-01",83.08]
["1996-07-01",83.45]
["1996-08-01",83.68]
["1996-09-01",83.74]
["1996-10-01",83.67]
["1996-11-01",83.59]
["1996-12-01",83.53]
["1997-01-01",83.56]
["1997-02-01",83.63]
["1997-03-01",83.94]
["1997-04-01",84.36]
["1997-05-01",84.91]
["1997-06-01",85.44]
["1997-07-01",85.88]
["1997-08-01",86.19]
["1997-09-01",86.35]
["1997-10-01",86.45]
["1997-11-01",86.67]
["1997-12-01",86.89]
["1998-01-01",87.2]
["1998-02-01",87.42]
["1998-03-01",87.92]
["1998-04-01",88.6]
["1998-05-01",89.41]
["1998-06-01",90.23]
["1998-07-01",90.9]
["1998-08-01",91.45]
["1998-09-01",91.79]
["1998-10-01",92.04]
["1998-11-01",92.23]
["1998-12-01",92.48]
["1999-01-01",92.75]
["1999-02-01",93.02]
["1999-03-01",93.65]
["1999-04-01",94.48]
["1999-05-01",95.4]
["1999-06-01",96.41]
["1999-07-01",97.23]
["1999-08-01",97.94]
["1999-09-01",98.44]
["1999-10-01",98.88]
["1999-11-01",99.2]
["1999-12-01",99.59]
["2000-01-01",100]
["2000-02-01",100.57]
["2000-03-01",101.47]
["2000-04-01",102.54]
["2000-05-01",103.7]
["2000-06-01",104.86]
["2000-07-01",105.72]
["2000-08-01",106.52]
["2000-09-01",107.13]
["2000-10-01",107.73]
["2000-11-01",108.29]
["2000-12-01",108.79]
["2001-01-01",109.22]
["2001-02-01",109.64]
["2001-03-01",110.4]
["2001-04-01",111.25]
["2001-05-01",112.2]
["2001-06-01",113.27]
["2001-07-01",114.23]
["2001-08-01",114.99]
["2001-09-01",115.47]
["2001-10-01",115.68]
["2001-11-01",115.84]
["2001-12-01",116.06]
["2002-01-01",116.44]
["2002-02-01",116.92]
["2002-03-01",117.93]
["2002-04-01",119.21]
["2002-05-01",120.79]
["2002-06-01",122.33]
["2002-07-01",123.69]
["2002-08-01",124.73]
["2002-09-01",125.49]
["2002-10-01",126.14]
["2002-11-01",126.64]
["2002-12-01",127.15]
["2003-01-01",127.65]
["2003-02-01",128.33000000000001]
["2003-03-01",129.31]
["2003-04-01",130.49]
["2003-05-01",131.84]
["2003-06-01",133.22999999999999]
["2003-07-01",134.65]
["2003-08-01",135.97]
["2003-09-01",137.08000000000001]
["2003-10-01",137.97999999999999]
["2003-11-01",138.77000000000001]
["2003-12-01",139.63]
["2004-01-01",140.71]
["2004-02-01",142.04]
["2004-03-01",144.09]
["2004-04-01",146.18]
["2004-05-01",148.34]
["2004-06-01",150.52000000000001]
["2004-07-01",152.34]
["2004-08-01",153.82]
["2004-09-01",155.11000000000001]
["2004-10-01",156.30000000000001]
["2004-11-01",157.5]
["2004-12-01",158.66999999999999]
["2005-01-01",160.13999999999999]
["2005-02-01",161.93]
["2005-03-01",164.58]
["2005-04-01",167]
["2005-05-01",169.54]
["2005-06-01",172.01]
["2005-07-01",174.1]
["2005-08-01",175.92]
["2005-09-01",177.61]
["2005-10-01",178.76]
["2005-11-01",179.68]
["2005-12-01",180.12]
["2006-01-01",180.83]
["2006-02-01",181.51]
["2006-03-01",182.76]
["2006-04-01",183.66]
["2006-05-01",184.39]
["2006-06-01",184.56]
["2006-07-01",184.62]
["2006-08-01",184.42]
["2006-09-01",184.21]
["2006-10-01",184.07]
["2006-11-01",183.65]
["2006-12-01",183.25]
["2007-01-01",182.74]
["2007-02-01",182.49]
["2007-03-01",182.21]
["2007-04-01",182.15]
["2007-05-01",181.91]
["2007-06-01",181.56]
["2007-07-01",181.01]
["2007-08-01",180.25]
["2007-09-01",179.14]
["2007-10-01",177.56]
["2007-11-01",175.2]
["2007-12-01",173.38]
["2008-01-01",171.11]
["2008-02-01",169.22]
["2008-03-01",167.94]
["2008-04-01",167.35]
["2008-05-01",167.05]
["2008-06-01",166.57]
["2008-07-01",165.75]
["2008-08-01",164.32]
["2008-09-01",161.94999999999999]
["2008-10-01",159.19999999999999]
["2008-11-01",156.11000000000001]
["2008-12-01",152.58000000000001]
["2009-01-01",149.4]
["2009-02-01",147.66]
["2009-03-01",146.56]
["2009-04-01",146.99]
["2009-05-01",148.21]
["2009-06-01",149.84]
["2009-07-01",150.79]
["2009-08-01",150.71]
["2009-09-01",149.66]
["2009-10-01",148.62]
["2009-11-01",147.97999999999999]
["2009-12-01",146.71]
["2010-01-01",145]
["2010-02-01",143.06]
["2010-03-01",143.6]
["2010-04-01",145.4]
["2010-05-01",147.03]
["2010-06-01",147.69]
["2010-07-01",147.55000000000001]
["2010-08-01",146.4]
["2010-09-01",144.59]
["2010-10-01",143.13]
["2010-11-01",141.82]
["2010-12-01",140.63999999999999]
["2011-01-01",139.05000000000001]
["2011-02-01",137.75]
["2011-03-01",137.80000000000001]
["2011-04-01",139.16]
["2011-05-01",140.69]
["2011-06-01",141.94]
["2011-07-01",142.34]
["2011-08-01",141.79]
["2011-09-01",140.16999999999999]
["2011-10-01",138.41]
["2011-11-01",136.66999999999999]
["2011-12-01",135.18]
["2012-01-01",134.19]
["2012-02-01",134.03]
["2012-03-01",135.91999999999999]
["2012-04-01",138.54]
["2012-05-01",141.12]
["2012-06-01",143.22999999999999]
["2012-07-01",144.33000000000001]
["2012-08-01",144.75]
["2012-09-01",144.41999999999999]
["2012-10-01",144.04]
["2012-11-01",144.04]
["2012-12-01",143.94999999999999]
["2013-01-01",144.38999999999999]
["2013-02-01",145.22999999999999]
["2013-03-01",148.04]
["2013-04-01",151.07]
["2013-05-01",153.97]
["2013-06-01",156.54]
["2013-07-01",158.4]
["2013-08-01",159.51]
["2013-09-01",159.79]
["2013-10-01",159.68]
["2013-11-01",159.5]
["2013-12-01",159.44]
["2014-01-01",159.53]
["2014-02-01",160.04]
["2014-03-01",161.35]
["2014-04-01",163.13]
["2014-05-01",164.87]
["2014-06-01",166.42]
["2014-07-01",167.35]
["2014-08-01",167.66]
["2014-09-01",167.45]
["2014-10-01",167.15]
["2014-11-01",166.94]
["2014-12-01",166.75]
["2015-01-01",166.66]

{"sheet":"Case Shiller US 1","index":9,"n_rows":497,"n_cols":12,"rows_kept":497,"cut":false,"hidden":false,"merged":[]}
["Title:","S&P/Case-Shiller","U.S.","National","Home","Price","IndexÂ©"]
["Series","ID:","CSUSHPISA"]
["Source:","S&P","Dow","Jones","Indices","LLC"]
["Release:","S&P/Case-Shiller","Home","Price","Indices"]
["Seasonal","Adjustment:","Seasonally","Adjusted"]
["Frequency:","Monthly"]
["Units:","Index","January",2000,"=",100]
["Date","Range:","1975-01-01","to","2015-01-01"]
["Last","Updated:","2015-03-31","09:06:00","AM","CDT"]
["Notes:","For","more","information","regarding","the","index,","please","visit,"]
[null,"http://www.standardandpoors.com/indices/sp-case-shiller-home-price-indices/en/us/?indexId=spusa-cashpidff--p-us----."]
[null,"There","is","more","information","about","home","price","sales","pairs","in","the"]
[null,"Methodology","section.","Copyright,","2014,","Standard","&","Poor's","Financial"]
[null,"Services","LLC.","Reprinted","with","permission."]
[]
["DATE","VALUE"]
["1975-01-01",25.29]
["1975-02-01",25.35]
["1975-03-01",25.39]
["1975-04-01",25.39]
["1975-05-01",25.41]
["1975-06-01",25.43]
["1975-07-01",25.56]
["1975-08-01",25.72]
["1975-09-01",25.95]
["1975-10-01",26.16]
["1975-11-01",26.36]
["1975-12-01",26.5]
["1976-01-01",26.66]
["1976-02-01",26.73]
["1976-03-01",26.91]
["1976-04-01",27.12]
["1976-05-01",27.38]
["1976-06-01",27.5]
["1976-07-01",27.7]
["1976-08-01",27.9]
["1976-09-01",28.09]
["1976-10-01",28.25]
["1976-11-01",28.46]
["1976-12-01",28.75]
["1977-01-01",29.01]
["1977-02-01",29.34]
["1977-03-01",29.7]
["1977-04-01",30.15]
["1977-05-01",30.45]
["1977-06-01",30.7]
["1977-07-01",31]
["1977-08-01",31.33]
["1977-09-01",31.72]
["1977-10-01",32.159999999999997]
["1977-11-01",32.53]
["1977-12-01",32.89]
["1978-01-01",33.270000000000003]
["1978-02-01",33.659999999999997]
["1978-03-01",34.07]
["1978-04-01",34.43]
["1978-05-01",34.83]
["1978-06-01",35.369999999999997]
["1978-07-01",35.86]
["1978-08-01",36.340000000000003]
["1978-09-01",36.729999999999997]
["1978-10-01",37.119999999999997]
["1978-11-01",37.56]
["1978-12-01",38.07]
["1979-01-01",38.64]
["1979-02-01",39.159999999999997]
["1979-03-01",39.61]
["1979-04-01",40.03]
["1979-05-01",40.46]
["1979-06-01",40.96]
["1979-07-01",41.39]
["1979-08-01",41.8]
["1979-09-01",42.19]
["1979-10-01",42.62]
["1979-11-01",42.99]
["1979-12-01",43.31]
["1980-01-01",43.59]
["1980-02-01",43.87]
["1980-03-01",44.17]
["1980-04-01",44.48]
["1980-05-01",44.71]
["1980-06-01",44.95]
["1980-07-01",45.24]
["1980-08-01",45.5]
["1980-09-01",45.76]
["1980-10-01",46]
["1980-11-01",46.26]
["1980-12-01",46.51]
["1981-01-01",46.71]
["1981-02-01",46.93]
["1981-03-01",47.15]
["1981-04-01",47.49]
["1981-05-01",47.74]
["1981-06-01",48]
["1981-07-01",48.2]
["1981-08-01",48.42]
["1981-09-01",48.56]
["1981-10-01",48.7]
["1981-11-01",48.8]
["1981-12-01",48.89]
["1982-01-01",48.97]
["1982-02-01",49.07]
["1982-03-01",49]
["1982-04-01",48.97]
["1982-05-01",48.95]
["1982-06-01",48.9]
["1982-07-01",48.84]
["1982-08-01",48.79]
["1982-09-01",48.86]
["1982-10-01",48.93]
["1982-11-01",49.04]
["1982-12-01",49.18]
["1983-01-01",49.4]
["1983-02-01",49.68]
["1983-03-01",49.84]
["1983-04-01",50]
["1983-05-01",50.16]
["1983-06-01",50.34]
["1983-07-01",50.57]
["1983-08-01",50.75]
["1983-09-01",50.93]
["1983-10-01",51.11]
["1983-11-01",51.3]
["1983-12-01",51.5]
["1984-01-01",51.7]
["1984-02-01",51.89]
["1984-03-01",52.1]
["1984-04-01",52.3]
["1984-05-01",52.53]
["1984-06-01",52.76]
["1984-07-01",52.98]
["1984-08-01",53.2]
["1984-09-01",53.39]
["1984-10-01",53.58]
["1984-11-01",53.71]
["1984-12-01",53.9]
["1985-01-01",54.15]
["1985-02-01",54.43]
["1985-03-01",54.72]
["1985-04-01",55]
["1985-05-01",55.31]
["1985-06-01",55.61]
["1985-07-01",55.92]
["1985-08-01",56.26]
["1985-09-01",56.66]
["1985-10-01",57.08]
["1985-11-01",57.54]
["1985-12-01",57.94]
["1986-01-01",58.36]
["1986-02-01",58.75]
["1986-03-01",59.17]
["1986-04-01",59.62]
["1986-05-01",60.06]
["1986-06-01",60.52]
["1986-07-01",61.01]
["1986-08-01",61.5]
["1986-09-01",61.99]
["1986-10-01",62.45]
["1986-11-01",62.92]
["1986-12-01",63.51]
["1987-01-01",63.99]
["1987-02-01",64.45]
["1987-03-01",64.760000000000005]
["1987-04-01",65.16]
["1987-05-01",65.59]
["1987-06-01",66.09]
["1987-07-01",66.52]
["1987-08-01",66.95]
["1987-09-01",67.34]
["1987-10-01",67.760000000000005]
["1987-11-01",68.12]
["1987-12-01",68.52]
["1988-01-01",68.87]
["1988-02-01",69.28]
["1988-03-01",69.650000000000006]
["1988-04-01",69.989999999999995]
["1988-05-01",70.430000000000007]
["1988-06-01",70.89]
["1988-07-01",71.36]
["1988-08-01",71.81]
["1988-09-01",72.25]
["1988-10-01",72.650000000000006]
["1988-11-01",73.08]
["1988-12-01",73.48]
["1989-01-01",73.959999999999994]
["1989-02-01",74.39]
["1989-03-01",74.790000000000006]
["1989-04-01",75.09]
["1989-05-01",75.31]
["1989-06-01",75.48]
["1989-07-01",75.66]
["1989-08-01",75.84]
["1989-09-01",76.06]
["1989-10-01",76.290000000000006]
["1989-11-01",76.52]
["1989-12-01",76.709999999999994]
["1990-01-01",76.900000000000006]
["1990-02-01",77.05]
["1990-03-01",77.2]
["1990-04-01",77.28]
["1990-05-01",77.3]
["1990-06-01",77.260000000000005]
["1990-07-01",77.14]
["1990-08-01",77]
["1990-09-01",76.84]
["1990-10-01",76.7]
["1990-11-01",76.36]
["1990-12-01",76.180000000000007]
["1991-01-01",75.91]
["1991-02-01",75.739999999999995]
["1991-03-01",75.58]
["1991-04-01",75.569999999999993]
["1991-05-01",75.77]
["1991-06-01",76]
["1991-07-01",76.08]
["1991-08-01",76.11]
["1991-09-01",76.2]
["1991-10-01",76.069999999999993]
["1991-11-01",76.02]
["1991-12-01",76.05]
["1992-01-01",76.09]
["1992-02-01",76.16]
["1992-03-01",76.28]
["1992-04-01",76.349999999999994]
["1992-05-01",76.400000000000006]
["1992-06-01",76.34]
["1992-07-01",76.27]
["1992-08-01",76.239999999999995]
["1992-09-01",76.25]
["1992-10-01",76.39]
["1992-11-01",76.569999999999993]
["1992-12-01",76.69]
["1993-01-01",76.790000000000006]
["1993-02-01",76.849999999999994]
["1993-03-01",76.88]
["1993-04-01",76.94]
["1993-05-01",77.05]
["1993-06-01",77.25]
["1993-07-01",77.44]
["1993-08-01",77.62]
["1993-09-01",77.81]
["1993-10-01",77.959999999999994]
["1993-11-01",78.16]
["1993-12-01",78.34]
["1994-01-01",78.599999999999994]
["1994-02-01",78.739999999999995]
["1994-03-01",78.87]
["1994-04-01",79.010000000000005]
["1994-05-01",79.239999999999995]
["1994-06-01",79.44]
["1994-07-01",79.61]
["1994-08-01",79.8]
["1994-09-01",79.94]
["1994-10-01",80.08]
["1994-11-01",80.17]
["1994-12-01",80.31]
["1995-01-01",80.45]
["1995-02-01",80.55]
["1995-03-01",80.62]
["1995-04-01",80.69]
["1995-05-01",80.73]
["1995-06-01",80.81]
["1995-07-01",80.959999999999994]
["1995-08-01",81.14]
["1995-09-01",81.33]
["1995-10-01",81.510000000000005]
["1995-11-01",81.650000000000006]
["1995-12-01",81.77]
["1996-01-01",81.87]
["1996-02-01",81.99]
["1996-03-01",82.23]
["1996-04-01",82.45]
["1996-05-01",82.64]
["1996-06-01",82.78]
["1996-07-01",82.96]
["1996-08-01",83.12]
["1996-09-01",83.29]
["1996-10-01",83.41]
["1996-11-01",83.59]
["1996-12-01",83.76]
["1997-01-01",83.99]
["1997-02-01",84.22]
["1997-03-01",84.49]
["1997-04-01",84.66]
["1997-05-01",84.9]
["1997-06-01",85.12]
["1997-07-01",85.37]
["1997-08-01",85.61]
["1997-09-01",85.89]
["1997-10-01",86.19]
["1997-11-01",86.67]
["1997-12-01",87.13]
["1998-01-01",87.66]
["1998-02-01",88.05]
["1998-03-01",88.48]
["1998-04-01",88.92]
["1998-05-01",89.4]
["1998-06-01",89.88]
["1998-07-01",90.35]
["1998-08-01",90.83]
["1998-09-01",91.3]
["1998-10-01",91.75]
["1998-11-01",92.23]
["1998-12-01",92.74]
["1999-01-01",93.25]
["1999-02-01",93.71]
["1999-03-01",94.26]
["1999-04-01",94.83]
["1999-05-01",95.39]
["1999-06-01",96.02]
["1999-07-01",96.63]
["1999-08-01",97.26]
["1999-09-01",97.91]
["1999-10-01",98.57]
["1999-11-01",99.2]
["1999-12-01",99.89]
["2000-01-01",100.56]
["2000-02-01",101.34]
["2000-03-01",102.13]
["2000-04-01",102.92]
["2000-05-01",103.68]
["2000-06-01",104.42]
["2000-07-01",105.05]
["2000-08-01",105.77]
["2000-09-01",106.54]
["2000-10-01",107.38]
["2000-11-01",108.3]
["2000-12-01",109.13]
["2001-01-01",109.85]
["2001-02-01",110.51]
["2001-03-01",111.11]
["2001-04-01",111.65]
["2001-05-01",112.16]
["2001-06-01",112.8]
["2001-07-01",113.49]
["2001-08-01",114.17]
["2001-09-01",114.81]
["2001-10-01",115.31]
["2001-11-01",115.86]
["2001-12-01",116.45]
["2002-01-01",117.15]
["2002-02-01",117.85]
["2002-03-01",118.69]
["2002-04-01",119.61]
["2002-05-01",120.73]
["2002-06-01",121.81]
["2002-07-01",122.89]
["2002-08-01",123.83]
["2002-09-01",124.78]
["2002-10-01",125.73]
["2002-11-01",126.67]
["2002-12-01",127.62]
["2003-01-01",128.46]
["2003-02-01",129.36000000000001]
["2003-03-01",130.15]
["2003-04-01",130.88999999999999]
["2003-05-01",131.74]
["2003-06-01",132.65]
["2003-07-01",133.78]
["2003-08-01",134.97]
["2003-09-01",136.30000000000001]
["2003-10-01",137.53]
["2003-11-01",138.80000000000001]
["2003-12-01",140.18]
["2004-01-01",141.65]
["2004-02-01",143.19999999999999]
["2004-03-01",145.06]
["2004-04-01",146.59]
["2004-05-01",148.19]
["2004-06-01",149.85]
["2004-07-01",151.34]
["2004-08-01",152.63999999999999]
["2004-09-01",154.18]
["2004-10-01",155.75]
["2004-11-01",157.52000000000001]
["2004-12-01",159.33000000000001]
["2005-01-01",161.29]
["2005-02-01",163.36000000000001]
["2005-03-01",165.81]
["2005-04-01",167.5]
["2005-05-01",169.35]
["2005-06-01",171.19]
["2005-07-01",172.86]
["2005-08-01",174.45]
["2005-09-01",176.44]
["2005-10-01",178.03]
["2005-11-01",179.68]
["2005-12-01",180.91]
["2006-01-01",182.33]
["2006-02-01",183.32]
["2006-03-01",184.37]
["2006-04-01",184.34]
["2006-05-01",184.17]
["2006-06-01",183.52]
["2006-07-01",183.08]
["2006-08-01",182.61]
["2006-09-01",182.81]
["2006-10-01",183.2]
["2006-11-01",183.61]
["2006-12-01",184.15]
["2007-01-01",184.54]
["2007-02-01",184.66]
["2007-03-01",184.18]
["2007-04-01",183.03]
["2007-05-01",181.63]
["2007-06-01",180.27]
["2007-07-01",179.12]
["2007-08-01",178.13]
["2007-09-01",177.57]
["2007-10-01",176.64]
["2007-11-01",175.16]
["2007-12-01",174.36]
["2008-01-01",173.16]
["2008-02-01",171.65]
["2008-03-01",170.11]
["2008-04-01",168.36]
["2008-05-01",166.7]
["2008-06-01",165.05]
["2008-07-01",163.58000000000001]
["2008-08-01",162.02000000000001]
["2008-09-01",160.33000000000001]
["2008-10-01",158.34]
["2008-11-01",156.15]
["2008-12-01",153.63999999999999]
["2009-01-01",151.55000000000001]
["2009-02-01",150.16]
["2009-03-01",148.75]
["2009-04-01",147.97999999999999]
["2009-05-01",147.75]
["2009-06-01",148.11000000000001]
["2009-07-01",148.4]
["2009-08-01",148.29]
["2009-09-01",148.03]
["2009-10-01",147.85]
["2009-11-01",148.15]
["2009-12-01",147.96]
["2010-01-01",147.41]
["2010-02-01",145.82]
["2010-03-01",145.93]
["2010-04-01",146.38999999999999]
["2010-05-01",146.38999999999999]
["2010-06-01",145.66999999999999]
["2010-07-01",144.88]
["2010-08-01",143.82]
["2010-09-01",142.93]
["2010-10-01",142.47]
["2010-11-01",142.16]
["2010-12-01",142.08000000000001]
["2011-01-01",141.6]
["2011-02-01",140.63]
["2011-03-01",140.09]
["2011-04-01",140.02000000000001]
["2011-05-01",139.9]
["2011-06-01",139.77000000000001]
["2011-07-01",139.56]
["2011-08-01",139.15]
["2011-09-01",138.53]
["2011-10-01",137.88]
["2011-11-01",137.16999999999999]
["2011-12-01",136.77000000000001]
["2012-01-01",136.80000000000001]
["2012-02-01",136.96]
["2012-03-01",138.15]
["2012-04-01",139.27000000000001]
["2012-05-01",140.19]
["2012-06-01",140.91]
["2012-07-01",141.41]
["2012-08-01",142.02000000000001]
["2012-09-01",142.72]
["2012-10-01",143.56]
["2012-11-01",144.72]
["2012-12-01",145.81]
["2013-01-01",147.27000000000001]
["2013-02-01",148.43]
["2013-03-01",150.38999999999999]
["2013-04-01",151.74]
["2013-05-01",152.85]
["2013-06-01",153.94]
["2013-07-01",155.16]
["2013-08-01",156.5]
["2013-09-01",157.91]
["2013-10-01",159.19999999999999]
["2013-11-01",160.35]
["2013-12-01",161.6]
["2014-01-01",162.74]
["2014-02-01",163.57]
["2014-03-01",163.86]
["2014-04-01",163.78]
["2014-05-01",163.63]
["2014-06-01",163.63999999999999]
["2014-07-01",163.94]
["2014-08-01",164.5]
["2014-09-01",165.49]
["2014-10-01",166.66]
["2014-11-01",167.86]
["2014-12-01",169.05]
["2015-01-01",170.01]

{"sheet":"Case Shiller US 2","index":10,"n_rows":125,"n_cols":12,"rows_kept":125,"cut":false,"hidden":false,"merged":[]}
["Title:","S&P/Case-Shiller","U.S.","National","Home","Price","IndexÂ©","(DISCONTINUED)"]
["Series","ID:","USCSCOMHPISA"]
["Source:","S&P","Dow","Jones","Indices","LLC"]
["Release:","S&P/Case-Shiller","Home","Price","Indices"]
["Seasonal","Adjustment:","Seasonally","Adjusted"]
["Frequency:","Quarterly"]
["Units:","Index",2000,"Q1","=",100]
["Date","Range:","1987-01-01","to","2014-01-01"]
["Last","Updated:","2014-05-27","10:16:00","AM","CDT"]
["Notes:","For","more","information","regarding","the","index,","please","visit,"]
[null,"http://www.standardandpoors.com/indices/sp-case-shiller-home-price-indices/en/us/?indexId=spusa-cashpidff--p-us----."]
[null,"There","is","more","information","about","home","price","sales","pairs","in","the"]
[null,"Methodology","section.","Copyright,","2014,","Standard","&","Poor's","Financial"]
[null,"Services","LLC.","Reprinted","with","permission."]
[]
["DATE","VALUE"]
["1987-01-01",62.47]
["1987-04-01",63.71]
["1987-07-01",65.010000000000005]
["1987-10-01",66.430000000000007]
["1988-01-01",67.14]
["1988-04-01",68.86]
["1988-07-01",70.16]
["1988-10-01",71.48]
["1989-01-01",72.959999999999994]
["1989-04-01",73.97]
["1989-07-01",74.83]
["1989-10-01",75.64]
["1990-01-01",76.150000000000006]
["1990-04-01",75.98]
["1990-07-01",75.44]
["1990-10-01",74.849999999999994]
["1991-01-01",74]
["1991-04-01",74.319999999999993]
["1991-07-01",74.75]
["1991-10-01",74.91]
["1992-01-01",74.89]
["1992-04-01",75.06]
["1992-07-01",74.97]
["1992-10-01",75]
["1993-01-01",75.05]
["1993-04-01",75.06]
["1993-07-01",75.62]
["1993-10-01",76.180000000000007]
["1994-01-01",77.069999999999993]
["1994-04-01",77.63]
["1994-07-01",77.77]
["1994-10-01",78.17]
["1995-01-01",78.36]
["1995-04-01",78.849999999999994]
["1995-07-01",79.39]
["1995-10-01",79.790000000000006]
["1996-01-01",80.23]
["1996-04-01",80.7]
["1996-07-01",81.22]
["1996-10-01",81.459999999999994]
["1997-01-01",82.46]
["1997-04-01",83.15]
["1997-07-01",83.86]
["1997-10-01",85.06]
["1998-01-01",86.39]
["1998-04-01",87.92]
["1998-07-01",89.54]
["1998-10-01",91.05]
["1999-01-01",92.8]
["1999-04-01",94.38]
["1999-07-01",96.43]
["1999-10-01",98.5]
["2000-01-01",100.78]
["2000-04-01",103.42]
["2000-07-01",105.68]
["2000-10-01",108.07]
["2001-01-01",110.1]
["2001-04-01",112.36]
["2001-07-01",114.8]
["2001-10-01",116.38]
["2002-01-01",118.87]
["2002-04-01",121.93]
["2002-07-01",125.38]
["2002-10-01",128.72]
["2003-01-01",131.44]
["2003-04-01",133.9]
["2003-07-01",137.57]
["2003-10-01",142.43]
["2004-01-01",147.38999999999999]
["2004-04-01",152.61000000000001]
["2004-07-01",157.43]
["2004-10-01",163.16999999999999]
["2005-01-01",170.77]
["2005-04-01",176.33]
["2005-07-01",181.47]
["2005-10-01",187.06]
["2006-01-01",190.99]
["2006-04-01",189.46]
["2006-07-01",185.93]
["2006-10-01",186.48]
["2007-01-01",187.92]
["2007-04-01",182.51]
["2007-07-01",177.36]
["2007-10-01",170.79]
["2008-01-01",162.82]
["2008-04-01",155.07]
["2008-07-01",147.80000000000001]
["2008-10-01",139.54]
["2009-01-01",132.58000000000001]
["2009-04-01",132.1]
["2009-07-01",134.75]
["2009-10-01",136.31]
["2010-01-01",136]
["2010-04-01",136.78]
["2010-07-01",132.69999999999999]
["2010-10-01",131.44]
["2011-01-01",129.66]
["2011-04-01",129.07]
["2011-07-01",128.16]
["2011-10-01",126.75]
["2012-01-01",128.15]
["2012-04-01",131.1]
["2012-07-01",132.79]
["2012-10-01",136.09]
["2013-01-01",140.93]
["2013-04-01",144.19]
["2013-07-01",147.72]
["2013-10-01",151.65]
["2014-01-01",155.47]

{"sheet":"Case Shiller Arizona","index":11,"n_rows":346,"n_cols":14,"rows_kept":346,"cut":false,"hidden":false,"merged":[]}
["Title:","S&P/Case-Shiller","AZ-Phoenix","Home","Price","IndexÂ©"]
["Series","ID:","PHXRNSA"]
["Source:","S&P","Dow","Jones","Indices","LLC"]
["Release:","S&P/Case-Shiller","Home","Price","Indices"]
["Seasonal","Adjustment:","Not","Seasonally","Adjusted"]
["Frequency:","Monthly"]
["Units:","Index","January",2000,"=",100]
["Date","Range:","1989-01-01","to","2015-01-01"]
["Last","Updated:","2015-03-31","09:06:00","AM","CDT"]
["Notes:","For","more","information","regarding","the","index,","please","visit,"]
[null,"http://www.standardandpoors.com/indices/sp-case-shiller-home-price-indices/en/us/?indexId=spusa-cashpidff--p-us----."]
[]
[null,"Copyright","Â©","2014,","S&P","Dow","Jones","Indices","LLC.","All","rights","reserved."]
[null,"Reproduction","of","Home","Price","Index","for","Phoenix,","Arizona","in","any","form","is"]
[null,"prohibited","except","with","the","prior","written","permission","of","S&P","Dow","Jones"]
[null,"Indices","LLC","S&P.","S&P","does","not","guarantee","the","accuracy,","adequacy,"]
[null,"completeness","or","availability","of","any","information","and","is","not","responsible"]
[null,"for","any","errors","or","omissions,","regardless","of","the","cause","or","for","the"]
[null,"results","obtained","from","the","use","of","such","information.","S&P","DISCLAIMS","ANY"]
[null,"AND","ALL","EXPRESS","OR","IMPLIED","WARRANTIES,","INCLUDING,","BUT","NOT","LIMITED","TO,"]
[null,"ANY","WARRANTIES","OF","MERCHANTABILITY","OR","FITNESS","FOR","A","PARTICULAR","PURPOSE"]
[null,"OR","USE.","In","no","event","shall","S&P","be","liable","for","any","direct,","indirect,"]
[null,"special","or","consequential","damages,","costs,","expenses,","legal","fees,","or"]
[null,"losses","(including","lost","income","or","lost","profit","and","opportunity","costs)","in"]
[null,"connection","with","subscriber's","or","others'","user","of","Home","Price","Index","for"]
[null,"Phoenix,","Arizona."]
[]
[null,"Permission","to","reproduce","this","series","can","be","requested","from"]
[null,"index_services@spdji.com.","More","contact","details","are","available","from"]
[null,"http://us.spindices.com/contact-us/,","including","phone","numbers","for","all"]
[null,"of","its","regional","offices."]
[]
["DATE","VALUE"]
["1989-01-01",67.540000000000006]
["1989-02-01",67.430000000000007]
["1989-03-01",67.709999999999994]
["1989-04-01",67.650000000000006]
["1989-05-01",67.900000000000006]
["1989-06-01",67.66]
["1989-07-01",67.56]
["1989-08-01",67.28]
["1989-09-01",67.14]
["1989-10-01",66.680000000000007]
["1989-11-01",66.52]
["1989-12-01",66.41]
["1990-01-01",66.56]
["1990-02-01",66.510000000000005]
["1990-03-01",66.44]
["1990-04-01",66.48]
["1990-05-01",66.44]
["1990-06-01",66.56]
["1990-07-01",66.61]
["1990-08-01",66.58]
["1990-09-01",66.25]
["1990-10-01",65.930000000000007]
["1990-11-01",65.41]
["1990-12-01",65.36]
["1991-01-01",65.260000000000005]
["1991-02-01",65.290000000000006]
["1991-03-01",64.599999999999994]
["1991-04-01",64.349999999999994]
["1991-05-01",64.37]
["1991-06-01",64.88]
["1991-07-01",65.5]
["1991-08-01",65.87]
["1991-09-01",66.040000000000006]
["1991-10-01",65.84]
["1991-11-01",66.099999999999994]
["1991-12-01",65.95]
["1992-01-01",66.010000000000005]
["1992-02-01",65.88]
["1992-03-01",65.930000000000007]
["1992-04-01",65.83]
["1992-05-01",66.02]
["1992-06-01",66.08]
["1992-07-01",66.260000000000005]
["1992-08-01",66.459999999999994]
["1992-09-01",66.540000000000006]
["1992-10-01",66.55]
["1992-11-01",66.52]
["1992-12-01",66.59]
["1993-01-01",66.83]
["1993-02-01",66.83]
["1993-03-01",67.209999999999994]
["1993-04-01",67.3]
["1993-05-01",67.75]
["1993-06-01",67.95]
["1993-07-01",68.44]
["1993-08-01",68.72]
["1993-09-01",69.28]
["1993-10-01",69.41]
["1993-11-01",69.81]
["1993-12-01",70.03]
["1994-01-01",70.53]
["1994-02-01",70.819999999999993]
["1994-03-01",71.28]
["1994-04-01",71.73]
["1994-05-01",72.14]
["1994-06-01",72.47]
["1994-07-01",73]
["1994-08-01",73.53]
["1994-09-01",74.06]
["1994-10-01",74.260000000000005]
["1994-11-01",74.459999999999994]
["1994-12-01",74.790000000000006]
["1995-01-01",75.11]
["1995-02-01",75.37]
["1995-03-01",75.52]
["1995-04-01",75.8]
["1995-05-01",76.16]
["1995-06-01",76.819999999999993]
["1995-07-01",77.260000000000005]
["1995-08-01",77.709999999999994]
["1995-09-01",77.87]
["1995-10-01",78.150000000000006]
["1995-11-01",78.39]
["1995-12-01",78.739999999999995]
["1996-01-01",79.099999999999994]
["1996-02-01",79.47]
["1996-03-01",79.930000000000007]
["1996-04-01",80.39]
["1996-05-01",80.73]
["1996-06-01",81.099999999999994]
["1996-07-01",81.45]
["1996-08-01",81.87]
["1996-09-01",82.1]
["1996-10-01",82.21]
["1996-11-01",82.3]
["1996-12-01",82.34]
["1997-01-01",82.59]
["1997-02-01",82.9]
["1997-03-01",83.39]
["1997-04-01",83.88]
["1997-05-01",84.26]
["1997-06-01",84.52]
["1997-07-01",84.56]
["1997-08-01",84.84]
["1997-09-01",85.26]
["1997-10-01",85.81]
["1997-11-01",86.17]
["1997-12-01",86.41]
["1998-01-01",86.64]
["1998-02-01",87.09]
["1998-03-01",87.52]
["1998-04-01",88.06]
["1998-05-01",88.6]
["1998-06-01",89.41]
["1998-07-01",90.05]
["1998-08-01",90.54]
["1998-09-01",90.86]
["1998-10-01",91.15]
["1998-11-01",91.59]
["1998-12-01",92.04]
["1999-01-01",92.41]
["1999-02-01",92.91]
["1999-03-01",93.81]
["1999-04-01",94.63]
["1999-05-01",95.14]
["1999-06-01",95.77]
["1999-07-01",96.33]
["1999-08-01",97.23]
["1999-09-01",97.91]
["1999-10-01",98.56]
["1999-11-01",99.03]
["1999-12-01",99.49]
["2000-01-01",100]
["2000-02-01",100.43]
["2000-03-01",101.42]
["2000-04-01",102.13]
["2000-05-01",102.98]
["2000-06-01",103.89]
["2000-07-01",104.35]
["2000-08-01",104.92]
["2000-09-01",105.34]
["2000-10-01",105.67]
["2000-11-01",105.93]
["2000-12-01",105.88]
["2001-01-01",105.93]
["2001-02-01",106.27]
["2001-03-01",107.05]
["2001-04-01",107.85]
["2001-05-01",108.65]
["2001-06-01",109.19]
["2001-07-01",109.85]
["2001-08-01",110.36]
["2001-09-01",110.75]
["2001-10-01",111.2]
["2001-11-01",111.31]
["2001-12-01",111.57]
["2002-01-01",111.61]
["2002-02-01",112.05]
["2002-03-01",112.63]
["2002-04-01",113.34]
["2002-05-01",114.05]
["2002-06-01",114.83]
["2002-07-01",115.41]
["2002-08-01",115.9]
["2002-09-01",116.14]
["2002-10-01",116.42]
["2002-11-01",116.59]
["2002-12-01",116.7]
["2003-01-01",117.1]
["2003-02-01",117.72]
["2003-03-01",118.75]
["2003-04-01",119.37]
["2003-05-01",120]
["2003-06-01",120.79]
["2003-07-01",121.79]
["2003-08-01",122.89]
["2003-09-01",123.82]
["2003-10-01",124.75]
["2003-11-01",125.53]
["2003-12-01",126.33]
["2004-01-01",126.61]
["2004-02-01",127.28]
["2004-03-01",128.5]
["2004-04-01",130.1]
["2004-05-01",131.94999999999999]
["2004-06-01",134]
["2004-07-01",136.41999999999999]
["2004-08-01",138.66]
["2004-09-01",141.63999999999999]
["2004-10-01",145.07]
["2004-11-01",148.59]
["2004-12-01",152.38]
["2005-01-01",155.49]
["2005-02-01",160]
["2005-03-01",165.96]
["2005-04-01",173.08]
["2005-05-01",180.16]
["2005-06-01",188.96]
["2005-07-01",197.15]
["2005-08-01",204.94]
["2005-09-01",211.45]
["2005-10-01",215.95]
["2005-11-01",219.12]
["2005-12-01",220.75]
["2006-01-01",221.81]
["2006-02-01",222.65]
["2006-03-01",223.53]
["2006-04-01",225.12]
["2006-05-01",226.51]
["2006-06-01",227.42]
["2006-07-01",227.38]
["2006-08-01",227.01]
["2006-09-01",225.2]
["2006-10-01",224.5]
["2006-11-01",223.13]
["2006-12-01",221.5]
["2007-01-01",220.2]
["2007-02-01",218.07]
["2007-03-01",216.86]
["2007-04-01",215.04]
["2007-05-01",213.94]
["2007-06-01",212.52]
["2007-07-01",210.78]
["2007-08-01",208.86]
["2007-09-01",205.28]
["2007-10-01",200.72]
["2007-11-01",194.45]
["2007-12-01",187.67]
["2008-01-01",180.06]
["2008-02-01",172.72]
["2008-03-01",166.97]
["2008-04-01",161.33000000000001]
["2008-05-01",157.32]
["2008-06-01",153.19]
["2008-07-01",149.09]
["2008-08-01",144.83000000000001]
["2008-09-01",139.79]
["2008-10-01",135.18]
["2008-11-01",130.54]
["2008-12-01",123.93]
["2009-01-01",117.13]
["2009-02-01",111.95]
["2009-03-01",106.92]
["2009-04-01",104.45]
["2009-05-01",103.56]
["2009-06-01",104.73]
["2009-07-01",106.66]
["2009-08-01",108.41]
["2009-09-01",109.26]
["2009-10-01",110.71]
["2009-11-01",111.96]
["2009-12-01",112.48]
["2010-01-01",111.76]
["2010-02-01",110.11]
["2010-03-01",109.52]
["2010-04-01",110.06]
["2010-05-01",111]
["2010-06-01",110.98]
["2010-07-01",110.3]
["2010-08-01",108.84]
["2010-09-01",107.16]
["2010-10-01",105.97]
["2010-11-01",104.85]
["2010-12-01",103.1]
["2011-01-01",101.54]
["2011-02-01",100.81]
["2011-03-01",100.27]
["2011-04-01",100.36]
["2011-05-01",100.4]
["2011-06-01",100.69]
["2011-07-01",100.54]
["2011-08-01",100.43]
["2011-09-01",100.22]
["2011-10-01",100.54]
["2011-11-01",101.12]
["2011-12-01",101.91]
["2012-01-01",102.84]
["2012-02-01",104.12]
["2012-03-01",106.38]
["2012-04-01",109.01]
["2012-05-01",111.92]
["2012-06-01",114.68]
["2012-07-01",117.22]
["2012-08-01",119.28]
["2012-09-01",120.65]
["2012-10-01",122.39]
["2012-11-01",124.16]
["2012-12-01",125.33]
["2013-01-01",126.69]
["2013-02-01",128.1]
["2013-03-01",130.29]
["2013-04-01",132.47]
["2013-05-01",134.97]
["2013-06-01",137.36000000000001]
["2013-07-01",139.36000000000001]
["2013-08-01",141.47]
["2013-09-01",143.13999999999999]
["2013-10-01",144.49]
["2013-11-01",144.86000000000001]
["2013-12-01",144.47999999999999]
["2014-01-01",144.18]
["2014-02-01",144.1]
["2014-03-01",144.71]
["2014-04-01",145.36000000000001]
["2014-05-01",145.97999999999999]
["2014-06-01",146.84]
["2014-07-01",147.26]
["2014-08-01",147.55000000000001]
["2014-09-01",147.32]
["2014-10-01",147.41999999999999]
["2014-11-01",147.69]
["2014-12-01",147.99]
["2015-01-01",147.97999999999999]

{"sheet":"Case Shiller 10 City","index":12,"n_rows":370,"n_cols":14,"rows_kept":370,"cut":false,"hidden":false,"merged":[]}
["Title:","S&P/Case-Shiller","10-City","Composite","Home","Price","IndexÂ©"]
["Series","ID:","SPCS10RSA"]
["Source:","S&P","Dow","Jones","Indices","LLC"]
["Release:","S&P/Case-Shiller","Home","Price","Indices"]
["Seasonal","Adjustment:","Seasonally","Adjusted"]
["Frequency:","Monthly"]
["Units:","Index","January",2000,"=",100]
["Date","Range:","1987-01-01","to","2015-01-01"]
["Last","Updated:","2015-03-31","09:06:00","AM","CDT"]
["Notes:","For","more","information","regarding","the","index,","please","visit,"]
[null,"http://www.standardandpoors.com/indices/sp-case-shiller-home-price-indices/en/us/?indexId=spusa-cashpidff--p-us----."]
[]
[null,"Copyright","Â©","2014,","S&P","Dow","Jones","Indices","LLC.","All","rights","reserved."]
[null,"Reproduction","of","S&P","Case-Shiller","10-City","Home","Price","Index","in","any","form"]
[null,"is","prohibited","except","with","the","prior","written","permission","of","S&P","Dow"]
[null,"Jones","Indices","LLC","S&P.","S&P","does","not","guarantee","the","accuracy,"]
[null,"adequacy,","completeness","or","availability","of","any","information","and","is","not"]
[null,"responsible","for","any","errors","or","omissions,","regardless","of","the","cause","or"]
[null,"for","the","results","obtained","from","the","use","of","such","information.","S&P"]
[null,"DISCLAIMS","ANY","AND","ALL","EXPRESS","OR","IMPLIED","WARRANTIES,","INCLUDING,","BUT"]
[null,"NOT","LIMITED","TO,","ANY","WARRANTIES","OF","MERCHANTABILITY","OR","FITNESS","FOR","A"]
[null,"PARTICULAR","PURPOSE","OR","USE.","In","no","event","shall","S&P","be","liable","for","any"]
[null,"direct,","indirect,","special","or","consequential","damages,","costs,","expenses,"]
[null,"legal","fees,","or","losses","(including","lost","income","or","lost","profit","and"]
[null,"opportunity","costs)","in","connection","with","subscriber's","or","others'","user","of"]
[null,"S&P","Case-Shiller","10-City","Home","Price","Index."]
[]
[null,"Permission","to","reproduce","this","series","can","be","requested","from"]
[null,"index_services@spdji.com.","More","contact","details","are","available","from"]
[null,"http://us.spindices.com/contact-us/,","including","phone","numbers","for","all"]
[null,"of","its","regional","offices."]
[]
["DATE","VALUE"]
["1987-01-01",63.1]
["1987-02-01",63.8]
["1987-03-01",64.430000000000007]
["1987-04-01",65.06]
["1987-05-01",65.819999999999993]
["1987-06-01",66.48]
["1987-07-01",67.12]
["1987-08-01",67.709999999999994]
["1987-09-01",68.349999999999994]
["1987-10-01",68.989999999999995]
["1987-11-01",69.569999999999993]
["1987-12-01",70.31]
["1988-01-01",70.760000000000005]
["1988-02-01",71.239999999999995]
["1988-03-01",71.739999999999995]
["1988-04-01",72.2]
["1988-05-01",72.760000000000005]
["1988-06-01",73.5]
["1988-07-01",74.34]
["1988-08-01",75.09]
["1988-09-01",75.819999999999993]
["1988-10-01",76.430000000000007]
["1988-11-01",77.08]
["1988-12-01",77.680000000000007]
["1989-01-01",78.33]
["1989-02-01",78.900000000000006]
["1989-03-01",79.819999999999993]
["1989-04-01",80.44]
["1989-05-01",80.83]
["1989-06-01",81.069999999999993]
["1989-07-01",81.14]
["1989-08-01",81.400000000000006]
["1989-09-01",81.62]
["1989-10-01",81.94]
["1989-11-01",82.23]
["1989-12-01",82.47]
["1990-01-01",82.65]
["1990-02-01",82.73]
["1990-03-01",82.76]
["1990-04-01",82.68]
["1990-05-01",82.33]
["1990-06-01",81.99]
["1990-07-01",81.569999999999993]
["1990-08-01",81.17]
["1990-09-01",80.77]
["1990-10-01",80.36]
["1990-11-01",79.91]
["1990-12-01",79.52]
["1991-01-01",78.87]
["1991-02-01",78.34]
["1991-03-01",77.709999999999994]
["1991-04-01",77.45]
["1991-05-01",77.599999999999994]
["1991-06-01",77.81]
["1991-07-01",78.09]
["1991-08-01",78.25]
["1991-09-01",78.27]
["1991-10-01",78.239999999999995]
["1991-11-01",78.150000000000006]
["1991-12-01",78.150000000000006]
["1992-01-01",78.069999999999993]
["1992-02-01",78.08]
["1992-03-01",78.010000000000005]
["1992-04-01",77.95]
["1992-05-01",77.89]
["1992-06-01",77.7]
["1992-07-01",77.430000000000007]
["1992-08-01",77.31]
["1992-09-01",77.150000000000006]
["1992-10-01",77.03]
["1992-11-01",76.959999999999994]
["1992-12-01",76.86]
["1993-01-01",76.89]
["1993-02-01",76.849999999999994]
["1993-03-01",76.599999999999994]
["1993-04-01",76.400000000000006]
["1993-05-01",76.27]
["1993-06-01",76.260000000000005]
["1993-07-01",76.09]
["1993-08-01",75.900000000000006]
["1993-09-01",75.87]
["1993-10-01",75.81]
["1993-11-01",75.900000000000006]
["1993-12-01",75.91]
["1994-01-01",76.06]
["1994-02-01",76.23]
["1994-03-01",76.41]
["1994-04-01",76.58]
["1994-05-01",76.69]
["1994-06-01",76.77]
["1994-07-01",76.87]
["1994-08-01",76.94]
["1994-09-01",76.97]
["1994-10-01",77.099999999999994]
["1994-11-01",77.13]
["1994-12-01",77.209999999999994]
["1995-01-01",77.2]
["1995-02-01",77.28]
["1995-03-01",77.06]
["1995-04-01",76.88]
["1995-05-01",76.77]
["1995-06-01",76.66]
["1995-07-01",76.7]
["1995-08-01",76.75]
["1995-09-01",76.819999999999993]
["1995-10-01",76.86]
["1995-11-01",76.88]
["1995-12-01",76.92]
["1996-01-01",76.989999999999995]
["1996-02-01",77.12]
["1996-03-01",77.17]
["1996-04-01",77.34]
["1996-05-01",77.47]
["1996-06-01",77.47]
["1996-07-01",77.510000000000005]
["1996-08-01",77.61]
["1996-09-01",77.75]
["1996-10-01",77.95]
["1996-11-01",78.180000000000007]
["1996-12-01",78.38]
["1997-01-01",78.569999999999993]
["1997-02-01",78.72]
["1997-03-01",78.989999999999995]
["1997-04-01",79.25]
["1997-05-01",79.53]
["1997-06-01",79.91]
["1997-07-01",80.22]
["1997-08-01",80.61]
["1997-09-01",80.91]
["1997-10-01",81.42]
["1997-11-01",81.96]
["1997-12-01",82.59]
["1998-01-01",83.26]
["1998-02-01",83.97]
["1998-03-01",84.62]
["1998-04-01",85.19]
["1998-05-01",85.86]
["1998-06-01",86.63]
["1998-07-01",87.43]
["1998-08-01",88.14]
["1998-09-01",88.85]
["1998-10-01",89.35]
["1998-11-01",89.73]
["1998-12-01",90.14]
["1999-01-01",90.71]
["1999-02-01",91.44]
["1999-03-01",92.13]
["1999-04-01",93.05]
["1999-05-01",93.75]
["1999-06-01",94.65]
["1999-07-01",95.5]
["1999-08-01",96.38]
["1999-09-01",97.2]
["1999-10-01",97.98]
["1999-11-01",98.89]
["1999-12-01",99.87]
["2000-01-01",100.75]
["2000-02-01",101.89]
["2000-03-01",103.15]
["2000-04-01",104.53]
["2000-05-01",106.01]
["2000-06-01",107.34]
["2000-07-01",108.17]
["2000-08-01",109.07]
["2000-09-01",110.03]
["2000-10-01",111.17]
["2000-11-01",112.5]
["2000-12-01",113.93]
["2001-01-01",115.43]
["2001-02-01",116.69]
["2001-03-01",117.72]
["2001-04-01",118.5]
["2001-05-01",118.95]
["2001-06-01",119.5]
["2001-07-01",120.1]
["2001-08-01",120.95]
["2001-09-01",121.95]
["2001-10-01",122.81]
["2001-11-01",123.62]
["2001-12-01",124.02]
["2002-01-01",124.83]
["2002-02-01",125.76]
["2002-03-01",127.04]
["2002-04-01",128.54]
["2002-05-01",130.34]
["2002-06-01",132.22]
["2002-07-01",134.1]
["2002-08-01",135.94999999999999]
["2002-09-01",137.61000000000001]
["2002-10-01",139.37]
["2002-11-01",141.01]
["2002-12-01",142.57]
["2003-01-01",143.86000000000001]
["2003-02-01",145.04]
["2003-03-01",146.13999999999999]
["2003-04-01",147.13999999999999]
["2003-05-01",148.19]
["2003-06-01",149.13]
["2003-07-01",150.63999999999999]
["2003-08-01",152.43]
["2003-09-01",154.66]
["2003-10-01",156.81]
["2003-11-01",159.16999999999999]
["2003-12-01",161.65]
["2004-01-01",164.01]
["2004-02-01",166.42]
["2004-03-01",169.5]
["2004-04-01",172.47]
["2004-05-01",175.54]
["2004-06-01",178.84]
["2004-07-01",181.53]
["2004-08-01",183.5]
["2004-09-01",185.52]
["2004-10-01",187.44]
["2004-11-01",189.49]
["2004-12-01",191.76]
["2005-01-01",194.63]
["2005-02-01",197.78]
["2005-03-01",201.31]
["2005-04-01",203.81]
["2005-05-01",206.08]
["2005-06-01",208.22]
["2005-07-01",210.28]
["2005-08-01",212.27]
["2005-09-01",214.97]
["2005-10-01",217.45]
["2005-11-01",219.93]
["2005-12-01",222.17]
["2006-01-01",223.93]
["2006-02-01",225.64]
["2006-03-01",226.54]
["2006-04-01",226.87]
["2006-05-01",226.64]
["2006-06-01",225.69]
["2006-07-01",224.56]
["2006-08-01",223.2]
["2006-09-01",222.83]
["2006-10-01",222.76]
["2006-11-01",222.85]
["2006-12-01",222.53]
["2007-01-01",222.82]
["2007-02-01",222.97]
["2007-03-01",223.02]
["2007-04-01",221.35]
["2007-05-01",219.28]
["2007-06-01",216.8]
["2007-07-01",214.44]
["2007-08-01",211.88]
["2007-09-01",210.09]
["2007-10-01",207.63]
["2007-11-01",204.12]
["2007-12-01",200.76]
["2008-01-01",197.52]
["2008-02-01",193.13]
["2008-03-01",189.55]
["2008-04-01",185.86]
["2008-05-01",182.54]
["2008-06-01",179.98]
["2008-07-01",176.75]
["2008-08-01",173.96]
["2008-09-01",170.74]
["2008-10-01",167.76]
["2008-11-01",165.01]
["2008-12-01",162.21]
["2009-01-01",159.28]
["2009-02-01",157.05000000000001]
["2009-03-01",154.74]
["2009-04-01",152.85]
["2009-05-01",152.07]
["2009-06-01",152.74]
["2009-07-01",153.86000000000001]
["2009-08-01",155.19]
["2009-09-01",156.01]
["2009-10-01",156.80000000000001]
["2009-11-01",157.51]
["2009-12-01",158.43]
["2010-01-01",159.44]
["2010-02-01",159.66999999999999]
["2010-03-01",159.97]
["2010-04-01",160.08000000000001]
["2010-05-01",160.26]
["2010-06-01",160.19999999999999]
["2010-07-01",159.66999999999999]
["2010-08-01",158.71]
["2010-09-01",157.94]
["2010-10-01",156.97999999999999]
["2010-11-01",156.83000000000001]
["2010-12-01",156.53]
["2011-01-01",156.18]
["2011-02-01",155.41]
["2011-03-01",154.77000000000001]
["2011-04-01",154.44999999999999]
["2011-05-01",153.97999999999999]
["2011-06-01",153.78]
["2011-07-01",153.54]
["2011-08-01",153.11000000000001]
["2011-09-01",152.53]
["2011-10-01",151.71]
["2011-11-01",150.93]
["2011-12-01",150.28]
["2012-01-01",149.99]
["2012-02-01",149.68]
["2012-03-01",150.28]
["2012-04-01",150.96]
["2012-05-01",152.21]
["2012-06-01",153.63999999999999]
["2012-07-01",154.22999999999999]
["2012-08-01",154.97999999999999]
["2012-09-01",155.77000000000001]
["2012-10-01",156.82]
["2012-11-01",157.94]
["2012-12-01",159.56]
["2013-01-01",160.97]
["2013-02-01",162.49]
["2013-03-01",165.34]
["2013-04-01",168.04]
["2013-05-01",169.83]
["2013-06-01",171.54]
["2013-07-01",172.95]
["2013-08-01",174.69]
["2013-09-01",176.42]
["2013-10-01",178.22]
["2013-11-01",179.94]
["2013-12-01",181.29]
["2014-01-01",182.76]
["2014-02-01",183.82]
["2014-03-01",186.15]
["2014-04-01",186.23]
["2014-05-01",185.61]
["2014-06-01",185.38]
["2014-07-01",184.64]
["2014-08-01",184.38]
["2014-09-01",184.75]
["2014-10-01",186]
["2014-11-01",187.44]
["2014-12-01",189.14]
["2015-01-01",190.8]

{"sheet":"Case Shiller NY","index":13,"n_rows":370,"n_cols":15,"rows_kept":370,"cut":false,"hidden":false,"merged":[]}
["Title:","S&P/Case-Shiller","NY-New","York","Home","Price","IndexÂ©"]
["Series","ID:","NYXRSA"]
["Source:","S&P","Dow","Jones","Indices","LLC"]
["Release:","S&P/Case-Shiller","Home","Price","Indices"]
["Seasonal","Adjustment:","Seasonally","Adjusted"]
["Frequency:","Monthly"]
["Units:","Index","January",2000,"=",100]
["Date","Range:","1987-01-01","to","2015-01-01"]
["Last","Updated:","2015-03-31","09:06:00","AM","CDT"]
["Notes:","For","more","information","regarding","the","index,","please","visit,"]
[null,"http://www.standardandpoors.com/indices/sp-case-shiller-home-price-indices/en/us/?indexId=spusa-cashpidff--p-us----."]
[]
[null,"Copyright","Â©","2014,","S&P","Dow","Jones","Indices","LLC.","All","rights","reserved."]
[null,"Reproduction","of","Home","Price","Index","for","New","York,","New","York","in","any","form","is"]
[null,"prohibited","except","with","the","prior","written","permission","of","S&P","Dow","Jones"]
[null,"Indices","LLC","S&P.","S&P","does","not","guarantee","the","accuracy,","adequacy,"]
[null,"completeness","or","availability","of","any","information","and","is","not","responsible"]
[null,"for","any","errors","or","omissions,","regardless","of","the","cause","or","for","the"]
[null,"results","obtained","from","the","use","of","such","information.","S&P","DISCLAIMS","ANY"]
[null,"AND","ALL","EXPRESS","OR","IMPLIED","WARRANTIES,","INCLUDING,","BUT","NOT","LIMITED","TO,"]
[null,"ANY","WARRANTIES","OF","MERCHANTABILITY","OR","FITNESS","FOR","A","PARTICULAR","PURPOSE"]
[null,"OR","USE.","In","no","event","shall","S&P","be","liable","for","any","direct,","indirect,"]
[null,"special","or","consequential","damages,","costs,","expenses,","legal","fees,","or"]
[null,"losses","(including","lost","income","or","lost","profit","and","opportunity","costs)","in"]
[null,"connection","with","subscriber's","or","others'","user","of","Home","Price","Index","for"]
[null,"New","York,","New","York."]
[]
[null,"Permission","to","reproduce","this","series","can","be","requested","from"]
[null,"index_services@spdji.com.","More","contact","details","are","available","from"]
[null,"http://us.spindices.com/contact-us/,","including","phone","numbers","for","all"]
[null,"of","its","regional","offices."]
[]
["DATE","VALUE"]
["1987-01-01",74.680000000000007]
["1987-02-01",76.040000000000006]
["1987-03-01",77.239999999999995]
["1987-04-01",78.28]
["1987-05-01",79.680000000000007]
["1987-06-01",80.84]
["1987-07-01",81.7]
["1987-08-01",82.22]
["1987-09-01",82.38]
["1987-10-01",83.16]
["1987-11-01",83.68]
["1987-12-01",84.5]
["1988-01-01",84.32]
["1988-02-01",84.49]
["1988-03-01",84.48]
["1988-04-01",84.69]
["1988-05-01",84.76]
["1988-06-01",84.6]
["1988-07-01",84.5]
["1988-08-01",84.59]
["1988-09-01",84.58]
["1988-10-01",84.48]
["1988-11-01",84.49]
["1988-12-01",84.38]
["1989-01-01",84.48]
["1989-02-01",84.27]
["1989-03-01",84.19]
["1989-04-01",83.88]
["1989-05-01",83.49]
["1989-06-01",82.95]
["1989-07-01",82.17]
["1989-08-01",81.94]
["1989-09-01",81.540000000000006]
["1989-10-01",81.790000000000006]
["1989-11-01",81.55]
["1989-12-01",81.34]
["1990-01-01",81.040000000000006]
["1990-02-01",80.98]
["1990-03-01",80.81]
["1990-04-01",80.209999999999994]
["1990-05-01",79.55]
["1990-06-01",78.930000000000007]
["1990-07-01",78.3]
["1990-08-01",77.55]
["1990-09-01",76.680000000000007]
["1990-10-01",76.31]
["1990-11-01",75.88]
["1990-12-01",75.62]
["1991-01-01",74.739999999999995]
["1991-02-01",74.11]
["1991-03-01",73.58]
["1991-04-01",73.05]
["1991-05-01",73.09]
["1991-06-01",73.459999999999994]
["1991-07-01",73.91]
["1991-08-01",74.239999999999995]
["1991-09-01",74.39]
["1991-10-01",74.56]
["1991-11-01",74.62]
["1991-12-01",74.77]
["1992-01-01",74.760000000000005]
["1992-02-01",74.819999999999993]
["1992-03-01",74.959999999999994]
["1992-04-01",75.17]
["1992-05-01",75.150000000000006]
["1992-06-01",75.06]
["1992-07-01",74.959999999999994]
["1992-08-01",75.11]
["1992-09-01",75.09]
["1992-10-01",75.05]
["1992-11-01",75.19]
["1992-12-01",75.400000000000006]
["1993-01-01",75.739999999999995]
["1993-02-01",75.89]
["1993-03-01",75.989999999999995]
["1993-04-01",76.069999999999993]
["1993-05-01",76.14]
["1993-06-01",76.33]
["1993-07-01",76.319999999999993]
["1993-08-01",76.28]
["1993-09-01",76.33]
["1993-10-01",76.5]
["1993-11-01",76.739999999999995]
["1993-12-01",76.8]
["1994-01-01",76.849999999999994]
["1994-02-01",76.91]
["1994-03-01",77.239999999999995]
["1994-04-01",77.59]
["1994-05-01",77.97]
["1994-06-01",78.06]
["1994-07-01",78.239999999999995]
["1994-08-01",78.34]
["1994-09-01",78.41]
["1994-10-01",78.45]
["1994-11-01",78.38]
["1994-12-01",78.489999999999995]
["1995-01-01",78.569999999999993]
["1995-02-01",78.78]
["1995-03-01",78.569999999999993]
["1995-04-01",78.45]
["1995-05-01",78.430000000000007]
["1995-06-01",78.430000000000007]
["1995-07-01",78.45]
["1995-08-01",78.44]
["1995-09-01",78.510000000000005]
["1995-10-01",78.67]
["1995-11-01",78.739999999999995]
["1995-12-01",78.849999999999994]
["1996-01-01",78.95]
["1996-02-01",79.22]
["1996-03-01",79.5]
["1996-04-01",79.61]
["1996-05-01",79.78]
["1996-06-01",79.37]
["1996-07-01",79.430000000000007]
["1996-08-01",79.56]
["1996-09-01",79.760000000000005]
["1996-10-01",79.89]
["1996-11-01",79.92]
["1996-12-01",80.2]
["1997-01-01",80.44]
["1997-02-01",80.59]
["1997-03-01",80.59]
["1997-04-01",80.67]
["1997-05-01",80.95]
["1997-06-01",81.39]
["1997-07-01",81.78]
["1997-08-01",81.94]
["1997-09-01",82.06]
["1997-10-01",82.34]
["1997-11-01",82.82]
["1997-12-01",83.27]
["1998-01-01",83.73]
["1998-02-01",84.41]
["1998-03-01",84.94]
["1998-04-01",85.42]
["1998-05-01",85.99]
["1998-06-01",86.48]
["1998-07-01",87.16]
["1998-08-01",87.67]
["1998-09-01",88.23]
["1998-10-01",88.74]
["1998-11-01",89.26]
["1998-12-01",89.56]
["1999-01-01",89.86]
["1999-02-01",90.51]
["1999-03-01",91.29]
["1999-04-01",92.27]
["1999-05-01",93]
["1999-06-01",94.04]
["1999-07-01",94.94]
["1999-08-01",96.02]
["1999-09-01",96.79]
["1999-10-01",97.59]
["1999-11-01",98.4]
["1999-12-01",99.35]
["2000-01-01",100.34]
["2000-02-01",101.24]
["2000-03-01",102.06]
["2000-04-01",103.13]
["2000-05-01",104.92]
["2000-06-01",106.06]
["2000-07-01",107.02]
["2000-08-01",108.02]
["2000-09-01",108.83]
["2000-10-01",109.79]
["2000-11-01",110.64]
["2000-12-01",111.84]
["2001-01-01",112.94]
["2001-02-01",114.25]
["2001-03-01",115.31]
["2001-04-01",116.36]
["2001-05-01",116.98]
["2001-06-01",118.08]
["2001-07-01",119.22]
["2001-08-01",120.59]
["2001-09-01",121.98]
["2001-10-01",123.09]
["2001-11-01",124.4]
["2001-12-01",124.57]
["2002-01-01",125.38]
["2002-02-01",126.1]
["2002-03-01",127.32]
["2002-04-01",128.69]
["2002-05-01",130.49]
["2002-06-01",132.5]
["2002-07-01",134.85]
["2002-08-01",137]
["2002-09-01",138.83000000000001]
["2002-10-01",140.80000000000001]
["2002-11-01",142.84]
["2002-12-01",144.91]
["2003-01-01",146.63999999999999]
["2003-02-01",147.94]
["2003-03-01",149.22]
["2003-04-01",150.34]
["2003-05-01",151.49]
["2003-06-01",152.25]
["2003-07-01",153.29]
["2003-08-01",154.49]
["2003-09-01",156.36000000000001]
["2003-10-01",157.97999999999999]
["2003-11-01",160.01]
["2003-12-01",161.88999999999999]
["2004-01-01",163.63999999999999]
["2004-02-01",165.45]
["2004-03-01",167.48]
["2004-04-01",169.16]
["2004-05-01",171.15]
["2004-06-01",173.35]
["2004-07-01",175.65]
["2004-08-01",177.28]
["2004-09-01",179.12]
["2004-10-01",181.12]
["2004-11-01",182.92]
["2004-12-01",184.59]
["2005-01-01",187.17]
["2005-02-01",189.79]
["2005-03-01",193.19]
["2005-04-01",195.21]
["2005-05-01",196.74]
["2005-06-01",198.2]
["2005-07-01",199.81]
["2005-08-01",201.49]
["2005-09-01",204.07]
["2005-10-01",206.67]
["2005-11-01",209.31]
["2005-12-01",212.04]
["2006-01-01",213.5]
["2006-02-01",215.04]
["2006-03-01",215.72]
["2006-04-01",216.53]
["2006-05-01",216.62]
["2006-06-01",216.2]
["2006-07-01",215.05]
["2006-08-01",213.08]
["2006-09-01",213.01]
["2006-10-01",213]
["2006-11-01",213.14]
["2006-12-01",213.24]
["2007-01-01",212.9]
["2007-02-01",213.3]
["2007-03-01",214.26]
["2007-04-01",213.74]
["2007-05-01",211.88]
["2007-06-01",209.71]
["2007-07-01",207.81]
["2007-08-01",205.35]
["2007-09-01",204.78]
["2007-10-01",203.93]
["2007-11-01",203.28]
["2007-12-01",201.71]
["2008-01-01",200.8]
["2008-02-01",199.44]
["2008-03-01",198.85]
["2008-04-01",197.31]
["2008-05-01",195.84]
["2008-06-01",194.84]
["2008-07-01",192.63]
["2008-08-01",191.06]
["2008-09-01",189.47]
["2008-10-01",187.79]
["2008-11-01",185.49]
["2008-12-01",183.3]
["2009-01-01",181.56]
["2009-02-01",179.35]
["2009-03-01",176.25]
["2009-04-01",173.51]
["2009-05-01",172.88]
["2009-06-01",172.26]
["2009-07-01",172.39]
["2009-08-01",172.3]
["2009-09-01",172.13]
["2009-10-01",172.36]
["2009-11-01",171.74]
["2009-12-01",171.95]
["2010-01-01",172.36]
["2010-02-01",172.48]
["2010-03-01",172.41]
["2010-04-01",172.11]
["2010-05-01",172.34]
["2010-06-01",172.59]
["2010-07-01",172.93]
["2010-08-01",171.81]
["2010-09-01",171.19]
["2010-10-01",169.2]
["2010-11-01",168.71]
["2010-12-01",168.27]
["2011-01-01",167.21]
["2011-02-01",166.73]
["2011-03-01",165.78]
["2011-04-01",167.34]
["2011-05-01",166.97]
["2011-06-01",166.34]
["2011-07-01",167.09]
["2011-08-01",166.54]
["2011-09-01",166.4]
["2011-10-01",164.94]
["2011-11-01",164.16]
["2011-12-01",162.93]
["2012-01-01",162.16999999999999]
["2012-02-01",161.37]
["2012-03-01",160.99]
["2012-04-01",161.37]
["2012-05-01",161.99]
["2012-06-01",162.65]
["2012-07-01",162.5]
["2012-08-01",162.6]
["2012-09-01",162.62]
["2012-10-01",162.71]
["2012-11-01",162.25]
["2012-12-01",162.65]
["2013-01-01",162.94]
["2013-02-01",164.2]
["2013-03-01",164.03]
["2013-04-01",165.53]
["2013-05-01",166.49]
["2013-06-01",167.17]
["2013-07-01",167.57]
["2013-08-01",168.26]
["2013-09-01",169.3]
["2013-10-01",170.68]
["2013-11-01",172.12]
["2013-12-01",172.8]
["2014-01-01",173.87]
["2014-02-01",174.26]
["2014-03-01",174.68]
["2014-04-01",174.56]
["2014-05-01",174.24]
["2014-06-01",174.25]
["2014-07-01",174.06]
["2014-08-01",173.73]
["2014-09-01",173.54]
["2014-10-01",173.87]
["2014-11-01",174.62]
["2014-12-01",176.13]
["2015-01-01",177.5]

{"sheet":"Case Shiller Miami","index":14,"n_rows":370,"n_cols":14,"rows_kept":370,"cut":false,"hidden":false,"merged":[]}
["Title:","S&P/Case-Shiller","FL-Miami","Home","Price","IndexÂ©"]
["Series","ID:","MIXRNSA"]
["Source:","S&P","Dow","Jones","Indices","LLC"]
["Release:","S&P/Case-Shiller","Home","Price","Indices"]
["Seasonal","Adjustment:","Not","Seasonally","Adjusted"]
["Frequency:","Monthly"]
["Units:","Index","January",2000,"=",100]
["Date","Range:","1987-01-01","to","2015-01-01"]
["Last","Updated:","2015-03-31","09:06:00","AM","CDT"]
["Notes:","For","more","information","regarding","the","index,","please","visit,"]
[null,"http://www.standardandpoors.com/indices/sp-case-shiller-home-price-indices/en/us/?indexId=spusa-cashpidff--p-us----."]
[]
[null,"Copyright","Â©","2014,","S&P","Dow","Jones","Indices","LLC.","All","rights","reserved."]
[null,"Reproduction","of","Home","Price","Index","for","Miami,","Florida","in","any","form","is"]
[null,"prohibited","except","with","the","prior","written","permission","of","S&P","Dow","Jones"]
[null,"Indices","LLC","S&P.","S&P","does","not","guarantee","the","accuracy,","adequacy,"]
[null,"completeness","or","availability","of","any","information","and","is","not","responsible"]
[null,"for","any","errors","or","omissions,","regardless","of","the","cause","or","for","the"]
[null,"results","obtained","from","the","use","of","such","information.","S&P","DISCLAIMS","ANY"]
[null,"AND","ALL","EXPRESS","OR","IMPLIED","WARRANTIES,","INCLUDING,","BUT","NOT","LIMITED","TO,"]
[null,"ANY","WARRANTIES","OF","MERCHANTABILITY","OR","FITNESS","FOR","A","PARTICULAR","PURPOSE"]
[null,"OR","USE.","In","no","event","shall","S&P","be","liable","for","any","direct,","indirect,"]
[null,"special","or","consequential","damages,","costs,","expenses,","legal","fees,","or"]
[null,"losses","(including","lost","income","or","lost","profit","and","opportunity","costs)","in"]
[null,"connection","with","subscriber's","or","others'","user","of","Home","Price","Index","for"]
[null,"Miami,","Florida."]
[]
[null,"Permission","to","reproduce","this","series","can","be","requested","from"]
[null,"index_services@spdji.com.","More","contact","details","are","available","from"]
[null,"http://us.spindices.com/contact-us/,","including","phone","numbers","for","all"]
[null,"of","its","regional","offices."]
[]
["DATE","VALUE"]
["1987-01-01",68.5]
["1987-02-01",68.760000000000005]
["1987-03-01",69.23]
["1987-04-01",69.2]
["1987-05-01",69.459999999999994]
["1987-06-01",69.31]
["1987-07-01",69.7]
["1987-08-01",70.16]
["1987-09-01",70.95]
["1987-10-01",71.28]
["1987-11-01",71.5]
["1987-12-01",71.41]
["1988-01-01",71.66]
["1988-02-01",71.680000000000007]
["1988-03-01",72.19]
["1988-04-01",72.47]
["1988-05-01",72.760000000000005]
["1988-06-01",73.55]
["1988-07-01",74.13]
["1988-08-01",75.02]
["1988-09-01",75.63]
["1988-10-01",75.86]
["1988-11-01",76.09]
["1988-12-01",76.19]
["1989-01-01",76.59]
["1989-02-01",76.819999999999993]
["1989-03-01",77]
["1989-04-01",77.319999999999993]
["1989-05-01",77.19]
["1989-06-01",77.680000000000007]
["1989-07-01",78.05]
["1989-08-01",78.56]
["1989-09-01",78.58]
["1989-10-01",78.62]
["1989-11-01",78.510000000000005]
["1989-12-01",78.739999999999995]
["1990-01-01",79.2]
["1990-02-01",79.48]
["1990-03-01",79.3]
["1990-04-01",79.239999999999995]
["1990-05-01",79.33]
["1990-06-01",79.78]
["1990-07-01",80.03]
["1990-08-01",80.11]
["1990-09-01",79.94]
["1990-10-01",79.67]
["1990-11-01",79.75]
["1990-12-01",79.41]
["1991-01-01",79.08]
["1991-02-01",78.55]
["1991-03-01",78.44]
["1991-04-01",78.55]
["1991-05-01",77.95]
["1991-06-01",78.489999999999995]
["1991-07-01",78.64]
["1991-08-01",79.56]
["1991-09-01",79.27]
["1991-10-01",79.31]
["1991-11-01",79.290000000000006]
["1991-12-01",79.09]
["1992-01-01",79.099999999999994]
["1992-02-01",78.510000000000005]
["1992-03-01",78.599999999999994]
["1992-04-01",78.98]
["1992-05-01",79.42]
["1992-06-01",79.78]
["1992-07-01",78.05]
["1992-08-01",77.95]
["1992-09-01",77.61]
["1992-10-01",79.540000000000006]
["1992-11-01",79.7]
["1992-12-01",79.989999999999995]
["1993-01-01",79.94]
["1993-02-01",79.92]
["1993-03-01",79.64]
["1993-04-01",80.13]
["1993-05-01",80.77]
["1993-06-01",81.36]
["1993-07-01",81.78]
["1993-08-01",82.14]
["1993-09-01",82.49]
["1993-10-01",82.82]
["1993-11-01",82.68]
["1993-12-01",82.89]
["1994-01-01",83.46]
["1994-02-01",84.25]
["1994-03-01",84.74]
["1994-04-01",84.85]
["1994-05-01",84.89]
["1994-06-01",85.31]
["1994-07-01",85.63]
["1994-08-01",86.11]
["1994-09-01",86.3]
["1994-10-01",86.47]
["1994-11-01",86.69]
["1994-12-01",87.01]
["1995-01-01",87.02]
["1995-02-01",86.64]
["1995-03-01",86.3]
["1995-04-01",86.47]
["1995-05-01",86.67]
["1995-06-01",86.98]
["1995-07-01",86.96]
["1995-08-01",87.39]
["1995-09-01",87.37]
["1995-10-01",87.64]
["1995-11-01",87.55]
["1995-12-01",87.69]
["1996-01-01",87.52]
["1996-02-01",87.43]
["1996-03-01",86.73]
["1996-04-01",87.1]
["1996-05-01",87.34]
["1996-06-01",87.61]
["1996-07-01",87.84]
["1996-08-01",87.97]
["1996-09-01",88.13]
["1996-10-01",88.11]
["1996-11-01",88.24]
["1996-12-01",88.16]
["1997-01-01",88.14]
["1997-02-01",87.94]
["1997-03-01",87.93]
["1997-04-01",88.33]
["1997-05-01",88.58]
["1997-06-01",88.81]
["1997-07-01",88.83]
["1997-08-01",89]
["1997-09-01",89.31]
["1997-10-01",89.71]
["1997-11-01",90.03]
["1997-12-01",90.5]
["1998-01-01",90.8]
["1998-02-01",90.88]
["1998-03-01",90.75]
["1998-04-01",91.03]
["1998-05-01",91.43]
["1998-06-01",92.12]
["1998-07-01",92.67]
["1998-08-01",92.98]
["1998-09-01",93.2]
["1998-10-01",93.25]
["1998-11-01",93.49]
["1998-12-01",93.75]
["1999-01-01",94.01]
["1999-02-01",94.21]
["1999-03-01",94.75]
["1999-04-01",95.67]
["1999-05-01",96.21]
["1999-06-01",96.18]
["1999-07-01",96.79]
["1999-08-01",97.32]
["1999-09-01",98.01]
["1999-10-01",98.05]
["1999-11-01",98.68]
["1999-12-01",99.52]
["2000-01-01",100]
["2000-02-01",100.21]
["2000-03-01",100.74]
["2000-04-01",101.83]
["2000-05-01",102.81]
["2000-06-01",103.49]
["2000-07-01",103.67]
["2000-08-01",104.37]
["2000-09-01",105.23]
["2000-10-01",106.25]
["2000-11-01",107.56]
["2000-12-01",108.89]
["2001-01-01",110.28]
["2001-02-01",110.76]
["2001-03-01",111.94]
["2001-04-01",113.32]
["2001-05-01",114.84]
["2001-06-01",115.97]
["2001-07-01",117.08]
["2001-08-01",118.3]
["2001-09-01",119.67]
["2001-10-01",121.32]
["2001-11-01",122.89]
["2001-12-01",124.02]
["2002-01-01",124.52]
["2002-02-01",125.06]
["2002-03-01",126.35]
["2002-04-01",127.84]
["2002-05-01",129.83000000000001]
["2002-06-01",131.59]
["2002-07-01",133.38999999999999]
["2002-08-01",134.91]
["2002-09-01",136.76]
["2002-10-01",138.62]
["2002-11-01",140.09]
["2002-12-01",141.97999999999999]
["2003-01-01",143.78]
["2003-02-01",145.46]
["2003-03-01",147.09]
["2003-04-01",148.36000000000001]
["2003-05-01",149.75]
["2003-06-01",150.66999999999999]
["2003-07-01",152.65]
["2003-08-01",155.07]
["2003-09-01",157.28]
["2003-10-01",159.59]
["2003-11-01",161.11000000000001]
["2003-12-01",162.93]
["2004-01-01",164.82]
["2004-02-01",166.65]
["2004-03-01",170]
["2004-04-01",172.61]
["2004-05-01",176.4]
["2004-06-01",179.64]
["2004-07-01",183.12]
["2004-08-01",186.78]
["2004-09-01",190.68]
["2004-10-01",194.29]
["2004-11-01",197.64]
["2004-12-01",201.37]
["2005-01-01",205.42]
["2005-02-01",209.67]
["2005-03-01",215.44]
["2005-04-01",221.42]
["2005-05-01",227.1]
["2005-06-01",233.42]
["2005-07-01",238.98]
["2005-08-01",245.24]
["2005-09-01",251.21]
["2005-10-01",256.99]
["2005-11-01",261]
["2005-12-01",264.83]
["2006-01-01",268.25]
["2006-02-01",271.68]
["2006-03-01",274.02]
["2006-04-01",276.37]
["2006-05-01",278.68]
["2006-06-01",278.22000000000003]
["2006-07-01",278.33]
["2006-08-01",276.8]
["2006-09-01",277.23]
["2006-10-01",278.91000000000003]
["2006-11-01",280.3]
["2006-12-01",280.87]
["2007-01-01",279.42]
["2007-02-01",279.43]
["2007-03-01",276.89]
["2007-04-01",273.52999999999997]
["2007-05-01",269.52]
["2007-06-01",264.89]
["2007-07-01",260.39]
["2007-08-01",255.29]
["2007-09-01",249.61]
["2007-10-01",244.35]
["2007-11-01",237.99]
["2007-12-01",231.71]
["2008-01-01",225.4]
["2008-02-01",218.74]
["2008-03-01",208.88]
["2008-04-01",200.42]
["2008-05-01",193.19]
["2008-06-01",189.87]
["2008-07-01",186.84]
["2008-08-01",183.48]
["2008-09-01",178.72]
["2008-10-01",173.42]
["2008-11-01",169.62]
["2008-12-01",165.01]
["2009-01-01",158.97]
["2009-02-01",154.22999999999999]
["2009-03-01",148.75]
["2009-04-01",145.78]
["2009-05-01",144.59]
["2009-06-01",145.38]
["2009-07-01",147.27000000000001]
["2009-08-01",148.91]
["2009-09-01",149.69]
["2009-10-01",149.09]
["2009-11-01",149.08000000000001]
["2009-12-01",148.66]
["2010-01-01",148.32]
["2010-02-01",147.52000000000001]
["2010-03-01",146.15]
["2010-04-01",145.04]
["2010-05-01",146.33000000000001]
["2010-06-01",146.91999999999999]
["2010-07-01",147.88]
["2010-08-01",147.47]
["2010-09-01",145.63999999999999]
["2010-10-01",144.03]
["2010-11-01",143.81]
["2010-12-01",143.11000000000001]
["2011-01-01",141.30000000000001]
["2011-02-01",138.44]
["2011-03-01",137.28]
["2011-04-01",136.99]
["2011-05-01",138.6]
["2011-06-01",139.46]
["2011-07-01",141.15]
["2011-08-01",140.75]
["2011-09-01",139.83000000000001]
["2011-10-01",138.19999999999999]
["2011-11-01",137.47]
["2011-12-01",137.74]
["2012-01-01",138.63999999999999]
["2012-02-01",139.53]
["2012-03-01",140.76]
["2012-04-01",141.33000000000001]
["2012-05-01",143.35]
["2012-06-01",145.62]
["2012-07-01",148.69999999999999]
["2012-08-01",150.12]
["2012-09-01",150.24]
["2012-10-01",149.97]
["2012-11-01",151.13]
["2012-12-01",152.37]
["2013-01-01",153.51]
["2013-02-01",153.97]
["2013-03-01",155.88999999999999]
["2013-04-01",159.65]
["2013-05-01",163.74]
["2013-06-01",167.1]
["2013-07-01",169.07]
["2013-08-01",170.41]
["2013-09-01",171.7]
["2013-10-01",173.63]
["2013-11-01",176.02]
["2013-12-01",177.57]
["2014-01-01",178.85]
["2014-02-01",178.57]
["2014-03-01",181.03]
["2014-04-01",183.04]
["2014-05-01",185.21]
["2014-06-01",186.24]
["2014-07-01",187.62]
["2014-08-01",188.15]
["2014-09-01",189.21]
["2014-10-01",189.97]
["2014-11-01",191.09]
["2014-12-01",192.38]
["2015-01-01",193.76]

{"sheet":"Case Shiller Chicago","index":15,"n_rows":370,"n_cols":14,"rows_kept":370,"cut":false,"hidden":false,"merged":[]}
["Title:","S&P/Case-Shiller","IL-Chicago","Home","Price","IndexÂ©"]
["Series","ID:","CHXRSA"]
["Source:","S&P","Dow","Jones","Indices","LLC"]
["Release:","S&P/Case-Shiller","Home","Price","Indices"]
["Seasonal","Adjustment:","Seasonally","Adjusted"]
["Frequency:","Monthly"]
["Units:","Index","January",2000,"=",100]
["Date","Range:","1987-01-01","to","2015-01-01"]
["Last","Updated:","2015-03-31","09:06:00","AM","CDT"]
["Notes:","For","more","information","regarding","the","index,","please","visit,"]
[null,"http://www.standardandpoors.com/indices/sp-case-shiller-home-price-indices/en/us/?indexId=spusa-cashpidff--p-us----."]
[]
[null,"Copyright","Â©","2014,","S&P","Dow","Jones","Indices","LLC.","All","rights","reserved."]
[null,"Reproduction","of","Home","Price","Index","for","Chicago,","Illinois","in","any","form","is"]
[null,"prohibited","except","with","the","prior","written","permission","of","S&P","Dow","Jones"]
[null,"Indices","LLC","S&P.","S&P","does","not","guarantee","the","accuracy,","adequacy,"]
[null,"completeness","or","availability","of","any","information","and","is","not","responsible"]
[null,"for","any","errors","or","omissions,","regardless","of","the","cause","or","for","the"]
[null,"results","obtained","from","the","use","of","such","information.","S&P","DISCLAIMS","ANY"]
[null,"AND","ALL","EXPRESS","OR","IMPLIED","WARRANTIES,","INCLUDING,","BUT","NOT","LIMITED","TO,"]
[null,"ANY","WARRANTIES","OF","MERCHANTABILITY","OR","FITNESS","FOR","A","PARTICULAR","PURPOSE"]
[null,"OR","USE.","In","no","event","shall","S&P","be","liable","for","any","direct,","indirect,"]
[null,"special","or","consequential","damages,","costs,","expenses,","legal","fees,","or"]
[null,"losses","(including","lost","income","or","lost","profit","and","opportunity","costs)","in"]
[null,"connection","with","subscriber's","or","others'","user","of","Home","Price","Index","for"]
[null,"Chicago,","Illinois."]
[]
[null,"Permission","to","reproduce","this","series","can","be","requested","from"]
[null,"index_services@spdji.com.","More","contact","details","are","available","from"]
[null,"http://us.spindices.com/contact-us/,","including","phone","numbers","for","all"]
[null,"of","its","regional","offices."]
[]
["DATE","VALUE"]
["1987-01-01",54.21]
["1987-02-01",55.23]
["1987-03-01",54.81]
["1987-04-01",54.8]
["1987-05-01",55.48]
["1987-06-01",56.06]
["1987-07-01",57.11]
["1987-08-01",57.61]
["1987-09-01",58.27]
["1987-10-01",59.01]
["1987-11-01",59.71]
["1987-12-01",61.08]
["1988-01-01",61.97]
["1988-02-01",63.45]
["1988-03-01",64.510000000000005]
["1988-04-01",65.150000000000006]
["1988-05-01",65.569999999999993]
["1988-06-01",66.459999999999994]
["1988-07-01",66.55]
["1988-08-01",67.75]
["1988-09-01",68.02]
["1988-10-01",69.03]
["1988-11-01",68.650000000000006]
["1988-12-01",68.510000000000005]
["1989-01-01",68.33]
["1989-02-01",69.010000000000005]
["1989-03-01",70.069999999999993]
["1989-04-01",70.650000000000006]
["1989-05-01",70.510000000000005]
["1989-06-01",70.52]
["1989-07-01",70.33]
["1989-08-01",70.37]
["1989-09-01",70.180000000000007]
["1989-10-01",70.06]
["1989-11-01",69.87]
["1989-12-01",69.680000000000007]
["1990-01-01",69.36]
["1990-02-01",68.7]
["1990-03-01",68.900000000000006]
["1990-04-01",69.48]
["1990-05-01",70]
["1990-06-01",70.25]
["1990-07-01",70.66]
["1990-08-01",70.58]
["1990-09-01",70.94]
["1990-10-01",70.72]
["1990-11-01",70.959999999999994]
["1990-12-01",70.75]
["1991-01-01",70.84]
["1991-02-01",71.099999999999994]
["1991-03-01",70.94]
["1991-04-01",71.239999999999995]
["1991-05-01",71.400000000000006]
["1991-06-01",71.319999999999993]
["1991-07-01",71.58]
["1991-08-01",71.790000000000006]
["1991-09-01",71.97]
["1991-10-01",72.180000000000007]
["1991-11-01",72.37]
["1991-12-01",73.010000000000005]
["1992-01-01",73.430000000000007]
["1992-02-01",73.72]
["1992-03-01",73.89]
["1992-04-01",73.23]
["1992-05-01",73.42]
["1992-06-01",74.13]
["1992-07-01",74.900000000000006]
["1992-08-01",74.98]
["1992-09-01",75.23]
["1992-10-01",75.55]
["1992-11-01",75.91]
["1992-12-01",75.849999999999994]
["1993-01-01",76.010000000000005]
["1993-02-01",76.010000000000005]
["1993-03-01",76.22]
["1993-04-01",76.319999999999993]
["1993-05-01",76.69]
["1993-06-01",77.290000000000006]
["1993-07-01",77.55]
["1993-08-01",77.63]
["1993-09-01",77.81]
["1993-10-01",78.11]
["1993-11-01",78.430000000000007]
["1993-12-01",79.11]
["1994-01-01",80.19]
["1994-02-01",80.17]
["1994-03-01",80.08]
["1994-04-01",80.2]
["1994-05-01",80.569999999999993]
["1994-06-01",80.62]
["1994-07-01",80.66]
["1994-08-01",80.91]
["1994-09-01",81.180000000000007]
["1994-10-01",81.62]
["1994-11-01",81.72]
["1994-12-01",81.86]
["1995-01-01",81.88]
["1995-02-01",82.15]
["1995-03-01",82.28]
["1995-04-01",82.35]
["1995-05-01",82.32]
["1995-06-01",82.52]
["1995-07-01",82.85]
["1995-08-01",83.11]
["1995-09-01",83.43]
["1995-10-01",83.51]
["1995-11-01",83.88]
["1995-12-01",83.96]
["1996-01-01",84.26]
["1996-02-01",83.92]
["1996-03-01",84.02]
["1996-04-01",84.83]
["1996-05-01",85.06]
["1996-06-01",85.21]
["1996-07-01",85.18]
["1996-08-01",85.31]
["1996-09-01",85.54]
["1996-10-01",85.81]
["1996-11-01",86.12]
["1996-12-01",86.45]
["1997-01-01",86.52]
["1997-02-01",86.53]
["1997-03-01",86.83]
["1997-04-01",86.92]
["1997-05-01",86.89]
["1997-06-01",86.89]
["1997-07-01",87.22]
["1997-08-01",87.56]
["1997-09-01",87.97]
["1997-10-01",88.33]
["1997-11-01",88.92]
["1997-12-01",89.38]
["1998-01-01",90.19]
["1998-02-01",90.54]
["1998-03-01",90.7]
["1998-04-01",90.67]
["1998-05-01",90.99]
["1998-06-01",91.56]
["1998-07-01",91.81]
["1998-08-01",92.15]
["1998-09-01",92.27]
["1998-10-01",92.52]
["1998-11-01",92.11]
["1998-12-01",92.66]
["1999-01-01",92.94]
["1999-02-01",93.52]
["1999-03-01",93.62]
["1999-04-01",94.65]
["1999-05-01",95.43]
["1999-06-01",96.32]
["1999-07-01",96.63]
["1999-08-01",97.18]
["1999-09-01",97.75]
["1999-10-01",98.66]
["1999-11-01",99.41]
["1999-12-01",100.14]
["2000-01-01",100.56]
["2000-02-01",101.41]
["2000-03-01",102.43]
["2000-04-01",103.41]
["2000-05-01",104.39]
["2000-06-01",105.51]
["2000-07-01",106.03]
["2000-08-01",106.42]
["2000-09-01",106.71]
["2000-10-01",106.98]
["2000-11-01",107.47]
["2000-12-01",108.15]
["2001-01-01",108.92]
["2001-02-01",109.52]
["2001-03-01",110.36]
["2001-04-01",111.29]
["2001-05-01",112.09]
["2001-06-01",113.22]
["2001-07-01",114.21]
["2001-08-01",115.25]
["2001-09-01",116.1]
["2001-10-01",116.52]
["2001-11-01",116.8]
["2001-12-01",117.09]
["2002-01-01",117.51]
["2002-02-01",118.12]
["2002-03-01",118.72]
["2002-04-01",119.63]
["2002-05-01",120.34]
["2002-06-01",121.05]
["2002-07-01",121.86]
["2002-08-01",122.64]
["2002-09-01",123.48]
["2002-10-01",124.35]
["2002-11-01",125.32]
["2002-12-01",126.37]
["2003-01-01",127.22]
["2003-02-01",128.21]
["2003-03-01",129.49]
["2003-04-01",129.78]
["2003-05-01",130.53]
["2003-06-01",131.02000000000001]
["2003-07-01",131.69999999999999]
["2003-08-01",132.19999999999999]
["2003-09-01",133.29]
["2003-10-01",134.44999999999999]
["2003-11-01",135.65]
["2003-12-01",137.04]
["2004-01-01",138.03]
["2004-02-01",138.76]
["2004-03-01",139.61000000000001]
["2004-04-01",140.16999999999999]
["2004-05-01",141.47]
["2004-06-01",142.31]
["2004-07-01",143.22999999999999]
["2004-08-01",143.85]
["2004-09-01",145.18]
["2004-10-01",146.16999999999999]
["2004-11-01",147.25]
["2004-12-01",148.59]
["2005-01-01",150.04]
["2005-02-01",151.83000000000001]
["2005-03-01",154]
["2005-04-01",154.6]
["2005-05-01",155.27000000000001]
["2005-06-01",156.06]
["2005-07-01",156.61000000000001]
["2005-08-01",156.56]
["2005-09-01",157.97]
["2005-10-01",159.15]
["2005-11-01",161.32]
["2005-12-01",162.68]
["2006-01-01",164.44]
["2006-02-01",165.92]
["2006-03-01",168.03]
["2006-04-01",167.62]
["2006-05-01",167.72]
["2006-06-01",167.11]
["2006-07-01",166.55]
["2006-08-01",166.02]
["2006-09-01",166.47]
["2006-10-01",166.47]
["2006-11-01",166.49]
["2006-12-01",167.01]
["2007-01-01",168.25]
["2007-02-01",169.48]
["2007-03-01",171.3]
["2007-04-01",168.8]
["2007-05-01",167.4]
["2007-06-01",165.9]
["2007-07-01",164.65]
["2007-08-01",162.91999999999999]
["2007-09-01",161.43]
["2007-10-01",160.28]
["2007-11-01",159.59]
["2007-12-01",159.41]
["2008-01-01",157.5]
["2008-02-01",155.96]
["2008-03-01",155.27000000000001]
["2008-04-01",154.01]
["2008-05-01",152.07]
["2008-06-01",149.88]
["2008-07-01",147.57]
["2008-08-01",145.88]
["2008-09-01",144.25]
["2008-10-01",142.29]
["2008-11-01",139.47999999999999]
["2008-12-01",136.74]
["2009-01-01",132.13]
["2009-02-01",129.37]
["2009-03-01",127.42]
["2009-04-01",126]
["2009-05-01",125.85]
["2009-06-01",124.51]
["2009-07-01",125.97]
["2009-08-01",126.51]
["2009-09-01",128.16]
["2009-10-01",127.46]
["2009-11-01",127.67]
["2009-12-01",127.1]
["2010-01-01",126.76]
["2010-02-01",126.19]
["2010-03-01",125.24]
["2010-04-01",124.54]
["2010-05-01",124.15]
["2010-06-01",124.1]
["2010-07-01",123.19]
["2010-08-01",122.01]
["2010-09-01",120.46]
["2010-10-01",119]
["2010-11-01",118.22]
["2010-12-01",118.04]
["2011-01-01",117.69]
["2011-02-01",117.14]
["2011-03-01",116.13]
["2011-04-01",114.12]
["2011-05-01",114.02]
["2011-06-01",114.57]
["2011-07-01",114.48]
["2011-08-01",114.48]
["2011-09-01",114.03]
["2011-10-01",113.26]
["2011-11-01",111.44]
["2011-12-01",110.65]
["2012-01-01",110.06]
["2012-02-01",109.19]
["2012-03-01",108.12]
["2012-04-01",107.79]
["2012-05-01",110.43]
["2012-06-01",112.32]
["2012-07-01",112.99]
["2012-08-01",112.33]
["2012-09-01",112.11]
["2012-10-01",111.84]
["2012-11-01",112.6]
["2012-12-01",113.39]
["2013-01-01",114]
["2013-02-01",115.03]
["2013-03-01",116.57]
["2013-04-01",117.93]
["2013-05-01",119.69]
["2013-06-01",120.27]
["2013-07-01",121.59]
["2013-08-01",122.02]
["2013-09-01",122.93]
["2013-10-01",124.14]
["2013-11-01",125.18]
["2013-12-01",126.36]
["2014-01-01",126.47]
["2014-02-01",127.5]
["2014-03-01",130.1]
["2014-04-01",130.49]
["2014-05-01",129.75]
["2014-06-01",128.31]
["2014-07-01",126.67]
["2014-08-01",125.62]
["2014-09-01",125.8]
["2014-10-01",126.33]
["2014-11-01",127.48]
["2014-12-01",128.22]
["2015-01-01",129.66999999999999]

{"sheet":"Case Shiller Las Vegas","index":16,"n_rows":370,"n_cols":14,"rows_kept":370,"cut":false,"hidden":false,"merged":[]}
["Title:","S&P/Case-Shiller","NV-Las","Vegas","Home","Price","IndexÂ©"]
["Series","ID:","LVXRNSA"]
["Source:","S&P","Dow","Jones","Indices","LLC"]
["Release:","S&P/Case-Shiller","Home","Price","Indices"]
["Seasonal","Adjustment:","Not","Seasonally","Adjusted"]
["Frequency:","Monthly"]
["Units:","Index","January",2000,"=",100]
["Date","Range:","1987-01-01","to","2015-01-01"]
["Last","Updated:","2015-03-31","09:06:00","AM","CDT"]
["Notes:","For","more","information","regarding","the","index,","please","visit,"]
[null,"http://www.standardandpoors.com/indices/sp-case-shiller-home-price-indices/en/us/?indexId=spusa-cashpidff--p-us----."]
[]
[null,"Copyright","Â©","2014,","S&P","Dow","Jones","Indices","LLC.","All","rights","reserved."]
[null,"Reproduction","of","Home","Price","Index","for","Las","Vegas,","Nevada","in","any","form","is"]
[null,"prohibited","except","with","the","prior","written","permission","of","S&P","Dow","Jones"]
[null,"Indices","LLC","S&P.","S&P","does","not","guarantee","the","accuracy,","adequacy,"]
[null,"completeness","or","availability","of","any","information","and","is","not","responsible"]
[null,"for","any","errors","or","omissions,","regardless","of","the","cause","or","for","the"]
[null,"results","obtained","from","the","use","of","such","information.","S&P","DISCLAIMS","ANY"]
[null,"AND","ALL","EXPRESS","OR","IMPLIED","WARRANTIES,","INCLUDING,","BUT","NOT","LIMITED","TO,"]
[null,"ANY","WARRANTIES","OF","MERCHANTABILITY","OR","FITNESS","FOR","A","PARTICULAR","PURPOSE"]
[null,"OR","USE.","In","no","event","shall","S&P","be","liable","for","any","direct,","indirect,"]
[null,"special","or","consequential","damages,","costs,","expenses,","legal","fees,","or"]
[null,"losses","(including","lost","income","or","lost","profit","and","opportunity","costs)","in"]
[null,"connection","with","subscriber's","or","others'","user","of","Home","Price","Index","for"]
[null,"Las","Vegas,","Nevada."]
[]
[null,"Permission","to","reproduce","this","series","can","be","requested","from"]
[null,"index_services@spdji.com.","More","contact","details","are","available","from"]
[null,"http://us.spindices.com/contact-us/,","including","phone","numbers","for","all"]
[null,"of","its","regional","offices."]
[]
["DATE","VALUE"]
["1987-01-01",66.36]
["1987-02-01",67.03]
["1987-03-01",67.34]
["1987-04-01",67.88]
["1987-05-01",67.900000000000006]
["1987-06-01",66.48]
["1987-07-01",65.430000000000007]
["1987-08-01",65.14]
["1987-09-01",65.849999999999994]
["1987-10-01",66.209999999999994]
["1987-11-01",67.05]
["1987-12-01",66.66]
["1988-01-01",66.64]
["1988-02-01",65.89]
["1988-03-01",66.260000000000005]
["1988-04-01",67.11]
["1988-05-01",67.510000000000005]
["1988-06-01",67.180000000000007]
["1988-07-01",67.36]
["1988-08-01",68.11]
["1988-09-01",69.06]
["1988-10-01",69.19]
["1988-11-01",68.64]
["1988-12-01",67.98]
["1989-01-01",68.73]
["1989-02-01",69.11]
["1989-03-01",69.97]
["1989-04-01",69.61]
["1989-05-01",69.64]
["1989-06-01",71.19]
["1989-07-01",71.56]
["1989-08-01",72.650000000000006]
["1989-09-01",73.41]
["1989-10-01",74.27]
["1989-11-01",74.739999999999995]
["1989-12-01",74.989999999999995]
["1990-01-01",75.459999999999994]
["1990-02-01",75.14]
["1990-03-01",76.08]
["1990-04-01",76.77]
["1990-05-01",77.59]
["1990-06-01",78.34]
["1990-07-01",79.53]
["1990-08-01",80.95]
["1990-09-01",81.64]
["1990-10-01",82.41]
["1990-11-01",81.849999999999994]
["1990-12-01",81.78]
["1991-01-01",80.959999999999994]
["1991-02-01",81.58]
["1991-03-01",81.650000000000006]
["1991-04-01",81.67]
["1991-05-01",82.02]
["1991-06-01",81.91]
["1991-07-01",83.35]
["1991-08-01",84.07]
["1991-09-01",85.46]
["1991-10-01",83.81]
["1991-11-01",81.98]
["1991-12-01",82.87]
["1992-01-01",82.85]
["1992-02-01",83.09]
["1992-03-01",82.66]
["1992-04-01",82.47]
["1992-05-01",82.89]
["1992-06-01",82.84]
["1992-07-01",82.85]
["1992-08-01",82.8]
["1992-09-01",82.98]
["1992-10-01",83.65]
["1992-11-01",83.67]
["1992-12-01",82.91]
["1993-01-01",82.34]
["1993-02-01",82.67]
["1993-03-01",82.78]
["1993-04-01",82.34]
["1993-05-01",81.72]
["1993-06-01",81.73]
["1993-07-01",82.13]
["1993-08-01",82.73]
["1993-09-01",83.3]
["1993-10-01",83.7]
["1993-11-01",84.03]
["1993-12-01",83.78]
["1994-01-01",83.72]
["1994-02-01",83.48]
["1994-03-01",83.69]
["1994-04-01",84.04]
["1994-05-01",85.26]
["1994-06-01",85.84]
["1994-07-01",86.45]
["1994-08-01",86.37]
["1994-09-01",86.54]
["1994-10-01",86.69]
["1994-11-01",86.77]
["1994-12-01",87.17]
["1995-01-01",87.04]
["1995-02-01",87.34]
["1995-03-01",87.39]
["1995-04-01",87.99]
["1995-05-01",88.04]
["1995-06-01",88.03]
["1995-07-01",88.1]
["1995-08-01",88.6]
["1995-09-01",88.96]
["1995-10-01",89.21]
["1995-11-01",89.15]
["1995-12-01",89.04]
["1996-01-01",88.91]
["1996-02-01",89.25]
["1996-03-01",89.13]
["1996-04-01",89.59]
["1996-05-01",89.77]
["1996-06-01",90.26]
["1996-07-01",90.43]
["1996-08-01",90.37]
["1996-09-01",90.1]
["1996-10-01",89.88]
["1996-11-01",89.58]
["1996-12-01",90.01]
["1997-01-01",90.49]
["1997-02-01",91.39]
["1997-03-01",91.62]
["1997-04-01",91.46]
["1997-05-01",91.48]
["1997-06-01",91.8]
["1997-07-01",92.32]
["1997-08-01",92.74]
["1997-09-01",92.88]
["1997-10-01",93.1]
["1997-11-01",93.01]
["1997-12-01",93.04]
["1998-01-01",92.94]
["1998-02-01",93.3]
["1998-03-01",94.48]
["1998-04-01",94.58]
["1998-05-01",94.5]
["1998-06-01",94.32]
["1998-07-01",94.58]
["1998-08-01",94.69]
["1998-09-01",95.14]
["1998-10-01",95.14]
["1998-11-01",95.46]
["1998-12-01",95.46]
["1999-01-01",95.92]
["1999-02-01",96.38]
["1999-03-01",96.33]
["1999-04-01",96.59]
["1999-05-01",97.27]
["1999-06-01",98.07]
["1999-07-01",98.58]
["1999-08-01",98.53]
["1999-09-01",99.03]
["1999-10-01",99.34]
["1999-11-01",99.78]
["1999-12-01",99.69]
["2000-01-01",100]
["2000-02-01",100.33]
["2000-03-01",100.9]
["2000-04-01",101.2]
["2000-05-01",101.93]
["2000-06-01",102.44]
["2000-07-01",103.14]
["2000-08-01",103.73]
["2000-09-01",104.51]
["2000-10-01",105.16]
["2000-11-01",105.34]
["2000-12-01",105.36]
["2001-01-01",105.23]
["2001-02-01",105.39]
["2001-03-01",106.21]
["2001-04-01",107.4]
["2001-05-01",108.56]
["2001-06-01",109.76]
["2001-07-01",110.93]
["2001-08-01",111.74]
["2001-09-01",112.54]
["2001-10-01",112.73]
["2001-11-01",113.3]
["2001-12-01",113.32]
["2002-01-01",113.7]
["2002-02-01",113.96]
["2002-03-01",114.32]
["2002-04-01",114.72]
["2002-05-01",115.63]
["2002-06-01",116.7]
["2002-07-01",117.61]
["2002-08-01",118.34]
["2002-09-01",118.91]
["2002-10-01",119.98]
["2002-11-01",120.93]
["2002-12-01",121.73]
["2003-01-01",121.94]
["2003-02-01",122.46]
["2003-03-01",122.94]
["2003-04-01",124.46]
["2003-05-01",125.68]
["2003-06-01",127.38]
["2003-07-01",129.30000000000001]
["2003-08-01",131.85]
["2003-09-01",134.16]
["2003-10-01",136.77000000000001]
["2003-11-01",139.16]
["2003-12-01",142.69]
["2004-01-01",145.94999999999999]
["2004-02-01",149.93]
["2004-03-01",157.87]
["2004-04-01",166.32]
["2004-05-01",174.98]
["2004-06-01",185.55]
["2004-07-01",195.03]
["2004-08-01",201.71]
["2004-09-01",205.49]
["2004-10-01",207.07]
["2004-11-01",207.48]
["2004-12-01",207.62]
["2005-01-01",207.35]
["2005-02-01",209.31]
["2005-03-01",210.98]
["2005-04-01",214.52]
["2005-05-01",217.28]
["2005-06-01",219.87]
["2005-07-01",221.93]
["2005-08-01",224.51]
["2005-09-01",226.59]
["2005-10-01",227.81]
["2005-11-01",228.77]
["2005-12-01",229.42]
["2006-01-01",230.48]
["2006-02-01",231.94]
["2006-03-01",232.38]
["2006-04-01",233.78]
["2006-05-01",234.39]
["2006-06-01",233.75]
["2006-07-01",234.29]
["2006-08-01",234.78]
["2006-09-01",234.71]
["2006-10-01",233.8]
["2006-11-01",232.56]
["2006-12-01",231.57]
["2007-01-01",230.52]
["2007-02-01",229.64]
["2007-03-01",228.55]
["2007-04-01",226.65]
["2007-05-01",224.79]
["2007-06-01",221.86]
["2007-07-01",219.91]
["2007-08-01",216.83]
["2007-09-01",213.47]
["2007-10-01",208.68]
["2007-11-01",201.95]
["2007-12-01",196.05]
["2008-01-01",186.05]
["2008-02-01",177.18]
["2008-03-01",169.31]
["2008-04-01",165.71]
["2008-05-01",161.1]
["2008-06-01",158.80000000000001]
["2008-07-01",154.63999999999999]
["2008-08-01",150.93]
["2008-09-01",146.86000000000001]
["2008-10-01",142.74]
["2008-11-01",138.04]
["2008-12-01",131.4]
["2009-01-01",125.68]
["2009-02-01",121.11]
["2009-03-01",116.53]
["2009-04-01",112.4]
["2009-05-01",109.5]
["2009-06-01",107.31]
["2009-07-01",106.08]
["2009-08-01",105.78]
["2009-09-01",104.82]
["2009-10-01",104.71]
["2009-11-01",104.22]
["2009-12-01",104.38]
["2010-01-01",103.82]
["2010-02-01",103.4]
["2010-03-01",102.58]
["2010-04-01",102.82]
["2010-05-01",102.35]
["2010-06-01",101.77]
["2010-07-01",100.91]
["2010-08-01",101.03]
["2010-09-01",101.18]
["2010-10-01",100.97]
["2010-11-01",100.59]
["2010-12-01",99.48]
["2011-01-01",99.23]
["2011-02-01",98.28]
["2011-03-01",97.18]
["2011-04-01",96.47]
["2011-05-01",95.6]
["2011-06-01",95.67]
["2011-07-01",95.48]
["2011-08-01",95.18]
["2011-09-01",93.8]
["2011-10-01",92.36]
["2011-11-01",91.41]
["2011-12-01",90.7]
["2012-01-01",90.24]
["2012-02-01",89.88]
["2012-03-01",89.87]
["2012-04-01",90.84]
["2012-05-01",92.55]
["2012-06-01",93.94]
["2012-07-01",94.57]
["2012-08-01",96.03]
["2012-09-01",97.38]
["2012-10-01",100.14]
["2012-11-01",100.56]
["2012-12-01",102.41]
["2013-01-01",104.04]
["2013-02-01",105.46]
["2013-03-01",108.36]
["2013-04-01",111.05]
["2013-05-01",114.09]
["2013-06-01",117.28]
["2013-07-01",120.58]
["2013-08-01",124.09]
["2013-09-01",125.74]
["2013-10-01",127.23]
["2013-11-01",128]
["2013-12-01",128.53]
["2014-01-01",129.93]
["2014-02-01",129.85]
["2014-03-01",131.28]
["2014-04-01",131.88]
["2014-05-01",133.29]
["2014-06-01",135.07]
["2014-07-01",135.93]
["2014-08-01",136.66]
["2014-09-01",137.25]
["2014-10-01",137.34]
["2014-11-01",137.85]
["2014-12-01",137.41]
["2015-01-01",137.63999999999999]

{"sheet":"DS as Pct of Income","index":17,"n_rows":154,"n_cols":13,"rows_kept":154,"cut":false,"hidden":false,"merged":[]}
["Title:","Household","Debt","Service","Payments","as","a","Percent","of","Disposable","Personal","Income"]
["Series","ID:","TDSP"]
["Source:","Board","of","Governors","of","the","Federal","Reserve","System","(US)"]
["Release:","Household","Debt","Service","and","Financial","Obligations","Ratios"]
["Seasonal","Adjustment:","Seasonally","Adjusted"]
["Frequency:","Quarterly"]
["Units:","Percent"]
["Date","Range:","1980-01-01","to","2014-10-01"]
["Last","Updated:","2015-03-24","09:36:00","AM","CDT"]
["Notes:","For","further","information","please","see","the","Board","of","Governors","web","site","at"]
[null,"http://www.federalreserve.gov/releases/housedebt/default.htm"]
[null,"http://www.federalreserve.gov/releases/housedebt/about.htm"]
[]
["DATE","VALUE"]
["1980-01-01",10.621969999999999]
["1980-04-01",10.705450000000001]
["1980-07-01",10.464090000000001]
["1980-10-01",10.25113]
["1981-01-01",10.31109]
["1981-04-01",10.456379999999999]
["1981-07-01",10.357839999999999]
["1981-10-01",10.422700000000001]
["1982-01-01",10.503550000000001]
["1982-04-01",10.564080000000001]
["1982-07-01",10.463939999999999]
["1982-10-01",10.419180000000001]
["1983-01-01",10.392250000000001]
["1983-04-01",10.417199999999999]
["1983-07-01",10.42104]
["1983-10-01",10.472530000000001]
["1984-01-01",10.521990000000001]
["1984-04-01",10.65104]
["1984-07-01",10.75671]
["1984-10-01",10.9153]
["1985-01-01",11.25398]
["1985-04-01",11.343349999999999]
["1985-07-01",11.63049]
["1985-10-01",11.751300000000001]
["1986-01-01",11.772869999999999]
["1986-04-01",11.84141]
["1986-07-01",11.940530000000001]
["1986-10-01",12.08309]
["1987-01-01",11.9483]
["1987-04-01",12.08986]
["1987-07-01",11.95965]
["1987-10-01",11.825850000000001]
["1988-01-01",11.77472]
["1988-04-01",11.758570000000001]
["1988-07-01",11.71374]
["1988-10-01",11.590070000000001]
["1989-01-01",11.579090000000001]
["1989-04-01",11.746790000000001]
["1989-07-01",11.80972]
["1989-10-01",11.767049999999999]
["1990-01-01",11.66461]
["1990-04-01",11.628349999999999]
["1990-07-01",11.604100000000001]
["1990-10-01",11.619630000000001]
["1991-01-01",11.600820000000001]
["1991-04-01",11.46288]
["1991-07-01",11.352320000000001]
["1991-10-01",11.148669999999999]
["1992-01-01",10.873060000000001]
["1992-04-01",10.692589999999999]
["1992-07-01",10.55447]
["1992-10-01",10.480549999999999]
["1993-01-01",10.42512]
["1993-04-01",10.373889999999999]
["1993-07-01",10.427569999999999]
["1993-10-01",10.39466]
["1994-01-01",10.410780000000001]
["1994-04-01",10.46956]
["1994-07-01",10.603440000000001]
["1994-10-01",10.7209]
["1995-01-01",10.90043]
["1995-04-01",11.10079]
["1995-07-01",11.209149999999999]
["1995-10-01",11.24757]
["1996-01-01",11.26469]
["1996-04-01",11.28903]
["1996-07-01",11.335750000000001]
["1996-10-01",11.393509999999999]
["1997-01-01",11.34535]
["1997-04-01",11.34937]
["1997-07-01",11.35772]
["1997-10-01",11.312709999999999]
["1998-01-01",11.166880000000001]
["1998-04-01",11.18712]
["1998-07-01",11.17252]
["1998-10-01",11.23395]
["1999-01-01",11.29949]
["1999-04-01",11.450979999999999]
["1999-07-01",11.57728]
["1999-10-01",11.567629999999999]
["2000-01-01",11.51895]
["2000-04-01",11.68289]
["2000-07-01",11.85891]
["2000-10-01",12.08849]
["2001-01-01",12.19412]
["2001-04-01",12.405889999999999]
["2001-07-01",12.33667]
["2001-10-01",12.63242]
["2002-01-01",12.404999999999999]
["2002-04-01",12.34422]
["2002-07-01",12.388450000000001]
["2002-10-01",12.37279]
["2003-01-01",12.366630000000001]
["2003-04-01",12.27209]
["2003-07-01",12.129849999999999]
["2003-10-01",12.1942]
["2004-01-01",12.16465]
["2004-04-01",12.10491]
["2004-07-01",12.22308]
["2004-10-01",12.2262]
["2005-01-01",12.530239999999999]
["2005-04-01",12.53509]
["2005-07-01",12.56053]
["2005-10-01",12.585279999999999]
["2006-01-01",12.572900000000001]
["2006-04-01",12.668010000000001]
["2006-07-01",12.76765]
["2006-10-01",12.848319999999999]
["2007-01-01",12.87689]
["2007-04-01",12.951000000000001]
["2007-07-01",13.049160000000001]
["2007-10-01",13.17414]
["2008-01-01",13.04274]
["2008-04-01",12.667439999999999]
["2008-07-01",12.771660000000001]
["2008-10-01",12.736330000000001]
["2009-01-01",12.63805]
["2009-04-01",12.28795]
["2009-07-01",12.13565]
["2009-10-01",11.88104]
["2010-01-01",11.651859999999999]
["2010-04-01",11.349930000000001]
["2010-07-01",11.148070000000001]
["2010-10-01",10.972250000000001]
["2011-01-01",10.7502]
["2011-04-01",10.65169]
["2011-07-01",10.53143]
["2011-10-01",10.43721]
["2012-01-01",10.22312]
["2012-04-01",10.131930000000001]
["2012-07-01",10.13578]
["2012-10-01",9.8314699999999995]
["2013-01-01",10.119540000000001]
["2013-04-01",10.01826]
["2013-07-01",9.9809400000000004]
["2013-10-01",10.024509999999999]
["2014-01-01",9.9564699999999995]
["2014-04-01",9.9253800000000005]
["2014-07-01",9.9181299999999997]
["2014-10-01",9.9119700000000002]

{"sheet":"Home Ownership Pct","index":18,"n_rows":153,"n_cols":11,"rows_kept":153,"cut":false,"hidden":false,"merged":[]}
["Title:","Homeownership","Rate","for","the","United","States"]
["Series","ID:","RSAHORUSQ156S"]
["Source:","US.","Bureau","of","the","Census"]
["Release:","Housing","Vacancies","and","Homeownership"]
["Seasonal","Adjustment:","Seasonally","Adjusted"]
["Frequency:","Quarterly"]
["Units:","Percent"]
["Date","Range:","1980-01-01","to","2014-10-01"]
["Last","Updated:","2015-01-29","09:56:00","AM","CST"]
["Notes:","The","homeownership","rate","is","the","proportion","of","households","that","is"]
[null,"owner-occupied."]
[]
["DATE","VALUE"]
["1980-01-01",65.5]
["1980-04-01",65.599999999999994]
["1980-07-01",65.599999999999994]
["1980-10-01",65.599999999999994]
["1981-01-01",65.599999999999994]
["1981-04-01",65.400000000000006]
["1981-07-01",65.400000000000006]
["1981-10-01",65.3]
["1982-01-01",64.8]
["1982-04-01",65]
["1982-07-01",64.7]
["1982-10-01",64.7]
["1983-01-01",64.7]
["1983-04-01",64.7]
["1983-07-01",64.599999999999994]
["1983-10-01",64.599999999999994]
["1984-01-01",64.599999999999994]
["1984-04-01",64.599999999999994]
["1984-07-01",64.5]
["1984-10-01",64.3]
["1985-01-01",64.099999999999994]
["1985-04-01",64.099999999999994]
["1985-07-01",63.8]
["1985-10-01",63.6]
["1986-01-01",63.7]
["1986-04-01",63.8]
["1986-07-01",63.7]
["1986-10-01",63.9]
["1987-01-01",63.9]
["1987-04-01",63.9]
["1987-07-01",64.099999999999994]
["1987-10-01",64.099999999999994]
["1988-01-01",63.8]
["1988-04-01",63.8]
["1988-07-01",63.8]
["1988-10-01",63.8]
["1989-01-01",64]
["1989-04-01",63.9]
["1989-07-01",63.9]
["1989-10-01",63.7]
["1990-01-01",64.099999999999994]
["1990-04-01",63.9]
["1990-07-01",63.9]
["1990-10-01",64]
["1991-01-01",64]
["1991-04-01",64.099999999999994]
["1991-07-01",64.099999999999994]
["1991-10-01",64.099999999999994]
["1992-01-01",64.099999999999994]
["1992-04-01",64.099999999999994]
["1992-07-01",64.099999999999994]
["1992-10-01",64.3]
["1993-01-01",63.9]
["1993-04-01",64]
["1993-07-01",64]
["1993-10-01",64.099999999999994]
["1994-01-01",64]
["1994-04-01",63.9]
["1994-07-01",63.9]
["1994-10-01",64.099999999999994]
["1995-01-01",64.400000000000006]
["1995-04-01",64.7]
["1995-07-01",64.8]
["1995-10-01",65.099999999999994]
["1996-01-01",65.3]
["1996-04-01",65.400000000000006]
["1996-07-01",65.400000000000006]
["1996-10-01",65.400000000000006]
["1997-01-01",65.5]
["1997-04-01",65.7]
["1997-07-01",65.8]
["1997-10-01",65.8]
["1998-01-01",66]
["1998-04-01",66.099999999999994]
["1998-07-01",66.599999999999994]
["1998-10-01",66.5]
["1999-01-01",66.7]
["1999-04-01",66.7]
["1999-07-01",66.8]
["1999-10-01",66.900000000000006]
["2000-01-01",67.099999999999994]
["2000-04-01",67.3]
["2000-07-01",67.5]
["2000-10-01",67.5]
["2001-01-01",67.599999999999994]
["2001-04-01",67.900000000000006]
["2001-07-01",67.900000000000006]
["2001-10-01",67.900000000000006]
["2002-01-01",67.900000000000006]
["2002-04-01",67.8]
["2002-07-01",67.900000000000006]
["2002-10-01",68.2]
["2003-01-01",68.099999999999994]
["2003-04-01",68.2]
["2003-07-01",68.3]
["2003-10-01",68.5]
["2004-01-01",68.7]
["2004-04-01",69.400000000000006]
["2004-07-01",68.900000000000006]
["2004-10-01",69]
["2005-01-01",69.2]
["2005-04-01",68.8]
["2005-07-01",68.7]
["2005-10-01",68.900000000000006]
["2006-01-01",68.599999999999994]
["2006-04-01",68.8]
["2006-07-01",68.900000000000006]
["2006-10-01",68.8]
["2007-01-01",68.5]
["2007-04-01",68.3]
["2007-07-01",68]
["2007-10-01",67.8]
["2008-01-01",67.900000000000006]
["2008-04-01",68.099999999999994]
["2008-07-01",67.7]
["2008-10-01",67.5]
["2009-01-01",67.400000000000006]
["2009-04-01",67.400000000000006]
["2009-07-01",67.400000000000006]
["2009-10-01",67.2]
["2010-01-01",67.2]
["2010-04-01",67]
["2010-07-01",66.7]
["2010-10-01",66.5]
["2011-01-01",66.5]
["2011-04-01",66]
["2011-07-01",66.099999999999994]
["2011-10-01",65.900000000000006]
["2012-01-01",65.599999999999994]
["2012-04-01",65.599999999999994]
["2012-07-01",65.3]
["2012-10-01",65.3]
["2013-01-01",65.2]
["2013-04-01",65.099999999999994]
["2013-07-01",65.099999999999994]
["2013-10-01",65.099999999999994]
["2014-01-01",65]
["2014-04-01",64.8]
["2014-07-01",64.3]
["2014-10-01",63.9]

{"sheet":"Vacant Homes","index":19,"n_rows":76,"n_cols":16,"rows_kept":76,"cut":false,"hidden":false,"merged":[]}
["Title:","Housing","Inventory","Estimate:","Vacant","Housing","Units","for","Sale","for","the","United","States"]
["Series","ID:","ESALEUSQ176N"]
["Source:","US.","Bureau","of","the","Census"]
["Release:","Housing","Vacancies","and","Homeownership"]
["Seasonal","Adjustment:","Not","Seasonally","Adjusted"]
["Frequency:","Quarterly"]
["Units:","Thousands","of","Units"]
["Date","Range:","2000-04-01","to","2014-10-01"]
["Last","Updated:","2015-01-29","09:56:00","AM","CST"]
["Notes:","This","group","is","limited","to","units","for","sale","only;","it","excludes","units","both"]
[null,"for","rent","and","sale.","If","a","unit","was","located","in","a","multi-unit","structure"]
[null,"which","was","for","sale","as","an","entire","structure","and","if","the","unit","was","not","for"]
[null,"rent,","it","was","reported","as","held off market.","However,","if","the","individual"]
[null,"unit","was","intended","to","be","occupied","by","the","new","owner,","it","was","reported","as"]
[null,"for sale."]
[]
["DATE","VALUE"]
["2000-04-01",1031]
["2000-07-01",1144]
["2000-10-01",1154]
["2001-01-01",1104]
["2001-04-01",1258]
["2001-07-01",1375]
["2001-10-01",1315]
["2002-01-01",1200]
["2002-04-01",1229]
["2002-07-01",1218]
["2002-10-01",1249]
["2003-01-01",1248]
["2003-04-01",1256]
["2003-07-01",1419]
["2003-10-01",1339]
["2004-01-01",1283]
["2004-04-01",1272]
["2004-07-01",1333]
["2004-10-01",1389]
["2005-01-01",1401]
["2005-04-01",1384]
["2005-07-01",1500]
["2005-10-01",1585]
["2006-01-01",1593]
["2006-04-01",1746]
["2006-07-01",1954]
["2006-10-01",2121]
["2007-01-01",2198]
["2007-04-01",2055]
["2007-07-01",2093]
["2007-10-01",2194]
["2008-01-01",2286]
["2008-04-01",2175]
["2008-07-01",2230]
["2008-10-01",2228]
["2009-01-01",2123]
["2009-04-01",1921]
["2009-07-01",2000]
["2009-10-01",2100]
["2010-01-01",2006]
["2010-04-01",1975]
["2010-07-01",1949]
["2010-10-01",2066]
["2011-01-01",2003]
["2011-04-01",1956]
["2011-07-01",1858]
["2011-10-01",1779]
["2012-01-01",1648]
["2012-04-01",1590]
["2012-07-01",1470]
["2012-10-01",1493]
["2013-01-01",1603]
["2013-04-01",1460]
["2013-07-01",1470]
["2013-10-01",1587]
["2014-01-01",1521]
["2014-04-01",1425]
["2014-07-01",1370]
["2014-10-01",1449]

{"sheet":"Charge offs on RE Loans","index":20,"n_rows":133,"n_cols":15,"rows_kept":133,"cut":false,"hidden":false,"merged":[]}
["Title:","Net","Charge-Offs","On","All","Loans","And","Leases,","Secured","By","Real","Estate,","All","Commercial","Banks"]
["Series","ID:","NCOALLSREACB"]
["Source:","Board","of","Governors","of","the","Federal","Reserve","System","(US)"]
["Release:","Charge-Off","and","Delinquency","Rates","on","Loans","and","Leases","at","Commercial","Banks"]
["Seasonal","Adjustment:","Not","Seasonally","Adjusted"]
["Frequency:","Quarterly"]
["Units:","Millions","of","Dollars"]
["Date","Range:","1985-01-01","to","2014-10-01"]
["Last","Updated:","2015-02-24","03:31:00","PM","CST"]
["Notes:","Charge-offs","are","the","value","of","loans","and","leases","removed","from","the","books"]
[null,"and","charged","against","loss","reserves."]
[]
["DATE","VALUE"]
["1985-01-01",160]
["1985-04-01",223]
["1985-07-01",248]
["1985-10-01",487]
["1986-01-01",240]
["1986-04-01",413]
["1986-07-01",501]
["1986-10-01",778]
["1987-01-01",461]
["1987-04-01",530]
["1987-07-01",620]
["1987-10-01",932]
["1988-01-01",527]
["1988-04-01",957]
["1988-07-01",693]
["1988-10-01",849]
["1989-01-01",616]
["1989-04-01",766]
["1989-07-01",963]
["1989-10-01",1360]
["1990-01-01",1061]
["1990-04-01",1409]
["1990-07-01",1590]
["1990-10-01",2460]
["1991-01-01",1526]
["1991-04-01",1964]
["1991-07-01",2166]
["1991-10-01",2924]
["1992-01-01",1816]
["1992-04-01",1998]
["1992-07-01",2575]
["1992-10-01",2739]
["1993-01-01",1386]
["1993-04-01",1632]
["1993-07-01",1332]
["1993-10-01",1403]
["1994-01-01",745]
["1994-04-01",847]
["1994-07-01",632]
["1994-10-01",872]
["1995-01-01",343]
["1995-04-01",648]
["1995-07-01",409]
["1995-10-01",507]
["1996-01-01",270]
["1996-04-01",295]
["1996-07-01",260]
["1996-10-01",279]
["1997-01-01",119]
["1997-04-01",179]
["1997-07-01",183]
["1997-10-01",248]
["1998-01-01",144]
["1998-04-01",108]
["1998-07-01",172]
["1998-10-01",257]
["1999-01-01",173]
["1999-04-01",215]
["1999-07-01",335]
["1999-10-01",408]
["2000-01-01",279]
["2000-04-01",311]
["2000-07-01",379]
["2000-10-01",530]
["2001-01-01",464]
["2001-04-01",547]
["2001-07-01",1289]
["2001-10-01",984]
["2002-01-01",679]
["2002-04-01",650]
["2002-07-01",706]
["2002-10-01",899]
["2003-01-01",631]
["2003-04-01",783]
["2003-07-01",750]
["2003-10-01",1453]
["2004-01-01",553]
["2004-04-01",518]
["2004-07-01",482]
["2004-10-01",639]
["2005-01-01",399]
["2005-04-01",406]
["2005-07-01",453]
["2005-10-01",505]
["2006-01-01",453]
["2006-04-01",485]
["2006-07-01",585]
["2006-10-01",1110]
["2007-01-01",941]
["2007-04-01",1291]
["2007-07-01",1830]
["2007-10-01",3958]
["2008-01-01",5968]
["2008-04-01",9384]
["2008-07-01",13131]
["2008-10-01",17587]
["2009-01-01",14738]
["2009-04-01",21441]
["2009-07-01",22755]
["2009-10-01",27485]
["2010-01-01",21224]
["2010-04-01",19947]
["2010-07-01",18526]
["2010-10-01",19148]
["2011-01-01",14088]
["2011-04-01",13444]
["2011-07-01",12023]
["2011-10-01",11709]
["2012-01-01",9761]
["2012-04-01",8963]
["2012-07-01",11314]
["2012-10-01",7939]
["2013-01-01",5922]
["2013-04-01",4782]
["2013-07-01",3293]
["2013-10-01",3150]
["2014-01-01",2093]
["2014-04-01",1711]
["2014-07-01",1606]
["2014-10-01",1634]

{"sheet":"Charge offs on RE Loans 1","index":21,"n_rows":109,"n_cols":23,"rows_kept":109,"cut":false,"hidden":false,"merged":[]}
["Title:","Net","Charge-Offs","On","All","Loans","And","Leases,","Secured","By","Real","Estate,","Single","Family","Residential","Mortgages,","Booked","In","Domestic","Offices,","All","Commercial","Banks"]
["Series","ID:","NCOALLSRE1FRMACB"]
["Source:","Board","of","Governors","of","the","Federal","Reserve","System","(US)"]
["Release:","Charge-Off","and","Delinquency","Rates","on","Loans","and","Leases","at","Commercial","Banks"]
["Seasonal","Adjustment:","Not","Seasonally","Adjusted"]
["Frequency:","Quarterly"]
["Units:","Millions","of","Dollars"]
["Date","Range:","1991-01-01","to","2014-10-01"]
["Last","Updated:","2015-02-24","03:31:00","PM","CST"]
["Notes:","Charge-offs","are","the","value","of","loans","and","leases","removed","from","the","books"]
[null,"and","charged","against","loss","reserves."]
[]
["DATE","VALUE"]
["1991-01-01",156]
["1991-04-01",182]
["1991-07-01",215]
["1991-10-01",262]
["1992-01-01",168]
["1992-04-01",219]
["1992-07-01",296]
["1992-10-01",345]
["1993-01-01",186]
["1993-04-01",284]
["1993-07-01",230]
["1993-10-01",271]
["1994-01-01",168]
["1994-04-01",224]
["1994-07-01",162]
["1994-10-01",255]
["1995-01-01",140]
["1995-04-01",180]
["1995-07-01",173]
["1995-10-01",213]
["1996-01-01",148]
["1996-04-01",151]
["1996-07-01",134]
["1996-10-01",168]
["1997-01-01",127]
["1997-04-01",167]
["1997-07-01",143]
["1997-10-01",181]
["1998-01-01",133]
["1998-04-01",133]
["1998-07-01",136]
["1998-10-01",163]
["1999-01-01",153]
["1999-04-01",190]
["1999-07-01",270]
["1999-10-01",305]
["2000-01-01",227]
["2000-04-01",222]
["2000-07-01",265]
["2000-10-01",350]
["2001-01-01",288]
["2001-04-01",365]
["2001-07-01",1027]
["2001-10-01",506]
["2002-01-01",359]
["2002-04-01",396]
["2002-07-01",388]
["2002-10-01",449]
["2003-01-01",412]
["2003-04-01",446]
["2003-07-01",396]
["2003-10-01",1106]
["2004-01-01",391]
["2004-04-01",336]
["2004-07-01",301]
["2004-10-01",376]
["2005-01-01",284]
["2005-04-01",261]
["2005-07-01",290]
["2005-10-01",350]
["2006-01-01",364]
["2006-04-01",341]
["2006-07-01",439]
["2006-10-01",627]
["2007-01-01",690]
["2007-04-01",826]
["2007-07-01",1202]
["2007-10-01",2318]
["2008-01-01",4193]
["2008-04-01",5718]
["2008-07-01",8732]
["2008-10-01",8466]
["2009-01-01",9344]
["2009-04-01",12328]
["2009-07-01",12614]
["2009-10-01",14742]
["2010-01-01",12867]
["2010-04-01",11124]
["2010-07-01",9923]
["2010-10-01",10362]
["2011-01-01",8782]
["2011-04-01",8459]
["2011-07-01",7711]
["2011-10-01",7210]
["2012-01-01",7234]
["2012-04-01",6399]
["2012-07-01",9057]
["2012-10-01",5659]
["2013-01-01",4721]
["2013-04-01",3768]
["2013-07-01",2429]
["2013-10-01",2465]
["2014-01-01",1840]
["2014-04-01",1334]
["2014-07-01",1319]
["2014-10-01",1347]

{"sheet":"Deliquency Rate on RE 1","index":22,"n_rows":108,"n_cols":14,"rows_kept":108,"cut":false,"hidden":false,"merged":[]}
["Title:","Delinquency","Rate","On","Single-Family","Residential","Mortgages,","Booked","In","Domestic","Offices,","All","Commercial","Banks"]
["Series","ID:","DRSFRMACBS"]
["Source:","Board","of","Governors","of","the","Federal","Reserve","System","(US)"]
["Release:","Charge-Off","and","Delinquency","Rates","on","Loans","and","Leases","at","Commercial","Banks"]
["Seasonal","Adjustment:","Seasonally","Adjusted"]
["Frequency:","Quarterly,","End","of","Period"]
["Units:","Percent"]
["Date","Range:","1991-01-01","to","2014-10-01"]
["Last","Updated:","2015-02-24","03:31:00","PM","CST"]
["Notes:"]
[]
["DATE","VALUE"]
["1991-01-01",3.24]
["1991-04-01",3.31]
["1991-07-01",3.36]
["1991-10-01",3.36]
["1992-01-01",3.27]
["1992-04-01",3.16]
["1992-07-01",3.02]
["1992-10-01",2.89]
["1993-01-01",2.84]
["1993-04-01",2.74]
["1993-07-01",2.7]
["1993-10-01",2.4500000000000002]
["1994-01-01",2.4900000000000002]
["1994-04-01",2.31]
["1994-07-01",2.19]
["1994-10-01",2.1]
["1995-01-01",2.13]
["1995-04-01",2.16]
["1995-07-01",2.23]
["1995-10-01",2.2400000000000002]
["1996-01-01",2.25]
["1996-04-01",2.31]
["1996-07-01",2.2999999999999998]
["1996-10-01",2.34]
["1997-01-01",2.36]
["1997-04-01",2.33]
["1997-07-01",2.29]
["1997-10-01",2.25]
["1998-01-01",2.21]
["1998-04-01",2.17]
["1998-07-01",2.1800000000000002]
["1998-10-01",2.0699999999999998]
["1999-01-01",1.94]
["1999-04-01",1.93]
["1999-07-01",2.2200000000000002]
["1999-10-01",1.96]
["2000-01-01",1.98]
["2000-04-01",2.0099999999999998]
["2000-07-01",2.14]
["2000-10-01",2.27]
["2001-01-01",2.29]
["2001-04-01",2.42]
["2001-07-01",2.2400000000000002]
["2001-10-01",2.23]
["2002-01-01",2.23]
["2002-04-01",2.16]
["2002-07-01",2.11]
["2002-10-01",1.96]
["2003-01-01",1.98]
["2003-04-01",1.83]
["2003-07-01",1.73]
["2003-10-01",1.78]
["2004-01-01",1.65]
["2004-04-01",1.6]
["2004-07-01",1.58]
["2004-10-01",1.39]
["2005-01-01",1.43]
["2005-04-01",1.55]
["2005-07-01",1.57]
["2005-10-01",1.64]
["2006-01-01",1.6]
["2006-04-01",1.62]
["2006-07-01",1.75]
["2006-10-01",1.95]
["2007-01-01",2.0299999999999998]
["2007-04-01",2.2999999999999998]
["2007-07-01",2.76]
["2007-10-01",3.08]
["2008-01-01",3.69]
["2008-04-01",4.38]
["2008-07-01",5.22]
["2008-10-01",6.66]
["2009-01-01",7.85]
["2009-04-01",8.6199999999999992]
["2009-07-01",9.59]
["2009-10-01",10.52]
["2010-01-01",11.27]
["2010-04-01",11.13]
["2010-07-01",10.76]
["2010-10-01",10.199999999999999]
["2011-01-01",10.41]
["2011-04-01",10.58]
["2011-07-01",10.36]
["2011-10-01",10.31]
["2012-01-01",10.33]
["2012-04-01",10.46]
["2012-07-01",10.69]
["2012-10-01",10.029999999999999]
["2013-01-01",9.69]
["2013-04-01",9.3000000000000007]
["2013-07-01",8.64]
["2013-10-01",8.26]
["2014-01-01",7.81]
["2014-04-01",7.4]
["2014-07-01",6.99]
["2014-10-01",6.63]

{"sheet":"Deliquency Rate on RE 2","index":23,"n_rows":108,"n_cols":14,"rows_kept":108,"cut":false,"hidden":false,"merged":[]}
["Title:","Delinquency","Rate","On","Single-Family","Residential","Mortgages,","Booked","In","Domestic","Offices,","All","Commercial","Banks"]
["Series","ID:","DRSFRMACBS"]
["Source:","Board","of","Governors","of","the","Federal","Reserve","System","(US)"]
["Release:","Charge-Off","and","Delinquency","Rates","on","Loans","and","Leases","at","Commercial","Banks"]
["Seasonal","Adjustment:","Seasonally","Adjusted"]
["Frequency:","Quarterly,","End","of","Period"]
["Units:","Percent"]
["Date","Range:","1991-01-01","to","2014-10-01"]
["Last","Updated:","2015-02-24","03:31:00","PM","CST"]
["Notes:"]
[]
["DATE","VALUE"]
["1991-01-01",3.24]
["1991-04-01",3.31]
["1991-07-01",3.36]
["1991-10-01",3.36]
["1992-01-01",3.27]
["1992-04-01",3.16]
["1992-07-01",3.02]
["1992-10-01",2.89]
["1993-01-01",2.84]
["1993-04-01",2.74]
["1993-07-01",2.7]
["1993-10-01",2.4500000000000002]
["1994-01-01",2.4900000000000002]
["1994-04-01",2.31]
["1994-07-01",2.19]
["1994-10-01",2.1]
["1995-01-01",2.13]
["1995-04-01",2.16]
["1995-07-01",2.23]
["1995-10-01",2.2400000000000002]
["1996-01-01",2.25]
["1996-04-01",2.31]
["1996-07-01",2.2999999999999998]
["1996-10-01",2.34]
["1997-01-01",2.36]
["1997-04-01",2.33]
["1997-07-01",2.29]
["1997-10-01",2.25]
["1998-01-01",2.21]
["1998-04-01",2.17]
["1998-07-01",2.1800000000000002]
["1998-10-01",2.0699999999999998]
["1999-01-01",1.94]
["1999-04-01",1.93]
["1999-07-01",2.2200000000000002]
["1999-10-01",1.96]
["2000-01-01",1.98]
["2000-04-01",2.0099999999999998]
["2000-07-01",2.14]
["2000-10-01",2.27]
["2001-01-01",2.29]
["2001-04-01",2.42]
["2001-07-01",2.2400000000000002]
["2001-10-01",2.23]
["2002-01-01",2.23]
["2002-04-01",2.16]
["2002-07-01",2.11]
["2002-10-01",1.96]
["2003-01-01",1.98]
["2003-04-01",1.83]
["2003-07-01",1.73]
["2003-10-01",1.78]
["2004-01-01",1.65]
["2004-04-01",1.6]
["2004-07-01",1.58]
["2004-10-01",1.39]
["2005-01-01",1.43]
["2005-04-01",1.55]
["2005-07-01",1.57]
["2005-10-01",1.64]
["2006-01-01",1.6]
["2006-04-01",1.62]
["2006-07-01",1.75]
["2006-10-01",1.95]
["2007-01-01",2.0299999999999998]
["2007-04-01",2.2999999999999998]
["2007-07-01",2.76]
["2007-10-01",3.08]
["2008-01-01",3.69]
["2008-04-01",4.38]
["2008-07-01",5.22]
["2008-10-01",6.66]
["2009-01-01",7.85]
["2009-04-01",8.6199999999999992]
["2009-07-01",9.59]
["2009-10-01",10.52]
["2010-01-01",11.27]
["2010-04-01",11.13]
["2010-07-01",10.76]
["2010-10-01",10.199999999999999]
["2011-01-01",10.41]
["2011-04-01",10.58]
["2011-07-01",10.36]
["2011-10-01",10.31]
["2012-01-01",10.33]
["2012-04-01",10.46]
["2012-07-01",10.69]
["2012-10-01",10.029999999999999]
["2013-01-01",9.69]
["2013-04-01",9.3000000000000007]
["2013-07-01",8.64]
["2013-10-01",8.26]
["2014-01-01",7.81]
["2014-04-01",7.4]
["2014-07-01",6.99]
["2014-10-01",6.63]

{"sheet":"Deliquency Rate on RE 3","index":24,"n_rows":111,"n_cols":24,"rows_kept":111,"cut":false,"hidden":false,"merged":[]}
["Title:","Delinquencies","On","All","Loans","And","Leases,","Secured","By","Real","Estate,","Single-Family","Residential","Mortgages,","Booked","In","Domestic","Offices,","Top",100,"Banks","Ranked","By","Assets"]
["Series","ID:","DALLSRESFRMT100EP"]
["Source:","Board","of","Governors","of","the","Federal","Reserve","System","(US)"]
["Release:","Charge-Off","and","Delinquency","Rates","on","Loans","and","Leases","at","Commercial","Banks"]
["Seasonal","Adjustment:","Not","Seasonally","Adjusted"]
["Frequency:","Quarterly,","End","of","Period"]
["Units:","Millions","of","Dollars"]
["Date","Range:","1991-01-01","to","2014-10-01"]
["Last","Updated:","2015-02-24","03:31:00","PM","CST"]
["Notes:","Delinquent","loans","and","leases","are","those","past","due","thirty","days","or","more","and"]
[null,"still","accruing","interest","as","well","as","those","in","nonaccrual","status.","The",100]
[null,"largest","banks","are","measured","by","consolidated","foreign","and","domestic"]
[null,"assets."]
[]
["DATE","VALUE"]
["1991-01-01",5144]
["1991-04-01",5291]
["1991-07-01",5498]
["1991-10-01",5962]
["1992-01-01",6174]
["1992-04-01",5957]
["1992-07-01",6023]
["1992-10-01",6232]
["1993-01-01",6165]
["1993-04-01",6178]
["1993-07-01",6296]
["1993-10-01",6254]
["1994-01-01",6210]
["1994-04-01",5840]
["1994-07-01",5770]
["1994-10-01",5788]
["1995-01-01",5958]
["1995-04-01",6252]
["1995-07-01",6550]
["1995-10-01",7030]
["1996-01-01",6834]
["1996-04-01",7236]
["1996-07-01",7750]
["1996-10-01",8294]
["1997-01-01",8135]
["1997-04-01",8851]
["1997-07-01",9484]
["1997-10-01",10153]
["1998-01-01",9829]
["1998-04-01",9360]
["1998-07-01",9693]
["1998-10-01",10347]
["1999-01-01",8337]
["1999-04-01",8216]
["1999-07-01",11574]
["1999-10-01",11940]
["2000-01-01",11640]
["2000-04-01",12237]
["2000-07-01",13750]
["2000-10-01",16233]
["2001-01-01",15383]
["2001-04-01",15995]
["2001-07-01",14519]
["2001-10-01",16675]
["2002-01-01",15595]
["2002-04-01",15604]
["2002-07-01",16797]
["2002-10-01",18436]
["2003-01-01",17061]
["2003-04-01",16426]
["2003-07-01",16262]
["2003-10-01",18737]
["2004-01-01",16271]
["2004-04-01",16404]
["2004-07-01",17265]
["2004-10-01",17166]
["2005-01-01",16551]
["2005-04-01",18597]
["2005-07-01",20297]
["2005-10-01",23991]
["2006-01-01",21179]
["2006-04-01",21690]
["2006-07-01",24409]
["2006-10-01",33955]
["2007-01-01",31341]
["2007-04-01",35393]
["2007-07-01",45658]
["2007-10-01",57922]
["2008-01-01",64197]
["2008-04-01",71818]
["2008-07-01",97723]
["2008-10-01",132955]
["2009-01-01",149980]
["2009-04-01",161295]
["2009-07-01",181180]
["2009-10-01",217186]
["2010-01-01",222493]
["2010-04-01",209056]
["2010-07-01",208181]
["2010-10-01",205332]
["2011-01-01",199011]
["2011-04-01",194759]
["2011-07-01",196973]
["2011-10-01",204091]
["2012-01-01",202458]
["2012-04-01",201066]
["2012-07-01",208916]
["2012-10-01",202542]
["2013-01-01",191329]
["2013-04-01",178538]
["2013-07-01",165377]
["2013-10-01",158862]
["2014-01-01",147720]
["2014-04-01",139363]
["2014-07-01",131815]
["2014-10-01",126655]

{"sheet":"Housing Units Completed","index":25,"n_rows":579,"n_cols":7,"rows_kept":579,"cut":false,"hidden":false,"merged":[]}
["Title:","New","Privately-Owned","Housing","Units","Completed:","Total"]
["Series","ID:","COMPUTSA"]
["Source:","US.","Bureau","of","the","Census"]
["Release:","New","Residential","Construction"]
["Seasonal","Adjustment:","Seasonally","Adjusted","Annual","Rate"]
["Frequency:","Monthly"]
["Units:","Thousands","of","Units"]
["Date","Range:","1968-01-01","to","2015-03-01"]
["Last","Updated:","2015-04-16","07:51:00","AM","CDT"]
["Notes:"]
[]
["DATE","VALUE"]
["1968-01-01",1257]
["1968-02-01",1174]
["1968-03-01",1323]
["1968-04-01",1328]
["1968-05-01",1367]
["1968-06-01",1184]
["1968-07-01",1370]
["1968-08-01",1279]
["1968-09-01",1397]
["1968-10-01",1348]
["1968-11-01",1367]
["1968-12-01",1390]
["1969-01-01",1257]
["1969-02-01",1414]
["1969-03-01",1558]
["1969-04-01",1318]
["1969-05-01",1430]
["1969-06-01",1455]
["1969-07-01",1432]
["1969-08-01",1393]
["1969-09-01",1367]
["1969-10-01",1406]
["1969-11-01",1404]
["1969-12-01",1402]
["1970-01-01",1434]
["1970-02-01",1430]
["1970-03-01",1317]
["1970-04-01",1354]
["1970-05-01",1334]
["1970-06-01",1431]
["1970-07-01",1384]
["1970-08-01",1609]
["1970-09-01",1383]
["1970-10-01",1437]
["1970-11-01",1457]
["1970-12-01",1437]
["1971-01-01",1471]
["1971-02-01",1448]
["1971-03-01",1489]
["1971-04-01",1709]
["1971-05-01",1637]
["1971-06-01",1637]
["1971-07-01",1699]
["1971-08-01",1896]
["1971-09-01",1804]
["1971-10-01",1815]
["1971-11-01",1844]
["1971-12-01",1895]
["1972-01-01",1942]
["1972-02-01",2061]
["1972-03-01",1981]
["1972-04-01",1970]
["1972-05-01",1896]
["1972-06-01",1936]
["1972-07-01",1930]
["1972-08-01",2102]
["1972-09-01",2053]
["1972-10-01",1995]
["1972-11-01",1985]
["1972-12-01",2121]
["1973-01-01",2162]
["1973-02-01",2124]
["1973-03-01",2196]
["1973-04-01",2195]
["1973-05-01",2299]
["1973-06-01",2258]
["1973-07-01",2066]
["1973-08-01",2056]
["1973-09-01",2061]
["1973-10-01",2052]
["1973-11-01",1925]
["1973-12-01",1869]
["1974-01-01",1932]
["1974-02-01",1938]
["1974-03-01",1806]
["1974-04-01",1830]
["1974-05-01",1715]
["1974-06-01",1897]
["1974-07-01",1695]
["1974-08-01",1634]
["1974-09-01",1651]
["1974-10-01",1630]
["1974-11-01",1590]
["1974-12-01",1540]
["1975-01-01",1588]
["1975-02-01",1346]
["1975-03-01",1293]
["1975-04-01",1278]
["1975-05-01",1349]
["1975-06-01",1234]
["1975-07-01",1276]
["1975-08-01",1290]
["1975-09-01",1333]
["1975-10-01",1134]
["1975-11-01",1383]
["1975-12-01",1306]
["1976-01-01",1258]
["1976-02-01",1311]
["1976-03-01",1347]
["1976-04-01",1332]
["1976-05-01",1440]
["1976-06-01",1390]
["1976-07-01",1322]
["1976-08-01",1374]
["1976-09-01",1371]
["1976-10-01",1388]
["1976-11-01",1428]
["1976-12-01",1457]
["1977-01-01",1457]
["1977-02-01",1655]
["1977-03-01",1619]
["1977-04-01",1548]
["1977-05-01",1555]
["1977-06-01",1636]
["1977-07-01",1687]
["1977-08-01",1673]
["1977-09-01",1865]
["1977-10-01",1675]
["1977-11-01",1770]
["1977-12-01",1634]
["1978-01-01",1777]
["1978-02-01",1719]
["1978-03-01",1785]
["1978-04-01",1843]
["1978-05-01",1850]
["1978-06-01",1905]
["1978-07-01",1957]
["1978-08-01",1976]
["1978-09-01",1944]
["1978-10-01",1885]
["1978-11-01",1877]
["1978-12-01",1844]
["1979-01-01",1850]
["1979-02-01",1845]
["1979-03-01",1946]
["1979-04-01",1866]
["1979-05-01",2007]
["1979-06-01",1853]
["1979-07-01",1759]
["1979-08-01",1779]
["1979-09-01",1983]
["1979-10-01",1832]
["1979-11-01",1892]
["1979-12-01",1863]
["1980-01-01",1794]
["1980-02-01",1803]
["1980-03-01",1701]
["1980-04-01",1751]
["1980-05-01",1532]
["1980-06-01",1480]
["1980-07-01",1472]
["1980-08-01",1440]
["1980-09-01",1267]
["1980-10-01",1272]
["1980-11-01",1313]
["1980-12-01",1378]
["1981-01-01",1270]
["1981-02-01",1395]
["1981-03-01",1377]
["1981-04-01",1469]
["1981-05-01",1246]
["1981-06-01",1350]
["1981-07-01",1337]
["1981-08-01",1222]
["1981-09-01",1221]
["1981-10-01",1206]
["1981-11-01",1074]
["1981-12-01",1129]
["1982-01-01",1052]
["1982-02-01",935]
["1982-03-01",965]
["1982-04-01",979]
["1982-05-01",1060]
["1982-06-01",930]
["1982-07-01",1006]
["1982-08-01",985]
["1982-09-01",947]
["1982-10-01",1059]
["1982-11-01",1079]
["1982-12-01",1047]
["1983-01-01",1187]
["1983-02-01",1135]
["1983-03-01",1168]
["1983-04-01",1197]
["1983-05-01",1300]
["1983-06-01",1344]
["1983-07-01",1410]
["1983-08-01",1711]
["1983-09-01",1493]
["1983-10-01",1586]
["1983-11-01",1462]
["1983-12-01",1509]
["1984-01-01",1595]
["1984-02-01",1562]
["1984-03-01",1600]
["1984-04-01",1683]
["1984-05-01",1732]
["1984-06-01",1714]
["1984-07-01",1692]
["1984-08-01",1685]
["1984-09-01",1642]
["1984-10-01",1633]
["1984-11-01",1611]
["1984-12-01",1629]
["1985-01-01",1646]
["1985-02-01",1772]
["1985-03-01",1715]
["1985-04-01",1630]
["1985-05-01",1665]
["1985-06-01",1791]
["1985-07-01",1693]
["1985-08-01",1685]
["1985-09-01",1806]
["1985-10-01",1565]
["1985-11-01",1749]
["1985-12-01",1732]
["1986-01-01",1723]
["1986-02-01",1753]
["1986-03-01",1756]
["1986-04-01",1685]
["1986-05-01",1833]
["1986-06-01",1672]
["1986-07-01",1722]
["1986-08-01",1763]
["1986-09-01",1732]
["1986-10-01",1782]
["1986-11-01",1793]
["1986-12-01",1840]
["1987-01-01",1862]
["1987-02-01",1771]
["1987-03-01",1694]
["1987-04-01",1735]
["1987-05-01",1713]
["1987-06-01",1635]
["1987-07-01",1685]
["1987-08-01",1624]
["1987-09-01",1587]
["1987-10-01",1577]
["1987-11-01",1578]
["1987-12-01",1632]
["1988-01-01",1554]
["1988-02-01",1450]
["1988-03-01",1600]
["1988-04-01",1615]
["1988-05-01",1483]
["1988-06-01",1512]
["1988-07-01",1527]
["1988-08-01",1551]
["1988-09-01",1531]
["1988-10-01",1529]
["1988-11-01",1407]
["1988-12-01",1547]
["1989-01-01",1561]
["1989-02-01",1597]
["1989-03-01",1442]
["1989-04-01",1542]
["1989-05-01",1449]
["1989-06-01",1346]
["1989-07-01",1386]
["1989-08-01",1429]
["1989-09-01",1338]
["1989-10-01",1333]
["1989-11-01",1475]
["1989-12-01",1304]
["1990-01-01",1508]
["1990-02-01",1352]
["1990-03-01",1345]
["1990-04-01",1332]
["1990-05-01",1351]
["1990-06-01",1263]
["1990-07-01",1295]
["1990-08-01",1307]
["1990-09-01",1312]
["1990-10-01",1282]
["1990-11-01",1248]
["1990-12-01",1173]
["1991-01-01",1149]
["1991-02-01",1090]
["1991-03-01",1176]
["1991-04-01",1093]
["1991-05-01",1070]
["1991-06-01",1093]
["1991-07-01",1076]
["1991-08-01",1050]
["1991-09-01",1216]
["1991-10-01",1076]
["1991-11-01",1013]
["1991-12-01",1002]
["1992-01-01",1061]
["1992-02-01",1098]
["1992-03-01",1128]
["1992-04-01",1083]
["1992-05-01",1187]
["1992-06-01",1189]
["1992-07-01",1251]
["1992-08-01",1140]
["1992-09-01",1123]
["1992-10-01",1139]
["1992-11-01",1224]
["1992-12-01",1199]
["1993-01-01",1135]
["1993-02-01",1236]
["1993-03-01",1105]
["1993-04-01",1216]
["1993-05-01",1111]
["1993-06-01",1193]
["1993-07-01",1090]
["1993-08-01",1264]
["1993-09-01",1172]
["1993-10-01",1246]
["1993-11-01",1235]
["1993-12-01",1289]
["1994-01-01",1228]
["1994-02-01",1353]
["1994-03-01",1257]
["1994-04-01",1374]
["1994-05-01",1430]
["1994-06-01",1336]
["1994-07-01",1281]
["1994-08-01",1348]
["1994-09-01",1414]
["1994-10-01",1378]
["1994-11-01",1365]
["1994-12-01",1386]
["1995-01-01",1423]
["1995-02-01",1294]
["1995-03-01",1413]
["1995-04-01",1342]
["1995-05-01",1326]
["1995-06-01",1242]
["1995-07-01",1352]
["1995-08-01",1265]
["1995-09-01",1279]
["1995-10-01",1335]
["1995-11-01",1360]
["1995-12-01",1200]
["1996-01-01",1402]
["1996-02-01",1317]
["1996-03-01",1369]
["1996-04-01",1327]
["1996-05-01",1423]
["1996-06-01",1437]
["1996-07-01",1453]
["1996-08-01",1468]
["1996-09-01",1379]
["1996-10-01",1392]
["1996-11-01",1413]
["1996-12-01",1487]
["1997-01-01",1377]
["1997-02-01",1545]
["1997-03-01",1445]
["1997-04-01",1438]
["1997-05-01",1400]
["1997-06-01",1315]
["1997-07-01",1313]
["1997-08-01",1332]
["1997-09-01",1442]
["1997-10-01",1396]
["1997-11-01",1420]
["1997-12-01",1428]
["1998-01-01",1316]
["1998-02-01",1441]
["1998-03-01",1477]
["1998-04-01",1498]
["1998-05-01",1465]
["1998-06-01",1467]
["1998-07-01",1552]
["1998-08-01",1521]
["1998-09-01",1452]
["1998-10-01",1452]
["1998-11-01",1604]
["1998-12-01",1433]
["1999-01-01",1599]
["1999-02-01",1459]
["1999-03-01",1673]
["1999-04-01",1580]
["1999-05-01",1623]
["1999-06-01",1648]
["1999-07-01",1597]
["1999-08-01",1563]
["1999-09-01",1643]
["1999-10-01",1593]
["1999-11-01",1596]
["1999-12-01",1659]
["2000-01-01",1574]
["2000-02-01",1677]
["2000-03-01",1704]
["2000-04-01",1610]
["2000-05-01",1682]
["2000-06-01",1530]
["2000-07-01",1495]
["2000-08-01",1573]
["2000-09-01",1528]
["2000-10-01",1513]
["2000-11-01",1539]
["2000-12-01",1521]
["2001-01-01",1456]
["2001-02-01",1536]
["2001-03-01",1470]
["2001-04-01",1574]
["2001-05-01",1497]
["2001-06-01",1654]
["2001-07-01",1582]
["2001-08-01",1615]
["2001-09-01",1551]
["2001-10-01",1599]
["2001-11-01",1555]
["2001-12-01",1693]
["2002-01-01",1632]
["2002-02-01",1671]
["2002-03-01",1559]
["2002-04-01",1625]
["2002-05-01",1705]
["2002-06-01",1589]
["2002-07-01",1615]
["2002-08-01",1722]
["2002-09-01",1641]
["2002-10-01",1601]
["2002-11-01",1718]
["2002-12-01",1671]
["2003-01-01",1654]
["2003-02-01",1688]
["2003-03-01",1638]
["2003-04-01",1662]
["2003-05-01",1733]
["2003-06-01",1641]
["2003-07-01",1680]
["2003-08-01",1570]
["2003-09-01",1719]
["2003-10-01",1728]
["2003-11-01",1692]
["2003-12-01",1716]
["2004-01-01",1709]
["2004-02-01",1718]
["2004-03-01",1794]
["2004-04-01",1938]
["2004-05-01",1893]
["2004-06-01",1857]
["2004-07-01",1881]
["2004-08-01",1911]
["2004-09-01",1796]
["2004-10-01",1839]
["2004-11-01",1758]
["2004-12-01",1921]
["2005-01-01",1892]
["2005-02-01",1908]
["2005-03-01",1787]
["2005-04-01",1927]
["2005-05-01",2103]
["2005-06-01",1965]
["2005-07-01",1886]
["2005-08-01",1952]
["2005-09-01",1922]
["2005-10-01",1962]
["2005-11-01",1907]
["2005-12-01",1941]
["2006-01-01",2036]
["2006-02-01",2048]
["2006-03-01",2245]
["2006-04-01",2071]
["2006-05-01",1897]
["2006-06-01",2050]
["2006-07-01",1934]
["2006-08-01",1877]
["2006-09-01",2011]
["2006-10-01",1918]
["2006-11-01",1893]
["2006-12-01",1888]
["2007-01-01",1822]
["2007-02-01",1640]
["2007-03-01",1623]
["2007-04-01",1539]
["2007-05-01",1536]
["2007-06-01",1481]
["2007-07-01",1534]
["2007-08-01",1512]
["2007-09-01",1356]
["2007-10-01",1405]
["2007-11-01",1390]
["2007-12-01",1328]
["2008-01-01",1331]
["2008-02-01",1274]
["2008-03-01",1195]
["2008-04-01",1022]
["2008-05-01",1142]
["2008-06-01",1142]
["2008-07-01",1087]
["2008-08-01",1017]
["2008-09-01",1160]
["2008-10-01",1055]
["2008-11-01",1076]
["2008-12-01",1021]
["2009-01-01",777]
["2009-02-01",819]
["2009-03-01",839]
["2009-04-01",846]
["2009-05-01",818]
["2009-06-01",797]
["2009-07-01",797]
["2009-08-01",792]
["2009-09-01",721]
["2009-10-01",746]
["2009-11-01",844]
["2009-12-01",750]
["2010-01-01",689]
["2010-02-01",670]
["2010-03-01",635]
["2010-04-01",737]
["2010-05-01",702]
["2010-06-01",894]
["2010-07-01",572]
["2010-08-01",592]
["2010-09-01",632]
["2010-10-01",605]
["2010-11-01",552]
["2010-12-01",565]
["2011-01-01",520]
["2011-02-01",615]
["2011-03-01",591]
["2011-04-01",549]
["2011-05-01",549]
["2011-06-01",579]
["2011-07-01",634]
["2011-08-01",614]
["2011-09-01",603]
["2011-10-01",566]
["2011-11-01",585]
["2011-12-01",610]
["2012-01-01",545]
["2012-02-01",561]
["2012-03-01",582]
["2012-04-01",671]
["2012-05-01",626]
["2012-06-01",625]
["2012-07-01",676]
["2012-08-01",684]
["2012-09-01",652]
["2012-10-01",730]
["2012-11-01",668]
["2012-12-01",677]
["2013-01-01",726]
["2013-02-01",723]
["2013-03-01",805]
["2013-04-01",699]
["2013-05-01",719]
["2013-06-01",763]
["2013-07-01",779]
["2013-08-01",763]
["2013-09-01",761]
["2013-10-01",815]
["2013-11-01",826]
["2013-12-01",775]
["2014-01-01",850]
["2014-02-01",866]
["2014-03-01",874]
["2014-04-01",832]
["2014-05-01",898]
["2014-06-01",809]
["2014-07-01",860]
["2014-08-01",908]
["2014-09-01",950]
["2014-10-01",915]
["2014-11-01",867]
["2014-12-01",941]
["2015-01-01",973]
["2015-02-01",856]
["2015-03-01",823]

{"sheet":"1 Unit Housing","index":26,"n_rows":579,"n_cols":8,"rows_kept":579,"cut":false,"hidden":false,"merged":[]}
["Title:","New","Privately-Owned","Housing","Units","Completed:","1-Unit","Structures"]
["Series","ID:","COMPU1USA"]
["Source:","US.","Bureau","of","the","Census"]
["Release:","New","Residential","Construction"]
["Seasonal","Adjustment:","Seasonally","Adjusted","Annual","Rate"]
["Frequency:","Monthly"]
["Units:","Thousands","of","Units"]
["Date","Range:","1968-01-01","to","2015-03-01"]
["Last","Updated:","2015-04-16","07:51:00","AM","CDT"]
["Notes:"]
[]
["DATE","VALUE"]
["1968-01-01",875]
["1968-02-01",771]
["1968-03-01",874]
["1968-04-01",898]
["1968-05-01",900]
["1968-06-01",792]
["1968-07-01",892]
["1968-08-01",836]
["1968-09-01",877]
["1968-10-01",828]
["1968-11-01",865]
["1968-12-01",875]
["1969-01-01",839]
["1969-02-01",872]
["1969-03-01",872]
["1969-04-01",752]
["1969-05-01",821]
["1969-06-01",850]
["1969-07-01",811]
["1969-08-01",800]
["1969-09-01",770]
["1969-10-01",806]
["1969-11-01",765]
["1969-12-01",766]
["1970-01-01",830]
["1970-02-01",761]
["1970-03-01",715]
["1970-04-01",743]
["1970-05-01",766]
["1970-06-01",772]
["1970-07-01",792]
["1970-08-01",843]
["1970-09-01",883]
["1970-10-01",806]
["1970-11-01",845]
["1970-12-01",835]
["1971-01-01",847]
["1971-02-01",868]
["1971-03-01",903]
["1971-04-01",1028]
["1971-05-01",973]
["1971-06-01",965]
["1971-07-01",1034]
["1971-08-01",1041]
["1971-09-01",1078]
["1971-10-01",1092]
["1971-11-01",1114]
["1971-12-01",1144]
["1972-01-01",1133]
["1972-02-01",1122]
["1972-03-01",1154]
["1972-04-01",1188]
["1972-05-01",1131]
["1972-06-01",1145]
["1972-07-01",1121]
["1972-08-01",1248]
["1972-09-01",1112]
["1972-10-01",1182]
["1972-11-01",1150]
["1972-12-01",1207]
["1973-01-01",1294]
["1973-02-01",1290]
["1973-03-01",1305]
["1973-04-01",1282]
["1973-05-01",1299]
["1973-06-01",1269]
["1973-07-01",1081]
["1973-08-01",1149]
["1973-09-01",1171]
["1973-10-01",1129]
["1973-11-01",1105]
["1973-12-01",1062]
["1974-01-01",1025]
["1974-02-01",1027]
["1974-03-01",973]
["1974-04-01",936]
["1974-05-01",930]
["1974-06-01",1110]
["1974-07-01",918]
["1974-08-01",909]
["1974-09-01",905]
["1974-10-01",913]
["1974-11-01",859]
["1974-12-01",841]
["1975-01-01",970]
["1975-02-01",790]
["1975-03-01",760]
["1975-04-01",793]
["1975-05-01",885]
["1975-06-01",816]
["1975-07-01",881]
["1975-08-01",877]
["1975-09-01",967]
["1975-10-01",756]
["1975-11-01",990]
["1975-12-01",974]
["1976-01-01",954]
["1976-02-01",985]
["1976-03-01",998]
["1976-04-01",1002]
["1976-05-01",1009]
["1976-06-01",1058]
["1976-07-01",1040]
["1976-08-01",1060]
["1976-09-01",979]
["1976-10-01",1043]
["1976-11-01",1095]
["1976-12-01",1095]
["1977-01-01",1132]
["1977-02-01",1275]
["1977-03-01",1186]
["1977-04-01",1188]
["1977-05-01",1183]
["1977-06-01",1214]
["1977-07-01",1277]
["1977-08-01",1274]
["1977-09-01",1450]
["1977-10-01",1244]
["1977-11-01",1300]
["1977-12-01",1287]
["1978-01-01",1298]
["1978-02-01",1258]
["1978-03-01",1347]
["1978-04-01",1413]
["1978-05-01",1395]
["1978-06-01",1377]
["1978-07-01",1343]
["1978-08-01",1396]
["1978-09-01",1427]
["1978-10-01",1421]
["1978-11-01",1380]
["1978-12-01",1351]
["1979-01-01",1312]
["1979-02-01",1318]
["1979-03-01",1402]
["1979-04-01",1342]
["1979-05-01",1335]
["1979-06-01",1338]
["1979-07-01",1238]
["1979-08-01",1241]
["1979-09-01",1251]
["1979-10-01",1272]
["1979-11-01",1269]
["1979-12-01",1310]
["1980-01-01",1241]
["1980-02-01",1181]
["1980-03-01",1114]
["1980-04-01",1076]
["1980-05-01",970]
["1980-06-01",912]
["1980-07-01",874]
["1980-08-01",939]
["1980-09-01",759]
["1980-10-01",829]
["1980-11-01",842]
["1980-12-01",902]
["1981-01-01",898]
["1981-02-01",961]
["1981-03-01",888]
["1981-04-01",935]
["1981-05-01",879]
["1981-06-01",864]
["1981-07-01",851]
["1981-08-01",801]
["1981-09-01",795]
["1981-10-01",712]
["1981-11-01",672]
["1981-12-01",682]
["1982-01-01",642]
["1982-02-01",555]
["1982-03-01",593]
["1982-04-01",606]
["1982-05-01",683]
["1982-06-01",573]
["1982-07-01",671]
["1982-08-01",626]
["1982-09-01",594]
["1982-10-01",673]
["1982-11-01",688]
["1982-12-01",657]
["1983-01-01",776]
["1983-02-01",714]
["1983-03-01",788]
["1983-04-01",817]
["1983-05-01",856]
["1983-06-01",923]
["1983-07-01",971]
["1983-08-01",1033]
["1983-09-01",985]
["1983-10-01",1049]
["1983-11-01",1003]
["1983-12-01",1008]
["1984-01-01",1014]
["1984-02-01",1036]
["1984-03-01",1032]
["1984-04-01",988]
["1984-05-01",1070]
["1984-06-01",1041]
["1984-07-01",1064]
["1984-08-01",1040]
["1984-09-01",1031]
["1984-10-01",977]
["1984-11-01",1015]
["1984-12-01",987]
["1985-01-01",1070]
["1985-02-01",1091]
["1985-03-01",1036]
["1985-04-01",1078]
["1985-05-01",1037]
["1985-06-01",1075]
["1985-07-01",1048]
["1985-08-01",1031]
["1985-09-01",1112]
["1985-10-01",1073]
["1985-11-01",1094]
["1985-12-01",1120]
["1986-01-01",1045]
["1986-02-01",1067]
["1986-03-01",1128]
["1986-04-01",1138]
["1986-05-01",1145]
["1986-06-01",1070]
["1986-07-01",1070]
["1986-08-01",1131]
["1986-09-01",1113]
["1986-10-01",1170]
["1986-11-01",1153]
["1986-12-01",1164]
["1987-01-01",1165]
["1987-02-01",1144]
["1987-03-01",1147]
["1987-04-01",1157]
["1987-05-01",1165]
["1987-06-01",1112]
["1987-07-01",1127]
["1987-08-01",1074]
["1987-09-01",1109]
["1987-10-01",1118]
["1987-11-01",1085]
["1987-12-01",1111]
["1988-01-01",1093]
["1988-02-01",1022]
["1988-03-01",1098]
["1988-04-01",1043]
["1988-05-01",1089]
["1988-06-01",1102]
["1988-07-01",1082]
["1988-08-01",1083]
["1988-09-01",1111]
["1988-10-01",1096]
["1988-11-01",1020]
["1988-12-01",1115]
["1989-01-01",1157]
["1989-02-01",1163]
["1989-03-01",1038]
["1989-04-01",1106]
["1989-05-01",1042]
["1989-06-01",969]
["1989-07-01",974]
["1989-08-01",1042]
["1989-09-01",950]
["1989-10-01",993]
["1989-11-01",1074]
["1989-12-01",924]
["1990-01-01",1071]
["1990-02-01",1036]
["1990-03-01",1007]
["1990-04-01",964]
["1990-05-01",989]
["1990-06-01",947]
["1990-07-01",978]
["1990-08-01",959]
["1990-09-01",958]
["1990-10-01",926]
["1990-11-01",923]
["1990-12-01",890]
["1991-01-01",855]
["1991-02-01",823]
["1991-03-01",864]
["1991-04-01",821]
["1991-05-01",800]
["1991-06-01",816]
["1991-07-01",823]
["1991-08-01",820]
["1991-09-01",885]
["1991-10-01",877]
["1991-11-01",827]
["1991-12-01",835]
["1992-01-01",854]
["1992-02-01",902]
["1992-03-01",966]
["1992-04-01",895]
["1992-05-01",995]
["1992-06-01",992]
["1992-07-01",1035]
["1992-08-01",956]
["1992-09-01",941]
["1992-10-01",970]
["1992-11-01",1004]
["1992-12-01",991]
["1993-01-01",975]
["1993-02-01",1043]
["1993-03-01",983]
["1993-04-01",1067]
["1993-05-01",973]
["1993-06-01",1017]
["1993-07-01",956]
["1993-08-01",1084]
["1993-09-01",1047]
["1993-10-01",1078]
["1993-11-01",1102]
["1993-12-01",1129]
["1994-01-01",1083]
["1994-02-01",1198]
["1994-03-01",1091]
["1994-04-01",1209]
["1994-05-01",1242]
["1994-06-01",1149]
["1994-07-01",1170]
["1994-08-01",1149]
["1994-09-01",1158]
["1994-10-01",1170]
["1994-11-01",1139]
["1994-12-01",1172]
["1995-01-01",1195]
["1995-02-01",1079]
["1995-03-01",1195]
["1995-04-01",1098]
["1995-05-01",1062]
["1995-06-01",1038]
["1995-07-01",1054]
["1995-08-01",1028]
["1995-09-01",1005]
["1995-10-01",1049]
["1995-11-01",1070]
["1995-12-01",1000]
["1996-01-01",1113]
["1996-02-01",1046]
["1996-03-01",1103]
["1996-04-01",1054]
["1996-05-01",1147]
["1996-06-01",1131]
["1996-07-01",1145]
["1996-08-01",1172]
["1996-09-01",1116]
["1996-10-01",1146]
["1996-11-01",1118]
["1996-12-01",1180]
["1997-01-01",1128]
["1997-02-01",1247]
["1997-03-01",1150]
["1997-04-01",1133]
["1997-05-01",1115]
["1997-06-01",1096]
["1997-07-01",1056]
["1997-08-01",1062]
["1997-09-01",1148]
["1997-10-01",1074]
["1997-11-01",1131]
["1997-12-01",1096]
["1998-01-01",1018]
["1998-02-01",1127]
["1998-03-01",1131]
["1998-04-01",1186]
["1998-05-01",1116]
["1998-06-01",1163]
["1998-07-01",1223]
["1998-08-01",1179]
["1998-09-01",1186]
["1998-10-01",1168]
["1998-11-01",1255]
["1998-12-01",1141]
["1999-01-01",1239]
["1999-02-01",1199]
["1999-03-01",1319]
["1999-04-01",1271]
["1999-05-01",1302]
["1999-06-01",1311]
["1999-07-01",1228]
["1999-08-01",1225]
["1999-09-01",1292]
["1999-10-01",1250]
["1999-11-01",1289]
["1999-12-01",1309]
["2000-01-01",1262]
["2000-02-01",1326]
["2000-03-01",1312]
["2000-04-01",1307]
["2000-05-01",1334]
["2000-06-01",1190]
["2000-07-01",1187]
["2000-08-01",1231]
["2000-09-01",1175]
["2000-10-01",1176]
["2000-11-01",1227]
["2000-12-01",1227]
["2001-01-01",1122]
["2001-02-01",1198]
["2001-03-01",1193]
["2001-04-01",1242]
["2001-05-01",1224]
["2001-06-01",1283]
["2001-07-01",1273]
["2001-08-01",1281]
["2001-09-01",1262]
["2001-10-01",1334]
["2001-11-01",1242]
["2001-12-01",1351]
["2002-01-01",1324]
["2002-02-01",1370]
["2002-03-01",1324]
["2002-04-01",1258]
["2002-05-01",1359]
["2002-06-01",1281]
["2002-07-01",1275]
["2002-08-01",1339]
["2002-09-01",1331]
["2002-10-01",1286]
["2002-11-01",1401]
["2002-12-01",1349]
["2003-01-01",1317]
["2003-02-01",1342]
["2003-03-01",1305]
["2003-04-01",1350]
["2003-05-01",1390]
["2003-06-01",1354]
["2003-07-01",1424]
["2003-08-01",1329]
["2003-09-01",1413]
["2003-10-01",1479]
["2003-11-01",1439]
["2003-12-01",1434]
["2004-01-01",1434]
["2004-02-01",1447]
["2004-03-01",1491]
["2004-04-01",1645]
["2004-05-01",1505]
["2004-06-01",1521]
["2004-07-01",1546]
["2004-08-01",1554]
["2004-09-01",1533]
["2004-10-01",1539]
["2004-11-01",1464]
["2004-12-01",1655]
["2005-01-01",1589]
["2005-02-01",1608]
["2005-03-01",1524]
["2005-04-01",1626]
["2005-05-01",1750]
["2005-06-01",1679]
["2005-07-01",1639]
["2005-08-01",1649]
["2005-09-01",1631]
["2005-10-01",1618]
["2005-11-01",1633]
["2005-12-01",1662]
["2006-01-01",1663]
["2006-02-01",1742]
["2006-03-01",1911]
["2006-04-01",1737]
["2006-05-01",1609]
["2006-06-01",1742]
["2006-07-01",1654]
["2006-08-01",1614]
["2006-09-01",1675]
["2006-10-01",1559]
["2006-11-01",1525]
["2006-12-01",1509]
["2007-01-01",1501]
["2007-02-01",1318]
["2007-03-01",1312]
["2007-04-01",1276]
["2007-05-01",1278]
["2007-06-01",1220]
["2007-07-01",1208]
["2007-08-01",1241]
["2007-09-01",1085]
["2007-10-01",1138]
["2007-11-01",1128]
["2007-12-01",1031]
["2008-01-01",1004]
["2008-02-01",930]
["2008-03-01",904]
["2008-04-01",795]
["2008-05-01",879]
["2008-06-01",850]
["2008-07-01",831]
["2008-08-01",712]
["2008-09-01",820]
["2008-10-01",749]
["2008-11-01",754]
["2008-12-01",686]
["2009-01-01",566]
["2009-02-01",535]
["2009-03-01",545]
["2009-04-01",532]
["2009-05-01",492]
["2009-06-01",507]
["2009-07-01",500]
["2009-08-01",517]
["2009-09-01",481]
["2009-10-01",526]
["2009-11-01",567]
["2009-12-01",493]
["2010-01-01",448]
["2010-02-01",456]
["2010-03-01",491]
["2010-04-01",556]
["2010-05-01",518]
["2010-06-01",684]
["2010-07-01",470]
["2010-08-01",473]
["2010-09-01",484]
["2010-10-01",479]
["2010-11-01",432]
["2010-12-01",454]
["2011-01-01",423]
["2011-02-01",481]
["2011-03-01",368]
["2011-04-01",433]
["2011-05-01",443]
["2011-06-01",453]
["2011-07-01",488]
["2011-08-01",479]
["2011-09-01",426]
["2011-10-01",438]
["2011-11-01",462]
["2011-12-01",462]
["2012-01-01",392]
["2012-02-01",421]
["2012-03-01",434]
["2012-04-01",494]
["2012-05-01",475]
["2012-06-01",482]
["2012-07-01",474]
["2012-08-01",492]
["2012-09-01",512]
["2012-10-01",525]
["2012-11-01",513]
["2012-12-01",525]
["2013-01-01",557]
["2013-02-01",569]
["2013-03-01",591]
["2013-04-01",529]
["2013-05-01",560]
["2013-06-01",541]
["2013-07-01",579]
["2013-08-01",569]
["2013-09-01",563]
["2013-10-01",604]
["2013-11-01",593]
["2013-12-01",568]
["2014-01-01",609]
["2014-02-01",617]
["2014-03-01",614]
["2014-04-01",606]
["2014-05-01",628]
["2014-06-01",591]
["2014-07-01",631]
["2014-08-01",611]
["2014-09-01",627]
["2014-10-01",614]
["2014-11-01",613]
["2014-12-01",667]
["2015-01-01",674]
["2015-02-01",597]
["2015-03-01",602]

{"sheet":"New Homes Sold","index":27,"n_rows":639,"n_cols":8,"rows_kept":639,"cut":false,"hidden":false,"merged":[]}
["Title:","New","One","Family","Houses","Sold:","United","States"]
["Series","ID:","HSN1F"]
["Source:","US.","Bureau","of","the","Census"]
["Release:","New","Residential","Sales"]
["Seasonal","Adjustment:","Seasonally","Adjusted","Annual","Rate"]
["Frequency:","Monthly"]
["Units:","Thousands"]
["Date","Range:","1963-01-01","to","2015-03-01"]
["Last","Updated:","2015-04-23","09:16:00","AM","CDT"]
["Notes:"]
[]
["DATE","VALUE"]
["1963-01-01",591]
["1963-02-01",464]
["1963-03-01",461]
["1963-04-01",605]
["1963-05-01",586]
["1963-06-01",526]
["1963-07-01",665]
["1963-08-01",570]
["1963-09-01",590]
["1963-10-01",567]
["1963-11-01",579]
["1963-12-01",514]
["1964-01-01",549]
["1964-02-01",609]
["1964-03-01",562]
["1964-04-01",559]
["1964-05-01",523]
["1964-06-01",580]
["1964-07-01",575]
["1964-08-01",582]
["1964-09-01",590]
["1964-10-01",583]
["1964-11-01",548]
["1964-12-01",540]
["1965-01-01",533]
["1965-02-01",559]
["1965-03-01",556]
["1965-04-01",555]
["1965-05-01",544]
["1965-06-01",614]
["1965-07-01",554]
["1965-08-01",615]
["1965-09-01",587]
["1965-10-01",555]
["1965-11-01",616]
["1965-12-01",609]
["1966-01-01",599]
["1966-02-01",541]
["1966-03-01",557]
["1966-04-01",545]
["1966-05-01",499]
["1966-06-01",434]
["1966-07-01",435]
["1966-08-01",377]
["1966-09-01",358]
["1966-10-01",387]
["1966-11-01",382]
["1966-12-01",369]
["1967-01-01",416]
["1967-02-01",408]
["1967-03-01",439]
["1967-04-01",479]
["1967-05-01",503]
["1967-06-01",499]
["1967-07-01",515]
["1967-08-01",504]
["1967-09-01",531]
["1967-10-01",566]
["1967-11-01",500]
["1967-12-01",502]
["1968-01-01",494]
["1968-02-01",543]
["1968-03-01",490]
["1968-04-01",501]
["1968-05-01",441]
["1968-06-01",441]
["1968-07-01",493]
["1968-08-01",507]
["1968-09-01",501]
["1968-10-01",502]
["1968-11-01",469]
["1968-12-01",511]
["1969-01-01",480]
["1969-02-01",524]
["1969-03-01",474]
["1969-04-01",450]
["1969-05-01",447]
["1969-06-01",461]
["1969-07-01",436]
["1969-08-01",422]
["1969-09-01",396]
["1969-10-01",401]
["1969-11-01",441]
["1969-12-01",452]
["1970-01-01",461]
["1970-02-01",373]
["1970-03-01",389]
["1970-04-01",445]
["1970-05-01",466]
["1970-06-01",485]
["1970-07-01",481]
["1970-08-01",515]
["1970-09-01",564]
["1970-10-01",545]
["1970-11-01",570]
["1970-12-01",582]
["1971-01-01",618]
["1971-02-01",618]
["1971-03-01",681]
["1971-04-01",662]
["1971-05-01",618]
["1971-06-01",646]
["1971-07-01",706]
["1971-08-01",659]
["1971-09-01",625]
["1971-10-01",647]
["1971-11-01",710]
["1971-12-01",689]
["1972-01-01",698]
["1972-02-01",711]
["1972-03-01",640]
["1972-04-01",684]
["1972-05-01",677]
["1972-06-01",687]
["1972-07-01",681]
["1972-08-01",773]
["1972-09-01",767]
["1972-10-01",843]
["1972-11-01",735]
["1972-12-01",772]
["1973-01-01",781]
["1973-02-01",737]
["1973-03-01",725]
["1973-04-01",661]
["1973-05-01",660]
["1973-06-01",650]
["1973-07-01",601]
["1973-08-01",566]
["1973-09-01",561]
["1973-10-01",565]
["1973-11-01",547]
["1973-12-01",519]
["1974-01-01",523]
["1974-02-01",539]
["1974-03-01",572]
["1974-04-01",544]
["1974-05-01",590]
["1974-06-01",534]
["1974-07-01",534]
["1974-08-01",492]
["1974-09-01",511]
["1974-10-01",448]
["1974-11-01",450]
["1974-12-01",417]
["1975-01-01",416]
["1975-02-01",422]
["1975-03-01",477]
["1975-04-01",543]
["1975-05-01",579]
["1975-06-01",557]
["1975-07-01",569]
["1975-08-01",566]
["1975-09-01",556]
["1975-10-01",609]
["1975-11-01",680]
["1975-12-01",669]
["1976-01-01",603]
["1976-02-01",644]
["1976-03-01",591]
["1976-04-01",611]
["1976-05-01",570]
["1976-06-01",591]
["1976-07-01",664]
["1976-08-01",648]
["1976-09-01",696]
["1976-10-01",708]
["1976-11-01",735]
["1976-12-01",767]
["1977-01-01",825]
["1977-02-01",839]
["1977-03-01",872]
["1977-04-01",799]
["1977-05-01",807]
["1977-06-01",805]
["1977-07-01",755]
["1977-08-01",808]
["1977-09-01",842]
["1977-10-01",819]
["1977-11-01",829]
["1977-12-01",835]
["1978-01-01",795]
["1978-02-01",791]
["1978-03-01",814]
["1978-04-01",864]
["1978-05-01",857]
["1978-06-01",834]
["1978-07-01",789]
["1978-08-01",756]
["1978-09-01",812]
["1978-10-01",872]
["1978-11-01",798]
["1978-12-01",805]
["1979-01-01",754]
["1979-02-01",723]
["1979-03-01",793]
["1979-04-01",748]
["1979-05-01",727]
["1979-06-01",700]
["1979-07-01",715]
["1979-08-01",729]
["1979-09-01",727]
["1979-10-01",670]
["1979-11-01",597]
["1979-12-01",559]
["1980-01-01",592]
["1980-02-01",541]
["1980-03-01",474]
["1980-04-01",370]
["1980-05-01",469]
["1980-06-01",552]
["1980-07-01",636]
["1980-08-01",659]
["1980-09-01",596]
["1980-10-01",561]
["1980-11-01",562]
["1980-12-01",532]
["1981-01-01",511]
["1981-02-01",510]
["1981-03-01",514]
["1981-04-01",470]
["1981-05-01",467]
["1981-06-01",415]
["1981-07-01",431]
["1981-08-01",378]
["1981-09-01",338]
["1981-10-01",356]
["1981-11-01",382]
["1981-12-01",457]
["1982-01-01",368]
["1982-02-01",365]
["1982-03-01",374]
["1982-04-01",339]
["1982-05-01",384]
["1982-06-01",370]
["1982-07-01",375]
["1982-08-01",407]
["1982-09-01",481]
["1982-10-01",480]
["1982-11-01",554]
["1982-12-01",521]
["1983-01-01",582]
["1983-02-01",562]
["1983-03-01",596]
["1983-04-01",638]
["1983-05-01",664]
["1983-06-01",651]
["1983-07-01",606]
["1983-08-01",572]
["1983-09-01",608]
["1983-10-01",632]
["1983-11-01",644]
["1983-12-01",773]
["1984-01-01",691]
["1984-02-01",696]
["1984-03-01",641]
["1984-04-01",639]
["1984-05-01",615]
["1984-06-01",630]
["1984-07-01",619]
["1984-08-01",567]
["1984-09-01",662]
["1984-10-01",687]
["1984-11-01",597]
["1984-12-01",597]
["1985-01-01",645]
["1985-02-01",682]
["1985-03-01",671]
["1985-04-01",620]
["1985-05-01",678]
["1985-06-01",722]
["1985-07-01",766]
["1985-08-01",726]
["1985-09-01",678]
["1985-10-01",655]
["1985-11-01",733]
["1985-12-01",721]
["1986-01-01",733]
["1986-02-01",728]
["1986-03-01",880]
["1986-04-01",857]
["1986-05-01",789]
["1986-06-01",728]
["1986-07-01",698]
["1986-08-01",621]
["1986-09-01",763]
["1986-10-01",669]
["1986-11-01",707]
["1986-12-01",784]
["1987-01-01",709]
["1987-02-01",732]
["1987-03-01",713]
["1987-04-01",735]
["1987-05-01",651]
["1987-06-01",637]
["1987-07-01",658]
["1987-08-01",657]
["1987-09-01",666]
["1987-10-01",650]
["1987-11-01",625]
["1987-12-01",595]
["1988-01-01",585]
["1988-02-01",663]
["1988-03-01",669]
["1988-04-01",699]
["1988-05-01",684]
["1988-06-01",717]
["1988-07-01",679]
["1988-08-01",688]
["1988-09-01",703]
["1988-10-01",718]
["1988-11-01",628]
["1988-12-01",658]
["1989-01-01",719]
["1989-02-01",622]
["1989-03-01",567]
["1989-04-01",608]
["1989-05-01",656]
["1989-06-01",642]
["1989-07-01",731]
["1989-08-01",697]
["1989-09-01",639]
["1989-10-01",645]
["1989-11-01",684]
["1989-12-01",630]
["1990-01-01",620]
["1990-02-01",591]
["1990-03-01",574]
["1990-04-01",542]
["1990-05-01",534]
["1990-06-01",545]
["1990-07-01",542]
["1990-08-01",528]
["1990-09-01",496]
["1990-10-01",465]
["1990-11-01",493]
["1990-12-01",464]
["1991-01-01",401]
["1991-02-01",482]
["1991-03-01",507]
["1991-04-01",508]
["1991-05-01",517]
["1991-06-01",516]
["1991-07-01",511]
["1991-08-01",526]
["1991-09-01",487]
["1991-10-01",524]
["1991-11-01",575]
["1991-12-01",558]
["1992-01-01",676]
["1992-02-01",639]
["1992-03-01",554]
["1992-04-01",546]
["1992-05-01",554]
["1992-06-01",596]
["1992-07-01",627]
["1992-08-01",636]
["1992-09-01",650]
["1992-10-01",621]
["1992-11-01",614]
["1992-12-01",650]
["1993-01-01",596]
["1993-02-01",604]
["1993-03-01",602]
["1993-04-01",701]
["1993-05-01",626]
["1993-06-01",653]
["1993-07-01",655]
["1993-08-01",645]
["1993-09-01",726]
["1993-10-01",704]
["1993-11-01",769]
["1993-12-01",812]
["1994-01-01",619]
["1994-02-01",686]
["1994-03-01",747]
["1994-04-01",692]
["1994-05-01",691]
["1994-06-01",621]
["1994-07-01",628]
["1994-08-01",656]
["1994-09-01",677]
["1994-10-01",715]
["1994-11-01",646]
["1994-12-01",629]
["1995-01-01",626]
["1995-02-01",559]
["1995-03-01",616]
["1995-04-01",621]
["1995-05-01",674]
["1995-06-01",725]
["1995-07-01",765]
["1995-08-01",701]
["1995-09-01",678]
["1995-10-01",696]
["1995-11-01",664]
["1995-12-01",709]
["1996-01-01",714]
["1996-02-01",769]
["1996-03-01",721]
["1996-04-01",736]
["1996-05-01",746]
["1996-06-01",721]
["1996-07-01",770]
["1996-08-01",826]
["1996-09-01",770]
["1996-10-01",720]
["1996-11-01",771]
["1996-12-01",805]
["1997-01-01",830]
["1997-02-01",801]
["1997-03-01",831]
["1997-04-01",744]
["1997-05-01",760]
["1997-06-01",793]
["1997-07-01",805]
["1997-08-01",815]
["1997-09-01",840]
["1997-10-01",800]
["1997-11-01",864]
["1997-12-01",793]
["1998-01-01",872]
["1998-02-01",866]
["1998-03-01",836]
["1998-04-01",866]
["1998-05-01",887]
["1998-06-01",923]
["1998-07-01",876]
["1998-08-01",846]
["1998-09-01",864]
["1998-10-01",893]
["1998-11-01",995]
["1998-12-01",949]
["1999-01-01",875]
["1999-02-01",848]
["1999-03-01",863]
["1999-04-01",918]
["1999-05-01",888]
["1999-06-01",923]
["1999-07-01",900]
["1999-08-01",893]
["1999-09-01",826]
["1999-10-01",872]
["1999-11-01",863]
["1999-12-01",873]
["2000-01-01",873]
["2000-02-01",856]
["2000-03-01",900]
["2000-04-01",841]
["2000-05-01",857]
["2000-06-01",793]
["2000-07-01",887]
["2000-08-01",848]
["2000-09-01",912]
["2000-10-01",933]
["2000-11-01",880]
["2000-12-01",983]
["2001-01-01",936]
["2001-02-01",963]
["2001-03-01",939]
["2001-04-01",909]
["2001-05-01",885]
["2001-06-01",882]
["2001-07-01",880]
["2001-08-01",866]
["2001-09-01",853]
["2001-10-01",871]
["2001-11-01",924]
["2001-12-01",979]
["2002-01-01",880]
["2002-02-01",948]
["2002-03-01",923]
["2002-04-01",936]
["2002-05-01",978]
["2002-06-01",957]
["2002-07-01",956]
["2002-08-01",1014]
["2002-09-01",1044]
["2002-10-01",1006]
["2002-11-01",1024]
["2002-12-01",1048]
["2003-01-01",999]
["2003-02-01",936]
["2003-03-01",999]
["2003-04-01",1012]
["2003-05-01",1078]
["2003-06-01",1193]
["2003-07-01",1168]
["2003-08-01",1206]
["2003-09-01",1131]
["2003-10-01",1144]
["2003-11-01",1093]
["2003-12-01",1129]
["2004-01-01",1165]
["2004-02-01",1159]
["2004-03-01",1276]
["2004-04-01",1186]
["2004-05-01",1241]
["2004-06-01",1180]
["2004-07-01",1088]
["2004-08-01",1175]
["2004-09-01",1214]
["2004-10-01",1305]
["2004-11-01",1179]
["2004-12-01",1242]
["2005-01-01",1203]
["2005-02-01",1319]
["2005-03-01",1328]
["2005-04-01",1260]
["2005-05-01",1286]
["2005-06-01",1274]
["2005-07-01",1389]
["2005-08-01",1255]
["2005-09-01",1244]
["2005-10-01",1336]
["2005-11-01",1214]
["2005-12-01",1239]
["2006-01-01",1174]
["2006-02-01",1061]
["2006-03-01",1116]
["2006-04-01",1123]
["2006-05-01",1086]
["2006-06-01",1074]
["2006-07-01",965]
["2006-08-01",1035]
["2006-09-01",1016]
["2006-10-01",941]
["2006-11-01",1003]
["2006-12-01",998]
["2007-01-01",891]
["2007-02-01",828]
["2007-03-01",833]
["2007-04-01",887]
["2007-05-01",842]
["2007-06-01",793]
["2007-07-01",778]
["2007-08-01",699]
["2007-09-01",686]
["2007-10-01",727]
["2007-11-01",641]
["2007-12-01",619]
["2008-01-01",627]
["2008-02-01",593]
["2008-03-01",535]
["2008-04-01",536]
["2008-05-01",504]
["2008-06-01",487]
["2008-07-01",477]
["2008-08-01",435]
["2008-09-01",433]
["2008-10-01",393]
["2008-11-01",389]
["2008-12-01",377]
["2009-01-01",336]
["2009-02-01",372]
["2009-03-01",339]
["2009-04-01",337]
["2009-05-01",376]
["2009-06-01",393]
["2009-07-01",411]
["2009-08-01",418]
["2009-09-01",386]
["2009-10-01",396]
["2009-11-01",375]
["2009-12-01",352]
["2010-01-01",345]
["2010-02-01",336]
["2010-03-01",381]
["2010-04-01",422]
["2010-05-01",280]
["2010-06-01",305]
["2010-07-01",283]
["2010-08-01",282]
["2010-09-01",317]
["2010-10-01",291]
["2010-11-01",287]
["2010-12-01",326]
["2011-01-01",307]
["2011-02-01",270]
["2011-03-01",300]
["2011-04-01",310]
["2011-05-01",305]
["2011-06-01",301]
["2011-07-01",296]
["2011-08-01",299]
["2011-09-01",304]
["2011-10-01",316]
["2011-11-01",328]
["2011-12-01",341]
["2012-01-01",335]
["2012-02-01",366]
["2012-03-01",354]
["2012-04-01",354]
["2012-05-01",370]
["2012-06-01",360]
["2012-07-01",369]
["2012-08-01",375]
["2012-09-01",385]
["2012-10-01",358]
["2012-11-01",392]
["2012-12-01",399]
["2013-01-01",453]
["2013-02-01",448]
["2013-03-01",440]
["2013-04-01",452]
["2013-05-01",431]
["2013-06-01",459]
["2013-07-01",367]
["2013-08-01",379]
["2013-09-01",399]
["2013-10-01",450]
["2013-11-01",445]
["2013-12-01",442]
["2014-01-01",457]
["2014-02-01",432]
["2014-03-01",403]
["2014-04-01",413]
["2014-05-01",458]
["2014-06-01",409]
["2014-07-01",399]
["2014-08-01",448]
["2014-09-01",456]
["2014-10-01",469]
["2014-11-01",448]
["2014-12-01",496]
["2015-01-01",514]
["2015-02-01",543]
["2015-03-01",481]

{"sheet":"Homes for Sale","index":28,"n_rows":644,"n_cols":14,"rows_kept":644,"cut":false,"hidden":false,"merged":[]}
["Title:","Monthly","Supply","of","Homes","in","the","United","States"]
["Series","ID:","MSACSR"]
["Source:","US.","Bureau","of","the","Census"]
["Release:","New","Residential","Sales"]
["Seasonal","Adjustment:","Seasonally","Adjusted"]
["Frequency:","Monthly"]
["Units:","Months'","Supply"]
["Date","Range:","1963-01-01","to","2015-03-01"]
["Last","Updated:","2015-04-23","09:16:00","AM","CDT"]
["Notes:","The","months'","supply","is","the","ratio","of","houses","for","sale","to","houses","sold."]
[null,"This","statistic","provides","an","indication","of","the","size","of","the","for","sale"]
[null,"inventory","in","relation","to","the","number","of","houses","currently","being","sold."]
[null,"The","months'","supply","indicates","how","long","the","current","for","sale","inventory"]
[null,"would","last","given","the","current","sales","rate","if","no","additional","new","houses"]
[null,"were","built."]
[]
["DATE","VALUE"]
["1963-01-01",4.7]
["1963-02-01",6.6]
["1963-03-01",6.4]
["1963-04-01",5.3]
["1963-05-01",5.0999999999999996]
["1963-06-01",6]
["1963-07-01",4.5999999999999996]
["1963-08-01",5.6]
["1963-09-01",5.4]
["1963-10-01",5.9]
["1963-11-01",5.5]
["1963-12-01",6.1]
["1964-01-01",5.8]
["1964-02-01",5.5]
["1964-03-01",5.8]
["1964-04-01",6]
["1964-05-01",6.2]
["1964-06-01",5.7]
["1964-07-01",5.5]
["1964-08-01",5.4]
["1964-09-01",5.4]
["1964-10-01",5.3]
["1964-11-01",5.6]
["1964-12-01",5.5]
["1965-01-01",5.6]
["1965-02-01",5.5]
["1965-03-01",5.4]
["1965-04-01",5.6]
["1965-05-01",5.3]
["1965-06-01",4.7]
["1965-07-01",5.2]
["1965-08-01",4.5999999999999996]
["1965-09-01",4.9000000000000004]
["1965-10-01",5]
["1965-11-01",4.5999999999999996]
["1965-12-01",4.4000000000000004]
["1966-01-01",4.7]
["1966-02-01",4.9000000000000004]
["1966-03-01",5]
["1966-04-01",5.0999999999999996]
["1966-05-01",5.3]
["1966-06-01",6]
["1966-07-01",5.9]
["1966-08-01",6.8]
["1966-09-01",7.2]
["1966-10-01",6.3]
["1966-11-01",6.2]
["1966-12-01",6.3]
["1967-01-01",5.7]
["1967-02-01",5.7]
["1967-03-01",5.4]
["1967-04-01",4.9000000000000004]
["1967-05-01",4.5]
["1967-06-01",4.5999999999999996]
["1967-07-01",4.4000000000000004]
["1967-08-01",4.4000000000000004]
["1967-09-01",4.3]
["1967-10-01",4.0999999999999996]
["1967-11-01",4.5999999999999996]
["1967-12-01",4.7]
["1968-01-01",4.7]
["1968-02-01",4.0999999999999996]
["1968-03-01",4.8]
["1968-04-01",4.9000000000000004]
["1968-05-01",5.5]
["1968-06-01",5.5]
["1968-07-01",5.0999999999999996]
["1968-08-01",5]
["1968-09-01",5.0999999999999996]
["1968-10-01",5.2]
["1968-11-01",5.6]
["1968-12-01",5.2]
["1969-01-01",5.5]
["1969-02-01",4.9000000000000004]
["1969-03-01",5.7]
["1969-04-01",6]
["1969-05-01",6.1]
["1969-06-01",5.8]
["1969-07-01",6.3]
["1969-08-01",6.5]
["1969-09-01",6.9]
["1969-10-01",7]
["1969-11-01",6.2]
["1969-12-01",6.1]
["1970-01-01",5.5]
["1970-02-01",7.2]
["1970-03-01",6.8]
["1970-04-01",6]
["1970-05-01",5.7]
["1970-06-01",5.5]
["1970-07-01",5.4]
["1970-08-01",5.0999999999999996]
["1970-09-01",4.7]
["1970-10-01",4.8]
["1970-11-01",4.5999999999999996]
["1970-12-01",4.7]
["1971-01-01",4.3]
["1971-02-01",4.4000000000000004]
["1971-03-01",4]
["1971-04-01",4.2]
["1971-05-01",4.5999999999999996]
["1971-06-01",4.7]
["1971-07-01",4.0999999999999996]
["1971-08-01",4.7]
["1971-09-01",5.2]
["1971-10-01",5]
["1971-11-01",4.9000000000000004]
["1971-12-01",5.0999999999999996]
["1972-01-01",5.2]
["1972-02-01",5.4]
["1972-03-01",6.1]
["1972-04-01",5.8]
["1972-05-01",6.1]
["1972-06-01",6.3]
["1972-07-01",6.3]
["1972-08-01",6]
["1972-09-01",6.2]
["1972-10-01",5.7]
["1972-11-01",6.8]
["1972-12-01",6.5]
["1973-01-01",6.5]
["1973-02-01",6.8]
["1973-03-01",7]
["1973-04-01",7.7]
["1973-05-01",7.5]
["1973-06-01",7.8]
["1973-07-01",8.6999999999999993]
["1973-08-01",9.4]
["1973-09-01",9.5]
["1973-10-01",9.4]
["1973-11-01",9.6]
["1973-12-01",10.1]
["1974-01-01",9.6999999999999993]
["1974-02-01",9.6]
["1974-03-01",8.8000000000000007]
["1974-04-01",9.1]
["1974-05-01",8]
["1974-06-01",8.9]
["1974-07-01",8.8000000000000007]
["1974-08-01",9.3000000000000007]
["1974-09-01",9.1]
["1974-10-01",9.8000000000000007]
["1974-11-01",9.6999999999999993]
["1974-12-01",10.3]
["1975-01-01",9.9]
["1975-02-01",10.4]
["1975-03-01",8.9]
["1975-04-01",7.2]
["1975-05-01",6.8]
["1975-06-01",7.2]
["1975-07-01",7]
["1975-08-01",6.8]
["1975-09-01",7.3]
["1975-10-01",6.6]
["1975-11-01",5.8]
["1975-12-01",5.8]
["1976-01-01",6.4]
["1976-02-01",5.9]
["1976-03-01",6.8]
["1976-04-01",6.4]
["1976-05-01",7]
["1976-06-01",6.9]
["1976-07-01",6.4]
["1976-08-01",6.2]
["1976-09-01",6.2]
["1976-10-01",5.8]
["1976-11-01",6]
["1976-12-01",5.6]
["1977-01-01",5.3]
["1977-02-01",5.0999999999999996]
["1977-03-01",5]
["1977-04-01",5.5]
["1977-05-01",5.4]
["1977-06-01",5.5]
["1977-07-01",6.1]
["1977-08-01",5.8]
["1977-09-01",5.9]
["1977-10-01",6.1]
["1977-11-01",6]
["1977-12-01",6]
["1978-01-01",5.9]
["1978-02-01",6.3]
["1978-03-01",6.1]
["1978-04-01",5.8]
["1978-05-01",5.9]
["1978-06-01",6.2]
["1978-07-01",6.6]
["1978-08-01",6.6]
["1978-09-01",5.9]
["1978-10-01",5.7]
["1978-11-01",6.5]
["1978-12-01",6.1]
["1979-01-01",6.6]
["1979-02-01",6.8]
["1979-03-01",6.6]
["1979-04-01",6.8]
["1979-05-01",7.1]
["1979-06-01",7.4]
["1979-07-01",7.1]
["1979-08-01",6.9]
["1979-09-01",7.4]
["1979-10-01",7.4]
["1979-11-01",8.3000000000000007]
["1979-12-01",8.6]
["1980-01-01",7.9]
["1980-02-01",8.6]
["1980-03-01",9.8000000000000007]
["1980-04-01",11.6]
["1980-05-01",9.1999999999999993]
["1980-06-01",7.6]
["1980-07-01",6.5]
["1980-08-01",6]
["1980-09-01",7.3]
["1980-10-01",7.3]
["1980-11-01",7.4]
["1980-12-01",7.6]
["1981-01-01",8]
["1981-02-01",8.1]
["1981-03-01",7.7]
["1981-04-01",8.6]
["1981-05-01",8.4]
["1981-06-01",9.1999999999999993]
["1981-07-01",9]
["1981-08-01",9.8000000000000007]
["1981-09-01",11.3]
["1981-10-01",10.3]
["1981-11-01",9.1]
["1981-12-01",7.1]
["1982-01-01",8.9]
["1982-02-01",9.1999999999999993]
["1982-03-01",8.6999999999999993]
["1982-04-01",9.4]
["1982-05-01",8.3000000000000007]
["1982-06-01",8.3000000000000007]
["1982-07-01",8.1999999999999993]
["1982-08-01",7.1]
["1982-09-01",6.7]
["1982-10-01",6.2]
["1982-11-01",5.4]
["1982-12-01",5.8]
["1983-01-01",5.4]
["1983-02-01",5.6]
["1983-03-01",5.4]
["1983-04-01",5.0999999999999996]
["1983-05-01",4.9000000000000004]
["1983-06-01",5.3]
["1983-07-01",5.8]
["1983-08-01",6.2]
["1983-09-01",6.2]
["1983-10-01",5.6]
["1983-11-01",5.8]
["1983-12-01",4.7]
["1984-01-01",5.3]
["1984-02-01",5.0999999999999996]
["1984-03-01",6.1]
["1984-04-01",6]
["1984-05-01",6.7]
["1984-06-01",6.6]
["1984-07-01",6.7]
["1984-08-01",7.5]
["1984-09-01",6.5]
["1984-10-01",6]
["1984-11-01",7.2]
["1984-12-01",7.3]
["1985-01-01",6.7]
["1985-02-01",6.5]
["1985-03-01",6.4]
["1985-04-01",6.9]
["1985-05-01",6.4]
["1985-06-01",6]
["1985-07-01",5.6]
["1985-08-01",5.8]
["1985-09-01",6.3]
["1985-10-01",6.4]
["1985-11-01",5.9]
["1985-12-01",5.8]
["1986-01-01",5.7]
["1986-02-01",6]
["1986-03-01",4.7]
["1986-04-01",4.7]
["1986-05-01",5.2]
["1986-06-01",5.7]
["1986-07-01",6.1]
["1986-08-01",7]
["1986-09-01",5.8]
["1986-10-01",6.5]
["1986-11-01",6.1]
["1986-12-01",5.5]
["1987-01-01",6]
["1987-02-01",6.2]
["1987-03-01",6]
["1987-04-01",6]
["1987-05-01",6.7]
["1987-06-01",6.9]
["1987-07-01",6.7]
["1987-08-01",6.8]
["1987-09-01",6.8]
["1987-10-01",6.8]
["1987-11-01",7]
["1987-12-01",7.6]
["1988-01-01",7.5]
["1988-02-01",6.6]
["1988-03-01",6.6]
["1988-04-01",6.4]
["1988-05-01",6.6]
["1988-06-01",6.2]
["1988-07-01",6.6]
["1988-08-01",6.6]
["1988-09-01",6.5]
["1988-10-01",6]
["1988-11-01",7.2]
["1988-12-01",6.8]
["1989-01-01",6.2]
["1989-02-01",7.5]
["1989-03-01",8.1999999999999993]
["1989-04-01",7.4]
["1989-05-01",7.1]
["1989-06-01",7.2]
["1989-07-01",6.1]
["1989-08-01",6.4]
["1989-09-01",7.1]
["1989-10-01",6.9]
["1989-11-01",6.6]
["1989-12-01",7]
["1990-01-01",7]
["1990-02-01",7.6]
["1990-03-01",7.8]
["1990-04-01",8.3000000000000007]
["1990-05-01",8.1999999999999993]
["1990-06-01",7.9]
["1990-07-01",7.8]
["1990-08-01",8.1999999999999993]
["1990-09-01",8.4]
["1990-10-01",8.6999999999999993]
["1990-11-01",8.1999999999999993]
["1990-12-01",8.5]
["1991-01-01",9.4]
["1991-02-01",7.9]
["1991-03-01",7.3]
["1991-04-01",7.3]
["1991-05-01",7]
["1991-06-01",7]
["1991-07-01",7.1]
["1991-08-01",6.8]
["1991-09-01",7.4]
["1991-10-01",6.7]
["1991-11-01",6.2]
["1991-12-01",6.2]
["1992-01-01",5.2]
["1992-02-01",4.9000000000000004]
["1992-03-01",6.1]
["1992-04-01",6.1]
["1992-05-01",6]
["1992-06-01",5.6]
["1992-07-01",5.3]
["1992-08-01",5.2]
["1992-09-01",5]
["1992-10-01",5.0999999999999996]
["1992-11-01",5.4]
["1992-12-01",5]
["1993-01-01",5.4]
["1993-02-01",5.3]
["1993-03-01",5.4]
["1993-04-01",4.7]
["1993-05-01",5.3]
["1993-06-01",5.2]
["1993-07-01",5.3]
["1993-08-01",5.5]
["1993-09-01",4.9000000000000004]
["1993-10-01",5]
["1993-11-01",4.8]
["1993-12-01",4.5]
["1994-01-01",5.9]
["1994-02-01",5]
["1994-03-01",4.8]
["1994-04-01",5.2]
["1994-05-01",5.3]
["1994-06-01",6.2]
["1994-07-01",6.3]
["1994-08-01",6.1]
["1994-09-01",6]
["1994-10-01",5.6]
["1994-11-01",6.3]
["1994-12-01",6.6]
["1995-01-01",6.8]
["1995-02-01",7.3]
["1995-03-01",6.8]
["1995-04-01",6.7]
["1995-05-01",6.3]
["1995-06-01",5.8]
["1995-07-01",5.6]
["1995-08-01",6.1]
["1995-09-01",6.3]
["1995-10-01",6.3]
["1995-11-01",6.8]
["1995-12-01",6.4]
["1996-01-01",6.4]
["1996-02-01",5.3]
["1996-03-01",6.2]
["1996-04-01",6]
["1996-05-01",5.9]
["1996-06-01",6]
["1996-07-01",5.7]
["1996-08-01",5]
["1996-09-01",5.2]
["1996-10-01",5.6]
["1996-11-01",5.2]
["1996-12-01",5]
["1997-01-01",4.7]
["1997-02-01",4.5]
["1997-03-01",4.0999999999999996]
["1997-04-01",4.7]
["1997-05-01",4.5999999999999996]
["1997-06-01",4.4000000000000004]
["1997-07-01",4.4000000000000004]
["1997-08-01",4.3]
["1997-09-01",4.2]
["1997-10-01",4.3]
["1997-11-01",3.9]
["1997-12-01",4.4000000000000004]
["1998-01-01",4]
["1998-02-01",3.9]
["1998-03-01",4.0999999999999996]
["1998-04-01",4]
["1998-05-01",3.9]
["1998-06-01",3.8]
["1998-07-01",4]
["1998-08-01",4.0999999999999996]
["1998-09-01",4.0999999999999996]
["1998-10-01",4]
["1998-11-01",3.5]
["1998-12-01",3.8]
["1999-01-01",3.9]
["1999-02-01",4]
["1999-03-01",4.0999999999999996]
["1999-04-01",3.9]
["1999-05-01",4]
["1999-06-01",3.9]
["1999-07-01",4]
["1999-08-01",4]
["1999-09-01",4.5]
["1999-10-01",4.2]
["1999-11-01",4.3]
["1999-12-01",4.3]
["2000-01-01",4.3]
["2000-02-01",4.3]
["2000-03-01",4.3]
["2000-04-01",4.4000000000000004]
["2000-05-01",4.4000000000000004]
["2000-06-01",4.8]
["2000-07-01",4.0999999999999996]
["2000-08-01",4.4000000000000004]
["2000-09-01",4]
["2000-10-01",4]
["2000-11-01",4.2]
["2000-12-01",3.6]
["2001-01-01",3.8]
["2001-02-01",3.7]
["2001-03-01",3.8]
["2001-04-01",3.9]
["2001-05-01",4]
["2001-06-01",4.2]
["2001-07-01",4.2]
["2001-08-01",4.4000000000000004]
["2001-09-01",4.4000000000000004]
["2001-10-01",4.3]
["2001-11-01",4.0999999999999996]
["2001-12-01",3.8]
["2002-01-01",4.2]
["2002-02-01",4]
["2002-03-01",4.0999999999999996]
["2002-04-01",4.3]
["2002-05-01",4]
["2002-06-01",4.2]
["2002-07-01",4.2]
["2002-08-01",4]
["2002-09-01",3.9]
["2002-10-01",4]
["2002-11-01",4]
["2002-12-01",4]
["2003-01-01",4]
["2003-02-01",4.5]
["2003-03-01",4.0999999999999996]
["2003-04-01",4.0999999999999996]
["2003-05-01",3.9]
["2003-06-01",3.5]
["2003-07-01",3.6]
["2003-08-01",3.5]
["2003-09-01",3.8]
["2003-10-01",3.8]
["2003-11-01",4.0999999999999996]
["2003-12-01",4]
["2004-01-01",3.8]
["2004-02-01",3.7]
["2004-03-01",3.6]
["2004-04-01",4]
["2004-05-01",3.8]
["2004-06-01",3.9]
["2004-07-01",4.5]
["2004-08-01",4.3]
["2004-09-01",4.0999999999999996]
["2004-10-01",3.9]
["2004-11-01",4.3]
["2004-12-01",4.0999999999999996]
["2005-01-01",4.4000000000000004]
["2005-02-01",4.3]
["2005-03-01",4.0999999999999996]
["2005-04-01",4.3]
["2005-05-01",4.2]
["2005-06-01",4.3]
["2005-07-01",4.2]
["2005-08-01",4.5]
["2005-09-01",4.7]
["2005-10-01",4.5]
["2005-11-01",5]
["2005-12-01",4.9000000000000004]
["2006-01-01",5.3]
["2006-02-01",6.1]
["2006-03-01",5.9]
["2006-04-01",6.3]
["2006-05-01",6.2]
["2006-06-01",6.3]
["2006-07-01",7.3]
["2006-08-01",6.7]
["2006-09-01",6.7]
["2006-10-01",7.3]
["2006-11-01",6.6]
["2006-12-01",6.5]
["2007-01-01",7.2]
["2007-02-01",7.9]
["2007-03-01",7.9]
["2007-04-01",7.4]
["2007-05-01",7.8]
["2007-06-01",8.1999999999999993]
["2007-07-01",8.3000000000000007]
["2007-08-01",9.1999999999999993]
["2007-09-01",9.1999999999999993]
["2007-10-01",8.5]
["2007-11-01",9.4]
["2007-12-01",9.6]
["2008-01-01",9.3000000000000007]
["2008-02-01",9.6999999999999993]
["2008-03-01",10.5]
["2008-04-01",10.3]
["2008-05-01",10.7]
["2008-06-01",10.7]
["2008-07-01",10.5]
["2008-08-01",11.3]
["2008-09-01",10.9]
["2008-10-01",11.6]
["2008-11-01",11.4]
["2008-12-01",11.2]
["2009-01-01",12.2]
["2009-02-01",10.5]
["2009-03-01",11]
["2009-04-01",10.7]
["2009-05-01",9.3000000000000007]
["2009-06-01",8.5]
["2009-07-01",7.9]
["2009-08-01",7.5]
["2009-09-01",7.8]
["2009-10-01",7.4]
["2009-11-01",7.6]
["2009-12-01",8]
["2010-01-01",8.1]
["2010-02-01",8.3000000000000007]
["2010-03-01",7.1]
["2010-04-01",6.2]
["2010-05-01",9.3000000000000007]
["2010-06-01",8.3000000000000007]
["2010-07-01",8.9]
["2010-08-01",8.8000000000000007]
["2010-09-01",7.6]
["2010-10-01",8.1999999999999993]
["2010-11-01",8.1999999999999993]
["2010-12-01",7]
["2011-01-01",7.3]
["2011-02-01",8.1]
["2011-03-01",7.2]
["2011-04-01",6.7]
["2011-05-01",6.6]
["2011-06-01",6.6]
["2011-07-01",6.7]
["2011-08-01",6.5]
["2011-09-01",6.3]
["2011-10-01",6]
["2011-11-01",5.7]
["2011-12-01",5.3]
["2012-01-01",5.3]
["2012-02-01",4.8]
["2012-03-01",4.9000000000000004]
["2012-04-01",4.9000000000000004]
["2012-05-01",4.7]
["2012-06-01",4.8]
["2012-07-01",4.5999999999999996]
["2012-08-01",4.5999999999999996]
["2012-09-01",4.5]
["2012-10-01",4.9000000000000004]
["2012-11-01",4.5999999999999996]
["2012-12-01",4.5]
["2013-01-01",3.9]
["2013-02-01",4.0999999999999996]
["2013-03-01",4.2]
["2013-04-01",4.3]
["2013-05-01",4.5]
["2013-06-01",4.2]
["2013-07-01",5.6]
["2013-08-01",5.5]
["2013-09-01",5.5]
["2013-10-01",4.9000000000000004]
["2013-11-01",5]
["2013-12-01",5.0999999999999996]
["2014-01-01",5]
["2014-02-01",5.2]
["2014-03-01",5.7]
["2014-04-01",5.5]
["2014-05-01",5]
["2014-06-01",5.8]
["2014-07-01",6.2]
["2014-08-01",5.5]
["2014-09-01",5.5]
["2014-10-01",5.4]
["2014-11-01",5.7]
["2014-12-01",5.0999999999999996]
["2015-01-01",5]
["2015-02-01",4.5999999999999996]
["2015-03-01",5.3]

{"sheet":"Pct Home Ownership","index":29,"n_rows":43,"n_cols":11,"rows_kept":43,"cut":false,"hidden":false,"merged":[]}
["Title:","Homeownership","Rate","for","the","United","States"]
["Series","ID:","USHOWN"]
["Source:","US.","Bureau","of","the","Census"]
["Release:","Residential","Vacancies","and","Homeownership","Annual","Statistics","(Not","a","Press","Release)"]
["Seasonal","Adjustment:","Not","Seasonally","Adjusted"]
["Frequency:","Annual"]
["Units:","Percent"]
["Date","Range:","1984-01-01","to","2014-01-01"]
["Last","Updated:","2015-03-04","11:06:00","AM","CST"]
["Notes:"]
[]
["DATE","VALUE"]
["1984-01-01",64.5]
["1985-01-01",63.9]
["1986-01-01",63.8]
["1987-01-01",64]
["1988-01-01",63.8]
["1989-01-01",63.9]
["1990-01-01",63.9]
["1991-01-01",64.099999999999994]
["1992-01-01",64.099999999999994]
["1993-01-01",64]
["1994-01-01",64]
["1995-01-01",64.7]
["1996-01-01",65.400000000000006]
["1997-01-01",65.7]
["1998-01-01",66.3]
["1999-01-01",66.8]
["2000-01-01",67.400000000000006]
["2001-01-01",67.8]
["2002-01-01",67.900000000000006]
["2003-01-01",68.3]
["2004-01-01",69]
["2005-01-01",68.900000000000006]
["2006-01-01",68.8]
["2007-01-01",68.099999999999994]
["2008-01-01",67.8]
["2009-01-01",67.400000000000006]
["2010-01-01",66.900000000000006]
["2011-01-01",66.099999999999994]
["2012-01-01",65.400000000000006]
["2013-01-01",65.099999999999994]
["2014-01-01",64.5]

{"sheet":"Rental Vacancy Rate","index":30,"n_rows":249,"n_cols":13,"rows_kept":249,"cut":false,"hidden":false,"merged":[]}
["Title:","Rental","Vacancy","Rate","for","the","United","States"]
["Series","ID:","RRVRUSQ156N"]
["Source:","US.","Bureau","of","the","Census"]
["Release:","Housing","Vacancies","and","Homeownership"]
["Seasonal","Adjustment:","Not","Seasonally","Adjusted"]
["Frequency:","Quarterly"]
["Units:","Percent"]
["Date","Range:","1956-01-01","to","2014-10-01"]
["Last","Updated:","2015-01-29","09:56:00","AM","CST"]
["Notes:","The","rental","vacancy","rate","is","the","proportion","of","the","rental","inventory","that"]
[null,"is","vacant","for","rent."]
[]
["DATE","VALUE"]
["1956-01-01",6.2]
["1956-04-01",5.9]
["1956-07-01",6.3]
["1956-10-01",5.8]
["1957-01-01",5.3]
["1957-04-01",5.3]
["1957-07-01",5.7]
["1957-10-01",5.8]
["1958-01-01",6.3]
["1958-04-01",6.5]
["1958-07-01",6.3]
["1958-10-01",6.6]
["1959-01-01",6.8]
["1959-04-01",7.3]
["1959-07-01",7.2]
["1959-10-01",7]
["1960-01-01",8]
["1960-04-01",8]
["1960-07-01",8.3000000000000007]
["1960-10-01",8.4]
["1961-01-01",8.9]
["1961-04-01",8.8000000000000007]
["1961-07-01",8.6]
["1961-10-01",8.5]
["1962-01-01",8.5]
["1962-04-01",8.1]
["1962-07-01",8]
["1962-10-01",8.1]
["1963-01-01",8]
["1963-04-01",8.1999999999999993]
["1963-07-01",8.3000000000000007]
["1963-10-01",8.3000000000000007]
["1964-01-01",8.1]
["1964-04-01",8.1]
["1964-07-01",8.4]
["1964-10-01",8.3000000000000007]
["1965-01-01",8.5]
["1965-04-01",8.1999999999999993]
["1965-07-01",7.8]
["1965-10-01",8.5]
["1966-01-01",8.3000000000000007]
["1966-04-01",7.4]
["1966-07-01",7.4]
["1966-10-01",7.7]
["1967-01-01",7.3]
["1967-04-01",6.9]
["1967-07-01",7]
["1967-10-01",6.2]
["1968-01-01",6.1]
["1968-04-01",6.2]
["1968-07-01",5.9]
["1968-10-01",5.4]
["1969-01-01",5.6]
["1969-04-01",5.7]
["1969-07-01",5.5]
["1969-10-01",5.0999999999999996]
["1970-01-01",5.4]
["1970-04-01",5.4]
["1970-07-01",5.3]
["1970-10-01",5.2]
["1971-01-01",5.3]
["1971-04-01",5.3]
["1971-07-01",5.6]
["1971-10-01",5.6]
["1972-01-01",5.3]
["1972-04-01",5.5]
["1972-07-01",5.8]
["1972-10-01",5.6]
["1973-01-01",5.7]
["1973-04-01",5.8]
["1973-07-01",5.8]
["1973-10-01",5.8]
["1974-01-01",6.2]
["1974-04-01",6.3]
["1974-07-01",6.2]
["1974-10-01",6]
["1975-01-01",6.1]
["1975-04-01",6.3]
["1975-07-01",6.2]
["1975-10-01",5.4]
["1976-01-01",5.5]
["1976-04-01",5.8]
["1976-07-01",5.7]
["1976-10-01",5.3]
["1977-01-01",5.0999999999999996]
["1977-04-01",5.3]
["1977-07-01",5.4]
["1977-10-01",5.0999999999999996]
["1978-01-01",5]
["1978-04-01",5.0999999999999996]
["1978-07-01",5]
["1978-10-01",5]
["1979-01-01",5.0999999999999996]
["1979-04-01",5.5]
["1979-07-01",5.7]
["1979-10-01",5.4]
["1980-01-01",5.2]
["1980-04-01",5.6]
["1980-07-01",5.7]
["1980-10-01",5]
["1981-01-01",5.2]
["1981-04-01",5]
["1981-07-01",5]
["1981-10-01",5]
["1982-01-01",5.3]
["1982-04-01",5.0999999999999996]
["1982-07-01",5.3]
["1982-10-01",5.5]
["1983-01-01",5.7]
["1983-04-01",5.5]
["1983-07-01",5.8]
["1983-10-01",5.5]
["1984-01-01",5.6]
["1984-04-01",5.5]
["1984-07-01",6]
["1984-10-01",6.3]
["1985-01-01",6.3]
["1985-04-01",6.2]
["1985-07-01",6.8]
["1985-10-01",6.7]
["1986-01-01",6.9]
["1986-04-01",7.3]
["1986-07-01",7.5]
["1986-10-01",7.7]
["1987-01-01",7.4]
["1987-04-01",7.5]
["1987-07-01",8.1]
["1987-10-01",7.8]
["1988-01-01",8]
["1988-04-01",7.7]
["1988-07-01",7.8]
["1988-10-01",7.3]
["1989-01-01",7.5]
["1989-04-01",7.4]
["1989-07-01",7.6]
["1989-10-01",7.1]
["1990-01-01",7.5]
["1990-04-01",7]
["1990-07-01",7.2]
["1990-10-01",7.2]
["1991-01-01",7.5]
["1991-04-01",7.3]
["1991-07-01",7.6]
["1991-10-01",7.3]
["1992-01-01",7.4]
["1992-04-01",7.7]
["1992-07-01",7.3]
["1992-10-01",7.1]
["1993-01-01",7.8]
["1993-04-01",7.6]
["1993-07-01",7]
["1993-10-01",6.9]
["1994-01-01",7.5]
["1994-04-01",7.4]
["1994-07-01",7.2]
["1994-10-01",7.4]
["1995-01-01",7.4]
["1995-04-01",7.7]
["1995-07-01",7.7]
["1995-10-01",7.7]
["1996-01-01",7.9]
["1996-04-01",7.8]
["1996-07-01",8]
["1996-10-01",7.7]
["1997-01-01",7.5]
["1997-04-01",7.9]
["1997-07-01",7.9]
["1997-10-01",7.7]
["1998-01-01",7.7]
["1998-04-01",8]
["1998-07-01",8.1999999999999993]
["1998-10-01",7.8]
["1999-01-01",8.1999999999999993]
["1999-04-01",8.1]
["1999-07-01",8.1999999999999993]
["1999-10-01",7.9]
["2000-01-01",7.9]
["2000-04-01",8]
["2000-07-01",8.1999999999999993]
["2000-10-01",7.8]
["2001-01-01",8.1999999999999993]
["2001-04-01",8.3000000000000007]
["2001-07-01",8.4]
["2001-10-01",8.8000000000000007]
["2002-01-01",9.1]
["2002-04-01",8.4]
["2002-07-01",9]
["2002-10-01",9.3000000000000007]
["2003-01-01",9.4]
["2003-04-01",9.6]
["2003-07-01",9.9]
["2003-10-01",10.199999999999999]
["2004-01-01",10.4]
["2004-04-01",10.199999999999999]
["2004-07-01",10.1]
["2004-10-01",10]
["2005-01-01",10.1]
["2005-04-01",9.8000000000000007]
["2005-07-01",9.9]
["2005-10-01",9.6]
["2006-01-01",9.5]
["2006-04-01",9.6]
["2006-07-01",9.9]
["2006-10-01",9.8000000000000007]
["2007-01-01",10.1]
["2007-04-01",9.5]
["2007-07-01",9.8000000000000007]
["2007-10-01",9.6]
["2008-01-01",10.1]
["2008-04-01",10]
["2008-07-01",9.9]
["2008-10-01",10.1]
["2009-01-01",10.1]
["2009-04-01",10.6]
["2009-07-01",11.1]
["2009-10-01",10.7]
["2010-01-01",10.6]
["2010-04-01",10.6]
["2010-07-01",10.3]
["2010-10-01",9.4]
["2011-01-01",9.6999999999999993]
["2011-04-01",9.1999999999999993]
["2011-07-01",9.8000000000000007]
["2011-10-01",9.4]
["2012-01-01",8.8000000000000007]
["2012-04-01",8.6]
["2012-07-01",8.6]
["2012-10-01",8.6999999999999993]
["2013-01-01",8.6]
["2013-04-01",8.1999999999999993]
["2013-07-01",8.3000000000000007]
["2013-10-01",8.1999999999999993]
["2014-01-01",8.3000000000000007]
["2014-04-01",7.5]
["2014-07-01",7.4]
["2014-10-01",7]

{"sheet":"Home Inventory","index":31,"n_rows":88,"n_cols":15,"rows_kept":88,"cut":false,"hidden":false,"merged":[]}
["Title:","Housing","Inventory","Estimate:","Total","Housing","Units","for","the","United","States"]
["Series","ID:","ETOTALUSQ176N"]
["Source:","US.","Bureau","of","the","Census"]
["Release:","Housing","Vacancies","and","Homeownership"]
["Seasonal","Adjustment:","Not","Seasonally","Adjusted"]
["Frequency:","Quarterly"]
["Units:","Thousands","of","Units"]
["Date","Range:","2000-04-01","to","2014-10-01"]
["Last","Updated:","2015-01-29","09:56:00","AM","CST"]
["Notes:","Housing","unit","is","a","house,","an","apartment,","a","group","of","rooms,","or","a","single"]
[null,"room","occupied","or","intended","for","occupancy","as","separate","living","quarters."]
[null,"Separate","living","quarters","are","those","in","which","the","occupants","live"]
[null,"separately","from","others","in","the","structure","and","which","have","direct","access"]
[null,"from","the","outside","of","the","building","or","through","a","common","hall.","For","vacant"]
[null,"units,","the","criteria","of","separateness","and","direct","access","are","applied","to"]
[null,"the","intended","occupants","whenever","possible.","If","the","information","cannot","be"]
[null,"obtained,","the","criteria","are","applied","to","the","previous","occupants.","Tents"]
[null,"and","boats","are","excluded","if","vacant,","used","for","business,","or","used","for","extra"]
[null,"sleeping","space","or","vacations.","Vacant","seasonal/migratory","mobile","homes"]
[null,"are","included","in","the","count","of","vacant","seasonal/migratory","housing","units."]
[null,"Living","quarters","of","the","following","types","are","excluded","from","the","housing"]
[null,"unit","inventory:","Dormitories,","bunkhouses,","and","barracks;","quarters","in"]
[null,"predominantly","transient","hotels,","motels,","and","the","like,","except","those"]
[null,"occupied","by","persons","who","consider","the","hotel","their","usual","place","of"]
[null,"residence;","quarters","in","institutions,","general","hospitals,","and","military"]
[null,"installations","except","those","occupied","by","staff","members","or","resident"]
[null,"employees","who","have","separate","living","arrangements."]
[]
["DATE","VALUE"]
["2000-04-01",116047]
["2000-07-01",116482]
["2000-10-01",116914]
["2001-01-01",117347]
["2001-04-01",117786]
["2001-07-01",118216]
["2001-10-01",118635]
["2002-01-01",119061]
["2002-04-01",119483]
["2002-07-01",119909]
["2002-10-01",120350]
["2003-01-01",120792]
["2003-04-01",121233]
["2003-07-01",121682]
["2003-10-01",122159]
["2004-01-01",122632]
["2004-04-01",123099]
["2004-07-01",123587]
["2004-10-01",124096]
["2005-01-01",124611]
["2005-04-01",125118]
["2005-07-01",125619]
["2005-10-01",126104]
["2006-01-01",126584]
["2006-04-01",127072]
["2006-07-01",127548]
["2006-10-01",127991]
["2007-01-01",128439]
["2007-04-01",128888]
["2007-07-01",129300]
["2007-10-01",129634]
["2008-01-01",129968]
["2008-04-01",130303]
["2008-07-01",130590]
["2008-10-01",130797]
["2009-01-01",131001]
["2009-04-01",131207]
["2009-07-01",131375]
["2009-10-01",131490]
["2010-01-01",131590]
["2010-04-01",131726]
["2010-07-01",131791]
["2010-10-01",131862]
["2011-01-01",131933]
["2011-04-01",132004]
["2011-07-01",132060]
["2011-10-01",132140]
["2012-01-01",132221]
["2012-04-01",132302]
["2012-07-01",132376]
["2012-10-01",132498]
["2013-01-01",132620]
["2013-04-01",132742]
["2013-07-01",132843]
["2013-10-01",132965]
["2014-01-01",133087]
["2014-04-01",133209]
["2014-07-01",133331]
["2014-10-01",133453]

{"sheet":"Home Vacancy Rate","index":32,"n_rows":41,"n_cols":11,"rows_kept":41,"cut":false,"hidden":false,"merged":[]}
["Title:","Home","Vacancy","Rate","for","the","United","States"]
["Series","ID:","USHVAC"]
["Source:","US.","Bureau","of","the","Census"]
["Release:","Residential","Vacancies","and","Homeownership","Annual","Statistics","(Not","a","Press","Release)"]
["Seasonal","Adjustment:","Not","Seasonally","Adjusted"]
["Frequency:","Annual"]
["Units:","Percent"]
["Date","Range:","1986-01-01","to","2014-01-01"]
["Last","Updated:","2015-03-04","11:06:00","AM","CST"]
["Notes:"]
[]
["DATE","VALUE"]
["1986-01-01",1.6]
["1987-01-01",1.7]
["1988-01-01",1.6]
["1989-01-01",1.8]
["1990-01-01",1.7]
["1991-01-01",1.7]
["1992-01-01",1.5]
["1993-01-01",1.4]
["1994-01-01",1.5]
["1995-01-01",1.5]
["1996-01-01",1.6]
["1997-01-01",1.6]
["1998-01-01",1.7]
["1999-01-01",1.7]
["2000-01-01",1.6]
["2001-01-01",1.8]
["2002-01-01",1.7]
["2003-01-01",1.8]
["2004-01-01",1.7]
["2005-01-01",1.9]
["2006-01-01",2.4]
["2007-01-01",2.7]
["2008-01-01",2.8]
["2009-01-01",2.6]
["2010-01-01",2.6]
["2011-01-01",2.5]
["2012-01-01",2]
["2013-01-01",2]
["2014-01-01",1.9]

{"sheet":"Homeowner Vacancy Rate","index":33,"n_rows":249,"n_cols":11,"rows_kept":249,"cut":false,"hidden":false,"merged":[]}
["Title:","Homeowner","Vacancy","Rate","for","the","United","States"]
["Series","ID:","RHVRUSQ156N"]
["Source:","US.","Bureau","of","the","Census"]
["Release:","Housing","Vacancies","and","Homeownership"]
["Seasonal","Adjustment:","Not","Seasonally","Adjusted"]
["Frequency:","Quarterly"]
["Units:","Percent"]
["Date","Range:","1956-01-01","to","2014-10-01"]
["Last","Updated:","2015-01-29","09:56:00","AM","CST"]
["Notes:","The","homeowner","vacancy","rate","is","the","proportion","of","the","homeowner"]
[null,"inventory","that","is","vacant","for","sale."]
[]
["DATE","VALUE"]
["1956-01-01",1]
["1956-04-01",1]
["1956-07-01",1.1000000000000001]
["1956-10-01",0.9]
["1957-01-01",0.9]
["1957-04-01",1]
["1957-07-01",0.9]
["1957-10-01",1]
["1958-01-01",1.2]
["1958-04-01",1.2]
["1958-07-01",1.2]
["1958-10-01",1.2]
["1959-01-01",1.1000000000000001]
["1959-04-01",1.3]
["1959-07-01",1.2]
["1959-10-01",1.1000000000000001]
["1960-01-01",1.2]
["1960-04-01",1.3]
["1960-07-01",1.3]
["1960-10-01",1.3]
["1961-01-01",1.3]
["1961-04-01",1.5]
["1961-07-01",1.5]
["1961-10-01",1.3]
["1962-01-01",1.3]
["1962-04-01",1.4]
["1962-07-01",1.4]
["1962-10-01",1.5]
["1963-01-01",1.5]
["1963-04-01",1.5]
["1963-07-01",1.7]
["1963-10-01",1.5]
["1964-01-01",1.4]
["1964-04-01",1.5]
["1964-07-01",1.5]
["1964-10-01",1.5]
["1965-01-01",1.7]
["1965-04-01",1.5]
["1965-07-01",1.6]
["1965-10-01",1.5]
["1966-01-01",1.5]
["1966-04-01",1.5]
["1966-07-01",1.4]
["1966-10-01",1.3]
["1967-01-01",1.4]
["1967-04-01",1.3]
["1967-07-01",1.4]
["1967-10-01",1.3]
["1968-01-01",1.1000000000000001]
["1968-04-01",1.1000000000000001]
["1968-07-01",1.2]
["1968-10-01",1.2]
["1969-01-01",1]
["1969-04-01",1]
["1969-07-01",1.1000000000000001]
["1969-10-01",1]
["1970-01-01",1]
["1970-04-01",1]
["1970-07-01",1.1000000000000001]
["1970-10-01",1.1000000000000001]
["1971-01-01",1]
["1971-04-01",0.9]
["1971-07-01",1]
["1971-10-01",1]
["1972-01-01",1]
["1972-04-01",1]
["1972-07-01",0.9]
["1972-10-01",1]
["1973-01-01",1]
["1973-04-01",0.9]
["1973-07-01",1.1000000000000001]
["1973-10-01",1.2]
["1974-01-01",1.2]
["1974-04-01",1.1000000000000001]
["1974-07-01",1.2]
["1974-10-01",1.3]
["1975-01-01",1.2]
["1975-04-01",1.2]
["1975-07-01",1.4]
["1975-10-01",1.2]
["1976-01-01",1.2]
["1976-04-01",1.2]
["1976-07-01",1.3]
["1976-10-01",1.2]
["1977-01-01",1.3]
["1977-04-01",1.3]
["1977-07-01",1.1000000000000001]
["1977-10-01",1]
["1978-01-01",1]
["1978-04-01",0.9]
["1978-07-01",1]
["1978-10-01",1.1000000000000001]
["1979-01-01",1.1000000000000001]
["1979-04-01",1.1000000000000001]
["1979-07-01",1.2]
["1979-10-01",1.3]
["1980-01-01",1.3]
["1980-04-01",1.4]
["1980-07-01",1.4]
["1980-10-01",1.4]
["1981-01-01",1.3]
["1981-04-01",1.3]
["1981-07-01",1.5]
["1981-10-01",1.4]
["1982-01-01",1.4]
["1982-04-01",1.6]
["1982-07-01",1.5]
["1982-10-01",1.6]
["1983-01-01",1.4]
["1983-04-01",1.5]
["1983-07-01",1.6]
["1983-10-01",1.6]
["1984-01-01",1.6]
["1984-04-01",1.7]
["1984-07-01",1.7]
["1984-10-01",1.7]
["1985-01-01",1.8]
["1985-04-01",1.9]
["1985-07-01",1.8]
["1985-10-01",1.6]
["1986-01-01",1.5]
["1986-04-01",1.7]
["1986-07-01",1.6]
["1986-10-01",1.6]
["1987-01-01",1.7]
["1987-04-01",1.7]
["1987-07-01",1.7]
["1987-10-01",1.6]
["1988-01-01",1.6]
["1988-04-01",1.6]
["1988-07-01",1.6]
["1988-10-01",1.6]
["1989-01-01",1.7]
["1989-04-01",1.7]
["1989-07-01",1.9]
["1989-10-01",1.8]
["1990-01-01",1.7]
["1990-04-01",1.7]
["1990-07-01",1.7]
["1990-10-01",1.7]
["1991-01-01",1.7]
["1991-04-01",1.8]
["1991-07-01",1.8]
["1991-10-01",1.6]
["1992-01-01",1.5]
["1992-04-01",1.6]
["1992-07-01",1.6]
["1992-10-01",1.5]
["1993-01-01",1.4]
["1993-04-01",1.4]
["1993-07-01",1.4]
["1993-10-01",1.4]
["1994-01-01",1.4]
["1994-04-01",1.4]
["1994-07-01",1.4]
["1994-10-01",1.6]
["1995-01-01",1.5]
["1995-04-01",1.6]
["1995-07-01",1.5]
["1995-10-01",1.6]
["1996-01-01",1.6]
["1996-04-01",1.5]
["1996-07-01",1.7]
["1996-10-01",1.7]
["1997-01-01",1.7]
["1997-04-01",1.6]
["1997-07-01",1.5]
["1997-10-01",1.7]
["1998-01-01",1.7]
["1998-04-01",1.7]
["1998-07-01",1.7]
["1998-10-01",1.8]
["1999-01-01",1.8]
["1999-04-01",1.6]
["1999-07-01",1.6]
["1999-10-01",1.6]
["2000-01-01",1.6]
["2000-04-01",1.5]
["2000-07-01",1.6]
["2000-10-01",1.6]
["2001-01-01",1.5]
["2001-04-01",1.8]
["2001-07-01",1.9]
["2001-10-01",1.8]
["2002-01-01",1.7]
["2002-04-01",1.7]
["2002-07-01",1.7]
["2002-10-01",1.7]
["2003-01-01",1.7]
["2003-04-01",1.7]
["2003-07-01",1.9]
["2003-10-01",1.8]
["2004-01-01",1.7]
["2004-04-01",1.7]
["2004-07-01",1.7]
["2004-10-01",1.8]
["2005-01-01",1.8]
["2005-04-01",1.8]
["2005-07-01",1.9]
["2005-10-01",2]
["2006-01-01",2.1]
["2006-04-01",2.2000000000000002]
["2006-07-01",2.5]
["2006-10-01",2.7]
["2007-01-01",2.8]
["2007-04-01",2.6]
["2007-07-01",2.7]
["2007-10-01",2.8]
["2008-01-01",2.9]
["2008-04-01",2.8]
["2008-07-01",2.8]
["2008-10-01",2.9]
["2009-01-01",2.7]
["2009-04-01",2.5]
["2009-07-01",2.6]
["2009-10-01",2.7]
["2010-01-01",2.6]
["2010-04-01",2.5]
["2010-07-01",2.5]
["2010-10-01",2.7]
["2011-01-01",2.6]
["2011-04-01",2.5]
["2011-07-01",2.4]
["2011-10-01",2.2999999999999998]
["2012-01-01",2.2000000000000002]
["2012-04-01",2.1]
["2012-07-01",1.9]
["2012-10-01",1.9]
["2013-01-01",2.1]
["2013-04-01",1.9]
["2013-07-01",1.9]
["2013-10-01",2.1]
["2014-01-01",2]
["2014-04-01",1.9]
["2014-07-01",1.8]
["2014-10-01",1.9]

{"sheet":"Vacant Units for Sale","index":34,"n_rows":76,"n_cols":16,"rows_kept":76,"cut":false,"hidden":false,"merged":[]}
["Title:","Housing","Inventory","Estimate:","Vacant","Housing","Units","for","Sale","for","the","United","States"]
["Series","ID:","ESALEUSQ176N"]
["Source:","US.","Bureau","of","the","Census"]
["Release:","Housing","Vacancies","and","Homeownership"]
["Seasonal","Adjustment:","Not","Seasonally","Adjusted"]
["Frequency:","Quarterly"]
["Units:","Thousands","of","Units"]
["Date","Range:","2000-04-01","to","2014-10-01"]
["Last","Updated:","2015-01-29","09:56:00","AM","CST"]
["Notes:","This","group","is","limited","to","units","for","sale","only;","it","excludes","units","both"]
[null,"for","rent","and","sale.","If","a","unit","was","located","in","a","multi-unit","structure"]
[null,"which","was","for","sale","as","an","entire","structure","and","if","the","unit","was","not","for"]
[null,"rent,","it","was","reported","as","held off market.","However,","if","the","individual"]
[null,"unit","was","intended","to","be","occupied","by","the","new","owner,","it","was","reported","as"]
[null,"for sale."]
[]
["DATE","VALUE"]
["2000-04-01",1031]
["2000-07-01",1144]
["2000-10-01",1154]
["2001-01-01",1104]
["2001-04-01",1258]
["2001-07-01",1375]
["2001-10-01",1315]
["2002-01-01",1200]
["2002-04-01",1229]
["2002-07-01",1218]
["2002-10-01",1249]
["2003-01-01",1248]
["2003-04-01",1256]
["2003-07-01",1419]
["2003-10-01",1339]
["2004-01-01",1283]
["2004-04-01",1272]
["2004-07-01",1333]
["2004-10-01",1389]
["2005-01-01",1401]
["2005-04-01",1384]
["2005-07-01",1500]
["2005-10-01",1585]
["2006-01-01",1593]
["2006-04-01",1746]
["2006-07-01",1954]
["2006-10-01",2121]
["2007-01-01",2198]
["2007-04-01",2055]
["2007-07-01",2093]
["2007-10-01",2194]
["2008-01-01",2286]
["2008-04-01",2175]
["2008-07-01",2230]
["2008-10-01",2228]
["2009-01-01",2123]
["2009-04-01",1921]
["2009-07-01",2000]
["2009-10-01",2100]
["2010-01-01",2006]
["2010-04-01",1975]
["2010-07-01",1949]
["2010-10-01",2066]
["2011-01-01",2003]
["2011-04-01",1956]
["2011-07-01",1858]
["2011-10-01",1779]
["2012-01-01",1648]
["2012-04-01",1590]
["2012-07-01",1470]
["2012-10-01",1493]
["2013-01-01",1603]
["2013-04-01",1460]
["2013-07-01",1470]
["2013-10-01",1587]
["2014-01-01",1521]
["2014-04-01",1425]
["2014-07-01",1370]
["2014-10-01",1449]

{"sheet":"Occupied Housing","index":35,"n_rows":76,"n_cols":15,"rows_kept":76,"cut":false,"hidden":false,"merged":[]}
["Title:","Housing","Inventory","Estimate:","Occupied","Housing","Units","for","the","United","States"]
["Series","ID:","EOCCUSQ176N"]
["Source:","US.","Bureau","of","the","Census"]
["Release:","Housing","Vacancies","and","Homeownership"]
["Seasonal","Adjustment:","Not","Seasonally","Adjusted"]
["Frequency:","Quarterly"]
["Units:","Thousands","of","Units"]
["Date","Range:","2000-04-01","to","2014-10-01"]
["Last","Updated:","2015-01-29","09:56:00","AM","CST"]
["Notes:","A","housing","unit","is","occupied","if","a","person","or","group","of","persons","is","living"]
[null,"in","it","at","the","time","of","the","interview","or","if","the","occupants","are","only"]
[null,"temporarily","absent,","as","for","example,","on","vacation.","The","persons","living","in"]
[null,"the","unit","must","consider","it","their","usual","place","of","residence","or","have","no"]
[null,"usual","place","of","residence","elsewhere.","The","count","of","occupied","housing"]
[null,"units","is","the","same","as","the","count","of","households."]
[]
["DATE","VALUE"]
["2000-04-01",102274]
["2000-07-01",102896]
["2000-10-01",103646]
["2001-01-01",103456]
["2001-04-01",103411]
["2001-07-01",104228]
["2001-10-01",104698]
["2002-01-01",104719]
["2002-04-01",105276]
["2002-07-01",105527]
["2002-10-01",105759]
["2003-01-01",105884]
["2003-04-01",105989]
["2003-07-01",106068]
["2003-10-01",106505]
["2004-01-01",106738]
["2004-04-01",107020]
["2004-07-01",107932]
["2004-10-01",108735]
["2005-01-01",108863]
["2005-04-01",109057]
["2005-07-01",109736]
["2005-10-01",110281]
["2006-01-01",110350]
["2006-04-01",110560]
["2006-07-01",110779]
["2006-10-01",111096]
["2007-01-01",110715]
["2007-04-01",111342]
["2007-07-01",111251]
["2007-10-01",111724]
["2008-01-01",111326]
["2008-04-01",111601]
["2008-07-01",111939]
["2008-10-01",111823]
["2009-01-01",111862]
["2009-04-01",112453]
["2009-07-01",112381]
["2009-10-01",112485]
["2010-01-01",112468]
["2010-04-01",112708]
["2010-07-01",112870]
["2010-10-01",113331]
["2011-01-01",112961]
["2011-04-01",113198]
["2011-07-01",113298]
["2011-10-01",113801]
["2012-01-01",113803]
["2012-04-01",113845]
["2012-07-01",114298]
["2012-10-01",114636]
["2013-01-01",114248]
["2013-04-01",114669]
["2013-07-01",114769]
["2013-10-01",114992]
["2014-01-01",114762]
["2014-04-01",115127]
["2014-07-01",115310]
["2014-10-01",116647]

{"sheet":"Year Around Vacant Housing","index":36,"n_rows":78,"n_cols":16,"rows_kept":78,"cut":false,"hidden":false,"merged":[]}
["Title:","Housing","Inventory","Estimate:","Year-Round","Vacant","Housing","Units","for","the","United","States"]
["Series","ID:","EYRVACUSQ176N"]
["Source:","US.","Bureau","of","the","Census"]
["Release:","Housing","Vacancies","and","Homeownership"]
["Seasonal","Adjustment:","Not","Seasonally","Adjusted"]
["Frequency:","Quarterly"]
["Units:","Thousands","of","Units"]
["Date","Range:","2000-04-01","to","2014-10-01"]
["Last","Updated:","2015-01-29","09:56:00","AM","CST"]
["Notes:","Beginning","in","1990,","year-round","vacant","mobile","homes","were","included","as"]
[null,"part","of","the","year-round","vacant","count","of","housing","units.","Year-round","units"]
[null,"are","those","intended","for","occupancy","at","any","time","of","the","year,","even","though"]
[null,"they","may","not","be","in","use","the","year","round.","In","resort","areas,","a","housing","unit"]
[null,"which","is","usually","occupied","on","a","year-round","basis","is","considered","a"]
[null,"year-round","unit.","As","indicated","above,","year-round","units","temporarily"]
[null,"occupied","by","persons","with","usual","residence","elsewhere","are","included","with"]
[null,"year-round","vacant","units."]
[]
["DATE","VALUE"]
["2000-04-01",10341]
["2000-07-01",10290]
["2000-10-01",9910]
["2001-01-01",10458]
["2001-04-01",10722]
["2001-07-01",10578]
["2001-10-01",10609]
["2002-01-01",10787]
["2002-04-01",10659]
["2002-07-01",10747]
["2002-10-01",11035]
["2003-01-01",11370]
["2003-04-01",11663]
["2003-07-01",11859]
["2003-10-01",11882]
["2004-01-01",12168]
["2004-04-01",12055]
["2004-07-01",11966]
["2004-10-01",11804]
["2005-01-01",12110]
["2005-04-01",12107]
["2005-07-01",12003]
["2005-10-01",12012]
["2006-01-01",12288]
["2006-04-01",12498]
["2006-07-01",12738]
["2006-10-01",12806]
["2007-01-01",13514]
["2007-04-01",13176]
["2007-07-01",13450]
["2007-10-01",13428]
["2008-01-01",13909]
["2008-04-01",13906]
["2008-07-01",13856]
["2008-10-01",14177]
["2009-01-01",14220]
["2009-04-01",14130]
["2009-07-01",14342]
["2009-10-01",14348]
["2010-01-01",14467]
["2010-04-01",14548]
["2010-07-01",14439]
["2010-10-01",14204]
["2011-01-01",14362]
["2011-04-01",14245]
["2011-07-01",14394]
["2011-10-01",13841]
["2012-01-01",13953]
["2012-04-01",13979]
["2012-07-01",13536]
["2012-10-01",13548]
["2013-01-01",13921]
["2013-04-01",13699]
["2013-07-01",13603]
["2013-10-01",13551]
["2014-01-01",13791]
["2014-04-01",13596]
["2014-07-01",13447]
["2014-10-01",12683]

{"sheet":"Consumer Price Index","index":37,"n_rows":873,"n_cols":15,"rows_kept":873,"cut":false,"hidden":false,"merged":[]}
["Title:","Consumer","Price","Index","for","All","Urban","Consumers:","All","Items"]
["Series","ID:","CPIAUCSL"]
["Source:","US.","Bureau","of","Labor","Statistics"]
["Release:","Consumer","Price","Index"]
["Seasonal","Adjustment:","Seasonally","Adjusted"]
["Frequency:","Monthly"]
["Units:","Index","1982-84=100"]
["Date","Range:","1947-01-01","to","2015-03-01"]
["Last","Updated:","2015-04-17","09:20:00","AM","CDT"]
["Notes:","Handbook","of","Methods","-","(http://www.bls.gov/opub/hom/pdf/homch17.pdf)"]
[null,"Understanding","the","CPI:","Frequently","Asked","Questions","-"]
[null,"(http://stats.bls.gov:80/cpi/cpifaq.htm)"]
[]
[null,"The","Consumer","Price","Index","for","All","Urban","Consumers:","All","Items","(CPIAUCSL)"]
[null,"is","a","measure","of","the","average","monthly","change","in","the","price","for","goods","and"]
[null,"services","paid","by","urban","consumers","between","any","two","time","periods.(1)","It"]
[null,"can","also","represent","the","buying","habits","of","urban","consumers.","This"]
[null,"particular","index","includes","roughly",88,"percent","of","the","total","population,"]
[null,"accounting","for","wage","earners,","clerical","workers,","technical","workers,"]
[null,"self-employed,","short-term","workers,","unemployed,","retirees,","and","those","not"]
[null,"in","the","labor","force.(1)"]
[null,"The","CPIs","are","based","on","prices","for","food,","clothing,","shelter,","and","fuels;"]
[null,"transportation","fares;","service","fees","(e.g.,","water","and","sewer","service);"]
[null,"and","sales","taxes.","Prices","are","collected","monthly","from","about",4000,"housing"]
[null,"units","and","approximately",26000,"retail","establishments","across",87,"urban"]
[null,"areas.(1)","To","calculate","the","index,","price","changes","are","averaged","with"]
[null,"weights","representing","their","importance","in","the","spending","of","the"]
[null,"particular","group.","The","index","measures","price","changes","(as","a","percent"]
[null,"change)","from","a","predetermined","reference","date.(1)","In","addition","to","the"]
[null,"original","unadjusted","index","distributed,","the","Bureau","of","Labor","Statistics"]
[null,"also","releases","a","seasonally","adjusted","index.","The","unadjusted","series"]
[null,"reflects","all","factors","that","may","influence","a","change","in","prices.","However,"]
[null,"it","can","be","very","useful","to","look","at","the","seasonally","adjusted","CPI,","which"]
[null,"removes","the","effects","of","seasonal","changes,","such","as","weather,","school","year,"]
[null,"production","cycles,","and","holidays.(1)"]
[null,"The","CPI","can","be","used","to","recognize","periods","of","inflation","and","deflation."]
[null,"Significant","increases","in","the","CPI","within","a","short","time","frame","might"]
[null,"indicate","a","period","of","inflation,","and","significant","decreases","in","CPI"]
[null,"within","a","short","time","frame","might","indicate","a","period","of","deflation."]
[null,"However,","because","the","CPI","includes","volatile","food","and","oil","prices,","it"]
[null,"might","not","be","a","reliable","measure","of","inflationary","and","deflationary"]
[null,"periods.","For","a","more","accurate","detection,","the","core","CPI","(Consumer","Price"]
[null,"Index","for","All","Urban","Consumers:","All","Items","Less","Food","&","Energy"]
[null,"[CPILFESL])","is","often","used.","When","using","the","CPI,","please","note","that","it","is"]
[null,"not","applicable","to","all","consumers","and","should","not","be","used","to","determine"]
[null,"relative","living","costs.(1)","Additionally,","the","CPI","is","a","statistical"]
[null,"measure","vulnerable","to","sampling","error","since","it","is","based","on","a","sample","of"]
[null,"prices","and","not","the","complete","average.(1)"]
[]
[null,"For","more","information","on","the","consumer","price","indexes,","see:"]
[null,-1,"Bureau","of","Economic","Analysis.","â€œCPI","Detailed","Report.â€\u009d","2013;"]
[null,"http://www.bls.gov/cpi/."]
[]
["DATE","VALUE"]
["1947-01-01",21.48]
["1947-02-01",21.62]
["1947-03-01",22]
["1947-04-01",22]
["1947-05-01",21.95]
["1947-06-01",22.08]
["1947-07-01",22.23]
["1947-08-01",22.4]
["1947-09-01",22.84]
["1947-10-01",22.91]
["1947-11-01",23.06]
["1947-12-01",23.41]
["1948-01-01",23.68]
["1948-02-01",23.67]
["1948-03-01",23.5]
["1948-04-01",23.82]
["1948-05-01",24.01]
["1948-06-01",24.15]
["1948-07-01",24.4]
["1948-08-01",24.43]
["1948-09-01",24.36]
["1948-10-01",24.31]
["1948-11-01",24.16]
["1948-12-01",24.05]
["1949-01-01",24.01]
["1949-02-01",23.91]
["1949-03-01",23.91]
["1949-04-01",23.92]
["1949-05-01",23.91]
["1949-06-01",23.92]
["1949-07-01",23.7]
["1949-08-01",23.7]
["1949-09-01",23.75]
["1949-10-01",23.67]
["1949-11-01",23.7]
["1949-12-01",23.61]
["1950-01-01",23.51]
["1950-02-01",23.61]
["1950-03-01",23.64]
["1950-04-01",23.65]
["1950-05-01",23.77]
["1950-06-01",23.88]
["1950-07-01",24.07]
["1950-08-01",24.2]
["1950-09-01",24.34]
["1950-10-01",24.5]
["1950-11-01",24.6]
["1950-12-01",24.98]
["1951-01-01",25.38]
["1951-02-01",25.83]
["1951-03-01",25.88]
["1951-04-01",25.92]
["1951-05-01",25.99]
["1951-06-01",25.93]
["1951-07-01",25.91]
["1951-08-01",25.86]
["1951-09-01",26.03]
["1951-10-01",26.16]
["1951-11-01",26.32]
["1951-12-01",26.47]
["1952-01-01",26.45]
["1952-02-01",26.41]
["1952-03-01",26.39]
["1952-04-01",26.46]
["1952-05-01",26.47]
["1952-06-01",26.53]
["1952-07-01",26.68]
["1952-08-01",26.69]
["1952-09-01",26.63]
["1952-10-01",26.69]
["1952-11-01",26.69]
["1952-12-01",26.71]
["1953-01-01",26.64]
["1953-02-01",26.59]
["1953-03-01",26.63]
["1953-04-01",26.69]
["1953-05-01",26.7]
["1953-06-01",26.77]
["1953-07-01",26.79]
["1953-08-01",26.85]
["1953-09-01",26.89]
["1953-10-01",26.95]
["1953-11-01",26.85]
["1953-12-01",26.87]
["1954-01-01",26.94]
["1954-02-01",26.99]
["1954-03-01",26.93]
["1954-04-01",26.86]
["1954-05-01",26.93]
["1954-06-01",26.94]
["1954-07-01",26.86]
["1954-08-01",26.85]
["1954-09-01",26.81]
["1954-10-01",26.72]
["1954-11-01",26.78]
["1954-12-01",26.77]
["1955-01-01",26.77]
["1955-02-01",26.82]
["1955-03-01",26.79]
["1955-04-01",26.79]
["1955-05-01",26.77]
["1955-06-01",26.71]
["1955-07-01",26.76]
["1955-08-01",26.72]
["1955-09-01",26.85]
["1955-10-01",26.82]
["1955-11-01",26.88]
["1955-12-01",26.87]
["1956-01-01",26.83]
["1956-02-01",26.86]
["1956-03-01",26.89]
["1956-04-01",26.93]
["1956-05-01",27.03]
["1956-06-01",27.15]
["1956-07-01",27.29]
["1956-08-01",27.31]
["1956-09-01",27.35]
["1956-10-01",27.51]
["1956-11-01",27.51]
["1956-12-01",27.63]
["1957-01-01",27.67]
["1957-02-01",27.8]
["1957-03-01",27.86]
["1957-04-01",27.93]
["1957-05-01",28]
["1957-06-01",28.11]
["1957-07-01",28.19]
["1957-08-01",28.28]
["1957-09-01",28.32]
["1957-10-01",28.32]
["1957-11-01",28.41]
["1957-12-01",28.47]
["1958-01-01",28.64]
["1958-02-01",28.7]
["1958-03-01",28.87]
["1958-04-01",28.94]
["1958-05-01",28.94]
["1958-06-01",28.91]
["1958-07-01",28.89]
["1958-08-01",28.94]
["1958-09-01",28.91]
["1958-10-01",28.91]
["1958-11-01",28.95]
["1958-12-01",28.97]
["1959-01-01",29.01]
["1959-02-01",29]
["1959-03-01",28.97]
["1959-04-01",28.98]
["1959-05-01",29.04]
["1959-06-01",29.11]
["1959-07-01",29.15]
["1959-08-01",29.18]
["1959-09-01",29.25]
["1959-10-01",29.35]
["1959-11-01",29.35]
["1959-12-01",29.41]
["1960-01-01",29.37]
["1960-02-01",29.41]
["1960-03-01",29.41]
["1960-04-01",29.54]
["1960-05-01",29.57]
["1960-06-01",29.61]
["1960-07-01",29.55]
["1960-08-01",29.61]
["1960-09-01",29.61]
["1960-10-01",29.75]
["1960-11-01",29.78]
["1960-12-01",29.81]
["1961-01-01",29.84]
["1961-02-01",29.84]
["1961-03-01",29.84]
["1961-04-01",29.81]
["1961-05-01",29.84]
["1961-06-01",29.84]
["1961-07-01",29.92]
["1961-08-01",29.94]
["1961-09-01",29.98]
["1961-10-01",29.98]
["1961-11-01",29.98]
["1961-12-01",30.01]
["1962-01-01",30.04]
["1962-02-01",30.11]
["1962-03-01",30.17]
["1962-04-01",30.21]
["1962-05-01",30.24]
["1962-06-01",30.21]
["1962-07-01",30.22]
["1962-08-01",30.28]
["1962-09-01",30.42]
["1962-10-01",30.38]
["1962-11-01",30.38]
["1962-12-01",30.38]
["1963-01-01",30.44]
["1963-02-01",30.48]
["1963-03-01",30.51]
["1963-04-01",30.48]
["1963-05-01",30.51]
["1963-06-01",30.61]
["1963-07-01",30.69]
["1963-08-01",30.75]
["1963-09-01",30.72]
["1963-10-01",30.75]
["1963-11-01",30.78]
["1963-12-01",30.88]
["1964-01-01",30.94]
["1964-02-01",30.91]
["1964-03-01",30.94]
["1964-04-01",30.95]
["1964-05-01",30.98]
["1964-06-01",31.01]
["1964-07-01",31.02]
["1964-08-01",31.05]
["1964-09-01",31.08]
["1964-10-01",31.12]
["1964-11-01",31.21]
["1964-12-01",31.25]
["1965-01-01",31.28]
["1965-02-01",31.28]
["1965-03-01",31.31]
["1965-04-01",31.38]
["1965-05-01",31.48]
["1965-06-01",31.61]
["1965-07-01",31.58]
["1965-08-01",31.55]
["1965-09-01",31.62]
["1965-10-01",31.65]
["1965-11-01",31.75]
["1965-12-01",31.85]
["1966-01-01",31.88]
["1966-02-01",32.08]
["1966-03-01",32.18]
["1966-04-01",32.28]
["1966-05-01",32.35]
["1966-06-01",32.380000000000003]
["1966-07-01",32.450000000000003]
["1966-08-01",32.65]
["1966-09-01",32.75]
["1966-10-01",32.85]
["1966-11-01",32.880000000000003]
["1966-12-01",32.92]
["1967-01-01",32.9]
["1967-02-01",33]
["1967-03-01",33]
["1967-04-01",33.1]
["1967-05-01",33.1]
["1967-06-01",33.299999999999997]
["1967-07-01",33.4]
["1967-08-01",33.5]
["1967-09-01",33.6]
["1967-10-01",33.700000000000003]
["1967-11-01",33.9]
["1967-12-01",34]
["1968-01-01",34.1]
["1968-02-01",34.200000000000003]
["1968-03-01",34.299999999999997]
["1968-04-01",34.4]
["1968-05-01",34.5]
["1968-06-01",34.700000000000003]
["1968-07-01",34.9]
["1968-08-01",35]
["1968-09-01",35.1]
["1968-10-01",35.299999999999997]
["1968-11-01",35.4]
["1968-12-01",35.6]
["1969-01-01",35.700000000000003]
["1969-02-01",35.799999999999997]
["1969-03-01",36.1]
["1969-04-01",36.299999999999997]
["1969-05-01",36.4]
["1969-06-01",36.6]
["1969-07-01",36.799999999999997]
["1969-08-01",36.9]
["1969-09-01",37.1]
["1969-10-01",37.299999999999997]
["1969-11-01",37.5]
["1969-12-01",37.700000000000003]
["1970-01-01",37.9]
["1970-02-01",38.1]
["1970-03-01",38.299999999999997]
["1970-04-01",38.5]
["1970-05-01",38.6]
["1970-06-01",38.799999999999997]
["1970-07-01",38.9]
["1970-08-01",39]
["1970-09-01",39.200000000000003]
["1970-10-01",39.4]
["1970-11-01",39.6]
["1970-12-01",39.799999999999997]
["1971-01-01",39.9]
["1971-02-01",39.9]
["1971-03-01",40]
["1971-04-01",40.1]
["1971-05-01",40.299999999999997]
["1971-06-01",40.5]
["1971-07-01",40.6]
["1971-08-01",40.700000000000003]
["1971-09-01",40.799999999999997]
["1971-10-01",40.9]
["1971-11-01",41]
["1971-12-01",41.1]
["1972-01-01",41.2]
["1972-02-01",41.4]
["1972-03-01",41.4]
["1972-04-01",41.5]
["1972-05-01",41.6]
["1972-06-01",41.7]
["1972-07-01",41.8]
["1972-08-01",41.9]
["1972-09-01",42.1]
["1972-10-01",42.2]
["1972-11-01",42.4]
["1972-12-01",42.5]
["1973-01-01",42.7]
["1973-02-01",43]
["1973-03-01",43.4]
["1973-04-01",43.7]
["1973-05-01",43.9]
["1973-06-01",44.2]
["1973-07-01",44.2]
["1973-08-01",45]
["1973-09-01",45.2]
["1973-10-01",45.6]
["1973-11-01",45.9]
["1973-12-01",46.3]
["1974-01-01",46.8]
["1974-02-01",47.3]
["1974-03-01",47.8]
["1974-04-01",48.1]
["1974-05-01",48.6]
["1974-06-01",49]
["1974-07-01",49.3]
["1974-08-01",49.9]
["1974-09-01",50.6]
["1974-10-01",51]
["1974-11-01",51.5]
["1974-12-01",51.9]
["1975-01-01",52.3]
["1975-02-01",52.6]
["1975-03-01",52.8]
["1975-04-01",53]
["1975-05-01",53.1]
["1975-06-01",53.5]
["1975-07-01",54]
["1975-08-01",54.2]
["1975-09-01",54.6]
["1975-10-01",54.9]
["1975-11-01",55.3]
["1975-12-01",55.6]
["1976-01-01",55.8]
["1976-02-01",55.9]
["1976-03-01",56]
["1976-04-01",56.1]
["1976-05-01",56.4]
["1976-06-01",56.7]
["1976-07-01",57]
["1976-08-01",57.3]
["1976-09-01",57.6]
["1976-10-01",57.9]
["1976-11-01",58.1]
["1976-12-01",58.4]
["1977-01-01",58.7]
["1977-02-01",59.3]
["1977-03-01",59.6]
["1977-04-01",60]
["1977-05-01",60.2]
["1977-06-01",60.5]
["1977-07-01",60.8]
["1977-08-01",61.1]
["1977-09-01",61.3]
["1977-10-01",61.6]
["1977-11-01",62]
["1977-12-01",62.3]
["1978-01-01",62.7]
["1978-02-01",63]
["1978-03-01",63.4]
["1978-04-01",63.9]
["1978-05-01",64.5]
["1978-06-01",65]
["1978-07-01",65.5]
["1978-08-01",65.900000000000006]
["1978-09-01",66.5]
["1978-10-01",67.099999999999994]
["1978-11-01",67.5]
["1978-12-01",67.900000000000006]
["1979-01-01",68.5]
["1979-02-01",69.2]
["1979-03-01",69.900000000000006]
["1979-04-01",70.599999999999994]
["1979-05-01",71.400000000000006]
["1979-06-01",72.2]
["1979-07-01",73]
["1979-08-01",73.7]
["1979-09-01",74.400000000000006]
["1979-10-01",75.2]
["1979-11-01",76]
["1979-12-01",76.900000000000006]
["1980-01-01",78]
["1980-02-01",79]
["1980-03-01",80.099999999999994]
["1980-04-01",80.900000000000006]
["1980-05-01",81.7]
["1980-06-01",82.5]
["1980-07-01",82.6]
["1980-08-01",83.2]
["1980-09-01",83.9]
["1980-10-01",84.7]
["1980-11-01",85.6]
["1980-12-01",86.4]
["1981-01-01",87.2]
["1981-02-01",88]
["1981-03-01",88.6]
["1981-04-01",89.1]
["1981-05-01",89.7]
["1981-06-01",90.5]
["1981-07-01",91.5]
["1981-08-01",92.2]
["1981-09-01",93.1]
["1981-10-01",93.4]
["1981-11-01",93.8]
["1981-12-01",94.1]
["1982-01-01",94.4]
["1982-02-01",94.7]
["1982-03-01",94.7]
["1982-04-01",95]
["1982-05-01",95.9]
["1982-06-01",97]
["1982-07-01",97.5]
["1982-08-01",97.7]
["1982-09-01",97.7]
["1982-10-01",98.1]
["1982-11-01",98]
["1982-12-01",97.7]
["1983-01-01",97.9]
["1983-02-01",98]
["1983-03-01",98.1]
["1983-04-01",98.8]
["1983-05-01",99.2]
["1983-06-01",99.4]
["1983-07-01",99.8]
["1983-08-01",100.1]
["1983-09-01",100.4]
["1983-10-01",100.8]
["1983-11-01",101.1]
["1983-12-01",101.4]
["1984-01-01",102.1]
["1984-02-01",102.6]
["1984-03-01",102.9]
["1984-04-01",103.3]
["1984-05-01",103.5]
["1984-06-01",103.7]
["1984-07-01",104.1]
["1984-08-01",104.4]
["1984-09-01",104.7]
["1984-10-01",105.1]
["1984-11-01",105.3]
["1984-12-01",105.5]
["1985-01-01",105.7]
["1985-02-01",106.3]
["1985-03-01",106.8]
["1985-04-01",107]
["1985-05-01",107.2]
["1985-06-01",107.5]
["1985-07-01",107.7]
["1985-08-01",107.9]
["1985-09-01",108.1]
["1985-10-01",108.5]
["1985-11-01",109]
["1985-12-01",109.5]
["1986-01-01",109.9]
["1986-02-01",109.7]
["1986-03-01",109.1]
["1986-04-01",108.7]
["1986-05-01",109]
["1986-06-01",109.4]
["1986-07-01",109.5]
["1986-08-01",109.6]
["1986-09-01",110]
["1986-10-01",110.2]
["1986-11-01",110.4]
["1986-12-01",110.8]
["1987-01-01",111.4]
["1987-02-01",111.8]
["1987-03-01",112.2]
["1987-04-01",112.7]
["1987-05-01",113]
["1987-06-01",113.5]
["1987-07-01",113.8]
["1987-08-01",114.3]
["1987-09-01",114.7]
["1987-10-01",115]
["1987-11-01",115.4]
["1987-12-01",115.6]
["1988-01-01",116]
["1988-02-01",116.2]
["1988-03-01",116.5]
["1988-04-01",117.2]
["1988-05-01",117.5]
["1988-06-01",118]
["1988-07-01",118.5]
["1988-08-01",119]
["1988-09-01",119.5]
["1988-10-01",119.9]
["1988-11-01",120.3]
["1988-12-01",120.7]
["1989-01-01",121.2]
["1989-02-01",121.6]
["1989-03-01",122.2]
["1989-04-01",123.1]
["1989-05-01",123.7]
["1989-06-01",124.1]
["1989-07-01",124.5]
["1989-08-01",124.5]
["1989-09-01",124.8]
["1989-10-01",125.4]
["1989-11-01",125.9]
["1989-12-01",126.3]
["1990-01-01",127.5]
["1990-02-01",128]
["1990-03-01",128.6]
["1990-04-01",128.9]
["1990-05-01",129.1]
["1990-06-01",129.9]
["1990-07-01",130.5]
["1990-08-01",131.6]
["1990-09-01",132.5]
["1990-10-01",133.4]
["1990-11-01",133.69999999999999]
["1990-12-01",134.19999999999999]
["1991-01-01",134.69999999999999]
["1991-02-01",134.80000000000001]
["1991-03-01",134.80000000000001]
["1991-04-01",135.1]
["1991-05-01",135.6]
["1991-06-01",136]
["1991-07-01",136.19999999999999]
["1991-08-01",136.6]
["1991-09-01",137]
["1991-10-01",137.19999999999999]
["1991-11-01",137.80000000000001]
["1991-12-01",138.19999999999999]
["1992-01-01",138.30000000000001]
["1992-02-01",138.6]
["1992-03-01",139.1]
["1992-04-01",139.4]
["1992-05-01",139.69999999999999]
["1992-06-01",140.1]
["1992-07-01",140.5]
["1992-08-01",140.80000000000001]
["1992-09-01",141.1]
["1992-10-01",141.69999999999999]
["1992-11-01",142.1]
["1992-12-01",142.30000000000001]
["1993-01-01",142.80000000000001]
["1993-02-01",143.1]
["1993-03-01",143.30000000000001]
["1993-04-01",143.80000000000001]
["1993-05-01",144.19999999999999]
["1993-06-01",144.30000000000001]
["1993-07-01",144.5]
["1993-08-01",144.80000000000001]
["1993-09-01",145]
["1993-10-01",145.6]
["1993-11-01",146]
["1993-12-01",146.30000000000001]
["1994-01-01",146.30000000000001]
["1994-02-01",146.69999999999999]
["1994-03-01",147.1]
["1994-04-01",147.19999999999999]
["1994-05-01",147.5]
["1994-06-01",147.9]
["1994-07-01",148.4]
["1994-08-01",149]
["1994-09-01",149.30000000000001]
["1994-10-01",149.4]
["1994-11-01",149.80000000000001]
["1994-12-01",150.1]
["1995-01-01",150.5]
["1995-02-01",150.9]
["1995-03-01",151.19999999999999]
["1995-04-01",151.80000000000001]
["1995-05-01",152.1]
["1995-06-01",152.4]
["1995-07-01",152.6]
["1995-08-01",152.9]
["1995-09-01",153.1]
["1995-10-01",153.5]
["1995-11-01",153.69999999999999]
["1995-12-01",153.9]
["1996-01-01",154.69999999999999]
["1996-02-01",155]
["1996-03-01",155.5]
["1996-04-01",156.1]
["1996-05-01",156.4]
["1996-06-01",156.69999999999999]
["1996-07-01",157]
["1996-08-01",157.19999999999999]
["1996-09-01",157.69999999999999]
["1996-10-01",158.19999999999999]
["1996-11-01",158.69999999999999]
["1996-12-01",159.1]
["1997-01-01",159.4]
["1997-02-01",159.69999999999999]
["1997-03-01",159.80000000000001]
["1997-04-01",159.9]
["1997-05-01",159.9]
["1997-06-01",160.19999999999999]
["1997-07-01",160.4]
["1997-08-01",160.80000000000001]
["1997-09-01",161.19999999999999]
["1997-10-01",161.5]
["1997-11-01",161.69999999999999]
["1997-12-01",161.80000000000001]
["1998-01-01",162]
["1998-02-01",162]
["1998-03-01",162]
["1998-04-01",162.19999999999999]
["1998-05-01",162.6]
["1998-06-01",162.80000000000001]
["1998-07-01",163.19999999999999]
["1998-08-01",163.4]
["1998-09-01",163.5]
["1998-10-01",163.9]
["1998-11-01",164.1]
["1998-12-01",164.4]
["1999-01-01",164.7]
["1999-02-01",164.7]
["1999-03-01",164.8]
["1999-04-01",165.9]
["1999-05-01",166]
["1999-06-01",166]
["1999-07-01",166.7]
["1999-08-01",167.1]
["1999-09-01",167.8]
["1999-10-01",168.1]
["1999-11-01",168.4]
["1999-12-01",168.8]
["2000-01-01",169.3]
["2000-02-01",170]
["2000-03-01",171]
["2000-04-01",170.9]
["2000-05-01",171.2]
["2000-06-01",172.2]
["2000-07-01",172.7]
["2000-08-01",172.7]
["2000-09-01",173.6]
["2000-10-01",173.9]
["2000-11-01",174.2]
["2000-12-01",174.6]
["2001-01-01",175.6]
["2001-02-01",176]
["2001-03-01",176.1]
["2001-04-01",176.4]
["2001-05-01",177.3]
["2001-06-01",177.7]
["2001-07-01",177.4]
["2001-08-01",177.4]
["2001-09-01",178.1]
["2001-10-01",177.6]
["2001-11-01",177.5]
["2001-12-01",177.4]
["2002-01-01",177.7]
["2002-02-01",178]
["2002-03-01",178.5]
["2002-04-01",179.3]
["2002-05-01",179.5]
["2002-06-01",179.6]
["2002-07-01",180]
["2002-08-01",180.5]
["2002-09-01",180.8]
["2002-10-01",181.2]
["2002-11-01",181.5]
["2002-12-01",181.8]
["2003-01-01",182.6]
["2003-02-01",183.6]
["2003-03-01",183.9]
["2003-04-01",183.2]
["2003-05-01",182.9]
["2003-06-01",183.1]
["2003-07-01",183.7]
["2003-08-01",184.5]
["2003-09-01",185.1]
["2003-10-01",184.9]
["2003-11-01",185]
["2003-12-01",185.5]
["2004-01-01",186.3]
["2004-02-01",186.7]
["2004-03-01",187.1]
["2004-04-01",187.4]
["2004-05-01",188.2]
["2004-06-01",188.9]
["2004-07-01",189.1]
["2004-08-01",189.2]
["2004-09-01",189.8]
["2004-10-01",190.8]
["2004-11-01",191.7]
["2004-12-01",191.7]
["2005-01-01",191.6]
["2005-02-01",192.4]
["2005-03-01",193.1]
["2005-04-01",193.7]
["2005-05-01",193.6]
["2005-06-01",193.7]
["2005-07-01",194.9]
["2005-08-01",196.1]
["2005-09-01",198.8]
["2005-10-01",199.1]
["2005-11-01",198.1]
["2005-12-01",198.1]
["2006-01-01",199.3]
["2006-02-01",199.4]
["2006-03-01",199.7]
["2006-04-01",200.7]
["2006-05-01",201.3]
["2006-06-01",201.8]
["2006-07-01",202.9]
["2006-08-01",203.8]
["2006-09-01",202.8]
["2006-10-01",201.9]
["2006-11-01",202]
["2006-12-01",203.1]
["2007-01-01",203.43700000000001]
["2007-02-01",204.226]
["2007-03-01",205.28800000000001]
["2007-04-01",205.904]
["2007-05-01",206.755]
["2007-06-01",207.23400000000001]
["2007-07-01",207.60300000000001]
["2007-08-01",207.667]
["2007-09-01",208.547]
["2007-10-01",209.19]
["2007-11-01",210.834]
["2007-12-01",211.44499999999999]
["2008-01-01",212.17400000000001]
["2008-02-01",212.68700000000001]
["2008-03-01",213.44800000000001]
["2008-04-01",213.94200000000001]
["2008-05-01",215.208]
["2008-06-01",217.46299999999999]
["2008-07-01",219.01599999999999]
["2008-08-01",218.69]
["2008-09-01",218.87700000000001]
["2008-10-01",216.995]
["2008-11-01",213.15299999999999]
["2008-12-01",211.398]
["2009-01-01",211.93299999999999]
["2009-02-01",212.70500000000001]
["2009-03-01",212.495]
["2009-04-01",212.709]
["2009-05-01",213.02199999999999]
["2009-06-01",214.79]
["2009-07-01",214.726]
["2009-08-01",215.44499999999999]
["2009-09-01",215.86099999999999]
["2009-10-01",216.50899999999999]
["2009-11-01",217.23400000000001]
["2009-12-01",217.34700000000001]
["2010-01-01",217.488]
["2010-02-01",217.28100000000001]
["2010-03-01",217.35300000000001]
["2010-04-01",217.40299999999999]
["2010-05-01",217.29]
["2010-06-01",217.19900000000001]
["2010-07-01",217.60499999999999]
["2010-08-01",217.923]
["2010-09-01",218.27500000000001]
["2010-10-01",219.035]
["2010-11-01",219.59]
["2010-12-01",220.47200000000001]
["2011-01-01",221.148]
["2011-02-01",221.904]
["2011-03-01",223.04400000000001]
["2011-04-01",224.06]
["2011-05-01",224.869]
["2011-06-01",224.84100000000001]
["2011-07-01",225.41900000000001]
["2011-08-01",226.08199999999999]
["2011-09-01",226.67599999999999]
["2011-10-01",226.81100000000001]
["2011-11-01",227.15700000000001]
["2011-12-01",227.14500000000001]
["2012-01-01",227.75899999999999]
["2012-02-01",228.285]
["2012-03-01",228.86600000000001]
["2012-04-01",229.172]
["2012-05-01",228.785]
["2012-06-01",228.626]
["2012-07-01",228.584]
["2012-08-01",229.911]
["2012-09-01",231.10400000000001]
["2012-10-01",231.74100000000001]
["2012-11-01",231.202]
["2012-12-01",231.16499999999999]
["2013-01-01",231.44399999999999]
["2013-02-01",232.803]
["2013-03-01",232.245]
["2013-04-01",231.672]
["2013-05-01",231.99]
["2013-06-01",232.583]
["2013-07-01",232.98]
["2013-08-01",233.41300000000001]
["2013-09-01",233.773]
["2013-10-01",233.90299999999999]
["2013-11-01",234.03800000000001]
["2013-12-01",234.697]
["2014-01-01",235.12799999999999]
["2014-02-01",235.35599999999999]
["2014-03-01",235.79]
["2014-04-01",236.24]
["2014-05-01",236.95]
["2014-06-01",237.34800000000001]
["2014-07-01",237.596]
["2014-08-01",237.40899999999999]
["2014-09-01",237.626]
["2014-10-01",237.75299999999999]
["2014-11-01",237.06700000000001]
["2014-12-01",236.28399999999999]
["2015-01-01",234.67699999999999]
["2015-02-01",235.18600000000001]
["2015-03-01",235.74]

{"sheet":"GDP Deflator","index":38,"n_rows":288,"n_cols":14,"rows_kept":288,"cut":false,"hidden":false,"merged":[]}
["Title:","Gross","Domestic","Product:","Implicit","Price","Deflator"]
["Series","ID:","GDPDEF"]
["Source:","US.","Bureau","of","Economic","Analysis"]
["Release:","Gross","Domestic","Product"]
["Seasonal","Adjustment:","Seasonally","Adjusted"]
["Frequency:","Quarterly"]
["Units:","Index","2009=100"]
["Date","Range:","1947-01-01","to","2014-10-01"]
["Last","Updated:","2015-03-27","08:01:00","AM","CDT"]
["Notes:","BEA","Account","Code:","A191RD3"]
[]
[null,"The","number","of","decimal","places","reported","varies","over","time.","A","Guide","to","the"]
[null,"National","Income","and","Product","Accounts","of","the","United","States","(NIPA)","-"]
[null,"(http://www.bea.gov/national/pdf/nipaguid.pdf)"]
[]
["DATE","VALUE"]
["1947-01-01",12.566000000000001]
["1947-04-01",12.744999999999999]
["1947-07-01",12.957000000000001]
["1947-10-01",13.276]
["1948-01-01",13.379]
["1948-04-01",13.497]
["1948-07-01",13.747]
["1948-10-01",13.789]
["1949-01-01",13.717000000000001]
["1949-04-01",13.579000000000001]
["1949-07-01",13.509]
["1949-10-01",13.518000000000001]
["1950-01-01",13.49]
["1950-04-01",13.538]
["1950-07-01",13.832000000000001]
["1950-10-01",14.09]
["1951-01-01",14.596]
["1951-04-01",14.692]
["1951-07-01",14.701000000000001]
["1951-10-01",14.869]
["1952-01-01",14.863]
["1952-04-01",14.882]
["1952-07-01",15.048]
["1952-10-01",15.090999999999999]
["1953-01-01",15.096]
["1953-04-01",15.125]
["1953-07-01",15.188000000000001]
["1953-10-01",15.218999999999999]
["1954-01-01",15.266]
["1954-04-01",15.281000000000001]
["1954-07-01",15.3]
["1954-10-01",15.343]
["1955-01-01",15.417]
["1955-04-01",15.481]
["1955-07-01",15.59]
["1955-10-01",15.743]
["1956-01-01",15.901999999999999]
["1956-04-01",15.997]
["1956-07-01",16.196999999999999]
["1956-10-01",16.263999999999999]
["1957-01-01",16.484999999999999]
["1957-04-01",16.600999999999999]
["1957-07-01",16.701000000000001]
["1957-10-01",16.710999999999999]
["1958-01-01",16.891999999999999]
["1958-04-01",16.940000000000001]
["1958-07-01",17.042999999999999]
["1958-10-01",17.123000000000001]
["1959-01-01",17.169]
["1959-04-01",17.193999999999999]
["1959-07-01",17.257999999999999]
["1959-10-01",17.326000000000001]
["1960-01-01",17.396999999999998]
["1960-04-01",17.443000000000001]
["1960-07-01",17.506]
["1960-10-01",17.559999999999999]
["1961-01-01",17.597999999999999]
["1961-04-01",17.640999999999998]
["1961-07-01",17.687000000000001]
["1961-10-01",17.745000000000001]
["1962-01-01",17.837]
["1962-04-01",17.866]
["1962-07-01",17.902999999999999]
["1962-10-01",17.937999999999999]
["1963-01-01",18.016999999999999]
["1963-04-01",18.047000000000001]
["1963-07-01",18.068999999999999]
["1963-10-01",18.216000000000001]
["1964-01-01",18.274000000000001]
["1964-04-01",18.318000000000001]
["1964-07-01",18.391999999999999]
["1964-10-01",18.475999999999999]
["1965-01-01",18.568999999999999]
["1965-04-01",18.652000000000001]
["1965-07-01",18.725999999999999]
["1965-10-01",18.853000000000002]
["1966-01-01",18.975000000000001]
["1966-04-01",19.131]
["1966-07-01",19.317]
["1966-10-01",19.481000000000002]
["1967-01-01",19.562000000000001]
["1967-04-01",19.661000000000001]
["1967-07-01",19.849]
["1967-10-01",20.067]
["1968-01-01",20.29]
["1968-04-01",20.504000000000001]
["1968-07-01",20.706]
["1968-10-01",20.998999999999999]
["1969-01-01",21.216999999999999]
["1969-04-01",21.488]
["1969-07-01",21.79]
["1969-10-01",22.071000000000002]
["1970-01-01",22.382000000000001]
["1970-04-01",22.693999999999999]
["1970-07-01",22.88]
["1970-10-01",23.181999999999999]
["1971-01-01",23.536000000000001]
["1971-04-01",23.846]
["1971-07-01",24.088000000000001]
["1971-10-01",24.288]
["1972-01-01",24.664000000000001]
["1972-04-01",24.815000000000001]
["1972-07-01",25.047999999999998]
["1972-10-01",25.366]
["1973-01-01",25.661000000000001]
["1973-04-01",26.052]
["1973-07-01",26.548999999999999]
["1973-10-01",27.077000000000002]
["1974-01-01",27.591999999999999]
["1974-04-01",28.248000000000001]
["1974-07-01",29.067]
["1974-10-01",29.922999999999998]
["1975-01-01",30.600999999999999]
["1975-04-01",31.059000000000001]
["1975-07-01",31.611999999999998]
["1975-10-01",32.139000000000003]
["1976-01-01",32.472999999999999]
["1976-04-01",32.802999999999997]
["1976-07-01",33.225999999999999]
["1976-10-01",33.814999999999998]
["1977-01-01",34.359000000000002]
["1977-04-01",34.841000000000001]
["1977-07-01",35.270000000000003]
["1977-10-01",36.036000000000001]
["1978-01-01",36.573]
["1978-04-01",37.241999999999997]
["1978-07-01",37.865000000000002]
["1978-10-01",38.661000000000001]
["1979-01-01",39.351999999999997]
["1979-04-01",40.304000000000002]
["1979-07-01",41.164999999999999]
["1979-10-01",41.985999999999997]
["1980-01-01",42.859000000000002]
["1980-04-01",43.8]
["1980-07-01",44.808]
["1980-10-01",46.045999999999999]
["1981-01-01",47.195999999999998]
["1981-04-01",48.081000000000003]
["1981-07-01",48.945999999999998]
["1981-10-01",49.863]
["1982-01-01",50.561]
["1982-04-01",51.17]
["1982-07-01",51.906999999999996]
["1982-10-01",52.482999999999997]
["1983-01-01",52.906999999999996]
["1983-04-01",53.265000000000001]
["1983-07-01",53.823]
["1983-10-01",54.219000000000001]
["1984-01-01",54.795999999999999]
["1984-04-01",55.256999999999998]
["1984-07-01",55.704999999999998]
["1984-10-01",56.079000000000001]
["1985-01-01",56.723999999999997]
["1985-04-01",57.075000000000003]
["1985-07-01",57.405999999999999]
["1985-10-01",57.738]
["1986-01-01",58.02]
["1986-04-01",58.252000000000002]
["1986-07-01",58.487000000000002]
["1986-10-01",58.813000000000002]
["1987-01-01",59.24]
["1987-04-01",59.637]
["1987-07-01",60.07]
["1987-10-01",60.567]
["1988-01-01",61.042999999999999]
["1988-04-01",61.633000000000003]
["1988-07-01",62.359000000000002]
["1988-10-01",62.859000000000002]
["1989-01-01",63.55]
["1989-04-01",64.206999999999994]
["1989-07-01",64.671999999999997]
["1989-10-01",65.122]
["1990-01-01",65.840999999999994]
["1990-04-01",66.52]
["1990-07-01",67.114000000000004]
["1990-10-01",67.622]
["1991-01-01",68.296000000000006]
["1991-04-01",68.763999999999996]
["1991-07-01",69.269000000000005]
["1991-10-01",69.643000000000001]
["1992-01-01",69.941999999999993]
["1992-04-01",70.388000000000005]
["1992-07-01",70.722999999999999]
["1992-10-01",71.200999999999993]
["1993-01-01",71.605999999999995]
["1993-04-01",72.040999999999997]
["1993-07-01",72.474999999999994]
["1993-10-01",72.852999999999994]
["1994-01-01",73.206000000000003]
["1994-04-01",73.570999999999998]
["1994-07-01",73.968999999999994]
["1994-10-01",74.376000000000005]
["1995-01-01",74.802999999999997]
["1995-04-01",75.132000000000005]
["1995-07-01",75.489000000000004]
["1995-10-01",75.861000000000004]
["1996-01-01",76.272000000000006]
["1996-04-01",76.561999999999998]
["1996-07-01",76.778000000000006]
["1996-10-01",77.168000000000006]
["1997-01-01",77.647000000000006]
["1997-04-01",77.856999999999999]
["1997-07-01",78.135000000000005]
["1997-10-01",78.394999999999996]
["1998-01-01",78.522999999999996]
["1998-04-01",78.686999999999998]
["1998-07-01",78.980999999999995]
["1998-10-01",79.227999999999994]
["1999-01-01",79.623999999999995]
["1999-04-01",79.891000000000005]
["1999-07-01",80.180000000000007]
["1999-10-01",80.546999999999997]
["2000-01-01",81.162999999999997]
["2000-04-01",81.623000000000005]
["2000-07-01",82.152000000000001]
["2000-10-01",82.593000000000004]
["2001-01-01",83.111999999999995]
["2001-04-01",83.698999999999998]
["2001-07-01",83.972999999999999]
["2001-10-01",84.227000000000004]
["2002-01-01",84.497]
["2002-04-01",84.811999999999998]
["2002-07-01",85.19]
["2002-10-01",85.650999999999996]
["2003-01-01",86.179000000000002]
["2003-04-01",86.454999999999998]
["2003-07-01",86.933999999999997]
["2003-10-01",87.346000000000004]
["2004-01-01",88.108000000000004]
["2004-04-01",88.875]
["2004-07-01",89.421999999999997]
["2004-10-01",90.049000000000007]
["2005-01-01",90.882999999999996]
["2005-04-01",91.543000000000006]
["2005-07-01",92.399000000000001]
["2005-10-01",93.1]
["2006-01-01",93.831999999999994]
["2006-04-01",94.587000000000003]
["2006-07-01",95.247]
["2006-10-01",95.58]
["2007-01-01",96.653999999999996]
["2007-04-01",97.194000000000003]
["2007-07-01",97.531000000000006]
["2007-10-01",97.956000000000003]
["2008-01-01",98.516000000000005]
["2008-04-01",98.995000000000005]
["2008-07-01",99.673000000000002]
["2008-10-01",99.814999999999998]
["2009-01-01",100.062]
["2009-04-01",99.894999999999996]
["2009-07-01",99.873000000000005]
["2009-10-01",100.169]
["2010-01-01",100.52200000000001]
["2010-04-01",100.968]
["2010-07-01",101.429]
["2010-10-01",101.949]
["2011-01-01",102.399]
["2011-04-01",103.145]
["2011-07-01",103.768]
["2011-10-01",103.917]
["2012-01-01",104.461]
["2012-04-01",104.94199999999999]
["2012-07-01",105.428]
["2012-10-01",105.824]
["2013-01-01",106.20399999999999]
["2013-04-01",106.488]
["2013-07-01",106.923]
["2013-10-01",107.301]
["2014-01-01",107.658]
["2014-04-01",108.23099999999999]
["2014-07-01",108.60299999999999]
["2014-10-01",108.64700000000001]

{"sheet":"Population 24-55","index":39,"n_rows":822,"n_cols":10,"rows_kept":822,"cut":false,"hidden":false,"merged":[]}
["Title:","Civilian","Noninstitutional","Population","-",25,"to",54,"years"]
["Series","ID:","LNU00000060"]
["Source:","US.","Bureau","of","Labor","Statistics"]
["Release:","Employment","Situation"]
["Seasonal","Adjustment:","Not","Seasonally","Adjusted"]
["Frequency:","Monthly"]
["Units:","Thousands","of","Persons"]
["Date","Range:","1948-01-01","to","2015-03-01"]
["Last","Updated:","2015-04-03","08:37:00","AM","CDT"]
["Notes:","The","series","comes","from","the","'Current","Population","Survey","(Household"]
[null,"Survey)'"]
[]
[null,"The","source","code","is:","LNU00000060"]
[]
["DATE","VALUE"]
["1948-01-01",59188]
["1948-02-01",59230]
["1948-03-01",59277]
["1948-04-01",59330]
["1948-05-01",59368]
["1948-06-01",59400]
["1948-07-01",59579]
["1948-08-01",59585]
["1948-09-01",59622]
["1948-10-01",59676]
["1948-11-01",59724]
["1948-12-01",59788]
["1949-01-01",59853]
["1949-02-01",59902]
["1949-03-01",59975]
["1949-04-01",60049]
["1949-05-01",60121]
["1949-06-01",60163]
["1949-07-01",60280]
["1949-08-01",60345]
["1949-09-01",60414]
["1949-10-01",60485]
["1949-11-01",60545]
["1949-12-01",60596]
["1950-01-01",60659]
["1950-02-01",60730]
["1950-03-01",60799]
["1950-04-01",60862]
["1950-05-01",60911]
["1950-06-01",60969]
["1950-07-01",61032]
["1950-08-01",61106]
["1950-09-01",61122]
["1950-10-01",61050]
["1950-11-01",61018]
["1950-12-01",60992]
["1951-01-01",60999]
["1951-02-01",60919]
["1951-03-01",61006]
["1951-04-01",60994]
["1951-05-01",61074]
["1951-06-01",61129]
["1951-07-01",61154]
["1951-08-01",61188]
["1951-09-01",61226]
["1951-10-01",61394]
["1951-11-01",61436]
["1951-12-01",61528]
["1952-01-01",61574]
["1952-02-01",61602]
["1952-03-01",61634]
["1952-04-01",61720]
["1952-05-01",61796]
["1952-06-01",61864]
["1952-07-01",61930]
["1952-08-01",61990]
["1952-09-01",62046]
["1952-10-01",62152]
["1952-11-01",62212]
["1952-12-01",62267]
["1953-01-01",62865]
["1953-02-01",62923]
["1953-03-01",62984]
["1953-04-01",63038]
["1953-05-01",63084]
["1953-06-01",63162]
["1953-07-01",63204]
["1953-08-01",63250]
["1953-09-01",63322]
["1953-10-01",63375]
["1953-11-01",63428]
["1953-12-01",63481]
["1954-01-01",63543]
["1954-02-01",63593]
["1954-03-01",63615]
["1954-04-01",63640]
["1954-05-01",63687]
["1954-06-01",63730]
["1954-07-01",63772]
["1954-08-01",63802]
["1954-09-01",63834]
["1954-10-01",63880]
["1954-11-01",63919]
["1954-12-01",63949]
["1955-01-01",64011]
["1955-02-01",64005]
["1955-03-01",64096]
["1955-04-01",64144]
["1955-05-01",64208]
["1955-06-01",64257]
["1955-07-01",64291]
["1955-08-01",64314]
["1955-09-01",64336]
["1955-10-01",64376]
["1955-11-01",64412]
["1955-12-01",64463]
["1956-01-01",64496]
["1956-02-01",64508]
["1956-03-01",64522]
["1956-04-01",64527]
["1956-05-01",64568]
["1956-06-01",64605]
["1956-07-01",64706]
["1956-08-01",64729]
["1956-09-01",64765]
["1956-10-01",64790]
["1956-11-01",64810]
["1956-12-01",64828]
["1957-01-01",64857]
["1957-02-01",64879]
["1957-03-01",64908]
["1957-04-01",64934]
["1957-05-01",64972]
["1957-06-01",65025]
["1957-07-01",65113]
["1957-08-01",65134]
["1957-09-01",65165]
["1957-10-01",65205]
["1957-11-01",65251]
["1957-12-01",65290]
["1958-01-01",65325]
["1958-02-01",65350]
["1958-03-01",65373]
["1958-04-01",65392]
["1958-05-01",65422]
["1958-06-01",65451]
["1958-07-01",65460]
["1958-08-01",65449]
["1958-09-01",65426]
["1958-10-01",65454]
["1958-11-01",65476]
["1958-12-01",65497]
["1959-01-01",65525]
["1959-02-01",65544]
["1959-03-01",65566]
["1959-04-01",65587]
["1959-05-01",65614]
["1959-06-01",65638]
["1959-07-01",65660]
["1959-08-01",65681]
["1959-09-01",65650]
["1959-10-01",65639]
["1959-11-01",65621]
["1959-12-01",65642]
["1960-01-01",65931]
["1960-02-01",65952]
["1960-03-01",65975]
["1960-04-01",65974]
["1960-05-01",65989]
["1960-06-01",66017]
["1960-07-01",66034]
["1960-08-01",66069]
["1960-09-01",66073]
["1960-10-01",66091]
["1960-11-01",66146]
["1960-12-01",66194]
["1961-01-01",66237]
["1961-02-01",66243]
["1961-03-01",66253]
["1961-04-01",66274]
["1961-05-01",66301]
["1961-06-01",66328]
["1961-07-01",66348]
["1961-08-01",66362]
["1961-09-01",66373]
["1961-10-01",66380]
["1961-11-01",66324]
["1961-12-01",66316]
["1962-01-01",66277]
["1962-02-01",66272]
["1962-03-01",66290]
["1962-04-01",66023]
["1962-05-01",66043]
["1962-06-01",66069]
["1962-07-01",66167]
["1962-08-01",66204]
["1962-09-01",66282]
["1962-10-01",66318]
["1962-11-01",66334]
["1962-12-01",66349]
["1963-01-01",66390]
["1963-02-01",66405]
["1963-03-01",66422]
["1963-04-01",66437]
["1963-05-01",66440]
["1963-06-01",66461]
["1963-07-01",66509]
["1963-08-01",66551]
["1963-09-01",66547]
["1963-10-01",66572]
["1963-11-01",66596]
["1963-12-01",66613]
["1964-01-01",66653]
["1964-02-01",66666]
["1964-03-01",66679]
["1964-04-01",66702]
["1964-05-01",66724]
["1964-06-01",66749]
["1964-07-01",66774]
["1964-08-01",66789]
["1964-09-01",66814]
["1964-10-01",66838]
["1964-11-01",66862]
["1964-12-01",66885]
["1965-01-01",66911]
["1965-02-01",66929]
["1965-03-01",66951]
["1965-04-01",66977]
["1965-05-01",66996]
["1965-06-01",67021]
["1965-07-01",66934]
["1965-08-01",66975]
["1965-09-01",67005]
["1965-10-01",67013]
["1965-11-01",67019]
["1965-12-01",67024]
["1966-01-01",67022]
["1966-02-01",67029]
["1966-03-01",67002]
["1966-04-01",67037]
["1966-05-01",67096]
["1966-06-01",67098]
["1966-07-01",67105]
["1966-08-01",67129]
["1966-09-01",67144]
["1966-10-01",67162]
["1966-11-01",67179]
["1966-12-01",67212]
["1967-01-01",67275]
["1967-02-01",67318]
["1967-03-01",67348]
["1967-04-01",67357]
["1967-05-01",67398]
["1967-06-01",67475]
["1967-07-01",67579]
["1967-08-01",67788]
["1967-09-01",67908]
["1967-10-01",67973]
["1967-11-01",68036]
["1967-12-01",68102]
["1968-01-01",68170]
["1968-02-01",68232]
["1968-03-01",68293]
["1968-04-01",68356]
["1968-05-01",68418]
["1968-06-01",68473]
["1968-07-01",68522]
["1968-08-01",68557]
["1968-09-01",68607]
["1968-10-01",68651]
["1968-11-01",68734]
["1968-12-01",68793]
["1969-01-01",68857]
["1969-02-01",68900]
["1969-03-01",68942]
["1969-04-01",68988]
["1969-05-01",69054]
["1969-06-01",69106]
["1969-07-01",69208]
["1969-08-01",69258]
["1969-09-01",69302]
["1969-10-01",69362]
["1969-11-01",69424]
["1969-12-01",69541]
["1970-01-01",69604]
["1970-02-01",69672]
["1970-03-01",69743]
["1970-04-01",69821]
["1970-05-01",69903]
["1970-06-01",69967]
["1970-07-01",70043]
["1970-08-01",70093]
["1970-09-01",70138]
["1970-10-01",70210]
["1970-11-01",70284]
["1970-12-01",70340]
["1971-01-01",70414]
["1971-02-01",70472]
["1971-03-01",70511]
["1971-04-01",70588]
["1971-05-01",70663]
["1971-06-01",70721]
["1971-07-01",70789]
["1971-08-01",70938]
["1971-09-01",71087]
["1971-10-01",71238]
["1971-11-01",71362]
["1971-12-01",71514]
["1972-01-01",71723]
["1972-02-01",71878]
["1972-03-01",71997]
["1972-04-01",72138]
["1972-05-01",72293]
["1972-06-01",72393]
["1972-07-01",72538]
["1972-08-01",72648]
["1972-09-01",72761]
["1972-10-01",72854]
["1972-11-01",72959]
["1972-12-01",73092]
["1973-01-01",73216]
["1973-02-01",73330]
["1973-03-01",73492]
["1973-04-01",73605]
["1973-05-01",73730]
["1973-06-01",73836]
["1973-07-01",73958]
["1973-08-01",74071]
["1973-09-01",74184]
["1973-10-01",74297]
["1973-11-01",74410]
["1973-12-01",74582]
["1974-01-01",74878]
["1974-02-01",74987]
["1974-03-01",75085]
["1974-04-01",75199]
["1974-05-01",75327]
["1974-06-01",75452]
["1974-07-01",75563]
["1974-08-01",75660]
["1974-09-01",75756]
["1974-10-01",75859]
["1974-11-01",75959]
["1974-12-01",76058]
["1975-01-01",76167]
["1975-02-01",76266]
["1975-03-01",76363]
["1975-04-01",76456]
["1975-05-01",76570]
["1975-06-01",76686]
["1975-07-01",76840]
["1975-08-01",76947]
["1975-09-01",77068]
["1975-10-01",77175]
["1975-11-01",77291]
["1975-12-01",77407]
["1976-01-01",77527]
["1976-02-01",77635]
["1976-03-01",77746]
["1976-04-01",77851]
["1976-05-01",77973]
["1976-06-01",78099]
["1976-07-01",78218]
["1976-08-01",78339]
["1976-09-01",78459]
["1976-10-01",78558]
["1976-11-01",78673]
["1976-12-01",78820]
["1977-01-01",78934]
["1977-02-01",79048]
["1977-03-01",79154]
["1977-04-01",79275]
["1977-05-01",79412]
["1977-06-01",79544]
["1977-07-01",79670]
["1977-08-01",79800]
["1977-09-01",79927]
["1977-10-01",80054]
["1977-11-01",80190]
["1977-12-01",80317]
["1978-01-01",80444]
["1978-02-01",80564]
["1978-03-01",80679]
["1978-04-01",80810]
["1978-05-01",80950]
["1978-06-01",81097]
["1978-07-01",81226]
["1978-08-01",81364]
["1978-09-01",81498]
["1978-10-01",81652]
["1978-11-01",81788]
["1978-12-01",81931]
["1979-01-01",82080]
["1979-02-01",82211]
["1979-03-01",82359]
["1979-04-01",82470]
["1979-05-01",82632]
["1979-06-01",82789]
["1979-07-01",82926]
["1979-08-01",83068]
["1979-09-01",83211]
["1979-10-01",83439]
["1979-11-01",83582]
["1979-12-01",83737]
["1980-01-01",83886]
["1980-02-01",84026]
["1980-03-01",84163]
["1980-04-01",84311]
["1980-05-01",84458]
["1980-06-01",84612]
["1980-07-01",84798]
["1980-08-01",84932]
["1980-09-01",85076]
["1980-10-01",85227]
["1980-11-01",85369]
["1980-12-01",85508]
["1981-01-01",85659]
["1981-02-01",85809]
["1981-03-01",85950]
["1981-04-01",86100]
["1981-05-01",86250]
["1981-06-01",86398]
["1981-07-01",86553]
["1981-08-01",86698]
["1981-09-01",86862]
["1981-10-01",87036]
["1981-11-01",87203]
["1981-12-01",87358]
["1982-01-01",87517]
["1982-02-01",87670]
["1982-03-01",87813]
["1982-04-01",87967]
["1982-05-01",88128]
["1982-06-01",88281]
["1982-07-01",88437]
["1982-08-01",88593]
["1982-09-01",88756]
["1982-10-01",88935]
["1982-11-01",89107]
["1982-12-01",89198]
["1983-01-01",89349]
["1983-02-01",89513]
["1983-03-01",89671]
["1983-04-01",89823]
["1983-05-01",89988]
["1983-06-01",90149]
["1983-07-01",90319]
["1983-08-01",90480]
["1983-09-01",90655]
["1983-10-01",90821]
["1983-11-01",91003]
["1983-12-01",91176]
["1984-01-01",91517]
["1984-02-01",91690]
["1984-03-01",91863]
["1984-04-01",92033]
["1984-05-01",92212]
["1984-06-01",92390]
["1984-07-01",92555]
["1984-08-01",92726]
["1984-09-01",92905]
["1984-10-01",93096]
["1984-11-01",93280]
["1984-12-01",93432]
["1985-01-01",93534]
["1985-02-01",93663]
["1985-03-01",93869]
["1985-04-01",94031]
["1985-05-01",94193]
["1985-06-01",94381]
["1985-07-01",94562]
["1985-08-01",94712]
["1985-09-01",94872]
["1985-10-01",95072]
["1985-11-01",95252]
["1985-12-01",95451]
["1986-01-01",96074]
["1986-02-01",96220]
["1986-03-01",96383]
["1986-04-01",96532]
["1986-05-01",96694]
["1986-06-01",96950]
["1986-07-01",97128]
["1986-08-01",97297]
["1986-09-01",97448]
["1986-10-01",97627]
["1986-11-01",97801]
["1986-12-01",98010]
["1987-01-01",98267]
["1987-02-01",98447]
["1987-03-01",98621]
["1987-04-01",98816]
["1987-05-01",98991]
["1987-06-01",99155]
["1987-07-01",99344]
["1987-08-01",99471]
["1987-09-01",99647]
["1987-10-01",99823]
["1987-11-01",100021]
["1987-12-01",100202]
["1988-01-01",100429]
["1988-02-01",100611]
["1988-03-01",100748]
["1988-04-01",100950]
["1988-05-01",101127]
["1988-06-01",101318]
["1988-07-01",101515]
["1988-08-01",101700]
["1988-09-01",101873]
["1988-10-01",102038]
["1988-11-01",102163]
["1988-12-01",102311]
["1989-01-01",102558]
["1989-02-01",102803]
["1989-03-01",103008]
["1989-04-01",103163]
["1989-05-01",103328]
["1989-06-01",103455]
["1989-07-01",103672]
["1989-08-01",103836]
["1989-09-01",103983]
["1989-10-01",104159]
["1989-11-01",104338]
["1989-12-01",104480]
["1990-01-01",104971]
["1990-02-01",105137]
["1990-03-01",105254]
["1990-04-01",105374]
["1990-05-01",105575]
["1990-06-01",105618]
["1990-07-01",105756]
["1990-08-01",105980]
["1990-09-01",106142]
["1990-10-01",106332]
["1990-11-01",106533]
["1990-12-01",106647]
["1991-01-01",106760]
["1991-02-01",106888]
["1991-03-01",106971]
["1991-04-01",107091]
["1991-05-01",107268]
["1991-06-01",107428]
["1991-07-01",107575]
["1991-08-01",107694]
["1991-09-01",107855]
["1991-10-01",108005]
["1991-11-01",108236]
["1991-12-01",108383]
["1992-01-01",108520]
["1992-02-01",108768]
["1992-03-01",108835]
["1992-04-01",108977]
["1992-05-01",109112]
["1992-06-01",109239]
["1992-07-01",109381]
["1992-08-01",109516]
["1992-09-01",109693]
["1992-10-01",109828]
["1992-11-01",109955]
["1992-12-01",110205]
["1993-01-01",110320]
["1993-02-01",110505]
["1993-03-01",110622]
["1993-04-01",110751]
["1993-05-01",110831]
["1993-06-01",110944]
["1993-07-01",111149]
["1993-08-01",111176]
["1993-09-01",111362]
["1993-10-01",111503]
["1993-11-01",111629]
["1993-12-01",111847]
["1994-01-01",111955]
["1994-02-01",112144]
["1994-03-01",112261]
["1994-04-01",112359]
["1994-05-01",112427]
["1994-06-01",112506]
["1994-07-01",112592]
["1994-08-01",112719]
["1994-09-01",112872]
["1994-10-01",113046]
["1994-11-01",113223]
["1994-12-01",113308]
["1995-01-01",113389]
["1995-02-01",113598]
["1995-03-01",113688]
["1995-04-01",113758]
["1995-05-01",113826]
["1995-06-01",113873]
["1995-07-01",114002]
["1995-08-01",114137]
["1995-09-01",114282]
["1995-10-01",114459]
["1995-11-01",114598]
["1995-12-01",114700]
["1996-01-01",114724]
["1996-02-01",114957]
["1996-03-01",115069]
["1996-04-01",115238]
["1996-05-01",115403]
["1996-06-01",115488]
["1996-07-01",115581]
["1996-08-01",115667]
["1996-09-01",115818]
["1996-10-01",115938]
["1996-11-01",116059]
["1996-12-01",116131]
["1997-01-01",116348]
["1997-02-01",116462]
["1997-03-01",116559]
["1997-04-01",116662]
["1997-05-01",116873]
["1997-06-01",116902]
["1997-07-01",116881]
["1997-08-01",116940]
["1997-09-01",117018]
["1997-10-01",117039]
["1997-11-01",117124]
["1997-12-01",117181]
["1998-01-01",117202]
["1998-02-01",117246]
["1998-03-01",117218]
["1998-04-01",117329]
["1998-05-01",117483]
["1998-06-01",117427]
["1998-07-01",117375]
["1998-08-01",117487]
["1998-09-01",117511]
["1998-10-01",117596]
["1998-11-01",117731]
["1998-12-01",117789]
["1999-01-01",117912]
["1999-02-01",117808]
["1999-03-01",117854]
["1999-04-01",117862]
["1999-05-01",117995]
["1999-06-01",118240]
["1999-07-01",118266]
["1999-08-01",118369]
["1999-09-01",118328]
["1999-10-01",118433]
["1999-11-01",118577]
["1999-12-01",118734]
["2000-01-01",120252]
["2000-02-01",120264]
["2000-03-01",120237]
["2000-04-01",120319]
["2000-05-01",120534]
["2000-06-01",120546]
["2000-07-01",120716]
["2000-08-01",120847]
["2000-09-01",120843]
["2000-10-01",121056]
["2000-11-01",121072]
["2000-12-01",121191]
["2001-01-01",121330]
["2001-02-01",121340]
["2001-03-01",121477]
["2001-04-01",121555]
["2001-05-01",121556]
["2001-06-01",121579]
["2001-07-01",121616]
["2001-08-01",121740]
["2001-09-01",121735]
["2001-10-01",121771]
["2001-11-01",121769]
["2001-12-01",121779]
["2002-01-01",121880]
["2002-02-01",121814]
["2002-03-01",121912]
["2002-04-01",121913]
["2002-05-01",121988]
["2002-06-01",122114]
["2002-07-01",122103]
["2002-08-01",122201]
["2002-09-01",122234]
["2002-10-01",122213]
["2002-11-01",122264]
["2002-12-01",122284]
["2003-01-01",122930]
["2003-02-01",123006]
["2003-03-01",123046]
["2003-04-01",123125]
["2003-05-01",123172]
["2003-06-01",123231]
["2003-07-01",123317]
["2003-08-01",123379]
["2003-09-01",123469]
["2003-10-01",123523]
["2003-11-01",123595]
["2003-12-01",123676]
["2004-01-01",123095]
["2004-02-01",123150]
["2004-03-01",123208]
["2004-04-01",123262]
["2004-05-01",123301]
["2004-06-01",123373]
["2004-07-01",123426]
["2004-08-01",123496]
["2004-09-01",123564]
["2004-10-01",123607]
["2004-11-01",123686]
["2004-12-01",123751]
["2005-01-01",123764]
["2005-02-01",123813]
["2005-03-01",123877]
["2005-04-01",123941]
["2005-05-01",124017]
["2005-06-01",124121]
["2005-07-01",124194]
["2005-08-01",124270]
["2005-09-01",124382]
["2005-10-01",124472]
["2005-11-01",124582]
["2005-12-01",124671]
["2006-01-01",124579]
["2006-02-01",124637]
["2006-03-01",124661]
["2006-04-01",124711]
["2006-05-01",124756]
["2006-06-01",124805]
["2006-07-01",124881]
["2006-08-01",124974]
["2006-09-01",125045]
["2006-10-01",125113]
["2006-11-01",125201]
["2006-12-01",125244]
["2007-01-01",125387]
["2007-02-01",125456]
["2007-03-01",125488]
["2007-04-01",125550]
["2007-05-01",125581]
["2007-06-01",125620]
["2007-07-01",125715]
["2007-08-01",125791]
["2007-09-01",125867]
["2007-10-01",125916]
["2007-11-01",125978]
["2007-12-01",126009]
["2008-01-01",125396]
["2008-02-01",125440]
["2008-03-01",125474]
["2008-04-01",125506]
["2008-05-01",125563]
["2008-06-01",125627]
["2008-07-01",125699]
["2008-08-01",125742]
["2008-09-01",125801]
["2008-10-01",125812]
["2008-11-01",125857]
["2008-12-01",125904]
["2009-01-01",125461]
["2009-02-01",125498]
["2009-03-01",125493]
["2009-04-01",125491]
["2009-05-01",125513]
["2009-06-01",125533]
["2009-07-01",125604]
["2009-08-01",125617]
["2009-09-01",125637]
["2009-10-01",125644]
["2009-11-01",125647]
["2009-12-01",125640]
["2010-01-01",125156]
["2010-02-01",125178]
["2010-03-01",125191]
["2010-04-01",125192]
["2010-05-01",125249]
["2010-06-01",125268]
["2010-07-01",125326]
["2010-08-01",125337]
["2010-09-01",125354]
["2010-10-01",125407]
["2010-11-01",125415]
["2010-12-01",125410]
["2011-01-01",124628]
["2011-02-01",124647]
["2011-03-01",124644]
["2011-04-01",124658]
["2011-05-01",124727]
["2011-06-01",124738]
["2011-07-01",124771]
["2011-08-01",124756]
["2011-09-01",124728]
["2011-10-01",124743]
["2011-11-01",124722]
["2011-12-01",124690]
["2012-01-01",124356]
["2012-02-01",124341]
["2012-03-01",124323]
["2012-04-01",124357]
["2012-05-01",124363]
["2012-06-01",124355]
["2012-07-01",124372]
["2012-08-01",124308]
["2012-09-01",124259]
["2012-10-01",124270]
["2012-11-01",124248]
["2012-12-01",124219]
["2013-01-01",124357]
["2013-02-01",124354]
["2013-03-01",124343]
["2013-04-01",124380]
["2013-05-01",124388]
["2013-06-01",124406]
["2013-07-01",124401]
["2013-08-01",124409]
["2013-09-01",124465]
["2013-10-01",124461]
["2013-11-01",124474]
["2013-12-01",124438]
["2014-01-01",124453]
["2014-02-01",124439]
["2014-03-01",124410]
["2014-04-01",124453]
["2014-05-01",124442]
["2014-06-01",124478]
["2014-07-01",124500]
["2014-08-01",124549]
["2014-09-01",124587]
["2014-10-01",124607]
["2014-11-01",124612]
["2014-12-01",124597]
["2015-01-01",124974]
["2015-02-01",124959]
["2015-03-01",124949]

{"sheet":"Men over 20","index":40,"n_rows":822,"n_cols":10,"rows_kept":822,"cut":false,"hidden":false,"merged":[]}
["Title:","Civilian","Noninstitutional","Population","-",20,"years","and","over,","Men"]
["Series","ID:","LNU00000025"]
["Source:","US.","Bureau","of","Labor","Statistics"]
["Release:","Employment","Situation"]
["Seasonal","Adjustment:","Not","Seasonally","Adjusted"]
["Frequency:","Monthly"]
["Units:","Thousands","of","Persons"]
["Date","Range:","1948-01-01","to","2015-03-01"]
["Last","Updated:","2015-04-03","08:06:00","AM","CDT"]
["Notes:","The","series","comes","from","the","'Current","Population","Survey","(Household"]
[null,"Survey)'"]
[]
[null,"The","source","code","is:","LNU00000025"]
[]
["DATE","VALUE"]
["1948-01-01",45772]
["1948-02-01",45799]
["1948-03-01",45840]
["1948-04-01",45868]
["1948-05-01",45882]
["1948-06-01",45853]
["1948-07-01",46008]
["1948-08-01",45955]
["1948-09-01",45957]
["1948-10-01",45987]
["1948-11-01",46027]
["1948-12-01",46068]
["1949-01-01",46126]
["1949-02-01",46149]
["1949-03-01",46225]
["1949-04-01",46284]
["1949-05-01",46346]
["1949-06-01",46326]
["1949-07-01",46395]
["1949-08-01",46433]
["1949-09-01",46493]
["1949-10-01",46556]
["1949-11-01",46577]
["1949-12-01",46630]
["1950-01-01",46663]
["1950-02-01",46724]
["1950-03-01",46795]
["1950-04-01",46839]
["1950-05-01",46866]
["1950-06-01",46876]
["1950-07-01",46922]
["1950-08-01",46925]
["1950-09-01",46881]
["1950-10-01",46682]
["1950-11-01",46554]
["1950-12-01",46437]
["1951-01-01",46386]
["1951-02-01",46163]
["1951-03-01",46214]
["1951-04-01",46115]
["1951-05-01",45967]
["1951-06-01",45874]
["1951-07-01",45864]
["1951-08-01",45850]
["1951-09-01",45852]
["1951-10-01",45936]
["1951-11-01",45936]
["1951-12-01",45858]
["1952-01-01",45862]
["1952-02-01",45824]
["1952-03-01",45752]
["1952-04-01",45758]
["1952-05-01",45808]
["1952-06-01",45866]
["1952-07-01",45930]
["1952-08-01",45960]
["1952-09-01",45984]
["1952-10-01",46097]
["1952-11-01",46152]
["1952-12-01",46195]
["1953-01-01",46810]
["1953-02-01",46784]
["1953-03-01",46790]
["1953-04-01",46828]
["1953-05-01",46858]
["1953-06-01",46884]
["1953-07-01",46884]
["1953-08-01",46922]
["1953-09-01",46996]
["1953-10-01",47056]
["1953-11-01",47112]
["1953-12-01",47204]
["1954-01-01",47266]
["1954-02-01",47325]
["1954-03-01",47330]
["1954-04-01",47320]
["1954-05-01",47361]
["1954-06-01",47385]
["1954-07-01",47405]
["1954-08-01",47473]
["1954-09-01",47521]
["1954-10-01",47575]
["1954-11-01",47646]
["1954-12-01",47687]
["1955-01-01",47787]
["1955-02-01",47776]
["1955-03-01",47863]
["1955-04-01",47931]
["1955-05-01",48008]
["1955-06-01",48074]
["1955-07-01",48134]
["1955-08-01",48191]
["1955-09-01",48255]
["1955-10-01",48303]
["1955-11-01",48335]
["1955-12-01",48384]
["1956-01-01",48430]
["1956-02-01",48478]
["1956-03-01",48540]
["1956-04-01",48578]
["1956-05-01",48660]
["1956-06-01",48702]
["1956-07-01",48750]
["1956-08-01",48769]
["1956-09-01",48818]
["1956-10-01",48868]
["1956-11-01",48908]
["1956-12-01",48948]
["1957-01-01",48989]
["1957-02-01",49015]
["1957-03-01",49058]
["1957-04-01",49099]
["1957-05-01",49130]
["1957-06-01",49179]
["1957-07-01",49258]
["1957-08-01",49285]
["1957-09-01",49338]
["1957-10-01",49405]
["1957-11-01",49483]
["1957-12-01",49543]
["1958-01-01",49595]
["1958-02-01",49623]
["1958-03-01",49654]
["1958-04-01",49667]
["1958-05-01",49711]
["1958-06-01",49749]
["1958-07-01",49772]
["1958-08-01",49767]
["1958-09-01",49769]
["1958-10-01",49819]
["1958-11-01",49859]
["1958-12-01",49902]
["1959-01-01",49952]
["1959-02-01",49974]
["1959-03-01",50014]
["1959-04-01",50051]
["1959-05-01",50102]
["1959-06-01",50144]
["1959-07-01",50183]
["1959-08-01",50219]
["1959-09-01",50226]
["1959-10-01",50251]
["1959-11-01",50269]
["1959-12-01",50303]
["1960-01-01",50529]
["1960-02-01",50555]
["1960-03-01",50589]
["1960-04-01",50595]
["1960-05-01",50630]
["1960-06-01",50672]
["1960-07-01",50697]
["1960-08-01",50757]
["1960-09-01",50769]
["1960-10-01",50804]
["1960-11-01",50864]
["1960-12-01",50923]
["1961-01-01",50974]
["1961-02-01",51001]
["1961-03-01",51041]
["1961-04-01",51101]
["1961-05-01",51150]
["1961-06-01",51191]
["1961-07-01",51227]
["1961-08-01",51264]
["1961-09-01",51302]
["1961-10-01",51333]
["1961-11-01",51251]
["1961-12-01",51248]
["1962-01-01",51224]
["1962-02-01",51213]
["1962-03-01",51252]
["1962-04-01",51556]
["1962-05-01",51600]
["1962-06-01",51658]
["1962-07-01",51718]
["1962-08-01",51792]
["1962-09-01",51947]
["1962-10-01",52027]
["1962-11-01",52070]
["1962-12-01",52115]
["1963-01-01",52194]
["1963-02-01",52230]
["1963-03-01",52274]
["1963-04-01",52306]
["1963-05-01",52360]
["1963-06-01",52413]
["1963-07-01",52442]
["1963-08-01",52463]
["1963-09-01",52524]
["1963-10-01",52583]
["1963-11-01",52634]
["1963-12-01",52680]
["1964-01-01",52744]
["1964-02-01",52771]
["1964-03-01",52804]
["1964-04-01",52843]
["1964-05-01",52897]
["1964-06-01",52949]
["1964-07-01",53000]
["1964-08-01",53041]
["1964-09-01",53099]
["1964-10-01",53156]
["1964-11-01",53209]
["1964-12-01",53260]
["1965-01-01",53318]
["1965-02-01",53359]
["1965-03-01",53408]
["1965-04-01",53458]
["1965-05-01",53501]
["1965-06-01",53552]
["1965-07-01",53507]
["1965-08-01",53498]
["1965-09-01",53472]
["1965-10-01",53486]
["1965-11-01",53500]
["1965-12-01",53504]
["1966-01-01",53497]
["1966-02-01",53504]
["1966-03-01",53535]
["1966-04-01",53505]
["1966-05-01",53572]
["1966-06-01",53563]
["1966-07-01",53569]
["1966-08-01",53617]
["1966-09-01",53654]
["1966-10-01",53700]
["1966-11-01",53748]
["1966-12-01",53783]
["1967-01-01",53880]
["1967-02-01",53934]
["1967-03-01",54004]
["1967-04-01",54062]
["1967-05-01",54139]
["1967-06-01",54249]
["1967-07-01",54384]
["1967-08-01",54560]
["1967-09-01",54688]
["1967-10-01",54768]
["1967-11-01",54834]
["1967-12-01",54910]
["1968-01-01",54983]
["1968-02-01",55048]
["1968-03-01",55041]
["1968-04-01",55039]
["1968-05-01",55043]
["1968-06-01",55096]
["1968-07-01",55117]
["1968-08-01",55147]
["1968-09-01",55222]
["1968-10-01",55281]
["1968-11-01",55434]
["1968-12-01",55528]
["1969-01-01",55577]
["1969-02-01",55624]
["1969-03-01",55680]
["1969-04-01",55745]
["1969-05-01",55822]
["1969-06-01",55892]
["1969-07-01",55997]
["1969-08-01",56089]
["1969-09-01",56146]
["1969-10-01",56245]
["1969-11-01",56344]
["1969-12-01",56472]
["1970-01-01",56576]
["1970-02-01",56688]
["1970-03-01",56770]
["1970-04-01",56865]
["1970-05-01",56988]
["1970-06-01",57093]
["1970-07-01",57208]
["1970-08-01",57306]
["1970-09-01",57425]
["1970-10-01",57543]
["1970-11-01",57667]
["1970-12-01",57767]
["1971-01-01",57883]
["1971-02-01",57978]
["1971-03-01",58074]
["1971-04-01",58204]
["1971-05-01",58317]
["1971-06-01",58466]
["1971-07-01",58572]
["1971-08-01",58686]
["1971-09-01",58807]
["1971-10-01",58932]
["1971-11-01",59044]
["1971-12-01",59169]
["1972-01-01",59473]
["1972-02-01",59607]
["1972-03-01",59748]
["1972-04-01",59848]
["1972-05-01",59979]
["1972-06-01",60117]
["1972-07-01",60223]
["1972-08-01",60314]
["1972-09-01",60408]
["1972-10-01",60512]
["1972-11-01",60594]
["1972-12-01",60726]
["1973-01-01",60849]
["1973-02-01",60938]
["1973-03-01",61061]
["1973-04-01",61155]
["1973-05-01",61267]
["1973-06-01",61386]
["1973-07-01",61490]
["1973-08-01",61592]
["1973-09-01",61705]
["1973-10-01",61810]
["1973-11-01",61911]
["1973-12-01",62072]
["1974-01-01",62201]
["1974-02-01",62293]
["1974-03-01",62396]
["1974-04-01",62506]
["1974-05-01",62626]
["1974-06-01",62740]
["1974-07-01",62835]
["1974-08-01",62946]
["1974-09-01",63090]
["1974-10-01",63202]
["1974-11-01",63307]
["1974-12-01",63406]
["1975-01-01",63550]
["1975-02-01",63647]
["1975-03-01",63744]
["1975-04-01",63842]
["1975-05-01",63959]
["1975-06-01",64080]
["1975-07-01",64217]
["1975-08-01",64326]
["1975-09-01",64469]
["1975-10-01",64575]
["1975-11-01",64690]
["1975-12-01",64799]
["1976-01-01",64934]
["1976-02-01",65022]
["1976-03-01",65129]
["1976-04-01",65225]
["1976-05-01",65330]
["1976-06-01",65444]
["1976-07-01",65555]
["1976-08-01",65671]
["1976-09-01",65791]
["1976-10-01",65907]
["1976-11-01",66016]
["1976-12-01",66163]
["1977-01-01",66282]
["1977-02-01",66383]
["1977-03-01",66474]
["1977-04-01",66588]
["1977-05-01",66726]
["1977-06-01",66850]
["1977-07-01",66969]
["1977-08-01",67086]
["1977-09-01",67206]
["1977-10-01",67321]
["1977-11-01",67426]
["1977-12-01",67541]
["1978-01-01",67652]
["1978-02-01",67749]
["1978-03-01",67848]
["1978-04-01",67959]
["1978-05-01",68083]
["1978-06-01",68208]
["1978-07-01",68318]
["1978-08-01",68421]
["1978-09-01",68541]
["1978-10-01",68696]
["1978-11-01",68809]
["1978-12-01",68930]
["1979-01-01",69064]
["1979-02-01",69162]
["1979-03-01",69294]
["1979-04-01",69368]
["1979-05-01",69515]
["1979-06-01",69643]
["1979-07-01",69754]
["1979-08-01",69866]
["1979-09-01",69982]
["1979-10-01",70166]
["1979-11-01",70281]
["1979-12-01",70424]
["1980-01-01",70538]
["1980-02-01",70638]
["1980-03-01",70745]
["1980-04-01",70852]
["1980-05-01",70960]
["1980-06-01",71076]
["1980-07-01",71215]
["1980-08-01",71309]
["1980-09-01",71414]
["1980-10-01",71533]
["1980-11-01",71636]
["1980-12-01",71733]
["1981-01-01",71850]
["1981-02-01",71951]
["1981-03-01",72037]
["1981-04-01",72142]
["1981-05-01",72251]
["1981-06-01",72359]
["1981-07-01",72472]
["1981-08-01",72559]
["1981-09-01",72670]
["1981-10-01",72795]
["1981-11-01",72921]
["1981-12-01",73020]
["1982-01-01",73120]
["1982-02-01",73209]
["1982-03-01",73287]
["1982-04-01",73392]
["1982-05-01",73499]
["1982-06-01",73585]
["1982-07-01",73685]
["1982-08-01",73774]
["1982-09-01",73867]
["1982-10-01",73984]
["1982-11-01",74094]
["1982-12-01",74236]
["1983-01-01",74339]
["1983-02-01",74434]
["1983-03-01",74528]
["1983-04-01",74611]
["1983-05-01",74712]
["1983-06-01",74814]
["1983-07-01",74927]
["1983-08-01",75012]
["1983-09-01",75115]
["1983-10-01",75216]
["1983-11-01",75327]
["1983-12-01",75433]
["1984-01-01",75692]
["1984-02-01",75786]
["1984-03-01",75880]
["1984-04-01",75973]
["1984-05-01",76073]
["1984-06-01",76176]
["1984-07-01",76269]
["1984-08-01",76350]
["1984-09-01",76451]
["1984-10-01",76565]
["1984-11-01",76663]
["1984-12-01",76753]
["1985-01-01",76760]
["1985-02-01",76829]
["1985-03-01",76904]
["1985-04-01",76988]
["1985-05-01",77068]
["1985-06-01",77135]
["1985-07-01",77243]
["1985-08-01",77306]
["1985-09-01",77389]
["1985-10-01",77498]
["1985-11-01",77566]
["1985-12-01",77651]
["1986-01-01",78101]
["1986-02-01",78171]
["1986-03-01",78236]
["1986-04-01",78309]
["1986-05-01",78387]
["1986-06-01",78484]
["1986-07-01",78586]
["1986-08-01",78634]
["1986-09-01",78722]
["1986-10-01",78802]
["1986-11-01",78874]
["1986-12-01",78973]
["1987-01-01",79132]
["1987-02-01",79216]
["1987-03-01",79303]
["1987-04-01",79387]
["1987-05-01",79474]
["1987-06-01",79536]
["1987-07-01",79625]
["1987-08-01",79668]
["1987-09-01",79740]
["1987-10-01",79807]
["1987-11-01",79885]
["1987-12-01",80002]
["1988-01-01",80120]
["1988-02-01",80203]
["1988-03-01",80260]
["1988-04-01",80326]
["1988-05-01",80402]
["1988-06-01",80526]
["1988-07-01",80608]
["1988-08-01",80669]
["1988-09-01",80751]
["1988-10-01",80851]
["1988-11-01",80924]
["1988-12-01",81001]
["1989-01-01",81162]
["1989-02-01",81256]
["1989-03-01",81333]
["1989-04-01",81413]
["1989-05-01",81524]
["1989-06-01",81592]
["1989-07-01",81679]
["1989-08-01",81754]
["1989-09-01",81790]
["1989-10-01",81905]
["1989-11-01",81968]
["1989-12-01",82055]
["1990-01-01",82499]
["1990-02-01",82561]
["1990-03-01",82691]
["1990-04-01",82788]
["1990-05-01",82877]
["1990-06-01",82967]
["1990-07-01",83048]
["1990-08-01",83181]
["1990-09-01",83293]
["1990-10-01",83408]
["1990-11-01",83475]
["1990-12-01",83573]
["1991-01-01",83666]
["1991-02-01",83745]
["1991-03-01",83799]
["1991-04-01",83862]
["1991-05-01",83966]
["1991-06-01",84065]
["1991-07-01",84158]
["1991-08-01",84256]
["1991-09-01",84363]
["1991-10-01",84517]
["1991-11-01",84605]
["1991-12-01",84727]
["1992-01-01",84816]
["1992-02-01",84896]
["1992-03-01",84936]
["1992-04-01",85008]
["1992-05-01",85090]
["1992-06-01",85177]
["1992-07-01",85265]
["1992-08-01",85361]
["1992-09-01",85458]
["1992-10-01",85559]
["1992-11-01",85653]
["1992-12-01",85742]
["1993-01-01",85847]
["1993-02-01",85961]
["1993-03-01",86047]
["1993-04-01",86084]
["1993-05-01",86150]
["1993-06-01",86207]
["1993-07-01",86269]
["1993-08-01",86309]
["1993-09-01",86413]
["1993-10-01",86494]
["1993-11-01",86580]
["1993-12-01",86706]
["1994-01-01",86778]
["1994-02-01",86820]
["1994-03-01",86901]
["1994-04-01",86946]
["1994-05-01",87000]
["1994-06-01",87095]
["1994-07-01",87123]
["1994-08-01",87248]
["1994-09-01",87321]
["1994-10-01",87439]
["1994-11-01",87529]
["1994-12-01",87617]
["1995-01-01",87528]
["1995-02-01",87572]
["1995-03-01",87622]
["1995-04-01",87664]
["1995-05-01",87691]
["1995-06-01",87750]
["1995-07-01",87818]
["1995-08-01",87905]
["1995-09-01",87940]
["1995-10-01",88027]
["1995-11-01",88046]
["1995-12-01",88172]
["1996-01-01",88223]
["1996-02-01",88296]
["1996-03-01",88366]
["1996-04-01",88440]
["1996-05-01",88530]
["1996-06-01",88570]
["1996-07-01",88614]
["1996-08-01",88650]
["1996-09-01",88733]
["1996-10-01",88840]
["1996-11-01",88971]
["1996-12-01",89040]
["1997-01-01",89446]
["1997-02-01",89556]
["1997-03-01",89604]
["1997-04-01",89680]
["1997-05-01",89766]
["1997-06-01",89829]
["1997-07-01",89888]
["1997-08-01",89982]
["1997-09-01",90068]
["1997-10-01",90140]
["1997-11-01",90251]
["1997-12-01",90339]
["1998-01-01",90391]
["1998-02-01",90476]
["1998-03-01",90502]
["1998-04-01",90580]
["1998-05-01",90622]
["1998-06-01",90700]
["1998-07-01",90802]
["1998-08-01",90889]
["1998-09-01",91003]
["1998-10-01",91101]
["1998-11-01",91192]
["1998-12-01",91220]
["1999-01-01",91124]
["1999-02-01",91189]
["1999-03-01",91215]
["1999-04-01",91302]
["1999-05-01",91368]
["1999-06-01",91487]
["1999-07-01",91561]
["1999-08-01",91692]
["1999-09-01",91793]
["1999-10-01",91896]
["1999-11-01",91986]
["1999-12-01",92052]
["2000-01-01",93203]
["2000-02-01",93256]
["2000-03-01",93332]
["2000-04-01",93540]
["2000-05-01",93685]
["2000-06-01",93859]
["2000-07-01",93967]
["2000-08-01",94102]
["2000-09-01",94229]
["2000-10-01",94351]
["2000-11-01",94504]
["2000-12-01",94468]
["2001-01-01",94506]
["2001-02-01",94616]
["2001-03-01",94717]
["2001-04-01",94897]
["2001-05-01",95054]
["2001-06-01",95143]
["2001-07-01",95259]
["2001-08-01",95381]
["2001-09-01",95503]
["2001-10-01",95609]
["2001-11-01",95689]
["2001-12-01",95794]
["2002-01-01",95875]
["2002-02-01",95929]
["2002-03-01",95999]
["2002-04-01",96116]
["2002-05-01",96205]
["2002-06-01",96375]
["2002-07-01",96468]
["2002-08-01",96552]
["2002-09-01",96732]
["2002-10-01",96860]
["2002-11-01",97022]
["2002-12-01",97139]
["2003-01-01",97635]
["2003-02-01",97762]
["2003-03-01",97869]
["2003-04-01",97979]
["2003-05-01",98083]
["2003-06-01",98196]
["2003-07-01",98304]
["2003-08-01",98434]
["2003-09-01",98568]
["2003-10-01",98696]
["2003-11-01",98814]
["2003-12-01",98927]
["2004-01-01",98866]
["2004-02-01",98966]
["2004-03-01",99065]
["2004-04-01",99170]
["2004-05-01",99279]
["2004-06-01",99396]
["2004-07-01",99512]
["2004-08-01",99642]
["2004-09-01",99776]
["2004-10-01",99904]
["2004-11-01",100017]
["2004-12-01",100126]
["2005-01-01",100219]
["2005-02-01",100321]
["2005-03-01",100419]
["2005-04-01",100520]
["2005-05-01",100634]
["2005-06-01",100754]
["2005-07-01",100874]
["2005-08-01",101004]
["2005-09-01",101136]
["2005-10-01",101265]
["2005-11-01",101383]
["2005-12-01",101489]
["2006-01-01",101560]
["2006-02-01",101657]
["2006-03-01",101754]
["2006-04-01",101857]
["2006-05-01",101963]
["2006-06-01",102075]
["2006-07-01",102187]
["2006-08-01",102308]
["2006-09-01",102428]
["2006-10-01",102549]
["2006-11-01",102656]
["2006-12-01",102751]
["2007-01-01",102956]
["2007-02-01",103046]
["2007-03-01",103143]
["2007-04-01",103248]
["2007-05-01",103361]
["2007-06-01",103477]
["2007-07-01",103598]
["2007-08-01",103723]
["2007-09-01",103847]
["2007-10-01",103973]
["2007-11-01",104087]
["2007-12-01",104197]
["2008-01-01",103866]
["2008-02-01",103961]
["2008-03-01",104052]
["2008-04-01",104152]
["2008-05-01",104258]
["2008-06-01",104371]
["2008-07-01",104490]
["2008-08-01",104613]
["2008-09-01",104741]
["2008-10-01",104869]
["2008-11-01",104978]
["2008-12-01",105083]
["2009-01-01",104902]
["2009-02-01",104999]
["2009-03-01",105095]
["2009-04-01",105196]
["2009-05-01",105299]
["2009-06-01",105412]
["2009-07-01",105530]
["2009-08-01",105651]
["2009-09-01",105780]
["2009-10-01",105906]
["2009-11-01",106018]
["2009-12-01",106125]
["2010-01-01",105998]
["2010-02-01",106100]
["2010-03-01",106198]
["2010-04-01",106301]
["2010-05-01",106407]
["2010-06-01",106522]
["2010-07-01",106641]
["2010-08-01",106761]
["2010-09-01",106887]
["2010-10-01",107007]
["2010-11-01",107114]
["2010-12-01",107216]
["2011-01-01",107203]
["2011-02-01",107292]
["2011-03-01",107381]
["2011-04-01",107469]
["2011-05-01",107566]
["2011-06-01",107668]
["2011-07-01",107773]
["2011-08-01",107884]
["2011-09-01",107994]
["2011-10-01",108104]
["2011-11-01",108203]
["2011-12-01",108290]
["2012-01-01",108087]
["2012-02-01",108188]
["2012-03-01",108289]
["2012-04-01",108396]
["2012-05-01",108503]
["2012-06-01",108613]
["2012-07-01",108727]
["2012-08-01",108851]
["2012-09-01",108973]
["2012-10-01",109096]
["2012-11-01",109206]
["2012-12-01",109308]
["2013-01-01",109448]
["2013-02-01",109541]
["2013-03-01",109635]
["2013-04-01",109736]
["2013-05-01",109839]
["2013-06-01",109943]
["2013-07-01",110054]
["2013-08-01",110172]
["2013-09-01",110292]
["2013-10-01",110414]
["2013-11-01",110515]
["2013-12-01",110613]
["2014-01-01",110746]
["2014-02-01",110838]
["2014-03-01",110930]
["2014-04-01",111027]
["2014-05-01",111126]
["2014-06-01",111230]
["2014-07-01",111342]
["2014-08-01",111451]
["2014-09-01",111567]
["2014-10-01",111679]
["2014-11-01",111778]
["2014-12-01",111875]
["2015-01-01",112117]
["2015-02-01",112209]
["2015-03-01",112304]

{"sheet":"Women over 20","index":41,"n_rows":833,"n_cols":13,"rows_kept":833,"cut":false,"hidden":false,"merged":[]}
["Title:","Civilian","Noninstitutional","Population","-",20,"years","and","over,","Women"]
["Series","ID:","LNU00000026"]
["Source:","US.","Bureau","of","Labor","Statistics"]
["Release:","Employment","Situation"]
["Seasonal","Adjustment:","Not","Seasonally","Adjusted"]
["Frequency:","Monthly"]
["Units:","Thousands","of","Persons"]
["Date","Range:","1948-01-01","to","2015-03-01"]
["Last","Updated:","2015-04-03","08:06:00","AM","CDT"]
["Notes:","To","obtain","estimates","of","women","worker","employment,","the","ratio","of","weighted"]
[null,"women","employees","to","the","weighted","all","employees","in","the","sample","is","assumed"]
[null,"to","equal","the","same","ratio","in","the","universe.","The","current","month's","women"]
[null,"worker","ratio,","thus,","is","estimated","and","then","multiplied","by","the"]
[null,"all-employee","estimate.","The","weighted-difference-link-and-taper","formula"]
[null,"(described","in","the","source)","is","used","to","estimate","the","current","month's"]
[null,"women","worker","ratio.","This","formula","adds","the","change","in","the","matched"]
[null,"sample's","women","worker","ratio","(the","weighted-difference","link)","to","the"]
[null,"prior","month's","estimate,","which","has","been","slightly","modified","to","reflect"]
[null,"changes","in","the","sample","composition","(the","taper)."]
[]
[null,"The","series","comes","from","the","'Current","Population","Survey","(Household"]
[null,"Survey)'"]
[]
[null,"The","source","code","is:","LNU00000026"]
[]
["DATE","VALUE"]
["1948-01-01",48365]
["1948-02-01",48423]
["1948-03-01",48482]
["1948-04-01",48529]
["1948-05-01",48590]
["1948-06-01",48654]
["1948-07-01",48755]
["1948-08-01",48799]
["1948-09-01",48860]
["1948-10-01",48926]
["1948-11-01",48982]
["1948-12-01",49037]
["1949-01-01",49090]
["1949-02-01",49142]
["1949-03-01",49200]
["1949-04-01",49254]
["1949-05-01",49311]
["1949-06-01",49367]
["1949-07-01",49428]
["1949-08-01",49488]
["1949-09-01",49543]
["1949-10-01",49610]
["1949-11-01",49660]
["1949-12-01",49724]
["1950-01-01",49771]
["1950-02-01",49827]
["1950-03-01",49884]
["1950-04-01",49942]
["1950-05-01",49987]
["1950-06-01",50040]
["1950-07-01",50099]
["1950-08-01",50186]
["1950-09-01",50244]
["1950-10-01",50308]
["1950-11-01",50363]
["1950-12-01",50417]
["1951-01-01",50464]
["1951-02-01",50516]
["1951-03-01",50574]
["1951-04-01",50621]
["1951-05-01",50669]
["1951-06-01",50719]
["1951-07-01",50778]
["1951-08-01",50832]
["1951-09-01",50886]
["1951-10-01",50942]
["1951-11-01",50998]
["1951-12-01",51050]
["1952-01-01",51096]
["1952-02-01",51146]
["1952-03-01",51192]
["1952-04-01",51238]
["1952-05-01",51288]
["1952-06-01",51346]
["1952-07-01",51400]
["1952-08-01",51450]
["1952-09-01",51502]
["1952-10-01",51556]
["1952-11-01",51608]
["1952-12-01",51656]
["1953-01-01",51875]
["1953-02-01",51911]
["1953-03-01",51950]
["1953-04-01",51986]
["1953-05-01",52034]
["1953-06-01",52086]
["1953-07-01",52134]
["1953-08-01",52180]
["1953-09-01",52233]
["1953-10-01",52282]
["1953-11-01",52328]
["1953-12-01",52370]
["1954-01-01",52421]
["1954-02-01",52461]
["1954-03-01",52503]
["1954-04-01",52541]
["1954-05-01",52589]
["1954-06-01",52624]
["1954-07-01",52659]
["1954-08-01",52711]
["1954-09-01",52758]
["1954-10-01",52811]
["1954-11-01",52863]
["1954-12-01",52911]
["1955-01-01",52955]
["1955-02-01",52976]
["1955-03-01",53047]
["1955-04-01",53085]
["1955-05-01",53152]
["1955-06-01",53208]
["1955-07-01",53268]
["1955-08-01",53320]
["1955-09-01",53369]
["1955-10-01",53417]
["1955-11-01",53466]
["1955-12-01",53523]
["1956-01-01",53557]
["1956-02-01",53599]
["1956-03-01",53644]
["1956-04-01",53675]
["1956-05-01",53754]
["1956-06-01",53791]
["1956-07-01",53840]
["1956-08-01",53882]
["1956-09-01",53935]
["1956-10-01",53989]
["1956-11-01",54037]
["1956-12-01",54082]
["1957-01-01",54129]
["1957-02-01",54169]
["1957-03-01",54224]
["1957-04-01",54280]
["1957-05-01",54326]
["1957-06-01",54396]
["1957-07-01",54457]
["1957-08-01",54510]
["1957-09-01",54560]
["1957-10-01",54617]
["1957-11-01",54667]
["1957-12-01",54712]
["1958-01-01",54751]
["1958-02-01",54793]
["1958-03-01",54842]
["1958-04-01",54882]
["1958-05-01",54928]
["1958-06-01",54977]
["1958-07-01",55013]
["1958-08-01",55052]
["1958-09-01",55101]
["1958-10-01",55159]
["1958-11-01",55212]
["1958-12-01",55261]
["1959-01-01",55308]
["1959-02-01",55352]
["1959-03-01",55396]
["1959-04-01",55442]
["1959-05-01",55493]
["1959-06-01",55540]
["1959-07-01",55591]
["1959-08-01",55642]
["1959-09-01",55695]
["1959-10-01",55747]
["1959-11-01",55794]
["1959-12-01",55845]
["1960-01-01",56087]
["1960-02-01",56131]
["1960-03-01",56183]
["1960-04-01",56216]
["1960-05-01",56259]
["1960-06-01",56310]
["1960-07-01",56363]
["1960-08-01",56419]
["1960-09-01",56474]
["1960-10-01",56532]
["1960-11-01",56625]
["1960-12-01",56705]
["1961-01-01",56776]
["1961-02-01",56824]
["1961-03-01",56870]
["1961-04-01",56932]
["1961-05-01",56990]
["1961-06-01",57046]
["1961-07-01",57104]
["1961-08-01",57168]
["1961-09-01",57229]
["1961-10-01",57293]
["1961-11-01",57352]
["1961-12-01",57409]
["1962-01-01",57459]
["1962-02-01",57520]
["1962-03-01",57580]
["1962-04-01",57619]
["1962-05-01",57675]
["1962-06-01",57734]
["1962-07-01",57861]
["1962-08-01",57931]
["1962-09-01",58006]
["1962-10-01",58078]
["1962-11-01",58148]
["1962-12-01",58220]
["1963-01-01",58282]
["1963-02-01",58342]
["1963-03-01",58412]
["1963-04-01",58468]
["1963-05-01",58514]
["1963-06-01",58586]
["1963-07-01",58654]
["1963-08-01",58710]
["1963-09-01",58768]
["1963-10-01",58839]
["1963-11-01",58904]
["1963-12-01",58966]
["1964-01-01",59036]
["1964-02-01",59096]
["1964-03-01",59154]
["1964-04-01",59217]
["1964-05-01",59288]
["1964-06-01",59355]
["1964-07-01",59423]
["1964-08-01",59489]
["1964-09-01",59557]
["1964-10-01",59626]
["1964-11-01",59694]
["1964-12-01",59759]
["1965-01-01",59816]
["1965-02-01",59877]
["1965-03-01",59943]
["1965-04-01",60000]
["1965-05-01",60061]
["1965-06-01",60127]
["1965-07-01",60110]
["1965-08-01",60169]
["1965-09-01",60236]
["1965-10-01",60303]
["1965-11-01",60362]
["1965-12-01",60425]
["1966-01-01",60479]
["1966-02-01",60535]
["1966-03-01",60596]
["1966-04-01",60652]
["1966-05-01",60718]
["1966-06-01",60778]
["1966-07-01",60836]
["1966-08-01",60941]
["1966-09-01",61041]
["1966-10-01",61148]
["1966-11-01",61249]
["1966-12-01",61351]
["1967-01-01",61454]
["1967-02-01",61549]
["1967-03-01",61651]
["1967-04-01",61748]
["1967-05-01",61852]
["1967-06-01",61966]
["1967-07-01",62079]
["1967-08-01",62206]
["1967-09-01",62307]
["1967-10-01",62404]
["1967-11-01",62495]
["1967-12-01",62586]
["1968-01-01",62673]
["1968-02-01",62760]
["1968-03-01",62841]
["1968-04-01",62921]
["1968-05-01",63015]
["1968-06-01",63112]
["1968-07-01",63211]
["1968-08-01",63304]
["1968-09-01",63397]
["1968-10-01",63484]
["1968-11-01",63579]
["1968-12-01",63673]
["1969-01-01",63759]
["1969-02-01",63827]
["1969-03-01",63922]
["1969-04-01",64013]
["1969-05-01",64125]
["1969-06-01",64215]
["1969-07-01",64335]
["1969-08-01",64422]
["1969-09-01",64509]
["1969-10-01",64611]
["1969-11-01",64700]
["1969-12-01",64792]
["1970-01-01",64871]
["1970-02-01",64962]
["1970-03-01",65052]
["1970-04-01",65140]
["1970-05-01",65246]
["1970-06-01",65332]
["1970-07-01",65445]
["1970-08-01",65552]
["1970-09-01",65661]
["1970-10-01",65773]
["1970-11-01",65881]
["1970-12-01",65991]
["1971-01-01",66099]
["1971-02-01",66190]
["1971-03-01",66301]
["1971-04-01",66410]
["1971-05-01",66517]
["1971-06-01",66623]
["1971-07-01",66731]
["1971-08-01",66835]
["1971-09-01",66952]
["1971-10-01",67068]
["1971-11-01",67173]
["1971-12-01",67284]
["1972-01-01",67895]
["1972-02-01",68003]
["1972-03-01",68102]
["1972-04-01",68188]
["1972-05-01",68300]
["1972-06-01",68416]
["1972-07-01",68534]
["1972-08-01",68650]
["1972-09-01",68765]
["1972-10-01",68875]
["1972-11-01",68988]
["1972-12-01",69102]
["1973-01-01",69213]
["1973-02-01",69314]
["1973-03-01",69423]
["1973-04-01",69527]
["1973-05-01",69643]
["1973-06-01",69754]
["1973-07-01",69873]
["1973-08-01",69988]
["1973-09-01",70104]
["1973-10-01",70223]
["1973-11-01",70337]
["1973-12-01",70432]
["1974-01-01",70506]
["1974-02-01",70615]
["1974-03-01",70726]
["1974-04-01",70845]
["1974-05-01",70971]
["1974-06-01",71090]
["1974-07-01",71209]
["1974-08-01",71325]
["1974-09-01",71426]
["1974-10-01",71549]
["1974-11-01",71671]
["1974-12-01",71788]
["1975-01-01",71903]
["1975-02-01",72022]
["1975-03-01",72134]
["1975-04-01",72241]
["1975-05-01",72364]
["1975-06-01",72496]
["1975-07-01",72669]
["1975-08-01",72794]
["1975-09-01",72893]
["1975-10-01",73007]
["1975-11-01",73130]
["1975-12-01",73255]
["1976-01-01",73373]
["1976-02-01",73484]
["1976-03-01",73605]
["1976-04-01",73712]
["1976-05-01",73832]
["1976-06-01",73958]
["1976-07-01",74085]
["1976-08-01",74212]
["1976-09-01",74341]
["1976-10-01",74444]
["1976-11-01",74569]
["1976-12-01",74627]
["1977-01-01",74747]
["1977-02-01",74863]
["1977-03-01",74978]
["1977-04-01",75099]
["1977-05-01",75243]
["1977-06-01",75381]
["1977-07-01",75515]
["1977-08-01",75645]
["1977-09-01",75768]
["1977-10-01",75895]
["1977-11-01",76015]
["1977-12-01",76142]
["1978-01-01",76266]
["1978-02-01",76382]
["1978-03-01",76490]
["1978-04-01",76610]
["1978-05-01",76743]
["1978-06-01",76880]
["1978-07-01",77014]
["1978-08-01",77137]
["1978-09-01",77266]
["1978-10-01",77401]
["1978-11-01",77524]
["1978-12-01",77655]
["1979-01-01",77779]
["1979-02-01",77895]
["1979-03-01",78050]
["1979-04-01",78121]
["1979-05-01",78281]
["1979-06-01",78421]
["1979-07-01",78553]
["1979-08-01",78677]
["1979-09-01",78805]
["1979-10-01",78998]
["1979-11-01",79127]
["1979-12-01",79255]
["1980-01-01",79385]
["1980-02-01",79506]
["1980-03-01",79626]
["1980-04-01",79746]
["1980-05-01",79863]
["1980-06-01",79996]
["1980-07-01",80151]
["1980-08-01",80264]
["1980-09-01",80383]
["1980-10-01",80502]
["1980-11-01",80617]
["1980-12-01",80732]
["1981-01-01",80856]
["1981-02-01",80966]
["1981-03-01",81076]
["1981-04-01",81193]
["1981-05-01",81308]
["1981-06-01",81434]
["1981-07-01",81561]
["1981-08-01",81671]
["1981-09-01",81792]
["1981-10-01",81920]
["1981-11-01",82038]
["1981-12-01",82151]
["1982-01-01",82260]
["1982-02-01",82367]
["1982-03-01",82478]
["1982-04-01",82591]
["1982-05-01",82707]
["1982-06-01",82811]
["1982-07-01",82926]
["1982-08-01",83035]
["1982-09-01",83152]
["1982-10-01",83271]
["1982-11-01",83385]
["1982-12-01",83383]
["1983-01-01",83490]
["1983-02-01",83593]
["1983-03-01",83699]
["1983-04-01",83794]
["1983-05-01",83899]
["1983-06-01",84008]
["1983-07-01",84122]
["1983-08-01",84224]
["1983-09-01",84333]
["1983-10-01",84443]
["1983-11-01",84553]
["1983-12-01",84666]
["1984-01-01",84860]
["1984-02-01",84962]
["1984-03-01",85064]
["1984-04-01",85168]
["1984-05-01",85272]
["1984-06-01",85380]
["1984-07-01",85488]
["1984-08-01",85581]
["1984-09-01",85688]
["1984-10-01",85793]
["1984-11-01",85897]
["1984-12-01",85995]
["1985-01-01",86015]
["1985-02-01",86086]
["1985-03-01",86181]
["1985-04-01",86274]
["1985-05-01",86380]
["1985-06-01",86477]
["1985-07-01",86575]
["1985-08-01",86652]
["1985-09-01",86727]
["1985-10-01",86810]
["1985-11-01",86901]
["1985-12-01",86988]
["1986-01-01",87112]
["1986-02-01",87185]
["1986-03-01",87263]
["1986-04-01",87355]
["1986-05-01",87444]
["1986-06-01",87547]
["1986-07-01",87629]
["1986-08-01",87689]
["1986-09-01",87779]
["1986-10-01",87856]
["1986-11-01",87933]
["1986-12-01",88016]
["1987-01-01",88150]
["1987-02-01",88237]
["1987-03-01",88321]
["1987-04-01",88395]
["1987-05-01",88464]
["1987-06-01",88546]
["1987-07-01",88632]
["1987-08-01",88685]
["1987-09-01",88785]
["1987-10-01",88843]
["1987-11-01",88923]
["1987-12-01",89010]
["1988-01-01",89110]
["1988-02-01",89178]
["1988-03-01",89261]
["1988-04-01",89307]
["1988-05-01",89382]
["1988-06-01",89502]
["1988-07-01",89588]
["1988-08-01",89670]
["1988-09-01",89735]
["1988-10-01",89807]
["1988-11-01",89887]
["1988-12-01",89954]
["1989-01-01",90072]
["1989-02-01",90153]
["1989-03-01",90242]
["1989-04-01",90318]
["1989-05-01",90432]
["1989-06-01",90526]
["1989-07-01",90607]
["1989-08-01",90684]
["1989-09-01",90771]
["1989-10-01",90860]
["1989-11-01",90952]
["1989-12-01",91042]
["1990-01-01",91148]
["1990-02-01",91203]
["1990-03-01",91280]
["1990-04-01",91359]
["1990-05-01",91451]
["1990-06-01",91531]
["1990-07-01",91615]
["1990-08-01",91747]
["1990-09-01",91838]
["1990-10-01",91956]
["1990-11-01",92079]
["1990-12-01",92162]
["1991-01-01",92287]
["1991-02-01",92331]
["1991-03-01",92389]
["1991-04-01",92465]
["1991-05-01",92558]
["1991-06-01",92639]
["1991-07-01",92745]
["1991-08-01",92826]
["1991-09-01",92923]
["1991-10-01",93021]
["1991-11-01",93116]
["1991-12-01",93193]
["1992-01-01",93291]
["1992-02-01",93377]
["1992-03-01",93423]
["1992-04-01",93483]
["1992-05-01",93584]
["1992-06-01",93653]
["1992-07-01",93730]
["1992-08-01",93825]
["1992-09-01",93923]
["1992-10-01",94012]
["1992-11-01",94099]
["1992-12-01",94215]
["1993-01-01",94282]
["1993-02-01",94369]
["1993-03-01",94413]
["1993-04-01",94465]
["1993-05-01",94509]
["1993-06-01",94550]
["1993-07-01",94664]
["1993-08-01",94739]
["1993-09-01",94837]
["1993-10-01",94923]
["1993-11-01",94977]
["1993-12-01",95040]
["1994-01-01",95109]
["1994-02-01",95159]
["1994-03-01",95225]
["1994-04-01",95282]
["1994-05-01",95329]
["1994-06-01",95407]
["1994-07-01",95469]
["1994-08-01",95544]
["1994-09-01",95658]
["1994-10-01",95729]
["1994-11-01",95821]
["1994-12-01",95873]
["1995-01-01",95961]
["1995-02-01",96020]
["1995-03-01",96037]
["1995-04-01",96099]
["1995-05-01",96141]
["1995-06-01",96204]
["1995-07-01",96265]
["1995-08-01",96327]
["1995-09-01",96409]
["1995-10-01",96487]
["1995-11-01",96555]
["1995-12-01",96633]
["1996-01-01",96717]
["1996-02-01",96757]
["1996-03-01",96798]
["1996-04-01",96857]
["1996-05-01",96925]
["1996-06-01",96999]
["1996-07-01",97064]
["1996-08-01",97146]
["1996-09-01",97226]
["1996-10-01",97290]
["1996-11-01",97366]
["1996-12-01",97457]
["1997-01-01",97520]
["1997-02-01",97571]
["1997-03-01",97638]
["1997-04-01",97685]
["1997-05-01",97767]
["1997-06-01",97834]
["1997-07-01",97919]
["1997-08-01",98000]
["1997-09-01",98082]
["1997-10-01",98144]
["1997-11-01",98212]
["1997-12-01",98300]
["1998-01-01",98420]
["1998-02-01",98471]
["1998-03-01",98534]
["1998-04-01",98583]
["1998-05-01",98668]
["1998-06-01",98735]
["1998-07-01",98778]
["1998-08-01",98901]
["1998-09-01",98994]
["1998-10-01",99037]
["1998-11-01",99135]
["1998-12-01",99181]
["1999-01-01",99686]
["1999-02-01",99746]
["1999-03-01",99833]
["1999-04-01",99923]
["1999-05-01",100008]
["1999-06-01",100131]
["1999-07-01",100203]
["1999-08-01",100285]
["1999-09-01",100385]
["1999-10-01",100458]
["1999-11-01",100573]
["1999-12-01",100666]
["2000-01-01",102205]
["2000-02-01",102313]
["2000-03-01",102371]
["2000-04-01",102495]
["2000-05-01",102639]
["2000-06-01",102737]
["2000-07-01",102860]
["2000-08-01",102966]
["2000-09-01",103090]
["2000-10-01",103226]
["2000-11-01",103184]
["2000-12-01",103389]
["2001-01-01",103449]
["2001-02-01",103525]
["2001-03-01",103649]
["2001-04-01",103764]
["2001-05-01",103847]
["2001-06-01",103947]
["2001-07-01",104003]
["2001-08-01",104113]
["2001-09-01",104239]
["2001-10-01",104347]
["2001-11-01",104422]
["2001-12-01",104490]
["2002-01-01",104553]
["2002-02-01",104668]
["2002-03-01",104752]
["2002-04-01",104871]
["2002-05-01",104977]
["2002-06-01",105089]
["2002-07-01",105190]
["2002-08-01",105334]
["2002-09-01",105421]
["2002-10-01",105509]
["2002-11-01",105594]
["2002-12-01",105678]
["2003-01-01",106235]
["2003-02-01",106322]
["2003-03-01",106411]
["2003-04-01",106510]
["2003-05-01",106613]
["2003-06-01",106724]
["2003-07-01",106839]
["2003-08-01",106957]
["2003-09-01",107080]
["2003-10-01",107197]
["2003-11-01",107303]
["2003-12-01",107404]
["2004-01-01",107131]
["2004-02-01",107216]
["2004-03-01",107299]
["2004-04-01",107389]
["2004-05-01",107483]
["2004-06-01",107586]
["2004-07-01",107687]
["2004-08-01",107801]
["2004-09-01",107920]
["2004-10-01",108032]
["2004-11-01",108129]
["2004-12-01",108221]
["2005-01-01",108316]
["2005-02-01",108403]
["2005-03-01",108486]
["2005-04-01",108573]
["2005-05-01",108672]
["2005-06-01",108776]
["2005-07-01",108880]
["2005-08-01",108996]
["2005-09-01",109114]
["2005-10-01",109228]
["2005-11-01",109332]
["2005-12-01",109425]
["2006-01-01",109478]
["2006-02-01",109562]
["2006-03-01",109646]
["2006-04-01",109736]
["2006-05-01",109829]
["2006-06-01",109927]
["2006-07-01",110026]
["2006-08-01",110134]
["2006-09-01",110241]
["2006-10-01",110349]
["2006-11-01",110445]
["2006-12-01",110528]
["2007-01-01",110803]
["2007-02-01",110880]
["2007-03-01",110964]
["2007-04-01",111057]
["2007-05-01",111157]
["2007-06-01",111259]
["2007-07-01",111367]
["2007-08-01",111479]
["2007-09-01",111590]
["2007-10-01",111703]
["2007-11-01",111805]
["2007-12-01",111903]
["2008-01-01",111739]
["2008-02-01",111822]
["2008-03-01",111902]
["2008-04-01",111990]
["2008-05-01",112083]
["2008-06-01",112183]
["2008-07-01",112290]
["2008-08-01",112401]
["2008-09-01",112518]
["2008-10-01",112633]
["2008-11-01",112731]
["2008-12-01",112825]
["2009-01-01",112738]
["2009-02-01",112824]
["2009-03-01",112908]
["2009-04-01",112999]
["2009-05-01",113089]
["2009-06-01",113189]
["2009-07-01",113296]
["2009-08-01",113405]
["2009-09-01",113522]
["2009-10-01",113636]
["2009-11-01",113737]
["2009-12-01",113832]
["2010-01-01",113796]
["2010-02-01",113886]
["2010-03-01",113974]
["2010-04-01",114066]
["2010-05-01",114160]
["2010-06-01",114264]
["2010-07-01",114372]
["2010-08-01",114481]
["2010-09-01",114596]
["2010-10-01",114704]
["2010-11-01",114801]
["2010-12-01",114894]
["2011-01-01",114637]
["2011-02-01",114714]
["2011-03-01",114792]
["2011-04-01",114868]
["2011-05-01",114954]
["2011-06-01",115045]
["2011-07-01",115138]
["2011-08-01",115238]
["2011-09-01",115338]
["2011-10-01",115437]
["2011-11-01",115526]
["2011-12-01",115602]
["2012-01-01",117082]
["2012-02-01",117170]
["2012-03-01",117260]
["2012-04-01",117353]
["2012-05-01",117448]
["2012-06-01",117546]
["2012-07-01",117648]
["2012-08-01",117760]
["2012-09-01",117869]
["2012-10-01",117980]
["2012-11-01",118079]
["2012-12-01",118170]
["2013-01-01",118348]
["2013-02-01",118433]
["2013-03-01",118520]
["2013-04-01",118612]
["2013-05-01",118708]
["2013-06-01",118804]
["2013-07-01",118907]
["2013-08-01",119018]
["2013-09-01",119131]
["2013-10-01",119246]
["2013-11-01",119341]
["2013-12-01",119433]
["2014-01-01",119497]
["2014-02-01",119583]
["2014-03-01",119669]
["2014-04-01",119760]
["2014-05-01",119852]
["2014-06-01",119948]
["2014-07-01",120052]
["2014-08-01",120156]
["2014-09-01",120265]
["2014-10-01",120370]
["2014-11-01",120465]
["2014-12-01",120557]
["2015-01-01",120970]
["2015-02-01",121060]
["2015-03-01",121152]

{"sheet":"Housing Vacancy","index":42,"n_rows":87,"n_cols":18,"rows_kept":87,"cut":false,"hidden":false,"merged":[]}
["Title:","Housing","Inventory","Estimate:","Vacant","Housing","Units","for","the","United","States"]
["Series","ID:","EVACANTUSQ176N"]
["Source:","US.","Bureau","of","the","Census"]
["Release:","Housing","Vacancies","and","Homeownership"]
["Seasonal","Adjustment:","Not","Seasonally","Adjusted"]
["Frequency:","Quarterly"]
["Units:","Thousands","of","Units"]
["Date","Range:","2000-04-01","to","2014-10-01"]
["Last","Updated:","2015-01-29","09:56:00","AM","CST"]
["Notes:","A","housing","unit","is","vacant","if","no","one","is","living","in","it","at","the","time","of","the"]
[null,"interview,","unless","its","occupants","are","only","temporarily","absent.","In"]
[null,"addition,","a","vacant","unit","may","be","one","which","is","entirely","occupied","by"]
[null,"persons","who","have","a","usual","residence","elsewhere.","New","units","not","yet"]
[null,"occupied","are","classified","as","vacant","housing","units","if","construction","has"]
[null,"reached","a","point","where","all","exterior","windows","and","doors","are","installed","and"]
[null,"final","usable","floors","are","in","place.","Vacant","units","are","excluded","if","they"]
[null,"are","exposed","to","the","elements,","that","is,","if","the","roof,","walls,","windows,","or"]
[null,"doors","no","longer","protect","the","interior","from","the","elements,","or","if","there","is"]
[null,"positive","evidence","(such","as","a","sign","on","the","house","or","block)","that","the","unit"]
[null,"is","to","be","demolished","or","is","condemned.","Also","excluded","are","quarters","being"]
[null,"used","entirely","for","nonresidential","purposes,","such","as","a","store","or","an"]
[null,"office,","or","quarters","used","for","the","storage","of","business","supplies","or"]
[null,"inventory,","machinery,","or","agricultural","products.","Vacant","sleeping","rooms"]
[null,"in","lodging","houses,","transient","accommodations,","barracks,","and","other"]
[null,"quarters","not","defined","as","housing","units","are","not","included","in","the"]
[null,"statistics."]
[]
["DATE","VALUE"]
["2000-04-01",13773]
["2000-07-01",13586]
["2000-10-01",13268]
["2001-01-01",13891]
["2001-04-01",14375]
["2001-07-01",13988]
["2001-10-01",13937]
["2002-01-01",14342]
["2002-04-01",14207]
["2002-07-01",14383]
["2002-10-01",14591]
["2003-01-01",14908]
["2003-04-01",15244]
["2003-07-01",15614]
["2003-10-01",15654]
["2004-01-01",15895]
["2004-04-01",16079]
["2004-07-01",15656]
["2004-10-01",15361]
["2005-01-01",15748]
["2005-04-01",16061]
["2005-07-01",15883]
["2005-10-01",15823]
["2006-01-01",16234]
["2006-04-01",16513]
["2006-07-01",16769]
["2006-10-01",16894]
["2007-01-01",17724]
["2007-04-01",17547]
["2007-07-01",18049]
["2007-10-01",17910]
["2008-01-01",18642]
["2008-04-01",18701]
["2008-07-01",18651]
["2008-10-01",18973]
["2009-01-01",19137]
["2009-04-01",18752]
["2009-07-01",18996]
["2009-10-01",19006]
["2010-01-01",19120]
["2010-04-01",19020]
["2010-07-01",18922]
["2010-10-01",18532]
["2011-01-01",18972]
["2011-04-01",18809]
["2011-07-01",18761]
["2011-10-01",18341]
["2012-01-01",18420]
["2012-04-01",18457]
["2012-07-01",18078]
["2012-10-01",17862]
["2013-01-01",18374]
["2013-04-01",18074]
["2013-07-01",18075]
["2013-10-01",17974]
["2014-01-01",18326]
["2014-04-01",18082]
["2014-07-01",18021]
["2014-10-01",16806]

{"sheet":"Home Vacancy for Sale","index":43,"n_rows":76,"n_cols":16,"rows_kept":76,"cut":false,"hidden":false,"merged":[]}
["Title:","Housing","Inventory","Estimate:","Vacant","Housing","Units","for","Sale","for","the","United","States"]
["Series","ID:","ESALEUSQ176N"]
["Source:","US.","Bureau","of","the","Census"]
["Release:","Housing","Vacancies","and","Homeownership"]
["Seasonal","Adjustment:","Not","Seasonally","Adjusted"]
["Frequency:","Quarterly"]
["Units:","Thousands","of","Units"]
["Date","Range:","2000-04-01","to","2014-10-01"]
["Last","Updated:","2015-01-29","09:56:00","AM","CST"]
["Notes:","This","group","is","limited","to","units","for","sale","only;","it","excludes","units","both"]
[null,"for","rent","and","sale.","If","a","unit","was","located","in","a","multi-unit","structure"]
[null,"which","was","for","sale","as","an","entire","structure","and","if","the","unit","was","not","for"]
[null,"rent,","it","was","reported","as","held off market.","However,","if","the","individual"]
[null,"unit","was","intended","to","be","occupied","by","the","new","owner,","it","was","reported","as"]
[null,"for sale."]
[]
["DATE","VALUE"]
["2000-04-01",1031]
["2000-07-01",1144]
["2000-10-01",1154]
["2001-01-01",1104]
["2001-04-01",1258]
["2001-07-01",1375]
["2001-10-01",1315]
["2002-01-01",1200]
["2002-04-01",1229]
["2002-07-01",1218]
["2002-10-01",1249]
["2003-01-01",1248]
["2003-04-01",1256]
["2003-07-01",1419]
["2003-10-01",1339]
["2004-01-01",1283]
["2004-04-01",1272]
["2004-07-01",1333]
["2004-10-01",1389]
["2005-01-01",1401]
["2005-04-01",1384]
["2005-07-01",1500]
["2005-10-01",1585]
["2006-01-01",1593]
["2006-04-01",1746]
["2006-07-01",1954]
["2006-10-01",2121]
["2007-01-01",2198]
["2007-04-01",2055]
["2007-07-01",2093]
["2007-10-01",2194]
["2008-01-01",2286]
["2008-04-01",2175]
["2008-07-01",2230]
["2008-10-01",2228]
["2009-01-01",2123]
["2009-04-01",1921]
["2009-07-01",2000]
["2009-10-01",2100]
["2010-01-01",2006]
["2010-04-01",1975]
["2010-07-01",1949]
["2010-10-01",2066]
["2011-01-01",2003]
["2011-04-01",1956]
["2011-07-01",1858]
["2011-10-01",1779]
["2012-01-01",1648]
["2012-04-01",1590]
["2012-07-01",1470]
["2012-10-01",1493]
["2013-01-01",1603]
["2013-04-01",1460]
["2013-07-01",1470]
["2013-10-01",1587]
["2014-01-01",1521]
["2014-04-01",1425]
["2014-07-01",1370]
["2014-10-01",1449]

{"sheet":"Personal Cons Excl Energy","index":44,"n_rows":238,"n_cols":11,"rows_kept":238,"cut":false,"hidden":false,"merged":[]}
["Title:","Personal","Consumption","Expenditures:","Chain-type","Price","Index","Less","Food","and","Energy"]
["Series","ID:","JCXFE"]
["Source:","US.","Bureau","of","Economic","Analysis"]
["Release:","Gross","Domestic","Product"]
["Seasonal","Adjustment:","Seasonally","Adjusted"]
["Frequency:","Quarterly"]
["Units:","Index","2009=100"]
["Date","Range:","1959-01-01","to","2014-10-01"]
["Last","Updated:","2015-03-27","08:01:00","AM","CDT"]
["Notes:","BEA","Account","Code:","DPCCRG3"]
[]
[null,"The","number","of","decimal","places","reported","varies","over","time."]
[]
["DATE","VALUE"]
["1959-01-01",17.611000000000001]
["1959-04-01",17.701000000000001]
["1959-07-01",17.815999999999999]
["1959-10-01",17.917999999999999]
["1960-01-01",17.975999999999999]
["1960-04-01",18.045000000000002]
["1960-07-01",18.117999999999999]
["1960-10-01",18.178000000000001]
["1961-01-01",18.209]
["1961-04-01",18.268999999999998]
["1961-07-01",18.350000000000001]
["1961-10-01",18.396000000000001]
["1962-01-01",18.465]
["1962-04-01",18.536000000000001]
["1962-07-01",18.594000000000001]
["1962-10-01",18.626999999999999]
["1963-01-01",18.687999999999999]
["1963-04-01",18.754999999999999]
["1963-07-01",18.824999999999999]
["1963-10-01",18.917000000000002]
["1964-01-01",18.998999999999999]
["1964-04-01",19.058]
["1964-07-01",19.114000000000001]
["1964-10-01",19.164000000000001]
["1965-01-01",19.234999999999999]
["1965-04-01",19.294]
["1965-07-01",19.353999999999999]
["1965-10-01",19.417999999999999]
["1966-01-01",19.516999999999999]
["1966-04-01",19.675999999999998]
["1966-07-01",19.84]
["1966-10-01",20.013000000000002]
["1967-01-01",20.123999999999999]
["1967-04-01",20.257999999999999]
["1967-07-01",20.440999999999999]
["1967-10-01",20.646000000000001]
["1968-01-01",20.878]
["1968-04-01",21.12]
["1968-07-01",21.356999999999999]
["1968-10-01",21.606000000000002]
["1969-01-01",21.846]
["1969-04-01",22.11]
["1969-07-01",22.366]
["1969-10-01",22.63]
["1970-01-01",22.876000000000001]
["1970-04-01",23.135000000000002]
["1970-07-01",23.393000000000001]
["1970-10-01",23.721]
["1971-01-01",24.021999999999998]
["1971-04-01",24.295999999999999]
["1971-07-01",24.524999999999999]
["1971-10-01",24.666]
["1972-01-01",24.902999999999999]
["1972-04-01",25.073]
["1972-07-01",25.262]
["1972-10-01",25.420999999999999]
["1973-01-01",25.599]
["1973-04-01",25.949000000000002]
["1973-07-01",26.294]
["1973-10-01",26.661000000000001]
["1974-01-01",27.117999999999999]
["1974-04-01",27.792000000000002]
["1974-07-01",28.588000000000001]
["1974-10-01",29.286999999999999]
["1975-01-01",29.861999999999998]
["1975-04-01",30.318999999999999]
["1975-07-01",30.774999999999999]
["1975-10-01",31.276]
["1976-01-01",31.751999999999999]
["1976-04-01",32.131999999999998]
["1976-07-01",32.634]
["1976-10-01",33.143000000000001]
["1977-01-01",33.695]
["1977-04-01",34.210999999999999]
["1977-07-01",34.781999999999996]
["1977-10-01",35.292999999999999]
["1978-01-01",35.853999999999999]
["1978-04-01",36.476999999999997]
["1978-07-01",37.104999999999997]
["1978-10-01",37.771000000000001]
["1979-01-01",38.283000000000001]
["1979-04-01",39.122]
["1979-07-01",39.841000000000001]
["1979-10-01",40.668999999999997]
["1980-01-01",41.658999999999999]
["1980-04-01",42.588999999999999]
["1980-07-01",43.533999999999999]
["1980-10-01",44.591999999999999]
["1981-01-01",45.581000000000003]
["1981-04-01",46.436999999999998]
["1981-07-01",47.286999999999999]
["1981-10-01",48.122]
["1982-01-01",48.817999999999998]
["1982-04-01",49.473999999999997]
["1982-07-01",50.264000000000003]
["1982-10-01",50.969000000000001]
["1983-01-01",51.662999999999997]
["1983-04-01",52.064]
["1983-07-01",52.856999999999999]
["1983-10-01",53.280999999999999]
["1984-01-01",53.817]
["1984-04-01",54.448]
["1984-07-01",54.960999999999999]
["1984-10-01",55.356000000000002]
["1985-01-01",56.122]
["1985-04-01",56.63]
["1985-07-01",57.22]
["1985-10-01",57.622]
["1986-01-01",58.247999999999998]
["1986-04-01",58.634]
["1986-07-01",59.023000000000003]
["1986-10-01",59.494999999999997]
["1987-01-01",59.866]
["1987-04-01",60.436999999999998]
["1987-07-01",60.972000000000001]
["1987-10-01",61.600999999999999]
["1988-01-01",62.186]
["1988-04-01",62.94]
["1988-07-01",63.664999999999999]
["1988-10-01",64.367999999999995]
["1989-01-01",65.049000000000007]
["1989-04-01",65.628]
["1989-07-01",66.099999999999994]
["1989-10-01",66.7]
["1990-01-01",67.450999999999993]
["1990-04-01",68.197000000000003]
["1990-07-01",68.875]
["1990-10-01",69.445999999999998]
["1991-01-01",70.036000000000001]
["1991-04-01",70.563999999999993]
["1991-07-01",71.195999999999998]
["1991-10-01",71.748999999999995]
["1992-01-01",72.287999999999997]
["1992-04-01",72.796999999999997]
["1992-07-01",73.227999999999994]
["1992-10-01",73.77]
["1993-01-01",74.277000000000001]
["1993-04-01",74.843000000000004]
["1993-07-01",75.263000000000005]
["1993-10-01",75.649000000000001]
["1994-01-01",75.988]
["1994-04-01",76.498000000000005]
["1994-07-01",76.921999999999997]
["1994-10-01",77.313000000000002]
["1995-01-01",77.709000000000003]
["1995-04-01",78.155000000000001]
["1995-07-01",78.52]
["1995-10-01",78.914000000000001]
["1996-01-01",79.228999999999999]
["1996-04-01",79.599000000000004]
["1996-07-01",79.962999999999994]
["1996-10-01",80.414000000000001]
["1997-01-01",80.728999999999999]
["1997-04-01",81.144999999999996]
["1997-07-01",81.328000000000003]
["1997-10-01",81.581999999999994]
["1998-01-01",81.808000000000007]
["1998-04-01",82.055999999999997]
["1998-07-01",82.341999999999999]
["1998-10-01",82.593999999999994]
["1999-01-01",82.861000000000004]
["1999-04-01",83.117999999999995]
["1999-07-01",83.403000000000006]
["1999-10-01",83.781999999999996]
["2000-01-01",84.244]
["2000-04-01",84.52]
["2000-07-01",84.906000000000006]
["2000-10-01",85.314999999999998]
["2001-01-01",85.798000000000002]
["2001-04-01",86.132000000000005]
["2001-07-01",86.378]
["2001-10-01",86.816999999999993]
["2002-01-01",87.064999999999998]
["2002-04-01",87.573999999999998]
["2002-07-01",88.027000000000001]
["2002-10-01",88.332999999999998]
["2003-01-01",88.548000000000002]
["2003-04-01",88.869]
["2003-07-01",89.228999999999999]
["2003-10-01",89.540999999999997]
["2004-01-01",90.025999999999996]
["2004-04-01",90.572000000000003]
["2004-07-01",90.989000000000004]
["2004-10-01",91.415000000000006]
["2005-01-01",91.998999999999995]
["2005-04-01",92.489000000000004]
["2005-07-01",92.873999999999995]
["2005-10-01",93.480999999999995]
["2006-01-01",93.956999999999994]
["2006-04-01",94.59]
["2006-07-01",95.096999999999994]
["2006-10-01",95.498000000000005]
["2007-01-01",96.177000000000007]
["2007-04-01",96.516000000000005]
["2007-07-01",96.99]
["2007-10-01",97.644999999999996]
["2008-01-01",98.207999999999998]
["2008-04-01",98.703000000000003]
["2008-07-01",99.149000000000001]
["2008-10-01",99.248000000000005]
["2009-01-01",99.366]
["2009-04-01",99.85]
["2009-07-01",100.131]
["2009-10-01",100.65300000000001]
["2010-01-01",100.91]
["2010-04-01",101.17700000000001]
["2010-07-01",101.425]
["2010-10-01",101.63]
["2011-01-01",101.974]
["2011-04-01",102.593]
["2011-07-01",103.11]
["2011-10-01",103.52200000000001]
["2012-01-01",104.063]
["2012-04-01",104.54600000000001]
["2012-07-01",104.871]
["2012-10-01",105.23]
["2013-01-01",105.60599999999999]
["2013-04-01",105.875]
["2013-07-01",106.252]
["2013-10-01",106.60299999999999]
["2014-01-01",106.922]
["2014-04-01",107.447]
["2014-07-01",107.821]
["2014-10-01",108.111]