{"text_format":"1","workbook":"xlsx","n_sheets":16,"sheets":["Contents","Read Stocks","Multiple Stock Graph","Summary","Yahoo Index","FRED Indicies","Exchange Rates","Commodity Prices","Yahoo Stocks","Google Finance Stocks","Google Index","International Indicies","Errors","General Points","Forms","BREAK"],"not_rendered":{"charts":1,"images":1,"macros":1,"external_links":0,"defined_names":86,"comments":5,"pivot_tables":0},"unopened":[],"bounds":{"document_bytes":16777216,"sheet_cells":100000,"rows_first":2000,"rows_last":500,"rows_between":2000,"halvings":0,"cell_chars":16384,"cell_head_chars":4096},"cells_cut":0,"cells_raw":0,"read":"whole","date_system":"1900"}

{"sheet":"Contents","index":0,"n_rows":34,"n_cols":5,"rows_kept":34,"cut":false,"hidden":false,"merged":[]}
[null,null,"Go to Charts by Pressing Shift and Enter on Menu Item "]
[]
[null,null,"Sheet Tab","Description","Author"]
[null,1,"Contents"]
[null,2,"Read Stocks"]
[null,3,"Multiple Stock Graph"]
[null,4,"Summary"]
[null,5,"Yahoo Index"]
[null,6,"FRED Indicies"]
[null,7,"Exchange Rates"]
[null,8,"Commodity Prices"]
[null,9,"Yahoo Stocks"]
[null,10,"Google Finance Stocks"]
[null,11,"Google Index"]
[null,12,"International Indicies"]
[null,13,"Errors"]
[null,14,"General Points"]
[null,15,"Forms"]
[null,16,"BREAK"]
[null,17,"S&P 500"]
[null,18,"DAX"]
[null,19,"NASDAQCOM"]
[null,20,"GDP Inf"]
[null,21,"CPI US"]
[null,22,"CCUSSP01DEM650N"]
[null,23,"INR"]
[null,24,"UK"]
[null,25,"CFH"]
[null,26,"US NOM GNP"]
[null,27,"MCOILBRENTEU"]
[null,28,"GE"]
[null,29,"AAPL"]
[null,30,"GOOG"]
[null,31,"AMZN"]

{"sheet":"Read Stocks","index":1,"n_rows":206,"n_cols":71,"rows_kept":206,"cut":false,"hidden":false,"merged":[]}
[null,null,null,null,null,null,null,null,null,null,null,null,"Final Applied","Final Applied","Column","Source",null,null,"Finance.yahoo Index",null,null,null,null,"FRED Index",null,null,null,null,null,null,null,"Google Index",null,null,null,null,null,null,null,"FRED Commodities",null,null,null,null,null,null,null,"Yahoo Stock Prices",null,null,null,null,null,null,null,"Google Stock Prices",null,null,null,null,null,null,null,"FRED Exonomic Data"]
[null,null,null,null,null,null,"Start Row","Number","Column","Source",null,null,"Sheet Name","Stock or Index Name",null,null,"Counter","Accum","Sheet","Name","Column","Source",null,"Counter","Counter 1","Sheet","Re-ordered","Name","Re-ordered","Column","Source","Counter","Counter","Sheet","Re-ordered","Name","Re-ordered","Column","Source","counter","Accum","Sheet","Re-ordered","Name","Re-ordered","Column","Source","Counter","Counter 1","Sheet","Re-ordered","Name","Re-ordered","Column","Source","Counter","Counter 1","Sheet","Re-ordered","Name","Re-ordered","Column","Source","Counter","Counter 1","Sheet","Re-ordered","Name","Re-ordered","Column","Source"]
[null,null,null,null,null,true,1,{"$f":"'Yahoo Index'!Total_Tickers*F3","v":3},"F","yahoo",null,1,{"$f":"S3&AA3&AI3&AQ3&AY3&BG3&BO3","v":"S&P 500"},{"$f":"T3&AC3&AK3&AS3&BA3&BI3&BQ3","v":"US S&P 500"},{"$f":"U3&AD3&AL3&AT3&BB3&BJ3&BR3","v":"F"},{"$f":"V3&AE3&AM3&AU3&BC3&BK3&BS3","v":"yahoo"},{"$f":"G3","v":1},{"$f":"IF(AND($F$3,Q3<=$H$3),Q3,0)","v":1},{"$f":"IF(R3,'Yahoo Index'!E55,\"\")","v":"S&P 500"},{"$f":"IF(R3,'Yahoo Index'!F55,\"\")","v":"US S&P 500"},{"$f":"IF(R3,$I$3,\"\")","v":"F"},{"$f":"IF(R3,$J$3,\"\")","v":"yahoo"},null,{"$f":"G6","v":4},{"$f":"IF(AND($F$6,X3<=$H$6),X3)","v":false},{"$f":"IF($F$6,'FRED Indicies'!E16)","v":0},{"$f":"IFERROR(INDEX(Z:Z,MATCH(L3,Y:Y,0)),\"\")","v":""},{"$f":"IF($F$6,'FRED Indicies'!D16)","v":0},{"$f":"IFERROR(INDEX(AB:AB,MATCH(L3,Y:Y,0)),\"\")","v":""},{"$f":"IF(AA3<>\"\",$I$6,\"\")","v":""},{"$f":"IF(AA3<>\"\",$J$6,\"\")","v":""},{"$f":"G9","v":4},{"$f":"IF(AND($F$9,AF3<=$H$9),AF3)","v":false},{"$f":"IF(AG3,'Google Index'!E30)","v":false},{"$f":"IFERROR(INDEX(AH:AH,MATCH(Q3,AG:AG,0)),\"\")","v":""},{"$f":"IF(AF3,'Google Index'!F30)","v":"HT Media"},{"$f":"IFERROR(INDEX(AJ:AJ,MATCH(Q3,AG:AG,0)),\"\")","v":""},{"$f":"IF(AI3<>\"\",$I$6,\"\")","v":""},{"$f":"IF(AK3<>\"\",$J$6,\"\")","v":""},{"$f":"G12","v":4},{"$f":"IF(AND($F$12,AN3<=$H$12),AN3)","v":false},{"$f":"IF(AN3,'Commodity Prices'!C16)","v":""},{"$f":"IFERROR(INDEX(AP:AP,MATCH(L3,AO:AO,0)),\"\")","v":""},{"$f":"IF(AO3,'Commodity Prices'!E16)","v":false},{"$f":"IFERROR(INDEX(AR:AR,MATCH(L3,AO:AO,0)),\"\")","v":""},{"$f":"IF(AQ3<>\"\",$I$12,\"\")","v":""},{"$f":"IF(AS3<>\"\",$J$12,\"\")","v":""},{"$f":"G15","v":4},{"$f":"IF(AND($F$15,AV3<=$H$15),AV3)","v":4},{"$f":"IF(AW3,'Yahoo Stocks'!D30)","v":"FSLR"},{"$f":"IFERROR(INDEX(AX:AX,MATCH(L3,AW:AW,0)),\"\")","v":""},{"$f":"IF(AW3,'Yahoo Stocks'!E30)","v":"First Solar"},{"$f":"IFERROR(INDEX(AZ:AZ,MATCH(L3,AW:AW,0)),\"\")","v":""},{"$f":"IF(AY3<>\"\",$I$15,\"\")","v":""},{"$f":"IF(BA3<>\"\",$J$15,\"\")","v":""},{"$f":"G18","v":14},{"$f":"IF(AND($F$18,BD3<=$H$18),BD3)","v":false},{"$f":"IF(BE3,'Google Finance Stocks'!D27)","v":false},{"$f":"IFERROR(INDEX(BF:BF,MATCH(Q3,BE:BE,0)),\"\")","v":""},{"$f":"IF(BE3,'Google Finance Stocks'!E27)","v":false},{"$f":"IFERROR(INDEX(BH:BH,MATCH(Q3,BE:BE,0)),\"\")","v":""},{"$f":"IF(BI3<>\"\",$I$18,\"\")","v":""},{"$f":"IF(BI3<>\"\",$J$18,\"\")","v":""},{"$f":"G21","v":14},{"$f":"IF(AND($F$21,BL3<=$H$21),BL3)","v":14},{"$f":"'Exchange Rates'!D13","v":"GDP Inf"},{"$f":"IFERROR(INDEX(BN:BN,MATCH(L3,BM:BM,0)),\"\")","v":""},{"$f":"IF(BM3,'Exchange Rates'!E13)","v":"Implicit Price Deflator"},{"$f":"IFERROR(INDEX(BP:BP,MATCH(L3,BM:BM,0)),\"\")","v":""},{"$f":"IF(BQ3<>\"\",$I$21,\"\")","v":""},{"$f":"IF(BQ3<>\"\",$J$21,\"\")","v":""}]
[null,null,null,null,null,null,null,null,null,null,null,2,{"$f":"S4&AA4&AI4&AQ4&AY4&BG4&BO4","v":"DAX"},{"$f":"T4&AC4&AK4&AS4&BA4&BI4&BQ4","v":"DAX in Euro"},{"$f":"U4&AD4&AL4&AT4&BB4&BJ4&BR4","v":"F"},{"$f":"V4&AE4&AM4&AU4&BC4&BK4&BS4","v":"yahoo"},{"$f":"Q3+1","v":2},{"$f":"IF(AND($F$3,Q4<=$H$3),Q4)","v":2},{"$f":"IF(R4,'Yahoo Index'!E56,\"\")","v":"DAX"},{"$f":"IF(R4,'Yahoo Index'!F56,\"\")","v":"DAX in Euro"},{"$f":"IF(R4,$I$3,\"\")","v":"F"},{"$f":"IF(R4,$J$3,\"\")","v":"yahoo"},null,{"$f":"X3+1","v":5},false,{"$f":"IF($F$6,'FRED Indicies'!E17)","v":0},"",{"$f":"IF($F$6,'FRED Indicies'!D17)","v":0},"",{"$f":"IF(AA4<>\"\",$I$6,\"\")","v":""},{"$f":"IF(AA4<>\"\",$J$6,\"\")","v":""},{"$f":"AF3+1","v":5},{"$f":"IF(AND($F$9,AF4<=$H$9),AF4)","v":false},{"$f":"IF(AG4,'Google Index'!E31)","v":false},"",{"$f":"IF(AF4,'Google Index'!F31)","v":0},"",{"$f":"IF(AI4<>\"\",$I$6,\"\")","v":""},{"$f":"IF(AK4<>\"\",$J$6,\"\")","v":""},{"$f":"AN3+1","v":5},{"$f":"IF(AND($F$12,AN4<=$H$12),AN4)","v":false},{"$f":"IF(AN4,'Commodity Prices'!C17)","v":""},{"$f":"IFERROR(INDEX(AP:AP,MATCH(L4,AO:AO,0)),\"\")","v":""},{"$f":"IF(AO4,'Commodity Prices'!E17)","v":false},"",{"$f":"IF(AQ4<>\"\",$I$12,\"\")","v":""},{"$f":"IF(AS4<>\"\",$J$12,\"\")","v":""},{"$f":"AV3+1","v":5},{"$f":"IF(AND($F$15,AV4<=$H$15),AV4)","v":5},{"$f":"IF(AW4,'Yahoo Stocks'!D31)","v":"JKS"},{"$f":"IFERROR(INDEX(AX:AX,MATCH(L4,AW:AW,0)),\"\")","v":""},{"$f":"IF(AW4,'Yahoo Stocks'!E31)","v":"Jinko Solar"},{"$f":"IFERROR(INDEX(AZ:AZ,MATCH(L4,AW:AW,0)),\"\")","v":""},{"$f":"IF(AY4<>\"\",$I$15,\"\")","v":""},{"$f":"IF(BA4<>\"\",$J$15,\"\")","v":""},{"$f":"BD3+1","v":15},{"$f":"IF(AND($F$18,BD4<=$H$18),BD4)","v":false},{"$f":"IF(BE4,'Google Finance Stocks'!D28)","v":false},{"$f":"IFERROR(INDEX(BF:BF,MATCH(Q4,BE:BE,0)),\"\")","v":""},{"$f":"IF(BE4,'Google Finance Stocks'!E28)","v":false},{"$f":"IFERROR(INDEX(BH:BH,MATCH(Q4,BE:BE,0)),\"\")","v":""},{"$f":"IF(BI4<>\"\",$I$18,\"\")","v":""},{"$f":"IF(BI4<>\"\",$J$18,\"\")","v":""},{"$f":"BL3+1","v":15},{"$f":"IF(AND($F$21,BL4<=$H$21),BL4)","v":15},{"$f":"'Exchange Rates'!D14","v":"CPI US"},{"$f":"IFERROR(INDEX(BN:BN,MATCH(L4,BM:BM,0)),\"\")","v":""},{"$f":"IF(BM4,'Exchange Rates'!E14)","v":"Consumer Price Inflation"},{"$f":"IFERROR(INDEX(BP:BP,MATCH(L4,BM:BM,0)),\"\")","v":""},{"$f":"IF(BQ4<>\"\",$I$21,\"\")","v":""},{"$f":"IF(BQ4<>\"\",$J$21,\"\")","v":""}]
[null,null,null,null,null,null,null,null,null,null,null,3,"Mexico",{"$f":"T5&AC5&AK5&AS5&BA5&BI5&BQ5","v":"Mexican Index"},"F","yahoo",{"$f":"Q4+1","v":3},3,{"$f":"IF(R5,'Yahoo Index'!E57,\"\")","v":"Mexico"},{"$f":"IF(R5,'Yahoo Index'!F57,\"\")","v":"Mexican Index"},"F","yahoo",null,{"$f":"X4+1","v":6},false,{"$f":"IF($F$6,'FRED Indicies'!E18)","v":0},"",{"$f":"IF($F$6,'FRED Indicies'!D18)","v":0},"","","",{"$f":"AF4+1","v":6},false,{"$f":"IF(AG5,'Google Index'!E32)","v":false},"",{"$f":"IF(AF5,'Google Index'!F32)","v":0},"","","",{"$f":"AN4+1","v":6},false,{"$f":"IF(AN5,'Commodity Prices'!C18)","v":""},"",{"$f":"IF(AO5,'Commodity Prices'!E18)","v":false},"","","",{"$f":"AV4+1","v":6},6,{"$f":"IF(AW5,'Yahoo Stocks'!D32)","v":"TSL"},"",{"$f":"IF(AW5,'Yahoo Stocks'!E32)","v":"Trina Solar"},"","","",{"$f":"BD4+1","v":16},false,{"$f":"IF(BE5,'Google Finance Stocks'!D29)","v":false},"",{"$f":"IF(BE5,'Google Finance Stocks'!E29)","v":false},"","","",{"$f":"BL4+1","v":16},16,{"$f":"'Exchange Rates'!D15","v":"Mex"},"",{"$f":"IF(BM5,'Exchange Rates'!E15)","v":"Mexico / U.S. Foreign Exchange Rate (EXMXUS)"},"","",""]
[null,null,null,null,null,true,{"$f":"H3+1","v":4},{"$f":"'FRED Indicies'!Total_Index*F6+G6-1","v":3},"B","FRED",null,4,"FSLR","First Solar","F","Yahoo",4,false,{"$f":"IF(R6,'Yahoo Index'!E58,\"\")","v":""},{"$f":"IF(R6,'Yahoo Index'!F58,\"\")","v":""},"","",null,7,false,{"$f":"IF($F$6,'FRED Indicies'!E19)","v":0},"",{"$f":"IF($F$6,'FRED Indicies'!D19)","v":0},"","","",7,false,{"$f":"IF(AG6,'Google Index'!E33)","v":false},"",{"$f":"IF(AF6,'Google Index'!F33)","v":0},"","","",7,false,{"$f":"IF(AN6,'Commodity Prices'!C19)","v":""},"",{"$f":"IF(AO6,'Commodity Prices'!E19)","v":false},"","","",7,7,{"$f":"IF(AW6,'Yahoo Stocks'!D33)","v":"CSIQ"},"FSLR",{"$f":"IF(AW6,'Yahoo Stocks'!E33)","v":"Canadian Solar"},"First Solar","F","Yahoo",17,false,{"$f":"IF(BE6,'Google Finance Stocks'!D30)","v":false},"",{"$f":"IF(BE6,'Google Finance Stocks'!E30)","v":false},"","","",17,17,{"$f":"'Exchange Rates'!D16","v":"INR"},"",{"$f":"IF(BM6,'Exchange Rates'!E16)","v":"India / U.S. Foreign Exchange Rate (DEXINUS)"},"","",""]
[null,null,null,null,null,null,null,null,null,null,null,5,"JKS","Jinko Solar","F","Yahoo",5,false,{"$f":"IF(R7,'Yahoo Index'!E59,\"\")","v":""},{"$f":"IF(R7,'Yahoo Index'!F59,\"\")","v":""},"","",null,8,false,{"$f":"IF($F$6,'FRED Indicies'!E20)","v":0},"",{"$f":"IF($F$6,'FRED Indicies'!D20)","v":0},"","","",8,false,{"$f":"IF(AG7,'Google Index'!E34)","v":false},"",{"$f":"IF(AF7,'Google Index'!F34)","v":0},"","","",8,false,{"$f":"IF(AN7,'Commodity Prices'!C20)","v":""},"",{"$f":"IF(AO7,'Commodity Prices'!E20)","v":false},"","","",8,8,{"$f":"IF(AW7,'Yahoo Stocks'!D34)","v":"JASO"},"JKS",{"$f":"IF(AW7,'Yahoo Stocks'!E34)","v":"JA Solar"},"Jinko Solar","F","Yahoo",18,false,{"$f":"IF(BE7,'Google Finance Stocks'!D31)","v":false},"",{"$f":"IF(BE7,'Google Finance Stocks'!E31)","v":false},"","","",18,18,{"$f":"'Exchange Rates'!D17","v":"UK"},"",{"$f":"IF(BM7,'Exchange Rates'!E17)","v":"U.S. / U.K. Foreign Exchange Rate (EXUSUK)"},"","",""]
[null,null,null,null,null,null,null,null,null,null,null,6,"TSL","Trina Solar","F","Yahoo",6,false,{"$f":"IF(R8,'Yahoo Index'!E60,\"\")","v":""},{"$f":"IF(R8,'Yahoo Index'!F60,\"\")","v":""},"","",null,9,false,{"$f":"IF($F$6,'FRED Indicies'!E21)","v":0},"",{"$f":"IF($F$6,'FRED Indicies'!D21)","v":0},"","","",9,false,{"$f":"IF(AG8,'Google Index'!E35)","v":false},"",{"$f":"IF(AF8,'Google Index'!F35)","v":0},"","","",9,false,{"$f":"IF(AN8,'Commodity Prices'!C21)","v":""},"",{"$f":"IF(AO8,'Commodity Prices'!E21)","v":false},"","","",9,9,{"$f":"IF(AW8,'Yahoo Stocks'!D35)","v":"HQCL"},"TSL",{"$f":"IF(AW8,'Yahoo Stocks'!E35)","v":"Hanwha Q Cells"},"Trina Solar","F","Yahoo",19,false,{"$f":"IF(BE8,'Google Finance Stocks'!D32)","v":false},"",{"$f":"IF(BE8,'Google Finance Stocks'!E32)","v":false},"","","",19,19,{"$f":"'Exchange Rates'!D18","v":"CFH"},"",{"$f":"IF(BM8,'Exchange Rates'!E18)","v":"Switzerland / U.S. Foreign Exchange Rate (DEXSZUS)"},"","",""]
[null,null,null,null,null,false,{"$f":"H6+1","v":4},{"$f":"'Google Index'!D20*F9+G9-1","v":3},"D","Google",null,7,"CSIQ","Canadian Solar","F","Yahoo",7,false,{"$f":"IF(R9,'Yahoo Index'!E61,\"\")","v":""},{"$f":"IF(R9,'Yahoo Index'!F61,\"\")","v":""},"","",null,10,false,{"$f":"IF($F$6,'FRED Indicies'!E22)","v":0},"",{"$f":"IF($F$6,'FRED Indicies'!D22)","v":0},"","","",10,false,{"$f":"IF(AG9,'Google Index'!E36)","v":false},"",{"$f":"IF(AF9,'Google Index'!F36)","v":0},"","","",10,false,{"$f":"IF(AN9,'Commodity Prices'!C22)","v":""},"",{"$f":"IF(AO9,'Commodity Prices'!E22)","v":false},"","","",10,10,{"$f":"IF(AW9,'Yahoo Stocks'!D36)","v":"YGE"},"CSIQ",{"$f":"IF(AW9,'Yahoo Stocks'!E36)","v":"Yingi Green"},"Canadian Solar","F","Yahoo",20,false,{"$f":"IF(BE9,'Google Finance Stocks'!D33)","v":false},"",{"$f":"IF(BE9,'Google Finance Stocks'!E33)","v":false},"","","",20,20,{"$f":"'Exchange Rates'!D19","v":"US NOM GNP"},"",{"$f":"IF(BM9,'Exchange Rates'!E19)","v":"Gross National Product (GNP)"},"","",""]
[null,null,null,null,null,null,null,null,null,null,null,8,"JASO","JA Solar","F","Yahoo",8,false,{"$f":"IF(R10,'Yahoo Index'!E62,\"\")","v":""},{"$f":"IF(R10,'Yahoo Index'!F62,\"\")","v":""},"","",null,11,false,{"$f":"IF($F$6,'FRED Indicies'!E23)","v":0},"",{"$f":"IF($F$6,'FRED Indicies'!D23)","v":0},"","","",11,false,{"$f":"IF(AG10,'Google Index'!E37)","v":false},"",{"$f":"IF(AF10,'Google Index'!F37)","v":0},"","","",11,false,{"$f":"IF(AN10,'Commodity Prices'!C23)","v":""},"",{"$f":"IF(AO10,'Commodity Prices'!E23)","v":false},"","","",11,11,{"$f":"IF(AW10,'Yahoo Stocks'!D37)","v":"1165.HK"},"JASO",{"$f":"IF(AW10,'Yahoo Stocks'!E37)","v":"Sunfeng"},"JA Solar","F","Yahoo",21,false,{"$f":"IF(BE10,'Google Finance Stocks'!D34)","v":false},"",{"$f":"IF(BE10,'Google Finance Stocks'!E34)","v":false},"","","",21,21,{"$f":"'Exchange Rates'!D20","v":"US GDP"},"",{"$f":"IF(BM10,'Exchange Rates'!E20)","v":"Gross Domestic Product (GDP)"},"","",""]
[null,null,null,null,null,null,null,null,null,null,null,9,"HQCL","Hanwha Q Cells","F","Yahoo",9,false,{"$f":"IF(R11,'Yahoo Index'!E63,\"\")","v":""},{"$f":"IF(R11,'Yahoo Index'!F63,\"\")","v":""},"","",null,12,false,{"$f":"IF($F$6,'FRED Indicies'!E24)","v":0},"",{"$f":"IF($F$6,'FRED Indicies'!D24)","v":0},"","","",12,false,{"$f":"IF(AG11,'Google Index'!E38)","v":false},"",{"$f":"IF(AF11,'Google Index'!F38)","v":0},"","","",12,false,{"$f":"IF(AN11,'Commodity Prices'!C24)","v":""},"",{"$f":"IF(AO11,'Commodity Prices'!E24)","v":false},"","","",12,12,{"$f":"IF(AW11,'Yahoo Stocks'!D38)","v":"300118.SZ"},"HQCL",{"$f":"IF(AW11,'Yahoo Stocks'!E38)","v":"Risen Energy"},"Hanwha Q Cells","F","Yahoo",22,false,{"$f":"IF(BE11,'Google Finance Stocks'!D35)","v":false},"",{"$f":"IF(BE11,'Google Finance Stocks'!E35)","v":false},"","","",22,false,{"$f":"'Exchange Rates'!D21","v":0},"",{"$f":"IF(BM11,'Exchange Rates'!E21)","v":false},"","",""]
[null,null,null,null,null,true,{"$f":"H9+1","v":4},{"$f":"Total_Com*F12+G12-1","v":3},"B","FRED",null,10,"YGE","Yingi Green","F","Yahoo",10,false,{"$f":"IF(R12,'Yahoo Index'!E64,\"\")","v":""},{"$f":"IF(R12,'Yahoo Index'!F64,\"\")","v":""},"","",null,13,false,{"$f":"IF($F$6,'FRED Indicies'!E25)","v":0},"",{"$f":"IF($F$6,'FRED Indicies'!D25)","v":0},"","","",13,false,{"$f":"IF(AG12,'Google Index'!E39)","v":false},"",{"$f":"IF(AF12,'Google Index'!F39)","v":0},"","","",13,false,{"$f":"IF(AN12,'Commodity Prices'!C25)","v":""},"",{"$f":"IF(AO12,'Commodity Prices'!E25)","v":false},"","","",13,13,{"$f":"IF(AW12,'Yahoo Stocks'!D39)","v":"601012.SS"},"YGE",{"$f":"IF(AW12,'Yahoo Stocks'!E39)","v":"Longi Solar"},"Yingi Green","F","Yahoo",23,false,{"$f":"IF(BE12,'Google Finance Stocks'!D36)","v":false},"",{"$f":"IF(BE12,'Google Finance Stocks'!E36)","v":false},"","","",23,false,{"$f":"'Exchange Rates'!D22","v":0},"",{"$f":"IF(BM12,'Exchange Rates'!E22)","v":false},"","",""]
[null,null,null,null,null,null,null,null,null,null,null,11,"1165.HK","Sunfeng","F","Yahoo",11,false,{"$f":"IF(R13,'Yahoo Index'!E65,\"\")","v":""},{"$f":"IF(R13,'Yahoo Index'!F65,\"\")","v":""},"","",null,14,false,{"$f":"IF($F$6,'FRED Indicies'!E26)","v":0},"",{"$f":"IF($F$6,'FRED Indicies'!D26)","v":0},"","","",14,false,{"$f":"IF(AG13,'Google Index'!E40)","v":false},"",{"$f":"IF(AF13,'Google Index'!F40)","v":0},"","","",14,false,{"$f":"IF(AN13,'Commodity Prices'!C26)","v":""},"",{"$f":"IF(AO13,'Commodity Prices'!E26)","v":false},"","","",14,false,{"$f":"IF(AW13,'Yahoo Stocks'!D40)","v":false},"1165.HK",{"$f":"IF(AW13,'Yahoo Stocks'!E40)","v":false},"Sunfeng","F","Yahoo",24,false,{"$f":"IF(BE13,'Google Finance Stocks'!D37)","v":false},"",{"$f":"IF(BE13,'Google Finance Stocks'!E37)","v":false},"","","",24,false,{"$f":"'Exchange Rates'!D23","v":0},"",{"$f":"IF(BM13,'Exchange Rates'!E23)","v":false},"","",""]
[null,null,null,null,null,null,null,null,null,null,null,12,"300118.SZ","Risen Energy","F","Yahoo",12,false,{"$f":"IF(R14,'Yahoo Index'!E66,\"\")","v":""},{"$f":"IF(R14,'Yahoo Index'!F66,\"\")","v":""},"","",null,15,false,{"$f":"IF($F$6,'FRED Indicies'!E27)","v":0},"",{"$f":"IF($F$6,'FRED Indicies'!D27)","v":0},"","","",15,false,{"$f":"IF(AG14,'Google Index'!E41)","v":false},"",{"$f":"IF(AF14,'Google Index'!F41)","v":0},"","","",15,false,{"$f":"IF(AN14,'Commodity Prices'!C27)","v":""},"",{"$f":"IF(AO14,'Commodity Prices'!E27)","v":false},"","","",15,false,{"$f":"IF(AW14,'Yahoo Stocks'!D41)","v":false},"300118.SZ",{"$f":"IF(AW14,'Yahoo Stocks'!E41)","v":false},"Risen Energy","F","Yahoo",25,false,{"$f":"IF(BE14,'Google Finance Stocks'!D38)","v":false},"",{"$f":"IF(BE14,'Google Finance Stocks'!E38)","v":false},"","","",25,false,{"$f":"'Exchange Rates'!D24","v":0},"",{"$f":"IF(BM14,'Exchange Rates'!E24)","v":false},"","",""]
[null,null,null,null,null,true,{"$f":"H12+1","v":4},{"$f":"Yahoo_Stock_Tickers*F15+G15-1","v":13},"F","Yahoo",null,13,"601012.SS","Longi Solar","F","Yahoo",13,false,{"$f":"IF(R15,'Yahoo Index'!E67,\"\")","v":""},{"$f":"IF(R15,'Yahoo Index'!F67,\"\")","v":""},"","",null,16,false,{"$f":"IF($F$6,'FRED Indicies'!E28)","v":0},"",{"$f":"IF($F$6,'FRED Indicies'!D28)","v":0},"","","",16,false,{"$f":"IF(AG15,'Google Index'!E42)","v":false},"",{"$f":"IF(AF15,'Google Index'!F42)","v":0},"","","",16,false,{"$f":"IF(AN15,'Commodity Prices'!C28)","v":""},"",{"$f":"IF(AO15,'Commodity Prices'!E28)","v":false},"","","",16,false,{"$f":"IF(AW15,'Yahoo Stocks'!D42)","v":false},"601012.SS",{"$f":"IF(AW15,'Yahoo Stocks'!E42)","v":false},"Longi Solar","F","Yahoo",26,false,{"$f":"IF(BE15,'Google Finance Stocks'!D39)","v":false},"",{"$f":"IF(BE15,'Google Finance Stocks'!E39)","v":false},"","","",26,false,{"$f":"'Exchange Rates'!D25","v":0},"",{"$f":"IF(BM15,'Exchange Rates'!E25)","v":false},"","",""]
[null,null,null,null,null,null,null,null,null,null,null,14,"GDP Inf","Implicit Price Deflator","B","FRED",14,false,{"$f":"IF(R16,'Yahoo Index'!E68,\"\")","v":""},{"$f":"IF(R16,'Yahoo Index'!F68,\"\")","v":""},"","",null,17,false,{"$f":"IF($F$6,'FRED Indicies'!E29)","v":0},"",{"$f":"IF($F$6,'FRED Indicies'!D29)","v":0},"","","",17,false,{"$f":"IF(AG16,'Google Index'!E43)","v":false},"",{"$f":"IF(AF16,'Google Index'!F43)","v":0},"","","",17,false,{"$f":"IF(AN16,'Commodity Prices'!C29)","v":""},"",{"$f":"IF(AO16,'Commodity Prices'!E29)","v":false},"","","",17,false,{"$f":"IF(AW16,'Yahoo Stocks'!D43)","v":false},"",{"$f":"IF(AW16,'Yahoo Stocks'!E43)","v":false},"","","",27,false,{"$f":"IF(BE16,'Google Finance Stocks'!D40)","v":false},"",{"$f":"IF(BE16,'Google Finance Stocks'!E40)","v":false},"","","",27,false,{"$f":"'Exchange Rates'!D26","v":0},"GDP Inf",{"$f":"IF(BM16,'Exchange Rates'!E26)","v":false},"Implicit Price Deflator","B","FRED"]
[null,null,null,null,null,null,null,null,null,null,null,15,"CPI US","Consumer Price Inflation","B","FRED",15,false,{"$f":"IF(R17,'Yahoo Index'!E69,\"\")","v":""},{"$f":"IF(R17,'Yahoo Index'!F69,\"\")","v":""},"","",null,18,false,{"$f":"IF($F$6,'FRED Indicies'!E30)","v":0},"",{"$f":"IF($F$6,'FRED Indicies'!D30)","v":0},"","","",18,false,{"$f":"IF(AG17,'Google Index'!E44)","v":false},"",{"$f":"IF(AF17,'Google Index'!F44)","v":0},"","","",18,false,{"$f":"IF(AN17,'Commodity Prices'!C30)","v":""},"",{"$f":"IF(AO17,'Commodity Prices'!E30)","v":false},"","","",18,false,{"$f":"IF(AW17,'Yahoo Stocks'!D44)","v":false},"",{"$f":"IF(AW17,'Yahoo Stocks'!E44)","v":false},"","","",28,false,{"$f":"IF(BE17,'Google Finance Stocks'!D41)","v":false},"",{"$f":"IF(BE17,'Google Finance Stocks'!E41)","v":false},"","","",28,false,{"$f":"'Exchange Rates'!D27","v":0},"CPI US",{"$f":"IF(BM17,'Exchange Rates'!E27)","v":false},"Consumer Price Inflation","B","FRED"]
[null,null,null,null,null,false,{"$f":"H15+1","v":14},{"$f":"Google_Tickers*F18+G18-1","v":13},"D","Google",null,16,"Mex","Mexico / U.S. Foreign Exchange Rate (EXMXUS)","B","FRED",16,false,{"$f":"IF(R18,'Yahoo Index'!E70,\"\")","v":""},{"$f":"IF(R18,'Yahoo Index'!F70,\"\")","v":""},"","",null,19,false,{"$f":"IF($F$6,'FRED Indicies'!E31)","v":0},"",{"$f":"IF($F$6,'FRED Indicies'!D31)","v":0},"","","",19,false,{"$f":"IF(AG18,'Google Index'!E45)","v":false},"",{"$f":"IF(AF18,'Google Index'!F45)","v":0},"","","",19,false,{"$f":"IF(AN18,'Commodity Prices'!C31)","v":""},"",{"$f":"IF(AO18,'Commodity Prices'!E31)","v":false},"","","",19,false,{"$f":"IF(AW18,'Yahoo Stocks'!D45)","v":false},"",{"$f":"IF(AW18,'Yahoo Stocks'!E45)","v":false},"","","",29,false,{"$f":"IF(BE18,'Google Finance Stocks'!D42)","v":false},"",{"$f":"IF(BE18,'Google Finance Stocks'!E42)","v":false},"","","",29,false,{"$f":"'Exchange Rates'!D28","v":0},"Mex",{"$f":"IF(BM18,'Exchange Rates'!E28)","v":false},"Mexico / U.S. Foreign Exchange Rate (EXMXUS)","B","FRED"]
[null,null,null,null,null,null,null,null,null,null,null,17,"INR","India / U.S. Foreign Exchange Rate (DEXINUS)","B","FRED",17,false,{"$f":"IF(R19,'Yahoo Index'!E71,\"\")","v":""},{"$f":"IF(R19,'Yahoo Index'!F71,\"\")","v":""},"","",null,20,false,{"$f":"IF($F$6,'FRED Indicies'!E32)","v":0},"",{"$f":"IF($F$6,'FRED Indicies'!D32)","v":0},"","","",20,false,{"$f":"IF(AG19,'Google Index'!E46)","v":false},"",{"$f":"IF(AF19,'Google Index'!F46)","v":0},"","","",20,false,{"$f":"IF(AN19,'Commodity Prices'!C32)","v":""},"",{"$f":"IF(AO19,'Commodity Prices'!E32)","v":false},"","","",20,false,{"$f":"IF(AW19,'Yahoo Stocks'!D46)","v":false},"",{"$f":"IF(AW19,'Yahoo Stocks'!E46)","v":false},"","","",30,false,{"$f":"IF(BE19,'Google Finance Stocks'!D43)","v":false},"",{"$f":"IF(BE19,'Google Finance Stocks'!E43)","v":false},"","","",30,false,{"$f":"'Exchange Rates'!D29","v":0},"INR",{"$f":"IF(BM19,'Exchange Rates'!E29)","v":false},"India / U.S. Foreign Exchange Rate (DEXINUS)","B","FRED"]
[null,null,null,null,null,null,null,null,null,null,null,18,"UK","U.S. / U.K. Foreign Exchange Rate (EXUSUK)","B","FRED",18,false,{"$f":"IF(R20,'Yahoo Index'!E72,\"\")","v":""},{"$f":"IF(R20,'Yahoo Index'!F72,\"\")","v":""},"","",null,21,false,{"$f":"IF($F$6,'FRED Indicies'!E33)","v":0},"",{"$f":"IF($F$6,'FRED Indicies'!D33)","v":0},"","","",21,false,{"$f":"IF(AG20,'Google Index'!E47)","v":false},"",{"$f":"IF(AF20,'Google Index'!F47)","v":0},"","","",21,false,{"$f":"IF(AN20,'Commodity Prices'!C33)","v":""},"",{"$f":"IF(AO20,'Commodity Prices'!E33)","v":false},"","","",21,false,{"$f":"IF(AW20,'Yahoo Stocks'!D47)","v":false},"",{"$f":"IF(AW20,'Yahoo Stocks'!E47)","v":false},"","","",31,false,{"$f":"IF(BE20,'Google Finance Stocks'!D44)","v":false},"",{"$f":"IF(BE20,'Google Finance Stocks'!E44)","v":false},"","","",31,false,{"$f":"'Exchange Rates'!D30","v":0},"UK",{"$f":"IF(BM20,'Exchange Rates'!E30)","v":false},"U.S. / U.K. Foreign Exchange Rate (EXUSUK)","B","FRED"]
[null,null,null,null,null,true,{"$f":"H18+1","v":14},{"$f":"'Exchange Rates'!D5*'Read Stocks'!F21+G21-1","v":21},"B","FRED",null,19,"CFH","Switzerland / U.S. Foreign Exchange Rate (DEXSZUS)","B","FRED",19,false,{"$f":"IF(R21,'Yahoo Index'!E73,\"\")","v":""},{"$f":"IF(R21,'Yahoo Index'!F73,\"\")","v":""},"","",null,22,false,{"$f":"IF($F$6,'FRED Indicies'!E34)","v":0},"",{"$f":"IF($F$6,'FRED Indicies'!D34)","v":0},"","","",22,false,{"$f":"IF(AG21,'Google Index'!E48)","v":false},"",{"$f":"IF(AF21,'Google Index'!F48)","v":0},"","","",22,false,{"$f":"IF(AN21,'Commodity Prices'!C34)","v":""},"",{"$f":"IF(AO21,'Commodity Prices'!E34)","v":false},"","","",22,false,{"$f":"IF(AW21,'Yahoo Stocks'!D48)","v":false},"",{"$f":"IF(AW21,'Yahoo Stocks'!E48)","v":false},"","","",32,false,{"$f":"IF(BE21,'Google Finance Stocks'!D45)","v":false},"",{"$f":"IF(BE21,'Google Finance Stocks'!E45)","v":false},"","","",32,false,{"$f":"'Exchange Rates'!D31","v":0},"CFH",{"$f":"IF(BM21,'Exchange Rates'!E31)","v":false},"Switzerland / U.S. Foreign Exchange Rate (DEXSZUS)","B","FRED"]
[null,null,null,null,null,null,null,null,null,null,null,20,"US NOM GNP","Gross National Product (GNP)","B","FRED",20,false,{"$f":"IF(R22,'Yahoo Index'!E74,\"\")","v":""},{"$f":"IF(R22,'Yahoo Index'!F74,\"\")","v":""},"","",null,23,false,{"$f":"IF($F$6,'FRED Indicies'!E35)","v":0},"",{"$f":"IF($F$6,'FRED Indicies'!D35)","v":0},"","","",23,false,{"$f":"IF(AG22,'Google Index'!E49)","v":false},"",{"$f":"IF(AF22,'Google Index'!F49)","v":0},"","","",23,false,{"$f":"IF(AN22,'Commodity Prices'!C35)","v":""},"",{"$f":"IF(AO22,'Commodity Prices'!E35)","v":false},"","","",23,false,{"$f":"IF(AW22,'Yahoo Stocks'!D49)","v":false},"",{"$f":"IF(AW22,'Yahoo Stocks'!E49)","v":false},"","","",33,false,{"$f":"IF(BE22,'Google Finance Stocks'!D46)","v":false},"",{"$f":"IF(BE22,'Google Finance Stocks'!E46)","v":false},"","","",33,false,{"$f":"'Exchange Rates'!D32","v":0},"US NOM GNP",{"$f":"IF(BM22,'Exchange Rates'!E32)","v":false},"Gross National Product (GNP)","B","FRED"]
[null,null,null,null,null,null,null,null,null,null,null,21,"US GDP","Gross Domestic Product (GDP)","B","FRED",21,false,{"$f":"IF(R23,'Yahoo Index'!E75,\"\")","v":""},{"$f":"IF(R23,'Yahoo Index'!F75,\"\")","v":""},"","",null,24,false,{"$f":"IF($F$6,'FRED Indicies'!E36)","v":0},"",{"$f":"IF($F$6,'FRED Indicies'!D36)","v":0},"","","",24,false,{"$f":"IF(AG23,'Google Index'!E50)","v":false},"",{"$f":"IF(AF23,'Google Index'!F50)","v":0},"","","",24,false,{"$f":"IF(AN23,'Commodity Prices'!C36)","v":""},"",{"$f":"IF(AO23,'Commodity Prices'!E36)","v":false},"","","",24,false,{"$f":"IF(AW23,'Yahoo Stocks'!D50)","v":false},"",{"$f":"IF(AW23,'Yahoo Stocks'!E50)","v":false},"","","",34,false,{"$f":"IF(BE23,'Google Finance Stocks'!D47)","v":false},"",{"$f":"IF(BE23,'Google Finance Stocks'!E47)","v":false},"","","",34,false,{"$f":"'Exchange Rates'!D33","v":0},"US GDP",{"$f":"IF(BM23,'Exchange Rates'!E33)","v":false},"Gross Domestic Product (GDP)","B","FRED"]
[null,null,null,null,null,null,null,null,null,null,null,22,"","","","",22,false,{"$f":"IF(R24,'Yahoo Index'!E76,\"\")","v":""},{"$f":"IF(R24,'Yahoo Index'!F76,\"\")","v":""},"","",null,25,false,{"$f":"IF($F$6,'FRED Indicies'!E37)","v":0},"",{"$f":"IF($F$6,'FRED Indicies'!D37)","v":0},"","","",25,false,{"$f":"IF(AG24,'Google Index'!E51)","v":false},"",{"$f":"IF(AF24,'Google Index'!F51)","v":0},"","","",25,false,{"$f":"IF(AN24,'Commodity Prices'!C37)","v":""},"",{"$f":"IF(AO24,'Commodity Prices'!E37)","v":false},"","","",25,false,{"$f":"IF(AW24,'Yahoo Stocks'!D51)","v":false},"",{"$f":"IF(AW24,'Yahoo Stocks'!E51)","v":false},"","","",35,false,{"$f":"IF(BE24,'Google Finance Stocks'!D48)","v":false},"",{"$f":"IF(BE24,'Google Finance Stocks'!E48)","v":false},"","","",35,false,{"$f":"'Exchange Rates'!D34","v":0},"",{"$f":"IF(BM24,'Exchange Rates'!E34)","v":false},"","",""]
[null,null,null,null,null,null,null,null,null,null,null,23,"","","","",23,false,{"$f":"IF(R25,'Yahoo Index'!E77,\"\")","v":""},{"$f":"IF(R25,'Yahoo Index'!F77,\"\")","v":""},"","",null,26,false,{"$f":"IF($F$6,'FRED Indicies'!E38)","v":0},"",{"$f":"IF($F$6,'FRED Indicies'!D38)","v":0},"","","",26,false,{"$f":"IF(AG25,'Google Index'!E52)","v":false},"",{"$f":"IF(AF25,'Google Index'!F52)","v":0},"","","",26,false,{"$f":"IF(AN25,'Commodity Prices'!C38)","v":""},"",{"$f":"IF(AO25,'Commodity Prices'!E38)","v":false},"","","",26,false,{"$f":"IF(AW25,'Yahoo Stocks'!D52)","v":false},"",{"$f":"IF(AW25,'Yahoo Stocks'!E52)","v":false},"","","",36,false,{"$f":"IF(BE25,'Google Finance Stocks'!D49)","v":false},"",{"$f":"IF(BE25,'Google Finance Stocks'!E49)","v":false},"","","",36,false,{"$f":"'Exchange Rates'!D35","v":0},"",{"$f":"IF(BM25,'Exchange Rates'!E35)","v":false},"","",""]
[null,null,null,null,null,null,null,null,null,null,null,24,"","","","",24,false,{"$f":"IF(R26,'Yahoo Index'!E78,\"\")","v":""},{"$f":"IF(R26,'Yahoo Index'!F78,\"\")","v":""},"","",null,27,false,{"$f":"IF($F$6,'FRED Indicies'!E39)","v":0},"",{"$f":"IF($F$6,'FRED Indicies'!D39)","v":0},"","","",27,false,{"$f":"IF(AG26,'Google Index'!E53)","v":false},"",{"$f":"IF(AF26,'Google Index'!F53)","v":0},"","","",27,false,{"$f":"IF(AN26,'Commodity Prices'!C39)","v":""},"",{"$f":"IF(AO26,'Commodity Prices'!E39)","v":false},"","","",27,false,{"$f":"IF(AW26,'Yahoo Stocks'!D53)","v":false},"",{"$f":"IF(AW26,'Yahoo Stocks'!E53)","v":false},"","","",37,false,{"$f":"IF(BE26,'Google Finance Stocks'!D50)","v":false},"",{"$f":"IF(BE26,'Google Finance Stocks'!E50)","v":false},"","","",37,false,{"$f":"'Exchange Rates'!D36","v":0},"",{"$f":"IF(BM26,'Exchange Rates'!E36)","v":false},"","",""]
[null,null,null,null,null,null,null,null,null,null,null,25,"","","","",25,false,{"$f":"IF(R27,'Yahoo Index'!E79,\"\")","v":""},{"$f":"IF(R27,'Yahoo Index'!F79,\"\")","v":""},"","",null,28,false,{"$f":"IF($F$6,'FRED Indicies'!E40)","v":0},"",{"$f":"IF($F$6,'FRED Indicies'!D40)","v":0},"","","",28,false,{"$f":"IF(AG27,'Google Index'!E54)","v":false},"",{"$f":"IF(AF27,'Google Index'!F54)","v":0},"","","",28,false,{"$f":"IF(AN27,'Commodity Prices'!C40)","v":""},"",{"$f":"IF(AO27,'Commodity Prices'!E40)","v":false},"","","",28,false,{"$f":"IF(AW27,'Yahoo Stocks'!D54)","v":false},"",{"$f":"IF(AW27,'Yahoo Stocks'!E54)","v":false},"","","",38,false,{"$f":"IF(BE27,'Google Finance Stocks'!D51)","v":false},"",{"$f":"IF(BE27,'Google Finance Stocks'!E51)","v":false},"","","",38,false,{"$f":"'Exchange Rates'!D37","v":0},"",{"$f":"IF(BM27,'Exchange Rates'!E37)","v":false},"","",""]
[null,null,null,null,null,null,null,null,null,null,null,26,"","","","",26,false,{"$f":"IF(R28,'Yahoo Index'!E80,\"\")","v":""},{"$f":"IF(R28,'Yahoo Index'!F80,\"\")","v":""},"","",null,29,false,{"$f":"IF($F$6,'FRED Indicies'!E41)","v":0},"",{"$f":"IF($F$6,'FRED Indicies'!D41)","v":0},"","","",29,false,{"$f":"IF(AG28,'Google Index'!E55)","v":false},"",{"$f":"IF(AF28,'Google Index'!F55)","v":0},"","","",29,false,{"$f":"IF(AN28,'Commodity Prices'!C41)","v":""},"",{"$f":"IF(AO28,'Commodity Prices'!E41)","v":false},"","","",29,false,{"$f":"IF(AW28,'Yahoo Stocks'!D55)","v":false},"",{"$f":"IF(AW28,'Yahoo Stocks'!E55)","v":false},"","","",39,false,{"$f":"IF(BE28,'Google Finance Stocks'!D52)","v":false},"",{"$f":"IF(BE28,'Google Finance Stocks'!E52)","v":false},"","","",39,false,{"$f":"'Exchange Rates'!D38","v":0},"",{"$f":"IF(BM28,'Exchange Rates'!E38)","v":false},"","",""]
[null,null,null,null,null,null,null,null,null,null,null,27,"","","","",27,false,{"$f":"IF(R29,'Yahoo Index'!E81,\"\")","v":""},{"$f":"IF(R29,'Yahoo Index'!F81,\"\")","v":""},"","",null,30,false,{"$f":"IF($F$6,'FRED Indicies'!E42)","v":0},"",{"$f":"IF($F$6,'FRED Indicies'!D42)","v":0},"","","",30,false,{"$f":"IF(AG29,'Google Index'!E56)","v":false},"",{"$f":"IF(AF29,'Google Index'!F56)","v":0},"","","",30,false,{"$f":"IF(AN29,'Commodity Prices'!C42)","v":""},"",{"$f":"IF(AO29,'Commodity Prices'!E42)","v":false},"","","",30,false,{"$f":"IF(AW29,'Yahoo Stocks'!D56)","v":false},"",{"$f":"IF(AW29,'Yahoo Stocks'!E56)","v":false},"","","",40,false,{"$f":"IF(BE29,'Google Finance Stocks'!D53)","v":false},"",{"$f":"IF(BE29,'Google Finance Stocks'!E53)","v":false},"","","",40,false,{"$f":"'Exchange Rates'!D39","v":0},"",{"$f":"IF(BM29,'Exchange Rates'!E39)","v":false},"","",""]
[null,null,null,null,null,null,null,null,null,null,null,28,"","","","",28,false,{"$f":"IF(R30,'Yahoo Index'!E82,\"\")","v":""},{"$f":"IF(R30,'Yahoo Index'!F82,\"\")","v":""},"","",null,31,false,{"$f":"IF($F$6,'FRED Indicies'!E43)","v":0},"",{"$f":"IF($F$6,'FRED Indicies'!D43)","v":0},"","","",31,false,{"$f":"IF(AG30,'Google Index'!E57)","v":false},"",{"$f":"IF(AF30,'Google Index'!F57)","v":0},"","","",31,false,{"$f":"IF(AN30,'Commodity Prices'!C43)","v":""},"",{"$f":"IF(AO30,'Commodity Prices'!E43)","v":false},"","","",31,false,{"$f":"IF(AW30,'Yahoo Stocks'!D57)","v":false},"",{"$f":"IF(AW30,'Yahoo Stocks'!E57)","v":false},"","","",41,false,{"$f":"IF(BE30,'Google Finance Stocks'!D54)","v":false},"",{"$f":"IF(BE30,'Google Finance Stocks'!E54)","v":false},"","","",41,false,{"$f":"'Exchange Rates'!D40","v":0},"",{"$f":"IF(BM30,'Exchange Rates'!E40)","v":false},"","",""]
[null,null,null,null,null,null,null,null,null,null,null,29,"","","","",29,false,{"$f":"IF(R31,'Yahoo Index'!E83,\"\")","v":""},{"$f":"IF(R31,'Yahoo Index'!F83,\"\")","v":""},"","",null,32,false,{"$f":"IF($F$6,'FRED Indicies'!E44)","v":0},"",{"$f":"IF($F$6,'FRED Indicies'!D44)","v":0},"","","",32,false,{"$f":"IF(AG31,'Google Index'!E58)","v":false},"",{"$f":"IF(AF31,'Google Index'!F58)","v":0},"","","",32,false,{"$f":"IF(AN31,'Commodity Prices'!C44)","v":""},"",{"$f":"IF(AO31,'Commodity Prices'!E44)","v":false},"","","",32,false,{"$f":"IF(AW31,'Yahoo Stocks'!D58)","v":false},"",{"$f":"IF(AW31,'Yahoo Stocks'!E58)","v":false},"","","",42,false,{"$f":"IF(BE31,'Google Finance Stocks'!D55)","v":false},"",{"$f":"IF(BE31,'Google Finance Stocks'!E55)","v":false},"","","",42,false,{"$f":"'Exchange Rates'!D41","v":0},"",{"$f":"IF(BM31,'Exchange Rates'!E41)","v":false},"","",""]
[null,null,null,null,null,null,null,null,null,null,null,30,"","","","",30,false,{"$f":"IF(R32,'Yahoo Index'!E84,\"\")","v":""},{"$f":"IF(R32,'Yahoo Index'!F84,\"\")","v":""},"","",null,33,false,{"$f":"IF($F$6,'FRED Indicies'!E45)","v":0},"",{"$f":"IF($F$6,'FRED Indicies'!D45)","v":0},"","","",33,false,{"$f":"IF(AG32,'Google Index'!E59)","v":false},"",{"$f":"IF(AF32,'Google Index'!F59)","v":0},"","","",33,false,{"$f":"IF(AN32,'Commodity Prices'!C45)","v":""},"",{"$f":"IF(AO32,'Commodity Prices'!E45)","v":false},"","","",33,false,{"$f":"IF(AW32,'Yahoo Stocks'!D59)","v":false},"",{"$f":"IF(AW32,'Yahoo Stocks'!E59)","v":false},"","","",43,false,{"$f":"IF(BE32,'Google Finance Stocks'!D56)","v":false},"",{"$f":"IF(BE32,'Google Finance Stocks'!E56)","v":false},"","","",43,false,{"$f":"'Exchange Rates'!D42","v":0},"",{"$f":"IF(BM32,'Exchange Rates'!E42)","v":false},"","",""]
[null,null,null,null,null,null,null,null,null,null,null,31,"","","","",31,false,{"$f":"IF(R33,'Yahoo Index'!E85,\"\")","v":""},{"$f":"IF(R33,'Yahoo Index'!F85,\"\")","v":""},"","",null,34,false,{"$f":"IF($F$6,'FRED Indicies'!E46)","v":0},"",{"$f":"IF($F$6,'FRED Indicies'!D46)","v":0},"","","",34,false,{"$f":"IF(AG33,'Google Index'!E60)","v":false},"",{"$f":"IF(AF33,'Google Index'!F60)","v":0},"","","",34,false,{"$f":"IF(AN33,'Commodity Prices'!C46)","v":""},"",{"$f":"IF(AO33,'Commodity Prices'!E46)","v":false},"","","",34,false,{"$f":"IF(AW33,'Yahoo Stocks'!D60)","v":false},"",{"$f":"IF(AW33,'Yahoo Stocks'!E60)","v":false},"","","",44,false,{"$f":"IF(BE33,'Google Finance Stocks'!D57)","v":false},"",{"$f":"IF(BE33,'Google Finance Stocks'!E57)","v":false},"","","",44,false,{"$f":"'Exchange Rates'!D43","v":0},"",{"$f":"IF(BM33,'Exchange Rates'!E43)","v":false},"","",""]
[null,null,null,null,null,null,null,null,null,null,null,32,"","","","",32,false,{"$f":"IF(R34,'Yahoo Index'!E86,\"\")","v":""},{"$f":"IF(R34,'Yahoo Index'!F86,\"\")","v":""},"","",null,35,false,{"$f":"IF($F$6,'FRED Indicies'!E47)","v":0},"",{"$f":"IF($F$6,'FRED Indicies'!D47)","v":0},"","","",35,false,{"$f":"IF(AG34,'Google Index'!E61)","v":false},"",{"$f":"IF(AF34,'Google Index'!F61)","v":0},"","","",35,false,{"$f":"IF(AN34,'Commodity Prices'!C47)","v":""},"",{"$f":"IF(AO34,'Commodity Prices'!E47)","v":false},"","","",35,false,{"$f":"IF(AW34,'Yahoo Stocks'!D61)","v":false},"",{"$f":"IF(AW34,'Yahoo Stocks'!E61)","v":false},"","","",45,false,{"$f":"IF(BE34,'Google Finance Stocks'!D58)","v":false},"",{"$f":"IF(BE34,'Google Finance Stocks'!E58)","v":false},"","","",45,false,{"$f":"'Exchange Rates'!D44","v":0},"",{"$f":"IF(BM34,'Exchange Rates'!E44)","v":false},"","",""]
[null,null,null,null,null,null,null,null,null,null,null,33,"","","","",33,false,{"$f":"IF(R35,'Yahoo Index'!E87,\"\")","v":""},{"$f":"IF(R35,'Yahoo Index'!F87,\"\")","v":""},"","",null,36,{"$f":"IF(AND($F$6,X35<=$H$6),X35)","v":false},{"$f":"IF($F$6,'FRED Indicies'!E48)","v":0},{"$f":"IFERROR(INDEX(Z:Z,MATCH(L35,Y:Y,0)),\"\")","v":""},{"$f":"IF($F$6,'FRED Indicies'!D48)","v":0},{"$f":"IFERROR(INDEX(AB:AB,MATCH(L35,Y:Y,0)),\"\")","v":""},"","",36,false,{"$f":"IF(AG35,'Google Index'!E62)","v":false},{"$f":"IFERROR(INDEX(AH:AH,MATCH(Q35,AG:AG,0)),\"\")","v":""},{"$f":"IF(AF35,'Google Index'!F62)","v":0},{"$f":"IFERROR(INDEX(AJ:AJ,MATCH(Q35,AG:AG,0)),\"\")","v":""},"","",36,false,{"$f":"IF(AN35,'Commodity Prices'!C48)","v":""},{"$f":"IFERROR(INDEX(AP:AP,MATCH(L35,AO:AO,0)),\"\")","v":""},{"$f":"IF(AO35,'Commodity Prices'!E48)","v":false},{"$f":"IFERROR(INDEX(AR:AR,MATCH(L35,AO:AO,0)),\"\")","v":""},"","",36,false,{"$f":"IF(AW35,'Yahoo Stocks'!D62)","v":false},"",{"$f":"IF(AW35,'Yahoo Stocks'!E62)","v":false},"","","",46,false,{"$f":"IF(BE35,'Google Finance Stocks'!D59)","v":false},"",{"$f":"IF(BE35,'Google Finance Stocks'!E59)","v":false},"","","",46,false,{"$f":"'Exchange Rates'!D45","v":0},"",{"$f":"IF(BM35,'Exchange Rates'!E45)","v":false},"","",""]
[null,null,null,null,null,null,null,null,null,null,null,34,"","","","",34,false,{"$f":"IF(R36,'Yahoo Index'!E88,\"\")","v":""},{"$f":"IF(R36,'Yahoo Index'!F88,\"\")","v":""},"","",null,37,false,{"$f":"IF($F$6,'FRED Indicies'!E49)","v":0},"",{"$f":"IF($F$6,'FRED Indicies'!D49)","v":0},"","","",37,false,{"$f":"IF(AG36,'Google Index'!E63)","v":false},"",{"$f":"IF(AF36,'Google Index'!F63)","v":0},"","","",37,false,{"$f":"IF(AN36,'Commodity Prices'!C49)","v":""},"",{"$f":"IF(AO36,'Commodity Prices'!E49)","v":false},"","","",37,false,{"$f":"IF(AW36,'Yahoo Stocks'!D63)","v":false},"",{"$f":"IF(AW36,'Yahoo Stocks'!E63)","v":false},"","","",47,false,{"$f":"IF(BE36,'Google Finance Stocks'!D60)","v":false},"",{"$f":"IF(BE36,'Google Finance Stocks'!E60)","v":false},"","","",47,false,{"$f":"'Exchange Rates'!D46","v":0},"",{"$f":"IF(BM36,'Exchange Rates'!E46)","v":false},"","",""]
[null,null,null,null,null,null,null,null,null,null,null,35,"","","","",35,false,{"$f":"IF(R37,'Yahoo Index'!E89,\"\")","v":""},{"$f":"IF(R37,'Yahoo Index'!F89,\"\")","v":""},"","",null,38,false,{"$f":"IF($F$6,'FRED Indicies'!E50)","v":0},"",{"$f":"IF($F$6,'FRED Indicies'!D50)","v":0},"","","",38,false,{"$f":"IF(AG37,'Google Index'!E64)","v":false},"",{"$f":"IF(AF37,'Google Index'!F64)","v":0},"","","",38,false,{"$f":"IF(AN37,'Commodity Prices'!C50)","v":""},"",{"$f":"IF(AO37,'Commodity Prices'!E50)","v":false},"","","",38,false,{"$f":"IF(AW37,'Yahoo Stocks'!D64)","v":false},"",{"$f":"IF(AW37,'Yahoo Stocks'!E64)","v":false},"","","",48,false,{"$f":"IF(BE37,'Google Finance Stocks'!D61)","v":false},"",{"$f":"IF(BE37,'Google Finance Stocks'!E61)","v":false},"","","",48,false,{"$f":"'Exchange Rates'!D47","v":0},"",{"$f":"IF(BM37,'Exchange Rates'!E47)","v":false},"","",""]
[null,null,null,null,null,null,null,null,null,null,null,36,"","","","",36,false,{"$f":"IF(R38,'Yahoo Index'!E90,\"\")","v":""},{"$f":"IF(R38,'Yahoo Index'!F90,\"\")","v":""},"","",null,39,false,{"$f":"IF($F$6,'FRED Indicies'!E51)","v":0},"",{"$f":"IF($F$6,'FRED Indicies'!D51)","v":0},"","","",39,false,{"$f":"IF(AG38,'Google Index'!E65)","v":false},"",{"$f":"IF(AF38,'Google Index'!F65)","v":0},"","","",39,false,{"$f":"IF(AN38,'Commodity Prices'!C51)","v":""},"",{"$f":"IF(AO38,'Commodity Prices'!E51)","v":false},"","","",39,false,{"$f":"IF(AW38,'Yahoo Stocks'!D65)","v":false},"",{"$f":"IF(AW38,'Yahoo Stocks'!E65)","v":false},"","","",49,false,{"$f":"IF(BE38,'Google Finance Stocks'!D62)","v":false},"",{"$f":"IF(BE38,'Google Finance Stocks'!E62)","v":false},"","","",49,false,{"$f":"'Exchange Rates'!D48","v":0},"",{"$f":"IF(BM38,'Exchange Rates'!E48)","v":false},"","",""]
[null,null,null,null,null,null,null,null,null,null,null,37,"","","","",37,false,{"$f":"IF(R39,'Yahoo Index'!E91,\"\")","v":""},{"$f":"IF(R39,'Yahoo Index'!F91,\"\")","v":""},"","",null,40,false,{"$f":"IF($F$6,'FRED Indicies'!E52)","v":0},"",{"$f":"IF($F$6,'FRED Indicies'!D52)","v":0},"","","",40,false,{"$f":"IF(AG39,'Google Index'!E66)","v":false},"",{"$f":"IF(AF39,'Google Index'!F66)","v":0},"","","",40,false,{"$f":"IF(AN39,'Commodity Prices'!C52)","v":""},"",{"$f":"IF(AO39,'Commodity Prices'!E52)","v":false},"","","",40,false,{"$f":"IF(AW39,'Yahoo Stocks'!D66)","v":false},"",{"$f":"IF(AW39,'Yahoo Stocks'!E66)","v":false},"","","",50,false,{"$f":"IF(BE39,'Google Finance Stocks'!D63)","v":false},"",{"$f":"IF(BE39,'Google Finance Stocks'!E63)","v":false},"","","",50,false,{"$f":"'Exchange Rates'!D49","v":0},"",{"$f":"IF(BM39,'Exchange Rates'!E49)","v":false},"","",""]
[null,null,null,null,null,null,null,null,null,null,null,38,"","","","",38,false,{"$f":"IF(R40,'Yahoo Index'!E92,\"\")","v":""},{"$f":"IF(R40,'Yahoo Index'!F92,\"\")","v":""},"","",null,41,false,{"$f":"IF($F$6,'FRED Indicies'!E53)","v":0},"",{"$f":"IF($F$6,'FRED Indicies'!D53)","v":0},"","","",41,false,{"$f":"IF(AG40,'Google Index'!E67)","v":false},"",{"$f":"IF(AF40,'Google Index'!F67)","v":0},"","","",41,false,{"$f":"IF(AN40,'Commodity Prices'!C53)","v":""},"",{"$f":"IF(AO40,'Commodity Prices'!E53)","v":false},"","","",41,false,{"$f":"IF(AW40,'Yahoo Stocks'!D67)","v":false},"",{"$f":"IF(AW40,'Yahoo Stocks'!E67)","v":false},"","","",51,false,{"$f":"IF(BE40,'Google Finance Stocks'!D64)","v":false},"",{"$f":"IF(BE40,'Google Finance Stocks'!E64)","v":false},"","","",51,false,{"$f":"'Exchange Rates'!D50","v":0},"",{"$f":"IF(BM40,'Exchange Rates'!E50)","v":false},"","",""]
[null,null,null,null,null,null,null,null,null,null,null,39,"","","","",39,false,{"$f":"IF(R41,'Yahoo Index'!E93,\"\")","v":""},{"$f":"IF(R41,'Yahoo Index'!F93,\"\")","v":""},"","",null,42,false,{"$f":"IF($F$6,'FRED Indicies'!E54)","v":0},"",{"$f":"IF($F$6,'FRED Indicies'!D54)","v":0},"","","",42,false,{"$f":"IF(AG41,'Google Index'!E68)","v":false},"",{"$f":"IF(AF41,'Google Index'!F68)","v":0},"","","",42,false,{"$f":"IF(AN41,'Commodity Prices'!C54)","v":""},"",{"$f":"IF(AO41,'Commodity Prices'!E54)","v":false},"","","",42,false,{"$f":"IF(AW41,'Yahoo Stocks'!D68)","v":false},"",{"$f":"IF(AW41,'Yahoo Stocks'!E68)","v":false},"","","",52,false,{"$f":"IF(BE41,'Google Finance Stocks'!D65)","v":false},"",{"$f":"IF(BE41,'Google Finance Stocks'!E65)","v":false},"","","",52,false,{"$f":"'Exchange Rates'!D51","v":0},"",{"$f":"IF(BM41,'Exchange Rates'!E51)","v":false},"","",""]
[null,null,null,null,null,null,null,null,null,null,null,40,"","","","",40,false,{"$f":"IF(R42,'Yahoo Index'!E94,\"\")","v":""},{"$f":"IF(R42,'Yahoo Index'!F94,\"\")","v":""},"","",null,43,false,{"$f":"IF($F$6,'FRED Indicies'!E55)","v":0},"",{"$f":"IF($F$6,'FRED Indicies'!D55)","v":0},"","","",43,false,{"$f":"IF(AG42,'Google Index'!E69)","v":false},"",{"$f":"IF(AF42,'Google Index'!F69)","v":0},"","","",43,false,{"$f":"IF(AN42,'Commodity Prices'!C55)","v":""},"",{"$f":"IF(AO42,'Commodity Prices'!E55)","v":false},"","","",43,false,{"$f":"IF(AW42,'Yahoo Stocks'!D69)","v":false},"",{"$f":"IF(AW42,'Yahoo Stocks'!E69)","v":false},"","","",53,false,{"$f":"IF(BE42,'Google Finance Stocks'!D66)","v":false},"",{"$f":"IF(BE42,'Google Finance Stocks'!E66)","v":false},"","","",53,false,{"$f":"'Exchange Rates'!D52","v":0},"",{"$f":"IF(BM42,'Exchange Rates'!E52)","v":false},"","",""]
[null,null,null,null,null,null,null,null,null,null,null,41,"","","","",41,false,{"$f":"IF(R43,'Yahoo Index'!E95,\"\")","v":""},{"$f":"IF(R43,'Yahoo Index'!F95,\"\")","v":""},"","",null,44,false,{"$f":"IF($F$6,'FRED Indicies'!E56)","v":0},"",{"$f":"IF($F$6,'FRED Indicies'!D56)","v":0},"","","",44,false,{"$f":"IF(AG43,'Google Index'!E70)","v":false},"",{"$f":"IF(AF43,'Google Index'!F70)","v":0},"","","",44,false,{"$f":"IF(AN43,'Commodity Prices'!C56)","v":""},"",{"$f":"IF(AO43,'Commodity Prices'!E56)","v":false},"","","",44,false,{"$f":"IF(AW43,'Yahoo Stocks'!D70)","v":false},"",{"$f":"IF(AW43,'Yahoo Stocks'!E70)","v":false},"","","",54,false,{"$f":"IF(BE43,'Google Finance Stocks'!D67)","v":false},"",{"$f":"IF(BE43,'Google Finance Stocks'!E67)","v":false},"","","",54,false,{"$f":"'Exchange Rates'!D53","v":0},"",{"$f":"IF(BM43,'Exchange Rates'!E53)","v":false},"","",""]
[null,null,null,null,null,null,null,null,null,null,null,42,"","","","",42,false,{"$f":"IF(R44,'Yahoo Index'!E96,\"\")","v":""},{"$f":"IF(R44,'Yahoo Index'!F96,\"\")","v":""},"","",null,45,false,{"$f":"IF($F$6,'FRED Indicies'!E57)","v":0},"",{"$f":"IF($F$6,'FRED Indicies'!D57)","v":0},"","","",45,false,{"$f":"IF(AG44,'Google Index'!E71)","v":false},"",{"$f":"IF(AF44,'Google Index'!F71)","v":0},"","","",45,false,{"$f":"IF(AN44,'Commodity Prices'!C57)","v":""},"",{"$f":"IF(AO44,'Commodity Prices'!E57)","v":false},"","","",45,false,{"$f":"IF(AW44,'Yahoo Stocks'!D71)","v":false},"",{"$f":"IF(AW44,'Yahoo Stocks'!E71)","v":false},"","","",55,false,{"$f":"IF(BE44,'Google Finance Stocks'!D68)","v":false},"",{"$f":"IF(BE44,'Google Finance Stocks'!E68)","v":false},"","","",55,false,{"$f":"'Exchange Rates'!D54","v":0},"",{"$f":"IF(BM44,'Exchange Rates'!E54)","v":false},"","",""]
[null,null,null,null,null,null,null,null,null,null,null,43,"","","","",43,false,{"$f":"IF(R45,'Yahoo Index'!E97,\"\")","v":""},{"$f":"IF(R45,'Yahoo Index'!F97,\"\")","v":""},"","",null,46,false,{"$f":"IF($F$6,'FRED Indicies'!E58)","v":0},"",{"$f":"IF($F$6,'FRED Indicies'!D58)","v":0},"","","",46,false,{"$f":"IF(AG45,'Google Index'!E72)","v":false},"",{"$f":"IF(AF45,'Google Index'!F72)","v":0},"","","",46,false,{"$f":"IF(AN45,'Commodity Prices'!C58)","v":""},"",{"$f":"IF(AO45,'Commodity Prices'!E58)","v":false},"","","",46,false,{"$f":"IF(AW45,'Yahoo Stocks'!D72)","v":false},"",{"$f":"IF(AW45,'Yahoo Stocks'!E72)","v":false},"","","",56,false,{"$f":"IF(BE45,'Google Finance Stocks'!D69)","v":false},"",{"$f":"IF(BE45,'Google Finance Stocks'!E69)","v":false},"","","",56,false,{"$f":"'Exchange Rates'!D55","v":0},"",{"$f":"IF(BM45,'Exchange Rates'!E55)","v":false},"","",""]
[null,null,null,null,null,null,null,null,null,null,null,44,"","","","",44,false,{"$f":"IF(R46,'Yahoo Index'!E98,\"\")","v":""},{"$f":"IF(R46,'Yahoo Index'!F98,\"\")","v":""},"","",null,47,false,{"$f":"IF($F$6,'FRED Indicies'!E59)","v":0},"",{"$f":"IF($F$6,'FRED Indicies'!D59)","v":0},"","","",47,false,{"$f":"IF(AG46,'Google Index'!E73)","v":false},"",{"$f":"IF(AF46,'Google Index'!F73)","v":0},"","","",47,false,{"$f":"IF(AN46,'Commodity Prices'!C59)","v":0},"",{"$f":"IF(AO46,'Commodity Prices'!E59)","v":false},"","","",47,false,{"$f":"IF(AW46,'Yahoo Stocks'!D73)","v":false},"",{"$f":"IF(AW46,'Yahoo Stocks'!E73)","v":false},"","","",57,false,{"$f":"IF(BE46,'Google Finance Stocks'!D70)","v":false},"",{"$f":"IF(BE46,'Google Finance Stocks'!E70)","v":false},"","","",57,false,{"$f":"'Exchange Rates'!D56","v":0},"",{"$f":"IF(BM46,'Exchange Rates'!E56)","v":false},"","",""]
[null,null,null,null,null,null,null,null,null,null,null,45,"","","","",45,false,{"$f":"IF(R47,'Yahoo Index'!E99,\"\")","v":""},{"$f":"IF(R47,'Yahoo Index'!F99,\"\")","v":""},"","",null,48,false,{"$f":"IF($F$6,'FRED Indicies'!E60)","v":0},"",{"$f":"IF($F$6,'FRED Indicies'!D60)","v":0},"","","",48,false,{"$f":"IF(AG47,'Google Index'!E74)","v":false},"",{"$f":"IF(AF47,'Google Index'!F74)","v":0},"","","",48,false,{"$f":"IF(AN47,'Commodity Prices'!C60)","v":0},"",{"$f":"IF(AO47,'Commodity Prices'!E60)","v":false},"","","",48,false,{"$f":"IF(AW47,'Yahoo Stocks'!D74)","v":false},"",{"$f":"IF(AW47,'Yahoo Stocks'!E74)","v":false},"","","",58,false,{"$f":"IF(BE47,'Google Finance Stocks'!D71)","v":false},"",{"$f":"IF(BE47,'Google Finance Stocks'!E71)","v":false},"","","",58,false,{"$f":"'Exchange Rates'!D57","v":0},"",{"$f":"IF(BM47,'Exchange Rates'!E57)","v":false},"","",""]
[null,null,null,null,null,null,null,null,null,null,null,46,"","","","",46,false,{"$f":"IF(R48,'Yahoo Index'!E100,\"\")","v":""},{"$f":"IF(R48,'Yahoo Index'!F100,\"\")","v":""},"","",null,49,false,{"$f":"IF($F$6,'FRED Indicies'!E61)","v":0},"",{"$f":"IF($F$6,'FRED Indicies'!D61)","v":0},"","","",49,false,{"$f":"IF(AG48,'Google Index'!E75)","v":false},"",{"$f":"IF(AF48,'Google Index'!F75)","v":0},"","","",49,false,{"$f":"IF(AN48,'Commodity Prices'!C61)","v":0},"",{"$f":"IF(AO48,'Commodity Prices'!E61)","v":false},"","","",49,false,{"$f":"IF(AW48,'Yahoo Stocks'!D75)","v":false},"",{"$f":"IF(AW48,'Yahoo Stocks'!E75)","v":false},"","","",59,false,{"$f":"IF(BE48,'Google Finance Stocks'!D72)","v":false},"",{"$f":"IF(BE48,'Google Finance Stocks'!E72)","v":false},"","","",59,false,{"$f":"'Exchange Rates'!D58","v":0},"",{"$f":"IF(BM48,'Exchange Rates'!E58)","v":false},"","",""]
[null,null,null,null,null,null,null,null,null,null,null,47,"","","","",47,false,{"$f":"IF(R49,'Yahoo Index'!E101,\"\")","v":""},{"$f":"IF(R49,'Yahoo Index'!F101,\"\")","v":""},"","",null,50,false,{"$f":"IF($F$6,'FRED Indicies'!E62)","v":0},"",{"$f":"IF($F$6,'FRED Indicies'!D62)","v":0},"","","",50,false,{"$f":"IF(AG49,'Google Index'!E76)","v":false},"",{"$f":"IF(AF49,'Google Index'!F76)","v":0},"","","",50,false,{"$f":"IF(AN49,'Commodity Prices'!C62)","v":0},"",{"$f":"IF(AO49,'Commodity Prices'!E62)","v":false},"","","",50,false,{"$f":"IF(AW49,'Yahoo Stocks'!D76)","v":false},"",{"$f":"IF(AW49,'Yahoo Stocks'!E76)","v":false},"","","",60,false,{"$f":"IF(BE49,'Google Finance Stocks'!D73)","v":false},"",{"$f":"IF(BE49,'Google Finance Stocks'!E73)","v":false},"","","",60,false,{"$f":"'Exchange Rates'!D59","v":0},"",{"$f":"IF(BM49,'Exchange Rates'!E59)","v":false},"","",""]
[null,null,null,null,null,null,null,null,null,null,null,48,"","","","",48,false,{"$f":"IF(R50,'Yahoo Index'!E102,\"\")","v":""},{"$f":"IF(R50,'Yahoo Index'!F102,\"\")","v":""},"","",null,51,false,{"$f":"IF($F$6,'FRED Indicies'!E63)","v":0},"",{"$f":"IF($F$6,'FRED Indicies'!D63)","v":0},"","","",51,false,{"$f":"IF(AG50,'Google Index'!E77)","v":false},"",{"$f":"IF(AF50,'Google Index'!F77)","v":0},"","","",51,false,{"$f":"IF(AN50,'Commodity Prices'!C63)","v":0},"",{"$f":"IF(AO50,'Commodity Prices'!E63)","v":false},"","","",51,false,{"$f":"IF(AW50,'Yahoo Stocks'!D77)","v":false},"",{"$f":"IF(AW50,'Yahoo Stocks'!E77)","v":false},"","","",61,false,{"$f":"IF(BE50,'Google Finance Stocks'!D74)","v":false},"",{"$f":"IF(BE50,'Google Finance Stocks'!E74)","v":false},"","","",61,false,{"$f":"'Exchange Rates'!D60","v":0},"",{"$f":"IF(BM50,'Exchange Rates'!E60)","v":false},"","",""]
[null,null,null,null,null,null,null,null,null,null,null,49,"","","","",49,false,{"$f":"IF(R51,'Yahoo Index'!E103,\"\")","v":""},{"$f":"IF(R51,'Yahoo Index'!F103,\"\")","v":""},"","",null,52,false,{"$f":"IF($F$6,'FRED Indicies'!E64)","v":0},"",{"$f":"IF($F$6,'FRED Indicies'!D64)","v":0},"","","",52,false,{"$f":"IF(AG51,'Google Index'!E78)","v":false},"",{"$f":"IF(AF51,'Google Index'!F78)","v":0},"","","",52,false,{"$f":"IF(AN51,'Commodity Prices'!C64)","v":0},"",{"$f":"IF(AO51,'Commodity Prices'!E64)","v":false},"","","",52,false,{"$f":"IF(AW51,'Yahoo Stocks'!D78)","v":false},"",{"$f":"IF(AW51,'Yahoo Stocks'!E78)","v":false},"","","",62,false,{"$f":"IF(BE51,'Google Finance Stocks'!D75)","v":false},"",{"$f":"IF(BE51,'Google Finance Stocks'!E75)","v":false},"","","",62,false,{"$f":"'Exchange Rates'!D61","v":0},"",{"$f":"IF(BM51,'Exchange Rates'!E61)","v":false},"","",""]
[null,null,null,null,null,null,null,null,null,null,null,50,"","","","",50,false,{"$f":"IF(R52,'Yahoo Index'!E104,\"\")","v":""},{"$f":"IF(R52,'Yahoo Index'!F104,\"\")","v":""},"","",null,53,false,{"$f":"IF($F$6,'FRED Indicies'!E65)","v":0},"",{"$f":"IF($F$6,'FRED Indicies'!D65)","v":0},"","","",53,false,{"$f":"IF(AG52,'Google Index'!E79)","v":false},"",{"$f":"IF(AF52,'Google Index'!F79)","v":0},"","","",53,false,{"$f":"IF(AN52,'Commodity Prices'!C65)","v":0},"",{"$f":"IF(AO52,'Commodity Prices'!E65)","v":false},"","","",53,false,{"$f":"IF(AW52,'Yahoo Stocks'!D79)","v":false},"",{"$f":"IF(AW52,'Yahoo Stocks'!E79)","v":false},"","","",63,false,{"$f":"IF(BE52,'Google Finance Stocks'!D76)","v":false},"",{"$f":"IF(BE52,'Google Finance Stocks'!E76)","v":false},"","","",63,false,{"$f":"'Exchange Rates'!D62","v":0},"",{"$f":"IF(BM52,'Exchange Rates'!E62)","v":false},"","",""]
[null,null,null,null,null,null,null,null,null,null,null,51,{"$f":"S53&AA53&AI53&AQ53&AY53&BG53&BO53","v":""},{"$f":"T53&AC53&AK53&AS53&BA53&BI53&BQ53","v":""},{"$f":"U53&AD53&AL53&AT53&BB53&BJ53&BR53","v":""},{"$f":"V53&AE53&AM53&AU53&BC53&BK53&BS53","v":""},51,{"$f":"IF(AND($F$3,Q53<=$H$3),Q53)","v":false},{"$f":"IF(R53,'Yahoo Index'!E105,\"\")","v":""},{"$f":"IF(R53,'Yahoo Index'!F105,\"\")","v":""},{"$f":"IF(R53,$I$3,\"\")","v":""},{"$f":"IF(R53,$J$3,\"\")","v":""},null,54,{"$f":"IF(AND($F$6,X53<=$H$6),X53)","v":false},{"$f":"IF($F$6,'FRED Indicies'!E66)","v":0},{"$f":"IFERROR(INDEX(Z:Z,MATCH(L53,Y:Y,0)),\"\")","v":""},{"$f":"IF($F$6,'FRED Indicies'!D66)","v":0},{"$f":"IFERROR(INDEX(AB:AB,MATCH(L53,Y:Y,0)),\"\")","v":""},{"$f":"IF(AA53<>\"\",$I$6,\"\")","v":""},{"$f":"IF(AA53<>\"\",$J$6,\"\")","v":""},54,{"$f":"IF(AND($F$9,AF53<=$H$9),AF53)","v":false},{"$f":"IF(AG53,'Google Index'!E80)","v":false},{"$f":"IFERROR(INDEX(AH:AH,MATCH(Q53,AG:AG,0)),\"\")","v":""},{"$f":"IF(AF53,'Google Index'!F80)","v":0},{"$f":"IFERROR(INDEX(AJ:AJ,MATCH(Q53,AG:AG,0)),\"\")","v":""},{"$f":"IF(AI53<>\"\",$I$6,\"\")","v":""},{"$f":"IF(AK53<>\"\",$J$6,\"\")","v":""},54,{"$f":"IF(AND($F$12,AN53<=$H$12),AN53)","v":false},{"$f":"IF(AN53,'Commodity Prices'!C66)","v":0},{"$f":"IFERROR(INDEX(AP:AP,MATCH(L53,AO:AO,0)),\"\")","v":""},{"$f":"IF(AO53,'Commodity Prices'!E66)","v":false},{"$f":"IFERROR(INDEX(AR:AR,MATCH(L53,AO:AO,0)),\"\")","v":""},{"$f":"IF(AQ53<>\"\",$I$12,\"\")","v":""},{"$f":"IF(AS53<>\"\",$J$12,\"\")","v":""},54,{"$f":"IF(AND($F$15,AV53<=$H$15),AV53)","v":false},{"$f":"IF(AW53,'Yahoo Stocks'!D80)","v":false},"",{"$f":"IF(AW53,'Yahoo Stocks'!E80)","v":false},"","","",64,{"$f":"IF(AND($F$18,BD53<=$H$18),BD53)","v":false},{"$f":"IF(BE53,'Google Finance Stocks'!D77)","v":false},{"$f":"IFERROR(INDEX(BF:BF,MATCH(Q53,BE:BE,0)),\"\")","v":""},{"$f":"IF(BE53,'Google Finance Stocks'!E77)","v":false},{"$f":"IFERROR(INDEX(BH:BH,MATCH(Q53,BE:BE,0)),\"\")","v":""},{"$f":"IF(BI53<>\"\",$I$18,\"\")","v":""},{"$f":"IF(BI53<>\"\",$J$18,\"\")","v":""},64,{"$f":"IF(AND($F$21,BL53<=$H$21),BL53)","v":false},{"$f":"'Exchange Rates'!D63","v":0},{"$f":"IFERROR(INDEX(BN:BN,MATCH(L53,BM:BM,0)),\"\")","v":""},{"$f":"IF(BM53,'Exchange Rates'!E63)","v":false},{"$f":"IFERROR(INDEX(BP:BP,MATCH(L53,BM:BM,0)),\"\")","v":""},{"$f":"IF(BQ53<>\"\",$I$21,\"\")","v":""},{"$f":"IF(BQ53<>\"\",$J$21,\"\")","v":""}]
[null,null,null,null,null,null,null,null,null,null,null,52,"","","","",52,false,{"$f":"IF(R54,'Yahoo Index'!E106,\"\")","v":""},{"$f":"IF(R54,'Yahoo Index'!F106,\"\")","v":""},"","",null,55,false,{"$f":"IF($F$6,'FRED Indicies'!E67)","v":0},"",{"$f":"IF($F$6,'FRED Indicies'!D67)","v":0},"","","",55,false,{"$f":"IF(AG54,'Google Index'!E81)","v":false},"",{"$f":"IF(AF54,'Google Index'!F81)","v":0},"","","",55,false,{"$f":"IF(AN54,'Commodity Prices'!C67)","v":0},"",{"$f":"IF(AO54,'Commodity Prices'!E67)","v":false},"","","",55,false,{"$f":"IF(AW54,'Yahoo Stocks'!D81)","v":false},"",{"$f":"IF(AW54,'Yahoo Stocks'!E81)","v":false},"","","",65,false,{"$f":"IF(BE54,'Google Finance Stocks'!D78)","v":false},"",{"$f":"IF(BE54,'Google Finance Stocks'!E78)","v":false},"","","",65,false,{"$f":"'Exchange Rates'!D64","v":0},"",{"$f":"IF(BM54,'Exchange Rates'!E64)","v":false},"","",""]
[null,null,null,null,null,null,null,null,null,null,null,53,"","","","",53,false,{"$f":"IF(R55,'Yahoo Index'!E107,\"\")","v":""},{"$f":"IF(R55,'Yahoo Index'!F107,\"\")","v":""},"","",null,56,false,{"$f":"IF($F$6,'FRED Indicies'!E68)","v":0},"",{"$f":"IF($F$6,'FRED Indicies'!D68)","v":0},"","","",56,false,{"$f":"IF(AG55,'Google Index'!E82)","v":false},"",{"$f":"IF(AF55,'Google Index'!F82)","v":0},"","","",56,false,{"$f":"IF(AN55,'Commodity Prices'!C68)","v":0},"",{"$f":"IF(AO55,'Commodity Prices'!E68)","v":false},"","","",56,false,{"$f":"IF(AW55,'Yahoo Stocks'!D82)","v":false},"",{"$f":"IF(AW55,'Yahoo Stocks'!E82)","v":false},"","","",66,false,{"$f":"IF(BE55,'Google Finance Stocks'!D79)","v":false},"",{"$f":"IF(BE55,'Google Finance Stocks'!E79)","v":false},"","","",66,false,{"$f":"'Exchange Rates'!D65","v":0},"",{"$f":"IF(BM55,'Exchange Rates'!E65)","v":false},"","",""]
[null,null,null,null,null,null,null,null,null,null,null,54,"","","","",54,false,{"$f":"IF(R56,'Yahoo Index'!E108,\"\")","v":""},{"$f":"IF(R56,'Yahoo Index'!F108,\"\")","v":""},"","",null,57,false,{"$f":"IF($F$6,'FRED Indicies'!E69)","v":0},"",{"$f":"IF($F$6,'FRED Indicies'!D69)","v":0},"","","",57,false,{"$f":"IF(AG56,'Google Index'!E83)","v":false},"",{"$f":"IF(AF56,'Google Index'!F83)","v":0},"","","",57,false,{"$f":"IF(AN56,'Commodity Prices'!C69)","v":0},"",{"$f":"IF(AO56,'Commodity Prices'!E69)","v":false},"","","",57,false,{"$f":"IF(AW56,'Yahoo Stocks'!D83)","v":false},"",{"$f":"IF(AW56,'Yahoo Stocks'!E83)","v":false},"","","",67,false,{"$f":"IF(BE56,'Google Finance Stocks'!D80)","v":false},"",{"$f":"IF(BE56,'Google Finance Stocks'!E80)","v":false},"","","",67,false,{"$f":"'Exchange Rates'!D66","v":0},"",{"$f":"IF(BM56,'Exchange Rates'!E66)","v":false},"","",""]
[null,null,null,null,null,null,null,null,null,null,null,55,"","","","",55,false,{"$f":"IF(R57,'Yahoo Index'!E109,\"\")","v":""},{"$f":"IF(R57,'Yahoo Index'!F109,\"\")","v":""},"","",null,58,false,{"$f":"IF($F$6,'FRED Indicies'!E70)","v":0},"",{"$f":"IF($F$6,'FRED Indicies'!D70)","v":0},"","","",58,false,{"$f":"IF(AG57,'Google Index'!E84)","v":false},"",{"$f":"IF(AF57,'Google Index'!F84)","v":0},"","","",58,false,{"$f":"IF(AN57,'Commodity Prices'!C70)","v":0},"",{"$f":"IF(AO57,'Commodity Prices'!E70)","v":false},"","","",58,false,{"$f":"IF(AW57,'Yahoo Stocks'!D84)","v":false},"",{"$f":"IF(AW57,'Yahoo Stocks'!E84)","v":false},"","","",68,false,{"$f":"IF(BE57,'Google Finance Stocks'!D81)","v":false},"",{"$f":"IF(BE57,'Google Finance Stocks'!E81)","v":false},"","","",68,false,{"$f":"'Exchange Rates'!D67","v":0},"",{"$f":"IF(BM57,'Exchange Rates'!E67)","v":false},"","",""]
[null,null,null,null,null,null,null,null,null,null,null,56,"","","","",56,false,{"$f":"IF(R58,'Yahoo Index'!E110,\"\")","v":""},{"$f":"IF(R58,'Yahoo Index'!F110,\"\")","v":""},"","",null,59,false,{"$f":"IF($F$6,'FRED Indicies'!E71)","v":0},"",{"$f":"IF($F$6,'FRED Indicies'!D71)","v":0},"","","",59,false,{"$f":"IF(AG58,'Google Index'!E85)","v":false},"",{"$f":"IF(AF58,'Google Index'!F85)","v":0},"","","",59,false,{"$f":"IF(AN58,'Commodity Prices'!C71)","v":0},"",{"$f":"IF(AO58,'Commodity Prices'!E71)","v":false},"","","",59,false,{"$f":"IF(AW58,'Yahoo Stocks'!D85)","v":false},"",{"$f":"IF(AW58,'Yahoo Stocks'!E85)","v":false},"","","",69,false,{"$f":"IF(BE58,'Google Finance Stocks'!D82)","v":false},"",{"$f":"IF(BE58,'Google Finance Stocks'!E82)","v":false},"","","",69,false,{"$f":"'Exchange Rates'!D68","v":0},"",{"$f":"IF(BM58,'Exchange Rates'!E68)","v":false},"","",""]
[null,null,null,null,null,null,null,null,null,null,null,57,"","","","",57,false,{"$f":"IF(R59,'Yahoo Index'!E111,\"\")","v":""},{"$f":"IF(R59,'Yahoo Index'!F111,\"\")","v":""},"","",null,60,false,{"$f":"IF($F$6,'FRED Indicies'!E72)","v":0},"",{"$f":"IF($F$6,'FRED Indicies'!D72)","v":0},"","","",60,false,{"$f":"IF(AG59,'Google Index'!E86)","v":false},"",{"$f":"IF(AF59,'Google Index'!F86)","v":0},"","","",60,false,{"$f":"IF(AN59,'Commodity Prices'!C72)","v":0},"",{"$f":"IF(AO59,'Commodity Prices'!E72)","v":false},"","","",60,false,{"$f":"IF(AW59,'Yahoo Stocks'!D86)","v":false},"",{"$f":"IF(AW59,'Yahoo Stocks'!E86)","v":false},"","","",70,false,{"$f":"IF(BE59,'Google Finance Stocks'!D83)","v":false},"",{"$f":"IF(BE59,'Google Finance Stocks'!E83)","v":false},"","","",70,false,{"$f":"'Exchange Rates'!D69","v":0},"",{"$f":"IF(BM59,'Exchange Rates'!E69)","v":false},"","",""]
[null,null,null,null,null,null,null,null,null,null,null,58,"","","","",58,false,{"$f":"IF(R60,'Yahoo Index'!E112,\"\")","v":""},{"$f":"IF(R60,'Yahoo Index'!F112,\"\")","v":""},"","",null,61,false,{"$f":"IF($F$6,'FRED Indicies'!E73)","v":0},"",{"$f":"IF($F$6,'FRED Indicies'!D73)","v":0},"","","",61,false,{"$f":"IF(AG60,'Google Index'!E87)","v":false},"",{"$f":"IF(AF60,'Google Index'!F87)","v":0},"","","",61,false,{"$f":"IF(AN60,'Commodity Prices'!C73)","v":0},"",{"$f":"IF(AO60,'Commodity Prices'!E73)","v":false},"","","",61,false,{"$f":"IF(AW60,'Yahoo Stocks'!D87)","v":false},"",{"$f":"IF(AW60,'Yahoo Stocks'!E87)","v":false},"","","",71,false,{"$f":"IF(BE60,'Google Finance Stocks'!D84)","v":false},"",{"$f":"IF(BE60,'Google Finance Stocks'!E84)","v":false},"","","",71,false,{"$f":"'Exchange Rates'!D70","v":0},"",{"$f":"IF(BM60,'Exchange Rates'!E70)","v":false},"","",""]
[null,null,null,null,null,null,null,null,null,null,null,59,"","","","",59,false,{"$f":"IF(R61,'Yahoo Index'!E113,\"\")","v":""},{"$f":"IF(R61,'Yahoo Index'!F113,\"\")","v":""},"","",null,62,false,{"$f":"IF($F$6,'FRED Indicies'!E74)","v":0},"",{"$f":"IF($F$6,'FRED Indicies'!D74)","v":0},"","","",62,false,{"$f":"IF(AG61,'Google Index'!E88)","v":false},"",{"$f":"IF(AF61,'Google Index'!F88)","v":0},"","","",62,false,{"$f":"IF(AN61,'Commodity Prices'!C74)","v":0},"",{"$f":"IF(AO61,'Commodity Prices'!E74)","v":false},"","","",62,false,{"$f":"IF(AW61,'Yahoo Stocks'!D88)","v":false},"",{"$f":"IF(AW61,'Yahoo Stocks'!E88)","v":false},"","","",72,false,{"$f":"IF(BE61,'Google Finance Stocks'!D85)","v":false},"",{"$f":"IF(BE61,'Google Finance Stocks'!E85)","v":false},"","","",72,false,{"$f":"'Exchange Rates'!D71","v":0},"",{"$f":"IF(BM61,'Exchange Rates'!E71)","v":false},"","",""]
[null,null,null,null,null,null,null,null,null,null,null,60,"","","","",60,false,{"$f":"IF(R62,'Yahoo Index'!E114,\"\")","v":""},{"$f":"IF(R62,'Yahoo Index'!F114,\"\")","v":""},"","",null,63,false,{"$f":"IF($F$6,'FRED Indicies'!E75)","v":0},"",{"$f":"IF($F$6,'FRED Indicies'!D75)","v":0},"","","",63,false,{"$f":"IF(AG62,'Google Index'!E89)","v":false},"",{"$f":"IF(AF62,'Google Index'!F89)","v":0},"","","",63,false,{"$f":"IF(AN62,'Commodity Prices'!C75)","v":0},"",{"$f":"IF(AO62,'Commodity Prices'!E75)","v":false},"","","",63,false,{"$f":"IF(AW62,'Yahoo Stocks'!D89)","v":false},"",{"$f":"IF(AW62,'Yahoo Stocks'!E89)","v":false},"","","",73,false,{"$f":"IF(BE62,'Google Finance Stocks'!D86)","v":false},"",{"$f":"IF(BE62,'Google Finance Stocks'!E86)","v":false},"","","",73,false,{"$f":"'Exchange Rates'!D72","v":0},"",{"$f":"IF(BM62,'Exchange Rates'!E72)","v":false},"","",""]
[null,null,null,null,null,null,null,null,null,null,null,61,"","","","",61,false,{"$f":"IF(R63,'Yahoo Index'!E115,\"\")","v":""},{"$f":"IF(R63,'Yahoo Index'!F115,\"\")","v":""},"","",null,64,false,{"$f":"IF($F$6,'FRED Indicies'!E76)","v":0},"",{"$f":"IF($F$6,'FRED Indicies'!D76)","v":0},"","","",64,false,{"$f":"IF(AG63,'Google Index'!E90)","v":false},"",{"$f":"IF(AF63,'Google Index'!F90)","v":0},"","","",64,false,{"$f":"IF(AN63,'Commodity Prices'!C76)","v":0},"",{"$f":"IF(AO63,'Commodity Prices'!E76)","v":false},"","","",64,false,{"$f":"IF(AW63,'Yahoo Stocks'!D90)","v":false},"",{"$f":"IF(AW63,'Yahoo Stocks'!E90)","v":false},"","","",74,false,{"$f":"IF(BE63,'Google Finance Stocks'!D87)","v":false},"",{"$f":"IF(BE63,'Google Finance Stocks'!E87)","v":false},"","","",74,false,{"$f":"'Exchange Rates'!D73","v":0},"",{"$f":"IF(BM63,'Exchange Rates'!E73)","v":false},"","",""]
[null,null,null,null,null,null,null,null,null,null,null,62,"","","","",62,false,{"$f":"IF(R64,'Yahoo Index'!E116,\"\")","v":""},{"$f":"IF(R64,'Yahoo Index'!F116,\"\")","v":""},"","",null,65,false,{"$f":"IF($F$6,'FRED Indicies'!E77)","v":0},"",{"$f":"IF($F$6,'FRED Indicies'!D77)","v":0},"","","",65,false,{"$f":"IF(AG64,'Google Index'!E91)","v":false},"",{"$f":"IF(AF64,'Google Index'!F91)","v":0},"","","",65,false,{"$f":"IF(AN64,'Commodity Prices'!C77)","v":0},"",{"$f":"IF(AO64,'Commodity Prices'!E77)","v":false},"","","",65,false,{"$f":"IF(AW64,'Yahoo Stocks'!D91)","v":false},"",{"$f":"IF(AW64,'Yahoo Stocks'!E91)","v":false},"","","",75,false,{"$f":"IF(BE64,'Google Finance Stocks'!D88)","v":false},"",{"$f":"IF(BE64,'Google Finance Stocks'!E88)","v":false},"","","",75,false,{"$f":"'Exchange Rates'!D74","v":0},"",{"$f":"IF(BM64,'Exchange Rates'!E74)","v":false},"","",""]
[null,null,null,null,null,null,null,null,null,null,null,63,"","","","",63,false,{"$f":"IF(R65,'Yahoo Index'!E117,\"\")","v":""},{"$f":"IF(R65,'Yahoo Index'!F117,\"\")","v":""},"","",null,66,false,{"$f":"IF($F$6,'FRED Indicies'!E78)","v":0},"",{"$f":"IF($F$6,'FRED Indicies'!D78)","v":0},"","","",66,false,{"$f":"IF(AG65,'Google Index'!E92)","v":false},"",{"$f":"IF(AF65,'Google Index'!F92)","v":0},"","","",66,false,{"$f":"IF(AN65,'Commodity Prices'!C78)","v":0},"",{"$f":"IF(AO65,'Commodity Prices'!E78)","v":false},"","","",66,false,{"$f":"IF(AW65,'Yahoo Stocks'!D92)","v":false},"",{"$f":"IF(AW65,'Yahoo Stocks'!E92)","v":false},"","","",76,false,{"$f":"IF(BE65,'Google Finance Stocks'!D89)","v":false},"",{"$f":"IF(BE65,'Google Finance Stocks'!E89)","v":false},"","","",76,false,{"$f":"'Exchange Rates'!D75","v":0},"",{"$f":"IF(BM65,'Exchange Rates'!E75)","v":false},"","",""]
[null,null,null,null,null,null,null,null,null,null,null,64,"","","","",64,false,{"$f":"IF(R66,'Yahoo Index'!E118,\"\")","v":""},{"$f":"IF(R66,'Yahoo Index'!F118,\"\")","v":""},"","",null,67,false,{"$f":"IF($F$6,'FRED Indicies'!E79)","v":0},"",{"$f":"IF($F$6,'FRED Indicies'!D79)","v":0},"","","",67,false,{"$f":"IF(AG66,'Google Index'!E93)","v":false},"",{"$f":"IF(AF66,'Google Index'!F93)","v":0},"","","",67,false,{"$f":"IF(AN66,'Commodity Prices'!C79)","v":0},"",{"$f":"IF(AO66,'Commodity Prices'!E79)","v":false},"","","",67,false,{"$f":"IF(AW66,'Yahoo Stocks'!D93)","v":false},"",{"$f":"IF(AW66,'Yahoo Stocks'!E93)","v":false},"","","",77,false,{"$f":"IF(BE66,'Google Finance Stocks'!D90)","v":false},"",{"$f":"IF(BE66,'Google Finance Stocks'!E90)","v":false},"","","",77,false,{"$f":"'Exchange Rates'!D76","v":0},"",{"$f":"IF(BM66,'Exchange Rates'!E76)","v":false},"","",""]
[null,null,null,null,null,null,null,null,null,null,null,65,"","","","",65,false,{"$f":"IF(R67,'Yahoo Index'!E119,\"\")","v":""},{"$f":"IF(R67,'Yahoo Index'!F119,\"\")","v":""},"","",null,68,false,{"$f":"IF($F$6,'FRED Indicies'!E80)","v":0},"",{"$f":"IF($F$6,'FRED Indicies'!D80)","v":0},"","","",68,false,{"$f":"IF(AG67,'Google Index'!E94)","v":false},"",{"$f":"IF(AF67,'Google Index'!F94)","v":0},"","","",68,false,{"$f":"IF(AN67,'Commodity Prices'!C80)","v":0},"",{"$f":"IF(AO67,'Commodity Prices'!E80)","v":false},"","","",68,false,{"$f":"IF(AW67,'Yahoo Stocks'!D94)","v":false},"",{"$f":"IF(AW67,'Yahoo Stocks'!E94)","v":false},"","","",78,false,{"$f":"IF(BE67,'Google Finance Stocks'!D91)","v":false},"",{"$f":"IF(BE67,'Google Finance Stocks'!E91)","v":false},"","","",78,false,{"$f":"'Exchange Rates'!D77","v":0},"",{"$f":"IF(BM67,'Exchange Rates'!E77)","v":false},"","",""]
[null,null,null,null,null,null,null,null,null,null,null,66,"","","","",66,false,{"$f":"IF(R68,'Yahoo Index'!E120,\"\")","v":""},{"$f":"IF(R68,'Yahoo Index'!F120,\"\")","v":""},"","",null,69,false,{"$f":"IF($F$6,'FRED Indicies'!E81)","v":0},"",{"$f":"IF($F$6,'FRED Indicies'!D81)","v":0},"","","",69,false,{"$f":"IF(AG68,'Google Index'!E95)","v":false},"",{"$f":"IF(AF68,'Google Index'!F95)","v":0},"","","",69,false,{"$f":"IF(AN68,'Commodity Prices'!C81)","v":0},"",{"$f":"IF(AO68,'Commodity Prices'!E81)","v":false},"","","",69,false,{"$f":"IF(AW68,'Yahoo Stocks'!D95)","v":false},{"$f":"IFERROR(INDEX(AX:AX,MATCH(L68,AW:AW,0)),\"\")","v":""},{"$f":"IF(AW68,'Yahoo Stocks'!E95)","v":false},{"$f":"IFERROR(INDEX(AZ:AZ,MATCH(L68,AW:AW,0)),\"\")","v":""},{"$f":"IF(AY68<>\"\",$I$15,\"\")","v":""},{"$f":"IF(BA68<>\"\",$J$15,\"\")","v":""},79,false,{"$f":"IF(BE68,'Google Finance Stocks'!D92)","v":false},"",{"$f":"IF(BE68,'Google Finance Stocks'!E92)","v":false},"","","",79,false,{"$f":"'Exchange Rates'!D78","v":0},"",{"$f":"IF(BM68,'Exchange Rates'!E78)","v":false},"","",""]
[null,null,null,null,null,null,null,null,null,null,null,67,"","","","",{"$f":"Q68+1","v":67},false,{"$f":"IF(R69,'Yahoo Index'!E121,\"\")","v":""},{"$f":"IF(R69,'Yahoo Index'!F121,\"\")","v":""},"","",null,{"$f":"X68+1","v":70},false,{"$f":"IF($F$6,'FRED Indicies'!E82)","v":0},"",{"$f":"IF($F$6,'FRED Indicies'!D82)","v":0},"","","",{"$f":"AF68+1","v":70},false,{"$f":"IF(AG69,'Google Index'!E96)","v":false},"",{"$f":"IF(AF69,'Google Index'!F96)","v":0},"","","",{"$f":"AN68+1","v":70},false,{"$f":"IF(AN69,'Commodity Prices'!C82)","v":0},"",{"$f":"IF(AO69,'Commodity Prices'!E82)","v":false},"","","",{"$f":"AV68+1","v":70},false,{"$f":"IF(AW69,'Yahoo Stocks'!D96)","v":false},"",{"$f":"IF(AW69,'Yahoo Stocks'!E96)","v":false},"","","",{"$f":"BD68+1","v":80},false,{"$f":"IF(BE69,'Google Finance Stocks'!D93)","v":false},"",{"$f":"IF(BE69,'Google Finance Stocks'!E93)","v":false},"","","",{"$f":"BL68+1","v":80},false,{"$f":"'Exchange Rates'!D79","v":0},"",{"$f":"IF(BM69,'Exchange Rates'!E79)","v":false},"","",""]
[null,null,null,null,null,null,null,null,null,null,null,68,"","","","",68,false,{"$f":"IF(R70,'Yahoo Index'!E122,\"\")","v":""},{"$f":"IF(R70,'Yahoo Index'!F122,\"\")","v":""},"","",null,71,false,{"$f":"IF($F$6,'FRED Indicies'!E83)","v":0},"",{"$f":"IF($F$6,'FRED Indicies'!D83)","v":0},"","","",71,false,{"$f":"IF(AG70,'Google Index'!E97)","v":false},"",{"$f":"IF(AF70,'Google Index'!F97)","v":0},"","","",71,false,{"$f":"IF(AN70,'Commodity Prices'!C83)","v":0},"",{"$f":"IF(AO70,'Commodity Prices'!E83)","v":false},"","","",71,false,{"$f":"IF(AW70,'Yahoo Stocks'!D97)","v":false},"",{"$f":"IF(AW70,'Yahoo Stocks'!E97)","v":false},"","","",81,false,{"$f":"IF(BE70,'Google Finance Stocks'!D94)","v":false},"",{"$f":"IF(BE70,'Google Finance Stocks'!E94)","v":false},"","","",81,false,{"$f":"'Exchange Rates'!D80","v":0},"",{"$f":"IF(BM70,'Exchange Rates'!E80)","v":false},"","",""]
[null,null,null,null,null,null,null,null,null,null,null,69,"","","","",69,false,{"$f":"IF(R71,'Yahoo Index'!E123,\"\")","v":""},{"$f":"IF(R71,'Yahoo Index'!F123,\"\")","v":""},"","",null,72,false,{"$f":"IF($F$6,'FRED Indicies'!E84)","v":0},"",{"$f":"IF($F$6,'FRED Indicies'!D84)","v":0},"","","",72,false,{"$f":"IF(AG71,'Google Index'!E98)","v":false},"",{"$f":"IF(AF71,'Google Index'!F98)","v":0},"","","",72,false,{"$f":"IF(AN71,'Commodity Prices'!C84)","v":0},"",{"$f":"IF(AO71,'Commodity Prices'!E84)","v":false},"","","",72,false,{"$f":"IF(AW71,'Yahoo Stocks'!D98)","v":false},"",{"$f":"IF(AW71,'Yahoo Stocks'!E98)","v":false},"","","",82,false,{"$f":"IF(BE71,'Google Finance Stocks'!D95)","v":false},"",{"$f":"IF(BE71,'Google Finance Stocks'!E95)","v":false},"","","",82,false,{"$f":"'Exchange Rates'!D81","v":0},"",{"$f":"IF(BM71,'Exchange Rates'!E81)","v":false},"","",""]
[null,null,null,null,null,null,null,null,null,null,null,70,"","","","",70,false,{"$f":"IF(R72,'Yahoo Index'!E124,\"\")","v":""},{"$f":"IF(R72,'Yahoo Index'!F124,\"\")","v":""},"","",null,73,false,{"$f":"IF($F$6,'FRED Indicies'!E85)","v":0},"",{"$f":"IF($F$6,'FRED Indicies'!D85)","v":0},"","","",73,false,{"$f":"IF(AG72,'Google Index'!E99)","v":false},"",{"$f":"IF(AF72,'Google Index'!F99)","v":0},"","","",73,false,{"$f":"IF(AN72,'Commodity Prices'!C85)","v":0},"",{"$f":"IF(AO72,'Commodity Prices'!E85)","v":false},"","","",73,false,{"$f":"IF(AW72,'Yahoo Stocks'!D99)","v":false},"",{"$f":"IF(AW72,'Yahoo Stocks'!E99)","v":false},"","","",83,false,{"$f":"IF(BE72,'Google Finance Stocks'!D96)","v":false},"",{"$f":"IF(BE72,'Google Finance Stocks'!E96)","v":false},"","","",83,false,{"$f":"'Exchange Rates'!D82","v":0},"",{"$f":"IF(BM72,'Exchange Rates'!E82)","v":false},"","",""]
[null,null,null,null,null,null,null,null,null,null,null,71,"","","","",71,false,{"$f":"IF(R73,'Yahoo Index'!E125,\"\")","v":""},{"$f":"IF(R73,'Yahoo Index'!F125,\"\")","v":""},"","",null,74,false,{"$f":"IF($F$6,'FRED Indicies'!E86)","v":0},"",{"$f":"IF($F$6,'FRED Indicies'!D86)","v":0},"","","",74,false,{"$f":"IF(AG73,'Google Index'!E100)","v":false},"",{"$f":"IF(AF73,'Google Index'!F100)","v":0},"","","",74,false,{"$f":"IF(AN73,'Commodity Prices'!C86)","v":0},"",{"$f":"IF(AO73,'Commodity Prices'!E86)","v":false},"","","",74,false,{"$f":"IF(AW73,'Yahoo Stocks'!D100)","v":false},"",{"$f":"IF(AW73,'Yahoo Stocks'!E100)","v":false},"","","",84,false,{"$f":"IF(BE73,'Google Finance Stocks'!D97)","v":false},"",{"$f":"IF(BE73,'Google Finance Stocks'!E97)","v":false},"","","",84,false,{"$f":"'Exchange Rates'!D83","v":0},"",{"$f":"IF(BM73,'Exchange Rates'!E83)","v":false},"","",""]
[null,null,null,null,null,null,null,null,null,null,null,72,"","","","",72,false,{"$f":"IF(R74,'Yahoo Index'!E126,\"\")","v":""},{"$f":"IF(R74,'Yahoo Index'!F126,\"\")","v":""},"","",null,75,false,{"$f":"IF($F$6,'FRED Indicies'!E87)","v":0},"",{"$f":"IF($F$6,'FRED Indicies'!D87)","v":0},"","","",75,false,{"$f":"IF(AG74,'Google Index'!E101)","v":false},"",{"$f":"IF(AF74,'Google Index'!F101)","v":0},"","","",75,false,{"$f":"IF(AN74,'Commodity Prices'!C87)","v":0},"",{"$f":"IF(AO74,'Commodity Prices'!E87)","v":false},"","","",75,false,{"$f":"IF(AW74,'Yahoo Stocks'!D101)","v":false},"",{"$f":"IF(AW74,'Yahoo Stocks'!E101)","v":false},"","","",85,false,{"$f":"IF(BE74,'Google Finance Stocks'!D98)","v":false},"",{"$f":"IF(BE74,'Google Finance Stocks'!E98)","v":false},"","","",85,false,{"$f":"'Exchange Rates'!D84","v":0},"",{"$f":"IF(BM74,'Exchange Rates'!E84)","v":false},"","",""]
[null,null,null,null,null,null,null,null,null,null,null,73,"","","","",73,false,{"$f":"IF(R75,'Yahoo Index'!E127,\"\")","v":""},{"$f":"IF(R75,'Yahoo Index'!F127,\"\")","v":""},"","",null,76,false,{"$f":"IF($F$6,'FRED Indicies'!E88)","v":0},"",{"$f":"IF($F$6,'FRED Indicies'!D88)","v":0},"","","",76,false,{"$f":"IF(AG75,'Google Index'!E102)","v":false},"",{"$f":"IF(AF75,'Google Index'!F102)","v":0},"","","",76,false,{"$f":"IF(AN75,'Commodity Prices'!C88)","v":0},"",{"$f":"IF(AO75,'Commodity Prices'!E88)","v":false},"","","",76,false,{"$f":"IF(AW75,'Yahoo Stocks'!D102)","v":false},"",{"$f":"IF(AW75,'Yahoo Stocks'!E102)","v":false},"","","",86,false,{"$f":"IF(BE75,'Google Finance Stocks'!D99)","v":false},"",{"$f":"IF(BE75,'Google Finance Stocks'!E99)","v":false},"","","",86,false,{"$f":"'Exchange Rates'!D85","v":0},"",{"$f":"IF(BM75,'Exchange Rates'!E85)","v":false},"","",""]
[null,null,null,null,null,null,null,null,null,null,null,74,"","","","",74,false,{"$f":"IF(R76,'Yahoo Index'!E128,\"\")","v":""},{"$f":"IF(R76,'Yahoo Index'!F128,\"\")","v":""},"","",null,77,false,{"$f":"IF($F$6,'FRED Indicies'!E89)","v":0},"",{"$f":"IF($F$6,'FRED Indicies'!D89)","v":0},"","","",77,false,{"$f":"IF(AG76,'Google Index'!E103)","v":false},"",{"$f":"IF(AF76,'Google Index'!F103)","v":0},"","","",77,false,{"$f":"IF(AN76,'Commodity Prices'!C89)","v":0},"",{"$f":"IF(AO76,'Commodity Prices'!E89)","v":false},"","","",77,false,{"$f":"IF(AW76,'Yahoo Stocks'!D103)","v":false},"",{"$f":"IF(AW76,'Yahoo Stocks'!E103)","v":false},"","","",87,false,{"$f":"IF(BE76,'Google Finance Stocks'!D100)","v":false},"",{"$f":"IF(BE76,'Google Finance Stocks'!E100)","v":false},"","","",87,false,{"$f":"'Exchange Rates'!D86","v":0},"",{"$f":"IF(BM76,'Exchange Rates'!E86)","v":false},"","",""]
[null,null,null,null,null,null,null,null,null,null,null,75,"","","","",75,false,{"$f":"IF(R77,'Yahoo Index'!E129,\"\")","v":""},{"$f":"IF(R77,'Yahoo Index'!F129,\"\")","v":""},"","",null,78,false,{"$f":"IF($F$6,'FRED Indicies'!E90)","v":0},"",{"$f":"IF($F$6,'FRED Indicies'!D90)","v":0},"","","",78,false,{"$f":"IF(AG77,'Google Index'!E104)","v":false},"",{"$f":"IF(AF77,'Google Index'!F104)","v":0},"","","",78,false,{"$f":"IF(AN77,'Commodity Prices'!C90)","v":0},"",{"$f":"IF(AO77,'Commodity Prices'!E90)","v":false},"","","",78,false,{"$f":"IF(AW77,'Yahoo Stocks'!D104)","v":false},"",{"$f":"IF(AW77,'Yahoo Stocks'!E104)","v":false},"","","",88,false,{"$f":"IF(BE77,'Google Finance Stocks'!D101)","v":false},"",{"$f":"IF(BE77,'Google Finance Stocks'!E101)","v":false},"","","",88,false,{"$f":"'Exchange Rates'!D87","v":0},"",{"$f":"IF(BM77,'Exchange Rates'!E87)","v":false},"","",""]
[null,null,null,null,null,null,null,null,null,null,null,76,"","","","",76,false,{"$f":"IF(R78,'Yahoo Index'!E130,\"\")","v":""},{"$f":"IF(R78,'Yahoo Index'!F130,\"\")","v":""},"","",null,79,false,{"$f":"IF($F$6,'FRED Indicies'!E91)","v":0},"",{"$f":"IF($F$6,'FRED Indicies'!D91)","v":0},"","","",79,false,{"$f":"IF(AG78,'Google Index'!E105)","v":false},"",{"$f":"IF(AF78,'Google Index'!F105)","v":0},"","","",79,false,{"$f":"IF(AN78,'Commodity Prices'!C91)","v":0},"",{"$f":"IF(AO78,'Commodity Prices'!E91)","v":false},"","","",79,false,{"$f":"IF(AW78,'Yahoo Stocks'!D105)","v":false},"",{"$f":"IF(AW78,'Yahoo Stocks'!E105)","v":false},"","","",89,false,{"$f":"IF(BE78,'Google Finance Stocks'!D102)","v":false},"",{"$f":"IF(BE78,'Google Finance Stocks'!E102)","v":false},"","","",89,false,{"$f":"'Exchange Rates'!D88","v":0},"",{"$f":"IF(BM78,'Exchange Rates'!E88)","v":false},"","",""]
[null,null,null,null,null,null,null,null,null,null,null,77,"","","","",77,false,{"$f":"IF(R79,'Yahoo Index'!E131,\"\")","v":""},{"$f":"IF(R79,'Yahoo Index'!F131,\"\")","v":""},"","",null,80,false,{"$f":"IF($F$6,'FRED Indicies'!E92)","v":0},"",{"$f":"IF($F$6,'FRED Indicies'!D92)","v":0},"","","",80,false,{"$f":"IF(AG79,'Google Index'!E106)","v":false},"",{"$f":"IF(AF79,'Google Index'!F106)","v":0},"","","",80,false,{"$f":"IF(AN79,'Commodity Prices'!C92)","v":0},"",{"$f":"IF(AO79,'Commodity Prices'!E92)","v":false},"","","",80,false,{"$f":"IF(AW79,'Yahoo Stocks'!D106)","v":false},"",{"$f":"IF(AW79,'Yahoo Stocks'!E106)","v":false},"","","",90,false,{"$f":"IF(BE79,'Google Finance Stocks'!D103)","v":false},"",{"$f":"IF(BE79,'Google Finance Stocks'!E103)","v":false},"","","",90,false,{"$f":"'Exchange Rates'!D89","v":0},"",{"$f":"IF(BM79,'Exchange Rates'!E89)","v":false},"","",""]
[null,null,null,null,null,null,null,null,null,null,null,78,"","","","",78,false,{"$f":"IF(R80,'Yahoo Index'!E132,\"\")","v":""},{"$f":"IF(R80,'Yahoo Index'!F132,\"\")","v":""},"","",null,81,false,{"$f":"IF($F$6,'FRED Indicies'!E93)","v":0},"",{"$f":"IF($F$6,'FRED Indicies'!D93)","v":0},"","","",81,false,{"$f":"IF(AG80,'Google Index'!E107)","v":false},"",{"$f":"IF(AF80,'Google Index'!F107)","v":0},"","","",81,false,{"$f":"IF(AN80,'Commodity Prices'!C93)","v":0},"",{"$f":"IF(AO80,'Commodity Prices'!E93)","v":false},"","","",81,false,{"$f":"IF(AW80,'Yahoo Stocks'!D107)","v":false},"",{"$f":"IF(AW80,'Yahoo Stocks'!E107)","v":false},"","","",91,false,{"$f":"IF(BE80,'Google Finance Stocks'!D104)","v":false},"",{"$f":"IF(BE80,'Google Finance Stocks'!E104)","v":false},"","","",91,false,{"$f":"'Exchange Rates'!D90","v":0},"",{"$f":"IF(BM80,'Exchange Rates'!E90)","v":false},"","",""]
[null,null,null,null,null,null,null,null,null,null,null,79,"","","","",79,false,{"$f":"IF(R81,'Yahoo Index'!E133,\"\")","v":""},{"$f":"IF(R81,'Yahoo Index'!F133,\"\")","v":""},"","",null,82,false,{"$f":"IF($F$6,'FRED Indicies'!E94)","v":0},"",{"$f":"IF($F$6,'FRED Indicies'!D94)","v":0},"","","",82,false,{"$f":"IF(AG81,'Google Index'!E108)","v":false},"",{"$f":"IF(AF81,'Google Index'!F108)","v":0},"","","",82,false,{"$f":"IF(AN81,'Commodity Prices'!C94)","v":0},"",{"$f":"IF(AO81,'Commodity Prices'!E94)","v":false},"","","",82,false,{"$f":"IF(AW81,'Yahoo Stocks'!D108)","v":false},"",{"$f":"IF(AW81,'Yahoo Stocks'!E108)","v":false},"","","",92,false,{"$f":"IF(BE81,'Google Finance Stocks'!D105)","v":false},"",{"$f":"IF(BE81,'Google Finance Stocks'!E105)","v":false},"","","",92,false,{"$f":"'Exchange Rates'!D91","v":0},"",{"$f":"IF(BM81,'Exchange Rates'!E91)","v":false},"","",""]
[null,null,null,null,null,null,null,null,null,null,null,80,"","","","",80,false,{"$f":"IF(R82,'Yahoo Index'!E134,\"\")","v":""},{"$f":"IF(R82,'Yahoo Index'!F134,\"\")","v":""},"","",null,83,false,{"$f":"IF($F$6,'FRED Indicies'!E95)","v":0},"",{"$f":"IF($F$6,'FRED Indicies'!D95)","v":0},"","","",83,false,{"$f":"IF(AG82,'Google Index'!E109)","v":false},"",{"$f":"IF(AF82,'Google Index'!F109)","v":0},"","","",83,false,{"$f":"IF(AN82,'Commodity Prices'!C95)","v":0},"",{"$f":"IF(AO82,'Commodity Prices'!E95)","v":false},"","","",83,false,{"$f":"IF(AW82,'Yahoo Stocks'!D109)","v":false},"",{"$f":"IF(AW82,'Yahoo Stocks'!E109)","v":false},"","","",93,false,{"$f":"IF(BE82,'Google Finance Stocks'!D106)","v":false},"",{"$f":"IF(BE82,'Google Finance Stocks'!E106)","v":false},"","","",93,false,{"$f":"'Exchange Rates'!D92","v":0},"",{"$f":"IF(BM82,'Exchange Rates'!E92)","v":false},"","",""]
[null,null,null,null,null,null,null,null,null,null,null,81,"","","","",81,false,{"$f":"IF(R83,'Yahoo Index'!E135,\"\")","v":""},{"$f":"IF(R83,'Yahoo Index'!F135,\"\")","v":""},"","",null,84,false,{"$f":"IF($F$6,'FRED Indicies'!E96)","v":0},"",{"$f":"IF($F$6,'FRED Indicies'!D96)","v":0},"","","",84,false,{"$f":"IF(AG83,'Google Index'!E110)","v":false},"",{"$f":"IF(AF83,'Google Index'!F110)","v":0},"","","",84,false,{"$f":"IF(AN83,'Commodity Prices'!C96)","v":0},"",{"$f":"IF(AO83,'Commodity Prices'!E96)","v":false},"","","",84,false,{"$f":"IF(AW83,'Yahoo Stocks'!D110)","v":false},"",{"$f":"IF(AW83,'Yahoo Stocks'!E110)","v":false},"","","",94,false,{"$f":"IF(BE83,'Google Finance Stocks'!D107)","v":false},"",{"$f":"IF(BE83,'Google Finance Stocks'!E107)","v":false},"","","",94,false,{"$f":"'Exchange Rates'!D93","v":0},"",{"$f":"IF(BM83,'Exchange Rates'!E93)","v":false},"","",""]
[null,null,null,null,null,null,null,null,null,null,null,82,"","","","",82,false,{"$f":"IF(R84,'Yahoo Index'!E136,\"\")","v":""},{"$f":"IF(R84,'Yahoo Index'!F136,\"\")","v":""},"","",null,85,false,{"$f":"IF($F$6,'FRED Indicies'!E97)","v":0},"",{"$f":"IF($F$6,'FRED Indicies'!D97)","v":0},"","","",85,false,{"$f":"IF(AG84,'Google Index'!E111)","v":false},"",{"$f":"IF(AF84,'Google Index'!F111)","v":0},"","","",85,false,{"$f":"IF(AN84,'Commodity Prices'!C97)","v":0},"",{"$f":"IF(AO84,'Commodity Prices'!E97)","v":false},"","","",85,false,{"$f":"IF(AW84,'Yahoo Stocks'!D111)","v":false},"",{"$f":"IF(AW84,'Yahoo Stocks'!E111)","v":false},"","","",95,false,{"$f":"IF(BE84,'Google Finance Stocks'!D108)","v":false},"",{"$f":"IF(BE84,'Google Finance Stocks'!E108)","v":false},"","","",95,false,{"$f":"'Exchange Rates'!D94","v":0},"",{"$f":"IF(BM84,'Exchange Rates'!E94)","v":false},"","",""]
[null,null,null,null,null,null,null,null,null,null,null,83,"","","","",83,false,{"$f":"IF(R85,'Yahoo Index'!E137,\"\")","v":""},{"$f":"IF(R85,'Yahoo Index'!F137,\"\")","v":""},"","",null,86,false,{"$f":"IF($F$6,'FRED Indicies'!E98)","v":0},"",{"$f":"IF($F$6,'FRED Indicies'!D98)","v":0},"","","",86,false,{"$f":"IF(AG85,'Google Index'!E112)","v":false},"",{"$f":"IF(AF85,'Google Index'!F112)","v":0},"","","",86,false,{"$f":"IF(AN85,'Commodity Prices'!C98)","v":0},"",{"$f":"IF(AO85,'Commodity Prices'!E98)","v":false},"","","",86,false,{"$f":"IF(AW85,'Yahoo Stocks'!D112)","v":false},"",{"$f":"IF(AW85,'Yahoo Stocks'!E112)","v":false},"","","",96,false,{"$f":"IF(BE85,'Google Finance Stocks'!D109)","v":false},"",{"$f":"IF(BE85,'Google Finance Stocks'!E109)","v":false},"","","",96,false,{"$f":"'Exchange Rates'!D95","v":0},"",{"$f":"IF(BM85,'Exchange Rates'!E95)","v":false},"","",""]
[null,null,null,null,null,null,null,null,null,null,null,84,"","","","",84,false,{"$f":"IF(R86,'Yahoo Index'!E138,\"\")","v":""},{"$f":"IF(R86,'Yahoo Index'!F138,\"\")","v":""},"","",null,87,false,{"$f":"IF($F$6,'FRED Indicies'!E99)","v":0},"",{"$f":"IF($F$6,'FRED Indicies'!D99)","v":0},"","","",87,false,{"$f":"IF(AG86,'Google Index'!E113)","v":false},"",{"$f":"IF(AF86,'Google Index'!F113)","v":0},"","","",87,false,{"$f":"IF(AN86,'Commodity Prices'!C99)","v":0},"",{"$f":"IF(AO86,'Commodity Prices'!E99)","v":false},"","","",87,false,{"$f":"IF(AW86,'Yahoo Stocks'!D113)","v":false},"",{"$f":"IF(AW86,'Yahoo Stocks'!E113)","v":false},"","","",97,false,{"$f":"IF(BE86,'Google Finance Stocks'!D110)","v":false},"",{"$f":"IF(BE86,'Google Finance Stocks'!E110)","v":false},"","","",97,false,{"$f":"'Exchange Rates'!D96","v":0},"",{"$f":"IF(BM86,'Exchange Rates'!E96)","v":false},"","",""]
[null,null,null,null,null,null,null,null,null,null,null,85,"","","","",85,false,{"$f":"IF(R87,'Yahoo Index'!E139,\"\")","v":""},{"$f":"IF(R87,'Yahoo Index'!F139,\"\")","v":""},"","",null,88,false,{"$f":"IF($F$6,'FRED Indicies'!E100)","v":0},"",{"$f":"IF($F$6,'FRED Indicies'!D100)","v":0},"","","",88,false,{"$f":"IF(AG87,'Google Index'!E114)","v":false},"",{"$f":"IF(AF87,'Google Index'!F114)","v":0},"","","",88,false,{"$f":"IF(AN87,'Commodity Prices'!C100)","v":0},"",{"$f":"IF(AO87,'Commodity Prices'!E100)","v":false},"","","",88,false,{"$f":"IF(AW87,'Yahoo Stocks'!D114)","v":false},"",{"$f":"IF(AW87,'Yahoo Stocks'!E114)","v":false},"","","",98,false,{"$f":"IF(BE87,'Google Finance Stocks'!D111)","v":false},"",{"$f":"IF(BE87,'Google Finance Stocks'!E111)","v":false},"","","",98,false,{"$f":"'Exchange Rates'!D97","v":0},"",{"$f":"IF(BM87,'Exchange Rates'!E97)","v":false},"","",""]
[null,null,null,null,null,null,null,null,null,null,null,86,"","","","",86,false,{"$f":"IF(R88,'Yahoo Index'!E140,\"\")","v":""},{"$f":"IF(R88,'Yahoo Index'!F140,\"\")","v":""},"","",null,89,false,{"$f":"IF($F$6,'FRED Indicies'!E101)","v":0},"",{"$f":"IF($F$6,'FRED Indicies'!D101)","v":0},"","","",89,false,{"$f":"IF(AG88,'Google Index'!E115)","v":false},"",{"$f":"IF(AF88,'Google Index'!F115)","v":0},"","","",89,false,{"$f":"IF(AN88,'Commodity Prices'!C101)","v":0},"",{"$f":"IF(AO88,'Commodity Prices'!E101)","v":false},"","","",89,false,{"$f":"IF(AW88,'Yahoo Stocks'!D115)","v":false},"",{"$f":"IF(AW88,'Yahoo Stocks'!E115)","v":false},"","","",99,false,{"$f":"IF(BE88,'Google Finance Stocks'!D112)","v":false},"",{"$f":"IF(BE88,'Google Finance Stocks'!E112)","v":false},"","","",99,false,{"$f":"'Exchange Rates'!D98","v":0},"",{"$f":"IF(BM88,'Exchange Rates'!E98)","v":false},"","",""]
[null,null,null,null,null,null,null,null,null,null,null,87,"","","","",87,false,{"$f":"IF(R89,'Yahoo Index'!E141,\"\")","v":""},{"$f":"IF(R89,'Yahoo Index'!F141,\"\")","v":""},"","",null,90,false,{"$f":"IF($F$6,'FRED Indicies'!E102)","v":0},"",{"$f":"IF($F$6,'FRED Indicies'!D102)","v":0},"","","",90,false,{"$f":"IF(AG89,'Google Index'!E116)","v":false},"",{"$f":"IF(AF89,'Google Index'!F116)","v":0},"","","",90,false,{"$f":"IF(AN89,'Commodity Prices'!C102)","v":0},"",{"$f":"IF(AO89,'Commodity Prices'!E102)","v":false},"","","",90,false,{"$f":"IF(AW89,'Yahoo Stocks'!D116)","v":false},"",{"$f":"IF(AW89,'Yahoo Stocks'!E116)","v":false},"","","",100,false,{"$f":"IF(BE89,'Google Finance Stocks'!D113)","v":false},"",{"$f":"IF(BE89,'Google Finance Stocks'!E113)","v":false},"","","",100,false,{"$f":"'Exchange Rates'!D99","v":0},"",{"$f":"IF(BM89,'Exchange Rates'!E99)","v":false},"","",""]
[null,null,null,null,null,null,null,null,null,null,null,88,"","","","",88,false,{"$f":"IF(R90,'Yahoo Index'!E142,\"\")","v":""},{"$f":"IF(R90,'Yahoo Index'!F142,\"\")","v":""},"","",null,91,false,{"$f":"IF($F$6,'FRED Indicies'!E103)","v":0},"",{"$f":"IF($F$6,'FRED Indicies'!D103)","v":0},"","","",91,false,{"$f":"IF(AG90,'Google Index'!E117)","v":false},"",{"$f":"IF(AF90,'Google Index'!F117)","v":0},"","","",91,false,{"$f":"IF(AN90,'Commodity Prices'!C103)","v":0},"",{"$f":"IF(AO90,'Commodity Prices'!E103)","v":false},"","","",91,false,{"$f":"IF(AW90,'Yahoo Stocks'!D117)","v":false},"",{"$f":"IF(AW90,'Yahoo Stocks'!E117)","v":false},"","","",101,false,{"$f":"IF(BE90,'Google Finance Stocks'!D114)","v":false},"",{"$f":"IF(BE90,'Google Finance Stocks'!E114)","v":false},"","","",101,false,{"$f":"'Exchange Rates'!D100","v":0},"",{"$f":"IF(BM90,'Exchange Rates'!E100)","v":false},"","",""]
[null,null,null,null,null,null,null,null,null,null,null,89,"","","","",89,false,{"$f":"IF(R91,'Yahoo Index'!E143,\"\")","v":""},{"$f":"IF(R91,'Yahoo Index'!F143,\"\")","v":""},"","",null,92,false,{"$f":"IF($F$6,'FRED Indicies'!E104)","v":0},"",{"$f":"IF($F$6,'FRED Indicies'!D104)","v":0},"","","",92,false,{"$f":"IF(AG91,'Google Index'!E118)","v":false},"",{"$f":"IF(AF91,'Google Index'!F118)","v":0},"","","",92,false,{"$f":"IF(AN91,'Commodity Prices'!C104)","v":0},"",{"$f":"IF(AO91,'Commodity Prices'!E104)","v":false},"","","",92,false,{"$f":"IF(AW91,'Yahoo Stocks'!D118)","v":false},"",{"$f":"IF(AW91,'Yahoo Stocks'!E118)","v":false},"","","",102,false,{"$f":"IF(BE91,'Google Finance Stocks'!D115)","v":false},"",{"$f":"IF(BE91,'Google Finance Stocks'!E115)","v":false},"","","",102,false,{"$f":"'Exchange Rates'!D101","v":0},"",{"$f":"IF(BM91,'Exchange Rates'!E101)","v":false},"","",""]
[null,null,null,null,null,null,null,null,null,null,null,90,"","","","",90,false,{"$f":"IF(R92,'Yahoo Index'!E144,\"\")","v":""},{"$f":"IF(R92,'Yahoo Index'!F144,\"\")","v":""},"","",null,93,false,{"$f":"IF($F$6,'FRED Indicies'!E105)","v":0},"",{"$f":"IF($F$6,'FRED Indicies'!D105)","v":0},"","","",93,false,{"$f":"IF(AG92,'Google Index'!E119)","v":false},"",{"$f":"IF(AF92,'Google Index'!F119)","v":0},"","","",93,false,{"$f":"IF(AN92,'Commodity Prices'!C105)","v":0},"",{"$f":"IF(AO92,'Commodity Prices'!E105)","v":false},"","","",93,false,{"$f":"IF(AW92,'Yahoo Stocks'!D119)","v":false},"",{"$f":"IF(AW92,'Yahoo Stocks'!E119)","v":false},"","","",103,false,{"$f":"IF(BE92,'Google Finance Stocks'!D116)","v":false},"",{"$f":"IF(BE92,'Google Finance Stocks'!E116)","v":false},"","","",103,false,{"$f":"'Exchange Rates'!D102","v":0},"",{"$f":"IF(BM92,'Exchange Rates'!E102)","v":false},"","",""]
[null,null,null,null,null,null,null,null,null,null,null,91,"","","","",91,false,{"$f":"IF(R93,'Yahoo Index'!E145,\"\")","v":""},{"$f":"IF(R93,'Yahoo Index'!F145,\"\")","v":""},"","",null,94,false,{"$f":"IF($F$6,'FRED Indicies'!E106)","v":0},"",{"$f":"IF($F$6,'FRED Indicies'!D106)","v":0},"","","",94,false,{"$f":"IF(AG93,'Google Index'!E120)","v":false},"",{"$f":"IF(AF93,'Google Index'!F120)","v":0},"","","",94,false,{"$f":"IF(AN93,'Commodity Prices'!C106)","v":0},"",{"$f":"IF(AO93,'Commodity Prices'!E106)","v":false},"","","",94,false,{"$f":"IF(AW93,'Yahoo Stocks'!D120)","v":false},"",{"$f":"IF(AW93,'Yahoo Stocks'!E120)","v":false},"","","",104,false,{"$f":"IF(BE93,'Google Finance Stocks'!D117)","v":false},"",{"$f":"IF(BE93,'Google Finance Stocks'!E117)","v":false},"","","",104,false,{"$f":"'Exchange Rates'!D103","v":0},"",{"$f":"IF(BM93,'Exchange Rates'!E103)","v":false},"","",""]
[null,null,null,null,null,null,null,null,null,null,null,92,"","","","",92,false,{"$f":"IF(R94,'Yahoo Index'!E146,\"\")","v":""},{"$f":"IF(R94,'Yahoo Index'!F146,\"\")","v":""},"","",null,95,false,{"$f":"IF($F$6,'FRED Indicies'!E107)","v":0},"",{"$f":"IF($F$6,'FRED Indicies'!D107)","v":0},"","","",95,false,{"$f":"IF(AG94,'Google Index'!E121)","v":false},"",{"$f":"IF(AF94,'Google Index'!F121)","v":0},"","","",95,false,{"$f":"IF(AN94,'Commodity Prices'!C107)","v":0},"",{"$f":"IF(AO94,'Commodity Prices'!E107)","v":false},"","","",95,false,{"$f":"IF(AW94,'Yahoo Stocks'!D121)","v":false},"",{"$f":"IF(AW94,'Yahoo Stocks'!E121)","v":false},"","","",105,false,{"$f":"IF(BE94,'Google Finance Stocks'!D118)","v":false},"",{"$f":"IF(BE94,'Google Finance Stocks'!E118)","v":false},"","","",105,false,{"$f":"'Exchange Rates'!D104","v":0},"",{"$f":"IF(BM94,'Exchange Rates'!E104)","v":false},"","",""]
[null,null,null,null,null,null,null,null,null,null,null,93,"","","","",93,false,{"$f":"IF(R95,'Yahoo Index'!E147,\"\")","v":""},{"$f":"IF(R95,'Yahoo Index'!F147,\"\")","v":""},"","",null,96,false,{"$f":"IF($F$6,'FRED Indicies'!E108)","v":0},"",{"$f":"IF($F$6,'FRED Indicies'!D108)","v":0},"","","",96,false,{"$f":"IF(AG95,'Google Index'!E122)","v":false},"",{"$f":"IF(AF95,'Google Index'!F122)","v":0},"","","",96,false,{"$f":"IF(AN95,'Commodity Prices'!C108)","v":0},"",{"$f":"IF(AO95,'Commodity Prices'!E108)","v":false},"","","",96,false,{"$f":"IF(AW95,'Yahoo Stocks'!D122)","v":false},"",{"$f":"IF(AW95,'Yahoo Stocks'!E122)","v":false},"","","",106,false,{"$f":"IF(BE95,'Google Finance Stocks'!D119)","v":false},"",{"$f":"IF(BE95,'Google Finance Stocks'!E119)","v":false},"","","",106,false,{"$f":"'Exchange Rates'!D105","v":0},"",{"$f":"IF(BM95,'Exchange Rates'!E105)","v":false},"","",""]
[null,null,null,null,null,null,null,null,null,null,null,94,"","","","",94,false,{"$f":"IF(R96,'Yahoo Index'!E148,\"\")","v":""},{"$f":"IF(R96,'Yahoo Index'!F148,\"\")","v":""},"","",null,97,false,{"$f":"IF($F$6,'FRED Indicies'!E109)","v":0},"",{"$f":"IF($F$6,'FRED Indicies'!D109)","v":0},"","","",97,false,{"$f":"IF(AG96,'Google Index'!E123)","v":false},"",{"$f":"IF(AF96,'Google Index'!F123)","v":0},"","","",97,false,{"$f":"IF(AN96,'Commodity Prices'!C109)","v":0},"",{"$f":"IF(AO96,'Commodity Prices'!E109)","v":false},"","","",97,false,{"$f":"IF(AW96,'Yahoo Stocks'!D123)","v":false},"",{"$f":"IF(AW96,'Yahoo Stocks'!E123)","v":false},"","","",107,false,{"$f":"IF(BE96,'Google Finance Stocks'!D120)","v":false},"",{"$f":"IF(BE96,'Google Finance Stocks'!E120)","v":false},"","","",107,false,{"$f":"'Exchange Rates'!D106","v":0},"",{"$f":"IF(BM96,'Exchange Rates'!E106)","v":false},"","",""]
[null,null,null,null,null,null,null,null,null,null,null,95,"","","","",95,false,{"$f":"IF(R97,'Yahoo Index'!E149,\"\")","v":""},{"$f":"IF(R97,'Yahoo Index'!F149,\"\")","v":""},"","",null,98,false,{"$f":"IF($F$6,'FRED Indicies'!E110)","v":0},"",{"$f":"IF($F$6,'FRED Indicies'!D110)","v":0},"","","",98,false,{"$f":"IF(AG97,'Google Index'!E124)","v":false},"",{"$f":"IF(AF97,'Google Index'!F124)","v":0},"","","",98,false,{"$f":"IF(AN97,'Commodity Prices'!C110)","v":0},"",{"$f":"IF(AO97,'Commodity Prices'!E110)","v":false},"","","",98,false,{"$f":"IF(AW97,'Yahoo Stocks'!D124)","v":false},"",{"$f":"IF(AW97,'Yahoo Stocks'!E124)","v":false},"","","",108,false,{"$f":"IF(BE97,'Google Finance Stocks'!D121)","v":false},"",{"$f":"IF(BE97,'Google Finance Stocks'!E121)","v":false},"","","",108,false,{"$f":"'Exchange Rates'!D107","v":0},"",{"$f":"IF(BM97,'Exchange Rates'!E107)","v":false},"","",""]
[null,null,null,null,null,null,null,null,null,null,null,96,"","","","",96,false,{"$f":"IF(R98,'Yahoo Index'!E150,\"\")","v":""},{"$f":"IF(R98,'Yahoo Index'!F150,\"\")","v":""},"","",null,99,false,{"$f":"IF($F$6,'FRED Indicies'!E111)","v":0},"",{"$f":"IF($F$6,'FRED Indicies'!D111)","v":0},"","","",99,false,{"$f":"IF(AG98,'Google Index'!E125)","v":false},"",{"$f":"IF(AF98,'Google Index'!F125)","v":0},"","","",99,false,{"$f":"IF(AN98,'Commodity Prices'!C111)","v":0},"",{"$f":"IF(AO98,'Commodity Prices'!E111)","v":false},"","","",99,false,{"$f":"IF(AW98,'Yahoo Stocks'!D125)","v":false},"",{"$f":"IF(AW98,'Yahoo Stocks'!E125)","v":false},"","","",109,false,{"$f":"IF(BE98,'Google Finance Stocks'!D122)","v":false},"",{"$f":"IF(BE98,'Google Finance Stocks'!E122)","v":false},"","","",109,false,{"$f":"'Exchange Rates'!D108","v":0},"",{"$f":"IF(BM98,'Exchange Rates'!E108)","v":false},"","",""]
[null,null,null,null,null,null,null,null,null,null,null,97,"","","","",97,false,{"$f":"IF(R99,'Yahoo Index'!E151,\"\")","v":""},{"$f":"IF(R99,'Yahoo Index'!F151,\"\")","v":""},"","",null,100,false,{"$f":"IF($F$6,'FRED Indicies'!E112)","v":0},"",{"$f":"IF($F$6,'FRED Indicies'!D112)","v":0},"","","",100,false,{"$f":"IF(AG99,'Google Index'!E126)","v":false},"",{"$f":"IF(AF99,'Google Index'!F126)","v":0},"","","",100,false,{"$f":"IF(AN99,'Commodity Prices'!C112)","v":0},"",{"$f":"IF(AO99,'Commodity Prices'!E112)","v":false},"","","",100,false,{"$f":"IF(AW99,'Yahoo Stocks'!D126)","v":false},"",{"$f":"IF(AW99,'Yahoo Stocks'!E126)","v":false},"","","",110,false,{"$f":"IF(BE99,'Google Finance Stocks'!D123)","v":false},"",{"$f":"IF(BE99,'Google Finance Stocks'!E123)","v":false},"","","",110,false,{"$f":"'Exchange Rates'!D109","v":0},"",{"$f":"IF(BM99,'Exchange Rates'!E109)","v":false},"","",""]
[null,null,null,null,null,null,null,null,null,null,null,98,"","","","",98,false,{"$f":"IF(R100,'Yahoo Index'!E152,\"\")","v":""},{"$f":"IF(R100,'Yahoo Index'!F152,\"\")","v":""},"","",null,101,false,{"$f":"IF($F$6,'FRED Indicies'!E113)","v":0},"",{"$f":"IF($F$6,'FRED Indicies'!D113)","v":0},"","","",101,false,{"$f":"IF(AG100,'Google Index'!E127)","v":false},"",{"$f":"IF(AF100,'Google Index'!F127)","v":0},"","","",101,false,{"$f":"IF(AN100,'Commodity Prices'!C113)","v":0},"",{"$f":"IF(AO100,'Commodity Prices'!E113)","v":false},"","","",101,false,{"$f":"IF(AW100,'Yahoo Stocks'!D127)","v":false},"",{"$f":"IF(AW100,'Yahoo Stocks'!E127)","v":false},"","","",111,false,{"$f":"IF(BE100,'Google Finance Stocks'!D124)","v":false},"",{"$f":"IF(BE100,'Google Finance Stocks'!E124)","v":false},"","","",111,false,{"$f":"'Exchange Rates'!D110","v":0},"",{"$f":"IF(BM100,'Exchange Rates'!E110)","v":false},"","",""]
[null,null,null,null,null,null,null,null,null,null,null,99,"","","","",99,false,{"$f":"IF(R101,'Yahoo Index'!E153,\"\")","v":""},{"$f":"IF(R101,'Yahoo Index'!F153,\"\")","v":""},"","",null,102,false,{"$f":"IF($F$6,'FRED Indicies'!E114)","v":0},"",{"$f":"IF($F$6,'FRED Indicies'!D114)","v":0},"","","",102,false,{"$f":"IF(AG101,'Google Index'!E128)","v":false},"",{"$f":"IF(AF101,'Google Index'!F128)","v":0},"","","",102,false,{"$f":"IF(AN101,'Commodity Prices'!C114)","v":0},"",{"$f":"IF(AO101,'Commodity Prices'!E114)","v":false},"","","",102,false,{"$f":"IF(AW101,'Yahoo Stocks'!D128)","v":false},"",{"$f":"IF(AW101,'Yahoo Stocks'!E128)","v":false},"","","",112,false,{"$f":"IF(BE101,'Google Finance Stocks'!D125)","v":false},"",{"$f":"IF(BE101,'Google Finance Stocks'!E125)","v":false},"","","",112,false,{"$f":"'Exchange Rates'!D111","v":0},"",{"$f":"IF(BM101,'Exchange Rates'!E111)","v":false},"","",""]
[null,null,null,null,null,null,null,null,null,null,null,100,"","","","",100,false,{"$f":"IF(R102,'Yahoo Index'!E154,\"\")","v":""},{"$f":"IF(R102,'Yahoo Index'!F154,\"\")","v":""},"","",null,103,false,{"$f":"IF($F$6,'FRED Indicies'!E115)","v":0},"",{"$f":"IF($F$6,'FRED Indicies'!D115)","v":0},"","","",103,false,{"$f":"IF(AG102,'Google Index'!E129)","v":false},"",{"$f":"IF(AF102,'Google Index'!F129)","v":0},"","","",103,false,{"$f":"IF(AN102,'Commodity Prices'!C115)","v":0},"",{"$f":"IF(AO102,'Commodity Prices'!E115)","v":false},"","","",103,false,{"$f":"IF(AW102,'Yahoo Stocks'!D129)","v":false},"",{"$f":"IF(AW102,'Yahoo Stocks'!E129)","v":false},"","","",113,false,{"$f":"IF(BE102,'Google Finance Stocks'!D126)","v":false},"",{"$f":"IF(BE102,'Google Finance Stocks'!E126)","v":false},"","","",113,false,{"$f":"'Exchange Rates'!D112","v":0},"",{"$f":"IF(BM102,'Exchange Rates'!E112)","v":false},"","",""]
[null,null,null,null,null,null,null,null,null,null,null,101,"","","","",101,false,{"$f":"IF(R103,'Yahoo Index'!E155,\"\")","v":""},{"$f":"IF(R103,'Yahoo Index'!F155,\"\")","v":""},"","",null,104,false,{"$f":"IF($F$6,'FRED Indicies'!E116)","v":0},"",{"$f":"IF($F$6,'FRED Indicies'!D116)","v":0},"","","",104,false,{"$f":"IF(AG103,'Google Index'!E130)","v":false},"",{"$f":"IF(AF103,'Google Index'!F130)","v":0},"","","",104,false,{"$f":"IF(AN103,'Commodity Prices'!C116)","v":0},"",{"$f":"IF(AO103,'Commodity Prices'!E116)","v":false},"","","",104,false,{"$f":"IF(AW103,'Yahoo Stocks'!D130)","v":false},"",{"$f":"IF(AW103,'Yahoo Stocks'!E130)","v":false},"","","",114,false,{"$f":"IF(BE103,'Google Finance Stocks'!D127)","v":false},"",{"$f":"IF(BE103,'Google Finance Stocks'!E127)","v":false},"","","",114,false,{"$f":"'Exchange Rates'!D113","v":0},"",{"$f":"IF(BM103,'Exchange Rates'!E113)","v":false},"","",""]
[null,null,null,null,null,null,null,null,null,null,null,102,"","","","",102,false,{"$f":"IF(R104,'Yahoo Index'!E156,\"\")","v":""},{"$f":"IF(R104,'Yahoo Index'!F156,\"\")","v":""},"","",null,105,false,{"$f":"IF($F$6,'FRED Indicies'!E117)","v":0},"",{"$f":"IF($F$6,'FRED Indicies'!D117)","v":0},"","","",105,false,{"$f":"IF(AG104,'Google Index'!E131)","v":false},"",{"$f":"IF(AF104,'Google Index'!F131)","v":0},"","","",105,false,{"$f":"IF(AN104,'Commodity Prices'!C117)","v":0},"",{"$f":"IF(AO104,'Commodity Prices'!E117)","v":false},"","","",105,false,{"$f":"IF(AW104,'Yahoo Stocks'!D131)","v":false},"",{"$f":"IF(AW104,'Yahoo Stocks'!E131)","v":false},"","","",115,false,{"$f":"IF(BE104,'Google Finance Stocks'!D128)","v":false},"",{"$f":"IF(BE104,'Google Finance Stocks'!E128)","v":false},"","","",115,false,{"$f":"'Exchange Rates'!D114","v":0},"",{"$f":"IF(BM104,'Exchange Rates'!E114)","v":false},"","",""]
[null,null,null,null,null,null,null,null,null,null,null,103,"","","","",103,false,{"$f":"IF(R105,'Yahoo Index'!E157,\"\")","v":""},{"$f":"IF(R105,'Yahoo Index'!F157,\"\")","v":""},"","",null,106,false,{"$f":"IF($F$6,'FRED Indicies'!E118)","v":0},"",{"$f":"IF($F$6,'FRED Indicies'!D118)","v":0},"","","",106,false,{"$f":"IF(AG105,'Google Index'!E132)","v":false},"",{"$f":"IF(AF105,'Google Index'!F132)","v":0},"","","",106,false,{"$f":"IF(AN105,'Commodity Prices'!C118)","v":0},"",{"$f":"IF(AO105,'Commodity Prices'!E118)","v":false},"","","",106,false,{"$f":"IF(AW105,'Yahoo Stocks'!D132)","v":false},"",{"$f":"IF(AW105,'Yahoo Stocks'!E132)","v":false},"","","",116,false,{"$f":"IF(BE105,'Google Finance Stocks'!D129)","v":false},"",{"$f":"IF(BE105,'Google Finance Stocks'!E129)","v":false},"","","",116,false,{"$f":"'Exchange Rates'!D115","v":0},"",{"$f":"IF(BM105,'Exchange Rates'!E115)","v":false},"","",""]
[null,null,null,null,null,null,null,null,null,null,null,104,"","","","",104,false,{"$f":"IF(R106,'Yahoo Index'!E158,\"\")","v":""},{"$f":"IF(R106,'Yahoo Index'!F158,\"\")","v":""},"","",null,107,false,{"$f":"IF($F$6,'FRED Indicies'!E119)","v":0},"",{"$f":"IF($F$6,'FRED Indicies'!D119)","v":0},"","","",107,false,{"$f":"IF(AG106,'Google Index'!E133)","v":false},"",{"$f":"IF(AF106,'Google Index'!F133)","v":0},"","","",107,false,{"$f":"IF(AN106,'Commodity Prices'!C119)","v":0},"",{"$f":"IF(AO106,'Commodity Prices'!E119)","v":false},"","","",107,false,{"$f":"IF(AW106,'Yahoo Stocks'!D133)","v":false},"",{"$f":"IF(AW106,'Yahoo Stocks'!E133)","v":false},"","","",117,false,{"$f":"IF(BE106,'Google Finance Stocks'!D130)","v":false},"",{"$f":"IF(BE106,'Google Finance Stocks'!E130)","v":false},"","","",117,false,{"$f":"'Exchange Rates'!D116","v":0},"",{"$f":"IF(BM106,'Exchange Rates'!E116)","v":false},"","",""]
[null,null,null,null,null,null,null,null,null,null,null,105,"","","","",105,false,{"$f":"IF(R107,'Yahoo Index'!E159,\"\")","v":""},{"$f":"IF(R107,'Yahoo Index'!F159,\"\")","v":""},"","",null,108,false,{"$f":"IF($F$6,'FRED Indicies'!E120)","v":0},"",{"$f":"IF($F$6,'FRED Indicies'!D120)","v":0},"","","",108,false,{"$f":"IF(AG107,'Google Index'!E134)","v":false},"",{"$f":"IF(AF107,'Google Index'!F134)","v":0},"","","",108,false,{"$f":"IF(AN107,'Commodity Prices'!C120)","v":0},"",{"$f":"IF(AO107,'Commodity Prices'!E120)","v":false},"","","",108,false,{"$f":"IF(AW107,'Yahoo Stocks'!D134)","v":false},"",{"$f":"IF(AW107,'Yahoo Stocks'!E134)","v":false},"","","",118,false,{"$f":"IF(BE107,'Google Finance Stocks'!D131)","v":false},"",{"$f":"IF(BE107,'Google Finance Stocks'!E131)","v":false},"","","",118,false,{"$f":"'Exchange Rates'!D117","v":0},"",{"$f":"IF(BM107,'Exchange Rates'!E117)","v":false},"","",""]
[null,null,null,null,null,null,null,null,null,null,null,106,"","","","",106,false,{"$f":"IF(R108,'Yahoo Index'!E160,\"\")","v":""},{"$f":"IF(R108,'Yahoo Index'!F160,\"\")","v":""},"","",null,109,false,{"$f":"IF($F$6,'FRED Indicies'!E121)","v":0},"",{"$f":"IF($F$6,'FRED Indicies'!D121)","v":0},"","","",109,false,{"$f":"IF(AG108,'Google Index'!E135)","v":false},"",{"$f":"IF(AF108,'Google Index'!F135)","v":0},"","","",109,false,{"$f":"IF(AN108,'Commodity Prices'!C121)","v":0},"",{"$f":"IF(AO108,'Commodity Prices'!E121)","v":false},"","","",109,false,{"$f":"IF(AW108,'Yahoo Stocks'!D135)","v":false},"",{"$f":"IF(AW108,'Yahoo Stocks'!E135)","v":false},"","","",119,false,{"$f":"IF(BE108,'Google Finance Stocks'!D132)","v":false},"",{"$f":"IF(BE108,'Google Finance Stocks'!E132)","v":false},"","","",119,false,{"$f":"'Exchange Rates'!D118","v":0},"",{"$f":"IF(BM108,'Exchange Rates'!E118)","v":false},"","",""]
[null,null,null,null,null,null,null,null,null,null,null,107,"","","","",107,false,{"$f":"IF(R109,'Yahoo Index'!E161,\"\")","v":""},{"$f":"IF(R109,'Yahoo Index'!F161,\"\")","v":""},"","",null,110,false,{"$f":"IF($F$6,'FRED Indicies'!E122)","v":0},"",{"$f":"IF($F$6,'FRED Indicies'!D122)","v":0},"","","",110,false,{"$f":"IF(AG109,'Google Index'!E136)","v":false},"",{"$f":"IF(AF109,'Google Index'!F136)","v":0},"","","",110,false,{"$f":"IF(AN109,'Commodity Prices'!C122)","v":0},"",{"$f":"IF(AO109,'Commodity Prices'!E122)","v":false},"","","",110,false,{"$f":"IF(AW109,'Yahoo Stocks'!D136)","v":false},"",{"$f":"IF(AW109,'Yahoo Stocks'!E136)","v":false},"","","",120,false,{"$f":"IF(BE109,'Google Finance Stocks'!D133)","v":false},"",{"$f":"IF(BE109,'Google Finance Stocks'!E133)","v":false},"","","",120,false,{"$f":"'Exchange Rates'!D119","v":0},"",{"$f":"IF(BM109,'Exchange Rates'!E119)","v":false},"","",""]
[null,null,null,null,null,null,null,null,null,null,null,108,"","","","",108,false,{"$f":"IF(R110,'Yahoo Index'!E162,\"\")","v":""},{"$f":"IF(R110,'Yahoo Index'!F162,\"\")","v":""},"","",null,111,false,{"$f":"IF($F$6,'FRED Indicies'!E123)","v":0},"",{"$f":"IF($F$6,'FRED Indicies'!D123)","v":0},"","","",111,false,{"$f":"IF(AG110,'Google Index'!E137)","v":false},"",{"$f":"IF(AF110,'Google Index'!F137)","v":0},"","","",111,false,{"$f":"IF(AN110,'Commodity Prices'!C123)","v":0},"",{"$f":"IF(AO110,'Commodity Prices'!E123)","v":false},"","","",111,false,{"$f":"IF(AW110,'Yahoo Stocks'!D137)","v":false},"",{"$f":"IF(AW110,'Yahoo Stocks'!E137)","v":false},"","","",121,false,{"$f":"IF(BE110,'Google Finance Stocks'!D134)","v":false},"",{"$f":"IF(BE110,'Google Finance Stocks'!E134)","v":false},"","","",121,false,{"$f":"'Exchange Rates'!D120","v":0},"",{"$f":"IF(BM110,'Exchange Rates'!E120)","v":false},"","",""]
[null,null,null,null,null,null,null,null,null,null,null,109,"","","","",109,false,{"$f":"IF(R111,'Yahoo Index'!E163,\"\")","v":""},{"$f":"IF(R111,'Yahoo Index'!F163,\"\")","v":""},"","",null,112,false,{"$f":"IF($F$6,'FRED Indicies'!E124)","v":0},"",{"$f":"IF($F$6,'FRED Indicies'!D124)","v":0},"","","",112,false,{"$f":"IF(AG111,'Google Index'!E138)","v":false},"",{"$f":"IF(AF111,'Google Index'!F138)","v":0},"","","",112,false,{"$f":"IF(AN111,'Commodity Prices'!C124)","v":0},"",{"$f":"IF(AO111,'Commodity Prices'!E124)","v":false},"","","",112,false,{"$f":"IF(AW111,'Yahoo Stocks'!D138)","v":false},"",{"$f":"IF(AW111,'Yahoo Stocks'!E138)","v":false},"","","",122,false,{"$f":"IF(BE111,'Google Finance Stocks'!D135)","v":false},"",{"$f":"IF(BE111,'Google Finance Stocks'!E135)","v":false},"","","",122,false,{"$f":"'Exchange Rates'!D121","v":0},"",{"$f":"IF(BM111,'Exchange Rates'!E121)","v":false},"","",""]
[null,null,null,null,null,null,null,null,null,null,null,110,"","","","",110,false,{"$f":"IF(R112,'Yahoo Index'!E164,\"\")","v":""},{"$f":"IF(R112,'Yahoo Index'!F164,\"\")","v":""},"","",null,113,false,{"$f":"IF($F$6,'FRED Indicies'!E125)","v":0},"",{"$f":"IF($F$6,'FRED Indicies'!D125)","v":0},"","","",113,false,{"$f":"IF(AG112,'Google Index'!E139)","v":false},"",{"$f":"IF(AF112,'Google Index'!F139)","v":0},"","","",113,false,{"$f":"IF(AN112,'Commodity Prices'!C125)","v":0},"",{"$f":"IF(AO112,'Commodity Prices'!E125)","v":false},"","","",113,false,{"$f":"IF(AW112,'Yahoo Stocks'!D139)","v":false},"",{"$f":"IF(AW112,'Yahoo Stocks'!E139)","v":false},"","","",123,false,{"$f":"IF(BE112,'Google Finance Stocks'!D136)","v":false},"",{"$f":"IF(BE112,'Google Finance Stocks'!E136)","v":false},"","","",123,false,{"$f":"'Exchange Rates'!D122","v":0},"",{"$f":"IF(BM112,'Exchange Rates'!E122)","v":false},"","",""]
[null,null,null,null,null,null,null,null,null,null,null,111,"","","","",111,false,{"$f":"IF(R113,'Yahoo Index'!E165,\"\")","v":""},{"$f":"IF(R113,'Yahoo Index'!F165,\"\")","v":""},"","",null,114,false,{"$f":"IF($F$6,'FRED Indicies'!E126)","v":0},"",{"$f":"IF($F$6,'FRED Indicies'!D126)","v":0},"","","",114,false,{"$f":"IF(AG113,'Google Index'!E140)","v":false},"",{"$f":"IF(AF113,'Google Index'!F140)","v":0},"","","",114,false,{"$f":"IF(AN113,'Commodity Prices'!C126)","v":0},"",{"$f":"IF(AO113,'Commodity Prices'!E126)","v":false},"","","",114,false,{"$f":"IF(AW113,'Yahoo Stocks'!D140)","v":false},"",{"$f":"IF(AW113,'Yahoo Stocks'!E140)","v":false},"","","",124,false,{"$f":"IF(BE113,'Google Finance Stocks'!D137)","v":false},"",{"$f":"IF(BE113,'Google Finance Stocks'!E137)","v":false},"","","",124,false,{"$f":"'Exchange Rates'!D123","v":0},"",{"$f":"IF(BM113,'Exchange Rates'!E123)","v":false},"","",""]
[null,null,null,null,null,null,null,null,null,null,null,112,"","","","",112,false,{"$f":"IF(R114,'Yahoo Index'!E166,\"\")","v":""},{"$f":"IF(R114,'Yahoo Index'!F166,\"\")","v":""},"","",null,115,false,{"$f":"IF($F$6,'FRED Indicies'!E127)","v":0},"",{"$f":"IF($F$6,'FRED Indicies'!D127)","v":0},"","","",115,false,{"$f":"IF(AG114,'Google Index'!E141)","v":false},"",{"$f":"IF(AF114,'Google Index'!F141)","v":0},"","","",115,false,{"$f":"IF(AN114,'Commodity Prices'!C127)","v":0},"",{"$f":"IF(AO114,'Commodity Prices'!E127)","v":false},"","","",115,false,{"$f":"IF(AW114,'Yahoo Stocks'!D141)","v":false},"",{"$f":"IF(AW114,'Yahoo Stocks'!E141)","v":false},"","","",125,false,{"$f":"IF(BE114,'Google Finance Stocks'!D138)","v":false},"",{"$f":"IF(BE114,'Google Finance Stocks'!E138)","v":false},"","","",125,false,{"$f":"'Exchange Rates'!D124","v":0},"",{"$f":"IF(BM114,'Exchange Rates'!E124)","v":false},"","",""]
[null,null,null,null,null,null,null,null,null,null,null,113,"","","","",113,false,{"$f":"IF(R115,'Yahoo Index'!E167,\"\")","v":""},{"$f":"IF(R115,'Yahoo Index'!F167,\"\")","v":""},"","",null,116,false,{"$f":"IF($F$6,'FRED Indicies'!E128)","v":0},"",{"$f":"IF($F$6,'FRED Indicies'!D128)","v":0},"","","",116,false,{"$f":"IF(AG115,'Google Index'!E142)","v":false},"",{"$f":"IF(AF115,'Google Index'!F142)","v":0},"","","",116,false,{"$f":"IF(AN115,'Commodity Prices'!C128)","v":0},"",{"$f":"IF(AO115,'Commodity Prices'!E128)","v":false},"","","",116,false,{"$f":"IF(AW115,'Yahoo Stocks'!D142)","v":false},"",{"$f":"IF(AW115,'Yahoo Stocks'!E142)","v":false},"","","",126,false,{"$f":"IF(BE115,'Google Finance Stocks'!D139)","v":false},"",{"$f":"IF(BE115,'Google Finance Stocks'!E139)","v":false},"","","",126,false,{"$f":"'Exchange Rates'!D125","v":0},"",{"$f":"IF(BM115,'Exchange Rates'!E125)","v":false},"","",""]
[null,null,null,null,null,null,null,null,null,null,null,114,"","","","",114,false,{"$f":"IF(R116,'Yahoo Index'!E168,\"\")","v":""},{"$f":"IF(R116,'Yahoo Index'!F168,\"\")","v":""},"","",null,117,false,{"$f":"IF($F$6,'FRED Indicies'!E129)","v":0},"",{"$f":"IF($F$6,'FRED Indicies'!D129)","v":0},"","","",117,false,{"$f":"IF(AG116,'Google Index'!E143)","v":false},"",{"$f":"IF(AF116,'Google Index'!F143)","v":0},"","","",117,false,{"$f":"IF(AN116,'Commodity Prices'!C129)","v":0},"",{"$f":"IF(AO116,'Commodity Prices'!E129)","v":false},"","","",117,false,{"$f":"IF(AW116,'Yahoo Stocks'!D143)","v":false},"",{"$f":"IF(AW116,'Yahoo Stocks'!E143)","v":false},"","","",127,false,{"$f":"IF(BE116,'Google Finance Stocks'!D140)","v":false},"",{"$f":"IF(BE116,'Google Finance Stocks'!E140)","v":false},"","","",127,false,{"$f":"'Exchange Rates'!D126","v":0},"",{"$f":"IF(BM116,'Exchange Rates'!E126)","v":false},"","",""]
[null,null,null,null,null,null,null,null,null,null,null,115,{"$f":"S117&AA117&AI117&AQ117&AY117&BG117&BO117","v":""},{"$f":"T117&AC117&AK117&AS117&BA117&BI117&BQ117","v":""},{"$f":"U117&AD117&AL117&AT117&BB117&BJ117&BR117","v":""},{"$f":"V117&AE117&AM117&AU117&BC117&BK117&BS117","v":""},115,{"$f":"IF(AND($F$3,Q117<=$H$3),Q117)","v":false},{"$f":"IF(R117,'Yahoo Index'!E169,\"\")","v":""},{"$f":"IF(R117,'Yahoo Index'!F169,\"\")","v":""},{"$f":"IF(R117,$I$3,\"\")","v":""},{"$f":"IF(R117,$J$3,\"\")","v":""},null,118,{"$f":"IF(AND($F$6,X117<=$H$6),X117)","v":false},{"$f":"IF($F$6,'FRED Indicies'!E130)","v":0},{"$f":"IFERROR(INDEX(Z:Z,MATCH(L117,Y:Y,0)),\"\")","v":""},{"$f":"IF($F$6,'FRED Indicies'!D130)","v":0},{"$f":"IFERROR(INDEX(AB:AB,MATCH(L117,Y:Y,0)),\"\")","v":""},{"$f":"IF(AA117<>\"\",$I$6,\"\")","v":""},{"$f":"IF(AA117<>\"\",$J$6,\"\")","v":""},118,{"$f":"IF(AND($F$9,AF117<=$H$9),AF117)","v":false},{"$f":"IF(AG117,'Google Index'!E144)","v":false},{"$f":"IFERROR(INDEX(AH:AH,MATCH(Q117,AG:AG,0)),\"\")","v":""},{"$f":"IF(AF117,'Google Index'!F144)","v":0},{"$f":"IFERROR(INDEX(AJ:AJ,MATCH(Q117,AG:AG,0)),\"\")","v":""},{"$f":"IF(AI117<>\"\",$I$6,\"\")","v":""},{"$f":"IF(AK117<>\"\",$J$6,\"\")","v":""},118,{"$f":"IF(AND($F$12,AN117<=$H$12),AN117)","v":false},{"$f":"IF(AN117,'Commodity Prices'!C130)","v":0},{"$f":"IFERROR(INDEX(AP:AP,MATCH(L117,AO:AO,0)),\"\")","v":""},{"$f":"IF(AO117,'Commodity Prices'!E130)","v":false},{"$f":"IFERROR(INDEX(AR:AR,MATCH(L117,AO:AO,0)),\"\")","v":""},{"$f":"IF(AQ117<>\"\",$I$12,\"\")","v":""},{"$f":"IF(AS117<>\"\",$J$12,\"\")","v":""},118,{"$f":"IF(AND($F$15,AV117<=$H$15),AV117)","v":false},{"$f":"IF(AW117,'Yahoo Stocks'!D144)","v":false},"",{"$f":"IF(AW117,'Yahoo Stocks'!E144)","v":false},"","","",128,{"$f":"IF(AND($F$18,BD117<=$H$18),BD117)","v":false},{"$f":"IF(BE117,'Google Finance Stocks'!D141)","v":false},{"$f":"IFERROR(INDEX(BF:BF,MATCH(Q117,BE:BE,0)),\"\")","v":""},{"$f":"IF(BE117,'Google Finance Stocks'!E141)","v":false},{"$f":"IFERROR(INDEX(BH:BH,MATCH(Q117,BE:BE,0)),\"\")","v":""},{"$f":"IF(BI117<>\"\",$I$18,\"\")","v":""},{"$f":"IF(BI117<>\"\",$J$18,\"\")","v":""},128,{"$f":"IF(AND($F$21,BL117<=$H$21),BL117)","v":false},{"$f":"'Exchange Rates'!D127","v":0},{"$f":"IFERROR(INDEX(BN:BN,MATCH(L117,BM:BM,0)),\"\")","v":""},{"$f":"IF(BM117,'Exchange Rates'!E127)","v":false},{"$f":"IFERROR(INDEX(BP:BP,MATCH(L117,BM:BM,0)),\"\")","v":""},{"$f":"IF(BQ117<>\"\",$I$21,\"\")","v":""},{"$f":"IF(BQ117<>\"\",$J$21,\"\")","v":""}]
[null,null,null,null,null,null,null,null,null,null,null,116,"","","","",116,false,{"$f":"IF(R118,'Yahoo Index'!E170,\"\")","v":""},{"$f":"IF(R118,'Yahoo Index'!F170,\"\")","v":""},"","",null,119,false,{"$f":"IF($F$6,'FRED Indicies'!E131)","v":0},"",{"$f":"IF($F$6,'FRED Indicies'!D131)","v":0},"","","",119,false,{"$f":"IF(AG118,'Google Index'!E145)","v":false},"",{"$f":"IF(AF118,'Google Index'!F145)","v":0},"","","",119,false,{"$f":"IF(AN118,'Commodity Prices'!C131)","v":0},"",{"$f":"IF(AO118,'Commodity Prices'!E131)","v":false},"","","",119,false,{"$f":"IF(AW118,'Yahoo Stocks'!D145)","v":false},"",{"$f":"IF(AW118,'Yahoo Stocks'!E145)","v":false},"","","",129,false,{"$f":"IF(BE118,'Google Finance Stocks'!D142)","v":false},"",{"$f":"IF(BE118,'Google Finance Stocks'!E142)","v":false},"","","",129,false,{"$f":"'Exchange Rates'!D128","v":0},"",{"$f":"IF(BM118,'Exchange Rates'!E128)","v":false},"","",""]
[null,null,null,null,null,null,null,null,null,null,null,117,"","","","",117,false,{"$f":"IF(R119,'Yahoo Index'!E171,\"\")","v":""},{"$f":"IF(R119,'Yahoo Index'!F171,\"\")","v":""},"","",null,120,false,{"$f":"IF($F$6,'FRED Indicies'!E132)","v":0},"",{"$f":"IF($F$6,'FRED Indicies'!D132)","v":0},"","","",120,false,{"$f":"IF(AG119,'Google Index'!E146)","v":false},"",{"$f":"IF(AF119,'Google Index'!F146)","v":0},"","","",120,false,{"$f":"IF(AN119,'Commodity Prices'!C132)","v":0},"",{"$f":"IF(AO119,'Commodity Prices'!E132)","v":false},"","","",120,false,{"$f":"IF(AW119,'Yahoo Stocks'!D146)","v":false},"",{"$f":"IF(AW119,'Yahoo Stocks'!E146)","v":false},"","","",130,false,{"$f":"IF(BE119,'Google Finance Stocks'!D143)","v":false},"",{"$f":"IF(BE119,'Google Finance Stocks'!E143)","v":false},"","","",130,false,{"$f":"'Exchange Rates'!D129","v":0},"",{"$f":"IF(BM119,'Exchange Rates'!E129)","v":false},"","",""]
[null,null,null,null,null,null,null,null,null,null,null,118,"","","","",118,false,{"$f":"IF(R120,'Yahoo Index'!E172,\"\")","v":""},{"$f":"IF(R120,'Yahoo Index'!F172,\"\")","v":""},"","",null,121,false,{"$f":"IF($F$6,'FRED Indicies'!E133)","v":0},"",{"$f":"IF($F$6,'FRED Indicies'!D133)","v":0},"","","",121,false,{"$f":"IF(AG120,'Google Index'!E147)","v":false},"",{"$f":"IF(AF120,'Google Index'!F147)","v":0},"","","",121,false,{"$f":"IF(AN120,'Commodity Prices'!C133)","v":0},"",{"$f":"IF(AO120,'Commodity Prices'!E133)","v":false},"","","",121,false,{"$f":"IF(AW120,'Yahoo Stocks'!D147)","v":false},"",{"$f":"IF(AW120,'Yahoo Stocks'!E147)","v":false},"","","",131,false,{"$f":"IF(BE120,'Google Finance Stocks'!D144)","v":false},"",{"$f":"IF(BE120,'Google Finance Stocks'!E144)","v":false},"","","",131,false,{"$f":"'Exchange Rates'!D130","v":0},"",{"$f":"IF(BM120,'Exchange Rates'!E130)","v":false},"","",""]
[null,null,null,null,null,null,null,null,null,null,null,119,"","","","",119,false,{"$f":"IF(R121,'Yahoo Index'!E173,\"\")","v":""},{"$f":"IF(R121,'Yahoo Index'!F173,\"\")","v":""},"","",null,122,false,{"$f":"IF($F$6,'FRED Indicies'!E134)","v":0},"",{"$f":"IF($F$6,'FRED Indicies'!D134)","v":0},"","","",122,false,{"$f":"IF(AG121,'Google Index'!E148)","v":false},"",{"$f":"IF(AF121,'Google Index'!F148)","v":0},"","","",122,false,{"$f":"IF(AN121,'Commodity Prices'!C134)","v":0},"",{"$f":"IF(AO121,'Commodity Prices'!E134)","v":false},"","","",122,false,{"$f":"IF(AW121,'Yahoo Stocks'!D148)","v":false},"",{"$f":"IF(AW121,'Yahoo Stocks'!E148)","v":false},"","","",132,false,{"$f":"IF(BE121,'Google Finance Stocks'!D145)","v":false},"",{"$f":"IF(BE121,'Google Finance Stocks'!E145)","v":false},"","","",132,false,{"$f":"'Exchange Rates'!D131","v":0},"",{"$f":"IF(BM121,'Exchange Rates'!E131)","v":false},"","",""]
[null,null,null,null,null,null,null,null,null,null,null,120,"","","","",120,false,{"$f":"IF(R122,'Yahoo Index'!E174,\"\")","v":""},{"$f":"IF(R122,'Yahoo Index'!F174,\"\")","v":""},"","",null,123,false,{"$f":"IF($F$6,'FRED Indicies'!E135)","v":0},"",{"$f":"IF($F$6,'FRED Indicies'!D135)","v":0},"","","",123,false,{"$f":"IF(AG122,'Google Index'!E149)","v":false},"",{"$f":"IF(AF122,'Google Index'!F149)","v":0},"","","",123,false,{"$f":"IF(AN122,'Commodity Prices'!C135)","v":0},"",{"$f":"IF(AO122,'Commodity Prices'!E135)","v":false},"","","",123,false,{"$f":"IF(AW122,'Yahoo Stocks'!D149)","v":false},"",{"$f":"IF(AW122,'Yahoo Stocks'!E149)","v":false},"","","",133,false,{"$f":"IF(BE122,'Google Finance Stocks'!D146)","v":false},"",{"$f":"IF(BE122,'Google Finance Stocks'!E146)","v":false},"","","",133,false,{"$f":"'Exchange Rates'!D132","v":0},"",{"$f":"IF(BM122,'Exchange Rates'!E132)","v":false},"","",""]
[null,null,null,null,null,null,null,null,null,null,null,121,"","","","",121,false,{"$f":"IF(R123,'Yahoo Index'!E175,\"\")","v":""},{"$f":"IF(R123,'Yahoo Index'!F175,\"\")","v":""},"","",null,124,false,{"$f":"IF($F$6,'FRED Indicies'!E136)","v":0},"",{"$f":"IF($F$6,'FRED Indicies'!D136)","v":0},"","","",124,false,{"$f":"IF(AG123,'Google Index'!E150)","v":false},"",{"$f":"IF(AF123,'Google Index'!F150)","v":0},"","","",124,false,{"$f":"IF(AN123,'Commodity Prices'!C136)","v":0},"",{"$f":"IF(AO123,'Commodity Prices'!E136)","v":false},"","","",124,false,{"$f":"IF(AW123,'Yahoo Stocks'!D150)","v":false},"",{"$f":"IF(AW123,'Yahoo Stocks'!E150)","v":false},"","","",134,false,{"$f":"IF(BE123,'Google Finance Stocks'!D147)","v":false},"",{"$f":"IF(BE123,'Google Finance Stocks'!E147)","v":false},"","","",134,false,{"$f":"'Exchange Rates'!D133","v":0},"",{"$f":"IF(BM123,'Exchange Rates'!E133)","v":false},"","",""]
[null,null,null,null,null,null,null,null,null,null,null,122,"","","","",122,false,{"$f":"IF(R124,'Yahoo Index'!E176,\"\")","v":""},{"$f":"IF(R124,'Yahoo Index'!F176,\"\")","v":""},"","",null,125,false,{"$f":"IF($F$6,'FRED Indicies'!E137)","v":0},"",{"$f":"IF($F$6,'FRED Indicies'!D137)","v":0},"","","",125,false,{"$f":"IF(AG124,'Google Index'!E151)","v":false},"",{"$f":"IF(AF124,'Google Index'!F151)","v":0},"","","",125,false,{"$f":"IF(AN124,'Commodity Prices'!C137)","v":0},"",{"$f":"IF(AO124,'Commodity Prices'!E137)","v":false},"","","",125,false,{"$f":"IF(AW124,'Yahoo Stocks'!D151)","v":false},"",{"$f":"IF(AW124,'Yahoo Stocks'!E151)","v":false},"","","",135,false,{"$f":"IF(BE124,'Google Finance Stocks'!D148)","v":false},"",{"$f":"IF(BE124,'Google Finance Stocks'!E148)","v":false},"","","",135,false,{"$f":"'Exchange Rates'!D134","v":0},"",{"$f":"IF(BM124,'Exchange Rates'!E134)","v":false},"","",""]
[null,null,null,null,null,null,null,null,null,null,null,123,"","","","",123,false,{"$f":"IF(R125,'Yahoo Index'!E177,\"\")","v":""},{"$f":"IF(R125,'Yahoo Index'!F177,\"\")","v":""},"","",null,126,false,{"$f":"IF($F$6,'FRED Indicies'!E138)","v":0},"",{"$f":"IF($F$6,'FRED Indicies'!D138)","v":0},"","","",126,false,{"$f":"IF(AG125,'Google Index'!E152)","v":false},"",{"$f":"IF(AF125,'Google Index'!F152)","v":0},"","","",126,false,{"$f":"IF(AN125,'Commodity Prices'!C138)","v":0},"",{"$f":"IF(AO125,'Commodity Prices'!E138)","v":false},"","","",126,false,{"$f":"IF(AW125,'Yahoo Stocks'!D152)","v":false},"",{"$f":"IF(AW125,'Yahoo Stocks'!E152)","v":false},"","","",136,false,{"$f":"IF(BE125,'Google Finance Stocks'!D149)","v":false},"",{"$f":"IF(BE125,'Google Finance Stocks'!E149)","v":false},"","","",136,false,{"$f":"'Exchange Rates'!D135","v":0},"",{"$f":"IF(BM125,'Exchange Rates'!E135)","v":false},"","",""]
[null,null,null,null,null,null,null,null,null,null,null,124,"","","","",124,false,{"$f":"IF(R126,'Yahoo Index'!E178,\"\")","v":""},{"$f":"IF(R126,'Yahoo Index'!F178,\"\")","v":""},"","",null,127,false,{"$f":"IF($F$6,'FRED Indicies'!E139)","v":0},"",{"$f":"IF($F$6,'FRED Indicies'!D139)","v":0},"","","",127,false,{"$f":"IF(AG126,'Google Index'!E153)","v":false},"",{"$f":"IF(AF126,'Google Index'!F153)","v":0},"","","",127,false,{"$f":"IF(AN126,'Commodity Prices'!C139)","v":0},"",{"$f":"IF(AO126,'Commodity Prices'!E139)","v":false},"","","",127,false,{"$f":"IF(AW126,'Yahoo Stocks'!D153)","v":false},"",{"$f":"IF(AW126,'Yahoo Stocks'!E153)","v":false},"","","",137,false,{"$f":"IF(BE126,'Google Finance Stocks'!D150)","v":false},"",{"$f":"IF(BE126,'Google Finance Stocks'!E150)","v":false},"","","",137,false,{"$f":"'Exchange Rates'!D136","v":0},{"$f":"IFERROR(INDEX(BN:BN,MATCH(L126,BM:BM,0)),\"\")","v":""},{"$f":"IF(BM126,'Exchange Rates'!E136)","v":false},"","",""]
[null,null,null,null,null,null,null,null,null,null,null,125,"","","","",125,false,{"$f":"IF(R127,'Yahoo Index'!E179,\"\")","v":""},{"$f":"IF(R127,'Yahoo Index'!F179,\"\")","v":""},"","",null,128,false,{"$f":"IF($F$6,'FRED Indicies'!E140)","v":0},"",{"$f":"IF($F$6,'FRED Indicies'!D140)","v":0},"","","",128,false,{"$f":"IF(AG127,'Google Index'!E154)","v":false},"",{"$f":"IF(AF127,'Google Index'!F154)","v":0},"","","",128,false,{"$f":"IF(AN127,'Commodity Prices'!C140)","v":0},"",{"$f":"IF(AO127,'Commodity Prices'!E140)","v":false},"","","",128,false,{"$f":"IF(AW127,'Yahoo Stocks'!D154)","v":false},"",{"$f":"IF(AW127,'Yahoo Stocks'!E154)","v":false},"","","",138,false,{"$f":"IF(BE127,'Google Finance Stocks'!D151)","v":false},"",{"$f":"IF(BE127,'Google Finance Stocks'!E151)","v":false},"","","",138,false,{"$f":"'Exchange Rates'!D137","v":0},{"$f":"IFERROR(INDEX(BN:BN,MATCH(L127,BM:BM,0)),\"\")","v":""},{"$f":"IF(BM127,'Exchange Rates'!E137)","v":false},"","",""]
[null,null,null,null,null,null,null,null,null,null,null,126,{"$f":"S128&AA128&AI128&AQ128&AY128&BG128&BO128","v":""},{"$f":"T128&AC128&AK128&AS128&BA128&BI128&BQ128","v":""},{"$f":"U128&AD128&AL128&AT128&BB128&BJ128&BR128","v":""},{"$f":"V128&AE128&AM128&AU128&BC128&BK128&BS128","v":""},126,{"$f":"IF(AND($F$3,Q128<=$H$3),Q128)","v":false},null,null,null,null,null,129,{"$f":"IF(AND($F$6,X128<=$H$6),X128)","v":false},{"$f":"IF($F$6,'FRED Indicies'!E141)","v":0},{"$f":"IFERROR(INDEX(Z:Z,MATCH(L128,Y:Y,0)),\"\")","v":""},{"$f":"IF($F$6,'FRED Indicies'!D141)","v":0},{"$f":"IFERROR(INDEX(AB:AB,MATCH(L128,Y:Y,0)),\"\")","v":""},{"$f":"IF(AA128<>\"\",$I$6,\"\")","v":""},{"$f":"IF(AA128<>\"\",$J$6,\"\")","v":""},129,{"$f":"IF(AND($F$9,AF128<=$H$9),AF128)","v":false},{"$f":"IF(AG128,'Google Index'!E155)","v":false},{"$f":"IFERROR(INDEX(AH:AH,MATCH(Q128,AG:AG,0)),\"\")","v":""},{"$f":"IF(AF128,'Google Index'!F155)","v":0},{"$f":"IFERROR(INDEX(AJ:AJ,MATCH(Q128,AG:AG,0)),\"\")","v":""},{"$f":"IF(AI128<>\"\",$I$6,\"\")","v":""},{"$f":"IF(AK128<>\"\",$J$6,\"\")","v":""},129,{"$f":"IF(AND($F$12,AN128<=$H$12),AN128)","v":false},{"$f":"IF(AN128,'Commodity Prices'!C141)","v":0},{"$f":"IFERROR(INDEX(AP:AP,MATCH(L128,AO:AO,0)),\"\")","v":""},{"$f":"IF(AO128,'Commodity Prices'!E141)","v":false},{"$f":"IFERROR(INDEX(AR:AR,MATCH(L128,AO:AO,0)),\"\")","v":""},{"$f":"IF(AQ128<>\"\",$I$12,\"\")","v":""},{"$f":"IF(AS128<>\"\",$J$12,\"\")","v":""},129,{"$f":"IF(AND($F$15,AV128<=$H$15),AV128)","v":false},{"$f":"IF(AW128,'Yahoo Stocks'!D155)","v":false},"",{"$f":"IF(AW128,'Yahoo Stocks'!E155)","v":false},"","","",139,{"$f":"IF(AND($F$18,BD128<=$H$18),BD128)","v":false},{"$f":"IF(BE128,'Google Finance Stocks'!D152)","v":false},{"$f":"IFERROR(INDEX(BF:BF,MATCH(Q128,BE:BE,0)),\"\")","v":""},{"$f":"IF(BE128,'Google Finance Stocks'!E152)","v":false},{"$f":"IFERROR(INDEX(BH:BH,MATCH(Q128,BE:BE,0)),\"\")","v":""},{"$f":"IF(BI128<>\"\",$I$18,\"\")","v":""},{"$f":"IF(BI128<>\"\",$J$18,\"\")","v":""},139,{"$f":"IF(AND($F$21,BL128<=$H$21),BL128)","v":false},{"$f":"'Exchange Rates'!D138","v":0},{"$f":"IFERROR(INDEX(BN:BN,MATCH(L128,BM:BM,0)),\"\")","v":""},{"$f":"IF(BM128,'Exchange Rates'!E138)","v":false},{"$f":"IFERROR(INDEX(BP:BP,MATCH(L128,BM:BM,0)),\"\")","v":""},{"$f":"IF(BQ128<>\"\",$I$21,\"\")","v":""},{"$f":"IF(BQ128<>\"\",$J$21,\"\")","v":""}]
[null,null,null,null,null,null,null,null,null,null,null,127,"","","","",127,false,null,null,null,null,null,130,false,{"$f":"IF($F$6,'FRED Indicies'!E142)","v":0},"",{"$f":"IF($F$6,'FRED Indicies'!D142)","v":0},"","","",130,false,{"$f":"IF(AG129,'Google Index'!E156)","v":false},"",{"$f":"IF(AF129,'Google Index'!F156)","v":0},"","","",130,false,{"$f":"IF(AN129,'Commodity Prices'!C142)","v":0},"",{"$f":"IF(AO129,'Commodity Prices'!E142)","v":false},"","","",130,false,{"$f":"IF(AW129,'Yahoo Stocks'!D156)","v":false},"",{"$f":"IF(AW129,'Yahoo Stocks'!E156)","v":false},"","","",140,false,{"$f":"IF(BE129,'Google Finance Stocks'!D153)","v":false},"",{"$f":"IF(BE129,'Google Finance Stocks'!E153)","v":false},"","","",140,false,{"$f":"'Exchange Rates'!D139","v":0},{"$f":"IFERROR(INDEX(BN:BN,MATCH(L129,BM:BM,0)),\"\")","v":""},{"$f":"IF(BM129,'Exchange Rates'!E139)","v":false},"","",""]
[null,null,null,null,null,null,null,null,null,null,null,128,"","","","",128,false,null,null,null,null,null,131,false,{"$f":"IF($F$6,'FRED Indicies'!E143)","v":0},"",{"$f":"IF($F$6,'FRED Indicies'!D143)","v":0},"","","",131,false,{"$f":"IF(AG130,'Google Index'!E157)","v":false},"",{"$f":"IF(AF130,'Google Index'!F157)","v":0},"","","",131,false,{"$f":"IF(AN130,'Commodity Prices'!C143)","v":0},"",{"$f":"IF(AO130,'Commodity Prices'!E143)","v":false},"","","",131,false,{"$f":"IF(AW130,'Yahoo Stocks'!D157)","v":false},"",{"$f":"IF(AW130,'Yahoo Stocks'!E157)","v":false},"","","",141,false,{"$f":"IF(BE130,'Google Finance Stocks'!D154)","v":false},"",{"$f":"IF(BE130,'Google Finance Stocks'!E154)","v":false},"","","",141,false,{"$f":"'Exchange Rates'!D140","v":0},"",{"$f":"IF(BM130,'Exchange Rates'!E140)","v":false},"","",""]
[null,null,null,null,null,null,null,null,null,null,null,129,"","","","",129,false,null,null,null,null,null,132,false,{"$f":"IF($F$6,'FRED Indicies'!E144)","v":0},"",{"$f":"IF($F$6,'FRED Indicies'!D144)","v":0},"","","",132,false,{"$f":"IF(AG131,'Google Index'!E158)","v":false},"",{"$f":"IF(AF131,'Google Index'!F158)","v":0},"","","",132,false,{"$f":"IF(AN131,'Commodity Prices'!C144)","v":0},"",{"$f":"IF(AO131,'Commodity Prices'!E144)","v":false},"","","",132,false,{"$f":"IF(AW131,'Yahoo Stocks'!D158)","v":false},"",{"$f":"IF(AW131,'Yahoo Stocks'!E158)","v":false},"","","",142,false,{"$f":"IF(BE131,'Google Finance Stocks'!D155)","v":false},"",{"$f":"IF(BE131,'Google Finance Stocks'!E155)","v":false},"","","",142,false,{"$f":"'Exchange Rates'!D141","v":0},"",{"$f":"IF(BM131,'Exchange Rates'!E141)","v":false},"","",""]
[null,null,null,null,null,null,null,null,null,null,null,130,"","","","",130,false,null,null,null,null,null,133,false,{"$f":"IF($F$6,'FRED Indicies'!E145)","v":0},"",{"$f":"IF($F$6,'FRED Indicies'!D145)","v":0},"","","",133,false,{"$f":"IF(AG132,'Google Index'!E159)","v":false},"",{"$f":"IF(AF132,'Google Index'!F159)","v":0},"","","",133,false,{"$f":"IF(AN132,'Commodity Prices'!C145)","v":0},"",{"$f":"IF(AO132,'Commodity Prices'!E145)","v":false},"","","",133,false,{"$f":"IF(AW132,'Yahoo Stocks'!D159)","v":false},{"$f":"IFERROR(INDEX(AX:AX,MATCH(L132,AW:AW,0)),\"\")","v":""},{"$f":"IF(AW132,'Yahoo Stocks'!E159)","v":false},{"$f":"IFERROR(INDEX(AZ:AZ,MATCH(L132,AW:AW,0)),\"\")","v":""},{"$f":"IF(AY132<>\"\",$I$15,\"\")","v":""},{"$f":"IF(BA132<>\"\",$J$15,\"\")","v":""},143,false,{"$f":"IF(BE132,'Google Finance Stocks'!D156)","v":false},"",{"$f":"IF(BE132,'Google Finance Stocks'!E156)","v":false},"","","",143,false,{"$f":"'Exchange Rates'!D142","v":0},"",{"$f":"IF(BM132,'Exchange Rates'!E142)","v":false},"","",""]
[null,null,null,null,null,null,null,null,null,null,null,131,"","","","",{"$f":"Q132+1","v":131},false,null,null,null,null,null,{"$f":"X132+1","v":134},false,{"$f":"IF($F$6,'FRED Indicies'!E146)","v":0},"",{"$f":"IF($F$6,'FRED Indicies'!D146)","v":0},"","","",{"$f":"AF132+1","v":134},false,{"$f":"IF(AG133,'Google Index'!E160)","v":false},"",{"$f":"IF(AF133,'Google Index'!F160)","v":0},"","","",{"$f":"AN132+1","v":134},false,{"$f":"IF(AN133,'Commodity Prices'!C146)","v":0},"",{"$f":"IF(AO133,'Commodity Prices'!E146)","v":false},"","","",{"$f":"AV132+1","v":134},false,{"$f":"IF(AW133,'Yahoo Stocks'!D160)","v":false},"",{"$f":"IF(AW133,'Yahoo Stocks'!E160)","v":false},"","","",{"$f":"BD132+1","v":144},false,{"$f":"IF(BE133,'Google Finance Stocks'!D157)","v":false},"",{"$f":"IF(BE133,'Google Finance Stocks'!E157)","v":false},"","","",{"$f":"BL132+1","v":144},false,{"$f":"'Exchange Rates'!D143","v":0},"",{"$f":"IF(BM133,'Exchange Rates'!E143)","v":false},"","",""]
[null,null,null,null,null,null,null,null,null,null,null,132,"","","","",132,false,null,null,null,null,null,135,false,{"$f":"IF($F$6,'FRED Indicies'!E147)","v":0},"",{"$f":"IF($F$6,'FRED Indicies'!D147)","v":0},"","","",135,false,{"$f":"IF(AG134,'Google Index'!E161)","v":false},"",{"$f":"IF(AF134,'Google Index'!F161)","v":0},"","","",135,false,{"$f":"IF(AN134,'Commodity Prices'!C147)","v":0},"",{"$f":"IF(AO134,'Commodity Prices'!E147)","v":false},"","","",135,false,{"$f":"IF(AW134,'Yahoo Stocks'!D161)","v":false},"",{"$f":"IF(AW134,'Yahoo Stocks'!E161)","v":false},"","","",145,false,{"$f":"IF(BE134,'Google Finance Stocks'!D158)","v":false},"",{"$f":"IF(BE134,'Google Finance Stocks'!E158)","v":false},"","","",145,false,{"$f":"'Exchange Rates'!D144","v":0},"",{"$f":"IF(BM134,'Exchange Rates'!E144)","v":false},"","",""]
[null,null,null,null,null,null,null,null,null,null,null,133,{"$f":"S135&AA135&AI135&AQ135&AY135&BG135&BO135","v":""},{"$f":"T135&AC135&AK135&AS135&BA135&BI135&BQ135","v":""},{"$f":"U135&AD135&AL135&AT135&BB135&BJ135&BR135","v":""},{"$f":"V135&AE135&AM135&AU135&BC135&BK135&BS135","v":""},133,{"$f":"IF(AND($F$3,Q135<=$H$3),Q135)","v":false},null,null,null,null,null,136,false,{"$f":"IF($F$6,'FRED Indicies'!E148)","v":0},"",{"$f":"IF($F$6,'FRED Indicies'!D148)","v":0},"","","",136,false,{"$f":"IF(AG135,'Google Index'!E162)","v":false},"",{"$f":"IF(AF135,'Google Index'!F162)","v":0},"","","",136,false,{"$f":"IF(AN135,'Commodity Prices'!C148)","v":0},"",{"$f":"IF(AO135,'Commodity Prices'!E148)","v":false},"","","",136,false,{"$f":"IF(AW135,'Yahoo Stocks'!D162)","v":false},"",{"$f":"IF(AW135,'Yahoo Stocks'!E162)","v":false},"","","",146,false,{"$f":"IF(BE135,'Google Finance Stocks'!D159)","v":false},"",{"$f":"IF(BE135,'Google Finance Stocks'!E159)","v":false},"","","",146,false,{"$f":"'Exchange Rates'!D145","v":0},"",{"$f":"IF(BM135,'Exchange Rates'!E145)","v":false},"","",""]
[null,null,null,null,null,null,null,null,null,null,null,134,"","","","",134,false,null,null,null,null,null,137,false,{"$f":"IF($F$6,'FRED Indicies'!E149)","v":0},"",{"$f":"IF($F$6,'FRED Indicies'!D149)","v":0},"","","",137,false,{"$f":"IF(AG136,'Google Index'!E163)","v":false},"",{"$f":"IF(AF136,'Google Index'!F163)","v":0},"","","",137,false,{"$f":"IF(AN136,'Commodity Prices'!C149)","v":0},"",{"$f":"IF(AO136,'Commodity Prices'!E149)","v":false},"","","",137,false,{"$f":"IF(AW136,'Yahoo Stocks'!D163)","v":false},"",{"$f":"IF(AW136,'Yahoo Stocks'!E163)","v":false},"","","",147,false,{"$f":"IF(BE136,'Google Finance Stocks'!D160)","v":false},"",{"$f":"IF(BE136,'Google Finance Stocks'!E160)","v":false},"","","",147,false,{"$f":"'Exchange Rates'!D146","v":0},"",{"$f":"IF(BM136,'Exchange Rates'!E146)","v":false},"","",""]
[null,null,null,null,null,null,null,null,null,null,null,135,"","","","",135,false,null,null,null,null,null,138,false,{"$f":"IF($F$6,'FRED Indicies'!E150)","v":0},"",{"$f":"IF($F$6,'FRED Indicies'!D150)","v":0},"","","",138,false,{"$f":"IF(AG137,'Google Index'!E164)","v":false},"",{"$f":"IF(AF137,'Google Index'!F164)","v":0},"","","",138,false,{"$f":"IF(AN137,'Commodity Prices'!C150)","v":0},"",{"$f":"IF(AO137,'Commodity Prices'!E150)","v":false},"","","",138,false,{"$f":"IF(AW137,'Yahoo Stocks'!D164)","v":false},"",{"$f":"IF(AW137,'Yahoo Stocks'!E164)","v":false},"","","",148,false,{"$f":"IF(BE137,'Google Finance Stocks'!D161)","v":false},"",{"$f":"IF(BE137,'Google Finance Stocks'!E161)","v":false},"","","",148,false,{"$f":"'Exchange Rates'!D147","v":0},"",{"$f":"IF(BM137,'Exchange Rates'!E147)","v":false},"","",""]
[null,null,null,null,null,null,null,null,null,null,null,136,"","","","",136,false,null,null,null,null,null,139,false,{"$f":"IF($F$6,'FRED Indicies'!E151)","v":0},"",{"$f":"IF($F$6,'FRED Indicies'!D151)","v":0},"","","",139,false,{"$f":"IF(AG138,'Google Index'!E165)","v":false},"",{"$f":"IF(AF138,'Google Index'!F165)","v":0},"","","",139,false,{"$f":"IF(AN138,'Commodity Prices'!C151)","v":0},"",{"$f":"IF(AO138,'Commodity Prices'!E151)","v":false},"","","",139,false,{"$f":"IF(AW138,'Yahoo Stocks'!D165)","v":false},"",{"$f":"IF(AW138,'Yahoo Stocks'!E165)","v":false},"","","",149,false,{"$f":"IF(BE138,'Google Finance Stocks'!D162)","v":false},"",{"$f":"IF(BE138,'Google Finance Stocks'!E162)","v":false},"","","",149,false,{"$f":"'Exchange Rates'!D148","v":0},"",{"$f":"IF(BM138,'Exchange Rates'!E148)","v":false},"","",""]
[null,null,null,null,null,null,null,null,null,null,null,137,"","","","",137,false,null,null,null,null,null,140,false,{"$f":"IF($F$6,'FRED Indicies'!E152)","v":0},"",{"$f":"IF($F$6,'FRED Indicies'!D152)","v":0},"","","",140,false,{"$f":"IF(AG139,'Google Index'!E166)","v":false},"",{"$f":"IF(AF139,'Google Index'!F166)","v":0},"","","",140,false,{"$f":"IF(AN139,'Commodity Prices'!C152)","v":0},"",{"$f":"IF(AO139,'Commodity Prices'!E152)","v":false},"","","",140,false,{"$f":"IF(AW139,'Yahoo Stocks'!D166)","v":false},"",{"$f":"IF(AW139,'Yahoo Stocks'!E166)","v":false},"","","",150,false,{"$f":"IF(BE139,'Google Finance Stocks'!D163)","v":false},"",{"$f":"IF(BE139,'Google Finance Stocks'!E163)","v":false},"","","",150,false,{"$f":"'Exchange Rates'!D149","v":0},"",{"$f":"IF(BM139,'Exchange Rates'!E149)","v":false},"","",""]
[null,null,null,null,null,null,null,null,null,null,null,138,"","","","",138,false,null,null,null,null,null,141,false,{"$f":"IF($F$6,'FRED Indicies'!E153)","v":0},"",{"$f":"IF($F$6,'FRED Indicies'!D153)","v":0},"","","",141,false,{"$f":"IF(AG140,'Google Index'!E167)","v":false},"",{"$f":"IF(AF140,'Google Index'!F167)","v":0},"","","",141,false,{"$f":"IF(AN140,'Commodity Prices'!C153)","v":0},"",{"$f":"IF(AO140,'Commodity Prices'!E153)","v":false},"","","",141,false,{"$f":"IF(AW140,'Yahoo Stocks'!D167)","v":false},"",{"$f":"IF(AW140,'Yahoo Stocks'!E167)","v":false},"","","",151,false,{"$f":"IF(BE140,'Google Finance Stocks'!D164)","v":false},"",{"$f":"IF(BE140,'Google Finance Stocks'!E164)","v":false},"","","",151,false,{"$f":"'Exchange Rates'!D150","v":0},"",{"$f":"IF(BM140,'Exchange Rates'!E150)","v":false},"","",""]
[null,null,null,null,null,null,null,null,null,null,null,139,{"$f":"S141&AA141&AI141&AQ141&AY141&BG141&BO141","v":""},{"$f":"T141&AC141&AK141&AS141&BA141&BI141&BQ141","v":""},{"$f":"U141&AD141&AL141&AT141&BB141&BJ141&BR141","v":""},{"$f":"V141&AE141&AM141&AU141&BC141&BK141&BS141","v":""},139,false,null,null,null,null,null,142,false,{"$f":"IF($F$6,'FRED Indicies'!E154)","v":0},"",{"$f":"IF($F$6,'FRED Indicies'!D154)","v":0},"","","",142,false,{"$f":"IF(AG141,'Google Index'!E168)","v":false},"",{"$f":"IF(AF141,'Google Index'!F168)","v":0},"","","",142,false,{"$f":"IF(AN141,'Commodity Prices'!C154)","v":0},"",{"$f":"IF(AO141,'Commodity Prices'!E154)","v":false},"","","",142,false,{"$f":"IF(AW141,'Yahoo Stocks'!D168)","v":false},"",{"$f":"IF(AW141,'Yahoo Stocks'!E168)","v":false},"","","",152,false,{"$f":"IF(BE141,'Google Finance Stocks'!D165)","v":false},"",{"$f":"IF(BE141,'Google Finance Stocks'!E165)","v":false},"","","",152,false,{"$f":"'Exchange Rates'!D151","v":0},"",{"$f":"IF(BM141,'Exchange Rates'!E151)","v":false},"","",""]
[null,null,null,null,null,null,null,null,null,null,null,140,"","","","",140,false,null,null,null,null,null,143,false,{"$f":"IF($F$6,'FRED Indicies'!E155)","v":0},"",{"$f":"IF($F$6,'FRED Indicies'!D155)","v":0},"","","",143,false,{"$f":"IF(AG142,'Google Index'!E169)","v":false},"",{"$f":"IF(AF142,'Google Index'!F169)","v":0},"","","",143,false,{"$f":"IF(AN142,'Commodity Prices'!C155)","v":0},"",{"$f":"IF(AO142,'Commodity Prices'!E155)","v":false},"","","",143,false,{"$f":"IF(AW142,'Yahoo Stocks'!D169)","v":false},"",{"$f":"IF(AW142,'Yahoo Stocks'!E169)","v":false},"","","",153,false,{"$f":"IF(BE142,'Google Finance Stocks'!D166)","v":false},"",{"$f":"IF(BE142,'Google Finance Stocks'!E166)","v":false},"","","",153,false,{"$f":"'Exchange Rates'!D152","v":0},"",{"$f":"IF(BM142,'Exchange Rates'!E152)","v":false},"","",""]
[null,null,null,null,null,null,null,null,null,null,null,141,"","","","",141,false,null,null,null,null,null,144,false,{"$f":"IF($F$6,'FRED Indicies'!E156)","v":0},"",{"$f":"IF($F$6,'FRED Indicies'!D156)","v":0},"","","",144,false,{"$f":"IF(AG143,'Google Index'!E170)","v":false},"",{"$f":"IF(AF143,'Google Index'!F170)","v":0},"","","",144,false,{"$f":"IF(AN143,'Commodity Prices'!C156)","v":0},"",{"$f":"IF(AO143,'Commodity Prices'!E156)","v":false},"","","",144,false,{"$f":"IF(AW143,'Yahoo Stocks'!D170)","v":false},"",{"$f":"IF(AW143,'Yahoo Stocks'!E170)","v":false},"","","",154,false,{"$f":"IF(BE143,'Google Finance Stocks'!D167)","v":false},"",{"$f":"IF(BE143,'Google Finance Stocks'!E167)","v":false},"","","",154,false,{"$f":"'Exchange Rates'!D153","v":0},"",{"$f":"IF(BM143,'Exchange Rates'!E153)","v":false},"","",""]
[null,null,null,null,null,null,null,null,null,null,null,142,"","","","",142,false,null,null,null,null,null,145,false,{"$f":"IF($F$6,'FRED Indicies'!E157)","v":0},"",{"$f":"IF($F$6,'FRED Indicies'!D157)","v":0},"","","",145,false,{"$f":"IF(AG144,'Google Index'!E171)","v":false},"",{"$f":"IF(AF144,'Google Index'!F171)","v":0},"","","",145,false,{"$f":"IF(AN144,'Commodity Prices'!C157)","v":0},"",{"$f":"IF(AO144,'Commodity Prices'!E157)","v":false},"","","",145,false,{"$f":"IF(AW144,'Yahoo Stocks'!D171)","v":false},"",{"$f":"IF(AW144,'Yahoo Stocks'!E171)","v":false},"","","",155,false,{"$f":"IF(BE144,'Google Finance Stocks'!D168)","v":false},"",{"$f":"IF(BE144,'Google Finance Stocks'!E168)","v":false},"","","",155,false,{"$f":"'Exchange Rates'!D154","v":0},"",{"$f":"IF(BM144,'Exchange Rates'!E154)","v":false},"","",""]
[null,null,null,null,null,null,null,null,null,null,null,143,"","","","",143,false,null,null,null,null,null,146,false,{"$f":"IF($F$6,'FRED Indicies'!E158)","v":0},"",{"$f":"IF($F$6,'FRED Indicies'!D158)","v":0},"","","",146,false,{"$f":"IF(AG145,'Google Index'!E172)","v":false},"",{"$f":"IF(AF145,'Google Index'!F172)","v":0},"","","",146,false,{"$f":"IF(AN145,'Commodity Prices'!C158)","v":0},"",{"$f":"IF(AO145,'Commodity Prices'!E158)","v":false},"","","",146,false,{"$f":"IF(AW145,'Yahoo Stocks'!D172)","v":false},"",{"$f":"IF(AW145,'Yahoo Stocks'!E172)","v":false},"","","",156,false,{"$f":"IF(BE145,'Google Finance Stocks'!D169)","v":false},"",{"$f":"IF(BE145,'Google Finance Stocks'!E169)","v":false},"","","",156,false,{"$f":"'Exchange Rates'!D155","v":0},"",{"$f":"IF(BM145,'Exchange Rates'!E155)","v":false},"","",""]
[null,null,null,null,null,null,null,null,null,null,null,144,"","","","",144,false,null,null,null,null,null,147,false,{"$f":"IF($F$6,'FRED Indicies'!E159)","v":0},"",{"$f":"IF($F$6,'FRED Indicies'!D159)","v":0},"","","",147,false,{"$f":"IF(AG146,'Google Index'!E173)","v":false},"",{"$f":"IF(AF146,'Google Index'!F173)","v":0},"","","",147,false,{"$f":"IF(AN146,'Commodity Prices'!C159)","v":0},"",{"$f":"IF(AO146,'Commodity Prices'!E159)","v":false},"","","",147,false,{"$f":"IF(AW146,'Yahoo Stocks'!D173)","v":false},"",{"$f":"IF(AW146,'Yahoo Stocks'!E173)","v":false},"","","",157,false,{"$f":"IF(BE146,'Google Finance Stocks'!D170)","v":false},"",{"$f":"IF(BE146,'Google Finance Stocks'!E170)","v":false},"","","",157,false,{"$f":"'Exchange Rates'!D156","v":0},"",{"$f":"IF(BM146,'Exchange Rates'!E156)","v":false},"","",""]
[null,null,null,null,null,null,null,null,null,null,null,145,"","","","",145,false,null,null,null,null,null,148,false,{"$f":"IF($F$6,'FRED Indicies'!E160)","v":0},"",{"$f":"IF($F$6,'FRED Indicies'!D160)","v":0},"","","",148,false,{"$f":"IF(AG147,'Google Index'!E174)","v":false},"",{"$f":"IF(AF147,'Google Index'!F174)","v":0},"","","",148,false,{"$f":"IF(AN147,'Commodity Prices'!C160)","v":0},"",{"$f":"IF(AO147,'Commodity Prices'!E160)","v":false},"","","",148,false,{"$f":"IF(AW147,'Yahoo Stocks'!D174)","v":false},"",{"$f":"IF(AW147,'Yahoo Stocks'!E174)","v":false},"","","",158,false,{"$f":"IF(BE147,'Google Finance Stocks'!D171)","v":false},"",{"$f":"IF(BE147,'Google Finance Stocks'!E171)","v":false},"","","",158,false,{"$f":"'Exchange Rates'!D157","v":0},"",{"$f":"IF(BM147,'Exchange Rates'!E157)","v":false},"","",""]
[null,null,null,null,null,null,null,null,null,null,null,146,"","","","",146,false,null,null,null,null,null,149,false,{"$f":"IF($F$6,'FRED Indicies'!E161)","v":0},"",{"$f":"IF($F$6,'FRED Indicies'!D161)","v":0},"","","",149,false,{"$f":"IF(AG148,'Google Index'!E175)","v":false},"",{"$f":"IF(AF148,'Google Index'!F175)","v":0},"","","",149,false,{"$f":"IF(AN148,'Commodity Prices'!C161)","v":0},"",{"$f":"IF(AO148,'Commodity Prices'!E161)","v":false},"","","",149,false,{"$f":"IF(AW148,'Yahoo Stocks'!D175)","v":false},"",{"$f":"IF(AW148,'Yahoo Stocks'!E175)","v":false},"","","",159,false,{"$f":"IF(BE148,'Google Finance Stocks'!D172)","v":false},"",{"$f":"IF(BE148,'Google Finance Stocks'!E172)","v":false},"","","",159,false,{"$f":"'Exchange Rates'!D158","v":0},"",{"$f":"IF(BM148,'Exchange Rates'!E158)","v":false},"","",""]
[null,null,null,null,null,null,null,null,null,null,null,147,"","","","",147,false,null,null,null,null,null,150,false,{"$f":"IF($F$6,'FRED Indicies'!E162)","v":0},"",{"$f":"IF($F$6,'FRED Indicies'!D162)","v":0},"","","",150,false,{"$f":"IF(AG149,'Google Index'!E176)","v":false},"",{"$f":"IF(AF149,'Google Index'!F176)","v":0},"","","",150,false,{"$f":"IF(AN149,'Commodity Prices'!C162)","v":0},"",{"$f":"IF(AO149,'Commodity Prices'!E162)","v":false},"","","",150,false,{"$f":"IF(AW149,'Yahoo Stocks'!D176)","v":false},"",{"$f":"IF(AW149,'Yahoo Stocks'!E176)","v":false},"","","",160,false,{"$f":"IF(BE149,'Google Finance Stocks'!D173)","v":false},"",{"$f":"IF(BE149,'Google Finance Stocks'!E173)","v":false},"","","",160,false,{"$f":"'Exchange Rates'!D159","v":0},"",{"$f":"IF(BM149,'Exchange Rates'!E159)","v":false},"","",""]
[null,null,null,null,null,null,null,null,null,null,null,148,"","","","",148,false,null,null,null,null,null,151,false,{"$f":"IF($F$6,'FRED Indicies'!E163)","v":0},"",{"$f":"IF($F$6,'FRED Indicies'!D163)","v":0},"","","",151,false,{"$f":"IF(AG150,'Google Index'!E177)","v":false},"",{"$f":"IF(AF150,'Google Index'!F177)","v":0},"","","",151,false,{"$f":"IF(AN150,'Commodity Prices'!C163)","v":0},"",{"$f":"IF(AO150,'Commodity Prices'!E163)","v":false},"","","",151,false,{"$f":"IF(AW150,'Yahoo Stocks'!D177)","v":false},"",{"$f":"IF(AW150,'Yahoo Stocks'!E177)","v":false},"","","",161,false,{"$f":"IF(BE150,'Google Finance Stocks'!D174)","v":false},"",{"$f":"IF(BE150,'Google Finance Stocks'!E174)","v":false},"","","",161,false,{"$f":"'Exchange Rates'!D160","v":0},"",{"$f":"IF(BM150,'Exchange Rates'!E160)","v":false},"","",""]
[null,null,null,null,null,null,null,null,null,null,null,149,"","","","",149,false,null,null,null,null,null,152,false,{"$f":"IF($F$6,'FRED Indicies'!E164)","v":0},"",{"$f":"IF($F$6,'FRED Indicies'!D164)","v":0},"","","",152,false,{"$f":"IF(AG151,'Google Index'!E178)","v":false},"",{"$f":"IF(AF151,'Google Index'!F178)","v":0},"","","",152,false,{"$f":"IF(AN151,'Commodity Prices'!C164)","v":0},"",{"$f":"IF(AO151,'Commodity Prices'!E164)","v":false},"","","",152,false,{"$f":"IF(AW151,'Yahoo Stocks'!D178)","v":false},"",{"$f":"IF(AW151,'Yahoo Stocks'!E178)","v":false},"","","",162,false,{"$f":"IF(BE151,'Google Finance Stocks'!D175)","v":false},"",{"$f":"IF(BE151,'Google Finance Stocks'!E175)","v":false},"","","",162,false,{"$f":"'Exchange Rates'!D161","v":0},"",{"$f":"IF(BM151,'Exchange Rates'!E161)","v":false},"","",""]
[null,null,null,null,null,null,null,null,null,null,null,150,"","","","",150,false,null,null,null,null,null,153,false,{"$f":"IF($F$6,'FRED Indicies'!E165)","v":0},"",{"$f":"IF($F$6,'FRED Indicies'!D165)","v":0},"","","",153,false,{"$f":"IF(AG152,'Google Index'!E179)","v":false},"",{"$f":"IF(AF152,'Google Index'!F179)","v":0},"","","",153,false,{"$f":"IF(AN152,'Commodity Prices'!C165)","v":0},"",{"$f":"IF(AO152,'Commodity Prices'!E165)","v":false},"","","",153,false,{"$f":"IF(AW152,'Yahoo Stocks'!D179)","v":false},"",{"$f":"IF(AW152,'Yahoo Stocks'!E179)","v":false},"","","",163,false,{"$f":"IF(BE152,'Google Finance Stocks'!D176)","v":false},"",{"$f":"IF(BE152,'Google Finance Stocks'!E176)","v":false},"","","",163,false,{"$f":"'Exchange Rates'!D162","v":0},"",{"$f":"IF(BM152,'Exchange Rates'!E162)","v":false},"","",""]
[null,null,null,null,null,null,null,null,null,null,null,151,"","","","",151,false,null,null,null,null,null,154,false,{"$f":"IF($F$6,'FRED Indicies'!E166)","v":0},"",{"$f":"IF($F$6,'FRED Indicies'!D166)","v":0},"","","",154,false,{"$f":"IF(AG153,'Google Index'!E180)","v":false},"",{"$f":"IF(AF153,'Google Index'!F180)","v":0},"","","",154,false,{"$f":"IF(AN153,'Commodity Prices'!C166)","v":0},"",{"$f":"IF(AO153,'Commodity Prices'!E166)","v":false},"","","",154,false,{"$f":"IF(AW153,'Yahoo Stocks'!D180)","v":false},"",{"$f":"IF(AW153,'Yahoo Stocks'!E180)","v":false},"","","",164,false,{"$f":"IF(BE153,'Google Finance Stocks'!D177)","v":false},"",{"$f":"IF(BE153,'Google Finance Stocks'!E177)","v":false},"","","",164,false,{"$f":"'Exchange Rates'!D163","v":0},"",{"$f":"IF(BM153,'Exchange Rates'!E163)","v":false},"","",""]
[null,null,null,null,null,null,null,null,null,null,null,152,"","","","",null,null,null,null,null,null,null,155,false,{"$f":"IF($F$6,'FRED Indicies'!E167)","v":0},"",{"$f":"IF($F$6,'FRED Indicies'!D167)","v":0},"","","",155,false,{"$f":"IF(AG154,'Google Index'!E181)","v":false},"",{"$f":"IF(AF154,'Google Index'!F181)","v":0},"","","",155,false,{"$f":"IF(AN154,'Commodity Prices'!C167)","v":0},"",{"$f":"IF(AO154,'Commodity Prices'!E167)","v":false},"","","",155,false,{"$f":"IF(AW154,'Yahoo Stocks'!D181)","v":false},"",{"$f":"IF(AW154,'Yahoo Stocks'!E181)","v":false},"","","",165,false,{"$f":"IF(BE154,'Google Finance Stocks'!D178)","v":false},"",{"$f":"IF(BE154,'Google Finance Stocks'!E178)","v":false},"","","",165,false,{"$f":"'Exchange Rates'!D164","v":0},"",{"$f":"IF(BM154,'Exchange Rates'!E164)","v":false},"","",""]
[null,null,null,null,null,null,null,null,null,null,null,153,"","","","",null,null,null,null,null,null,null,156,false,{"$f":"IF($F$6,'FRED Indicies'!E168)","v":0},"",{"$f":"IF($F$6,'FRED Indicies'!D168)","v":0},"","","",156,false,{"$f":"IF(AG155,'Google Index'!E182)","v":false},"",{"$f":"IF(AF155,'Google Index'!F182)","v":0},"","","",156,false,{"$f":"IF(AN155,'Commodity Prices'!C168)","v":0},"",{"$f":"IF(AO155,'Commodity Prices'!E168)","v":false},"","","",156,false,{"$f":"IF(AW155,'Yahoo Stocks'!D182)","v":false},"",{"$f":"IF(AW155,'Yahoo Stocks'!E182)","v":false},"","","",166,false,{"$f":"IF(BE155,'Google Finance Stocks'!D179)","v":false},"",{"$f":"IF(BE155,'Google Finance Stocks'!E179)","v":false},"","","",166,false,{"$f":"'Exchange Rates'!D165","v":0},"",{"$f":"IF(BM155,'Exchange Rates'!E165)","v":false},"","",""]
[null,null,null,null,null,null,null,null,null,null,null,154,"","","","",null,null,null,null,null,null,null,157,false,{"$f":"IF($F$6,'FRED Indicies'!E169)","v":0},"",{"$f":"IF($F$6,'FRED Indicies'!D169)","v":0},"","","",157,false,{"$f":"IF(AG156,'Google Index'!E183)","v":false},"",{"$f":"IF(AF156,'Google Index'!F183)","v":0},"","","",157,false,{"$f":"IF(AN156,'Commodity Prices'!C169)","v":0},"",{"$f":"IF(AO156,'Commodity Prices'!E169)","v":false},"","","",157,false,{"$f":"IF(AW156,'Yahoo Stocks'!D183)","v":false},"",{"$f":"IF(AW156,'Yahoo Stocks'!E183)","v":false},"","","",167,false,{"$f":"IF(BE156,'Google Finance Stocks'!D180)","v":false},"",{"$f":"IF(BE156,'Google Finance Stocks'!E180)","v":false},"","","",167,false,{"$f":"'Exchange Rates'!D166","v":0},"",{"$f":"IF(BM156,'Exchange Rates'!E166)","v":false},"","",""]
[null,null,null,null,null,null,null,null,null,null,null,155,"","","","",null,null,null,null,null,null,null,158,false,{"$f":"IF($F$6,'FRED Indicies'!E170)","v":0},"",{"$f":"IF($F$6,'FRED Indicies'!D170)","v":0},"","","",158,false,{"$f":"IF(AG157,'Google Index'!E184)","v":false},"",{"$f":"IF(AF157,'Google Index'!F184)","v":0},"","","",158,false,{"$f":"IF(AN157,'Commodity Prices'!C170)","v":0},"",{"$f":"IF(AO157,'Commodity Prices'!E170)","v":false},"","","",158,false,{"$f":"IF(AW157,'Yahoo Stocks'!D184)","v":false},"",{"$f":"IF(AW157,'Yahoo Stocks'!E184)","v":false},"","","",168,false,{"$f":"IF(BE157,'Google Finance Stocks'!D181)","v":false},"",{"$f":"IF(BE157,'Google Finance Stocks'!E181)","v":false},"","","",168,false,{"$f":"'Exchange Rates'!D167","v":0},"",{"$f":"IF(BM157,'Exchange Rates'!E167)","v":false},"","",""]
[null,null,null,null,null,null,null,null,null,null,null,156,"","","","",null,null,null,null,null,null,null,159,false,{"$f":"IF($F$6,'FRED Indicies'!E171)","v":0},"",{"$f":"IF($F$6,'FRED Indicies'!D171)","v":0},"","","",159,false,{"$f":"IF(AG158,'Google Index'!E185)","v":false},"",{"$f":"IF(AF158,'Google Index'!F185)","v":0},"","","",159,false,{"$f":"IF(AN158,'Commodity Prices'!C171)","v":0},"",{"$f":"IF(AO158,'Commodity Prices'!E171)","v":false},"","","",159,false,{"$f":"IF(AW158,'Yahoo Stocks'!D185)","v":false},"",{"$f":"IF(AW158,'Yahoo Stocks'!E185)","v":false},"","","",169,false,{"$f":"IF(BE158,'Google Finance Stocks'!D182)","v":false},"",{"$f":"IF(BE158,'Google Finance Stocks'!E182)","v":false},"","","",169,false,{"$f":"'Exchange Rates'!D168","v":0},"",{"$f":"IF(BM158,'Exchange Rates'!E168)","v":false},"","",""]
[null,null,null,null,null,null,null,null,null,null,null,157,"","","","",null,null,null,null,null,null,null,160,false,{"$f":"IF($F$6,'FRED Indicies'!E172)","v":0},"",{"$f":"IF($F$6,'FRED Indicies'!D172)","v":0},"","","",160,false,{"$f":"IF(AG159,'Google Index'!E186)","v":false},"",{"$f":"IF(AF159,'Google Index'!F186)","v":0},"","","",160,false,{"$f":"IF(AN159,'Commodity Prices'!C172)","v":0},"",{"$f":"IF(AO159,'Commodity Prices'!E172)","v":false},"","","",160,false,{"$f":"IF(AW159,'Yahoo Stocks'!D186)","v":false},"",{"$f":"IF(AW159,'Yahoo Stocks'!E186)","v":false},"","","",170,false,{"$f":"IF(BE159,'Google Finance Stocks'!D183)","v":false},"",{"$f":"IF(BE159,'Google Finance Stocks'!E183)","v":false},"","","",170,false,{"$f":"'Exchange Rates'!D169","v":0},"",{"$f":"IF(BM159,'Exchange Rates'!E169)","v":false},"","",""]
[null,null,null,null,null,null,null,null,null,null,null,158,"","","","",null,null,null,null,null,null,null,161,false,{"$f":"IF($F$6,'FRED Indicies'!E173)","v":0},"",{"$f":"IF($F$6,'FRED Indicies'!D173)","v":0},"","","",161,false,{"$f":"IF(AG160,'Google Index'!E187)","v":false},"",{"$f":"IF(AF160,'Google Index'!F187)","v":0},"","","",161,false,{"$f":"IF(AN160,'Commodity Prices'!C173)","v":0},"",{"$f":"IF(AO160,'Commodity Prices'!E173)","v":false},"","","",161,false,{"$f":"IF(AW160,'Yahoo Stocks'!D187)","v":false},"",{"$f":"IF(AW160,'Yahoo Stocks'!E187)","v":false},"","","",171,false,{"$f":"IF(BE160,'Google Finance Stocks'!D184)","v":false},"",{"$f":"IF(BE160,'Google Finance Stocks'!E184)","v":false},"","","",171,false,{"$f":"'Exchange Rates'!D170","v":0},"",{"$f":"IF(BM160,'Exchange Rates'!E170)","v":false},"","",""]
[null,null,null,null,null,null,null,null,null,null,null,159,"","","","",null,null,null,null,null,null,null,162,false,{"$f":"IF($F$6,'FRED Indicies'!E174)","v":0},"",{"$f":"IF($F$6,'FRED Indicies'!D174)","v":0},"","","",162,false,{"$f":"IF(AG161,'Google Index'!E188)","v":false},"",{"$f":"IF(AF161,'Google Index'!F188)","v":0},"","","",162,false,{"$f":"IF(AN161,'Commodity Prices'!C174)","v":0},"",{"$f":"IF(AO161,'Commodity Prices'!E174)","v":false},"","","",162,false,{"$f":"IF(AW161,'Yahoo Stocks'!D188)","v":false},"",{"$f":"IF(AW161,'Yahoo Stocks'!E188)","v":false},"","","",172,false,{"$f":"IF(BE161,'Google Finance Stocks'!D185)","v":false},"",{"$f":"IF(BE161,'Google Finance Stocks'!E185)","v":false},"","","",172,false,{"$f":"'Exchange Rates'!D171","v":0},"",{"$f":"IF(BM161,'Exchange Rates'!E171)","v":false},"","",""]
[null,null,null,null,null,null,null,null,null,null,null,160,"","","","",null,null,null,null,null,null,null,163,false,{"$f":"IF($F$6,'FRED Indicies'!E175)","v":0},"",{"$f":"IF($F$6,'FRED Indicies'!D175)","v":0},"","","",163,false,{"$f":"IF(AG162,'Google Index'!E189)","v":false},"",{"$f":"IF(AF162,'Google Index'!F189)","v":0},"","","",163,false,{"$f":"IF(AN162,'Commodity Prices'!C175)","v":0},"",{"$f":"IF(AO162,'Commodity Prices'!E175)","v":false},"","","",163,false,{"$f":"IF(AW162,'Yahoo Stocks'!D189)","v":false},"",{"$f":"IF(AW162,'Yahoo Stocks'!E189)","v":false},"","","",173,false,{"$f":"IF(BE162,'Google Finance Stocks'!D186)","v":false},"",{"$f":"IF(BE162,'Google Finance Stocks'!E186)","v":false},"","","",173,false,{"$f":"'Exchange Rates'!D172","v":0},"",{"$f":"IF(BM162,'Exchange Rates'!E172)","v":false},"","",""]
[null,null,null,null,null,null,null,null,null,null,null,161,"","","","",null,null,null,null,null,null,null,164,false,{"$f":"IF($F$6,'FRED Indicies'!E176)","v":0},"",{"$f":"IF($F$6,'FRED Indicies'!D176)","v":0},"","","",164,false,{"$f":"IF(AG163,'Google Index'!E190)","v":false},"",{"$f":"IF(AF163,'Google Index'!F190)","v":0},"","","",164,false,{"$f":"IF(AN163,'Commodity Prices'!C176)","v":0},"",{"$f":"IF(AO163,'Commodity Prices'!E176)","v":false},"","","",164,false,{"$f":"IF(AW163,'Yahoo Stocks'!D190)","v":false},"",{"$f":"IF(AW163,'Yahoo Stocks'!E190)","v":false},"","","",174,false,{"$f":"IF(BE163,'Google Finance Stocks'!D187)","v":false},"",{"$f":"IF(BE163,'Google Finance Stocks'!E187)","v":false},"","","",174,false,{"$f":"'Exchange Rates'!D173","v":0},"",{"$f":"IF(BM163,'Exchange Rates'!E173)","v":false},"","",""]
[null,null,null,null,null,null,null,null,null,null,null,162,"","","","",null,null,null,null,null,null,null,165,false,{"$f":"IF($F$6,'FRED Indicies'!E177)","v":0},"",{"$f":"IF($F$6,'FRED Indicies'!D177)","v":0},"","","",165,false,{"$f":"IF(AG164,'Google Index'!E191)","v":false},"",{"$f":"IF(AF164,'Google Index'!F191)","v":0},"","","",165,false,{"$f":"IF(AN164,'Commodity Prices'!C177)","v":0},"",{"$f":"IF(AO164,'Commodity Prices'!E177)","v":false},"","","",165,false,{"$f":"IF(AW164,'Yahoo Stocks'!D191)","v":false},"",{"$f":"IF(AW164,'Yahoo Stocks'!E191)","v":false},"","","",175,false,{"$f":"IF(BE164,'Google Finance Stocks'!D188)","v":false},"",{"$f":"IF(BE164,'Google Finance Stocks'!E188)","v":false},"","","",175,false,{"$f":"'Exchange Rates'!D174","v":0},"",{"$f":"IF(BM164,'Exchange Rates'!E174)","v":false},"","",""]
[null,null,null,null,null,null,null,null,null,null,null,163,"","","","",null,null,null,null,null,null,null,166,false,{"$f":"IF($F$6,'FRED Indicies'!E178)","v":0},"",{"$f":"IF($F$6,'FRED Indicies'!D178)","v":0},"","","",166,false,{"$f":"IF(AG165,'Google Index'!E192)","v":false},"",{"$f":"IF(AF165,'Google Index'!F192)","v":0},"","","",166,false,{"$f":"IF(AN165,'Commodity Prices'!C178)","v":0},"",{"$f":"IF(AO165,'Commodity Prices'!E178)","v":false},"","","",166,false,{"$f":"IF(AW165,'Yahoo Stocks'!D192)","v":false},"",{"$f":"IF(AW165,'Yahoo Stocks'!E192)","v":false},"","","",176,false,{"$f":"IF(BE165,'Google Finance Stocks'!D189)","v":false},"",{"$f":"IF(BE165,'Google Finance Stocks'!E189)","v":false},"","","",176,false,{"$f":"'Exchange Rates'!D175","v":0},"",{"$f":"IF(BM165,'Exchange Rates'!E175)","v":false},"","",""]
[null,null,null,null,null,null,null,null,null,null,null,164,"","","","",null,null,null,null,null,null,null,167,false,{"$f":"IF($F$6,'FRED Indicies'!E179)","v":0},"",{"$f":"IF($F$6,'FRED Indicies'!D179)","v":0},"","","",167,false,{"$f":"IF(AG166,'Google Index'!E193)","v":false},"",{"$f":"IF(AF166,'Google Index'!F193)","v":0},"","","",167,false,{"$f":"IF(AN166,'Commodity Prices'!C179)","v":0},"",{"$f":"IF(AO166,'Commodity Prices'!E179)","v":false},"","","",167,false,{"$f":"IF(AW166,'Yahoo Stocks'!D193)","v":false},"",{"$f":"IF(AW166,'Yahoo Stocks'!E193)","v":false},"","","",177,false,{"$f":"IF(BE166,'Google Finance Stocks'!D190)","v":false},"",{"$f":"IF(BE166,'Google Finance Stocks'!E190)","v":false},"","","",177,false,{"$f":"'Exchange Rates'!D176","v":0},"",{"$f":"IF(BM166,'Exchange Rates'!E176)","v":false},"","",""]
[null,null,null,null,null,null,null,null,null,null,null,165,"","","","",null,null,null,null,null,null,null,168,false,{"$f":"IF($F$6,'FRED Indicies'!E180)","v":0},"",{"$f":"IF($F$6,'FRED Indicies'!D180)","v":0},"","","",168,false,{"$f":"IF(AG167,'Google Index'!E194)","v":false},"",{"$f":"IF(AF167,'Google Index'!F194)","v":0},"","","",168,false,{"$f":"IF(AN167,'Commodity Prices'!C180)","v":0},"",{"$f":"IF(AO167,'Commodity Prices'!E180)","v":false},"","","",168,false,{"$f":"IF(AW167,'Yahoo Stocks'!D194)","v":false},"",{"$f":"IF(AW167,'Yahoo Stocks'!E194)","v":false},"","","",178,false,{"$f":"IF(BE167,'Google Finance Stocks'!D191)","v":false},"",{"$f":"IF(BE167,'Google Finance Stocks'!E191)","v":false},"","","",178,false,{"$f":"'Exchange Rates'!D177","v":0},"",{"$f":"IF(BM167,'Exchange Rates'!E177)","v":false},"","",""]
[null,null,null,null,null,null,null,null,null,null,null,166,"","","","",null,null,null,null,null,null,null,169,false,{"$f":"IF($F$6,'FRED Indicies'!E181)","v":0},"",{"$f":"IF($F$6,'FRED Indicies'!D181)","v":0},"","","",169,false,{"$f":"IF(AG168,'Google Index'!E195)","v":false},"",{"$f":"IF(AF168,'Google Index'!F195)","v":0},"","","",169,false,{"$f":"IF(AN168,'Commodity Prices'!C181)","v":0},"",{"$f":"IF(AO168,'Commodity Prices'!E181)","v":false},"","","",169,false,{"$f":"IF(AW168,'Yahoo Stocks'!D195)","v":false},"",{"$f":"IF(AW168,'Yahoo Stocks'!E195)","v":false},"","","",179,false,{"$f":"IF(BE168,'Google Finance Stocks'!D192)","v":false},"",{"$f":"IF(BE168,'Google Finance Stocks'!E192)","v":false},"","","",179,false,{"$f":"'Exchange Rates'!D178","v":0},"",{"$f":"IF(BM168,'Exchange Rates'!E178)","v":false},"","",""]
[null,null,null,null,null,null,null,null,null,null,null,167,"","","","",null,null,null,null,null,null,null,170,false,{"$f":"IF($F$6,'FRED Indicies'!E182)","v":0},"",{"$f":"IF($F$6,'FRED Indicies'!D182)","v":0},"","","",170,false,{"$f":"IF(AG169,'Google Index'!E196)","v":false},"",{"$f":"IF(AF169,'Google Index'!F196)","v":0},"","","",170,false,{"$f":"IF(AN169,'Commodity Prices'!C182)","v":0},"",{"$f":"IF(AO169,'Commodity Prices'!E182)","v":false},"","","",170,false,{"$f":"IF(AW169,'Yahoo Stocks'!D196)","v":false},"",{"$f":"IF(AW169,'Yahoo Stocks'!E196)","v":false},"","","",180,false,{"$f":"IF(BE169,'Google Finance Stocks'!D193)","v":false},"",{"$f":"IF(BE169,'Google Finance Stocks'!E193)","v":false},"","","",180,false,{"$f":"'Exchange Rates'!D179","v":0},"",{"$f":"IF(BM169,'Exchange Rates'!E179)","v":false},"","",""]
[null,null,null,null,null,null,null,null,null,null,null,168,"","","","",null,null,null,null,null,null,null,171,false,{"$f":"IF($F$6,'FRED Indicies'!E183)","v":0},"",{"$f":"IF($F$6,'FRED Indicies'!D183)","v":0},"","","",171,false,{"$f":"IF(AG170,'Google Index'!E197)","v":false},"",{"$f":"IF(AF170,'Google Index'!F197)","v":0},"","","",171,false,{"$f":"IF(AN170,'Commodity Prices'!C183)","v":0},"",{"$f":"IF(AO170,'Commodity Prices'!E183)","v":false},"","","",171,false,{"$f":"IF(AW170,'Yahoo Stocks'!D197)","v":false},"",{"$f":"IF(AW170,'Yahoo Stocks'!E197)","v":false},"","","",181,false,{"$f":"IF(BE170,'Google Finance Stocks'!D194)","v":false},"",{"$f":"IF(BE170,'Google Finance Stocks'!E194)","v":false},"","","",181,false,{"$f":"'Exchange Rates'!D180","v":0},"",{"$f":"IF(BM170,'Exchange Rates'!E180)","v":false},"","",""]
[null,null,null,null,null,null,null,null,null,null,null,169,"","","","",null,null,null,null,null,null,null,172,false,{"$f":"IF($F$6,'FRED Indicies'!E184)","v":0},"",{"$f":"IF($F$6,'FRED Indicies'!D184)","v":0},"","","",172,false,{"$f":"IF(AG171,'Google Index'!E198)","v":false},"",{"$f":"IF(AF171,'Google Index'!F198)","v":0},"","","",172,false,{"$f":"IF(AN171,'Commodity Prices'!C184)","v":0},"",{"$f":"IF(AO171,'Commodity Prices'!E184)","v":false},"","","",172,false,{"$f":"IF(AW171,'Yahoo Stocks'!D198)","v":false},"",{"$f":"IF(AW171,'Yahoo Stocks'!E198)","v":false},"","","",182,false,{"$f":"IF(BE171,'Google Finance Stocks'!D195)","v":false},"",{"$f":"IF(BE171,'Google Finance Stocks'!E195)","v":false},"","","",182,false,{"$f":"'Exchange Rates'!D181","v":0},"",{"$f":"IF(BM171,'Exchange Rates'!E181)","v":false},"","",""]
[null,null,null,null,null,null,null,null,null,null,null,170,"","","","",null,null,null,null,null,null,null,null,null,null,null,null,null,null,null,null,null,null,null,null,null,null,null,null,null,null,null,null,null,null,null,null,null,null,null,null,null,null,null,183,{"$f":"IF(AND($F$18,BD172<=$H$18),BD172)","v":false},{"$f":"IF(BE172,'Google Finance Stocks'!D196)","v":false},{"$f":"IFERROR(INDEX(BF:BF,MATCH(Q172,BE:BE,0)),\"\")","v":""},{"$f":"IF(BE172,'Google Finance Stocks'!E196)","v":false},{"$f":"IFERROR(INDEX(BH:BH,MATCH(Q172,BE:BE,0)),\"\")","v":""},{"$f":"IF(BI172<>\"\",$I$18,\"\")","v":""},{"$f":"IF(BI172<>\"\",$J$18,\"\")","v":""},183,{"$f":"IF(AND($F$21,BL172<=$H$21),BL172)","v":false},{"$f":"'Exchange Rates'!D182","v":0},{"$f":"IFERROR(INDEX(BN:BN,MATCH(L172,BM:BM,0)),\"\")","v":""},{"$f":"IF(BM172,'Exchange Rates'!E182)","v":false},{"$f":"IFERROR(INDEX(BP:BP,MATCH(L172,BM:BM,0)),\"\")","v":""},{"$f":"IF(BQ172<>\"\",$I$21,\"\")","v":""},{"$f":"IF(BQ172<>\"\",$J$21,\"\")","v":""}]
[null,null,null,null,null,null,null,null,null,null,null,171,"","","","",null,null,null,null,null,null,null,null,null,null,null,null,null,null,null,null,null,null,null,null,null,null,null,null,null,null,null,null,null,null,null,null,null,null,null,null,null,null,null,184,false,{"$f":"IF(BE173,'Google Finance Stocks'!D197)","v":false},"",{"$f":"IF(BE173,'Google Finance Stocks'!E197)","v":false},"","","",184,false,{"$f":"'Exchange Rates'!D183","v":0},"",{"$f":"IF(BM173,'Exchange Rates'!E183)","v":false},"","",""]
[null,null,null,null,null,null,null,null,null,null,null,172,"","","","",null,null,null,null,null,null,null,null,null,null,null,null,null,null,null,null,null,null,null,null,null,null,null,null,null,null,null,null,null,null,null,null,null,null,null,null,null,null,null,185,false,{"$f":"IF(BE174,'Google Finance Stocks'!D198)","v":false},"",{"$f":"IF(BE174,'Google Finance Stocks'!E198)","v":false},"","","",185,false,{"$f":"'Exchange Rates'!D184","v":0},"",{"$f":"IF(BM174,'Exchange Rates'!E184)","v":false},"","",""]
[null,null,null,null,null,null,null,null,null,null,null,173,"","","","",null,null,null,null,null,null,null,null,null,null,null,null,null,null,null,null,null,null,null,null,null,null,null,null,null,null,null,null,null,null,null,null,null,null,null,null,null,null,null,186,false,{"$f":"IF(BE175,'Google Finance Stocks'!D199)","v":false},"",{"$f":"IF(BE175,'Google Finance Stocks'!E199)","v":false},"","","",186,false,{"$f":"'Exchange Rates'!D185","v":0},"",{"$f":"IF(BM175,'Exchange Rates'!E185)","v":false},"","",""]
[null,null,null,null,null,null,null,null,null,null,null,174,"","","","",null,null,null,null,null,null,null,null,null,null,null,null,null,null,null,null,null,null,null,null,null,null,null,null,null,null,null,null,null,null,null,null,null,null,null,null,null,null,null,187,false,{"$f":"IF(BE176,'Google Finance Stocks'!D200)","v":false},"",{"$f":"IF(BE176,'Google Finance Stocks'!E200)","v":false},"","","",187,false,{"$f":"'Exchange Rates'!D186","v":0},"",{"$f":"IF(BM176,'Exchange Rates'!E186)","v":false},"","",""]
[null,null,null,null,null,null,null,null,null,null,null,null,null,null,null,null,null,null,null,null,null,null,null,null,null,null,null,null,null,null,null,null,null,null,null,null,null,null,null,null,null,null,null,null,null,null,null,null,null,null,null,null,null,null,null,188,false,{"$f":"IF(BE177,'Google Finance Stocks'!D201)","v":false},"",{"$f":"IF(BE177,'Google Finance Stocks'!E201)","v":false},"","","",188,false,{"$f":"'Exchange Rates'!D187","v":0},"",{"$f":"IF(BM177,'Exchange Rates'!E187)","v":false},"","",""]
[null,null,null,null,null,null,null,null,null,null,null,null,null,null,null,null,null,null,null,null,null,null,null,null,null,null,null,null,null,null,null,null,null,null,null,null,null,null,null,null,null,null,null,null,null,null,null,null,null,null,null,null,null,null,null,189,false,{"$f":"IF(BE178,'Google Finance Stocks'!D202)","v":false},"",{"$f":"IF(BE178,'Google Finance Stocks'!E202)","v":false},"","","",189,false,{"$f":"'Exchange Rates'!D188","v":0},"",{"$f":"IF(BM178,'Exchange Rates'!E188)","v":false},"","",""]
[null,null,null,null,null,null,null,null,null,null,null,null,null,null,null,null,null,null,null,null,null,null,null,null,null,null,null,null,null,null,null,null,null,null,null,null,null,null,null,null,null,null,null,null,null,null,null,null,null,null,null,null,null,null,null,190,false,{"$f":"IF(BE179,'Google Finance Stocks'!D203)","v":false},"",{"$f":"IF(BE179,'Google Finance Stocks'!E203)","v":false},"","","",190,false,{"$f":"'Exchange Rates'!D189","v":0},"",{"$f":"IF(BM179,'Exchange Rates'!E189)","v":false},"","",""]
[null,null,null,null,null,null,null,null,null,null,null,null,null,null,null,null,null,null,null,null,null,null,null,null,null,null,null,null,null,null,null,null,null,null,null,null,null,null,null,null,null,null,null,null,null,null,null,null,null,null,null,null,null,null,null,191,false,{"$f":"IF(BE180,'Google Finance Stocks'!D204)","v":false},"",{"$f":"IF(BE180,'Google Finance Stocks'!E204)","v":false},"","","",191,false,{"$f":"'Exchange Rates'!D190","v":0},"",{"$f":"IF(BM180,'Exchange Rates'!E190)","v":false},"","",""]
[null,null,null,null,null,null,null,null,null,null,null,null,null,null,null,null,null,null,null,null,null,null,null,null,null,null,null,null,null,null,null,null,null,null,null,null,null,null,null,null,null,null,null,null,null,null,null,null,null,null,null,null,null,null,null,192,false,{"$f":"IF(BE181,'Google Finance Stocks'!D205)","v":false},"",{"$f":"IF(BE181,'Google Finance Stocks'!E205)","v":false},"","","",192,false,{"$f":"'Exchange Rates'!D191","v":0},"",{"$f":"IF(BM181,'Exchange Rates'!E191)","v":false},"","",""]
[null,null,null,null,null,null,null,null,null,null,null,null,null,null,null,null,null,null,null,null,null,null,null,null,null,null,null,null,null,null,null,null,null,null,null,null,null,null,null,null,null,null,null,null,null,null,null,null,null,null,null,null,null,null,null,193,false,{"$f":"IF(BE182,'Google Finance Stocks'!D206)","v":false},"",{"$f":"IF(BE182,'Google Finance Stocks'!E206)","v":false},"","","",193,false,{"$f":"'Exchange Rates'!D192","v":0},"",{"$f":"IF(BM182,'Exchange Rates'!E192)","v":false},"","",""]
[null,null,null,null,null,null,null,null,null,null,null,null,null,null,null,null,null,null,null,null,null,null,null,null,null,null,null,null,null,null,null,null,null,null,null,null,null,null,null,null,null,null,null,null,null,null,null,null,null,null,null,null,null,null,null,194,false,{"$f":"IF(BE183,'Google Finance Stocks'!D207)","v":false},"",{"$f":"IF(BE183,'Google Finance Stocks'!E207)","v":false},"","","",194,false,{"$f":"'Exchange Rates'!D193","v":0},"",{"$f":"IF(BM183,'Exchange Rates'!E193)","v":false},"","",""]
[null,null,null,null,null,null,null,null,null,null,null,null,null,null,null,null,null,null,null,null,null,null,null,null,null,null,null,null,null,null,null,null,null,null,null,null,null,null,null,null,null,null,null,null,null,null,null,null,null,null,null,null,null,null,null,195,false,{"$f":"IF(BE184,'Google Finance Stocks'!D208)","v":false},"",{"$f":"IF(BE184,'Google Finance Stocks'!E208)","v":false},"","","",195,false,{"$f":"'Exchange Rates'!D194","v":0},"",{"$f":"IF(BM184,'Exchange Rates'!E194)","v":false},"","",""]
[null,null,null,null,null,null,null,null,null,null,null,null,null,null,null,null,null,null,null,null,null,null,null,null,null,null,null,null,null,null,null,null,null,null,null,null,null,null,null,null,null,null,null,null,null,null,null,null,null,null,null,null,null,null,null,196,false,{"$f":"IF(BE185,'Google Finance Stocks'!D209)","v":false},"",{"$f":"IF(BE185,'Google Finance Stocks'!E209)","v":false},"","","",196,false,{"$f":"'Exchange Rates'!D195","v":0},"",{"$f":"IF(BM185,'Exchange Rates'!E195)","v":false},"","",""]
[null,null,null,null,null,null,null,null,null,null,null,null,null,null,null,null,null,null,null,null,null,null,null,null,null,null,null,null,null,null,null,null,null,null,null,null,null,null,null,null,null,null,null,null,null,null,null,null,null,null,null,null,null,null,null,197,false,{"$f":"IF(BE186,'Google Finance Stocks'!D210)","v":false},"",{"$f":"IF(BE186,'Google Finance Stocks'!E210)","v":false},"","","",197,false,{"$f":"'Exchange Rates'!D196","v":0},"",{"$f":"IF(BM186,'Exchange Rates'!E196)","v":false},"","",""]
[null,null,null,null,null,null,null,null,null,null,null,null,null,null,null,null,null,null,null,null,null,null,null,null,null,null,null,null,null,null,null,null,null,null,null,null,null,null,null,null,null,null,null,null,null,null,null,null,null,null,null,null,null,null,null,198,false,{"$f":"IF(BE187,'Google Finance Stocks'!D211)","v":false},"",{"$f":"IF(BE187,'Google Finance Stocks'!E211)","v":false},"","","",198,false,{"$f":"'Exchange Rates'!D197","v":0},"",{"$f":"IF(BM187,'Exchange Rates'!E197)","v":false},"","",""]
[null,null,null,null,null,null,null,null,null,null,null,null,null,null,null,null,null,null,null,null,null,null,null,null,null,null,null,null,null,null,null,null,null,null,null,null,null,null,null,null,null,null,null,null,null,null,null,null,null,null,null,null,null,null,null,199,false,{"$f":"IF(BE188,'Google Finance Stocks'!D212)","v":false},"",{"$f":"IF(BE188,'Google Finance Stocks'!E212)","v":false},"","","",199,false,{"$f":"'Exchange Rates'!D198","v":0},"",{"$f":"IF(BM188,'Exchange Rates'!E198)","v":false},"","",""]
[null,null,null,null,null,null,null,null,null,null,null,null,null,null,null,null,null,null,null,null,null,null,null,null,null,null,null,null,null,null,null,null,null,null,null,null,null,null,null,null,null,null,null,null,null,null,null,null,null,null,null,null,null,null,null,200,false,{"$f":"IF(BE189,'Google Finance Stocks'!D213)","v":false},"",{"$f":"IF(BE189,'Google Finance Stocks'!E213)","v":false},"","","",200,false,{"$f":"'Exchange Rates'!D199","v":0},"",{"$f":"IF(BM189,'Exchange Rates'!E199)","v":false},"","",""]
[null,null,null,null,null,null,null,null,null,null,null,null,null,null,null,null,null,null,null,null,null,null,null,null,null,null,null,null,null,null,null,null,null,null,null,null,null,null,null,null,null,null,null,null,null,null,null,null,null,null,null,null,null,null,null,201,false,{"$f":"IF(BE190,'Google Finance Stocks'!D214)","v":false},"",{"$f":"IF(BE190,'Google Finance Stocks'!E214)","v":false},"","","",201,false,{"$f":"'Exchange Rates'!D200","v":0},"",{"$f":"IF(BM190,'Exchange Rates'!E200)","v":false},"","",""]
[null,null,null,null,null,null,null,null,null,null,null,null,null,null,null,null,null,null,null,null,null,null,null,null,null,null,null,null,null,null,null,null,null,null,null,null,null,null,null,null,null,null,null,null,null,null,null,null,null,null,null,null,null,null,null,202,false,{"$f":"IF(BE191,'Google Finance Stocks'!D215)","v":false},"",{"$f":"IF(BE191,'Google Finance Stocks'!E215)","v":false},"","","",202,false,{"$f":"'Exchange Rates'!D201","v":0},"",{"$f":"IF(BM191,'Exchange Rates'!E201)","v":false},"","",""]
[null,null,null,null,null,null,null,null,null,null,null,null,null,null,null,null,null,null,null,null,null,null,null,null,null,null,null,null,null,null,null,null,null,null,null,null,null,null,null,null,null,null,null,null,null,null,null,null,null,null,null,null,null,null,null,203,false,{"$f":"IF(BE192,'Google Finance Stocks'!D216)","v":false},"",{"$f":"IF(BE192,'Google Finance Stocks'!E216)","v":false},"","","",203,false,{"$f":"'Exchange Rates'!D202","v":0},"",{"$f":"IF(BM192,'Exchange Rates'!E202)","v":false},"","",""]
[null,null,null,null,null,null,null,null,null,null,null,null,null,null,null,null,null,null,null,null,null,null,null,null,null,null,null,null,null,null,null,null,null,null,null,null,null,null,null,null,null,null,null,null,null,null,null,null,null,null,null,null,null,null,null,204,false,{"$f":"IF(BE193,'Google Finance Stocks'!D217)","v":false},"",{"$f":"IF(BE193,'Google Finance Stocks'!E217)","v":false},"","","",204,false,{"$f":"'Exchange Rates'!D203","v":0},"",{"$f":"IF(BM193,'Exchange Rates'!E203)","v":false},"","",""]
[null,null,null,null,null,null,null,null,null,null,null,null,null,null,null,null,null,null,null,null,null,null,null,null,null,null,null,null,null,null,null,null,null,null,null,null,null,null,null,null,null,null,null,null,null,null,null,null,null,null,null,null,null,null,null,205,false,{"$f":"IF(BE194,'Google Finance Stocks'!D218)","v":false},"",{"$f":"IF(BE194,'Google Finance Stocks'!E218)","v":false},"","","",205,false,{"$f":"'Exchange Rates'!D204","v":0},"",{"$f":"IF(BM194,'Exchange Rates'!E204)","v":false},"","",""]
[null,null,null,null,null,null,null,null,null,null,null,null,null,null,null,null,null,null,null,null,null,null,null,null,null,null,null,null,null,null,null,null,null,null,null,null,null,null,null,null,null,null,null,null,null,null,null,null,null,null,null,null,null,null,null,206,false,{"$f":"IF(BE195,'Google Finance Stocks'!D219)","v":false},"",{"$f":"IF(BE195,'Google Finance Stocks'!E219)","v":false},"","","",206,false,{"$f":"'Exchange Rates'!D205","v":0},"",{"$f":"IF(BM195,'Exchange Rates'!E205)","v":false},"","",""]
[null,null,null,null,null,null,null,null,null,null,null,null,null,null,null,null,null,null,null,null,null,null,null,null,null,null,null,null,null,null,null,null,null,null,null,null,null,null,null,null,null,null,null,null,null,null,null,null,null,null,null,null,null,null,null,207,false,{"$f":"IF(BE196,'Google Finance Stocks'!D220)","v":false},"",{"$f":"IF(BE196,'Google Finance Stocks'!E220)","v":false},"","","",207,false,{"$f":"'Exchange Rates'!D206","v":0},"",{"$f":"IF(BM196,'Exchange Rates'!E206)","v":false},"","",""]
[null,null,null,null,null,null,null,null,null,null,null,null,null,null,null,null,null,null,null,null,null,null,null,null,null,null,null,null,null,null,null,null,null,null,null,null,null,null,null,null,null,null,null,null,null,null,null,null,null,null,null,null,null,null,null,{"$f":"BD196+1","v":208},false,{"$f":"IF(BE197,'Google Finance Stocks'!D221)","v":false},"",{"$f":"IF(BE197,'Google Finance Stocks'!E221)","v":false},"","","",{"$f":"BL196+1","v":208},false,{"$f":"'Exchange Rates'!D207","v":0},"",{"$f":"IF(BM197,'Exchange Rates'!E207)","v":false},"","",""]
[null,null,null,null,null,null,null,null,null,null,null,null,null,null,null,null,null,null,null,null,null,null,null,null,null,null,null,null,null,null,null,null,null,null,null,null,null,null,null,null,null,null,null,null,null,null,null,null,null,null,null,null,null,null,null,209,false,{"$f":"IF(BE198,'Google Finance Stocks'!D222)","v":false},"",{"$f":"IF(BE198,'Google Finance Stocks'!E222)","v":false},"","","",209,false,{"$f":"'Exchange Rates'!D208","v":0},"",{"$f":"IF(BM198,'Exchange Rates'!E208)","v":false},"","",""]
[null,null,null,null,null,null,null,null,null,null,null,null,null,null,null,null,null,null,null,null,null,null,null,null,null,null,null,null,null,null,null,null,null,null,null,null,null,null,null,null,null,null,null,null,null,null,null,null,null,null,null,null,null,null,null,210,false,{"$f":"IF(BE199,'Google Finance Stocks'!D223)","v":false},"",{"$f":"IF(BE199,'Google Finance Stocks'!E223)","v":false},"","","",210,false,{"$f":"'Exchange Rates'!D209","v":0},"",{"$f":"IF(BM199,'Exchange Rates'!E209)","v":false},"","",""]
[null,null,null,null,null,null,null,null,null,null,null,null,null,null,null,null,null,null,null,null,null,null,null,null,null,null,null,null,null,null,null,null,null,null,null,null,null,null,null,null,null,null,null,null,null,null,null,null,null,null,null,null,null,null,null,211,false,{"$f":"IF(BE200,'Google Finance Stocks'!D224)","v":false},"",{"$f":"IF(BE200,'Google Finance Stocks'!E224)","v":false},"","","",211,false,{"$f":"'Exchange Rates'!D210","v":0},"",{"$f":"IF(BM200,'Exchange Rates'!E210)","v":false},"","",""]
[null,null,null,null,null,null,null,null,null,null,null,null,null,null,null,null,null,null,null,null,null,null,null,null,null,null,null,null,null,null,null,null,null,null,null,null,null,null,null,null,null,null,null,null,null,null,null,null,null,null,null,null,null,null,null,212,false,{"$f":"IF(BE201,'Google Finance Stocks'!D225)","v":false},"",{"$f":"IF(BE201,'Google Finance Stocks'!E225)","v":false},"","","",212,false,{"$f":"'Exchange Rates'!D211","v":0},"",{"$f":"IF(BM201,'Exchange Rates'!E211)","v":false},"","",""]
[null,null,null,null,null,null,null,null,null,null,null,null,null,null,null,null,null,null,null,null,null,null,null,null,null,null,null,null,null,null,null,null,null,null,null,null,null,null,null,null,null,null,null,null,null,null,null,null,null,null,null,null,null,null,null,213,false,{"$f":"IF(BE202,'Google Finance Stocks'!D226)","v":false},"",{"$f":"IF(BE202,'Google Finance Stocks'!E226)","v":false},"","","",213,false,{"$f":"'Exchange Rates'!D212","v":0},"",{"$f":"IF(BM202,'Exchange Rates'!E212)","v":false},"","",""]
[null,null,null,null,null,null,null,null,null,null,null,null,null,null,null,null,null,null,null,null,null,null,null,null,null,null,null,null,null,null,null,null,null,null,null,null,null,null,null,null,null,null,null,null,null,null,null,null,null,null,null,null,null,null,null,214,false,{"$f":"IF(BE203,'Google Finance Stocks'!D227)","v":false},"",{"$f":"IF(BE203,'Google Finance Stocks'!E227)","v":false},"","","",214,false,{"$f":"'Exchange Rates'!D213","v":0},"",{"$f":"IF(BM203,'Exchange Rates'!E213)","v":false},"","",""]
[null,null,null,null,null,null,null,null,null,null,null,null,null,null,null,null,null,null,null,null,null,null,null,null,null,null,null,null,null,null,null,null,null,null,null,null,null,null,null,null,null,null,null,null,null,null,null,null,null,null,null,null,null,null,null,215,false,{"$f":"IF(BE204,'Google Finance Stocks'!D228)","v":false},"",{"$f":"IF(BE204,'Google Finance Stocks'!E228)","v":false},"","","",215,false,{"$f":"'Exchange Rates'!D214","v":0},"",{"$f":"IF(BM204,'Exchange Rates'!E214)","v":false},"","",""]
[null,null,null,null,null,null,null,null,null,null,null,null,null,null,null,null,null,null,null,null,null,null,null,null,null,null,null,null,null,null,null,null,null,null,null,null,null,null,null,null,null,null,null,null,null,null,null,null,null,null,null,null,null,null,null,216,false,{"$f":"IF(BE205,'Google Finance Stocks'!D229)","v":false},"",{"$f":"IF(BE205,'Google Finance Stocks'!E229)","v":false},"","","",216,false,{"$f":"'Exchange Rates'!D215","v":0},"",{"$f":"IF(BM205,'Exchange Rates'!E215)","v":false},"","",""]
[null,null,null,null,null,null,null,null,null,null,null,null,null,null,null,null,null,null,null,null,null,null,null,null,null,null,null,null,null,null,null,null,null,null,null,null,null,null,null,null,null,null,null,null,null,null,null,null,null,null,null,null,null,null,null,217,false,{"$f":"IF(BE206,'Google Finance Stocks'!D230)","v":false},"",{"$f":"IF(BE206,'Google Finance Stocks'!E230)","v":false},"","","",217,false,{"$f":"'Exchange Rates'!D216","v":0},"",{"$f":"IF(BM206,'Exchange Rates'!E216)","v":false},"","",""]

{"sheet":"Multiple Stock Graph","index":2,"n_rows":300,"n_cols":29,"rows_kept":300,"cut":false,"hidden":false,"merged":[]}
[null,null,"Index",null,null,null,null,null,null,null,"IRR","Vol","Beta",null,null,null,null,null,null,null,null,null,null,null,null,null,"Start","Final","Years"]
[null,null,null,null,null,null,null,null,null,{"$f":"O26","v":"US S&P 500"},{"$f":"Summary!K4","v":7.140654649722844E-2},{"$f":"Summary!AT5","v":0.30045725742608836},{"$f":"Summary!AT3","v":1},null,null,null,null,null,null,null,null,null,null,null,{"$f":"J2","v":"US S&P 500"},null,{"$f":"Summary!D3","v":"1950-01-01"},{"$f":"Summary!K3","v":2.565151668839337},{"$f":"Summary!E4","v":14.657909140667762}]
[null,"Comparison vs Base",null,null,null,null,"Counter","Match","Selection"]
[1,{"$f":"'Read Stocks'!M3","v":"S&P 500"},{"$f":"'Read Stocks'!N3","v":"US S&P 500"},false,null,{"$f":"D4*1","v":0},1,{"$f":"MATCH(G4,F$1:F$555,0)","v":6},{"$f":"INDEX(B:B,H4)","v":"Mexico"},{"$f":"INDEX(C:C,H4)","v":"Mexican Index"},{"$f":"IFERROR(TRANSPOSE(Summary!BA4:BF4),\"\")","v":0.12916736323528899},{"$f":"IFERROR(TRANSPOSE(Summary!AU5:AZ5),\"\")","v":0.16070700953659817},{"$f":"IFERROR(TRANSPOSE(Summary!AU3:AZ3),\"\")","v":0.78979206650881739},null,null,null,null,null,null,null,null,null,null,null,{"$f":"J4","v":"Mexican Index"},null,{"$f":"TRANSPOSE(Summary!AB2:AG2)","v":"1991-11-01"},{"$f":"TRANSPOSE(Summary!BA3:BF3)","v":5.2549465256411922}]
[2,{"$f":"'Read Stocks'!M4","v":"DAX"},{"$f":"'Read Stocks'!N4","v":"DAX in Euro"},false,null,{"$f":"F4+D5","v":0},2,{"$f":"MATCH(G5,F$1:F$555,0)","v":{"$error":"#N/A"}},{"$f":"INDEX(B:B,H5)","v":{"$error":"#N/A"}},{"$f":"INDEX(C:C,H5)","v":{"$error":"#N/A"}},"","","",null,null,null,null,null,null,null,null,null,null,null,{"$f":"J5","v":{"$error":"#N/A"}},null,{"$error":"#N/A"},1]
[3,{"$f":"'Read Stocks'!M5","v":"Mexico"},{"$f":"'Read Stocks'!N5","v":"Mexican Index"},true,null,1,3,{"$error":"#N/A"},{"$error":"#N/A"},{"$error":"#N/A"},"","","",null,null,null,null,null,null,null,null,null,null,null,{"$error":"#N/A"},null,{"$error":"#N/A"},1]
[4,{"$f":"'Read Stocks'!M6","v":"FSLR"},{"$f":"'Read Stocks'!N6","v":"First Solar"},false,null,1,4,{"$error":"#N/A"},{"$error":"#N/A"},{"$error":"#N/A"},"","","",null,null,null,null,null,null,null,null,null,null,null,{"$error":"#N/A"},null,{"$error":"#N/A"},1]
[5,{"$f":"'Read Stocks'!M7","v":"JKS"},{"$f":"'Read Stocks'!N7","v":"Jinko Solar"},false,null,1,5,{"$error":"#N/A"},{"$error":"#N/A"},{"$error":"#N/A"},"","","",null,null,null,null,null,null,null,null,null,null,null,{"$error":"#N/A"},null,{"$error":"#N/A"},1]
[6,{"$f":"'Read Stocks'!M8","v":"TSL"},{"$f":"'Read Stocks'!N8","v":"Trina Solar"},false,null,1,6,{"$error":"#N/A"},{"$error":"#N/A"},{"$error":"#N/A"},"","","",null,null,null,null,null,null,null,null,null,null,null,null,null,{"$error":"#N/A"},1]
[7,{"$f":"'Read Stocks'!M9","v":"CSIQ"},{"$f":"'Read Stocks'!N9","v":"Canadian Solar"},false,null,1,7,{"$error":"#N/A"},{"$error":"#N/A"},{"$error":"#N/A"},null,null,null,null,null,null,null,null,null,null,null,null,null,null,null,null,{"$error":"#N/A"},{"$error":"#N/A"}]
[8,{"$f":"'Read Stocks'!M10","v":"JASO"},{"$f":"'Read Stocks'!N10","v":"JA Solar"},false,null,1,8,{"$error":"#N/A"},{"$error":"#N/A"},{"$error":"#N/A"}]
[9,{"$f":"'Read Stocks'!M11","v":"HQCL"},{"$f":"'Read Stocks'!N11","v":"Hanwha Q Cells"},false,null,1,9,{"$error":"#N/A"},{"$error":"#N/A"},{"$error":"#N/A"}]
[10,{"$f":"'Read Stocks'!M12","v":"YGE"},{"$f":"'Read Stocks'!N12","v":"Yingi Green"},false,null,1,10,{"$error":"#N/A"},{"$error":"#N/A"},{"$error":"#N/A"}]
[11,{"$f":"'Read Stocks'!M13","v":"1165.HK"},{"$f":"'Read Stocks'!N13","v":"Sunfeng"},false,null,1,11,{"$error":"#N/A"},{"$error":"#N/A"},{"$error":"#N/A"}]
[12,{"$f":"'Read Stocks'!M14","v":"300118.SZ"},{"$f":"'Read Stocks'!N14","v":"Risen Energy"},false,null,1,12,{"$error":"#N/A"},{"$error":"#N/A"},{"$f":"J2","v":"US S&P 500"},0,{"$f":"IFERROR(INDEX('Read Stocks'!$BN$3:$BN$11,'Multiple Stock Graph'!K15),\"USD\")","v":"USD"}]
[13,{"$f":"'Read Stocks'!M15","v":"601012.SS"},{"$f":"'Read Stocks'!N15","v":"Longi Solar"},false,null,1,13,{"$error":"#N/A"},{"$error":"#N/A"},{"$f":"J4","v":"Mexican Index"},0,{"$f":"IFERROR(INDEX('Read Stocks'!$BN$3:$BN$11,'Multiple Stock Graph'!K16),\"USD\")","v":"USD"}]
[14,{"$f":"'Read Stocks'!M16","v":"GDP Inf"},{"$f":"'Read Stocks'!N16","v":"Implicit Price Deflator"},false,null,1,14,{"$error":"#N/A"},{"$error":"#N/A"},{"$f":"J5","v":{"$error":"#N/A"}},0,{"$f":"IFERROR(INDEX('Read Stocks'!$BN$3:$BN$11,'Multiple Stock Graph'!K17),\"USD\")","v":"USD"}]
[15,{"$f":"'Read Stocks'!M17","v":"CPI US"},{"$f":"'Read Stocks'!N17","v":"Consumer Price Inflation"},false,null,1,15,{"$error":"#N/A"},{"$error":"#N/A"},{"$error":"#N/A"},0,{"$f":"IFERROR(INDEX('Read Stocks'!$BN$3:$BN$11,'Multiple Stock Graph'!K18),\"USD\")","v":"USD"}]
[16,{"$f":"'Read Stocks'!M18","v":"Mex"},{"$f":"'Read Stocks'!N18","v":"Mexico / U.S. Foreign Exchange Rate (EXMXUS)"},false,null,1,16,{"$error":"#N/A"},{"$error":"#N/A"},{"$error":"#N/A"},0,{"$f":"IFERROR(INDEX('Read Stocks'!$BN$3:$BN$11,'Multiple Stock Graph'!K19),\"USD\")","v":"USD"}]
[17,{"$f":"'Read Stocks'!M19","v":"INR"},{"$f":"'Read Stocks'!N19","v":"India / U.S. Foreign Exchange Rate (DEXINUS)"},false,null,1,17,{"$error":"#N/A"},{"$error":"#N/A"},{"$error":"#N/A"},0,{"$f":"IFERROR(INDEX('Read Stocks'!$BN$3:$BN$11,'Multiple Stock Graph'!K20),\"USD\")","v":"USD"}]
[18,{"$f":"'Read Stocks'!M20","v":"UK"},{"$f":"'Read Stocks'!N20","v":"U.S. / U.K. Foreign Exchange Rate (EXUSUK)"},false,null,1,18,{"$error":"#N/A"},{"$error":"#N/A"},{"$error":"#N/A"},0,{"$f":"IFERROR(INDEX('Read Stocks'!$BN$3:$BN$11,'Multiple Stock Graph'!K21),\"USD\")","v":"USD"}]
[19,{"$f":"'Read Stocks'!M21","v":"CFH"},{"$f":"'Read Stocks'!N21","v":"Switzerland / U.S. Foreign Exchange Rate (DEXSZUS)"},false,null,1,19,{"$error":"#N/A"},{"$error":"#N/A"},{"$error":"#N/A"}]
[20,{"$f":"'Read Stocks'!M22","v":"US NOM GNP"},{"$f":"'Read Stocks'!N22","v":"Gross National Product (GNP)"},false,null,1,20,{"$error":"#N/A"},{"$error":"#N/A"},{"$error":"#N/A"}]
[21,{"$f":"'Read Stocks'!M23","v":"US GDP"},{"$f":"'Read Stocks'!N23","v":"Gross Domestic Product (GDP)"},false,null,1,21,{"$error":"#N/A"},{"$error":"#N/A"},{"$error":"#N/A"}]
[22,{"$f":"'Read Stocks'!M24","v":""},{"$f":"'Read Stocks'!N24","v":""},false,null,1,22,{"$error":"#N/A"},{"$error":"#N/A"},{"$error":"#N/A"}]
[23,{"$f":"'Read Stocks'!M25","v":""},{"$f":"'Read Stocks'!N25","v":""},false,null,1,23,{"$error":"#N/A"},{"$error":"#N/A"},{"$error":"#N/A"},null,"Primary Stock",null,{"$f":"Forms!J4","v":1},{"$f":"INDEX(C4:C195,Forms!J4)","v":"US S&P 500"}]
[24,{"$f":"'Read Stocks'!M26","v":""},{"$f":"'Read Stocks'!N26","v":""},false,null,1,24,{"$error":"#N/A"},{"$error":"#N/A"},{"$error":"#N/A"},null,"Use the Drop Down Box for Selecting the Stock"]
[25,{"$f":"'Read Stocks'!M27","v":""},{"$f":"'Read Stocks'!N27","v":""},false,null,1,25,{"$error":"#N/A"},{"$error":"#N/A"},{"$error":"#N/A"},null,"Use the check boxes for comparison"]
[26,{"$f":"'Read Stocks'!M28","v":""},{"$f":"'Read Stocks'!N28","v":""},false,null,1,26,{"$error":"#N/A"},{"$error":"#N/A"},{"$error":"#N/A"},null,"Use the first check box for index in computing beta and other statistics"]
[27,{"$f":"'Read Stocks'!M29","v":""},{"$f":"'Read Stocks'!N29","v":""},false,null,1,27,{"$error":"#N/A"},{"$error":"#N/A"},{"$error":"#N/A"}]
[28,{"$f":"'Read Stocks'!M30","v":""},{"$f":"'Read Stocks'!N30","v":""},false,null,1,28,{"$error":"#N/A"},{"$error":"#N/A"},{"$error":"#N/A"}]
[29,{"$f":"'Read Stocks'!M31","v":""},{"$f":"'Read Stocks'!N31","v":""},false,null,1,29,{"$error":"#N/A"},{"$error":"#N/A"},{"$error":"#N/A"}]
[30,{"$f":"'Read Stocks'!M32","v":""},{"$f":"'Read Stocks'!N32","v":""},false,null,1,30,{"$error":"#N/A"},{"$error":"#N/A"},{"$error":"#N/A"}]
[31,{"$f":"'Read Stocks'!M33","v":""},{"$f":"'Read Stocks'!N33","v":""},false,null,1,31,{"$error":"#N/A"},{"$error":"#N/A"},{"$error":"#N/A"}]
[32,{"$f":"'Read Stocks'!M34","v":""},{"$f":"'Read Stocks'!N34","v":""},false,null,1,32,{"$error":"#N/A"},{"$error":"#N/A"},{"$error":"#N/A"}]
[33,{"$f":"'Read Stocks'!M35","v":""},{"$f":"'Read Stocks'!N35","v":""},false,null,1,33,{"$error":"#N/A"},{"$error":"#N/A"},{"$error":"#N/A"}]
[34,{"$f":"'Read Stocks'!M36","v":""},{"$f":"'Read Stocks'!N36","v":""},false,null,1,34,{"$error":"#N/A"},{"$error":"#N/A"},{"$error":"#N/A"}]
[35,{"$f":"'Read Stocks'!M37","v":""},{"$f":"'Read Stocks'!N37","v":""},false,null,1,35,{"$error":"#N/A"},{"$error":"#N/A"},{"$error":"#N/A"}]
[36,{"$f":"'Read Stocks'!M38","v":""},{"$f":"'Read Stocks'!N38","v":""},false,null,1,36,{"$error":"#N/A"},{"$error":"#N/A"},{"$error":"#N/A"}]
[37,{"$f":"'Read Stocks'!M39","v":""},{"$f":"'Read Stocks'!N39","v":""},false,null,1,37,{"$error":"#N/A"},{"$error":"#N/A"},{"$error":"#N/A"}]
[38,{"$f":"'Read Stocks'!M40","v":""},{"$f":"'Read Stocks'!N40","v":""},false,null,1,38,{"$error":"#N/A"},{"$error":"#N/A"},{"$error":"#N/A"}]
[39,{"$f":"'Read Stocks'!M41","v":""},{"$f":"'Read Stocks'!N41","v":""},false,null,1,39,{"$error":"#N/A"},{"$error":"#N/A"},{"$error":"#N/A"}]
[40,{"$f":"'Read Stocks'!M42","v":""},{"$f":"'Read Stocks'!N42","v":""},false,null,1,40,{"$error":"#N/A"},{"$error":"#N/A"},{"$error":"#N/A"}]
[41,{"$f":"'Read Stocks'!M43","v":""},{"$f":"'Read Stocks'!N43","v":""},false,null,{"$f":"F43+D44","v":1},41,{"$error":"#N/A"},{"$f":"INDEX(B:B,H44)","v":{"$error":"#N/A"}},{"$error":"#N/A"}]
[42,{"$f":"'Read Stocks'!M44","v":""},{"$f":"'Read Stocks'!N44","v":""},false,null,{"$f":"F44+D45","v":1},42,{"$error":"#N/A"},{"$error":"#N/A"},{"$error":"#N/A"}]
[43,{"$f":"'Read Stocks'!M45","v":""},{"$f":"'Read Stocks'!N45","v":""},false,null,1,43,{"$error":"#N/A"},{"$error":"#N/A"},{"$error":"#N/A"}]
[44,{"$f":"'Read Stocks'!M46","v":""},{"$f":"'Read Stocks'!N46","v":""},false,null,1,44,{"$error":"#N/A"},{"$error":"#N/A"},{"$error":"#N/A"}]
[45,{"$f":"'Read Stocks'!M47","v":""},{"$f":"'Read Stocks'!N47","v":""},false,null,1,45,{"$error":"#N/A"},{"$error":"#N/A"},{"$error":"#N/A"}]
[46,{"$f":"'Read Stocks'!M48","v":""},{"$f":"'Read Stocks'!N48","v":""},false,null,{"$f":"F48+D49","v":1},45,{"$error":"#N/A"},{"$f":"INDEX(B:B,H49)","v":{"$error":"#N/A"}},{"$error":"#N/A"}]
[47,{"$f":"'Read Stocks'!M49","v":""},{"$f":"'Read Stocks'!N49","v":""},false,null,1,45,{"$error":"#N/A"},{"$error":"#N/A"},{"$error":"#N/A"}]
[48,{"$f":"'Read Stocks'!M50","v":""},{"$f":"'Read Stocks'!N50","v":""},false,null,1,45,{"$error":"#N/A"},{"$error":"#N/A"},{"$error":"#N/A"}]
[49,{"$f":"'Read Stocks'!M51","v":""},{"$f":"'Read Stocks'!N51","v":""},false,null,1,45,{"$error":"#N/A"},{"$error":"#N/A"},{"$error":"#N/A"}]
[50,{"$f":"'Read Stocks'!M52","v":""},{"$f":"'Read Stocks'!N52","v":""},false,null,1,45,{"$error":"#N/A"},{"$error":"#N/A"},{"$error":"#N/A"}]
[51,{"$f":"'Read Stocks'!M53","v":""},{"$f":"'Read Stocks'!N53","v":""},false,null,1,45,{"$error":"#N/A"},{"$error":"#N/A"},{"$error":"#N/A"}]
[52,{"$f":"'Read Stocks'!M54","v":""},{"$f":"'Read Stocks'!N54","v":""},false,null,1,45,{"$error":"#N/A"},{"$error":"#N/A"},{"$error":"#N/A"}]
[53,{"$f":"'Read Stocks'!M55","v":""},{"$f":"'Read Stocks'!N55","v":""},false,null,1,45,{"$error":"#N/A"},{"$error":"#N/A"},{"$error":"#N/A"}]
[54,{"$f":"'Read Stocks'!M56","v":""},{"$f":"'Read Stocks'!N56","v":""},false,null,1,45,{"$error":"#N/A"},{"$error":"#N/A"},{"$error":"#N/A"}]
[55,{"$f":"'Read Stocks'!M57","v":""},{"$f":"'Read Stocks'!N57","v":""},false,null,1,45,{"$error":"#N/A"},{"$error":"#N/A"},{"$error":"#N/A"}]
[56,{"$f":"'Read Stocks'!M58","v":""},{"$f":"'Read Stocks'!N58","v":""},false,null,1,45,{"$error":"#N/A"},{"$error":"#N/A"},{"$error":"#N/A"}]
[57,{"$f":"'Read Stocks'!M59","v":""},{"$f":"'Read Stocks'!N59","v":""},false,null,1,45,{"$error":"#N/A"},{"$error":"#N/A"},{"$error":"#N/A"}]
[58,{"$f":"'Read Stocks'!M60","v":""},{"$f":"'Read Stocks'!N60","v":""},false,null,1,45,{"$error":"#N/A"},{"$error":"#N/A"},{"$error":"#N/A"}]
[59,{"$f":"'Read Stocks'!M61","v":""},{"$f":"'Read Stocks'!N61","v":""},false,null,1,45,{"$error":"#N/A"},{"$error":"#N/A"},{"$error":"#N/A"}]
[60,{"$f":"'Read Stocks'!M62","v":""},{"$f":"'Read Stocks'!N62","v":""},false,null,1,45,{"$error":"#N/A"},{"$error":"#N/A"},{"$error":"#N/A"}]
[61,{"$f":"'Read Stocks'!M63","v":""},{"$f":"'Read Stocks'!N63","v":""},false,null,1,45,{"$error":"#N/A"},{"$error":"#N/A"},{"$error":"#N/A"}]
[62,{"$f":"'Read Stocks'!M64","v":""},{"$f":"'Read Stocks'!N64","v":""},false,null,1,45,{"$error":"#N/A"},{"$error":"#N/A"},{"$error":"#N/A"}]
[63,{"$f":"'Read Stocks'!M65","v":""},{"$f":"'Read Stocks'!N65","v":""},false,null,1,45,{"$error":"#N/A"},{"$error":"#N/A"},{"$error":"#N/A"}]
[64,{"$f":"'Read Stocks'!M66","v":""},{"$f":"'Read Stocks'!N66","v":""},false,null,1,45,{"$error":"#N/A"},{"$error":"#N/A"},{"$error":"#N/A"}]
[65,{"$f":"'Read Stocks'!M67","v":""},{"$f":"'Read Stocks'!N67","v":""},false,null,1,45,{"$error":"#N/A"},{"$error":"#N/A"},{"$error":"#N/A"}]
[66,{"$f":"'Read Stocks'!M68","v":""},{"$f":"'Read Stocks'!N68","v":""},false,null,1,45,{"$f":"MATCH(G69,F$1:F$555,0)","v":{"$error":"#N/A"}},{"$error":"#N/A"},{"$f":"INDEX(C:C,H69)","v":{"$error":"#N/A"}}]
[67,{"$f":"'Read Stocks'!M69","v":""},{"$f":"'Read Stocks'!N69","v":""},false,null,1,45,{"$error":"#N/A"},{"$error":"#N/A"},{"$error":"#N/A"}]
[68,{"$f":"'Read Stocks'!M70","v":""},{"$f":"'Read Stocks'!N70","v":""},false,null,1,45,{"$error":"#N/A"},{"$error":"#N/A"},{"$error":"#N/A"}]
[69,{"$f":"'Read Stocks'!M71","v":""},{"$f":"'Read Stocks'!N71","v":""},false,null,1,45,{"$error":"#N/A"},{"$error":"#N/A"},{"$error":"#N/A"}]
[70,{"$f":"'Read Stocks'!M72","v":""},{"$f":"'Read Stocks'!N72","v":""},false,null,1,45,{"$error":"#N/A"},{"$error":"#N/A"},{"$error":"#N/A"}]
[71,{"$f":"'Read Stocks'!M73","v":""},{"$f":"'Read Stocks'!N73","v":""},false,null,1,45,{"$error":"#N/A"},{"$error":"#N/A"},{"$error":"#N/A"}]
[72,{"$f":"'Read Stocks'!M74","v":""},{"$f":"'Read Stocks'!N74","v":""},false,null,1,45,{"$error":"#N/A"},{"$error":"#N/A"},{"$error":"#N/A"}]
[73,{"$f":"'Read Stocks'!M75","v":""},{"$f":"'Read Stocks'!N75","v":""},false,null,1,45,{"$error":"#N/A"},{"$error":"#N/A"},{"$error":"#N/A"}]
[74,{"$f":"'Read Stocks'!M76","v":""},{"$f":"'Read Stocks'!N76","v":""},false,null,1,45,{"$error":"#N/A"},{"$error":"#N/A"},{"$error":"#N/A"}]
[75,{"$f":"'Read Stocks'!M77","v":""},{"$f":"'Read Stocks'!N77","v":""},false,null,1,45,{"$error":"#N/A"},{"$error":"#N/A"},{"$error":"#N/A"}]
[76,{"$f":"'Read Stocks'!M78","v":""},{"$f":"'Read Stocks'!N78","v":""},false,null,1,45,{"$error":"#N/A"},{"$error":"#N/A"},{"$error":"#N/A"}]
[77,{"$f":"'Read Stocks'!M79","v":""},{"$f":"'Read Stocks'!N79","v":""},false,null,1,45,{"$error":"#N/A"},{"$error":"#N/A"},{"$error":"#N/A"}]
[78,{"$f":"'Read Stocks'!M80","v":""},{"$f":"'Read Stocks'!N80","v":""},false,null,1,45,{"$error":"#N/A"},{"$error":"#N/A"},{"$error":"#N/A"}]
[79,{"$f":"'Read Stocks'!M81","v":""},{"$f":"'Read Stocks'!N81","v":""},false,null,1,45,{"$error":"#N/A"},{"$error":"#N/A"},{"$error":"#N/A"}]
[80,{"$f":"'Read Stocks'!M82","v":""},{"$f":"'Read Stocks'!N82","v":""},false,null,1,45,{"$error":"#N/A"},{"$error":"#N/A"},{"$error":"#N/A"}]
[81,{"$f":"'Read Stocks'!M83","v":""},{"$f":"'Read Stocks'!N83","v":""},false,null,1,45,{"$error":"#N/A"},{"$error":"#N/A"},{"$error":"#N/A"}]
[82,{"$f":"'Read Stocks'!M84","v":""},{"$f":"'Read Stocks'!N84","v":""},false,null,1,45,{"$error":"#N/A"},{"$error":"#N/A"},{"$error":"#N/A"}]
[83,{"$f":"'Read Stocks'!M85","v":""},{"$f":"'Read Stocks'!N85","v":""},false,null,1,45,{"$error":"#N/A"},{"$error":"#N/A"},{"$error":"#N/A"}]
[84,{"$f":"'Read Stocks'!M86","v":""},{"$f":"'Read Stocks'!N86","v":""},false,null,1,45,{"$error":"#N/A"},{"$error":"#N/A"},{"$error":"#N/A"}]
[85,{"$f":"'Read Stocks'!M87","v":""},{"$f":"'Read Stocks'!N87","v":""},false,null,1,45,{"$error":"#N/A"},{"$error":"#N/A"},{"$error":"#N/A"}]
[86,{"$f":"'Read Stocks'!M88","v":""},{"$f":"'Read Stocks'!N88","v":""},false,null,1,45,{"$error":"#N/A"},{"$error":"#N/A"},{"$error":"#N/A"}]
[87,{"$f":"'Read Stocks'!M89","v":""},{"$f":"'Read Stocks'!N89","v":""},false,null,1,45,{"$error":"#N/A"},{"$error":"#N/A"},{"$error":"#N/A"}]
[88,{"$f":"'Read Stocks'!M90","v":""},{"$f":"'Read Stocks'!N90","v":""},false,null,1,45,{"$error":"#N/A"},{"$error":"#N/A"},{"$error":"#N/A"}]
[89,{"$f":"'Read Stocks'!M91","v":""},{"$f":"'Read Stocks'!N91","v":""},false,null,1,45,{"$error":"#N/A"},{"$error":"#N/A"},{"$error":"#N/A"}]
[90,{"$f":"'Read Stocks'!M92","v":""},{"$f":"'Read Stocks'!N92","v":""},false,null,1,45,{"$error":"#N/A"},{"$error":"#N/A"},{"$error":"#N/A"}]
[91,{"$f":"'Read Stocks'!M93","v":""},{"$f":"'Read Stocks'!N93","v":""},false,null,1,45,{"$error":"#N/A"},{"$error":"#N/A"},{"$error":"#N/A"}]
[92,{"$f":"'Read Stocks'!M94","v":""},{"$f":"'Read Stocks'!N94","v":""},false,null,1,45,{"$error":"#N/A"},{"$error":"#N/A"},{"$error":"#N/A"}]
[93,{"$f":"'Read Stocks'!M95","v":""},{"$f":"'Read Stocks'!N95","v":""},false,null,1,45,{"$error":"#N/A"},{"$error":"#N/A"},{"$error":"#N/A"}]
[94,{"$f":"'Read Stocks'!M96","v":""},{"$f":"'Read Stocks'!N96","v":""},false,null,1,45,{"$error":"#N/A"},{"$error":"#N/A"},{"$error":"#N/A"}]
[95,{"$f":"'Read Stocks'!M97","v":""},{"$f":"'Read Stocks'!N97","v":""},false,null,1,45,{"$error":"#N/A"},{"$error":"#N/A"},{"$error":"#N/A"}]
[96,{"$f":"'Read Stocks'!M98","v":""},{"$f":"'Read Stocks'!N98","v":""},false,null,1,45,{"$error":"#N/A"},{"$error":"#N/A"},{"$error":"#N/A"}]
[97,{"$f":"'Read Stocks'!M99","v":""},{"$f":"'Read Stocks'!N99","v":""},false,null,1,45,{"$error":"#N/A"},{"$error":"#N/A"},{"$error":"#N/A"}]
[98,{"$f":"'Read Stocks'!M100","v":""},{"$f":"'Read Stocks'!N100","v":""},false,null,1,45,{"$error":"#N/A"},{"$error":"#N/A"},{"$error":"#N/A"}]
[99,{"$f":"'Read Stocks'!M101","v":""},{"$f":"'Read Stocks'!N101","v":""},false,null,1,45,{"$error":"#N/A"},{"$error":"#N/A"},{"$error":"#N/A"}]
[100,{"$f":"'Read Stocks'!M102","v":""},{"$f":"'Read Stocks'!N102","v":""},false,null,1,45,{"$error":"#N/A"},{"$error":"#N/A"},{"$error":"#N/A"}]
[101,{"$f":"'Read Stocks'!M103","v":""},{"$f":"'Read Stocks'!N103","v":""},false,null,1,45,{"$error":"#N/A"},{"$error":"#N/A"},{"$error":"#N/A"}]
[102,{"$f":"'Read Stocks'!M104","v":""},{"$f":"'Read Stocks'!N104","v":""},false,null,1,45,{"$error":"#N/A"},{"$error":"#N/A"},{"$error":"#N/A"}]
[103,{"$f":"'Read Stocks'!M105","v":""},{"$f":"'Read Stocks'!N105","v":""},false,null,1,45,{"$error":"#N/A"},{"$error":"#N/A"},{"$error":"#N/A"}]
[104,{"$f":"'Read Stocks'!M106","v":""},{"$f":"'Read Stocks'!N106","v":""},false,null,1,45,{"$error":"#N/A"},{"$error":"#N/A"},{"$error":"#N/A"}]
[105,{"$f":"'Read Stocks'!M107","v":""},{"$f":"'Read Stocks'!N107","v":""},false,null,1,45,{"$error":"#N/A"},{"$error":"#N/A"},{"$error":"#N/A"}]
[106,{"$f":"'Read Stocks'!M108","v":""},{"$f":"'Read Stocks'!N108","v":""},false,null,1,45,{"$error":"#N/A"},{"$error":"#N/A"},{"$error":"#N/A"}]
[107,{"$f":"'Read Stocks'!M109","v":""},{"$f":"'Read Stocks'!N109","v":""},false,null,1,45,{"$error":"#N/A"},{"$error":"#N/A"},{"$error":"#N/A"}]
[108,{"$f":"'Read Stocks'!M110","v":""},{"$f":"'Read Stocks'!N110","v":""},false,null,1,45,{"$error":"#N/A"},{"$error":"#N/A"},{"$error":"#N/A"}]
[109,{"$f":"'Read Stocks'!M111","v":""},{"$f":"'Read Stocks'!N111","v":""},false,null,1,45,{"$error":"#N/A"},{"$error":"#N/A"},{"$error":"#N/A"}]
[110,{"$f":"'Read Stocks'!M112","v":""},{"$f":"'Read Stocks'!N112","v":""},false,null,{"$f":"F112+D113","v":1},45,{"$error":"#N/A"},{"$f":"INDEX(B:B,H113)","v":{"$error":"#N/A"}},{"$error":"#N/A"}]
[111,{"$f":"'Read Stocks'!M113","v":""},{"$f":"'Read Stocks'!N113","v":""},false,null,1,45,{"$error":"#N/A"},{"$error":"#N/A"},{"$error":"#N/A"}]
[112,{"$f":"'Read Stocks'!M114","v":""},{"$f":"'Read Stocks'!N114","v":""},false,null,1,45,{"$error":"#N/A"},{"$error":"#N/A"},{"$error":"#N/A"}]
[113,{"$f":"'Read Stocks'!M115","v":""},{"$f":"'Read Stocks'!N115","v":""},false,null,1,45,{"$error":"#N/A"},{"$error":"#N/A"},{"$error":"#N/A"}]
[114,{"$f":"'Read Stocks'!M116","v":""},{"$f":"'Read Stocks'!N116","v":""},false,null,1,45,{"$error":"#N/A"},{"$error":"#N/A"},{"$error":"#N/A"}]
[115,{"$f":"'Read Stocks'!M117","v":""},{"$f":"'Read Stocks'!N117","v":""},false,null,1,45,{"$error":"#N/A"},{"$error":"#N/A"},{"$error":"#N/A"}]
[116,{"$f":"'Read Stocks'!M118","v":""},{"$f":"'Read Stocks'!N118","v":""},false,null,1,45,{"$error":"#N/A"},{"$error":"#N/A"},{"$error":"#N/A"}]
[117,{"$f":"'Read Stocks'!M119","v":""},{"$f":"'Read Stocks'!N119","v":""},false,null,1,45,{"$error":"#N/A"},{"$error":"#N/A"},{"$error":"#N/A"}]
[118,{"$f":"'Read Stocks'!M120","v":""},{"$f":"'Read Stocks'!N120","v":""},false,null,1,45,{"$error":"#N/A"},{"$error":"#N/A"},{"$error":"#N/A"}]
[119,{"$f":"'Read Stocks'!M121","v":""},{"$f":"'Read Stocks'!N121","v":""},false,null,1,45,{"$error":"#N/A"},{"$error":"#N/A"},{"$error":"#N/A"}]
[120,{"$f":"'Read Stocks'!M122","v":""},{"$f":"'Read Stocks'!N122","v":""},false,null,1,45,{"$error":"#N/A"},{"$error":"#N/A"},{"$error":"#N/A"}]
[121,{"$f":"'Read Stocks'!M123","v":""},{"$f":"'Read Stocks'!N123","v":""},false,null,1,45,{"$error":"#N/A"},{"$error":"#N/A"},{"$error":"#N/A"}]
[122,{"$f":"'Read Stocks'!M124","v":""},{"$f":"'Read Stocks'!N124","v":""},false,null,1,45,{"$error":"#N/A"},{"$error":"#N/A"},{"$error":"#N/A"}]
[123,{"$f":"'Read Stocks'!M125","v":""},{"$f":"'Read Stocks'!N125","v":""},false,null,1,45,{"$error":"#N/A"},{"$error":"#N/A"},{"$error":"#N/A"}]
[124,{"$f":"'Read Stocks'!M126","v":""},{"$f":"'Read Stocks'!N126","v":""},false,null,1,45,{"$error":"#N/A"},{"$error":"#N/A"},{"$error":"#N/A"}]
[125,{"$f":"'Read Stocks'!M127","v":""},{"$f":"'Read Stocks'!N127","v":""},false,null,1,45,{"$error":"#N/A"},{"$error":"#N/A"},{"$error":"#N/A"}]
[126,{"$f":"'Read Stocks'!M128","v":""},{"$f":"'Read Stocks'!N128","v":""},false,null,1,45,{"$error":"#N/A"},{"$error":"#N/A"},{"$error":"#N/A"}]
[127,{"$f":"'Read Stocks'!M129","v":""},{"$f":"'Read Stocks'!N129","v":""},false,null,1,45,{"$error":"#N/A"},{"$error":"#N/A"},{"$error":"#N/A"}]
[128,{"$f":"'Read Stocks'!M130","v":""},{"$f":"'Read Stocks'!N130","v":""},false,null,1,45,{"$error":"#N/A"},{"$error":"#N/A"},{"$error":"#N/A"}]
[129,{"$f":"'Read Stocks'!M131","v":""},{"$f":"'Read Stocks'!N131","v":""},false,null,1,45,{"$error":"#N/A"},{"$error":"#N/A"},{"$error":"#N/A"}]
[130,{"$f":"'Read Stocks'!M132","v":""},{"$f":"'Read Stocks'!N132","v":""},false,null,1,45,{"$f":"MATCH(G133,F$1:F$555,0)","v":{"$error":"#N/A"}},{"$error":"#N/A"},{"$f":"INDEX(C:C,H133)","v":{"$error":"#N/A"}}]
[131,{"$f":"'Read Stocks'!M133","v":""},{"$f":"'Read Stocks'!N133","v":""},false,null,1,45,{"$error":"#N/A"},{"$error":"#N/A"},{"$error":"#N/A"}]
[132,{"$f":"'Read Stocks'!M134","v":""},{"$f":"'Read Stocks'!N134","v":""},false,null,1,45,{"$error":"#N/A"},{"$error":"#N/A"},{"$error":"#N/A"}]
[133,{"$f":"'Read Stocks'!M135","v":""},{"$f":"'Read Stocks'!N135","v":""},false,null,1,45,{"$error":"#N/A"},{"$error":"#N/A"},{"$error":"#N/A"}]
[134,{"$f":"'Read Stocks'!M136","v":""},{"$f":"'Read Stocks'!N136","v":""},false,null,1,45,{"$error":"#N/A"},{"$error":"#N/A"},{"$error":"#N/A"}]
[135,{"$f":"'Read Stocks'!M137","v":""},{"$f":"'Read Stocks'!N137","v":""},false,null,1,45,{"$error":"#N/A"},{"$error":"#N/A"},{"$error":"#N/A"}]
[136,{"$f":"'Read Stocks'!M138","v":""},{"$f":"'Read Stocks'!N138","v":""},false,null,1,45,{"$error":"#N/A"},{"$error":"#N/A"},{"$error":"#N/A"}]
[137,{"$f":"'Read Stocks'!M139","v":""},{"$f":"'Read Stocks'!N139","v":""},false,null,1,45,{"$error":"#N/A"},{"$error":"#N/A"},{"$error":"#N/A"}]
[138,{"$f":"'Read Stocks'!M140","v":""},{"$f":"'Read Stocks'!N140","v":""},false,null,1,45,{"$error":"#N/A"},{"$error":"#N/A"},{"$error":"#N/A"}]
[139,{"$f":"'Read Stocks'!M141","v":""},{"$f":"'Read Stocks'!N141","v":""},false,null,1,45,{"$error":"#N/A"},{"$error":"#N/A"},{"$error":"#N/A"}]
[140,{"$f":"'Read Stocks'!M142","v":""},{"$f":"'Read Stocks'!N142","v":""},false,null,1,45,{"$error":"#N/A"},{"$error":"#N/A"},{"$error":"#N/A"}]
[141,{"$f":"'Read Stocks'!M143","v":""},{"$f":"'Read Stocks'!N143","v":""},false,null,1,45,{"$error":"#N/A"},{"$error":"#N/A"},{"$error":"#N/A"}]
[142,{"$f":"'Read Stocks'!M144","v":""},{"$f":"'Read Stocks'!N144","v":""},false,null,1,45,{"$error":"#N/A"},{"$error":"#N/A"},{"$error":"#N/A"}]
[143,{"$f":"'Read Stocks'!M145","v":""},{"$f":"'Read Stocks'!N145","v":""},false,null,1,45,{"$error":"#N/A"},{"$error":"#N/A"},{"$error":"#N/A"}]
[144,{"$f":"'Read Stocks'!M146","v":""},{"$f":"'Read Stocks'!N146","v":""},false,null,1,45,{"$error":"#N/A"},{"$error":"#N/A"},{"$error":"#N/A"}]
[145,{"$f":"'Read Stocks'!M147","v":""},{"$f":"'Read Stocks'!N147","v":""},false,null,1,45,{"$error":"#N/A"},{"$error":"#N/A"},{"$error":"#N/A"}]
[146,{"$f":"'Read Stocks'!M148","v":""},{"$f":"'Read Stocks'!N148","v":""},false,null,1,45,{"$error":"#N/A"},{"$error":"#N/A"},{"$error":"#N/A"}]
[147,{"$f":"'Read Stocks'!M149","v":""},{"$f":"'Read Stocks'!N149","v":""},false,null,1,45,{"$error":"#N/A"},{"$error":"#N/A"},{"$error":"#N/A"}]
[148,{"$f":"'Read Stocks'!M150","v":""},{"$f":"'Read Stocks'!N150","v":""},false,null,1,45,{"$error":"#N/A"},{"$error":"#N/A"},{"$error":"#N/A"}]
[149,{"$f":"'Read Stocks'!M151","v":""},{"$f":"'Read Stocks'!N151","v":""},false,null,1,45,{"$error":"#N/A"},{"$error":"#N/A"},{"$error":"#N/A"}]
[150,{"$f":"'Read Stocks'!M152","v":""},{"$f":"'Read Stocks'!N152","v":""},false,null,1,45,{"$error":"#N/A"},{"$error":"#N/A"},{"$error":"#N/A"}]
[151,{"$f":"'Read Stocks'!M153","v":""},{"$f":"'Read Stocks'!N153","v":""},false,null,1,45,{"$error":"#N/A"},{"$error":"#N/A"},{"$error":"#N/A"}]
[152,{"$f":"'Read Stocks'!M154","v":""},{"$f":"'Read Stocks'!N154","v":""},false,null,1,45,{"$error":"#N/A"},{"$error":"#N/A"},{"$error":"#N/A"}]
[153,{"$f":"'Read Stocks'!M155","v":""},{"$f":"'Read Stocks'!N155","v":""},false,null,1,45,{"$error":"#N/A"},{"$error":"#N/A"},{"$error":"#N/A"}]
[154,{"$f":"'Read Stocks'!M156","v":""},{"$f":"'Read Stocks'!N156","v":""},false,null,1,45,{"$error":"#N/A"},{"$error":"#N/A"},{"$error":"#N/A"}]
[155,{"$f":"'Read Stocks'!M157","v":""},{"$f":"'Read Stocks'!N157","v":""},false,null,1,45,{"$error":"#N/A"},{"$error":"#N/A"},{"$error":"#N/A"}]
[156,{"$f":"'Read Stocks'!M158","v":""},{"$f":"'Read Stocks'!N158","v":""},false,null,1,45,{"$error":"#N/A"},{"$error":"#N/A"},{"$error":"#N/A"}]
[157,{"$f":"'Read Stocks'!M159","v":""},{"$f":"'Read Stocks'!N159","v":""},false,null,1,45,{"$error":"#N/A"},{"$error":"#N/A"},{"$error":"#N/A"}]
[158,{"$f":"'Read Stocks'!M160","v":""},{"$f":"'Read Stocks'!N160","v":""},false,null,1,45,{"$error":"#N/A"},{"$error":"#N/A"},{"$error":"#N/A"}]
[159,{"$f":"'Read Stocks'!M161","v":""},{"$f":"'Read Stocks'!N161","v":""},false,null,1,45,{"$error":"#N/A"},{"$error":"#N/A"},{"$error":"#N/A"}]
[160,{"$f":"'Read Stocks'!M162","v":""},{"$f":"'Read Stocks'!N162","v":""},false,null,1,45,{"$error":"#N/A"},{"$error":"#N/A"},{"$error":"#N/A"}]
[161,{"$f":"'Read Stocks'!M163","v":""},{"$f":"'Read Stocks'!N163","v":""},false,null,1,45,{"$error":"#N/A"},{"$error":"#N/A"},{"$error":"#N/A"}]
[162,{"$f":"'Read Stocks'!M164","v":""},{"$f":"'Read Stocks'!N164","v":""},false,null,1,45,{"$error":"#N/A"},{"$error":"#N/A"},{"$error":"#N/A"}]
[163,{"$f":"'Read Stocks'!M165","v":""},{"$f":"'Read Stocks'!N165","v":""},false,null,1,45,{"$error":"#N/A"},{"$error":"#N/A"},{"$error":"#N/A"}]
[164,{"$f":"'Read Stocks'!M166","v":""},{"$f":"'Read Stocks'!N166","v":""},false,null,1,45,{"$error":"#N/A"},{"$error":"#N/A"},{"$error":"#N/A"}]
[165,{"$f":"'Read Stocks'!M167","v":""},{"$f":"'Read Stocks'!N167","v":""},false,null,1,45,{"$error":"#N/A"},{"$error":"#N/A"},{"$error":"#N/A"}]
[166,{"$f":"'Read Stocks'!M168","v":""},{"$f":"'Read Stocks'!N168","v":""},false,null,1,45,{"$error":"#N/A"},{"$error":"#N/A"},{"$error":"#N/A"}]
[167,{"$f":"'Read Stocks'!M169","v":""},{"$f":"'Read Stocks'!N169","v":""},false,null,1,45,{"$error":"#N/A"},{"$error":"#N/A"},{"$error":"#N/A"}]
[168,{"$f":"'Read Stocks'!M170","v":""},{"$f":"'Read Stocks'!N170","v":""},false,null,1,45,{"$error":"#N/A"},{"$error":"#N/A"},{"$error":"#N/A"}]
[169,{"$f":"'Read Stocks'!M171","v":""},{"$f":"'Read Stocks'!N171","v":""},false,null,1,45,{"$error":"#N/A"},{"$error":"#N/A"},{"$error":"#N/A"}]
[170,{"$f":"'Read Stocks'!M172","v":""},{"$f":"'Read Stocks'!N172","v":""},false,null,1,45,{"$error":"#N/A"},{"$error":"#N/A"},{"$error":"#N/A"}]
[171,{"$f":"'Read Stocks'!M173","v":""},{"$f":"'Read Stocks'!N173","v":""},false,null,1,45,{"$error":"#N/A"},{"$error":"#N/A"},{"$error":"#N/A"}]
[172,{"$f":"'Read Stocks'!M174","v":""},{"$f":"'Read Stocks'!N174","v":""},false,null,1,45,{"$error":"#N/A"},{"$error":"#N/A"},{"$error":"#N/A"}]
[173,{"$f":"'Read Stocks'!M175","v":""},{"$f":"'Read Stocks'!N175","v":""},false,null,1,45,{"$error":"#N/A"},{"$error":"#N/A"},{"$error":"#N/A"}]
[174,{"$f":"'Read Stocks'!M176","v":""},{"$f":"'Read Stocks'!N176","v":""},false,null,{"$f":"F176+D177","v":1},45,{"$error":"#N/A"},{"$f":"INDEX(B:B,H177)","v":{"$error":"#N/A"}},{"$error":"#N/A"}]
[175,{"$f":"'Read Stocks'!M177","v":0},{"$f":"'Read Stocks'!N177","v":0},false,null,1,45,{"$error":"#N/A"},{"$error":"#N/A"},{"$error":"#N/A"}]
[176,{"$f":"'Read Stocks'!M178","v":0},{"$f":"'Read Stocks'!N178","v":0},false,null,1,45,{"$error":"#N/A"},{"$error":"#N/A"},{"$error":"#N/A"}]
[177,{"$f":"'Read Stocks'!M179","v":0},{"$f":"'Read Stocks'!N179","v":0},false,null,1,45,{"$error":"#N/A"},{"$error":"#N/A"},{"$error":"#N/A"}]
[178,{"$f":"'Read Stocks'!M180","v":0},{"$f":"'Read Stocks'!N180","v":0},false,null,1,45,{"$error":"#N/A"},{"$error":"#N/A"},{"$error":"#N/A"}]
[179,{"$f":"'Read Stocks'!M181","v":0},{"$f":"'Read Stocks'!N181","v":0},false,null,1,45,{"$error":"#N/A"},{"$error":"#N/A"},{"$error":"#N/A"}]
[180,{"$f":"'Read Stocks'!M182","v":0},{"$f":"'Read Stocks'!N182","v":0},false,null,1,45,{"$error":"#N/A"},{"$error":"#N/A"},{"$error":"#N/A"}]
[181,{"$f":"'Read Stocks'!M183","v":0},{"$f":"'Read Stocks'!N183","v":0},false,null,1,45,{"$error":"#N/A"},{"$error":"#N/A"},{"$error":"#N/A"}]
[182,{"$f":"'Read Stocks'!M184","v":0},{"$f":"'Read Stocks'!N184","v":0},false,null,1,45,{"$error":"#N/A"},{"$error":"#N/A"},{"$error":"#N/A"}]
[183,{"$f":"'Read Stocks'!M185","v":0},{"$f":"'Read Stocks'!N185","v":0},false,null,1,45,{"$error":"#N/A"},{"$error":"#N/A"},{"$error":"#N/A"}]
[184,{"$f":"'Read Stocks'!M186","v":0},{"$f":"'Read Stocks'!N186","v":0},false,null,1,45,{"$error":"#N/A"},{"$error":"#N/A"},{"$error":"#N/A"}]
[185,{"$f":"'Read Stocks'!M187","v":0},{"$f":"'Read Stocks'!N187","v":0},false,null,1,45,{"$error":"#N/A"},{"$error":"#N/A"},{"$error":"#N/A"}]
[186,{"$f":"'Read Stocks'!M188","v":0},{"$f":"'Read Stocks'!N188","v":0},false,null,1,45,{"$error":"#N/A"},{"$error":"#N/A"},{"$error":"#N/A"}]
[187,{"$f":"'Read Stocks'!M189","v":0},{"$f":"'Read Stocks'!N189","v":0},false,null,1,45,{"$error":"#N/A"},{"$error":"#N/A"},{"$error":"#N/A"}]
[188,{"$f":"'Read Stocks'!M190","v":0},{"$f":"'Read Stocks'!N190","v":0},false,null,1,45,{"$error":"#N/A"},{"$error":"#N/A"},{"$error":"#N/A"}]
[189,{"$f":"'Read Stocks'!M191","v":0},{"$f":"'Read Stocks'!N191","v":0},false,null,1,45,{"$error":"#N/A"},{"$error":"#N/A"},{"$error":"#N/A"}]
[190,{"$f":"'Read Stocks'!M192","v":0},{"$f":"'Read Stocks'!N192","v":0},false,null,1,45,{"$error":"#N/A"},{"$error":"#N/A"},{"$error":"#N/A"}]
[191,{"$f":"'Read Stocks'!M193","v":0},{"$f":"'Read Stocks'!N193","v":0},false,null,1,45,{"$error":"#N/A"},{"$error":"#N/A"},{"$error":"#N/A"}]
[192,{"$f":"'Read Stocks'!M194","v":0},{"$f":"'Read Stocks'!N194","v":0},false,null,1,45,{"$error":"#N/A"},{"$error":"#N/A"},{"$error":"#N/A"}]
[null,null,null,false,null,1,45,{"$error":"#N/A"},{"$error":"#N/A"},{"$error":"#N/A"}]
[null,null,null,false,null,1,45,{"$f":"MATCH(G197,F$1:F$555,0)","v":{"$error":"#N/A"}},{"$error":"#N/A"},{"$f":"INDEX(C:C,H197)","v":{"$error":"#N/A"}}]
[null,null,null,false,null,1,45,{"$error":"#N/A"},{"$error":"#N/A"},{"$error":"#N/A"}]
[null,null,null,false,null,1,45,{"$error":"#N/A"},{"$error":"#N/A"},{"$error":"#N/A"}]
[null,null,null,false,null,1,45,{"$error":"#N/A"},{"$error":"#N/A"},{"$error":"#N/A"}]
[null,null,null,false,null,1,45,{"$error":"#N/A"},{"$error":"#N/A"},{"$error":"#N/A"}]
[null,null,null,false,null,1,45,{"$error":"#N/A"},{"$error":"#N/A"},{"$error":"#N/A"}]
[null,null,null,false,null,1,45,{"$error":"#N/A"},{"$error":"#N/A"},{"$error":"#N/A"}]
[null,null,null,false,null,1,45,{"$error":"#N/A"},{"$error":"#N/A"},{"$error":"#N/A"}]
[null,null,null,false,null,1,45,{"$error":"#N/A"},{"$error":"#N/A"},{"$error":"#N/A"}]
[null,null,null,false,null,1,45,{"$error":"#N/A"},{"$error":"#N/A"},{"$error":"#N/A"}]
[null,null,null,false,null,1,45,{"$error":"#N/A"},{"$error":"#N/A"},{"$error":"#N/A"}]
[null,null,null,false,null,1,45,{"$error":"#N/A"},{"$error":"#N/A"},{"$error":"#N/A"}]
[null,null,null,false,null,1,45,{"$error":"#N/A"},{"$error":"#N/A"},{"$error":"#N/A"}]
[null,null,null,false,null,1,45,{"$error":"#N/A"},{"$error":"#N/A"},{"$error":"#N/A"}]
[null,null,null,false,null,1,45,{"$error":"#N/A"},{"$error":"#N/A"},{"$error":"#N/A"}]
[null,null,null,false,null,1,45,{"$error":"#N/A"},{"$error":"#N/A"},{"$error":"#N/A"}]
[null,null,null,false,null,1,45,{"$error":"#N/A"},{"$error":"#N/A"},{"$error":"#N/A"}]
[null,null,null,false,null,1,45,{"$error":"#N/A"},{"$error":"#N/A"},{"$error":"#N/A"}]
[null,null,null,false,null,1,45,{"$error":"#N/A"},{"$error":"#N/A"},{"$error":"#N/A"}]
[null,null,null,false,null,1,45,{"$error":"#N/A"},{"$error":"#N/A"},{"$error":"#N/A"}]
[null,null,null,false,null,1,45,{"$error":"#N/A"},{"$error":"#N/A"},{"$error":"#N/A"}]
[null,null,null,false,null,1,45,{"$error":"#N/A"},{"$error":"#N/A"},{"$error":"#N/A"}]
[null,null,null,false,null,1,45,{"$error":"#N/A"},{"$error":"#N/A"},{"$error":"#N/A"}]
[null,null,null,false,null,1,45,{"$error":"#N/A"},{"$error":"#N/A"},{"$error":"#N/A"}]
[null,null,null,false,null,1,45,{"$error":"#N/A"},{"$error":"#N/A"},{"$error":"#N/A"}]
[null,null,null,false,null,1,45,{"$error":"#N/A"},{"$error":"#N/A"},{"$error":"#N/A"}]
[null,null,null,false,null,1,45,{"$error":"#N/A"},{"$error":"#N/A"},{"$error":"#N/A"}]
[null,null,null,false,null,1,45,{"$error":"#N/A"},{"$error":"#N/A"},{"$error":"#N/A"}]
[null,null,null,false,null,1,45,{"$error":"#N/A"},{"$error":"#N/A"},{"$error":"#N/A"}]
[null,null,null,false,null,1,45,{"$error":"#N/A"},{"$error":"#N/A"},{"$error":"#N/A"}]
[null,null,null,false,null,1,45,{"$error":"#N/A"},{"$error":"#N/A"},{"$error":"#N/A"}]
[null,null,null,false,null,1,45,{"$error":"#N/A"},{"$error":"#N/A"},{"$error":"#N/A"}]
[null,null,null,false,null,1,45,{"$error":"#N/A"},{"$error":"#N/A"},{"$error":"#N/A"}]
[null,null,null,false,null,1,45,{"$error":"#N/A"},{"$error":"#N/A"},{"$error":"#N/A"}]
[null,null,null,false,null,1,45,{"$error":"#N/A"},{"$error":"#N/A"},{"$error":"#N/A"}]
[null,null,null,false,null,1,45,{"$error":"#N/A"},{"$error":"#N/A"},{"$error":"#N/A"}]
[null,null,null,false,null,1,45,{"$error":"#N/A"},{"$error":"#N/A"},{"$error":"#N/A"}]
[null,null,null,false,null,1,45,{"$error":"#N/A"},{"$error":"#N/A"},{"$error":"#N/A"}]
[null,null,null,false,null,1,45,{"$error":"#N/A"},{"$error":"#N/A"},{"$error":"#N/A"}]
[null,null,null,false,null,1,45,{"$error":"#N/A"},{"$error":"#N/A"},{"$error":"#N/A"}]
[null,null,null,false,null,1,45,{"$error":"#N/A"},{"$error":"#N/A"},{"$error":"#N/A"}]
[null,null,null,false,null,1,45,{"$error":"#N/A"},{"$error":"#N/A"},{"$error":"#N/A"}]
[null,null,null,false,null,1,45,{"$error":"#N/A"},{"$error":"#N/A"},{"$error":"#N/A"}]
[null,null,null,false,null,1,45,{"$error":"#N/A"},{"$error":"#N/A"},{"$error":"#N/A"}]
[null,null,null,false,null,{"$f":"F240+D241","v":1},45,{"$error":"#N/A"},{"$f":"INDEX(B:B,H241)","v":{"$error":"#N/A"}},{"$error":"#N/A"}]
[null,null,null,false,null,1,45,{"$error":"#N/A"},{"$error":"#N/A"},{"$error":"#N/A"}]
[null,null,null,false,null,1,45,{"$error":"#N/A"},{"$error":"#N/A"},{"$error":"#N/A"}]
[null,null,null,false,null,1,45,{"$error":"#N/A"},{"$error":"#N/A"},{"$error":"#N/A"}]
[null,null,null,false,null,1,45,{"$error":"#N/A"},{"$error":"#N/A"},{"$error":"#N/A"}]
[null,null,null,false,null,1,45,{"$error":"#N/A"},{"$error":"#N/A"},{"$error":"#N/A"}]
[null,null,null,false,null,1,45,{"$error":"#N/A"},{"$error":"#N/A"},{"$error":"#N/A"}]
[null,null,null,false,null,1,45,{"$error":"#N/A"},{"$error":"#N/A"},{"$error":"#N/A"}]
[null,null,null,false,null,1,45,{"$error":"#N/A"},{"$error":"#N/A"},{"$error":"#N/A"}]
[null,null,null,false,null,1,45,{"$error":"#N/A"},{"$error":"#N/A"},{"$error":"#N/A"}]
[null,null,null,false,null,1,45,{"$error":"#N/A"},{"$error":"#N/A"},{"$error":"#N/A"}]
[null,null,null,false,null,1,45,{"$error":"#N/A"},{"$error":"#N/A"},{"$error":"#N/A"}]
[null,null,null,false,null,1,45,{"$error":"#N/A"},{"$error":"#N/A"},{"$error":"#N/A"}]
[null,null,null,false,null,1,45,{"$error":"#N/A"},{"$error":"#N/A"},{"$error":"#N/A"}]
[null,null,null,false,null,1,45,{"$error":"#N/A"},{"$error":"#N/A"},{"$error":"#N/A"}]
[null,null,null,false,null,1,45,{"$error":"#N/A"},{"$error":"#N/A"},{"$error":"#N/A"}]
[null,null,null,false]
[null,null,null,false]
[null,null,null,false]
[null,null,null,false]
[null,null,null,false]
[null,null,null,false]
[null,null,null,false]
[null,null,null,false]
[null,null,null,false]
[null,null,null,false]
[null,null,null,false]
[null,null,null,false]
[null,null,null,false]
[null,null,null,false]
[null,null,null,false]
[null,null,null,false]
[null,null,null,false]
[null,null,null,false]
[null,null,null,false]
[null,null,null,false]
[null,null,null,false]
[null,null,null,false]
[null,null,null,false]
[null,null,null,false]
[null,null,null,false]
[null,null,null,false]
[null,null,null,false]
[null,null,null,false]
[null,null,null,false]
[null,null,null,false]
[null,null,null,false]
[null,null,null,false]
[null,null,null,false]
[null,null,null,false]
[null,null,null,false]
[null,null,null,false]
[null,null,null,false]
[null,null,null,false]
[null,null,null,false]
[null,null,null,false]
[null,null,null,false]
[null,null,null,false]
[null,null,null,false]
[null,null,null,false]

{"sheet":"Summary","index":3,"n_rows":853,"n_cols":74,"rows_kept":853,"cut":false,"hidden":false,"merged":[]}
[null,null,"Selected Start",{"$f":"Forms!G9","v":"2004-01-01"},null,null,"Index No (Frms)",null,{"$f":"Forms!J4","v":1},null,null,"Graph Code",{"$f":"Forms!P7","v":3},"Height",{"$f":"COUNT(D10:D853)","v":177},"Graph Cols",{"$f":"COUNTIF('Multiple Stock Graph'!D:D,TRUE)+2","v":3},null,null,null,null,null,null,null,null,null,null,null,null,null,null,null,null,null,null,null,null,null,null,null,null,null,null,null,"Periods in Yr",null,{"$f":"IF(D6,52,12)","v":12}]
[null,null,"End Date",{"$f":"MIN(Forms!L9,MAX(A:A))","v":"2018-09-01"},null,null,"Col to Read",null,{"$f":"INDEX('Read Stocks'!O3:O202,Summary!I1)","v":"F"},null,null,null,null,"This is the data that is graphed",null,null,null,null,null,null,null,null,null,null,null,null,null,{"$f":"MIN(INDIRECT(AB5&\"!A:A\"))","v":"1991-11-01"},{"$f":"MIN(INDIRECT(AC5&\"!A:A\"))","v":{"$error":"#N/A"}},{"$error":"#N/A"},{"$error":"#N/A"},{"$error":"#N/A"},{"$error":"#N/A"},null,null,null,null,null,null,null,null,null,null,null,null,null,null,null,null,null,null,null,null,null,null,null,null,null,null,null,null,null,null,null,null,"First two are inflation, next 5 are exchange rates with multiplication"]
[null,null,"Start of Series",{"$f":"IFERROR(MIN(INDIRECT(\"'\"&$G$7&\"'!A:A\")),start_of_date)","v":"1950-01-01"},null,null,null,null,null,"Final Val",{"$f":"LOOKUP(D2,$D$10:$D$837,K10:K837)","v":2.565151668839337},null,null,null,null,null,null,null,null,null,null,null,null,null,null,null,null,null,null,null,null,null,null,"Exchange Rate Adjustments",null,null,null,null,null,"Adjusted Values for Exchange Rate",null,null,null,null,"Beta",{"$f":"SLOPE(AT10:AT837,$AT$10:$AT$837)","v":1},{"$f":"SLOPE(AU12:AU837,AT12:AT837)","v":0.78979206650881739},{"$error":"#DIV/0!"},{"$error":"#DIV/0!"},{"$error":"#DIV/0!"},{"$error":"#DIV/0!"},{"$error":"#DIV/0!"},{"$f":"LOOKUP($D$2,$D:$D,BA:BA)","v":5.2549465256411922},1,1,1,1,1]
[null,null,"Final Start",{"$f":"MAX(D3,D1)","v":"2004-01-01"},{"$f":"(D2-D4-1)/365.4","v":14.657909140667762},null,"No Re-calc",null,null,"IRR",{"$f":"(K3)^(1/($E$4-1))-1","v":7.140654649722844E-2},null,null,null,null,null,null,null,null,null,null,"Raw Values without Re-calc",null,null,null,null,null,"Re-orded Lookup Value for Raw Value with Adjusted Date",null,null,null,null,null,null,null,null,null,null,null,null,null,null,null,null,"Std Dev",{"$f":"STDEV(AT10:AT837)","v":8.6734539227464408E-2},4.6392117608307352E-2,{"$error":"#DIV/0!"},{"$error":"#DIV/0!"},{"$error":"#DIV/0!"},{"$error":"#DIV/0!"},{"$error":"#DIV/0!"},{"$f":"IF(BA3<>1,(BA3)^(1/($E$4-1))-1,\"\")","v":0.12916736323528899},{"$f":"IF(BB3<>1,(BB3)^(1/($E$4-1))-1,\"\")","v":""},"","","","","Raw Retrieval of Inflation and Exchange Indirect",null,null,null,null,null,null,"Exchange Rate with Lookup"]
[null,null,null,"Monhly Switch",null,null,null,null,null,null,null,null,"Single",null,"Main","Comparators from Choose and Data to Right",null,null,null,null,null,{"$f":"TRANSPOSE('Multiple Stock Graph'!I4:I9)","v":"Mexico"},{"$error":"#N/A"},{"$error":"#N/A"},{"$error":"#N/A"},{"$error":"#N/A"},{"$error":"#N/A"},{"$f":"V5","v":"Mexico"},{"$f":"W5","v":{"$error":"#N/A"}},{"$error":"#N/A"},{"$error":"#N/A"},{"$error":"#N/A"},{"$error":"#N/A"},null,null,null,null,null,null,null,null,null,null,null,"Volatiltiy",{"$f":"AT4*$AU$1^0.5","v":0.30045725742608836},{"$f":"AU4*$AU$1^0.5","v":0.16070700953659817},{"$error":"#DIV/0!"},{"$error":"#DIV/0!"},{"$error":"#DIV/0!"},{"$error":"#DIV/0!"},{"$error":"#DIV/0!"}]
["Base",null,null,false,null,"Base Stock","Base Stock","Exc Rate/Infl","Adj for Inf/Exc","Change","Index",null,"Graph",null,"Item","First Comparator(Stats)",null,null,null,null,null,{"$f":"MATCH(V5,'Read Stocks'!$M:$M,0)","v":5},{"$f":"MATCH(W5,'Read Stocks'!$M:$M,0)","v":{"$error":"#N/A"}},{"$f":"MATCH(X5,'Read Stocks'!$M:$M,0)","v":{"$error":"#N/A"}},{"$f":"MATCH(Y5,'Read Stocks'!$M:$M,0)","v":{"$error":"#N/A"}},{"$f":"MATCH(Z5,'Read Stocks'!$M:$M,0)","v":{"$error":"#N/A"}},{"$f":"MATCH(AA5,'Read Stocks'!$M:$M,0)","v":{"$error":"#N/A"}},null,null,null,null,null,null,false,false,false,false,false,false,null,null,null,null,null,null,"Growth Rate","Growth Rate",null,null,null,null,null,"Index",null,null,null,null,null,{"$f":"BN6","v":"GDP Inf"},{"$f":"BO6","v":"CPI US"},"Mex","INR","UK",null,null,{"$f":"TRANSPOSE('Exchange Rates'!D13:D47)","v":"GDP Inf"},"CPI US","Mex","INR","UK","CFH","US NOM GNP"]
["Date ","Monthly","Weekely","Month or Day","Date Selected",{"$f":"Forms!K4","v":0},{"$f":"Forms!L4","v":"S&P 500"},"Adjustment",{"$f":"G7","v":"S&P 500"},{"$f":"G7","v":"S&P 500"},{"$f":"J7","v":"S&P 500"},"X-Axis",{"$f":"CHOOSE($M$1,G7,J7,K7)","v":"S&P 500"},"x-axis",{"$f":"INDEX('Read Stocks'!N3:N202,Summary!I1)","v":"US S&P 500"},{"$f":"TRANSPOSE('Multiple Stock Graph'!J4:J9)","v":"Mexican Index"},{"$error":"#N/A"},{"$error":"#N/A"},{"$error":"#N/A"},{"$error":"#N/A"},{"$error":"#N/A"},{"$f":"INDEX('Read Stocks'!$O:$O,Summary!V6)","v":"F"},{"$f":"INDEX('Read Stocks'!$O:$O,Summary!W6)","v":{"$error":"#N/A"}},{"$f":"INDEX('Read Stocks'!$O:$O,Summary!X6)","v":{"$error":"#N/A"}},{"$f":"INDEX('Read Stocks'!$O:$O,Summary!Y6)","v":{"$error":"#N/A"}},{"$f":"INDEX('Read Stocks'!$O:$O,Summary!Z6)","v":{"$error":"#N/A"}},{"$f":"INDEX('Read Stocks'!$O:$O,Summary!AA6)","v":{"$error":"#N/A"}},null,null,null,null,null,null,{"$f":"TRANSPOSE('Multiple Stock Graph'!K16:K21)","v":0},0,0,0,0,0,{"$f":"P7","v":"Mexican Index"},{"$error":"#N/A"},{"$error":"#N/A"},{"$error":"#N/A"},{"$error":"#N/A"},{"$error":"#N/A"},{"$f":"J7","v":"S&P 500"},{"$f":"V5","v":"Mexico"},{"$error":"#N/A"},{"$error":"#N/A"},{"$error":"#N/A"},{"$error":"#N/A"},{"$error":"#N/A"},{"$f":"AU7","v":"Mexico"},{"$error":"#N/A"},{"$error":"#N/A"},{"$error":"#N/A"},{"$error":"#N/A"},{"$error":"#N/A"},null,null,null,null,null,null,null,"B","B","B","B","B","B","B"]
["Copied","Date","Date","Date","Switch","Raw Data","Raw Data",{"$f":"'Multiple Stock Graph'!K15","v":0},null,null,null,null,null,null,null,1,2,3,4,5,6,1,2,3,4,5,6,null,null,null,null,null,null,{"$f":"IFERROR(INDEX($BN$6:$BT$6,AH7),\"\")","v":""},{"$f":"IFERROR(INDEX($BN$6:$BT$6,AI7),\"\")","v":""},"","","","",1,2,3,4,5,6,null,null,null,null,null,null,null,null,null,null,null,null,null,null,null,null,null,null,null,null,"Divide","Divide","Multply","Multply","Multply","Multply","Multply"]
[null,null,null,null,null,{"$f":"I2","v":"F"},{"$f":"I2","v":"F"},null,null,null,1,null,null,null,{"$f":"O7","v":"US S&P 500"},{"$f":"P7","v":"Mexican Index"},{"$f":"Q7","v":{"$error":"#N/A"}},{"$error":"#N/A"},{"$error":"#N/A"},{"$error":"#N/A"},{"$error":"#N/A"},null,null,null,null,null,null,null,null,null,null,null,null,null,null,null,null,null,null,null,null,null,null,null,null,null,null,null,null,null,null,null,1,1,1,1,1,1]
["1950-01-01",{"$f":"MAX(D3,D1)","v":"2004-01-01"},{"$f":"B10","v":"2004-01-01"},{"$f":"IF($D$6,C10,B10)","v":"2004-01-01"},{"$f":"AND(D10>=$D$4,D10<=$D$2)","v":true},{"$f":"LOOKUP(D10,A:A,G:G)","v":1131.130005},{"$f":"IFERROR(LOOKUP($A10,INDIRECT(\"'\"&G$7&\"'!A:A\"),INDIRECT(\"'\"&G$7&\"'!\"&$G$9&\":\"&$G$9)),0)","v":17.049999},{"$f":"IF(H$8,INDEX($BN10:$BT10,H$8),1)","v":1},{"$f":"IF(ISNUMBER(F10),F10,I11)*H10","v":1131.130005},{"$f":"IFERROR(LN(G10/G9),FALSE)","v":false},{"$f":"IF($E10,(K9*(1+J10)),1)","v":1},{"$f":"IF(E10,D10,NA())","v":"2004-01-01"},{"$f":"CHOOSE($M$1,I10,J10,K10)","v":1},{"$f":"L10","v":"2004-01-01"},{"$f":"M10","v":1},{"$f":"CHOOSE($M$1,AN10,AU10,BA10)","v":1},{"$f":"CHOOSE($M$1,AO10,AV10,BB10)","v":1},{"$f":"CHOOSE($M$1,AP10,AW10,BC10)","v":1},{"$f":"CHOOSE($M$1,AQ10,AX10,BD10)","v":1},{"$f":"CHOOSE($M$1,AR10,AY10,BE10)","v":1},{"$f":"CHOOSE($M$1,AS10,AZ10,BF10)","v":1},{"$f":"LOOKUP($A10,INDIRECT(\"'\"&V$5&\"'!A:A\"),INDIRECT(\"'\"&V$5&\"'!\"&V$7&\":\"&V$7))","v":{"$error":"#N/A"}},{"$f":"LOOKUP($A10,INDIRECT(\"'\"&W$5&\"'!A:A\"),INDIRECT(\"'\"&W$5&\"'!\"&W$7&\":\"&W$7))","v":{"$error":"#N/A"}},{"$f":"LOOKUP($A10,INDIRECT(\"'\"&X$5&\"'!A:A\"),INDIRECT(\"'\"&X$5&\"'!\"&X$7&\":\"&X$7))","v":{"$error":"#N/A"}},{"$error":"#N/A"},{"$error":"#N/A"},{"$error":"#N/A"},{"$f":"IF(ISNUMBER(LOOKUP($D10,$A:$A,V:V)),LOOKUP($D10,$A:$A,V:V),AB9)","v":9428.7695309999999},{"$f":"IF(ISNUMBER(LOOKUP($D10,$A:$A,W:W)),LOOKUP($D10,$A:$A,W:W),AC9)","v":0},0,0,0,0,{"$f":"IF(AH$7,INDEX($BN10:$BT10,AH$7),1)","v":1},{"$f":"IF(AI$7,INDEX($BN10:$BT10,AI$7),1)","v":1},1,1,1,1,{"$f":"IFERROR(IF(ISNUMBER(AB10)>0.1,AB10,AN11)*AH10,AN11)","v":9428.7695309999999},{"$f":"IFERROR(IF(ISNUMBER(AC10)>0.1,AC10,AO11)*AI10,AO11)","v":0},0,0,0,{"$f":"IF(ISNUMBER(AG10)>0.1,AG10,AS11)","v":0},{"$f":"J10","v":false},{"$f":"IF(E10,IFERROR(LN(AN10/AN9),FALSE))","v":false},{"$f":"IF(E10,IFERROR(LN(AO10/AO9),FALSE))","v":false},{"$f":"IF(E10,IFERROR(LN(AP10/AP9),FALSE))","v":false},{"$f":"IF(E10,IFERROR(LN(AQ10/AQ9),FALSE))","v":false},{"$f":"IF(E10,IFERROR(LN(AR10/AR9),FALSE))","v":false},{"$f":"IF(E10,IFERROR(LN(AS10/AS9),FALSE))","v":false},1,1,1,1,1,1,{"$f":"IFERROR(LOOKUP($A10,INDIRECT(\"'\"&BN$6&\"'!A:A\"),INDIRECT(\"'\"&BN$6&\"'!\"&BN$7&\":\"&BN$7)),0)","v":12.853},{"$f":"IFERROR(LOOKUP($A10,INDIRECT(\"'\"&BO$6&\"'!A:A\"),INDIRECT(\"'\"&BO$6&\"'!\"&BO$7&\":\"&BO$7)),0)","v":23.51},0,0,0,0,282.05599999999998,{"$f":"IFERROR(1/IFERROR(LOOKUP($D10,$A:$A,BG:BG)*1,0),1)","v":1.1930326890956813E-2},{"$f":"IFERROR(1/IFERROR(LOOKUP($D10,$A:$A,BH:BH)*1,0),1)","v":5.3676865271068165E-3},{"$f":"IFERROR(LOOKUP($D10,$A:$A,BI:BI)*1,0)","v":10.920299999999999},0,1.8254999999999999,0,12018.97]
["1950-02-01",{"$f":"IF(B10<=$D$2,EOMONTH(B10,1))","v":"2004-02-29"},{"$f":"IF(C10<=$D$2,C10+7)","v":"2004-01-08"},{"$f":"IF($D$6,C11,B11)","v":"2004-02-29"},{"$f":"AND(D11>=$D$4,D10<=$D$2)","v":true},{"$f":"LOOKUP(D11,A:A,G:G)","v":1144.9399410000001},{"$f":"IFERROR(LOOKUP($A11,INDIRECT(\"'\"&G$7&\"'!A:A\"),INDIRECT(\"'\"&G$7&\"'!\"&$G$9&\":\"&$G$9)),0)","v":17.219999000000001},{"$f":"IF(H$8,INDEX($BN11:$BT11,H$8),1)","v":1},{"$f":"IF(ISNUMBER(F11),F11,I12)*H11","v":1144.9399410000001},{"$f":"IFERROR(LN(I11/I10),FALSE)","v":1.2135044877681666E-2},{"$f":"IF($E11,(K10*I11/I10),1)","v":1.0122089732735895},{"$f":"IF(E11,D11,NA())","v":"2004-02-29"},{"$f":"CHOOSE($M$1,I11,J11,K11)","v":1.0122089732735895},{"$f":"L11","v":"2004-02-29"},{"$f":"M11","v":1.0122089732735895},{"$f":"IFERROR(CHOOSE($M$1,AN11,AU11,BA11),1)","v":1.0597140774465708},1,1,1,1,1,{"$f":"LOOKUP($A11,INDIRECT(\"'\"&V$5&\"'!A:A\"),INDIRECT(\"'\"&V$5&\"'!\"&V$7&\":\"&V$7))","v":{"$error":"#N/A"}},{"$error":"#N/A"},{"$error":"#N/A"},{"$f":"LOOKUP($A11,INDIRECT(\"'\"&Y$5&\"'!A:A\"),INDIRECT(\"'\"&Y$5&\"'!\"&Y$7&\":\"&Y$7))","v":{"$error":"#N/A"}},{"$error":"#N/A"},{"$error":"#N/A"},{"$f":"IF(ISNUMBER(LOOKUP($D11,$A:$A,V:V)),LOOKUP($D11,$A:$A,V:V),AB10)","v":9991.7998050000006},{"$f":"IF(ISNUMBER(LOOKUP($D11,$A:$A,W:W)),LOOKUP($D11,$A:$A,W:W),AC10)","v":0},{"$f":"IF(ISNUMBER(LOOKUP($D11,$A:$A,X:X)),LOOKUP($D11,$A:$A,X:X),AD10)","v":0},{"$f":"IF(ISNUMBER(LOOKUP($D11,$A:$A,Y:Y)),LOOKUP($D11,$A:$A,Y:Y),AE10)","v":0},{"$f":"IF(ISNUMBER(LOOKUP($D11,$A:$A,Z:Z)),LOOKUP($D11,$A:$A,Z:Z),AF10)","v":0},{"$f":"IF(ISNUMBER(LOOKUP($D11,$A:$A,AA:AA)),LOOKUP($D11,$A:$A,AA:AA),AG10)","v":0},{"$f":"IF(AH$7,INDEX($BN11:$BT11,AH$7),1)","v":1},1,1,1,1,1,{"$f":"IFERROR(IF(ISNUMBER(AB11)>0.1,AB11,AN12)*AH11,AN12)","v":9991.7998050000006},{"$f":"IFERROR(IF(ISNUMBER(AC11)>0.1,AC11,AO12)*AI11,AO12)","v":0},{"$f":"IFERROR(IF(ISNUMBER(AD11)>0.1,AD11,AP12)*AJ11,AP12)","v":0},{"$f":"IFERROR(IF(ISNUMBER(AE11)>0.1,AE11,AQ12)*AK11,AQ12)","v":0},{"$f":"IFERROR(IF(ISNUMBER(AF11)>0.1,AF11,AR12)*AL11,AR12)","v":0},{"$f":"IF(ISNUMBER(AG11)>0.1,AG11,AS12)","v":0},{"$f":"J11","v":1.2135044877681666E-2},{"$f":"IF(E11,IFERROR(LN(AN11/AN10),FALSE))","v":5.7999133480116496E-2},{"$f":"IF(E11,IFERROR(LN(AO11/AO10),FALSE))","v":false},{"$f":"IF(E11,IFERROR(LN(AP11/AP10),FALSE))","v":false},{"$f":"IF(E11,IFERROR(LN(AQ11/AQ10),FALSE))","v":false},{"$f":"IF(E11,IFERROR(LN(AR11/AR10),FALSE))","v":false},{"$f":"IF(E11,IFERROR(LN(AS11/AS10),FALSE))","v":false},{"$f":"IFERROR(IF($E11,BA10*AN11/AN10,1),1)","v":1.0597140774465708},{"$f":"IFERROR(IF($E11,BB10*AO11/AO10,1),1)","v":1},{"$f":"IFERROR(IF($E11,BC10*AP11/AP10,1),1)","v":1},{"$f":"IFERROR(IF($E11,BD10*AQ11/AQ10,1),1)","v":1},1,1,{"$f":"IFERROR(LOOKUP($A11,INDIRECT(\"'\"&BN$6&\"'!A:A\"),INDIRECT(\"'\"&BN$6&\"'!\"&BN$7&\":\"&BN$7)),0)","v":12.853},{"$f":"IFERROR(LOOKUP($A11,INDIRECT(\"'\"&BO$6&\"'!A:A\"),INDIRECT(\"'\"&BO$6&\"'!\"&BO$7&\":\"&BO$7)),0)","v":23.61},{"$f":"IFERROR(LOOKUP($A11,INDIRECT(\"'\"&BP$6&\"'!A:A\"),INDIRECT(\"'\"&BP$6&\"'!\"&BP$7&\":\"&BP$7)),0)","v":0},{"$f":"IFERROR(LOOKUP($A11,INDIRECT(\"'\"&BQ$6&\"'!A:A\"),INDIRECT(\"'\"&BQ$6&\"'!\"&BQ$7&\":\"&BQ$7)),0)","v":0},{"$f":"IFERROR(LOOKUP($A11,INDIRECT(\"'\"&BR$6&\"'!A:A\"),INDIRECT(\"'\"&BR$6&\"'!\"&BR$7&\":\"&BR$7)),0)","v":0},{"$f":"IFERROR(LOOKUP($A11,INDIRECT(\"'\"&BS$6&\"'!A:A\"),INDIRECT(\"'\"&BS$6&\"'!\"&BS$7&\":\"&BS$7)),0)","v":0},{"$f":"IFERROR(LOOKUP($A11,INDIRECT(\"'\"&BT$6&\"'!A:A\"),INDIRECT(\"'\"&BT$6&\"'!\"&BT$7&\":\"&BT$7)),0)","v":282.05599999999998},{"$f":"IFERROR(1/IFERROR(LOOKUP($D11,$A:$A,BG:BG)*1,0),1)","v":1.1930326890956813E-2},{"$f":"IFERROR(1/IFERROR(LOOKUP($D11,$A:$A,BH:BH)*1,0),1)","v":5.3561863952865567E-3},{"$f":"IFERROR(LOOKUP($D11,$A:$A,BI:BI)*1,BP10)","v":11.0319},45.32,1.8673,1.2593000000000001,12018.97]
["1950-03-01",{"$f":"IF(B11<=$D$2,EOMONTH(B11,1))","v":"2004-03-31"},{"$f":"IF(C11<=$D$2,C11+7)","v":"2004-01-15"},{"$f":"IF($D$6,C12,B12)","v":"2004-03-31"},{"$f":"AND(D12>=$D$4,D11<=$D$2)","v":true},1126.209961,17.290001,1,1126.209961,{"$f":"IFERROR(LN(I12/I11),FALSE)","v":-1.6494203768324594E-2},{"$f":"IF($E12,(K11*I12/I11),1)","v":0.99565032845185653},"2004-03-31",0.99565032845185653,"2004-03-31",{"$f":"M12","v":0.99565032845185653},{"$f":"IFERROR(CHOOSE($M$1,AN12,AU12,BA12),1)","v":1.115468987275642},{"$f":"IFERROR(CHOOSE($M$1,AO12,AV12,BB12),1)","v":1},{"$f":"IFERROR(CHOOSE($M$1,AP12,AW12,BC12),1)","v":1},{"$f":"IFERROR(CHOOSE($M$1,AQ12,AX12,BD12),1)","v":1},{"$f":"IFERROR(CHOOSE($M$1,AR12,AY12,BE12),1)","v":1},{"$f":"IFERROR(CHOOSE($M$1,AS12,AZ12,BF12),1)","v":1},{"$error":"#N/A"},{"$error":"#N/A"},{"$error":"#N/A"},{"$error":"#N/A"},{"$error":"#N/A"},{"$error":"#N/A"},10517.5,0,0,0,0,0,1,1,1,1,1,1,10517.5,0,0,0,0,0,{"$f":"J12","v":-1.6494203768324594E-2},5.1275799388398956E-2,false,false,false,false,false,{"$f":"IFERROR(IF($E12,BA11*AN12/AN11,1),1)","v":1.115468987275642},{"$f":"IFERROR(IF($E12,BB11*AO12/AO11,1),1)","v":1},{"$f":"IFERROR(IF($E12,BC11*AP12/AP11,1),1)","v":1},{"$f":"IFERROR(IF($E12,BD11*AQ12/AQ11,1),1)","v":1},{"$f":"IFERROR(IF($E12,BE11*AR12/AR11,1),1)","v":1},{"$f":"IFERROR(IF($E12,BF11*AS12/AS11,1),1)","v":1},12.853,23.64,0,0,0,0,282.05599999999998,1.1930326890956813E-2,5.3447354355959384E-3,{"$f":"IFERROR(LOOKUP($D12,$A:$A,BI:BI)*1,BP11)","v":11.019},{"$f":"IFERROR(LOOKUP($D12,$A:$A,BJ:BJ)*1,BQ11)","v":45.32},{"$f":"IFERROR(LOOKUP($D12,$A:$A,BK:BK)*1,BR11)","v":1.8261000000000001},{"$f":"IFERROR(LOOKUP($D12,$A:$A,BL:BL)*1,BS11)","v":1.2703},{"$f":"IFERROR(LOOKUP($D12,$A:$A,BM:BM)*1,BT11)","v":12018.97}]
["1950-04-01","2004-04-30","2004-01-22",{"$f":"IF($D$6,C13,B13)","v":"2004-04-30"},true,1107.3000489999999,18.07,1,1107.3000489999999,-1.6933314613340047E-2,{"$f":"IF($E13,(K12*I13/I12),1)","v":0.97893261084520522},{"$f":"IF(E13,D13,NA())","v":"2004-04-30"},{"$f":"CHOOSE($M$1,I13,J13,K13)","v":0.97893261084520522},{"$f":"L13","v":"2004-04-30"},{"$f":"M13","v":0.97893261084520522},{"$f":"IFERROR(CHOOSE($M$1,AN13,AU13,BA13),1)","v":1.0550825163657296},{"$f":"IFERROR(CHOOSE($M$1,AO13,AV13,BB13),1)","v":1},{"$f":"IFERROR(CHOOSE($M$1,AP13,AW13,BC13),1)","v":1},{"$f":"IFERROR(CHOOSE($M$1,AQ13,AX13,BD13),1)","v":1},{"$f":"IFERROR(CHOOSE($M$1,AR13,AY13,BE13),1)","v":1},{"$f":"IFERROR(CHOOSE($M$1,AS13,AZ13,BF13),1)","v":1},{"$error":"#N/A"},{"$error":"#N/A"},{"$error":"#N/A"},{"$error":"#N/A"},{"$error":"#N/A"},{"$error":"#N/A"},9948.1298829999996,0,0,0,0,0,1,1,1,1,1,1,9948.1298829999996,0,0,0,0,0,{"$f":"J13","v":-1.6933314613340047E-2},-5.5655954434412562E-2,false,false,false,false,false,1.0550825163657296,1,1,1,1,1,12.897,23.65,0,0,0,0,291.69900000000001,1.1833759348669886E-2,5.3361792956243331E-3,11.270099999999999,43.4,1.8030999999999999,1.2626999999999999,12182.397999999999]
["1950-05-01","2004-05-31","2004-01-29","2004-05-31",true,1120.6800539999999,18.780000999999999,1,1120.6800539999999,1.2011028138810899E-2,0.99076149429879201,"2004-05-31",0.99076149429879201,"2004-05-31",0.99076149429879201,1.0644326394873251,1,1,1,1,1,{"$error":"#N/A"},{"$error":"#N/A"},{"$error":"#N/A"},{"$error":"#N/A"},{"$error":"#N/A"},{"$error":"#N/A"},10036.290039,0,0,0,0,0,1,1,1,1,1,1,10036.290039,0,0,0,0,0,1.2011028138810899E-2,8.8229458989588574E-3,false,false,false,false,false,1.0644326394873251,1,1,1,1,1,12.897,23.77,0,0,0,0,291.69900000000001,1.1833759348669886E-2,5.3134962805526037E-3,11.5199,44.52,1.786,1.2984,12182.397999999999]
["1950-06-01","2004-06-30","2004-02-05","2004-06-30",true,1140.839966,17.690000999999999,1,1140.839966,1.7829111261681307E-2,1.0085843015012232,"2004-06-30",1.0085843015012232,"2004-06-30",1.0085843015012232,1.0904731820197038,1,1,1,1,1,{"$error":"#N/A"},{"$error":"#N/A"},{"$error":"#N/A"},{"$error":"#N/A"},{"$error":"#N/A"},{"$error":"#N/A"},10281.820313,0,0,0,0,0,1,1,1,1,1,1,10281.820313,0,0,0,0,0,1.7829111261681307E-2,2.4169789653343932E-2,false,false,false,false,false,1.0904731820197038,1,1,1,1,1,12.897,23.88,0,0,0,0,291.69900000000001,1.1833759348669886E-2,5.2938062466913712E-3,11.3926,45.43,1.8279000000000001,1.2509999999999999,12182.397999999999]
["1950-07-01","2004-07-31","2004-02-12","2004-07-31",true,1101.719971,17.84,1,1101.719971,-3.4892234735206334E-2,0.97399942193205302,"2004-07-31",0.97399942193205302,"2004-07-31",0.97399942193205302,1.0729278740708674,1,1,1,1,1,{"$error":"#N/A"},{"$error":"#N/A"},{"$error":"#N/A"},{"$error":"#N/A"},{"$error":"#N/A"},{"$error":"#N/A"},10116.389648,0,0,0,0,0,1,1,1,1,1,1,10116.389648,0,0,0,0,0,-3.4892234735206334E-2,-1.6220471543208083E-2,false,false,false,false,false,1.0729278740708674,1,1,1,1,1,13.177,24.07,0,0,0,0,309.76,1.1756960120391272E-2,5.2882072977260709E-3,11.4678,45.88,1.8438000000000001,1.2508999999999999,12386.853999999999]
["1950-08-01","2004-08-31","2004-02-19","2004-08-31",true,1104.23999,18.420000000000002,1,1104.23999,2.2847378381895284E-3,0.97622729935450725,"2004-08-31",0.97622729935450725,"2004-08-31",0.97622729935450725,1.0886171604102599,1,1,1,1,1,{"$error":"#N/A"},{"$error":"#N/A"},{"$error":"#N/A"},{"$error":"#N/A"},{"$error":"#N/A"},{"$error":"#N/A"},10264.320313,0,0,0,0,0,1,1,1,1,1,1,10264.320313,0,0,0,0,0,2.2847378381895284E-3,1.4516988193179238E-2,false,false,false,false,false,1.0886171604102599,1,1,1,1,1,13.177,24.2,0,0,0,0,309.76,1.1756960120391272E-2,5.2854122621564482E-3,11.395300000000001,46.4,1.8203,1.2796000000000001,12386.853999999999]
["1950-09-01","2004-09-30","2004-02-26","2004-09-30",true,1114.579956,19.450001,1,1114.579956,9.3203063814545888E-3,0.98536857043236181,"2004-09-30",0.98536857043236181,"2004-09-30",0.98536857043236181,1.162120898275671,1,1,1,1,1,{"$error":"#N/A"},{"$error":"#N/A"},{"$error":"#N/A"},{"$error":"#N/A"},{"$error":"#N/A"},{"$error":"#N/A"},10957.370117,0,0,0,0,0,1,1,1,1,1,1,10957.370117,0,0,0,0,0,9.3203063814545888E-3,6.5338465647716185E-2,false,false,false,false,false,1.162120898275671,1,1,1,1,1,13.177,24.34,0,0,0,0,309.76,1.1756960120391272E-2,5.268703898840885E-3,11.487,46.34,1.7937000000000001,1.2615000000000001,12386.853999999999]
["1950-10-01","2004-10-31","2004-03-04","2004-10-31",true,1130.1999510000001,19.530000999999999,1,1130.1999510000001,1.3916951999808542E-2,0.99917776560086946,"2004-10-31",0.99917776560086946,"2004-10-31",0.99917776560086946,1.2264961584837359,1,1,1,1,1,{"$error":"#N/A"},{"$error":"#N/A"},{"$error":"#N/A"},{"$error":"#N/A"},{"$error":"#N/A"},{"$error":"#N/A"},11564.349609000001,0,0,0,0,0,1,1,1,1,1,1,11564.349609000001,0,0,0,0,0,1.3916951999808542E-2,5.3914756330985358E-2,false,false,false,false,false,1.2264961584837359,1,1,1,1,1,13.425000000000001,24.5,0,0,0,0,321.55399999999997,1.1666977786074294E-2,5.2410901467505235E-3,11.403700000000001,45.85,1.8077000000000001,1.2496,12579.436]
["1950-11-01","2004-11-30","2004-03-11","2004-11-30",true,1173.8199460000001,19.510000000000002,1,1173.8199460000001,3.7868776812645132E-2,1.0377409677148475,"2004-11-30",1.0377409677148475,"2004-11-30",1.0377409677148475,1.2835767981398967,1,1,1,1,1,{"$error":"#N/A"},{"$error":"#N/A"},{"$error":"#N/A"},{"$error":"#N/A"},{"$error":"#N/A"},{"$error":"#N/A"},12102.549805000001,0,0,0,0,0,1,1,1,1,1,1,12102.549805000001,0,0,0,0,0,3.7868776812645132E-2,4.5489101859584012E-2,false,false,false,false,false,1.2835767981398967,1,1,1,1,1,13.425000000000001,24.6,0,0,0,0,321.55399999999997,1.1666977786074294E-2,5.2164840897235268E-3,11.371,45.33,1.8607,1.2028000000000001,12579.436]
["1950-12-01","2004-12-31","2004-03-18","2004-12-31",true,1211.920044,20.41,1,1211.920044,3.1942573502865355E-2,1.071424185233244,"2004-12-31",1.071424185233244,"2004-12-31",1.071424185233244,1.3700493834883187,1,1,1,1,1,{"$error":"#N/A"},{"$error":"#N/A"},{"$error":"#N/A"},{"$error":"#N/A"},{"$error":"#N/A"},{"$error":"#N/A"},12917.879883,0,0,0,0,0,1,1,1,1,1,1,12917.879883,0,0,0,0,0,3.1942573502865355E-2,6.5196231057556439E-2,false,false,false,false,false,1.3700493834883187,1,1,1,1,1,13.425000000000001,24.98,0,0,0,0,321.55399999999997,1.1666977786074294E-2,5.2164840897235268E-3,11.2012,44.3,1.9286000000000001,1.1439999999999999,12579.436]
["1951-01-01","2005-01-31","2004-03-25","2005-01-31",true,1181.2700199999999,21.66,1,1181.2700199999999,-2.561576734361189E-2,1.0443273671269997,"2005-01-31",1.0443273671269997,"2005-01-31",1.0443273671269997,1.3890593119217898,1,1,1,1,1,{"$error":"#N/A"},{"$error":"#N/A"},{"$error":"#N/A"},{"$error":"#N/A"},{"$error":"#N/A"},{"$error":"#N/A"},13097.120117,0,0,0,0,0,1,1,1,1,1,1,13097.120117,0,0,0,0,0,-2.561576734361189E-2,1.3779978495914722E-2,false,false,false,false,false,1.3890593119217898,1,1,1,1,1,13.909000000000001,25.38,0,0,0,0,337.53699999999998,1.1575279832389948E-2,5.2192066805845511E-3,11.262700000000001,43.27,1.8796999999999999,1.1412,12851.097]
["1951-02-01","2005-02-28","2004-04-01","2005-02-28",true,1203.599976,21.799999,1,1203.599976,1.8726898003228021E-2,1.0640686487668585,"2005-02-28",1.0640686487668585,"2005-02-28",1.0640686487668585,1.4624877525813813,1,1,1,1,1,{"$error":"#N/A"},{"$error":"#N/A"},{"$error":"#N/A"},{"$error":"#N/A"},{"$error":"#N/A"},{"$error":"#N/A"},13789.459961,0,0,0,0,0,1,1,1,1,1,1,13789.459961,0,0,0,0,0,1.8726898003228021E-2,5.1512161757347991E-2,false,false,false,false,false,1.4624877525813813,1,1,1,1,1,13.909000000000001,25.83,0,0,0,0,337.53699999999998,1.1575279832389948E-2,5.1975051975051969E-3,11.1373,43.66,1.8871,1.1937,12851.097]
["1951-03-01","2005-03-31","2004-04-08","2005-03-31",true,1180.589966,21.4,1,1180.589966,-1.9302761113509079E-2,1.0437261506470248,"2005-03-31",1.0437261506470248,"2005-03-31",1.0437261506470248,1.344491489512047,1,1,1,1,1,{"$error":"#N/A"},{"$error":"#N/A"},{"$error":"#N/A"},{"$error":"#N/A"},{"$error":"#N/A"},{"$error":"#N/A"},12676.900390999999,0,0,0,0,0,1,1,1,1,1,1,12676.900390999999,0,0,0,0,0,-1.9302761113509079E-2,-8.4123058932174324E-2,false,false,false,false,false,1.344491489512047,1,1,1,1,1,13.909000000000001,25.88,0,0,0,0,337.53699999999998,1.1575279832389948E-2,5.1786639047125844E-3,11.155200000000001,43.58,1.9043000000000001,1.1654,12851.097]
["1951-04-01","2005-04-30","2004-04-15","2005-04-30",true,1156.849976,22.43,1,1156.849976,-2.0313511294501645E-2,1.0227382978846891,"2005-04-30",1.0227382978846891,"2005-04-30",1.0227382978846891,1.3069563524152701,1,1,1,1,1,{"$error":"#N/A"},{"$error":"#N/A"},{"$error":"#N/A"},{"$error":"#N/A"},{"$error":"#N/A"},{"$error":"#N/A"},12322.990234000001,0,0,0,0,0,1,1,1,1,1,1,12322.990234000001,0,0,0,0,0,-2.0313511294501645E-2,-2.8314828013484155E-2,false,false,false,false,false,1.3069563524152701,1,1,1,1,1,14.002000000000001,25.92,0,0,0,0,345.97300000000001,1.1494781369258357E-2,5.1626226122870418E-3,11.1121,43.62,1.8960999999999999,1.2041999999999999,12987.61]
["1951-05-01","2005-05-31","2004-04-22","2005-05-31",true,1191.5,21.52,1,1191.5,2.9512244131097209E-2,1.053371402697429,"2005-05-31",1.053371402697429,"2005-05-31",1.053371402697429,1.374982133710613,1,1,1,1,1,{"$error":"#N/A"},{"$error":"#N/A"},{"$error":"#N/A"},{"$f":"LOOKUP($A26,INDIRECT(\"'\"&Y$5&\"'!A:A\"),INDIRECT(\"'\"&Y$5&\"'!\"&Y$7&\":\"&Y$7))","v":{"$error":"#N/A"}},{"$error":"#N/A"},{"$error":"#N/A"},12964.389648,0,0,0,0,0,1,1,1,1,1,1,12964.389648,0,0,0,0,0,2.9512244131097209E-2,5.0739698529285095E-2,false,false,false,false,false,1.374982133710613,1,1,1,1,1,14.002000000000001,25.99,0,0,0,0,345.97300000000001,1.1494781369258357E-2,5.1652892561983473E-3,10.9764,43.48,1.8559000000000001,1.1898,12987.61]
["1951-06-01","2005-06-30","2004-04-29","2005-06-30",true,1191.329956,20.959999,1,1191.329956,-1.4272441040996393E-4,1.0532210716132491,"2005-06-30",1.0532210716132491,"2005-06-30",1.0532210716132491,1.4303170566063965,1,1,1,1,1,{"$error":"#N/A"},{"$error":"#N/A"},{"$error":"#N/A"},{"$error":"#N/A"},{"$error":"#N/A"},{"$error":"#N/A"},13486.129883,0,0,0,0,0,1,1,1,1,1,1,13486.129883,0,0,0,0,0,-1.4272441040996393E-4,3.9455400233497077E-2,false,false,false,false,false,1.4303170566063965,1,1,1,1,1,14.002000000000001,25.93,0,0,0,0,345.97300000000001,1.1494781369258357E-2,5.1626226122870418E-3,10.819699999999999,43.71,1.8177000000000001,1.2528999999999999,12987.61]
["1951-07-01","2005-07-31","2004-05-06","2005-07-31",true,1234.1800539999999,22.4,1,1234.1800539999999,3.5336532551987196E-2,1.0911036295956094,"2005-07-31",1.0911036295956094,"2005-07-31",1.0911036295956094,1.5282651791014483,1,1,1,1,1,{"$error":"#N/A"},{"$error":"#N/A"},{"$error":"#N/A"},{"$error":"#N/A"},{"$error":"#N/A"},{"$error":"#N/A"},14409.660156,0,0,0,0,0,1,1,1,1,1,1,14409.660156,0,0,0,0,0,3.5336532551987196E-2,6.6237084616628417E-2,false,false,false,false,false,1.5282651791014483,1,1,1,1,1,14.01,25.91,0,0,0,0,353.38099999999997,1.1391727327614686E-2,5.1308363263211903E-3,10.6724,43.45,1.7506999999999999,1.2965,13230.073]
["1951-08-01","2005-08-31","2004-05-13","2005-08-31",true,1220.329956,23.280000999999999,1,1220.329956,-1.1285547781927063E-2,1.0788591502353435,"2005-08-31",1.0788591502353435,"2005-08-31",1.0788591502353435,1.5106096700286389,1,1,1,1,1,{"$error":"#N/A"},{"$error":"#N/A"},{"$error":"#N/A"},{"$error":"#N/A"},{"$error":"#N/A"},{"$error":"#N/A"},14243.190430000001,0,0,0,0,0,1,1,1,1,1,1,14243.190430000001,0,0,0,0,0,-1.1285547781927063E-2,-1.1619897893657407E-2,false,false,false,false,false,1.5106096700286389,1,1,1,1,1,14.01,25.86,0,0,0,0,353.38099999999997,1.1391727327614686E-2,5.0994390617032127E-3,10.686199999999999,43.37,1.7944,1.278,13230.073]
["1951-09-01","2005-09-30","2004-05-20","2005-09-30",true,1228.8100589999999,23.26,1,1228.8100589999999,6.9249914966113208E-3,1.086356169112497,"2005-09-30",1.086356169112497,"2005-09-30",1.086356169112497,1.7096695411845881,1,1,1,1,1,{"$error":"#N/A"},{"$error":"#N/A"},{"$error":"#N/A"},{"$error":"#N/A"},{"$error":"#N/A"},{"$error":"#N/A"},16120.080078000001,0,0,0,0,0,1,1,1,1,1,1,16120.080078000001,0,0,0,0,0,6.9249914966113208E-3,0.1237867767444104,false,false,false,false,false,1.7096695411845881,1,1,1,1,1,14.01,26.03,0,0,0,0,353.38099999999997,1.1391727327614686E-2,5.0301810865191147E-3,10.7858,43.94,1.8064,1.24,13230.073]
["1951-10-01","2005-10-31","2004-05-27","2005-10-31",true,1207.01001,22.940000999999999,1,1207.01001,-1.790003404276953E-2,1.0670833632425829,"2005-10-31",1.0670833632425829,"2005-10-31",1.0670833632425829,1.6714514462555266,1,1,1,1,1,{"$error":"#N/A"},{"$error":"#N/A"},{"$error":"#N/A"},{"$error":"#N/A"},{"$error":"#N/A"},{"$error":"#N/A"},15759.730469,0,0,0,0,0,1,1,1,1,1,1,15759.730469,0,0,0,0,0,-1.790003404276953E-2,-2.2607722621333468E-2,false,false,false,false,false,1.6714514462555266,1,1,1,1,1,14.17,26.16,0,0,0,0,358.33,1.1300839652386171E-2,5.0226017076845809E-3,10.8354,43.94,1.7650999999999999,1.2889999999999999,13389.59]
["1951-11-01","2005-11-30","2004-06-03","2005-11-30",true,1249.4799800000001,22.879999000000002,1,1249.4799800000001,3.4581213385394466E-2,1.1046298608266516,"2005-11-30",1.1046298608266516,"2005-11-30",1.1046298608266516,1.7850644119217249,1,1,1,1,1,{"$error":"#N/A"},{"$error":"#N/A"},{"$error":"#N/A"},{"$error":"#N/A"},{"$error":"#N/A"},{"$error":"#N/A"},16830.960938,0,0,0,0,0,1,1,1,1,1,1,16830.960938,0,0,0,0,0,3.4581213385394466E-2,6.5762121242108229E-2,false,false,false,false,false,1.7850644119217249,1,1,1,1,1,14.17,26.32,0,0,0,0,358.33,1.1300839652386171E-2,5.0479555779909136E-3,10.6715,45.02,1.7349000000000001,1.2903,13389.59]
["1951-12-01","2005-12-31","2004-06-10","2005-12-31",true,1248.290039,23.77,1,1248.290039,-9.5280276484283608E-4,1.1035778676916979,"2005-12-31",1.1035778676916979,"2005-12-31",1.1035778676916979,1.8881266404346895,1,1,1,1,1,{"$error":"#N/A"},{"$error":"#N/A"},{"$error":"#N/A"},{"$error":"#N/A"},{"$error":"#N/A"},{"$error":"#N/A"},17802.710938,0,0,0,0,0,1,1,1,1,1,1,17802.710938,0,0,0,0,0,-9.5280276484283608E-4,5.6130642284445059E-2,false,false,false,false,false,1.8881266404346895,1,1,1,1,1,14.17,26.47,0,0,0,0,358.33,1.1300839652386171E-2,5.0479555779909136E-3,10.6266,45.97,1.7458,1.321,13389.59]
["1952-01-01","2006-01-31","2004-06-17","2006-01-31",true,1280.079956,24.139999,1,1280.079956,2.5147895614926353E-2,1.1316824329136239,"2006-01-31",1.1316824329136239,"2006-01-31",1.1316824329136239,2.005256311211876,1,1,1,1,1,{"$error":"#N/A"},{"$error":"#N/A"},{"$error":"#N/A"},{"$error":"#N/A"},{"$error":"#N/A"},{"$error":"#N/A"},18907.099609000001,0,0,0,0,0,1,1,1,1,1,1,18907.099609000001,0,0,0,0,0,2.5147895614926353E-2,6.0186746628898141E-2,false,false,false,false,false,2.005256311211876,1,1,1,1,1,14.163,26.45,0,0,0,0,361.82100000000003,1.122246288170402E-2,5.0175614651279477E-3,10.542199999999999,44.95,1.7685999999999999,1.3148,13662.717000000001]
["1952-02-01","2006-02-28","2004-06-24","2006-02-28",true,1280.660034,23.26,1,1280.660034,4.5305498581463483E-4,1.1321952634436565,"2006-02-28",1.1321952634436565,"2006-02-28",1.1321952634436565,1.9839619848058827,1,1,1,1,1,{"$error":"#N/A"},{"$error":"#N/A"},{"$error":"#N/A"},{"$error":"#N/A"},{"$error":"#N/A"},{"$error":"#N/A"},18706.320313,0,0,0,0,0,1,1,1,1,1,1,18706.320313,0,0,0,0,0,4.5305498581463483E-4,-1.0676040809126413E-2,false,false,false,false,false,1.9839619848058827,1,1,1,1,1,14.163,26.41,0,0,0,0,361.82100000000003,1.122246288170402E-2,5.0150451354062184E-3,10.4842,44.13,1.748,1.2841,13662.717000000001]
["1952-03-01","2006-03-31","2004-07-01","2006-03-31",true,1294.869995,24.370000999999998,1,1294.869995,1.1034703559257248E-2,1.1447578874896875,"2006-03-31",1.1447578874896875,"2006-03-31",1.1447578874896875,2.0440239625791308,1,1,1,1,1,{"$error":"#N/A"},{"$error":"#N/A"},{"$error":"#N/A"},{"$error":"#N/A"},{"$error":"#N/A"},{"$error":"#N/A"},19272.630859000001,0,0,0,0,0,1,1,1,1,1,1,19272.630859000001,0,0,0,0,0,1.1034703559257248E-2,2.9824547853071183E-2,false,false,false,false,false,2.0440239625791308,1,1,1,1,1,14.163,26.39,0,0,0,0,361.82100000000003,1.122246288170402E-2,5.0075112669003509E-3,10.7493,44.35,1.7442,1.3165,13662.717000000001]
["1952-04-01","2006-04-30","2004-07-08","2006-04-30",true,1310.6099850000001,23.32,1,1310.6099850000001,1.208236609148346E-2,1.1586731668390315,"2006-04-30",1.1586731668390315,"2006-04-30",1.1586731668390315,2.1897013587106193,1,1,1,1,1,{"$error":"#N/A"},{"$error":"#N/A"},{"$error":"#N/A"},{"$error":"#N/A"},{"$error":"#N/A"},{"$error":"#N/A"},20646.189452999999,0,0,0,0,0,1,1,1,1,1,1,20646.189452999999,0,0,0,0,0,1.208236609148346E-2,6.884477299612643E-2,false,false,false,false,false,2.1897013587106193,1,1,1,1,1,14.18,26.46,0,0,0,0,363.04899999999998,1.1129412812180028E-2,4.9825610363726956E-3,11.0489,44.48,1.768,1.3025,13802.956]
["1952-05-01","2006-05-31","2004-07-15","2006-05-31",true,1270.089966,23.860001,1,1270.089966,-3.140492891059625E-2,1.1228505657048675,"2006-05-31",1.1228505657048675,"2006-05-31",1.1228505657048675,1.9809498854108742,1,1,1,1,1,{"$error":"#N/A"},{"$error":"#N/A"},{"$error":"#N/A"},{"$error":"#N/A"},{"$error":"#N/A"},{"$error":"#N/A"},18677.919922000001,0,0,0,0,0,1,1,1,1,1,1,18677.919922000001,0,0,0,0,0,-3.140492891059625E-2,-0.10018869886972273,false,false,false,false,false,1.9809498854108742,1,1,1,1,1,14.18,26.47,0,0,0,0,363.04899999999998,1.1129412812180028E-2,4.9677098857426726E-3,11.0908,44.77,1.8687,1.2385999999999999,13802.956]
["1952-06-01","2006-06-30","2004-07-22","2006-06-30",true,1270.1999510000001,24.959999,1,1270.1999510000001,8.6592478545621289E-5,1.1229478003282209,"2006-06-30",1.1229478003282209,"2006-06-30",1.1229478003282209,2.030717779138385,1,1,1,1,1,{"$error":"#N/A"},{"$error":"#N/A"},{"$error":"#N/A"},{"$error":"#N/A"},{"$error":"#N/A"},{"$error":"#N/A"},19147.169922000001,0,0,0,0,0,1,1,1,1,1,1,19147.169922000001,0,0,0,0,0,8.6592478545621289E-5,2.4812846564978473E-2,false,false,false,false,false,2.030717779138385,1,1,1,1,1,14.18,26.53,0,0,0,0,363.04899999999998,1.1129412812180028E-2,4.9554013875123884E-3,11.3934,46.19,1.8434999999999999,1.2197,13802.956]
["1952-07-01","2006-07-31","2004-07-29","2006-07-31",true,1276.660034,25.4,1,1276.660034,5.0729894005535608E-3,1.1286589767371606,"2006-07-31",1.1286589767371606,"2006-07-31",1.1286589767371606,2.1313417007307685,1,1,1,1,1,{"$error":"#N/A"},{"$error":"#N/A"},{"$error":"#N/A"},{"$error":"#N/A"},{"$error":"#N/A"},{"$error":"#N/A"},20095.929688,0,0,0,0,0,1,1,1,1,1,1,20095.929688,0,0,0,0,0,5.0729894005535608E-3,4.836237152048041E-2,false,false,false,false,false,2.1313417007307685,1,1,1,1,1,14.339,26.68,0,0,0,0,369.68299999999999,1.1052044075551774E-2,4.9285362247412515E-3,10.983000000000001,45.87,1.8443000000000001,1.2246999999999999,13907.106]
["1952-08-01","2006-08-31","2004-08-05","2006-08-31",true,1303.8199460000001,25.030000999999999,1,1303.8199460000001,2.1051056539239044E-2,1.1526702856759596,"2006-08-31",1.1526702856759596,"2006-08-31",1.1526702856759596,2.232459870802201,1,1,1,1,1,{"$error":"#N/A"},{"$error":"#N/A"},{"$error":"#N/A"},{"$error":"#N/A"},{"$error":"#N/A"},{"$error":"#N/A"},21049.349609000001,0,0,0,0,0,1,1,1,1,1,1,21049.349609000001,0,0,0,0,0,2.1051056539239044E-2,4.6352370742440717E-2,false,false,false,false,false,2.232459870802201,1,1,1,1,1,14.339,26.69,0,0,0,0,369.68299999999999,1.1052044075551774E-2,4.9067713444553478E-3,10.8735,46.51,1.8940999999999999,1.2317,13907.106]
["1952-09-01","2006-09-30","2004-08-12","2006-09-30",true,1335.849976,24.540001,1,1335.849976,2.4269399645975777E-2,1.1809871280003748,"2006-09-30",1.1809871280003748,"2006-09-30",1.1809871280003748,2.3266142313559524,1,1,1,1,1,{"$error":"#N/A"},{"$error":"#N/A"},{"$error":"#N/A"},{"$error":"#N/A"},{"$error":"#N/A"},{"$error":"#N/A"},21937.109375,0,0,0,0,0,1,1,1,1,1,1,21937.109375,0,0,0,0,0,2.4269399645975777E-2,4.1310032583369335E-2,false,false,false,false,false,2.3266142313559524,1,1,1,1,1,14.339,26.63,0,0,0,0,369.68299999999999,1.1052044075551774E-2,4.9309664694280079E-3,10.988799999999999,46.38,1.8838999999999999,1.2307999999999999,13907.106]
["1952-10-01","2006-10-31","2004-08-19","2006-10-31",true,1377.9399410000001,24.52,1,1377.9399410000001,3.1021812065774996E-2,1.218197673926968,"2006-10-31",1.218197673926968,"2006-10-31",1.218197673926968,2.4443220446979854,1,1,1,1,1,{"$error":"#N/A"},{"$error":"#N/A"},{"$error":"#N/A"},{"$error":"#N/A"},{"$error":"#N/A"},{"$error":"#N/A"},23046.949218999998,0,0,0,0,0,1,1,1,1,1,1,23046.949218999998,0,0,0,0,0,3.1021812065774996E-2,4.935371095914854E-2,false,false,false,false,false,2.4443220446979854,1,1,1,1,1,14.378,26.69,0,0,0,0,382.75099999999998,1.1011396795683533E-2,4.9529470034670627E-3,10.885400000000001,45.95,1.8765000000000001,1.2504,14087.456]
["1952-11-01","2006-11-30","2004-08-26","2006-11-30",true,1400.630005,25.66,1,1400.630005,1.6332551509721831E-2,1.2382573168501525,"2006-11-30",1.2382573168501525,"2006-11-30",1.2382573168501525,2.6474302594765571,1,1,1,1,1,{"$error":"#N/A"},{"$error":"#N/A"},{"$error":"#N/A"},{"$error":"#N/A"},{"$error":"#N/A"},{"$error":"#N/A"},24962.009765999999,0,0,0,0,0,1,1,1,1,1,1,24962.009765999999,0,0,0,0,0,1.6332551509721831E-2,7.9821653971968567E-2,false,false,false,false,false,2.6474302594765571,1,1,1,1,1,14.378,26.69,0,0,0,0,382.75099999999998,1.1011396795683533E-2,4.9504950495049506E-3,10.9133,44.79,1.9125000000000001,1.2433000000000001,14087.456]
["1952-12-01","2006-12-31","2004-09-02","2006-12-31",true,1418.3000489999999,26.57,1,1418.3000489999999,1.2536866895427328E-2,1.2538789022752512,"2006-12-31",1.2538789022752512,"2006-12-31",1.2538789022752512,2.8050659448237591,1,1,1,1,1,{"$error":"#N/A"},{"$error":"#N/A"},{"$error":"#N/A"},{"$error":"#N/A"},{"$error":"#N/A"},{"$error":"#N/A"},26448.320313,0,0,0,0,0,1,1,1,1,1,1,26448.320313,0,0,0,0,0,1.2536866895427328E-2,5.7837592322562373E-2,false,false,false,false,false,2.8050659448237591,1,1,1,1,1,14.378,26.71,0,0,0,0,382.75099999999998,1.1011396795683533E-2,4.9236829148202859E-3,10.8546,44.5,1.9629000000000001,1.1947000000000001,14087.456]
["1953-01-01","2007-01-31","2004-09-09","2007-01-31",true,1438.23999,26.379999000000002,1,1438.23999,1.396113102318236E-2,1.2715072393469038,"2007-01-31",1.2715072393469038,"2007-01-31",1.2715072393469038,2.9231269407299703,1,1,1,1,1,{"$error":"#N/A"},{"$error":"#N/A"},{"$error":"#N/A"},{"$error":"#N/A"},{"$error":"#N/A"},{"$error":"#N/A"},27561.490234000001,0,0,0,0,0,1,1,1,1,1,1,27561.490234000001,0,0,0,0,0,1.396113102318236E-2,4.1226864981409962E-2,false,false,false,false,false,2.9231269407299703,1,1,1,1,1,14.381,26.64,0,0,0,0,389.88799999999998,1.0904174117852314E-2,4.915526674105497E-3,10.9559,44.5,1.9587000000000001,1.1947000000000001,14260.826999999999]
["1953-02-01","2007-02-28","2004-09-16","2007-02-28",true,1406.8199460000001,25.9,1,1406.8199460000001,-2.2088337095889421E-2,1.2437296683682257,"2007-02-28",1.2437296683682257,"2007-02-28",1.2437296683682257,2.8252837373335078,1,1,1,1,1,{"$error":"#N/A"},{"$error":"#N/A"},{"$error":"#N/A"},{"$error":"#N/A"},{"$error":"#N/A"},{"$error":"#N/A"},26638.949218999998,0,0,0,0,0,1,1,1,1,1,1,26638.949218999998,0,0,0,0,0,-2.2088337095889421E-2,-3.404511587180193E-2,false,false,false,false,false,2.8252837373335078,1,1,1,1,1,14.381,26.59,0,0,0,0,389.88799999999998,1.0904174117852314E-2,4.8965361902989822E-3,10.995100000000001,44.01,1.9589000000000001,1.2426999999999999,14260.826999999999]
["1953-03-01","2007-03-31","2004-09-23","2007-03-31",true,1420.8599850000001,25.290001,1,1420.8599850000001,9.9305117427416559E-3,1.2561420691868213,"2007-03-31",1.2561420691868213,"2007-03-31",1.2561420691868213,3.0489333055053529,1,1,1,1,1,{"$error":"#N/A"},{"$error":"#N/A"},{"$error":"#N/A"},{"$error":"#N/A"},{"$error":"#N/A"},{"$error":"#N/A"},28747.689452999999,0,0,0,0,0,1,1,1,1,1,1,28747.689452999999,0,0,0,0,0,9.9305117427416559E-3,7.6182995998564429E-2,false,false,false,false,false,3.0489333055053529,1,1,1,1,1,14.381,26.63,0,0,0,0,389.88799999999998,1.0904174117852314E-2,4.8712053310471142E-3,11.1144,44.11,1.9474,1.2225999999999999,14260.826999999999]
["1953-04-01","2007-04-30","2004-09-30","2007-04-30",true,1482.369995,24.620000999999998,1,1482.369995,4.2379843421614979E-2,1.3105213268566769,"2007-04-30",1.3105213268566769,"2007-04-30",1.3105213268566769,3.0753441202125384,1,1,1,1,1,{"$error":"#N/A"},{"$error":"#N/A"},{"$error":"#N/A"},{"$error":"#N/A"},{"$error":"#N/A"},{"$error":"#N/A"},28996.710938,0,0,0,0,0,1,1,1,1,1,1,28996.710938,0,0,0,0,0,4.2379843421614979E-2,8.6250104617694653E-3,false,false,false,false,false,3.0753441202125384,1,1,1,1,1,14.409000000000001,26.69,0,0,0,0,393.80099999999999,1.0834118806946836E-2,4.8566322169554749E-3,10.9802,43.1,1.9879,1.2125999999999999,14456.794]
["1953-05-01","2007-05-31","2004-10-07","2007-05-31",true,1530.619995,24.540001,1,1530.619995,3.2030723854388307E-2,1.3531777852537823,"2007-05-31",1.3531777852537823,"2007-05-31",1.3531777852537823,3.3301228580003124,1,1,1,1,1,{"$error":"#N/A"},{"$error":"#N/A"},{"$error":"#N/A"},{"$error":"#N/A"},{"$error":"#N/A"},{"$error":"#N/A"},31398.960938,0,0,0,0,0,1,1,1,1,1,1,31398.960938,0,0,0,0,0,3.2030723854388307E-2,7.9592393596820257E-2,false,false,false,false,false,3.3301228580003124,1,1,1,1,1,14.409000000000001,26.7,0,0,0,0,393.80099999999999,1.0834118806946836E-2,4.8366424028439461E-3,10.822100000000001,41,1.9842,1.2151000000000001,14456.794]
["1953-06-01","2007-06-30","2004-10-14","2007-06-30",true,1503.349976,24.139999,1,1503.349976,-1.7976943517687454E-2,1.3290691338348855,"2007-06-30",1.3290691338348855,"2007-06-30",1.3290691338348855,3.30382990893788,1,1,1,1,1,{"$error":"#N/A"},{"$error":"#N/A"},{"$error":"#N/A"},{"$error":"#N/A"},{"$error":"#N/A"},{"$error":"#N/A"},31151.050781000002,0,0,0,0,0,1,1,1,1,1,1,31151.050781000002,0,0,0,0,0,-1.7976943517687454E-2,-7.9268236182676224E-3,false,false,false,false,false,3.30382990893788,1,1,1,1,1,14.409000000000001,26.77,0,0,0,0,393.80099999999999,1.0834118806946836E-2,4.825463003175154E-3,10.833,40.270000000000003,1.9866999999999999,1.2299,14456.794]
["1953-07-01","2007-07-31","2004-10-21","2007-07-31",true,1455.2700199999999,24.75,1,1455.2700199999999,-3.2504471133686229E-2,1.28656300652196,"2007-07-31",1.28656300652196,"2007-07-31",1.28656300652196,3.2517138164419928,1,1,1,1,1,{"$error":"#N/A"},{"$error":"#N/A"},{"$error":"#N/A"},{"$error":"#N/A"},{"$error":"#N/A"},{"$error":"#N/A"},30659.660156000002,0,0,0,0,0,1,1,1,1,1,1,30659.660156000002,0,0,0,0,0,-3.2504471133686229E-2,-1.5900188498873261E-2,false,false,false,false,false,3.2517138164419928,1,1,1,1,1,14.47,26.79,0,0,0,0,392.98,1.0778649650771752E-2,4.8168860758274201E-3,10.8146,40.58,2.0354999999999999,1.224,14666.605]
["1953-08-01","2007-08-31","2004-10-28","2007-08-31",true,1473.98999,23.32,1,1473.98999,1.2781538537818309E-2,1.3031128017862101,"2007-08-31",1.3031128017862101,"2007-08-31",1.3031128017862101,3.2186447314489977,1,1,1,1,1,{"$error":"#N/A"},{"$error":"#N/A"},{"$error":"#N/A"},{"$error":"#N/A"},{"$error":"#N/A"},{"$error":"#N/A"},30347.859375,0,0,0,0,0,1,1,1,1,1,1,30347.859375,0,0,0,0,0,1.2781538537818309E-2,-1.0221805386470524E-2,false,false,false,false,false,3.2186447314489977,1,1,1,1,1,14.47,26.85,0,0,0,0,392.98,1.0778649650771752E-2,4.8154015804147982E-3,11.043799999999999,40.25,2.0110000000000001,1.2013,14666.605]
["1953-09-01","2007-09-30","2004-11-04","2007-09-30",true,1526.75,23.35,1,1526.75,3.5168290421797546E-2,1.3497564322856062,"2007-09-30",1.3497564322856062,"2007-09-30",1.3497564322856062,3.2131647033466963,1,1,1,1,1,{"$error":"#N/A"},{"$error":"#N/A"},{"$error":"#N/A"},{"$error":"#N/A"},{"$error":"#N/A"},{"$error":"#N/A"},30296.189452999999,0,0,0,0,0,1,1,1,1,1,1,30296.189452999999,0,0,0,0,0,3.5168290421797546E-2,-1.7040397368454088E-3,false,false,false,false,false,3.2131647033466963,1,1,1,1,1,14.47,26.89,0,0,0,0,392.98,1.0778649650771752E-2,4.7950821637328753E-3,11.0319,40.630000000000003,2.0184000000000002,1.2071000000000001,14666.605]
["1953-10-01","2007-10-31","2004-11-11","2007-10-31",true,1549.380005,24.540001,1,1549.380005,1.4713561015805812E-2,1.3697629787479644,"2007-10-31",1.3697629787479644,"2007-10-31",1.3697629787479644,3.3364554959764225,1,1,1,1,1,{"$error":"#N/A"},{"$error":"#N/A"},{"$error":"#N/A"},{"$error":"#N/A"},{"$error":"#N/A"},{"$error":"#N/A"},31458.669922000001,0,0,0,0,0,1,1,1,1,1,1,31458.669922000001,0,0,0,0,0,1.4713561015805812E-2,3.7652674371394579E-2,false,false,false,false,false,3.3364554959764225,1,1,1,1,1,14.497,26.95,0,0,0,0,387.798,1.073594932631918E-2,4.7803432286438168E-3,10.821400000000001,39.700000000000003,2.0449000000000002,1.1682999999999999,14859.307000000001]
["1953-11-01","2007-11-30","2004-11-18","2007-11-30",true,1481.1400149999999,24.76,1,1481.1400149999999,-4.5042782469179185E-2,1.3094339363758631,"2007-11-30",1.3094339363758631,"2007-11-30",1.3094339363758631,3.1574130042228932,1,1,1,1,1,{"$error":"#N/A"},{"$error":"#N/A"},{"$error":"#N/A"},{"$error":"#N/A"},{"$error":"#N/A"},{"$error":"#N/A"},29770.519531000002,0,0,0,0,0,1,1,1,1,1,1,29770.519531000002,0,0,0,0,0,-4.5042782469179185E-2,-5.5155991980921616E-2,false,false,false,false,false,3.1574130042228932,1,1,1,1,1,14.497,26.85,0,0,0,0,387.798,1.073594932631918E-2,4.7430680061090712E-3,10.8811,39.22,2.0701000000000001,1.1591,14859.307000000001]
["1953-12-01","2007-12-31","2004-11-25","2007-12-31",true,1468.3599850000001,24.809999000000001,1,1468.3599850000001,-8.6659501476144991E-3,1.298135473826459,"2007-12-31",1.298135473826459,"2007-12-31",1.298135473826459,3.1326282799562031,1,1,1,1,1,{"$error":"#N/A"},{"$error":"#N/A"},{"$error":"#N/A"},{"$error":"#N/A"},{"$error":"#N/A"},{"$error":"#N/A"},29536.830077999999,0,0,0,0,0,1,1,1,1,1,1,29536.830077999999,0,0,0,0,0,-8.6659501476144991E-3,-7.8806645037162344E-3,false,false,false,false,false,3.1326282799562031,1,1,1,1,1,14.497,26.87,0,0,0,0,387.798,1.073594932631918E-2,4.729362245501194E-3,10.846299999999999,39.520000000000003,2.0160999999999998,1.1287,14859.307000000001]
["1954-01-01","2008-01-31","2004-12-02","2008-01-31",true,1378.5500489999999,26.08,1,1378.5500489999999,-6.3113863842205242E-2,1.2187370531294497,"2008-01-31",1.2187370531294497,"2008-01-31",1.2187370531294497,3.0538068122602819,1,1,1,1,1,{"$error":"#N/A"},{"$error":"#N/A"},{"$error":"#N/A"},{"$error":"#N/A"},{"$error":"#N/A"},{"$error":"#N/A"},28793.640625,0,0,0,0,0,1,1,1,1,1,1,{"$f":"IFERROR(IF(ISNUMBER(AB58)>0.1,AB58,AN59)*AH58,AN59)","v":28793.640625},0,0,0,0,0,-6.3113863842205242E-2,-2.5483410739008602E-2,false,false,false,false,false,3.0538068122602819,1,1,1,1,1,14.542999999999999,26.94,0,0,0,0,387.34500000000003,1.0696445571136711E-2,4.7131128224947444E-3,10.9057,39.520000000000003,1.9702,1.1287,14812.718999999999]
["1954-02-01","2008-02-29","2004-12-09","2008-02-29",true,1330.630005,26.15,1,1330.630005,-3.5379739629056911E-2,1.1763722994864767,"2008-02-29",1.1763722994864767,"2008-02-29",1.1763722994864767,3.067051266437407,1,1,1,1,1,{"$error":"#N/A"},{"$error":"#N/A"},{"$error":"#N/A"},{"$error":"#N/A"},{"$error":"#N/A"},{"$error":"#N/A"},28918.519531000002,0,0,0,0,0,1,1,1,1,1,1,28918.519531000002,0,0,0,0,0,-3.5379739629056911E-2,4.3276529786018042E-3,false,false,false,false,false,3.067051266437407,1,1,1,1,1,14.542999999999999,26.99,0,0,0,0,387.34500000000003,1.0696445571136711E-2,4.7017448175017745E-3,10.767899999999999,39.119999999999997,1.9645999999999999,1.0821000000000001,14812.718999999999]
["1954-03-01","2008-03-31","2004-12-16","2008-03-31",true,1322.6999510000001,26.940000999999999,1,1322.6999510000001,-5.9774530444303862E-3,1.1693615633509784,"2008-03-31",1.1693615633509784,"2008-03-31",1.1693615633509784,3.2785815935328526,1,1,1,1,1,{"$error":"#N/A"},{"$error":"#N/A"},{"$error":"#N/A"},{"$error":"#N/A"},{"$error":"#N/A"},{"$error":"#N/A"},30912.990234000001,0,0,0,0,0,1,1,1,1,1,1,30912.990234000001,0,0,0,0,0,-5.9774530444303862E-3,6.6694287378342529E-2,false,false,false,false,false,3.2785815935328526,1,1,1,1,1,14.542999999999999,26.93,0,0,0,0,387.34500000000003,1.0696445571136711E-2,4.6849818222705298E-3,10.732799999999999,39.96,2.0015000000000001,1.0435000000000001,14812.718999999999]
["1954-04-01","2008-04-30","2004-12-23","2008-04-30",true,1385.589966,28.26,1,1385.589966,4.645095216721086E-2,1.2249608443549334,"2008-04-30",1.2249608443549334,"2008-04-30",1.2249608443549334,3.2115972350835889,1,1,1,1,1,{"$error":"#N/A"},{"$error":"#N/A"},{"$error":"#N/A"},{"$error":"#N/A"},{"$error":"#N/A"},{"$error":"#N/A"},30281.410156000002,0,0,0,0,0,1,1,1,1,1,1,30281.410156000002,0,0,0,0,0,4.645095216721086E-2,-2.0642493457936503E-2,false,false,false,false,false,3.2115972350835889,1,1,1,1,1,14.555999999999999,26.86,0,0,0,0,388.11900000000003,1.0639429726566656E-2,4.6741640257639923E-3,10.5146,39.880000000000003,1.9816,1.0107999999999999,14971.514999999999]
["1954-05-01","2008-05-31","2004-12-30","2008-05-31",true,1400.380005,29.190000999999999,1,1400.380005,1.0617614761393173E-2,1.238036298930997,"2008-05-31",1.238036298930997,"2008-05-31",1.238036298930997,3.3912665483943285,1,1,1,1,1,{"$error":"#N/A"},{"$error":"#N/A"},{"$error":"#N/A"},{"$error":"#N/A"},{"$error":"#N/A"},{"$error":"#N/A"},31975.470702999999,0,0,0,0,0,1,1,1,1,1,1,31975.470702999999,0,0,0,0,0,1.0617614761393173E-2,5.4435070299575734E-2,false,false,false,false,false,3.3912665483943285,1,1,1,1,1,14.555999999999999,26.93,0,0,0,0,388.11900000000003,1.0639429726566656E-2,4.6466674101334525E-3,10.4381,40.58,1.9650000000000001,1.0478000000000001,14971.514999999999]
["1954-06-01","2008-06-30","2005-01-06","2008-06-30",true,1280,29.209999,1,1280,-8.9883554001504828E-2,1.1316117460786481,"2008-06-30",1.1316117460786481,"2008-06-30",1.1316117460786481,3.117638005399666,1,1,1,1,1,{"$error":"#N/A"},{"$error":"#N/A"},{"$error":"#N/A"},{"$error":"#N/A"},{"$error":"#N/A"},{"$error":"#N/A"},29395.490234000001,0,0,0,0,0,1,1,1,1,1,1,29395.490234000001,0,0,0,0,0,-8.9883554001504828E-2,-8.4127799148757038E-2,false,false,false,false,false,3.117638005399666,1,1,1,1,1,14.555999999999999,26.94,0,0,0,0,388.11900000000003,1.0639429726566656E-2,4.5984834201680284E-3,10.3269,42.15,1.9663999999999999,1.0426,14971.514999999999]
["1954-07-01","2008-07-31","2005-01-13","2008-07-31",true,1267.380005,30.879999000000002,1,1267.380005,-9.9082965413096608E-3,1.1204547659400124,"2008-07-31",1.1204547659400124,"2008-07-31",1.1204547659400124,2.9167135160724702,1,1,1,1,1,{"$error":"#N/A"},{"$error":"#N/A"},{"$error":"#N/A"},{"$error":"#N/A"},{"$error":"#N/A"},{"$error":"#N/A"},27501.019531000002,0,0,0,0,0,1,1,1,1,1,1,27501.019531000002,0,0,0,0,0,-9.9082965413096608E-3,-6.6618191337451671E-2,false,false,false,false,false,2.9167135160724702,1,1,1,1,1,14.574999999999999,26.86,0,0,0,0,393.03399999999999,1.0560777273207308E-2,4.5658764656463452E-3,10.2094,43.23,1.9887999999999999,1.0183,15020.055]
["1954-08-01","2008-08-31","2005-01-20","2008-08-31",true,1282.829956,29.83,1,1282.829956,1.2116759216399294E-2,1.1341136300243402,"2008-08-31",1.1341136300243402,"2008-08-31",1.1341136300243402,2.7883797718843604,1,1,1,1,1,{"$error":"#N/A"},{"$error":"#N/A"},{"$error":"#N/A"},{"$error":"#N/A"},{"$error":"#N/A"},{"$error":"#N/A"},26290.990234000001,0,0,0,0,0,1,1,1,1,1,1,26290.990234000001,0,0,0,0,0,1.2116759216399294E-2,-4.4996774002913097E-2,false,false,false,false,false,2.7883797718843604,1,1,1,1,1,14.574999999999999,26.85,0,0,0,0,393.03399999999999,1.0560777273207308E-2,4.5726827929946498E-3,10.115399999999999,42.26,1.8865000000000001,1.048,15020.055]
["1954-09-01","2008-09-30","2005-01-27","2008-09-30",true,1166.3599850000001,32.310001,1,1166.3599850000001,-9.5180765335731526E-2,1.0311458274860279,"2008-09-30",1.0311458274860279,"2008-09-30",1.0311458274860279,2.6396763977706761,1,1,1,1,1,{"$error":"#N/A"},{"$error":"#N/A"},{"$error":"#N/A"},{"$f":"LOOKUP($A66,INDIRECT(\"'\"&Y$5&\"'!A:A\"),INDIRECT(\"'\"&Y$5&\"'!\"&Y$7&\":\"&Y$7))","v":{"$error":"#N/A"}},{"$error":"#N/A"},{"$error":"#N/A"},24888.900390999999,0,0,0,0,0,{"$f":"IF(AH$7,INDEX($BN66:$BT66,AH$7),1)","v":1},1,1,1,1,1,24888.900390999999,0,0,0,0,0,-9.5180765335731526E-2,-5.4804367179833106E-2,false,false,false,false,false,2.6396763977706761,1,1,1,1,1,14.574999999999999,26.81,0,0,0,0,393.03399999999999,1.0560777273207308E-2,4.5687760705784529E-3,10.6633,42.26,1.7972999999999999,1.048,15020.055]
["1954-10-01","2008-10-31","2005-02-03","2008-10-31",true,968.75,31.68,1,968.75,-0.18563647358546415,0.85644443672944548,"2008-10-31",0.85644443672944548,"2008-10-31",0.85644443672944548,2.1683975035957417,1,1,1,1,1,{"$error":"#N/A"},{"$error":"#N/A"},{"$error":"#N/A"},{"$error":"#N/A"},{"$error":"#N/A"},{"$error":"#N/A"},20445.320313,0,0,0,0,0,1,1,1,1,1,1,20445.320313,0,0,0,0,0,-0.18563647358546415,-0.19666791590526755,false,false,false,false,false,2.1683975035957417,1,1,1,1,1,14.615,26.72,0,0,0,0,402.077,1.0527867264649526E-2,4.6084011152330694E-3,12.6593,46.47,1.6861999999999999,1.1209,14665.523999999999]
["1954-11-01","2008-11-30","2005-02-10","2008-11-30",true,896.23999000000003,34.240001999999997,1,896.23999000000003,-7.7798357574814583E-2,0.79234039061672668,"2008-11-30",0.79234039061672668,"2008-11-30",0.79234039061672668,2.1778791639233241,1,1,1,1,1,{"$error":"#N/A"},{"$error":"#N/A"},{"$error":"#N/A"},{"$error":"#N/A"},{"$error":"#N/A"},{"$error":"#N/A"},20534.720702999999,0,0,0,0,0,1,1,1,1,1,1,20534.720702999999,0,0,0,0,0,-7.7798357574814583E-2,4.3631255415439432E-3,false,false,false,false,false,2.1778791639233241,1,1,1,1,1,14.615,26.78,0,0,0,0,402.077,1.0527867264649526E-2,4.6914657546457241E-3,13.118600000000001,49.4,1.5327,1.1669,14665.523999999999]
["1954-12-01","2008-12-31","2005-02-17","2008-12-31",true,903.25,35.979999999999997,1,903.25,7.7911469350072987E-3,0.79853774191057725,"2008-12-31",0.79853774191057725,"2008-12-31",0.79853774191057725,2.3736204644113696,1,1,1,1,1,{"$error":"#N/A"},{"$error":"#N/A"},{"$error":"#N/A"},{"$error":"#N/A"},{"$error":"#N/A"},{"$error":"#N/A"},22380.320313,0,0,0,0,0,1,1,1,1,1,1,22380.320313,0,0,0,0,0,7.7911469350072987E-3,8.6064868954461929E-2,false,false,false,false,false,2.3736204644113696,1,1,1,1,1,14.615,26.77,0,0,0,0,402.077,1.0527867264649526E-2,4.7304137219841245E-3,13.416700000000001,49.94,1.4854000000000001,1.2076,14665.523999999999]
["1955-01-01","2009-01-31","2005-02-24","2009-01-31",true,825.88000499999998,36.630001,1,825.88000499999998,-8.9549879456922679E-2,0.73013712071054104,"2009-01-31",0.73013712071054104,"2009-01-31",0.73013712071054104,2.0750470738173772,1,1,1,1,1,{"$error":"#N/A"},{"$error":"#N/A"},{"$error":"#N/A"},{"$error":"#N/A"},{"$error":"#N/A"},{"$error":"#N/A"},19565.140625,0,0,0,0,0,1,1,1,1,1,1,19565.140625,0,0,0,0,0,-8.9549879456922679E-2,-0.13443257203143749,false,false,false,false,false,2.0750470738173772,1,1,1,1,1,14.683,26.77,0,0,0,0,415.49599999999998,1.0528975741239892E-2,4.7184723473928086E-3,13.883900000000001,49.94,1.4461999999999999,1.2076,14511.592000000001]
["1955-02-01","2009-02-28","2005-03-03","2009-02-28",true,735.09002699999996,36.759998000000003,1,735.09002699999996,-0.11645651314446717,0.64987227263943004,"2009-02-28",0.64987227263943004,"2009-02-28",0.64987227263943004,1.882767378037421,1,1,1,1,1,{"$error":"#N/A"},{"$error":"#N/A"},{"$error":"#N/A"},{"$error":"#N/A"},{"$error":"#N/A"},{"$error":"#N/A"},17752.179688,0,0,0,0,0,1,1,1,1,1,1,17752.179688,0,0,0,0,0,-0.11645651314446717,-9.7241135510258536E-2,false,false,false,false,false,1.882767378037421,1,1,1,1,1,14.683,26.82,0,0,0,0,415.49599999999998,1.0528975741239892E-2,4.7013469358971344E-3,14.6066,48.83,1.4421999999999999,1.1612,14511.592000000001]
["1955-03-01","2009-03-31","2005-03-10","2009-03-31",true,797.86999500000002,36.580002,1,797.86999500000002,8.1952693217763314E-2,0.70537426420758764,"2009-03-31",0.70537426420758764,"2009-03-31",0.70537426420758764,2.0815812641799094,1,1,1,1,1,{"$error":"#N/A"},{"$error":"#N/A"},{"$error":"#N/A"},{"$error":"#N/A"},{"$error":"#N/A"},{"$error":"#N/A"},19626.75,0,0,0,0,0,1,1,1,1,1,1,19626.75,0,0,0,0,0,8.1952693217763314E-2,0.10038512396126162,false,false,false,false,false,2.0815812641799094,1,1,1,1,1,14.683,26.79,0,0,0,0,415.49599999999998,1.0528975741239892E-2,4.7059930821901691E-3,14.646599999999999,50.88,1.417,1.1672,14511.592000000001]
["1955-04-01","2009-04-30","2005-03-17","2009-04-30",true,872.80999799999995,37.959999000000003,1,872.80999799999995,8.9772218896205111E-2,0.77162659830600089,"2009-04-30",0.77162659830600089,"2009-04-30",0.77162659830600089,2.3225564626434805,1,1,1,1,1,{"$error":"#N/A"},{"$error":"#N/A"},{"$error":"#N/A"},{"$error":"#N/A"},{"$error":"#N/A"},{"$error":"#N/A"},21898.849609000001,0,0,0,0,0,1,1,1,1,1,1,21898.849609000001,0,0,0,0,0,8.9772218896205111E-2,0.10954067450592815,false,false,false,false,false,2.3225564626434805,1,1,1,1,1,14.744,26.79,0,0,0,0,423.93,1.0544296589974484E-2,4.7012585269076528E-3,13.403499999999999,50.48,1.4712000000000001,1.1465000000000001,14468.341]
["1955-05-01","2009-05-31","2005-03-24","2009-05-31",true,919.14001499999995,37.909999999999997,1,919.14001499999995,5.1720577031934709E-2,0.81258565411320671,"2009-05-31",0.81258565411320671,"2009-05-31",0.81258565411320671,2.5805817883236992,1,1,1,1,1,{"$error":"#N/A"},{"$error":"#N/A"},{"$error":"#N/A"},{"$error":"#N/A"},{"$error":"#N/A"},{"$error":"#N/A"},24331.710938,0,0,0,0,0,1,1,1,1,1,1,24331.710938,0,0,0,0,0,5.1720577031934709E-2,0.10534637030332573,false,false,false,false,false,2.5805817883236992,1,1,1,1,1,14.744,26.77,0,0,0,0,423.93,1.0544296589974484E-2,4.6943508182253476E-3,13.189500000000001,49.65,1.5418000000000001,1.1364000000000001,14468.341]
["1955-06-01",{"$f":"IF(B74<=$D$2,EOMONTH(B74,1))","v":"2009-06-30"},"2005-03-31","2009-06-30",true,{"$f":"LOOKUP(D75,A:A,G:G)","v":919.32000700000003},{"$f":"IFERROR(LOOKUP($A75,INDIRECT(\"'\"&G$7&\"'!A:A\"),INDIRECT(\"'\"&G$7&\"'!\"&$G$9&\":\"&$G$9)),0)","v":41.029998999999997},{"$f":"IF(H$8,INDEX($BN75:$BT75,H$8),1)","v":1},{"$f":"IF(ISNUMBER(F75),F75,I76)*H75","v":919.32000700000003},1.9580735879086813E-4,0.81274477994242567,"2009-06-30",0.81274477994242567,"2009-06-30",0.81274477994242567,2.5844709406547044,1,1,1,1,1,{"$f":"LOOKUP($A75,INDIRECT(\"'\"&V$5&\"'!A:A\"),INDIRECT(\"'\"&V$5&\"'!\"&V$7&\":\"&V$7))","v":{"$error":"#N/A"}},{"$error":"#N/A"},{"$error":"#N/A"},{"$error":"#N/A"},{"$error":"#N/A"},{"$error":"#N/A"},{"$f":"IF(ISNUMBER(LOOKUP($D75,$A:$A,V:V)),LOOKUP($D75,$A:$A,V:V),AB74)","v":24368.380859000001},{"$f":"IF(ISNUMBER(LOOKUP($D75,$A:$A,W:W)),LOOKUP($D75,$A:$A,W:W),AC74)","v":0},{"$f":"IF(ISNUMBER(LOOKUP($D75,$A:$A,X:X)),LOOKUP($D75,$A:$A,X:X),AD74)","v":0},{"$f":"IF(ISNUMBER(LOOKUP($D75,$A:$A,Y:Y)),LOOKUP($D75,$A:$A,Y:Y),AE74)","v":0},{"$f":"IF(ISNUMBER(LOOKUP($D75,$A:$A,Z:Z)),LOOKUP($D75,$A:$A,Z:Z),AF74)","v":0},{"$f":"IF(ISNUMBER(LOOKUP($D75,$A:$A,AA:AA)),LOOKUP($D75,$A:$A,AA:AA),AG74)","v":0},1,1,1,1,1,1,{"$f":"IFERROR(IF(ISNUMBER(AB75)>0.1,AB75,AN76)*AH75,AN76)","v":24368.380859000001},{"$f":"IFERROR(IF(ISNUMBER(AC75)>0.1,AC75,AO76)*AI75,AO76)","v":0},{"$f":"IFERROR(IF(ISNUMBER(AD75)>0.1,AD75,AP76)*AJ75,AP76)","v":0},{"$f":"IFERROR(IF(ISNUMBER(AE75)>0.1,AE75,AQ76)*AK75,AQ76)","v":0},{"$f":"IFERROR(IF(ISNUMBER(AF75)>0.1,AF75,AR76)*AL75,AR76)","v":0},{"$f":"IF(ISNUMBER(AG75)>0.1,AG75,AS76)","v":0},1.9580735879086813E-4,{"$f":"IF(E75,IFERROR(LN(AN75/AN74),FALSE))","v":1.5059490270822871E-3},{"$f":"IF(E75,IFERROR(LN(AO75/AO74),FALSE))","v":false},{"$f":"IF(E75,IFERROR(LN(AP75/AP74),FALSE))","v":false},{"$f":"IF(E75,IFERROR(LN(AQ75/AQ74),FALSE))","v":false},{"$f":"IF(E75,IFERROR(LN(AR75/AR74),FALSE))","v":false},{"$f":"IF(E75,IFERROR(LN(AS75/AS74),FALSE))","v":false},2.5844709406547044,1,1,1,1,1,{"$f":"IFERROR(LOOKUP($A75,INDIRECT(\"'\"&BN$6&\"'!A:A\"),INDIRECT(\"'\"&BN$6&\"'!\"&BN$7&\":\"&BN$7)),0)","v":14.744},{"$f":"IFERROR(LOOKUP($A75,INDIRECT(\"'\"&BO$6&\"'!A:A\"),INDIRECT(\"'\"&BO$6&\"'!\"&BO$7&\":\"&BO$7)),0)","v":26.71},{"$f":"IFERROR(LOOKUP($A75,INDIRECT(\"'\"&BP$6&\"'!A:A\"),INDIRECT(\"'\"&BP$6&\"'!\"&BP$7&\":\"&BP$7)),0)","v":0},{"$f":"IFERROR(LOOKUP($A75,INDIRECT(\"'\"&BQ$6&\"'!A:A\"),INDIRECT(\"'\"&BQ$6&\"'!\"&BQ$7&\":\"&BQ$7)),0)","v":0},{"$f":"IFERROR(LOOKUP($A75,INDIRECT(\"'\"&BR$6&\"'!A:A\"),INDIRECT(\"'\"&BR$6&\"'!\"&BR$7&\":\"&BR$7)),0)","v":0},{"$f":"IFERROR(LOOKUP($A75,INDIRECT(\"'\"&BS$6&\"'!A:A\"),INDIRECT(\"'\"&BS$6&\"'!\"&BS$7&\":\"&BS$7)),0)","v":0},{"$f":"IFERROR(LOOKUP($A75,INDIRECT(\"'\"&BT$6&\"'!A:A\"),INDIRECT(\"'\"&BT$6&\"'!\"&BT$7&\":\"&BT$7)),0)","v":423.93},{"$f":"IFERROR(1/IFERROR(LOOKUP($D75,$A:$A,BG:BG)*1,0),1)","v":1.0544296589974484E-2},{"$f":"IFERROR(1/IFERROR(LOOKUP($D75,$A:$A,BH:BH)*1,0),1)","v":4.6557102285953722E-3},13.3414,46.78,1.6369,1.0688,14468.341]
["1955-07-01","2009-07-31",{"$f":"IF(C75<=$D$2,C75+7)","v":"2005-04-07"},"2009-07-31",{"$f":"AND(D76>=$D$4,D75<=$D$2)","v":true},987.47997999999995,43.52,1,987.47997999999995,{"$f":"IFERROR(LN(I76/I75),FALSE)","v":7.1521949220993447E-2},0.87300308155117834,"2009-07-31",0.87300308155117834,"2009-07-31",0.87300308155117834,2.8681897368565541,1,1,1,1,1,{"$error":"#N/A"},{"$error":"#N/A"},{"$error":"#N/A"},{"$error":"#N/A"},{"$error":"#N/A"},{"$error":"#N/A"},27043.5,0,0,0,0,0,1,1,1,1,1,1,27043.5,0,0,0,0,0,7.1521949220993447E-2,0.10416025516448099,false,false,false,false,false,{"$f":"IFERROR(IF($E76,BA75*AN76/AN75,1),1)","v":2.8681897368565541},{"$f":"IFERROR(IF($E76,BB75*AO76/AO75,1),1)","v":1},{"$f":"IFERROR(IF($E76,BC75*AP76/AP75,1),1)","v":1},{"$f":"IFERROR(IF($E76,BD75*AQ76/AQ75,1),1)","v":1},{"$f":"IFERROR(IF($E76,BE75*AR76/AR75,1),1)","v":1},{"$f":"IFERROR(IF($E76,BF75*AS76/AS75,1),1)","v":1},14.847,26.76,0,0,0,0,432.66800000000001,1.0533190081948219E-2,4.6570978828833027E-3,{"$f":"IFERROR(LOOKUP($D76,$A:$A,BI:BI)*1,BP75)","v":13.362299999999999},{"$f":"IFERROR(LOOKUP($D76,$A:$A,BJ:BJ)*1,BQ75)","v":47.75},{"$f":"IFERROR(LOOKUP($D76,$A:$A,BK:BK)*1,BR75)","v":1.6377999999999999},{"$f":"IFERROR(LOOKUP($D76,$A:$A,BL:BL)*1,BS75)","v":1.0720000000000001},{"$f":"IFERROR(LOOKUP($D76,$A:$A,BM:BM)*1,BT75)","v":14591.831}]
["1955-08-01","2009-08-31","2005-04-14",{"$f":"IF($D$6,C77,B77)","v":"2009-08-31"},true,1020.619995,43.18,1,1020.619995,3.3009336702728598E-2,{"$f":"IF($E77,(K76*I77/I76),1)","v":0.90230123017557107},{"$f":"IF(E77,D77,NA())","v":"2009-08-31"},{"$f":"CHOOSE($M$1,I77,J77,K77)","v":0.90230123017557107},{"$f":"L77","v":"2009-08-31"},{"$f":"M77","v":0.90230123017557107},{"$f":"IFERROR(CHOOSE($M$1,AN77,AU77,BA77),1)","v":2.9834167784581074},{"$f":"IFERROR(CHOOSE($M$1,AO77,AV77,BB77),1)","v":1},{"$f":"IFERROR(CHOOSE($M$1,AP77,AW77,BC77),1)","v":1},{"$f":"IFERROR(CHOOSE($M$1,AQ77,AX77,BD77),1)","v":1},{"$f":"IFERROR(CHOOSE($M$1,AR77,AY77,BE77),1)","v":1},{"$f":"IFERROR(CHOOSE($M$1,AS77,AZ77,BF77),1)","v":1},{"$error":"#N/A"},{"$error":"#N/A"},{"$error":"#N/A"},{"$error":"#N/A"},{"$error":"#N/A"},{"$error":"#N/A"},28129.949218999998,0,0,0,0,0,1,1,1,1,1,1,28129.949218999998,0,0,0,0,0,{"$f":"J77","v":3.3009336702728598E-2},3.9388136606170833E-2,false,false,false,false,false,2.9834167784581074,1,1,1,1,1,14.847,26.72,0,0,0,0,432.66800000000001,1.0533190081948219E-2,4.6415558495207596E-3,13.0063,47.91,1.6532,1.0668,14591.831]
["1955-09-01","2009-09-30","2005-04-21","2009-09-30",true,1057.079956,43.669998,1,1057.079956,3.5100067430831765E-2,0.93453444902648464,"2009-09-30",0.93453444902648464,"2009-09-30",0.93453444902648464,3.1003239752429983,1,1,1,1,1,{"$error":"#N/A"},{"$error":"#N/A"},{"$error":"#N/A"},{"$error":"#N/A"},{"$error":"#N/A"},{"$error":"#N/A"},29232.240234000001,0,0,0,0,0,1,1,1,1,1,1,29232.240234000001,0,0,0,0,0,3.5100067430831765E-2,3.843740051303364E-2,false,false,false,false,false,3.1003239752429983,1,1,1,1,1,14.847,26.85,0,0,0,0,432.66800000000001,1.0533190081948219E-2,4.6326108004688202E-3,13.406000000000001,49.05,1.6323000000000001,1.0652999999999999,14591.831]
["1955-10-01","2009-10-31","2005-04-28","2009-10-31",true,1036.1899410000001,42.34,1,1036.1899410000001,-1.9959880537446347E-2,0.91606617844073535,"2009-10-31",0.91606617844073535,"2009-10-31",0.91606617844073535,3.0381513942850433,1,1,1,1,1,{"$error":"#N/A"},{"$error":"#N/A"},{"$error":"#N/A"},{"$error":"#N/A"},{"$error":"#N/A"},{"$error":"#N/A"},28646.029297000001,0,0,0,0,0,1,1,1,1,1,1,28646.029297000001,0,0,0,0,0,-1.9959880537446347E-2,-2.0257377704595497E-2,false,false,false,false,false,3.0381513942850433,1,1,1,1,1,14.994999999999999,26.82,0,0,0,0,439.61900000000003,1.0497695755781605E-2,4.6187456410588012E-3,13.227499999999999,47.72,1.6212,1.0424,14791.715]
["1955-11-01","2009-11-30","2005-05-05","2009-11-30",true,1095.630005,45.509998000000003,1,1095.630005,5.5779077085757335E-2,0.96861545547984984,"2009-11-30",0.96861545547984984,"2009-11-30",0.96861545547984984,3.2832607980520572,1,1,1,1,1,{"$error":"#N/A"},{"$error":"#N/A"},{"$error":"#N/A"},{"$error":"#N/A"},{"$error":"#N/A"},{"$error":"#N/A"},30957.109375,0,0,0,0,0,1,1,1,1,1,1,30957.109375,0,0,0,0,0,5.5779077085757335E-2,7.758783783920413E-2,false,false,false,false,false,3.2832607980520572,1,1,1,1,1,14.994999999999999,26.88,0,0,0,0,439.61900000000003,1.0497695755781605E-2,4.6033309702901018E-3,13.111499999999999,46.9,1.6598999999999999,1.0238,14791.715]
["1955-12-01","2009-12-31","2005-05-12","2009-12-31",true,1115.099976,45.48,1,1115.099976,1.7614520614664245E-2,0.98582830538563937,"2009-12-31",0.98582830538563937,"2009-12-31",0.98582830538563937,3.4066450131582902,1,1,1,1,1,{"$error":"#N/A"},{"$error":"#N/A"},{"$error":"#N/A"},{"$error":"#N/A"},{"$error":"#N/A"},{"$error":"#N/A"},32120.470702999999,0,0,0,0,0,1,1,1,1,1,1,32120.470702999999,0,0,0,0,0,1.7614520614664245E-2,3.6890865563465366E-2,false,false,false,false,false,3.4066450131582902,1,1,1,1,1,14.994999999999999,26.87,0,0,0,0,439.61900000000003,1.0497695755781605E-2,4.6009376710973698E-3,12.8622,46.21,1.6226,0.99839999999999995,14791.715]
["1956-01-01","2010-01-31","2005-05-19","2010-01-31",true,1073.869995,43.82,1,1073.869995,-3.7675124192644176E-2,0.94937804695579608,"2010-01-31",0.94937804695579608,"2010-01-31",0.94937804695579608,3.2232847854726066,1,1,1,1,1,{"$error":"#N/A"},{"$error":"#N/A"},{"$error":"#N/A"},{"$error":"#N/A"},{"$error":"#N/A"},{"$error":"#N/A"},30391.609375,0,0,0,0,0,1,1,1,1,1,1,30391.609375,0,0,0,0,0,-3.7675124192644176E-2,-5.532698057169861E-2,false,false,false,false,false,3.2232847854726066,1,1,1,1,1,15.144,26.83,0,0,0,0,442.59699999999998,1.0471313835746971E-2,4.5979548296917533E-3,12.8096,46.21,1.6157999999999999,0.99839999999999995,14915.441000000001]
["1956-02-01","2010-02-28","2005-05-26","2010-02-28",true,1104.48999,45.34,1,1104.48999,2.8114739638764777E-2,0.97644831727366288,"2010-02-28",0.97644831727366288,"2010-02-28",0.97644831727366288,3.3551078917552966,1,1,1,1,1,{"$error":"#N/A"},{"$error":"#N/A"},{"$error":"#N/A"},{"$error":"#N/A"},{"$error":"#N/A"},{"$error":"#N/A"},31634.539063,0,0,0,0,0,1,1,1,1,1,1,31634.539063,0,0,0,0,0,2.8114739638764777E-2,4.0082969103151025E-2,false,false,false,false,false,3.3551078917552966,1,1,1,1,1,15.144,26.86,0,0,0,0,442.59699999999998,1.0471313835746971E-2,4.602335224893111E-3,12.9396,46.27,1.5618000000000001,1.0586,14915.441000000001]
["1956-03-01","2010-03-31","2005-06-02","2010-03-31",true,1169.4300539999999,48.48,1,1169.4300539999999,5.713281587577692E-2,1.033859988534209,"2010-03-31",1.033859988534209,"2010-03-31",1.033859988534209,3.528183563998069,1,1,1,1,1,{"$error":"#N/A"},{"$error":"#N/A"},{"$error":"#N/A"},{"$error":"#N/A"},{"$error":"#N/A"},{"$error":"#N/A"},33266.429687999997,0,0,0,0,0,1,1,1,1,1,1,33266.429687999997,0,0,0,0,0,5.713281587577692E-2,5.029923899976281E-2,false,false,false,false,false,3.528183563998069,1,1,1,1,1,15.144,26.89,0,0,0,0,442.59699999999998,1.0471313835746971E-2,4.600810662838792E-3,12.567299999999999,46.01,1.5058,1.0827,14915.441000000001]
["1956-04-01","2010-04-30","2005-06-09","2010-04-30",true,1186.6899410000001,48.380001,1,1186.6899410000001,1.4651372417397389E-2,1.049118965772639,"2010-04-30",1.049118965772639,"2010-04-30",1.049118965772639,3.466764163184846,1,1,1,1,1,{"$error":"#N/A"},{"$error":"#N/A"},{"$error":"#N/A"},{"$error":"#N/A"},{"$error":"#N/A"},{"$error":"#N/A"},32687.320313,0,0,0,0,0,1,1,1,1,1,1,32687.320313,0,0,0,0,0,1.4651372417397389E-2,-1.7561526323323379E-2,false,false,false,false,false,3.466764163184846,1,1,1,1,1,15.234,26.93,0,0,0,0,448.84800000000001,1.0422855236963614E-2,4.5997525333137078E-3,12.239599999999999,44.79,1.5331999999999999,1.0559000000000001,15121.332]
["1956-05-01","2010-05-31","2005-06-16","2010-05-31",true,1089.410034,45.200001,1,1089.410034,-8.5531572706092185E-2,0.9631165552893276,"2010-05-31",0.9631165552893276,"2010-05-31",0.9631165552893276,3.3979544405729083,1,1,1,1,1,{"$error":"#N/A"},{"$error":"#N/A"},{"$error":"#N/A"},{"$error":"#N/A"},{"$error":"#N/A"},{"$error":"#N/A"},32038.529297000001,0,0,0,0,0,1,1,1,1,1,1,32038.529297000001,0,0,0,0,0,-8.5531572706092185E-2,-2.0048025637908435E-2,false,false,false,false,false,3.3979544405729083,1,1,1,1,1,15.234,27.03,0,0,0,0,448.84800000000001,1.0422855236963614E-2,4.6021445993833128E-3,12.7262,44.2,1.4669000000000001,1.0767,15121.332]
["1956-06-01","2010-06-30","2005-06-23","2010-06-30",true,1030.709961,46.970001000000003,1,1030.709961,-5.5388449179925643E-2,0.91122148333426967,"2010-06-30",0.91122148333426967,"2010-06-30",0.91122148333426967,3.3044577662612067,1,1,1,1,1,{"$error":"#N/A"},{"$error":"#N/A"},{"$error":"#N/A"},{"$error":"#N/A"},{"$error":"#N/A"},{"$error":"#N/A"},31156.970702999999,0,0,0,0,0,1,1,1,1,1,1,31156.970702999999,0,0,0,0,0,-5.5388449179925643E-2,-2.7901220269240547E-2,false,false,false,false,false,3.3044577662612067,1,1,1,1,1,15.234,27.15,0,0,0,0,448.84800000000001,1.0422855236963614E-2,4.6040727627659423E-3,12.7102,47.08,1.4767999999999999,1.1548,15121.332]
["1956-07-01","2010-07-31","2005-06-30","2010-07-31",true,1101.599976,49.389999000000003,1,1101.599976,6.6515799326092917E-2,0.97389333775121623,"2010-07-31",0.97389333775121623,"2010-07-31",0.97389333775121623,3.4266125741831948,1,1,1,1,1,{"$error":"#N/A"},{"$error":"#N/A"},{"$error":"#N/A"},{"$error":"#N/A"},{"$error":"#N/A"},{"$error":"#N/A"},32308.740234000001,0,0,0,0,0,1,1,1,1,1,1,32308.740234000001,0,0,0,0,0,6.6515799326092917E-2,3.6299790317884689E-2,false,false,false,false,false,3.4266125741831948,1,1,1,1,1,15.425000000000001,27.29,0,0,0,0,454.125,1.0392633701232567E-2,4.5954826405643252E-3,12.803800000000001,46.59,1.5304,1.0674999999999999,15269.06]
["1956-08-01","2010-08-31","2005-07-07","2010-08-31",true,1049.329956,47.509998000000003,1,1049.329956,-4.8611823315409079E-2,0.92768289353264921,"2010-08-31",0.92768289353264921,"2010-08-31",0.92768289353264921,3.3599134547559641,1,1,1,1,1,{"$error":"#N/A"},{"$error":"#N/A"},{"$error":"#N/A"},{"$error":"#N/A"},{"$error":"#N/A"},{"$error":"#N/A"},31679.849609000001,0,0,0,0,0,1,1,1,1,1,1,31679.849609000001,0,0,0,0,0,-4.8611823315409079E-2,-1.9656969359832677E-2,false,false,false,false,false,3.3599134547559641,1,1,1,1,1,15.425000000000001,27.31,0,0,0,0,454.125,1.0392633701232567E-2,4.5887767697764805E-3,12.766,46.35,1.5661,1.0409999999999999,15269.06]
["1956-09-01","2010-09-30","2005-07-14","2010-09-30",true,1141.1999510000001,45.349997999999999,1,1141.1999510000001,8.3928474089541724E-2,1.0089025540437324,"2010-09-30",1.0089025540437324,"2010-09-30",1.0089025540437324,3.5349617714608641,1,1,1,1,1,{"$error":"#N/A"},{"$error":"#N/A"},{"$error":"#N/A"},{"$error":"#N/A"},{"$error":"#N/A"},{"$error":"#N/A"},33330.339844000002,0,0,0,0,0,1,1,1,1,1,1,33330.339844000002,0,0,0,0,0,8.3928474089541724E-2,5.0787268862999384E-2,false,false,false,false,false,3.5349617714608641,1,1,1,1,1,15.425000000000001,27.35,0,0,0,0,454.125,1.0392633701232567E-2,4.5813767036994614E-3,12.797700000000001,46.74,1.5590999999999999,1.0148999999999999,15269.06]
["1956-10-01","2010-10-31","2005-07-21","2010-10-31",true,1183.26001,45.580002,1,1183.26001,3.6193052099175581E-2,1.0460866609227641,"2010-10-31",1.0460866609227641,"2010-10-31",1.0460866609227641,3.7723075776811004,1,1,1,1,1,{"$error":"#N/A"},{"$error":"#N/A"},{"$error":"#N/A"},{"$error":"#N/A"},{"$error":"#N/A"},{"$error":"#N/A"},35568.21875,0,0,0,0,0,1,1,1,1,1,1,35568.21875,0,0,0,0,0,3.6193052099175581E-2,6.4984418786811562E-2,false,false,false,false,false,3.7723075776811004,1,1,1,1,1,15.487,27.51,0,0,0,0,463.02300000000002,1.0334528693818918E-2,4.5654804026753716E-3,12.439299999999999,44.41,1.5867,0.97609999999999997,15445.255999999999]
["1956-11-01","2010-11-30","2005-07-28","2010-11-30",true,1180.5500489999999,45.080002,1,1180.5500489999999,-2.2928764322112105E-3,1.0436908611579088,"2010-11-30",1.0436908611579088,"2010-11-30",1.0436908611579088,3.9047852630135487,1,1,1,1,1,{"$error":"#N/A"},{"$error":"#N/A"},{"$error":"#N/A"},{"$error":"#N/A"},{"$error":"#N/A"},{"$error":"#N/A"},36817.320312999997,0,0,0,0,0,1,1,1,1,1,1,36817.320312999997,0,0,0,0,0,-2.2928764322112105E-3,3.4515887734125533E-2,false,false,false,false,false,3.9047852630135487,1,1,1,1,1,15.487,27.51,0,0,0,0,463.02300000000002,1.0334528693818918E-2,4.5539414363131286E-3,12.3376,44.36,1.5961000000000001,0.99350000000000005,15445.255999999999]
["1956-12-01","2010-12-31","2005-08-04","2010-12-31",true,1257.6400149999999,46.669998,1,1257.6400149999999,6.3256487642950596E-2,1.1118439166504117,"2010-12-31",1.1118439166504117,"2010-12-31",1.1118439166504117,4.0886341464018514,1,1,1,1,1,{"$error":"#N/A"},{"$error":"#N/A"},{"$error":"#N/A"},{"$error":"#N/A"},{"$error":"#N/A"},{"$error":"#N/A"},38550.789062999997,0,0,0,0,0,1,1,1,1,1,1,38550.789062999997,0,0,0,0,0,6.3256487642950596E-2,4.6008173231934651E-2,false,false,false,false,false,4.0886341464018514,1,1,1,1,1,15.487,27.63,0,0,0,0,463.02300000000002,1.0334528693818918E-2,4.5357233571609997E-3,12.3902,45.29,1.5595000000000001,0.99970000000000003,15445.255999999999]
["1957-01-01","2011-01-31","2005-08-11","2011-01-31",true,1286.119995,44.720001000000003,1,1286.119995,2.2392969441753622E-2,1.1370222603192282,"2011-01-31",1.1370222603192282,"2011-01-31",1.1370222603192282,3.9222761951503231,1,1,1,1,1,{"$error":"#N/A"},{"$error":"#N/A"},{"$error":"#N/A"},{"$error":"#N/A"},{"$error":"#N/A"},{"$error":"#N/A"},36982.238280999998,0,0,0,0,0,1,1,1,1,1,1,36982.238280999998,0,0,0,0,0,2.2392969441753622E-2,-4.1538817434596233E-2,false,false,false,false,false,3.9222761951503231,1,1,1,1,1,15.7,27.67,0,0,0,0,472.86399999999998,1.0279288262080733E-2,4.5210613643658984E-3,12.128,45.29,1.5782,0.99970000000000003,15502.924999999999]
["1957-02-01","2011-02-28","2005-08-18","2011-02-28",true,1327.219971,43.259998000000003,1,1327.219971,3.1456577077623601E-2,1.1733575850107518,"2011-02-28",1.1733575850107518,"2011-02-28",1.1733575850107518,3.9262492414610679,1,1,1,1,1,{"$error":"#N/A"},{"$error":"#N/A"},{"$error":"#N/A"},{"$error":"#N/A"},{"$error":"#N/A"},{"$error":"#N/A"},37019.699219000002,0,0,0,0,0,1,1,1,1,1,1,37019.699219000002,0,0,0,0,0,3.1456577077623601E-2,1.0124313623504268E-3,false,false,false,false,false,3.9262492414610679,1,1,1,1,1,15.7,27.8,0,0,0,0,472.86399999999998,1.0279288262080733E-2,4.5065750930607757E-3,12.0649,45.65,1.6124000000000001,0.93879999999999997,15502.924999999999]
["1957-03-01","2011-03-31","2005-08-25","2011-03-31",true,1325.829956,44.110000999999997,1,1325.829956,-1.0478620195134246E-3,1.1721287121191695,"2011-03-31",1.1721287121191695,"2011-03-31",1.1721287121191695,3.9708799325195825,1,1,1,1,1,{"$error":"#N/A"},{"$error":"#N/A"},{"$error":"#N/A"},{"$error":"#N/A"},{"$error":"#N/A"},{"$error":"#N/A"},37440.511719000002,0,0,0,0,0,1,1,1,1,1,1,37440.511719000002,0,0,0,0,0,-1.0478620195134246E-3,1.1303136936396644E-2,false,false,false,false,false,3.9708799325195825,1,1,1,1,1,15.7,27.86,0,0,0,0,472.86399999999998,1.0279288262080733E-2,4.4833801099324801E-3,11.9963,44.82,1.6158999999999999,0.9284,15502.924999999999]
["1957-04-01","2011-04-30","2005-09-01","2011-04-30",true,1363.6099850000001,45.740001999999997,1,1363.6099850000001,2.8096938553675548E-2,1.2055289657001007,"2011-04-30",1.2055289657001007,"2011-04-30",1.2055289657001007,3.9201956281224088,1,1,1,1,1,{"$error":"#N/A"},{"$error":"#N/A"},{"$error":"#N/A"},{"$error":"#N/A"},{"$error":"#N/A"},{"$error":"#N/A"},36962.621094000002,0,0,0,0,0,1,1,1,1,1,1,36962.621094000002,0,0,0,0,0,2.8096938553675548E-2,-1.2846157919879175E-2,false,false,false,false,false,3.9201956281224088,1,1,1,1,1,15.81,27.93,0,0,0,0,475.392,1.0212209717938767E-2,4.4624330077244721E-3,11.7059,44.44,1.6378999999999999,0.92430000000000001,15716.572]
["1957-05-01","2011-05-31","2005-09-08","2011-05-31",true,1345.1999510000001,47.43,1,1345.1999510000001,-1.3592919325235627E-2,1.1892531760750169,"2011-05-31",1.1892531760750169,"2011-05-31",1.1892531760750169,3.8003674758608299,1,1,1,1,1,{"$error":"#N/A"},{"$error":"#N/A"},{"$error":"#N/A"},{"$error":"#N/A"},{"$error":"#N/A"},{"$error":"#N/A"},35832.789062999997,0,0,0,0,0,1,1,1,1,1,1,35832.789062999997,0,0,0,0,0,-1.3592919325235627E-2,-3.1043791459723552E-2,false,false,false,false,false,3.8003674758608299,1,1,1,1,1,15.81,28,0,0,0,0,475.392,1.0212209717938767E-2,4.4482798501819347E-3,11.654199999999999,44.24,1.6332,0.86660000000000004,15716.572]
["1957-06-01","2011-06-30","2005-09-15","2011-06-30",true,1320.6400149999999,47.369999,1,1320.6400149999999,-1.8426185517957314E-2,1.1675404322777201,"2011-06-30",1.1675404322777201,"2011-06-30",1.1675404322777201,3.8772896285993617,1,1,1,1,1,{"$error":"#N/A"},{"$error":"#N/A"},{"$error":"#N/A"},{"$error":"#N/A"},{"$error":"#N/A"},{"$error":"#N/A"},36558.070312999997,0,0,0,0,0,1,1,1,1,1,1,36558.070312999997,0,0,0,0,0,-1.8426185517957314E-2,2.0038593975158486E-2,false,false,false,false,false,3.8772896285993617,1,1,1,1,1,15.81,28.11,0,0,0,0,475.392,1.0212209717938767E-2,4.4482798501819347E-3,11.8055,44.84,1.6218999999999999,0.84009999999999996,15716.572]
["1957-07-01","2011-07-31","2005-09-22","2011-07-31",true,1292.280029,47.91,1,1292.280029,-2.1708356352599566E-2,1.1424681719056686,"2011-07-31",1.1424681719056686,"2011-07-31",1.1424681719056686,3.8180315814954429,1,1,1,1,1,{"$error":"#N/A"},{"$error":"#N/A"},{"$error":"#N/A"},{"$error":"#N/A"},{"$error":"#N/A"},{"$error":"#N/A"},35999.339844000002,0,0,0,0,0,1,1,1,1,1,1,35999.339844000002,0,0,0,0,0,-2.1708356352599566E-2,-1.5401363198571773E-2,false,false,false,false,false,3.8180315814954429,1,1,1,1,1,15.904,28.19,0,0,0,0,482.72300000000001,1.0146824551256685E-2,4.4366556489718045E-3,11.674099999999999,44.62,1.6157999999999999,0.84789999999999999,15837.248]
["1957-08-01","2011-08-31","2005-09-29","2011-08-31",true,1218.8900149999999,45.220001000000003,1,1218.8900149999999,-5.8467501753798806E-2,1.0775861391812338,"2011-08-31",1.0775861391812338,"2011-08-31",1.0775861391812338,3.7885220808034163,1,1,1,1,1,{"$error":"#N/A"},{"$error":"#N/A"},{"$error":"#N/A"},{"$error":"#N/A"},{"$error":"#N/A"},{"$error":"#N/A"},35721.101562999997,0,0,0,0,0,1,1,1,1,1,1,35721.101562999997,0,0,0,0,0,-5.8467501753798806E-2,-7.7590062587278167E-3,false,false,false,false,false,3.7885220808034163,1,1,1,1,1,15.904,28.28,0,0,0,0,482.72300000000001,1.0146824551256685E-2,4.4227043952836283E-3,12.236599999999999,44.06,1.6355999999999999,0.78129999999999999,15837.248]
["1957-09-01","2011-09-30","2005-10-06","2011-09-30",true,1131.420044,42.419998,1,1131.420044,-7.4467100959878879E-2,1.0002564152650162,"2011-09-30",1.0002564152650162,"2011-09-30",1.0002564152650162,3.5533036564153533,1,1,1,1,1,{"$error":"#N/A"},{"$error":"#N/A"},{"$error":"#N/A"},{"$error":"#N/A"},{"$error":"#N/A"},{"$error":"#N/A"},33503.28125,0,0,0,0,0,1,1,1,1,1,1,33503.28125,0,0,0,0,0,-7.4467100959878879E-2,-6.4098212566932419E-2,false,false,false,false,false,3.5533036564153533,1,1,1,1,1,15.904,28.32,0,0,0,0,482.72300000000001,1.0146824551256685E-2,4.4131210916296335E-3,13.063700000000001,45.66,1.5770999999999999,0.79510000000000003,15837.248]
["1957-10-01","2011-10-31","2005-10-13","2011-10-31",true,1253.3000489999999,41.060001,1,1253.3000489999999,0.10230659185819124,1.1080070756323008,"2011-10-31",1.1080070756323008,"2011-10-31",1.1080070756323008,3.8350696941008913,1,1,1,1,1,{"$error":"#N/A"},{"$error":"#N/A"},{"$error":"#N/A"},{"$error":"#N/A"},{"$error":"#N/A"},{"$error":"#N/A"},36159.988280999998,0,0,0,0,0,1,1,1,1,1,1,36159.988280999998,0,0,0,0,0,0.10230659185819124,7.6309829640887783E-2,false,false,false,false,false,3.8350696941008913,1,1,1,1,1,15.914999999999999,28.32,0,0,0,0,477.39800000000002,1.0131404313951957E-2,4.410143329658214E-3,13.437900000000001,49.05,1.5768,0.90480000000000005,16059.096]
["1957-11-01","2011-11-30","2005-10-20","2011-11-30",true,1246.959961,41.720001000000003,1,1246.959961,-5.0715538095285817E-3,1.1024019834041976,"2011-11-30",1.1024019834041976,"2011-11-30",1.1024019834041976,3.9060397347620746,1,1,1,1,1,{"$error":"#N/A"},{"$error":"#N/A"},{"$error":"#N/A"},{"$error":"#N/A"},{"$error":"#N/A"},{"$error":"#N/A"},36829.148437999997,0,0,0,0,0,1,1,1,1,1,1,36829.148437999997,0,0,0,0,0,-5.0715538095285817E-3,1.8336397330382625E-2,false,false,false,false,false,3.9060397347620746,1,1,1,1,1,15.914999999999999,28.41,0,0,0,0,477.39800000000002,1.0131404313951957E-2,4.4020090769427162E-3,13.695499999999999,49.26,1.5806,0.8901,16059.096]
["1957-12-01","2011-12-31","2005-10-27","2011-12-31",true,1257.599976,39.990001999999997,1,1257.599976,8.4965656862407268E-3,1.1118085193045515,"2011-12-31",1.1118085193045515,"2011-12-31",1.1118085193045515,3.9323815699488831,1,1,1,1,1,{"$error":"#N/A"},{"$error":"#N/A"},{"$error":"#N/A"},{"$error":"#N/A"},{"$error":"#N/A"},{"$error":"#N/A"},37077.519530999998,0,0,0,0,0,1,1,1,1,1,1,37077.519530999998,0,0,0,0,0,8.4965656862407268E-3,6.7212346284384571E-3,false,false,false,false,false,3.9323815699488831,1,1,1,1,1,15.914999999999999,28.47,0,0,0,0,477.39800000000002,1.0131404313951957E-2,4.4009629306892345E-3,13.7746,51.36,1.5587,0.91349999999999998,16059.096]
["1958-01-01","2012-01-31","2005-11-03","2012-01-31",true,1312.410034,41.700001,1,1312.410034,4.266004400164506E-2,1.160264539176467,"2012-01-31",1.160264539176467,"2012-01-31",1.160264539176467,3.9689886962409382,1,1,1,1,1,{"$error":"#N/A"},{"$error":"#N/A"},{"$error":"#N/A"},{"$error":"#N/A"},{"$error":"#N/A"},{"$error":"#N/A"},37422.679687999997,0,0,0,0,0,1,1,1,1,1,1,37422.679687999997,0,0,0,0,0,4.266004400164506E-2,9.2660860036846704E-3,false,false,false,false,false,3.9689886962409382,1,1,1,1,1,16.087,28.64,0,0,0,0,470.17,1.0068465565847765E-2,4.3890064167273809E-3,13.382899999999999,53.01,1.5524,0.93740000000000001,16268.022000000001]
["1958-02-01","2012-02-29","2005-11-10","2012-02-29",true,1365.6800539999999,40.840000000000003,1,1365.6800539999999,3.9787345020620563E-2,1.207359055071658,"2012-02-29",1.207359055071658,"2012-02-29",1.207359055071658,4.0107769398399116,1,1,1,1,1,{"$error":"#N/A"},{"$error":"#N/A"},{"$error":"#N/A"},{"$error":"#N/A"},{"$error":"#N/A"},{"$error":"#N/A"},37816.691405999998,0,0,0,0,0,1,1,1,1,1,1,37816.691405999998,0,0,0,0,0,3.9787345020620563E-2,1.0473647349761087E-2,false,false,false,false,false,4.0107769398399116,1,1,1,1,1,16.087,28.7,0,0,0,0,470.17,1.0068465565847765E-2,4.3796451611490435E-3,12.783300000000001,49.273800000000001,1.5804,0.91410000000000002,16268.022000000001]
["1958-03-01","2012-03-31","2005-11-17","2012-03-31",true,1408.469971,42.099997999999999,1,1408.469971,3.0851475632112556E-2,1.2451884087364475,"2012-03-31",1.2451884087364475,"2012-03-31",1.2451884087364475,4.1915584160861785,1,1,1,1,1,{"$error":"#N/A"},{"$error":"#N/A"},{"$error":"#N/A"},{"$error":"#N/A"},{"$error":"#N/A"},{"$error":"#N/A"},39521.238280999998,0,0,0,0,0,1,1,1,{"$f":"IF(AK$7,INDEX($BN108:$BT108,AK$7),1)","v":1},1,1,39521.238280999998,0,0,0,0,0,3.0851475632112556E-2,4.4087628661252466E-2,false,false,false,false,false,4.1915584160861785,1,1,1,1,1,16.087,28.87,0,0,0,0,470.17,1.0068465565847765E-2,4.3704956579125641E-3,12.7523,49.14,1.5824,0.90510000000000002,16268.022000000001]
["1958-04-01","2012-04-30","2005-11-24","2012-04-30",true,1397.910034,43.439999,1,1397.910034,-7.5256998843071772E-3,1.2358526675278143,"2012-04-30",1.2358526675278143,"2012-04-30",1.2358526675278143,4.1851696417289368,1,1,1,1,1,{"$error":"#N/A"},{"$error":"#N/A"},{"$error":"#N/A"},{"$error":"#N/A"},{"$error":"#N/A"},{"$error":"#N/A"},39461,0,0,0,0,0,{"$f":"IF(AH$7,INDEX($BN109:$BT109,AH$7),1)","v":1},1,1,1,1,1,39461,0,0,0,0,0,-7.5256998843071772E-3,-1.5253630180888263E-3,false,false,false,false,false,4.1851696417289368,1,1,1,1,1,16.134,28.94,0,0,0,0,474.67200000000003,1.0028782606079449E-2,4.3632492244324505E-3,13.055899999999999,50.89,1.6,0.90259999999999996,16380.378000000001]
["1958-05-01","2012-05-31","2005-12-01","2012-05-31",true,1310.329956,44.09,1,1310.329956,-6.4699308071820338E-2,1.1584256011314986,"2012-05-31",1.1584256011314986,"2012-05-31",1.1584256011314986,4.0167435522186574,1,1,1,1,1,{"$error":"#N/A"},{"$error":"#N/A"},{"$error":"#N/A"},{"$error":"#N/A"},{"$error":"#N/A"},{"$error":"#N/A"},37872.949219000002,0,0,0,0,0,1,1,1,1,1,1,37872.949219000002,0,0,0,0,0,-6.4699308071820338E-2,-4.1075726061383766E-2,false,false,false,false,false,4.0167435522186574,1,1,1,1,1,16.134,28.94,0,0,0,0,474.67200000000003,1.0028782606079449E-2,4.3722919116971929E-3,13.619899999999999,52.5,1.5924,0.90869999999999995,16380.378000000001]
["1958-06-01","2012-06-30","2005-12-08","2012-06-30",true,1362.160034,45.240001999999997,1,1362.160034,3.8792719783522139E-2,1.2042471050885084,"2012-06-30",1.2042471050885084,"2012-06-30",1.2042471050885084,4.2634991393979362,1,1,1,1,1,{"$error":"#N/A"},{"$error":"#N/A"},{"$error":"#N/A"},{"$error":"#N/A"},{"$error":"#N/A"},{"$error":"#N/A"},40199.550780999998,0,0,0,0,0,1,1,1,1,1,1,40199.550780999998,0,0,0,0,0,3.8792719783522139E-2,5.9618704629968364E-2,false,false,false,false,false,4.2634991393979362,1,1,1,1,1,16.134,28.91,0,0,0,0,474.67200000000003,1.0028782606079449E-2,4.375908000910189E-3,13.9193,55.44,1.5556000000000001,0.96709999999999996,16380.378000000001]
["1958-07-01","2012-07-31","2005-12-15","2012-07-31",true,1379.3199460000001,47.189999,1,1379.3199460000001,1.2518884862627446E-2,1.2194176972610677,"2012-07-31",1.2194176972610677,"2012-07-31",1.2194176972610677,4.3170300341070016,1,1,1,1,1,{"$error":"#N/A"},{"$error":"#N/A"},{"$error":"#N/A"},{"$error":"#N/A"},{"$error":"#N/A"},{"$error":"#N/A"},40704.28125,0,0,0,0,0,1,1,1,1,1,1,40704.28125,0,0,0,0,0,1.2518884862627446E-2,1.2477456373566781E-2,false,false,false,false,false,4.3170300341070016,1,1,1,1,1,16.231999999999999,28.89,0,0,0,0,488.44600000000003,9.9775505113494645E-3,4.3746445601294892E-3,13.363799999999999,55.57,1.5592999999999999,0.94850000000000001,16485.807000000001]
["1958-08-01","2012-08-31","2005-12-22","2012-08-31",true,1406.579956,47.75,1,1406.579956,1.9570609872560242E-2,1.2435175000065533,"2012-08-31",1.2435175000065533,"2012-08-31",1.2435175000065533,4.1809960789039442,1,1,1,1,1,{"$error":"#N/A"},{"$error":"#N/A"},{"$error":"#N/A"},{"$error":"#N/A"},{"$error":"#N/A"},{"$error":"#N/A"},39421.648437999997,0,0,0,0,0,1,1,1,1,1,1,39421.648437999997,0,0,0,0,0,1.9570609872560242E-2,-3.2018159182998031E-2,false,false,false,false,false,4.1809960789039442,1,1,1,1,1,16.231999999999999,28.94,0,0,0,0,488.44600000000003,9.9775505113494645E-3,4.3493767343139728E-3,13.1793,55.47,1.5722,0.97670000000000001,16485.807000000001]
["1958-09-01","2012-09-30","2005-12-29","2012-09-30",true,1440.670044,50.060001,1,1440.670044,2.3947118873094017E-2,1.2736555812609709,"2012-09-30",1.2736555812609709,"2012-09-30",1.2736555812609709,4.3271010227644071,1,1,1,1,1,{"$error":"#N/A"},{"$error":"#N/A"},{"$error":"#N/A"},{"$error":"#N/A"},{"$error":"#N/A"},{"$error":"#N/A"},40799.238280999998,0,0,0,0,0,1,1,1,1,1,1,40799.238280999998,0,0,0,0,0,2.3947118873094017E-2,3.4348293501386233E-2,false,false,false,false,false,4.3271010227644071,1,1,1,1,1,16.231999999999999,28.91,0,0,0,0,488.44600000000003,9.9775505113494645E-3,4.3287232430794537E-3,12.923500000000001,55.52,1.6126,0.9546,16485.807000000001]
["1958-10-01","2012-10-31","2006-01-05","2012-10-31",true,1412.160034,51.330002,1,1412.160034,-1.9987842523252936E-2,1.2484506889197056,"2012-10-31",1.2484506889197056,"2012-10-31",1.2484506889197056,4.4141455362930939,1,1,1,1,1,{"$error":"#N/A"},{"$error":"#N/A"},{"$error":"#N/A"},{"$error":"#N/A"},{"$error":"#N/A"},{"$error":"#N/A"},41619.960937999997,0,0,0,0,0,1,1,1,1,1,1,41619.960937999997,0,0,0,0,0,-1.9987842523252936E-2,1.9916470773380192E-2,false,false,false,false,false,4.4141455362930939,1,1,1,1,1,16.309000000000001,28.91,0,0,0,0,502.14,9.9268391951318792E-3,4.317080962536371E-3,12.897600000000001,52.46,1.6080000000000001,0.93759999999999999,16583.025000000001]
["1958-11-01","2012-11-30","2006-01-12","2012-11-30",true,1416.1800539999999,52.48,1,1416.1800539999999,2.8426727918140823E-3,1.2520046747411673,"2012-11-30",1.2520046747411673,"2012-11-30",1.2520046747411673,4.436795214206831,1,1,1,1,1,{"$error":"#N/A"},{"$error":"#N/A"},{"$error":"#N/A"},{"$error":"#N/A"},{"$error":"#N/A"},{"$error":"#N/A"},41833.519530999998,0,0,0,0,0,1,1,1,1,1,1,41833.519530999998,0,0,0,0,0,2.8426727918140823E-3,5.1180384081784252E-3,false,false,false,false,false,4.436795214206831,1,1,1,1,1,16.309000000000001,28.95,0,0,0,0,502.14,9.9268391951318792E-3,4.3243430241860503E-3,13.0639,53.76,1.5968,0.93259999999999998,16583.025000000001]
["1958-12-01","2012-12-31","2006-01-19","2012-12-31",true,1426.1899410000001,55.209999000000003,1,1426.1899410000001,7.0433676117494142E-3,1.2608541323240736,"2012-12-31",1.2608541323240736,"2012-12-31",1.2608541323240736,4.6353692262074642,1,1,1,1,1,{"$error":"#N/A"},{"$error":"#N/A"},{"$error":"#N/A"},{"$f":"LOOKUP($A117,INDIRECT(\"'\"&Y$5&\"'!A:A\"),INDIRECT(\"'\"&Y$5&\"'!\"&Y$7&\":\"&Y$7))","v":{"$error":"#N/A"}},{"$error":"#N/A"},{"$error":"#N/A"},43705.828125,0,0,0,0,0,1,1,1,1,1,1,43705.828125,0,0,0,0,0,7.0433676117494142E-3,4.3783539079739156E-2,false,false,false,false,false,4.6353692262074642,1,1,1,1,1,16.309000000000001,28.97,0,0,0,0,502.14,9.9268391951318792E-3,4.3248666859844048E-3,12.8651,54.26,1.6145,0.9264,16583.025000000001]
["1959-01-01","2013-01-31","2006-01-26","2013-01-31",true,1498.1099850000001,55.450001,1,1498.1099850000001,4.9197792048925292E-2,1.3244366062060213,"2013-01-31",1.3244366062060213,"2013-01-31",1.3244366062060213,4.8021174390925925,1,1,1,1,1,{"$error":"#N/A"},{"$error":"#N/A"},{"$error":"#N/A"},{"$error":"#N/A"},{"$error":"#N/A"},{"$error":"#N/A"},45278.058594000002,0,0,0,0,0,1,1,1,1,1,1,45278.058594000002,0,0,0,0,0,4.9197792048925292E-2,3.5341097487737269E-2,false,false,false,false,false,4.8021174390925925,1,1,1,1,1,16.347000000000001,29.01,0,0,0,0,512.91300000000001,9.8873827109225917E-3,4.3163169730532332E-3,12.696400000000001,54.26,1.5965,0.9264,16783.689999999999]
["1959-02-01","2013-02-28","2006-02-02","2013-02-28",true,1514.6800539999999,55.41,1,1514.6800539999999,1.0999927551865671E-2,1.3390857348886258,"2013-02-28",1.3390857348886258,"2013-02-28",1.3390857348886258,4.6794004388312356,1,1,1,1,1,{"$error":"#N/A"},{"$error":"#N/A"},{"$error":"#N/A"},{"$error":"#N/A"},{"$error":"#N/A"},{"$error":"#N/A"},44120.988280999998,0,0,0,0,0,1,1,1,1,1,1,44120.988280999998,0,0,0,0,0,1.0999927551865671E-2,-2.58869634257681E-2,false,false,false,false,false,4.6794004388312356,1,1,1,1,1,16.347000000000001,29,0,0,0,0,512.91300000000001,9.8873827109225917E-3,4.2930062634961384E-3,12.7249,53.16,1.5474000000000001,0.90300000000000002,16783.689999999999]
["1959-03-01","2013-03-31","2006-02-09","2013-03-31",true,1569.1899410000001,55.439999,1,1569.1899410000001,3.5355293879972854E-2,1.3872763820812979,"2013-03-31",1.3872763820812979,"2013-03-31",1.3872763820812979,4.6747446418202188,1,1,1,1,1,{"$error":"#N/A"},{"$error":"#N/A"},{"$error":"#N/A"},{"$error":"#N/A"},{"$error":"#N/A"},{"$error":"#N/A"},44077.089844000002,0,0,0,0,0,1,1,1,1,1,1,44077.089844000002,0,0,0,0,0,3.5355293879972854E-2,-9.9545118347770553E-4,false,false,false,false,false,4.6747446418202188,1,1,1,1,1,16.347000000000001,28.97,0,0,0,0,512.91300000000001,9.8873827109225917E-3,4.3051118898580175E-3,12.5,54.9,1.508,0.94479999999999997,16783.689999999999]
["1959-04-01","2013-04-30","2006-02-16","2013-04-30",true,1597.5699460000001,57.59,1,1597.5699460000001,1.792416591460497E-2,1.4123663406842437,"2013-04-30",1.4123663406842437,"2013-04-30",1.4123663406842437,4.4823961737579552,1,1,1,1,1,{"$error":"#N/A"},{"$error":"#N/A"},{"$error":"#N/A"},{"$error":"#N/A"},{"$error":"#N/A"},{"$error":"#N/A"},42263.480469000002,0,0,0,0,0,1,1,1,1,1,1,42263.480469000002,0,0,0,0,0,1.792416591460497E-2,-4.2016775524287342E-2,false,false,false,false,false,4.4823961737579552,1,1,1,1,1,16.372,28.98,0,0,0,0,525.25300000000004,9.8589188709566119E-3,4.3141196823082264E-3,12.206099999999999,54.28,1.5310999999999999,0.94599999999999995,16866.179]
["1959-05-01","2013-05-31","2006-02-23","2013-05-31",true,1630.73999,58.68,1,1630.73999,2.0550202420727141E-2,1.4416910370970135,"2013-05-31",1.4416910370970135,"2013-05-31",1.4416910370970135,4.4107897829367344,1,1,1,1,1,{"$error":"#N/A"},{"$error":"#N/A"},{"$error":"#N/A"},{"$error":"#N/A"},{"$error":"#N/A"},{"$error":"#N/A"},41588.320312999997,0,0,0,0,0,1,1,1,1,1,1,41588.320312999997,0,0,0,0,0,2.0550202420727141E-2,-1.6104001128465696E-2,false,false,false,false,false,4.4107897829367344,1,1,1,1,1,16.372,29.04,0,0,0,0,525.25300000000004,9.8589188709566119E-3,4.3123337056314767E-3,12.299300000000001,53.65,1.5297000000000001,0.92679999999999996,16866.179]
["1959-06-01","2013-06-30","2006-03-02","2013-06-30",true,1606.280029,58.470001000000003,1,1606.280029,-1.5112928811378473E-2,1.4200666783655871,"2013-06-30",1.4200666783655871,"2013-06-30",1.4200666783655871,4.3084413769408938,1,1,1,1,1,{"$error":"#N/A"},{"$error":"#N/A"},{"$error":"#N/A"},{"$error":"#N/A"},{"$error":"#N/A"},{"$error":"#N/A"},40623.300780999998,0,0,0,0,0,1,1,1,1,1,1,40623.300780999998,0,0,0,0,0,-1.5112928811378473E-2,-2.3477553293639687E-2,false,false,false,false,false,4.3084413769408938,1,1,1,1,1,16.372,29.11,0,0,0,0,525.25300000000004,9.8589188709566119E-3,4.3020929682290434E-3,12.9636,56.5,1.5492999999999999,0.95830000000000004,16866.179]
["1959-07-01","2013-07-31","2006-03-09","2013-07-31",true,1685.7299800000001,60.509998000000003,1,1685.7299800000001,4.82777279585399E-2,1.4903061297538474,"2013-07-31",1.4903061297538474,"2013-07-31",1.4903061297538474,4.3311991847645457,1,1,1,1,1,{"$error":"#N/A"},{"$error":"#N/A"},{"$error":"#N/A"},{"$error":"#N/A"},{"$error":"#N/A"},{"$error":"#N/A"},40837.878905999998,0,0,0,0,0,1,1,1,1,1,1,40837.878905999998,0,0,0,0,0,4.82777279585399E-2,5.2682424220825358E-3,false,false,false,false,false,4.3311991847645457,1,1,1,1,1,16.434999999999999,29.15,0,0,0,0,527.86400000000003,9.8118094939068663E-3,4.2936882782310002E-3,12.7615,59.38,1.5179,0.94520000000000004,17090.464]
["1959-08-01","2013-08-31","2006-03-16","2013-08-31",true,1632.969971,59.599997999999999,1,1632.969971,-3.1798267578075287E-2,1.4436625001385228,"2013-08-31",1.4436625001385228,"2013-08-31",1.4436625001385228,4.1884968090647021,1,1,1,1,1,{"$error":"#N/A"},{"$error":"#N/A"},{"$error":"#N/A"},{"$error":"#N/A"},{"$error":"#N/A"},{"$error":"#N/A"},39492.371094000002,0,0,0,0,0,1,1,1,1,1,1,39492.371094000002,0,0,0,0,0,-3.1798267578075287E-2,-3.3502538874991467E-2,false,false,false,false,false,4.1884968090647021,1,1,1,1,1,16.434999999999999,29.18,0,0,0,0,527.86400000000003,9.8118094939068663E-3,4.2834624083339049E-3,12.912000000000001,60.45,1.5505,0.93530000000000002,17090.464]
["1959-09-01","2013-09-30","2006-03-23","2013-09-30",true,1681.5500489999999,56.880001,1,1681.5500489999999,2.931559128683648E-2,1.4866107711465049,"2013-09-30",1.4866107711465049,"2013-09-30",1.4866107711465049,4.261980350339309,1,1,1,1,1,{"$error":"#N/A"},{"$error":"#N/A"},{"$error":"#N/A"},{"$error":"#N/A"},{"$error":"#N/A"},{"$error":"#N/A"},40185.230469000002,0,0,0,0,0,1,1,1,1,1,1,40185.230469000002,0,0,0,0,0,2.931559128683648E-2,1.739201045494564E-2,false,false,false,false,false,4.261980350339309,1,1,1,1,1,16.434999999999999,29.25,0,0,0,0,527.86400000000003,9.8118094939068663E-3,4.2818483883122664E-3,13.055300000000001,65.709999999999994,1.5885,0.93130000000000002,17090.464]
["1959-10-01","2013-10-31","2006-03-30","2013-10-31",true,1756.540039,57.52,1,1756.540039,4.3629970975040296E-2,1.5529072973358178,"2013-10-31",1.5529072973358178,"2013-10-31",1.5529072973358178,4.352492475616538,1,1,1,1,1,{"$error":"#N/A"},{"$error":"#N/A"},{"$error":"#N/A"},{"$error":"#N/A"},{"$error":"#N/A"},{"$error":"#N/A"},41038.648437999997,0,0,0,0,0,1,1,1,1,1,1,41038.648437999997,0,0,0,0,0,4.3629970975040296E-2,2.1014740675009611E-2,false,false,false,false,false,4.352492475616538,1,1,1,1,1,16.498999999999999,29.35,0,0,0,0,531.63,9.754479744822811E-3,4.2795578360843751E-3,12.9916,62.46,1.6097999999999999,0.90639999999999998,17321.999]
["1959-11-01","2013-11-30","2006-04-06","2013-11-30",true,1805.8100589999999,58.279998999999997,1,1805.8100589999999,2.7663290033784871E-2,1.5964655265245129,"2013-11-30",1.5964655265245129,"2013-11-30",1.5964655265245129,4.5073886646895893,1,1,1,1,1,{"$error":"#N/A"},{"$error":"#N/A"},{"$error":"#N/A"},{"$error":"#N/A"},{"$error":"#N/A"},{"$error":"#N/A"},42499.128905999998,0,0,0,0,0,1,1,1,1,1,1,42499.128905999998,0,0,0,0,0,2.7663290033784871E-2,3.4969311867960019E-2,false,false,false,false,false,4.5073886646895893,1,1,1,1,1,16.498999999999999,29.35,0,0,0,0,531.63,9.754479744822811E-3,4.2716787697565147E-3,13.059699999999999,61.84,1.61,0.91239999999999999,17321.999]
["1959-12-01","2013-12-31","2006-04-13","2013-12-31",true,1848.3599850000001,59.889999000000003,1,1848.3599850000001,2.3289474066882893E-2,1.6340827109435578,"2013-12-31",1.6340827109435578,"2013-12-31",1.6340827109435578,4.5315658319488499,1,1,1,1,1,{"$error":"#N/A"},{"$error":"#N/A"},{"$error":"#N/A"},{"$error":"#N/A"},{"$error":"#N/A"},{"$error":"#N/A"},42727.089844000002,0,0,0,0,0,1,1,1,1,1,1,42727.089844000002,0,0,0,0,0,2.3289474066882893E-2,5.3495622588582651E-3,false,false,false,false,false,4.5315658319488499,1,1,1,1,1,16.498999999999999,29.41,0,0,0,0,531.63,9.754479744822811E-3,4.2604135157358371E-3,13.0099,62.39,1.6383000000000001,0.90469999999999995,17321.999]
["1960-01-01","2014-01-31","2006-04-20","2014-01-31",true,1782.589966,55.610000999999997,1,1782.589966,-3.623140748501559E-2,1.575937299974639,"2014-01-31",1.575937299974639,"2014-01-31",1.575937299974639,4.335639965065976,1,1,1,1,1,{"$error":"#N/A"},{"$error":"#N/A"},{"$error":"#N/A"},{"$error":"#N/A"},{"$error":"#N/A"},{"$error":"#N/A"},40879.75,0,0,0,0,0,1,1,1,1,1,1,40879.75,0,0,0,0,0,-3.623140748501559E-2,-4.4198311232898073E-2,false,false,false,false,false,4.335639965065976,1,1,1,1,1,16.565999999999999,29.37,0,0,0,0,545.57500000000005,9.7186452208562132E-3,4.2490450271301522E-3,13.222,62.39,1.647,0.90469999999999995,17348.081999999999]
["1960-02-01","2014-02-28","2006-04-27","2014-02-28",true,1859.4499510000001,56.119999,1,1859.4499510000001,4.2213374879040998E-2,1.6438870357788802,"2014-02-28",1.6438870357788802,"2014-02-28",1.6438870357788802,4.1132504615251451,1,1,1,1,1,{"$error":"#N/A"},{"$error":"#N/A"},{"$error":"#N/A"},{"$error":"#N/A"},{"$error":"#N/A"},{"$error":"#N/A"},38782.890625,0,0,0,0,0,1,1,1,1,1,1,38782.890625,0,0,0,0,0,4.2213374879040998E-2,-5.2655644313730189E-2,false,false,false,false,false,4.1132504615251451,1,1,1,1,1,16.565999999999999,29.41,0,0,0,0,545.57500000000005,9.7186452208562132E-3,4.2458878576099052E-3,13.2928,62.63,1.6557999999999999,0.9052,17348.081999999999]
["1960-03-01","2014-03-31","2006-05-04","2014-03-31",true,1872.339966,55.34,1,1872.339966,6.9082486153468677E-3,1.6552827329516377,"2014-03-31",1.6552827329516377,"2014-03-31",1.6552827329516377,4.2912918202072845,1,1,1,1,1,{"$error":"#N/A"},{"$error":"#N/A"},{"$error":"#N/A"},{"$error":"#N/A"},{"$error":"#N/A"},{"$error":"#N/A"},40461.601562999997,0,0,0,0,0,1,1,1,1,1,1,40461.601562999997,0,0,0,0,0,6.9082486153468677E-3,4.2374228713645309E-2,false,false,false,false,false,4.2912918202072845,1,1,1,1,1,16.565999999999999,29.41,0,0,0,0,545.57500000000005,9.7186452208562132E-3,4.2380782857820952E-3,13.1929,61.78,1.6624000000000001,0.88100000000000001,17348.081999999999]
["1960-04-01","2014-04-30","2006-05-11","2014-04-30",true,1883.9499510000001,54.369999,1,1883.9499510000001,6.18164317838415E-3,1.6655467918561666,"2014-04-30",1.6655467918561666,"2014-04-30",1.6655467918561666,4.3178018574054784,1,1,1,1,1,{"$error":"#N/A"},{"$error":"#N/A"},{"$error":"#N/A"},{"$error":"#N/A"},{"$error":"#N/A"},{"$error":"#N/A"},40711.558594000002,0,0,0,0,0,1,1,1,1,1,1,40711.558594000002,0,0,0,0,0,6.18164317838415E-3,6.1586322514131202E-3,false,false,false,false,false,4.3178018574054784,1,1,1,1,1,16.606999999999999,29.54,0,0,0,0,544.08399999999995,9.6581964283989612E-3,4.2289914278343761E-3,13.0669,59.86,1.6748000000000001,0.88249999999999995,17662.883000000002]
["1960-05-01","2014-05-31","2006-05-18","2014-05-31",true,1923.5699460000001,55.830002,1,1923.5699460000001,2.0812195954315483E-2,1.7005737072636489,"2014-05-31",1.7005737072636489,"2014-05-31",1.7005737072636489,4.3868408897903288,1,1,1,1,1,{"$error":"#N/A"},{"$error":"#N/A"},{"$error":"#N/A"},{"$error":"#N/A"},{"$error":"#N/A"},{"$error":"#N/A"},41362.511719000002,0,0,0,0,0,1,1,1,1,1,1,41362.511719000002,0,0,0,0,0,2.0812195954315483E-2,1.5862909503762498E-2,false,false,false,false,false,4.3868408897903288,1,1,1,1,1,16.606999999999999,29.57,0,0,0,0,544.08399999999995,9.6581964283989612E-3,4.2217784663967544E-3,12.933,60.11,1.6841999999999999,0.87970000000000004,17662.883000000002]
["1960-06-01","2014-06-30","2006-05-25","2014-06-30",true,1960.2299800000001,56.919998,1,1960.2299800000001,1.8878996624704429E-2,1.7329838049871196,"2014-06-30",1.7329838049871196,"2014-06-30",1.7329838049871196,4.5326351158004545,1,1,1,1,1,{"$error":"#N/A"},{"$error":"#N/A"},{"$error":"#N/A"},{"$error":"#N/A"},{"$error":"#N/A"},{"$error":"#N/A"},42737.171875,0,0,0,0,0,1,1,1,1,1,1,42737.171875,0,0,0,0,0,1.8878996624704429E-2,3.2694120680455359E-2,false,false,false,false,false,4.5326351158004545,1,1,1,1,1,16.606999999999999,29.61,0,0,0,0,544.08399999999995,9.6581964283989612E-3,4.2160648936708433E-3,12.9932,59.16,1.6908000000000001,0.89439999999999997,17662.883000000002]
["1960-07-01","2014-07-31","2006-06-01","2014-07-31",true,1930.670044,55.509998000000003,1,1930.670044,-1.5194687370535838E-2,1.706850702806703,"2014-07-31",1.706850702806703,"2014-07-31",1.706850702806703,4.6472332643125647,1,1,1,1,1,{"$error":"#N/A"},{"$error":"#N/A"},{"$error":"#N/A"},{"$error":"#N/A"},{"$error":"#N/A"},{"$error":"#N/A"},43817.691405999998,0,0,0,0,0,1,1,1,1,1,1,43817.691405999998,0,0,0,0,0,-1.5194687370535838E-2,2.4968571957933051E-2,false,false,false,false,false,4.6472332643125647,1,1,1,1,1,16.664999999999999,29.55,0,0,0,0,548.76800000000003,9.6127041498043821E-3,4.2107922605638245E-3,12.991400000000001,60.05,1.7065999999999999,0.8871,17979.460999999999]
["1960-08-01","2014-08-31","2006-06-08","2014-08-31",true,2003.369995,56.959999000000003,1,2003.369995,3.6963644321168353E-2,1.7711226703777516,"2014-08-31",1.7711226703777516,"2014-08-31",1.7711226703777516,4.8392411856057675,1,1,1,1,1,{"$error":"#N/A"},{"$error":"#N/A"},{"$error":"#N/A"},{"$error":"#N/A"},{"$error":"#N/A"},{"$error":"#N/A"},45628.089844000002,0,0,0,0,0,1,1,1,1,1,1,45628.089844000002,0,0,0,0,0,3.6963644321168353E-2,4.0485883007456466E-2,false,false,false,false,false,4.8392411856057675,1,1,1,1,1,16.664999999999999,29.61,0,0,0,0,548.76800000000003,9.6127041498043821E-3,4.2116080340634859E-3,13.143599999999999,61.2,1.67,0.90480000000000005,17979.460999999999]
["1960-09-01","2014-09-30","2006-06-15","2014-09-30",true,1972.290039,53.52,1,1972.290039,-1.5635436078483781E-2,1.7436457615674332,"2014-09-30",1.7436457615674332,"2014-09-30",1.7436457615674332,4.7711061351214159,1,1,1,1,1,{"$error":"#N/A"},{"$error":"#N/A"},{"$error":"#N/A"},{"$error":"#N/A"},{"$error":"#N/A"},{"$error":"#N/A"},44985.660155999998,0,0,0,0,0,1,1,1,1,1,1,44985.660155999998,0,0,0,0,0,-1.5635436078483781E-2,-1.4179756431389192E-2,false,false,false,false,false,4.7711061351214159,1,1,1,1,1,16.664999999999999,29.61,0,0,0,0,548.76800000000003,9.6127041498043821E-3,4.2113774573387464E-3,13.237,61.2,1.629,0.90480000000000005,17979.460999999999]
["1960-10-01",{"$f":"IF(B138<=$D$2,EOMONTH(B138,1))","v":"2014-10-31"},"2006-06-22","2014-10-31",true,{"$f":"LOOKUP(D139,A:A,G:G)","v":2018.0500489999999},{"$f":"IFERROR(LOOKUP($A139,INDIRECT(\"'\"&G$7&\"'!A:A\"),INDIRECT(\"'\"&G$7&\"'!\"&$G$9&\":\"&$G$9)),0)","v":53.389999000000003},{"$f":"IF(H$8,INDEX($BN139:$BT139,H$8),1)","v":1},{"$f":"IF(ISNUMBER(F139),F139,I140)*H139","v":2018.0500489999999},2.2936398946422354E-2,1.7841008903304616,"2014-10-31",1.7841008903304616,"2014-10-31",1.7841008903304616,4.7755456725247196,1,1,1,1,1,{"$f":"LOOKUP($A139,INDIRECT(\"'\"&V$5&\"'!A:A\"),INDIRECT(\"'\"&V$5&\"'!\"&V$7&\":\"&V$7))","v":{"$error":"#N/A"}},{"$error":"#N/A"},{"$error":"#N/A"},{"$error":"#N/A"},{"$error":"#N/A"},{"$error":"#N/A"},{"$f":"IF(ISNUMBER(LOOKUP($D139,$A:$A,V:V)),LOOKUP($D139,$A:$A,V:V),AB138)","v":45027.519530999998},{"$f":"IF(ISNUMBER(LOOKUP($D139,$A:$A,W:W)),LOOKUP($D139,$A:$A,W:W),AC138)","v":0},{"$f":"IF(ISNUMBER(LOOKUP($D139,$A:$A,X:X)),LOOKUP($D139,$A:$A,X:X),AD138)","v":0},{"$f":"IF(ISNUMBER(LOOKUP($D139,$A:$A,Y:Y)),LOOKUP($D139,$A:$A,Y:Y),AE138)","v":0},{"$f":"IF(ISNUMBER(LOOKUP($D139,$A:$A,Z:Z)),LOOKUP($D139,$A:$A,Z:Z),AF138)","v":0},{"$f":"IF(ISNUMBER(LOOKUP($D139,$A:$A,AA:AA)),LOOKUP($D139,$A:$A,AA:AA),AG138)","v":0},1,1,1,1,1,1,{"$f":"IFERROR(IF(ISNUMBER(AB139)>0.1,AB139,AN140)*AH139,AN140)","v":45027.519530999998},{"$f":"IFERROR(IF(ISNUMBER(AC139)>0.1,AC139,AO140)*AI139,AO140)","v":0},{"$f":"IFERROR(IF(ISNUMBER(AD139)>0.1,AD139,AP140)*AJ139,AP140)","v":0},{"$f":"IFERROR(IF(ISNUMBER(AE139)>0.1,AE139,AQ140)*AK139,AQ140)","v":0},{"$f":"IFERROR(IF(ISNUMBER(AF139)>0.1,AF139,AR140)*AL139,AR140)","v":0},{"$f":"IF(ISNUMBER(AG139)>0.1,AG139,AS140)","v":0},2.2936398946422354E-2,{"$f":"IF(E139,IFERROR(LN(AN139/AN138),FALSE))","v":9.3007219971641647E-4},{"$f":"IF(E139,IFERROR(LN(AO139/AO138),FALSE))","v":false},{"$f":"IF(E139,IFERROR(LN(AP139/AP138),FALSE))","v":false},{"$f":"IF(E139,IFERROR(LN(AQ139/AQ138),FALSE))","v":false},{"$f":"IF(E139,IFERROR(LN(AR139/AR138),FALSE))","v":false},{"$f":"IF(E139,IFERROR(LN(AS139/AS138),FALSE))","v":false},4.7755456725247196,1,1,1,1,1,{"$f":"IFERROR(LOOKUP($A139,INDIRECT(\"'\"&BN$6&\"'!A:A\"),INDIRECT(\"'\"&BN$6&\"'!\"&BN$7&\":\"&BN$7)),0)","v":16.713999999999999},{"$f":"IFERROR(LOOKUP($A139,INDIRECT(\"'\"&BO$6&\"'!A:A\"),INDIRECT(\"'\"&BO$6&\"'!\"&BO$7&\":\"&BO$7)),0)","v":29.75},{"$f":"IFERROR(LOOKUP($A139,INDIRECT(\"'\"&BP$6&\"'!A:A\"),INDIRECT(\"'\"&BP$6&\"'!\"&BP$7&\":\"&BP$7)),0)","v":0},{"$f":"IFERROR(LOOKUP($A139,INDIRECT(\"'\"&BQ$6&\"'!A:A\"),INDIRECT(\"'\"&BQ$6&\"'!\"&BQ$7&\":\"&BQ$7)),0)","v":0},{"$f":"IFERROR(LOOKUP($A139,INDIRECT(\"'\"&BR$6&\"'!A:A\"),INDIRECT(\"'\"&BR$6&\"'!\"&BR$7&\":\"&BR$7)),0)","v":0},{"$f":"IFERROR(LOOKUP($A139,INDIRECT(\"'\"&BS$6&\"'!A:A\"),INDIRECT(\"'\"&BS$6&\"'!\"&BS$7&\":\"&BS$7)),0)","v":0},{"$f":"IFERROR(LOOKUP($A139,INDIRECT(\"'\"&BT$6&\"'!A:A\"),INDIRECT(\"'\"&BT$6&\"'!\"&BT$7&\":\"&BT$7)),0)","v":543.553},{"$f":"IFERROR(1/IFERROR(LOOKUP($D139,$A:$A,BG:BG)*1,0),1)","v":9.5938906104592585E-3},{"$f":"IFERROR(1/IFERROR(LOOKUP($D139,$A:$A,BH:BH)*1,0),1)","v":4.2114661377065194E-3},13.4795,61.71,1.6073999999999999,0.95660000000000001,18063.276999999998]
["1960-11-01","2014-11-30",{"$f":"IF(C139<=$D$2,C139+7)","v":"2006-06-29"},"2014-11-30",{"$f":"AND(D140>=$D$4,D139<=$D$2)","v":true},2067.5600589999999,55.540000999999997,1,2067.5600589999999,{"$f":"IFERROR(LN(I140/I139),FALSE)","v":2.4237473674625542E-2},1.8278712878808299,"2014-11-30",1.8278712878808299,"2014-11-30",1.8278712878808299,4.6867694246539946,1,1,1,1,1,{"$error":"#N/A"},{"$error":"#N/A"},{"$error":"#N/A"},{"$error":"#N/A"},{"$error":"#N/A"},{"$error":"#N/A"},44190.46875,0,0,0,0,0,1,1,1,1,1,1,44190.46875,0,0,0,0,0,2.4237473674625542E-2,-1.8764721296211199E-2,false,false,false,false,false,{"$f":"IFERROR(IF($E140,BA139*AN140/AN139,1),1)","v":4.6867694246539946},{"$f":"IFERROR(IF($E140,BB139*AO140/AO139,1),1)","v":1},{"$f":"IFERROR(IF($E140,BC139*AP140/AP139,1),1)","v":1},{"$f":"IFERROR(IF($E140,BD139*AQ140/AQ139,1),1)","v":1},{"$f":"IFERROR(IF($E140,BE139*AR140/AR139,1),1)","v":1},{"$f":"IFERROR(IF($E140,BF139*AS140/AS139,1),1)","v":1},16.713999999999999,29.78,0,0,0,0,543.553,9.5938906104592585E-3,4.2186616717712474E-3,{"$f":"IFERROR(LOOKUP($D140,$A:$A,BI:BI)*1,BP139)","v":13.614800000000001},{"$f":"IFERROR(LOOKUP($D140,$A:$A,BJ:BJ)*1,BQ139)","v":61.44},{"$f":"IFERROR(LOOKUP($D140,$A:$A,BK:BK)*1,BR139)","v":1.5770999999999999},{"$f":"IFERROR(LOOKUP($D140,$A:$A,BL:BL)*1,BS139)","v":0.96230000000000004},{"$f":"IFERROR(LOOKUP($D140,$A:$A,BM:BM)*1,BT139)","v":18063.276999999998}]
["1960-12-01","2014-12-31","2006-07-06",{"$f":"IF($D$6,C141,B141)","v":"2014-12-31"},true,2058.8999020000001,58.110000999999997,1,2058.8999020000001,-4.1973845845717124E-3,{"$f":"IF($E141,(K140*I141/I140),1)","v":1.8202150883620134},{"$f":"IF(E141,D141,NA())","v":"2014-12-31"},{"$f":"CHOOSE($M$1,I141,J141,K141)","v":1.8202150883620134},{"$f":"L141","v":"2014-12-31"},{"$f":"M141","v":1.8202150883620134},{"$f":"IFERROR(CHOOSE($M$1,AN141,AU141,BA141),1)","v":4.5759587201856258},{"$f":"IFERROR(CHOOSE($M$1,AO141,AV141,BB141),1)","v":1},{"$f":"IFERROR(CHOOSE($M$1,AP141,AW141,BC141),1)","v":1},{"$f":"IFERROR(CHOOSE($M$1,AQ141,AX141,BD141),1)","v":1},{"$f":"IFERROR(CHOOSE($M$1,AR141,AY141,BE141),1)","v":1},{"$f":"IFERROR(CHOOSE($M$1,AS141,AZ141,BF141),1)","v":1},{"$error":"#N/A"},{"$error":"#N/A"},{"$error":"#N/A"},{"$error":"#N/A"},{"$error":"#N/A"},{"$error":"#N/A"},43145.660155999998,0,0,0,0,0,1,1,1,1,1,1,43145.660155999998,0,0,0,0,0,{"$f":"J141","v":-4.1973845845717124E-3},-2.3927289977542801E-2,false,false,false,false,false,4.5759587201856258,1,1,1,1,1,16.713999999999999,29.81,0,0,0,0,543.553,9.5938906104592585E-3,4.2324459305032374E-3,14.5205,61.94,1.5644,0.96309999999999996,18063.276999999998]
["1961-01-01","2015-01-31","2006-07-13","2015-01-31",true,1994.98999,61.779998999999997,1,1994.98999,-3.1532779216949261E-2,1.7637141453072844,"2015-01-31",1.7637141453072844,"2015-01-31",1.7637141453072844,4.3431518810977696,1,1,1,1,1,{"$error":"#N/A"},{"$error":"#N/A"},{"$error":"#N/A"},{"$error":"#N/A"},{"$error":"#N/A"},{"$error":"#N/A"},40950.578125,0,0,0,0,0,1,1,1,1,1,1,40950.578125,0,0,0,0,0,-3.1532779216949261E-2,-5.2215908686335161E-2,false,false,false,false,false,4.3431518810977696,1,1,1,1,1,16.75,29.84,0,0,0,0,548.59400000000005,9.6017206283365991E-3,4.2582908923674391E-3,14.6972,61.94,1.5142,0.96309999999999996,18202.705999999998]
["1961-02-01","2015-02-28","2006-07-20","2015-02-28",true,2104.5,63.439999,1,2104.5,5.343887644310899E-2,1.8605288434550893,"2015-02-28",1.8605288434550893,"2015-02-28",1.8605288434550893,4.6867379385731196,1,1,1,1,1,{"$error":"#N/A"},{"$error":"#N/A"},{"$error":"#N/A"},{"$error":"#N/A"},{"$error":"#N/A"},{"$error":"#N/A"},44190.171875,0,0,0,0,0,1,1,1,1,1,1,44190.171875,0,0,0,0,0,5.343887644310899E-2,7.6136480563671796E-2,false,false,false,false,false,4.6867379385731196,1,1,1,1,1,16.75,29.84,0,0,0,0,548.59400000000005,9.6017206283365991E-3,4.2503634060712192E-3,14.917,62.01,1.5328999999999999,0.92100000000000004,18202.705999999998]
["1961-03-01","2015-03-31","2006-07-27","2015-03-31",true,2067.889893,65.059997999999993,1,2067.889893,-1.7549197229950769E-2,1.8281628847782172,"2015-03-31",1.8281628847782172,"2015-03-31",1.8281628847782172,4.6373793638969776,1,1,1,1,1,{"$error":"#N/A"},{"$error":"#N/A"},{"$error":"#N/A"},{"$error":"#N/A"},{"$error":"#N/A"},{"$error":"#N/A"},43724.78125,0,0,0,0,0,1,1,1,1,1,1,43724.78125,0,0,0,0,0,-1.7549197229950769E-2,-1.0587390556337393E-2,false,false,false,false,false,4.6373793638969776,1,1,1,1,1,16.75,29.84,0,0,0,0,548.59400000000005,9.6017206283365991E-3,4.2380782857820952E-3,15.237500000000001,61.67,1.4958,0.95130000000000003,18202.705999999998]
["1961-04-01","2015-04-30","2006-08-03","2015-04-30",true,2085.51001,65.309997999999993,1,2085.51001,8.4847224530057719E-3,1.8437403311567173,"2015-04-30",1.8437403311567173,"2015-04-30",1.8437403311567173,4.7283360228947755,1,1,1,1,1,{"$error":"#N/A"},{"$error":"#N/A"},{"$error":"#N/A"},{"$error":"#N/A"},{"$error":"#N/A"},{"$error":"#N/A"},44582.390625,0,0,0,0,0,1,1,1,1,1,1,44582.390625,0,0,0,0,0,8.4847224530057719E-3,1.9423933991262504E-2,false,false,false,false,false,4.7283360228947755,1,1,1,1,1,16.789000000000001,29.81,0,0,0,0,558.94500000000005,9.5476331417441614E-3,4.234327694620287E-3,15.1943,62.14,1.4967999999999999,0.96709999999999996,18440.563999999998]
["1961-05-01","2015-05-31","2006-08-10","2015-05-31",true,2107.389893,66.559997999999993,1,2107.389893,1.0436729763142673E-2,1.8630837160048632,"2015-05-31",1.8630837160048632,"2015-05-31",1.8630837160048632,4.7411935297626036,1,1,1,1,1,{"$error":"#N/A"},{"$error":"#N/A"},{"$error":"#N/A"},{"$error":"#N/A"},{"$error":"#N/A"},{"$error":"#N/A"},44703.621094000002,0,0,0,0,0,1,1,1,1,1,1,44703.621094000002,0,0,0,0,0,1.0436729763142673E-2,2.7155551281666532E-3,false,false,false,false,false,4.7411935297626036,1,1,1,1,1,16.789000000000001,29.84,0,0,0,0,558.94500000000005,9.5476331417441614E-3,4.2202640197170739E-3,15.2796,63.63,1.5456000000000001,0.93400000000000005,18440.563999999998]
["1961-06-01","2015-06-30","2006-08-17","2015-06-30",true,2063.110107,64.639999000000003,1,2063.110107,-2.1235559276432083E-2,1.8239372113552936,"2015-06-30",1.8239372113552936,"2015-06-30",1.8239372113552936,4.7783222477622331,1,1,1,1,1,{"$error":"#N/A"},{"$error":"#N/A"},{"$error":"#N/A"},{"$error":"#N/A"},{"$error":"#N/A"},{"$error":"#N/A"},45053.699219000002,0,0,0,0,0,1,1,1,1,1,1,45053.699219000002,0,0,0,0,0,-2.1235559276432083E-2,7.8005871597040715E-3,false,false,false,false,false,4.7783222477622331,1,1,1,1,1,16.789000000000001,29.84,0,0,0,0,558.94500000000005,9.5476331417441614E-3,4.2084353878914897E-3,15.479200000000001,63.59,1.5576000000000001,0.94669999999999999,18440.563999999998]
["1961-07-01","2015-07-31","2006-08-24","2015-07-31",true,2103.8400879999999,66.760002,1,2103.8400879999999,1.954968324649287E-2,1.8599454339468251,"2015-07-31",1.8599454339468251,"2015-07-31",1.8599454339468251,4.7464231192480471,1,1,1,1,1,{"$error":"#N/A"},{"$error":"#N/A"},{"$error":"#N/A"},{"$error":"#N/A"},{"$error":"#N/A"},{"$error":"#N/A"},44752.929687999997,0,0,0,0,0,1,1,1,1,1,1,44752.929687999997,0,0,0,0,0,1.954968324649287E-2,-6.6981838463043997E-3,false,false,false,false,false,4.7464231192480471,1,1,1,1,1,16.832000000000001,29.92,0,0,0,0,571.16600000000005,9.5132090908226063E-3,4.2018042547469882E-3,15.951499999999999,63.55,1.556,0.9456,18549.706999999999]
["1961-08-01","2015-08-31","2006-08-31","2015-08-31",true,1972.1800539999999,68.069999999999993,1,1972.1800539999999,-6.4624730898542204E-2,1.7435485269440796,"2015-08-31",1.7435485269440796,"2015-08-31",1.7435485269440796,4.6084867417892532,1,1,1,1,1,{"$error":"#N/A"},{"$error":"#N/A"},{"$error":"#N/A"},{"$error":"#N/A"},{"$error":"#N/A"},{"$error":"#N/A"},43452.359375,0,0,0,0,0,1,1,1,1,1,1,43452.359375,0,0,0,0,0,-6.4624730898542204E-2,-2.9491759308445931E-2,false,false,false,false,false,4.6084867417892532,1,1,1,1,1,16.832000000000001,29.94,0,0,0,0,571.16600000000005,9.5132090908226063E-3,4.2018748765699256E-3,16.533999999999999,63.87,1.5578000000000001,0.96360000000000001,18549.706999999999]
["1961-09-01","2015-09-30","2006-09-07","2015-09-30",true,1920.030029,66.730002999999996,1,1920.030029,-2.6798731264652844E-2,1.6974441669063491,"2015-09-30",1.6974441669063491,"2015-09-30",1.6974441669063491,4.5215379295073754,1,1,1,1,1,{"$error":"#N/A"},{"$error":"#N/A"},{"$error":"#N/A"},{"$error":"#N/A"},{"$error":"#N/A"},{"$error":"#N/A"},42632.539062999997,0,0,0,0,0,1,1,1,1,1,1,42632.539062999997,0,0,0,0,0,-2.6798731264652844E-2,-1.9047361680448783E-2,false,false,false,false,false,4.5215379295073754,1,1,1,1,1,16.832000000000001,29.98,0,0,0,0,571.16600000000005,9.5132090908226063E-3,4.2111114386420003E-3,16.838699999999999,66.34,1.5338000000000001,0.96220000000000006,18549.706999999999]
["1961-10-01","2015-10-31","2006-09-14","2015-10-31",true,2079.360107,68.620002999999997,1,2079.360107,7.9719379495131665E-2,1.8383033761004328,"2015-10-31",1.8383033761004328,"2015-10-31",1.8383033761004328,4.7241330454150825,1,1,1,1,1,{"$error":"#N/A"},{"$error":"#N/A"},{"$error":"#N/A"},{"$error":"#N/A"},{"$error":"#N/A"},{"$error":"#N/A"},44542.761719000002,0,0,0,0,0,1,1,1,1,1,1,44542.761719000002,0,0,0,0,0,7.9719379495131665E-2,4.3831875795622657E-2,false,false,false,false,false,4.7241330454150825,1,1,1,1,1,16.885000000000002,29.98,0,0,0,0,584.20899999999995,9.5106757335108663E-3,4.2058511801618412E-3,16.569700000000001,65.569999999999993,1.5343,0.97440000000000004,18589.168000000001]
["1961-11-01","2015-11-30","2006-09-21","2015-11-30",true,2080.4099120000001,71.319999999999993,1,2080.4099120000001,5.0474185711855491E-4,1.8392314789669113,"2015-11-30",1.8392314789669113,"2015-11-30",1.8392314789669113,4.6049010571578863,1,1,1,1,1,{"$error":"#N/A"},{"$error":"#N/A"},{"$error":"#N/A"},{"$error":"#N/A"},{"$error":"#N/A"},{"$error":"#N/A"},43418.550780999998,0,0,0,0,0,1,1,1,1,1,1,43418.550780999998,0,0,0,0,0,5.0474185711855491E-4,-2.5562878141663251E-2,false,false,false,false,false,4.6049010571578863,1,1,1,1,1,16.885000000000002,29.98,0,0,0,0,584.20899999999995,9.5106757335108663E-3,4.2004099600120972E-3,16.630600000000001,65.400000000000006,1.5194000000000001,0.98580000000000001,18589.168000000001]
["1961-12-01","2015-12-31","2006-09-28","2015-12-31",true,2043.9399410000001,71.550003000000004,1,2043.9399410000001,-1.7685658536441762E-2,1.8069894105585147,"2015-12-31",1.8069894105585147,"2015-12-31",1.8069894105585147,4.5581239268494294,1,1,1,1,1,{"$error":"#N/A"},{"$error":"#N/A"},{"$error":"#N/A"},{"$error":"#N/A"},{"$error":"#N/A"},{"$error":"#N/A"},42977.5,0,0,0,0,0,1,1,1,1,1,1,42977.5,0,0,0,0,0,-1.7685658536441762E-2,-1.0210064197756814E-2,false,false,false,false,false,4.5581239268494294,1,1,1,1,1,16.885000000000002,30.01,0,0,0,0,584.20899999999995,9.5106757335108663E-3,4.2047370567681553E-3,17.069600000000001,66.459999999999994,1.4981,1.0296000000000001,18589.168000000001]
["1962-01-01","2016-01-31","2006-10-05","2016-01-31",true,1940.23999,68.839995999999999,1,1940.23999,-5.2067617227535473E-2,1.7153112210121237,"2016-01-31",1.7153112210121237,"2016-01-31",1.7153112210121237,4.6274086334966942,1,1,1,1,1,{"$error":"#N/A"},{"$error":"#N/A"},{"$error":"#N/A"},{"$error":"#N/A"},{"$error":"#N/A"},{"$error":"#N/A"},43630.769530999998,0,0,0,0,0,1,1,1,1,1,1,43630.769530999998,0,0,0,0,0,-5.2067617227535473E-2,1.5085901704039987E-2,false,false,false,false,false,4.6274086334966942,1,1,1,1,1,16.972000000000001,30.04,0,0,0,0,597.61400000000003,9.5188234734186854E-3,4.2018572208916338E-3,18.064800000000002,66.459999999999994,1.4392,1.0296000000000001,18613.263999999999]
["1962-02-01","2016-02-29","2006-10-12","2016-02-29",true,1932.2299800000001,69.959998999999996,1,1932.2299800000001,-4.1369056367907874E-3,1.7082297980416492,"2016-02-29",1.7082297980416492,"2016-02-29",1.7082297980416492,4.6363345232136179,1,1,1,1,1,{"$error":"#N/A"},{"$error":"#N/A"},{"$error":"#N/A"},{"$error":"#N/A"},{"$error":"#N/A"},{"$error":"#N/A"},43714.929687999997,0,0,0,0,0,1,1,1,1,1,1,43714.929687999997,0,0,0,0,0,-4.1369056367907874E-3,1.927059575846015E-3,false,false,false,false,false,4.6363345232136179,1,1,1,1,1,16.972000000000001,30.11,0,0,0,0,597.61400000000003,9.5188234734186854E-3,4.20995907919775E-3,18.433199999999999,67.92,1.429,1.0202,18613.263999999999]
["1962-03-01","2016-03-31","2006-10-19","2016-03-31",true,2059.73999,69.550003000000004,1,2059.73999,6.3904990415635493E-2,1.820957786368685,"2016-03-31",1.820957786368685,"2016-03-31",1.820957786368685,4.8660727122613103,1,1,1,1,1,{"$error":"#N/A"},{"$error":"#N/A"},{"$error":"#N/A"},{"$error":"#N/A"},{"$error":"#N/A"},{"$error":"#N/A"},45881.078125,0,0,0,0,0,1,1,1,1,1,1,45881.078125,0,0,0,0,0,6.3904990415635493E-2,4.8363106572900383E-2,false,false,false,false,false,4.8660727122613103,1,1,1,1,1,16.972000000000001,30.17,0,0,0,0,597.61400000000003,9.5188234734186854E-3,4.2012923175168684E-3,17.630299999999998,67.75,1.4249000000000001,0.99939999999999996,18613.263999999999]
["1962-04-01","2016-04-30","2006-10-26","2016-04-30",true,2065.3000489999999,65.239998,1,2065.3000489999999,2.6957616481642385E-3,1.8258732770509429,"2016-04-30",1.8258732770509429,"2016-04-30",1.8258732770509429,4.855858379024788,1,1,1,1,1,{"$error":"#N/A"},{"$error":"#N/A"},{"$error":"#N/A"},{"$error":"#N/A"},{"$error":"#N/A"},{"$error":"#N/A"},45784.769530999998,0,0,0,0,0,1,1,1,1,1,1,45784.769530999998,0,0,0,0,0,2.6957616481642385E-3,-2.1012979621067994E-3,false,false,false,false,false,4.855858379024788,1,1,1,1,1,16.998999999999999,30.21,0,0,0,0,604.35799999999995,9.453761651761235E-3,4.1868507764514767E-3,17.479500000000002,66.34,1.4319,0.95879999999999999,18853.258999999998]
["1962-05-01","2016-05-31","2006-11-02","2016-05-31",true,2096.9499510000001,59.630001,1,2096.9499510000001,1.5208366645339389E-2,1.8538540589770665,"2016-05-31",1.8538540589770665,"2016-05-31",1.8538540589770665,4.8213554345069056,1,1,1,1,1,{"$error":"#N/A"},{"$error":"#N/A"},{"$error":"#N/A"},{"$error":"#N/A"},{"$error":"#N/A"},{"$error":"#N/A"},45459.449219000002,0,0,0,0,0,1,1,1,1,1,1,45459.449219000002,0,0,0,0,0,1.5208366645339389E-2,-7.1307902013026435E-3,false,false,false,false,false,4.8213554345069056,1,1,1,1,1,16.998999999999999,30.24,0,0,0,0,604.35799999999995,9.453761651761235E-3,4.1764290696168962E-3,18.135999999999999,66.39,1.4523999999999999,0.95979999999999999,18853.258999999998]
["1962-06-01","2016-06-30","2006-11-09","2016-06-30",true,2098.860107,54.75,1,2098.860107,9.1050648411568206E-4,1.8555427737945995,"2016-06-30",1.8555427737945995,"2016-06-30",1.8555427737945995,4.8751311748442792,1,1,1,1,1,{"$error":"#N/A"},{"$error":"#N/A"},{"$error":"#N/A"},{"$error":"#N/A"},{"$error":"#N/A"},{"$error":"#N/A"},45966.488280999998,0,0,0,0,0,1,1,1,{"$f":"IF(AK$7,INDEX($BN159:$BT159,AK$7),1)","v":1},1,1,45966.488280999998,0,0,0,0,0,9.1050648411568206E-4,1.1091912739306323E-2,false,false,false,false,false,4.8751311748442792,1,1,1,1,1,16.998999999999999,30.21,0,0,0,0,604.35799999999995,9.453761651761235E-3,4.1653823404450294E-3,18.6538,67.44,1.4197,0.98919999999999997,18853.258999999998]
["1962-07-01","2016-07-31","2006-11-16","2016-07-31",true,2173.6000979999999,58.23,1,2173.6000979999999,3.4990433050203752E-2,1.9216182829488277,"2016-07-31",1.9216182829488277,"2016-07-31",1.9216182829488277,4.9487551606377229,1,1,1,1,1,{"$error":"#N/A"},{"$error":"#N/A"},{"$error":"#N/A"},{"$error":"#N/A"},{"$error":"#N/A"},{"$error":"#N/A"},46660.671875,0,0,0,0,0,1,1,1,1,1,1,46660.671875,0,0,0,0,0,3.4990433050203752E-2,1.4989050505901524E-2,false,false,false,false,false,4.9487551606377229,1,1,1,1,1,17.035,30.22,0,0,0,0,613.07799999999997,9.4186791244395881E-3,4.165659965508336E-3,18.615500000000001,67.239999999999995,1.3133999999999999,0.97299999999999998,18997.498]
["1962-08-01","2016-08-31","2006-11-23","2016-08-31",true,2170.9499510000001,59.119999,1,2170.9499510000001,-1.2199870176702919E-3,1.9192753630472381,"2016-08-31",1.9192753630472381,"2016-08-31",1.9192753630472381,5.0421553052806258,1,1,1,1,1,{"$error":"#N/A"},{"$error":"#N/A"},{"$error":"#N/A"},{"$error":"#N/A"},{"$error":"#N/A"},{"$error":"#N/A"},47541.320312999997,0,0,0,0,0,1,1,1,1,1,1,47541.320312999997,0,0,0,0,0,-1.2199870176702919E-3,1.8697568353939268E-2,false,false,false,false,false,5.0421553052806258,1,1,1,1,1,17.035,30.28,0,0,0,0,613.07799999999997,9.4186791244395881E-3,4.1568115592615839E-3,18.4742,66.63,1.3101,0.96709999999999996,18997.498]
["1962-09-01","2016-09-30","2006-11-30","2016-09-30",true,2168.2700199999999,56.27,1,2168.2700199999999,-1.2352134063971093E-3,1.9169061119548314,"2016-09-30",1.9169061119548314,"2016-09-30",1.9169061119548314,5.0108129831432153,1,1,1,1,1,{"$error":"#N/A"},{"$error":"#N/A"},{"$error":"#N/A"},{"$error":"#N/A"},{"$error":"#N/A"},{"$error":"#N/A"},47245.800780999998,0,0,0,0,0,1,1,1,1,1,1,47245.800780999998,0,0,0,0,0,-1.2352134063971093E-3,-6.235456591454528E-3,false,false,false,false,false,5.0108129831432153,1,1,1,1,1,17.035,30.42,0,0,0,0,613.07799999999997,9.4186791244395881E-3,4.1490849193210437E-3,19.243600000000001,66.849999999999994,1.3140000000000001,0.97919999999999996,18997.498]
["1962-10-01","2016-10-31","2006-12-07","2016-10-31",true,2126.1499020000001,56.52,1,2126.1499020000001,-1.9616837421336072E-2,1.8796689086149732,"2016-10-31",1.8796689086149732,"2016-10-31",1.8796689086149732,5.0917864830776258,1,1,1,1,1,{"$error":"#N/A"},{"$error":"#N/A"},{"$error":"#N/A"},{"$error":"#N/A"},{"$error":"#N/A"},{"$error":"#N/A"},48009.28125,0,0,0,0,0,1,1,1,1,1,1,48009.28125,0,0,0,0,0,-1.9616837421336072E-2,1.6030573960795259E-2,false,false,false,false,false,5.0917864830776258,1,1,1,1,1,17.07,30.38,0,0,0,0,617.01,9.370314842578711E-3,4.1379253269995487E-3,18.891200000000001,66.58,1.2330000000000001,0.96940000000000004,19226.021000000001]
["1962-11-01","2016-11-30","2006-12-14","2016-11-30",true,2198.8100589999999,62.259998000000003,1,2198.8100589999999,3.3603545390870432E-2,1.9439056954377218,"2016-11-30",1.9439056954377218,"2016-11-30",1.9439056954377218,4.8061373002075944,1,1,1,1,1,{"$error":"#N/A"},{"$error":"#N/A"},{"$error":"#N/A"},{"$error":"#N/A"},{"$error":"#N/A"},{"$error":"#N/A"},45315.960937999997,0,0,0,0,0,1,1,1,1,1,1,45315.960937999997,0,0,0,0,0,3.3603545390870432E-2,-5.7735042571855515E-2,false,false,false,false,false,4.8061373002075944,1,1,1,1,1,17.07,30.38,0,0,0,0,617.01,9.370314842578711E-3,4.1308487654958467E-3,20.008600000000001,66.7,1.2432000000000001,0.97899999999999998,19226.021000000001]
["1962-12-01","2016-12-31","2006-12-21","2016-12-31",true,2238.830078,63.099997999999999,1,2238.830078,1.8037111058687334E-2,1.9792862607335742,"2016-12-31",1.9792862607335742,"2016-12-31",1.9792862607335742,4.9755663870834272,1,1,1,1,1,{"$error":"#N/A"},{"$error":"#N/A"},{"$error":"#N/A"},{"$error":"#N/A"},{"$error":"#N/A"},{"$error":"#N/A"},46913.46875,0,0,0,0,0,1,1,1,1,1,1,46913.46875,0,0,0,0,0,1.8037111058687334E-2,3.4645505374956358E-2,false,false,false,false,false,4.9755663870834272,1,1,1,1,1,17.07,30.38,0,0,0,0,617.01,9.370314842578711E-3,4.1188875708448661E-3,20.499199999999998,68.290000000000006,1.2483,1.0125999999999999,19226.021000000001]
["1963-01-01","2017-01-31","2006-12-28","2017-01-31",true,2278.8701169999999,66.199996999999996,1,2278.8701169999999,1.7726314594617782E-2,2.0146845251443923,"2017-01-31",2.0146845251443923,"2017-01-31",2.0146845251443923,4.9848560238395301,1,1,1,1,1,{"$error":"#N/A"},{"$error":"#N/A"},{"$error":"#N/A"},{"$error":"#N/A"},{"$error":"#N/A"},{"$error":"#N/A"},47001.058594000002,0,0,0,0,0,1,1,1,1,1,1,47001.058594000002,0,0,0,0,0,1.7726314594617782E-2,1.8653103385317853E-3,false,false,false,false,false,4.9848560238395301,1,1,1,1,1,17.145,30.44,0,0,0,0,626.17899999999997,9.3218364017711476E-3,4.0978904060189813E-3,21.391100000000002,67.92,1.2366999999999999,1.016,19395.280999999999]
["1963-02-01","2017-02-28","2007-01-04","2017-02-28",true,2363.639893,64.290001000000004,1,2363.639893,3.6523000999039816E-2,2.0896270831397485,"2017-02-28",2.0896270831397485,"2017-02-28",2.0896270831397485,4.9695550314326553,1,1,1,1,1,{"$error":"#N/A"},{"$error":"#N/A"},{"$error":"#N/A"},{"$error":"#N/A"},{"$error":"#N/A"},{"$error":"#N/A"},46856.789062999997,0,0,0,0,0,1,1,1,1,1,1,46856.789062999997,0,0,0,0,0,3.6523000999039816E-2,-3.0742159174399668E-3,false,false,false,false,false,4.9695550314326553,1,1,1,1,1,17.145,30.48,0,0,0,0,626.17899999999997,9.3218364017711476E-3,4.0966481225061654E-3,20.300799999999999,67.400000000000006,1.2495000000000001,0.99299999999999999,19395.280999999999]
["1963-03-01","2017-03-31","2007-01-11","2017-03-31",true,2362.719971,66.569999999999993,1,2362.719971,-3.8927294496698804E-4,2.0888138061548451,"2017-03-31",2.0888138061548451,"2017-03-31",2.0888138061548451,5.1482389546594138,1,1,1,1,1,{"$error":"#N/A"},{"$error":"#N/A"},{"$error":"#N/A"},{"$f":"LOOKUP($A168,INDIRECT(\"'\"&Y$5&\"'!A:A\"),INDIRECT(\"'\"&Y$5&\"'!\"&Y$7&\":\"&Y$7))","v":{"$error":"#N/A"}},{"$error":"#N/A"},{"$error":"#N/A"},48541.558594000002,0,0,0,0,0,1,1,1,1,1,1,48541.558594000002,0,0,0,0,0,-3.8927294496698804E-4,3.5324400444108145E-2,false,false,false,false,false,5.1482389546594138,1,1,1,1,1,17.145,30.51,0,0,0,0,626.17899999999997,9.3218364017711476E-3,4.1031196018332739E-3,19.28,66.83,1.2346999999999999,1.0072000000000001,19395.280999999999]
["1963-04-01","2017-04-30","2007-01-18","2017-04-30",true,2384.1999510000001,69.800003000000004,1,2384.1999510000001,9.0501322804594966E-3,2.1078036480872937,"2017-04-30",2.1078036480872937,"2017-04-30",2.1078036480872937,5.2245765434225637,1,1,1,1,1,{"$error":"#N/A"},{"$error":"#N/A"},{"$error":"#N/A"},{"$error":"#N/A"},{"$error":"#N/A"},{"$error":"#N/A"},49261.328125,0,0,0,0,0,1,1,1,1,1,1,49261.328125,0,0,0,0,0,9.0501322804594966E-3,1.4719044599912598E-2,false,false,false,false,false,5.2245765434225637,1,1,1,1,1,17.175000000000001,30.48,0,0,0,0,634.08900000000006,9.2954080684142029E-3,4.0968998758639337E-3,18.767199999999999,64.849999999999994,1.2639,0.99980000000000002,19575.374]
["1963-05-01","2017-05-31","2007-01-25","2017-05-31",true,2411.8000489999999,70.800003000000004,1,2411.8000489999999,1.1509759254333795E-2,2.1322041130011389,"2017-05-31",2.1322041130011389,"2017-05-31",2.1322041130011389,5.1744229451778256,1,1,1,1,1,{"$error":"#N/A"},{"$error":"#N/A"},{"$error":"#N/A"},{"$error":"#N/A"},{"$error":"#N/A"},{"$error":"#N/A"},48788.441405999998,0,0,0,0,0,1,1,1,1,1,1,48788.441405999998,0,0,0,0,0,1.1509759254333795E-2,-9.6459254898300928E-3,false,false,false,false,false,5.1744229451778256,1,1,1,1,1,17.175000000000001,30.51,0,0,0,0,634.08900000000006,9.2954080684142029E-3,4.0998560950510641E-3,18.7666,64.25,1.2928999999999999,0.99550000000000005,19575.374]
["1963-06-01","2017-06-30","2007-02-01","2017-06-30",true,2423.4099120000001,69.370002999999997,1,2423.4099120000001,4.8022259241070758E-3,2.1424680640489231,"2017-06-30",2.1424680640489231,"2017-06-30",2.1424680640489231,5.2878043224068669,1,1,1,1,1,{"$error":"#N/A"},{"$error":"#N/A"},{"$error":"#N/A"},{"$error":"#N/A"},{"$error":"#N/A"},{"$error":"#N/A"},49857.488280999998,0,0,0,0,0,1,1,1,1,1,1,49857.488280999998,0,0,0,0,0,4.8022259241070758E-3,2.1675273025559771E-2,false,false,false,false,false,5.2878043224068669,1,1,1,1,1,17.175000000000001,30.61,0,0,0,0,634.08900000000006,9.2954080684142029E-3,4.0978232362968792E-3,18.129300000000001,64.39,1.2809999999999999,0.97119999999999995,19575.374]
["1963-07-01","2017-07-31","2007-02-08","2017-07-31",true,2470.3000489999999,69.129997000000003,1,2470.3000489999999,1.916401766181007E-2,2.1839223060836392,"2017-07-31",2.1839223060836392,"2017-07-31",2.1839223060836392,5.4102362907782027,1,1,1,1,1,{"$error":"#N/A"},{"$error":"#N/A"},{"$error":"#N/A"},{"$error":"#N/A"},{"$error":"#N/A"},{"$error":"#N/A"},51011.871094000002,0,0,0,0,0,1,1,1,1,1,1,51011.871094000002,0,0,0,0,0,1.916401766181007E-2,2.2889670792095466E-2,false,false,false,false,false,5.4102362907782027,1,1,1,1,1,17.198,30.69,0,0,0,0,648.88199999999995,9.2509505351674893E-3,4.0944004978791006E-3,17.8081,64.62,1.2996000000000001,0.95860000000000001,19842.993999999999]
["1963-08-01","2017-08-31","2007-02-15","2017-08-31",true,2471.6499020000001,72.5,1,2471.6499020000001,5.4628357104102084E-4,2.185115672888545,"2017-08-31",2.185115672888545,"2017-08-31",2.185115672888545,5.4313004788832373,1,1,1,1,1,{"$error":"#N/A"},{"$error":"#N/A"},{"$error":"#N/A"},{"$error":"#N/A"},{"$error":"#N/A"},{"$error":"#N/A"},51210.480469000002,0,0,0,0,0,{"$f":"IF(AH$7,INDEX($BN173:$BT173,AH$7),1)","v":1},1,1,1,1,1,51210.480469000002,0,0,0,0,0,5.4628357104102084E-4,3.8858355707002672E-3,false,false,false,false,false,5.4313004788832373,1,1,1,1,1,17.198,30.75,0,0,0,0,648.88199999999995,9.2509505351674893E-3,4.0772724678099339E-3,17.796900000000001,64.06,1.2951999999999999,0.96550000000000002,19842.993999999999]
["1963-09-01","2017-09-30","2007-02-22","2017-09-30",true,2519.360107,71.699996999999996,1,2519.360107,1.911903932397916E-2,2.2272949138149669,"2017-09-30",2.2272949138149669,"2017-09-30",2.2272949138149669,5.3396212971874775,1,1,1,1,1,{"$error":"#N/A"},{"$error":"#N/A"},{"$error":"#N/A"},{"$error":"#N/A"},{"$error":"#N/A"},{"$error":"#N/A"},50346.058594000002,0,0,0,0,0,1,1,1,1,1,1,50346.058594000002,0,0,0,0,0,1.911903932397916E-2,-1.7023871816483554E-2,false,false,false,false,false,5.3396212971874775,1,1,1,1,1,17.198,30.72,0,0,0,0,648.88199999999995,9.2509505351674893E-3,4.0585733303029319E-3,17.830500000000001,64.02,1.3340000000000001,0.96260000000000001,19842.993999999999]
["1963-10-01","2017-10-31","2007-03-01","2017-10-31",true,2575.26001,74.010002,1,2575.26001,2.1945560290305279E-2,2.2767144347832926,"2017-10-31",2.2767144347832926,"2017-10-31",2.2767144347832926,5.1571449583244648,1,1,1,1,1,{"$error":"#N/A"},{"$error":"#N/A"},{"$error":"#N/A"},{"$error":"#N/A"},{"$error":"#N/A"},{"$error":"#N/A"},48625.53125,0,0,0,0,0,1,1,1,1,1,1,48625.53125,0,0,0,0,0,2.1945560290305279E-2,-3.4771608612832475E-2,false,false,false,false,false,5.1571449583244648,1,1,1,1,1,17.337,30.75,0,0,0,0,658.56299999999999,9.1891494523266923E-3,4.0554296119359404E-3,18.8215,65.3,1.3202,0.96879999999999999,20102.594000000001]
["1963-11-01","2017-11-30","2007-03-08","2017-11-30",true,2584.8400879999999,73.230002999999996,1,2584.8400879999999,3.7131407628128972E-3,2.285183910402941,"2017-11-30",2.285183910402941,"2017-11-30",2.285183910402941,4.9945479366283152,1,1,1,1,1,{"$error":"#N/A"},{"$error":"#N/A"},{"$error":"#N/A"},{"$error":"#N/A"},{"$error":"#N/A"},{"$error":"#N/A"},47092.441405999998,0,0,0,0,0,1,1,1,1,1,1,47092.441405999998,0,0,0,0,0,3.7131407628128972E-3,-3.2036218887432931E-2,false,false,false,false,false,4.9945479366283152,1,1,1,1,1,17.337,30.78,0,0,0,0,658.56299999999999,9.1891494523266923E-3,4.0418574760216807E-3,18.930599999999998,64.56,1.3217000000000001,1.0014000000000001,20102.594000000001]
["1963-12-01","2017-12-31","2007-03-15","2017-12-31",true,2673.610107,75.019997000000004,1,2673.610107,3.3766014609890378E-2,2.3636629699342104,"2017-12-31",2.3636629699342104,"2017-12-31",2.3636629699342104,5.2344499155199449,1,1,1,1,1,{"$error":"#N/A"},{"$error":"#N/A"},{"$error":"#N/A"},{"$error":"#N/A"},{"$error":"#N/A"},{"$error":"#N/A"},49354.421875,0,0,0,0,0,1,1,1,1,1,1,49354.421875,0,0,0,0,0,3.3766014609890378E-2,4.6914855754368816E-2,false,false,false,false,false,5.2344499155199449,1,1,1,1,1,17.337,30.88,0,0,0,0,658.56299999999999,9.1891494523266923E-3,4.0337219152111652E-3,19.176500000000001,64.5,1.3404,0.97619999999999996,20102.594000000001]
["1964-01-01","2018-01-31","2007-03-22","2018-01-31",true,2823.8100589999999,77.040001000000004,1,2823.8100589999999,5.4657398659986728E-2,2.4964504933276861,"2018-01-31",2.4964504933276861,"2018-01-31",2.4964504933276861,5.3512997331316345,1,1,1,1,1,{"$error":"#N/A"},{"$error":"#N/A"},{"$error":"#N/A"},{"$error":"#N/A"},{"$error":"#N/A"},{"$error":"#N/A"},50456.171875,0,0,0,0,0,1,1,1,1,1,1,50456.171875,0,0,0,0,0,5.4657398659986728E-2,2.2077711593140967E-2,false,false,false,false,false,5.3512997331316345,1,1,1,1,1,17.391999999999999,30.94,0,0,0,0,674.88,9.1431915224328211E-3,4.0121165921081668E-3,18.911799999999999,64.5,1.3824000000000001,0.97619999999999996,20309.763999999999]
["1964-02-01","2018-02-28","2007-03-29","2018-02-28",true,2713.830078,77.800003000000004,1,2713.830078,-3.9726107788010244E-2,2.3992203071299465,"2018-02-28",2.3992203071299465,"2018-02-28",2.3992203071299465,5.0311898633255483,1,1,1,1,1,{"$error":"#N/A"},{"$error":"#N/A"},{"$error":"#N/A"},{"$error":"#N/A"},{"$error":"#N/A"},{"$error":"#N/A"},47437.929687999997,0,0,0,0,0,1,1,1,1,1,1,47437.929687999997,0,0,0,0,0,-3.9726107788010244E-2,-6.1682962692496297E-2,false,false,false,false,false,5.0311898633255483,1,1,1,1,1,17.391999999999999,30.91,0,0,0,0,674.88,9.1431915224328211E-3,4.0061053044840337E-3,18.647300000000001,63.97,1.3960999999999999,0.92879999999999996,20309.763999999999]
["1964-03-01","2018-03-31","2007-04-05","2018-03-31",true,2640.8701169999999,78.980002999999996,1,2640.8701169999999,-2.725249739187887E-2,2.3347184720822587,"2018-03-31",2.3347184720822587,"2018-03-31",2.3347184720822587,4.8919269276176758,1,1,1,1,1,{"$error":"#N/A"},{"$error":"#N/A"},{"$error":"#N/A"},{"$error":"#N/A"},{"$error":"#N/A"},{"$error":"#N/A"},46124.851562999997,0,0,0,0,0,1,1,1,1,1,1,46124.851562999997,0,0,0,0,0,-2.725249739187887E-2,-2.8070228887208535E-2,false,false,false,false,false,4.8919269276176758,1,1,1,1,1,17.391999999999999,30.94,0,0,0,0,674.88,9.1431915224328211E-3,4.0086265643665166E-3,18.5901,65.2,1.3976,0.94610000000000005,20309.763999999999]
["1964-04-01","2018-04-30","2007-04-12","2018-04-30",true,2648.0500489999999,79.459998999999996,1,2648.0500489999999,2.7150859477301889E-3,2.3410660466035447,"2018-04-30",2.3410660466035447,"2018-04-30",2.3410660466035447,5.1287880138556314,1,1,1,1,1,{"$error":"#N/A"},{"$error":"#N/A"},{"$error":"#N/A"},{"$error":"#N/A"},{"$error":"#N/A"},{"$error":"#N/A"},48358.160155999998,0,0,0,0,0,1,1,1,1,1,1,48358.160155999998,0,0,0,0,0,2.7150859477301889E-3,4.7283096065975319E-2,false,false,false,false,false,5.1287880138556314,1,1,1,1,1,17.431999999999999,30.95,0,0,0,0,683.54899999999998,9.0705416020390572E-3,3.9997920108154374E-3,18.387599999999999,65.11,1.4078999999999999,0.95320000000000005,20677.012999999999]
["1964-05-01","2018-05-31","2007-04-19","2018-05-31",true,2705.2700199999999,80.370002999999997,1,2705.2700199999999,2.1378191291432879E-2,2.391652602301888,"2018-05-31",2.391652602301888,"2018-05-31",2.391652602301888,4.7368376789949123,1,1,1,1,1,{"$error":"#N/A"},{"$error":"#N/A"},{"$error":"#N/A"},{"$error":"#N/A"},{"$error":"#N/A"},{"$error":"#N/A"},44662.550780999998,0,0,0,0,0,1,1,1,1,1,1,44662.550780999998,0,0,0,0,0,2.1378191291432879E-2,-7.9499619932142385E-2,false,false,false,false,false,4.7368376789949123,1,1,1,1,1,17.431999999999999,30.98,0,0,0,0,683.54899999999998,9.0705416020390572E-3,3.9914582792823358E-3,19.552499999999998,66.52,1.347,0.99539999999999995,20677.012999999999]
["1964-06-01","2018-06-30","2007-04-26","2018-06-30",true,2718.3701169999999,81.690002000000007,1,2718.3701169999999,4.830749144322073E-3,2.4032340270206145,"2018-06-30",2.4032340270206145,"2018-06-30",2.4032340270206145,5.0550815843247054,1,1,1,1,1,{"$error":"#N/A"},{"$error":"#N/A"},{"$error":"#N/A"},{"$error":"#N/A"},{"$error":"#N/A"},{"$error":"#N/A"},47663.199219000002,0,0,0,0,0,1,1,1,1,1,1,47663.199219000002,0,0,0,0,0,4.830749144322073E-3,6.5024234945502482E-2,false,false,false,false,false,5.0550815843247054,1,1,1,1,1,17.431999999999999,31.01,0,0,0,0,683.54899999999998,9.0705416020390572E-3,3.9863348441542389E-3,20.287800000000001,66.989999999999995,1.3293999999999999,0.98670000000000002,20677.012999999999]
["1964-07-01","2018-07-31","2007-05-03","2018-07-31",true,2816.290039,83.18,1,2816.290039,3.5387950784307211E-2,2.4898022566380402,"2018-07-31",2.4898022566380402,"2018-07-31",2.4898022566380402,5.2708904969627675,1,1,1,1,1,{"$error":"#N/A"},{"$error":"#N/A"},{"$error":"#N/A"},{"$error":"#N/A"},{"$error":"#N/A"},{"$error":"#N/A"},49698.011719000002,0,0,0,0,0,1,1,1,1,1,1,49698.011719000002,0,0,0,0,0,3.5387950784307211E-2,4.1805331359905239E-2,false,false,false,false,false,5.2708904969627675,1,1,1,1,1,17.501999999999999,31.02,0,0,0,0,697.07899999999995,9.0705416020390572E-3,3.979529301274245E-3,18.985600000000002,68.459999999999994,1.3162,0.99219999999999997,20677.012999999999]
["1964-08-01","2018-08-31","2007-05-10","2018-08-31",true,2901.5200199999999,81.830001999999993,1,2901.5200199999999,2.9814314708128044E-2,2.565151668839337,"2018-08-31",2.565151668839337,"2018-08-31",2.565151668839337,5.2549465256411922,1,1,1,1,1,{"$error":"#N/A"},{"$error":"#N/A"},{"$error":"#N/A"},{"$error":"#N/A"},{"$error":"#N/A"},{"$error":"#N/A"},49547.679687999997,0,0,0,0,0,1,1,1,1,1,1,49547.679687999997,0,0,0,0,0,2.9814314708128044E-2,-3.0294946580684177E-3,false,false,false,false,false,5.2549465256411922,1,1,1,1,1,17.501999999999999,31.05,0,0,0,0,697.07899999999995,9.0705416020390572E-3,3.979529301274245E-3,18.863299999999999,68.37,1.2878000000000001,0.99229999999999996,20677.012999999999]
["1964-09-01","2018-09-30","2007-05-17","2018-09-30",true,2871.679932,84.18,1,2871.679932,-1.0337543818186678E-2,2.5387708922105707,"2018-09-30",2.5387708922105707,"2018-09-30",2.5387708922105707,5.1937997279488268,1,1,1,1,1,{"$error":"#N/A"},{"$error":"#N/A"},{"$error":"#N/A"},{"$error":"#N/A"},{"$error":"#N/A"},{"$error":"#N/A"},48971.140625,0,0,0,0,0,1,1,1,1,1,1,48971.140625,0,0,0,0,0,-1.0337543818186678E-2,-1.1704274225549873E-2,false,false,false,false,false,5.1937997279488268,1,1,1,1,1,17.501999999999999,31.08,0,0,0,0,697.07899999999995,9.0705416020390572E-3,3.979529301274245E-3,19.3505,71,1.2833000000000001,0.9698,20677.012999999999]
["1964-10-01",false,"2007-05-24",false,false,{"$error":"#N/A"},84.860000999999997,1,2363.639893,-0.19469444227160357,1,{"$error":"#N/A"},1,{"$error":"#N/A"},1,1,1,1,1,1,1,{"$error":"#N/A"},{"$error":"#N/A"},{"$error":"#N/A"},{"$error":"#N/A"},{"$error":"#N/A"},{"$error":"#N/A"},48971.140625,0,0,0,0,0,1,1,1,1,1,1,48971.140625,0,0,0,0,0,-0.23121744327064334,false,false,false,false,false,false,1,1,1,1,1,1,17.581,31.12,0,0,0,0,702.01700000000005,1,1,19.3505,71,1.2833000000000001,0.9698,20677.012999999999]
["1964-11-01",false,"2007-05-31",false,false,{"$error":"#N/A"},84.419998000000007,1,2362.719971,-3.8927294496698804E-4,1,{"$error":"#N/A"},1,{"$error":"#N/A"},1,1,1,1,1,1,1,{"$error":"#N/A"},{"$error":"#N/A"},{"$error":"#N/A"},{"$error":"#N/A"},{"$error":"#N/A"},{"$error":"#N/A"},48971.140625,0,0,0,0,0,1,1,1,1,1,1,48971.140625,0,0,0,0,0,3.6523000999039816E-2,false,false,false,false,false,false,1,1,1,1,1,1,17.581,31.21,0,0,0,0,702.01700000000005,1,1,19.3505,71,1.2833000000000001,0.9698,20677.012999999999]
["1964-12-01",false,"2007-06-07",false,false,{"$error":"#N/A"},84.75,1,2384.1999510000001,9.0501322804594966E-3,1,{"$error":"#N/A"},1,{"$error":"#N/A"},1,1,1,1,1,1,1,{"$error":"#N/A"},{"$error":"#N/A"},{"$error":"#N/A"},{"$error":"#N/A"},{"$error":"#N/A"},{"$error":"#N/A"},48971.140625,0,0,0,0,0,1,1,1,1,1,1,48971.140625,0,0,0,0,0,-3.8927294496698804E-4,false,false,false,false,false,false,1,1,1,1,1,1,17.581,31.25,0,0,0,0,702.01700000000005,1,1,19.3505,71,1.2833000000000001,0.9698,20677.012999999999]
["1965-01-01",false,"2007-06-14",false,false,{"$error":"#N/A"},87.559997999999993,1,2411.8000489999999,1.1509759254333795E-2,1,{"$error":"#N/A"},1,{"$error":"#N/A"},1,1,1,1,1,1,1,{"$error":"#N/A"},{"$error":"#N/A"},{"$error":"#N/A"},{"$error":"#N/A"},{"$error":"#N/A"},{"$error":"#N/A"},48971.140625,0,0,0,0,0,1,1,1,1,1,1,48971.140625,0,0,0,0,0,9.0501322804594966E-3,false,false,false,false,false,false,1,1,1,1,1,1,17.670000000000002,31.28,0,0,0,0,723.22500000000002,1,1,19.3505,71,1.2833000000000001,0.9698,20677.012999999999]
["1965-02-01",false,"2007-06-21",false,false,{"$error":"#N/A"},87.43,1,2423.4099120000001,4.8022259241070758E-3,1,{"$error":"#N/A"},1,{"$error":"#N/A"},1,1,1,1,1,1,1,{"$error":"#N/A"},{"$error":"#N/A"},{"$error":"#N/A"},{"$error":"#N/A"},{"$error":"#N/A"},{"$error":"#N/A"},48971.140625,0,0,0,0,0,1,1,1,1,1,1,48971.140625,0,0,0,0,0,1.1509759254333795E-2,false,false,false,false,false,false,1,1,1,1,1,1,17.670000000000002,31.28,0,0,0,0,723.22500000000002,1,1,19.3505,71,1.2833000000000001,0.9698,20677.012999999999]
["1965-03-01",false,"2007-06-28",false,false,{"$error":"#N/A"},86.160004000000001,1,2470.3000489999999,1.916401766181007E-2,1,{"$error":"#N/A"},1,{"$error":"#N/A"},1,1,1,1,1,1,1,{"$error":"#N/A"},{"$error":"#N/A"},{"$error":"#N/A"},{"$error":"#N/A"},{"$error":"#N/A"},{"$error":"#N/A"},48971.140625,0,0,0,0,0,1,1,1,1,1,1,48971.140625,0,0,0,0,0,4.8022259241070758E-3,false,false,false,false,false,false,1,1,1,1,1,1,17.670000000000002,31.31,0,0,0,0,723.22500000000002,1,1,19.3505,71,1.2833000000000001,0.9698,20677.012999999999]
["1965-04-01",false,"2007-07-05",false,false,{"$error":"#N/A"},89.110000999999997,1,2471.6499020000001,5.4628357104102084E-4,1,{"$error":"#N/A"},1,{"$error":"#N/A"},1,1,1,1,1,1,1,{"$error":"#N/A"},{"$error":"#N/A"},{"$error":"#N/A"},{"$error":"#N/A"},{"$error":"#N/A"},{"$error":"#N/A"},48971.140625,0,0,0,0,0,1,1,1,1,1,1,48971.140625,0,0,0,0,0,1.916401766181007E-2,false,false,false,false,false,false,1,1,1,1,1,1,17.751000000000001,31.38,0,0,0,0,735.83199999999999,1,1,19.3505,71,1.2833000000000001,0.9698,20677.012999999999]
["1965-05-01",false,"2007-07-12",false,false,{"$error":"#N/A"},88.419998000000007,1,2519.360107,1.911903932397916E-2,1,{"$error":"#N/A"},1,{"$error":"#N/A"},1,1,1,1,1,1,1,{"$error":"#N/A"},{"$error":"#N/A"},{"$error":"#N/A"},{"$error":"#N/A"},{"$error":"#N/A"},{"$error":"#N/A"},48971.140625,0,0,0,0,0,1,1,1,1,1,1,48971.140625,0,0,0,0,0,5.4628357104102084E-4,false,false,false,false,false,false,1,1,1,1,1,1,17.751000000000001,31.48,0,0,0,0,735.83199999999999,1,1,19.3505,71,1.2833000000000001,0.9698,20677.012999999999]
["1965-06-01",false,"2007-07-19",false,false,{"$error":"#N/A"},84.120002999999997,1,2575.26001,2.1945560290305279E-2,1,{"$error":"#N/A"},1,{"$error":"#N/A"},1,1,1,1,1,1,1,{"$error":"#N/A"},{"$error":"#N/A"},{"$error":"#N/A"},{"$error":"#N/A"},{"$error":"#N/A"},{"$error":"#N/A"},48971.140625,0,0,0,0,0,1,1,1,1,1,1,48971.140625,0,0,0,0,0,1.911903932397916E-2,false,false,false,false,false,false,1,1,1,1,1,1,17.751000000000001,31.61,0,0,0,0,735.83199999999999,1,1,19.3505,71,1.2833000000000001,0.9698,20677.012999999999]
["1965-07-01",false,"2007-07-26",false,false,{"$error":"#N/A"},85.25,1,2584.8400879999999,3.7131407628128972E-3,1,{"$error":"#N/A"},1,{"$error":"#N/A"},1,1,1,1,1,1,1,{"$error":"#N/A"},{"$error":"#N/A"},{"$error":"#N/A"},{"$error":"#N/A"},{"$error":"#N/A"},{"$error":"#N/A"},48971.140625,0,0,0,0,0,1,1,1,1,1,1,48971.140625,0,0,0,0,0,2.1945560290305279E-2,false,false,false,false,false,false,1,1,1,1,1,1,17.818999999999999,31.58,0,0,0,0,754.57600000000002,1,1,19.3505,71,1.2833000000000001,0.9698,20677.012999999999]
["1965-08-01",false,"2007-08-02",false,false,{"$error":"#N/A"},87.169998000000007,1,2673.610107,3.3766014609890378E-2,1,{"$error":"#N/A"},1,{"$error":"#N/A"},1,1,1,1,1,1,1,{"$error":"#N/A"},{"$error":"#N/A"},{"$error":"#N/A"},{"$error":"#N/A"},{"$error":"#N/A"},{"$error":"#N/A"},48971.140625,0,0,0,0,0,1,1,1,1,1,1,48971.140625,0,0,0,0,0,3.7131407628128972E-3,false,false,false,false,false,false,1,1,1,1,1,1,17.818999999999999,31.55,0,0,0,0,754.57600000000002,1,1,19.3505,71,1.2833000000000001,0.9698,20677.012999999999]
["1965-09-01",false,"2007-08-09",false,false,{"$error":"#N/A"},89.959998999999996,1,2823.8100589999999,5.4657398659986728E-2,1,{"$error":"#N/A"},1,{"$error":"#N/A"},1,1,1,1,1,1,1,{"$error":"#N/A"},{"$error":"#N/A"},{"$error":"#N/A"},{"$error":"#N/A"},{"$error":"#N/A"},{"$error":"#N/A"},48971.140625,0,0,0,0,0,1,1,1,1,1,1,48971.140625,0,0,0,0,0,3.3766014609890378E-2,false,false,false,false,false,false,1,1,1,1,1,1,17.818999999999999,31.62,0,0,0,0,754.57600000000002,1,1,19.3505,71,1.2833000000000001,0.9698,20677.012999999999]
["1965-10-01",false,"2007-08-16",false,false,{"$error":"#N/A"},92.419998000000007,1,2713.830078,-3.9726107788010244E-2,1,{"$error":"#N/A"},1,{"$error":"#N/A"},1,1,1,1,1,1,1,{"$error":"#N/A"},{"$error":"#N/A"},{"$error":"#N/A"},{"$error":"#N/A"},{"$error":"#N/A"},{"$error":"#N/A"},48971.140625,0,0,0,0,0,1,1,1,1,1,1,48971.140625,0,0,0,0,0,5.4657398659986728E-2,false,false,false,false,false,false,1,1,1,1,1,1,17.942,31.65,0,0,0,0,776.64400000000001,1,1,19.3505,71,1.2833000000000001,0.9698,20677.012999999999]
["1965-11-01",false,"2007-08-23",false,false,{"$error":"#N/A"},91.610000999999997,1,2640.8701169999999,-2.725249739187887E-2,1,{"$error":"#N/A"},1,{"$error":"#N/A"},1,1,1,1,1,1,1,{"$error":"#N/A"},{"$error":"#N/A"},{"$error":"#N/A"},{"$error":"#N/A"},{"$error":"#N/A"},{"$error":"#N/A"},48971.140625,0,0,0,0,0,1,1,1,1,1,1,48971.140625,0,0,0,0,0,-3.9726107788010244E-2,false,false,false,false,false,false,1,1,1,1,1,1,17.942,31.75,0,0,0,0,776.64400000000001,1,1,19.3505,71,1.2833000000000001,0.9698,20677.012999999999]
["1965-12-01",false,"2007-08-30",false,false,{"$error":"#N/A"},92.43,1,2648.0500489999999,2.7150859477301889E-3,1,{"$error":"#N/A"},1,{"$error":"#N/A"},1,1,1,1,1,1,1,{"$error":"#N/A"},{"$error":"#N/A"},{"$error":"#N/A"},{"$error":"#N/A"},{"$error":"#N/A"},{"$error":"#N/A"},48971.140625,0,0,0,0,0,1,1,1,1,1,1,48971.140625,0,0,0,0,0,-2.725249739187887E-2,false,false,false,false,false,false,1,1,1,1,1,1,17.942,31.85,0,0,0,0,776.64400000000001,1,1,19.3505,71,1.2833000000000001,0.9698,20677.012999999999]
["1966-01-01",false,"2007-09-06",false,false,{"$error":"#N/A"},92.879997000000003,1,2705.2700199999999,2.1378191291432879E-2,1,{"$error":"#N/A"},1,{"$error":"#N/A"},1,1,1,1,1,1,1,{"$error":"#N/A"},{"$error":"#N/A"},{"$error":"#N/A"},{"$error":"#N/A"},{"$error":"#N/A"},{"$error":"#N/A"},48971.140625,0,0,0,0,0,1,1,1,1,1,1,48971.140625,0,0,0,0,0,2.7150859477301889E-3,false,false,false,false,false,false,1,1,1,1,1,1,18.056999999999999,31.88,0,0,0,0,800.73199999999997,1,1,19.3505,71,1.2833000000000001,0.9698,20677.012999999999]
["1966-02-01",{"$f":"IF(B202<=$D$2,EOMONTH(B202,1))","v":false},"2007-09-13",false,false,{"$f":"LOOKUP(D203,A:A,G:G)","v":{"$error":"#N/A"}},{"$f":"IFERROR(LOOKUP($A203,INDIRECT(\"'\"&G$7&\"'!A:A\"),INDIRECT(\"'\"&G$7&\"'!\"&$G$9&\":\"&$G$9)),0)","v":91.220000999999996},{"$f":"IF(H$8,INDEX($BN203:$BT203,H$8),1)","v":1},{"$f":"IF(ISNUMBER(F203),F203,I204)*H203","v":2718.3701169999999},4.830749144322073E-3,1,{"$error":"#N/A"},1,{"$error":"#N/A"},1,1,1,1,1,1,1,{"$f":"LOOKUP($A203,INDIRECT(\"'\"&V$5&\"'!A:A\"),INDIRECT(\"'\"&V$5&\"'!\"&V$7&\":\"&V$7))","v":{"$error":"#N/A"}},{"$error":"#N/A"},{"$error":"#N/A"},{"$error":"#N/A"},{"$error":"#N/A"},{"$error":"#N/A"},{"$f":"IF(ISNUMBER(LOOKUP($D203,$A:$A,V:V)),LOOKUP($D203,$A:$A,V:V),AB202)","v":48971.140625},{"$f":"IF(ISNUMBER(LOOKUP($D203,$A:$A,W:W)),LOOKUP($D203,$A:$A,W:W),AC202)","v":0},{"$f":"IF(ISNUMBER(LOOKUP($D203,$A:$A,X:X)),LOOKUP($D203,$A:$A,X:X),AD202)","v":0},{"$f":"IF(ISNUMBER(LOOKUP($D203,$A:$A,Y:Y)),LOOKUP($D203,$A:$A,Y:Y),AE202)","v":0},{"$f":"IF(ISNUMBER(LOOKUP($D203,$A:$A,Z:Z)),LOOKUP($D203,$A:$A,Z:Z),AF202)","v":0},{"$f":"IF(ISNUMBER(LOOKUP($D203,$A:$A,AA:AA)),LOOKUP($D203,$A:$A,AA:AA),AG202)","v":0},1,1,1,1,1,1,{"$f":"IFERROR(IF(ISNUMBER(AB203)>0.1,AB203,AN204)*AH203,AN204)","v":48971.140625},{"$f":"IFERROR(IF(ISNUMBER(AC203)>0.1,AC203,AO204)*AI203,AO204)","v":0},{"$f":"IFERROR(IF(ISNUMBER(AD203)>0.1,AD203,AP204)*AJ203,AP204)","v":0},{"$f":"IFERROR(IF(ISNUMBER(AE203)>0.1,AE203,AQ204)*AK203,AQ204)","v":0},{"$f":"IFERROR(IF(ISNUMBER(AF203)>0.1,AF203,AR204)*AL203,AR204)","v":0},{"$f":"IF(ISNUMBER(AG203)>0.1,AG203,AS204)","v":0},2.1378191291432879E-2,{"$f":"IF(E203,IFERROR(LN(AN203/AN202),FALSE))","v":false},{"$f":"IF(E203,IFERROR(LN(AO203/AO202),FALSE))","v":false},{"$f":"IF(E203,IFERROR(LN(AP203/AP202),FALSE))","v":false},{"$f":"IF(E203,IFERROR(LN(AQ203/AQ202),FALSE))","v":false},{"$f":"IF(E203,IFERROR(LN(AR203/AR202),FALSE))","v":false},{"$f":"IF(E203,IFERROR(LN(AS203/AS202),FALSE))","v":false},1,1,1,1,1,1,{"$f":"IFERROR(LOOKUP($A203,INDIRECT(\"'\"&BN$6&\"'!A:A\"),INDIRECT(\"'\"&BN$6&\"'!\"&BN$7&\":\"&BN$7)),0)","v":18.056999999999999},{"$f":"IFERROR(LOOKUP($A203,INDIRECT(\"'\"&BO$6&\"'!A:A\"),INDIRECT(\"'\"&BO$6&\"'!\"&BO$7&\":\"&BO$7)),0)","v":32.08},{"$f":"IFERROR(LOOKUP($A203,INDIRECT(\"'\"&BP$6&\"'!A:A\"),INDIRECT(\"'\"&BP$6&\"'!\"&BP$7&\":\"&BP$7)),0)","v":0},{"$f":"IFERROR(LOOKUP($A203,INDIRECT(\"'\"&BQ$6&\"'!A:A\"),INDIRECT(\"'\"&BQ$6&\"'!\"&BQ$7&\":\"&BQ$7)),0)","v":0},{"$f":"IFERROR(LOOKUP($A203,INDIRECT(\"'\"&BR$6&\"'!A:A\"),INDIRECT(\"'\"&BR$6&\"'!\"&BR$7&\":\"&BR$7)),0)","v":0},{"$f":"IFERROR(LOOKUP($A203,INDIRECT(\"'\"&BS$6&\"'!A:A\"),INDIRECT(\"'\"&BS$6&\"'!\"&BS$7&\":\"&BS$7)),0)","v":0},{"$f":"IFERROR(LOOKUP($A203,INDIRECT(\"'\"&BT$6&\"'!A:A\"),INDIRECT(\"'\"&BT$6&\"'!\"&BT$7&\":\"&BT$7)),0)","v":800.73199999999997},{"$f":"IFERROR(1/IFERROR(LOOKUP($D203,$A:$A,BG:BG)*1,0),1)","v":1},{"$f":"IFERROR(1/IFERROR(LOOKUP($D203,$A:$A,BH:BH)*1,0),1)","v":1},19.3505,71,1.2833000000000001,0.9698,20677.012999999999]
["1966-03-01",false,{"$f":"IF(C203<=$D$2,C203+7)","v":"2007-09-20"},false,{"$f":"AND(D204>=$D$4,D203<=$D$2)","v":false},{"$error":"#N/A"},89.230002999999996,1,2816.290039,{"$f":"IFERROR(LN(I204/I203),FALSE)","v":3.5387950784307211E-2},1,{"$error":"#N/A"},1,{"$error":"#N/A"},1,1,1,1,1,1,1,{"$error":"#N/A"},{"$error":"#N/A"},{"$error":"#N/A"},{"$error":"#N/A"},{"$error":"#N/A"},{"$error":"#N/A"},48971.140625,0,0,0,0,0,1,1,1,1,1,1,48971.140625,0,0,0,0,0,4.830749144322073E-3,false,false,false,false,false,false,{"$f":"IFERROR(IF($E204,BA203*AN204/AN203,1),1)","v":1},{"$f":"IFERROR(IF($E204,BB203*AO204/AO203,1),1)","v":1},{"$f":"IFERROR(IF($E204,BC203*AP204/AP203,1),1)","v":1},{"$f":"IFERROR(IF($E204,BD203*AQ204/AQ203,1),1)","v":1},{"$f":"IFERROR(IF($E204,BE203*AR204/AR203,1),1)","v":1},{"$f":"IFERROR(IF($E204,BF203*AS204/AS203,1),1)","v":1},18.056999999999999,32.18,0,0,0,0,800.73199999999997,1,1,{"$f":"IFERROR(LOOKUP($D204,$A:$A,BI:BI)*1,BP203)","v":19.3505},{"$f":"IFERROR(LOOKUP($D204,$A:$A,BJ:BJ)*1,BQ203)","v":71},{"$f":"IFERROR(LOOKUP($D204,$A:$A,BK:BK)*1,BR203)","v":1.2833000000000001},{"$f":"IFERROR(LOOKUP($D204,$A:$A,BL:BL)*1,BS203)","v":0.9698},{"$f":"IFERROR(LOOKUP($D204,$A:$A,BM:BM)*1,BT203)","v":20677.012999999999}]
["1966-04-01",false,"2007-09-27",{"$f":"IF($D$6,C205,B205)","v":false},false,{"$error":"#N/A"},91.059997999999993,1,2901.5200199999999,2.9814314708128044E-2,{"$f":"IF($E205,(K204*I205/I204),1)","v":1},{"$f":"IF(E205,D205,NA())","v":{"$error":"#N/A"}},{"$f":"CHOOSE($M$1,I205,J205,K205)","v":1},{"$f":"L205","v":{"$error":"#N/A"}},{"$f":"M205","v":1},{"$f":"IFERROR(CHOOSE($M$1,AN205,AU205,BA205),1)","v":1},{"$f":"IFERROR(CHOOSE($M$1,AO205,AV205,BB205),1)","v":1},{"$f":"IFERROR(CHOOSE($M$1,AP205,AW205,BC205),1)","v":1},{"$f":"IFERROR(CHOOSE($M$1,AQ205,AX205,BD205),1)","v":1},{"$f":"IFERROR(CHOOSE($M$1,AR205,AY205,BE205),1)","v":1},{"$f":"IFERROR(CHOOSE($M$1,AS205,AZ205,BF205),1)","v":1},{"$error":"#N/A"},{"$error":"#N/A"},{"$error":"#N/A"},{"$error":"#N/A"},{"$error":"#N/A"},{"$error":"#N/A"},48971.140625,0,0,0,0,0,1,1,1,1,1,1,48971.140625,0,0,0,0,0,{"$f":"J205","v":3.5387950784307211E-2},false,false,false,false,false,false,1,1,1,1,1,1,18.204999999999998,32.28,0,0,0,0,810.03300000000002,1,1,19.3505,71,1.2833000000000001,0.9698,20677.012999999999]
["1966-05-01",false,"2007-10-04",false,false,{"$error":"#N/A"},86.129997000000003,1,2871.679932,-1.0337543818186678E-2,1,{"$error":"#N/A"},1,{"$error":"#N/A"},1,1,1,1,1,1,1,{"$error":"#N/A"},{"$error":"#N/A"},{"$error":"#N/A"},{"$error":"#N/A"},{"$error":"#N/A"},{"$error":"#N/A"},48971.140625,0,0,0,0,0,1,1,1,1,1,1,48971.140625,0,0,0,0,0,2.9814314708128044E-2,false,false,false,false,false,false,1,1,1,1,1,1,18.204999999999998,32.35,0,0,0,0,810.03300000000002,1,1,19.3505,71,1.2833000000000001,0.9698,20677.012999999999]
["1966-06-01",false,"2007-10-11",false,false,{"$error":"#N/A"},84.739998,1,735.09002699999996,-1.3626595022416852,1,{"$error":"#N/A"},1,{"$error":"#N/A"},1,1,1,1,1,1,1,{"$error":"#N/A"},{"$error":"#N/A"},{"$error":"#N/A"},{"$error":"#N/A"},{"$error":"#N/A"},{"$error":"#N/A"},48971.140625,0,0,0,0,0,1,1,1,1,1,1,48971.140625,0,0,0,0,0,-1.0337543818186678E-2,false,false,false,false,false,false,1,1,1,1,1,1,18.204999999999998,32.380000000000003,0,0,0,0,810.03300000000002,1,1,19.3505,71,1.2833000000000001,0.9698,20677.012999999999]
["1966-07-01",false,"2007-10-18",false,false,{"$error":"#N/A"},83.599997999999999,1,797.86999500000002,8.1952693217763314E-2,1,{"$error":"#N/A"},1,{"$error":"#N/A"},1,1,1,1,1,1,1,{"$error":"#N/A"},{"$error":"#N/A"},{"$error":"#N/A"},{"$error":"#N/A"},{"$error":"#N/A"},{"$error":"#N/A"},48971.140625,0,0,0,0,0,1,1,1,1,1,1,48971.140625,0,0,0,0,0,-1.3626595022416852,false,false,false,false,false,false,1,1,1,1,1,1,18.381,32.450000000000003,0,0,0,0,824.60500000000002,1,1,19.3505,71,1.2833000000000001,0.9698,20677.012999999999]
["1966-08-01",false,"2007-10-25",false,false,{"$error":"#N/A"},77.099997999999999,1,872.80999799999995,8.9772218896205111E-2,1,{"$error":"#N/A"},1,{"$error":"#N/A"},1,1,1,1,1,1,1,{"$error":"#N/A"},{"$error":"#N/A"},{"$error":"#N/A"},{"$error":"#N/A"},{"$error":"#N/A"},{"$error":"#N/A"},48971.140625,0,0,0,0,0,1,1,1,1,1,1,48971.140625,0,0,0,0,0,8.1952693217763314E-2,false,false,false,false,false,false,1,1,1,1,1,1,18.381,32.65,0,0,0,0,824.60500000000002,1,1,19.3505,71,1.2833000000000001,0.9698,20677.012999999999]
["1966-09-01",false,"2007-11-01",false,false,{"$error":"#N/A"},76.559997999999993,1,919.14001499999995,5.1720577031934709E-2,1,{"$error":"#N/A"},1,{"$error":"#N/A"},1,1,1,1,1,1,1,{"$error":"#N/A"},{"$error":"#N/A"},{"$error":"#N/A"},{"$error":"#N/A"},{"$error":"#N/A"},{"$error":"#N/A"},48971.140625,0,0,0,0,0,1,1,1,{"$f":"IF(AK$7,INDEX($BN210:$BT210,AK$7),1)","v":1},1,1,48971.140625,0,0,0,0,0,8.9772218896205111E-2,false,false,false,false,false,false,1,1,1,1,1,1,18.381,32.75,0,0,0,0,824.60500000000002,1,1,19.3505,71,1.2833000000000001,0.9698,20677.012999999999]
["1966-10-01",false,"2007-11-08",false,false,{"$error":"#N/A"},80.199996999999996,1,919.32000700000003,1.9580735879086813E-4,1,{"$error":"#N/A"},1,{"$error":"#N/A"},1,1,1,1,1,1,1,{"$error":"#N/A"},{"$error":"#N/A"},{"$error":"#N/A"},{"$error":"#N/A"},{"$error":"#N/A"},{"$error":"#N/A"},48971.140625,0,0,0,0,0,1,1,1,1,1,1,48971.140625,0,0,0,0,0,5.1720577031934709E-2,false,false,false,false,false,false,1,1,1,1,1,1,18.535,32.85,0,0,0,0,838.56500000000005,1,1,19.3505,71,1.2833000000000001,0.9698,20677.012999999999]
["1966-11-01",false,"2007-11-15",false,false,{"$error":"#N/A"},80.449996999999996,1,987.47997999999995,7.1521949220993447E-2,1,{"$error":"#N/A"},1,{"$error":"#N/A"},1,1,1,1,1,1,1,{"$error":"#N/A"},{"$error":"#N/A"},{"$error":"#N/A"},{"$error":"#N/A"},{"$error":"#N/A"},{"$error":"#N/A"},48971.140625,0,0,0,0,0,1,1,1,1,1,1,48971.140625,0,0,0,0,0,1.9580735879086813E-4,false,false,false,false,false,false,1,1,1,1,1,1,18.535,32.880000000000003,0,0,0,0,838.56500000000005,1,1,19.3505,71,1.2833000000000001,0.9698,20677.012999999999]
["1966-12-01",false,"2007-11-22",false,false,{"$error":"#N/A"},80.330001999999993,1,1020.619995,3.3009336702728598E-2,1,{"$error":"#N/A"},1,{"$error":"#N/A"},1,1,1,1,1,1,1,{"$error":"#N/A"},{"$error":"#N/A"},{"$error":"#N/A"},{"$error":"#N/A"},{"$error":"#N/A"},{"$error":"#N/A"},48971.140625,0,0,0,0,0,1,1,1,1,1,1,48971.140625,0,0,0,0,0,7.1521949220993447E-2,false,false,false,false,false,false,1,1,1,1,1,1,18.535,32.92,0,0,0,0,838.56500000000005,1,1,19.3505,71,1.2833000000000001,0.9698,20677.012999999999]
["1967-01-01",false,"2007-11-29",false,false,{"$error":"#N/A"},86.610000999999997,1,1057.079956,3.5100067430831765E-2,1,{"$error":"#N/A"},1,{"$error":"#N/A"},1,1,1,1,1,1,1,{"$error":"#N/A"},{"$error":"#N/A"},{"$error":"#N/A"},{"$error":"#N/A"},{"$error":"#N/A"},{"$error":"#N/A"},48971.140625,0,0,0,0,0,1,1,1,1,1,1,48971.140625,0,0,0,0,0,3.3009336702728598E-2,false,false,false,false,false,false,1,1,1,1,1,1,18.611999999999998,32.9,0,0,0,0,849.39099999999996,1,1,19.3505,71,1.2833000000000001,0.9698,20677.012999999999]
["1967-02-01",false,"2007-12-06",false,false,{"$error":"#N/A"},86.779999000000004,1,1036.1899410000001,-1.9959880537446347E-2,1,{"$error":"#N/A"},1,{"$error":"#N/A"},1,1,1,1,1,1,1,{"$error":"#N/A"},{"$error":"#N/A"},{"$error":"#N/A"},{"$error":"#N/A"},{"$error":"#N/A"},{"$error":"#N/A"},48971.140625,0,0,0,0,0,1,1,1,1,1,1,48971.140625,0,0,0,0,0,3.5100067430831765E-2,false,false,false,false,false,false,1,1,1,1,1,1,18.611999999999998,33,0,0,0,0,849.39099999999996,1,1,19.3505,71,1.2833000000000001,0.9698,20677.012999999999]
["1967-03-01",false,"2007-12-13",false,false,{"$error":"#N/A"},90.199996999999996,1,1095.630005,5.5779077085757335E-2,1,{"$error":"#N/A"},1,{"$error":"#N/A"},1,1,1,1,1,1,1,{"$error":"#N/A"},{"$error":"#N/A"},{"$error":"#N/A"},{"$error":"#N/A"},{"$error":"#N/A"},{"$error":"#N/A"},48971.140625,0,0,0,0,0,1,1,1,1,1,1,48971.140625,0,0,0,0,0,-1.9959880537446347E-2,false,false,false,false,false,false,1,1,1,1,1,1,18.611999999999998,33,0,0,0,0,849.39099999999996,1,1,19.3505,71,1.2833000000000001,0.9698,20677.012999999999]
["1967-04-01",false,"2007-12-20",false,false,{"$error":"#N/A"},94.010002,1,1115.099976,1.7614520614664245E-2,1,{"$error":"#N/A"},1,{"$error":"#N/A"},1,1,1,1,1,1,1,{"$error":"#N/A"},{"$error":"#N/A"},{"$error":"#N/A"},{"$error":"#N/A"},{"$error":"#N/A"},{"$error":"#N/A"},48971.140625,0,0,0,0,0,1,1,1,1,1,1,48971.140625,0,0,0,0,0,5.5779077085757335E-2,false,false,false,false,false,false,1,1,1,1,1,1,18.707000000000001,33.1,0,0,0,0,854.06299999999999,1,1,19.3505,71,1.2833000000000001,0.9698,20677.012999999999]
["1967-05-01",false,"2007-12-27",false,false,{"$error":"#N/A"},89.080001999999993,1,1073.869995,-3.7675124192644176E-2,1,{"$error":"#N/A"},1,{"$error":"#N/A"},1,1,1,1,1,1,1,{"$error":"#N/A"},{"$error":"#N/A"},{"$error":"#N/A"},{"$error":"#N/A"},{"$error":"#N/A"},{"$error":"#N/A"},48971.140625,0,0,0,0,0,1,1,1,1,1,1,48971.140625,0,0,0,0,0,1.7614520614664245E-2,false,false,false,false,false,false,1,1,1,1,1,1,18.707000000000001,33.1,0,0,0,0,854.06299999999999,1,1,19.3505,71,1.2833000000000001,0.9698,20677.012999999999]
["1967-06-01",false,"2008-01-03",false,false,{"$error":"#N/A"},90.639999000000003,1,1104.48999,2.8114739638764777E-2,1,{"$error":"#N/A"},1,{"$error":"#N/A"},1,1,1,1,1,1,1,{"$error":"#N/A"},{"$error":"#N/A"},{"$error":"#N/A"},{"$f":"LOOKUP($A219,INDIRECT(\"'\"&Y$5&\"'!A:A\"),INDIRECT(\"'\"&Y$5&\"'!\"&Y$7&\":\"&Y$7))","v":{"$error":"#N/A"}},{"$error":"#N/A"},{"$error":"#N/A"},48971.140625,0,0,0,0,0,1,1,1,1,1,1,48971.140625,0,0,0,0,0,-3.7675124192644176E-2,false,false,false,false,false,false,1,1,1,1,1,1,18.707000000000001,33.299999999999997,0,0,0,0,854.06299999999999,1,1,19.3505,71,1.2833000000000001,0.9698,20677.012999999999]
["1967-07-01",false,"2008-01-10",false,false,{"$error":"#N/A"},94.75,1,1169.4300539999999,5.713281587577692E-2,1,{"$error":"#N/A"},1,{"$error":"#N/A"},1,1,1,1,1,1,1,{"$error":"#N/A"},{"$error":"#N/A"},{"$error":"#N/A"},{"$error":"#N/A"},{"$error":"#N/A"},{"$error":"#N/A"},48971.140625,0,0,0,0,0,1,1,1,1,1,1,48971.140625,0,0,0,0,0,2.8114739638764777E-2,false,false,false,false,false,false,1,1,1,1,1,1,18.885999999999999,33.4,0,0,0,0,870.92200000000003,1,1,19.3505,71,1.2833000000000001,0.9698,20677.012999999999]
["1967-08-01",false,"2008-01-17",false,false,{"$error":"#N/A"},93.639999000000003,1,1186.6899410000001,1.4651372417397389E-2,1,{"$error":"#N/A"},1,{"$error":"#N/A"},1,1,1,1,1,1,1,{"$error":"#N/A"},{"$error":"#N/A"},{"$error":"#N/A"},{"$error":"#N/A"},{"$error":"#N/A"},{"$error":"#N/A"},48971.140625,0,0,0,0,0,1,1,1,1,1,1,48971.140625,0,0,0,0,0,5.713281587577692E-2,false,false,false,false,false,false,1,1,1,1,1,1,18.885999999999999,33.5,0,0,0,0,870.92200000000003,1,1,19.3505,71,1.2833000000000001,0.9698,20677.012999999999]
["1967-09-01",false,"2008-01-24",false,false,{"$error":"#N/A"},96.709998999999996,1,1089.410034,-8.5531572706092185E-2,1,{"$error":"#N/A"},1,{"$error":"#N/A"},1,1,1,1,1,1,1,{"$error":"#N/A"},{"$error":"#N/A"},{"$error":"#N/A"},{"$error":"#N/A"},{"$error":"#N/A"},{"$error":"#N/A"},48971.140625,0,0,0,0,0,1,1,1,1,1,1,48971.140625,0,0,0,0,0,1.4651372417397389E-2,false,false,false,false,false,false,1,1,1,1,1,1,18.885999999999999,33.6,0,0,0,0,870.92200000000003,1,1,19.3505,71,1.2833000000000001,0.9698,20677.012999999999]
["1967-10-01",false,"2008-01-31",false,false,{"$error":"#N/A"},93.300003000000004,1,1030.709961,-5.5388449179925643E-2,1,{"$error":"#N/A"},1,{"$error":"#N/A"},1,1,1,1,1,1,1,{"$error":"#N/A"},{"$error":"#N/A"},{"$error":"#N/A"},{"$error":"#N/A"},{"$error":"#N/A"},{"$error":"#N/A"},48971.140625,0,0,0,0,0,1,1,1,1,1,1,48971.140625,0,0,0,0,0,-8.5531572706092185E-2,false,false,false,false,false,false,1,1,1,1,1,1,19.096,33.700000000000003,0,0,0,0,887.02300000000002,1,1,19.3505,71,1.2833000000000001,0.9698,20677.012999999999]
["1967-11-01",false,"2008-02-07",false,false,{"$error":"#N/A"},94,1,1101.599976,6.6515799326092917E-2,1,{"$error":"#N/A"},1,{"$error":"#N/A"},1,1,1,1,1,1,1,{"$error":"#N/A"},{"$error":"#N/A"},{"$error":"#N/A"},{"$error":"#N/A"},{"$error":"#N/A"},{"$error":"#N/A"},48971.140625,0,0,0,0,0,1,1,1,1,1,1,48971.140625,0,0,0,0,0,-5.5388449179925643E-2,false,false,false,false,false,false,1,1,1,1,1,1,19.096,33.9,0,0,0,0,887.02300000000002,1,1,19.3505,71,1.2833000000000001,0.9698,20677.012999999999]
["1967-12-01",false,"2008-02-14",false,false,{"$error":"#N/A"},96.470000999999996,1,1049.329956,-4.8611823315409079E-2,1,{"$error":"#N/A"},1,{"$error":"#N/A"},1,1,1,1,1,1,1,{"$error":"#N/A"},{"$error":"#N/A"},{"$error":"#N/A"},{"$error":"#N/A"},{"$error":"#N/A"},{"$error":"#N/A"},48971.140625,0,0,0,0,0,1,1,1,1,1,1,48971.140625,0,0,0,0,0,6.6515799326092917E-2,false,false,false,false,false,false,1,1,1,1,1,1,19.096,34,0,0,0,0,887.02300000000002,1,1,19.3505,71,1.2833000000000001,0.9698,20677.012999999999]
["1968-01-01",false,"2008-02-21",false,false,{"$error":"#N/A"},92.239998,1,1141.1999510000001,8.3928474089541724E-2,1,{"$error":"#N/A"},1,{"$error":"#N/A"},1,1,1,1,1,1,1,{"$error":"#N/A"},{"$error":"#N/A"},{"$error":"#N/A"},{"$error":"#N/A"},{"$error":"#N/A"},{"$error":"#N/A"},48971.140625,0,0,0,0,0,1,1,1,1,1,1,48971.140625,0,0,0,0,0,-4.8611823315409079E-2,false,false,false,false,false,false,1,1,1,1,1,1,19.308,34.1,0,0,0,0,915.20399999999995,1,1,19.3505,71,1.2833000000000001,0.9698,20677.012999999999]
["1968-02-01",false,"2008-02-28",false,false,{"$error":"#N/A"},89.360000999999997,1,1183.26001,3.6193052099175581E-2,1,{"$error":"#N/A"},1,{"$error":"#N/A"},1,1,1,1,1,1,1,{"$error":"#N/A"},{"$error":"#N/A"},{"$error":"#N/A"},{"$error":"#N/A"},{"$error":"#N/A"},{"$error":"#N/A"},48971.140625,0,0,0,0,0,1,1,1,1,1,1,48971.140625,0,0,0,0,0,8.3928474089541724E-2,false,false,false,false,false,false,1,1,1,1,1,1,19.308,34.200000000000003,0,0,0,0,915.20399999999995,1,1,19.3505,71,1.2833000000000001,0.9698,20677.012999999999]
["1968-03-01",false,"2008-03-06",false,false,{"$error":"#N/A"},90.199996999999996,1,1180.5500489999999,-2.2928764322112105E-3,1,{"$error":"#N/A"},1,{"$error":"#N/A"},1,1,1,1,1,1,1,{"$error":"#N/A"},{"$error":"#N/A"},{"$error":"#N/A"},{"$error":"#N/A"},{"$error":"#N/A"},{"$error":"#N/A"},48971.140625,0,0,0,0,0,1,1,1,1,1,1,48971.140625,0,0,0,0,0,3.6193052099175581E-2,false,false,false,false,false,false,1,1,1,1,1,1,19.308,34.299999999999997,0,0,0,0,915.20399999999995,1,1,19.3505,71,1.2833000000000001,0.9698,20677.012999999999]
["1968-04-01",false,"2008-03-13",false,false,{"$error":"#N/A"},97.459998999999996,1,1257.6400149999999,6.3256487642950596E-2,1,{"$error":"#N/A"},1,{"$error":"#N/A"},1,1,1,1,1,1,1,{"$error":"#N/A"},{"$error":"#N/A"},{"$error":"#N/A"},{"$error":"#N/A"},{"$error":"#N/A"},{"$error":"#N/A"},48971.140625,0,0,0,0,0,1,1,1,1,1,1,48971.140625,0,0,0,0,0,-2.2928764322112105E-3,false,false,false,false,false,false,1,1,1,1,1,1,19.510999999999999,34.4,0,0,0,0,940.34400000000005,1,1,19.3505,71,1.2833000000000001,0.9698,20677.012999999999]
["1968-05-01",false,"2008-03-20",false,false,{"$error":"#N/A"},98.68,1,1286.119995,2.2392969441753622E-2,1,{"$error":"#N/A"},1,{"$error":"#N/A"},1,1,1,1,1,1,1,{"$error":"#N/A"},{"$error":"#N/A"},{"$error":"#N/A"},{"$error":"#N/A"},{"$error":"#N/A"},{"$error":"#N/A"},48971.140625,0,0,0,0,0,1,1,1,1,1,1,48971.140625,0,0,0,0,0,6.3256487642950596E-2,false,false,false,false,false,false,1,1,1,1,1,1,19.510999999999999,34.5,0,0,0,0,940.34400000000005,1,1,19.3505,71,1.2833000000000001,0.9698,20677.012999999999]
["1968-06-01",false,"2008-03-27",false,false,{"$error":"#N/A"},99.580001999999993,1,1327.219971,3.1456577077623601E-2,1,{"$error":"#N/A"},1,{"$error":"#N/A"},1,1,1,1,1,1,1,{"$error":"#N/A"},{"$error":"#N/A"},{"$error":"#N/A"},{"$error":"#N/A"},{"$error":"#N/A"},{"$error":"#N/A"},48971.140625,0,0,0,0,0,1,1,1,1,1,1,48971.140625,0,0,0,0,0,2.2392969441753622E-2,false,false,false,false,false,false,1,1,1,1,1,1,19.510999999999999,34.700000000000003,0,0,0,0,940.34400000000005,1,1,19.3505,71,1.2833000000000001,0.9698,20677.012999999999]
["1968-07-01",false,"2008-04-03",false,false,{"$error":"#N/A"},97.739998,1,1325.829956,-1.0478620195134246E-3,1,{"$error":"#N/A"},1,{"$error":"#N/A"},1,1,1,1,1,1,1,{"$error":"#N/A"},{"$error":"#N/A"},{"$error":"#N/A"},{"$error":"#N/A"},{"$error":"#N/A"},{"$error":"#N/A"},48971.140625,0,0,0,0,0,1,1,1,1,1,1,48971.140625,0,0,0,0,0,3.1456577077623601E-2,false,false,false,false,false,false,1,1,1,1,1,1,19.702999999999999,34.9,0,0,0,0,957.077,1,1,19.3505,71,1.2833000000000001,0.9698,20677.012999999999]
["1968-08-01",false,"2008-04-10",false,false,{"$error":"#N/A"},98.860000999999997,1,1363.6099850000001,2.8096938553675548E-2,1,{"$error":"#N/A"},1,{"$error":"#N/A"},1,1,1,1,1,1,1,{"$error":"#N/A"},{"$error":"#N/A"},{"$error":"#N/A"},{"$error":"#N/A"},{"$error":"#N/A"},{"$error":"#N/A"},48971.140625,0,0,0,0,0,1,1,1,1,1,1,48971.140625,0,0,0,0,0,-1.0478620195134246E-3,false,false,false,false,false,false,1,1,1,1,1,1,19.702999999999999,35,0,0,0,0,957.077,1,1,19.3505,71,1.2833000000000001,0.9698,20677.012999999999]
["1968-09-01",false,"2008-04-17",false,false,{"$error":"#N/A"},102.66999800000001,1,1345.1999510000001,-1.3592919325235627E-2,1,{"$error":"#N/A"},1,{"$error":"#N/A"},1,1,1,1,1,1,1,{"$error":"#N/A"},{"$error":"#N/A"},{"$error":"#N/A"},{"$error":"#N/A"},{"$error":"#N/A"},{"$error":"#N/A"},48971.140625,0,0,0,0,0,1,1,1,1,1,1,48971.140625,0,0,0,0,0,2.8096938553675548E-2,false,false,false,false,false,false,1,1,1,1,1,1,19.702999999999999,35.1,0,0,0,0,957.077,1,1,19.3505,71,1.2833000000000001,0.9698,20677.012999999999]
["1968-10-01",false,"2008-04-24",false,false,{"$error":"#N/A"},103.410004,1,1320.6400149999999,-1.8426185517957314E-2,1,{"$error":"#N/A"},1,{"$error":"#N/A"},1,1,1,1,1,1,1,{"$error":"#N/A"},{"$error":"#N/A"},{"$error":"#N/A"},{"$error":"#N/A"},{"$error":"#N/A"},{"$error":"#N/A"},48971.140625,0,0,0,0,0,1,1,1,1,1,1,48971.140625,0,0,0,0,0,-1.3592919325235627E-2,false,false,false,false,false,false,1,1,1,1,1,1,19.981000000000002,35.299999999999997,0,0,0,0,974.30100000000004,1,1,19.3505,71,1.2833000000000001,0.9698,20677.012999999999]
["1968-11-01",false,"2008-05-01",false,false,{"$error":"#N/A"},108.370003,1,1292.280029,-2.1708356352599566E-2,1,{"$error":"#N/A"},1,{"$error":"#N/A"},1,1,1,1,1,1,1,{"$error":"#N/A"},{"$error":"#N/A"},{"$error":"#N/A"},{"$error":"#N/A"},{"$error":"#N/A"},{"$error":"#N/A"},48971.140625,0,0,0,0,0,1,1,1,1,1,1,48971.140625,0,0,0,0,0,-1.8426185517957314E-2,false,false,false,false,false,false,1,1,1,1,1,1,19.981000000000002,35.4,0,0,0,0,974.30100000000004,1,1,19.3505,71,1.2833000000000001,0.9698,20677.012999999999]
["1968-12-01",false,"2008-05-08",false,false,{"$error":"#N/A"},103.860001,1,1218.8900149999999,-5.8467501753798806E-2,1,{"$error":"#N/A"},1,{"$error":"#N/A"},1,1,1,1,1,1,1,{"$error":"#N/A"},{"$error":"#N/A"},{"$error":"#N/A"},{"$error":"#N/A"},{"$error":"#N/A"},{"$error":"#N/A"},48971.140625,0,0,0,0,0,{"$f":"IF(AH$7,INDEX($BN237:$BT237,AH$7),1)","v":1},1,1,1,1,1,48971.140625,0,0,0,0,0,-2.1708356352599566E-2,false,false,false,false,false,false,1,1,1,1,1,1,19.981000000000002,35.6,0,0,0,0,974.30100000000004,1,1,19.3505,71,1.2833000000000001,0.9698,20677.012999999999]
["1969-01-01",false,"2008-05-15",false,false,{"$error":"#N/A"},103.010002,1,1131.420044,-7.4467100959878879E-2,1,{"$error":"#N/A"},1,{"$error":"#N/A"},1,1,1,1,1,1,1,{"$error":"#N/A"},{"$error":"#N/A"},{"$error":"#N/A"},{"$error":"#N/A"},{"$error":"#N/A"},{"$error":"#N/A"},48971.140625,0,0,0,0,0,1,1,1,1,1,1,48971.140625,0,0,0,0,0,-5.8467501753798806E-2,false,false,false,false,false,false,1,1,1,1,1,1,20.187000000000001,35.700000000000003,0,0,0,0,999.67100000000005,1,1,19.3505,71,1.2833000000000001,0.9698,20677.012999999999]
["1969-02-01",false,"2008-05-22",false,false,{"$error":"#N/A"},98.129997000000003,1,1253.3000489999999,0.10230659185819124,1,{"$error":"#N/A"},1,{"$error":"#N/A"},1,1,1,1,1,1,1,{"$error":"#N/A"},{"$error":"#N/A"},{"$error":"#N/A"},{"$error":"#N/A"},{"$error":"#N/A"},{"$error":"#N/A"},48971.140625,0,0,0,0,0,1,1,1,1,1,1,48971.140625,0,0,0,0,0,-7.4467100959878879E-2,false,false,false,false,false,false,1,1,1,1,1,1,20.187000000000001,35.799999999999997,0,0,0,0,999.67100000000005,1,1,19.3505,71,1.2833000000000001,0.9698,20677.012999999999]
["1969-03-01",false,"2008-05-29",false,false,{"$error":"#N/A"},101.510002,1,1246.959961,-5.0715538095285817E-3,1,{"$error":"#N/A"},1,{"$error":"#N/A"},1,1,1,1,1,1,1,{"$error":"#N/A"},{"$error":"#N/A"},{"$error":"#N/A"},{"$error":"#N/A"},{"$error":"#N/A"},{"$error":"#N/A"},48971.140625,0,0,0,0,0,1,1,1,1,1,1,48971.140625,0,0,0,0,0,0.10230659185819124,false,false,false,false,false,false,1,1,1,1,1,1,20.187000000000001,36.1,0,0,0,0,999.67100000000005,1,1,19.3505,71,1.2833000000000001,0.9698,20677.012999999999]
["1969-04-01",false,"2008-06-05",false,false,{"$error":"#N/A"},103.69000200000001,1,1257.599976,8.4965656862407268E-3,1,{"$error":"#N/A"},1,{"$error":"#N/A"},1,1,1,1,1,1,1,{"$error":"#N/A"},{"$error":"#N/A"},{"$error":"#N/A"},{"$error":"#N/A"},{"$error":"#N/A"},{"$error":"#N/A"},48971.140625,0,0,0,0,0,1,1,1,1,1,1,48971.140625,0,0,0,0,0,-5.0715538095285817E-3,false,false,false,false,false,false,1,1,1,1,1,1,20.443999999999999,36.299999999999997,0,0,0,0,1015.181,1,1,19.3505,71,1.2833000000000001,0.9698,20677.012999999999]
["1969-05-01",false,"2008-06-12",false,false,{"$error":"#N/A"},103.459999,1,1312.410034,4.266004400164506E-2,1,{"$error":"#N/A"},1,{"$error":"#N/A"},1,1,1,1,1,1,1,{"$error":"#N/A"},{"$error":"#N/A"},{"$error":"#N/A"},{"$error":"#N/A"},{"$error":"#N/A"},{"$error":"#N/A"},48971.140625,0,0,0,0,0,1,1,1,1,1,1,48971.140625,0,0,0,0,0,8.4965656862407268E-3,false,false,false,false,false,false,1,1,1,1,1,1,20.443999999999999,36.4,0,0,0,0,1015.181,1,1,19.3505,71,1.2833000000000001,0.9698,20677.012999999999]
["1969-06-01",false,"2008-06-19",false,false,{"$error":"#N/A"},97.709998999999996,1,1365.6800539999999,3.9787345020620563E-2,1,{"$error":"#N/A"},1,{"$error":"#N/A"},1,1,1,1,1,1,1,{"$error":"#N/A"},{"$error":"#N/A"},{"$error":"#N/A"},{"$error":"#N/A"},{"$error":"#N/A"},{"$error":"#N/A"},48971.140625,0,0,0,0,0,1,1,1,1,1,1,48971.140625,0,0,0,0,0,4.266004400164506E-2,false,false,false,false,false,false,1,1,1,1,1,1,20.443999999999999,36.6,0,0,0,0,1015.181,1,1,19.3505,71,1.2833000000000001,0.9698,20677.012999999999]
["1969-07-01",false,"2008-06-26",false,false,{"$error":"#N/A"},91.830001999999993,1,1408.469971,3.0851475632112556E-2,1,{"$error":"#N/A"},1,{"$error":"#N/A"},1,1,1,1,1,1,1,{"$error":"#N/A"},{"$error":"#N/A"},{"$error":"#N/A"},{"$error":"#N/A"},{"$error":"#N/A"},{"$error":"#N/A"},48971.140625,0,0,0,0,0,1,1,1,1,1,1,48971.140625,0,0,0,0,0,3.9787345020620563E-2,false,false,false,false,false,false,1,1,1,1,1,1,20.731000000000002,36.799999999999997,0,0,0,0,1035.904,1,1,19.3505,71,1.2833000000000001,0.9698,20677.012999999999]
["1969-08-01",false,"2008-07-03",false,false,{"$error":"#N/A"},95.510002,1,1397.910034,-7.5256998843071772E-3,1,{"$error":"#N/A"},1,{"$error":"#N/A"},1,1,1,1,1,1,1,{"$error":"#N/A"},{"$error":"#N/A"},{"$error":"#N/A"},{"$error":"#N/A"},{"$error":"#N/A"},{"$error":"#N/A"},48971.140625,0,0,0,0,0,1,1,1,1,1,1,48971.140625,0,0,0,0,0,3.0851475632112556E-2,false,false,false,false,false,false,1,1,1,1,1,1,20.731000000000002,36.9,0,0,0,0,1035.904,1,1,19.3505,71,1.2833000000000001,0.9698,20677.012999999999]
["1969-09-01",false,"2008-07-10",false,false,{"$error":"#N/A"},93.120002999999997,1,1310.329956,-6.4699308071820338E-2,1,{"$error":"#N/A"},1,{"$error":"#N/A"},1,1,1,1,1,1,1,{"$error":"#N/A"},{"$error":"#N/A"},{"$error":"#N/A"},{"$error":"#N/A"},{"$error":"#N/A"},{"$error":"#N/A"},48971.140625,0,0,0,0,0,1,1,1,1,1,1,48971.140625,0,0,0,0,0,-7.5256998843071772E-3,false,false,false,false,false,false,1,1,1,1,1,1,20.731000000000002,37.1,0,0,0,0,1035.904,1,1,19.3505,71,1.2833000000000001,0.9698,20677.012999999999]
["1969-10-01",false,"2008-07-17",false,false,{"$error":"#N/A"},97.120002999999997,1,1362.160034,3.8792719783522139E-2,1,{"$error":"#N/A"},1,{"$error":"#N/A"},1,1,1,1,1,1,1,{"$error":"#N/A"},{"$error":"#N/A"},{"$error":"#N/A"},{"$error":"#N/A"},{"$error":"#N/A"},{"$error":"#N/A"},48971.140625,0,0,0,0,0,1,1,1,1,1,1,48971.140625,0,0,0,0,0,-6.4699308071820338E-2,false,false,false,false,false,false,1,1,1,1,1,1,20.998000000000001,37.299999999999997,0,0,0,0,1044.164,1,1,19.3505,71,1.2833000000000001,0.9698,20677.012999999999]
["1969-11-01",false,"2008-07-24",false,false,{"$error":"#N/A"},93.809997999999993,1,1379.3199460000001,1.2518884862627446E-2,1,{"$error":"#N/A"},1,{"$error":"#N/A"},1,1,1,1,1,1,1,{"$error":"#N/A"},{"$error":"#N/A"},{"$error":"#N/A"},{"$error":"#N/A"},{"$error":"#N/A"},{"$error":"#N/A"},48971.140625,0,0,0,0,0,1,1,1,1,1,1,48971.140625,0,0,0,0,0,3.8792719783522139E-2,false,false,false,false,false,false,1,1,1,1,1,1,20.998000000000001,37.5,0,0,0,0,1044.164,1,1,19.3505,71,1.2833000000000001,0.9698,20677.012999999999]
["1969-12-01",false,"2008-07-31",false,false,{"$error":"#N/A"},92.059997999999993,1,1406.579956,1.9570609872560242E-2,1,{"$error":"#N/A"},1,{"$error":"#N/A"},1,1,1,1,1,1,1,{"$error":"#N/A"},{"$error":"#N/A"},{"$error":"#N/A"},{"$error":"#N/A"},{"$error":"#N/A"},{"$error":"#N/A"},48971.140625,0,0,0,0,0,1,1,1,1,1,1,48971.140625,0,0,0,0,0,1.2518884862627446E-2,false,false,false,false,false,false,1,1,1,1,1,1,20.998000000000001,37.700000000000003,0,0,0,0,1044.164,1,1,19.3505,71,1.2833000000000001,0.9698,20677.012999999999]
["1970-01-01",false,"2008-08-07",false,false,{"$error":"#N/A"},85.019997000000004,1,1440.670044,2.3947118873094017E-2,1,{"$error":"#N/A"},1,{"$error":"#N/A"},1,1,1,1,1,1,1,{"$error":"#N/A"},{"$error":"#N/A"},{"$error":"#N/A"},{"$error":"#N/A"},{"$error":"#N/A"},{"$error":"#N/A"},48971.140625,0,0,0,0,0,1,1,1,1,1,1,48971.140625,0,0,0,0,0,1.9570609872560242E-2,false,false,false,false,false,false,1,1,1,1,1,1,21.294,37.9,0,0,0,0,1057.4870000000001,1,1,19.3505,71,1.2833000000000001,0.9698,20677.012999999999]
["1970-02-01",false,"2008-08-14",false,false,{"$error":"#N/A"},89.5,1,1412.160034,-1.9987842523252936E-2,1,{"$error":"#N/A"},1,{"$error":"#N/A"},1,1,1,1,1,1,1,{"$error":"#N/A"},{"$error":"#N/A"},{"$error":"#N/A"},{"$error":"#N/A"},{"$error":"#N/A"},{"$error":"#N/A"},48971.140625,0,0,0,0,0,1,1,1,1,1,1,48971.140625,0,0,0,0,0,2.3947118873094017E-2,false,false,false,false,false,false,1,1,1,1,1,1,21.294,38.1,0,0,0,0,1057.4870000000001,1,1,19.3505,71,1.2833000000000001,0.9698,20677.012999999999]
["1970-03-01",false,"2008-08-21",false,false,{"$error":"#N/A"},89.629997000000003,1,1416.1800539999999,2.8426727918140823E-3,1,{"$error":"#N/A"},1,{"$error":"#N/A"},1,1,1,1,1,1,1,{"$error":"#N/A"},{"$error":"#N/A"},{"$error":"#N/A"},{"$error":"#N/A"},{"$error":"#N/A"},{"$error":"#N/A"},48971.140625,0,0,0,0,0,1,1,1,1,1,1,48971.140625,0,0,0,0,0,-1.9987842523252936E-2,false,false,false,false,false,false,1,1,1,1,1,1,21.294,38.299999999999997,0,0,0,0,1057.4870000000001,1,1,19.3505,71,1.2833000000000001,0.9698,20677.012999999999]
["1970-04-01",false,"2008-08-28",false,false,{"$error":"#N/A"},81.519997000000004,1,1426.1899410000001,7.0433676117494142E-3,1,{"$error":"#N/A"},1,{"$error":"#N/A"},1,1,1,1,1,1,1,{"$error":"#N/A"},{"$error":"#N/A"},{"$error":"#N/A"},{"$error":"#N/A"},{"$error":"#N/A"},{"$error":"#N/A"},48971.140625,0,0,0,0,0,1,1,1,1,1,1,48971.140625,0,0,0,0,0,2.8426727918140823E-3,false,false,false,false,false,false,1,1,1,1,1,1,21.591000000000001,38.5,0,0,0,0,1074.0119999999999,1,1,19.3505,71,1.2833000000000001,0.9698,20677.012999999999]
["1970-05-01",false,"2008-09-04",false,false,{"$error":"#N/A"},76.550003000000004,1,1498.1099850000001,4.9197792048925292E-2,1,{"$error":"#N/A"},1,{"$error":"#N/A"},1,1,1,1,1,1,1,{"$error":"#N/A"},{"$error":"#N/A"},{"$error":"#N/A"},{"$error":"#N/A"},{"$error":"#N/A"},{"$error":"#N/A"},48971.140625,0,0,0,0,0,1,1,1,1,1,1,48971.140625,0,0,0,0,0,7.0433676117494142E-3,false,false,false,false,false,false,1,1,1,1,1,1,21.591000000000001,38.6,0,0,0,0,1074.0119999999999,1,1,19.3505,71,1.2833000000000001,0.9698,20677.012999999999]
["1970-06-01",false,"2008-09-11",false,false,{"$error":"#N/A"},72.720000999999996,1,1514.6800539999999,1.0999927551865671E-2,1,{"$error":"#N/A"},1,{"$error":"#N/A"},1,1,1,1,1,1,1,{"$error":"#N/A"},{"$error":"#N/A"},{"$error":"#N/A"},{"$error":"#N/A"},{"$error":"#N/A"},{"$error":"#N/A"},48971.140625,0,0,0,0,0,1,1,1,1,1,1,48971.140625,0,0,0,0,0,4.9197792048925292E-2,false,false,false,false,false,false,1,1,1,1,1,1,21.591000000000001,38.799999999999997,0,0,0,0,1074.0119999999999,1,1,19.3505,71,1.2833000000000001,0.9698,20677.012999999999]
["1970-07-01",false,"2008-09-18",false,false,{"$error":"#N/A"},78.050003000000004,1,1569.1899410000001,3.5355293879972854E-2,1,{"$error":"#N/A"},1,{"$error":"#N/A"},1,1,1,1,1,1,1,{"$error":"#N/A"},{"$error":"#N/A"},{"$error":"#N/A"},{"$error":"#N/A"},{"$error":"#N/A"},{"$error":"#N/A"},48971.140625,0,0,0,0,0,1,1,1,1,1,1,48971.140625,0,0,0,0,0,1.0999927551865671E-2,false,false,false,false,false,false,1,1,1,1,1,1,21.768000000000001,38.9,0,0,0,0,1092.643,1,1,19.3505,71,1.2833000000000001,0.9698,20677.012999999999]
["1970-08-01",false,"2008-09-25",false,false,{"$error":"#N/A"},81.519997000000004,1,1597.5699460000001,1.792416591460497E-2,1,{"$error":"#N/A"},1,{"$error":"#N/A"},1,1,1,1,1,1,1,{"$error":"#N/A"},{"$error":"#N/A"},{"$error":"#N/A"},{"$error":"#N/A"},{"$error":"#N/A"},{"$error":"#N/A"},48971.140625,0,0,0,0,0,1,1,1,1,1,1,48971.140625,0,0,0,0,0,3.5355293879972854E-2,false,false,false,false,false,false,1,1,1,1,1,1,21.768000000000001,39,0,0,0,0,1092.643,1,1,19.3505,71,1.2833000000000001,0.9698,20677.012999999999]
["1970-09-01",false,"2008-10-02",false,false,{"$error":"#N/A"},84.300003000000004,1,1630.73999,2.0550202420727141E-2,1,{"$error":"#N/A"},1,{"$error":"#N/A"},1,1,1,1,1,1,1,{"$error":"#N/A"},{"$error":"#N/A"},{"$error":"#N/A"},{"$error":"#N/A"},{"$error":"#N/A"},{"$error":"#N/A"},48971.140625,0,0,0,0,0,1,1,1,1,1,1,48971.140625,0,0,0,0,0,1.792416591460497E-2,false,false,false,false,false,false,1,1,1,1,1,1,21.768000000000001,39.200000000000003,0,0,0,0,1092.643,1,1,19.3505,71,1.2833000000000001,0.9698,20677.012999999999]
["1970-10-01",false,"2008-10-09",false,false,{"$error":"#N/A"},83.25,1,1606.280029,-1.5112928811378473E-2,1,{"$error":"#N/A"},1,{"$error":"#N/A"},1,1,1,1,1,1,1,{"$error":"#N/A"},{"$error":"#N/A"},{"$error":"#N/A"},{"$error":"#N/A"},{"$error":"#N/A"},{"$error":"#N/A"},48971.140625,0,0,0,0,0,1,1,1,1,1,1,48971.140625,0,0,0,0,0,2.0550202420727141E-2,false,false,false,false,false,false,1,1,1,1,1,1,22.056000000000001,39.4,0,0,0,0,1094.672,1,1,19.3505,71,1.2833000000000001,0.9698,20677.012999999999]
["1970-11-01",false,"2008-10-16",false,false,{"$error":"#N/A"},87.199996999999996,1,1685.7299800000001,4.82777279585399E-2,1,{"$error":"#N/A"},1,{"$error":"#N/A"},1,1,1,1,1,1,1,{"$error":"#N/A"},{"$error":"#N/A"},{"$error":"#N/A"},{"$error":"#N/A"},{"$error":"#N/A"},{"$error":"#N/A"},48971.140625,0,0,0,0,0,1,1,1,1,1,1,48971.140625,0,0,0,0,0,-1.5112928811378473E-2,false,false,false,false,false,false,1,1,1,1,1,1,22.056000000000001,39.6,0,0,0,0,1094.672,1,1,19.3505,71,1.2833000000000001,0.9698,20677.012999999999]
["1970-12-01",false,"2008-10-23",false,false,{"$error":"#N/A"},92.150002000000001,1,1632.969971,-3.1798267578075287E-2,1,{"$error":"#N/A"},1,{"$error":"#N/A"},1,1,1,1,1,1,1,{"$error":"#N/A"},{"$error":"#N/A"},{"$error":"#N/A"},{"$error":"#N/A"},{"$error":"#N/A"},{"$error":"#N/A"},48971.140625,0,0,0,0,0,1,1,1,{"$f":"IF(AK$7,INDEX($BN261:$BT261,AK$7),1)","v":1},1,1,48971.140625,0,0,0,0,0,4.82777279585399E-2,false,false,false,false,false,false,1,1,1,1,1,1,22.056000000000001,39.799999999999997,0,0,0,0,1094.672,1,1,19.3505,71,1.2833000000000001,0.9698,20677.012999999999]
["1971-01-01",false,"2008-10-30",false,false,{"$error":"#N/A"},95.879997000000003,1,1681.5500489999999,2.931559128683648E-2,1,{"$error":"#N/A"},1,{"$error":"#N/A"},1,1,1,1,1,1,1,{"$error":"#N/A"},{"$error":"#N/A"},{"$error":"#N/A"},{"$error":"#N/A"},{"$error":"#N/A"},{"$error":"#N/A"},48971.140625,0,0,0,0,0,1,1,1,1,1,1,48971.140625,0,0,0,0,0,-3.1798267578075287E-2,false,false,false,false,false,false,1,1,1,1,1,1,22.390999999999998,39.9,0,0,2.4058000000000002,0,1142.57,1,1,19.3505,71,1.2833000000000001,0.9698,20677.012999999999]
["1971-02-01",false,"2008-11-06",false,false,{"$error":"#N/A"},96.75,1,1756.540039,4.3629970975040296E-2,1,{"$error":"#N/A"},1,{"$error":"#N/A"},1,1,1,1,1,1,1,{"$error":"#N/A"},{"$error":"#N/A"},{"$error":"#N/A"},{"$error":"#N/A"},{"$error":"#N/A"},{"$error":"#N/A"},48971.140625,0,0,0,0,0,1,1,1,1,1,1,48971.140625,0,0,0,0,0,2.931559128683648E-2,false,false,false,false,false,false,1,1,1,1,1,1,22.390999999999998,39.9,0,0,2.4178000000000002,4.2968000000000002,1142.57,1,1,19.3505,71,1.2833000000000001,0.9698,20677.012999999999]
["1971-03-01",false,"2008-11-13",false,false,{"$error":"#N/A"},100.30999799999999,1,1805.8100589999999,2.7663290033784871E-2,1,{"$error":"#N/A"},1,{"$error":"#N/A"},1,1,1,1,1,1,1,{"$error":"#N/A"},{"$error":"#N/A"},{"$error":"#N/A"},{"$error":"#N/A"},{"$error":"#N/A"},{"$error":"#N/A"},48971.140625,0,0,0,0,0,1,1,1,1,1,1,48971.140625,0,0,0,0,0,4.3629970975040296E-2,false,false,false,false,false,false,1,1,1,1,1,1,22.390999999999998,40,0,0,2.4186999999999999,4.3072999999999997,1142.57,1,1,19.3505,71,1.2833000000000001,0.9698,20677.012999999999]
["1971-04-01",false,"2008-11-20",false,false,{"$error":"#N/A"},103.949997,1,1848.3599850000001,2.3289474066882893E-2,1,{"$error":"#N/A"},1,{"$error":"#N/A"},1,1,1,1,1,1,1,{"$error":"#N/A"},{"$error":"#N/A"},{"$error":"#N/A"},{"$error":"#N/A"},{"$error":"#N/A"},{"$error":"#N/A"},48971.140625,0,0,0,0,0,1,1,1,1,1,1,48971.140625,0,0,0,0,0,2.7663290033784871E-2,false,false,false,false,false,false,1,1,1,1,1,1,22.684999999999999,40.1,0,0,2.4178999999999999,4.2954999999999997,1164.2460000000001,1,1,19.3505,71,1.2833000000000001,0.9698,20677.012999999999]
["1971-05-01",false,"2008-11-27",false,false,{"$error":"#N/A"},99.629997000000003,1,1782.589966,-3.623140748501559E-2,1,{"$error":"#N/A"},1,{"$error":"#N/A"},1,1,1,1,1,1,1,{"$error":"#N/A"},{"$error":"#N/A"},{"$error":"#N/A"},{"$error":"#N/A"},{"$error":"#N/A"},{"$error":"#N/A"},48971.140625,0,0,0,0,0,1,1,1,1,1,1,48971.140625,0,0,0,0,0,2.3289474066882893E-2,false,false,false,false,false,false,1,1,1,1,1,1,22.684999999999999,40.299999999999997,0,0,2.4186999999999999,4.2958999999999996,1164.2460000000001,1,1,19.3505,71,1.2833000000000001,0.9698,20677.012999999999]
["1971-06-01",{"$f":"IF(B266<=$D$2,EOMONTH(B266,1))","v":false},"2008-12-04",false,false,{"$f":"LOOKUP(D267,A:A,G:G)","v":{"$error":"#N/A"}},{"$f":"IFERROR(LOOKUP($A267,INDIRECT(\"'\"&G$7&\"'!A:A\"),INDIRECT(\"'\"&G$7&\"'!\"&$G$9&\":\"&$G$9)),0)","v":98.699996999999996},{"$f":"IF(H$8,INDEX($BN267:$BT267,H$8),1)","v":1},{"$f":"IF(ISNUMBER(F267),F267,I268)*H267","v":1859.4499510000001},4.2213374879040998E-2,1,{"$error":"#N/A"},1,{"$error":"#N/A"},1,1,1,1,1,1,1,{"$f":"LOOKUP($A267,INDIRECT(\"'\"&V$5&\"'!A:A\"),INDIRECT(\"'\"&V$5&\"'!\"&V$7&\":\"&V$7))","v":{"$error":"#N/A"}},{"$error":"#N/A"},{"$error":"#N/A"},{"$error":"#N/A"},{"$error":"#N/A"},{"$error":"#N/A"},{"$f":"IF(ISNUMBER(LOOKUP($D267,$A:$A,V:V)),LOOKUP($D267,$A:$A,V:V),AB266)","v":48971.140625},{"$f":"IF(ISNUMBER(LOOKUP($D267,$A:$A,W:W)),LOOKUP($D267,$A:$A,W:W),AC266)","v":0},{"$f":"IF(ISNUMBER(LOOKUP($D267,$A:$A,X:X)),LOOKUP($D267,$A:$A,X:X),AD266)","v":0},{"$f":"IF(ISNUMBER(LOOKUP($D267,$A:$A,Y:Y)),LOOKUP($D267,$A:$A,Y:Y),AE266)","v":0},{"$f":"IF(ISNUMBER(LOOKUP($D267,$A:$A,Z:Z)),LOOKUP($D267,$A:$A,Z:Z),AF266)","v":0},{"$f":"IF(ISNUMBER(LOOKUP($D267,$A:$A,AA:AA)),LOOKUP($D267,$A:$A,AA:AA),AG266)","v":0},1,1,1,1,1,1,{"$f":"IFERROR(IF(ISNUMBER(AB267)>0.1,AB267,AN268)*AH267,AN268)","v":48971.140625},{"$f":"IFERROR(IF(ISNUMBER(AC267)>0.1,AC267,AO268)*AI267,AO268)","v":0},{"$f":"IFERROR(IF(ISNUMBER(AD267)>0.1,AD267,AP268)*AJ267,AP268)","v":0},{"$f":"IFERROR(IF(ISNUMBER(AE267)>0.1,AE267,AQ268)*AK267,AQ268)","v":0},{"$f":"IFERROR(IF(ISNUMBER(AF267)>0.1,AF267,AR268)*AL267,AR268)","v":0},{"$f":"IF(ISNUMBER(AG267)>0.1,AG267,AS268)","v":0},-3.623140748501559E-2,{"$f":"IF(E267,IFERROR(LN(AN267/AN266),FALSE))","v":false},{"$f":"IF(E267,IFERROR(LN(AO267/AO266),FALSE))","v":false},{"$f":"IF(E267,IFERROR(LN(AP267/AP266),FALSE))","v":false},{"$f":"IF(E267,IFERROR(LN(AQ267/AQ266),FALSE))","v":false},{"$f":"IF(E267,IFERROR(LN(AR267/AR266),FALSE))","v":false},{"$f":"IF(E267,IFERROR(LN(AS267/AS266),FALSE))","v":false},1,1,1,1,1,1,{"$f":"IFERROR(LOOKUP($A267,INDIRECT(\"'\"&BN$6&\"'!A:A\"),INDIRECT(\"'\"&BN$6&\"'!\"&BN$7&\":\"&BN$7)),0)","v":22.684999999999999},{"$f":"IFERROR(LOOKUP($A267,INDIRECT(\"'\"&BO$6&\"'!A:A\"),INDIRECT(\"'\"&BO$6&\"'!\"&BO$7&\":\"&BO$7)),0)","v":40.5},{"$f":"IFERROR(LOOKUP($A267,INDIRECT(\"'\"&BP$6&\"'!A:A\"),INDIRECT(\"'\"&BP$6&\"'!\"&BP$7&\":\"&BP$7)),0)","v":0},{"$f":"IFERROR(LOOKUP($A267,INDIRECT(\"'\"&BQ$6&\"'!A:A\"),INDIRECT(\"'\"&BQ$6&\"'!\"&BQ$7&\":\"&BQ$7)),0)","v":0},{"$f":"IFERROR(LOOKUP($A267,INDIRECT(\"'\"&BR$6&\"'!A:A\"),INDIRECT(\"'\"&BR$6&\"'!\"&BR$7&\":\"&BR$7)),0)","v":2.4188000000000001},{"$f":"IFERROR(LOOKUP($A267,INDIRECT(\"'\"&BS$6&\"'!A:A\"),INDIRECT(\"'\"&BS$6&\"'!\"&BS$7&\":\"&BS$7)),0)","v":4.1059000000000001},{"$f":"IFERROR(LOOKUP($A267,INDIRECT(\"'\"&BT$6&\"'!A:A\"),INDIRECT(\"'\"&BT$6&\"'!\"&BT$7&\":\"&BT$7)),0)","v":1164.2460000000001},{"$f":"IFERROR(1/IFERROR(LOOKUP($D267,$A:$A,BG:BG)*1,0),1)","v":1},{"$f":"IFERROR(1/IFERROR(LOOKUP($D267,$A:$A,BH:BH)*1,0),1)","v":1},19.3505,71,1.2833000000000001,0.9698,20677.012999999999]
["1971-07-01",false,{"$f":"IF(C267<=$D$2,C267+7)","v":"2008-12-11"},false,{"$f":"AND(D268>=$D$4,D267<=$D$2)","v":false},{"$error":"#N/A"},95.580001999999993,1,1872.339966,{"$f":"IFERROR(LN(I268/I267),FALSE)","v":6.9082486153468677E-3},1,{"$error":"#N/A"},1,{"$error":"#N/A"},1,1,1,1,1,1,1,{"$error":"#N/A"},{"$error":"#N/A"},{"$error":"#N/A"},{"$error":"#N/A"},{"$error":"#N/A"},{"$error":"#N/A"},48971.140625,0,0,0,0,0,1,1,1,1,1,1,48971.140625,0,0,0,0,0,4.2213374879040998E-2,false,false,false,false,false,false,{"$f":"IFERROR(IF($E268,BA267*AN268/AN267,1),1)","v":1},{"$f":"IFERROR(IF($E268,BB267*AO268/AO267,1),1)","v":1},{"$f":"IFERROR(IF($E268,BC267*AP268/AP267,1),1)","v":1},{"$f":"IFERROR(IF($E268,BD267*AQ268/AQ267,1),1)","v":1},{"$f":"IFERROR(IF($E268,BE267*AR268/AR267,1),1)","v":1},{"$f":"IFERROR(IF($E268,BF267*AS268/AS267,1),1)","v":1},22.916,40.6,0,0,2.4184999999999999,4.0965999999999996,1184.9349999999999,1,1,{"$f":"IFERROR(LOOKUP($D268,$A:$A,BI:BI)*1,BP267)","v":19.3505},{"$f":"IFERROR(LOOKUP($D268,$A:$A,BJ:BJ)*1,BQ267)","v":71},{"$f":"IFERROR(LOOKUP($D268,$A:$A,BK:BK)*1,BR267)","v":1.2833000000000001},{"$f":"IFERROR(LOOKUP($D268,$A:$A,BL:BL)*1,BS267)","v":0.9698},{"$f":"IFERROR(LOOKUP($D268,$A:$A,BM:BM)*1,BT267)","v":20677.012999999999}]
["1971-08-01",false,"2008-12-18",{"$f":"IF($D$6,C269,B269)","v":false},false,{"$error":"#N/A"},99.029999000000004,1,1883.9499510000001,6.18164317838415E-3,{"$f":"IF($E269,(K268*I269/I268),1)","v":1},{"$f":"IF(E269,D269,NA())","v":{"$error":"#N/A"}},{"$f":"CHOOSE($M$1,I269,J269,K269)","v":1},{"$f":"L269","v":{"$error":"#N/A"}},{"$f":"M269","v":1},{"$f":"IFERROR(CHOOSE($M$1,AN269,AU269,BA269),1)","v":1},{"$f":"IFERROR(CHOOSE($M$1,AO269,AV269,BB269),1)","v":1},{"$f":"IFERROR(CHOOSE($M$1,AP269,AW269,BC269),1)","v":1},{"$f":"IFERROR(CHOOSE($M$1,AQ269,AX269,BD269),1)","v":1},{"$f":"IFERROR(CHOOSE($M$1,AR269,AY269,BE269),1)","v":1},{"$f":"IFERROR(CHOOSE($M$1,AS269,AZ269,BF269),1)","v":1},{"$error":"#N/A"},{"$error":"#N/A"},{"$error":"#N/A"},{"$error":"#N/A"},{"$error":"#N/A"},{"$error":"#N/A"},48971.140625,0,0,0,0,0,1,1,1,1,1,1,48971.140625,0,0,0,0,0,{"$f":"J269","v":6.9082486153468677E-3},false,false,false,false,false,false,1,1,1,1,1,1,22.916,40.700000000000003,0,0,2.4346000000000001,4.0861999999999998,1184.9349999999999,1,1,19.3505,71,1.2833000000000001,0.9698,20677.012999999999]
["1971-09-01",false,"2008-12-25",false,false,{"$error":"#N/A"},98.339995999999999,1,1923.5699460000001,2.0812195954315483E-2,1,{"$error":"#N/A"},1,{"$error":"#N/A"},1,1,1,1,1,1,1,{"$error":"#N/A"},{"$error":"#N/A"},{"$error":"#N/A"},{"$f":"LOOKUP($A270,INDIRECT(\"'\"&Y$5&\"'!A:A\"),INDIRECT(\"'\"&Y$5&\"'!\"&Y$7&\":\"&Y$7))","v":{"$error":"#N/A"}},{"$error":"#N/A"},{"$error":"#N/A"},48971.140625,0,0,0,0,0,1,1,1,1,1,1,48971.140625,0,0,0,0,0,6.18164317838415E-3,false,false,false,false,false,false,1,1,1,1,1,1,22.916,40.799999999999997,0,0,2.4693999999999998,4.0023999999999997,1184.9349999999999,1,1,19.3505,71,1.2833000000000001,0.9698,20677.012999999999]
["1971-10-01",false,"2009-01-01",false,false,{"$error":"#N/A"},94.230002999999996,1,1960.2299800000001,1.8878996624704429E-2,1,{"$error":"#N/A"},1,{"$error":"#N/A"},1,1,1,1,1,1,1,{"$error":"#N/A"},{"$error":"#N/A"},{"$error":"#N/A"},{"$error":"#N/A"},{"$error":"#N/A"},{"$error":"#N/A"},48971.140625,0,0,0,0,0,1,1,1,1,1,1,48971.140625,0,0,0,0,0,2.0812195954315483E-2,false,false,false,false,false,false,1,1,1,1,1,1,23.106999999999999,40.9,0,0,2.4895999999999998,3.9588000000000001,1198.0250000000001,1,1,19.3505,71,1.2833000000000001,0.9698,20677.012999999999]
["1971-11-01",false,"2009-01-08",false,false,{"$error":"#N/A"},93.989998,1,1930.670044,-1.5194687370535838E-2,1,{"$error":"#N/A"},1,{"$error":"#N/A"},1,1,1,1,1,1,1,{"$error":"#N/A"},{"$error":"#N/A"},{"$error":"#N/A"},{"$error":"#N/A"},{"$error":"#N/A"},{"$error":"#N/A"},48971.140625,0,0,0,0,0,1,1,1,1,1,1,48971.140625,0,0,0,0,0,1.8878996624704429E-2,false,false,false,false,false,false,1,1,1,1,1,1,23.106999999999999,41,0,0,2.4933000000000001,3.996,1198.0250000000001,1,1,19.3505,71,1.2833000000000001,0.9698,20677.012999999999]
["1971-12-01",false,"2009-01-15",false,false,{"$error":"#N/A"},102.089996,1,2003.369995,3.6963644321168353E-2,1,{"$error":"#N/A"},1,{"$error":"#N/A"},1,1,1,1,1,1,1,{"$error":"#N/A"},{"$error":"#N/A"},{"$error":"#N/A"},{"$error":"#N/A"},{"$error":"#N/A"},{"$error":"#N/A"},48971.140625,0,0,0,0,0,1,1,1,1,1,1,48971.140625,0,0,0,0,0,-1.5194687370535838E-2,false,false,false,false,false,false,1,1,1,1,1,1,23.106999999999999,41.1,0,0,2.5266000000000002,3.9489000000000001,1198.0250000000001,1,1,19.3505,71,1.2833000000000001,0.9698,20677.012999999999]
["1972-01-01",false,"2009-01-22",false,false,{"$error":"#N/A"},103.94000200000001,1,1972.290039,-1.5635436078483781E-2,1,{"$error":"#N/A"},1,{"$error":"#N/A"},1,1,1,1,1,1,1,{"$error":"#N/A"},{"$error":"#N/A"},{"$error":"#N/A"},{"$error":"#N/A"},{"$error":"#N/A"},{"$error":"#N/A"},48971.140625,0,0,0,0,0,1,1,1,1,1,1,48971.140625,0,0,0,0,0,3.6963644321168353E-2,false,false,false,false,false,false,1,1,1,1,1,1,23.457999999999998,41.2,0,0,2.5705,3.9146999999999998,1238.7840000000001,1,1,19.3505,71,1.2833000000000001,0.9698,20677.012999999999]
["1972-02-01",false,"2009-01-29",false,false,{"$error":"#N/A"},106.57,1,2018.0500489999999,2.2936398946422354E-2,1,{"$error":"#N/A"},1,{"$error":"#N/A"},1,1,1,1,1,1,1,{"$error":"#N/A"},{"$error":"#N/A"},{"$error":"#N/A"},{"$error":"#N/A"},{"$error":"#N/A"},{"$error":"#N/A"},48971.140625,0,0,0,0,0,1,1,1,1,1,1,48971.140625,0,0,0,0,0,-1.5635436078483781E-2,false,false,false,false,false,false,1,1,1,1,1,1,23.457999999999998,41.4,0,0,2.6036999999999999,3.8677000000000001,1238.7840000000001,1,1,19.3505,71,1.2833000000000001,0.9698,20677.012999999999]
["1972-03-01",false,"2009-02-05",false,false,{"$error":"#N/A"},107.199997,1,2067.5600589999999,2.4237473674625542E-2,1,{"$error":"#N/A"},1,{"$error":"#N/A"},1,1,1,1,1,1,1,{"$error":"#N/A"},{"$error":"#N/A"},{"$error":"#N/A"},{"$error":"#N/A"},{"$error":"#N/A"},{"$error":"#N/A"},48971.140625,0,0,0,0,0,1,1,1,1,1,1,48971.140625,0,0,0,0,0,2.2936398946422354E-2,false,false,false,false,false,false,1,1,1,1,1,1,23.457999999999998,41.4,0,0,2.6181000000000001,3.8711000000000002,1238.7840000000001,1,1,19.3505,71,1.2833000000000001,0.9698,20677.012999999999]
["1972-04-01",false,"2009-02-12",false,false,{"$error":"#N/A"},107.66999800000001,1,2058.8999020000001,-4.1973845845717124E-3,1,{"$error":"#N/A"},1,{"$error":"#N/A"},1,1,1,1,1,1,1,{"$error":"#N/A"},{"$error":"#N/A"},{"$error":"#N/A"},{"$error":"#N/A"},{"$error":"#N/A"},{"$error":"#N/A"},48971.140625,0,0,0,0,0,1,1,1,1,1,1,48971.140625,0,0,0,0,0,2.4237473674625542E-2,false,false,false,false,false,false,1,1,1,1,1,1,23.603999999999999,41.5,0,0,2.6101999999999999,3.8357999999999999,1274.4849999999999,1,1,19.3505,71,1.2833000000000001,0.9698,20677.012999999999]
["1972-05-01",false,"2009-02-19",false,false,{"$error":"#N/A"},109.529999,1,1994.98999,-3.1532779216949261E-2,1,{"$error":"#N/A"},1,{"$error":"#N/A"},1,1,1,1,1,1,1,{"$error":"#N/A"},{"$error":"#N/A"},{"$error":"#N/A"},{"$error":"#N/A"},{"$error":"#N/A"},{"$error":"#N/A"},48971.140625,0,0,0,0,0,1,1,1,1,1,1,48971.140625,0,0,0,0,0,-4.1973845845717124E-3,false,false,false,false,false,false,1,1,1,1,1,1,23.603999999999999,41.6,0,0,2.6124000000000001,3.8639999999999999,1274.4849999999999,1,1,19.3505,71,1.2833000000000001,0.9698,20677.012999999999]
["1972-06-01",false,"2009-02-26",false,false,{"$error":"#N/A"},107.139999,1,2104.5,5.343887644310899E-2,1,{"$error":"#N/A"},1,{"$error":"#N/A"},1,1,1,1,1,1,1,{"$error":"#N/A"},{"$error":"#N/A"},{"$error":"#N/A"},{"$error":"#N/A"},{"$error":"#N/A"},{"$error":"#N/A"},48971.140625,0,0,0,0,0,1,1,1,1,1,1,48971.140625,0,0,0,0,0,-3.1532779216949261E-2,false,false,false,false,false,false,1,1,1,1,1,1,23.603999999999999,41.7,0,0,2.5691000000000002,3.8351000000000002,1274.4849999999999,1,1,19.3505,71,1.2833000000000001,0.9698,20677.012999999999]
["1972-07-01",false,"2009-03-05",false,false,{"$error":"#N/A"},107.389999,1,2067.889893,-1.7549197229950769E-2,1,{"$error":"#N/A"},1,{"$error":"#N/A"},1,1,1,1,1,1,1,{"$error":"#N/A"},{"$error":"#N/A"},{"$error":"#N/A"},{"$error":"#N/A"},{"$error":"#N/A"},{"$error":"#N/A"},48971.140625,0,0,0,0,0,1,1,1,1,1,1,48971.140625,0,0,0,0,0,5.343887644310899E-2,false,false,false,false,false,false,1,1,1,1,1,1,23.83,41.8,0,0,2.4447000000000001,3.7425000000000002,1299.4849999999999,1,1,19.3505,71,1.2833000000000001,0.9698,20677.012999999999]
["1972-08-01",false,"2009-03-12",false,false,{"$error":"#N/A"},111.089996,1,2085.51001,8.4847224530057719E-3,1,{"$error":"#N/A"},1,{"$error":"#N/A"},1,1,1,1,1,1,1,{"$error":"#N/A"},{"$error":"#N/A"},{"$error":"#N/A"},{"$error":"#N/A"},{"$error":"#N/A"},{"$error":"#N/A"},48971.140625,0,0,0,0,0,1,1,1,1,1,1,48971.140625,0,0,0,0,0,-1.7549197229950769E-2,false,false,false,false,false,false,1,1,1,1,1,1,23.83,41.9,0,0,2.4502000000000002,3.7736000000000001,1299.4849999999999,1,1,19.3505,71,1.2833000000000001,0.9698,20677.012999999999]
["1972-09-01",false,"2009-03-19",false,false,{"$error":"#N/A"},110.550003,1,2107.389893,1.0436729763142673E-2,1,{"$error":"#N/A"},1,{"$error":"#N/A"},1,1,1,1,1,1,1,{"$error":"#N/A"},{"$error":"#N/A"},{"$error":"#N/A"},{"$error":"#N/A"},{"$error":"#N/A"},{"$error":"#N/A"},48971.140625,0,0,0,0,0,1,1,1,1,1,1,48971.140625,0,0,0,0,0,8.4847224530057719E-3,false,false,false,false,false,false,1,1,1,1,1,1,23.83,42.1,0,0,2.4409999999999998,3.7793000000000001,1299.4849999999999,1,1,19.3505,71,1.2833000000000001,0.9698,20677.012999999999]
["1972-10-01",false,"2009-03-26",false,false,{"$error":"#N/A"},111.58000199999999,1,2063.110107,-2.1235559276432083E-2,1,{"$error":"#N/A"},1,{"$error":"#N/A"},1,1,1,1,1,1,1,{"$error":"#N/A"},{"$error":"#N/A"},{"$error":"#N/A"},{"$error":"#N/A"},{"$error":"#N/A"},{"$error":"#N/A"},48971.140625,0,0,0,0,0,1,1,1,1,1,1,48971.140625,0,0,0,0,0,1.0436729763142673E-2,false,false,false,false,false,false,1,1,1,1,1,1,24.134,42.2,0,0,2.3948,3.8022999999999998,1337.9269999999999,1,1,19.3505,71,1.2833000000000001,0.9698,20677.012999999999]
["1972-11-01",false,"2009-04-02",false,false,{"$error":"#N/A"},116.66999800000001,1,2103.8400879999999,1.954968324649287E-2,1,{"$error":"#N/A"},1,{"$error":"#N/A"},1,1,1,1,1,1,1,{"$error":"#N/A"},{"$error":"#N/A"},{"$error":"#N/A"},{"$error":"#N/A"},{"$error":"#N/A"},{"$error":"#N/A"},48971.140625,0,0,0,0,0,1,1,1,1,1,1,48971.140625,0,0,0,0,0,-2.1235559276432083E-2,false,false,false,false,false,false,1,1,1,1,1,1,24.134,42.4,0,0,2.3515000000000001,3.7980999999999998,1337.9269999999999,1,1,19.3505,71,1.2833000000000001,0.9698,20677.012999999999]
["1972-12-01",false,"2009-04-09",false,false,{"$error":"#N/A"},118.050003,1,1972.1800539999999,-6.4624730898542204E-2,1,{"$error":"#N/A"},1,{"$error":"#N/A"},1,1,1,1,1,1,1,{"$error":"#N/A"},{"$error":"#N/A"},{"$error":"#N/A"},{"$error":"#N/A"},{"$error":"#N/A"},{"$error":"#N/A"},48971.140625,0,0,0,0,0,1,1,1,1,1,1,48971.140625,0,0,0,0,0,1.954968324649287E-2,false,false,false,false,false,false,1,1,1,1,1,1,24.134,42.5,0,0,2.3449,3.7658,1337.9269999999999,1,1,19.3505,71,1.2833000000000001,0.9698,20677.012999999999]
["1973-01-01",false,"2009-04-16",false,false,{"$error":"#N/A"},116.029999,1,1920.030029,-2.6798731264652844E-2,1,{"$error":"#N/A"},1,{"$error":"#N/A"},1,1,1,1,1,1,1,{"$error":"#N/A"},{"$error":"#N/A"},{"$error":"#N/A"},{"$error":"#N/A"},{"$error":"#N/A"},{"$error":"#N/A"},48971.140625,0,0,0,0,0,1,1,1,1,1,1,48971.140625,0,0,0,0,0,-6.4624730898542204E-2,false,false,false,false,false,false,1,1,1,1,1,1,24.411999999999999,42.7,0,0,2.3563000000000001,".",1388.16,1,1,19.3505,71,1.2833000000000001,0.9698,20677.012999999999]
["1973-02-01",false,"2009-04-23",false,false,{"$error":"#N/A"},111.68,1,2079.360107,7.9719379495131665E-2,1,{"$error":"#N/A"},1,{"$error":"#N/A"},1,1,1,1,1,1,1,{"$error":"#N/A"},{"$error":"#N/A"},{"$error":"#N/A"},{"$error":"#N/A"},{"$error":"#N/A"},{"$error":"#N/A"},48971.140625,0,0,0,0,0,1,1,1,1,1,1,48971.140625,0,0,0,0,0,-2.6798731264652844E-2,false,false,false,false,false,false,1,1,1,1,1,1,24.411999999999999,43,0,8,2.4272,3.6049000000000002,1388.16,1,1,19.3505,71,1.2833000000000001,0.9698,20677.012999999999]
["1973-03-01",false,"2009-04-30",false,false,{"$error":"#N/A"},111.519997,1,2080.4099120000001,5.0474185711855491E-4,1,{"$error":"#N/A"},1,{"$error":"#N/A"},1,1,1,1,1,1,1,{"$error":"#N/A"},{"$error":"#N/A"},{"$error":"#N/A"},{"$error":"#N/A"},{"$error":"#N/A"},{"$error":"#N/A"},48971.140625,0,0,0,0,0,1,1,1,1,1,1,48971.140625,0,0,0,0,0,7.9719379495131665E-2,false,false,false,false,false,false,1,1,1,1,1,1,24.411999999999999,43.4,0,7.55,2.4723999999999999,3.1299000000000001,1388.16,1,1,19.3505,71,1.2833000000000001,0.9698,20677.012999999999]
["1973-04-01",false,"2009-05-07",false,false,{"$error":"#N/A"},106.970001,1,2043.9399410000001,-1.7685658536441762E-2,1,{"$error":"#N/A"},1,{"$error":"#N/A"},1,1,1,1,1,1,1,{"$error":"#N/A"},{"$error":"#N/A"},{"$error":"#N/A"},{"$error":"#N/A"},{"$error":"#N/A"},{"$error":"#N/A"},48971.140625,0,0,0,0,0,1,1,1,1,1,1,48971.140625,0,0,0,0,0,5.0474185711855491E-4,false,false,false,false,false,false,1,1,1,1,1,1,24.786999999999999,43.7,0,7.55,2.4836999999999998,3.2435999999999998,1425.5129999999999,1,1,19.3505,71,1.2833000000000001,0.9698,20677.012999999999]
["1973-05-01",false,"2009-05-14",false,false,{"$error":"#N/A"},104.949997,1,1940.23999,-5.2067617227535473E-2,1,{"$error":"#N/A"},1,{"$error":"#N/A"},1,1,1,1,1,1,1,{"$error":"#N/A"},{"$error":"#N/A"},{"$error":"#N/A"},{"$error":"#N/A"},{"$error":"#N/A"},{"$error":"#N/A"},48971.140625,0,0,0,0,0,1,1,1,1,1,1,48971.140625,0,0,0,0,0,-1.7685658536441762E-2,false,false,false,false,false,false,1,1,1,1,1,1,24.786999999999999,43.9,0,7.54,2.5306000000000002,3.2404000000000002,1425.5129999999999,1,1,19.3505,71,1.2833000000000001,0.9698,20677.012999999999]
["1973-06-01",false,"2009-05-21",false,false,{"$error":"#N/A"},104.260002,1,1932.2299800000001,-4.1369056367907874E-3,1,{"$error":"#N/A"},1,{"$error":"#N/A"},1,1,1,1,1,1,1,{"$error":"#N/A"},{"$error":"#N/A"},{"$error":"#N/A"},{"$error":"#N/A"},{"$error":"#N/A"},{"$error":"#N/A"},48971.140625,0,0,0,0,0,1,1,1,1,1,1,48971.140625,0,0,0,0,0,-5.2067617227535473E-2,false,false,false,false,false,false,1,1,1,1,1,1,24.786999999999999,44.2,0,7.25,2.5762,3.0741000000000001,1425.5129999999999,1,1,19.3505,71,1.2833000000000001,0.9698,20677.012999999999]
["1973-07-01",false,"2009-05-28",false,false,{"$error":"#N/A"},108.220001,1,2059.73999,6.3904990415635493E-2,1,{"$error":"#N/A"},1,{"$error":"#N/A"},1,1,1,1,1,1,1,{"$error":"#N/A"},{"$error":"#N/A"},{"$error":"#N/A"},{"$error":"#N/A"},{"$error":"#N/A"},{"$error":"#N/A"},48971.140625,0,0,0,0,0,1,1,1,1,1,1,48971.140625,0,0,0,0,0,-4.1369056367907874E-3,false,false,false,false,false,false,1,1,1,1,1,1,25.27,44.2,0,7.3,2.5375000000000001,2.9283000000000001,1447.7149999999999,1,1,19.3505,71,1.2833000000000001,0.9698,20677.012999999999]
["1973-08-01",false,"2009-06-04",false,false,{"$error":"#N/A"},104.25,1,2065.3000489999999,2.6957616481642385E-3,1,{"$error":"#N/A"},1,{"$error":"#N/A"},1,1,1,1,1,1,1,{"$error":"#N/A"},{"$error":"#N/A"},{"$error":"#N/A"},{"$error":"#N/A"},{"$error":"#N/A"},{"$error":"#N/A"},48971.140625,0,0,0,0,0,1,1,1,1,1,1,48971.140625,0,0,0,0,0,6.3904990415635493E-2,false,false,false,false,false,false,1,1,1,1,1,1,25.27,45,0,7.49,2.4756999999999998,2.8409,1447.7149999999999,1,1,19.3505,71,1.2833000000000001,0.9698,20677.012999999999]
["1973-09-01",false,"2009-06-11",false,false,{"$error":"#N/A"},108.43,1,2096.9499510000001,1.5208366645339389E-2,1,{"$error":"#N/A"},1,{"$error":"#N/A"},1,1,1,1,1,1,1,{"$error":"#N/A"},{"$error":"#N/A"},{"$error":"#N/A"},{"$error":"#N/A"},{"$error":"#N/A"},{"$error":"#N/A"},48971.140625,0,0,0,0,0,1,1,1,1,1,1,48971.140625,0,0,0,0,0,2.6957616481642385E-3,false,false,false,false,false,false,1,1,1,1,1,1,25.27,45.2,0,7.58,2.4182999999999999,3.0348999999999999,1447.7149999999999,1,1,19.3505,71,1.2833000000000001,0.9698,20677.012999999999]
["1973-10-01",false,"2009-06-18",false,false,{"$error":"#N/A"},108.290001,1,2098.860107,9.1050648411568206E-4,1,{"$error":"#N/A"},1,{"$error":"#N/A"},1,1,1,1,1,1,1,{"$error":"#N/A"},{"$error":"#N/A"},{"$error":"#N/A"},{"$error":"#N/A"},{"$error":"#N/A"},{"$error":"#N/A"},48971.140625,0,0,0,0,0,1,1,1,1,1,1,48971.140625,0,0,0,0,0,1.5208366645339389E-2,false,false,false,false,false,false,1,1,1,1,1,1,25.773,45.6,0,7.72,2.4291999999999998,3.0247999999999999,1490.5909999999999,1,1,19.3505,71,1.2833000000000001,0.9698,20677.012999999999]
["1973-11-01",false,"2009-06-25",false,false,{"$error":"#N/A"},95.959998999999996,1,2173.6000979999999,3.4990433050203752E-2,1,{"$error":"#N/A"},1,{"$error":"#N/A"},1,1,1,1,1,1,1,{"$error":"#N/A"},{"$error":"#N/A"},{"$error":"#N/A"},{"$error":"#N/A"},{"$error":"#N/A"},{"$error":"#N/A"},48971.140625,0,0,0,0,0,1,1,1,1,1,1,48971.140625,0,0,0,0,0,9.1050648411568206E-4,false,false,false,false,false,false,1,1,1,1,1,1,25.773,45.9,0,7.68,2.387,3.0998000000000001,1490.5909999999999,1,1,19.3505,71,1.2833000000000001,0.9698,20677.012999999999]
["1973-12-01",false,"2009-07-02",false,false,{"$error":"#N/A"},97.550003000000004,1,2170.9499510000001,-1.2199870176702919E-3,1,{"$error":"#N/A"},1,{"$error":"#N/A"},1,1,1,1,1,1,1,{"$error":"#N/A"},{"$error":"#N/A"},{"$error":"#N/A"},{"$error":"#N/A"},{"$error":"#N/A"},{"$error":"#N/A"},48971.140625,0,0,0,0,0,1,1,1,1,1,1,48971.140625,0,0,0,0,0,3.4990433050203752E-2,false,false,false,false,false,false,1,1,1,1,1,1,25.773,46.3,0,8.06,2.3174000000000001,3.2050999999999998,1490.5909999999999,1,1,19.3505,71,1.2833000000000001,0.9698,20677.012999999999]
["1974-01-01",false,"2009-07-09",false,false,{"$error":"#N/A"},96.57,1,2168.2700199999999,-1.2352134063971093E-3,1,{"$error":"#N/A"},1,{"$error":"#N/A"},1,1,1,1,1,1,1,{"$error":"#N/A"},{"$error":"#N/A"},{"$error":"#N/A"},{"$error":"#N/A"},{"$error":"#N/A"},{"$error":"#N/A"},48971.140625,0,0,0,0,0,1,1,1,1,1,1,48971.140625,0,0,0,0,0,-1.2199870176702919E-3,false,false,false,false,false,false,1,1,1,1,1,1,26.26,46.8,0,".",2.2240000000000002,".",1508.2760000000001,1,1,19.3505,71,1.2833000000000001,0.9698,20677.012999999999]
["1974-02-01",false,"2009-07-16",false,false,{"$error":"#N/A"},96.220000999999996,1,2126.1499020000001,-1.9616837421336072E-2,1,{"$error":"#N/A"},1,{"$error":"#N/A"},1,1,1,1,1,1,1,{"$error":"#N/A"},{"$error":"#N/A"},{"$error":"#N/A"},{"$error":"#N/A"},{"$error":"#N/A"},{"$error":"#N/A"},48971.140625,0,0,0,0,0,1,1,1,1,1,1,48971.140625,0,0,0,0,0,-1.2352134063971093E-3,false,false,false,false,false,false,1,1,1,1,1,1,26.26,47.3,0,8.23,2.2749000000000001,3.2658,1508.2760000000001,1,1,19.3505,71,1.2833000000000001,0.9698,20677.012999999999]
["1974-03-01",false,"2009-07-23",false,false,{"$error":"#N/A"},93.980002999999996,1,2198.8100589999999,3.3603545390870432E-2,1,{"$error":"#N/A"},1,{"$error":"#N/A"},1,1,1,1,1,1,1,{"$error":"#N/A"},{"$error":"#N/A"},{"$error":"#N/A"},{"$error":"#N/A"},{"$error":"#N/A"},{"$error":"#N/A"},48971.140625,0,0,0,0,0,1,1,1,1,1,1,48971.140625,0,0,0,0,0,-1.9616837421336072E-2,false,false,false,false,false,false,1,1,1,1,1,1,26.26,47.8,0,8.1999999999999993,2.3405999999999998,3.1505999999999998,1508.2760000000001,1,1,19.3505,71,1.2833000000000001,0.9698,20677.012999999999]
["1974-04-01",false,"2009-07-30",false,false,{"$error":"#N/A"},90.309997999999993,1,2238.830078,1.8037111058687334E-2,1,{"$error":"#N/A"},1,{"$error":"#N/A"},1,1,1,1,1,1,1,{"$error":"#N/A"},{"$error":"#N/A"},{"$error":"#N/A"},{"$error":"#N/A"},{"$error":"#N/A"},{"$error":"#N/A"},48971.140625,0,0,0,0,0,{"$f":"IF(AH$7,INDEX($BN301:$BT301,AH$7),1)","v":1},1,1,1,1,1,48971.140625,0,0,0,0,0,3.3603545390870432E-2,false,false,false,false,false,false,1,1,1,1,1,1,26.88,48.1,0,7.81,2.3885999999999998,3.0423,1546.453,1,1,19.3505,71,1.2833000000000001,0.9698,20677.012999999999]
["1974-05-01",false,"2009-08-06",false,false,{"$error":"#N/A"},87.279999000000004,1,2278.8701169999999,1.7726314594617782E-2,1,{"$error":"#N/A"},1,{"$error":"#N/A"},1,1,1,1,1,1,1,{"$error":"#N/A"},{"$error":"#N/A"},{"$error":"#N/A"},{"$error":"#N/A"},{"$error":"#N/A"},{"$error":"#N/A"},48971.140625,0,0,0,0,0,1,1,1,1,1,1,48971.140625,0,0,0,0,0,1.8037111058687334E-2,false,false,false,false,false,false,1,1,1,1,1,1,26.88,48.6,0,7.81,2.4137,2.9377,1546.453,1,1,19.3505,71,1.2833000000000001,0.9698,20677.012999999999]
["1974-06-01",false,"2009-08-13",false,false,{"$error":"#N/A"},86,1,2363.639893,3.6523000999039816E-2,1,{"$error":"#N/A"},1,{"$error":"#N/A"},1,1,1,1,1,1,1,{"$error":"#N/A"},{"$error":"#N/A"},{"$error":"#N/A"},{"$error":"#N/A"},{"$error":"#N/A"},{"$error":"#N/A"},48971.140625,0,0,0,0,0,1,1,1,1,1,1,48971.140625,0,0,0,0,0,1.7726314594617782E-2,false,false,false,false,false,false,1,1,1,1,1,1,26.88,49,0,7.87,2.3902000000000001,2.9796999999999998,1546.453,1,1,19.3505,71,1.2833000000000001,0.9698,20677.012999999999]
["1974-07-01",false,"2009-08-20",false,false,{"$error":"#N/A"},79.309997999999993,1,2362.719971,-3.8927294496698804E-4,1,{"$error":"#N/A"},1,{"$error":"#N/A"},1,1,1,1,1,1,1,{"$error":"#N/A"},{"$error":"#N/A"},{"$error":"#N/A"},{"$error":"#N/A"},{"$error":"#N/A"},{"$error":"#N/A"},48971.140625,0,0,0,0,0,1,1,1,1,1,1,48971.140625,0,0,0,0,0,3.6523000999039816E-2,false,false,false,false,false,false,1,1,1,1,1,1,27.667999999999999,49.3,0,7.81,2.3896000000000002,3.012,1575.3030000000001,1,1,19.3505,71,1.2833000000000001,0.9698,20677.012999999999]
["1974-08-01",false,"2009-08-27",false,false,{"$error":"#N/A"},72.150002000000001,1,2384.1999510000001,9.0501322804594966E-3,1,{"$error":"#N/A"},1,{"$error":"#N/A"},1,1,1,1,1,1,1,{"$error":"#N/A"},{"$error":"#N/A"},{"$error":"#N/A"},{"$error":"#N/A"},{"$error":"#N/A"},{"$error":"#N/A"},48971.140625,0,0,0,0,0,1,1,1,1,1,1,48971.140625,0,0,0,0,0,-3.8927294496698804E-4,false,false,false,false,false,false,1,1,1,1,1,1,27.667999999999999,49.9,0,7.81,2.3456000000000001,2.9550999999999998,1575.3030000000001,1,1,19.3505,71,1.2833000000000001,0.9698,20677.012999999999]
["1974-09-01",false,"2009-09-03",false,false,{"$error":"#N/A"},63.540000999999997,1,2411.8000489999999,1.1509759254333795E-2,1,{"$error":"#N/A"},1,{"$error":"#N/A"},1,1,1,1,1,1,1,{"$error":"#N/A"},{"$error":"#N/A"},{"$error":"#N/A"},{"$error":"#N/A"},{"$error":"#N/A"},{"$error":"#N/A"},48971.140625,0,0,0,0,0,1,1,1,1,1,1,48971.140625,0,0,0,0,0,9.0501322804594966E-3,false,false,false,false,false,false,1,1,1,1,1,1,27.667999999999999,50.6,0,8.1300000000000008,2.3165,3.0110999999999999,1575.3030000000001,1,1,19.3505,71,1.2833000000000001,0.9698,20677.012999999999]
["1974-10-01",false,"2009-09-10",false,false,{"$error":"#N/A"},73.900002000000001,1,2423.4099120000001,4.8022259241070758E-3,1,{"$error":"#N/A"},1,{"$error":"#N/A"},1,1,1,1,1,1,1,{"$error":"#N/A"},{"$error":"#N/A"},{"$error":"#N/A"},{"$error":"#N/A"},{"$error":"#N/A"},{"$error":"#N/A"},48971.140625,0,0,0,0,0,1,1,1,1,1,1,48971.140625,0,0,0,0,0,1.1509759254333795E-2,false,false,false,false,false,false,1,1,1,1,1,1,28.481999999999999,51,0,8.06,2.3330000000000002,2.9411999999999998,1613.018,1,1,19.3505,71,1.2833000000000001,0.9698,20677.012999999999]
["1974-11-01",false,"2009-09-17",false,false,{"$error":"#N/A"},69.970000999999996,1,2470.3000489999999,1.916401766181007E-2,1,{"$error":"#N/A"},1,{"$error":"#N/A"},1,1,1,1,1,1,1,{"$error":"#N/A"},{"$error":"#N/A"},{"$error":"#N/A"},{"$error":"#N/A"},{"$error":"#N/A"},{"$error":"#N/A"},48971.140625,0,0,0,0,0,1,1,1,1,1,1,48971.140625,0,0,0,0,0,4.8022259241070758E-3,false,false,false,false,false,false,1,1,1,1,1,1,28.481999999999999,51.5,0,8.06,2.3252000000000002,2.8571,1613.018,1,1,19.3505,71,1.2833000000000001,0.9698,20677.012999999999]
["1974-12-01",false,"2009-09-24",false,false,{"$error":"#N/A"},68.559997999999993,1,2471.6499020000001,5.4628357104102084E-4,1,{"$error":"#N/A"},1,{"$error":"#N/A"},1,1,1,1,1,1,1,{"$error":"#N/A"},{"$error":"#N/A"},{"$error":"#N/A"},{"$error":"#N/A"},{"$error":"#N/A"},{"$error":"#N/A"},48971.140625,0,0,0,0,0,1,1,1,1,1,1,48971.140625,0,0,0,0,0,1.916401766181007E-2,false,false,false,false,false,false,1,1,1,1,1,1,28.481999999999999,51.9,0,8.06,2.3294000000000001,2.7122000000000002,1613.018,1,1,19.3505,71,1.2833000000000001,0.9698,20677.012999999999]
["1975-01-01",false,"2009-10-01",false,false,{"$error":"#N/A"},76.980002999999996,1,2519.360107,1.911903932397916E-2,1,{"$error":"#N/A"},1,{"$error":"#N/A"},1,1,1,1,1,1,1,{"$error":"#N/A"},{"$error":"#N/A"},{"$error":"#N/A"},{"$error":"#N/A"},{"$error":"#N/A"},{"$error":"#N/A"},48971.140625,0,0,0,0,0,1,1,1,1,1,1,48971.140625,0,0,0,0,0,5.4628357104102084E-4,false,false,false,false,false,false,1,1,1,1,1,1,29.129000000000001,52.3,0,".",2.3622999999999998,".",1627.5119999999999,1,1,19.3505,71,1.2833000000000001,0.9698,20677.012999999999]
["1975-02-01",false,"2009-10-08",false,false,{"$error":"#N/A"},81.589995999999999,1,2575.26001,2.1945560290305279E-2,1,{"$error":"#N/A"},1,{"$error":"#N/A"},1,1,1,1,1,1,1,{"$error":"#N/A"},{"$error":"#N/A"},{"$error":"#N/A"},{"$error":"#N/A"},{"$error":"#N/A"},{"$error":"#N/A"},48971.140625,0,0,0,0,0,1,1,1,1,1,1,48971.140625,0,0,0,0,0,1.911903932397916E-2,false,false,false,false,false,false,1,1,1,1,1,1,29.129000000000001,52.6,0,8.1300000000000008,2.3957999999999999,2.4956,1627.5119999999999,1,1,19.3505,71,1.2833000000000001,0.9698,20677.012999999999]
["1975-03-01",false,"2009-10-15",false,false,{"$error":"#N/A"},83.360000999999997,1,2584.8400879999999,3.7131407628128972E-3,1,{"$error":"#N/A"},1,{"$error":"#N/A"},1,1,1,1,1,1,1,{"$error":"#N/A"},{"$error":"#N/A"},{"$error":"#N/A"},{"$error":"#N/A"},{"$error":"#N/A"},{"$error":"#N/A"},48971.140625,0,0,0,0,0,1,1,1,{"$f":"IF(AK$7,INDEX($BN312:$BT312,AK$7),1)","v":1},1,1,48971.140625,0,0,0,0,0,2.1945560290305279E-2,false,false,false,false,false,false,1,1,1,1,1,1,29.129000000000001,52.8,0,7.75,2.4180000000000001,2.4033000000000002,1627.5119999999999,1,1,19.3505,71,1.2833000000000001,0.9698,20677.012999999999]
["1975-04-01",false,"2009-10-22",false,false,{"$error":"#N/A"},87.300003000000004,1,2673.610107,3.3766014609890378E-2,1,{"$error":"#N/A"},1,{"$error":"#N/A"},1,1,1,1,1,1,1,{"$error":"#N/A"},{"$error":"#N/A"},{"$error":"#N/A"},{"$error":"#N/A"},{"$error":"#N/A"},{"$error":"#N/A"},48971.140625,0,0,0,0,0,1,1,1,1,1,1,48971.140625,0,0,0,0,0,3.7131407628128972E-3,false,false,false,false,false,false,1,1,1,1,1,1,29.562000000000001,53,0,7.75,2.3706999999999998,2.5202,1663.509,1,1,19.3505,71,1.2833000000000001,0.9698,20677.012999999999]
["1975-05-01",false,"2009-10-29",false,false,{"$error":"#N/A"},91.150002000000001,1,2823.8100589999999,5.4657398659986728E-2,1,{"$error":"#N/A"},1,{"$error":"#N/A"},1,1,1,1,1,1,1,{"$error":"#N/A"},{"$error":"#N/A"},{"$error":"#N/A"},{"$error":"#N/A"},{"$error":"#N/A"},{"$error":"#N/A"},48971.140625,0,0,0,0,0,1,1,1,1,1,1,48971.140625,0,0,0,0,0,3.3766014609890378E-2,false,false,false,false,false,false,1,1,1,1,1,1,29.562000000000001,53.1,0,8,2.3205,2.5575000000000001,1663.509,1,1,19.3505,71,1.2833000000000001,0.9698,20677.012999999999]
["1975-06-01",false,"2009-11-05",false,false,{"$error":"#N/A"},95.190002000000007,1,2713.830078,-3.9726107788010244E-2,1,{"$error":"#N/A"},1,{"$error":"#N/A"},1,1,1,1,1,1,1,{"$error":"#N/A"},{"$error":"#N/A"},{"$error":"#N/A"},{"$error":"#N/A"},{"$error":"#N/A"},{"$error":"#N/A"},48971.140625,0,0,0,0,0,1,1,1,1,1,1,48971.140625,0,0,0,0,0,5.4657398659986728E-2,false,false,false,false,false,false,1,1,1,1,1,1,29.562000000000001,53.5,0,8.1,2.2803,2.5019,1663.509,1,1,19.3505,71,1.2833000000000001,0.9698,20677.012999999999]
["1975-07-01",false,"2009-11-12",false,false,{"$error":"#N/A"},88.75,1,2640.8701169999999,-2.725249739187887E-2,1,{"$error":"#N/A"},1,{"$error":"#N/A"},1,1,1,1,1,1,1,{"$error":"#N/A"},{"$error":"#N/A"},{"$error":"#N/A"},{"$error":"#N/A"},{"$error":"#N/A"},{"$error":"#N/A"},48971.140625,0,0,0,0,0,1,1,1,1,1,1,48971.140625,0,0,0,0,0,-3.9726107788010244E-2,false,false,false,false,false,false,1,1,1,1,1,1,30.084,54,0,8.4,2.1844999999999999,2.5118999999999998,1722.818,1,1,19.3505,71,1.2833000000000001,0.9698,20677.012999999999]
["1975-08-01",false,"2009-11-19",false,false,{"$error":"#N/A"},86.879997000000003,1,2648.0500489999999,2.7150859477301889E-3,1,{"$error":"#N/A"},1,{"$error":"#N/A"},1,1,1,1,1,1,1,{"$error":"#N/A"},{"$error":"#N/A"},{"$error":"#N/A"},{"$error":"#N/A"},{"$error":"#N/A"},{"$error":"#N/A"},48971.140625,0,0,0,0,0,1,1,1,1,1,1,48971.140625,0,0,0,0,0,-2.725249739187887E-2,false,false,false,false,false,false,1,1,1,1,1,1,30.084,54.2,0,8.6199999999999992,2.1143000000000001,2.6983000000000001,1722.818,1,1,19.3505,71,1.2833000000000001,0.9698,20677.012999999999]
["1975-09-01",false,"2009-11-26",false,false,{"$error":"#N/A"},83.870002999999997,1,2705.2700199999999,2.1378191291432879E-2,1,{"$error":"#N/A"},1,{"$error":"#N/A"},1,1,1,1,1,1,1,{"$error":"#N/A"},{"$error":"#N/A"},{"$error":"#N/A"},{"$error":"#N/A"},{"$error":"#N/A"},{"$error":"#N/A"},48971.140625,0,0,0,0,0,1,1,1,1,1,1,48971.140625,0,0,0,0,0,2.7150859477301889E-3,false,false,false,false,false,false,1,1,1,1,1,1,30.084,54.6,0,".",2.0834000000000001,".",1722.818,1,1,19.3505,71,1.2833000000000001,0.9698,20677.012999999999]
["1975-10-01",false,"2009-12-03",false,false,{"$error":"#N/A"},89.040001000000004,1,2718.3701169999999,4.830749144322073E-3,1,{"$error":"#N/A"},1,{"$error":"#N/A"},1,1,1,1,1,1,1,{"$error":"#N/A"},{"$error":"#N/A"},{"$error":"#N/A"},{"$error":"#N/A"},{"$error":"#N/A"},{"$error":"#N/A"},48971.140625,0,0,0,0,0,1,1,1,1,1,1,48971.140625,0,0,0,0,0,2.1378191291432879E-2,false,false,false,false,false,false,1,1,1,1,1,1,30.587,54.9,0,8.94,2.0568,2.7122000000000002,1777.797,1,1,19.3505,71,1.2833000000000001,0.9698,20677.012999999999]
["1975-11-01",false,"2009-12-10",false,false,{"$error":"#N/A"},91.239998,1,2816.290039,3.5387950784307211E-2,1,{"$error":"#N/A"},1,{"$error":"#N/A"},1,1,1,1,1,1,1,{"$error":"#N/A"},{"$error":"#N/A"},{"$error":"#N/A"},{"$error":"#N/A"},{"$error":"#N/A"},{"$error":"#N/A"},48971.140625,0,0,0,0,0,1,1,1,1,1,1,48971.140625,0,0,0,0,0,4.830749144322073E-3,false,false,false,false,false,false,1,1,1,1,1,1,30.587,55.3,0,8.81,2.0484,2.6246999999999998,1777.797,1,1,19.3505,71,1.2833000000000001,0.9698,20677.012999999999]
["1975-12-01",false,"2009-12-17",false,false,{"$error":"#N/A"},90.190002000000007,1,2901.5200199999999,2.9814314708128044E-2,1,{"$error":"#N/A"},1,{"$error":"#N/A"},1,1,1,1,1,1,1,{"$error":"#N/A"},{"$error":"#N/A"},{"$error":"#N/A"},{"$f":"LOOKUP($A321,INDIRECT(\"'\"&Y$5&\"'!A:A\"),INDIRECT(\"'\"&Y$5&\"'!\"&Y$7&\":\"&Y$7))","v":{"$error":"#N/A"}},{"$error":"#N/A"},{"$error":"#N/A"},48971.140625,0,0,0,0,0,1,1,1,1,1,1,48971.140625,0,0,0,0,0,3.5387950784307211E-2,false,false,false,false,false,false,1,1,1,1,1,1,30.587,55.6,0,9.09,2.0221,2.6667000000000001,1777.797,1,1,19.3505,71,1.2833000000000001,0.9698,20677.012999999999]
["1976-01-01",false,"2009-12-24",false,false,{"$error":"#N/A"},100.860001,1,2871.679932,-1.0337543818186678E-2,1,{"$error":"#N/A"},1,{"$error":"#N/A"},1,1,1,1,1,1,1,{"$error":"#N/A"},{"$error":"#N/A"},{"$error":"#N/A"},{"$error":"#N/A"},{"$error":"#N/A"},{"$error":"#N/A"},48971.140625,0,0,0,0,0,1,1,1,1,1,1,48971.140625,0,0,0,0,0,2.9814314708128044E-2,false,false,false,false,false,false,1,1,1,1,1,1,30.911000000000001,55.8,0,".",2.0286,".",1836.2329999999999,1,1,19.3505,71,1.2833000000000001,0.9698,20677.012999999999]
["1976-02-01",false,"2009-12-31",false,false,{"$error":"#N/A"},99.709998999999996,1,0,false,1,{"$error":"#N/A"},1,{"$error":"#N/A"},1,1,1,1,1,1,1,{"$error":"#N/A"},{"$error":"#N/A"},{"$error":"#N/A"},{"$error":"#N/A"},{"$error":"#N/A"},{"$error":"#N/A"},48971.140625,0,0,0,0,0,1,1,1,1,1,1,48971.140625,0,0,0,0,0,-1.0337543818186678E-2,false,false,false,false,false,false,1,1,1,1,1,1,30.911000000000001,55.9,0,8.91,2.0261999999999998,2.6021000000000001,1836.2329999999999,1,1,19.3505,71,1.2833000000000001,0.9698,20677.012999999999]
["1976-03-01",false,"2010-01-07",false,false,{"$error":"#N/A"},102.769997,1,0,false,1,{"$error":"#N/A"},1,{"$error":"#N/A"},1,1,1,1,1,1,1,{"$error":"#N/A"},{"$error":"#N/A"},{"$error":"#N/A"},{"$error":"#N/A"},{"$error":"#N/A"},{"$error":"#N/A"},48971.140625,0,0,0,0,0,1,1,1,1,1,1,48971.140625,0,0,0,0,0,false,false,false,false,false,false,false,1,1,1,1,1,1,30.911000000000001,56,0,8.93,1.9428000000000001,2.5907,1836.2329999999999,1,1,19.3505,71,1.2833000000000001,0.9698,20677.012999999999]
["1976-04-01",false,"2010-01-14",false,false,{"$error":"#N/A"},101.639999,1,0,false,1,{"$error":"#N/A"},1,{"$error":"#N/A"},1,1,1,1,1,1,1,{"$error":"#N/A"},{"$error":"#N/A"},{"$error":"#N/A"},{"$error":"#N/A"},{"$error":"#N/A"},{"$error":"#N/A"},48971.140625,0,0,0,0,0,1,1,1,1,1,1,48971.140625,0,0,0,0,0,false,false,false,false,false,false,false,1,1,1,1,1,1,31.222000000000001,56.1,0,8.9700000000000006,1.8463000000000001,2.5265,1868.9770000000001,1,1,19.3505,71,1.2833000000000001,0.9698,20677.012999999999]
["1976-05-01",false,"2010-01-21",false,false,{"$error":"#N/A"},100.18,1,0,false,1,{"$error":"#N/A"},1,{"$error":"#N/A"},1,1,1,1,1,1,1,{"$error":"#N/A"},{"$error":"#N/A"},{"$error":"#N/A"},{"$error":"#N/A"},{"$error":"#N/A"},{"$error":"#N/A"},48971.140625,0,0,0,0,0,1,1,1,1,1,1,48971.140625,0,0,0,0,0,false,false,false,false,false,false,false,1,1,1,1,1,1,31.222000000000001,56.4,0,8.9700000000000006,1.8079000000000001,2.5156999999999998,1868.9770000000001,1,1,19.3505,71,1.2833000000000001,0.9698,20677.012999999999]
["1976-06-01",false,"2010-01-28",false,false,{"$error":"#N/A"},104.279999,1,0,false,1,{"$error":"#N/A"},1,{"$error":"#N/A"},1,1,1,1,1,1,1,{"$error":"#N/A"},{"$error":"#N/A"},{"$error":"#N/A"},{"$error":"#N/A"},{"$error":"#N/A"},{"$error":"#N/A"},48971.140625,0,0,0,0,0,1,1,1,1,1,1,48971.140625,0,0,0,0,0,false,false,false,false,false,false,false,1,1,1,1,1,1,31.222000000000001,56.7,0,9.3000000000000007,1.764,2.4260000000000002,1868.9770000000001,1,1,19.3505,71,1.2833000000000001,0.9698,20677.012999999999]
["1976-07-01",false,"2010-02-04",false,false,{"$error":"#N/A"},103.44000200000001,1,0,false,1,{"$error":"#N/A"},1,{"$error":"#N/A"},1,1,1,1,1,1,1,{"$error":"#N/A"},{"$error":"#N/A"},{"$error":"#N/A"},{"$error":"#N/A"},{"$error":"#N/A"},{"$error":"#N/A"},48971.140625,0,0,0,0,0,1,1,1,1,1,1,48971.140625,0,0,0,0,0,false,false,false,false,false,false,false,1,1,1,1,1,1,31.626000000000001,57,0,9.01,1.7849999999999999,2.4697,1903.6769999999999,1,1,19.3505,71,1.2833000000000001,0.9698,20677.012999999999]
["1976-08-01",false,"2010-02-11",false,false,{"$error":"#N/A"},102.910004,1,0,false,1,{"$error":"#N/A"},1,{"$error":"#N/A"},1,1,1,1,1,1,1,{"$error":"#N/A"},{"$error":"#N/A"},{"$error":"#N/A"},{"$error":"#N/A"},{"$error":"#N/A"},{"$error":"#N/A"},48971.140625,0,0,0,0,0,1,1,1,1,1,1,48971.140625,0,0,0,0,0,false,false,false,false,false,false,false,1,1,1,1,1,1,31.626000000000001,57.3,0,8.9700000000000006,1.7827999999999999,2.4820000000000002,1903.6769999999999,1,1,19.3505,71,1.2833000000000001,0.9698,20677.012999999999]
["1976-09-01",false,"2010-02-18",false,false,{"$error":"#N/A"},105.239998,1,0,false,1,{"$error":"#N/A"},1,{"$error":"#N/A"},1,1,1,1,1,1,1,{"$error":"#N/A"},{"$error":"#N/A"},{"$error":"#N/A"},{"$error":"#N/A"},{"$error":"#N/A"},{"$error":"#N/A"},48971.140625,0,0,0,0,0,1,1,1,1,1,1,48971.140625,0,0,0,0,0,false,false,false,false,false,false,false,1,1,1,1,1,1,31.626000000000001,57.6,0,9.01,1.7272000000000001,2.4716,1903.6769999999999,1,1,19.3505,71,1.2833000000000001,0.9698,20677.012999999999]
["1976-10-01",{"$f":"IF(B330<=$D$2,EOMONTH(B330,1))","v":false},"2010-02-25",false,false,{"$f":"LOOKUP(D331,A:A,G:G)","v":{"$error":"#N/A"}},{"$f":"IFERROR(LOOKUP($A331,INDIRECT(\"'\"&G$7&\"'!A:A\"),INDIRECT(\"'\"&G$7&\"'!\"&$G$9&\":\"&$G$9)),0)","v":102.900002},{"$f":"IF(H$8,INDEX($BN331:$BT331,H$8),1)","v":1},{"$f":"IF(ISNUMBER(F331),F331,I332)*H331","v":0},false,1,{"$error":"#N/A"},1,{"$error":"#N/A"},1,1,1,1,1,1,1,{"$f":"LOOKUP($A331,INDIRECT(\"'\"&V$5&\"'!A:A\"),INDIRECT(\"'\"&V$5&\"'!\"&V$7&\":\"&V$7))","v":{"$error":"#N/A"}},{"$error":"#N/A"},{"$error":"#N/A"},{"$error":"#N/A"},{"$error":"#N/A"},{"$error":"#N/A"},{"$f":"IF(ISNUMBER(LOOKUP($D331,$A:$A,V:V)),LOOKUP($D331,$A:$A,V:V),AB330)","v":48971.140625},{"$f":"IF(ISNUMBER(LOOKUP($D331,$A:$A,W:W)),LOOKUP($D331,$A:$A,W:W),AC330)","v":0},{"$f":"IF(ISNUMBER(LOOKUP($D331,$A:$A,X:X)),LOOKUP($D331,$A:$A,X:X),AD330)","v":0},{"$f":"IF(ISNUMBER(LOOKUP($D331,$A:$A,Y:Y)),LOOKUP($D331,$A:$A,Y:Y),AE330)","v":0},{"$f":"IF(ISNUMBER(LOOKUP($D331,$A:$A,Z:Z)),LOOKUP($D331,$A:$A,Z:Z),AF330)","v":0},{"$f":"IF(ISNUMBER(LOOKUP($D331,$A:$A,AA:AA)),LOOKUP($D331,$A:$A,AA:AA),AG330)","v":0},1,1,1,1,1,1,{"$f":"IFERROR(IF(ISNUMBER(AB331)>0.1,AB331,AN332)*AH331,AN332)","v":48971.140625},{"$f":"IFERROR(IF(ISNUMBER(AC331)>0.1,AC331,AO332)*AI331,AO332)","v":0},{"$f":"IFERROR(IF(ISNUMBER(AD331)>0.1,AD331,AP332)*AJ331,AP332)","v":0},{"$f":"IFERROR(IF(ISNUMBER(AE331)>0.1,AE331,AQ332)*AK331,AQ332)","v":0},{"$f":"IFERROR(IF(ISNUMBER(AF331)>0.1,AF331,AR332)*AL331,AR332)","v":0},{"$f":"IF(ISNUMBER(AG331)>0.1,AG331,AS332)","v":0},false,{"$f":"IF(E331,IFERROR(LN(AN331/AN330),FALSE))","v":false},{"$f":"IF(E331,IFERROR(LN(AO331/AO330),FALSE))","v":false},{"$f":"IF(E331,IFERROR(LN(AP331/AP330),FALSE))","v":false},{"$f":"IF(E331,IFERROR(LN(AQ331/AQ330),FALSE))","v":false},{"$f":"IF(E331,IFERROR(LN(AR331/AR330),FALSE))","v":false},{"$f":"IF(E331,IFERROR(LN(AS331/AS330),FALSE))","v":false},1,1,1,1,1,1,{"$f":"IFERROR(LOOKUP($A331,INDIRECT(\"'\"&BN$6&\"'!A:A\"),INDIRECT(\"'\"&BN$6&\"'!\"&BN$7&\":\"&BN$7)),0)","v":32.192},{"$f":"IFERROR(LOOKUP($A331,INDIRECT(\"'\"&BO$6&\"'!A:A\"),INDIRECT(\"'\"&BO$6&\"'!\"&BO$7&\":\"&BO$7)),0)","v":57.9},{"$f":"IFERROR(LOOKUP($A331,INDIRECT(\"'\"&BP$6&\"'!A:A\"),INDIRECT(\"'\"&BP$6&\"'!\"&BP$7&\":\"&BP$7)),0)","v":0},{"$f":"IFERROR(LOOKUP($A331,INDIRECT(\"'\"&BQ$6&\"'!A:A\"),INDIRECT(\"'\"&BQ$6&\"'!\"&BQ$7&\":\"&BQ$7)),0)","v":8.85},{"$f":"IFERROR(LOOKUP($A331,INDIRECT(\"'\"&BR$6&\"'!A:A\"),INDIRECT(\"'\"&BR$6&\"'!\"&BR$7&\":\"&BR$7)),0)","v":1.6376999999999999},{"$f":"IFERROR(LOOKUP($A331,INDIRECT(\"'\"&BS$6&\"'!A:A\"),INDIRECT(\"'\"&BS$6&\"'!\"&BS$7&\":\"&BS$7)),0)","v":2.4516},{"$f":"IFERROR(LOOKUP($A331,INDIRECT(\"'\"&BT$6&\"'!A:A\"),INDIRECT(\"'\"&BT$6&\"'!\"&BT$7&\":\"&BT$7)),0)","v":1952.15},{"$f":"IFERROR(1/IFERROR(LOOKUP($D331,$A:$A,BG:BG)*1,0),1)","v":1},{"$f":"IFERROR(1/IFERROR(LOOKUP($D331,$A:$A,BH:BH)*1,0),1)","v":1},19.3505,71,1.2833000000000001,0.9698,20677.012999999999]
["1976-11-01",false,{"$f":"IF(C331<=$D$2,C331+7)","v":"2010-03-04"},false,{"$f":"AND(D332>=$D$4,D331<=$D$2)","v":false},{"$error":"#N/A"},102.099998,1,0,{"$f":"IFERROR(LN(I332/I331),FALSE)","v":false},1,{"$error":"#N/A"},1,{"$error":"#N/A"},1,1,1,1,1,1,1,{"$error":"#N/A"},{"$error":"#N/A"},{"$error":"#N/A"},{"$error":"#N/A"},{"$error":"#N/A"},{"$error":"#N/A"},48971.140625,0,0,0,0,0,1,1,1,1,1,1,48971.140625,0,0,0,0,0,false,false,false,false,false,false,false,{"$f":"IFERROR(IF($E332,BA331*AN332/AN331,1),1)","v":1},{"$f":"IFERROR(IF($E332,BB331*AO332/AO331,1),1)","v":1},{"$f":"IFERROR(IF($E332,BC331*AP332/AP331,1),1)","v":1},{"$f":"IFERROR(IF($E332,BD331*AQ332/AQ331,1),1)","v":1},{"$f":"IFERROR(IF($E332,BE331*AR332/AR331,1),1)","v":1},{"$f":"IFERROR(IF($E332,BF331*AS332/AS331,1),1)","v":1},32.192,58.1,0,8.9700000000000006,1.6380999999999999,2.4396,1952.15,1,1,{"$f":"IFERROR(LOOKUP($D332,$A:$A,BI:BI)*1,BP331)","v":19.3505},{"$f":"IFERROR(LOOKUP($D332,$A:$A,BJ:BJ)*1,BQ331)","v":71},{"$f":"IFERROR(LOOKUP($D332,$A:$A,BK:BK)*1,BR331)","v":1.2833000000000001},{"$f":"IFERROR(LOOKUP($D332,$A:$A,BL:BL)*1,BS331)","v":0.9698},{"$f":"IFERROR(LOOKUP($D332,$A:$A,BM:BM)*1,BT331)","v":20677.012999999999}]
["1976-12-01",false,"2010-03-11",{"$f":"IF($D$6,C333,B333)","v":false},false,{"$error":"#N/A"},107.459999,1,0,false,{"$f":"IF($E333,(K332*I333/I332),1)","v":1},{"$f":"IF(E333,D333,NA())","v":{"$error":"#N/A"}},{"$f":"CHOOSE($M$1,I333,J333,K333)","v":1},{"$f":"L333","v":{"$error":"#N/A"}},{"$f":"M333","v":1},{"$f":"IFERROR(CHOOSE($M$1,AN333,AU333,BA333),1)","v":1},{"$f":"IFERROR(CHOOSE($M$1,AO333,AV333,BB333),1)","v":1},{"$f":"IFERROR(CHOOSE($M$1,AP333,AW333,BC333),1)","v":1},{"$f":"IFERROR(CHOOSE($M$1,AQ333,AX333,BD333),1)","v":1},{"$f":"IFERROR(CHOOSE($M$1,AR333,AY333,BE333),1)","v":1},{"$f":"IFERROR(CHOOSE($M$1,AS333,AZ333,BF333),1)","v":1},{"$error":"#N/A"},{"$error":"#N/A"},{"$error":"#N/A"},{"$error":"#N/A"},{"$error":"#N/A"},{"$error":"#N/A"},48971.140625,0,0,0,0,0,1,1,1,1,1,1,48971.140625,0,0,0,0,0,{"$f":"J333","v":false},false,false,false,false,false,false,1,1,1,1,1,1,32.192,58.4,0,8.93,1.6783999999999999,2.4527999999999999,1952.15,1,1,19.3505,71,1.2833000000000001,0.9698,20677.012999999999]
["1977-01-01",false,"2010-03-18",false,false,{"$error":"#N/A"},102.029999,1,0,false,1,{"$error":"#N/A"},1,{"$error":"#N/A"},1,1,1,1,1,1,1,{"$error":"#N/A"},{"$error":"#N/A"},{"$error":"#N/A"},{"$error":"#N/A"},{"$error":"#N/A"},{"$error":"#N/A"},48971.140625,0,0,0,0,0,1,1,1,1,1,1,48971.140625,0,0,0,0,0,false,false,false,false,false,false,false,1,1,1,1,1,1,32.710999999999999,58.7,0,8.93,1.7123999999999999,2.4474,2009.413,1,1,19.3505,71,1.2833000000000001,0.9698,20677.012999999999]
["1977-02-01",false,"2010-03-25",false,false,{"$error":"#N/A"},99.82,1,0,false,1,{"$error":"#N/A"},1,{"$error":"#N/A"},1,1,1,1,1,1,1,{"$error":"#N/A"},{"$error":"#N/A"},{"$error":"#N/A"},{"$error":"#N/A"},{"$error":"#N/A"},{"$error":"#N/A"},48971.140625,0,0,0,0,0,1,1,1,1,1,1,48971.140625,0,0,0,0,0,false,false,false,false,false,false,false,1,1,1,1,1,1,32.710999999999999,59.3,0,8.81,1.7102999999999999,2.5150999999999999,2009.413,1,1,19.3505,71,1.2833000000000001,0.9698,20677.012999999999]
["1977-03-01",false,"2010-04-01",false,false,{"$error":"#N/A"},98.419998000000007,1,0,false,1,{"$error":"#N/A"},1,{"$error":"#N/A"},1,1,1,1,1,1,1,{"$error":"#N/A"},{"$error":"#N/A"},{"$error":"#N/A"},{"$error":"#N/A"},{"$error":"#N/A"},{"$error":"#N/A"},48971.140625,0,0,0,0,0,1,1,1,1,1,1,48971.140625,0,0,0,0,0,false,false,false,false,false,false,false,1,1,1,1,1,1,32.710999999999999,59.6,0,8.8699999999999992,1.7174,2.5529999999999999,2009.413,1,1,19.3505,71,1.2833000000000001,0.9698,20677.012999999999]
["1977-04-01",false,"2010-04-08",false,false,{"$error":"#N/A"},98.440002000000007,1,0,false,1,{"$error":"#N/A"},1,{"$error":"#N/A"},1,1,1,1,1,1,1,{"$error":"#N/A"},{"$error":"#N/A"},{"$error":"#N/A"},{"$error":"#N/A"},{"$error":"#N/A"},{"$error":"#N/A"},48971.140625,0,0,0,0,0,1,1,1,1,1,1,48971.140625,0,0,0,0,0,false,false,false,false,false,false,false,1,1,1,1,1,1,33.171999999999997,60,0,8.82,1.7190000000000001,2.5445000000000002,2076.6579999999999,1,1,19.3505,71,1.2833000000000001,0.9698,20677.012999999999]
["1977-05-01",false,"2010-04-15",false,false,{"$error":"#N/A"},96.120002999999997,1,0,false,1,{"$error":"#N/A"},1,{"$error":"#N/A"},1,1,1,1,1,1,1,{"$error":"#N/A"},{"$error":"#N/A"},{"$error":"#N/A"},{"$error":"#N/A"},{"$error":"#N/A"},{"$error":"#N/A"},48971.140625,0,0,0,0,0,1,1,1,1,1,1,48971.140625,0,0,0,0,0,false,false,false,false,false,false,false,1,1,1,1,1,1,33.171999999999997,60.2,0,8.85,1.7184999999999999,2.5169999999999999,2076.6579999999999,1,1,19.3505,71,1.2833000000000001,0.9698,20677.012999999999]
["1977-06-01",false,"2010-04-22",false,false,{"$error":"#N/A"},100.480003,1,0,false,1,{"$error":"#N/A"},1,{"$error":"#N/A"},1,1,1,1,1,1,1,{"$error":"#N/A"},{"$error":"#N/A"},{"$error":"#N/A"},{"$error":"#N/A"},{"$error":"#N/A"},{"$error":"#N/A"},48971.140625,0,0,0,0,0,1,1,1,1,1,1,48971.140625,0,0,0,0,0,false,false,false,false,false,false,false,1,1,1,1,1,1,33.171999999999997,60.5,0,8.83,1.7191000000000001,2.5,2076.6579999999999,1,1,19.3505,71,1.2833000000000001,0.9698,20677.012999999999]
["1977-07-01",false,"2010-04-29",false,false,{"$error":"#N/A"},98.849997999999999,1,0,false,1,{"$error":"#N/A"},1,{"$error":"#N/A"},1,1,1,1,1,1,1,{"$error":"#N/A"},{"$error":"#N/A"},{"$error":"#N/A"},{"$error":"#N/A"},{"$error":"#N/A"},{"$error":"#N/A"},48971.140625,0,0,0,0,0,1,1,1,1,1,1,48971.140625,0,0,0,0,0,false,false,false,false,false,false,false,1,1,1,1,1,1,33.576000000000001,60.8,0,8.81,1.7225999999999999,2.4611999999999998,2139.3580000000002,1,1,19.3505,71,1.2833000000000001,0.9698,20677.012999999999]
["1977-08-01",false,"2010-05-06",false,false,{"$error":"#N/A"},96.769997000000004,1,0,false,1,{"$error":"#N/A"},1,{"$error":"#N/A"},1,1,1,1,1,1,1,{"$error":"#N/A"},{"$error":"#N/A"},{"$error":"#N/A"},{"$error":"#N/A"},{"$error":"#N/A"},{"$error":"#N/A"},48971.140625,0,0,0,0,0,1,1,1,1,1,1,48971.140625,0,0,0,0,0,false,false,false,false,false,false,false,1,1,1,1,1,1,33.576000000000001,61.1,0,8.73,1.7397,2.4098999999999999,2139.3580000000002,1,1,19.3505,71,1.2833000000000001,0.9698,20677.012999999999]
["1977-09-01",false,"2010-05-13",false,false,{"$error":"#N/A"},96.529999000000004,1,0,false,1,{"$error":"#N/A"},1,{"$error":"#N/A"},1,1,1,1,1,1,1,{"$error":"#N/A"},{"$error":"#N/A"},{"$error":"#N/A"},{"$error":"#N/A"},{"$error":"#N/A"},{"$error":"#N/A"},48971.140625,0,0,0,0,0,1,1,1,1,1,1,48971.140625,0,0,0,0,0,false,false,false,false,false,false,false,1,1,1,1,1,1,33.576000000000001,61.3,0,8.73,1.7431000000000001,2.3940999999999999,2139.3580000000002,1,1,19.3505,71,1.2833000000000001,0.9698,20677.012999999999]
["1977-10-01",false,"2010-05-20",false,false,{"$error":"#N/A"},92.339995999999999,1,0,false,1,{"$error":"#N/A"},1,{"$error":"#N/A"},1,1,1,1,1,1,1,{"$error":"#N/A"},{"$error":"#N/A"},{"$error":"#N/A"},{"$error":"#N/A"},{"$error":"#N/A"},{"$error":"#N/A"},48971.140625,0,0,0,0,0,1,1,1,1,1,1,48971.140625,0,0,0,0,0,false,false,false,false,false,false,false,1,1,1,1,1,1,34.301000000000002,61.6,0,8.73,1.7710999999999999,2.3473999999999999,2183.0390000000002,1,1,19.3505,71,1.2833000000000001,0.9698,20677.012999999999]
["1977-11-01",false,"2010-05-27",false,false,{"$error":"#N/A"},94.830001999999993,1,0,false,1,{"$error":"#N/A"},1,{"$error":"#N/A"},1,1,1,1,1,1,1,{"$error":"#N/A"},{"$error":"#N/A"},{"$error":"#N/A"},{"$error":"#N/A"},{"$error":"#N/A"},{"$error":"#N/A"},48971.140625,0,0,0,0,0,1,1,1,1,1,1,48971.140625,0,0,0,0,0,false,false,false,false,false,false,false,1,1,1,1,1,1,34.301000000000002,62,0,8.5500000000000007,1.8178000000000001,2.2147999999999999,2183.0390000000002,1,1,19.3505,71,1.2833000000000001,0.9698,20677.012999999999]
["1977-12-01",false,"2010-06-03",false,false,{"$error":"#N/A"},95.099997999999999,1,0,false,1,{"$error":"#N/A"},1,{"$error":"#N/A"},1,1,1,1,1,1,1,{"$error":"#N/A"},{"$error":"#N/A"},{"$error":"#N/A"},{"$error":"#N/A"},{"$error":"#N/A"},{"$error":"#N/A"},48971.140625,0,0,0,0,0,1,1,1,1,1,1,48971.140625,0,0,0,0,0,false,false,false,false,false,false,false,1,1,1,1,1,1,34.301000000000002,62.3,0,8.6199999999999992,1.8546,2.1440999999999999,2183.0390000000002,1,1,19.3505,71,1.2833000000000001,0.9698,20677.012999999999]
["1978-01-01",false,"2010-06-10",false,false,{"$error":"#N/A"},89.25,1,0,false,1,{"$error":"#N/A"},1,{"$error":"#N/A"},1,1,1,1,1,1,1,{"$error":"#N/A"},{"$error":"#N/A"},{"$error":"#N/A"},{"$error":"#N/A"},{"$error":"#N/A"},{"$error":"#N/A"},48971.140625,0,0,0,0,0,1,1,1,1,1,1,48971.140625,0,0,0,0,0,false,false,false,false,false,false,false,1,1,1,1,1,1,34.799999999999997,62.7,0,8.23,1.9353,1.9932000000000001,2224.8530000000001,1,1,19.3505,71,1.2833000000000001,0.9698,20677.012999999999]
["1978-02-01",false,"2010-06-17",false,false,{"$error":"#N/A"},87.040001000000004,1,0,false,1,{"$error":"#N/A"},1,{"$error":"#N/A"},1,1,1,1,1,1,1,{"$error":"#N/A"},{"$error":"#N/A"},{"$error":"#N/A"},{"$error":"#N/A"},{"$error":"#N/A"},{"$error":"#N/A"},48971.140625,0,0,0,0,0,1,1,1,1,1,1,48971.140625,0,0,0,0,0,false,false,false,false,false,false,false,1,1,1,1,1,1,34.799999999999997,63,0,8.06,1.9396,1.9861,2224.8530000000001,1,1,19.3505,71,1.2833000000000001,0.9698,20677.012999999999]
["1978-03-01",false,"2010-06-24",false,false,{"$error":"#N/A"},89.209998999999996,1,0,false,1,{"$error":"#N/A"},1,{"$error":"#N/A"},1,1,1,1,1,1,1,{"$error":"#N/A"},{"$error":"#N/A"},{"$error":"#N/A"},{"$error":"#N/A"},{"$error":"#N/A"},{"$error":"#N/A"},48971.140625,0,0,0,0,0,1,1,1,1,1,1,48971.140625,0,0,0,0,0,false,false,false,false,false,false,false,1,1,1,1,1,1,34.799999999999997,63.4,0,8.1300000000000008,1.9055,1.8365,2224.8530000000001,1,1,19.3505,71,1.2833000000000001,0.9698,20677.012999999999]
["1978-04-01",false,"2010-07-01",false,false,{"$error":"#N/A"},96.830001999999993,1,0,false,1,{"$error":"#N/A"},1,{"$error":"#N/A"},1,1,1,1,1,1,1,{"$error":"#N/A"},{"$error":"#N/A"},{"$error":"#N/A"},{"$error":"#N/A"},{"$error":"#N/A"},{"$error":"#N/A"},48971.140625,0,0,0,0,0,1,1,1,1,1,1,48971.140625,0,0,0,0,0,false,false,false,false,false,false,false,1,1,1,1,1,1,35.465000000000003,63.9,0,8.33,1.8496999999999999,1.8314999999999999,2350.3820000000001,1,1,19.3505,71,1.2833000000000001,0.9698,20677.012999999999]
["1978-05-01",false,"2010-07-08",false,false,{"$error":"#N/A"},97.239998,1,0,false,1,{"$error":"#N/A"},1,{"$error":"#N/A"},1,1,1,1,1,1,1,{"$error":"#N/A"},{"$error":"#N/A"},{"$error":"#N/A"},{"$error":"#N/A"},{"$error":"#N/A"},{"$error":"#N/A"},48971.140625,0,0,0,0,0,1,1,1,1,1,1,48971.140625,0,0,0,0,0,false,false,false,false,false,false,false,1,1,1,1,1,1,35.465000000000003,64.5,0,8.58,1.8181,1.9455,2350.3820000000001,1,1,19.3505,71,1.2833000000000001,0.9698,20677.012999999999]
["1978-06-01",false,"2010-07-15",false,false,{"$error":"#N/A"},95.529999000000004,1,0,false,1,{"$error":"#N/A"},1,{"$error":"#N/A"},1,1,1,1,1,1,1,{"$error":"#N/A"},{"$error":"#N/A"},{"$error":"#N/A"},{"$error":"#N/A"},{"$error":"#N/A"},{"$error":"#N/A"},48971.140625,0,0,0,0,0,1,1,1,1,1,1,48971.140625,0,0,0,0,0,false,false,false,false,false,false,false,1,1,1,1,1,1,35.465000000000003,65,0,8.44,1.8371999999999999,1.8920999999999999,2350.3820000000001,1,1,19.3505,71,1.2833000000000001,0.9698,20677.012999999999]
["1978-07-01",false,"2010-07-22",false,false,{"$error":"#N/A"},100.68,1,0,false,1,{"$error":"#N/A"},1,{"$error":"#N/A"},1,1,1,1,1,1,1,{"$error":"#N/A"},{"$error":"#N/A"},{"$error":"#N/A"},{"$error":"#N/A"},{"$error":"#N/A"},{"$error":"#N/A"},48971.140625,0,0,0,0,0,1,1,1,1,1,1,48971.140625,0,0,0,0,0,false,false,false,false,false,false,false,1,1,1,1,1,1,36.067,65.5,0,8.33,1.8949,1.8512,2415.9430000000002,1,1,19.3505,71,1.2833000000000001,0.9698,20677.012999999999]
["1978-08-01",false,"2010-07-29",false,false,{"$error":"#N/A"},103.290001,1,0,false,1,{"$error":"#N/A"},1,{"$error":"#N/A"},1,1,1,1,1,1,1,{"$error":"#N/A"},{"$error":"#N/A"},{"$error":"#N/A"},{"$error":"#N/A"},{"$error":"#N/A"},{"$error":"#N/A"},48971.140625,0,0,0,0,0,1,1,1,1,1,1,48971.140625,0,0,0,0,0,false,false,false,false,false,false,false,1,1,1,1,1,1,36.067,65.900000000000006,0,7.97,1.9406000000000001,1.7331000000000001,2415.9430000000002,1,1,19.3505,71,1.2833000000000001,0.9698,20677.012999999999]
["1978-09-01",false,"2010-08-05",false,false,{"$error":"#N/A"},102.540001,1,0,false,1,{"$error":"#N/A"},1,{"$error":"#N/A"},1,1,1,1,1,1,1,{"$error":"#N/A"},{"$error":"#N/A"},{"$error":"#N/A"},{"$error":"#N/A"},{"$error":"#N/A"},{"$error":"#N/A"},48971.140625,0,0,0,0,0,1,1,1,1,1,1,48971.140625,0,0,0,0,0,false,false,false,false,false,false,false,1,1,1,1,1,1,36.067,66.5,0,8.16,1.9595,1.605,2415.9430000000002,1,1,19.3505,71,1.2833000000000001,0.9698,20677.012999999999]
["1978-10-01",false,"2010-08-12",false,false,{"$error":"#N/A"},93.150002000000001,1,0,false,1,{"$error":"#N/A"},1,{"$error":"#N/A"},1,1,1,1,1,1,1,{"$error":"#N/A"},{"$error":"#N/A"},{"$error":"#N/A"},{"$error":"#N/A"},{"$error":"#N/A"},{"$error":"#N/A"},48971.140625,0,0,0,0,0,1,1,1,1,1,1,48971.140625,0,0,0,0,0,false,false,false,false,false,false,false,1,1,1,1,1,1,36.805999999999997,67.099999999999994,0,7.97,2.0074999999999998,1.55,2501.54,1,1,19.3505,71,1.2833000000000001,0.9698,20677.012999999999]
["1978-11-01",false,"2010-08-19",false,false,{"$error":"#N/A"},94.699996999999996,1,0,false,1,{"$error":"#N/A"},1,{"$error":"#N/A"},1,1,1,1,1,1,1,{"$error":"#N/A"},{"$error":"#N/A"},{"$error":"#N/A"},{"$error":"#N/A"},{"$error":"#N/A"},{"$error":"#N/A"},48971.140625,0,0,0,0,0,1,1,1,1,1,1,48971.140625,0,0,0,0,0,false,false,false,false,false,false,false,1,1,1,1,1,1,36.805999999999997,67.5,0,7.66,1.9608000000000001,1.59,2501.54,1,1,19.3505,71,1.2833000000000001,0.9698,20677.012999999999]
["1978-12-01",false,"2010-08-26",false,false,{"$error":"#N/A"},96.110000999999997,1,0,false,1,{"$error":"#N/A"},1,{"$error":"#N/A"},1,1,1,1,1,1,1,{"$error":"#N/A"},{"$error":"#N/A"},{"$error":"#N/A"},{"$error":"#N/A"},{"$error":"#N/A"},{"$error":"#N/A"},48971.140625,0,0,0,0,0,1,1,1,1,1,1,48971.140625,0,0,0,0,0,false,false,false,false,false,false,false,1,1,1,1,1,1,36.805999999999997,67.900000000000006,0,8.18,1.9861,1.7355,2501.54,1,1,19.3505,71,1.2833000000000001,0.9698,20677.012999999999]
["1979-01-01",false,"2010-09-02",false,false,{"$error":"#N/A"},99.93,1,0,false,1,{"$error":"#N/A"},1,{"$error":"#N/A"},1,1,1,1,1,1,1,{"$error":"#N/A"},{"$error":"#N/A"},{"$error":"#N/A"},{"$error":"#N/A"},{"$error":"#N/A"},{"$error":"#N/A"},48971.140625,0,0,0,0,0,1,1,1,1,1,1,48971.140625,0,0,0,0,0,false,false,false,false,false,false,false,1,1,1,1,1,1,37.475999999999999,68.5,0,".",2.0053000000000001,".",2552.29,1,1,19.3505,71,1.2833000000000001,0.9698,20677.012999999999]
["1979-02-01",false,"2010-09-09",false,false,{"$error":"#N/A"},96.279999000000004,1,0,false,1,{"$error":"#N/A"},1,{"$error":"#N/A"},1,1,1,1,1,1,1,{"$error":"#N/A"},{"$error":"#N/A"},{"$error":"#N/A"},{"$error":"#N/A"},{"$error":"#N/A"},{"$error":"#N/A"},48971.140625,0,0,0,0,0,1,1,1,1,1,1,48971.140625,0,0,0,0,0,false,false,false,false,false,false,false,1,1,1,1,1,1,37.475999999999999,69.2,0,8.2899999999999991,2.0042,1.71,2552.29,1,1,19.3505,71,1.2833000000000001,0.9698,20677.012999999999]
["1979-03-01",false,"2010-09-16",false,false,{"$error":"#N/A"},101.589996,1,0,false,1,{"$error":"#N/A"},1,{"$error":"#N/A"},1,1,1,1,1,1,1,{"$error":"#N/A"},{"$error":"#N/A"},{"$error":"#N/A"},{"$error":"#N/A"},{"$error":"#N/A"},{"$error":"#N/A"},48971.140625,0,0,0,0,0,1,1,1,1,1,1,48971.140625,0,0,0,0,0,false,false,false,false,false,false,false,1,1,1,1,1,1,37.475999999999999,69.900000000000006,0,8.2200000000000006,2.0377999999999998,1.6759999999999999,2552.29,1,1,19.3505,71,1.2833000000000001,0.9698,20677.012999999999]
["1979-04-01",false,"2010-09-23",false,false,{"$error":"#N/A"},101.760002,1,0,false,1,{"$error":"#N/A"},1,{"$error":"#N/A"},1,1,1,1,1,1,1,{"$error":"#N/A"},{"$error":"#N/A"},{"$error":"#N/A"},{"$error":"#N/A"},{"$error":"#N/A"},{"$error":"#N/A"},48971.140625,0,0,0,0,0,1,1,1,1,1,1,48971.140625,0,0,0,0,0,false,false,false,false,false,false,false,1,1,1,1,1,1,38.393999999999998,70.599999999999994,0,8.16,2.0735000000000001,1.6950000000000001,2620.6979999999999,1,1,19.3505,71,1.2833000000000001,0.9698,20677.012999999999]
["1979-05-01",false,"2010-09-30",false,false,{"$error":"#N/A"},99.080001999999993,1,0,false,1,{"$error":"#N/A"},1,{"$error":"#N/A"},1,1,1,1,1,1,1,{"$error":"#N/A"},{"$error":"#N/A"},{"$error":"#N/A"},{"$error":"#N/A"},{"$error":"#N/A"},{"$error":"#N/A"},48971.140625,0,0,0,0,0,1,1,1,1,1,1,48971.140625,0,0,0,0,0,false,false,false,false,false,false,false,1,1,1,1,1,1,38.393999999999998,71.400000000000006,0,8.3699999999999992,2.0587,1.7177,2620.6979999999999,1,1,19.3505,71,1.2833000000000001,0.9698,20677.012999999999]
["1979-06-01",false,"2010-10-07",false,false,{"$error":"#N/A"},102.910004,1,0,false,1,{"$error":"#N/A"},1,{"$error":"#N/A"},1,1,1,1,1,1,1,{"$error":"#N/A"},{"$error":"#N/A"},{"$error":"#N/A"},{"$error":"#N/A"},{"$error":"#N/A"},{"$error":"#N/A"},48971.140625,0,0,0,0,0,1,1,1,{"$f":"IF(AK$7,INDEX($BN363:$BT363,AK$7),1)","v":1},1,1,48971.140625,0,0,0,0,0,false,false,false,false,false,false,false,1,1,1,1,1,1,38.393999999999998,72.2,0,8.16,2.1118999999999999,1.734,2620.6979999999999,1,1,19.3505,71,1.2833000000000001,0.9698,20677.012999999999]
["1979-07-01",false,"2010-10-14",false,false,{"$error":"#N/A"},103.80999799999999,1,0,false,1,{"$error":"#N/A"},1,{"$error":"#N/A"},1,1,1,1,1,1,1,{"$error":"#N/A"},{"$error":"#N/A"},{"$error":"#N/A"},{"$error":"#N/A"},{"$error":"#N/A"},{"$error":"#N/A"},48971.140625,0,0,0,0,0,1,1,1,1,1,1,48971.140625,0,0,0,0,0,false,false,false,false,false,false,false,1,1,1,1,1,1,39.234000000000002,73,0,8.06,2.2597999999999998,1.6539999999999999,2703.6590000000001,1,1,19.3505,71,1.2833000000000001,0.9698,20677.012999999999]
["1979-08-01",false,"2010-10-21",false,false,{"$error":"#N/A"},109.32,1,0,false,1,{"$error":"#N/A"},1,{"$error":"#N/A"},1,1,1,1,1,1,1,{"$error":"#N/A"},{"$error":"#N/A"},{"$error":"#N/A"},{"$error":"#N/A"},{"$error":"#N/A"},{"$error":"#N/A"},48971.140625,0,0,0,0,0,{"$f":"IF(AH$7,INDEX($BN365:$BT365,AH$7),1)","v":1},1,1,1,1,1,48971.140625,0,0,0,0,0,false,false,false,false,false,false,false,1,1,1,1,1,1,39.234000000000002,73.7,0,8,2.2368000000000001,1.6572,2703.6590000000001,1,1,19.3505,71,1.2833000000000001,0.9698,20677.012999999999]
["1979-09-01",false,"2010-10-28",false,false,{"$error":"#N/A"},109.32,1,0,false,1,{"$error":"#N/A"},1,{"$error":"#N/A"},1,1,1,1,1,1,1,{"$error":"#N/A"},{"$error":"#N/A"},{"$error":"#N/A"},{"$error":"#N/A"},{"$error":"#N/A"},{"$error":"#N/A"},48971.140625,0,0,0,0,0,1,1,1,1,1,1,48971.140625,0,0,0,0,0,false,false,false,false,false,false,false,1,1,1,1,1,1,39.234000000000002,74.400000000000006,0,8.0299999999999994,2.1966000000000001,1.6561999999999999,2703.6590000000001,1,1,19.3505,71,1.2833000000000001,0.9698,20677.012999999999]
["1979-10-01",false,"2010-11-04",false,false,{"$error":"#N/A"},101.82,1,0,false,1,{"$error":"#N/A"},1,{"$error":"#N/A"},1,1,1,1,1,1,1,{"$error":"#N/A"},{"$error":"#N/A"},{"$error":"#N/A"},{"$error":"#N/A"},{"$error":"#N/A"},{"$error":"#N/A"},48971.140625,0,0,0,0,0,1,1,1,1,1,1,48971.140625,0,0,0,0,0,false,false,false,false,false,false,false,1,1,1,1,1,1,39.962000000000003,75.2,0,8.09,2.1438000000000001,1.548,2760.3809999999999,1,1,19.3505,71,1.2833000000000001,0.9698,20677.012999999999]
["1979-11-01",false,"2010-11-11",false,false,{"$error":"#N/A"},106.160004,1,0,false,1,{"$error":"#N/A"},1,{"$error":"#N/A"},1,1,1,1,1,1,1,{"$error":"#N/A"},{"$error":"#N/A"},{"$error":"#N/A"},{"$error":"#N/A"},{"$error":"#N/A"},{"$error":"#N/A"},48971.140625,0,0,0,0,0,1,1,1,1,1,1,48971.140625,0,0,0,0,0,false,false,false,false,false,false,false,1,1,1,1,1,1,39.962000000000003,76,0,8.32,2.1352000000000002,1.6495,2760.3809999999999,1,1,19.3505,71,1.2833000000000001,0.9698,20677.012999999999]
["1979-12-01",false,"2010-11-18",false,false,{"$error":"#N/A"},107.94000200000001,1,0,false,1,{"$error":"#N/A"},1,{"$error":"#N/A"},1,1,1,1,1,1,1,{"$error":"#N/A"},{"$error":"#N/A"},{"$error":"#N/A"},{"$error":"#N/A"},{"$error":"#N/A"},{"$error":"#N/A"},48971.140625,0,0,0,0,0,1,1,1,1,1,1,48971.140625,0,0,0,0,0,false,false,false,false,false,false,false,1,1,1,1,1,1,39.962000000000003,76.900000000000006,0,8.0299999999999994,2.2006999999999999,1.5980000000000001,2760.3809999999999,1,1,19.3505,71,1.2833000000000001,0.9698,20677.012999999999]
["1980-01-01",false,"2010-11-25",false,false,{"$error":"#N/A"},114.160004,1,0,false,1,{"$error":"#N/A"},1,{"$error":"#N/A"},1,1,1,1,1,1,1,{"$error":"#N/A"},{"$error":"#N/A"},{"$error":"#N/A"},{"$error":"#N/A"},{"$error":"#N/A"},{"$error":"#N/A"},48971.140625,0,0,0,0,0,1,1,1,1,1,1,48971.140625,0,0,0,0,0,false,false,false,false,false,false,false,1,1,1,1,1,1,40.801000000000002,78,0,".",2.2641,".",2827.8310000000001,1,1,19.3505,71,1.2833000000000001,0.9698,20677.012999999999]
["1980-02-01",false,"2010-12-02",false,false,{"$error":"#N/A"},113.660004,1,0,false,1,{"$error":"#N/A"},1,{"$error":"#N/A"},1,1,1,1,1,1,1,{"$error":"#N/A"},{"$error":"#N/A"},{"$error":"#N/A"},{"$error":"#N/A"},{"$error":"#N/A"},{"$error":"#N/A"},48971.140625,0,0,0,0,0,1,1,1,1,1,1,48971.140625,0,0,0,0,0,false,false,false,false,false,false,false,1,1,1,1,1,1,40.801000000000002,79,0,8.0399999999999991,2.2890999999999999,1.6335,2827.8310000000001,1,1,19.3505,71,1.2833000000000001,0.9698,20677.012999999999]
["1980-03-01",false,"2010-12-09",false,false,{"$error":"#N/A"},102.089996,1,0,false,1,{"$error":"#N/A"},1,{"$error":"#N/A"},1,1,1,1,1,1,1,{"$error":"#N/A"},{"$error":"#N/A"},{"$error":"#N/A"},{"$f":"LOOKUP($A372,INDIRECT(\"'\"&Y$5&\"'!A:A\"),INDIRECT(\"'\"&Y$5&\"'!\"&Y$7&\":\"&Y$7))","v":{"$error":"#N/A"}},{"$error":"#N/A"},{"$error":"#N/A"},48971.140625,0,0,0,0,0,1,1,1,1,1,1,48971.140625,0,0,0,0,0,false,false,false,false,false,false,false,1,1,1,1,1,1,40.801000000000002,80.099999999999994,0,8.06,2.2044999999999999,1.7024999999999999,2827.8310000000001,1,1,19.3505,71,1.2833000000000001,0.9698,20677.012999999999]
["1980-04-01",false,"2010-12-16",false,false,{"$error":"#N/A"},106.290001,1,0,false,1,{"$error":"#N/A"},1,{"$error":"#N/A"},1,1,1,1,1,1,1,{"$error":"#N/A"},{"$error":"#N/A"},{"$error":"#N/A"},{"$error":"#N/A"},{"$error":"#N/A"},{"$error":"#N/A"},48971.140625,0,0,0,0,0,1,1,1,1,1,1,48971.140625,0,0,0,0,0,false,false,false,false,false,false,false,1,1,1,1,1,1,41.771999999999998,80.900000000000006,0,8.3000000000000007,2.2094,1.8640000000000001,2833.163,1,1,19.3505,71,1.2833000000000001,0.9698,20677.012999999999]
["1980-05-01",false,"2010-12-23",false,false,{"$error":"#N/A"},111.239998,1,0,false,1,{"$error":"#N/A"},1,{"$error":"#N/A"},1,1,1,1,1,1,1,{"$error":"#N/A"},{"$error":"#N/A"},{"$error":"#N/A"},{"$error":"#N/A"},{"$error":"#N/A"},{"$error":"#N/A"},48971.140625,0,0,0,0,0,1,1,1,1,1,1,48971.140625,0,0,0,0,0,false,false,false,false,false,false,false,1,1,1,1,1,1,41.771999999999998,81.7,0,7.9,2.302,1.6679999999999999,2833.163,1,1,19.3505,71,1.2833000000000001,0.9698,20677.012999999999]
["1980-06-01",false,"2010-12-30",false,false,{"$error":"#N/A"},114.239998,1,0,false,1,{"$error":"#N/A"},1,{"$error":"#N/A"},1,1,1,1,1,1,1,{"$error":"#N/A"},{"$error":"#N/A"},{"$error":"#N/A"},{"$error":"#N/A"},{"$error":"#N/A"},{"$error":"#N/A"},48971.140625,0,0,0,0,0,1,1,1,1,1,1,48971.140625,0,0,0,0,0,false,false,false,false,false,false,false,1,1,1,1,1,1,41.771999999999998,82.5,0,7.75,2.3359000000000001,1.6619999999999999,2833.163,1,1,19.3505,71,1.2833000000000001,0.9698,20677.012999999999]
["1980-07-01",false,"2011-01-06",false,false,{"$error":"#N/A"},121.66999800000001,1,0,false,1,{"$error":"#N/A"},1,{"$error":"#N/A"},1,1,1,1,1,1,1,{"$error":"#N/A"},{"$error":"#N/A"},{"$error":"#N/A"},{"$error":"#N/A"},{"$error":"#N/A"},{"$error":"#N/A"},48971.140625,0,0,0,0,0,1,1,1,1,1,1,48971.140625,0,0,0,0,0,false,false,false,false,false,false,false,1,1,1,1,1,1,42.704999999999998,82.6,0,7.8,2.3732000000000002,1.6265000000000001,2890.8969999999999,1,1,19.3505,71,1.2833000000000001,0.9698,20677.012999999999,null,"a"]
["1980-08-01",false,"2011-01-13",false,false,{"$error":"#N/A"},122.379997,1,0,false,1,{"$error":"#N/A"},1,{"$error":"#N/A"},1,1,1,1,1,1,1,{"$error":"#N/A"},{"$error":"#N/A"},{"$error":"#N/A"},{"$error":"#N/A"},{"$error":"#N/A"},{"$error":"#N/A"},48971.140625,0,0,0,0,0,1,1,1,1,1,1,48971.140625,0,0,0,0,0,false,false,false,false,false,false,false,1,1,1,1,1,1,42.704999999999998,83.2,0,7.8,2.3704000000000001,1.663,2890.8969999999999,1,1,19.3505,71,1.2833000000000001,0.9698,20677.012999999999]
["1980-09-01",false,"2011-01-20",false,false,{"$error":"#N/A"},125.459999,1,0,false,1,{"$error":"#N/A"},1,{"$error":"#N/A"},1,1,1,1,1,1,1,{"$error":"#N/A"},{"$error":"#N/A"},{"$error":"#N/A"},{"$error":"#N/A"},{"$error":"#N/A"},{"$error":"#N/A"},48971.140625,0,0,0,0,0,1,1,1,1,1,1,48971.140625,0,0,0,0,0,false,false,false,false,false,false,false,1,1,1,1,1,1,42.704999999999998,83.9,0,".",2.4011999999999998,".",2890.8969999999999,1,1,19.3505,71,1.2833000000000001,0.9698,20677.012999999999]
["1980-10-01",false,"2011-01-27",false,false,{"$error":"#N/A"},127.470001,1,0,false,1,{"$error":"#N/A"},1,{"$error":"#N/A"},1,1,1,1,1,1,1,{"$error":"#N/A"},{"$error":"#N/A"},{"$error":"#N/A"},{"$error":"#N/A"},{"$error":"#N/A"},{"$error":"#N/A"},48971.140625,0,0,0,0,0,1,1,1,1,1,1,48971.140625,0,0,0,0,0,false,false,false,false,false,false,false,1,1,1,1,1,1,43.817999999999998,84.7,0,7.75,2.4165000000000001,1.6419999999999999,3014.0830000000001,1,1,19.3505,71,1.2833000000000001,0.9698,20677.012999999999]
["1980-11-01",false,"2011-02-03",false,false,{"$error":"#N/A"},140.520004,1,0,false,1,{"$error":"#N/A"},1,{"$error":"#N/A"},1,1,1,1,1,1,1,{"$error":"#N/A"},{"$error":"#N/A"},{"$error":"#N/A"},{"$error":"#N/A"},{"$error":"#N/A"},{"$error":"#N/A"},48971.140625,0,0,0,0,0,1,1,1,1,1,1,48971.140625,0,0,0,0,0,false,false,false,false,false,false,false,1,1,1,1,1,1,43.817999999999998,85.6,0,7.72,2.3940999999999999,1.7150000000000001,3014.0830000000001,1,1,19.3505,71,1.2833000000000001,0.9698,20677.012999999999]
["1980-12-01",false,"2011-02-10",false,false,{"$error":"#N/A"},135.759995,1,0,false,1,{"$error":"#N/A"},1,{"$error":"#N/A"},1,1,1,1,1,1,1,{"$error":"#N/A"},{"$error":"#N/A"},{"$error":"#N/A"},{"$error":"#N/A"},{"$error":"#N/A"},{"$error":"#N/A"},48971.140625,0,0,0,0,0,1,1,1,1,1,1,48971.140625,0,0,0,0,0,false,false,false,false,false,false,false,1,1,1,1,1,1,43.817999999999998,86.4,0,7.86,2.3458999999999999,1.7524999999999999,3014.0830000000001,1,1,19.3505,71,1.2833000000000001,0.9698,20677.012999999999]
["1981-01-01",false,"2011-02-17",false,false,{"$error":"#N/A"},129.550003,1,0,false,1,{"$error":"#N/A"},1,{"$error":"#N/A"},1,1,1,1,1,1,1,{"$error":"#N/A"},{"$error":"#N/A"},{"$error":"#N/A"},{"$error":"#N/A"},{"$error":"#N/A"},{"$error":"#N/A"},48971.140625,0,0,0,0,0,1,1,1,1,1,1,48971.140625,0,0,0,0,0,false,false,false,false,false,false,false,1,1,1,1,1,1,44.972000000000001,87.2,0,".",2.4028999999999998,".",3155.6089999999999,1,1,19.3505,71,1.2833000000000001,0.9698,20677.012999999999]
["1981-02-01",false,"2011-02-24",false,false,{"$error":"#N/A"},131.270004,1,0,false,1,{"$error":"#N/A"},1,{"$error":"#N/A"},1,1,1,1,1,1,1,{"$error":"#N/A"},{"$error":"#N/A"},{"$error":"#N/A"},{"$error":"#N/A"},{"$error":"#N/A"},{"$error":"#N/A"},48971.140625,0,0,0,0,0,1,1,1,1,1,1,48971.140625,0,0,0,0,0,false,false,false,false,false,false,false,1,1,1,1,1,1,44.972000000000001,88,0,8.1,2.2940999999999998,1.9319999999999999,3155.6089999999999,1,1,19.3505,71,1.2833000000000001,0.9698,20677.012999999999]
["1981-03-01",false,"2011-03-03",false,false,{"$error":"#N/A"},136,1,0,false,1,{"$error":"#N/A"},1,{"$error":"#N/A"},1,1,1,1,1,1,1,{"$error":"#N/A"},{"$error":"#N/A"},{"$error":"#N/A"},{"$error":"#N/A"},{"$error":"#N/A"},{"$error":"#N/A"},48971.140625,0,0,0,0,0,1,1,1,1,1,1,48971.140625,0,0,0,0,0,false,false,false,false,false,false,false,1,1,1,1,1,1,44.972000000000001,88.6,0,8.33,2.2319,1.962,3155.6089999999999,1,1,19.3505,71,1.2833000000000001,0.9698,20677.012999999999]
["1981-04-01",false,"2011-03-10",false,false,{"$error":"#N/A"},132.80999800000001,1,0,false,1,{"$error":"#N/A"},1,{"$error":"#N/A"},1,1,1,1,1,1,1,{"$error":"#N/A"},{"$error":"#N/A"},{"$error":"#N/A"},{"$error":"#N/A"},{"$error":"#N/A"},{"$error":"#N/A"},48971.140625,0,0,0,0,0,1,1,1,1,1,1,48971.140625,0,0,0,0,0,false,false,false,false,false,false,false,1,1,1,1,1,1,45.863,89.1,0,8.27,2.1753,1.9165000000000001,3192.5450000000001,1,1,19.3505,71,1.2833000000000001,0.9698,20677.012999999999]
["1981-05-01",false,"2011-03-17",false,false,{"$error":"#N/A"},132.58999600000001,1,0,false,1,{"$error":"#N/A"},1,{"$error":"#N/A"},1,1,1,1,1,1,1,{"$error":"#N/A"},{"$error":"#N/A"},{"$error":"#N/A"},{"$error":"#N/A"},{"$error":"#N/A"},{"$error":"#N/A"},48971.140625,0,0,0,0,0,1,1,1,1,1,1,48971.140625,0,0,0,0,0,false,false,false,false,false,false,false,1,1,1,1,1,1,45.863,89.7,0,8.35,2.0884,2.0179999999999998,3192.5450000000001,1,1,19.3505,71,1.2833000000000001,0.9698,20677.012999999999]
["1981-06-01",false,"2011-03-24",false,false,{"$error":"#N/A"},131.21000699999999,1,0,false,1,{"$error":"#N/A"},1,{"$error":"#N/A"},1,1,1,1,1,1,1,{"$error":"#N/A"},{"$error":"#N/A"},{"$error":"#N/A"},{"$error":"#N/A"},{"$error":"#N/A"},{"$error":"#N/A"},48971.140625,0,0,0,0,0,1,1,1,1,1,1,48971.140625,0,0,0,0,0,false,false,false,false,false,false,false,1,1,1,1,1,1,45.863,90.5,0,8.5,1.9738,2.0760000000000001,3192.5450000000001,1,1,19.3505,71,1.2833000000000001,0.9698,20677.012999999999]
["1981-07-01",false,"2011-03-31",false,false,{"$error":"#N/A"},130.91999799999999,1,0,false,1,{"$error":"#N/A"},1,{"$error":"#N/A"},1,1,1,1,1,1,1,{"$error":"#N/A"},{"$error":"#N/A"},{"$error":"#N/A"},{"$error":"#N/A"},{"$error":"#N/A"},{"$error":"#N/A"},48971.140625,0,0,0,0,0,1,1,1,1,1,1,48971.140625,0,0,0,0,0,false,false,false,false,false,false,false,1,1,1,1,1,1,46.725999999999999,91.5,0,8.65,1.8736999999999999,2.0750000000000002,3293.3029999999999,1,1,19.3505,71,1.2833000000000001,0.9698,20677.012999999999]
["1981-08-01",false,"2011-04-07",false,false,{"$error":"#N/A"},122.790001,1,0,false,1,{"$error":"#N/A"},1,{"$error":"#N/A"},1,1,1,1,1,1,1,{"$error":"#N/A"},{"$error":"#N/A"},{"$error":"#N/A"},{"$error":"#N/A"},{"$error":"#N/A"},{"$error":"#N/A"},48971.140625,0,0,0,0,0,1,1,1,1,1,1,48971.140625,0,0,0,0,0,false,false,false,false,false,false,false,1,1,1,1,1,1,46.725999999999999,92.2,0,9,1.8203,2.1484999999999999,3293.3029999999999,1,1,19.3505,71,1.2833000000000001,0.9698,20677.012999999999]
["1981-09-01",false,"2011-04-14",false,false,{"$error":"#N/A"},116.18,1,0,false,1,{"$error":"#N/A"},1,{"$error":"#N/A"},1,1,1,1,1,1,1,{"$error":"#N/A"},{"$error":"#N/A"},{"$error":"#N/A"},{"$error":"#N/A"},{"$error":"#N/A"},{"$error":"#N/A"},48971.140625,0,0,0,0,0,1,1,1,1,1,1,48971.140625,0,0,0,0,0,false,false,false,false,false,false,false,1,1,1,1,1,1,46.725999999999999,93.1,0,9.0500000000000007,1.8146,2.1595,3293.3029999999999,1,1,19.3505,71,1.2833000000000001,0.9698,20677.012999999999]
["1981-10-01",false,"2011-04-21",false,false,{"$error":"#N/A"},121.889999,1,0,false,1,{"$error":"#N/A"},1,{"$error":"#N/A"},1,1,1,1,1,1,1,{"$error":"#N/A"},{"$error":"#N/A"},{"$error":"#N/A"},{"$error":"#N/A"},{"$error":"#N/A"},{"$error":"#N/A"},48971.140625,0,0,0,0,0,1,1,1,1,1,1,48971.140625,0,0,0,0,0,false,false,false,false,false,false,false,1,1,1,1,1,1,47.533999999999999,93.4,0,9.1,1.8407,1.9690000000000001,3318.4470000000001,1,1,19.3505,71,1.2833000000000001,0.9698,20677.012999999999]
["1981-11-01",false,"2011-04-28",false,false,{"$error":"#N/A"},126.349998,1,0,false,1,{"$error":"#N/A"},1,{"$error":"#N/A"},1,1,1,1,1,1,1,{"$error":"#N/A"},{"$error":"#N/A"},{"$error":"#N/A"},{"$error":"#N/A"},{"$error":"#N/A"},{"$error":"#N/A"},48971.140625,0,0,0,0,0,1,1,1,1,1,1,48971.140625,0,0,0,0,0,false,false,false,false,false,false,false,1,1,1,1,1,1,47.533999999999999,93.8,0,9.1300000000000008,1.9025000000000001,1.835,3318.4470000000001,1,1,19.3505,71,1.2833000000000001,0.9698,20677.012999999999]
["1981-12-01",false,"2011-05-05",false,false,{"$error":"#N/A"},122.550003,1,0,false,1,{"$error":"#N/A"},1,{"$error":"#N/A"},1,1,1,1,1,1,1,{"$error":"#N/A"},{"$error":"#N/A"},{"$error":"#N/A"},{"$error":"#N/A"},{"$error":"#N/A"},{"$error":"#N/A"},48971.140625,0,0,0,0,0,1,1,1,1,1,1,48971.140625,0,0,0,0,0,false,false,false,false,false,false,false,1,1,1,1,1,1,47.533999999999999,94.1,0,9.09,1.9033,1.7865,3318.4470000000001,1,1,19.3505,71,1.2833000000000001,0.9698,20677.012999999999]
["1982-01-01",false,"2011-05-12",false,false,{"$error":"#N/A"},120.400002,1,0,false,1,{"$error":"#N/A"},1,{"$error":"#N/A"},1,1,1,1,1,1,1,{"$error":"#N/A"},{"$error":"#N/A"},{"$error":"#N/A"},{"$error":"#N/A"},{"$error":"#N/A"},{"$error":"#N/A"},48971.140625,0,0,0,0,0,1,1,1,1,1,1,48971.140625,0,0,0,0,0,false,false,false,false,false,false,false,1,1,1,1,1,1,48.188000000000002,94.4,0,".",1.8859999999999999,".",3310.2939999999999,1,1,19.3505,71,1.2833000000000001,0.9698,20677.012999999999]
["1982-02-01",{"$f":"IF(B394<=$D$2,EOMONTH(B394,1))","v":false},"2011-05-19",false,false,{"$f":"LOOKUP(D395,A:A,G:G)","v":{"$error":"#N/A"}},{"$f":"IFERROR(LOOKUP($A395,INDIRECT(\"'\"&G$7&\"'!A:A\"),INDIRECT(\"'\"&G$7&\"'!\"&$G$9&\":\"&$G$9)),0)","v":113.110001},{"$f":"IF(H$8,INDEX($BN395:$BT395,H$8),1)","v":1},{"$f":"IF(ISNUMBER(F395),F395,I396)*H395","v":0},false,1,{"$error":"#N/A"},1,{"$error":"#N/A"},1,1,1,1,1,1,1,{"$f":"LOOKUP($A395,INDIRECT(\"'\"&V$5&\"'!A:A\"),INDIRECT(\"'\"&V$5&\"'!\"&V$7&\":\"&V$7))","v":{"$error":"#N/A"}},{"$error":"#N/A"},{"$error":"#N/A"},{"$error":"#N/A"},{"$error":"#N/A"},{"$error":"#N/A"},{"$f":"IF(ISNUMBER(LOOKUP($D395,$A:$A,V:V)),LOOKUP($D395,$A:$A,V:V),AB394)","v":48971.140625},{"$f":"IF(ISNUMBER(LOOKUP($D395,$A:$A,W:W)),LOOKUP($D395,$A:$A,W:W),AC394)","v":0},{"$f":"IF(ISNUMBER(LOOKUP($D395,$A:$A,X:X)),LOOKUP($D395,$A:$A,X:X),AD394)","v":0},{"$f":"IF(ISNUMBER(LOOKUP($D395,$A:$A,Y:Y)),LOOKUP($D395,$A:$A,Y:Y),AE394)","v":0},{"$f":"IF(ISNUMBER(LOOKUP($D395,$A:$A,Z:Z)),LOOKUP($D395,$A:$A,Z:Z),AF394)","v":0},{"$f":"IF(ISNUMBER(LOOKUP($D395,$A:$A,AA:AA)),LOOKUP($D395,$A:$A,AA:AA),AG394)","v":0},1,1,1,1,1,1,{"$f":"IFERROR(IF(ISNUMBER(AB395)>0.1,AB395,AN396)*AH395,AN396)","v":48971.140625},{"$f":"IFERROR(IF(ISNUMBER(AC395)>0.1,AC395,AO396)*AI395,AO396)","v":0},{"$f":"IFERROR(IF(ISNUMBER(AD395)>0.1,AD395,AP396)*AJ395,AP396)","v":0},{"$f":"IFERROR(IF(ISNUMBER(AE395)>0.1,AE395,AQ396)*AK395,AQ396)","v":0},{"$f":"IFERROR(IF(ISNUMBER(AF395)>0.1,AF395,AR396)*AL395,AR396)","v":0},{"$f":"IF(ISNUMBER(AG395)>0.1,AG395,AS396)","v":0},false,{"$f":"IF(E395,IFERROR(LN(AN395/AN394),FALSE))","v":false},{"$f":"IF(E395,IFERROR(LN(AO395/AO394),FALSE))","v":false},{"$f":"IF(E395,IFERROR(LN(AP395/AP394),FALSE))","v":false},{"$f":"IF(E395,IFERROR(LN(AQ395/AQ394),FALSE))","v":false},{"$f":"IF(E395,IFERROR(LN(AR395/AR394),FALSE))","v":false},{"$f":"IF(E395,IFERROR(LN(AS395/AS394),FALSE))","v":false},1,1,1,1,1,1,{"$f":"IFERROR(LOOKUP($A395,INDIRECT(\"'\"&BN$6&\"'!A:A\"),INDIRECT(\"'\"&BN$6&\"'!\"&BN$7&\":\"&BN$7)),0)","v":48.188000000000002},{"$f":"IFERROR(LOOKUP($A395,INDIRECT(\"'\"&BO$6&\"'!A:A\"),INDIRECT(\"'\"&BO$6&\"'!\"&BO$7&\":\"&BO$7)),0)","v":94.7},{"$f":"IFERROR(LOOKUP($A395,INDIRECT(\"'\"&BP$6&\"'!A:A\"),INDIRECT(\"'\"&BP$6&\"'!\"&BP$7&\":\"&BP$7)),0)","v":0},{"$f":"IFERROR(LOOKUP($A395,INDIRECT(\"'\"&BQ$6&\"'!A:A\"),INDIRECT(\"'\"&BQ$6&\"'!\"&BQ$7&\":\"&BQ$7)),0)","v":9.19},{"$f":"IFERROR(LOOKUP($A395,INDIRECT(\"'\"&BR$6&\"'!A:A\"),INDIRECT(\"'\"&BR$6&\"'!\"&BR$7&\":\"&BR$7)),0)","v":1.847},{"$f":"IFERROR(LOOKUP($A395,INDIRECT(\"'\"&BS$6&\"'!A:A\"),INDIRECT(\"'\"&BS$6&\"'!\"&BS$7&\":\"&BS$7)),0)","v":1.875},{"$f":"IFERROR(LOOKUP($A395,INDIRECT(\"'\"&BT$6&\"'!A:A\"),INDIRECT(\"'\"&BT$6&\"'!\"&BT$7&\":\"&BT$7)),0)","v":3310.2939999999999},{"$f":"IFERROR(1/IFERROR(LOOKUP($D395,$A:$A,BG:BG)*1,0),1)","v":1},{"$f":"IFERROR(1/IFERROR(LOOKUP($D395,$A:$A,BH:BH)*1,0),1)","v":1},19.3505,71,1.2833000000000001,0.9698,20677.012999999999]
["1982-03-01",false,{"$f":"IF(C395<=$D$2,C395+7)","v":"2011-05-26"},false,{"$f":"AND(D396>=$D$4,D395<=$D$2)","v":false},{"$error":"#N/A"},111.959999,1,0,{"$f":"IFERROR(LN(I396/I395),FALSE)","v":false},1,{"$error":"#N/A"},1,{"$error":"#N/A"},1,1,1,1,1,1,1,{"$error":"#N/A"},{"$error":"#N/A"},{"$error":"#N/A"},{"$error":"#N/A"},{"$error":"#N/A"},{"$error":"#N/A"},48971.140625,0,0,0,0,0,1,1,1,1,1,1,48971.140625,0,0,0,0,0,false,false,false,false,false,false,false,{"$f":"IFERROR(IF($E396,BA395*AN396/AN395,1),1)","v":1},{"$f":"IFERROR(IF($E396,BB395*AO396/AO395,1),1)","v":1},{"$f":"IFERROR(IF($E396,BC395*AP396/AP395,1),1)","v":1},{"$f":"IFERROR(IF($E396,BD395*AQ396/AQ395,1),1)","v":1},{"$f":"IFERROR(IF($E396,BE395*AR396/AR395,1),1)","v":1},{"$f":"IFERROR(IF($E396,BF395*AS396/AS395,1),1)","v":1},48.188000000000002,94.7,0,9.2899999999999991,1.8052999999999999,1.8935,3310.2939999999999,1,1,{"$f":"IFERROR(LOOKUP($D396,$A:$A,BI:BI)*1,BP395)","v":19.3505},{"$f":"IFERROR(LOOKUP($D396,$A:$A,BJ:BJ)*1,BQ395)","v":71},{"$f":"IFERROR(LOOKUP($D396,$A:$A,BK:BK)*1,BR395)","v":1.2833000000000001},{"$f":"IFERROR(LOOKUP($D396,$A:$A,BL:BL)*1,BS395)","v":0.9698},{"$f":"IFERROR(LOOKUP($D396,$A:$A,BM:BM)*1,BT395)","v":20677.012999999999}]
["1982-04-01",false,"2011-06-02",{"$f":"IF($D$6,C397,B397)","v":false},false,{"$error":"#N/A"},116.44000200000001,1,0,false,{"$f":"IF($E397,(K396*I397/I396),1)","v":1},{"$f":"IF(E397,D397,NA())","v":{"$error":"#N/A"}},{"$f":"CHOOSE($M$1,I397,J397,K397)","v":1},{"$f":"L397","v":{"$error":"#N/A"}},{"$f":"M397","v":1},{"$f":"IFERROR(CHOOSE($M$1,AN397,AU397,BA397),1)","v":1},{"$f":"IFERROR(CHOOSE($M$1,AO397,AV397,BB397),1)","v":1},{"$f":"IFERROR(CHOOSE($M$1,AP397,AW397,BC397),1)","v":1},{"$f":"IFERROR(CHOOSE($M$1,AQ397,AX397,BD397),1)","v":1},{"$f":"IFERROR(CHOOSE($M$1,AR397,AY397,BE397),1)","v":1},{"$f":"IFERROR(CHOOSE($M$1,AS397,AZ397,BF397),1)","v":1},{"$error":"#N/A"},{"$error":"#N/A"},{"$error":"#N/A"},{"$error":"#N/A"},{"$error":"#N/A"},{"$error":"#N/A"},48971.140625,0,0,0,0,0,1,1,1,1,1,1,48971.140625,0,0,0,0,0,{"$f":"J397","v":false},false,false,false,false,false,false,1,1,1,1,1,1,48.814,95,0,9.35,1.772,1.9410000000000001,3372.9,1,1,19.3505,71,1.2833000000000001,0.9698,20677.012999999999]
["1982-05-01",false,"2011-06-09",false,false,{"$error":"#N/A"},111.879997,1,0,false,1,{"$error":"#N/A"},1,{"$error":"#N/A"},1,1,1,1,1,1,1,{"$error":"#N/A"},{"$error":"#N/A"},{"$error":"#N/A"},{"$error":"#N/A"},{"$error":"#N/A"},{"$error":"#N/A"},48971.140625,0,0,0,0,0,1,1,1,1,1,1,48971.140625,0,0,0,0,0,false,false,false,false,false,false,false,1,1,1,1,1,1,48.814,95.9,0,9.35,1.8104,1.9570000000000001,3372.9,1,1,19.3505,71,1.2833000000000001,0.9698,20677.012999999999]
["1982-06-01",false,"2011-06-16",false,false,{"$error":"#N/A"},109.610001,1,0,false,1,{"$error":"#N/A"},1,{"$error":"#N/A"},1,1,1,1,1,1,1,{"$error":"#N/A"},{"$error":"#N/A"},{"$error":"#N/A"},{"$error":"#N/A"},{"$error":"#N/A"},{"$error":"#N/A"},48971.140625,0,0,0,0,0,1,1,1,1,1,1,48971.140625,0,0,0,0,0,false,false,false,false,false,false,false,1,1,1,1,1,1,48.814,97,0,9.3800000000000008,1.7563,2.0249999999999999,3372.9,1,1,19.3505,71,1.2833000000000001,0.9698,20677.012999999999]
["1982-07-01",false,"2011-06-23",false,false,{"$error":"#N/A"},107.089996,1,0,false,1,{"$error":"#N/A"},1,{"$error":"#N/A"},1,1,1,1,1,1,1,{"$error":"#N/A"},{"$error":"#N/A"},{"$error":"#N/A"},{"$error":"#N/A"},{"$error":"#N/A"},{"$error":"#N/A"},48971.140625,0,0,0,0,0,1,1,1,1,1,1,48971.140625,0,0,0,0,0,false,false,false,false,false,false,false,1,1,1,1,1,1,49.506,97.5,0,9.57,1.7354000000000001,2.1025,3401.3490000000002,1,1,19.3505,71,1.2833000000000001,0.9698,20677.012999999999]
["1982-08-01",false,"2011-06-30",false,false,{"$error":"#N/A"},119.510002,1,0,false,1,{"$error":"#N/A"},1,{"$error":"#N/A"},1,1,1,1,1,1,1,{"$error":"#N/A"},{"$error":"#N/A"},{"$error":"#N/A"},{"$error":"#N/A"},{"$error":"#N/A"},{"$error":"#N/A"},48971.140625,0,0,0,0,0,1,1,1,1,1,1,48971.140625,0,0,0,0,0,false,false,false,false,false,false,false,1,1,1,1,1,1,49.506,97.7,0,9.56,1.7250000000000001,2.1,3401.3490000000002,1,1,19.3505,71,1.2833000000000001,0.9698,20677.012999999999]
["1982-09-01",false,"2011-07-07",false,false,{"$error":"#N/A"},120.41999800000001,1,0,false,1,{"$error":"#N/A"},1,{"$error":"#N/A"},1,1,1,1,1,1,1,{"$error":"#N/A"},{"$error":"#N/A"},{"$error":"#N/A"},{"$error":"#N/A"},{"$error":"#N/A"},{"$error":"#N/A"},48971.140625,0,0,0,0,0,1,1,1,1,1,1,48971.140625,0,0,0,0,0,false,false,false,false,false,false,false,1,1,1,1,1,1,49.506,97.7,0,9.65,1.712,2.125,3401.3490000000002,1,1,19.3505,71,1.2833000000000001,0.9698,20677.012999999999]
["1982-10-01",false,"2011-07-14",false,false,{"$error":"#N/A"},133.720001,1,0,false,1,{"$error":"#N/A"},1,{"$error":"#N/A"},1,1,1,1,1,1,1,{"$error":"#N/A"},{"$error":"#N/A"},{"$error":"#N/A"},{"$error":"#N/A"},{"$error":"#N/A"},{"$error":"#N/A"},48971.140625,0,0,0,0,0,1,1,1,1,1,1,48971.140625,0,0,0,0,0,false,false,false,false,false,false,false,1,1,1,1,1,1,50.018999999999998,98.1,0,9.7200000000000006,1.6961999999999999,2.1739999999999999,3436.654,1,1,19.3505,71,1.2833000000000001,0.9698,20677.012999999999]
["1982-11-01",false,"2011-07-21",false,false,{"$error":"#N/A"},138.529999,1,0,false,1,{"$error":"#N/A"},1,{"$error":"#N/A"},1,1,1,1,1,1,1,{"$error":"#N/A"},{"$error":"#N/A"},{"$error":"#N/A"},{"$error":"#N/A"},{"$error":"#N/A"},{"$error":"#N/A"},48971.140625,0,0,0,0,0,1,1,1,1,1,1,48971.140625,0,0,0,0,0,false,false,false,false,false,false,false,1,1,1,1,1,1,50.018999999999998,98,0,9.76,1.6321000000000001,2.1909999999999998,3436.654,1,1,19.3505,71,1.2833000000000001,0.9698,20677.012999999999]
["1982-12-01",false,"2011-07-28",false,false,{"$error":"#N/A"},140.63999899999999,1,0,false,1,{"$error":"#N/A"},1,{"$error":"#N/A"},1,1,1,1,1,1,1,{"$error":"#N/A"},{"$error":"#N/A"},{"$error":"#N/A"},{"$error":"#N/A"},{"$error":"#N/A"},{"$error":"#N/A"},48971.140625,0,0,0,0,0,1,1,1,1,1,1,48971.140625,0,0,0,0,0,false,false,false,false,false,false,false,1,1,1,1,1,1,50.018999999999998,97.7,0,9.65,1.6160000000000001,2.1110000000000002,3436.654,1,1,19.3505,71,1.2833000000000001,0.9698,20677.012999999999]
["1983-01-01",false,"2011-08-04",false,false,{"$error":"#N/A"},145.300003,1,0,false,1,{"$error":"#N/A"},1,{"$error":"#N/A"},1,1,1,1,1,1,1,{"$error":"#N/A"},{"$error":"#N/A"},{"$error":"#N/A"},{"$error":"#N/A"},{"$error":"#N/A"},{"$error":"#N/A"},48971.140625,0,0,0,0,0,1,1,1,1,1,1,48971.140625,0,0,0,0,0,false,false,false,false,false,false,false,1,1,1,1,1,1,50.396999999999998,97.9,0,9.6199999999999992,1.5755999999999999,2.0074999999999998,3507.4639999999999,1,1,19.3505,71,1.2833000000000001,0.9698,20677.012999999999]
["1983-02-01",false,"2011-08-11",false,false,{"$error":"#N/A"},148.05999800000001,1,0,false,1,{"$error":"#N/A"},1,{"$error":"#N/A"},1,1,1,1,1,1,1,{"$error":"#N/A"},{"$error":"#N/A"},{"$error":"#N/A"},{"$error":"#N/A"},{"$error":"#N/A"},{"$error":"#N/A"},48971.140625,0,0,0,0,0,1,1,1,1,1,1,48971.140625,0,0,0,0,0,false,false,false,false,false,false,false,1,1,1,1,1,1,50.396999999999998,98,0,9.92,1.5328999999999999,2.0154999999999998,3507.4639999999999,1,1,19.3505,71,1.2833000000000001,0.9698,20677.012999999999]
["1983-03-01",false,"2011-08-18",false,false,{"$error":"#N/A"},152.96000699999999,1,0,false,1,{"$error":"#N/A"},1,{"$error":"#N/A"},1,1,1,1,1,1,1,{"$error":"#N/A"},{"$error":"#N/A"},{"$error":"#N/A"},{"$error":"#N/A"},{"$error":"#N/A"},{"$error":"#N/A"},48971.140625,0,0,0,0,0,1,1,1,1,1,1,48971.140625,0,0,0,0,0,false,false,false,false,false,false,false,1,1,1,1,1,1,50.396999999999998,98.1,0,9.98,1.49,2.0674999999999999,3507.4639999999999,1,1,19.3505,71,1.2833000000000001,0.9698,20677.012999999999]
["1983-04-01",false,"2011-08-25",false,false,{"$error":"#N/A"},164.429993,1,0,false,1,{"$error":"#N/A"},1,{"$error":"#N/A"},1,1,1,1,1,1,1,{"$error":"#N/A"},{"$error":"#N/A"},{"$error":"#N/A"},{"$error":"#N/A"},{"$error":"#N/A"},{"$error":"#N/A"},48971.140625,0,0,0,0,0,1,1,1,1,1,1,48971.140625,0,0,0,0,0,false,false,false,false,false,false,false,1,1,1,1,1,1,50.771000000000001,98.8,0,10.02,1.5361,2.0874999999999999,3615.5889999999999,1,1,19.3505,71,1.2833000000000001,0.9698,20677.012999999999]
["1983-05-01",false,"2011-09-01",false,false,{"$error":"#N/A"},162.38999899999999,1,0,false,1,{"$error":"#N/A"},1,{"$error":"#N/A"},1,1,1,1,1,1,1,{"$error":"#N/A"},{"$error":"#N/A"},{"$error":"#N/A"},{"$error":"#N/A"},{"$error":"#N/A"},{"$error":"#N/A"},48971.140625,0,0,0,0,0,1,1,1,1,1,1,48971.140625,0,0,0,0,0,false,false,false,false,false,false,false,1,1,1,1,1,1,50.771000000000001,99.2,0,10,1.5722,2.073,3615.5889999999999,1,1,19.3505,71,1.2833000000000001,0.9698,20677.012999999999]
["1983-06-01",false,"2011-09-08",false,false,{"$error":"#N/A"},167.63999899999999,1,0,false,1,{"$error":"#N/A"},1,{"$error":"#N/A"},1,1,1,1,1,1,1,{"$error":"#N/A"},{"$error":"#N/A"},{"$error":"#N/A"},{"$error":"#N/A"},{"$error":"#N/A"},{"$error":"#N/A"},48971.140625,0,0,0,0,0,1,1,1,1,1,1,48971.140625,0,0,0,0,0,false,false,false,false,false,false,false,1,1,1,1,1,1,50.771000000000001,99.4,0,10,1.548,2.109,3615.5889999999999,1,1,19.3505,71,1.2833000000000001,0.9698,20677.012999999999]
["1983-07-01",false,"2011-09-15",false,false,{"$error":"#N/A"},162.55999800000001,1,0,false,1,{"$error":"#N/A"},1,{"$error":"#N/A"},1,1,1,1,1,1,1,{"$error":"#N/A"},{"$error":"#N/A"},{"$error":"#N/A"},{"$error":"#N/A"},{"$error":"#N/A"},{"$error":"#N/A"},48971.140625,0,0,0,0,0,1,1,1,1,1,1,48971.140625,0,0,0,0,0,false,false,false,false,false,false,false,1,1,1,1,1,1,51.311,99.8,0,10.09,1.5273000000000001,2.1059999999999999,3727.0459999999998,1,1,19.3505,71,1.2833000000000001,0.9698,20677.012999999999]
["1983-08-01",false,"2011-09-22",false,false,{"$error":"#N/A"},164.39999399999999,1,0,false,1,{"$error":"#N/A"},1,{"$error":"#N/A"},1,1,1,1,1,1,1,{"$error":"#N/A"},{"$error":"#N/A"},{"$error":"#N/A"},{"$error":"#N/A"},{"$error":"#N/A"},{"$error":"#N/A"},48971.140625,0,0,0,0,0,1,1,1,1,1,1,48971.140625,0,0,0,0,0,false,false,false,false,false,false,false,1,1,1,1,1,1,51.311,100.1,0,10.14,1.5025999999999999,2.1549999999999998,3727.0459999999998,1,1,19.3505,71,1.2833000000000001,0.9698,20677.012999999999]
["1983-09-01",false,"2011-09-29",false,false,{"$error":"#N/A"},166.070007,1,0,false,1,{"$error":"#N/A"},1,{"$error":"#N/A"},1,1,1,1,1,1,1,{"$error":"#N/A"},{"$error":"#N/A"},{"$error":"#N/A"},{"$error":"#N/A"},{"$error":"#N/A"},{"$error":"#N/A"},48971.140625,0,0,0,0,0,1,1,1,{"$f":"IF(AK$7,INDEX($BN414:$BT414,AK$7),1)","v":1},1,1,48971.140625,0,0,0,0,0,false,false,false,false,false,false,false,1,1,1,1,1,1,51.311,100.4,0,10.199999999999999,1.4985999999999999,2.1884999999999999,3727.0459999999998,1,1,19.3505,71,1.2833000000000001,0.9698,20677.012999999999]
["1983-10-01",false,"2011-10-06",false,false,{"$error":"#N/A"},163.550003,1,0,false,1,{"$error":"#N/A"},1,{"$error":"#N/A"},1,1,1,1,1,1,1,{"$error":"#N/A"},{"$error":"#N/A"},{"$error":"#N/A"},{"$error":"#N/A"},{"$error":"#N/A"},{"$error":"#N/A"},48971.140625,0,0,0,0,0,1,1,1,1,1,1,48971.140625,0,0,0,0,0,false,false,false,false,false,false,false,1,1,1,1,1,1,51.7,100.8,0,10.199999999999999,1.4968999999999999,2.12,3834.386,1,1,19.3505,71,1.2833000000000001,0.9698,20677.012999999999]
["1983-11-01",false,"2011-10-13",false,false,{"$error":"#N/A"},166.39999399999999,1,0,false,1,{"$error":"#N/A"},1,{"$error":"#N/A"},1,1,1,1,1,1,1,{"$error":"#N/A"},{"$error":"#N/A"},{"$error":"#N/A"},{"$error":"#N/A"},{"$error":"#N/A"},{"$error":"#N/A"},48971.140625,0,0,0,0,0,1,1,1,1,1,1,48971.140625,0,0,0,0,0,false,false,false,false,false,false,false,1,1,1,1,1,1,51.7,101.1,0,10.3,1.4765999999999999,2.1615000000000002,3834.386,1,1,19.3505,71,1.2833000000000001,0.9698,20677.012999999999]
["1983-12-01",false,"2011-10-20",false,false,{"$error":"#N/A"},164.929993,1,0,false,1,{"$error":"#N/A"},1,{"$error":"#N/A"},1,1,1,1,1,1,1,{"$error":"#N/A"},{"$error":"#N/A"},{"$error":"#N/A"},{"$error":"#N/A"},{"$error":"#N/A"},{"$error":"#N/A"},48971.140625,0,0,0,0,0,1,1,1,1,1,1,48971.140625,0,0,0,0,0,false,false,false,false,false,false,false,1,1,1,1,1,1,51.7,101.4,0,10.41,1.4338,2.1629999999999998,3834.386,1,1,19.3505,71,1.2833000000000001,0.9698,20677.012999999999]
["1984-01-01",false,"2011-10-27",false,false,{"$error":"#N/A"},163.41000399999999,1,0,false,1,{"$error":"#N/A"},1,{"$error":"#N/A"},1,1,1,1,1,1,1,{"$error":"#N/A"},{"$error":"#N/A"},{"$error":"#N/A"},{"$error":"#N/A"},{"$error":"#N/A"},{"$error":"#N/A"},48971.140625,0,0,0,0,0,1,1,1,1,1,1,48971.140625,0,0,0,0,0,false,false,false,false,false,false,false,1,1,1,1,1,1,52.222999999999999,102.1,0,10.49,1.4076,2.1789999999999998,3945.0940000000001,1,1,19.3505,71,1.2833000000000001,0.9698,20677.012999999999]
["1984-02-01",false,"2011-11-03",false,false,{"$error":"#N/A"},157.05999800000001,1,0,false,1,{"$error":"#N/A"},1,{"$error":"#N/A"},1,1,1,1,1,1,1,{"$error":"#N/A"},{"$error":"#N/A"},{"$error":"#N/A"},{"$error":"#N/A"},{"$error":"#N/A"},{"$error":"#N/A"},48971.140625,0,0,0,0,0,1,1,1,1,1,1,48971.140625,0,0,0,0,0,false,false,false,false,false,false,false,1,1,1,1,1,1,52.222999999999999,102.6,0,10.76,1.4417,2.2349999999999999,3945.0940000000001,1,1,19.3505,71,1.2833000000000001,0.9698,20677.012999999999]
["1984-03-01",false,"2011-11-10",false,false,{"$error":"#N/A"},159.179993,1,0,false,1,{"$error":"#N/A"},1,{"$error":"#N/A"},1,1,1,1,1,1,1,{"$error":"#N/A"},{"$error":"#N/A"},{"$error":"#N/A"},{"$error":"#N/A"},{"$error":"#N/A"},{"$error":"#N/A"},48971.140625,0,0,0,0,0,1,1,1,1,1,1,48971.140625,0,0,0,0,0,false,false,false,false,false,false,false,1,1,1,1,1,1,52.222999999999999,102.9,0,10.68,1.4557,2.1760000000000002,3945.0940000000001,1,1,19.3505,71,1.2833000000000001,0.9698,20677.012999999999]
["1984-04-01",false,"2011-11-17",false,false,{"$error":"#N/A"},160.050003,1,0,false,1,{"$error":"#N/A"},1,{"$error":"#N/A"},1,1,1,1,1,1,1,{"$error":"#N/A"},{"$error":"#N/A"},{"$error":"#N/A"},{"$error":"#N/A"},{"$error":"#N/A"},{"$error":"#N/A"},48971.140625,0,0,0,0,0,1,1,1,1,1,1,48971.140625,0,0,0,0,0,false,false,false,false,false,false,false,1,1,1,1,1,1,52.67,103.3,0,10.76,1.421,2.1524999999999999,4047.14,1,1,19.3505,71,1.2833000000000001,0.9698,20677.012999999999]
["1984-05-01",false,"2011-11-24",false,false,{"$error":"#N/A"},150.550003,1,0,false,1,{"$error":"#N/A"},1,{"$error":"#N/A"},1,1,1,1,1,1,1,{"$error":"#N/A"},{"$error":"#N/A"},{"$error":"#N/A"},{"$error":"#N/A"},{"$error":"#N/A"},{"$error":"#N/A"},48971.140625,0,0,0,0,0,1,1,1,1,1,1,48971.140625,0,0,0,0,0,false,false,false,false,false,false,false,1,1,1,1,1,1,52.67,103.5,0,10.92,1.3894,2.2448000000000001,4047.14,1,1,19.3505,71,1.2833000000000001,0.9698,20677.012999999999]
["1984-06-01",false,"2011-12-01",false,false,{"$error":"#N/A"},153.179993,1,0,false,1,{"$error":"#N/A"},1,{"$error":"#N/A"},1,1,1,1,1,1,1,{"$error":"#N/A"},{"$error":"#N/A"},{"$error":"#N/A"},{"$f":"LOOKUP($A423,INDIRECT(\"'\"&Y$5&\"'!A:A\"),INDIRECT(\"'\"&Y$5&\"'!\"&Y$7&\":\"&Y$7))","v":{"$error":"#N/A"}},{"$error":"#N/A"},{"$error":"#N/A"},48971.140625,0,0,0,0,0,1,1,1,1,1,1,48971.140625,0,0,0,0,0,false,false,false,false,false,false,false,1,1,1,1,1,1,52.67,103.7,0,11.02,1.377,2.2294999999999998,4047.14,1,1,19.3505,71,1.2833000000000001,0.9698,20677.012999999999]
["1984-07-01",false,"2011-12-08",false,false,{"$error":"#N/A"},150.66000399999999,1,0,false,1,{"$error":"#N/A"},1,{"$error":"#N/A"},1,1,1,1,1,1,1,{"$error":"#N/A"},{"$error":"#N/A"},{"$error":"#N/A"},{"$error":"#N/A"},{"$error":"#N/A"},{"$error":"#N/A"},48971.140625,0,0,0,0,0,1,1,1,1,1,1,48971.140625,0,0,0,0,0,false,false,false,false,false,false,false,1,1,1,1,1,1,53.137999999999998,104.1,0,11.22,1.32,2.331,4121.6059999999998,1,1,19.3505,71,1.2833000000000001,0.9698,20677.012999999999]
["1984-08-01",false,"2011-12-15",false,false,{"$error":"#N/A"},166.679993,1,0,false,1,{"$error":"#N/A"},1,{"$error":"#N/A"},1,1,1,1,1,1,1,{"$error":"#N/A"},{"$error":"#N/A"},{"$error":"#N/A"},{"$error":"#N/A"},{"$error":"#N/A"},{"$error":"#N/A"},48971.140625,0,0,0,0,0,1,1,1,1,1,1,48971.140625,0,0,0,0,0,false,false,false,false,false,false,false,1,1,1,1,1,1,53.137999999999998,104.4,0,11.56,1.3131999999999999,2.4649999999999999,4121.6059999999998,1,1,19.3505,71,1.2833000000000001,0.9698,20677.012999999999]
["1984-09-01",false,"2011-12-22",false,false,{"$error":"#N/A"},166.10000600000001,1,0,false,1,{"$error":"#N/A"},1,{"$error":"#N/A"},1,1,1,1,1,1,1,{"$error":"#N/A"},{"$error":"#N/A"},{"$error":"#N/A"},{"$error":"#N/A"},{"$error":"#N/A"},{"$error":"#N/A"},48971.140625,0,0,0,0,0,1,1,1,1,1,1,48971.140625,0,0,0,0,0,false,false,false,false,false,false,false,1,1,1,1,1,1,53.137999999999998,104.7,0,11.6,1.2563,2.4095,4121.6059999999998,1,1,19.3505,71,1.2833000000000001,0.9698,20677.012999999999]
["1984-10-01",false,"2011-12-29",false,false,{"$error":"#N/A"},166.08999600000001,1,0,false,1,{"$error":"#N/A"},1,{"$error":"#N/A"},1,1,1,1,1,1,1,{"$error":"#N/A"},{"$error":"#N/A"},{"$error":"#N/A"},{"$error":"#N/A"},{"$error":"#N/A"},{"$error":"#N/A"},48971.140625,0,0,0,0,0,1,1,1,1,1,1,48971.140625,0,0,0,0,0,false,false,false,false,false,false,false,1,1,1,1,1,1,53.536000000000001,105.1,0,11.95,1.2196,2.5230000000000001,4181.7749999999996,1,1,19.3505,71,1.2833000000000001,0.9698,20677.012999999999]
["1984-11-01",false,"2012-01-05",false,false,{"$error":"#N/A"},163.58000200000001,1,0,false,1,{"$error":"#N/A"},1,{"$error":"#N/A"},1,1,1,1,1,1,1,{"$error":"#N/A"},{"$error":"#N/A"},{"$error":"#N/A"},{"$error":"#N/A"},{"$error":"#N/A"},{"$error":"#N/A"},48971.140625,0,0,0,0,0,1,1,1,1,1,1,48971.140625,0,0,0,0,0,false,false,false,false,false,false,false,1,1,1,1,1,1,53.536000000000001,105.3,0,12.05,1.2392000000000001,2.4580000000000002,4181.7749999999996,1,1,19.3505,71,1.2833000000000001,0.9698,20677.012999999999]
["1984-12-01",false,"2012-01-12",false,false,{"$error":"#N/A"},167.240005,1,0,false,1,{"$error":"#N/A"},1,{"$error":"#N/A"},1,1,1,1,1,1,1,{"$error":"#N/A"},{"$error":"#N/A"},{"$error":"#N/A"},{"$error":"#N/A"},{"$error":"#N/A"},{"$error":"#N/A"},48971.140625,0,0,0,0,0,{"$f":"IF(AH$7,INDEX($BN429:$BT429,AH$7),1)","v":1},1,1,1,1,1,48971.140625,0,0,0,0,0,false,false,false,false,false,false,false,1,1,1,1,1,1,53.536000000000001,105.5,0,12.29,1.1860999999999999,2.5550000000000002,4181.7749999999996,1,1,19.3505,71,1.2833000000000001,0.9698,20677.012999999999]
["1985-01-01",false,"2012-01-19",false,false,{"$error":"#N/A"},179.63000500000001,1,0,false,1,{"$error":"#N/A"},1,{"$error":"#N/A"},1,1,1,1,1,1,1,{"$error":"#N/A"},{"$error":"#N/A"},{"$error":"#N/A"},{"$error":"#N/A"},{"$error":"#N/A"},{"$error":"#N/A"},48971.140625,0,0,0,0,0,1,1,1,1,1,1,48971.140625,0,0,0,0,0,false,false,false,false,false,false,false,1,1,1,1,1,1,54.064999999999998,105.7,0,".",1.1271,".",4255.8590000000004,1,1,19.3505,71,1.2833000000000001,0.9698,20677.012999999999]
["1985-02-01",false,"2012-01-26",false,false,{"$error":"#N/A"},181.179993,1,0,false,1,{"$error":"#N/A"},1,{"$error":"#N/A"},1,1,1,1,1,1,1,{"$error":"#N/A"},{"$error":"#N/A"},{"$error":"#N/A"},{"$error":"#N/A"},{"$error":"#N/A"},{"$error":"#N/A"},48971.140625,0,0,0,0,0,1,1,1,1,1,1,48971.140625,0,0,0,0,0,false,false,false,false,false,false,false,1,1,1,1,1,1,54.064999999999998,106.3,0,12.68,1.0931,2.7044999999999999,4255.8590000000004,1,1,19.3505,71,1.2833000000000001,0.9698,20677.012999999999]
["1985-03-01",false,"2012-02-02",false,false,{"$error":"#N/A"},180.66000399999999,1,0,false,1,{"$error":"#N/A"},1,{"$error":"#N/A"},1,1,1,1,1,1,1,{"$error":"#N/A"},{"$error":"#N/A"},{"$error":"#N/A"},{"$error":"#N/A"},{"$error":"#N/A"},{"$error":"#N/A"},48971.140625,0,0,0,0,0,1,1,1,1,1,1,48971.140625,0,0,0,0,0,false,false,false,false,false,false,false,1,1,1,1,1,1,54.064999999999998,106.8,0,12.98,1.1253,2.8610000000000002,4255.8590000000004,1,1,19.3505,71,1.2833000000000001,0.9698,20677.012999999999]
["1985-04-01",false,"2012-02-09",false,false,{"$error":"#N/A"},179.83000200000001,1,0,false,1,{"$error":"#N/A"},1,{"$error":"#N/A"},1,1,1,1,1,1,1,{"$error":"#N/A"},{"$error":"#N/A"},{"$error":"#N/A"},{"$error":"#N/A"},{"$error":"#N/A"},{"$error":"#N/A"},48971.140625,0,0,0,0,0,1,1,1,1,1,1,48971.140625,0,0,0,0,0,false,false,false,false,false,false,false,1,1,1,1,1,1,54.412999999999997,107,0,12.38,1.2377,2.6389999999999998,4322.5569999999998,1,1,19.3505,71,1.2833000000000001,0.9698,20677.012999999999]
["1985-05-01",false,"2012-02-16",false,false,{"$error":"#N/A"},189.550003,1,0,false,1,{"$error":"#N/A"},1,{"$error":"#N/A"},1,1,1,1,1,1,1,{"$error":"#N/A"},{"$error":"#N/A"},{"$error":"#N/A"},{"$error":"#N/A"},{"$error":"#N/A"},{"$error":"#N/A"},48971.140625,0,0,0,0,0,1,1,1,1,1,1,48971.140625,0,0,0,0,0,false,false,false,false,false,false,false,1,1,1,1,1,1,54.412999999999997,107.2,0,12.55,1.2483,2.64,4322.5569999999998,1,1,19.3505,71,1.2833000000000001,0.9698,20677.012999999999]
["1985-06-01",false,"2012-02-23",false,false,{"$error":"#N/A"},191.85000600000001,1,0,false,1,{"$error":"#N/A"},1,{"$error":"#N/A"},1,1,1,1,1,1,1,{"$error":"#N/A"},{"$error":"#N/A"},{"$error":"#N/A"},{"$error":"#N/A"},{"$error":"#N/A"},{"$error":"#N/A"},48971.140625,0,0,0,0,0,1,1,1,1,1,1,48971.140625,0,0,0,0,0,false,false,false,false,false,false,false,1,1,1,1,1,1,54.412999999999997,107.5,0,12.47,1.2807999999999999,2.5750000000000002,4322.5569999999998,1,1,19.3505,71,1.2833000000000001,0.9698,20677.012999999999]
["1985-07-01",false,"2012-03-01",false,false,{"$error":"#N/A"},190.91999799999999,1,0,false,1,{"$error":"#N/A"},1,{"$error":"#N/A"},1,1,1,1,1,1,1,{"$error":"#N/A"},{"$error":"#N/A"},{"$error":"#N/A"},{"$error":"#N/A"},{"$error":"#N/A"},{"$error":"#N/A"},48971.140625,0,0,0,0,0,1,1,1,1,1,1,48971.140625,0,0,0,0,0,false,false,false,false,false,false,false,1,1,1,1,1,1,54.741,107.7,0,12.3,1.3807,2.5489999999999999,4409.2669999999998,1,1,19.3505,71,1.2833000000000001,0.9698,20677.012999999999]
["1985-08-01",false,"2012-03-08",false,false,{"$error":"#N/A"},188.63000500000001,1,0,false,1,{"$error":"#N/A"},1,{"$error":"#N/A"},1,1,1,1,1,1,1,{"$error":"#N/A"},{"$error":"#N/A"},{"$error":"#N/A"},{"$error":"#N/A"},{"$error":"#N/A"},{"$error":"#N/A"},48971.140625,0,0,0,0,0,1,1,1,1,1,1,48971.140625,0,0,0,0,0,false,false,false,false,false,false,false,1,1,1,1,1,1,54.741,107.9,0,11.86,1.3841000000000001,2.3199999999999998,4409.2669999999998,1,1,19.3505,71,1.2833000000000001,0.9698,20677.012999999999]
["1985-09-01",false,"2012-03-15",false,false,{"$error":"#N/A"},182.08000200000001,1,0,false,1,{"$error":"#N/A"},1,{"$error":"#N/A"},1,1,1,1,1,1,1,{"$error":"#N/A"},{"$error":"#N/A"},{"$error":"#N/A"},{"$error":"#N/A"},{"$error":"#N/A"},{"$error":"#N/A"},48971.140625,0,0,0,0,0,1,1,1,1,1,1,48971.140625,0,0,0,0,0,false,false,false,false,false,false,false,1,1,1,1,1,1,54.741,108.1,0,11.96,1.3642000000000001,2.31,4409.2669999999998,1,1,19.3505,71,1.2833000000000001,0.9698,20677.012999999999]
["1985-10-01",false,"2012-03-22",false,false,{"$error":"#N/A"},189.820007,1,0,false,1,{"$error":"#N/A"},1,{"$error":"#N/A"},1,1,1,1,1,1,1,{"$error":"#N/A"},{"$error":"#N/A"},{"$error":"#N/A"},{"$error":"#N/A"},{"$error":"#N/A"},{"$error":"#N/A"},48971.140625,0,0,0,0,0,1,1,1,1,1,1,48971.140625,0,0,0,0,0,false,false,false,false,false,false,false,1,1,1,1,1,1,55.046999999999997,108.5,0,11.92,1.4215,2.1680000000000001,4469.6980000000003,1,1,19.3505,71,1.2833000000000001,0.9698,20677.012999999999]
["1985-11-01",false,"2012-03-29",false,false,{"$error":"#N/A"},202.16999799999999,1,0,false,1,{"$error":"#N/A"},1,{"$error":"#N/A"},1,1,1,1,1,1,1,{"$error":"#N/A"},{"$error":"#N/A"},{"$error":"#N/A"},{"$error":"#N/A"},{"$error":"#N/A"},{"$error":"#N/A"},48971.140625,0,0,0,0,0,1,1,1,1,1,1,48971.140625,0,0,0,0,0,false,false,false,false,false,false,false,1,1,1,1,1,1,55.046999999999997,109,0,12.07,1.4396,2.1360000000000001,4469.6980000000003,1,1,19.3505,71,1.2833000000000001,0.9698,20677.012999999999]
["1985-12-01",false,"2012-04-05",false,false,{"$error":"#N/A"},211.279999,1,0,false,1,{"$error":"#N/A"},1,{"$error":"#N/A"},1,1,1,1,1,1,1,{"$error":"#N/A"},{"$error":"#N/A"},{"$error":"#N/A"},{"$error":"#N/A"},{"$error":"#N/A"},{"$error":"#N/A"},48971.140625,0,0,0,0,0,1,1,1,1,1,1,48971.140625,0,0,0,0,0,false,false,false,false,false,false,false,1,1,1,1,1,1,55.046999999999997,109.5,0,12.05,1.4447000000000001,2.081,4469.6980000000003,1,1,19.3505,71,1.2833000000000001,0.9698,20677.012999999999]
["1986-01-01",false,"2012-04-12",false,false,{"$error":"#N/A"},211.779999,1,0,false,1,{"$error":"#N/A"},1,{"$error":"#N/A"},1,1,1,1,1,1,1,{"$error":"#N/A"},{"$error":"#N/A"},{"$error":"#N/A"},{"$error":"#N/A"},{"$error":"#N/A"},{"$error":"#N/A"},48971.140625,0,0,0,0,0,1,1,1,1,1,1,48971.140625,0,0,0,0,0,false,false,false,false,false,false,false,1,1,1,1,1,1,55.320999999999998,109.9,0,".",1.4244000000000001,".",4530.0529999999999,1,1,19.3505,71,1.2833000000000001,0.9698,20677.012999999999]
["1986-02-01",false,"2012-04-19",false,false,{"$error":"#N/A"},226.91999799999999,1,0,false,1,{"$error":"#N/A"},1,{"$error":"#N/A"},1,1,1,1,1,1,1,{"$error":"#N/A"},{"$error":"#N/A"},{"$error":"#N/A"},{"$error":"#N/A"},{"$error":"#N/A"},{"$error":"#N/A"},48971.140625,0,0,0,0,0,1,1,1,1,1,1,48971.140625,0,0,0,0,0,false,false,false,false,false,false,false,1,1,1,1,1,1,55.320999999999998,109.7,0,12.34,1.4297,2.036,4530.0529999999999,1,1,19.3505,71,1.2833000000000001,0.9698,20677.012999999999]
["1986-03-01",false,"2012-04-26",false,false,{"$error":"#N/A"},238.89999399999999,1,0,false,1,{"$error":"#N/A"},1,{"$error":"#N/A"},1,1,1,1,1,1,1,{"$error":"#N/A"},{"$error":"#N/A"},{"$error":"#N/A"},{"$error":"#N/A"},{"$error":"#N/A"},{"$error":"#N/A"},48971.140625,0,0,0,0,0,1,1,1,1,1,1,48971.140625,0,0,0,0,0,false,false,false,false,false,false,false,1,1,1,1,1,1,55.320999999999998,109.1,0,12.27,1.4674,1.8879999999999999,4530.0529999999999,1,1,19.3505,71,1.2833000000000001,0.9698,20677.012999999999]
["1986-04-01",false,"2012-05-03",false,false,{"$error":"#N/A"},235.520004,1,0,false,1,{"$error":"#N/A"},1,{"$error":"#N/A"},1,1,1,1,1,1,1,{"$error":"#N/A"},{"$error":"#N/A"},{"$error":"#N/A"},{"$error":"#N/A"},{"$error":"#N/A"},{"$error":"#N/A"},48971.140625,0,0,0,0,0,1,1,1,1,1,1,48971.140625,0,0,0,0,0,false,false,false,false,false,false,false,1,1,1,1,1,1,55.530999999999999,108.7,0,12.43,1.4984999999999999,1.952,4560.8339999999998,1,1,19.3505,71,1.2833000000000001,0.9698,20677.012999999999]
["1986-05-01",false,"2012-05-10",false,false,{"$error":"#N/A"},247.35000600000001,1,0,false,1,{"$error":"#N/A"},1,{"$error":"#N/A"},1,1,1,1,1,1,1,{"$error":"#N/A"},{"$error":"#N/A"},{"$error":"#N/A"},{"$error":"#N/A"},{"$error":"#N/A"},{"$error":"#N/A"},48971.140625,0,0,0,0,0,1,1,1,1,1,1,48971.140625,0,0,0,0,0,false,false,false,false,false,false,false,1,1,1,1,1,1,55.530999999999999,109,0,12.35,1.5210999999999999,1.8460000000000001,4560.8339999999998,1,1,19.3505,71,1.2833000000000001,0.9698,20677.012999999999]
["1986-06-01",false,"2012-05-17",false,false,{"$error":"#N/A"},250.83999600000001,1,0,false,1,{"$error":"#N/A"},1,{"$error":"#N/A"},1,1,1,1,1,1,1,{"$error":"#N/A"},{"$error":"#N/A"},{"$error":"#N/A"},{"$error":"#N/A"},{"$error":"#N/A"},{"$error":"#N/A"},48971.140625,0,0,0,0,0,1,1,1,1,1,1,48971.140625,0,0,0,0,0,false,false,false,false,false,false,false,1,1,1,1,1,1,55.530999999999999,109.4,0,12.77,1.5085,1.9335,4560.8339999999998,1,1,19.3505,71,1.2833000000000001,0.9698,20677.012999999999]
["1986-07-01",false,"2012-05-24",false,false,{"$error":"#N/A"},236.11999499999999,1,0,false,1,{"$error":"#N/A"},1,{"$error":"#N/A"},1,1,1,1,1,1,1,{"$error":"#N/A"},{"$error":"#N/A"},{"$error":"#N/A"},{"$error":"#N/A"},{"$error":"#N/A"},{"$error":"#N/A"},48971.140625,0,0,0,0,0,1,1,1,1,1,1,48971.140625,0,0,0,0,0,false,false,false,false,false,false,false,1,1,1,1,1,1,55.758000000000003,109.5,0,12.4,1.5071000000000001,1.7729999999999999,4625.8469999999998,1,1,19.3505,71,1.2833000000000001,0.9698,20677.012999999999]
["1986-08-01",false,"2012-05-31",false,false,{"$error":"#N/A"},252.929993,1,0,false,1,{"$error":"#N/A"},1,{"$error":"#N/A"},1,1,1,1,1,1,1,{"$error":"#N/A"},{"$error":"#N/A"},{"$error":"#N/A"},{"$error":"#N/A"},{"$error":"#N/A"},{"$error":"#N/A"},48971.140625,0,0,0,0,0,1,1,1,1,1,1,48971.140625,0,0,0,0,0,false,false,false,false,false,false,false,1,1,1,1,1,1,55.758000000000003,109.6,0,12.58,1.4861,1.6705000000000001,4625.8469999999998,1,1,19.3505,71,1.2833000000000001,0.9698,20677.012999999999]
["1986-09-01",false,"2012-06-07",false,false,{"$error":"#N/A"},231.320007,1,0,false,1,{"$error":"#N/A"},1,{"$error":"#N/A"},1,1,1,1,1,1,1,{"$error":"#N/A"},{"$error":"#N/A"},{"$error":"#N/A"},{"$error":"#N/A"},{"$error":"#N/A"},{"$error":"#N/A"},48971.140625,0,0,0,0,0,1,1,1,1,1,1,48971.140625,0,0,0,0,0,false,false,false,false,false,false,false,1,1,1,1,1,1,55.758000000000003,110,0,".",1.4698,".",4625.8469999999998,1,1,19.3505,71,1.2833000000000001,0.9698,20677.012999999999]
["1986-10-01",false,"2012-06-14",false,false,{"$error":"#N/A"},243.979996,1,0,false,1,{"$error":"#N/A"},1,{"$error":"#N/A"},1,1,1,1,1,1,1,{"$error":"#N/A"},{"$error":"#N/A"},{"$error":"#N/A"},{"$error":"#N/A"},{"$error":"#N/A"},{"$error":"#N/A"},48971.140625,0,0,0,0,0,1,1,1,1,1,1,48971.140625,0,0,0,0,0,false,false,false,false,false,false,false,1,1,1,1,1,1,56.061999999999998,110.2,0,12.8,1.4263999999999999,1.6405000000000001,4669.6229999999996,1,1,19.3505,71,1.2833000000000001,0.9698,20677.012999999999]
["1986-11-01",false,"2012-06-21",false,false,{"$error":"#N/A"},249.220001,1,0,false,1,{"$error":"#N/A"},1,{"$error":"#N/A"},1,1,1,1,1,1,1,{"$error":"#N/A"},{"$error":"#N/A"},{"$error":"#N/A"},{"$error":"#N/A"},{"$error":"#N/A"},{"$error":"#N/A"},48971.140625,0,0,0,0,0,1,1,1,1,1,1,48971.140625,0,0,0,0,0,false,false,false,false,false,false,false,1,1,1,1,1,1,56.061999999999998,110.4,0,12.98,1.4238,1.7110000000000001,4669.6229999999996,1,1,19.3505,71,1.2833000000000001,0.9698,20677.012999999999]
["1986-12-01",false,"2012-06-28",false,false,{"$error":"#N/A"},242.16999799999999,1,0,false,1,{"$error":"#N/A"},1,{"$error":"#N/A"},1,1,1,1,1,1,1,{"$error":"#N/A"},{"$error":"#N/A"},{"$error":"#N/A"},{"$error":"#N/A"},{"$error":"#N/A"},{"$error":"#N/A"},48971.140625,0,0,0,0,0,1,1,1,1,1,1,48971.140625,0,0,0,0,0,false,false,false,false,false,false,false,1,1,1,1,1,1,56.061999999999998,110.8,0,13.13,1.4393,1.6379999999999999,4669.6229999999996,1,1,19.3505,71,1.2833000000000001,0.9698,20677.012999999999]
["1987-01-01",false,"2012-07-05",false,false,{"$error":"#N/A"},274.07998700000002,1,0,false,1,{"$error":"#N/A"},1,{"$error":"#N/A"},1,1,1,1,1,1,1,{"$error":"#N/A"},{"$error":"#N/A"},{"$error":"#N/A"},{"$error":"#N/A"},{"$error":"#N/A"},{"$error":"#N/A"},48971.140625,0,0,0,0,0,1,1,1,1,1,1,48971.140625,0,0,0,0,0,false,false,false,false,false,false,false,1,1,1,1,1,1,56.417999999999999,111.4,0,".",1.5054000000000001,".",4736.5240000000003,1,1,19.3505,71,1.2833000000000001,0.9698,20677.012999999999]
["1987-02-01",false,"2012-07-12",false,false,{"$error":"#N/A"},284.20001200000002,1,0,false,1,{"$error":"#N/A"},1,{"$error":"#N/A"},1,1,1,1,1,1,1,{"$error":"#N/A"},{"$error":"#N/A"},{"$error":"#N/A"},{"$error":"#N/A"},{"$error":"#N/A"},{"$error":"#N/A"},48971.140625,0,0,0,0,0,1,1,1,1,1,1,48971.140625,0,0,0,0,0,false,false,false,false,false,false,false,1,1,1,1,1,1,56.417999999999999,111.8,0,13.04,1.528,1.546,4736.5240000000003,1,1,19.3505,71,1.2833000000000001,0.9698,20677.012999999999]
["1987-03-01",false,"2012-07-19",false,false,{"$error":"#N/A"},291.70001200000002,1,0,false,1,{"$error":"#N/A"},1,{"$error":"#N/A"},1,1,1,1,1,1,1,{"$error":"#N/A"},{"$error":"#N/A"},{"$error":"#N/A"},{"$error":"#N/A"},{"$error":"#N/A"},{"$error":"#N/A"},48971.140625,0,0,0,0,0,1,1,1,1,1,1,48971.140625,0,0,0,0,0,false,false,false,false,false,false,false,1,1,1,1,1,1,56.417999999999999,112.2,0,13.05,1.5923,1.5385,4736.5240000000003,1,1,19.3505,71,1.2833000000000001,0.9698,20677.012999999999]
["1987-04-01",false,"2012-07-26",false,false,{"$error":"#N/A"},288.35998499999999,1,0,false,1,{"$error":"#N/A"},1,{"$error":"#N/A"},1,1,1,1,1,1,1,{"$error":"#N/A"},{"$error":"#N/A"},{"$error":"#N/A"},{"$error":"#N/A"},{"$error":"#N/A"},{"$error":"#N/A"},48971.140625,0,0,0,0,0,1,1,1,1,1,1,48971.140625,0,0,0,0,0,false,false,false,false,false,false,false,1,1,1,1,1,1,56.808999999999997,112.7,0,12.94,1.6313,1.5215000000000001,4824.2920000000004,1,1,19.3505,71,1.2833000000000001,0.9698,20677.012999999999]
["1987-05-01",false,"2012-08-02",false,false,{"$error":"#N/A"},290.10000600000001,1,0,false,1,{"$error":"#N/A"},1,{"$error":"#N/A"},1,1,1,1,1,1,1,{"$error":"#N/A"},{"$error":"#N/A"},{"$error":"#N/A"},{"$error":"#N/A"},{"$error":"#N/A"},{"$error":"#N/A"},48971.140625,0,0,0,0,0,1,1,1,1,1,1,48971.140625,0,0,0,0,0,false,false,false,false,false,false,false,1,1,1,1,1,1,56.808999999999997,113,0,12.63,1.6666000000000001,1.4610000000000001,4824.2920000000004,1,1,19.3505,71,1.2833000000000001,0.9698,20677.012999999999]
["1987-06-01",{"$f":"IF(B458<=$D$2,EOMONTH(B458,1))","v":false},"2012-08-09",false,false,{"$f":"LOOKUP(D459,A:A,G:G)","v":{"$error":"#N/A"}},{"$f":"IFERROR(LOOKUP($A459,INDIRECT(\"'\"&G$7&\"'!A:A\"),INDIRECT(\"'\"&G$7&\"'!\"&$G$9&\":\"&$G$9)),0)","v":304},{"$f":"IF(H$8,INDEX($BN459:$BT459,H$8),1)","v":1},{"$f":"IF(ISNUMBER(F459),F459,I460)*H459","v":0},false,1,{"$error":"#N/A"},1,{"$error":"#N/A"},1,1,1,1,1,1,1,{"$f":"LOOKUP($A459,INDIRECT(\"'\"&V$5&\"'!A:A\"),INDIRECT(\"'\"&V$5&\"'!\"&V$7&\":\"&V$7))","v":{"$error":"#N/A"}},{"$error":"#N/A"},{"$error":"#N/A"},{"$error":"#N/A"},{"$error":"#N/A"},{"$error":"#N/A"},{"$f":"IF(ISNUMBER(LOOKUP($D459,$A:$A,V:V)),LOOKUP($D459,$A:$A,V:V),AB458)","v":48971.140625},{"$f":"IF(ISNUMBER(LOOKUP($D459,$A:$A,W:W)),LOOKUP($D459,$A:$A,W:W),AC458)","v":0},{"$f":"IF(ISNUMBER(LOOKUP($D459,$A:$A,X:X)),LOOKUP($D459,$A:$A,X:X),AD458)","v":0},{"$f":"IF(ISNUMBER(LOOKUP($D459,$A:$A,Y:Y)),LOOKUP($D459,$A:$A,Y:Y),AE458)","v":0},{"$f":"IF(ISNUMBER(LOOKUP($D459,$A:$A,Z:Z)),LOOKUP($D459,$A:$A,Z:Z),AF458)","v":0},{"$f":"IF(ISNUMBER(LOOKUP($D459,$A:$A,AA:AA)),LOOKUP($D459,$A:$A,AA:AA),AG458)","v":0},1,1,1,1,1,1,{"$f":"IFERROR(IF(ISNUMBER(AB459)>0.1,AB459,AN460)*AH459,AN460)","v":48971.140625},{"$f":"IFERROR(IF(ISNUMBER(AC459)>0.1,AC459,AO460)*AI459,AO460)","v":0},{"$f":"IFERROR(IF(ISNUMBER(AD459)>0.1,AD459,AP460)*AJ459,AP460)","v":0},{"$f":"IFERROR(IF(ISNUMBER(AE459)>0.1,AE459,AQ460)*AK459,AQ460)","v":0},{"$f":"IFERROR(IF(ISNUMBER(AF459)>0.1,AF459,AR460)*AL459,AR460)","v":0},{"$f":"IF(ISNUMBER(AG459)>0.1,AG459,AS460)","v":0},false,{"$f":"IF(E459,IFERROR(LN(AN459/AN458),FALSE))","v":false},{"$f":"IF(E459,IFERROR(LN(AO459/AO458),FALSE))","v":false},{"$f":"IF(E459,IFERROR(LN(AP459/AP458),FALSE))","v":false},{"$f":"IF(E459,IFERROR(LN(AQ459/AQ458),FALSE))","v":false},{"$f":"IF(E459,IFERROR(LN(AR459/AR458),FALSE))","v":false},{"$f":"IF(E459,IFERROR(LN(AS459/AS458),FALSE))","v":false},1,1,1,1,1,1,{"$f":"IFERROR(LOOKUP($A459,INDIRECT(\"'\"&BN$6&\"'!A:A\"),INDIRECT(\"'\"&BN$6&\"'!\"&BN$7&\":\"&BN$7)),0)","v":56.808999999999997},{"$f":"IFERROR(LOOKUP($A459,INDIRECT(\"'\"&BO$6&\"'!A:A\"),INDIRECT(\"'\"&BO$6&\"'!\"&BO$7&\":\"&BO$7)),0)","v":113.5},{"$f":"IFERROR(LOOKUP($A459,INDIRECT(\"'\"&BP$6&\"'!A:A\"),INDIRECT(\"'\"&BP$6&\"'!\"&BP$7&\":\"&BP$7)),0)","v":0},{"$f":"IFERROR(LOOKUP($A459,INDIRECT(\"'\"&BQ$6&\"'!A:A\"),INDIRECT(\"'\"&BQ$6&\"'!\"&BQ$7&\":\"&BQ$7)),0)","v":12.89},{"$f":"IFERROR(LOOKUP($A459,INDIRECT(\"'\"&BR$6&\"'!A:A\"),INDIRECT(\"'\"&BR$6&\"'!\"&BR$7&\":\"&BR$7)),0)","v":1.6288},{"$f":"IFERROR(LOOKUP($A459,INDIRECT(\"'\"&BS$6&\"'!A:A\"),INDIRECT(\"'\"&BS$6&\"'!\"&BS$7&\":\"&BS$7)),0)","v":1.522},{"$f":"IFERROR(LOOKUP($A459,INDIRECT(\"'\"&BT$6&\"'!A:A\"),INDIRECT(\"'\"&BT$6&\"'!\"&BT$7&\":\"&BT$7)),0)","v":4824.2920000000004},{"$f":"IFERROR(1/IFERROR(LOOKUP($D459,$A:$A,BG:BG)*1,0),1)","v":1},{"$f":"IFERROR(1/IFERROR(LOOKUP($D459,$A:$A,BH:BH)*1,0),1)","v":1},19.3505,71,1.2833000000000001,0.9698,20677.012999999999]
["1987-07-01",false,{"$f":"IF(C459<=$D$2,C459+7)","v":"2012-08-16"},false,{"$f":"AND(D460>=$D$4,D459<=$D$2)","v":false},{"$error":"#N/A"},{"$f":"IFERROR(LOOKUP($A460,INDIRECT(\"'\"&G$7&\"'!A:A\"),INDIRECT(\"'\"&G$7&\"'!\"&$G$9&\":\"&$G$9)),0)","v":318.66000400000001},1,0,{"$f":"IFERROR(LN(I460/I459),FALSE)","v":false},1,{"$error":"#N/A"},1,{"$error":"#N/A"},1,1,1,1,1,1,1,{"$error":"#N/A"},{"$error":"#N/A"},{"$error":"#N/A"},{"$error":"#N/A"},{"$error":"#N/A"},{"$error":"#N/A"},48971.140625,0,0,0,0,0,1,1,1,1,1,1,48971.140625,0,0,0,0,0,false,false,false,false,false,false,false,{"$f":"IFERROR(IF($E460,BA459*AN460/AN459,1),1)","v":1},{"$f":"IFERROR(IF($E460,BB459*AO460/AO459,1),1)","v":1},{"$f":"IFERROR(IF($E460,BC459*AP460/AP459,1),1)","v":1},{"$f":"IFERROR(IF($E460,BD459*AQ460/AQ459,1),1)","v":1},{"$f":"IFERROR(IF($E460,BE459*AR460/AR459,1),1)","v":1},{"$f":"IFERROR(IF($E460,BF459*AS460/AS459,1),1)","v":1},57.238999999999997,113.8,0,12.87,1.609,1.5195000000000001,4902.3209999999999,1,1,{"$f":"IFERROR(LOOKUP($D460,$A:$A,BI:BI)*1,BP459)","v":19.3505},{"$f":"IFERROR(LOOKUP($D460,$A:$A,BJ:BJ)*1,BQ459)","v":71},{"$f":"IFERROR(LOOKUP($D460,$A:$A,BK:BK)*1,BR459)","v":1.2833000000000001},{"$f":"IFERROR(LOOKUP($D460,$A:$A,BL:BL)*1,BS459)","v":0.9698},{"$f":"IFERROR(LOOKUP($D460,$A:$A,BM:BM)*1,BT459)","v":20677.012999999999}]
["1987-08-01",false,"2012-08-23",{"$f":"IF($D$6,C461,B461)","v":false},false,{"$error":"#N/A"},329.79998799999998,1,0,false,{"$f":"IF($E461,(K460*I461/I460),1)","v":1},{"$f":"IF(E461,D461,NA())","v":{"$error":"#N/A"}},{"$f":"CHOOSE($M$1,I461,J461,K461)","v":1},{"$f":"L461","v":{"$error":"#N/A"}},{"$f":"M461","v":1},{"$f":"IFERROR(CHOOSE($M$1,AN461,AU461,BA461),1)","v":1},{"$f":"IFERROR(CHOOSE($M$1,AO461,AV461,BB461),1)","v":1},{"$f":"IFERROR(CHOOSE($M$1,AP461,AW461,BC461),1)","v":1},{"$f":"IFERROR(CHOOSE($M$1,AQ461,AX461,BD461),1)","v":1},{"$f":"IFERROR(CHOOSE($M$1,AR461,AY461,BE461),1)","v":1},{"$f":"IFERROR(CHOOSE($M$1,AS461,AZ461,BF461),1)","v":1},{"$error":"#N/A"},{"$error":"#N/A"},{"$error":"#N/A"},{"$error":"#N/A"},{"$error":"#N/A"},{"$error":"#N/A"},48971.140625,0,0,0,0,0,1,1,1,1,1,1,48971.140625,0,0,0,0,0,{"$f":"J461","v":false},false,false,false,false,false,false,1,1,1,1,1,1,57.238999999999997,114.3,0,13.11,1.5995999999999999,1.5385,4902.3209999999999,1,1,19.3505,71,1.2833000000000001,0.9698,20677.012999999999]
["1987-09-01",false,"2012-08-30",false,false,{"$error":"#N/A"},321.82998700000002,1,0,false,1,{"$error":"#N/A"},1,{"$error":"#N/A"},1,1,1,1,1,1,1,{"$error":"#N/A"},{"$error":"#N/A"},{"$error":"#N/A"},{"$error":"#N/A"},{"$error":"#N/A"},{"$error":"#N/A"},48971.140625,0,0,0,0,0,1,1,1,1,1,1,48971.140625,0,0,0,0,0,false,false,false,false,false,false,false,1,1,1,1,1,1,57.238999999999997,114.7,0,12.98,1.6446000000000001,1.4975000000000001,4902.3209999999999,1,1,19.3505,71,1.2833000000000001,0.9698,20677.012999999999]
["1987-10-01",false,"2012-09-06",false,false,{"$error":"#N/A"},251.78999300000001,1,0,false,1,{"$error":"#N/A"},1,{"$error":"#N/A"},1,1,1,1,1,1,1,{"$error":"#N/A"},{"$error":"#N/A"},{"$error":"#N/A"},{"$error":"#N/A"},{"$error":"#N/A"},{"$error":"#N/A"},48971.140625,0,0,0,0,0,1,1,1,1,1,1,48971.140625,0,0,0,0,0,false,false,false,false,false,false,false,1,1,1,1,1,1,57.695,115,0,13.11,1.6619999999999999,1.534,5027.6779999999999,1,1,19.3505,71,1.2833000000000001,0.9698,20677.012999999999]
["1987-11-01",false,"2012-09-13",false,false,{"$error":"#N/A"},230.300003,1,0,false,1,{"$error":"#N/A"},1,{"$error":"#N/A"},1,1,1,1,1,1,1,{"$error":"#N/A"},{"$error":"#N/A"},{"$error":"#N/A"},{"$error":"#N/A"},{"$error":"#N/A"},{"$error":"#N/A"},48971.140625,0,0,0,0,0,1,1,1,1,1,1,48971.140625,0,0,0,0,0,false,false,false,false,false,false,false,1,1,1,1,1,1,57.695,115.4,0,12.99,1.7754000000000001,1.429,5027.6779999999999,1,1,19.3505,71,1.2833000000000001,0.9698,20677.012999999999]
["1987-12-01",false,"2012-09-20",false,false,{"$error":"#N/A"},247.08000200000001,1,0,false,1,{"$error":"#N/A"},1,{"$error":"#N/A"},1,1,1,1,1,1,1,{"$error":"#N/A"},{"$error":"#N/A"},{"$error":"#N/A"},{"$error":"#N/A"},{"$error":"#N/A"},{"$error":"#N/A"},48971.140625,0,0,0,0,0,1,1,1,{"$f":"IF(AK$7,INDEX($BN465:$BT465,AK$7),1)","v":1},1,1,48971.140625,0,0,0,0,0,false,false,false,false,false,false,false,1,1,1,1,1,1,57.695,115.6,0,12.94,1.8288,1.361,5027.6779999999999,1,1,19.3505,71,1.2833000000000001,0.9698,20677.012999999999]
["1988-01-01",false,"2012-09-27",false,false,{"$error":"#N/A"},257.07000699999998,1,0,false,1,{"$error":"#N/A"},1,{"$error":"#N/A"},1,1,1,1,1,1,1,{"$error":"#N/A"},{"$error":"#N/A"},{"$error":"#N/A"},{"$error":"#N/A"},{"$error":"#N/A"},{"$error":"#N/A"},48971.140625,0,0,0,0,0,1,1,1,1,1,1,48971.140625,0,0,0,0,0,false,false,false,false,false,false,false,1,1,1,1,1,1,58.146999999999998,116,0,".",1.8008999999999999,".",5098.3599999999997,1,1,19.3505,71,1.2833000000000001,0.9698,20677.012999999999]
["1988-02-01",false,"2012-10-04",false,false,{"$error":"#N/A"},267.82000699999998,1,0,false,1,{"$error":"#N/A"},1,{"$error":"#N/A"},1,1,1,1,1,1,1,{"$error":"#N/A"},{"$error":"#N/A"},{"$error":"#N/A"},{"$error":"#N/A"},{"$error":"#N/A"},{"$error":"#N/A"},48971.140625,0,0,0,0,0,1,1,1,1,1,1,48971.140625,0,0,0,0,0,false,false,false,false,false,false,false,1,1,1,1,1,1,58.146999999999998,116.2,0,13.1,1.7582,1.3825000000000001,5098.3599999999997,1,1,19.3505,71,1.2833000000000001,0.9698,20677.012999999999]
["1988-03-01",false,"2012-10-11",false,false,{"$error":"#N/A"},258.89001500000001,1,0,false,1,{"$error":"#N/A"},1,{"$error":"#N/A"},1,1,1,1,1,1,1,{"$error":"#N/A"},{"$error":"#N/A"},{"$error":"#N/A"},{"$error":"#N/A"},{"$error":"#N/A"},{"$error":"#N/A"},48971.140625,0,0,0,0,0,1,1,1,1,1,1,48971.140625,0,0,0,0,0,false,false,false,false,false,false,false,1,1,1,1,1,1,58.146999999999998,116.5,0,13.06,1.833,1.3916999999999999,5098.3599999999997,1,1,19.3505,71,1.2833000000000001,0.9698,20677.012999999999]
["1988-04-01",false,"2012-10-18",false,false,{"$error":"#N/A"},261.32998700000002,1,0,false,1,{"$error":"#N/A"},1,{"$error":"#N/A"},1,1,1,1,1,1,1,{"$error":"#N/A"},{"$error":"#N/A"},{"$error":"#N/A"},{"$error":"#N/A"},{"$error":"#N/A"},{"$error":"#N/A"},48971.140625,0,0,0,0,0,1,1,1,1,1,1,48971.140625,0,0,0,0,0,false,false,false,false,false,false,false,1,1,1,1,1,1,58.713000000000001,117.2,0,13,1.8782000000000001,1.365,5212.8519999999999,1,1,19.3505,71,1.2833000000000001,0.9698,20677.012999999999]
["1988-05-01",false,"2012-10-25",false,false,{"$error":"#N/A"},262.16000400000001,1,0,false,1,{"$error":"#N/A"},1,{"$error":"#N/A"},1,1,1,1,1,1,1,{"$error":"#N/A"},{"$error":"#N/A"},{"$error":"#N/A"},{"$error":"#N/A"},{"$error":"#N/A"},{"$error":"#N/A"},48971.140625,0,0,0,0,0,1,1,1,1,1,1,48971.140625,0,0,0,0,0,false,false,false,false,false,false,false,1,1,1,1,1,1,58.713000000000001,117.5,0,13.21,1.8694999999999999,1.3935,5212.8519999999999,1,1,19.3505,71,1.2833000000000001,0.9698,20677.012999999999]
["1988-06-01",false,"2012-11-01",false,false,{"$error":"#N/A"},273.5,1,0,false,1,{"$error":"#N/A"},1,{"$error":"#N/A"},1,1,1,1,1,1,1,{"$error":"#N/A"},{"$error":"#N/A"},{"$error":"#N/A"},{"$error":"#N/A"},{"$error":"#N/A"},{"$error":"#N/A"},48971.140625,0,0,0,0,0,1,1,1,1,1,1,48971.140625,0,0,0,0,0,false,false,false,false,false,false,false,1,1,1,1,1,1,58.713000000000001,118,0,13.51,1.7767999999999999,1.4412,5212.8519999999999,1,1,19.3505,71,1.2833000000000001,0.9698,20677.012999999999]
["1988-07-01",false,"2012-11-08",false,false,{"$error":"#N/A"},272.01998900000001,1,0,false,1,{"$error":"#N/A"},1,{"$error":"#N/A"},1,1,1,1,1,1,1,{"$error":"#N/A"},{"$error":"#N/A"},{"$error":"#N/A"},{"$error":"#N/A"},{"$error":"#N/A"},{"$error":"#N/A"},48971.140625,0,0,0,0,0,1,1,1,1,1,1,48971.140625,0,0,0,0,0,false,false,false,false,false,false,false,1,1,1,1,1,1,59.414999999999999,118.5,0,14.14,1.7051000000000001,1.5135000000000001,5302.9960000000001,1,1,19.3505,71,1.2833000000000001,0.9698,20677.012999999999]
["1988-08-01",false,"2012-11-15",false,false,{"$error":"#N/A"},261.51998900000001,1,0,false,1,{"$error":"#N/A"},1,{"$error":"#N/A"},1,1,1,1,1,1,1,{"$error":"#N/A"},{"$error":"#N/A"},{"$error":"#N/A"},{"$error":"#N/A"},{"$error":"#N/A"},{"$error":"#N/A"},48971.140625,0,0,0,0,0,1,1,1,1,1,1,48971.140625,0,0,0,0,0,false,false,false,false,false,false,false,1,1,1,1,1,1,59.414999999999999,119,0,14.18,1.6964999999999999,1.5620000000000001,5302.9960000000001,1,1,19.3505,71,1.2833000000000001,0.9698,20677.012999999999]
["1988-09-01",false,"2012-11-22",false,false,{"$error":"#N/A"},271.91000400000001,1,0,false,1,{"$error":"#N/A"},1,{"$error":"#N/A"},1,1,1,1,1,1,1,{"$error":"#N/A"},{"$error":"#N/A"},{"$error":"#N/A"},{"$f":"LOOKUP($A474,INDIRECT(\"'\"&Y$5&\"'!A:A\"),INDIRECT(\"'\"&Y$5&\"'!\"&Y$7&\":\"&Y$7))","v":{"$error":"#N/A"}},{"$error":"#N/A"},{"$error":"#N/A"},48971.140625,0,0,0,0,0,1,1,1,1,1,1,48971.140625,0,0,0,0,0,false,false,false,false,false,false,false,1,1,1,1,1,1,59.414999999999999,119.5,0,14.41,1.6839999999999999,1.581,5302.9960000000001,1,1,19.3505,71,1.2833000000000001,0.9698,20677.012999999999]
["1988-10-01",false,"2012-11-29",false,false,{"$error":"#N/A"},278.97000100000002,1,0,false,1,{"$error":"#N/A"},1,{"$error":"#N/A"},1,1,1,1,1,1,1,{"$error":"#N/A"},{"$error":"#N/A"},{"$error":"#N/A"},{"$error":"#N/A"},{"$error":"#N/A"},{"$error":"#N/A"},48971.140625,0,0,0,0,0,1,1,1,1,1,1,48971.140625,0,0,0,0,0,false,false,false,false,false,false,false,1,1,1,1,1,1,59.929000000000002,119.9,0,14.55,1.7387999999999999,1.5834999999999999,5422.1719999999996,1,1,19.3505,71,1.2833000000000001,0.9698,20677.012999999999]
["1988-11-01",false,"2012-12-06",false,false,{"$error":"#N/A"},273.70001200000002,1,0,false,1,{"$error":"#N/A"},1,{"$error":"#N/A"},1,1,1,1,1,1,1,{"$error":"#N/A"},{"$error":"#N/A"},{"$error":"#N/A"},{"$error":"#N/A"},{"$error":"#N/A"},{"$error":"#N/A"},48971.140625,0,0,0,0,0,1,1,1,1,1,1,48971.140625,0,0,0,0,0,false,false,false,false,false,false,false,1,1,1,1,1,1,59.929000000000002,120.3,0,14.88,1.8085,1.5004999999999999,5422.1719999999996,1,1,19.3505,71,1.2833000000000001,0.9698,20677.012999999999]
["1988-12-01",false,"2012-12-13",false,false,{"$error":"#N/A"},277.72000100000002,1,0,false,1,{"$error":"#N/A"},1,{"$error":"#N/A"},1,1,1,1,1,1,1,{"$error":"#N/A"},{"$error":"#N/A"},{"$error":"#N/A"},{"$error":"#N/A"},{"$error":"#N/A"},{"$error":"#N/A"},48971.140625,0,0,0,0,0,1,1,1,1,1,1,48971.140625,0,0,0,0,0,false,false,false,false,false,false,false,1,1,1,1,1,1,59.929000000000002,120.7,0,14.9,1.8258000000000001,1.4524999999999999,5422.1719999999996,1,1,19.3505,71,1.2833000000000001,0.9698,20677.012999999999]
["1989-01-01",false,"2012-12-20",false,false,{"$error":"#N/A"},297.47000100000002,1,0,false,1,{"$error":"#N/A"},1,{"$error":"#N/A"},1,1,1,1,1,1,1,{"$error":"#N/A"},{"$error":"#N/A"},{"$error":"#N/A"},{"$error":"#N/A"},{"$error":"#N/A"},{"$error":"#N/A"},48971.140625,0,0,0,0,0,1,1,1,1,1,1,48971.140625,0,0,0,0,0,false,false,false,false,false,false,false,1,1,1,1,1,1,60.552999999999997,121.2,0,14.99,1.7737000000000001,1.502,5533.6490000000003,1,1,19.3505,71,1.2833000000000001,0.9698,20677.012999999999]
["1989-02-01",false,"2012-12-27",false,false,{"$error":"#N/A"},288.85998499999999,1,0,false,1,{"$error":"#N/A"},1,{"$error":"#N/A"},1,1,1,1,1,1,1,{"$error":"#N/A"},{"$error":"#N/A"},{"$error":"#N/A"},{"$error":"#N/A"},{"$error":"#N/A"},{"$error":"#N/A"},48971.140625,0,0,0,0,0,1,1,1,1,1,1,48971.140625,0,0,0,0,0,false,false,false,false,false,false,false,1,1,1,1,1,1,60.552999999999997,121.6,0,15.2,1.7534000000000001,1.5840000000000001,5533.6490000000003,1,1,19.3505,71,1.2833000000000001,0.9698,20677.012999999999]
["1989-03-01",false,"2013-01-03",false,false,{"$error":"#N/A"},294.86999500000002,1,0,false,1,{"$error":"#N/A"},1,{"$error":"#N/A"},1,1,1,1,1,1,1,{"$error":"#N/A"},{"$error":"#N/A"},{"$error":"#N/A"},{"$error":"#N/A"},{"$error":"#N/A"},{"$error":"#N/A"},48971.140625,0,0,0,0,0,1,1,1,1,1,1,48971.140625,0,0,0,0,0,false,false,false,false,false,false,false,1,1,1,1,1,1,60.552999999999997,122.2,0,15.35,1.7134,1.5685,5533.6490000000003,1,1,19.3505,71,1.2833000000000001,0.9698,20677.012999999999]
["1989-04-01",false,"2013-01-10",false,false,{"$error":"#N/A"},309.64001500000001,1,0,false,1,{"$error":"#N/A"},1,{"$error":"#N/A"},1,1,1,1,1,1,1,{"$error":"#N/A"},{"$error":"#N/A"},{"$error":"#N/A"},{"$error":"#N/A"},{"$error":"#N/A"},{"$error":"#N/A"},48971.140625,0,0,0,0,0,1,1,1,1,1,1,48971.140625,0,0,0,0,0,false,false,false,false,false,false,false,1,1,1,1,1,1,61.198,123.1,0,15.63,1.7008000000000001,1.6625000000000001,5634.1289999999999,1,1,19.3505,71,1.2833000000000001,0.9698,20677.012999999999]
["1989-05-01",false,"2013-01-17",false,false,{"$error":"#N/A"},320.51998900000001,1,0,false,1,{"$error":"#N/A"},1,{"$error":"#N/A"},1,1,1,1,1,1,1,{"$error":"#N/A"},{"$error":"#N/A"},{"$error":"#N/A"},{"$error":"#N/A"},{"$error":"#N/A"},{"$error":"#N/A"},48971.140625,0,0,0,0,0,1,1,1,1,1,1,48971.140625,0,0,0,0,0,false,false,false,false,false,false,false,1,1,1,1,1,1,61.198,123.7,0,15.86,1.6307,1.6895,5634.1289999999999,1,1,19.3505,71,1.2833000000000001,0.9698,20677.012999999999]
["1989-06-01",false,"2013-01-24",false,false,{"$error":"#N/A"},317.98001099999999,1,0,false,1,{"$error":"#N/A"},1,{"$error":"#N/A"},1,1,1,1,1,1,1,{"$error":"#N/A"},{"$error":"#N/A"},{"$error":"#N/A"},{"$error":"#N/A"},{"$error":"#N/A"},{"$error":"#N/A"},48971.140625,0,0,0,0,0,1,1,1,1,1,1,48971.140625,0,0,0,0,0,false,false,false,false,false,false,false,1,1,1,1,1,1,61.198,124.1,0,16.32,1.5529999999999999,1.7050000000000001,5634.1289999999999,1,1,19.3505,71,1.2833000000000001,0.9698,20677.012999999999]
["1989-07-01",false,"2013-01-31",false,false,{"$error":"#N/A"},346.07998700000002,1,0,false,1,{"$error":"#N/A"},1,{"$error":"#N/A"},1,1,1,1,1,1,1,{"$error":"#N/A"},{"$error":"#N/A"},{"$error":"#N/A"},{"$error":"#N/A"},{"$error":"#N/A"},{"$error":"#N/A"},48971.140625,0,0,0,0,0,1,1,1,1,1,1,48971.140625,0,0,0,0,0,false,false,false,false,false,false,false,1,1,1,1,1,1,61.645000000000003,124.5,0,16.489999999999998,1.6268,1.679,5719.6610000000001,1,1,19.3505,71,1.2833000000000001,0.9698,20677.012999999999]
["1989-08-01",false,"2013-02-07",false,false,{"$error":"#N/A"},351.45001200000002,1,0,false,1,{"$error":"#N/A"},1,{"$error":"#N/A"},1,1,1,1,1,1,1,{"$error":"#N/A"},{"$error":"#N/A"},{"$error":"#N/A"},{"$error":"#N/A"},{"$error":"#N/A"},{"$error":"#N/A"},48971.140625,0,0,0,0,0,1,1,1,1,1,1,48971.140625,0,0,0,0,0,false,false,false,false,false,false,false,1,1,1,1,1,1,61.645000000000003,124.5,0,16.46,1.5947,1.6074999999999999,5719.6610000000001,1,1,19.3505,71,1.2833000000000001,0.9698,20677.012999999999]
["1989-09-01",false,"2013-02-14",false,false,{"$error":"#N/A"},349.14999399999999,1,0,false,1,{"$error":"#N/A"},1,{"$error":"#N/A"},1,1,1,1,1,1,1,{"$error":"#N/A"},{"$error":"#N/A"},{"$error":"#N/A"},{"$error":"#N/A"},{"$error":"#N/A"},{"$error":"#N/A"},48971.140625,0,0,0,0,0,1,1,1,1,1,1,48971.140625,0,0,0,0,0,false,false,false,false,false,false,false,1,1,1,1,1,1,61.645000000000003,124.8,0,16.690000000000001,1.5714999999999999,1.71,5719.6610000000001,1,1,19.3505,71,1.2833000000000001,0.9698,20677.012999999999]
["1989-10-01",false,"2013-02-21",false,false,{"$error":"#N/A"},340.35998499999999,1,0,false,1,{"$error":"#N/A"},1,{"$error":"#N/A"},1,1,1,1,1,1,1,{"$error":"#N/A"},{"$error":"#N/A"},{"$error":"#N/A"},{"$error":"#N/A"},{"$error":"#N/A"},{"$error":"#N/A"},48971.140625,0,0,0,0,0,1,1,1,1,1,1,48971.140625,0,0,0,0,0,false,false,false,false,false,false,false,1,1,1,1,1,1,62.084000000000003,125.4,0,16.690000000000001,1.5873999999999999,1.6228,5778.0360000000001,1,1,19.3505,71,1.2833000000000001,0.9698,20677.012999999999]
["1989-11-01",false,"2013-02-28",false,false,{"$error":"#N/A"},345.98998999999998,1,0,false,1,{"$error":"#N/A"},1,{"$error":"#N/A"},1,1,1,1,1,1,1,{"$error":"#N/A"},{"$error":"#N/A"},{"$error":"#N/A"},{"$error":"#N/A"},{"$error":"#N/A"},{"$error":"#N/A"},48971.140625,0,0,0,0,0,1,1,1,1,1,1,48971.140625,0,0,0,0,0,false,false,false,false,false,false,false,1,1,1,1,1,1,62.084000000000003,125.9,0,16.89,1.5726,1.6140000000000001,5778.0360000000001,1,1,19.3505,71,1.2833000000000001,0.9698,20677.012999999999]
["1989-12-01",false,"2013-03-07",false,false,{"$error":"#N/A"},353.39999399999999,1,0,false,1,{"$error":"#N/A"},1,{"$error":"#N/A"},1,1,1,1,1,1,1,{"$error":"#N/A"},{"$error":"#N/A"},{"$error":"#N/A"},{"$error":"#N/A"},{"$error":"#N/A"},{"$error":"#N/A"},48971.140625,0,0,0,0,0,1,1,1,1,1,1,48971.140625,0,0,0,0,0,false,false,false,false,false,false,false,1,1,1,1,1,1,62.084000000000003,126.3,0,16.97,1.5965,1.5925,5778.0360000000001,1,1,19.3505,71,1.2833000000000001,0.9698,20677.012999999999]
["1990-01-01",false,"2013-03-14",false,false,{"$error":"#N/A"},329.07998700000002,1,0,false,1,{"$error":"#N/A"},1,{"$error":"#N/A"},1,1,1,1,1,1,1,{"$error":"#N/A"},{"$error":"#N/A"},{"$error":"#N/A"},{"$error":"#N/A"},{"$error":"#N/A"},{"$error":"#N/A"},48971.140625,0,0,0,0,0,1,1,1,1,1,1,48971.140625,0,0,0,0,0,false,false,false,false,false,false,false,1,1,1,1,1,1,62.753999999999998,127.5,0,".",1.6512,".",5902.22,1,1,19.3505,71,1.2833000000000001,0.9698,20677.012999999999]
["1990-02-01",false,"2013-03-21",false,false,{"$error":"#N/A"},331.89001500000001,1,0,false,1,{"$error":"#N/A"},1,{"$error":"#N/A"},1,1,1,1,1,1,1,{"$error":"#N/A"},{"$error":"#N/A"},{"$error":"#N/A"},{"$error":"#N/A"},{"$error":"#N/A"},{"$error":"#N/A"},48971.140625,0,0,0,0,0,1,1,1,1,1,1,48971.140625,0,0,0,0,0,false,false,false,false,false,false,false,1,1,1,1,1,1,62.753999999999998,128,0,16.96,1.6960999999999999,1.4982,5902.22,1,1,19.3505,71,1.2833000000000001,0.9698,20677.012999999999]
["1990-03-01",false,"2013-03-28",false,false,{"$error":"#N/A"},339.94000199999999,1,0,false,1,{"$error":"#N/A"},1,{"$error":"#N/A"},1,1,1,1,1,1,1,{"$error":"#N/A"},{"$error":"#N/A"},{"$error":"#N/A"},{"$error":"#N/A"},{"$error":"#N/A"},{"$error":"#N/A"},48971.140625,0,0,0,0,0,1,1,1,1,1,1,48971.140625,0,0,0,0,0,false,false,false,false,false,false,false,1,1,1,1,1,1,62.753999999999998,128.6,0,17.07,1.6245000000000001,1.506,5902.22,1,1,19.3505,71,1.2833000000000001,0.9698,20677.012999999999]
["1990-04-01",false,"2013-04-04",false,false,{"$error":"#N/A"},330.79998799999998,1,0,false,1,{"$error":"#N/A"},1,{"$error":"#N/A"},1,1,1,1,1,1,1,{"$error":"#N/A"},{"$error":"#N/A"},{"$error":"#N/A"},{"$error":"#N/A"},{"$error":"#N/A"},{"$error":"#N/A"},48971.140625,0,0,0,0,0,{"$f":"IF(AH$7,INDEX($BN493:$BT493,AH$7),1)","v":1},1,1,1,1,1,48971.140625,0,0,0,0,0,false,false,false,false,false,false,false,1,1,1,1,1,1,63.457000000000001,128.9,0,17.22,1.6372,1.4975000000000001,5991.6509999999998,1,1,19.3505,71,1.2833000000000001,0.9698,20677.012999999999]
["1990-05-01",false,"2013-04-11",false,false,{"$error":"#N/A"},361.23001099999999,1,0,false,1,{"$error":"#N/A"},1,{"$error":"#N/A"},1,1,1,1,1,1,1,{"$error":"#N/A"},{"$error":"#N/A"},{"$error":"#N/A"},{"$error":"#N/A"},{"$error":"#N/A"},{"$error":"#N/A"},48971.140625,0,0,0,0,0,1,1,1,1,1,1,48971.140625,0,0,0,0,0,false,false,false,false,false,false,false,1,1,1,1,1,1,63.457000000000001,129.1,0,17.38,1.6774,1.4555,5991.6509999999998,1,1,19.3505,71,1.2833000000000001,0.9698,20677.012999999999]
["1990-06-01",false,"2013-04-18",false,false,{"$error":"#N/A"},358.01998900000001,1,0,false,1,{"$error":"#N/A"},1,{"$error":"#N/A"},1,1,1,1,1,1,1,{"$error":"#N/A"},{"$error":"#N/A"},{"$error":"#N/A"},{"$error":"#N/A"},{"$error":"#N/A"},{"$error":"#N/A"},48971.140625,0,0,0,0,0,1,1,1,1,1,1,48971.140625,0,0,0,0,0,false,false,false,false,false,false,false,1,1,1,1,1,1,63.457000000000001,129.9,0,17.38,1.7102999999999999,1.4359999999999999,5991.6509999999998,1,1,19.3505,71,1.2833000000000001,0.9698,20677.012999999999]
["1990-07-01",false,"2013-04-25",false,false,{"$error":"#N/A"},356.14999399999999,1,0,false,1,{"$error":"#N/A"},1,{"$error":"#N/A"},1,1,1,1,1,1,1,{"$error":"#N/A"},{"$error":"#N/A"},{"$error":"#N/A"},{"$error":"#N/A"},{"$error":"#N/A"},{"$error":"#N/A"},48971.140625,0,0,0,0,0,1,1,1,1,1,1,48971.140625,0,0,0,0,0,false,false,false,false,false,false,false,1,1,1,1,1,1,64.001000000000005,130.5,0,17.43,1.8098000000000001,1.4155,6042.2529999999997,1,1,19.3505,71,1.2833000000000001,0.9698,20677.012999999999]
["1990-08-01",false,"2013-05-02",false,false,{"$error":"#N/A"},322.55999800000001,1,0,false,1,{"$error":"#N/A"},1,{"$error":"#N/A"},1,1,1,1,1,1,1,{"$error":"#N/A"},{"$error":"#N/A"},{"$error":"#N/A"},{"$error":"#N/A"},{"$error":"#N/A"},{"$error":"#N/A"},48971.140625,0,0,0,0,0,1,1,1,1,1,1,48971.140625,0,0,0,0,0,false,false,false,false,false,false,false,1,1,1,1,1,1,64.001000000000005,131.6,0,17.37,1.9013,1.3554999999999999,6042.2529999999997,1,1,19.3505,71,1.2833000000000001,0.9698,20677.012999999999]
["1990-09-01",false,"2013-05-09",false,false,{"$error":"#N/A"},306.04998799999998,1,0,false,1,{"$error":"#N/A"},1,{"$error":"#N/A"},1,1,1,1,1,1,1,{"$error":"#N/A"},{"$error":"#N/A"},{"$error":"#N/A"},{"$error":"#N/A"},{"$error":"#N/A"},{"$error":"#N/A"},48971.140625,0,0,0,0,0,1,1,1,1,1,1,48971.140625,0,0,0,0,0,false,false,false,false,false,false,false,1,1,1,1,1,1,64.001000000000005,132.5,0,17.52,1.8794,1.3085,6042.2529999999997,1,1,19.3505,71,1.2833000000000001,0.9698,20677.012999999999]
["1990-10-01",false,"2013-05-16",false,false,{"$error":"#N/A"},304,1,0,false,1,{"$error":"#N/A"},1,{"$error":"#N/A"},1,1,1,1,1,1,1,{"$error":"#N/A"},{"$error":"#N/A"},{"$error":"#N/A"},{"$error":"#N/A"},{"$error":"#N/A"},{"$error":"#N/A"},48971.140625,0,0,0,0,0,1,1,1,1,1,1,48971.140625,0,0,0,0,0,false,false,false,false,false,false,false,1,1,1,1,1,1,64.477000000000004,133.4,0,18.059999999999999,1.9456,1.2895000000000001,6055.22,1,1,19.3505,71,1.2833000000000001,0.9698,20677.012999999999]
["1990-11-01",false,"2013-05-23",false,false,{"$error":"#N/A"},322.22000100000002,1,0,false,1,{"$error":"#N/A"},1,{"$error":"#N/A"},1,1,1,1,1,1,1,{"$error":"#N/A"},{"$error":"#N/A"},{"$error":"#N/A"},{"$error":"#N/A"},{"$error":"#N/A"},{"$error":"#N/A"},48971.140625,0,0,0,0,0,1,1,1,1,1,1,48971.140625,0,0,0,0,0,false,false,false,false,false,false,false,1,1,1,1,1,1,64.477000000000004,133.69999999999999,0,18.100000000000001,1.9641999999999999,1.2762,6055.22,1,1,19.3505,71,1.2833000000000001,0.9698,20677.012999999999]
["1990-12-01",false,"2013-05-30",false,false,{"$error":"#N/A"},330.22000100000002,1,0,false,1,{"$error":"#N/A"},1,{"$error":"#N/A"},1,1,1,1,1,1,1,{"$error":"#N/A"},{"$error":"#N/A"},{"$error":"#N/A"},{"$error":"#N/A"},{"$error":"#N/A"},{"$error":"#N/A"},48971.140625,0,0,0,0,0,1,1,1,1,1,1,48971.140625,0,0,0,0,0,false,false,false,false,false,false,false,1,1,1,1,1,1,64.477000000000004,134.19999999999999,0,18.170000000000002,1.9218999999999999,1.2765,6055.22,1,1,19.3505,71,1.2833000000000001,0.9698,20677.012999999999]
["1991-01-01",false,"2013-06-06",false,false,{"$error":"#N/A"},343.92999300000002,1,0,false,1,{"$error":"#N/A"},1,{"$error":"#N/A"},1,1,1,1,1,1,1,{"$error":"#N/A"},{"$error":"#N/A"},{"$error":"#N/A"},{"$error":"#N/A"},{"$error":"#N/A"},{"$error":"#N/A"},48971.140625,0,0,0,0,0,1,1,1,1,1,1,48971.140625,0,0,0,0,0,false,false,false,false,false,false,false,1,1,1,1,1,1,65.108999999999995,134.69999999999999,0,".",1.9346000000000001,".",6074.6360000000004,1,1,19.3505,71,1.2833000000000001,0.9698,20677.012999999999]
["1991-02-01",false,"2013-06-13",false,false,{"$error":"#N/A"},367.07000699999998,1,0,false,1,{"$error":"#N/A"},1,{"$error":"#N/A"},1,1,1,1,1,1,1,{"$error":"#N/A"},{"$error":"#N/A"},{"$error":"#N/A"},{"$error":"#N/A"},{"$error":"#N/A"},{"$error":"#N/A"},48971.140625,0,0,0,0,0,1,1,1,1,1,1,48971.140625,0,0,0,0,0,false,false,false,false,false,false,false,1,1,1,1,1,1,65.108999999999995,134.80000000000001,0,18.600000000000001,1.9641,1.2524999999999999,6074.6360000000004,1,1,19.3505,71,1.2833000000000001,0.9698,20677.012999999999]
["1991-03-01",false,"2013-06-20",false,false,{"$error":"#N/A"},375.22000100000002,1,0,false,1,{"$error":"#N/A"},1,{"$error":"#N/A"},1,1,1,1,1,1,1,{"$error":"#N/A"},{"$error":"#N/A"},{"$error":"#N/A"},{"$error":"#N/A"},{"$error":"#N/A"},{"$error":"#N/A"},48971.140625,0,0,0,0,0,1,1,1,1,1,1,48971.140625,0,0,0,0,0,false,false,false,false,false,false,false,1,1,1,1,1,1,65.108999999999995,134.80000000000001,0,19.079999999999998,1.8213999999999999,1.3320000000000001,6074.6360000000004,1,1,19.3505,71,1.2833000000000001,0.9698,20677.012999999999]
["1991-04-01",false,"2013-06-27",false,false,{"$error":"#N/A"},375.33999599999999,1,0,false,1,{"$error":"#N/A"},1,{"$error":"#N/A"},1,1,1,1,1,1,1,{"$error":"#N/A"},{"$error":"#N/A"},{"$error":"#N/A"},{"$error":"#N/A"},{"$error":"#N/A"},{"$error":"#N/A"},48971.140625,0,0,0,0,0,1,1,1,1,1,1,48971.140625,0,0,0,0,0,false,false,false,false,false,false,false,1,1,1,1,1,1,65.587000000000003,135.1,0,19.61,1.7497,1.4381999999999999,6155.42,1,1,19.3505,71,1.2833000000000001,0.9698,20677.012999999999]
["1991-05-01",false,"2013-07-04",false,false,{"$error":"#N/A"},389.82998700000002,1,0,false,1,{"$error":"#N/A"},1,{"$error":"#N/A"},1,1,1,1,1,1,1,{"$error":"#N/A"},{"$error":"#N/A"},{"$error":"#N/A"},{"$error":"#N/A"},{"$error":"#N/A"},{"$error":"#N/A"},48971.140625,0,0,0,0,0,1,1,1,1,1,1,48971.140625,0,0,0,0,0,false,false,false,false,false,false,false,1,1,1,1,1,1,65.587000000000003,135.6,0,20.2,1.7238,1.4450000000000001,6155.42,1,1,19.3505,71,1.2833000000000001,0.9698,20677.012999999999]
["1991-06-01",false,"2013-07-11",false,false,{"$error":"#N/A"},371.16000400000001,1,0,false,1,{"$error":"#N/A"},1,{"$error":"#N/A"},1,1,1,1,1,1,1,{"$error":"#N/A"},{"$error":"#N/A"},{"$error":"#N/A"},{"$error":"#N/A"},{"$error":"#N/A"},{"$error":"#N/A"},48971.140625,0,0,0,0,0,1,1,1,1,1,1,48971.140625,0,0,0,0,0,false,false,false,false,false,false,false,1,1,1,1,1,1,65.587000000000003,136,0,20.89,1.6496999999999999,1.4822,6155.42,1,1,19.3505,71,1.2833000000000001,0.9698,20677.012999999999]
["1991-07-01",false,"2013-07-18",false,false,{"$error":"#N/A"},387.80999800000001,1,0,false,1,{"$error":"#N/A"},1,{"$error":"#N/A"},1,1,1,1,1,1,1,{"$error":"#N/A"},{"$error":"#N/A"},{"$error":"#N/A"},{"$error":"#N/A"},{"$error":"#N/A"},{"$error":"#N/A"},48971.140625,0,0,0,0,0,1,1,1,1,1,1,48971.140625,0,0,0,0,0,false,false,false,false,false,false,false,1,1,1,1,1,1,66.099000000000004,136.19999999999999,0,23.09,1.6513,1.5649999999999999,6231.0469999999996,1,1,19.3505,71,1.2833000000000001,0.9698,20677.012999999999]
["1991-08-01",false,"2013-07-25",false,false,{"$error":"#N/A"},395.42999300000002,1,0,false,1,{"$error":"#N/A"},1,{"$error":"#N/A"},1,1,1,1,1,1,1,{"$error":"#N/A"},{"$error":"#N/A"},{"$error":"#N/A"},{"$error":"#N/A"},{"$error":"#N/A"},{"$error":"#N/A"},48971.140625,0,0,0,0,0,1,1,1,1,1,1,48971.140625,0,0,0,0,0,false,false,false,false,false,false,false,1,1,1,1,1,1,66.099000000000004,136.6,0,25.74,1.6840999999999999,1.5357000000000001,6231.0469999999996,1,1,19.3505,71,1.2833000000000001,0.9698,20677.012999999999]
["1991-09-01",false,"2013-08-01",false,false,{"$error":"#N/A"},387.85998499999999,1,0,false,1,{"$error":"#N/A"},1,{"$error":"#N/A"},1,1,1,1,1,1,1,{"$error":"#N/A"},{"$error":"#N/A"},{"$error":"#N/A"},{"$error":"#N/A"},{"$error":"#N/A"},{"$error":"#N/A"},48971.140625,0,0,0,0,0,1,1,1,1,1,1,48971.140625,0,0,0,0,0,false,false,false,false,false,false,false,1,1,1,1,1,1,66.099000000000004,137,0,25.82,1.7264999999999999,1.5285,6231.0469999999996,1,1,19.3505,71,1.2833000000000001,0.9698,20677.012999999999]
["1991-10-01",false,"2013-08-08",false,false,{"$error":"#N/A"},392.45001200000002,1,0,false,1,{"$error":"#N/A"},1,{"$error":"#N/A"},1,1,1,1,1,1,1,{"$error":"#N/A"},{"$error":"#N/A"},{"$error":"#N/A"},{"$error":"#N/A"},{"$error":"#N/A"},{"$error":"#N/A"},48971.140625,0,0,0,0,0,1,1,1,1,1,1,48971.140625,0,0,0,0,0,false,false,false,false,false,false,false,1,1,1,1,1,1,66.492000000000004,137.19999999999999,0,25.77,1.7231000000000001,1.452,6297.7610000000004,1,1,19.3505,71,1.2833000000000001,0.9698,20677.012999999999]
["1991-11-01",false,"2013-08-15",false,false,{"$error":"#N/A"},375.22000100000002,1,0,false,1,{"$error":"#N/A"},1,{"$error":"#N/A"},1,1,1,1,1,1,1,1384.1999510000001,{"$error":"#N/A"},{"$error":"#N/A"},{"$error":"#N/A"},{"$error":"#N/A"},{"$error":"#N/A"},48971.140625,0,0,0,0,0,1,1,1,1,1,1,48971.140625,0,0,0,0,0,false,false,false,false,false,false,false,1,1,1,1,1,1,66.492000000000004,137.80000000000001,0,25.85,1.7796000000000001,1.4610000000000001,6297.7610000000004,1,1,19.3505,71,1.2833000000000001,0.9698,20677.012999999999]
["1991-12-01",false,"2013-08-22",false,false,{"$error":"#N/A"},417.08999599999999,1,0,false,1,{"$error":"#N/A"},1,{"$error":"#N/A"},1,1,1,1,1,1,1,1431.5,{"$error":"#N/A"},{"$error":"#N/A"},{"$error":"#N/A"},{"$error":"#N/A"},{"$error":"#N/A"},48971.140625,0,0,0,0,0,1,1,1,1,1,1,48971.140625,0,0,0,0,0,false,false,false,false,false,false,false,1,1,1,1,1,1,66.492000000000004,138.19999999999999,0,25.8,1.8271999999999999,1.4359999999999999,6297.7610000000004,1,1,19.3505,71,1.2833000000000001,0.9698,20677.012999999999]
["1992-01-01",false,"2013-08-29",false,false,{"$error":"#N/A"},408.77999899999998,1,0,false,1,{"$error":"#N/A"},1,{"$error":"#N/A"},1,1,1,1,1,1,1,1623.5,{"$error":"#N/A"},{"$error":"#N/A"},{"$error":"#N/A"},{"$error":"#N/A"},{"$error":"#N/A"},48971.140625,0,0,0,0,0,1,1,1,1,1,1,48971.140625,0,0,0,0,0,false,false,false,false,false,false,false,1,1,1,1,1,1,66.739000000000004,138.30000000000001,0,".",1.8089999999999999,".",6395.8360000000002,1,1,19.3505,71,1.2833000000000001,0.9698,20677.012999999999]
["1992-02-01",false,"2013-09-05",false,false,{"$error":"#N/A"},412.70001200000002,1,0,false,1,{"$error":"#N/A"},1,{"$error":"#N/A"},1,1,1,1,1,1,1,1860.599976,{"$error":"#N/A"},{"$error":"#N/A"},{"$error":"#N/A"},{"$error":"#N/A"},{"$error":"#N/A"},48971.140625,0,0,0,0,0,1,1,1,1,1,1,48971.140625,0,0,0,0,0,false,false,false,false,false,false,false,1,1,1,1,1,1,66.739000000000004,138.6,0,25.95,1.7778,1.429,6395.8360000000002,1,1,19.3505,71,1.2833000000000001,0.9698,20677.012999999999]
["1992-03-01",false,"2013-09-12",false,false,{"$error":"#N/A"},403.69000199999999,1,0,false,1,{"$error":"#N/A"},1,{"$error":"#N/A"},1,1,1,1,1,1,1,1875.6999510000001,{"$error":"#N/A"},{"$error":"#N/A"},{"$error":"#N/A"},{"$error":"#N/A"},{"$error":"#N/A"},48971.140625,0,0,0,0,0,1,1,1,{"$f":"IF(AK$7,INDEX($BN516:$BT516,AK$7),1)","v":1},1,1,48971.140625,0,0,0,0,0,false,false,false,false,false,false,false,1,1,1,1,1,1,66.739000000000004,139.1,0,26.2,1.7238,1.4844999999999999,6395.8360000000002,1,1,19.3505,71,1.2833000000000001,0.9698,20677.012999999999]
["1992-04-01",false,"2013-09-19",false,false,{"$error":"#N/A"},414.95001200000002,1,0,false,1,{"$error":"#N/A"},1,{"$error":"#N/A"},1,1,1,1,1,1,1,1838.3000489999999,{"$error":"#N/A"},{"$error":"#N/A"},{"$error":"#N/A"},{"$error":"#N/A"},{"$error":"#N/A"},48971.140625,0,0,0,0,0,1,1,1,1,1,1,48971.140625,0,0,0,0,0,false,false,false,false,false,false,false,1,1,1,1,1,1,67.14,139.4,0,29,1.7565999999999999,1.5089999999999999,6502.8190000000004,1,1,19.3505,71,1.2833000000000001,0.9698,20677.012999999999]
["1992-05-01",false,"2013-09-26",false,false,{"$error":"#N/A"},415.35000600000001,1,0,false,1,{"$error":"#N/A"},1,{"$error":"#N/A"},1,1,1,1,1,1,1,1892.3000489999999,{"$error":"#N/A"},{"$error":"#N/A"},{"$error":"#N/A"},{"$error":"#N/A"},{"$error":"#N/A"},48971.140625,0,0,0,0,0,1,1,1,1,1,1,48971.140625,0,0,0,0,0,false,false,false,false,false,false,false,1,1,1,1,1,1,67.14,139.69999999999999,0,28.4,1.8095000000000001,1.5009999999999999,6502.8190000000004,1,1,19.3505,71,1.2833000000000001,0.9698,20677.012999999999]
["1992-06-01",false,"2013-10-03",false,false,{"$error":"#N/A"},408.14001500000001,1,0,false,1,{"$error":"#N/A"},1,{"$error":"#N/A"},1,1,1,1,1,1,1,1599.3000489999999,{"$error":"#N/A"},{"$error":"#N/A"},{"$error":"#N/A"},{"$error":"#N/A"},{"$error":"#N/A"},48971.140625,0,0,0,0,0,1,1,1,1,1,1,48971.140625,0,0,0,0,0,false,false,false,false,false,false,false,1,1,1,1,1,1,67.14,140.1,0,28.7,1.8551,1.4617,6502.8190000000004,1,1,19.3505,71,1.2833000000000001,0.9698,20677.012999999999]
["1992-07-01",false,"2013-10-10",false,false,{"$error":"#N/A"},424.209991,1,0,false,1,{"$error":"#N/A"},1,{"$error":"#N/A"},1,1,1,1,1,1,1,1569.6999510000001,{"$error":"#N/A"},{"$error":"#N/A"},{"$error":"#N/A"},{"$error":"#N/A"},{"$error":"#N/A"},48971.140625,0,0,0,0,0,1,1,1,1,1,1,48971.140625,0,0,0,0,0,false,false,false,false,false,false,false,1,1,1,1,1,1,67.468000000000004,140.5,0,28.65,1.9177,1.3665,6595.8509999999997,1,1,19.3505,71,1.2833000000000001,0.9698,20677.012999999999]
["1992-08-01",false,"2013-10-17",false,false,{"$error":"#N/A"},414.02999899999998,1,0,false,1,{"$error":"#N/A"},1,{"$error":"#N/A"},1,1,1,1,1,1,1,1400.400024,{"$error":"#N/A"},{"$error":"#N/A"},{"$error":"#N/A"},{"$error":"#N/A"},{"$error":"#N/A"},48971.140625,0,0,0,0,0,1,1,1,1,1,1,48971.140625,0,0,0,0,0,false,false,false,false,false,false,false,1,1,1,1,1,1,67.468000000000004,140.80000000000001,0,28.48,1.9434,1.3194999999999999,6595.8509999999997,1,1,19.3505,71,1.2833000000000001,0.9698,20677.012999999999]
["1992-09-01",false,"2013-10-24",false,false,{"$error":"#N/A"},417.79998799999998,1,0,false,1,{"$error":"#N/A"},1,{"$error":"#N/A"},1,1,1,1,1,1,1,1327.099976,{"$error":"#N/A"},{"$error":"#N/A"},{"$error":"#N/A"},{"$error":"#N/A"},{"$error":"#N/A"},48971.140625,0,0,0,0,0,1,1,1,1,1,1,48971.140625,0,0,0,0,0,false,false,false,false,false,false,false,1,1,1,1,1,1,67.468000000000004,141.1,0,28.48,1.8465,1.2404999999999999,6595.8509999999997,1,1,19.3505,71,1.2833000000000001,0.9698,20677.012999999999]
["1992-10-01",{"$f":"IF(B522<=$D$2,EOMONTH(B522,1))","v":false},"2013-10-31",false,false,{"$f":"LOOKUP(D523,A:A,G:G)","v":{"$error":"#N/A"}},{"$f":"IFERROR(LOOKUP($A523,INDIRECT(\"'\"&G$7&\"'!A:A\"),INDIRECT(\"'\"&G$7&\"'!\"&$G$9&\":\"&$G$9)),0)","v":418.67999300000002},{"$f":"IF(H$8,INDEX($BN523:$BT523,H$8),1)","v":1},{"$f":"IF(ISNUMBER(F523),F523,I524)*H523","v":0},false,1,{"$error":"#N/A"},1,{"$error":"#N/A"},1,1,1,1,1,1,1,{"$f":"LOOKUP($A523,INDIRECT(\"'\"&V$5&\"'!A:A\"),INDIRECT(\"'\"&V$5&\"'!\"&V$7&\":\"&V$7))","v":1597.3000489999999},{"$error":"#N/A"},{"$error":"#N/A"},{"$error":"#N/A"},{"$error":"#N/A"},{"$error":"#N/A"},{"$f":"IF(ISNUMBER(LOOKUP($D523,$A:$A,V:V)),LOOKUP($D523,$A:$A,V:V),AB522)","v":48971.140625},{"$f":"IF(ISNUMBER(LOOKUP($D523,$A:$A,W:W)),LOOKUP($D523,$A:$A,W:W),AC522)","v":0},{"$f":"IF(ISNUMBER(LOOKUP($D523,$A:$A,X:X)),LOOKUP($D523,$A:$A,X:X),AD522)","v":0},{"$f":"IF(ISNUMBER(LOOKUP($D523,$A:$A,Y:Y)),LOOKUP($D523,$A:$A,Y:Y),AE522)","v":0},{"$f":"IF(ISNUMBER(LOOKUP($D523,$A:$A,Z:Z)),LOOKUP($D523,$A:$A,Z:Z),AF522)","v":0},{"$f":"IF(ISNUMBER(LOOKUP($D523,$A:$A,AA:AA)),LOOKUP($D523,$A:$A,AA:AA),AG522)","v":0},1,1,1,1,1,1,{"$f":"IFERROR(IF(ISNUMBER(AB523)>0.1,AB523,AN524)*AH523,AN524)","v":48971.140625},{"$f":"IFERROR(IF(ISNUMBER(AC523)>0.1,AC523,AO524)*AI523,AO524)","v":0},{"$f":"IFERROR(IF(ISNUMBER(AD523)>0.1,AD523,AP524)*AJ523,AP524)","v":0},{"$f":"IFERROR(IF(ISNUMBER(AE523)>0.1,AE523,AQ524)*AK523,AQ524)","v":0},{"$f":"IFERROR(IF(ISNUMBER(AF523)>0.1,AF523,AR524)*AL523,AR524)","v":0},{"$f":"IF(ISNUMBER(AG523)>0.1,AG523,AS524)","v":0},false,{"$f":"IF(E523,IFERROR(LN(AN523/AN522),FALSE))","v":false},{"$f":"IF(E523,IFERROR(LN(AO523/AO522),FALSE))","v":false},{"$f":"IF(E523,IFERROR(LN(AP523/AP522),FALSE))","v":false},{"$f":"IF(E523,IFERROR(LN(AQ523/AQ522),FALSE))","v":false},{"$f":"IF(E523,IFERROR(LN(AR523/AR522),FALSE))","v":false},{"$f":"IF(E523,IFERROR(LN(AS523/AS522),FALSE))","v":false},1,1,1,1,1,1,{"$f":"IFERROR(LOOKUP($A523,INDIRECT(\"'\"&BN$6&\"'!A:A\"),INDIRECT(\"'\"&BN$6&\"'!\"&BN$7&\":\"&BN$7)),0)","v":67.932000000000002},{"$f":"IFERROR(LOOKUP($A523,INDIRECT(\"'\"&BO$6&\"'!A:A\"),INDIRECT(\"'\"&BO$6&\"'!\"&BO$7&\":\"&BO$7)),0)","v":141.69999999999999},{"$f":"IFERROR(LOOKUP($A523,INDIRECT(\"'\"&BP$6&\"'!A:A\"),INDIRECT(\"'\"&BP$6&\"'!\"&BP$7&\":\"&BP$7)),0)","v":0},{"$f":"IFERROR(LOOKUP($A523,INDIRECT(\"'\"&BQ$6&\"'!A:A\"),INDIRECT(\"'\"&BQ$6&\"'!\"&BQ$7&\":\"&BQ$7)),0)","v":28.48},{"$f":"IFERROR(LOOKUP($A523,INDIRECT(\"'\"&BR$6&\"'!A:A\"),INDIRECT(\"'\"&BR$6&\"'!\"&BR$7&\":\"&BR$7)),0)","v":1.6529},{"$f":"IFERROR(LOOKUP($A523,INDIRECT(\"'\"&BS$6&\"'!A:A\"),INDIRECT(\"'\"&BS$6&\"'!\"&BS$7&\":\"&BS$7)),0)","v":1.2450000000000001},{"$f":"IFERROR(LOOKUP($A523,INDIRECT(\"'\"&BT$6&\"'!A:A\"),INDIRECT(\"'\"&BT$6&\"'!\"&BT$7&\":\"&BT$7)),0)","v":6711.1120000000001},{"$f":"IFERROR(1/IFERROR(LOOKUP($D523,$A:$A,BG:BG)*1,0),1)","v":1},{"$f":"IFERROR(1/IFERROR(LOOKUP($D523,$A:$A,BH:BH)*1,0),1)","v":1},19.3505,71,1.2833000000000001,0.9698,20677.012999999999]
["1992-11-01",false,{"$f":"IF(C523<=$D$2,C523+7)","v":"2013-11-07"},false,{"$f":"AND(D524>=$D$4,D523<=$D$2)","v":false},{"$error":"#N/A"},431.35000600000001,1,0,{"$f":"IFERROR(LN(I524/I523),FALSE)","v":false},1,{"$error":"#N/A"},1,{"$error":"#N/A"},1,1,1,1,1,1,1,1716,{"$error":"#N/A"},{"$error":"#N/A"},{"$error":"#N/A"},{"$error":"#N/A"},{"$error":"#N/A"},48971.140625,0,0,0,0,0,1,1,1,1,1,1,48971.140625,0,0,0,0,0,false,false,false,false,false,false,false,{"$f":"IFERROR(IF($E524,BA523*AN524/AN523,1),1)","v":1},{"$f":"IFERROR(IF($E524,BB523*AO524/AO523,1),1)","v":1},{"$f":"IFERROR(IF($E524,BC523*AP524/AP523,1),1)","v":1},{"$f":"IFERROR(IF($E524,BD523*AQ524/AQ523,1),1)","v":1},{"$f":"IFERROR(IF($E524,BE523*AR524/AR523,1),1)","v":1},{"$f":"IFERROR(IF($E524,BF523*AS524/AS523,1),1)","v":1},67.932000000000002,142.1,0,28.48,1.5267999999999999,1.377,6711.1120000000001,1,1,{"$f":"IFERROR(LOOKUP($D524,$A:$A,BI:BI)*1,BP523)","v":19.3505},{"$f":"IFERROR(LOOKUP($D524,$A:$A,BJ:BJ)*1,BQ523)","v":71},{"$f":"IFERROR(LOOKUP($D524,$A:$A,BK:BK)*1,BR523)","v":1.2833000000000001},{"$f":"IFERROR(LOOKUP($D524,$A:$A,BL:BL)*1,BS523)","v":0.9698},{"$f":"IFERROR(LOOKUP($D524,$A:$A,BM:BM)*1,BT523)","v":20677.012999999999}]
["1992-12-01",false,"2013-11-14",{"$f":"IF($D$6,C525,B525)","v":false},false,{"$error":"#N/A"},435.709991,1,0,false,{"$f":"IF($E525,(K524*I525/I524),1)","v":1},{"$f":"IF(E525,D525,NA())","v":{"$error":"#N/A"}},{"$f":"CHOOSE($M$1,I525,J525,K525)","v":1},{"$f":"L525","v":{"$error":"#N/A"}},{"$f":"M525","v":1},{"$f":"IFERROR(CHOOSE($M$1,AN525,AU525,BA525),1)","v":1},{"$f":"IFERROR(CHOOSE($M$1,AO525,AV525,BB525),1)","v":1},{"$f":"IFERROR(CHOOSE($M$1,AP525,AW525,BC525),1)","v":1},{"$f":"IFERROR(CHOOSE($M$1,AQ525,AX525,BD525),1)","v":1},{"$f":"IFERROR(CHOOSE($M$1,AR525,AY525,BE525),1)","v":1},{"$f":"IFERROR(CHOOSE($M$1,AS525,AZ525,BF525),1)","v":1},1759.400024,{"$error":"#N/A"},{"$error":"#N/A"},{"$f":"LOOKUP($A525,INDIRECT(\"'\"&Y$5&\"'!A:A\"),INDIRECT(\"'\"&Y$5&\"'!\"&Y$7&\":\"&Y$7))","v":{"$error":"#N/A"}},{"$error":"#N/A"},{"$error":"#N/A"},48971.140625,0,0,0,0,0,1,1,1,1,1,1,48971.140625,0,0,0,0,0,{"$f":"J525","v":false},false,false,false,false,false,false,1,1,1,1,1,1,67.932000000000002,142.30000000000001,0,28.6,1.5509999999999999,1.415,6711.1120000000001,1,1,19.3505,71,1.2833000000000001,0.9698,20677.012999999999]
["1993-01-01",false,"2013-11-21",false,false,{"$error":"#N/A"},438.77999899999998,1,0,false,1,{"$error":"#N/A"},1,{"$error":"#N/A"},1,1,1,1,1,1,1,1653.1999510000001,{"$error":"#N/A"},{"$error":"#N/A"},{"$error":"#N/A"},{"$error":"#N/A"},{"$error":"#N/A"},48971.140625,0,0,0,0,0,1,1,1,1,1,1,48971.140625,0,0,0,0,0,false,false,false,false,false,false,false,1,1,1,1,1,1,68.313000000000002,142.80000000000001,0,".",1.5325,".",6766.665,1,1,19.3505,71,1.2833000000000001,0.9698,20677.012999999999]
["1993-02-01",false,"2013-11-28",false,false,{"$error":"#N/A"},443.38000499999998,1,0,false,1,{"$error":"#N/A"},1,{"$error":"#N/A"},1,1,1,1,1,1,1,1546.6999510000001,{"$error":"#N/A"},{"$error":"#N/A"},{"$error":"#N/A"},{"$error":"#N/A"},{"$error":"#N/A"},48971.140625,0,0,0,0,0,1,1,1,1,1,1,48971.140625,0,0,0,0,0,false,false,false,false,false,false,false,1,1,1,1,1,1,68.313000000000002,143.1,0,29.35,1.4395,1.5185,6766.665,1,1,19.3505,71,1.2833000000000001,0.9698,20677.012999999999]
["1993-03-01",false,"2013-12-05",false,false,{"$error":"#N/A"},451.67001299999998,1,0,false,1,{"$error":"#N/A"},1,{"$error":"#N/A"},1,1,1,1,1,1,1,1771.6999510000001,{"$error":"#N/A"},{"$error":"#N/A"},{"$error":"#N/A"},{"$error":"#N/A"},{"$error":"#N/A"},48971.140625,0,0,0,0,0,1,1,1,1,1,1,48971.140625,0,0,0,0,0,false,false,false,false,false,false,false,1,1,1,1,1,1,68.313000000000002,143.30000000000001,0,33.5,1.4617,1.5265,6766.665,1,1,19.3505,71,1.2833000000000001,0.9698,20677.012999999999]
["1993-04-01",false,"2013-12-12",false,false,{"$error":"#N/A"},440.19000199999999,1,0,false,1,{"$error":"#N/A"},1,{"$error":"#N/A"},1,1,1,1,1,1,1,1662.8000489999999,{"$error":"#N/A"},{"$error":"#N/A"},{"$error":"#N/A"},{"$error":"#N/A"},{"$error":"#N/A"},48971.140625,0,0,0,0,0,1,1,1,1,1,1,48971.140625,0,0,0,0,0,false,false,false,false,false,false,false,1,1,1,1,1,1,68.718999999999994,143.80000000000001,0,31.5,1.5447,1.4823999999999999,6839.59,1,1,19.3505,71,1.2833000000000001,0.9698,20677.012999999999]
["1993-05-01",false,"2013-12-19",false,false,{"$error":"#N/A"},450.19000199999999,1,0,false,1,{"$error":"#N/A"},1,{"$error":"#N/A"},1,1,1,1,1,1,1,1613,{"$error":"#N/A"},{"$error":"#N/A"},{"$error":"#N/A"},{"$error":"#N/A"},{"$error":"#N/A"},48971.140625,0,0,0,0,0,1,1,1,1,1,1,48971.140625,0,0,0,0,0,false,false,false,false,false,false,false,1,1,1,1,1,1,68.718999999999994,144.19999999999999,0,31.65,1.5477000000000001,1.4350000000000001,6839.59,1,1,19.3505,71,1.2833000000000001,0.9698,20677.012999999999]
["1993-06-01",false,"2013-12-26",false,false,{"$error":"#N/A"},450.52999899999998,1,0,false,1,{"$error":"#N/A"},1,{"$error":"#N/A"},1,1,1,1,1,1,1,1666.3000489999999,{"$error":"#N/A"},{"$error":"#N/A"},{"$error":"#N/A"},{"$error":"#N/A"},{"$error":"#N/A"},48971.140625,0,0,0,0,0,1,1,1,1,1,1,48971.140625,0,0,0,0,0,false,false,false,false,false,false,false,1,1,1,1,1,1,68.718999999999994,144.30000000000001,0,31.7,1.5082,1.425,6839.59,1,1,19.3505,71,1.2833000000000001,0.9698,20677.012999999999]
["1993-07-01",false,"2014-01-02",false,false,{"$error":"#N/A"},448.13000499999998,1,0,false,1,{"$error":"#N/A"},1,{"$error":"#N/A"},1,1,1,1,1,1,1,1773,{"$error":"#N/A"},{"$error":"#N/A"},{"$error":"#N/A"},{"$error":"#N/A"},{"$error":"#N/A"},48971.140625,0,0,0,0,0,1,1,1,1,1,1,48971.140625,0,0,0,0,0,false,false,false,false,false,false,false,1,1,1,1,1,1,69.128,144.5,0,31.6,1.4955000000000001,1.5065,6918.2539999999999,1,1,19.3505,71,1.2833000000000001,0.9698,20677.012999999999]
["1993-08-01",false,"2014-01-09",false,false,{"$error":"#N/A"},463.55999800000001,1,0,false,1,{"$error":"#N/A"},1,{"$error":"#N/A"},1,1,1,1,1,1,1,1902.8000489999999,{"$error":"#N/A"},{"$error":"#N/A"},{"$error":"#N/A"},{"$error":"#N/A"},{"$error":"#N/A"},48971.140625,0,0,0,0,0,1,1,1,1,1,1,48971.140625,0,0,0,0,0,false,false,false,false,false,false,false,1,1,1,1,1,1,69.128,144.80000000000001,0,31.6,1.4914000000000001,1.5229999999999999,6918.2539999999999,1,1,19.3505,71,1.2833000000000001,0.9698,20677.012999999999]
["1993-09-01",false,"2014-01-16",false,false,{"$error":"#N/A"},458.92999300000002,1,0,false,1,{"$error":"#N/A"},1,{"$error":"#N/A"},1,1,1,1,1,1,1,1834.400024,{"$error":"#N/A"},{"$error":"#N/A"},{"$error":"#N/A"},{"$error":"#N/A"},{"$error":"#N/A"},48971.140625,0,0,0,0,0,1,1,1,1,1,1,48971.140625,0,0,0,0,0,false,false,false,false,false,false,false,1,1,1,1,1,1,69.128,145,0,31.63,1.5247999999999999,1.4590000000000001,6918.2539999999999,1,1,19.3505,71,1.2833000000000001,0.9698,20677.012999999999]
["1993-10-01",false,"2014-01-23",false,false,{"$error":"#N/A"},467.82998700000002,1,0,false,1,{"$error":"#N/A"},1,{"$error":"#N/A"},1,1,1,1,1,1,1,2016.400024,{"$error":"#N/A"},{"$error":"#N/A"},{"$error":"#N/A"},{"$error":"#N/A"},{"$error":"#N/A"},48971.140625,0,0,0,0,0,1,1,1,1,1,1,48971.140625,0,0,0,0,0,false,false,false,false,false,false,false,1,1,1,1,1,1,69.504999999999995,145.6,0,31.53,1.5023,1.4247000000000001,7034.3559999999998,1,1,19.3505,71,1.2833000000000001,0.9698,20677.012999999999]
["1993-11-01",false,"2014-01-30",false,false,{"$error":"#N/A"},461.790009,1,0,false,1,{"$error":"#N/A"},1,{"$error":"#N/A"},1,1,1,1,1,1,1,2212.8000489999999,{"$error":"#N/A"},{"$error":"#N/A"},{"$error":"#N/A"},{"$error":"#N/A"},{"$error":"#N/A"},48971.140625,0,0,0,0,0,1,1,1,1,1,1,48971.140625,0,0,0,0,0,false,false,false,false,false,false,false,1,1,1,1,1,1,69.504999999999995,146,3.1497999999999999,31.43,1.4807999999999999,1.5015000000000001,7034.3559999999998,1,1,19.3505,71,1.2833000000000001,0.9698,20677.012999999999]
["1993-12-01",false,"2014-02-06",false,false,{"$error":"#N/A"},466.45001200000002,1,0,false,1,{"$error":"#N/A"},1,{"$error":"#N/A"},1,1,1,1,1,1,1,2603,{"$error":"#N/A"},{"$error":"#N/A"},{"$error":"#N/A"},{"$error":"#N/A"},{"$error":"#N/A"},48971.140625,0,0,0,0,0,1,1,1,1,1,1,48971.140625,0,0,0,0,0,false,false,false,false,false,false,false,1,1,1,1,1,1,69.504999999999995,146.30000000000001,3.1082999999999998,31.44,1.4913000000000001,1.4964999999999999,7034.3559999999998,1,1,19.3505,71,1.2833000000000001,0.9698,20677.012999999999]
["1994-01-01",false,"2014-02-13",false,false,{"$error":"#N/A"},481.60998499999999,1,0,false,1,{"$error":"#N/A"},1,{"$error":"#N/A"},1,1,1,1,1,1,1,2783.3000489999999,{"$error":"#N/A"},{"$error":"#N/A"},{"$error":"#N/A"},{"$error":"#N/A"},{"$error":"#N/A"},48971.140625,0,0,0,0,0,1,1,1,1,1,1,48971.140625,0,0,0,0,0,false,false,false,false,false,false,false,1,1,1,1,1,1,69.837000000000003,146.30000000000001,3.1078000000000001,31.44,1.4923,1.488,7143.0110000000004,1,1,19.3505,71,1.2833000000000001,0.9698,20677.012999999999]
["1994-02-01",false,"2014-02-20",false,false,{"$error":"#N/A"},467.14001500000001,1,0,false,1,{"$error":"#N/A"},1,{"$error":"#N/A"},1,1,1,1,1,1,1,2585.3999020000001,{"$error":"#N/A"},{"$error":"#N/A"},{"$error":"#N/A"},{"$error":"#N/A"},{"$error":"#N/A"},48971.140625,0,0,0,0,0,1,1,1,1,1,1,48971.140625,0,0,0,0,0,false,false,false,false,false,false,false,1,1,1,1,1,1,69.837000000000003,146.69999999999999,3.1217999999999999,31.44,1.4792000000000001,1.45,7143.0110000000004,1,1,19.3505,71,1.2833000000000001,0.9698,20677.012999999999]
["1994-03-01",false,"2014-02-27",false,false,{"$error":"#N/A"},445.76998900000001,1,0,false,1,{"$error":"#N/A"},1,{"$error":"#N/A"},1,1,1,1,1,1,1,2410.3999020000001,{"$error":"#N/A"},{"$error":"#N/A"},{"$error":"#N/A"},{"$error":"#N/A"},{"$error":"#N/A"},48971.140625,0,0,0,0,0,1,1,1,1,1,1,48971.140625,0,0,0,0,0,false,false,false,false,false,false,false,1,1,1,1,1,1,69.837000000000003,147.1,3.3026,31.72,1.4919,1.44,7143.0110000000004,1,1,19.3505,71,1.2833000000000001,0.9698,20677.012999999999]
["1994-04-01",false,"2014-03-06",false,false,{"$error":"#N/A"},450.91000400000001,1,0,false,1,{"$error":"#N/A"},1,{"$error":"#N/A"},1,1,1,1,1,1,1,2295.5,{"$error":"#N/A"},{"$error":"#N/A"},{"$error":"#N/A"},{"$error":"#N/A"},{"$error":"#N/A"},48971.140625,0,0,0,0,0,1,1,1,1,1,1,48971.140625,0,0,0,0,0,false,false,false,false,false,false,false,1,1,1,1,1,1,70.174000000000007,147.19999999999999,3.3494999999999999,31.42,1.4823,1.4265000000000001,7269.7790000000005,1,1,19.3505,71,1.2833000000000001,0.9698,20677.012999999999]
["1994-05-01",false,"2014-03-13",false,false,{"$error":"#N/A"},456.5,1,0,false,1,{"$error":"#N/A"},1,{"$error":"#N/A"},1,1,1,1,1,1,1,2477.6999510000001,{"$error":"#N/A"},{"$error":"#N/A"},{"$error":"#N/A"},{"$error":"#N/A"},{"$error":"#N/A"},48971.140625,0,0,0,0,0,1,1,1,1,1,1,48971.140625,0,0,0,0,0,false,false,false,false,false,false,false,1,1,1,1,1,1,70.174000000000007,147.5,3.3167,31.37,1.5042,1.411,7269.7790000000005,1,1,19.3505,71,1.2833000000000001,0.9698,20677.012999999999]
["1994-06-01",false,"2014-03-20",false,false,{"$error":"#N/A"},444.26998900000001,1,0,false,1,{"$error":"#N/A"},1,{"$error":"#N/A"},1,1,1,1,1,1,1,2258.1999510000001,{"$error":"#N/A"},{"$error":"#N/A"},{"$error":"#N/A"},{"$error":"#N/A"},{"$error":"#N/A"},48971.140625,0,0,0,0,0,1,1,1,1,1,1,48971.140625,0,0,0,0,0,false,false,false,false,false,false,false,1,1,1,1,1,1,70.174000000000007,147.9,3.3671000000000002,31.38,1.5262,1.4005000000000001,7269.7790000000005,1,1,19.3505,71,1.2833000000000001,0.9698,20677.012999999999]
["1994-07-01",false,"2014-03-27",false,false,{"$error":"#N/A"},458.26001000000002,1,0,false,1,{"$error":"#N/A"},1,{"$error":"#N/A"},1,1,1,1,1,1,1,2461,{"$error":"#N/A"},{"$error":"#N/A"},{"$error":"#N/A"},{"$error":"#N/A"},{"$error":"#N/A"},48971.140625,0,0,0,0,0,1,1,1,1,1,1,48971.140625,0,0,0,0,0,false,false,false,false,false,false,false,1,1,1,1,1,1,70.576999999999998,148.4,3.4030999999999998,31.372499999999999,1.5467,1.3354999999999999,7352.37,1,1,19.3505,71,1.2833000000000001,0.9698,20677.012999999999]
["1994-08-01",false,"2014-04-03",false,false,{"$error":"#N/A"},475.48998999999998,1,0,false,1,{"$error":"#N/A"},1,{"$error":"#N/A"},1,1,1,1,1,1,1,2710,{"$error":"#N/A"},{"$error":"#N/A"},{"$error":"#N/A"},{"$error":"#N/A"},{"$error":"#N/A"},48971.140625,0,0,0,0,0,1,1,1,1,1,1,48971.140625,0,0,0,0,0,false,false,false,false,false,false,false,1,1,1,1,1,1,70.576999999999998,149,3.3814000000000002,31.372499999999999,1.5422,1.3314999999999999,7352.37,1,1,19.3505,71,1.2833000000000001,0.9698,20677.012999999999]
["1994-09-01",false,"2014-04-10",false,false,{"$error":"#N/A"},462.709991,1,0,false,1,{"$error":"#N/A"},1,{"$error":"#N/A"},1,1,1,1,1,1,1,2746.1000979999999,{"$error":"#N/A"},{"$error":"#N/A"},{"$error":"#N/A"},{"$error":"#N/A"},{"$error":"#N/A"},48971.140625,0,0,0,0,0,1,1,1,1,1,1,48971.140625,0,0,0,0,0,false,false,false,false,false,false,false,1,1,1,1,1,1,70.576999999999998,149.30000000000001,3.4022000000000001,31.375,1.5661,1.3240000000000001,7352.37,1,1,19.3505,71,1.2833000000000001,0.9698,20677.012999999999]
["1994-10-01",false,"2014-04-17",false,false,{"$error":"#N/A"},472.35000600000001,1,0,false,1,{"$error":"#N/A"},1,{"$error":"#N/A"},1,1,1,1,1,1,1,2552.1000979999999,{"$error":"#N/A"},{"$error":"#N/A"},{"$error":"#N/A"},{"$error":"#N/A"},{"$error":"#N/A"},48971.140625,0,0,0,0,0,1,1,1,1,1,1,48971.140625,0,0,0,0,0,false,false,false,false,false,false,false,1,1,1,1,1,1,70.959999999999994,149.4,3.4211999999999998,31.3675,1.6064000000000001,1.2865,7475.65,1,1,19.3505,71,1.2833000000000001,0.9698,20677.012999999999]
["1994-11-01",false,"2014-04-24",false,false,{"$error":"#N/A"},453.69000199999999,1,0,false,1,{"$error":"#N/A"},1,{"$error":"#N/A"},1,1,1,1,1,1,1,2591.3000489999999,{"$error":"#N/A"},{"$error":"#N/A"},{"$error":"#N/A"},{"$error":"#N/A"},{"$error":"#N/A"},48971.140625,0,0,0,0,0,1,1,1,1,1,1,48971.140625,0,0,0,0,0,false,false,false,false,false,false,false,1,1,1,1,1,1,70.959999999999994,149.80000000000001,3.4424999999999999,31.39,1.5891999999999999,1.248,7475.65,1,1,19.3505,71,1.2833000000000001,0.9698,20677.012999999999]
["1994-12-01",false,"2014-05-01",false,false,{"$error":"#N/A"},459.26998900000001,1,0,false,1,{"$error":"#N/A"},1,{"$error":"#N/A"},1,1,1,1,1,1,1,2373,{"$error":"#N/A"},{"$error":"#N/A"},{"$error":"#N/A"},{"$error":"#N/A"},{"$error":"#N/A"},48971.140625,0,0,0,0,0,1,1,1,1,1,1,48971.140625,0,0,0,0,0,false,false,false,false,false,false,false,1,1,1,1,1,1,70.959999999999994,150.1,3.9748000000000001,31.422499999999999,1.5587,1.3305,7475.65,1,1,19.3505,71,1.2833000000000001,0.9698,20677.012999999999]
["1995-01-01",false,"2014-05-08",false,false,{"$error":"#N/A"},470.42001299999998,1,0,false,1,{"$error":"#N/A"},1,{"$error":"#N/A"},1,1,1,1,1,1,1,2067.6000979999999,{"$error":"#N/A"},{"$error":"#N/A"},{"$error":"#N/A"},{"$error":"#N/A"},{"$error":"#N/A"},48971.140625,0,0,0,0,0,1,1,1,1,1,1,48971.140625,0,0,0,0,0,false,false,false,false,false,false,false,1,1,1,1,1,1,71.343999999999994,150.5,5.6405000000000003,31.372499999999999,1.5746,1.31,7552.116,1,1,19.3505,71,1.2833000000000001,0.9698,20677.012999999999]
["1995-02-01",false,"2014-05-15",false,false,{"$error":"#N/A"},487.39001500000001,1,0,false,1,{"$error":"#N/A"},1,{"$error":"#N/A"},1,1,1,1,1,1,1,1533.1999510000001,{"$error":"#N/A"},{"$error":"#N/A"},{"$error":"#N/A"},{"$error":"#N/A"},{"$error":"#N/A"},48971.140625,0,0,0,0,0,1,1,1,1,1,1,48971.140625,0,0,0,0,0,false,false,false,false,false,false,false,1,1,1,1,1,1,71.343999999999994,150.9,5.6779000000000002,31.372499999999999,1.5720000000000001,1.2889999999999999,7552.116,1,1,19.3505,71,1.2833000000000001,0.9698,20677.012999999999]
["1995-03-01",false,"2014-05-22",false,false,{"$error":"#N/A"},500.709991,1,0,false,1,{"$error":"#N/A"},1,{"$error":"#N/A"},1,1,1,1,1,1,1,1826.400024,{"$error":"#N/A"},{"$error":"#N/A"},{"$error":"#N/A"},{"$error":"#N/A"},{"$error":"#N/A"},48971.140625,0,0,0,0,0,1,1,1,1,1,1,48971.140625,0,0,0,0,0,false,false,false,false,false,false,false,1,1,1,1,1,1,71.343999999999994,151.19999999999999,6.7770000000000001,31.414999999999999,1.6002000000000001,1.2404999999999999,7552.116,1,1,19.3505,71,1.2833000000000001,0.9698,20677.012999999999]
["1995-04-01",false,"2014-05-29",false,false,{"$error":"#N/A"},514.71002199999998,1,0,false,1,{"$error":"#N/A"},1,{"$error":"#N/A"},1,1,1,1,1,1,1,1969.5,{"$error":"#N/A"},{"$error":"#N/A"},{"$error":"#N/A"},{"$error":"#N/A"},{"$error":"#N/A"},48971.140625,0,0,0,0,0,1,1,1,1,1,1,48971.140625,0,0,0,0,0,false,false,false,false,false,false,false,1,1,1,1,1,1,71.686999999999998,151.80000000000001,6.2285000000000004,31.43,1.6073,1.133,7613.6379999999999,1,1,19.3505,71,1.2833000000000001,0.9698,20677.012999999999]
["1995-05-01",false,"2014-06-05",false,false,{"$error":"#N/A"},533.40002400000003,1,0,false,1,{"$error":"#N/A"},1,{"$error":"#N/A"},1,1,1,1,1,1,1,1934.5,{"$error":"#N/A"},{"$error":"#N/A"},{"$error":"#N/A"},{"$error":"#N/A"},{"$error":"#N/A"},48971.140625,0,0,0,0,0,1,1,1,1,1,1,48971.140625,0,0,0,0,0,false,false,false,false,false,false,false,1,1,1,1,1,1,71.686999999999998,152.1,5.9741,31.44,1.5873999999999999,1.1459999999999999,7613.6379999999999,1,1,19.3505,71,1.2833000000000001,0.9698,20677.012999999999]
["1995-06-01",false,"2014-06-12",false,false,{"$error":"#N/A"},544.75,1,0,false,1,{"$error":"#N/A"},1,{"$error":"#N/A"},1,1,1,1,1,1,1,2195.8999020000001,{"$error":"#N/A"},{"$error":"#N/A"},{"$error":"#N/A"},{"$error":"#N/A"},{"$error":"#N/A"},48971.140625,0,0,0,0,0,1,1,1,1,1,1,48971.140625,0,0,0,0,0,false,false,false,false,false,false,false,1,1,1,1,1,1,71.686999999999998,152.4,6.2329999999999997,31.42,1.5948,1.171,7613.6379999999999,1,1,19.3505,71,1.2833000000000001,0.9698,20677.012999999999]
["1995-07-01",false,"2014-06-19",false,false,{"$error":"#N/A"},562.05999799999995,1,0,false,1,{"$error":"#N/A"},1,{"$error":"#N/A"},1,1,1,1,1,1,1,2369.1000979999999,{"$error":"#N/A"},{"$error":"#N/A"},{"$error":"#N/A"},{"$error":"#N/A"},{"$error":"#N/A"},48971.140625,0,0,0,0,0,1,1,1,1,1,1,48971.140625,0,0,0,0,0,false,false,false,false,false,false,false,1,1,1,1,1,1,72.040000000000006,152.6,6.1219999999999999,31.41,1.5952,1.1515,7701.9769999999999,1,1,19.3505,71,1.2833000000000001,0.9698,20677.012999999999]
["1995-08-01",false,"2014-06-26",false,false,{"$error":"#N/A"},561.88000499999998,1,0,false,1,{"$error":"#N/A"},1,{"$error":"#N/A"},1,1,1,1,1,1,1,2505.1999510000001,{"$error":"#N/A"},{"$error":"#N/A"},{"$error":"#N/A"},{"$error":"#N/A"},{"$error":"#N/A"},48971.140625,0,0,0,0,0,{"$f":"IF(AH$7,INDEX($BN557:$BT557,AH$7),1)","v":1},1,1,1,1,1,48971.140625,0,0,0,0,0,false,false,false,false,false,false,false,1,1,1,1,1,1,72.040000000000006,152.9,6.2046999999999999,31.42,1.5668,1.1459999999999999,7701.9769999999999,1,1,19.3505,71,1.2833000000000001,0.9698,20677.012999999999]
["1995-09-01",false,"2014-07-03",false,false,{"$error":"#N/A"},584.40997300000004,1,0,false,1,{"$error":"#N/A"},1,{"$error":"#N/A"},1,1,1,1,1,1,1,2392.3000489999999,{"$error":"#N/A"},{"$error":"#N/A"},{"$error":"#N/A"},{"$error":"#N/A"},{"$error":"#N/A"},48971.140625,0,0,0,0,0,1,1,1,1,1,1,48971.140625,0,0,0,0,0,false,false,false,false,false,false,false,1,1,1,1,1,1,72.040000000000006,153.1,6.3167,31.925000000000001,1.5589999999999999,1.2010000000000001,7701.9769999999999,1,1,19.3505,71,1.2833000000000001,0.9698,20677.012999999999]
["1995-10-01",false,"2014-07-10",false,false,{"$error":"#N/A"},581.5,1,0,false,1,{"$error":"#N/A"},1,{"$error":"#N/A"},1,1,1,1,1,1,1,2308.1000979999999,{"$error":"#N/A"},{"$error":"#N/A"},{"$error":"#N/A"},{"$error":"#N/A"},{"$error":"#N/A"},48971.140625,0,0,0,0,0,1,1,1,1,1,1,48971.140625,0,0,0,0,0,false,false,false,false,false,false,false,1,1,1,1,1,1,72.387,153.5,6.7451999999999996,33.94,1.5779000000000001,1.1559999999999999,7803.0730000000003,1,1,19.3505,71,1.2833000000000001,0.9698,20677.012999999999]
["1995-11-01",false,"2014-07-17",false,false,{"$error":"#N/A"},605.36999500000002,1,0,false,1,{"$error":"#N/A"},1,{"$error":"#N/A"},1,1,1,1,1,1,1,2689,{"$error":"#N/A"},{"$error":"#N/A"},{"$error":"#N/A"},{"$error":"#N/A"},{"$error":"#N/A"},48971.140625,0,0,0,0,0,1,1,1,1,1,1,48971.140625,0,0,0,0,0,false,false,false,false,false,false,false,1,1,1,1,1,1,72.387,153.69999999999999,7.6936,34.6,1.5625,1.1395,7803.0730000000003,1,1,19.3505,71,1.2833000000000001,0.9698,20677.012999999999]
["1995-12-01",false,"2014-07-24",false,false,{"$error":"#N/A"},615.92999299999997,1,0,false,1,{"$error":"#N/A"},1,{"$error":"#N/A"},1,1,1,1,1,1,1,2778.5,{"$error":"#N/A"},{"$error":"#N/A"},{"$error":"#N/A"},{"$error":"#N/A"},{"$error":"#N/A"},48971.140625,0,0,0,0,0,1,1,1,1,1,1,48971.140625,0,0,0,0,0,false,false,false,false,false,false,false,1,1,1,1,1,1,72.387,153.9,7.6870000000000003,34.93,1.5405,1.1739999999999999,7803.0730000000003,1,1,19.3505,71,1.2833000000000001,0.9698,20677.012999999999]
["1996-01-01",false,"2014-07-31",false,false,{"$error":"#N/A"},636.02002000000005,1,0,false,1,{"$error":"#N/A"},1,{"$error":"#N/A"},1,1,1,1,1,1,1,3034.6999510000001,{"$error":"#N/A"},{"$error":"#N/A"},{"$error":"#N/A"},{"$error":"#N/A"},{"$error":"#N/A"},48971.140625,0,0,0,0,0,1,1,1,1,1,1,48971.140625,0,0,0,0,0,false,false,false,false,false,false,false,1,1,1,1,1,1,72.736000000000004,154.69999999999999,7.4805999999999999,".",1.5287999999999999,".",7905.7349999999997,1,1,19.3505,71,1.2833000000000001,0.9698,20677.012999999999]
["1996-02-01",false,"2014-08-07",false,false,{"$error":"#N/A"},640.42999299999997,1,0,false,1,{"$error":"#N/A"},1,{"$error":"#N/A"},1,1,1,1,1,1,1,2832.5,{"$error":"#N/A"},{"$error":"#N/A"},{"$error":"#N/A"},{"$error":"#N/A"},{"$error":"#N/A"},48971.140625,0,0,0,0,0,1,1,1,1,1,1,48971.140625,0,0,0,0,0,false,false,false,false,false,false,false,1,1,1,1,1,1,72.736000000000004,155,7.5183,36.61,1.536,1.2195,7905.7349999999997,1,1,19.3505,71,1.2833000000000001,0.9698,20677.012999999999]
["1996-03-01",false,"2014-08-14",false,false,{"$error":"#N/A"},645.5,1,0,false,1,{"$error":"#N/A"},1,{"$error":"#N/A"},1,1,1,1,1,1,1,3072.3999020000001,{"$error":"#N/A"},{"$error":"#N/A"},{"$error":"#N/A"},{"$error":"#N/A"},{"$error":"#N/A"},48971.140625,0,0,0,0,0,1,1,1,1,1,1,48971.140625,0,0,0,0,0,false,false,false,false,false,false,false,1,1,1,1,1,1,72.736000000000004,155.5,7.5682,34.6,1.5270999999999999,1.2053,7905.7349999999997,1,1,19.3505,71,1.2833000000000001,0.9698,20677.012999999999]
["1996-04-01",false,"2014-08-21",false,false,{"$error":"#N/A"},654.169983,1,0,false,1,{"$error":"#N/A"},1,{"$error":"#N/A"},1,1,1,1,1,1,1,3187.1999510000001,{"$error":"#N/A"},{"$error":"#N/A"},{"$error":"#N/A"},{"$error":"#N/A"},{"$error":"#N/A"},48971.140625,0,0,0,0,0,1,1,1,1,1,1,48971.140625,0,0,0,0,0,false,false,false,false,false,false,false,1,1,1,1,1,1,73.037000000000006,156.1,7.4694000000000003,34.25,1.516,1.1948000000000001,8061.8459999999995,1,1,19.3505,71,1.2833000000000001,0.9698,20677.012999999999]
["1996-05-01",false,"2014-08-28",false,false,{"$error":"#N/A"},669.11999500000002,1,0,false,1,{"$error":"#N/A"},1,{"$error":"#N/A"},1,1,1,1,1,1,1,3205.5,{"$error":"#N/A"},{"$error":"#N/A"},{"$error":"#N/A"},{"$error":"#N/A"},{"$error":"#N/A"},48971.140625,0,0,0,0,0,1,1,1,1,1,1,48971.140625,0,0,0,0,0,false,false,false,false,false,false,false,1,1,1,1,1,1,73.037000000000006,156.4,7.4367999999999999,34.799999999999997,1.5152000000000001,1.2497,8061.8459999999995,1,1,19.3505,71,1.2833000000000001,0.9698,20677.012999999999]
["1996-06-01",false,"2014-09-04",false,false,{"$error":"#N/A"},670.63000499999998,1,0,false,1,{"$error":"#N/A"},1,{"$error":"#N/A"},1,1,1,1,1,1,1,3210.8000489999999,{"$error":"#N/A"},{"$error":"#N/A"},{"$error":"#N/A"},{"$error":"#N/A"},{"$error":"#N/A"},48971.140625,0,0,0,0,0,1,1,1,{"$f":"IF(AK$7,INDEX($BN567:$BT567,AK$7),1)","v":1},1,1,48971.140625,0,0,0,0,0,false,false,false,false,false,false,false,1,1,1,1,1,1,73.037000000000006,156.69999999999999,7.5648,35.229999999999997,1.5416000000000001,1.2509999999999999,8061.8459999999995,1,1,19.3505,71,1.2833000000000001,0.9698,20677.012999999999]
["1996-07-01",false,"2014-09-11",false,false,{"$error":"#N/A"},639.95001200000002,1,0,false,1,{"$error":"#N/A"},1,{"$error":"#N/A"},1,1,1,1,1,1,1,3007.1999510000001,{"$error":"#N/A"},{"$error":"#N/A"},{"$error":"#N/A"},{"$error":"#N/A"},{"$error":"#N/A"},48971.140625,0,0,0,0,0,1,1,1,1,1,1,48971.140625,0,0,0,0,0,false,false,false,false,false,false,false,1,1,1,1,1,1,73.275999999999996,157,7.6178999999999997,35.1,1.5529999999999999,1.2495000000000001,8157.22,1,1,19.3505,71,1.2833000000000001,0.9698,20677.012999999999]
["1996-08-01",false,"2014-09-18",false,false,{"$error":"#N/A"},651.98999000000003,1,0,false,1,{"$error":"#N/A"},1,{"$error":"#N/A"},1,1,1,1,1,1,1,3305.5,{"$error":"#N/A"},{"$error":"#N/A"},{"$error":"#N/A"},{"$error":"#N/A"},{"$error":"#N/A"},48971.140625,0,0,0,0,0,1,1,1,1,1,1,48971.140625,0,0,0,0,0,false,false,false,false,false,false,false,1,1,1,1,1,1,73.275999999999996,157.19999999999999,7.5143000000000004,35.65,1.5499000000000001,1.2008000000000001,8157.22,1,1,19.3505,71,1.2833000000000001,0.9698,20677.012999999999]
["1996-09-01",false,"2014-09-25",false,false,{"$error":"#N/A"},687.330017,1,0,false,1,{"$error":"#N/A"},1,{"$error":"#N/A"},1,1,1,1,1,1,1,3236.3000489999999,{"$error":"#N/A"},{"$error":"#N/A"},{"$error":"#N/A"},{"$error":"#N/A"},{"$error":"#N/A"},48971.140625,0,0,0,0,0,1,1,1,1,1,1,48971.140625,0,0,0,0,0,false,false,false,false,false,false,false,1,1,1,1,1,1,73.275999999999996,157.69999999999999,7.5441000000000003,35.85,1.5592999999999999,1.2009000000000001,8157.22,1,1,19.3505,71,1.2833000000000001,0.9698,20677.012999999999]
["1996-10-01",false,"2014-10-02",false,false,{"$error":"#N/A"},705.27002000000005,1,0,false,1,{"$error":"#N/A"},1,{"$error":"#N/A"},1,1,1,1,1,1,1,3213.3000489999999,{"$error":"#N/A"},{"$error":"#N/A"},{"$error":"#N/A"},{"$error":"#N/A"},{"$error":"#N/A"},48971.140625,0,0,0,0,0,1,1,1,1,1,1,48971.140625,0,0,0,0,0,false,false,false,false,false,false,false,1,1,1,1,1,1,73.668000000000006,158.19999999999999,7.7344999999999997,35.85,1.5863,1.2544999999999999,8291.1630000000005,1,1,19.3505,71,1.2833000000000001,0.9698,20677.012999999999]
["1996-11-01",false,"2014-10-09",false,false,{"$error":"#N/A"},757.02002000000005,1,0,false,1,{"$error":"#N/A"},1,{"$error":"#N/A"},1,1,1,1,1,1,1,3277.3999020000001,{"$error":"#N/A"},{"$error":"#N/A"},{"$error":"#N/A"},{"$error":"#N/A"},{"$error":"#N/A"},48971.140625,0,0,0,0,0,1,1,1,1,1,1,48971.140625,0,0,0,0,0,false,false,false,false,false,false,false,1,1,1,1,1,1,73.668000000000006,158.69999999999999,7.9119000000000002,35.840000000000003,1.6623000000000001,1.27,8291.1630000000005,1,1,19.3505,71,1.2833000000000001,0.9698,20677.012999999999]
["1996-12-01",false,"2014-10-16",false,false,{"$error":"#N/A"},740.73999000000003,1,0,false,1,{"$error":"#N/A"},1,{"$error":"#N/A"},1,1,1,1,1,1,1,3361,{"$error":"#N/A"},{"$error":"#N/A"},{"$error":"#N/A"},{"$error":"#N/A"},{"$error":"#N/A"},48971.140625,0,0,0,0,0,1,1,1,1,1,1,48971.140625,0,0,0,0,0,false,false,false,false,false,false,false,1,1,1,1,1,1,73.668000000000006,159.1,7.8769,35.747,1.6638999999999999,1.3032999999999999,8291.1630000000005,1,1,19.3505,71,1.2833000000000001,0.9698,20677.012999999999]
["1997-01-01",false,"2014-10-23",false,false,{"$error":"#N/A"},786.15997300000004,1,0,false,1,{"$error":"#N/A"},1,{"$error":"#N/A"},1,1,1,1,1,1,1,3647.1000979999999,{"$error":"#N/A"},{"$error":"#N/A"},{"$error":"#N/A"},{"$error":"#N/A"},{"$error":"#N/A"},48971.140625,0,0,0,0,0,1,1,1,1,1,1,48971.140625,0,0,0,0,0,false,false,false,false,false,false,false,1,1,1,1,1,1,74.106999999999999,159.4,7.8289,".",1.6585000000000001,".",8385.7729999999992,1,1,19.3505,71,1.2833000000000001,0.9698,20677.012999999999]
["1997-02-01",false,"2014-10-30",false,false,{"$error":"#N/A"},790.82000700000003,1,0,false,1,{"$error":"#N/A"},1,{"$error":"#N/A"},1,1,1,1,1,1,1,3841,{"$error":"#N/A"},{"$error":"#N/A"},{"$error":"#N/A"},{"$error":"#N/A"},{"$error":"#N/A"},48971.140625,0,0,0,0,0,1,1,1,1,1,1,48971.140625,0,0,0,0,0,false,false,false,false,false,false,false,1,1,1,1,1,1,74.106999999999999,159.69999999999999,7.8022999999999998,35.9,1.6255999999999999,1.419,8385.7729999999992,1,1,19.3505,71,1.2833000000000001,0.9698,20677.012999999999]
["1997-03-01",false,"2014-11-06",false,false,{"$error":"#N/A"},757.11999500000002,1,0,false,1,{"$error":"#N/A"},1,{"$error":"#N/A"},1,1,1,1,1,1,1,3748,{"$error":"#N/A"},{"$error":"#N/A"},{"$f":"LOOKUP($A576,INDIRECT(\"'\"&Y$5&\"'!A:A\"),INDIRECT(\"'\"&Y$5&\"'!\"&Y$7&\":\"&Y$7))","v":{"$error":"#N/A"}},{"$error":"#N/A"},{"$error":"#N/A"},48971.140625,0,0,0,0,0,1,1,1,1,1,1,48971.140625,0,0,0,0,0,false,false,false,false,false,false,false,1,1,1,1,1,1,74.106999999999999,159.80000000000001,7.9561999999999999,35.909999999999997,1.6095999999999999,1.4735,8385.7729999999992,1,1,19.3505,71,1.2833000000000001,0.9698,20677.012999999999]
["1997-04-01",false,"2014-11-13",false,false,{"$error":"#N/A"},801.34002699999996,1,0,false,1,{"$error":"#N/A"},1,{"$error":"#N/A"},1,1,1,1,1,1,1,3756.6000979999999,{"$error":"#N/A"},{"$error":"#N/A"},{"$error":"#N/A"},{"$error":"#N/A"},{"$error":"#N/A"},48971.140625,0,0,0,0,0,1,1,1,1,1,1,48971.140625,0,0,0,0,0,false,false,false,false,false,false,false,1,1,1,1,1,1,74.257000000000005,159.9,7.9058999999999999,35.89,1.6293,1.4427000000000001,8549.5030000000006,1,1,19.3505,71,1.2833000000000001,0.9698,20677.012999999999]
["1997-05-01",false,"2014-11-20",false,false,{"$error":"#N/A"},848.28002900000001,1,0,false,1,{"$error":"#N/A"},1,{"$error":"#N/A"},1,1,1,1,1,1,1,3968.8000489999999,{"$error":"#N/A"},{"$error":"#N/A"},{"$error":"#N/A"},{"$error":"#N/A"},{"$error":"#N/A"},48971.140625,0,0,0,0,0,1,1,1,1,1,1,48971.140625,0,0,0,0,0,false,false,false,false,false,false,false,1,1,1,1,1,1,74.257000000000005,159.9,7.9036999999999997,35.770000000000003,1.6322000000000001,1.4684999999999999,8549.5030000000006,1,1,19.3505,71,1.2833000000000001,0.9698,20677.012999999999]
["1997-06-01",false,"2014-11-27",false,false,{"$error":"#N/A"},885.14001499999995,1,0,false,1,{"$error":"#N/A"},1,{"$error":"#N/A"},1,1,1,1,1,1,1,4458,{"$error":"#N/A"},{"$error":"#N/A"},{"$error":"#N/A"},{"$error":"#N/A"},{"$error":"#N/A"},48971.140625,0,0,0,0,0,1,1,1,1,1,1,48971.140625,0,0,0,0,0,false,false,false,false,false,false,false,1,1,1,1,1,1,74.257000000000005,160.19999999999999,7.9497999999999998,35.799999999999997,1.6449,1.4145000000000001,8549.5030000000006,1,1,19.3505,71,1.2833000000000001,0.9698,20677.012999999999]
["1997-07-01",false,"2014-12-04",false,false,{"$error":"#N/A"},954.30999799999995,1,0,false,1,{"$error":"#N/A"},1,{"$error":"#N/A"},1,1,1,1,1,1,1,5067.7998049999997,{"$error":"#N/A"},{"$error":"#N/A"},{"$error":"#N/A"},{"$error":"#N/A"},{"$error":"#N/A"},48971.140625,0,0,0,0,0,1,1,1,1,1,1,48971.140625,0,0,0,0,0,false,false,false,false,false,false,false,1,1,1,1,1,1,74.578999999999994,160.4,7.8678999999999997,35.83,1.6694,1.4590000000000001,8685.9030000000002,1,1,19.3505,71,1.2833000000000001,0.9698,20677.012999999999]
["1997-08-01",false,"2014-12-11",false,false,{"$error":"#N/A"},899.46997099999999,1,0,false,1,{"$error":"#N/A"},1,{"$error":"#N/A"},1,1,1,1,1,1,1,4648.3999020000001,{"$error":"#N/A"},{"$error":"#N/A"},{"$error":"#N/A"},{"$error":"#N/A"},{"$error":"#N/A"},48971.140625,0,0,0,0,0,1,1,1,1,1,1,48971.140625,0,0,0,0,0,false,false,false,false,false,false,false,1,1,1,1,1,1,74.578999999999994,160.80000000000001,7.7817999999999996,35.799999999999997,1.6034999999999999,1.526,8685.9030000000002,1,1,19.3505,71,1.2833000000000001,0.9698,20677.012999999999]
["1997-09-01",false,"2014-12-18",false,false,{"$error":"#N/A"},947.28002900000001,1,0,false,1,{"$error":"#N/A"},1,{"$error":"#N/A"},1,1,1,1,1,1,1,5321.5,{"$error":"#N/A"},{"$error":"#N/A"},{"$error":"#N/A"},{"$error":"#N/A"},{"$error":"#N/A"},48971.140625,0,0,0,0,0,1,1,1,1,1,1,48971.140625,0,0,0,0,0,false,false,false,false,false,false,false,1,1,1,1,1,1,74.578999999999994,161.19999999999999,7.7808999999999999,".",1.6012999999999999,".",8685.9030000000002,1,1,19.3505,71,1.2833000000000001,0.9698,20677.012999999999]
["1997-10-01",false,"2014-12-25",false,false,{"$error":"#N/A"},914.61999500000002,1,0,false,1,{"$error":"#N/A"},1,{"$error":"#N/A"},1,1,1,1,1,1,1,4647.7998049999997,{"$error":"#N/A"},{"$error":"#N/A"},{"$error":"#N/A"},{"$error":"#N/A"},{"$error":"#N/A"},48971.140625,0,0,0,0,0,1,1,1,1,1,1,48971.140625,0,0,0,0,0,false,false,false,false,false,false,false,1,1,1,1,1,1,74.823999999999998,161.5,7.8708,36.200000000000003,1.633,1.4609000000000001,8782.2309999999998,1,1,19.3505,71,1.2833000000000001,0.9698,20677.012999999999]
["1997-11-01",false,"2015-01-01",false,false,{"$error":"#N/A"},955.40002400000003,1,0,false,1,{"$error":"#N/A"},1,{"$error":"#N/A"},1,1,1,1,1,1,1,4974.6000979999999,{"$error":"#N/A"},{"$error":"#N/A"},{"$error":"#N/A"},{"$error":"#N/A"},{"$error":"#N/A"},48971.140625,0,0,0,0,0,1,1,1,1,1,1,48971.140625,0,0,0,0,0,false,false,false,false,false,false,false,1,1,1,1,1,1,74.823999999999998,161.69999999999999,8.2715999999999994,36.39,1.6889000000000001,1.3995,8782.2309999999998,1,1,19.3505,71,1.2833000000000001,0.9698,20677.012999999999]
["1997-12-01",false,"2015-01-08",false,false,{"$error":"#N/A"},970.42999299999997,1,0,false,1,{"$error":"#N/A"},1,{"$error":"#N/A"},1,1,1,1,1,1,1,5229.3999020000001,{"$error":"#N/A"},{"$error":"#N/A"},{"$error":"#N/A"},{"$error":"#N/A"},{"$error":"#N/A"},48971.140625,0,0,0,0,0,1,1,1,1,1,1,48971.140625,0,0,0,0,0,false,false,false,false,false,false,false,1,1,1,1,1,1,74.823999999999998,161.80000000000001,8.1271000000000004,39.450000000000003,1.6597,1.4330000000000001,8782.2309999999998,1,1,19.3505,71,1.2833000000000001,0.9698,20677.012999999999]
["1998-01-01",false,"2015-01-15",false,false,{"$error":"#N/A"},980.28002900000001,1,0,false,1,{"$error":"#N/A"},1,{"$error":"#N/A"},1,1,1,1,1,1,1,4569.3999020000001,{"$error":"#N/A"},{"$error":"#N/A"},{"$error":"#N/A"},{"$error":"#N/A"},{"$error":"#N/A"},48971.140625,0,0,0,0,0,1,1,1,1,1,1,48971.140625,0,0,0,0,0,false,false,false,false,false,false,false,1,1,1,1,1,1,74.933000000000007,162,8.2271999999999998,".",1.635,".",8891.8340000000007,1,1,19.3505,71,1.2833000000000001,0.9698,20677.012999999999]
["1998-02-01",{"$f":"IF(B586<=$D$2,EOMONTH(B586,1))","v":false},"2015-01-22",false,false,{"$f":"LOOKUP(D587,A:A,G:G)","v":{"$error":"#N/A"}},{"$f":"IFERROR(LOOKUP($A587,INDIRECT(\"'\"&G$7&\"'!A:A\"),INDIRECT(\"'\"&G$7&\"'!\"&$G$9&\":\"&$G$9)),0)","v":1049.339966},{"$f":"IF(H$8,INDEX($BN587:$BT587,H$8),1)","v":1},{"$f":"IF(ISNUMBER(F587),F587,I588)*H587","v":0},false,1,{"$error":"#N/A"},1,{"$error":"#N/A"},1,1,1,1,1,1,1,{"$f":"LOOKUP($A587,INDIRECT(\"'\"&V$5&\"'!A:A\"),INDIRECT(\"'\"&V$5&\"'!\"&V$7&\":\"&V$7))","v":4784.5},{"$error":"#N/A"},{"$error":"#N/A"},{"$error":"#N/A"},{"$error":"#N/A"},{"$error":"#N/A"},{"$f":"IF(ISNUMBER(LOOKUP($D587,$A:$A,V:V)),LOOKUP($D587,$A:$A,V:V),AB586)","v":48971.140625},{"$f":"IF(ISNUMBER(LOOKUP($D587,$A:$A,W:W)),LOOKUP($D587,$A:$A,W:W),AC586)","v":0},{"$f":"IF(ISNUMBER(LOOKUP($D587,$A:$A,X:X)),LOOKUP($D587,$A:$A,X:X),AD586)","v":0},{"$f":"IF(ISNUMBER(LOOKUP($D587,$A:$A,Y:Y)),LOOKUP($D587,$A:$A,Y:Y),AE586)","v":0},{"$f":"IF(ISNUMBER(LOOKUP($D587,$A:$A,Z:Z)),LOOKUP($D587,$A:$A,Z:Z),AF586)","v":0},{"$f":"IF(ISNUMBER(LOOKUP($D587,$A:$A,AA:AA)),LOOKUP($D587,$A:$A,AA:AA),AG586)","v":0},1,1,1,1,1,1,{"$f":"IFERROR(IF(ISNUMBER(AB587)>0.1,AB587,AN588)*AH587,AN588)","v":48971.140625},{"$f":"IFERROR(IF(ISNUMBER(AC587)>0.1,AC587,AO588)*AI587,AO588)","v":0},{"$f":"IFERROR(IF(ISNUMBER(AD587)>0.1,AD587,AP588)*AJ587,AP588)","v":0},{"$f":"IFERROR(IF(ISNUMBER(AE587)>0.1,AE587,AQ588)*AK587,AQ588)","v":0},{"$f":"IFERROR(IF(ISNUMBER(AF587)>0.1,AF587,AR588)*AL587,AR588)","v":0},{"$f":"IF(ISNUMBER(AG587)>0.1,AG587,AS588)","v":0},false,{"$f":"IF(E587,IFERROR(LN(AN587/AN586),FALSE))","v":false},{"$f":"IF(E587,IFERROR(LN(AO587/AO586),FALSE))","v":false},{"$f":"IF(E587,IFERROR(LN(AP587/AP586),FALSE))","v":false},{"$f":"IF(E587,IFERROR(LN(AQ587/AQ586),FALSE))","v":false},{"$f":"IF(E587,IFERROR(LN(AR587/AR586),FALSE))","v":false},{"$f":"IF(E587,IFERROR(LN(AS587/AS586),FALSE))","v":false},1,1,1,1,1,1,{"$f":"IFERROR(LOOKUP($A587,INDIRECT(\"'\"&BN$6&\"'!A:A\"),INDIRECT(\"'\"&BN$6&\"'!\"&BN$7&\":\"&BN$7)),0)","v":74.933000000000007},{"$f":"IFERROR(LOOKUP($A587,INDIRECT(\"'\"&BO$6&\"'!A:A\"),INDIRECT(\"'\"&BO$6&\"'!\"&BO$7&\":\"&BO$7)),0)","v":162},{"$f":"IFERROR(LOOKUP($A587,INDIRECT(\"'\"&BP$6&\"'!A:A\"),INDIRECT(\"'\"&BP$6&\"'!\"&BP$7&\":\"&BP$7)),0)","v":8.5021000000000004},{"$f":"IFERROR(LOOKUP($A587,INDIRECT(\"'\"&BQ$6&\"'!A:A\"),INDIRECT(\"'\"&BQ$6&\"'!\"&BQ$7&\":\"&BQ$7)),0)","v":38.799999999999997},{"$f":"IFERROR(LOOKUP($A587,INDIRECT(\"'\"&BR$6&\"'!A:A\"),INDIRECT(\"'\"&BR$6&\"'!\"&BR$7&\":\"&BR$7)),0)","v":1.6408},{"$f":"IFERROR(LOOKUP($A587,INDIRECT(\"'\"&BS$6&\"'!A:A\"),INDIRECT(\"'\"&BS$6&\"'!\"&BS$7&\":\"&BS$7)),0)","v":1.482},{"$f":"IFERROR(LOOKUP($A587,INDIRECT(\"'\"&BT$6&\"'!A:A\"),INDIRECT(\"'\"&BT$6&\"'!\"&BT$7&\":\"&BT$7)),0)","v":8891.8340000000007},{"$f":"IFERROR(1/IFERROR(LOOKUP($D587,$A:$A,BG:BG)*1,0),1)","v":1},{"$f":"IFERROR(1/IFERROR(LOOKUP($D587,$A:$A,BH:BH)*1,0),1)","v":1},19.3505,71,1.2833000000000001,0.9698,20677.012999999999]
["1998-03-01",false,{"$f":"IF(C587<=$D$2,C587+7)","v":"2015-01-29"},false,{"$f":"AND(D588>=$D$4,D587<=$D$2)","v":false},{"$error":"#N/A"},1101.75,1,0,{"$f":"IFERROR(LN(I588/I587),FALSE)","v":false},1,{"$error":"#N/A"},1,{"$error":"#N/A"},1,1,1,1,1,1,1,5016.2001950000003,{"$error":"#N/A"},{"$error":"#N/A"},{"$error":"#N/A"},{"$error":"#N/A"},{"$error":"#N/A"},48971.140625,0,0,0,0,0,1,1,1,1,1,1,48971.140625,0,0,0,0,0,false,false,false,false,false,false,false,{"$f":"IFERROR(IF($E588,BA587*AN588/AN587,1),1)","v":1},{"$f":"IFERROR(IF($E588,BB587*AO588/AO587,1),1)","v":1},{"$f":"IFERROR(IF($E588,BC587*AP588/AP587,1),1)","v":1},{"$f":"IFERROR(IF($E588,BD587*AQ588/AQ587,1),1)","v":1},{"$f":"IFERROR(IF($E588,BE587*AR588/AR587,1),1)","v":1},{"$f":"IFERROR(IF($E588,BF587*AS588/AS587,1),1)","v":1},74.933000000000007,162,8.5680999999999994,39.450000000000003,1.6618999999999999,1.4661999999999999,8891.8340000000007,1,1,{"$f":"IFERROR(LOOKUP($D588,$A:$A,BI:BI)*1,BP587)","v":19.3505},{"$f":"IFERROR(LOOKUP($D588,$A:$A,BJ:BJ)*1,BQ587)","v":71},{"$f":"IFERROR(LOOKUP($D588,$A:$A,BK:BK)*1,BR587)","v":1.2833000000000001},{"$f":"IFERROR(LOOKUP($D588,$A:$A,BL:BL)*1,BS587)","v":0.9698},{"$f":"IFERROR(LOOKUP($D588,$A:$A,BM:BM)*1,BT587)","v":20677.012999999999}]
["1998-04-01",false,"2015-02-05",{"$f":"IF($D$6,C589,B589)","v":false},false,{"$error":"#N/A"},1111.75,1,0,false,{"$f":"IF($E589,(K588*I589/I588),1)","v":1},{"$f":"IF(E589,D589,NA())","v":{"$error":"#N/A"}},{"$f":"CHOOSE($M$1,I589,J589,K589)","v":1},{"$f":"L589","v":{"$error":"#N/A"}},{"$f":"M589","v":1},{"$f":"IFERROR(CHOOSE($M$1,AN589,AU589,BA589),1)","v":1},{"$f":"IFERROR(CHOOSE($M$1,AO589,AV589,BB589),1)","v":1},{"$f":"IFERROR(CHOOSE($M$1,AP589,AW589,BC589),1)","v":1},{"$f":"IFERROR(CHOOSE($M$1,AQ589,AX589,BD589),1)","v":1},{"$f":"IFERROR(CHOOSE($M$1,AR589,AY589,BE589),1)","v":1},{"$f":"IFERROR(CHOOSE($M$1,AS589,AZ589,BF589),1)","v":1},5098.5297849999997,{"$error":"#N/A"},{"$error":"#N/A"},{"$error":"#N/A"},{"$error":"#N/A"},{"$error":"#N/A"},48971.140625,0,0,0,0,0,1,1,1,1,1,1,48971.140625,0,0,0,0,0,{"$f":"J589","v":false},false,false,false,false,false,false,1,1,1,1,1,1,75.11,162.19999999999999,8.5016999999999996,39.549999999999997,1.6722999999999999,1.5335000000000001,8992.1949999999997,1,1,19.3505,71,1.2833000000000001,0.9698,20677.012999999999]
["1998-05-01",false,"2015-02-12",false,false,{"$error":"#N/A"},1090.8199460000001,1,0,false,1,{"$error":"#N/A"},1,{"$error":"#N/A"},1,1,1,1,1,1,1,4530.0097660000001,{"$error":"#N/A"},{"$error":"#N/A"},{"$error":"#N/A"},{"$error":"#N/A"},{"$error":"#N/A"},48971.140625,0,0,0,0,0,1,1,1,1,1,1,48971.140625,0,0,0,0,0,false,false,false,false,false,false,false,1,1,1,1,1,1,75.11,162.6,8.5847999999999995,39.82,1.6382000000000001,1.4883,8992.1949999999997,1,1,19.3505,71,1.2833000000000001,0.9698,20677.012999999999]
["1998-06-01",false,"2015-02-19",false,false,{"$error":"#N/A"},1133.839966,1,0,false,1,{"$error":"#N/A"},1,{"$error":"#N/A"},1,1,1,1,1,1,1,4282.6201170000004,{"$error":"#N/A"},{"$error":"#N/A"},{"$error":"#N/A"},{"$error":"#N/A"},{"$error":"#N/A"},48971.140625,0,0,0,0,0,1,1,1,1,1,1,48971.140625,0,0,0,0,0,false,false,false,false,false,false,false,1,1,1,1,1,1,75.11,162.80000000000001,8.92,41.85,1.6504000000000001,1.4764999999999999,8992.1949999999997,1,1,19.3505,71,1.2833000000000001,0.9698,20677.012999999999]
["1998-07-01",false,"2015-02-26",false,false,{"$error":"#N/A"},1120.670044,1,0,false,1,{"$error":"#N/A"},1,{"$error":"#N/A"},1,1,1,1,1,1,1,4244.9599609999996,{"$error":"#N/A"},{"$error":"#N/A"},{"$error":"#N/A"},{"$error":"#N/A"},{"$error":"#N/A"},48971.140625,0,0,0,0,0,1,1,1,1,1,1,48971.140625,0,0,0,0,0,false,false,false,false,false,false,false,1,1,1,1,1,1,75.433000000000007,163.19999999999999,8.8989999999999991,42.35,1.6436999999999999,1.5285,9130.6669999999995,1,1,19.3505,71,1.2833000000000001,0.9698,20677.012999999999]
["1998-08-01",false,"2015-03-05",false,false,{"$error":"#N/A"},957.28002900000001,1,0,false,1,{"$error":"#N/A"},1,{"$error":"#N/A"},1,1,1,1,1,1,1,2991.929932,{"$error":"#N/A"},{"$error":"#N/A"},{"$error":"#N/A"},{"$error":"#N/A"},{"$error":"#N/A"},48971.140625,0,0,0,0,0,1,1,1,1,1,1,48971.140625,0,0,0,0,0,false,false,false,false,false,false,false,1,1,1,1,1,1,75.433000000000007,163.4,9.3712,42.6,1.6342000000000001,1.4915,9130.6669999999995,1,1,19.3505,71,1.2833000000000001,0.9698,20677.012999999999]
["1998-09-01",false,"2015-03-12",false,false,{"$error":"#N/A"},1017.01001,1,0,false,1,{"$error":"#N/A"},1,{"$error":"#N/A"},1,1,1,1,1,1,1,3569.8798830000001,{"$error":"#N/A"},{"$error":"#N/A"},{"$error":"#N/A"},{"$error":"#N/A"},{"$error":"#N/A"},48971.140625,0,0,0,0,0,1,1,1,1,1,1,48971.140625,0,0,0,0,0,false,false,false,false,false,false,false,1,1,1,1,1,1,75.433000000000007,163.5,10.219200000000001,42.65,1.6822999999999999,1.4404999999999999,9130.6669999999995,1,1,19.3505,71,1.2833000000000001,0.9698,20677.012999999999]
["1998-10-01",false,"2015-03-19",false,false,{"$error":"#N/A"},1098.670044,1,0,false,1,{"$error":"#N/A"},1,{"$error":"#N/A"},1,1,1,1,1,1,1,4074.860107,{"$error":"#N/A"},{"$error":"#N/A"},{"$error":"#N/A"},{"$error":"#N/A"},{"$error":"#N/A"},48971.140625,0,0,0,0,0,1,1,1,1,1,1,48971.140625,0,0,0,0,0,false,false,false,false,false,false,false,1,1,1,1,1,1,75.641000000000005,163.9,10.1594,42.5,1.6943999999999999,1.3640000000000001,9306.2150000000001,1,1,19.3505,71,1.2833000000000001,0.9698,20677.012999999999]
["1998-11-01",false,"2015-03-26",false,false,{"$error":"#N/A"},1163.630005,1,0,false,1,{"$error":"#N/A"},1,{"$error":"#N/A"},1,1,1,1,1,1,1,3769.8798830000001,{"$error":"#N/A"},{"$error":"#N/A"},{"$error":"#N/A"},{"$error":"#N/A"},{"$error":"#N/A"},48971.140625,0,0,0,0,0,1,1,1,1,1,1,48971.140625,0,0,0,0,0,false,false,false,false,false,false,false,1,1,1,1,1,1,75.641000000000005,164.1,9.9685000000000006,42.45,1.6611,1.3548,9306.2150000000001,1,1,19.3505,71,1.2833000000000001,0.9698,20677.012999999999]
["1998-12-01",false,"2015-04-02",false,false,{"$error":"#N/A"},1229.2299800000001,1,0,false,1,{"$error":"#N/A"},1,{"$error":"#N/A"},1,1,1,1,1,1,1,3959.6599120000001,{"$error":"#N/A"},{"$error":"#N/A"},{"$error":"#N/A"},{"$error":"#N/A"},{"$error":"#N/A"},48971.140625,0,0,0,0,0,1,1,1,1,1,1,48971.140625,0,0,0,0,0,false,false,false,false,false,false,false,1,1,1,1,1,1,75.641000000000005,164.4,9.9067000000000007,42.61,1.6708000000000001,1.3783000000000001,9306.2150000000001,1,1,19.3505,71,1.2833000000000001,0.9698,20677.012999999999]
["1999-01-01",false,"2015-04-09",false,false,{"$error":"#N/A"},1279.6400149999999,1,0,false,1,{"$error":"#N/A"},1,{"$error":"#N/A"},1,1,1,1,1,1,1,3957.929932,{"$error":"#N/A"},{"$error":"#N/A"},{"$error":"#N/A"},{"$error":"#N/A"},{"$error":"#N/A"},48971.140625,0,0,0,0,0,1,1,1,1,1,1,48971.140625,0,0,0,0,0,false,false,false,false,false,false,false,1,1,1,1,1,1,75.926000000000002,164.7,10.1279,".",1.6497999999999999,".",9438.2049999999999,1,1,19.3505,71,1.2833000000000001,0.9698,20677.012999999999]
["1999-02-01",false,"2015-04-16",false,false,{"$error":"#N/A"},1238.329956,1,0,false,1,{"$error":"#N/A"},1,{"$error":"#N/A"},1,1,1,1,1,1,1,4260.7998049999997,{"$error":"#N/A"},{"$error":"#N/A"},{"$error":"#N/A"},{"$error":"#N/A"},{"$error":"#N/A"},48971.140625,0,0,0,0,0,1,1,1,1,1,1,48971.140625,0,0,0,0,0,false,false,false,false,false,false,false,1,1,1,1,1,1,75.926000000000002,164.7,10.005699999999999,42.55,1.6275999999999999,1.4232,9438.2049999999999,1,1,19.3505,71,1.2833000000000001,0.9698,20677.012999999999]
["1999-03-01",false,"2015-04-23",false,false,{"$error":"#N/A"},1286.369995,1,0,false,1,{"$error":"#N/A"},1,{"$error":"#N/A"},1,1,1,1,1,1,1,4930.3701170000004,{"$error":"#N/A"},{"$error":"#N/A"},{"$error":"#N/A"},{"$error":"#N/A"},{"$error":"#N/A"},48971.140625,0,0,0,0,0,1,1,1,1,1,1,48971.140625,0,0,0,0,0,false,false,false,false,false,false,false,1,1,1,1,1,1,75.926000000000002,164.8,9.7324000000000002,42.54,1.6213,1.462,9438.2049999999999,1,1,19.3505,71,1.2833000000000001,0.9698,20677.012999999999]
["1999-04-01",false,"2015-04-30",false,false,{"$error":"#N/A"},1335.1800539999999,1,0,false,1,{"$error":"#N/A"},1,{"$error":"#N/A"},1,1,1,1,1,1,1,5414.4501950000003,{"$error":"#N/A"},{"$error":"#N/A"},{"$error":"#N/A"},{"$error":"#N/A"},{"$error":"#N/A"},48971.140625,0,0,0,0,0,1,1,1,1,1,1,48971.140625,0,0,0,0,0,false,false,false,false,false,false,false,1,1,1,1,1,1,76.200999999999993,165.9,9.4304000000000006,42.5,1.6089,1.4810000000000001,9550.0360000000001,1,1,19.3505,71,1.2833000000000001,0.9698,20677.012999999999]
["1999-05-01",false,"2015-05-07",false,false,{"$error":"#N/A"},1301.839966,1,0,false,1,{"$error":"#N/A"},1,{"$error":"#N/A"},1,1,1,1,1,1,1,5477.6499020000001,{"$error":"#N/A"},{"$error":"#N/A"},{"$error":"#N/A"},{"$error":"#N/A"},{"$error":"#N/A"},48971.140625,0,0,0,0,0,1,1,1,1,1,1,48971.140625,0,0,0,0,0,false,false,false,false,false,false,false,1,1,1,1,1,1,76.200999999999993,166,9.3955000000000002,42.84,1.6153999999999999,1.5257000000000001,9550.0360000000001,1,1,19.3505,71,1.2833000000000001,0.9698,20677.012999999999]
["1999-06-01",false,"2015-05-14",false,false,{"$error":"#N/A"},1372.709961,1,0,false,1,{"$error":"#N/A"},1,{"$error":"#N/A"},1,1,1,1,1,1,1,5829.5097660000001,{"$error":"#N/A"},{"$error":"#N/A"},{"$error":"#N/A"},{"$error":"#N/A"},{"$error":"#N/A"},48971.140625,0,0,0,0,0,1,1,1,1,1,1,48971.140625,0,0,0,0,0,false,false,false,false,false,false,false,1,1,1,1,1,1,76.200999999999993,166,9.5145999999999997,43,1.595,1.5229999999999999,9550.0360000000001,1,1,19.3505,71,1.2833000000000001,0.9698,20677.012999999999]
["1999-07-01",false,"2015-05-21",false,false,{"$error":"#N/A"},1328.719971,1,0,false,1,{"$error":"#N/A"},1,{"$error":"#N/A"},1,1,1,1,1,1,1,5260.3500979999999,{"$error":"#N/A"},{"$error":"#N/A"},{"$error":"#N/A"},{"$error":"#N/A"},{"$error":"#N/A"},48971.140625,0,0,0,0,0,1,1,1,1,1,1,48971.140625,0,0,0,0,0,false,false,false,false,false,false,false,1,1,1,1,1,1,76.462000000000003,166.7,9.3698999999999995,43.35,1.5750999999999999,1.569,9704.5949999999993,1,1,19.3505,71,1.2833000000000001,0.9698,20677.012999999999]
["1999-08-01",false,"2015-05-28",false,false,{"$error":"#N/A"},1320.410034,1,0,false,1,{"$error":"#N/A"},1,{"$error":"#N/A"},1,1,1,1,1,1,1,5086.8701170000004,{"$error":"#N/A"},{"$error":"#N/A"},{"$error":"#N/A"},{"$error":"#N/A"},{"$error":"#N/A"},48971.140625,0,0,0,0,0,1,1,1,1,1,1,48971.140625,0,0,0,0,0,false,false,false,false,false,false,false,1,1,1,1,1,1,76.462000000000003,167.1,9.3978999999999999,43.45,1.6057999999999999,1.4924999999999999,9704.5949999999993,1,1,19.3505,71,1.2833000000000001,0.9698,20677.012999999999]
["1999-09-01",false,"2015-06-04",false,false,{"$error":"#N/A"},1282.709961,1,0,false,1,{"$error":"#N/A"},1,{"$error":"#N/A"},1,1,1,1,1,1,1,5050.4599609999996,{"$error":"#N/A"},{"$error":"#N/A"},{"$error":"#N/A"},{"$error":"#N/A"},{"$error":"#N/A"},48971.140625,0,0,0,0,0,1,1,1,1,1,1,48971.140625,0,0,0,0,0,false,false,false,false,false,false,false,1,1,1,1,1,1,76.462000000000003,167.8,9.3413000000000004,43.55,1.6247,1.5135000000000001,9704.5949999999993,1,1,19.3505,71,1.2833000000000001,0.9698,20677.012999999999]
["1999-10-01",false,"2015-06-11",false,false,{"$error":"#N/A"},1362.9300539999999,1,0,false,1,{"$error":"#N/A"},1,{"$error":"#N/A"},1,1,1,1,1,1,1,5450.3701170000004,{"$error":"#N/A"},{"$error":"#N/A"},{"$error":"#N/A"},{"$error":"#N/A"},{"$error":"#N/A"},48971.140625,0,0,0,0,0,1,1,1,1,1,1,48971.140625,0,0,0,0,0,false,false,false,false,false,false,false,1,1,1,1,1,1,76.873000000000005,168.1,9.5752000000000006,43.73,1.6572,1.4866999999999999,9931.9580000000005,1,1,19.3505,71,1.2833000000000001,0.9698,20677.012999999999]
["1999-11-01",false,"2015-06-18",false,false,{"$error":"#N/A"},1388.910034,1,0,false,1,{"$error":"#N/A"},1,{"$error":"#N/A"},1,1,1,1,1,1,1,6136.4702150000003,{"$error":"#N/A"},{"$error":"#N/A"},{"$error":"#N/A"},{"$error":"#N/A"},{"$error":"#N/A"},48971.140625,0,0,0,0,0,1,1,1,1,1,1,48971.140625,0,0,0,0,0,false,false,false,false,false,false,false,1,1,1,1,1,1,76.873000000000005,168.4,9.4161000000000001,43.51,1.6205000000000001,1.5290999999999999,9931.9580000000005,1,1,19.3505,71,1.2833000000000001,0.9698,20677.012999999999]
["1999-12-01",false,"2015-06-25",false,false,{"$error":"#N/A"},1469.25,1,0,false,1,{"$error":"#N/A"},1,{"$error":"#N/A"},1,1,1,1,1,1,1,7129.8798829999996,{"$error":"#N/A"},{"$error":"#N/A"},{"$error":"#N/A"},{"$error":"#N/A"},{"$error":"#N/A"},48971.140625,0,0,0,0,0,1,1,1,1,1,1,48971.140625,0,0,0,0,0,false,false,false,false,false,false,false,1,1,1,1,1,1,76.873000000000005,168.8,9.4270999999999994,43.45,1.6132,1.5920000000000001,9931.9580000000005,1,1,19.3505,71,1.2833000000000001,0.9698,20677.012999999999]
["2000-01-01",false,"2015-07-02",false,false,{"$error":"#N/A"},1394.459961,1,0,false,1,{"$error":"#N/A"},1,{"$error":"#N/A"},1,1,1,1,1,1,1,6585.669922,{"$error":"#N/A"},{"$error":"#N/A"},{"$error":"#N/A"},{"$error":"#N/A"},{"$error":"#N/A"},48971.140625,0,0,0,0,0,1,1,1,1,1,1,48971.140625,0,0,0,0,0,false,false,false,false,false,false,false,1,1,1,1,1,1,77.396000000000001,169.3,9.4934999999999992,43.51,1.6404000000000001,1.593,10031.808000000001,1,1,19.3505,71,1.2833000000000001,0.9698,20677.012999999999]
["2000-02-01",false,"2015-07-09",false,false,{"$error":"#N/A"},1366.420044,1,0,false,1,{"$error":"#N/A"},1,{"$error":"#N/A"},1,1,1,1,1,1,1,7368.5498049999997,{"$error":"#N/A"},{"$error":"#N/A"},{"$error":"#N/A"},{"$error":"#N/A"},{"$error":"#N/A"},48971.140625,0,0,0,0,0,1,1,1,1,1,1,48971.140625,0,0,0,0,0,false,false,false,false,false,false,false,1,1,1,1,1,1,77.396000000000001,170,9.4265000000000008,43.62,1.6,1.6539999999999999,10031.808000000001,1,1,19.3505,71,1.2833000000000001,0.9698,20677.012999999999]
["2000-03-01",false,"2015-07-16",false,false,{"$error":"#N/A"},1498.579956,1,0,false,1,{"$error":"#N/A"},1,{"$error":"#N/A"},1,1,1,1,1,1,1,7473.25,{"$error":"#N/A"},{"$error":"#N/A"},{"$error":"#N/A"},{"$error":"#N/A"},{"$error":"#N/A"},48971.140625,0,0,0,0,0,1,1,1,1,1,1,48971.140625,0,0,0,0,0,false,false,false,false,false,false,false,1,1,1,1,1,1,77.396000000000001,171,9.2886000000000006,43.63,1.5799000000000001,1.6568000000000001,10031.808000000001,1,1,19.3505,71,1.2833000000000001,0.9698,20677.012999999999]
["2000-04-01",false,"2015-07-23",false,false,{"$error":"#N/A"},1452.4300539999999,1,0,false,1,{"$error":"#N/A"},1,{"$error":"#N/A"},1,1,1,1,1,1,1,6640.6801759999998,{"$error":"#N/A"},{"$error":"#N/A"},{"$error":"#N/A"},{"$error":"#N/A"},{"$error":"#N/A"},48971.140625,0,0,0,0,0,1,1,1,1,1,1,48971.140625,0,0,0,0,0,false,false,false,false,false,false,false,1,1,1,1,1,1,77.864999999999995,170.9,9.3937000000000008,43.65,1.5823,1.663,10279.56,1,1,19.3505,71,1.2833000000000001,0.9698,20677.012999999999]
["2000-05-01",false,"2015-07-30",false,false,{"$error":"#N/A"},1420.599976,1,0,false,1,{"$error":"#N/A"},1,{"$error":"#N/A"},1,1,1,1,1,1,1,5961.1401370000003,{"$error":"#N/A"},{"$error":"#N/A"},{"$error":"#N/A"},{"$error":"#N/A"},{"$error":"#N/A"},48971.140625,0,0,0,0,0,1,1,1,1,1,1,48971.140625,0,0,0,0,0,false,false,false,false,false,false,false,1,1,1,1,1,1,77.864999999999995,171.2,9.5059000000000005,43.67,1.5089999999999999,1.7135,10279.56,1,1,19.3505,71,1.2833000000000001,0.9698,20677.012999999999]
["2000-06-01",false,"2015-08-06",false,false,{"$error":"#N/A"},1454.599976,1,0,false,1,{"$error":"#N/A"},1,{"$error":"#N/A"},1,1,1,1,1,1,1,6948.330078,{"$error":"#N/A"},{"$error":"#N/A"},{"$error":"#N/A"},{"$error":"#N/A"},{"$error":"#N/A"},48971.140625,0,0,0,0,0,1,1,1,1,1,1,48971.140625,0,0,0,0,0,false,false,false,false,false,false,false,1,1,1,1,1,1,77.864999999999995,172.2,9.8343000000000007,44.65,1.5092000000000001,1.6878,10279.56,1,1,19.3505,71,1.2833000000000001,0.9698,20677.012999999999]
["2000-07-01",false,"2015-08-13",false,false,{"$error":"#N/A"},1430.829956,1,0,false,1,{"$error":"#N/A"},1,{"$error":"#N/A"},1,1,1,1,1,1,1,6514.2099609999996,{"$error":"#N/A"},{"$error":"#N/A"},{"$error":"#N/A"},{"$error":"#N/A"},{"$error":"#N/A"},48971.140625,0,0,0,0,0,1,1,1,1,1,1,48971.140625,0,0,0,0,0,false,false,false,false,false,false,false,1,1,1,1,1,1,78.308999999999997,172.7,9.4192,44.7,1.5076000000000001,1.6316999999999999,10347.082,1,1,19.3505,71,1.2833000000000001,0.9698,20677.012999999999]
["2000-08-01",false,"2015-08-20",false,false,{"$error":"#N/A"},1517.6800539999999,1,0,false,1,{"$error":"#N/A"},1,{"$error":"#N/A"},1,1,1,1,1,1,1,6664.8198240000002,{"$error":"#N/A"},{"$error":"#N/A"},{"$error":"#N/A"},{"$error":"#N/A"},{"$error":"#N/A"},48971.140625,0,0,0,0,0,1,1,1,1,1,1,48971.140625,0,0,0,0,0,false,false,false,false,false,false,false,1,1,1,1,1,1,78.308999999999997,172.7,9.2723999999999993,45.15,1.4888999999999999,1.6758,10347.082,1,1,19.3505,71,1.2833000000000001,0.9698,20677.012999999999]
["2000-09-01",false,"2015-08-27",false,false,{"$error":"#N/A"},1436.51001,1,0,false,1,{"$error":"#N/A"},1,{"$error":"#N/A"},1,1,1,1,1,1,1,6334.5600590000004,{"$error":"#N/A"},{"$error":"#N/A"},{"$error":"#N/A"},{"$error":"#N/A"},{"$error":"#N/A"},48971.140625,0,0,0,0,0,1,1,1,{"$f":"IF(AK$7,INDEX($BN618:$BT618,AK$7),1)","v":1},1,1,48971.140625,0,0,0,0,0,false,false,false,false,false,false,false,1,1,1,1,1,1,78.308999999999997,173.6,9.3614999999999995,45.8,1.4336,1.7230000000000001,10347.082,1,1,19.3505,71,1.2833000000000001,0.9698,20677.012999999999]
["2000-10-01",false,"2015-09-03",false,false,{"$error":"#N/A"},1429.400024,1,0,false,1,{"$error":"#N/A"},1,{"$error":"#N/A"},1,1,1,1,1,1,1,6394.2402339999999,{"$error":"#N/A"},{"$error":"#N/A"},{"$error":"#N/A"},{"$error":"#N/A"},{"$error":"#N/A"},48971.140625,0,0,0,0,0,1,1,1,1,1,1,48971.140625,0,0,0,0,0,false,false,false,false,false,false,false,1,1,1,1,1,1,78.722999999999999,173.9,9.5370000000000008,46.06,1.4505999999999999,1.7264999999999999,10491.035,1,1,19.3505,71,1.2833000000000001,0.9698,20677.012999999999]
["2000-11-01",false,"2015-09-10",false,false,{"$error":"#N/A"},1314.9499510000001,1,0,false,1,{"$error":"#N/A"},1,{"$error":"#N/A"},1,1,1,1,1,1,1,5652.6298829999996,{"$error":"#N/A"},{"$error":"#N/A"},{"$error":"#N/A"},{"$error":"#N/A"},{"$error":"#N/A"},48971.140625,0,0,0,0,0,1,1,1,1,1,1,48971.140625,0,0,0,0,0,false,false,false,false,false,false,false,1,1,1,1,1,1,78.722999999999999,174.2,9.5081000000000007,46.82,1.4258,1.7765,10491.035,1,1,19.3505,71,1.2833000000000001,0.9698,20677.012999999999]
["2000-12-01",false,"2015-09-17",false,false,{"$error":"#N/A"},1320.280029,1,0,false,1,{"$error":"#N/A"},1,{"$error":"#N/A"},1,1,1,1,1,1,1,5652.1899409999996,{"$error":"#N/A"},{"$error":"#N/A"},{"$error":"#N/A"},{"$error":"#N/A"},{"$error":"#N/A"},48971.140625,0,0,0,0,0,{"$f":"IF(AH$7,INDEX($BN621:$BT621,AH$7),1)","v":1},1,1,1,1,1,48971.140625,0,0,0,0,0,false,false,false,false,false,false,false,1,1,1,1,1,1,78.722999999999999,174.6,9.4672999999999998,46.89,1.4629000000000001,1.7284999999999999,10491.035,1,1,19.3505,71,1.2833000000000001,0.9698,20677.012999999999]
["2001-01-01",false,"2015-09-24",false,false,{"$error":"#N/A"},1366.01001,1,0,false,1,{"$error":"#N/A"},1,{"$error":"#N/A"},1,1,1,1,1,1,1,6496.8901370000003,{"$error":"#N/A"},{"$error":"#N/A"},{"$error":"#N/A"},{"$error":"#N/A"},{"$error":"#N/A"},48971.140625,0,0,0,0,0,1,1,1,1,1,1,48971.140625,0,0,0,0,0,false,false,false,false,false,false,false,1,1,1,1,1,1,79.203999999999994,175.6,9.7688000000000006,".",1.4775,".",10510.593999999999,1,1,19.3505,71,1.2833000000000001,0.9698,20677.012999999999]
["2001-02-01",false,"2015-10-01",false,false,{"$error":"#N/A"},1239.9399410000001,1,0,false,1,{"$error":"#N/A"},1,{"$error":"#N/A"},1,1,1,1,1,1,1,6032.1000979999999,{"$error":"#N/A"},{"$error":"#N/A"},{"$error":"#N/A"},{"$error":"#N/A"},{"$error":"#N/A"},48971.140625,0,0,0,0,0,1,1,1,1,1,1,48971.140625,0,0,0,0,0,false,false,false,false,false,false,false,1,1,1,1,1,1,79.203999999999994,176,9.7108000000000008,46.41,1.4524999999999999,1.633,10510.593999999999,1,1,19.3505,71,1.2833000000000001,0.9698,20677.012999999999]
["2001-03-01",false,"2015-10-08",false,false,{"$error":"#N/A"},1160.329956,1,0,false,1,{"$error":"#N/A"},1,{"$error":"#N/A"},1,1,1,1,1,1,1,5727.8901370000003,{"$error":"#N/A"},{"$error":"#N/A"},{"$error":"#N/A"},{"$error":"#N/A"},{"$error":"#N/A"},48971.140625,0,0,0,0,0,1,1,1,1,1,1,48971.140625,0,0,0,0,0,false,false,false,false,false,false,false,1,1,1,1,1,1,79.203999999999994,176.1,9.5990000000000002,46.59,1.4444999999999999,1.6556999999999999,10510.593999999999,1,1,19.3505,71,1.2833000000000001,0.9698,20677.012999999999]
["2001-04-01",false,"2015-10-15",false,false,{"$error":"#N/A"},1249.459961,1,0,false,1,{"$error":"#N/A"},1,{"$error":"#N/A"},1,1,1,1,1,1,1,5987.25,{"$error":"#N/A"},{"$error":"#N/A"},{"$error":"#N/A"},{"$error":"#N/A"},{"$error":"#N/A"},48971.140625,0,0,0,0,0,1,1,1,1,1,1,48971.140625,0,0,0,0,0,false,false,false,false,false,false,false,1,1,1,1,1,1,79.683000000000007,176.4,9.3276000000000003,46.85,1.4348000000000001,1.736,10644.450999999999,1,1,19.3505,71,1.2833000000000001,0.9698,20677.012999999999]
["2001-05-01",false,"2015-10-22",false,false,{"$error":"#N/A"},1255.8199460000001,1,0,false,1,{"$error":"#N/A"},1,{"$error":"#N/A"},1,1,1,1,1,1,1,6595.3901370000003,{"$error":"#N/A"},{"$error":"#N/A"},{"$error":"#N/A"},{"$error":"#N/A"},{"$error":"#N/A"},48971.140625,0,0,0,0,0,1,1,1,1,1,1,48971.140625,0,0,0,0,0,false,false,false,false,false,false,false,1,1,1,1,1,1,79.683000000000007,177.3,9.1475000000000009,46.87,1.4265000000000001,1.7255,10644.450999999999,1,1,19.3505,71,1.2833000000000001,0.9698,20677.012999999999]
["2001-06-01",false,"2015-10-29",false,false,{"$error":"#N/A"},1224.380005,1,0,false,1,{"$error":"#N/A"},1,{"$error":"#N/A"},1,1,1,1,1,1,1,6666.169922,{"$error":"#N/A"},{"$error":"#N/A"},{"$f":"LOOKUP($A627,INDIRECT(\"'\"&Y$5&\"'!A:A\"),INDIRECT(\"'\"&Y$5&\"'!\"&Y$7&\":\"&Y$7))","v":{"$error":"#N/A"}},{"$error":"#N/A"},{"$error":"#N/A"},48971.140625,0,0,0,0,0,1,1,1,1,1,1,48971.140625,0,0,0,0,0,false,false,false,false,false,false,false,1,1,1,1,1,1,79.683000000000007,177.7,9.0881000000000007,47.05,1.4019999999999999,1.7991999999999999,10644.450999999999,1,1,19.3505,71,1.2833000000000001,0.9698,20677.012999999999]
["2001-07-01",false,"2015-11-05",false,false,{"$error":"#N/A"},1211.2299800000001,1,0,false,1,{"$error":"#N/A"},1,{"$error":"#N/A"},1,1,1,1,1,1,1,6474.3999020000001,{"$error":"#N/A"},{"$error":"#N/A"},{"$error":"#N/A"},{"$error":"#N/A"},{"$error":"#N/A"},48971.140625,0,0,0,0,0,1,1,1,1,1,1,48971.140625,0,0,0,0,0,false,false,false,false,false,false,false,1,1,1,1,1,1,80.004000000000005,177.4,9.1682000000000006,47.09,1.4148000000000001,1.7968,10619.9,1,1,19.3505,71,1.2833000000000001,0.9698,20677.012999999999]
["2001-08-01",false,"2015-11-12",false,false,{"$error":"#N/A"},1133.579956,1,0,false,1,{"$error":"#N/A"},1,{"$error":"#N/A"},1,1,1,1,1,1,1,6310.7001950000003,{"$error":"#N/A"},{"$error":"#N/A"},{"$error":"#N/A"},{"$error":"#N/A"},{"$error":"#N/A"},48971.140625,0,0,0,0,0,1,1,1,1,1,1,48971.140625,0,0,0,0,0,false,false,false,false,false,false,false,1,1,1,1,1,1,80.004000000000005,177.4,9.1332000000000004,47.16,1.4372,1.7158,10619.9,1,1,19.3505,71,1.2833000000000001,0.9698,20677.012999999999]
["2001-09-01",false,"2015-11-19",false,false,{"$error":"#N/A"},1040.9399410000001,1,0,false,1,{"$error":"#N/A"},1,{"$error":"#N/A"},1,1,1,1,1,1,1,5403.5297849999997,{"$error":"#N/A"},{"$error":"#N/A"},{"$error":"#N/A"},{"$error":"#N/A"},{"$error":"#N/A"},48971.140625,0,0,0,0,0,1,1,1,1,1,1,48971.140625,0,0,0,0,0,false,false,false,false,false,false,false,1,1,1,1,1,1,80.004000000000005,178.1,9.4253,47.17,1.4638,1.6698,10619.9,1,1,19.3505,71,1.2833000000000001,0.9698,20677.012999999999]
["2001-10-01",false,"2015-11-26",false,false,{"$error":"#N/A"},1059.780029,1,0,false,1,{"$error":"#N/A"},1,{"$error":"#N/A"},1,1,1,1,1,1,1,5537.0400390000004,{"$error":"#N/A"},{"$error":"#N/A"},{"$error":"#N/A"},{"$error":"#N/A"},{"$error":"#N/A"},48971.140625,0,0,0,0,0,1,1,1,1,1,1,48971.140625,0,0,0,0,0,false,false,false,false,false,false,false,1,1,1,1,1,1,80.268000000000001,177.6,9.3391000000000002,48.03,1.4500999999999999,1.6195999999999999,10747.342000000001,1,1,19.3505,71,1.2833000000000001,0.9698,20677.012999999999]
["2001-11-01",false,"2015-12-03",false,false,{"$error":"#N/A"},1139.4499510000001,1,0,false,1,{"$error":"#N/A"},1,{"$error":"#N/A"},1,1,1,1,1,1,1,5832.830078,{"$error":"#N/A"},{"$error":"#N/A"},{"$error":"#N/A"},{"$error":"#N/A"},{"$error":"#N/A"},48971.140625,0,0,0,0,0,1,1,1,1,1,1,48971.140625,0,0,0,0,0,false,false,false,false,false,false,false,1,1,1,1,1,1,80.268000000000001,177.5,9.2249999999999996,48.05,1.4356,1.6294999999999999,10747.342000000001,1,1,19.3505,71,1.2833000000000001,0.9698,20677.012999999999]
["2001-12-01",false,"2015-12-10",false,false,{"$error":"#N/A"},1148.079956,1,0,false,1,{"$error":"#N/A"},1,{"$error":"#N/A"},1,1,1,1,1,1,1,6372.2797849999997,{"$error":"#N/A"},{"$error":"#N/A"},{"$error":"#N/A"},{"$error":"#N/A"},{"$error":"#N/A"},48971.140625,0,0,0,0,0,1,1,1,1,1,1,48971.140625,0,0,0,0,0,false,false,false,false,false,false,false,1,1,1,1,1,1,80.268000000000001,177.4,9.1574000000000009,47.98,1.4413,1.6405000000000001,10747.342000000001,1,1,19.3505,71,1.2833000000000001,0.9698,20677.012999999999]
["2002-01-01",false,"2015-12-17",false,false,{"$error":"#N/A"},1130.1999510000001,1,0,false,1,{"$error":"#N/A"},1,{"$error":"#N/A"},1,1,1,1,1,1,1,6927.8701170000004,{"$error":"#N/A"},{"$error":"#N/A"},{"$error":"#N/A"},{"$error":"#N/A"},{"$error":"#N/A"},48971.140625,0,0,0,0,0,1,1,1,1,1,1,48971.140625,0,0,0,0,0,false,false,false,false,false,false,false,1,1,1,1,1,1,80.533000000000001,177.7,9.1636000000000006,".",1.4321999999999999,".",10837.73,1,1,19.3505,71,1.2833000000000001,0.9698,20677.012999999999]
["2002-02-01",false,"2015-12-24",false,false,{"$error":"#N/A"},1106.7299800000001,1,0,false,1,{"$error":"#N/A"},1,{"$error":"#N/A"},1,1,1,1,1,1,1,6734.4399409999996,{"$error":"#N/A"},{"$error":"#N/A"},{"$error":"#N/A"},{"$error":"#N/A"},{"$error":"#N/A"},48971.140625,0,0,0,0,0,1,1,1,1,1,1,48971.140625,0,0,0,0,0,false,false,false,false,false,false,false,1,1,1,1,1,1,80.533000000000001,178,9.1050000000000004,48.55,1.4227000000000001,1.7179,10837.73,1,1,19.3505,71,1.2833000000000001,0.9698,20677.012999999999]
["2002-03-01",false,"2015-12-31",false,false,{"$error":"#N/A"},1147.3900149999999,1,0,false,1,{"$error":"#N/A"},1,{"$error":"#N/A"},1,1,1,1,1,1,1,7361.8598629999997,{"$error":"#N/A"},{"$error":"#N/A"},{"$error":"#N/A"},{"$error":"#N/A"},{"$error":"#N/A"},48971.140625,0,0,0,0,0,1,1,1,1,1,1,48971.140625,0,0,0,0,0,false,false,false,false,false,false,false,1,1,1,1,1,1,80.533000000000001,178.5,9.0640000000000001,48.76,1.423,1.706,10837.73,1,1,19.3505,71,1.2833000000000001,0.9698,20677.012999999999]
["2002-04-01",false,"2016-01-07",false,false,{"$error":"#N/A"},1076.920044,1,0,false,1,{"$error":"#N/A"},1,{"$error":"#N/A"},1,1,1,1,1,1,1,7480.7402339999999,{"$error":"#N/A"},{"$error":"#N/A"},{"$error":"#N/A"},{"$error":"#N/A"},{"$error":"#N/A"},48971.140625,0,0,0,0,0,1,1,1,1,1,1,48971.140625,0,0,0,0,0,false,false,false,false,false,false,false,1,1,1,1,1,1,80.820999999999998,179.3,9.1648999999999994,48.83,1.4429000000000001,1.6607000000000001,10923.146000000001,1,1,19.3505,71,1.2833000000000001,0.9698,20677.012999999999]
["2002-05-01",false,"2016-01-14",false,false,{"$error":"#N/A"},1067.1400149999999,1,0,false,1,{"$error":"#N/A"},1,{"$error":"#N/A"},1,1,1,1,1,1,1,7031.6401370000003,{"$error":"#N/A"},{"$error":"#N/A"},{"$error":"#N/A"},{"$error":"#N/A"},{"$error":"#N/A"},48971.140625,0,0,0,0,0,1,1,1,1,1,1,48971.140625,0,0,0,0,0,false,false,false,false,false,false,false,1,1,1,1,1,1,80.820999999999998,179.5,9.5099,48.98,1.4598,1.601,10923.146000000001,1,1,19.3505,71,1.2833000000000001,0.9698,20677.012999999999]
["2002-06-01",false,"2016-01-21",false,false,{"$error":"#N/A"},989.82000700000003,1,0,false,1,{"$error":"#N/A"},1,{"$error":"#N/A"},1,1,1,1,1,1,1,6460.9501950000003,{"$error":"#N/A"},{"$error":"#N/A"},{"$error":"#N/A"},{"$error":"#N/A"},{"$error":"#N/A"},48971.140625,0,0,0,0,0,1,1,1,1,1,1,48971.140625,0,0,0,0,0,false,false,false,false,false,false,false,1,1,1,1,1,1,80.820999999999998,179.6,9.7670999999999992,49.06,1.4837,1.5692999999999999,10923.146000000001,1,1,19.3505,71,1.2833000000000001,0.9698,20677.012999999999]
["2002-07-01",false,"2016-01-28",false,false,{"$error":"#N/A"},911.61999500000002,1,0,false,1,{"$error":"#N/A"},1,{"$error":"#N/A"},1,1,1,1,1,1,1,6021.8398440000001,{"$error":"#N/A"},{"$error":"#N/A"},{"$error":"#N/A"},{"$error":"#N/A"},{"$error":"#N/A"},48971.140625,0,0,0,0,0,1,1,1,1,1,1,48971.140625,0,0,0,0,0,false,false,false,false,false,false,false,1,1,1,1,1,1,81.194000000000003,180,9.7791999999999994,48.86,1.5565,1.4844999999999999,11035.492,1,1,19.3505,71,1.2833000000000001,0.9698,20677.012999999999]
["2002-08-01",false,"2016-02-04",false,false,{"$error":"#N/A"},916.07000700000003,1,0,false,1,{"$error":"#N/A"},1,{"$error":"#N/A"},1,1,1,1,1,1,1,6216.4301759999998,{"$error":"#N/A"},{"$error":"#N/A"},{"$error":"#N/A"},{"$error":"#N/A"},{"$error":"#N/A"},48971.140625,0,0,0,0,0,1,1,1,1,1,1,48971.140625,0,0,0,0,0,false,false,false,false,false,false,false,1,1,1,1,1,1,81.194000000000003,180.5,9.8389000000000006,48.68,1.5367999999999999,1.4702999999999999,11035.492,1,1,19.3505,71,1.2833000000000001,0.9698,20677.012999999999]
["2002-09-01",false,"2016-02-11",false,false,{"$error":"#N/A"},815.28002900000001,1,0,false,1,{"$error":"#N/A"},1,{"$error":"#N/A"},1,1,1,1,1,1,1,5728.4599609999996,{"$error":"#N/A"},{"$error":"#N/A"},{"$error":"#N/A"},{"$error":"#N/A"},{"$error":"#N/A"},48971.140625,0,0,0,0,0,1,1,1,1,1,1,48971.140625,0,0,0,0,0,false,false,false,false,false,false,false,1,1,1,1,1,1,81.194000000000003,180.8,10.0708,48.52,1.5563,1.5006999999999999,11035.492,1,1,19.3505,71,1.2833000000000001,0.9698,20677.012999999999]
["2002-10-01",false,"2016-02-18",false,false,{"$error":"#N/A"},885.76000999999997,1,0,false,1,{"$error":"#N/A"},1,{"$error":"#N/A"},1,1,1,1,1,1,1,5967.7299800000001,{"$error":"#N/A"},{"$error":"#N/A"},{"$error":"#N/A"},{"$error":"#N/A"},{"$error":"#N/A"},48971.140625,0,0,0,0,0,1,1,1,1,1,1,48971.140625,0,0,0,0,0,false,false,false,false,false,false,false,1,1,1,1,1,1,81.653999999999996,181.2,10.094099999999999,48.39,1.5575000000000001,1.4793000000000001,11130.278,1,1,19.3505,71,1.2833000000000001,0.9698,20677.012999999999]
["2002-11-01",false,"2016-02-25",false,false,{"$error":"#N/A"},936.30999799999995,1,0,false,1,{"$error":"#N/A"},1,{"$error":"#N/A"},1,1,1,1,1,1,1,6156.830078,{"$error":"#N/A"},{"$error":"#N/A"},{"$error":"#N/A"},{"$error":"#N/A"},{"$error":"#N/A"},48971.140625,0,0,0,0,0,1,1,1,1,1,1,48971.140625,0,0,0,0,0,false,false,false,false,false,false,false,1,1,1,1,1,1,81.653999999999996,181.5,10.1952,48.36,1.5710999999999999,1.4673,11130.278,1,1,19.3505,71,1.2833000000000001,0.9698,20677.012999999999]
["2002-12-01",false,"2016-03-03",false,false,{"$error":"#N/A"},879.82000700000003,1,0,false,1,{"$error":"#N/A"},1,{"$error":"#N/A"},1,1,1,1,1,1,1,6127.0898440000001,{"$error":"#N/A"},{"$error":"#N/A"},{"$error":"#N/A"},{"$error":"#N/A"},{"$error":"#N/A"},48971.140625,0,0,0,0,0,1,1,1,1,1,1,48971.140625,0,0,0,0,0,false,false,false,false,false,false,false,1,1,1,1,1,1,81.653999999999996,181.8,10.225099999999999,48.36,1.5863,1.486,11130.278,1,1,19.3505,71,1.2833000000000001,0.9698,20677.012999999999]
["2003-01-01",false,"2016-03-10",false,false,{"$error":"#N/A"},855.70001200000002,1,0,false,1,{"$error":"#N/A"},1,{"$error":"#N/A"},1,1,1,1,1,1,1,5954.3500979999999,{"$error":"#N/A"},{"$error":"#N/A"},{"$error":"#N/A"},{"$error":"#N/A"},{"$error":"#N/A"},48971.140625,0,0,0,0,0,1,1,1,1,1,1,48971.140625,0,0,0,0,0,false,false,false,false,false,false,false,1,1,1,1,1,1,82.025000000000006,182.6,10.622299999999999,".",1.6174999999999999,".",11226.655000000001,1,1,19.3505,71,1.2833000000000001,0.9698,20677.012999999999]
["2003-02-01",false,"2016-03-17",false,false,{"$error":"#N/A"},841.15002400000003,1,0,false,1,{"$error":"#N/A"},1,{"$error":"#N/A"},1,1,1,1,1,1,1,5927.0600590000004,{"$error":"#N/A"},{"$error":"#N/A"},{"$error":"#N/A"},{"$error":"#N/A"},{"$error":"#N/A"},48971.140625,0,0,0,0,0,1,1,1,1,1,1,48971.140625,0,0,0,0,0,false,false,false,false,false,false,false,1,1,1,1,1,1,82.025000000000006,183.6,10.944699999999999,47.83,1.6079000000000001,1.3683000000000001,11226.655000000001,1,1,19.3505,71,1.2833000000000001,0.9698,20677.012999999999]
["2003-03-01",false,"2016-03-24",false,false,{"$error":"#N/A"},848.17999299999997,1,0,false,1,{"$error":"#N/A"},1,{"$error":"#N/A"},1,1,1,1,1,1,1,5914.0297849999997,{"$error":"#N/A"},{"$error":"#N/A"},{"$error":"#N/A"},{"$error":"#N/A"},{"$error":"#N/A"},48971.140625,0,0,0,0,0,1,1,1,1,1,1,48971.140625,0,0,0,0,0,false,false,false,false,false,false,false,1,1,1,1,1,1,82.025000000000006,183.9,10.9053,47.66,1.5825,1.3556999999999999,11226.655000000001,1,1,19.3505,71,1.2833000000000001,0.9698,20677.012999999999]
["2003-04-01",false,"2016-03-31",false,false,{"$error":"#N/A"},916.919983,1,0,false,1,{"$error":"#N/A"},1,{"$error":"#N/A"},1,1,1,1,1,1,1,6509.8798829999996,{"$error":"#N/A"},{"$error":"#N/A"},{"$error":"#N/A"},{"$error":"#N/A"},{"$error":"#N/A"},48971.140625,0,0,0,0,0,1,1,1,1,1,1,48971.140625,0,0,0,0,0,false,false,false,false,false,false,false,1,1,1,1,1,1,82.266000000000005,183.2,10.588699999999999,47.45,1.5739000000000001,1.3536999999999999,11368.272999999999,1,1,19.3505,71,1.2833000000000001,0.9698,20677.012999999999]
["2003-05-01",false,"2016-04-07",false,false,{"$error":"#N/A"},963.59002699999996,1,0,false,1,{"$error":"#N/A"},1,{"$error":"#N/A"},1,1,1,1,1,1,1,6699.1801759999998,{"$error":"#N/A"},{"$error":"#N/A"},{"$error":"#N/A"},{"$error":"#N/A"},{"$error":"#N/A"},48971.140625,0,0,0,0,0,1,1,1,1,1,1,48971.140625,0,0,0,0,0,false,false,false,false,false,false,false,1,1,1,1,1,1,82.266000000000005,182.9,10.252800000000001,47.35,1.6224000000000001,1.3420000000000001,11368.272999999999,1,1,19.3505,71,1.2833000000000001,0.9698,20677.012999999999]
["2003-06-01",{"$f":"IF(B650<=$D$2,EOMONTH(B650,1))","v":false},"2016-04-14",false,false,{"$f":"LOOKUP(D651,A:A,G:G)","v":{"$error":"#N/A"}},{"$f":"IFERROR(LOOKUP($A651,INDIRECT(\"'\"&G$7&\"'!A:A\"),INDIRECT(\"'\"&G$7&\"'!\"&$G$9&\":\"&$G$9)),0)","v":974.5},{"$f":"IF(H$8,INDEX($BN651:$BT651,H$8),1)","v":1},{"$f":"IF(ISNUMBER(F651),F651,I652)*H651","v":0},false,1,{"$error":"#N/A"},1,{"$error":"#N/A"},1,1,1,1,1,1,1,{"$f":"LOOKUP($A651,INDIRECT(\"'\"&V$5&\"'!A:A\"),INDIRECT(\"'\"&V$5&\"'!\"&V$7&\":\"&V$7))","v":7054.9902339999999},{"$error":"#N/A"},{"$error":"#N/A"},{"$error":"#N/A"},{"$error":"#N/A"},{"$error":"#N/A"},{"$f":"IF(ISNUMBER(LOOKUP($D651,$A:$A,V:V)),LOOKUP($D651,$A:$A,V:V),AB650)","v":48971.140625},{"$f":"IF(ISNUMBER(LOOKUP($D651,$A:$A,W:W)),LOOKUP($D651,$A:$A,W:W),AC650)","v":0},{"$f":"IF(ISNUMBER(LOOKUP($D651,$A:$A,X:X)),LOOKUP($D651,$A:$A,X:X),AD650)","v":0},{"$f":"IF(ISNUMBER(LOOKUP($D651,$A:$A,Y:Y)),LOOKUP($D651,$A:$A,Y:Y),AE650)","v":0},{"$f":"IF(ISNUMBER(LOOKUP($D651,$A:$A,Z:Z)),LOOKUP($D651,$A:$A,Z:Z),AF650)","v":0},{"$f":"IF(ISNUMBER(LOOKUP($D651,$A:$A,AA:AA)),LOOKUP($D651,$A:$A,AA:AA),AG650)","v":0},1,1,1,1,1,1,{"$f":"IFERROR(IF(ISNUMBER(AB651)>0.1,AB651,AN652)*AH651,AN652)","v":48971.140625},{"$f":"IFERROR(IF(ISNUMBER(AC651)>0.1,AC651,AO652)*AI651,AO652)","v":0},{"$f":"IFERROR(IF(ISNUMBER(AD651)>0.1,AD651,AP652)*AJ651,AP652)","v":0},{"$f":"IFERROR(IF(ISNUMBER(AE651)>0.1,AE651,AQ652)*AK651,AQ652)","v":0},{"$f":"IFERROR(IF(ISNUMBER(AF651)>0.1,AF651,AR652)*AL651,AR652)","v":0},{"$f":"IF(ISNUMBER(AG651)>0.1,AG651,AS652)","v":0},false,{"$f":"IF(E651,IFERROR(LN(AN651/AN650),FALSE))","v":false},{"$f":"IF(E651,IFERROR(LN(AO651/AO650),FALSE))","v":false},{"$f":"IF(E651,IFERROR(LN(AP651/AP650),FALSE))","v":false},{"$f":"IF(E651,IFERROR(LN(AQ651/AQ650),FALSE))","v":false},{"$f":"IF(E651,IFERROR(LN(AR651/AR650),FALSE))","v":false},{"$f":"IF(E651,IFERROR(LN(AS651/AS650),FALSE))","v":false},1,1,1,1,1,1,{"$f":"IFERROR(LOOKUP($A651,INDIRECT(\"'\"&BN$6&\"'!A:A\"),INDIRECT(\"'\"&BN$6&\"'!\"&BN$7&\":\"&BN$7)),0)","v":82.266000000000005},{"$f":"IFERROR(LOOKUP($A651,INDIRECT(\"'\"&BO$6&\"'!A:A\"),INDIRECT(\"'\"&BO$6&\"'!\"&BO$7&\":\"&BO$7)),0)","v":183.1},{"$f":"IFERROR(LOOKUP($A651,INDIRECT(\"'\"&BP$6&\"'!A:A\"),INDIRECT(\"'\"&BP$6&\"'!\"&BP$7&\":\"&BP$7)),0)","v":10.502800000000001},{"$f":"IFERROR(LOOKUP($A651,INDIRECT(\"'\"&BQ$6&\"'!A:A\"),INDIRECT(\"'\"&BQ$6&\"'!\"&BQ$7&\":\"&BQ$7)),0)","v":47.07},{"$f":"IFERROR(LOOKUP($A651,INDIRECT(\"'\"&BR$6&\"'!A:A\"),INDIRECT(\"'\"&BR$6&\"'!\"&BR$7&\":\"&BR$7)),0)","v":1.6609},{"$f":"IFERROR(LOOKUP($A651,INDIRECT(\"'\"&BS$6&\"'!A:A\"),INDIRECT(\"'\"&BS$6&\"'!\"&BS$7&\":\"&BS$7)),0)","v":1.3022},{"$f":"IFERROR(LOOKUP($A651,INDIRECT(\"'\"&BT$6&\"'!A:A\"),INDIRECT(\"'\"&BT$6&\"'!\"&BT$7&\":\"&BT$7)),0)","v":11368.272999999999},{"$f":"IFERROR(1/IFERROR(LOOKUP($D651,$A:$A,BG:BG)*1,0),1)","v":1},{"$f":"IFERROR(1/IFERROR(LOOKUP($D651,$A:$A,BH:BH)*1,0),1)","v":1},19.3505,71,1.2833000000000001,0.9698,20677.012999999999]
["2003-07-01",false,{"$f":"IF(C651<=$D$2,C651+7)","v":"2016-04-21"},false,{"$f":"AND(D652>=$D$4,D651<=$D$2)","v":false},{"$error":"#N/A"},990.30999799999995,1,0,{"$f":"IFERROR(LN(I652/I651),FALSE)","v":false},1,{"$error":"#N/A"},1,{"$error":"#N/A"},1,1,1,1,1,1,1,7355.0698240000002,{"$error":"#N/A"},{"$error":"#N/A"},{"$error":"#N/A"},{"$error":"#N/A"},{"$error":"#N/A"},48971.140625,0,0,0,0,0,1,1,1,1,1,1,48971.140625,0,0,0,0,0,false,false,false,false,false,false,false,{"$f":"IFERROR(IF($E652,BA651*AN652/AN651,1),1)","v":1},{"$f":"IFERROR(IF($E652,BB651*AO652/AO651,1),1)","v":1},{"$f":"IFERROR(IF($E652,BC651*AP652/AP651,1),1)","v":1},{"$f":"IFERROR(IF($E652,BD651*AQ652/AQ651,1),1)","v":1},{"$f":"IFERROR(IF($E652,BE651*AR652/AR651,1),1)","v":1},{"$f":"IFERROR(IF($E652,BF651*AS652/AS651,1),1)","v":1},82.712000000000003,183.7,10.4581,46.49,1.6221000000000001,1.3411999999999999,11621.763000000001,1,1,{"$f":"IFERROR(LOOKUP($D652,$A:$A,BI:BI)*1,BP651)","v":19.3505},{"$f":"IFERROR(LOOKUP($D652,$A:$A,BJ:BJ)*1,BQ651)","v":71},{"$f":"IFERROR(LOOKUP($D652,$A:$A,BK:BK)*1,BR651)","v":1.2833000000000001},{"$f":"IFERROR(LOOKUP($D652,$A:$A,BL:BL)*1,BS651)","v":0.9698},{"$f":"IFERROR(LOOKUP($D652,$A:$A,BM:BM)*1,BT651)","v":20677.012999999999}]
["2003-08-01",false,"2016-04-28",{"$f":"IF($D$6,C653,B653)","v":false},false,{"$error":"#N/A"},1008.01001,1,0,false,{"$f":"IF($E653,(K652*I653/I652),1)","v":1},{"$f":"IF(E653,D653,NA())","v":{"$error":"#N/A"}},{"$f":"CHOOSE($M$1,I653,J653,K653)","v":1},{"$f":"L653","v":{"$error":"#N/A"}},{"$f":"M653","v":1},{"$f":"IFERROR(CHOOSE($M$1,AN653,AU653,BA653),1)","v":1},{"$f":"IFERROR(CHOOSE($M$1,AO653,AV653,BB653),1)","v":1},{"$f":"IFERROR(CHOOSE($M$1,AP653,AW653,BC653),1)","v":1},{"$f":"IFERROR(CHOOSE($M$1,AQ653,AX653,BD653),1)","v":1},{"$f":"IFERROR(CHOOSE($M$1,AR653,AY653,BE653),1)","v":1},{"$f":"IFERROR(CHOOSE($M$1,AS653,AZ653,BF653),1)","v":1},7591.419922,{"$error":"#N/A"},{"$error":"#N/A"},{"$error":"#N/A"},{"$error":"#N/A"},{"$error":"#N/A"},48971.140625,0,0,0,0,0,1,1,1,1,1,1,48971.140625,0,0,0,0,0,{"$f":"J653","v":false},false,false,false,false,false,false,1,1,1,1,1,1,82.712000000000003,184.5,10.782999999999999,46.18,1.5939000000000001,1.3668,11621.763000000001,1,1,19.3505,71,1.2833000000000001,0.9698,20677.012999999999]
["2003-09-01",false,"2016-05-05",false,false,{"$error":"#N/A"},995.96997099999999,1,0,false,1,{"$error":"#N/A"},1,{"$error":"#N/A"},1,1,1,1,1,1,1,7822.4799800000001,{"$error":"#N/A"},{"$error":"#N/A"},{"$error":"#N/A"},{"$error":"#N/A"},{"$error":"#N/A"},48971.140625,0,0,0,0,0,1,1,1,1,1,1,48971.140625,0,0,0,0,0,false,false,false,false,false,false,false,1,1,1,1,1,1,82.712000000000003,185.1,10.9229,".",1.6154999999999999,".",11621.763000000001,1,1,19.3505,71,1.2833000000000001,0.9698,20677.012999999999]
["2003-10-01",false,"2016-05-12",false,false,{"$error":"#N/A"},1050.709961,1,0,false,1,{"$error":"#N/A"},1,{"$error":"#N/A"},1,1,1,1,1,1,1,8064.830078,{"$error":"#N/A"},{"$error":"#N/A"},{"$error":"#N/A"},{"$error":"#N/A"},{"$error":"#N/A"},48971.140625,0,0,0,0,0,1,1,1,1,1,1,48971.140625,0,0,0,0,0,false,false,false,false,false,false,false,1,1,1,1,1,1,83.200999999999993,184.9,11.179600000000001,45.7,1.6792,1.3148,11849.731,1,1,19.3505,71,1.2833000000000001,0.9698,20677.012999999999]
["2003-11-01",false,"2016-05-19",false,false,{"$error":"#N/A"},1058.1999510000001,1,0,false,1,{"$error":"#N/A"},1,{"$error":"#N/A"},1,1,1,1,1,1,1,8554.4804690000001,{"$error":"#N/A"},{"$error":"#N/A"},{"$error":"#N/A"},{"$error":"#N/A"},{"$error":"#N/A"},48971.140625,0,0,0,0,0,1,1,1,1,1,1,48971.140625,0,0,0,0,0,false,false,false,false,false,false,false,1,1,1,1,1,1,83.200999999999993,185,11.1494,45.33,1.6897,1.3382000000000001,11849.731,1,1,19.3505,71,1.2833000000000001,0.9698,20677.012999999999]
["2003-12-01",false,"2016-05-26",false,false,{"$error":"#N/A"},1111.920044,1,0,false,1,{"$error":"#N/A"},1,{"$error":"#N/A"},1,1,1,1,1,1,1,8795.2802730000003,{"$error":"#N/A"},{"$error":"#N/A"},{"$error":"#N/A"},{"$error":"#N/A"},{"$error":"#N/A"},48971.140625,0,0,0,0,0,1,1,1,1,1,1,48971.140625,0,0,0,0,0,false,false,false,false,false,false,false,1,1,1,1,1,1,83.200999999999993,185.5,11.2515,45.77,1.7516,1.3003,11849.731,1,1,19.3505,71,1.2833000000000001,0.9698,20677.012999999999]
["2004-01-01",false,"2016-06-02",false,false,{"$error":"#N/A"},1131.130005,1,0,false,1,{"$error":"#N/A"},1,{"$error":"#N/A"},1,1,1,1,1,1,1,9428.7695309999999,{"$error":"#N/A"},{"$error":"#N/A"},{"$error":"#N/A"},{"$error":"#N/A"},{"$error":"#N/A"},48971.140625,0,0,0,0,0,1,1,1,1,1,1,48971.140625,0,0,0,0,0,false,false,false,false,false,false,false,1,1,1,1,1,1,83.82,186.3,10.920299999999999,".",1.8254999999999999,".",12018.97,1,1,19.3505,71,1.2833000000000001,0.9698,20677.012999999999]
["2004-02-01",false,"2016-06-09",false,false,{"$error":"#N/A"},1144.9399410000001,1,0,false,1,{"$error":"#N/A"},1,{"$error":"#N/A"},1,1,1,1,1,1,1,9991.7998050000006,{"$error":"#N/A"},{"$error":"#N/A"},{"$error":"#N/A"},{"$error":"#N/A"},{"$error":"#N/A"},48971.140625,0,0,0,0,0,1,1,1,1,1,1,48971.140625,0,0,0,0,0,false,false,false,false,false,false,false,1,1,1,1,1,1,83.82,186.7,11.0319,45.32,1.8673,1.2593000000000001,12018.97,1,1,19.3505,71,1.2833000000000001,0.9698,20677.012999999999]
["2004-03-01",false,"2016-06-16",false,false,{"$error":"#N/A"},1126.209961,1,0,false,1,{"$error":"#N/A"},1,{"$error":"#N/A"},1,1,1,1,1,1,1,10517.5,{"$error":"#N/A"},{"$error":"#N/A"},{"$error":"#N/A"},{"$error":"#N/A"},{"$error":"#N/A"},48971.140625,0,0,0,0,0,1,1,1,1,1,1,48971.140625,0,0,0,0,0,false,false,false,false,false,false,false,1,1,1,1,1,1,83.82,187.1,11.019,45.32,1.8261000000000001,1.2703,12018.97,1,1,19.3505,71,1.2833000000000001,0.9698,20677.012999999999]
["2004-04-01",false,"2016-06-23",false,false,{"$error":"#N/A"},1107.3000489999999,1,0,false,1,{"$error":"#N/A"},1,{"$error":"#N/A"},1,1,1,1,1,1,1,9948.1298829999996,{"$error":"#N/A"},{"$error":"#N/A"},{"$error":"#N/A"},{"$error":"#N/A"},{"$error":"#N/A"},48971.140625,0,0,0,0,0,1,1,1,1,1,1,48971.140625,0,0,0,0,0,false,false,false,false,false,false,false,1,1,1,1,1,1,84.504000000000005,187.4,11.270099999999999,43.4,1.8030999999999999,1.2626999999999999,12182.397999999999,1,1,19.3505,71,1.2833000000000001,0.9698,20677.012999999999]
["2004-05-01",false,"2016-06-30",false,false,{"$error":"#N/A"},1120.6800539999999,1,0,false,1,{"$error":"#N/A"},1,{"$error":"#N/A"},1,1,1,1,1,1,1,10036.290039,{"$error":"#N/A"},{"$error":"#N/A"},{"$error":"#N/A"},{"$error":"#N/A"},{"$error":"#N/A"},48971.140625,0,0,0,0,0,1,1,1,1,1,1,48971.140625,0,0,0,0,0,false,false,false,false,false,false,false,1,1,1,1,1,1,84.504000000000005,188.2,11.5199,44.52,1.786,1.2984,12182.397999999999,1,1,19.3505,71,1.2833000000000001,0.9698,20677.012999999999]
["2004-06-01",false,"2016-07-07",false,false,{"$error":"#N/A"},1140.839966,1,0,false,1,{"$error":"#N/A"},1,{"$error":"#N/A"},1,1,1,1,1,1,1,10281.820313,{"$error":"#N/A"},{"$error":"#N/A"},{"$error":"#N/A"},{"$error":"#N/A"},{"$error":"#N/A"},48971.140625,0,0,0,0,0,1,1,1,1,1,1,48971.140625,0,0,0,0,0,false,false,false,false,false,false,false,1,1,1,1,1,1,84.504000000000005,188.9,11.3926,45.43,1.8279000000000001,1.2509999999999999,12182.397999999999,1,1,19.3505,71,1.2833000000000001,0.9698,20677.012999999999]
["2004-07-01",false,"2016-07-14",false,false,{"$error":"#N/A"},1101.719971,1,0,false,1,{"$error":"#N/A"},1,{"$error":"#N/A"},1,1,1,1,1,1,1,10116.389648,{"$error":"#N/A"},{"$error":"#N/A"},{"$error":"#N/A"},{"$error":"#N/A"},{"$error":"#N/A"},48971.140625,0,0,0,0,0,1,1,1,1,1,1,48971.140625,0,0,0,0,0,false,false,false,false,false,false,false,1,1,1,1,1,1,85.055999999999997,189.1,11.4678,45.88,1.8438000000000001,1.2508999999999999,12386.853999999999,1,1,19.3505,71,1.2833000000000001,0.9698,20677.012999999999]
["2004-08-01",false,"2016-07-21",false,false,{"$error":"#N/A"},1104.23999,1,0,false,1,{"$error":"#N/A"},1,{"$error":"#N/A"},1,1,1,1,1,1,1,10264.320313,{"$error":"#N/A"},{"$error":"#N/A"},{"$error":"#N/A"},{"$error":"#N/A"},{"$error":"#N/A"},48971.140625,0,0,0,0,0,1,1,1,1,1,1,48971.140625,0,0,0,0,0,false,false,false,false,false,false,false,1,1,1,1,1,1,85.055999999999997,189.2,11.395300000000001,46.4,1.8203,1.2796000000000001,12386.853999999999,1,1,19.3505,71,1.2833000000000001,0.9698,20677.012999999999]
["2004-09-01",false,"2016-07-28",false,false,{"$error":"#N/A"},1114.579956,1,0,false,1,{"$error":"#N/A"},1,{"$error":"#N/A"},1,1,1,1,1,1,1,10957.370117,{"$error":"#N/A"},{"$error":"#N/A"},{"$error":"#N/A"},{"$error":"#N/A"},{"$error":"#N/A"},48971.140625,0,0,0,0,0,1,1,1,1,1,1,48971.140625,0,0,0,0,0,false,false,false,false,false,false,false,1,1,1,1,1,1,85.055999999999997,189.8,11.487,46.34,1.7937000000000001,1.2615000000000001,12386.853999999999,1,1,19.3505,71,1.2833000000000001,0.9698,20677.012999999999]
["2004-10-01",false,"2016-08-04",false,false,{"$error":"#N/A"},1130.1999510000001,1,0,false,1,{"$error":"#N/A"},1,{"$error":"#N/A"},1,1,1,1,1,1,1,11564.349609000001,{"$error":"#N/A"},{"$error":"#N/A"},{"$error":"#N/A"},{"$error":"#N/A"},{"$error":"#N/A"},48971.140625,0,0,0,0,0,1,1,1,1,1,1,48971.140625,0,0,0,0,0,false,false,false,false,false,false,false,1,1,1,1,1,1,85.712000000000003,190.8,11.403700000000001,45.85,1.8077000000000001,1.2496,12579.436,1,1,19.3505,71,1.2833000000000001,0.9698,20677.012999999999]
["2004-11-01",false,"2016-08-11",false,false,{"$error":"#N/A"},1173.8199460000001,1,0,false,1,{"$error":"#N/A"},1,{"$error":"#N/A"},1,1,1,1,1,1,1,12102.549805000001,{"$error":"#N/A"},{"$error":"#N/A"},{"$error":"#N/A"},{"$error":"#N/A"},{"$error":"#N/A"},48971.140625,0,0,0,0,0,1,1,1,1,1,1,48971.140625,0,0,0,0,0,false,false,false,false,false,false,false,1,1,1,1,1,1,85.712000000000003,191.7,11.371,45.33,1.8607,1.2028000000000001,12579.436,1,1,19.3505,71,1.2833000000000001,0.9698,20677.012999999999]
["2004-12-01",false,"2016-08-18",false,false,{"$error":"#N/A"},1211.920044,1,0,false,1,{"$error":"#N/A"},1,{"$error":"#N/A"},1,1,1,1,1,1,1,12917.879883,{"$error":"#N/A"},{"$error":"#N/A"},{"$error":"#N/A"},{"$error":"#N/A"},{"$error":"#N/A"},48971.140625,0,0,0,0,0,1,1,1,{"$f":"IF(AK$7,INDEX($BN669:$BT669,AK$7),1)","v":1},1,1,48971.140625,0,0,0,0,0,false,false,false,false,false,false,false,1,1,1,1,1,1,85.712000000000003,191.7,11.2012,44.3,1.9286000000000001,1.1439999999999999,12579.436,1,1,19.3505,71,1.2833000000000001,0.9698,20677.012999999999]
["2005-01-01",false,"2016-08-25",false,false,{"$error":"#N/A"},1181.2700199999999,1,0,false,1,{"$error":"#N/A"},1,{"$error":"#N/A"},1,1,1,1,1,1,1,13097.120117,{"$error":"#N/A"},{"$error":"#N/A"},{"$error":"#N/A"},{"$error":"#N/A"},{"$error":"#N/A"},48971.140625,0,0,0,0,0,1,1,1,1,1,1,48971.140625,0,0,0,0,0,false,false,false,false,false,false,false,1,1,1,1,1,1,86.391000000000005,191.6,11.262700000000001,43.27,1.8796999999999999,1.1412,12851.097,1,1,19.3505,71,1.2833000000000001,0.9698,20677.012999999999]
["2005-02-01",false,"2016-09-01",false,false,{"$error":"#N/A"},1203.599976,1,0,false,1,{"$error":"#N/A"},1,{"$error":"#N/A"},1,1,1,1,1,1,1,13789.459961,{"$error":"#N/A"},{"$error":"#N/A"},{"$error":"#N/A"},{"$error":"#N/A"},{"$error":"#N/A"},48971.140625,0,0,0,0,0,1,1,1,1,1,1,48971.140625,0,0,0,0,0,false,false,false,false,false,false,false,1,1,1,1,1,1,86.391000000000005,192.4,11.1373,43.66,1.8871,1.1937,12851.097,1,1,19.3505,71,1.2833000000000001,0.9698,20677.012999999999]
["2005-03-01",false,"2016-09-08",false,false,{"$error":"#N/A"},1180.589966,1,0,false,1,{"$error":"#N/A"},1,{"$error":"#N/A"},1,1,1,1,1,1,1,12676.900390999999,{"$error":"#N/A"},{"$error":"#N/A"},{"$error":"#N/A"},{"$error":"#N/A"},{"$error":"#N/A"},48971.140625,0,0,0,0,0,1,1,1,1,1,1,48971.140625,0,0,0,0,0,false,false,false,false,false,false,false,1,1,1,1,1,1,86.391000000000005,193.1,11.155200000000001,43.58,1.9043000000000001,1.1654,12851.097,1,1,19.3505,71,1.2833000000000001,0.9698,20677.012999999999]
["2005-04-01",false,"2016-09-15",false,false,{"$error":"#N/A"},1156.849976,1,0,false,1,{"$error":"#N/A"},1,{"$error":"#N/A"},1,1,1,1,1,1,1,12322.990234000001,{"$error":"#N/A"},{"$error":"#N/A"},{"$error":"#N/A"},{"$error":"#N/A"},{"$error":"#N/A"},48971.140625,0,0,0,0,0,1,1,1,1,1,1,48971.140625,0,0,0,0,0,false,false,false,false,false,false,false,1,1,1,1,1,1,86.995999999999995,193.7,11.1121,43.62,1.8960999999999999,1.2041999999999999,12987.61,1,1,19.3505,71,1.2833000000000001,0.9698,20677.012999999999]
["2005-05-01",false,"2016-09-22",false,false,{"$error":"#N/A"},1191.5,1,0,false,1,{"$error":"#N/A"},1,{"$error":"#N/A"},1,1,1,1,1,1,1,12964.389648,{"$error":"#N/A"},{"$error":"#N/A"},{"$error":"#N/A"},{"$error":"#N/A"},{"$error":"#N/A"},48971.140625,0,0,0,0,0,1,1,1,1,1,1,48971.140625,0,0,0,0,0,false,false,false,false,false,false,false,1,1,1,1,1,1,86.995999999999995,193.6,10.9764,43.48,1.8559000000000001,1.1898,12987.61,1,1,19.3505,71,1.2833000000000001,0.9698,20677.012999999999]
["2005-06-01",false,"2016-09-29",false,false,{"$error":"#N/A"},1191.329956,1,0,false,1,{"$error":"#N/A"},1,{"$error":"#N/A"},1,1,1,1,1,1,1,13486.129883,{"$error":"#N/A"},{"$error":"#N/A"},{"$error":"#N/A"},{"$error":"#N/A"},{"$error":"#N/A"},48971.140625,0,0,0,0,0,1,1,1,1,1,1,48971.140625,0,0,0,0,0,false,false,false,false,false,false,false,1,1,1,1,1,1,86.995999999999995,193.7,10.819699999999999,43.71,1.8177000000000001,1.2528999999999999,12987.61,1,1,19.3505,71,1.2833000000000001,0.9698,20677.012999999999]
["2005-07-01",false,"2016-10-06",false,false,{"$error":"#N/A"},1234.1800539999999,1,0,false,1,{"$error":"#N/A"},1,{"$error":"#N/A"},1,1,1,1,1,1,1,14409.660156,{"$error":"#N/A"},{"$error":"#N/A"},{"$error":"#N/A"},{"$error":"#N/A"},{"$error":"#N/A"},48971.140625,0,0,0,0,0,1,1,1,1,1,1,48971.140625,0,0,0,0,0,false,false,false,false,false,false,false,1,1,1,1,1,1,87.783000000000001,194.9,10.6724,43.45,1.7506999999999999,1.2965,13230.073,1,1,19.3505,71,1.2833000000000001,0.9698,20677.012999999999]
["2005-08-01",false,"2016-10-13",false,false,{"$error":"#N/A"},1220.329956,1,0,false,1,{"$error":"#N/A"},1,{"$error":"#N/A"},1,1,1,1,1,1,1,14243.190430000001,{"$error":"#N/A"},{"$error":"#N/A"},{"$error":"#N/A"},{"$error":"#N/A"},{"$error":"#N/A"},48971.140625,0,0,0,0,0,1,1,1,1,1,1,48971.140625,0,0,0,0,0,false,false,false,false,false,false,false,1,1,1,1,1,1,87.783000000000001,196.1,10.686199999999999,43.37,1.7944,1.278,13230.073,1,1,19.3505,71,1.2833000000000001,0.9698,20677.012999999999]
["2005-09-01",false,"2016-10-20",false,false,{"$error":"#N/A"},1228.8100589999999,1,0,false,1,{"$error":"#N/A"},1,{"$error":"#N/A"},1,1,1,1,1,1,1,16120.080078000001,{"$error":"#N/A"},{"$error":"#N/A"},{"$f":"LOOKUP($A678,INDIRECT(\"'\"&Y$5&\"'!A:A\"),INDIRECT(\"'\"&Y$5&\"'!\"&Y$7&\":\"&Y$7))","v":{"$error":"#N/A"}},{"$error":"#N/A"},{"$error":"#N/A"},48971.140625,0,0,0,0,0,1,1,1,1,1,1,48971.140625,0,0,0,0,0,false,false,false,false,false,false,false,1,1,1,1,1,1,87.783000000000001,198.8,10.7858,43.94,1.8064,1.24,13230.073,1,1,19.3505,71,1.2833000000000001,0.9698,20677.012999999999]
["2005-10-01",false,"2016-10-27",false,false,{"$error":"#N/A"},1207.01001,1,0,false,1,{"$error":"#N/A"},1,{"$error":"#N/A"},1,1,1,1,1,1,1,15759.730469,{"$error":"#N/A"},{"$error":"#N/A"},{"$error":"#N/A"},{"$error":"#N/A"},{"$error":"#N/A"},48971.140625,0,0,0,0,0,1,1,1,1,1,1,48971.140625,0,0,0,0,0,false,false,false,false,false,false,false,1,1,1,1,1,1,88.489000000000004,199.1,10.8354,43.94,1.7650999999999999,1.2889999999999999,13389.59,1,1,19.3505,71,1.2833000000000001,0.9698,20677.012999999999]
["2005-11-01",false,"2016-11-03",false,false,{"$error":"#N/A"},1249.4799800000001,1,0,false,1,{"$error":"#N/A"},1,{"$error":"#N/A"},1,1,1,1,1,1,1,16830.960938,{"$error":"#N/A"},{"$error":"#N/A"},{"$error":"#N/A"},{"$error":"#N/A"},{"$error":"#N/A"},48971.140625,0,0,0,0,0,1,1,1,1,1,1,48971.140625,0,0,0,0,0,false,false,false,false,false,false,false,1,1,1,1,1,1,88.489000000000004,198.1,10.6715,45.02,1.7349000000000001,1.2903,13389.59,1,1,19.3505,71,1.2833000000000001,0.9698,20677.012999999999]
["2005-12-01",false,"2016-11-10",false,false,{"$error":"#N/A"},1248.290039,1,0,false,1,{"$error":"#N/A"},1,{"$error":"#N/A"},1,1,1,1,1,1,1,17802.710938,{"$error":"#N/A"},{"$error":"#N/A"},{"$error":"#N/A"},{"$error":"#N/A"},{"$error":"#N/A"},48971.140625,0,0,0,0,0,1,1,1,1,1,1,48971.140625,0,0,0,0,0,false,false,false,false,false,false,false,1,1,1,1,1,1,88.489000000000004,198.1,10.6266,45.97,1.7458,1.321,13389.59,1,1,19.3505,71,1.2833000000000001,0.9698,20677.012999999999]
["2006-01-01",false,"2016-11-17",false,false,{"$error":"#N/A"},1280.079956,1,0,false,1,{"$error":"#N/A"},1,{"$error":"#N/A"},1,1,1,1,1,1,1,18907.099609000001,{"$error":"#N/A"},{"$error":"#N/A"},{"$error":"#N/A"},{"$error":"#N/A"},{"$error":"#N/A"},48971.140625,0,0,0,0,0,1,1,1,1,1,1,48971.140625,0,0,0,0,0,false,false,false,false,false,false,false,1,1,1,1,1,1,89.106999999999999,199.3,10.542199999999999,44.95,1.7685999999999999,1.3148,13662.717000000001,1,1,19.3505,71,1.2833000000000001,0.9698,20677.012999999999]
["2006-02-01",false,"2016-11-24",false,false,{"$error":"#N/A"},1280.660034,1,0,false,1,{"$error":"#N/A"},1,{"$error":"#N/A"},1,1,1,1,1,1,1,18706.320313,{"$error":"#N/A"},{"$error":"#N/A"},{"$error":"#N/A"},{"$error":"#N/A"},{"$error":"#N/A"},48971.140625,0,0,0,0,0,1,1,1,1,1,1,48971.140625,0,0,0,0,0,false,false,false,false,false,false,false,1,1,1,1,1,1,89.106999999999999,199.4,10.4842,44.13,1.748,1.2841,13662.717000000001,1,1,19.3505,71,1.2833000000000001,0.9698,20677.012999999999]
["2006-03-01",false,"2016-12-01",false,false,{"$error":"#N/A"},1294.869995,1,0,false,1,{"$error":"#N/A"},1,{"$error":"#N/A"},1,1,1,1,1,1,1,19272.630859000001,{"$error":"#N/A"},{"$error":"#N/A"},{"$error":"#N/A"},{"$error":"#N/A"},{"$error":"#N/A"},48971.140625,0,0,0,0,0,1,1,1,1,1,1,48971.140625,0,0,0,0,0,false,false,false,false,false,false,false,1,1,1,1,1,1,89.106999999999999,199.7,10.7493,44.35,1.7442,1.3165,13662.717000000001,1,1,19.3505,71,1.2833000000000001,0.9698,20677.012999999999]
["2006-04-01",false,"2016-12-08",false,false,{"$error":"#N/A"},1310.6099850000001,1,0,false,1,{"$error":"#N/A"},1,{"$error":"#N/A"},1,1,1,1,1,1,1,20646.189452999999,{"$error":"#N/A"},{"$error":"#N/A"},{"$error":"#N/A"},{"$error":"#N/A"},{"$error":"#N/A"},48971.140625,0,0,0,0,0,{"$f":"IF(AH$7,INDEX($BN685:$BT685,AH$7),1)","v":1},1,1,1,1,1,48971.140625,0,0,0,0,0,false,false,false,false,false,false,false,1,1,1,1,1,1,89.852000000000004,200.7,11.0489,44.48,1.768,1.3025,13802.956,1,1,19.3505,71,1.2833000000000001,0.9698,20677.012999999999]
["2006-05-01",false,"2016-12-15",false,false,{"$error":"#N/A"},1270.089966,1,0,false,1,{"$error":"#N/A"},1,{"$error":"#N/A"},1,1,1,1,1,1,1,18677.919922000001,{"$error":"#N/A"},{"$error":"#N/A"},{"$error":"#N/A"},{"$error":"#N/A"},{"$error":"#N/A"},48971.140625,0,0,0,0,0,1,1,1,1,1,1,48971.140625,0,0,0,0,0,false,false,false,false,false,false,false,1,1,1,1,1,1,89.852000000000004,201.3,11.0908,44.77,1.8687,1.2385999999999999,13802.956,1,1,19.3505,71,1.2833000000000001,0.9698,20677.012999999999]
["2006-06-01",false,"2016-12-22",false,false,{"$error":"#N/A"},1270.1999510000001,1,0,false,1,{"$error":"#N/A"},1,{"$error":"#N/A"},1,1,1,1,1,1,1,19147.169922000001,{"$error":"#N/A"},{"$error":"#N/A"},{"$error":"#N/A"},{"$error":"#N/A"},{"$error":"#N/A"},48971.140625,0,0,0,0,0,1,1,1,1,1,1,48971.140625,0,0,0,0,0,false,false,false,false,false,false,false,1,1,1,1,1,1,89.852000000000004,201.8,11.3934,46.19,1.8434999999999999,1.2197,13802.956,1,1,19.3505,71,1.2833000000000001,0.9698,20677.012999999999]
["2006-07-01",false,"2016-12-29",false,false,{"$error":"#N/A"},1276.660034,1,0,false,1,{"$error":"#N/A"},1,{"$error":"#N/A"},1,1,1,1,1,1,1,20095.929688,{"$error":"#N/A"},{"$error":"#N/A"},{"$error":"#N/A"},{"$error":"#N/A"},{"$error":"#N/A"},48971.140625,0,0,0,0,0,1,1,1,1,1,1,48971.140625,0,0,0,0,0,false,false,false,false,false,false,false,1,1,1,1,1,1,90.480999999999995,202.9,10.983000000000001,45.87,1.8443000000000001,1.2246999999999999,13907.106,1,1,19.3505,71,1.2833000000000001,0.9698,20677.012999999999]
["2006-08-01",false,"2017-01-05",false,false,{"$error":"#N/A"},1303.8199460000001,1,0,false,1,{"$error":"#N/A"},1,{"$error":"#N/A"},1,1,1,1,1,1,1,21049.349609000001,{"$error":"#N/A"},{"$error":"#N/A"},{"$error":"#N/A"},{"$error":"#N/A"},{"$error":"#N/A"},48971.140625,0,0,0,0,0,1,1,1,1,1,1,48971.140625,0,0,0,0,0,false,false,false,false,false,false,false,1,1,1,1,1,1,90.480999999999995,203.8,10.8735,46.51,1.8940999999999999,1.2317,13907.106,1,1,19.3505,71,1.2833000000000001,0.9698,20677.012999999999]
["2006-09-01",false,"2017-01-12",false,false,{"$error":"#N/A"},1335.849976,1,0,false,1,{"$error":"#N/A"},1,{"$error":"#N/A"},1,1,1,1,1,1,1,21937.109375,{"$error":"#N/A"},{"$error":"#N/A"},{"$error":"#N/A"},{"$error":"#N/A"},{"$error":"#N/A"},48971.140625,0,0,0,0,0,1,1,1,1,1,1,48971.140625,0,0,0,0,0,false,false,false,false,false,false,false,1,1,1,1,1,1,90.480999999999995,202.8,10.988799999999999,46.38,1.8838999999999999,1.2307999999999999,13907.106,1,1,19.3505,71,1.2833000000000001,0.9698,20677.012999999999]
["2006-10-01",false,"2017-01-19",false,false,{"$error":"#N/A"},1377.9399410000001,1,0,false,1,{"$error":"#N/A"},1,{"$error":"#N/A"},1,1,1,1,1,1,1,23046.949218999998,{"$error":"#N/A"},{"$error":"#N/A"},{"$error":"#N/A"},{"$error":"#N/A"},{"$error":"#N/A"},48971.140625,0,0,0,0,0,1,1,1,1,1,1,48971.140625,0,0,0,0,0,false,false,false,false,false,false,false,1,1,1,1,1,1,90.814999999999998,201.9,10.885400000000001,45.95,1.8765000000000001,1.2504,14087.456,1,1,19.3505,71,1.2833000000000001,0.9698,20677.012999999999]
["2006-11-01",false,"2017-01-26",false,false,{"$error":"#N/A"},1400.630005,1,0,false,1,{"$error":"#N/A"},1,{"$error":"#N/A"},1,1,1,1,1,1,1,24962.009765999999,{"$error":"#N/A"},{"$error":"#N/A"},{"$error":"#N/A"},{"$error":"#N/A"},{"$error":"#N/A"},48971.140625,0,0,0,0,0,1,1,1,1,1,1,48971.140625,0,0,0,0,0,false,false,false,false,false,false,false,1,1,1,1,1,1,90.814999999999998,202,10.9133,44.79,1.9125000000000001,1.2433000000000001,14087.456,1,1,19.3505,71,1.2833000000000001,0.9698,20677.012999999999]
["2006-12-01",false,"2017-02-02",false,false,{"$error":"#N/A"},1418.3000489999999,1,0,false,1,{"$error":"#N/A"},1,{"$error":"#N/A"},1,1,1,1,1,1,1,26448.320313,{"$error":"#N/A"},{"$error":"#N/A"},{"$error":"#N/A"},{"$error":"#N/A"},{"$error":"#N/A"},48971.140625,0,0,0,0,0,1,1,1,1,1,1,48971.140625,0,0,0,0,0,false,false,false,false,false,false,false,1,1,1,1,1,1,90.814999999999998,203.1,10.8546,44.5,1.9629000000000001,1.1947000000000001,14087.456,1,1,19.3505,71,1.2833000000000001,0.9698,20677.012999999999]
["2007-01-01",false,"2017-02-09",false,false,{"$error":"#N/A"},1438.23999,1,0,false,1,{"$error":"#N/A"},1,{"$error":"#N/A"},1,1,1,1,1,1,1,27561.490234000001,{"$error":"#N/A"},{"$error":"#N/A"},{"$error":"#N/A"},{"$error":"#N/A"},{"$error":"#N/A"},48971.140625,0,0,0,0,0,1,1,1,1,1,1,48971.140625,0,0,0,0,0,false,false,false,false,false,false,false,1,1,1,1,1,1,91.707999999999998,203.43700000000001,10.9559,".",1.9587000000000001,".",14260.826999999999,1,1,19.3505,71,1.2833000000000001,0.9698,20677.012999999999]
["2007-02-01",false,"2017-02-16",false,false,{"$error":"#N/A"},1406.8199460000001,1,0,false,1,{"$error":"#N/A"},1,{"$error":"#N/A"},1,1,1,1,1,1,1,26638.949218999998,{"$error":"#N/A"},{"$error":"#N/A"},{"$error":"#N/A"},{"$error":"#N/A"},{"$error":"#N/A"},48971.140625,0,0,0,0,0,1,1,1,1,1,1,48971.140625,0,0,0,0,0,false,false,false,false,false,false,false,1,1,1,1,1,1,91.707999999999998,204.226,10.995100000000001,44.01,1.9589000000000001,1.2426999999999999,14260.826999999999,1,1,19.3505,71,1.2833000000000001,0.9698,20677.012999999999]
["2007-03-01",false,"2017-02-23",false,false,{"$error":"#N/A"},1420.8599850000001,1,0,false,1,{"$error":"#N/A"},1,{"$error":"#N/A"},1,1,1,1,1,1,1,28747.689452999999,{"$error":"#N/A"},{"$error":"#N/A"},{"$error":"#N/A"},{"$error":"#N/A"},{"$error":"#N/A"},48971.140625,0,0,0,0,0,1,1,1,1,1,1,48971.140625,0,0,0,0,0,false,false,false,false,false,false,false,1,1,1,1,1,1,91.707999999999998,205.28800000000001,11.1144,44.11,1.9474,1.2225999999999999,14260.826999999999,1,1,19.3505,71,1.2833000000000001,0.9698,20677.012999999999]
["2007-04-01",false,"2017-03-02",false,false,{"$error":"#N/A"},1482.369995,1,0,false,1,{"$error":"#N/A"},1,{"$error":"#N/A"},1,1,1,1,1,1,1,28996.710938,{"$error":"#N/A"},{"$error":"#N/A"},{"$error":"#N/A"},{"$error":"#N/A"},{"$error":"#N/A"},48971.140625,0,0,0,0,0,1,1,1,1,1,1,48971.140625,0,0,0,0,0,false,false,false,false,false,false,false,1,1,1,1,1,1,92.301000000000002,205.904,10.9802,43.1,1.9879,1.2125999999999999,14456.794,1,1,19.3505,71,1.2833000000000001,0.9698,20677.012999999999]
["2007-05-01",false,"2017-03-09",false,false,{"$error":"#N/A"},1530.619995,1,0,false,1,{"$error":"#N/A"},1,{"$error":"#N/A"},1,1,1,1,1,1,1,31398.960938,{"$error":"#N/A"},{"$error":"#N/A"},{"$error":"#N/A"},{"$error":"#N/A"},{"$error":"#N/A"},48971.140625,0,0,0,0,0,1,1,1,1,1,1,48971.140625,0,0,0,0,0,false,false,false,false,false,false,false,1,1,1,1,1,1,92.301000000000002,206.755,10.822100000000001,41,1.9842,1.2151000000000001,14456.794,1,1,19.3505,71,1.2833000000000001,0.9698,20677.012999999999]
["2007-06-01",false,"2017-03-16",false,false,{"$error":"#N/A"},1503.349976,1,0,false,1,{"$error":"#N/A"},1,{"$error":"#N/A"},1,1,1,1,1,1,1,31151.050781000002,{"$error":"#N/A"},{"$error":"#N/A"},{"$error":"#N/A"},{"$error":"#N/A"},{"$error":"#N/A"},48971.140625,0,0,0,0,0,1,1,1,1,1,1,48971.140625,0,0,0,0,0,false,false,false,false,false,false,false,1,1,1,1,1,1,92.301000000000002,207.23400000000001,10.833,40.270000000000003,1.9866999999999999,1.2299,14456.794,1,1,19.3505,71,1.2833000000000001,0.9698,20677.012999999999]
["2007-07-01",false,"2017-03-23",false,false,{"$error":"#N/A"},1455.2700199999999,1,0,false,1,{"$error":"#N/A"},1,{"$error":"#N/A"},1,1,1,1,1,1,1,30659.660156000002,{"$error":"#N/A"},{"$error":"#N/A"},{"$error":"#N/A"},{"$error":"#N/A"},{"$error":"#N/A"},48971.140625,0,0,0,0,0,1,1,1,1,1,1,48971.140625,0,0,0,0,0,false,false,false,false,false,false,false,1,1,1,1,1,1,92.775999999999996,207.60300000000001,10.8146,40.58,2.0354999999999999,1.224,14666.605,1,1,19.3505,71,1.2833000000000001,0.9698,20677.012999999999]
["2007-08-01",false,"2017-03-30",false,false,{"$error":"#N/A"},1473.98999,1,0,false,1,{"$error":"#N/A"},1,{"$error":"#N/A"},1,1,1,1,1,1,1,30347.859375,{"$error":"#N/A"},{"$error":"#N/A"},{"$error":"#N/A"},{"$error":"#N/A"},{"$error":"#N/A"},48971.140625,0,0,0,0,0,1,1,1,1,1,1,48971.140625,0,0,0,0,0,false,false,false,false,false,false,false,1,1,1,1,1,1,92.775999999999996,207.667,11.043799999999999,40.25,2.0110000000000001,1.2013,14666.605,1,1,19.3505,71,1.2833000000000001,0.9698,20677.012999999999]
["2007-09-01",false,"2017-04-06",false,false,{"$error":"#N/A"},1526.75,1,0,false,1,{"$error":"#N/A"},1,{"$error":"#N/A"},1,1,1,1,1,1,1,30296.189452999999,{"$error":"#N/A"},{"$error":"#N/A"},{"$error":"#N/A"},{"$error":"#N/A"},{"$error":"#N/A"},48971.140625,0,0,0,0,0,1,1,1,1,1,1,48971.140625,0,0,0,0,0,false,false,false,false,false,false,false,1,1,1,1,1,1,92.775999999999996,208.547,11.0319,40.630000000000003,2.0184000000000002,1.2071000000000001,14666.605,1,1,19.3505,71,1.2833000000000001,0.9698,20677.012999999999]
["2007-10-01",false,"2017-04-13",false,false,{"$error":"#N/A"},1549.380005,1,0,false,1,{"$error":"#N/A"},1,{"$error":"#N/A"},1,1,1,1,1,1,1,31458.669922000001,{"$error":"#N/A"},{"$error":"#N/A"},{"$error":"#N/A"},{"$error":"#N/A"},{"$error":"#N/A"},48971.140625,0,0,0,0,0,1,1,1,1,1,1,48971.140625,0,0,0,0,0,false,false,false,false,false,false,false,1,1,1,1,1,1,93.144999999999996,209.19,10.821400000000001,39.700000000000003,2.0449000000000002,1.1682999999999999,14859.307000000001,1,1,19.3505,71,1.2833000000000001,0.9698,20677.012999999999]
["2007-11-01",false,"2017-04-20",false,false,{"$error":"#N/A"},1481.1400149999999,1,0,false,1,{"$error":"#N/A"},1,{"$error":"#N/A"},1,1,1,1,1,1,1,29770.519531000002,{"$error":"#N/A"},{"$error":"#N/A"},{"$error":"#N/A"},{"$error":"#N/A"},{"$error":"#N/A"},48971.140625,0,0,0,0,0,1,1,1,1,1,1,48971.140625,0,0,0,0,0,false,false,false,false,false,false,false,1,1,1,1,1,1,93.144999999999996,210.834,10.8811,39.22,2.0701000000000001,1.1591,14859.307000000001,1,1,19.3505,71,1.2833000000000001,0.9698,20677.012999999999]
["2007-12-01",false,"2017-04-27",false,false,{"$error":"#N/A"},1468.3599850000001,1,0,false,1,{"$error":"#N/A"},1,{"$error":"#N/A"},1,1,1,1,1,1,1,29536.830077999999,{"$error":"#N/A"},{"$error":"#N/A"},{"$error":"#N/A"},{"$error":"#N/A"},{"$error":"#N/A"},48971.140625,0,0,0,0,0,1,1,1,1,1,1,48971.140625,0,0,0,0,0,false,false,false,false,false,false,false,1,1,1,1,1,1,93.144999999999996,211.44499999999999,10.846299999999999,39.520000000000003,2.0160999999999998,1.1287,14859.307000000001,1,1,19.3505,71,1.2833000000000001,0.9698,20677.012999999999]
["2008-01-01",false,"2017-05-04",false,false,{"$error":"#N/A"},1378.5500489999999,1,0,false,1,{"$error":"#N/A"},1,{"$error":"#N/A"},1,1,1,1,1,1,1,28793.640625,{"$error":"#N/A"},{"$error":"#N/A"},{"$error":"#N/A"},{"$error":"#N/A"},{"$error":"#N/A"},48971.140625,0,0,0,0,0,1,1,1,1,1,1,48971.140625,0,0,0,0,0,false,false,false,false,false,false,false,1,1,1,1,1,1,93.489000000000004,212.17400000000001,10.9057,".",1.9702,".",14812.718999999999,1,1,19.3505,71,1.2833000000000001,0.9698,20677.012999999999]
["2008-02-01",false,"2017-05-11",false,false,{"$error":"#N/A"},1330.630005,1,0,false,1,{"$error":"#N/A"},1,{"$error":"#N/A"},1,1,1,1,1,1,1,28918.519531000002,{"$error":"#N/A"},{"$error":"#N/A"},{"$error":"#N/A"},{"$error":"#N/A"},{"$error":"#N/A"},48971.140625,0,0,0,0,0,1,1,1,1,1,1,48971.140625,0,0,0,0,0,false,false,false,false,false,false,false,1,1,1,1,1,1,93.489000000000004,212.68700000000001,10.767899999999999,39.119999999999997,1.9645999999999999,1.0821000000000001,14812.718999999999,1,1,19.3505,71,1.2833000000000001,0.9698,20677.012999999999]
["2008-03-01",false,"2017-05-18",false,false,{"$error":"#N/A"},1322.6999510000001,1,0,false,1,{"$error":"#N/A"},1,{"$error":"#N/A"},1,1,1,1,1,1,1,30912.990234000001,{"$error":"#N/A"},{"$error":"#N/A"},{"$error":"#N/A"},{"$error":"#N/A"},{"$error":"#N/A"},48971.140625,0,0,0,0,0,1,1,1,1,1,1,48971.140625,0,0,0,0,0,false,false,false,false,false,false,false,1,1,1,1,1,1,93.489000000000004,213.44800000000001,10.732799999999999,39.96,2.0015000000000001,1.0435000000000001,14812.718999999999,1,1,19.3505,71,1.2833000000000001,0.9698,20677.012999999999]
["2008-04-01",false,"2017-05-25",false,false,{"$error":"#N/A"},1385.589966,1,0,false,1,{"$error":"#N/A"},1,{"$error":"#N/A"},1,1,1,1,1,1,1,30281.410156000002,{"$error":"#N/A"},{"$error":"#N/A"},{"$error":"#N/A"},{"$error":"#N/A"},{"$error":"#N/A"},48971.140625,0,0,0,0,0,1,1,1,1,1,1,48971.140625,0,0,0,0,0,false,false,false,false,false,false,false,1,1,1,1,1,1,93.99,213.94200000000001,10.5146,39.880000000000003,1.9816,1.0107999999999999,14971.514999999999,1,1,19.3505,71,1.2833000000000001,0.9698,20677.012999999999]
["2008-05-01",false,"2017-06-01",false,false,{"$error":"#N/A"},1400.380005,1,0,false,1,{"$error":"#N/A"},1,{"$error":"#N/A"},1,1,1,1,1,1,1,31975.470702999999,{"$error":"#N/A"},{"$error":"#N/A"},{"$error":"#N/A"},{"$error":"#N/A"},{"$error":"#N/A"},48971.140625,0,0,0,0,0,1,1,1,1,1,1,48971.140625,0,0,0,0,0,false,false,false,false,false,false,false,1,1,1,1,1,1,93.99,215.208,10.4381,40.58,1.9650000000000001,1.0478000000000001,14971.514999999999,1,1,19.3505,71,1.2833000000000001,0.9698,20677.012999999999]
["2008-06-01",false,"2017-06-08",false,false,{"$error":"#N/A"},1280,1,0,false,1,{"$error":"#N/A"},1,{"$error":"#N/A"},1,1,1,1,1,1,1,29395.490234000001,{"$error":"#N/A"},{"$error":"#N/A"},{"$error":"#N/A"},{"$error":"#N/A"},{"$error":"#N/A"},48971.140625,0,0,0,0,0,1,1,1,1,1,1,48971.140625,0,0,0,0,0,false,false,false,false,false,false,false,1,1,1,1,1,1,93.99,217.46299999999999,10.3269,42.15,1.9663999999999999,1.0426,14971.514999999999,1,1,19.3505,71,1.2833000000000001,0.9698,20677.012999999999]
["2008-07-01",false,"2017-06-15",false,false,{"$error":"#N/A"},1267.380005,1,0,false,1,{"$error":"#N/A"},1,{"$error":"#N/A"},1,1,1,1,1,1,1,27501.019531000002,{"$error":"#N/A"},{"$error":"#N/A"},{"$error":"#N/A"},{"$error":"#N/A"},{"$error":"#N/A"},48971.140625,0,0,0,0,0,1,1,1,1,1,1,48971.140625,0,0,0,0,0,false,false,false,false,false,false,false,1,1,1,1,1,1,94.69,219.01599999999999,10.2094,43.23,1.9887999999999999,1.0183,15020.055,1,1,19.3505,71,1.2833000000000001,0.9698,20677.012999999999]
["2008-08-01",false,"2017-06-22",false,false,{"$error":"#N/A"},1282.829956,1,0,false,1,{"$error":"#N/A"},1,{"$error":"#N/A"},1,1,1,1,1,1,1,26290.990234000001,{"$error":"#N/A"},{"$error":"#N/A"},{"$error":"#N/A"},{"$error":"#N/A"},{"$error":"#N/A"},48971.140625,0,0,0,0,0,1,1,1,1,1,1,48971.140625,0,0,0,0,0,false,false,false,false,false,false,false,1,1,1,1,1,1,94.69,218.69,10.115399999999999,42.26,1.8865000000000001,1.048,15020.055,1,1,19.3505,71,1.2833000000000001,0.9698,20677.012999999999]
["2008-09-01",false,"2017-06-29",false,false,{"$error":"#N/A"},1166.3599850000001,1,0,false,1,{"$error":"#N/A"},1,{"$error":"#N/A"},1,1,1,1,1,1,1,24888.900390999999,{"$error":"#N/A"},{"$error":"#N/A"},{"$error":"#N/A"},{"$error":"#N/A"},{"$error":"#N/A"},48971.140625,0,0,0,0,0,1,1,1,1,1,1,48971.140625,0,0,0,0,0,false,false,false,false,false,false,false,1,1,1,1,1,1,94.69,218.87700000000001,10.6633,".",1.7972999999999999,".",15020.055,1,1,19.3505,71,1.2833000000000001,0.9698,20677.012999999999]
["2008-10-01",{"$f":"IF(B714<=$D$2,EOMONTH(B714,1))","v":false},"2017-07-06",false,false,{"$f":"LOOKUP(D715,A:A,G:G)","v":{"$error":"#N/A"}},{"$f":"IFERROR(LOOKUP($A715,INDIRECT(\"'\"&G$7&\"'!A:A\"),INDIRECT(\"'\"&G$7&\"'!\"&$G$9&\":\"&$G$9)),0)","v":968.75},{"$f":"IF(H$8,INDEX($BN715:$BT715,H$8),1)","v":1},{"$f":"IF(ISNUMBER(F715),F715,I716)*H715","v":0},false,1,{"$error":"#N/A"},1,{"$error":"#N/A"},1,1,1,1,1,1,1,{"$f":"LOOKUP($A715,INDIRECT(\"'\"&V$5&\"'!A:A\"),INDIRECT(\"'\"&V$5&\"'!\"&V$7&\":\"&V$7))","v":20445.320313},{"$error":"#N/A"},{"$error":"#N/A"},{"$error":"#N/A"},{"$error":"#N/A"},{"$error":"#N/A"},{"$f":"IF(ISNUMBER(LOOKUP($D715,$A:$A,V:V)),LOOKUP($D715,$A:$A,V:V),AB714)","v":48971.140625},{"$f":"IF(ISNUMBER(LOOKUP($D715,$A:$A,W:W)),LOOKUP($D715,$A:$A,W:W),AC714)","v":0},{"$f":"IF(ISNUMBER(LOOKUP($D715,$A:$A,X:X)),LOOKUP($D715,$A:$A,X:X),AD714)","v":0},{"$f":"IF(ISNUMBER(LOOKUP($D715,$A:$A,Y:Y)),LOOKUP($D715,$A:$A,Y:Y),AE714)","v":0},{"$f":"IF(ISNUMBER(LOOKUP($D715,$A:$A,Z:Z)),LOOKUP($D715,$A:$A,Z:Z),AF714)","v":0},{"$f":"IF(ISNUMBER(LOOKUP($D715,$A:$A,AA:AA)),LOOKUP($D715,$A:$A,AA:AA),AG714)","v":0},1,1,1,1,1,1,{"$f":"IFERROR(IF(ISNUMBER(AB715)>0.1,AB715,AN716)*AH715,AN716)","v":48971.140625},{"$f":"IFERROR(IF(ISNUMBER(AC715)>0.1,AC715,AO716)*AI715,AO716)","v":0},{"$f":"IFERROR(IF(ISNUMBER(AD715)>0.1,AD715,AP716)*AJ715,AP716)","v":0},{"$f":"IFERROR(IF(ISNUMBER(AE715)>0.1,AE715,AQ716)*AK715,AQ716)","v":0},{"$f":"IFERROR(IF(ISNUMBER(AF715)>0.1,AF715,AR716)*AL715,AR716)","v":0},{"$f":"IF(ISNUMBER(AG715)>0.1,AG715,AS716)","v":0},false,{"$f":"IF(E715,IFERROR(LN(AN715/AN714),FALSE))","v":false},{"$f":"IF(E715,IFERROR(LN(AO715/AO714),FALSE))","v":false},{"$f":"IF(E715,IFERROR(LN(AP715/AP714),FALSE))","v":false},{"$f":"IF(E715,IFERROR(LN(AQ715/AQ714),FALSE))","v":false},{"$f":"IF(E715,IFERROR(LN(AR715/AR714),FALSE))","v":false},{"$f":"IF(E715,IFERROR(LN(AS715/AS714),FALSE))","v":false},1,1,1,1,1,1,{"$f":"IFERROR(LOOKUP($A715,INDIRECT(\"'\"&BN$6&\"'!A:A\"),INDIRECT(\"'\"&BN$6&\"'!\"&BN$7&\":\"&BN$7)),0)","v":94.986000000000004},{"$f":"IFERROR(LOOKUP($A715,INDIRECT(\"'\"&BO$6&\"'!A:A\"),INDIRECT(\"'\"&BO$6&\"'!\"&BO$7&\":\"&BO$7)),0)","v":216.995},{"$f":"IFERROR(LOOKUP($A715,INDIRECT(\"'\"&BP$6&\"'!A:A\"),INDIRECT(\"'\"&BP$6&\"'!\"&BP$7&\":\"&BP$7)),0)","v":12.6593},{"$f":"IFERROR(LOOKUP($A715,INDIRECT(\"'\"&BQ$6&\"'!A:A\"),INDIRECT(\"'\"&BQ$6&\"'!\"&BQ$7&\":\"&BQ$7)),0)","v":46.47},{"$f":"IFERROR(LOOKUP($A715,INDIRECT(\"'\"&BR$6&\"'!A:A\"),INDIRECT(\"'\"&BR$6&\"'!\"&BR$7&\":\"&BR$7)),0)","v":1.6861999999999999},{"$f":"IFERROR(LOOKUP($A715,INDIRECT(\"'\"&BS$6&\"'!A:A\"),INDIRECT(\"'\"&BS$6&\"'!\"&BS$7&\":\"&BS$7)),0)","v":1.1209},{"$f":"IFERROR(LOOKUP($A715,INDIRECT(\"'\"&BT$6&\"'!A:A\"),INDIRECT(\"'\"&BT$6&\"'!\"&BT$7&\":\"&BT$7)),0)","v":14665.523999999999},{"$f":"IFERROR(1/IFERROR(LOOKUP($D715,$A:$A,BG:BG)*1,0),1)","v":1},{"$f":"IFERROR(1/IFERROR(LOOKUP($D715,$A:$A,BH:BH)*1,0),1)","v":1},19.3505,71,1.2833000000000001,0.9698,20677.012999999999]
["2008-11-01",false,{"$f":"IF(C715<=$D$2,C715+7)","v":"2017-07-13"},false,{"$f":"AND(D716>=$D$4,D715<=$D$2)","v":false},{"$error":"#N/A"},896.23999000000003,1,0,{"$f":"IFERROR(LN(I716/I715),FALSE)","v":false},1,{"$error":"#N/A"},1,{"$error":"#N/A"},1,1,1,1,1,1,1,20534.720702999999,{"$error":"#N/A"},{"$error":"#N/A"},{"$error":"#N/A"},{"$error":"#N/A"},{"$error":"#N/A"},48971.140625,0,0,0,0,0,1,1,1,1,1,1,48971.140625,0,0,0,0,0,false,false,false,false,false,false,false,{"$f":"IFERROR(IF($E716,BA715*AN716/AN715,1),1)","v":1},{"$f":"IFERROR(IF($E716,BB715*AO716/AO715,1),1)","v":1},{"$f":"IFERROR(IF($E716,BC715*AP716/AP715,1),1)","v":1},{"$f":"IFERROR(IF($E716,BD715*AQ716/AQ715,1),1)","v":1},{"$f":"IFERROR(IF($E716,BE715*AR716/AR715,1),1)","v":1},{"$f":"IFERROR(IF($E716,BF715*AS716/AS715,1),1)","v":1},94.986000000000004,213.15299999999999,13.118600000000001,49.4,1.5327,1.1669,14665.523999999999,1,1,{"$f":"IFERROR(LOOKUP($D716,$A:$A,BI:BI)*1,BP715)","v":19.3505},{"$f":"IFERROR(LOOKUP($D716,$A:$A,BJ:BJ)*1,BQ715)","v":71},{"$f":"IFERROR(LOOKUP($D716,$A:$A,BK:BK)*1,BR715)","v":1.2833000000000001},{"$f":"IFERROR(LOOKUP($D716,$A:$A,BL:BL)*1,BS715)","v":0.9698},{"$f":"IFERROR(LOOKUP($D716,$A:$A,BM:BM)*1,BT715)","v":20677.012999999999}]
["2008-12-01",false,"2017-07-20",{"$f":"IF($D$6,C717,B717)","v":false},false,{"$error":"#N/A"},903.25,1,0,false,{"$f":"IF($E717,(K716*I717/I716),1)","v":1},{"$f":"IF(E717,D717,NA())","v":{"$error":"#N/A"}},{"$f":"CHOOSE($M$1,I717,J717,K717)","v":1},{"$f":"L717","v":{"$error":"#N/A"}},{"$f":"M717","v":1},{"$f":"IFERROR(CHOOSE($M$1,AN717,AU717,BA717),1)","v":1},{"$f":"IFERROR(CHOOSE($M$1,AO717,AV717,BB717),1)","v":1},{"$f":"IFERROR(CHOOSE($M$1,AP717,AW717,BC717),1)","v":1},{"$f":"IFERROR(CHOOSE($M$1,AQ717,AX717,BD717),1)","v":1},{"$f":"IFERROR(CHOOSE($M$1,AR717,AY717,BE717),1)","v":1},{"$f":"IFERROR(CHOOSE($M$1,AS717,AZ717,BF717),1)","v":1},22380.320313,{"$error":"#N/A"},{"$error":"#N/A"},{"$error":"#N/A"},{"$error":"#N/A"},{"$error":"#N/A"},48971.140625,0,0,0,0,0,1,1,1,1,1,1,48971.140625,0,0,0,0,0,{"$f":"J717","v":false},false,false,false,false,false,false,1,1,1,1,1,1,94.986000000000004,211.398,13.416700000000001,49.94,1.4854000000000001,1.2076,14665.523999999999,1,1,19.3505,71,1.2833000000000001,0.9698,20677.012999999999]
["2009-01-01",false,"2017-07-27",false,false,{"$error":"#N/A"},825.88000499999998,1,0,false,1,{"$error":"#N/A"},1,{"$error":"#N/A"},1,1,1,1,1,1,1,19565.140625,{"$error":"#N/A"},{"$error":"#N/A"},{"$error":"#N/A"},{"$error":"#N/A"},{"$error":"#N/A"},48971.140625,0,0,0,0,0,1,1,1,1,1,1,48971.140625,0,0,0,0,0,false,false,false,false,false,false,false,1,1,1,1,1,1,94.975999999999999,211.93299999999999,13.883900000000001,".",1.4461999999999999,".",14511.592000000001,1,1,19.3505,71,1.2833000000000001,0.9698,20677.012999999999]
["2009-02-01",false,"2017-08-03",false,false,{"$error":"#N/A"},735.09002699999996,1,0,false,1,{"$error":"#N/A"},1,{"$error":"#N/A"},1,1,1,1,1,1,1,17752.179688,{"$error":"#N/A"},{"$error":"#N/A"},{"$error":"#N/A"},{"$error":"#N/A"},{"$error":"#N/A"},48971.140625,0,0,0,0,0,1,1,1,1,1,1,48971.140625,0,0,0,0,0,false,false,false,false,false,false,false,1,1,1,1,1,1,94.975999999999999,212.70500000000001,14.6066,48.83,1.4421999999999999,1.1612,14511.592000000001,1,1,19.3505,71,1.2833000000000001,0.9698,20677.012999999999]
["2009-03-01",false,"2017-08-10",false,false,{"$error":"#N/A"},797.86999500000002,1,0,false,1,{"$error":"#N/A"},1,{"$error":"#N/A"},1,1,1,1,1,1,1,19626.75,{"$error":"#N/A"},{"$error":"#N/A"},{"$error":"#N/A"},{"$error":"#N/A"},{"$error":"#N/A"},48971.140625,0,0,0,0,0,1,1,1,{"$f":"IF(AK$7,INDEX($BN720:$BT720,AK$7),1)","v":1},1,1,48971.140625,0,0,0,0,0,false,false,false,false,false,false,false,1,1,1,1,1,1,94.975999999999999,212.495,14.646599999999999,50.88,1.417,1.1672,14511.592000000001,1,1,19.3505,71,1.2833000000000001,0.9698,20677.012999999999]
["2009-04-01",false,"2017-08-17",false,false,{"$error":"#N/A"},872.80999799999995,1,0,false,1,{"$error":"#N/A"},1,{"$error":"#N/A"},1,1,1,1,1,1,1,21898.849609000001,{"$error":"#N/A"},{"$error":"#N/A"},{"$error":"#N/A"},{"$error":"#N/A"},{"$error":"#N/A"},48971.140625,0,0,0,0,0,1,1,1,1,1,1,48971.140625,0,0,0,0,0,false,false,false,false,false,false,false,1,1,1,1,1,1,94.837999999999994,212.709,13.403499999999999,50.48,1.4712000000000001,1.1465000000000001,14468.341,1,1,19.3505,71,1.2833000000000001,0.9698,20677.012999999999]
["2009-05-01",false,"2017-08-24",false,false,{"$error":"#N/A"},919.14001499999995,1,0,false,1,{"$error":"#N/A"},1,{"$error":"#N/A"},1,1,1,1,1,1,1,24331.710938,{"$error":"#N/A"},{"$error":"#N/A"},{"$error":"#N/A"},{"$error":"#N/A"},{"$error":"#N/A"},48971.140625,0,0,0,0,0,1,1,1,1,1,1,48971.140625,0,0,0,0,0,false,false,false,false,false,false,false,1,1,1,1,1,1,94.837999999999994,213.02199999999999,13.189500000000001,49.65,1.5418000000000001,1.1364000000000001,14468.341,1,1,19.3505,71,1.2833000000000001,0.9698,20677.012999999999]
["2009-06-01",false,"2017-08-31",false,false,{"$error":"#N/A"},919.32000700000003,1,0,false,1,{"$error":"#N/A"},1,{"$error":"#N/A"},1,1,1,1,1,1,1,24368.380859000001,{"$error":"#N/A"},{"$error":"#N/A"},{"$error":"#N/A"},{"$error":"#N/A"},{"$error":"#N/A"},48971.140625,0,0,0,0,0,1,1,1,1,1,1,48971.140625,0,0,0,0,0,false,false,false,false,false,false,false,1,1,1,1,1,1,94.837999999999994,214.79,13.3414,46.78,1.6369,1.0688,14468.341,1,1,19.3505,71,1.2833000000000001,0.9698,20677.012999999999]
["2009-07-01",false,"2017-09-07",false,false,{"$error":"#N/A"},987.47997999999995,1,0,false,1,{"$error":"#N/A"},1,{"$error":"#N/A"},1,1,1,1,1,1,1,27043.5,{"$error":"#N/A"},{"$error":"#N/A"},{"$error":"#N/A"},{"$error":"#N/A"},{"$error":"#N/A"},48971.140625,0,0,0,0,0,1,1,1,1,1,1,48971.140625,0,0,0,0,0,false,false,false,false,false,false,false,1,1,1,1,1,1,94.938000000000002,214.726,13.362299999999999,47.75,1.6377999999999999,1.0720000000000001,14591.831,1,1,19.3505,71,1.2833000000000001,0.9698,20677.012999999999]
["2009-08-01",false,"2017-09-14",false,false,{"$error":"#N/A"},1020.619995,1,0,false,1,{"$error":"#N/A"},1,{"$error":"#N/A"},1,1,1,1,1,1,1,28129.949218999998,{"$error":"#N/A"},{"$error":"#N/A"},{"$error":"#N/A"},{"$error":"#N/A"},{"$error":"#N/A"},48971.140625,0,0,0,0,0,1,1,1,1,1,1,48971.140625,0,0,0,0,0,false,false,false,false,false,false,false,1,1,1,1,1,1,94.938000000000002,215.44499999999999,13.0063,47.91,1.6532,1.0668,14591.831,1,1,19.3505,71,1.2833000000000001,0.9698,20677.012999999999]
["2009-09-01",false,"2017-09-21",false,false,{"$error":"#N/A"},1057.079956,1,0,false,1,{"$error":"#N/A"},1,{"$error":"#N/A"},1,1,1,1,1,1,1,29232.240234000001,{"$error":"#N/A"},{"$error":"#N/A"},{"$error":"#N/A"},{"$error":"#N/A"},{"$error":"#N/A"},48971.140625,0,0,0,0,0,1,1,1,1,1,1,48971.140625,0,0,0,0,0,false,false,false,false,false,false,false,1,1,1,1,1,1,94.938000000000002,215.86099999999999,13.406000000000001,49.05,1.6323000000000001,1.0652999999999999,14591.831,1,1,19.3505,71,1.2833000000000001,0.9698,20677.012999999999]
["2009-10-01",false,"2017-09-28",false,false,{"$error":"#N/A"},1036.1899410000001,1,0,false,1,{"$error":"#N/A"},1,{"$error":"#N/A"},1,1,1,1,1,1,1,28646.029297000001,{"$error":"#N/A"},{"$error":"#N/A"},{"$error":"#N/A"},{"$error":"#N/A"},{"$error":"#N/A"},48971.140625,0,0,0,0,0,1,1,1,1,1,1,48971.140625,0,0,0,0,0,false,false,false,false,false,false,false,1,1,1,1,1,1,95.259,216.50899999999999,13.227499999999999,47.72,1.6212,1.0424,14791.715,1,1,19.3505,71,1.2833000000000001,0.9698,20677.012999999999]
["2009-11-01",false,"2017-10-05",false,false,{"$error":"#N/A"},1095.630005,1,0,false,1,{"$error":"#N/A"},1,{"$error":"#N/A"},1,1,1,1,1,1,1,30957.109375,{"$error":"#N/A"},{"$error":"#N/A"},{"$error":"#N/A"},{"$error":"#N/A"},{"$error":"#N/A"},48971.140625,0,0,0,0,0,1,1,1,1,1,1,48971.140625,0,0,0,0,0,false,false,false,false,false,false,false,1,1,1,1,1,1,95.259,217.23400000000001,13.111499999999999,46.9,1.6598999999999999,1.0238,14791.715,1,1,19.3505,71,1.2833000000000001,0.9698,20677.012999999999]
["2009-12-01",false,"2017-10-12",false,false,{"$error":"#N/A"},1115.099976,1,0,false,1,{"$error":"#N/A"},1,{"$error":"#N/A"},1,1,1,1,1,1,1,32120.470702999999,{"$error":"#N/A"},{"$error":"#N/A"},{"$f":"LOOKUP($A729,INDIRECT(\"'\"&Y$5&\"'!A:A\"),INDIRECT(\"'\"&Y$5&\"'!\"&Y$7&\":\"&Y$7))","v":{"$error":"#N/A"}},{"$error":"#N/A"},{"$error":"#N/A"},48971.140625,0,0,0,0,0,1,1,1,1,1,1,48971.140625,0,0,0,0,0,false,false,false,false,false,false,false,1,1,1,1,1,1,95.259,217.34700000000001,12.8622,46.21,1.6226,0.99839999999999995,14791.715,1,1,19.3505,71,1.2833000000000001,0.9698,20677.012999999999]
["2010-01-01",false,"2017-10-19",false,false,{"$error":"#N/A"},1073.869995,1,0,false,1,{"$error":"#N/A"},1,{"$error":"#N/A"},1,1,1,1,1,1,1,30391.609375,{"$error":"#N/A"},{"$error":"#N/A"},{"$error":"#N/A"},{"$error":"#N/A"},{"$error":"#N/A"},48971.140625,0,0,0,0,0,1,1,1,1,1,1,48971.140625,0,0,0,0,0,false,false,false,false,false,false,false,1,1,1,1,1,1,95.498999999999995,217.488,12.8096,".",1.6157999999999999,".",14915.441000000001,1,1,19.3505,71,1.2833000000000001,0.9698,20677.012999999999]
["2010-02-01",false,"2017-10-26",false,false,{"$error":"#N/A"},1104.48999,1,0,false,1,{"$error":"#N/A"},1,{"$error":"#N/A"},1,1,1,1,1,1,1,31634.539063,{"$error":"#N/A"},{"$error":"#N/A"},{"$error":"#N/A"},{"$error":"#N/A"},{"$error":"#N/A"},48971.140625,0,0,0,0,0,1,1,1,1,1,1,48971.140625,0,0,0,0,0,false,false,false,false,false,false,false,1,1,1,1,1,1,95.498999999999995,217.28100000000001,12.9396,46.27,1.5618000000000001,1.0586,14915.441000000001,1,1,19.3505,71,1.2833000000000001,0.9698,20677.012999999999]
["2010-03-01",false,"2017-11-02",false,false,{"$error":"#N/A"},1169.4300539999999,1,0,false,1,{"$error":"#N/A"},1,{"$error":"#N/A"},1,1,1,1,1,1,1,33266.429687999997,{"$error":"#N/A"},{"$error":"#N/A"},{"$error":"#N/A"},{"$error":"#N/A"},{"$error":"#N/A"},48971.140625,0,0,0,0,0,1,1,1,1,1,1,48971.140625,0,0,0,0,0,false,false,false,false,false,false,false,1,1,1,1,1,1,95.498999999999995,217.35300000000001,12.567299999999999,46.01,1.5058,1.0827,14915.441000000001,1,1,19.3505,71,1.2833000000000001,0.9698,20677.012999999999]
["2010-04-01",false,"2017-11-09",false,false,{"$error":"#N/A"},1186.6899410000001,1,0,false,1,{"$error":"#N/A"},1,{"$error":"#N/A"},1,1,1,1,1,1,1,32687.320313,{"$error":"#N/A"},{"$error":"#N/A"},{"$error":"#N/A"},{"$error":"#N/A"},{"$error":"#N/A"},48971.140625,0,0,0,0,0,1,1,1,1,1,1,48971.140625,0,0,0,0,0,false,false,false,false,false,false,false,1,1,1,1,1,1,95.942999999999998,217.40299999999999,12.239599999999999,44.79,1.5331999999999999,1.0559000000000001,15121.332,1,1,19.3505,71,1.2833000000000001,0.9698,20677.012999999999]
["2010-05-01",false,"2017-11-16",false,false,{"$error":"#N/A"},1089.410034,1,0,false,1,{"$error":"#N/A"},1,{"$error":"#N/A"},1,1,1,1,1,1,1,32038.529297000001,{"$error":"#N/A"},{"$error":"#N/A"},{"$error":"#N/A"},{"$error":"#N/A"},{"$error":"#N/A"},48971.140625,0,0,0,0,0,1,1,1,1,1,1,48971.140625,0,0,0,0,0,false,false,false,false,false,false,false,1,1,1,1,1,1,95.942999999999998,217.29,12.7262,44.2,1.4669000000000001,1.0767,15121.332,1,1,19.3505,71,1.2833000000000001,0.9698,20677.012999999999]
["2010-06-01",false,"2017-11-23",false,false,{"$error":"#N/A"},1030.709961,1,0,false,1,{"$error":"#N/A"},1,{"$error":"#N/A"},1,1,1,1,1,1,1,31156.970702999999,{"$error":"#N/A"},{"$error":"#N/A"},{"$error":"#N/A"},{"$error":"#N/A"},{"$error":"#N/A"},48971.140625,0,0,0,0,0,1,1,1,1,1,1,48971.140625,0,0,0,0,0,false,false,false,false,false,false,false,1,1,1,1,1,1,95.942999999999998,217.19900000000001,12.7102,47.08,1.4767999999999999,1.1548,15121.332,1,1,19.3505,71,1.2833000000000001,0.9698,20677.012999999999]
["2010-07-01",false,"2017-11-30",false,false,{"$error":"#N/A"},1101.599976,1,0,false,1,{"$error":"#N/A"},1,{"$error":"#N/A"},1,1,1,1,1,1,1,32308.740234000001,{"$error":"#N/A"},{"$error":"#N/A"},{"$error":"#N/A"},{"$error":"#N/A"},{"$error":"#N/A"},48971.140625,0,0,0,0,0,1,1,1,1,1,1,48971.140625,0,0,0,0,0,false,false,false,false,false,false,false,1,1,1,1,1,1,96.221999999999994,217.60499999999999,12.803800000000001,46.59,1.5304,1.0674999999999999,15269.06,1,1,19.3505,71,1.2833000000000001,0.9698,20677.012999999999]
["2010-08-01",false,"2017-12-07",false,false,{"$error":"#N/A"},1049.329956,1,0,false,1,{"$error":"#N/A"},1,{"$error":"#N/A"},1,1,1,1,1,1,1,31679.849609000001,{"$error":"#N/A"},{"$error":"#N/A"},{"$error":"#N/A"},{"$error":"#N/A"},{"$error":"#N/A"},48971.140625,0,0,0,0,0,1,1,1,1,1,1,48971.140625,0,0,0,0,0,false,false,false,false,false,false,false,1,1,1,1,1,1,96.221999999999994,217.923,12.766,46.35,1.5661,1.0409999999999999,15269.06,1,1,19.3505,71,1.2833000000000001,0.9698,20677.012999999999]
["2010-09-01",false,"2017-12-14",false,false,{"$error":"#N/A"},1141.1999510000001,1,0,false,1,{"$error":"#N/A"},1,{"$error":"#N/A"},1,1,1,1,1,1,1,33330.339844000002,{"$error":"#N/A"},{"$error":"#N/A"},{"$error":"#N/A"},{"$error":"#N/A"},{"$error":"#N/A"},48971.140625,0,0,0,0,0,1,1,1,1,1,1,48971.140625,0,0,0,0,0,false,false,false,false,false,false,false,1,1,1,1,1,1,96.221999999999994,218.27500000000001,12.797700000000001,46.74,1.5590999999999999,1.0148999999999999,15269.06,1,1,19.3505,71,1.2833000000000001,0.9698,20677.012999999999]
["2010-10-01",false,"2017-12-21",false,false,{"$error":"#N/A"},1183.26001,1,0,false,1,{"$error":"#N/A"},1,{"$error":"#N/A"},1,1,1,1,1,1,1,35568.21875,{"$error":"#N/A"},{"$error":"#N/A"},{"$error":"#N/A"},{"$error":"#N/A"},{"$error":"#N/A"},48971.140625,0,0,0,0,0,1,1,1,1,1,1,48971.140625,0,0,0,0,0,false,false,false,false,false,false,false,1,1,1,1,1,1,96.763000000000005,219.035,12.439299999999999,44.41,1.5867,0.97609999999999997,15445.255999999999,1,1,19.3505,71,1.2833000000000001,0.9698,20677.012999999999]
["2010-11-01",false,"2017-12-28",false,false,{"$error":"#N/A"},1180.5500489999999,1,0,false,1,{"$error":"#N/A"},1,{"$error":"#N/A"},1,1,1,1,1,1,1,36817.320312999997,{"$error":"#N/A"},{"$error":"#N/A"},{"$error":"#N/A"},{"$error":"#N/A"},{"$error":"#N/A"},48971.140625,0,0,0,0,0,1,1,1,1,1,1,48971.140625,0,0,0,0,0,false,false,false,false,false,false,false,1,1,1,1,1,1,96.763000000000005,219.59,12.3376,44.36,1.5961000000000001,0.99350000000000005,15445.255999999999,1,1,19.3505,71,1.2833000000000001,0.9698,20677.012999999999]
["2010-12-01",false,"2018-01-04",false,false,{"$error":"#N/A"},1257.6400149999999,1,0,false,1,{"$error":"#N/A"},1,{"$error":"#N/A"},1,1,1,1,1,1,1,38550.789062999997,{"$error":"#N/A"},{"$error":"#N/A"},{"$error":"#N/A"},{"$error":"#N/A"},{"$error":"#N/A"},48971.140625,0,0,0,0,0,1,1,1,1,1,1,48971.140625,0,0,0,0,0,false,false,false,false,false,false,false,1,1,1,1,1,1,96.763000000000005,220.47200000000001,12.3902,45.29,1.5595000000000001,0.99970000000000003,15445.255999999999,1,1,19.3505,71,1.2833000000000001,0.9698,20677.012999999999]
["2011-01-01",false,"2018-01-11",false,false,{"$error":"#N/A"},1286.119995,1,0,false,1,{"$error":"#N/A"},1,{"$error":"#N/A"},1,1,1,1,1,1,1,36982.238280999998,{"$error":"#N/A"},{"$error":"#N/A"},{"$error":"#N/A"},{"$error":"#N/A"},{"$error":"#N/A"},48971.140625,0,0,0,0,0,1,1,1,1,1,1,48971.140625,0,0,0,0,0,false,false,false,false,false,false,false,1,1,1,1,1,1,97.283000000000001,221.18700000000001,12.128,".",1.5782,".",15502.924999999999,1,1,19.3505,71,1.2833000000000001,0.9698,20677.012999999999]
["2011-02-01",false,"2018-01-18",false,false,{"$error":"#N/A"},1327.219971,1,0,false,1,{"$error":"#N/A"},1,{"$error":"#N/A"},1,1,1,1,1,1,1,37019.699219000002,{"$error":"#N/A"},{"$error":"#N/A"},{"$error":"#N/A"},{"$error":"#N/A"},{"$error":"#N/A"},48971.140625,0,0,0,0,0,1,1,1,1,1,1,48971.140625,0,0,0,0,0,false,false,false,false,false,false,false,1,1,1,1,1,1,97.283000000000001,221.898,12.0649,45.65,1.6124000000000001,0.93879999999999997,15502.924999999999,1,1,19.3505,71,1.2833000000000001,0.9698,20677.012999999999]
["2011-03-01",false,"2018-01-25",false,false,{"$error":"#N/A"},1325.829956,1,0,false,1,{"$error":"#N/A"},1,{"$error":"#N/A"},1,1,1,1,1,1,1,37440.511719000002,{"$error":"#N/A"},{"$error":"#N/A"},{"$error":"#N/A"},{"$error":"#N/A"},{"$error":"#N/A"},48971.140625,0,0,0,0,0,1,1,1,1,1,1,48971.140625,0,0,0,0,0,false,false,false,false,false,false,false,1,1,1,1,1,1,97.283000000000001,223.04599999999999,11.9963,44.82,1.6158999999999999,0.9284,15502.924999999999,1,1,19.3505,71,1.2833000000000001,0.9698,20677.012999999999]
["2011-04-01",false,"2018-02-01",false,false,{"$error":"#N/A"},1363.6099850000001,1,0,false,1,{"$error":"#N/A"},1,{"$error":"#N/A"},1,1,1,1,1,1,1,36962.621094000002,{"$error":"#N/A"},{"$error":"#N/A"},{"$error":"#N/A"},{"$error":"#N/A"},{"$error":"#N/A"},48971.140625,0,0,0,0,0,1,1,1,1,1,1,48971.140625,0,0,0,0,0,false,false,false,false,false,false,false,1,1,1,1,1,1,97.921999999999997,224.09299999999999,11.7059,44.44,1.6378999999999999,0.92430000000000001,15716.572,1,1,19.3505,71,1.2833000000000001,0.9698,20677.012999999999]
["2011-05-01",false,"2018-02-08",false,false,{"$error":"#N/A"},1345.1999510000001,1,0,false,1,{"$error":"#N/A"},1,{"$error":"#N/A"},1,1,1,1,1,1,1,35832.789062999997,{"$error":"#N/A"},{"$error":"#N/A"},{"$error":"#N/A"},{"$error":"#N/A"},{"$error":"#N/A"},48971.140625,0,0,0,0,0,1,1,1,1,1,1,48971.140625,0,0,0,0,0,false,false,false,false,false,false,false,1,1,1,1,1,1,97.921999999999997,224.80600000000001,11.654199999999999,44.24,1.6332,0.86660000000000004,15716.572,1,1,19.3505,71,1.2833000000000001,0.9698,20677.012999999999]
["2011-06-01",false,"2018-02-15",false,false,{"$error":"#N/A"},1320.6400149999999,1,0,false,1,{"$error":"#N/A"},1,{"$error":"#N/A"},1,1,1,1,1,1,1,36558.070312999997,{"$error":"#N/A"},{"$error":"#N/A"},{"$error":"#N/A"},{"$error":"#N/A"},{"$error":"#N/A"},48971.140625,0,0,0,0,0,1,1,1,1,1,1,48971.140625,0,0,0,0,0,false,false,false,false,false,false,false,1,1,1,1,1,1,97.921999999999997,224.80600000000001,11.8055,44.84,1.6218999999999999,0.84009999999999996,15716.572,1,1,19.3505,71,1.2833000000000001,0.9698,20677.012999999999]
["2011-07-01",false,"2018-02-22",false,false,{"$error":"#N/A"},1292.280029,1,0,false,1,{"$error":"#N/A"},1,{"$error":"#N/A"},1,1,1,1,1,1,1,35999.339844000002,{"$error":"#N/A"},{"$error":"#N/A"},{"$error":"#N/A"},{"$error":"#N/A"},{"$error":"#N/A"},48971.140625,0,0,0,0,0,1,1,1,1,1,1,48971.140625,0,0,0,0,0,false,false,false,false,false,false,false,1,1,1,1,1,1,98.552999999999997,225.39500000000001,11.674099999999999,44.62,1.6157999999999999,0.84789999999999999,15837.248,1,1,19.3505,71,1.2833000000000001,0.9698,20677.012999999999]
["2011-08-01",false,"2018-03-01",false,false,{"$error":"#N/A"},1218.8900149999999,1,0,false,1,{"$error":"#N/A"},1,{"$error":"#N/A"},1,1,1,1,1,1,1,35721.101562999997,{"$error":"#N/A"},{"$error":"#N/A"},{"$error":"#N/A"},{"$error":"#N/A"},{"$error":"#N/A"},48971.140625,0,0,0,0,0,{"$f":"IF(AH$7,INDEX($BN749:$BT749,AH$7),1)","v":1},1,1,1,1,1,48971.140625,0,0,0,0,0,false,false,false,false,false,false,false,1,1,1,1,1,1,98.552999999999997,226.10599999999999,12.236599999999999,44.06,1.6355999999999999,0.78129999999999999,15837.248,1,1,19.3505,71,1.2833000000000001,0.9698,20677.012999999999]
["2011-09-01",false,"2018-03-08",false,false,{"$error":"#N/A"},1131.420044,1,0,false,1,{"$error":"#N/A"},1,{"$error":"#N/A"},1,1,1,1,1,1,1,33503.28125,{"$error":"#N/A"},{"$error":"#N/A"},{"$error":"#N/A"},{"$error":"#N/A"},{"$error":"#N/A"},48971.140625,0,0,0,0,0,1,1,1,1,1,1,48971.140625,0,0,0,0,0,false,false,false,false,false,false,false,1,1,1,1,1,1,98.552999999999997,226.59700000000001,13.063700000000001,45.66,1.5770999999999999,0.79510000000000003,15837.248,1,1,19.3505,71,1.2833000000000001,0.9698,20677.012999999999]
["2011-10-01",false,"2018-03-15",false,false,{"$error":"#N/A"},1253.3000489999999,1,0,false,1,{"$error":"#N/A"},1,{"$error":"#N/A"},1,1,1,1,1,1,1,36159.988280999998,{"$error":"#N/A"},{"$error":"#N/A"},{"$error":"#N/A"},{"$error":"#N/A"},{"$error":"#N/A"},48971.140625,0,0,0,0,0,1,1,1,1,1,1,48971.140625,0,0,0,0,0,false,false,false,false,false,false,false,1,1,1,1,1,1,98.703000000000003,226.75,13.437900000000001,49.05,1.5768,0.90480000000000005,16059.096,1,1,19.3505,71,1.2833000000000001,0.9698,20677.012999999999]
["2011-11-01",false,"2018-03-22",false,false,{"$error":"#N/A"},1246.959961,1,0,false,1,{"$error":"#N/A"},1,{"$error":"#N/A"},1,1,1,1,1,1,1,36829.148437999997,{"$error":"#N/A"},{"$error":"#N/A"},{"$error":"#N/A"},{"$error":"#N/A"},{"$error":"#N/A"},48971.140625,0,0,0,0,0,1,1,1,1,1,1,48971.140625,0,0,0,0,0,false,false,false,false,false,false,false,1,1,1,1,1,1,98.703000000000003,227.16900000000001,13.695499999999999,49.26,1.5806,0.8901,16059.096,1,1,19.3505,71,1.2833000000000001,0.9698,20677.012999999999]
["2011-12-01",false,"2018-03-29",false,false,{"$error":"#N/A"},1257.599976,1,0,false,1,{"$error":"#N/A"},1,{"$error":"#N/A"},1,1,1,1,1,1,1,37077.519530999998,{"$error":"#N/A"},{"$error":"#N/A"},{"$error":"#N/A"},{"$error":"#N/A"},{"$error":"#N/A"},48971.140625,0,0,0,0,0,1,1,1,1,1,1,48971.140625,0,0,0,0,0,false,false,false,false,false,false,false,1,1,1,1,1,1,98.703000000000003,227.22300000000001,13.7746,51.36,1.5587,0.91349999999999998,16059.096,1,1,19.3505,71,1.2833000000000001,0.9698,20677.012999999999]
["2012-01-01",false,"2018-04-05",false,false,{"$error":"#N/A"},1312.410034,1,0,false,1,{"$error":"#N/A"},1,{"$error":"#N/A"},1,1,1,1,1,1,1,37422.679687999997,{"$error":"#N/A"},{"$error":"#N/A"},{"$error":"#N/A"},{"$error":"#N/A"},{"$error":"#N/A"},48971.140625,0,0,0,0,0,1,1,1,1,1,1,48971.140625,0,0,0,0,0,false,false,false,false,false,false,false,1,1,1,1,1,1,99.32,227.84200000000001,13.382899999999999,53.01,1.5524,0.93740000000000001,16268.022000000001,1,1,19.3505,71,1.2833000000000001,0.9698,20677.012999999999]
["2012-02-01",false,"2018-04-12",false,false,{"$error":"#N/A"},1365.6800539999999,1,0,false,1,{"$error":"#N/A"},1,{"$error":"#N/A"},1,1,1,1,1,1,1,37816.691405999998,{"$error":"#N/A"},{"$error":"#N/A"},{"$error":"#N/A"},{"$error":"#N/A"},{"$error":"#N/A"},48971.140625,0,0,0,0,0,1,1,1,1,1,1,48971.140625,0,0,0,0,0,false,false,false,false,false,false,false,1,1,1,1,1,1,99.32,228.32900000000001,12.783300000000001,49.273800000000001,1.5804,0.91410000000000002,16268.022000000001,1,1,19.3505,71,1.2833000000000001,0.9698,20677.012999999999]
["2012-03-01",false,"2018-04-19",false,false,{"$error":"#N/A"},1408.469971,1,0,false,1,{"$error":"#N/A"},1,{"$error":"#N/A"},1,1,1,1,1,1,1,39521.238280999998,{"$error":"#N/A"},{"$error":"#N/A"},{"$error":"#N/A"},{"$error":"#N/A"},{"$error":"#N/A"},48971.140625,0,0,0,0,0,1,1,1,1,1,1,48971.140625,0,0,0,0,0,false,false,false,false,false,false,false,1,1,1,1,1,1,99.32,228.80699999999999,12.7523,49.14,1.5824,0.90510000000000002,16268.022000000001,1,1,19.3505,71,1.2833000000000001,0.9698,20677.012999999999]
["2012-04-01",false,"2018-04-26",false,false,{"$error":"#N/A"},1397.910034,1,0,false,1,{"$error":"#N/A"},1,{"$error":"#N/A"},1,1,1,1,1,1,1,39461,{"$error":"#N/A"},{"$error":"#N/A"},{"$error":"#N/A"},{"$error":"#N/A"},{"$error":"#N/A"},48971.140625,0,0,0,0,0,1,1,1,1,1,1,48971.140625,0,0,0,0,0,false,false,false,false,false,false,false,1,1,1,1,1,1,99.712999999999994,229.18700000000001,13.055899999999999,50.89,1.6,0.90259999999999996,16380.378000000001,1,1,19.3505,71,1.2833000000000001,0.9698,20677.012999999999]
["2012-05-01",false,"2018-05-03",false,false,{"$error":"#N/A"},1310.329956,1,0,false,1,{"$error":"#N/A"},1,{"$error":"#N/A"},1,1,1,1,1,1,1,37872.949219000002,{"$error":"#N/A"},{"$error":"#N/A"},{"$error":"#N/A"},{"$error":"#N/A"},{"$error":"#N/A"},48971.140625,0,0,0,0,0,1,1,1,1,1,1,48971.140625,0,0,0,0,0,false,false,false,false,false,false,false,1,1,1,1,1,1,99.712999999999994,228.71299999999999,13.619899999999999,52.5,1.5924,0.90869999999999995,16380.378000000001,1,1,19.3505,71,1.2833000000000001,0.9698,20677.012999999999]
["2012-06-01",false,"2018-05-10",false,false,{"$error":"#N/A"},1362.160034,1,0,false,1,{"$error":"#N/A"},1,{"$error":"#N/A"},1,1,1,1,1,1,1,40199.550780999998,{"$error":"#N/A"},{"$error":"#N/A"},{"$error":"#N/A"},{"$error":"#N/A"},{"$error":"#N/A"},48971.140625,0,0,0,0,0,1,1,1,1,1,1,48971.140625,0,0,0,0,0,false,false,false,false,false,false,false,1,1,1,1,1,1,99.712999999999994,228.524,13.9193,55.44,1.5556000000000001,0.96709999999999996,16380.378000000001,1,1,19.3505,71,1.2833000000000001,0.9698,20677.012999999999]
["2012-07-01",false,"2018-05-17",false,false,{"$error":"#N/A"},1379.3199460000001,1,0,false,1,{"$error":"#N/A"},1,{"$error":"#N/A"},1,1,1,1,1,1,1,40704.28125,{"$error":"#N/A"},{"$error":"#N/A"},{"$error":"#N/A"},{"$error":"#N/A"},{"$error":"#N/A"},48971.140625,0,0,0,0,0,1,1,1,1,1,1,48971.140625,0,0,0,0,0,false,false,false,false,false,false,false,1,1,1,1,1,1,100.22499999999999,228.59,13.363799999999999,55.57,1.5592999999999999,0.94850000000000001,16485.807000000001,1,1,19.3505,71,1.2833000000000001,0.9698,20677.012999999999]
["2012-08-01",false,"2018-05-24",false,false,{"$error":"#N/A"},1406.579956,1,0,false,1,{"$error":"#N/A"},1,{"$error":"#N/A"},1,1,1,1,1,1,1,39421.648437999997,{"$error":"#N/A"},{"$error":"#N/A"},{"$error":"#N/A"},{"$error":"#N/A"},{"$error":"#N/A"},48971.140625,0,0,0,0,0,1,1,1,1,1,1,48971.140625,0,0,0,0,0,false,false,false,false,false,false,false,1,1,1,1,1,1,100.22499999999999,229.91800000000001,13.1793,55.47,1.5722,0.97670000000000001,16485.807000000001,1,1,19.3505,71,1.2833000000000001,0.9698,20677.012999999999]
["2012-09-01",false,"2018-05-31",false,false,{"$error":"#N/A"},1440.670044,1,0,false,1,{"$error":"#N/A"},1,{"$error":"#N/A"},1,1,1,1,1,1,1,40799.238280999998,{"$error":"#N/A"},{"$error":"#N/A"},{"$error":"#N/A"},{"$error":"#N/A"},{"$error":"#N/A"},48971.140625,0,0,0,0,0,1,1,1,1,1,1,48971.140625,0,0,0,0,0,false,false,false,false,false,false,false,1,1,1,1,1,1,100.22499999999999,231.01499999999999,12.923500000000001,55.52,1.6126,0.9546,16485.807000000001,1,1,19.3505,71,1.2833000000000001,0.9698,20677.012999999999]
["2012-10-01",false,"2018-06-07",false,false,{"$error":"#N/A"},1412.160034,1,0,false,1,{"$error":"#N/A"},1,{"$error":"#N/A"},1,1,1,1,1,1,1,41619.960937999997,{"$error":"#N/A"},{"$error":"#N/A"},{"$error":"#N/A"},{"$error":"#N/A"},{"$error":"#N/A"},48971.140625,0,0,0,0,0,1,1,1,1,1,1,48971.140625,0,0,0,0,0,false,false,false,false,false,false,false,1,1,1,1,1,1,100.73699999999999,231.63800000000001,12.897600000000001,52.46,1.6080000000000001,0.93759999999999999,16583.025000000001,1,1,19.3505,71,1.2833000000000001,0.9698,20677.012999999999]
["2012-11-01",false,"2018-06-14",false,false,{"$error":"#N/A"},1416.1800539999999,1,0,false,1,{"$error":"#N/A"},1,{"$error":"#N/A"},1,1,1,1,1,1,1,41833.519530999998,{"$error":"#N/A"},{"$error":"#N/A"},{"$error":"#N/A"},{"$error":"#N/A"},{"$error":"#N/A"},48971.140625,0,0,0,0,0,1,1,1,1,1,1,48971.140625,0,0,0,0,0,false,false,false,false,false,false,false,1,1,1,1,1,1,100.73699999999999,231.249,13.0639,53.76,1.5968,0.93259999999999998,16583.025000000001,1,1,19.3505,71,1.2833000000000001,0.9698,20677.012999999999]
["2012-12-01",false,"2018-06-21",false,false,{"$error":"#N/A"},1426.1899410000001,1,0,false,1,{"$error":"#N/A"},1,{"$error":"#N/A"},1,1,1,1,1,1,1,43705.828125,{"$error":"#N/A"},{"$error":"#N/A"},{"$error":"#N/A"},{"$error":"#N/A"},{"$error":"#N/A"},48971.140625,0,0,0,0,0,1,1,1,1,1,1,48971.140625,0,0,0,0,0,false,false,false,false,false,false,false,1,1,1,1,1,1,100.73699999999999,231.221,12.8651,54.26,1.6145,0.9264,16583.025000000001,1,1,19.3505,71,1.2833000000000001,0.9698,20677.012999999999]
["2013-01-01",false,"2018-06-28",false,false,{"$error":"#N/A"},1498.1099850000001,1,0,false,1,{"$error":"#N/A"},1,{"$error":"#N/A"},1,1,1,1,1,1,1,45278.058594000002,{"$error":"#N/A"},{"$error":"#N/A"},{"$error":"#N/A"},{"$error":"#N/A"},{"$error":"#N/A"},48971.140625,0,0,0,0,0,1,1,1,1,1,1,48971.140625,0,0,0,0,0,false,false,false,false,false,false,false,1,1,1,1,1,1,101.139,231.679,12.696400000000001,".",1.5965,".",16783.689999999999,1,1,19.3505,71,1.2833000000000001,0.9698,20677.012999999999]
["2013-02-01",false,"2018-07-05",false,false,{"$error":"#N/A"},1514.6800539999999,1,0,false,1,{"$error":"#N/A"},1,{"$error":"#N/A"},1,1,1,1,1,1,1,44120.988280999998,{"$error":"#N/A"},{"$error":"#N/A"},{"$error":"#N/A"},{"$error":"#N/A"},{"$error":"#N/A"},48971.140625,0,0,0,0,0,1,1,1,1,1,1,48971.140625,0,0,0,0,0,false,false,false,false,false,false,false,1,1,1,1,1,1,101.139,232.93700000000001,12.7249,53.16,1.5474000000000001,0.90300000000000002,16783.689999999999,1,1,19.3505,71,1.2833000000000001,0.9698,20677.012999999999]
["2013-03-01",false,"2018-07-12",false,false,{"$error":"#N/A"},1569.1899410000001,1,0,false,1,{"$error":"#N/A"},1,{"$error":"#N/A"},1,1,1,1,1,1,1,44077.089844000002,{"$error":"#N/A"},{"$error":"#N/A"},{"$error":"#N/A"},{"$error":"#N/A"},{"$error":"#N/A"},48971.140625,0,0,0,0,0,1,1,1,1,1,1,48971.140625,0,0,0,0,0,false,false,false,false,false,false,false,1,1,1,1,1,1,101.139,232.28200000000001,12.5,54.9,1.508,0.94479999999999997,16783.689999999999,1,1,19.3505,71,1.2833000000000001,0.9698,20677.012999999999]
["2013-04-01",false,"2018-07-19",false,false,{"$error":"#N/A"},1597.5699460000001,1,0,false,1,{"$error":"#N/A"},1,{"$error":"#N/A"},1,1,1,1,1,1,1,42263.480469000002,{"$error":"#N/A"},{"$error":"#N/A"},{"$error":"#N/A"},{"$error":"#N/A"},{"$error":"#N/A"},48971.140625,0,0,0,0,0,1,1,1,1,1,1,48971.140625,0,0,0,0,0,false,false,false,false,false,false,false,1,1,1,1,1,1,101.431,231.797,12.206099999999999,54.28,1.5310999999999999,0.94599999999999995,16866.179,1,1,19.3505,71,1.2833000000000001,0.9698,20677.012999999999]
["2013-05-01",false,"2018-07-26",false,false,{"$error":"#N/A"},1630.73999,1,0,false,1,{"$error":"#N/A"},1,{"$error":"#N/A"},1,1,1,1,1,1,1,41588.320312999997,{"$error":"#N/A"},{"$error":"#N/A"},{"$error":"#N/A"},{"$error":"#N/A"},{"$error":"#N/A"},48971.140625,0,0,0,0,0,1,1,1,1,1,1,48971.140625,0,0,0,0,0,false,false,false,false,false,false,false,1,1,1,1,1,1,101.431,231.893,12.299300000000001,53.65,1.5297000000000001,0.92679999999999996,16866.179,1,1,19.3505,71,1.2833000000000001,0.9698,20677.012999999999]
["2013-06-01",false,"2018-08-02",false,false,{"$error":"#N/A"},1606.280029,1,0,false,1,{"$error":"#N/A"},1,{"$error":"#N/A"},1,1,1,1,1,1,1,40623.300780999998,{"$error":"#N/A"},{"$error":"#N/A"},{"$error":"#N/A"},{"$error":"#N/A"},{"$error":"#N/A"},48971.140625,0,0,0,0,0,1,1,1,{"$f":"IF(AK$7,INDEX($BN771:$BT771,AK$7),1)","v":1},1,1,48971.140625,0,0,0,0,0,false,false,false,false,false,false,false,1,1,1,1,1,1,101.431,232.44499999999999,12.9636,56.5,1.5492999999999999,0.95830000000000004,16866.179,1,1,19.3505,71,1.2833000000000001,0.9698,20677.012999999999]
["2013-07-01",false,"2018-08-09",false,false,{"$error":"#N/A"},1685.7299800000001,1,0,false,1,{"$error":"#N/A"},1,{"$error":"#N/A"},1,1,1,1,1,1,1,40837.878905999998,{"$error":"#N/A"},{"$error":"#N/A"},{"$error":"#N/A"},{"$error":"#N/A"},{"$error":"#N/A"},48971.140625,0,0,0,0,0,1,1,1,1,1,1,48971.140625,0,0,0,0,0,false,false,false,false,false,false,false,1,1,1,1,1,1,101.91800000000001,232.9,12.7615,59.38,1.5179,0.94520000000000004,17090.464,1,1,19.3505,71,1.2833000000000001,0.9698,20677.012999999999]
["2013-08-01",false,"2018-08-16",false,false,{"$error":"#N/A"},1632.969971,1,0,false,1,{"$error":"#N/A"},1,{"$error":"#N/A"},1,1,1,1,1,1,1,39492.371094000002,{"$error":"#N/A"},{"$error":"#N/A"},{"$error":"#N/A"},{"$error":"#N/A"},{"$error":"#N/A"},48971.140625,0,0,0,0,0,1,1,1,1,1,1,48971.140625,0,0,0,0,0,false,false,false,false,false,false,false,1,1,1,1,1,1,101.91800000000001,233.45599999999999,12.912000000000001,60.45,1.5505,0.93530000000000002,17090.464,1,1,19.3505,71,1.2833000000000001,0.9698,20677.012999999999]
["2013-09-01",false,"2018-08-23",false,false,{"$error":"#N/A"},1681.5500489999999,1,0,false,1,{"$error":"#N/A"},1,{"$error":"#N/A"},1,1,1,1,1,1,1,40185.230469000002,{"$error":"#N/A"},{"$error":"#N/A"},{"$error":"#N/A"},{"$error":"#N/A"},{"$error":"#N/A"},48971.140625,0,0,0,0,0,1,1,1,1,1,1,48971.140625,0,0,0,0,0,false,false,false,false,false,false,false,1,1,1,1,1,1,101.91800000000001,233.54400000000001,13.055300000000001,65.709999999999994,1.5885,0.93130000000000002,17090.464,1,1,19.3505,71,1.2833000000000001,0.9698,20677.012999999999]
["2013-10-01",false,"2018-08-30",false,false,{"$error":"#N/A"},1756.540039,1,0,false,1,{"$error":"#N/A"},1,{"$error":"#N/A"},1,1,1,1,1,1,1,41038.648437999997,{"$error":"#N/A"},{"$error":"#N/A"},{"$error":"#N/A"},{"$error":"#N/A"},{"$error":"#N/A"},48971.140625,0,0,0,0,0,1,1,1,1,1,1,48971.140625,0,0,0,0,0,false,false,false,false,false,false,false,1,1,1,1,1,1,102.517,233.66900000000001,12.9916,62.46,1.6097999999999999,0.90639999999999998,17321.999,1,1,19.3505,71,1.2833000000000001,0.9698,20677.012999999999]
["2013-11-01",false,"2018-09-06",false,false,{"$error":"#N/A"},1805.8100589999999,1,0,false,1,{"$error":"#N/A"},1,{"$error":"#N/A"},1,1,1,1,1,1,1,42499.128905999998,{"$error":"#N/A"},{"$error":"#N/A"},{"$error":"#N/A"},{"$error":"#N/A"},{"$error":"#N/A"},48971.140625,0,0,0,0,0,1,1,1,1,1,1,48971.140625,0,0,0,0,0,false,false,false,false,false,false,false,1,1,1,1,1,1,102.517,234.1,13.059699999999999,61.84,1.61,0.91239999999999999,17321.999,1,1,19.3505,71,1.2833000000000001,0.9698,20677.012999999999]
["2013-12-01",false,false,false,false,{"$error":"#N/A"},1848.3599850000001,1,0,false,1,{"$error":"#N/A"},1,{"$error":"#N/A"},1,1,1,1,1,1,1,42727.089844000002,{"$error":"#N/A"},{"$error":"#N/A"},{"$error":"#N/A"},{"$error":"#N/A"},{"$error":"#N/A"},48971.140625,0,0,0,0,0,1,1,1,1,1,1,48971.140625,0,0,0,0,0,false,false,false,false,false,false,false,1,1,1,1,1,1,102.517,234.71899999999999,13.0099,62.39,1.6383000000000001,0.90469999999999995,17321.999,1,1,19.3505,71,1.2833000000000001,0.9698,20677.012999999999]
["2014-01-01",false,false,false,false,{"$error":"#N/A"},1782.589966,1,0,false,1,{"$error":"#N/A"},1,{"$error":"#N/A"},1,1,1,1,1,1,1,40879.75,{"$error":"#N/A"},{"$error":"#N/A"},{"$error":"#N/A"},{"$error":"#N/A"},{"$error":"#N/A"},48971.140625,0,0,0,0,0,1,1,1,1,1,1,48971.140625,0,0,0,0,0,false,false,false,false,false,false,false,1,1,1,1,1,1,102.895,235.34700000000001,13.222,".",1.647,".",17348.081999999999,1,1,19.3505,71,1.2833000000000001,0.9698,20677.012999999999]
["2014-02-01",{"$f":"IF(B778<=$D$2,EOMONTH(B778,1))","v":false},false,false,false,{"$f":"LOOKUP(D779,A:A,G:G)","v":{"$error":"#N/A"}},{"$f":"IFERROR(LOOKUP($A779,INDIRECT(\"'\"&G$7&\"'!A:A\"),INDIRECT(\"'\"&G$7&\"'!\"&$G$9&\":\"&$G$9)),0)","v":1859.4499510000001},{"$f":"IF(H$8,INDEX($BN779:$BT779,H$8),1)","v":1},{"$f":"IF(ISNUMBER(F779),F779,I780)*H779","v":0},false,1,{"$error":"#N/A"},1,{"$error":"#N/A"},1,1,1,1,1,1,1,{"$f":"LOOKUP($A779,INDIRECT(\"'\"&V$5&\"'!A:A\"),INDIRECT(\"'\"&V$5&\"'!\"&V$7&\":\"&V$7))","v":38782.890625},{"$error":"#N/A"},{"$error":"#N/A"},{"$error":"#N/A"},{"$error":"#N/A"},{"$error":"#N/A"},{"$f":"IF(ISNUMBER(LOOKUP($D779,$A:$A,V:V)),LOOKUP($D779,$A:$A,V:V),AB778)","v":48971.140625},{"$f":"IF(ISNUMBER(LOOKUP($D779,$A:$A,W:W)),LOOKUP($D779,$A:$A,W:W),AC778)","v":0},{"$f":"IF(ISNUMBER(LOOKUP($D779,$A:$A,X:X)),LOOKUP($D779,$A:$A,X:X),AD778)","v":0},{"$f":"IF(ISNUMBER(LOOKUP($D779,$A:$A,Y:Y)),LOOKUP($D779,$A:$A,Y:Y),AE778)","v":0},{"$f":"IF(ISNUMBER(LOOKUP($D779,$A:$A,Z:Z)),LOOKUP($D779,$A:$A,Z:Z),AF778)","v":0},{"$f":"IF(ISNUMBER(LOOKUP($D779,$A:$A,AA:AA)),LOOKUP($D779,$A:$A,AA:AA),AG778)","v":0},1,1,1,1,1,1,{"$f":"IFERROR(IF(ISNUMBER(AB779)>0.1,AB779,AN780)*AH779,AN780)","v":48971.140625},{"$f":"IFERROR(IF(ISNUMBER(AC779)>0.1,AC779,AO780)*AI779,AO780)","v":0},{"$f":"IFERROR(IF(ISNUMBER(AD779)>0.1,AD779,AP780)*AJ779,AP780)","v":0},{"$f":"IFERROR(IF(ISNUMBER(AE779)>0.1,AE779,AQ780)*AK779,AQ780)","v":0},{"$f":"IFERROR(IF(ISNUMBER(AF779)>0.1,AF779,AR780)*AL779,AR780)","v":0},{"$f":"IF(ISNUMBER(AG779)>0.1,AG779,AS780)","v":0},false,{"$f":"IF(E779,IFERROR(LN(AN779/AN778),FALSE))","v":false},{"$f":"IF(E779,IFERROR(LN(AO779/AO778),FALSE))","v":false},{"$f":"IF(E779,IFERROR(LN(AP779/AP778),FALSE))","v":false},{"$f":"IF(E779,IFERROR(LN(AQ779/AQ778),FALSE))","v":false},{"$f":"IF(E779,IFERROR(LN(AR779/AR778),FALSE))","v":false},{"$f":"IF(E779,IFERROR(LN(AS779/AS778),FALSE))","v":false},1,1,1,1,1,1,{"$f":"IFERROR(LOOKUP($A779,INDIRECT(\"'\"&BN$6&\"'!A:A\"),INDIRECT(\"'\"&BN$6&\"'!\"&BN$7&\":\"&BN$7)),0)","v":102.895},{"$f":"IFERROR(LOOKUP($A779,INDIRECT(\"'\"&BO$6&\"'!A:A\"),INDIRECT(\"'\"&BO$6&\"'!\"&BO$7&\":\"&BO$7)),0)","v":235.52199999999999},{"$f":"IFERROR(LOOKUP($A779,INDIRECT(\"'\"&BP$6&\"'!A:A\"),INDIRECT(\"'\"&BP$6&\"'!\"&BP$7&\":\"&BP$7)),0)","v":13.2928},{"$f":"IFERROR(LOOKUP($A779,INDIRECT(\"'\"&BQ$6&\"'!A:A\"),INDIRECT(\"'\"&BQ$6&\"'!\"&BQ$7&\":\"&BQ$7)),0)","v":62.63},{"$f":"IFERROR(LOOKUP($A779,INDIRECT(\"'\"&BR$6&\"'!A:A\"),INDIRECT(\"'\"&BR$6&\"'!\"&BR$7&\":\"&BR$7)),0)","v":1.6557999999999999},{"$f":"IFERROR(LOOKUP($A779,INDIRECT(\"'\"&BS$6&\"'!A:A\"),INDIRECT(\"'\"&BS$6&\"'!\"&BS$7&\":\"&BS$7)),0)","v":0.9052},{"$f":"IFERROR(LOOKUP($A779,INDIRECT(\"'\"&BT$6&\"'!A:A\"),INDIRECT(\"'\"&BT$6&\"'!\"&BT$7&\":\"&BT$7)),0)","v":17348.081999999999},{"$f":"IFERROR(1/IFERROR(LOOKUP($D779,$A:$A,BG:BG)*1,0),1)","v":1},{"$f":"IFERROR(1/IFERROR(LOOKUP($D779,$A:$A,BH:BH)*1,0),1)","v":1},19.3505,71,1.2833000000000001,0.9698,20677.012999999999]
["2014-03-01",false,{"$f":"IF(C779<=$D$2,C779+7)","v":false},false,{"$f":"AND(D780>=$D$4,D779<=$D$2)","v":false},{"$error":"#N/A"},1872.339966,1,0,{"$f":"IFERROR(LN(I780/I779),FALSE)","v":false},1,{"$error":"#N/A"},1,{"$error":"#N/A"},1,1,1,1,1,1,1,40461.601562999997,{"$error":"#N/A"},{"$error":"#N/A"},{"$f":"LOOKUP($A780,INDIRECT(\"'\"&Y$5&\"'!A:A\"),INDIRECT(\"'\"&Y$5&\"'!\"&Y$7&\":\"&Y$7))","v":{"$error":"#N/A"}},{"$error":"#N/A"},{"$error":"#N/A"},48971.140625,0,0,0,0,0,1,1,1,1,1,1,48971.140625,0,0,0,0,0,false,false,false,false,false,false,false,{"$f":"IFERROR(IF($E780,BA779*AN780/AN779,1),1)","v":1},{"$f":"IFERROR(IF($E780,BB779*AO780/AO779,1),1)","v":1},{"$f":"IFERROR(IF($E780,BC779*AP780/AP779,1),1)","v":1},{"$f":"IFERROR(IF($E780,BD779*AQ780/AQ779,1),1)","v":1},{"$f":"IFERROR(IF($E780,BE779*AR780/AR779,1),1)","v":1},{"$f":"IFERROR(IF($E780,BF779*AS780/AS779,1),1)","v":1},102.895,235.95599999999999,13.1929,61.78,1.6624000000000001,0.88100000000000001,17348.081999999999,1,1,{"$f":"IFERROR(LOOKUP($D780,$A:$A,BI:BI)*1,BP779)","v":19.3505},{"$f":"IFERROR(LOOKUP($D780,$A:$A,BJ:BJ)*1,BQ779)","v":71},{"$f":"IFERROR(LOOKUP($D780,$A:$A,BK:BK)*1,BR779)","v":1.2833000000000001},{"$f":"IFERROR(LOOKUP($D780,$A:$A,BL:BL)*1,BS779)","v":0.9698},{"$f":"IFERROR(LOOKUP($D780,$A:$A,BM:BM)*1,BT779)","v":20677.012999999999}]
["2014-04-01",false,false,{"$f":"IF($D$6,C781,B781)","v":false},false,{"$error":"#N/A"},1883.9499510000001,1,0,false,{"$f":"IF($E781,(K780*I781/I780),1)","v":1},{"$f":"IF(E781,D781,NA())","v":{"$error":"#N/A"}},{"$f":"CHOOSE($M$1,I781,J781,K781)","v":1},{"$f":"L781","v":{"$error":"#N/A"}},{"$f":"M781","v":1},{"$f":"IFERROR(CHOOSE($M$1,AN781,AU781,BA781),1)","v":1},{"$f":"IFERROR(CHOOSE($M$1,AO781,AV781,BB781),1)","v":1},{"$f":"IFERROR(CHOOSE($M$1,AP781,AW781,BC781),1)","v":1},{"$f":"IFERROR(CHOOSE($M$1,AQ781,AX781,BD781),1)","v":1},{"$f":"IFERROR(CHOOSE($M$1,AR781,AY781,BE781),1)","v":1},{"$f":"IFERROR(CHOOSE($M$1,AS781,AZ781,BF781),1)","v":1},40711.558594000002,{"$error":"#N/A"},{"$error":"#N/A"},{"$error":"#N/A"},{"$error":"#N/A"},{"$error":"#N/A"},48971.140625,0,0,0,0,0,1,1,1,1,1,1,48971.140625,0,0,0,0,0,{"$f":"J781","v":false},false,false,false,false,false,false,1,1,1,1,1,1,103.539,236.46299999999999,13.0669,59.86,1.6748000000000001,0.88249999999999995,17662.883000000002,1,1,19.3505,71,1.2833000000000001,0.9698,20677.012999999999]
["2014-05-01",false,false,false,false,{"$error":"#N/A"},1923.5699460000001,1,0,false,1,{"$error":"#N/A"},1,{"$error":"#N/A"},1,1,1,1,1,1,1,41362.511719000002,{"$error":"#N/A"},{"$error":"#N/A"},{"$error":"#N/A"},{"$error":"#N/A"},{"$error":"#N/A"},48971.140625,0,0,0,0,0,1,1,1,1,1,1,48971.140625,0,0,0,0,0,false,false,false,false,false,false,false,1,1,1,1,1,1,103.539,236.86699999999999,12.933,60.11,1.6841999999999999,0.87970000000000004,17662.883000000002,1,1,19.3505,71,1.2833000000000001,0.9698,20677.012999999999]
["2014-06-01",false,false,false,false,{"$error":"#N/A"},1960.2299800000001,1,0,false,1,{"$error":"#N/A"},1,{"$error":"#N/A"},1,1,1,1,1,1,1,42737.171875,{"$error":"#N/A"},{"$error":"#N/A"},{"$error":"#N/A"},{"$error":"#N/A"},{"$error":"#N/A"},48971.140625,0,0,0,0,0,1,1,1,1,1,1,48971.140625,0,0,0,0,0,false,false,false,false,false,false,false,1,1,1,1,1,1,103.539,237.18799999999999,12.9932,59.16,1.6908000000000001,0.89439999999999997,17662.883000000002,1,1,19.3505,71,1.2833000000000001,0.9698,20677.012999999999]
["2014-07-01",false,false,false,false,{"$error":"#N/A"},1930.670044,1,0,false,1,{"$error":"#N/A"},1,{"$error":"#N/A"},1,1,1,1,1,1,1,43817.691405999998,{"$error":"#N/A"},{"$error":"#N/A"},{"$error":"#N/A"},{"$error":"#N/A"},{"$error":"#N/A"},48971.140625,0,0,0,0,0,1,1,1,1,1,1,48971.140625,0,0,0,0,0,false,false,false,false,false,false,false,1,1,1,1,1,1,104.029,237.48500000000001,12.991400000000001,60.05,1.7065999999999999,0.8871,17979.460999999999,1,1,19.3505,71,1.2833000000000001,0.9698,20677.012999999999]
["2014-08-01",false,false,false,false,{"$error":"#N/A"},2003.369995,1,0,false,1,{"$error":"#N/A"},1,{"$error":"#N/A"},1,1,1,1,1,1,1,45628.089844000002,{"$error":"#N/A"},{"$error":"#N/A"},{"$error":"#N/A"},{"$error":"#N/A"},{"$error":"#N/A"},48971.140625,0,0,0,0,0,1,1,1,1,1,1,48971.140625,0,0,0,0,0,false,false,false,false,false,false,false,1,1,1,1,1,1,104.029,237.43899999999999,13.143599999999999,61.2,1.67,0.90480000000000005,17979.460999999999,1,1,19.3505,71,1.2833000000000001,0.9698,20677.012999999999]
["2014-09-01",false,false,false,false,{"$error":"#N/A"},1972.290039,1,0,false,1,{"$error":"#N/A"},1,{"$error":"#N/A"},1,1,1,1,1,1,1,44985.660155999998,{"$error":"#N/A"},{"$error":"#N/A"},{"$error":"#N/A"},{"$error":"#N/A"},{"$error":"#N/A"},48971.140625,0,0,0,0,0,1,1,1,1,1,1,48971.140625,0,0,0,0,0,false,false,false,false,false,false,false,1,1,1,1,1,1,104.029,237.452,13.237,".",1.629,".",17979.460999999999,1,1,19.3505,71,1.2833000000000001,0.9698,20677.012999999999]
["2014-10-01",false,false,false,false,{"$error":"#N/A"},2018.0500489999999,1,0,false,1,{"$error":"#N/A"},1,{"$error":"#N/A"},1,1,1,1,1,1,1,45027.519530999998,{"$error":"#N/A"},{"$error":"#N/A"},{"$error":"#N/A"},{"$error":"#N/A"},{"$error":"#N/A"},48971.140625,0,0,0,0,0,1,1,1,1,1,1,48971.140625,0,0,0,0,0,false,false,false,false,false,false,false,1,1,1,1,1,1,104.233,237.447,13.4795,61.71,1.6073999999999999,0.95660000000000001,18063.276999999998,1,1,19.3505,71,1.2833000000000001,0.9698,20677.012999999999]
["2014-11-01",false,false,false,false,{"$error":"#N/A"},2067.5600589999999,1,0,false,1,{"$error":"#N/A"},1,{"$error":"#N/A"},1,1,1,1,1,1,1,44190.46875,{"$error":"#N/A"},{"$error":"#N/A"},{"$error":"#N/A"},{"$error":"#N/A"},{"$error":"#N/A"},48971.140625,0,0,0,0,0,1,1,1,1,1,1,48971.140625,0,0,0,0,0,false,false,false,false,false,false,false,1,1,1,1,1,1,104.233,237.042,13.614800000000001,61.44,1.5770999999999999,0.96230000000000004,18063.276999999998,1,1,19.3505,71,1.2833000000000001,0.9698,20677.012999999999]
["2014-12-01",false,false,false,false,{"$error":"#N/A"},2058.8999020000001,1,0,false,1,{"$error":"#N/A"},1,{"$error":"#N/A"},1,1,1,1,1,1,1,43145.660155999998,{"$error":"#N/A"},{"$error":"#N/A"},{"$error":"#N/A"},{"$error":"#N/A"},{"$error":"#N/A"},48971.140625,0,0,0,0,0,1,1,1,1,1,1,48971.140625,0,0,0,0,0,false,false,false,false,false,false,false,1,1,1,1,1,1,104.233,236.27,14.5205,61.94,1.5644,0.96309999999999996,18063.276999999998,1,1,19.3505,71,1.2833000000000001,0.9698,20677.012999999999]
["2015-01-01",false,false,false,false,{"$error":"#N/A"},1994.98999,1,0,false,1,{"$error":"#N/A"},1,{"$error":"#N/A"},1,1,1,1,1,1,1,40950.578125,{"$error":"#N/A"},{"$error":"#N/A"},{"$error":"#N/A"},{"$error":"#N/A"},{"$error":"#N/A"},48971.140625,0,0,0,0,0,1,1,1,1,1,1,48971.140625,0,0,0,0,0,false,false,false,false,false,false,false,1,1,1,1,1,1,104.148,234.83600000000001,14.6972,".",1.5142,".",18202.705999999998,1,1,19.3505,71,1.2833000000000001,0.9698,20677.012999999999]
["2015-02-01",false,false,false,false,{"$error":"#N/A"},2104.5,1,0,false,1,{"$error":"#N/A"},1,{"$error":"#N/A"},1,1,1,1,1,1,1,44190.171875,{"$error":"#N/A"},{"$error":"#N/A"},{"$error":"#N/A"},{"$error":"#N/A"},{"$error":"#N/A"},48971.140625,0,0,0,0,0,1,1,1,1,1,1,48971.140625,0,0,0,0,0,false,false,false,false,false,false,false,1,1,1,1,1,1,104.148,235.274,14.917,62.01,1.5328999999999999,0.92100000000000004,18202.705999999998,1,1,19.3505,71,1.2833000000000001,0.9698,20677.012999999999]
["2015-03-01",false,false,false,false,{"$error":"#N/A"},2067.889893,1,0,false,1,{"$error":"#N/A"},1,{"$error":"#N/A"},1,1,1,1,1,1,1,43724.78125,{"$error":"#N/A"},{"$error":"#N/A"},{"$error":"#N/A"},{"$error":"#N/A"},{"$error":"#N/A"},48971.140625,0,0,0,0,0,1,1,1,1,1,1,48971.140625,0,0,0,0,0,false,false,false,false,false,false,false,1,1,1,1,1,1,104.148,235.95599999999999,15.237500000000001,61.67,1.4958,0.95130000000000003,18202.705999999998,1,1,19.3505,71,1.2833000000000001,0.9698,20677.012999999999]
["2015-04-01",false,false,false,false,{"$error":"#N/A"},2085.51001,1,0,false,1,{"$error":"#N/A"},1,{"$error":"#N/A"},1,1,1,1,1,1,1,44582.390625,{"$error":"#N/A"},{"$error":"#N/A"},{"$error":"#N/A"},{"$error":"#N/A"},{"$error":"#N/A"},48971.140625,0,0,0,0,0,1,1,1,1,1,1,48971.140625,0,0,0,0,0,false,false,false,false,false,false,false,1,1,1,1,1,1,104.738,236.16499999999999,15.1943,62.14,1.4967999999999999,0.96709999999999996,18440.563999999998,1,1,19.3505,71,1.2833000000000001,0.9698,20677.012999999999]
["2015-05-01",false,false,false,false,{"$error":"#N/A"},2107.389893,1,0,false,1,{"$error":"#N/A"},1,{"$error":"#N/A"},1,1,1,1,1,1,1,44703.621094000002,{"$error":"#N/A"},{"$error":"#N/A"},{"$error":"#N/A"},{"$error":"#N/A"},{"$error":"#N/A"},48971.140625,0,0,0,0,0,1,1,1,1,1,1,48971.140625,0,0,0,0,0,false,false,false,false,false,false,false,1,1,1,1,1,1,104.738,236.952,15.2796,63.63,1.5456000000000001,0.93400000000000005,18440.563999999998,1,1,19.3505,71,1.2833000000000001,0.9698,20677.012999999999]
["2015-06-01",false,false,false,false,{"$error":"#N/A"},2063.110107,1,0,false,1,{"$error":"#N/A"},1,{"$error":"#N/A"},1,1,1,1,1,1,1,45053.699219000002,{"$error":"#N/A"},{"$error":"#N/A"},{"$error":"#N/A"},{"$error":"#N/A"},{"$error":"#N/A"},48971.140625,0,0,0,0,0,1,1,1,1,1,1,48971.140625,0,0,0,0,0,false,false,false,false,false,false,false,1,1,1,1,1,1,104.738,237.61799999999999,15.479200000000001,63.59,1.5576000000000001,0.94669999999999999,18440.563999999998,1,1,19.3505,71,1.2833000000000001,0.9698,20677.012999999999]
["2015-07-01",false,false,false,false,{"$error":"#N/A"},2103.8400879999999,1,0,false,1,{"$error":"#N/A"},1,{"$error":"#N/A"},1,1,1,1,1,1,1,44752.929687999997,{"$error":"#N/A"},{"$error":"#N/A"},{"$error":"#N/A"},{"$error":"#N/A"},{"$error":"#N/A"},48971.140625,0,0,0,0,0,1,1,1,1,1,1,48971.140625,0,0,0,0,0,false,false,false,false,false,false,false,1,1,1,1,1,1,105.117,237.99299999999999,15.951499999999999,63.55,1.556,0.9456,18549.706999999999,1,1,19.3505,71,1.2833000000000001,0.9698,20677.012999999999]
["2015-08-01",false,false,false,false,{"$error":"#N/A"},1972.1800539999999,1,0,false,1,{"$error":"#N/A"},1,{"$error":"#N/A"},1,1,1,1,1,1,1,43452.359375,{"$error":"#N/A"},{"$error":"#N/A"},{"$error":"#N/A"},{"$error":"#N/A"},{"$error":"#N/A"},48971.140625,0,0,0,0,0,1,1,1,1,1,1,48971.140625,0,0,0,0,0,false,false,false,false,false,false,false,1,1,1,1,1,1,105.117,237.989,16.533999999999999,63.87,1.5578000000000001,0.96360000000000001,18549.706999999999,1,1,19.3505,71,1.2833000000000001,0.9698,20677.012999999999]
["2015-09-01",false,false,false,false,{"$error":"#N/A"},1920.030029,1,0,false,1,{"$error":"#N/A"},1,{"$error":"#N/A"},1,1,1,1,1,1,1,42632.539062999997,{"$error":"#N/A"},{"$error":"#N/A"},{"$error":"#N/A"},{"$error":"#N/A"},{"$error":"#N/A"},48971.140625,0,0,0,0,0,1,1,1,1,1,1,48971.140625,0,0,0,0,0,false,false,false,false,false,false,false,1,1,1,1,1,1,105.117,237.46700000000001,16.838699999999999,66.34,1.5338000000000001,0.96220000000000006,18549.706999999999,1,1,19.3505,71,1.2833000000000001,0.9698,20677.012999999999]
["2015-10-01",false,false,false,false,{"$error":"#N/A"},2079.360107,1,0,false,1,{"$error":"#N/A"},1,{"$error":"#N/A"},1,1,1,1,1,1,1,44542.761719000002,{"$error":"#N/A"},{"$error":"#N/A"},{"$error":"#N/A"},{"$error":"#N/A"},{"$error":"#N/A"},48971.140625,0,0,0,0,0,1,1,1,1,1,1,48971.140625,0,0,0,0,0,false,false,false,false,false,false,false,1,1,1,1,1,1,105.145,237.76400000000001,16.569700000000001,65.569999999999993,1.5343,0.97440000000000004,18589.168000000001,1,1,19.3505,71,1.2833000000000001,0.9698,20677.012999999999]
["2015-11-01",false,false,false,false,{"$error":"#N/A"},2080.4099120000001,1,0,false,1,{"$error":"#N/A"},1,{"$error":"#N/A"},1,1,1,1,1,1,1,43418.550780999998,{"$error":"#N/A"},{"$error":"#N/A"},{"$error":"#N/A"},{"$error":"#N/A"},{"$error":"#N/A"},48971.140625,0,0,0,0,0,1,1,1,1,1,1,48971.140625,0,0,0,0,0,false,false,false,false,false,false,false,1,1,1,1,1,1,105.145,238.072,16.630600000000001,65.400000000000006,1.5194000000000001,0.98580000000000001,18589.168000000001,1,1,19.3505,71,1.2833000000000001,0.9698,20677.012999999999]
["2015-12-01",false,false,false,false,{"$error":"#N/A"},2043.9399410000001,1,0,false,1,{"$error":"#N/A"},1,{"$error":"#N/A"},1,1,1,1,1,1,1,42977.5,{"$error":"#N/A"},{"$error":"#N/A"},{"$error":"#N/A"},{"$error":"#N/A"},{"$error":"#N/A"},48971.140625,0,0,0,0,0,1,1,1,1,1,1,48971.140625,0,0,0,0,0,false,false,false,false,false,false,false,1,1,1,1,1,1,105.145,237.827,17.069600000000001,66.459999999999994,1.4981,1.0296000000000001,18589.168000000001,1,1,19.3505,71,1.2833000000000001,0.9698,20677.012999999999]
["2016-01-01",false,false,false,false,{"$error":"#N/A"},1940.23999,1,0,false,1,{"$error":"#N/A"},1,{"$error":"#N/A"},1,1,1,1,1,1,1,43630.769530999998,{"$error":"#N/A"},{"$error":"#N/A"},{"$error":"#N/A"},{"$error":"#N/A"},{"$error":"#N/A"},48971.140625,0,0,0,0,0,1,1,1,1,1,1,48971.140625,0,0,0,0,0,false,false,false,false,false,false,false,1,1,1,1,1,1,105.05500000000001,237.99,18.064800000000002,".",1.4392,".",18613.263999999999,1,1,19.3505,71,1.2833000000000001,0.9698,20677.012999999999]
["2016-02-01",false,false,false,false,{"$error":"#N/A"},1932.2299800000001,1,0,false,1,{"$error":"#N/A"},1,{"$error":"#N/A"},1,1,1,1,1,1,1,43714.929687999997,{"$error":"#N/A"},{"$error":"#N/A"},{"$error":"#N/A"},{"$error":"#N/A"},{"$error":"#N/A"},48971.140625,0,0,0,0,0,1,1,1,1,1,1,48971.140625,0,0,0,0,0,false,false,false,false,false,false,false,1,1,1,1,1,1,105.05500000000001,237.53200000000001,18.433199999999999,67.92,1.429,1.0202,18613.263999999999,1,1,19.3505,71,1.2833000000000001,0.9698,20677.012999999999]
["2016-03-01",false,false,false,false,{"$error":"#N/A"},2059.73999,1,0,false,1,{"$error":"#N/A"},1,{"$error":"#N/A"},1,1,1,1,1,1,1,45881.078125,{"$error":"#N/A"},{"$error":"#N/A"},{"$error":"#N/A"},{"$error":"#N/A"},{"$error":"#N/A"},48971.140625,0,0,0,0,0,1,1,1,1,1,1,48971.140625,0,0,0,0,0,false,false,false,false,false,false,false,1,1,1,1,1,1,105.05500000000001,238.02199999999999,17.630299999999998,67.75,1.4249000000000001,0.99939999999999996,18613.263999999999,1,1,19.3505,71,1.2833000000000001,0.9698,20677.012999999999]
["2016-04-01",false,false,false,false,{"$error":"#N/A"},2065.3000489999999,1,0,false,1,{"$error":"#N/A"},1,{"$error":"#N/A"},1,1,1,1,1,1,1,45784.769530999998,{"$error":"#N/A"},{"$error":"#N/A"},{"$error":"#N/A"},{"$error":"#N/A"},{"$error":"#N/A"},48971.140625,0,0,0,0,0,1,1,1,1,1,1,48971.140625,0,0,0,0,0,false,false,false,false,false,false,false,1,1,1,1,1,1,105.77800000000001,238.84299999999999,17.479500000000002,66.34,1.4319,0.95879999999999999,18853.258999999998,1,1,19.3505,71,1.2833000000000001,0.9698,20677.012999999999]
["2016-05-01",false,false,false,false,{"$error":"#N/A"},2096.9499510000001,1,0,false,1,{"$error":"#N/A"},1,{"$error":"#N/A"},1,1,1,1,1,1,1,45459.449219000002,{"$error":"#N/A"},{"$error":"#N/A"},{"$error":"#N/A"},{"$error":"#N/A"},{"$error":"#N/A"},48971.140625,0,0,0,0,0,1,1,1,1,1,1,48971.140625,0,0,0,0,0,false,false,false,false,false,false,false,1,1,1,1,1,1,105.77800000000001,239.43899999999999,18.135999999999999,66.39,1.4523999999999999,0.95979999999999999,18853.258999999998,1,1,19.3505,71,1.2833000000000001,0.9698,20677.012999999999]
["2016-06-01",false,false,false,false,{"$error":"#N/A"},2098.860107,1,0,false,1,{"$error":"#N/A"},1,{"$error":"#N/A"},1,1,1,1,1,1,1,45966.488280999998,{"$error":"#N/A"},{"$error":"#N/A"},{"$error":"#N/A"},{"$error":"#N/A"},{"$error":"#N/A"},48971.140625,0,0,0,0,0,1,1,1,1,1,1,48971.140625,0,0,0,0,0,false,false,false,false,false,false,false,1,1,1,1,1,1,105.77800000000001,240.07400000000001,18.6538,67.44,1.4197,0.98919999999999997,18853.258999999998,1,1,19.3505,71,1.2833000000000001,0.9698,20677.012999999999]
["2016-07-01",false,false,false,false,{"$error":"#N/A"},2173.6000979999999,1,0,false,1,{"$error":"#N/A"},1,{"$error":"#N/A"},1,1,1,1,1,1,1,46660.671875,{"$error":"#N/A"},{"$error":"#N/A"},{"$error":"#N/A"},{"$error":"#N/A"},{"$error":"#N/A"},48971.140625,0,0,0,0,0,1,1,1,1,1,1,48971.140625,0,0,0,0,0,false,false,false,false,false,false,false,1,1,1,1,1,1,106.172,240.05799999999999,18.615500000000001,67.239999999999995,1.3133999999999999,0.97299999999999998,18997.498,1,1,19.3505,71,1.2833000000000001,0.9698,20677.012999999999]
["2016-08-01",false,false,false,false,{"$error":"#N/A"},2170.9499510000001,1,0,false,1,{"$error":"#N/A"},1,{"$error":"#N/A"},1,1,1,1,1,1,1,47541.320312999997,{"$error":"#N/A"},{"$error":"#N/A"},{"$error":"#N/A"},{"$error":"#N/A"},{"$error":"#N/A"},48971.140625,0,0,0,0,0,1,1,1,1,1,1,48971.140625,0,0,0,0,0,false,false,false,false,false,false,false,1,1,1,1,1,1,106.172,240.56899999999999,18.4742,66.63,1.3101,0.96709999999999996,18997.498,1,1,19.3505,71,1.2833000000000001,0.9698,20677.012999999999]
["2016-09-01",false,false,false,false,{"$error":"#N/A"},2168.2700199999999,1,0,false,1,{"$error":"#N/A"},1,{"$error":"#N/A"},1,1,1,1,1,1,1,47245.800780999998,{"$error":"#N/A"},{"$error":"#N/A"},{"$error":"#N/A"},{"$error":"#N/A"},{"$error":"#N/A"},48971.140625,0,0,0,0,0,1,1,1,1,1,1,48971.140625,0,0,0,0,0,false,false,false,false,false,false,false,1,1,1,1,1,1,106.172,241.017,19.243600000000001,66.849999999999994,1.3140000000000001,0.97919999999999996,18997.498,1,1,19.3505,71,1.2833000000000001,0.9698,20677.012999999999]
["2016-10-01",false,false,false,false,{"$error":"#N/A"},2126.1499020000001,1,0,false,1,{"$error":"#N/A"},1,{"$error":"#N/A"},1,1,1,1,1,1,1,48009.28125,{"$error":"#N/A"},{"$error":"#N/A"},{"$error":"#N/A"},{"$error":"#N/A"},{"$error":"#N/A"},48971.140625,0,0,0,0,0,1,1,1,1,1,1,48971.140625,0,0,0,0,0,false,false,false,false,false,false,false,1,1,1,1,1,1,106.72,241.667,18.891200000000001,66.58,1.2330000000000001,0.96940000000000004,19226.021000000001,1,1,19.3505,71,1.2833000000000001,0.9698,20677.012999999999]
["2016-11-01",false,false,false,false,{"$error":"#N/A"},2198.8100589999999,1,0,false,1,{"$error":"#N/A"},1,{"$error":"#N/A"},1,1,1,1,1,1,1,45315.960937999997,{"$error":"#N/A"},{"$error":"#N/A"},{"$error":"#N/A"},{"$error":"#N/A"},{"$error":"#N/A"},48971.140625,0,0,0,0,0,1,1,1,1,1,1,48971.140625,0,0,0,0,0,false,false,false,false,false,false,false,1,1,1,1,1,1,106.72,242.08099999999999,20.008600000000001,66.7,1.2432000000000001,0.97899999999999998,19226.021000000001,1,1,19.3505,71,1.2833000000000001,0.9698,20677.012999999999]
["2016-12-01",false,false,false,false,{"$error":"#N/A"},2238.830078,1,0,false,1,{"$error":"#N/A"},1,{"$error":"#N/A"},1,1,1,1,1,1,1,46913.46875,{"$error":"#N/A"},{"$error":"#N/A"},{"$error":"#N/A"},{"$error":"#N/A"},{"$error":"#N/A"},48971.140625,0,0,0,0,0,{"$f":"IF(AH$7,INDEX($BN813:$BT813,AH$7),1)","v":1},1,1,1,1,1,48971.140625,0,0,0,0,0,false,false,false,false,false,false,false,1,1,1,1,1,1,106.72,242.78399999999999,20.499199999999998,68.290000000000006,1.2483,1.0125999999999999,19226.021000000001,1,1,19.3505,71,1.2833000000000001,0.9698,20677.012999999999]
["2017-01-01",false,false,false,false,{"$error":"#N/A"},2278.8701169999999,1,0,false,1,{"$error":"#N/A"},1,{"$error":"#N/A"},1,1,1,1,1,1,1,47001.058594000002,{"$error":"#N/A"},{"$error":"#N/A"},{"$error":"#N/A"},{"$error":"#N/A"},{"$error":"#N/A"},48971.140625,0,0,0,0,0,1,1,1,1,1,1,48971.140625,0,0,0,0,0,false,false,false,false,false,false,false,1,1,1,1,1,1,107.27500000000001,244.02799999999999,21.391100000000002,67.92,1.2366999999999999,1.016,19395.280999999999,1,1,19.3505,71,1.2833000000000001,0.9698,20677.012999999999]
["2017-02-01",false,false,false,false,{"$error":"#N/A"},2363.639893,1,0,false,1,{"$error":"#N/A"},1,{"$error":"#N/A"},1,1,1,1,1,1,1,46856.789062999997,{"$error":"#N/A"},{"$error":"#N/A"},{"$error":"#N/A"},{"$error":"#N/A"},{"$error":"#N/A"},48971.140625,0,0,0,0,0,1,1,1,1,1,1,48971.140625,0,0,0,0,0,false,false,false,false,false,false,false,1,1,1,1,1,1,107.27500000000001,244.102,20.300799999999999,67.400000000000006,1.2495000000000001,0.99299999999999999,19395.280999999999,1,1,19.3505,71,1.2833000000000001,0.9698,20677.012999999999]
["2017-03-01",false,false,false,false,{"$error":"#N/A"},2362.719971,1,0,false,1,{"$error":"#N/A"},1,{"$error":"#N/A"},1,1,1,1,1,1,1,48541.558594000002,{"$error":"#N/A"},{"$error":"#N/A"},{"$error":"#N/A"},{"$error":"#N/A"},{"$error":"#N/A"},48971.140625,0,0,0,0,0,1,1,1,1,1,1,48971.140625,0,0,0,0,0,false,false,false,false,false,false,false,1,1,1,1,1,1,107.27500000000001,243.71700000000001,19.28,66.83,1.2346999999999999,1.0072000000000001,19395.280999999999,1,1,19.3505,71,1.2833000000000001,0.9698,20677.012999999999]
["2017-04-01",false,false,false,false,{"$error":"#N/A"},2384.1999510000001,1,0,false,1,{"$error":"#N/A"},1,{"$error":"#N/A"},1,1,1,1,1,1,1,49261.328125,{"$error":"#N/A"},{"$error":"#N/A"},{"$error":"#N/A"},{"$error":"#N/A"},{"$error":"#N/A"},48971.140625,0,0,0,0,0,1,1,1,1,1,1,48971.140625,0,0,0,0,0,false,false,false,false,false,false,false,1,1,1,1,1,1,107.58,244.08699999999999,18.767199999999999,64.849999999999994,1.2639,0.99980000000000002,19575.374,1,1,19.3505,71,1.2833000000000001,0.9698,20677.012999999999]
["2017-05-01",false,false,false,false,{"$error":"#N/A"},2411.8000489999999,1,0,false,1,{"$error":"#N/A"},1,{"$error":"#N/A"},1,1,1,1,1,1,1,48788.441405999998,{"$error":"#N/A"},{"$error":"#N/A"},{"$error":"#N/A"},{"$error":"#N/A"},{"$error":"#N/A"},48971.140625,0,0,0,0,0,1,1,1,1,1,1,48971.140625,0,0,0,0,0,false,false,false,false,false,false,false,1,1,1,1,1,1,107.58,243.911,18.7666,64.25,1.2928999999999999,0.99550000000000005,19575.374,1,1,19.3505,71,1.2833000000000001,0.9698,20677.012999999999]
["2017-06-01",false,false,false,false,{"$error":"#N/A"},2423.4099120000001,1,0,false,1,{"$error":"#N/A"},1,{"$error":"#N/A"},1,1,1,1,1,1,1,49857.488280999998,{"$error":"#N/A"},{"$error":"#N/A"},{"$error":"#N/A"},{"$error":"#N/A"},{"$error":"#N/A"},48971.140625,0,0,0,0,0,1,1,1,1,1,1,48971.140625,0,0,0,0,0,false,false,false,false,false,false,false,1,1,1,1,1,1,107.58,244.03200000000001,18.129300000000001,64.39,1.2809999999999999,0.97119999999999995,19575.374,1,1,19.3505,71,1.2833000000000001,0.9698,20677.012999999999]
["2017-07-01",false,false,false,false,{"$error":"#N/A"},2470.3000489999999,1,0,false,1,{"$error":"#N/A"},1,{"$error":"#N/A"},1,1,1,1,1,1,1,51011.871094000002,{"$error":"#N/A"},{"$error":"#N/A"},{"$error":"#N/A"},{"$error":"#N/A"},{"$error":"#N/A"},48971.140625,0,0,0,0,0,1,1,1,1,1,1,48971.140625,0,0,0,0,0,false,false,false,false,false,false,false,1,1,1,1,1,1,108.09699999999999,244.23599999999999,17.8081,64.62,1.2996000000000001,0.95860000000000001,19842.993999999999,1,1,19.3505,71,1.2833000000000001,0.9698,20677.012999999999]
["2017-08-01",false,false,false,false,{"$error":"#N/A"},2471.6499020000001,1,0,false,1,{"$error":"#N/A"},1,{"$error":"#N/A"},1,1,1,1,1,1,1,51210.480469000002,{"$error":"#N/A"},{"$error":"#N/A"},{"$error":"#N/A"},{"$error":"#N/A"},{"$error":"#N/A"},48971.140625,0,0,0,0,0,1,1,1,1,1,1,48971.140625,0,0,0,0,0,false,false,false,false,false,false,false,1,1,1,1,1,1,108.09699999999999,245.262,17.796900000000001,64.06,1.2951999999999999,0.96550000000000002,19842.993999999999,1,1,19.3505,71,1.2833000000000001,0.9698,20677.012999999999]
["2017-09-01",false,false,false,false,{"$error":"#N/A"},2519.360107,1,0,false,1,{"$error":"#N/A"},1,{"$error":"#N/A"},1,1,1,1,1,1,1,50346.058594000002,{"$error":"#N/A"},{"$error":"#N/A"},{"$error":"#N/A"},{"$error":"#N/A"},{"$error":"#N/A"},48971.140625,0,0,0,0,0,1,1,1,{"$f":"IF(AK$7,INDEX($BN822:$BT822,AK$7),1)","v":1},1,1,48971.140625,0,0,0,0,0,false,false,false,false,false,false,false,1,1,1,1,1,1,108.09699999999999,246.392,17.830500000000001,64.02,1.3340000000000001,0.96260000000000001,19842.993999999999,1,1,19.3505,71,1.2833000000000001,0.9698,20677.012999999999]
["2017-10-01",false,false,false,false,{"$error":"#N/A"},2575.26001,1,0,false,1,{"$error":"#N/A"},1,{"$error":"#N/A"},1,1,1,1,1,1,1,48625.53125,{"$error":"#N/A"},{"$error":"#N/A"},{"$error":"#N/A"},{"$error":"#N/A"},{"$error":"#N/A"},48971.140625,0,0,0,0,0,1,1,1,1,1,1,48971.140625,0,0,0,0,0,false,false,false,false,false,false,false,1,1,1,1,1,1,108.824,246.583,18.8215,65.3,1.3202,0.96879999999999999,20102.594000000001,1,1,19.3505,71,1.2833000000000001,0.9698,20677.012999999999]
["2017-11-01",false,false,false,false,{"$error":"#N/A"},2584.8400879999999,1,0,false,1,{"$error":"#N/A"},1,{"$error":"#N/A"},1,1,1,1,1,1,1,47092.441405999998,{"$error":"#N/A"},{"$error":"#N/A"},{"$error":"#N/A"},{"$error":"#N/A"},{"$error":"#N/A"},48971.140625,0,0,0,0,0,1,1,1,1,1,1,48971.140625,0,0,0,0,0,false,false,false,false,false,false,false,1,1,1,1,1,1,108.824,247.411,18.930599999999998,64.56,1.3217000000000001,1.0014000000000001,20102.594000000001,1,1,19.3505,71,1.2833000000000001,0.9698,20677.012999999999]
["2017-12-01",false,false,false,false,{"$error":"#N/A"},2673.610107,1,0,false,1,{"$error":"#N/A"},1,{"$error":"#N/A"},1,1,1,1,1,1,1,49354.421875,{"$error":"#N/A"},{"$error":"#N/A"},{"$error":"#N/A"},{"$error":"#N/A"},{"$error":"#N/A"},48971.140625,0,0,0,0,0,1,1,1,1,1,1,48971.140625,0,0,0,0,0,false,false,false,false,false,false,false,1,1,1,1,1,1,108.824,247.91,19.176500000000001,64.5,1.3404,0.97619999999999996,20102.594000000001,1,1,19.3505,71,1.2833000000000001,0.9698,20677.012999999999]
["2018-01-01",false,false,false,false,{"$error":"#N/A"},2823.8100589999999,1,0,false,1,{"$error":"#N/A"},1,{"$error":"#N/A"},1,1,1,1,1,1,1,50456.171875,{"$error":"#N/A"},{"$error":"#N/A"},{"$error":"#N/A"},{"$error":"#N/A"},{"$error":"#N/A"},48971.140625,0,0,0,0,0,1,1,1,1,1,1,48971.140625,0,0,0,0,0,false,false,false,false,false,false,false,1,1,1,1,1,1,109.371,249.245,18.911799999999999,".",1.3824000000000001,".",20309.763999999999,1,1,19.3505,71,1.2833000000000001,0.9698,20677.012999999999]
["2018-02-01",false,false,false,false,{"$error":"#N/A"},2713.830078,1,0,false,1,{"$error":"#N/A"},1,{"$error":"#N/A"},1,1,1,1,1,1,1,47437.929687999997,{"$error":"#N/A"},{"$error":"#N/A"},{"$error":"#N/A"},{"$error":"#N/A"},{"$error":"#N/A"},48971.140625,0,0,0,0,0,1,1,1,1,1,1,48971.140625,0,0,0,0,0,false,false,false,false,false,false,false,1,1,1,1,1,1,109.371,249.619,18.647300000000001,63.97,1.3960999999999999,0.92879999999999996,20309.763999999999,1,1,19.3505,71,1.2833000000000001,0.9698,20677.012999999999]
["2018-03-01",false,false,false,false,{"$error":"#N/A"},2640.8701169999999,1,0,false,1,{"$error":"#N/A"},1,{"$error":"#N/A"},1,1,1,1,1,1,1,46124.851562999997,{"$error":"#N/A"},{"$error":"#N/A"},{"$error":"#N/A"},{"$error":"#N/A"},{"$error":"#N/A"},48971.140625,0,0,0,0,0,1,1,1,1,1,1,48971.140625,0,0,0,0,0,false,false,false,false,false,false,false,1,1,1,1,1,1,109.371,249.46199999999999,18.5901,65.2,1.3976,0.94610000000000005,20309.763999999999,1,1,19.3505,71,1.2833000000000001,0.9698,20677.012999999999]
["2018-04-01",false,false,false,false,{"$error":"#N/A"},2648.0500489999999,1,0,false,1,{"$error":"#N/A"},1,{"$error":"#N/A"},1,1,1,1,1,1,1,48358.160155999998,{"$error":"#N/A"},{"$error":"#N/A"},{"$error":"#N/A"},{"$error":"#N/A"},{"$error":"#N/A"},48971.140625,0,0,0,0,0,1,1,1,1,1,1,48971.140625,0,0,0,0,0,false,false,false,false,false,false,false,1,1,1,1,1,1,110.247,250.01300000000001,18.387599999999999,65.11,1.4078999999999999,0.95320000000000005,20677.012999999999,1,1,19.3505,71,1.2833000000000001,0.9698,20677.012999999999]
["2018-05-01",false,false,false,false,{"$error":"#N/A"},2705.2700199999999,1,0,false,1,{"$error":"#N/A"},1,{"$error":"#N/A"},1,1,1,1,1,1,1,44662.550780999998,{"$error":"#N/A"},{"$error":"#N/A"},{"$error":"#N/A"},{"$error":"#N/A"},{"$error":"#N/A"},48971.140625,0,0,0,0,0,1,1,1,1,1,1,48971.140625,0,0,0,0,0,false,false,false,false,false,false,false,1,1,1,1,1,1,110.247,250.535,19.552499999999998,66.52,1.347,0.99539999999999995,20677.012999999999,1,1,19.3505,71,1.2833000000000001,0.9698,20677.012999999999]
["2018-06-01",false,false,false,false,{"$error":"#N/A"},2718.3701169999999,1,0,false,1,{"$error":"#N/A"},1,{"$error":"#N/A"},1,1,1,1,1,1,1,47663.199219000002,{"$error":"#N/A"},{"$error":"#N/A"},{"$f":"LOOKUP($A831,INDIRECT(\"'\"&Y$5&\"'!A:A\"),INDIRECT(\"'\"&Y$5&\"'!\"&Y$7&\":\"&Y$7))","v":{"$error":"#N/A"}},{"$error":"#N/A"},{"$error":"#N/A"},48971.140625,0,0,0,0,0,1,1,1,1,1,1,48971.140625,0,0,0,0,0,false,false,false,false,false,false,false,1,1,1,1,1,1,110.247,250.857,20.287800000000001,66.989999999999995,1.3293999999999999,0.98670000000000002,20677.012999999999,1,1,19.3505,71,1.2833000000000001,0.9698,20677.012999999999]
["2018-07-01",false,false,false,false,{"$error":"#N/A"},2816.290039,1,0,false,1,{"$error":"#N/A"},1,{"$error":"#N/A"},1,1,1,1,1,1,1,49698.011719000002,{"$error":"#N/A"},{"$error":"#N/A"},{"$error":"#N/A"},{"$error":"#N/A"},{"$error":"#N/A"},48971.140625,0,0,0,0,0,1,1,1,1,1,1,48971.140625,0,0,0,0,0,false,false,false,false,false,false,false,1,1,1,1,1,1,110.247,251.286,18.985600000000002,68.459999999999994,1.3162,0.99219999999999997,20677.012999999999,1,1,19.3505,71,1.2833000000000001,0.9698,20677.012999999999]
["2018-08-01",false,false,false,false,{"$error":"#N/A"},2901.5200199999999,1,0,false,1,{"$error":"#N/A"},1,{"$error":"#N/A"},1,1,1,1,1,1,1,49547.679687999997,{"$error":"#N/A"},{"$error":"#N/A"},{"$error":"#N/A"},{"$error":"#N/A"},{"$error":"#N/A"},48971.140625,0,0,0,0,0,1,1,1,1,1,1,48971.140625,0,0,0,0,0,false,false,false,false,false,false,false,1,1,1,1,1,1,110.247,251.286,18.863299999999999,68.37,1.2878000000000001,0.99229999999999996,20677.012999999999,1,1,19.3505,71,1.2833000000000001,0.9698,20677.012999999999]
["2018-09-01",false,false,false,false,{"$error":"#N/A"},2871.679932,1,0,false,1,{"$error":"#N/A"},1,{"$error":"#N/A"},1,1,1,1,1,1,1,48971.140625,{"$error":"#N/A"},{"$error":"#N/A"},{"$error":"#N/A"},{"$error":"#N/A"},{"$error":"#N/A"},48971.140625,0,0,0,0,0,1,1,1,1,1,1,48971.140625,0,0,0,0,0,false,false,false,false,false,false,false,1,1,1,1,1,1,110.247,251.286,19.3505,71,1.2833000000000001,0.9698,20677.012999999999,1,1,19.3505,71,1.2833000000000001,0.9698,20677.012999999999]
[null,false,false,false,false,{"$error":"#N/A"},0,1,0,false,1,{"$error":"#N/A"},1,{"$error":"#N/A"},1,1,1,1,1,1,1,{"$error":"#N/A"},{"$error":"#N/A"},{"$error":"#N/A"},{"$error":"#N/A"},{"$error":"#N/A"},{"$error":"#N/A"},48971.140625,0,0,0,0,0,1,1,1,1,1,1,48971.140625,0,0,0,0,0,false,false,false,false,false,false,false,1,1,1,1,1,1,0,0,0,0,0,0,0,1,1,19.3505,71,1.2833000000000001,0.9698,20677.012999999999]
[null,false,false,false,false,{"$error":"#N/A"},0,1,0,false,1,{"$error":"#N/A"},1,{"$error":"#N/A"},1,1,1,1,1,1,1,{"$error":"#N/A"},{"$error":"#N/A"},{"$error":"#N/A"},{"$error":"#N/A"},{"$error":"#N/A"},{"$error":"#N/A"},48971.140625,0,0,0,0,0,1,1,1,1,1,1,48971.140625,0,0,0,0,0,false,false,false,false,false,false,false,1,1,1,1,1,1,0,0,0,0,0,0,0,1,1,19.3505,71,1.2833000000000001,0.9698,20677.012999999999]
[null,false,false,false,false,{"$error":"#N/A"},0,1,0,false,1,{"$error":"#N/A"},1,{"$error":"#N/A"},1,1,1,1,1,1,1,{"$error":"#N/A"},{"$error":"#N/A"},{"$error":"#N/A"},{"$error":"#N/A"},{"$error":"#N/A"},{"$error":"#N/A"},48971.140625,0,0,0,0,0,1,1,1,1,1,1,48971.140625,0,0,0,0,0,false,false,false,false,false,false,false,1,1,1,1,1,1,0,0,0,0,0,0,0,1,1,19.3505,71,1.2833000000000001,0.9698,20677.012999999999]
[null,false,"2012-11-14",{"$f":"IF($D$6,C838,B838)","v":false},false,{"$f":"LOOKUP(D838,A:A,G:G)","v":{"$error":"#N/A"}},0,1,{"$f":"IF(ISNUMBER(F838),F838,I839)*H838","v":0},{"$f":"IFERROR(LN(I838/I837),FALSE)","v":false},{"$f":"IF($E838,(K837*I838/I837),1)","v":1},{"$f":"IF(E838,D838,NA())","v":{"$error":"#N/A"}},{"$f":"CHOOSE($M$1,I838,J838,K838)","v":1},{"$f":"L838","v":{"$error":"#N/A"}},{"$f":"M838","v":1},{"$f":"IFERROR(CHOOSE($M$1,AN838,AU838,BA838),1)","v":1},{"$f":"IFERROR(CHOOSE($M$1,AO838,AV838,BB838),1)","v":1},{"$f":"IFERROR(CHOOSE($M$1,AP838,AW838,BC838),1)","v":1},{"$f":"IFERROR(CHOOSE($M$1,AQ838,AX838,BD838),1)","v":1},{"$f":"IFERROR(CHOOSE($M$1,AR838,AY838,BE838),1)","v":1},{"$f":"IFERROR(CHOOSE($M$1,AS838,AZ838,BF838),1)","v":1},{"$error":"#N/A"},{"$error":"#N/A"},{"$error":"#N/A"},{"$error":"#N/A"},{"$error":"#N/A"},{"$error":"#N/A"},48971.140625,0,0,0,0,0,1,1,1,1,1,1,{"$f":"IFERROR(IF(ISNUMBER(AB838)>0.1,AB838,AN839)*AH838,AN839)","v":48971.140625},{"$f":"IFERROR(IF(ISNUMBER(AC838)>0.1,AC838,AO839)*AI838,AO839)","v":0},{"$f":"IFERROR(IF(ISNUMBER(AD838)>0.1,AD838,AP839)*AJ838,AP839)","v":0},{"$f":"IFERROR(IF(ISNUMBER(AE838)>0.1,AE838,AQ839)*AK838,AQ839)","v":0},{"$f":"IFERROR(IF(ISNUMBER(AF838)>0.1,AF838,AR839)*AL838,AR839)","v":0},{"$f":"IF(ISNUMBER(AG838)>0.1,AG838,AS839)","v":0},{"$f":"J838","v":false},false,false,false,false,false,false,{"$f":"IFERROR(IF($E838,BA837*AN838/AN837,1),1)","v":1},{"$f":"IFERROR(IF($E838,BB837*AO838/AO837,1),1)","v":1},{"$f":"IFERROR(IF($E838,BC837*AP838/AP837,1),1)","v":1},{"$f":"IFERROR(IF($E838,BD837*AQ838/AQ837,1),1)","v":1},{"$f":"IFERROR(IF($E838,BE837*AR838/AR837,1),1)","v":1},{"$f":"IFERROR(IF($E838,BF837*AS838/AS837,1),1)","v":1},{"$f":"IFERROR(LOOKUP($A838,INDIRECT(\"'\"&BN$6&\"'!A:A\"),INDIRECT(\"'\"&BN$6&\"'!\"&BN$7&\":\"&BN$7)),0)","v":0},{"$f":"IFERROR(LOOKUP($A838,INDIRECT(\"'\"&BO$6&\"'!A:A\"),INDIRECT(\"'\"&BO$6&\"'!\"&BO$7&\":\"&BO$7)),0)","v":0},{"$f":"IFERROR(LOOKUP($A838,INDIRECT(\"'\"&BP$6&\"'!A:A\"),INDIRECT(\"'\"&BP$6&\"'!\"&BP$7&\":\"&BP$7)),0)","v":0},{"$f":"IFERROR(LOOKUP($A838,INDIRECT(\"'\"&BQ$6&\"'!A:A\"),INDIRECT(\"'\"&BQ$6&\"'!\"&BQ$7&\":\"&BQ$7)),0)","v":0},{"$f":"IFERROR(LOOKUP($A838,INDIRECT(\"'\"&BR$6&\"'!A:A\"),INDIRECT(\"'\"&BR$6&\"'!\"&BR$7&\":\"&BR$7)),0)","v":0},{"$f":"IFERROR(LOOKUP($A838,INDIRECT(\"'\"&BS$6&\"'!A:A\"),INDIRECT(\"'\"&BS$6&\"'!\"&BS$7&\":\"&BS$7)),0)","v":0},{"$f":"IFERROR(LOOKUP($A838,INDIRECT(\"'\"&BT$6&\"'!A:A\"),INDIRECT(\"'\"&BT$6&\"'!\"&BT$7&\":\"&BT$7)),0)","v":0},{"$f":"IFERROR(1/IFERROR(LOOKUP($D838,$A:$A,BG:BG)*1,0),1)","v":1},{"$f":"IFERROR(1/IFERROR(LOOKUP($D838,$A:$A,BH:BH)*1,0),1)","v":1},{"$f":"IFERROR(LOOKUP($D838,$A:$A,BI:BI)*1,BP837)","v":19.3505},{"$f":"IFERROR(LOOKUP($D838,$A:$A,BJ:BJ)*1,BQ837)","v":71},{"$f":"IFERROR(LOOKUP($D838,$A:$A,BK:BK)*1,BR837)","v":1.2833000000000001},{"$f":"IFERROR(LOOKUP($D838,$A:$A,BL:BL)*1,BS837)","v":0.9698},{"$f":"IFERROR(LOOKUP($D838,$A:$A,BM:BM)*1,BT837)","v":20677.012999999999}]
[null,false,"2012-11-21",false,false,{"$error":"#N/A"},0,1,0,false,1,{"$error":"#N/A"},1,{"$error":"#N/A"},1,1,1,1,1,1,1,{"$f":"LOOKUP($A839,INDIRECT(\"'\"&V$5&\"'!A:A\"),INDIRECT(\"'\"&V$5&\"'!\"&V$7&\":\"&V$7))","v":{"$error":"#N/A"}},{"$error":"#N/A"},{"$error":"#N/A"},{"$error":"#N/A"},{"$error":"#N/A"},{"$error":"#N/A"},48971.140625,0,0,0,0,0,1,1,1,1,1,1,48971.140625,0,0,0,0,0,false,false,false,false,false,false,false,1,1,1,1,1,1,0,0,0,0,0,0,0,1,1,19.3505,71,1.2833000000000001,0.9698,20677.012999999999]
[null,false,"2012-11-28",false,false,{"$error":"#N/A"},0,1,0,false,1,{"$error":"#N/A"},1,{"$error":"#N/A"},1,1,1,1,1,1,1,{"$error":"#N/A"},{"$error":"#N/A"},{"$error":"#N/A"},{"$error":"#N/A"},{"$error":"#N/A"},{"$error":"#N/A"},48971.140625,0,0,0,0,0,{"$f":"IF(AH$7,INDEX($BN840:$BT840,AH$7),1)","v":1},1,1,1,1,1,48971.140625,0,0,0,0,0,false,false,false,false,false,false,false,1,1,1,1,1,1,0,0,0,0,0,0,0,1,1,19.3505,71,1.2833000000000001,0.9698,20677.012999999999]
[null,false,"2012-12-05",false,false,{"$error":"#N/A"},0,1,0,false,1,{"$error":"#N/A"},1,{"$error":"#N/A"},1,1,1,1,1,1,1,{"$error":"#N/A"},{"$error":"#N/A"},{"$error":"#N/A"},{"$error":"#N/A"},{"$error":"#N/A"},{"$error":"#N/A"},48971.140625,0,0,0,0,0,1,1,1,1,1,1,48971.140625,0,0,0,0,0,false,false,false,false,false,false,false,1,1,1,1,1,1,0,0,0,0,0,0,0,1,1,19.3505,71,1.2833000000000001,0.9698,20677.012999999999]
[null,false,"2012-12-12",false,false,{"$error":"#N/A"},0,1,0,false,1,{"$error":"#N/A"},1,{"$error":"#N/A"},1,1,1,1,1,1,1,{"$error":"#N/A"},{"$error":"#N/A"},{"$error":"#N/A"},{"$error":"#N/A"},{"$error":"#N/A"},{"$error":"#N/A"},48971.140625,0,0,0,0,0,1,1,1,1,1,1,48971.140625,0,0,0,0,0,false,false,false,false,false,false,false,1,1,1,1,1,1,0,0,0,0,0,0,0,1,1,19.3505,71,1.2833000000000001,0.9698,20677.012999999999]
[null,{"$f":"IF(B842<=$D$2,EOMONTH(B842,1))","v":false},"2012-12-19",false,false,{"$error":"#N/A"},{"$f":"IFERROR(LOOKUP($A843,INDIRECT(\"'\"&G$7&\"'!A:A\"),INDIRECT(\"'\"&G$7&\"'!\"&$G$9&\":\"&$G$9)),0)","v":0},{"$f":"IF(H$8,INDEX($BN843:$BT843,H$8),1)","v":1},0,false,1,{"$error":"#N/A"},1,{"$error":"#N/A"},1,1,1,1,1,1,1,{"$error":"#N/A"},{"$error":"#N/A"},{"$error":"#N/A"},{"$error":"#N/A"},{"$error":"#N/A"},{"$error":"#N/A"},{"$f":"IF(ISNUMBER(LOOKUP($D843,$A:$A,V:V)),LOOKUP($D843,$A:$A,V:V),AB842)","v":48971.140625},{"$f":"IF(ISNUMBER(LOOKUP($D843,$A:$A,W:W)),LOOKUP($D843,$A:$A,W:W),AC842)","v":0},{"$f":"IF(ISNUMBER(LOOKUP($D843,$A:$A,X:X)),LOOKUP($D843,$A:$A,X:X),AD842)","v":0},{"$f":"IF(ISNUMBER(LOOKUP($D843,$A:$A,Y:Y)),LOOKUP($D843,$A:$A,Y:Y),AE842)","v":0},{"$f":"IF(ISNUMBER(LOOKUP($D843,$A:$A,Z:Z)),LOOKUP($D843,$A:$A,Z:Z),AF842)","v":0},{"$f":"IF(ISNUMBER(LOOKUP($D843,$A:$A,AA:AA)),LOOKUP($D843,$A:$A,AA:AA),AG842)","v":0},1,1,1,1,1,1,48971.140625,0,0,0,0,0,false,{"$f":"IF(E843,IFERROR(LN(AN843/AN842),FALSE))","v":false},{"$f":"IF(E843,IFERROR(LN(AO843/AO842),FALSE))","v":false},{"$f":"IF(E843,IFERROR(LN(AP843/AP842),FALSE))","v":false},{"$f":"IF(E843,IFERROR(LN(AQ843/AQ842),FALSE))","v":false},{"$f":"IF(E843,IFERROR(LN(AR843/AR842),FALSE))","v":false},{"$f":"IF(E843,IFERROR(LN(AS843/AS842),FALSE))","v":false},1,1,1,1,1,1,0,0,0,0,0,0,0,1,1,19.3505,71,1.2833000000000001,0.9698,20677.012999999999]
[null,false,{"$f":"IF(C843<=$D$2,C843+7)","v":"2012-12-26"},false,{"$f":"AND(D844>=$D$4,D843<=$D$2)","v":false},{"$error":"#N/A"},0,1,0,false,1,{"$error":"#N/A"},1,{"$error":"#N/A"},1,1,1,1,1,1,1,{"$error":"#N/A"},{"$error":"#N/A"},{"$error":"#N/A"},{"$error":"#N/A"},{"$error":"#N/A"},{"$error":"#N/A"},48971.140625,0,0,0,0,0,1,1,1,1,1,1,48971.140625,0,0,0,0,0,false,false,false,false,false,false,false,1,1,1,1,1,1,0,0,0,0,0,0,0,1,1,19.3505,71,1.2833000000000001,0.9698,20677.012999999999]
[null,false,"2013-01-02",false,false,{"$error":"#N/A"},0,1,0,false,1,{"$error":"#N/A"},1,{"$error":"#N/A"},1,1,1,1,1,1,1,{"$error":"#N/A"},{"$error":"#N/A"},{"$error":"#N/A"},{"$error":"#N/A"},{"$error":"#N/A"},{"$error":"#N/A"},48971.140625,0,0,0,0,0,1,1,1,1,1,1,48971.140625,0,0,0,0,0,false,false,false,false,false,false,false,1,1,1,1,1,1,0,0,0,0,0,0,0,1,1,19.3505,71,1.2833000000000001,0.9698,20677.012999999999]
[null,false,"2013-01-09",false,false,{"$error":"#N/A"},0,1,0,false,1,{"$error":"#N/A"},1,{"$error":"#N/A"},1,1,1,1,1,1,1,{"$error":"#N/A"},{"$error":"#N/A"},{"$error":"#N/A"},{"$error":"#N/A"},{"$error":"#N/A"},{"$error":"#N/A"},48971.140625,0,0,0,0,0,1,1,1,1,1,1,48971.140625,0,0,0,0,0,false,false,false,false,false,false,false,1,1,1,1,1,1,0,0,0,0,0,0,0,1,1,19.3505,71,1.2833000000000001,0.9698,20677.012999999999]
[null,false,"2013-01-16",false,false,{"$error":"#N/A"},0,1,0,false,1,{"$error":"#N/A"},1,{"$error":"#N/A"},1,1,1,1,1,1,1,{"$error":"#N/A"},{"$error":"#N/A"},{"$error":"#N/A"},{"$error":"#N/A"},{"$error":"#N/A"},{"$error":"#N/A"},48971.140625,0,0,0,0,0,1,1,1,1,1,1,48971.140625,0,0,0,0,0,false,false,false,false,false,false,false,1,1,1,1,1,1,0,0,0,0,0,0,0,1,1,19.3505,71,1.2833000000000001,0.9698,20677.012999999999]
[null,false,"2013-01-23",false,false,{"$error":"#N/A"},0,1,0,false,1,{"$error":"#N/A"},1,{"$error":"#N/A"},1,1,1,1,1,1,1,{"$error":"#N/A"},{"$error":"#N/A"},{"$error":"#N/A"},{"$error":"#N/A"},{"$error":"#N/A"},{"$error":"#N/A"},48971.140625,0,0,0,0,0,1,1,1,1,1,1,48971.140625,0,0,0,0,0,false,false,false,false,false,false,false,1,1,1,1,1,1,0,0,0,0,0,0,0,1,1,19.3505,71,1.2833000000000001,0.9698,20677.012999999999]
[null,false,"2013-01-30",false,false,{"$error":"#N/A"},0,1,0,false,1,{"$error":"#N/A"},1,{"$error":"#N/A"},1,1,1,1,1,1,1,{"$error":"#N/A"},{"$error":"#N/A"},{"$error":"#N/A"},{"$error":"#N/A"},{"$error":"#N/A"},{"$error":"#N/A"},48971.140625,0,0,0,0,0,1,1,1,1,1,1,48971.140625,0,0,0,0,0,false,false,false,false,false,false,false,1,1,1,1,1,1,0,0,0,0,0,0,0,1,1,19.3505,71,1.2833000000000001,0.9698,20677.012999999999]
[null,false,"2013-02-06",false,false,{"$error":"#N/A"},0,1,0,false,1,{"$error":"#N/A"},1,{"$error":"#N/A"},1,1,1,1,1,1,1,{"$error":"#N/A"},{"$error":"#N/A"},{"$error":"#N/A"},{"$error":"#N/A"},{"$error":"#N/A"},{"$error":"#N/A"},48971.140625,0,0,0,0,0,1,1,1,1,1,1,48971.140625,0,0,0,0,0,false,false,false,false,false,false,false,1,1,1,1,1,1,0,0,0,0,0,0,0,1,1,19.3505,71,1.2833000000000001,0.9698,20677.012999999999]
[null,false,"2013-02-13",false,false,{"$error":"#N/A"},0,1,0,false,1,{"$error":"#N/A"},1,{"$error":"#N/A"},1,1,1,1,1,1,1,{"$error":"#N/A"},{"$error":"#N/A"},{"$error":"#N/A"},{"$error":"#N/A"},{"$error":"#N/A"},{"$error":"#N/A"},48971.140625,0,0,0,0,0,1,1,1,1,1,1,48971.140625,0,0,0,0,0,false,false,false,false,false,false,false,1,1,1,1,1,1,0,0,0,0,0,0,0,1,1,19.3505,71,1.2833000000000001,0.9698,20677.012999999999]
[null,false,"2013-02-20",false,false,{"$error":"#N/A"},0,1,0,false,1,{"$error":"#N/A"},1,{"$error":"#N/A"},1,1,1,1,1,1,1,{"$error":"#N/A"},{"$error":"#N/A"},{"$error":"#N/A"},{"$error":"#N/A"},{"$error":"#N/A"},{"$error":"#N/A"},48971.140625,0,0,0,0,0,1,1,1,1,1,1,48971.140625,0,0,0,0,0,false,false,false,false,false,false,false,1,1,1,1,1,1,0,0,0,0,0,0,0,1,1,19.3505,71,1.2833000000000001,0.9698,20677.012999999999]
[null,false,"2013-02-27",false,false,{"$error":"#N/A"},0,1,0,false,1,{"$error":"#N/A"},1,{"$error":"#N/A"},1,1,1,1,1,1,1,{"$error":"#N/A"},{"$error":"#N/A"},{"$error":"#N/A"},{"$error":"#N/A"},{"$error":"#N/A"},{"$error":"#N/A"},48971.140625,0,0,0,0,0,1,1,1,1,1,1,48971.140625,0,0,0,0,0,false,false,false,false,false,false,false,1,1,1,1,1,1,0,0,0,0,0,0,0,1,1,19.3505,71,1.2833000000000001,0.9698,20677.012999999999]

{"sheet":"Yahoo Index","index":4,"n_rows":83,"n_cols":28,"rows_kept":83,"cut":false,"hidden":false,"merged":[]}
[]
["URL to Read Yahoo with WEBREQUEST"]
[]
[null,null,"yahoo index url",{"$f":"D25","v":"https://query1.finance.yahoo.com/v7/finance/download/^MXX?period1=-631152000&period2=1536451200&interval=1mo&events=history&crumb=b4Gu5u7zjRQ"}]
[null,null,"Fixed","https://query1.finance.yahoo.com/v7/finance/download/GE?period1=-631152000&period2=1510444800&interval=1wk&events=history&crumb=icbgE5Cs2YY"]
[]
[null,null,"Yahoo Index Ticker",3,{"$f":"Google_Ticker","v":"^MXX"}]
[null,null,"Total Tickers From Count",{"$f":"COUNTA(D55:D148)","v":3}]
[]
[null,null,null,null,null,null,null,null,null,null,null,null,null,null,null,null,null,null,null,null,null,null,null,null,1,"TGfSWDsZJYT"]
[null,null,null,null,null,null,null,null,null,null,null,null,null,null,null,null,null,null,null,null,null,null,null,null,2,"CQ6.CdbO7Vs"]
["Putting Together the URL for WEBREQUEST",null,null,null,null,null,null,null,null,null,null,null,null,null,null,null,null,null,null,null,null,null,null,null,3,"O8FSIw42rxF"]
[null,null,null,null,null,null,null,null,null,null,null,null,null,null,null,null,null,null,null,null,null,null,null,null,4,"CSlGI2sdBG0"]
[null,null,"Part 1","https://query1.finance.yahoo.com/v7/finance/download/",null,null,null,null,null,null,null,null,null,null,null,null,null,null,null,null,null,null,null,null,5,"XqOSmY3l4xa"]
[null,null,"Symbol",{"$f":"Google_Ticker","v":"^MXX"},null,null,null,null,null,null,null,null,null,null,null,null,null,null,null,null,null,null,null,null,null,"bZ13SIJ1ujV"]
[null,null,"Part 2","?period1=",null,null,null,null,null,null,null,null,null,null,null,null,null,null,null,null,null,null,null,null,null,"eifZc4X.5c9"]
[null,null,"Start Date",{"$f":"D29","v":-631152000},null,null,null,null,null,null,null,null,null,null,null,null,null,null,null,null,null,null,null,null,null,"o5GkgmuQPjR"]
[null,null,"Part 3","&period2=",null,null,null,null,null,null,null,null,null,null,null,null,null,null,null,null,null,null,null,null,6,"atAaPiixhv3"]
[null,null,"End Date",{"$f":"D28","v":1536451200},null,null,null,null,null,null,null,null,null,null,null,null,null,null,null,null,null,null,null,null,7,"HMInudozYZG"]
[null,null,"Part 4","&interval=1",null,null,null,null,null,null,null,"=(A1-DATE(1970,1,1))*86400",null,null,null,null,null,null,null,null,null,null,null,null,8,"1tWBOBQnX2t"]
[null,null,"Period","mo",null,null,null,null,null,null,{"$f":"TODAY()","v":"2018-09-09"},{"$f":"(K21-DATE(1970,1,1))*86400","v":1536451200},null,null,null,null,null,null,null,null,null,null,null,null,9,"2rRQ4y6.uzL"]
[null,null,"Part 5","&events=history&crumb=",null,null,null,null,null,null,null,null,null,null,null,null,null,null,null,null,null,null,null,null,10,"a5Us3Rk4hyO"]
[null,null,"Crumb","b4Gu5u7zjRQ",null,null,null,null,null,null,null,null,null,null,null,null,null,null,null,null,null,null,null,null,null,"0kqOBm4nIld"]
[null,null,null,null,null,null,null,null,null,null,null,null,null,null,null,null,null,null,null,null,null,null,null,null,null,"vByltQk3sUB"]
[null,null,"URL",{"$f":"D14&D15&D16&D17&D18&D19&D20&D21&D22&Crumb","v":"https://query1.finance.yahoo.com/v7/finance/download/^MXX?period1=-631152000&period2=1536451200&interval=1mo&events=history&crumb=b4Gu5u7zjRQ"},null,null,null,null,null,null,null,null,null,null,null,null,null,null,null,null,null,null,null,null,null,"vVmUXvpBskH"]
[null,null,null,null,null,null,null,null,null,null,null,null,null,null,null,null,null,null,null,null,null,null,null,null,null,"z2LXjkN7s9F"]
[null,null,"Date","Unix Date",null,null,null,null,null,null,null,null,null,null,null,null,null,null,null,null,null,null,null,null,null,"P5BIJQPrhY2"]
[null,null,{"$f":"TODAY()","v":"2018-09-09"},{"$f":"(C28-DATE(1970,1,1))*86400","v":1536451200},null,null,null,null,null,null,null,null,null,null,null,null,null,null,null,null,null,null,null,null,null,"gEkJpIMXCpF"]
[null,null,"1950-01-01",{"$f":"(C29-DATE(1970,1,1))*86400","v":-631152000},null,null,null,null,null,null,null,null,null,null,null,null,null,null,null,null,null,null,null,null,null,"cramylo4rtq"]
[]
[null,null,"cookie","B=8dquqbpdpb426&b=3&s=00"]
[null,null,null,null,null,null,null,null,null,null,null,null,null,null,null,null,null,null,null,null,null,null,null,null,14,"647kXnSPl6G"]
[null,null,"Yahoo Index",{"$f":"D35&D50&D36&E42&D37&F42&D38","v":"http://www.google.com/finance/historical?q=^MXX&startdate=Jun 28, 1999&enddate=Sep 09, 2018&output=csv"},null,null,null,null,null,null,null,null,null,null,null,null,null,null,null,null,null,null,null,null,15,"mmD9oHwXc4Q"]
[null,null,null,null,null,null,null,null,null,null,null,null,null,null,null,null,null,null,null,null,null,null,null,null,16,"QGPH.wTFCEz"]
[null,null,null,"http://www.google.com/finance/historical?q=",null,null,null,null,null,null,null,null,null,null,null,null,null,null,null,null,null,null,null,null,17,"2oXbf.DMbbF"]
[null,null,null,"&startdate=",null,null,null,null,null,null,null,null,null,null,null,null,null,null,null,null,null,null,null,null,18,"dIkNm9YBdCc"]
[null,null,null,"&enddate=",null,null,null,null,"Data from Google Site",null,null,null,null,"Single Stock with Combo Box and Check Box",null,null,null,null,"Step 1: Insert and Modify Checkbox",null,null,null,null,null,19,"NYteS5Qvgrn"]
[null,null,null,"&output=csv",null,null,null,null,"Getting the Data Directly",null,null,null,null,"Create and Attach Checkboxes",null,null,null,null,"Step 2: Find the number of the first checkbox",null,null,null,null,null,20,"XV0zNccsK.P"]
[null,null,null,null,null,null,null,null,"Alternative URL",null,null,null,null,"Re-set Checkboxes",null,null,null,null,"Step 3: Open the macro file to put together checkboxes",null,null,null,null,null,21]
[null,null,null,null,"Start","End",null,null,"Creating Macro Workbooks.open",null,null,null,null,"Set-up Master Date and Forms",null,null,null,null,"Step 4: Run the macro (Shift, CNTL, E)",null,null,null,null,null,22]
[null,null,null,null,"1999-06-28",{"$f":"TODAY()","v":"2018-09-09"},null,null,"Adding Macro to Move Data",null,null,null,null,"Option for Raw, Index or Pct Change",null,null,null,null,"Step 5: Insert the standard count, match and index",null,null,null,null,null,23]
[null,null,null,null,{"$f":"TEXT(E41,\"MMM DD, YYYY\")","v":"Jun 28, 1999"},{"$f":"TEXT(F41,\"MMM DD, YYYY\")","v":"Sep 09, 2018"},null,null,"Loop with Multiple Stocks",null,null,null,null,"Analysis of Single Stock vs Index",null,null,null,null,"Step 6: Use Indirect and lookup to read selected stocks",null,null,null,null,null,24]
[null,null,null,null,null,null,null,null,"Import Stocks to Power BI",null,null,null,null,"Frequency Distribution vs Normal",null,null,null,null,"Step 7: Create growth and index for each stock",null,null,null,null,null,25]
[null,null,"Read Stocks Switch",{"$f":"'Read Stocks'!F3","v":true},null,null,null,null,null,null,null,null,null,null,null,null,null,null,"Step 8: Compute statistics and frequency vs normal",null,null,null,null,null,26]
[null,null,null,null,null,null,null,null,null,null,null,null,null,null,null,null,null,null,"Step 9: Put together graphs",null,null,null,null,null,27]
[]
[]
["Input Indicies"]
[]
[null,null,"Yahoo Index",{"$f":"INDEX(D55:D136,Counter)","v":"^MXX"}]
[null,null,"Sheet name Yahoo",{"$f":"INDEX(E55:E126,Counter)","v":"Mexico"}]
[]
[null,null,null,"Ticker","Sheet Name","Description",null,null,null,"Ticker","Index","Description","Currency",null,null,null,null,null,null,1,"GE","General Electric",null,null,28,null,"FSLR","First Solar"]
[null,null,null,null,null,null,null,null,1,"^GSPC","S&P 500","US S&P 500","USD",null,"^GSPC","S&P 500","US S&P 500",null,null,2,"AAPL","Apple",null,null,29,null,"JKS","Jinko Solar"]
[null,null,null,{"$f":"J54","v":"^GSPC"},"S&P 500","US S&P 500",null,null,2,"^GDAXI","DAX","DAX in Euro","Euro",null,"^GDAXI","DAX","DAX",null,null,3,"CBB","Cincinnati Bell Inc. (CBB)",null,null,30,null,"TSL","Trina Solar"]
[null,null,null,"^GDAXI","DAX","DAX in Euro",null,null,3,"^FCHI","CAC 40","France CAC 40","Euro",null,"^FTSE","FTSE 100","FTSE 100",null,null,4,"JPM","JP Morgan",null,null,31,null,"CSIQ","Canadian Solar"]
[null,null,null,"^MXX","Mexico","Mexican Index",null,null,4,"FTSEMIB.MI","Milan","Italy Milan","Euro",null,"^DJI","30 Industrials","30 Industrials",null,null,5,"MCD","McDonalds",null,null,32,null,"JASO","JA Solar"]
[null,null,null,null,null,null,null,null,5,"^IBEX","IBEX 35","Spain IBEX 35","Euro",null,"^SSMI","Swiss","Swiss SMI",null,null,6,"WMT","Wall Mart",null,null,33,null,"HQCL","Hanwha Q Cells"]
[null,null,null,null,null,null,null,null,6,"^OMX","Sweeden","Sweeden Index","SEK",null,"^N225","Nikkei 225","Japan 225",null,null,7,"ED","Consolidated Edison",null,null,34,null,"YGE","Yingi Green"]
[null,null,null,null,null,null,null,null,7,"^OSEAX","Oslo","Finland","NOK",null,"^FCHI","CAC 40","France CAC 40",null,null,8,"CAG","Conagra",null,null,35,null,"1165.HK","Sunfeng"]
[null,null,null,null,null,null,null,null,8,"^SSMI","Swiss","Swiss SMI","CFH",null,"^OEX","Chi Options","Chicago Options",null,null,9,"CCE","Coca Cola",null,null,36,null,"300118.SZ","Risen Energy"]
[null,null,null,null,null,null,null,null,9,"^BFX","Brussels","Brussels","Euro",null,null,null,null,null,null,10,"EXC","Excelon",null,null,37,null,"601012.SS","Longi Solar"]
[null,null,null,null,null,null,null,null,10,"^DJI","30 Industrials","Dow Jones 30 Industrials","USD",null,null,null,null,null,null,11,"FOE","Ferro",null,null,38]
[null,null,null,null,null,null,null,null,11,"^OEX","Chi Options","Chicago Options","USD",null,null,null,null,null,null,12,"FSLR","First Solar",null,null,39]
[null,null,null,null,null,null,null,null,12,"^NDX","Nasdaq 100","Nasdaq 100","USD",null,null,null,null,null,null,13,"GIS","General Mills",null,null,40]
[null,null,null,null,null,null,null,null,14,"^N225","Nikkei 225","Japan 225","JPY",null,null,null,null,null,null,14,"HNZ","Heintz"]
[null,null,null,null,null,null,null,null,15,"^HSI","Hang Seng","Hong Kong Hang Seng","HKD",null,null,null,null,null,null,15,"HPQ","HP"]
[null,null,null,null,null,null,null,null,16,"^AORD","Austrailian","Austrailian","AUD",null,null,null,null,null,null,16,"K","Kellogs"]
[null,null,null,null,null,null,null,null,17,"^BSESN","India",{"$f":"K69","v":"India"},"INR",null,null,null,null,null,null,17,"MSFT","Microsoft"]
[null,null,null,null,null,null,null,null,18,"^JKSE","Indonesia",{"$f":"K70","v":"Indonesia"},"IDR",null,null,null,null,null,null,18,"NOK","Nokia"]
[null,null,null,null,null,null,null,null,19,"^KLSE","Malaysia","Malaysia","MYR",null,null,null,null,null,null,19,"USM","US Cellular"]
[null,null,null,null,null,null,null,null,20,"^NZ50","New Zealand","New Zealand","NZD",null,null,null,null,null,null,20,"PEP","Pepsico"]
[null,null,null,null,null,null,null,null,21,"^NSEI","S&P CNX NIFTY","S&P CNX NIFTY","INR",null,null,null,null,null,null,21,"VOD","Vodaphone"]
[null,null,null,null,null,null,null,null,22,"^KS11","Seoul Composite","Seoul Composite","KWR",null,null,null,null,null,null,22,"BT","Brittish Telecom"]
[null,null,null,null,null,null,null,null,23,"^TWII","Taiwan Weighted","Taiwan Weighted","TWII",null,null,null,null,null,null,23,"AES","AES"]
[null,null,null,null,null,null,null,null,24,"NGE","Nigeria","Nigeria","USD",null,null,null,null,null,null,24,"S","Sprint"]
[null,null,null,null,null,null,null,null,30,"000001.SS","CMA","CMA","Yuan",null,null,null,null,null,null,25,"KEP","Korean Electric Power"]
[null,null,null,null,null,null,null,null,25,"^BATSK","BATS 1000 Index","BATS 1000 Index","USD",null,null,null,null,null,null,26,"MSI","Motarola"]
[null,null,null,null,null,null,null,null,26,"^FTSE","FTSE 100","FTSE 100","GBP",null,null,null,null,null,null,27,"NYT","New York Times"]
[null,null,null,null,null,null,null,null,27,"RTS.RS","Russia Index","Russia Index","RUB",null,null,null,null,null,null,28,"DELL","Dell computers"]
[null,null,null,null,null,null,null,null,28,"FPXAA.PR","Prague","Prague","CZX",null,null,null,null,null,null,29,"BBRY","Blackberry"]
[null,null,null,null,null,null,null,null,29,"^STI","Straits Times","Straits Times","SGD",null,null,null,null,null,null,30,"NRG","NRG Energy"]
[null,null,null,null,null,null,null,null,null,null,"Amazon"]

{"sheet":"FRED Indicies","index":5,"n_rows":70,"n_cols":14,"rows_kept":70,"cut":false,"hidden":false,"merged":[]}
[null,null,"Base for URL","https://research.stlouisfed.org/fred2/data/",null,null,"Add .txt"]
[null,null,"Fred URL",{"$f":"D1&E12&\".txt\"","v":"https://research.stlouisfed.org/fred2/data/.txt"},null,null,"Take away parenthesis"]
[]
[null,null,"Example","https://research.stlouisfed.org/fred2/data/RU2000PR.txt"]
[null,null,"Number to Read",1]
[null,null,"Total Index",{"$f":"COUNTA(D16:D70)","v":0}]
[]
[null,null,"SHIFT,CNLT, F --> Fix the format of sheets"]
[]
[null,null,null,"Sheet Name","FRED Code","Length",null,"Name Length",null,"Total List",null,"FRED Code",null,"Cleaned Code for Use"]
[]
[null,null,"Index Function",{"$f":"INDEX(D16:D70,$D$5)","v":0},{"$f":"SUBSTITUTE(SUBSTITUTE(INDEX(E16:E70,D5),\"(\",\"\",1),\")\",\"\",1)","v":""},{"$f":"LEN(E12)","v":0}]
[]
["Input FRED Indicies"]
[]
[null,null,null,null,null,null,null,null,null,"Dow Jones Industrial",null,"(DJIA)",{"$f":"LEN(J16)","v":20},{"$f":"SUBSTITUTE(SUBSTITUTE(L16,\"(\",\"\",1),\")\",\"\",1)","v":"DJIA"}]
[null,null,null,null,null,null,null,null,null,"Wilshire 5000 Index",null,"(WILL5000INDFC)",{"$f":"LEN(J17)","v":19},{"$f":"SUBSTITUTE(SUBSTITUTE(L17,\"(\",\"\",1),\")\",\"\",1)","v":"WILL5000INDFC"}]
[null,null,null,null,null,null,null,null,null,"Nasdaq Composite",null,"(NASDAQCOM)",16,"NASDAQCOM"]
[null,null,null,null,null,null,null,null,null,"Wilshire 5000 Large Cap",null,"(WILL5000PRFC)",23,"WILL5000PRFC"]
[null,null,null,null,null,null,null,null,null,"Russel 2000 Index",null,"(RU2000PR)",17,"RU2000PR"]
[null,null,null,null,null,{"$f":"SUBSTITUTE(SUBSTITUTE(E21,\"(\",\"\",1),\")\",\"\",1)","v":""},null,null,null,"Wilshire 5000 Tot Mkt",null,"(WILL5000IND)",21,"WILL5000IND"]
[null,null,null,null,null,"",null,null,null,"Russel 3000 Index",null," (RU3000TR)",17," RU3000TR"]
[null,null,null,null,null,"",null,null,null,"Nasdaq 100 Index",null,"(NASDAQ100)",16,"NASDAQ100"]
[null,null,null,null,null,"",null,null,null,"Wilshire REIT Index",null," (WILLREITIND)",19," WILLREITIND"]
[null,null,null,null,null,"",null,null,null,"Wilshire 5000 Price",null,"(WILL5000PR)",19,"WILL5000PR"]
[null,null,null,null,null,"",null,null,null,"Russel 3000 Price Index",null," (RU3000PR)",23," RU3000PR"]
[null,null,null,null,null,"",null,null,null,"Russel 1000 Price Index",null,"(RU1000TR)",23,"RU1000TR"]
[null,null,null,null,null,"",null,null,null,"Dow Jones Composite ",null,"(DJCA)",20,"DJCA"]
[null,null,null,null,null,"",null,null,null,"Wilshire REIT Price ",null,"(WILLRESIPR)",20,"WILLRESIPR"]
[null,null,null,null,null,null,null,null,null,"Dow Jones Transp",null," (DJTA)",16," DJTA"]
[null,null,null,null,null,null,null,null,null,"Russel 1000 Total Mkt",null,"(RU1000VTR)",21,"RU1000VTR"]
[null,null,null,null,null,null,null,null,null,"Russel 2000 Total Mkt",null,"(RU2000VTR)",21,"RU2000VTR"]
[null,null,null,null,null,null,null,null,null,"Wihshire U.S. Large Cap",null," (WILLLRGCAP)",23," WILLLRGCAP"]
[null,null,null,null,null,null,null,null,null,"Russel 3000 Growth Pr",null,"(RU3000GPR)",21,"RU3000GPR"]
[null,null,null,null,null,null,null,null,null,"Russel 2500 Total Mkt",null," (RU2500TR)",21," RU2500TR"]
[null,null,null,null,null,null,null,null,null,"Wilshire Mid Cap Tot Mkt",null,"(WILLMIDCAP)",24,"WILLMIDCAP"]
[null,null,null,null,null,null,null,null,null,"Russel 2500 Value Price",null,"(R2500VLPR)",23,"R2500VLPR"]
[null,null,null,null,null,null,null,null,null,"Russel 200 Top Value",null,"(RUTOP200TR)",20,"RUTOP200TR"]
[null,null,null,null,null,null,null,null,null,"Russel 3000 Growth Price",null," (RU3000GPR)",24," RU3000GPR"]
[null,null,null,null,null,null,null,null,null,"Russel Mid Cap Price ",null,"(RUMIDCAPPR)",21,"RUMIDCAPPR"]
[null,null,null,null,null,null,null,null,null,"Russel 2500 Growth Price",null,"(R2500GRPR)",24,"R2500GRPR"]
[null,null,null,null,null,null,null,null,null,"Wilshire Mid Cap Price",null," (WILLMIDCAPPR)",22," WILLMIDCAPPR"]
[null,null,null,null,null,null,null,null,null,"Russel 1000 Growth ",null,"(RU1000GPR)",19,"RU1000GPR"]
[null,null,null,null,null,null,null,null,null,"Russel 2000 Value Price",null,"(RU2000VPR)",23,"RU2000VPR"]
[null,null,null,null,null,null,null,null,null,"Russel 3000 Value Price",null," (RU3000VPR)",23," RU3000VPR"]
[null,null,null,null,null,null,null,null,null,"Wilshier Small Cap Growth",null,"(WILLSMLCAPGR)",25,"WILLSMLCAPGR"]
[null,null,null,null,null,null,null,null,null,"Wilshier US Large Cap Gr",null,"(WILLLRGCAPGR)",24,"WILLLRGCAPGR"]
[null,null,null,null,null,null,null,null,null,"Russel Mid Cap Gr",null,"(RMIDGRPR)",17,"RMIDGRPR"]
[null,null,null,null,null,null,null,null,null,"Russel Mid Cap Total Val",null,"(RMIDVLTR)",24,"RMIDVLTR"]
[null,null,null,null,null,null,null,null,null,"Russel Top 200 Val",null,"(RTOP200VTR)",18,"RTOP200VTR"]
[null,null,null,null,null,null,null,null,null,"Wilshire 4500 Market Value",null,"(WILL4500IND)",26,"WILL4500IND"]
[null,null,null,null,null,null,null,null,null,"Wilshire US Large Cap Val Pr",null," (WILLLRGCAPVALPR)",28," WILLLRGCAPVALPR"]
[null,null,null,null,null,null,null,null,null,"Wilshire US Mid Cap Gr Pr",null,"(WILLMIDCAPGRPR)",25,"WILLMIDCAPGRPR"]
[null,null,null,null,null,null,null,null,null,"Wilshire US Small Cap Gr",null,"(WILLSMLCAPPR)",24,"WILLSMLCAPPR"]
[null,null,null,null,null,null,null,null,null,"Russel Mid Cap Total Mkt",null,"(RMIDGRTR)",24,"RMIDGRTR"]
[null,null,null,null,null,null,null,null,null,"Russel Top 200 Gr Tot Mkt",null,"(RTOP200GTR)",25,"RTOP200GTR"]
[null,null,null,null,null,null,null,null,null,"Russel Top 200 Price ",null,"(RUTOP200PR)",21,"RUTOP200PR"]
[null,null,null,null,null,null,null,null,null,"Wilshire Mid Cap Tot  ",null,"(WILLMIDCAPVAL)",22,"WILLMIDCAPVAL"]
[null,null,null,null,null,null,null,null,null,"Wilshire Small Cap Gr Pr",null," (WILLSMLCAPGRPR)",24," WILLSMLCAPGRPR"]
[null,null,null,null,null,null,null,null,null,"Wilshire 2500 Mkt",null," (WILL2500IND)",17," WILL2500IND"]
[null,null,null,null,null,null,null,null,null,"Wilshire 2500 Tot Val",null," (WILL2500INDVAL)",21," WILL2500INDVAL"]
[null,null,null,null,null,null,null,null,null,"Wilshire 4500 Pr Index",null,"(WILL4500PR)",22,"WILL4500PR"]
[null,null,null,null,null,null,null,null,null,"Wilshire US Micro ",null,"(WILLMICROCAP)",18,"WILLMICROCAP"]
[null,null,null,null,null,null,null,null,null,"Russel 2500 Tot Pr",null,"(RU2500PR)",18,"RU2500PR"]
[null,null,null,null,null,null,null,null,null,"Wilshire 2500 Gr Ind",null," (WILL2500INDGR)",20," WILL2500INDGR"]
[null,null,null,null,null,null,null,null,null,"Wilshire 2500 Price",null," (WILL2500PR)",19," WILL2500PR"]
[null,null,null,null,null,null,null,null,null,"Wilshire 2500 Value",null,"(WILL2500PRVAL)",19,"WILL2500PRVAL"]
[null,null,null,null,null,null,null,null,null,"Wilshire US Large Cap  ",null,"(WILLLRGCAPPR)",23,"WILLLRGCAPPR"]
[null,null,null,null,null,null,null,null,null,"British Railways",null,"(M11014GB00LONM324NNBR)",16,"M11014GB00LONM324NNBR"]
[null,null,null,null,null,null,null,null,null,"S&P 500",null,"(SP500)",7,"SP500"]

{"sheet":"Exchange Rates","index":6,"n_rows":84,"n_cols":32,"rows_kept":84,"cut":false,"hidden":false,"merged":[]}
[null,null,"Currency_URL",{"$f":"D2&C9&\".txt\"","v":"https://research.stlouisfed.org/fred2/data/GDP.txt"}]
[null,null,"Base URL","https://research.stlouisfed.org/fred2/data/"]
[]
[null,null,"Exchange Counter",8]
[null,null,"Total Exch Rates",{"$f":"COUNTA(E13:E145)","v":8}]
[]
[null,null,"Fred Code","exc_sheet","Title"]
[]
[null,null,{"$f":"INDEX(C13:C165,$D$4)","v":"GDP"},{"$f":"INDEX(D13:D165,$D$4)","v":"US GDP"},{"$f":"INDEX(E13:E165,$D$4)","v":"Gross Domestic Product (GDP)"}]
[]
["Inflation, Exchange Rate and Economic Series from FRED"]
[]
[null,null,{"$f":"AD13","v":"GDPDEF"},{"$f":"AE13","v":"GDP Inf"},{"$f":"AF13","v":"Implicit Price Deflator"},null,null,null,null,"Deflator/Index: Divide",null,null,{"$f":"FIND(\"(\",Q13,1)","v":35},{"$f":"FIND(\")\",Q13,1)","v":42},{"$f":"MID(Q13,M13+1,N13-M13-1)","v":"EXUSEU"},"Euro","U.S. / Euro Foreign Exchange Rate (EXUSEU)",null,null,null,null,null,null,null,null,null,null,null,null,"GDPDEF","GDP Inf","Implicit Price Deflator"]
[null,null,{"$f":"O39","v":"EXMXUS"},"Mex",{"$f":"Q39","v":"Mexico / U.S. Foreign Exchange Rate (EXMXUS)"},null,null,null,null,"Deflator/Index: Divide",null,null,{"$f":"FIND(\"(\",Q14,1)","v":35},{"$f":"FIND(\")\",Q14,1)","v":42},{"$f":"MID(Q14,M14+1,N14-M14-1)","v":"EXUSUK"},"UK","U.S. / U.K. Foreign Exchange Rate (EXUSUK)",null,null,null,null,null,null,null,null,null,null,null,null,"CPIAUCSL","CPI US","Consumer Price Inflation"]
[null,null,{"$f":"O13","v":"EXUSEU"},{"$f":"P13","v":"Euro"},{"$f":"Q13","v":"U.S. / Euro Foreign Exchange Rate (EXUSEU)"},null,null,null,null,"Deflator/Index: Multiply",null,null,63,79,"CCUSSP01SEQ650N","SEK","US Dollar to National Currency Spot Exchange Rate for Sweden© (CCUSSP01SEQ650N)",null,null,null,null,null,null,null,null,null,null,null,null,"EXUSEU","Euro","U.S. / Euro Foreign Exchange Rate (EXUSEU)"]
[null,null,{"$f":"AD16","v":"DEXINUS"},{"$f":"AE16","v":"INR"},{"$f":"AF16","v":"India / U.S. Foreign Exchange Rate (DEXINUS)"},null,null,null,null,"Deflator/Index: Multiply",null,null,37,45,"DEXNOUS","NOK","Norway / U.S. Foreign Exchange Rate (DEXNOUS)",null,null,null,null,null,null,null,null,null,null,null,null,"DEXINUS","INR","India / U.S. Foreign Exchange Rate (DEXINUS)"]
[null,null,"EXUSUK","UK","U.S. / U.K. Foreign Exchange Rate (EXUSUK)",null,null,null,null,"Deflator/Index: Multiply",null,null,42,50,"DEXSZUS","CFH","Switzerland / U.S. Foreign Exchange Rate (DEXSZUS)",null,null,null,null,null,null,null,null,null,null,null,null,"EXUSUK","UK","U.S. / U.K. Foreign Exchange Rate (EXUSUK)"]
[null,null,"DEXSZUS","CFH","Switzerland / U.S. Foreign Exchange Rate (DEXSZUS)",null,null,null,null,"Deflator/Index: Multiply",null,null,75,91,"CCUSSP01CZM650N","CZX","US Dollar to National Currency Spot Exchange Rate for the Czech Republic© (CCUSSP01CZM650N)",null,null,null,null,null,null,null,null,null,null,null,null,"DEXSZUS","CFH","Switzerland / U.S. Foreign Exchange Rate (DEXSZUS)"]
[null,null,"GNP","US NOM GNP","Gross National Product (GNP)",null,null,null,null,null,null,null,41,58,"FXRATERUA618NUPN","RUB","Exchange Rate to U.S. Dollar for Russia (FXRATERUA618NUPN)",null,null,null,null,null,null,null,null,null,null,null,null,"GNP","US NOM GNP","Gross National Product (GNP)"]
[null,null,{"$f":"O64","v":"GDP"},{"$f":"P64","v":"US GDP"},{"$f":"Q64","v":"Gross Domestic Product (GDP)"},null,null,null,null,null,null,null,62,78,"CCUSSP01JPM650N","JPY","US Dollar to National Currency Spot Exchange Rate for Japan© (CCUSSP01JPM650N)"]
[null,null,null,null,null,null,null,null,null,null,null,null,40,48,"DEXHKUS","HKD","Hong Kong / U.S. Foreign Exchange Rate (DEXHKUS)"]
[null,null,null,null,null,null,null,null,null,null,null,null,40,48,"DEXSIUS","SGD","Singapore / U.S. Foreign Exchange Rate (DEXSIUS)"]
[null,null,null,null,null,null,null,null,null,null,null,null,40,47,"EXUSAL","AUD","U.S. / Australia Foreign Exchange Rate (EXUSAL)"]
[null,null,null,null,null,null,null,null,null,null,null,null,36,44,"DEXINUS","INR","India / U.S. Foreign Exchange Rate (DEXINUS)"]
[null,null,null,null,null,null,null,null,null,null,null,null,66,82,"CCUSSP02IDQ650N","IDR","National Currency to US Dollar Spot Exchange Rate for Indonesia© (CCUSSP02IDQ650N)"]
[null,null,null,null,null,null,null,null,null,null,null,null,39,47,"DEXMAUS","MYR","Malaysia / U.S. Foreign Exchange Rate (DEXMAUS)"]
[null,null,null,null,null,null,null,null,null,null,null,null,42,50,"DEXUSNZ","NZD","U.S. / New Zealand Foreign Exchange Rate (DEXUSNZ)"]
[null,null,null,null,null,null,null,null,null,null,null,null,42,49,"EXKOUS","KWR","South Korea / U.S. Foreign Exchange Rate (EXKOUS)"]
[null,null,null,null,null,null,null,null,null,null,null,null,37,45,"DEXTAUS","TWII","Taiwan / U.S. Foreign Exchange Rate (DEXTAUS)"]
[null,null,null,null,null,null,null,null,null,null,null,null,62,78,"CCUSSP02CNQ650N","Yuan","National Currency to US Dollar Spot Exchange Rate for China© (CCUSSP02CNQ650N)"]
[null,null,null,null,null,null,null,null,null,null,null,null,46,54,"NBXMBIS","Euro 1","Broad Effective Exchange Rate for Euro Area© (NBXMBIS)"]
[null,null,null,null,null,null,null,null,null,null,null,null,40,57,"FXRATEGHA618NUPN","GHS","Exchange Rate to U.S. Dollar for Ghana (FXRATEGHA618NUPN)"]
[null,null,null,null,null,null,null,null,null,null,null,null,81,97,"CCUSMA02FRM618N","France","National Currency to US Dollar Exchange Rate: Average of Daily Rates for France (CCUSMA02FRM618N)"]
[null,null,null,null,null,null,null,null,null,null,null,null,{"$f":"FIND(\"(\",Q34,1)","v":63},{"$f":"FIND(\")\",Q34,1)","v":79},{"$f":"MID(Q34,M34+1,N34-M34-1)","v":"CCUSSP01DEM650N"},"Germany","US Dollar to National Currency Spot Exchange Rate for Germany (CCUSSP01DEM650N)"]
[null,null,null,null,null,null,null,null,null,null,null,null,{"$f":"FIND(\"(\",Q35,1)","v":66},{"$f":"FIND(\")\",Q35,1)","v":80},{"$f":"MID(Q35,M35+1,N35-M35-1)","v":"INTGSTMXM193N"},"Mex Int","Interest Rates, Government Securities, Treasury Bills for Mexico (INTGSTMXM193N)"]
[null,null,null,null,null,null,null,null,null,null,null,null,{"$f":"FIND(\"(\",Q36,1)","v":80},{"$f":"FIND(\")\",Q36,1)","v":96},{"$f":"MID(Q36,M36+1,N36-M36-1)","v":"IRLTLT01MXM156N"},"Mex Bnd","Long-Term Government Bond Yields: 10-year: Main Including Benchmark for Mexico (IRLTLT01MXM156N)"]
[null,null,null,null,null,null,null,null,null,null,null,null,81,97,"CPGRLE01MXM659N","Mex CP!","Consumer Price Index: OECD Groups: All Items Non-Food and Non-Energy for Mexico (CPGRLE01MXM659N)"]
[null,null,null,null,null,null,null,null,null,null,null,null,81,97,"CPGRLE01MXM657N","Mex CPI 1","Consumer Price Index: OECD Groups: All Items Non-Food and Non-Energy for Mexico (CPGRLE01MXM657N)"]
[null,null,null,null,null,null,null,null,null,null,null,null,37,44,"EXMXUS","Mex exch","Mexico / U.S. Foreign Exchange Rate (EXMXUS)"]
[null,null,null,null,null,null,null,null,null,null,null,null,67,83,"IR3TIB01IDQ156N","INDO Int","3-Month or 90-day Rates and Yields: Interbank Rates for Indonesia (IR3TIB01IDQ156N)"]
[null,null,null,null,null,null,null,null,null,null,null,null,45,59,"INTDSRIDM193N","INDO Int1","Interest Rates, Discount Rate for Indonesia (INTDSRIDM193N)"]
[null,null,null,null,null,null,null,null,null,null,null,null,42,57,"FPCPITOTLZGIDN","INDO Inf","Inflation, consumer prices for Indonesia (FPCPITOTLZGIDN)"]
[null,null,null,null,null,null,null,null,null,null,null,null,65,81,"CCUSSP02IDM650N","INDO Exch","National Currency to US Dollar Spot Exchange Rate for Indonesia (CCUSSP02IDM650N)"]
[null,null,null,null,null,null,null,null,null,null,null,null,43,59,"INDCPIALLMINMEI","IND CPI","Consumer Price Index: All Items for India (INDCPIALLMINMEI)"]
[null,null,null,null,null,null,null,null,null,null,null,null,{"$f":"FIND(\"(\",Q45,1)","v":57},{"$f":"FIND(\")\",Q45,1)","v":66},"CPIAUCSL","US CPI","Consumer Price Index for All Urban Consumers: All Items (CPIAUCSL)"]
[null,null,null,null,null,null,null,null,null,null,null,null,23,27,"GDI","US GDI","Gross Domestic Income (GDI)"]
[null,null,null,null,null,null,null,null,null,null,null,null,29,35,"GDPC1","US Real GDP","Real Gross Domestic Product (GDPC1)"]
[null,null,null,null,null,null,null,null,null,null,null,null,29,35,"GDPCA","US Real GDP A","Real Gross Domestic Product (GDPCA)"]
[null,null,null,null,null,null,null,null,null,null,null,null,24,29,"GDPA","US GDP","Gross Domestic Product (GDPA)"]
[null,null,null,null,null,null,null,null,null,null,null,null,40,56,"A939RX0Q048SBEA","US REAL GDP CAP","Real gross domestic product per capita (A939RX0Q048SBEA)"]
[null,null,null,null,null,null,null,null,null,null,null,null,24,28,"GNP","US NOM GNP","Gross National Product (GNP)"]
[null,null,null,null,null,null,null,null,null,null,null,null,42,50,"NGDPPOT","US NOM GDP","Nominal Potential Gross Domestic Product (NGDPPOT)"]
[null,null,null,null,null,null,null,null,null,null,null,null,35,51,"A939RC0Q052SBEA","US GDP CAP","Gross domestic product per capita (A939RC0Q052SBEA)"]
[null,null,null,null,null,null,null,null,null,null,null,null,35,51,"A791RC0Q052SBEA","US GNP CAP","Gross national product per capita (A791RC0Q052SBEA)"]
[null,null,null,null,null,null,null,null,null,null,null,null,23,39,"A023RC1Q027SBEA","US GNI","Gross national income (A023RC1Q027SBEA)"]
[null,null,null,null,null,null,null,null,null,null,null,null,{"$f":"FIND(\"(\",Q56,1)","v":51},{"$f":"FIND(\")\",Q56,1)","v":65},{"$f":"MID(Q56,M56+1,N56-M56-1)","v":"MEHOINUSA672N"},"Real Median Income","Real Median Household Income in the United States (MEHOINUSA672N)"]
[null,null,null,null,null,null,null,null,null,null,null,null,46,60,"MEHOINUSA646N","US Med Inc Nom","Median Household Income in the United States (MEHOINUSA646N)"]
[null,null,null,null,null,null,null,null,null,null,null,null,63,78,"LES1252881600Q","Median Income","Employed full time: Median usual weekly real earnings: d over (LES1252881600Q)"]
[null,null,null,null,null,null,null,null,null,null,null,null,117,132,"LEU0252881500Q","Median Income 1","Employed full time: Median usual weekly nominal earnings second quartile Wage and salary workers: 16 years and over (LEU0252881500Q)"]
[null,null,null,null,null,null,null,null,null,null,null,null,74,90,"N3291C0A144NBEA","Insurance"," Corporate profits after tax: Domestic industries: Finance and insurance (N3291C0A144NBEA)"]
[null,null,null,null,null,null,null,null,null,null,null,null,37,54,"POPTOTUSA647NWDB","US Population","Population, Total for United States (POPTOTUSA647NWDB)"]
[null,null,null,null,null,null,null,null,null,null,null,null,{"$f":"FIND(\"(\",Q62,1)","v":30},{"$f":"FIND(\")\",Q62,1)","v":43},{"$f":"MID(Q62,M62+1,N62-M62-1)","v":"SPPOPTOTLWLD"},"World Population"," Population, Total for World (SPPOPTOTLWLD)"]
[null,null,null,null,null,null,null,null,null,null,null,null,{"$f":"FIND(\"(\",Q63,1)","v":35},{"$f":"FIND(\")\",Q63,1)","v":39},{"$f":"MID(Q63,M63+1,N63-M63-1)","v":"PCE"},"Consumption","Personal Consumption Expenditures (PCE)"]
[null,null,null,null,null,null,null,null,null,null,null,null,{"$f":"FIND(\"(\",Q64,1)","v":24},{"$f":"FIND(\")\",Q64,1)","v":28},{"$f":"MID(Q64,M64+1,N64-M64-1)","v":"GDP"},"US GDP","Gross Domestic Product (GDP)"]
[]
[]
[null,null,null,null,null,null,null,null,null,null,null,null,null,null,"CP","Corp Profit","Corporate Profits",null,null,null,null,"https://research.stlouisfed.org/fred2/data/CP.txt"]
[null,null,null,null,null,null,null,null,null,null,null,null,null,null,"CPATAX","Adj Corp Profit","Adjusted Corporate Profits",null,null,null,null,"https://research.stlouisfed.org/fred2/data/"]
[null,null,null,null,null,null,null,null,null,null,null,null,null,null,"WASCUR","Comp Emp","Compenstation of Employees",null,null,null,null,"https://research.stlouisfed.org/fred2/data/WASCUR.txt"]
[null,null,null,null,null,null,null,null,null,null,null,null,null,null,"NFCPATAX","Corp Nonfin","Non Financial Corporate Profits",null,null,null,null,"https://research.stlouisfed.org/fred2/data/"]
[null,null,null,null,null,null,null,null,null,null,null,null,null,null,"NFCPATAX","Corp Nonfin Adj","Non Financial Corporate Profits No Adj",null,null,null,null,"https://research.stlouisfed.org/fred2/data/"]
[null,null,null,null,null,null,null,null,null,null,null,null,null,null,"A466RD3Q052SBEA","Corp Val Added","Corporate per Unit Value Added",null,null,null,null,"https://research.stlouisfed.org/fred2/data/"]
[null,null,null,null,null,null,null,null,null,null,null,null,null,null,"COE","Employee Comp","Compensation of Employees",null,null,null,null,"https://research.stlouisfed.org/fred2/data/"]
[null,null,null,null,null,null,null,null,null,null,null,null,null,null,"COFC","Comp Cap","Compensation of Capital",null,null,null,null,"https://research.stlouisfed.org/fred2/data/"]
[null,null,null,null,null,null,null,null,null,null,null,null,null,null,"A055RC0A144NBEA","Corp Aft Tax","Corporate Profits After Tax",null,null,null,null,"https://research.stlouisfed.org/fred2/data/"]
[null,null,null,null,null,null,null,null,null,null,null,null,null,null,"A445RC1Q027SBEA","Corp Inf Adjusted","Corporate Profits with Inflation Adj",null,null,null,null,"https://research.stlouisfed.org/fred2/data/"]
[null,null,null,null,null,null,null,null,null,null,null,null,null,null,"B394RC1Q027SBEA","Corp Non Dom","Corporate Profits non Domestic",null,null,null,null,"https://research.stlouisfed.org/fred2/data/"]
[null,null,null,null,null,null,null,null,null,null,null,null,null,null,"GDI","GDI US","Gross Domestic Income",null,null,null,null,"https://research.stlouisfed.org/fred2/data/"]
[null,null,null,null,null,null,null,null,null,null,null,null,null,null,"GDPC1","GDP Real","Real Gross Domestic Product",null,null,null,null,"https://research.stlouisfed.org/fred2/data/"]
[null,null,null,null,null,null,null,null,null,null,null,null,null,null,"GDP","GDP US","Gross Domestic Product",null,null,null,null,"https://research.stlouisfed.org/fred2/data/"]
[null,null,null,null,null,null,null,null,null,null,null,null,null,null,"GDPDEF","GDP Inf","Implicit Price Deflator",null,null,null,null,"https://research.stlouisfed.org/fred2/data/"]
[null,null,null,null,null,null,null,null,null,null,null,null,null,null,"CPIAUCSL","CPI US","Consumer Price Inflation",null,null,null,null,"https://research.stlouisfed.org/fred2/data/"]
[null,null,null,null,null,null,null,null,null,null,null,null,null,null,null,null,null,null,null,null,null,"http://real-chart.finance.yahoo.com/table.csv?s=%5EGSPC&a=00&b=3&c=1950&d=03&e=29&f=2016&g=m&ignore=.csv"]
[null,null,null,null,null,null,null,null,null,null,null,null,null,null,null,null,null,null,null,null,null,"http://www.multpl.com/shiller-pe/table"]

{"sheet":"Commodity Prices","index":7,"n_rows":89,"n_cols":22,"rows_kept":89,"cut":false,"hidden":false,"merged":[]}
[null,null,"Example URL","https://research.stlouisfed.org/fred2/data/DCOILBRENTEU.txt"]
[null,null,"First Part","https://research.stlouisfed.org/fred2/data/"]
[null,null,"Fred_com_url",{"$f":"D2&C12&\".txt\"","v":"https://research.stlouisfed.org/fred2/data/.txt"}]
[]
[null,null,"Number Applied (com_num)",1]
[null,null,"Total Commodites in List (total_com)",{"$f":"COUNTA(D16:D118)","v":0}]
[]
[null,null,"SHIFT,CNLT, F --> Fix the format of sheets"]
[]
[null,null,"Sheet Name (Substitute)","Title of Series in FRED","Code with Brackets"]
[null,null,null,null,null,null,"Note: Sometimes D is Daily; M is Monthly etc"]
[null,null,{"$f":"INDEX(C16:C82,com_num)","v":""},{"$f":"INDEX(D16:D98,com_num)","v":0},{"$f":"INDEX(E16:E98,com_num)","v":0}]
[]
["Commodity Prices from Fred"]
[]
[null,null,{"$f":"SUBSTITUTE(SUBSTITUTE(E16,\"(\",\"\",1),\")\",\"\",1)","v":""},null,null,null,"(DCOILBRENTEU)",null,null,"Crude Oil Prices: Brent - Europe (DCOILBRENTEU)",null,null,null,null,null,null,null,null,null,{"$f":"SUBSTITUTE(SUBSTITUTE(V16,\"(\",\"\",1),\")\",\"\",1)","v":"MHHNGSP"},{"$f":"J19","v":"Henry Hub Natural Gas Spot Price (MHHNGSP)"},{"$f":"G19","v":"(MHHNGSP)"}]
[null,null,{"$f":"SUBSTITUTE(SUBSTITUTE(E17,\"(\",\"\",1),\")\",\"\",1)","v":""},null,null,null,"(MCOILBRENTEU)",null,null,"Crude Oil Prices: Brent - Europe (DCOILBRENTEU)",null,null,null,null,null,null,null,null,null,"PNGASEUUSDM",{"$f":"J20","v":" Global Price Index of All Commodities© (PALLFNFINDEXQ)"},{"$f":"G22","v":"(PNGASEUUSDM)"}]
[null,null,"",null,null,null,"(GOLDAMGBD228NLBM)",null,null," Gold Fixing Price 10:30 A.M. (London time) in London Bullion Market, based in U.S. Dollars© (GOLDAMGBD228NLBM)",null,null,null,null,null,null,null,null,null,"WDFUELUSGULF",{"$f":"J21","v":" Ultra-Low-Sulfur No. 2 Diesel Fuel Prices: U.S. Gulf Coast (WDFUELUSGULF)"},{"$f":"G21","v":"(WDFUELUSGULF)"}]
[null,null,"",null,null,null,"(MHHNGSP)",null,null,"Henry Hub Natural Gas Spot Price (MHHNGSP)",null,null,null,null,null,null,null,null,null,"PNGASJPUSDM",{"$f":"J33","v":"Global price of LNG, Asia© (PNGASJPUSDM)"},{"$f":"G33","v":"(PNGASJPUSDM)"}]
[null,null,"",null,null,null,"(PALLFNFINDEXQ)",null,null," Global Price Index of All Commodities© (PALLFNFINDEXQ)",null,null,null,null,null,null,null,null,null,"PNGASEUUSDM",{"$f":"J59","v":"Global price of Natural gas, EU© (PNGASEUUSDM)"},{"$f":"G59","v":"(PNGASEUUSDM)"}]
[null,null,"",null,null,null,"(WDFUELUSGULF)",null,null," Ultra-Low-Sulfur No. 2 Diesel Fuel Prices: U.S. Gulf Coast (WDFUELUSGULF)",null,null,null,null,null,null,null,null,null,"PURANUSDM",{"$f":"J23","v":"Global price of Uranium© (PURANUSDM)"},{"$f":"G23","v":"(PURANUSDM)"}]
[null,null,"",null,null,null,"(PNGASEUUSDM)",null,null," Global price of Natural gas, EU© (PNGASEUUSDM)",null,null,null,null,null,null,null,null,null,"PCOPPUSDM",{"$f":"J32","v":"Global price of Copper© (PCOPPUSDM)"},{"$f":"G32","v":"(PCOPPUSDM)"}]
[null,null,{"$f":"SUBSTITUTE(SUBSTITUTE(E23,\"(\",\"\",1),\")\",\"\",1)","v":""},null,null,null,"(PURANUSDM)",null,null,"Global price of Uranium© (PURANUSDM)",null,null,null,null,null,null,null,null,null,"PMAIZMTUSDM",{"$f":"J34","v":"Global price of Corn© (PMAIZMTUSDM)"},{"$f":"G34","v":"(PMAIZMTUSDM)"}]
[null,null,"",null,null,null,"(WDFUELNYH)",null,null,"Ultra-Low-Sulfur No. 2 Diesel Fuel Prices: New York Harbor (WDFUELNYH)",null,null,null,null,null,null,null,null,null,"PHIDEUSDQ",{"$f":"J80","v":"Global price of Hides© (PHIDEUSDQ)"},{"$f":"G80","v":"(PHIDEUSDQ)"}]
[null,null,"",null,null,null,"(WHOILNYH)",null,null," No. 2 Heating Oil Prices: New York Harbor (WHOILNYH)",null,null,null,null,null,null,null,null,null,"PCOTTINDUSDM",{"$f":"J46","v":"Global price of Cotton© (PCOTTINDUSDM)"},{"$f":"G46","v":"(PCOTTINDUSDM)"}]
[null,null,"",null,null,null,"(MNGLCP)",null,null,"U.S. Natural Gas Liquid Composite Price (MNGLCP)"]
[null,null,"",null,null,null,"(PHIDEUSDQ)",null,null,"Global price of Hides© (PHIDEUSDQ)"]
[null,null,"",null,null,null,"(DGASUSGULF)",null,null," Conventional Gasoline Prices: U.S. Gulf Coast, Regular (DGASUSGULF)"]
[null,null,"",null,null,null,"(GASREGW)",null,null,"US Regular All Formulations Gas Price (GASREGW)"]
[null,null,"",null,null,null,"(WHHNGSP)",null,null,"Henry Hub Natural Gas Spot Price (WHHNGSP)"]
[null,null,"",null,null,null,"(DHHNGSP)",null,null,"Henry Hub Natural Gas Spot Price (DHHNGSP)"]
[null,null,"",null,null,null,"(PCOPPUSDM)",null,null,"Global price of Copper© (PCOPPUSDM)"]
[null,null,"",null,null,null,"(PNGASJPUSDM)",null,null,"Global price of LNG, Asia© (PNGASJPUSDM)"]
[null,null,"",null,null,null,"(PMAIZMTUSDM)",null,null,"Global price of Corn© (PMAIZMTUSDM)"]
[null,null,"",null,null,null,"(PWHEAMTUSDM)",null,null,"Global price of Wheat© (PWHEAMTUSDM)"]
[null,null,"",null,null,null,"(DPROPANEMBTX)",null,null,"Propane Prices: Mont Belvieu, Texas (DPROPANEMBTX)"]
[null,null,"",null,null,null,"(PIORECRUSDM)",null,null,"Global price of Iron Ore© (PIORECRUSDM)"]
[null,null,"",null,null,null,"(GASREGW)",null,null,"US Regular All Formulations Gas Price (GASREGW)"]
[null,null,"",null,null,null,"(PALUMUSDM)",null,null,"Global price of Aluminum© (PALUMUSDM)"]
[null,null,"",null,null,null,"(PCOALAUUSDM)",null,null,"Global price of Coal, Australia© (PCOALAUUSDM)"]
[null,null,"",null,null,null,"(POILDUBUSDM)",null,null,"Global price of Dubai Crude© (POILDUBUSDM)"]
[null,null,"",null,null,null,"(PSOYBUSDM)",null,null,"Global price of Soybeans© (PSOYBUSDM)"]
[null,null,"",null,null,null,"(PSHRIUSDM)",null,null,"Global price of Shrimp© (PSHRIUSDM)"]
[null,null,"",null,null,null,"(DJFUELUSGULF)",null,null,"Kerosene-Type Jet Fuel Prices: U.S. Gulf Coast (DJFUELUSGULF)"]
[null,null,"",null,null,null,"(PRUBBUSDM)",null,null,"Global price of Rubber© (PRUBBUSDM)"]
[null,null,"",null,null,null,"(PCOTTINDUSDM)",null,null,"Global price of Cotton© (PCOTTINDUSDM)"]
[null,null,"",null,null,null,"(PBEEFUSDQ)",null,null,"Global price of Beef© (PBEEFUSDQ)"]
[null,null,"",null,null,null,"(PSUNOUSDM)",null,null,"Global price of Sunflower Oil© (PSUNOUSDM)"]
[null,null,"",null,null,null,"(PBANSOPUSDM)",null,null,"Global price of Bananas© (PBANSOPUSDM)"]
[null,null,"",null,null,null,"(PBARLUSDM)",null,null,"Global price of Barley© (PBARLUSDM)"]
[null,null,"",null,null,null,"(CP0111E3CCM086NEST)",null,null,"Harmonized Index of Consumer Prices: Bread and Cereals for European Economic Area (EEA18-2004, EEA28-2006, EEA30)© (CP0111E3CCM086NEST)"]
[null,null,"",null,null,null,"(CP0111EZ18M086NEST)",null,null,"Harmonized Index of Consumer Prices: Bread and Cereals for Euro Area (18 countries)© (CP0111EZ18M086NEST)"]
[null,null,"",null,null,null,"(PCOFFOTMUSDQ)",null,null,"Global price of Coffee, Other Mild Arabica© (PCOFFOTMUSDQ)"]
[null,null,"",null,null,null,"(GASDESW)",null,null,"US Diesel Sales Price (GASDESW)"]
[null,null,"",null,null,null,"(PZINCUSDA)",null,null,"Global price of Zinc© (PZINCUSDA)"]
[null,null,"",null,null,null,"(PSUGAISAUSDM)",null,null,"Global price of Sugar, No. 11, World© (PSUGAISAUSDM)"]
[null,null,"",null,null,null,"(PINDUINDEXM)",null,null,"Global price of Industrial Materials index© (PINDUINDEXM)"]
[null,null,"",null,null,null,"(PNICKUSDA)",null,null,"Global price of Nickel© (PNICKUSDA)"]
[null,null,null,null,null,null,"(PNGASEUUSDM)",null,null,"Global price of Natural gas, EU© (PNGASEUUSDM)"]
[null,null,null,null,null,null,"(PRICENPQUSDM)",null,null,"Global price of Rice, Thailand© (PRICENPQUSDM)"]
[null,null,null,null,null,null,"(PFISHUSDM)",null,null,"Global price of Fish Meal© (PFISHUSDM)"]
[null,null,null,null,null,null,"(PMETAINDEXM)",null,null,"Global price of Metal index© (PMETAINDEXM)"]
[null,null,null,null,null,null,"(PRAWMINDEXM)",null,null,"Global price of Agr. Raw Material Index© (PRAWMINDEXM)"]
[null,null,null,null,null,null,"(PCOCOUSDM)",null,null,"Global price of Cocoa© (PCOCOUSDM)"]
[null,null,null,null,null,null,"(PORANGUSDM)",null,null,"Global price of Orange© (PORANGUSDM)"]
[null,null,null,null,null,null,"(PFOODINDEXM)",null,null,"Global price of Food index© (PFOODINDEXM)"]
[null,null,null,null,null,null,"(PPOILUSDM)",null,null,"Global price of Palm Oil© (PPOILUSDM)"]
[null,null,null,null,null,null,"(MNGLCP)",null,null,"U.S. Natural Gas Liquid Composite Price (MNGLCP)"]
[null,null,null,null,null,null,"(PPOULTUSDA)",null,null,"Global price of Poultry© (PPOULTUSDA)"]
[null,null,null,null,null,null,"(PTINUSDM)",null,null,"Global price of Tin© (PTINUSDM)"]
[null,null,null,null,null,null,"(PCOFFROBUSDM)",null,null,"Global price of Coffee, Robustas© (PCOFFROBUSDM)"]
[null,null,null,null,null,null,"(PSMEAUSDM)",null,null,"Global price of Soybean Meal© (PSMEAUSDM)"]
[null,null,null,null,null,null,"(POLVOILUSDM)",null,null,"Global price of Olive Oil© (POLVOILUSDM)"]
[null,null,null,null,null,null,"(PSOILUSDA)",null,null,"Global price of Soybeans Oil© (PSOILUSDA)"]
[null,null,null,null,null,null,"(PSUGAEECUSDA)",null,null,"Global price of Sugar, EU© (PSUGAEECUSDA)"]
[null,null,null,null,null,null,"(PWOOLFUSDM)",null,null,"Global price of Wool, Fine© (PWOOLFUSDM)"]
[null,null,null,null,null,null,"(PSALMUSDM)",null,null,"Global price of Fish© (PSALMUSDM)"]
[null,null,null,null,null,null,"(PTEAUSDM)",null,null,"Global price of Tea, Kenyan© (PTEAUSDM)"]
[null,null,null,null,null,null,"(PLOGOREUSDM)",null,null,"Global price of Soft Logs© (PLOGOREUSDM)"]
[null,null,null,null,null,null,"(PHIDEUSDQ)",null,null,"Global price of Hides© (PHIDEUSDQ)"]
[null,null,null,null,null,null,"(PFANDBINDEXA)",null,null,"Global price of Food and beverage index© (PFANDBINDEXA)"]
[null,null,null,null,null,null,"(PSAWOREUSDA)",null,null,"Global price of Soft Sawnwood, Average of Softwoods,© (PSAWOREUSDA)"]
[null,null,null,null,null,null,"(PLAMBUSDA)",null,null,"Global price of Lamb© (PLAMBUSDA)"]
[null,null,null,null,null,null,"(PROILUSDA)",null,null,"Global price of Rapeseed Oil© (PROILUSDA)"]
[null,null,null,null,null,null,"(PWOOLCUSDM)",null,null,"Global price of Wool, Coarse© (PWOOLCUSDM)"]
[null,null,null,null,null,null,"(PGNUTSUSDA)",null,null,"Global price of Groundnuts© (PGNUTSUSDA)"]
[null,null,null,null,null,null,"(PLOGSKUSDM)",null,null,"Global price of Hard Logs, Import Price Japan© (PLOGSKUSDM)"]
[null,null,null,null,null,null,"(PSAWMALUSDQ)",null,null,"Global price of Hard Sawnwood, Dark Red Meranti© (PSAWMALUSDQ)"]
[null,null,null,null,null,null,"(GASMIDREFM)",null,null,"US Midgrade Reformulated Gas Price (GASMIDREFM)"]

{"sheet":"Yahoo Stocks","index":8,"n_rows":121,"n_cols":59,"rows_kept":121,"cut":false,"hidden":false,"merged":[]}
["URL to read Yahoo stock with WEBREQUEST"]
[]
[]
[]
[null,null,"yahoo url",{"$f":"Part_1&D10&Part_2&Part_3&Part4&Crumb_String","v":"https://query1.finance.yahoo.com/v7/finance/download/601012.SS?period1=-631152000&period2=1536451200&interval=1mo&events=history&crumb=0qN1Qb.NBkS"}]
[null,null,"Fixed","https://query1.finance.yahoo.com/v7/finance/download/GE?period1=-631152000&period2=1510444800&interval=1wk&events=history&crumb=z9oVYd3qdiN"]
[]
["Parts to URL for WEBREQUEST",null,null,null,null,null,null,null,null,null,null,null,null,null,null,null,null,null,null,null,null,null,null,null,null,null,null,null,null,null,null,null,null,null,null,null,null,null,null,null,null,null,null,null,null,4,"0DogTmPS.ad"]
[null,null,"Part 1","https://query1.finance.yahoo.com/v7/finance/download/",null,null,null,null,null,null,null,null,null,null,null,"Yahoo Index",{"$f":"Q11&D24&Q12&L25&Q13&M25&Q14","v":"http://www.google.com/finance/historical?q=601012.SS&startdate=Jun 28, 1999&enddate=Sep 09, 2018&output=csv"},null,null,null,null,null,null,null,null,null,null,null,null,null,null,null,null,null,null,null,null,null,null,null,null,null,null,null,null,5,"YR4DTj5nWxK"]
[null,null,"Part 2",{"$f":"Google_Ticker","v":"601012.SS"},null,null,null,null,null,null,null,null,null,null,null,null,null,null,null,null,null,null,null,null,null,null,null,null,null,null,null,null,null,null,null,null,null,null,null,null,null,null,null,null,null,6,".lxRRFrSiBH"]
[null,null,"Part 2","?period1=-631152000&period2=",null,null,null,null,null,null,null,null,null,null,null,null,"http://www.google.com/finance/historical?q=",null,null,null,null,null,null,null,null,null,null,null,null,null,null,null,null,null,null,null,null,null,null,null,null,null,null,null,null,7,"ayso2ZErQOf"]
[null,null,"Part 3",{"$f":"TEXT(L16,0)","v":"1536451200"},null,null,null,null,null,null,null,null,null,null,null,null,"&startdate=",null,null,null,null,null,null,null,null,null,null,null,null,null,null,null,null,null,null,null,null,null,null,null,null,null,null,null,null,8,"aTX22e7zn34"]
[null,null,"Part4","&interval=1mo&events=history&crumb=",null,null,null,null,null,null,null,null,null,null,null,null,"&enddate=",null,null,null,null,null,null,null,null,null,null,null,null,null,null,null,null,null,null,null,null,null,null,null,null,null,null,null,null,9,"VI5Xh7BcvmY"]
[null,null,"Cookie String","B=36adrm1dpb4ch&b=3&s=e4",null,null,null,null,null,null,null,null,null,null,null,null,"&output=csv",null,null,null,null,null,null,null,null,null,null,null,null,null,null,null,null,null,null,null,null,null,null,null,null,null,null,null,null,10,"Apevnkl89Do"]
[null,null,"Cookie num",1,null,null,null,null,null,null,null,"=(A1-DATE(1970,1,1))*86400",null,null,null,null,null,null,null,null,null,null,null,null,null,null,null,null,null,null,null,null,null,null,null,null,null,null,null,null,null,null,null,null,null,11,"UEsp04Vhq1V"]
[null,null,"Cookie in VBA","B=bt97nr5d0h3e6&b=3&s=t2",null,null,null,null,null,null,{"$f":"TODAY()","v":"2018-09-09"},{"$f":"(K16-DATE(1970,1,1))*86400","v":1536451200},null,null,null,null,null,null,null,null,null,null,null,null,null,null,null,null,null,null,null,null,null,null,null,null,null,null,null,null,null,null,null,null,null,12,"ibMkdnG5sRs"]
[null,null,"Crumb String","0qN1Qb.NBkS",null,null,null,null,null,null,null,null,null,null,null,null,null,null,null,null,null,null,null,null,null,null,null,null,null,null,null,null,null,null,null,null,null,null,null,null,null,null,null,null,null,13,"NYyK5l5bdIv"]
[null,null,"response wait",3]
[]
[null,null,"Yahoo Counter",10,null,null,null,null,null,null,null,null,null,null,null,null,null,null,null,null,null,null,null,null,null,null,null,null,null,null,null,null,null,null,null,null,null,null,null,null,null,null,null,null,null,15,"mmD9oHwXc4Q"]
[null,null,"Yahoo Stock Tickers",{"$f":"E21","v":10},{"$f":"COUNTA(D30:D203)","v":10},null,null,null,null,null,null,null,null,null,null,null,null,null,null,null,null,null,null,null,null,null,null,null,null,null,null,null,null,null,null,null,null,null,null,null,null,null,null,null,null,16,"QGPH.wTFCEz"]
[null,null,null,null,null,null,null,null,null,null,null,null,null,null,null,null,null,null,null,null,null,null,null,null,null,null,null,null,null,null,null,null,null,null,null,null,null,null,null,null,null,null,null,null,null,17,"2oXbf.DMbbF"]
[null,null,null,"Yahoo Stock Sheet","Yahoo name",null,null,null,null,null,null,"Start","End",null,null,null,null,null,"Step 3: Open the macro file to put together checkboxes",null,null,null,null,null,null,null,null,null,null,null,null,null,null,null,null,null,null,null,null,null,null,null,null,null,null,24]
[null,null,null,{"$f":"INDEX(D30:D257,Counter)","v":"601012.SS"},{"$f":"INDEX(E30:E164,Counter)","v":"Longi Solar"},null,null,null,null,null,null,"1999-06-28",{"$f":"TODAY()","v":"2018-09-09"},null,null,null,null,null,"Step 4: Run the macro (Shift, CNTL, E)",null,null,null,null,null,null,null,null,null,null,null,null,null,null,null,null,null,null,null,null,null,null,null,null,null,null,25]
[null,null,null,null,null,null,null,null,null,null,null,{"$f":"TEXT(L24,\"MMM DD, YYYY\")","v":"Jun 28, 1999"},{"$f":"TEXT(M24,\"MMM DD, YYYY\")","v":"Sep 09, 2018"},null,null,null,null,null,"Step 5: Insert the standard count, match and index",null,null,null,null,null,null,null,null,null,null,null,null,null,null,null,null,null,null,null,null,null,null,null,null,null,null,26]
["Stock Tickers and Company Names from Yahoo"]
[]
[null,null,null,"Sheet Name","Company Name",null,null,null,null,null,null,null,null,null,null,null,null,null,null,null,null,null,null,null,null,null,null,null,null,null,null,null,null,null,null,null,null,null,null,null,null,null,null,null,null,null,null,null,null,null,null,"Company Name","TICKER","TICKER","MARKET"]
[null,null,null,null,null,null,null,null,null,"General",null,null,null,null,"Oil Companies",null,null,null,null,null,null,null,null,null,null,null,null,null,null,null,null,null,"General",null,null,null,"Insurance Company",null,null,null,null,null,null,null,"Renewable",null,null,null,null,null,null,null,"YAHOO","MARKET W.",null,null,null,"Solar"]
[null,null,null,null,null,null,null,null,null,null,null,null,null,null,null,null,null,null,"Step 9: Put together graphs"]
[null,null,null,null,null,null,null,null,1,"GE","General Electric",null,null,null,"Ticker","Index","Currency",null,null," CHK ","Cheasapeak Energy",null,null,"NSRGY","Nestle",null,"DTE.DE","Deutsche Telekom AG (ADR)",null,null,null,null,"GE","General Electric",null,null,"L&G","LGEN.L",null,"FB","Facebook",null,null,null,"General Electric",null,null,null,"GE",null,null,"ABM Industries Incorporated","ABM","ABM","NYSE",null,null,"FSLR","First Solar"]
[null,null,null,null,null,null,null,null,2,"AAPL","Apple",null,null,1," CHK ","Cheasapeak Energy",null,null,null,"RRC","Range Resources",null,null,"KRFT","Kraft",null,"FTE","France Telecom SA (ADR)",null,null,null,null,"C ","Citibank",null,null,"L&G ADR","LGGNY",null,"MSFT","Microsoft",null,null,null,"Vestas (Denmark)",null,null,null,"VWS.CO",null,null,"Aramark","ARMK","ARMK","NYSE",null,null,"JKS","Jinko Solar"]
[null,null,null,null,null,null,null,null,3,"GOOG","Google",null,null,2,"RRC","Range Resources",null,null,null,"CLR","Contential Resources",null,null,"HSY","Hershey",null,"BT","BT Group plc (ADR) (BT)",null,null,null,null,"AAPL","Apple",null,null,"Met Life","MET",null,"BBRY","Blackberry",null,null,null,"Gamesa Wind (Spain)",null,null,null,"GAM.MC",null,null,"Cintas Corporation","CTAS","CTAS","NASDAQ",null,null,"TSL","Trina Solar"]
[null,null,null,null,null,null,null,null,4,"AMZN","Amazon",null,null,3,"CLR","Contential Resources",null,null,null,"SD","Sandy Ridge",null,null,"BN.PA","Dannone",null,"VOD","Vodafone Group plc",null,null,null,null,"GOOG","Google",null,null,"AIG","AIG",null,"HPQ","HP",null,null,null,"Nordex Wind SE: German On-Shore Wind",null,null,null,"NDX1.DE",null,null,"Comfort Systems USA, Inc.","FIX","FIX","NYSE",null,null,"CSIQ","Canadian Solar"]
[null,null,null,null,null,null,null,null,5,"FB","Facebook",null,null,4,"SD","Sandy Ridge",null,null,null,"MPO","Midstates Petroleum",null,null,"PEP","Pepsi Co",null,"VZ","Verizon Communications...",null,null,null,null,"CBB","Cincinnati Bell Inc. (CBB)",null,null,"Prudential","PRU",null,"005930.KS","Samsung Electronics",null,null,null,"Sinovel Wind: Chinese Wind Manufactrer",null,null,null,"601558.SS",null,null,"Compass Group plc","CPG","CPG","LON",null,null,"JASO","JA Solar"]
[null,null,null,null,null,null,null,null,6,"MSFT","Microsoft",null,null,5,"MPO","Midstates Petroleum",null,null,null,"RDS-B","Shell Oil",null,null,"CCE","Coca Cola",null,"S","Sprint",null,null,null,null,"JPM","JP Morgan",null,null,"Genworth","GWO.TO",null,"010140.KS","Samsung Heavy Industries",null,null,null,"Suzlon: Indian Wind Manufacturer",null,null,null,"SUZLON.NS",null,null,"EMCOR Group, Inc.","EME","EME","NYSE",null,null,"HQCL","Hanwha Q Cells"]
[null,null,null,null,null,null,null,null,7,"BBRY","Blackberry",null,null,6,"RDS-B","Shell Oil",null,null,null,"XOM","Exxon Mobil",null,null,"K","Kellog",null,"PHI","Philippine Long Distance (PHI)",null,null,null,null,"MCD","McDonalds",null,null,"Genworth ADR","GNW",null,"BT","Brittish Telecom",null,null,null,"Goldwind: Chinese Wind Manufacturer",null,null,null,"002202.SZ",null,null,"FirstService Corporation","FSV","FSV","TSE",null,null,"YGE","Yingi Green"]
[null,null,null,null,null,null,null,null,8,"HPQ","HP",null,null,7,"XOM","Exxon Mobil",null,null,null,"CVX","Chevron",null,null,"GIS","General Mills",null,"TKC","Turkcell Iletisim Hizm...",null,null,null,null,"WMT","Wall Mart",null,null,"China Insurance Company","LFC",null,"NOK","Nokia",null,null,null,"RE Power: Wind Manufacturer owned by Suzlon",null,null,null,"RTJ.F",null,null,"G4S plc","GFS","GFS","LON",null,null,"1165.HK","Sunfeng"]
[null,null,null,null,null,null,null,null,9,"005930.KS","Samsung Electronics",null,null,8,"CVX","Chevron",null,null,null,"BECC","Breitling Energy Corp.",null,null,"CAG","ConAgra",null,"CHU","China Unicom Limited (ADR (CHU)",null,null,null,null,"ED","Con Ed",null,null,"AIA Group","AAGIY",null,"USM","US Cellular",null,null,null,"Ming Yang: Chinese Wind Manufacturer",null,null,null,"MY",null,null,"Interserve plc","IRV","IRV","LON",null,null,"300118.SZ","Risen Energy"]
[null,null,null,null,null,null,null,null,10,"010140.KS","Samsung Heavy Industries",null,null,9,"TOT","Total",null,null,null,"TOT","Total",null,null,"HNZ","Heinz",null,"CN","China Netcom Group Corp ( (CN)",null,null,null,null,"ATO","Atmos Energy Corp. (ATO)",null,null,"China Pacific Insrance","2601.HK",null,"VOD","Vodaphone",null,null,null,"First Solar (U.S.)",null,null,null,"FSLR",null,null,"Johnson Controls International plc","JCI","JCI","NYSE",null,null,"601012.SS","Longi Solar"]
[null,null,null,null,null,null,null,null,11,"BT","Brittish Telecom",null,null,10,"BP","BP",null,null,null,"BP","BP",null,null,"SLE","Sara Lee",null,"CTL","CenturyTel, Inc. (CTL)",null,null,null,null,"LG","Laclede SA (LG)",null,null,"Aflac","AFL",null,"S","Sprint",null,null,null,"REC: Solar Manufacturer Norway",null,null,null,"RECSOL.OL",null,null,"Matrix Service Company","MTRX","MTRX","NASDAQ"]
[null,null,null,null,null,null,null,null,12,"NOK","Nokia",null,null,11,"GDP","Goodrich Petroleum Corp.",null,null,null,"GDP","Goodrich Petroleum Corp.",null,null,"SENEB","Seneca Foods Corp",null,"DCM","NTT DoCoMo, Inc. (ADR)",null,null,null,null,"NJR","New Jersey Resources Corp. (NJR)",null,null,"Dai-ichi Life Holdings Inc","DSNKY",null,"CBB","Cincinnati Bell Inc. (CBB)",null,null,null,"SunPower Corporation (U.S.)",null,null,null,"SPWR",null,null,"MITIE Group plc","MTO","MTO","LON"]
[null,null,null,null,null,null,null,null,13,"USM","US Cellular",null,null,12,"SN","Sanchez Energy Corp.",null,null,null,"SN","Sanchez Energy Corp.",null,null,"CZZ","Cosan LTD",null,"NIHD","NII Holdings, Inc. (NIHD)",null,null,null,null,"GAS","Nicor Inc. (GAS)",null,null,"Old Mutual","ODMTY",null,"JPM","JP Morgan",null,null,null,"Trina Solar Limited (China)",null,null,null,"TSL",null,null,"Prosegur Compañía de Seguridad, S.A.","PSG","PSG","BME"]
[null,null,null,null,null,null,null,null,14,"VOD","Vodaphone",null,null,14,"CWEI","Clayton Williams Energy Inc.",null,null,null,"CWEI","Clayton Williams Energy Inc.",null,null,"JBSS","John B Snfillippo",null,"NTT","Nippon Telegraph & Teleph (NTT)",null,null,null,null,"NWN","Northwest Natural Gas Co. (NWN)",null,null,"Power Financial Corp","PWF.TO",null,"MCD","McDonalds",null,null,null,"Solar City",null,null,null,"SCTY",null,null,"Rentokil Initial plc","RTO","RTO","LON"]
[null,null,null,null,null,null,null,null,15,"S","Sprint",null,null,15,"CPE","Callon Petroleum Co.",null,null,null,"CPE","Callon Petroleum Co.",null,null,"CMFP","China Marine",null,"GNCMA","General Communication, In (GNCMA)",null,null,null,null,"PNY","Piedmont Natural Gas Co. Inc. (PNY)",null,null,"Lincoln National Corp","LNC",null,"WMT","Wall Mart",null,null,null,"SolarWorld (German Roof-top)",null,null,null,"SRWRY",null,null,"Rollins, Inc.","ROL","ROL","NYSE"]
[null,null,null,null,null,null,null,null,16,"CBB","Cincinnati Bell Inc. (CBB)",null,null,16,"LPI","Laredo Petroleum Co.",null,null,null,"LPI","Laredo Petroleum Co.",null,null,"DF","Dean Foods",null,"IIT","P.T. Indosat Tbk (ADR) (IIT)",null,null,null,null,"SJI","South Jersey Industries Inc. (SJI)",null,null,"Principal Financial Group","PFG",null,"NG.L","National Grid",null,null,null,"Ascent Solar Tech., Inc.",null,null,null,"ASTI",null,null,"Securitas AB","SECU-B","SECU-B","CPH"]
[null,null,null,null,null,null,null,null,17,"JPM","JP Morgan",null,null,17,"OAS","Oasis Petroleum Inc.",null,null,null,"OAS","Oasis Petroleum Inc.",null,null,"DLM","Delmonte",null,"JCOM","j2 Global Communications (JCOM)",null,null,null,null,"SWX","Southwest Gas Corp. (SWX)",null,null,"Allianz","ALIZF",null,"EXC","Exelon",null,null,null,"Canadian Solar",null,null,null,"CSIQ",null,null,"ServiceMaster Global Holdings, Inc.","SERV","SERV","NYSE"]
[null,null,null,null,null,null,null,null,18,"MCD","McDonalds",null,null,18,"SGY","Stone Energy Corp.",null,null,null,"SGY","Stone Energy Corp.",null,null,"LANC","Lancaster Colony",null,"LEAP.OB","Leap Wireless Internation (LEAP.OB)",null,null,null,null,"WGL","WGL Holdings Inc. (WGL)",null,null,"Zurich Insurance Group","ZFSVF",null,"ENGI.PA","GDF Suez",null,null,null,"Bard (Germany)",null,null,null,"BR6.F",null,null,"Sodexo S.A.","SW","SW","EPA"]
[null,null,null,null,null,null,null,null,19,"WMT","Wall Mart",null,null,19,"TPLM","Triangle Petroleum Corp.",null,null,null,"TPLM","Triangle Petroleum Corp.",null,null,"SJM","The JM Smucker Company",null,"MBT","Mobile TeleSystems OJS...",null,null,null,null,"CHG","CH Energy Group Inc. (CHG)",null,null,"Swiss Life ","SWSDF",null,"EDF.PA","EDF",null,null,null,"Q-Cells: German Solar Company",null,null,null,"HQCL",null,null,"Team, Inc.","TISI","TISI","NYSE"]
[null,null,null,null,null,null,null,null,20,"NG.L","National Grid",null,null,20,"EPE","EP Energy Corp. Class A",null,null,null,"EPE","EP Energy Corp. Class A",null,null,"SNAK","Inventure Foods",null,"NZT","Telecom Corp of New Zeala (NZT)",null,null,null,null,"UIL","UIL Holdings Corp. (UIL)",null,null,"Sun Life","SLF",null,"ED","Consolidated Edison",null,null,null,"Solon: German Solar Manufacturer",null,null,null,"SGFRF",null,null,"UniFirst Corporation","UNF","UNF","NYSE"]
[null,null,null,null,null,null,null,null,21,"EXC","Exelon",null,null,21,"SWN","Southwestern",null,null,null,"NBL","Noble Energy",null,null,"FLO","Flowers Foods",null,"PGI","Premiere Global Services (PGI)",null,null,null,null,"IDA","IdaCorp, Inc. (IDA)",null,null,"AXA SA","AXAHY",null,"5347.KL","Tenaga",null,null,null,"Yingili: Chinese Solar Manufacturer",null,null,null,"YGE"]
[null,null,null,null,null,null,null,null,22,"ENGI.PA","GDF Suez",null,null,22,"CXO","Concho",null,null,null,"SWN","Southwestern",null,null,"YMZBY","Yamazaki Baking Co. Ltd. (YMZBY)",null,"PT","Portugal Telecom, SGPS (A (PT)",null,null,null,null,"NI","Nisource Inc. (NI)",null,null,"Sumpo Holdings","SMPNY",null,"MAEOY","Meralco",null,null,null,"Jinko Solar: Chinese Solar Manufacturer",null,null,null,"JKS"]
[null,null,null,null,null,null,null,null,23,"EDF.PA","EDF",null,null,23," CNX "," CNX ",null,null,null,"CXO","Concho",null,null,"WN.TO","George Weston Limited (WN.TO)",null,"PTNR","Partner Communications Co (PTNR)",null,null,null,null,"SCG","SCANA Corp. (SCG)",null,null,"Aegon NV","AEG",null,"TATAPOWER.BO","TATA Power",null,null,null,"Neo Solar: Tawinese Solar Manufacturer",null,null,null,"3576.TW"]
[null,null,null,null,null,null,null,null,24,"ED","Consolidated Edison",null,null,24," COG "," COG ",null,null,null," CNX "," CNX ",null,null,"TR","Tootsie Roll Industries Inc. (TR",null,"CBB","Cincinnati Bell Inc. (CBB)",null,null,null,null,"WEC","Wisconsin Energy Corp. (WEC)",null,null,"NN Group NV","NNGRY",null,"AES","AES",null,null,null,"LDK Solar Co., Ltd (China)",null,null,null,"LDKYQ"]
[null,null,null,null,null,null,null,null,25,"5347.KL","Tenaga",null,null,30," CPE "," CPE ",null,null,null," COG "," COG ",null,null,"DMND","Diamond Foods Inc",null,"CHA","China Telecom Corporation (CHA)",null,null,null,null,"XEL","Xcel Energy Inc. (XEL)",null,null,null,null,null,"ED","Consolidated Edison",null,null,null,"SMA Solar: Solar Inverter",null,null,null,"S92.DE"]
[null,null,null,null,null,null,null,null,26,"MAEOY","Meralco",null,null,25," CRZO"," CRZO",null,null,null," CPE "," CPE ",null,null,"C","Citibank",null,"CHL","China Mobile (Hong Kong) (CHL)",null,null,null,null,null,null,null,null,null,null,null,"KEP","Korean Electric Power",null,null,null,"Power-one",null,null,null,"PWER"]
[null,null,null,null,null,null,null,null,27,"TATAPOWER.BO","TATA Power",null,null,26," DVN ","Devon Energy",null,null,null," CRZO"," CRZO",null,null,"JPM","JP Morgan Chase",null,"CHT","Chung Hwa Telecom Co., Lt (CHT)",null,null,null,null,null,null,null,null,null,null,null,"NRG","NRG Energy",null,null,null,"GCL-Poly: Polysilicon in China",null,null,null,"3800.HK"]
[null,null,null,null,null,null,null,null,28,"AES","AES",null,null,27," ERF "," ERF ",null,null,null," DVN ","Devon Energy",null,null,"MSFT","Microsoft",null,"SKM","SK Telecom Co., Ltd. (ADR (SKM)",null,null,null,null,null,null,null,null,null,null,null,"ENER","Energy Conversion Devices",null,null,null,"Wacker (Germany Polysilicon",null,null,null,"WKCMF.PK"]
[null,null,null,null,null,null,null,null,29,"ED","Consolidated Edison",null,null,28," GDP ","Goodrich Energy",null,null,null," ERF "," ERF ",null,null,"NOK","Nokia",null,"SNGNF.PK","Singapore Telecommunicati (SNGNF.PK)",null,null,null,null,null,null,null,null,null,null,null,"FOE","Ferro",null,null,null,"MEMC Electronic Materi...",null,null,null,"WFR"]
[null,null,null,null,null,null,null,null,30,"KEP","Korean Electric Power",null,null,29," IDT "," IDT ",null,null,null," GDP ","Goodrich Energy",null,null,"VOD","Vodaphone",null,"SSI","SpectraSite Inc. (SSI)",null,null,null,null,null,null,null,null,null,null,null,"FSLR","First Solar",null,null,null,"DayStar Technologies Inc.",null,null,null,"DSTI"]
[null,null,null,null,null,null,null,null,31,"NRG","NRG Energy",null,null,null," LEI ","Lucas Energy Company",null,null,null," IDT "," IDT ",null,null,null,null,null,"TDS","Telephone & Data Systems (TDS)",null,null,null,null,null,null,null,null,null,null,null,"GIS","General Mills",null,null,null,"Windflow Technology Limited",null,null,null,"WTL.NZ"]
[null,null,null,null,null,null,null,null,32,"ENER","Energy Conversion Devices",null,null,null," NFG ","National Fuel Gas",null,null,null," LEI ","Lucas Energy Company",null,null,null,null,null,"TEF","Telefonica S.A. (ADR)",null,null,null,null,null,null,null,null,null,null,null,"K","Kellogs",null,null,null,"Iberdrola SA",null,null,null,"IBE.MC"]
[null,null,null,null,null,null,null,null,33,"FOE","Ferro",null,null,null," NGS ","Natonal Gas Services",null,null,null," NFG ","National Fuel Gas",null,null,null,null,null,"TELNY","Telenor ASA (ADR)",null,null,null,null,null,null,null,null,null,null,null,"CAG","Conagra",null,null,null,"Fersa Energias Renovables, S.A. ",null,null,null,"FRS.MC"]
[null,null,null,null,null,null,null,null,34,"FSLR","First Solar",null,null,null," PQ ","Petroquest Energy",null,null,null," NGS ","Natonal Gas Services",null,null,null,null,null,"TI","Telecom Italia S.p.A. (AD (TI)",null,null,null,null,null,null,null,null,null,null,null,"CCE","Coca Cola",null,null,null,"Acciona,S.A.",null,null,null,"ANA.MC"]
[null,null,null,null,null,null,null,null,null,"GIS","General Mills",null,null,null," PXD ","Pioneer Energy",null,null,null," PQ ","Petroquest Energy",null,null,null,null,null,"TLK","PT Telekomunikasi Indones (TLK)",null,null,null,null,null,null,null,null,null,null,null,"PEP","Pepsico",null,null,null,"Abengoa S",null,null,null,"AYO.DE"]
[null,null,null,null,null,null,null,null,null,"K","Kellogs",null,null,null," REXX","Rex Energy Company",null,null,null," PXD ","Pioneer Energy",null,null,null,null,null,"TNE","Tele Norte Leste Particip (TNE)",null,null,null,null,null,null,null,null,null,null,null,"MSI","Motarola",null,null,null,"Americas Wind Energy Corporation",null,null,null,"AWNE.PK"]
[null,null,null,null,null,null,null,null,null,"CAG","Conagra",null,null,null," UNT "," UNT ",null,null,null," REXX","Rex Energy Company",null,null,null,null,null,"USM","United States Cellular Co (USM)",null,null,null,null,null,null,null,null,null,null,null,"NYT","New York Times",null,null,null,"Shanghai Taisheng Wind Power",null,null,null,"300129.SZ"]
[null,null,null,null,null,null,null,null,null,"CCE","Coca Cola",null,null,null,"TPLM","Triangle Petroleum Corporation",null,null,null," UNT "," UNT ",null,null,null,null,null,"USMO","USA Mobility, Inc. (USMO)",null,null,null,null,null,null,null,null,null,null,null,"066570.KS","LG Electronics",null,null,null,"Sun Edison (Bankrupt Developer)",null,null,null,"SUNE"]
[null,null,null,null,null,null,null,null,null,"PEP","Pepsico",null,null,null,"AR","Antero",null,null,null,"TPLM","Triangle Petroleum Corporation",null,null,null,null,null,"UTSI","UTStarcom, Inc. (UTSI)",null,null,null,null,null,null,null,null,null,null,null,"CARL-B.CO","Carlesberg",null,null,null,"Hannanon Armstrong (Yieldco)",null,null,null,"HASI"]
[null,null,null,null,null,null,null,null,null,"MSI","Motarola",null,null,null,"LNG","Cheniere Energy",null,null,null,"AR","Antero",null,null,null,null,null,"VIP","Vimpel-Communications (AD (VIP)",null,null,null,null,null,null,null,null,null,null,null,"BUD","Anheuser-Busch Inbev SA (USD) ",null,null,null,"NRG Yield (Yieldco)",null,null,null,"NYLD"]
[null,null,null,null,null,null,null,null,null,"NYT","New York Times",null,null,null,"ROSE","Rosetta Resources",null,null,null,"LNG","Cheniere Energy",null,null,null,null,null,"T","AT&T",null,null,null,null,null,null,null,null,null,null,null,"ABEV","Ambev SA (USD,BRL) ",null,null,null,"TransAlta Renewables (Yieldco)",null,null,null,"RNW.TO"]
[null,null,null,null,null,null,null,null,null,"066570.KS","LG Electronics",null,null,null,null,null,null,null,null,"4K2.F","Kodiak Oil and Gas",null,null,null,null,null,"AT","Alltel Corporation (AT)",null,null,null,null,null,null,null,null,null,null,null,"TAP","Molson Coors Brewing Company ",null,null,null,"Pattern Energy Group (Yieldco)",null,null,null,"PEGI"]
[null,null,null,null,null,null,null,null,null,"CARL-B.CO","Carlesberg",null,null,null,null,null,null,null,null,"ROSE","Rosetta Resources",null,null,null,null,null,"BCE","BCE Inc. (USA) (BCE)",null,null,null,null,null,null,null,null,null,null,null,"STBFY","Suntory Beverage & Food Limited",null,null,null,"BEP (Yieldco)",null,null,null,"BEP"]
[null,null,null,null,null,null,null,null,null,"BUD","Anheuser-Busch Inbev SA (USD) ",null,null,null,null,null,null,null,null," MHR ","Magmum Hunter",null,null,null,null,null,null,null,null,null,null,null,null,null,null,null,null,null,null,"SAM","Boston Beer",null,null,null,"Abengoa Yield (Yieldco)",null,null,null,"ABY"]
[null,null,null,null,null,null,null,null,null,"ABEV","Ambev SA (USD,BRL) ",null,null,null,null,null,null,null,null,null,null,null,null,null,null,null,null,null,null,null,null,null,null,null,null,null,null,null,null,"STZ","Constellation Brands",null,null,null,"NextEra Partners (Yieldco)",null,null,null,"NEP"]
[null,null,null,null,null,null,null,null,null,"TAP","Molson Coors Brewing Company ",null,null,null,null,null,null,null,null,null,null,null,null,null,null,null,null,null,null,null,null,null,null,null,null,null,null,null,null,"BREW","Craft Brew Alliance",null,null,null,"TerraForm Power (Yieldco)",null,null,null,"TERP"]
[null,null,null,null,null,null,null,null,null,"STBFY","Suntory Beverage & Food Limited",null,null,null,null,null,null,null,null,null,null,null,null,null,null,null,null,null,null,null,null,null,null,null,null,null,null,null,null,"WVVI","Willamett Valley",null,null,null,"8point3 (Yieldco)",null,null,null,"CAFD"]
[null,null,null,null,null,null,null,null,null,"SAM","Boston Beer",null,null,null,null,null,null,null,null,null,null,null,null,null,null,null,null,null,null,null,null,null,null,null,null,null,null,null,null,"KOF","Coca Cola",null,null,null,"China Windpower Group Limited",null,null,null,"CMW.V"]
[null,null,null,null,null,null,null,null,null,"STZ","Constellation Brands",null,null,null,null,null,null,null,null,null,null,null,null,null,null,null,null,null,null,null,null,null,null,null,null,null,null,null,null,"COKE","Coca Cola Botteling",null,null,null,"A Power - Chinese Wind ",null,null,null,"APWR"]
[null,null,null,null,null,null,null,null,null,"BREW","Craft Brew Alliance",null,null,null,null,null,null,null,null,null,null,null,null,null,null,null,null,null,null,null,null,null,null,null,null,null,null,null,null,"DPS","Dr Pepper",null,null,null,"Alero Solar (Germany)",null,null,null,"AS1.DU"]
[null,null,null,null,null,null,null,null,null,"WVVI","Willamett Valley",null,null,null,null,null,null,null,null,null,null,null,null,null,null,null,null,null,null,null,null,null,null,null,null,null,null,null,null,"LTEA","Long Island Tea",null,null,null,"Energy Conversion",null,null,null,"ENER"]
[null,null,null,null,null,null,null,null,null,"KOF","Coca Cola",null,null,null,null,null,null,null,null,null,null,null,null,null,null,null,null,null,null,null,null,null,null,null,null,null,null,null,null,"PEP","Pepsi Co",null,null,null,"Suntech Power Hldgs. China",null,null,null,"STPFQ"]
[null,null,null,null,null,null,null,null,null,"COKE","Coca Cola Botteling",null,null,null,null,null,null,null,null,null,null,null,null,null,null,null,null,null,null,null,null,null,null,null,null,null,null,null,null,"HEINY","Heineken"]
[null,null,null,null,null,null,null,null,null,"DPS","Dr Pepper",null,null,null,null,null,null,null,null,null,null,null,null,null,null,null,null,null,null,null,null,null,null,null,null,null,null,null,null,"FMOCY","Fomento Economico Mexicano SAB de CV (USD,MXN) "]
[null,null,null,null,null,null,null,null,null,"LTEA","Long Island Tea",null,null,null,null,null,null,null,null,null,null,null,null,null,null,null,null,null,null,null,null,null,null,null,null,null,null,null,null,"KNBWY","Kirin Holdings Company, Limited"]
[null,null,null,null,null,null,null,null,null,"PEP","Pepsi Co",null,null,null,null,null,null,null,null,null,null,null,null,null,null,null,null,null,null,null,null,null,null,null,null,null,null,null,null,"TSGTF","Tsingtao Brewery Company Limited"]
[null,null,null,null,null,null,null,null,null,"HEINY","Heineken",null,null,null,null,null,null,null,null,null,null,null,null,null,null,null,null,null,null,null,null,null,null,null,null,null,null,null,null,"DEO","Diageo"]
[null,null,null,null,null,null,null,null,null,"FMOCY","Fomento Economico Mexicano SAB de CV (USD,MXN) ",null,null,null,null,null,null,null,null,null,null,null,null,null,null,null,null,null,null,null,null,null,null,null,null,null,null,null,null,"CHK","Cheasapeak Energy"]
[null,null,null,null,null,null,null,null,null,"KNBWY","Kirin Holdings Company, Limited",null,null,null,null,null,null,null,null,null,null,null,null,null,null,null,null,null,null,null,null,null,null,null,null,null,null,null,null,"RRC","Range Resources"]
[null,null,null,null,null,null,null,null,null,"TSGTF","Tsingtao Brewery Company Limited",null,null,null,null,null,null,null,null,null,null,null,null,null,null,null,null,null,null,null,null,null,null,null,null,null,null,null,null,"CLR","Contential Resources"]
[null,null,null,null,null,null,null,null,null,"DEO","Diageo",null,null,null,null,null,null,null,null,null,null,null,null,null,null,null,null,null,null,null,null,null,null,null,null,null,null,null,null,"SD","Sandy Ridge"]
[null,null,null,null,null,null,null,null,null,"CHK","Cheasapeak Energy",null,null,null,null,null,null,null,null,null,null,null,null,null,null,null,null,null,null,null,null,null,null,null,null,null,null,null,null,"CAT","Catepillar"]
[null,null,null,null,null,null,null,null,null,"RRC","Range Resources",null,null,null,null,null,null,null,null,null,null,null,null,null,null,null,null,null,null,null,null,null,null,null,null,null,null,null,null,"ECL","Eco Lab"]
[null,null,null,null,null,null,null,null,null,"CLR","Contential Resources",null,null,null,null,null,null,null,null,null,null,null,null,null,null,null,null,null,null,null,null,null,null,null,null,null,null,null,null,"MFIN","Medallion Financial Corp."]
[null,null,null,null,null,null,null,null,null,"SD","Sandy Ridge",null,null,null,null,null,null,null,null,null,null,null,null,null,null,null,null,null,null,null,null,null,null,null,null,null,null,null,null,"PYPL","Paypal"]
[null,null,null,null,null,null,null,null,null,"CAT","Catepillar",null,null,null,null,null,null,null,null,null,null,null,null,null,null,null,null,null,null,null,null,null,null,null,null,null,null,null,null,"PCLN","Priceline"]
[null,null,null,null,null,null,null,null,null,"ECL","Eco Lab",null,null,null,null,null,null,null,null,null,null,null,null,null,null,null,null,null,null,null,null,null,null,null,null,null,null,null,null,"EBAY","Ebay"]
[null,null,null,null,null,null,null,null,null,"MFIN","Medallion Financial Corp.",null,null,null,null,null,null,null,null,null,null,null,null,null,null,null,null,null,null,null,null,null,null,null,null,null,null,null,null,"LGEN.L","L&G"]
[null,null,null,null,null,null,null,null,null,"PYPL","Paypal",null,null,null,null,null,null,null,null,null,null,null,null,null,null,null,null,null,null,null,null,null,null,null,null,null,null,null,null,"LGGNY","L&G ADR"]
[null,null,null,null,null,null,null,null,null,"PCLN","Priceline",null,null,null,null,null,null,null,null,null,null,null,null,null,null,null,null,null,null,null,null,null,null,null,null,null,null,null,null,"MET","Met Life"]
[null,null,null,null,null,null,null,null,null,"EBAY","Ebay",null,null,null,null,null,null,null,null,null,null,null,null,null,null,null,null,null,null,null,null,null,null,null,null,null,null,null,null,"AIG","AIG"]
[null,null,null,null,null,null,null,null,null,null,null,null,null,null,null,null,null,null,null,null,null,null,null,null,null,null,null,null,null,null,null,null,null,null,null,null,null,null,null,"PRU","Prudential"]
[null,null,null,null,null,null,null,null,null,null,null,null,null,null,null,null,null,null,null,null,null,null,null,null,null,null,null,null,null,null,null,null,null,null,null,null,null,null,null,"GWO.TO","Genworth"]
[null,null,null,null,null,null,null,null,null,null,null,null,null,null,null,null,null,null,null,null,null,null,null,null,null,null,null,null,null,null,null,null,null,null,null,null,null,null,null,"GNW","Genworth ADR"]
[null,null,null,null,null,null,null,null,null,null,null,null,null,null,null,null,null,null,null,null,null,null,null,null,null,null,null,null,null,null,null,null,null,null,null,null,null,null,null,"LFC","China Insurance Company"]
[null,null,null,null,null,null,null,null,null,null,null,null,null,null,null,null,null,null,null,null,null,null,null,null,null,null,null,null,null,null,null,null,null,null,null,null,null,null,null,"AAGIY","AIA Group"]
[null,null,null,null,null,null,null,null,null,null,null,null,null,null,null,null,null,null,null,null,null,null,null,null,null,null,null,null,null,null,null,null,null,null,null,null,null,null,null,"2601.HK","China Pacific Insrance"]
[null,null,null,null,null,null,null,null,null,null,null,null,null,null,null,null,null,null,null,null,null,null,null,null,null,null,null,null,null,null,null,null,null,null,null,null,null,null,null,"AFL","Aflac"]
[null,null,null,null,null,null,null,null,null,null,null,null,null,null,null,null,null,null,null,null,null,null,null,null,null,null,null,null,null,null,null,null,null,null,null,null,null,null,null,"DSNKY","Dai-ichi Life Holdings Inc"]
[null,null,null,null,null,null,null,null,null,null,null,null,null,null,null,null,null,null,null,null,null,null,null,null,null,null,null,null,null,null,null,null,null,null,null,null,null,null,null,"ODMTY","Old Mutual"]
[null,null,null,null,null,null,null,null,null,null,null,null,null,null,null,null,null,null,null,null,null,null,null,null,null,null,null,null,null,null,null,null,null,null,null,null,null,null,null,"PWF.TO","Power Financial Corp"]
[null,null,null,null,null,null,null,null,null,null,null,null,null,null,null,null,null,null,null,null,null,null,null,null,null,null,null,null,null,null,null,null,null,null,null,null,null,null,null,"LNC","Lincoln National Corp"]
[null,null,null,null,null,null,null,null,null,null,null,null,null,null,null,null,null,null,null,null,null,null,null,null,null,null,null,null,null,null,null,null,null,null,null,null,null,null,null,"PFG","Principal Financial Group"]
[null,null,null,null,null,null,null,null,null,null,null,null,null,null,null,null,null,null,null,null,null,null,null,null,null,null,null,null,null,null,null,null,null,null,null,null,null,null,null,"ALIZF","Allianz"]
[null,null,null,null,null,null,null,null,null,null,null,null,null,null,null,null,null,null,null,null,null,null,null,null,null,null,null,null,null,null,null,null,null,null,null,null,null,null,null,"ZFSVF","Zurich Insurance Group"]
[null,null,null,null,null,null,null,null,null,null,null,null,null,null,null,null,null,null,null,null,null,null,null,null,null,null,null,null,null,null,null,null,null,null,null,null,null,null,null,"SWSDF","Swiss Life "]
[null,null,null,null,null,null,null,null,null,null,null,null,null,null,null,null,null,null,null,null,null,null,null,null,null,null,null,null,null,null,null,null,null,null,null,null,null,null,null,"SLF","Sun Life"]
[null,null,null,null,null,null,null,null,null,null,null,null,null,null,null,null,null,null,null,null,null,null,null,null,null,null,null,null,null,null,null,null,null,null,null,null,null,null,null,"AXAHY","AXA SA"]
[null,null,null,null,null,null,null,null,null,null,null,null,null,null,null,null,null,null,null,null,null,null,null,null,null,null,null,null,null,null,null,null,null,null,null,null,null,null,null,"SMPNY","Sumpo Holdings"]
[null,null,null,null,null,null,null,null,null,null,null,null,null,null,null,null,null,null,null,null,null,null,null,null,null,null,null,null,null,null,null,null,null,null,null,null,null,null,null,"AEG","Aegon NV"]
[null,null,null,null,null,null,null,null,null,null,null,null,null,null,null,null,null,null,null,null,null,null,null,null,null,null,null,null,null,null,null,null,null,null,null,null,null,null,null,"NNGRY","NN Group NV"]

{"sheet":"Google Finance Stocks","index":9,"n_rows":66,"n_cols":19,"rows_kept":66,"cut":false,"hidden":false,"merged":[]}
[]
[]
[null,null,"Applied URL",{"$f":"D15","v":"http://www.google.com/finance/historical?q=0&startdate=Jun 28, 1999&enddate=Sep 08, 2018&output=csv"}]
[]
[]
[]
[]
[]
[null,null,"Basic URL","http://www.google.com/finance/historical?cid=14135&startdate=Jun+11%2C+2002&enddate=Jun+10%2C+2017&num=30&ei=dT87Wfn4Htf_jAH86KvAAw&output=csv"]
[null,null,"Cleaned URL","http://www.google.com/finance/historical?q=AAPL&startdate=Nov 1, 2011&enddate=Nov 30, 2011&output=csv"]
[]
[null,null,"Counter",2]
[null,null,"Google Tickers",2,{"$f":"COUNTA(D27:D84)","v":1}]
[]
[null,null,"Google URL",{"$f":"D17&D22&D18&E24&D19&F24&D20","v":"http://www.google.com/finance/historical?q=0&startdate=Jun 28, 1999&enddate=Sep 08, 2018&output=csv"}]
[]
[null,null,null,"http://www.google.com/finance/historical?q="]
[null,null,null,"&startdate="]
[null,null,null,"&enddate=",null,null,null,null,"Data from Google Site",null,null,null,null,"Single Stock with Combo Box and Check Box",null,null,null,null,"Step 1: Insert and Modify Checkbox"]
[null,null,null,"&output=csv",null,null,null,null,"Getting the Data Directly",null,null,null,null,"Create and Attach Checkboxes",null,null,null,null,"Step 2: Find the number of the first checkbox"]
[null,null,null,null,null,null,null,null,"Alternative URL",null,null,null,null,"Re-set Checkboxes",null,null,null,null,"Step 3: Open the macro file to put together checkboxes"]
[null,null,"Google Ticker",{"$f":"INDEX(D27:D158,Counter)","v":0},"Start","End",null,null,"Creating Macro Workbooks.open",null,null,null,null,"Set-up Master Date and Forms",null,null,null,null,"Step 4: Run the macro (Shift, CNTL, E)"]
[null,null,null,{"$f":"INDEX('Multiple Stock Graph'!C4:C49,Counter)","v":"DAX in Euro"},"1999-06-28",{"$f":"TODAY()-1","v":"2018-09-08"},null,null,"Adding Macro to Move Data",null,null,null,null,"Option for Raw, Index or Pct Change",null,null,null,null,"Step 5: Insert the standard count, match and index"]
[null,null,null,null,{"$f":"TEXT(E23,\"MMM DD, YYYY\")","v":"Jun 28, 1999"},{"$f":"TEXT(F23,\"MMM DD, YYYY\")","v":"Sep 08, 2018"},null,null,"Loop with Multiple Stocks",null,null,null,null,"Analysis of Single Stock vs Index",null,null,null,null,"Step 6: Use Indirect and lookup to read selected stocks"]
[null,null,null,null,null,null,null,null,"Import Stocks to Power BI",null,null,null,null,"Frequency Distribution vs Normal",null,null,null,null,"Step 7: Create growth and index for each stock"]
[null,null,null,null,null,null,null,null,null,null,null,null,null,null,null,null,null,null,"Step 8: Compute statistics and frequency vs normal"]
[null,null,null," CHK ","Cheasapeak Energy",null,null,null,1,"GE","General Electric",null,null," CHK ","Cheasapeak Energy",null,null,null,"Step 9: Put together graphs"]
[null,null,null,null,null,null,null,null,2,"AAPL","Apple",null,null,"RRC","Range Resources"]
[null,null,null,null,null,null,null,null,3,"CBB","Cincinnati Bell Inc. (CBB)",null,null,"CLR","Contential Resources"]
[null,null,null,null,null,null,null,null,4,"JPM","JP Morgan",null,null,"SD","Sandy Ridge"]
[null,null,null,null,null,null,null,null,5,"MCD","McDonalds",null,null,"MPO","Midstates Petroleum"]
[null,null,null,null,null,null,null,null,6,"WMT","Wall Mart",null,null,"RDS-B","Shell Oil"]
[null,null,null,null,null,null,null,null,7,"ED","Consolidated Edison",null,null,"XOM","Exxon Mobil"]
[null,null,null,null,null,null,null,null,8,"CAG","Conagra",null,null,"CVX","Chevron"]
[null,null,null,null,null,null,null,null,9,"CCE","Coca Cola",null,null,"TOT","Total"]
[null,null,null,null,null,null,null,null,10,"EXC","Excelon",null,null,"BP","BP"]
[null,null,null,null,null,null,null,null,11,"FOE","Ferro",null,null,"GDP","Goodrich Petroleum Corp."]
[null,null,null,null,null,null,null,null,12,"FSLR","First Solar",null,null,"SN","Sanchez Energy Corp."]
[null,null,null,null,null,null,null,null,13,"GIS","General Mills",null,null,"CWEI","Clayton Williams Energy Inc."]
[null,null,null,null,null,null,null,null,14,"HNZ","Heintz",null,null,"CPE","Callon Petroleum Co."]
[null,null,null,null,null,null,null,null,15,"HPQ","HP",null,null,"LPI","Laredo Petroleum Co."]
[null,null,null,null,null,null,null,null,16,"K","Kellogs",null,null,"OAS","Oasis Petroleum Inc."]
[null,null,null,null,null,null,null,null,17,"MSFT","Microsoft",null,null,"SGY","Stone Energy Corp."]
[null,null,null,null,null,null,null,null,18,"NOK","Nokia",null,null,"TPLM","Triangle Petroleum Corp."]
[null,null,null,null,null,null,null,null,19,"USM","US Cellular",null,null,"EPE","EP Energy Corp. Class A"]
[null,null,null,null,null,null,null,null,20,"PEP","Pepsico",null,null,"SWN","Southwestern"]
[null,null,null,null,null,null,null,null,21,"VOD","Vodaphone",null,null,"CXO","Concho"]
[null,null,null,null,null,null,null,null,22,"BT","Brittish Telecom",null,null," CNX "," CNX "]
[null,null,null,null,null,null,null,null,23,"AES","AES",null,null," COG "," COG "]
[null,null,null,null,null,null,null,null,24,"S","Sprint",null,null," CPE "," CPE "]
[null,null,null,null,null,null,null,null,25,"KEP","Korean Electric Power",null,null," CRZO"," CRZO"]
[null,null,null,null,null,null,null,null,26,"MSI","Motarola",null,null," DVN ","Devon Energy"]
[null,null,null,null,null,null,null,null,27,"NYT","New York Times",null,null," ERF "," ERF "]
[null,null,null,null,null,null,null,null,28,"DELL","Dell computers",null,null," GDP ","Goodrich Energy"]
[null,null,null,null,null,null,null,null,29,"BBRY","Blackberry",null,null," IDT "," IDT "]
[null,null,null,null,null,null,null,null,30,"NRG","NRG Energy",null,null," LEI ","Lucas Energy Company"]
[null,null,null,null,null,null,null,null,null,null,"Amazon",null,null," NFG ","National Fuel Gas"]
[null,null,null,null,null,null,null,null,null,null,null,null,null," NGS ","Natonal Gas Services"]
[null,null,null,null,null,null,null,null,null,null,null,null,null," PQ ","Petroquest Energy"]
[null,null,null,null,null,null,null,null,null,null,null,null,null," PXD ","Pioneer Energy"]
[null,null,null,null,null,null,null,null,null,null,null,null,null," REXX","Rex Energy Company"]
[null,null,null,null,null,null,null,null,null,null,null,null,null," UNT "," UNT "]
[null,null,null,null,null,null,null,null,null,null,null,null,null,"TPLM","Triangle Petroleum Corporation"]
[null,null,null,null,null,null,null,null,null,null,null,null,null,"AR","Antero"]
[null,null,null,null,null,null,null,null,null,null,null,null,null,"LNG","Cheniere Energy"]
[null,null,null,null,null,null,null,null,null,null,null,null,null,"ROSE","Rosetta Resources"]

{"sheet":"Google Index","index":10,"n_rows":75,"n_cols":14,"rows_kept":75,"cut":false,"hidden":false,"merged":[]}
[]
[null,null,"Not Ready Because of Change in Google Index "]
[]
[null,null,"Example","https://www.google.com/finance/historical?q=INDEXSP%3A.INX&ei=kWpUWaG2ItjKjAHMtKp4"]
[null,null,null,"https://www.google.com/finance/historical?q=NSE:HTMEDIA&startdate=Nov 1, 2001&enddate=June 28,2017&num=200&start=601"]
[]
[null,null,"url_part1",{"$f":"D9&D23&D10&D18&D11&E18&D12","v":"http://www.google.com/finance/historical?q=0&startdate=Jun 28, 1979&enddate=Sep 09, 2018&num="}]
[]
[null,null,null,"http://www.google.com/finance/historical?q="]
[null,null,null,"&startdate="]
[null,null,null,"&enddate="]
[null,null,null,"&num=",null,null,null,"Need to check this"]
[]
[null,null,"url_part2","&start="]
[null,null,null,null,null,null,null,null,null,"NSE:HTMEDIA",null,{"$f":"SUBSTITUTE(J15,\":\",\"\")","v":"NSEHTMEDIA"},null,"HT Media"]
[null,null,null,"Start","End",null,null,null,null,"INDEXDB:DAX",null,{"$f":"SUBSTITUTE(J16,\":\",\"\")","v":"INDEXDBDAX"},null,"Germany DAX"]
[null,null,null,"1979-06-28",{"$f":"TODAY()","v":"2018-09-09"},null,null,null,null,"INDEXFTSE:UKX",null,"INDEXFTSEUKX",null,"UK FTSE"]
[null,null,null,{"$f":"TEXT(D17,\"MMM DD, YYYY\")","v":"Jun 28, 1979"},{"$f":"TEXT(E17,\"MMM DD, YYYY\")","v":"Sep 09, 2018"},null,null,null,null,"BOM:532331",null,"Ajanta Pharma Ltd",null,"Ajanta"]
[]
[null,null,"Number of Series",1]
[null,null,"Index",4]
[]
[null,null,"google list name",{"$f":"D27","v":0}]
[]
[]
[null,null,null,"Ticker","Google Sheet Name"]
[null,null,null,{"$f":"INDEX(D30:D45,$D$21)","v":0},{"$f":"INDEX(E30:E45,$D$21)","v":0}]
[]
[]
[null,null,1,{"$f":"J15","v":"NSE:HTMEDIA"},{"$f":"SUBSTITUTE(J15,\":\",\"\")","v":"NSEHTMEDIA"},{"$f":"N15","v":"HT Media"},null,null,null,"NSE:HTMEDIA","NSEHTMEDIA","HT Media"]
[null,null,2,null,null,null,null,null,null,"INDEXDB:DAX","INDEXDBDAX","Germany DAX"]
[null,null,3,null,null,null,null,null,null,"INDEXFTSE:UKX","INDEXFTSEUKX","UK FTSE"]
[null,null,4,null,null,null,null,null,null,"BOM:532331","Ajanta","Ajanta"]
[null,null,5]
[null,null,6]
[null,null,7]
[null,null,8]
[null,null,9]
[null,null,10]
[null,null,11]
[null,null,12]
[null,null,13]
[null,null,14]
[null,null,15]
[null,null,16]
[null,null,17]
[null,null,18]
[null,null,19]
[null,null,20]
[null,null,21]
[null,null,22]
[null,null,23]
[null,null,24]
[null,null,25]
[null,null,26]
[null,null,27]
[null,null,28]
[null,null,29]
[null,null,30]
[null,null,31]
[null,null,32]
[null,null,33]
[null,null,34]
[null,null,35]
[null,null,36]
[null,null,37]
[null,null,38]
[null,null,39]
[null,null,40]
[null,null,41]
[null,null,42]
[null,null,43]
[null,null,44]
[null,null,45]
[null,null,46]

{"sheet":"International Indicies","index":11,"n_rows":47,"n_cols":7,"rows_kept":47,"cut":false,"hidden":false,"merged":[]}
[]
[null,null,"Number Applied",null,1]
[null,null,"Total International Indicies",null,{"$f":"COUNTA(D15:D47)","v":33}]
[]
[null,null,"Base for URL","https://research.stlouisfed.org/fred2/data/"]
[null,null,"fred_int",{"$f":"D5&E13&\".txt\"","v":"https://research.stlouisfed.org/fred2/data/SPASTT01USM661N.txt"}]
[]
[null,null,"Part 1",null,"SPASTT01"]
[null,null,"Part 2",null,"M661N"]
[]
[null,null,null,"Sheet Name","FRED Code",null,"Country Code"]
[]
[null,null,"fred_int_name",{"$f":"INDEX(D15:D47,E2)","v":"United States"},{"$f":"E8&G13&E9","v":"SPASTT01USM661N"},null,{"$f":"INDEX(G15:G47,E2)","v":"US"}]
[]
[null,null,null,"United States","(SPASTT01USM661N)",{"$f":"FIND(\"01\",E15,1)","v":8},{"$f":"MID(E15,F15+2,2)","v":"US"}]
[null,null,null,"China","(SPASTT01CNM661N)",{"$f":"FIND(\"01\",E16,1)","v":8},{"$f":"MID(E16,F16+2,2)","v":"CN"}]
[null,null,null,"Germany","(SPASTT01DEM661N)",8,"DE"]
[null,null,null,"Japan","(SPASTT01JPM661N)",8,"JP"]
[null,null,null,"South Africa","(SPASTT01ZAM661N)",8,"ZA"]
[null,null,null,"Korea","(SPASTT01KRM661N)",8,"KR"]
[null,null,null,"India","(SPASTT01INM661N)",8,"IN"]
[null,null,null,"Australia","(SPASTT01AUM661N)",8,"AU"]
[null,null,null,"Turkey","(SPASTT01TRA661N)",8,"TR"]
[null,null,null,"Mexico","(SPASTT01MXM661N)",8,"MX"]
[null,null,null,"Indonesia","(SPASTT01IDM661N)",8,"ID"]
[null,null,null,"Euro Area","(SPASTT01EZM661N)",8,"EZ"]
[null,null,null,"France","(SPASTT01FRM661N)",8,"FR"]
[null,null,null,"Poland","(SPASTT01PLM661N)",8,"PL"]
[null,null,null,"Austria","(SPASTT01ATM661N)",8,"AT"]
[null,null,null,"Norway","(SPASTT01NOM661N)",8,"NO"]
[null,null,null,"Switzerland","(SPASTT01CHM661N)",8,"CH"]
[null,null,null,"Italy","(SPASTT01ITM661N)",8,"IT"]
[null,null,null,"Greece","(SPASTT01GRM661N)",8,"GR"]
[null,null,null,"Sweeden","(SPASTT01SEM661N)",8,"SE"]
[null,null,null,"Denmark","(SPASTT01DKM661N)",8,"DK"]
[null,null,null,"Czech Republic","(SPASTT01CZM661N)",8,"CZ"]
[null,null,null,"Iceland","(SPASTT01ISM661N)",8,"IS"]
[null,null,null,"Spain","(SPASTT01ESM661N)",8,"ES"]
[null,null,null,"Hungary","(SPASTT01HUM661N)",8,"HU"]
[null,null,null,"Israel","(SPASTT01ILM661N)",8,"IL"]
[null,null,null,"Belgium","(SPASTT01BEM661N)",8,"BE"]
[null,null,null,"Finland","(SPASTT01FIM661N)",8,"FI"]
[null,null,null,"Luxembourg","(SPASTT01LUM661N)",8,"LU"]
[null,null,null,"Netherlands","(SPASTT01NLM661N)",8,"NL"]
[null,null,null,"Estonia","(SPASTT01EEM657N)",8,"EE"]
[null,null,null,"New Zealand","(SPASTT01NZM661N)",8,"NZ"]
[null,null,null,"United Kingdom","(SPINTT01GBM661N)",8,"GB"]

{"sheet":"Errors","index":12,"n_rows":2,"n_cols":3,"rows_kept":2,"cut":false,"hidden":false,"merged":[]}
[null,null,"http://www.google.com/finance/historical?q= CHK &startdate=Jun 28, 1999&enddate=Dec 01, 2017&output=csv"]
[null,null,"http://www.google.com/finance/historical?q=RRC&startdate=Jun 28, 1999&enddate=Dec 01, 2017&output=csv"]

{"sheet":"General Points","index":13,"n_rows":10,"n_cols":14,"rows_kept":10,"cut":false,"hidden":false,"merged":[]}
[]
[]
[null,"Read from alternative sources using alternative methods",null,null,null,null,null,null,null,null,null,null,"comment",false]
[null,"Create comprehensive list of companies, indicies, commodities and exchange rates"]
[null,"Use daily data that can be converted to monthly data"]
[]
[]
[]
[]
[null,"Each Reading Sheet has a list of sheet names and descriptions.  Also URL's"]

{"sheet":"Forms","index":14,"n_rows":826,"n_cols":18,"rows_kept":826,"cut":false,"hidden":false,"merged":[]}
["Date"]
["1950-01-01"]
["1950-02-01",null,null,null,null,null,null,null,null,null,null,null,null,null,null,"Raw"]
["1950-03-01",null,null,null,null,null,null,null,null,1,null,{"$f":"INDEX('Multiple Stock Graph'!$B$4:$B$456,Forms!J4)","v":"S&P 500"},null,null,null,"Change"]
["1950-04-01",null,null,null,null,null,null,null,null,null,null,null,null,null,null,"Index"]
["1950-05-01",null,null,null,null,null,"Start",null,null,null,null,"End"]
["1950-06-01",null,null,null,null,null,55,null,null,null,null,69,null,null,null,3]
["1950-07-01",null,null,null,null,null,{"$f":"INDEX(D13:D80,G7)","v":2004},null,null,null,null,{"$f":"INDEX(D13:D85,L7)+1","v":2019}]
["1950-08-01",null,null,null,null,null,{"$f":"DATE(G8,1,1)","v":"2004-01-01"},null,null,null,null,{"$f":"MIN(L10,L11)","v":"2018-09-30"},null,"2007-01-01",{"$f":"TEXT(N9,\"dddd\")","v":"Monday"},{"$f":"WEEKDAY(N9)","v":2},{"$f":"N9","v":"2007-01-01"},{"$f":"TEXT(Q9,\"ddddd\")","v":"Monday"}]
["1950-09-01",null,null,null,null,null,null,null,null,null,null,{"$f":"EOMONTH(TODAY(),0)","v":"2018-09-30"},null,{"$f":"N9+1","v":"2007-01-02"},{"$f":"TEXT(N10,\"dddd\")","v":"Tuesday"},{"$f":"WEEKDAY(N10)","v":3},{"$f":"IF(OR(WEEKDAY(Q9)=6),Q9+3,Q9+1)","v":"2007-01-02"},{"$f":"TEXT(Q10,\"ddddd\")","v":"Tuesday"}]
["1950-10-01",null,null,null,null,null,null,null,null,null,null,{"$f":"DATE(L8,12,31)","v":"2019-12-31"},null,{"$f":"N10+1","v":"2007-01-03"},"Wednesday",4,{"$f":"IF(OR(WEEKDAY(Q10)=6),Q10+3,Q10+1)","v":"2007-01-03"},"Wednesday"]
["1950-11-01",null,null,"List of Years Dropdown",null,null,null,null,null,null,null,null,null,"2007-01-04","Thursday",5,"2007-01-04","Thursday"]
["1950-12-01",null,null,1950,null,null,null,null,null,null,null,null,null,"2007-01-05","Friday",6,"2007-01-05","Friday"]
["1951-01-01",null,null,1951,null,null,null,null,null,null,null,null,null,"2007-01-06","Saturday",7,"2007-01-08","Monday"]
["1951-02-01",null,null,1952,null,null,null,null,null,null,null,null,null,"2007-01-07","Sunday",1,"2007-01-09","Tuesday"]
["1951-03-01",null,null,1953,null,null,null,null,null,null,null,null,null,"2007-01-08","Monday",2,"2007-01-10","Wednesday"]
["1951-04-01",null,null,1954,null,null,null,null,null,null,null,null,null,"2007-01-09","Tuesday",3,"2007-01-11","Thursday"]
["1951-05-01",null,null,1955,null,null,null,null,null,null,null,null,null,"2007-01-10","Wednesday",4,"2007-01-12","Friday"]
["1951-06-01",null,null,1956,null,null,null,null,null,null,null,null,null,"2007-01-11","Thursday",5,"2007-01-15","Monday"]
["1951-07-01",null,null,1957,null,null,null,null,null,null,null,null,null,"2007-01-12","Friday",6,"2007-01-16","Tuesday"]
["1951-08-01",null,null,1958]
["1951-09-01",null,null,1959]
["1951-10-01",null,null,1960]
["1951-11-01",null,null,1961]
["1951-12-01",null,null,1962]
["1952-01-01",null,null,1963]
["1952-02-01",null,null,1964]
["1952-03-01",null,null,1965]
["1952-04-01",null,null,1966]
["1952-05-01",null,null,1967]
["1952-06-01",null,null,1968]
["1952-07-01",null,null,1969]
["1952-08-01",null,null,1970]
["1952-09-01",null,null,1971]
["1952-10-01",null,null,1972]
["1952-11-01",null,null,1973]
["1952-12-01",null,null,1974]
["1953-01-01",null,null,1975]
["1953-02-01",null,null,1976]
["1953-03-01",null,null,1977]
["1953-04-01",null,null,1978]
["1953-05-01",null,null,1979]
["1953-06-01",null,null,1980]
["1953-07-01",null,null,1981]
["1953-08-01",null,null,1982]
["1953-09-01",null,null,1983]
["1953-10-01",null,null,1984]
["1953-11-01",null,null,1985]
["1953-12-01",null,null,1986]
["1954-01-01",null,null,1987]
["1954-02-01",null,null,1988]
["1954-03-01",null,null,1989]
["1954-04-01",null,null,1990]
["1954-05-01",null,null,1991]
["1954-06-01",null,null,1992]
["1954-07-01",null,null,1993]
["1954-08-01",null,null,1994]
["1954-09-01",null,null,1995]
["1954-10-01",null,null,1996]
["1954-11-01",null,null,1997]
["1954-12-01",null,null,1998]
["1955-01-01",null,null,1999]
["1955-02-01",null,null,2000]
["1955-03-01",null,null,2001]
["1955-04-01",null,null,2002]
["1955-05-01",null,null,2003]
["1955-06-01",null,null,2004]
["1955-07-01",null,null,2005]
["1955-08-01",null,null,2006]
["1955-09-01",null,null,2007]
["1955-10-01",null,null,2008]
["1955-11-01",null,null,2009]
["1955-12-01",null,null,2010]
["1956-01-01",null,null,2011]
["1956-02-01",null,null,2012]
["1956-03-01",null,null,2013]
["1956-04-01",null,null,2014]
["1956-05-01",null,null,2015]
["1956-06-01",null,null,2016]
["1956-07-01",null,null,2017]
["1956-08-01",null,null,2018]
["1956-09-01",null,null,2019]
["1956-10-01",null,null,2020]
["1956-11-01",null,null,2021]
["1956-12-01"]
["1957-01-01"]
["1957-02-01"]
["1957-03-01"]
["1957-04-01"]
["1957-05-01"]
["1957-06-01"]
["1957-07-01"]
["1957-08-01"]
["1957-09-01"]
["1957-10-01"]
["1957-11-01"]
["1957-12-01"]
["1958-01-01"]
["1958-02-01"]
["1958-03-01"]
["1958-04-01"]
["1958-05-01"]
["1958-06-01"]
["1958-07-01"]
["1958-08-01"]
["1958-09-01"]
["1958-10-01"]
["1958-11-01"]
["1958-12-01"]
["1959-01-01"]
["1959-02-01"]
["1959-03-01"]
["1959-04-01"]
["1959-05-01"]
["1959-06-01"]
["1959-07-01"]
["1959-08-01"]
["1959-09-01"]
["1959-10-01"]
["1959-11-01"]
["1959-12-01"]
["1960-01-01"]
["1960-02-01"]
["1960-03-01"]
["1960-04-01"]
["1960-05-01"]
["1960-06-01"]
["1960-07-01"]
["1960-08-01"]
["1960-09-01"]
["1960-10-01"]
["1960-11-01"]
["1960-12-01"]
["1961-01-01"]
["1961-02-01"]
["1961-03-01"]
["1961-04-01"]
["1961-05-01"]
["1961-06-01"]
["1961-07-01"]
["1961-08-01"]
["1961-09-01"]
["1961-10-01"]
["1961-11-01"]
["1961-12-01"]
["1962-01-01"]
["1962-02-01"]
["1962-03-01"]
["1962-04-01"]
["1962-05-01"]
["1962-06-01"]
["1962-07-01"]
["1962-08-01"]
["1962-09-01"]
["1962-10-01"]
["1962-11-01"]
["1962-12-01"]
["1963-01-01"]
["1963-02-01"]
["1963-03-01"]
["1963-04-01"]
["1963-05-01"]
["1963-06-01"]
["1963-07-01"]
["1963-08-01"]
["1963-09-01"]
["1963-10-01"]
["1963-11-01"]
["1963-12-01"]
["1964-01-01"]
["1964-02-01"]
["1964-03-01"]
["1964-04-01"]
["1964-05-01"]
["1964-06-01"]
["1964-07-01"]
["1964-08-01"]
["1964-09-01"]
["1964-10-01"]
["1964-11-01"]
["1964-12-01"]
["1965-01-01"]
["1965-02-01"]
["1965-03-01"]
["1965-04-01"]
["1965-05-01"]
["1965-06-01"]
["1965-07-01"]
["1965-08-01"]
["1965-09-01"]
["1965-10-01"]
["1965-11-01"]
["1965-12-01"]
["1966-01-01"]
["1966-02-01"]
["1966-03-01"]
["1966-04-01"]
["1966-05-01"]
["1966-06-01"]
["1966-07-01"]
["1966-08-01"]
["1966-09-01"]
["1966-10-01"]
["1966-11-01"]
["1966-12-01"]
["1967-01-01"]
["1967-02-01"]
["1967-03-01"]
["1967-04-01"]
["1967-05-01"]
["1967-06-01"]
["1967-07-01"]
["1967-08-01"]
["1967-09-01"]
["1967-10-01"]
["1967-11-01"]
["1967-12-01"]
["1968-01-01"]
["1968-02-01"]
["1968-03-01"]
["1968-04-01"]
["1968-05-01"]
["1968-06-01"]
["1968-07-01"]
["1968-08-01"]
["1968-09-01"]
["1968-10-01"]
["1968-11-01"]
["1968-12-01"]
["1969-01-01"]
["1969-02-01"]
["1969-03-01"]
["1969-04-01"]
["1969-05-01"]
["1969-06-01"]
["1969-07-01"]
["1969-08-01"]
["1969-09-01"]
["1969-10-01"]
["1969-11-01"]
["1969-12-01"]
["1970-01-01"]
["1970-02-01"]
["1970-03-01"]
["1970-04-01"]
["1970-05-01"]
["1970-06-01"]
["1970-07-01"]
["1970-08-01"]
["1970-09-01"]
["1970-10-01"]
["1970-11-01"]
["1970-12-01"]
["1971-01-01"]
["1971-02-01"]
["1971-03-01"]
["1971-04-01"]
["1971-05-01"]
["1971-06-01"]
["1971-07-01"]
["1971-08-01"]
["1971-09-01"]
["1971-10-01"]
["1971-11-01"]
["1971-12-01"]
["1972-01-01"]
["1972-02-01"]
["1972-03-01"]
["1972-04-01"]
["1972-05-01"]
["1972-06-01"]
["1972-07-01"]
["1972-08-01"]
["1972-09-01"]
["1972-10-01"]
["1972-11-01"]
["1972-12-01"]
["1973-01-01"]
["1973-02-01"]
["1973-03-01"]
["1973-04-01"]
["1973-05-01"]
["1973-06-01"]
["1973-07-01"]
["1973-08-01"]
["1973-09-01"]
["1973-10-01"]
["1973-11-01"]
["1973-12-01"]
["1974-01-01"]
["1974-02-01"]
["1974-03-01"]
["1974-04-01"]
["1974-05-01"]
["1974-06-01"]
["1974-07-01"]
["1974-08-01"]
["1974-09-01"]
["1974-10-01"]
["1974-11-01"]
["1974-12-01"]
["1975-01-01"]
["1975-02-01"]
["1975-03-01"]
["1975-04-01"]
["1975-05-01"]
["1975-06-01"]
["1975-07-01"]
["1975-08-01"]
["1975-09-01"]
["1975-10-01"]
["1975-11-01"]
["1975-12-01"]
["1976-01-01"]
["1976-02-01"]
["1976-03-01"]
["1976-04-01"]
["1976-05-01"]
["1976-06-01"]
["1976-07-01"]
["1976-08-01"]
["1976-09-01"]
["1976-10-01"]
["1976-11-01"]
["1976-12-01"]
["1977-01-01"]
["1977-02-01"]
["1977-03-01"]
["1977-04-01"]
["1977-05-01"]
["1977-06-01"]
["1977-07-01"]
["1977-08-01"]
["1977-09-01"]
["1977-10-01"]
["1977-11-01"]
["1977-12-01"]
["1978-01-01"]
["1978-02-01"]
["1978-03-01"]
["1978-04-01"]
["1978-05-01"]
["1978-06-01"]
["1978-07-01"]
["1978-08-01"]
["1978-09-01"]
["1978-10-01"]
["1978-11-01"]
["1978-12-01"]
["1979-01-01"]
["1979-02-01"]
["1979-03-01"]
["1979-04-01"]
["1979-05-01"]
["1979-06-01"]
["1979-07-01"]
["1979-08-01"]
["1979-09-01"]
["1979-10-01"]
["1979-11-01"]
["1979-12-01"]
["1980-01-01"]
["1980-02-01"]
["1980-03-01"]
["1980-04-01"]
["1980-05-01"]
["1980-06-01"]
["1980-07-01"]
["1980-08-01"]
["1980-09-01"]
["1980-10-01"]
["1980-11-01"]
["1980-12-01"]
["1981-01-01"]
["1981-02-01"]
["1981-03-01"]
["1981-04-01"]
["1981-05-01"]
["1981-06-01"]
["1981-07-01"]
["1981-08-01"]
["1981-09-01"]
["1981-10-01"]
["1981-11-01"]
["1981-12-01"]
["1982-01-01"]
["1982-02-01"]
["1982-03-01"]
["1982-04-01"]
["1982-05-01"]
["1982-06-01"]
["1982-07-01"]
["1982-08-01"]
["1982-09-01"]
["1982-10-01"]
["1982-11-01"]
["1982-12-01"]
["1983-01-01"]
["1983-02-01"]
["1983-03-01"]
["1983-04-01"]
["1983-05-01"]
["1983-06-01"]
["1983-07-01"]
["1983-08-01"]
["1983-09-01"]
["1983-10-01"]
["1983-11-01"]
["1983-12-01"]
["1984-01-01"]
["1984-02-01"]
["1984-03-01"]
["1984-04-01"]
["1984-05-01"]
["1984-06-01"]
["1984-07-01"]
["1984-08-01"]
["1984-09-01"]
["1984-10-01"]
["1984-11-01"]
["1984-12-01"]
["1985-01-01"]
["1985-02-01"]
["1985-03-01"]
["1985-04-01"]
["1985-05-01"]
["1985-06-01"]
["1985-07-01"]
["1985-08-01"]
["1985-09-01"]
["1985-10-01"]
["1985-11-01"]
["1985-12-01"]
["1986-01-01"]
["1986-02-01"]
["1986-03-01"]
["1986-04-01"]
["1986-05-01"]
["1986-06-01"]
["1986-07-01"]
["1986-08-01"]
["1986-09-01"]
["1986-10-01"]
["1986-11-01"]
["1986-12-01"]
["1987-01-01"]
["1987-02-01"]
["1987-03-01"]
["1987-04-01"]
["1987-05-01"]
["1987-06-01"]
["1987-07-01"]
["1987-08-01"]
["1987-09-01"]
["1987-10-01"]
["1987-11-01"]
["1987-12-01"]
["1988-01-01"]
["1988-02-01"]
["1988-03-01"]
["1988-04-01"]
["1988-05-01"]
["1988-06-01"]
["1988-07-01"]
["1988-08-01"]
["1988-09-01"]
["1988-10-01"]
["1988-11-01"]
["1988-12-01"]
["1989-01-01"]
["1989-02-01"]
["1989-03-01"]
["1989-04-01"]
["1989-05-01"]
["1989-06-01"]
["1989-07-01"]
["1989-08-01"]
["1989-09-01"]
["1989-10-01"]
["1989-11-01"]
["1989-12-01"]
["1990-01-01"]
["1990-02-01"]
["1990-03-01"]
["1990-04-01"]
["1990-05-01"]
["1990-06-01"]
["1990-07-01"]
["1990-08-01"]
["1990-09-01"]
["1990-10-01"]
["1990-11-01"]
["1990-12-01"]
["1991-01-01"]
["1991-02-01"]
["1991-03-01"]
["1991-04-01"]
["1991-05-01"]
["1991-06-01"]
["1991-07-01"]
["1991-08-01"]
["1991-09-01"]
["1991-10-01"]
["1991-11-01"]
["1991-12-01"]
["1992-01-01"]
["1992-02-01"]
["1992-03-01"]
["1992-04-01"]
["1992-05-01"]
["1992-06-01"]
["1992-07-01"]
["1992-08-01"]
["1992-09-01"]
["1992-10-01"]
["1992-11-01"]
["1992-12-01"]
["1993-01-01"]
["1993-02-01"]
["1993-03-01"]
["1993-04-01"]
["1993-05-01"]
["1993-06-01"]
["1993-07-01"]
["1993-08-01"]
["1993-09-01"]
["1993-10-01"]
["1993-11-01"]
["1993-12-01"]
["1994-01-01"]
["1994-02-01"]
["1994-03-01"]
["1994-04-01"]
["1994-05-01"]
["1994-06-01"]
["1994-07-01"]
["1994-08-01"]
["1994-09-01"]
["1994-10-01"]
["1994-11-01"]
["1994-12-01"]
["1995-01-01"]
["1995-02-01"]
["1995-03-01"]
["1995-04-01"]
["1995-05-01"]
["1995-06-01"]
["1995-07-01"]
["1995-08-01"]
["1995-09-01"]
["1995-10-01"]
["1995-11-01"]
["1995-12-01"]
["1996-01-01"]
["1996-02-01"]
["1996-03-01"]
["1996-04-01"]
["1996-05-01"]
["1996-06-01"]
["1996-07-01"]
["1996-08-01"]
["1996-09-01"]
["1996-10-01"]
["1996-11-01"]
["1996-12-01"]
["1997-01-01"]
["1997-02-01"]
["1997-03-01"]
["1997-04-01"]
["1997-05-01"]
["1997-06-01"]
["1997-07-01"]
["1997-08-01"]
["1997-09-01"]
["1997-10-01"]
["1997-11-01"]
["1997-12-01"]
["1998-01-01"]
["1998-02-01"]
["1998-03-01"]
["1998-04-01"]
["1998-05-01"]
["1998-06-01"]
["1998-07-01"]
["1998-08-01"]
["1998-09-01"]
["1998-10-01"]
["1998-11-01"]
["1998-12-01"]
["1999-01-01"]
["1999-02-01"]
["1999-03-01"]
["1999-04-01"]
["1999-05-01"]
["1999-06-01"]
["1999-07-01"]
["1999-08-01"]
["1999-09-01"]
["1999-10-01"]
["1999-11-01"]
["1999-12-01"]
["2000-01-01"]
["2000-02-01"]
["2000-03-01"]
["2000-04-01"]
["2000-05-01"]
["2000-06-01"]
["2000-07-01"]
["2000-08-01"]
["2000-09-01"]
["2000-10-01"]
["2000-11-01"]
["2000-12-01"]
["2001-01-01"]
["2001-02-01"]
["2001-03-01"]
["2001-04-01"]
["2001-05-01"]
["2001-06-01"]
["2001-07-01"]
["2001-08-01"]
["2001-09-01"]
["2001-10-01"]
["2001-11-01"]
["2001-12-01"]
["2002-01-01"]
["2002-02-01"]
["2002-03-01"]
["2002-04-01"]
["2002-05-01"]
["2002-06-01"]
["2002-07-01"]
["2002-08-01"]
["2002-09-01"]
["2002-10-01"]
["2002-11-01"]
["2002-12-01"]
["2003-01-01"]
["2003-02-01"]
["2003-03-01"]
["2003-04-01"]
["2003-05-01"]
["2003-06-01"]
["2003-07-01"]
["2003-08-01"]
["2003-09-01"]
["2003-10-01"]
["2003-11-01"]
["2003-12-01"]
["2004-01-01"]
["2004-02-01"]
["2004-03-01"]
["2004-04-01"]
["2004-05-01"]
["2004-06-01"]
["2004-07-01"]
["2004-08-01"]
["2004-09-01"]
["2004-10-01"]
["2004-11-01"]
["2004-12-01"]
["2005-01-01"]
["2005-02-01"]
["2005-03-01"]
["2005-04-01"]
["2005-05-01"]
["2005-06-01"]
["2005-07-01"]
["2005-08-01"]
["2005-09-01"]
["2005-10-01"]
["2005-11-01"]
["2005-12-01"]
["2006-01-01"]
["2006-02-01"]
["2006-03-01"]
["2006-04-01"]
["2006-05-01"]
["2006-06-01"]
["2006-07-01"]
["2006-08-01"]
["2006-09-01"]
["2006-10-01"]
["2006-11-01"]
["2006-12-01"]
["2007-01-01"]
["2007-02-01"]
["2007-03-01"]
["2007-04-01"]
["2007-05-01"]
["2007-06-01"]
["2007-07-01"]
["2007-08-01"]
["2007-09-01"]
["2007-10-01"]
["2007-11-01"]
["2007-12-01"]
["2008-01-01"]
["2008-02-01"]
["2008-03-01"]
["2008-04-01"]
["2008-05-01"]
["2008-06-01"]
["2008-07-01"]
["2008-08-01"]
["2008-09-01"]
["2008-10-01"]
["2008-11-01"]
["2008-12-01"]
["2009-01-01"]
["2009-02-01"]
["2009-03-01"]
["2009-04-01"]
["2009-05-01"]
["2009-06-01"]
["2009-07-01"]
["2009-08-01"]
["2009-09-01"]
["2009-10-01"]
["2009-11-01"]
["2009-12-01"]
["2010-01-01"]
["2010-02-01"]
["2010-03-01"]
["2010-04-01"]
["2010-05-01"]
["2010-06-01"]
["2010-07-01"]
["2010-08-01"]
["2010-09-01"]
["2010-10-01"]
["2010-11-01"]
["2010-12-01"]
["2011-01-01"]
["2011-02-01"]
["2011-03-01"]
["2011-04-01"]
["2011-05-01"]
["2011-06-01"]
["2011-07-01"]
["2011-08-01"]
["2011-09-01"]
["2011-10-01"]
["2011-11-01"]
["2011-12-01"]
["2012-01-01"]
["2012-02-01"]
["2012-03-01"]
["2012-04-01"]
["2012-05-01"]
["2012-06-01"]
["2012-07-01"]
["2012-08-01"]
["2012-09-01"]
["2012-10-01"]
["2012-11-01"]
["2012-12-01"]
["2013-01-01"]
["2013-02-01"]
["2013-03-01"]
["2013-04-01"]
["2013-05-01"]
["2013-06-01"]
["2013-07-01"]
["2013-08-01"]
["2013-09-01"]
["2013-10-01"]
["2013-11-01"]
["2013-12-01"]
["2014-01-01"]
["2014-02-01"]
["2014-03-01"]
["2014-04-01"]
["2014-05-01"]
["2014-06-01"]
["2014-07-01"]
["2014-08-01"]
["2014-09-01"]
["2014-10-01"]
["2014-11-01"]
["2014-12-01"]
["2015-01-01"]
["2015-02-01"]
["2015-03-01"]
["2015-04-01"]
["2015-05-01"]
["2015-06-01"]
["2015-07-01"]
["2015-08-01"]
["2015-09-01"]
["2015-10-01"]
["2015-11-01"]
["2015-12-01"]
["2016-01-01"]
["2016-02-01"]
["2016-03-01"]
["2016-04-01"]
["2016-05-01"]
["2016-06-01"]
["2016-07-01"]
["2016-08-01"]
["2016-09-01"]
["2016-10-01"]
["2016-11-01"]
["2016-12-01"]
["2017-01-01"]
["2017-02-01"]
["2017-03-01"]
["2017-04-01"]
["2017-05-01"]
["2017-06-01"]
["2017-07-01"]
["2017-08-01"]
["2017-09-01"]
["2017-10-01"]
["2017-11-01"]
["2017-12-01"]
["2018-01-01"]
["2018-02-01"]
["2018-03-01"]
["2018-04-01"]
["2018-05-01"]
["2018-06-01"]
["2018-07-01"]
["2018-08-01"]
["2018-09-01"]

{"sheet":"BREAK","index":15,"n_rows":0,"n_cols":0,"rows_kept":0,"cut":false,"hidden":false,"merged":[]}