{"text_format":"1","workbook":"xlsx","n_sheets":7,"sheets":["Introduction","Annual Analysis","Periodic Analysis 1","Periodic Analysis 2","Summary Annual","IRR","Sheet3"],"not_rendered":{"charts":0,"images":1,"macros":1,"external_links":0,"defined_names":1,"comments":1,"pivot_tables":0},"unopened":[],"bounds":{"document_bytes":16777216,"sheet_cells":100000,"rows_first":2000,"rows_last":500,"rows_between":2000,"halvings":0,"cell_chars":16384,"cell_head_chars":4096},"cells_cut":0,"cells_raw":0,"read":"whole","date_system":"1900"}

{"sheet":"Introduction","index":0,"n_rows":55,"n_cols":22,"rows_kept":55,"cut":false,"hidden":false,"merged":[]}
[]
[null,null,"General Discussion",null,null,null,null,null,null,null,null,null,null,null,null,null,null,null,null,null,null,false]
[null,null,null,"This file illustrates how to compute the timing and the cash flow split in a partnership structure"]
[null,null,null,"The yield tracking account can also be used for splitting equity kickers in LBO analysis"]
[null,null,null,"Cash Flow are distributed to two or more partners, one of which is senior"]
[null,null,null,"The senior partner receives cash flows at different percentages depending if an IRR is reached"]
[null,null,null,"The first sheet works through the problem with an annual model.  The second sheet works through a basic periodic model and the third works through more advanced"]
[]
[]
[null,null,"Inputs"]
[null,null,null,"For the calculations to be clear, the inputs must be defined in a clear manner"]
[null,null,null,"The cash flow distributions are different before and after the flip"]
[null,null,null,"The total cash flow distributions should add up to 1.0"]
[]
[null,null,"Annual Analysis"]
[null,null,null,"The trick is to develop an account that keeps track of the value earned by investors including a yield"]
[null,null,null,"This account is like an equity account with dividends remomved, but it includes the value of money"]
[null,null,null,"When the account becomes zero, the dividends have offset the value of the investment including the opportunity  cost"]
[null,null,null,"The yield traking account is used for the cash flow waterfall, as other accounts are used to evaluate whether the reservior is full or empty"]
[]
[null,null,null,"A cash flow waterfall should be developed where the first tranche is the partner who earns the yield"]
[]
[]
[null,null,"The value tracking involves"]
[null,null,null,"Begin with the amount invested by a partner == as this is an outflow, express this as a negative value"]
[null,null,null,"Add the opportunity cost of funding as a negative value to the account and is computed as the opening balance multiplied by the yield"]
[null,null,null,"Subtract the dividends received by the investor "]
[null,null,null,"Compute the remaining amount"]
[]
[null,null,null,"The key is that dividends are not taken out of if the account is less than zero"]
[null,null,null,"To limit the amount of funds taken out, the MIN function can be used"]
[]
[null,null,"Cash flow waterfall after the initial flip"]
[null,null,null,"After the flip period, the remaining cash flow is split in different ratios"]
[null,null,null,"Compute the cash flow after the initial yield, by calculating the percentage of the operating cash flow that is allocated to first tranche and second next tranche"]
[null,null,null,"The cash flow after the first tranche is used to compute the amount of cash flow to the senior after the flip"]
[null,null,null,"To compute this one must know when the remaining cash flows begin and compute the percent of cash flows before the flip in the flip period"]
[]
[]
[null,null,"Periodic Analysis"]
[null,null,null,"First, must compute dates using EDATE or EOMONTH"]
[]
[null,null,null,"If using the XIRR to test, use the actual days in the month rather than DAYS360"]
[null,null,null,"Compute effective periodic rate for the yield tracking using the actual number of days"]
[null,null,null,"Compute the yield tracking account on a periodic basis using the periodic rate and derive the dividends using the MIN account"]
[null,null,null,"Check the IRR using the IRR formula"]
[]
[null,null,null,"Compute the percentage of the cash flow that is for the pre-flip and the post flip period by comparing the dividneds without the cap to the dividends with the cap"]
[null,null,null,"Once the cash flow available for the  second tranche is computed, evaluate the cash flow to senior after the yield constraint"]
[]
[]
[null,null,"Periodic Analysis with Specific Dates"]
[null,null,null,"In the previous two analysis, in the period of the flip, it is assumed that the cash flow is distributed in proportions in the peiod of the flip"]
[null,null,null,"In fact, cash flow is distributed to the senior at the pre-flip percentage before the the cash flow is distributed later"]
[null,null,null,"To be more accurate, the date before the flip can be determined and then the pre-flip cash flow can be aligned with the date"]

{"sheet":"Annual Analysis","index":1,"n_rows":57,"n_cols":26,"rows_kept":57,"cut":false,"hidden":false,"merged":[[2,4,2,5]]}
[]
["Inputs"]
[null,null,null,"Percent of","Cash Flow Share"]
[null,null,null,"Investment","Pre-Flip","Post-Flip",null,"IRR"]
[null,null,"Partner 1",{"$f":"J5/100","v":0.8},{"$f":"K5/100","v":0.85},{"$f":"L5/100","v":0.11},null,{"$f":"D56","v":0.11644037670516094},null,80,85,11]
[null,null,"Partner 2",{"$f":"1-D5","v":0.19999999999999996},{"$f":"1-E5","v":0.15000000000000002},{"$f":"1-F5","v":0.89},null,{"$f":"D57","v":0.25484821958201342}]
[]
[null,null,"Yield for Determing Flip",0.1]
[]
[]
[null,null,"Investment",1000]
[null,null,"Initital Cash  Flow",200]
[null,null,"Growth Rate",0]
[null,null,"Life",12]
[]
["Working"]
[null,null,"Period Counter",0,{"$f":"D17+1","v":1},{"$f":"E17+1","v":2},3,4,5,6,7,8,9,10,11,12,13,14,15,16,17,18,19,20,21,22]
[null,null,"Operating Switch",null,{"$f":"E17<=$D$14","v":true},{"$f":"F17<=$D$14","v":true},true,true,true,true,true,true,true,true,true,true,false,false,false,false,false,false,false,false,false,false]
[]
[null,null,"Uses of Funds - Investment",{"$f":"D11","v":1000}]
[null,null,"Sources of Funds - Partner 1",{"$f":"D20*D5","v":800}]
[null,null,"Sources of Funds - Partner 2",{"$f":"D20-D21","v":200}]
[]
[null,null,"Cash Flow without Constraint",{"$f":"D12","v":200},{"$f":"D24*(1+$D$13)","v":200},{"$f":"E24*(1+$D$13)","v":200},200,200,200,200,200,200,200,200,200,200,200,200,200,200,200,200,200,200,200,200]
[null,null,"Total Cash Flow",{"$f":"-D20","v":-1000},{"$f":"E24*E18","v":200},{"$f":"F24*F18","v":200},200,200,200,200,200,200,200,200,200,200,0,0,0,0,0,0,0,0,0,0]
[]
["Cash Flow to Senior Partner with First Call on Cash Flow"]
[null,"Step 1: Compute Cash Flows to Senior Partner Assuming no Flip"]
[null,null,"Partner 1 - Pre Flip Percentage",null,{"$f":"$E$5","v":0.85},{"$f":"$E$5","v":0.85},0.85,0.85,0.85,0.85,0.85,0.85,0.85,0.85,0.85,0.85,0.85,0.85,0.85,0.85,0.85,0.85,0.85,0.85,0.85,0.85]
[null,null,"Subtotal 1: Partner 1 Cash Flow without Cap",null,{"$f":"E29*E25*E18","v":170},{"$f":"F29*F25*F18","v":170},170,170,170,170,170,170,170,170,170,170,0,0,0,0,0,0,0,0,0,0]
[]
[null,"Step 2: Compute a Tracking Account the Tabulates Value Until Value Becomes Zero"]
[null,"Yield Tracking Account"]
[null,null,"Opening Balance",null,{"$f":"D39","v":-800},{"$f":"E39","v":-710},{"$f":"F39","v":-611},-502.1,-382.31000000000006,-250.54100000000005,-105.59510000000006,0,0,0,0,0,0,0,0,0,0,0,0,0,0,0]
[null,null,"Hurdle Rate",{"$f":"D8","v":0.1},{"$f":"D35","v":0.1},{"$f":"E35","v":0.1},0.1,0.1,0.1,0.1,0.1,0.1,0.1,0.1,0.1,0.1,0.1,0.1,0.1,0.1,0.1,0.1,0.1,0.1,0.1,0.1]
[null,null,"Less: Value of Money Lost",null,{"$f":"E34*E35","v":-80},{"$f":"F34*F35","v":-71},-61.1,-50.210000000000008,-38.231000000000009,-25.054100000000005,-10.559510000000007,0,0,0,0,0,0,0,0,0,0,0,0,0,0,0]
[null,null,"Balance After Cost of Money",null,{"$f":"E34+E36","v":-880},{"$f":"F34+F36","v":-781},-672.1,-552.31000000000006,-420.54100000000005,-275.59510000000006,-116.15461000000006,0,0,0,0,0,0,0,0,0,0,0,0,0,0,0]
[null,null,"Add: Cash Flow Received",null,{"$f":"MIN(-E37,E30)","v":170},{"$f":"MIN(-F37,F30)","v":170},170,170,170,170,116.15461000000006,0,0,0,0,0,0,0,0,0,0,0,0,0,0,0]
[null,null,"Closing Balance Net Value of Investment",{"$f":"-D21","v":-800},{"$f":"E34+E36+E38","v":-710},{"$f":"F34+F36+F38","v":-611},-502.1,-382.31000000000006,-250.54100000000005,-105.59510000000006,0,0,0,0,0,0,0,0,0,0,0,0,0,0,0,0]
[]
[null,null,"Partner 1 - Pre Flip Cash Flow",{"$f":"-D21","v":-800},{"$f":"E38","v":170},{"$f":"F38","v":170},170,{"$f":"H38","v":170},170,170,116.15461000000006,0,0,0,0,0,0,0,0,0,0,0,0,0,0,0]
[null,null,"IRR - Check",{"$f":"IRR(D41:Z41,-10%)","v":9.9999999999999867E-2}]
[]
[null,null,"Percent of Pre-Flip Cash Flows",null,{"$f":"IF(E30,E41/E30)","v":1},{"$f":"IF(F30,F41/F30)","v":1},1,1,1,1,0.68326241176470626,0,0,0,0,0,false,false,false,false,false,false,false,false,false,false]
[]
["Cash Flow to Senior Partner after First Tranche"]
[null,null,"Subtotal 2: Cash Flow After Partner 1 First Tranche",null,{"$f":"(1-E44)*E25","v":0},0,0,0,0,0,63.347517647058751,200,200,200,200,200,0,0,0,0,0,0,0,0,0,0]
[null,null,"Partner 1 - Post Flip Percent",null,{"$f":"$F$5","v":0.11},{"$f":"$F$5","v":0.11},0.11,0.11,0.11,0.11,0.11,0.11,0.11,0.11,0.11,0.11,0.11,0.11,0.11,0.11,0.11,0.11,0.11,0.11,0.11,0.11]
[null,null,"Partner 1 - Post Flip Amount",null,{"$f":"E47*E48","v":0},{"$f":"F47*F48","v":0},0,0,0,0,6.9682269411764626,22,22,22,22,22,0,0,0,0,0,0,0,0,0,0]
[]
[null,null,"Total Partner 1 Cash Flow",{"$f":"D39","v":-800},{"$f":"E49+E41","v":170},170,170,170,170,170,123.12283694117653,22,22,22,22,22,0,0,0,0,0,0,0,0,0,0]
[null,null,"Total Partner 2 Cash Flow",{"$f":"-D22","v":-200},{"$f":"E25-E51","v":30},30,30,30,30,30,76.87716305882347,178,178,178,178,178,0,0,0,0,0,0,0,0,0,0]
[null,null,"Total",{"$f":"SUM(D51:D52)","v":-1000},{"$f":"SUM(E51:E52)","v":200},200,200,200,200,200,200,200,200,200,200,200,0,0,0,0,0,0,0,0,0,0]
[]
[null,null,"Total IRR",{"$f":"IRR(D53:Z53)","v":0.16942550857963257}]
[null,null,"IRR - Partner 1",{"$f":"IRR(D51:Z51)","v":0.11644037670516094}]
[null,null,"IRR - Partner 2",{"$f":"IRR(D52:Z52)","v":0.25484821958201342}]

{"sheet":"Periodic Analysis 1","index":2,"n_rows":74,"n_cols":256,"rows_kept":74,"cut":false,"hidden":false,"merged":[[10,5,10,6]]}
[]
["Assumptions"]
[null,"Dates and Structure"]
[null,null,null,"Start Date","2012-01-01"]
[null,null,null,"Periods per Year",12]
[null,null,null,"Months per Period",1]
[]
[null,null,null,"Lifetime",{"$f":"'Annual Analysis'!D14","v":12}]
[null,null,null,"Retirement Date",{"$f":"EDATE(E4,E8*12)-1","v":"2023-12-31"}]
[]
[null,null,null,null,"Percent of","Cash Flow Share"]
[null,null,null,null,"Investment","Pre-Flip","Post-Flip",null,"IRR"]
[null,null,null,"Partner 1",{"$f":"'Annual Analysis'!D5","v":0.8},{"$f":"'Annual Analysis'!E5","v":0.85},{"$f":"'Annual Analysis'!F5","v":0.11},null,{"$f":"E73","v":0.12234223484992979}]
[null,null,null,"Partner 2",{"$f":"'Annual Analysis'!D6","v":0.19999999999999996},{"$f":"'Annual Analysis'!E6","v":0.15000000000000002},{"$f":"'Annual Analysis'!F6","v":0.89},null,{"$f":"E74","v":0.29007979035377507}]
[]
[null,null,null,"Yield for Determing Flip",{"$f":"'Annual Analysis'!D8","v":0.1}]
[]
[null,"Operating Assumptions"]
[null,null,null,"Investment",{"$f":"'Annual Analysis'!D11","v":1000}]
[null,null,null,"Annual Cash Flow",{"$f":"'Annual Analysis'!D12","v":200}]
[null,null,null,"Growth Rate",{"$f":"'Annual Analysis'!D13","v":0}]
[null,null,null,"Monthly Cash",{"$f":"E20/E5","v":16.666666666666668}]
[null,null,null,"Monthly Growth",{"$f":"(1+E21)^(1/12)-1","v":0}]
[]
[]
["Dates"]
[null,null,null,"Period",0,{"$f":"E27+1","v":1},{"$f":"F27+1","v":2},3,4,5,6,7,8,9,10,11,12,13,14,15,16,17,18,19,20,21,22,23,24,25,26,27,28,29,30,31,32,33,34,35,36,37,38,39,40,41,42,43,44,45,46,47,48,49,50,51,52,53,54,55,56,57,58,59,60,61,62,63,64,65,{"$f":"BR27+1","v":66},67,68,69,70,71,72,73,74,75,76,77,78,79,80,81,82,83,84,85,86,87,88,89,90,91,92,93,94,95,96,97,98,99,100,101,102,103,104,105,106,107,108,109,110,111,112,113,114,115,116,117,118,119,120,121,122,123,124,125,126,127,128,129,{"$f":"ED27+1","v":130},131,132,133,134,135,136,137,138,139,140,141,142,143,144,145,146,147,148,149,150,151,152,153,154,155,156,157,158,159,160,161,162,163,164,165,166,167,168,169,170,171,172,173,174,175,176,177,178,179,180,181,182,183,184,185,186,187,188,189,190,191,192,193,{"$f":"GP27+1","v":194},195,196,197,198,199,200,201,202,203,204,205,206,207,208,209,210,211,212,213,214,215,216,217,218,219,220,221,222,223,224,225,226,227,228,229,230,231,232,233,234,235,236,237,238,239,240,241,242,243,244,245,246,247,248,249,250,251]
[null,null,null,"Month per Period",{"$f":"E6","v":1},{"$f":"E28","v":1},{"$f":"F28","v":1},1,1,1,1,1,1,1,1,1,1,1,1,1,1,1,1,1,1,1,1,1,1,1,1,1,1,1,1,1,1,1,1,1,1,1,1,1,1,1,1,1,1,1,1,1,1,1,1,1,1,1,1,1,1,1,1,1,1,1,1,1,1,1,{"$f":"BR28","v":1},1,1,1,1,1,1,1,1,1,1,1,1,1,1,1,1,1,1,1,1,1,1,1,1,1,1,1,1,1,1,1,1,1,1,1,1,1,1,1,1,1,1,1,1,1,1,1,1,1,1,1,1,1,1,1,1,1,1,1,1,1,1,1,{"$f":"ED28","v":1},1,1,1,1,1,1,1,1,1,1,1,1,1,1,1,1,1,1,1,1,1,1,1,1,1,1,1,1,1,1,1,1,1,1,1,1,1,1,1,1,1,1,1,1,1,1,1,1,1,1,1,1,1,1,1,1,1,1,1,1,1,1,1,{"$f":"GP28","v":1},1,1,1,1,1,1,1,1,1,1,1,1,1,1,1,1,1,1,1,1,1,1,1,1,1,1,1,1,1,1,1,1,1,1,1,1,1,1,1,1,1,1,1,1,1,1,1,1,1,1,1,1,1,1,1,1,1]
[]
[null,null,null,"Start Period",null,{"$f":"E31+1","v":"2012-01-01"},{"$f":"F31+1","v":"2012-02-01"},"2012-03-01","2012-04-01","2012-05-01","2012-06-01","2012-07-01","2012-08-01","2012-09-01","2012-10-01","2012-11-01","2012-12-01","2013-01-01","2013-02-01","2013-03-01","2013-04-01","2013-05-01","2013-06-01","2013-07-01","2013-08-01","2013-09-01","2013-10-01","2013-11-01","2013-12-01","2014-01-01","2014-02-01","2014-03-01","2014-04-01","2014-05-01","2014-06-01","2014-07-01","2014-08-01","2014-09-01","2014-10-01","2014-11-01","2014-12-01","2015-01-01","2015-02-01","2015-03-01","2015-04-01","2015-05-01","2015-06-01","2015-07-01","2015-08-01","2015-09-01","2015-10-01","2015-11-01","2015-12-01","2016-01-01","2016-02-01","2016-03-01","2016-04-01","2016-05-01","2016-06-01","2016-07-01","2016-08-01","2016-09-01","2016-10-01","2016-11-01","2016-12-01","2017-01-01","2017-02-01","2017-03-01","2017-04-01","2017-05-01",{"$f":"BR31+1","v":"2017-06-01"},"2017-07-01","2017-08-01","2017-09-01","2017-10-01","2017-11-01","2017-12-01","2018-01-01","2018-02-01","2018-03-01","2018-04-01","2018-05-01","2018-06-01","2018-07-01","2018-08-01","2018-09-01","2018-10-01","2018-11-01","2018-12-01","2019-01-01","2019-02-01","2019-03-01","2019-04-01","2019-05-01","2019-06-01","2019-07-01","2019-08-01","2019-09-01","2019-10-01","2019-11-01","2019-12-01","2020-01-01","2020-02-01","2020-03-01","2020-04-01","2020-05-01","2020-06-01","2020-07-01","2020-08-01","2020-09-01","2020-10-01","2020-11-01","2020-12-01","2021-01-01","2021-02-01","2021-03-01","2021-04-01","2021-05-01","2021-06-01","2021-07-01","2021-08-01","2021-09-01","2021-10-01","2021-11-01","2021-12-01","2022-01-01","2022-02-01","2022-03-01","2022-04-01","2022-05-01","2022-06-01","2022-07-01","2022-08-01","2022-09-01",{"$f":"ED31+1","v":"2022-10-01"},"2022-11-01","2022-12-01","2023-01-01","2023-02-01","2023-03-01","2023-04-01","2023-05-01","2023-06-01","2023-07-01","2023-08-01","2023-09-01","2023-10-01","2023-11-01","2023-12-01","2024-01-01","2024-01-01","2024-01-01","2024-01-01","2024-01-01","2024-01-01","2024-01-01","2024-01-01","2024-01-01","2024-01-01","2024-01-01","2024-01-01","2024-01-01","2024-01-01","2024-01-01","2024-01-01","2024-01-01","2024-01-01","2024-01-01","2024-01-01","2024-01-01","2024-01-01","2024-01-01","2024-01-01","2024-01-01","2024-01-01","2024-01-01","2024-01-01","2024-01-01","2024-01-01","2024-01-01","2024-01-01","2024-01-01","2024-01-01","2024-01-01","2024-01-01","2024-01-01","2024-01-01","2024-01-01","2024-01-01","2024-01-01","2024-01-01","2024-01-01","2024-01-01","2024-01-01","2024-01-01","2024-01-01","2024-01-01","2024-01-01",{"$f":"GP31+1","v":"2024-01-01"},"2024-01-01","2024-01-01","2024-01-01","2024-01-01","2024-01-01","2024-01-01","2024-01-01","2024-01-01","2024-01-01","2024-01-01","2024-01-01","2024-01-01","2024-01-01","2024-01-01","2024-01-01","2024-01-01","2024-01-01","2024-01-01","2024-01-01","2024-01-01","2024-01-01","2024-01-01","2024-01-01","2024-01-01","2024-01-01","2024-01-01","2024-01-01","2024-01-01","2024-01-01","2024-01-01","2024-01-01","2024-01-01","2024-01-01","2024-01-01","2024-01-01","2024-01-01","2024-01-01","2024-01-01","2024-01-01","2024-01-01","2024-01-01","2024-01-01","2024-01-01","2024-01-01","2024-01-01","2024-01-01","2024-01-01","2024-01-01","2024-01-01","2024-01-01","2024-01-01","2024-01-01","2024-01-01","2024-01-01","2024-01-01","2024-01-01","2024-01-01"]
[null,null,null,"End Period",{"$f":"E4-1","v":"2011-12-31"},{"$f":"MIN(EDATE(F30,F28)-1,$E$9)","v":"2012-01-31"},"2012-02-29","2012-03-31","2012-04-30","2012-05-31","2012-06-30","2012-07-31","2012-08-31","2012-09-30","2012-10-31","2012-11-30","2012-12-31","2013-01-31","2013-02-28","2013-03-31","2013-04-30","2013-05-31","2013-06-30","2013-07-31","2013-08-31","2013-09-30","2013-10-31","2013-11-30","2013-12-31","2014-01-31","2014-02-28","2014-03-31","2014-04-30","2014-05-31","2014-06-30","2014-07-31","2014-08-31","2014-09-30","2014-10-31","2014-11-30","2014-12-31","2015-01-31","2015-02-28","2015-03-31","2015-04-30","2015-05-31","2015-06-30","2015-07-31","2015-08-31","2015-09-30","2015-10-31","2015-11-30","2015-12-31","2016-01-31","2016-02-29","2016-03-31","2016-04-30","2016-05-31","2016-06-30","2016-07-31","2016-08-31","2016-09-30","2016-10-31","2016-11-30","2016-12-31","2017-01-31","2017-02-28","2017-03-31","2017-04-30",{"$f":"MIN(EDATE(BR30,BR28)-1,$E$9)","v":"2017-05-31"},"2017-06-30","2017-07-31","2017-08-31","2017-09-30","2017-10-31","2017-11-30","2017-12-31","2018-01-31","2018-02-28","2018-03-31","2018-04-30","2018-05-31","2018-06-30","2018-07-31","2018-08-31","2018-09-30","2018-10-31","2018-11-30","2018-12-31","2019-01-31","2019-02-28","2019-03-31","2019-04-30","2019-05-31","2019-06-30","2019-07-31","2019-08-31","2019-09-30","2019-10-31","2019-11-30","2019-12-31","2020-01-31","2020-02-29","2020-03-31","2020-04-30","2020-05-31","2020-06-30","2020-07-31","2020-08-31","2020-09-30","2020-10-31","2020-11-30","2020-12-31","2021-01-31","2021-02-28","2021-03-31","2021-04-30","2021-05-31","2021-06-30","2021-07-31","2021-08-31","2021-09-30","2021-10-31","2021-11-30","2021-12-31","2022-01-31","2022-02-28","2022-03-31","2022-04-30","2022-05-31","2022-06-30","2022-07-31","2022-08-31",{"$f":"MIN(EDATE(ED30,ED28)-1,$E$9)","v":"2022-09-30"},"2022-10-31","2022-11-30","2022-12-31","2023-01-31","2023-02-28","2023-03-31","2023-04-30","2023-05-31","2023-06-30","2023-07-31","2023-08-31","2023-09-30","2023-10-31","2023-11-30","2023-12-31","2023-12-31","2023-12-31","2023-12-31","2023-12-31","2023-12-31","2023-12-31","2023-12-31","2023-12-31","2023-12-31","2023-12-31","2023-12-31","2023-12-31","2023-12-31","2023-12-31","2023-12-31","2023-12-31","2023-12-31","2023-12-31","2023-12-31","2023-12-31","2023-12-31","2023-12-31","2023-12-31","2023-12-31","2023-12-31","2023-12-31","2023-12-31","2023-12-31","2023-12-31","2023-12-31","2023-12-31","2023-12-31","2023-12-31","2023-12-31","2023-12-31","2023-12-31","2023-12-31","2023-12-31","2023-12-31","2023-12-31","2023-12-31","2023-12-31","2023-12-31","2023-12-31","2023-12-31","2023-12-31","2023-12-31","2023-12-31",{"$f":"MIN(EDATE(GP30,GP28)-1,$E$9)","v":"2023-12-31"},"2023-12-31","2023-12-31","2023-12-31","2023-12-31","2023-12-31","2023-12-31","2023-12-31","2023-12-31","2023-12-31","2023-12-31","2023-12-31","2023-12-31","2023-12-31","2023-12-31","2023-12-31","2023-12-31","2023-12-31","2023-12-31","2023-12-31","2023-12-31","2023-12-31","2023-12-31","2023-12-31","2023-12-31","2023-12-31","2023-12-31","2023-12-31","2023-12-31","2023-12-31","2023-12-31","2023-12-31","2023-12-31","2023-12-31","2023-12-31","2023-12-31","2023-12-31","2023-12-31","2023-12-31","2023-12-31","2023-12-31","2023-12-31","2023-12-31","2023-12-31","2023-12-31","2023-12-31","2023-12-31","2023-12-31","2023-12-31","2023-12-31","2023-12-31","2023-12-31","2023-12-31","2023-12-31","2023-12-31","2023-12-31","2023-12-31","2023-12-31","2023-12-31"]
[]
[null,null,null,"Year",{"$f":"YEAR(E31)","v":2011},{"$f":"YEAR(F31)","v":2012},2012,2012,2012,2012,2012,2012,2012,2012,2012,2012,2012,2013,2013,2013,2013,2013,2013,2013,2013,2013,2013,2013,2013,2014,2014,2014,2014,2014,2014,2014,2014,2014,2014,2014,2014,2015,2015,2015,2015,2015,2015,2015,2015,2015,2015,2015,2015,2016,2016,2016,2016,2016,2016,2016,2016,2016,2016,2016,2016,2017,2017,2017,2017,{"$f":"YEAR(BR31)","v":2017},2017,2017,2017,2017,2017,2017,2017,2018,2018,2018,2018,2018,2018,2018,2018,2018,2018,2018,2018,2019,2019,2019,2019,2019,2019,2019,2019,2019,2019,2019,2019,2020,2020,2020,2020,2020,2020,2020,2020,2020,2020,2020,2020,2021,2021,2021,2021,2021,2021,2021,2021,2021,2021,2021,2021,2022,2022,2022,2022,2022,2022,2022,2022,{"$f":"YEAR(ED31)","v":2022},2022,2022,2022,2023,2023,2023,2023,2023,2023,2023,2023,2023,2023,2023,2023,2023,2023,2023,2023,2023,2023,2023,2023,2023,2023,2023,2023,2023,2023,2023,2023,2023,2023,2023,2023,2023,2023,2023,2023,2023,2023,2023,2023,2023,2023,2023,2023,2023,2023,2023,2023,2023,2023,2023,2023,2023,2023,2023,2023,2023,2023,2023,2023,{"$f":"YEAR(GP31)","v":2023},2023,2023,2023,2023,2023,2023,2023,2023,2023,2023,2023,2023,2023,2023,2023,2023,2023,2023,2023,2023,2023,2023,2023,2023,2023,2023,2023,2023,2023,2023,2023,2023,2023,2023,2023,2023,2023,2023,2023,2023,2023,2023,2023,2023,2023,2023,2023,2023,2023,2023,2023,2023,2023,2023,2023,2023,2023,2023]
[null,null,null,"Days",null,{"$f":"F31-F30+1","v":31},{"$f":"G31-G30+1","v":29},31,30,31,30,31,31,30,31,30,31,31,28,31,30,31,30,31,31,30,31,30,31,31,28,31,30,31,30,31,31,30,31,30,31,31,28,31,30,31,30,31,31,30,31,30,31,31,29,31,30,31,30,31,31,30,31,30,31,31,28,31,30,31,{"$f":"BS31-BS30+1","v":30},31,31,30,31,30,31,31,28,31,30,31,30,31,31,30,31,30,31,31,28,31,30,31,30,31,31,30,31,30,31,31,29,31,30,31,30,31,31,30,31,30,31,31,28,31,30,31,30,31,31,30,31,30,31,31,28,31,30,31,30,31,31,30,{"$f":"EE31-EE30+1","v":31},30,31,31,28,31,30,31,30,31,31,30,31,30,31,0,0,0,0,0,0,0,0,0,0,0,0,0,0,0,0,0,0,0,0,0,0,0,0,0,0,0,0,0,0,0,0,0,0,0,0,0,0,0,0,0,0,0,0,0,0,0,0,0,{"$f":"GQ31-GQ30+1","v":0},0,0,0,0,0,0,0,0,0,0,0,0,0,0,0,0,0,0,0,0,0,0,0,0,0,0,0,0,0,0,0,0,0,0,0,0,0,0,0,0,0,0,0,0,0,0,0,0,0,0,0,0,0,0,0,0,0]
[null,null,null,"Days 360",null,{"$f":"DAYS360(F30,F31+1)","v":30},{"$f":"DAYS360(G30,G31+1)","v":30},30,30,30,30,30,30,30,30,30,30,30,30,30,30,30,30,30,30,30,30,30,30,30,30,30,30,30,30,30,30,30,30,30,30,30,30,30,30,30,30,30,30,30,30,30,30,30,30,30,30,30,30,30,30,30,30,30,30,30,30,30,30,30,{"$f":"DAYS360(BS30,BS31+1)","v":30},30,30,30,30,30,30,30,30,30,30,30,30,30,30,30,30,30,30,30,30,30,30,30,30,30,30,30,30,30,30,30,30,30,30,30,30,30,30,30,30,30,30,30,30,30,30,30,30,30,30,30,30,30,30,30,30,30,30,30,30,30,30,30,{"$f":"DAYS360(EE30,EE31+1)","v":30},30,30,30,30,30,30,30,30,30,30,30,30,30,30,0,0,0,0,0,0,0,0,0,0,0,0,0,0,0,0,0,0,0,0,0,0,0,0,0,0,0,0,0,0,0,0,0,0,0,0,0,0,0,0,0,0,0,0,0,0,0,0,0,{"$f":"DAYS360(GQ30,GQ31+1)","v":0},0,0,0,0,0,0,0,0,0,0,0,0,0,0,0,0,0,0,0,0,0,0,0,0,0,0,0,0,0,0,0,0,0,0,0,0,0,0,0,0,0,0,0,0,0,0,0,0,0,0,0,0,0,0,0,0,0]
[]
["Operating"]
[null,null,null,"Operating",null,{"$f":"F30<=$E$9","v":true},true,true,true,true,true,true,true,true,true,true,true,true,true,true,true,true,true,true,true,true,true,true,true,true,true,true,true,true,true,true,true,true,true,true,true,true,true,true,true,true,true,true,true,true,true,true,true,true,true,true,true,true,true,true,true,true,true,true,true,true,true,true,true,{"$f":"BR30<=$E$9","v":true},true,true,true,true,true,true,true,true,true,true,true,true,true,true,true,true,true,true,true,true,true,true,true,true,true,true,true,true,true,true,true,true,true,true,true,true,true,true,true,true,true,true,true,true,true,true,true,true,true,true,true,true,true,true,true,true,true,true,true,true,true,true,true,{"$f":"ED30<=$E$9","v":true},true,true,true,true,true,true,true,true,true,true,true,true,true,true,true,false,false,false,false,false,false,false,false,false,false,false,false,false,false,false,false,false,false,false,false,false,false,false,false,false,false,false,false,false,false,false,false,false,false,false,false,false,false,false,false,false,false,false,false,false,false,false,false,{"$f":"GP30<=$E$9","v":false},false,false,false,false,false,false,false,false,false,false,false,false,false,false,false,false,false,false,false,false,false,false,false,false,false,false,false,false,false,false,false,false,false,false,false,false,false,false,false,false,false,false,false,false,false,false,false,false,false,false,false,false,false,false,false,false,false,false]
[]
[null,null,null,"Cash Flow for Full Period",{"$f":"E22","v":16.666666666666668},{"$f":"E40*(1+$E$23)*F38","v":16.666666666666668},{"$f":"F40*(1+$E$23)*G38","v":16.666666666666668},16.666666666666668,16.666666666666668,16.666666666666668,16.666666666666668,16.666666666666668,16.666666666666668,16.666666666666668,16.666666666666668,16.666666666666668,16.666666666666668,16.666666666666668,16.666666666666668,16.666666666666668,16.666666666666668,16.666666666666668,16.666666666666668,16.666666666666668,16.666666666666668,16.666666666666668,16.666666666666668,16.666666666666668,16.666666666666668,16.666666666666668,16.666666666666668,16.666666666666668,16.666666666666668,16.666666666666668,16.666666666666668,16.666666666666668,16.666666666666668,16.666666666666668,16.666666666666668,16.666666666666668,16.666666666666668,16.666666666666668,16.666666666666668,16.666666666666668,16.666666666666668,16.666666666666668,16.666666666666668,16.666666666666668,16.666666666666668,16.666666666666668,16.666666666666668,16.666666666666668,16.666666666666668,16.666666666666668,16.666666666666668,16.666666666666668,16.666666666666668,16.666666666666668,16.666666666666668,16.666666666666668,16.666666666666668,16.666666666666668,16.666666666666668,16.666666666666668,16.666666666666668,16.666666666666668,16.666666666666668,16.666666666666668,16.666666666666668,16.666666666666668,{"$f":"BR40*(1+$E$23)*BS38","v":16.666666666666668},16.666666666666668,16.666666666666668,16.666666666666668,16.666666666666668,16.666666666666668,16.666666666666668,16.666666666666668,16.666666666666668,16.666666666666668,16.666666666666668,16.666666666666668,16.666666666666668,16.666666666666668,16.666666666666668,16.666666666666668,16.666666666666668,16.666666666666668,16.666666666666668,16.666666666666668,16.666666666666668,16.666666666666668,16.666666666666668,16.666666666666668,16.666666666666668,16.666666666666668,16.666666666666668,16.666666666666668,16.666666666666668,16.666666666666668,16.666666666666668,16.666666666666668,16.666666666666668,16.666666666666668,16.666666666666668,16.666666666666668,16.666666666666668,16.666666666666668,16.666666666666668,16.666666666666668,16.666666666666668,16.666666666666668,16.666666666666668,16.666666666666668,16.666666666666668,16.666666666666668,16.666666666666668,16.666666666666668,16.666666666666668,16.666666666666668,16.666666666666668,16.666666666666668,16.666666666666668,16.666666666666668,16.666666666666668,16.666666666666668,16.666666666666668,16.666666666666668,16.666666666666668,16.666666666666668,16.666666666666668,16.666666666666668,16.666666666666668,16.666666666666668,{"$f":"ED40*(1+$E$23)*EE38","v":16.666666666666668},16.666666666666668,16.666666666666668,16.666666666666668,16.666666666666668,16.666666666666668,16.666666666666668,16.666666666666668,16.666666666666668,16.666666666666668,16.666666666666668,16.666666666666668,16.666666666666668,16.666666666666668,16.666666666666668,0,0,0,0,0,0,0,0,0,0,0,0,0,0,0,0,0,0,0,0,0,0,0,0,0,0,0,0,0,0,0,0,0,0,0,0,0,0,0,0,0,0,0,0,0,0,0,0,0,{"$f":"GP40*(1+$E$23)*GQ38","v":0},0,0,0,0,0,0,0,0,0,0,0,0,0,0,0,0,0,0,0,0,0,0,0,0,0,0,0,0,0,0,0,0,0,0,0,0,0,0,0,0,0,0,0,0,0,0,0,0,0,0,0,0,0,0,0,0,0]
[]
[null,null,null,"Partner 1 - Pre-Flip Percent",null,{"$f":"$F$13","v":0.85},{"$f":"$F$13","v":0.85},0.85,0.85,0.85,0.85,0.85,0.85,0.85,0.85,0.85,0.85,0.85,0.85,0.85,0.85,0.85,0.85,0.85,0.85,0.85,0.85,0.85,0.85,0.85,0.85,0.85,0.85,0.85,0.85,0.85,0.85,0.85,0.85,0.85,0.85,0.85,0.85,0.85,0.85,0.85,0.85,0.85,0.85,0.85,0.85,0.85,0.85,0.85,0.85,0.85,0.85,0.85,0.85,0.85,0.85,0.85,0.85,0.85,0.85,0.85,0.85,0.85,0.85,0.85,{"$f":"$F$13","v":0.85},0.85,0.85,0.85,0.85,0.85,0.85,0.85,0.85,0.85,0.85,0.85,0.85,0.85,0.85,0.85,0.85,0.85,0.85,0.85,0.85,0.85,0.85,0.85,0.85,0.85,0.85,0.85,0.85,0.85,0.85,0.85,0.85,0.85,0.85,0.85,0.85,0.85,0.85,0.85,0.85,0.85,0.85,0.85,0.85,0.85,0.85,0.85,0.85,0.85,0.85,0.85,0.85,0.85,0.85,0.85,0.85,0.85,0.85,0.85,0.85,0.85,0.85,0.85,{"$f":"$F$13","v":0.85},0.85,0.85,0.85,0.85,0.85,0.85,0.85,0.85,0.85,0.85,0.85,0.85,0.85,0.85,0.85,0.85,0.85,0.85,0.85,0.85,0.85,0.85,0.85,0.85,0.85,0.85,0.85,0.85,0.85,0.85,0.85,0.85,0.85,0.85,0.85,0.85,0.85,0.85,0.85,0.85,0.85,0.85,0.85,0.85,0.85,0.85,0.85,0.85,0.85,0.85,0.85,0.85,0.85,0.85,0.85,0.85,0.85,0.85,0.85,0.85,0.85,0.85,0.85,{"$f":"$F$13","v":0.85},0.85,0.85,0.85,0.85,0.85,0.85,0.85,0.85,0.85,0.85,0.85,0.85,0.85,0.85,0.85,0.85,0.85,0.85,0.85,0.85,0.85,0.85,0.85,0.85,0.85,0.85,0.85,0.85,0.85,0.85,0.85,0.85,0.85,0.85,0.85,0.85,0.85,0.85,0.85,0.85,0.85,0.85,0.85,0.85,0.85,0.85,0.85,0.85,0.85,0.85,0.85,0.85,0.85,0.85,0.85,0.85,0.85]
[null,null,null,"Partner 1 - Pre-Flip Cash without Flip",null,{"$f":"F42*F40","v":14.166666666666668},14.166666666666668,14.166666666666668,14.166666666666668,14.166666666666668,14.166666666666668,14.166666666666668,14.166666666666668,14.166666666666668,14.166666666666668,14.166666666666668,14.166666666666668,14.166666666666668,14.166666666666668,14.166666666666668,14.166666666666668,14.166666666666668,14.166666666666668,14.166666666666668,14.166666666666668,14.166666666666668,14.166666666666668,14.166666666666668,14.166666666666668,14.166666666666668,14.166666666666668,14.166666666666668,14.166666666666668,14.166666666666668,14.166666666666668,14.166666666666668,14.166666666666668,14.166666666666668,14.166666666666668,14.166666666666668,14.166666666666668,14.166666666666668,14.166666666666668,14.166666666666668,14.166666666666668,14.166666666666668,14.166666666666668,14.166666666666668,14.166666666666668,14.166666666666668,14.166666666666668,14.166666666666668,14.166666666666668,14.166666666666668,14.166666666666668,14.166666666666668,14.166666666666668,14.166666666666668,14.166666666666668,14.166666666666668,14.166666666666668,14.166666666666668,14.166666666666668,14.166666666666668,14.166666666666668,14.166666666666668,14.166666666666668,14.166666666666668,14.166666666666668,{"$f":"BR42*BR40","v":14.166666666666668},14.166666666666668,14.166666666666668,14.166666666666668,14.166666666666668,14.166666666666668,14.166666666666668,14.166666666666668,14.166666666666668,14.166666666666668,14.166666666666668,14.166666666666668,14.166666666666668,14.166666666666668,14.166666666666668,14.166666666666668,14.166666666666668,14.166666666666668,14.166666666666668,14.166666666666668,14.166666666666668,14.166666666666668,14.166666666666668,14.166666666666668,14.166666666666668,14.166666666666668,14.166666666666668,14.166666666666668,14.166666666666668,14.166666666666668,14.166666666666668,14.166666666666668,14.166666666666668,14.166666666666668,14.166666666666668,14.166666666666668,14.166666666666668,14.166666666666668,14.166666666666668,14.166666666666668,14.166666666666668,14.166666666666668,14.166666666666668,14.166666666666668,14.166666666666668,14.166666666666668,14.166666666666668,14.166666666666668,14.166666666666668,14.166666666666668,14.166666666666668,14.166666666666668,14.166666666666668,14.166666666666668,14.166666666666668,14.166666666666668,14.166666666666668,14.166666666666668,14.166666666666668,14.166666666666668,14.166666666666668,14.166666666666668,14.166666666666668,14.166666666666668,{"$f":"ED42*ED40","v":14.166666666666668},14.166666666666668,14.166666666666668,14.166666666666668,14.166666666666668,14.166666666666668,14.166666666666668,14.166666666666668,14.166666666666668,14.166666666666668,14.166666666666668,14.166666666666668,14.166666666666668,14.166666666666668,14.166666666666668,14.166666666666668,0,0,0,0,0,0,0,0,0,0,0,0,0,0,0,0,0,0,0,0,0,0,0,0,0,0,0,0,0,0,0,0,0,0,0,0,0,0,0,0,0,0,0,0,0,0,0,0,{"$f":"GP42*GP40","v":0},0,0,0,0,0,0,0,0,0,0,0,0,0,0,0,0,0,0,0,0,0,0,0,0,0,0,0,0,0,0,0,0,0,0,0,0,0,0,0,0,0,0,0,0,0,0,0,0,0,0,0,0,0,0,0,0,0,0]
[]
[null,null,null,"Days",null,{"$f":"F31-F30+1","v":31},29,31,30,31,30,31,31,30,31,30,31,31,28,31,30,31,30,31,31,30,31,30,31,31,28,31,30,31,30,31,31,30,31,30,31,31,28,31,30,31,30,31,31,30,31,30,31,31,29,31,30,31,30,31,31,30,31,30,31,31,28,31,30,{"$f":"BR31-BR30+1","v":31},30,31,31,30,31,30,31,31,28,31,30,31,30,31,31,30,31,30,31,31,28,31,30,31,30,31,31,30,31,30,31,31,29,31,30,31,30,31,31,30,31,30,31,31,28,31,30,31,30,31,31,30,31,30,31,31,28,31,30,31,30,31,31,{"$f":"ED31-ED30+1","v":30},31,30,31,31,28,31,30,31,30,31,31,30,31,30,31,0,0,0,0,0,0,0,0,0,0,0,0,0,0,0,0,0,0,0,0,0,0,0,0,0,0,0,0,0,0,0,0,0,0,0,0,0,0,0,0,0,0,0,0,0,0,0,0,{"$f":"GP31-GP30+1","v":0},0,0,0,0,0,0,0,0,0,0,0,0,0,0,0,0,0,0,0,0,0,0,0,0,0,0,0,0,0,0,0,0,0,0,0,0,0,0,0,0,0,0,0,0,0,0,0,0,0,0,0,0,0,0,0,0,0,0]
[null,null,null,"Annual Rate",{"$f":"E16","v":0.1},{"$f":"E46","v":0.1},{"$f":"F46","v":0.1},0.1,0.1,0.1,0.1,0.1,0.1,0.1,0.1,0.1,0.1,0.1,0.1,0.1,0.1,0.1,0.1,0.1,0.1,0.1,0.1,0.1,0.1,0.1,0.1,0.1,0.1,0.1,0.1,0.1,0.1,0.1,0.1,0.1,0.1,0.1,0.1,0.1,0.1,0.1,0.1,0.1,0.1,0.1,0.1,0.1,0.1,0.1,0.1,0.1,0.1,0.1,0.1,0.1,0.1,0.1,0.1,0.1,0.1,0.1,0.1,0.1,0.1,0.1,{"$f":"BR46","v":0.1},0.1,0.1,0.1,0.1,0.1,0.1,0.1,0.1,0.1,0.1,0.1,0.1,0.1,0.1,0.1,0.1,0.1,0.1,0.1,0.1,0.1,0.1,0.1,0.1,0.1,0.1,0.1,0.1,0.1,0.1,0.1,0.1,0.1,0.1,0.1,0.1,0.1,0.1,0.1,0.1,0.1,0.1,0.1,0.1,0.1,0.1,0.1,0.1,0.1,0.1,0.1,0.1,0.1,0.1,0.1,0.1,0.1,0.1,0.1,0.1,0.1,0.1,0.1,{"$f":"ED46","v":0.1},0.1,0.1,0.1,0.1,0.1,0.1,0.1,0.1,0.1,0.1,0.1,0.1,0.1,0.1,0.1,0.1,0.1,0.1,0.1,0.1,0.1,0.1,0.1,0.1,0.1,0.1,0.1,0.1,0.1,0.1,0.1,0.1,0.1,0.1,0.1,0.1,0.1,0.1,0.1,0.1,0.1,0.1,0.1,0.1,0.1,0.1,0.1,0.1,0.1,0.1,0.1,0.1,0.1,0.1,0.1,0.1,0.1,0.1,0.1,0.1,0.1,0.1,0.1,{"$f":"GP46","v":0.1},0.1,0.1,0.1,0.1,0.1,0.1,0.1,0.1,0.1,0.1,0.1,0.1,0.1,0.1,0.1,0.1,0.1,0.1,0.1,0.1,0.1,0.1,0.1,0.1,0.1,0.1,0.1,0.1,0.1,0.1,0.1,0.1,0.1,0.1,0.1,0.1,0.1,0.1,0.1,0.1,0.1,0.1,0.1,0.1,0.1,0.1,0.1,0.1,0.1,0.1,0.1,0.1,0.1,0.1,0.1,0.1,0.1]
[null,null,null,"Interest Rate for Flip",{"$f":"(1+$E$16)^(1/12)-1","v":7.9741404289037643E-3},{"$f":"(1+F46)^(F45/365)-1","v":8.1276889668540075E-3},{"$f":"(1+G46)^(G45/365)-1","v":7.6013341962570813E-3},8.1276889668540075E-3,7.8644772206188929E-3,8.1276889668540075E-3,7.8644772206188929E-3,8.1276889668540075E-3,8.1276889668540075E-3,7.8644772206188929E-3,8.1276889668540075E-3,7.8644772206188929E-3,8.1276889668540075E-3,8.1276889668540075E-3,7.3382598758260364E-3,8.1276889668540075E-3,7.8644772206188929E-3,8.1276889668540075E-3,7.8644772206188929E-3,8.1276889668540075E-3,8.1276889668540075E-3,7.8644772206188929E-3,8.1276889668540075E-3,7.8644772206188929E-3,8.1276889668540075E-3,8.1276889668540075E-3,7.3382598758260364E-3,8.1276889668540075E-3,7.8644772206188929E-3,8.1276889668540075E-3,7.8644772206188929E-3,8.1276889668540075E-3,8.1276889668540075E-3,7.8644772206188929E-3,8.1276889668540075E-3,7.8644772206188929E-3,8.1276889668540075E-3,8.1276889668540075E-3,7.3382598758260364E-3,8.1276889668540075E-3,7.8644772206188929E-3,8.1276889668540075E-3,7.8644772206188929E-3,8.1276889668540075E-3,8.1276889668540075E-3,7.8644772206188929E-3,8.1276889668540075E-3,7.8644772206188929E-3,8.1276889668540075E-3,8.1276889668540075E-3,7.6013341962570813E-3,8.1276889668540075E-3,7.8644772206188929E-3,8.1276889668540075E-3,7.8644772206188929E-3,8.1276889668540075E-3,8.1276889668540075E-3,7.8644772206188929E-3,8.1276889668540075E-3,7.8644772206188929E-3,8.1276889668540075E-3,8.1276889668540075E-3,7.3382598758260364E-3,8.1276889668540075E-3,7.8644772206188929E-3,8.1276889668540075E-3,{"$f":"(1+BS46)^(BS45/365)-1","v":7.8644772206188929E-3},8.1276889668540075E-3,8.1276889668540075E-3,7.8644772206188929E-3,8.1276889668540075E-3,7.8644772206188929E-3,8.1276889668540075E-3,8.1276889668540075E-3,7.3382598758260364E-3,8.1276889668540075E-3,7.8644772206188929E-3,8.1276889668540075E-3,7.8644772206188929E-3,8.1276889668540075E-3,8.1276889668540075E-3,7.8644772206188929E-3,8.1276889668540075E-3,7.8644772206188929E-3,8.1276889668540075E-3,8.1276889668540075E-3,7.3382598758260364E-3,8.1276889668540075E-3,7.8644772206188929E-3,8.1276889668540075E-3,7.8644772206188929E-3,8.1276889668540075E-3,8.1276889668540075E-3,7.8644772206188929E-3,8.1276889668540075E-3,7.8644772206188929E-3,8.1276889668540075E-3,8.1276889668540075E-3,7.6013341962570813E-3,8.1276889668540075E-3,7.8644772206188929E-3,8.1276889668540075E-3,7.8644772206188929E-3,8.1276889668540075E-3,8.1276889668540075E-3,7.8644772206188929E-3,8.1276889668540075E-3,7.8644772206188929E-3,8.1276889668540075E-3,8.1276889668540075E-3,7.3382598758260364E-3,8.1276889668540075E-3,7.8644772206188929E-3,8.1276889668540075E-3,7.8644772206188929E-3,8.1276889668540075E-3,8.1276889668540075E-3,7.8644772206188929E-3,8.1276889668540075E-3,7.8644772206188929E-3,8.1276889668540075E-3,8.1276889668540075E-3,7.3382598758260364E-3,8.1276889668540075E-3,7.8644772206188929E-3,8.1276889668540075E-3,7.8644772206188929E-3,8.1276889668540075E-3,8.1276889668540075E-3,7.8644772206188929E-3,{"$f":"(1+EE46)^(EE45/365)-1","v":8.1276889668540075E-3},7.8644772206188929E-3,8.1276889668540075E-3,8.1276889668540075E-3,7.3382598758260364E-3,8.1276889668540075E-3,7.8644772206188929E-3,8.1276889668540075E-3,7.8644772206188929E-3,8.1276889668540075E-3,8.1276889668540075E-3,7.8644772206188929E-3,8.1276889668540075E-3,7.8644772206188929E-3,8.1276889668540075E-3,0,0,0,0,0,0,0,0,0,0,0,0,0,0,0,0,0,0,0,0,0,0,0,0,0,0,0,0,0,0,0,0,0,0,0,0,0,0,0,0,0,0,0,0,0,0,0,0,0,{"$f":"(1+GQ46)^(GQ45/365)-1","v":0},0,0,0,0,0,0,0,0,0,0,0,0,0,0,0,0,0,0,0,0,0,0,0,0,0,0,0,0,0,0,0,0,0,0,0,0,0,0,0,0,0,0,0,0,0,0,0,0,0,0,0,0,0,0,0,0,0]
[]
["Senior - Pre-flip"]
[null,null,"Yield tracking Account"]
[null,null,null,"Opening Balance",null,{"$f":"E55","v":-800},{"$f":"F55","v":-792.33548450681656},-784.19162465343948,-776.39862360236793,-768.33792622514204,-760.41607124427094,-752.22967944809739,-744.17690164762121,-736.0586733738636,-727.6807233769847,-719.42841929710153,-710.91968104586283,-702.53114842715206,-694.07443642442809,-685.00106834541145,-676.40187730421906,-667.55475779359529,-658.81376856661859,-649.82832777547424,-640.94326363881748,-631.98598446440747,-622.78955717631152,-613.68473032217867,-604.34437323777252,-595.08962966565082,-585.75966641630691,-575.89145640658035,-566.40545637625496,-556.69327251889365,-547.0512356212007,-537.18684093558841,-527.3862618291331,-517.5060266640055,-507.40927435557086,-497.36667244976337,-487.11153464887286,-476.90395902799912,-466.61341940737333,-455.87088327386573,-445.40939335549405,-434.74563871672132,-424.11244938124042,-413.28120541171342,-402.47355983847962,-391.57807308356257,-380.49096325275542,-369.41680879010579,-358.15541220108264,-346.89972132658175,-335.55254769754583,-323.93652808633368,-312.4027167649553,-300.69293414794606,-288.97020612456458,-277.0761390614021,-265.16146107316331,-253.1499442880959,-240.9741695916839,-228.76606602450437,-216.39852487293803,-203.99067810932462,-191.4819842264682,-178.72046212159418,-166.00637978306426,-153.14526650867893,{"$f":"BR55","v":-140.22331693494078},-127.15943335010859,-114.02627900691299,-100.78638247006222,-87.412348012479939,-73.956141722321107,-60.371101447554494,-46.695112316039939,-32.907968998550359,-18.982789560380677,-4.9704091029840285,0,0,0,0,0,0,0,0,0,0,0,0,0,0,0,0,0,0,0,0,0,0,0,0,0,0,0,0,0,0,0,0,0,0,0,0,0,0,0,0,0,0,0,0,0,0,0,0,0,0,0,0,0,{"$f":"ED55","v":0},0,0,0,0,0,0,0,0,0,0,0,0,0,0,0,0,0,0,0,0,0,0,0,0,0,0,0,0,0,0,0,0,0,0,0,0,0,0,0,0,0,0,0,0,0,0,0,0,0,0,0,0,0,0,0,0,0,0,0,0,0,0,0,{"$f":"GP55","v":0},0,0,0,0,0,0,0,0,0,0,0,0,0,0,0,0,0,0,0,0,0,0,0,0,0,0,0,0,0,0,0,0,0,0,0,0,0,0,0,0,0,0,0,0,0,0,0,0,0,0,0,0,0,0,0,0,0]
[null,null,null,"Add: Cost of Funds",null,{"$f":"F51*F47","v":-6.502151173483206},{"$f":"G51*G47","v":-6.0228068132895878},-6.3736656155950788,-6.1059692894406847,-6.2448116857955753,-5.9802748704930817,-6.113888866190428,-6.0484383929089711,-5.7887166697877124,-5.9143625867834615,-5.6579284154279126,-5.7781340479558292,-5.7099546639426393,-5.0932985876499499,-5.5674756254742084,-5.3195471560428862,-5.4256774396899035,-5.1812258755222595,-5.2816025300099119,-5.2093874922566163,-4.9702393785707377,-5.0618398125338002,-4.8263095822604223,-4.9119230945449441,-4.8367034173227479,-4.2984566569400293,-4.6806666363412486,-4.454482809305305,-4.5246297689736634,-4.3022719810543517,-4.3660875602113407,-4.286431501539024,-4.0699143582320643,-4.124064760859171,-3.9115288657761824,-3.9590910457929676,-3.8761270460408643,-3.4241305331591136,-3.7051767482949898,-3.5029120278939629,-3.5334773311857943,-3.3354226971396486,-3.3590210934329079,-3.2711799117496669,-3.0795568358595178,-3.0925122040170741,-2.9052700776435123,-2.9109757921657886,-2.8194930376307883,-2.5506470554545406,-2.6328553452882875,-2.4568840496574467,-2.4439386432852199,-2.2725996035041844,-2.2519886784278644,-2.1551498815992378,-1.9908919702546719,-1.9585630994871357,-1.7991255151003123,-1.758819903053261,-1.6579727838102249,-1.4051445617926457,-1.4525843281367306,-1.3055533922813176,-1.2447170929285063,{"$f":"BS51*BS47","v":-1.1027830818344653},-1.033512323471085,-0.92677012981590345,-0.7926322090843877,-0.710460376507836,-0.58162639190005683,-0.49067753515211265,-0.37952334917708652,-0.24148722849698923,-0.15428620927001746,-3.9089669167574677E-2,0,0,0,0,0,0,0,0,0,0,0,0,0,0,0,0,0,0,0,0,0,0,0,0,0,0,0,0,0,0,0,0,0,0,0,0,0,0,0,0,0,0,0,0,0,0,0,0,0,0,0,0,0,{"$f":"EE51*EE47","v":0},0,0,0,0,0,0,0,0,0,0,0,0,0,0,0,0,0,0,0,0,0,0,0,0,0,0,0,0,0,0,0,0,0,0,0,0,0,0,0,0,0,0,0,0,0,0,0,0,0,0,0,0,0,0,0,0,0,0,0,0,0,0,0,{"$f":"GQ51*GQ47","v":0},0,0,0,0,0,0,0,0,0,0,0,0,0,0,0,0,0,0,0,0,0,0,0,0,0,0,0,0,0,0,0,0,0,0,0,0,0,0,0,0,0,0,0,0,0,0,0,0,0,0,0,0,0,0,0,0,0]
[null,null,null,"Sub-total",null,{"$f":"SUM(F51:F52)","v":-806.50215117348318},{"$f":"SUM(G51:G52)","v":-798.3582913201061},-790.56529026903456,-782.50459289180867,-774.58273791093757,-766.39634611476401,-758.34356831428784,-750.22534004053023,-741.84739004365133,-733.59508596376816,-725.08634771252946,-716.69781509381869,-708.24110309109471,-699.16773501207808,-690.56854397088568,-681.72142446026191,-672.98043523328522,-663.99499444214086,-655.10993030548411,-646.15265113107409,-636.95622384297815,-627.85139698884529,-618.51103990443914,-609.25629633231745,-599.92633308297354,-590.05812307324697,-580.57212304292159,-570.85993918556028,-561.21790228786733,-551.35350760225504,-541.55292849579973,-531.67269333067213,-521.57594102223754,-511.53333911643006,-501.27820131553955,-491.07062569466581,-480.78008607404001,-470.03754994053241,-459.57606002216073,-448.912305383388,-438.27911604790711,-427.4478720783801,-416.6402265051463,-405.74473975022926,-394.65762991942211,-383.58347545677248,-372.32207886774933,-361.06638799324844,-349.71921436421252,-338.10319475300037,-326.56938343162199,-314.85960081461275,-303.13687279123127,-291.24280572806879,-279.32812773982999,-267.31661095476255,-255.14083625835056,-242.93273269117103,-230.56519153960468,-218.15734477599128,-205.64865089313486,-192.88712878826084,-180.17304644973092,-167.31193317534559,-154.38998360160744,{"$f":"SUM(BS51:BS52)","v":-141.32610001677526},-128.19294567357966,-114.95304913672889,-101.57901467914661,-88.122808388987778,-74.537768114221166,-60.86177898270661,-47.074635665217023,-33.149456227047345,-19.137075769650696,-5.0094987721516029,0,0,0,0,0,0,0,0,0,0,0,0,0,0,0,0,0,0,0,0,0,0,0,0,0,0,0,0,0,0,0,0,0,0,0,0,0,0,0,0,0,0,0,0,0,0,0,0,0,0,0,0,0,{"$f":"SUM(EE51:EE52)","v":0},0,0,0,0,0,0,0,0,0,0,0,0,0,0,0,0,0,0,0,0,0,0,0,0,0,0,0,0,0,0,0,0,0,0,0,0,0,0,0,0,0,0,0,0,0,0,0,0,0,0,0,0,0,0,0,0,0,0,0,0,0,0,0,{"$f":"SUM(GQ51:GQ52)","v":0},0,0,0,0,0,0,0,0,0,0,0,0,0,0,0,0,0,0,0,0,0,0,0,0,0,0,0,0,0,0,0,0,0,0,0,0,0,0,0,0,0,0,0,0,0,0,0,0,0,0,0,0,0,0,0,0,0]
[null,null,null,"Less: Dividends Received",null,{"$f":"MIN(-F53,F43)","v":14.166666666666668},{"$f":"MIN(-G53,G43)","v":14.166666666666668},14.166666666666668,14.166666666666668,14.166666666666668,14.166666666666668,14.166666666666668,14.166666666666668,14.166666666666668,14.166666666666668,14.166666666666668,14.166666666666668,14.166666666666668,14.166666666666668,14.166666666666668,14.166666666666668,14.166666666666668,14.166666666666668,14.166666666666668,14.166666666666668,14.166666666666668,14.166666666666668,14.166666666666668,14.166666666666668,14.166666666666668,14.166666666666668,14.166666666666668,14.166666666666668,14.166666666666668,14.166666666666668,14.166666666666668,14.166666666666668,14.166666666666668,14.166666666666668,14.166666666666668,14.166666666666668,14.166666666666668,14.166666666666668,14.166666666666668,14.166666666666668,14.166666666666668,14.166666666666668,14.166666666666668,14.166666666666668,14.166666666666668,14.166666666666668,14.166666666666668,14.166666666666668,14.166666666666668,14.166666666666668,14.166666666666668,14.166666666666668,14.166666666666668,14.166666666666668,14.166666666666668,14.166666666666668,14.166666666666668,14.166666666666668,14.166666666666668,14.166666666666668,14.166666666666668,14.166666666666668,14.166666666666668,14.166666666666668,14.166666666666668,{"$f":"MIN(-BS53,BS43)","v":14.166666666666668},14.166666666666668,14.166666666666668,14.166666666666668,14.166666666666668,14.166666666666668,14.166666666666668,14.166666666666668,14.166666666666668,14.166666666666668,5.0094987721516029,0,0,0,0,0,0,0,0,0,0,0,0,0,0,0,0,0,0,0,0,0,0,0,0,0,0,0,0,0,0,0,0,0,0,0,0,0,0,0,0,0,0,0,0,0,0,0,0,0,0,0,0,0,{"$f":"MIN(-EE53,EE43)","v":0},0,0,0,0,0,0,0,0,0,0,0,0,0,0,0,0,0,0,0,0,0,0,0,0,0,0,0,0,0,0,0,0,0,0,0,0,0,0,0,0,0,0,0,0,0,0,0,0,0,0,0,0,0,0,0,0,0,0,0,0,0,0,0,{"$f":"MIN(-GQ53,GQ43)","v":0},0,0,0,0,0,0,0,0,0,0,0,0,0,0,0,0,0,0,0,0,0,0,0,0,0,0,0,0,0,0,0,0,0,0,0,0,0,0,0,0,0,0,0,0,0,0,0,0,0,0,0,0,0,0,0,0,0]
[null,null,null,"Closing Balance of Investment Value",{"$f":"-E19*E13","v":-800},{"$f":"F53+F54","v":-792.33548450681656},{"$f":"G53+G54","v":-784.19162465343948},-776.39862360236793,-768.33792622514204,-760.41607124427094,-752.22967944809739,-744.17690164762121,-736.0586733738636,-727.6807233769847,-719.42841929710153,-710.91968104586283,-702.53114842715206,-694.07443642442809,-685.00106834541145,-676.40187730421906,-667.55475779359529,-658.81376856661859,-649.82832777547424,-640.94326363881748,-631.98598446440747,-622.78955717631152,-613.68473032217867,-604.34437323777252,-595.08962966565082,-585.75966641630691,-575.89145640658035,-566.40545637625496,-556.69327251889365,-547.0512356212007,-537.18684093558841,-527.3862618291331,-517.5060266640055,-507.40927435557086,-497.36667244976337,-487.11153464887286,-476.90395902799912,-466.61341940737333,-455.87088327386573,-445.40939335549405,-434.74563871672132,-424.11244938124042,-413.28120541171342,-402.47355983847962,-391.57807308356257,-380.49096325275542,-369.41680879010579,-358.15541220108264,-346.89972132658175,-335.55254769754583,-323.93652808633368,-312.4027167649553,-300.69293414794606,-288.97020612456458,-277.0761390614021,-265.16146107316331,-253.1499442880959,-240.9741695916839,-228.76606602450437,-216.39852487293803,-203.99067810932462,-191.4819842264682,-178.72046212159418,-166.00637978306426,-153.14526650867893,-140.22331693494078,{"$f":"BS53+BS54","v":-127.15943335010859},-114.02627900691299,-100.78638247006222,-87.412348012479939,-73.956141722321107,-60.371101447554494,-46.695112316039939,-32.907968998550359,-18.982789560380677,-4.9704091029840285,0,0,0,0,0,0,0,0,0,0,0,0,0,0,0,0,0,0,0,0,0,0,0,0,0,0,0,0,0,0,0,0,0,0,0,0,0,0,0,0,0,0,0,0,0,0,0,0,0,0,0,0,0,0,{"$f":"EE53+EE54","v":0},0,0,0,0,0,0,0,0,0,0,0,0,0,0,0,0,0,0,0,0,0,0,0,0,0,0,0,0,0,0,0,0,0,0,0,0,0,0,0,0,0,0,0,0,0,0,0,0,0,0,0,0,0,0,0,0,0,0,0,0,0,0,0,{"$f":"GQ53+GQ54","v":0},0,0,0,0,0,0,0,0,0,0,0,0,0,0,0,0,0,0,0,0,0,0,0,0,0,0,0,0,0,0,0,0,0,0,0,0,0,0,0,0,0,0,0,0,0,0,0,0,0,0,0,0,0,0,0,0,0]
[]
[null,null,null,"Percent of Pre-flip Period",null,{"$f":"IF(F43,F54/F43)","v":1},{"$f":"IF(G43,G54/G43)","v":1},1,1,1,1,1,1,1,1,1,1,1,1,1,1,1,1,1,1,1,1,1,1,1,1,1,1,1,1,1,1,1,1,1,1,1,1,1,1,1,1,1,1,1,1,1,1,1,1,1,1,1,1,1,1,1,1,1,1,1,1,1,1,1,{"$f":"IF(BS43,BS54/BS43)","v":1},1,1,1,1,1,1,1,1,1,0.35361167803423077,0,0,0,0,0,0,0,0,0,0,0,0,0,0,0,0,0,0,0,0,0,0,0,0,0,0,0,0,0,0,0,0,0,0,0,0,0,0,0,0,0,0,0,0,0,0,0,0,0,0,0,0,0,{"$f":"IF(EE43,EE54/EE43)","v":0},0,0,0,0,0,0,0,0,0,0,0,0,0,0,false,false,false,false,false,false,false,false,false,false,false,false,false,false,false,false,false,false,false,false,false,false,false,false,false,false,false,false,false,false,false,false,false,false,false,false,false,false,false,false,false,false,false,false,false,false,false,false,false,{"$f":"IF(GQ43,GQ54/GQ43)","v":false},false,false,false,false,false,false,false,false,false,false,false,false,false,false,false,false,false,false,false,false,false,false,false,false,false,false,false,false,false,false,false,false,false,false,false,false,false,false,false,false,false,false,false,false,false,false,false,false,false,false,false,false,false,false,false,false,false]
[]
[null,null,null,"Pre-flip Cash Flow",{"$f":"E55","v":-800},{"$f":"F54","v":14.166666666666668},{"$f":"G54","v":14.166666666666668},14.166666666666668,14.166666666666668,14.166666666666668,14.166666666666668,14.166666666666668,14.166666666666668,14.166666666666668,14.166666666666668,14.166666666666668,14.166666666666668,14.166666666666668,14.166666666666668,14.166666666666668,14.166666666666668,14.166666666666668,14.166666666666668,14.166666666666668,14.166666666666668,14.166666666666668,14.166666666666668,14.166666666666668,14.166666666666668,14.166666666666668,14.166666666666668,14.166666666666668,14.166666666666668,14.166666666666668,14.166666666666668,14.166666666666668,14.166666666666668,14.166666666666668,14.166666666666668,14.166666666666668,14.166666666666668,14.166666666666668,14.166666666666668,14.166666666666668,14.166666666666668,14.166666666666668,14.166666666666668,14.166666666666668,14.166666666666668,14.166666666666668,14.166666666666668,14.166666666666668,14.166666666666668,14.166666666666668,14.166666666666668,14.166666666666668,14.166666666666668,14.166666666666668,14.166666666666668,14.166666666666668,14.166666666666668,14.166666666666668,14.166666666666668,14.166666666666668,14.166666666666668,14.166666666666668,14.166666666666668,14.166666666666668,14.166666666666668,14.166666666666668,{"$f":"BS54","v":14.166666666666668},14.166666666666668,14.166666666666668,14.166666666666668,14.166666666666668,14.166666666666668,14.166666666666668,14.166666666666668,14.166666666666668,14.166666666666668,5.0094987721516029,0,0,0,0,0,0,0,0,0,0,0,0,0,0,0,0,0,0,0,0,0,0,0,0,0,0,0,0,0,0,0,0,0,0,0,0,0,0,0,0,0,0,0,0,0,0,0,0,0,0,0,0,0,{"$f":"EE54","v":0},0,0,0,0,0,0,0,0,0,0,0,0,0,0,0,0,0,0,0,0,0,0,0,0,0,0,0,0,0,0,0,0,0,0,0,0,0,0,0,0,0,0,0,0,0,0,0,0,0,0,0,0,0,0,0,0,0,0,0,0,0,0,0,{"$f":"GQ54","v":0},0,0,0,0,0,0,0,0,0,0,0,0,0,0,0,0,0,0,0,0,0,0,0,0,0,0,0,0,0,0,0,0,0,0,0,0,0,0,0,0,0,0,0,0,0,0,0,0,0,0,0,0,0,0,0,0,0]
[null,null,null,"Pre-flip IRR Check",{"$f":"XIRR(E59:IV59,E31:IV31)","v":0.10000000596046449}]
[]
["Senior - Post Flip"]
[null,null,null,"Total Cash Flow Post Flip",null,{"$f":"F40*(1-F57)","v":0},{"$f":"G40*(1-G57)","v":0},0,0,0,0,0,0,0,0,0,0,0,0,0,0,0,0,0,0,0,0,0,0,0,0,0,0,0,0,0,0,0,0,0,0,0,0,0,0,0,0,0,0,0,0,0,0,0,0,0,0,0,0,0,0,0,0,0,0,0,0,0,0,0,{"$f":"BS40*(1-BS57)","v":0},0,0,0,0,0,0,0,0,0,10.773138699429488,16.666666666666668,16.666666666666668,16.666666666666668,16.666666666666668,16.666666666666668,16.666666666666668,16.666666666666668,16.666666666666668,16.666666666666668,16.666666666666668,16.666666666666668,16.666666666666668,16.666666666666668,16.666666666666668,16.666666666666668,16.666666666666668,16.666666666666668,16.666666666666668,16.666666666666668,16.666666666666668,16.666666666666668,16.666666666666668,16.666666666666668,16.666666666666668,16.666666666666668,16.666666666666668,16.666666666666668,16.666666666666668,16.666666666666668,16.666666666666668,16.666666666666668,16.666666666666668,16.666666666666668,16.666666666666668,16.666666666666668,16.666666666666668,16.666666666666668,16.666666666666668,16.666666666666668,16.666666666666668,16.666666666666668,16.666666666666668,16.666666666666668,16.666666666666668,16.666666666666668,16.666666666666668,16.666666666666668,16.666666666666668,16.666666666666668,16.666666666666668,16.666666666666668,16.666666666666668,16.666666666666668,{"$f":"EE40*(1-EE57)","v":16.666666666666668},16.666666666666668,16.666666666666668,16.666666666666668,16.666666666666668,16.666666666666668,16.666666666666668,16.666666666666668,16.666666666666668,16.666666666666668,16.666666666666668,16.666666666666668,16.666666666666668,16.666666666666668,16.666666666666668,0,0,0,0,0,0,0,0,0,0,0,0,0,0,0,0,0,0,0,0,0,0,0,0,0,0,0,0,0,0,0,0,0,0,0,0,0,0,0,0,0,0,0,0,0,0,0,0,0,{"$f":"GQ40*(1-GQ57)","v":0},0,0,0,0,0,0,0,0,0,0,0,0,0,0,0,0,0,0,0,0,0,0,0,0,0,0,0,0,0,0,0,0,0,0,0,0,0,0,0,0,0,0,0,0,0,0,0,0,0,0,0,0,0,0,0,0,0]
[null,null,null,"Post-flip Percentage",{"$f":"$G$13","v":0.11},{"$f":"E64","v":0.11},{"$f":"F64","v":0.11},0.11,0.11,0.11,0.11,0.11,0.11,0.11,0.11,0.11,0.11,0.11,0.11,0.11,0.11,0.11,0.11,0.11,0.11,0.11,0.11,0.11,0.11,0.11,0.11,0.11,0.11,0.11,0.11,0.11,0.11,0.11,0.11,0.11,0.11,0.11,0.11,0.11,0.11,0.11,0.11,0.11,0.11,0.11,0.11,0.11,0.11,0.11,0.11,0.11,0.11,0.11,0.11,0.11,0.11,0.11,0.11,0.11,0.11,0.11,0.11,0.11,0.11,0.11,{"$f":"BR64","v":0.11},0.11,0.11,0.11,0.11,0.11,0.11,0.11,0.11,0.11,0.11,0.11,0.11,0.11,0.11,0.11,0.11,0.11,0.11,0.11,0.11,0.11,0.11,0.11,0.11,0.11,0.11,0.11,0.11,0.11,0.11,0.11,0.11,0.11,0.11,0.11,0.11,0.11,0.11,0.11,0.11,0.11,0.11,0.11,0.11,0.11,0.11,0.11,0.11,0.11,0.11,0.11,0.11,0.11,0.11,0.11,0.11,0.11,0.11,0.11,0.11,0.11,0.11,0.11,{"$f":"ED64","v":0.11},0.11,0.11,0.11,0.11,0.11,0.11,0.11,0.11,0.11,0.11,0.11,0.11,0.11,0.11,0.11,0.11,0.11,0.11,0.11,0.11,0.11,0.11,0.11,0.11,0.11,0.11,0.11,0.11,0.11,0.11,0.11,0.11,0.11,0.11,0.11,0.11,0.11,0.11,0.11,0.11,0.11,0.11,0.11,0.11,0.11,0.11,0.11,0.11,0.11,0.11,0.11,0.11,0.11,0.11,0.11,0.11,0.11,0.11,0.11,0.11,0.11,0.11,0.11,{"$f":"GP64","v":0.11},0.11,0.11,0.11,0.11,0.11,0.11,0.11,0.11,0.11,0.11,0.11,0.11,0.11,0.11,0.11,0.11,0.11,0.11,0.11,0.11,0.11,0.11,0.11,0.11,0.11,0.11,0.11,0.11,0.11,0.11,0.11,0.11,0.11,0.11,0.11,0.11,0.11,0.11,0.11,0.11,0.11,0.11,0.11,0.11,0.11,0.11,0.11,0.11,0.11,0.11,0.11,0.11,0.11,0.11,0.11,0.11,0.11]
[null,null,null,"Post-flip Cash Flow",null,{"$f":"F63*F64","v":0},{"$f":"G63*G64","v":0},0,0,0,0,0,0,0,0,0,0,0,0,0,0,0,0,0,0,0,0,0,0,0,0,0,0,0,0,0,0,0,0,0,0,0,0,0,0,0,0,0,0,0,0,0,0,0,0,0,0,0,0,0,0,0,0,0,0,0,0,0,0,0,{"$f":"BS63*BS64","v":0},0,0,0,0,0,0,0,0,0,1.1850452569372436,1.8333333333333335,1.8333333333333335,1.8333333333333335,1.8333333333333335,1.8333333333333335,1.8333333333333335,1.8333333333333335,1.8333333333333335,1.8333333333333335,1.8333333333333335,1.8333333333333335,1.8333333333333335,1.8333333333333335,1.8333333333333335,1.8333333333333335,1.8333333333333335,1.8333333333333335,1.8333333333333335,1.8333333333333335,1.8333333333333335,1.8333333333333335,1.8333333333333335,1.8333333333333335,1.8333333333333335,1.8333333333333335,1.8333333333333335,1.8333333333333335,1.8333333333333335,1.8333333333333335,1.8333333333333335,1.8333333333333335,1.8333333333333335,1.8333333333333335,1.8333333333333335,1.8333333333333335,1.8333333333333335,1.8333333333333335,1.8333333333333335,1.8333333333333335,1.8333333333333335,1.8333333333333335,1.8333333333333335,1.8333333333333335,1.8333333333333335,1.8333333333333335,1.8333333333333335,1.8333333333333335,1.8333333333333335,1.8333333333333335,1.8333333333333335,1.8333333333333335,1.8333333333333335,1.8333333333333335,{"$f":"EE63*EE64","v":1.8333333333333335},1.8333333333333335,1.8333333333333335,1.8333333333333335,1.8333333333333335,1.8333333333333335,1.8333333333333335,1.8333333333333335,1.8333333333333335,1.8333333333333335,1.8333333333333335,1.8333333333333335,1.8333333333333335,1.8333333333333335,1.8333333333333335,0,0,0,0,0,0,0,0,0,0,0,0,0,0,0,0,0,0,0,0,0,0,0,0,0,0,0,0,0,0,0,0,0,0,0,0,0,0,0,0,0,0,0,0,0,0,0,0,0,{"$f":"GQ63*GQ64","v":0},0,0,0,0,0,0,0,0,0,0,0,0,0,0,0,0,0,0,0,0,0,0,0,0,0,0,0,0,0,0,0,0,0,0,0,0,0,0,0,0,0,0,0,0,0,0,0,0,0,0,0,0,0,0,0,0,0]
[]
[null,null,null,"Total Partner 1 Cash Flow",{"$f":"E59","v":-800},{"$f":"F65+F59","v":14.166666666666668},14.166666666666668,14.166666666666668,14.166666666666668,14.166666666666668,14.166666666666668,14.166666666666668,14.166666666666668,14.166666666666668,14.166666666666668,14.166666666666668,14.166666666666668,14.166666666666668,14.166666666666668,14.166666666666668,14.166666666666668,14.166666666666668,14.166666666666668,14.166666666666668,14.166666666666668,14.166666666666668,14.166666666666668,14.166666666666668,14.166666666666668,14.166666666666668,14.166666666666668,14.166666666666668,14.166666666666668,14.166666666666668,14.166666666666668,14.166666666666668,14.166666666666668,14.166666666666668,14.166666666666668,14.166666666666668,14.166666666666668,14.166666666666668,14.166666666666668,14.166666666666668,14.166666666666668,14.166666666666668,14.166666666666668,14.166666666666668,14.166666666666668,14.166666666666668,14.166666666666668,14.166666666666668,14.166666666666668,14.166666666666668,14.166666666666668,14.166666666666668,14.166666666666668,14.166666666666668,14.166666666666668,14.166666666666668,14.166666666666668,14.166666666666668,14.166666666666668,14.166666666666668,14.166666666666668,14.166666666666668,14.166666666666668,14.166666666666668,14.166666666666668,{"$f":"BR65+BR59","v":14.166666666666668},14.166666666666668,14.166666666666668,14.166666666666668,14.166666666666668,14.166666666666668,14.166666666666668,14.166666666666668,14.166666666666668,14.166666666666668,14.166666666666668,6.1945440290888465,1.8333333333333335,1.8333333333333335,1.8333333333333335,1.8333333333333335,1.8333333333333335,1.8333333333333335,1.8333333333333335,1.8333333333333335,1.8333333333333335,1.8333333333333335,1.8333333333333335,1.8333333333333335,1.8333333333333335,1.8333333333333335,1.8333333333333335,1.8333333333333335,1.8333333333333335,1.8333333333333335,1.8333333333333335,1.8333333333333335,1.8333333333333335,1.8333333333333335,1.8333333333333335,1.8333333333333335,1.8333333333333335,1.8333333333333335,1.8333333333333335,1.8333333333333335,1.8333333333333335,1.8333333333333335,1.8333333333333335,1.8333333333333335,1.8333333333333335,1.8333333333333335,1.8333333333333335,1.8333333333333335,1.8333333333333335,1.8333333333333335,1.8333333333333335,1.8333333333333335,1.8333333333333335,1.8333333333333335,1.8333333333333335,1.8333333333333335,1.8333333333333335,1.8333333333333335,1.8333333333333335,1.8333333333333335,1.8333333333333335,1.8333333333333335,1.8333333333333335,1.8333333333333335,{"$f":"ED65+ED59","v":1.8333333333333335},1.8333333333333335,1.8333333333333335,1.8333333333333335,1.8333333333333335,1.8333333333333335,1.8333333333333335,1.8333333333333335,1.8333333333333335,1.8333333333333335,1.8333333333333335,1.8333333333333335,1.8333333333333335,1.8333333333333335,1.8333333333333335,1.8333333333333335,0,0,0,0,0,0,0,0,0,0,0,0,0,0,0,0,0,0,0,0,0,0,0,0,0,0,0,0,0,0,0,0,0,0,0,0,0,0,0,0,0,0,0,0,0,0,0,0,{"$f":"GP65+GP59","v":0},0,0,0,0,0,0,0,0,0,0,0,0,0,0,0,0,0,0,0,0,0,0,0,0,0,0,0,0,0,0,0,0,0,0,0,0,0,0,0,0,0,0,0,0,0,0,0,0,0,0,0,0,0,0,0,0,0,0]
[null,null,null,"Total Partner 2 Cash Flow",{"$f":"-E19-E67","v":-200},{"$f":"F40-F67","v":2.5},{"$f":"G40-G67","v":2.5},2.5,2.5,2.5,2.5,2.5,2.5,2.5,2.5,2.5,2.5,2.5,2.5,2.5,2.5,2.5,2.5,2.5,2.5,2.5,2.5,2.5,2.5,2.5,2.5,2.5,2.5,2.5,2.5,2.5,2.5,2.5,2.5,2.5,2.5,2.5,2.5,2.5,2.5,2.5,2.5,2.5,2.5,2.5,2.5,2.5,2.5,2.5,2.5,2.5,2.5,2.5,2.5,2.5,2.5,2.5,2.5,2.5,2.5,2.5,2.5,2.5,2.5,2.5,{"$f":"BS40-BS67","v":2.5},2.5,2.5,2.5,2.5,2.5,2.5,2.5,2.5,2.5,10.472122637577822,14.833333333333334,14.833333333333334,14.833333333333334,14.833333333333334,14.833333333333334,14.833333333333334,14.833333333333334,14.833333333333334,14.833333333333334,14.833333333333334,14.833333333333334,14.833333333333334,14.833333333333334,14.833333333333334,14.833333333333334,14.833333333333334,14.833333333333334,14.833333333333334,14.833333333333334,14.833333333333334,14.833333333333334,14.833333333333334,14.833333333333334,14.833333333333334,14.833333333333334,14.833333333333334,14.833333333333334,14.833333333333334,14.833333333333334,14.833333333333334,14.833333333333334,14.833333333333334,14.833333333333334,14.833333333333334,14.833333333333334,14.833333333333334,14.833333333333334,14.833333333333334,14.833333333333334,14.833333333333334,14.833333333333334,14.833333333333334,14.833333333333334,14.833333333333334,14.833333333333334,14.833333333333334,14.833333333333334,14.833333333333334,14.833333333333334,14.833333333333334,14.833333333333334,14.833333333333334,14.833333333333334,{"$f":"EE40-EE67","v":14.833333333333334},14.833333333333334,14.833333333333334,14.833333333333334,14.833333333333334,14.833333333333334,14.833333333333334,14.833333333333334,14.833333333333334,14.833333333333334,14.833333333333334,14.833333333333334,14.833333333333334,14.833333333333334,14.833333333333334,0,0,0,0,0,0,0,0,0,0,0,0,0,0,0,0,0,0,0,0,0,0,0,0,0,0,0,0,0,0,0,0,0,0,0,0,0,0,0,0,0,0,0,0,0,0,0,0,0,{"$f":"GQ40-GQ67","v":0},0,0,0,0,0,0,0,0,0,0,0,0,0,0,0,0,0,0,0,0,0,0,0,0,0,0,0,0,0,0,0,0,0,0,0,0,0,0,0,0,0,0,0,0,0,0,0,0,0,0,0,0,0,0,0,0,0]
[null,null,null,"Total Cash Flow",{"$f":"SUM(E67:E68)","v":-1000},{"$f":"SUM(F67:F68)","v":16.666666666666668},16.666666666666668,16.666666666666668,16.666666666666668,16.666666666666668,16.666666666666668,16.666666666666668,16.666666666666668,16.666666666666668,16.666666666666668,16.666666666666668,16.666666666666668,16.666666666666668,16.666666666666668,16.666666666666668,16.666666666666668,16.666666666666668,16.666666666666668,16.666666666666668,16.666666666666668,16.666666666666668,16.666666666666668,16.666666666666668,16.666666666666668,16.666666666666668,16.666666666666668,16.666666666666668,16.666666666666668,16.666666666666668,16.666666666666668,16.666666666666668,16.666666666666668,16.666666666666668,16.666666666666668,16.666666666666668,16.666666666666668,16.666666666666668,16.666666666666668,16.666666666666668,16.666666666666668,16.666666666666668,16.666666666666668,16.666666666666668,16.666666666666668,16.666666666666668,16.666666666666668,16.666666666666668,16.666666666666668,16.666666666666668,16.666666666666668,16.666666666666668,16.666666666666668,16.666666666666668,16.666666666666668,16.666666666666668,16.666666666666668,16.666666666666668,16.666666666666668,16.666666666666668,16.666666666666668,16.666666666666668,16.666666666666668,16.666666666666668,16.666666666666668,{"$f":"SUM(BR67:BR68)","v":16.666666666666668},16.666666666666668,16.666666666666668,16.666666666666668,16.666666666666668,16.666666666666668,16.666666666666668,16.666666666666668,16.666666666666668,16.666666666666668,16.666666666666668,16.666666666666668,16.666666666666668,16.666666666666668,16.666666666666668,16.666666666666668,16.666666666666668,16.666666666666668,16.666666666666668,16.666666666666668,16.666666666666668,16.666666666666668,16.666666666666668,16.666666666666668,16.666666666666668,16.666666666666668,16.666666666666668,16.666666666666668,16.666666666666668,16.666666666666668,16.666666666666668,16.666666666666668,16.666666666666668,16.666666666666668,16.666666666666668,16.666666666666668,16.666666666666668,16.666666666666668,16.666666666666668,16.666666666666668,16.666666666666668,16.666666666666668,16.666666666666668,16.666666666666668,16.666666666666668,16.666666666666668,16.666666666666668,16.666666666666668,16.666666666666668,16.666666666666668,16.666666666666668,16.666666666666668,16.666666666666668,16.666666666666668,16.666666666666668,16.666666666666668,16.666666666666668,16.666666666666668,16.666666666666668,16.666666666666668,16.666666666666668,16.666666666666668,16.666666666666668,16.666666666666668,{"$f":"SUM(ED67:ED68)","v":16.666666666666668},16.666666666666668,16.666666666666668,16.666666666666668,16.666666666666668,16.666666666666668,16.666666666666668,16.666666666666668,16.666666666666668,16.666666666666668,16.666666666666668,16.666666666666668,16.666666666666668,16.666666666666668,16.666666666666668,16.666666666666668,0,0,0,0,0,0,0,0,0,0,0,0,0,0,0,0,0,0,0,0,0,0,0,0,0,0,0,0,0,0,0,0,0,0,0,0,0,0,0,0,0,0,0,0,0,0,0,0,{"$f":"SUM(GP67:GP68)","v":0},0,0,0,0,0,0,0,0,0,0,0,0,0,0,0,0,0,0,0,0,0,0,0,0,0,0,0,0,0,0,0,0,0,0,0,0,0,0,0,0,0,0,0,0,0,0,0,0,0,0,0,0,0,0,0,0,0,0]
[]
[null,null,null,null,"Periodic","Annual"]
[null,null,null,"Overall IRR",{"$f":"XIRR(E69:IV69,E31:IV31)","v":0.18986278176307678},{"$f":"'Annual Analysis'!D55","v":0.16942550857963257}]
[null,null,null,"Partner 1 IRR",{"$f":"XIRR(E67:IV67,E31:IV31)","v":0.12234223484992979},{"$f":"'Annual Analysis'!H5","v":0.11644037670516094}]
[null,null,null,"Partner 2 IRR",{"$f":"XIRR(E68:IV68,E31:IV31)","v":0.29007979035377507},{"$f":"'Annual Analysis'!H6","v":0.25484821958201342}]

{"sheet":"Periodic Analysis 2","index":3,"n_rows":88,"n_cols":256,"rows_kept":88,"cut":false,"hidden":false,"merged":[[10,5,10,6]]}
[]
["Assumptions"]
[null,"Dates and Structure"]
[null,null,null,"Start Date","2012-01-01"]
[null,null,null,"Periods per Year",12]
[null,null,null,"Months per Period",1]
[]
[null,null,null,"Lifetime",{"$f":"'Annual Analysis'!D14","v":12}]
[null,null,null,"Retirement Date",{"$f":"EDATE(E4,E8*12)","v":"2024-01-01"}]
[]
[null,null,null,null,"Percent of","Cash Flow Share"]
[null,null,null,null,"Investment","Pre-Flip","Post-Flip",null,"IRR"]
[null,null,null,"Partner 1",{"$f":"'Annual Analysis'!D5","v":0.8},{"$f":"'Annual Analysis'!E5","v":0.85},{"$f":"'Annual Analysis'!F5","v":0.11},null,{"$f":"E87","v":0.12235705256462096}]
[null,null,null,"Partner 2",{"$f":"'Annual Analysis'!D6","v":0.19999999999999996},{"$f":"'Annual Analysis'!E6","v":0.15000000000000002},{"$f":"'Annual Analysis'!F6","v":0.89},null,{"$f":"E88","v":0.29007309079170218}]
[]
[null,null,null,"Yield for Determing Flip",{"$f":"'Annual Analysis'!D8","v":0.1}]
[]
[null,"Operating Assumptions"]
[null,null,null,"Investment",{"$f":"'Annual Analysis'!D11","v":1000}]
[null,null,null,"Annual Cash Flow",{"$f":"'Annual Analysis'!D12","v":200}]
[null,null,null,"Growth Rate",{"$f":"'Annual Analysis'!D13","v":0}]
[null,null,null,"Monthly Cash",{"$f":"E20/E5","v":16.666666666666668}]
[null,null,null,"Monthly Growth",{"$f":"(1+E21)^(1/12)-1","v":0}]
[]
[]
["Dates"]
[null,null,null,"Date of Flip",{"$f":"E75","v":"2018-04-11T06:06:49.420"}]
[]
[null,null,null,"Period",0,{"$f":"E29+1","v":1},{"$f":"F29+1","v":2},3,4,5,6,7,8,9,10,11,12,13,14,15,16,17,18,19,20,21,22,23,24,25,26,27,28,29,30,31,32,33,34,35,36,37,38,39,40,41,42,43,44,45,46,47,48,49,50,51,52,53,54,55,56,57,58,59,60,61,62,63,64,65,{"$f":"BR29+1","v":66},67,68,69,70,71,72,73,74,75,76,77,78,79,80,81,82,83,84,85,86,87,88,89,90,91,92,93,94,95,96,97,98,99,100,101,102,103,104,105,106,107,108,109,110,111,112,113,114,115,116,117,118,119,120,121,122,123,124,125,126,127,128,129,{"$f":"ED29+1","v":130},131,132,133,134,135,136,137,138,139,140,141,142,143,144,145,146,147,148,149,150,151,152,153,154,155,156,157,158,159,160,161,162,163,164,165,166,167,168,169,170,171,172,173,174,175,176,177,178,179,180,181,182,183,184,185,186,187,188,189,190,191,192,193,{"$f":"GP29+1","v":194},195,196,197,198,199,200,201,202,203,204,205,206,207,208,209,210,211,212,213,214,215,216,217,218,219,220,221,222,223,224,225,226,227,228,229,230,231,232,233,234,235,236,237,238,239,240,241,242,243,244,245,246,247,248,249,250,251]
[null,null,null,"Month per Period",{"$f":"E6","v":1},{"$f":"E30","v":1},{"$f":"F30","v":1},1,1,1,1,1,1,1,1,1,1,1,1,1,1,1,1,1,1,1,1,1,1,1,1,1,1,1,1,1,1,1,1,1,1,1,1,1,1,1,1,1,1,1,1,1,1,1,1,1,1,1,1,1,1,1,1,1,1,1,1,1,1,1,{"$f":"BR30","v":1},1,1,1,1,1,1,1,1,1,1,1,1,1,1,1,1,1,1,1,1,1,1,1,1,1,1,1,1,1,1,1,1,1,1,1,1,1,1,1,1,1,1,1,1,1,1,1,1,1,1,1,1,1,1,1,1,1,1,1,1,1,1,1,{"$f":"ED30","v":1},1,1,1,1,1,1,1,1,1,1,1,1,1,1,1,1,1,1,1,1,1,1,1,1,1,1,1,1,1,1,1,1,1,1,1,1,1,1,1,1,1,1,1,1,1,1,1,1,1,1,1,1,1,1,1,1,1,1,1,1,1,1,1,{"$f":"GP30","v":1},1,1,1,1,1,1,1,1,1,1,1,1,1,1,1,1,1,1,1,1,1,1,1,1,1,1,1,1,1,1,1,1,1,1,1,1,1,1,1,1,1,1,1,1,1,1,1,1,1,1,1,1,1,1,1,1,1]
[]
[null,"Unadjusted"]
[null,null,null,"Start Period",null,{"$f":"E34+1","v":"2012-01-01"},{"$f":"F34+1","v":"2012-02-01"},"2012-03-01","2012-04-01","2012-05-01","2012-06-01","2012-07-01","2012-08-01","2012-09-01","2012-10-01","2012-11-01","2012-12-01","2013-01-01","2013-02-01","2013-03-01","2013-04-01","2013-05-01","2013-06-01","2013-07-01","2013-08-01","2013-09-01","2013-10-01","2013-11-01","2013-12-01","2014-01-01","2014-02-01","2014-03-01","2014-04-01","2014-05-01","2014-06-01","2014-07-01","2014-08-01","2014-09-01","2014-10-01","2014-11-01","2014-12-01","2015-01-01","2015-02-01","2015-03-01","2015-04-01","2015-05-01","2015-06-01","2015-07-01","2015-08-01","2015-09-01","2015-10-01","2015-11-01","2015-12-01","2016-01-01","2016-02-01","2016-03-01","2016-04-01","2016-05-01","2016-06-01","2016-07-01","2016-08-01","2016-09-01","2016-10-01","2016-11-01","2016-12-01","2017-01-01","2017-02-01","2017-03-01","2017-04-01","2017-05-01",{"$f":"BR34+1","v":"2017-06-01"},"2017-07-01","2017-08-01","2017-09-01","2017-10-01","2017-11-01","2017-12-01","2018-01-01","2018-02-01","2018-03-01","2018-04-01","2018-05-01","2018-06-01","2018-07-01","2018-08-01","2018-09-01","2018-10-01","2018-11-01","2018-12-01","2019-01-01","2019-02-01","2019-03-01","2019-04-01","2019-05-01","2019-06-01","2019-07-01","2019-08-01","2019-09-01","2019-10-01","2019-11-01","2019-12-01","2020-01-01","2020-02-01","2020-03-01","2020-04-01","2020-05-01","2020-06-01","2020-07-01","2020-08-01","2020-09-01","2020-10-01","2020-11-01","2020-12-01","2021-01-01","2021-02-01","2021-03-01","2021-04-01","2021-05-01","2021-06-01","2021-07-01","2021-08-01","2021-09-01","2021-10-01","2021-11-01","2021-12-01","2022-01-01","2022-02-01","2022-03-01","2022-04-01","2022-05-01","2022-06-01","2022-07-01","2022-08-01","2022-09-01",{"$f":"ED34+1","v":"2022-10-01"},"2022-11-01","2022-12-01","2023-01-01","2023-02-01","2023-03-01","2023-04-01","2023-05-01","2023-06-01","2023-07-01","2023-08-01","2023-09-01","2023-10-01","2023-11-01","2023-12-01","2024-01-01","2024-01-02","2024-01-02","2024-01-02","2024-01-02","2024-01-02","2024-01-02","2024-01-02","2024-01-02","2024-01-02","2024-01-02","2024-01-02","2024-01-02","2024-01-02","2024-01-02","2024-01-02","2024-01-02","2024-01-02","2024-01-02","2024-01-02","2024-01-02","2024-01-02","2024-01-02","2024-01-02","2024-01-02","2024-01-02","2024-01-02","2024-01-02","2024-01-02","2024-01-02","2024-01-02","2024-01-02","2024-01-02","2024-01-02","2024-01-02","2024-01-02","2024-01-02","2024-01-02","2024-01-02","2024-01-02","2024-01-02","2024-01-02","2024-01-02","2024-01-02","2024-01-02","2024-01-02","2024-01-02","2024-01-02","2024-01-02",{"$f":"GP34+1","v":"2024-01-02"},"2024-01-02","2024-01-02","2024-01-02","2024-01-02","2024-01-02","2024-01-02","2024-01-02","2024-01-02","2024-01-02","2024-01-02","2024-01-02","2024-01-02","2024-01-02","2024-01-02","2024-01-02","2024-01-02","2024-01-02","2024-01-02","2024-01-02","2024-01-02","2024-01-02","2024-01-02","2024-01-02","2024-01-02","2024-01-02","2024-01-02","2024-01-02","2024-01-02","2024-01-02","2024-01-02","2024-01-02","2024-01-02","2024-01-02","2024-01-02","2024-01-02","2024-01-02","2024-01-02","2024-01-02","2024-01-02","2024-01-02","2024-01-02","2024-01-02","2024-01-02","2024-01-02","2024-01-02","2024-01-02","2024-01-02","2024-01-02","2024-01-02","2024-01-02","2024-01-02","2024-01-02","2024-01-02","2024-01-02","2024-01-02","2024-01-02","2024-01-02"]
[null,null,null,"End Period",{"$f":"E4-1","v":"2011-12-31"},{"$f":"MIN(EDATE(F33,F30)-1,$E$9)","v":"2012-01-31"},"2012-02-29","2012-03-31","2012-04-30","2012-05-31","2012-06-30","2012-07-31","2012-08-31","2012-09-30","2012-10-31","2012-11-30","2012-12-31","2013-01-31","2013-02-28","2013-03-31","2013-04-30","2013-05-31","2013-06-30","2013-07-31","2013-08-31","2013-09-30","2013-10-31","2013-11-30","2013-12-31","2014-01-31","2014-02-28","2014-03-31","2014-04-30","2014-05-31","2014-06-30","2014-07-31","2014-08-31","2014-09-30","2014-10-31","2014-11-30","2014-12-31","2015-01-31","2015-02-28","2015-03-31","2015-04-30","2015-05-31","2015-06-30","2015-07-31","2015-08-31","2015-09-30","2015-10-31","2015-11-30","2015-12-31","2016-01-31","2016-02-29","2016-03-31","2016-04-30","2016-05-31","2016-06-30","2016-07-31","2016-08-31","2016-09-30","2016-10-31","2016-11-30","2016-12-31","2017-01-31","2017-02-28","2017-03-31","2017-04-30",{"$f":"MIN(EDATE(BR33,BR30)-1,$E$9)","v":"2017-05-31"},"2017-06-30","2017-07-31","2017-08-31","2017-09-30","2017-10-31","2017-11-30","2017-12-31","2018-01-31","2018-02-28","2018-03-31","2018-04-30","2018-05-31","2018-06-30","2018-07-31","2018-08-31","2018-09-30","2018-10-31","2018-11-30","2018-12-31","2019-01-31","2019-02-28","2019-03-31","2019-04-30","2019-05-31","2019-06-30","2019-07-31","2019-08-31","2019-09-30","2019-10-31","2019-11-30","2019-12-31","2020-01-31","2020-02-29","2020-03-31","2020-04-30","2020-05-31","2020-06-30","2020-07-31","2020-08-31","2020-09-30","2020-10-31","2020-11-30","2020-12-31","2021-01-31","2021-02-28","2021-03-31","2021-04-30","2021-05-31","2021-06-30","2021-07-31","2021-08-31","2021-09-30","2021-10-31","2021-11-30","2021-12-31","2022-01-31","2022-02-28","2022-03-31","2022-04-30","2022-05-31","2022-06-30","2022-07-31","2022-08-31",{"$f":"MIN(EDATE(ED33,ED30)-1,$E$9)","v":"2022-09-30"},"2022-10-31","2022-11-30","2022-12-31","2023-01-31","2023-02-28","2023-03-31","2023-04-30","2023-05-31","2023-06-30","2023-07-31","2023-08-31","2023-09-30","2023-10-31","2023-11-30","2023-12-31","2024-01-01","2024-01-01","2024-01-01","2024-01-01","2024-01-01","2024-01-01","2024-01-01","2024-01-01","2024-01-01","2024-01-01","2024-01-01","2024-01-01","2024-01-01","2024-01-01","2024-01-01","2024-01-01","2024-01-01","2024-01-01","2024-01-01","2024-01-01","2024-01-01","2024-01-01","2024-01-01","2024-01-01","2024-01-01","2024-01-01","2024-01-01","2024-01-01","2024-01-01","2024-01-01","2024-01-01","2024-01-01","2024-01-01","2024-01-01","2024-01-01","2024-01-01","2024-01-01","2024-01-01","2024-01-01","2024-01-01","2024-01-01","2024-01-01","2024-01-01","2024-01-01","2024-01-01","2024-01-01","2024-01-01","2024-01-01",{"$f":"MIN(EDATE(GP33,GP30)-1,$E$9)","v":"2024-01-01"},"2024-01-01","2024-01-01","2024-01-01","2024-01-01","2024-01-01","2024-01-01","2024-01-01","2024-01-01","2024-01-01","2024-01-01","2024-01-01","2024-01-01","2024-01-01","2024-01-01","2024-01-01","2024-01-01","2024-01-01","2024-01-01","2024-01-01","2024-01-01","2024-01-01","2024-01-01","2024-01-01","2024-01-01","2024-01-01","2024-01-01","2024-01-01","2024-01-01","2024-01-01","2024-01-01","2024-01-01","2024-01-01","2024-01-01","2024-01-01","2024-01-01","2024-01-01","2024-01-01","2024-01-01","2024-01-01","2024-01-01","2024-01-01","2024-01-01","2024-01-01","2024-01-01","2024-01-01","2024-01-01","2024-01-01","2024-01-01","2024-01-01","2024-01-01","2024-01-01","2024-01-01","2024-01-01","2024-01-01","2024-01-01","2024-01-01","2024-01-01","2024-01-01"]
[]
[null,null,null,"Flip Period",null,{"$f":"AND($E$27>F33,$E$27<=F34)","v":false},{"$f":"AND($E$27>G33,$E$27<=G34)","v":false},false,false,false,false,false,false,false,false,false,false,false,false,false,false,false,false,false,false,false,false,false,false,false,false,false,false,false,false,false,false,false,false,false,false,false,false,false,false,false,false,false,false,false,false,false,false,false,false,false,false,false,false,false,false,false,false,false,false,false,false,false,false,false,{"$f":"AND($E$27>BS33,$E$27<=BS34)","v":false},false,false,false,false,false,false,false,false,false,true,false,false,false,false,false,false,false,false,false,false,false,false,false,false,false,false,false,false,false,false,false,false,false,false,false,false,false,false,false,false,false,false,false,false,false,false,false,false,false,false,false,false,false,false,false,false,false,false,false,false,false,false,false,{"$f":"AND($E$27>EE33,$E$27<=EE34)","v":false},false,false,false,false,false,false,false,false,false,false,false,false,false,false,false,false,false,false,false,false,false,false,false,false,false,false,false,false,false,false,false,false,false,false,false,false,false,false,false,false,false,false,false,false,false,false,false,false,false,false,false,false,false,false,false,false,false,false,false,false,false,false,false,{"$f":"AND($E$27>GQ33,$E$27<=GQ34)","v":false},false,false,false,false,false,false,false,false,false,false,false,false,false,false,false,false,false,false,false,false,false,false,false,false,false,false,false,false,false,false,false,false,false,false,false,false,false,false,false,false,false,false,false,false,false,false,false,false,false,false,false,false,false,false,false,false,false]
[null,null,null,"Post-flip Period",null,{"$f":"F40>=$E$27","v":false},{"$f":"G40>=$E$27","v":false},false,false,false,false,false,false,false,false,false,false,false,false,false,false,false,false,false,false,false,false,false,false,false,false,false,false,false,false,false,false,false,false,false,false,false,false,false,false,false,false,false,false,false,false,false,false,false,false,false,false,false,false,false,false,false,false,false,false,false,false,false,false,false,{"$f":"BS40>=$E$27","v":false},false,false,false,false,false,false,false,false,false,false,true,true,true,true,true,true,true,true,true,true,true,true,true,true,true,true,true,true,true,true,true,true,true,true,true,true,true,true,true,true,true,true,true,true,true,true,true,true,true,true,true,true,true,true,true,true,true,true,true,true,true,true,true,{"$f":"EE40>=$E$27","v":true},true,true,true,true,true,true,true,true,true,true,true,true,true,true,true,true,true,true,true,true,true,true,true,true,true,true,true,true,true,true,true,true,true,true,true,true,true,true,true,true,true,true,true,true,true,true,true,true,true,true,true,true,true,true,true,true,true,true,true,true,true,true,true,{"$f":"GQ40>=$E$27","v":true},true,true,true,true,true,true,true,true,true,true,true,true,true,true,true,true,true,true,true,true,true,true,true,true,true,true,true,true,true,true,true,true,true,true,true,true,true,true,true,true,true,true,true,true,true,true,true,true,true,true,true,true,true,true,true,true,true]
[]
[null,"Adjusted"]
[null,null,null,"Start Period",null,{"$f":"E41+1","v":"2012-01-01"},{"$f":"F41+1","v":"2012-02-01"},"2012-03-01","2012-04-01","2012-05-01","2012-06-01","2012-07-01","2012-08-01","2012-09-01","2012-10-01","2012-11-01","2012-12-01","2013-01-01","2013-02-01","2013-03-01","2013-04-01","2013-05-01","2013-06-01","2013-07-01","2013-08-01","2013-09-01","2013-10-01","2013-11-01","2013-12-01","2014-01-01","2014-02-01","2014-03-01","2014-04-01","2014-05-01","2014-06-01","2014-07-01","2014-08-01","2014-09-01","2014-10-01","2014-11-01","2014-12-01","2015-01-01","2015-02-01","2015-03-01","2015-04-01","2015-05-01","2015-06-01","2015-07-01","2015-08-01","2015-09-01","2015-10-01","2015-11-01","2015-12-01","2016-01-01","2016-02-01","2016-03-01","2016-04-01","2016-05-01","2016-06-01","2016-07-01","2016-08-01","2016-09-01","2016-10-01","2016-11-01","2016-12-01","2017-01-01","2017-02-01","2017-03-01","2017-04-01","2017-05-01",{"$f":"BR41+1","v":"2017-06-01"},"2017-07-01","2017-08-01","2017-09-01","2017-10-01","2017-11-01","2017-12-01","2018-01-01","2018-02-01","2018-03-01","2018-04-01","2018-04-11T06:06:49.420","2018-05-01","2018-06-01","2018-07-01","2018-08-01","2018-09-01","2018-10-01","2018-11-01","2018-12-01","2019-01-01","2019-02-01","2019-03-01","2019-04-01","2019-05-01","2019-06-01","2019-07-01","2019-08-01","2019-09-01","2019-10-01","2019-11-01","2019-12-01","2020-01-01","2020-02-01","2020-03-01","2020-04-01","2020-05-01","2020-06-01","2020-07-01","2020-08-01","2020-09-01","2020-10-01","2020-11-01","2020-12-01","2021-01-01","2021-02-01","2021-03-01","2021-04-01","2021-05-01","2021-06-01","2021-07-01","2021-08-01","2021-09-01","2021-10-01","2021-11-01","2021-12-01","2022-01-01","2022-02-01","2022-03-01","2022-04-01","2022-05-01","2022-06-01","2022-07-01","2022-08-01",{"$f":"ED41+1","v":"2022-09-01"},"2022-10-01","2022-11-01","2022-12-01","2023-01-01","2023-02-01","2023-03-01","2023-04-01","2023-05-01","2023-06-01","2023-07-01","2023-08-01","2023-09-01","2023-10-01","2023-11-01","2023-12-01","2024-01-01","2024-02-01","2024-03-01","2024-04-01","2024-05-01","2024-06-01","2024-07-01","2024-08-01","2024-09-01","2024-10-01","2024-11-01","2024-12-01","2025-01-01","2025-02-01","2025-03-01","2025-04-01","2025-05-01","2025-06-01","2025-07-01","2025-08-01","2025-09-01","2025-10-01","2025-11-01","2025-12-01","2026-01-01","2026-02-01","2026-03-01","2026-04-01","2026-05-01","2026-06-01","2026-07-01","2026-08-01","2026-09-01","2026-10-01","2026-11-01","2026-12-01","2027-01-01","2027-02-01","2027-03-01","2027-04-01","2027-05-01","2027-06-01","2027-07-01","2027-08-01","2027-09-01","2027-10-01","2027-11-01","2027-12-01",{"$f":"GP41+1","v":"2028-01-01"},"2028-02-01","2028-03-01","2028-04-01","2028-05-01","2028-06-01","2028-07-01","2028-08-01","2028-09-01","2028-10-01","2028-11-01","2028-12-01","2029-01-01","2029-02-01","2029-03-01","2029-04-01","2029-05-01","2029-06-01","2029-07-01","2029-08-01","2029-09-01","2029-10-01","2029-11-01","2029-12-01","2030-01-01","2030-02-01","2030-03-01","2030-04-01","2030-05-01","2030-06-01","2030-07-01","2030-08-01","2030-09-01","2030-10-01","2030-11-01","2030-12-01","2031-01-01","2031-02-01","2031-03-01","2031-04-01","2031-05-01","2031-06-01","2031-07-01","2031-08-01","2031-09-01","2031-10-01","2031-11-01","2031-12-01","2032-01-01","2032-02-01","2032-03-01","2032-04-01","2032-05-01","2032-06-01","2032-07-01","2032-08-01","2032-09-01","2032-10-01"]
[null,null,null,"End Period",{"$f":"E34","v":"2011-12-31"},{"$f":"IF(F36,$E$27-1,EOMONTH(F40,F30-1))","v":"2012-01-31"},"2012-02-29","2012-03-31","2012-04-30","2012-05-31","2012-06-30","2012-07-31","2012-08-31","2012-09-30","2012-10-31","2012-11-30","2012-12-31","2013-01-31","2013-02-28","2013-03-31","2013-04-30","2013-05-31","2013-06-30","2013-07-31","2013-08-31","2013-09-30","2013-10-31","2013-11-30","2013-12-31","2014-01-31","2014-02-28","2014-03-31","2014-04-30","2014-05-31","2014-06-30","2014-07-31","2014-08-31","2014-09-30","2014-10-31","2014-11-30","2014-12-31","2015-01-31","2015-02-28","2015-03-31","2015-04-30","2015-05-31","2015-06-30","2015-07-31","2015-08-31","2015-09-30","2015-10-31","2015-11-30","2015-12-31","2016-01-31","2016-02-29","2016-03-31","2016-04-30","2016-05-31","2016-06-30","2016-07-31","2016-08-31","2016-09-30","2016-10-31","2016-11-30","2016-12-31","2017-01-31","2017-02-28","2017-03-31","2017-04-30",{"$f":"IF(BR36,$E$27-1,EOMONTH(BR40,BR30-1))","v":"2017-05-31"},"2017-06-30","2017-07-31","2017-08-31","2017-09-30","2017-10-31","2017-11-30","2017-12-31","2018-01-31","2018-02-28","2018-03-31","2018-04-10T06:06:49.420","2018-04-30","2018-05-31","2018-06-30","2018-07-31","2018-08-31","2018-09-30","2018-10-31","2018-11-30","2018-12-31","2019-01-31","2019-02-28","2019-03-31","2019-04-30","2019-05-31","2019-06-30","2019-07-31","2019-08-31","2019-09-30","2019-10-31","2019-11-30","2019-12-31","2020-01-31","2020-02-29","2020-03-31","2020-04-30","2020-05-31","2020-06-30","2020-07-31","2020-08-31","2020-09-30","2020-10-31","2020-11-30","2020-12-31","2021-01-31","2021-02-28","2021-03-31","2021-04-30","2021-05-31","2021-06-30","2021-07-31","2021-08-31","2021-09-30","2021-10-31","2021-11-30","2021-12-31","2022-01-31","2022-02-28","2022-03-31","2022-04-30","2022-05-31","2022-06-30","2022-07-31",{"$f":"IF(ED36,$E$27-1,EOMONTH(ED40,ED30-1))","v":"2022-08-31"},"2022-09-30","2022-10-31","2022-11-30","2022-12-31","2023-01-31","2023-02-28","2023-03-31","2023-04-30","2023-05-31","2023-06-30","2023-07-31","2023-08-31","2023-09-30","2023-10-31","2023-11-30","2023-12-31","2024-01-31","2024-02-29","2024-03-31","2024-04-30","2024-05-31","2024-06-30","2024-07-31","2024-08-31","2024-09-30","2024-10-31","2024-11-30","2024-12-31","2025-01-31","2025-02-28","2025-03-31","2025-04-30","2025-05-31","2025-06-30","2025-07-31","2025-08-31","2025-09-30","2025-10-31","2025-11-30","2025-12-31","2026-01-31","2026-02-28","2026-03-31","2026-04-30","2026-05-31","2026-06-30","2026-07-31","2026-08-31","2026-09-30","2026-10-31","2026-11-30","2026-12-31","2027-01-31","2027-02-28","2027-03-31","2027-04-30","2027-05-31","2027-06-30","2027-07-31","2027-08-31","2027-09-30","2027-10-31","2027-11-30",{"$f":"IF(GP36,$E$27-1,EOMONTH(GP40,GP30-1))","v":"2027-12-31"},"2028-01-31","2028-02-29","2028-03-31","2028-04-30","2028-05-31","2028-06-30","2028-07-31","2028-08-31","2028-09-30","2028-10-31","2028-11-30","2028-12-31","2029-01-31","2029-02-28","2029-03-31","2029-04-30","2029-05-31","2029-06-30","2029-07-31","2029-08-31","2029-09-30","2029-10-31","2029-11-30","2029-12-31","2030-01-31","2030-02-28","2030-03-31","2030-04-30","2030-05-31","2030-06-30","2030-07-31","2030-08-31","2030-09-30","2030-10-31","2030-11-30","2030-12-31","2031-01-31","2031-02-28","2031-03-31","2031-04-30","2031-05-31","2031-06-30","2031-07-31","2031-08-31","2031-09-30","2031-10-31","2031-11-30","2031-12-31","2032-01-31","2032-02-29","2032-03-31","2032-04-30","2032-05-31","2032-06-30","2032-07-31","2032-08-31","2032-09-30","2032-10-31"]
[null,null,null,"Year",{"$f":"YEAR(E41)","v":2011},{"$f":"YEAR(F41)","v":2012},2012,2012,2012,2012,2012,2012,2012,2012,2012,2012,2012,2013,2013,2013,2013,2013,2013,2013,2013,2013,2013,2013,2013,2014,2014,2014,2014,2014,2014,2014,2014,2014,2014,2014,2014,2015,2015,2015,2015,2015,2015,2015,2015,2015,2015,2015,2015,2016,2016,2016,2016,2016,2016,2016,2016,2016,2016,2016,2016,2017,2017,2017,2017,{"$f":"YEAR(BR41)","v":2017},2017,2017,2017,2017,2017,2017,2017,2018,2018,2018,2018,2018,2018,2018,2018,2018,2018,2018,2018,2018,2019,2019,2019,2019,2019,2019,2019,2019,2019,2019,2019,2019,2020,2020,2020,2020,2020,2020,2020,2020,2020,2020,2020,2020,2021,2021,2021,2021,2021,2021,2021,2021,2021,2021,2021,2021,2022,2022,2022,2022,2022,2022,2022,{"$f":"YEAR(ED41)","v":2022},2022,2022,2022,2022,2023,2023,2023,2023,2023,2023,2023,2023,2023,2023,2023,2023,2024,2024,2024,2024,2024,2024,2024,2024,2024,2024,2024,2024,2025,2025,2025,2025,2025,2025,2025,2025,2025,2025,2025,2025,2026,2026,2026,2026,2026,2026,2026,2026,2026,2026,2026,2026,2027,2027,2027,2027,2027,2027,2027,2027,2027,2027,2027,{"$f":"YEAR(GP41)","v":2027},2028,2028,2028,2028,2028,2028,2028,2028,2028,2028,2028,2028,2029,2029,2029,2029,2029,2029,2029,2029,2029,2029,2029,2029,2030,2030,2030,2030,2030,2030,2030,2030,2030,2030,2030,2030,2031,2031,2031,2031,2031,2031,2031,2031,2031,2031,2031,2031,2032,2032,2032,2032,2032,2032,2032,2032,2032,2032]
[null,null,null,"Days",null,{"$f":"F41-F40+1","v":31},{"$f":"G41-G40+1","v":29},31,30,31,30,31,31,30,31,30,31,31,28,31,30,31,30,31,31,30,31,30,31,31,28,31,30,31,30,31,31,30,31,30,31,31,28,31,30,31,30,31,31,30,31,30,31,31,29,31,30,31,30,31,31,30,31,30,31,31,28,31,30,31,{"$f":"BS41-BS40+1","v":30},31,31,30,31,30,31,31,28,31,10.254738662995805,19.745261337004195,31,30,31,31,30,31,30,31,31,28,31,30,31,30,31,31,30,31,30,31,31,29,31,30,31,30,31,31,30,31,30,31,31,28,31,30,31,30,31,31,30,31,30,31,31,28,31,30,31,30,31,31,{"$f":"EE41-EE40+1","v":30},31,30,31,31,28,31,30,31,30,31,31,30,31,30,31,31,29,31,30,31,30,31,31,30,31,30,31,31,28,31,30,31,30,31,31,30,31,30,31,31,28,31,30,31,30,31,31,30,31,30,31,31,28,31,30,31,30,31,31,30,31,30,31,{"$f":"GQ41-GQ40+1","v":31},29,31,30,31,30,31,31,30,31,30,31,31,28,31,30,31,30,31,31,30,31,30,31,31,28,31,30,31,30,31,31,30,31,30,31,31,28,31,30,31,30,31,31,30,31,30,31,31,29,31,30,31,30,31,31,30,31]
[null,null,null,"Days 360",null,{"$f":"DAYS360(F40,F41+1)","v":30},{"$f":"DAYS360(G40,G41+1)","v":30},30,30,30,30,30,30,30,30,30,30,30,30,30,30,30,30,30,30,30,30,30,30,30,30,30,30,30,30,30,30,30,30,30,30,30,30,30,30,30,30,30,30,30,30,30,30,30,30,30,30,30,30,30,30,30,30,30,30,30,30,30,30,30,{"$f":"DAYS360(BS40,BS41+1)","v":30},30,30,30,30,30,30,30,30,30,10,20,30,30,30,30,30,30,30,30,30,30,30,30,30,30,30,30,30,30,30,30,30,30,30,30,30,30,30,30,30,30,30,30,30,30,30,30,30,30,30,30,30,30,30,30,30,30,30,30,30,30,30,30,{"$f":"DAYS360(EE40,EE41+1)","v":30},30,30,30,30,30,30,30,30,30,30,30,30,30,30,30,30,30,30,30,30,30,30,30,30,30,30,30,30,30,30,30,30,30,30,30,30,30,30,30,30,30,30,30,30,30,30,30,30,30,30,30,30,30,30,30,30,30,30,30,30,30,30,30,{"$f":"DAYS360(GQ40,GQ41+1)","v":30},30,30,30,30,30,30,30,30,30,30,30,30,30,30,30,30,30,30,30,30,30,30,30,30,30,30,30,30,30,30,30,30,30,30,30,30,30,30,30,30,30,30,30,30,30,30,30,30,30,30,30,30,30,30,30,30,30]
[]
[null,null,null,"Operating",null,{"$f":"F33<=$E$9","v":true},{"$f":"G33<=$E$9","v":true},true,true,true,true,true,true,true,true,true,true,true,true,true,true,true,true,true,true,true,true,true,true,true,true,true,true,true,true,true,true,true,true,true,true,true,true,true,true,true,true,true,true,true,true,true,true,true,true,true,true,true,true,true,true,true,true,true,true,true,true,true,true,true,{"$f":"BS33<=$E$9","v":true},true,true,true,true,true,true,true,true,true,true,true,true,true,true,true,true,true,true,true,true,true,true,true,true,true,true,true,true,true,true,true,true,true,true,true,true,true,true,true,true,true,true,true,true,true,true,true,true,true,true,true,true,true,true,true,true,true,true,true,true,true,true,true,{"$f":"EE33<=$E$9","v":true},true,true,true,true,true,true,true,true,true,true,true,true,true,true,true,false,false,false,false,false,false,false,false,false,false,false,false,false,false,false,false,false,false,false,false,false,false,false,false,false,false,false,false,false,false,false,false,false,false,false,false,false,false,false,false,false,false,false,false,false,false,false,false,{"$f":"GQ33<=$E$9","v":false},false,false,false,false,false,false,false,false,false,false,false,false,false,false,false,false,false,false,false,false,false,false,false,false,false,false,false,false,false,false,false,false,false,false,false,false,false,false,false,false,false,false,false,false,false,false,false,false,false,false,false,false,false,false,false,false,false]
[]
[null,null,null,"Cash Flow for Full Period",{"$f":"E22","v":16.666666666666668},{"$f":"E48*(1+$E$23)*F46","v":16.666666666666668},{"$f":"F48*(1+$E$23)*G46","v":16.666666666666668},16.666666666666668,16.666666666666668,16.666666666666668,16.666666666666668,16.666666666666668,16.666666666666668,16.666666666666668,16.666666666666668,16.666666666666668,16.666666666666668,16.666666666666668,16.666666666666668,16.666666666666668,16.666666666666668,16.666666666666668,16.666666666666668,16.666666666666668,16.666666666666668,16.666666666666668,16.666666666666668,16.666666666666668,16.666666666666668,16.666666666666668,16.666666666666668,16.666666666666668,16.666666666666668,16.666666666666668,16.666666666666668,16.666666666666668,16.666666666666668,16.666666666666668,16.666666666666668,16.666666666666668,16.666666666666668,16.666666666666668,16.666666666666668,16.666666666666668,16.666666666666668,16.666666666666668,16.666666666666668,16.666666666666668,16.666666666666668,16.666666666666668,16.666666666666668,16.666666666666668,16.666666666666668,16.666666666666668,16.666666666666668,16.666666666666668,16.666666666666668,16.666666666666668,16.666666666666668,16.666666666666668,16.666666666666668,16.666666666666668,16.666666666666668,16.666666666666668,16.666666666666668,16.666666666666668,16.666666666666668,16.666666666666668,16.666666666666668,16.666666666666668,{"$f":"BR48*(1+$E$23)*BS46","v":16.666666666666668},16.666666666666668,16.666666666666668,16.666666666666668,16.666666666666668,16.666666666666668,16.666666666666668,16.666666666666668,16.666666666666668,16.666666666666668,16.666666666666668,16.666666666666668,16.666666666666668,16.666666666666668,16.666666666666668,16.666666666666668,16.666666666666668,16.666666666666668,16.666666666666668,16.666666666666668,16.666666666666668,16.666666666666668,16.666666666666668,16.666666666666668,16.666666666666668,16.666666666666668,16.666666666666668,16.666666666666668,16.666666666666668,16.666666666666668,16.666666666666668,16.666666666666668,16.666666666666668,16.666666666666668,16.666666666666668,16.666666666666668,16.666666666666668,16.666666666666668,16.666666666666668,16.666666666666668,16.666666666666668,16.666666666666668,16.666666666666668,16.666666666666668,16.666666666666668,16.666666666666668,16.666666666666668,16.666666666666668,16.666666666666668,16.666666666666668,16.666666666666668,16.666666666666668,16.666666666666668,16.666666666666668,16.666666666666668,16.666666666666668,16.666666666666668,16.666666666666668,16.666666666666668,16.666666666666668,16.666666666666668,16.666666666666668,16.666666666666668,16.666666666666668,{"$f":"ED48*(1+$E$23)*EE46","v":16.666666666666668},16.666666666666668,16.666666666666668,16.666666666666668,16.666666666666668,16.666666666666668,16.666666666666668,16.666666666666668,16.666666666666668,16.666666666666668,16.666666666666668,16.666666666666668,16.666666666666668,16.666666666666668,16.666666666666668,16.666666666666668,0,0,0,0,0,0,0,0,0,0,0,0,0,0,0,0,0,0,0,0,0,0,0,0,0,0,0,0,0,0,0,0,0,0,0,0,0,0,0,0,0,0,0,0,0,0,0,0,{"$f":"GP48*(1+$E$23)*GQ46","v":0},0,0,0,0,0,0,0,0,0,0,0,0,0,0,0,0,0,0,0,0,0,0,0,0,0,0,0,0,0,0,0,0,0,0,0,0,0,0,0,0,0,0,0,0,0,0,0,0,0,0,0,0,0,0,0,0,0]
[null,null,null,"Cash Flow for actual period",null,{"$f":"F48*F44/30","v":16.666666666666668},{"$f":"G48*G44/30","v":16.666666666666668},16.666666666666668,16.666666666666668,16.666666666666668,16.666666666666668,16.666666666666668,16.666666666666668,16.666666666666668,16.666666666666668,16.666666666666668,16.666666666666668,16.666666666666668,16.666666666666668,16.666666666666668,16.666666666666668,16.666666666666668,16.666666666666668,16.666666666666668,16.666666666666668,16.666666666666668,16.666666666666668,16.666666666666668,16.666666666666668,16.666666666666668,16.666666666666668,16.666666666666668,16.666666666666668,16.666666666666668,16.666666666666668,16.666666666666668,16.666666666666668,16.666666666666668,16.666666666666668,16.666666666666668,16.666666666666668,16.666666666666668,16.666666666666668,16.666666666666668,16.666666666666668,16.666666666666668,16.666666666666668,16.666666666666668,16.666666666666668,16.666666666666668,16.666666666666668,16.666666666666668,16.666666666666668,16.666666666666668,16.666666666666668,16.666666666666668,16.666666666666668,16.666666666666668,16.666666666666668,16.666666666666668,16.666666666666668,16.666666666666668,16.666666666666668,16.666666666666668,16.666666666666668,16.666666666666668,16.666666666666668,16.666666666666668,16.666666666666668,16.666666666666668,{"$f":"BS48*BS44/30","v":16.666666666666668},16.666666666666668,16.666666666666668,16.666666666666668,16.666666666666668,16.666666666666668,16.666666666666668,16.666666666666668,16.666666666666668,16.666666666666668,5.5555555555555562,11.111111111111112,16.666666666666668,16.666666666666668,16.666666666666668,16.666666666666668,16.666666666666668,16.666666666666668,16.666666666666668,16.666666666666668,16.666666666666668,16.666666666666668,16.666666666666668,16.666666666666668,16.666666666666668,16.666666666666668,16.666666666666668,16.666666666666668,16.666666666666668,16.666666666666668,16.666666666666668,16.666666666666668,16.666666666666668,16.666666666666668,16.666666666666668,16.666666666666668,16.666666666666668,16.666666666666668,16.666666666666668,16.666666666666668,16.666666666666668,16.666666666666668,16.666666666666668,16.666666666666668,16.666666666666668,16.666666666666668,16.666666666666668,16.666666666666668,16.666666666666668,16.666666666666668,16.666666666666668,16.666666666666668,16.666666666666668,16.666666666666668,16.666666666666668,16.666666666666668,16.666666666666668,16.666666666666668,16.666666666666668,16.666666666666668,16.666666666666668,16.666666666666668,16.666666666666668,16.666666666666668,{"$f":"EE48*EE44/30","v":16.666666666666668},16.666666666666668,16.666666666666668,16.666666666666668,16.666666666666668,16.666666666666668,16.666666666666668,16.666666666666668,16.666666666666668,16.666666666666668,16.666666666666668,16.666666666666668,16.666666666666668,16.666666666666668,16.666666666666668,16.666666666666668,0,0,0,0,0,0,0,0,0,0,0,0,0,0,0,0,0,0,0,0,0,0,0,0,0,0,0,0,0,0,0,0,0,0,0,0,0,0,0,0,0,0,0,0,0,0,0,0,{"$f":"GQ48*GQ44/30","v":0},0,0,0,0,0,0,0,0,0,0,0,0,0,0,0,0,0,0,0,0,0,0,0,0,0,0,0,0,0,0,0,0,0,0,0,0,0,0,0,0,0,0,0,0,0,0,0,0,0,0,0,0,0,0,0,0,0]
[]
[null,null,null,"Partner 1 - Pre-Flip Percent",null,{"$f":"$F$13","v":0.85},{"$f":"$F$13","v":0.85},0.85,0.85,0.85,0.85,0.85,0.85,0.85,0.85,0.85,0.85,0.85,0.85,0.85,0.85,0.85,0.85,0.85,0.85,0.85,0.85,0.85,0.85,0.85,0.85,0.85,0.85,0.85,0.85,0.85,0.85,0.85,0.85,0.85,0.85,0.85,0.85,0.85,0.85,0.85,0.85,0.85,0.85,0.85,0.85,0.85,0.85,0.85,0.85,0.85,0.85,0.85,0.85,0.85,0.85,0.85,0.85,0.85,0.85,0.85,0.85,0.85,0.85,0.85,{"$f":"$F$13","v":0.85},0.85,0.85,0.85,0.85,0.85,0.85,0.85,0.85,0.85,0.85,0.85,0.85,0.85,0.85,0.85,0.85,0.85,0.85,0.85,0.85,0.85,0.85,0.85,0.85,0.85,0.85,0.85,0.85,0.85,0.85,0.85,0.85,0.85,0.85,0.85,0.85,0.85,0.85,0.85,0.85,0.85,0.85,0.85,0.85,0.85,0.85,0.85,0.85,0.85,0.85,0.85,0.85,0.85,0.85,0.85,0.85,0.85,0.85,0.85,0.85,0.85,0.85,0.85,{"$f":"$F$13","v":0.85},0.85,0.85,0.85,0.85,0.85,0.85,0.85,0.85,0.85,0.85,0.85,0.85,0.85,0.85,0.85,0.85,0.85,0.85,0.85,0.85,0.85,0.85,0.85,0.85,0.85,0.85,0.85,0.85,0.85,0.85,0.85,0.85,0.85,0.85,0.85,0.85,0.85,0.85,0.85,0.85,0.85,0.85,0.85,0.85,0.85,0.85,0.85,0.85,0.85,0.85,0.85,0.85,0.85,0.85,0.85,0.85,0.85,0.85,0.85,0.85,0.85,0.85,0.85,{"$f":"$F$13","v":0.85},0.85,0.85,0.85,0.85,0.85,0.85,0.85,0.85,0.85,0.85,0.85,0.85,0.85,0.85,0.85,0.85,0.85,0.85,0.85,0.85,0.85,0.85,0.85,0.85,0.85,0.85,0.85,0.85,0.85,0.85,0.85,0.85,0.85,0.85,0.85,0.85,0.85,0.85,0.85,0.85,0.85,0.85,0.85,0.85,0.85,0.85,0.85,0.85,0.85,0.85,0.85,0.85,0.85,0.85,0.85,0.85,0.85]
[null,null,null,"Partner 1 - Pre-Flip Cash without Flip",null,{"$f":"F51*F48","v":14.166666666666668},{"$f":"G51*G48","v":14.166666666666668},14.166666666666668,14.166666666666668,14.166666666666668,14.166666666666668,14.166666666666668,14.166666666666668,14.166666666666668,14.166666666666668,14.166666666666668,14.166666666666668,14.166666666666668,14.166666666666668,14.166666666666668,14.166666666666668,14.166666666666668,14.166666666666668,14.166666666666668,14.166666666666668,14.166666666666668,14.166666666666668,14.166666666666668,14.166666666666668,14.166666666666668,14.166666666666668,14.166666666666668,14.166666666666668,14.166666666666668,14.166666666666668,14.166666666666668,14.166666666666668,14.166666666666668,14.166666666666668,14.166666666666668,14.166666666666668,14.166666666666668,14.166666666666668,14.166666666666668,14.166666666666668,14.166666666666668,14.166666666666668,14.166666666666668,14.166666666666668,14.166666666666668,14.166666666666668,14.166666666666668,14.166666666666668,14.166666666666668,14.166666666666668,14.166666666666668,14.166666666666668,14.166666666666668,14.166666666666668,14.166666666666668,14.166666666666668,14.166666666666668,14.166666666666668,14.166666666666668,14.166666666666668,14.166666666666668,14.166666666666668,14.166666666666668,14.166666666666668,14.166666666666668,{"$f":"BS51*BS48","v":14.166666666666668},14.166666666666668,14.166666666666668,14.166666666666668,14.166666666666668,14.166666666666668,14.166666666666668,14.166666666666668,14.166666666666668,14.166666666666668,14.166666666666668,14.166666666666668,14.166666666666668,14.166666666666668,14.166666666666668,14.166666666666668,14.166666666666668,14.166666666666668,14.166666666666668,14.166666666666668,14.166666666666668,14.166666666666668,14.166666666666668,14.166666666666668,14.166666666666668,14.166666666666668,14.166666666666668,14.166666666666668,14.166666666666668,14.166666666666668,14.166666666666668,14.166666666666668,14.166666666666668,14.166666666666668,14.166666666666668,14.166666666666668,14.166666666666668,14.166666666666668,14.166666666666668,14.166666666666668,14.166666666666668,14.166666666666668,14.166666666666668,14.166666666666668,14.166666666666668,14.166666666666668,14.166666666666668,14.166666666666668,14.166666666666668,14.166666666666668,14.166666666666668,14.166666666666668,14.166666666666668,14.166666666666668,14.166666666666668,14.166666666666668,14.166666666666668,14.166666666666668,14.166666666666668,14.166666666666668,14.166666666666668,14.166666666666668,14.166666666666668,14.166666666666668,{"$f":"EE51*EE48","v":14.166666666666668},14.166666666666668,14.166666666666668,14.166666666666668,14.166666666666668,14.166666666666668,14.166666666666668,14.166666666666668,14.166666666666668,14.166666666666668,14.166666666666668,14.166666666666668,14.166666666666668,14.166666666666668,14.166666666666668,14.166666666666668,0,0,0,0,0,0,0,0,0,0,0,0,0,0,0,0,0,0,0,0,0,0,0,0,0,0,0,0,0,0,0,0,0,0,0,0,0,0,0,0,0,0,0,0,0,0,0,0,{"$f":"GQ51*GQ48","v":0},0,0,0,0,0,0,0,0,0,0,0,0,0,0,0,0,0,0,0,0,0,0,0,0,0,0,0,0,0,0,0,0,0,0,0,0,0,0,0,0,0,0,0,0,0,0,0,0,0,0,0,0,0,0,0,0,0]
[]
[null,null,null,"Days",null,{"$f":"F34-F33+1","v":31},29,31,30,31,30,31,31,30,31,30,31,31,28,31,30,31,30,31,31,30,31,30,31,31,28,31,30,31,30,31,31,30,31,30,31,31,28,31,30,31,30,31,31,30,31,30,31,31,29,31,30,31,30,31,31,30,31,30,31,31,28,31,30,{"$f":"BR34-BR33+1","v":31},30,31,31,30,31,30,31,31,28,31,30,31,30,31,31,30,31,30,31,31,28,31,30,31,30,31,31,30,31,30,31,31,29,31,30,31,30,31,31,30,31,30,31,31,28,31,30,31,30,31,31,30,31,30,31,31,28,31,30,31,30,31,31,{"$f":"ED34-ED33+1","v":30},31,30,31,31,28,31,30,31,30,31,31,30,31,30,31,1,0,0,0,0,0,0,0,0,0,0,0,0,0,0,0,0,0,0,0,0,0,0,0,0,0,0,0,0,0,0,0,0,0,0,0,0,0,0,0,0,0,0,0,0,0,0,0,{"$f":"GP34-GP33+1","v":0},0,0,0,0,0,0,0,0,0,0,0,0,0,0,0,0,0,0,0,0,0,0,0,0,0,0,0,0,0,0,0,0,0,0,0,0,0,0,0,0,0,0,0,0,0,0,0,0,0,0,0,0,0,0,0,0,0,0]
[null,null,null,"Annual Rate",{"$f":"E16","v":0.1},{"$f":"E55","v":0.1},{"$f":"F55","v":0.1},0.1,0.1,0.1,0.1,0.1,0.1,0.1,0.1,0.1,0.1,0.1,0.1,0.1,0.1,0.1,0.1,0.1,0.1,0.1,0.1,0.1,0.1,0.1,0.1,0.1,0.1,0.1,0.1,0.1,0.1,0.1,0.1,0.1,0.1,0.1,0.1,0.1,0.1,0.1,0.1,0.1,0.1,0.1,0.1,0.1,0.1,0.1,0.1,0.1,0.1,0.1,0.1,0.1,0.1,0.1,0.1,0.1,0.1,0.1,0.1,0.1,0.1,0.1,{"$f":"BR55","v":0.1},0.1,0.1,0.1,0.1,0.1,0.1,0.1,0.1,0.1,0.1,0.1,0.1,0.1,0.1,0.1,0.1,0.1,0.1,0.1,0.1,0.1,0.1,0.1,0.1,0.1,0.1,0.1,0.1,0.1,0.1,0.1,0.1,0.1,0.1,0.1,0.1,0.1,0.1,0.1,0.1,0.1,0.1,0.1,0.1,0.1,0.1,0.1,0.1,0.1,0.1,0.1,0.1,0.1,0.1,0.1,0.1,0.1,0.1,0.1,0.1,0.1,0.1,0.1,{"$f":"ED55","v":0.1},0.1,0.1,0.1,0.1,0.1,0.1,0.1,0.1,0.1,0.1,0.1,0.1,0.1,0.1,0.1,0.1,0.1,0.1,0.1,0.1,0.1,0.1,0.1,0.1,0.1,0.1,0.1,0.1,0.1,0.1,0.1,0.1,0.1,0.1,0.1,0.1,0.1,0.1,0.1,0.1,0.1,0.1,0.1,0.1,0.1,0.1,0.1,0.1,0.1,0.1,0.1,0.1,0.1,0.1,0.1,0.1,0.1,0.1,0.1,0.1,0.1,0.1,0.1,{"$f":"GP55","v":0.1},0.1,0.1,0.1,0.1,0.1,0.1,0.1,0.1,0.1,0.1,0.1,0.1,0.1,0.1,0.1,0.1,0.1,0.1,0.1,0.1,0.1,0.1,0.1,0.1,0.1,0.1,0.1,0.1,0.1,0.1,0.1,0.1,0.1,0.1,0.1,0.1,0.1,0.1,0.1,0.1,0.1,0.1,0.1,0.1,0.1,0.1,0.1,0.1,0.1,0.1,0.1,0.1,0.1,0.1,0.1,0.1,0.1]
[null,null,null,"Interest Rate for Flip",{"$f":"(1+$E$16)^(1/12)-1","v":7.9741404289037643E-3},{"$f":"(1+F55)^(F54/365)-1","v":8.1276889668540075E-3},{"$f":"(1+G55)^(G54/365)-1","v":7.6013341962570813E-3},8.1276889668540075E-3,7.8644772206188929E-3,8.1276889668540075E-3,7.8644772206188929E-3,8.1276889668540075E-3,8.1276889668540075E-3,7.8644772206188929E-3,8.1276889668540075E-3,7.8644772206188929E-3,8.1276889668540075E-3,8.1276889668540075E-3,7.3382598758260364E-3,8.1276889668540075E-3,7.8644772206188929E-3,8.1276889668540075E-3,7.8644772206188929E-3,8.1276889668540075E-3,8.1276889668540075E-3,7.8644772206188929E-3,8.1276889668540075E-3,7.8644772206188929E-3,8.1276889668540075E-3,8.1276889668540075E-3,7.3382598758260364E-3,8.1276889668540075E-3,7.8644772206188929E-3,8.1276889668540075E-3,7.8644772206188929E-3,8.1276889668540075E-3,8.1276889668540075E-3,7.8644772206188929E-3,8.1276889668540075E-3,7.8644772206188929E-3,8.1276889668540075E-3,8.1276889668540075E-3,7.3382598758260364E-3,8.1276889668540075E-3,7.8644772206188929E-3,8.1276889668540075E-3,7.8644772206188929E-3,8.1276889668540075E-3,8.1276889668540075E-3,7.8644772206188929E-3,8.1276889668540075E-3,7.8644772206188929E-3,8.1276889668540075E-3,8.1276889668540075E-3,7.6013341962570813E-3,8.1276889668540075E-3,7.8644772206188929E-3,8.1276889668540075E-3,7.8644772206188929E-3,8.1276889668540075E-3,8.1276889668540075E-3,7.8644772206188929E-3,8.1276889668540075E-3,7.8644772206188929E-3,8.1276889668540075E-3,8.1276889668540075E-3,7.3382598758260364E-3,8.1276889668540075E-3,7.8644772206188929E-3,8.1276889668540075E-3,{"$f":"(1+BS55)^(BS54/365)-1","v":7.8644772206188929E-3},8.1276889668540075E-3,8.1276889668540075E-3,7.8644772206188929E-3,8.1276889668540075E-3,7.8644772206188929E-3,8.1276889668540075E-3,8.1276889668540075E-3,7.3382598758260364E-3,8.1276889668540075E-3,7.8644772206188929E-3,8.1276889668540075E-3,7.8644772206188929E-3,8.1276889668540075E-3,8.1276889668540075E-3,7.8644772206188929E-3,8.1276889668540075E-3,7.8644772206188929E-3,8.1276889668540075E-3,8.1276889668540075E-3,7.3382598758260364E-3,8.1276889668540075E-3,7.8644772206188929E-3,8.1276889668540075E-3,7.8644772206188929E-3,8.1276889668540075E-3,8.1276889668540075E-3,7.8644772206188929E-3,8.1276889668540075E-3,7.8644772206188929E-3,8.1276889668540075E-3,8.1276889668540075E-3,7.6013341962570813E-3,8.1276889668540075E-3,7.8644772206188929E-3,8.1276889668540075E-3,7.8644772206188929E-3,8.1276889668540075E-3,8.1276889668540075E-3,7.8644772206188929E-3,8.1276889668540075E-3,7.8644772206188929E-3,8.1276889668540075E-3,8.1276889668540075E-3,7.3382598758260364E-3,8.1276889668540075E-3,7.8644772206188929E-3,8.1276889668540075E-3,7.8644772206188929E-3,8.1276889668540075E-3,8.1276889668540075E-3,7.8644772206188929E-3,8.1276889668540075E-3,7.8644772206188929E-3,8.1276889668540075E-3,8.1276889668540075E-3,7.3382598758260364E-3,8.1276889668540075E-3,7.8644772206188929E-3,8.1276889668540075E-3,7.8644772206188929E-3,8.1276889668540075E-3,8.1276889668540075E-3,7.8644772206188929E-3,{"$f":"(1+EE55)^(EE54/365)-1","v":8.1276889668540075E-3},7.8644772206188929E-3,8.1276889668540075E-3,8.1276889668540075E-3,7.3382598758260364E-3,8.1276889668540075E-3,7.8644772206188929E-3,8.1276889668540075E-3,7.8644772206188929E-3,8.1276889668540075E-3,8.1276889668540075E-3,7.8644772206188929E-3,8.1276889668540075E-3,7.8644772206188929E-3,8.1276889668540075E-3,2.6115787606784124E-4,0,0,0,0,0,0,0,0,0,0,0,0,0,0,0,0,0,0,0,0,0,0,0,0,0,0,0,0,0,0,0,0,0,0,0,0,0,0,0,0,0,0,0,0,0,0,0,0,{"$f":"(1+GQ55)^(GQ54/365)-1","v":0},0,0,0,0,0,0,0,0,0,0,0,0,0,0,0,0,0,0,0,0,0,0,0,0,0,0,0,0,0,0,0,0,0,0,0,0,0,0,0,0,0,0,0,0,0,0,0,0,0,0,0,0,0,0,0,0,0]
[]
[null,null,"Yield tracking Account"]
[null,null,null,"Opening Balance",null,{"$f":"E63","v":-800},{"$f":"F63","v":-792.33548450681656},-784.19162465343948,-776.39862360236793,-768.33792622514204,-760.41607124427094,-752.22967944809739,-744.17690164762121,-736.0586733738636,-727.6807233769847,-719.42841929710153,-710.91968104586283,-702.53114842715206,-694.07443642442809,-685.00106834541145,-676.40187730421906,-667.55475779359529,-658.81376856661859,-649.82832777547424,-640.94326363881748,-631.98598446440747,-622.78955717631152,-613.68473032217867,-604.34437323777252,-595.08962966565082,-585.75966641630691,-575.89145640658035,-566.40545637625496,-556.69327251889365,-547.0512356212007,-537.18684093558841,-527.3862618291331,-517.5060266640055,-507.40927435557086,-497.36667244976337,-487.11153464887286,-476.90395902799912,-466.61341940737333,-455.87088327386573,-445.40939335549405,-434.74563871672132,-424.11244938124042,-413.28120541171342,-402.47355983847962,-391.57807308356257,-380.49096325275542,-369.41680879010579,-358.15541220108264,-346.89972132658175,-335.55254769754583,-323.93652808633368,-312.4027167649553,-300.69293414794606,-288.97020612456458,-277.0761390614021,-265.16146107316331,-253.1499442880959,-240.9741695916839,-228.76606602450437,-216.39852487293803,-203.99067810932462,-191.4819842264682,-178.72046212159418,-166.00637978306426,-153.14526650867893,{"$f":"BR63","v":-140.22331693494078},-127.15943335010859,-114.02627900691299,-100.78638247006222,-87.412348012479939,-73.956141722321107,-60.371101447554494,-46.695112316039939,-32.907968998550359,-18.982789560380677,-4.9704091029840285,0,0,0,0,0,0,0,0,0,0,0,0,0,0,0,0,0,0,0,0,0,0,0,0,0,0,0,0,0,0,0,0,0,0,0,0,0,0,0,0,0,0,0,0,0,0,0,0,0,0,0,0,0,{"$f":"ED63","v":0},0,0,0,0,0,0,0,0,0,0,0,0,0,0,0,0,0,0,0,0,0,0,0,0,0,0,0,0,0,0,0,0,0,0,0,0,0,0,0,0,0,0,0,0,0,0,0,0,0,0,0,0,0,0,0,0,0,0,0,0,0,0,0,{"$f":"GP63","v":0},0,0,0,0,0,0,0,0,0,0,0,0,0,0,0,0,0,0,0,0,0,0,0,0,0,0,0,0,0,0,0,0,0,0,0,0,0,0,0,0,0,0,0,0,0,0,0,0,0,0,0,0,0,0,0,0,0]
[null,null,null,"Add: Cost of Funds",null,{"$f":"F59*F56","v":-6.502151173483206},{"$f":"G59*G56","v":-6.0228068132895878},-6.3736656155950788,-6.1059692894406847,-6.2448116857955753,-5.9802748704930817,-6.113888866190428,-6.0484383929089711,-5.7887166697877124,-5.9143625867834615,-5.6579284154279126,-5.7781340479558292,-5.7099546639426393,-5.0932985876499499,-5.5674756254742084,-5.3195471560428862,-5.4256774396899035,-5.1812258755222595,-5.2816025300099119,-5.2093874922566163,-4.9702393785707377,-5.0618398125338002,-4.8263095822604223,-4.9119230945449441,-4.8367034173227479,-4.2984566569400293,-4.6806666363412486,-4.454482809305305,-4.5246297689736634,-4.3022719810543517,-4.3660875602113407,-4.286431501539024,-4.0699143582320643,-4.124064760859171,-3.9115288657761824,-3.9590910457929676,-3.8761270460408643,-3.4241305331591136,-3.7051767482949898,-3.5029120278939629,-3.5334773311857943,-3.3354226971396486,-3.3590210934329079,-3.2711799117496669,-3.0795568358595178,-3.0925122040170741,-2.9052700776435123,-2.9109757921657886,-2.8194930376307883,-2.5506470554545406,-2.6328553452882875,-2.4568840496574467,-2.4439386432852199,-2.2725996035041844,-2.2519886784278644,-2.1551498815992378,-1.9908919702546719,-1.9585630994871357,-1.7991255151003123,-1.758819903053261,-1.6579727838102249,-1.4051445617926457,-1.4525843281367306,-1.3055533922813176,-1.2447170929285063,{"$f":"BS59*BS56","v":-1.1027830818344653},-1.033512323471085,-0.92677012981590345,-0.7926322090843877,-0.710460376507836,-0.58162639190005683,-0.49067753515211265,-0.37952334917708652,-0.24148722849698923,-0.15428620927001746,-3.9089669167574677E-2,0,0,0,0,0,0,0,0,0,0,0,0,0,0,0,0,0,0,0,0,0,0,0,0,0,0,0,0,0,0,0,0,0,0,0,0,0,0,0,0,0,0,0,0,0,0,0,0,0,0,0,0,0,{"$f":"EE59*EE56","v":0},0,0,0,0,0,0,0,0,0,0,0,0,0,0,0,0,0,0,0,0,0,0,0,0,0,0,0,0,0,0,0,0,0,0,0,0,0,0,0,0,0,0,0,0,0,0,0,0,0,0,0,0,0,0,0,0,0,0,0,0,0,0,0,{"$f":"GQ59*GQ56","v":0},0,0,0,0,0,0,0,0,0,0,0,0,0,0,0,0,0,0,0,0,0,0,0,0,0,0,0,0,0,0,0,0,0,0,0,0,0,0,0,0,0,0,0,0,0,0,0,0,0,0,0,0,0,0,0,0,0]
[null,null,null,"Sub-total",null,{"$f":"SUM(F59:F60)","v":-806.50215117348318},{"$f":"SUM(G59:G60)","v":-798.3582913201061},-790.56529026903456,-782.50459289180867,-774.58273791093757,-766.39634611476401,-758.34356831428784,-750.22534004053023,-741.84739004365133,-733.59508596376816,-725.08634771252946,-716.69781509381869,-708.24110309109471,-699.16773501207808,-690.56854397088568,-681.72142446026191,-672.98043523328522,-663.99499444214086,-655.10993030548411,-646.15265113107409,-636.95622384297815,-627.85139698884529,-618.51103990443914,-609.25629633231745,-599.92633308297354,-590.05812307324697,-580.57212304292159,-570.85993918556028,-561.21790228786733,-551.35350760225504,-541.55292849579973,-531.67269333067213,-521.57594102223754,-511.53333911643006,-501.27820131553955,-491.07062569466581,-480.78008607404001,-470.03754994053241,-459.57606002216073,-448.912305383388,-438.27911604790711,-427.4478720783801,-416.6402265051463,-405.74473975022926,-394.65762991942211,-383.58347545677248,-372.32207886774933,-361.06638799324844,-349.71921436421252,-338.10319475300037,-326.56938343162199,-314.85960081461275,-303.13687279123127,-291.24280572806879,-279.32812773982999,-267.31661095476255,-255.14083625835056,-242.93273269117103,-230.56519153960468,-218.15734477599128,-205.64865089313486,-192.88712878826084,-180.17304644973092,-167.31193317534559,-154.38998360160744,{"$f":"SUM(BS59:BS60)","v":-141.32610001677526},-128.19294567357966,-114.95304913672889,-101.57901467914661,-88.122808388987778,-74.537768114221166,-60.86177898270661,-47.074635665217023,-33.149456227047345,-19.137075769650696,-5.0094987721516029,0,0,0,0,0,0,0,0,0,0,0,0,0,0,0,0,0,0,0,0,0,0,0,0,0,0,0,0,0,0,0,0,0,0,0,0,0,0,0,0,0,0,0,0,0,0,0,0,0,0,0,0,0,{"$f":"SUM(EE59:EE60)","v":0},0,0,0,0,0,0,0,0,0,0,0,0,0,0,0,0,0,0,0,0,0,0,0,0,0,0,0,0,0,0,0,0,0,0,0,0,0,0,0,0,0,0,0,0,0,0,0,0,0,0,0,0,0,0,0,0,0,0,0,0,0,0,0,{"$f":"SUM(GQ59:GQ60)","v":0},0,0,0,0,0,0,0,0,0,0,0,0,0,0,0,0,0,0,0,0,0,0,0,0,0,0,0,0,0,0,0,0,0,0,0,0,0,0,0,0,0,0,0,0,0,0,0,0,0,0,0,0,0,0,0,0,0]
[null,null,null,"Less: Dividends Received",null,{"$f":"MIN(-F61,F52)","v":14.166666666666668},{"$f":"MIN(-G61,G52)","v":14.166666666666668},14.166666666666668,14.166666666666668,14.166666666666668,14.166666666666668,14.166666666666668,14.166666666666668,14.166666666666668,14.166666666666668,14.166666666666668,14.166666666666668,14.166666666666668,14.166666666666668,14.166666666666668,14.166666666666668,14.166666666666668,14.166666666666668,14.166666666666668,14.166666666666668,14.166666666666668,14.166666666666668,14.166666666666668,14.166666666666668,14.166666666666668,14.166666666666668,14.166666666666668,14.166666666666668,14.166666666666668,14.166666666666668,14.166666666666668,14.166666666666668,14.166666666666668,14.166666666666668,14.166666666666668,14.166666666666668,14.166666666666668,14.166666666666668,14.166666666666668,14.166666666666668,14.166666666666668,14.166666666666668,14.166666666666668,14.166666666666668,14.166666666666668,14.166666666666668,14.166666666666668,14.166666666666668,14.166666666666668,14.166666666666668,14.166666666666668,14.166666666666668,14.166666666666668,14.166666666666668,14.166666666666668,14.166666666666668,14.166666666666668,14.166666666666668,14.166666666666668,14.166666666666668,14.166666666666668,14.166666666666668,14.166666666666668,14.166666666666668,14.166666666666668,{"$f":"MIN(-BS61,BS52)","v":14.166666666666668},14.166666666666668,14.166666666666668,14.166666666666668,14.166666666666668,14.166666666666668,14.166666666666668,14.166666666666668,14.166666666666668,14.166666666666668,5.0094987721516029,0,0,0,0,0,0,0,0,0,0,0,0,0,0,0,0,0,0,0,0,0,0,0,0,0,0,0,0,0,0,0,0,0,0,0,0,0,0,0,0,0,0,0,0,0,0,0,0,0,0,0,0,0,{"$f":"MIN(-EE61,EE52)","v":0},0,0,0,0,0,0,0,0,0,0,0,0,0,0,0,0,0,0,0,0,0,0,0,0,0,0,0,0,0,0,0,0,0,0,0,0,0,0,0,0,0,0,0,0,0,0,0,0,0,0,0,0,0,0,0,0,0,0,0,0,0,0,0,{"$f":"MIN(-GQ61,GQ52)","v":0},0,0,0,0,0,0,0,0,0,0,0,0,0,0,0,0,0,0,0,0,0,0,0,0,0,0,0,0,0,0,0,0,0,0,0,0,0,0,0,0,0,0,0,0,0,0,0,0,0,0,0,0,0,0,0,0,0]
[null,null,null,"Closing Balance of Investment Value",{"$f":"-E19*E13","v":-800},{"$f":"F61+F62","v":-792.33548450681656},{"$f":"G61+G62","v":-784.19162465343948},-776.39862360236793,-768.33792622514204,-760.41607124427094,-752.22967944809739,-744.17690164762121,-736.0586733738636,-727.6807233769847,-719.42841929710153,-710.91968104586283,-702.53114842715206,-694.07443642442809,-685.00106834541145,-676.40187730421906,-667.55475779359529,-658.81376856661859,-649.82832777547424,-640.94326363881748,-631.98598446440747,-622.78955717631152,-613.68473032217867,-604.34437323777252,-595.08962966565082,-585.75966641630691,-575.89145640658035,-566.40545637625496,-556.69327251889365,-547.0512356212007,-537.18684093558841,-527.3862618291331,-517.5060266640055,-507.40927435557086,-497.36667244976337,-487.11153464887286,-476.90395902799912,-466.61341940737333,-455.87088327386573,-445.40939335549405,-434.74563871672132,-424.11244938124042,-413.28120541171342,-402.47355983847962,-391.57807308356257,-380.49096325275542,-369.41680879010579,-358.15541220108264,-346.89972132658175,-335.55254769754583,-323.93652808633368,-312.4027167649553,-300.69293414794606,-288.97020612456458,-277.0761390614021,-265.16146107316331,-253.1499442880959,-240.9741695916839,-228.76606602450437,-216.39852487293803,-203.99067810932462,-191.4819842264682,-178.72046212159418,-166.00637978306426,-153.14526650867893,-140.22331693494078,{"$f":"BS61+BS62","v":-127.15943335010859},-114.02627900691299,-100.78638247006222,-87.412348012479939,-73.956141722321107,-60.371101447554494,-46.695112316039939,-32.907968998550359,-18.982789560380677,-4.9704091029840285,0,0,0,0,0,0,0,0,0,0,0,0,0,0,0,0,0,0,0,0,0,0,0,0,0,0,0,0,0,0,0,0,0,0,0,0,0,0,0,0,0,0,0,0,0,0,0,0,0,0,0,0,0,0,{"$f":"EE61+EE62","v":0},0,0,0,0,0,0,0,0,0,0,0,0,0,0,0,0,0,0,0,0,0,0,0,0,0,0,0,0,0,0,0,0,0,0,0,0,0,0,0,0,0,0,0,0,0,0,0,0,0,0,0,0,0,0,0,0,0,0,0,0,0,0,0,{"$f":"GQ61+GQ62","v":0},0,0,0,0,0,0,0,0,0,0,0,0,0,0,0,0,0,0,0,0,0,0,0,0,0,0,0,0,0,0,0,0,0,0,0,0,0,0,0,0,0,0,0,0,0,0,0,0,0,0,0,0,0,0,0,0,0]
[]
[null,null,null,"Percent of Pre-flip Period",null,{"$f":"IF(F52,F62/F52)","v":1},{"$f":"IF(G52,G62/G52)","v":1},1,1,1,1,1,1,1,1,1,1,1,1,1,1,1,1,1,1,1,1,1,1,1,1,1,1,1,1,1,1,1,1,1,1,1,1,1,1,1,1,1,1,1,1,1,1,1,1,1,1,1,1,1,1,1,1,1,1,1,1,1,1,1,{"$f":"IF(BS52,BS62/BS52)","v":1},1,1,1,1,1,1,1,1,1,0.35361167803423077,0,0,0,0,0,0,0,0,0,0,0,0,0,0,0,0,0,0,0,0,0,0,0,0,0,0,0,0,0,0,0,0,0,0,0,0,0,0,0,0,0,0,0,0,0,0,0,0,0,0,0,0,0,{"$f":"IF(EE52,EE62/EE52)","v":0},0,0,0,0,0,0,0,0,0,0,0,0,0,0,0,false,false,false,false,false,false,false,false,false,false,false,false,false,false,false,false,false,false,false,false,false,false,false,false,false,false,false,false,false,false,false,false,false,false,false,false,false,false,false,false,false,false,false,false,false,false,false,false,{"$f":"IF(GQ52,GQ62/GQ52)","v":false},false,false,false,false,false,false,false,false,false,false,false,false,false,false,false,false,false,false,false,false,false,false,false,false,false,false,false,false,false,false,false,false,false,false,false,false,false,false,false,false,false,false,false,false,false,false,false,false,false,false,false,false,false,false,false,false,false]
[]
[null,null,null,"Pre-flip Cash Flow",{"$f":"E63","v":-800},{"$f":"F62","v":14.166666666666668},{"$f":"G62","v":14.166666666666668},14.166666666666668,14.166666666666668,14.166666666666668,14.166666666666668,14.166666666666668,14.166666666666668,14.166666666666668,14.166666666666668,14.166666666666668,14.166666666666668,14.166666666666668,14.166666666666668,14.166666666666668,14.166666666666668,14.166666666666668,14.166666666666668,14.166666666666668,14.166666666666668,14.166666666666668,14.166666666666668,14.166666666666668,14.166666666666668,14.166666666666668,14.166666666666668,14.166666666666668,14.166666666666668,14.166666666666668,14.166666666666668,14.166666666666668,14.166666666666668,14.166666666666668,14.166666666666668,14.166666666666668,14.166666666666668,14.166666666666668,14.166666666666668,14.166666666666668,14.166666666666668,14.166666666666668,14.166666666666668,14.166666666666668,14.166666666666668,14.166666666666668,14.166666666666668,14.166666666666668,14.166666666666668,14.166666666666668,14.166666666666668,14.166666666666668,14.166666666666668,14.166666666666668,14.166666666666668,14.166666666666668,14.166666666666668,14.166666666666668,14.166666666666668,14.166666666666668,14.166666666666668,14.166666666666668,14.166666666666668,14.166666666666668,14.166666666666668,14.166666666666668,{"$f":"BS62","v":14.166666666666668},14.166666666666668,14.166666666666668,14.166666666666668,14.166666666666668,14.166666666666668,14.166666666666668,14.166666666666668,14.166666666666668,14.166666666666668,5.0094987721516029,0,0,0,0,0,0,0,0,0,0,0,0,0,0,0,0,0,0,0,0,0,0,0,0,0,0,0,0,0,0,0,0,0,0,0,0,0,0,0,0,0,0,0,0,0,0,0,0,0,0,0,0,0,{"$f":"EE62","v":0},0,0,0,0,0,0,0,0,0,0,0,0,0,0,0,0,0,0,0,0,0,0,0,0,0,0,0,0,0,0,0,0,0,0,0,0,0,0,0,0,0,0,0,0,0,0,0,0,0,0,0,0,0,0,0,0,0,0,0,0,0,0,0,{"$f":"GQ62","v":0},0,0,0,0,0,0,0,0,0,0,0,0,0,0,0,0,0,0,0,0,0,0,0,0,0,0,0,0,0,0,0,0,0,0,0,0,0,0,0,0,0,0,0,0,0,0,0,0,0,0,0,0,0,0,0,0,0]
[null,null,null,"Pre-flip IRR Check",{"$f":"XIRR(#REF!,#REF!)","v":{"$error":"#REF!"}}]
[]
[null,null,"Determination of Flip Date"]
[null,null,null,"Match of Flip Column",{"$f":"MATCH(0,F59:IV59,0)-1","v":76}]
[null,null,null,"Percent of Pre-flip in Flip Period",{"$f":"INDEX(F65:IV65,E71)","v":0.35361167803423077}]
[null,null,null,"Start Date in Flip Period",{"$f":"INDEX(F33:IV33,E71)","v":"2018-04-01"}]
[null,null,null,"End of Flip Period",{"$f":"EOMONTH(E73,0)","v":"2018-04-30"}]
[null,null,null,"Flip Date",{"$f":"(E74-E73)*E72+E73","v":"2018-04-11T06:06:49.420"}]
[]
[null,null,null,"Total Cash Flow Post Flip",null,{"$f":"F49*F37","v":0},{"$f":"G49*G37","v":0},0,0,0,0,0,0,0,0,0,0,0,0,0,0,0,0,0,0,0,0,0,0,0,0,0,0,0,0,0,0,0,0,0,0,0,0,0,0,0,0,0,0,0,0,0,0,0,0,0,0,0,0,0,0,0,0,0,0,0,0,0,0,0,{"$f":"BS49*BS37","v":0},0,0,0,0,0,0,0,0,0,0,11.111111111111112,16.666666666666668,16.666666666666668,16.666666666666668,16.666666666666668,16.666666666666668,16.666666666666668,16.666666666666668,16.666666666666668,16.666666666666668,16.666666666666668,16.666666666666668,16.666666666666668,16.666666666666668,16.666666666666668,16.666666666666668,16.666666666666668,16.666666666666668,16.666666666666668,16.666666666666668,16.666666666666668,16.666666666666668,16.666666666666668,16.666666666666668,16.666666666666668,16.666666666666668,16.666666666666668,16.666666666666668,16.666666666666668,16.666666666666668,16.666666666666668,16.666666666666668,16.666666666666668,16.666666666666668,16.666666666666668,16.666666666666668,16.666666666666668,16.666666666666668,16.666666666666668,16.666666666666668,16.666666666666668,16.666666666666668,16.666666666666668,16.666666666666668,16.666666666666668,16.666666666666668,16.666666666666668,16.666666666666668,16.666666666666668,16.666666666666668,16.666666666666668,16.666666666666668,16.666666666666668,{"$f":"EE49*EE37","v":16.666666666666668},16.666666666666668,16.666666666666668,16.666666666666668,16.666666666666668,16.666666666666668,16.666666666666668,16.666666666666668,16.666666666666668,16.666666666666668,16.666666666666668,16.666666666666668,16.666666666666668,16.666666666666668,16.666666666666668,16.666666666666668,0,0,0,0,0,0,0,0,0,0,0,0,0,0,0,0,0,0,0,0,0,0,0,0,0,0,0,0,0,0,0,0,0,0,0,0,0,0,0,0,0,0,0,0,0,0,0,0,{"$f":"GQ49*GQ37","v":0},0,0,0,0,0,0,0,0,0,0,0,0,0,0,0,0,0,0,0,0,0,0,0,0,0,0,0,0,0,0,0,0,0,0,0,0,0,0,0,0,0,0,0,0,0,0,0,0,0,0,0,0,0,0,0,0,0]
[null,null,null,"Post-flip Percentage",{"$f":"$G$13","v":0.11},{"$f":"E78","v":0.11},{"$f":"F78","v":0.11},0.11,0.11,0.11,0.11,0.11,0.11,0.11,0.11,0.11,0.11,0.11,0.11,0.11,0.11,0.11,0.11,0.11,0.11,0.11,0.11,0.11,0.11,0.11,0.11,0.11,0.11,0.11,0.11,0.11,0.11,0.11,0.11,0.11,0.11,0.11,0.11,0.11,0.11,0.11,0.11,0.11,0.11,0.11,0.11,0.11,0.11,0.11,0.11,0.11,0.11,0.11,0.11,0.11,0.11,0.11,0.11,0.11,0.11,0.11,0.11,0.11,0.11,0.11,{"$f":"BR78","v":0.11},0.11,0.11,0.11,0.11,0.11,0.11,0.11,0.11,0.11,0.11,0.11,0.11,0.11,0.11,0.11,0.11,0.11,0.11,0.11,0.11,0.11,0.11,0.11,0.11,0.11,0.11,0.11,0.11,0.11,0.11,0.11,0.11,0.11,0.11,0.11,0.11,0.11,0.11,0.11,0.11,0.11,0.11,0.11,0.11,0.11,0.11,0.11,0.11,0.11,0.11,0.11,0.11,0.11,0.11,0.11,0.11,0.11,0.11,0.11,0.11,0.11,0.11,0.11,{"$f":"ED78","v":0.11},0.11,0.11,0.11,0.11,0.11,0.11,0.11,0.11,0.11,0.11,0.11,0.11,0.11,0.11,0.11,0.11,0.11,0.11,0.11,0.11,0.11,0.11,0.11,0.11,0.11,0.11,0.11,0.11,0.11,0.11,0.11,0.11,0.11,0.11,0.11,0.11,0.11,0.11,0.11,0.11,0.11,0.11,0.11,0.11,0.11,0.11,0.11,0.11,0.11,0.11,0.11,0.11,0.11,0.11,0.11,0.11,0.11,0.11,0.11,0.11,0.11,0.11,0.11,{"$f":"GP78","v":0.11},0.11,0.11,0.11,0.11,0.11,0.11,0.11,0.11,0.11,0.11,0.11,0.11,0.11,0.11,0.11,0.11,0.11,0.11,0.11,0.11,0.11,0.11,0.11,0.11,0.11,0.11,0.11,0.11,0.11,0.11,0.11,0.11,0.11,0.11,0.11,0.11,0.11,0.11,0.11,0.11,0.11,0.11,0.11,0.11,0.11,0.11,0.11,0.11,0.11,0.11,0.11,0.11,0.11,0.11,0.11,0.11,0.11]
[null,null,null,"Post-flip Cash Flow",null,{"$f":"F77*F78","v":0},{"$f":"G77*G78","v":0},0,0,0,0,0,0,0,0,0,0,0,0,0,0,0,0,0,0,0,0,0,0,0,0,0,0,0,0,0,0,0,0,0,0,0,0,0,0,0,0,0,0,0,0,0,0,0,0,0,0,0,0,0,0,0,0,0,0,0,0,0,0,0,{"$f":"BS77*BS78","v":0},0,0,0,0,0,0,0,0,0,0,1.2222222222222223,1.8333333333333335,1.8333333333333335,1.8333333333333335,1.8333333333333335,1.8333333333333335,1.8333333333333335,1.8333333333333335,1.8333333333333335,1.8333333333333335,1.8333333333333335,1.8333333333333335,1.8333333333333335,1.8333333333333335,1.8333333333333335,1.8333333333333335,1.8333333333333335,1.8333333333333335,1.8333333333333335,1.8333333333333335,1.8333333333333335,1.8333333333333335,1.8333333333333335,1.8333333333333335,1.8333333333333335,1.8333333333333335,1.8333333333333335,1.8333333333333335,1.8333333333333335,1.8333333333333335,1.8333333333333335,1.8333333333333335,1.8333333333333335,1.8333333333333335,1.8333333333333335,1.8333333333333335,1.8333333333333335,1.8333333333333335,1.8333333333333335,1.8333333333333335,1.8333333333333335,1.8333333333333335,1.8333333333333335,1.8333333333333335,1.8333333333333335,1.8333333333333335,1.8333333333333335,1.8333333333333335,1.8333333333333335,1.8333333333333335,1.8333333333333335,1.8333333333333335,1.8333333333333335,{"$f":"EE77*EE78","v":1.8333333333333335},1.8333333333333335,1.8333333333333335,1.8333333333333335,1.8333333333333335,1.8333333333333335,1.8333333333333335,1.8333333333333335,1.8333333333333335,1.8333333333333335,1.8333333333333335,1.8333333333333335,1.8333333333333335,1.8333333333333335,1.8333333333333335,1.8333333333333335,0,0,0,0,0,0,0,0,0,0,0,0,0,0,0,0,0,0,0,0,0,0,0,0,0,0,0,0,0,0,0,0,0,0,0,0,0,0,0,0,0,0,0,0,0,0,0,0,{"$f":"GQ77*GQ78","v":0},0,0,0,0,0,0,0,0,0,0,0,0,0,0,0,0,0,0,0,0,0,0,0,0,0,0,0,0,0,0,0,0,0,0,0,0,0,0,0,0,0,0,0,0,0,0,0,0,0,0,0,0,0,0,0,0,0]
[]
[null,null,null,"Total Partner 1 Cash Flow",{"$f":"E67","v":-800},{"$f":"F79+F67","v":14.166666666666668},{"$f":"G79+G67","v":14.166666666666668},14.166666666666668,14.166666666666668,14.166666666666668,14.166666666666668,14.166666666666668,14.166666666666668,14.166666666666668,14.166666666666668,14.166666666666668,14.166666666666668,14.166666666666668,14.166666666666668,14.166666666666668,14.166666666666668,14.166666666666668,14.166666666666668,14.166666666666668,14.166666666666668,14.166666666666668,14.166666666666668,14.166666666666668,14.166666666666668,14.166666666666668,14.166666666666668,14.166666666666668,14.166666666666668,14.166666666666668,14.166666666666668,14.166666666666668,14.166666666666668,14.166666666666668,14.166666666666668,14.166666666666668,14.166666666666668,14.166666666666668,14.166666666666668,14.166666666666668,14.166666666666668,14.166666666666668,14.166666666666668,14.166666666666668,14.166666666666668,14.166666666666668,14.166666666666668,14.166666666666668,14.166666666666668,14.166666666666668,14.166666666666668,14.166666666666668,14.166666666666668,14.166666666666668,14.166666666666668,14.166666666666668,14.166666666666668,14.166666666666668,14.166666666666668,14.166666666666668,14.166666666666668,14.166666666666668,14.166666666666668,14.166666666666668,14.166666666666668,14.166666666666668,{"$f":"BS79+BS67","v":14.166666666666668},14.166666666666668,14.166666666666668,14.166666666666668,14.166666666666668,14.166666666666668,14.166666666666668,14.166666666666668,14.166666666666668,14.166666666666668,5.0094987721516029,1.2222222222222223,1.8333333333333335,1.8333333333333335,1.8333333333333335,1.8333333333333335,1.8333333333333335,1.8333333333333335,1.8333333333333335,1.8333333333333335,1.8333333333333335,1.8333333333333335,1.8333333333333335,1.8333333333333335,1.8333333333333335,1.8333333333333335,1.8333333333333335,1.8333333333333335,1.8333333333333335,1.8333333333333335,1.8333333333333335,1.8333333333333335,1.8333333333333335,1.8333333333333335,1.8333333333333335,1.8333333333333335,1.8333333333333335,1.8333333333333335,1.8333333333333335,1.8333333333333335,1.8333333333333335,1.8333333333333335,1.8333333333333335,1.8333333333333335,1.8333333333333335,1.8333333333333335,1.8333333333333335,1.8333333333333335,1.8333333333333335,1.8333333333333335,1.8333333333333335,1.8333333333333335,1.8333333333333335,1.8333333333333335,1.8333333333333335,1.8333333333333335,1.8333333333333335,1.8333333333333335,1.8333333333333335,1.8333333333333335,1.8333333333333335,1.8333333333333335,1.8333333333333335,1.8333333333333335,{"$f":"EE79+EE67","v":1.8333333333333335},1.8333333333333335,1.8333333333333335,1.8333333333333335,1.8333333333333335,1.8333333333333335,1.8333333333333335,1.8333333333333335,1.8333333333333335,1.8333333333333335,1.8333333333333335,1.8333333333333335,1.8333333333333335,1.8333333333333335,1.8333333333333335,1.8333333333333335,0,0,0,0,0,0,0,0,0,0,0,0,0,0,0,0,0,0,0,0,0,0,0,0,0,0,0,0,0,0,0,0,0,0,0,0,0,0,0,0,0,0,0,0,0,0,0,0,{"$f":"GQ79+GQ67","v":0},0,0,0,0,0,0,0,0,0,0,0,0,0,0,0,0,0,0,0,0,0,0,0,0,0,0,0,0,0,0,0,0,0,0,0,0,0,0,0,0,0,0,0,0,0,0,0,0,0,0,0,0,0,0,0,0,0]
[null,null,null,"Total Partner 2 Cash Flow",{"$f":"-E19-E81","v":-200},{"$f":"F49-F81","v":2.5},{"$f":"G49-G81","v":2.5},2.5,2.5,2.5,2.5,2.5,2.5,2.5,2.5,2.5,2.5,2.5,2.5,2.5,2.5,2.5,2.5,2.5,2.5,2.5,2.5,2.5,2.5,2.5,2.5,2.5,2.5,2.5,2.5,2.5,2.5,2.5,2.5,2.5,2.5,2.5,2.5,2.5,2.5,2.5,2.5,2.5,2.5,2.5,2.5,2.5,2.5,2.5,2.5,2.5,2.5,2.5,2.5,2.5,2.5,2.5,2.5,2.5,2.5,2.5,2.5,2.5,2.5,2.5,{"$f":"BS49-BS81","v":2.5},2.5,2.5,2.5,2.5,2.5,2.5,2.5,2.5,2.5,0.54605678340395336,9.8888888888888893,14.833333333333334,14.833333333333334,14.833333333333334,14.833333333333334,14.833333333333334,14.833333333333334,14.833333333333334,14.833333333333334,14.833333333333334,14.833333333333334,14.833333333333334,14.833333333333334,14.833333333333334,14.833333333333334,14.833333333333334,14.833333333333334,14.833333333333334,14.833333333333334,14.833333333333334,14.833333333333334,14.833333333333334,14.833333333333334,14.833333333333334,14.833333333333334,14.833333333333334,14.833333333333334,14.833333333333334,14.833333333333334,14.833333333333334,14.833333333333334,14.833333333333334,14.833333333333334,14.833333333333334,14.833333333333334,14.833333333333334,14.833333333333334,14.833333333333334,14.833333333333334,14.833333333333334,14.833333333333334,14.833333333333334,14.833333333333334,14.833333333333334,14.833333333333334,14.833333333333334,14.833333333333334,14.833333333333334,14.833333333333334,14.833333333333334,14.833333333333334,14.833333333333334,14.833333333333334,{"$f":"EE49-EE81","v":14.833333333333334},14.833333333333334,14.833333333333334,14.833333333333334,14.833333333333334,14.833333333333334,14.833333333333334,14.833333333333334,14.833333333333334,14.833333333333334,14.833333333333334,14.833333333333334,14.833333333333334,14.833333333333334,14.833333333333334,14.833333333333334,0,0,0,0,0,0,0,0,0,0,0,0,0,0,0,0,0,0,0,0,0,0,0,0,0,0,0,0,0,0,0,0,0,0,0,0,0,0,0,0,0,0,0,0,0,0,0,0,{"$f":"GQ49-GQ81","v":0},0,0,0,0,0,0,0,0,0,0,0,0,0,0,0,0,0,0,0,0,0,0,0,0,0,0,0,0,0,0,0,0,0,0,0,0,0,0,0,0,0,0,0,0,0,0,0,0,0,0,0,0,0,0,0,0,0]
[null,null,null,"Total Cash Flow",{"$f":"SUM(E81:E82)","v":-1000},{"$f":"SUM(F81:F82)","v":16.666666666666668},16.666666666666668,16.666666666666668,16.666666666666668,16.666666666666668,16.666666666666668,16.666666666666668,16.666666666666668,16.666666666666668,16.666666666666668,16.666666666666668,16.666666666666668,16.666666666666668,16.666666666666668,16.666666666666668,16.666666666666668,16.666666666666668,16.666666666666668,16.666666666666668,16.666666666666668,16.666666666666668,16.666666666666668,16.666666666666668,16.666666666666668,16.666666666666668,16.666666666666668,16.666666666666668,16.666666666666668,16.666666666666668,16.666666666666668,16.666666666666668,16.666666666666668,16.666666666666668,16.666666666666668,16.666666666666668,16.666666666666668,16.666666666666668,16.666666666666668,16.666666666666668,16.666666666666668,16.666666666666668,16.666666666666668,16.666666666666668,16.666666666666668,16.666666666666668,16.666666666666668,16.666666666666668,16.666666666666668,16.666666666666668,16.666666666666668,16.666666666666668,16.666666666666668,16.666666666666668,16.666666666666668,16.666666666666668,16.666666666666668,16.666666666666668,16.666666666666668,16.666666666666668,16.666666666666668,16.666666666666668,16.666666666666668,16.666666666666668,16.666666666666668,{"$f":"SUM(BR81:BR82)","v":16.666666666666668},16.666666666666668,16.666666666666668,16.666666666666668,16.666666666666668,16.666666666666668,16.666666666666668,16.666666666666668,16.666666666666668,16.666666666666668,16.666666666666668,5.5555555555555562,11.111111111111111,16.666666666666668,16.666666666666668,16.666666666666668,16.666666666666668,16.666666666666668,16.666666666666668,16.666666666666668,16.666666666666668,16.666666666666668,16.666666666666668,16.666666666666668,16.666666666666668,16.666666666666668,16.666666666666668,16.666666666666668,16.666666666666668,16.666666666666668,16.666666666666668,16.666666666666668,16.666666666666668,16.666666666666668,16.666666666666668,16.666666666666668,16.666666666666668,16.666666666666668,16.666666666666668,16.666666666666668,16.666666666666668,16.666666666666668,16.666666666666668,16.666666666666668,16.666666666666668,16.666666666666668,16.666666666666668,16.666666666666668,16.666666666666668,16.666666666666668,16.666666666666668,16.666666666666668,16.666666666666668,16.666666666666668,16.666666666666668,16.666666666666668,16.666666666666668,16.666666666666668,16.666666666666668,16.666666666666668,16.666666666666668,16.666666666666668,16.666666666666668,16.666666666666668,{"$f":"SUM(ED81:ED82)","v":16.666666666666668},16.666666666666668,16.666666666666668,16.666666666666668,16.666666666666668,16.666666666666668,16.666666666666668,16.666666666666668,16.666666666666668,16.666666666666668,16.666666666666668,16.666666666666668,16.666666666666668,16.666666666666668,16.666666666666668,16.666666666666668,16.666666666666668,0,0,0,0,0,0,0,0,0,0,0,0,0,0,0,0,0,0,0,0,0,0,0,0,0,0,0,0,0,0,0,0,0,0,0,0,0,0,0,0,0,0,0,0,0,0,0,{"$f":"SUM(GP81:GP82)","v":0},0,0,0,0,0,0,0,0,0,0,0,0,0,0,0,0,0,0,0,0,0,0,0,0,0,0,0,0,0,0,0,0,0,0,0,0,0,0,0,0,0,0,0,0,0,0,0,0,0,0,0,0,0,0,0,0,0,0]
[]
[null,null,null,null,"Periodic","Annual"]
[null,null,null,"Overall IRR",{"$f":"XIRR(E83:IV83,E41:IV41)","v":0.18986791968345643},{"$f":"'Annual Analysis'!D55","v":0.16942550857963257}]
[null,null,null,"Partner 1 IRR",{"$f":"XIRR(E81:IV81,E41:IV41)","v":0.12235705256462096},{"$f":"'Annual Analysis'!H5","v":0.11644037670516094}]
[null,null,null,"Partner 2 IRR",{"$f":"XIRR(E82:IV82,E41:IV41)","v":0.29007309079170218},{"$f":"'Annual Analysis'!H6","v":0.25484821958201342}]

{"sheet":"Summary Annual","index":4,"n_rows":44,"n_cols":61,"rows_kept":44,"cut":false,"hidden":false,"merged":[[1,5,1,6]]}
["Inputs"]
[null,null,null,null,"Percent of","Cash Flow Share"]
[null,null,null,null,"Investment","Pre-Flip","Post-Flip"]
[null,null,null,"Partner 1",{"$f":"'Annual Analysis'!D5","v":0.8},{"$f":"'Annual Analysis'!E5","v":0.85},{"$f":"'Annual Analysis'!F5","v":0.11}]
[null,null,null,"Partner 2",{"$f":"'Annual Analysis'!D6","v":0.19999999999999996},{"$f":"'Annual Analysis'!E6","v":0.15000000000000002},{"$f":"'Annual Analysis'!F6","v":0.89}]
[]
["Results from Alternative Analyses"]
[null,null,null,null,"Annual","Periodic 1","Periodic 2"]
[null,null,null,"Overall IRR",{"$f":"'Annual Analysis'!D55","v":0.16942550857963257},{"$f":"'Periodic Analysis 1'!E72","v":0.18986278176307678},{"$f":"'Periodic Analysis 2'!E86","v":0.18986791968345643},{"$f":"F9-G9","v":-5.1379203796497741E-6}]
[null,null,null,"Partner 1 IRR",{"$f":"'Annual Analysis'!D56","v":0.11644037670516094},{"$f":"'Periodic Analysis 1'!E73","v":0.12234223484992979},{"$f":"'Periodic Analysis 2'!E87","v":0.12235705256462096},{"$f":"F10-G10","v":-1.481771469116766E-5}]
[null,null,null,"Partner 2 IRR",{"$f":"'Annual Analysis'!D57","v":0.25484821958201342},{"$f":"'Periodic Analysis 1'!E74","v":0.29007979035377507},{"$f":"'Periodic Analysis 2'!E88","v":0.29007309079170218},{"$f":"F11-G11","v":6.699562072887133E-6}]
[]
["Annual Analysis"]
[null,null,null,null,null,{"$f":"YEAR('Periodic Analysis 2'!E4)","v":2012},{"$f":"F14+1","v":2013},{"$f":"G14+1","v":2014},2015,2016,2017,2018,2019,2020,2021,2022,2023,2024,2025,2026,2027,2028,2029,2030,2031,2032,2033,2034,2035,2036,2037,2038,2039,2040,2041,2042,2043,2044,2045,2046,2047,2048,2049,2050,2051,2052,2053,2054,2055,2056,2057,2058,2059,2060,2061,2062,2063,2064,2065,2066,2067]
[null,null,null,null,null,1,{"$f":"F15+1","v":2},{"$f":"G15+1","v":3},4,5,6,7,8,9,10,11,12,13,14,15,16,17,18,19,20,21,22,23,24,25,26,27,28,29,30,31,32,33,34,35,36,37,38,39,40,41,42,43,44,45,46,47,48,49,50,51,52,53,54,55,56]
[null,null,"Periodic 1"]
[null,null,null,"Operating Cash",{"$f":"E27","v":-1000},{"$f":"SUMIF('Periodic Analysis 1'!$33:$33,'Summary Annual'!F$14,'Periodic Analysis 1'!40:40)","v":199.99999999999997},{"$f":"SUMIF('Periodic Analysis 1'!$33:$33,'Summary Annual'!G$14,'Periodic Analysis 1'!40:40)","v":199.99999999999997},{"$f":"SUMIF('Periodic Analysis 1'!$33:$33,'Summary Annual'!H$14,'Periodic Analysis 1'!40:40)","v":199.99999999999997},{"$f":"SUMIF('Periodic Analysis 1'!$33:$33,'Summary Annual'!I$14,'Periodic Analysis 1'!40:40)","v":199.99999999999997},{"$f":"SUMIF('Periodic Analysis 1'!$33:$33,'Summary Annual'!J$14,'Periodic Analysis 1'!40:40)","v":199.99999999999997},{"$f":"SUMIF('Periodic Analysis 1'!$33:$33,'Summary Annual'!K$14,'Periodic Analysis 1'!40:40)","v":199.99999999999997},{"$f":"SUMIF('Periodic Analysis 1'!$33:$33,'Summary Annual'!L$14,'Periodic Analysis 1'!40:40)","v":199.99999999999997},{"$f":"SUMIF('Periodic Analysis 1'!$33:$33,'Summary Annual'!M$14,'Periodic Analysis 1'!40:40)","v":199.99999999999997},{"$f":"SUMIF('Periodic Analysis 1'!$33:$33,'Summary Annual'!N$14,'Periodic Analysis 1'!40:40)","v":199.99999999999997},{"$f":"SUMIF('Periodic Analysis 1'!$33:$33,'Summary Annual'!O$14,'Periodic Analysis 1'!40:40)","v":199.99999999999997},{"$f":"SUMIF('Periodic Analysis 1'!$33:$33,'Summary Annual'!P$14,'Periodic Analysis 1'!40:40)","v":199.99999999999997},{"$f":"SUMIF('Periodic Analysis 1'!$33:$33,'Summary Annual'!Q$14,'Periodic Analysis 1'!40:40)","v":199.99999999999997},{"$f":"SUMIF('Periodic Analysis 1'!$33:$33,'Summary Annual'!R$14,'Periodic Analysis 1'!40:40)","v":0},{"$f":"SUMIF('Periodic Analysis 1'!$33:$33,'Summary Annual'!S$14,'Periodic Analysis 1'!40:40)","v":0},{"$f":"SUMIF('Periodic Analysis 1'!$33:$33,'Summary Annual'!T$14,'Periodic Analysis 1'!40:40)","v":0},{"$f":"SUMIF('Periodic Analysis 1'!$33:$33,'Summary Annual'!U$14,'Periodic Analysis 1'!40:40)","v":0},{"$f":"SUMIF('Periodic Analysis 1'!$33:$33,'Summary Annual'!V$14,'Periodic Analysis 1'!40:40)","v":0},{"$f":"SUMIF('Periodic Analysis 1'!$33:$33,'Summary Annual'!W$14,'Periodic Analysis 1'!40:40)","v":0},{"$f":"SUMIF('Periodic Analysis 1'!$33:$33,'Summary Annual'!X$14,'Periodic Analysis 1'!40:40)","v":0},{"$f":"SUMIF('Periodic Analysis 1'!$33:$33,'Summary Annual'!Y$14,'Periodic Analysis 1'!40:40)","v":0},{"$f":"SUMIF('Periodic Analysis 1'!$33:$33,'Summary Annual'!Z$14,'Periodic Analysis 1'!40:40)","v":0},{"$f":"SUMIF('Periodic Analysis 1'!$33:$33,'Summary Annual'!AA$14,'Periodic Analysis 1'!40:40)","v":0},{"$f":"SUMIF('Periodic Analysis 1'!$33:$33,'Summary Annual'!AB$14,'Periodic Analysis 1'!40:40)","v":0},{"$f":"SUMIF('Periodic Analysis 1'!$33:$33,'Summary Annual'!AC$14,'Periodic Analysis 1'!40:40)","v":0},{"$f":"SUMIF('Periodic Analysis 1'!$33:$33,'Summary Annual'!AD$14,'Periodic Analysis 1'!40:40)","v":0},{"$f":"SUMIF('Periodic Analysis 1'!$33:$33,'Summary Annual'!AE$14,'Periodic Analysis 1'!40:40)","v":0},{"$f":"SUMIF('Periodic Analysis 1'!$33:$33,'Summary Annual'!AF$14,'Periodic Analysis 1'!40:40)","v":0},{"$f":"SUMIF('Periodic Analysis 1'!$33:$33,'Summary Annual'!AG$14,'Periodic Analysis 1'!40:40)","v":0},{"$f":"SUMIF('Periodic Analysis 1'!$33:$33,'Summary Annual'!AH$14,'Periodic Analysis 1'!40:40)","v":0},{"$f":"SUMIF('Periodic Analysis 1'!$33:$33,'Summary Annual'!AI$14,'Periodic Analysis 1'!40:40)","v":0},{"$f":"SUMIF('Periodic Analysis 1'!$33:$33,'Summary Annual'!AJ$14,'Periodic Analysis 1'!40:40)","v":0},{"$f":"SUMIF('Periodic Analysis 1'!$33:$33,'Summary Annual'!AK$14,'Periodic Analysis 1'!40:40)","v":0},{"$f":"SUMIF('Periodic Analysis 1'!$33:$33,'Summary Annual'!AL$14,'Periodic Analysis 1'!40:40)","v":0},{"$f":"SUMIF('Periodic Analysis 1'!$33:$33,'Summary Annual'!AM$14,'Periodic Analysis 1'!40:40)","v":0},{"$f":"SUMIF('Periodic Analysis 1'!$33:$33,'Summary Annual'!AN$14,'Periodic Analysis 1'!40:40)","v":0},{"$f":"SUMIF('Periodic Analysis 1'!$33:$33,'Summary Annual'!AO$14,'Periodic Analysis 1'!40:40)","v":0},{"$f":"SUMIF('Periodic Analysis 1'!$33:$33,'Summary Annual'!AP$14,'Periodic Analysis 1'!40:40)","v":0},{"$f":"SUMIF('Periodic Analysis 1'!$33:$33,'Summary Annual'!AQ$14,'Periodic Analysis 1'!40:40)","v":0},{"$f":"SUMIF('Periodic Analysis 1'!$33:$33,'Summary Annual'!AR$14,'Periodic Analysis 1'!40:40)","v":0},{"$f":"SUMIF('Periodic Analysis 1'!$33:$33,'Summary Annual'!AS$14,'Periodic Analysis 1'!40:40)","v":0},{"$f":"SUMIF('Periodic Analysis 1'!$33:$33,'Summary Annual'!AT$14,'Periodic Analysis 1'!40:40)","v":0},{"$f":"SUMIF('Periodic Analysis 1'!$33:$33,'Summary Annual'!AU$14,'Periodic Analysis 1'!40:40)","v":0},{"$f":"SUMIF('Periodic Analysis 1'!$33:$33,'Summary Annual'!AV$14,'Periodic Analysis 1'!40:40)","v":0},{"$f":"SUMIF('Periodic Analysis 1'!$33:$33,'Summary Annual'!AW$14,'Periodic Analysis 1'!40:40)","v":0},{"$f":"SUMIF('Periodic Analysis 1'!$33:$33,'Summary Annual'!AX$14,'Periodic Analysis 1'!40:40)","v":0},{"$f":"SUMIF('Periodic Analysis 1'!$33:$33,'Summary Annual'!AY$14,'Periodic Analysis 1'!40:40)","v":0},{"$f":"SUMIF('Periodic Analysis 1'!$33:$33,'Summary Annual'!AZ$14,'Periodic Analysis 1'!40:40)","v":0},{"$f":"SUMIF('Periodic Analysis 1'!$33:$33,'Summary Annual'!BA$14,'Periodic Analysis 1'!40:40)","v":0},{"$f":"SUMIF('Periodic Analysis 1'!$33:$33,'Summary Annual'!BB$14,'Periodic Analysis 1'!40:40)","v":0},{"$f":"SUMIF('Periodic Analysis 1'!$33:$33,'Summary Annual'!BC$14,'Periodic Analysis 1'!40:40)","v":0},{"$f":"SUMIF('Periodic Analysis 1'!$33:$33,'Summary Annual'!BD$14,'Periodic Analysis 1'!40:40)","v":0},{"$f":"SUMIF('Periodic Analysis 1'!$33:$33,'Summary Annual'!BE$14,'Periodic Analysis 1'!40:40)","v":0},{"$f":"SUMIF('Periodic Analysis 1'!$33:$33,'Summary Annual'!BF$14,'Periodic Analysis 1'!40:40)","v":0},{"$f":"SUMIF('Periodic Analysis 1'!$33:$33,'Summary Annual'!BG$14,'Periodic Analysis 1'!40:40)","v":0},{"$f":"SUMIF('Periodic Analysis 1'!$33:$33,'Summary Annual'!BH$14,'Periodic Analysis 1'!40:40)","v":0},{"$f":"SUMIF('Periodic Analysis 1'!$33:$33,'Summary Annual'!BI$14,'Periodic Analysis 1'!40:40)","v":0}]
[]
[null,null,null,"Partner 1 - Pre-flip",null,{"$f":"SUMIF('Periodic Analysis 1'!$33:$33,'Summary Annual'!F$14,'Periodic Analysis 1'!59:59)","v":170},{"$f":"SUMIF('Periodic Analysis 1'!$33:$33,'Summary Annual'!G$14,'Periodic Analysis 1'!59:59)","v":170},{"$f":"SUMIF('Periodic Analysis 1'!$33:$33,'Summary Annual'!H$14,'Periodic Analysis 1'!59:59)","v":170},{"$f":"SUMIF('Periodic Analysis 1'!$33:$33,'Summary Annual'!I$14,'Periodic Analysis 1'!59:59)","v":170},{"$f":"SUMIF('Periodic Analysis 1'!$33:$33,'Summary Annual'!J$14,'Periodic Analysis 1'!59:59)","v":170},{"$f":"SUMIF('Periodic Analysis 1'!$33:$33,'Summary Annual'!K$14,'Periodic Analysis 1'!59:59)","v":170},{"$f":"SUMIF('Periodic Analysis 1'!$33:$33,'Summary Annual'!L$14,'Periodic Analysis 1'!59:59)","v":47.509498772151602},{"$f":"SUMIF('Periodic Analysis 1'!$33:$33,'Summary Annual'!M$14,'Periodic Analysis 1'!59:59)","v":0},{"$f":"SUMIF('Periodic Analysis 1'!$33:$33,'Summary Annual'!N$14,'Periodic Analysis 1'!59:59)","v":0},{"$f":"SUMIF('Periodic Analysis 1'!$33:$33,'Summary Annual'!O$14,'Periodic Analysis 1'!59:59)","v":0},{"$f":"SUMIF('Periodic Analysis 1'!$33:$33,'Summary Annual'!P$14,'Periodic Analysis 1'!59:59)","v":0},{"$f":"SUMIF('Periodic Analysis 1'!$33:$33,'Summary Annual'!Q$14,'Periodic Analysis 1'!59:59)","v":0},{"$f":"SUMIF('Periodic Analysis 1'!$33:$33,'Summary Annual'!R$14,'Periodic Analysis 1'!59:59)","v":0},{"$f":"SUMIF('Periodic Analysis 1'!$33:$33,'Summary Annual'!S$14,'Periodic Analysis 1'!59:59)","v":0},{"$f":"SUMIF('Periodic Analysis 1'!$33:$33,'Summary Annual'!T$14,'Periodic Analysis 1'!59:59)","v":0},{"$f":"SUMIF('Periodic Analysis 1'!$33:$33,'Summary Annual'!U$14,'Periodic Analysis 1'!59:59)","v":0},{"$f":"SUMIF('Periodic Analysis 1'!$33:$33,'Summary Annual'!V$14,'Periodic Analysis 1'!59:59)","v":0},{"$f":"SUMIF('Periodic Analysis 1'!$33:$33,'Summary Annual'!W$14,'Periodic Analysis 1'!59:59)","v":0},{"$f":"SUMIF('Periodic Analysis 1'!$33:$33,'Summary Annual'!X$14,'Periodic Analysis 1'!59:59)","v":0},{"$f":"SUMIF('Periodic Analysis 1'!$33:$33,'Summary Annual'!Y$14,'Periodic Analysis 1'!59:59)","v":0},{"$f":"SUMIF('Periodic Analysis 1'!$33:$33,'Summary Annual'!Z$14,'Periodic Analysis 1'!59:59)","v":0},{"$f":"SUMIF('Periodic Analysis 1'!$33:$33,'Summary Annual'!AA$14,'Periodic Analysis 1'!59:59)","v":0},{"$f":"SUMIF('Periodic Analysis 1'!$33:$33,'Summary Annual'!AB$14,'Periodic Analysis 1'!59:59)","v":0},{"$f":"SUMIF('Periodic Analysis 1'!$33:$33,'Summary Annual'!AC$14,'Periodic Analysis 1'!59:59)","v":0},{"$f":"SUMIF('Periodic Analysis 1'!$33:$33,'Summary Annual'!AD$14,'Periodic Analysis 1'!59:59)","v":0},{"$f":"SUMIF('Periodic Analysis 1'!$33:$33,'Summary Annual'!AE$14,'Periodic Analysis 1'!59:59)","v":0},{"$f":"SUMIF('Periodic Analysis 1'!$33:$33,'Summary Annual'!AF$14,'Periodic Analysis 1'!59:59)","v":0},{"$f":"SUMIF('Periodic Analysis 1'!$33:$33,'Summary Annual'!AG$14,'Periodic Analysis 1'!59:59)","v":0},{"$f":"SUMIF('Periodic Analysis 1'!$33:$33,'Summary Annual'!AH$14,'Periodic Analysis 1'!59:59)","v":0},{"$f":"SUMIF('Periodic Analysis 1'!$33:$33,'Summary Annual'!AI$14,'Periodic Analysis 1'!59:59)","v":0},{"$f":"SUMIF('Periodic Analysis 1'!$33:$33,'Summary Annual'!AJ$14,'Periodic Analysis 1'!59:59)","v":0},{"$f":"SUMIF('Periodic Analysis 1'!$33:$33,'Summary Annual'!AK$14,'Periodic Analysis 1'!59:59)","v":0},{"$f":"SUMIF('Periodic Analysis 1'!$33:$33,'Summary Annual'!AL$14,'Periodic Analysis 1'!59:59)","v":0},{"$f":"SUMIF('Periodic Analysis 1'!$33:$33,'Summary Annual'!AM$14,'Periodic Analysis 1'!59:59)","v":0},{"$f":"SUMIF('Periodic Analysis 1'!$33:$33,'Summary Annual'!AN$14,'Periodic Analysis 1'!59:59)","v":0},{"$f":"SUMIF('Periodic Analysis 1'!$33:$33,'Summary Annual'!AO$14,'Periodic Analysis 1'!59:59)","v":0},{"$f":"SUMIF('Periodic Analysis 1'!$33:$33,'Summary Annual'!AP$14,'Periodic Analysis 1'!59:59)","v":0},{"$f":"SUMIF('Periodic Analysis 1'!$33:$33,'Summary Annual'!AQ$14,'Periodic Analysis 1'!59:59)","v":0},{"$f":"SUMIF('Periodic Analysis 1'!$33:$33,'Summary Annual'!AR$14,'Periodic Analysis 1'!59:59)","v":0},{"$f":"SUMIF('Periodic Analysis 1'!$33:$33,'Summary Annual'!AS$14,'Periodic Analysis 1'!59:59)","v":0},{"$f":"SUMIF('Periodic Analysis 1'!$33:$33,'Summary Annual'!AT$14,'Periodic Analysis 1'!59:59)","v":0},{"$f":"SUMIF('Periodic Analysis 1'!$33:$33,'Summary Annual'!AU$14,'Periodic Analysis 1'!59:59)","v":0},{"$f":"SUMIF('Periodic Analysis 1'!$33:$33,'Summary Annual'!AV$14,'Periodic Analysis 1'!59:59)","v":0},{"$f":"SUMIF('Periodic Analysis 1'!$33:$33,'Summary Annual'!AW$14,'Periodic Analysis 1'!59:59)","v":0},{"$f":"SUMIF('Periodic Analysis 1'!$33:$33,'Summary Annual'!AX$14,'Periodic Analysis 1'!59:59)","v":0},{"$f":"SUMIF('Periodic Analysis 1'!$33:$33,'Summary Annual'!AY$14,'Periodic Analysis 1'!59:59)","v":0},{"$f":"SUMIF('Periodic Analysis 1'!$33:$33,'Summary Annual'!AZ$14,'Periodic Analysis 1'!59:59)","v":0},{"$f":"SUMIF('Periodic Analysis 1'!$33:$33,'Summary Annual'!BA$14,'Periodic Analysis 1'!59:59)","v":0},{"$f":"SUMIF('Periodic Analysis 1'!$33:$33,'Summary Annual'!BB$14,'Periodic Analysis 1'!59:59)","v":0},{"$f":"SUMIF('Periodic Analysis 1'!$33:$33,'Summary Annual'!BC$14,'Periodic Analysis 1'!59:59)","v":0},{"$f":"SUMIF('Periodic Analysis 1'!$33:$33,'Summary Annual'!BD$14,'Periodic Analysis 1'!59:59)","v":0},{"$f":"SUMIF('Periodic Analysis 1'!$33:$33,'Summary Annual'!BE$14,'Periodic Analysis 1'!59:59)","v":0},{"$f":"SUMIF('Periodic Analysis 1'!$33:$33,'Summary Annual'!BF$14,'Periodic Analysis 1'!59:59)","v":0},{"$f":"SUMIF('Periodic Analysis 1'!$33:$33,'Summary Annual'!BG$14,'Periodic Analysis 1'!59:59)","v":0},{"$f":"SUMIF('Periodic Analysis 1'!$33:$33,'Summary Annual'!BH$14,'Periodic Analysis 1'!59:59)","v":0},{"$f":"SUMIF('Periodic Analysis 1'!$33:$33,'Summary Annual'!BI$14,'Periodic Analysis 1'!59:59)","v":0}]
[null,null,null,"Partner 1 - Post Flip",null,{"$f":"SUMIF('Periodic Analysis 1'!$33:$33,'Summary Annual'!F$14,'Periodic Analysis 1'!65:65)","v":0},{"$f":"SUMIF('Periodic Analysis 1'!$33:$33,'Summary Annual'!G$14,'Periodic Analysis 1'!65:65)","v":0},{"$f":"SUMIF('Periodic Analysis 1'!$33:$33,'Summary Annual'!H$14,'Periodic Analysis 1'!65:65)","v":0},{"$f":"SUMIF('Periodic Analysis 1'!$33:$33,'Summary Annual'!I$14,'Periodic Analysis 1'!65:65)","v":0},{"$f":"SUMIF('Periodic Analysis 1'!$33:$33,'Summary Annual'!J$14,'Periodic Analysis 1'!65:65)","v":0},{"$f":"SUMIF('Periodic Analysis 1'!$33:$33,'Summary Annual'!K$14,'Periodic Analysis 1'!65:65)","v":0},{"$f":"SUMIF('Periodic Analysis 1'!$33:$33,'Summary Annual'!L$14,'Periodic Analysis 1'!65:65)","v":15.851711923603913},{"$f":"SUMIF('Periodic Analysis 1'!$33:$33,'Summary Annual'!M$14,'Periodic Analysis 1'!65:65)","v":22},{"$f":"SUMIF('Periodic Analysis 1'!$33:$33,'Summary Annual'!N$14,'Periodic Analysis 1'!65:65)","v":22},{"$f":"SUMIF('Periodic Analysis 1'!$33:$33,'Summary Annual'!O$14,'Periodic Analysis 1'!65:65)","v":22},{"$f":"SUMIF('Periodic Analysis 1'!$33:$33,'Summary Annual'!P$14,'Periodic Analysis 1'!65:65)","v":22},{"$f":"SUMIF('Periodic Analysis 1'!$33:$33,'Summary Annual'!Q$14,'Periodic Analysis 1'!65:65)","v":22},{"$f":"SUMIF('Periodic Analysis 1'!$33:$33,'Summary Annual'!R$14,'Periodic Analysis 1'!65:65)","v":0},{"$f":"SUMIF('Periodic Analysis 1'!$33:$33,'Summary Annual'!S$14,'Periodic Analysis 1'!65:65)","v":0},{"$f":"SUMIF('Periodic Analysis 1'!$33:$33,'Summary Annual'!T$14,'Periodic Analysis 1'!65:65)","v":0},{"$f":"SUMIF('Periodic Analysis 1'!$33:$33,'Summary Annual'!U$14,'Periodic Analysis 1'!65:65)","v":0},{"$f":"SUMIF('Periodic Analysis 1'!$33:$33,'Summary Annual'!V$14,'Periodic Analysis 1'!65:65)","v":0},{"$f":"SUMIF('Periodic Analysis 1'!$33:$33,'Summary Annual'!W$14,'Periodic Analysis 1'!65:65)","v":0},{"$f":"SUMIF('Periodic Analysis 1'!$33:$33,'Summary Annual'!X$14,'Periodic Analysis 1'!65:65)","v":0},{"$f":"SUMIF('Periodic Analysis 1'!$33:$33,'Summary Annual'!Y$14,'Periodic Analysis 1'!65:65)","v":0},{"$f":"SUMIF('Periodic Analysis 1'!$33:$33,'Summary Annual'!Z$14,'Periodic Analysis 1'!65:65)","v":0},{"$f":"SUMIF('Periodic Analysis 1'!$33:$33,'Summary Annual'!AA$14,'Periodic Analysis 1'!65:65)","v":0},{"$f":"SUMIF('Periodic Analysis 1'!$33:$33,'Summary Annual'!AB$14,'Periodic Analysis 1'!65:65)","v":0},{"$f":"SUMIF('Periodic Analysis 1'!$33:$33,'Summary Annual'!AC$14,'Periodic Analysis 1'!65:65)","v":0},{"$f":"SUMIF('Periodic Analysis 1'!$33:$33,'Summary Annual'!AD$14,'Periodic Analysis 1'!65:65)","v":0},{"$f":"SUMIF('Periodic Analysis 1'!$33:$33,'Summary Annual'!AE$14,'Periodic Analysis 1'!65:65)","v":0},{"$f":"SUMIF('Periodic Analysis 1'!$33:$33,'Summary Annual'!AF$14,'Periodic Analysis 1'!65:65)","v":0},{"$f":"SUMIF('Periodic Analysis 1'!$33:$33,'Summary Annual'!AG$14,'Periodic Analysis 1'!65:65)","v":0},{"$f":"SUMIF('Periodic Analysis 1'!$33:$33,'Summary Annual'!AH$14,'Periodic Analysis 1'!65:65)","v":0},{"$f":"SUMIF('Periodic Analysis 1'!$33:$33,'Summary Annual'!AI$14,'Periodic Analysis 1'!65:65)","v":0},{"$f":"SUMIF('Periodic Analysis 1'!$33:$33,'Summary Annual'!AJ$14,'Periodic Analysis 1'!65:65)","v":0},{"$f":"SUMIF('Periodic Analysis 1'!$33:$33,'Summary Annual'!AK$14,'Periodic Analysis 1'!65:65)","v":0},{"$f":"SUMIF('Periodic Analysis 1'!$33:$33,'Summary Annual'!AL$14,'Periodic Analysis 1'!65:65)","v":0},{"$f":"SUMIF('Periodic Analysis 1'!$33:$33,'Summary Annual'!AM$14,'Periodic Analysis 1'!65:65)","v":0},{"$f":"SUMIF('Periodic Analysis 1'!$33:$33,'Summary Annual'!AN$14,'Periodic Analysis 1'!65:65)","v":0},{"$f":"SUMIF('Periodic Analysis 1'!$33:$33,'Summary Annual'!AO$14,'Periodic Analysis 1'!65:65)","v":0},{"$f":"SUMIF('Periodic Analysis 1'!$33:$33,'Summary Annual'!AP$14,'Periodic Analysis 1'!65:65)","v":0},{"$f":"SUMIF('Periodic Analysis 1'!$33:$33,'Summary Annual'!AQ$14,'Periodic Analysis 1'!65:65)","v":0},{"$f":"SUMIF('Periodic Analysis 1'!$33:$33,'Summary Annual'!AR$14,'Periodic Analysis 1'!65:65)","v":0},{"$f":"SUMIF('Periodic Analysis 1'!$33:$33,'Summary Annual'!AS$14,'Periodic Analysis 1'!65:65)","v":0},{"$f":"SUMIF('Periodic Analysis 1'!$33:$33,'Summary Annual'!AT$14,'Periodic Analysis 1'!65:65)","v":0},{"$f":"SUMIF('Periodic Analysis 1'!$33:$33,'Summary Annual'!AU$14,'Periodic Analysis 1'!65:65)","v":0},{"$f":"SUMIF('Periodic Analysis 1'!$33:$33,'Summary Annual'!AV$14,'Periodic Analysis 1'!65:65)","v":0},{"$f":"SUMIF('Periodic Analysis 1'!$33:$33,'Summary Annual'!AW$14,'Periodic Analysis 1'!65:65)","v":0},{"$f":"SUMIF('Periodic Analysis 1'!$33:$33,'Summary Annual'!AX$14,'Periodic Analysis 1'!65:65)","v":0},{"$f":"SUMIF('Periodic Analysis 1'!$33:$33,'Summary Annual'!AY$14,'Periodic Analysis 1'!65:65)","v":0},{"$f":"SUMIF('Periodic Analysis 1'!$33:$33,'Summary Annual'!AZ$14,'Periodic Analysis 1'!65:65)","v":0},{"$f":"SUMIF('Periodic Analysis 1'!$33:$33,'Summary Annual'!BA$14,'Periodic Analysis 1'!65:65)","v":0},{"$f":"SUMIF('Periodic Analysis 1'!$33:$33,'Summary Annual'!BB$14,'Periodic Analysis 1'!65:65)","v":0},{"$f":"SUMIF('Periodic Analysis 1'!$33:$33,'Summary Annual'!BC$14,'Periodic Analysis 1'!65:65)","v":0},{"$f":"SUMIF('Periodic Analysis 1'!$33:$33,'Summary Annual'!BD$14,'Periodic Analysis 1'!65:65)","v":0},{"$f":"SUMIF('Periodic Analysis 1'!$33:$33,'Summary Annual'!BE$14,'Periodic Analysis 1'!65:65)","v":0},{"$f":"SUMIF('Periodic Analysis 1'!$33:$33,'Summary Annual'!BF$14,'Periodic Analysis 1'!65:65)","v":0},{"$f":"SUMIF('Periodic Analysis 1'!$33:$33,'Summary Annual'!BG$14,'Periodic Analysis 1'!65:65)","v":0},{"$f":"SUMIF('Periodic Analysis 1'!$33:$33,'Summary Annual'!BH$14,'Periodic Analysis 1'!65:65)","v":0},{"$f":"SUMIF('Periodic Analysis 1'!$33:$33,'Summary Annual'!BI$14,'Periodic Analysis 1'!65:65)","v":0}]
[null,null,null,"Partner 2 Cash Flow",null,{"$f":"SUMIF('Periodic Analysis 1'!$33:$33,'Summary Annual'!F$14,'Periodic Analysis 1'!68:68)","v":30},{"$f":"SUMIF('Periodic Analysis 1'!$33:$33,'Summary Annual'!G$14,'Periodic Analysis 1'!68:68)","v":30},{"$f":"SUMIF('Periodic Analysis 1'!$33:$33,'Summary Annual'!H$14,'Periodic Analysis 1'!68:68)","v":30},{"$f":"SUMIF('Periodic Analysis 1'!$33:$33,'Summary Annual'!I$14,'Periodic Analysis 1'!68:68)","v":30},{"$f":"SUMIF('Periodic Analysis 1'!$33:$33,'Summary Annual'!J$14,'Periodic Analysis 1'!68:68)","v":30},{"$f":"SUMIF('Periodic Analysis 1'!$33:$33,'Summary Annual'!K$14,'Periodic Analysis 1'!68:68)","v":30},{"$f":"SUMIF('Periodic Analysis 1'!$33:$33,'Summary Annual'!L$14,'Periodic Analysis 1'!68:68)","v":136.63878930424448},{"$f":"SUMIF('Periodic Analysis 1'!$33:$33,'Summary Annual'!M$14,'Periodic Analysis 1'!68:68)","v":178.00000000000003},{"$f":"SUMIF('Periodic Analysis 1'!$33:$33,'Summary Annual'!N$14,'Periodic Analysis 1'!68:68)","v":178.00000000000003},{"$f":"SUMIF('Periodic Analysis 1'!$33:$33,'Summary Annual'!O$14,'Periodic Analysis 1'!68:68)","v":178.00000000000003},{"$f":"SUMIF('Periodic Analysis 1'!$33:$33,'Summary Annual'!P$14,'Periodic Analysis 1'!68:68)","v":178.00000000000003},{"$f":"SUMIF('Periodic Analysis 1'!$33:$33,'Summary Annual'!Q$14,'Periodic Analysis 1'!68:68)","v":178.00000000000003},{"$f":"SUMIF('Periodic Analysis 1'!$33:$33,'Summary Annual'!R$14,'Periodic Analysis 1'!68:68)","v":0},{"$f":"SUMIF('Periodic Analysis 1'!$33:$33,'Summary Annual'!S$14,'Periodic Analysis 1'!68:68)","v":0},{"$f":"SUMIF('Periodic Analysis 1'!$33:$33,'Summary Annual'!T$14,'Periodic Analysis 1'!68:68)","v":0},{"$f":"SUMIF('Periodic Analysis 1'!$33:$33,'Summary Annual'!U$14,'Periodic Analysis 1'!68:68)","v":0},{"$f":"SUMIF('Periodic Analysis 1'!$33:$33,'Summary Annual'!V$14,'Periodic Analysis 1'!68:68)","v":0},{"$f":"SUMIF('Periodic Analysis 1'!$33:$33,'Summary Annual'!W$14,'Periodic Analysis 1'!68:68)","v":0},{"$f":"SUMIF('Periodic Analysis 1'!$33:$33,'Summary Annual'!X$14,'Periodic Analysis 1'!68:68)","v":0},{"$f":"SUMIF('Periodic Analysis 1'!$33:$33,'Summary Annual'!Y$14,'Periodic Analysis 1'!68:68)","v":0},{"$f":"SUMIF('Periodic Analysis 1'!$33:$33,'Summary Annual'!Z$14,'Periodic Analysis 1'!68:68)","v":0},{"$f":"SUMIF('Periodic Analysis 1'!$33:$33,'Summary Annual'!AA$14,'Periodic Analysis 1'!68:68)","v":0},{"$f":"SUMIF('Periodic Analysis 1'!$33:$33,'Summary Annual'!AB$14,'Periodic Analysis 1'!68:68)","v":0},{"$f":"SUMIF('Periodic Analysis 1'!$33:$33,'Summary Annual'!AC$14,'Periodic Analysis 1'!68:68)","v":0},{"$f":"SUMIF('Periodic Analysis 1'!$33:$33,'Summary Annual'!AD$14,'Periodic Analysis 1'!68:68)","v":0},{"$f":"SUMIF('Periodic Analysis 1'!$33:$33,'Summary Annual'!AE$14,'Periodic Analysis 1'!68:68)","v":0},{"$f":"SUMIF('Periodic Analysis 1'!$33:$33,'Summary Annual'!AF$14,'Periodic Analysis 1'!68:68)","v":0},{"$f":"SUMIF('Periodic Analysis 1'!$33:$33,'Summary Annual'!AG$14,'Periodic Analysis 1'!68:68)","v":0},{"$f":"SUMIF('Periodic Analysis 1'!$33:$33,'Summary Annual'!AH$14,'Periodic Analysis 1'!68:68)","v":0},{"$f":"SUMIF('Periodic Analysis 1'!$33:$33,'Summary Annual'!AI$14,'Periodic Analysis 1'!68:68)","v":0},{"$f":"SUMIF('Periodic Analysis 1'!$33:$33,'Summary Annual'!AJ$14,'Periodic Analysis 1'!68:68)","v":0},{"$f":"SUMIF('Periodic Analysis 1'!$33:$33,'Summary Annual'!AK$14,'Periodic Analysis 1'!68:68)","v":0},{"$f":"SUMIF('Periodic Analysis 1'!$33:$33,'Summary Annual'!AL$14,'Periodic Analysis 1'!68:68)","v":0},{"$f":"SUMIF('Periodic Analysis 1'!$33:$33,'Summary Annual'!AM$14,'Periodic Analysis 1'!68:68)","v":0},{"$f":"SUMIF('Periodic Analysis 1'!$33:$33,'Summary Annual'!AN$14,'Periodic Analysis 1'!68:68)","v":0},{"$f":"SUMIF('Periodic Analysis 1'!$33:$33,'Summary Annual'!AO$14,'Periodic Analysis 1'!68:68)","v":0},{"$f":"SUMIF('Periodic Analysis 1'!$33:$33,'Summary Annual'!AP$14,'Periodic Analysis 1'!68:68)","v":0},{"$f":"SUMIF('Periodic Analysis 1'!$33:$33,'Summary Annual'!AQ$14,'Periodic Analysis 1'!68:68)","v":0},{"$f":"SUMIF('Periodic Analysis 1'!$33:$33,'Summary Annual'!AR$14,'Periodic Analysis 1'!68:68)","v":0},{"$f":"SUMIF('Periodic Analysis 1'!$33:$33,'Summary Annual'!AS$14,'Periodic Analysis 1'!68:68)","v":0},{"$f":"SUMIF('Periodic Analysis 1'!$33:$33,'Summary Annual'!AT$14,'Periodic Analysis 1'!68:68)","v":0},{"$f":"SUMIF('Periodic Analysis 1'!$33:$33,'Summary Annual'!AU$14,'Periodic Analysis 1'!68:68)","v":0},{"$f":"SUMIF('Periodic Analysis 1'!$33:$33,'Summary Annual'!AV$14,'Periodic Analysis 1'!68:68)","v":0},{"$f":"SUMIF('Periodic Analysis 1'!$33:$33,'Summary Annual'!AW$14,'Periodic Analysis 1'!68:68)","v":0},{"$f":"SUMIF('Periodic Analysis 1'!$33:$33,'Summary Annual'!AX$14,'Periodic Analysis 1'!68:68)","v":0},{"$f":"SUMIF('Periodic Analysis 1'!$33:$33,'Summary Annual'!AY$14,'Periodic Analysis 1'!68:68)","v":0},{"$f":"SUMIF('Periodic Analysis 1'!$33:$33,'Summary Annual'!AZ$14,'Periodic Analysis 1'!68:68)","v":0},{"$f":"SUMIF('Periodic Analysis 1'!$33:$33,'Summary Annual'!BA$14,'Periodic Analysis 1'!68:68)","v":0},{"$f":"SUMIF('Periodic Analysis 1'!$33:$33,'Summary Annual'!BB$14,'Periodic Analysis 1'!68:68)","v":0},{"$f":"SUMIF('Periodic Analysis 1'!$33:$33,'Summary Annual'!BC$14,'Periodic Analysis 1'!68:68)","v":0},{"$f":"SUMIF('Periodic Analysis 1'!$33:$33,'Summary Annual'!BD$14,'Periodic Analysis 1'!68:68)","v":0},{"$f":"SUMIF('Periodic Analysis 1'!$33:$33,'Summary Annual'!BE$14,'Periodic Analysis 1'!68:68)","v":0},{"$f":"SUMIF('Periodic Analysis 1'!$33:$33,'Summary Annual'!BF$14,'Periodic Analysis 1'!68:68)","v":0},{"$f":"SUMIF('Periodic Analysis 1'!$33:$33,'Summary Annual'!BG$14,'Periodic Analysis 1'!68:68)","v":0},{"$f":"SUMIF('Periodic Analysis 1'!$33:$33,'Summary Annual'!BH$14,'Periodic Analysis 1'!68:68)","v":0},{"$f":"SUMIF('Periodic Analysis 1'!$33:$33,'Summary Annual'!BI$14,'Periodic Analysis 1'!68:68)","v":0}]
[null,null,null,"Total",{"$f":"E17","v":-1000},{"$f":"SUM(F19:F21)","v":200},{"$f":"SUM(G19:G21)","v":200},200,200,200,200,200,200.00000000000003,200.00000000000003,200.00000000000003,200.00000000000003,200.00000000000003,0,0,0,0,0,0,0,0,0,0,0,0,0,0,0,0,0,0,0,0,0,0,0,0,0,0,0,0,0,0,0,0,0,0,0,0,0,0,0,0,0,0,0,0]
[]
[null,null,null,"Total IRR",{"$f":"IRR(E22:BI22)","v":0.16942550857963257}]
[]
[null,null,"Periodic 2"]
[null,null,null,"Operating Cash",{"$f":"-'Periodic Analysis 2'!E19","v":-1000},{"$f":"SUMIF('Periodic Analysis 2'!$42:$42,'Summary Annual'!F$14,'Periodic Analysis 2'!49:49)","v":199.99999999999997},{"$f":"SUMIF('Periodic Analysis 2'!$42:$42,'Summary Annual'!G$14,'Periodic Analysis 2'!49:49)","v":199.99999999999997},{"$f":"SUMIF('Periodic Analysis 2'!$42:$42,'Summary Annual'!H$14,'Periodic Analysis 2'!49:49)","v":199.99999999999997},{"$f":"SUMIF('Periodic Analysis 2'!$42:$42,'Summary Annual'!I$14,'Periodic Analysis 2'!49:49)","v":199.99999999999997},{"$f":"SUMIF('Periodic Analysis 2'!$42:$42,'Summary Annual'!J$14,'Periodic Analysis 2'!49:49)","v":199.99999999999997},{"$f":"SUMIF('Periodic Analysis 2'!$42:$42,'Summary Annual'!K$14,'Periodic Analysis 2'!49:49)","v":199.99999999999997},{"$f":"SUMIF('Periodic Analysis 2'!$42:$42,'Summary Annual'!L$14,'Periodic Analysis 2'!49:49)","v":199.99999999999997},{"$f":"SUMIF('Periodic Analysis 2'!$42:$42,'Summary Annual'!M$14,'Periodic Analysis 2'!49:49)","v":199.99999999999997},{"$f":"SUMIF('Periodic Analysis 2'!$42:$42,'Summary Annual'!N$14,'Periodic Analysis 2'!49:49)","v":199.99999999999997},{"$f":"SUMIF('Periodic Analysis 2'!$42:$42,'Summary Annual'!O$14,'Periodic Analysis 2'!49:49)","v":199.99999999999997},{"$f":"SUMIF('Periodic Analysis 2'!$42:$42,'Summary Annual'!P$14,'Periodic Analysis 2'!49:49)","v":199.99999999999997},{"$f":"SUMIF('Periodic Analysis 2'!$42:$42,'Summary Annual'!Q$14,'Periodic Analysis 2'!49:49)","v":199.99999999999997},{"$f":"SUMIF('Periodic Analysis 2'!$42:$42,'Summary Annual'!R$14,'Periodic Analysis 2'!49:49)","v":0},{"$f":"SUMIF('Periodic Analysis 2'!$42:$42,'Summary Annual'!S$14,'Periodic Analysis 2'!49:49)","v":0},{"$f":"SUMIF('Periodic Analysis 2'!$42:$42,'Summary Annual'!T$14,'Periodic Analysis 2'!49:49)","v":0},{"$f":"SUMIF('Periodic Analysis 2'!$42:$42,'Summary Annual'!U$14,'Periodic Analysis 2'!49:49)","v":0},{"$f":"SUMIF('Periodic Analysis 2'!$42:$42,'Summary Annual'!V$14,'Periodic Analysis 2'!49:49)","v":0},{"$f":"SUMIF('Periodic Analysis 2'!$42:$42,'Summary Annual'!W$14,'Periodic Analysis 2'!49:49)","v":0},{"$f":"SUMIF('Periodic Analysis 2'!$42:$42,'Summary Annual'!X$14,'Periodic Analysis 2'!49:49)","v":0},{"$f":"SUMIF('Periodic Analysis 2'!$42:$42,'Summary Annual'!Y$14,'Periodic Analysis 2'!49:49)","v":0},{"$f":"SUMIF('Periodic Analysis 2'!$42:$42,'Summary Annual'!Z$14,'Periodic Analysis 2'!49:49)","v":0},{"$f":"SUMIF('Periodic Analysis 2'!$42:$42,'Summary Annual'!AA$14,'Periodic Analysis 2'!49:49)","v":0},{"$f":"SUMIF('Periodic Analysis 2'!$42:$42,'Summary Annual'!AB$14,'Periodic Analysis 2'!49:49)","v":0},{"$f":"SUMIF('Periodic Analysis 2'!$42:$42,'Summary Annual'!AC$14,'Periodic Analysis 2'!49:49)","v":0},{"$f":"SUMIF('Periodic Analysis 2'!$42:$42,'Summary Annual'!AD$14,'Periodic Analysis 2'!49:49)","v":0},{"$f":"SUMIF('Periodic Analysis 2'!$42:$42,'Summary Annual'!AE$14,'Periodic Analysis 2'!49:49)","v":0},{"$f":"SUMIF('Periodic Analysis 2'!$42:$42,'Summary Annual'!AF$14,'Periodic Analysis 2'!49:49)","v":0},{"$f":"SUMIF('Periodic Analysis 2'!$42:$42,'Summary Annual'!AG$14,'Periodic Analysis 2'!49:49)","v":0},{"$f":"SUMIF('Periodic Analysis 2'!$42:$42,'Summary Annual'!AH$14,'Periodic Analysis 2'!49:49)","v":0},{"$f":"SUMIF('Periodic Analysis 2'!$42:$42,'Summary Annual'!AI$14,'Periodic Analysis 2'!49:49)","v":0},{"$f":"SUMIF('Periodic Analysis 2'!$42:$42,'Summary Annual'!AJ$14,'Periodic Analysis 2'!49:49)","v":0},{"$f":"SUMIF('Periodic Analysis 2'!$42:$42,'Summary Annual'!AK$14,'Periodic Analysis 2'!49:49)","v":0},{"$f":"SUMIF('Periodic Analysis 2'!$42:$42,'Summary Annual'!AL$14,'Periodic Analysis 2'!49:49)","v":0},{"$f":"SUMIF('Periodic Analysis 2'!$42:$42,'Summary Annual'!AM$14,'Periodic Analysis 2'!49:49)","v":0},{"$f":"SUMIF('Periodic Analysis 2'!$42:$42,'Summary Annual'!AN$14,'Periodic Analysis 2'!49:49)","v":0},{"$f":"SUMIF('Periodic Analysis 2'!$42:$42,'Summary Annual'!AO$14,'Periodic Analysis 2'!49:49)","v":0},{"$f":"SUMIF('Periodic Analysis 2'!$42:$42,'Summary Annual'!AP$14,'Periodic Analysis 2'!49:49)","v":0},{"$f":"SUMIF('Periodic Analysis 2'!$42:$42,'Summary Annual'!AQ$14,'Periodic Analysis 2'!49:49)","v":0},{"$f":"SUMIF('Periodic Analysis 2'!$42:$42,'Summary Annual'!AR$14,'Periodic Analysis 2'!49:49)","v":0},{"$f":"SUMIF('Periodic Analysis 2'!$42:$42,'Summary Annual'!AS$14,'Periodic Analysis 2'!49:49)","v":0},{"$f":"SUMIF('Periodic Analysis 2'!$42:$42,'Summary Annual'!AT$14,'Periodic Analysis 2'!49:49)","v":0},{"$f":"SUMIF('Periodic Analysis 2'!$42:$42,'Summary Annual'!AU$14,'Periodic Analysis 2'!49:49)","v":0},{"$f":"SUMIF('Periodic Analysis 2'!$42:$42,'Summary Annual'!AV$14,'Periodic Analysis 2'!49:49)","v":0},{"$f":"SUMIF('Periodic Analysis 2'!$42:$42,'Summary Annual'!AW$14,'Periodic Analysis 2'!49:49)","v":0},{"$f":"SUMIF('Periodic Analysis 2'!$42:$42,'Summary Annual'!AX$14,'Periodic Analysis 2'!49:49)","v":0},{"$f":"SUMIF('Periodic Analysis 2'!$42:$42,'Summary Annual'!AY$14,'Periodic Analysis 2'!49:49)","v":0},{"$f":"SUMIF('Periodic Analysis 2'!$42:$42,'Summary Annual'!AZ$14,'Periodic Analysis 2'!49:49)","v":0},{"$f":"SUMIF('Periodic Analysis 2'!$42:$42,'Summary Annual'!BA$14,'Periodic Analysis 2'!49:49)","v":0},{"$f":"SUMIF('Periodic Analysis 2'!$42:$42,'Summary Annual'!BB$14,'Periodic Analysis 2'!49:49)","v":0},{"$f":"SUMIF('Periodic Analysis 2'!$42:$42,'Summary Annual'!BC$14,'Periodic Analysis 2'!49:49)","v":0},{"$f":"SUMIF('Periodic Analysis 2'!$42:$42,'Summary Annual'!BD$14,'Periodic Analysis 2'!49:49)","v":0},{"$f":"SUMIF('Periodic Analysis 2'!$42:$42,'Summary Annual'!BE$14,'Periodic Analysis 2'!49:49)","v":0},{"$f":"SUMIF('Periodic Analysis 2'!$42:$42,'Summary Annual'!BF$14,'Periodic Analysis 2'!49:49)","v":0},{"$f":"SUMIF('Periodic Analysis 2'!$42:$42,'Summary Annual'!BG$14,'Periodic Analysis 2'!49:49)","v":0},{"$f":"SUMIF('Periodic Analysis 2'!$42:$42,'Summary Annual'!BH$14,'Periodic Analysis 2'!49:49)","v":0},{"$f":"SUMIF('Periodic Analysis 2'!$42:$42,'Summary Annual'!BI$14,'Periodic Analysis 2'!49:49)","v":0}]
[]
[null,null,null,"Partner 1 - Pre-flip",null,{"$f":"SUMIF('Periodic Analysis 2'!$42:$42,'Summary Annual'!F$14,'Periodic Analysis 2'!67:67)","v":170},{"$f":"SUMIF('Periodic Analysis 2'!$42:$42,'Summary Annual'!G$14,'Periodic Analysis 2'!67:67)","v":170},{"$f":"SUMIF('Periodic Analysis 2'!$42:$42,'Summary Annual'!H$14,'Periodic Analysis 2'!67:67)","v":170},{"$f":"SUMIF('Periodic Analysis 2'!$42:$42,'Summary Annual'!I$14,'Periodic Analysis 2'!67:67)","v":170},{"$f":"SUMIF('Periodic Analysis 2'!$42:$42,'Summary Annual'!J$14,'Periodic Analysis 2'!67:67)","v":170},{"$f":"SUMIF('Periodic Analysis 2'!$42:$42,'Summary Annual'!K$14,'Periodic Analysis 2'!67:67)","v":170},{"$f":"SUMIF('Periodic Analysis 2'!$42:$42,'Summary Annual'!L$14,'Periodic Analysis 2'!67:67)","v":47.509498772151602},{"$f":"SUMIF('Periodic Analysis 2'!$42:$42,'Summary Annual'!M$14,'Periodic Analysis 2'!67:67)","v":0},{"$f":"SUMIF('Periodic Analysis 2'!$42:$42,'Summary Annual'!N$14,'Periodic Analysis 2'!67:67)","v":0},{"$f":"SUMIF('Periodic Analysis 2'!$42:$42,'Summary Annual'!O$14,'Periodic Analysis 2'!67:67)","v":0},{"$f":"SUMIF('Periodic Analysis 2'!$42:$42,'Summary Annual'!P$14,'Periodic Analysis 2'!67:67)","v":0},{"$f":"SUMIF('Periodic Analysis 2'!$42:$42,'Summary Annual'!Q$14,'Periodic Analysis 2'!67:67)","v":0},{"$f":"SUMIF('Periodic Analysis 2'!$42:$42,'Summary Annual'!R$14,'Periodic Analysis 2'!67:67)","v":0},{"$f":"SUMIF('Periodic Analysis 2'!$42:$42,'Summary Annual'!S$14,'Periodic Analysis 2'!67:67)","v":0},{"$f":"SUMIF('Periodic Analysis 2'!$42:$42,'Summary Annual'!T$14,'Periodic Analysis 2'!67:67)","v":0},{"$f":"SUMIF('Periodic Analysis 2'!$42:$42,'Summary Annual'!U$14,'Periodic Analysis 2'!67:67)","v":0},{"$f":"SUMIF('Periodic Analysis 2'!$42:$42,'Summary Annual'!V$14,'Periodic Analysis 2'!67:67)","v":0},{"$f":"SUMIF('Periodic Analysis 2'!$42:$42,'Summary Annual'!W$14,'Periodic Analysis 2'!67:67)","v":0},{"$f":"SUMIF('Periodic Analysis 2'!$42:$42,'Summary Annual'!X$14,'Periodic Analysis 2'!67:67)","v":0},{"$f":"SUMIF('Periodic Analysis 2'!$42:$42,'Summary Annual'!Y$14,'Periodic Analysis 2'!67:67)","v":0},{"$f":"SUMIF('Periodic Analysis 2'!$42:$42,'Summary Annual'!Z$14,'Periodic Analysis 2'!67:67)","v":0},{"$f":"SUMIF('Periodic Analysis 2'!$42:$42,'Summary Annual'!AA$14,'Periodic Analysis 2'!67:67)","v":0},{"$f":"SUMIF('Periodic Analysis 2'!$42:$42,'Summary Annual'!AB$14,'Periodic Analysis 2'!67:67)","v":0},{"$f":"SUMIF('Periodic Analysis 2'!$42:$42,'Summary Annual'!AC$14,'Periodic Analysis 2'!67:67)","v":0},{"$f":"SUMIF('Periodic Analysis 2'!$42:$42,'Summary Annual'!AD$14,'Periodic Analysis 2'!67:67)","v":0},{"$f":"SUMIF('Periodic Analysis 2'!$42:$42,'Summary Annual'!AE$14,'Periodic Analysis 2'!67:67)","v":0},{"$f":"SUMIF('Periodic Analysis 2'!$42:$42,'Summary Annual'!AF$14,'Periodic Analysis 2'!67:67)","v":0},{"$f":"SUMIF('Periodic Analysis 2'!$42:$42,'Summary Annual'!AG$14,'Periodic Analysis 2'!67:67)","v":0},{"$f":"SUMIF('Periodic Analysis 2'!$42:$42,'Summary Annual'!AH$14,'Periodic Analysis 2'!67:67)","v":0},{"$f":"SUMIF('Periodic Analysis 2'!$42:$42,'Summary Annual'!AI$14,'Periodic Analysis 2'!67:67)","v":0},{"$f":"SUMIF('Periodic Analysis 2'!$42:$42,'Summary Annual'!AJ$14,'Periodic Analysis 2'!67:67)","v":0},{"$f":"SUMIF('Periodic Analysis 2'!$42:$42,'Summary Annual'!AK$14,'Periodic Analysis 2'!67:67)","v":0},{"$f":"SUMIF('Periodic Analysis 2'!$42:$42,'Summary Annual'!AL$14,'Periodic Analysis 2'!67:67)","v":0},{"$f":"SUMIF('Periodic Analysis 2'!$42:$42,'Summary Annual'!AM$14,'Periodic Analysis 2'!67:67)","v":0},{"$f":"SUMIF('Periodic Analysis 2'!$42:$42,'Summary Annual'!AN$14,'Periodic Analysis 2'!67:67)","v":0},{"$f":"SUMIF('Periodic Analysis 2'!$42:$42,'Summary Annual'!AO$14,'Periodic Analysis 2'!67:67)","v":0},{"$f":"SUMIF('Periodic Analysis 2'!$42:$42,'Summary Annual'!AP$14,'Periodic Analysis 2'!67:67)","v":0},{"$f":"SUMIF('Periodic Analysis 2'!$42:$42,'Summary Annual'!AQ$14,'Periodic Analysis 2'!67:67)","v":0},{"$f":"SUMIF('Periodic Analysis 2'!$42:$42,'Summary Annual'!AR$14,'Periodic Analysis 2'!67:67)","v":0},{"$f":"SUMIF('Periodic Analysis 2'!$42:$42,'Summary Annual'!AS$14,'Periodic Analysis 2'!67:67)","v":0},{"$f":"SUMIF('Periodic Analysis 2'!$42:$42,'Summary Annual'!AT$14,'Periodic Analysis 2'!67:67)","v":0},{"$f":"SUMIF('Periodic Analysis 2'!$42:$42,'Summary Annual'!AU$14,'Periodic Analysis 2'!67:67)","v":0},{"$f":"SUMIF('Periodic Analysis 2'!$42:$42,'Summary Annual'!AV$14,'Periodic Analysis 2'!67:67)","v":0},{"$f":"SUMIF('Periodic Analysis 2'!$42:$42,'Summary Annual'!AW$14,'Periodic Analysis 2'!67:67)","v":0},{"$f":"SUMIF('Periodic Analysis 2'!$42:$42,'Summary Annual'!AX$14,'Periodic Analysis 2'!67:67)","v":0},{"$f":"SUMIF('Periodic Analysis 2'!$42:$42,'Summary Annual'!AY$14,'Periodic Analysis 2'!67:67)","v":0},{"$f":"SUMIF('Periodic Analysis 2'!$42:$42,'Summary Annual'!AZ$14,'Periodic Analysis 2'!67:67)","v":0},{"$f":"SUMIF('Periodic Analysis 2'!$42:$42,'Summary Annual'!BA$14,'Periodic Analysis 2'!67:67)","v":0},{"$f":"SUMIF('Periodic Analysis 2'!$42:$42,'Summary Annual'!BB$14,'Periodic Analysis 2'!67:67)","v":0},{"$f":"SUMIF('Periodic Analysis 2'!$42:$42,'Summary Annual'!BC$14,'Periodic Analysis 2'!67:67)","v":0},{"$f":"SUMIF('Periodic Analysis 2'!$42:$42,'Summary Annual'!BD$14,'Periodic Analysis 2'!67:67)","v":0},{"$f":"SUMIF('Periodic Analysis 2'!$42:$42,'Summary Annual'!BE$14,'Periodic Analysis 2'!67:67)","v":0},{"$f":"SUMIF('Periodic Analysis 2'!$42:$42,'Summary Annual'!BF$14,'Periodic Analysis 2'!67:67)","v":0},{"$f":"SUMIF('Periodic Analysis 2'!$42:$42,'Summary Annual'!BG$14,'Periodic Analysis 2'!67:67)","v":0},{"$f":"SUMIF('Periodic Analysis 2'!$42:$42,'Summary Annual'!BH$14,'Periodic Analysis 2'!67:67)","v":0},{"$f":"SUMIF('Periodic Analysis 2'!$42:$42,'Summary Annual'!BI$14,'Periodic Analysis 2'!67:67)","v":0}]
[null,null,null,"Partner 1 - Post Flip",null,{"$f":"SUMIF('Periodic Analysis 2'!$42:$42,'Summary Annual'!F$14,'Periodic Analysis 2'!79:79)","v":0},{"$f":"SUMIF('Periodic Analysis 2'!$42:$42,'Summary Annual'!G$14,'Periodic Analysis 2'!79:79)","v":0},{"$f":"SUMIF('Periodic Analysis 2'!$42:$42,'Summary Annual'!H$14,'Periodic Analysis 2'!79:79)","v":0},{"$f":"SUMIF('Periodic Analysis 2'!$42:$42,'Summary Annual'!I$14,'Periodic Analysis 2'!79:79)","v":0},{"$f":"SUMIF('Periodic Analysis 2'!$42:$42,'Summary Annual'!J$14,'Periodic Analysis 2'!79:79)","v":0},{"$f":"SUMIF('Periodic Analysis 2'!$42:$42,'Summary Annual'!K$14,'Periodic Analysis 2'!79:79)","v":0},{"$f":"SUMIF('Periodic Analysis 2'!$42:$42,'Summary Annual'!L$14,'Periodic Analysis 2'!79:79)","v":15.888888888888893},{"$f":"SUMIF('Periodic Analysis 2'!$42:$42,'Summary Annual'!M$14,'Periodic Analysis 2'!79:79)","v":22},{"$f":"SUMIF('Periodic Analysis 2'!$42:$42,'Summary Annual'!N$14,'Periodic Analysis 2'!79:79)","v":22},{"$f":"SUMIF('Periodic Analysis 2'!$42:$42,'Summary Annual'!O$14,'Periodic Analysis 2'!79:79)","v":22},{"$f":"SUMIF('Periodic Analysis 2'!$42:$42,'Summary Annual'!P$14,'Periodic Analysis 2'!79:79)","v":22},{"$f":"SUMIF('Periodic Analysis 2'!$42:$42,'Summary Annual'!Q$14,'Periodic Analysis 2'!79:79)","v":22},{"$f":"SUMIF('Periodic Analysis 2'!$42:$42,'Summary Annual'!R$14,'Periodic Analysis 2'!79:79)","v":0},{"$f":"SUMIF('Periodic Analysis 2'!$42:$42,'Summary Annual'!S$14,'Periodic Analysis 2'!79:79)","v":0},{"$f":"SUMIF('Periodic Analysis 2'!$42:$42,'Summary Annual'!T$14,'Periodic Analysis 2'!79:79)","v":0},{"$f":"SUMIF('Periodic Analysis 2'!$42:$42,'Summary Annual'!U$14,'Periodic Analysis 2'!79:79)","v":0},{"$f":"SUMIF('Periodic Analysis 2'!$42:$42,'Summary Annual'!V$14,'Periodic Analysis 2'!79:79)","v":0},{"$f":"SUMIF('Periodic Analysis 2'!$42:$42,'Summary Annual'!W$14,'Periodic Analysis 2'!79:79)","v":0},{"$f":"SUMIF('Periodic Analysis 2'!$42:$42,'Summary Annual'!X$14,'Periodic Analysis 2'!79:79)","v":0},{"$f":"SUMIF('Periodic Analysis 2'!$42:$42,'Summary Annual'!Y$14,'Periodic Analysis 2'!79:79)","v":0},{"$f":"SUMIF('Periodic Analysis 2'!$42:$42,'Summary Annual'!Z$14,'Periodic Analysis 2'!79:79)","v":0},{"$f":"SUMIF('Periodic Analysis 2'!$42:$42,'Summary Annual'!AA$14,'Periodic Analysis 2'!79:79)","v":0},{"$f":"SUMIF('Periodic Analysis 2'!$42:$42,'Summary Annual'!AB$14,'Periodic Analysis 2'!79:79)","v":0},{"$f":"SUMIF('Periodic Analysis 2'!$42:$42,'Summary Annual'!AC$14,'Periodic Analysis 2'!79:79)","v":0},{"$f":"SUMIF('Periodic Analysis 2'!$42:$42,'Summary Annual'!AD$14,'Periodic Analysis 2'!79:79)","v":0},{"$f":"SUMIF('Periodic Analysis 2'!$42:$42,'Summary Annual'!AE$14,'Periodic Analysis 2'!79:79)","v":0},{"$f":"SUMIF('Periodic Analysis 2'!$42:$42,'Summary Annual'!AF$14,'Periodic Analysis 2'!79:79)","v":0},{"$f":"SUMIF('Periodic Analysis 2'!$42:$42,'Summary Annual'!AG$14,'Periodic Analysis 2'!79:79)","v":0},{"$f":"SUMIF('Periodic Analysis 2'!$42:$42,'Summary Annual'!AH$14,'Periodic Analysis 2'!79:79)","v":0},{"$f":"SUMIF('Periodic Analysis 2'!$42:$42,'Summary Annual'!AI$14,'Periodic Analysis 2'!79:79)","v":0},{"$f":"SUMIF('Periodic Analysis 2'!$42:$42,'Summary Annual'!AJ$14,'Periodic Analysis 2'!79:79)","v":0},{"$f":"SUMIF('Periodic Analysis 2'!$42:$42,'Summary Annual'!AK$14,'Periodic Analysis 2'!79:79)","v":0},{"$f":"SUMIF('Periodic Analysis 2'!$42:$42,'Summary Annual'!AL$14,'Periodic Analysis 2'!79:79)","v":0},{"$f":"SUMIF('Periodic Analysis 2'!$42:$42,'Summary Annual'!AM$14,'Periodic Analysis 2'!79:79)","v":0},{"$f":"SUMIF('Periodic Analysis 2'!$42:$42,'Summary Annual'!AN$14,'Periodic Analysis 2'!79:79)","v":0},{"$f":"SUMIF('Periodic Analysis 2'!$42:$42,'Summary Annual'!AO$14,'Periodic Analysis 2'!79:79)","v":0},{"$f":"SUMIF('Periodic Analysis 2'!$42:$42,'Summary Annual'!AP$14,'Periodic Analysis 2'!79:79)","v":0},{"$f":"SUMIF('Periodic Analysis 2'!$42:$42,'Summary Annual'!AQ$14,'Periodic Analysis 2'!79:79)","v":0},{"$f":"SUMIF('Periodic Analysis 2'!$42:$42,'Summary Annual'!AR$14,'Periodic Analysis 2'!79:79)","v":0},{"$f":"SUMIF('Periodic Analysis 2'!$42:$42,'Summary Annual'!AS$14,'Periodic Analysis 2'!79:79)","v":0},{"$f":"SUMIF('Periodic Analysis 2'!$42:$42,'Summary Annual'!AT$14,'Periodic Analysis 2'!79:79)","v":0},{"$f":"SUMIF('Periodic Analysis 2'!$42:$42,'Summary Annual'!AU$14,'Periodic Analysis 2'!79:79)","v":0},{"$f":"SUMIF('Periodic Analysis 2'!$42:$42,'Summary Annual'!AV$14,'Periodic Analysis 2'!79:79)","v":0},{"$f":"SUMIF('Periodic Analysis 2'!$42:$42,'Summary Annual'!AW$14,'Periodic Analysis 2'!79:79)","v":0},{"$f":"SUMIF('Periodic Analysis 2'!$42:$42,'Summary Annual'!AX$14,'Periodic Analysis 2'!79:79)","v":0},{"$f":"SUMIF('Periodic Analysis 2'!$42:$42,'Summary Annual'!AY$14,'Periodic Analysis 2'!79:79)","v":0},{"$f":"SUMIF('Periodic Analysis 2'!$42:$42,'Summary Annual'!AZ$14,'Periodic Analysis 2'!79:79)","v":0},{"$f":"SUMIF('Periodic Analysis 2'!$42:$42,'Summary Annual'!BA$14,'Periodic Analysis 2'!79:79)","v":0},{"$f":"SUMIF('Periodic Analysis 2'!$42:$42,'Summary Annual'!BB$14,'Periodic Analysis 2'!79:79)","v":0},{"$f":"SUMIF('Periodic Analysis 2'!$42:$42,'Summary Annual'!BC$14,'Periodic Analysis 2'!79:79)","v":0},{"$f":"SUMIF('Periodic Analysis 2'!$42:$42,'Summary Annual'!BD$14,'Periodic Analysis 2'!79:79)","v":0},{"$f":"SUMIF('Periodic Analysis 2'!$42:$42,'Summary Annual'!BE$14,'Periodic Analysis 2'!79:79)","v":0},{"$f":"SUMIF('Periodic Analysis 2'!$42:$42,'Summary Annual'!BF$14,'Periodic Analysis 2'!79:79)","v":0},{"$f":"SUMIF('Periodic Analysis 2'!$42:$42,'Summary Annual'!BG$14,'Periodic Analysis 2'!79:79)","v":0},{"$f":"SUMIF('Periodic Analysis 2'!$42:$42,'Summary Annual'!BH$14,'Periodic Analysis 2'!79:79)","v":0},{"$f":"SUMIF('Periodic Analysis 2'!$42:$42,'Summary Annual'!BI$14,'Periodic Analysis 2'!79:79)","v":0}]
[null,null,null,"Partner 2 Cash Flow",null,{"$f":"SUMIF('Periodic Analysis 2'!$42:$42,'Summary Annual'!F$14,'Periodic Analysis 2'!82:82)","v":30},{"$f":"SUMIF('Periodic Analysis 2'!$42:$42,'Summary Annual'!G$14,'Periodic Analysis 2'!82:82)","v":30},{"$f":"SUMIF('Periodic Analysis 2'!$42:$42,'Summary Annual'!H$14,'Periodic Analysis 2'!82:82)","v":30},{"$f":"SUMIF('Periodic Analysis 2'!$42:$42,'Summary Annual'!I$14,'Periodic Analysis 2'!82:82)","v":30},{"$f":"SUMIF('Periodic Analysis 2'!$42:$42,'Summary Annual'!J$14,'Periodic Analysis 2'!82:82)","v":30},{"$f":"SUMIF('Periodic Analysis 2'!$42:$42,'Summary Annual'!K$14,'Periodic Analysis 2'!82:82)","v":30},{"$f":"SUMIF('Periodic Analysis 2'!$42:$42,'Summary Annual'!L$14,'Periodic Analysis 2'!82:82)","v":136.60161233895951},{"$f":"SUMIF('Periodic Analysis 2'!$42:$42,'Summary Annual'!M$14,'Periodic Analysis 2'!82:82)","v":178.00000000000003},{"$f":"SUMIF('Periodic Analysis 2'!$42:$42,'Summary Annual'!N$14,'Periodic Analysis 2'!82:82)","v":178.00000000000003},{"$f":"SUMIF('Periodic Analysis 2'!$42:$42,'Summary Annual'!O$14,'Periodic Analysis 2'!82:82)","v":178.00000000000003},{"$f":"SUMIF('Periodic Analysis 2'!$42:$42,'Summary Annual'!P$14,'Periodic Analysis 2'!82:82)","v":178.00000000000003},{"$f":"SUMIF('Periodic Analysis 2'!$42:$42,'Summary Annual'!Q$14,'Periodic Analysis 2'!82:82)","v":178.00000000000003},{"$f":"SUMIF('Periodic Analysis 2'!$42:$42,'Summary Annual'!R$14,'Periodic Analysis 2'!82:82)","v":0},{"$f":"SUMIF('Periodic Analysis 2'!$42:$42,'Summary Annual'!S$14,'Periodic Analysis 2'!82:82)","v":0},{"$f":"SUMIF('Periodic Analysis 2'!$42:$42,'Summary Annual'!T$14,'Periodic Analysis 2'!82:82)","v":0},{"$f":"SUMIF('Periodic Analysis 2'!$42:$42,'Summary Annual'!U$14,'Periodic Analysis 2'!82:82)","v":0},{"$f":"SUMIF('Periodic Analysis 2'!$42:$42,'Summary Annual'!V$14,'Periodic Analysis 2'!82:82)","v":0},{"$f":"SUMIF('Periodic Analysis 2'!$42:$42,'Summary Annual'!W$14,'Periodic Analysis 2'!82:82)","v":0},{"$f":"SUMIF('Periodic Analysis 2'!$42:$42,'Summary Annual'!X$14,'Periodic Analysis 2'!82:82)","v":0},{"$f":"SUMIF('Periodic Analysis 2'!$42:$42,'Summary Annual'!Y$14,'Periodic Analysis 2'!82:82)","v":0},{"$f":"SUMIF('Periodic Analysis 2'!$42:$42,'Summary Annual'!Z$14,'Periodic Analysis 2'!82:82)","v":0},{"$f":"SUMIF('Periodic Analysis 2'!$42:$42,'Summary Annual'!AA$14,'Periodic Analysis 2'!82:82)","v":0},{"$f":"SUMIF('Periodic Analysis 2'!$42:$42,'Summary Annual'!AB$14,'Periodic Analysis 2'!82:82)","v":0},{"$f":"SUMIF('Periodic Analysis 2'!$42:$42,'Summary Annual'!AC$14,'Periodic Analysis 2'!82:82)","v":0},{"$f":"SUMIF('Periodic Analysis 2'!$42:$42,'Summary Annual'!AD$14,'Periodic Analysis 2'!82:82)","v":0},{"$f":"SUMIF('Periodic Analysis 2'!$42:$42,'Summary Annual'!AE$14,'Periodic Analysis 2'!82:82)","v":0},{"$f":"SUMIF('Periodic Analysis 2'!$42:$42,'Summary Annual'!AF$14,'Periodic Analysis 2'!82:82)","v":0},{"$f":"SUMIF('Periodic Analysis 2'!$42:$42,'Summary Annual'!AG$14,'Periodic Analysis 2'!82:82)","v":0},{"$f":"SUMIF('Periodic Analysis 2'!$42:$42,'Summary Annual'!AH$14,'Periodic Analysis 2'!82:82)","v":0},{"$f":"SUMIF('Periodic Analysis 2'!$42:$42,'Summary Annual'!AI$14,'Periodic Analysis 2'!82:82)","v":0},{"$f":"SUMIF('Periodic Analysis 2'!$42:$42,'Summary Annual'!AJ$14,'Periodic Analysis 2'!82:82)","v":0},{"$f":"SUMIF('Periodic Analysis 2'!$42:$42,'Summary Annual'!AK$14,'Periodic Analysis 2'!82:82)","v":0},{"$f":"SUMIF('Periodic Analysis 2'!$42:$42,'Summary Annual'!AL$14,'Periodic Analysis 2'!82:82)","v":0},{"$f":"SUMIF('Periodic Analysis 2'!$42:$42,'Summary Annual'!AM$14,'Periodic Analysis 2'!82:82)","v":0},{"$f":"SUMIF('Periodic Analysis 2'!$42:$42,'Summary Annual'!AN$14,'Periodic Analysis 2'!82:82)","v":0},{"$f":"SUMIF('Periodic Analysis 2'!$42:$42,'Summary Annual'!AO$14,'Periodic Analysis 2'!82:82)","v":0},{"$f":"SUMIF('Periodic Analysis 2'!$42:$42,'Summary Annual'!AP$14,'Periodic Analysis 2'!82:82)","v":0},{"$f":"SUMIF('Periodic Analysis 2'!$42:$42,'Summary Annual'!AQ$14,'Periodic Analysis 2'!82:82)","v":0},{"$f":"SUMIF('Periodic Analysis 2'!$42:$42,'Summary Annual'!AR$14,'Periodic Analysis 2'!82:82)","v":0},{"$f":"SUMIF('Periodic Analysis 2'!$42:$42,'Summary Annual'!AS$14,'Periodic Analysis 2'!82:82)","v":0},{"$f":"SUMIF('Periodic Analysis 2'!$42:$42,'Summary Annual'!AT$14,'Periodic Analysis 2'!82:82)","v":0},{"$f":"SUMIF('Periodic Analysis 2'!$42:$42,'Summary Annual'!AU$14,'Periodic Analysis 2'!82:82)","v":0},{"$f":"SUMIF('Periodic Analysis 2'!$42:$42,'Summary Annual'!AV$14,'Periodic Analysis 2'!82:82)","v":0},{"$f":"SUMIF('Periodic Analysis 2'!$42:$42,'Summary Annual'!AW$14,'Periodic Analysis 2'!82:82)","v":0},{"$f":"SUMIF('Periodic Analysis 2'!$42:$42,'Summary Annual'!AX$14,'Periodic Analysis 2'!82:82)","v":0},{"$f":"SUMIF('Periodic Analysis 2'!$42:$42,'Summary Annual'!AY$14,'Periodic Analysis 2'!82:82)","v":0},{"$f":"SUMIF('Periodic Analysis 2'!$42:$42,'Summary Annual'!AZ$14,'Periodic Analysis 2'!82:82)","v":0},{"$f":"SUMIF('Periodic Analysis 2'!$42:$42,'Summary Annual'!BA$14,'Periodic Analysis 2'!82:82)","v":0},{"$f":"SUMIF('Periodic Analysis 2'!$42:$42,'Summary Annual'!BB$14,'Periodic Analysis 2'!82:82)","v":0},{"$f":"SUMIF('Periodic Analysis 2'!$42:$42,'Summary Annual'!BC$14,'Periodic Analysis 2'!82:82)","v":0},{"$f":"SUMIF('Periodic Analysis 2'!$42:$42,'Summary Annual'!BD$14,'Periodic Analysis 2'!82:82)","v":0},{"$f":"SUMIF('Periodic Analysis 2'!$42:$42,'Summary Annual'!BE$14,'Periodic Analysis 2'!82:82)","v":0},{"$f":"SUMIF('Periodic Analysis 2'!$42:$42,'Summary Annual'!BF$14,'Periodic Analysis 2'!82:82)","v":0},{"$f":"SUMIF('Periodic Analysis 2'!$42:$42,'Summary Annual'!BG$14,'Periodic Analysis 2'!82:82)","v":0},{"$f":"SUMIF('Periodic Analysis 2'!$42:$42,'Summary Annual'!BH$14,'Periodic Analysis 2'!82:82)","v":0},{"$f":"SUMIF('Periodic Analysis 2'!$42:$42,'Summary Annual'!BI$14,'Periodic Analysis 2'!82:82)","v":0}]
[null,null,null,"Total",null,{"$f":"SUM(F29:F31)","v":200},{"$f":"SUM(G29:G31)","v":200},200,200,200,200,200,200.00000000000003,200.00000000000003,200.00000000000003,200.00000000000003,200.00000000000003,0,0,0,0,0,0,0,0,0,0,0,0,0,0,0,0,0,0,0,0,0,0,0,0,0,0,0,0,0,0,0,0,0,0,0,0,0,0,0,0,0,0,0,0]
[]
[null,null,null,"Total IRR",{"$f":"IRR(E27:BI27)","v":0.16942550857963257}]
[]
[null,null,"Annual"]
[null,null,null,"Operating Cash",{"$f":"E27","v":-1000},{"$f":"'Annual Analysis'!E25","v":200},{"$f":"'Annual Analysis'!F25","v":200},{"$f":"'Annual Analysis'!G25","v":200},{"$f":"'Annual Analysis'!H25","v":200},{"$f":"'Annual Analysis'!I25","v":200},{"$f":"'Annual Analysis'!J25","v":200},{"$f":"'Annual Analysis'!K25","v":200},{"$f":"'Annual Analysis'!L25","v":200},{"$f":"'Annual Analysis'!M25","v":200},{"$f":"'Annual Analysis'!N25","v":200},{"$f":"'Annual Analysis'!O25","v":200},{"$f":"'Annual Analysis'!P25","v":200},{"$f":"'Annual Analysis'!Q25","v":0},{"$f":"'Annual Analysis'!R25","v":0},{"$f":"'Annual Analysis'!S25","v":0},{"$f":"'Annual Analysis'!T25","v":0},{"$f":"'Annual Analysis'!U25","v":0},{"$f":"'Annual Analysis'!V25","v":0},{"$f":"'Annual Analysis'!W25","v":0},{"$f":"'Annual Analysis'!X25","v":0},{"$f":"'Annual Analysis'!Y25","v":0},{"$f":"'Annual Analysis'!Z25","v":0},{"$f":"'Annual Analysis'!AA25","v":0},{"$f":"'Annual Analysis'!AB25","v":0},{"$f":"'Annual Analysis'!AC25","v":0},{"$f":"'Annual Analysis'!AD25","v":0},{"$f":"'Annual Analysis'!AE25","v":0},{"$f":"'Annual Analysis'!AF25","v":0},{"$f":"'Annual Analysis'!AG25","v":0},{"$f":"'Annual Analysis'!AH25","v":0},{"$f":"'Annual Analysis'!AI25","v":0},{"$f":"'Annual Analysis'!AJ25","v":0},{"$f":"'Annual Analysis'!AK25","v":0},{"$f":"'Annual Analysis'!AL25","v":0},{"$f":"'Annual Analysis'!AM25","v":0},{"$f":"'Annual Analysis'!AN25","v":0},{"$f":"'Annual Analysis'!AO25","v":0},{"$f":"'Annual Analysis'!AP25","v":0},{"$f":"'Annual Analysis'!AQ25","v":0},{"$f":"'Annual Analysis'!AR25","v":0},{"$f":"'Annual Analysis'!AS25","v":0},{"$f":"'Annual Analysis'!AT25","v":0},{"$f":"'Annual Analysis'!AU25","v":0},{"$f":"'Annual Analysis'!AV25","v":0},{"$f":"'Annual Analysis'!AW25","v":0},{"$f":"'Annual Analysis'!AX25","v":0},{"$f":"'Annual Analysis'!AY25","v":0},{"$f":"'Annual Analysis'!AZ25","v":0},{"$f":"'Annual Analysis'!BA25","v":0},{"$f":"'Annual Analysis'!BB25","v":0},{"$f":"'Annual Analysis'!BC25","v":0},{"$f":"'Annual Analysis'!BD25","v":0},{"$f":"'Annual Analysis'!BE25","v":0},{"$f":"'Annual Analysis'!BF25","v":0},{"$f":"'Annual Analysis'!BG25","v":0},{"$f":"'Annual Analysis'!BH25","v":0}]
[]
[null,null,null,"Partner 1 - Pre-flip",null,{"$f":"'Annual Analysis'!E41","v":170},{"$f":"'Annual Analysis'!F41","v":170},{"$f":"'Annual Analysis'!G41","v":170},{"$f":"'Annual Analysis'!H41","v":170},{"$f":"'Annual Analysis'!I41","v":170},{"$f":"'Annual Analysis'!J41","v":170},{"$f":"'Annual Analysis'!K41","v":116.15461000000006},{"$f":"'Annual Analysis'!L41","v":0},{"$f":"'Annual Analysis'!M41","v":0},{"$f":"'Annual Analysis'!N41","v":0},{"$f":"'Annual Analysis'!O41","v":0},{"$f":"'Annual Analysis'!P41","v":0},{"$f":"'Annual Analysis'!Q41","v":0},{"$f":"'Annual Analysis'!R41","v":0},{"$f":"'Annual Analysis'!S41","v":0},{"$f":"'Annual Analysis'!T41","v":0},{"$f":"'Annual Analysis'!U41","v":0},{"$f":"'Annual Analysis'!V41","v":0},{"$f":"'Annual Analysis'!W41","v":0},{"$f":"'Annual Analysis'!X41","v":0},{"$f":"'Annual Analysis'!Y41","v":0},{"$f":"'Annual Analysis'!Z41","v":0},{"$f":"'Annual Analysis'!AA41","v":0},{"$f":"'Annual Analysis'!AB41","v":0},{"$f":"'Annual Analysis'!AC41","v":0},{"$f":"'Annual Analysis'!AD41","v":0},{"$f":"'Annual Analysis'!AE41","v":0},{"$f":"'Annual Analysis'!AF41","v":0},{"$f":"'Annual Analysis'!AG41","v":0},{"$f":"'Annual Analysis'!AH41","v":0},{"$f":"'Annual Analysis'!AI41","v":0},{"$f":"'Annual Analysis'!AJ41","v":0},{"$f":"'Annual Analysis'!AK41","v":0},{"$f":"'Annual Analysis'!AL41","v":0},{"$f":"'Annual Analysis'!AM41","v":0},{"$f":"'Annual Analysis'!AN41","v":0},{"$f":"'Annual Analysis'!AO41","v":0},{"$f":"'Annual Analysis'!AP41","v":0},{"$f":"'Annual Analysis'!AQ41","v":0},{"$f":"'Annual Analysis'!AR41","v":0},{"$f":"'Annual Analysis'!AS41","v":0},{"$f":"'Annual Analysis'!AT41","v":0},{"$f":"'Annual Analysis'!AU41","v":0},{"$f":"'Annual Analysis'!AV41","v":0},{"$f":"'Annual Analysis'!AW41","v":0},{"$f":"'Annual Analysis'!AX41","v":0},{"$f":"'Annual Analysis'!AY41","v":0},{"$f":"'Annual Analysis'!AZ41","v":0},{"$f":"'Annual Analysis'!BA41","v":0},{"$f":"'Annual Analysis'!BB41","v":0},{"$f":"'Annual Analysis'!BC41","v":0},{"$f":"'Annual Analysis'!BD41","v":0},{"$f":"'Annual Analysis'!BE41","v":0},{"$f":"'Annual Analysis'!BF41","v":0},{"$f":"'Annual Analysis'!BG41","v":0},{"$f":"'Annual Analysis'!BH41","v":0}]
[null,null,null,"Partner 1 - Post Flip",null,{"$f":"'Annual Analysis'!E49","v":0},{"$f":"'Annual Analysis'!F49","v":0},{"$f":"'Annual Analysis'!G49","v":0},{"$f":"'Annual Analysis'!H49","v":0},{"$f":"'Annual Analysis'!I49","v":0},{"$f":"'Annual Analysis'!J49","v":0},{"$f":"'Annual Analysis'!K49","v":6.9682269411764626},{"$f":"'Annual Analysis'!L49","v":22},{"$f":"'Annual Analysis'!M49","v":22},{"$f":"'Annual Analysis'!N49","v":22},{"$f":"'Annual Analysis'!O49","v":22},{"$f":"'Annual Analysis'!P49","v":22},{"$f":"'Annual Analysis'!Q49","v":0},{"$f":"'Annual Analysis'!R49","v":0},{"$f":"'Annual Analysis'!S49","v":0},{"$f":"'Annual Analysis'!T49","v":0},{"$f":"'Annual Analysis'!U49","v":0},{"$f":"'Annual Analysis'!V49","v":0},{"$f":"'Annual Analysis'!W49","v":0},{"$f":"'Annual Analysis'!X49","v":0},{"$f":"'Annual Analysis'!Y49","v":0},{"$f":"'Annual Analysis'!Z49","v":0},{"$f":"'Annual Analysis'!AA49","v":0},{"$f":"'Annual Analysis'!AB49","v":0},{"$f":"'Annual Analysis'!AC49","v":0},{"$f":"'Annual Analysis'!AD49","v":0},{"$f":"'Annual Analysis'!AE49","v":0},{"$f":"'Annual Analysis'!AF49","v":0},{"$f":"'Annual Analysis'!AG49","v":0},{"$f":"'Annual Analysis'!AH49","v":0},{"$f":"'Annual Analysis'!AI49","v":0},{"$f":"'Annual Analysis'!AJ49","v":0},{"$f":"'Annual Analysis'!AK49","v":0},{"$f":"'Annual Analysis'!AL49","v":0},{"$f":"'Annual Analysis'!AM49","v":0},{"$f":"'Annual Analysis'!AN49","v":0},{"$f":"'Annual Analysis'!AO49","v":0},{"$f":"'Annual Analysis'!AP49","v":0},{"$f":"'Annual Analysis'!AQ49","v":0},{"$f":"'Annual Analysis'!AR49","v":0},{"$f":"'Annual Analysis'!AS49","v":0},{"$f":"'Annual Analysis'!AT49","v":0},{"$f":"'Annual Analysis'!AU49","v":0},{"$f":"'Annual Analysis'!AV49","v":0},{"$f":"'Annual Analysis'!AW49","v":0},{"$f":"'Annual Analysis'!AX49","v":0},{"$f":"'Annual Analysis'!AY49","v":0},{"$f":"'Annual Analysis'!AZ49","v":0},{"$f":"'Annual Analysis'!BA49","v":0},{"$f":"'Annual Analysis'!BB49","v":0},{"$f":"'Annual Analysis'!BC49","v":0},{"$f":"'Annual Analysis'!BD49","v":0},{"$f":"'Annual Analysis'!BE49","v":0},{"$f":"'Annual Analysis'!BF49","v":0},{"$f":"'Annual Analysis'!BG49","v":0},{"$f":"'Annual Analysis'!BH49","v":0}]
[null,null,null,"Partner 2 Cash Flow",null,{"$f":"'Annual Analysis'!E52","v":30},{"$f":"'Annual Analysis'!F52","v":30},{"$f":"'Annual Analysis'!G52","v":30},{"$f":"'Annual Analysis'!H52","v":30},{"$f":"'Annual Analysis'!I52","v":30},{"$f":"'Annual Analysis'!J52","v":30},{"$f":"'Annual Analysis'!K52","v":76.87716305882347},{"$f":"'Annual Analysis'!L52","v":178},{"$f":"'Annual Analysis'!M52","v":178},{"$f":"'Annual Analysis'!N52","v":178},{"$f":"'Annual Analysis'!O52","v":178},{"$f":"'Annual Analysis'!P52","v":178},{"$f":"'Annual Analysis'!Q52","v":0},{"$f":"'Annual Analysis'!R52","v":0},{"$f":"'Annual Analysis'!S52","v":0},{"$f":"'Annual Analysis'!T52","v":0},{"$f":"'Annual Analysis'!U52","v":0},{"$f":"'Annual Analysis'!V52","v":0},{"$f":"'Annual Analysis'!W52","v":0},{"$f":"'Annual Analysis'!X52","v":0},{"$f":"'Annual Analysis'!Y52","v":0},{"$f":"'Annual Analysis'!Z52","v":0},{"$f":"'Annual Analysis'!AA52","v":0},{"$f":"'Annual Analysis'!AB52","v":0},{"$f":"'Annual Analysis'!AC52","v":0},{"$f":"'Annual Analysis'!AD52","v":0},{"$f":"'Annual Analysis'!AE52","v":0},{"$f":"'Annual Analysis'!AF52","v":0},{"$f":"'Annual Analysis'!AG52","v":0},{"$f":"'Annual Analysis'!AH52","v":0},{"$f":"'Annual Analysis'!AI52","v":0},{"$f":"'Annual Analysis'!AJ52","v":0},{"$f":"'Annual Analysis'!AK52","v":0},{"$f":"'Annual Analysis'!AL52","v":0},{"$f":"'Annual Analysis'!AM52","v":0},{"$f":"'Annual Analysis'!AN52","v":0},{"$f":"'Annual Analysis'!AO52","v":0},{"$f":"'Annual Analysis'!AP52","v":0},{"$f":"'Annual Analysis'!AQ52","v":0},{"$f":"'Annual Analysis'!AR52","v":0},{"$f":"'Annual Analysis'!AS52","v":0},{"$f":"'Annual Analysis'!AT52","v":0},{"$f":"'Annual Analysis'!AU52","v":0},{"$f":"'Annual Analysis'!AV52","v":0},{"$f":"'Annual Analysis'!AW52","v":0},{"$f":"'Annual Analysis'!AX52","v":0},{"$f":"'Annual Analysis'!AY52","v":0},{"$f":"'Annual Analysis'!AZ52","v":0},{"$f":"'Annual Analysis'!BA52","v":0},{"$f":"'Annual Analysis'!BB52","v":0},{"$f":"'Annual Analysis'!BC52","v":0},{"$f":"'Annual Analysis'!BD52","v":0},{"$f":"'Annual Analysis'!BE52","v":0},{"$f":"'Annual Analysis'!BF52","v":0},{"$f":"'Annual Analysis'!BG52","v":0},{"$f":"'Annual Analysis'!BH52","v":0}]
[null,null,null,"Total",null,{"$f":"SUM(F39:F41)","v":200},{"$f":"SUM(G39:G41)","v":200},200,200,200,200,200,200,200,200,200,200,0,0,0,0,0,0,0,0,0,0,0,0,0,0,0,0,0,0,0,0,0,0,0,0,0,0,0,0,0,0,0,0,0,0,0,0,0,0,0,0,0,0,0,0]
[]
[null,null,null,"Total IRR",{"$f":"IRR(E37:BI37)","v":0.16942550857963257}]

{"sheet":"IRR","index":5,"n_rows":26,"n_cols":13,"rows_kept":26,"cut":false,"hidden":false,"merged":[]}
[]
[]
[null,null,"2011-01-01",{"$f":"EDATE(C3,12)","v":"2012-01-01"},{"$f":"EDATE(D3,12)","v":"2013-01-01"},{"$f":"EDATE(E3,12)","v":"2014-01-01"},{"$f":"EDATE(F3,12)","v":"2015-01-01"},{"$f":"EDATE(G3,12)","v":"2016-01-01"}]
[]
["IRR",{"$f":"IRR(C5:H5)","v":0.15238237116630637},-100,30,{"$f":"D5","v":30},{"$f":"E5","v":30},{"$f":"F5","v":30},{"$f":"G5","v":30}]
[]
["XIRR",{"$f":"XIRR(C5:H5,C3:H3)","v":0.15226064324378971}]
[]
[null,"Days",0,{"$f":"D3-$C$3","v":365},{"$f":"E3-$C$3","v":731},{"$f":"F3-$C$3","v":1096},{"$f":"G3-$C$3","v":1461},{"$f":"H3-$C$3","v":1826}]
[null,"Days360",0,{"$f":"DAYS360($C$3,D3)","v":360},{"$f":"DAYS360($C$3,E3)","v":720},{"$f":"DAYS360($C$3,F3)","v":1080},{"$f":"DAYS360($C$3,G3)","v":1440},{"$f":"DAYS360($C$3,H3)","v":1800}]
[]
[null,"Daily Disc Rate XIRR",{"$f":"(1+$C$15)^(1/365)-1","v":3.8836517983198426E-4},3.8836517983198426E-4,3.8836517983198426E-4,3.8836517983198426E-4,3.8836517983198426E-4,3.8836517983198426E-4]
[null,"Discount Factor",{"$f":"1/(1+C12)^C9","v":1},0.86785921537749333,0.75288722253406559,0.65340011421615418,0.56705931045119617,0.49212764824067728]
[]
[null,"Sumproduct - 365 Days",{"$f":"F15/100","v":0.15226062278431798},{"$f":"SUMPRODUCT(C13:H13,C5:H5)","v":5.3245875992757874E-6},null,15.226062278431797]
[]
[null,"Daily  Disc Rate 360",{"$f":"(1+$C$20)^(1/360)-1","v":3.9405374930590042E-4},3.9405374930590042E-4,3.9405374930590042E-4,3.9405374930590042E-4,3.9405374930590042E-4,3.9405374930590042E-4]
[null,"Discount Factor",{"$f":"1/(1+C17)^C10","v":1},0.86776754369954823,0.75302050989834712,0.65344675822987008,0.5670398883275668,0.4920588110736786]
[]
[null,"Sumproduct - 360 Days",{"$f":"F20/100","v":0.1523823485454486},{"$f":"SUMPRODUCT(C18:H18,C5:H5)","v":5.336870323446874E-6},null,15.23823485454486]
[]
[null,null,{"$f":"C3","v":"2011-01-01"},{"$f":"EDATE(C22,6)","v":"2011-07-01"},"2012-01-01","2012-07-01","2013-01-01","2013-07-01","2014-01-01","2014-07-01","2015-01-01","2015-07-01","2016-01-01"]
[]
["IRR",{"$f":"(1+IRR(C24:M24))^2-1","v":0.16951605630814282},-100,15,15,15,15,15,15,15,15,15,15]
[]
["XIRR",{"$f":"XIRR(C24:M24,C22:M22)","v":0.16952565312385562}]

{"sheet":"Sheet3","index":6,"n_rows":0,"n_cols":0,"rows_kept":0,"cut":false,"hidden":false,"merged":[]}