{"text_format":"1","workbook":"xlsx","n_sheets":4,"sheets":["Total Plants","Codes","Analysis","Selected Plant"],"not_rendered":{"charts":2,"images":0,"macros":1,"external_links":0,"defined_names":2,"comments":0,"pivot_tables":0},"unopened":[],"bounds":{"document_bytes":16777216,"sheet_cells":100000,"rows_first":2000,"rows_last":500,"rows_between":2000,"halvings":0,"cell_chars":16384,"cell_head_chars":4096},"cells_cut":0,"cells_raw":0,"read":"whole","date_system":"1900"}

{"sheet":"Total Plants","index":0,"n_rows":1275,"n_cols":583,"rows_kept":139,"cut":true,"hidden":false,"merged":[],"bounds":{"rows_first":62,"rows_last":15,"rows_between":62,"halvings":5}}
["Months","Pos Gen","Code","Name","Mover","State",null,null,"1970-01-01","1970-02-01","1970-03-01","1970-04-01","1970-05-01","1970-06-01","1970-07-01","1970-08-01","1970-09-01","1970-10-01","1970-11-01","1970-12-01","1971-01-01","1971-02-01","1971-03-01","1971-04-01","1971-05-01","1971-06-01","1971-07-01","1971-08-01","1971-09-01","1971-10-01","1971-11-01","1971-12-01","1972-01-01","1972-02-01","1972-03-01","1972-04-01","1972-05-01","1972-06-01","1972-07-01","1972-08-01","1972-09-01","1972-10-01","1972-11-01","1972-12-01","1973-01-01","1973-02-01","1973-03-01","1973-04-01","1973-05-01","1973-06-01","1973-07-01","1973-08-01","1973-09-01","1973-10-01","1973-11-01","1973-12-01","1974-01-01","1974-02-01","1974-03-01","1974-04-01","1974-05-01","1974-06-01","1974-07-01","1974-08-01","1974-09-01","1974-10-01","1974-11-01","1974-12-01","1975-01-01","1975-02-01","1975-03-01","1975-04-01","1975-05-01","1975-06-01","1975-07-01","1975-08-01","1975-09-01","1975-10-01","1975-11-01","1975-12-01","1976-01-01","1976-02-01","1976-03-01","1976-04-01","1976-05-01","1976-06-01","1976-07-01","1976-08-01","1976-09-01","1976-10-01","1976-11-01","1976-12-01","1977-01-01","1977-02-01","1977-03-01","1977-04-01","1977-05-01","1977-06-01","1977-07-01","1977-08-01","1977-09-01","1977-10-01","1977-11-01","1977-12-01","1978-01-01","1978-02-01","1978-03-01","1978-04-01","1978-05-01","1978-06-01","1978-07-01","1978-08-01","1978-09-01","1978-10-01","1978-11-01","1978-12-01","1979-01-01","1979-02-01","1979-03-01","1979-04-01","1979-05-01","1979-06-01","1979-07-01","1979-08-01","1979-09-01","1979-10-01","1979-11-01","1979-12-01","1980-01-01","1980-02-01","1980-03-01","1980-04-01","1980-05-01","1980-06-01","1980-07-01","1980-08-01","1980-09-01","1980-10-01","1980-11-01","1980-12-01","1981-01-01","1981-02-01","1981-03-01","1981-04-01","1981-05-01","1981-06-01","1981-07-01","1981-08-01","1981-09-01","1981-10-01","1981-11-01","1981-12-01","1982-01-01","1982-02-01","1982-03-01","1982-04-01","1982-05-01","1982-06-01","1982-07-01","1982-08-01","1982-09-01","1982-10-01","1982-11-01","1982-12-01","1983-01-01","1983-02-01","1983-03-01","1983-04-01","1983-05-01","1983-06-01","1983-07-01","1983-08-01","1983-09-01","1983-10-01","1983-11-01","1983-12-01","1984-01-01","1984-02-01","1984-03-01","1984-04-01","1984-05-01","1984-06-01","1984-07-01","1984-08-01","1984-09-01","1984-10-01","1984-11-01","1984-12-01","1985-01-01","1985-02-01","1985-03-01","1985-04-01","1985-05-01","1985-06-01","1985-07-01","1985-08-01","1985-09-01","1985-10-01","1985-11-01","1985-12-01","1986-01-01","1986-02-01","1986-03-01","1986-04-01","1986-05-01","1986-06-01","1986-07-01","1986-08-01","1986-09-01","1986-10-01","1986-11-01","1986-12-01","1987-01-01","1987-02-01","1987-03-01","1987-04-01","1987-05-01","1987-06-01","1987-07-01","1987-08-01","1987-09-01","1987-10-01","1987-11-01","1987-12-01","1988-01-01","1988-02-01","1988-03-01","1988-04-01","1988-05-01","1988-06-01","1988-07-01","1988-08-01","1988-09-01","1988-10-01","1988-11-01","1988-12-01","1989-01-01","1989-02-01","1989-03-01","1989-04-01","1989-05-01","1989-06-01","1989-07-01","1989-08-01","1989-09-01","1989-10-01","1989-11-01","1989-12-01","1990-01-01","1990-02-01","1990-03-01","1990-04-01","1990-05-01","1990-06-01","1990-07-01","1990-08-01","1990-09-01","1990-10-01","1990-11-01","1990-12-01","1991-01-01","1991-02-01","1991-03-01","1991-04-01","1991-05-01","1991-06-01","1991-07-01","1991-08-01","1991-09-01","1991-10-01","1991-11-01","1991-12-01","1992-01-01","1992-02-01","1992-03-01","1992-04-01","1992-05-01","1992-06-01","1992-07-01","1992-08-01","1992-09-01","1992-10-01","1992-11-01","1992-12-01","1993-01-01","1993-02-01","1993-03-01","1993-04-01","1993-05-01","1993-06-01","1993-07-01","1993-08-01","1993-09-01","1993-10-01","1993-11-01","1993-12-01","1994-01-01","1994-02-01","1994-03-01","1994-04-01","1994-05-01","1994-06-01","1994-07-01","1994-08-01","1994-09-01","1994-10-01","1994-11-01","1994-12-01","1995-01-01","1995-02-01","1995-03-01","1995-04-01","1995-05-01","1995-06-01","1995-07-01","1995-08-01","1995-09-01","1995-10-01","1995-11-01","1995-12-01","1996-01-01","1996-02-01","1996-03-01","1996-04-01","1996-05-01","1996-06-01","1996-07-01","1996-08-01","1996-09-01","1996-10-01","1996-11-01","1996-12-01","1997-01-01","1997-02-01","1997-03-01","1997-04-01","1997-05-01","1997-06-01","1997-07-01","1997-08-01","1997-09-01","1997-10-01","1997-11-01","1997-12-01","1998-01-01","1998-02-01","1998-03-01","1998-04-01","1998-05-01","1998-06-01","1998-07-01","1998-08-01","1998-09-01","1998-10-01","1998-11-01","1998-12-01","1999-01-01","1999-02-01","1999-03-01","1999-04-01","1999-05-01","1999-06-01","1999-07-01","1999-08-01","1999-09-01","1999-10-01","1999-11-01","1999-12-01","2000-01-01","2000-02-01","2000-03-01","2000-04-01","2000-05-01","2000-06-01","2000-07-01","2000-08-01","2000-09-01","2000-10-01","2000-11-01","2000-12-01","2001-01-01","2001-02-01","2001-03-01","2001-04-01","2001-05-01","2001-06-01","2001-07-01","2001-08-01","2001-09-01","2001-10-01","2001-11-01","2001-12-01","2002-01-01","2002-02-01","2002-03-01","2002-04-01","2002-05-01","2002-06-01","2002-07-01","2002-08-01","2002-09-01","2002-10-01","2002-11-01","2002-12-01","2003-01-01","2003-02-01","2003-03-01","2003-04-01","2003-05-01","2003-06-01","2003-07-01","2003-08-01","2003-09-01","2003-10-01","2003-11-01","2003-12-01","2004-01-01","2004-02-01","2004-03-01","2004-04-01","2004-05-01","2004-06-01","2004-07-01","2004-08-01","2004-09-01","2004-10-01","2004-11-01","2004-12-01","2005-01-01","2005-02-01","2005-03-01","2005-04-01","2005-05-01","2005-06-01","2005-07-01","2005-08-01","2005-09-01","2005-10-01","2005-11-01","2005-12-01","2006-01-01","2006-02-01","2006-03-01","2006-04-01","2006-05-01","2006-06-01","2006-07-01","2006-08-01","2006-09-01","2006-10-01","2006-11-01","2006-12-01","2007-01-01","2007-02-01","2007-03-01","2007-04-01","2007-05-01","2007-06-01","2007-07-01","2007-08-01","2007-09-01","2007-10-01","2007-11-01","2007-12-01","2008-01-01","2008-02-01","2008-03-01","2008-04-01","2008-05-01","2008-06-01","2008-07-01","2008-08-01","2008-09-01","2008-10-01","2008-11-01","2008-12-01","2009-01-01","2009-02-01","2009-03-01","2009-04-01","2009-05-01","2009-06-01","2009-07-01","2009-08-01","2009-09-01","2009-10-01","2009-11-01","2009-12-01","2010-01-01","2010-02-01","2010-03-01","2010-04-01","2010-05-01","2010-06-01","2010-07-01","2010-08-01","2010-09-01","2010-10-01","2010-11-01","2010-12-01","2011-01-01","2011-02-01","2011-03-01","2011-04-01","2011-05-01","2011-06-01","2011-07-01","2011-08-01","2011-09-01","2011-10-01","2011-11-01","2011-12-01","2012-01-01","2012-02-01","2012-03-01","2012-04-01","2012-05-01","2012-06-01","2012-07-01","2012-08-01","2012-09-01","2012-10-01","2012-11-01","2012-12-01","2013-01-01","2013-02-01","2013-03-01","2013-04-01","2013-05-01","2013-06-01","2013-07-01","2013-08-01","2013-09-01","2013-10-01","2013-11-01","2013-12-01","2014-01-01","2014-02-01","2014-03-01","2014-04-01","2014-05-01","2014-06-01","2014-07-01","2014-08-01","2014-09-01","2014-10-01","2014-11-01","2014-12-01","2015-01-01","2015-02-01","2015-03-01","2015-04-01","2015-05-01","2015-06-01","2015-07-01","2015-08-01","2015-09-01","2015-10-01","2015-11-01","2015-12-01","2016-01-01","2016-02-01","2016-03-01","2016-04-01","2016-05-01","2016-06-01","2016-07-01","2016-08-01","2016-09-01","2016-10-01","2016-11-01","2016-12-01",{"$f":"EDATE(UZ1,1)","v":"2017-01-01"},{"$f":"EDATE(VA1,1)","v":"2017-02-01"},"2017-03-01","2017-04-01","2017-05-01","2017-06-01","2017-07-01","2017-08-01","2017-09-01","2017-10-01","2017-11-01"]
[{"$f":"count_non_zero(I2:VK2)","v":358},{"$f":"SUM(I2:UZ2)","v":190228108.37600008},8223,"Springerville","PV","AZ",null,null,0,0,0,0,0,0,0,0,0,0,0,0,0,0,0,0,0,0,0,0,0,0,0,0,0,0,0,0,0,0,0,0,0,0,0,0,0,0,0,0,0,0,0,0,0,0,0,0,0,0,0,0,0,0,0,0,0,0,0,0,0,0,0,0,0,0,0,0,0,0,0,0,0,0,0,0,0,0,0,0,0,0,0,0,0,0,0,0,0,0,0,0,0,0,0,0,0,0,0,0,0,0,0,0,0,0,0,0,0,0,0,0,0,0,0,0,0,0,0,0,0,0,0,0,0,0,0,0,0,0,0,0,0,0,0,0,0,0,0,0,0,0,0,0,0,0,0,0,0,0,0,0,0,0,0,0,0,0,0,0,0,0,0,0,0,0,0,0,0,0,0,0,0,0,0,0,0,0,0,0,0,25055,145804.79999999999,63722,132218,242498.8,264560.68400000001,265322.99699999997,194724.49299999999,212505.995,246455.18799999999,239843.99299999999,213775,175212,0,0,5103.9989999999998,115644.999,163090.98499999999,178134.99799999999,115633.988,9086.9989999999998,57767.997000000003,193059.98499999999,192994,194410,187349.992,0,36211.995000000003,211729,190162.98499999999,208651,172894.995,162196.997,159263.99100000001,227432.99299999999,183071.99799999999,190358.99400000001,200158.984,192215.99400000001,186087,192577.99100000001,212132.98800000001,207863.99100000001,155872.992,215888.986,119960.992,0,186549.986,208333.995,232967.99400000001,222194.99,200516.986,202461.641,221801,212759.99900000001,193027.995,208412.99900000001,192075.98699999999,135108.99100000001,259718,7568,183770,251530,265327,415832,411501,376925,436968,270891,201439,337210,0,0,0,0,0,0,0,0,0,0,0,0,0,0,0,0,0,0,0,0,0,0,0,0,503475,430650,433430,459877,460328,464288,480302,534049,449361,464449,261028,434522,382627,246568,449347,307430,520217,500901,513856,507639,504937,489154,495218,505576,523137,453312,257391,338215,516305,336307,407761,516286,506998,505982,244822,355086,510373,444331,524324,507066,484054,475873,550693,525458,531525,535646,510505,541997,517758,455816,419051,353906,499965,482189,517435,496349,488075,533401,502550,504288,516430,444667,400583,496952,483410,440334,504237,478499,506724,509310,489681,508404,524747,479032,428816,291592,422156,501421,541308,539140,529529,512364,523487,536600,485520,465915,522909,246719,381282,621024,512087,524912,520543,537456,515788,542788,500344,492551,416170,522789,487170,515073,529035,470509,468144,531502,513285,524178,512207,452565,322030,516432,524032,507772,540384,516333,468144,478015,502715,489913,532295,483981,366680,478374,499543,449772,520038,523524,532167,522032,504756,538999,528797,492572,533327,527816,547460,508467,538034,520336,502952,285875,223812,496287,526527,350927,257551,478683,522033,522096,548775,344607,493466,577830,456179,498699,514514,471214,541176,311712,417007,472122,495226,553305,520491,522152,508952,473560,521921,483915,412222,320978,534516,529860,543321,546731,494194,537302,468999,518148,731829,718643,718637,751803,678770,761394,777605,812627,702546,669462,783766,764791,712498,729165,617368,517216,699243,704016,702337,756054,653882,798697,622014,968432,941843,932803,840670,688657,861787,1001359,1050046,1020962,1025113,901977,861173,1003001,1002928.9739999999,939429.00199999998,954217.00299999991,886162.00100000005,879030.005,858043.00199999998,1068699.0299999998,1064587.0330000001,1007820.9639999999,795795.99899999995,891416,1029821.9669999999,991936.99600000004,931340.99800000002,724994.005,616572.005,882094,956947.00199999998,787511.00199999998,826905.99700000009,707665.99900000007,1001918.003,788283.00200000009,941119.00399999996,956994.00399999996,887499.99899999995,868035.99599999993,910158.00300000003,1018132.0079999999,1034424,1069088.027,989337.00399999996,1012956.012,806883.99900000007,941385.99599999993,963489.99699999997,981291.005,872345.99699999997,886534.00399999996,757748.99800000002,776418,920212.00400000007,1086850.0029999998,1041274.9639999999,950545.99699999997,779295,666858,820474.00100000005,908275.005,713158,748747.005,774197.99899999995,889767.00300000003,896807.99900000007,983048.99600000004,843193.00300000003,909296,826565.99699999997,771484.00200000009,797322.99800000002,828486.99899999995,698300.00100000005,471508.99700000003,475588,721109.005,870932.00200000009,930497,1023352.028,935271.00399999996,787810.00199999998,544524.99899999995,859679,726745.99799999991,798247.723,733069.99599999993,0,0,0,0,0,0,0,0]
[306,50460.974000000002,529,"SOLAR","PV","CA",null,null,0,0,0,0,0,0,0,0,0,0,0,0,0,0,0,0,0,0,0,0,0,0,0,0,0,0,0,0,0,0,0,0,0,0,0,0,0,0,0,0,0,0,0,0,0,0,0,0,0,0,0,0,0,0,0,0,0,0,0,0,0,0,0,0,0,0,0,0,0,0,0,0,0,0,0,0,0,0,0,0,0,0,0,0,0,0,0,0,0,0,0,0,0,0,0,0,0,0,0,0,0,0,0,0,0,0,0,0,0,0,0,0,0,0,0,0,0,0,0,0,0,0,0,0,0,0,0,0,0,0,0,0,0,0,0,0,0,0,0,0,0,0,0,0,0,0,0,0,0,0,0,0,0,0,0,0,0,0,0,0,0,0,0,0,0,0,0,0,0,0,0,0,0,0,0,0,80.209999999999994,92.03,14.03,25.314,43.276000000000003,127.941,148.5,207.7,240.4,161.1,220.8,231,181.7,147.80000000000001,70.900000000000006,45.9,60.5,138.30000000000001,290.89999999999998,319.8,401.5,534.1,481.4,468.4,310.60000000000002,307.10000000000002,199.2,91.3,127.9,170.1,290.2,425.9,216.7,221.4,250.3,219.8,162.6,108.9,70.5,30.5,32.1,94,96.6,16.399999999999999,113.2,219.4,219.8,242.3,166.5,130.30000000000001,68,56.1,67.89,73.126000000000005,150.6,193.8,107.083,166.363,292.8,213.7,118.517,165.78,141.91399999999999,73.2,82,117,139,142,258,190,262,275,168,180,77,105,0,0,0,0,0,0,0,0,0,0,0,0,0,0,0,0,0,0,0,0,0,0,0,0,38,93,194,328,276,198,408,413,358,179,127,68,116,79,235,210,213,269,253,187,207,274,122,30,17,27,44,273,378,446,370,400,248,136,88,4,1,85,163,180,223,255,132,-2,0,44,40,51,58,126,175,272,156,335,240,204,177,106,54,44,14,5,130,151,92,205,230,191,122,103,39,3,4,29,134,189,203,227,220,174,137,212,115,57,22,70,44,69,169,249,370,292,269,178,85,70,22,124,211,207,314,318,359,313,281,206,82,60,80,124,201,203,232,328,347,338,236,156,87,55,56,122,228,-4,257,278,301,229,204,170,82,25,39,76,168,241,234,247,270,259,208,116,54,48,9,82,144,190,209,280,304,288,233,151,79,43,58,136,93,167,261,289,265,261,213,125,60,20,42,62,206,190,264,268,239,266,140,168,118,86,57,132,224,261,266,319,292,281,206,147,72,38,57,66,141,162,222,249,267,235,186,143,91,56,37,82,118,150,179,254,236,229,145,111,75,31,43,50,87,142,150,114,190,180,137,103,40,7,14,0,0,0,88,21,0,26,0,0,0,2,0,0,0,0,0,0,0,0,0,0,0,0,0,0,0,0,0,0,0,0,0,0,0,0,0,0,0,0,0,0,0,0,0,0,0,0,0,0,0,0,0,0,0,0,0,0,0,0,0,0,0,0,0,0,0,0,0,0,0]
[100,7238.6,7098,"PVUSA 1","PV","CA",null,null,0,0,0,0,0,0,0,0,0,0,0,0,0,0,0,0,0,0,0,0,0,0,0,0,0,0,0,0,0,0,0,0,0,0,0,0,0,0,0,0,0,0,0,0,0,0,0,0,0,0,0,0,0,0,0,0,0,0,0,0,0,0,0,0,0,0,0,0,0,0,0,0,0,0,0,0,0,0,0,0,0,0,0,0,0,0,0,0,0,0,0,0,0,0,0,0,0,0,0,0,0,0,0,0,0,0,0,0,0,0,0,0,0,0,0,0,0,0,0,0,0,0,0,0,0,0,0,0,0,0,0,0,0,0,0,0,0,0,0,0,0,0,0,0,0,0,0,0,0,0,0,0,0,0,0,0,0,0,0,0,0,0,0,0,0,0,0,0,0,0,0,0,0,0,0,0,0,0,0,0,0,0,0,0,0,0,0,0,0,0,0,0,0,0,0,0,0,0,0,0,0,0,0,0,0,0,0,0,0,0,0,0,0,0,0,0,0,0,0,0,0,0,0,0,0,0,0,0,0,0,0,0,0,0,14.4,2.64,152,80,80,3.56,-2,-1,2,4,5,5,4,4,5,4,4,0,0,0,0,0,0,0,0,0,0,0,0,0,0,0,0,0,0,0,0,0,0,0,0,0,22,32,59,77,90,61,61,102,72,71,72,29,48,58,91,105,114,100,85,69,113,102,60,28,13,42,82,100,94,105,103,71,91,87,72,40,51,0,138,193,222,214,207,119,0,78,53,29,0,72,97,130,153,118,171,148,0,65,35,23,14,9,76,77,63,90,122,133,110,59,45,44,22,31,58,98,128,114,118,105,49,54,33,30,14,23,59,84,73,0,0,0,0,0,0,0,0,0,0,0,0,0,0,0,0,0,0,0,0,0,0,0,0,0,0,0,0,0,0,0,0,0,0,0,0,0,0,0,0,0,0,0,0,0,0,0,0,0,0,0,0,0,0,0,0,0,0,0,0,0,0,0,0,0,0,0,0,0,0,0,0,0,0,0,0,0,0,0,0,0,0,0,0,0,0,0,0,0,0,0,0,0,0,0,0,0,0,0,0,0,0,0,0,0,0,0,0,0,0,0,0,0,0,0,0,0,0,0,0,0,0,0,0,0,0,0,0,0,0,0,0,0,0,0,0,0,0,0,0,0,0,0,0,0,0,0,0,0,0,0,0,0,0,0,0,0,0,0,0,0,0,0,0,0,0,0,0,0,0,0,0,0,0,0,0,0,0,0,0,0,0,0,0,0,0,0,0,0,0,0,0,0,0,0,0,0,0,0,0,0,0,0,0,0,0,0,0,0,0]
[91,2856,7523,"HEDGE PV","PV","CA",null,null,0,0,0,0,0,0,0,0,0,0,0,0,0,0,0,0,0,0,0,0,0,0,0,0,0,0,0,0,0,0,0,0,0,0,0,0,0,0,0,0,0,0,0,0,0,0,0,0,0,0,0,0,0,0,0,0,0,0,0,0,0,0,0,0,0,0,0,0,0,0,0,0,0,0,0,0,0,0,0,0,0,0,0,0,0,0,0,0,0,0,0,0,0,0,0,0,0,0,0,0,0,0,0,0,0,0,0,0,0,0,0,0,0,0,0,0,0,0,0,0,0,0,0,0,0,0,0,0,0,0,0,0,0,0,0,0,0,0,0,0,0,0,0,0,0,0,0,0,0,0,0,0,0,0,0,0,0,0,0,0,0,0,0,0,0,0,0,0,0,0,0,0,0,0,0,0,0,0,0,0,0,0,0,0,0,0,0,0,0,0,0,0,0,0,0,0,0,0,0,0,0,0,0,0,0,0,0,0,0,0,0,0,0,0,0,0,0,0,0,0,0,0,0,0,0,0,0,0,0,0,0,0,0,0,0,0,0,0,0,0,0,0,0,0,0,0,0,0,0,0,0,0,0,0,0,0,0,0,0,0,0,0,0,0,0,0,0,0,0,0,0,0,0,0,0,0,0,0,0,0,0,0,0,0,0,0,0,0,0,0,0,0,0,0,0,0,0,0,0,0,0,3,0,0,37,54,64,54,46,36,21,7,9,14,34,48,50,56,64,56,41,34,16,11,9,24,17,0,32,57,55,35,32,34,11,4,6,7,26,29,17,22,35,28,28,26,17,16,12,18,34,40,50,57,62,49,41,26,0,19,7,16,32,29,33,51,48,50,43,26,18,9,7,21,37,44,55,35,31,33,28,30,13,11,15,25,35,40,43,58,59,50,38,29,17,10,0,0,0,0,0,0,0,0,0,0,0,0,0,0,0,0,0,0,0,0,0,0,0,0,0,0,0,0,0,0,0,0,0,0,0,0,0,0,0,0,0,0,0,0,0,0,0,0,0,0,0,0,0,0,0,0,0,0,0,0,0,0,0,0,0,0,0,0,0,0,0,0,0,0,0,0,0,0,0,0,0,0,0,0,0,0,0,0,0,0,0,0,0,0,0,0,0,0,0,0,0,0,0,0,0,0,0,0,0,0,0,0,0,0,0,0,0,0,0,0,0,0,0,0,0,0,0,0,0,0,0,0,0,0,0,0,0,0,0,0,0,0,0,0,0,0,0,0,0,0,0,0,0,0,0,0,0,0,0,0,0,0,0,0,0,0,0,0,0,0,0,0,0,0,0,0,0,0,0]
[39,1933452,56322,"Wild Horse","PV","WA",null,null,0,0,0,0,0,0,0,0,0,0,0,0,0,0,0,0,0,0,0,0,0,0,0,0,0,0,0,0,0,0,0,0,0,0,0,0,0,0,0,0,0,0,0,0,0,0,0,0,0,0,0,0,0,0,0,0,0,0,0,0,0,0,0,0,0,0,0,0,0,0,0,0,0,0,0,0,0,0,0,0,0,0,0,0,0,0,0,0,0,0,0,0,0,0,0,0,0,0,0,0,0,0,0,0,0,0,0,0,0,0,0,0,0,0,0,0,0,0,0,0,0,0,0,0,0,0,0,0,0,0,0,0,0,0,0,0,0,0,0,0,0,0,0,0,0,0,0,0,0,0,0,0,0,0,0,0,0,0,0,0,0,0,0,0,0,0,0,0,0,0,0,0,0,0,0,0,0,0,0,0,0,0,0,0,0,0,0,0,0,0,0,0,0,0,0,0,0,0,0,0,0,0,0,0,0,0,0,0,0,0,0,0,0,0,0,0,0,0,0,0,0,0,0,0,0,0,0,0,0,0,0,0,0,0,0,0,0,0,0,0,0,0,0,0,0,0,0,0,0,0,0,0,0,0,0,0,0,0,0,0,0,0,0,0,0,0,0,0,0,0,0,0,0,0,0,0,0,0,0,0,0,0,0,0,0,0,0,0,0,0,0,0,0,0,0,0,0,0,0,0,0,0,0,0,0,0,0,0,0,0,0,0,0,0,0,0,0,0,0,0,0,0,0,0,0,0,0,0,0,0,0,0,0,0,0,0,0,0,0,0,0,0,0,0,0,0,0,0,0,0,0,0,0,0,0,0,0,0,0,0,0,0,0,0,0,0,0,0,0,0,0,0,0,0,0,0,0,0,0,0,0,0,0,0,0,0,0,0,0,0,0,0,0,0,0,0,0,0,0,0,0,0,0,0,0,0,0,0,0,0,0,0,0,0,0,0,0,0,0,0,0,0,0,0,0,0,0,0,0,0,0,0,0,0,0,0,0,0,0,0,0,0,0,0,0,0,0,0,0,0,0,0,0,0,0,0,0,0,0,0,0,0,0,0,0,0,0,0,0,0,0,0,0,0,0,0,0,0,0,0,0,0,0,0,0,0,0,0,0,0,0,0,0,0,0,0,0,0,0,0,0,0,0,0,0,0,0,0,0,0,0,0,0,0,0,0,0,0,0,0,0,0,0,0,0,0,0,0,30797,46858,71694,78869,57977,70618,31122,43400,49510,47057,71688,50973,31528,48776,55048,62063,32122,49834,62908,56691,55098,50536,55305,50054,40531,54263,76456,49161,71413,64727,57844,44461,60465,43202,48304,62099,41924,50002,63901,0,0,0,0,0,0,0,0]
[39,2224448,57373,"Agua Caliente Solar Project","PV","AZ",null,null,0,0,0,0,0,0,0,0,0,0,0,0,0,0,0,0,0,0,0,0,0,0,0,0,0,0,0,0,0,0,0,0,0,0,0,0,0,0,0,0,0,0,0,0,0,0,0,0,0,0,0,0,0,0,0,0,0,0,0,0,0,0,0,0,0,0,0,0,0,0,0,0,0,0,0,0,0,0,0,0,0,0,0,0,0,0,0,0,0,0,0,0,0,0,0,0,0,0,0,0,0,0,0,0,0,0,0,0,0,0,0,0,0,0,0,0,0,0,0,0,0,0,0,0,0,0,0,0,0,0,0,0,0,0,0,0,0,0,0,0,0,0,0,0,0,0,0,0,0,0,0,0,0,0,0,0,0,0,0,0,0,0,0,0,0,0,0,0,0,0,0,0,0,0,0,0,0,0,0,0,0,0,0,0,0,0,0,0,0,0,0,0,0,0,0,0,0,0,0,0,0,0,0,0,0,0,0,0,0,0,0,0,0,0,0,0,0,0,0,0,0,0,0,0,0,0,0,0,0,0,0,0,0,0,0,0,0,0,0,0,0,0,0,0,0,0,0,0,0,0,0,0,0,0,0,0,0,0,0,0,0,0,0,0,0,0,0,0,0,0,0,0,0,0,0,0,0,0,0,0,0,0,0,0,0,0,0,0,0,0,0,0,0,0,0,0,0,0,0,0,0,0,0,0,0,0,0,0,0,0,0,0,0,0,0,0,0,0,0,0,0,0,0,0,0,0,0,0,0,0,0,0,0,0,0,0,0,0,0,0,0,0,0,0,0,0,0,0,0,0,0,0,0,0,0,0,0,0,0,0,0,0,0,0,0,0,0,0,0,0,0,0,0,0,0,0,0,0,0,0,0,0,0,0,0,0,0,0,0,0,0,0,0,0,0,0,0,0,0,0,0,0,0,0,0,0,0,0,0,0,0,0,0,0,0,0,0,0,0,0,0,0,0,0,0,0,0,0,0,0,0,0,0,0,0,0,0,0,0,0,0,0,0,0,0,0,0,0,0,0,0,0,0,0,0,0,0,0,0,0,0,0,0,0,0,0,0,0,0,0,0,0,0,0,0,0,0,0,0,0,0,0,0,0,0,0,0,0,0,0,0,0,0,0,0,0,0,0,0,0,0,0,0,0,0,0,0,0,0,0,0,0,0,0,0,0,0,0,0,0,0,0,0,0,0,0,0,0,50790,50560,66490,69912,74990,73533,71022,67401,63912,60676,55189,36706,46007,54670,65495,70829,72742,69880,69307,70319,60023,56974,54110,49378,49412,58327,67227,66997,75385,69159,73136,69135,60662,60662,50348,43083,47671,46840,67082,0,0,0,0,0,0,0,0]
[39,156818,57589,"Long Island Solar Farm LLC","PV","NY",null,null,0,0,0,0,0,0,0,0,0,0,0,0,0,0,0,0,0,0,0,0,0,0,0,0,0,0,0,0,0,0,0,0,0,0,0,0,0,0,0,0,0,0,0,0,0,0,0,0,0,0,0,0,0,0,0,0,0,0,0,0,0,0,0,0,0,0,0,0,0,0,0,0,0,0,0,0,0,0,0,0,0,0,0,0,0,0,0,0,0,0,0,0,0,0,0,0,0,0,0,0,0,0,0,0,0,0,0,0,0,0,0,0,0,0,0,0,0,0,0,0,0,0,0,0,0,0,0,0,0,0,0,0,0,0,0,0,0,0,0,0,0,0,0,0,0,0,0,0,0,0,0,0,0,0,0,0,0,0,0,0,0,0,0,0,0,0,0,0,0,0,0,0,0,0,0,0,0,0,0,0,0,0,0,0,0,0,0,0,0,0,0,0,0,0,0,0,0,0,0,0,0,0,0,0,0,0,0,0,0,0,0,0,0,0,0,0,0,0,0,0,0,0,0,0,0,0,0,0,0,0,0,0,0,0,0,0,0,0,0,0,0,0,0,0,0,0,0,0,0,0,0,0,0,0,0,0,0,0,0,0,0,0,0,0,0,0,0,0,0,0,0,0,0,0,0,0,0,0,0,0,0,0,0,0,0,0,0,0,0,0,0,0,0,0,0,0,0,0,0,0,0,0,0,0,0,0,0,0,0,0,0,0,0,0,0,0,0,0,0,0,0,0,0,0,0,0,0,0,0,0,0,0,0,0,0,0,0,0,0,0,0,0,0,0,0,0,0,0,0,0,0,0,0,0,0,0,0,0,0,0,0,0,0,0,0,0,0,0,0,0,0,0,0,0,0,0,0,0,0,0,0,0,0,0,0,0,0,0,0,0,0,0,0,0,0,0,0,0,0,0,0,0,0,0,0,0,0,0,0,0,0,0,0,0,0,0,0,0,0,0,0,0,0,0,0,0,0,0,0,0,0,0,0,0,0,0,0,0,0,0,0,0,0,0,0,0,0,0,0,0,0,0,0,0,0,0,0,0,0,0,0,0,0,0,0,0,0,0,0,0,0,0,0,0,0,0,0,0,0,0,0,0,0,0,0,0,0,0,0,0,0,0,0,0,0,0,0,0,0,0,0,0,0,0,0,0,0,0,0,0,0,0,0,0,0,0,0,0,0,0,0,0,0,0,0,0,0,0,2253,3222,4537,5506,5264,5499,5666,5592,4546,3465,3168,2104,2898,3223,4116,5270,6020,4980,5545,5784,5058,4424,3187,1782,3506,3054,4919,5404,4790,6114,5720,5687,4230,4149,3422,2714,1909,3515,4287,0,0,0,0,0,0,0,0]
[39,3620470,57695,"Topaz Solar Farm","PV","CA",null,null,0,0,0,0,0,0,0,0,0,0,0,0,0,0,0,0,0,0,0,0,0,0,0,0,0,0,0,0,0,0,0,0,0,0,0,0,0,0,0,0,0,0,0,0,0,0,0,0,0,0,0,0,0,0,0,0,0,0,0,0,0,0,0,0,0,0,0,0,0,0,0,0,0,0,0,0,0,0,0,0,0,0,0,0,0,0,0,0,0,0,0,0,0,0,0,0,0,0,0,0,0,0,0,0,0,0,0,0,0,0,0,0,0,0,0,0,0,0,0,0,0,0,0,0,0,0,0,0,0,0,0,0,0,0,0,0,0,0,0,0,0,0,0,0,0,0,0,0,0,0,0,0,0,0,0,0,0,0,0,0,0,0,0,0,0,0,0,0,0,0,0,0,0,0,0,0,0,0,0,0,0,0,0,0,0,0,0,0,0,0,0,0,0,0,0,0,0,0,0,0,0,0,0,0,0,0,0,0,0,0,0,0,0,0,0,0,0,0,0,0,0,0,0,0,0,0,0,0,0,0,0,0,0,0,0,0,0,0,0,0,0,0,0,0,0,0,0,0,0,0,0,0,0,0,0,0,0,0,0,0,0,0,0,0,0,0,0,0,0,0,0,0,0,0,0,0,0,0,0,0,0,0,0,0,0,0,0,0,0,0,0,0,0,0,0,0,0,0,0,0,0,0,0,0,0,0,0,0,0,0,0,0,0,0,0,0,0,0,0,0,0,0,0,0,0,0,0,0,0,0,0,0,0,0,0,0,0,0,0,0,0,0,0,0,0,0,0,0,0,0,0,0,0,0,0,0,0,0,0,0,0,0,0,0,0,0,0,0,0,0,0,0,0,0,0,0,0,0,0,0,0,0,0,0,0,0,0,0,0,0,0,0,0,0,0,0,0,0,0,0,0,0,0,0,0,0,0,0,0,0,0,0,0,0,0,0,0,0,0,0,0,0,0,0,0,0,0,0,0,0,0,0,0,0,0,0,0,0,0,0,0,0,0,0,0,0,0,0,0,0,0,0,0,0,0,0,0,0,0,0,0,0,0,0,0,0,0,0,0,0,0,0,0,0,0,0,0,0,0,0,0,0,0,0,0,0,0,0,0,0,0,0,0,0,0,0,0,0,0,0,0,0,0,0,0,0,0,0,0,0,0,0,0,0,0,0,0,0,0,0,0,0,0,0,0,0,0,0,38484,36044,72444,87330,97239,109860,106256,119100,119484,113417,93074,60641,89663,92944,108663,114979,103163,123704,130249,133000,120634,111211,93907,79220,65211,101749,108033,106132,124972,134559,138014,130844,111319,99693,88536,56698,57880,42375,95639,0,0,0,0,0,0,0,0]
[39,110563,58408,"Maryland Solar","PV","MD",null,null,0,0,0,0,0,0,0,0,0,0,0,0,0,0,0,0,0,0,0,0,0,0,0,0,0,0,0,0,0,0,0,0,0,0,0,0,0,0,0,0,0,0,0,0,0,0,0,0,0,0,0,0,0,0,0,0,0,0,0,0,0,0,0,0,0,0,0,0,0,0,0,0,0,0,0,0,0,0,0,0,0,0,0,0,0,0,0,0,0,0,0,0,0,0,0,0,0,0,0,0,0,0,0,0,0,0,0,0,0,0,0,0,0,0,0,0,0,0,0,0,0,0,0,0,0,0,0,0,0,0,0,0,0,0,0,0,0,0,0,0,0,0,0,0,0,0,0,0,0,0,0,0,0,0,0,0,0,0,0,0,0,0,0,0,0,0,0,0,0,0,0,0,0,0,0,0,0,0,0,0,0,0,0,0,0,0,0,0,0,0,0,0,0,0,0,0,0,0,0,0,0,0,0,0,0,0,0,0,0,0,0,0,0,0,0,0,0,0,0,0,0,0,0,0,0,0,0,0,0,0,0,0,0,0,0,0,0,0,0,0,0,0,0,0,0,0,0,0,0,0,0,0,0,0,0,0,0,0,0,0,0,0,0,0,0,0,0,0,0,0,0,0,0,0,0,0,0,0,0,0,0,0,0,0,0,0,0,0,0,0,0,0,0,0,0,0,0,0,0,0,0,0,0,0,0,0,0,0,0,0,0,0,0,0,0,0,0,0,0,0,0,0,0,0,0,0,0,0,0,0,0,0,0,0,0,0,0,0,0,0,0,0,0,0,0,0,0,0,0,0,0,0,0,0,0,0,0,0,0,0,0,0,0,0,0,0,0,0,0,0,0,0,0,0,0,0,0,0,0,0,0,0,0,0,0,0,0,0,0,0,0,0,0,0,0,0,0,0,0,0,0,0,0,0,0,0,0,0,0,0,0,0,0,0,0,0,0,0,0,0,0,0,0,0,0,0,0,0,0,0,0,0,0,0,0,0,0,0,0,0,0,0,0,0,0,0,0,0,0,0,0,0,0,0,0,0,0,0,0,0,0,0,0,0,0,0,0,0,0,0,0,0,0,0,0,0,0,0,0,0,0,0,0,0,0,0,0,0,0,0,0,0,0,0,0,0,0,0,0,0,0,0,0,0,0,0,0,0,0,0,0,0,0,0,0,0,0,0,0,0,0,0,0,0,0,0,0,0,1528,1926,2893,3503,4151,4446,4189,4038,3589,2459,2199,1163,1588,2404,2220,3555,4551,3594,4338,4228,3511,2898,2350,1299,1894,2141,3066,3660,3486,4331,4315,4279,3450,3258,2411,1652,1336,2373,2907,0,0,0,0,0,0,0,0]
[37,1789092,58389,"Solar Star 2","PV","CA",null,null,0,0,0,0,0,0,0,0,0,0,0,0,0,0,0,0,0,0,0,0,0,0,0,0,0,0,0,0,0,0,0,0,0,0,0,0,0,0,0,0,0,0,0,0,0,0,0,0,0,0,0,0,0,0,0,0,0,0,0,0,0,0,0,0,0,0,0,0,0,0,0,0,0,0,0,0,0,0,0,0,0,0,0,0,0,0,0,0,0,0,0,0,0,0,0,0,0,0,0,0,0,0,0,0,0,0,0,0,0,0,0,0,0,0,0,0,0,0,0,0,0,0,0,0,0,0,0,0,0,0,0,0,0,0,0,0,0,0,0,0,0,0,0,0,0,0,0,0,0,0,0,0,0,0,0,0,0,0,0,0,0,0,0,0,0,0,0,0,0,0,0,0,0,0,0,0,0,0,0,0,0,0,0,0,0,0,0,0,0,0,0,0,0,0,0,0,0,0,0,0,0,0,0,0,0,0,0,0,0,0,0,0,0,0,0,0,0,0,0,0,0,0,0,0,0,0,0,0,0,0,0,0,0,0,0,0,0,0,0,0,0,0,0,0,0,0,0,0,0,0,0,0,0,0,0,0,0,0,0,0,0,0,0,0,0,0,0,0,0,0,0,0,0,0,0,0,0,0,0,0,0,0,0,0,0,0,0,0,0,0,0,0,0,0,0,0,0,0,0,0,0,0,0,0,0,0,0,0,0,0,0,0,0,0,0,0,0,0,0,0,0,0,0,0,0,0,0,0,0,0,0,0,0,0,0,0,0,0,0,0,0,0,0,0,0,0,0,0,0,0,0,0,0,0,0,0,0,0,0,0,0,0,0,0,0,0,0,0,0,0,0,0,0,0,0,0,0,0,0,0,0,0,0,0,0,0,0,0,0,0,0,0,0,0,0,0,0,0,0,0,0,0,0,0,0,0,0,0,0,0,0,0,0,0,0,0,0,0,0,0,0,0,0,0,0,0,0,0,0,0,0,0,0,0,0,0,0,0,0,0,0,0,0,0,0,0,0,0,0,0,0,0,0,0,0,0,0,0,0,0,0,0,0,0,0,0,0,0,0,0,0,0,0,0,0,0,0,0,0,0,0,0,0,0,0,0,0,0,0,0,0,0,0,0,0,0,0,0,0,0,0,0,0,0,0,0,0,0,0,0,0,0,0,0,0,0,0,0,0,0,0,0,0,0,0,0,0,0,0,0,2092,19558,24342,24569,23116,26697,35108,29640,22111,15609,40769,50582,68531,77036,87210,83183,87909,85625,72530,55497,49895,39635,34065,56385,53776,74427,89089,65376,95256,86438,73226,58390,45752,35668,36824,42569,69736,0,0,0,0,0,0,0,0]
[36,1575765,56917,"Imperial Valley Solar, LLC","PV","CA",null,null,0,0,0,0,0,0,0,0,0,0,0,0,0,0,0,0,0,0,0,0,0,0,0,0,0,0,0,0,0,0,0,0,0,0,0,0,0,0,0,0,0,0,0,0,0,0,0,0,0,0,0,0,0,0,0,0,0,0,0,0,0,0,0,0,0,0,0,0,0,0,0,0,0,0,0,0,0,0,0,0,0,0,0,0,0,0,0,0,0,0,0,0,0,0,0,0,0,0,0,0,0,0,0,0,0,0,0,0,0,0,0,0,0,0,0,0,0,0,0,0,0,0,0,0,0,0,0,0,0,0,0,0,0,0,0,0,0,0,0,0,0,0,0,0,0,0,0,0,0,0,0,0,0,0,0,0,0,0,0,0,0,0,0,0,0,0,0,0,0,0,0,0,0,0,0,0,0,0,0,0,0,0,0,0,0,0,0,0,0,0,0,0,0,0,0,0,0,0,0,0,0,0,0,0,0,0,0,0,0,0,0,0,0,0,0,0,0,0,0,0,0,0,0,0,0,0,0,0,0,0,0,0,0,0,0,0,0,0,0,0,0,0,0,0,0,0,0,0,0,0,0,0,0,0,0,0,0,0,0,0,0,0,0,0,0,0,0,0,0,0,0,0,0,0,0,0,0,0,0,0,0,0,0,0,0,0,0,0,0,0,0,0,0,0,0,0,0,0,0,0,0,0,0,0,0,0,0,0,0,0,0,0,0,0,0,0,0,0,0,0,0,0,0,0,0,0,0,0,0,0,0,0,0,0,0,0,0,0,0,0,0,0,0,0,0,0,0,0,0,0,0,0,0,0,0,0,0,0,0,0,0,0,0,0,0,0,0,0,0,0,0,0,0,0,0,0,0,0,0,0,0,0,0,0,0,0,0,0,0,0,0,0,0,0,0,0,0,0,0,0,0,0,0,0,0,0,0,0,0,0,0,0,0,0,0,0,0,0,0,0,0,0,0,0,0,0,0,0,0,0,0,0,0,0,0,0,0,0,0,0,0,0,0,0,0,0,0,0,0,0,0,0,0,0,0,0,0,0,0,0,0,0,0,0,0,0,0,0,0,0,0,0,0,0,0,0,0,0,0,0,0,0,0,0,0,0,0,0,0,0,0,0,0,0,0,0,0,0,0,0,0,0,0,0,0,0,0,0,0,0,0,0,0,0,0,0,0,0,0,0,0,0,0,0,0,0,0,0,22740,28996,52995,50216,54049,45771,41333,54391,49421,41741,34314,24588,26784,36002,48988,54670,57135,57622,58306,56135,41832,40183,32880,28148,28732,39221,45763,51495,62321,60274,60762,54169,45606,39605,28038,20539,0,0,0,0,0,0,0,0,0,0,0]
[36,146107,56929,"DeSoto Next Generation Solar Energy","PV","FL",null,null,0,0,0,0,0,0,0,0,0,0,0,0,0,0,0,0,0,0,0,0,0,0,0,0,0,0,0,0,0,0,0,0,0,0,0,0,0,0,0,0,0,0,0,0,0,0,0,0,0,0,0,0,0,0,0,0,0,0,0,0,0,0,0,0,0,0,0,0,0,0,0,0,0,0,0,0,0,0,0,0,0,0,0,0,0,0,0,0,0,0,0,0,0,0,0,0,0,0,0,0,0,0,0,0,0,0,0,0,0,0,0,0,0,0,0,0,0,0,0,0,0,0,0,0,0,0,0,0,0,0,0,0,0,0,0,0,0,0,0,0,0,0,0,0,0,0,0,0,0,0,0,0,0,0,0,0,0,0,0,0,0,0,0,0,0,0,0,0,0,0,0,0,0,0,0,0,0,0,0,0,0,0,0,0,0,0,0,0,0,0,0,0,0,0,0,0,0,0,0,0,0,0,0,0,0,0,0,0,0,0,0,0,0,0,0,0,0,0,0,0,0,0,0,0,0,0,0,0,0,0,0,0,0,0,0,0,0,0,0,0,0,0,0,0,0,0,0,0,0,0,0,0,0,0,0,0,0,0,0,0,0,0,0,0,0,0,0,0,0,0,0,0,0,0,0,0,0,0,0,0,0,0,0,0,0,0,0,0,0,0,0,0,0,0,0,0,0,0,0,0,0,0,0,0,0,0,0,0,0,0,0,0,0,0,0,0,0,0,0,0,0,0,0,0,0,0,0,0,0,0,0,0,0,0,0,0,0,0,0,0,0,0,0,0,0,0,0,0,0,0,0,0,0,0,0,0,0,0,0,0,0,0,0,0,0,0,0,0,0,0,0,0,0,0,0,0,0,0,0,0,0,0,0,0,0,0,0,0,0,0,0,0,0,0,0,0,0,0,0,0,0,0,0,0,0,0,0,0,0,0,0,0,0,0,0,0,0,0,0,0,0,0,0,0,0,0,0,0,0,0,0,0,0,0,0,0,0,0,0,0,0,0,0,0,0,0,0,0,0,0,0,0,0,0,0,0,0,0,0,0,0,0,0,0,0,0,0,0,0,0,0,0,0,0,0,0,0,0,0,0,0,0,0,0,0,0,0,0,0,0,0,0,0,0,0,0,0,0,0,0,0,0,0,0,0,0,0,0,0,0,0,0,0,0,0,0,0,0,0,0,0,0,0,0,0,0,0,0,2888,3463,4453,1702,5585,4905,4870,4944,3798,4600,3263,2950,3190,3601,4532,4844,6060,5098,4711,4350,3878,3845,3157,2770,2758,3465,4207,4555,5536,4356,5082,4241,4213,4031,3413,2793,0,0,0,0,0,0,0,0,0,0,0]
[36,53533,56930,"Space Coast Next Gen Solar Energy","PV","FL",null,null,0,0,0,0,0,0,0,0,0,0,0,0,0,0,0,0,0,0,0,0,0,0,0,0,0,0,0,0,0,0,0,0,0,0,0,0,0,0,0,0,0,0,0,0,0,0,0,0,0,0,0,0,0,0,0,0,0,0,0,0,0,0,0,0,0,0,0,0,0,0,0,0,0,0,0,0,0,0,0,0,0,0,0,0,0,0,0,0,0,0,0,0,0,0,0,0,0,0,0,0,0,0,0,0,0,0,0,0,0,0,0,0,0,0,0,0,0,0,0,0,0,0,0,0,0,0,0,0,0,0,0,0,0,0,0,0,0,0,0,0,0,0,0,0,0,0,0,0,0,0,0,0,0,0,0,0,0,0,0,0,0,0,0,0,0,0,0,0,0,0,0,0,0,0,0,0,0,0,0,0,0,0,0,0,0,0,0,0,0,0,0,0,0,0,0,0,0,0,0,0,0,0,0,0,0,0,0,0,0,0,0,0,0,0,0,0,0,0,0,0,0,0,0,0,0,0,0,0,0,0,0,0,0,0,0,0,0,0,0,0,0,0,0,0,0,0,0,0,0,0,0,0,0,0,0,0,0,0,0,0,0,0,0,0,0,0,0,0,0,0,0,0,0,0,0,0,0,0,0,0,0,0,0,0,0,0,0,0,0,0,0,0,0,0,0,0,0,0,0,0,0,0,0,0,0,0,0,0,0,0,0,0,0,0,0,0,0,0,0,0,0,0,0,0,0,0,0,0,0,0,0,0,0,0,0,0,0,0,0,0,0,0,0,0,0,0,0,0,0,0,0,0,0,0,0,0,0,0,0,0,0,0,0,0,0,0,0,0,0,0,0,0,0,0,0,0,0,0,0,0,0,0,0,0,0,0,0,0,0,0,0,0,0,0,0,0,0,0,0,0,0,0,0,0,0,0,0,0,0,0,0,0,0,0,0,0,0,0,0,0,0,0,0,0,0,0,0,0,0,0,0,0,0,0,0,0,0,0,0,0,0,0,0,0,0,0,0,0,0,0,0,0,0,0,0,0,0,0,0,0,0,0,0,0,0,0,0,0,0,0,0,0,0,0,0,0,0,0,0,0,0,0,0,0,0,0,0,0,0,0,0,0,0,0,0,0,0,0,0,0,0,0,0,0,0,0,0,0,0,0,0,0,0,0,0,0,0,0,0,0,0,0,0,0,0,0,0,0,1092,1283,1655,1702,1841,1526,1496,1618,1330,1697,1208,1103,1303,1315,1687,1589,1903,1645,1609,1489,1356,1416,1272,1098,1114,1562,1619,1816,1813,1568,1857,1612,1403,1336,1372,1228,0,0,0,0,0,0,0,0,0,0,0]
[36,304450,57205,"CM48","PV","NV",null,null,0,0,0,0,0,0,0,0,0,0,0,0,0,0,0,0,0,0,0,0,0,0,0,0,0,0,0,0,0,0,0,0,0,0,0,0,0,0,0,0,0,0,0,0,0,0,0,0,0,0,0,0,0,0,0,0,0,0,0,0,0,0,0,0,0,0,0,0,0,0,0,0,0,0,0,0,0,0,0,0,0,0,0,0,0,0,0,0,0,0,0,0,0,0,0,0,0,0,0,0,0,0,0,0,0,0,0,0,0,0,0,0,0,0,0,0,0,0,0,0,0,0,0,0,0,0,0,0,0,0,0,0,0,0,0,0,0,0,0,0,0,0,0,0,0,0,0,0,0,0,0,0,0,0,0,0,0,0,0,0,0,0,0,0,0,0,0,0,0,0,0,0,0,0,0,0,0,0,0,0,0,0,0,0,0,0,0,0,0,0,0,0,0,0,0,0,0,0,0,0,0,0,0,0,0,0,0,0,0,0,0,0,0,0,0,0,0,0,0,0,0,0,0,0,0,0,0,0,0,0,0,0,0,0,0,0,0,0,0,0,0,0,0,0,0,0,0,0,0,0,0,0,0,0,0,0,0,0,0,0,0,0,0,0,0,0,0,0,0,0,0,0,0,0,0,0,0,0,0,0,0,0,0,0,0,0,0,0,0,0,0,0,0,0,0,0,0,0,0,0,0,0,0,0,0,0,0,0,0,0,0,0,0,0,0,0,0,0,0,0,0,0,0,0,0,0,0,0,0,0,0,0,0,0,0,0,0,0,0,0,0,0,0,0,0,0,0,0,0,0,0,0,0,0,0,0,0,0,0,0,0,0,0,0,0,0,0,0,0,0,0,0,0,0,0,0,0,0,0,0,0,0,0,0,0,0,0,0,0,0,0,0,0,0,0,0,0,0,0,0,0,0,0,0,0,0,0,0,0,0,0,0,0,0,0,0,0,0,0,0,0,0,0,0,0,0,0,0,0,0,0,0,0,0,0,0,0,0,0,0,0,0,0,0,0,0,0,0,0,0,0,0,0,0,0,0,0,0,0,0,0,0,0,0,0,0,0,0,0,0,0,0,0,0,0,0,0,0,0,0,0,0,0,0,0,0,0,0,0,0,0,0,0,0,0,0,0,0,0,0,0,0,0,0,0,0,0,0,0,0,0,0,0,0,0,0,0,0,0,0,0,0,0,0,0,0,0,0,7355,7125,9633,9796,10454,10131,8784,9171,9146,8988,7672,5201,6573,7807,9359,10147,9204,9639,9052,9250,8947,7994,7549,6415,5915,8338,8933,8619,8696,9651,9963,9157,9028,7993,7096,5669,0,0,0,0,0,0,0,0,0,0,0]
[36,186922,57243,"Cimarron Solar Facility","PV","NM",null,null,0,0,0,0,0,0,0,0,0,0,0,0,0,0,0,0,0,0,0,0,0,0,0,0,0,0,0,0,0,0,0,0,0,0,0,0,0,0,0,0,0,0,0,0,0,0,0,0,0,0,0,0,0,0,0,0,0,0,0,0,0,0,0,0,0,0,0,0,0,0,0,0,0,0,0,0,0,0,0,0,0,0,0,0,0,0,0,0,0,0,0,0,0,0,0,0,0,0,0,0,0,0,0,0,0,0,0,0,0,0,0,0,0,0,0,0,0,0,0,0,0,0,0,0,0,0,0,0,0,0,0,0,0,0,0,0,0,0,0,0,0,0,0,0,0,0,0,0,0,0,0,0,0,0,0,0,0,0,0,0,0,0,0,0,0,0,0,0,0,0,0,0,0,0,0,0,0,0,0,0,0,0,0,0,0,0,0,0,0,0,0,0,0,0,0,0,0,0,0,0,0,0,0,0,0,0,0,0,0,0,0,0,0,0,0,0,0,0,0,0,0,0,0,0,0,0,0,0,0,0,0,0,0,0,0,0,0,0,0,0,0,0,0,0,0,0,0,0,0,0,0,0,0,0,0,0,0,0,0,0,0,0,0,0,0,0,0,0,0,0,0,0,0,0,0,0,0,0,0,0,0,0,0,0,0,0,0,0,0,0,0,0,0,0,0,0,0,0,0,0,0,0,0,0,0,0,0,0,0,0,0,0,0,0,0,0,0,0,0,0,0,0,0,0,0,0,0,0,0,0,0,0,0,0,0,0,0,0,0,0,0,0,0,0,0,0,0,0,0,0,0,0,0,0,0,0,0,0,0,0,0,0,0,0,0,0,0,0,0,0,0,0,0,0,0,0,0,0,0,0,0,0,0,0,0,0,0,0,0,0,0,0,0,0,0,0,0,0,0,0,0,0,0,0,0,0,0,0,0,0,0,0,0,0,0,0,0,0,0,0,0,0,0,0,0,0,0,0,0,0,0,0,0,0,0,0,0,0,0,0,0,0,0,0,0,0,0,0,0,0,0,0,0,0,0,0,0,0,0,0,0,0,0,0,0,0,0,0,0,0,0,0,0,0,0,0,0,0,0,0,0,0,0,0,0,0,0,0,0,0,0,0,0,0,0,0,0,0,0,0,0,0,0,0,0,0,0,0,0,0,0,0,0,0,0,0,0,0,0,0,0,0,0,0,0,0,0,0,4785,4611,5790,5630,5674,6294,5265,6034,5503,5468,4037,3352,3824,4176,5469,5817,5610,5797,5565,5838,5549,4833,4338,3969,4465,5007,5700,5520,6060,5928,6080,5410,5583,5699,4363,3879,0,0,0,0,0,0,0,0,0,0,0]
[36,498967,57295,"Alpine Solar","PV","CA",null,null,0,0,0,0,0,0,0,0,0,0,0,0,0,0,0,0,0,0,0,0,0,0,0,0,0,0,0,0,0,0,0,0,0,0,0,0,0,0,0,0,0,0,0,0,0,0,0,0,0,0,0,0,0,0,0,0,0,0,0,0,0,0,0,0,0,0,0,0,0,0,0,0,0,0,0,0,0,0,0,0,0,0,0,0,0,0,0,0,0,0,0,0,0,0,0,0,0,0,0,0,0,0,0,0,0,0,0,0,0,0,0,0,0,0,0,0,0,0,0,0,0,0,0,0,0,0,0,0,0,0,0,0,0,0,0,0,0,0,0,0,0,0,0,0,0,0,0,0,0,0,0,0,0,0,0,0,0,0,0,0,0,0,0,0,0,0,0,0,0,0,0,0,0,0,0,0,0,0,0,0,0,0,0,0,0,0,0,0,0,0,0,0,0,0,0,0,0,0,0,0,0,0,0,0,0,0,0,0,0,0,0,0,0,0,0,0,0,0,0,0,0,0,0,0,0,0,0,0,0,0,0,0,0,0,0,0,0,0,0,0,0,0,0,0,0,0,0,0,0,0,0,0,0,0,0,0,0,0,0,0,0,0,0,0,0,0,0,0,0,0,0,0,0,0,0,0,0,0,0,0,0,0,0,0,0,0,0,0,0,0,0,0,0,0,0,0,0,0,0,0,0,0,0,0,0,0,0,0,0,0,0,0,0,0,0,0,0,0,0,0,0,0,0,0,0,0,0,0,0,0,0,0,0,0,0,0,0,0,0,0,0,0,0,0,0,0,0,0,0,0,0,0,0,0,0,0,0,0,0,0,0,0,0,0,0,0,0,0,0,0,0,0,0,0,0,0,0,0,0,0,0,0,0,0,0,0,0,0,0,0,0,0,0,0,0,0,0,0,0,0,0,0,0,0,0,0,0,0,0,0,0,0,0,0,0,0,0,0,0,0,0,0,0,0,0,0,0,0,0,0,0,0,0,0,0,0,0,0,0,0,0,0,0,0,0,0,0,0,0,0,0,0,0,0,0,0,0,0,0,0,0,0,0,0,0,0,0,0,0,0,0,0,0,0,0,0,0,0,0,0,0,0,0,0,0,0,0,0,0,0,0,0,0,0,0,0,0,0,0,0,0,0,0,0,0,0,0,0,0,0,0,0,0,0,0,0,0,0,0,0,0,0,0,0,0,0,0,0,9953,11585,14781,15726,16681,16534,15899,15865,15276,14572,11961,8221,10359,12243,14670,15305,16161,15413,15887,16218,14977,12896,12467,10200,9001,13377,14261,14819,15840,16089,16780,16252,15128,12862,11743,8965,0,0,0,0,0,0,0,0,0,0,0]
[36,229511,57317,"San Luis Valley Solar Ranch","PV","CO",null,null,0,0,0,0,0,0,0,0,0,0,0,0,0,0,0,0,0,0,0,0,0,0,0,0,0,0,0,0,0,0,0,0,0,0,0,0,0,0,0,0,0,0,0,0,0,0,0,0,0,0,0,0,0,0,0,0,0,0,0,0,0,0,0,0,0,0,0,0,0,0,0,0,0,0,0,0,0,0,0,0,0,0,0,0,0,0,0,0,0,0,0,0,0,0,0,0,0,0,0,0,0,0,0,0,0,0,0,0,0,0,0,0,0,0,0,0,0,0,0,0,0,0,0,0,0,0,0,0,0,0,0,0,0,0,0,0,0,0,0,0,0,0,0,0,0,0,0,0,0,0,0,0,0,0,0,0,0,0,0,0,0,0,0,0,0,0,0,0,0,0,0,0,0,0,0,0,0,0,0,0,0,0,0,0,0,0,0,0,0,0,0,0,0,0,0,0,0,0,0,0,0,0,0,0,0,0,0,0,0,0,0,0,0,0,0,0,0,0,0,0,0,0,0,0,0,0,0,0,0,0,0,0,0,0,0,0,0,0,0,0,0,0,0,0,0,0,0,0,0,0,0,0,0,0,0,0,0,0,0,0,0,0,0,0,0,0,0,0,0,0,0,0,0,0,0,0,0,0,0,0,0,0,0,0,0,0,0,0,0,0,0,0,0,0,0,0,0,0,0,0,0,0,0,0,0,0,0,0,0,0,0,0,0,0,0,0,0,0,0,0,0,0,0,0,0,0,0,0,0,0,0,0,0,0,0,0,0,0,0,0,0,0,0,0,0,0,0,0,0,0,0,0,0,0,0,0,0,0,0,0,0,0,0,0,0,0,0,0,0,0,0,0,0,0,0,0,0,0,0,0,0,0,0,0,0,0,0,0,0,0,0,0,0,0,0,0,0,0,0,0,0,0,0,0,0,0,0,0,0,0,0,0,0,0,0,0,0,0,0,0,0,0,0,0,0,0,0,0,0,0,0,0,0,0,0,0,0,0,0,0,0,0,0,0,0,0,0,0,0,0,0,0,0,0,0,0,0,0,0,0,0,0,0,0,0,0,0,0,0,0,0,0,0,0,0,0,0,0,0,0,0,0,0,0,0,0,0,0,0,0,0,0,0,0,0,0,0,0,0,0,0,0,0,0,0,0,0,0,0,0,0,0,0,0,0,0,0,0,0,0,0,0,0,0,0,0,0,0,4680,5335,7184,7246,7927,8855,7637,9658,6549,5885,4650,2887,3277,4919,7229,7682,7359,8080,7177,7578,6720,5299,4652,3804,3916,5444,6977,6991,8042,8612,8916,7360,6819,6114,4357,3694,0,0,0,0,0,0,0,0,0,0,0]
[36,186357,57368,"Cogentrix of Alamosa","PV","CO",null,null,0,0,0,0,0,0,0,0,0,0,0,0,0,0,0,0,0,0,0,0,0,0,0,0,0,0,0,0,0,0,0,0,0,0,0,0,0,0,0,0,0,0,0,0,0,0,0,0,0,0,0,0,0,0,0,0,0,0,0,0,0,0,0,0,0,0,0,0,0,0,0,0,0,0,0,0,0,0,0,0,0,0,0,0,0,0,0,0,0,0,0,0,0,0,0,0,0,0,0,0,0,0,0,0,0,0,0,0,0,0,0,0,0,0,0,0,0,0,0,0,0,0,0,0,0,0,0,0,0,0,0,0,0,0,0,0,0,0,0,0,0,0,0,0,0,0,0,0,0,0,0,0,0,0,0,0,0,0,0,0,0,0,0,0,0,0,0,0,0,0,0,0,0,0,0,0,0,0,0,0,0,0,0,0,0,0,0,0,0,0,0,0,0,0,0,0,0,0,0,0,0,0,0,0,0,0,0,0,0,0,0,0,0,0,0,0,0,0,0,0,0,0,0,0,0,0,0,0,0,0,0,0,0,0,0,0,0,0,0,0,0,0,0,0,0,0,0,0,0,0,0,0,0,0,0,0,0,0,0,0,0,0,0,0,0,0,0,0,0,0,0,0,0,0,0,0,0,0,0,0,0,0,0,0,0,0,0,0,0,0,0,0,0,0,0,0,0,0,0,0,0,0,0,0,0,0,0,0,0,0,0,0,0,0,0,0,0,0,0,0,0,0,0,0,0,0,0,0,0,0,0,0,0,0,0,0,0,0,0,0,0,0,0,0,0,0,0,0,0,0,0,0,0,0,0,0,0,0,0,0,0,0,0,0,0,0,0,0,0,0,0,0,0,0,0,0,0,0,0,0,0,0,0,0,0,0,0,0,0,0,0,0,0,0,0,0,0,0,0,0,0,0,0,0,0,0,0,0,0,0,0,0,0,0,0,0,0,0,0,0,0,0,0,0,0,0,0,0,0,0,0,0,0,0,0,0,0,0,0,0,0,0,0,0,0,0,0,0,0,0,0,0,0,0,0,0,0,0,0,0,0,0,0,0,0,0,0,0,0,0,0,0,0,0,0,0,0,0,0,0,0,0,0,0,0,0,0,0,0,0,0,0,0,0,0,0,0,0,0,0,0,0,0,0,0,0,0,0,0,0,0,0,0,0,0,0,0,0,0,0,0,0,0,0,0,0,0,0,4584,5143,5937,4989,5690,6390,5133,5899,5766,5770,4851,3502,3358,4544,6159,5504,4858,6054,4187,5561,5488,4404,5019,3719,4229,5010,5309,4702,5964,6523,7128,4913,5543,5814,4924,3789,0,0,0,0,0,0,0,0,0,0,0]
[36,2052452,57439,"California Valley Solar Ranch","PV","CA",null,null,0,0,0,0,0,0,0,0,0,0,0,0,0,0,0,0,0,0,0,0,0,0,0,0,0,0,0,0,0,0,0,0,0,0,0,0,0,0,0,0,0,0,0,0,0,0,0,0,0,0,0,0,0,0,0,0,0,0,0,0,0,0,0,0,0,0,0,0,0,0,0,0,0,0,0,0,0,0,0,0,0,0,0,0,0,0,0,0,0,0,0,0,0,0,0,0,0,0,0,0,0,0,0,0,0,0,0,0,0,0,0,0,0,0,0,0,0,0,0,0,0,0,0,0,0,0,0,0,0,0,0,0,0,0,0,0,0,0,0,0,0,0,0,0,0,0,0,0,0,0,0,0,0,0,0,0,0,0,0,0,0,0,0,0,0,0,0,0,0,0,0,0,0,0,0,0,0,0,0,0,0,0,0,0,0,0,0,0,0,0,0,0,0,0,0,0,0,0,0,0,0,0,0,0,0,0,0,0,0,0,0,0,0,0,0,0,0,0,0,0,0,0,0,0,0,0,0,0,0,0,0,0,0,0,0,0,0,0,0,0,0,0,0,0,0,0,0,0,0,0,0,0,0,0,0,0,0,0,0,0,0,0,0,0,0,0,0,0,0,0,0,0,0,0,0,0,0,0,0,0,0,0,0,0,0,0,0,0,0,0,0,0,0,0,0,0,0,0,0,0,0,0,0,0,0,0,0,0,0,0,0,0,0,0,0,0,0,0,0,0,0,0,0,0,0,0,0,0,0,0,0,0,0,0,0,0,0,0,0,0,0,0,0,0,0,0,0,0,0,0,0,0,0,0,0,0,0,0,0,0,0,0,0,0,0,0,0,0,0,0,0,0,0,0,0,0,0,0,0,0,0,0,0,0,0,0,0,0,0,0,0,0,0,0,0,0,0,0,0,0,0,0,0,0,0,0,0,0,0,0,0,0,0,0,0,0,0,0,0,0,0,0,0,0,0,0,0,0,0,0,0,0,0,0,0,0,0,0,0,0,0,0,0,0,0,0,0,0,0,0,0,0,0,0,0,0,0,0,0,0,0,0,0,0,0,0,0,0,0,0,0,0,0,0,0,0,0,0,0,0,0,0,0,0,0,0,0,0,0,0,0,0,0,0,0,0,0,0,0,0,0,0,0,0,0,0,0,0,0,0,0,0,0,0,0,0,0,0,0,0,0,0,0,0,0,0,0,0,35851,36710,54654,66210,78967,84024,77526,74398,60789,50939,36701,27634,36087,43208,60175,67920,70492,77665,75705,75695,60536,48796,40421,31553,27064,48485,58571,63317,71275,80545,82609,74310,63259,44720,37633,28008,0,0,0,0,0,0,0,0,0,0,0]
[36,357164,57442,"Silver State Solar Power North","PV","NV",null,null,0,0,0,0,0,0,0,0,0,0,0,0,0,0,0,0,0,0,0,0,0,0,0,0,0,0,0,0,0,0,0,0,0,0,0,0,0,0,0,0,0,0,0,0,0,0,0,0,0,0,0,0,0,0,0,0,0,0,0,0,0,0,0,0,0,0,0,0,0,0,0,0,0,0,0,0,0,0,0,0,0,0,0,0,0,0,0,0,0,0,0,0,0,0,0,0,0,0,0,0,0,0,0,0,0,0,0,0,0,0,0,0,0,0,0,0,0,0,0,0,0,0,0,0,0,0,0,0,0,0,0,0,0,0,0,0,0,0,0,0,0,0,0,0,0,0,0,0,0,0,0,0,0,0,0,0,0,0,0,0,0,0,0,0,0,0,0,0,0,0,0,0,0,0,0,0,0,0,0,0,0,0,0,0,0,0,0,0,0,0,0,0,0,0,0,0,0,0,0,0,0,0,0,0,0,0,0,0,0,0,0,0,0,0,0,0,0,0,0,0,0,0,0,0,0,0,0,0,0,0,0,0,0,0,0,0,0,0,0,0,0,0,0,0,0,0,0,0,0,0,0,0,0,0,0,0,0,0,0,0,0,0,0,0,0,0,0,0,0,0,0,0,0,0,0,0,0,0,0,0,0,0,0,0,0,0,0,0,0,0,0,0,0,0,0,0,0,0,0,0,0,0,0,0,0,0,0,0,0,0,0,0,0,0,0,0,0,0,0,0,0,0,0,0,0,0,0,0,0,0,0,0,0,0,0,0,0,0,0,0,0,0,0,0,0,0,0,0,0,0,0,0,0,0,0,0,0,0,0,0,0,0,0,0,0,0,0,0,0,0,0,0,0,0,0,0,0,0,0,0,0,0,0,0,0,0,0,0,0,0,0,0,0,0,0,0,0,0,0,0,0,0,0,0,0,0,0,0,0,0,0,0,0,0,0,0,0,0,0,0,0,0,0,0,0,0,0,0,0,0,0,0,0,0,0,0,0,0,0,0,0,0,0,0,0,0,0,0,0,0,0,0,0,0,0,0,0,0,0,0,0,0,0,0,0,0,0,0,0,0,0,0,0,0,0,0,0,0,0,0,0,0,0,0,0,0,0,0,0,0,0,0,0,0,0,0,0,0,0,0,0,0,0,0,0,0,0,0,0,0,0,0,0,0,0,0,0,0,0,0,0,0,0,0,0,0,0,0,8318,8463,11022,11075,12119,11952,10525,10906,10874,10720,8893,4925,7504,9171,10788,11778,11041,11441,10804,11125,10543,9340,8966,7325,6454,9727,10252,10212,11825,11440,11766,11036,10636,9560,8253,6385,0,0,0,0,0,0,0,0,0,0,0]
[36,215664,57455,"NRG Solar Borrego I","PV","CA",null,null,0,0,0,0,0,0,0,0,0,0,0,0,0,0,0,0,0,0,0,0,0,0,0,0,0,0,0,0,0,0,0,0,0,0,0,0,0,0,0,0,0,0,0,0,0,0,0,0,0,0,0,0,0,0,0,0,0,0,0,0,0,0,0,0,0,0,0,0,0,0,0,0,0,0,0,0,0,0,0,0,0,0,0,0,0,0,0,0,0,0,0,0,0,0,0,0,0,0,0,0,0,0,0,0,0,0,0,0,0,0,0,0,0,0,0,0,0,0,0,0,0,0,0,0,0,0,0,0,0,0,0,0,0,0,0,0,0,0,0,0,0,0,0,0,0,0,0,0,0,0,0,0,0,0,0,0,0,0,0,0,0,0,0,0,0,0,0,0,0,0,0,0,0,0,0,0,0,0,0,0,0,0,0,0,0,0,0,0,0,0,0,0,0,0,0,0,0,0,0,0,0,0,0,0,0,0,0,0,0,0,0,0,0,0,0,0,0,0,0,0,0,0,0,0,0,0,0,0,0,0,0,0,0,0,0,0,0,0,0,0,0,0,0,0,0,0,0,0,0,0,0,0,0,0,0,0,0,0,0,0,0,0,0,0,0,0,0,0,0,0,0,0,0,0,0,0,0,0,0,0,0,0,0,0,0,0,0,0,0,0,0,0,0,0,0,0,0,0,0,0,0,0,0,0,0,0,0,0,0,0,0,0,0,0,0,0,0,0,0,0,0,0,0,0,0,0,0,0,0,0,0,0,0,0,0,0,0,0,0,0,0,0,0,0,0,0,0,0,0,0,0,0,0,0,0,0,0,0,0,0,0,0,0,0,0,0,0,0,0,0,0,0,0,0,0,0,0,0,0,0,0,0,0,0,0,0,0,0,0,0,0,0,0,0,0,0,0,0,0,0,0,0,0,0,0,0,0,0,0,0,0,0,0,0,0,0,0,0,0,0,0,0,0,0,0,0,0,0,0,0,0,0,0,0,0,0,0,0,0,0,0,0,0,0,0,0,0,0,0,0,0,0,0,0,0,0,0,0,0,0,0,0,0,0,0,0,0,0,0,0,0,0,0,0,0,0,0,0,0,0,0,0,0,0,0,0,0,0,0,0,0,0,0,0,0,0,0,0,0,0,0,0,0,0,0,0,0,0,0,0,0,0,0,0,0,0,0,0,0,0,0,0,0,0,0,0,0,0,3965,4463,6571,7271,8205,8245,7782,6734,6652,5613,4418,3219,3692,4369,6473,7578,7619,7201,7724,7573,5814,5130,4528,3743,3722,4865,6329,6773,8201,8117,8318,7436,6019,5396,4330,1576,0,0,0,0,0,0,0,0,0,0,0]
[36,937385,57490,"Imperial Solar Energy Center South","PV","CA",null,null,0,0,0,0,0,0,0,0,0,0,0,0,0,0,0,0,0,0,0,0,0,0,0,0,0,0,0,0,0,0,0,0,0,0,0,0,0,0,0,0,0,0,0,0,0,0,0,0,0,0,0,0,0,0,0,0,0,0,0,0,0,0,0,0,0,0,0,0,0,0,0,0,0,0,0,0,0,0,0,0,0,0,0,0,0,0,0,0,0,0,0,0,0,0,0,0,0,0,0,0,0,0,0,0,0,0,0,0,0,0,0,0,0,0,0,0,0,0,0,0,0,0,0,0,0,0,0,0,0,0,0,0,0,0,0,0,0,0,0,0,0,0,0,0,0,0,0,0,0,0,0,0,0,0,0,0,0,0,0,0,0,0,0,0,0,0,0,0,0,0,0,0,0,0,0,0,0,0,0,0,0,0,0,0,0,0,0,0,0,0,0,0,0,0,0,0,0,0,0,0,0,0,0,0,0,0,0,0,0,0,0,0,0,0,0,0,0,0,0,0,0,0,0,0,0,0,0,0,0,0,0,0,0,0,0,0,0,0,0,0,0,0,0,0,0,0,0,0,0,0,0,0,0,0,0,0,0,0,0,0,0,0,0,0,0,0,0,0,0,0,0,0,0,0,0,0,0,0,0,0,0,0,0,0,0,0,0,0,0,0,0,0,0,0,0,0,0,0,0,0,0,0,0,0,0,0,0,0,0,0,0,0,0,0,0,0,0,0,0,0,0,0,0,0,0,0,0,0,0,0,0,0,0,0,0,0,0,0,0,0,0,0,0,0,0,0,0,0,0,0,0,0,0,0,0,0,0,0,0,0,0,0,0,0,0,0,0,0,0,0,0,0,0,0,0,0,0,0,0,0,0,0,0,0,0,0,0,0,0,0,0,0,0,0,0,0,0,0,0,0,0,0,0,0,0,0,0,0,0,0,0,0,0,0,0,0,0,0,0,0,0,0,0,0,0,0,0,0,0,0,0,0,0,0,0,0,0,0,0,0,0,0,0,0,0,0,0,0,0,0,0,0,0,0,0,0,0,0,0,0,0,0,0,0,0,0,0,0,0,0,0,0,0,0,0,0,0,0,0,0,0,0,0,0,0,0,0,0,0,0,0,0,0,0,0,0,0,0,0,0,0,0,0,0,0,0,0,0,0,0,0,0,0,0,0,0,0,0,0,0,0,0,0,0,0,0,0,0,22912,20866,29855,30342,31882,30832,29193,29335,28673,26971,24893,18034,20833,24470,29355,30363,31038,27761,29194,29685,25274,26044,24561,21163,20671,24014,25343,27175,30357,27626,28812,28913,26483,21722,18008,14732,0,0,0,0,0,0,0,0,0,0,0]
[36,1086483,57680,"Arlington Valley Solar Energy II","PV","AZ",null,null,0,0,0,0,0,0,0,0,0,0,0,0,0,0,0,0,0,0,0,0,0,0,0,0,0,0,0,0,0,0,0,0,0,0,0,0,0,0,0,0,0,0,0,0,0,0,0,0,0,0,0,0,0,0,0,0,0,0,0,0,0,0,0,0,0,0,0,0,0,0,0,0,0,0,0,0,0,0,0,0,0,0,0,0,0,0,0,0,0,0,0,0,0,0,0,0,0,0,0,0,0,0,0,0,0,0,0,0,0,0,0,0,0,0,0,0,0,0,0,0,0,0,0,0,0,0,0,0,0,0,0,0,0,0,0,0,0,0,0,0,0,0,0,0,0,0,0,0,0,0,0,0,0,0,0,0,0,0,0,0,0,0,0,0,0,0,0,0,0,0,0,0,0,0,0,0,0,0,0,0,0,0,0,0,0,0,0,0,0,0,0,0,0,0,0,0,0,0,0,0,0,0,0,0,0,0,0,0,0,0,0,0,0,0,0,0,0,0,0,0,0,0,0,0,0,0,0,0,0,0,0,0,0,0,0,0,0,0,0,0,0,0,0,0,0,0,0,0,0,0,0,0,0,0,0,0,0,0,0,0,0,0,0,0,0,0,0,0,0,0,0,0,0,0,0,0,0,0,0,0,0,0,0,0,0,0,0,0,0,0,0,0,0,0,0,0,0,0,0,0,0,0,0,0,0,0,0,0,0,0,0,0,0,0,0,0,0,0,0,0,0,0,0,0,0,0,0,0,0,0,0,0,0,0,0,0,0,0,0,0,0,0,0,0,0,0,0,0,0,0,0,0,0,0,0,0,0,0,0,0,0,0,0,0,0,0,0,0,0,0,0,0,0,0,0,0,0,0,0,0,0,0,0,0,0,0,0,0,0,0,0,0,0,0,0,0,0,0,0,0,0,0,0,0,0,0,0,0,0,0,0,0,0,0,0,0,0,0,0,0,0,0,0,0,0,0,0,0,0,0,0,0,0,0,0,0,0,0,0,0,0,0,0,0,0,0,0,0,0,0,0,0,0,0,0,0,0,0,0,0,0,0,0,0,0,0,0,0,0,0,0,0,0,0,0,0,0,0,0,0,0,0,0,0,0,0,0,0,0,0,0,0,0,0,0,0,0,0,0,0,0,0,0,0,0,0,0,0,0,0,0,0,0,0,0,0,0,0,0,0,0,0,0,0,0,0,0,0,22892,22635,33741,36917,43128,42185,37246,34773,32107,19305,23239,16956,19327,24864,31516,36013,36961,38345,37027,35307,29490,26558,22223,19332,20540,26787,31492,33963,40672,39339,39588,35285,30150,27751,21309,17520,0,0,0,0,0,0,0,0,0,0,0]
[36,155780,57699,"Webberville Solar Project","PV","TX",null,null,0,0,0,0,0,0,0,0,0,0,0,0,0,0,0,0,0,0,0,0,0,0,0,0,0,0,0,0,0,0,0,0,0,0,0,0,0,0,0,0,0,0,0,0,0,0,0,0,0,0,0,0,0,0,0,0,0,0,0,0,0,0,0,0,0,0,0,0,0,0,0,0,0,0,0,0,0,0,0,0,0,0,0,0,0,0,0,0,0,0,0,0,0,0,0,0,0,0,0,0,0,0,0,0,0,0,0,0,0,0,0,0,0,0,0,0,0,0,0,0,0,0,0,0,0,0,0,0,0,0,0,0,0,0,0,0,0,0,0,0,0,0,0,0,0,0,0,0,0,0,0,0,0,0,0,0,0,0,0,0,0,0,0,0,0,0,0,0,0,0,0,0,0,0,0,0,0,0,0,0,0,0,0,0,0,0,0,0,0,0,0,0,0,0,0,0,0,0,0,0,0,0,0,0,0,0,0,0,0,0,0,0,0,0,0,0,0,0,0,0,0,0,0,0,0,0,0,0,0,0,0,0,0,0,0,0,0,0,0,0,0,0,0,0,0,0,0,0,0,0,0,0,0,0,0,0,0,0,0,0,0,0,0,0,0,0,0,0,0,0,0,0,0,0,0,0,0,0,0,0,0,0,0,0,0,0,0,0,0,0,0,0,0,0,0,0,0,0,0,0,0,0,0,0,0,0,0,0,0,0,0,0,0,0,0,0,0,0,0,0,0,0,0,0,0,0,0,0,0,0,0,0,0,0,0,0,0,0,0,0,0,0,0,0,0,0,0,0,0,0,0,0,0,0,0,0,0,0,0,0,0,0,0,0,0,0,0,0,0,0,0,0,0,0,0,0,0,0,0,0,0,0,0,0,0,0,0,0,0,0,0,0,0,0,0,0,0,0,0,0,0,0,0,0,0,0,0,0,0,0,0,0,0,0,0,0,0,0,0,0,0,0,0,0,0,0,0,0,0,0,0,0,0,0,0,0,0,0,0,0,0,0,0,0,0,0,0,0,0,0,0,0,0,0,0,0,0,0,0,0,0,0,0,0,0,0,0,0,0,0,0,0,0,0,0,0,0,0,0,0,0,0,0,0,0,0,0,0,0,0,0,0,0,0,0,0,0,0,0,0,0,0,0,0,0,0,0,0,0,0,0,0,0,0,0,0,0,0,0,0,0,0,0,0,0,0,0,0,3713,1799,4841,5473,6113,5835,6738,6857,5186,5573,3698,2134,3060,3244,4183,4535,4400,5943,6916,6296,5482,4721,2129,2820,2973,3533,3635,3492,2931,4273,5106,4377,4289,4454,2843,2185,0,0,0,0,0,0,0,0,0,0,0]
[36,1212655,57707,"Mesquite Solar 1","PV","AZ",null,null,0,0,0,0,0,0,0,0,0,0,0,0,0,0,0,0,0,0,0,0,0,0,0,0,0,0,0,0,0,0,0,0,0,0,0,0,0,0,0,0,0,0,0,0,0,0,0,0,0,0,0,0,0,0,0,0,0,0,0,0,0,0,0,0,0,0,0,0,0,0,0,0,0,0,0,0,0,0,0,0,0,0,0,0,0,0,0,0,0,0,0,0,0,0,0,0,0,0,0,0,0,0,0,0,0,0,0,0,0,0,0,0,0,0,0,0,0,0,0,0,0,0,0,0,0,0,0,0,0,0,0,0,0,0,0,0,0,0,0,0,0,0,0,0,0,0,0,0,0,0,0,0,0,0,0,0,0,0,0,0,0,0,0,0,0,0,0,0,0,0,0,0,0,0,0,0,0,0,0,0,0,0,0,0,0,0,0,0,0,0,0,0,0,0,0,0,0,0,0,0,0,0,0,0,0,0,0,0,0,0,0,0,0,0,0,0,0,0,0,0,0,0,0,0,0,0,0,0,0,0,0,0,0,0,0,0,0,0,0,0,0,0,0,0,0,0,0,0,0,0,0,0,0,0,0,0,0,0,0,0,0,0,0,0,0,0,0,0,0,0,0,0,0,0,0,0,0,0,0,0,0,0,0,0,0,0,0,0,0,0,0,0,0,0,0,0,0,0,0,0,0,0,0,0,0,0,0,0,0,0,0,0,0,0,0,0,0,0,0,0,0,0,0,0,0,0,0,0,0,0,0,0,0,0,0,0,0,0,0,0,0,0,0,0,0,0,0,0,0,0,0,0,0,0,0,0,0,0,0,0,0,0,0,0,0,0,0,0,0,0,0,0,0,0,0,0,0,0,0,0,0,0,0,0,0,0,0,0,0,0,0,0,0,0,0,0,0,0,0,0,0,0,0,0,0,0,0,0,0,0,0,0,0,0,0,0,0,0,0,0,0,0,0,0,0,0,0,0,0,0,0,0,0,0,0,0,0,0,0,0,0,0,0,0,0,0,0,0,0,0,0,0,0,0,0,0,0,0,0,0,0,0,0,0,0,0,0,0,0,0,0,0,0,0,0,0,0,0,0,0,0,0,0,0,0,0,0,0,0,0,0,0,0,0,0,0,0,0,0,0,0,0,0,0,0,0,0,0,0,0,0,0,0,0,0,0,0,0,0,0,0,0,0,0,0,0,0,0,29466,28570,37745,40084,42765,40304,37138,35717,34451,32627,27236,20703,20029,30905,37089,40474,40419,37689,35962,36967,33285,31139,29199,24442,23919,32350,36412,37321,42442,39309,38869,38069,33660,34753,28321,22825,0,0,0,0,0,0,0,0,0,0,0]
[36,837244,57708,"Catalina Solar LLC","PV","CA",null,null,0,0,0,0,0,0,0,0,0,0,0,0,0,0,0,0,0,0,0,0,0,0,0,0,0,0,0,0,0,0,0,0,0,0,0,0,0,0,0,0,0,0,0,0,0,0,0,0,0,0,0,0,0,0,0,0,0,0,0,0,0,0,0,0,0,0,0,0,0,0,0,0,0,0,0,0,0,0,0,0,0,0,0,0,0,0,0,0,0,0,0,0,0,0,0,0,0,0,0,0,0,0,0,0,0,0,0,0,0,0,0,0,0,0,0,0,0,0,0,0,0,0,0,0,0,0,0,0,0,0,0,0,0,0,0,0,0,0,0,0,0,0,0,0,0,0,0,0,0,0,0,0,0,0,0,0,0,0,0,0,0,0,0,0,0,0,0,0,0,0,0,0,0,0,0,0,0,0,0,0,0,0,0,0,0,0,0,0,0,0,0,0,0,0,0,0,0,0,0,0,0,0,0,0,0,0,0,0,0,0,0,0,0,0,0,0,0,0,0,0,0,0,0,0,0,0,0,0,0,0,0,0,0,0,0,0,0,0,0,0,0,0,0,0,0,0,0,0,0,0,0,0,0,0,0,0,0,0,0,0,0,0,0,0,0,0,0,0,0,0,0,0,0,0,0,0,0,0,0,0,0,0,0,0,0,0,0,0,0,0,0,0,0,0,0,0,0,0,0,0,0,0,0,0,0,0,0,0,0,0,0,0,0,0,0,0,0,0,0,0,0,0,0,0,0,0,0,0,0,0,0,0,0,0,0,0,0,0,0,0,0,0,0,0,0,0,0,0,0,0,0,0,0,0,0,0,0,0,0,0,0,0,0,0,0,0,0,0,0,0,0,0,0,0,0,0,0,0,0,0,0,0,0,0,0,0,0,0,0,0,0,0,0,0,0,0,0,0,0,0,0,0,0,0,0,0,0,0,0,0,0,0,0,0,0,0,0,0,0,0,0,0,0,0,0,0,0,0,0,0,0,0,0,0,0,0,0,0,0,0,0,0,0,0,0,0,0,0,0,0,0,0,0,0,0,0,0,0,0,0,0,0,0,0,0,0,0,0,0,0,0,0,0,0,0,0,0,0,0,0,0,0,0,0,0,0,0,0,0,0,0,0,0,0,0,0,0,0,0,0,0,0,0,0,0,0,0,0,0,0,0,0,0,0,0,0,0,0,0,0,0,0,0,0,0,0,0,0,18991,19563,24927,27237,28264,28924,27446,27679,25766,24371,20038,14777,17866,20056,23790,26494,27691,25859,26974,27257,25021,21394,19686,17805,14873,21747,23337,20187,26765,27173,28073,26978,24757,21016,18962,15500,0,0,0,0,0,0,0,0,0,0,0]
[36,41625535.999999978,57745,"The City of Vineland at West Vineland","PV","NJ",null,null,0,0,0,0,0,0,0,0,0,0,0,0,0,0,0,0,0,0,0,0,0,0,0,0,0,0,0,0,0,0,0,0,0,0,0,0,0,0,0,0,0,0,0,0,0,0,0,0,0,0,0,0,0,0,0,0,0,0,0,0,0,0,0,0,0,0,0,0,0,0,0,0,0,0,0,0,0,0,0,0,0,0,0,0,0,0,0,0,0,0,0,0,0,0,0,0,0,0,0,0,0,0,0,0,0,0,0,0,0,0,0,0,0,0,0,0,0,0,0,0,0,0,0,0,0,0,0,0,0,0,0,0,0,0,0,0,0,0,0,0,0,0,0,0,0,0,0,0,0,0,0,0,0,0,0,0,0,0,0,0,0,0,0,0,0,0,0,0,0,0,0,0,0,0,0,0,0,0,0,0,0,0,0,0,0,0,0,0,0,0,0,0,0,0,0,0,0,0,0,0,0,0,0,0,0,0,0,0,0,0,0,0,0,0,0,0,0,0,0,0,0,0,0,0,0,0,0,0,0,0,0,0,0,0,0,0,0,0,0,0,0,0,0,0,0,0,0,0,0,0,0,0,2660563,2997214,3045015,1932219,2782508,3352734,3235201,2881705,3171889,3309212,3072469,3469644,514231,309254,429656,375863,320291,473980,484249,367345,408781,470645,411070,1143211,0,0,0,0,0,0,0,0,0,0,0,0,0,0,0,0,0,0,0,0,0,0,0,0,0,0,0,0,0,0,0,0,0,0,0,0,0,0,0,0,0,0,0,0,0,0,0,0,0,0,0,0,0,0,0,0,0,0,0,0,0,0,0,0,0,0,0,0,0,0,0,0,0,0,0,0,0,0,0,0,0,0,0,0,0,0,0,0,0,0,0,0,0,0,0,0,0,0,0,0,0,0,0,0,0,0,0,0,0,0,0,0,0,0,0,0,0,0,0,0,0,0,0,0,0,0,0,0,0,0,0,0,0,0,0,0,0,0,0,0,0,0,0,0,0,0,0,0,0,0,0,0,0,0,0,0,0,0,0,0,0,0,0,0,0,0,0,0,0,0,0,0,0,0,0,0,0,0,0,0,0,0,0,0,0,0,0,0,0,0,0,0,0,0,0,0,0,0,0,0,0,0,0,0,0,0,0,0,0,0,0,0,0,0,0,0,0,0,0,0,0,0,0,0,0,0,0,0,0,0,0,0,0,0,0,0,0,0,0,0,0,0,0,0,0,0,0,0,0,0,0,0,0,0,0,0,0,0,0,0,0,0,0,0,360.60899999999998,400.26400000000001,512.66,659.87699999999995,756.53499999999997,625.67499999999995,699.40800000000002,760.37699999999995,635.34100000000001,555.04,398.9,222.31399999999999,0,0,0,0,0,0,0,0,0,0,0,0,0,0,0,0,0,0,0,0,0,0,0]
[36,1942777,57993,"Desert Sunlight 300, LLC","PV","CA",null,null,0,0,0,0,0,0,0,0,0,0,0,0,0,0,0,0,0,0,0,0,0,0,0,0,0,0,0,0,0,0,0,0,0,0,0,0,0,0,0,0,0,0,0,0,0,0,0,0,0,0,0,0,0,0,0,0,0,0,0,0,0,0,0,0,0,0,0,0,0,0,0,0,0,0,0,0,0,0,0,0,0,0,0,0,0,0,0,0,0,0,0,0,0,0,0,0,0,0,0,0,0,0,0,0,0,0,0,0,0,0,0,0,0,0,0,0,0,0,0,0,0,0,0,0,0,0,0,0,0,0,0,0,0,0,0,0,0,0,0,0,0,0,0,0,0,0,0,0,0,0,0,0,0,0,0,0,0,0,0,0,0,0,0,0,0,0,0,0,0,0,0,0,0,0,0,0,0,0,0,0,0,0,0,0,0,0,0,0,0,0,0,0,0,0,0,0,0,0,0,0,0,0,0,0,0,0,0,0,0,0,0,0,0,0,0,0,0,0,0,0,0,0,0,0,0,0,0,0,0,0,0,0,0,0,0,0,0,0,0,0,0,0,0,0,0,0,0,0,0,0,0,0,0,0,0,0,0,0,0,0,0,0,0,0,0,0,0,0,0,0,0,0,0,0,0,0,0,0,0,0,0,0,0,0,0,0,0,0,0,0,0,0,0,0,0,0,0,0,0,0,0,0,0,0,0,0,0,0,0,0,0,0,0,0,0,0,0,0,0,0,0,0,0,0,0,0,0,0,0,0,0,0,0,0,0,0,0,0,0,0,0,0,0,0,0,0,0,0,0,0,0,0,0,0,0,0,0,0,0,0,0,0,0,0,0,0,0,0,0,0,0,0,0,0,0,0,0,0,0,0,0,0,0,0,0,0,0,0,0,0,0,0,0,0,0,0,0,0,0,0,0,0,0,0,0,0,0,0,0,0,0,0,0,0,0,0,0,0,0,0,0,0,0,0,0,0,0,0,0,0,0,0,0,0,0,0,0,0,0,0,0,0,0,0,0,0,0,0,0,0,0,0,0,0,0,0,0,0,0,0,0,0,0,0,0,0,0,0,0,0,0,0,0,0,0,0,0,0,0,0,0,0,0,0,0,0,0,0,0,0,0,0,0,0,0,0,0,0,0,0,0,0,0,0,0,0,0,0,0,0,0,0,0,0,0,0,0,0,0,0,0,0,0,0,0,0,0,0,32312,34615,44998,45876,43733,47205,45698,44642,66531,51571,52960,37274,45802,52966,60742,64541,61367,63147,63620,63517,44398,53467,51543,47712,44903,58492,61875,60223,74220,70241,72661,67907,61623,58041,50542,41812,0,0,0,0,0,0,0,0,0,0,0]
[36,392451.19,58003,"Alpaugh 50","PV","CA",null,null,0,0,0,0,0,0,0,0,0,0,0,0,0,0,0,0,0,0,0,0,0,0,0,0,0,0,0,0,0,0,0,0,0,0,0,0,0,0,0,0,0,0,0,0,0,0,0,0,0,0,0,0,0,0,0,0,0,0,0,0,0,0,0,0,0,0,0,0,0,0,0,0,0,0,0,0,0,0,0,0,0,0,0,0,0,0,0,0,0,0,0,0,0,0,0,0,0,0,0,0,0,0,0,0,0,0,0,0,0,0,0,0,0,0,0,0,0,0,0,0,0,0,0,0,0,0,0,0,0,0,0,0,0,0,0,0,0,0,0,0,0,0,0,0,0,0,0,0,0,0,0,0,0,0,0,0,0,0,0,0,0,0,0,0,0,0,0,0,0,0,0,0,0,0,0,0,0,0,0,0,0,0,0,0,0,0,0,0,0,0,0,0,0,0,0,0,0,0,0,0,0,0,0,0,0,0,0,0,0,0,0,0,0,0,0,0,0,0,0,0,0,0,0,0,0,0,0,0,0,0,0,0,0,0,0,0,0,0,0,0,0,0,0,0,0,0,0,0,0,0,0,0,0,0,0,0,0,0,0,0,0,0,0,0,0,0,0,0,0,0,0,0,0,0,0,0,0,0,0,0,0,0,0,0,0,0,0,0,0,0,0,0,0,0,0,0,0,0,0,0,0,0,0,0,0,0,0,0,0,0,0,0,0,0,0,0,0,0,0,0,0,0,0,0,0,0,0,0,0,0,0,0,0,0,0,0,0,0,0,0,0,0,0,0,0,0,0,0,0,0,0,0,0,0,0,0,0,0,0,0,0,0,0,0,0,0,0,0,0,0,0,0,0,0,0,0,0,0,0,0,0,0,0,0,0,0,0,0,0,0,0,0,0,0,0,0,0,0,0,0,0,0,0,0,0,0,0,0,0,0,0,0,0,0,0,0,0,0,0,0,0,0,0,0,0,0,0,0,0,0,0,0,0,0,0,0,0,0,0,0,0,0,0,0,0,0,0,0,0,0,0,0,0,0,0,0,0,0,0,0,0,0,0,0,0,0,0,0,0,0,0,0,0,0,0,0,0,0,0,0,0,0,0,0,0,0,0,0,0,0,0,0,0,0,0,0,0,0,0,0,0,0,0,0,0,0,0,0,0,0,0,0,0,0,0,0,0,0,0,0,0,0,0,0,0,0,0,0,6217.2,6954.75,11397.87,13643.19,15985.53,16835.939999999999,15459.84,13915.44,12094.83,9850.5,2624.49,1604.79,4181.76,7191.36,11810.7,13363,14344,15788,15794,14819,11948,9802,7806,5723,4535,8781,11480,12387,14956,16093,16352,14555,12621,9049,7174,5313,0,0,0,0,0,0,0,0,0,0,0]
[36,944578,58017,"Copper Mountain Solar 2","PV","NV",null,null,0,0,0,0,0,0,0,0,0,0,0,0,0,0,0,0,0,0,0,0,0,0,0,0,0,0,0,0,0,0,0,0,0,0,0,0,0,0,0,0,0,0,0,0,0,0,0,0,0,0,0,0,0,0,0,0,0,0,0,0,0,0,0,0,0,0,0,0,0,0,0,0,0,0,0,0,0,0,0,0,0,0,0,0,0,0,0,0,0,0,0,0,0,0,0,0,0,0,0,0,0,0,0,0,0,0,0,0,0,0,0,0,0,0,0,0,0,0,0,0,0,0,0,0,0,0,0,0,0,0,0,0,0,0,0,0,0,0,0,0,0,0,0,0,0,0,0,0,0,0,0,0,0,0,0,0,0,0,0,0,0,0,0,0,0,0,0,0,0,0,0,0,0,0,0,0,0,0,0,0,0,0,0,0,0,0,0,0,0,0,0,0,0,0,0,0,0,0,0,0,0,0,0,0,0,0,0,0,0,0,0,0,0,0,0,0,0,0,0,0,0,0,0,0,0,0,0,0,0,0,0,0,0,0,0,0,0,0,0,0,0,0,0,0,0,0,0,0,0,0,0,0,0,0,0,0,0,0,0,0,0,0,0,0,0,0,0,0,0,0,0,0,0,0,0,0,0,0,0,0,0,0,0,0,0,0,0,0,0,0,0,0,0,0,0,0,0,0,0,0,0,0,0,0,0,0,0,0,0,0,0,0,0,0,0,0,0,0,0,0,0,0,0,0,0,0,0,0,0,0,0,0,0,0,0,0,0,0,0,0,0,0,0,0,0,0,0,0,0,0,0,0,0,0,0,0,0,0,0,0,0,0,0,0,0,0,0,0,0,0,0,0,0,0,0,0,0,0,0,0,0,0,0,0,0,0,0,0,0,0,0,0,0,0,0,0,0,0,0,0,0,0,0,0,0,0,0,0,0,0,0,0,0,0,0,0,0,0,0,0,0,0,0,0,0,0,0,0,0,0,0,0,0,0,0,0,0,0,0,0,0,0,0,0,0,0,0,0,0,0,0,0,0,0,0,0,0,0,0,0,0,0,0,0,0,0,0,0,0,0,0,0,0,0,0,0,0,0,0,0,0,0,0,0,0,0,0,0,0,0,0,0,0,0,0,0,0,0,0,0,0,0,0,0,0,0,0,0,0,0,0,0,0,0,0,0,0,0,0,0,0,0,0,0,0,0,0,0,15742,15521,20509,20723,22239,22234,19590,20143,20614,20043,16628,11000,15813,22847,32606,35639,33533,35903,34065,34143,32696,29524,28180,19300,21561,30430,32347,30885,35500,35865,36913,32992,33124,29486,25883,20357,0,0,0,0,0,0,0,0,0,0,0]
[36,193597,58039,"RET  Modesto Solar","PV","CA",null,null,0,0,0,0,0,0,0,0,0,0,0,0,0,0,0,0,0,0,0,0,0,0,0,0,0,0,0,0,0,0,0,0,0,0,0,0,0,0,0,0,0,0,0,0,0,0,0,0,0,0,0,0,0,0,0,0,0,0,0,0,0,0,0,0,0,0,0,0,0,0,0,0,0,0,0,0,0,0,0,0,0,0,0,0,0,0,0,0,0,0,0,0,0,0,0,0,0,0,0,0,0,0,0,0,0,0,0,0,0,0,0,0,0,0,0,0,0,0,0,0,0,0,0,0,0,0,0,0,0,0,0,0,0,0,0,0,0,0,0,0,0,0,0,0,0,0,0,0,0,0,0,0,0,0,0,0,0,0,0,0,0,0,0,0,0,0,0,0,0,0,0,0,0,0,0,0,0,0,0,0,0,0,0,0,0,0,0,0,0,0,0,0,0,0,0,0,0,0,0,0,0,0,0,0,0,0,0,0,0,0,0,0,0,0,0,0,0,0,0,0,0,0,0,0,0,0,0,0,0,0,0,0,0,0,0,0,0,0,0,0,0,0,0,0,0,0,0,0,0,0,0,0,0,0,0,0,0,0,0,0,0,0,0,0,0,0,0,0,0,0,0,0,0,0,0,0,0,0,0,0,0,0,0,0,0,0,0,0,0,0,0,0,0,0,0,0,0,0,0,0,0,0,0,0,0,0,0,0,0,0,0,0,0,0,0,0,0,0,0,0,0,0,0,0,0,0,0,0,0,0,0,0,0,0,0,0,0,0,0,0,0,0,0,0,0,0,0,0,0,0,0,0,0,0,0,0,0,0,0,0,0,0,0,0,0,0,0,0,0,0,0,0,0,0,0,0,0,0,0,0,0,0,0,0,0,0,0,0,0,0,0,0,0,0,0,0,0,0,0,0,0,0,0,0,0,0,0,0,0,0,0,0,0,0,0,0,0,0,0,0,0,0,0,0,0,0,0,0,0,0,0,0,0,0,0,0,0,0,0,0,0,0,0,0,0,0,0,0,0,0,0,0,0,0,0,0,0,0,0,0,0,0,0,0,0,0,0,0,0,0,0,0,0,0,0,0,0,0,0,0,0,0,0,0,0,0,0,0,0,0,0,0,0,0,0,0,0,0,0,0,0,0,0,0,0,0,0,0,0,0,0,0,0,0,0,0,0,0,0,0,0,0,0,0,0,0,0,0,3171,3049,5250,6714,8017,8313,7788,7185,5886,4862,2920,1861,2279,3151,5804,6927,7578,7854,7794,7279,5363,4552,3402,2325,1942,4042,4943,6231,7302,8194,8435,7423,6158,4071,3062,2470,0,0,0,0,0,0,0,0,0,0,0]
[36,100321,58234,"SEPV 8","PV","CA",null,null,0,0,0,0,0,0,0,0,0,0,0,0,0,0,0,0,0,0,0,0,0,0,0,0,0,0,0,0,0,0,0,0,0,0,0,0,0,0,0,0,0,0,0,0,0,0,0,0,0,0,0,0,0,0,0,0,0,0,0,0,0,0,0,0,0,0,0,0,0,0,0,0,0,0,0,0,0,0,0,0,0,0,0,0,0,0,0,0,0,0,0,0,0,0,0,0,0,0,0,0,0,0,0,0,0,0,0,0,0,0,0,0,0,0,0,0,0,0,0,0,0,0,0,0,0,0,0,0,0,0,0,0,0,0,0,0,0,0,0,0,0,0,0,0,0,0,0,0,0,0,0,0,0,0,0,0,0,0,0,0,0,0,0,0,0,0,0,0,0,0,0,0,0,0,0,0,0,0,0,0,0,0,0,0,0,0,0,0,0,0,0,0,0,0,0,0,0,0,0,0,0,0,0,0,0,0,0,0,0,0,0,0,0,0,0,0,0,0,0,0,0,0,0,0,0,0,0,0,0,0,0,0,0,0,0,0,0,0,0,0,0,0,0,0,0,0,0,0,0,0,0,0,0,0,0,0,0,0,0,0,0,0,0,0,0,0,0,0,0,0,0,0,0,0,0,0,0,0,0,0,0,0,0,0,0,0,0,0,0,0,0,0,0,0,0,0,0,0,0,0,0,0,0,0,0,0,0,0,0,0,0,0,0,0,0,0,0,0,0,0,0,0,0,0,0,0,0,0,0,0,0,0,0,0,0,0,0,0,0,0,0,0,0,0,0,0,0,0,0,0,0,0,0,0,0,0,0,0,0,0,0,0,0,0,0,0,0,0,0,0,0,0,0,0,0,0,0,0,0,0,0,0,0,0,0,0,0,0,0,0,0,0,0,0,0,0,0,0,0,0,0,0,0,0,0,0,0,0,0,0,0,0,0,0,0,0,0,0,0,0,0,0,0,0,0,0,0,0,0,0,0,0,0,0,0,0,0,0,0,0,0,0,0,0,0,0,0,0,0,0,0,0,0,0,0,0,0,0,0,0,0,0,0,0,0,0,0,0,0,0,0,0,0,0,0,0,0,0,0,0,0,0,0,0,0,0,0,0,0,0,0,0,0,0,0,0,0,0,0,0,0,0,0,0,0,0,0,0,0,0,0,0,0,0,0,0,0,0,0,0,0,0,0,0,0,0,0,0,1822,2171,3125,3157,3791,2941,3373,3307,3116,2692,2168,1402,1723,2359,3102,3597,3635,3487,3303,3441,2935,2489,2211,1859,1733,2554,2961,3009,3754,3731,3238,3411,2780,2449,1984,1511,0,0,0,0,0,0,0,0,0,0,0]
[36,1782480,58388,"Solar Star 1","PV","CA",null,null,0,0,0,0,0,0,0,0,0,0,0,0,0,0,0,0,0,0,0,0,0,0,0,0,0,0,0,0,0,0,0,0,0,0,0,0,0,0,0,0,0,0,0,0,0,0,0,0,0,0,0,0,0,0,0,0,0,0,0,0,0,0,0,0,0,0,0,0,0,0,0,0,0,0,0,0,0,0,0,0,0,0,0,0,0,0,0,0,0,0,0,0,0,0,0,0,0,0,0,0,0,0,0,0,0,0,0,0,0,0,0,0,0,0,0,0,0,0,0,0,0,0,0,0,0,0,0,0,0,0,0,0,0,0,0,0,0,0,0,0,0,0,0,0,0,0,0,0,0,0,0,0,0,0,0,0,0,0,0,0,0,0,0,0,0,0,0,0,0,0,0,0,0,0,0,0,0,0,0,0,0,0,0,0,0,0,0,0,0,0,0,0,0,0,0,0,0,0,0,0,0,0,0,0,0,0,0,0,0,0,0,0,0,0,0,0,0,0,0,0,0,0,0,0,0,0,0,0,0,0,0,0,0,0,0,0,0,0,0,0,0,0,0,0,0,0,0,0,0,0,0,0,0,0,0,0,0,0,0,0,0,0,0,0,0,0,0,0,0,0,0,0,0,0,0,0,0,0,0,0,0,0,0,0,0,0,0,0,0,0,0,0,0,0,0,0,0,0,0,0,0,0,0,0,0,0,0,0,0,0,0,0,0,0,0,0,0,0,0,0,0,0,0,0,0,0,0,0,0,0,0,0,0,0,0,0,0,0,0,0,0,0,0,0,0,0,0,0,0,0,0,0,0,0,0,0,0,0,0,0,0,0,0,0,0,0,0,0,0,0,0,0,0,0,0,0,0,0,0,0,0,0,0,0,0,0,0,0,0,0,0,0,0,0,0,0,0,0,0,0,0,0,0,0,0,0,0,0,0,0,0,0,0,0,0,0,0,0,0,0,0,0,0,0,0,0,0,0,0,0,0,0,0,0,0,0,0,0,0,0,0,0,0,0,0,0,0,0,0,0,0,0,0,0,0,0,0,0,0,0,0,0,0,0,0,0,0,0,0,0,0,0,0,0,0,0,0,0,0,0,0,0,0,0,0,0,0,0,0,0,0,0,0,0,0,0,0,0,0,0,0,0,0,0,0,0,0,0,0,0,0,0,0,0,0,0,0,0,0,0,0,0,0,0,0,0,0,0,0,0,9533,28789,34046,35540,33115,34399,27971,27036,29873,21131,34125,0,69839,84200,97302,93801,99408,97315,81857,63305,55844,44893,39867,39296,32636,84802,91786,523,52262,99009,85110,67456,50141,36270,41431,48667,79574,0,0,0,0,0,0,0,0]
[36,1443851,58430,"Centinela Solar Energy","PV","CA",null,null,0,0,0,0,0,0,0,0,0,0,0,0,0,0,0,0,0,0,0,0,0,0,0,0,0,0,0,0,0,0,0,0,0,0,0,0,0,0,0,0,0,0,0,0,0,0,0,0,0,0,0,0,0,0,0,0,0,0,0,0,0,0,0,0,0,0,0,0,0,0,0,0,0,0,0,0,0,0,0,0,0,0,0,0,0,0,0,0,0,0,0,0,0,0,0,0,0,0,0,0,0,0,0,0,0,0,0,0,0,0,0,0,0,0,0,0,0,0,0,0,0,0,0,0,0,0,0,0,0,0,0,0,0,0,0,0,0,0,0,0,0,0,0,0,0,0,0,0,0,0,0,0,0,0,0,0,0,0,0,0,0,0,0,0,0,0,0,0,0,0,0,0,0,0,0,0,0,0,0,0,0,0,0,0,0,0,0,0,0,0,0,0,0,0,0,0,0,0,0,0,0,0,0,0,0,0,0,0,0,0,0,0,0,0,0,0,0,0,0,0,0,0,0,0,0,0,0,0,0,0,0,0,0,0,0,0,0,0,0,0,0,0,0,0,0,0,0,0,0,0,0,0,0,0,0,0,0,0,0,0,0,0,0,0,0,0,0,0,0,0,0,0,0,0,0,0,0,0,0,0,0,0,0,0,0,0,0,0,0,0,0,0,0,0,0,0,0,0,0,0,0,0,0,0,0,0,0,0,0,0,0,0,0,0,0,0,0,0,0,0,0,0,0,0,0,0,0,0,0,0,0,0,0,0,0,0,0,0,0,0,0,0,0,0,0,0,0,0,0,0,0,0,0,0,0,0,0,0,0,0,0,0,0,0,0,0,0,0,0,0,0,0,0,0,0,0,0,0,0,0,0,0,0,0,0,0,0,0,0,0,0,0,0,0,0,0,0,0,0,0,0,0,0,0,0,0,0,0,0,0,0,0,0,0,0,0,0,0,0,0,0,0,0,0,0,0,0,0,0,0,0,0,0,0,0,0,0,0,0,0,0,0,0,0,0,0,0,0,0,0,0,0,0,0,0,0,0,0,0,0,0,0,0,0,0,0,0,0,0,0,0,0,0,0,0,0,0,0,0,0,0,0,0,0,0,0,0,0,0,0,0,0,0,0,0,0,0,0,0,0,0,0,0,0,0,0,0,0,0,0,0,0,0,0,0,0,0,0,0,0,0,0,0,0,0,0,0,0,14603,18196,32012,37607,51878,54129,50286,47862,46089,39786,32958,23830,28339,35985,46237,51300,54417,50941,52063,50917,39754,36827,33023,30048,29254,36007,39667,43625,54462,52854,54412,50431,42640,35341,25707,20364,0,0,0,0,0,0,0,0,0,0,0]
[36,1102557,58467,"Campo Verde Solar","PV","CA",null,null,0,0,0,0,0,0,0,0,0,0,0,0,0,0,0,0,0,0,0,0,0,0,0,0,0,0,0,0,0,0,0,0,0,0,0,0,0,0,0,0,0,0,0,0,0,0,0,0,0,0,0,0,0,0,0,0,0,0,0,0,0,0,0,0,0,0,0,0,0,0,0,0,0,0,0,0,0,0,0,0,0,0,0,0,0,0,0,0,0,0,0,0,0,0,0,0,0,0,0,0,0,0,0,0,0,0,0,0,0,0,0,0,0,0,0,0,0,0,0,0,0,0,0,0,0,0,0,0,0,0,0,0,0,0,0,0,0,0,0,0,0,0,0,0,0,0,0,0,0,0,0,0,0,0,0,0,0,0,0,0,0,0,0,0,0,0,0,0,0,0,0,0,0,0,0,0,0,0,0,0,0,0,0,0,0,0,0,0,0,0,0,0,0,0,0,0,0,0,0,0,0,0,0,0,0,0,0,0,0,0,0,0,0,0,0,0,0,0,0,0,0,0,0,0,0,0,0,0,0,0,0,0,0,0,0,0,0,0,0,0,0,0,0,0,0,0,0,0,0,0,0,0,0,0,0,0,0,0,0,0,0,0,0,0,0,0,0,0,0,0,0,0,0,0,0,0,0,0,0,0,0,0,0,0,0,0,0,0,0,0,0,0,0,0,0,0,0,0,0,0,0,0,0,0,0,0,0,0,0,0,0,0,0,0,0,0,0,0,0,0,0,0,0,0,0,0,0,0,0,0,0,0,0,0,0,0,0,0,0,0,0,0,0,0,0,0,0,0,0,0,0,0,0,0,0,0,0,0,0,0,0,0,0,0,0,0,0,0,0,0,0,0,0,0,0,0,0,0,0,0,0,0,0,0,0,0,0,0,0,0,0,0,0,0,0,0,0,0,0,0,0,0,0,0,0,0,0,0,0,0,0,0,0,0,0,0,0,0,0,0,0,0,0,0,0,0,0,0,0,0,0,0,0,0,0,0,0,0,0,0,0,0,0,0,0,0,0,0,0,0,0,0,0,0,0,0,0,0,0,0,0,0,0,0,0,0,0,0,0,0,0,0,0,0,0,0,0,0,0,0,0,0,0,0,0,0,0,0,0,0,0,0,0,0,0,0,0,0,0,0,0,0,0,0,0,0,0,0,0,0,0,0,0,0,0,0,0,0,0,0,0,0,0,0,0,0,0,0,26657,24886,33926,34070,36092,35394,33951,33602,32892,30600,28590,20637,24232,28337,33181,34523,35314,32245,33610,34028,29369,29805,28121,26168,24555,30360,33098,33139,36543,33713,33633,32376,29652,30419,24695,20144,0,0,0,0,0,0,0,0,0,0,0]
[36,248076,58490,"Spectrum Solar PV Power Project","PV","NV",null,null,0,0,0,0,0,0,0,0,0,0,0,0,0,0,0,0,0,0,0,0,0,0,0,0,0,0,0,0,0,0,0,0,0,0,0,0,0,0,0,0,0,0,0,0,0,0,0,0,0,0,0,0,0,0,0,0,0,0,0,0,0,0,0,0,0,0,0,0,0,0,0,0,0,0,0,0,0,0,0,0,0,0,0,0,0,0,0,0,0,0,0,0,0,0,0,0,0,0,0,0,0,0,0,0,0,0,0,0,0,0,0,0,0,0,0,0,0,0,0,0,0,0,0,0,0,0,0,0,0,0,0,0,0,0,0,0,0,0,0,0,0,0,0,0,0,0,0,0,0,0,0,0,0,0,0,0,0,0,0,0,0,0,0,0,0,0,0,0,0,0,0,0,0,0,0,0,0,0,0,0,0,0,0,0,0,0,0,0,0,0,0,0,0,0,0,0,0,0,0,0,0,0,0,0,0,0,0,0,0,0,0,0,0,0,0,0,0,0,0,0,0,0,0,0,0,0,0,0,0,0,0,0,0,0,0,0,0,0,0,0,0,0,0,0,0,0,0,0,0,0,0,0,0,0,0,0,0,0,0,0,0,0,0,0,0,0,0,0,0,0,0,0,0,0,0,0,0,0,0,0,0,0,0,0,0,0,0,0,0,0,0,0,0,0,0,0,0,0,0,0,0,0,0,0,0,0,0,0,0,0,0,0,0,0,0,0,0,0,0,0,0,0,0,0,0,0,0,0,0,0,0,0,0,0,0,0,0,0,0,0,0,0,0,0,0,0,0,0,0,0,0,0,0,0,0,0,0,0,0,0,0,0,0,0,0,0,0,0,0,0,0,0,0,0,0,0,0,0,0,0,0,0,0,0,0,0,0,0,0,0,0,0,0,0,0,0,0,0,0,0,0,0,0,0,0,0,0,0,0,0,0,0,0,0,0,0,0,0,0,0,0,0,0,0,0,0,0,0,0,0,0,0,0,0,0,0,0,0,0,0,0,0,0,0,0,0,0,0,0,0,0,0,0,0,0,0,0,0,0,0,0,0,0,0,0,0,0,0,0,0,0,0,0,0,0,0,0,0,0,0,0,0,0,0,0,0,0,0,0,0,0,0,0,0,0,0,0,0,0,0,0,0,0,0,0,0,0,0,0,0,0,0,0,0,0,0,0,0,0,0,0,0,0,0,0,0,0,0,4713,5086,7754,7998,9100,9810,8172,8181,7653,6686,4996,3080,4365,5625,7389,8877,8590,8899,8720,7924,7142,5889,5387,4191,3937,6195,7110,7490,9093,8684,9159,8194,7469,6001,4904,3613,0,0,0,0,0,0,0,0,0,0,0]
[36,1713793,58542,"Desert Sunlight 250, LLC","PV","CA",null,null,0,0,0,0,0,0,0,0,0,0,0,0,0,0,0,0,0,0,0,0,0,0,0,0,0,0,0,0,0,0,0,0,0,0,0,0,0,0,0,0,0,0,0,0,0,0,0,0,0,0,0,0,0,0,0,0,0,0,0,0,0,0,0,0,0,0,0,0,0,0,0,0,0,0,0,0,0,0,0,0,0,0,0,0,0,0,0,0,0,0,0,0,0,0,0,0,0,0,0,0,0,0,0,0,0,0,0,0,0,0,0,0,0,0,0,0,0,0,0,0,0,0,0,0,0,0,0,0,0,0,0,0,0,0,0,0,0,0,0,0,0,0,0,0,0,0,0,0,0,0,0,0,0,0,0,0,0,0,0,0,0,0,0,0,0,0,0,0,0,0,0,0,0,0,0,0,0,0,0,0,0,0,0,0,0,0,0,0,0,0,0,0,0,0,0,0,0,0,0,0,0,0,0,0,0,0,0,0,0,0,0,0,0,0,0,0,0,0,0,0,0,0,0,0,0,0,0,0,0,0,0,0,0,0,0,0,0,0,0,0,0,0,0,0,0,0,0,0,0,0,0,0,0,0,0,0,0,0,0,0,0,0,0,0,0,0,0,0,0,0,0,0,0,0,0,0,0,0,0,0,0,0,0,0,0,0,0,0,0,0,0,0,0,0,0,0,0,0,0,0,0,0,0,0,0,0,0,0,0,0,0,0,0,0,0,0,0,0,0,0,0,0,0,0,0,0,0,0,0,0,0,0,0,0,0,0,0,0,0,0,0,0,0,0,0,0,0,0,0,0,0,0,0,0,0,0,0,0,0,0,0,0,0,0,0,0,0,0,0,0,0,0,0,0,0,0,0,0,0,0,0,0,0,0,0,0,0,0,0,0,0,0,0,0,0,0,0,0,0,0,0,0,0,0,0,0,0,0,0,0,0,0,0,0,0,0,0,0,0,0,0,0,0,0,0,0,0,0,0,0,0,0,0,0,0,0,0,0,0,0,0,0,0,0,0,0,0,0,0,0,0,0,0,0,0,0,0,0,0,0,0,0,0,0,0,0,0,0,0,0,0,0,0,0,0,0,0,0,0,0,0,0,0,0,0,0,0,0,0,0,0,0,0,0,0,0,0,0,0,0,0,0,0,0,0,0,0,0,0,0,0,0,0,0,0,0,0,0,0,0,0,0,0,0,0,0,0,0,21773,27207,34901,41461,39400,43829,51572,39497,46360,48984,46793,34333,40399,47894,56371,59569,60775,57715,58348,58787,39097,47562,45791,41633,39151,50933,55135,54198,63118,59008,61051,57526,53062,50947,43476,36137,0,0,0,0,0,0,0,0,0,0,0]
[36,176480,58628,"Simon Solar Farm LLC","PV","GA",null,null,0,0,0,0,0,0,0,0,0,0,0,0,0,0,0,0,0,0,0,0,0,0,0,0,0,0,0,0,0,0,0,0,0,0,0,0,0,0,0,0,0,0,0,0,0,0,0,0,0,0,0,0,0,0,0,0,0,0,0,0,0,0,0,0,0,0,0,0,0,0,0,0,0,0,0,0,0,0,0,0,0,0,0,0,0,0,0,0,0,0,0,0,0,0,0,0,0,0,0,0,0,0,0,0,0,0,0,0,0,0,0,0,0,0,0,0,0,0,0,0,0,0,0,0,0,0,0,0,0,0,0,0,0,0,0,0,0,0,0,0,0,0,0,0,0,0,0,0,0,0,0,0,0,0,0,0,0,0,0,0,0,0,0,0,0,0,0,0,0,0,0,0,0,0,0,0,0,0,0,0,0,0,0,0,0,0,0,0,0,0,0,0,0,0,0,0,0,0,0,0,0,0,0,0,0,0,0,0,0,0,0,0,0,0,0,0,0,0,0,0,0,0,0,0,0,0,0,0,0,0,0,0,0,0,0,0,0,0,0,0,0,0,0,0,0,0,0,0,0,0,0,0,0,0,0,0,0,0,0,0,0,0,0,0,0,0,0,0,0,0,0,0,0,0,0,0,0,0,0,0,0,0,0,0,0,0,0,0,0,0,0,0,0,0,0,0,0,0,0,0,0,0,0,0,0,0,0,0,0,0,0,0,0,0,0,0,0,0,0,0,0,0,0,0,0,0,0,0,0,0,0,0,0,0,0,0,0,0,0,0,0,0,0,0,0,0,0,0,0,0,0,0,0,0,0,0,0,0,0,0,0,0,0,0,0,0,0,0,0,0,0,0,0,0,0,0,0,0,0,0,0,0,0,0,0,0,0,0,0,0,0,0,0,0,0,0,0,0,0,0,0,0,0,0,0,0,0,0,0,0,0,0,0,0,0,0,0,0,0,0,0,0,0,0,0,0,0,0,0,0,0,0,0,0,0,0,0,0,0,0,0,0,0,0,0,0,0,0,0,0,0,0,0,0,0,0,0,0,0,0,0,0,0,0,0,0,0,0,0,0,0,0,0,0,0,0,0,0,0,0,0,0,0,0,0,0,0,0,0,0,0,0,0,0,0,0,0,0,0,0,0,0,0,0,0,0,0,0,0,0,0,0,0,0,0,0,0,0,0,0,0,0,0,0,0,0,0,0,4233,3995,5305,5581,6298,5679,5680,5871,4317,5374,4053,3384,3715,4109,4452,4794,6407,5865,6094,5444,4498,4303,3089,2941,3846,4256,5481,6111,5969,5857,5961,5396,5334,5657,4162,2969,0,0,0,0,0,0,0,0,0,0,0]
[35,288389,57997,"Foothills Solar Plant","PV","AZ",null,null,0,0,0,0,0,0,0,0,0,0,0,0,0,0,0,0,0,0,0,0,0,0,0,0,0,0,0,0,0,0,0,0,0,0,0,0,0,0,0,0,0,0,0,0,0,0,0,0,0,0,0,0,0,0,0,0,0,0,0,0,0,0,0,0,0,0,0,0,0,0,0,0,0,0,0,0,0,0,0,0,0,0,0,0,0,0,0,0,0,0,0,0,0,0,0,0,0,0,0,0,0,0,0,0,0,0,0,0,0,0,0,0,0,0,0,0,0,0,0,0,0,0,0,0,0,0,0,0,0,0,0,0,0,0,0,0,0,0,0,0,0,0,0,0,0,0,0,0,0,0,0,0,0,0,0,0,0,0,0,0,0,0,0,0,0,0,0,0,0,0,0,0,0,0,0,0,0,0,0,0,0,0,0,0,0,0,0,0,0,0,0,0,0,0,0,0,0,0,0,0,0,0,0,0,0,0,0,0,0,0,0,0,0,0,0,0,0,0,0,0,0,0,0,0,0,0,0,0,0,0,0,0,0,0,0,0,0,0,0,0,0,0,0,0,0,0,0,0,0,0,0,0,0,0,0,0,0,0,0,0,0,0,0,0,0,0,0,0,0,0,0,0,0,0,0,0,0,0,0,0,0,0,0,0,0,0,0,0,0,0,0,0,0,0,0,0,0,0,0,0,0,0,0,0,0,0,0,0,0,0,0,0,0,0,0,0,0,0,0,0,0,0,0,0,0,0,0,0,0,0,0,0,0,0,0,0,0,0,0,0,0,0,0,0,0,0,0,0,0,0,0,0,0,0,0,0,0,0,0,0,0,0,0,0,0,0,0,0,0,0,0,0,0,0,0,0,0,0,0,0,0,0,0,0,0,0,0,0,0,0,0,0,0,0,0,0,0,0,0,0,0,0,0,0,0,0,0,0,0,0,0,0,0,0,0,0,0,0,0,0,0,0,0,0,0,0,0,0,0,0,0,0,0,0,0,0,0,0,0,0,0,0,0,0,0,0,0,0,0,0,0,0,0,0,0,0,0,0,0,0,0,0,0,0,0,0,0,0,0,0,0,0,0,0,0,0,0,0,0,0,0,0,0,0,0,0,0,0,0,0,0,0,0,0,0,0,0,0,0,0,0,0,0,0,0,0,0,0,0,0,0,0,0,0,0,0,0,0,0,0,0,0,0,0,0,0,0,0,6486,6965,10186,11034,1315,1251,11850,0,9720,8758,7494,5595,6253,7829,10036,11209,11277,10686,11506,11253,8754,7986,7420,6611,7420,8129,3806,9446,6077,11741,12011,10570,8295,7935,6193,5292,0,0,0,0,0,0,0,0,0,0,0]
[35,87556.999999999985,58500,"Rio Grande Solar","PV","CA",null,null,0,0,0,0,0,0,0,0,0,0,0,0,0,0,0,0,0,0,0,0,0,0,0,0,0,0,0,0,0,0,0,0,0,0,0,0,0,0,0,0,0,0,0,0,0,0,0,0,0,0,0,0,0,0,0,0,0,0,0,0,0,0,0,0,0,0,0,0,0,0,0,0,0,0,0,0,0,0,0,0,0,0,0,0,0,0,0,0,0,0,0,0,0,0,0,0,0,0,0,0,0,0,0,0,0,0,0,0,0,0,0,0,0,0,0,0,0,0,0,0,0,0,0,0,0,0,0,0,0,0,0,0,0,0,0,0,0,0,0,0,0,0,0,0,0,0,0,0,0,0,0,0,0,0,0,0,0,0,0,0,0,0,0,0,0,0,0,0,0,0,0,0,0,0,0,0,0,0,0,0,0,0,0,0,0,0,0,0,0,0,0,0,0,0,0,0,0,0,0,0,0,0,0,0,0,0,0,0,0,0,0,0,0,0,0,0,0,0,0,0,0,0,0,0,0,0,0,0,0,0,0,0,0,0,0,0,0,0,0,0,0,0,0,0,0,0,0,0,0,0,0,0,14210,12152,14666,12894,5844,1827,1788,1760,1697,1771,3006,4521,11,2,10,-1,3,2,6,8,6,6,2,2,0,0,0,0,0,0,0,0,0,0,0,0,0,0,0,0,0,0,0,0,0,0,0,0,0,0,0,0,0,0,0,0,0,0,0,0,0,0,0,0,0,0,0,0,0,0,0,0,0,0,0,0,0,0,0,0,0,0,0,0,0,0,0,0,0,0,0,0,0,0,0,0,0,0,0,0,0,0,0,0,0,0,0,0,0,0,0,0,0,0,0,0,0,0,0,0,0,0,0,0,0,0,0,0,0,0,0,0,0,0,0,0,0,0,0,0,0,0,0,0,0,0,0,0,0,0,0,0,0,0,0,0,0,0,0,0,0,0,0,0,0,0,0,0,0,0,0,0,0,0,0,0,0,0,0,0,0,0,0,0,0,0,0,0,0,0,0,0,0,0,0,0,0,0,0,0,0,0,0,0,0,0,0,0,0,0,0,0,0,0,0,0,0,0,0,0,0,0,0,0,0,0,0,0,0,0,0,0,0,0,0,0,0,0,0,0,0,0,0,0,0,0,0,0,0,0,0,0,0,0,0,0,0,0,0,0,0,0,0,0,0,0,0,0,0,0,0,0,0,0,0,0,0,0,0,0,0,0,0,0,0,0,0,0,542.66300000000001,683.93200000000002,1002.266,1124.896,1130.694,1164.992,1205.7070000000001,1220.3579999999999,1007.133,848.43100000000004,785.96199999999999,646.96600000000001,0,0,0,0,0,0,0,0,0,0,0,0,0,0,0,0,0,0,0,0,0,0,0]
[35,1363569,58915,"Copper Mountain Solar 3","PV","NV",null,null,0,0,0,0,0,0,0,0,0,0,0,0,0,0,0,0,0,0,0,0,0,0,0,0,0,0,0,0,0,0,0,0,0,0,0,0,0,0,0,0,0,0,0,0,0,0,0,0,0,0,0,0,0,0,0,0,0,0,0,0,0,0,0,0,0,0,0,0,0,0,0,0,0,0,0,0,0,0,0,0,0,0,0,0,0,0,0,0,0,0,0,0,0,0,0,0,0,0,0,0,0,0,0,0,0,0,0,0,0,0,0,0,0,0,0,0,0,0,0,0,0,0,0,0,0,0,0,0,0,0,0,0,0,0,0,0,0,0,0,0,0,0,0,0,0,0,0,0,0,0,0,0,0,0,0,0,0,0,0,0,0,0,0,0,0,0,0,0,0,0,0,0,0,0,0,0,0,0,0,0,0,0,0,0,0,0,0,0,0,0,0,0,0,0,0,0,0,0,0,0,0,0,0,0,0,0,0,0,0,0,0,0,0,0,0,0,0,0,0,0,0,0,0,0,0,0,0,0,0,0,0,0,0,0,0,0,0,0,0,0,0,0,0,0,0,0,0,0,0,0,0,0,0,0,0,0,0,0,0,0,0,0,0,0,0,0,0,0,0,0,0,0,0,0,0,0,0,0,0,0,0,0,0,0,0,0,0,0,0,0,0,0,0,0,0,0,0,0,0,0,0,0,0,0,0,0,0,0,0,0,0,0,0,0,0,0,0,0,0,0,0,0,0,0,0,0,0,0,0,0,0,0,0,0,0,0,0,0,0,0,0,0,0,0,0,0,0,0,0,0,0,0,0,0,0,0,0,0,0,0,0,0,0,0,0,0,0,0,0,0,0,0,0,0,0,0,0,0,0,0,0,0,0,0,0,0,0,0,0,0,0,0,0,0,0,0,0,0,0,0,0,0,0,0,0,0,0,0,0,0,0,0,0,0,0,0,0,0,0,0,0,0,0,0,0,0,0,0,0,0,0,0,0,0,0,0,0,0,0,0,0,0,0,0,0,0,0,0,0,0,0,0,0,0,0,0,0,0,0,0,0,0,0,0,0,0,0,0,0,0,0,0,0,0,0,0,0,0,0,0,0,0,0,0,0,0,0,0,0,0,0,0,0,0,0,0,0,0,0,0,0,0,0,0,0,0,0,0,0,0,0,0,0,0,0,0,0,0,0,0,0,0,0,0,0,0,0,0,0,0,0,0,3789,11030,14733,20025,23153,30470,29671,22417,33165,45414,55583,60855,57697,61213,56920,56164,51528,44901,43550,35437,33304,49489,53820,53388,62617,62240,60812,57121,53930,47424,40083,31626,34306,34423,54975,0,0,0,0,0,0,0,0]
[34,207377,57657,"Avra Valley Solar","PV","AZ",null,null,0,0,0,0,0,0,0,0,0,0,0,0,0,0,0,0,0,0,0,0,0,0,0,0,0,0,0,0,0,0,0,0,0,0,0,0,0,0,0,0,0,0,0,0,0,0,0,0,0,0,0,0,0,0,0,0,0,0,0,0,0,0,0,0,0,0,0,0,0,0,0,0,0,0,0,0,0,0,0,0,0,0,0,0,0,0,0,0,0,0,0,0,0,0,0,0,0,0,0,0,0,0,0,0,0,0,0,0,0,0,0,0,0,0,0,0,0,0,0,0,0,0,0,0,0,0,0,0,0,0,0,0,0,0,0,0,0,0,0,0,0,0,0,0,0,0,0,0,0,0,0,0,0,0,0,0,0,0,0,0,0,0,0,0,0,0,0,0,0,0,0,0,0,0,0,0,0,0,0,0,0,0,0,0,0,0,0,0,0,0,0,0,0,0,0,0,0,0,0,0,0,0,0,0,0,0,0,0,0,0,0,0,0,0,0,0,0,0,0,0,0,0,0,0,0,0,0,0,0,0,0,0,0,0,0,0,0,0,0,0,0,0,0,0,0,0,0,0,0,0,0,0,0,0,0,0,0,0,0,0,0,0,0,0,0,0,0,0,0,0,0,0,0,0,0,0,0,0,0,0,0,0,0,0,0,0,0,0,0,0,0,0,0,0,0,0,0,0,0,0,0,0,0,0,0,0,0,0,0,0,0,0,0,0,0,0,0,0,0,0,0,0,0,0,0,0,0,0,0,0,0,0,0,0,0,0,0,0,0,0,0,0,0,0,0,0,0,0,0,0,0,0,0,0,0,0,0,0,0,0,0,0,0,0,0,0,0,0,0,0,0,0,0,0,0,0,0,0,0,0,0,0,0,0,0,0,0,0,0,0,0,0,0,0,0,0,0,0,0,0,0,0,0,0,0,0,0,0,0,0,0,0,0,0,0,0,0,0,0,0,0,0,0,0,0,0,0,0,0,0,0,0,0,0,0,0,0,0,0,0,0,0,0,0,0,0,0,0,0,0,0,0,0,0,0,0,0,0,0,0,0,0,0,0,0,0,0,0,0,0,0,0,0,0,0,0,0,0,0,0,0,0,0,0,0,0,0,0,0,0,0,0,0,0,0,0,0,0,0,0,0,0,0,0,0,0,0,0,0,0,0,0,0,0,0,0,0,0,0,0,0,0,0,0,0,0,0,0,4539,4602,6868,7377,8323,8680,6812,7042,5935,5815,4698,3463,3721,4929,6561,7644,0,7602,6703,6837,5591,5214,0,3575,4118,5492,6886,7349,8663,7599,7953,7104,5856,5798,4480,3548,0,0,0,0,0,0,0,0,0,0,0]
[32,1477399,57378,"AV Solar Ranch One","PV","CA",null,null,0,0,0,0,0,0,0,0,0,0,0,0,0,0,0,0,0,0,0,0,0,0,0,0,0,0,0,0,0,0,0,0,0,0,0,0,0,0,0,0,0,0,0,0,0,0,0,0,0,0,0,0,0,0,0,0,0,0,0,0,0,0,0,0,0,0,0,0,0,0,0,0,0,0,0,0,0,0,0,0,0,0,0,0,0,0,0,0,0,0,0,0,0,0,0,0,0,0,0,0,0,0,0,0,0,0,0,0,0,0,0,0,0,0,0,0,0,0,0,0,0,0,0,0,0,0,0,0,0,0,0,0,0,0,0,0,0,0,0,0,0,0,0,0,0,0,0,0,0,0,0,0,0,0,0,0,0,0,0,0,0,0,0,0,0,0,0,0,0,0,0,0,0,0,0,0,0,0,0,0,0,0,0,0,0,0,0,0,0,0,0,0,0,0,0,0,0,0,0,0,0,0,0,0,0,0,0,0,0,0,0,0,0,0,0,0,0,0,0,0,0,0,0,0,0,0,0,0,0,0,0,0,0,0,0,0,0,0,0,0,0,0,0,0,0,0,0,0,0,0,0,0,0,0,0,0,0,0,0,0,0,0,0,0,0,0,0,0,0,0,0,0,0,0,0,0,0,0,0,0,0,0,0,0,0,0,0,0,0,0,0,0,0,0,0,0,0,0,0,0,0,0,0,0,0,0,0,0,0,0,0,0,0,0,0,0,0,0,0,0,0,0,0,0,0,0,0,0,0,0,0,0,0,0,0,0,0,0,0,0,0,0,0,0,0,0,0,0,0,0,0,0,0,0,0,0,0,0,0,0,0,0,0,0,0,0,0,0,0,0,0,0,0,0,0,0,0,0,0,0,0,0,0,0,0,0,0,0,0,0,0,0,0,0,0,0,0,0,0,0,0,0,0,0,0,0,0,0,0,0,0,0,0,0,0,0,0,0,0,0,0,0,0,0,0,0,0,0,0,0,0,0,0,0,0,0,0,0,0,0,0,0,0,0,0,0,0,0,0,0,0,0,0,0,0,0,0,0,0,0,0,0,0,0,0,0,0,0,0,0,0,0,0,0,0,0,0,0,0,0,0,0,0,0,0,0,0,0,0,0,0,0,0,0,0,0,0,0,0,0,0,0,0,0,0,0,0,0,0,0,0,0,0,0,0,0,0,0,0,0,0,0,0,0,0,0,0,0,0,0,0,0,0,0,0,60933,56929,52593,42933,30309,37018,44005,54695,58280,62283,57808,61724,61790,53927,47614,43426,36838,32935,46208,53436,55097,62375,61868,64535,61770,56081,46491,41614,31884,32470,35964,54112,0,0,0,0,0,0,0,0]
[32,366834,59010,"Macho Springs","PV","NM",null,null,0,0,0,0,0,0,0,0,0,0,0,0,0,0,0,0,0,0,0,0,0,0,0,0,0,0,0,0,0,0,0,0,0,0,0,0,0,0,0,0,0,0,0,0,0,0,0,0,0,0,0,0,0,0,0,0,0,0,0,0,0,0,0,0,0,0,0,0,0,0,0,0,0,0,0,0,0,0,0,0,0,0,0,0,0,0,0,0,0,0,0,0,0,0,0,0,0,0,0,0,0,0,0,0,0,0,0,0,0,0,0,0,0,0,0,0,0,0,0,0,0,0,0,0,0,0,0,0,0,0,0,0,0,0,0,0,0,0,0,0,0,0,0,0,0,0,0,0,0,0,0,0,0,0,0,0,0,0,0,0,0,0,0,0,0,0,0,0,0,0,0,0,0,0,0,0,0,0,0,0,0,0,0,0,0,0,0,0,0,0,0,0,0,0,0,0,0,0,0,0,0,0,0,0,0,0,0,0,0,0,0,0,0,0,0,0,0,0,0,0,0,0,0,0,0,0,0,0,0,0,0,0,0,0,0,0,0,0,0,0,0,0,0,0,0,0,0,0,0,0,0,0,0,0,0,0,0,0,0,0,0,0,0,0,0,0,0,0,0,0,0,0,0,0,0,0,0,0,0,0,0,0,0,0,0,0,0,0,0,0,0,0,0,0,0,0,0,0,0,0,0,0,0,0,0,0,0,0,0,0,0,0,0,0,0,0,0,0,0,0,0,0,0,0,0,0,0,0,0,0,0,0,0,0,0,0,0,0,0,0,0,0,0,0,0,0,0,0,0,0,0,0,0,0,0,0,0,0,0,0,0,0,0,0,0,0,0,0,0,0,0,0,0,0,0,0,0,0,0,0,0,0,0,0,0,0,0,0,0,0,0,0,0,0,0,0,0,0,0,0,0,0,0,0,0,0,0,0,0,0,0,0,0,0,0,0,0,0,0,0,0,0,0,0,0,0,0,0,0,0,0,0,0,0,0,0,0,0,0,0,0,0,0,0,0,0,0,0,0,0,0,0,0,0,0,0,0,0,0,0,0,0,0,0,0,0,0,0,0,0,0,0,0,0,0,0,0,0,0,0,0,0,0,0,0,0,0,0,0,0,0,0,0,0,0,0,0,0,0,0,0,0,0,0,0,0,0,0,0,0,0,0,0,0,0,0,0,0,0,0,0,0,0,0,0,0,0,0,0,0,0,0,4719,16299,13552,12611,10757,12283,9464,7592,7065,10342,11543,14137,15331,13836,13150,13473,11272,9322,8640,7713,8449,10689,13820,14263,15747,13981,14966,13400,11425,11779,8385,6829,0,0,0,0,0,0,0,0,0,0,0]
[32,271523,59020,"Gila Bend","PV","AZ",null,null,0,0,0,0,0,0,0,0,0,0,0,0,0,0,0,0,0,0,0,0,0,0,0,0,0,0,0,0,0,0,0,0,0,0,0,0,0,0,0,0,0,0,0,0,0,0,0,0,0,0,0,0,0,0,0,0,0,0,0,0,0,0,0,0,0,0,0,0,0,0,0,0,0,0,0,0,0,0,0,0,0,0,0,0,0,0,0,0,0,0,0,0,0,0,0,0,0,0,0,0,0,0,0,0,0,0,0,0,0,0,0,0,0,0,0,0,0,0,0,0,0,0,0,0,0,0,0,0,0,0,0,0,0,0,0,0,0,0,0,0,0,0,0,0,0,0,0,0,0,0,0,0,0,0,0,0,0,0,0,0,0,0,0,0,0,0,0,0,0,0,0,0,0,0,0,0,0,0,0,0,0,0,0,0,0,0,0,0,0,0,0,0,0,0,0,0,0,0,0,0,0,0,0,0,0,0,0,0,0,0,0,0,0,0,0,0,0,0,0,0,0,0,0,0,0,0,0,0,0,0,0,0,0,0,0,0,0,0,0,0,0,0,0,0,0,0,0,0,0,0,0,0,0,0,0,0,0,0,0,0,0,0,0,0,0,0,0,0,0,0,0,0,0,0,0,0,0,0,0,0,0,0,0,0,0,0,0,0,0,0,0,0,0,0,0,0,0,0,0,0,0,0,0,0,0,0,0,0,0,0,0,0,0,0,0,0,0,0,0,0,0,0,0,0,0,0,0,0,0,0,0,0,0,0,0,0,0,0,0,0,0,0,0,0,0,0,0,0,0,0,0,0,0,0,0,0,0,0,0,0,0,0,0,0,0,0,0,0,0,0,0,0,0,0,0,0,0,0,0,0,0,0,0,0,0,0,0,0,0,0,0,0,0,0,0,0,0,0,0,0,0,0,0,0,0,0,0,0,0,0,0,0,0,0,0,0,0,0,0,0,0,0,0,0,0,0,0,0,0,0,0,0,0,0,0,0,0,0,0,0,0,0,0,0,0,0,0,0,0,0,0,0,0,0,0,0,0,0,0,0,0,0,0,0,0,0,0,0,0,0,0,0,0,0,0,0,0,0,0,0,0,0,0,0,0,0,0,0,0,0,0,0,0,0,0,0,0,0,0,0,0,0,0,0,0,0,0,0,0,0,0,0,0,0,0,0,0,0,0,0,0,0,0,0,0,0,0,0,0,0,0,0,6428,11190,9997,9244,8301,8187,5251,5148,5406,7270,9696,10921,11490,10863,10520,10233,8065,7452,6965,5921,6217,7863,9787,10243,10311,10988,11378,8911,8509,8097,6173,4498,0,0,0,0,0,0,0,0,0,0,0]
[26,856584,58592,"Solar Gen 2","PV","CA",null,null,0,0,0,0,0,0,0,0,0,0,0,0,0,0,0,0,0,0,0,0,0,0,0,0,0,0,0,0,0,0,0,0,0,0,0,0,0,0,0,0,0,0,0,0,0,0,0,0,0,0,0,0,0,0,0,0,0,0,0,0,0,0,0,0,0,0,0,0,0,0,0,0,0,0,0,0,0,0,0,0,0,0,0,0,0,0,0,0,0,0,0,0,0,0,0,0,0,0,0,0,0,0,0,0,0,0,0,0,0,0,0,0,0,0,0,0,0,0,0,0,0,0,0,0,0,0,0,0,0,0,0,0,0,0,0,0,0,0,0,0,0,0,0,0,0,0,0,0,0,0,0,0,0,0,0,0,0,0,0,0,0,0,0,0,0,0,0,0,0,0,0,0,0,0,0,0,0,0,0,0,0,0,0,0,0,0,0,0,0,0,0,0,0,0,0,0,0,0,0,0,0,0,0,0,0,0,0,0,0,0,0,0,0,0,0,0,0,0,0,0,0,0,0,0,0,0,0,0,0,0,0,0,0,0,0,0,0,0,0,0,0,0,0,0,0,0,0,0,0,0,0,0,0,0,0,0,0,0,0,0,0,0,0,0,0,0,0,0,0,0,0,0,0,0,0,0,0,0,0,0,0,0,0,0,0,0,0,0,0,0,0,0,0,0,0,0,0,0,0,0,0,0,0,0,0,0,0,0,0,0,0,0,0,0,0,0,0,0,0,0,0,0,0,0,0,0,0,0,0,0,0,0,0,0,0,0,0,0,0,0,0,0,0,0,0,0,0,0,0,0,0,0,0,0,0,0,0,0,0,0,0,0,0,0,0,0,0,0,0,0,0,0,0,0,0,0,0,0,0,0,0,0,0,0,0,0,0,0,0,0,0,0,0,0,0,0,0,0,0,0,0,0,0,0,0,0,0,0,0,0,0,0,0,0,0,0,0,0,0,0,0,0,0,0,0,0,0,0,0,0,0,0,0,0,0,0,0,0,0,0,0,0,0,0,0,0,0,0,0,0,0,0,0,0,0,0,0,0,0,0,0,0,0,0,0,0,0,0,0,0,0,0,0,0,0,0,0,0,0,0,0,0,0,0,0,0,0,0,0,0,0,0,0,0,0,0,0,0,0,0,0,0,0,0,0,0,0,0,0,0,0,0,0,0,0,0,0,0,0,0,0,0,0,0,0,0,0,0,0,0,0,0,0,0,0,0,0,0,3329,16024,19006,27714,38285,44116,46702,44299,45521,44371,33454,28690,25201,21442,20003,31488,37835,41012,49629,46112,45328,40205,33784,31638,24012,17384,0,0,0,0,0,0,0,0,0,0,0]
[25,322971,57650,"Regulus Solar Project","PV","CA",null,null,0,0,0,0,0,0,0,0,0,0,0,0,0,0,0,0,0,0,0,0,0,0,0,0,0,0,0,0,0,0,0,0,0,0,0,0,0,0,0,0,0,0,0,0,0,0,0,0,0,0,0,0,0,0,0,0,0,0,0,0,0,0,0,0,0,0,0,0,0,0,0,0,0,0,0,0,0,0,0,0,0,0,0,0,0,0,0,0,0,0,0,0,0,0,0,0,0,0,0,0,0,0,0,0,0,0,0,0,0,0,0,0,0,0,0,0,0,0,0,0,0,0,0,0,0,0,0,0,0,0,0,0,0,0,0,0,0,0,0,0,0,0,0,0,0,0,0,0,0,0,0,0,0,0,0,0,0,0,0,0,0,0,0,0,0,0,0,0,0,0,0,0,0,0,0,0,0,0,0,0,0,0,0,0,0,0,0,0,0,0,0,0,0,0,0,0,0,0,0,0,0,0,0,0,0,0,0,0,0,0,0,0,0,0,0,0,0,0,0,0,0,0,0,0,0,0,0,0,0,0,0,0,0,0,0,0,0,0,0,0,0,0,0,0,0,0,0,0,0,0,0,0,0,0,0,0,0,0,0,0,0,0,0,0,0,0,0,0,0,0,0,0,0,0,0,0,0,0,0,0,0,0,0,0,0,0,0,0,0,0,0,0,0,0,0,0,0,0,0,0,0,0,0,0,0,0,0,0,0,0,0,0,0,0,0,0,0,0,0,0,0,0,0,0,0,0,0,0,0,0,0,0,0,0,0,0,0,0,0,0,0,0,0,0,0,0,0,0,0,0,0,0,0,0,0,0,0,0,0,0,0,0,0,0,0,0,0,0,0,0,0,0,0,0,0,0,0,0,0,0,0,0,0,0,0,0,0,0,0,0,0,0,0,0,0,0,0,0,0,0,0,0,0,0,0,0,0,0,0,0,0,0,0,0,0,0,0,0,0,0,0,0,0,0,0,0,0,0,0,0,0,0,0,0,0,0,0,0,0,0,0,0,0,0,0,0,0,0,0,0,0,0,0,0,0,0,0,0,0,0,0,0,0,0,0,0,0,0,0,0,0,0,0,0,0,0,0,0,0,0,0,0,0,0,0,0,0,0,0,0,0,0,0,0,0,0,0,0,0,0,0,0,0,0,0,0,0,0,0,0,0,0,0,0,0,0,0,0,0,0,0,0,0,0,0,0,0,0,0,0,0,0,0,0,0,0,0,0,0,5972,6419,10270,14327,16751,18060,18923,19376,18224,15054,12110,9571,6932,6012,10222,12261,15105,18542,17217,20403,17959,14039,6984,6448,5790,0,0,0,0,0,0,0,0,0,0,0]
[25,159863.26999999999,58717,"OCI Alamo 4, LLC","PV","TX",null,null,0,0,0,0,0,0,0,0,0,0,0,0,0,0,0,0,0,0,0,0,0,0,0,0,0,0,0,0,0,0,0,0,0,0,0,0,0,0,0,0,0,0,0,0,0,0,0,0,0,0,0,0,0,0,0,0,0,0,0,0,0,0,0,0,0,0,0,0,0,0,0,0,0,0,0,0,0,0,0,0,0,0,0,0,0,0,0,0,0,0,0,0,0,0,0,0,0,0,0,0,0,0,0,0,0,0,0,0,0,0,0,0,0,0,0,0,0,0,0,0,0,0,0,0,0,0,0,0,0,0,0,0,0,0,0,0,0,0,0,0,0,0,0,0,0,0,0,0,0,0,0,0,0,0,0,0,0,0,0,0,0,0,0,0,0,0,0,0,0,0,0,0,0,0,0,0,0,0,0,0,0,0,0,0,0,0,0,0,0,0,0,0,0,0,0,0,0,0,0,0,0,0,0,0,0,0,0,0,0,0,0,0,0,0,0,0,0,0,0,0,0,0,0,0,0,0,0,0,0,0,0,0,0,0,0,0,0,0,0,0,0,0,0,0,0,0,0,0,0,0,0,0,0,0,0,0,0,0,0,0,0,0,0,0,0,0,0,0,0,0,0,0,0,0,0,0,0,0,0,0,0,0,0,0,0,0,0,0,0,0,0,0,0,0,0,0,0,0,0,0,0,0,0,0,0,0,0,0,0,0,0,0,0,0,0,0,0,0,0,0,0,0,0,0,0,0,0,0,0,0,0,0,0,0,0,0,0,0,0,0,0,0,0,0,0,0,0,0,0,0,0,0,0,0,0,0,0,0,0,0,0,0,0,0,0,0,0,0,0,0,0,0,0,0,0,0,0,0,0,0,0,0,0,0,0,0,0,0,0,0,0,0,0,0,0,0,0,0,0,0,0,0,0,0,0,0,0,0,0,0,0,0,0,0,0,0,0,0,0,0,0,0,0,0,0,0,0,0,0,0,0,0,0,0,0,0,0,0,0,0,0,0,0,0,0,0,0,0,0,0,0,0,0,0,0,0,0,0,0,0,0,0,0,0,0,0,0,0,0,0,0,0,0,0,0,0,0,0,0,0,0,0,0,0,0,0,0,0,0,0,0,0,0,0,0,0,0,0,0,0,0,0,0,0,0,0,0,0,0,0,0,0,0,0,0,0,0,0,0,0,0,0,0,0,0,0,0,0,0,0,0,0,0,0,0,0,0,0,0,3447.18,4881.6899999999996,4586.67,5966.73,6243,5978,8174,9075,9389,7868,6806,3625,5333,6150,6822,6655,7219,6692,8709,9890,8012,4353,6660,4291,3037,0,0,0,0,0,0,0,0,0,0,0]
[24,260786,58983,"RE Camelot LLC","PV","CA",null,null,0,0,0,0,0,0,0,0,0,0,0,0,0,0,0,0,0,0,0,0,0,0,0,0,0,0,0,0,0,0,0,0,0,0,0,0,0,0,0,0,0,0,0,0,0,0,0,0,0,0,0,0,0,0,0,0,0,0,0,0,0,0,0,0,0,0,0,0,0,0,0,0,0,0,0,0,0,0,0,0,0,0,0,0,0,0,0,0,0,0,0,0,0,0,0,0,0,0,0,0,0,0,0,0,0,0,0,0,0,0,0,0,0,0,0,0,0,0,0,0,0,0,0,0,0,0,0,0,0,0,0,0,0,0,0,0,0,0,0,0,0,0,0,0,0,0,0,0,0,0,0,0,0,0,0,0,0,0,0,0,0,0,0,0,0,0,0,0,0,0,0,0,0,0,0,0,0,0,0,0,0,0,0,0,0,0,0,0,0,0,0,0,0,0,0,0,0,0,0,0,0,0,0,0,0,0,0,0,0,0,0,0,0,0,0,0,0,0,0,0,0,0,0,0,0,0,0,0,0,0,0,0,0,0,0,0,0,0,0,0,0,0,0,0,0,0,0,0,0,0,0,0,0,0,0,0,0,0,0,0,0,0,0,0,0,0,0,0,0,0,0,0,0,0,0,0,0,0,0,0,0,0,0,0,0,0,0,0,0,0,0,0,0,0,0,0,0,0,0,0,0,0,0,0,0,0,0,0,0,0,0,0,0,0,0,0,0,0,0,0,0,0,0,0,0,0,0,0,0,0,0,0,0,0,0,0,0,0,0,0,0,0,0,0,0,0,0,0,0,0,0,0,0,0,0,0,0,0,0,0,0,0,0,0,0,0,0,0,0,0,0,0,0,0,0,0,0,0,0,0,0,0,0,0,0,0,0,0,0,0,0,0,0,0,0,0,0,0,0,0,0,0,0,0,0,0,0,0,0,0,0,0,0,0,0,0,0,0,0,0,0,0,0,0,0,0,0,0,0,0,0,0,0,0,0,0,0,0,0,0,0,0,0,0,0,0,0,0,0,0,0,0,0,0,0,0,0,0,0,0,0,0,0,0,0,0,0,0,0,0,0,0,0,0,0,0,0,0,0,0,0,0,0,0,0,0,0,0,0,0,0,0,0,0,0,0,0,0,0,0,0,0,0,0,0,0,0,0,0,0,0,0,0,0,0,0,0,0,0,0,0,0,0,0,0,0,0,0,0,0,0,0,0,0,0,0,0,0,0,0,5616,5719,11479,13006,14783,13784,14043,13822,11919,9599,8537,6710,6022,9449,11382,12540,13938,14223,15180,14054,12161,9351,7594,5875,0,0,0,0,0,0,0,0,0,0,0]
[24,155029,59168,"Avalon Solar","PV","AZ",null,null,0,0,0,0,0,0,0,0,0,0,0,0,0,0,0,0,0,0,0,0,0,0,0,0,0,0,0,0,0,0,0,0,0,0,0,0,0,0,0,0,0,0,0,0,0,0,0,0,0,0,0,0,0,0,0,0,0,0,0,0,0,0,0,0,0,0,0,0,0,0,0,0,0,0,0,0,0,0,0,0,0,0,0,0,0,0,0,0,0,0,0,0,0,0,0,0,0,0,0,0,0,0,0,0,0,0,0,0,0,0,0,0,0,0,0,0,0,0,0,0,0,0,0,0,0,0,0,0,0,0,0,0,0,0,0,0,0,0,0,0,0,0,0,0,0,0,0,0,0,0,0,0,0,0,0,0,0,0,0,0,0,0,0,0,0,0,0,0,0,0,0,0,0,0,0,0,0,0,0,0,0,0,0,0,0,0,0,0,0,0,0,0,0,0,0,0,0,0,0,0,0,0,0,0,0,0,0,0,0,0,0,0,0,0,0,0,0,0,0,0,0,0,0,0,0,0,0,0,0,0,0,0,0,0,0,0,0,0,0,0,0,0,0,0,0,0,0,0,0,0,0,0,0,0,0,0,0,0,0,0,0,0,0,0,0,0,0,0,0,0,0,0,0,0,0,0,0,0,0,0,0,0,0,0,0,0,0,0,0,0,0,0,0,0,0,0,0,0,0,0,0,0,0,0,0,0,0,0,0,0,0,0,0,0,0,0,0,0,0,0,0,0,0,0,0,0,0,0,0,0,0,0,0,0,0,0,0,0,0,0,0,0,0,0,0,0,0,0,0,0,0,0,0,0,0,0,0,0,0,0,0,0,0,0,0,0,0,0,0,0,0,0,0,0,0,0,0,0,0,0,0,0,0,0,0,0,0,0,0,0,0,0,0,0,0,0,0,0,0,0,0,0,0,0,0,0,0,0,0,0,0,0,0,0,0,0,0,0,0,0,0,0,0,0,0,0,0,0,0,0,0,0,0,0,0,0,0,0,0,0,0,0,0,0,0,0,0,0,0,0,0,0,0,0,0,0,0,0,0,0,0,0,0,0,0,0,0,0,0,0,0,0,0,0,0,0,0,0,0,0,0,0,0,0,0,0,0,0,0,0,0,0,0,0,0,0,0,0,0,0,0,0,0,0,0,0,0,0,0,0,0,0,0,0,0,0,0,0,0,0,0,0,0,0,0,0,0,0,0,0,0,0,0,0,0,0,0,0,0,0,4202,5450,7083,8326,8526,7870,6566,6980,5604,5340,4936,4382,4730,6105,7458,8077,9233,7563,8044,7246,6254,6210,4896,3948,0,0,0,0,0,0,0,0,0,0,0]
[20,158491,58711,"Lost Hills/Blackwell","PV","CA",null,null,0,0,0,0,0,0,0,0,0,0,0,0,0,0,0,0,0,0,0,0,0,0,0,0,0,0,0,0,0,0,0,0,0,0,0,0,0,0,0,0,0,0,0,0,0,0,0,0,0,0,0,0,0,0,0,0,0,0,0,0,0,0,0,0,0,0,0,0,0,0,0,0,0,0,0,0,0,0,0,0,0,0,0,0,0,0,0,0,0,0,0,0,0,0,0,0,0,0,0,0,0,0,0,0,0,0,0,0,0,0,0,0,0,0,0,0,0,0,0,0,0,0,0,0,0,0,0,0,0,0,0,0,0,0,0,0,0,0,0,0,0,0,0,0,0,0,0,0,0,0,0,0,0,0,0,0,0,0,0,0,0,0,0,0,0,0,0,0,0,0,0,0,0,0,0,0,0,0,0,0,0,0,0,0,0,0,0,0,0,0,0,0,0,0,0,0,0,0,0,0,0,0,0,0,0,0,0,0,0,0,0,0,0,0,0,0,0,0,0,0,0,0,0,0,0,0,0,0,0,0,0,0,0,0,0,0,0,0,0,0,0,0,0,0,0,0,0,0,0,0,0,0,0,0,0,0,0,0,0,0,0,0,0,0,0,0,0,0,0,0,0,0,0,0,0,0,0,0,0,0,0,0,0,0,0,0,0,0,0,0,0,0,0,0,0,0,0,0,0,0,0,0,0,0,0,0,0,0,0,0,0,0,0,0,0,0,0,0,0,0,0,0,0,0,0,0,0,0,0,0,0,0,0,0,0,0,0,0,0,0,0,0,0,0,0,0,0,0,0,0,0,0,0,0,0,0,0,0,0,0,0,0,0,0,0,0,0,0,0,0,0,0,0,0,0,0,0,0,0,0,0,0,0,0,0,0,0,0,0,0,0,0,0,0,0,0,0,0,0,0,0,0,0,0,0,0,0,0,0,0,0,0,0,0,0,0,0,0,0,0,0,0,0,0,0,0,0,0,0,0,0,0,0,0,0,0,0,0,0,0,0,0,0,0,0,0,0,0,0,0,0,0,0,0,0,0,0,0,0,0,0,0,0,0,0,0,0,0,0,0,0,0,0,0,0,0,0,0,0,0,0,0,0,0,0,0,0,0,0,0,0,0,0,0,0,0,0,0,0,0,0,0,0,0,0,0,0,0,0,0,0,0,0,0,0,0,0,0,0,0,0,0,0,0,0,0,0,0,0,0,0,0,0,0,0,0,0,0,0,0,0,0,0,0,10085,10583,10622,10321,8505,6919,5360,4112,3351,5951,7944,8633,9531,10952,11394,10141,8989,6459,4944,3695,0,0,0,0,0,0,0,0,0,0,0]
[19,94806,58710,"Barilla Solar","PV","TX",null,null,0,0,0,0,0,0,0,0,0,0,0,0,0,0,0,0,0,0,0,0,0,0,0,0,0,0,0,0,0,0,0,0,0,0,0,0,0,0,0,0,0,0,0,0,0,0,0,0,0,0,0,0,0,0,0,0,0,0,0,0,0,0,0,0,0,0,0,0,0,0,0,0,0,0,0,0,0,0,0,0,0,0,0,0,0,0,0,0,0,0,0,0,0,0,0,0,0,0,0,0,0,0,0,0,0,0,0,0,0,0,0,0,0,0,0,0,0,0,0,0,0,0,0,0,0,0,0,0,0,0,0,0,0,0,0,0,0,0,0,0,0,0,0,0,0,0,0,0,0,0,0,0,0,0,0,0,0,0,0,0,0,0,0,0,0,0,0,0,0,0,0,0,0,0,0,0,0,0,0,0,0,0,0,0,0,0,0,0,0,0,0,0,0,0,0,0,0,0,0,0,0,0,0,0,0,0,0,0,0,0,0,0,0,0,0,0,0,0,0,0,0,0,0,0,0,0,0,0,0,0,0,0,0,0,0,0,0,0,0,0,0,0,0,0,0,0,0,0,0,0,0,0,0,0,0,0,0,0,0,0,0,0,0,0,0,0,0,0,0,0,0,0,0,0,0,0,0,0,0,0,0,0,0,0,0,0,0,0,0,0,0,0,0,0,0,0,0,0,0,0,0,0,0,0,0,0,0,0,0,0,0,0,0,0,0,0,0,0,0,0,0,0,0,0,0,0,0,0,0,0,0,0,0,0,0,0,0,0,0,0,0,0,0,0,0,0,0,0,0,0,0,0,0,0,0,0,0,0,0,0,0,0,0,0,0,0,0,0,0,0,0,0,0,0,0,0,0,0,0,0,0,0,0,0,0,0,0,0,0,0,0,0,0,0,0,0,0,0,0,0,0,0,0,0,0,0,0,0,0,0,0,0,0,0,0,0,0,0,0,0,0,0,0,0,0,0,0,0,0,0,0,0,0,0,0,0,0,0,0,0,0,0,0,0,0,0,0,0,0,0,0,0,0,0,0,0,0,0,0,0,0,0,0,0,0,0,0,0,0,0,0,0,0,0,0,0,0,0,0,0,0,0,0,0,0,0,0,0,0,0,0,0,0,0,0,0,0,0,0,0,0,0,0,0,0,0,0,0,0,0,0,0,0,0,0,0,0,0,0,0,0,0,0,0,0,0,0,0,0,0,0,0,0,0,0,0,0,0,0,0,0,0,0,0,0,3594,3933,6352,5965,4902,4634,4503,4877,5970,5832,5897,5837,6131,6443,4976,5508,1517,4157,3778,0,0,0,0,0,0,0,0,0,0,0]
[19,232332,58713,"North Star Solar","PV","CA",null,null,0,0,0,0,0,0,0,0,0,0,0,0,0,0,0,0,0,0,0,0,0,0,0,0,0,0,0,0,0,0,0,0,0,0,0,0,0,0,0,0,0,0,0,0,0,0,0,0,0,0,0,0,0,0,0,0,0,0,0,0,0,0,0,0,0,0,0,0,0,0,0,0,0,0,0,0,0,0,0,0,0,0,0,0,0,0,0,0,0,0,0,0,0,0,0,0,0,0,0,0,0,0,0,0,0,0,0,0,0,0,0,0,0,0,0,0,0,0,0,0,0,0,0,0,0,0,0,0,0,0,0,0,0,0,0,0,0,0,0,0,0,0,0,0,0,0,0,0,0,0,0,0,0,0,0,0,0,0,0,0,0,0,0,0,0,0,0,0,0,0,0,0,0,0,0,0,0,0,0,0,0,0,0,0,0,0,0,0,0,0,0,0,0,0,0,0,0,0,0,0,0,0,0,0,0,0,0,0,0,0,0,0,0,0,0,0,0,0,0,0,0,0,0,0,0,0,0,0,0,0,0,0,0,0,0,0,0,0,0,0,0,0,0,0,0,0,0,0,0,0,0,0,0,0,0,0,0,0,0,0,0,0,0,0,0,0,0,0,0,0,0,0,0,0,0,0,0,0,0,0,0,0,0,0,0,0,0,0,0,0,0,0,0,0,0,0,0,0,0,0,0,0,0,0,0,0,0,0,0,0,0,0,0,0,0,0,0,0,0,0,0,0,0,0,0,0,0,0,0,0,0,0,0,0,0,0,0,0,0,0,0,0,0,0,0,0,0,0,0,0,0,0,0,0,0,0,0,0,0,0,0,0,0,0,0,0,0,0,0,0,0,0,0,0,0,0,0,0,0,0,0,0,0,0,0,0,0,0,0,0,0,0,0,0,0,0,0,0,0,0,0,0,0,0,0,0,0,0,0,0,0,0,0,0,0,0,0,0,0,0,0,0,0,0,0,0,0,0,0,0,0,0,0,0,0,0,0,0,0,0,0,0,0,0,0,0,0,0,0,0,0,0,0,0,0,0,0,0,0,0,0,0,0,0,0,0,0,0,0,0,0,0,0,0,0,0,0,0,0,0,0,0,0,0,0,0,0,0,0,0,0,0,0,0,0,0,0,0,0,0,0,0,0,0,0,0,0,0,0,0,0,0,0,0,0,0,0,0,0,0,0,0,0,0,0,0,0,0,0,0,0,0,0,0,0,0,0,0,0,0,0,0,0,0,0,7219,18874,16657,13434,11810,8719,5980,4800,10082,12952,15640,18049,19438,12835,17031,13924,10123,8336,6429,0,0,0,0,0,0,0,0,0,0,0]
[17,768969,58462,"McCoy Solar Energy Project","PV","CA",null,null,0,0,0,0,0,0,0,0,0,0,0,0,0,0,0,0,0,0,0,0,0,0,0,0,0,0,0,0,0,0,0,0,0,0,0,0,0,0,0,0,0,0,0,0,0,0,0,0,0,0,0,0,0,0,0,0,0,0,0,0,0,0,0,0,0,0,0,0,0,0,0,0,0,0,0,0,0,0,0,0,0,0,0,0,0,0,0,0,0,0,0,0,0,0,0,0,0,0,0,0,0,0,0,0,0,0,0,0,0,0,0,0,0,0,0,0,0,0,0,0,0,0,0,0,0,0,0,0,0,0,0,0,0,0,0,0,0,0,0,0,0,0,0,0,0,0,0,0,0,0,0,0,0,0,0,0,0,0,0,0,0,0,0,0,0,0,0,0,0,0,0,0,0,0,0,0,0,0,0,0,0,0,0,0,0,0,0,0,0,0,0,0,0,0,0,0,0,0,0,0,0,0,0,0,0,0,0,0,0,0,0,0,0,0,0,0,0,0,0,0,0,0,0,0,0,0,0,0,0,0,0,0,0,0,0,0,0,0,0,0,0,0,0,0,0,0,0,0,0,0,0,0,0,0,0,0,0,0,0,0,0,0,0,0,0,0,0,0,0,0,0,0,0,0,0,0,0,0,0,0,0,0,0,0,0,0,0,0,0,0,0,0,0,0,0,0,0,0,0,0,0,0,0,0,0,0,0,0,0,0,0,0,0,0,0,0,0,0,0,0,0,0,0,0,0,0,0,0,0,0,0,0,0,0,0,0,0,0,0,0,0,0,0,0,0,0,0,0,0,0,0,0,0,0,0,0,0,0,0,0,0,0,0,0,0,0,0,0,0,0,0,0,0,0,0,0,0,0,0,0,0,0,0,0,0,0,0,0,0,0,0,0,0,0,0,0,0,0,0,0,0,0,0,0,0,0,0,0,0,0,0,0,0,0,0,0,0,0,0,0,0,0,0,0,0,0,0,0,0,0,0,0,0,0,0,0,0,0,0,0,0,0,0,0,0,0,0,0,0,0,0,0,0,0,0,0,0,0,0,0,0,0,0,0,0,0,0,0,0,0,0,0,0,0,0,0,0,0,0,0,0,0,0,0,0,0,0,0,0,0,0,0,0,0,0,0,0,0,0,0,0,0,0,0,0,0,0,0,0,0,0,0,0,0,0,0,0,0,0,0,0,0,0,0,0,0,0,0,0,0,0,0,0,0,0,0,0,0,0,0,0,0,0,0,0,0,0,11848,15276,13102,15127,19238,24621,40810,54194,60217,79264,79674,79217,75872,64449,57029,44431,34600,0,0,0,0,0,0,0,0,0,0,0]
[17,5235.9999999999991,58700,"Colleton Solar Farm","PV","SC",null,null,0,0,0,0,0,0,0,0,0,0,0,0,0,0,0,0,0,0,0,0,0,0,0,0,0,0,0,0,0,0,0,0,0,0,0,0,0,0,0,0,0,0,0,0,0,0,0,0,0,0,0,0,0,0,0,0,0,0,0,0,0,0,0,0,0,0,0,0,0,0,0,0,0,0,0,0,0,0,0,0,0,0,0,0,0,0,0,0,0,0,0,0,0,0,0,0,0,0,0,0,0,0,0,0,0,0,0,0,0,0,0,0,0,0,0,0,0,0,0,0,0,0,0,0,0,0,0,0,0,0,0,0,0,0,0,0,0,0,0,0,0,0,0,0,0,0,0,0,0,0,0,0,0,0,0,0,0,0,0,0,0,0,0,0,0,0,0,0,0,0,0,0,0,0,0,0,0,0,0,0,0,0,0,0,0,0,0,0,0,0,0,0,0,0,0,0,0,0,0,0,0,0,0,0,0,0,0,0,0,0,0,0,0,0,0,0,0,0,0,0,0,0,0,0,0,0,0,0,0,0,0,0,0,0,0,0,0,0,0,0,0,0,0,0,0,0,0,0,0,0,0,0,0,0,0,0,0,0,0,0,0,0,0,0,-23,-35,-11,-18,30,344,230,433,0,0,66,0,0,0,0,0,0,0,0,0,0,0,0,0,0,0,0,0,0,0,0,0,0,0,0,0,0,0,0,0,0,0,0,0,0,0,0,0,0,0,0,0,0,0,0,0,0,0,0,0,0,0,0,0,0,0,0,0,0,0,0,0,0,0,0,0,0,0,0,0,0,0,0,0,0,0,0,0,0,0,0,0,0,0,0,0,0,0,0,0,0,0,0,0,0,0,0,0,0,0,0,0,0,0,0,0,0,0,0,0,0,0,0,0,0,0,0,0,0,0,0,0,0,0,0,0,0,0,0,0,0,0,0,0,0,0,0,0,0,0,0,0,0,0,0,0,0,0,0,0,0,0,0,0,0,0,0,0,0,0,0,0,0,0,0,0,0,0,0,0,0,0,0,0,0,0,0,0,0,0,0,0,0,0,0,0,0,0,0,0,0,0,0,0,0,0,0,0,0,0,0,0,0,0,0,0,0,0,0,0,0,0,0,0,0,0,0,0,0,0,0,0,0,0,0,0,0,0,0,0,0,0,0,0,0,0,0,0,0,0,0,0,0,0,0,0,0,0,0,0,0,0,0,0,0,0,0,0,0,0,0,0,0,0,0,0,221.69,181.80600000000001,330.97500000000002,376.202,519.79899999999998,484.51299999999998,519.11400000000003,462.82,316.28500000000003,284.14999999999998,209.14699999999999,313.49900000000002,0,0,0,0,0,0,0,0,0,0,0,0,0,0,0,0,0,0,0,0,0,0,0]
[17,297138,58833,"Red Horse 2","PV","AZ",null,null,0,0,0,0,0,0,0,0,0,0,0,0,0,0,0,0,0,0,0,0,0,0,0,0,0,0,0,0,0,0,0,0,0,0,0,0,0,0,0,0,0,0,0,0,0,0,0,0,0,0,0,0,0,0,0,0,0,0,0,0,0,0,0,0,0,0,0,0,0,0,0,0,0,0,0,0,0,0,0,0,0,0,0,0,0,0,0,0,0,0,0,0,0,0,0,0,0,0,0,0,0,0,0,0,0,0,0,0,0,0,0,0,0,0,0,0,0,0,0,0,0,0,0,0,0,0,0,0,0,0,0,0,0,0,0,0,0,0,0,0,0,0,0,0,0,0,0,0,0,0,0,0,0,0,0,0,0,0,0,0,0,0,0,0,0,0,0,0,0,0,0,0,0,0,0,0,0,0,0,0,0,0,0,0,0,0,0,0,0,0,0,0,0,0,0,0,0,0,0,0,0,0,0,0,0,0,0,0,0,0,0,0,0,0,0,0,0,0,0,0,0,0,0,0,0,0,0,0,0,0,0,0,0,0,0,0,0,0,0,0,0,0,0,0,0,0,0,0,0,0,0,0,0,0,0,0,0,0,0,0,0,0,0,0,0,0,0,0,0,0,0,0,0,0,0,0,0,0,0,0,0,0,0,0,0,0,0,0,0,0,0,0,0,0,0,0,0,0,0,0,0,0,0,0,0,0,0,0,0,0,0,0,0,0,0,0,0,0,0,0,0,0,0,0,0,0,0,0,0,0,0,0,0,0,0,0,0,0,0,0,0,0,0,0,0,0,0,0,0,0,0,0,0,0,0,0,0,0,0,0,0,0,0,0,0,0,0,0,0,0,0,0,0,0,0,0,0,0,0,0,0,0,0,0,0,0,0,0,0,0,0,0,0,0,0,0,0,0,0,0,0,0,0,0,0,0,0,0,0,0,0,0,0,0,0,0,0,0,0,0,0,0,0,0,0,0,0,0,0,0,0,0,0,0,0,0,0,0,0,0,0,0,0,0,0,0,0,0,0,0,0,0,0,0,0,0,0,0,0,0,0,0,0,0,0,0,0,0,0,0,0,0,0,0,0,0,0,0,0,0,0,0,0,0,0,0,0,0,0,0,0,0,0,0,0,0,0,0,0,0,0,0,0,0,0,0,0,0,0,0,0,0,0,0,0,0,0,0,0,0,0,0,0,0,0,0,0,0,0,0,0,0,0,0,0,0,0,0,0,0,0,0,0,0,0,0,0,15334,13939,16175,18134,13448,16417,19674,17548,20257,23067,19396,19583,17167,16381,17261,19165,14192,0,0,0,0,0,0,0,0,0,0,0]
[16,63396,59862,"Fort Benning Solar Facility","PV","GA",null,null,0,0,0,0,0,0,0,0,0,0,0,0,0,0,0,0,0,0,0,0,0,0,0,0,0,0,0,0,0,0,0,0,0,0,0,0,0,0,0,0,0,0,0,0,0,0,0,0,0,0,0,0,0,0,0,0,0,0,0,0,0,0,0,0,0,0,0,0,0,0,0,0,0,0,0,0,0,0,0,0,0,0,0,0,0,0,0,0,0,0,0,0,0,0,0,0,0,0,0,0,0,0,0,0,0,0,0,0,0,0,0,0,0,0,0,0,0,0,0,0,0,0,0,0,0,0,0,0,0,0,0,0,0,0,0,0,0,0,0,0,0,0,0,0,0,0,0,0,0,0,0,0,0,0,0,0,0,0,0,0,0,0,0,0,0,0,0,0,0,0,0,0,0,0,0,0,0,0,0,0,0,0,0,0,0,0,0,0,0,0,0,0,0,0,0,0,0,0,0,0,0,0,0,0,0,0,0,0,0,0,0,0,0,0,0,0,0,0,0,0,0,0,0,0,0,0,0,0,0,0,0,0,0,0,0,0,0,0,0,0,0,0,0,0,0,0,0,0,0,0,0,0,0,0,0,0,0,0,0,0,0,0,0,0,0,0,0,0,0,0,0,0,0,0,0,0,0,0,0,0,0,0,0,0,0,0,0,0,0,0,0,0,0,0,0,0,0,0,0,0,0,0,0,0,0,0,0,0,0,0,0,0,0,0,0,0,0,0,0,0,0,0,0,0,0,0,0,0,0,0,0,0,0,0,0,0,0,0,0,0,0,0,0,0,0,0,0,0,0,0,0,0,0,0,0,0,0,0,0,0,0,0,0,0,0,0,0,0,0,0,0,0,0,0,0,0,0,0,0,0,0,0,0,0,0,0,0,0,0,0,0,0,0,0,0,0,0,0,0,0,0,0,0,0,0,0,0,0,0,0,0,0,0,0,0,0,0,0,0,0,0,0,0,0,0,0,0,0,0,0,0,0,0,0,0,0,0,0,0,0,0,0,0,0,0,0,0,0,0,0,0,0,0,0,0,0,0,0,0,0,0,0,0,0,0,0,0,0,0,0,0,0,0,0,0,0,0,0,0,0,0,0,0,0,0,0,0,0,0,0,0,0,0,0,0,0,0,0,0,0,0,0,0,0,0,0,0,0,0,0,0,0,0,0,0,0,0,0,0,0,0,0,0,0,0,0,0,0,0,0,0,0,0,0,0,0,0,0,0,0,0,0,0,0,0,0,0,0,0,0,0,2706,3534,4748,5484,5579,6313,6062,6127,5087,5116,4822,4661,3157,3987,4013,5584,0,0,0,0,0,0,0,0]
[15,23185.000000000004,57758,"Mount Saint Mary's","PV","MD",null,null,0,0,0,0,0,0,0,0,0,0,0,0,0,0,0,0,0,0,0,0,0,0,0,0,0,0,0,0,0,0,0,0,0,0,0,0,0,0,0,0,0,0,0,0,0,0,0,0,0,0,0,0,0,0,0,0,0,0,0,0,0,0,0,0,0,0,0,0,0,0,0,0,0,0,0,0,0,0,0,0,0,0,0,0,0,0,0,0,0,0,0,0,0,0,0,0,0,0,0,0,0,0,0,0,0,0,0,0,0,0,0,0,0,0,0,0,0,0,0,0,0,0,0,0,0,0,0,0,0,0,0,0,0,0,0,0,0,0,0,0,0,0,0,0,0,0,0,0,0,0,0,0,0,0,0,0,0,0,0,0,0,0,0,0,0,0,0,0,0,0,0,0,0,0,0,0,0,0,0,0,0,0,0,0,0,0,0,0,0,0,0,0,0,0,0,0,0,0,0,0,0,0,0,0,0,0,0,0,0,0,0,0,0,0,0,0,0,0,0,0,0,0,0,0,0,0,0,0,0,0,0,0,0,0,0,0,0,0,0,0,0,0,0,0,0,0,0,0,0,0,0,0,0,0,0,0,0,0,0,0,0,0,0,0,0,0,0,0,0,0,0,0,0,0,0,0,0,0,0,0,0,0,0,0,0,0,0,0,0,0,0,0,0,0,0,0,0,0,0,0,0,0,0,0,0,0,0,0,0,0,0,0,0,0,0,0,0,0,0,0,0,0,0,0,0,0,0,0,0,0,0,0,0,0,0,0,0,0,0,0,0,0,0,0,0,0,0,0,0,0,0,0,0,0,0,0,0,0,0,0,0,0,0,0,0,0,0,0,0,0,0,0,0,0,0,0,0,0,0,0,0,0,0,0,0,0,0,0,0,0,0,0,0,0,0,0,0,0,0,0,0,0,0,0,0,0,0,0,0,0,0,0,0,0,0,0,0,0,0,0,0,0,0,0,0,0,0,0,0,0,0,0,0,0,0,0,0,0,0,0,0,0,0,0,0,0,0,0,0,0,0,0,0,0,0,0,0,0,0,0,0,0,0,0,0,0,0,0,0,0,0,0,0,0,0,0,0,0,0,0,0,0,0,0,0,0,0,0,0,0,0,0,0,0,0,0,0,0,0,0,0,0,0,0,0,0,0,0,0,0,0,0,0,0,0,0,0,0,0,0,0,0,0,0,0,0,0,0,0,0,0,0,0,0,0,0,0,0,0,0,1015.526,1541.8150000000001,1414.953,2251.489,2887.056,2276.61,2708.6950000000002,2686.7139999999999,2229.5079999999998,1843.269,1496.597,832.76800000000003,0,0,0,0,0,0,0,0,0,0,0,0,799,1411,1926,0,0,0,0,0,0,0,0]
[15,30142.000000000004,57912,"Grand Ridge Solar Farm","PV","IL",null,null,0,0,0,0,0,0,0,0,0,0,0,0,0,0,0,0,0,0,0,0,0,0,0,0,0,0,0,0,0,0,0,0,0,0,0,0,0,0,0,0,0,0,0,0,0,0,0,0,0,0,0,0,0,0,0,0,0,0,0,0,0,0,0,0,0,0,0,0,0,0,0,0,0,0,0,0,0,0,0,0,0,0,0,0,0,0,0,0,0,0,0,0,0,0,0,0,0,0,0,0,0,0,0,0,0,0,0,0,0,0,0,0,0,0,0,0,0,0,0,0,0,0,0,0,0,0,0,0,0,0,0,0,0,0,0,0,0,0,0,0,0,0,0,0,0,0,0,0,0,0,0,0,0,0,0,0,0,0,0,0,0,0,0,0,0,0,0,0,0,0,0,0,0,0,0,0,0,0,0,0,0,0,0,0,0,0,0,0,0,0,0,0,0,0,0,0,0,0,0,0,0,0,0,0,0,0,0,0,0,0,0,0,0,0,0,0,0,0,0,0,0,0,0,0,0,0,0,0,0,0,0,0,0,0,0,0,0,0,0,0,0,0,0,0,0,0,0,0,0,0,0,0,0,0,0,0,0,0,0,0,0,0,0,0,0,0,0,0,0,0,0,0,0,0,0,0,0,0,0,0,0,0,0,0,0,0,0,0,0,0,0,0,0,0,0,0,0,0,0,0,0,0,0,0,0,0,0,0,0,0,0,0,0,0,0,0,0,0,0,0,0,0,0,0,0,0,0,0,0,0,0,0,0,0,0,0,0,0,0,0,0,0,0,0,0,0,0,0,0,0,0,0,0,0,0,0,0,0,0,0,0,0,0,0,0,0,0,0,0,0,0,0,0,0,0,0,0,0,0,0,0,0,0,0,0,0,0,0,0,0,0,0,0,0,0,0,0,0,0,0,0,0,0,0,0,0,0,0,0,0,0,0,0,0,0,0,0,0,0,0,0,0,0,0,0,0,0,0,0,0,0,0,0,0,0,0,0,0,0,0,0,0,0,0,0,0,0,0,0,0,0,0,0,0,0,0,0,0,0,0,0,0,0,0,0,0,0,0,0,0,0,0,0,0,0,0,0,0,0,0,0,0,0,0,0,0,0,0,0,0,0,0,0,0,0,0,0,0,0,0,0,0,0,0,0,0,0,0,0,0,0,0,0,0,0,0,0,0,0,0,0,0,0,0,0,0,0,0,0,0,0,0,0,0,0,0,0,0,0,0,1431.0920000000001,1839.2449999999999,2625.4879999999998,2988.6039999999998,3000.0230000000001,3107.973,3147.4740000000002,3208.1819999999998,2654.8820000000001,2266.5129999999999,2076.7510000000002,1795.7729999999999,0,0,0,0,0,0,0,0,0,0,0,0,1038,2332,2634,0,0,0,0,0,0,0,0]
[15,1651.3199999999997,58012,"IKEA Tampa 042","PV","FL",null,null,0,0,0,0,0,0,0,0,0,0,0,0,0,0,0,0,0,0,0,0,0,0,0,0,0,0,0,0,0,0,0,0,0,0,0,0,0,0,0,0,0,0,0,0,0,0,0,0,0,0,0,0,0,0,0,0,0,0,0,0,0,0,0,0,0,0,0,0,0,0,0,0,0,0,0,0,0,0,0,0,0,0,0,0,0,0,0,0,0,0,0,0,0,0,0,0,0,0,0,0,0,0,0,0,0,0,0,0,0,0,0,0,0,0,0,0,0,0,0,0,0,0,0,0,0,0,0,0,0,0,0,0,0,0,0,0,0,0,0,0,0,0,0,0,0,0,0,0,0,0,0,0,0,0,0,0,0,0,0,0,0,0,0,0,0,0,0,0,0,0,0,0,0,0,0,0,0,0,0,0,0,0,0,0,0,0,0,0,0,0,0,0,0,0,0,0,0,0,0,0,0,0,0,0,0,0,0,0,0,0,0,0,0,0,0,0,0,0,0,0,0,0,0,0,0,0,0,0,0,0,0,0,0,0,0,0,0,0,0,0,0,0,0,0,0,0,0,0,0,0,0,0,0,0,0,0,0,0,0,0,0,0,0,0,0,0,0,0,0,0,0,0,0,0,0,0,0,0,0,0,0,0,0,0,0,0,0,0,0,0,0,0,0,0,0,0,0,0,0,0,0,0,0,0,0,0,0,0,0,0,0,0,0,0,0,0,0,0,0,0,0,0,0,0,0,0,0,0,0,0,0,0,0,0,0,0,0,0,0,0,0,0,0,0,0,0,0,0,0,0,0,0,0,0,0,0,0,0,0,0,0,0,0,0,0,0,0,0,0,0,0,0,0,0,0,0,0,0,0,0,0,0,0,0,0,0,0,0,0,0,0,0,0,0,0,0,0,0,0,0,0,0,0,0,0,0,0,0,0,0,0,0,0,0,0,0,0,0,0,0,0,0,0,0,0,0,0,0,0,0,0,0,0,0,0,0,0,0,0,0,0,0,0,0,0,0,0,0,0,0,0,0,0,0,0,0,0,0,0,0,0,0,0,0,0,0,0,0,0,0,0,0,0,0,0,0,0,0,0,0,0,0,0,0,0,0,0,0,0,0,0,0,0,0,0,0,0,0,0,0,0,0,0,0,0,0,0,0,0,0,0,0,0,0,0,0,0,0,0,0,0,0,0,0,0,0,0,0,0,0,0,0,0,0,0,0,0,0,0,0,87.551000000000002,51.017000000000003,142.61799999999999,154.91900000000001,219.489,211.864,224.72499999999999,196.148,120.72799999999999,108.38800000000001,78.408000000000001,55.465000000000003,0,0,0,0,0,0,0,0,0,0,0,0,123,138,181,0,0,0,0,0,0,0,0]
[15,2011.68,58013,"IKEA Round Rock 027","PV","TX",null,null,0,0,0,0,0,0,0,0,0,0,0,0,0,0,0,0,0,0,0,0,0,0,0,0,0,0,0,0,0,0,0,0,0,0,0,0,0,0,0,0,0,0,0,0,0,0,0,0,0,0,0,0,0,0,0,0,0,0,0,0,0,0,0,0,0,0,0,0,0,0,0,0,0,0,0,0,0,0,0,0,0,0,0,0,0,0,0,0,0,0,0,0,0,0,0,0,0,0,0,0,0,0,0,0,0,0,0,0,0,0,0,0,0,0,0,0,0,0,0,0,0,0,0,0,0,0,0,0,0,0,0,0,0,0,0,0,0,0,0,0,0,0,0,0,0,0,0,0,0,0,0,0,0,0,0,0,0,0,0,0,0,0,0,0,0,0,0,0,0,0,0,0,0,0,0,0,0,0,0,0,0,0,0,0,0,0,0,0,0,0,0,0,0,0,0,0,0,0,0,0,0,0,0,0,0,0,0,0,0,0,0,0,0,0,0,0,0,0,0,0,0,0,0,0,0,0,0,0,0,0,0,0,0,0,0,0,0,0,0,0,0,0,0,0,0,0,0,0,0,0,0,0,0,0,0,0,0,0,0,0,0,0,0,0,0,0,0,0,0,0,0,0,0,0,0,0,0,0,0,0,0,0,0,0,0,0,0,0,0,0,0,0,0,0,0,0,0,0,0,0,0,0,0,0,0,0,0,0,0,0,0,0,0,0,0,0,0,0,0,0,0,0,0,0,0,0,0,0,0,0,0,0,0,0,0,0,0,0,0,0,0,0,0,0,0,0,0,0,0,0,0,0,0,0,0,0,0,0,0,0,0,0,0,0,0,0,0,0,0,0,0,0,0,0,0,0,0,0,0,0,0,0,0,0,0,0,0,0,0,0,0,0,0,0,0,0,0,0,0,0,0,0,0,0,0,0,0,0,0,0,0,0,0,0,0,0,0,0,0,0,0,0,0,0,0,0,0,0,0,0,0,0,0,0,0,0,0,0,0,0,0,0,0,0,0,0,0,0,0,0,0,0,0,0,0,0,0,0,0,0,0,0,0,0,0,0,0,0,0,0,0,0,0,0,0,0,0,0,0,0,0,0,0,0,0,0,0,0,0,0,0,0,0,0,0,0,0,0,0,0,0,0,0,0,0,0,0,0,0,0,0,0,0,0,0,0,0,0,0,0,0,0,0,0,0,0,0,0,0,0,0,0,0,0,0,0,0,0,0,0,98.891999999999996,99.709000000000003,127.669,133.05699999999999,131.792,204.61500000000001,234.054,248.82300000000001,213.05099999999999,182.62700000000001,111.746,225.64500000000001,0,0,0,0,0,0,0,0,0,0,0,0,131,129,175,0,0,0,0,0,0,0,0]
[13,61489,59009,"Hayworth Solar","PV","CA",null,null,0,0,0,0,0,0,0,0,0,0,0,0,0,0,0,0,0,0,0,0,0,0,0,0,0,0,0,0,0,0,0,0,0,0,0,0,0,0,0,0,0,0,0,0,0,0,0,0,0,0,0,0,0,0,0,0,0,0,0,0,0,0,0,0,0,0,0,0,0,0,0,0,0,0,0,0,0,0,0,0,0,0,0,0,0,0,0,0,0,0,0,0,0,0,0,0,0,0,0,0,0,0,0,0,0,0,0,0,0,0,0,0,0,0,0,0,0,0,0,0,0,0,0,0,0,0,0,0,0,0,0,0,0,0,0,0,0,0,0,0,0,0,0,0,0,0,0,0,0,0,0,0,0,0,0,0,0,0,0,0,0,0,0,0,0,0,0,0,0,0,0,0,0,0,0,0,0,0,0,0,0,0,0,0,0,0,0,0,0,0,0,0,0,0,0,0,0,0,0,0,0,0,0,0,0,0,0,0,0,0,0,0,0,0,0,0,0,0,0,0,0,0,0,0,0,0,0,0,0,0,0,0,0,0,0,0,0,0,0,0,0,0,0,0,0,0,0,0,0,0,0,0,0,0,0,0,0,0,0,0,0,0,0,0,0,0,0,0,0,0,0,0,0,0,0,0,0,0,0,0,0,0,0,0,0,0,0,0,0,0,0,0,0,0,0,0,0,0,0,0,0,0,0,0,0,0,0,0,0,0,0,0,0,0,0,0,0,0,0,0,0,0,0,0,0,0,0,0,0,0,0,0,0,0,0,0,0,0,0,0,0,0,0,0,0,0,0,0,0,0,0,0,0,0,0,0,0,0,0,0,0,0,0,0,0,0,0,0,0,0,0,0,0,0,0,0,0,0,0,0,0,0,0,0,0,0,0,0,0,0,0,0,0,0,0,0,0,0,0,0,0,0,0,0,0,0,0,0,0,0,0,0,0,0,0,0,0,0,0,0,0,0,0,0,0,0,0,0,0,0,0,0,0,0,0,0,0,0,0,0,0,0,0,0,0,0,0,0,0,0,0,0,0,0,0,0,0,0,0,0,0,0,0,0,0,0,0,0,0,0,0,0,0,0,0,0,0,0,0,0,0,0,0,0,0,0,0,0,0,0,0,0,0,0,0,0,0,0,0,0,0,0,0,0,0,0,0,0,0,0,0,0,0,0,0,0,0,0,0,0,0,0,0,0,0,0,0,0,0,0,0,0,0,0,0,0,0,0,0,0,0,0,0,0,0,0,0,0,0,0,0,2265,2125,3408,3643,4647,6666,8056,8567,7337,6001,4317,2654,1803,0,0,0,0,0,0,0,0,0,0,0]
[13,86330,59778,"Eden Solar LLC","PV","NC",null,null,0,0,0,0,0,0,0,0,0,0,0,0,0,0,0,0,0,0,0,0,0,0,0,0,0,0,0,0,0,0,0,0,0,0,0,0,0,0,0,0,0,0,0,0,0,0,0,0,0,0,0,0,0,0,0,0,0,0,0,0,0,0,0,0,0,0,0,0,0,0,0,0,0,0,0,0,0,0,0,0,0,0,0,0,0,0,0,0,0,0,0,0,0,0,0,0,0,0,0,0,0,0,0,0,0,0,0,0,0,0,0,0,0,0,0,0,0,0,0,0,0,0,0,0,0,0,0,0,0,0,0,0,0,0,0,0,0,0,0,0,0,0,0,0,0,0,0,0,0,0,0,0,0,0,0,0,0,0,0,0,0,0,0,0,0,0,0,0,0,0,0,0,0,0,0,0,0,0,0,0,0,0,0,0,0,0,0,0,0,0,0,0,0,0,0,0,0,0,0,0,0,0,0,0,0,0,0,0,0,0,0,0,0,0,0,0,0,0,0,0,0,0,0,0,0,0,0,0,0,0,0,0,0,0,0,0,0,0,0,0,0,0,0,0,0,0,0,0,0,0,0,0,0,0,0,0,0,0,0,0,0,0,0,0,0,0,0,0,0,0,0,0,0,0,0,0,0,0,0,0,0,0,0,0,0,0,0,0,0,0,0,0,0,0,0,0,0,0,0,0,0,0,0,0,0,0,0,0,0,0,0,0,0,0,0,0,0,0,0,0,0,0,0,0,0,0,0,0,0,0,0,0,0,0,0,0,0,0,0,0,0,0,0,0,0,0,0,0,0,0,0,0,0,0,0,0,0,0,0,0,0,0,0,0,0,0,0,0,0,0,0,0,0,0,0,0,0,0,0,0,0,0,0,0,0,0,0,0,0,0,0,0,0,0,0,0,0,0,0,0,0,0,0,0,0,0,0,0,0,0,0,0,0,0,0,0,0,0,0,0,0,0,0,0,0,0,0,0,0,0,0,0,0,0,0,0,0,0,0,0,0,0,0,0,0,0,0,0,0,0,0,0,0,0,0,0,0,0,0,0,0,0,0,0,0,0,0,0,0,0,0,0,0,0,0,0,0,0,0,0,0,0,0,0,0,0,0,0,0,0,0,0,0,0,0,0,0,0,0,0,0,0,0,0,0,0,0,0,0,0,0,0,0,0,0,0,0,0,0,0,0,0,0,0,0,0,0,0,0,0,0,0,0,0,0,0,0,0,0,0,0,0,0,0,0,0,0,0,0,0,0,2273,5666,5989,8194,5616,6995,9241,9243,8291,6001,7533,6586,4702,0,0,0,0,0,0,0,0,0,0,0]
[12,3249.9999999999991,56915,"SAS Solar Farm","PV","NC",null,null,0,0,0,0,0,0,0,0,0,0,0,0,0,0,0,0,0,0,0,0,0,0,0,0,0,0,0,0,0,0,0,0,0,0,0,0,0,0,0,0,0,0,0,0,0,0,0,0,0,0,0,0,0,0,0,0,0,0,0,0,0,0,0,0,0,0,0,0,0,0,0,0,0,0,0,0,0,0,0,0,0,0,0,0,0,0,0,0,0,0,0,0,0,0,0,0,0,0,0,0,0,0,0,0,0,0,0,0,0,0,0,0,0,0,0,0,0,0,0,0,0,0,0,0,0,0,0,0,0,0,0,0,0,0,0,0,0,0,0,0,0,0,0,0,0,0,0,0,0,0,0,0,0,0,0,0,0,0,0,0,0,0,0,0,0,0,0,0,0,0,0,0,0,0,0,0,0,0,0,0,0,0,0,0,0,0,0,0,0,0,0,0,0,0,0,0,0,0,0,0,0,0,0,0,0,0,0,0,0,0,0,0,0,0,0,0,0,0,0,0,0,0,0,0,0,0,0,0,0,0,0,0,0,0,0,0,0,0,0,0,0,0,0,0,0,0,0,0,0,0,0,0,0,0,0,0,0,0,0,0,0,0,0,0,0,0,0,0,0,0,0,0,0,0,0,0,0,0,0,0,0,0,0,0,0,0,0,0,0,0,0,0,0,0,0,0,0,0,0,0,0,0,0,0,0,0,0,0,0,0,0,0,0,0,0,0,0,0,0,0,0,0,0,0,0,0,0,0,0,0,0,0,0,0,0,0,0,0,0,0,0,0,0,0,0,0,0,0,0,0,0,0,0,0,0,0,0,0,0,0,0,0,0,0,0,0,0,0,0,0,0,0,0,0,0,0,0,0,0,0,0,0,0,0,0,0,0,0,0,0,0,0,0,0,0,0,0,0,0,0,0,0,0,0,0,0,0,0,0,0,0,0,0,0,0,0,0,0,0,0,0,0,0,0,0,0,0,0,0,0,0,0,0,0,0,0,0,0,0,0,0,0,0,0,0,0,0,0,0,0,0,0,0,0,0,0,0,0,0,0,0,0,0,0,0,0,0,0,0,0,0,0,0,0,0,0,0,0,0,0,0,0,0,0,0,0,0,0,0,0,0,0,0,0,0,0,0,0,0,0,0,0,0,0,0,0,0,0,0,0,0,0,0,0,0,0,0,0,0,0,0,0,0,0,0,0,0,0,0,0,0,0,0,0,0,0,0,0,0,0,170.732,140.017,254.898,289.72899999999998,400.31900000000002,373.14400000000001,399.79199999999997,356.43700000000001,243.584,218.83600000000001,161.07300000000001,241.43899999999999,0,0,0,0,0,0,0,0,0,0,0,0,0,0,0,0,0,0,0,0,0,0,0]
[12,3964.0000000000005,57222,"Solar Photovoltaic Project #08","PV","CA",null,null,0,0,0,0,0,0,0,0,0,0,0,0,0,0,0,0,0,0,0,0,0,0,0,0,0,0,0,0,0,0,0,0,0,0,0,0,0,0,0,0,0,0,0,0,0,0,0,0,0,0,0,0,0,0,0,0,0,0,0,0,0,0,0,0,0,0,0,0,0,0,0,0,0,0,0,0,0,0,0,0,0,0,0,0,0,0,0,0,0,0,0,0,0,0,0,0,0,0,0,0,0,0,0,0,0,0,0,0,0,0,0,0,0,0,0,0,0,0,0,0,0,0,0,0,0,0,0,0,0,0,0,0,0,0,0,0,0,0,0,0,0,0,0,0,0,0,0,0,0,0,0,0,0,0,0,0,0,0,0,0,0,0,0,0,0,0,0,0,0,0,0,0,0,0,0,0,0,0,0,0,0,0,0,0,0,0,0,0,0,0,0,0,0,0,0,0,0,0,0,0,0,0,0,0,0,0,0,0,0,0,0,0,0,0,0,0,0,0,0,0,0,0,0,0,0,0,0,0,0,0,0,0,0,0,0,0,0,0,0,0,0,0,0,0,0,0,0,0,0,0,0,0,0,0,0,0,0,0,0,0,0,0,0,0,0,0,0,0,0,0,0,0,0,0,0,0,0,0,0,0,0,0,0,0,0,0,0,0,0,0,0,0,0,0,0,0,0,0,0,0,0,0,0,0,0,0,0,0,0,0,0,0,0,0,0,0,0,0,0,0,0,0,0,0,0,0,0,0,0,0,0,0,0,0,0,0,0,0,0,0,0,0,0,0,0,0,0,0,0,0,0,0,0,0,0,0,0,0,0,0,0,0,0,0,0,0,0,0,0,0,0,0,0,0,0,0,0,0,0,0,0,0,0,0,0,0,0,0,0,0,0,0,0,0,0,0,0,0,0,0,0,0,0,0,0,0,0,0,0,0,0,0,0,0,0,0,0,0,0,0,0,0,0,0,0,0,0,0,0,0,0,0,0,0,0,0,0,0,0,0,0,0,0,0,0,0,0,0,0,0,0,0,0,0,0,0,0,0,0,0,0,0,0,0,0,0,0,0,0,0,0,0,0,0,0,0,0,0,0,0,0,0,0,0,0,0,0,0,0,0,0,0,0,0,0,0,0,0,0,0,0,0,0,0,0,0,0,0,0,0,0,0,0,0,0,0,0,0,0,0,0,0,0,0,0,0,0,0,0,0,0,0,0,0,0,0,0,0,0,0,189.292,238.57,349.61099999999999,392.387,394.41,406.37400000000002,420.57600000000002,425.68599999999998,351.30900000000003,295.95,274.16000000000003,225.67500000000001,0,0,0,0,0,0,0,0,0,0,0,0,0,0,0,0,0,0,0,0,0,0,0]
[12,18180.000000000004,57305,"Adelanto Solar Project","PV","CA",null,null,0,0,0,0,0,0,0,0,0,0,0,0,0,0,0,0,0,0,0,0,0,0,0,0,0,0,0,0,0,0,0,0,0,0,0,0,0,0,0,0,0,0,0,0,0,0,0,0,0,0,0,0,0,0,0,0,0,0,0,0,0,0,0,0,0,0,0,0,0,0,0,0,0,0,0,0,0,0,0,0,0,0,0,0,0,0,0,0,0,0,0,0,0,0,0,0,0,0,0,0,0,0,0,0,0,0,0,0,0,0,0,0,0,0,0,0,0,0,0,0,0,0,0,0,0,0,0,0,0,0,0,0,0,0,0,0,0,0,0,0,0,0,0,0,0,0,0,0,0,0,0,0,0,0,0,0,0,0,0,0,0,0,0,0,0,0,0,0,0,0,0,0,0,0,0,0,0,0,0,0,0,0,0,0,0,0,0,0,0,0,0,0,0,0,0,0,0,0,0,0,0,0,0,0,0,0,0,0,0,0,0,0,0,0,0,0,0,0,0,0,0,0,0,0,0,0,0,0,0,0,0,0,0,0,0,0,0,0,0,0,0,0,0,0,0,0,0,0,0,0,0,0,0,0,0,0,0,0,0,0,0,0,0,0,0,0,0,0,0,0,0,0,0,0,0,0,0,0,0,0,0,0,0,0,0,0,0,0,0,0,0,0,0,0,0,0,0,0,0,0,0,0,0,0,0,0,0,0,0,0,0,0,0,0,0,0,0,0,0,0,0,0,0,0,0,0,0,0,0,0,0,0,0,0,0,0,0,0,0,0,0,0,0,0,0,0,0,0,0,0,0,0,0,0,0,0,0,0,0,0,0,0,0,0,0,0,0,0,0,0,0,0,0,0,0,0,0,0,0,0,0,0,0,0,0,0,0,0,0,0,0,0,0,0,0,0,0,0,0,0,0,0,0,0,0,0,0,0,0,0,0,0,0,0,0,0,0,0,0,0,0,0,0,0,0,0,0,0,0,0,0,0,0,0,0,0,0,0,0,0,0,0,0,0,0,0,0,0,0,0,0,0,0,0,0,0,0,0,0,0,0,0,0,0,0,0,0,0,0,0,0,0,0,0,0,0,0,0,0,0,0,0,0,0,0,0,0,0,0,0,0,0,0,0,0,0,0,0,0,0,0,0,0,0,0,0,0,0,0,0,0,0,0,0,0,0,0,0,0,0,0,0,0,0,0,0,0,0,0,0,0,0,0,0,0,0,0,0,0,0,868.14800000000002,1094.146,1603.415,1799.596,1808.8710000000001,1863.742,1928.876,1952.3150000000001,1611.2,1357.31,1257.373,1035.008,0,0,0,0,0,0,0,0,0,0,0,0,0,0,0,0,0,0,0,0,0,0,0]
[12,2437.9999999999995,57362,"Morgantown Solar Park","PV","PA",null,null,0,0,0,0,0,0,0,0,0,0,0,0,0,0,0,0,0,0,0,0,0,0,0,0,0,0,0,0,0,0,0,0,0,0,0,0,0,0,0,0,0,0,0,0,0,0,0,0,0,0,0,0,0,0,0,0,0,0,0,0,0,0,0,0,0,0,0,0,0,0,0,0,0,0,0,0,0,0,0,0,0,0,0,0,0,0,0,0,0,0,0,0,0,0,0,0,0,0,0,0,0,0,0,0,0,0,0,0,0,0,0,0,0,0,0,0,0,0,0,0,0,0,0,0,0,0,0,0,0,0,0,0,0,0,0,0,0,0,0,0,0,0,0,0,0,0,0,0,0,0,0,0,0,0,0,0,0,0,0,0,0,0,0,0,0,0,0,0,0,0,0,0,0,0,0,0,0,0,0,0,0,0,0,0,0,0,0,0,0,0,0,0,0,0,0,0,0,0,0,0,0,0,0,0,0,0,0,0,0,0,0,0,0,0,0,0,0,0,0,0,0,0,0,0,0,0,0,0,0,0,0,0,0,0,0,0,0,0,0,0,0,0,0,0,0,0,0,0,0,0,0,0,0,0,0,0,0,0,0,0,0,0,0,0,0,0,0,0,0,0,0,0,0,0,0,0,0,0,0,0,0,0,0,0,0,0,0,0,0,0,0,0,0,0,0,0,0,0,0,0,0,0,0,0,0,0,0,0,0,0,0,0,0,0,0,0,0,0,0,0,0,0,0,0,0,0,0,0,0,0,0,0,0,0,0,0,0,0,0,0,0,0,0,0,0,0,0,0,0,0,0,0,0,0,0,0,0,0,0,0,0,0,0,0,0,0,0,0,0,0,0,0,0,0,0,0,0,0,0,0,0,0,0,0,0,0,0,0,0,0,0,0,0,0,0,0,0,0,0,0,0,0,0,0,0,0,0,0,0,0,0,0,0,0,0,0,0,0,0,0,0,0,0,0,0,0,0,0,0,0,0,0,0,0,0,0,0,0,0,0,0,0,0,0,0,0,0,0,0,0,0,0,0,0,0,0,0,0,0,0,0,0,0,0,0,0,0,0,0,0,0,0,0,0,0,0,0,0,0,0,0,0,0,0,0,0,0,0,0,0,0,0,0,0,0,0,0,0,0,0,0,0,0,0,0,0,0,0,0,0,0,0,0,0,0,0,0,0,0,0,0,0,0,0,0,0,0,0,0,0,0,0,0,0,0,0,0,0,0,0,133.47,148.14699999999999,189.74700000000001,244.23599999999999,280.01100000000002,231.577,258.86700000000002,281.43299999999999,235.154,205.43299999999999,147.642,82.283000000000001,0,0,0,0,0,0,0,0,0,0,0,0,0,0,0,0,0,0,0,0,0,0,0]
[12,2037,57422,"Yolo County Solar Project","PV","CA",null,null,0,0,0,0,0,0,0,0,0,0,0,0,0,0,0,0,0,0,0,0,0,0,0,0,0,0,0,0,0,0,0,0,0,0,0,0,0,0,0,0,0,0,0,0,0,0,0,0,0,0,0,0,0,0,0,0,0,0,0,0,0,0,0,0,0,0,0,0,0,0,0,0,0,0,0,0,0,0,0,0,0,0,0,0,0,0,0,0,0,0,0,0,0,0,0,0,0,0,0,0,0,0,0,0,0,0,0,0,0,0,0,0,0,0,0,0,0,0,0,0,0,0,0,0,0,0,0,0,0,0,0,0,0,0,0,0,0,0,0,0,0,0,0,0,0,0,0,0,0,0,0,0,0,0,0,0,0,0,0,0,0,0,0,0,0,0,0,0,0,0,0,0,0,0,0,0,0,0,0,0,0,0,0,0,0,0,0,0,0,0,0,0,0,0,0,0,0,0,0,0,0,0,0,0,0,0,0,0,0,0,0,0,0,0,0,0,0,0,0,0,0,0,0,0,0,0,0,0,0,0,0,0,0,0,0,0,0,0,0,0,0,0,0,0,0,0,0,0,0,0,0,0,0,0,0,0,0,0,0,0,0,0,0,0,0,0,0,0,0,0,0,0,0,0,0,0,0,0,0,0,0,0,0,0,0,0,0,0,0,0,0,0,0,0,0,0,0,0,0,0,0,0,0,0,0,0,0,0,0,0,0,0,0,0,0,0,0,0,0,0,0,0,0,0,0,0,0,0,0,0,0,0,0,0,0,0,0,0,0,0,0,0,0,0,0,0,0,0,0,0,0,0,0,0,0,0,0,0,0,0,0,0,0,0,0,0,0,0,0,0,0,0,0,0,0,0,0,0,0,0,0,0,0,0,0,0,0,0,0,0,0,0,0,0,0,0,0,0,0,0,0,0,0,0,0,0,0,0,0,0,0,0,0,0,0,0,0,0,0,0,0,0,0,0,0,0,0,0,0,0,0,0,0,0,0,0,0,0,0,0,0,0,0,0,0,0,0,0,0,0,0,0,0,0,0,0,0,0,0,0,0,0,0,0,0,0,0,0,0,0,0,0,0,0,0,0,0,0,0,0,0,0,0,0,0,0,0,0,0,0,0,0,0,0,0,0,0,0,0,0,0,0,0,0,0,0,0,0,0,0,0,0,0,0,0,0,0,0,0,0,0,0,0,0,0,0,0,0,0,0,0,0,0,0,0,0,0,0,0,0,97.272999999999996,122.595,179.65700000000001,201.63800000000001,202.67699999999999,208.82499999999999,216.12299999999999,218.749,180.529,152.08099999999999,140.88399999999999,115.96899999999999,0,0,0,0,0,0,0,0,0,0,0,0,0,0,0,0,0,0,0,0,0,0,0]
[12,11205,57554,"AFA Solar Farm","PV","CO",null,null,0,0,0,0,0,0,0,0,0,0,0,0,0,0,0,0,0,0,0,0,0,0,0,0,0,0,0,0,0,0,0,0,0,0,0,0,0,0,0,0,0,0,0,0,0,0,0,0,0,0,0,0,0,0,0,0,0,0,0,0,0,0,0,0,0,0,0,0,0,0,0,0,0,0,0,0,0,0,0,0,0,0,0,0,0,0,0,0,0,0,0,0,0,0,0,0,0,0,0,0,0,0,0,0,0,0,0,0,0,0,0,0,0,0,0,0,0,0,0,0,0,0,0,0,0,0,0,0,0,0,0,0,0,0,0,0,0,0,0,0,0,0,0,0,0,0,0,0,0,0,0,0,0,0,0,0,0,0,0,0,0,0,0,0,0,0,0,0,0,0,0,0,0,0,0,0,0,0,0,0,0,0,0,0,0,0,0,0,0,0,0,0,0,0,0,0,0,0,0,0,0,0,0,0,0,0,0,0,0,0,0,0,0,0,0,0,0,0,0,0,0,0,0,0,0,0,0,0,0,0,0,0,0,0,0,0,0,0,0,0,0,0,0,0,0,0,0,0,0,0,0,0,0,0,0,0,0,0,0,0,0,0,0,0,0,0,0,0,0,0,0,0,0,0,0,0,0,0,0,0,0,0,0,0,0,0,0,0,0,0,0,0,0,0,0,0,0,0,0,0,0,0,0,0,0,0,0,0,0,0,0,0,0,0,0,0,0,0,0,0,0,0,0,0,0,0,0,0,0,0,0,0,0,0,0,0,0,0,0,0,0,0,0,0,0,0,0,0,0,0,0,0,0,0,0,0,0,0,0,0,0,0,0,0,0,0,0,0,0,0,0,0,0,0,0,0,0,0,0,0,0,0,0,0,0,0,0,0,0,0,0,0,0,0,0,0,0,0,0,0,0,0,0,0,0,0,0,0,0,0,0,0,0,0,0,0,0,0,0,0,0,0,0,0,0,0,0,0,0,0,0,0,0,0,0,0,0,0,0,0,0,0,0,0,0,0,0,0,0,0,0,0,0,0,0,0,0,0,0,0,0,0,0,0,0,0,0,0,0,0,0,0,0,0,0,0,0,0,0,0,0,0,0,0,0,0,0,0,0,0,0,0,0,0,0,0,0,0,0,0,0,0,0,0,0,0,0,0,0,0,0,0,0,0,0,0,0,0,0,0,0,0,0,0,0,0,0,0,0,0,0,0,0,0,0,0,0,0,0,0,539.03399999999999,768.78300000000002,1087.654,1071.2439999999999,992.52099999999996,1148.26,923.22299999999996,1067.425,991.79,788.28099999999995,785.68200000000002,1041.1030000000001,0,0,0,0,0,0,0,0,0,0,0,0,0,0,0,0,0,0,0,0,0,0,0]
[12,42004,57563,"Hyder Solar","PV","AZ",null,null,0,0,0,0,0,0,0,0,0,0,0,0,0,0,0,0,0,0,0,0,0,0,0,0,0,0,0,0,0,0,0,0,0,0,0,0,0,0,0,0,0,0,0,0,0,0,0,0,0,0,0,0,0,0,0,0,0,0,0,0,0,0,0,0,0,0,0,0,0,0,0,0,0,0,0,0,0,0,0,0,0,0,0,0,0,0,0,0,0,0,0,0,0,0,0,0,0,0,0,0,0,0,0,0,0,0,0,0,0,0,0,0,0,0,0,0,0,0,0,0,0,0,0,0,0,0,0,0,0,0,0,0,0,0,0,0,0,0,0,0,0,0,0,0,0,0,0,0,0,0,0,0,0,0,0,0,0,0,0,0,0,0,0,0,0,0,0,0,0,0,0,0,0,0,0,0,0,0,0,0,0,0,0,0,0,0,0,0,0,0,0,0,0,0,0,0,0,0,0,0,0,0,0,0,0,0,0,0,0,0,0,0,0,0,0,0,0,0,0,0,0,0,0,0,0,0,0,0,0,0,0,0,0,0,0,0,0,0,0,0,0,0,0,0,0,0,0,0,0,0,0,0,0,0,0,0,0,0,0,0,0,0,0,0,0,0,0,0,0,0,0,0,0,0,0,0,0,0,0,0,0,0,0,0,0,0,0,0,0,0,0,0,0,0,0,0,0,0,0,0,0,0,0,0,0,0,0,0,0,0,0,0,0,0,0,0,0,0,0,0,0,0,0,0,0,0,0,0,0,0,0,0,0,0,0,0,0,0,0,0,0,0,0,0,0,0,0,0,0,0,0,0,0,0,0,0,0,0,0,0,0,0,0,0,0,0,0,0,0,0,0,0,0,0,0,0,0,0,0,0,0,0,0,0,0,0,0,0,0,0,0,0,0,0,0,0,0,0,0,0,0,0,0,0,0,0,0,0,0,0,0,0,0,0,0,0,0,0,0,0,0,0,0,0,0,0,0,0,0,0,0,0,0,0,0,0,0,0,0,0,0,0,0,0,0,0,0,0,0,0,0,0,0,0,0,0,0,0,0,0,0,0,0,0,0,0,0,0,0,0,0,0,0,0,0,0,0,0,0,0,0,0,0,0,0,0,0,0,0,0,0,0,0,0,0,0,0,0,0,0,0,0,0,0,0,0,0,0,0,0,0,0,0,0,0,0,0,0,0,0,0,0,0,0,0,0,0,0,0,0,0,0,0,0,0,0,0,0,0,0,1843.3340000000001,2595.098,3517.1320000000001,4305.7619999999997,4344.4359999999997,4419.47,4238.3,4541.4089999999997,3622.471,3214.82,2912.14,2449.6280000000002,0,0,0,0,0,0,0,0,0,0,0,0,0,0,0,0,0,0,0,0,0,0,0]
[12,1736,57683,"Staples La Mirada, CA","PV","CA",null,null,0,0,0,0,0,0,0,0,0,0,0,0,0,0,0,0,0,0,0,0,0,0,0,0,0,0,0,0,0,0,0,0,0,0,0,0,0,0,0,0,0,0,0,0,0,0,0,0,0,0,0,0,0,0,0,0,0,0,0,0,0,0,0,0,0,0,0,0,0,0,0,0,0,0,0,0,0,0,0,0,0,0,0,0,0,0,0,0,0,0,0,0,0,0,0,0,0,0,0,0,0,0,0,0,0,0,0,0,0,0,0,0,0,0,0,0,0,0,0,0,0,0,0,0,0,0,0,0,0,0,0,0,0,0,0,0,0,0,0,0,0,0,0,0,0,0,0,0,0,0,0,0,0,0,0,0,0,0,0,0,0,0,0,0,0,0,0,0,0,0,0,0,0,0,0,0,0,0,0,0,0,0,0,0,0,0,0,0,0,0,0,0,0,0,0,0,0,0,0,0,0,0,0,0,0,0,0,0,0,0,0,0,0,0,0,0,0,0,0,0,0,0,0,0,0,0,0,0,0,0,0,0,0,0,0,0,0,0,0,0,0,0,0,0,0,0,0,0,0,0,0,0,0,0,0,0,0,0,0,0,0,0,0,0,0,0,0,0,0,0,0,0,0,0,0,0,0,0,0,0,0,0,0,0,0,0,0,0,0,0,0,0,0,0,0,0,0,0,0,0,0,0,0,0,0,0,0,0,0,0,0,0,0,0,0,0,0,0,0,0,0,0,0,0,0,0,0,0,0,0,0,0,0,0,0,0,0,0,0,0,0,0,0,0,0,0,0,0,0,0,0,0,0,0,0,0,0,0,0,0,0,0,0,0,0,0,0,0,0,0,0,0,0,0,0,0,0,0,0,0,0,0,0,0,0,0,0,0,0,0,0,0,0,0,0,0,0,0,0,0,0,0,0,0,0,0,0,0,0,0,0,0,0,0,0,0,0,0,0,0,0,0,0,0,0,0,0,0,0,0,0,0,0,0,0,0,0,0,0,0,0,0,0,0,0,0,0,0,0,0,0,0,0,0,0,0,0,0,0,0,0,0,0,0,0,0,0,0,0,0,0,0,0,0,0,0,0,0,0,0,0,0,0,0,0,0,0,0,0,0,0,0,0,0,0,0,0,0,0,0,0,0,0,0,0,0,0,0,0,0,0,0,0,0,0,0,0,0,0,0,0,0,0,0,0,0,0,0,0,0,0,0,0,0,0,0,0,0,0,0,82.897999999999996,104.48,153.10900000000001,171.84299999999999,172.72800000000001,177.96799999999999,184.18799999999999,186.42599999999999,153.85300000000001,129.60900000000001,120.066,98.831999999999994,0,0,0,0,0,0,0,0,0,0,0,0,0,0,0,0,0,0,0,0,0,0,0]
[12,3945,57698,"Aerojet II","PV","CA",null,null,0,0,0,0,0,0,0,0,0,0,0,0,0,0,0,0,0,0,0,0,0,0,0,0,0,0,0,0,0,0,0,0,0,0,0,0,0,0,0,0,0,0,0,0,0,0,0,0,0,0,0,0,0,0,0,0,0,0,0,0,0,0,0,0,0,0,0,0,0,0,0,0,0,0,0,0,0,0,0,0,0,0,0,0,0,0,0,0,0,0,0,0,0,0,0,0,0,0,0,0,0,0,0,0,0,0,0,0,0,0,0,0,0,0,0,0,0,0,0,0,0,0,0,0,0,0,0,0,0,0,0,0,0,0,0,0,0,0,0,0,0,0,0,0,0,0,0,0,0,0,0,0,0,0,0,0,0,0,0,0,0,0,0,0,0,0,0,0,0,0,0,0,0,0,0,0,0,0,0,0,0,0,0,0,0,0,0,0,0,0,0,0,0,0,0,0,0,0,0,0,0,0,0,0,0,0,0,0,0,0,0,0,0,0,0,0,0,0,0,0,0,0,0,0,0,0,0,0,0,0,0,0,0,0,0,0,0,0,0,0,0,0,0,0,0,0,0,0,0,0,0,0,0,0,0,0,0,0,0,0,0,0,0,0,0,0,0,0,0,0,0,0,0,0,0,0,0,0,0,0,0,0,0,0,0,0,0,0,0,0,0,0,0,0,0,0,0,0,0,0,0,0,0,0,0,0,0,0,0,0,0,0,0,0,0,0,0,0,0,0,0,0,0,0,0,0,0,0,0,0,0,0,0,0,0,0,0,0,0,0,0,0,0,0,0,0,0,0,0,0,0,0,0,0,0,0,0,0,0,0,0,0,0,0,0,0,0,0,0,0,0,0,0,0,0,0,0,0,0,0,0,0,0,0,0,0,0,0,0,0,0,0,0,0,0,0,0,0,0,0,0,0,0,0,0,0,0,0,0,0,0,0,0,0,0,0,0,0,0,0,0,0,0,0,0,0,0,0,0,0,0,0,0,0,0,0,0,0,0,0,0,0,0,0,0,0,0,0,0,0,0,0,0,0,0,0,0,0,0,0,0,0,0,0,0,0,0,0,0,0,0,0,0,0,0,0,0,0,0,0,0,0,0,0,0,0,0,0,0,0,0,0,0,0,0,0,0,0,0,0,0,0,0,0,0,0,0,0,0,0,0,0,0,0,0,0,0,0,0,0,0,0,0,0,0,0,0,0,0,0,0,0,0,0,0,0,0,0,0,0,188.38499999999999,237.42599999999999,347.93599999999998,390.50599999999997,392.51900000000001,404.42599999999999,418.56,423.64600000000002,349.625,294.53199999999998,272.846,224.59299999999999,0,0,0,0,0,0,0,0,0,0,0,0,0,0,0,0,0,0,0,0,0,0,0]
[12,2186.9999999999995,57773,"Palo Verde College","PV","CA",null,null,0,0,0,0,0,0,0,0,0,0,0,0,0,0,0,0,0,0,0,0,0,0,0,0,0,0,0,0,0,0,0,0,0,0,0,0,0,0,0,0,0,0,0,0,0,0,0,0,0,0,0,0,0,0,0,0,0,0,0,0,0,0,0,0,0,0,0,0,0,0,0,0,0,0,0,0,0,0,0,0,0,0,0,0,0,0,0,0,0,0,0,0,0,0,0,0,0,0,0,0,0,0,0,0,0,0,0,0,0,0,0,0,0,0,0,0,0,0,0,0,0,0,0,0,0,0,0,0,0,0,0,0,0,0,0,0,0,0,0,0,0,0,0,0,0,0,0,0,0,0,0,0,0,0,0,0,0,0,0,0,0,0,0,0,0,0,0,0,0,0,0,0,0,0,0,0,0,0,0,0,0,0,0,0,0,0,0,0,0,0,0,0,0,0,0,0,0,0,0,0,0,0,0,0,0,0,0,0,0,0,0,0,0,0,0,0,0,0,0,0,0,0,0,0,0,0,0,0,0,0,0,0,0,0,0,0,0,0,0,0,0,0,0,0,0,0,0,0,0,0,0,0,0,0,0,0,0,0,0,0,0,0,0,0,0,0,0,0,0,0,0,0,0,0,0,0,0,0,0,0,0,0,0,0,0,0,0,0,0,0,0,0,0,0,0,0,0,0,0,0,0,0,0,0,0,0,0,0,0,0,0,0,0,0,0,0,0,0,0,0,0,0,0,0,0,0,0,0,0,0,0,0,0,0,0,0,0,0,0,0,0,0,0,0,0,0,0,0,0,0,0,0,0,0,0,0,0,0,0,0,0,0,0,0,0,0,0,0,0,0,0,0,0,0,0,0,0,0,0,0,0,0,0,0,0,0,0,0,0,0,0,0,0,0,0,0,0,0,0,0,0,0,0,0,0,0,0,0,0,0,0,0,0,0,0,0,0,0,0,0,0,0,0,0,0,0,0,0,0,0,0,0,0,0,0,0,0,0,0,0,0,0,0,0,0,0,0,0,0,0,0,0,0,0,0,0,0,0,0,0,0,0,0,0,0,0,0,0,0,0,0,0,0,0,0,0,0,0,0,0,0,0,0,0,0,0,0,0,0,0,0,0,0,0,0,0,0,0,0,0,0,0,0,0,0,0,0,0,0,0,0,0,0,0,0,0,0,0,0,0,0,0,0,0,0,0,0,0,0,0,0,0,0,0,0,0,0,0,0,0,104.435,131.62299999999999,192.886,216.48599999999999,217.602,224.203,232.03800000000001,234.858,193.82300000000001,163.28,151.25800000000001,124.508,0,0,0,0,0,0,0,0,0,0,0,0,0,0,0,0,0,0,0,0,0,0,0]
[12,853,57806,"RE Dillard 4","PV","CA",null,null,0,0,0,0,0,0,0,0,0,0,0,0,0,0,0,0,0,0,0,0,0,0,0,0,0,0,0,0,0,0,0,0,0,0,0,0,0,0,0,0,0,0,0,0,0,0,0,0,0,0,0,0,0,0,0,0,0,0,0,0,0,0,0,0,0,0,0,0,0,0,0,0,0,0,0,0,0,0,0,0,0,0,0,0,0,0,0,0,0,0,0,0,0,0,0,0,0,0,0,0,0,0,0,0,0,0,0,0,0,0,0,0,0,0,0,0,0,0,0,0,0,0,0,0,0,0,0,0,0,0,0,0,0,0,0,0,0,0,0,0,0,0,0,0,0,0,0,0,0,0,0,0,0,0,0,0,0,0,0,0,0,0,0,0,0,0,0,0,0,0,0,0,0,0,0,0,0,0,0,0,0,0,0,0,0,0,0,0,0,0,0,0,0,0,0,0,0,0,0,0,0,0,0,0,0,0,0,0,0,0,0,0,0,0,0,0,0,0,0,0,0,0,0,0,0,0,0,0,0,0,0,0,0,0,0,0,0,0,0,0,0,0,0,0,0,0,0,0,0,0,0,0,0,0,0,0,0,0,0,0,0,0,0,0,0,0,0,0,0,0,0,0,0,0,0,0,0,0,0,0,0,0,0,0,0,0,0,0,0,0,0,0,0,0,0,0,0,0,0,0,0,0,0,0,0,0,0,0,0,0,0,0,0,0,0,0,0,0,0,0,0,0,0,0,0,0,0,0,0,0,0,0,0,0,0,0,0,0,0,0,0,0,0,0,0,0,0,0,0,0,0,0,0,0,0,0,0,0,0,0,0,0,0,0,0,0,0,0,0,0,0,0,0,0,0,0,0,0,0,0,0,0,0,0,0,0,0,0,0,0,0,0,0,0,0,0,0,0,0,0,0,0,0,0,0,0,0,0,0,0,0,0,0,0,0,0,0,0,0,0,0,0,0,0,0,0,0,0,0,0,0,0,0,0,0,0,0,0,0,0,0,0,0,0,0,0,0,0,0,0,0,0,0,0,0,0,0,0,0,0,0,0,0,0,0,0,0,0,0,0,0,0,0,0,0,0,0,0,0,0,0,0,0,0,0,0,0,0,0,0,0,0,0,0,0,0,0,0,0,0,0,0,0,0,0,0,0,0,0,0,0,0,0,0,0,0,0,0,0,0,0,0,0,0,0,0,0,0,0,0,0,0,0,0,0,0,0,0,0,0,40.732999999999997,51.337000000000003,75.231999999999999,84.436000000000007,84.872,87.445999999999998,90.501999999999995,91.602000000000004,75.596999999999994,63.685000000000002,58.996000000000002,48.561999999999998,0,0,0,0,0,0,0,0,0,0,0,0,0,0,0,0,0,0,0,0,0,0,0]
[12,3595,57869,"Heller Industrial Parks","PV","NJ",null,null,0,0,0,0,0,0,0,0,0,0,0,0,0,0,0,0,0,0,0,0,0,0,0,0,0,0,0,0,0,0,0,0,0,0,0,0,0,0,0,0,0,0,0,0,0,0,0,0,0,0,0,0,0,0,0,0,0,0,0,0,0,0,0,0,0,0,0,0,0,0,0,0,0,0,0,0,0,0,0,0,0,0,0,0,0,0,0,0,0,0,0,0,0,0,0,0,0,0,0,0,0,0,0,0,0,0,0,0,0,0,0,0,0,0,0,0,0,0,0,0,0,0,0,0,0,0,0,0,0,0,0,0,0,0,0,0,0,0,0,0,0,0,0,0,0,0,0,0,0,0,0,0,0,0,0,0,0,0,0,0,0,0,0,0,0,0,0,0,0,0,0,0,0,0,0,0,0,0,0,0,0,0,0,0,0,0,0,0,0,0,0,0,0,0,0,0,0,0,0,0,0,0,0,0,0,0,0,0,0,0,0,0,0,0,0,0,0,0,0,0,0,0,0,0,0,0,0,0,0,0,0,0,0,0,0,0,0,0,0,0,0,0,0,0,0,0,0,0,0,0,0,0,0,0,0,0,0,0,0,0,0,0,0,0,0,0,0,0,0,0,0,0,0,0,0,0,0,0,0,0,0,0,0,0,0,0,0,0,0,0,0,0,0,0,0,0,0,0,0,0,0,0,0,0,0,0,0,0,0,0,0,0,0,0,0,0,0,0,0,0,0,0,0,0,0,0,0,0,0,0,0,0,0,0,0,0,0,0,0,0,0,0,0,0,0,0,0,0,0,0,0,0,0,0,0,0,0,0,0,0,0,0,0,0,0,0,0,0,0,0,0,0,0,0,0,0,0,0,0,0,0,0,0,0,0,0,0,0,0,0,0,0,0,0,0,0,0,0,0,0,0,0,0,0,0,0,0,0,0,0,0,0,0,0,0,0,0,0,0,0,0,0,0,0,0,0,0,0,0,0,0,0,0,0,0,0,0,0,0,0,0,0,0,0,0,0,0,0,0,0,0,0,0,0,0,0,0,0,0,0,0,0,0,0,0,0,0,0,0,0,0,0,0,0,0,0,0,0,0,0,0,0,0,0,0,0,0,0,0,0,0,0,0,0,0,0,0,0,0,0,0,0,0,0,0,0,0,0,0,0,0,0,0,0,0,0,0,0,0,0,0,0,0,0,0,0,0,0,0,0,0,0,0,0,0,0,0,0,0,0,196.809,218.453,279.79500000000002,360.14299999999997,412.89600000000002,341.476,381.71699999999998,414.99200000000002,346.75099999999998,302.92599999999999,217.709,121.333,0,0,0,0,0,0,0,0,0,0,0,0,0,0,0,0,0,0,0,0,0,0,0]
[12,4253,57990,"Shrewsbury Solar","PV","MA",null,null,0,0,0,0,0,0,0,0,0,0,0,0,0,0,0,0,0,0,0,0,0,0,0,0,0,0,0,0,0,0,0,0,0,0,0,0,0,0,0,0,0,0,0,0,0,0,0,0,0,0,0,0,0,0,0,0,0,0,0,0,0,0,0,0,0,0,0,0,0,0,0,0,0,0,0,0,0,0,0,0,0,0,0,0,0,0,0,0,0,0,0,0,0,0,0,0,0,0,0,0,0,0,0,0,0,0,0,0,0,0,0,0,0,0,0,0,0,0,0,0,0,0,0,0,0,0,0,0,0,0,0,0,0,0,0,0,0,0,0,0,0,0,0,0,0,0,0,0,0,0,0,0,0,0,0,0,0,0,0,0,0,0,0,0,0,0,0,0,0,0,0,0,0,0,0,0,0,0,0,0,0,0,0,0,0,0,0,0,0,0,0,0,0,0,0,0,0,0,0,0,0,0,0,0,0,0,0,0,0,0,0,0,0,0,0,0,0,0,0,0,0,0,0,0,0,0,0,0,0,0,0,0,0,0,0,0,0,0,0,0,0,0,0,0,0,0,0,0,0,0,0,0,0,0,0,0,0,0,0,0,0,0,0,0,0,0,0,0,0,0,0,0,0,0,0,0,0,0,0,0,0,0,0,0,0,0,0,0,0,0,0,0,0,0,0,0,0,0,0,0,0,0,0,0,0,0,0,0,0,0,0,0,0,0,0,0,0,0,0,0,0,0,0,0,0,0,0,0,0,0,0,0,0,0,0,0,0,0,0,0,0,0,0,0,0,0,0,0,0,0,0,0,0,0,0,0,0,0,0,0,0,0,0,0,0,0,0,0,0,0,0,0,0,0,0,0,0,0,0,0,0,0,0,0,0,0,0,0,0,0,0,0,0,0,0,0,0,0,0,0,0,0,0,0,0,0,0,0,0,0,0,0,0,0,0,0,0,0,0,0,0,0,0,0,0,0,0,0,0,0,0,0,0,0,0,0,0,0,0,0,0,0,0,0,0,0,0,0,0,0,0,0,0,0,0,0,0,0,0,0,0,0,0,0,0,0,0,0,0,0,0,0,0,0,0,0,0,0,0,0,0,0,0,0,0,0,0,0,0,0,0,0,0,0,0,0,0,0,0,0,0,0,0,0,0,0,0,0,0,0,0,0,0,0,0,0,0,0,0,0,0,0,0,0,0,0,0,0,0,0,0,0,0,0,0,0,0,0,0,0,201.92599999999999,259.51499999999999,370.45299999999997,421.68799999999999,423.3,438.53100000000001,444.10500000000002,452.67099999999999,374.601,319.80200000000002,293.02699999999999,253.381,0,0,0,0,0,0,0,0,0,0,0,0,0,0,0,0,0,0,0,0,0,0,0]
[12,17752.999999999996,58068,"SunE CPS1 LLC","PV","TX",null,null,0,0,0,0,0,0,0,0,0,0,0,0,0,0,0,0,0,0,0,0,0,0,0,0,0,0,0,0,0,0,0,0,0,0,0,0,0,0,0,0,0,0,0,0,0,0,0,0,0,0,0,0,0,0,0,0,0,0,0,0,0,0,0,0,0,0,0,0,0,0,0,0,0,0,0,0,0,0,0,0,0,0,0,0,0,0,0,0,0,0,0,0,0,0,0,0,0,0,0,0,0,0,0,0,0,0,0,0,0,0,0,0,0,0,0,0,0,0,0,0,0,0,0,0,0,0,0,0,0,0,0,0,0,0,0,0,0,0,0,0,0,0,0,0,0,0,0,0,0,0,0,0,0,0,0,0,0,0,0,0,0,0,0,0,0,0,0,0,0,0,0,0,0,0,0,0,0,0,0,0,0,0,0,0,0,0,0,0,0,0,0,0,0,0,0,0,0,0,0,0,0,0,0,0,0,0,0,0,0,0,0,0,0,0,0,0,0,0,0,0,0,0,0,0,0,0,0,0,0,0,0,0,0,0,0,0,0,0,0,0,0,0,0,0,0,0,0,0,0,0,0,0,0,0,0,0,0,0,0,0,0,0,0,0,0,0,0,0,0,0,0,0,0,0,0,0,0,0,0,0,0,0,0,0,0,0,0,0,0,0,0,0,0,0,0,0,0,0,0,0,0,0,0,0,0,0,0,0,0,0,0,0,0,0,0,0,0,0,0,0,0,0,0,0,0,0,0,0,0,0,0,0,0,0,0,0,0,0,0,0,0,0,0,0,0,0,0,0,0,0,0,0,0,0,0,0,0,0,0,0,0,0,0,0,0,0,0,0,0,0,0,0,0,0,0,0,0,0,0,0,0,0,0,0,0,0,0,0,0,0,0,0,0,0,0,0,0,0,0,0,0,0,0,0,0,0,0,0,0,0,0,0,0,0,0,0,0,0,0,0,0,0,0,0,0,0,0,0,0,0,0,0,0,0,0,0,0,0,0,0,0,0,0,0,0,0,0,0,0,0,0,0,0,0,0,0,0,0,0,0,0,0,0,0,0,0,0,0,0,0,0,0,0,0,0,0,0,0,0,0,0,0,0,0,0,0,0,0,0,0,0,0,0,0,0,0,0,0,0,0,0,0,0,0,0,0,0,0,0,0,0,0,0,0,0,0,0,0,0,0,0,0,0,0,0,0,0,0,0,0,0,0,0,0,0,0,0,0,0,0,872.72,879.92399999999998,1126.6780000000001,1174.221,1163.059,1805.7159999999999,2065.518,2195.8539999999998,1880.17,1611.6759999999999,986.15700000000004,1991.307,0,0,0,0,0,0,0,0,0,0,0,0,0,0,0,0,0,0,0,0,0,0,0]
[12,25573,58147,"Prescott Solar Plant","PV","AZ",null,null,0,0,0,0,0,0,0,0,0,0,0,0,0,0,0,0,0,0,0,0,0,0,0,0,0,0,0,0,0,0,0,0,0,0,0,0,0,0,0,0,0,0,0,0,0,0,0,0,0,0,0,0,0,0,0,0,0,0,0,0,0,0,0,0,0,0,0,0,0,0,0,0,0,0,0,0,0,0,0,0,0,0,0,0,0,0,0,0,0,0,0,0,0,0,0,0,0,0,0,0,0,0,0,0,0,0,0,0,0,0,0,0,0,0,0,0,0,0,0,0,0,0,0,0,0,0,0,0,0,0,0,0,0,0,0,0,0,0,0,0,0,0,0,0,0,0,0,0,0,0,0,0,0,0,0,0,0,0,0,0,0,0,0,0,0,0,0,0,0,0,0,0,0,0,0,0,0,0,0,0,0,0,0,0,0,0,0,0,0,0,0,0,0,0,0,0,0,0,0,0,0,0,0,0,0,0,0,0,0,0,0,0,0,0,0,0,0,0,0,0,0,0,0,0,0,0,0,0,0,0,0,0,0,0,0,0,0,0,0,0,0,0,0,0,0,0,0,0,0,0,0,0,0,0,0,0,0,0,0,0,0,0,0,0,0,0,0,0,0,0,0,0,0,0,0,0,0,0,0,0,0,0,0,0,0,0,0,0,0,0,0,0,0,0,0,0,0,0,0,0,0,0,0,0,0,0,0,0,0,0,0,0,0,0,0,0,0,0,0,0,0,0,0,0,0,0,0,0,0,0,0,0,0,0,0,0,0,0,0,0,0,0,0,0,0,0,0,0,0,0,0,0,0,0,0,0,0,0,0,0,0,0,0,0,0,0,0,0,0,0,0,0,0,0,0,0,0,0,0,0,0,0,0,0,0,0,0,0,0,0,0,0,0,0,0,0,0,0,0,0,0,0,0,0,0,0,0,0,0,0,0,0,0,0,0,0,0,0,0,0,0,0,0,0,0,0,0,0,0,0,0,0,0,0,0,0,0,0,0,0,0,0,0,0,0,0,0,0,0,0,0,0,0,0,0,0,0,0,0,0,0,0,0,0,0,0,0,0,0,0,0,0,0,0,0,0,0,0,0,0,0,0,0,0,0,0,0,0,0,0,0,0,0,0,0,0,0,0,0,0,0,0,0,0,0,0,0,0,0,0,0,0,0,0,0,0,0,0,0,0,0,0,0,0,0,0,0,0,0,0,0,0,0,0,0,0,0,0,0,0,1122.2650000000001,1579.9549999999999,2141.3110000000001,2621.4470000000001,2644.9920000000002,2690.6750000000002,2580.3739999999998,2764.9140000000002,2205.4430000000002,1957.2560000000001,1772.9780000000001,1491.39,0,0,0,0,0,0,0,0,0,0,0,0,0,0,0,0,0,0,0,0,0,0,0]
[12,3463.0000000000005,58231,"Lincoln Financial Field","PV","PA",null,null,0,0,0,0,0,0,0,0,0,0,0,0,0,0,0,0,0,0,0,0,0,0,0,0,0,0,0,0,0,0,0,0,0,0,0,0,0,0,0,0,0,0,0,0,0,0,0,0,0,0,0,0,0,0,0,0,0,0,0,0,0,0,0,0,0,0,0,0,0,0,0,0,0,0,0,0,0,0,0,0,0,0,0,0,0,0,0,0,0,0,0,0,0,0,0,0,0,0,0,0,0,0,0,0,0,0,0,0,0,0,0,0,0,0,0,0,0,0,0,0,0,0,0,0,0,0,0,0,0,0,0,0,0,0,0,0,0,0,0,0,0,0,0,0,0,0,0,0,0,0,0,0,0,0,0,0,0,0,0,0,0,0,0,0,0,0,0,0,0,0,0,0,0,0,0,0,0,0,0,0,0,0,0,0,0,0,0,0,0,0,0,0,0,0,0,0,0,0,0,0,0,0,0,0,0,0,0,0,0,0,0,0,0,0,0,0,0,0,0,0,0,0,0,0,0,0,0,0,0,0,0,0,0,0,0,0,0,0,0,0,0,0,0,0,0,0,0,0,0,0,0,0,0,0,0,0,0,0,0,0,0,0,0,0,0,0,0,0,0,0,0,0,0,0,0,0,0,0,0,0,0,0,0,0,0,0,0,0,0,0,0,0,0,0,0,0,0,0,0,0,0,0,0,0,0,0,0,0,0,0,0,0,0,0,0,0,0,0,0,0,0,0,0,0,0,0,0,0,0,0,0,0,0,0,0,0,0,0,0,0,0,0,0,0,0,0,0,0,0,0,0,0,0,0,0,0,0,0,0,0,0,0,0,0,0,0,0,0,0,0,0,0,0,0,0,0,0,0,0,0,0,0,0,0,0,0,0,0,0,0,0,0,0,0,0,0,0,0,0,0,0,0,0,0,0,0,0,0,0,0,0,0,0,0,0,0,0,0,0,0,0,0,0,0,0,0,0,0,0,0,0,0,0,0,0,0,0,0,0,0,0,0,0,0,0,0,0,0,0,0,0,0,0,0,0,0,0,0,0,0,0,0,0,0,0,0,0,0,0,0,0,0,0,0,0,0,0,0,0,0,0,0,0,0,0,0,0,0,0,0,0,0,0,0,0,0,0,0,0,0,0,0,0,0,0,0,0,0,0,0,0,0,0,0,0,0,0,0,0,0,0,0,0,0,0,0,0,0,0,0,0,0,0,0,0,0,0,0,0,0,189.584,210.43199999999999,269.52199999999999,346.91899999999998,397.73500000000001,328.93799999999999,367.70100000000002,399.755,334.01900000000001,291.803,209.715,116.877,0,0,0,0,0,0,0,0,0,0,0,0,0,0,0,0,0,0,0,0,0,0,0]
[12,6595,58249,"VA Sepulveda Ambulatory Care Center","PV","CA",null,null,0,0,0,0,0,0,0,0,0,0,0,0,0,0,0,0,0,0,0,0,0,0,0,0,0,0,0,0,0,0,0,0,0,0,0,0,0,0,0,0,0,0,0,0,0,0,0,0,0,0,0,0,0,0,0,0,0,0,0,0,0,0,0,0,0,0,0,0,0,0,0,0,0,0,0,0,0,0,0,0,0,0,0,0,0,0,0,0,0,0,0,0,0,0,0,0,0,0,0,0,0,0,0,0,0,0,0,0,0,0,0,0,0,0,0,0,0,0,0,0,0,0,0,0,0,0,0,0,0,0,0,0,0,0,0,0,0,0,0,0,0,0,0,0,0,0,0,0,0,0,0,0,0,0,0,0,0,0,0,0,0,0,0,0,0,0,0,0,0,0,0,0,0,0,0,0,0,0,0,0,0,0,0,0,0,0,0,0,0,0,0,0,0,0,0,0,0,0,0,0,0,0,0,0,0,0,0,0,0,0,0,0,0,0,0,0,0,0,0,0,0,0,0,0,0,0,0,0,0,0,0,0,0,0,0,0,0,0,0,0,0,0,0,0,0,0,0,0,0,0,0,0,0,0,0,0,0,0,0,0,0,0,0,0,0,0,0,0,0,0,0,0,0,0,0,0,0,0,0,0,0,0,0,0,0,0,0,0,0,0,0,0,0,0,0,0,0,0,0,0,0,0,0,0,0,0,0,0,0,0,0,0,0,0,0,0,0,0,0,0,0,0,0,0,0,0,0,0,0,0,0,0,0,0,0,0,0,0,0,0,0,0,0,0,0,0,0,0,0,0,0,0,0,0,0,0,0,0,0,0,0,0,0,0,0,0,0,0,0,0,0,0,0,0,0,0,0,0,0,0,0,0,0,0,0,0,0,0,0,0,0,0,0,0,0,0,0,0,0,0,0,0,0,0,0,0,0,0,0,0,0,0,0,0,0,0,0,0,0,0,0,0,0,0,0,0,0,0,0,0,0,0,0,0,0,0,0,0,0,0,0,0,0,0,0,0,0,0,0,0,0,0,0,0,0,0,0,0,0,0,0,0,0,0,0,0,0,0,0,0,0,0,0,0,0,0,0,0,0,0,0,0,0,0,0,0,0,0,0,0,0,0,0,0,0,0,0,0,0,0,0,0,0,0,0,0,0,0,0,0,0,0,0,0,0,0,0,0,0,0,0,0,0,0,0,0,0,0,0,0,0,0,0,0,0,0,0,0,0,0,314.93099999999998,396.91399999999999,581.65700000000004,652.82399999999996,656.18799999999999,676.09299999999996,699.72199999999998,708.22400000000005,584.48099999999999,492.37900000000002,456.12599999999998,375.46100000000001,0,0,0,0,0,0,0,0,0,0,0,0,0,0,0,0,0,0,0,0,0,0,0]
[12,1682.0000000000002,58305,"PCIP Solar","PV","NC",null,null,0,0,0,0,0,0,0,0,0,0,0,0,0,0,0,0,0,0,0,0,0,0,0,0,0,0,0,0,0,0,0,0,0,0,0,0,0,0,0,0,0,0,0,0,0,0,0,0,0,0,0,0,0,0,0,0,0,0,0,0,0,0,0,0,0,0,0,0,0,0,0,0,0,0,0,0,0,0,0,0,0,0,0,0,0,0,0,0,0,0,0,0,0,0,0,0,0,0,0,0,0,0,0,0,0,0,0,0,0,0,0,0,0,0,0,0,0,0,0,0,0,0,0,0,0,0,0,0,0,0,0,0,0,0,0,0,0,0,0,0,0,0,0,0,0,0,0,0,0,0,0,0,0,0,0,0,0,0,0,0,0,0,0,0,0,0,0,0,0,0,0,0,0,0,0,0,0,0,0,0,0,0,0,0,0,0,0,0,0,0,0,0,0,0,0,0,0,0,0,0,0,0,0,0,0,0,0,0,0,0,0,0,0,0,0,0,0,0,0,0,0,0,0,0,0,0,0,0,0,0,0,0,0,0,0,0,0,0,0,0,0,0,0,0,0,0,0,0,0,0,0,0,0,0,0,0,0,0,0,0,0,0,0,0,0,0,0,0,0,0,0,0,0,0,0,0,0,0,0,0,0,0,0,0,0,0,0,0,0,0,0,0,0,0,0,0,0,0,0,0,0,0,0,0,0,0,0,0,0,0,0,0,0,0,0,0,0,0,0,0,0,0,0,0,0,0,0,0,0,0,0,0,0,0,0,0,0,0,0,0,0,0,0,0,0,0,0,0,0,0,0,0,0,0,0,0,0,0,0,0,0,0,0,0,0,0,0,0,0,0,0,0,0,0,0,0,0,0,0,0,0,0,0,0,0,0,0,0,0,0,0,0,0,0,0,0,0,0,0,0,0,0,0,0,0,0,0,0,0,0,0,0,0,0,0,0,0,0,0,0,0,0,0,0,0,0,0,0,0,0,0,0,0,0,0,0,0,0,0,0,0,0,0,0,0,0,0,0,0,0,0,0,0,0,0,0,0,0,0,0,0,0,0,0,0,0,0,0,0,0,0,0,0,0,0,0,0,0,0,0,0,0,0,0,0,0,0,0,0,0,0,0,0,0,0,0,0,0,0,0,0,0,0,0,0,0,0,0,0,0,0,0,0,0,0,0,0,0,0,0,0,0,0,0,0,0,0,0,0,0,0,0,0,0,0,0,0,0,0,0,88.361000000000004,72.463999999999999,131.91900000000001,149.946,207.18100000000001,193.11600000000001,206.90799999999999,184.47,126.06399999999999,113.256,83.361000000000004,124.95399999999999,0,0,0,0,0,0,0,0,0,0,0,0,0,0,0,0,0,0,0,0,0,0,0]
[12,9073,58336,"Mile Farm","PV","NC",null,null,0,0,0,0,0,0,0,0,0,0,0,0,0,0,0,0,0,0,0,0,0,0,0,0,0,0,0,0,0,0,0,0,0,0,0,0,0,0,0,0,0,0,0,0,0,0,0,0,0,0,0,0,0,0,0,0,0,0,0,0,0,0,0,0,0,0,0,0,0,0,0,0,0,0,0,0,0,0,0,0,0,0,0,0,0,0,0,0,0,0,0,0,0,0,0,0,0,0,0,0,0,0,0,0,0,0,0,0,0,0,0,0,0,0,0,0,0,0,0,0,0,0,0,0,0,0,0,0,0,0,0,0,0,0,0,0,0,0,0,0,0,0,0,0,0,0,0,0,0,0,0,0,0,0,0,0,0,0,0,0,0,0,0,0,0,0,0,0,0,0,0,0,0,0,0,0,0,0,0,0,0,0,0,0,0,0,0,0,0,0,0,0,0,0,0,0,0,0,0,0,0,0,0,0,0,0,0,0,0,0,0,0,0,0,0,0,0,0,0,0,0,0,0,0,0,0,0,0,0,0,0,0,0,0,0,0,0,0,0,0,0,0,0,0,0,0,0,0,0,0,0,0,0,0,0,0,0,0,0,0,0,0,0,0,0,0,0,0,0,0,0,0,0,0,0,0,0,0,0,0,0,0,0,0,0,0,0,0,0,0,0,0,0,0,0,0,0,0,0,0,0,0,0,0,0,0,0,0,0,0,0,0,0,0,0,0,0,0,0,0,0,0,0,0,0,0,0,0,0,0,0,0,0,0,0,0,0,0,0,0,0,0,0,0,0,0,0,0,0,0,0,0,0,0,0,0,0,0,0,0,0,0,0,0,0,0,0,0,0,0,0,0,0,0,0,0,0,0,0,0,0,0,0,0,0,0,0,0,0,0,0,0,0,0,0,0,0,0,0,0,0,0,0,0,0,0,0,0,0,0,0,0,0,0,0,0,0,0,0,0,0,0,0,0,0,0,0,0,0,0,0,0,0,0,0,0,0,0,0,0,0,0,0,0,0,0,0,0,0,0,0,0,0,0,0,0,0,0,0,0,0,0,0,0,0,0,0,0,0,0,0,0,0,0,0,0,0,0,0,0,0,0,0,0,0,0,0,0,0,0,0,0,0,0,0,0,0,0,0,0,0,0,0,0,0,0,0,0,0,0,0,0,0,0,0,0,0,0,0,0,0,0,0,0,0,0,0,0,0,0,0,0,0,0,0,0,0,0,0,0,476.63499999999999,390.88400000000001,711.596,808.83399999999995,1117.568,1041.702,1116.095,995.06299999999999,680.01300000000003,610.92200000000003,449.66500000000002,674.02300000000002,0,0,0,0,0,0,0,0,0,0,0,0,0,0,0,0,0,0,0,0,0,0,0]
[12,2631,58376,"Oakley Solar Project","PV","CA",null,null,0,0,0,0,0,0,0,0,0,0,0,0,0,0,0,0,0,0,0,0,0,0,0,0,0,0,0,0,0,0,0,0,0,0,0,0,0,0,0,0,0,0,0,0,0,0,0,0,0,0,0,0,0,0,0,0,0,0,0,0,0,0,0,0,0,0,0,0,0,0,0,0,0,0,0,0,0,0,0,0,0,0,0,0,0,0,0,0,0,0,0,0,0,0,0,0,0,0,0,0,0,0,0,0,0,0,0,0,0,0,0,0,0,0,0,0,0,0,0,0,0,0,0,0,0,0,0,0,0,0,0,0,0,0,0,0,0,0,0,0,0,0,0,0,0,0,0,0,0,0,0,0,0,0,0,0,0,0,0,0,0,0,0,0,0,0,0,0,0,0,0,0,0,0,0,0,0,0,0,0,0,0,0,0,0,0,0,0,0,0,0,0,0,0,0,0,0,0,0,0,0,0,0,0,0,0,0,0,0,0,0,0,0,0,0,0,0,0,0,0,0,0,0,0,0,0,0,0,0,0,0,0,0,0,0,0,0,0,0,0,0,0,0,0,0,0,0,0,0,0,0,0,0,0,0,0,0,0,0,0,0,0,0,0,0,0,0,0,0,0,0,0,0,0,0,0,0,0,0,0,0,0,0,0,0,0,0,0,0,0,0,0,0,0,0,0,0,0,0,0,0,0,0,0,0,0,0,0,0,0,0,0,0,0,0,0,0,0,0,0,0,0,0,0,0,0,0,0,0,0,0,0,0,0,0,0,0,0,0,0,0,0,0,0,0,0,0,0,0,0,0,0,0,0,0,0,0,0,0,0,0,0,0,0,0,0,0,0,0,0,0,0,0,0,0,0,0,0,0,0,0,0,0,0,0,0,0,0,0,0,0,0,0,0,0,0,0,0,0,0,0,0,0,0,0,0,0,0,0,0,0,0,0,0,0,0,0,0,0,0,0,0,0,0,0,0,0,0,0,0,0,0,0,0,0,0,0,0,0,0,0,0,0,0,0,0,0,0,0,0,0,0,0,0,0,0,0,0,0,0,0,0,0,0,0,0,0,0,0,0,0,0,0,0,0,0,0,0,0,0,0,0,0,0,0,0,0,0,0,0,0,0,0,0,0,0,0,0,0,0,0,0,0,0,0,0,0,0,0,0,0,0,0,0,0,0,0,0,0,0,0,0,0,0,0,0,0,0,0,0,0,0,0,0,0,0,0,0,0,0,125.63800000000001,158.34399999999999,232.04499999999999,260.43700000000001,261.779,269.72000000000003,279.14600000000002,282.53800000000001,233.172,196.429,181.96600000000001,149.786,0,0,0,0,0,0,0,0,0,0,0,0,0,0,0,0,0,0,0,0,0,0,0]
[12,1451.0000000000002,58443,"Martin Limestone Solar Array","PV","PA",null,null,0,0,0,0,0,0,0,0,0,0,0,0,0,0,0,0,0,0,0,0,0,0,0,0,0,0,0,0,0,0,0,0,0,0,0,0,0,0,0,0,0,0,0,0,0,0,0,0,0,0,0,0,0,0,0,0,0,0,0,0,0,0,0,0,0,0,0,0,0,0,0,0,0,0,0,0,0,0,0,0,0,0,0,0,0,0,0,0,0,0,0,0,0,0,0,0,0,0,0,0,0,0,0,0,0,0,0,0,0,0,0,0,0,0,0,0,0,0,0,0,0,0,0,0,0,0,0,0,0,0,0,0,0,0,0,0,0,0,0,0,0,0,0,0,0,0,0,0,0,0,0,0,0,0,0,0,0,0,0,0,0,0,0,0,0,0,0,0,0,0,0,0,0,0,0,0,0,0,0,0,0,0,0,0,0,0,0,0,0,0,0,0,0,0,0,0,0,0,0,0,0,0,0,0,0,0,0,0,0,0,0,0,0,0,0,0,0,0,0,0,0,0,0,0,0,0,0,0,0,0,0,0,0,0,0,0,0,0,0,0,0,0,0,0,0,0,0,0,0,0,0,0,0,0,0,0,0,0,0,0,0,0,0,0,0,0,0,0,0,0,0,0,0,0,0,0,0,0,0,0,0,0,0,0,0,0,0,0,0,0,0,0,0,0,0,0,0,0,0,0,0,0,0,0,0,0,0,0,0,0,0,0,0,0,0,0,0,0,0,0,0,0,0,0,0,0,0,0,0,0,0,0,0,0,0,0,0,0,0,0,0,0,0,0,0,0,0,0,0,0,0,0,0,0,0,0,0,0,0,0,0,0,0,0,0,0,0,0,0,0,0,0,0,0,0,0,0,0,0,0,0,0,0,0,0,0,0,0,0,0,0,0,0,0,0,0,0,0,0,0,0,0,0,0,0,0,0,0,0,0,0,0,0,0,0,0,0,0,0,0,0,0,0,0,0,0,0,0,0,0,0,0,0,0,0,0,0,0,0,0,0,0,0,0,0,0,0,0,0,0,0,0,0,0,0,0,0,0,0,0,0,0,0,0,0,0,0,0,0,0,0,0,0,0,0,0,0,0,0,0,0,0,0,0,0,0,0,0,0,0,0,0,0,0,0,0,0,0,0,0,0,0,0,0,0,0,0,0,0,0,0,0,0,0,0,0,0,0,0,0,0,0,0,0,0,0,0,0,0,0,0,0,0,0,0,0,0,0,0,0,79.436000000000007,88.171000000000006,112.93,145.35900000000001,166.65100000000001,137.82499999999999,154.06700000000001,167.49799999999999,139.95400000000001,122.26600000000001,87.870999999999995,48.972000000000001,0,0,0,0,0,0,0,0,0,0,0,0,0,0,0,0,0,0,0,0,0,0,0]
[12,25112.999999999996,58483,"Tinton Falls Solar Farm","PV","NJ",null,null,0,0,0,0,0,0,0,0,0,0,0,0,0,0,0,0,0,0,0,0,0,0,0,0,0,0,0,0,0,0,0,0,0,0,0,0,0,0,0,0,0,0,0,0,0,0,0,0,0,0,0,0,0,0,0,0,0,0,0,0,0,0,0,0,0,0,0,0,0,0,0,0,0,0,0,0,0,0,0,0,0,0,0,0,0,0,0,0,0,0,0,0,0,0,0,0,0,0,0,0,0,0,0,0,0,0,0,0,0,0,0,0,0,0,0,0,0,0,0,0,0,0,0,0,0,0,0,0,0,0,0,0,0,0,0,0,0,0,0,0,0,0,0,0,0,0,0,0,0,0,0,0,0,0,0,0,0,0,0,0,0,0,0,0,0,0,0,0,0,0,0,0,0,0,0,0,0,0,0,0,0,0,0,0,0,0,0,0,0,0,0,0,0,0,0,0,0,0,0,0,0,0,0,0,0,0,0,0,0,0,0,0,0,0,0,0,0,0,0,0,0,0,0,0,0,0,0,0,0,0,0,0,0,0,0,0,0,0,0,0,0,0,0,0,0,0,0,0,0,0,0,0,0,0,0,0,0,0,0,0,0,0,0,0,0,0,0,0,0,0,0,0,0,0,0,0,0,0,0,0,0,0,0,0,0,0,0,0,0,0,0,0,0,0,0,0,0,0,0,0,0,0,0,0,0,0,0,0,0,0,0,0,0,0,0,0,0,0,0,0,0,0,0,0,0,0,0,0,0,0,0,0,0,0,0,0,0,0,0,0,0,0,0,0,0,0,0,0,0,0,0,0,0,0,0,0,0,0,0,0,0,0,0,0,0,0,0,0,0,0,0,0,0,0,0,0,0,0,0,0,0,0,0,0,0,0,0,0,0,0,0,0,0,0,0,0,0,0,0,0,0,0,0,0,0,0,0,0,0,0,0,0,0,0,0,0,0,0,0,0,0,0,0,0,0,0,0,0,0,0,0,0,0,0,0,0,0,0,0,0,0,0,0,0,0,0,0,0,0,0,0,0,0,0,0,0,0,0,0,0,0,0,0,0,0,0,0,0,0,0,0,0,0,0,0,0,0,0,0,0,0,0,0,0,0,0,0,0,0,0,0,0,0,0,0,0,0,0,0,0,0,0,0,0,0,0,0,0,0,0,0,0,0,0,0,0,0,0,0,0,0,0,0,0,0,0,0,0,0,0,0,0,0,0,0,0,0,0,0,0,1374.826,1526.009,1954.519,2515.788,2884.2979999999998,2385.3919999999998,2666.4989999999998,2898.944,2422.2429999999999,2116.0970000000002,1520.8119999999999,847.57299999999998,0,0,0,0,0,0,0,0,0,0,0,0,0,0,0,0,0,0,0,0,0,0,0]
[12,58343,58499,"Rosamond Two","PV","CA",null,null,0,0,0,0,0,0,0,0,0,0,0,0,0,0,0,0,0,0,0,0,0,0,0,0,0,0,0,0,0,0,0,0,0,0,0,0,0,0,0,0,0,0,0,0,0,0,0,0,0,0,0,0,0,0,0,0,0,0,0,0,0,0,0,0,0,0,0,0,0,0,0,0,0,0,0,0,0,0,0,0,0,0,0,0,0,0,0,0,0,0,0,0,0,0,0,0,0,0,0,0,0,0,0,0,0,0,0,0,0,0,0,0,0,0,0,0,0,0,0,0,0,0,0,0,0,0,0,0,0,0,0,0,0,0,0,0,0,0,0,0,0,0,0,0,0,0,0,0,0,0,0,0,0,0,0,0,0,0,0,0,0,0,0,0,0,0,0,0,0,0,0,0,0,0,0,0,0,0,0,0,0,0,0,0,0,0,0,0,0,0,0,0,0,0,0,0,0,0,0,0,0,0,0,0,0,0,0,0,0,0,0,0,0,0,0,0,0,0,0,0,0,0,0,0,0,0,0,0,0,0,0,0,0,0,0,0,0,0,0,0,0,0,0,0,0,0,0,0,0,0,0,0,0,0,0,0,0,0,0,0,0,0,0,0,0,0,0,0,0,0,0,0,0,0,0,0,0,0,0,0,0,0,0,0,0,0,0,0,0,0,0,0,0,0,0,0,0,0,0,0,0,0,0,0,0,0,0,0,0,0,0,0,0,0,0,0,0,0,0,0,0,0,0,0,0,0,0,0,0,0,0,0,0,0,0,0,0,0,0,0,0,0,0,0,0,0,0,0,0,0,0,0,0,0,0,0,0,0,0,0,0,0,0,0,0,0,0,0,0,0,0,0,0,0,0,0,0,0,0,0,0,0,0,0,0,0,0,0,0,0,0,0,0,0,0,0,0,0,0,0,0,0,0,0,0,0,0,0,0,0,0,0,0,0,0,0,0,0,0,0,0,0,0,0,0,0,0,0,0,0,0,0,0,0,0,0,0,0,0,0,0,0,0,0,0,0,0,0,0,0,0,0,0,0,0,0,0,0,0,0,0,0,0,0,0,0,0,0,0,0,0,0,0,0,0,0,0,0,0,0,0,0,0,0,0,0,0,0,0,0,0,0,0,0,0,0,0,0,0,0,0,0,0,0,0,0,0,0,0,0,0,0,0,0,0,0,0,0,0,0,0,0,0,0,0,0,0,0,0,0,0,0,0,0,0,0,0,0,0,0,2786.0479999999998,3511.319,5145.6549999999997,5775.2380000000003,5805.0050000000001,5981.0929999999998,6190.1220000000003,6265.3410000000003,5170.6400000000003,4355.8599999999997,4035.1439999999998,3321.5349999999999,0,0,0,0,0,0,0,0,0,0,0,0,0,0,0,0,0,0,0,0,0,0,0]
[12,2573,58543,"Gilbert Solar Facility I, LLC","PV","AZ",null,null,0,0,0,0,0,0,0,0,0,0,0,0,0,0,0,0,0,0,0,0,0,0,0,0,0,0,0,0,0,0,0,0,0,0,0,0,0,0,0,0,0,0,0,0,0,0,0,0,0,0,0,0,0,0,0,0,0,0,0,0,0,0,0,0,0,0,0,0,0,0,0,0,0,0,0,0,0,0,0,0,0,0,0,0,0,0,0,0,0,0,0,0,0,0,0,0,0,0,0,0,0,0,0,0,0,0,0,0,0,0,0,0,0,0,0,0,0,0,0,0,0,0,0,0,0,0,0,0,0,0,0,0,0,0,0,0,0,0,0,0,0,0,0,0,0,0,0,0,0,0,0,0,0,0,0,0,0,0,0,0,0,0,0,0,0,0,0,0,0,0,0,0,0,0,0,0,0,0,0,0,0,0,0,0,0,0,0,0,0,0,0,0,0,0,0,0,0,0,0,0,0,0,0,0,0,0,0,0,0,0,0,0,0,0,0,0,0,0,0,0,0,0,0,0,0,0,0,0,0,0,0,0,0,0,0,0,0,0,0,0,0,0,0,0,0,0,0,0,0,0,0,0,0,0,0,0,0,0,0,0,0,0,0,0,0,0,0,0,0,0,0,0,0,0,0,0,0,0,0,0,0,0,0,0,0,0,0,0,0,0,0,0,0,0,0,0,0,0,0,0,0,0,0,0,0,0,0,0,0,0,0,0,0,0,0,0,0,0,0,0,0,0,0,0,0,0,0,0,0,0,0,0,0,0,0,0,0,0,0,0,0,0,0,0,0,0,0,0,0,0,0,0,0,0,0,0,0,0,0,0,0,0,0,0,0,0,0,0,0,0,0,0,0,0,0,0,0,0,0,0,0,0,0,0,0,0,0,0,0,0,0,0,0,0,0,0,0,0,0,0,0,0,0,0,0,0,0,0,0,0,0,0,0,0,0,0,0,0,0,0,0,0,0,0,0,0,0,0,0,0,0,0,0,0,0,0,0,0,0,0,0,0,0,0,0,0,0,0,0,0,0,0,0,0,0,0,0,0,0,0,0,0,0,0,0,0,0,0,0,0,0,0,0,0,0,0,0,0,0,0,0,0,0,0,0,0,0,0,0,0,0,0,0,0,0,0,0,0,0,0,0,0,0,0,0,0,0,0,0,0,0,0,0,0,0,0,0,0,0,0,0,0,0,0,0,0,0,0,0,0,0,0,0,0,0,0,0,0,0,0,112.916,158.965,215.446,263.75400000000002,266.12299999999999,270.71899999999999,259.62200000000001,278.18900000000002,221.898,196.92699999999999,178.386,150.05500000000001,0,0,0,0,0,0,0,0,0,0,0,0,0,0,0,0,0,0,0,0,0,0,0]
[12,2753.0000000000005,58586,"Town of East Bridgewater","PV","MA",null,null,0,0,0,0,0,0,0,0,0,0,0,0,0,0,0,0,0,0,0,0,0,0,0,0,0,0,0,0,0,0,0,0,0,0,0,0,0,0,0,0,0,0,0,0,0,0,0,0,0,0,0,0,0,0,0,0,0,0,0,0,0,0,0,0,0,0,0,0,0,0,0,0,0,0,0,0,0,0,0,0,0,0,0,0,0,0,0,0,0,0,0,0,0,0,0,0,0,0,0,0,0,0,0,0,0,0,0,0,0,0,0,0,0,0,0,0,0,0,0,0,0,0,0,0,0,0,0,0,0,0,0,0,0,0,0,0,0,0,0,0,0,0,0,0,0,0,0,0,0,0,0,0,0,0,0,0,0,0,0,0,0,0,0,0,0,0,0,0,0,0,0,0,0,0,0,0,0,0,0,0,0,0,0,0,0,0,0,0,0,0,0,0,0,0,0,0,0,0,0,0,0,0,0,0,0,0,0,0,0,0,0,0,0,0,0,0,0,0,0,0,0,0,0,0,0,0,0,0,0,0,0,0,0,0,0,0,0,0,0,0,0,0,0,0,0,0,0,0,0,0,0,0,0,0,0,0,0,0,0,0,0,0,0,0,0,0,0,0,0,0,0,0,0,0,0,0,0,0,0,0,0,0,0,0,0,0,0,0,0,0,0,0,0,0,0,0,0,0,0,0,0,0,0,0,0,0,0,0,0,0,0,0,0,0,0,0,0,0,0,0,0,0,0,0,0,0,0,0,0,0,0,0,0,0,0,0,0,0,0,0,0,0,0,0,0,0,0,0,0,0,0,0,0,0,0,0,0,0,0,0,0,0,0,0,0,0,0,0,0,0,0,0,0,0,0,0,0,0,0,0,0,0,0,0,0,0,0,0,0,0,0,0,0,0,0,0,0,0,0,0,0,0,0,0,0,0,0,0,0,0,0,0,0,0,0,0,0,0,0,0,0,0,0,0,0,0,0,0,0,0,0,0,0,0,0,0,0,0,0,0,0,0,0,0,0,0,0,0,0,0,0,0,0,0,0,0,0,0,0,0,0,0,0,0,0,0,0,0,0,0,0,0,0,0,0,0,0,0,0,0,0,0,0,0,0,0,0,0,0,0,0,0,0,0,0,0,0,0,0,0,0,0,0,0,0,0,0,0,0,0,0,0,0,0,0,0,0,0,0,0,0,0,0,0,0,0,0,0,0,0,0,0,0,0,0,0,0,0,0,0,130.708,167.98599999999999,239.797,272.96199999999999,274.005,283.86500000000001,287.47300000000001,293.017,242.482,207.01,189.679,164.01599999999999,0,0,0,0,0,0,0,0,0,0,0,0,0,0,0,0,0,0,0,0,0,0,0]
[12,1286.0099999999998,58636,"Sacramento Fairbain Water Treatment Plant","PV","CA",null,null,0,0,0,0,0,0,0,0,0,0,0,0,0,0,0,0,0,0,0,0,0,0,0,0,0,0,0,0,0,0,0,0,0,0,0,0,0,0,0,0,0,0,0,0,0,0,0,0,0,0,0,0,0,0,0,0,0,0,0,0,0,0,0,0,0,0,0,0,0,0,0,0,0,0,0,0,0,0,0,0,0,0,0,0,0,0,0,0,0,0,0,0,0,0,0,0,0,0,0,0,0,0,0,0,0,0,0,0,0,0,0,0,0,0,0,0,0,0,0,0,0,0,0,0,0,0,0,0,0,0,0,0,0,0,0,0,0,0,0,0,0,0,0,0,0,0,0,0,0,0,0,0,0,0,0,0,0,0,0,0,0,0,0,0,0,0,0,0,0,0,0,0,0,0,0,0,0,0,0,0,0,0,0,0,0,0,0,0,0,0,0,0,0,0,0,0,0,0,0,0,0,0,0,0,0,0,0,0,0,0,0,0,0,0,0,0,0,0,0,0,0,0,0,0,0,0,0,0,0,0,0,0,0,0,0,0,0,0,0,0,0,0,0,0,0,0,0,0,0,0,0,0,0,0,0,0,0,0,0,0,0,0,0,0,0,0,0,0,0,0,0,0,0,0,0,0,0,0,0,0,0,0,0,0,0,0,0,0,0,0,0,0,0,0,0,0,0,0,0,0,0,0,0,0,0,0,0,0,0,0,0,0,0,0,0,0,0,0,0,0,0,0,0,0,0,0,0,0,0,0,0,0,0,0,0,0,0,0,0,0,0,0,0,0,0,0,0,0,0,0,0,0,0,0,0,0,0,0,0,0,0,0,0,0,0,0,0,0,0,0,0,0,0,0,0,0,0,0,0,0,0,0,0,0,0,0,0,0,0,0,0,0,0,0,0,0,0,0,0,0,0,0,0,0,0,0,0,0,0,0,0,0,0,0,0,0,0,0,0,0,0,0,0,0,0,0,0,0,0,0,0,0,0,0,0,0,0,0,0,0,0,0,0,0,0,0,0,0,0,0,0,0,0,0,0,0,0,0,0,0,0,0,0,0,0,0,0,0,0,0,0,0,0,0,0,0,0,0,0,0,0,0,0,0,0,0,0,0,0,0,0,0,0,0,0,0,0,0,0,0,0,0,0,0,0,0,0,0,0,0,0,0,0,0,0,0,0,0,0,0,0,0,0,0,0,0,0,0,0,0,0,0,0,0,0,0,0,0,0,0,61.411000000000001,77.397000000000006,113.422,127.29900000000001,127.955,131.83699999999999,136.44399999999999,138.102,113.97199999999999,96.013000000000005,88.944000000000003,73.213999999999999,0,0,0,0,0,0,0,0,0,0,0,0,0,0,0,0,0,0,0,0,0,0,0]
[12,7771.9999999999982,58667,"Biscoe Solar LLC","PV","NC",null,null,0,0,0,0,0,0,0,0,0,0,0,0,0,0,0,0,0,0,0,0,0,0,0,0,0,0,0,0,0,0,0,0,0,0,0,0,0,0,0,0,0,0,0,0,0,0,0,0,0,0,0,0,0,0,0,0,0,0,0,0,0,0,0,0,0,0,0,0,0,0,0,0,0,0,0,0,0,0,0,0,0,0,0,0,0,0,0,0,0,0,0,0,0,0,0,0,0,0,0,0,0,0,0,0,0,0,0,0,0,0,0,0,0,0,0,0,0,0,0,0,0,0,0,0,0,0,0,0,0,0,0,0,0,0,0,0,0,0,0,0,0,0,0,0,0,0,0,0,0,0,0,0,0,0,0,0,0,0,0,0,0,0,0,0,0,0,0,0,0,0,0,0,0,0,0,0,0,0,0,0,0,0,0,0,0,0,0,0,0,0,0,0,0,0,0,0,0,0,0,0,0,0,0,0,0,0,0,0,0,0,0,0,0,0,0,0,0,0,0,0,0,0,0,0,0,0,0,0,0,0,0,0,0,0,0,0,0,0,0,0,0,0,0,0,0,0,0,0,0,0,0,0,0,0,0,0,0,0,0,0,0,0,0,0,0,0,0,0,0,0,0,0,0,0,0,0,0,0,0,0,0,0,0,0,0,0,0,0,0,0,0,0,0,0,0,0,0,0,0,0,0,0,0,0,0,0,0,0,0,0,0,0,0,0,0,0,0,0,0,0,0,0,0,0,0,0,0,0,0,0,0,0,0,0,0,0,0,0,0,0,0,0,0,0,0,0,0,0,0,0,0,0,0,0,0,0,0,0,0,0,0,0,0,0,0,0,0,0,0,0,0,0,0,0,0,0,0,0,0,0,0,0,0,0,0,0,0,0,0,0,0,0,0,0,0,0,0,0,0,0,0,0,0,0,0,0,0,0,0,0,0,0,0,0,0,0,0,0,0,0,0,0,0,0,0,0,0,0,0,0,0,0,0,0,0,0,0,0,0,0,0,0,0,0,0,0,0,0,0,0,0,0,0,0,0,0,0,0,0,0,0,0,0,0,0,0,0,0,0,0,0,0,0,0,0,0,0,0,0,0,0,0,0,0,0,0,0,0,0,0,0,0,0,0,0,0,0,0,0,0,0,0,0,0,0,0,0,0,0,0,0,0,0,0,0,0,0,0,0,0,0,0,0,0,0,0,0,0,0,0,0,0,0,0,0,0,0,0,0,0,408.28699999999998,334.834,609.55899999999997,692.85400000000004,957.31700000000001,892.33,956.05600000000004,852.37900000000002,582.50400000000002,523.32000000000005,385.18700000000001,577.37300000000005,0,0,0,0,0,0,0,0,0,0,0,0,0,0,0,0,0,0,0,0,0,0,0]
[12,3941.0000000000005,58755,"Summer Solar C2","PV","CA",null,null,0,0,0,0,0,0,0,0,0,0,0,0,0,0,0,0,0,0,0,0,0,0,0,0,0,0,0,0,0,0,0,0,0,0,0,0,0,0,0,0,0,0,0,0,0,0,0,0,0,0,0,0,0,0,0,0,0,0,0,0,0,0,0,0,0,0,0,0,0,0,0,0,0,0,0,0,0,0,0,0,0,0,0,0,0,0,0,0,0,0,0,0,0,0,0,0,0,0,0,0,0,0,0,0,0,0,0,0,0,0,0,0,0,0,0,0,0,0,0,0,0,0,0,0,0,0,0,0,0,0,0,0,0,0,0,0,0,0,0,0,0,0,0,0,0,0,0,0,0,0,0,0,0,0,0,0,0,0,0,0,0,0,0,0,0,0,0,0,0,0,0,0,0,0,0,0,0,0,0,0,0,0,0,0,0,0,0,0,0,0,0,0,0,0,0,0,0,0,0,0,0,0,0,0,0,0,0,0,0,0,0,0,0,0,0,0,0,0,0,0,0,0,0,0,0,0,0,0,0,0,0,0,0,0,0,0,0,0,0,0,0,0,0,0,0,0,0,0,0,0,0,0,0,0,0,0,0,0,0,0,0,0,0,0,0,0,0,0,0,0,0,0,0,0,0,0,0,0,0,0,0,0,0,0,0,0,0,0,0,0,0,0,0,0,0,0,0,0,0,0,0,0,0,0,0,0,0,0,0,0,0,0,0,0,0,0,0,0,0,0,0,0,0,0,0,0,0,0,0,0,0,0,0,0,0,0,0,0,0,0,0,0,0,0,0,0,0,0,0,0,0,0,0,0,0,0,0,0,0,0,0,0,0,0,0,0,0,0,0,0,0,0,0,0,0,0,0,0,0,0,0,0,0,0,0,0,0,0,0,0,0,0,0,0,0,0,0,0,0,0,0,0,0,0,0,0,0,0,0,0,0,0,0,0,0,0,0,0,0,0,0,0,0,0,0,0,0,0,0,0,0,0,0,0,0,0,0,0,0,0,0,0,0,0,0,0,0,0,0,0,0,0,0,0,0,0,0,0,0,0,0,0,0,0,0,0,0,0,0,0,0,0,0,0,0,0,0,0,0,0,0,0,0,0,0,0,0,0,0,0,0,0,0,0,0,0,0,0,0,0,0,0,0,0,0,0,0,0,0,0,0,0,0,0,0,0,0,0,0,0,0,0,0,0,0,0,0,0,0,0,0,0,0,0,0,0,0,0,0,0,188.19499999999999,237.185,347.58300000000003,390.11,392.12099999999998,404.01600000000002,418.13499999999999,423.21600000000001,349.27100000000002,294.233,272.56900000000002,224.36600000000001,0,0,0,0,0,0,0,0,0,0,0,0,0,0,0,0,0,0,0,0,0,0,0]
[12,1662,58796,"Waterloo Solar, LLC","PV","IN",null,null,0,0,0,0,0,0,0,0,0,0,0,0,0,0,0,0,0,0,0,0,0,0,0,0,0,0,0,0,0,0,0,0,0,0,0,0,0,0,0,0,0,0,0,0,0,0,0,0,0,0,0,0,0,0,0,0,0,0,0,0,0,0,0,0,0,0,0,0,0,0,0,0,0,0,0,0,0,0,0,0,0,0,0,0,0,0,0,0,0,0,0,0,0,0,0,0,0,0,0,0,0,0,0,0,0,0,0,0,0,0,0,0,0,0,0,0,0,0,0,0,0,0,0,0,0,0,0,0,0,0,0,0,0,0,0,0,0,0,0,0,0,0,0,0,0,0,0,0,0,0,0,0,0,0,0,0,0,0,0,0,0,0,0,0,0,0,0,0,0,0,0,0,0,0,0,0,0,0,0,0,0,0,0,0,0,0,0,0,0,0,0,0,0,0,0,0,0,0,0,0,0,0,0,0,0,0,0,0,0,0,0,0,0,0,0,0,0,0,0,0,0,0,0,0,0,0,0,0,0,0,0,0,0,0,0,0,0,0,0,0,0,0,0,0,0,0,0,0,0,0,0,0,0,0,0,0,0,0,0,0,0,0,0,0,0,0,0,0,0,0,0,0,0,0,0,0,0,0,0,0,0,0,0,0,0,0,0,0,0,0,0,0,0,0,0,0,0,0,0,0,0,0,0,0,0,0,0,0,0,0,0,0,0,0,0,0,0,0,0,0,0,0,0,0,0,0,0,0,0,0,0,0,0,0,0,0,0,0,0,0,0,0,0,0,0,0,0,0,0,0,0,0,0,0,0,0,0,0,0,0,0,0,0,0,0,0,0,0,0,0,0,0,0,0,0,0,0,0,0,0,0,0,0,0,0,0,0,0,0,0,0,0,0,0,0,0,0,0,0,0,0,0,0,0,0,0,0,0,0,0,0,0,0,0,0,0,0,0,0,0,0,0,0,0,0,0,0,0,0,0,0,0,0,0,0,0,0,0,0,0,0,0,0,0,0,0,0,0,0,0,0,0,0,0,0,0,0,0,0,0,0,0,0,0,0,0,0,0,0,0,0,0,0,0,0,0,0,0,0,0,0,0,0,0,0,0,0,0,0,0,0,0,0,0,0,0,0,0,0,0,0,0,0,0,0,0,0,0,0,0,0,0,0,0,0,0,0,0,0,0,0,0,0,0,0,0,0,0,0,0,0,0,0,0,0,0,0,0,0,0,78.908000000000001,101.414,144.767,164.78899999999999,165.41800000000001,171.37100000000001,173.54900000000001,176.89599999999999,146.38800000000001,124.973,114.51,99.016999999999996,0,0,0,0,0,0,0,0,0,0,0,0,0,0,0,0,0,0,0,0,0,0,0]
[12,9244.9999999999982,58851,"Oakboro Farm","PV","NC",null,null,0,0,0,0,0,0,0,0,0,0,0,0,0,0,0,0,0,0,0,0,0,0,0,0,0,0,0,0,0,0,0,0,0,0,0,0,0,0,0,0,0,0,0,0,0,0,0,0,0,0,0,0,0,0,0,0,0,0,0,0,0,0,0,0,0,0,0,0,0,0,0,0,0,0,0,0,0,0,0,0,0,0,0,0,0,0,0,0,0,0,0,0,0,0,0,0,0,0,0,0,0,0,0,0,0,0,0,0,0,0,0,0,0,0,0,0,0,0,0,0,0,0,0,0,0,0,0,0,0,0,0,0,0,0,0,0,0,0,0,0,0,0,0,0,0,0,0,0,0,0,0,0,0,0,0,0,0,0,0,0,0,0,0,0,0,0,0,0,0,0,0,0,0,0,0,0,0,0,0,0,0,0,0,0,0,0,0,0,0,0,0,0,0,0,0,0,0,0,0,0,0,0,0,0,0,0,0,0,0,0,0,0,0,0,0,0,0,0,0,0,0,0,0,0,0,0,0,0,0,0,0,0,0,0,0,0,0,0,0,0,0,0,0,0,0,0,0,0,0,0,0,0,0,0,0,0,0,0,0,0,0,0,0,0,0,0,0,0,0,0,0,0,0,0,0,0,0,0,0,0,0,0,0,0,0,0,0,0,0,0,0,0,0,0,0,0,0,0,0,0,0,0,0,0,0,0,0,0,0,0,0,0,0,0,0,0,0,0,0,0,0,0,0,0,0,0,0,0,0,0,0,0,0,0,0,0,0,0,0,0,0,0,0,0,0,0,0,0,0,0,0,0,0,0,0,0,0,0,0,0,0,0,0,0,0,0,0,0,0,0,0,0,0,0,0,0,0,0,0,0,0,0,0,0,0,0,0,0,0,0,0,0,0,0,0,0,0,0,0,0,0,0,0,0,0,0,0,0,0,0,0,0,0,0,0,0,0,0,0,0,0,0,0,0,0,0,0,0,0,0,0,0,0,0,0,0,0,0,0,0,0,0,0,0,0,0,0,0,0,0,0,0,0,0,0,0,0,0,0,0,0,0,0,0,0,0,0,0,0,0,0,0,0,0,0,0,0,0,0,0,0,0,0,0,0,0,0,0,0,0,0,0,0,0,0,0,0,0,0,0,0,0,0,0,0,0,0,0,0,0,0,0,0,0,0,0,0,0,0,0,0,0,0,0,0,0,0,0,0,0,0,0,0,0,0,0,0,0,0,0,485.66899999999998,398.29399999999998,725.08600000000001,824.16800000000001,1138.7539999999999,1061.45,1137.2539999999999,1013.927,692.904,622.50300000000004,458.19,686.80100000000004,0,0,0,0,0,0,0,0,0,0,0,0,0,0,0,0,0,0,0,0,0,0,0]
[12,12279.000000000004,58907,"Valley Center 2","PV","CA",null,null,0,0,0,0,0,0,0,0,0,0,0,0,0,0,0,0,0,0,0,0,0,0,0,0,0,0,0,0,0,0,0,0,0,0,0,0,0,0,0,0,0,0,0,0,0,0,0,0,0,0,0,0,0,0,0,0,0,0,0,0,0,0,0,0,0,0,0,0,0,0,0,0,0,0,0,0,0,0,0,0,0,0,0,0,0,0,0,0,0,0,0,0,0,0,0,0,0,0,0,0,0,0,0,0,0,0,0,0,0,0,0,0,0,0,0,0,0,0,0,0,0,0,0,0,0,0,0,0,0,0,0,0,0,0,0,0,0,0,0,0,0,0,0,0,0,0,0,0,0,0,0,0,0,0,0,0,0,0,0,0,0,0,0,0,0,0,0,0,0,0,0,0,0,0,0,0,0,0,0,0,0,0,0,0,0,0,0,0,0,0,0,0,0,0,0,0,0,0,0,0,0,0,0,0,0,0,0,0,0,0,0,0,0,0,0,0,0,0,0,0,0,0,0,0,0,0,0,0,0,0,0,0,0,0,0,0,0,0,0,0,0,0,0,0,0,0,0,0,0,0,0,0,0,0,0,0,0,0,0,0,0,0,0,0,0,0,0,0,0,0,0,0,0,0,0,0,0,0,0,0,0,0,0,0,0,0,0,0,0,0,0,0,0,0,0,0,0,0,0,0,0,0,0,0,0,0,0,0,0,0,0,0,0,0,0,0,0,0,0,0,0,0,0,0,0,0,0,0,0,0,0,0,0,0,0,0,0,0,0,0,0,0,0,0,0,0,0,0,0,0,0,0,0,0,0,0,0,0,0,0,0,0,0,0,0,0,0,0,0,0,0,0,0,0,0,0,0,0,0,0,0,0,0,0,0,0,0,0,0,0,0,0,0,0,0,0,0,0,0,0,0,0,0,0,0,0,0,0,0,0,0,0,0,0,0,0,0,0,0,0,0,0,0,0,0,0,0,0,0,0,0,0,0,0,0,0,0,0,0,0,0,0,0,0,0,0,0,0,0,0,0,0,0,0,0,0,0,0,0,0,0,0,0,0,0,0,0,0,0,0,0,0,0,0,0,0,0,0,0,0,0,0,0,0,0,0,0,0,0,0,0,0,0,0,0,0,0,0,0,0,0,0,0,0,0,0,0,0,0,0,0,0,0,0,0,0,0,0,0,0,0,0,0,0,0,0,0,0,0,0,0,0,0,0,0,0,0,0,0,0,586.35900000000004,739,1082.9659999999999,1215.47,1221.7339999999999,1258.7940000000001,1302.787,1318.6179999999999,1088.2249999999999,916.74400000000003,849.245,699.05799999999999,0,0,0,0,0,0,0,0,0,0,0,0,0,0,0,0,0,0,0,0,0,0,0]
[12,7867,58957,"Graham Solar Center LLC","PV","NC",null,null,0,0,0,0,0,0,0,0,0,0,0,0,0,0,0,0,0,0,0,0,0,0,0,0,0,0,0,0,0,0,0,0,0,0,0,0,0,0,0,0,0,0,0,0,0,0,0,0,0,0,0,0,0,0,0,0,0,0,0,0,0,0,0,0,0,0,0,0,0,0,0,0,0,0,0,0,0,0,0,0,0,0,0,0,0,0,0,0,0,0,0,0,0,0,0,0,0,0,0,0,0,0,0,0,0,0,0,0,0,0,0,0,0,0,0,0,0,0,0,0,0,0,0,0,0,0,0,0,0,0,0,0,0,0,0,0,0,0,0,0,0,0,0,0,0,0,0,0,0,0,0,0,0,0,0,0,0,0,0,0,0,0,0,0,0,0,0,0,0,0,0,0,0,0,0,0,0,0,0,0,0,0,0,0,0,0,0,0,0,0,0,0,0,0,0,0,0,0,0,0,0,0,0,0,0,0,0,0,0,0,0,0,0,0,0,0,0,0,0,0,0,0,0,0,0,0,0,0,0,0,0,0,0,0,0,0,0,0,0,0,0,0,0,0,0,0,0,0,0,0,0,0,0,0,0,0,0,0,0,0,0,0,0,0,0,0,0,0,0,0,0,0,0,0,0,0,0,0,0,0,0,0,0,0,0,0,0,0,0,0,0,0,0,0,0,0,0,0,0,0,0,0,0,0,0,0,0,0,0,0,0,0,0,0,0,0,0,0,0,0,0,0,0,0,0,0,0,0,0,0,0,0,0,0,0,0,0,0,0,0,0,0,0,0,0,0,0,0,0,0,0,0,0,0,0,0,0,0,0,0,0,0,0,0,0,0,0,0,0,0,0,0,0,0,0,0,0,0,0,0,0,0,0,0,0,0,0,0,0,0,0,0,0,0,0,0,0,0,0,0,0,0,0,0,0,0,0,0,0,0,0,0,0,0,0,0,0,0,0,0,0,0,0,0,0,0,0,0,0,0,0,0,0,0,0,0,0,0,0,0,0,0,0,0,0,0,0,0,0,0,0,0,0,0,0,0,0,0,0,0,0,0,0,0,0,0,0,0,0,0,0,0,0,0,0,0,0,0,0,0,0,0,0,0,0,0,0,0,0,0,0,0,0,0,0,0,0,0,0,0,0,0,0,0,0,0,0,0,0,0,0,0,0,0,0,0,0,0,0,0,0,0,0,0,0,0,0,0,0,0,0,0,0,0,0,0,0,0,0,0,413.27800000000002,338.92700000000002,617.01,701.32299999999998,969.01900000000001,903.23699999999997,967.74199999999996,862.79700000000003,589.62400000000002,529.71699999999998,389.89499999999998,584.43100000000004,0,0,0,0,0,0,0,0,0,0,0,0,0,0,0,0,0,0,0,0,0,0,0]
[12,2649.0000000000005,58974,"Fairview Farms Solar","PV","MA",null,null,0,0,0,0,0,0,0,0,0,0,0,0,0,0,0,0,0,0,0,0,0,0,0,0,0,0,0,0,0,0,0,0,0,0,0,0,0,0,0,0,0,0,0,0,0,0,0,0,0,0,0,0,0,0,0,0,0,0,0,0,0,0,0,0,0,0,0,0,0,0,0,0,0,0,0,0,0,0,0,0,0,0,0,0,0,0,0,0,0,0,0,0,0,0,0,0,0,0,0,0,0,0,0,0,0,0,0,0,0,0,0,0,0,0,0,0,0,0,0,0,0,0,0,0,0,0,0,0,0,0,0,0,0,0,0,0,0,0,0,0,0,0,0,0,0,0,0,0,0,0,0,0,0,0,0,0,0,0,0,0,0,0,0,0,0,0,0,0,0,0,0,0,0,0,0,0,0,0,0,0,0,0,0,0,0,0,0,0,0,0,0,0,0,0,0,0,0,0,0,0,0,0,0,0,0,0,0,0,0,0,0,0,0,0,0,0,0,0,0,0,0,0,0,0,0,0,0,0,0,0,0,0,0,0,0,0,0,0,0,0,0,0,0,0,0,0,0,0,0,0,0,0,0,0,0,0,0,0,0,0,0,0,0,0,0,0,0,0,0,0,0,0,0,0,0,0,0,0,0,0,0,0,0,0,0,0,0,0,0,0,0,0,0,0,0,0,0,0,0,0,0,0,0,0,0,0,0,0,0,0,0,0,0,0,0,0,0,0,0,0,0,0,0,0,0,0,0,0,0,0,0,0,0,0,0,0,0,0,0,0,0,0,0,0,0,0,0,0,0,0,0,0,0,0,0,0,0,0,0,0,0,0,0,0,0,0,0,0,0,0,0,0,0,0,0,0,0,0,0,0,0,0,0,0,0,0,0,0,0,0,0,0,0,0,0,0,0,0,0,0,0,0,0,0,0,0,0,0,0,0,0,0,0,0,0,0,0,0,0,0,0,0,0,0,0,0,0,0,0,0,0,0,0,0,0,0,0,0,0,0,0,0,0,0,0,0,0,0,0,0,0,0,0,0,0,0,0,0,0,0,0,0,0,0,0,0,0,0,0,0,0,0,0,0,0,0,0,0,0,0,0,0,0,0,0,0,0,0,0,0,0,0,0,0,0,0,0,0,0,0,0,0,0,0,0,0,0,0,0,0,0,0,0,0,0,0,0,0,0,0,0,0,0,0,0,0,0,0,0,0,0,0,0,0,0,0,0,0,0,0,125.77,161.63999999999999,230.738,262.65100000000001,263.654,273.14100000000002,276.613,281.94799999999998,233.322,199.19,182.51300000000001,157.82,0,0,0,0,0,0,0,0,0,0,0,0,0,0,0,0,0,0,0,0,0,0,0]
[12,2768,59042,"Ellerbe","PV","NC",null,null,0,0,0,0,0,0,0,0,0,0,0,0,0,0,0,0,0,0,0,0,0,0,0,0,0,0,0,0,0,0,0,0,0,0,0,0,0,0,0,0,0,0,0,0,0,0,0,0,0,0,0,0,0,0,0,0,0,0,0,0,0,0,0,0,0,0,0,0,0,0,0,0,0,0,0,0,0,0,0,0,0,0,0,0,0,0,0,0,0,0,0,0,0,0,0,0,0,0,0,0,0,0,0,0,0,0,0,0,0,0,0,0,0,0,0,0,0,0,0,0,0,0,0,0,0,0,0,0,0,0,0,0,0,0,0,0,0,0,0,0,0,0,0,0,0,0,0,0,0,0,0,0,0,0,0,0,0,0,0,0,0,0,0,0,0,0,0,0,0,0,0,0,0,0,0,0,0,0,0,0,0,0,0,0,0,0,0,0,0,0,0,0,0,0,0,0,0,0,0,0,0,0,0,0,0,0,0,0,0,0,0,0,0,0,0,0,0,0,0,0,0,0,0,0,0,0,0,0,0,0,0,0,0,0,0,0,0,0,0,0,0,0,0,0,0,0,0,0,0,0,0,0,0,0,0,0,0,0,0,0,0,0,0,0,0,0,0,0,0,0,0,0,0,0,0,0,0,0,0,0,0,0,0,0,0,0,0,0,0,0,0,0,0,0,0,0,0,0,0,0,0,0,0,0,0,0,0,0,0,0,0,0,0,0,0,0,0,0,0,0,0,0,0,0,0,0,0,0,0,0,0,0,0,0,0,0,0,0,0,0,0,0,0,0,0,0,0,0,0,0,0,0,0,0,0,0,0,0,0,0,0,0,0,0,0,0,0,0,0,0,0,0,0,0,0,0,0,0,0,0,0,0,0,0,0,0,0,0,0,0,0,0,0,0,0,0,0,0,0,0,0,0,0,0,0,0,0,0,0,0,0,0,0,0,0,0,0,0,0,0,0,0,0,0,0,0,0,0,0,0,0,0,0,0,0,0,0,0,0,0,0,0,0,0,0,0,0,0,0,0,0,0,0,0,0,0,0,0,0,0,0,0,0,0,0,0,0,0,0,0,0,0,0,0,0,0,0,0,0,0,0,0,0,0,0,0,0,0,0,0,0,0,0,0,0,0,0,0,0,0,0,0,0,0,0,0,0,0,0,0,0,0,0,0,0,0,0,0,0,0,0,0,0,0,0,0,0,0,0,0,0,0,0,0,0,0,0,0,0,0,145.411,119.251,217.095,246.76,340.94900000000001,317.80399999999997,340.49900000000002,303.57499999999999,207.459,186.381,137.184,205.63200000000001,0,0,0,0,0,0,0,0,0,0,0,0,0,0,0,0,0,0,0,0,0,0,0]
[12,6567,59085,"Lepomis PV Energy LLC","PV","MA",null,null,0,0,0,0,0,0,0,0,0,0,0,0,0,0,0,0,0,0,0,0,0,0,0,0,0,0,0,0,0,0,0,0,0,0,0,0,0,0,0,0,0,0,0,0,0,0,0,0,0,0,0,0,0,0,0,0,0,0,0,0,0,0,0,0,0,0,0,0,0,0,0,0,0,0,0,0,0,0,0,0,0,0,0,0,0,0,0,0,0,0,0,0,0,0,0,0,0,0,0,0,0,0,0,0,0,0,0,0,0,0,0,0,0,0,0,0,0,0,0,0,0,0,0,0,0,0,0,0,0,0,0,0,0,0,0,0,0,0,0,0,0,0,0,0,0,0,0,0,0,0,0,0,0,0,0,0,0,0,0,0,0,0,0,0,0,0,0,0,0,0,0,0,0,0,0,0,0,0,0,0,0,0,0,0,0,0,0,0,0,0,0,0,0,0,0,0,0,0,0,0,0,0,0,0,0,0,0,0,0,0,0,0,0,0,0,0,0,0,0,0,0,0,0,0,0,0,0,0,0,0,0,0,0,0,0,0,0,0,0,0,0,0,0,0,0,0,0,0,0,0,0,0,0,0,0,0,0,0,0,0,0,0,0,0,0,0,0,0,0,0,0,0,0,0,0,0,0,0,0,0,0,0,0,0,0,0,0,0,0,0,0,0,0,0,0,0,0,0,0,0,0,0,0,0,0,0,0,0,0,0,0,0,0,0,0,0,0,0,0,0,0,0,0,0,0,0,0,0,0,0,0,0,0,0,0,0,0,0,0,0,0,0,0,0,0,0,0,0,0,0,0,0,0,0,0,0,0,0,0,0,0,0,0,0,0,0,0,0,0,0,0,0,0,0,0,0,0,0,0,0,0,0,0,0,0,0,0,0,0,0,0,0,0,0,0,0,0,0,0,0,0,0,0,0,0,0,0,0,0,0,0,0,0,0,0,0,0,0,0,0,0,0,0,0,0,0,0,0,0,0,0,0,0,0,0,0,0,0,0,0,0,0,0,0,0,0,0,0,0,0,0,0,0,0,0,0,0,0,0,0,0,0,0,0,0,0,0,0,0,0,0,0,0,0,0,0,0,0,0,0,0,0,0,0,0,0,0,0,0,0,0,0,0,0,0,0,0,0,0,0,0,0,0,0,0,0,0,0,0,0,0,0,0,0,0,0,0,0,0,0,0,0,0,0,0,0,0,0,0,0,0,0,0,0,0,0,0,0,0,0,311.791,400.714,572.01199999999994,651.12300000000005,653.61099999999999,677.13,685.73599999999999,698.96299999999997,578.41600000000005,493.80200000000002,452.459,391.24299999999999,0,0,0,0,0,0,0,0,0,0,0,0,0,0,0,0,0,0,0,0,0,0,0]
[12,2214,59130,"CSD 2 - Heritage High","PV","CA",null,null,0,0,0,0,0,0,0,0,0,0,0,0,0,0,0,0,0,0,0,0,0,0,0,0,0,0,0,0,0,0,0,0,0,0,0,0,0,0,0,0,0,0,0,0,0,0,0,0,0,0,0,0,0,0,0,0,0,0,0,0,0,0,0,0,0,0,0,0,0,0,0,0,0,0,0,0,0,0,0,0,0,0,0,0,0,0,0,0,0,0,0,0,0,0,0,0,0,0,0,0,0,0,0,0,0,0,0,0,0,0,0,0,0,0,0,0,0,0,0,0,0,0,0,0,0,0,0,0,0,0,0,0,0,0,0,0,0,0,0,0,0,0,0,0,0,0,0,0,0,0,0,0,0,0,0,0,0,0,0,0,0,0,0,0,0,0,0,0,0,0,0,0,0,0,0,0,0,0,0,0,0,0,0,0,0,0,0,0,0,0,0,0,0,0,0,0,0,0,0,0,0,0,0,0,0,0,0,0,0,0,0,0,0,0,0,0,0,0,0,0,0,0,0,0,0,0,0,0,0,0,0,0,0,0,0,0,0,0,0,0,0,0,0,0,0,0,0,0,0,0,0,0,0,0,0,0,0,0,0,0,0,0,0,0,0,0,0,0,0,0,0,0,0,0,0,0,0,0,0,0,0,0,0,0,0,0,0,0,0,0,0,0,0,0,0,0,0,0,0,0,0,0,0,0,0,0,0,0,0,0,0,0,0,0,0,0,0,0,0,0,0,0,0,0,0,0,0,0,0,0,0,0,0,0,0,0,0,0,0,0,0,0,0,0,0,0,0,0,0,0,0,0,0,0,0,0,0,0,0,0,0,0,0,0,0,0,0,0,0,0,0,0,0,0,0,0,0,0,0,0,0,0,0,0,0,0,0,0,0,0,0,0,0,0,0,0,0,0,0,0,0,0,0,0,0,0,0,0,0,0,0,0,0,0,0,0,0,0,0,0,0,0,0,0,0,0,0,0,0,0,0,0,0,0,0,0,0,0,0,0,0,0,0,0,0,0,0,0,0,0,0,0,0,0,0,0,0,0,0,0,0,0,0,0,0,0,0,0,0,0,0,0,0,0,0,0,0,0,0,0,0,0,0,0,0,0,0,0,0,0,0,0,0,0,0,0,0,0,0,0,0,0,0,0,0,0,0,0,0,0,0,0,0,0,0,0,0,0,0,0,0,0,0,0,0,0,0,0,0,0,0,0,0,0,0,0,0,0,0,0,105.724,133.24799999999999,195.267,219.15899999999999,220.28800000000001,226.971,234.90299999999999,237.75700000000001,196.215,165.29599999999999,153.126,126.04600000000001,0,0,0,0,0,0,0,0,0,0,0,0,0,0,0,0,0,0,0,0,0,0,0]
[12,9417.9999999999982,59170,"Jakana Solar","PV","NC",null,null,0,0,0,0,0,0,0,0,0,0,0,0,0,0,0,0,0,0,0,0,0,0,0,0,0,0,0,0,0,0,0,0,0,0,0,0,0,0,0,0,0,0,0,0,0,0,0,0,0,0,0,0,0,0,0,0,0,0,0,0,0,0,0,0,0,0,0,0,0,0,0,0,0,0,0,0,0,0,0,0,0,0,0,0,0,0,0,0,0,0,0,0,0,0,0,0,0,0,0,0,0,0,0,0,0,0,0,0,0,0,0,0,0,0,0,0,0,0,0,0,0,0,0,0,0,0,0,0,0,0,0,0,0,0,0,0,0,0,0,0,0,0,0,0,0,0,0,0,0,0,0,0,0,0,0,0,0,0,0,0,0,0,0,0,0,0,0,0,0,0,0,0,0,0,0,0,0,0,0,0,0,0,0,0,0,0,0,0,0,0,0,0,0,0,0,0,0,0,0,0,0,0,0,0,0,0,0,0,0,0,0,0,0,0,0,0,0,0,0,0,0,0,0,0,0,0,0,0,0,0,0,0,0,0,0,0,0,0,0,0,0,0,0,0,0,0,0,0,0,0,0,0,0,0,0,0,0,0,0,0,0,0,0,0,0,0,0,0,0,0,0,0,0,0,0,0,0,0,0,0,0,0,0,0,0,0,0,0,0,0,0,0,0,0,0,0,0,0,0,0,0,0,0,0,0,0,0,0,0,0,0,0,0,0,0,0,0,0,0,0,0,0,0,0,0,0,0,0,0,0,0,0,0,0,0,0,0,0,0,0,0,0,0,0,0,0,0,0,0,0,0,0,0,0,0,0,0,0,0,0,0,0,0,0,0,0,0,0,0,0,0,0,0,0,0,0,0,0,0,0,0,0,0,0,0,0,0,0,0,0,0,0,0,0,0,0,0,0,0,0,0,0,0,0,0,0,0,0,0,0,0,0,0,0,0,0,0,0,0,0,0,0,0,0,0,0,0,0,0,0,0,0,0,0,0,0,0,0,0,0,0,0,0,0,0,0,0,0,0,0,0,0,0,0,0,0,0,0,0,0,0,0,0,0,0,0,0,0,0,0,0,0,0,0,0,0,0,0,0,0,0,0,0,0,0,0,0,0,0,0,0,0,0,0,0,0,0,0,0,0,0,0,0,0,0,0,0,0,0,0,0,0,0,0,0,0,0,0,0,0,0,0,0,0,0,0,0,0,0,0,0,0,0,0,0,0,0,0,0,0,494.75700000000001,405.74700000000001,738.65499999999997,839.59,1160.0640000000001,1081.3130000000001,1158.5350000000001,1032.9000000000001,705.87,634.15200000000004,466.76400000000001,699.65300000000002,0,0,0,0,0,0,0,0,0,0,0,0,0,0,0,0,0,0,0,0,0,0,0]
[12,10797,59204,"OCI Alamo 3 LLC","PV","TX",null,null,0,0,0,0,0,0,0,0,0,0,0,0,0,0,0,0,0,0,0,0,0,0,0,0,0,0,0,0,0,0,0,0,0,0,0,0,0,0,0,0,0,0,0,0,0,0,0,0,0,0,0,0,0,0,0,0,0,0,0,0,0,0,0,0,0,0,0,0,0,0,0,0,0,0,0,0,0,0,0,0,0,0,0,0,0,0,0,0,0,0,0,0,0,0,0,0,0,0,0,0,0,0,0,0,0,0,0,0,0,0,0,0,0,0,0,0,0,0,0,0,0,0,0,0,0,0,0,0,0,0,0,0,0,0,0,0,0,0,0,0,0,0,0,0,0,0,0,0,0,0,0,0,0,0,0,0,0,0,0,0,0,0,0,0,0,0,0,0,0,0,0,0,0,0,0,0,0,0,0,0,0,0,0,0,0,0,0,0,0,0,0,0,0,0,0,0,0,0,0,0,0,0,0,0,0,0,0,0,0,0,0,0,0,0,0,0,0,0,0,0,0,0,0,0,0,0,0,0,0,0,0,0,0,0,0,0,0,0,0,0,0,0,0,0,0,0,0,0,0,0,0,0,0,0,0,0,0,0,0,0,0,0,0,0,0,0,0,0,0,0,0,0,0,0,0,0,0,0,0,0,0,0,0,0,0,0,0,0,0,0,0,0,0,0,0,0,0,0,0,0,0,0,0,0,0,0,0,0,0,0,0,0,0,0,0,0,0,0,0,0,0,0,0,0,0,0,0,0,0,0,0,0,0,0,0,0,0,0,0,0,0,0,0,0,0,0,0,0,0,0,0,0,0,0,0,0,0,0,0,0,0,0,0,0,0,0,0,0,0,0,0,0,0,0,0,0,0,0,0,0,0,0,0,0,0,0,0,0,0,0,0,0,0,0,0,0,0,0,0,0,0,0,0,0,0,0,0,0,0,0,0,0,0,0,0,0,0,0,0,0,0,0,0,0,0,0,0,0,0,0,0,0,0,0,0,0,0,0,0,0,0,0,0,0,0,0,0,0,0,0,0,0,0,0,0,0,0,0,0,0,0,0,0,0,0,0,0,0,0,0,0,0,0,0,0,0,0,0,0,0,0,0,0,0,0,0,0,0,0,0,0,0,0,0,0,0,0,0,0,0,0,0,0,0,0,0,0,0,0,0,0,0,0,0,0,0,0,0,0,0,0,0,0,0,0,0,0,0,0,0,0,0,0,0,0,0,0,0,0,0,530.76900000000001,535.15099999999995,685.22199999999998,714.13599999999997,707.34799999999996,1098.1990000000001,1256.2049999999999,1335.472,1143.48,980.18700000000001,599.76,1211.0709999999999,0,0,0,0,0,0,0,0,0,0,0,0,0,0,0,0,0,0,0,0,0,0,0]
[12,3867.9999999999995,59269,"Victor Mesa Linda B2","PV","CA",null,null,0,0,0,0,0,0,0,0,0,0,0,0,0,0,0,0,0,0,0,0,0,0,0,0,0,0,0,0,0,0,0,0,0,0,0,0,0,0,0,0,0,0,0,0,0,0,0,0,0,0,0,0,0,0,0,0,0,0,0,0,0,0,0,0,0,0,0,0,0,0,0,0,0,0,0,0,0,0,0,0,0,0,0,0,0,0,0,0,0,0,0,0,0,0,0,0,0,0,0,0,0,0,0,0,0,0,0,0,0,0,0,0,0,0,0,0,0,0,0,0,0,0,0,0,0,0,0,0,0,0,0,0,0,0,0,0,0,0,0,0,0,0,0,0,0,0,0,0,0,0,0,0,0,0,0,0,0,0,0,0,0,0,0,0,0,0,0,0,0,0,0,0,0,0,0,0,0,0,0,0,0,0,0,0,0,0,0,0,0,0,0,0,0,0,0,0,0,0,0,0,0,0,0,0,0,0,0,0,0,0,0,0,0,0,0,0,0,0,0,0,0,0,0,0,0,0,0,0,0,0,0,0,0,0,0,0,0,0,0,0,0,0,0,0,0,0,0,0,0,0,0,0,0,0,0,0,0,0,0,0,0,0,0,0,0,0,0,0,0,0,0,0,0,0,0,0,0,0,0,0,0,0,0,0,0,0,0,0,0,0,0,0,0,0,0,0,0,0,0,0,0,0,0,0,0,0,0,0,0,0,0,0,0,0,0,0,0,0,0,0,0,0,0,0,0,0,0,0,0,0,0,0,0,0,0,0,0,0,0,0,0,0,0,0,0,0,0,0,0,0,0,0,0,0,0,0,0,0,0,0,0,0,0,0,0,0,0,0,0,0,0,0,0,0,0,0,0,0,0,0,0,0,0,0,0,0,0,0,0,0,0,0,0,0,0,0,0,0,0,0,0,0,0,0,0,0,0,0,0,0,0,0,0,0,0,0,0,0,0,0,0,0,0,0,0,0,0,0,0,0,0,0,0,0,0,0,0,0,0,0,0,0,0,0,0,0,0,0,0,0,0,0,0,0,0,0,0,0,0,0,0,0,0,0,0,0,0,0,0,0,0,0,0,0,0,0,0,0,0,0,0,0,0,0,0,0,0,0,0,0,0,0,0,0,0,0,0,0,0,0,0,0,0,0,0,0,0,0,0,0,0,0,0,0,0,0,0,0,0,0,0,0,0,0,0,0,0,0,0,0,0,0,0,0,0,0,0,0,0,0,184.708,232.792,341.14499999999998,382.88400000000001,384.858,396.53199999999998,410.39,415.37700000000001,342.80099999999999,288.78300000000002,267.52,220.21,0,0,0,0,0,0,0,0,0,0,0,0,0,0,0,0,0,0,0,0,0,0,0]
[12,2178,59394,"Grafton Solar","PV","MA",null,null,0,0,0,0,0,0,0,0,0,0,0,0,0,0,0,0,0,0,0,0,0,0,0,0,0,0,0,0,0,0,0,0,0,0,0,0,0,0,0,0,0,0,0,0,0,0,0,0,0,0,0,0,0,0,0,0,0,0,0,0,0,0,0,0,0,0,0,0,0,0,0,0,0,0,0,0,0,0,0,0,0,0,0,0,0,0,0,0,0,0,0,0,0,0,0,0,0,0,0,0,0,0,0,0,0,0,0,0,0,0,0,0,0,0,0,0,0,0,0,0,0,0,0,0,0,0,0,0,0,0,0,0,0,0,0,0,0,0,0,0,0,0,0,0,0,0,0,0,0,0,0,0,0,0,0,0,0,0,0,0,0,0,0,0,0,0,0,0,0,0,0,0,0,0,0,0,0,0,0,0,0,0,0,0,0,0,0,0,0,0,0,0,0,0,0,0,0,0,0,0,0,0,0,0,0,0,0,0,0,0,0,0,0,0,0,0,0,0,0,0,0,0,0,0,0,0,0,0,0,0,0,0,0,0,0,0,0,0,0,0,0,0,0,0,0,0,0,0,0,0,0,0,0,0,0,0,0,0,0,0,0,0,0,0,0,0,0,0,0,0,0,0,0,0,0,0,0,0,0,0,0,0,0,0,0,0,0,0,0,0,0,0,0,0,0,0,0,0,0,0,0,0,0,0,0,0,0,0,0,0,0,0,0,0,0,0,0,0,0,0,0,0,0,0,0,0,0,0,0,0,0,0,0,0,0,0,0,0,0,0,0,0,0,0,0,0,0,0,0,0,0,0,0,0,0,0,0,0,0,0,0,0,0,0,0,0,0,0,0,0,0,0,0,0,0,0,0,0,0,0,0,0,0,0,0,0,0,0,0,0,0,0,0,0,0,0,0,0,0,0,0,0,0,0,0,0,0,0,0,0,0,0,0,0,0,0,0,0,0,0,0,0,0,0,0,0,0,0,0,0,0,0,0,0,0,0,0,0,0,0,0,0,0,0,0,0,0,0,0,0,0,0,0,0,0,0,0,0,0,0,0,0,0,0,0,0,0,0,0,0,0,0,0,0,0,0,0,0,0,0,0,0,0,0,0,0,0,0,0,0,0,0,0,0,0,0,0,0,0,0,0,0,0,0,0,0,0,0,0,0,0,0,0,0,0,0,0,0,0,0,0,0,0,0,0,0,0,0,0,0,0,0,0,0,0,0,0,0,0,0,103.408,132.9,189.71199999999999,215.95,216.77600000000001,224.57599999999999,227.43,231.81700000000001,191.83600000000001,163.774,150.06200000000001,129.75899999999999,0,0,0,0,0,0,0,0,0,0,0,0,0,0,0,0,0,0,0,0,0,0,0]
[12,4246,59410,"Rudy Solar, LLC","PV","CA",null,null,0,0,0,0,0,0,0,0,0,0,0,0,0,0,0,0,0,0,0,0,0,0,0,0,0,0,0,0,0,0,0,0,0,0,0,0,0,0,0,0,0,0,0,0,0,0,0,0,0,0,0,0,0,0,0,0,0,0,0,0,0,0,0,0,0,0,0,0,0,0,0,0,0,0,0,0,0,0,0,0,0,0,0,0,0,0,0,0,0,0,0,0,0,0,0,0,0,0,0,0,0,0,0,0,0,0,0,0,0,0,0,0,0,0,0,0,0,0,0,0,0,0,0,0,0,0,0,0,0,0,0,0,0,0,0,0,0,0,0,0,0,0,0,0,0,0,0,0,0,0,0,0,0,0,0,0,0,0,0,0,0,0,0,0,0,0,0,0,0,0,0,0,0,0,0,0,0,0,0,0,0,0,0,0,0,0,0,0,0,0,0,0,0,0,0,0,0,0,0,0,0,0,0,0,0,0,0,0,0,0,0,0,0,0,0,0,0,0,0,0,0,0,0,0,0,0,0,0,0,0,0,0,0,0,0,0,0,0,0,0,0,0,0,0,0,0,0,0,0,0,0,0,0,0,0,0,0,0,0,0,0,0,0,0,0,0,0,0,0,0,0,0,0,0,0,0,0,0,0,0,0,0,0,0,0,0,0,0,0,0,0,0,0,0,0,0,0,0,0,0,0,0,0,0,0,0,0,0,0,0,0,0,0,0,0,0,0,0,0,0,0,0,0,0,0,0,0,0,0,0,0,0,0,0,0,0,0,0,0,0,0,0,0,0,0,0,0,0,0,0,0,0,0,0,0,0,0,0,0,0,0,0,0,0,0,0,0,0,0,0,0,0,0,0,0,0,0,0,0,0,0,0,0,0,0,0,0,0,0,0,0,0,0,0,0,0,0,0,0,0,0,0,0,0,0,0,0,0,0,0,0,0,0,0,0,0,0,0,0,0,0,0,0,0,0,0,0,0,0,0,0,0,0,0,0,0,0,0,0,0,0,0,0,0,0,0,0,0,0,0,0,0,0,0,0,0,0,0,0,0,0,0,0,0,0,0,0,0,0,0,0,0,0,0,0,0,0,0,0,0,0,0,0,0,0,0,0,0,0,0,0,0,0,0,0,0,0,0,0,0,0,0,0,0,0,0,0,0,0,0,0,0,0,0,0,0,0,0,0,0,0,0,0,0,0,0,0,0,0,0,0,0,0,0,0,0,0,0,0,0,202.75800000000001,255.542,374.483,420.30200000000002,422.46800000000002,435.28300000000002,450.495,455.97,376.30099999999999,317.00400000000002,293.66399999999999,241.73,0,0,0,0,0,0,0,0,0,0,0,0,0,0,0,0,0,0,0,0,0,0,0]
[12,3315.9999999999995,59484,"Hadley Solar, LLC","PV","MA",null,null,0,0,0,0,0,0,0,0,0,0,0,0,0,0,0,0,0,0,0,0,0,0,0,0,0,0,0,0,0,0,0,0,0,0,0,0,0,0,0,0,0,0,0,0,0,0,0,0,0,0,0,0,0,0,0,0,0,0,0,0,0,0,0,0,0,0,0,0,0,0,0,0,0,0,0,0,0,0,0,0,0,0,0,0,0,0,0,0,0,0,0,0,0,0,0,0,0,0,0,0,0,0,0,0,0,0,0,0,0,0,0,0,0,0,0,0,0,0,0,0,0,0,0,0,0,0,0,0,0,0,0,0,0,0,0,0,0,0,0,0,0,0,0,0,0,0,0,0,0,0,0,0,0,0,0,0,0,0,0,0,0,0,0,0,0,0,0,0,0,0,0,0,0,0,0,0,0,0,0,0,0,0,0,0,0,0,0,0,0,0,0,0,0,0,0,0,0,0,0,0,0,0,0,0,0,0,0,0,0,0,0,0,0,0,0,0,0,0,0,0,0,0,0,0,0,0,0,0,0,0,0,0,0,0,0,0,0,0,0,0,0,0,0,0,0,0,0,0,0,0,0,0,0,0,0,0,0,0,0,0,0,0,0,0,0,0,0,0,0,0,0,0,0,0,0,0,0,0,0,0,0,0,0,0,0,0,0,0,0,0,0,0,0,0,0,0,0,0,0,0,0,0,0,0,0,0,0,0,0,0,0,0,0,0,0,0,0,0,0,0,0,0,0,0,0,0,0,0,0,0,0,0,0,0,0,0,0,0,0,0,0,0,0,0,0,0,0,0,0,0,0,0,0,0,0,0,0,0,0,0,0,0,0,0,0,0,0,0,0,0,0,0,0,0,0,0,0,0,0,0,0,0,0,0,0,0,0,0,0,0,0,0,0,0,0,0,0,0,0,0,0,0,0,0,0,0,0,0,0,0,0,0,0,0,0,0,0,0,0,0,0,0,0,0,0,0,0,0,0,0,0,0,0,0,0,0,0,0,0,0,0,0,0,0,0,0,0,0,0,0,0,0,0,0,0,0,0,0,0,0,0,0,0,0,0,0,0,0,0,0,0,0,0,0,0,0,0,0,0,0,0,0,0,0,0,0,0,0,0,0,0,0,0,0,0,0,0,0,0,0,0,0,0,0,0,0,0,0,0,0,0,0,0,0,0,0,0,0,0,0,0,0,0,0,0,0,0,0,0,0,0,0,0,0,0,0,0,0,0,0,157.43799999999999,202.34,288.83699999999999,328.78399999999999,330.04,341.916,346.262,352.94,292.07100000000003,249.345,228.46899999999999,197.55799999999999,0,0,0,0,0,0,0,0,0,0,0,0,0,0,0,0,0,0,0,0,0,0,0]
[12,4900,59550,"Putah Creek Solar Farm","PV","CA",null,null,0,0,0,0,0,0,0,0,0,0,0,0,0,0,0,0,0,0,0,0,0,0,0,0,0,0,0,0,0,0,0,0,0,0,0,0,0,0,0,0,0,0,0,0,0,0,0,0,0,0,0,0,0,0,0,0,0,0,0,0,0,0,0,0,0,0,0,0,0,0,0,0,0,0,0,0,0,0,0,0,0,0,0,0,0,0,0,0,0,0,0,0,0,0,0,0,0,0,0,0,0,0,0,0,0,0,0,0,0,0,0,0,0,0,0,0,0,0,0,0,0,0,0,0,0,0,0,0,0,0,0,0,0,0,0,0,0,0,0,0,0,0,0,0,0,0,0,0,0,0,0,0,0,0,0,0,0,0,0,0,0,0,0,0,0,0,0,0,0,0,0,0,0,0,0,0,0,0,0,0,0,0,0,0,0,0,0,0,0,0,0,0,0,0,0,0,0,0,0,0,0,0,0,0,0,0,0,0,0,0,0,0,0,0,0,0,0,0,0,0,0,0,0,0,0,0,0,0,0,0,0,0,0,0,0,0,0,0,0,0,0,0,0,0,0,0,0,0,0,0,0,0,0,0,0,0,0,0,0,0,0,0,0,0,0,0,0,0,0,0,0,0,0,0,0,0,0,0,0,0,0,0,0,0,0,0,0,0,0,0,0,0,0,0,0,0,0,0,0,0,0,0,0,0,0,0,0,0,0,0,0,0,0,0,0,0,0,0,0,0,0,0,0,0,0,0,0,0,0,0,0,0,0,0,0,0,0,0,0,0,0,0,0,0,0,0,0,0,0,0,0,0,0,0,0,0,0,0,0,0,0,0,0,0,0,0,0,0,0,0,0,0,0,0,0,0,0,0,0,0,0,0,0,0,0,0,0,0,0,0,0,0,0,0,0,0,0,0,0,0,0,0,0,0,0,0,0,0,0,0,0,0,0,0,0,0,0,0,0,0,0,0,0,0,0,0,0,0,0,0,0,0,0,0,0,0,0,0,0,0,0,0,0,0,0,0,0,0,0,0,0,0,0,0,0,0,0,0,0,0,0,0,0,0,0,0,0,0,0,0,0,0,0,0,0,0,0,0,0,0,0,0,0,0,0,0,0,0,0,0,0,0,0,0,0,0,0,0,0,0,0,0,0,0,0,0,0,0,0,0,0,0,0,0,0,0,0,0,0,0,0,0,0,0,0,0,0,0,0,0,0,0,0,0,0,0,0,0,0,0,233.988,294.90199999999999,432.16300000000001,485.04,487.54,502.32900000000001,519.88400000000001,526.20100000000002,434.262,365.83199999999999,338.89600000000002,278.96300000000002,0,0,0,0,0,0,0,0,0,0,0,0,0,0,0,0,0,0,0,0,0,0,0]
[12,4971.0000000000009,59731,"Templeton","PV","MA",null,null,0,0,0,0,0,0,0,0,0,0,0,0,0,0,0,0,0,0,0,0,0,0,0,0,0,0,0,0,0,0,0,0,0,0,0,0,0,0,0,0,0,0,0,0,0,0,0,0,0,0,0,0,0,0,0,0,0,0,0,0,0,0,0,0,0,0,0,0,0,0,0,0,0,0,0,0,0,0,0,0,0,0,0,0,0,0,0,0,0,0,0,0,0,0,0,0,0,0,0,0,0,0,0,0,0,0,0,0,0,0,0,0,0,0,0,0,0,0,0,0,0,0,0,0,0,0,0,0,0,0,0,0,0,0,0,0,0,0,0,0,0,0,0,0,0,0,0,0,0,0,0,0,0,0,0,0,0,0,0,0,0,0,0,0,0,0,0,0,0,0,0,0,0,0,0,0,0,0,0,0,0,0,0,0,0,0,0,0,0,0,0,0,0,0,0,0,0,0,0,0,0,0,0,0,0,0,0,0,0,0,0,0,0,0,0,0,0,0,0,0,0,0,0,0,0,0,0,0,0,0,0,0,0,0,0,0,0,0,0,0,0,0,0,0,0,0,0,0,0,0,0,0,0,0,0,0,0,0,0,0,0,0,0,0,0,0,0,0,0,0,0,0,0,0,0,0,0,0,0,0,0,0,0,0,0,0,0,0,0,0,0,0,0,0,0,0,0,0,0,0,0,0,0,0,0,0,0,0,0,0,0,0,0,0,0,0,0,0,0,0,0,0,0,0,0,0,0,0,0,0,0,0,0,0,0,0,0,0,0,0,0,0,0,0,0,0,0,0,0,0,0,0,0,0,0,0,0,0,0,0,0,0,0,0,0,0,0,0,0,0,0,0,0,0,0,0,0,0,0,0,0,0,0,0,0,0,0,0,0,0,0,0,0,0,0,0,0,0,0,0,0,0,0,0,0,0,0,0,0,0,0,0,0,0,0,0,0,0,0,0,0,0,0,0,0,0,0,0,0,0,0,0,0,0,0,0,0,0,0,0,0,0,0,0,0,0,0,0,0,0,0,0,0,0,0,0,0,0,0,0,0,0,0,0,0,0,0,0,0,0,0,0,0,0,0,0,0,0,0,0,0,0,0,0,0,0,0,0,0,0,0,0,0,0,0,0,0,0,0,0,0,0,0,0,0,0,0,0,0,0,0,0,0,0,0,0,0,0,0,0,0,0,0,0,0,0,0,0,0,0,0,0,0,0,0,0,0,0,0,0,236.01400000000001,303.327,432.99400000000003,492.87900000000002,494.762,512.56500000000005,519.07899999999995,529.09100000000001,437.84199999999998,373.79199999999997,342.49700000000001,296.15800000000002,0,0,0,0,0,0,0,0,0,0,0,0,0,0,0,0,0,0,0,0,0,0,0]
[12,9260,59762,"Broadway Solar Center, LLC","PV","NC",null,null,0,0,0,0,0,0,0,0,0,0,0,0,0,0,0,0,0,0,0,0,0,0,0,0,0,0,0,0,0,0,0,0,0,0,0,0,0,0,0,0,0,0,0,0,0,0,0,0,0,0,0,0,0,0,0,0,0,0,0,0,0,0,0,0,0,0,0,0,0,0,0,0,0,0,0,0,0,0,0,0,0,0,0,0,0,0,0,0,0,0,0,0,0,0,0,0,0,0,0,0,0,0,0,0,0,0,0,0,0,0,0,0,0,0,0,0,0,0,0,0,0,0,0,0,0,0,0,0,0,0,0,0,0,0,0,0,0,0,0,0,0,0,0,0,0,0,0,0,0,0,0,0,0,0,0,0,0,0,0,0,0,0,0,0,0,0,0,0,0,0,0,0,0,0,0,0,0,0,0,0,0,0,0,0,0,0,0,0,0,0,0,0,0,0,0,0,0,0,0,0,0,0,0,0,0,0,0,0,0,0,0,0,0,0,0,0,0,0,0,0,0,0,0,0,0,0,0,0,0,0,0,0,0,0,0,0,0,0,0,0,0,0,0,0,0,0,0,0,0,0,0,0,0,0,0,0,0,0,0,0,0,0,0,0,0,0,0,0,0,0,0,0,0,0,0,0,0,0,0,0,0,0,0,0,0,0,0,0,0,0,0,0,0,0,0,0,0,0,0,0,0,0,0,0,0,0,0,0,0,0,0,0,0,0,0,0,0,0,0,0,0,0,0,0,0,0,0,0,0,0,0,0,0,0,0,0,0,0,0,0,0,0,0,0,0,0,0,0,0,0,0,0,0,0,0,0,0,0,0,0,0,0,0,0,0,0,0,0,0,0,0,0,0,0,0,0,0,0,0,0,0,0,0,0,0,0,0,0,0,0,0,0,0,0,0,0,0,0,0,0,0,0,0,0,0,0,0,0,0,0,0,0,0,0,0,0,0,0,0,0,0,0,0,0,0,0,0,0,0,0,0,0,0,0,0,0,0,0,0,0,0,0,0,0,0,0,0,0,0,0,0,0,0,0,0,0,0,0,0,0,0,0,0,0,0,0,0,0,0,0,0,0,0,0,0,0,0,0,0,0,0,0,0,0,0,0,0,0,0,0,0,0,0,0,0,0,0,0,0,0,0,0,0,0,0,0,0,0,0,0,0,0,0,0,0,0,0,0,0,0,0,0,0,0,0,0,0,0,0,0,0,0,0,0,0,0,0,0,0,0,486.45800000000003,398.94,726.26300000000003,825.505,1140.6020000000001,1063.172,1139.0989999999999,1015.572,694.02800000000002,623.51300000000003,458.93299999999999,687.91499999999996,0,0,0,0,0,0,0,0,0,0,0,0,0,0,0,0,0,0,0,0,0,0,0]
[12,825,60018,"Ford World Headquarters","PV","MI",null,null,0,0,0,0,0,0,0,0,0,0,0,0,0,0,0,0,0,0,0,0,0,0,0,0,0,0,0,0,0,0,0,0,0,0,0,0,0,0,0,0,0,0,0,0,0,0,0,0,0,0,0,0,0,0,0,0,0,0,0,0,0,0,0,0,0,0,0,0,0,0,0,0,0,0,0,0,0,0,0,0,0,0,0,0,0,0,0,0,0,0,0,0,0,0,0,0,0,0,0,0,0,0,0,0,0,0,0,0,0,0,0,0,0,0,0,0,0,0,0,0,0,0,0,0,0,0,0,0,0,0,0,0,0,0,0,0,0,0,0,0,0,0,0,0,0,0,0,0,0,0,0,0,0,0,0,0,0,0,0,0,0,0,0,0,0,0,0,0,0,0,0,0,0,0,0,0,0,0,0,0,0,0,0,0,0,0,0,0,0,0,0,0,0,0,0,0,0,0,0,0,0,0,0,0,0,0,0,0,0,0,0,0,0,0,0,0,0,0,0,0,0,0,0,0,0,0,0,0,0,0,0,0,0,0,0,0,0,0,0,0,0,0,0,0,0,0,0,0,0,0,0,0,0,0,0,0,0,0,0,0,0,0,0,0,0,0,0,0,0,0,0,0,0,0,0,0,0,0,0,0,0,0,0,0,0,0,0,0,0,0,0,0,0,0,0,0,0,0,0,0,0,0,0,0,0,0,0,0,0,0,0,0,0,0,0,0,0,0,0,0,0,0,0,0,0,0,0,0,0,0,0,0,0,0,0,0,0,0,0,0,0,0,0,0,0,0,0,0,0,0,0,0,0,0,0,0,0,0,0,0,0,0,0,0,0,0,0,0,0,0,0,0,0,0,0,0,0,0,0,0,0,0,0,0,0,0,0,0,0,0,0,0,0,0,0,0,0,0,0,0,0,0,0,0,0,0,0,0,0,0,0,0,0,0,0,0,0,0,0,0,0,0,0,0,0,0,0,0,0,0,0,0,0,0,0,0,0,0,0,0,0,0,0,0,0,0,0,0,0,0,0,0,0,0,0,0,0,0,0,0,0,0,0,0,0,0,0,0,0,0,0,0,0,0,0,0,0,0,0,0,0,0,0,0,0,0,0,0,0,0,0,0,0,0,0,0,0,0,0,0,0,0,0,0,0,0,0,0,0,0,0,0,0,0,0,0,0,0,0,0,0,0,0,0,0,0,0,0,0,0,0,0,0,0,0,0,0,0,0,0,0,0,0,101.68899999999999,102.07899999999999,105.752,107.096,109.16200000000001,90.334999999999994,77.12,70.664000000000001,61.103000000000002,0,0,0,0,0,0,0,0,0,0,0,0,19,41,63,0,0,0,0,0,0,0,0]
[10,3039,59114,"Redmon Solar Farm LLC","PV","NC",null,null,0,0,0,0,0,0,0,0,0,0,0,0,0,0,0,0,0,0,0,0,0,0,0,0,0,0,0,0,0,0,0,0,0,0,0,0,0,0,0,0,0,0,0,0,0,0,0,0,0,0,0,0,0,0,0,0,0,0,0,0,0,0,0,0,0,0,0,0,0,0,0,0,0,0,0,0,0,0,0,0,0,0,0,0,0,0,0,0,0,0,0,0,0,0,0,0,0,0,0,0,0,0,0,0,0,0,0,0,0,0,0,0,0,0,0,0,0,0,0,0,0,0,0,0,0,0,0,0,0,0,0,0,0,0,0,0,0,0,0,0,0,0,0,0,0,0,0,0,0,0,0,0,0,0,0,0,0,0,0,0,0,0,0,0,0,0,0,0,0,0,0,0,0,0,0,0,0,0,0,0,0,0,0,0,0,0,0,0,0,0,0,0,0,0,0,0,0,0,0,0,0,0,0,0,0,0,0,0,0,0,0,0,0,0,0,0,0,0,0,0,0,0,0,0,0,0,0,0,0,0,0,0,0,0,0,0,0,0,0,0,0,0,0,0,0,0,0,0,0,0,0,0,0,0,0,0,0,0,0,0,0,0,0,0,0,0,0,0,0,0,0,0,0,0,0,0,0,0,0,0,0,0,0,0,0,0,0,0,0,0,0,0,0,0,0,0,0,0,0,0,0,0,0,0,0,0,0,0,0,0,0,0,0,0,0,0,0,0,0,0,0,0,0,0,0,0,0,0,0,0,0,0,0,0,0,0,0,0,0,0,0,0,0,0,0,0,0,0,0,0,0,0,0,0,0,0,0,0,0,0,0,0,0,0,0,0,0,0,0,0,0,0,0,0,0,0,0,0,0,0,0,0,0,0,0,0,0,0,0,0,0,0,0,0,0,0,0,0,0,0,0,0,0,0,0,0,0,0,0,0,0,0,0,0,0,0,0,0,0,0,0,0,0,0,0,0,0,0,0,0,0,0,0,0,0,0,0,0,0,0,0,0,0,0,0,0,0,0,0,0,0,0,0,0,0,0,0,0,0,0,0,0,0,0,0,0,0,0,0,0,0,0,0,0,0,0,0,0,0,0,0,0,0,0,0,0,0,0,0,0,0,0,0,0,0,0,0,0,0,0,0,0,0,0,0,0,0,0,0,0,0,0,0,0,0,0,0,0,0,0,0,0,0,0,0,0,0,0,0,0,0,0,0,0,0,0,0,0,0,0,0,0,263.548,299.56200000000001,413.90499999999997,385.80700000000002,413.35899999999998,368.53399999999999,251.851,226.262,166.53899999999999,249.63300000000001,0,0,0,0,0,0,0,0,0,0,0,0,0,0,0,0,0,0,0,0,0,0,0]
[9,1614.0000000000002,59598,"Colton Solar Two, LLC","PV","CA",null,null,0,0,0,0,0,0,0,0,0,0,0,0,0,0,0,0,0,0,0,0,0,0,0,0,0,0,0,0,0,0,0,0,0,0,0,0,0,0,0,0,0,0,0,0,0,0,0,0,0,0,0,0,0,0,0,0,0,0,0,0,0,0,0,0,0,0,0,0,0,0,0,0,0,0,0,0,0,0,0,0,0,0,0,0,0,0,0,0,0,0,0,0,0,0,0,0,0,0,0,0,0,0,0,0,0,0,0,0,0,0,0,0,0,0,0,0,0,0,0,0,0,0,0,0,0,0,0,0,0,0,0,0,0,0,0,0,0,0,0,0,0,0,0,0,0,0,0,0,0,0,0,0,0,0,0,0,0,0,0,0,0,0,0,0,0,0,0,0,0,0,0,0,0,0,0,0,0,0,0,0,0,0,0,0,0,0,0,0,0,0,0,0,0,0,0,0,0,0,0,0,0,0,0,0,0,0,0,0,0,0,0,0,0,0,0,0,0,0,0,0,0,0,0,0,0,0,0,0,0,0,0,0,0,0,0,0,0,0,0,0,0,0,0,0,0,0,0,0,0,0,0,0,0,0,0,0,0,0,0,0,0,0,0,0,0,0,0,0,0,0,0,0,0,0,0,0,0,0,0,0,0,0,0,0,0,0,0,0,0,0,0,0,0,0,0,0,0,0,0,0,0,0,0,0,0,0,0,0,0,0,0,0,0,0,0,0,0,0,0,0,0,0,0,0,0,0,0,0,0,0,0,0,0,0,0,0,0,0,0,0,0,0,0,0,0,0,0,0,0,0,0,0,0,0,0,0,0,0,0,0,0,0,0,0,0,0,0,0,0,0,0,0,0,0,0,0,0,0,0,0,0,0,0,0,0,0,0,0,0,0,0,0,0,0,0,0,0,0,0,0,0,0,0,0,0,0,0,0,0,0,0,0,0,0,0,0,0,0,0,0,0,0,0,0,0,0,0,0,0,0,0,0,0,0,0,0,0,0,0,0,0,0,0,0,0,0,0,0,0,0,0,0,0,0,0,0,0,0,0,0,0,0,0,0,0,0,0,0,0,0,0,0,0,0,0,0,0,0,0,0,0,0,0,0,0,0,0,0,0,0,0,0,0,0,0,0,0,0,0,0,0,0,0,0,0,0,0,0,0,0,0,0,0,0,0,0,0,0,0,0,0,0,0,0,0,0,0,0,0,0,0,0,0,0,0,0,0,0,0,0,0,0,0,198.74799999999999,199.77099999999999,205.83099999999999,213.02500000000001,215.613,177.941,149.90100000000001,138.864,114.306,0,0,0,0,0,0,0,0,0,0,0,0,0,0,0,0,0,0,0,0,0,0,0]
[8,20772,59087,"City of Corcoran Solar","PV","CA",null,null,0,0,0,0,0,0,0,0,0,0,0,0,0,0,0,0,0,0,0,0,0,0,0,0,0,0,0,0,0,0,0,0,0,0,0,0,0,0,0,0,0,0,0,0,0,0,0,0,0,0,0,0,0,0,0,0,0,0,0,0,0,0,0,0,0,0,0,0,0,0,0,0,0,0,0,0,0,0,0,0,0,0,0,0,0,0,0,0,0,0,0,0,0,0,0,0,0,0,0,0,0,0,0,0,0,0,0,0,0,0,0,0,0,0,0,0,0,0,0,0,0,0,0,0,0,0,0,0,0,0,0,0,0,0,0,0,0,0,0,0,0,0,0,0,0,0,0,0,0,0,0,0,0,0,0,0,0,0,0,0,0,0,0,0,0,0,0,0,0,0,0,0,0,0,0,0,0,0,0,0,0,0,0,0,0,0,0,0,0,0,0,0,0,0,0,0,0,0,0,0,0,0,0,0,0,0,0,0,0,0,0,0,0,0,0,0,0,0,0,0,0,0,0,0,0,0,0,0,0,0,0,0,0,0,0,0,0,0,0,0,0,0,0,0,0,0,0,0,0,0,0,0,0,0,0,0,0,0,0,0,0,0,0,0,0,0,0,0,0,0,0,0,0,0,0,0,0,0,0,0,0,0,0,0,0,0,0,0,0,0,0,0,0,0,0,0,0,0,0,0,0,0,0,0,0,0,0,0,0,0,0,0,0,0,0,0,0,0,0,0,0,0,0,0,0,0,0,0,0,0,0,0,0,0,0,0,0,0,0,0,0,0,0,0,0,0,0,0,0,0,0,0,0,0,0,0,0,0,0,0,0,0,0,0,0,0,0,0,0,0,0,0,0,0,0,0,0,0,0,0,0,0,0,0,0,0,0,0,0,0,0,0,0,0,0,0,0,0,0,0,0,0,0,0,0,0,0,0,0,0,0,0,0,0,0,0,0,0,0,0,0,0,0,0,0,0,0,0,0,0,0,0,0,0,0,0,0,0,0,0,0,0,0,0,0,0,0,0,0,0,0,0,0,0,0,0,0,0,0,0,0,0,0,0,0,0,0,0,0,0,0,0,0,0,0,0,0,0,0,0,0,0,0,0,0,0,0,0,0,0,0,0,0,0,0,0,0,0,0,0,0,0,0,0,0,0,0,0,0,0,0,0,0,0,0,0,0,0,0,0,0,0,0,0,0,0,0,0,0,0,0,0,0,0,0,0,0,0,0,0,0,0,0,0,2932.0909999999999,3021.0349999999999,3126.6149999999998,3164.6080000000002,2611.6770000000001,2200.134,2038.1410000000001,1677.6990000000001,0,0,0,0,0,0,0,0,0,0,0,0,0,0,0,0,0,0,0,0,0,0,0]
[7,4906,58418,"Victor Dry Farm Ranch A","PV","CA",null,null,0,0,0,0,0,0,0,0,0,0,0,0,0,0,0,0,0,0,0,0,0,0,0,0,0,0,0,0,0,0,0,0,0,0,0,0,0,0,0,0,0,0,0,0,0,0,0,0,0,0,0,0,0,0,0,0,0,0,0,0,0,0,0,0,0,0,0,0,0,0,0,0,0,0,0,0,0,0,0,0,0,0,0,0,0,0,0,0,0,0,0,0,0,0,0,0,0,0,0,0,0,0,0,0,0,0,0,0,0,0,0,0,0,0,0,0,0,0,0,0,0,0,0,0,0,0,0,0,0,0,0,0,0,0,0,0,0,0,0,0,0,0,0,0,0,0,0,0,0,0,0,0,0,0,0,0,0,0,0,0,0,0,0,0,0,0,0,0,0,0,0,0,0,0,0,0,0,0,0,0,0,0,0,0,0,0,0,0,0,0,0,0,0,0,0,0,0,0,0,0,0,0,0,0,0,0,0,0,0,0,0,0,0,0,0,0,0,0,0,0,0,0,0,0,0,0,0,0,0,0,0,0,0,0,0,0,0,0,0,0,0,0,0,0,0,0,0,0,0,0,0,0,0,0,0,0,0,0,0,0,0,0,0,0,0,0,0,0,0,0,0,0,0,0,0,0,0,0,0,0,0,0,0,0,0,0,0,0,0,0,0,0,0,0,0,0,0,0,0,0,0,0,0,0,0,0,0,0,0,0,0,0,0,0,0,0,0,0,0,0,0,0,0,0,0,0,0,0,0,0,0,0,0,0,0,0,0,0,0,0,0,0,0,0,0,0,0,0,0,0,0,0,0,0,0,0,0,0,0,0,0,0,0,0,0,0,0,0,0,0,0,0,0,0,0,0,0,0,0,0,0,0,0,0,0,0,0,0,0,0,0,0,0,0,0,0,0,0,0,0,0,0,0,0,0,0,0,0,0,0,0,0,0,0,0,0,0,0,0,0,0,0,0,0,0,0,0,0,0,0,0,0,0,0,0,0,0,0,0,0,0,0,0,0,0,0,0,0,0,0,0,0,0,0,0,0,0,0,0,0,0,0,0,0,0,0,0,0,0,0,0,0,0,0,0,0,0,0,0,0,0,0,0,0,0,0,0,0,0,0,0,0,0,0,0,0,0,0,0,0,0,0,0,0,0,0,0,0,0,0,0,0,0,0,0,0,0,0,0,0,0,0,0,0,0,0,0,0,0,0,0,0,0,0,0,0,0,0,0,0,0,0,0,0,0,830.78700000000003,859.82399999999996,870.27200000000005,718.21500000000003,605.04,560.49199999999996,461.37,0,0,0,0,0,0,0,0,0,0,0,0,0,0,0,0,0,0,0,0,0,0,0]
[6,694,59849,"Adams Community Solar Garden LLC","PV","CO",null,null,0,0,0,0,0,0,0,0,0,0,0,0,0,0,0,0,0,0,0,0,0,0,0,0,0,0,0,0,0,0,0,0,0,0,0,0,0,0,0,0,0,0,0,0,0,0,0,0,0,0,0,0,0,0,0,0,0,0,0,0,0,0,0,0,0,0,0,0,0,0,0,0,0,0,0,0,0,0,0,0,0,0,0,0,0,0,0,0,0,0,0,0,0,0,0,0,0,0,0,0,0,0,0,0,0,0,0,0,0,0,0,0,0,0,0,0,0,0,0,0,0,0,0,0,0,0,0,0,0,0,0,0,0,0,0,0,0,0,0,0,0,0,0,0,0,0,0,0,0,0,0,0,0,0,0,0,0,0,0,0,0,0,0,0,0,0,0,0,0,0,0,0,0,0,0,0,0,0,0,0,0,0,0,0,0,0,0,0,0,0,0,0,0,0,0,0,0,0,0,0,0,0,0,0,0,0,0,0,0,0,0,0,0,0,0,0,0,0,0,0,0,0,0,0,0,0,0,0,0,0,0,0,0,0,0,0,0,0,0,0,0,0,0,0,0,0,0,0,0,0,0,0,0,0,0,0,0,0,0,0,0,0,0,0,0,0,0,0,0,0,0,0,0,0,0,0,0,0,0,0,0,0,0,0,0,0,0,0,0,0,0,0,0,0,0,0,0,0,0,0,0,0,0,0,0,0,0,0,0,0,0,0,0,0,0,0,0,0,0,0,0,0,0,0,0,0,0,0,0,0,0,0,0,0,0,0,0,0,0,0,0,0,0,0,0,0,0,0,0,0,0,0,0,0,0,0,0,0,0,0,0,0,0,0,0,0,0,0,0,0,0,0,0,0,0,0,0,0,0,0,0,0,0,0,0,0,0,0,0,0,0,0,0,0,0,0,0,0,0,0,0,0,0,0,0,0,0,0,0,0,0,0,0,0,0,0,0,0,0,0,0,0,0,0,0,0,0,0,0,0,0,0,0,0,0,0,0,0,0,0,0,0,0,0,0,0,0,0,0,0,0,0,0,0,0,0,0,0,0,0,0,0,0,0,0,0,0,0,0,0,0,0,0,0,0,0,0,0,0,0,0,0,0,0,0,0,0,0,0,0,0,0,0,0,0,0,0,0,0,0,0,0,0,0,0,0,0,0,0,0,0,0,0,0,0,0,0,0,0,0,0,0,0,0,0,0,0,0,0,0,0,0,0,0,0,0,0,0,0,0,0,0,0,0,0,0,114.465,132.34299999999999,122.96599999999999,97.733999999999995,97.412000000000006,129.08000000000001,0,0,0,0,0,0,0,0,0,0,0,0,0,0,0,0,0,0,0,0,0,0,0]
[5,3542,59563,"Foxfire Solar Farm","PV","NC",null,null,0,0,0,0,0,0,0,0,0,0,0,0,0,0,0,0,0,0,0,0,0,0,0,0,0,0,0,0,0,0,0,0,0,0,0,0,0,0,0,0,0,0,0,0,0,0,0,0,0,0,0,0,0,0,0,0,0,0,0,0,0,0,0,0,0,0,0,0,0,0,0,0,0,0,0,0,0,0,0,0,0,0,0,0,0,0,0,0,0,0,0,0,0,0,0,0,0,0,0,0,0,0,0,0,0,0,0,0,0,0,0,0,0,0,0,0,0,0,0,0,0,0,0,0,0,0,0,0,0,0,0,0,0,0,0,0,0,0,0,0,0,0,0,0,0,0,0,0,0,0,0,0,0,0,0,0,0,0,0,0,0,0,0,0,0,0,0,0,0,0,0,0,0,0,0,0,0,0,0,0,0,0,0,0,0,0,0,0,0,0,0,0,0,0,0,0,0,0,0,0,0,0,0,0,0,0,0,0,0,0,0,0,0,0,0,0,0,0,0,0,0,0,0,0,0,0,0,0,0,0,0,0,0,0,0,0,0,0,0,0,0,0,0,0,0,0,0,0,0,0,0,0,0,0,0,0,0,0,0,0,0,0,0,0,0,0,0,0,0,0,0,0,0,0,0,0,0,0,0,0,0,0,0,0,0,0,0,0,0,0,0,0,0,0,0,0,0,0,0,0,0,0,0,0,0,0,0,0,0,0,0,0,0,0,0,0,0,0,0,0,0,0,0,0,0,0,0,0,0,0,0,0,0,0,0,0,0,0,0,0,0,0,0,0,0,0,0,0,0,0,0,0,0,0,0,0,0,0,0,0,0,0,0,0,0,0,0,0,0,0,0,0,0,0,0,0,0,0,0,0,0,0,0,0,0,0,0,0,0,0,0,0,0,0,0,0,0,0,0,0,0,0,0,0,0,0,0,0,0,0,0,0,0,0,0,0,0,0,0,0,0,0,0,0,0,0,0,0,0,0,0,0,0,0,0,0,0,0,0,0,0,0,0,0,0,0,0,0,0,0,0,0,0,0,0,0,0,0,0,0,0,0,0,0,0,0,0,0,0,0,0,0,0,0,0,0,0,0,0,0,0,0,0,0,0,0,0,0,0,0,0,0,0,0,0,0,0,0,0,0,0,0,0,0,0,0,0,0,0,0,0,0,0,0,0,0,0,0,0,0,0,0,0,0,0,0,0,0,0,0,0,0,0,0,0,0,0,0,0,0,0,0,0,0,0,0,0,1033.6759999999999,706.40099999999995,634.62900000000002,467.11500000000001,700.17899999999997,0,0,0,0,0,0,0,0,0,0,0,0,0,0,0,0,0,0,0,0,0,0,0]
[4,14817,59444,"SR85","PV","AZ",null,null,0,0,0,0,0,0,0,0,0,0,0,0,0,0,0,0,0,0,0,0,0,0,0,0,0,0,0,0,0,0,0,0,0,0,0,0,0,0,0,0,0,0,0,0,0,0,0,0,0,0,0,0,0,0,0,0,0,0,0,0,0,0,0,0,0,0,0,0,0,0,0,0,0,0,0,0,0,0,0,0,0,0,0,0,0,0,0,0,0,0,0,0,0,0,0,0,0,0,0,0,0,0,0,0,0,0,0,0,0,0,0,0,0,0,0,0,0,0,0,0,0,0,0,0,0,0,0,0,0,0,0,0,0,0,0,0,0,0,0,0,0,0,0,0,0,0,0,0,0,0,0,0,0,0,0,0,0,0,0,0,0,0,0,0,0,0,0,0,0,0,0,0,0,0,0,0,0,0,0,0,0,0,0,0,0,0,0,0,0,0,0,0,0,0,0,0,0,0,0,0,0,0,0,0,0,0,0,0,0,0,0,0,0,0,0,0,0,0,0,0,0,0,0,0,0,0,0,0,0,0,0,0,0,0,0,0,0,0,0,0,0,0,0,0,0,0,0,0,0,0,0,0,0,0,0,0,0,0,0,0,0,0,0,0,0,0,0,0,0,0,0,0,0,0,0,0,0,0,0,0,0,0,0,0,0,0,0,0,0,0,0,0,0,0,0,0,0,0,0,0,0,0,0,0,0,0,0,0,0,0,0,0,0,0,0,0,0,0,0,0,0,0,0,0,0,0,0,0,0,0,0,0,0,0,0,0,0,0,0,0,0,0,0,0,0,0,0,0,0,0,0,0,0,0,0,0,0,0,0,0,0,0,0,0,0,0,0,0,0,0,0,0,0,0,0,0,0,0,0,0,0,0,0,0,0,0,0,0,0,0,0,0,0,0,0,0,0,0,0,0,0,0,0,0,0,0,0,0,0,0,0,0,0,0,0,0,0,0,0,0,0,0,0,0,0,0,0,0,0,0,0,0,0,0,0,0,0,0,0,0,0,0,0,0,0,0,0,0,0,0,0,0,0,0,0,0,0,0,0,0,0,0,0,0,0,0,0,0,0,0,0,0,0,0,0,0,0,0,0,0,0,0,0,0,0,0,0,0,0,0,0,0,0,0,0,0,0,0,0,0,0,0,0,0,0,0,0,0,0,0,0,0,0,0,0,0,0,0,0,0,0,0,0,0,0,0,0,0,0,0,0,0,0,0,0,0,0,0,0,0,0,0,0,0,0,0,0,0,4399.8599999999997,3904.7260000000001,3537.0909999999999,2975.3229999999999,0,0,0,0,0,0,0,0,0,0,0,0,0,0,0,0,0,0,0,0,0,0,0]
[4,30217,59993,"Babcock Solar Energy Center","PV","FL",null,null,0,0,0,0,0,0,0,0,0,0,0,0,0,0,0,0,0,0,0,0,0,0,0,0,0,0,0,0,0,0,0,0,0,0,0,0,0,0,0,0,0,0,0,0,0,0,0,0,0,0,0,0,0,0,0,0,0,0,0,0,0,0,0,0,0,0,0,0,0,0,0,0,0,0,0,0,0,0,0,0,0,0,0,0,0,0,0,0,0,0,0,0,0,0,0,0,0,0,0,0,0,0,0,0,0,0,0,0,0,0,0,0,0,0,0,0,0,0,0,0,0,0,0,0,0,0,0,0,0,0,0,0,0,0,0,0,0,0,0,0,0,0,0,0,0,0,0,0,0,0,0,0,0,0,0,0,0,0,0,0,0,0,0,0,0,0,0,0,0,0,0,0,0,0,0,0,0,0,0,0,0,0,0,0,0,0,0,0,0,0,0,0,0,0,0,0,0,0,0,0,0,0,0,0,0,0,0,0,0,0,0,0,0,0,0,0,0,0,0,0,0,0,0,0,0,0,0,0,0,0,0,0,0,0,0,0,0,0,0,0,0,0,0,0,0,0,0,0,0,0,0,0,0,0,0,0,0,0,0,0,0,0,0,0,0,0,0,0,0,0,0,0,0,0,0,0,0,0,0,0,0,0,0,0,0,0,0,0,0,0,0,0,0,0,0,0,0,0,0,0,0,0,0,0,0,0,0,0,0,0,0,0,0,0,0,0,0,0,0,0,0,0,0,0,0,0,0,0,0,0,0,0,0,0,0,0,0,0,0,0,0,0,0,0,0,0,0,0,0,0,0,0,0,0,0,0,0,0,0,0,0,0,0,0,0,0,0,0,0,0,0,0,0,0,0,0,0,0,0,0,0,0,0,0,0,0,0,0,0,0,0,0,0,0,0,0,0,0,0,0,0,0,0,0,0,0,0,0,0,0,0,0,0,0,0,0,0,0,0,0,0,0,0,0,0,0,0,0,0,0,0,0,0,0,0,0,0,0,0,0,0,0,0,0,0,0,0,0,0,0,0,0,0,0,0,0,0,0,0,0,0,0,0,0,0,0,0,0,0,0,0,0,0,0,0,0,0,0,0,0,0,0,0,0,0,0,0,0,0,0,0,0,0,0,0,0,0,0,0,0,0,0,0,0,0,0,0,0,0,0,0,0,0,0,0,0,0,0,0,0,0,0,0,0,0,0,0,0,0,0,0,0,0,0,0,0,0,0,0,0,0,0,0,0,0,0,0,0,0,0,0,0,0,0,0,0,0,0,0,0,0,0,0,30217,12616,13012,16131,0,0,0,0,0,0,0,0]
[3,608,59274,"Sutter Greeworks LLC","PV","NY",null,null,0,0,0,0,0,0,0,0,0,0,0,0,0,0,0,0,0,0,0,0,0,0,0,0,0,0,0,0,0,0,0,0,0,0,0,0,0,0,0,0,0,0,0,0,0,0,0,0,0,0,0,0,0,0,0,0,0,0,0,0,0,0,0,0,0,0,0,0,0,0,0,0,0,0,0,0,0,0,0,0,0,0,0,0,0,0,0,0,0,0,0,0,0,0,0,0,0,0,0,0,0,0,0,0,0,0,0,0,0,0,0,0,0,0,0,0,0,0,0,0,0,0,0,0,0,0,0,0,0,0,0,0,0,0,0,0,0,0,0,0,0,0,0,0,0,0,0,0,0,0,0,0,0,0,0,0,0,0,0,0,0,0,0,0,0,0,0,0,0,0,0,0,0,0,0,0,0,0,0,0,0,0,0,0,0,0,0,0,0,0,0,0,0,0,0,0,0,0,0,0,0,0,0,0,0,0,0,0,0,0,0,0,0,0,0,0,0,0,0,0,0,0,0,0,0,0,0,0,0,0,0,0,0,0,0,0,0,0,0,0,0,0,0,0,0,0,0,0,0,0,0,0,0,0,0,0,0,0,0,0,0,0,0,0,0,0,0,0,0,0,0,0,0,0,0,0,0,0,0,0,0,0,0,0,0,0,0,0,0,0,0,0,0,0,0,0,0,0,0,0,0,0,0,0,0,0,0,0,0,0,0,0,0,0,0,0,0,0,0,0,0,0,0,0,0,0,0,0,0,0,0,0,0,0,0,0,0,0,0,0,0,0,0,0,0,0,0,0,0,0,0,0,0,0,0,0,0,0,0,0,0,0,0,0,0,0,0,0,0,0,0,0,0,0,0,0,0,0,0,0,0,0,0,0,0,0,0,0,0,0,0,0,0,0,0,0,0,0,0,0,0,0,0,0,0,0,0,0,0,0,0,0,0,0,0,0,0,0,0,0,0,0,0,0,0,0,0,0,0,0,0,0,0,0,0,0,0,0,0,0,0,0,0,0,0,0,0,0,0,0,0,0,0,0,0,0,0,0,0,0,0,0,0,0,0,0,0,0,0,0,0,0,0,0,0,0,0,0,0,0,0,0,0,0,0,0,0,0,0,0,0,0,0,0,0,0,0,0,0,0,0,0,0,0,0,0,0,0,0,0,0,0,0,0,0,0,0,0,0,0,0,0,0,0,0,0,0,0,0,0,0,0,0,0,0,0,0,0,0,0,0,0,0,0,0,0,0,0,0,286.89699999999999,206.19,114.913,0,0,0,0,0,0,0,0,0,0,0,0,0,0,0,0,0,0,0,0,0,0,0]
[2,571,58726,"Flash Solar","PV","NC",null,null,0,0,0,0,0,0,0,0,0,0,0,0,0,0,0,0,0,0,0,0,0,0,0,0,0,0,0,0,0,0,0,0,0,0,0,0,0,0,0,0,0,0,0,0,0,0,0,0,0,0,0,0,0,0,0,0,0,0,0,0,0,0,0,0,0,0,0,0,0,0,0,0,0,0,0,0,0,0,0,0,0,0,0,0,0,0,0,0,0,0,0,0,0,0,0,0,0,0,0,0,0,0,0,0,0,0,0,0,0,0,0,0,0,0,0,0,0,0,0,0,0,0,0,0,0,0,0,0,0,0,0,0,0,0,0,0,0,0,0,0,0,0,0,0,0,0,0,0,0,0,0,0,0,0,0,0,0,0,0,0,0,0,0,0,0,0,0,0,0,0,0,0,0,0,0,0,0,0,0,0,0,0,0,0,0,0,0,0,0,0,0,0,0,0,0,0,0,0,0,0,0,0,0,0,0,0,0,0,0,0,0,0,0,0,0,0,0,0,0,0,0,0,0,0,0,0,0,0,0,0,0,0,0,0,0,0,0,0,0,0,0,0,0,0,0,0,0,0,0,0,0,0,0,0,0,0,0,0,0,0,0,0,0,0,0,0,0,0,0,0,0,0,0,0,0,0,0,0,0,0,0,0,0,0,0,0,0,0,0,0,0,0,0,0,0,0,0,0,0,0,0,0,0,0,0,0,0,0,0,0,0,0,0,0,0,0,0,0,0,0,0,0,0,0,0,0,0,0,0,0,0,0,0,0,0,0,0,0,0,0,0,0,0,0,0,0,0,0,0,0,0,0,0,0,0,0,0,0,0,0,0,0,0,0,0,0,0,0,0,0,0,0,0,0,0,0,0,0,0,0,0,0,0,0,0,0,0,0,0,0,0,0,0,0,0,0,0,0,0,0,0,0,0,0,0,0,0,0,0,0,0,0,0,0,0,0,0,0,0,0,0,0,0,0,0,0,0,0,0,0,0,0,0,0,0,0,0,0,0,0,0,0,0,0,0,0,0,0,0,0,0,0,0,0,0,0,0,0,0,0,0,0,0,0,0,0,0,0,0,0,0,0,0,0,0,0,0,0,0,0,0,0,0,0,0,0,0,0,0,0,0,0,0,0,0,0,0,0,0,0,0,0,0,0,0,0,0,0,0,0,0,0,0,0,0,0,0,0,0,0,0,0,0,0,0,0,0,0,0,0,0,0,0,0,0,0,0,0,0,0,0,0,0,0,0,0,0,0,0,0,228.49600000000001,342.50400000000002,0,0,0,0,0,0,0,0,0,0,0,0,0,0,0,0,0,0,0,0,0,0,0]
[2,218,59675,"Innovative Solar 44","PV","NC",null,null,0,0,0,0,0,0,0,0,0,0,0,0,0,0,0,0,0,0,0,0,0,0,0,0,0,0,0,0,0,0,0,0,0,0,0,0,0,0,0,0,0,0,0,0,0,0,0,0,0,0,0,0,0,0,0,0,0,0,0,0,0,0,0,0,0,0,0,0,0,0,0,0,0,0,0,0,0,0,0,0,0,0,0,0,0,0,0,0,0,0,0,0,0,0,0,0,0,0,0,0,0,0,0,0,0,0,0,0,0,0,0,0,0,0,0,0,0,0,0,0,0,0,0,0,0,0,0,0,0,0,0,0,0,0,0,0,0,0,0,0,0,0,0,0,0,0,0,0,0,0,0,0,0,0,0,0,0,0,0,0,0,0,0,0,0,0,0,0,0,0,0,0,0,0,0,0,0,0,0,0,0,0,0,0,0,0,0,0,0,0,0,0,0,0,0,0,0,0,0,0,0,0,0,0,0,0,0,0,0,0,0,0,0,0,0,0,0,0,0,0,0,0,0,0,0,0,0,0,0,0,0,0,0,0,0,0,0,0,0,0,0,0,0,0,0,0,0,0,0,0,0,0,0,0,0,0,0,0,0,0,0,0,0,0,0,0,0,0,0,0,0,0,0,0,0,0,0,0,0,0,0,0,0,0,0,0,0,0,0,0,0,0,0,0,0,0,0,0,0,0,0,0,0,0,0,0,0,0,0,0,0,0,0,0,0,0,0,0,0,0,0,0,0,0,0,0,0,0,0,0,0,0,0,0,0,0,0,0,0,0,0,0,0,0,0,0,0,0,0,0,0,0,0,0,0,0,0,0,0,0,0,0,0,0,0,0,0,0,0,0,0,0,0,0,0,0,0,0,0,0,0,0,0,0,0,0,0,0,0,0,0,0,0,0,0,0,0,0,0,0,0,0,0,0,0,0,0,0,0,0,0,0,0,0,0,0,0,0,0,0,0,0,0,0,0,0,0,0,0,0,0,0,0,0,0,0,0,0,0,0,0,0,0,0,0,0,0,0,0,0,0,0,0,0,0,0,0,0,0,0,0,0,0,0,0,0,0,0,0,0,0,0,0,0,0,0,0,0,0,0,0,0,0,0,0,0,0,0,0,0,0,0,0,0,0,0,0,0,0,0,0,0,0,0,0,0,0,0,0,0,0,0,0,0,0,0,0,0,0,0,0,0,0,0,0,0,0,0,0,0,0,0,0,0,0,0,0,0,0,0,0,0,0,0,0,0,0,0,0,0,87.236999999999995,130.76300000000001,0,0,0,0,0,0,0,0,0,0,0,0,0,0,0,0,0,0,0,0,0,0,0]
[1,256,59173,"Bethel Solar","PV","NC",null,null,0,0,0,0,0,0,0,0,0,0,0,0,0,0,0,0,0,0,0,0,0,0,0,0,0,0,0,0,0,0,0,0,0,0,0,0,0,0,0,0,0,0,0,0,0,0,0,0,0,0,0,0,0,0,0,0,0,0,0,0,0,0,0,0,0,0,0,0,0,0,0,0,0,0,0,0,0,0,0,0,0,0,0,0,0,0,0,0,0,0,0,0,0,0,0,0,0,0,0,0,0,0,0,0,0,0,0,0,0,0,0,0,0,0,0,0,0,0,0,0,0,0,0,0,0,0,0,0,0,0,0,0,0,0,0,0,0,0,0,0,0,0,0,0,0,0,0,0,0,0,0,0,0,0,0,0,0,0,0,0,0,0,0,0,0,0,0,0,0,0,0,0,0,0,0,0,0,0,0,0,0,0,0,0,0,0,0,0,0,0,0,0,0,0,0,0,0,0,0,0,0,0,0,0,0,0,0,0,0,0,0,0,0,0,0,0,0,0,0,0,0,0,0,0,0,0,0,0,0,0,0,0,0,0,0,0,0,0,0,0,0,0,0,0,0,0,0,0,0,0,0,0,0,0,0,0,0,0,0,0,0,0,0,0,0,0,0,0,0,0,0,0,0,0,0,0,0,0,0,0,0,0,0,0,0,0,0,0,0,0,0,0,0,0,0,0,0,0,0,0,0,0,0,0,0,0,0,0,0,0,0,0,0,0,0,0,0,0,0,0,0,0,0,0,0,0,0,0,0,0,0,0,0,0,0,0,0,0,0,0,0,0,0,0,0,0,0,0,0,0,0,0,0,0,0,0,0,0,0,0,0,0,0,0,0,0,0,0,0,0,0,0,0,0,0,0,0,0,0,0,0,0,0,0,0,0,0,0,0,0,0,0,0,0,0,0,0,0,0,0,0,0,0,0,0,0,0,0,0,0,0,0,0,0,0,0,0,0,0,0,0,0,0,0,0,0,0,0,0,0,0,0,0,0,0,0,0,0,0,0,0,0,0,0,0,0,0,0,0,0,0,0,0,0,0,0,0,0,0,0,0,0,0,0,0,0,0,0,0,0,0,0,0,0,0,0,0,0,0,0,0,0,0,0,0,0,0,0,0,0,0,0,0,0,0,0,0,0,0,0,0,0,0,0,0,0,0,0,0,0,0,0,0,0,0,0,0,0,0,0,0,0,0,0,0,0,0,0,0,0,0,0,0,0,0,0,0,0,0,0,0,0,0,0,0,0,0,0,0,0,0,256,0,0,0,0,0,0,0,0,0,0,0,0,0,0,0,0,0,0,0,0,0,0,0]
[1,3,59824,"Sweetgum Solar","PV","NC",null,null,0,0,0,0,0,0,0,0,0,0,0,0,0,0,0,0,0,0,0,0,0,0,0,0,0,0,0,0,0,0,0,0,0,0,0,0,0,0,0,0,0,0,0,0,0,0,0,0,0,0,0,0,0,0,0,0,0,0,0,0,0,0,0,0,0,0,0,0,0,0,0,0,0,0,0,0,0,0,0,0,0,0,0,0,0,0,0,0,0,0,0,0,0,0,0,0,0,0,0,0,0,0,0,0,0,0,0,0,0,0,0,0,0,0,0,0,0,0,0,0,0,0,0,0,0,0,0,0,0,0,0,0,0,0,0,0,0,0,0,0,0,0,0,0,0,0,0,0,0,0,0,0,0,0,0,0,0,0,0,0,0,0,0,0,0,0,0,0,0,0,0,0,0,0,0,0,0,0,0,0,0,0,0,0,0,0,0,0,0,0,0,0,0,0,0,0,0,0,0,0,0,0,0,0,0,0,0,0,0,0,0,0,0,0,0,0,0,0,0,0,0,0,0,0,0,0,0,0,0,0,0,0,0,0,0,0,0,0,0,0,0,0,0,0,0,0,0,0,0,0,0,0,0,0,0,0,0,0,0,0,0,0,0,0,0,0,0,0,0,0,0,0,0,0,0,0,0,0,0,0,0,0,0,0,0,0,0,0,0,0,0,0,0,0,0,0,0,0,0,0,0,0,0,0,0,0,0,0,0,0,0,0,0,0,0,0,0,0,0,0,0,0,0,0,0,0,0,0,0,0,0,0,0,0,0,0,0,0,0,0,0,0,0,0,0,0,0,0,0,0,0,0,0,0,0,0,0,0,0,0,0,0,0,0,0,0,0,0,0,0,0,0,0,0,0,0,0,0,0,0,0,0,0,0,0,0,0,0,0,0,0,0,0,0,0,0,0,0,0,0,0,0,0,0,0,0,0,0,0,0,0,0,0,0,0,0,0,0,0,0,0,0,0,0,0,0,0,0,0,0,0,0,0,0,0,0,0,0,0,0,0,0,0,0,0,0,0,0,0,0,0,0,0,0,0,0,0,0,0,0,0,0,0,0,0,0,0,0,0,0,0,0,0,0,0,0,0,0,0,0,0,0,0,0,0,0,0,0,0,0,0,0,0,0,0,0,0,0,0,0,0,0,0,0,0,0,0,0,0,0,0,0,0,0,0,0,0,0,0,0,0,0,0,0,0,0,0,0,0,0,0,0,0,0,0,0,0,0,0,0,0,0,0,0,0,0,0,0,0,0,0,3,0,0,0,0,0,0,0,0,0,0,0,0,0,0,0,0,0,0,0,0,0,0,0]
[0,0,58602,"Laho Solar Plant","PV","UT",null,null,0,0,0,0,0,0,0,0,0,0,0,0,0,0,0,0,0,0,0,0,0,0,0,0,0,0,0,0,0,0,0,0,0,0,0,0,0,0,0,0,0,0,0,0,0,0,0,0,0,0,0,0,0,0,0,0,0,0,0,0,0,0,0,0,0,0,0,0,0,0,0,0,0,0,0,0,0,0,0,0,0,0,0,0,0,0,0,0,0,0,0,0,0,0,0,0,0,0,0,0,0,0,0,0,0,0,0,0,0,0,0,0,0,0,0,0,0,0,0,0,0,0,0,0,0,0,0,0,0,0,0,0,0,0,0,0,0,0,0,0,0,0,0,0,0,0,0,0,0,0,0,0,0,0,0,0,0,0,0,0,0,0,0,0,0,0,0,0,0,0,0,0,0,0,0,0,0,0,0,0,0,0,0,0,0,0,0,0,0,0,0,0,0,0,0,0,0,0,0,0,0,0,0,0,0,0,0,0,0,0,0,0,0,0,0,0,0,0,0,0,0,0,0,0,0,0,0,0,0,0,0,0,0,0,0,0,0,0,0,0,0,0,0,0,0,0,0,0,0,0,0,0,0,0,0,0,0,0,0,0,0,0,0,0,0,0,0,0,0,0,0,0,0,0,0,0,0,0,0,0,0,0,0,0,0,0,0,0,0,0,0,0,0,0,0,0,0,0,0,0,0,0,0,0,0,0,0,0,0,0,0,0,0,0,0,0,0,0,0,0,0,0,0,0,0,0,0,0,0,0,0,0,0,0,0,0,0,0,0,0,0,0,0,0,0,0,0,0,0,0,0,0,0,0,0,0,0,0,0,0,0,0,0,0,0,0,0,0,0,0,0,0,0,0,0,0,0,0,0,0,0,0,0,0,0,0,0,0,0,0,0,0,0,0,0,0,0,0,0,0,0,0,0,0,0,0,0,0,0,0,0,0,0,0,0,0,0,0,0,0,0,0,0,0,0,0,0,0,0,0,0,0,0,0,0,0,0,0,0,0,0,0,0,0,0,0,0,0,0,0,0,0,0,0,0,0,0,0,0,0,0,0,0,0,0,0,0,0,0,0,0,0,0,0,0,0,0,0,0,0,0,0,0,0,0,0,0,0,0,0,0,0,0,0,0,0,0,0,0,0,0,0,0,0,0,0,0,0,0,0,0,0,0,0,0,0,0,0,0,0,0,0,0,0,0,0,0,0,0,0,0,0,0,0,0,0,0,0,0,0,0,0,0,0,0,0,0,0,0,0,0,0,0,0,0,0,0,0,0,0,0,0,0,0,0,0,0,0,0,0,0,0,0,0,0]
[0,0,59487,"Highwater Solar I","PV","NC",null,null,0,0,0,0,0,0,0,0,0,0,0,0,0,0,0,0,0,0,0,0,0,0,0,0,0,0,0,0,0,0,0,0,0,0,0,0,0,0,0,0,0,0,0,0,0,0,0,0,0,0,0,0,0,0,0,0,0,0,0,0,0,0,0,0,0,0,0,0,0,0,0,0,0,0,0,0,0,0,0,0,0,0,0,0,0,0,0,0,0,0,0,0,0,0,0,0,0,0,0,0,0,0,0,0,0,0,0,0,0,0,0,0,0,0,0,0,0,0,0,0,0,0,0,0,0,0,0,0,0,0,0,0,0,0,0,0,0,0,0,0,0,0,0,0,0,0,0,0,0,0,0,0,0,0,0,0,0,0,0,0,0,0,0,0,0,0,0,0,0,0,0,0,0,0,0,0,0,0,0,0,0,0,0,0,0,0,0,0,0,0,0,0,0,0,0,0,0,0,0,0,0,0,0,0,0,0,0,0,0,0,0,0,0,0,0,0,0,0,0,0,0,0,0,0,0,0,0,0,0,0,0,0,0,0,0,0,0,0,0,0,0,0,0,0,0,0,0,0,0,0,0,0,0,0,0,0,0,0,0,0,0,0,0,0,0,0,0,0,0,0,0,0,0,0,0,0,0,0,0,0,0,0,0,0,0,0,0,0,0,0,0,0,0,0,0,0,0,0,0,0,0,0,0,0,0,0,0,0,0,0,0,0,0,0,0,0,0,0,0,0,0,0,0,0,0,0,0,0,0,0,0,0,0,0,0,0,0,0,0,0,0,0,0,0,0,0,0,0,0,0,0,0,0,0,0,0,0,0,0,0,0,0,0,0,0,0,0,0,0,0,0,0,0,0,0,0,0,0,0,0,0,0,0,0,0,0,0,0,0,0,0,0,0,0,0,0,0,0,0,0,0,0,0,0,0,0,0,0,0,0,0,0,0,0,0,0,0,0,0,0,0,0,0,0,0,0,0,0,0,0,0,0,0,0,0,0,0,0,0,0,0,0,0,0,0,0,0,0,0,0,0,0,0,0,0,0,0,0,0,0,0,0,0,0,0,0,0,0,0,0,0,0,0,0,0,0,0,0,0,0,0,0,0,0,0,0,0,0,0,0,0,0,0,0,0,0,0,0,0,0,0,0,0,0,0,0,0,0,0,0,0,0,0,0,0,0,0,0,0,0,0,0,0,0,0,0,0,0,0,0,0,0,0,0,0,0,0,0,0,0,0,0,0,0,0,0,0,0,0,0,0,0,0,0,0,0,0,0,0,0,0,0,0,0,0,0,0,0,0,0,0,0,0,0,0]
[0,0,59521,"Little River PV 1","PV","NC",null,null,0,0,0,0,0,0,0,0,0,0,0,0,0,0,0,0,0,0,0,0,0,0,0,0,0,0,0,0,0,0,0,0,0,0,0,0,0,0,0,0,0,0,0,0,0,0,0,0,0,0,0,0,0,0,0,0,0,0,0,0,0,0,0,0,0,0,0,0,0,0,0,0,0,0,0,0,0,0,0,0,0,0,0,0,0,0,0,0,0,0,0,0,0,0,0,0,0,0,0,0,0,0,0,0,0,0,0,0,0,0,0,0,0,0,0,0,0,0,0,0,0,0,0,0,0,0,0,0,0,0,0,0,0,0,0,0,0,0,0,0,0,0,0,0,0,0,0,0,0,0,0,0,0,0,0,0,0,0,0,0,0,0,0,0,0,0,0,0,0,0,0,0,0,0,0,0,0,0,0,0,0,0,0,0,0,0,0,0,0,0,0,0,0,0,0,0,0,0,0,0,0,0,0,0,0,0,0,0,0,0,0,0,0,0,0,0,0,0,0,0,0,0,0,0,0,0,0,0,0,0,0,0,0,0,0,0,0,0,0,0,0,0,0,0,0,0,0,0,0,0,0,0,0,0,0,0,0,0,0,0,0,0,0,0,0,0,0,0,0,0,0,0,0,0,0,0,0,0,0,0,0,0,0,0,0,0,0,0,0,0,0,0,0,0,0,0,0,0,0,0,0,0,0,0,0,0,0,0,0,0,0,0,0,0,0,0,0,0,0,0,0,0,0,0,0,0,0,0,0,0,0,0,0,0,0,0,0,0,0,0,0,0,0,0,0,0,0,0,0,0,0,0,0,0,0,0,0,0,0,0,0,0,0,0,0,0,0,0,0,0,0,0,0,0,0,0,0,0,0,0,0,0,0,0,0,0,0,0,0,0,0,0,0,0,0,0,0,0,0,0,0,0,0,0,0,0,0,0,0,0,0,0,0,0,0,0,0,0,0,0,0,0,0,0,0,0,0,0,0,0,0,0,0,0,0,0,0,0,0,0,0,0,0,0,0,0,0,0,0,0,0,0,0,0,0,0,0,0,0,0,0,0,0,0,0,0,0,0,0,0,0,0,0,0,0,0,0,0,0,0,0,0,0,0,0,0,0,0,0,0,0,0,0,0,0,0,0,0,0,0,0,0,0,0,0,0,0,0,0,0,0,0,0,0,0,0,0,0,0,0,0,0,0,0,0,0,0,0,0,0,0,0,0,0,0,0,0,0,0,0,0,0,0,0,0,0,0,0,0,0,0,0,0,0,0,0,0,0,0,0,0,0,0,0,0,0,0,0,0,0,0,0,0,0,0]
[0,0,59527,"Kelford","PV","NC",null,null,0,0,0,0,0,0,0,0,0,0,0,0,0,0,0,0,0,0,0,0,0,0,0,0,0,0,0,0,0,0,0,0,0,0,0,0,0,0,0,0,0,0,0,0,0,0,0,0,0,0,0,0,0,0,0,0,0,0,0,0,0,0,0,0,0,0,0,0,0,0,0,0,0,0,0,0,0,0,0,0,0,0,0,0,0,0,0,0,0,0,0,0,0,0,0,0,0,0,0,0,0,0,0,0,0,0,0,0,0,0,0,0,0,0,0,0,0,0,0,0,0,0,0,0,0,0,0,0,0,0,0,0,0,0,0,0,0,0,0,0,0,0,0,0,0,0,0,0,0,0,0,0,0,0,0,0,0,0,0,0,0,0,0,0,0,0,0,0,0,0,0,0,0,0,0,0,0,0,0,0,0,0,0,0,0,0,0,0,0,0,0,0,0,0,0,0,0,0,0,0,0,0,0,0,0,0,0,0,0,0,0,0,0,0,0,0,0,0,0,0,0,0,0,0,0,0,0,0,0,0,0,0,0,0,0,0,0,0,0,0,0,0,0,0,0,0,0,0,0,0,0,0,0,0,0,0,0,0,0,0,0,0,0,0,0,0,0,0,0,0,0,0,0,0,0,0,0,0,0,0,0,0,0,0,0,0,0,0,0,0,0,0,0,0,0,0,0,0,0,0,0,0,0,0,0,0,0,0,0,0,0,0,0,0,0,0,0,0,0,0,0,0,0,0,0,0,0,0,0,0,0,0,0,0,0,0,0,0,0,0,0,0,0,0,0,0,0,0,0,0,0,0,0,0,0,0,0,0,0,0,0,0,0,0,0,0,0,0,0,0,0,0,0,0,0,0,0,0,0,0,0,0,0,0,0,0,0,0,0,0,0,0,0,0,0,0,0,0,0,0,0,0,0,0,0,0,0,0,0,0,0,0,0,0,0,0,0,0,0,0,0,0,0,0,0,0,0,0,0,0,0,0,0,0,0,0,0,0,0,0,0,0,0,0,0,0,0,0,0,0,0,0,0,0,0,0,0,0,0,0,0,0,0,0,0,0,0,0,0,0,0,0,0,0,0,0,0,0,0,0,0,0,0,0,0,0,0,0,0,0,0,0,0,0,0,0,0,0,0,0,0,0,0,0,0,0,0,0,0,0,0,0,0,0,0,0,0,0,0,0,0,0,0,0,0,0,0,0,0,0,0,0,0,0,0,0,0,0,0,0,0,0,0,0,0,0,0,0,0,0,0,0,0,0,0,0,0,0,0,0,0,0,0,0,0,0,0,0,0,0,0,0,0,0,0]
[0,0,59601,"L&D Landfill Solar","PV","NJ",null,null,0,0,0,0,0,0,0,0,0,0,0,0,0,0,0,0,0,0,0,0,0,0,0,0,0,0,0,0,0,0,0,0,0,0,0,0,0,0,0,0,0,0,0,0,0,0,0,0,0,0,0,0,0,0,0,0,0,0,0,0,0,0,0,0,0,0,0,0,0,0,0,0,0,0,0,0,0,0,0,0,0,0,0,0,0,0,0,0,0,0,0,0,0,0,0,0,0,0,0,0,0,0,0,0,0,0,0,0,0,0,0,0,0,0,0,0,0,0,0,0,0,0,0,0,0,0,0,0,0,0,0,0,0,0,0,0,0,0,0,0,0,0,0,0,0,0,0,0,0,0,0,0,0,0,0,0,0,0,0,0,0,0,0,0,0,0,0,0,0,0,0,0,0,0,0,0,0,0,0,0,0,0,0,0,0,0,0,0,0,0,0,0,0,0,0,0,0,0,0,0,0,0,0,0,0,0,0,0,0,0,0,0,0,0,0,0,0,0,0,0,0,0,0,0,0,0,0,0,0,0,0,0,0,0,0,0,0,0,0,0,0,0,0,0,0,0,0,0,0,0,0,0,0,0,0,0,0,0,0,0,0,0,0,0,0,0,0,0,0,0,0,0,0,0,0,0,0,0,0,0,0,0,0,0,0,0,0,0,0,0,0,0,0,0,0,0,0,0,0,0,0,0,0,0,0,0,0,0,0,0,0,0,0,0,0,0,0,0,0,0,0,0,0,0,0,0,0,0,0,0,0,0,0,0,0,0,0,0,0,0,0,0,0,0,0,0,0,0,0,0,0,0,0,0,0,0,0,0,0,0,0,0,0,0,0,0,0,0,0,0,0,0,0,0,0,0,0,0,0,0,0,0,0,0,0,0,0,0,0,0,0,0,0,0,0,0,0,0,0,0,0,0,0,0,0,0,0,0,0,0,0,0,0,0,0,0,0,0,0,0,0,0,0,0,0,0,0,0,0,0,0,0,0,0,0,0,0,0,0,0,0,0,0,0,0,0,0,0,0,0,0,0,0,0,0,0,0,0,0,0,0,0,0,0,0,0,0,0,0,0,0,0,0,0,0,0,0,0,0,0,0,0,0,0,0,0,0,0,0,0,0,0,0,0,0,0,0,0,0,0,0,0,0,0,0,0,0,0,0,0,0,0,0,0,0,0,0,0,0,0,0,0,0,0,0,0,0,0,0,0,0,0,0,0,0,0,0,0,0,0,0,0,0,0,0,0,0,0,0,0,0,0,0,0,0,0,0,0,0,0,0,0,0,0,0,0,0,0,0,0,0,0,0,0,0]
[0,0,59769,"TIA Solar","PV","FL",null,null,0,0,0,0,0,0,0,0,0,0,0,0,0,0,0,0,0,0,0,0,0,0,0,0,0,0,0,0,0,0,0,0,0,0,0,0,0,0,0,0,0,0,0,0,0,0,0,0,0,0,0,0,0,0,0,0,0,0,0,0,0,0,0,0,0,0,0,0,0,0,0,0,0,0,0,0,0,0,0,0,0,0,0,0,0,0,0,0,0,0,0,0,0,0,0,0,0,0,0,0,0,0,0,0,0,0,0,0,0,0,0,0,0,0,0,0,0,0,0,0,0,0,0,0,0,0,0,0,0,0,0,0,0,0,0,0,0,0,0,0,0,0,0,0,0,0,0,0,0,0,0,0,0,0,0,0,0,0,0,0,0,0,0,0,0,0,0,0,0,0,0,0,0,0,0,0,0,0,0,0,0,0,0,0,0,0,0,0,0,0,0,0,0,0,0,0,0,0,0,0,0,0,0,0,0,0,0,0,0,0,0,0,0,0,0,0,0,0,0,0,0,0,0,0,0,0,0,0,0,0,0,0,0,0,0,0,0,0,0,0,0,0,0,0,0,0,0,0,0,0,0,0,0,0,0,0,0,0,0,0,0,0,0,0,0,0,0,0,0,0,0,0,0,0,0,0,0,0,0,0,0,0,0,0,0,0,0,0,0,0,0,0,0,0,0,0,0,0,0,0,0,0,0,0,0,0,0,0,0,0,0,0,0,0,0,0,0,0,0,0,0,0,0,0,0,0,0,0,0,0,0,0,0,0,0,0,0,0,0,0,0,0,0,0,0,0,0,0,0,0,0,0,0,0,0,0,0,0,0,0,0,0,0,0,0,0,0,0,0,0,0,0,0,0,0,0,0,0,0,0,0,0,0,0,0,0,0,0,0,0,0,0,0,0,0,0,0,0,0,0,0,0,0,0,0,0,0,0,0,0,0,0,0,0,0,0,0,0,0,0,0,0,0,0,0,0,0,0,0,0,0,0,0,0,0,0,0,0,0,0,0,0,0,0,0,0,0,0,0,0,0,0,0,0,0,0,0,0,0,0,0,0,0,0,0,0,0,0,0,0,0,0,0,0,0,0,0,0,0,0,0,0,0,0,0,0,0,0,0,0,0,0,0,0,0,0,0,0,0,0,0,0,0,0,0,0,0,0,0,0,0,0,0,0,0,0,0,0,0,0,0,0,0,0,0,0,0,0,0,0,0,0,0,0,0,0,0,0,0,0,0,0,0,0,0,0,0,0,0,0,0,0,0,0,0,0,0,0,0,0,0,0,0,0,0,0,0,0,0,0,0,0,0,0,0]
[0,0,59867,"Lockheed Martin Solar System","PV","FL",null,null,0,0,0,0,0,0,0,0,0,0,0,0,0,0,0,0,0,0,0,0,0,0,0,0,0,0,0,0,0,0,0,0,0,0,0,0,0,0,0,0,0,0,0,0,0,0,0,0,0,0,0,0,0,0,0,0,0,0,0,0,0,0,0,0,0,0,0,0,0,0,0,0,0,0,0,0,0,0,0,0,0,0,0,0,0,0,0,0,0,0,0,0,0,0,0,0,0,0,0,0,0,0,0,0,0,0,0,0,0,0,0,0,0,0,0,0,0,0,0,0,0,0,0,0,0,0,0,0,0,0,0,0,0,0,0,0,0,0,0,0,0,0,0,0,0,0,0,0,0,0,0,0,0,0,0,0,0,0,0,0,0,0,0,0,0,0,0,0,0,0,0,0,0,0,0,0,0,0,0,0,0,0,0,0,0,0,0,0,0,0,0,0,0,0,0,0,0,0,0,0,0,0,0,0,0,0,0,0,0,0,0,0,0,0,0,0,0,0,0,0,0,0,0,0,0,0,0,0,0,0,0,0,0,0,0,0,0,0,0,0,0,0,0,0,0,0,0,0,0,0,0,0,0,0,0,0,0,0,0,0,0,0,0,0,0,0,0,0,0,0,0,0,0,0,0,0,0,0,0,0,0,0,0,0,0,0,0,0,0,0,0,0,0,0,0,0,0,0,0,0,0,0,0,0,0,0,0,0,0,0,0,0,0,0,0,0,0,0,0,0,0,0,0,0,0,0,0,0,0,0,0,0,0,0,0,0,0,0,0,0,0,0,0,0,0,0,0,0,0,0,0,0,0,0,0,0,0,0,0,0,0,0,0,0,0,0,0,0,0,0,0,0,0,0,0,0,0,0,0,0,0,0,0,0,0,0,0,0,0,0,0,0,0,0,0,0,0,0,0,0,0,0,0,0,0,0,0,0,0,0,0,0,0,0,0,0,0,0,0,0,0,0,0,0,0,0,0,0,0,0,0,0,0,0,0,0,0,0,0,0,0,0,0,0,0,0,0,0,0,0,0,0,0,0,0,0,0,0,0,0,0,0,0,0,0,0,0,0,0,0,0,0,0,0,0,0,0,0,0,0,0,0,0,0,0,0,0,0,0,0,0,0,0,0,0,0,0,0,0,0,0,0,0,0,0,0,0,0,0,0,0,0,0,0,0,0,0,0,0,0,0,0,0,0,0,0,0,0,0,0,0,0,0,0,0,0,0,0,0,0,0,0,0,0,0,0,0,0,0,0,0,0,0,0,0,0,0,0,0,0,0,0,0,0,0,0,0,0,0,0,0,0,0,0,0]
[0,0,59932,"Fiddler's Canyon 3","PV","UT",null,null,0,0,0,0,0,0,0,0,0,0,0,0,0,0,0,0,0,0,0,0,0,0,0,0,0,0,0,0,0,0,0,0,0,0,0,0,0,0,0,0,0,0,0,0,0,0,0,0,0,0,0,0,0,0,0,0,0,0,0,0,0,0,0,0,0,0,0,0,0,0,0,0,0,0,0,0,0,0,0,0,0,0,0,0,0,0,0,0,0,0,0,0,0,0,0,0,0,0,0,0,0,0,0,0,0,0,0,0,0,0,0,0,0,0,0,0,0,0,0,0,0,0,0,0,0,0,0,0,0,0,0,0,0,0,0,0,0,0,0,0,0,0,0,0,0,0,0,0,0,0,0,0,0,0,0,0,0,0,0,0,0,0,0,0,0,0,0,0,0,0,0,0,0,0,0,0,0,0,0,0,0,0,0,0,0,0,0,0,0,0,0,0,0,0,0,0,0,0,0,0,0,0,0,0,0,0,0,0,0,0,0,0,0,0,0,0,0,0,0,0,0,0,0,0,0,0,0,0,0,0,0,0,0,0,0,0,0,0,0,0,0,0,0,0,0,0,0,0,0,0,0,0,0,0,0,0,0,0,0,0,0,0,0,0,0,0,0,0,0,0,0,0,0,0,0,0,0,0,0,0,0,0,0,0,0,0,0,0,0,0,0,0,0,0,0,0,0,0,0,0,0,0,0,0,0,0,0,0,0,0,0,0,0,0,0,0,0,0,0,0,0,0,0,0,0,0,0,0,0,0,0,0,0,0,0,0,0,0,0,0,0,0,0,0,0,0,0,0,0,0,0,0,0,0,0,0,0,0,0,0,0,0,0,0,0,0,0,0,0,0,0,0,0,0,0,0,0,0,0,0,0,0,0,0,0,0,0,0,0,0,0,0,0,0,0,0,0,0,0,0,0,0,0,0,0,0,0,0,0,0,0,0,0,0,0,0,0,0,0,0,0,0,0,0,0,0,0,0,0,0,0,0,0,0,0,0,0,0,0,0,0,0,0,0,0,0,0,0,0,0,0,0,0,0,0,0,0,0,0,0,0,0,0,0,0,0,0,0,0,0,0,0,0,0,0,0,0,0,0,0,0,0,0,0,0,0,0,0,0,0,0,0,0,0,0,0,0,0,0,0,0,0,0,0,0,0,0,0,0,0,0,0,0,0,0,0,0,0,0,0,0,0,0,0,0,0,0,0,0,0,0,0,0,0,0,0,0,0,0,0,0,0,0,0,0,0,0,0,0,0,0,0,0,0,0,0,0,0,0,0,0,0,0,0,0,0,0,0,0,0,0,0,0,0,0]
[0,0,59950,"Yadkinville Solar","PV","NC",null,null,0,0,0,0,0,0,0,0,0,0,0,0,0,0,0,0,0,0,0,0,0,0,0,0,0,0,0,0,0,0,0,0,0,0,0,0,0,0,0,0,0,0,0,0,0,0,0,0,0,0,0,0,0,0,0,0,0,0,0,0,0,0,0,0,0,0,0,0,0,0,0,0,0,0,0,0,0,0,0,0,0,0,0,0,0,0,0,0,0,0,0,0,0,0,0,0,0,0,0,0,0,0,0,0,0,0,0,0,0,0,0,0,0,0,0,0,0,0,0,0,0,0,0,0,0,0,0,0,0,0,0,0,0,0,0,0,0,0,0,0,0,0,0,0,0,0,0,0,0,0,0,0,0,0,0,0,0,0,0,0,0,0,0,0,0,0,0,0,0,0,0,0,0,0,0,0,0,0,0,0,0,0,0,0,0,0,0,0,0,0,0,0,0,0,0,0,0,0,0,0,0,0,0,0,0,0,0,0,0,0,0,0,0,0,0,0,0,0,0,0,0,0,0,0,0,0,0,0,0,0,0,0,0,0,0,0,0,0,0,0,0,0,0,0,0,0,0,0,0,0,0,0,0,0,0,0,0,0,0,0,0,0,0,0,0,0,0,0,0,0,0,0,0,0,0,0,0,0,0,0,0,0,0,0,0,0,0,0,0,0,0,0,0,0,0,0,0,0,0,0,0,0,0,0,0,0,0,0,0,0,0,0,0,0,0,0,0,0,0,0,0,0,0,0,0,0,0,0,0,0,0,0,0,0,0,0,0,0,0,0,0,0,0,0,0,0,0,0,0,0,0,0,0,0,0,0,0,0,0,0,0,0,0,0,0,0,0,0,0,0,0,0,0,0,0,0,0,0,0,0,0,0,0,0,0,0,0,0,0,0,0,0,0,0,0,0,0,0,0,0,0,0,0,0,0,0,0,0,0,0,0,0,0,0,0,0,0,0,0,0,0,0,0,0,0,0,0,0,0,0,0,0,0,0,0,0,0,0,0,0,0,0,0,0,0,0,0,0,0,0,0,0,0,0,0,0,0,0,0,0,0,0,0,0,0,0,0,0,0,0,0,0,0,0,0,0,0,0,0,0,0,0,0,0,0,0,0,0,0,0,0,0,0,0,0,0,0,0,0,0,0,0,0,0,0,0,0,0,0,0,0,0,0,0,0,0,0,0,0,0,0,0,0,0,0,0,0,0,0,0,0,0,0,0,0,0,0,0,0,0,0,0,0,0,0,0,0,0,0,0,0,0,0,0,0,0,0,0,0,0,0,0,0,0,0,0,0,0,0,0,0,0,0,0,0]
[0,0,59958,"Milford 2","PV","UT",null,null,0,0,0,0,0,0,0,0,0,0,0,0,0,0,0,0,0,0,0,0,0,0,0,0,0,0,0,0,0,0,0,0,0,0,0,0,0,0,0,0,0,0,0,0,0,0,0,0,0,0,0,0,0,0,0,0,0,0,0,0,0,0,0,0,0,0,0,0,0,0,0,0,0,0,0,0,0,0,0,0,0,0,0,0,0,0,0,0,0,0,0,0,0,0,0,0,0,0,0,0,0,0,0,0,0,0,0,0,0,0,0,0,0,0,0,0,0,0,0,0,0,0,0,0,0,0,0,0,0,0,0,0,0,0,0,0,0,0,0,0,0,0,0,0,0,0,0,0,0,0,0,0,0,0,0,0,0,0,0,0,0,0,0,0,0,0,0,0,0,0,0,0,0,0,0,0,0,0,0,0,0,0,0,0,0,0,0,0,0,0,0,0,0,0,0,0,0,0,0,0,0,0,0,0,0,0,0,0,0,0,0,0,0,0,0,0,0,0,0,0,0,0,0,0,0,0,0,0,0,0,0,0,0,0,0,0,0,0,0,0,0,0,0,0,0,0,0,0,0,0,0,0,0,0,0,0,0,0,0,0,0,0,0,0,0,0,0,0,0,0,0,0,0,0,0,0,0,0,0,0,0,0,0,0,0,0,0,0,0,0,0,0,0,0,0,0,0,0,0,0,0,0,0,0,0,0,0,0,0,0,0,0,0,0,0,0,0,0,0,0,0,0,0,0,0,0,0,0,0,0,0,0,0,0,0,0,0,0,0,0,0,0,0,0,0,0,0,0,0,0,0,0,0,0,0,0,0,0,0,0,0,0,0,0,0,0,0,0,0,0,0,0,0,0,0,0,0,0,0,0,0,0,0,0,0,0,0,0,0,0,0,0,0,0,0,0,0,0,0,0,0,0,0,0,0,0,0,0,0,0,0,0,0,0,0,0,0,0,0,0,0,0,0,0,0,0,0,0,0,0,0,0,0,0,0,0,0,0,0,0,0,0,0,0,0,0,0,0,0,0,0,0,0,0,0,0,0,0,0,0,0,0,0,0,0,0,0,0,0,0,0,0,0,0,0,0,0,0,0,0,0,0,0,0,0,0,0,0,0,0,0,0,0,0,0,0,0,0,0,0,0,0,0,0,0,0,0,0,0,0,0,0,0,0,0,0,0,0,0,0,0,0,0,0,0,0,0,0,0,0,0,0,0,0,0,0,0,0,0,0,0,0,0,0,0,0,0,0,0,0,0,0,0,0,0,0,0,0,0,0,0,0,0,0,0,0,0,0,0,0,0,0,0,0,0]
[0,0,60007,"Morelos del Sol","PV","CA",null,null,0,0,0,0,0,0,0,0,0,0,0,0,0,0,0,0,0,0,0,0,0,0,0,0,0,0,0,0,0,0,0,0,0,0,0,0,0,0,0,0,0,0,0,0,0,0,0,0,0,0,0,0,0,0,0,0,0,0,0,0,0,0,0,0,0,0,0,0,0,0,0,0,0,0,0,0,0,0,0,0,0,0,0,0,0,0,0,0,0,0,0,0,0,0,0,0,0,0,0,0,0,0,0,0,0,0,0,0,0,0,0,0,0,0,0,0,0,0,0,0,0,0,0,0,0,0,0,0,0,0,0,0,0,0,0,0,0,0,0,0,0,0,0,0,0,0,0,0,0,0,0,0,0,0,0,0,0,0,0,0,0,0,0,0,0,0,0,0,0,0,0,0,0,0,0,0,0,0,0,0,0,0,0,0,0,0,0,0,0,0,0,0,0,0,0,0,0,0,0,0,0,0,0,0,0,0,0,0,0,0,0,0,0,0,0,0,0,0,0,0,0,0,0,0,0,0,0,0,0,0,0,0,0,0,0,0,0,0,0,0,0,0,0,0,0,0,0,0,0,0,0,0,0,0,0,0,0,0,0,0,0,0,0,0,0,0,0,0,0,0,0,0,0,0,0,0,0,0,0,0,0,0,0,0,0,0,0,0,0,0,0,0,0,0,0,0,0,0,0,0,0,0,0,0,0,0,0,0,0,0,0,0,0,0,0,0,0,0,0,0,0,0,0,0,0,0,0,0,0,0,0,0,0,0,0,0,0,0,0,0,0,0,0,0,0,0,0,0,0,0,0,0,0,0,0,0,0,0,0,0,0,0,0,0,0,0,0,0,0,0,0,0,0,0,0,0,0,0,0,0,0,0,0,0,0,0,0,0,0,0,0,0,0,0,0,0,0,0,0,0,0,0,0,0,0,0,0,0,0,0,0,0,0,0,0,0,0,0,0,0,0,0,0,0,0,0,0,0,0,0,0,0,0,0,0,0,0,0,0,0,0,0,0,0,0,0,0,0,0,0,0,0,0,0,0,0,0,0,0,0,0,0,0,0,0,0,0,0,0,0,0,0,0,0,0,0,0,0,0,0,0,0,0,0,0,0,0,0,0,0,0,0,0,0,0,0,0,0,0,0,0,0,0,0,0,0,0,0,0,0,0,0,0,0,0,0,0,0,0,0,0,0,0,0,0,0,0,0,0,0,0,0,0,0,0,0,0,0,0,0,0,0,0,0,0,0,0,0,0,0,0,0,0,0,0,0,0,0,0,0,0,0,0,0,0,0,0,0,0,0,0,0,0,0,0]
[0,0,60026,"Little Rock Pham Solar","PV","CA",null,null,0,0,0,0,0,0,0,0,0,0,0,0,0,0,0,0,0,0,0,0,0,0,0,0,0,0,0,0,0,0,0,0,0,0,0,0,0,0,0,0,0,0,0,0,0,0,0,0,0,0,0,0,0,0,0,0,0,0,0,0,0,0,0,0,0,0,0,0,0,0,0,0,0,0,0,0,0,0,0,0,0,0,0,0,0,0,0,0,0,0,0,0,0,0,0,0,0,0,0,0,0,0,0,0,0,0,0,0,0,0,0,0,0,0,0,0,0,0,0,0,0,0,0,0,0,0,0,0,0,0,0,0,0,0,0,0,0,0,0,0,0,0,0,0,0,0,0,0,0,0,0,0,0,0,0,0,0,0,0,0,0,0,0,0,0,0,0,0,0,0,0,0,0,0,0,0,0,0,0,0,0,0,0,0,0,0,0,0,0,0,0,0,0,0,0,0,0,0,0,0,0,0,0,0,0,0,0,0,0,0,0,0,0,0,0,0,0,0,0,0,0,0,0,0,0,0,0,0,0,0,0,0,0,0,0,0,0,0,0,0,0,0,0,0,0,0,0,0,0,0,0,0,0,0,0,0,0,0,0,0,0,0,0,0,0,0,0,0,0,0,0,0,0,0,0,0,0,0,0,0,0,0,0,0,0,0,0,0,0,0,0,0,0,0,0,0,0,0,0,0,0,0,0,0,0,0,0,0,0,0,0,0,0,0,0,0,0,0,0,0,0,0,0,0,0,0,0,0,0,0,0,0,0,0,0,0,0,0,0,0,0,0,0,0,0,0,0,0,0,0,0,0,0,0,0,0,0,0,0,0,0,0,0,0,0,0,0,0,0,0,0,0,0,0,0,0,0,0,0,0,0,0,0,0,0,0,0,0,0,0,0,0,0,0,0,0,0,0,0,0,0,0,0,0,0,0,0,0,0,0,0,0,0,0,0,0,0,0,0,0,0,0,0,0,0,0,0,0,0,0,0,0,0,0,0,0,0,0,0,0,0,0,0,0,0,0,0,0,0,0,0,0,0,0,0,0,0,0,0,0,0,0,0,0,0,0,0,0,0,0,0,0,0,0,0,0,0,0,0,0,0,0,0,0,0,0,0,0,0,0,0,0,0,0,0,0,0,0,0,0,0,0,0,0,0,0,0,0,0,0,0,0,0,0,0,0,0,0,0,0,0,0,0,0,0,0,0,0,0,0,0,0,0,0,0,0,0,0,0,0,0,0,0,0,0,0,0,0,0,0,0,0,0,0,0,0,0,0,0,0,0,0,0,0,0,0,0,0,0,0,0,0,0,0,0]
[0,0,60029,"CES VMT Solar","PV","MD",null,null,0,0,0,0,0,0,0,0,0,0,0,0,0,0,0,0,0,0,0,0,0,0,0,0,0,0,0,0,0,0,0,0,0,0,0,0,0,0,0,0,0,0,0,0,0,0,0,0,0,0,0,0,0,0,0,0,0,0,0,0,0,0,0,0,0,0,0,0,0,0,0,0,0,0,0,0,0,0,0,0,0,0,0,0,0,0,0,0,0,0,0,0,0,0,0,0,0,0,0,0,0,0,0,0,0,0,0,0,0,0,0,0,0,0,0,0,0,0,0,0,0,0,0,0,0,0,0,0,0,0,0,0,0,0,0,0,0,0,0,0,0,0,0,0,0,0,0,0,0,0,0,0,0,0,0,0,0,0,0,0,0,0,0,0,0,0,0,0,0,0,0,0,0,0,0,0,0,0,0,0,0,0,0,0,0,0,0,0,0,0,0,0,0,0,0,0,0,0,0,0,0,0,0,0,0,0,0,0,0,0,0,0,0,0,0,0,0,0,0,0,0,0,0,0,0,0,0,0,0,0,0,0,0,0,0,0,0,0,0,0,0,0,0,0,0,0,0,0,0,0,0,0,0,0,0,0,0,0,0,0,0,0,0,0,0,0,0,0,0,0,0,0,0,0,0,0,0,0,0,0,0,0,0,0,0,0,0,0,0,0,0,0,0,0,0,0,0,0,0,0,0,0,0,0,0,0,0,0,0,0,0,0,0,0,0,0,0,0,0,0,0,0,0,0,0,0,0,0,0,0,0,0,0,0,0,0,0,0,0,0,0,0,0,0,0,0,0,0,0,0,0,0,0,0,0,0,0,0,0,0,0,0,0,0,0,0,0,0,0,0,0,0,0,0,0,0,0,0,0,0,0,0,0,0,0,0,0,0,0,0,0,0,0,0,0,0,0,0,0,0,0,0,0,0,0,0,0,0,0,0,0,0,0,0,0,0,0,0,0,0,0,0,0,0,0,0,0,0,0,0,0,0,0,0,0,0,0,0,0,0,0,0,0,0,0,0,0,0,0,0,0,0,0,0,0,0,0,0,0,0,0,0,0,0,0,0,0,0,0,0,0,0,0,0,0,0,0,0,0,0,0,0,0,0,0,0,0,0,0,0,0,0,0,0,0,0,0,0,0,0,0,0,0,0,0,0,0,0,0,0,0,0,0,0,0,0,0,0,0,0,0,0,0,0,0,0,0,0,0,0,0,0,0,0,0,0,0,0,0,0,0,0,0,0,0,0,0,0,0,0,0,0,0,0,0,0,0,0,0,0,0,0,0,0,0,0,0,0,0,0,0,0,0,0,0]
[0,0,60121,"HCE Johnston I, LLC","PV","NC",null,null,0,0,0,0,0,0,0,0,0,0,0,0,0,0,0,0,0,0,0,0,0,0,0,0,0,0,0,0,0,0,0,0,0,0,0,0,0,0,0,0,0,0,0,0,0,0,0,0,0,0,0,0,0,0,0,0,0,0,0,0,0,0,0,0,0,0,0,0,0,0,0,0,0,0,0,0,0,0,0,0,0,0,0,0,0,0,0,0,0,0,0,0,0,0,0,0,0,0,0,0,0,0,0,0,0,0,0,0,0,0,0,0,0,0,0,0,0,0,0,0,0,0,0,0,0,0,0,0,0,0,0,0,0,0,0,0,0,0,0,0,0,0,0,0,0,0,0,0,0,0,0,0,0,0,0,0,0,0,0,0,0,0,0,0,0,0,0,0,0,0,0,0,0,0,0,0,0,0,0,0,0,0,0,0,0,0,0,0,0,0,0,0,0,0,0,0,0,0,0,0,0,0,0,0,0,0,0,0,0,0,0,0,0,0,0,0,0,0,0,0,0,0,0,0,0,0,0,0,0,0,0,0,0,0,0,0,0,0,0,0,0,0,0,0,0,0,0,0,0,0,0,0,0,0,0,0,0,0,0,0,0,0,0,0,0,0,0,0,0,0,0,0,0,0,0,0,0,0,0,0,0,0,0,0,0,0,0,0,0,0,0,0,0,0,0,0,0,0,0,0,0,0,0,0,0,0,0,0,0,0,0,0,0,0,0,0,0,0,0,0,0,0,0,0,0,0,0,0,0,0,0,0,0,0,0,0,0,0,0,0,0,0,0,0,0,0,0,0,0,0,0,0,0,0,0,0,0,0,0,0,0,0,0,0,0,0,0,0,0,0,0,0,0,0,0,0,0,0,0,0,0,0,0,0,0,0,0,0,0,0,0,0,0,0,0,0,0,0,0,0,0,0,0,0,0,0,0,0,0,0,0,0,0,0,0,0,0,0,0,0,0,0,0,0,0,0,0,0,0,0,0,0,0,0,0,0,0,0,0,0,0,0,0,0,0,0,0,0,0,0,0,0,0,0,0,0,0,0,0,0,0,0,0,0,0,0,0,0,0,0,0,0,0,0,0,0,0,0,0,0,0,0,0,0,0,0,0,0,0,0,0,0,0,0,0,0,0,0,0,0,0,0,0,0,0,0,0,0,0,0,0,0,0,0,0,0,0,0,0,0,0,0,0,0,0,0,0,0,0,0,0,0,0,0,0,0,0,0,0,0,0,0,0,0,0,0,0,0,0,0,0,0,0,0,0,0,0,0,0,0,0,0,0,0,0,0,0,0,0,0,0,0,0,0,0]
[0,0,60188,"Conetoe Solar","PV","NC",null,null,0,0,0,0,0,0,0,0,0,0,0,0,0,0,0,0,0,0,0,0,0,0,0,0,0,0,0,0,0,0,0,0,0,0,0,0,0,0,0,0,0,0,0,0,0,0,0,0,0,0,0,0,0,0,0,0,0,0,0,0,0,0,0,0,0,0,0,0,0,0,0,0,0,0,0,0,0,0,0,0,0,0,0,0,0,0,0,0,0,0,0,0,0,0,0,0,0,0,0,0,0,0,0,0,0,0,0,0,0,0,0,0,0,0,0,0,0,0,0,0,0,0,0,0,0,0,0,0,0,0,0,0,0,0,0,0,0,0,0,0,0,0,0,0,0,0,0,0,0,0,0,0,0,0,0,0,0,0,0,0,0,0,0,0,0,0,0,0,0,0,0,0,0,0,0,0,0,0,0,0,0,0,0,0,0,0,0,0,0,0,0,0,0,0,0,0,0,0,0,0,0,0,0,0,0,0,0,0,0,0,0,0,0,0,0,0,0,0,0,0,0,0,0,0,0,0,0,0,0,0,0,0,0,0,0,0,0,0,0,0,0,0,0,0,0,0,0,0,0,0,0,0,0,0,0,0,0,0,0,0,0,0,0,0,0,0,0,0,0,0,0,0,0,0,0,0,0,0,0,0,0,0,0,0,0,0,0,0,0,0,0,0,0,0,0,0,0,0,0,0,0,0,0,0,0,0,0,0,0,0,0,0,0,0,0,0,0,0,0,0,0,0,0,0,0,0,0,0,0,0,0,0,0,0,0,0,0,0,0,0,0,0,0,0,0,0,0,0,0,0,0,0,0,0,0,0,0,0,0,0,0,0,0,0,0,0,0,0,0,0,0,0,0,0,0,0,0,0,0,0,0,0,0,0,0,0,0,0,0,0,0,0,0,0,0,0,0,0,0,0,0,0,0,0,0,0,0,0,0,0,0,0,0,0,0,0,0,0,0,0,0,0,0,0,0,0,0,0,0,0,0,0,0,0,0,0,0,0,0,0,0,0,0,0,0,0,0,0,0,0,0,0,0,0,0,0,0,0,0,0,0,0,0,0,0,0,0,0,0,0,0,0,0,0,0,0,0,0,0,0,0,0,0,0,0,0,0,0,0,0,0,0,0,0,0,0,0,0,0,0,0,0,0,0,0,0,0,0,0,0,0,0,0,0,0,0,0,0,0,0,0,0,0,0,0,0,0,0,0,0,0,0,0,0,0,0,0,0,0,0,0,0,0,0,0,0,0,0,0,0,0,0,0,0,0,0,0,0,0,0,0,0,0,0,0,0,0,0,0,0,0,0,0,0,0]
[0,0,60189,"Sugar Run Solar","PV","NC",null,null,0,0,0,0,0,0,0,0,0,0,0,0,0,0,0,0,0,0,0,0,0,0,0,0,0,0,0,0,0,0,0,0,0,0,0,0,0,0,0,0,0,0,0,0,0,0,0,0,0,0,0,0,0,0,0,0,0,0,0,0,0,0,0,0,0,0,0,0,0,0,0,0,0,0,0,0,0,0,0,0,0,0,0,0,0,0,0,0,0,0,0,0,0,0,0,0,0,0,0,0,0,0,0,0,0,0,0,0,0,0,0,0,0,0,0,0,0,0,0,0,0,0,0,0,0,0,0,0,0,0,0,0,0,0,0,0,0,0,0,0,0,0,0,0,0,0,0,0,0,0,0,0,0,0,0,0,0,0,0,0,0,0,0,0,0,0,0,0,0,0,0,0,0,0,0,0,0,0,0,0,0,0,0,0,0,0,0,0,0,0,0,0,0,0,0,0,0,0,0,0,0,0,0,0,0,0,0,0,0,0,0,0,0,0,0,0,0,0,0,0,0,0,0,0,0,0,0,0,0,0,0,0,0,0,0,0,0,0,0,0,0,0,0,0,0,0,0,0,0,0,0,0,0,0,0,0,0,0,0,0,0,0,0,0,0,0,0,0,0,0,0,0,0,0,0,0,0,0,0,0,0,0,0,0,0,0,0,0,0,0,0,0,0,0,0,0,0,0,0,0,0,0,0,0,0,0,0,0,0,0,0,0,0,0,0,0,0,0,0,0,0,0,0,0,0,0,0,0,0,0,0,0,0,0,0,0,0,0,0,0,0,0,0,0,0,0,0,0,0,0,0,0,0,0,0,0,0,0,0,0,0,0,0,0,0,0,0,0,0,0,0,0,0,0,0,0,0,0,0,0,0,0,0,0,0,0,0,0,0,0,0,0,0,0,0,0,0,0,0,0,0,0,0,0,0,0,0,0,0,0,0,0,0,0,0,0,0,0,0,0,0,0,0,0,0,0,0,0,0,0,0,0,0,0,0,0,0,0,0,0,0,0,0,0,0,0,0,0,0,0,0,0,0,0,0,0,0,0,0,0,0,0,0,0,0,0,0,0,0,0,0,0,0,0,0,0,0,0,0,0,0,0,0,0,0,0,0,0,0,0,0,0,0,0,0,0,0,0,0,0,0,0,0,0,0,0,0,0,0,0,0,0,0,0,0,0,0,0,0,0,0,0,0,0,0,0,0,0,0,0,0,0,0,0,0,0,0,0,0,0,0,0,0,0,0,0,0,0,0,0,0,0,0,0,0,0,0,0,0,0,0,0,0,0,0,0,0,0,0,0,0,0,0,0,0]

{"sheet":"Codes","index":1,"n_rows":13,"n_cols":3,"rows_kept":13,"cut":false,"hidden":false,"merged":[]}
[null,"Selected Plant"]
[null,"Row",22]
[null,"Code",{"$f":"INDEX('Total Plants'!C:C,Codes!C2)","v":57455}]
[null,"Plant Name",{"$f":"INDEX('Total Plants'!D:D,Codes!C2)","v":"NRG Solar Borrego I"}]
[null,"Total Production",{"$f":"INDEX('Total Plants'!B:B,Codes!C2)","v":215664}]
[null,"Production Start Row",{"$f":"C13","v":537}]
[null,"Production Start Date",{"$f":"INDEX('Total Plants'!1:1,Codes!C6)","v":"2014-01-01"}]
[null,"Final Date","2016-10-01"]
[null,"Months",{"$f":"DAYS360(C7,C8)/30","v":33}]
[null,"Start Col",{"$f":"COLUMN('Total Plants'!I1)","v":9}]
[null,"End Col",{"$f":"COLUMN('Total Plants'!UZ1)","v":572}]
[null,"Sheet Name",{"$f":"sheet_name('Total Plants'!H4)","v":"Total Plants"}]
[null,"Begin Col",{"$f":"find_start(C2,C10,C11,C12)","v":537}]

{"sheet":"Analysis","index":2,"n_rows":20,"n_cols":14,"rows_kept":20,"cut":false,"hidden":false,"merged":[]}
[]
[null,"Name",{"$f":"Codes!C4","v":"NRG Solar Borrego I"},null,null,null,null,null,null,null,null,null,"State",{"$f":"INDEX('Total Plants'!F:F,Codes!C2)","v":"CA"}]
[null,"Average Production",{"$f":"'Selected Plant'!D16","v":71888}]
[null,"Std Deviation of Production",{"$f":"IFERROR(_xlfn.STDEV.P('Selected Plant'!14:14),FALSE)","v":896.15326070191065}]
[null,"Stdev/Average",{"$f":"IFERROR(C4/C3,FALSE)","v":1.2465964565739909E-2}]
[null,"Years with 12 Monts Production",{"$f":"'Selected Plant'!D15","v":3}]
[]
[null,"P99",{"$f":"IFERROR(_xlfn.NORM.INV(1%,C3,C4),FALSE)","v":69803.235767151345}]
[null,"P95",{"$f":"IFERROR(_xlfn.NORM.INV(5%,$C$3,$C$4),FALSE)","v":70413.959058830078}]
[null,"P90",{"$f":"IFERROR(_xlfn.NORM.INV(10%,$C$3,$C$4),FALSE)","v":70739.533385779563}]
[null,"P75",{"$f":"IFERROR(_xlfn.NORM.INV(25%,$C$3,$C$4),FALSE)","v":71283.553811051766}]
[]
[null,"Frequency Distribution"]
[]
[null,"P99/Average",{"$f":"IFERROR(1-C8/$C$3,FALSE)","v":2.9000170165377481E-2}]
[null,"P95/Average",{"$f":"IFERROR(1-C9/$C$3,FALSE)","v":2.0504687029405777E-2}]
[null,"P90/Average",{"$f":"IFERROR(1-C10/$C$3,FALSE)","v":1.597577640524761E-2}]
[null,"P75/Average",{"$f":"IFERROR(1-C11/$C$3,FALSE)","v":8.408165325899053E-3}]
[]
[null,"P99 DSCR ",{"$f":"1/(1-C15)","v":1.0298662978862898}]

{"sheet":"Selected Plant","index":3,"n_rows":24,"n_cols":567,"rows_kept":24,"cut":false,"hidden":false,"merged":[]}
[]
[null,null,null,{"$f":"Codes!C7","v":"2014-01-01"},{"$f":"EDATE(D2,1)","v":"2014-02-01"},{"$f":"EDATE(E2,1)","v":"2014-03-01"},"2014-04-01","2014-05-01","2014-06-01","2014-07-01","2014-08-01","2014-09-01","2014-10-01","2014-11-01","2014-12-01","2015-01-01","2015-02-01","2015-03-01","2015-04-01","2015-05-01","2015-06-01","2015-07-01","2015-08-01","2015-09-01","2015-10-01","2015-11-01","2015-12-01","2016-01-01","2016-02-01","2016-03-01","2016-04-01","2016-05-01","2016-06-01","2016-07-01","2016-08-01","2016-09-01","2016-10-01","2016-11-01","2016-12-01","2017-01-01","2017-02-01","2017-03-01","2017-04-01","2017-05-01","2017-06-01","2017-07-01","2017-08-01","2017-09-01","2017-10-01","2017-11-01","2017-12-01","2018-01-01","2018-02-01","2018-03-01","2018-04-01","2018-05-01","2018-06-01","2018-07-01","2018-08-01","2018-09-01","2018-10-01","2018-11-01","2018-12-01","2019-01-01","2019-02-01","2019-03-01","2019-04-01","2019-05-01","2019-06-01",{"$f":"EDATE(BQ2,1)","v":"2019-07-01"},"2019-08-01","2019-09-01","2019-10-01","2019-11-01","2019-12-01","2020-01-01","2020-02-01","2020-03-01","2020-04-01","2020-05-01","2020-06-01","2020-07-01","2020-08-01","2020-09-01","2020-10-01","2020-11-01","2020-12-01","2021-01-01","2021-02-01","2021-03-01","2021-04-01","2021-05-01","2021-06-01","2021-07-01","2021-08-01","2021-09-01","2021-10-01","2021-11-01","2021-12-01","2022-01-01","2022-02-01","2022-03-01","2022-04-01","2022-05-01","2022-06-01","2022-07-01","2022-08-01","2022-09-01","2022-10-01","2022-11-01","2022-12-01","2023-01-01","2023-02-01","2023-03-01","2023-04-01","2023-05-01","2023-06-01","2023-07-01","2023-08-01","2023-09-01","2023-10-01","2023-11-01","2023-12-01","2024-01-01","2024-02-01","2024-03-01","2024-04-01","2024-05-01","2024-06-01","2024-07-01","2024-08-01","2024-09-01","2024-10-01",{"$f":"EDATE(EC2,1)","v":"2024-11-01"},"2024-12-01","2025-01-01","2025-02-01","2025-03-01","2025-04-01","2025-05-01","2025-06-01","2025-07-01","2025-08-01","2025-09-01","2025-10-01","2025-11-01","2025-12-01","2026-01-01","2026-02-01","2026-03-01","2026-04-01","2026-05-01","2026-06-01","2026-07-01","2026-08-01","2026-09-01","2026-10-01","2026-11-01","2026-12-01","2027-01-01","2027-02-01","2027-03-01","2027-04-01","2027-05-01","2027-06-01","2027-07-01","2027-08-01","2027-09-01","2027-10-01","2027-11-01","2027-12-01","2028-01-01","2028-02-01","2028-03-01","2028-04-01","2028-05-01","2028-06-01","2028-07-01","2028-08-01","2028-09-01","2028-10-01","2028-11-01","2028-12-01","2029-01-01","2029-02-01","2029-03-01","2029-04-01","2029-05-01","2029-06-01","2029-07-01","2029-08-01","2029-09-01","2029-10-01","2029-11-01","2029-12-01","2030-01-01","2030-02-01",{"$f":"EDATE(GO2,1)","v":"2030-03-01"},"2030-04-01","2030-05-01","2030-06-01","2030-07-01","2030-08-01","2030-09-01","2030-10-01","2030-11-01","2030-12-01","2031-01-01","2031-02-01","2031-03-01","2031-04-01","2031-05-01","2031-06-01","2031-07-01","2031-08-01","2031-09-01","2031-10-01","2031-11-01","2031-12-01","2032-01-01","2032-02-01","2032-03-01","2032-04-01","2032-05-01","2032-06-01","2032-07-01","2032-08-01","2032-09-01","2032-10-01","2032-11-01","2032-12-01","2033-01-01","2033-02-01","2033-03-01","2033-04-01","2033-05-01","2033-06-01","2033-07-01","2033-08-01","2033-09-01","2033-10-01","2033-11-01","2033-12-01","2034-01-01","2034-02-01","2034-03-01","2034-04-01","2034-05-01","2034-06-01","2034-07-01","2034-08-01","2034-09-01","2034-10-01","2034-11-01","2034-12-01","2035-01-01","2035-02-01","2035-03-01","2035-04-01","2035-05-01","2035-06-01",{"$f":"EDATE(JA2,1)","v":"2035-07-01"},"2035-08-01","2035-09-01","2035-10-01","2035-11-01","2035-12-01","2036-01-01","2036-02-01","2036-03-01","2036-04-01","2036-05-01","2036-06-01","2036-07-01","2036-08-01","2036-09-01","2036-10-01","2036-11-01","2036-12-01","2037-01-01","2037-02-01","2037-03-01","2037-04-01","2037-05-01","2037-06-01","2037-07-01","2037-08-01","2037-09-01","2037-10-01","2037-11-01","2037-12-01","2038-01-01","2038-02-01","2038-03-01","2038-04-01","2038-05-01","2038-06-01","2038-07-01","2038-08-01","2038-09-01","2038-10-01","2038-11-01","2038-12-01","2039-01-01","2039-02-01","2039-03-01","2039-04-01","2039-05-01","2039-06-01","2039-07-01","2039-08-01","2039-09-01","2039-10-01","2039-11-01","2039-12-01","2040-01-01","2040-02-01","2040-03-01","2040-04-01","2040-05-01","2040-06-01","2040-07-01","2040-08-01","2040-09-01","2040-10-01",{"$f":"EDATE(LM2,1)","v":"2040-11-01"},"2040-12-01","2041-01-01","2041-02-01","2041-03-01","2041-04-01","2041-05-01","2041-06-01","2041-07-01","2041-08-01","2041-09-01","2041-10-01","2041-11-01","2041-12-01","2042-01-01","2042-02-01","2042-03-01","2042-04-01","2042-05-01","2042-06-01","2042-07-01","2042-08-01","2042-09-01","2042-10-01","2042-11-01","2042-12-01","2043-01-01","2043-02-01","2043-03-01","2043-04-01","2043-05-01","2043-06-01","2043-07-01","2043-08-01","2043-09-01","2043-10-01","2043-11-01","2043-12-01","2044-01-01","2044-02-01","2044-03-01","2044-04-01","2044-05-01","2044-06-01","2044-07-01","2044-08-01","2044-09-01","2044-10-01","2044-11-01","2044-12-01","2045-01-01","2045-02-01","2045-03-01","2045-04-01","2045-05-01","2045-06-01","2045-07-01","2045-08-01","2045-09-01","2045-10-01","2045-11-01","2045-12-01","2046-01-01","2046-02-01",{"$f":"EDATE(NY2,1)","v":"2046-03-01"},"2046-04-01","2046-05-01","2046-06-01","2046-07-01","2046-08-01","2046-09-01","2046-10-01","2046-11-01","2046-12-01","2047-01-01","2047-02-01","2047-03-01","2047-04-01","2047-05-01","2047-06-01","2047-07-01","2047-08-01","2047-09-01","2047-10-01","2047-11-01","2047-12-01","2048-01-01","2048-02-01","2048-03-01","2048-04-01","2048-05-01","2048-06-01","2048-07-01","2048-08-01","2048-09-01","2048-10-01","2048-11-01","2048-12-01","2049-01-01","2049-02-01","2049-03-01","2049-04-01","2049-05-01","2049-06-01","2049-07-01","2049-08-01","2049-09-01","2049-10-01","2049-11-01","2049-12-01","2050-01-01","2050-02-01","2050-03-01","2050-04-01","2050-05-01","2050-06-01","2050-07-01","2050-08-01","2050-09-01","2050-10-01","2050-11-01","2050-12-01","2051-01-01","2051-02-01","2051-03-01","2051-04-01","2051-05-01","2051-06-01",{"$f":"EDATE(QK2,1)","v":"2051-07-01"},"2051-08-01","2051-09-01","2051-10-01","2051-11-01","2051-12-01","2052-01-01","2052-02-01","2052-03-01","2052-04-01","2052-05-01","2052-06-01","2052-07-01","2052-08-01","2052-09-01","2052-10-01","2052-11-01","2052-12-01","2053-01-01","2053-02-01","2053-03-01","2053-04-01","2053-05-01","2053-06-01","2053-07-01","2053-08-01","2053-09-01","2053-10-01","2053-11-01","2053-12-01","2054-01-01","2054-02-01","2054-03-01","2054-04-01","2054-05-01","2054-06-01","2054-07-01","2054-08-01","2054-09-01","2054-10-01","2054-11-01","2054-12-01","2055-01-01","2055-02-01","2055-03-01","2055-04-01","2055-05-01","2055-06-01","2055-07-01","2055-08-01","2055-09-01","2055-10-01","2055-11-01","2055-12-01","2056-01-01","2056-02-01","2056-03-01","2056-04-01","2056-05-01","2056-06-01","2056-07-01","2056-08-01","2056-09-01","2056-10-01",{"$f":"EDATE(SW2,1)","v":"2056-11-01"},"2056-12-01","2057-01-01","2057-02-01","2057-03-01","2057-04-01","2057-05-01","2057-06-01","2057-07-01","2057-08-01","2057-09-01","2057-10-01","2057-11-01","2057-12-01","2058-01-01","2058-02-01","2058-03-01","2058-04-01","2058-05-01","2058-06-01","2058-07-01","2058-08-01","2058-09-01","2058-10-01","2058-11-01","2058-12-01","2059-01-01","2059-02-01","2059-03-01","2059-04-01","2059-05-01","2059-06-01","2059-07-01","2059-08-01","2059-09-01","2059-10-01","2059-11-01","2059-12-01","2060-01-01","2060-02-01","2060-03-01","2060-04-01","2060-05-01","2060-06-01","2060-07-01","2060-08-01","2060-09-01","2060-10-01","2060-11-01","2060-12-01"]
[null,"Column Number",null,{"$f":"MATCH(D2,'Total Plants'!1:1,0)","v":537},{"$f":"MATCH(E2,'Total Plants'!1:1,0)","v":538},{"$f":"MATCH(F2,'Total Plants'!1:1,0)","v":539},{"$f":"MATCH(G2,'Total Plants'!1:1,0)","v":540},{"$f":"MATCH(H2,'Total Plants'!1:1,0)","v":541},{"$f":"MATCH(I2,'Total Plants'!1:1,0)","v":542},{"$f":"MATCH(J2,'Total Plants'!1:1,0)","v":543},{"$f":"MATCH(K2,'Total Plants'!1:1,0)","v":544},{"$f":"MATCH(L2,'Total Plants'!1:1,0)","v":545},{"$f":"MATCH(M2,'Total Plants'!1:1,0)","v":546},{"$f":"MATCH(N2,'Total Plants'!1:1,0)","v":547},{"$f":"MATCH(O2,'Total Plants'!1:1,0)","v":548},{"$f":"MATCH(P2,'Total Plants'!1:1,0)","v":549},{"$f":"MATCH(Q2,'Total Plants'!1:1,0)","v":550},{"$f":"MATCH(R2,'Total Plants'!1:1,0)","v":551},{"$f":"MATCH(S2,'Total Plants'!1:1,0)","v":552},{"$f":"MATCH(T2,'Total Plants'!1:1,0)","v":553},{"$f":"MATCH(U2,'Total Plants'!1:1,0)","v":554},{"$f":"MATCH(V2,'Total Plants'!1:1,0)","v":555},{"$f":"MATCH(W2,'Total Plants'!1:1,0)","v":556},{"$f":"MATCH(X2,'Total Plants'!1:1,0)","v":557},{"$f":"MATCH(Y2,'Total Plants'!1:1,0)","v":558},{"$f":"MATCH(Z2,'Total Plants'!1:1,0)","v":559},{"$f":"MATCH(AA2,'Total Plants'!1:1,0)","v":560},{"$f":"MATCH(AB2,'Total Plants'!1:1,0)","v":561},{"$f":"MATCH(AC2,'Total Plants'!1:1,0)","v":562},{"$f":"MATCH(AD2,'Total Plants'!1:1,0)","v":563},{"$f":"MATCH(AE2,'Total Plants'!1:1,0)","v":564},{"$f":"MATCH(AF2,'Total Plants'!1:1,0)","v":565},{"$f":"MATCH(AG2,'Total Plants'!1:1,0)","v":566},{"$f":"MATCH(AH2,'Total Plants'!1:1,0)","v":567},{"$f":"MATCH(AI2,'Total Plants'!1:1,0)","v":568},{"$f":"MATCH(AJ2,'Total Plants'!1:1,0)","v":569},{"$f":"MATCH(AK2,'Total Plants'!1:1,0)","v":570},{"$f":"MATCH(AL2,'Total Plants'!1:1,0)","v":571},{"$f":"MATCH(AM2,'Total Plants'!1:1,0)","v":572},{"$f":"MATCH(AN2,'Total Plants'!1:1,0)","v":573},{"$f":"MATCH(AO2,'Total Plants'!1:1,0)","v":574},{"$f":"MATCH(AP2,'Total Plants'!1:1,0)","v":575},{"$f":"MATCH(AQ2,'Total Plants'!1:1,0)","v":576},{"$f":"MATCH(AR2,'Total Plants'!1:1,0)","v":577},{"$f":"MATCH(AS2,'Total Plants'!1:1,0)","v":578},{"$f":"MATCH(AT2,'Total Plants'!1:1,0)","v":579},{"$f":"MATCH(AU2,'Total Plants'!1:1,0)","v":580},{"$f":"MATCH(AV2,'Total Plants'!1:1,0)","v":581},{"$f":"MATCH(AW2,'Total Plants'!1:1,0)","v":582},{"$f":"MATCH(AX2,'Total Plants'!1:1,0)","v":583},{"$f":"MATCH(AY2,'Total Plants'!1:1,0)","v":{"$error":"#N/A"}},{"$f":"MATCH(AZ2,'Total Plants'!1:1,0)","v":{"$error":"#N/A"}},{"$f":"MATCH(BA2,'Total Plants'!1:1,0)","v":{"$error":"#N/A"}},{"$f":"MATCH(BB2,'Total Plants'!1:1,0)","v":{"$error":"#N/A"}},{"$f":"MATCH(BC2,'Total Plants'!1:1,0)","v":{"$error":"#N/A"}},{"$f":"MATCH(BD2,'Total Plants'!1:1,0)","v":{"$error":"#N/A"}},{"$f":"MATCH(BE2,'Total Plants'!1:1,0)","v":{"$error":"#N/A"}},{"$f":"MATCH(BF2,'Total Plants'!1:1,0)","v":{"$error":"#N/A"}},{"$f":"MATCH(BG2,'Total Plants'!1:1,0)","v":{"$error":"#N/A"}},{"$f":"MATCH(BH2,'Total Plants'!1:1,0)","v":{"$error":"#N/A"}},{"$f":"MATCH(BI2,'Total Plants'!1:1,0)","v":{"$error":"#N/A"}},{"$f":"MATCH(BJ2,'Total Plants'!1:1,0)","v":{"$error":"#N/A"}},{"$f":"MATCH(BK2,'Total Plants'!1:1,0)","v":{"$error":"#N/A"}},{"$f":"MATCH(BL2,'Total Plants'!1:1,0)","v":{"$error":"#N/A"}},{"$f":"MATCH(BM2,'Total Plants'!1:1,0)","v":{"$error":"#N/A"}},{"$f":"MATCH(BN2,'Total Plants'!1:1,0)","v":{"$error":"#N/A"}},{"$f":"MATCH(BO2,'Total Plants'!1:1,0)","v":{"$error":"#N/A"}},{"$f":"MATCH(BP2,'Total Plants'!1:1,0)","v":{"$error":"#N/A"}},{"$f":"MATCH(BQ2,'Total Plants'!1:1,0)","v":{"$error":"#N/A"}},{"$f":"MATCH(BR2,'Total Plants'!1:1,0)","v":{"$error":"#N/A"}},{"$f":"MATCH(BS2,'Total Plants'!1:1,0)","v":{"$error":"#N/A"}},{"$f":"MATCH(BT2,'Total Plants'!1:1,0)","v":{"$error":"#N/A"}},{"$f":"MATCH(BU2,'Total Plants'!1:1,0)","v":{"$error":"#N/A"}},{"$f":"MATCH(BV2,'Total Plants'!1:1,0)","v":{"$error":"#N/A"}},{"$f":"MATCH(BW2,'Total Plants'!1:1,0)","v":{"$error":"#N/A"}},{"$f":"MATCH(BX2,'Total Plants'!1:1,0)","v":{"$error":"#N/A"}},{"$f":"MATCH(BY2,'Total Plants'!1:1,0)","v":{"$error":"#N/A"}},{"$f":"MATCH(BZ2,'Total Plants'!1:1,0)","v":{"$error":"#N/A"}},{"$f":"MATCH(CA2,'Total Plants'!1:1,0)","v":{"$error":"#N/A"}},{"$f":"MATCH(CB2,'Total Plants'!1:1,0)","v":{"$error":"#N/A"}},{"$f":"MATCH(CC2,'Total Plants'!1:1,0)","v":{"$error":"#N/A"}},{"$f":"MATCH(CD2,'Total Plants'!1:1,0)","v":{"$error":"#N/A"}},{"$f":"MATCH(CE2,'Total Plants'!1:1,0)","v":{"$error":"#N/A"}},{"$f":"MATCH(CF2,'Total Plants'!1:1,0)","v":{"$error":"#N/A"}},{"$f":"MATCH(CG2,'Total Plants'!1:1,0)","v":{"$error":"#N/A"}},{"$f":"MATCH(CH2,'Total Plants'!1:1,0)","v":{"$error":"#N/A"}},{"$f":"MATCH(CI2,'Total Plants'!1:1,0)","v":{"$error":"#N/A"}},{"$f":"MATCH(CJ2,'Total Plants'!1:1,0)","v":{"$error":"#N/A"}},{"$f":"MATCH(CK2,'Total Plants'!1:1,0)","v":{"$error":"#N/A"}},{"$f":"MATCH(CL2,'Total Plants'!1:1,0)","v":{"$error":"#N/A"}},{"$f":"MATCH(CM2,'Total Plants'!1:1,0)","v":{"$error":"#N/A"}},{"$f":"MATCH(CN2,'Total Plants'!1:1,0)","v":{"$error":"#N/A"}},{"$f":"MATCH(CO2,'Total Plants'!1:1,0)","v":{"$error":"#N/A"}},{"$f":"MATCH(CP2,'Total Plants'!1:1,0)","v":{"$error":"#N/A"}},{"$f":"MATCH(CQ2,'Total Plants'!1:1,0)","v":{"$error":"#N/A"}},{"$f":"MATCH(CR2,'Total Plants'!1:1,0)","v":{"$error":"#N/A"}},{"$f":"MATCH(CS2,'Total Plants'!1:1,0)","v":{"$error":"#N/A"}},{"$f":"MATCH(CT2,'Total Plants'!1:1,0)","v":{"$error":"#N/A"}},{"$f":"MATCH(CU2,'Total Plants'!1:1,0)","v":{"$error":"#N/A"}},{"$f":"MATCH(CV2,'Total Plants'!1:1,0)","v":{"$error":"#N/A"}},{"$f":"MATCH(CW2,'Total Plants'!1:1,0)","v":{"$error":"#N/A"}},{"$f":"MATCH(CX2,'Total Plants'!1:1,0)","v":{"$error":"#N/A"}},{"$f":"MATCH(CY2,'Total Plants'!1:1,0)","v":{"$error":"#N/A"}},{"$f":"MATCH(CZ2,'Total Plants'!1:1,0)","v":{"$error":"#N/A"}},{"$f":"MATCH(DA2,'Total Plants'!1:1,0)","v":{"$error":"#N/A"}},{"$f":"MATCH(DB2,'Total Plants'!1:1,0)","v":{"$error":"#N/A"}},{"$f":"MATCH(DC2,'Total Plants'!1:1,0)","v":{"$error":"#N/A"}},{"$f":"MATCH(DD2,'Total Plants'!1:1,0)","v":{"$error":"#N/A"}},{"$f":"MATCH(DE2,'Total Plants'!1:1,0)","v":{"$error":"#N/A"}},{"$f":"MATCH(DF2,'Total Plants'!1:1,0)","v":{"$error":"#N/A"}},{"$f":"MATCH(DG2,'Total Plants'!1:1,0)","v":{"$error":"#N/A"}},{"$f":"MATCH(DH2,'Total Plants'!1:1,0)","v":{"$error":"#N/A"}},{"$f":"MATCH(DI2,'Total Plants'!1:1,0)","v":{"$error":"#N/A"}},{"$f":"MATCH(DJ2,'Total Plants'!1:1,0)","v":{"$error":"#N/A"}},{"$f":"MATCH(DK2,'Total Plants'!1:1,0)","v":{"$error":"#N/A"}},{"$f":"MATCH(DL2,'Total Plants'!1:1,0)","v":{"$error":"#N/A"}},{"$f":"MATCH(DM2,'Total Plants'!1:1,0)","v":{"$error":"#N/A"}},{"$f":"MATCH(DN2,'Total Plants'!1:1,0)","v":{"$error":"#N/A"}},{"$f":"MATCH(DO2,'Total Plants'!1:1,0)","v":{"$error":"#N/A"}},{"$f":"MATCH(DP2,'Total Plants'!1:1,0)","v":{"$error":"#N/A"}},{"$f":"MATCH(DQ2,'Total Plants'!1:1,0)","v":{"$error":"#N/A"}},{"$f":"MATCH(DR2,'Total Plants'!1:1,0)","v":{"$error":"#N/A"}},{"$f":"MATCH(DS2,'Total Plants'!1:1,0)","v":{"$error":"#N/A"}},{"$f":"MATCH(DT2,'Total Plants'!1:1,0)","v":{"$error":"#N/A"}},{"$f":"MATCH(DU2,'Total Plants'!1:1,0)","v":{"$error":"#N/A"}},{"$f":"MATCH(DV2,'Total Plants'!1:1,0)","v":{"$error":"#N/A"}},{"$f":"MATCH(DW2,'Total Plants'!1:1,0)","v":{"$error":"#N/A"}},{"$f":"MATCH(DX2,'Total Plants'!1:1,0)","v":{"$error":"#N/A"}},{"$f":"MATCH(DY2,'Total Plants'!1:1,0)","v":{"$error":"#N/A"}},{"$f":"MATCH(DZ2,'Total Plants'!1:1,0)","v":{"$error":"#N/A"}},{"$f":"MATCH(EA2,'Total Plants'!1:1,0)","v":{"$error":"#N/A"}},{"$f":"MATCH(EB2,'Total Plants'!1:1,0)","v":{"$error":"#N/A"}},{"$f":"MATCH(EC2,'Total Plants'!1:1,0)","v":{"$error":"#N/A"}},{"$f":"MATCH(ED2,'Total Plants'!1:1,0)","v":{"$error":"#N/A"}},{"$f":"MATCH(EE2,'Total Plants'!1:1,0)","v":{"$error":"#N/A"}},{"$f":"MATCH(EF2,'Total Plants'!1:1,0)","v":{"$error":"#N/A"}},{"$f":"MATCH(EG2,'Total Plants'!1:1,0)","v":{"$error":"#N/A"}},{"$f":"MATCH(EH2,'Total Plants'!1:1,0)","v":{"$error":"#N/A"}},{"$f":"MATCH(EI2,'Total Plants'!1:1,0)","v":{"$error":"#N/A"}},{"$f":"MATCH(EJ2,'Total Plants'!1:1,0)","v":{"$error":"#N/A"}},{"$f":"MATCH(EK2,'Total Plants'!1:1,0)","v":{"$error":"#N/A"}},{"$f":"MATCH(EL2,'Total Plants'!1:1,0)","v":{"$error":"#N/A"}},{"$f":"MATCH(EM2,'Total Plants'!1:1,0)","v":{"$error":"#N/A"}},{"$f":"MATCH(EN2,'Total Plants'!1:1,0)","v":{"$error":"#N/A"}},{"$f":"MATCH(EO2,'Total Plants'!1:1,0)","v":{"$error":"#N/A"}},{"$f":"MATCH(EP2,'Total Plants'!1:1,0)","v":{"$error":"#N/A"}},{"$f":"MATCH(EQ2,'Total Plants'!1:1,0)","v":{"$error":"#N/A"}},{"$f":"MATCH(ER2,'Total Plants'!1:1,0)","v":{"$error":"#N/A"}},{"$f":"MATCH(ES2,'Total Plants'!1:1,0)","v":{"$error":"#N/A"}},{"$f":"MATCH(ET2,'Total Plants'!1:1,0)","v":{"$error":"#N/A"}},{"$f":"MATCH(EU2,'Total Plants'!1:1,0)","v":{"$error":"#N/A"}},{"$f":"MATCH(EV2,'Total Plants'!1:1,0)","v":{"$error":"#N/A"}},{"$f":"MATCH(EW2,'Total Plants'!1:1,0)","v":{"$error":"#N/A"}},{"$f":"MATCH(EX2,'Total Plants'!1:1,0)","v":{"$error":"#N/A"}},{"$f":"MATCH(EY2,'Total Plants'!1:1,0)","v":{"$error":"#N/A"}},{"$f":"MATCH(EZ2,'Total Plants'!1:1,0)","v":{"$error":"#N/A"}},{"$f":"MATCH(FA2,'Total Plants'!1:1,0)","v":{"$error":"#N/A"}},{"$f":"MATCH(FB2,'Total Plants'!1:1,0)","v":{"$error":"#N/A"}},{"$f":"MATCH(FC2,'Total Plants'!1:1,0)","v":{"$error":"#N/A"}},{"$f":"MATCH(FD2,'Total Plants'!1:1,0)","v":{"$error":"#N/A"}},{"$f":"MATCH(FE2,'Total Plants'!1:1,0)","v":{"$error":"#N/A"}},{"$f":"MATCH(FF2,'Total Plants'!1:1,0)","v":{"$error":"#N/A"}},{"$f":"MATCH(FG2,'Total Plants'!1:1,0)","v":{"$error":"#N/A"}},{"$f":"MATCH(FH2,'Total Plants'!1:1,0)","v":{"$error":"#N/A"}},{"$f":"MATCH(FI2,'Total Plants'!1:1,0)","v":{"$error":"#N/A"}},{"$f":"MATCH(FJ2,'Total Plants'!1:1,0)","v":{"$error":"#N/A"}},{"$f":"MATCH(FK2,'Total Plants'!1:1,0)","v":{"$error":"#N/A"}},{"$f":"MATCH(FL2,'Total Plants'!1:1,0)","v":{"$error":"#N/A"}},{"$f":"MATCH(FM2,'Total Plants'!1:1,0)","v":{"$error":"#N/A"}},{"$f":"MATCH(FN2,'Total Plants'!1:1,0)","v":{"$error":"#N/A"}},{"$f":"MATCH(FO2,'Total Plants'!1:1,0)","v":{"$error":"#N/A"}},{"$f":"MATCH(FP2,'Total Plants'!1:1,0)","v":{"$error":"#N/A"}},{"$f":"MATCH(FQ2,'Total Plants'!1:1,0)","v":{"$error":"#N/A"}},{"$f":"MATCH(FR2,'Total Plants'!1:1,0)","v":{"$error":"#N/A"}},{"$f":"MATCH(FS2,'Total Plants'!1:1,0)","v":{"$error":"#N/A"}},{"$f":"MATCH(FT2,'Total Plants'!1:1,0)","v":{"$error":"#N/A"}},{"$f":"MATCH(FU2,'Total Plants'!1:1,0)","v":{"$error":"#N/A"}},{"$f":"MATCH(FV2,'Total Plants'!1:1,0)","v":{"$error":"#N/A"}},{"$f":"MATCH(FW2,'Total Plants'!1:1,0)","v":{"$error":"#N/A"}},{"$f":"MATCH(FX2,'Total Plants'!1:1,0)","v":{"$error":"#N/A"}},{"$f":"MATCH(FY2,'Total Plants'!1:1,0)","v":{"$error":"#N/A"}},{"$f":"MATCH(FZ2,'Total Plants'!1:1,0)","v":{"$error":"#N/A"}},{"$f":"MATCH(GA2,'Total Plants'!1:1,0)","v":{"$error":"#N/A"}},{"$f":"MATCH(GB2,'Total Plants'!1:1,0)","v":{"$error":"#N/A"}},{"$f":"MATCH(GC2,'Total Plants'!1:1,0)","v":{"$error":"#N/A"}},{"$f":"MATCH(GD2,'Total Plants'!1:1,0)","v":{"$error":"#N/A"}},{"$f":"MATCH(GE2,'Total Plants'!1:1,0)","v":{"$error":"#N/A"}},{"$f":"MATCH(GF2,'Total Plants'!1:1,0)","v":{"$error":"#N/A"}},{"$f":"MATCH(GG2,'Total Plants'!1:1,0)","v":{"$error":"#N/A"}},{"$f":"MATCH(GH2,'Total Plants'!1:1,0)","v":{"$error":"#N/A"}},{"$f":"MATCH(GI2,'Total Plants'!1:1,0)","v":{"$error":"#N/A"}},{"$f":"MATCH(GJ2,'Total Plants'!1:1,0)","v":{"$error":"#N/A"}},{"$f":"MATCH(GK2,'Total Plants'!1:1,0)","v":{"$error":"#N/A"}},{"$f":"MATCH(GL2,'Total Plants'!1:1,0)","v":{"$error":"#N/A"}},{"$f":"MATCH(GM2,'Total Plants'!1:1,0)","v":{"$error":"#N/A"}},{"$f":"MATCH(GN2,'Total Plants'!1:1,0)","v":{"$error":"#N/A"}},{"$f":"MATCH(GO2,'Total Plants'!1:1,0)","v":{"$error":"#N/A"}},{"$f":"MATCH(GP2,'Total Plants'!1:1,0)","v":{"$error":"#N/A"}},{"$f":"MATCH(GQ2,'Total Plants'!1:1,0)","v":{"$error":"#N/A"}},{"$f":"MATCH(GR2,'Total Plants'!1:1,0)","v":{"$error":"#N/A"}},{"$f":"MATCH(GS2,'Total Plants'!1:1,0)","v":{"$error":"#N/A"}},{"$f":"MATCH(GT2,'Total Plants'!1:1,0)","v":{"$error":"#N/A"}},{"$f":"MATCH(GU2,'Total Plants'!1:1,0)","v":{"$error":"#N/A"}},{"$f":"MATCH(GV2,'Total Plants'!1:1,0)","v":{"$error":"#N/A"}},{"$f":"MATCH(GW2,'Total Plants'!1:1,0)","v":{"$error":"#N/A"}},{"$f":"MATCH(GX2,'Total Plants'!1:1,0)","v":{"$error":"#N/A"}},{"$f":"MATCH(GY2,'Total Plants'!1:1,0)","v":{"$error":"#N/A"}},{"$f":"MATCH(GZ2,'Total Plants'!1:1,0)","v":{"$error":"#N/A"}},{"$f":"MATCH(HA2,'Total Plants'!1:1,0)","v":{"$error":"#N/A"}},{"$f":"MATCH(HB2,'Total Plants'!1:1,0)","v":{"$error":"#N/A"}},{"$f":"MATCH(HC2,'Total Plants'!1:1,0)","v":{"$error":"#N/A"}},{"$f":"MATCH(HD2,'Total Plants'!1:1,0)","v":{"$error":"#N/A"}},{"$f":"MATCH(HE2,'Total Plants'!1:1,0)","v":{"$error":"#N/A"}},{"$f":"MATCH(HF2,'Total Plants'!1:1,0)","v":{"$error":"#N/A"}},{"$f":"MATCH(HG2,'Total Plants'!1:1,0)","v":{"$error":"#N/A"}},{"$f":"MATCH(HH2,'Total Plants'!1:1,0)","v":{"$error":"#N/A"}},{"$f":"MATCH(HI2,'Total Plants'!1:1,0)","v":{"$error":"#N/A"}},{"$f":"MATCH(HJ2,'Total Plants'!1:1,0)","v":{"$error":"#N/A"}},{"$f":"MATCH(HK2,'Total Plants'!1:1,0)","v":{"$error":"#N/A"}},{"$f":"MATCH(HL2,'Total Plants'!1:1,0)","v":{"$error":"#N/A"}},{"$f":"MATCH(HM2,'Total Plants'!1:1,0)","v":{"$error":"#N/A"}},{"$f":"MATCH(HN2,'Total Plants'!1:1,0)","v":{"$error":"#N/A"}},{"$f":"MATCH(HO2,'Total Plants'!1:1,0)","v":{"$error":"#N/A"}},{"$f":"MATCH(HP2,'Total Plants'!1:1,0)","v":{"$error":"#N/A"}},{"$f":"MATCH(HQ2,'Total Plants'!1:1,0)","v":{"$error":"#N/A"}},{"$f":"MATCH(HR2,'Total Plants'!1:1,0)","v":{"$error":"#N/A"}},{"$f":"MATCH(HS2,'Total Plants'!1:1,0)","v":{"$error":"#N/A"}},{"$f":"MATCH(HT2,'Total Plants'!1:1,0)","v":{"$error":"#N/A"}},{"$f":"MATCH(HU2,'Total Plants'!1:1,0)","v":{"$error":"#N/A"}},{"$f":"MATCH(HV2,'Total Plants'!1:1,0)","v":{"$error":"#N/A"}},{"$f":"MATCH(HW2,'Total Plants'!1:1,0)","v":{"$error":"#N/A"}},{"$f":"MATCH(HX2,'Total Plants'!1:1,0)","v":{"$error":"#N/A"}},{"$f":"MATCH(HY2,'Total Plants'!1:1,0)","v":{"$error":"#N/A"}},{"$f":"MATCH(HZ2,'Total Plants'!1:1,0)","v":{"$error":"#N/A"}},{"$f":"MATCH(IA2,'Total Plants'!1:1,0)","v":{"$error":"#N/A"}},{"$f":"MATCH(IB2,'Total Plants'!1:1,0)","v":{"$error":"#N/A"}},{"$f":"MATCH(IC2,'Total Plants'!1:1,0)","v":{"$error":"#N/A"}},{"$f":"MATCH(ID2,'Total Plants'!1:1,0)","v":{"$error":"#N/A"}},{"$f":"MATCH(IE2,'Total Plants'!1:1,0)","v":{"$error":"#N/A"}},{"$f":"MATCH(IF2,'Total Plants'!1:1,0)","v":{"$error":"#N/A"}},{"$f":"MATCH(IG2,'Total Plants'!1:1,0)","v":{"$error":"#N/A"}},{"$f":"MATCH(IH2,'Total Plants'!1:1,0)","v":{"$error":"#N/A"}},{"$f":"MATCH(II2,'Total Plants'!1:1,0)","v":{"$error":"#N/A"}},{"$f":"MATCH(IJ2,'Total Plants'!1:1,0)","v":{"$error":"#N/A"}},{"$f":"MATCH(IK2,'Total Plants'!1:1,0)","v":{"$error":"#N/A"}},{"$f":"MATCH(IL2,'Total Plants'!1:1,0)","v":{"$error":"#N/A"}},{"$f":"MATCH(IM2,'Total Plants'!1:1,0)","v":{"$error":"#N/A"}},{"$f":"MATCH(IN2,'Total Plants'!1:1,0)","v":{"$error":"#N/A"}},{"$f":"MATCH(IO2,'Total Plants'!1:1,0)","v":{"$error":"#N/A"}},{"$f":"MATCH(IP2,'Total Plants'!1:1,0)","v":{"$error":"#N/A"}},{"$f":"MATCH(IQ2,'Total Plants'!1:1,0)","v":{"$error":"#N/A"}},{"$f":"MATCH(IR2,'Total Plants'!1:1,0)","v":{"$error":"#N/A"}},{"$f":"MATCH(IS2,'Total Plants'!1:1,0)","v":{"$error":"#N/A"}},{"$f":"MATCH(IT2,'Total Plants'!1:1,0)","v":{"$error":"#N/A"}},{"$f":"MATCH(IU2,'Total Plants'!1:1,0)","v":{"$error":"#N/A"}},{"$f":"MATCH(IV2,'Total Plants'!1:1,0)","v":{"$error":"#N/A"}},{"$f":"MATCH(IW2,'Total Plants'!1:1,0)","v":{"$error":"#N/A"}},{"$f":"MATCH(IX2,'Total Plants'!1:1,0)","v":{"$error":"#N/A"}},{"$f":"MATCH(IY2,'Total Plants'!1:1,0)","v":{"$error":"#N/A"}},{"$f":"MATCH(IZ2,'Total Plants'!1:1,0)","v":{"$error":"#N/A"}},{"$f":"MATCH(JA2,'Total Plants'!1:1,0)","v":{"$error":"#N/A"}},{"$f":"MATCH(JB2,'Total Plants'!1:1,0)","v":{"$error":"#N/A"}},{"$f":"MATCH(JC2,'Total Plants'!1:1,0)","v":{"$error":"#N/A"}},{"$f":"MATCH(JD2,'Total Plants'!1:1,0)","v":{"$error":"#N/A"}},{"$f":"MATCH(JE2,'Total Plants'!1:1,0)","v":{"$error":"#N/A"}},{"$f":"MATCH(JF2,'Total Plants'!1:1,0)","v":{"$error":"#N/A"}},{"$f":"MATCH(JG2,'Total Plants'!1:1,0)","v":{"$error":"#N/A"}},{"$f":"MATCH(JH2,'Total Plants'!1:1,0)","v":{"$error":"#N/A"}},{"$f":"MATCH(JI2,'Total Plants'!1:1,0)","v":{"$error":"#N/A"}},{"$f":"MATCH(JJ2,'Total Plants'!1:1,0)","v":{"$error":"#N/A"}},{"$f":"MATCH(JK2,'Total Plants'!1:1,0)","v":{"$error":"#N/A"}},{"$f":"MATCH(JL2,'Total Plants'!1:1,0)","v":{"$error":"#N/A"}},{"$f":"MATCH(JM2,'Total Plants'!1:1,0)","v":{"$error":"#N/A"}},{"$f":"MATCH(JN2,'Total Plants'!1:1,0)","v":{"$error":"#N/A"}},{"$f":"MATCH(JO2,'Total Plants'!1:1,0)","v":{"$error":"#N/A"}},{"$f":"MATCH(JP2,'Total Plants'!1:1,0)","v":{"$error":"#N/A"}},{"$f":"MATCH(JQ2,'Total Plants'!1:1,0)","v":{"$error":"#N/A"}},{"$f":"MATCH(JR2,'Total Plants'!1:1,0)","v":{"$error":"#N/A"}},{"$f":"MATCH(JS2,'Total Plants'!1:1,0)","v":{"$error":"#N/A"}},{"$f":"MATCH(JT2,'Total Plants'!1:1,0)","v":{"$error":"#N/A"}},{"$f":"MATCH(JU2,'Total Plants'!1:1,0)","v":{"$error":"#N/A"}},{"$f":"MATCH(JV2,'Total Plants'!1:1,0)","v":{"$error":"#N/A"}},{"$f":"MATCH(JW2,'Total Plants'!1:1,0)","v":{"$error":"#N/A"}},{"$f":"MATCH(JX2,'Total Plants'!1:1,0)","v":{"$error":"#N/A"}},{"$f":"MATCH(JY2,'Total Plants'!1:1,0)","v":{"$error":"#N/A"}},{"$f":"MATCH(JZ2,'Total Plants'!1:1,0)","v":{"$error":"#N/A"}},{"$f":"MATCH(KA2,'Total Plants'!1:1,0)","v":{"$error":"#N/A"}},{"$f":"MATCH(KB2,'Total Plants'!1:1,0)","v":{"$error":"#N/A"}},{"$f":"MATCH(KC2,'Total Plants'!1:1,0)","v":{"$error":"#N/A"}},{"$f":"MATCH(KD2,'Total Plants'!1:1,0)","v":{"$error":"#N/A"}},{"$f":"MATCH(KE2,'Total Plants'!1:1,0)","v":{"$error":"#N/A"}},{"$f":"MATCH(KF2,'Total Plants'!1:1,0)","v":{"$error":"#N/A"}},{"$f":"MATCH(KG2,'Total Plants'!1:1,0)","v":{"$error":"#N/A"}},{"$f":"MATCH(KH2,'Total Plants'!1:1,0)","v":{"$error":"#N/A"}},{"$f":"MATCH(KI2,'Total Plants'!1:1,0)","v":{"$error":"#N/A"}},{"$f":"MATCH(KJ2,'Total Plants'!1:1,0)","v":{"$error":"#N/A"}},{"$f":"MATCH(KK2,'Total Plants'!1:1,0)","v":{"$error":"#N/A"}},{"$f":"MATCH(KL2,'Total Plants'!1:1,0)","v":{"$error":"#N/A"}},{"$f":"MATCH(KM2,'Total Plants'!1:1,0)","v":{"$error":"#N/A"}},{"$f":"MATCH(KN2,'Total Plants'!1:1,0)","v":{"$error":"#N/A"}},{"$f":"MATCH(KO2,'Total Plants'!1:1,0)","v":{"$error":"#N/A"}},{"$f":"MATCH(KP2,'Total Plants'!1:1,0)","v":{"$error":"#N/A"}},{"$f":"MATCH(KQ2,'Total Plants'!1:1,0)","v":{"$error":"#N/A"}},{"$f":"MATCH(KR2,'Total Plants'!1:1,0)","v":{"$error":"#N/A"}},{"$f":"MATCH(KS2,'Total Plants'!1:1,0)","v":{"$error":"#N/A"}},{"$f":"MATCH(KT2,'Total Plants'!1:1,0)","v":{"$error":"#N/A"}},{"$f":"MATCH(KU2,'Total Plants'!1:1,0)","v":{"$error":"#N/A"}},{"$f":"MATCH(KV2,'Total Plants'!1:1,0)","v":{"$error":"#N/A"}},{"$f":"MATCH(KW2,'Total Plants'!1:1,0)","v":{"$error":"#N/A"}},{"$f":"MATCH(KX2,'Total Plants'!1:1,0)","v":{"$error":"#N/A"}},{"$f":"MATCH(KY2,'Total Plants'!1:1,0)","v":{"$error":"#N/A"}},{"$f":"MATCH(KZ2,'Total Plants'!1:1,0)","v":{"$error":"#N/A"}},{"$f":"MATCH(LA2,'Total Plants'!1:1,0)","v":{"$error":"#N/A"}},{"$f":"MATCH(LB2,'Total Plants'!1:1,0)","v":{"$error":"#N/A"}},{"$f":"MATCH(LC2,'Total Plants'!1:1,0)","v":{"$error":"#N/A"}},{"$f":"MATCH(LD2,'Total Plants'!1:1,0)","v":{"$error":"#N/A"}},{"$f":"MATCH(LE2,'Total Plants'!1:1,0)","v":{"$error":"#N/A"}},{"$f":"MATCH(LF2,'Total Plants'!1:1,0)","v":{"$error":"#N/A"}},{"$f":"MATCH(LG2,'Total Plants'!1:1,0)","v":{"$error":"#N/A"}},{"$f":"MATCH(LH2,'Total Plants'!1:1,0)","v":{"$error":"#N/A"}},{"$f":"MATCH(LI2,'Total Plants'!1:1,0)","v":{"$error":"#N/A"}},{"$f":"MATCH(LJ2,'Total Plants'!1:1,0)","v":{"$error":"#N/A"}},{"$f":"MATCH(LK2,'Total Plants'!1:1,0)","v":{"$error":"#N/A"}},{"$f":"MATCH(LL2,'Total Plants'!1:1,0)","v":{"$error":"#N/A"}},{"$f":"MATCH(LM2,'Total Plants'!1:1,0)","v":{"$error":"#N/A"}},{"$f":"MATCH(LN2,'Total Plants'!1:1,0)","v":{"$error":"#N/A"}},{"$f":"MATCH(LO2,'Total Plants'!1:1,0)","v":{"$error":"#N/A"}},{"$f":"MATCH(LP2,'Total Plants'!1:1,0)","v":{"$error":"#N/A"}},{"$f":"MATCH(LQ2,'Total Plants'!1:1,0)","v":{"$error":"#N/A"}},{"$f":"MATCH(LR2,'Total Plants'!1:1,0)","v":{"$error":"#N/A"}},{"$f":"MATCH(LS2,'Total Plants'!1:1,0)","v":{"$error":"#N/A"}},{"$f":"MATCH(LT2,'Total Plants'!1:1,0)","v":{"$error":"#N/A"}},{"$f":"MATCH(LU2,'Total Plants'!1:1,0)","v":{"$error":"#N/A"}},{"$f":"MATCH(LV2,'Total Plants'!1:1,0)","v":{"$error":"#N/A"}},{"$f":"MATCH(LW2,'Total Plants'!1:1,0)","v":{"$error":"#N/A"}},{"$f":"MATCH(LX2,'Total Plants'!1:1,0)","v":{"$error":"#N/A"}},{"$f":"MATCH(LY2,'Total Plants'!1:1,0)","v":{"$error":"#N/A"}},{"$f":"MATCH(LZ2,'Total Plants'!1:1,0)","v":{"$error":"#N/A"}},{"$f":"MATCH(MA2,'Total Plants'!1:1,0)","v":{"$error":"#N/A"}},{"$f":"MATCH(MB2,'Total Plants'!1:1,0)","v":{"$error":"#N/A"}},{"$f":"MATCH(MC2,'Total Plants'!1:1,0)","v":{"$error":"#N/A"}},{"$f":"MATCH(MD2,'Total Plants'!1:1,0)","v":{"$error":"#N/A"}},{"$f":"MATCH(ME2,'Total Plants'!1:1,0)","v":{"$error":"#N/A"}},{"$f":"MATCH(MF2,'Total Plants'!1:1,0)","v":{"$error":"#N/A"}},{"$f":"MATCH(MG2,'Total Plants'!1:1,0)","v":{"$error":"#N/A"}},{"$f":"MATCH(MH2,'Total Plants'!1:1,0)","v":{"$error":"#N/A"}},{"$f":"MATCH(MI2,'Total Plants'!1:1,0)","v":{"$error":"#N/A"}},{"$f":"MATCH(MJ2,'Total Plants'!1:1,0)","v":{"$error":"#N/A"}},{"$f":"MATCH(MK2,'Total Plants'!1:1,0)","v":{"$error":"#N/A"}},{"$f":"MATCH(ML2,'Total Plants'!1:1,0)","v":{"$error":"#N/A"}},{"$f":"MATCH(MM2,'Total Plants'!1:1,0)","v":{"$error":"#N/A"}},{"$f":"MATCH(MN2,'Total Plants'!1:1,0)","v":{"$error":"#N/A"}},{"$f":"MATCH(MO2,'Total Plants'!1:1,0)","v":{"$error":"#N/A"}},{"$f":"MATCH(MP2,'Total Plants'!1:1,0)","v":{"$error":"#N/A"}},{"$f":"MATCH(MQ2,'Total Plants'!1:1,0)","v":{"$error":"#N/A"}},{"$f":"MATCH(MR2,'Total Plants'!1:1,0)","v":{"$error":"#N/A"}},{"$f":"MATCH(MS2,'Total Plants'!1:1,0)","v":{"$error":"#N/A"}},{"$f":"MATCH(MT2,'Total Plants'!1:1,0)","v":{"$error":"#N/A"}},{"$f":"MATCH(MU2,'Total Plants'!1:1,0)","v":{"$error":"#N/A"}},{"$f":"MATCH(MV2,'Total Plants'!1:1,0)","v":{"$error":"#N/A"}},{"$f":"MATCH(MW2,'Total Plants'!1:1,0)","v":{"$error":"#N/A"}},{"$f":"MATCH(MX2,'Total Plants'!1:1,0)","v":{"$error":"#N/A"}},{"$f":"MATCH(MY2,'Total Plants'!1:1,0)","v":{"$error":"#N/A"}},{"$f":"MATCH(MZ2,'Total Plants'!1:1,0)","v":{"$error":"#N/A"}},{"$f":"MATCH(NA2,'Total Plants'!1:1,0)","v":{"$error":"#N/A"}},{"$f":"MATCH(NB2,'Total Plants'!1:1,0)","v":{"$error":"#N/A"}},{"$f":"MATCH(NC2,'Total Plants'!1:1,0)","v":{"$error":"#N/A"}},{"$f":"MATCH(ND2,'Total Plants'!1:1,0)","v":{"$error":"#N/A"}},{"$f":"MATCH(NE2,'Total Plants'!1:1,0)","v":{"$error":"#N/A"}},{"$f":"MATCH(NF2,'Total Plants'!1:1,0)","v":{"$error":"#N/A"}},{"$f":"MATCH(NG2,'Total Plants'!1:1,0)","v":{"$error":"#N/A"}},{"$f":"MATCH(NH2,'Total Plants'!1:1,0)","v":{"$error":"#N/A"}},{"$f":"MATCH(NI2,'Total Plants'!1:1,0)","v":{"$error":"#N/A"}},{"$f":"MATCH(NJ2,'Total Plants'!1:1,0)","v":{"$error":"#N/A"}},{"$f":"MATCH(NK2,'Total Plants'!1:1,0)","v":{"$error":"#N/A"}},{"$f":"MATCH(NL2,'Total Plants'!1:1,0)","v":{"$error":"#N/A"}},{"$f":"MATCH(NM2,'Total Plants'!1:1,0)","v":{"$error":"#N/A"}},{"$f":"MATCH(NN2,'Total Plants'!1:1,0)","v":{"$error":"#N/A"}},{"$f":"MATCH(NO2,'Total Plants'!1:1,0)","v":{"$error":"#N/A"}},{"$f":"MATCH(NP2,'Total Plants'!1:1,0)","v":{"$error":"#N/A"}},{"$f":"MATCH(NQ2,'Total Plants'!1:1,0)","v":{"$error":"#N/A"}},{"$f":"MATCH(NR2,'Total Plants'!1:1,0)","v":{"$error":"#N/A"}},{"$f":"MATCH(NS2,'Total Plants'!1:1,0)","v":{"$error":"#N/A"}},{"$f":"MATCH(NT2,'Total Plants'!1:1,0)","v":{"$error":"#N/A"}},{"$f":"MATCH(NU2,'Total Plants'!1:1,0)","v":{"$error":"#N/A"}},{"$f":"MATCH(NV2,'Total Plants'!1:1,0)","v":{"$error":"#N/A"}},{"$f":"MATCH(NW2,'Total Plants'!1:1,0)","v":{"$error":"#N/A"}},{"$f":"MATCH(NX2,'Total Plants'!1:1,0)","v":{"$error":"#N/A"}},{"$f":"MATCH(NY2,'Total Plants'!1:1,0)","v":{"$error":"#N/A"}},{"$f":"MATCH(NZ2,'Total Plants'!1:1,0)","v":{"$error":"#N/A"}},{"$f":"MATCH(OA2,'Total Plants'!1:1,0)","v":{"$error":"#N/A"}},{"$f":"MATCH(OB2,'Total Plants'!1:1,0)","v":{"$error":"#N/A"}},{"$f":"MATCH(OC2,'Total Plants'!1:1,0)","v":{"$error":"#N/A"}},{"$f":"MATCH(OD2,'Total Plants'!1:1,0)","v":{"$error":"#N/A"}},{"$f":"MATCH(OE2,'Total Plants'!1:1,0)","v":{"$error":"#N/A"}},{"$f":"MATCH(OF2,'Total Plants'!1:1,0)","v":{"$error":"#N/A"}},{"$f":"MATCH(OG2,'Total Plants'!1:1,0)","v":{"$error":"#N/A"}},{"$f":"MATCH(OH2,'Total Plants'!1:1,0)","v":{"$error":"#N/A"}},{"$f":"MATCH(OI2,'Total Plants'!1:1,0)","v":{"$error":"#N/A"}},{"$f":"MATCH(OJ2,'Total Plants'!1:1,0)","v":{"$error":"#N/A"}},{"$f":"MATCH(OK2,'Total Plants'!1:1,0)","v":{"$error":"#N/A"}},{"$f":"MATCH(OL2,'Total Plants'!1:1,0)","v":{"$error":"#N/A"}},{"$f":"MATCH(OM2,'Total Plants'!1:1,0)","v":{"$error":"#N/A"}},{"$f":"MATCH(ON2,'Total Plants'!1:1,0)","v":{"$error":"#N/A"}},{"$f":"MATCH(OO2,'Total Plants'!1:1,0)","v":{"$error":"#N/A"}},{"$f":"MATCH(OP2,'Total Plants'!1:1,0)","v":{"$error":"#N/A"}},{"$f":"MATCH(OQ2,'Total Plants'!1:1,0)","v":{"$error":"#N/A"}},{"$f":"MATCH(OR2,'Total Plants'!1:1,0)","v":{"$error":"#N/A"}},{"$f":"MATCH(OS2,'Total Plants'!1:1,0)","v":{"$error":"#N/A"}},{"$f":"MATCH(OT2,'Total Plants'!1:1,0)","v":{"$error":"#N/A"}},{"$f":"MATCH(OU2,'Total Plants'!1:1,0)","v":{"$error":"#N/A"}},{"$f":"MATCH(OV2,'Total Plants'!1:1,0)","v":{"$error":"#N/A"}},{"$f":"MATCH(OW2,'Total Plants'!1:1,0)","v":{"$error":"#N/A"}},{"$f":"MATCH(OX2,'Total Plants'!1:1,0)","v":{"$error":"#N/A"}},{"$f":"MATCH(OY2,'Total Plants'!1:1,0)","v":{"$error":"#N/A"}},{"$f":"MATCH(OZ2,'Total Plants'!1:1,0)","v":{"$error":"#N/A"}},{"$f":"MATCH(PA2,'Total Plants'!1:1,0)","v":{"$error":"#N/A"}},{"$f":"MATCH(PB2,'Total Plants'!1:1,0)","v":{"$error":"#N/A"}},{"$f":"MATCH(PC2,'Total Plants'!1:1,0)","v":{"$error":"#N/A"}},{"$f":"MATCH(PD2,'Total Plants'!1:1,0)","v":{"$error":"#N/A"}},{"$f":"MATCH(PE2,'Total Plants'!1:1,0)","v":{"$error":"#N/A"}},{"$f":"MATCH(PF2,'Total Plants'!1:1,0)","v":{"$error":"#N/A"}},{"$f":"MATCH(PG2,'Total Plants'!1:1,0)","v":{"$error":"#N/A"}},{"$f":"MATCH(PH2,'Total Plants'!1:1,0)","v":{"$error":"#N/A"}},{"$f":"MATCH(PI2,'Total Plants'!1:1,0)","v":{"$error":"#N/A"}},{"$f":"MATCH(PJ2,'Total Plants'!1:1,0)","v":{"$error":"#N/A"}},{"$f":"MATCH(PK2,'Total Plants'!1:1,0)","v":{"$error":"#N/A"}},{"$f":"MATCH(PL2,'Total Plants'!1:1,0)","v":{"$error":"#N/A"}},{"$f":"MATCH(PM2,'Total Plants'!1:1,0)","v":{"$error":"#N/A"}},{"$f":"MATCH(PN2,'Total Plants'!1:1,0)","v":{"$error":"#N/A"}},{"$f":"MATCH(PO2,'Total Plants'!1:1,0)","v":{"$error":"#N/A"}},{"$f":"MATCH(PP2,'Total Plants'!1:1,0)","v":{"$error":"#N/A"}},{"$f":"MATCH(PQ2,'Total Plants'!1:1,0)","v":{"$error":"#N/A"}},{"$f":"MATCH(PR2,'Total Plants'!1:1,0)","v":{"$error":"#N/A"}},{"$f":"MATCH(PS2,'Total Plants'!1:1,0)","v":{"$error":"#N/A"}},{"$f":"MATCH(PT2,'Total Plants'!1:1,0)","v":{"$error":"#N/A"}},{"$f":"MATCH(PU2,'Total Plants'!1:1,0)","v":{"$error":"#N/A"}},{"$f":"MATCH(PV2,'Total Plants'!1:1,0)","v":{"$error":"#N/A"}},{"$f":"MATCH(PW2,'Total Plants'!1:1,0)","v":{"$error":"#N/A"}},{"$f":"MATCH(PX2,'Total Plants'!1:1,0)","v":{"$error":"#N/A"}},{"$f":"MATCH(PY2,'Total Plants'!1:1,0)","v":{"$error":"#N/A"}},{"$f":"MATCH(PZ2,'Total Plants'!1:1,0)","v":{"$error":"#N/A"}},{"$f":"MATCH(QA2,'Total Plants'!1:1,0)","v":{"$error":"#N/A"}},{"$f":"MATCH(QB2,'Total Plants'!1:1,0)","v":{"$error":"#N/A"}},{"$f":"MATCH(QC2,'Total Plants'!1:1,0)","v":{"$error":"#N/A"}},{"$f":"MATCH(QD2,'Total Plants'!1:1,0)","v":{"$error":"#N/A"}},{"$f":"MATCH(QE2,'Total Plants'!1:1,0)","v":{"$error":"#N/A"}},{"$f":"MATCH(QF2,'Total Plants'!1:1,0)","v":{"$error":"#N/A"}},{"$f":"MATCH(QG2,'Total Plants'!1:1,0)","v":{"$error":"#N/A"}},{"$f":"MATCH(QH2,'Total Plants'!1:1,0)","v":{"$error":"#N/A"}},{"$f":"MATCH(QI2,'Total Plants'!1:1,0)","v":{"$error":"#N/A"}},{"$f":"MATCH(QJ2,'Total Plants'!1:1,0)","v":{"$error":"#N/A"}},{"$f":"MATCH(QK2,'Total Plants'!1:1,0)","v":{"$error":"#N/A"}},{"$f":"MATCH(QL2,'Total Plants'!1:1,0)","v":{"$error":"#N/A"}},{"$f":"MATCH(QM2,'Total Plants'!1:1,0)","v":{"$error":"#N/A"}},{"$f":"MATCH(QN2,'Total Plants'!1:1,0)","v":{"$error":"#N/A"}},{"$f":"MATCH(QO2,'Total Plants'!1:1,0)","v":{"$error":"#N/A"}},{"$f":"MATCH(QP2,'Total Plants'!1:1,0)","v":{"$error":"#N/A"}},{"$f":"MATCH(QQ2,'Total Plants'!1:1,0)","v":{"$error":"#N/A"}},{"$f":"MATCH(QR2,'Total Plants'!1:1,0)","v":{"$error":"#N/A"}},{"$f":"MATCH(QS2,'Total Plants'!1:1,0)","v":{"$error":"#N/A"}},{"$f":"MATCH(QT2,'Total Plants'!1:1,0)","v":{"$error":"#N/A"}},{"$f":"MATCH(QU2,'Total Plants'!1:1,0)","v":{"$error":"#N/A"}},{"$f":"MATCH(QV2,'Total Plants'!1:1,0)","v":{"$error":"#N/A"}},{"$f":"MATCH(QW2,'Total Plants'!1:1,0)","v":{"$error":"#N/A"}},{"$f":"MATCH(QX2,'Total Plants'!1:1,0)","v":{"$error":"#N/A"}},{"$f":"MATCH(QY2,'Total Plants'!1:1,0)","v":{"$error":"#N/A"}},{"$f":"MATCH(QZ2,'Total Plants'!1:1,0)","v":{"$error":"#N/A"}},{"$f":"MATCH(RA2,'Total Plants'!1:1,0)","v":{"$error":"#N/A"}},{"$f":"MATCH(RB2,'Total Plants'!1:1,0)","v":{"$error":"#N/A"}},{"$f":"MATCH(RC2,'Total Plants'!1:1,0)","v":{"$error":"#N/A"}},{"$f":"MATCH(RD2,'Total Plants'!1:1,0)","v":{"$error":"#N/A"}},{"$f":"MATCH(RE2,'Total Plants'!1:1,0)","v":{"$error":"#N/A"}},{"$f":"MATCH(RF2,'Total Plants'!1:1,0)","v":{"$error":"#N/A"}},{"$f":"MATCH(RG2,'Total Plants'!1:1,0)","v":{"$error":"#N/A"}},{"$f":"MATCH(RH2,'Total Plants'!1:1,0)","v":{"$error":"#N/A"}},{"$f":"MATCH(RI2,'Total Plants'!1:1,0)","v":{"$error":"#N/A"}},{"$f":"MATCH(RJ2,'Total Plants'!1:1,0)","v":{"$error":"#N/A"}},{"$f":"MATCH(RK2,'Total Plants'!1:1,0)","v":{"$error":"#N/A"}},{"$f":"MATCH(RL2,'Total Plants'!1:1,0)","v":{"$error":"#N/A"}},{"$f":"MATCH(RM2,'Total Plants'!1:1,0)","v":{"$error":"#N/A"}},{"$f":"MATCH(RN2,'Total Plants'!1:1,0)","v":{"$error":"#N/A"}},{"$f":"MATCH(RO2,'Total Plants'!1:1,0)","v":{"$error":"#N/A"}},{"$f":"MATCH(RP2,'Total Plants'!1:1,0)","v":{"$error":"#N/A"}},{"$f":"MATCH(RQ2,'Total Plants'!1:1,0)","v":{"$error":"#N/A"}},{"$f":"MATCH(RR2,'Total Plants'!1:1,0)","v":{"$error":"#N/A"}},{"$f":"MATCH(RS2,'Total Plants'!1:1,0)","v":{"$error":"#N/A"}},{"$f":"MATCH(RT2,'Total Plants'!1:1,0)","v":{"$error":"#N/A"}},{"$f":"MATCH(RU2,'Total Plants'!1:1,0)","v":{"$error":"#N/A"}},{"$f":"MATCH(RV2,'Total Plants'!1:1,0)","v":{"$error":"#N/A"}},{"$f":"MATCH(RW2,'Total Plants'!1:1,0)","v":{"$error":"#N/A"}},{"$f":"MATCH(RX2,'Total Plants'!1:1,0)","v":{"$error":"#N/A"}},{"$f":"MATCH(RY2,'Total Plants'!1:1,0)","v":{"$error":"#N/A"}},{"$f":"MATCH(RZ2,'Total Plants'!1:1,0)","v":{"$error":"#N/A"}},{"$f":"MATCH(SA2,'Total Plants'!1:1,0)","v":{"$error":"#N/A"}},{"$f":"MATCH(SB2,'Total Plants'!1:1,0)","v":{"$error":"#N/A"}},{"$f":"MATCH(SC2,'Total Plants'!1:1,0)","v":{"$error":"#N/A"}},{"$f":"MATCH(SD2,'Total Plants'!1:1,0)","v":{"$error":"#N/A"}},{"$f":"MATCH(SE2,'Total Plants'!1:1,0)","v":{"$error":"#N/A"}},{"$f":"MATCH(SF2,'Total Plants'!1:1,0)","v":{"$error":"#N/A"}},{"$f":"MATCH(SG2,'Total Plants'!1:1,0)","v":{"$error":"#N/A"}},{"$f":"MATCH(SH2,'Total Plants'!1:1,0)","v":{"$error":"#N/A"}},{"$f":"MATCH(SI2,'Total Plants'!1:1,0)","v":{"$error":"#N/A"}},{"$f":"MATCH(SJ2,'Total Plants'!1:1,0)","v":{"$error":"#N/A"}},{"$f":"MATCH(SK2,'Total Plants'!1:1,0)","v":{"$error":"#N/A"}},{"$f":"MATCH(SL2,'Total Plants'!1:1,0)","v":{"$error":"#N/A"}},{"$f":"MATCH(SM2,'Total Plants'!1:1,0)","v":{"$error":"#N/A"}},{"$f":"MATCH(SN2,'Total Plants'!1:1,0)","v":{"$error":"#N/A"}},{"$f":"MATCH(SO2,'Total Plants'!1:1,0)","v":{"$error":"#N/A"}},{"$f":"MATCH(SP2,'Total Plants'!1:1,0)","v":{"$error":"#N/A"}},{"$f":"MATCH(SQ2,'Total Plants'!1:1,0)","v":{"$error":"#N/A"}},{"$f":"MATCH(SR2,'Total Plants'!1:1,0)","v":{"$error":"#N/A"}},{"$f":"MATCH(SS2,'Total Plants'!1:1,0)","v":{"$error":"#N/A"}},{"$f":"MATCH(ST2,'Total Plants'!1:1,0)","v":{"$error":"#N/A"}},{"$f":"MATCH(SU2,'Total Plants'!1:1,0)","v":{"$error":"#N/A"}},{"$f":"MATCH(SV2,'Total Plants'!1:1,0)","v":{"$error":"#N/A"}},{"$f":"MATCH(SW2,'Total Plants'!1:1,0)","v":{"$error":"#N/A"}},{"$f":"MATCH(SX2,'Total Plants'!1:1,0)","v":{"$error":"#N/A"}},{"$f":"MATCH(SY2,'Total Plants'!1:1,0)","v":{"$error":"#N/A"}},{"$f":"MATCH(SZ2,'Total Plants'!1:1,0)","v":{"$error":"#N/A"}},{"$f":"MATCH(TA2,'Total Plants'!1:1,0)","v":{"$error":"#N/A"}},{"$f":"MATCH(TB2,'Total Plants'!1:1,0)","v":{"$error":"#N/A"}},{"$f":"MATCH(TC2,'Total Plants'!1:1,0)","v":{"$error":"#N/A"}},{"$f":"MATCH(TD2,'Total Plants'!1:1,0)","v":{"$error":"#N/A"}},{"$f":"MATCH(TE2,'Total Plants'!1:1,0)","v":{"$error":"#N/A"}},{"$f":"MATCH(TF2,'Total Plants'!1:1,0)","v":{"$error":"#N/A"}},{"$f":"MATCH(TG2,'Total Plants'!1:1,0)","v":{"$error":"#N/A"}},{"$f":"MATCH(TH2,'Total Plants'!1:1,0)","v":{"$error":"#N/A"}},{"$f":"MATCH(TI2,'Total Plants'!1:1,0)","v":{"$error":"#N/A"}},{"$f":"MATCH(TJ2,'Total Plants'!1:1,0)","v":{"$error":"#N/A"}},{"$f":"MATCH(TK2,'Total Plants'!1:1,0)","v":{"$error":"#N/A"}},{"$f":"MATCH(TL2,'Total Plants'!1:1,0)","v":{"$error":"#N/A"}},{"$f":"MATCH(TM2,'Total Plants'!1:1,0)","v":{"$error":"#N/A"}},{"$f":"MATCH(TN2,'Total Plants'!1:1,0)","v":{"$error":"#N/A"}},{"$f":"MATCH(TO2,'Total Plants'!1:1,0)","v":{"$error":"#N/A"}},{"$f":"MATCH(TP2,'Total Plants'!1:1,0)","v":{"$error":"#N/A"}},{"$f":"MATCH(TQ2,'Total Plants'!1:1,0)","v":{"$error":"#N/A"}},{"$f":"MATCH(TR2,'Total Plants'!1:1,0)","v":{"$error":"#N/A"}},{"$f":"MATCH(TS2,'Total Plants'!1:1,0)","v":{"$error":"#N/A"}},{"$f":"MATCH(TT2,'Total Plants'!1:1,0)","v":{"$error":"#N/A"}},{"$f":"MATCH(TU2,'Total Plants'!1:1,0)","v":{"$error":"#N/A"}},{"$f":"MATCH(TV2,'Total Plants'!1:1,0)","v":{"$error":"#N/A"}},{"$f":"MATCH(TW2,'Total Plants'!1:1,0)","v":{"$error":"#N/A"}},{"$f":"MATCH(TX2,'Total Plants'!1:1,0)","v":{"$error":"#N/A"}},{"$f":"MATCH(TY2,'Total Plants'!1:1,0)","v":{"$error":"#N/A"}},{"$f":"MATCH(TZ2,'Total Plants'!1:1,0)","v":{"$error":"#N/A"}},{"$f":"MATCH(UA2,'Total Plants'!1:1,0)","v":{"$error":"#N/A"}},{"$f":"MATCH(UB2,'Total Plants'!1:1,0)","v":{"$error":"#N/A"}},{"$f":"MATCH(UC2,'Total Plants'!1:1,0)","v":{"$error":"#N/A"}},{"$f":"MATCH(UD2,'Total Plants'!1:1,0)","v":{"$error":"#N/A"}},{"$f":"MATCH(UE2,'Total Plants'!1:1,0)","v":{"$error":"#N/A"}},{"$f":"MATCH(UF2,'Total Plants'!1:1,0)","v":{"$error":"#N/A"}},{"$f":"MATCH(UG2,'Total Plants'!1:1,0)","v":{"$error":"#N/A"}},{"$f":"MATCH(UH2,'Total Plants'!1:1,0)","v":{"$error":"#N/A"}},{"$f":"MATCH(UI2,'Total Plants'!1:1,0)","v":{"$error":"#N/A"}},{"$f":"MATCH(UJ2,'Total Plants'!1:1,0)","v":{"$error":"#N/A"}},{"$f":"MATCH(UK2,'Total Plants'!1:1,0)","v":{"$error":"#N/A"}},{"$f":"MATCH(UL2,'Total Plants'!1:1,0)","v":{"$error":"#N/A"}},{"$f":"MATCH(UM2,'Total Plants'!1:1,0)","v":{"$error":"#N/A"}},{"$f":"MATCH(UN2,'Total Plants'!1:1,0)","v":{"$error":"#N/A"}},{"$f":"MATCH(UO2,'Total Plants'!1:1,0)","v":{"$error":"#N/A"}},{"$f":"MATCH(UP2,'Total Plants'!1:1,0)","v":{"$error":"#N/A"}},{"$f":"MATCH(UQ2,'Total Plants'!1:1,0)","v":{"$error":"#N/A"}},{"$f":"MATCH(UR2,'Total Plants'!1:1,0)","v":{"$error":"#N/A"}},{"$f":"MATCH(US2,'Total Plants'!1:1,0)","v":{"$error":"#N/A"}},{"$f":"MATCH(UT2,'Total Plants'!1:1,0)","v":{"$error":"#N/A"}},{"$f":"MATCH(UU2,'Total Plants'!1:1,0)","v":{"$error":"#N/A"}}]
[null,"Row Number",null,{"$f":"Codes!$C$2","v":22},{"$f":"Codes!$C$2","v":22},{"$f":"Codes!$C$2","v":22},{"$f":"Codes!$C$2","v":22},{"$f":"Codes!$C$2","v":22},{"$f":"Codes!$C$2","v":22},{"$f":"Codes!$C$2","v":22},{"$f":"Codes!$C$2","v":22},{"$f":"Codes!$C$2","v":22},{"$f":"Codes!$C$2","v":22},{"$f":"Codes!$C$2","v":22},{"$f":"Codes!$C$2","v":22},{"$f":"Codes!$C$2","v":22},{"$f":"Codes!$C$2","v":22},{"$f":"Codes!$C$2","v":22},{"$f":"Codes!$C$2","v":22},{"$f":"Codes!$C$2","v":22},{"$f":"Codes!$C$2","v":22},{"$f":"Codes!$C$2","v":22},{"$f":"Codes!$C$2","v":22},{"$f":"Codes!$C$2","v":22},{"$f":"Codes!$C$2","v":22},{"$f":"Codes!$C$2","v":22},{"$f":"Codes!$C$2","v":22},{"$f":"Codes!$C$2","v":22},{"$f":"Codes!$C$2","v":22},{"$f":"Codes!$C$2","v":22},{"$f":"Codes!$C$2","v":22},{"$f":"Codes!$C$2","v":22},{"$f":"Codes!$C$2","v":22},{"$f":"Codes!$C$2","v":22},{"$f":"Codes!$C$2","v":22},{"$f":"Codes!$C$2","v":22},{"$f":"Codes!$C$2","v":22},{"$f":"Codes!$C$2","v":22},{"$f":"Codes!$C$2","v":22},{"$f":"Codes!$C$2","v":22},{"$f":"Codes!$C$2","v":22},{"$f":"Codes!$C$2","v":22},{"$f":"Codes!$C$2","v":22},{"$f":"Codes!$C$2","v":22},{"$f":"Codes!$C$2","v":22},{"$f":"Codes!$C$2","v":22},{"$f":"Codes!$C$2","v":22},{"$f":"Codes!$C$2","v":22},{"$f":"Codes!$C$2","v":22},{"$f":"Codes!$C$2","v":22},{"$f":"Codes!$C$2","v":22},{"$f":"Codes!$C$2","v":22},{"$f":"Codes!$C$2","v":22},{"$f":"Codes!$C$2","v":22},{"$f":"Codes!$C$2","v":22},{"$f":"Codes!$C$2","v":22},{"$f":"Codes!$C$2","v":22},{"$f":"Codes!$C$2","v":22},{"$f":"Codes!$C$2","v":22},{"$f":"Codes!$C$2","v":22},{"$f":"Codes!$C$2","v":22},{"$f":"Codes!$C$2","v":22},{"$f":"Codes!$C$2","v":22},{"$f":"Codes!$C$2","v":22},{"$f":"Codes!$C$2","v":22},{"$f":"Codes!$C$2","v":22},{"$f":"Codes!$C$2","v":22},{"$f":"Codes!$C$2","v":22},{"$f":"Codes!$C$2","v":22},{"$f":"Codes!$C$2","v":22},{"$f":"Codes!$C$2","v":22},{"$f":"Codes!$C$2","v":22},{"$f":"Codes!$C$2","v":22},{"$f":"Codes!$C$2","v":22},{"$f":"Codes!$C$2","v":22},{"$f":"Codes!$C$2","v":22},{"$f":"Codes!$C$2","v":22},{"$f":"Codes!$C$2","v":22},{"$f":"Codes!$C$2","v":22},{"$f":"Codes!$C$2","v":22},{"$f":"Codes!$C$2","v":22},{"$f":"Codes!$C$2","v":22},{"$f":"Codes!$C$2","v":22},{"$f":"Codes!$C$2","v":22},{"$f":"Codes!$C$2","v":22},{"$f":"Codes!$C$2","v":22},{"$f":"Codes!$C$2","v":22},{"$f":"Codes!$C$2","v":22},{"$f":"Codes!$C$2","v":22},{"$f":"Codes!$C$2","v":22},{"$f":"Codes!$C$2","v":22},{"$f":"Codes!$C$2","v":22},{"$f":"Codes!$C$2","v":22},{"$f":"Codes!$C$2","v":22},{"$f":"Codes!$C$2","v":22},{"$f":"Codes!$C$2","v":22},{"$f":"Codes!$C$2","v":22},{"$f":"Codes!$C$2","v":22},{"$f":"Codes!$C$2","v":22},{"$f":"Codes!$C$2","v":22},{"$f":"Codes!$C$2","v":22},{"$f":"Codes!$C$2","v":22},{"$f":"Codes!$C$2","v":22},{"$f":"Codes!$C$2","v":22},{"$f":"Codes!$C$2","v":22},{"$f":"Codes!$C$2","v":22},{"$f":"Codes!$C$2","v":22},{"$f":"Codes!$C$2","v":22},{"$f":"Codes!$C$2","v":22},{"$f":"Codes!$C$2","v":22},{"$f":"Codes!$C$2","v":22},{"$f":"Codes!$C$2","v":22},{"$f":"Codes!$C$2","v":22},{"$f":"Codes!$C$2","v":22},{"$f":"Codes!$C$2","v":22},{"$f":"Codes!$C$2","v":22},{"$f":"Codes!$C$2","v":22},{"$f":"Codes!$C$2","v":22},{"$f":"Codes!$C$2","v":22},{"$f":"Codes!$C$2","v":22},{"$f":"Codes!$C$2","v":22},{"$f":"Codes!$C$2","v":22},{"$f":"Codes!$C$2","v":22},{"$f":"Codes!$C$2","v":22},{"$f":"Codes!$C$2","v":22},{"$f":"Codes!$C$2","v":22},{"$f":"Codes!$C$2","v":22},{"$f":"Codes!$C$2","v":22},{"$f":"Codes!$C$2","v":22},{"$f":"Codes!$C$2","v":22},{"$f":"Codes!$C$2","v":22},{"$f":"Codes!$C$2","v":22},{"$f":"Codes!$C$2","v":22},{"$f":"Codes!$C$2","v":22},{"$f":"Codes!$C$2","v":22},{"$f":"Codes!$C$2","v":22},{"$f":"Codes!$C$2","v":22},{"$f":"Codes!$C$2","v":22},{"$f":"Codes!$C$2","v":22},{"$f":"Codes!$C$2","v":22},{"$f":"Codes!$C$2","v":22},{"$f":"Codes!$C$2","v":22},{"$f":"Codes!$C$2","v":22},{"$f":"Codes!$C$2","v":22},{"$f":"Codes!$C$2","v":22},{"$f":"Codes!$C$2","v":22},{"$f":"Codes!$C$2","v":22},{"$f":"Codes!$C$2","v":22},{"$f":"Codes!$C$2","v":22},{"$f":"Codes!$C$2","v":22},{"$f":"Codes!$C$2","v":22},{"$f":"Codes!$C$2","v":22},{"$f":"Codes!$C$2","v":22},{"$f":"Codes!$C$2","v":22},{"$f":"Codes!$C$2","v":22},{"$f":"Codes!$C$2","v":22},{"$f":"Codes!$C$2","v":22},{"$f":"Codes!$C$2","v":22},{"$f":"Codes!$C$2","v":22},{"$f":"Codes!$C$2","v":22},{"$f":"Codes!$C$2","v":22},{"$f":"Codes!$C$2","v":22},{"$f":"Codes!$C$2","v":22},{"$f":"Codes!$C$2","v":22},{"$f":"Codes!$C$2","v":22},{"$f":"Codes!$C$2","v":22},{"$f":"Codes!$C$2","v":22},{"$f":"Codes!$C$2","v":22},{"$f":"Codes!$C$2","v":22},{"$f":"Codes!$C$2","v":22},{"$f":"Codes!$C$2","v":22},{"$f":"Codes!$C$2","v":22},{"$f":"Codes!$C$2","v":22},{"$f":"Codes!$C$2","v":22},{"$f":"Codes!$C$2","v":22},{"$f":"Codes!$C$2","v":22},{"$f":"Codes!$C$2","v":22},{"$f":"Codes!$C$2","v":22},{"$f":"Codes!$C$2","v":22},{"$f":"Codes!$C$2","v":22},{"$f":"Codes!$C$2","v":22},{"$f":"Codes!$C$2","v":22},{"$f":"Codes!$C$2","v":22},{"$f":"Codes!$C$2","v":22},{"$f":"Codes!$C$2","v":22},{"$f":"Codes!$C$2","v":22},{"$f":"Codes!$C$2","v":22},{"$f":"Codes!$C$2","v":22},{"$f":"Codes!$C$2","v":22},{"$f":"Codes!$C$2","v":22},{"$f":"Codes!$C$2","v":22},{"$f":"Codes!$C$2","v":22},{"$f":"Codes!$C$2","v":22},{"$f":"Codes!$C$2","v":22},{"$f":"Codes!$C$2","v":22},{"$f":"Codes!$C$2","v":22},{"$f":"Codes!$C$2","v":22},{"$f":"Codes!$C$2","v":22},{"$f":"Codes!$C$2","v":22},{"$f":"Codes!$C$2","v":22},{"$f":"Codes!$C$2","v":22},{"$f":"Codes!$C$2","v":22},{"$f":"Codes!$C$2","v":22},{"$f":"Codes!$C$2","v":22},{"$f":"Codes!$C$2","v":22},{"$f":"Codes!$C$2","v":22},{"$f":"Codes!$C$2","v":22},{"$f":"Codes!$C$2","v":22},{"$f":"Codes!$C$2","v":22},{"$f":"Codes!$C$2","v":22},{"$f":"Codes!$C$2","v":22},{"$f":"Codes!$C$2","v":22},{"$f":"Codes!$C$2","v":22},{"$f":"Codes!$C$2","v":22},{"$f":"Codes!$C$2","v":22},{"$f":"Codes!$C$2","v":22},{"$f":"Codes!$C$2","v":22},{"$f":"Codes!$C$2","v":22},{"$f":"Codes!$C$2","v":22},{"$f":"Codes!$C$2","v":22},{"$f":"Codes!$C$2","v":22},{"$f":"Codes!$C$2","v":22},{"$f":"Codes!$C$2","v":22},{"$f":"Codes!$C$2","v":22},{"$f":"Codes!$C$2","v":22},{"$f":"Codes!$C$2","v":22},{"$f":"Codes!$C$2","v":22},{"$f":"Codes!$C$2","v":22},{"$f":"Codes!$C$2","v":22},{"$f":"Codes!$C$2","v":22},{"$f":"Codes!$C$2","v":22},{"$f":"Codes!$C$2","v":22},{"$f":"Codes!$C$2","v":22},{"$f":"Codes!$C$2","v":22},{"$f":"Codes!$C$2","v":22},{"$f":"Codes!$C$2","v":22},{"$f":"Codes!$C$2","v":22},{"$f":"Codes!$C$2","v":22},{"$f":"Codes!$C$2","v":22},{"$f":"Codes!$C$2","v":22},{"$f":"Codes!$C$2","v":22},{"$f":"Codes!$C$2","v":22},{"$f":"Codes!$C$2","v":22},{"$f":"Codes!$C$2","v":22},{"$f":"Codes!$C$2","v":22},{"$f":"Codes!$C$2","v":22},{"$f":"Codes!$C$2","v":22},{"$f":"Codes!$C$2","v":22},{"$f":"Codes!$C$2","v":22},{"$f":"Codes!$C$2","v":22},{"$f":"Codes!$C$2","v":22},{"$f":"Codes!$C$2","v":22},{"$f":"Codes!$C$2","v":22},{"$f":"Codes!$C$2","v":22},{"$f":"Codes!$C$2","v":22},{"$f":"Codes!$C$2","v":22},{"$f":"Codes!$C$2","v":22},{"$f":"Codes!$C$2","v":22},{"$f":"Codes!$C$2","v":22},{"$f":"Codes!$C$2","v":22},{"$f":"Codes!$C$2","v":22},{"$f":"Codes!$C$2","v":22},{"$f":"Codes!$C$2","v":22},{"$f":"Codes!$C$2","v":22},{"$f":"Codes!$C$2","v":22},{"$f":"Codes!$C$2","v":22},{"$f":"Codes!$C$2","v":22},{"$f":"Codes!$C$2","v":22},{"$f":"Codes!$C$2","v":22},{"$f":"Codes!$C$2","v":22},{"$f":"Codes!$C$2","v":22},{"$f":"Codes!$C$2","v":22},{"$f":"Codes!$C$2","v":22},{"$f":"Codes!$C$2","v":22},{"$f":"Codes!$C$2","v":22},{"$f":"Codes!$C$2","v":22},{"$f":"Codes!$C$2","v":22},{"$f":"Codes!$C$2","v":22},{"$f":"Codes!$C$2","v":22},{"$f":"Codes!$C$2","v":22},{"$f":"Codes!$C$2","v":22},{"$f":"Codes!$C$2","v":22},{"$f":"Codes!$C$2","v":22},{"$f":"Codes!$C$2","v":22},{"$f":"Codes!$C$2","v":22},{"$f":"Codes!$C$2","v":22},{"$f":"Codes!$C$2","v":22},{"$f":"Codes!$C$2","v":22},{"$f":"Codes!$C$2","v":22},{"$f":"Codes!$C$2","v":22},{"$f":"Codes!$C$2","v":22},{"$f":"Codes!$C$2","v":22},{"$f":"Codes!$C$2","v":22},{"$f":"Codes!$C$2","v":22},{"$f":"Codes!$C$2","v":22},{"$f":"Codes!$C$2","v":22},{"$f":"Codes!$C$2","v":22},{"$f":"Codes!$C$2","v":22},{"$f":"Codes!$C$2","v":22},{"$f":"Codes!$C$2","v":22},{"$f":"Codes!$C$2","v":22},{"$f":"Codes!$C$2","v":22},{"$f":"Codes!$C$2","v":22},{"$f":"Codes!$C$2","v":22},{"$f":"Codes!$C$2","v":22},{"$f":"Codes!$C$2","v":22},{"$f":"Codes!$C$2","v":22},{"$f":"Codes!$C$2","v":22},{"$f":"Codes!$C$2","v":22},{"$f":"Codes!$C$2","v":22},{"$f":"Codes!$C$2","v":22},{"$f":"Codes!$C$2","v":22},{"$f":"Codes!$C$2","v":22},{"$f":"Codes!$C$2","v":22},{"$f":"Codes!$C$2","v":22},{"$f":"Codes!$C$2","v":22},{"$f":"Codes!$C$2","v":22},{"$f":"Codes!$C$2","v":22},{"$f":"Codes!$C$2","v":22},{"$f":"Codes!$C$2","v":22},{"$f":"Codes!$C$2","v":22},{"$f":"Codes!$C$2","v":22},{"$f":"Codes!$C$2","v":22},{"$f":"Codes!$C$2","v":22},{"$f":"Codes!$C$2","v":22},{"$f":"Codes!$C$2","v":22},{"$f":"Codes!$C$2","v":22},{"$f":"Codes!$C$2","v":22},{"$f":"Codes!$C$2","v":22},{"$f":"Codes!$C$2","v":22},{"$f":"Codes!$C$2","v":22},{"$f":"Codes!$C$2","v":22},{"$f":"Codes!$C$2","v":22},{"$f":"Codes!$C$2","v":22},{"$f":"Codes!$C$2","v":22},{"$f":"Codes!$C$2","v":22},{"$f":"Codes!$C$2","v":22},{"$f":"Codes!$C$2","v":22},{"$f":"Codes!$C$2","v":22},{"$f":"Codes!$C$2","v":22},{"$f":"Codes!$C$2","v":22},{"$f":"Codes!$C$2","v":22},{"$f":"Codes!$C$2","v":22},{"$f":"Codes!$C$2","v":22},{"$f":"Codes!$C$2","v":22},{"$f":"Codes!$C$2","v":22},{"$f":"Codes!$C$2","v":22},{"$f":"Codes!$C$2","v":22},{"$f":"Codes!$C$2","v":22},{"$f":"Codes!$C$2","v":22},{"$f":"Codes!$C$2","v":22},{"$f":"Codes!$C$2","v":22},{"$f":"Codes!$C$2","v":22},{"$f":"Codes!$C$2","v":22},{"$f":"Codes!$C$2","v":22},{"$f":"Codes!$C$2","v":22},{"$f":"Codes!$C$2","v":22},{"$f":"Codes!$C$2","v":22},{"$f":"Codes!$C$2","v":22},{"$f":"Codes!$C$2","v":22},{"$f":"Codes!$C$2","v":22},{"$f":"Codes!$C$2","v":22},{"$f":"Codes!$C$2","v":22},{"$f":"Codes!$C$2","v":22},{"$f":"Codes!$C$2","v":22},{"$f":"Codes!$C$2","v":22},{"$f":"Codes!$C$2","v":22},{"$f":"Codes!$C$2","v":22},{"$f":"Codes!$C$2","v":22},{"$f":"Codes!$C$2","v":22},{"$f":"Codes!$C$2","v":22},{"$f":"Codes!$C$2","v":22},{"$f":"Codes!$C$2","v":22},{"$f":"Codes!$C$2","v":22},{"$f":"Codes!$C$2","v":22},{"$f":"Codes!$C$2","v":22},{"$f":"Codes!$C$2","v":22},{"$f":"Codes!$C$2","v":22},{"$f":"Codes!$C$2","v":22},{"$f":"Codes!$C$2","v":22},{"$f":"Codes!$C$2","v":22},{"$f":"Codes!$C$2","v":22},{"$f":"Codes!$C$2","v":22},{"$f":"Codes!$C$2","v":22},{"$f":"Codes!$C$2","v":22},{"$f":"Codes!$C$2","v":22},{"$f":"Codes!$C$2","v":22},{"$f":"Codes!$C$2","v":22},{"$f":"Codes!$C$2","v":22},{"$f":"Codes!$C$2","v":22},{"$f":"Codes!$C$2","v":22},{"$f":"Codes!$C$2","v":22},{"$f":"Codes!$C$2","v":22},{"$f":"Codes!$C$2","v":22},{"$f":"Codes!$C$2","v":22},{"$f":"Codes!$C$2","v":22},{"$f":"Codes!$C$2","v":22},{"$f":"Codes!$C$2","v":22},{"$f":"Codes!$C$2","v":22},{"$f":"Codes!$C$2","v":22},{"$f":"Codes!$C$2","v":22},{"$f":"Codes!$C$2","v":22},{"$f":"Codes!$C$2","v":22},{"$f":"Codes!$C$2","v":22},{"$f":"Codes!$C$2","v":22},{"$f":"Codes!$C$2","v":22},{"$f":"Codes!$C$2","v":22},{"$f":"Codes!$C$2","v":22},{"$f":"Codes!$C$2","v":22},{"$f":"Codes!$C$2","v":22},{"$f":"Codes!$C$2","v":22},{"$f":"Codes!$C$2","v":22},{"$f":"Codes!$C$2","v":22},{"$f":"Codes!$C$2","v":22},{"$f":"Codes!$C$2","v":22},{"$f":"Codes!$C$2","v":22},{"$f":"Codes!$C$2","v":22},{"$f":"Codes!$C$2","v":22},{"$f":"Codes!$C$2","v":22},{"$f":"Codes!$C$2","v":22},{"$f":"Codes!$C$2","v":22},{"$f":"Codes!$C$2","v":22},{"$f":"Codes!$C$2","v":22},{"$f":"Codes!$C$2","v":22},{"$f":"Codes!$C$2","v":22},{"$f":"Codes!$C$2","v":22},{"$f":"Codes!$C$2","v":22},{"$f":"Codes!$C$2","v":22},{"$f":"Codes!$C$2","v":22},{"$f":"Codes!$C$2","v":22},{"$f":"Codes!$C$2","v":22},{"$f":"Codes!$C$2","v":22},{"$f":"Codes!$C$2","v":22},{"$f":"Codes!$C$2","v":22},{"$f":"Codes!$C$2","v":22},{"$f":"Codes!$C$2","v":22},{"$f":"Codes!$C$2","v":22},{"$f":"Codes!$C$2","v":22},{"$f":"Codes!$C$2","v":22},{"$f":"Codes!$C$2","v":22},{"$f":"Codes!$C$2","v":22},{"$f":"Codes!$C$2","v":22},{"$f":"Codes!$C$2","v":22},{"$f":"Codes!$C$2","v":22},{"$f":"Codes!$C$2","v":22},{"$f":"Codes!$C$2","v":22},{"$f":"Codes!$C$2","v":22},{"$f":"Codes!$C$2","v":22},{"$f":"Codes!$C$2","v":22},{"$f":"Codes!$C$2","v":22},{"$f":"Codes!$C$2","v":22},{"$f":"Codes!$C$2","v":22},{"$f":"Codes!$C$2","v":22},{"$f":"Codes!$C$2","v":22},{"$f":"Codes!$C$2","v":22},{"$f":"Codes!$C$2","v":22},{"$f":"Codes!$C$2","v":22},{"$f":"Codes!$C$2","v":22},{"$f":"Codes!$C$2","v":22},{"$f":"Codes!$C$2","v":22},{"$f":"Codes!$C$2","v":22},{"$f":"Codes!$C$2","v":22},{"$f":"Codes!$C$2","v":22},{"$f":"Codes!$C$2","v":22},{"$f":"Codes!$C$2","v":22},{"$f":"Codes!$C$2","v":22},{"$f":"Codes!$C$2","v":22},{"$f":"Codes!$C$2","v":22},{"$f":"Codes!$C$2","v":22},{"$f":"Codes!$C$2","v":22},{"$f":"Codes!$C$2","v":22},{"$f":"Codes!$C$2","v":22},{"$f":"Codes!$C$2","v":22},{"$f":"Codes!$C$2","v":22},{"$f":"Codes!$C$2","v":22},{"$f":"Codes!$C$2","v":22},{"$f":"Codes!$C$2","v":22},{"$f":"Codes!$C$2","v":22},{"$f":"Codes!$C$2","v":22},{"$f":"Codes!$C$2","v":22},{"$f":"Codes!$C$2","v":22},{"$f":"Codes!$C$2","v":22},{"$f":"Codes!$C$2","v":22},{"$f":"Codes!$C$2","v":22},{"$f":"Codes!$C$2","v":22},{"$f":"Codes!$C$2","v":22},{"$f":"Codes!$C$2","v":22},{"$f":"Codes!$C$2","v":22},{"$f":"Codes!$C$2","v":22},{"$f":"Codes!$C$2","v":22},{"$f":"Codes!$C$2","v":22},{"$f":"Codes!$C$2","v":22},{"$f":"Codes!$C$2","v":22},{"$f":"Codes!$C$2","v":22},{"$f":"Codes!$C$2","v":22},{"$f":"Codes!$C$2","v":22},{"$f":"Codes!$C$2","v":22},{"$f":"Codes!$C$2","v":22},{"$f":"Codes!$C$2","v":22},{"$f":"Codes!$C$2","v":22},{"$f":"Codes!$C$2","v":22},{"$f":"Codes!$C$2","v":22},{"$f":"Codes!$C$2","v":22},{"$f":"Codes!$C$2","v":22},{"$f":"Codes!$C$2","v":22},{"$f":"Codes!$C$2","v":22},{"$f":"Codes!$C$2","v":22},{"$f":"Codes!$C$2","v":22},{"$f":"Codes!$C$2","v":22},{"$f":"Codes!$C$2","v":22},{"$f":"Codes!$C$2","v":22},{"$f":"Codes!$C$2","v":22},{"$f":"Codes!$C$2","v":22},{"$f":"Codes!$C$2","v":22},{"$f":"Codes!$C$2","v":22},{"$f":"Codes!$C$2","v":22},{"$f":"Codes!$C$2","v":22},{"$f":"Codes!$C$2","v":22},{"$f":"Codes!$C$2","v":22},{"$f":"Codes!$C$2","v":22},{"$f":"Codes!$C$2","v":22},{"$f":"Codes!$C$2","v":22},{"$f":"Codes!$C$2","v":22},{"$f":"Codes!$C$2","v":22},{"$f":"Codes!$C$2","v":22},{"$f":"Codes!$C$2","v":22},{"$f":"Codes!$C$2","v":22},{"$f":"Codes!$C$2","v":22},{"$f":"Codes!$C$2","v":22},{"$f":"Codes!$C$2","v":22},{"$f":"Codes!$C$2","v":22},{"$f":"Codes!$C$2","v":22},{"$f":"Codes!$C$2","v":22},{"$f":"Codes!$C$2","v":22},{"$f":"Codes!$C$2","v":22},{"$f":"Codes!$C$2","v":22},{"$f":"Codes!$C$2","v":22},{"$f":"Codes!$C$2","v":22},{"$f":"Codes!$C$2","v":22},{"$f":"Codes!$C$2","v":22},{"$f":"Codes!$C$2","v":22},{"$f":"Codes!$C$2","v":22},{"$f":"Codes!$C$2","v":22},{"$f":"Codes!$C$2","v":22},{"$f":"Codes!$C$2","v":22},{"$f":"Codes!$C$2","v":22},{"$f":"Codes!$C$2","v":22},{"$f":"Codes!$C$2","v":22},{"$f":"Codes!$C$2","v":22},{"$f":"Codes!$C$2","v":22},{"$f":"Codes!$C$2","v":22},{"$f":"Codes!$C$2","v":22},{"$f":"Codes!$C$2","v":22},{"$f":"Codes!$C$2","v":22},{"$f":"Codes!$C$2","v":22},{"$f":"Codes!$C$2","v":22},{"$f":"Codes!$C$2","v":22},{"$f":"Codes!$C$2","v":22},{"$f":"Codes!$C$2","v":22},{"$f":"Codes!$C$2","v":22},{"$f":"Codes!$C$2","v":22},{"$f":"Codes!$C$2","v":22},{"$f":"Codes!$C$2","v":22},{"$f":"Codes!$C$2","v":22},{"$f":"Codes!$C$2","v":22},{"$f":"Codes!$C$2","v":22},{"$f":"Codes!$C$2","v":22}]
[null,{"$f":"Codes!C4","v":"NRG Solar Borrego I"},null,{"$f":"INDEX('Total Plants'!$1:$1048576,'Selected Plant'!D4,'Selected Plant'!D3)","v":3965},{"$f":"INDEX('Total Plants'!$1:$1048576,'Selected Plant'!E4,'Selected Plant'!E3)","v":4463},{"$f":"INDEX('Total Plants'!$1:$1048576,'Selected Plant'!F4,'Selected Plant'!F3)","v":6571},{"$f":"INDEX('Total Plants'!$1:$1048576,'Selected Plant'!G4,'Selected Plant'!G3)","v":7271},{"$f":"INDEX('Total Plants'!$1:$1048576,'Selected Plant'!H4,'Selected Plant'!H3)","v":8205},{"$f":"INDEX('Total Plants'!$1:$1048576,'Selected Plant'!I4,'Selected Plant'!I3)","v":8245},{"$f":"INDEX('Total Plants'!$1:$1048576,'Selected Plant'!J4,'Selected Plant'!J3)","v":7782},{"$f":"INDEX('Total Plants'!$1:$1048576,'Selected Plant'!K4,'Selected Plant'!K3)","v":6734},{"$f":"INDEX('Total Plants'!$1:$1048576,'Selected Plant'!L4,'Selected Plant'!L3)","v":6652},{"$f":"INDEX('Total Plants'!$1:$1048576,'Selected Plant'!M4,'Selected Plant'!M3)","v":5613},{"$f":"INDEX('Total Plants'!$1:$1048576,'Selected Plant'!N4,'Selected Plant'!N3)","v":4418},{"$f":"INDEX('Total Plants'!$1:$1048576,'Selected Plant'!O4,'Selected Plant'!O3)","v":3219},{"$f":"INDEX('Total Plants'!$1:$1048576,'Selected Plant'!P4,'Selected Plant'!P3)","v":3692},{"$f":"INDEX('Total Plants'!$1:$1048576,'Selected Plant'!Q4,'Selected Plant'!Q3)","v":4369},{"$f":"INDEX('Total Plants'!$1:$1048576,'Selected Plant'!R4,'Selected Plant'!R3)","v":6473},{"$f":"INDEX('Total Plants'!$1:$1048576,'Selected Plant'!S4,'Selected Plant'!S3)","v":7578},{"$f":"INDEX('Total Plants'!$1:$1048576,'Selected Plant'!T4,'Selected Plant'!T3)","v":7619},{"$f":"INDEX('Total Plants'!$1:$1048576,'Selected Plant'!U4,'Selected Plant'!U3)","v":7201},{"$f":"INDEX('Total Plants'!$1:$1048576,'Selected Plant'!V4,'Selected Plant'!V3)","v":7724},{"$f":"INDEX('Total Plants'!$1:$1048576,'Selected Plant'!W4,'Selected Plant'!W3)","v":7573},{"$f":"INDEX('Total Plants'!$1:$1048576,'Selected Plant'!X4,'Selected Plant'!X3)","v":5814},{"$f":"INDEX('Total Plants'!$1:$1048576,'Selected Plant'!Y4,'Selected Plant'!Y3)","v":5130},{"$f":"INDEX('Total Plants'!$1:$1048576,'Selected Plant'!Z4,'Selected Plant'!Z3)","v":4528},{"$f":"INDEX('Total Plants'!$1:$1048576,'Selected Plant'!AA4,'Selected Plant'!AA3)","v":3743},{"$f":"INDEX('Total Plants'!$1:$1048576,'Selected Plant'!AB4,'Selected Plant'!AB3)","v":3722},{"$f":"INDEX('Total Plants'!$1:$1048576,'Selected Plant'!AC4,'Selected Plant'!AC3)","v":4865},{"$f":"INDEX('Total Plants'!$1:$1048576,'Selected Plant'!AD4,'Selected Plant'!AD3)","v":6329},{"$f":"INDEX('Total Plants'!$1:$1048576,'Selected Plant'!AE4,'Selected Plant'!AE3)","v":6773},{"$f":"INDEX('Total Plants'!$1:$1048576,'Selected Plant'!AF4,'Selected Plant'!AF3)","v":8201},{"$f":"INDEX('Total Plants'!$1:$1048576,'Selected Plant'!AG4,'Selected Plant'!AG3)","v":8117},{"$f":"INDEX('Total Plants'!$1:$1048576,'Selected Plant'!AH4,'Selected Plant'!AH3)","v":8318},{"$f":"INDEX('Total Plants'!$1:$1048576,'Selected Plant'!AI4,'Selected Plant'!AI3)","v":7436},{"$f":"INDEX('Total Plants'!$1:$1048576,'Selected Plant'!AJ4,'Selected Plant'!AJ3)","v":6019},{"$f":"INDEX('Total Plants'!$1:$1048576,'Selected Plant'!AK4,'Selected Plant'!AK3)","v":5396},{"$f":"INDEX('Total Plants'!$1:$1048576,'Selected Plant'!AL4,'Selected Plant'!AL3)","v":4330},{"$f":"INDEX('Total Plants'!$1:$1048576,'Selected Plant'!AM4,'Selected Plant'!AM3)","v":1576},{"$f":"INDEX('Total Plants'!$1:$1048576,'Selected Plant'!AN4,'Selected Plant'!AN3)","v":0},{"$f":"INDEX('Total Plants'!$1:$1048576,'Selected Plant'!AO4,'Selected Plant'!AO3)","v":0},{"$f":"INDEX('Total Plants'!$1:$1048576,'Selected Plant'!AP4,'Selected Plant'!AP3)","v":0},{"$f":"INDEX('Total Plants'!$1:$1048576,'Selected Plant'!AQ4,'Selected Plant'!AQ3)","v":0},{"$f":"INDEX('Total Plants'!$1:$1048576,'Selected Plant'!AR4,'Selected Plant'!AR3)","v":0},{"$f":"INDEX('Total Plants'!$1:$1048576,'Selected Plant'!AS4,'Selected Plant'!AS3)","v":0},{"$f":"INDEX('Total Plants'!$1:$1048576,'Selected Plant'!AT4,'Selected Plant'!AT3)","v":0},{"$f":"INDEX('Total Plants'!$1:$1048576,'Selected Plant'!AU4,'Selected Plant'!AU3)","v":0},{"$f":"INDEX('Total Plants'!$1:$1048576,'Selected Plant'!AV4,'Selected Plant'!AV3)","v":0},{"$f":"INDEX('Total Plants'!$1:$1048576,'Selected Plant'!AW4,'Selected Plant'!AW3)","v":0},{"$f":"INDEX('Total Plants'!$1:$1048576,'Selected Plant'!AX4,'Selected Plant'!AX3)","v":0},{"$f":"INDEX('Total Plants'!$1:$1048576,'Selected Plant'!AY4,'Selected Plant'!AY3)","v":{"$error":"#N/A"}},{"$f":"INDEX('Total Plants'!$1:$1048576,'Selected Plant'!AZ4,'Selected Plant'!AZ3)","v":{"$error":"#N/A"}},{"$f":"INDEX('Total Plants'!$1:$1048576,'Selected Plant'!BA4,'Selected Plant'!BA3)","v":{"$error":"#N/A"}},{"$f":"INDEX('Total Plants'!$1:$1048576,'Selected Plant'!BB4,'Selected Plant'!BB3)","v":{"$error":"#N/A"}},{"$f":"INDEX('Total Plants'!$1:$1048576,'Selected Plant'!BC4,'Selected Plant'!BC3)","v":{"$error":"#N/A"}},{"$f":"INDEX('Total Plants'!$1:$1048576,'Selected Plant'!BD4,'Selected Plant'!BD3)","v":{"$error":"#N/A"}},{"$f":"INDEX('Total Plants'!$1:$1048576,'Selected Plant'!BE4,'Selected Plant'!BE3)","v":{"$error":"#N/A"}},{"$f":"INDEX('Total Plants'!$1:$1048576,'Selected Plant'!BF4,'Selected Plant'!BF3)","v":{"$error":"#N/A"}},{"$f":"INDEX('Total Plants'!$1:$1048576,'Selected Plant'!BG4,'Selected Plant'!BG3)","v":{"$error":"#N/A"}},{"$f":"INDEX('Total Plants'!$1:$1048576,'Selected Plant'!BH4,'Selected Plant'!BH3)","v":{"$error":"#N/A"}},{"$f":"INDEX('Total Plants'!$1:$1048576,'Selected Plant'!BI4,'Selected Plant'!BI3)","v":{"$error":"#N/A"}},{"$f":"INDEX('Total Plants'!$1:$1048576,'Selected Plant'!BJ4,'Selected Plant'!BJ3)","v":{"$error":"#N/A"}},{"$f":"INDEX('Total Plants'!$1:$1048576,'Selected Plant'!BK4,'Selected Plant'!BK3)","v":{"$error":"#N/A"}},{"$f":"INDEX('Total Plants'!$1:$1048576,'Selected Plant'!BL4,'Selected Plant'!BL3)","v":{"$error":"#N/A"}},{"$f":"INDEX('Total Plants'!$1:$1048576,'Selected Plant'!BM4,'Selected Plant'!BM3)","v":{"$error":"#N/A"}},{"$f":"INDEX('Total Plants'!$1:$1048576,'Selected Plant'!BN4,'Selected Plant'!BN3)","v":{"$error":"#N/A"}},{"$f":"INDEX('Total Plants'!$1:$1048576,'Selected Plant'!BO4,'Selected Plant'!BO3)","v":{"$error":"#N/A"}},{"$f":"INDEX('Total Plants'!$1:$1048576,'Selected Plant'!BP4,'Selected Plant'!BP3)","v":{"$error":"#N/A"}},{"$f":"INDEX('Total Plants'!$1:$1048576,'Selected Plant'!BQ4,'Selected Plant'!BQ3)","v":{"$error":"#N/A"}},{"$f":"INDEX('Total Plants'!$1:$1048576,'Selected Plant'!BR4,'Selected Plant'!BR3)","v":{"$error":"#N/A"}},{"$f":"INDEX('Total Plants'!$1:$1048576,'Selected Plant'!BS4,'Selected Plant'!BS3)","v":{"$error":"#N/A"}},{"$f":"INDEX('Total Plants'!$1:$1048576,'Selected Plant'!BT4,'Selected Plant'!BT3)","v":{"$error":"#N/A"}},{"$f":"INDEX('Total Plants'!$1:$1048576,'Selected Plant'!BU4,'Selected Plant'!BU3)","v":{"$error":"#N/A"}},{"$f":"INDEX('Total Plants'!$1:$1048576,'Selected Plant'!BV4,'Selected Plant'!BV3)","v":{"$error":"#N/A"}},{"$f":"INDEX('Total Plants'!$1:$1048576,'Selected Plant'!BW4,'Selected Plant'!BW3)","v":{"$error":"#N/A"}},{"$f":"INDEX('Total Plants'!$1:$1048576,'Selected Plant'!BX4,'Selected Plant'!BX3)","v":{"$error":"#N/A"}},{"$f":"INDEX('Total Plants'!$1:$1048576,'Selected Plant'!BY4,'Selected Plant'!BY3)","v":{"$error":"#N/A"}},{"$f":"INDEX('Total Plants'!$1:$1048576,'Selected Plant'!BZ4,'Selected Plant'!BZ3)","v":{"$error":"#N/A"}},{"$f":"INDEX('Total Plants'!$1:$1048576,'Selected Plant'!CA4,'Selected Plant'!CA3)","v":{"$error":"#N/A"}},{"$f":"INDEX('Total Plants'!$1:$1048576,'Selected Plant'!CB4,'Selected Plant'!CB3)","v":{"$error":"#N/A"}},{"$f":"INDEX('Total Plants'!$1:$1048576,'Selected Plant'!CC4,'Selected Plant'!CC3)","v":{"$error":"#N/A"}},{"$f":"INDEX('Total Plants'!$1:$1048576,'Selected Plant'!CD4,'Selected Plant'!CD3)","v":{"$error":"#N/A"}},{"$f":"INDEX('Total Plants'!$1:$1048576,'Selected Plant'!CE4,'Selected Plant'!CE3)","v":{"$error":"#N/A"}},{"$f":"INDEX('Total Plants'!$1:$1048576,'Selected Plant'!CF4,'Selected Plant'!CF3)","v":{"$error":"#N/A"}},{"$f":"INDEX('Total Plants'!$1:$1048576,'Selected Plant'!CG4,'Selected Plant'!CG3)","v":{"$error":"#N/A"}},{"$f":"INDEX('Total Plants'!$1:$1048576,'Selected Plant'!CH4,'Selected Plant'!CH3)","v":{"$error":"#N/A"}},{"$f":"INDEX('Total Plants'!$1:$1048576,'Selected Plant'!CI4,'Selected Plant'!CI3)","v":{"$error":"#N/A"}},{"$f":"INDEX('Total Plants'!$1:$1048576,'Selected Plant'!CJ4,'Selected Plant'!CJ3)","v":{"$error":"#N/A"}},{"$f":"INDEX('Total Plants'!$1:$1048576,'Selected Plant'!CK4,'Selected Plant'!CK3)","v":{"$error":"#N/A"}},{"$f":"INDEX('Total Plants'!$1:$1048576,'Selected Plant'!CL4,'Selected Plant'!CL3)","v":{"$error":"#N/A"}},{"$f":"INDEX('Total Plants'!$1:$1048576,'Selected Plant'!CM4,'Selected Plant'!CM3)","v":{"$error":"#N/A"}},{"$f":"INDEX('Total Plants'!$1:$1048576,'Selected Plant'!CN4,'Selected Plant'!CN3)","v":{"$error":"#N/A"}},{"$f":"INDEX('Total Plants'!$1:$1048576,'Selected Plant'!CO4,'Selected Plant'!CO3)","v":{"$error":"#N/A"}},{"$f":"INDEX('Total Plants'!$1:$1048576,'Selected Plant'!CP4,'Selected Plant'!CP3)","v":{"$error":"#N/A"}},{"$f":"INDEX('Total Plants'!$1:$1048576,'Selected Plant'!CQ4,'Selected Plant'!CQ3)","v":{"$error":"#N/A"}},{"$f":"INDEX('Total Plants'!$1:$1048576,'Selected Plant'!CR4,'Selected Plant'!CR3)","v":{"$error":"#N/A"}},{"$f":"INDEX('Total Plants'!$1:$1048576,'Selected Plant'!CS4,'Selected Plant'!CS3)","v":{"$error":"#N/A"}},{"$f":"INDEX('Total Plants'!$1:$1048576,'Selected Plant'!CT4,'Selected Plant'!CT3)","v":{"$error":"#N/A"}},{"$f":"INDEX('Total Plants'!$1:$1048576,'Selected Plant'!CU4,'Selected Plant'!CU3)","v":{"$error":"#N/A"}},{"$f":"INDEX('Total Plants'!$1:$1048576,'Selected Plant'!CV4,'Selected Plant'!CV3)","v":{"$error":"#N/A"}},{"$f":"INDEX('Total Plants'!$1:$1048576,'Selected Plant'!CW4,'Selected Plant'!CW3)","v":{"$error":"#N/A"}},{"$f":"INDEX('Total Plants'!$1:$1048576,'Selected Plant'!CX4,'Selected Plant'!CX3)","v":{"$error":"#N/A"}},{"$f":"INDEX('Total Plants'!$1:$1048576,'Selected Plant'!CY4,'Selected Plant'!CY3)","v":{"$error":"#N/A"}},{"$f":"INDEX('Total Plants'!$1:$1048576,'Selected Plant'!CZ4,'Selected Plant'!CZ3)","v":{"$error":"#N/A"}},{"$f":"INDEX('Total Plants'!$1:$1048576,'Selected Plant'!DA4,'Selected Plant'!DA3)","v":{"$error":"#N/A"}},{"$f":"INDEX('Total Plants'!$1:$1048576,'Selected Plant'!DB4,'Selected Plant'!DB3)","v":{"$error":"#N/A"}},{"$f":"INDEX('Total Plants'!$1:$1048576,'Selected Plant'!DC4,'Selected Plant'!DC3)","v":{"$error":"#N/A"}},{"$f":"INDEX('Total Plants'!$1:$1048576,'Selected Plant'!DD4,'Selected Plant'!DD3)","v":{"$error":"#N/A"}},{"$f":"INDEX('Total Plants'!$1:$1048576,'Selected Plant'!DE4,'Selected Plant'!DE3)","v":{"$error":"#N/A"}},{"$f":"INDEX('Total Plants'!$1:$1048576,'Selected Plant'!DF4,'Selected Plant'!DF3)","v":{"$error":"#N/A"}},{"$f":"INDEX('Total Plants'!$1:$1048576,'Selected Plant'!DG4,'Selected Plant'!DG3)","v":{"$error":"#N/A"}},{"$f":"INDEX('Total Plants'!$1:$1048576,'Selected Plant'!DH4,'Selected Plant'!DH3)","v":{"$error":"#N/A"}},{"$f":"INDEX('Total Plants'!$1:$1048576,'Selected Plant'!DI4,'Selected Plant'!DI3)","v":{"$error":"#N/A"}},{"$f":"INDEX('Total Plants'!$1:$1048576,'Selected Plant'!DJ4,'Selected Plant'!DJ3)","v":{"$error":"#N/A"}},{"$f":"INDEX('Total Plants'!$1:$1048576,'Selected Plant'!DK4,'Selected Plant'!DK3)","v":{"$error":"#N/A"}},{"$f":"INDEX('Total Plants'!$1:$1048576,'Selected Plant'!DL4,'Selected Plant'!DL3)","v":{"$error":"#N/A"}},{"$f":"INDEX('Total Plants'!$1:$1048576,'Selected Plant'!DM4,'Selected Plant'!DM3)","v":{"$error":"#N/A"}},{"$f":"INDEX('Total Plants'!$1:$1048576,'Selected Plant'!DN4,'Selected Plant'!DN3)","v":{"$error":"#N/A"}},{"$f":"INDEX('Total Plants'!$1:$1048576,'Selected Plant'!DO4,'Selected Plant'!DO3)","v":{"$error":"#N/A"}},{"$f":"INDEX('Total Plants'!$1:$1048576,'Selected Plant'!DP4,'Selected Plant'!DP3)","v":{"$error":"#N/A"}},{"$f":"INDEX('Total Plants'!$1:$1048576,'Selected Plant'!DQ4,'Selected Plant'!DQ3)","v":{"$error":"#N/A"}},{"$f":"INDEX('Total Plants'!$1:$1048576,'Selected Plant'!DR4,'Selected Plant'!DR3)","v":{"$error":"#N/A"}},{"$f":"INDEX('Total Plants'!$1:$1048576,'Selected Plant'!DS4,'Selected Plant'!DS3)","v":{"$error":"#N/A"}},{"$f":"INDEX('Total Plants'!$1:$1048576,'Selected Plant'!DT4,'Selected Plant'!DT3)","v":{"$error":"#N/A"}},{"$f":"INDEX('Total Plants'!$1:$1048576,'Selected Plant'!DU4,'Selected Plant'!DU3)","v":{"$error":"#N/A"}},{"$f":"INDEX('Total Plants'!$1:$1048576,'Selected Plant'!DV4,'Selected Plant'!DV3)","v":{"$error":"#N/A"}},{"$f":"INDEX('Total Plants'!$1:$1048576,'Selected Plant'!DW4,'Selected Plant'!DW3)","v":{"$error":"#N/A"}},{"$f":"INDEX('Total Plants'!$1:$1048576,'Selected Plant'!DX4,'Selected Plant'!DX3)","v":{"$error":"#N/A"}},{"$f":"INDEX('Total Plants'!$1:$1048576,'Selected Plant'!DY4,'Selected Plant'!DY3)","v":{"$error":"#N/A"}},{"$f":"INDEX('Total Plants'!$1:$1048576,'Selected Plant'!DZ4,'Selected Plant'!DZ3)","v":{"$error":"#N/A"}},{"$f":"INDEX('Total Plants'!$1:$1048576,'Selected Plant'!EA4,'Selected Plant'!EA3)","v":{"$error":"#N/A"}},{"$f":"INDEX('Total Plants'!$1:$1048576,'Selected Plant'!EB4,'Selected Plant'!EB3)","v":{"$error":"#N/A"}},{"$f":"INDEX('Total Plants'!$1:$1048576,'Selected Plant'!EC4,'Selected Plant'!EC3)","v":{"$error":"#N/A"}},{"$f":"INDEX('Total Plants'!$1:$1048576,'Selected Plant'!ED4,'Selected Plant'!ED3)","v":{"$error":"#N/A"}},{"$f":"INDEX('Total Plants'!$1:$1048576,'Selected Plant'!EE4,'Selected Plant'!EE3)","v":{"$error":"#N/A"}},{"$f":"INDEX('Total Plants'!$1:$1048576,'Selected Plant'!EF4,'Selected Plant'!EF3)","v":{"$error":"#N/A"}},{"$f":"INDEX('Total Plants'!$1:$1048576,'Selected Plant'!EG4,'Selected Plant'!EG3)","v":{"$error":"#N/A"}},{"$f":"INDEX('Total Plants'!$1:$1048576,'Selected Plant'!EH4,'Selected Plant'!EH3)","v":{"$error":"#N/A"}},{"$f":"INDEX('Total Plants'!$1:$1048576,'Selected Plant'!EI4,'Selected Plant'!EI3)","v":{"$error":"#N/A"}},{"$f":"INDEX('Total Plants'!$1:$1048576,'Selected Plant'!EJ4,'Selected Plant'!EJ3)","v":{"$error":"#N/A"}},{"$f":"INDEX('Total Plants'!$1:$1048576,'Selected Plant'!EK4,'Selected Plant'!EK3)","v":{"$error":"#N/A"}},{"$f":"INDEX('Total Plants'!$1:$1048576,'Selected Plant'!EL4,'Selected Plant'!EL3)","v":{"$error":"#N/A"}},{"$f":"INDEX('Total Plants'!$1:$1048576,'Selected Plant'!EM4,'Selected Plant'!EM3)","v":{"$error":"#N/A"}},{"$f":"INDEX('Total Plants'!$1:$1048576,'Selected Plant'!EN4,'Selected Plant'!EN3)","v":{"$error":"#N/A"}},{"$f":"INDEX('Total Plants'!$1:$1048576,'Selected Plant'!EO4,'Selected Plant'!EO3)","v":{"$error":"#N/A"}},{"$f":"INDEX('Total Plants'!$1:$1048576,'Selected Plant'!EP4,'Selected Plant'!EP3)","v":{"$error":"#N/A"}},{"$f":"INDEX('Total Plants'!$1:$1048576,'Selected Plant'!EQ4,'Selected Plant'!EQ3)","v":{"$error":"#N/A"}},{"$f":"INDEX('Total Plants'!$1:$1048576,'Selected Plant'!ER4,'Selected Plant'!ER3)","v":{"$error":"#N/A"}},{"$f":"INDEX('Total Plants'!$1:$1048576,'Selected Plant'!ES4,'Selected Plant'!ES3)","v":{"$error":"#N/A"}},{"$f":"INDEX('Total Plants'!$1:$1048576,'Selected Plant'!ET4,'Selected Plant'!ET3)","v":{"$error":"#N/A"}},{"$f":"INDEX('Total Plants'!$1:$1048576,'Selected Plant'!EU4,'Selected Plant'!EU3)","v":{"$error":"#N/A"}},{"$f":"INDEX('Total Plants'!$1:$1048576,'Selected Plant'!EV4,'Selected Plant'!EV3)","v":{"$error":"#N/A"}},{"$f":"INDEX('Total Plants'!$1:$1048576,'Selected Plant'!EW4,'Selected Plant'!EW3)","v":{"$error":"#N/A"}},{"$f":"INDEX('Total Plants'!$1:$1048576,'Selected Plant'!EX4,'Selected Plant'!EX3)","v":{"$error":"#N/A"}},{"$f":"INDEX('Total Plants'!$1:$1048576,'Selected Plant'!EY4,'Selected Plant'!EY3)","v":{"$error":"#N/A"}},{"$f":"INDEX('Total Plants'!$1:$1048576,'Selected Plant'!EZ4,'Selected Plant'!EZ3)","v":{"$error":"#N/A"}},{"$f":"INDEX('Total Plants'!$1:$1048576,'Selected Plant'!FA4,'Selected Plant'!FA3)","v":{"$error":"#N/A"}},{"$f":"INDEX('Total Plants'!$1:$1048576,'Selected Plant'!FB4,'Selected Plant'!FB3)","v":{"$error":"#N/A"}},{"$f":"INDEX('Total Plants'!$1:$1048576,'Selected Plant'!FC4,'Selected Plant'!FC3)","v":{"$error":"#N/A"}},{"$f":"INDEX('Total Plants'!$1:$1048576,'Selected Plant'!FD4,'Selected Plant'!FD3)","v":{"$error":"#N/A"}},{"$f":"INDEX('Total Plants'!$1:$1048576,'Selected Plant'!FE4,'Selected Plant'!FE3)","v":{"$error":"#N/A"}},{"$f":"INDEX('Total Plants'!$1:$1048576,'Selected Plant'!FF4,'Selected Plant'!FF3)","v":{"$error":"#N/A"}},{"$f":"INDEX('Total Plants'!$1:$1048576,'Selected Plant'!FG4,'Selected Plant'!FG3)","v":{"$error":"#N/A"}},{"$f":"INDEX('Total Plants'!$1:$1048576,'Selected Plant'!FH4,'Selected Plant'!FH3)","v":{"$error":"#N/A"}},{"$f":"INDEX('Total Plants'!$1:$1048576,'Selected Plant'!FI4,'Selected Plant'!FI3)","v":{"$error":"#N/A"}},{"$f":"INDEX('Total Plants'!$1:$1048576,'Selected Plant'!FJ4,'Selected Plant'!FJ3)","v":{"$error":"#N/A"}},{"$f":"INDEX('Total Plants'!$1:$1048576,'Selected Plant'!FK4,'Selected Plant'!FK3)","v":{"$error":"#N/A"}},{"$f":"INDEX('Total Plants'!$1:$1048576,'Selected Plant'!FL4,'Selected Plant'!FL3)","v":{"$error":"#N/A"}},{"$f":"INDEX('Total Plants'!$1:$1048576,'Selected Plant'!FM4,'Selected Plant'!FM3)","v":{"$error":"#N/A"}},{"$f":"INDEX('Total Plants'!$1:$1048576,'Selected Plant'!FN4,'Selected Plant'!FN3)","v":{"$error":"#N/A"}},{"$f":"INDEX('Total Plants'!$1:$1048576,'Selected Plant'!FO4,'Selected Plant'!FO3)","v":{"$error":"#N/A"}},{"$f":"INDEX('Total Plants'!$1:$1048576,'Selected Plant'!FP4,'Selected Plant'!FP3)","v":{"$error":"#N/A"}},{"$f":"INDEX('Total Plants'!$1:$1048576,'Selected Plant'!FQ4,'Selected Plant'!FQ3)","v":{"$error":"#N/A"}},{"$f":"INDEX('Total Plants'!$1:$1048576,'Selected Plant'!FR4,'Selected Plant'!FR3)","v":{"$error":"#N/A"}},{"$f":"INDEX('Total Plants'!$1:$1048576,'Selected Plant'!FS4,'Selected Plant'!FS3)","v":{"$error":"#N/A"}},{"$f":"INDEX('Total Plants'!$1:$1048576,'Selected Plant'!FT4,'Selected Plant'!FT3)","v":{"$error":"#N/A"}},{"$f":"INDEX('Total Plants'!$1:$1048576,'Selected Plant'!FU4,'Selected Plant'!FU3)","v":{"$error":"#N/A"}},{"$f":"INDEX('Total Plants'!$1:$1048576,'Selected Plant'!FV4,'Selected Plant'!FV3)","v":{"$error":"#N/A"}},{"$f":"INDEX('Total Plants'!$1:$1048576,'Selected Plant'!FW4,'Selected Plant'!FW3)","v":{"$error":"#N/A"}},{"$f":"INDEX('Total Plants'!$1:$1048576,'Selected Plant'!FX4,'Selected Plant'!FX3)","v":{"$error":"#N/A"}},{"$f":"INDEX('Total Plants'!$1:$1048576,'Selected Plant'!FY4,'Selected Plant'!FY3)","v":{"$error":"#N/A"}},{"$f":"INDEX('Total Plants'!$1:$1048576,'Selected Plant'!FZ4,'Selected Plant'!FZ3)","v":{"$error":"#N/A"}},{"$f":"INDEX('Total Plants'!$1:$1048576,'Selected Plant'!GA4,'Selected Plant'!GA3)","v":{"$error":"#N/A"}},{"$f":"INDEX('Total Plants'!$1:$1048576,'Selected Plant'!GB4,'Selected Plant'!GB3)","v":{"$error":"#N/A"}},{"$f":"INDEX('Total Plants'!$1:$1048576,'Selected Plant'!GC4,'Selected Plant'!GC3)","v":{"$error":"#N/A"}},{"$f":"INDEX('Total Plants'!$1:$1048576,'Selected Plant'!GD4,'Selected Plant'!GD3)","v":{"$error":"#N/A"}},{"$f":"INDEX('Total Plants'!$1:$1048576,'Selected Plant'!GE4,'Selected Plant'!GE3)","v":{"$error":"#N/A"}},{"$f":"INDEX('Total Plants'!$1:$1048576,'Selected Plant'!GF4,'Selected Plant'!GF3)","v":{"$error":"#N/A"}},{"$f":"INDEX('Total Plants'!$1:$1048576,'Selected Plant'!GG4,'Selected Plant'!GG3)","v":{"$error":"#N/A"}},{"$f":"INDEX('Total Plants'!$1:$1048576,'Selected Plant'!GH4,'Selected Plant'!GH3)","v":{"$error":"#N/A"}},{"$f":"INDEX('Total Plants'!$1:$1048576,'Selected Plant'!GI4,'Selected Plant'!GI3)","v":{"$error":"#N/A"}},{"$f":"INDEX('Total Plants'!$1:$1048576,'Selected Plant'!GJ4,'Selected Plant'!GJ3)","v":{"$error":"#N/A"}},{"$f":"INDEX('Total Plants'!$1:$1048576,'Selected Plant'!GK4,'Selected Plant'!GK3)","v":{"$error":"#N/A"}},{"$f":"INDEX('Total Plants'!$1:$1048576,'Selected Plant'!GL4,'Selected Plant'!GL3)","v":{"$error":"#N/A"}},{"$f":"INDEX('Total Plants'!$1:$1048576,'Selected Plant'!GM4,'Selected Plant'!GM3)","v":{"$error":"#N/A"}},{"$f":"INDEX('Total Plants'!$1:$1048576,'Selected Plant'!GN4,'Selected Plant'!GN3)","v":{"$error":"#N/A"}},{"$f":"INDEX('Total Plants'!$1:$1048576,'Selected Plant'!GO4,'Selected Plant'!GO3)","v":{"$error":"#N/A"}},{"$f":"INDEX('Total Plants'!$1:$1048576,'Selected Plant'!GP4,'Selected Plant'!GP3)","v":{"$error":"#N/A"}},{"$f":"INDEX('Total Plants'!$1:$1048576,'Selected Plant'!GQ4,'Selected Plant'!GQ3)","v":{"$error":"#N/A"}},{"$f":"INDEX('Total Plants'!$1:$1048576,'Selected Plant'!GR4,'Selected Plant'!GR3)","v":{"$error":"#N/A"}},{"$f":"INDEX('Total Plants'!$1:$1048576,'Selected Plant'!GS4,'Selected Plant'!GS3)","v":{"$error":"#N/A"}},{"$f":"INDEX('Total Plants'!$1:$1048576,'Selected Plant'!GT4,'Selected Plant'!GT3)","v":{"$error":"#N/A"}},{"$f":"INDEX('Total Plants'!$1:$1048576,'Selected Plant'!GU4,'Selected Plant'!GU3)","v":{"$error":"#N/A"}},{"$f":"INDEX('Total Plants'!$1:$1048576,'Selected Plant'!GV4,'Selected Plant'!GV3)","v":{"$error":"#N/A"}},{"$f":"INDEX('Total Plants'!$1:$1048576,'Selected Plant'!GW4,'Selected Plant'!GW3)","v":{"$error":"#N/A"}},{"$f":"INDEX('Total Plants'!$1:$1048576,'Selected Plant'!GX4,'Selected Plant'!GX3)","v":{"$error":"#N/A"}},{"$f":"INDEX('Total Plants'!$1:$1048576,'Selected Plant'!GY4,'Selected Plant'!GY3)","v":{"$error":"#N/A"}},{"$f":"INDEX('Total Plants'!$1:$1048576,'Selected Plant'!GZ4,'Selected Plant'!GZ3)","v":{"$error":"#N/A"}},{"$f":"INDEX('Total Plants'!$1:$1048576,'Selected Plant'!HA4,'Selected Plant'!HA3)","v":{"$error":"#N/A"}},{"$f":"INDEX('Total Plants'!$1:$1048576,'Selected Plant'!HB4,'Selected Plant'!HB3)","v":{"$error":"#N/A"}},{"$f":"INDEX('Total Plants'!$1:$1048576,'Selected Plant'!HC4,'Selected Plant'!HC3)","v":{"$error":"#N/A"}},{"$f":"INDEX('Total Plants'!$1:$1048576,'Selected Plant'!HD4,'Selected Plant'!HD3)","v":{"$error":"#N/A"}},{"$f":"INDEX('Total Plants'!$1:$1048576,'Selected Plant'!HE4,'Selected Plant'!HE3)","v":{"$error":"#N/A"}},{"$f":"INDEX('Total Plants'!$1:$1048576,'Selected Plant'!HF4,'Selected Plant'!HF3)","v":{"$error":"#N/A"}},{"$f":"INDEX('Total Plants'!$1:$1048576,'Selected Plant'!HG4,'Selected Plant'!HG3)","v":{"$error":"#N/A"}},{"$f":"INDEX('Total Plants'!$1:$1048576,'Selected Plant'!HH4,'Selected Plant'!HH3)","v":{"$error":"#N/A"}},{"$f":"INDEX('Total Plants'!$1:$1048576,'Selected Plant'!HI4,'Selected Plant'!HI3)","v":{"$error":"#N/A"}},{"$f":"INDEX('Total Plants'!$1:$1048576,'Selected Plant'!HJ4,'Selected Plant'!HJ3)","v":{"$error":"#N/A"}},{"$f":"INDEX('Total Plants'!$1:$1048576,'Selected Plant'!HK4,'Selected Plant'!HK3)","v":{"$error":"#N/A"}},{"$f":"INDEX('Total Plants'!$1:$1048576,'Selected Plant'!HL4,'Selected Plant'!HL3)","v":{"$error":"#N/A"}},{"$f":"INDEX('Total Plants'!$1:$1048576,'Selected Plant'!HM4,'Selected Plant'!HM3)","v":{"$error":"#N/A"}},{"$f":"INDEX('Total Plants'!$1:$1048576,'Selected Plant'!HN4,'Selected Plant'!HN3)","v":{"$error":"#N/A"}},{"$f":"INDEX('Total Plants'!$1:$1048576,'Selected Plant'!HO4,'Selected Plant'!HO3)","v":{"$error":"#N/A"}},{"$f":"INDEX('Total Plants'!$1:$1048576,'Selected Plant'!HP4,'Selected Plant'!HP3)","v":{"$error":"#N/A"}},{"$f":"INDEX('Total Plants'!$1:$1048576,'Selected Plant'!HQ4,'Selected Plant'!HQ3)","v":{"$error":"#N/A"}},{"$f":"INDEX('Total Plants'!$1:$1048576,'Selected Plant'!HR4,'Selected Plant'!HR3)","v":{"$error":"#N/A"}},{"$f":"INDEX('Total Plants'!$1:$1048576,'Selected Plant'!HS4,'Selected Plant'!HS3)","v":{"$error":"#N/A"}},{"$f":"INDEX('Total Plants'!$1:$1048576,'Selected Plant'!HT4,'Selected Plant'!HT3)","v":{"$error":"#N/A"}},{"$f":"INDEX('Total Plants'!$1:$1048576,'Selected Plant'!HU4,'Selected Plant'!HU3)","v":{"$error":"#N/A"}},{"$f":"INDEX('Total Plants'!$1:$1048576,'Selected Plant'!HV4,'Selected Plant'!HV3)","v":{"$error":"#N/A"}},{"$f":"INDEX('Total Plants'!$1:$1048576,'Selected Plant'!HW4,'Selected Plant'!HW3)","v":{"$error":"#N/A"}},{"$f":"INDEX('Total Plants'!$1:$1048576,'Selected Plant'!HX4,'Selected Plant'!HX3)","v":{"$error":"#N/A"}},{"$f":"INDEX('Total Plants'!$1:$1048576,'Selected Plant'!HY4,'Selected Plant'!HY3)","v":{"$error":"#N/A"}},{"$f":"INDEX('Total Plants'!$1:$1048576,'Selected Plant'!HZ4,'Selected Plant'!HZ3)","v":{"$error":"#N/A"}},{"$f":"INDEX('Total Plants'!$1:$1048576,'Selected Plant'!IA4,'Selected Plant'!IA3)","v":{"$error":"#N/A"}},{"$f":"INDEX('Total Plants'!$1:$1048576,'Selected Plant'!IB4,'Selected Plant'!IB3)","v":{"$error":"#N/A"}},{"$f":"INDEX('Total Plants'!$1:$1048576,'Selected Plant'!IC4,'Selected Plant'!IC3)","v":{"$error":"#N/A"}},{"$f":"INDEX('Total Plants'!$1:$1048576,'Selected Plant'!ID4,'Selected Plant'!ID3)","v":{"$error":"#N/A"}},{"$f":"INDEX('Total Plants'!$1:$1048576,'Selected Plant'!IE4,'Selected Plant'!IE3)","v":{"$error":"#N/A"}},{"$f":"INDEX('Total Plants'!$1:$1048576,'Selected Plant'!IF4,'Selected Plant'!IF3)","v":{"$error":"#N/A"}},{"$f":"INDEX('Total Plants'!$1:$1048576,'Selected Plant'!IG4,'Selected Plant'!IG3)","v":{"$error":"#N/A"}},{"$f":"INDEX('Total Plants'!$1:$1048576,'Selected Plant'!IH4,'Selected Plant'!IH3)","v":{"$error":"#N/A"}},{"$f":"INDEX('Total Plants'!$1:$1048576,'Selected Plant'!II4,'Selected Plant'!II3)","v":{"$error":"#N/A"}},{"$f":"INDEX('Total Plants'!$1:$1048576,'Selected Plant'!IJ4,'Selected Plant'!IJ3)","v":{"$error":"#N/A"}},{"$f":"INDEX('Total Plants'!$1:$1048576,'Selected Plant'!IK4,'Selected Plant'!IK3)","v":{"$error":"#N/A"}},{"$f":"INDEX('Total Plants'!$1:$1048576,'Selected Plant'!IL4,'Selected Plant'!IL3)","v":{"$error":"#N/A"}},{"$f":"INDEX('Total Plants'!$1:$1048576,'Selected Plant'!IM4,'Selected Plant'!IM3)","v":{"$error":"#N/A"}},{"$f":"INDEX('Total Plants'!$1:$1048576,'Selected Plant'!IN4,'Selected Plant'!IN3)","v":{"$error":"#N/A"}},{"$f":"INDEX('Total Plants'!$1:$1048576,'Selected Plant'!IO4,'Selected Plant'!IO3)","v":{"$error":"#N/A"}},{"$f":"INDEX('Total Plants'!$1:$1048576,'Selected Plant'!IP4,'Selected Plant'!IP3)","v":{"$error":"#N/A"}},{"$f":"INDEX('Total Plants'!$1:$1048576,'Selected Plant'!IQ4,'Selected Plant'!IQ3)","v":{"$error":"#N/A"}},{"$f":"INDEX('Total Plants'!$1:$1048576,'Selected Plant'!IR4,'Selected Plant'!IR3)","v":{"$error":"#N/A"}},{"$f":"INDEX('Total Plants'!$1:$1048576,'Selected Plant'!IS4,'Selected Plant'!IS3)","v":{"$error":"#N/A"}},{"$f":"INDEX('Total Plants'!$1:$1048576,'Selected Plant'!IT4,'Selected Plant'!IT3)","v":{"$error":"#N/A"}},{"$f":"INDEX('Total Plants'!$1:$1048576,'Selected Plant'!IU4,'Selected Plant'!IU3)","v":{"$error":"#N/A"}},{"$f":"INDEX('Total Plants'!$1:$1048576,'Selected Plant'!IV4,'Selected Plant'!IV3)","v":{"$error":"#N/A"}},{"$f":"INDEX('Total Plants'!$1:$1048576,'Selected Plant'!IW4,'Selected Plant'!IW3)","v":{"$error":"#N/A"}},{"$f":"INDEX('Total Plants'!$1:$1048576,'Selected Plant'!IX4,'Selected Plant'!IX3)","v":{"$error":"#N/A"}},{"$f":"INDEX('Total Plants'!$1:$1048576,'Selected Plant'!IY4,'Selected Plant'!IY3)","v":{"$error":"#N/A"}},{"$f":"INDEX('Total Plants'!$1:$1048576,'Selected Plant'!IZ4,'Selected Plant'!IZ3)","v":{"$error":"#N/A"}},{"$f":"INDEX('Total Plants'!$1:$1048576,'Selected Plant'!JA4,'Selected Plant'!JA3)","v":{"$error":"#N/A"}},{"$f":"INDEX('Total Plants'!$1:$1048576,'Selected Plant'!JB4,'Selected Plant'!JB3)","v":{"$error":"#N/A"}},{"$f":"INDEX('Total Plants'!$1:$1048576,'Selected Plant'!JC4,'Selected Plant'!JC3)","v":{"$error":"#N/A"}},{"$f":"INDEX('Total Plants'!$1:$1048576,'Selected Plant'!JD4,'Selected Plant'!JD3)","v":{"$error":"#N/A"}},{"$f":"INDEX('Total Plants'!$1:$1048576,'Selected Plant'!JE4,'Selected Plant'!JE3)","v":{"$error":"#N/A"}},{"$f":"INDEX('Total Plants'!$1:$1048576,'Selected Plant'!JF4,'Selected Plant'!JF3)","v":{"$error":"#N/A"}},{"$f":"INDEX('Total Plants'!$1:$1048576,'Selected Plant'!JG4,'Selected Plant'!JG3)","v":{"$error":"#N/A"}},{"$f":"INDEX('Total Plants'!$1:$1048576,'Selected Plant'!JH4,'Selected Plant'!JH3)","v":{"$error":"#N/A"}},{"$f":"INDEX('Total Plants'!$1:$1048576,'Selected Plant'!JI4,'Selected Plant'!JI3)","v":{"$error":"#N/A"}},{"$f":"INDEX('Total Plants'!$1:$1048576,'Selected Plant'!JJ4,'Selected Plant'!JJ3)","v":{"$error":"#N/A"}},{"$f":"INDEX('Total Plants'!$1:$1048576,'Selected Plant'!JK4,'Selected Plant'!JK3)","v":{"$error":"#N/A"}},{"$f":"INDEX('Total Plants'!$1:$1048576,'Selected Plant'!JL4,'Selected Plant'!JL3)","v":{"$error":"#N/A"}},{"$f":"INDEX('Total Plants'!$1:$1048576,'Selected Plant'!JM4,'Selected Plant'!JM3)","v":{"$error":"#N/A"}},{"$f":"INDEX('Total Plants'!$1:$1048576,'Selected Plant'!JN4,'Selected Plant'!JN3)","v":{"$error":"#N/A"}},{"$f":"INDEX('Total Plants'!$1:$1048576,'Selected Plant'!JO4,'Selected Plant'!JO3)","v":{"$error":"#N/A"}},{"$f":"INDEX('Total Plants'!$1:$1048576,'Selected Plant'!JP4,'Selected Plant'!JP3)","v":{"$error":"#N/A"}},{"$f":"INDEX('Total Plants'!$1:$1048576,'Selected Plant'!JQ4,'Selected Plant'!JQ3)","v":{"$error":"#N/A"}},{"$f":"INDEX('Total Plants'!$1:$1048576,'Selected Plant'!JR4,'Selected Plant'!JR3)","v":{"$error":"#N/A"}},{"$f":"INDEX('Total Plants'!$1:$1048576,'Selected Plant'!JS4,'Selected Plant'!JS3)","v":{"$error":"#N/A"}},{"$f":"INDEX('Total Plants'!$1:$1048576,'Selected Plant'!JT4,'Selected Plant'!JT3)","v":{"$error":"#N/A"}},{"$f":"INDEX('Total Plants'!$1:$1048576,'Selected Plant'!JU4,'Selected Plant'!JU3)","v":{"$error":"#N/A"}},{"$f":"INDEX('Total Plants'!$1:$1048576,'Selected Plant'!JV4,'Selected Plant'!JV3)","v":{"$error":"#N/A"}},{"$f":"INDEX('Total Plants'!$1:$1048576,'Selected Plant'!JW4,'Selected Plant'!JW3)","v":{"$error":"#N/A"}},{"$f":"INDEX('Total Plants'!$1:$1048576,'Selected Plant'!JX4,'Selected Plant'!JX3)","v":{"$error":"#N/A"}},{"$f":"INDEX('Total Plants'!$1:$1048576,'Selected Plant'!JY4,'Selected Plant'!JY3)","v":{"$error":"#N/A"}},{"$f":"INDEX('Total Plants'!$1:$1048576,'Selected Plant'!JZ4,'Selected Plant'!JZ3)","v":{"$error":"#N/A"}},{"$f":"INDEX('Total Plants'!$1:$1048576,'Selected Plant'!KA4,'Selected Plant'!KA3)","v":{"$error":"#N/A"}},{"$f":"INDEX('Total Plants'!$1:$1048576,'Selected Plant'!KB4,'Selected Plant'!KB3)","v":{"$error":"#N/A"}},{"$f":"INDEX('Total Plants'!$1:$1048576,'Selected Plant'!KC4,'Selected Plant'!KC3)","v":{"$error":"#N/A"}},{"$f":"INDEX('Total Plants'!$1:$1048576,'Selected Plant'!KD4,'Selected Plant'!KD3)","v":{"$error":"#N/A"}},{"$f":"INDEX('Total Plants'!$1:$1048576,'Selected Plant'!KE4,'Selected Plant'!KE3)","v":{"$error":"#N/A"}},{"$f":"INDEX('Total Plants'!$1:$1048576,'Selected Plant'!KF4,'Selected Plant'!KF3)","v":{"$error":"#N/A"}},{"$f":"INDEX('Total Plants'!$1:$1048576,'Selected Plant'!KG4,'Selected Plant'!KG3)","v":{"$error":"#N/A"}},{"$f":"INDEX('Total Plants'!$1:$1048576,'Selected Plant'!KH4,'Selected Plant'!KH3)","v":{"$error":"#N/A"}},{"$f":"INDEX('Total Plants'!$1:$1048576,'Selected Plant'!KI4,'Selected Plant'!KI3)","v":{"$error":"#N/A"}},{"$f":"INDEX('Total Plants'!$1:$1048576,'Selected Plant'!KJ4,'Selected Plant'!KJ3)","v":{"$error":"#N/A"}},{"$f":"INDEX('Total Plants'!$1:$1048576,'Selected Plant'!KK4,'Selected Plant'!KK3)","v":{"$error":"#N/A"}},{"$f":"INDEX('Total Plants'!$1:$1048576,'Selected Plant'!KL4,'Selected Plant'!KL3)","v":{"$error":"#N/A"}},{"$f":"INDEX('Total Plants'!$1:$1048576,'Selected Plant'!KM4,'Selected Plant'!KM3)","v":{"$error":"#N/A"}},{"$f":"INDEX('Total Plants'!$1:$1048576,'Selected Plant'!KN4,'Selected Plant'!KN3)","v":{"$error":"#N/A"}},{"$f":"INDEX('Total Plants'!$1:$1048576,'Selected Plant'!KO4,'Selected Plant'!KO3)","v":{"$error":"#N/A"}},{"$f":"INDEX('Total Plants'!$1:$1048576,'Selected Plant'!KP4,'Selected Plant'!KP3)","v":{"$error":"#N/A"}},{"$f":"INDEX('Total Plants'!$1:$1048576,'Selected Plant'!KQ4,'Selected Plant'!KQ3)","v":{"$error":"#N/A"}},{"$f":"INDEX('Total Plants'!$1:$1048576,'Selected Plant'!KR4,'Selected Plant'!KR3)","v":{"$error":"#N/A"}},{"$f":"INDEX('Total Plants'!$1:$1048576,'Selected Plant'!KS4,'Selected Plant'!KS3)","v":{"$error":"#N/A"}},{"$f":"INDEX('Total Plants'!$1:$1048576,'Selected Plant'!KT4,'Selected Plant'!KT3)","v":{"$error":"#N/A"}},{"$f":"INDEX('Total Plants'!$1:$1048576,'Selected Plant'!KU4,'Selected Plant'!KU3)","v":{"$error":"#N/A"}},{"$f":"INDEX('Total Plants'!$1:$1048576,'Selected Plant'!KV4,'Selected Plant'!KV3)","v":{"$error":"#N/A"}},{"$f":"INDEX('Total Plants'!$1:$1048576,'Selected Plant'!KW4,'Selected Plant'!KW3)","v":{"$error":"#N/A"}},{"$f":"INDEX('Total Plants'!$1:$1048576,'Selected Plant'!KX4,'Selected Plant'!KX3)","v":{"$error":"#N/A"}},{"$f":"INDEX('Total Plants'!$1:$1048576,'Selected Plant'!KY4,'Selected Plant'!KY3)","v":{"$error":"#N/A"}},{"$f":"INDEX('Total Plants'!$1:$1048576,'Selected Plant'!KZ4,'Selected Plant'!KZ3)","v":{"$error":"#N/A"}},{"$f":"INDEX('Total Plants'!$1:$1048576,'Selected Plant'!LA4,'Selected Plant'!LA3)","v":{"$error":"#N/A"}},{"$f":"INDEX('Total Plants'!$1:$1048576,'Selected Plant'!LB4,'Selected Plant'!LB3)","v":{"$error":"#N/A"}},{"$f":"INDEX('Total Plants'!$1:$1048576,'Selected Plant'!LC4,'Selected Plant'!LC3)","v":{"$error":"#N/A"}},{"$f":"INDEX('Total Plants'!$1:$1048576,'Selected Plant'!LD4,'Selected Plant'!LD3)","v":{"$error":"#N/A"}},{"$f":"INDEX('Total Plants'!$1:$1048576,'Selected Plant'!LE4,'Selected Plant'!LE3)","v":{"$error":"#N/A"}},{"$f":"INDEX('Total Plants'!$1:$1048576,'Selected Plant'!LF4,'Selected Plant'!LF3)","v":{"$error":"#N/A"}},{"$f":"INDEX('Total Plants'!$1:$1048576,'Selected Plant'!LG4,'Selected Plant'!LG3)","v":{"$error":"#N/A"}},{"$f":"INDEX('Total Plants'!$1:$1048576,'Selected Plant'!LH4,'Selected Plant'!LH3)","v":{"$error":"#N/A"}},{"$f":"INDEX('Total Plants'!$1:$1048576,'Selected Plant'!LI4,'Selected Plant'!LI3)","v":{"$error":"#N/A"}},{"$f":"INDEX('Total Plants'!$1:$1048576,'Selected Plant'!LJ4,'Selected Plant'!LJ3)","v":{"$error":"#N/A"}},{"$f":"INDEX('Total Plants'!$1:$1048576,'Selected Plant'!LK4,'Selected Plant'!LK3)","v":{"$error":"#N/A"}},{"$f":"INDEX('Total Plants'!$1:$1048576,'Selected Plant'!LL4,'Selected Plant'!LL3)","v":{"$error":"#N/A"}},{"$f":"INDEX('Total Plants'!$1:$1048576,'Selected Plant'!LM4,'Selected Plant'!LM3)","v":{"$error":"#N/A"}},{"$f":"INDEX('Total Plants'!$1:$1048576,'Selected Plant'!LN4,'Selected Plant'!LN3)","v":{"$error":"#N/A"}},{"$f":"INDEX('Total Plants'!$1:$1048576,'Selected Plant'!LO4,'Selected Plant'!LO3)","v":{"$error":"#N/A"}},{"$f":"INDEX('Total Plants'!$1:$1048576,'Selected Plant'!LP4,'Selected Plant'!LP3)","v":{"$error":"#N/A"}},{"$f":"INDEX('Total Plants'!$1:$1048576,'Selected Plant'!LQ4,'Selected Plant'!LQ3)","v":{"$error":"#N/A"}},{"$f":"INDEX('Total Plants'!$1:$1048576,'Selected Plant'!LR4,'Selected Plant'!LR3)","v":{"$error":"#N/A"}},{"$f":"INDEX('Total Plants'!$1:$1048576,'Selected Plant'!LS4,'Selected Plant'!LS3)","v":{"$error":"#N/A"}},{"$f":"INDEX('Total Plants'!$1:$1048576,'Selected Plant'!LT4,'Selected Plant'!LT3)","v":{"$error":"#N/A"}},{"$f":"INDEX('Total Plants'!$1:$1048576,'Selected Plant'!LU4,'Selected Plant'!LU3)","v":{"$error":"#N/A"}},{"$f":"INDEX('Total Plants'!$1:$1048576,'Selected Plant'!LV4,'Selected Plant'!LV3)","v":{"$error":"#N/A"}},{"$f":"INDEX('Total Plants'!$1:$1048576,'Selected Plant'!LW4,'Selected Plant'!LW3)","v":{"$error":"#N/A"}},{"$f":"INDEX('Total Plants'!$1:$1048576,'Selected Plant'!LX4,'Selected Plant'!LX3)","v":{"$error":"#N/A"}},{"$f":"INDEX('Total Plants'!$1:$1048576,'Selected Plant'!LY4,'Selected Plant'!LY3)","v":{"$error":"#N/A"}},{"$f":"INDEX('Total Plants'!$1:$1048576,'Selected Plant'!LZ4,'Selected Plant'!LZ3)","v":{"$error":"#N/A"}},{"$f":"INDEX('Total Plants'!$1:$1048576,'Selected Plant'!MA4,'Selected Plant'!MA3)","v":{"$error":"#N/A"}},{"$f":"INDEX('Total Plants'!$1:$1048576,'Selected Plant'!MB4,'Selected Plant'!MB3)","v":{"$error":"#N/A"}},{"$f":"INDEX('Total Plants'!$1:$1048576,'Selected Plant'!MC4,'Selected Plant'!MC3)","v":{"$error":"#N/A"}},{"$f":"INDEX('Total Plants'!$1:$1048576,'Selected Plant'!MD4,'Selected Plant'!MD3)","v":{"$error":"#N/A"}},{"$f":"INDEX('Total Plants'!$1:$1048576,'Selected Plant'!ME4,'Selected Plant'!ME3)","v":{"$error":"#N/A"}},{"$f":"INDEX('Total Plants'!$1:$1048576,'Selected Plant'!MF4,'Selected Plant'!MF3)","v":{"$error":"#N/A"}},{"$f":"INDEX('Total Plants'!$1:$1048576,'Selected Plant'!MG4,'Selected Plant'!MG3)","v":{"$error":"#N/A"}},{"$f":"INDEX('Total Plants'!$1:$1048576,'Selected Plant'!MH4,'Selected Plant'!MH3)","v":{"$error":"#N/A"}},{"$f":"INDEX('Total Plants'!$1:$1048576,'Selected Plant'!MI4,'Selected Plant'!MI3)","v":{"$error":"#N/A"}},{"$f":"INDEX('Total Plants'!$1:$1048576,'Selected Plant'!MJ4,'Selected Plant'!MJ3)","v":{"$error":"#N/A"}},{"$f":"INDEX('Total Plants'!$1:$1048576,'Selected Plant'!MK4,'Selected Plant'!MK3)","v":{"$error":"#N/A"}},{"$f":"INDEX('Total Plants'!$1:$1048576,'Selected Plant'!ML4,'Selected Plant'!ML3)","v":{"$error":"#N/A"}},{"$f":"INDEX('Total Plants'!$1:$1048576,'Selected Plant'!MM4,'Selected Plant'!MM3)","v":{"$error":"#N/A"}},{"$f":"INDEX('Total Plants'!$1:$1048576,'Selected Plant'!MN4,'Selected Plant'!MN3)","v":{"$error":"#N/A"}},{"$f":"INDEX('Total Plants'!$1:$1048576,'Selected Plant'!MO4,'Selected Plant'!MO3)","v":{"$error":"#N/A"}},{"$f":"INDEX('Total Plants'!$1:$1048576,'Selected Plant'!MP4,'Selected Plant'!MP3)","v":{"$error":"#N/A"}},{"$f":"INDEX('Total Plants'!$1:$1048576,'Selected Plant'!MQ4,'Selected Plant'!MQ3)","v":{"$error":"#N/A"}},{"$f":"INDEX('Total Plants'!$1:$1048576,'Selected Plant'!MR4,'Selected Plant'!MR3)","v":{"$error":"#N/A"}},{"$f":"INDEX('Total Plants'!$1:$1048576,'Selected Plant'!MS4,'Selected Plant'!MS3)","v":{"$error":"#N/A"}},{"$f":"INDEX('Total Plants'!$1:$1048576,'Selected Plant'!MT4,'Selected Plant'!MT3)","v":{"$error":"#N/A"}},{"$f":"INDEX('Total Plants'!$1:$1048576,'Selected Plant'!MU4,'Selected Plant'!MU3)","v":{"$error":"#N/A"}},{"$f":"INDEX('Total Plants'!$1:$1048576,'Selected Plant'!MV4,'Selected Plant'!MV3)","v":{"$error":"#N/A"}},{"$f":"INDEX('Total Plants'!$1:$1048576,'Selected Plant'!MW4,'Selected Plant'!MW3)","v":{"$error":"#N/A"}},{"$f":"INDEX('Total Plants'!$1:$1048576,'Selected Plant'!MX4,'Selected Plant'!MX3)","v":{"$error":"#N/A"}},{"$f":"INDEX('Total Plants'!$1:$1048576,'Selected Plant'!MY4,'Selected Plant'!MY3)","v":{"$error":"#N/A"}},{"$f":"INDEX('Total Plants'!$1:$1048576,'Selected Plant'!MZ4,'Selected Plant'!MZ3)","v":{"$error":"#N/A"}},{"$f":"INDEX('Total Plants'!$1:$1048576,'Selected Plant'!NA4,'Selected Plant'!NA3)","v":{"$error":"#N/A"}},{"$f":"INDEX('Total Plants'!$1:$1048576,'Selected Plant'!NB4,'Selected Plant'!NB3)","v":{"$error":"#N/A"}},{"$f":"INDEX('Total Plants'!$1:$1048576,'Selected Plant'!NC4,'Selected Plant'!NC3)","v":{"$error":"#N/A"}},{"$f":"INDEX('Total Plants'!$1:$1048576,'Selected Plant'!ND4,'Selected Plant'!ND3)","v":{"$error":"#N/A"}},{"$f":"INDEX('Total Plants'!$1:$1048576,'Selected Plant'!NE4,'Selected Plant'!NE3)","v":{"$error":"#N/A"}},{"$f":"INDEX('Total Plants'!$1:$1048576,'Selected Plant'!NF4,'Selected Plant'!NF3)","v":{"$error":"#N/A"}},{"$f":"INDEX('Total Plants'!$1:$1048576,'Selected Plant'!NG4,'Selected Plant'!NG3)","v":{"$error":"#N/A"}},{"$f":"INDEX('Total Plants'!$1:$1048576,'Selected Plant'!NH4,'Selected Plant'!NH3)","v":{"$error":"#N/A"}},{"$f":"INDEX('Total Plants'!$1:$1048576,'Selected Plant'!NI4,'Selected Plant'!NI3)","v":{"$error":"#N/A"}},{"$f":"INDEX('Total Plants'!$1:$1048576,'Selected Plant'!NJ4,'Selected Plant'!NJ3)","v":{"$error":"#N/A"}},{"$f":"INDEX('Total Plants'!$1:$1048576,'Selected Plant'!NK4,'Selected Plant'!NK3)","v":{"$error":"#N/A"}},{"$f":"INDEX('Total Plants'!$1:$1048576,'Selected Plant'!NL4,'Selected Plant'!NL3)","v":{"$error":"#N/A"}},{"$f":"INDEX('Total Plants'!$1:$1048576,'Selected Plant'!NM4,'Selected Plant'!NM3)","v":{"$error":"#N/A"}},{"$f":"INDEX('Total Plants'!$1:$1048576,'Selected Plant'!NN4,'Selected Plant'!NN3)","v":{"$error":"#N/A"}},{"$f":"INDEX('Total Plants'!$1:$1048576,'Selected Plant'!NO4,'Selected Plant'!NO3)","v":{"$error":"#N/A"}},{"$f":"INDEX('Total Plants'!$1:$1048576,'Selected Plant'!NP4,'Selected Plant'!NP3)","v":{"$error":"#N/A"}},{"$f":"INDEX('Total Plants'!$1:$1048576,'Selected Plant'!NQ4,'Selected Plant'!NQ3)","v":{"$error":"#N/A"}},{"$f":"INDEX('Total Plants'!$1:$1048576,'Selected Plant'!NR4,'Selected Plant'!NR3)","v":{"$error":"#N/A"}},{"$f":"INDEX('Total Plants'!$1:$1048576,'Selected Plant'!NS4,'Selected Plant'!NS3)","v":{"$error":"#N/A"}},{"$f":"INDEX('Total Plants'!$1:$1048576,'Selected Plant'!NT4,'Selected Plant'!NT3)","v":{"$error":"#N/A"}},{"$f":"INDEX('Total Plants'!$1:$1048576,'Selected Plant'!NU4,'Selected Plant'!NU3)","v":{"$error":"#N/A"}},{"$f":"INDEX('Total Plants'!$1:$1048576,'Selected Plant'!NV4,'Selected Plant'!NV3)","v":{"$error":"#N/A"}},{"$f":"INDEX('Total Plants'!$1:$1048576,'Selected Plant'!NW4,'Selected Plant'!NW3)","v":{"$error":"#N/A"}},{"$f":"INDEX('Total Plants'!$1:$1048576,'Selected Plant'!NX4,'Selected Plant'!NX3)","v":{"$error":"#N/A"}},{"$f":"INDEX('Total Plants'!$1:$1048576,'Selected Plant'!NY4,'Selected Plant'!NY3)","v":{"$error":"#N/A"}},{"$f":"INDEX('Total Plants'!$1:$1048576,'Selected Plant'!NZ4,'Selected Plant'!NZ3)","v":{"$error":"#N/A"}},{"$f":"INDEX('Total Plants'!$1:$1048576,'Selected Plant'!OA4,'Selected Plant'!OA3)","v":{"$error":"#N/A"}},{"$f":"INDEX('Total Plants'!$1:$1048576,'Selected Plant'!OB4,'Selected Plant'!OB3)","v":{"$error":"#N/A"}},{"$f":"INDEX('Total Plants'!$1:$1048576,'Selected Plant'!OC4,'Selected Plant'!OC3)","v":{"$error":"#N/A"}},{"$f":"INDEX('Total Plants'!$1:$1048576,'Selected Plant'!OD4,'Selected Plant'!OD3)","v":{"$error":"#N/A"}},{"$f":"INDEX('Total Plants'!$1:$1048576,'Selected Plant'!OE4,'Selected Plant'!OE3)","v":{"$error":"#N/A"}},{"$f":"INDEX('Total Plants'!$1:$1048576,'Selected Plant'!OF4,'Selected Plant'!OF3)","v":{"$error":"#N/A"}},{"$f":"INDEX('Total Plants'!$1:$1048576,'Selected Plant'!OG4,'Selected Plant'!OG3)","v":{"$error":"#N/A"}},{"$f":"INDEX('Total Plants'!$1:$1048576,'Selected Plant'!OH4,'Selected Plant'!OH3)","v":{"$error":"#N/A"}},{"$f":"INDEX('Total Plants'!$1:$1048576,'Selected Plant'!OI4,'Selected Plant'!OI3)","v":{"$error":"#N/A"}},{"$f":"INDEX('Total Plants'!$1:$1048576,'Selected Plant'!OJ4,'Selected Plant'!OJ3)","v":{"$error":"#N/A"}},{"$f":"INDEX('Total Plants'!$1:$1048576,'Selected Plant'!OK4,'Selected Plant'!OK3)","v":{"$error":"#N/A"}},{"$f":"INDEX('Total Plants'!$1:$1048576,'Selected Plant'!OL4,'Selected Plant'!OL3)","v":{"$error":"#N/A"}},{"$f":"INDEX('Total Plants'!$1:$1048576,'Selected Plant'!OM4,'Selected Plant'!OM3)","v":{"$error":"#N/A"}},{"$f":"INDEX('Total Plants'!$1:$1048576,'Selected Plant'!ON4,'Selected Plant'!ON3)","v":{"$error":"#N/A"}},{"$f":"INDEX('Total Plants'!$1:$1048576,'Selected Plant'!OO4,'Selected Plant'!OO3)","v":{"$error":"#N/A"}},{"$f":"INDEX('Total Plants'!$1:$1048576,'Selected Plant'!OP4,'Selected Plant'!OP3)","v":{"$error":"#N/A"}},{"$f":"INDEX('Total Plants'!$1:$1048576,'Selected Plant'!OQ4,'Selected Plant'!OQ3)","v":{"$error":"#N/A"}},{"$f":"INDEX('Total Plants'!$1:$1048576,'Selected Plant'!OR4,'Selected Plant'!OR3)","v":{"$error":"#N/A"}},{"$f":"INDEX('Total Plants'!$1:$1048576,'Selected Plant'!OS4,'Selected Plant'!OS3)","v":{"$error":"#N/A"}},{"$f":"INDEX('Total Plants'!$1:$1048576,'Selected Plant'!OT4,'Selected Plant'!OT3)","v":{"$error":"#N/A"}},{"$f":"INDEX('Total Plants'!$1:$1048576,'Selected Plant'!OU4,'Selected Plant'!OU3)","v":{"$error":"#N/A"}},{"$f":"INDEX('Total Plants'!$1:$1048576,'Selected Plant'!OV4,'Selected Plant'!OV3)","v":{"$error":"#N/A"}},{"$f":"INDEX('Total Plants'!$1:$1048576,'Selected Plant'!OW4,'Selected Plant'!OW3)","v":{"$error":"#N/A"}},{"$f":"INDEX('Total Plants'!$1:$1048576,'Selected Plant'!OX4,'Selected Plant'!OX3)","v":{"$error":"#N/A"}},{"$f":"INDEX('Total Plants'!$1:$1048576,'Selected Plant'!OY4,'Selected Plant'!OY3)","v":{"$error":"#N/A"}},{"$f":"INDEX('Total Plants'!$1:$1048576,'Selected Plant'!OZ4,'Selected Plant'!OZ3)","v":{"$error":"#N/A"}},{"$f":"INDEX('Total Plants'!$1:$1048576,'Selected Plant'!PA4,'Selected Plant'!PA3)","v":{"$error":"#N/A"}},{"$f":"INDEX('Total Plants'!$1:$1048576,'Selected Plant'!PB4,'Selected Plant'!PB3)","v":{"$error":"#N/A"}},{"$f":"INDEX('Total Plants'!$1:$1048576,'Selected Plant'!PC4,'Selected Plant'!PC3)","v":{"$error":"#N/A"}},{"$f":"INDEX('Total Plants'!$1:$1048576,'Selected Plant'!PD4,'Selected Plant'!PD3)","v":{"$error":"#N/A"}},{"$f":"INDEX('Total Plants'!$1:$1048576,'Selected Plant'!PE4,'Selected Plant'!PE3)","v":{"$error":"#N/A"}},{"$f":"INDEX('Total Plants'!$1:$1048576,'Selected Plant'!PF4,'Selected Plant'!PF3)","v":{"$error":"#N/A"}},{"$f":"INDEX('Total Plants'!$1:$1048576,'Selected Plant'!PG4,'Selected Plant'!PG3)","v":{"$error":"#N/A"}},{"$f":"INDEX('Total Plants'!$1:$1048576,'Selected Plant'!PH4,'Selected Plant'!PH3)","v":{"$error":"#N/A"}},{"$f":"INDEX('Total Plants'!$1:$1048576,'Selected Plant'!PI4,'Selected Plant'!PI3)","v":{"$error":"#N/A"}},{"$f":"INDEX('Total Plants'!$1:$1048576,'Selected Plant'!PJ4,'Selected Plant'!PJ3)","v":{"$error":"#N/A"}},{"$f":"INDEX('Total Plants'!$1:$1048576,'Selected Plant'!PK4,'Selected Plant'!PK3)","v":{"$error":"#N/A"}},{"$f":"INDEX('Total Plants'!$1:$1048576,'Selected Plant'!PL4,'Selected Plant'!PL3)","v":{"$error":"#N/A"}},{"$f":"INDEX('Total Plants'!$1:$1048576,'Selected Plant'!PM4,'Selected Plant'!PM3)","v":{"$error":"#N/A"}},{"$f":"INDEX('Total Plants'!$1:$1048576,'Selected Plant'!PN4,'Selected Plant'!PN3)","v":{"$error":"#N/A"}},{"$f":"INDEX('Total Plants'!$1:$1048576,'Selected Plant'!PO4,'Selected Plant'!PO3)","v":{"$error":"#N/A"}},{"$f":"INDEX('Total Plants'!$1:$1048576,'Selected Plant'!PP4,'Selected Plant'!PP3)","v":{"$error":"#N/A"}},{"$f":"INDEX('Total Plants'!$1:$1048576,'Selected Plant'!PQ4,'Selected Plant'!PQ3)","v":{"$error":"#N/A"}},{"$f":"INDEX('Total Plants'!$1:$1048576,'Selected Plant'!PR4,'Selected Plant'!PR3)","v":{"$error":"#N/A"}},{"$f":"INDEX('Total Plants'!$1:$1048576,'Selected Plant'!PS4,'Selected Plant'!PS3)","v":{"$error":"#N/A"}},{"$f":"INDEX('Total Plants'!$1:$1048576,'Selected Plant'!PT4,'Selected Plant'!PT3)","v":{"$error":"#N/A"}},{"$f":"INDEX('Total Plants'!$1:$1048576,'Selected Plant'!PU4,'Selected Plant'!PU3)","v":{"$error":"#N/A"}},{"$f":"INDEX('Total Plants'!$1:$1048576,'Selected Plant'!PV4,'Selected Plant'!PV3)","v":{"$error":"#N/A"}},{"$f":"INDEX('Total Plants'!$1:$1048576,'Selected Plant'!PW4,'Selected Plant'!PW3)","v":{"$error":"#N/A"}},{"$f":"INDEX('Total Plants'!$1:$1048576,'Selected Plant'!PX4,'Selected Plant'!PX3)","v":{"$error":"#N/A"}},{"$f":"INDEX('Total Plants'!$1:$1048576,'Selected Plant'!PY4,'Selected Plant'!PY3)","v":{"$error":"#N/A"}},{"$f":"INDEX('Total Plants'!$1:$1048576,'Selected Plant'!PZ4,'Selected Plant'!PZ3)","v":{"$error":"#N/A"}},{"$f":"INDEX('Total Plants'!$1:$1048576,'Selected Plant'!QA4,'Selected Plant'!QA3)","v":{"$error":"#N/A"}},{"$f":"INDEX('Total Plants'!$1:$1048576,'Selected Plant'!QB4,'Selected Plant'!QB3)","v":{"$error":"#N/A"}},{"$f":"INDEX('Total Plants'!$1:$1048576,'Selected Plant'!QC4,'Selected Plant'!QC3)","v":{"$error":"#N/A"}},{"$f":"INDEX('Total Plants'!$1:$1048576,'Selected Plant'!QD4,'Selected Plant'!QD3)","v":{"$error":"#N/A"}},{"$f":"INDEX('Total Plants'!$1:$1048576,'Selected Plant'!QE4,'Selected Plant'!QE3)","v":{"$error":"#N/A"}},{"$f":"INDEX('Total Plants'!$1:$1048576,'Selected Plant'!QF4,'Selected Plant'!QF3)","v":{"$error":"#N/A"}},{"$f":"INDEX('Total Plants'!$1:$1048576,'Selected Plant'!QG4,'Selected Plant'!QG3)","v":{"$error":"#N/A"}},{"$f":"INDEX('Total Plants'!$1:$1048576,'Selected Plant'!QH4,'Selected Plant'!QH3)","v":{"$error":"#N/A"}},{"$f":"INDEX('Total Plants'!$1:$1048576,'Selected Plant'!QI4,'Selected Plant'!QI3)","v":{"$error":"#N/A"}},{"$f":"INDEX('Total Plants'!$1:$1048576,'Selected Plant'!QJ4,'Selected Plant'!QJ3)","v":{"$error":"#N/A"}},{"$f":"INDEX('Total Plants'!$1:$1048576,'Selected Plant'!QK4,'Selected Plant'!QK3)","v":{"$error":"#N/A"}},{"$f":"INDEX('Total Plants'!$1:$1048576,'Selected Plant'!QL4,'Selected Plant'!QL3)","v":{"$error":"#N/A"}},{"$f":"INDEX('Total Plants'!$1:$1048576,'Selected Plant'!QM4,'Selected Plant'!QM3)","v":{"$error":"#N/A"}},{"$f":"INDEX('Total Plants'!$1:$1048576,'Selected Plant'!QN4,'Selected Plant'!QN3)","v":{"$error":"#N/A"}},{"$f":"INDEX('Total Plants'!$1:$1048576,'Selected Plant'!QO4,'Selected Plant'!QO3)","v":{"$error":"#N/A"}},{"$f":"INDEX('Total Plants'!$1:$1048576,'Selected Plant'!QP4,'Selected Plant'!QP3)","v":{"$error":"#N/A"}},{"$f":"INDEX('Total Plants'!$1:$1048576,'Selected Plant'!QQ4,'Selected Plant'!QQ3)","v":{"$error":"#N/A"}},{"$f":"INDEX('Total Plants'!$1:$1048576,'Selected Plant'!QR4,'Selected Plant'!QR3)","v":{"$error":"#N/A"}},{"$f":"INDEX('Total Plants'!$1:$1048576,'Selected Plant'!QS4,'Selected Plant'!QS3)","v":{"$error":"#N/A"}},{"$f":"INDEX('Total Plants'!$1:$1048576,'Selected Plant'!QT4,'Selected Plant'!QT3)","v":{"$error":"#N/A"}},{"$f":"INDEX('Total Plants'!$1:$1048576,'Selected Plant'!QU4,'Selected Plant'!QU3)","v":{"$error":"#N/A"}},{"$f":"INDEX('Total Plants'!$1:$1048576,'Selected Plant'!QV4,'Selected Plant'!QV3)","v":{"$error":"#N/A"}},{"$f":"INDEX('Total Plants'!$1:$1048576,'Selected Plant'!QW4,'Selected Plant'!QW3)","v":{"$error":"#N/A"}},{"$f":"INDEX('Total Plants'!$1:$1048576,'Selected Plant'!QX4,'Selected Plant'!QX3)","v":{"$error":"#N/A"}},{"$f":"INDEX('Total Plants'!$1:$1048576,'Selected Plant'!QY4,'Selected Plant'!QY3)","v":{"$error":"#N/A"}},{"$f":"INDEX('Total Plants'!$1:$1048576,'Selected Plant'!QZ4,'Selected Plant'!QZ3)","v":{"$error":"#N/A"}},{"$f":"INDEX('Total Plants'!$1:$1048576,'Selected Plant'!RA4,'Selected Plant'!RA3)","v":{"$error":"#N/A"}},{"$f":"INDEX('Total Plants'!$1:$1048576,'Selected Plant'!RB4,'Selected Plant'!RB3)","v":{"$error":"#N/A"}},{"$f":"INDEX('Total Plants'!$1:$1048576,'Selected Plant'!RC4,'Selected Plant'!RC3)","v":{"$error":"#N/A"}},{"$f":"INDEX('Total Plants'!$1:$1048576,'Selected Plant'!RD4,'Selected Plant'!RD3)","v":{"$error":"#N/A"}},{"$f":"INDEX('Total Plants'!$1:$1048576,'Selected Plant'!RE4,'Selected Plant'!RE3)","v":{"$error":"#N/A"}},{"$f":"INDEX('Total Plants'!$1:$1048576,'Selected Plant'!RF4,'Selected Plant'!RF3)","v":{"$error":"#N/A"}},{"$f":"INDEX('Total Plants'!$1:$1048576,'Selected Plant'!RG4,'Selected Plant'!RG3)","v":{"$error":"#N/A"}},{"$f":"INDEX('Total Plants'!$1:$1048576,'Selected Plant'!RH4,'Selected Plant'!RH3)","v":{"$error":"#N/A"}},{"$f":"INDEX('Total Plants'!$1:$1048576,'Selected Plant'!RI4,'Selected Plant'!RI3)","v":{"$error":"#N/A"}},{"$f":"INDEX('Total Plants'!$1:$1048576,'Selected Plant'!RJ4,'Selected Plant'!RJ3)","v":{"$error":"#N/A"}},{"$f":"INDEX('Total Plants'!$1:$1048576,'Selected Plant'!RK4,'Selected Plant'!RK3)","v":{"$error":"#N/A"}},{"$f":"INDEX('Total Plants'!$1:$1048576,'Selected Plant'!RL4,'Selected Plant'!RL3)","v":{"$error":"#N/A"}},{"$f":"INDEX('Total Plants'!$1:$1048576,'Selected Plant'!RM4,'Selected Plant'!RM3)","v":{"$error":"#N/A"}},{"$f":"INDEX('Total Plants'!$1:$1048576,'Selected Plant'!RN4,'Selected Plant'!RN3)","v":{"$error":"#N/A"}},{"$f":"INDEX('Total Plants'!$1:$1048576,'Selected Plant'!RO4,'Selected Plant'!RO3)","v":{"$error":"#N/A"}},{"$f":"INDEX('Total Plants'!$1:$1048576,'Selected Plant'!RP4,'Selected Plant'!RP3)","v":{"$error":"#N/A"}},{"$f":"INDEX('Total Plants'!$1:$1048576,'Selected Plant'!RQ4,'Selected Plant'!RQ3)","v":{"$error":"#N/A"}},{"$f":"INDEX('Total Plants'!$1:$1048576,'Selected Plant'!RR4,'Selected Plant'!RR3)","v":{"$error":"#N/A"}},{"$f":"INDEX('Total Plants'!$1:$1048576,'Selected Plant'!RS4,'Selected Plant'!RS3)","v":{"$error":"#N/A"}},{"$f":"INDEX('Total Plants'!$1:$1048576,'Selected Plant'!RT4,'Selected Plant'!RT3)","v":{"$error":"#N/A"}},{"$f":"INDEX('Total Plants'!$1:$1048576,'Selected Plant'!RU4,'Selected Plant'!RU3)","v":{"$error":"#N/A"}},{"$f":"INDEX('Total Plants'!$1:$1048576,'Selected Plant'!RV4,'Selected Plant'!RV3)","v":{"$error":"#N/A"}},{"$f":"INDEX('Total Plants'!$1:$1048576,'Selected Plant'!RW4,'Selected Plant'!RW3)","v":{"$error":"#N/A"}},{"$f":"INDEX('Total Plants'!$1:$1048576,'Selected Plant'!RX4,'Selected Plant'!RX3)","v":{"$error":"#N/A"}},{"$f":"INDEX('Total Plants'!$1:$1048576,'Selected Plant'!RY4,'Selected Plant'!RY3)","v":{"$error":"#N/A"}},{"$f":"INDEX('Total Plants'!$1:$1048576,'Selected Plant'!RZ4,'Selected Plant'!RZ3)","v":{"$error":"#N/A"}},{"$f":"INDEX('Total Plants'!$1:$1048576,'Selected Plant'!SA4,'Selected Plant'!SA3)","v":{"$error":"#N/A"}},{"$f":"INDEX('Total Plants'!$1:$1048576,'Selected Plant'!SB4,'Selected Plant'!SB3)","v":{"$error":"#N/A"}},{"$f":"INDEX('Total Plants'!$1:$1048576,'Selected Plant'!SC4,'Selected Plant'!SC3)","v":{"$error":"#N/A"}},{"$f":"INDEX('Total Plants'!$1:$1048576,'Selected Plant'!SD4,'Selected Plant'!SD3)","v":{"$error":"#N/A"}},{"$f":"INDEX('Total Plants'!$1:$1048576,'Selected Plant'!SE4,'Selected Plant'!SE3)","v":{"$error":"#N/A"}},{"$f":"INDEX('Total Plants'!$1:$1048576,'Selected Plant'!SF4,'Selected Plant'!SF3)","v":{"$error":"#N/A"}},{"$f":"INDEX('Total Plants'!$1:$1048576,'Selected Plant'!SG4,'Selected Plant'!SG3)","v":{"$error":"#N/A"}},{"$f":"INDEX('Total Plants'!$1:$1048576,'Selected Plant'!SH4,'Selected Plant'!SH3)","v":{"$error":"#N/A"}},{"$f":"INDEX('Total Plants'!$1:$1048576,'Selected Plant'!SI4,'Selected Plant'!SI3)","v":{"$error":"#N/A"}},{"$f":"INDEX('Total Plants'!$1:$1048576,'Selected Plant'!SJ4,'Selected Plant'!SJ3)","v":{"$error":"#N/A"}},{"$f":"INDEX('Total Plants'!$1:$1048576,'Selected Plant'!SK4,'Selected Plant'!SK3)","v":{"$error":"#N/A"}},{"$f":"INDEX('Total Plants'!$1:$1048576,'Selected Plant'!SL4,'Selected Plant'!SL3)","v":{"$error":"#N/A"}},{"$f":"INDEX('Total Plants'!$1:$1048576,'Selected Plant'!SM4,'Selected Plant'!SM3)","v":{"$error":"#N/A"}},{"$f":"INDEX('Total Plants'!$1:$1048576,'Selected Plant'!SN4,'Selected Plant'!SN3)","v":{"$error":"#N/A"}},{"$f":"INDEX('Total Plants'!$1:$1048576,'Selected Plant'!SO4,'Selected Plant'!SO3)","v":{"$error":"#N/A"}},{"$f":"INDEX('Total Plants'!$1:$1048576,'Selected Plant'!SP4,'Selected Plant'!SP3)","v":{"$error":"#N/A"}},{"$f":"INDEX('Total Plants'!$1:$1048576,'Selected Plant'!SQ4,'Selected Plant'!SQ3)","v":{"$error":"#N/A"}},{"$f":"INDEX('Total Plants'!$1:$1048576,'Selected Plant'!SR4,'Selected Plant'!SR3)","v":{"$error":"#N/A"}},{"$f":"INDEX('Total Plants'!$1:$1048576,'Selected Plant'!SS4,'Selected Plant'!SS3)","v":{"$error":"#N/A"}},{"$f":"INDEX('Total Plants'!$1:$1048576,'Selected Plant'!ST4,'Selected Plant'!ST3)","v":{"$error":"#N/A"}},{"$f":"INDEX('Total Plants'!$1:$1048576,'Selected Plant'!SU4,'Selected Plant'!SU3)","v":{"$error":"#N/A"}},{"$f":"INDEX('Total Plants'!$1:$1048576,'Selected Plant'!SV4,'Selected Plant'!SV3)","v":{"$error":"#N/A"}},{"$f":"INDEX('Total Plants'!$1:$1048576,'Selected Plant'!SW4,'Selected Plant'!SW3)","v":{"$error":"#N/A"}},{"$f":"INDEX('Total Plants'!$1:$1048576,'Selected Plant'!SX4,'Selected Plant'!SX3)","v":{"$error":"#N/A"}},{"$f":"INDEX('Total Plants'!$1:$1048576,'Selected Plant'!SY4,'Selected Plant'!SY3)","v":{"$error":"#N/A"}},{"$f":"INDEX('Total Plants'!$1:$1048576,'Selected Plant'!SZ4,'Selected Plant'!SZ3)","v":{"$error":"#N/A"}},{"$f":"INDEX('Total Plants'!$1:$1048576,'Selected Plant'!TA4,'Selected Plant'!TA3)","v":{"$error":"#N/A"}},{"$f":"INDEX('Total Plants'!$1:$1048576,'Selected Plant'!TB4,'Selected Plant'!TB3)","v":{"$error":"#N/A"}},{"$f":"INDEX('Total Plants'!$1:$1048576,'Selected Plant'!TC4,'Selected Plant'!TC3)","v":{"$error":"#N/A"}},{"$f":"INDEX('Total Plants'!$1:$1048576,'Selected Plant'!TD4,'Selected Plant'!TD3)","v":{"$error":"#N/A"}},{"$f":"INDEX('Total Plants'!$1:$1048576,'Selected Plant'!TE4,'Selected Plant'!TE3)","v":{"$error":"#N/A"}},{"$f":"INDEX('Total Plants'!$1:$1048576,'Selected Plant'!TF4,'Selected Plant'!TF3)","v":{"$error":"#N/A"}},{"$f":"INDEX('Total Plants'!$1:$1048576,'Selected Plant'!TG4,'Selected Plant'!TG3)","v":{"$error":"#N/A"}},{"$f":"INDEX('Total Plants'!$1:$1048576,'Selected Plant'!TH4,'Selected Plant'!TH3)","v":{"$error":"#N/A"}},{"$f":"INDEX('Total Plants'!$1:$1048576,'Selected Plant'!TI4,'Selected Plant'!TI3)","v":{"$error":"#N/A"}},{"$f":"INDEX('Total Plants'!$1:$1048576,'Selected Plant'!TJ4,'Selected Plant'!TJ3)","v":{"$error":"#N/A"}},{"$f":"INDEX('Total Plants'!$1:$1048576,'Selected Plant'!TK4,'Selected Plant'!TK3)","v":{"$error":"#N/A"}},{"$f":"INDEX('Total Plants'!$1:$1048576,'Selected Plant'!TL4,'Selected Plant'!TL3)","v":{"$error":"#N/A"}},{"$f":"INDEX('Total Plants'!$1:$1048576,'Selected Plant'!TM4,'Selected Plant'!TM3)","v":{"$error":"#N/A"}},{"$f":"INDEX('Total Plants'!$1:$1048576,'Selected Plant'!TN4,'Selected Plant'!TN3)","v":{"$error":"#N/A"}},{"$f":"INDEX('Total Plants'!$1:$1048576,'Selected Plant'!TO4,'Selected Plant'!TO3)","v":{"$error":"#N/A"}},{"$f":"INDEX('Total Plants'!$1:$1048576,'Selected Plant'!TP4,'Selected Plant'!TP3)","v":{"$error":"#N/A"}},{"$f":"INDEX('Total Plants'!$1:$1048576,'Selected Plant'!TQ4,'Selected Plant'!TQ3)","v":{"$error":"#N/A"}},{"$f":"INDEX('Total Plants'!$1:$1048576,'Selected Plant'!TR4,'Selected Plant'!TR3)","v":{"$error":"#N/A"}},{"$f":"INDEX('Total Plants'!$1:$1048576,'Selected Plant'!TS4,'Selected Plant'!TS3)","v":{"$error":"#N/A"}},{"$f":"INDEX('Total Plants'!$1:$1048576,'Selected Plant'!TT4,'Selected Plant'!TT3)","v":{"$error":"#N/A"}},{"$f":"INDEX('Total Plants'!$1:$1048576,'Selected Plant'!TU4,'Selected Plant'!TU3)","v":{"$error":"#N/A"}},{"$f":"INDEX('Total Plants'!$1:$1048576,'Selected Plant'!TV4,'Selected Plant'!TV3)","v":{"$error":"#N/A"}},{"$f":"INDEX('Total Plants'!$1:$1048576,'Selected Plant'!TW4,'Selected Plant'!TW3)","v":{"$error":"#N/A"}},{"$f":"INDEX('Total Plants'!$1:$1048576,'Selected Plant'!TX4,'Selected Plant'!TX3)","v":{"$error":"#N/A"}},{"$f":"INDEX('Total Plants'!$1:$1048576,'Selected Plant'!TY4,'Selected Plant'!TY3)","v":{"$error":"#N/A"}},{"$f":"INDEX('Total Plants'!$1:$1048576,'Selected Plant'!TZ4,'Selected Plant'!TZ3)","v":{"$error":"#N/A"}},{"$f":"INDEX('Total Plants'!$1:$1048576,'Selected Plant'!UA4,'Selected Plant'!UA3)","v":{"$error":"#N/A"}},{"$f":"INDEX('Total Plants'!$1:$1048576,'Selected Plant'!UB4,'Selected Plant'!UB3)","v":{"$error":"#N/A"}},{"$f":"INDEX('Total Plants'!$1:$1048576,'Selected Plant'!UC4,'Selected Plant'!UC3)","v":{"$error":"#N/A"}},{"$f":"INDEX('Total Plants'!$1:$1048576,'Selected Plant'!UD4,'Selected Plant'!UD3)","v":{"$error":"#N/A"}},{"$f":"INDEX('Total Plants'!$1:$1048576,'Selected Plant'!UE4,'Selected Plant'!UE3)","v":{"$error":"#N/A"}},{"$f":"INDEX('Total Plants'!$1:$1048576,'Selected Plant'!UF4,'Selected Plant'!UF3)","v":{"$error":"#N/A"}},{"$f":"INDEX('Total Plants'!$1:$1048576,'Selected Plant'!UG4,'Selected Plant'!UG3)","v":{"$error":"#N/A"}},{"$f":"INDEX('Total Plants'!$1:$1048576,'Selected Plant'!UH4,'Selected Plant'!UH3)","v":{"$error":"#N/A"}},{"$f":"INDEX('Total Plants'!$1:$1048576,'Selected Plant'!UI4,'Selected Plant'!UI3)","v":{"$error":"#N/A"}},{"$f":"INDEX('Total Plants'!$1:$1048576,'Selected Plant'!UJ4,'Selected Plant'!UJ3)","v":{"$error":"#N/A"}},{"$f":"INDEX('Total Plants'!$1:$1048576,'Selected Plant'!UK4,'Selected Plant'!UK3)","v":{"$error":"#N/A"}},{"$f":"INDEX('Total Plants'!$1:$1048576,'Selected Plant'!UL4,'Selected Plant'!UL3)","v":{"$error":"#N/A"}},{"$f":"INDEX('Total Plants'!$1:$1048576,'Selected Plant'!UM4,'Selected Plant'!UM3)","v":{"$error":"#N/A"}},{"$f":"INDEX('Total Plants'!$1:$1048576,'Selected Plant'!UN4,'Selected Plant'!UN3)","v":{"$error":"#N/A"}},{"$f":"INDEX('Total Plants'!$1:$1048576,'Selected Plant'!UO4,'Selected Plant'!UO3)","v":{"$error":"#N/A"}},{"$f":"INDEX('Total Plants'!$1:$1048576,'Selected Plant'!UP4,'Selected Plant'!UP3)","v":{"$error":"#N/A"}},{"$f":"INDEX('Total Plants'!$1:$1048576,'Selected Plant'!UQ4,'Selected Plant'!UQ3)","v":{"$error":"#N/A"}},{"$f":"INDEX('Total Plants'!$1:$1048576,'Selected Plant'!UR4,'Selected Plant'!UR3)","v":{"$error":"#N/A"}},{"$f":"INDEX('Total Plants'!$1:$1048576,'Selected Plant'!US4,'Selected Plant'!US3)","v":{"$error":"#N/A"}},{"$f":"INDEX('Total Plants'!$1:$1048576,'Selected Plant'!UT4,'Selected Plant'!UT3)","v":{"$error":"#N/A"}},{"$f":"INDEX('Total Plants'!$1:$1048576,'Selected Plant'!UU4,'Selected Plant'!UU3)","v":{"$error":"#N/A"}}]
[null,"Include Date in Analysis",null,{"$f":"IFERROR(ABS(D5)>0,FALSE)","v":true},{"$f":"IFERROR(ABS(E5)>0,FALSE)","v":true},true,true,true,true,true,true,true,true,true,true,true,true,true,true,true,true,true,true,true,true,true,true,true,true,true,true,true,true,true,true,true,true,true,true,false,false,false,false,false,false,false,false,false,false,false,false,false,false,false,false,false,false,false,false,false,false,false,false,false,false,false,false,false,{"$f":"IFERROR(ABS(BQ5)>0,FALSE)","v":false},false,false,false,false,false,false,false,false,false,false,false,false,false,false,false,false,false,false,false,false,false,false,false,false,false,false,false,false,false,false,false,false,false,false,false,false,false,false,false,false,false,false,false,false,false,false,false,false,false,false,false,false,false,false,false,false,false,false,false,false,false,false,false,{"$f":"IFERROR(ABS(EC5)>0,FALSE)","v":false},false,false,false,false,false,false,false,false,false,false,false,false,false,false,false,false,false,false,false,false,false,false,false,false,false,false,false,false,false,false,false,false,false,false,false,false,false,false,false,false,false,false,false,false,false,false,false,false,false,false,false,false,false,false,false,false,false,false,false,false,false,false,false,{"$f":"IFERROR(ABS(GO5)>0,FALSE)","v":false},false,false,false,false,false,false,false,false,false,false,false,false,false,false,false,false,false,false,false,false,false,false,false,false,false,false,false,false,false,false,false,false,false,false,false,false,false,false,false,false,false,false,false,false,false,false,false,false,false,false,false,false,false,false,false,false,false,false,false,false,false,false,false,{"$f":"IFERROR(ABS(JA5)>0,FALSE)","v":false},false,false,false,false,false,false,false,false,false,false,false,false,false,false,false,false,false,false,false,false,false,false,false,false,false,false,false,false,false,false,false,false,false,false,false,false,false,false,false,false,false,false,false,false,false,false,false,false,false,false,false,false,false,false,false,false,false,false,false,false,false,false,false,{"$f":"IFERROR(ABS(LM5)>0,FALSE)","v":false},false,false,false,false,false,false,false,false,false,false,false,false,false,false,false,false,false,false,false,false,false,false,false,false,false,false,false,false,false,false,false,false,false,false,false,false,false,false,false,false,false,false,false,false,false,false,false,false,false,false,false,false,false,false,false,false,false,false,false,false,false,false,false,{"$f":"IFERROR(ABS(NY5)>0,FALSE)","v":false},false,false,false,false,false,false,false,false,false,false,false,false,false,false,false,false,false,false,false,false,false,false,false,false,false,false,false,false,false,false,false,false,false,false,false,false,false,false,false,false,false,false,false,false,false,false,false,false,false,false,false,false,false,false,false,false,false,false,false,false,false,false,false,{"$f":"IFERROR(ABS(QK5)>0,FALSE)","v":false},false,false,false,false,false,false,false,false,false,false,false,false,false,false,false,false,false,false,false,false,false,false,false,false,false,false,false,false,false,false,false,false,false,false,false,false,false,false,false,false,false,false,false,false,false,false,false,false,false,false,false,false,false,false,false,false,false,false,false,false,false,false,false,{"$f":"IFERROR(ABS(SW5)>0,FALSE)","v":false},false,false,false,false,false,false,false,false,false,false,false,false,false,false,false,false,false,false,false,false,false,false,false,false,false,false,false,false,false,false,false,false,false,false,false,false,false,false,false,false,false,false,false,false,false,false,false,false,false,false]
[]
[null,null,null,{"$f":"IF(D6,D2,NA())","v":"2014-01-01"},{"$f":"IF(E6,E2,NA())","v":"2014-02-01"},"2014-03-01","2014-04-01","2014-05-01","2014-06-01","2014-07-01","2014-08-01","2014-09-01","2014-10-01","2014-11-01","2014-12-01","2015-01-01","2015-02-01","2015-03-01","2015-04-01","2015-05-01","2015-06-01","2015-07-01","2015-08-01","2015-09-01","2015-10-01","2015-11-01","2015-12-01","2016-01-01","2016-02-01","2016-03-01","2016-04-01","2016-05-01","2016-06-01","2016-07-01","2016-08-01","2016-09-01","2016-10-01","2016-11-01","2016-12-01",{"$error":"#N/A"},{"$error":"#N/A"},{"$error":"#N/A"},{"$error":"#N/A"},{"$error":"#N/A"},{"$error":"#N/A"},{"$error":"#N/A"},{"$error":"#N/A"},{"$error":"#N/A"},{"$error":"#N/A"},{"$error":"#N/A"},{"$error":"#N/A"},{"$error":"#N/A"},{"$error":"#N/A"},{"$error":"#N/A"},{"$error":"#N/A"},{"$error":"#N/A"},{"$error":"#N/A"},{"$error":"#N/A"},{"$error":"#N/A"},{"$error":"#N/A"},{"$error":"#N/A"},{"$error":"#N/A"},{"$error":"#N/A"},{"$error":"#N/A"},{"$error":"#N/A"},{"$error":"#N/A"},{"$error":"#N/A"},{"$error":"#N/A"},{"$f":"IF(BQ6,BQ2,NA())","v":{"$error":"#N/A"}},{"$error":"#N/A"},{"$error":"#N/A"},{"$error":"#N/A"},{"$error":"#N/A"},{"$error":"#N/A"},{"$error":"#N/A"},{"$error":"#N/A"},{"$error":"#N/A"},{"$error":"#N/A"},{"$error":"#N/A"},{"$error":"#N/A"},{"$error":"#N/A"},{"$error":"#N/A"},{"$error":"#N/A"},{"$error":"#N/A"},{"$error":"#N/A"},{"$error":"#N/A"},{"$error":"#N/A"},{"$error":"#N/A"},{"$error":"#N/A"},{"$error":"#N/A"},{"$error":"#N/A"},{"$error":"#N/A"},{"$error":"#N/A"},{"$error":"#N/A"},{"$error":"#N/A"},{"$error":"#N/A"},{"$error":"#N/A"},{"$error":"#N/A"},{"$error":"#N/A"},{"$error":"#N/A"},{"$error":"#N/A"},{"$error":"#N/A"},{"$error":"#N/A"},{"$error":"#N/A"},{"$error":"#N/A"},{"$error":"#N/A"},{"$error":"#N/A"},{"$error":"#N/A"},{"$error":"#N/A"},{"$error":"#N/A"},{"$error":"#N/A"},{"$error":"#N/A"},{"$error":"#N/A"},{"$error":"#N/A"},{"$error":"#N/A"},{"$error":"#N/A"},{"$error":"#N/A"},{"$error":"#N/A"},{"$error":"#N/A"},{"$error":"#N/A"},{"$error":"#N/A"},{"$error":"#N/A"},{"$error":"#N/A"},{"$error":"#N/A"},{"$error":"#N/A"},{"$error":"#N/A"},{"$error":"#N/A"},{"$error":"#N/A"},{"$error":"#N/A"},{"$error":"#N/A"},{"$error":"#N/A"},{"$error":"#N/A"},{"$f":"IF(EC6,EC2,NA())","v":{"$error":"#N/A"}},{"$error":"#N/A"},{"$error":"#N/A"},{"$error":"#N/A"},{"$error":"#N/A"},{"$error":"#N/A"},{"$error":"#N/A"},{"$error":"#N/A"},{"$error":"#N/A"},{"$error":"#N/A"},{"$error":"#N/A"},{"$error":"#N/A"},{"$error":"#N/A"},{"$error":"#N/A"},{"$error":"#N/A"},{"$error":"#N/A"},{"$error":"#N/A"},{"$error":"#N/A"},{"$error":"#N/A"},{"$error":"#N/A"},{"$error":"#N/A"},{"$error":"#N/A"},{"$error":"#N/A"},{"$error":"#N/A"},{"$error":"#N/A"},{"$error":"#N/A"},{"$error":"#N/A"},{"$error":"#N/A"},{"$error":"#N/A"},{"$error":"#N/A"},{"$error":"#N/A"},{"$error":"#N/A"},{"$error":"#N/A"},{"$error":"#N/A"},{"$error":"#N/A"},{"$error":"#N/A"},{"$error":"#N/A"},{"$error":"#N/A"},{"$error":"#N/A"},{"$error":"#N/A"},{"$error":"#N/A"},{"$error":"#N/A"},{"$error":"#N/A"},{"$error":"#N/A"},{"$error":"#N/A"},{"$error":"#N/A"},{"$error":"#N/A"},{"$error":"#N/A"},{"$error":"#N/A"},{"$error":"#N/A"},{"$error":"#N/A"},{"$error":"#N/A"},{"$error":"#N/A"},{"$error":"#N/A"},{"$error":"#N/A"},{"$error":"#N/A"},{"$error":"#N/A"},{"$error":"#N/A"},{"$error":"#N/A"},{"$error":"#N/A"},{"$error":"#N/A"},{"$error":"#N/A"},{"$error":"#N/A"},{"$error":"#N/A"},{"$f":"IF(GO6,GO2,NA())","v":{"$error":"#N/A"}},{"$error":"#N/A"},{"$error":"#N/A"},{"$error":"#N/A"},{"$error":"#N/A"},{"$error":"#N/A"},{"$error":"#N/A"},{"$error":"#N/A"},{"$error":"#N/A"},{"$error":"#N/A"},{"$error":"#N/A"},{"$error":"#N/A"},{"$error":"#N/A"},{"$error":"#N/A"},{"$error":"#N/A"},{"$error":"#N/A"},{"$error":"#N/A"},{"$error":"#N/A"},{"$error":"#N/A"},{"$error":"#N/A"},{"$error":"#N/A"},{"$error":"#N/A"},{"$error":"#N/A"},{"$error":"#N/A"},{"$error":"#N/A"},{"$error":"#N/A"},{"$error":"#N/A"},{"$error":"#N/A"},{"$error":"#N/A"},{"$error":"#N/A"},{"$error":"#N/A"},{"$error":"#N/A"},{"$error":"#N/A"},{"$error":"#N/A"},{"$error":"#N/A"},{"$error":"#N/A"},{"$error":"#N/A"},{"$error":"#N/A"},{"$error":"#N/A"},{"$error":"#N/A"},{"$error":"#N/A"},{"$error":"#N/A"},{"$error":"#N/A"},{"$error":"#N/A"},{"$error":"#N/A"},{"$error":"#N/A"},{"$error":"#N/A"},{"$error":"#N/A"},{"$error":"#N/A"},{"$error":"#N/A"},{"$error":"#N/A"},{"$error":"#N/A"},{"$error":"#N/A"},{"$error":"#N/A"},{"$error":"#N/A"},{"$error":"#N/A"},{"$error":"#N/A"},{"$error":"#N/A"},{"$error":"#N/A"},{"$error":"#N/A"},{"$error":"#N/A"},{"$error":"#N/A"},{"$error":"#N/A"},{"$error":"#N/A"},{"$f":"IF(JA6,JA2,NA())","v":{"$error":"#N/A"}},{"$error":"#N/A"},{"$error":"#N/A"},{"$error":"#N/A"},{"$error":"#N/A"},{"$error":"#N/A"},{"$error":"#N/A"},{"$error":"#N/A"},{"$error":"#N/A"},{"$error":"#N/A"},{"$error":"#N/A"},{"$error":"#N/A"},{"$error":"#N/A"},{"$error":"#N/A"},{"$error":"#N/A"},{"$error":"#N/A"},{"$error":"#N/A"},{"$error":"#N/A"},{"$error":"#N/A"},{"$error":"#N/A"},{"$error":"#N/A"},{"$error":"#N/A"},{"$error":"#N/A"},{"$error":"#N/A"},{"$error":"#N/A"},{"$error":"#N/A"},{"$error":"#N/A"},{"$error":"#N/A"},{"$error":"#N/A"},{"$error":"#N/A"},{"$error":"#N/A"},{"$error":"#N/A"},{"$error":"#N/A"},{"$error":"#N/A"},{"$error":"#N/A"},{"$error":"#N/A"},{"$error":"#N/A"},{"$error":"#N/A"},{"$error":"#N/A"},{"$error":"#N/A"},{"$error":"#N/A"},{"$error":"#N/A"},{"$error":"#N/A"},{"$error":"#N/A"},{"$error":"#N/A"},{"$error":"#N/A"},{"$error":"#N/A"},{"$error":"#N/A"},{"$error":"#N/A"},{"$error":"#N/A"},{"$error":"#N/A"},{"$error":"#N/A"},{"$error":"#N/A"},{"$error":"#N/A"},{"$error":"#N/A"},{"$error":"#N/A"},{"$error":"#N/A"},{"$error":"#N/A"},{"$error":"#N/A"},{"$error":"#N/A"},{"$error":"#N/A"},{"$error":"#N/A"},{"$error":"#N/A"},{"$error":"#N/A"},{"$f":"IF(LM6,LM2,NA())","v":{"$error":"#N/A"}},{"$error":"#N/A"},{"$error":"#N/A"},{"$error":"#N/A"},{"$error":"#N/A"},{"$error":"#N/A"},{"$error":"#N/A"},{"$error":"#N/A"},{"$error":"#N/A"},{"$error":"#N/A"},{"$error":"#N/A"},{"$error":"#N/A"},{"$error":"#N/A"},{"$error":"#N/A"},{"$error":"#N/A"},{"$error":"#N/A"},{"$error":"#N/A"},{"$error":"#N/A"},{"$error":"#N/A"},{"$error":"#N/A"},{"$error":"#N/A"},{"$error":"#N/A"},{"$error":"#N/A"},{"$error":"#N/A"},{"$error":"#N/A"},{"$error":"#N/A"},{"$error":"#N/A"},{"$error":"#N/A"},{"$error":"#N/A"},{"$error":"#N/A"},{"$error":"#N/A"},{"$error":"#N/A"},{"$error":"#N/A"},{"$error":"#N/A"},{"$error":"#N/A"},{"$error":"#N/A"},{"$error":"#N/A"},{"$error":"#N/A"},{"$error":"#N/A"},{"$error":"#N/A"},{"$error":"#N/A"},{"$error":"#N/A"},{"$error":"#N/A"},{"$error":"#N/A"},{"$error":"#N/A"},{"$error":"#N/A"},{"$error":"#N/A"},{"$error":"#N/A"},{"$error":"#N/A"},{"$error":"#N/A"},{"$error":"#N/A"},{"$error":"#N/A"},{"$error":"#N/A"},{"$error":"#N/A"},{"$error":"#N/A"},{"$error":"#N/A"},{"$error":"#N/A"},{"$error":"#N/A"},{"$error":"#N/A"},{"$error":"#N/A"},{"$error":"#N/A"},{"$error":"#N/A"},{"$error":"#N/A"},{"$error":"#N/A"},{"$f":"IF(NY6,NY2,NA())","v":{"$error":"#N/A"}},{"$error":"#N/A"},{"$error":"#N/A"},{"$error":"#N/A"},{"$error":"#N/A"},{"$error":"#N/A"},{"$error":"#N/A"},{"$error":"#N/A"},{"$error":"#N/A"},{"$error":"#N/A"},{"$error":"#N/A"},{"$error":"#N/A"},{"$error":"#N/A"},{"$error":"#N/A"},{"$error":"#N/A"},{"$error":"#N/A"},{"$error":"#N/A"},{"$error":"#N/A"},{"$error":"#N/A"},{"$error":"#N/A"},{"$error":"#N/A"},{"$error":"#N/A"},{"$error":"#N/A"},{"$error":"#N/A"},{"$error":"#N/A"},{"$error":"#N/A"},{"$error":"#N/A"},{"$error":"#N/A"},{"$error":"#N/A"},{"$error":"#N/A"},{"$error":"#N/A"},{"$error":"#N/A"},{"$error":"#N/A"},{"$error":"#N/A"},{"$error":"#N/A"},{"$error":"#N/A"},{"$error":"#N/A"},{"$error":"#N/A"},{"$error":"#N/A"},{"$error":"#N/A"},{"$error":"#N/A"},{"$error":"#N/A"},{"$error":"#N/A"},{"$error":"#N/A"},{"$error":"#N/A"},{"$error":"#N/A"},{"$error":"#N/A"},{"$error":"#N/A"},{"$error":"#N/A"},{"$error":"#N/A"},{"$error":"#N/A"},{"$error":"#N/A"},{"$error":"#N/A"},{"$error":"#N/A"},{"$error":"#N/A"},{"$error":"#N/A"},{"$error":"#N/A"},{"$error":"#N/A"},{"$error":"#N/A"},{"$error":"#N/A"},{"$error":"#N/A"},{"$error":"#N/A"},{"$error":"#N/A"},{"$error":"#N/A"},{"$f":"IF(QK6,QK2,NA())","v":{"$error":"#N/A"}},{"$error":"#N/A"},{"$error":"#N/A"},{"$error":"#N/A"},{"$error":"#N/A"},{"$error":"#N/A"},{"$error":"#N/A"},{"$error":"#N/A"},{"$error":"#N/A"},{"$error":"#N/A"},{"$error":"#N/A"},{"$error":"#N/A"},{"$error":"#N/A"},{"$error":"#N/A"},{"$error":"#N/A"},{"$error":"#N/A"},{"$error":"#N/A"},{"$error":"#N/A"},{"$error":"#N/A"},{"$error":"#N/A"},{"$error":"#N/A"},{"$error":"#N/A"},{"$error":"#N/A"},{"$error":"#N/A"},{"$error":"#N/A"},{"$error":"#N/A"},{"$error":"#N/A"},{"$error":"#N/A"},{"$error":"#N/A"},{"$error":"#N/A"},{"$error":"#N/A"},{"$error":"#N/A"},{"$error":"#N/A"},{"$error":"#N/A"},{"$error":"#N/A"},{"$error":"#N/A"},{"$error":"#N/A"},{"$error":"#N/A"},{"$error":"#N/A"},{"$error":"#N/A"},{"$error":"#N/A"},{"$error":"#N/A"},{"$error":"#N/A"},{"$error":"#N/A"},{"$error":"#N/A"},{"$error":"#N/A"},{"$error":"#N/A"},{"$error":"#N/A"},{"$error":"#N/A"},{"$error":"#N/A"},{"$error":"#N/A"},{"$error":"#N/A"},{"$error":"#N/A"},{"$error":"#N/A"},{"$error":"#N/A"},{"$error":"#N/A"},{"$error":"#N/A"},{"$error":"#N/A"},{"$error":"#N/A"},{"$error":"#N/A"},{"$error":"#N/A"},{"$error":"#N/A"},{"$error":"#N/A"},{"$error":"#N/A"},{"$f":"IF(SW6,SW2,NA())","v":{"$error":"#N/A"}},{"$error":"#N/A"},{"$error":"#N/A"},{"$error":"#N/A"},{"$error":"#N/A"},{"$error":"#N/A"},{"$error":"#N/A"},{"$error":"#N/A"},{"$error":"#N/A"},{"$error":"#N/A"},{"$error":"#N/A"},{"$error":"#N/A"},{"$error":"#N/A"},{"$error":"#N/A"},{"$error":"#N/A"},{"$error":"#N/A"},{"$error":"#N/A"},{"$error":"#N/A"},{"$error":"#N/A"},{"$error":"#N/A"},{"$error":"#N/A"},{"$error":"#N/A"},{"$error":"#N/A"},{"$error":"#N/A"},{"$error":"#N/A"},{"$error":"#N/A"},{"$error":"#N/A"},{"$error":"#N/A"},{"$error":"#N/A"},{"$error":"#N/A"},{"$error":"#N/A"},{"$error":"#N/A"},{"$error":"#N/A"},{"$error":"#N/A"},{"$error":"#N/A"},{"$error":"#N/A"},{"$error":"#N/A"},{"$error":"#N/A"},{"$error":"#N/A"},{"$error":"#N/A"},{"$error":"#N/A"},{"$error":"#N/A"},{"$error":"#N/A"},{"$error":"#N/A"},{"$error":"#N/A"},{"$error":"#N/A"},{"$error":"#N/A"},{"$error":"#N/A"},{"$error":"#N/A"},{"$error":"#N/A"},{"$error":"#N/A"}]
[null,"Year",null,{"$f":"YEAR(D8)","v":2014},{"$f":"YEAR(E8)","v":2014},2014,2014,2014,2014,2014,2014,2014,2014,2014,2014,2015,2015,2015,2015,2015,2015,2015,2015,2015,2015,2015,2015,2016,2016,2016,2016,2016,2016,2016,2016,2016,2016,2016,2016,{"$error":"#N/A"},{"$error":"#N/A"},{"$error":"#N/A"},{"$error":"#N/A"},{"$error":"#N/A"},{"$error":"#N/A"},{"$error":"#N/A"},{"$error":"#N/A"},{"$error":"#N/A"},{"$error":"#N/A"},{"$error":"#N/A"},{"$error":"#N/A"},{"$error":"#N/A"},{"$error":"#N/A"},{"$error":"#N/A"},{"$error":"#N/A"},{"$error":"#N/A"},{"$error":"#N/A"},{"$error":"#N/A"},{"$error":"#N/A"},{"$error":"#N/A"},{"$error":"#N/A"},{"$error":"#N/A"},{"$error":"#N/A"},{"$error":"#N/A"},{"$error":"#N/A"},{"$error":"#N/A"},{"$error":"#N/A"},{"$error":"#N/A"},{"$f":"YEAR(BQ8)","v":{"$error":"#N/A"}},{"$error":"#N/A"},{"$error":"#N/A"},{"$error":"#N/A"},{"$error":"#N/A"},{"$error":"#N/A"},{"$error":"#N/A"},{"$error":"#N/A"},{"$error":"#N/A"},{"$error":"#N/A"},{"$error":"#N/A"},{"$error":"#N/A"},{"$error":"#N/A"},{"$error":"#N/A"},{"$error":"#N/A"},{"$error":"#N/A"},{"$error":"#N/A"},{"$error":"#N/A"},{"$error":"#N/A"},{"$error":"#N/A"},{"$error":"#N/A"},{"$error":"#N/A"},{"$error":"#N/A"},{"$error":"#N/A"},{"$error":"#N/A"},{"$error":"#N/A"},{"$error":"#N/A"},{"$error":"#N/A"},{"$error":"#N/A"},{"$error":"#N/A"},{"$error":"#N/A"},{"$error":"#N/A"},{"$error":"#N/A"},{"$error":"#N/A"},{"$error":"#N/A"},{"$error":"#N/A"},{"$error":"#N/A"},{"$error":"#N/A"},{"$error":"#N/A"},{"$error":"#N/A"},{"$error":"#N/A"},{"$error":"#N/A"},{"$error":"#N/A"},{"$error":"#N/A"},{"$error":"#N/A"},{"$error":"#N/A"},{"$error":"#N/A"},{"$error":"#N/A"},{"$error":"#N/A"},{"$error":"#N/A"},{"$error":"#N/A"},{"$error":"#N/A"},{"$error":"#N/A"},{"$error":"#N/A"},{"$error":"#N/A"},{"$error":"#N/A"},{"$error":"#N/A"},{"$error":"#N/A"},{"$error":"#N/A"},{"$error":"#N/A"},{"$error":"#N/A"},{"$error":"#N/A"},{"$error":"#N/A"},{"$error":"#N/A"},{"$f":"YEAR(EC8)","v":{"$error":"#N/A"}},{"$error":"#N/A"},{"$error":"#N/A"},{"$error":"#N/A"},{"$error":"#N/A"},{"$error":"#N/A"},{"$error":"#N/A"},{"$error":"#N/A"},{"$error":"#N/A"},{"$error":"#N/A"},{"$error":"#N/A"},{"$error":"#N/A"},{"$error":"#N/A"},{"$error":"#N/A"},{"$error":"#N/A"},{"$error":"#N/A"},{"$error":"#N/A"},{"$error":"#N/A"},{"$error":"#N/A"},{"$error":"#N/A"},{"$error":"#N/A"},{"$error":"#N/A"},{"$error":"#N/A"},{"$error":"#N/A"},{"$error":"#N/A"},{"$error":"#N/A"},{"$error":"#N/A"},{"$error":"#N/A"},{"$error":"#N/A"},{"$error":"#N/A"},{"$error":"#N/A"},{"$error":"#N/A"},{"$error":"#N/A"},{"$error":"#N/A"},{"$error":"#N/A"},{"$error":"#N/A"},{"$error":"#N/A"},{"$error":"#N/A"},{"$error":"#N/A"},{"$error":"#N/A"},{"$error":"#N/A"},{"$error":"#N/A"},{"$error":"#N/A"},{"$error":"#N/A"},{"$error":"#N/A"},{"$error":"#N/A"},{"$error":"#N/A"},{"$error":"#N/A"},{"$error":"#N/A"},{"$error":"#N/A"},{"$error":"#N/A"},{"$error":"#N/A"},{"$error":"#N/A"},{"$error":"#N/A"},{"$error":"#N/A"},{"$error":"#N/A"},{"$error":"#N/A"},{"$error":"#N/A"},{"$error":"#N/A"},{"$error":"#N/A"},{"$error":"#N/A"},{"$error":"#N/A"},{"$error":"#N/A"},{"$error":"#N/A"},{"$f":"YEAR(GO8)","v":{"$error":"#N/A"}},{"$error":"#N/A"},{"$error":"#N/A"},{"$error":"#N/A"},{"$error":"#N/A"},{"$error":"#N/A"},{"$error":"#N/A"},{"$error":"#N/A"},{"$error":"#N/A"},{"$error":"#N/A"},{"$error":"#N/A"},{"$error":"#N/A"},{"$error":"#N/A"},{"$error":"#N/A"},{"$error":"#N/A"},{"$error":"#N/A"},{"$error":"#N/A"},{"$error":"#N/A"},{"$error":"#N/A"},{"$error":"#N/A"},{"$error":"#N/A"},{"$error":"#N/A"},{"$error":"#N/A"},{"$error":"#N/A"},{"$error":"#N/A"},{"$error":"#N/A"},{"$error":"#N/A"},{"$error":"#N/A"},{"$error":"#N/A"},{"$error":"#N/A"},{"$error":"#N/A"},{"$error":"#N/A"},{"$error":"#N/A"},{"$error":"#N/A"},{"$error":"#N/A"},{"$error":"#N/A"},{"$error":"#N/A"},{"$error":"#N/A"},{"$error":"#N/A"},{"$error":"#N/A"},{"$error":"#N/A"},{"$error":"#N/A"},{"$error":"#N/A"},{"$error":"#N/A"},{"$error":"#N/A"},{"$error":"#N/A"},{"$error":"#N/A"},{"$error":"#N/A"},{"$error":"#N/A"},{"$error":"#N/A"},{"$error":"#N/A"},{"$error":"#N/A"},{"$error":"#N/A"},{"$error":"#N/A"},{"$error":"#N/A"},{"$error":"#N/A"},{"$error":"#N/A"},{"$error":"#N/A"},{"$error":"#N/A"},{"$error":"#N/A"},{"$error":"#N/A"},{"$error":"#N/A"},{"$error":"#N/A"},{"$error":"#N/A"},{"$f":"YEAR(JA8)","v":{"$error":"#N/A"}},{"$error":"#N/A"},{"$error":"#N/A"},{"$error":"#N/A"},{"$error":"#N/A"},{"$error":"#N/A"},{"$error":"#N/A"},{"$error":"#N/A"},{"$error":"#N/A"},{"$error":"#N/A"},{"$error":"#N/A"},{"$error":"#N/A"},{"$error":"#N/A"},{"$error":"#N/A"},{"$error":"#N/A"},{"$error":"#N/A"},{"$error":"#N/A"},{"$error":"#N/A"},{"$error":"#N/A"},{"$error":"#N/A"},{"$error":"#N/A"},{"$error":"#N/A"},{"$error":"#N/A"},{"$error":"#N/A"},{"$error":"#N/A"},{"$error":"#N/A"},{"$error":"#N/A"},{"$error":"#N/A"},{"$error":"#N/A"},{"$error":"#N/A"},{"$error":"#N/A"},{"$error":"#N/A"},{"$error":"#N/A"},{"$error":"#N/A"},{"$error":"#N/A"},{"$error":"#N/A"},{"$error":"#N/A"},{"$error":"#N/A"},{"$error":"#N/A"},{"$error":"#N/A"},{"$error":"#N/A"},{"$error":"#N/A"},{"$error":"#N/A"},{"$error":"#N/A"},{"$error":"#N/A"},{"$error":"#N/A"},{"$error":"#N/A"},{"$error":"#N/A"},{"$error":"#N/A"},{"$error":"#N/A"},{"$error":"#N/A"},{"$error":"#N/A"},{"$error":"#N/A"},{"$error":"#N/A"},{"$error":"#N/A"},{"$error":"#N/A"},{"$error":"#N/A"},{"$error":"#N/A"},{"$error":"#N/A"},{"$error":"#N/A"},{"$error":"#N/A"},{"$error":"#N/A"},{"$error":"#N/A"},{"$error":"#N/A"},{"$f":"YEAR(LM8)","v":{"$error":"#N/A"}},{"$error":"#N/A"},{"$error":"#N/A"},{"$error":"#N/A"},{"$error":"#N/A"},{"$error":"#N/A"},{"$error":"#N/A"},{"$error":"#N/A"},{"$error":"#N/A"},{"$error":"#N/A"},{"$error":"#N/A"},{"$error":"#N/A"},{"$error":"#N/A"},{"$error":"#N/A"},{"$error":"#N/A"},{"$error":"#N/A"},{"$error":"#N/A"},{"$error":"#N/A"},{"$error":"#N/A"},{"$error":"#N/A"},{"$error":"#N/A"},{"$error":"#N/A"},{"$error":"#N/A"},{"$error":"#N/A"},{"$error":"#N/A"},{"$error":"#N/A"},{"$error":"#N/A"},{"$error":"#N/A"},{"$error":"#N/A"},{"$error":"#N/A"},{"$error":"#N/A"},{"$error":"#N/A"},{"$error":"#N/A"},{"$error":"#N/A"},{"$error":"#N/A"},{"$error":"#N/A"},{"$error":"#N/A"},{"$error":"#N/A"},{"$error":"#N/A"},{"$error":"#N/A"},{"$error":"#N/A"},{"$error":"#N/A"},{"$error":"#N/A"},{"$error":"#N/A"},{"$error":"#N/A"},{"$error":"#N/A"},{"$error":"#N/A"},{"$error":"#N/A"},{"$error":"#N/A"},{"$error":"#N/A"},{"$error":"#N/A"},{"$error":"#N/A"},{"$error":"#N/A"},{"$error":"#N/A"},{"$error":"#N/A"},{"$error":"#N/A"},{"$error":"#N/A"},{"$error":"#N/A"},{"$error":"#N/A"},{"$error":"#N/A"},{"$error":"#N/A"},{"$error":"#N/A"},{"$error":"#N/A"},{"$error":"#N/A"},{"$f":"YEAR(NY8)","v":{"$error":"#N/A"}},{"$error":"#N/A"},{"$error":"#N/A"},{"$error":"#N/A"},{"$error":"#N/A"},{"$error":"#N/A"},{"$error":"#N/A"},{"$error":"#N/A"},{"$error":"#N/A"},{"$error":"#N/A"},{"$error":"#N/A"},{"$error":"#N/A"},{"$error":"#N/A"},{"$error":"#N/A"},{"$error":"#N/A"},{"$error":"#N/A"},{"$error":"#N/A"},{"$error":"#N/A"},{"$error":"#N/A"},{"$error":"#N/A"},{"$error":"#N/A"},{"$error":"#N/A"},{"$error":"#N/A"},{"$error":"#N/A"},{"$error":"#N/A"},{"$error":"#N/A"},{"$error":"#N/A"},{"$error":"#N/A"},{"$error":"#N/A"},{"$error":"#N/A"},{"$error":"#N/A"},{"$error":"#N/A"},{"$error":"#N/A"},{"$error":"#N/A"},{"$error":"#N/A"},{"$error":"#N/A"},{"$error":"#N/A"},{"$error":"#N/A"},{"$error":"#N/A"},{"$error":"#N/A"},{"$error":"#N/A"},{"$error":"#N/A"},{"$error":"#N/A"},{"$error":"#N/A"},{"$error":"#N/A"},{"$error":"#N/A"},{"$error":"#N/A"},{"$error":"#N/A"},{"$error":"#N/A"},{"$error":"#N/A"},{"$error":"#N/A"},{"$error":"#N/A"},{"$error":"#N/A"},{"$error":"#N/A"},{"$error":"#N/A"},{"$error":"#N/A"},{"$error":"#N/A"},{"$error":"#N/A"},{"$error":"#N/A"},{"$error":"#N/A"},{"$error":"#N/A"},{"$error":"#N/A"},{"$error":"#N/A"},{"$error":"#N/A"},{"$f":"YEAR(QK8)","v":{"$error":"#N/A"}},{"$error":"#N/A"},{"$error":"#N/A"},{"$error":"#N/A"},{"$error":"#N/A"},{"$error":"#N/A"},{"$error":"#N/A"},{"$error":"#N/A"},{"$error":"#N/A"},{"$error":"#N/A"},{"$error":"#N/A"},{"$error":"#N/A"},{"$error":"#N/A"},{"$error":"#N/A"},{"$error":"#N/A"},{"$error":"#N/A"},{"$error":"#N/A"},{"$error":"#N/A"},{"$error":"#N/A"},{"$error":"#N/A"},{"$error":"#N/A"},{"$error":"#N/A"},{"$error":"#N/A"},{"$error":"#N/A"},{"$error":"#N/A"},{"$error":"#N/A"},{"$error":"#N/A"},{"$error":"#N/A"},{"$error":"#N/A"},{"$error":"#N/A"},{"$error":"#N/A"},{"$error":"#N/A"},{"$error":"#N/A"},{"$error":"#N/A"},{"$error":"#N/A"},{"$error":"#N/A"},{"$error":"#N/A"},{"$error":"#N/A"},{"$error":"#N/A"},{"$error":"#N/A"},{"$error":"#N/A"},{"$error":"#N/A"},{"$error":"#N/A"},{"$error":"#N/A"},{"$error":"#N/A"},{"$error":"#N/A"},{"$error":"#N/A"},{"$error":"#N/A"},{"$error":"#N/A"},{"$error":"#N/A"},{"$error":"#N/A"},{"$error":"#N/A"},{"$error":"#N/A"},{"$error":"#N/A"},{"$error":"#N/A"},{"$error":"#N/A"},{"$error":"#N/A"},{"$error":"#N/A"},{"$error":"#N/A"},{"$error":"#N/A"},{"$error":"#N/A"},{"$error":"#N/A"},{"$error":"#N/A"},{"$error":"#N/A"},{"$f":"YEAR(SW8)","v":{"$error":"#N/A"}},{"$error":"#N/A"},{"$error":"#N/A"},{"$error":"#N/A"},{"$error":"#N/A"},{"$error":"#N/A"},{"$error":"#N/A"},{"$error":"#N/A"},{"$error":"#N/A"},{"$error":"#N/A"},{"$error":"#N/A"},{"$error":"#N/A"},{"$error":"#N/A"},{"$error":"#N/A"},{"$error":"#N/A"},{"$error":"#N/A"},{"$error":"#N/A"},{"$error":"#N/A"},{"$error":"#N/A"},{"$error":"#N/A"},{"$error":"#N/A"},{"$error":"#N/A"},{"$error":"#N/A"},{"$error":"#N/A"},{"$error":"#N/A"},{"$error":"#N/A"},{"$error":"#N/A"},{"$error":"#N/A"},{"$error":"#N/A"},{"$error":"#N/A"},{"$error":"#N/A"},{"$error":"#N/A"},{"$error":"#N/A"},{"$error":"#N/A"},{"$error":"#N/A"},{"$error":"#N/A"},{"$error":"#N/A"},{"$error":"#N/A"},{"$error":"#N/A"},{"$error":"#N/A"},{"$error":"#N/A"},{"$error":"#N/A"},{"$error":"#N/A"},{"$error":"#N/A"},{"$error":"#N/A"},{"$error":"#N/A"},{"$error":"#N/A"},{"$error":"#N/A"},{"$error":"#N/A"},{"$error":"#N/A"},{"$error":"#N/A"}]
[null,{"$f":"B5","v":"NRG Solar Borrego I"},null,{"$f":"IF(D6,D5)","v":3965},{"$f":"IF(E6,E5)","v":4463},6571,7271,8205,8245,7782,6734,6652,5613,4418,3219,3692,4369,6473,7578,7619,7201,7724,7573,5814,5130,4528,3743,3722,4865,6329,6773,8201,8117,8318,7436,6019,5396,4330,1576,false,false,false,false,false,false,false,false,false,false,false,false,false,false,false,false,false,false,false,false,false,false,false,false,false,false,false,false,false,{"$f":"IF(BQ6,BQ5)","v":false},false,false,false,false,false,false,false,false,false,false,false,false,false,false,false,false,false,false,false,false,false,false,false,false,false,false,false,false,false,false,false,false,false,false,false,false,false,false,false,false,false,false,false,false,false,false,false,false,false,false,false,false,false,false,false,false,false,false,false,false,false,false,false,{"$f":"IF(EC6,EC5)","v":false},false,false,false,false,false,false,false,false,false,false,false,false,false,false,false,false,false,false,false,false,false,false,false,false,false,false,false,false,false,false,false,false,false,false,false,false,false,false,false,false,false,false,false,false,false,false,false,false,false,false,false,false,false,false,false,false,false,false,false,false,false,false,false,{"$f":"IF(GO6,GO5)","v":false},false,false,false,false,false,false,false,false,false,false,false,false,false,false,false,false,false,false,false,false,false,false,false,false,false,false,false,false,false,false,false,false,false,false,false,false,false,false,false,false,false,false,false,false,false,false,false,false,false,false,false,false,false,false,false,false,false,false,false,false,false,false,false,{"$f":"IF(JA6,JA5)","v":false},false,false,false,false,false,false,false,false,false,false,false,false,false,false,false,false,false,false,false,false,false,false,false,false,false,false,false,false,false,false,false,false,false,false,false,false,false,false,false,false,false,false,false,false,false,false,false,false,false,false,false,false,false,false,false,false,false,false,false,false,false,false,false,{"$f":"IF(LM6,LM5)","v":false},false,false,false,false,false,false,false,false,false,false,false,false,false,false,false,false,false,false,false,false,false,false,false,false,false,false,false,false,false,false,false,false,false,false,false,false,false,false,false,false,false,false,false,false,false,false,false,false,false,false,false,false,false,false,false,false,false,false,false,false,false,false,false,{"$f":"IF(NY6,NY5)","v":false},false,false,false,false,false,false,false,false,false,false,false,false,false,false,false,false,false,false,false,false,false,false,false,false,false,false,false,false,false,false,false,false,false,false,false,false,false,false,false,false,false,false,false,false,false,false,false,false,false,false,false,false,false,false,false,false,false,false,false,false,false,false,false,{"$f":"IF(QK6,QK5)","v":false},false,false,false,false,false,false,false,false,false,false,false,false,false,false,false,false,false,false,false,false,false,false,false,false,false,false,false,false,false,false,false,false,false,false,false,false,false,false,false,false,false,false,false,false,false,false,false,false,false,false,false,false,false,false,false,false,false,false,false,false,false,false,false,{"$f":"IF(SW6,SW5)","v":false},false,false,false,false,false,false,false,false,false,false,false,false,false,false,false,false,false,false,false,false,false,false,false,false,false,false,false,false,false,false,false,false,false,false,false,false,false,false,false,false,false,false,false,false,false,false,false,false,false,false]
[]
[null,null,null,{"$f":"YEAR(D8)","v":2014},{"$f":"D12+1","v":2015},{"$f":"E12+1","v":2016},2017,2018,2019,2020,2021,2022,2023,2024,2025,2026,2027,2028,2029,2030,2031,2032,2033,2034,2035,2036,2037,2038,2039,2040,2041,2042,2043,2044,2045,2046,2047,2048,2049,2050,2051,2052,2053,2054,2055,2056,2057,2058,2059,2060,2061,2062,2063,2064,2065,2066,2067,2068,2069,2070,2071,2072,2073,2074,2075,2076,2077,2078,2079,{"$f":"BQ12+1","v":2080},2081,2082,2083,2084,2085,2086,2087,2088,2089,2090,2091,2092,2093,2094,2095,2096,2097,2098,2099,2100,2101,2102,2103,2104,2105,2106,2107,2108,2109,2110,2111,2112,2113,2114,2115,2116,2117,2118,2119,2120,2121,2122,2123,2124,2125,2126,2127,2128,2129,2130,2131,2132,2133,2134,2135,2136,2137,2138,2139,2140,2141,2142,2143,{"$f":"EC12+1","v":2144},2145,2146,2147,2148,2149,2150,2151,2152,2153,2154,2155,2156,2157,2158,2159,2160,2161,2162,2163,2164,2165,2166,2167,2168,2169,2170,2171,2172,2173,2174,2175,2176,2177,2178,2179,2180,2181,2182,2183,2184,2185,2186,2187,2188,2189,2190,2191,2192,2193,2194,2195,2196,2197,2198,2199,2200,2201,2202,2203,2204,2205,2206,2207,{"$f":"GO12+1","v":2208},2209,2210,2211,2212,2213,2214,2215,2216,2217,2218,2219,2220,2221,2222,2223,2224,2225,2226,2227,2228,2229,2230,2231,2232,2233,2234,2235,2236,2237,2238,2239,2240,2241,2242,2243,2244,2245,2246,2247,2248,2249,2250,2251,2252,2253,2254,2255,2256,2257,2258,2259,2260,2261,2262,2263,2264,2265,2266,2267,2268,2269,2270,2271,{"$f":"JA12+1","v":2272},2273,2274,2275,2276,2277,2278,2279,2280,2281,2282,2283,2284,2285,2286,2287,2288,2289,2290,2291,2292,2293,2294,2295,2296,2297,2298,2299,2300,2301,2302,2303,2304,2305,2306,2307,2308,2309,2310,2311,2312,2313,2314,2315,2316,2317,2318,2319,2320,2321,2322,2323,2324,2325,2326,2327,2328,2329,2330,2331,2332,2333,2334,2335,{"$f":"LM12+1","v":2336},2337,2338,2339,2340,2341,2342,2343,2344,2345,2346,2347,2348,2349,2350,2351,2352,2353,2354,2355,2356,2357,2358,2359,2360,2361,2362,2363,2364,2365,2366,2367,2368,2369,2370,2371,2372,2373,2374,2375,2376,2377,2378,2379,2380,2381,2382,2383,2384,2385,2386,2387,2388,2389,2390,2391,2392,2393,2394,2395,2396,2397,2398,2399,{"$f":"NY12+1","v":2400},2401,2402,2403,2404,2405,2406,2407,2408,2409,2410,2411,2412,2413,2414,2415,2416,2417,2418,2419,2420,2421,2422,2423,2424,2425,2426,2427,2428,2429,2430,2431,2432,2433,2434,2435,2436,2437,2438,2439,2440,2441,2442,2443,2444,2445,2446,2447,2448,2449,2450,2451,2452,2453,2454,2455,2456,2457,2458,2459,2460,2461,2462,2463,{"$f":"QK12+1","v":2464},2465,2466,2467,2468,2469,2470,2471,2472,2473,2474,2475,2476,2477,2478,2479,2480,2481,2482,2483,2484,2485,2486,2487,2488,2489,2490,2491,2492,2493,2494,2495,2496,2497,2498,2499,2500,2501,2502,2503,2504,2505,2506,2507,2508,2509,2510,2511,2512,2513,2514,2515,2516,2517,2518,2519,2520,2521,2522,2523,2524,2525,2526,2527,{"$f":"SW12+1","v":2528},2529,2530,2531,2532,2533,2534,2535,2536,2537,2538,2539,2540,2541,2542,2543,2544,2545,2546,2547,2548,2549,2550,2551,2552,2553,2554,2555,2556,2557,2558,2559,2560,2561,2562,2563,2564,2565,2566,2567,2568,2569,2570,2571,2572,2573,2574,2575,2576,2577]
[null,"Count of Months",null,{"$f":"COUNTIF(9:9,D12)","v":12},{"$f":"COUNTIF(9:9,E12)","v":12},12,0,0,0,0,0,0,0,0,0,0,0,0,0,0,0,0,0,0,0,0,0,0,0,0,0,0,0,0,0,0,0,0,0,0,0,0,0,0,0,0,0,0,0,0,0,0,0,0,0,0,0,0,0,0,0,0,0,0,0,0,0,{"$f":"COUNTIF(9:9,BP12)","v":0},0,0,0,0,0,0,0,0,0,0,0,0,0,0,0,0,0,0,0,0,0,0,0,0,0,0,0,0,0,0,0,0,0,0,0,0,0,0,0,0,0,0,0,0,0,0,0,0,0,0,0,0,0,0,0,0,0,0,0,0,0,0,0,{"$f":"COUNTIF(9:9,EB12)","v":0},0,0,0,0,0,0,0,0,0,0,0,0,0,0,0,0,0,0,0,0,0,0,0,0,0,0,0,0,0,0,0,0,0,0,0,0,0,0,0,0,0,0,0,0,0,0,0,0,0,0,0,0,0,0,0,0,0,0,0,0,0,0,0,{"$f":"COUNTIF(9:9,GN12)","v":0},0,0,0,0,0,0,0,0,0,0,0,0,0,0,0,0,0,0,0,0,0,0,0,0,0,0,0,0,0,0,0,0,0,0,0,0,0,0,0,0,0,0,0,0,0,0,0,0,0,0,0,0,0,0,0,0,0,0,0,0,0,0,0,{"$f":"COUNTIF(9:9,IZ12)","v":0},0,0,0,0,0,0,0,0,0,0,0,0,0,0,0,0,0,0,0,0,0,0,0,0,0,0,0,0,0,0,0,0,0,0,0,0,0,0,0,0,0,0,0,0,0,0,0,0,0,0,0,0,0,0,0,0,0,0,0,0,0,0,0,{"$f":"COUNTIF(9:9,LL12)","v":0},0,0,0,0,0,0,0,0,0,0,0,0,0,0,0,0,0,0,0,0,0,0,0,0,0,0,0,0,0,0,0,0,0,0,0,0,0,0,0,0,0,0,0,0,0,0,0,0,0,0,0,0,0,0,0,0,0,0,0,0,0,0,0,{"$f":"COUNTIF(9:9,NX12)","v":0},0,0,0,0,0,0,0,0,0,0,0,0,0,0,0,0,0,0,0,0,0,0,0,0,0,0,0,0,0,0,0,0,0,0,0,0,0,0,0,0,0,0,0,0,0,0,0,0,0,0,0,0,0,0,0,0,0,0,0,0,0,0,0,{"$f":"COUNTIF(9:9,QJ12)","v":0},0,0,0,0,0,0,0,0,0,0,0,0,0,0,0,0,0,0,0,0,0,0,0,0,0,0,0,0,0,0,0,0,0,0,0,0,0,0,0,0,0,0,0,0,0,0,0,0,0,0,0,0,0,0,0,0,0,0,0,0,0,0,0,{"$f":"COUNTIF(9:9,SV12)","v":0},0,0,0,0,0,0,0,0,0,0,0,0,0,0,0,0,0,0,0,0,0,0,0,0,0,0,0,0,0,0,0,0,0,0,0,0,0,0,0,0,0,0,0,0,0,0,0,0,0,0,0]
[null,"Sum when 12 Months",null,{"$f":"IF(D13=12,SUMIF(9:9,D12,10:10))","v":73138},{"$f":"IF(E13=12,SUMIF(9:9,E12,10:10))","v":71444},71082,false,false,false,false,false,false,false,false,false,false,false,false,false,false,false,false,false,false,false,false,false,false,false,false,false,false,false,false,false,false,false,false,false,false,false,false,false,false,false,false,false,false,false,false,false,false,false,false,false,false,false,false,false,false,false,false,false,false,false,false,false,{"$f":"IF(BP13=12,SUMIF(9:9,BP12,10:10))","v":false},false,false,false,false,false,false,false,false,false,false,false,false,false,false,false,false,false,false,false,false,false,false,false,false,false,false,false,false,false,false,false,false,false,false,false,false,false,false,false,false,false,false,false,false,false,false,false,false,false,false,false,false,false,false,false,false,false,false,false,false,false,false,false,{"$f":"IF(EB13=12,SUMIF(9:9,EB12,10:10))","v":false},false,false,false,false,false,false,false,false,false,false,false,false,false,false,false,false,false,false,false,false,false,false,false,false,false,false,false,false,false,false,false,false,false,false,false,false,false,false,false,false,false,false,false,false,false,false,false,false,false,false,false,false,false,false,false,false,false,false,false,false,false,false,false,{"$f":"IF(GN13=12,SUMIF(9:9,GN12,10:10))","v":false},false,false,false,false,false,false,false,false,false,false,false,false,false,false,false,false,false,false,false,false,false,false,false,false,false,false,false,false,false,false,false,false,false,false,false,false,false,false,false,false,false,false,false,false,false,false,false,false,false,false,false,false,false,false,false,false,false,false,false,false,false,false,false,{"$f":"IF(IZ13=12,SUMIF(9:9,IZ12,10:10))","v":false},false,false,false,false,false,false,false,false,false,false,false,false,false,false,false,false,false,false,false,false,false,false,false,false,false,false,false,false,false,false,false,false,false,false,false,false,false,false,false,false,false,false,false,false,false,false,false,false,false,false,false,false,false,false,false,false,false,false,false,false,false,false,false,{"$f":"IF(LL13=12,SUMIF(9:9,LL12,10:10))","v":false},false,false,false,false,false,false,false,false,false,false,false,false,false,false,false,false,false,false,false,false,false,false,false,false,false,false,false,false,false,false,false,false,false,false,false,false,false,false,false,false,false,false,false,false,false,false,false,false,false,false,false,false,false,false,false,false,false,false,false,false,false,false,false,{"$f":"IF(NX13=12,SUMIF(9:9,NX12,10:10))","v":false},false,false,false,false,false,false,false,false,false,false,false,false,false,false,false,false,false,false,false,false,false,false,false,false,false,false,false,false,false,false,false,false,false,false,false,false,false,false,false,false,false,false,false,false,false,false,false,false,false,false,false,false,false,false,false,false,false,false,false,false,false,false,false,{"$f":"IF(QJ13=12,SUMIF(9:9,QJ12,10:10))","v":false},false,false,false,false,false,false,false,false,false,false,false,false,false,false,false,false,false,false,false,false,false,false,false,false,false,false,false,false,false,false,false,false,false,false,false,false,false,false,false,false,false,false,false,false,false,false,false,false,false,false,false,false,false,false,false,false,false,false,false,false,false,false,false,{"$f":"IF(SV13=12,SUMIF(9:9,SV12,10:10))","v":false},false,false,false,false,false,false,false,false,false,false,false,false,false,false,false,false,false,false,false,false,false,false,false,false,false,false,false,false,false,false,false,false,false,false,false,false,false,false,false,false,false,false,false,false,false,false,false,false,false,false,false]
[null,"Count  ",null,{"$f":"IF(COUNT(14:14)=0,1,COUNT(14:14))","v":3}]
[null,"Average",null,{"$f":"IFERROR(AVERAGE(14:14),FALSE)","v":71888}]
[null,"Yr Count",null,{"$f":"IF(D14<>FALSE,C17+1,C17)","v":1},{"$f":"IF(E14<>FALSE,D17+1,D17)","v":2},3,3,3,3,3,3,3,3,3,3,3,3,3,3,3,3,3,3,3,3,3,3,3,3,3,3,3,3,3,3,3,3,3,3,3,3,3,3,3,3,3,3,3,3,3,3,3,3,3,3,3,3,3,3,3,3,3,3,3,3,3,3,3,{"$f":"IF(BQ14<>FALSE,BP17+1,BP17)","v":3},3,3,3,3,3,3,3,3,3,3,3,3,3,3,3,3,3,3,3,3,3,3,3,3,3,3,3,3,3,3,3,3,3,3,3,3,3,3,3,3,3,3,3,3,3,3,3,3,3,3,3,3,3,3,3,3,3,3,3,3,3,3,3,{"$f":"IF(EC14<>FALSE,EB17+1,EB17)","v":3},3,3,3,3,3,3,3,3,3,3,3,3,3,3,3,3,3,3,3,3,3,3,3,3,3,3,3,3,3,3,3,3,3,3,3,3,3,3,3,3,3,3,3,3,3,3,3,3,3,3,3,3,3,3,3,3,3,3,3,3,3,3,3,{"$f":"IF(GO14<>FALSE,GN17+1,GN17)","v":3},3,3,3,3,3,3,3,3,3,3,3,3,3,3,3,3,3,3,3,3,3,3,3,3,3,3,3,3,3,3,3,3,3,3,3,3,3,3,3,3,3,3,3,3,3,3,3,3,3,3,3,3,3,3,3,3,3,3,3,3,3,3,3,{"$f":"IF(JA14<>FALSE,IZ17+1,IZ17)","v":3},3,3,3,3,3,3,3,3,3,3,3,3,3,3,3,3,3,3,3,3,3,3,3,3,3,3,3,3,3,3,3,3,3,3,3,3,3,3,3,3,3,3,3,3,3,3,3,3,3,3,3,3,3,3,3,3,3,3,3,3,3,3,3,{"$f":"IF(LM14<>FALSE,LL17+1,LL17)","v":3},3,3,3,3,3,3,3,3,3,3,3,3,3,3,3,3,3,3,3,3,3,3,3,3,3,3,3,3,3,3,3,3,3,3,3,3,3,3,3,3,3,3,3,3,3,3,3,3,3,3,3,3,3,3,3,3,3,3,3,3,3,3,3,{"$f":"IF(NY14<>FALSE,NX17+1,NX17)","v":3},3,3,3,3,3,3,3,3,3,3,3,3,3,3,3,3,3,3,3,3,3,3,3,3,3,3,3,3,3,3,3,3,3,3,3,3,3,3,3,3,3,3,3,3,3,3,3,3,3,3,3,3,3,3,3,3,3,3,3,3,3,3,3,{"$f":"IF(QK14<>FALSE,QJ17+1,QJ17)","v":3},3,3,3,3,3,3,3,3,3,3,3,3,3,3,3,3,3,3,3,3,3,3,3,3,3,3,3,3,3,3,3,3,3,3,3,3,3,3,3,3,3,3,3,3,3,3,3,3,3,3,3,3,3,3,3,3,3,3,3,3,3,3,3,{"$f":"IF(SW14<>FALSE,SV17+1,SV17)","v":3},3,3,3,3,3,3,3,3,3,3,3,3,3,3,3,3,3,3,3,3,3,3,3,3,3,3,3,3,3,3,3,3,3,3,3,3,3,3,3,3,3,3,3,3,3,3,3,3,3,3]
[null,"Col of Min",null,{"$f":"MATCH(MIN(17:17),17:17,0)","v":4}]
[null,"Col of Max",null,{"$f":"MATCH(MAX(17:17),17:17,0)","v":6}]
[]
[null,"Counter",null,1,{"$f":"IF(D21+1<=$D$15,D21+1,NA())","v":2},{"$f":"IF(E21+1<=$D$15,E21+1,NA())","v":3},{"$error":"#N/A"},{"$error":"#N/A"},{"$error":"#N/A"},{"$error":"#N/A"},{"$error":"#N/A"},{"$error":"#N/A"},{"$error":"#N/A"},{"$error":"#N/A"},{"$error":"#N/A"},{"$error":"#N/A"},{"$error":"#N/A"},{"$error":"#N/A"},{"$error":"#N/A"},{"$error":"#N/A"},{"$error":"#N/A"},{"$error":"#N/A"},{"$error":"#N/A"},{"$error":"#N/A"},{"$error":"#N/A"},{"$error":"#N/A"},{"$error":"#N/A"},{"$error":"#N/A"},{"$error":"#N/A"},{"$error":"#N/A"},{"$error":"#N/A"},{"$error":"#N/A"},{"$error":"#N/A"},{"$error":"#N/A"},{"$error":"#N/A"},{"$error":"#N/A"},{"$error":"#N/A"},{"$error":"#N/A"},{"$error":"#N/A"},{"$error":"#N/A"},{"$error":"#N/A"},{"$error":"#N/A"},{"$error":"#N/A"},{"$error":"#N/A"},{"$error":"#N/A"},{"$error":"#N/A"},{"$error":"#N/A"},{"$error":"#N/A"},{"$error":"#N/A"},{"$error":"#N/A"},{"$error":"#N/A"},{"$error":"#N/A"},{"$error":"#N/A"},{"$error":"#N/A"},{"$error":"#N/A"},{"$error":"#N/A"},{"$error":"#N/A"},{"$error":"#N/A"},{"$error":"#N/A"},{"$error":"#N/A"},{"$error":"#N/A"},{"$error":"#N/A"},{"$error":"#N/A"},{"$error":"#N/A"},{"$error":"#N/A"},{"$error":"#N/A"},{"$error":"#N/A"},{"$error":"#N/A"},{"$error":"#N/A"},{"$f":"IF(BQ21+1<=$D$15,BQ21+1,NA())","v":{"$error":"#N/A"}},{"$error":"#N/A"},{"$error":"#N/A"},{"$error":"#N/A"},{"$error":"#N/A"},{"$error":"#N/A"},{"$error":"#N/A"},{"$error":"#N/A"},{"$error":"#N/A"},{"$error":"#N/A"},{"$error":"#N/A"},{"$error":"#N/A"},{"$error":"#N/A"},{"$error":"#N/A"},{"$error":"#N/A"},{"$error":"#N/A"},{"$error":"#N/A"},{"$error":"#N/A"},{"$error":"#N/A"},{"$error":"#N/A"},{"$error":"#N/A"},{"$error":"#N/A"},{"$error":"#N/A"},{"$error":"#N/A"},{"$error":"#N/A"},{"$error":"#N/A"},{"$error":"#N/A"},{"$error":"#N/A"},{"$error":"#N/A"},{"$error":"#N/A"},{"$error":"#N/A"},{"$error":"#N/A"},{"$error":"#N/A"},{"$error":"#N/A"},{"$error":"#N/A"},{"$error":"#N/A"},{"$error":"#N/A"},{"$error":"#N/A"},{"$error":"#N/A"},{"$error":"#N/A"},{"$error":"#N/A"},{"$error":"#N/A"},{"$error":"#N/A"},{"$error":"#N/A"},{"$error":"#N/A"},{"$error":"#N/A"},{"$error":"#N/A"},{"$error":"#N/A"},{"$error":"#N/A"},{"$error":"#N/A"},{"$error":"#N/A"},{"$error":"#N/A"},{"$error":"#N/A"},{"$error":"#N/A"},{"$error":"#N/A"},{"$error":"#N/A"},{"$error":"#N/A"},{"$error":"#N/A"},{"$error":"#N/A"},{"$error":"#N/A"},{"$error":"#N/A"},{"$error":"#N/A"},{"$error":"#N/A"},{"$error":"#N/A"},{"$f":"IF(EC21+1<=$D$15,EC21+1,NA())","v":{"$error":"#N/A"}},{"$error":"#N/A"},{"$error":"#N/A"},{"$error":"#N/A"},{"$error":"#N/A"},{"$error":"#N/A"},{"$error":"#N/A"},{"$error":"#N/A"},{"$error":"#N/A"},{"$error":"#N/A"},{"$error":"#N/A"},{"$error":"#N/A"},{"$error":"#N/A"},{"$error":"#N/A"},{"$error":"#N/A"},{"$error":"#N/A"},{"$error":"#N/A"},{"$error":"#N/A"},{"$error":"#N/A"},{"$error":"#N/A"},{"$error":"#N/A"},{"$error":"#N/A"},{"$error":"#N/A"},{"$error":"#N/A"},{"$error":"#N/A"},{"$error":"#N/A"},{"$error":"#N/A"},{"$error":"#N/A"},{"$error":"#N/A"},{"$error":"#N/A"},{"$error":"#N/A"},{"$error":"#N/A"},{"$error":"#N/A"},{"$error":"#N/A"},{"$error":"#N/A"},{"$error":"#N/A"},{"$error":"#N/A"},{"$error":"#N/A"},{"$error":"#N/A"},{"$error":"#N/A"},{"$error":"#N/A"},{"$error":"#N/A"},{"$error":"#N/A"},{"$error":"#N/A"},{"$error":"#N/A"},{"$error":"#N/A"},{"$error":"#N/A"},{"$error":"#N/A"},{"$error":"#N/A"},{"$error":"#N/A"},{"$error":"#N/A"},{"$error":"#N/A"},{"$error":"#N/A"},{"$error":"#N/A"},{"$error":"#N/A"},{"$error":"#N/A"},{"$error":"#N/A"},{"$error":"#N/A"},{"$error":"#N/A"},{"$error":"#N/A"},{"$error":"#N/A"},{"$error":"#N/A"},{"$error":"#N/A"},{"$error":"#N/A"},{"$f":"IF(GO21+1<=$D$15,GO21+1,NA())","v":{"$error":"#N/A"}},{"$error":"#N/A"},{"$error":"#N/A"},{"$error":"#N/A"},{"$error":"#N/A"},{"$error":"#N/A"},{"$error":"#N/A"},{"$error":"#N/A"},{"$error":"#N/A"},{"$error":"#N/A"},{"$error":"#N/A"},{"$error":"#N/A"},{"$error":"#N/A"},{"$error":"#N/A"},{"$error":"#N/A"},{"$error":"#N/A"},{"$error":"#N/A"},{"$error":"#N/A"},{"$error":"#N/A"},{"$error":"#N/A"},{"$error":"#N/A"},{"$error":"#N/A"},{"$error":"#N/A"},{"$error":"#N/A"},{"$error":"#N/A"},{"$error":"#N/A"},{"$error":"#N/A"},{"$error":"#N/A"},{"$error":"#N/A"},{"$error":"#N/A"},{"$error":"#N/A"},{"$error":"#N/A"},{"$error":"#N/A"},{"$error":"#N/A"},{"$error":"#N/A"},{"$error":"#N/A"},{"$error":"#N/A"},{"$error":"#N/A"},{"$error":"#N/A"},{"$error":"#N/A"},{"$error":"#N/A"},{"$error":"#N/A"},{"$error":"#N/A"},{"$error":"#N/A"},{"$error":"#N/A"},{"$error":"#N/A"},{"$error":"#N/A"},{"$error":"#N/A"},{"$error":"#N/A"},{"$error":"#N/A"},{"$error":"#N/A"},{"$error":"#N/A"},{"$error":"#N/A"},{"$error":"#N/A"},{"$error":"#N/A"},{"$error":"#N/A"},{"$error":"#N/A"},{"$error":"#N/A"},{"$error":"#N/A"},{"$error":"#N/A"},{"$error":"#N/A"},{"$error":"#N/A"},{"$error":"#N/A"},{"$error":"#N/A"},{"$f":"IF(JA21+1<=$D$15,JA21+1,NA())","v":{"$error":"#N/A"}},{"$error":"#N/A"},{"$error":"#N/A"},{"$error":"#N/A"},{"$error":"#N/A"},{"$error":"#N/A"},{"$error":"#N/A"},{"$error":"#N/A"},{"$error":"#N/A"},{"$error":"#N/A"},{"$error":"#N/A"},{"$error":"#N/A"},{"$error":"#N/A"},{"$error":"#N/A"},{"$error":"#N/A"},{"$error":"#N/A"},{"$error":"#N/A"},{"$error":"#N/A"},{"$error":"#N/A"},{"$error":"#N/A"},{"$error":"#N/A"},{"$error":"#N/A"},{"$error":"#N/A"},{"$error":"#N/A"},{"$error":"#N/A"},{"$error":"#N/A"},{"$error":"#N/A"},{"$error":"#N/A"},{"$error":"#N/A"},{"$error":"#N/A"},{"$error":"#N/A"},{"$error":"#N/A"},{"$error":"#N/A"},{"$error":"#N/A"},{"$error":"#N/A"},{"$error":"#N/A"},{"$error":"#N/A"},{"$error":"#N/A"},{"$error":"#N/A"},{"$error":"#N/A"},{"$error":"#N/A"},{"$error":"#N/A"},{"$error":"#N/A"},{"$error":"#N/A"},{"$error":"#N/A"},{"$error":"#N/A"},{"$error":"#N/A"},{"$error":"#N/A"},{"$error":"#N/A"},{"$error":"#N/A"},{"$error":"#N/A"},{"$error":"#N/A"},{"$error":"#N/A"},{"$error":"#N/A"},{"$error":"#N/A"},{"$error":"#N/A"},{"$error":"#N/A"},{"$error":"#N/A"},{"$error":"#N/A"},{"$error":"#N/A"},{"$error":"#N/A"},{"$error":"#N/A"},{"$error":"#N/A"},{"$error":"#N/A"},{"$f":"IF(LM21+1<=$D$15,LM21+1,NA())","v":{"$error":"#N/A"}},{"$error":"#N/A"},{"$error":"#N/A"},{"$error":"#N/A"},{"$error":"#N/A"},{"$error":"#N/A"},{"$error":"#N/A"},{"$error":"#N/A"},{"$error":"#N/A"},{"$error":"#N/A"},{"$error":"#N/A"},{"$error":"#N/A"},{"$error":"#N/A"},{"$error":"#N/A"},{"$error":"#N/A"},{"$error":"#N/A"},{"$error":"#N/A"},{"$error":"#N/A"},{"$error":"#N/A"},{"$error":"#N/A"},{"$error":"#N/A"},{"$error":"#N/A"},{"$error":"#N/A"},{"$error":"#N/A"},{"$error":"#N/A"},{"$error":"#N/A"},{"$error":"#N/A"},{"$error":"#N/A"},{"$error":"#N/A"},{"$error":"#N/A"},{"$error":"#N/A"},{"$error":"#N/A"},{"$error":"#N/A"},{"$error":"#N/A"},{"$error":"#N/A"},{"$error":"#N/A"},{"$error":"#N/A"},{"$error":"#N/A"},{"$error":"#N/A"},{"$error":"#N/A"},{"$error":"#N/A"},{"$error":"#N/A"},{"$error":"#N/A"},{"$error":"#N/A"},{"$error":"#N/A"},{"$error":"#N/A"},{"$error":"#N/A"},{"$error":"#N/A"},{"$error":"#N/A"},{"$error":"#N/A"},{"$error":"#N/A"},{"$error":"#N/A"},{"$error":"#N/A"},{"$error":"#N/A"},{"$error":"#N/A"},{"$error":"#N/A"},{"$error":"#N/A"},{"$error":"#N/A"},{"$error":"#N/A"},{"$error":"#N/A"},{"$error":"#N/A"},{"$error":"#N/A"},{"$error":"#N/A"},{"$error":"#N/A"},{"$f":"IF(NY21+1<=$D$15,NY21+1,NA())","v":{"$error":"#N/A"}},{"$error":"#N/A"},{"$error":"#N/A"},{"$error":"#N/A"},{"$error":"#N/A"},{"$error":"#N/A"},{"$error":"#N/A"},{"$error":"#N/A"},{"$error":"#N/A"},{"$error":"#N/A"},{"$error":"#N/A"},{"$error":"#N/A"},{"$error":"#N/A"},{"$error":"#N/A"},{"$error":"#N/A"},{"$error":"#N/A"},{"$error":"#N/A"},{"$error":"#N/A"},{"$error":"#N/A"},{"$error":"#N/A"},{"$error":"#N/A"},{"$error":"#N/A"},{"$error":"#N/A"},{"$error":"#N/A"},{"$error":"#N/A"},{"$error":"#N/A"},{"$error":"#N/A"},{"$error":"#N/A"},{"$error":"#N/A"},{"$error":"#N/A"},{"$error":"#N/A"},{"$error":"#N/A"},{"$error":"#N/A"},{"$error":"#N/A"},{"$error":"#N/A"},{"$error":"#N/A"},{"$error":"#N/A"},{"$error":"#N/A"},{"$error":"#N/A"},{"$error":"#N/A"},{"$error":"#N/A"},{"$error":"#N/A"},{"$error":"#N/A"},{"$error":"#N/A"},{"$error":"#N/A"},{"$error":"#N/A"},{"$error":"#N/A"},{"$error":"#N/A"},{"$error":"#N/A"},{"$error":"#N/A"},{"$error":"#N/A"},{"$error":"#N/A"},{"$error":"#N/A"},{"$error":"#N/A"},{"$error":"#N/A"},{"$error":"#N/A"},{"$error":"#N/A"},{"$error":"#N/A"},{"$error":"#N/A"},{"$error":"#N/A"},{"$error":"#N/A"},{"$error":"#N/A"},{"$error":"#N/A"},{"$error":"#N/A"},{"$f":"IF(QK21+1<=$D$15,QK21+1,NA())","v":{"$error":"#N/A"}},{"$error":"#N/A"},{"$error":"#N/A"},{"$error":"#N/A"},{"$error":"#N/A"},{"$error":"#N/A"},{"$error":"#N/A"},{"$error":"#N/A"},{"$error":"#N/A"},{"$error":"#N/A"},{"$error":"#N/A"},{"$error":"#N/A"},{"$error":"#N/A"},{"$error":"#N/A"},{"$error":"#N/A"},{"$error":"#N/A"},{"$error":"#N/A"},{"$error":"#N/A"},{"$error":"#N/A"},{"$error":"#N/A"},{"$error":"#N/A"},{"$error":"#N/A"},{"$error":"#N/A"},{"$error":"#N/A"},{"$error":"#N/A"},{"$error":"#N/A"},{"$error":"#N/A"},{"$error":"#N/A"},{"$error":"#N/A"},{"$error":"#N/A"},{"$error":"#N/A"},{"$error":"#N/A"},{"$error":"#N/A"},{"$error":"#N/A"},{"$error":"#N/A"},{"$error":"#N/A"},{"$error":"#N/A"},{"$error":"#N/A"},{"$error":"#N/A"},{"$error":"#N/A"},{"$error":"#N/A"},{"$error":"#N/A"},{"$error":"#N/A"},{"$error":"#N/A"},{"$error":"#N/A"},{"$error":"#N/A"},{"$error":"#N/A"},{"$error":"#N/A"},{"$error":"#N/A"},{"$error":"#N/A"},{"$error":"#N/A"},{"$error":"#N/A"},{"$error":"#N/A"},{"$error":"#N/A"},{"$error":"#N/A"},{"$error":"#N/A"},{"$error":"#N/A"},{"$error":"#N/A"},{"$error":"#N/A"},{"$error":"#N/A"},{"$error":"#N/A"},{"$error":"#N/A"},{"$error":"#N/A"},{"$error":"#N/A"},{"$f":"IF(SW21+1<=$D$15,SW21+1,NA())","v":{"$error":"#N/A"}},{"$error":"#N/A"},{"$error":"#N/A"},{"$error":"#N/A"},{"$error":"#N/A"},{"$error":"#N/A"},{"$error":"#N/A"},{"$error":"#N/A"},{"$error":"#N/A"},{"$error":"#N/A"},{"$error":"#N/A"},{"$error":"#N/A"},{"$error":"#N/A"},{"$error":"#N/A"},{"$error":"#N/A"},{"$error":"#N/A"},{"$error":"#N/A"},{"$error":"#N/A"},{"$error":"#N/A"},{"$error":"#N/A"},{"$error":"#N/A"},{"$error":"#N/A"},{"$error":"#N/A"},{"$error":"#N/A"},{"$error":"#N/A"},{"$error":"#N/A"},{"$error":"#N/A"},{"$error":"#N/A"},{"$error":"#N/A"},{"$error":"#N/A"},{"$error":"#N/A"},{"$error":"#N/A"},{"$error":"#N/A"},{"$error":"#N/A"},{"$error":"#N/A"},{"$error":"#N/A"},{"$error":"#N/A"},{"$error":"#N/A"},{"$error":"#N/A"},{"$error":"#N/A"},{"$error":"#N/A"},{"$error":"#N/A"},{"$error":"#N/A"},{"$error":"#N/A"},{"$error":"#N/A"},{"$error":"#N/A"},{"$error":"#N/A"},{"$error":"#N/A"},{"$error":"#N/A"},{"$error":"#N/A"}]
[null,"Column Number",null,{"$f":"MATCH(D21,17:17,0)","v":4},{"$f":"MATCH(E21,17:17,0)","v":5},6,{"$error":"#N/A"},{"$error":"#N/A"},{"$error":"#N/A"},{"$error":"#N/A"},{"$error":"#N/A"},{"$error":"#N/A"},{"$error":"#N/A"},{"$error":"#N/A"},{"$error":"#N/A"},{"$error":"#N/A"},{"$error":"#N/A"},{"$error":"#N/A"},{"$error":"#N/A"},{"$error":"#N/A"},{"$error":"#N/A"},{"$error":"#N/A"},{"$error":"#N/A"},{"$error":"#N/A"},{"$error":"#N/A"},{"$error":"#N/A"},{"$error":"#N/A"},{"$error":"#N/A"},{"$error":"#N/A"},{"$error":"#N/A"},{"$error":"#N/A"},{"$error":"#N/A"},{"$error":"#N/A"},{"$error":"#N/A"},{"$error":"#N/A"},{"$error":"#N/A"},{"$error":"#N/A"},{"$error":"#N/A"},{"$error":"#N/A"},{"$error":"#N/A"},{"$error":"#N/A"},{"$error":"#N/A"},{"$error":"#N/A"},{"$error":"#N/A"},{"$error":"#N/A"},{"$error":"#N/A"},{"$error":"#N/A"},{"$error":"#N/A"},{"$error":"#N/A"},{"$error":"#N/A"},{"$error":"#N/A"},{"$error":"#N/A"},{"$error":"#N/A"},{"$error":"#N/A"},{"$error":"#N/A"},{"$error":"#N/A"},{"$error":"#N/A"},{"$error":"#N/A"},{"$error":"#N/A"},{"$error":"#N/A"},{"$error":"#N/A"},{"$error":"#N/A"},{"$error":"#N/A"},{"$error":"#N/A"},{"$error":"#N/A"},{"$error":"#N/A"},{"$error":"#N/A"},{"$error":"#N/A"},{"$f":"MATCH(BQ21,17:17,0)","v":{"$error":"#N/A"}},{"$error":"#N/A"},{"$error":"#N/A"},{"$error":"#N/A"},{"$error":"#N/A"},{"$error":"#N/A"},{"$error":"#N/A"},{"$error":"#N/A"},{"$error":"#N/A"},{"$error":"#N/A"},{"$error":"#N/A"},{"$error":"#N/A"},{"$error":"#N/A"},{"$error":"#N/A"},{"$error":"#N/A"},{"$error":"#N/A"},{"$error":"#N/A"},{"$error":"#N/A"},{"$error":"#N/A"},{"$error":"#N/A"},{"$error":"#N/A"},{"$error":"#N/A"},{"$error":"#N/A"},{"$error":"#N/A"},{"$error":"#N/A"},{"$error":"#N/A"},{"$error":"#N/A"},{"$error":"#N/A"},{"$error":"#N/A"},{"$error":"#N/A"},{"$error":"#N/A"},{"$error":"#N/A"},{"$error":"#N/A"},{"$error":"#N/A"},{"$error":"#N/A"},{"$error":"#N/A"},{"$error":"#N/A"},{"$error":"#N/A"},{"$error":"#N/A"},{"$error":"#N/A"},{"$error":"#N/A"},{"$error":"#N/A"},{"$error":"#N/A"},{"$error":"#N/A"},{"$error":"#N/A"},{"$error":"#N/A"},{"$error":"#N/A"},{"$error":"#N/A"},{"$error":"#N/A"},{"$error":"#N/A"},{"$error":"#N/A"},{"$error":"#N/A"},{"$error":"#N/A"},{"$error":"#N/A"},{"$error":"#N/A"},{"$error":"#N/A"},{"$error":"#N/A"},{"$error":"#N/A"},{"$error":"#N/A"},{"$error":"#N/A"},{"$error":"#N/A"},{"$error":"#N/A"},{"$error":"#N/A"},{"$error":"#N/A"},{"$f":"MATCH(EC21,17:17,0)","v":{"$error":"#N/A"}},{"$error":"#N/A"},{"$error":"#N/A"},{"$error":"#N/A"},{"$error":"#N/A"},{"$error":"#N/A"},{"$error":"#N/A"},{"$error":"#N/A"},{"$error":"#N/A"},{"$error":"#N/A"},{"$error":"#N/A"},{"$error":"#N/A"},{"$error":"#N/A"},{"$error":"#N/A"},{"$error":"#N/A"},{"$error":"#N/A"},{"$error":"#N/A"},{"$error":"#N/A"},{"$error":"#N/A"},{"$error":"#N/A"},{"$error":"#N/A"},{"$error":"#N/A"},{"$error":"#N/A"},{"$error":"#N/A"},{"$error":"#N/A"},{"$error":"#N/A"},{"$error":"#N/A"},{"$error":"#N/A"},{"$error":"#N/A"},{"$error":"#N/A"},{"$error":"#N/A"},{"$error":"#N/A"},{"$error":"#N/A"},{"$error":"#N/A"},{"$error":"#N/A"},{"$error":"#N/A"},{"$error":"#N/A"},{"$error":"#N/A"},{"$error":"#N/A"},{"$error":"#N/A"},{"$error":"#N/A"},{"$error":"#N/A"},{"$error":"#N/A"},{"$error":"#N/A"},{"$error":"#N/A"},{"$error":"#N/A"},{"$error":"#N/A"},{"$error":"#N/A"},{"$error":"#N/A"},{"$error":"#N/A"},{"$error":"#N/A"},{"$error":"#N/A"},{"$error":"#N/A"},{"$error":"#N/A"},{"$error":"#N/A"},{"$error":"#N/A"},{"$error":"#N/A"},{"$error":"#N/A"},{"$error":"#N/A"},{"$error":"#N/A"},{"$error":"#N/A"},{"$error":"#N/A"},{"$error":"#N/A"},{"$error":"#N/A"},{"$f":"MATCH(GO21,17:17,0)","v":{"$error":"#N/A"}},{"$error":"#N/A"},{"$error":"#N/A"},{"$error":"#N/A"},{"$error":"#N/A"},{"$error":"#N/A"},{"$error":"#N/A"},{"$error":"#N/A"},{"$error":"#N/A"},{"$error":"#N/A"},{"$error":"#N/A"},{"$error":"#N/A"},{"$error":"#N/A"},{"$error":"#N/A"},{"$error":"#N/A"},{"$error":"#N/A"},{"$error":"#N/A"},{"$error":"#N/A"},{"$error":"#N/A"},{"$error":"#N/A"},{"$error":"#N/A"},{"$error":"#N/A"},{"$error":"#N/A"},{"$error":"#N/A"},{"$error":"#N/A"},{"$error":"#N/A"},{"$error":"#N/A"},{"$error":"#N/A"},{"$error":"#N/A"},{"$error":"#N/A"},{"$error":"#N/A"},{"$error":"#N/A"},{"$error":"#N/A"},{"$error":"#N/A"},{"$error":"#N/A"},{"$error":"#N/A"},{"$error":"#N/A"},{"$error":"#N/A"},{"$error":"#N/A"},{"$error":"#N/A"},{"$error":"#N/A"},{"$error":"#N/A"},{"$error":"#N/A"},{"$error":"#N/A"},{"$error":"#N/A"},{"$error":"#N/A"},{"$error":"#N/A"},{"$error":"#N/A"},{"$error":"#N/A"},{"$error":"#N/A"},{"$error":"#N/A"},{"$error":"#N/A"},{"$error":"#N/A"},{"$error":"#N/A"},{"$error":"#N/A"},{"$error":"#N/A"},{"$error":"#N/A"},{"$error":"#N/A"},{"$error":"#N/A"},{"$error":"#N/A"},{"$error":"#N/A"},{"$error":"#N/A"},{"$error":"#N/A"},{"$error":"#N/A"},{"$f":"MATCH(JA21,17:17,0)","v":{"$error":"#N/A"}},{"$error":"#N/A"},{"$error":"#N/A"},{"$error":"#N/A"},{"$error":"#N/A"},{"$error":"#N/A"},{"$error":"#N/A"},{"$error":"#N/A"},{"$error":"#N/A"},{"$error":"#N/A"},{"$error":"#N/A"},{"$error":"#N/A"},{"$error":"#N/A"},{"$error":"#N/A"},{"$error":"#N/A"},{"$error":"#N/A"},{"$error":"#N/A"},{"$error":"#N/A"},{"$error":"#N/A"},{"$error":"#N/A"},{"$error":"#N/A"},{"$error":"#N/A"},{"$error":"#N/A"},{"$error":"#N/A"},{"$error":"#N/A"},{"$error":"#N/A"},{"$error":"#N/A"},{"$error":"#N/A"},{"$error":"#N/A"},{"$error":"#N/A"},{"$error":"#N/A"},{"$error":"#N/A"},{"$error":"#N/A"},{"$error":"#N/A"},{"$error":"#N/A"},{"$error":"#N/A"},{"$error":"#N/A"},{"$error":"#N/A"},{"$error":"#N/A"},{"$error":"#N/A"},{"$error":"#N/A"},{"$error":"#N/A"},{"$error":"#N/A"},{"$error":"#N/A"},{"$error":"#N/A"},{"$error":"#N/A"},{"$error":"#N/A"},{"$error":"#N/A"},{"$error":"#N/A"},{"$error":"#N/A"},{"$error":"#N/A"},{"$error":"#N/A"},{"$error":"#N/A"},{"$error":"#N/A"},{"$error":"#N/A"},{"$error":"#N/A"},{"$error":"#N/A"},{"$error":"#N/A"},{"$error":"#N/A"},{"$error":"#N/A"},{"$error":"#N/A"},{"$error":"#N/A"},{"$error":"#N/A"},{"$error":"#N/A"},{"$f":"MATCH(LM21,17:17,0)","v":{"$error":"#N/A"}},{"$error":"#N/A"},{"$error":"#N/A"},{"$error":"#N/A"},{"$error":"#N/A"},{"$error":"#N/A"},{"$error":"#N/A"},{"$error":"#N/A"},{"$error":"#N/A"},{"$error":"#N/A"},{"$error":"#N/A"},{"$error":"#N/A"},{"$error":"#N/A"},{"$error":"#N/A"},{"$error":"#N/A"},{"$error":"#N/A"},{"$error":"#N/A"},{"$error":"#N/A"},{"$error":"#N/A"},{"$error":"#N/A"},{"$error":"#N/A"},{"$error":"#N/A"},{"$error":"#N/A"},{"$error":"#N/A"},{"$error":"#N/A"},{"$error":"#N/A"},{"$error":"#N/A"},{"$error":"#N/A"},{"$error":"#N/A"},{"$error":"#N/A"},{"$error":"#N/A"},{"$error":"#N/A"},{"$error":"#N/A"},{"$error":"#N/A"},{"$error":"#N/A"},{"$error":"#N/A"},{"$error":"#N/A"},{"$error":"#N/A"},{"$error":"#N/A"},{"$error":"#N/A"},{"$error":"#N/A"},{"$error":"#N/A"},{"$error":"#N/A"},{"$error":"#N/A"},{"$error":"#N/A"},{"$error":"#N/A"},{"$error":"#N/A"},{"$error":"#N/A"},{"$error":"#N/A"},{"$error":"#N/A"},{"$error":"#N/A"},{"$error":"#N/A"},{"$error":"#N/A"},{"$error":"#N/A"},{"$error":"#N/A"},{"$error":"#N/A"},{"$error":"#N/A"},{"$error":"#N/A"},{"$error":"#N/A"},{"$error":"#N/A"},{"$error":"#N/A"},{"$error":"#N/A"},{"$error":"#N/A"},{"$error":"#N/A"},{"$f":"MATCH(NY21,17:17,0)","v":{"$error":"#N/A"}},{"$error":"#N/A"},{"$error":"#N/A"},{"$error":"#N/A"},{"$error":"#N/A"},{"$error":"#N/A"},{"$error":"#N/A"},{"$error":"#N/A"},{"$error":"#N/A"},{"$error":"#N/A"},{"$error":"#N/A"},{"$error":"#N/A"},{"$error":"#N/A"},{"$error":"#N/A"},{"$error":"#N/A"},{"$error":"#N/A"},{"$error":"#N/A"},{"$error":"#N/A"},{"$error":"#N/A"},{"$error":"#N/A"},{"$error":"#N/A"},{"$error":"#N/A"},{"$error":"#N/A"},{"$error":"#N/A"},{"$error":"#N/A"},{"$error":"#N/A"},{"$error":"#N/A"},{"$error":"#N/A"},{"$error":"#N/A"},{"$error":"#N/A"},{"$error":"#N/A"},{"$error":"#N/A"},{"$error":"#N/A"},{"$error":"#N/A"},{"$error":"#N/A"},{"$error":"#N/A"},{"$error":"#N/A"},{"$error":"#N/A"},{"$error":"#N/A"},{"$error":"#N/A"},{"$error":"#N/A"},{"$error":"#N/A"},{"$error":"#N/A"},{"$error":"#N/A"},{"$error":"#N/A"},{"$error":"#N/A"},{"$error":"#N/A"},{"$error":"#N/A"},{"$error":"#N/A"},{"$error":"#N/A"},{"$error":"#N/A"},{"$error":"#N/A"},{"$error":"#N/A"},{"$error":"#N/A"},{"$error":"#N/A"},{"$error":"#N/A"},{"$error":"#N/A"},{"$error":"#N/A"},{"$error":"#N/A"},{"$error":"#N/A"},{"$error":"#N/A"},{"$error":"#N/A"},{"$error":"#N/A"},{"$error":"#N/A"},{"$f":"MATCH(QK21,17:17,0)","v":{"$error":"#N/A"}},{"$error":"#N/A"},{"$error":"#N/A"},{"$error":"#N/A"},{"$error":"#N/A"},{"$error":"#N/A"},{"$error":"#N/A"},{"$error":"#N/A"},{"$error":"#N/A"},{"$error":"#N/A"},{"$error":"#N/A"},{"$error":"#N/A"},{"$error":"#N/A"},{"$error":"#N/A"},{"$error":"#N/A"},{"$error":"#N/A"},{"$error":"#N/A"},{"$error":"#N/A"},{"$error":"#N/A"},{"$error":"#N/A"},{"$error":"#N/A"},{"$error":"#N/A"},{"$error":"#N/A"},{"$error":"#N/A"},{"$error":"#N/A"},{"$error":"#N/A"},{"$error":"#N/A"},{"$error":"#N/A"},{"$error":"#N/A"},{"$error":"#N/A"},{"$error":"#N/A"},{"$error":"#N/A"},{"$error":"#N/A"},{"$error":"#N/A"},{"$error":"#N/A"},{"$error":"#N/A"},{"$error":"#N/A"},{"$error":"#N/A"},{"$error":"#N/A"},{"$error":"#N/A"},{"$error":"#N/A"},{"$error":"#N/A"},{"$error":"#N/A"},{"$error":"#N/A"},{"$error":"#N/A"},{"$error":"#N/A"},{"$error":"#N/A"},{"$error":"#N/A"},{"$error":"#N/A"},{"$error":"#N/A"},{"$error":"#N/A"},{"$error":"#N/A"},{"$error":"#N/A"},{"$error":"#N/A"},{"$error":"#N/A"},{"$error":"#N/A"},{"$error":"#N/A"},{"$error":"#N/A"},{"$error":"#N/A"},{"$error":"#N/A"},{"$error":"#N/A"},{"$error":"#N/A"},{"$error":"#N/A"},{"$error":"#N/A"},{"$f":"MATCH(SW21,17:17,0)","v":{"$error":"#N/A"}},{"$error":"#N/A"},{"$error":"#N/A"},{"$error":"#N/A"},{"$error":"#N/A"},{"$error":"#N/A"},{"$error":"#N/A"},{"$error":"#N/A"},{"$error":"#N/A"},{"$error":"#N/A"},{"$error":"#N/A"},{"$error":"#N/A"},{"$error":"#N/A"},{"$error":"#N/A"},{"$error":"#N/A"},{"$error":"#N/A"},{"$error":"#N/A"},{"$error":"#N/A"},{"$error":"#N/A"},{"$error":"#N/A"},{"$error":"#N/A"},{"$error":"#N/A"},{"$error":"#N/A"},{"$error":"#N/A"},{"$error":"#N/A"},{"$error":"#N/A"},{"$error":"#N/A"},{"$error":"#N/A"},{"$error":"#N/A"},{"$error":"#N/A"},{"$error":"#N/A"},{"$error":"#N/A"},{"$error":"#N/A"},{"$error":"#N/A"},{"$error":"#N/A"},{"$error":"#N/A"},{"$error":"#N/A"},{"$error":"#N/A"},{"$error":"#N/A"},{"$error":"#N/A"},{"$error":"#N/A"},{"$error":"#N/A"},{"$error":"#N/A"},{"$error":"#N/A"},{"$error":"#N/A"},{"$error":"#N/A"},{"$error":"#N/A"},{"$error":"#N/A"},{"$error":"#N/A"},{"$error":"#N/A"},{"$error":"#N/A"}]
[null,null,null,{"$f":"IFERROR(INDEX(12:12,D22),D12)","v":2014},{"$f":"INDEX(12:12,E22)","v":2015},2016,{"$error":"#N/A"},{"$error":"#N/A"},{"$error":"#N/A"},{"$error":"#N/A"},{"$error":"#N/A"},{"$error":"#N/A"},{"$error":"#N/A"},{"$error":"#N/A"},{"$error":"#N/A"},{"$error":"#N/A"},{"$error":"#N/A"},{"$error":"#N/A"},{"$error":"#N/A"},{"$error":"#N/A"},{"$error":"#N/A"},{"$error":"#N/A"},{"$error":"#N/A"},{"$error":"#N/A"},{"$error":"#N/A"},{"$error":"#N/A"},{"$error":"#N/A"},{"$error":"#N/A"},{"$error":"#N/A"},{"$error":"#N/A"},{"$error":"#N/A"},{"$error":"#N/A"},{"$error":"#N/A"},{"$error":"#N/A"},{"$error":"#N/A"},{"$error":"#N/A"},{"$error":"#N/A"},{"$error":"#N/A"},{"$error":"#N/A"},{"$error":"#N/A"},{"$error":"#N/A"},{"$error":"#N/A"},{"$error":"#N/A"},{"$error":"#N/A"},{"$error":"#N/A"},{"$error":"#N/A"},{"$error":"#N/A"},{"$error":"#N/A"},{"$error":"#N/A"},{"$error":"#N/A"},{"$error":"#N/A"},{"$error":"#N/A"},{"$error":"#N/A"},{"$error":"#N/A"},{"$error":"#N/A"},{"$error":"#N/A"},{"$error":"#N/A"},{"$error":"#N/A"},{"$error":"#N/A"},{"$error":"#N/A"},{"$error":"#N/A"},{"$error":"#N/A"},{"$error":"#N/A"},{"$error":"#N/A"},{"$error":"#N/A"},{"$error":"#N/A"},{"$error":"#N/A"},{"$error":"#N/A"},{"$f":"INDEX(12:12,BQ22)","v":{"$error":"#N/A"}},{"$error":"#N/A"},{"$error":"#N/A"},{"$error":"#N/A"},{"$error":"#N/A"},{"$error":"#N/A"},{"$error":"#N/A"},{"$error":"#N/A"},{"$error":"#N/A"},{"$error":"#N/A"},{"$error":"#N/A"},{"$error":"#N/A"},{"$error":"#N/A"},{"$error":"#N/A"},{"$error":"#N/A"},{"$error":"#N/A"},{"$error":"#N/A"},{"$error":"#N/A"},{"$error":"#N/A"},{"$error":"#N/A"},{"$error":"#N/A"},{"$error":"#N/A"},{"$error":"#N/A"},{"$error":"#N/A"},{"$error":"#N/A"},{"$error":"#N/A"},{"$error":"#N/A"},{"$error":"#N/A"},{"$error":"#N/A"},{"$error":"#N/A"},{"$error":"#N/A"},{"$error":"#N/A"},{"$error":"#N/A"},{"$error":"#N/A"},{"$error":"#N/A"},{"$error":"#N/A"},{"$error":"#N/A"},{"$error":"#N/A"},{"$error":"#N/A"},{"$error":"#N/A"},{"$error":"#N/A"},{"$error":"#N/A"},{"$error":"#N/A"},{"$error":"#N/A"},{"$error":"#N/A"},{"$error":"#N/A"},{"$error":"#N/A"},{"$error":"#N/A"},{"$error":"#N/A"},{"$error":"#N/A"},{"$error":"#N/A"},{"$error":"#N/A"},{"$error":"#N/A"},{"$error":"#N/A"},{"$error":"#N/A"},{"$error":"#N/A"},{"$error":"#N/A"},{"$error":"#N/A"},{"$error":"#N/A"},{"$error":"#N/A"},{"$error":"#N/A"},{"$error":"#N/A"},{"$error":"#N/A"},{"$error":"#N/A"},{"$f":"INDEX(12:12,EC22)","v":{"$error":"#N/A"}},{"$error":"#N/A"},{"$error":"#N/A"},{"$error":"#N/A"},{"$error":"#N/A"},{"$error":"#N/A"},{"$error":"#N/A"},{"$error":"#N/A"},{"$error":"#N/A"},{"$error":"#N/A"},{"$error":"#N/A"},{"$error":"#N/A"},{"$error":"#N/A"},{"$error":"#N/A"},{"$error":"#N/A"},{"$error":"#N/A"},{"$error":"#N/A"},{"$error":"#N/A"},{"$error":"#N/A"},{"$error":"#N/A"},{"$error":"#N/A"},{"$error":"#N/A"},{"$error":"#N/A"},{"$error":"#N/A"},{"$error":"#N/A"},{"$error":"#N/A"},{"$error":"#N/A"},{"$error":"#N/A"},{"$error":"#N/A"},{"$error":"#N/A"},{"$error":"#N/A"},{"$error":"#N/A"},{"$error":"#N/A"},{"$error":"#N/A"},{"$error":"#N/A"},{"$error":"#N/A"},{"$error":"#N/A"},{"$error":"#N/A"},{"$error":"#N/A"},{"$error":"#N/A"},{"$error":"#N/A"},{"$error":"#N/A"},{"$error":"#N/A"},{"$error":"#N/A"},{"$error":"#N/A"},{"$error":"#N/A"},{"$error":"#N/A"},{"$error":"#N/A"},{"$error":"#N/A"},{"$error":"#N/A"},{"$error":"#N/A"},{"$error":"#N/A"},{"$error":"#N/A"},{"$error":"#N/A"},{"$error":"#N/A"},{"$error":"#N/A"},{"$error":"#N/A"},{"$error":"#N/A"},{"$error":"#N/A"},{"$error":"#N/A"},{"$error":"#N/A"},{"$error":"#N/A"},{"$error":"#N/A"},{"$error":"#N/A"},{"$f":"INDEX(12:12,GO22)","v":{"$error":"#N/A"}},{"$error":"#N/A"},{"$error":"#N/A"},{"$error":"#N/A"},{"$error":"#N/A"},{"$error":"#N/A"},{"$error":"#N/A"},{"$error":"#N/A"},{"$error":"#N/A"},{"$error":"#N/A"},{"$error":"#N/A"},{"$error":"#N/A"},{"$error":"#N/A"},{"$error":"#N/A"},{"$error":"#N/A"},{"$error":"#N/A"},{"$error":"#N/A"},{"$error":"#N/A"},{"$error":"#N/A"},{"$error":"#N/A"},{"$error":"#N/A"},{"$error":"#N/A"},{"$error":"#N/A"},{"$error":"#N/A"},{"$error":"#N/A"},{"$error":"#N/A"},{"$error":"#N/A"},{"$error":"#N/A"},{"$error":"#N/A"},{"$error":"#N/A"},{"$error":"#N/A"},{"$error":"#N/A"},{"$error":"#N/A"},{"$error":"#N/A"},{"$error":"#N/A"},{"$error":"#N/A"},{"$error":"#N/A"},{"$error":"#N/A"},{"$error":"#N/A"},{"$error":"#N/A"},{"$error":"#N/A"},{"$error":"#N/A"},{"$error":"#N/A"},{"$error":"#N/A"},{"$error":"#N/A"},{"$error":"#N/A"},{"$error":"#N/A"},{"$error":"#N/A"},{"$error":"#N/A"},{"$error":"#N/A"},{"$error":"#N/A"},{"$error":"#N/A"},{"$error":"#N/A"},{"$error":"#N/A"},{"$error":"#N/A"},{"$error":"#N/A"},{"$error":"#N/A"},{"$error":"#N/A"},{"$error":"#N/A"},{"$error":"#N/A"},{"$error":"#N/A"},{"$error":"#N/A"},{"$error":"#N/A"},{"$error":"#N/A"},{"$f":"INDEX(12:12,JA22)","v":{"$error":"#N/A"}},{"$error":"#N/A"},{"$error":"#N/A"},{"$error":"#N/A"},{"$error":"#N/A"},{"$error":"#N/A"},{"$error":"#N/A"},{"$error":"#N/A"},{"$error":"#N/A"},{"$error":"#N/A"},{"$error":"#N/A"},{"$error":"#N/A"},{"$error":"#N/A"},{"$error":"#N/A"},{"$error":"#N/A"},{"$error":"#N/A"},{"$error":"#N/A"},{"$error":"#N/A"},{"$error":"#N/A"},{"$error":"#N/A"},{"$error":"#N/A"},{"$error":"#N/A"},{"$error":"#N/A"},{"$error":"#N/A"},{"$error":"#N/A"},{"$error":"#N/A"},{"$error":"#N/A"},{"$error":"#N/A"},{"$error":"#N/A"},{"$error":"#N/A"},{"$error":"#N/A"},{"$error":"#N/A"},{"$error":"#N/A"},{"$error":"#N/A"},{"$error":"#N/A"},{"$error":"#N/A"},{"$error":"#N/A"},{"$error":"#N/A"},{"$error":"#N/A"},{"$error":"#N/A"},{"$error":"#N/A"},{"$error":"#N/A"},{"$error":"#N/A"},{"$error":"#N/A"},{"$error":"#N/A"},{"$error":"#N/A"},{"$error":"#N/A"},{"$error":"#N/A"},{"$error":"#N/A"},{"$error":"#N/A"},{"$error":"#N/A"},{"$error":"#N/A"},{"$error":"#N/A"},{"$error":"#N/A"},{"$error":"#N/A"},{"$error":"#N/A"},{"$error":"#N/A"},{"$error":"#N/A"},{"$error":"#N/A"},{"$error":"#N/A"},{"$error":"#N/A"},{"$error":"#N/A"},{"$error":"#N/A"},{"$error":"#N/A"},{"$f":"INDEX(12:12,LM22)","v":{"$error":"#N/A"}},{"$error":"#N/A"},{"$error":"#N/A"},{"$error":"#N/A"},{"$error":"#N/A"},{"$error":"#N/A"},{"$error":"#N/A"},{"$error":"#N/A"},{"$error":"#N/A"},{"$error":"#N/A"},{"$error":"#N/A"},{"$error":"#N/A"},{"$error":"#N/A"},{"$error":"#N/A"},{"$error":"#N/A"},{"$error":"#N/A"},{"$error":"#N/A"},{"$error":"#N/A"},{"$error":"#N/A"},{"$error":"#N/A"},{"$error":"#N/A"},{"$error":"#N/A"},{"$error":"#N/A"},{"$error":"#N/A"},{"$error":"#N/A"},{"$error":"#N/A"},{"$error":"#N/A"},{"$error":"#N/A"},{"$error":"#N/A"},{"$error":"#N/A"},{"$error":"#N/A"},{"$error":"#N/A"},{"$error":"#N/A"},{"$error":"#N/A"},{"$error":"#N/A"},{"$error":"#N/A"},{"$error":"#N/A"},{"$error":"#N/A"},{"$error":"#N/A"},{"$error":"#N/A"},{"$error":"#N/A"},{"$error":"#N/A"},{"$error":"#N/A"},{"$error":"#N/A"},{"$error":"#N/A"},{"$error":"#N/A"},{"$error":"#N/A"},{"$error":"#N/A"},{"$error":"#N/A"},{"$error":"#N/A"},{"$error":"#N/A"},{"$error":"#N/A"},{"$error":"#N/A"},{"$error":"#N/A"},{"$error":"#N/A"},{"$error":"#N/A"},{"$error":"#N/A"},{"$error":"#N/A"},{"$error":"#N/A"},{"$error":"#N/A"},{"$error":"#N/A"},{"$error":"#N/A"},{"$error":"#N/A"},{"$error":"#N/A"},{"$f":"INDEX(12:12,NY22)","v":{"$error":"#N/A"}},{"$error":"#N/A"},{"$error":"#N/A"},{"$error":"#N/A"},{"$error":"#N/A"},{"$error":"#N/A"},{"$error":"#N/A"},{"$error":"#N/A"},{"$error":"#N/A"},{"$error":"#N/A"},{"$error":"#N/A"},{"$error":"#N/A"},{"$error":"#N/A"},{"$error":"#N/A"},{"$error":"#N/A"},{"$error":"#N/A"},{"$error":"#N/A"},{"$error":"#N/A"},{"$error":"#N/A"},{"$error":"#N/A"},{"$error":"#N/A"},{"$error":"#N/A"},{"$error":"#N/A"},{"$error":"#N/A"},{"$error":"#N/A"},{"$error":"#N/A"},{"$error":"#N/A"},{"$error":"#N/A"},{"$error":"#N/A"},{"$error":"#N/A"},{"$error":"#N/A"},{"$error":"#N/A"},{"$error":"#N/A"},{"$error":"#N/A"},{"$error":"#N/A"},{"$error":"#N/A"},{"$error":"#N/A"},{"$error":"#N/A"},{"$error":"#N/A"},{"$error":"#N/A"},{"$error":"#N/A"},{"$error":"#N/A"},{"$error":"#N/A"},{"$error":"#N/A"},{"$error":"#N/A"},{"$error":"#N/A"},{"$error":"#N/A"},{"$error":"#N/A"},{"$error":"#N/A"},{"$error":"#N/A"},{"$error":"#N/A"},{"$error":"#N/A"},{"$error":"#N/A"},{"$error":"#N/A"},{"$error":"#N/A"},{"$error":"#N/A"},{"$error":"#N/A"},{"$error":"#N/A"},{"$error":"#N/A"},{"$error":"#N/A"},{"$error":"#N/A"},{"$error":"#N/A"},{"$error":"#N/A"},{"$error":"#N/A"},{"$f":"INDEX(12:12,QK22)","v":{"$error":"#N/A"}},{"$error":"#N/A"},{"$error":"#N/A"},{"$error":"#N/A"},{"$error":"#N/A"},{"$error":"#N/A"},{"$error":"#N/A"},{"$error":"#N/A"},{"$error":"#N/A"},{"$error":"#N/A"},{"$error":"#N/A"},{"$error":"#N/A"},{"$error":"#N/A"},{"$error":"#N/A"},{"$error":"#N/A"},{"$error":"#N/A"},{"$error":"#N/A"},{"$error":"#N/A"},{"$error":"#N/A"},{"$error":"#N/A"},{"$error":"#N/A"},{"$error":"#N/A"},{"$error":"#N/A"},{"$error":"#N/A"},{"$error":"#N/A"},{"$error":"#N/A"},{"$error":"#N/A"},{"$error":"#N/A"},{"$error":"#N/A"},{"$error":"#N/A"},{"$error":"#N/A"},{"$error":"#N/A"},{"$error":"#N/A"},{"$error":"#N/A"},{"$error":"#N/A"},{"$error":"#N/A"},{"$error":"#N/A"},{"$error":"#N/A"},{"$error":"#N/A"},{"$error":"#N/A"},{"$error":"#N/A"},{"$error":"#N/A"},{"$error":"#N/A"},{"$error":"#N/A"},{"$error":"#N/A"},{"$error":"#N/A"},{"$error":"#N/A"},{"$error":"#N/A"},{"$error":"#N/A"},{"$error":"#N/A"},{"$error":"#N/A"},{"$error":"#N/A"},{"$error":"#N/A"},{"$error":"#N/A"},{"$error":"#N/A"},{"$error":"#N/A"},{"$error":"#N/A"},{"$error":"#N/A"},{"$error":"#N/A"},{"$error":"#N/A"},{"$error":"#N/A"},{"$error":"#N/A"},{"$error":"#N/A"},{"$error":"#N/A"},{"$f":"INDEX(12:12,SW22)","v":{"$error":"#N/A"}},{"$error":"#N/A"},{"$error":"#N/A"},{"$error":"#N/A"},{"$error":"#N/A"},{"$error":"#N/A"},{"$error":"#N/A"},{"$error":"#N/A"},{"$error":"#N/A"},{"$error":"#N/A"},{"$error":"#N/A"},{"$error":"#N/A"},{"$error":"#N/A"},{"$error":"#N/A"},{"$error":"#N/A"},{"$error":"#N/A"},{"$error":"#N/A"},{"$error":"#N/A"},{"$error":"#N/A"},{"$error":"#N/A"},{"$error":"#N/A"},{"$error":"#N/A"},{"$error":"#N/A"},{"$error":"#N/A"},{"$error":"#N/A"},{"$error":"#N/A"},{"$error":"#N/A"},{"$error":"#N/A"},{"$error":"#N/A"},{"$error":"#N/A"},{"$error":"#N/A"},{"$error":"#N/A"},{"$error":"#N/A"},{"$error":"#N/A"},{"$error":"#N/A"},{"$error":"#N/A"},{"$error":"#N/A"},{"$error":"#N/A"},{"$error":"#N/A"},{"$error":"#N/A"},{"$error":"#N/A"},{"$error":"#N/A"},{"$error":"#N/A"},{"$error":"#N/A"},{"$error":"#N/A"},{"$error":"#N/A"},{"$error":"#N/A"},{"$error":"#N/A"},{"$error":"#N/A"},{"$error":"#N/A"},{"$error":"#N/A"}]
[null,"Production",null,{"$f":"IFERROR(INDEX(14:14,D22),1)","v":73138},{"$f":"IFERROR(INDEX(14:14,E22),FALSE)","v":71444},71082,false,false,false,false,false,false,false,false,false,false,false,false,false,false,false,false,false,false,false,false,false,false,false,false,false,false,false,false,false,false,false,false,false,false,false,false,false,false,false,false,false,false,false,false,false,false,false,false,false,false,false,false,false,false,false,false,false,false,false,false,false,false,{"$f":"IFERROR(INDEX(14:14,BQ22),FALSE)","v":false},false,false,false,false,false,false,false,false,false,false,false,false,false,false,false,false,false,false,false,false,false,false,false,false,false,false,false,false,false,false,false,false,false,false,false,false,false,false,false,false,false,false,false,false,false,false,false,false,false,false,false,false,false,false,false,false,false,false,false,false,false,false,false,{"$f":"IFERROR(INDEX(14:14,EC22),FALSE)","v":false},false,false,false,false,false,false,false,false,false,false,false,false,false,false,false,false,false,false,false,false,false,false,false,false,false,false,false,false,false,false,false,false,false,false,false,false,false,false,false,false,false,false,false,false,false,false,false,false,false,false,false,false,false,false,false,false,false,false,false,false,false,false,false,{"$f":"IFERROR(INDEX(14:14,GO22),FALSE)","v":false},false,false,false,false,false,false,false,false,false,false,false,false,false,false,false,false,false,false,false,false,false,false,false,false,false,false,false,false,false,false,false,false,false,false,false,false,false,false,false,false,false,false,false,false,false,false,false,false,false,false,false,false,false,false,false,false,false,false,false,false,false,false,false,{"$f":"IFERROR(INDEX(14:14,JA22),FALSE)","v":false},false,false,false,false,false,false,false,false,false,false,false,false,false,false,false,false,false,false,false,false,false,false,false,false,false,false,false,false,false,false,false,false,false,false,false,false,false,false,false,false,false,false,false,false,false,false,false,false,false,false,false,false,false,false,false,false,false,false,false,false,false,false,false,{"$f":"IFERROR(INDEX(14:14,LM22),FALSE)","v":false},false,false,false,false,false,false,false,false,false,false,false,false,false,false,false,false,false,false,false,false,false,false,false,false,false,false,false,false,false,false,false,false,false,false,false,false,false,false,false,false,false,false,false,false,false,false,false,false,false,false,false,false,false,false,false,false,false,false,false,false,false,false,false,{"$f":"IFERROR(INDEX(14:14,NY22),FALSE)","v":false},false,false,false,false,false,false,false,false,false,false,false,false,false,false,false,false,false,false,false,false,false,false,false,false,false,false,false,false,false,false,false,false,false,false,false,false,false,false,false,false,false,false,false,false,false,false,false,false,false,false,false,false,false,false,false,false,false,false,false,false,false,false,false,{"$f":"IFERROR(INDEX(14:14,QK22),FALSE)","v":false},false,false,false,false,false,false,false,false,false,false,false,false,false,false,false,false,false,false,false,false,false,false,false,false,false,false,false,false,false,false,false,false,false,false,false,false,false,false,false,false,false,false,false,false,false,false,false,false,false,false,false,false,false,false,false,false,false,false,false,false,false,false,false,{"$f":"IFERROR(INDEX(14:14,SW22),FALSE)","v":false},false,false,false,false,false,false,false,false,false,false,false,false,false,false,false,false,false,false,false,false,false,false,false,false,false,false,false,false,false,false,false,false,false,false,false,false,false,false,false,false,false,false,false,false,false,false,false,false,false,false]