{"text_format":"1","workbook":"xlsx","n_sheets":8,"sheets":["Introduction","Summary","Inputs and Operations","Financial Model","Parallel Model P50","Parallel Model P99","Wind Study Back-up","Wind Study 1"],"not_rendered":{"charts":2,"images":3,"macros":1,"external_links":1,"defined_names":28,"comments":0,"pivot_tables":0},"unopened":[],"bounds":{"document_bytes":16777216,"sheet_cells":100000,"rows_first":2000,"rows_last":500,"rows_between":2000,"halvings":0,"cell_chars":16384,"cell_head_chars":4096},"cells_cut":0,"cells_raw":0,"read":"whole","date_system":"1900"}

{"sheet":"Introduction","index":0,"n_rows":12,"n_cols":13,"rows_kept":12,"cut":false,"hidden":false,"merged":[]}
[]
["Debt Sizing with P50, P90 and Maximum Debt to Capital"]
[]
[null,"Website Link Describing Upside Incentives"]
[]
[null,"Video Describing Mechanics of Hurdle Rates"]
[]
[null,"Powerpoint Slides Reference (beginning on slide 312)"]
[]
[null,"Link to Relevant Part of this Workbook"]
[]
[null,"Chapter in Book Describing Flip Modelling",null,null,null,null,null,null,"Chapter 10",null,null,null,"Find the Book in Chapter 2 of the USB Drive"]

{"sheet":"Summary","index":1,"n_rows":104,"n_cols":17,"rows_kept":104,"cut":false,"hidden":false,"merged":[]}
[]
[null,null,"P50 or P99",null,null,"Initial Tariff (Euro/MWH)",null,null,{"$f":"price","v":43.217136325356108},null,null,"1-Year Uncertainty",null,null,{"$f":"'Inputs and Operations'!F19","v":0.12180000000000001}]
[null,null,"Inflate Price",null,null,"O&M Expense",null,null,null,null,null,"P50/P99 Ratio",null,null,{"$f":"'Inputs and Operations'!F199","v":0.64722839746603755}]
[null,null,null,null,null,"In Fixed Terms (USD/kW-yr)",null,null,{"$f":"'Inputs and Operations'!F48","v":54.108948896376724},null,null,"Project Life",null,null,{"$f":"life","v":35}]
[null,null,"Pre-tax Project IRR",{"$f":"'Financial Model'!F8","v":6.3753578066825842E-2},null,"In Variable Terms (USD/kW-yr)",null,null,{"$f":"'Inputs and Operations'!I48","v":15.918780008824168},null,null,"Target IRR",null,null,{"$f":"'Financial Model'!F28","v":0.11}]
[null,null,"After-tax Project IRR",{"$f":"'Financial Model'!F7","v":5.3269788622856154E-2}]
[null,null,"Debt IRR (pre-tax)",{"$f":"'Financial Model'!F5","v":3.9915308356285109E-2},null,"Capacity (MW)",null,null,{"$f":"'Inputs and Operations'!$F$16","v":120},null,null,"Credit Spread Changes"]
[null,null,"Equity IRR",{"$f":"'Financial Model'!F4","v":0.10332065224647521},null,"Net Capacity Factor",null,null,{"$f":"'Inputs and Operations'!$F$17","v":0.38802098193751988}]
[null,null,null,null,null,"Gross Capacity Factor",null,null,{"$f":"'Wind Study Back-up'!C4","v":0.47499999999999998},null,null,"Refinance"]
[null,null,"Construction Cost",{"$f":"'Financial Model'!F23","v":168000}]
[null,null,"Construction Period",{"$f":"'Financial Model'!$F$13","v":36},null,"Uses",null,null,"Cost","Cost/kW",null,null,null,"Refi 1","Refi 2","Refi 2"]
[null,null,"Development Fee",{"$f":"'Financial Model'!F27","v":0.2},null,"EPC",null,null,{"$f":"'Financial Model'!I136","v":168000.00000000006},{"$f":"I12/$I$7","v":1400.0000000000005},null,"Refi Year",null,{"$f":"refi1","v":36},{"$f":"'Financial Model'!F87","v":36},{"$f":"refi3","v":36}]
[null,null,null,null,null,"Development Fee",null,null,{"$f":"'Financial Model'!I137","v":45095.192494425573},375.79327078687976,null,"DSCR",null,{"$f":"'Financial Model'!F78","v":1.25},{"$f":"'Financial Model'!F90","v":1.25},{"$f":"'Financial Model'!F102","v":1.2}]
[null,null,"Max Debt to Capital",{"$f":"'Financial Model'!$F$39","v":0.89},null,"IDC",null,null,{"$f":"'Financial Model'!I138","v":8292.527548038508},69.104396233654228,null,"Interest Rate",null,{"$f":"'Financial Model'!F84","v":3.5000000000000003E-2},{"$f":"'Financial Model'!F96","v":0.03},{"$f":"'Financial Model'!F108","v":2.9000000000000001E-2}]
[null,null,"P50 DSCR Target",{"$f":"'Financial Model'!F35","v":1.35},null,"IDC on Equity Bridge Loan",null,null,{"$f":"'Financial Model'!I139","v":0},0,null,"Tail",null,{"$f":"'Financial Model'!F79","v":2},{"$f":"'Financial Model'!F91","v":1},{"$f":"'Financial Model'!F103","v":0}]
[null,null,"P99 DSCR Target",{"$f":"'Financial Model'!$F$36","v":1},null,"Up-Front Fees",null,null,{"$f":"'Financial Model'!I140","v":2226.5524362101032},18.554603635084195]
[null,null,null,null,null,"Commitment Fees",null,null,{"$f":"'Financial Model'!I141","v":1861.6900136581726},15.514083447151439,null,null,null,"Cap Fac","vs P50","Debt","P50/EBITDA"]
[null,null,"Up-Front Equity Pct",{"$f":"'Financial Model'!F41","v":0.5},null,"DSRA",null,null,{"$f":"'Financial Model'!I142","v":0},0,null,"P50 DSCR/Amount",null,{"$f":"'Inputs and Operations'!F88","v":0.38802098193751988},{"$f":"N18/$N$18","v":1},{"$f":"'Inputs and Operations'!F150","v":143274.87284935094},1]
[null,null,null,null,null,"Total",null,null,{"$f":"SUM(I12:I18)","v":225475.96249233242},1878.9663541027701,null,"P90 DSCR/Amount",null,{"$f":"'Inputs and Operations'!F90","v":0.32745363029921892},{"$f":"N19/$N$18","v":0.84390701931666756},{"$f":"'Inputs and Operations'!F169","v":115433.61656577013},{"$f":"'Inputs and Operations'!I176","v":1.2418648533618719}]
[null,null,"Maturity",{"$f":"'Financial Model'!$G$43","v":27},null,"Sources",null,null,null,"Percent",null,"P99 DSCR/Amount",null,{"$f":"'Inputs and Operations'!F91","v":0.27807555835234476},{"$f":"N20/$N$18","v":0.71665082894182563},{"$f":"'Inputs and Operations'!F190","v":125193.30952730637},{"$f":"'Inputs and Operations'!I200","v":1.2456130632099021}]
[null,null,"Credit Spread",{"$f":"'Financial Model'!F49","v":1.7000000000000001E-2},null,"Senior Debt (From Minimum)",null,null,{"$f":"'Financial Model'!I146","v":148436.82908067355},{"$f":"I21/I24","v":0.65832662361524463}]
[null,null,null,null,null,"Mezzanine Debt",null,null,{"$f":"'Financial Model'!I147","v":0},null,null,"Levelised O&M (Euro/MWH)",null,null,{"$f":"'Inputs and Operations'!I48","v":15.918780008824168}]
[null,null,"Cash Flow Applied",{"$f":"'Financial Model'!E206","v":"P99 Applied"},null,"Equity",null,null,{"$f":"'Financial Model'!I148","v":77039.133391454321},{"$f":"I23/I24","v":0.34167337638475537}]
[null,null,"Debt Sizing",{"$f":"'Financial Model'!E207","v":"DSCR"},null,"Total",null,null,{"$f":"SUM(I21:I23)","v":225475.96247212787},{"$f":"J21+J23","v":1}]
[]
[]
[]
[]
[]
[]
[]
[]
[]
[]
[]
[]
[]
[]
[]
[]
[]
[]
[]
[]
[]
[]
[]
[]
[]
[]
[]
[]
[]
[]
[]
[]
[]
[]
[]
[]
[]
[]
[]
[]
[]
[]
[]
[]
[]
[]
[]
[]
[]
[]
[]
[]
[]
[]
[]
[]
[]
[]
[]
[]
[]
[]
[]
[]
[]
[]
[]
[]
[]
[]
[]
[]
[null,null,"Credit Spread Scenario",1]
[]
[null,null,"Credit Spread Scenarios"]
[null,null,"Base",{"$f":"'Financial Model'!F49","v":1.7000000000000001E-2},{"$f":"D100+0.25%","v":1.95E-2},{"$f":"E100+0.25%","v":2.1999999999999999E-2},2.4499999999999997E-2,2.6999999999999996E-2]
[null,null,"Flat",{"$f":"D100","v":1.7000000000000001E-2},{"$f":"D101","v":1.7000000000000001E-2},{"$f":"E101","v":1.7000000000000001E-2},1.7000000000000001E-2,1.7000000000000001E-2]
[null,null,"Declining",{"$f":"D101","v":1.7000000000000001E-2},{"$f":"D102-0.25%","v":1.4500000000000001E-2},{"$f":"E102-0.25%","v":1.2E-2},9.4999999999999998E-3,6.9999999999999993E-3]
[]
[null,null,{"$f":"INDEX(C100:C102,$D$97)","v":"Base"},{"$f":"INDEX(D100:D102,$D$97)","v":1.7000000000000001E-2},1.95E-2,2.1999999999999999E-2,2.4499999999999997E-2,2.6999999999999996E-2]

{"sheet":"Inputs and Operations","index":2,"n_rows":287,"n_cols":107,"rows_kept":287,"cut":false,"hidden":false,"merged":[]}
["Time Line",null,null,null,null,null,0,1,2,3,4,5,6,7,8,9,10,11,12,13,14,15,16,17,18,19,20,21,22,23,24,25,26,27,28,29,30,31,32,33,34,35,36,37,38,39,40,41,42,43,44,45,46,47,48,49,50,51,52,53,54,55,56,57,58,59,60,61,62,63,64,65,66,67,68,69,70,71,72,73,74,75,76,77,78,79,80,81,82,83,84,85,86,87,88,89,90,91,92,93,94,95,96,97,98,99,100]
[null,"Start of period",null,null,"Price",{"$f":"price","v":43.217136325356108},null,{"$f":"$F$9","v":"2020-08-01"},{"$f":"EDATE(H2,6)","v":"2021-02-01"},{"$f":"EDATE(I2,6)","v":"2021-08-01"},"2022-02-01","2022-08-01","2023-02-01","2023-08-01","2024-02-01","2024-08-01","2025-02-01","2025-08-01","2026-02-01","2026-08-01","2027-02-01","2027-08-01","2028-02-01","2028-08-01","2029-02-01","2029-08-01","2030-02-01","2030-08-01","2031-02-01","2031-08-01","2032-02-01","2032-08-01","2033-02-01","2033-08-01","2034-02-01","2034-08-01","2035-02-01","2035-08-01","2036-02-01","2036-08-01","2037-02-01","2037-08-01","2038-02-01","2038-08-01","2039-02-01","2039-08-01","2040-02-01","2040-08-01","2041-02-01","2041-08-01","2042-02-01","2042-08-01","2043-02-01","2043-08-01","2044-02-01","2044-08-01","2045-02-01","2045-08-01","2046-02-01","2046-08-01","2047-02-01","2047-08-01","2048-02-01","2048-08-01","2049-02-01","2049-08-01","2050-02-01","2050-08-01","2051-02-01","2051-08-01","2052-02-01","2052-08-01","2053-02-01",{"$f":"EDATE(BU2,6)","v":"2053-08-01"},"2054-02-01","2054-08-01","2055-02-01","2055-08-01","2056-02-01","2056-08-01","2057-02-01","2057-08-01","2058-02-01","2058-08-01","2059-02-01","2059-08-01","2060-02-01","2060-08-01","2061-02-01","2061-08-01","2062-02-01","2062-08-01","2063-02-01","2063-08-01","2064-02-01","2064-08-01","2065-02-01","2065-08-01","2066-02-01","2066-08-01","2067-02-01","2067-08-01","2068-02-01","2068-08-01","2069-02-01","2069-08-01","2070-02-01"]
[null,"End of period",null,null,"Equity IRR",{"$f":"E267","v":9.7591525316238409E-2},null,{"$f":"EDATE(H2,6)-1","v":"2021-01-31"},{"$f":"EDATE(I2,6)-1","v":"2021-07-31"},"2022-01-31","2022-07-31","2023-01-31","2023-07-31","2024-01-31","2024-07-31","2025-01-31","2025-07-31","2026-01-31","2026-07-31","2027-01-31","2027-07-31","2028-01-31","2028-07-31","2029-01-31","2029-07-31","2030-01-31","2030-07-31","2031-01-31","2031-07-31","2032-01-31","2032-07-31","2033-01-31","2033-07-31","2034-01-31","2034-07-31","2035-01-31","2035-07-31","2036-01-31","2036-07-31","2037-01-31","2037-07-31","2038-01-31","2038-07-31","2039-01-31","2039-07-31","2040-01-31","2040-07-31","2041-01-31","2041-07-31","2042-01-31","2042-07-31","2043-01-31","2043-07-31","2044-01-31","2044-07-31","2045-01-31","2045-07-31","2046-01-31","2046-07-31","2047-01-31","2047-07-31","2048-01-31","2048-07-31","2049-01-31","2049-07-31","2050-01-31","2050-07-31","2051-01-31","2051-07-31","2052-01-31","2052-07-31","2053-01-31",{"$f":"EDATE(BU2,6)-1","v":"2053-07-31"},"2054-01-31","2054-07-31","2055-01-31","2055-07-31","2056-01-31","2056-07-31","2057-01-31","2057-07-31","2058-01-31","2058-07-31","2059-01-31","2059-07-31","2060-01-31","2060-07-31","2061-01-31","2061-07-31","2062-01-31","2062-07-31","2063-01-31","2063-07-31","2064-01-31","2064-07-31","2065-01-31","2065-07-31","2066-01-31","2066-07-31","2067-01-31","2067-07-31","2068-01-31","2068-07-31","2069-01-31","2069-07-31","2070-01-31","2070-07-31"]
[null,"Construction phase",null,null,null,{"$f":"F11","v":"2021-02-01"},null,{"$f":"H2<$F$4","v":true},{"$f":"I2<$F$4","v":false},false,false,false,false,false,false,false,false,false,false,false,false,false,false,false,false,false,false,false,false,false,false,false,false,false,false,false,false,false,false,false,false,false,false,false,false,false,false,false,false,false,false,false,false,false,false,false,false,false,false,false,false,false,false,false,false,false,false,false,false,false,false,false,{"$f":"BU2<$F$4","v":false},false,false,false,false,false,false,false,false,false,false,false,false,false,false,false,false,false,false,false,false,false,false,false,false,false,false,false,false,false,false,false,false,false,false]
[null,"Operating phase",null,null,null,{"$f":"F11","v":"2021-02-01"},{"$f":"F13","v":"2051-02-01"},{"$f":"AND(H2>=$F$5,H2<$G$5)","v":false},{"$f":"AND(I2>=$F$5,I2<$G$5)","v":true},true,true,true,true,true,true,true,true,true,true,true,true,true,true,true,true,true,true,true,true,true,true,true,true,true,true,true,true,true,true,true,true,true,true,true,true,true,true,true,true,true,true,true,true,true,true,true,true,true,true,true,true,true,true,true,true,true,true,true,false,false,false,false,{"$f":"AND(BU2>=$F$5,BU2<$G$5)","v":false},false,false,false,false,false,false,false,false,false,false,false,false,false,false,false,false,false,false,false,false,false,false,false,false,false,false,false,false,false,false,false,false,false,false]
[]
["Non-Financing Inputs"]
[null,"Timing Inputs"]
[null,null,"Construction Start",null,"Date","2020-08-01"]
[null,null,"Construction Period",null,"Periods",1]
[null,null,"Commercial Operation",null,"Date",{"$f":"EDATE(F9,F10*6)","v":"2021-02-01"}]
[null,null,"Operating Period",null,"Years",30]
[null,null,"Decommissioning",null,"Date",{"$f":"EDATE(F11,F12*12)","v":"2051-02-01"}]
[]
[null,"Operation Inputs"]
[null,null,null,"Capacity","MW",{"$f":"'Wind Study Back-up'!C3","v":120}]
[null,null,null,"P50 Capacity Factor","% p.a.",{"$f":"'Wind Study Back-up'!C13","v":0.38802098193751988}]
[null,null,null,null,null,"1-yr","10-yr","20-yr"]
[null,null,null,"Standard Deviation/P50 Case Production",null,{"$f":"'Wind Study Back-up'!D17","v":0.12180000000000001},{"$f":"'Wind Study Back-up'!E17","v":8.4569221906166517E-2},{"$f":"'Wind Study Back-up'!F17","v":8.2670927430998103E-2}]
[]
[null,null,null,"Case applied (P50=1, P90=2, P99=3)","Code",1,null,null,null,"P50"]
[null,null,null,null,null,null,null,null,null,"P90"]
[null,"EPC, O&M and PPA contracts",null,null,null,null,null,null,null,"P99"]
[null,null,"EPC and Development"]
[null,null,null,"EPC Cost","Euro/kW",{"$f":"G25","v":1400},1400]
[null,null,null,"Development Cost","Euro/kW",{"$f":"F25*3%","v":42}]
[null,null,null,"Owners Cost","Euro/kW",46]
[null,null,null,"Total Cost","Euro/kW",{"$f":"SUM(F25:F27)","v":1488}]
[]
[null,null,"General Inflation Rate",null,"%",0.02]
[]
[null,null,"O&M Cost",null,null,"Euro/kW/yr","Fixed","Variable","Euro/MWh"]
[null,null,null,"Contracted Turbine O&M ($/MWh)","Euro/kW-yr",18.538413786371649,true,{"$f":"NOT(G33)","v":false},{"$f":"F33*1000/(8760*$F$17)","v":5.4539764086521494}]
[null,null,null,"BOP O&M","Euro/kW-yr",4.2114485490599849,true,{"$f":"NOT(G34)","v":false},{"$f":"F34*1000/(8760*$F$17)","v":1.2390025002954157}]
[null,null,null,"BOP O&M Fee","Euro/kW-yr",1.3468218690022433,false,true,0.39623318288401971]
[null,null,null,"Operation Expenses","Euro/kW-yr",1.4493419496706936,false,true,0.42639445276515114]
[null,null,null,"Maintenance Expenses","Euro/kW-yr",1.4152847303870475,false,true,0.41637486464624485]
[null,null,null,"G&A","Euro/kW-yr",0.76835803447560747,false,true,0.22604990058583033]
[null,null,null,"Asset Management","Euro/kW-yr",0,false,true,0]
[null,null,null,"Community Support","Euro/kW-yr",4.3906173398606134E-2,false,true,1.291713717633316E-2]
[null,null,null,"3rd Party Professional Services","Euro/kW-yr",0.72445186107700144,false,true,0.21313276340949719]
[null,null,null,"Landowner and Easement Royalties","Euro/kW-yr",3.5126506024096393,false,true,1.0334170840152301]
[null,null,null,"Royalties - based on % Revenues","Euro/kW-yr",2.3731857344211744,false,true,0.69818805201111978]
[null,null,null,"Property Taxes","Euro/kW-yr",10.694090110983936,false,true,3.1461869310622448]
[null,null,null,"Environmental Monitoring","Euro/kW-yr",0,false,true,0]
[null,null,null,"Insurance","Euro/kW-yr",1.5674503903302388,false,true,0.46114179719509374]
[null,null,null,"Annual Insurance Cash Premium & Origination Fee","Euro/kW-yr",7.4635451047889045,false,true,2.1957649341258403]
[null,null,null,"Total Operating Expenses","Euro/kW-yr",{"$f":"SUM(F33:F47)","v":54.108948896376724},null,null,{"$f":"SUM(I33:I47)","v":15.918780008824168}]
[]
[null,null,"PPA Price"]
[null,null,null,"Starting Price","USD/MWH",43.217136325356108,"price"]
[null,null,null,"Inflate","Switch",true]
[]
["Financing Inputs"]
[null,"Debt Size"]
[null,null,"DSCR"]
[null,null,null,"P50 Minimum","x",{"$f":"G57/100","v":1.35},135]
[null,null,null,"P90 Minimum","x",{"$f":"G58/100","v":1.35},135]
[null,null,null,"P99 Minimum","x",{"$f":"G59/100","v":1},100]
[]
[null,null,"Max Debt to Capital",null,"%",{"$f":"G61/100","v":0.93},93]
[]
[null,"Debt Funding",null,null,"Pro-Rata",true]
[]
[null,"Debt Repayment"]
[null,null,null,"Sculpting (Not True is Level Repayment)","Type",true]
[null,null,null,"Maturity ","Years",{"$f":"G67","v":20},20]
[null,null,null,"Grace Period","Periods",1]
[null,null,null,"Start of Repayment",null,{"$f":"EDATE(F11,F68*6)","v":"2021-08-01"}]
[null,null,null,"End of Repayment",null,{"$f":"EDATE(F11,F67*12)","v":"2041-02-01"}]
[]
[null,"Interest Rate and Fee"]
[null,null,null,"Base Rate","% p.a.",1.4999999999999999E-2]
[null,null,null,"Credit Spread","% p.a.",1.7999999999999999E-2]
[null,null,null,"Annual interest rate","% p.a.",{"$f":"F73+F74","v":3.3000000000000002E-2}]
[]
[null,null,null,"Up-Front and Commitment Fee","%",1.9E-2]
[]
[null,"DSRA, Covenants, Sweeps"]
[]
["Operations and Pre-tax Free Cash Flow"]
[null,"Operations"]
[null,null,"Capacity and Generation"]
[null,null,null,"Capacity","MW",{"$f":"F16","v":120},null,{"$f":"$F84*H$5","v":0},{"$f":"$F84*I$5","v":120},120,120,120,120,120,120,120,120,120,120,120,120,120,120,120,120,120,120,120,120,120,120,120,120,120,120,120,120,120,120,120,120,120,120,120,120,120,120,120,120,120,120,120,120,120,120,120,120,120,120,120,120,120,120,120,120,120,120,120,0,0,0,0,{"$f":"$F84*BU$5","v":0},0,0,0,0,0,0,0,0,0,0,0,0,0,0,0,0,0,0,0,0,0,0,0,0,0,0,0,0,0,0,0,0,0,0]
[]
[null,null,null,"Hours in the period","Hours",null,null,{"$f":"(H3-H2+1)*24","v":4416},4344,4416,4344,4416,4344,4416,4368,4416,4344,4416,4344,4416,4344,4416,4368,4416,4344,4416,4344,4416,4344,4416,4368,4416,4344,4416,4344,4416,4344,4416,4368,{"$f":"(AN3-AN2+1)*24","v":4416},4344,4416,4344,4416,4344,4416,4368,4416,4344,4416,4344,4416,4344,4416,4368,4416,4344,4416,4344,4416,4344,4416,4368,4416,4344,4416,4344,4416,4344,4416,4368,{"$f":"(BT3-BT2+1)*24","v":4416},4344,4416,4344,4416,4344,4416,4368,4416,4344,4416,4344,4416,4344,4416,4368,4416,4344,4416,4344,4416,4344,4416,4368,4416,4344,4416,4344,4416,4344,4416,4368,4416,4344,4416,4344]
[]
[null,null,null,"P50 Capacity Factor","%",{"$f":"F17","v":0.38802098193751988},null,{"$f":"$F88*H$5","v":0},0.38802098193751988,0.38802098193751988,0.38802098193751988,0.38802098193751988,0.38802098193751988,0.38802098193751988,0.38802098193751988,0.38802098193751988,0.38802098193751988,0.38802098193751988,0.38802098193751988,0.38802098193751988,0.38802098193751988,0.38802098193751988,0.38802098193751988,0.38802098193751988,0.38802098193751988,0.38802098193751988,0.38802098193751988,0.38802098193751988,0.38802098193751988,0.38802098193751988,0.38802098193751988,0.38802098193751988,0.38802098193751988,0.38802098193751988,0.38802098193751988,0.38802098193751988,0.38802098193751988,0.38802098193751988,0.38802098193751988,0.38802098193751988,0.38802098193751988,0.38802098193751988,0.38802098193751988,0.38802098193751988,0.38802098193751988,0.38802098193751988,0.38802098193751988,0.38802098193751988,0.38802098193751988,0.38802098193751988,0.38802098193751988,0.38802098193751988,0.38802098193751988,0.38802098193751988,0.38802098193751988,0.38802098193751988,0.38802098193751988,0.38802098193751988,0.38802098193751988,0.38802098193751988,0.38802098193751988,0.38802098193751988,0.38802098193751988,0.38802098193751988,0.38802098193751988,0.38802098193751988,0.38802098193751988,0.38802098193751988,0,0,0,0,0,0,0,0,0,0,0,0,0,0,0,0,0,0,0,0,0,0,0,0,0,0,0,0,0,0,0,0,0,0,0,0,0,0,0]
[null,null,null,"1-Year Standard Deviation as Percent","%",{"$f":"F19","v":0.12180000000000001},null,0,0.12180000000000001,0.12180000000000001,0.12180000000000001,0.12180000000000001,0.12180000000000001,0.12180000000000001,0.12180000000000001,0.12180000000000001,0.12180000000000001,0.12180000000000001,0.12180000000000001,0.12180000000000001,0.12180000000000001,0.12180000000000001,0.12180000000000001,0.12180000000000001,0.12180000000000001,0.12180000000000001,0.12180000000000001,0.12180000000000001,0.12180000000000001,0.12180000000000001,0.12180000000000001,0.12180000000000001,0.12180000000000001,0.12180000000000001,0.12180000000000001,0.12180000000000001,0.12180000000000001,0.12180000000000001,0.12180000000000001,0.12180000000000001,0.12180000000000001,0.12180000000000001,0.12180000000000001,0.12180000000000001,0.12180000000000001,0.12180000000000001,0.12180000000000001,0.12180000000000001,0.12180000000000001,0.12180000000000001,0.12180000000000001,0.12180000000000001,0.12180000000000001,0.12180000000000001,0.12180000000000001,0.12180000000000001,0.12180000000000001,0.12180000000000001,0.12180000000000001,0.12180000000000001,0.12180000000000001,0.12180000000000001,0.12180000000000001,0.12180000000000001,0.12180000000000001,0.12180000000000001,0.12180000000000001,0.12180000000000001,0,0,0,0,0,0,0,0,0,0,0,0,0,0,0,0,0,0,0,0,0,0,0,0,0,0,0,0,0,0,0,0,0,0,0,0,0,0,0]
[null,null,null,"P90 Capacity Factor","%",{"$f":"_xlfn.NORM.INV(0.1,F88,F88*F89)","v":0.32745363029921892},null,0,0.32745363029921892,0.32745363029921892,0.32745363029921892,0.32745363029921892,0.32745363029921892,0.32745363029921892,0.32745363029921892,0.32745363029921892,0.32745363029921892,0.32745363029921892,0.32745363029921892,0.32745363029921892,0.32745363029921892,0.32745363029921892,0.32745363029921892,0.32745363029921892,0.32745363029921892,0.32745363029921892,0.32745363029921892,0.32745363029921892,0.32745363029921892,0.32745363029921892,0.32745363029921892,0.32745363029921892,0.32745363029921892,0.32745363029921892,0.32745363029921892,0.32745363029921892,0.32745363029921892,0.32745363029921892,0.32745363029921892,0.32745363029921892,0.32745363029921892,0.32745363029921892,0.32745363029921892,0.32745363029921892,0.32745363029921892,0.32745363029921892,0.32745363029921892,0.32745363029921892,0.32745363029921892,0.32745363029921892,0.32745363029921892,0.32745363029921892,0.32745363029921892,0.32745363029921892,0.32745363029921892,0.32745363029921892,0.32745363029921892,0.32745363029921892,0.32745363029921892,0.32745363029921892,0.32745363029921892,0.32745363029921892,0.32745363029921892,0.32745363029921892,0.32745363029921892,0.32745363029921892,0.32745363029921892,0.32745363029921892,0,0,0,0,0,0,0,0,0,0,0,0,0,0,0,0,0,0,0,0,0,0,0,0,0,0,0,0,0,0,0,0,0,0,0,0,0,0,0]
[null,null,null,"P99 Capacity Factor","%",{"$f":"_xlfn.NORM.INV(0.01,F88,F88*F89)","v":0.27807555835234476},null,0,0.27807555835234476,0.27807555835234476,0.27807555835234476,0.27807555835234476,0.27807555835234476,0.27807555835234476,0.27807555835234476,0.27807555835234476,0.27807555835234476,0.27807555835234476,0.27807555835234476,0.27807555835234476,0.27807555835234476,0.27807555835234476,0.27807555835234476,0.27807555835234476,0.27807555835234476,0.27807555835234476,0.27807555835234476,0.27807555835234476,0.27807555835234476,0.27807555835234476,0.27807555835234476,0.27807555835234476,0.27807555835234476,0.27807555835234476,0.27807555835234476,0.27807555835234476,0.27807555835234476,0.27807555835234476,0.27807555835234476,0.27807555835234476,0.27807555835234476,0.27807555835234476,0.27807555835234476,0.27807555835234476,0.27807555835234476,0.27807555835234476,0.27807555835234476,0.27807555835234476,0.27807555835234476,0.27807555835234476,0.27807555835234476,0.27807555835234476,0.27807555835234476,0.27807555835234476,0.27807555835234476,0.27807555835234476,0.27807555835234476,0.27807555835234476,0.27807555835234476,0.27807555835234476,0.27807555835234476,0.27807555835234476,0.27807555835234476,0.27807555835234476,0.27807555835234476,0.27807555835234476,0.27807555835234476,{"$f":"$F91*BP$5","v":0.27807555835234476},0,0,0,0,0,0,0,0,0,0,0,0,0,0,0,0,0,0,0,0,0,0,0,0,0,0,0,0,0,0,0,0,0,0,0,0,0,0,0]
[]
[null,null,null,"Generation at P50","MWH",null,null,{"$f":"H$84*H88*H$86","v":0},202267.57746439037,205620.07874833053,202267.57746439037,205620.07874833053,202267.57746439037,205620.07874833053,203385.07789237043,205620.07874833053,202267.57746439037,205620.07874833053,202267.57746439037,205620.07874833053,202267.57746439037,205620.07874833053,203385.07789237043,205620.07874833053,202267.57746439037,205620.07874833053,202267.57746439037,205620.07874833053,202267.57746439037,205620.07874833053,203385.07789237043,205620.07874833053,202267.57746439037,205620.07874833053,202267.57746439037,205620.07874833053,202267.57746439037,205620.07874833053,203385.07789237043,205620.07874833053,202267.57746439037,205620.07874833053,202267.57746439037,205620.07874833053,202267.57746439037,205620.07874833053,203385.07789237043,205620.07874833053,202267.57746439037,205620.07874833053,202267.57746439037,205620.07874833053,202267.57746439037,205620.07874833053,203385.07789237043,205620.07874833053,202267.57746439037,205620.07874833053,202267.57746439037,205620.07874833053,202267.57746439037,205620.07874833053,203385.07789237043,205620.07874833053,202267.57746439037,205620.07874833053,202267.57746439037,205620.07874833053,0,0,0,{"$f":"BT$84*BT88*BT$86","v":0},0,0,0,0,0,0,0,0,0,0,0,0,0,0,0,0,0,0,0,0,0,0,0,0,0,0,0,0,0,0,0,0,0,0,0]
[null,null,null,"Generation at P90","MWH",null,null,{"$f":"H$84*H90*H$86","v":0},170695.02840237683,173524.22776816209,170695.02840237683,173524.22776816209,170695.02840237683,173524.22776816209,171638.09485763859,173524.22776816209,170695.02840237683,173524.22776816209,170695.02840237683,173524.22776816209,170695.02840237683,173524.22776816209,171638.09485763859,173524.22776816209,170695.02840237683,173524.22776816209,170695.02840237683,173524.22776816209,170695.02840237683,173524.22776816209,171638.09485763859,173524.22776816209,170695.02840237683,173524.22776816209,170695.02840237683,173524.22776816209,170695.02840237683,173524.22776816209,171638.09485763859,173524.22776816209,170695.02840237683,173524.22776816209,170695.02840237683,173524.22776816209,170695.02840237683,173524.22776816209,171638.09485763859,173524.22776816209,170695.02840237683,173524.22776816209,170695.02840237683,173524.22776816209,170695.02840237683,173524.22776816209,171638.09485763859,173524.22776816209,170695.02840237683,173524.22776816209,170695.02840237683,173524.22776816209,170695.02840237683,173524.22776816209,171638.09485763859,173524.22776816209,170695.02840237683,173524.22776816209,170695.02840237683,173524.22776816209,0,0,0,{"$f":"BT$84*BT90*BT$86","v":0},0,0,0,0,0,0,0,0,0,0,0,0,0,0,0,0,0,0,0,0,0,0,0,0,0,0,0,0,0,0,0,0,0,0,0]
[null,null,null,"Generation at P99","MWH",null,null,{"$f":"H84*H86*H91","v":0},144955.22705791026,147357.79988207453,144955.22705791026,147357.79988207453,144955.22705791026,147357.79988207453,145756.08466596503,147357.79988207453,144955.22705791026,147357.79988207453,144955.22705791026,147357.79988207453,144955.22705791026,147357.79988207453,145756.08466596503,147357.79988207453,144955.22705791026,147357.79988207453,144955.22705791026,147357.79988207453,144955.22705791026,147357.79988207453,145756.08466596503,147357.79988207453,144955.22705791026,147357.79988207453,144955.22705791026,147357.79988207453,144955.22705791026,147357.79988207453,145756.08466596503,147357.79988207453,144955.22705791026,147357.79988207453,144955.22705791026,147357.79988207453,144955.22705791026,147357.79988207453,145756.08466596503,147357.79988207453,144955.22705791026,147357.79988207453,144955.22705791026,147357.79988207453,144955.22705791026,147357.79988207453,145756.08466596503,147357.79988207453,144955.22705791026,147357.79988207453,144955.22705791026,147357.79988207453,144955.22705791026,147357.79988207453,145756.08466596503,147357.79988207453,144955.22705791026,147357.79988207453,144955.22705791026,147357.79988207453,0,0,0,0,0,0,0,0,0,0,0,0,0,0,0,0,0,0,0,0,0,0,0,0,0,0,0,0,0,0,0,0,0,0,0,0,0,0,0]
[null,null,null,"MWH Applied ","MWH",{"$f":"F21","v":1},null,{"$f":"INDEX(H93:H95,$F$96)","v":0},202267.57746439037,205620.07874833053,202267.57746439037,205620.07874833053,202267.57746439037,205620.07874833053,203385.07789237043,205620.07874833053,202267.57746439037,205620.07874833053,202267.57746439037,205620.07874833053,202267.57746439037,205620.07874833053,203385.07789237043,205620.07874833053,202267.57746439037,205620.07874833053,202267.57746439037,205620.07874833053,202267.57746439037,205620.07874833053,203385.07789237043,205620.07874833053,202267.57746439037,205620.07874833053,202267.57746439037,205620.07874833053,202267.57746439037,205620.07874833053,203385.07789237043,205620.07874833053,202267.57746439037,205620.07874833053,202267.57746439037,205620.07874833053,202267.57746439037,205620.07874833053,203385.07789237043,205620.07874833053,202267.57746439037,205620.07874833053,202267.57746439037,205620.07874833053,202267.57746439037,205620.07874833053,203385.07789237043,205620.07874833053,202267.57746439037,205620.07874833053,202267.57746439037,205620.07874833053,202267.57746439037,205620.07874833053,203385.07789237043,205620.07874833053,202267.57746439037,205620.07874833053,202267.57746439037,205620.07874833053,0,0,0,{"$f":"INDEX(BT93:BT95,$F$96)","v":0},0,0,0,0,0,0,0,0,0,0,0,0,0,0,0,0,0,0,0,0,0,0,0,0,0,0,0,0,0,0,0,0,0,0,0]
[]
[null,"Construction Costs"]
[null,null,null,"EPC Cost","Euro 000's",{"$f":"F25*$F$84","v":168000},null,{"$f":"$F99*H$4","v":168000},{"$f":"$F99*I$4","v":0},0,0,0,0,0,0,0,0,0,0,0,0,0,0,0,0,0,0,0,0,0,0,0,0,0,0,0,0,0,0,0,0,0,0,0,0,0,0,0,0,0,0,0,0,0,0,0,0,0,0,0,0,0,0,0,0,0,0,0,0,0,0,0,{"$f":"$F99*BU$4","v":0},0,0,0,0,0,0,0,0,0,0,0,0,0,0,0,0,0,0,0,0,0,0,0,0,0,0,0,0,0,0,0,0,0,0]
[null,null,null,"Development Cost","Euro 000's",{"$f":"F26*$F$84","v":5040},null,{"$f":"$F100*H$4","v":5040},0,0,0,0,0,0,0,0,0,0,0,0,0,0,0,0,0,0,0,0,0,0,0,0,0,0,0,0,0,0,0,0,0,0,0,0,0,0,0,0,0,0,0,0,0,0,0,0,0,0,0,0,0,0,0,0,0,0,0,0,0,0,0,0,0,0,0,0,0,0,0,0,0,0,0,0,0,0,0,0,0,0,0,0,0,0,0,0,0,0,0,0,0,0,0,0,0,0,0]
[null,null,null,"Owners Cost","Euro 000's",{"$f":"F27*$F$84","v":5520},null,5520,0,0,0,0,0,0,0,0,0,0,0,0,0,0,0,0,0,0,0,0,0,0,0,0,0,0,0,0,0,0,0,0,0,0,0,0,0,0,0,0,0,0,0,0,0,0,0,0,0,0,0,0,0,0,0,0,0,0,0,0,0,0,0,0,0,0,0,0,0,0,0,0,0,0,0,0,0,0,0,0,0,0,0,0,0,0,0,0,0,0,0,0,0,0,0,0,0,0,0]
[null,null,null,"Total Cost","Euro 000's",{"$f":"F28*$F$84","v":178560},null,178560,0,0,0,0,0,0,0,0,0,0,0,0,0,0,0,0,0,0,0,0,0,0,0,0,0,0,0,0,0,0,0,0,0,0,0,0,0,0,0,0,0,0,0,0,0,0,0,0,0,0,0,0,0,0,0,0,0,0,0,0,0,0,0,0,0,0,0,0,0,0,0,0,0,0,0,0,0,0,0,0,0,0,0,0,0,0,0,0,0,0,0,0,0,0,0,0,0,0,0]
[]
[null,"Operations and Maintenance Cost"]
[null,null,null,"Real Variable Cost per MWH","Euro/MWH",{"$f":"SUMPRODUCT(I33:I47*H33:H47)","v":9.2258010998766053},null,{"$f":"$F$105*H5","v":0},9.2258010998766053,9.2258010998766053,9.2258010998766053,9.2258010998766053,9.2258010998766053,9.2258010998766053,9.2258010998766053,9.2258010998766053,9.2258010998766053,9.2258010998766053,9.2258010998766053,9.2258010998766053,9.2258010998766053,9.2258010998766053,9.2258010998766053,9.2258010998766053,9.2258010998766053,9.2258010998766053,9.2258010998766053,9.2258010998766053,9.2258010998766053,9.2258010998766053,9.2258010998766053,9.2258010998766053,9.2258010998766053,9.2258010998766053,9.2258010998766053,9.2258010998766053,9.2258010998766053,9.2258010998766053,9.2258010998766053,{"$f":"$F$105*AN5","v":9.2258010998766053},9.2258010998766053,9.2258010998766053,9.2258010998766053,9.2258010998766053,9.2258010998766053,9.2258010998766053,9.2258010998766053,9.2258010998766053,9.2258010998766053,9.2258010998766053,9.2258010998766053,9.2258010998766053,9.2258010998766053,9.2258010998766053,9.2258010998766053,9.2258010998766053,9.2258010998766053,9.2258010998766053,9.2258010998766053,9.2258010998766053,9.2258010998766053,9.2258010998766053,9.2258010998766053,9.2258010998766053,9.2258010998766053,9.2258010998766053,9.2258010998766053,9.2258010998766053,0,0,0,{"$f":"$F$105*BT5","v":0},0,0,0,0,0,0,0,0,0,0,0,0,0,0,0,0,0,0,0,0,0,0,0,0,0,0,0,0,0,0,0,0,0,0,0]
[null,null,null,"Real Fixed Cost per kW-year","Euro/kW-yr",{"$f":"SUMPRODUCT(G33:G47*F33:F47)","v":22.749862335431633},null,{"$f":"$F$106/2*H5","v":0},11.374931167715816,11.374931167715816,11.374931167715816,11.374931167715816,11.374931167715816,11.374931167715816,11.374931167715816,11.374931167715816,11.374931167715816,11.374931167715816,11.374931167715816,11.374931167715816,11.374931167715816,11.374931167715816,11.374931167715816,11.374931167715816,11.374931167715816,11.374931167715816,11.374931167715816,11.374931167715816,11.374931167715816,11.374931167715816,11.374931167715816,11.374931167715816,11.374931167715816,11.374931167715816,11.374931167715816,11.374931167715816,11.374931167715816,11.374931167715816,11.374931167715816,{"$f":"$F$106/2*AN5","v":11.374931167715816},11.374931167715816,11.374931167715816,11.374931167715816,11.374931167715816,11.374931167715816,11.374931167715816,11.374931167715816,11.374931167715816,11.374931167715816,11.374931167715816,11.374931167715816,11.374931167715816,11.374931167715816,11.374931167715816,11.374931167715816,11.374931167715816,11.374931167715816,11.374931167715816,11.374931167715816,11.374931167715816,11.374931167715816,11.374931167715816,11.374931167715816,11.374931167715816,11.374931167715816,11.374931167715816,11.374931167715816,11.374931167715816,0,0,0,{"$f":"$F$106/2*BT5","v":0},0,0,0,0,0,0,0,0,0,0,0,0,0,0,0,0,0,0,0,0,0,0,0,0,0,0,0,0,0,0,0,0,0,0,0]
[]
[null,null,null,"Inflation Rate","%",{"$f":"F30","v":0.02},null,{"$f":"(1+$F$108)^(1/2)-1","v":9.9504938362078299E-3},{"$f":"(1+$F$108)^(1/2)-1","v":9.9504938362078299E-3},9.9504938362078299E-3,9.9504938362078299E-3,9.9504938362078299E-3,9.9504938362078299E-3,9.9504938362078299E-3,9.9504938362078299E-3,9.9504938362078299E-3,9.9504938362078299E-3,9.9504938362078299E-3,9.9504938362078299E-3,9.9504938362078299E-3,9.9504938362078299E-3,9.9504938362078299E-3,9.9504938362078299E-3,9.9504938362078299E-3,9.9504938362078299E-3,9.9504938362078299E-3,9.9504938362078299E-3,9.9504938362078299E-3,9.9504938362078299E-3,9.9504938362078299E-3,9.9504938362078299E-3,9.9504938362078299E-3,9.9504938362078299E-3,9.9504938362078299E-3,9.9504938362078299E-3,9.9504938362078299E-3,9.9504938362078299E-3,9.9504938362078299E-3,9.9504938362078299E-3,9.9504938362078299E-3,9.9504938362078299E-3,9.9504938362078299E-3,9.9504938362078299E-3,9.9504938362078299E-3,9.9504938362078299E-3,9.9504938362078299E-3,9.9504938362078299E-3,9.9504938362078299E-3,9.9504938362078299E-3,9.9504938362078299E-3,9.9504938362078299E-3,9.9504938362078299E-3,9.9504938362078299E-3,9.9504938362078299E-3,9.9504938362078299E-3,9.9504938362078299E-3,9.9504938362078299E-3,9.9504938362078299E-3,9.9504938362078299E-3,9.9504938362078299E-3,9.9504938362078299E-3,9.9504938362078299E-3,9.9504938362078299E-3,9.9504938362078299E-3,9.9504938362078299E-3,9.9504938362078299E-3,9.9504938362078299E-3,9.9504938362078299E-3,9.9504938362078299E-3,9.9504938362078299E-3,9.9504938362078299E-3,9.9504938362078299E-3,{"$f":"(1+$F$108)^(1/2)-1","v":9.9504938362078299E-3},9.9504938362078299E-3,9.9504938362078299E-3,9.9504938362078299E-3,9.9504938362078299E-3,9.9504938362078299E-3,9.9504938362078299E-3,9.9504938362078299E-3,9.9504938362078299E-3,9.9504938362078299E-3,9.9504938362078299E-3,9.9504938362078299E-3,9.9504938362078299E-3,9.9504938362078299E-3,9.9504938362078299E-3,9.9504938362078299E-3,9.9504938362078299E-3,9.9504938362078299E-3,9.9504938362078299E-3,9.9504938362078299E-3,9.9504938362078299E-3,9.9504938362078299E-3,9.9504938362078299E-3,9.9504938362078299E-3,9.9504938362078299E-3,9.9504938362078299E-3,9.9504938362078299E-3,9.9504938362078299E-3,9.9504938362078299E-3,9.9504938362078299E-3,9.9504938362078299E-3,9.9504938362078299E-3,9.9504938362078299E-3,9.9504938362078299E-3,9.9504938362078299E-3]
[null,null,null,"Inflation Index","Index",null,1,{"$f":"G109*(1+H108*H5)","v":1},1.0099504938362078,1.02,1.030149503712932,1.0404,1.0507524937871906,1.0612080000000002,1.0717675436629346,1.0824321600000002,1.0932028945361933,1.1040808032000002,1.1150669524269172,1.1261624192640003,1.1373682914754557,1.1486856676492805,1.1601156573049649,1.1716593810022662,1.1833179704510643,1.1950925686223117,1.2069843298600857,1.218994419994758,1.2311240164572876,1.2433743083946533,1.2557464967864336,1.2682417945625466,1.2808614267221623,1.2936066304537976,1.3064786552566057,1.3194787630628737,1.332608228361738,1.3458683383241312,1.3592603929289728,{"$f":"AM109*(1+AN108*AN5)","v":1.372785705090614},1.3864456007875525,1.4002414191924266,1.4141745128033039,1.4282462475762754,1.4424580030593701,1.456811172527801,1.4713071631205576,1.4859473959783571,1.5007333063829689,1.5156663438979243,1.5307479725106283,1.5459796707758831,1.5613629319608411,1.5768992641914008,1.5925901906000579,1.6084372494752288,1.6244419944120592,1.6406059944647335,1.6569308343003004,1.6734181143540283,1.6900694509863066,1.7068864766411089,1.7238708400060327,1.7410242061739312,1.7583482568061535,1.7758446902974099,1.7935152219422767,1.8113615841033583,1.8113615841033583,1.8113615841033583,1.8113615841033583,{"$f":"BS109*(1+BT108*BT5)","v":1.8113615841033583},1.8113615841033583,1.8113615841033583,1.8113615841033583,1.8113615841033583,1.8113615841033583,1.8113615841033583,1.8113615841033583,1.8113615841033583,1.8113615841033583,1.8113615841033583,1.8113615841033583,1.8113615841033583,1.8113615841033583,1.8113615841033583,1.8113615841033583,1.8113615841033583,1.8113615841033583,1.8113615841033583,1.8113615841033583,1.8113615841033583,1.8113615841033583,1.8113615841033583,1.8113615841033583,1.8113615841033583,1.8113615841033583,1.8113615841033583,1.8113615841033583,1.8113615841033583,1.8113615841033583,1.8113615841033583,1.8113615841033583,{"$f":"CY109*(1+CZ108*CZ5)","v":1.8113615841033583},1.8113615841033583,1.8113615841033583,1.8113615841033583]
[]
[null,null,null,"Nominal Variable Cost per MWH",null,null,null,{"$f":"H105*H109","v":0},{"$f":"I105*I109","v":9.3176023768550067},9.4103171218741384,9.5039544243921075,9.5985234643116204,9.6940335128799493,9.7904939335978547,9.8879141831375499,9.9863038122698118,10.0856724668003,10.186029888515208,10.287385916136307,10.389750486285513,10.493133634459035,10.597545496011225,10.702996307148217,10.80949640593145,10.917056233291182,11.02568633405008,11.135397357957007,11.246200060731082,11.358105305116148,11.471124061945707,11.585267411218473,11.700546543184622,11.816972759442843,11.934557474048315,12.053312214631701,12.173248623529282,12.294378458924337,12.41671359599987,12.540266028102824,12.665047867919869,12.791071348664882,12.918348825278269,13.046892775638183,13.176715801783836,13.307830631150949,13.440250117819513,13.573987243773969,13.709055120175904,13.845466988649449,13.983236222579423,14.122376328422439,14.262900947031014,14.404823854990889,14.548158965971636,14.692920332090706,14.839122145291068,14.986778738732522,15.13590458819689,15.286514313507173,15.438622679960829,15.592244599777318,15.747395133560046,15.904089491772865,16.062343036231248,16.222171281608322,16.383589896955872,16.54661470724049,16.711261694894993,0,0,0,0,{"$f":"BU105*BU109","v":0},0,0,0,0,0,0,0,0,0,0,0,0,0,0,0,0,0,0,0,0,0,0,0,0,0,0,0,0,0,0,0,0,0,0]
[null,null,null,"Nominal Fixed Cost per kW-year",null,null,null,{"$f":"H106*H109","v":0},{"$f":"I106*I109","v":11.48811735018746},11.602429791070133,11.717879697191211,11.834478386891535,11.952237291135035,12.071167954629368,12.191282036957737,12.312591313721956,12.435107677696893,12.558843139996394,12.68380983125083,12.810020002796323,12.937486027875849,13.066220402852252,13.196235748433367,13.327544810909298,13.460160463402035,13.594095707127487,13.729363672670077,13.865977621270037,14.003950946123481,14.143297173695441,14.284029965045953,14.426163117169351,14.569710564346872,14.71468637951274,14.861104775633811,15.008980107102994,15.158326871146489,15.309159709245055,15.461493408569421,15.615342903429958,15.770723276740812,15.927649761498561,16.086137742275632,16.246202756728536,16.407860497121145,16.571126811863106,16.736017707063571,16.902549348100372,17.070738061204842,17.240600335062378,17.41215282242894,17.585412341763629,17.760395878877521,17.937120588598901,18.115603796455073,18.295863000370879,18.477915872384173,18.661780260378301,18.847474189831857,19.035015865585866,19.224423673628497,19.415716182897587,19.608912147101069,19.804030506555538,20.001090390043089,20.200111116686649,20.401112197843954,20.604113339020387,0,0,0,0,{"$f":"BU106*BU109","v":0},0,0,0,0,0,0,0,0,0,0,0,0,0,0,0,0,0,0,0,0,0,0,0,0,0,0,0,0,0,0,0,0,0,0]
[]
[null,null,null,"Inflated Variable Cost","Euro 000's",null,null,{"$f":"H96*H105*H109/1000","v":0},1884.6488605429079,1934.9501476465234,1922.341837753766,1973.6491505994538,1960.7886745088413,2013.1221336114429,2011.0541963305047,2053.3845762836722,2040.0045369589991,2094.4522678093458,2080.804627698179,2136.3413131655325,2122.4207202521429,2179.0681394288436,2176.8297376110932,2222.6495022174204,2208.1665173503302,2267.1024922617694,2252.3298476973368,2312.4445421070045,2297.3764446512837,2358.6934329491455,2356.2705148346099,2405.8673016081284,2390.190453015196,2453.9846476402918,2437.9942620755,2503.0643405930973,2486.7541473170104,2553.1256274049592,2550.5029829167397,2604.1881399530594,2587.2190148686186,2656.2719027521212,2638.9633951659912,2709.3973408071638,2691.7426630693117,2763.5852876233071,2760.7464528850114,2818.8569933757735,2800.4890666573119,2875.2341332432889,2856.4988479904582,2932.7388159081556,2913.6288249502682,2991.3935922263186,2988.3207462086616,3051.2214640708448,3031.3394294782588,3112.2458933522621,3091.9662180678242,3174.4908112193075,3153.8055424291806,3237.9806274436937,3234.6544800914539,3302.7402399925677,3281.2192863433202,3368.7950447924195,3346.843672070187,3436.1709456882681,0,0,0,{"$f":"BT96*BT105*BT109/1000","v":0},0,0,0,0,0,0,0,0,0,0,0,0,0,0,0,0,0,0,0,0,0,0,0,0,0,0,0,0,0,0,0,0,0,0,0]
[null,null,null,"Inflated Fixed Cost","Euro 000's",null,null,{"$f":"H84*H106*H109","v":0},1378.5740820224953,1392.2915749284159,1406.1455636629453,1420.1374064269842,1434.268474936204,1448.5401545555239,1462.9538444349282,1477.5109576466346,1492.2129213236269,1507.0611767995674,1522.0571797500995,1537.2024003355587,1552.4983233451017,1567.9464483422701,1583.5482898120038,1599.3053773091158,1615.2192556082441,1631.2914848552982,1647.5236407204093,1663.9173145524044,1680.4741135348177,1697.1956608434527,1714.0835958055143,1731.139574060322,1748.3652677216246,1765.7623655415287,1783.3325730760573,1801.0776128523594,1818.9992245375786,1837.0991651094066,1855.3792090283303,1873.841148411595,1892.4867932088973,1911.3179713798272,1930.3365290730756,1949.5443308074241,1968.9432596545373,1988.5352174235727,2008.3221248476282,2028.3059217720443,2048.488567344581,2068.8720402074855,2089.4583386914728,2110.2494810116355,2131.2475054653023,2152.4544706318679,2173.8724555746085,2195.5035600445053,2217.3499046861007,2239.4136312453957,2261.6969027798227,2284.2019038703038,2306.9308408354195,2329.8859419477099,2353.0694576521278,2376.4836607866641,2400.1308468051707,2424.0133340023976,2448.1334637412742,2472.493600682446,0,0,0,{"$f":"BT84*BT106*BT109","v":0},0,0,0,0,0,0,0,0,0,0,0,0,0,0,0,0,0,0,0,0,0,0,0,0,0,0,0,0,0,0,0,0,0,0,0]
[null,null,null,"Total O&M Cost","Euro 000's",null,null,{"$f":"SUM(H114:H115)","v":0},{"$f":"SUM(I114:I115)","v":3263.2229425654032},3327.2417225749396,3328.4874014167112,3393.786557026438,3395.0571494450451,3461.6622881669668,3474.0080407654332,3530.8955339303066,3532.217458282626,3601.5134446089132,3602.8618074482783,3673.5437135010911,3674.9190435972446,3747.0145877711138,3760.3780274230967,3821.9548795265364,3823.3857729585743,3898.3939771170676,3899.8534884177461,3976.3618566594087,3977.8505581861014,4055.889093792598,4070.3541106401244,4137.0068756684504,4138.5557207368201,4219.7470131818209,4221.3268351515571,4304.1419534454562,4305.7533718545892,4390.2247925143656,4405.8821919450702,4478.0292883646543,4479.7058080775159,4567.5898741319488,4569.299924239067,4658.9416716145879,4660.6859227238492,4752.1205050468798,4769.0685777326398,4847.1629151478173,4848.9776340018925,4944.1061734507748,4945.9571866819315,5042.9882969197915,5044.8763304155709,5143.8480628581865,5162.1932017832696,5246.7250241153506,5248.689334164359,5351.6595245976578,5353.6631208476465,5458.6927150896117,5460.7363832646006,5567.8665693914036,5587.7239377435817,5679.2239007792323,5681.3501331484913,5792.8083787948171,5794.9771358114613,5908.6645463707137,0,0,0,0,{"$f":"SUM(BU114:BU115)","v":0},0,0,0,0,0,0,0,0,0,0,0,0,0,0,0,0,0,0,0,0,0,0,0,0,0,0,0,0,0,0,0,0,0,0]
[]
[null,"Revenues and PPA"]
[null,null,"PPA Contract"]
[null,null,null,"Base Price","USD/MWH",{"$f":"F51","v":43.217136325356108},null,{"$f":"$F$120*H5","v":0},43.217136325356108,43.217136325356108,43.217136325356108,43.217136325356108,43.217136325356108,43.217136325356108,43.217136325356108,43.217136325356108,43.217136325356108,43.217136325356108,43.217136325356108,43.217136325356108,43.217136325356108,43.217136325356108,43.217136325356108,43.217136325356108,43.217136325356108,43.217136325356108,43.217136325356108,43.217136325356108,43.217136325356108,43.217136325356108,43.217136325356108,43.217136325356108,43.217136325356108,43.217136325356108,43.217136325356108,43.217136325356108,43.217136325356108,43.217136325356108,43.217136325356108,{"$f":"$F$120*AN5","v":43.217136325356108},43.217136325356108,43.217136325356108,43.217136325356108,43.217136325356108,43.217136325356108,43.217136325356108,43.217136325356108,43.217136325356108,43.217136325356108,43.217136325356108,43.217136325356108,43.217136325356108,43.217136325356108,43.217136325356108,43.217136325356108,43.217136325356108,43.217136325356108,43.217136325356108,43.217136325356108,43.217136325356108,43.217136325356108,43.217136325356108,43.217136325356108,43.217136325356108,43.217136325356108,43.217136325356108,43.217136325356108,43.217136325356108,0,0,0,{"$f":"$F$120*BT5","v":0},0,0,0,0,0,0,0,0,0,0,0,0,0,0,0,0,0,0,0,0,0,0,0,0,0,0,0,0,0,0,0,0,0,0,0]
[null,null,null,"Inflation Index/Applied","Index",{"$f":"F52","v":true},null,{"$f":"IF($F$121,H109,1)","v":1},{"$f":"IF($F$121,I109,1)","v":1.0099504938362078},1.02,1.030149503712932,1.0404,1.0507524937871906,1.0612080000000002,1.0717675436629346,1.0824321600000002,1.0932028945361933,1.1040808032000002,1.1150669524269172,1.1261624192640003,1.1373682914754557,1.1486856676492805,1.1601156573049649,1.1716593810022662,1.1833179704510643,1.1950925686223117,1.2069843298600857,1.218994419994758,1.2311240164572876,1.2433743083946533,1.2557464967864336,1.2682417945625466,1.2808614267221623,1.2936066304537976,1.3064786552566057,1.3194787630628737,1.332608228361738,1.3458683383241312,1.3592603929289728,1.372785705090614,1.3864456007875525,1.4002414191924266,1.4141745128033039,1.4282462475762754,1.4424580030593701,1.456811172527801,1.4713071631205576,1.4859473959783571,1.5007333063829689,1.5156663438979243,1.5307479725106283,1.5459796707758831,1.5613629319608411,1.5768992641914008,1.5925901906000579,1.6084372494752288,1.6244419944120592,1.6406059944647335,1.6569308343003004,1.6734181143540283,1.6900694509863066,1.7068864766411089,1.7238708400060327,1.7410242061739312,1.7583482568061535,1.7758446902974099,1.7935152219422767,1.8113615841033583,1.8113615841033583,1.8113615841033583,1.8113615841033583,1.8113615841033583,{"$f":"IF($F$121,BU109,1)","v":1.8113615841033583},1.8113615841033583,1.8113615841033583,1.8113615841033583,1.8113615841033583,1.8113615841033583,1.8113615841033583,1.8113615841033583,1.8113615841033583,1.8113615841033583,1.8113615841033583,1.8113615841033583,1.8113615841033583,1.8113615841033583,1.8113615841033583,1.8113615841033583,1.8113615841033583,1.8113615841033583,1.8113615841033583,1.8113615841033583,1.8113615841033583,1.8113615841033583,1.8113615841033583,1.8113615841033583,1.8113615841033583,1.8113615841033583,1.8113615841033583,1.8113615841033583,1.8113615841033583,1.8113615841033583,1.8113615841033583,1.8113615841033583,1.8113615841033583,1.8113615841033583,1.8113615841033583]
[null,null,null,"Inflated Price","USD/MWH",null,null,{"$f":"H120*H121","v":0},{"$f":"I120*I121","v":43.64716817398012},44.081479051863234,44.520111537459719,44.963108632900493,45.410513768208915,45.862370805558513,46.318724043573098,46.779618221669686,47.245098524444565,47.715210586103076,48.190000494933457,48.669514797825144,49.153800504832134,49.642905093781657,50.13687651492878,50.63576319565729,51.139614045227361,51.648478459570448,52.162406326131908,52.681448028761857,53.205654452654557,53.735076989337102,54.269767541707658,54.809778529123854,55.355162892541813,55.905974099706334,56.462266150392651,57.024093581700463,57.591511473400516,58.164575453334479,58.743341702868527,59.327866962401174,59.91820853692591,60.514424301649207,61.116572707664439,61.724712787682208,62.338904161817737,62.959207043435853,63.585682245054095,64.218391184304579,64.857395889955185,65.502759007990662,66.154543807754294,66.812814188150497,67.477634683909386,68.149070471913504,68.827187377587578,69.51205188135178,70.203731125139328,70.902292918978816,71.607805747642118,72.320338777358401,73.039961862594964,73.766745552905576,74.500761099846869,75.242080463963688,75.990776321843811,76.746922073242956,77.510591848280697,78.28186051470783,0,0,0,0,{"$f":"BU120*BU121","v":0},0,0,0,0,0,0,0,0,0,0,0,0,0,0,0,0,0,0,0,0,0,0,0,0,0,0,0,0,0,0,0,0,0,0]
[null,null,null,"Revenues","Euro 000's",null,null,{"$f":"H122*H96/1000","v":0},{"$f":"I122*I96/1000","v":8828.4069697317991},9064.0371939870001,9004.9751091264334,9245.3179378667392,9185.0746113089626,9430.2242966240756,9420.5372974773254,9618.8287825565585,9556.1516256058458,9811.2053582076896,9747.2746581179636,10007.429465371843,9942.2201512803258,10207.578054679283,10197.092535268948,10411.729615772869,10343.885845392051,10619.96420808833,10550.763562299891,10832.363492250097,10761.778833545892,11049.010762095098,11037.660898671049,11269.990977337004,11196.554698421149,11495.390796883743,11420.485792389572,11725.298612821418,11648.895508237365,11959.804585077849,11947.519127896048,12199.000676779406,12119.510886770157,12442.980690314997,12361.901104505563,12691.840304121301,12609.139126595675,12945.677110203726,12932.378936249843,13204.590652407802,13118.548347310145,13468.682465455957,13380.919314256347,13738.056114765082,13648.537700541476,14012.817237060381,13998.422865903423,14293.073581801591,14199.938623643351,14578.935053437623,14483.93739611622,14870.513754506377,14773.616144038546,15167.924029596506,15152.343099333237,15471.282510188435,15370.470236257705,15780.708160392205,15677.879640982861,16096.32232360005,0,0,0,{"$f":"BT122*BT96/1000","v":0},0,0,0,0,0,0,0,0,0,0,0,0,0,0,0,0,0,0,0,0,0,0,0,0,0,0,0,0,0,0,0,0,0,0,0]
[]
["Pre-tax Cash Flow and IRR"]
[null,null,null,"Revenues","Euro 000's",null,null,{"$f":"H123","v":0},{"$f":"I123","v":8828.4069697317991},9064.0371939870001,9004.9751091264334,9245.3179378667392,9185.0746113089626,9430.2242966240756,9420.5372974773254,9618.8287825565585,9556.1516256058458,9811.2053582076896,9747.2746581179636,10007.429465371843,9942.2201512803258,10207.578054679283,10197.092535268948,10411.729615772869,10343.885845392051,10619.96420808833,10550.763562299891,10832.363492250097,10761.778833545892,11049.010762095098,11037.660898671049,11269.990977337004,11196.554698421149,11495.390796883743,11420.485792389572,11725.298612821418,11648.895508237365,11959.804585077849,11947.519127896048,12199.000676779406,12119.510886770157,12442.980690314997,12361.901104505563,12691.840304121301,12609.139126595675,12945.677110203726,12932.378936249843,13204.590652407802,13118.548347310145,13468.682465455957,13380.919314256347,13738.056114765082,13648.537700541476,14012.817237060381,13998.422865903423,14293.073581801591,14199.938623643351,14578.935053437623,14483.93739611622,14870.513754506377,14773.616144038546,15167.924029596506,15152.343099333237,15471.282510188435,15370.470236257705,15780.708160392205,15677.879640982861,16096.32232360005,0,0,0,0,{"$f":"BU123","v":0},0,0,0,0,0,0,0,0,0,0,0,0,0,0,0,0,0,0,0,0,0,0,0,0,0,0,0,0,0,0,0,0,0,0]
[null,null,null,"Total O&M costs","Euro 000's",null,null,{"$f":"H116","v":0},{"$f":"I116","v":3263.2229425654032},3327.2417225749396,3328.4874014167112,3393.786557026438,3395.0571494450451,3461.6622881669668,3474.0080407654332,3530.8955339303066,3532.217458282626,3601.5134446089132,3602.8618074482783,3673.5437135010911,3674.9190435972446,3747.0145877711138,3760.3780274230967,3821.9548795265364,3823.3857729585743,3898.3939771170676,3899.8534884177461,3976.3618566594087,3977.8505581861014,4055.889093792598,4070.3541106401244,4137.0068756684504,4138.5557207368201,4219.7470131818209,4221.3268351515571,4304.1419534454562,4305.7533718545892,4390.2247925143656,4405.8821919450702,4478.0292883646543,4479.7058080775159,4567.5898741319488,4569.299924239067,4658.9416716145879,4660.6859227238492,4752.1205050468798,4769.0685777326398,4847.1629151478173,4848.9776340018925,4944.1061734507748,4945.9571866819315,5042.9882969197915,5044.8763304155709,5143.8480628581865,5162.1932017832696,5246.7250241153506,5248.689334164359,5351.6595245976578,5353.6631208476465,5458.6927150896117,5460.7363832646006,5567.8665693914036,5587.7239377435817,5679.2239007792323,5681.3501331484913,5792.8083787948171,5794.9771358114613,5908.6645463707137,0,0,0,0,{"$f":"BU116","v":0},0,0,0,0,0,0,0,0,0,0,0,0,0,0,0,0,0,0,0,0,0,0,0,0,0,0,0,0,0,0,0,0,0,0]
[null,null,null,"EBITDA","Euro 000's",null,null,{"$f":"H126-H127","v":0},{"$f":"I126-I127","v":5565.1840271663959},5736.7954714120606,5676.4877077097226,5851.5313808403007,5790.0174618639176,5968.5620084571092,5946.5292567118922,6087.933248626252,6023.9341673232193,6209.6919135987764,6144.4128506696852,6333.8857518707518,6267.3011076830808,6460.5634669081692,6436.7145078458516,6589.7747362463324,6520.5000724334768,6721.5702309712615,6650.9100738821453,6856.0016355906882,6783.9282753597909,6993.1216683025004,6967.3067880309245,7132.9841016685532,7057.9989776843286,7275.6437837019221,7199.1589572380153,7421.1566593759617,7343.1421363827758,7569.5797925634834,7541.6369359509781,7720.9713884147513,7639.8050786926406,7875.3908161830477,7792.6011802664962,8032.8986325067126,7948.4532038718262,8193.5566051568458,8163.310358517203,8357.4277372599845,8269.5707133082524,8524.576292005182,8434.9621275744157,8695.0678178452908,8603.6613701259048,8868.9691742021932,8836.2296641201538,9046.3485576862404,8951.2492894789921,9227.275528839964,9130.2742752685735,9411.8210394167654,9312.8797607739452,9600.057460205102,9564.6191615896551,9792.0586094092032,9689.1201031092132,9987.8997815973889,9882.9025051713998,10187.657777229337,0,0,0,0,{"$f":"BU126-BU127","v":0},0,0,0,0,0,0,0,0,0,0,0,0,0,0,0,0,0,0,0,0,0,0,0,0,0,0,0,0,0,0,0,0,0,0]
[null,null,null,"CAPEX","Euro 000's",null,null,{"$f":"H102","v":178560},{"$f":"I102","v":0},0,0,0,0,0,0,0,0,0,0,0,0,0,0,0,0,0,0,0,0,0,0,0,0,0,0,0,0,0,0,0,0,0,0,0,0,0,0,0,0,0,0,0,0,0,0,0,0,0,0,0,0,0,0,0,0,0,0,0,0,0,0,0,{"$f":"BU102","v":0},0,0,0,0,0,0,0,0,0,0,0,0,0,0,0,0,0,0,0,0,0,0,0,0,0,0,0,0,0,0,0,0,0,0]
[null,null,null,"Free Cash Flow",null,null,null,{"$f":"H128-H129","v":-178560},{"$f":"I128-I129","v":5565.1840271663959},5736.7954714120606,5676.4877077097226,5851.5313808403007,5790.0174618639176,5968.5620084571092,5946.5292567118922,6087.933248626252,6023.9341673232193,6209.6919135987764,6144.4128506696852,6333.8857518707518,6267.3011076830808,6460.5634669081692,6436.7145078458516,6589.7747362463324,6520.5000724334768,6721.5702309712615,6650.9100738821453,6856.0016355906882,6783.9282753597909,6993.1216683025004,6967.3067880309245,7132.9841016685532,7057.9989776843286,7275.6437837019221,7199.1589572380153,7421.1566593759617,7343.1421363827758,7569.5797925634834,7541.6369359509781,7720.9713884147513,7639.8050786926406,7875.3908161830477,7792.6011802664962,8032.8986325067126,7948.4532038718262,8193.5566051568458,8163.310358517203,8357.4277372599845,8269.5707133082524,8524.576292005182,8434.9621275744157,8695.0678178452908,8603.6613701259048,8868.9691742021932,8836.2296641201538,9046.3485576862404,8951.2492894789921,9227.275528839964,9130.2742752685735,9411.8210394167654,9312.8797607739452,9600.057460205102,9564.6191615896551,9792.0586094092032,9689.1201031092132,9987.8997815973889,9882.9025051713998,10187.657777229337,0,0,0,0,{"$f":"BU128-BU129","v":0},0,0,0,0,0,0,0,0,0,0,0,0,0,0,0,0,0,0,0,0,0,0,0,0,0,0,0,0,0,0,0,0,0,0]
[]
[null,null,null,"Project IRR",{"$f":"XIRR(H130:DC130,H3:DC3)","v":6.8308195471763616E-2}]
[null,null,null,"NPV at target IRR",{"$f":"#REF!","v":{"$error":"#REF!"}},{"$f":"XNPV(E133,H130:DC130,H3:DC3)","v":{"$error":"#REF!"}},"npv_out"]
[]
["Debt Sizing"]
[null,null,"Debt Repayment Switch",null,"True/False",{"$f":"F69","v":"2021-08-01"},{"$f":"F70","v":"2041-02-01"},{"$f":"AND(H$2>=$F$136,H$2<$G$136)","v":false},false,true,true,true,true,true,true,true,true,true,true,true,true,true,true,true,true,true,true,true,true,true,true,true,true,true,true,true,true,true,true,{"$f":"AND(AN$2>=$F$136,AN$2<$G$136)","v":true},true,true,true,true,true,true,true,true,false,false,false,false,false,false,false,false,false,false,false,false,false,false,false,false,false,false,false,false,false,false,false,{"$f":"AND(BT$2>=$F$136,BT$2<$G$136)","v":false},false,false,false,false,false,false,false,false,false,false,false,false,false,false,false,false,false,false,false,false,false,false,false,false,false,false,false,false,false,false,false,false,false,false,false]
[]
[null,"P50 DSCR"]
[null,null,"Cash flow P50 case"]
[null,null,null,"MWh P50 case","MWh",null,null,{"$f":"H93","v":0},202267.57746439037,205620.07874833053,202267.57746439037,205620.07874833053,202267.57746439037,205620.07874833053,203385.07789237043,205620.07874833053,202267.57746439037,205620.07874833053,202267.57746439037,205620.07874833053,202267.57746439037,205620.07874833053,203385.07789237043,205620.07874833053,202267.57746439037,205620.07874833053,202267.57746439037,205620.07874833053,202267.57746439037,205620.07874833053,203385.07789237043,205620.07874833053,202267.57746439037,205620.07874833053,202267.57746439037,205620.07874833053,202267.57746439037,205620.07874833053,203385.07789237043,205620.07874833053,202267.57746439037,205620.07874833053,202267.57746439037,205620.07874833053,202267.57746439037,205620.07874833053,203385.07789237043,205620.07874833053,202267.57746439037,205620.07874833053,202267.57746439037,205620.07874833053,202267.57746439037,205620.07874833053,203385.07789237043,205620.07874833053,202267.57746439037,205620.07874833053,202267.57746439037,205620.07874833053,202267.57746439037,205620.07874833053,203385.07789237043,205620.07874833053,202267.57746439037,205620.07874833053,202267.57746439037,205620.07874833053,0,0,0,{"$f":"BT93","v":0},0,0,0,0,0,0,0,0,0,0,0,0,0,0,0,0,0,0,0,0,0,0,0,0,0,0,0,0,0,0,0,0,0,0,0]
[null,null,null,"Price - variable cost","Euro/MWh",null,null,{"$f":"H122-(H105*H109)","v":0},34.329565797125113,34.671161929989097,35.016157113067614,35.364585168588874,35.716480255328968,36.071876871960654,36.430809860435545,36.793314409399876,37.159426057644268,37.529180697587869,37.902614578797149,38.27976431153963,38.660666870373099,39.045359597770428,39.433880207780561,39.826266789725842,40.222557811936177,40.62279212552037,41.027008968174897,41.435247968030772,41.847549147538409,42.263952927391394,42.684500130489184,43.109231985939232,43.538190133098972,43.971416625658023,44.408953935760948,44.85084495817118,45.297133014476181,45.747861857334613,46.203075674765699,46.662819094481307,47.127137188261031,47.596075476370942,48.069679932026254,48.547996985898372,49.031073530666788,49.518956925616337,50.011695001280124,50.509336064128675,51.011928901305737,51.51952278541124,52.032167479331854,52.549913241119484,53.072810828918499,53.600911505941866,54.13426704549687,54.672929736060709,55.216952386406803,55.766388330781922,56.321291434134949,56.881716097397572,57.447717262817648,58.019350419345528,58.596671608074004,59.179737427732441,59.768605040235485,60.363332176287088,60.963977141040203,61.570598819812837,0,0,0,{"$f":"BT122-(BT105*BT109)","v":0},0,0,0,0,0,0,0,0,0,0,0,0,0,0,0,0,0,0,0,0,0,0,0,0,0,0,0,0,0,0,0,0,0,0,0]
[null,null,null,"Margin P50 case","Euro 000's",null,null,{"$f":"H140*H141/1000","v":0},{"$f":"I140*I141/1000","v":6943.7581091888896},7129.0870463404781,7082.6332713726679,7271.6687872672865,7224.2859368001209,7417.1021630126324,7409.4831011468204,7565.4442062728867,7516.1470886468478,7716.7530903983434,7666.4700304197841,7871.088152206311,7819.799431028182,8028.509915250439,8020.2627976578542,8189.0801135554493,8135.7193280417214,8352.8617158265606,8298.4337146025537,8519.9189501430901,8464.4023888946085,8690.3173291459534,8681.3903838364386,8864.1236757288734,8806.3642454059536,9041.4061492434539,8982.4915303140715,9222.2342722283211,9162.1413609203555,9406.6789576728897,9397.0161449793068,9594.8125368263482,9532.2918719015397,9786.7087875628768,9722.9377093395724,9982.4429633141372,9917.3964635263637,10182.09182258042,10171.632483364832,10385.73365903203,10318.059280652833,10593.448332212667,10524.420466265889,10805.317298856926,10734.908875591209,11021.423644834062,11010.102119694762,11241.852117730745,11168.599194165092,11466.68916008536,11391.971178048396,11696.022943287069,11619.810601609364,11929.943402152812,11917.688619241784,12168.542270195869,12089.250949914385,12411.913115599786,12331.035968912674,12660.151377911781,0,0,0,0,{"$f":"BU140*BU141/1000","v":0},0,0,0,0,0,0,0,0,0,0,0,0,0,0,0,0,0,0,0,0,0,0,0,0,0,0,0,0,0,0,0,0,0,0]
[null,null,null,"Fixed Cost","Euro 000's",null,null,{"$f":"H115","v":0},1378.5740820224953,1392.2915749284159,1406.1455636629453,1420.1374064269842,1434.268474936204,1448.5401545555239,1462.9538444349282,1477.5109576466346,1492.2129213236269,1507.0611767995674,1522.0571797500995,1537.2024003355587,1552.4983233451017,1567.9464483422701,1583.5482898120038,1599.3053773091158,1615.2192556082441,1631.2914848552982,1647.5236407204093,1663.9173145524044,1680.4741135348177,1697.1956608434527,1714.0835958055143,1731.139574060322,1748.3652677216246,1765.7623655415287,1783.3325730760573,1801.0776128523594,1818.9992245375786,1837.0991651094066,1855.3792090283303,1873.841148411595,1892.4867932088973,1911.3179713798272,1930.3365290730756,1949.5443308074241,1968.9432596545373,1988.5352174235727,2008.3221248476282,2028.3059217720443,2048.488567344581,2068.8720402074855,2089.4583386914728,2110.2494810116355,2131.2475054653023,2152.4544706318679,2173.8724555746085,2195.5035600445053,2217.3499046861007,2239.4136312453957,2261.6969027798227,2284.2019038703038,2306.9308408354195,2329.8859419477099,2353.0694576521278,2376.4836607866641,2400.1308468051707,2424.0133340023976,2448.1334637412742,2472.493600682446,0,0,0,{"$f":"BT115","v":0},0,0,0,0,0,0,0,0,0,0,0,0,0,0,0,0,0,0,0,0,0,0,0,0,0,0,0,0,0,0,0,0,0,0,0]
[null,null,null,"EBITDA P50","Euro 000's",null,null,{"$f":"H142-H143","v":0},{"$f":"I142-I143","v":5565.1840271663941},5736.7954714120624,5676.4877077097226,5851.5313808403025,5790.0174618639167,5968.5620084571083,5946.5292567118922,6087.933248626252,6023.9341673232211,6209.6919135987755,6144.4128506696843,6333.8857518707518,6267.3011076830808,6460.5634669081692,6436.7145078458507,6589.7747362463333,6520.5000724334768,6721.5702309712624,6650.9100738821444,6856.0016355906855,6783.9282753597909,6993.1216683025004,6967.3067880309245,7132.9841016685514,7057.9989776843286,7275.6437837019257,7199.1589572380144,7421.1566593759617,7343.1421363827767,7569.5797925634834,7541.6369359509763,7720.9713884147532,7639.8050786926424,7875.3908161830495,7792.6011802664971,8032.8986325067126,7948.4532038718262,8193.5566051568476,8163.3103585172039,8357.4277372599863,8269.5707133082524,8524.576292005182,8434.9621275744157,8695.0678178452908,8603.6613701259066,8868.9691742021932,8836.2296641201538,9046.3485576862404,8951.2492894789902,9227.275528839964,9130.2742752685735,9411.8210394167654,9312.8797607739452,9600.057460205102,9564.6191615896569,9792.058609409205,9689.1201031092151,9987.8997815973889,9882.9025051713998,10187.657777229335,0,0,0,0,{"$f":"BU142-BU143","v":0},0,0,0,0,0,0,0,0,0,0,0,0,0,0,0,0,0,0,0,0,0,0,0,0,0,0,0,0,0,0,0,0,0,0]
[null,null,null,"CFADS P50 case","Euro 000's",null,null,{"$f":"H144","v":0},{"$f":"I144","v":5565.1840271663941},5736.7954714120624,5676.4877077097226,5851.5313808403025,5790.0174618639167,5968.5620084571083,5946.5292567118922,6087.933248626252,6023.9341673232211,6209.6919135987755,6144.4128506696843,6333.8857518707518,6267.3011076830808,6460.5634669081692,6436.7145078458507,6589.7747362463333,6520.5000724334768,6721.5702309712624,6650.9100738821444,6856.0016355906855,6783.9282753597909,6993.1216683025004,6967.3067880309245,7132.9841016685514,7057.9989776843286,7275.6437837019257,7199.1589572380144,7421.1566593759617,7343.1421363827767,7569.5797925634834,7541.6369359509763,7720.9713884147532,7639.8050786926424,7875.3908161830495,7792.6011802664971,8032.8986325067126,7948.4532038718262,8193.5566051568476,8163.3103585172039,8357.4277372599863,8269.5707133082524,8524.576292005182,8434.9621275744157,8695.0678178452908,8603.6613701259066,8868.9691742021932,8836.2296641201538,9046.3485576862404,8951.2492894789902,9227.275528839964,9130.2742752685735,9411.8210394167654,9312.8797607739452,9600.057460205102,9564.6191615896569,9792.058609409205,9689.1201031092151,9987.8997815973889,9882.9025051713998,10187.657777229335,0,0,0,0,{"$f":"BU144","v":0},0,0,0,0,0,0,0,0,0,0,0,0,0,0,0,0,0,0,0,0,0,0,0,0,0,0,0,0,0,0,0,0,0,0]
[null,null,null,"Target Debt service","Euro 000's",{"$f":"F57","v":1.35},null,{"$f":"IF(H5,H145/$F$146)","v":false},4122.3585386417735,4249.4781269718978,4204.8057094146088,4334.4676895113353,4288.9018236029005,4421.1570433015613,4404.8364864532532,4509.5801841675939,4462.1734572764599,4599.7717878509447,4551.4169264219881,4691.7672236079643,4642.4452649504301,4785.6025680801249,4767.9366724784077,4881.3146194417277,4830.0000536544267,4978.9409118305648,4926.6000547275144,5078.5197300671744,5025.1320558220668,5180.0901246685189,5160.9679911340181,5283.6919271618899,5228.1473908772805,5389.3657657051299,5332.7103386948247,5497.1530810192307,5439.364545468723,5607.096142639617,5586.3977303340562,{"$f":"IF(AN5,AN145/$F$146)","v":5719.2380654924091},5659.114873105661,5833.6228268022587,5772.2971705677755,5950.2952833383051,5887.7431139791297,6069.301189005072,6046.8965618645952,6190.6872127851748,6125.6079357838898,6314.5009570408756,6248.1200944995671,6440.7909761816964,6373.0824963895602,6569.6067957053283,6545.3553067556686,6700.9989316194369,6630.5550292436965,6835.0189102518243,6763.1661298285726,6971.7192884568631,6898.4294524251445,7111.1536742260014,7084.9030826590042,7253.3767477105221,7177.1260023031218,7398.4442826647319,7320.668522349185,7546.4131683180258,false,false,false,{"$f":"IF(BT5,BT145/$F$146)","v":false},false,false,false,false,false,false,false,false,false,false,false,false,false,false,false,false,false,false,false,false,false,false,false,false,false,false,false,false,false,false,false,{"$f":"IF(CZ5,CZ145/$F$146)","v":false},false,false,false]
[]
[null,null,null,"Target Debt Service over Debt Repayment","Euro 000's",null,null,{"$f":"H146*H$136","v":0},{"$f":"I146*I136","v":0},4249.4781269718978,4204.8057094146088,4334.4676895113353,4288.9018236029005,4421.1570433015613,4404.8364864532532,4509.5801841675939,4462.1734572764599,4599.7717878509447,4551.4169264219881,4691.7672236079643,4642.4452649504301,4785.6025680801249,4767.9366724784077,4881.3146194417277,4830.0000536544267,4978.9409118305648,4926.6000547275144,5078.5197300671744,5025.1320558220668,5180.0901246685189,5160.9679911340181,5283.6919271618899,5228.1473908772805,5389.3657657051299,5332.7103386948247,5497.1530810192307,5439.364545468723,5607.096142639617,5586.3977303340562,5719.2380654924091,5659.114873105661,5833.6228268022587,5772.2971705677755,5950.2952833383051,5887.7431139791297,6069.301189005072,6046.8965618645952,6190.6872127851748,0,0,0,0,0,0,0,0,0,0,0,0,0,0,0,0,0,0,0,0,0,0,0,0,{"$f":"BU146*BU136","v":0},0,0,0,0,0,0,0,0,0,0,0,0,0,0,0,0,0,0,0,0,0,0,0,0,0,0,0,0,0,0,0,0,0,0]
[null,null,null,"NPV factor","Index",{"$f":"F75/2","v":1.6500000000000001E-2},1,{"$f":"G149*(1+$F$149*H$136)","v":1},{"$f":"H149*(1+$F$149*I136)","v":1},1.0165,1.03327225,1.0503212421249999,1.0676515426200623,1.0852677930732932,1.1031747116590025,1.1213770944013759,1.1398798164589985,1.1586878334305719,1.1778061826821764,1.1972399846964323,1.2169944444439234,1.2370748527772479,1.2574865878480725,1.2782351165475656,1.2993259959706003,1.3207648749041152,1.342557495340033,1.3647096940131436,1.3872274039643604,1.4101166561297722,1.4333835809559134,1.4570344100416859,1.4810754778073736,1.5055132231911952,1.5303541913738499,1.5556050355315183,1.5812725186177883,1.6073635151749817,1.6338850131753688,1.6608441158927623,1.6882480438049927,1.7161041365277749,1.7444198547804832,1.773202782384361,1.802460628293703,1.8322012286605491,1.8624325489334481,1.8931626859908499,1.8931626859908499,1.8931626859908499,1.8931626859908499,1.8931626859908499,1.8931626859908499,1.8931626859908499,1.8931626859908499,1.8931626859908499,1.8931626859908499,1.8931626859908499,1.8931626859908499,1.8931626859908499,1.8931626859908499,1.8931626859908499,1.8931626859908499,1.8931626859908499,1.8931626859908499,1.8931626859908499,1.8931626859908499,1.8931626859908499,1.8931626859908499,1.8931626859908499,1.8931626859908499,1.8931626859908499,{"$f":"BT149*(1+$F$149*BU136)","v":1.8931626859908499},1.8931626859908499,1.8931626859908499,1.8931626859908499,1.8931626859908499,1.8931626859908499,1.8931626859908499,1.8931626859908499,1.8931626859908499,1.8931626859908499,1.8931626859908499,1.8931626859908499,1.8931626859908499,1.8931626859908499,1.8931626859908499,1.8931626859908499,1.8931626859908499,1.8931626859908499,1.8931626859908499,1.8931626859908499,1.8931626859908499,1.8931626859908499,1.8931626859908499,1.8931626859908499,1.8931626859908499,1.8931626859908499,1.8931626859908499,1.8931626859908499,1.8931626859908499,1.8931626859908499,1.8931626859908499,1.8931626859908499,1.8931626859908499,1.8931626859908499,1.8931626859908499]
[null,null,null,"Size of Debt from P50","Euro 000's",{"$f":"SUMPRODUCT(H148:DC148/H149:DC149)","v":143274.87284935094},1]
[]
[null,null,null,"Opening Balance",null,null,null,{"$f":"G154","v":143274.87284935094},{"$f":"H154","v":143274.87284935094},143274.87284935094,141389.43012439334,139517.55001203122,137485.1218977184,135464.72458542784,133278.73549778585,131072.99814704605,128726.12243230472,126387.92999516129,123873.55905223051,121366.05585017033,118676.82854809018,115992.55095418324,113120.82547684714,110219.38242473672,107156.68761530315,104094.77290730123,100833.39574844114,97570.546723562904,94101.941014434517,90629.490985350625,86944.787461940388,83218.408463928383,79307.820276421306,75388.251920104973,71242.792311081575,67085.588045519602,62695.347167251442,58290.455850042366,53645.152228928448,48943.89951037171,44032.235786800433,39099.652804176978,33911.174248643641,28698.411453178487,23221.639958817628,17717.053904158987,11940.084104572539,6090.1989304333911,3.6743585951626301E-10,3.6743585951626301E-10,3.6743585951626301E-10,3.6743585951626301E-10,3.6743585951626301E-10,3.6743585951626301E-10,3.6743585951626301E-10,3.6743585951626301E-10,3.6743585951626301E-10,3.6743585951626301E-10,3.6743585951626301E-10,3.6743585951626301E-10,3.6743585951626301E-10,3.6743585951626301E-10,3.6743585951626301E-10,3.6743585951626301E-10,3.6743585951626301E-10,3.6743585951626301E-10,3.6743585951626301E-10,3.6743585951626301E-10,3.6743585951626301E-10,3.6743585951626301E-10,3.6743585951626301E-10,3.6743585951626301E-10,{"$f":"BT154","v":3.6743585951626301E-10},3.6743585951626301E-10,3.6743585951626301E-10,3.6743585951626301E-10,3.6743585951626301E-10,3.6743585951626301E-10,3.6743585951626301E-10,3.6743585951626301E-10,3.6743585951626301E-10,3.6743585951626301E-10,3.6743585951626301E-10,3.6743585951626301E-10,3.6743585951626301E-10,3.6743585951626301E-10,3.6743585951626301E-10,3.6743585951626301E-10,3.6743585951626301E-10,3.6743585951626301E-10,3.6743585951626301E-10,3.6743585951626301E-10,3.6743585951626301E-10,3.6743585951626301E-10,3.6743585951626301E-10,3.6743585951626301E-10,3.6743585951626301E-10,3.6743585951626301E-10,3.6743585951626301E-10,3.6743585951626301E-10,3.6743585951626301E-10,3.6743585951626301E-10,3.6743585951626301E-10,3.6743585951626301E-10,3.6743585951626301E-10,3.6743585951626301E-10,3.6743585951626301E-10]
[null,null,null,"Less Repayments",null,null,null,{"$f":"(H148-H155)*H$136","v":0},{"$f":"(I148-I155)*I136","v":0},1885.4427249576074,1871.8801123621183,2032.4281143128201,2020.3973122905468,2185.9890876420018,2205.7373507397865,2346.8757147413339,2338.192437143432,2514.3709429307833,2507.5032020601848,2689.227302080154,2684.277593906942,2871.725477336101,2901.4430521104296,3062.6948094335721,3061.9147080019247,3261.3771588600944,3262.8490248782355,3468.6057091283865,3472.4500290838973,3684.7035234102336,3726.3789980120018,3910.5881875070718,3919.5683563163288,4145.4596090233981,4157.2042655619789,4390.2408782681578,4404.8913172090743,4645.3036211139179,4701.2527185567369,4911.663723571276,4932.582982623454,5188.4785555333383,5212.7627954651552,5476.7714943608598,5504.5860546586391,5776.969799586449,5849.8851741391481,6090.1989304330236,0,0,0,0,0,0,0,0,0,0,0,0,0,0,0,0,0,0,0,0,0,0,0,0,{"$f":"(BU148-BU155)*BU136","v":0},0,0,0,0,0,0,0,0,0,0,0,0,0,0,0,0,0,0,0,0,0,0,0,0,0,0,0,0,0,0,0,0,0,0]
[null,null,null,"Closing Balance",null,null,{"$f":"F150","v":143274.87284935094},{"$f":"H152-H153","v":143274.87284935094},{"$f":"I152-I153","v":143274.87284935094},141389.43012439334,139517.55001203122,137485.1218977184,135464.72458542784,133278.73549778585,131072.99814704605,128726.12243230472,126387.92999516129,123873.55905223051,121366.05585017033,118676.82854809018,115992.55095418324,113120.82547684714,110219.38242473672,107156.68761530315,104094.77290730123,100833.39574844114,97570.546723562904,94101.941014434517,90629.490985350625,86944.787461940388,83218.408463928383,79307.820276421306,75388.251920104973,71242.792311081575,67085.588045519602,62695.347167251442,58290.455850042366,53645.152228928448,48943.89951037171,44032.235786800433,39099.652804176978,33911.174248643641,28698.411453178487,23221.639958817628,17717.053904158987,11940.084104572539,6090.1989304333911,3.6743585951626301E-10,3.6743585951626301E-10,3.6743585951626301E-10,3.6743585951626301E-10,3.6743585951626301E-10,3.6743585951626301E-10,3.6743585951626301E-10,3.6743585951626301E-10,3.6743585951626301E-10,3.6743585951626301E-10,3.6743585951626301E-10,3.6743585951626301E-10,3.6743585951626301E-10,3.6743585951626301E-10,3.6743585951626301E-10,3.6743585951626301E-10,3.6743585951626301E-10,3.6743585951626301E-10,3.6743585951626301E-10,3.6743585951626301E-10,3.6743585951626301E-10,3.6743585951626301E-10,3.6743585951626301E-10,3.6743585951626301E-10,3.6743585951626301E-10,{"$f":"BU152-BU153","v":3.6743585951626301E-10},3.6743585951626301E-10,3.6743585951626301E-10,3.6743585951626301E-10,3.6743585951626301E-10,3.6743585951626301E-10,3.6743585951626301E-10,3.6743585951626301E-10,3.6743585951626301E-10,3.6743585951626301E-10,3.6743585951626301E-10,3.6743585951626301E-10,3.6743585951626301E-10,3.6743585951626301E-10,3.6743585951626301E-10,3.6743585951626301E-10,3.6743585951626301E-10,3.6743585951626301E-10,3.6743585951626301E-10,3.6743585951626301E-10,3.6743585951626301E-10,3.6743585951626301E-10,3.6743585951626301E-10,3.6743585951626301E-10,3.6743585951626301E-10,3.6743585951626301E-10,3.6743585951626301E-10,3.6743585951626301E-10,3.6743585951626301E-10,3.6743585951626301E-10,3.6743585951626301E-10,3.6743585951626301E-10,3.6743585951626301E-10,3.6743585951626301E-10,3.6743585951626301E-10]
[null,null,null,"Interest",null,{"$f":"F149","v":1.6500000000000001E-2},null,{"$f":"H152*$F$155*H$5","v":0},{"$f":"I152*$F$155*I5","v":2364.0354020142904},2364.0354020142904,2332.9255970524905,2302.0395751985152,2268.5045113123538,2235.1679556595595,2199.0991357134667,2162.7044694262599,2123.9810201330279,2085.4008449201615,2043.9137243618036,2002.5399215278105,1958.1676710434881,1913.8770907440237,1866.4936203679779,1818.6198100081558,1768.0853456525019,1717.5637529704704,1663.7510298492789,1609.9140209387881,1552.6820267381695,1495.3866012582853,1434.5889931220165,1373.1037396548184,1308.5790345609516,1243.906156681732,1175.506073132846,1106.9122027510734,1034.4732282596487,961.79252152569904,885.14501177731938,807.57434192113328,{"$f":"AO152*$F$155*AO5","v":726.53189048220713},645.14427126892019,559.53437510262006,473.52378897744507,383.15705932049087,292.3313894186233,197.01138772544689,100.48828235215096,6.06269168201834E-12,6.06269168201834E-12,6.06269168201834E-12,6.06269168201834E-12,6.06269168201834E-12,6.06269168201834E-12,6.06269168201834E-12,6.06269168201834E-12,6.06269168201834E-12,6.06269168201834E-12,6.06269168201834E-12,6.06269168201834E-12,6.06269168201834E-12,6.06269168201834E-12,6.06269168201834E-12,6.06269168201834E-12,6.06269168201834E-12,6.06269168201834E-12,6.06269168201834E-12,6.06269168201834E-12,0,0,0,0,{"$f":"BU152*$F$155*BU5","v":0},0,0,0,0,0,0,0,0,0,0,0,0,0,0,0,0,0,0,0,0,0,0,0,0,0,0,0,0,0,0,0,0,0,0]
[]
[null,"P90 DSCR"]
[null,null,"Cash flow P90 case"]
[null,null,null,"MWh P90 case","MWh",null,null,{"$f":"H94","v":0},170695.02840237683,173524.22776816209,170695.02840237683,173524.22776816209,170695.02840237683,173524.22776816209,171638.09485763859,173524.22776816209,170695.02840237683,173524.22776816209,170695.02840237683,173524.22776816209,170695.02840237683,173524.22776816209,171638.09485763859,173524.22776816209,170695.02840237683,173524.22776816209,170695.02840237683,173524.22776816209,170695.02840237683,173524.22776816209,171638.09485763859,173524.22776816209,170695.02840237683,173524.22776816209,170695.02840237683,173524.22776816209,170695.02840237683,173524.22776816209,171638.09485763859,173524.22776816209,170695.02840237683,173524.22776816209,170695.02840237683,173524.22776816209,170695.02840237683,173524.22776816209,171638.09485763859,173524.22776816209,170695.02840237683,173524.22776816209,170695.02840237683,173524.22776816209,170695.02840237683,173524.22776816209,171638.09485763859,173524.22776816209,170695.02840237683,173524.22776816209,170695.02840237683,173524.22776816209,170695.02840237683,173524.22776816209,171638.09485763859,173524.22776816209,170695.02840237683,173524.22776816209,170695.02840237683,173524.22776816209,0,0,0,{"$f":"BT94","v":0},0,0,0,0,0,0,0,0,0,0,0,0,0,0,0,0,0,0,0,0,0,0,0,0,0,0,0,0,0,0,0,0,0,0,0]
[null,null,null,"Price - variable cost","Euro/MWh",null,null,{"$f":"H141","v":0},34.329565797125113,34.671161929989097,35.016157113067614,35.364585168588874,35.716480255328968,36.071876871960654,36.430809860435545,36.793314409399876,37.159426057644268,37.529180697587869,37.902614578797149,38.27976431153963,38.660666870373099,39.045359597770428,39.433880207780561,39.826266789725842,40.222557811936177,40.62279212552037,41.027008968174897,41.435247968030772,41.847549147538409,42.263952927391394,42.684500130489184,43.109231985939232,43.538190133098972,43.971416625658023,44.408953935760948,44.85084495817118,45.297133014476181,45.747861857334613,46.203075674765699,46.662819094481307,47.127137188261031,47.596075476370942,48.069679932026254,48.547996985898372,49.031073530666788,49.518956925616337,50.011695001280124,50.509336064128675,51.011928901305737,51.51952278541124,52.032167479331854,52.549913241119484,53.072810828918499,53.600911505941866,54.13426704549687,54.672929736060709,55.216952386406803,55.766388330781922,56.321291434134949,56.881716097397572,57.447717262817648,58.019350419345528,58.596671608074004,59.179737427732441,59.768605040235485,60.363332176287088,60.963977141040203,61.570598819812837,0,0,0,{"$f":"BT141","v":0},0,0,0,0,0,0,0,0,0,0,0,0,0,0,0,0,0,0,0,0,0,0,0,0,0,0,0,0,0,0,0,0,0,0,0]
[null,null,null,"Margin P90 case","Euro 000's",null,null,{"$f":"H159*H160/1000","v":0},{"$f":"I159*I160/1000","v":5859.886208781536},6016.2865997262588,5977.0839329571663,6136.6123317207821,6096.6256116163095,6259.3445783551988,6252.9147985660311,6384.5314699223045,6342.9292863256105,6512.2220993207502,6469.7878720521221,6642.4665413071652,6599.1836294931645,6775.3158721333102,6768.3560717077962,6910.8221895759771,6865.7906481246901,7049.0386333674987,7003.1064610871827,7190.0194060348467,7143.1685903089292,7333.8197941555454,7326.286282347789,7480.4961900386579,7431.7526013574115,7630.1061138394316,7580.3876533845596,7782.7082361162202,7731.9954064522535,7938.3624008385468,7930.2078853800895,8097.1296488553171,8044.3680208729265,8259.0722418324258,8205.2553812903861,8424.2536866690753,8369.3604889161943,8592.7387604024552,8583.9120506210074,8764.5935356105074,8707.4826526684101,8939.8854063227154,8881.6323057217778,9118.6831144491753,9059.2649518362159,9301.0567767381563,9291.502462203729,9487.07791227292,9425.2592558903998,9676.8194705183778,9613.7644410082085,9870.355859928748,9806.0397298283733,10067.762977127324,10057.421079808504,10269.11823666987,10202.203734913439,10474.500601403268,10406.24780961171,10683.990613431335,0,0,0,0,{"$f":"BU159*BU160/1000","v":0},0,0,0,0,0,0,0,0,0,0,0,0,0,0,0,0,0,0,0,0,0,0,0,0,0,0,0,0,0,0,0,0,0,0]
[null,null,null,"Fixed Cost","Euro 000's",null,null,{"$f":"H143","v":0},1378.5740820224953,1392.2915749284159,1406.1455636629453,1420.1374064269842,1434.268474936204,1448.5401545555239,1462.9538444349282,1477.5109576466346,1492.2129213236269,1507.0611767995674,1522.0571797500995,1537.2024003355587,1552.4983233451017,1567.9464483422701,1583.5482898120038,1599.3053773091158,1615.2192556082441,1631.2914848552982,1647.5236407204093,1663.9173145524044,1680.4741135348177,1697.1956608434527,1714.0835958055143,1731.139574060322,1748.3652677216246,1765.7623655415287,1783.3325730760573,1801.0776128523594,1818.9992245375786,1837.0991651094066,1855.3792090283303,1873.841148411595,1892.4867932088973,1911.3179713798272,1930.3365290730756,1949.5443308074241,1968.9432596545373,1988.5352174235727,2008.3221248476282,2028.3059217720443,2048.488567344581,2068.8720402074855,2089.4583386914728,2110.2494810116355,2131.2475054653023,2152.4544706318679,2173.8724555746085,2195.5035600445053,2217.3499046861007,2239.4136312453957,2261.6969027798227,2284.2019038703038,2306.9308408354195,2329.8859419477099,2353.0694576521278,2376.4836607866641,2400.1308468051707,2424.0133340023976,2448.1334637412742,2472.493600682446,0,0,0,{"$f":"BT143","v":0},0,0,0,0,0,0,0,0,0,0,0,0,0,0,0,0,0,0,0,0,0,0,0,0,0,0,0,0,0,0,0,0,0,0,0]
[null,null,null,"EBITDA P90","Euro 000's",null,null,{"$f":"H161-H162","v":0},{"$f":"I161-I162","v":4481.3121267590404},4623.9950247978431,4570.938369294221,4716.4749252937982,4662.3571366801052,4810.8044237996746,4789.9609541311029,4907.0205122756697,4850.7163650019838,5005.1609225211832,4947.7306923020224,5105.264140971607,5046.6853061480633,5207.3694237910404,5184.8077818957927,5311.5168122668611,5250.5713925164455,5417.7471485122005,5355.5828203667734,5526.1020914824421,5462.6944767741115,5636.6241333120925,5612.2026865422749,5749.3566159783359,5683.3873336357865,5864.3437482979025,5797.0550803085025,5981.6306232638608,5912.9961819146747,6101.2632357291404,6074.828676351759,6223.2885004437221,6151.8812276640292,6347.7542704525986,6274.9188522173108,6474.7093558616507,6400.4172292616568,6604.203542978883,6575.589925773379,6736.2876138384636,6658.9940853238295,6871.0133661152304,6792.173967030305,7008.4336334375403,6928.0174463709136,7148.6023061062879,7117.6300066291205,7291.5743522284147,7207.9093512042991,7437.4058392729821,7352.0675382283862,7586.1539560584442,7499.1088889929542,7737.8770351796138,7704.3516221563768,7892.6345758832067,7802.0728881082687,8050.4872674008702,7958.1143458704355,8211.4970127488887,0,0,0,0,{"$f":"BU161-BU162","v":0},0,0,0,0,0,0,0,0,0,0,0,0,0,0,0,0,0,0,0,0,0,0,0,0,0,0,0,0,0,0,0,0,0,0]
[null,null,null,"CFADS P90 case","Euro 000's",null,null,{"$f":"H163","v":0},{"$f":"I163","v":4481.3121267590404},4623.9950247978431,4570.938369294221,4716.4749252937982,4662.3571366801052,4810.8044237996746,4789.9609541311029,4907.0205122756697,4850.7163650019838,5005.1609225211832,4947.7306923020224,5105.264140971607,5046.6853061480633,5207.3694237910404,5184.8077818957927,5311.5168122668611,5250.5713925164455,5417.7471485122005,5355.5828203667734,5526.1020914824421,5462.6944767741115,5636.6241333120925,5612.2026865422749,5749.3566159783359,5683.3873336357865,5864.3437482979025,5797.0550803085025,5981.6306232638608,5912.9961819146747,6101.2632357291404,6074.828676351759,6223.2885004437221,6151.8812276640292,6347.7542704525986,6274.9188522173108,6474.7093558616507,6400.4172292616568,6604.203542978883,6575.589925773379,6736.2876138384636,6658.9940853238295,6871.0133661152304,6792.173967030305,7008.4336334375403,6928.0174463709136,7148.6023061062879,7117.6300066291205,7291.5743522284147,7207.9093512042991,7437.4058392729821,7352.0675382283862,7586.1539560584442,7499.1088889929542,7737.8770351796138,7704.3516221563768,7892.6345758832067,7802.0728881082687,8050.4872674008702,7958.1143458704355,8211.4970127488887,0,0,0,0,{"$f":"BU163","v":0},0,0,0,0,0,0,0,0,0,0,0,0,0,0,0,0,0,0,0,0,0,0,0,0,0,0,0,0,0,0,0,0,0,0]
[null,null,null,"Target Debt Service","Times",{"$f":"F58","v":1.35},null,{"$f":"H164/$F$165","v":0},{"$f":"I164/$F$165","v":3319.4904642659558},3425.1814998502541,3385.8802735512745,3493.6851298472575,3453.5978790222998,3563.5588324442033,3548.119225282298,3634.8300090930884,3593.1232333348025,3707.5266092749503,3664.9856980014979,3781.6771414604495,3738.2854119615281,3857.3106842896591,3840.5983569598461,3934.4568979754522,3889.3121426047742,4013.146035934963,3967.098385456869,4093.4089566536604,4046.4403531660082,4175.277135786735,4157.1871752164998,4258.7826785024708,4209.9165434339156,4343.9583320725205,4294.1148743025942,4430.8374987139705,4379.9971717886474,4519.4542486882519,4499.8730935938956,4609.8433336620164,4556.9490575289101,4702.0402003352583,4648.0880386794888,4796.0810043419633,4741.0497994530788,4892.0026244288019,4870.8073524247247,4989.8426769173802,4932.5882113509842,5089.6395304557254,5031.2399755780034,5191.4323210648445,5131.8647750895652,5295.2609674861387,5272.3185234289776,5401.1661868358624,5339.1921120031839,5509.1895105725789,5445.9759542432485,5619.3733007840328,5554.8954733281134,5731.7607667997136,5706.9271275232413,5846.3959821357084,5779.3132504505693,5963.3239017784217,5894.8995154595814,6082.5903798139916,0,0,0,0,{"$f":"BU164/$F$165","v":0},0,0,0,0,0,0,0,0,0,0,0,0,0,0,0,0,0,0,0,0,0,0,0,0,0,0,0,0,0,0,0,0,0,0]
[]
[null,null,null,"Target Debt Service over debt maturity","Euro 000's",null,null,{"$f":"H165*H$136","v":0},{"$f":"I165*I$136","v":0},3425.1814998502541,3385.8802735512745,3493.6851298472575,3453.5978790222998,3563.5588324442033,3548.119225282298,3634.8300090930884,3593.1232333348025,3707.5266092749503,3664.9856980014979,3781.6771414604495,3738.2854119615281,3857.3106842896591,3840.5983569598461,3934.4568979754522,3889.3121426047742,4013.146035934963,3967.098385456869,4093.4089566536604,4046.4403531660082,4175.277135786735,4157.1871752164998,4258.7826785024708,4209.9165434339156,4343.9583320725205,4294.1148743025942,4430.8374987139705,4379.9971717886474,4519.4542486882519,4499.8730935938956,4609.8433336620164,4556.9490575289101,4702.0402003352583,4648.0880386794888,4796.0810043419633,4741.0497994530788,4892.0026244288019,4870.8073524247247,4989.8426769173802,0,0,0,0,0,0,0,0,0,0,0,0,0,0,0,0,0,0,0,0,0,0,0,0,{"$f":"BU165*BU$136","v":0},0,0,0,0,0,0,0,0,0,0,0,0,0,0,0,0,0,0,0,0,0,0,0,0,0,0,0,0,0,0,0,0,0,0]
[null,null,null,"NPV of debt service =size of debt","Euro 000's",{"$f":"F149","v":1.6500000000000001E-2},1,{"$f":"G168*(1+$F$168*H$136)","v":1},{"$f":"H168*(1+$F$149*I$136)","v":1},1.0165,1.03327225,1.0503212421249999,1.0676515426200623,1.0852677930732932,1.1031747116590025,1.1213770944013759,1.1398798164589985,1.1586878334305719,1.1778061826821764,1.1972399846964323,1.2169944444439234,1.2370748527772479,1.2574865878480725,1.2782351165475656,1.2993259959706003,1.3207648749041152,1.342557495340033,1.3647096940131436,1.3872274039643604,1.4101166561297722,1.4333835809559134,1.4570344100416859,1.4810754778073736,1.5055132231911952,1.5303541913738499,1.5556050355315183,1.5812725186177883,1.6073635151749817,1.6338850131753688,1.6608441158927623,1.6882480438049927,1.7161041365277749,1.7444198547804832,1.773202782384361,1.802460628293703,1.8322012286605491,1.8624325489334481,1.8931626859908499,1.8931626859908499,1.8931626859908499,1.8931626859908499,1.8931626859908499,1.8931626859908499,1.8931626859908499,1.8931626859908499,1.8931626859908499,1.8931626859908499,1.8931626859908499,1.8931626859908499,1.8931626859908499,1.8931626859908499,1.8931626859908499,1.8931626859908499,1.8931626859908499,1.8931626859908499,1.8931626859908499,1.8931626859908499,1.8931626859908499,1.8931626859908499,1.8931626859908499,1.8931626859908499,1.8931626859908499,{"$f":"BT168*(1+$F$149*BU$136)","v":1.8931626859908499},1.8931626859908499,1.8931626859908499,1.8931626859908499,1.8931626859908499,1.8931626859908499,1.8931626859908499,1.8931626859908499,1.8931626859908499,1.8931626859908499,1.8931626859908499,1.8931626859908499,1.8931626859908499,1.8931626859908499,1.8931626859908499,1.8931626859908499,1.8931626859908499,1.8931626859908499,1.8931626859908499,1.8931626859908499,1.8931626859908499,1.8931626859908499,1.8931626859908499,1.8931626859908499,1.8931626859908499,1.8931626859908499,1.8931626859908499,1.8931626859908499,1.8931626859908499,1.8931626859908499,1.8931626859908499,1.8931626859908499,1.8931626859908499,1.8931626859908499,1.8931626859908499]
[null,null,null,"Size of Debt from P90","Euro 000's",{"$f":"SUMPRODUCT(H167:DC167/H168:DC168)","v":115433.61656577013},2]
[]
[null,null,null,"Opening Balance",null,null,null,{"$f":"G173","v":115433.61656577013},{"$f":"H173","v":115433.61656577013},115433.61656577013,113913.08973925508,112406.77544640152,110767.80211141988,109141.87296723601,107379.1550387512,105602.79187160829,103710.40792839674,101828.50642588049,99801.150172632566,97782.883452479509,95614.62388798497,93453.979770175196,91138.65975209343,88801.84928104312,86332.622896204877,83867.799031387491,81238.471679470415,78611.808076724803,75815.493953337107,73020.009250401155,70049.562267246045,67048.19286943911,63895.705373282384,60740.067968507625,57398.320757915477,54051.278176118489,50512.28676731047,46965.742327182445,43221.222826892699,39434.499909942533,35475.325824794571,31503.71964337477,27321.490817155194,23124.207376958766,18709.675794336621,14277.335645490097,9620.909059211881,4908.8467062641521,1.3005774235352874E-10,1.3005774235352874E-10,1.3005774235352874E-10,1.3005774235352874E-10,1.3005774235352874E-10,1.3005774235352874E-10,1.3005774235352874E-10,1.3005774235352874E-10,1.3005774235352874E-10,1.3005774235352874E-10,1.3005774235352874E-10,1.3005774235352874E-10,1.3005774235352874E-10,1.3005774235352874E-10,1.3005774235352874E-10,1.3005774235352874E-10,1.3005774235352874E-10,1.3005774235352874E-10,1.3005774235352874E-10,1.3005774235352874E-10,1.3005774235352874E-10,1.3005774235352874E-10,1.3005774235352874E-10,1.3005774235352874E-10,{"$f":"BT173","v":1.3005774235352874E-10},1.3005774235352874E-10,1.3005774235352874E-10,1.3005774235352874E-10,1.3005774235352874E-10,1.3005774235352874E-10,1.3005774235352874E-10,1.3005774235352874E-10,1.3005774235352874E-10,1.3005774235352874E-10,1.3005774235352874E-10,1.3005774235352874E-10,1.3005774235352874E-10,1.3005774235352874E-10,1.3005774235352874E-10,1.3005774235352874E-10,1.3005774235352874E-10,1.3005774235352874E-10,1.3005774235352874E-10,1.3005774235352874E-10,1.3005774235352874E-10,1.3005774235352874E-10,1.3005774235352874E-10,1.3005774235352874E-10,1.3005774235352874E-10,1.3005774235352874E-10,1.3005774235352874E-10,1.3005774235352874E-10,1.3005774235352874E-10,1.3005774235352874E-10,1.3005774235352874E-10,1.3005774235352874E-10,1.3005774235352874E-10,1.3005774235352874E-10,1.3005774235352874E-10]
[null,null,null,"Less Repayments",null,null,null,{"$f":"(H167-H174)*H$136","v":0},{"$f":"(I167-I174)*I$136","v":0},1520.5268265150469,1506.3142928535656,1638.9733349816324,1625.9291441838718,1762.7179284848091,1776.3631671429032,1892.3839432115515,1881.9015025162562,2027.356253247922,2018.2667201530605,2168.2595644945377,2160.6441178097757,2315.3200180817685,2336.8104710503044,2469.2263848382408,2464.8238648173938,2629.3273519170693,2626.663602745607,2796.3141233877013,2795.4847029359462,2970.446983155116,3001.36939780694,3152.4874961567257,3155.6374047747563,3341.7472105921447,3347.042581796989,3538.9914088080154,3546.5444401280247,3744.5195002897417,3786.7229169501661,3959.1740851479644,3971.6061814197997,4182.2288262195743,4197.2834401964283,4414.531582622144,4432.3401488465242,4656.4265862782149,4712.0623529477289,4908.846706264022,0,0,0,0,0,0,0,0,0,0,0,0,0,0,0,0,0,0,0,0,0,0,0,0,{"$f":"(BU167-BU174)*BU$136","v":0},0,0,0,0,0,0,0,0,0,0,0,0,0,0,0,0,0,0,0,0,0,0,0,0,0,0,0,0,0,0,0,0,0,0]
[null,null,null,"Closing Balance",null,null,{"$f":"F169","v":115433.61656577013},{"$f":"H171-H172","v":115433.61656577013},{"$f":"I171-I172","v":115433.61656577013},113913.08973925508,112406.77544640152,110767.80211141988,109141.87296723601,107379.1550387512,105602.79187160829,103710.40792839674,101828.50642588049,99801.150172632566,97782.883452479509,95614.62388798497,93453.979770175196,91138.65975209343,88801.84928104312,86332.622896204877,83867.799031387491,81238.471679470415,78611.808076724803,75815.493953337107,73020.009250401155,70049.562267246045,67048.19286943911,63895.705373282384,60740.067968507625,57398.320757915477,54051.278176118489,50512.28676731047,46965.742327182445,43221.222826892699,39434.499909942533,35475.325824794571,31503.71964337477,27321.490817155194,23124.207376958766,18709.675794336621,14277.335645490097,9620.909059211881,4908.8467062641521,1.3005774235352874E-10,1.3005774235352874E-10,1.3005774235352874E-10,1.3005774235352874E-10,1.3005774235352874E-10,1.3005774235352874E-10,1.3005774235352874E-10,1.3005774235352874E-10,1.3005774235352874E-10,1.3005774235352874E-10,1.3005774235352874E-10,1.3005774235352874E-10,1.3005774235352874E-10,1.3005774235352874E-10,1.3005774235352874E-10,1.3005774235352874E-10,1.3005774235352874E-10,1.3005774235352874E-10,1.3005774235352874E-10,1.3005774235352874E-10,1.3005774235352874E-10,1.3005774235352874E-10,1.3005774235352874E-10,1.3005774235352874E-10,1.3005774235352874E-10,{"$f":"BU171-BU172","v":1.3005774235352874E-10},1.3005774235352874E-10,1.3005774235352874E-10,1.3005774235352874E-10,1.3005774235352874E-10,1.3005774235352874E-10,1.3005774235352874E-10,1.3005774235352874E-10,1.3005774235352874E-10,1.3005774235352874E-10,1.3005774235352874E-10,1.3005774235352874E-10,1.3005774235352874E-10,1.3005774235352874E-10,1.3005774235352874E-10,1.3005774235352874E-10,1.3005774235352874E-10,1.3005774235352874E-10,1.3005774235352874E-10,1.3005774235352874E-10,1.3005774235352874E-10,1.3005774235352874E-10,1.3005774235352874E-10,1.3005774235352874E-10,1.3005774235352874E-10,1.3005774235352874E-10,1.3005774235352874E-10,1.3005774235352874E-10,1.3005774235352874E-10,1.3005774235352874E-10,1.3005774235352874E-10,1.3005774235352874E-10,1.3005774235352874E-10,1.3005774235352874E-10,1.3005774235352874E-10]
[null,null,null,"Interest",null,{"$f":"F155","v":1.6500000000000001E-2},null,{"$f":"H171*$F$155*H$5","v":0},{"$f":"I171*$F$174*I$5","v":1904.6546733352072},{"$f":"J171*$F$155*J$5","v":1904.6546733352072},1879.5659806977089,1854.7117948656251,1827.668734838428,1800.8409039593942,1771.7560581393948,1742.4460658815369,1711.2217308185463,1680.1703560270282,1646.7189778484374,1613.4175769659121,1577.6412941517522,1541.9906662078909,1503.7878859095417,1465.2305131372116,1424.4882777873806,1383.8186840178937,1340.434782711262,1297.0948332659593,1250.9556502300622,1204.8301526316191,1155.8177774095598,1106.2951823457454,1054.2791386591593,1002.2111214803758,947.07229250560545,891.84608990595507,833.45273166062282,774.93474839851035,713.15017664372954,650.66924851405179,585.34287610911042,{"$f":"AP171*$F$155*AP$5","v":519.81137411568375},450.80459848306072,381.54942171981963,308.70965060655425,235.57603815058661,158.74499947699604,80.995970653358512,2.1459527488332243E-12,2.1459527488332243E-12,2.1459527488332243E-12,2.1459527488332243E-12,2.1459527488332243E-12,2.1459527488332243E-12,2.1459527488332243E-12,2.1459527488332243E-12,2.1459527488332243E-12,2.1459527488332243E-12,2.1459527488332243E-12,2.1459527488332243E-12,2.1459527488332243E-12,2.1459527488332243E-12,2.1459527488332243E-12,2.1459527488332243E-12,2.1459527488332243E-12,2.1459527488332243E-12,2.1459527488332243E-12,2.1459527488332243E-12,0,0,0,0,0,{"$f":"BV171*$F$155*BV$5","v":0},0,0,0,0,0,0,0,0,0,0,0,0,0,0,0,0,0,0,0,0,0,0,0,0,0,0,0,0,0,0,0,0,0]
[]
[null,null,null,"P50/P90 EBITDA",null,null,null,null,{"$f":"I145/I163","v":1.2418648533618719},{"$f":"J145/J163","v":1.2406577949687283},1.2418648533618721,1.2406577949687285,1.2418648533618721,1.2406577949687283,1.2414567286990736,1.2406577949687283,1.2418648533618719,1.2406577949687281,1.2418648533618719,1.2406577949687281,1.2418648533618724,1.2406577949687283,1.2414567286990736,1.2406577949687285,1.2418648533618721,1.2406577949687283,1.2418648533618721,1.2406577949687285,1.2418648533618721,1.2406577949687283,1.2414567286990734,1.2406577949687283,1.2418648533618724,1.2406577949687287,1.2418648533618721,1.2406577949687283,1.2418648533618721,1.2406577949687283,1.2414567286990734,1.2406577949687285,1.2418648533618719,1.2406577949687283,1.2418648533618721,1.2406577949687285,1.2418648533618719,1.2406577949687287,1.2414567286990736,1.2406577949687285,1.2418648533618724,1.2406577949687285,1.2418648533618721,1.2406577949687283,1.2418648533618721,1.2406577949687283,1.2414567286990736,1.2406577949687285,1.2418648533618717,1.2406577949687285,1.2418648533618719,1.2406577949687285,1.2418648533618719,1.2406577949687285,1.2414567286990736,1.2406577949687285,1.2418648533618724,1.2406577949687285,1.2418648533618721,1.2406577949687283,{"$error":"#DIV/0!"},{"$error":"#DIV/0!"},{"$error":"#DIV/0!"},{"$error":"#DIV/0!"},{"$error":"#DIV/0!"},{"$f":"BV145/BV163","v":{"$error":"#DIV/0!"}},{"$error":"#DIV/0!"},{"$error":"#DIV/0!"},{"$error":"#DIV/0!"},{"$error":"#DIV/0!"},{"$error":"#DIV/0!"},{"$error":"#DIV/0!"},{"$error":"#DIV/0!"},{"$error":"#DIV/0!"},{"$error":"#DIV/0!"},{"$error":"#DIV/0!"},{"$error":"#DIV/0!"},{"$error":"#DIV/0!"},{"$error":"#DIV/0!"},{"$error":"#DIV/0!"},{"$error":"#DIV/0!"},{"$error":"#DIV/0!"},{"$error":"#DIV/0!"},{"$error":"#DIV/0!"},{"$error":"#DIV/0!"},{"$error":"#DIV/0!"},{"$error":"#DIV/0!"},{"$error":"#DIV/0!"},{"$error":"#DIV/0!"},{"$error":"#DIV/0!"},{"$error":"#DIV/0!"},{"$error":"#DIV/0!"},{"$error":"#DIV/0!"},{"$error":"#DIV/0!"},{"$error":"#DIV/0!"},{"$error":"#DIV/0!"},{"$error":"#DIV/0!"},{"$error":"#DIV/0!"},{"$error":"#DIV/0!"}]
[]
[null,"P99 DSCR"]
[null,null,"Cash flow P99 case"]
[null,null,null,"MWh P99 case","MWh",null,null,{"$f":"H95","v":0},144955.22705791026,147357.79988207453,144955.22705791026,147357.79988207453,144955.22705791026,147357.79988207453,145756.08466596503,147357.79988207453,144955.22705791026,147357.79988207453,144955.22705791026,147357.79988207453,144955.22705791026,147357.79988207453,145756.08466596503,147357.79988207453,144955.22705791026,147357.79988207453,144955.22705791026,147357.79988207453,144955.22705791026,147357.79988207453,145756.08466596503,147357.79988207453,144955.22705791026,147357.79988207453,144955.22705791026,147357.79988207453,144955.22705791026,147357.79988207453,145756.08466596503,147357.79988207453,144955.22705791026,147357.79988207453,144955.22705791026,147357.79988207453,144955.22705791026,147357.79988207453,145756.08466596503,147357.79988207453,144955.22705791026,147357.79988207453,144955.22705791026,147357.79988207453,144955.22705791026,147357.79988207453,145756.08466596503,147357.79988207453,144955.22705791026,147357.79988207453,144955.22705791026,147357.79988207453,144955.22705791026,147357.79988207453,145756.08466596503,147357.79988207453,144955.22705791026,147357.79988207453,144955.22705791026,147357.79988207453,0,0,0,{"$f":"BT95","v":0},0,0,0,0,0,0,0,0,0,0,0,0,0,0,0,0,0,0,0,0,0,0,0,0,0,0,0,0,0,0,0,0,0,0,0]
[null,null,null,"Price - variable cost","Euro/MWh",null,null,{"$f":"H141","v":0},34.329565797125113,34.671161929989097,35.016157113067614,35.364585168588874,35.716480255328968,36.071876871960654,36.430809860435545,36.793314409399876,37.159426057644268,37.529180697587869,37.902614578797149,38.27976431153963,38.660666870373099,39.045359597770428,39.433880207780561,39.826266789725842,40.222557811936177,40.62279212552037,41.027008968174897,41.435247968030772,41.847549147538409,42.263952927391394,42.684500130489184,43.109231985939232,43.538190133098972,43.971416625658023,44.408953935760948,44.85084495817118,45.297133014476181,45.747861857334613,46.203075674765699,46.662819094481307,47.127137188261031,47.596075476370942,48.069679932026254,48.547996985898372,49.031073530666788,49.518956925616337,50.011695001280124,50.509336064128675,51.011928901305737,51.51952278541124,52.032167479331854,52.549913241119484,53.072810828918499,53.600911505941866,54.13426704549687,54.672929736060709,55.216952386406803,55.766388330781922,56.321291434134949,56.881716097397572,57.447717262817648,58.019350419345528,58.596671608074004,59.179737427732441,59.768605040235485,60.363332176287088,60.963977141040203,61.570598819812837,0,0,0,{"$f":"BT141","v":0},0,0,0,0,0,0,0,0,0,0,0,0,0,0,0,0,0,0,0,0,0,0,0,0,0,0,0,0,0,0,0,0,0,0,0]
[null,null,null,"Margin P99 case","Euro 000's",null,null,{"$f":"H180*H181/1000","v":0},{"$f":"I180*I181/1000","v":4976.2500049217406},5109.0661413583348,5075.7750050201748,5211.2474641855006,5177.2905051205789,5315.4724134692106,5310.0122064673169,5421.7818617385965,5386.4530415274521,5530.2174989733667,5494.1821023580005,5640.8218489528354,5604.0657444051612,5753.6382859318928,5747.727982272786,5868.7110516505318,5830.4700004791312,5986.0852726835428,5947.079400488713,6105.8069781372142,6066.0209884984897,6227.9231176999592,6221.5256149439765,6352.48158005396,6311.0882364338304,6479.5312116550394,6437.3100011625056,6609.1218358881397,6566.0562011857583,6741.3042726059048,6734.3794098791386,6876.1303580580225,6831.3248717136648,7013.6529652191839,6967.9513691479378,7153.9260245235691,7107.3103965308983,7297.0045450140406,7289.5088508950057,7442.944635914323,7394.4457365507478,7591.8035286326085,7542.3346512817625,7743.639599205263,7693.1813443073997,7898.5123911893679,7890.3988108134017,8056.4826390131557,8003.9858706174173,8217.612291793419,8164.0655880297672,8381.9645376292883,8327.3468997903638,8549.6038283818762,8540.8214280501834,8720.5959049495123,8663.7717145418956,8895.0078230485015,8837.047148832733,9072.9079795094749,0,0,0,0,{"$f":"BU180*BU181/1000","v":0},0,0,0,0,0,0,0,0,0,0,0,0,0,0,0,0,0,0,0,0,0,0,0,0,0,0,0,0,0,0,0,0,0,0]
[null,null,null,"Fixed Cost","Euro 000's",null,null,{"$f":"H115","v":0},1378.5740820224953,1392.2915749284159,1406.1455636629453,1420.1374064269842,1434.268474936204,1448.5401545555239,1462.9538444349282,1477.5109576466346,1492.2129213236269,1507.0611767995674,1522.0571797500995,1537.2024003355587,1552.4983233451017,1567.9464483422701,1583.5482898120038,1599.3053773091158,1615.2192556082441,1631.2914848552982,1647.5236407204093,1663.9173145524044,1680.4741135348177,1697.1956608434527,1714.0835958055143,1731.139574060322,1748.3652677216246,1765.7623655415287,1783.3325730760573,1801.0776128523594,1818.9992245375786,1837.0991651094066,1855.3792090283303,1873.841148411595,1892.4867932088973,1911.3179713798272,1930.3365290730756,1949.5443308074241,1968.9432596545373,1988.5352174235727,2008.3221248476282,2028.3059217720443,2048.488567344581,2068.8720402074855,2089.4583386914728,2110.2494810116355,2131.2475054653023,2152.4544706318679,2173.8724555746085,2195.5035600445053,2217.3499046861007,2239.4136312453957,2261.6969027798227,2284.2019038703038,2306.9308408354195,2329.8859419477099,2353.0694576521278,2376.4836607866641,2400.1308468051707,2424.0133340023976,2448.1334637412742,2472.493600682446,0,0,0,{"$f":"BT115","v":0},0,0,0,0,0,0,0,0,0,0,0,0,0,0,0,0,0,0,0,0,0,0,0,0,0,0,0,0,0,0,0,0,0,0,0]
[null,null,null,"EBITDA P99","Euro 000's",null,null,{"$f":"H182-H183","v":0},{"$f":"I182-I183","v":3597.6759228992451},3716.7745664299191,3669.6294413572296,3791.1100577585166,3743.0220301843747,3866.9322589136864,3847.0583620323887,3944.2709040919617,3894.2401202038254,4023.1563221737993,3972.1249226079008,4103.6194486172772,4051.5674210600596,4185.691837589623,4164.1796924607825,4269.4056743414158,4215.2507448708875,4354.7937878282446,4299.5557597683037,4441.8896635848096,4385.5468749636721,4530.7274568565063,4507.4420191384625,4621.3420059936379,4562.7229687122053,4713.7688461135112,4653.9774280864485,4808.0442230357803,4747.0569766481794,4904.2051074964984,4879.0002008508081,5002.2892096464275,4938.8380785047675,5102.3349938393567,5037.6148400748625,5204.3816937161446,5138.3671368763607,5308.4693275904683,5281.1867260473773,5414.6387141422783,5345.9571692061672,5522.9314884251235,5452.8763125902897,5633.3901181936271,5561.9338388420974,5746.0579205574995,5716.5263552387933,5860.9790789686504,5786.6359659313166,5978.1986605480233,5902.368685249945,6097.7626337589845,6020.4160589549447,6219.7178864341658,6187.7519703980561,6344.1122441628486,6263.6408677367253,6470.9944890461038,6388.9136850914583,6600.4143788270285,0,0,0,0,{"$f":"BU182-BU183","v":0},0,0,0,0,0,0,0,0,0,0,0,0,0,0,0,0,0,0,0,0,0,0,0,0,0,0,0,0,0,0,0,0,0,0]
[null,null,null,"CFADS P99 case","Euro 000's",null,null,{"$f":"H184","v":0},{"$f":"I184","v":3597.6759228992451},3716.7745664299191,3669.6294413572296,3791.1100577585166,3743.0220301843747,3866.9322589136864,3847.0583620323887,3944.2709040919617,3894.2401202038254,4023.1563221737993,3972.1249226079008,4103.6194486172772,4051.5674210600596,4185.691837589623,4164.1796924607825,4269.4056743414158,4215.2507448708875,4354.7937878282446,4299.5557597683037,4441.8896635848096,4385.5468749636721,4530.7274568565063,4507.4420191384625,4621.3420059936379,4562.7229687122053,4713.7688461135112,4653.9774280864485,4808.0442230357803,4747.0569766481794,4904.2051074964984,4879.0002008508081,5002.2892096464275,4938.8380785047675,5102.3349938393567,5037.6148400748625,5204.3816937161446,5138.3671368763607,5308.4693275904683,5281.1867260473773,5414.6387141422783,5345.9571692061672,5522.9314884251235,5452.8763125902897,5633.3901181936271,5561.9338388420974,5746.0579205574995,5716.5263552387933,5860.9790789686504,5786.6359659313166,5978.1986605480233,5902.368685249945,6097.7626337589845,6020.4160589549447,6219.7178864341658,6187.7519703980561,6344.1122441628486,6263.6408677367253,6470.9944890461038,6388.9136850914583,6600.4143788270285,0,0,0,0,{"$f":"BU184","v":0},0,0,0,0,0,0,0,0,0,0,0,0,0,0,0,0,0,0,0,0,0,0,0,0,0,0,0,0,0,0,0,0,0,0]
[null,null,null,"Target Debt Service","Times",{"$f":"F59","v":1},null,{"$f":"H185/$F$186","v":0},{"$f":"I185/$F$186","v":3597.6759228992451},3716.7745664299191,3669.6294413572296,3791.1100577585166,3743.0220301843747,3866.9322589136864,3847.0583620323887,3944.2709040919617,3894.2401202038254,4023.1563221737993,3972.1249226079008,4103.6194486172772,4051.5674210600596,4185.691837589623,4164.1796924607825,4269.4056743414158,4215.2507448708875,4354.7937878282446,4299.5557597683037,4441.8896635848096,4385.5468749636721,4530.7274568565063,4507.4420191384625,4621.3420059936379,4562.7229687122053,4713.7688461135112,4653.9774280864485,4808.0442230357803,4747.0569766481794,4904.2051074964984,4879.0002008508081,5002.2892096464275,4938.8380785047675,5102.3349938393567,5037.6148400748625,5204.3816937161446,5138.3671368763607,5308.4693275904683,5281.1867260473773,5414.6387141422783,5345.9571692061672,5522.9314884251235,5452.8763125902897,5633.3901181936271,5561.9338388420974,5746.0579205574995,5716.5263552387933,5860.9790789686504,5786.6359659313166,5978.1986605480233,5902.368685249945,6097.7626337589845,6020.4160589549447,6219.7178864341658,6187.7519703980561,6344.1122441628486,6263.6408677367253,6470.9944890461038,6388.9136850914583,6600.4143788270285,0,0,0,0,{"$f":"BU185/$F$186","v":0},0,0,0,0,0,0,0,0,0,0,0,0,0,0,0,0,0,0,0,0,0,0,0,0,0,0,0,0,0,0,0,0,0,0]
[]
[null,null,null,"Target Debt Service over debt maturity","Euro 000's",null,null,{"$f":"H186*H$136","v":0},{"$f":"I186*I$136","v":0},3716.7745664299191,3669.6294413572296,3791.1100577585166,3743.0220301843747,3866.9322589136864,3847.0583620323887,3944.2709040919617,3894.2401202038254,4023.1563221737993,3972.1249226079008,4103.6194486172772,4051.5674210600596,4185.691837589623,4164.1796924607825,4269.4056743414158,4215.2507448708875,4354.7937878282446,4299.5557597683037,4441.8896635848096,4385.5468749636721,4530.7274568565063,4507.4420191384625,4621.3420059936379,4562.7229687122053,4713.7688461135112,4653.9774280864485,4808.0442230357803,4747.0569766481794,4904.2051074964984,4879.0002008508081,5002.2892096464275,4938.8380785047675,5102.3349938393567,5037.6148400748625,5204.3816937161446,5138.3671368763607,5308.4693275904683,5281.1867260473773,5414.6387141422783,0,0,0,0,0,0,0,0,0,0,0,0,0,0,0,0,0,0,0,0,0,0,0,0,{"$f":"BU186*BU$136","v":0},0,0,0,0,0,0,0,0,0,0,0,0,0,0,0,0,0,0,0,0,0,0,0,0,0,0,0,0,0,0,0,0,0,0]
[null,null,null,"NPV of debt service =size of debt","Euro 000's",{"$f":"F168","v":1.6500000000000001E-2},1,{"$f":"G189*(1+$F$189*H$136)","v":1},{"$f":"H189*(1+$F$168*I$136)","v":1},1.0165,1.03327225,1.0503212421249999,1.0676515426200623,1.0852677930732932,1.1031747116590025,1.1213770944013759,1.1398798164589985,1.1586878334305719,1.1778061826821764,1.1972399846964323,1.2169944444439234,1.2370748527772479,1.2574865878480725,1.2782351165475656,1.2993259959706003,1.3207648749041152,1.342557495340033,1.3647096940131436,1.3872274039643604,1.4101166561297722,1.4333835809559134,1.4570344100416859,1.4810754778073736,1.5055132231911952,1.5303541913738499,1.5556050355315183,1.5812725186177883,1.6073635151749817,1.6338850131753688,1.6608441158927623,1.6882480438049927,1.7161041365277749,1.7444198547804832,1.773202782384361,1.802460628293703,1.8322012286605491,1.8624325489334481,1.8931626859908499,1.8931626859908499,1.8931626859908499,1.8931626859908499,1.8931626859908499,1.8931626859908499,1.8931626859908499,1.8931626859908499,1.8931626859908499,1.8931626859908499,1.8931626859908499,1.8931626859908499,1.8931626859908499,1.8931626859908499,1.8931626859908499,1.8931626859908499,1.8931626859908499,1.8931626859908499,1.8931626859908499,1.8931626859908499,1.8931626859908499,1.8931626859908499,1.8931626859908499,1.8931626859908499,1.8931626859908499,{"$f":"BT189*(1+$F$168*BU$136)","v":1.8931626859908499},1.8931626859908499,1.8931626859908499,1.8931626859908499,1.8931626859908499,1.8931626859908499,1.8931626859908499,1.8931626859908499,1.8931626859908499,1.8931626859908499,1.8931626859908499,1.8931626859908499,1.8931626859908499,1.8931626859908499,1.8931626859908499,1.8931626859908499,1.8931626859908499,1.8931626859908499,1.8931626859908499,1.8931626859908499,1.8931626859908499,1.8931626859908499,1.8931626859908499,1.8931626859908499,1.8931626859908499,1.8931626859908499,1.8931626859908499,1.8931626859908499,1.8931626859908499,1.8931626859908499,1.8931626859908499,1.8931626859908499,1.8931626859908499,1.8931626859908499,1.8931626859908499]
[null,null,null,"Size of Debt from P99","Euro 000's",{"$f":"SUMPRODUCT(H188:DC188/H189:DC189)","v":125193.30952730637},3]
[]
[null,null,null,"Opening Balance",null,null,null,{"$f":"G194","v":125193.30952730637},{"$f":"H194","v":125193.30952730637},125193.30952730637,123542.224568077,121911.04183209303,120131.46396456406,118370.61108979498,116456.79391386292,114531.27265140926,112476.76774606555,110438.39429367181,108237.4714773436,106051.26483411186,103697.49125525742,101356.93243990911,98843.629987577995,96310.370189912253,93630.085623704392,90959.73129162463,88105.773070108189,85259.96256599667,82224.862284750809,79196.025637485523,75972.032603647531,72718.129122469254,69296.636246996364,65877.307776359594,62250.514508556014,58623.67056986074,54782.916911227665,50939.778063614744,46876.079294167888,42770.534401670848,38473.95900965199,34169.941254806479,29631.410291671429,25082.713721409145,20292.196804096253,15488.65091448748,10435.744326986056,5326.7473823339487,1.8098944565281272E-10,1.8098944565281272E-10,1.8098944565281272E-10,1.8098944565281272E-10,1.8098944565281272E-10,1.8098944565281272E-10,1.8098944565281272E-10,1.8098944565281272E-10,1.8098944565281272E-10,1.8098944565281272E-10,1.8098944565281272E-10,1.8098944565281272E-10,1.8098944565281272E-10,1.8098944565281272E-10,1.8098944565281272E-10,1.8098944565281272E-10,1.8098944565281272E-10,1.8098944565281272E-10,1.8098944565281272E-10,1.8098944565281272E-10,1.8098944565281272E-10,1.8098944565281272E-10,1.8098944565281272E-10,1.8098944565281272E-10,{"$f":"BT194","v":1.8098944565281272E-10},1.8098944565281272E-10,1.8098944565281272E-10,1.8098944565281272E-10,1.8098944565281272E-10,1.8098944565281272E-10,1.8098944565281272E-10,1.8098944565281272E-10,1.8098944565281272E-10,1.8098944565281272E-10,1.8098944565281272E-10,1.8098944565281272E-10,1.8098944565281272E-10,1.8098944565281272E-10,1.8098944565281272E-10,1.8098944565281272E-10,1.8098944565281272E-10,1.8098944565281272E-10,1.8098944565281272E-10,1.8098944565281272E-10,1.8098944565281272E-10,1.8098944565281272E-10,1.8098944565281272E-10,1.8098944565281272E-10,1.8098944565281272E-10,1.8098944565281272E-10,1.8098944565281272E-10,1.8098944565281272E-10,1.8098944565281272E-10,1.8098944565281272E-10,1.8098944565281272E-10,1.8098944565281272E-10,1.8098944565281272E-10,1.8098944565281272E-10,1.8098944565281272E-10]
[null,null,null,"Less Repayments",null,null,null,{"$f":"(H188-H195)*H$136","v":0},{"$f":"(I188-I195)*I$136","v":0},1651.0849592293639,1631.182735983959,1779.5778675289814,1760.8528747690677,1913.8171759320689,1925.5212624536505,2054.5049053437087,2038.3734523937437,2200.9228163282141,2186.2066432317315,2353.7735788544314,2340.5588153483122,2513.3024523311224,2533.2597976657453,2680.2845662078635,2670.3543320797653,2853.9582215164382,2845.8105041115186,3035.1002812458646,3028.8366472652833,3223.993033837995,3253.9034811782781,3421.4928754728953,3419.3284706367654,3626.7932678035777,3626.8439386952741,3840.753658633078,3843.1388476129232,4063.6987694468553,4105.5448924970378,4296.5753920188581,4304.0177548455094,4538.5309631350501,4548.6965702622838,4790.5169173128934,4803.545889608773,5052.9065875014248,5108.9969446521072,5326.7473823337677,0,0,0,0,0,0,0,0,0,0,0,0,0,0,0,0,0,0,0,0,0,0,0,0,{"$f":"(BU188-BU195)*BU$136","v":0},0,0,0,0,0,0,0,0,0,0,0,0,0,0,0,0,0,0,0,0,0,0,0,0,0,0,0,0,0,0,0,0,0,0]
[null,null,null,"Closing Balance",null,null,{"$f":"F190","v":125193.30952730637},{"$f":"H192-H193","v":125193.30952730637},{"$f":"I192-I193","v":125193.30952730637},123542.224568077,121911.04183209303,120131.46396456406,118370.61108979498,116456.79391386292,114531.27265140926,112476.76774606555,110438.39429367181,108237.4714773436,106051.26483411186,103697.49125525742,101356.93243990911,98843.629987577995,96310.370189912253,93630.085623704392,90959.73129162463,88105.773070108189,85259.96256599667,82224.862284750809,79196.025637485523,75972.032603647531,72718.129122469254,69296.636246996364,65877.307776359594,62250.514508556014,58623.67056986074,54782.916911227665,50939.778063614744,46876.079294167888,42770.534401670848,38473.95900965199,34169.941254806479,29631.410291671429,25082.713721409145,20292.196804096253,15488.65091448748,10435.744326986056,5326.7473823339487,1.8098944565281272E-10,1.8098944565281272E-10,1.8098944565281272E-10,1.8098944565281272E-10,1.8098944565281272E-10,1.8098944565281272E-10,1.8098944565281272E-10,1.8098944565281272E-10,1.8098944565281272E-10,1.8098944565281272E-10,1.8098944565281272E-10,1.8098944565281272E-10,1.8098944565281272E-10,1.8098944565281272E-10,1.8098944565281272E-10,1.8098944565281272E-10,1.8098944565281272E-10,1.8098944565281272E-10,1.8098944565281272E-10,1.8098944565281272E-10,1.8098944565281272E-10,1.8098944565281272E-10,1.8098944565281272E-10,1.8098944565281272E-10,1.8098944565281272E-10,{"$f":"BU192-BU193","v":1.8098944565281272E-10},1.8098944565281272E-10,1.8098944565281272E-10,1.8098944565281272E-10,1.8098944565281272E-10,1.8098944565281272E-10,1.8098944565281272E-10,1.8098944565281272E-10,1.8098944565281272E-10,1.8098944565281272E-10,1.8098944565281272E-10,1.8098944565281272E-10,1.8098944565281272E-10,1.8098944565281272E-10,1.8098944565281272E-10,1.8098944565281272E-10,1.8098944565281272E-10,1.8098944565281272E-10,1.8098944565281272E-10,1.8098944565281272E-10,1.8098944565281272E-10,1.8098944565281272E-10,1.8098944565281272E-10,1.8098944565281272E-10,1.8098944565281272E-10,1.8098944565281272E-10,1.8098944565281272E-10,1.8098944565281272E-10,1.8098944565281272E-10,1.8098944565281272E-10,1.8098944565281272E-10,1.8098944565281272E-10,1.8098944565281272E-10,1.8098944565281272E-10,1.8098944565281272E-10]
[null,null,null,"Interest",null,{"$f":"F189","v":1.6500000000000001E-2},null,{"$f":"H192*$F$195*H$5","v":0},2065.6896072005552,2065.6896072005552,2038.4467053732706,2011.5321902295352,1982.1691554153069,1953.1150829816174,1921.5370995787382,1889.765998748253,1855.8666678100817,1822.2335058455849,1785.9182793761695,1749.8458697628457,1711.0086057117476,1672.3893852585004,1630.919894795037,1589.1211081335523,1544.8964127911224,1500.8355663118064,1453.7452556567853,1406.7893823389452,1356.7102276983885,1306.7344230185113,1253.5385379601844,1199.8491305207428,1143.39449807544,1086.9755783099333,1027.1334893911742,967.29056440270222,903.91812903525647,840.50633804964332,773.45530835377019,{"$f":"AN192*$F$195*AN$5","v":705.71381762756903},634.82032365925784,563.80403070430691,488.91826981257861,413.86477640325091,334.82124726758821,255.56274008904344,172.18978139526993,87.891331808510159,2.9863258532714099E-12,2.9863258532714099E-12,2.9863258532714099E-12,2.9863258532714099E-12,2.9863258532714099E-12,2.9863258532714099E-12,2.9863258532714099E-12,2.9863258532714099E-12,2.9863258532714099E-12,2.9863258532714099E-12,2.9863258532714099E-12,2.9863258532714099E-12,2.9863258532714099E-12,2.9863258532714099E-12,2.9863258532714099E-12,2.9863258532714099E-12,2.9863258532714099E-12,2.9863258532714099E-12,2.9863258532714099E-12,2.9863258532714099E-12,0,0,0,{"$f":"BT192*$F$195*BT$5","v":0},0,0,0,0,0,0,0,0,0,0,0,0,0,0,0,0,0,0,0,0,0,0,0,0,0,0,0,0,0,0,0,0,0,0,0]
[]
[null,null,null,"Min Debt from DSCR",null,{"$f":"MIN(F190,F169,F150)","v":115433.61656577013},{"$f":"MATCH(F197,F:F,0)","v":169},{"$f":"INDEX(G:G,$G$197)","v":2},{"$f":"INDEX(D:D,$G$197)","v":"Size of Debt from P90"}]
[]
[null,null,null,"P99/P50",null,{"$f":"AVERAGE(I199:DC199)","v":0.64722839746603755},null,null,{"$f":"IF(I145,I186/I145)","v":0.64646126800789039},{"$f":"IF(J145,J186/J145)","v":0.64788340197093819},0.64646126800789028,0.64788340197093819,0.64646126800789039,0.64788340197093808,0.64694180352180808,0.64788340197093819,0.6464612680078905,0.64788340197093808,0.64646126800789039,0.6478834019709383,0.64646126800789028,0.64788340197093808,0.64694180352180819,0.64788340197093808,0.6464612680078905,0.64788340197093797,0.6464612680078905,0.64788340197093819,0.6464612680078905,0.64788340197093808,0.64694180352180808,0.6478834019709383,0.64646126800789039,0.64788340197093808,0.64646126800789039,0.64788340197093808,0.6464612680078905,0.64788340197093819,0.64694180352180819,0.64788340197093808,0.6464612680078905,0.64788340197093808,0.64646126800789039,0.64788340197093797,0.6464612680078905,0.64788340197093808,0.64694180352180808,0.64788340197093797,0.64646126800789039,0.64788340197093819,0.64646126800789039,0.64788340197093797,0.64646126800789039,0.64788340197093819,0.64694180352180819,0.64788340197093808,0.6464612680078905,0.64788340197093819,0.64646126800789039,0.64788340197093808,0.6464612680078905,0.64788340197093819,0.64694180352180808,0.64788340197093808,0.64646126800789039,0.64788340197093786,0.64646126800789028,0.6478834019709383,false,false,false,false,false,{"$f":"IF(BV145,BV186/BV145)","v":false},false,false,false,false,false,false,false,false,false,false,false,false,false,false,false,false,false,false,false,false,false,false,false,false,false,false,false,false,false,false,false,false,false]
[null,null,null,"P50/P99 EBITDA",null,null,null,null,{"$f":"I163/I184","v":1.2456130632099021},{"$f":"J163/J184","v":1.244088104390829},1.2456130632099023,1.2440881043908287,1.2456130632099021,1.244088104390829,1.245097033464442,1.244088104390829,1.2456130632099021,1.2440881043908294,1.2456130632099021,1.244088104390829,1.2456130632099018,1.2440881043908292,1.245097033464442,1.244088104390829,1.2456130632099016,1.2440881043908294,1.2456130632099018,1.2440881043908287,1.2456130632099018,1.244088104390829,1.2450970334644422,1.244088104390829,1.2456130632099016,1.2440881043908287,1.2456130632099021,1.2440881043908292,1.2456130632099018,1.244088104390829,1.2450970334644422,1.244088104390829,1.2456130632099018,1.2440881043908292,1.2456130632099021,1.2440881043908292,1.2456130632099018,1.2440881043908287,1.2450970334644422,1.2440881043908292,1.2456130632099018,1.2440881043908287,1.2456130632099018,1.2440881043908294,1.2456130632099018,1.244088104390829,1.245097033464442,1.244088104390829,1.2456130632099023,1.2440881043908287,1.2456130632099021,1.244088104390829,1.2456130632099018,1.2440881043908287,1.2450970334644422,1.244088104390829,1.2456130632099016,1.2440881043908294,1.2456130632099021,1.244088104390829,{"$error":"#DIV/0!"},{"$error":"#DIV/0!"},{"$error":"#DIV/0!"},{"$error":"#DIV/0!"},{"$error":"#DIV/0!"},{"$f":"BV163/BV184","v":{"$error":"#DIV/0!"}},{"$error":"#DIV/0!"},{"$error":"#DIV/0!"},{"$error":"#DIV/0!"},{"$error":"#DIV/0!"},{"$error":"#DIV/0!"},{"$error":"#DIV/0!"},{"$error":"#DIV/0!"},{"$error":"#DIV/0!"},{"$error":"#DIV/0!"},{"$error":"#DIV/0!"},{"$error":"#DIV/0!"},{"$error":"#DIV/0!"},{"$error":"#DIV/0!"},{"$error":"#DIV/0!"},{"$error":"#DIV/0!"},{"$error":"#DIV/0!"},{"$error":"#DIV/0!"},{"$error":"#DIV/0!"},{"$error":"#DIV/0!"},{"$error":"#DIV/0!"},{"$error":"#DIV/0!"},{"$error":"#DIV/0!"},{"$error":"#DIV/0!"},{"$error":"#DIV/0!"},{"$error":"#DIV/0!"},{"$error":"#DIV/0!"},{"$error":"#DIV/0!"},{"$error":"#DIV/0!"},{"$error":"#DIV/0!"},{"$error":"#DIV/0!"},{"$error":"#DIV/0!"},{"$error":"#DIV/0!"},{"$error":"#DIV/0!"}]
[]
["Project Finance"]
[null,"Uses and Sources Summary"]
[null,null,"Uses of Funds"]
[null,null,null,"EPC Cost",null,null,null,{"$f":"F99","v":168000}]
[null,null,null,"Development Cost",null,null,null,{"$f":"F100","v":5040}]
[null,null,null,"Owners Cost",null,null,null,{"$f":"F101","v":5520}]
[null,null,null,"Fees",null,null,null,{"$f":"H212*F77","v":2193.2387147496324}]
[null,null,null,"Total Cost",null,null,null,{"$f":"SUM(H205:H208)","v":180753.23871474963}]
[]
[null,null,"Sources of Funds",null,null,null,null,null,null,null,"DSCR Min","Debt/Cap","Max Debt/Cap"]
[null,null,null,"Debt",null,null,{"$f":"H212/H209","v":0.63862543977946795},{"$f":"MIN(K212,M212)","v":115433.61656577013},null,null,{"$f":"F197","v":115433.61656577013},{"$f":"F61","v":0.93},{"$f":"SUM(H205:H207)/(1/L212-F77)","v":169047.87596836092},null,{"$f":"MATCH(H212,K212:M212,0)","v":1},{"$f":"CHOOSE(O212,K211&\" \"&I197,,M211)","v":"DSCR Min Size of Debt from P90"}]
[null,null,null,"Equity",null,null,{"$f":"H213/H209","v":0.36137456022053205},{"$f":"H209-H212","v":65319.622148979499}]
[null,null,null,"Total Sources",null,null,null,{"$f":"SUM(H212:H213)","v":180753.23871474963}]
[]
["Debt Repayment, Interest and Schedule"]
[null,"PV of CFADS over Loan Life"]
[null,null,null,"Debt Repayment Switch",null,null,null,{"$f":"H136","v":false},false,true,true,true,true,true,true,true,true,true,true,true,true,true,true,true,true,true,true,true,true,true,true,true,true,true,true,true,true,true,true,true,true,true,true,true,true,true,true,true,false,false,false,false,false,false,false,false,false,false,false,false,false,false,false,false,false,false,false,false,false,false,false,{"$f":"BT136","v":false},false,false,false,false,false,false,false,false,false,false,false,false,false,false,false,false,false,false,false,false,false,false,false,false,false,false,false,false,false,false,false,false,false,false,false]
[]
[null,null,null,"P50 CFADS over Loan Life",null,null,null,{"$f":"H145*H218","v":0},0,5736.7954714120624,5676.4877077097226,5851.5313808403025,5790.0174618639167,5968.5620084571083,5946.5292567118922,6087.933248626252,6023.9341673232211,6209.6919135987755,6144.4128506696843,6333.8857518707518,6267.3011076830808,6460.5634669081692,6436.7145078458507,6589.7747362463333,6520.5000724334768,6721.5702309712624,6650.9100738821444,6856.0016355906855,6783.9282753597909,6993.1216683025004,6967.3067880309245,7132.9841016685514,7057.9989776843286,7275.6437837019257,7199.1589572380144,7421.1566593759617,7343.1421363827767,7569.5797925634834,7541.6369359509763,7720.9713884147532,7639.8050786926424,7875.3908161830495,7792.6011802664971,8032.8986325067126,7948.4532038718262,8193.5566051568476,8163.3103585172039,8357.4277372599863,0,0,0,0,0,0,0,0,0,0,0,0,0,0,0,0,0,0,0,0,0,0,0,{"$f":"BT145*BT218","v":0},0,0,0,0,0,0,0,0,0,0,0,0,0,0,0,0,0,0,0,0,0,0,0,0,0,0,0,0,0,0,0,0,0,0,0]
[null,null,null,"P90 CFADS over Loan Life",null,null,null,{"$f":"H185*H218","v":0},{"$f":"I185*I218","v":0},3716.7745664299191,3669.6294413572296,3791.1100577585166,3743.0220301843747,3866.9322589136864,3847.0583620323887,3944.2709040919617,3894.2401202038254,4023.1563221737993,3972.1249226079008,4103.6194486172772,4051.5674210600596,4185.691837589623,4164.1796924607825,4269.4056743414158,4215.2507448708875,4354.7937878282446,4299.5557597683037,4441.8896635848096,4385.5468749636721,4530.7274568565063,4507.4420191384625,4621.3420059936379,4562.7229687122053,4713.7688461135112,4653.9774280864485,4808.0442230357803,4747.0569766481794,4904.2051074964984,4879.0002008508081,5002.2892096464275,4938.8380785047675,5102.3349938393567,5037.6148400748625,5204.3816937161446,5138.3671368763607,5308.4693275904683,5281.1867260473773,5414.6387141422783,0,0,0,0,0,0,0,0,0,0,0,0,0,0,0,0,0,0,0,0,0,0,0,0,{"$f":"BU185*BU218","v":0},0,0,0,0,0,0,0,0,0,0,0,0,0,0,0,0,0,0,0,0,0,0,0,0,0,0,0,0,0,0,0,0,0,0]
[null,null,null,"P99 CFADS over Loan Life",null,null,null,{"$f":"H185*H218","v":0},{"$f":"I185*I218","v":0},3716.7745664299191,3669.6294413572296,3791.1100577585166,3743.0220301843747,3866.9322589136864,3847.0583620323887,3944.2709040919617,3894.2401202038254,4023.1563221737993,3972.1249226079008,4103.6194486172772,4051.5674210600596,4185.691837589623,4164.1796924607825,4269.4056743414158,4215.2507448708875,4354.7937878282446,4299.5557597683037,4441.8896635848096,4385.5468749636721,4530.7274568565063,4507.4420191384625,4621.3420059936379,4562.7229687122053,4713.7688461135112,4653.9774280864485,4808.0442230357803,4747.0569766481794,4904.2051074964984,4879.0002008508081,5002.2892096464275,4938.8380785047675,5102.3349938393567,5037.6148400748625,5204.3816937161446,5138.3671368763607,5308.4693275904683,5281.1867260473773,5414.6387141422783,0,0,0,0,0,0,0,0,0,0,0,0,0,0,0,0,0,0,0,0,0,0,0,0,{"$f":"BU185*BU218","v":0},0,0,0,0,0,0,0,0,0,0,0,0,0,0,0,0,0,0,0,0,0,0,0,0,0,0,0,0,0,0,0,0,0,0]
[null,null,null,"Applied CFADS",null,{"$f":"F21","v":1},null,{"$f":"INDEX(H220:H222,$F$223)","v":0},{"$f":"INDEX(I220:I222,$F$223)","v":0},5736.7954714120624,5676.4877077097226,5851.5313808403025,5790.0174618639167,5968.5620084571083,5946.5292567118922,6087.933248626252,6023.9341673232211,6209.6919135987755,6144.4128506696843,6333.8857518707518,6267.3011076830808,6460.5634669081692,6436.7145078458507,6589.7747362463333,6520.5000724334768,6721.5702309712624,6650.9100738821444,6856.0016355906855,6783.9282753597909,6993.1216683025004,6967.3067880309245,7132.9841016685514,7057.9989776843286,7275.6437837019257,7199.1589572380144,7421.1566593759617,7343.1421363827767,7569.5797925634834,7541.6369359509763,7720.9713884147532,7639.8050786926424,7875.3908161830495,7792.6011802664971,8032.8986325067126,7948.4532038718262,8193.5566051568476,8163.3103585172039,8357.4277372599863,0,0,0,0,0,0,0,0,0,0,0,0,0,0,0,0,0,0,0,0,0,0,0,0,{"$f":"INDEX(BU220:BU222,$F$223)","v":0},0,0,0,0,0,0,0,0,0,0,0,0,0,0,0,0,0,0,0,0,0,0,0,0,0,0,0,0,0,0,0,0,0,0]
[]
[null,null,null,"Compound Factor",null,null,null,{"$f":"H189","v":1},1,1.0165,1.03327225,1.0503212421249999,1.0676515426200623,1.0852677930732932,1.1031747116590025,1.1213770944013759,1.1398798164589985,1.1586878334305719,1.1778061826821764,1.1972399846964323,1.2169944444439234,1.2370748527772479,1.2574865878480725,1.2782351165475656,1.2993259959706003,1.3207648749041152,1.342557495340033,1.3647096940131436,1.3872274039643604,1.4101166561297722,1.4333835809559134,1.4570344100416859,1.4810754778073736,1.5055132231911952,1.5303541913738499,1.5556050355315183,1.5812725186177883,1.6073635151749817,1.6338850131753688,1.6608441158927623,1.6882480438049927,1.7161041365277749,1.7444198547804832,1.773202782384361,1.802460628293703,1.8322012286605491,1.8624325489334481,1.8931626859908499,1.8931626859908499,1.8931626859908499,1.8931626859908499,1.8931626859908499,1.8931626859908499,1.8931626859908499,1.8931626859908499,1.8931626859908499,1.8931626859908499,1.8931626859908499,1.8931626859908499,1.8931626859908499,1.8931626859908499,1.8931626859908499,1.8931626859908499,1.8931626859908499,1.8931626859908499,1.8931626859908499,1.8931626859908499,1.8931626859908499,1.8931626859908499,1.8931626859908499,1.8931626859908499,{"$f":"BT189","v":1.8931626859908499},1.8931626859908499,1.8931626859908499,1.8931626859908499,1.8931626859908499,1.8931626859908499,1.8931626859908499,1.8931626859908499,1.8931626859908499,1.8931626859908499,1.8931626859908499,1.8931626859908499,1.8931626859908499,1.8931626859908499,1.8931626859908499,1.8931626859908499,1.8931626859908499,1.8931626859908499,1.8931626859908499,1.8931626859908499,1.8931626859908499,1.8931626859908499,1.8931626859908499,1.8931626859908499,1.8931626859908499,1.8931626859908499,1.8931626859908499,1.8931626859908499,1.8931626859908499,1.8931626859908499,1.8931626859908499,1.8931626859908499,1.8931626859908499,1.8931626859908499,1.8931626859908499,1.8931626859908499]
[null,null,null,"PV of CFADS from Applied Cash Flow",null,{"$f":"SUMPRODUCT(H223:DC223/H225:DC225)","v":193421.07834662375}]
[null,null,null,"Debt Applied in Sources and Uses",null,{"$f":"H212","v":115433.61656577013}]
[null,null,null,"LLCR for Sculpting",null,{"$f":"F226/F227","v":1.6756044218403139}]
[]
[null,null,null,"Tailored Repayment in Max Debt to Capital Case"]
[null,null,null,"Minimum DSCR",null,{"$f":"F223","v":1},{"$f":"CHOOSE(F231,F57,F58,F59)","v":1.35}]
[null,null,null,"Debt Life Target"]
[null,null,null,"Non-Constant Curved DSCR"]
[]
[null,null,null,"Total Debt Service",null,{"$f":"F228","v":1.6756044218403139},null,{"$f":"H223/$F$235","v":0},0,3423.7170758426073,3387.7254283414009,3492.1914173594591,3455.4799369082284,3562.0352457066479,3548.8861089187317,3633.2759506207817,3595.0813263593222,3705.9414696331964,3666.982952886508,3780.0602990258608,3740.3226119442397,3855.6615050063797,3841.4284564708992,3932.7747351065077,3891.4316454667869,4011.4302298086391,3969.2602783761213,4091.6588344048109,4048.645483943646,4173.4920110929079,4158.085701623264,4256.9618513147661,4212.2107614949709,4342.1010883410636,4296.45497672487,4428.9431101078835,4382.3840762593682,4517.5219723100427,4500.8456874731846,4607.8724117562433,4559.4323929402472,4700.0298599913694,4650.6210407990538,4794.0304571911975,4743.6334616150343,4889.911066335022,4871.8601193182885,4987.7092876617235,0,0,0,0,0,0,0,0,0,0,0,0,0,0,0,0,0,0,0,0,0,0,0,{"$f":"BT223/$F$235","v":0},0,0,0,0,0,0,0,0,0,0,0,0,0,0,0,0,0,0,0,0,0,0,0,0,0,0,0,0,0,0,0,0,0,0,0]
[]
[null,null,"Debt Schedule"]
[null,null,null,"Opening Balance",null,null,null,{"$f":"G241","v":0},{"$f":"H241","v":115433.61656577013},115433.61656577013,113914.55416326273,112406.41887861516,110768.93337275286,109141.14083649505,107379.93441459056,105602.81722351258,103711.98775707975,101828.15422871224,99802.377303852802,97782.133576479871,95615.478481465922,93452.811264465869,91139.121145323181,88801.488187750118,86333.938007741483,83867.016339402428,81239.391879193921,78610.581566824505,75815.997328272293,73018.315800245138,70049.625999856275,67047.359127230637,63896.678701515179,60738.763138595212,57398.851642040972,54049.477717409776,50512.350989639155,46963.420704708835,43220.795174026491,39433.092606924743,35475.866223182762,31501.785622925032,27321.535225711927,23121.71951613712,18709.197430962187,14274.26572695803,9619.8800451178158,4906.747946543971,2.2282620193436742E-10,2.2282620193436742E-10,2.2282620193436742E-10,2.2282620193436742E-10,2.2282620193436742E-10,2.2282620193436742E-10,2.2282620193436742E-10,2.2282620193436742E-10,2.2282620193436742E-10,2.2282620193436742E-10,2.2282620193436742E-10,2.2282620193436742E-10,2.2282620193436742E-10,2.2282620193436742E-10,2.2282620193436742E-10,2.2282620193436742E-10,2.2282620193436742E-10,2.2282620193436742E-10,2.2282620193436742E-10,2.2282620193436742E-10,2.2282620193436742E-10,2.2282620193436742E-10,2.2282620193436742E-10,2.2282620193436742E-10,{"$f":"BT241","v":2.2282620193436742E-10},2.2282620193436742E-10,2.2282620193436742E-10,2.2282620193436742E-10,2.2282620193436742E-10,2.2282620193436742E-10,2.2282620193436742E-10,2.2282620193436742E-10,2.2282620193436742E-10,2.2282620193436742E-10,2.2282620193436742E-10,2.2282620193436742E-10,2.2282620193436742E-10,2.2282620193436742E-10,2.2282620193436742E-10,2.2282620193436742E-10,2.2282620193436742E-10,2.2282620193436742E-10,2.2282620193436742E-10,2.2282620193436742E-10,2.2282620193436742E-10,2.2282620193436742E-10,2.2282620193436742E-10,2.2282620193436742E-10,2.2282620193436742E-10,2.2282620193436742E-10,2.2282620193436742E-10,2.2282620193436742E-10,2.2282620193436742E-10,2.2282620193436742E-10,2.2282620193436742E-10,2.2282620193436742E-10,2.2282620193436742E-10,2.2282620193436742E-10,2.2282620193436742E-10]
[null,null,null,"Add: Debt Issue",null,{"$f":"H212","v":115433.61656577013},null,{"$f":"$F$239*H4","v":115433.61656577013},0,0,0,0,0,0,0,0,0,0,0,0,0,0,0,0,0,0,0,0,0,0,0,0,0,0,0,0,0,0,0,{"$f":"$F$239*AN4","v":0},0,0,0,0,0,0,0,0,0,0,0,0,0,0,0,0,0,0,0,0,0,0,0,0,0,0,0,0,0,0,0,{"$f":"$F$239*BT4","v":0},0,0,0,0,0,0,0,0,0,0,0,0,0,0,0,0,0,0,0,0,0,0,0,0,0,0,0,0,0,0,0,0,0,0,0]
[null,null,null,"Less: Debt Repayment",null,null,null,{"$f":"(H235-H242)*H218","v":0},0,1519.0624025074001,1508.1352846475656,1637.4855058623089,1627.7925362578062,1761.2064219044794,1777.1171910779874,1890.8294664328241,1883.8335283675062,2025.7769248594443,2020.2437273729367,2166.6550950139426,2162.667217000052,2313.6901191426928,2337.6329575730665,2467.5501800086304,2466.9216683390523,2627.6244602084989,2628.8103123694218,2794.5842385522064,2797.681528027153,2968.6898003888627,3002.2668726256352,3150.6804257154608,3157.9155629199704,3339.9114965542426,3349.3739246311939,3537.126727770622,3548.9302849303222,3742.6255306823468,3787.7025671017473,3957.226383741985,3974.0806002577315,4180.2503972131062,4199.8157095748074,4412.5220851749345,4434.9317040041578,4654.3856818402146,4713.1320985738448,4906.7479465437482,0,0,0,0,0,0,0,0,0,0,0,0,0,0,0,0,0,0,0,0,0,0,0,{"$f":"(BT235-BT242)*BT218","v":0},0,0,0,0,0,0,0,0,0,0,0,0,0,0,0,0,0,0,0,0,0,0,0,0,0,0,0,0,0,0,0,0,0,0,0]
[null,null,null,"Closing Balance",null,null,null,{"$f":"H238+H239-H240","v":115433.61656577013},{"$f":"I238+I239-I240","v":115433.61656577013},113914.55416326273,112406.41887861516,110768.93337275286,109141.14083649505,107379.93441459056,105602.81722351258,103711.98775707975,101828.15422871224,99802.377303852802,97782.133576479871,95615.478481465922,93452.811264465869,91139.121145323181,88801.488187750118,86333.938007741483,83867.016339402428,81239.391879193921,78610.581566824505,75815.997328272293,73018.315800245138,70049.625999856275,67047.359127230637,63896.678701515179,60738.763138595212,57398.851642040972,54049.477717409776,50512.350989639155,46963.420704708835,43220.795174026491,39433.092606924743,35475.866223182762,31501.785622925032,27321.535225711927,23121.71951613712,18709.197430962187,14274.26572695803,9619.8800451178158,4906.747946543971,2.2282620193436742E-10,2.2282620193436742E-10,2.2282620193436742E-10,2.2282620193436742E-10,2.2282620193436742E-10,2.2282620193436742E-10,2.2282620193436742E-10,2.2282620193436742E-10,2.2282620193436742E-10,2.2282620193436742E-10,2.2282620193436742E-10,2.2282620193436742E-10,2.2282620193436742E-10,2.2282620193436742E-10,2.2282620193436742E-10,2.2282620193436742E-10,2.2282620193436742E-10,2.2282620193436742E-10,2.2282620193436742E-10,2.2282620193436742E-10,2.2282620193436742E-10,2.2282620193436742E-10,2.2282620193436742E-10,2.2282620193436742E-10,2.2282620193436742E-10,{"$f":"BU238+BU239-BU240","v":2.2282620193436742E-10},2.2282620193436742E-10,2.2282620193436742E-10,2.2282620193436742E-10,2.2282620193436742E-10,2.2282620193436742E-10,2.2282620193436742E-10,2.2282620193436742E-10,2.2282620193436742E-10,2.2282620193436742E-10,2.2282620193436742E-10,2.2282620193436742E-10,2.2282620193436742E-10,2.2282620193436742E-10,2.2282620193436742E-10,2.2282620193436742E-10,2.2282620193436742E-10,2.2282620193436742E-10,2.2282620193436742E-10,2.2282620193436742E-10,2.2282620193436742E-10,2.2282620193436742E-10,2.2282620193436742E-10,2.2282620193436742E-10,2.2282620193436742E-10,2.2282620193436742E-10,2.2282620193436742E-10,2.2282620193436742E-10,2.2282620193436742E-10,2.2282620193436742E-10,2.2282620193436742E-10,2.2282620193436742E-10,2.2282620193436742E-10,2.2282620193436742E-10,2.2282620193436742E-10]
[null,null,null,"Intrest Expense",null,{"$f":"F195","v":1.6500000000000001E-2},null,{"$f":"H238*$F$242","v":0},1904.6546733352072,1904.6546733352072,1879.5901436938352,1854.7059114971503,1827.6874006504222,1800.8288238021685,1771.7689178407443,1742.4464841879576,1711.247797991816,1680.1645447737521,1646.7392255135712,1613.4052040119179,1577.6553949441877,1541.9713858636869,1503.7954988978327,1465.2245550978771,1424.5099771277346,1383.8057696001401,1340.4499660066997,1297.0745958526045,1250.963955916493,1204.8022107040449,1155.8188289976285,1106.2814255993055,1054.2951985750005,1002.1895917868211,947.08105209367613,891.8163823372613,833.45379132904611,774.89644162769582,713.14312037143713,650.64602801425826,585.35179268251557,519.779462778263,450.8053312242468,381.50837201626251,308.70175761087609,235.52538449480753,158.72802074444397,80.961341117975522,3.6766323319170628E-12,3.6766323319170628E-12,3.6766323319170628E-12,3.6766323319170628E-12,3.6766323319170628E-12,3.6766323319170628E-12,3.6766323319170628E-12,3.6766323319170628E-12,3.6766323319170628E-12,3.6766323319170628E-12,3.6766323319170628E-12,3.6766323319170628E-12,3.6766323319170628E-12,3.6766323319170628E-12,3.6766323319170628E-12,3.6766323319170628E-12,3.6766323319170628E-12,3.6766323319170628E-12,3.6766323319170628E-12,3.6766323319170628E-12,3.6766323319170628E-12,3.6766323319170628E-12,3.6766323319170628E-12,{"$f":"BT238*$F$242","v":3.6766323319170628E-12},3.6766323319170628E-12,3.6766323319170628E-12,3.6766323319170628E-12,3.6766323319170628E-12,3.6766323319170628E-12,3.6766323319170628E-12,3.6766323319170628E-12,3.6766323319170628E-12,3.6766323319170628E-12,3.6766323319170628E-12,3.6766323319170628E-12,3.6766323319170628E-12,3.6766323319170628E-12,3.6766323319170628E-12,3.6766323319170628E-12,3.6766323319170628E-12,3.6766323319170628E-12,3.6766323319170628E-12,3.6766323319170628E-12,3.6766323319170628E-12,3.6766323319170628E-12,3.6766323319170628E-12,3.6766323319170628E-12,3.6766323319170628E-12,3.6766323319170628E-12,3.6766323319170628E-12,3.6766323319170628E-12,3.6766323319170628E-12,3.6766323319170628E-12,3.6766323319170628E-12,3.6766323319170628E-12,3.6766323319170628E-12,3.6766323319170628E-12,3.6766323319170628E-12,3.6766323319170628E-12]
[]
[null,null,"Cash Trap Schedule"]
[null,null,null,"Opening Balance",null,null,null,{"$f":"G248","v":0},{"$f":"H248","v":0},3660.5293538311871,0,0,0,0,0,0,0,0,0,0,0,0,0,0,0,0,0,0,0,0,0,0,0,0,0,0,0,0,0,0,0,0,0,0,0,0,0,0,0,0,0,0,0,0,0,0,0,0,0,0,0,0,0,0,0,0,0,0,0,0,0,0,{"$f":"BT248","v":0},0,0,0,0,0,0,0,0,0,0,0,0,0,0,0,0,0,0,0,0,0,0,0,0,0,0,0,0,0,0,0,0,0,0]
[null,null,null,"Add: Cash Trapped",null,null,null,{"$f":"H261","v":0},{"$f":"I261","v":3660.5293538311871},0,0,0,0,0,0,0,0,0,0,0,0,0,0,0,0,0,0,0,0,0,0,0,0,0,0,0,0,0,0,0,0,0,0,0,0,0,0,0,0,0,0,0,0,0,0,0,0,0,0,0,0,0,0,0,0,0,0,0,0,0,0,0,{"$f":"BU261","v":0},0,0,0,0,0,0,0,0,0,0,0,0,0,0,0,0,0,0,0,0,0,0,0,0,0,0,0,0,0,0,0,0,0,0]
[null,null,null,"Less: Cash Released",null,null,null,{"$f":"H245*NOT(H251)","v":0},{"$f":"I245*NOT(I251)","v":0},3660.5293538311871,0,0,0,0,0,0,0,0,0,0,0,0,0,0,0,0,0,0,0,0,0,0,0,0,0,0,0,0,0,0,0,0,0,0,0,0,0,0,0,0,0,0,0,0,0,0,0,0,0,0,0,0,0,0,0,0,0,0,0,0,0,0,{"$f":"BU245*NOT(BU251)","v":0},0,0,0,0,0,0,0,0,0,0,0,0,0,0,0,0,0,0,0,0,0,0,0,0,0,0,0,0,0,0,0,0,0,0]
[null,null,null,"Closing Balance",null,null,null,{"$f":"H245+H246-H247","v":0},{"$f":"I245+I246-I247","v":3660.5293538311871},0,0,0,0,0,0,0,0,0,0,0,0,0,0,0,0,0,0,0,0,0,0,0,0,0,0,0,0,0,0,0,0,0,0,0,0,0,0,0,0,0,0,0,0,0,0,0,0,0,0,0,0,0,0,0,0,0,0,0,0,0,0,0,{"$f":"BU245+BU246-BU247","v":0},0,0,0,0,0,0,0,0,0,0,0,0,0,0,0,0,0,0,0,0,0,0,0,0,0,0,0,0,0,0,0,0,0,0]
[]
["Cash Flow Waterfall"]
[null,"Grace Period Switch",null,null,null,{"$f":"F11","v":"2021-02-01"},{"$f":"F69","v":"2021-08-01"},{"$f":"AND(H2<$G$251)","v":true},true,false,false,false,false,false,false,false,false,false,false,false,false,false,false,false,false,false,false,false,false,false,false,false,false,false,false,false,false,false,false,{"$f":"AND(AN2<$G$251)","v":false},false,false,false,false,false,false,false,false,false,false,false,false,false,false,false,false,false,false,false,false,false,false,false,false,false,false,false,false,false,false,false,{"$f":"AND(BT2<$G$251)","v":false},false,false,false,false,false,false,false,false,false,false,false,false,false,false,false,false,false,false,false,false,false,false,false,false,false,false,false,false,false,false,false,false,false,false,false]
[]
[null,"EBITDA",null,null,null,{"$f":"F223","v":1},null,{"$f":"CHOOSE($F$253,H144,H163,H184)","v":0},5565.1840271663941,5736.7954714120624,5676.4877077097226,5851.5313808403025,5790.0174618639167,5968.5620084571083,5946.5292567118922,6087.933248626252,6023.9341673232211,6209.6919135987755,6144.4128506696843,6333.8857518707518,6267.3011076830808,6460.5634669081692,6436.7145078458507,6589.7747362463333,6520.5000724334768,6721.5702309712624,6650.9100738821444,6856.0016355906855,6783.9282753597909,6993.1216683025004,6967.3067880309245,7132.9841016685514,7057.9989776843286,7275.6437837019257,7199.1589572380144,7421.1566593759617,7343.1421363827767,7569.5797925634834,7541.6369359509763,7720.9713884147532,7639.8050786926424,7875.3908161830495,7792.6011802664971,8032.8986325067126,7948.4532038718262,8193.5566051568476,8163.3103585172039,8357.4277372599863,8269.5707133082524,8524.576292005182,8434.9621275744157,8695.0678178452908,8603.6613701259066,8868.9691742021932,8836.2296641201538,9046.3485576862404,8951.2492894789902,9227.275528839964,9130.2742752685735,9411.8210394167654,9312.8797607739452,9600.057460205102,9564.6191615896569,9792.058609409205,9689.1201031092151,9987.8997815973889,9882.9025051713998,10187.657777229335,0,0,0,{"$f":"CHOOSE($F$253,BT144,BT163,BT184)","v":0},0,0,0,0,0,0,0,0,0,0,0,0,0,0,0,0,0,0,0,0,0,0,0,0,0,0,0,0,0,0,0,0,0,0,0]
[null,"Other Stuff to Subtract (tax, WC change, DSRA moves, cap exp)"]
[null,null,"CFADS",null,null,null,null,{"$f":"H253-H254","v":0},{"$f":"I253-I254","v":5565.1840271663941},5736.7954714120624,5676.4877077097226,5851.5313808403025,5790.0174618639167,5968.5620084571083,5946.5292567118922,6087.933248626252,6023.9341673232211,6209.6919135987755,6144.4128506696843,6333.8857518707518,6267.3011076830808,6460.5634669081692,6436.7145078458507,6589.7747362463333,6520.5000724334768,6721.5702309712624,6650.9100738821444,6856.0016355906855,6783.9282753597909,6993.1216683025004,6967.3067880309245,7132.9841016685514,7057.9989776843286,7275.6437837019257,7199.1589572380144,7421.1566593759617,7343.1421363827767,7569.5797925634834,7541.6369359509763,7720.9713884147532,7639.8050786926424,7875.3908161830495,7792.6011802664971,8032.8986325067126,7948.4532038718262,8193.5566051568476,8163.3103585172039,8357.4277372599863,8269.5707133082524,8524.576292005182,8434.9621275744157,8695.0678178452908,8603.6613701259066,8868.9691742021932,8836.2296641201538,9046.3485576862404,8951.2492894789902,9227.275528839964,9130.2742752685735,9411.8210394167654,9312.8797607739452,9600.057460205102,9564.6191615896569,9792.058609409205,9689.1201031092151,9987.8997815973889,9882.9025051713998,10187.657777229335,0,0,0,0,{"$f":"BU253-BU254","v":0},0,0,0,0,0,0,0,0,0,0,0,0,0,0,0,0,0,0,0,0,0,0,0,0,0,0,0,0,0,0,0,0,0,0]
[null,"Less: Debt Repayment",null,null,null,null,null,{"$f":"H240","v":0},{"$f":"I240","v":0},1519.0624025074001,1508.1352846475656,1637.4855058623089,1627.7925362578062,1761.2064219044794,1777.1171910779874,1890.8294664328241,1883.8335283675062,2025.7769248594443,2020.2437273729367,2166.6550950139426,2162.667217000052,2313.6901191426928,2337.6329575730665,2467.5501800086304,2466.9216683390523,2627.6244602084989,2628.8103123694218,2794.5842385522064,2797.681528027153,2968.6898003888627,3002.2668726256352,3150.6804257154608,3157.9155629199704,3339.9114965542426,3349.3739246311939,3537.126727770622,3548.9302849303222,3742.6255306823468,3787.7025671017473,3957.226383741985,3974.0806002577315,4180.2503972131062,4199.8157095748074,4412.5220851749345,4434.9317040041578,4654.3856818402146,4713.1320985738448,4906.7479465437482,0,0,0,0,0,0,0,0,0,0,0,0,0,0,0,0,0,0,0,0,0,0,0,0,{"$f":"BU240","v":0},0,0,0,0,0,0,0,0,0,0,0,0,0,0,0,0,0,0,0,0,0,0,0,0,0,0,0,0,0,0,0,0,0,0]
[null,"Less: Interest",null,null,null,null,null,{"$f":"H242","v":0},{"$f":"I242","v":1904.6546733352072},1904.6546733352072,1879.5901436938352,1854.7059114971503,1827.6874006504222,1800.8288238021685,1771.7689178407443,1742.4464841879576,1711.247797991816,1680.1645447737521,1646.7392255135712,1613.4052040119179,1577.6553949441877,1541.9713858636869,1503.7954988978327,1465.2245550978771,1424.5099771277346,1383.8057696001401,1340.4499660066997,1297.0745958526045,1250.963955916493,1204.8022107040449,1155.8188289976285,1106.2814255993055,1054.2951985750005,1002.1895917868211,947.08105209367613,891.8163823372613,833.45379132904611,774.89644162769582,713.14312037143713,650.64602801425826,585.35179268251557,519.779462778263,450.8053312242468,381.50837201626251,308.70175761087609,235.52538449480753,158.72802074444397,80.961341117975522,3.6766323319170628E-12,3.6766323319170628E-12,3.6766323319170628E-12,3.6766323319170628E-12,3.6766323319170628E-12,3.6766323319170628E-12,3.6766323319170628E-12,3.6766323319170628E-12,3.6766323319170628E-12,3.6766323319170628E-12,3.6766323319170628E-12,3.6766323319170628E-12,3.6766323319170628E-12,3.6766323319170628E-12,3.6766323319170628E-12,3.6766323319170628E-12,3.6766323319170628E-12,3.6766323319170628E-12,3.6766323319170628E-12,3.6766323319170628E-12,3.6766323319170628E-12,3.6766323319170628E-12,3.6766323319170628E-12,3.6766323319170628E-12,{"$f":"BU242","v":3.6766323319170628E-12},3.6766323319170628E-12,3.6766323319170628E-12,3.6766323319170628E-12,3.6766323319170628E-12,3.6766323319170628E-12,3.6766323319170628E-12,3.6766323319170628E-12,3.6766323319170628E-12,3.6766323319170628E-12,3.6766323319170628E-12,3.6766323319170628E-12,3.6766323319170628E-12,3.6766323319170628E-12,3.6766323319170628E-12,3.6766323319170628E-12,3.6766323319170628E-12,3.6766323319170628E-12,3.6766323319170628E-12,3.6766323319170628E-12,3.6766323319170628E-12,3.6766323319170628E-12,3.6766323319170628E-12,3.6766323319170628E-12,3.6766323319170628E-12,3.6766323319170628E-12,3.6766323319170628E-12,3.6766323319170628E-12,3.6766323319170628E-12,3.6766323319170628E-12,3.6766323319170628E-12,3.6766323319170628E-12,3.6766323319170628E-12,3.6766323319170628E-12,3.6766323319170628E-12]
[null,null,"Cash Flow Before Sweep",null,null,null,null,{"$f":"H255-H256-H257","v":0},{"$f":"I255-I256-I257","v":3660.5293538311871},2313.0783955694551,2288.7622793683217,2359.3399634808434,2334.5375249556882,2406.52676275046,2397.6431477931601,2454.6572980054702,2428.8528409638993,2503.7504439655795,2477.4298977831768,2553.8254528448915,2526.978495738841,2604.9019619017899,2595.2860513749511,2657.0000011398261,2629.0684269666899,2710.1400011626233,2681.6497955060231,2764.3428011858746,2735.2827914161448,2819.6296572095926,2809.2210864076606,2876.0222503537852,2845.7882161893576,2933.5426953608621,2902.7039805131444,2992.2135492680782,2960.7580601234085,3052.0578202534407,3040.7912484777917,3113.0989766585099,3080.3726857523952,3175.3609561916801,3141.9801394674428,3238.8681753155156,3204.8197422567923,3303.6455388218255,3291.4502391989149,3369.7184495982624,8269.5707133082487,8524.5762920051784,8434.9621275744121,8695.0678178452872,8603.661370125903,8868.9691742021896,8836.2296641201501,9046.3485576862367,8951.2492894789866,9227.2755288399603,9130.2742752685699,9411.8210394167618,9312.8797607739416,9600.0574602050983,9564.6191615896532,9792.0586094092014,9689.1201031092114,9987.8997815973853,9882.9025051713961,10187.657777229331,-3.6766323319170628E-12,-3.6766323319170628E-12,-3.6766323319170628E-12,-3.6766323319170628E-12,{"$f":"BU255-BU256-BU257","v":-3.6766323319170628E-12},-3.6766323319170628E-12,-3.6766323319170628E-12,-3.6766323319170628E-12,-3.6766323319170628E-12,-3.6766323319170628E-12,-3.6766323319170628E-12,-3.6766323319170628E-12,-3.6766323319170628E-12,-3.6766323319170628E-12,-3.6766323319170628E-12,-3.6766323319170628E-12,-3.6766323319170628E-12,-3.6766323319170628E-12,-3.6766323319170628E-12,-3.6766323319170628E-12,-3.6766323319170628E-12,-3.6766323319170628E-12,-3.6766323319170628E-12,-3.6766323319170628E-12,-3.6766323319170628E-12,-3.6766323319170628E-12,-3.6766323319170628E-12,-3.6766323319170628E-12,-3.6766323319170628E-12,-3.6766323319170628E-12,-3.6766323319170628E-12,-3.6766323319170628E-12,-3.6766323319170628E-12,-3.6766323319170628E-12,-3.6766323319170628E-12,-3.6766323319170628E-12,-3.6766323319170628E-12,-3.6766323319170628E-12,-3.6766323319170628E-12]
[null,"Less: Cash Sweep"]
[null,null,"Cash Flow to Equity",null,null,null,null,{"$f":"H258-H259","v":0},{"$f":"I258-I259","v":3660.5293538311871},2313.0783955694551,2288.7622793683217,2359.3399634808434,2334.5375249556882,2406.52676275046,2397.6431477931601,2454.6572980054702,2428.8528409638993,2503.7504439655795,2477.4298977831768,2553.8254528448915,2526.978495738841,2604.9019619017899,2595.2860513749511,2657.0000011398261,2629.0684269666899,2710.1400011626233,2681.6497955060231,2764.3428011858746,2735.2827914161448,2819.6296572095926,2809.2210864076606,2876.0222503537852,2845.7882161893576,2933.5426953608621,2902.7039805131444,2992.2135492680782,2960.7580601234085,3052.0578202534407,3040.7912484777917,3113.0989766585099,3080.3726857523952,3175.3609561916801,3141.9801394674428,3238.8681753155156,3204.8197422567923,3303.6455388218255,3291.4502391989149,3369.7184495982624,8269.5707133082487,8524.5762920051784,8434.9621275744121,8695.0678178452872,8603.661370125903,8868.9691742021896,8836.2296641201501,9046.3485576862367,8951.2492894789866,9227.2755288399603,9130.2742752685699,9411.8210394167618,9312.8797607739416,9600.0574602050983,9564.6191615896532,9792.0586094092014,9689.1201031092114,9987.8997815973853,9882.9025051713961,10187.657777229331,-3.6766323319170628E-12,-3.6766323319170628E-12,-3.6766323319170628E-12,-3.6766323319170628E-12,{"$f":"BU258-BU259","v":-3.6766323319170628E-12},-3.6766323319170628E-12,-3.6766323319170628E-12,-3.6766323319170628E-12,-3.6766323319170628E-12,-3.6766323319170628E-12,-3.6766323319170628E-12,-3.6766323319170628E-12,-3.6766323319170628E-12,-3.6766323319170628E-12,-3.6766323319170628E-12,-3.6766323319170628E-12,-3.6766323319170628E-12,-3.6766323319170628E-12,-3.6766323319170628E-12,-3.6766323319170628E-12,-3.6766323319170628E-12,-3.6766323319170628E-12,-3.6766323319170628E-12,-3.6766323319170628E-12,-3.6766323319170628E-12,-3.6766323319170628E-12,-3.6766323319170628E-12,-3.6766323319170628E-12,-3.6766323319170628E-12,-3.6766323319170628E-12,-3.6766323319170628E-12,-3.6766323319170628E-12,-3.6766323319170628E-12,-3.6766323319170628E-12,-3.6766323319170628E-12,-3.6766323319170628E-12,-3.6766323319170628E-12,-3.6766323319170628E-12,-3.6766323319170628E-12]
[null,"Less: Cash Trapped",null,null,null,null,null,{"$f":"H260*H251","v":0},{"$f":"I260*I251","v":3660.5293538311871},0,0,0,0,0,0,0,0,0,0,0,0,0,0,0,0,0,0,0,0,0,0,0,0,0,0,0,0,0,0,0,0,0,0,0,0,0,0,0,0,0,0,0,0,0,0,0,0,0,0,0,0,0,0,0,0,0,0,0,0,0,0,0,{"$f":"BU260*BU251","v":0},0,0,0,0,0,0,0,0,0,0,0,0,0,0,0,0,0,0,0,0,0,0,0,0,0,0,0,0,0,0,0,0,0,0]
[null,"Add: Cash Released from Trap",null,null,null,null,null,{"$f":"H247","v":0},{"$f":"I247","v":0},3660.5293538311871,0,0,0,0,0,0,0,0,0,0,0,0,0,0,0,0,0,0,0,0,0,0,0,0,0,0,0,0,0,0,0,0,0,0,0,0,0,0,0,0,0,0,0,0,0,0,0,0,0,0,0,0,0,0,0,0,0,0,0,0,0,0,{"$f":"BU247","v":0},0,0,0,0,0,0,0,0,0,0,0,0,0,0,0,0,0,0,0,0,0,0,0,0,0,0,0,0,0,0,0,0,0,0]
[null,null,"Dividends",null,null,null,null,{"$f":"H260-H261+H262","v":0},{"$f":"I260-I261+I262","v":0},5973.6077494006422,2288.7622793683217,2359.3399634808434,2334.5375249556882,2406.52676275046,2397.6431477931601,2454.6572980054702,2428.8528409638993,2503.7504439655795,2477.4298977831768,2553.8254528448915,2526.978495738841,2604.9019619017899,2595.2860513749511,2657.0000011398261,2629.0684269666899,2710.1400011626233,2681.6497955060231,2764.3428011858746,2735.2827914161448,2819.6296572095926,2809.2210864076606,2876.0222503537852,2845.7882161893576,2933.5426953608621,2902.7039805131444,2992.2135492680782,2960.7580601234085,3052.0578202534407,3040.7912484777917,3113.0989766585099,3080.3726857523952,3175.3609561916801,3141.9801394674428,3238.8681753155156,3204.8197422567923,3303.6455388218255,3291.4502391989149,3369.7184495982624,8269.5707133082487,8524.5762920051784,8434.9621275744121,8695.0678178452872,8603.661370125903,8868.9691742021896,8836.2296641201501,9046.3485576862367,8951.2492894789866,9227.2755288399603,9130.2742752685699,9411.8210394167618,9312.8797607739416,9600.0574602050983,9564.6191615896532,9792.0586094092014,9689.1201031092114,9987.8997815973853,9882.9025051713961,10187.657777229331,-3.6766323319170628E-12,-3.6766323319170628E-12,-3.6766323319170628E-12,-3.6766323319170628E-12,{"$f":"BU260-BU261+BU262","v":-3.6766323319170628E-12},-3.6766323319170628E-12,-3.6766323319170628E-12,-3.6766323319170628E-12,-3.6766323319170628E-12,-3.6766323319170628E-12,-3.6766323319170628E-12,-3.6766323319170628E-12,-3.6766323319170628E-12,-3.6766323319170628E-12,-3.6766323319170628E-12,-3.6766323319170628E-12,-3.6766323319170628E-12,-3.6766323319170628E-12,-3.6766323319170628E-12,-3.6766323319170628E-12,-3.6766323319170628E-12,-3.6766323319170628E-12,-3.6766323319170628E-12,-3.6766323319170628E-12,-3.6766323319170628E-12,-3.6766323319170628E-12,-3.6766323319170628E-12,-3.6766323319170628E-12,-3.6766323319170628E-12,-3.6766323319170628E-12,-3.6766323319170628E-12,-3.6766323319170628E-12,-3.6766323319170628E-12,-3.6766323319170628E-12,-3.6766323319170628E-12,-3.6766323319170628E-12,-3.6766323319170628E-12,-3.6766323319170628E-12,-3.6766323319170628E-12]
[]
[null,null,"Equity Cash Flow",null,null,null,null,{"$f":"H263-H213","v":-65319.622148979499},{"$f":"I263","v":0},{"$f":"J263","v":5973.6077494006422},2288.7622793683217,2359.3399634808434,2334.5375249556882,2406.52676275046,2397.6431477931601,2454.6572980054702,2428.8528409638993,2503.7504439655795,2477.4298977831768,2553.8254528448915,2526.978495738841,2604.9019619017899,2595.2860513749511,2657.0000011398261,2629.0684269666899,2710.1400011626233,2681.6497955060231,2764.3428011858746,2735.2827914161448,2819.6296572095926,2809.2210864076606,2876.0222503537852,2845.7882161893576,2933.5426953608621,2902.7039805131444,2992.2135492680782,2960.7580601234085,3052.0578202534407,3040.7912484777917,3113.0989766585099,3080.3726857523952,3175.3609561916801,3141.9801394674428,3238.8681753155156,3204.8197422567923,3303.6455388218255,3291.4502391989149,3369.7184495982624,8269.5707133082487,8524.5762920051784,8434.9621275744121,8695.0678178452872,8603.661370125903,8868.9691742021896,8836.2296641201501,9046.3485576862367,8951.2492894789866,9227.2755288399603,9130.2742752685699,9411.8210394167618,9312.8797607739416,9600.0574602050983,9564.6191615896532,9792.0586094092014,9689.1201031092114,9987.8997815973853,9882.9025051713961,10187.657777229331,-3.6766323319170628E-12,-3.6766323319170628E-12,-3.6766323319170628E-12,-3.6766323319170628E-12,-3.6766323319170628E-12,{"$f":"BV263","v":-3.6766323319170628E-12},-3.6766323319170628E-12,-3.6766323319170628E-12,-3.6766323319170628E-12,-3.6766323319170628E-12,-3.6766323319170628E-12,-3.6766323319170628E-12,-3.6766323319170628E-12,-3.6766323319170628E-12,-3.6766323319170628E-12,-3.6766323319170628E-12,-3.6766323319170628E-12,-3.6766323319170628E-12,-3.6766323319170628E-12,-3.6766323319170628E-12,-3.6766323319170628E-12,-3.6766323319170628E-12,-3.6766323319170628E-12,-3.6766323319170628E-12,-3.6766323319170628E-12,-3.6766323319170628E-12,-3.6766323319170628E-12,-3.6766323319170628E-12,-3.6766323319170628E-12,-3.6766323319170628E-12,-3.6766323319170628E-12,-3.6766323319170628E-12,-3.6766323319170628E-12,-3.6766323319170628E-12,-3.6766323319170628E-12,-3.6766323319170628E-12,-3.6766323319170628E-12,-3.6766323319170628E-12,-3.6766323319170628E-12]
[]
[null,null,"Equity IRR (XIRR)",null,{"$f":"XIRR(H265:DC265,H3:DC3)","v":9.7591525316238409E-2}]
[null,null,"NPV at Target IRR (XNPV)",null,{"$f":"#REF!","v":{"$error":"#REF!"}},{"$f":"XNPV(E268,H265:DC265,H3:DC3)","v":{"$error":"#REF!"}},"enpv_out"]
[]
[null,null,"Equity Cash Flow Adjusted for Owners Cost",null,null,null,null,{"$f":"H265+H207","v":-59799.622148979499},{"$f":"I265","v":0},{"$f":"J265","v":5973.6077494006422},2288.7622793683217,2359.3399634808434,2334.5375249556882,2406.52676275046,2397.6431477931601,2454.6572980054702,2428.8528409638993,2503.7504439655795,2477.4298977831768,2553.8254528448915,2526.978495738841,2604.9019619017899,2595.2860513749511,2657.0000011398261,2629.0684269666899,2710.1400011626233,2681.6497955060231,2764.3428011858746,2735.2827914161448,2819.6296572095926,2809.2210864076606,2876.0222503537852,2845.7882161893576,2933.5426953608621,2902.7039805131444,2992.2135492680782,2960.7580601234085,3052.0578202534407,3040.7912484777917,3113.0989766585099,3080.3726857523952,3175.3609561916801,3141.9801394674428,3238.8681753155156,3204.8197422567923,3303.6455388218255,3291.4502391989149,3369.7184495982624,8269.5707133082487,8524.5762920051784,8434.9621275744121,8695.0678178452872,8603.661370125903,8868.9691742021896,8836.2296641201501,9046.3485576862367,8951.2492894789866,9227.2755288399603,9130.2742752685699,9411.8210394167618,9312.8797607739416,9600.0574602050983,9564.6191615896532,9792.0586094092014,9689.1201031092114,9987.8997815973853,9882.9025051713961,10187.657777229331,-3.6766323319170628E-12,-3.6766323319170628E-12,-3.6766323319170628E-12,-3.6766323319170628E-12,-3.6766323319170628E-12,{"$f":"BV265","v":-3.6766323319170628E-12},-3.6766323319170628E-12,-3.6766323319170628E-12,-3.6766323319170628E-12,-3.6766323319170628E-12,-3.6766323319170628E-12,-3.6766323319170628E-12,-3.6766323319170628E-12,-3.6766323319170628E-12,-3.6766323319170628E-12,-3.6766323319170628E-12,-3.6766323319170628E-12,-3.6766323319170628E-12,-3.6766323319170628E-12,-3.6766323319170628E-12,-3.6766323319170628E-12,-3.6766323319170628E-12,-3.6766323319170628E-12,-3.6766323319170628E-12,-3.6766323319170628E-12,-3.6766323319170628E-12,-3.6766323319170628E-12,-3.6766323319170628E-12,-3.6766323319170628E-12,-3.6766323319170628E-12,-3.6766323319170628E-12,-3.6766323319170628E-12,-3.6766323319170628E-12,-3.6766323319170628E-12,-3.6766323319170628E-12,-3.6766323319170628E-12,-3.6766323319170628E-12,-3.6766323319170628E-12,-3.6766323319170628E-12]
[null,null,"Equity IRR",null,{"$f":"XIRR(H270:DC270,H3:DC3)","v":0.1056444227695465}]
[]
["Graphs",null,null,null,null,null,null,{"$f":"IF(H5,H2,NA())","v":{"$error":"#N/A"}},"2021-02-01","2021-08-01","2022-02-01","2022-08-01","2023-02-01","2023-08-01","2024-02-01","2024-08-01","2025-02-01","2025-08-01","2026-02-01","2026-08-01","2027-02-01","2027-08-01","2028-02-01","2028-08-01","2029-02-01","2029-08-01","2030-02-01","2030-08-01","2031-02-01","2031-08-01","2032-02-01","2032-08-01","2033-02-01","2033-08-01","2034-02-01","2034-08-01","2035-02-01","2035-08-01","2036-02-01",{"$f":"IF(AN5,AN2,NA())","v":"2036-08-01"},"2037-02-01","2037-08-01","2038-02-01","2038-08-01","2039-02-01","2039-08-01","2040-02-01","2040-08-01","2041-02-01","2041-08-01","2042-02-01","2042-08-01","2043-02-01","2043-08-01","2044-02-01","2044-08-01","2045-02-01","2045-08-01","2046-02-01","2046-08-01","2047-02-01","2047-08-01","2048-02-01","2048-08-01","2049-02-01","2049-08-01","2050-02-01","2050-08-01",{"$error":"#N/A"},{"$error":"#N/A"},{"$error":"#N/A"},{"$f":"IF(BT5,BT2,NA())","v":{"$error":"#N/A"}},{"$error":"#N/A"},{"$error":"#N/A"},{"$error":"#N/A"},{"$error":"#N/A"},{"$error":"#N/A"},{"$error":"#N/A"},{"$error":"#N/A"},{"$error":"#N/A"},{"$error":"#N/A"},{"$error":"#N/A"},{"$error":"#N/A"},{"$error":"#N/A"},{"$error":"#N/A"},{"$error":"#N/A"},{"$error":"#N/A"},{"$error":"#N/A"},{"$error":"#N/A"},{"$error":"#N/A"},{"$error":"#N/A"},{"$error":"#N/A"},{"$error":"#N/A"},{"$error":"#N/A"},{"$error":"#N/A"},{"$error":"#N/A"},{"$error":"#N/A"},{"$error":"#N/A"},{"$error":"#N/A"},{"$error":"#N/A"},{"$error":"#N/A"},{"$error":"#N/A"},{"$error":"#N/A"},{"$error":"#N/A"},{"$error":"#N/A"},{"$error":"#N/A"},{"$error":"#N/A"}]
[null,null,null,"CFADS",null,null,null,{"$f":"H255","v":0},{"$f":"I255","v":5565.1840271663941},5736.7954714120624,5676.4877077097226,5851.5313808403025,5790.0174618639167,5968.5620084571083,5946.5292567118922,6087.933248626252,6023.9341673232211,6209.6919135987755,6144.4128506696843,6333.8857518707518,6267.3011076830808,6460.5634669081692,6436.7145078458507,6589.7747362463333,6520.5000724334768,6721.5702309712624,6650.9100738821444,6856.0016355906855,6783.9282753597909,6993.1216683025004,6967.3067880309245,7132.9841016685514,7057.9989776843286,7275.6437837019257,7199.1589572380144,7421.1566593759617,7343.1421363827767,7569.5797925634834,7541.6369359509763,7720.9713884147532,7639.8050786926424,7875.3908161830495,7792.6011802664971,8032.8986325067126,7948.4532038718262,8193.5566051568476,8163.3103585172039,8357.4277372599863,8269.5707133082524,8524.576292005182,8434.9621275744157,8695.0678178452908,8603.6613701259066,8868.9691742021932,8836.2296641201538,9046.3485576862404,8951.2492894789902,9227.275528839964,9130.2742752685735,9411.8210394167654,9312.8797607739452,9600.057460205102,9564.6191615896569,9792.058609409205,9689.1201031092151,9987.8997815973889,9882.9025051713998,10187.657777229335,0,0,0,0,{"$f":"BU255","v":0},0,0,0,0,0,0,0,0,0,0,0,0,0,0,0,0,0,0,0,0,0,0,0,0,0,0,0,0,0,0,0,0,0,0]
[null,null,null,"Debt Service",null,null,null,{"$f":"H257+H256","v":0},{"$f":"I257+I256","v":1904.6546733352072},3423.7170758426073,3387.7254283414009,3492.1914173594591,3455.4799369082284,3562.0352457066479,3548.8861089187317,3633.2759506207817,3595.0813263593222,3705.9414696331964,3666.982952886508,3780.0602990258603,3740.3226119442397,3855.6615050063797,3841.4284564708992,3932.7747351065073,3891.4316454667869,4011.4302298086391,3969.2602783761213,4091.6588344048109,4048.645483943646,4173.4920110929079,4158.085701623264,4256.9618513147661,4212.2107614949709,4342.1010883410636,4296.45497672487,4428.9431101078835,4382.3840762593682,4517.5219723100427,4500.8456874731846,4607.8724117562433,4559.4323929402472,4700.0298599913694,4650.6210407990538,4794.0304571911975,4743.6334616150343,4889.911066335022,4871.8601193182885,4987.7092876617235,3.6766323319170628E-12,3.6766323319170628E-12,3.6766323319170628E-12,3.6766323319170628E-12,3.6766323319170628E-12,3.6766323319170628E-12,3.6766323319170628E-12,3.6766323319170628E-12,3.6766323319170628E-12,3.6766323319170628E-12,3.6766323319170628E-12,3.6766323319170628E-12,3.6766323319170628E-12,3.6766323319170628E-12,3.6766323319170628E-12,3.6766323319170628E-12,3.6766323319170628E-12,3.6766323319170628E-12,3.6766323319170628E-12,3.6766323319170628E-12,3.6766323319170628E-12,3.6766323319170628E-12,3.6766323319170628E-12,3.6766323319170628E-12,{"$f":"BU257+BU256","v":3.6766323319170628E-12},3.6766323319170628E-12,3.6766323319170628E-12,3.6766323319170628E-12,3.6766323319170628E-12,3.6766323319170628E-12,3.6766323319170628E-12,3.6766323319170628E-12,3.6766323319170628E-12,3.6766323319170628E-12,3.6766323319170628E-12,3.6766323319170628E-12,3.6766323319170628E-12,3.6766323319170628E-12,3.6766323319170628E-12,3.6766323319170628E-12,3.6766323319170628E-12,3.6766323319170628E-12,3.6766323319170628E-12,3.6766323319170628E-12,3.6766323319170628E-12,3.6766323319170628E-12,3.6766323319170628E-12,3.6766323319170628E-12,3.6766323319170628E-12,3.6766323319170628E-12,3.6766323319170628E-12,3.6766323319170628E-12,3.6766323319170628E-12,3.6766323319170628E-12,3.6766323319170628E-12,3.6766323319170628E-12,3.6766323319170628E-12,3.6766323319170628E-12,3.6766323319170628E-12]
[]
[null,null,null,"DSCR",null,null,null,{"$f":"IF(H275>0.1,H274/H275)","v":false},{"$f":"IF(I275>0.1,I274/I275)","v":2.9218861062206614},1.6756044218403139,1.6756044218403139,1.6756044218403139,1.6756044218403139,1.6756044218403139,1.6756044218403139,1.6756044218403139,1.6756044218403139,1.6756044218403139,1.6756044218403139,1.6756044218403141,1.6756044218403139,1.6756044218403139,1.6756044218403139,1.6756044218403141,1.6756044218403139,1.6756044218403139,1.6756044218403139,1.6756044218403139,1.6756044218403139,1.6756044218403139,1.6756044218403137,1.6756044218403139,1.6756044218403137,1.6756044218403139,1.6756044218403137,1.6756044218403139,1.6756044218403139,1.6756044218403139,1.6756044218403141,1.6756044218403139,1.6756044218403141,1.6756044218403139,1.6756044218403139,1.6756044218403141,1.6756044218403139,1.6756044218403139,1.6756044218403139,1.6756044218403139,false,false,false,false,false,false,false,false,false,false,false,false,false,false,false,false,false,false,false,false,false,false,false,false,{"$f":"IF(BU275>0.1,BU274/BU275)","v":false},false,false,false,false,false,false,false,false,false,false,false,false,false,false,false,false,false,false,false,false,false,false,false,false,false,false,false,false,false,false,false,false,false,false]
[]
[]
[null,null,null,"LLCR",null,null,null,{"$f":"H218","v":false},false,true,true,true,true,true,true,true,true,true,true,true,true,true,true,true,true,true,true,true,true,true,true,true,true,true,true,true,true,true,true,true,true,true,true,true,true,true,true,true,false,false,false,false,false,false,false,false,false,false,false,false,false,false,false,false,false,false,false,false,false,false,false,{"$f":"BT218","v":false},false,false,false,false,false,false,false,false,false,false,false,false,false,false,false,false,false,false,false,false,false,false,false,false,false,false,false,false,false,false,false,false,false,false,false]
[null,null,null,"PV CFADS over Loan Life",null,{"$f":"F189","v":1.6500000000000001E-2},{"$f":"NPV(F281,H281:DC281)","v":193421.07834662375},{"$f":"IF(H280,H274)","v":false},{"$f":"IF(I280,I274)","v":false},5736.7954714120624,5676.4877077097226,5851.5313808403025,5790.0174618639167,5968.5620084571083,5946.5292567118922,6087.933248626252,6023.9341673232211,6209.6919135987755,6144.4128506696843,6333.8857518707518,6267.3011076830808,6460.5634669081692,6436.7145078458507,6589.7747362463333,6520.5000724334768,6721.5702309712624,6650.9100738821444,6856.0016355906855,6783.9282753597909,6993.1216683025004,6967.3067880309245,7132.9841016685514,7057.9989776843286,7275.6437837019257,7199.1589572380144,7421.1566593759617,7343.1421363827767,7569.5797925634834,7541.6369359509763,7720.9713884147532,7639.8050786926424,7875.3908161830495,7792.6011802664971,8032.8986325067126,7948.4532038718262,8193.5566051568476,8163.3103585172039,8357.4277372599863,false,false,false,false,false,false,false,false,false,false,false,false,false,false,false,false,false,false,false,false,false,false,false,false,{"$f":"IF(BU280,BU274)","v":false},false,false,false,false,false,false,false,false,false,false,false,false,false,false,false,false,false,false,false,false,false,false,false,false,false,false,false,false,false,false,false,false,false,false]
[null,null,null,"Debt",null,null,{"$f":"H212","v":115433.61656577013}]
[null,null,null,"LLCR",null,null,{"$f":"G281/G282","v":1.6756044218403139}]
[]
[null,null,null,"PLCR",null,{"$f":"F281","v":1.6500000000000001E-2},{"$f":"NPV(F285,H285:DC285)","v":276199.79086007044},{"$f":"IF(H5,H274)","v":false},5565.1840271663941,5736.7954714120624,5676.4877077097226,5851.5313808403025,5790.0174618639167,5968.5620084571083,5946.5292567118922,6087.933248626252,6023.9341673232211,6209.6919135987755,6144.4128506696843,6333.8857518707518,6267.3011076830808,6460.5634669081692,6436.7145078458507,6589.7747362463333,6520.5000724334768,6721.5702309712624,6650.9100738821444,6856.0016355906855,6783.9282753597909,6993.1216683025004,6967.3067880309245,7132.9841016685514,7057.9989776843286,7275.6437837019257,7199.1589572380144,7421.1566593759617,7343.1421363827767,7569.5797925634834,7541.6369359509763,{"$f":"IF(AN5,AN274)","v":7720.9713884147532},7639.8050786926424,7875.3908161830495,7792.6011802664971,8032.8986325067126,7948.4532038718262,8193.5566051568476,8163.3103585172039,8357.4277372599863,8269.5707133082524,8524.576292005182,8434.9621275744157,8695.0678178452908,8603.6613701259066,8868.9691742021932,8836.2296641201538,9046.3485576862404,8951.2492894789902,9227.275528839964,9130.2742752685735,9411.8210394167654,9312.8797607739452,9600.057460205102,9564.6191615896569,9792.058609409205,9689.1201031092151,9987.8997815973889,9882.9025051713998,10187.657777229335,false,false,false,{"$f":"IF(BT5,BT274)","v":false},false,false,false,false,false,false,false,false,false,false,false,false,false,false,false,false,false,false,false,false,false,false,false,false,false,false,false,false,false,false,false,false,false,false,false]
[null,null,null,"Debt",null,null,{"$f":"G282","v":115433.61656577013}]
[null,null,null,"PLCR",null,null,{"$f":"G285/G286","v":2.3927153898249496}]

{"sheet":"Financial Model","index":3,"n_rows":468,"n_cols":156,"rows_kept":468,"cut":false,"hidden":false,"merged":[]}
["Timing",null,null,null,null,null,null,null,null,1,2,3,4,5,6,7,8,9,10,11,12,13,14,15,16,17,18,19,20,21,22,23,24,25,26,27,28,29,30,31,32,33,34,35,36,37,38,39,40,41,42,43,44,45,46,47,48,49,50,51,52,53,54,55,56,57,58,59,60,61,62,63,64,65,66,67,68,69,70,71,72,73,74,75,76,77,78,79,80,81,82,83,84,85,86,87,88,89,90,91,92,93,94,95,96,97,98,99,100,101,102,103,104,105,106,107,108,109,110,111,112,113,114,115,116,117,118,119,120,121,122,123,124,125,126,127,128,129,130,131,132,133,134,135,136,137,138,139,140,141,142,143,144,145,146,147]
[null,null,null,null,"Debt Size",{"$f":"E206","v":"P99 Applied"},{"$f":"E207","v":"DSCR"},{"$f":"F13","v":36},null,{"$f":"J1<=$H$2","v":true},{"$f":"K1<=$H$2","v":true},true,true,true,true,true,true,true,true,true,true,true,true,true,true,true,true,true,true,true,true,true,true,true,true,true,true,true,true,true,true,true,true,true,true,false,false,false,false,false,false,false,false,false,false,false,false,false,false,false,false,false,false,false,false,false,false,false,false,false,false,false,false,false,{"$f":"BW1<=$H$2","v":false},false,false,false,false,false,false,false,false,false,false,false,false,false,false,false,false,false,false,false,false,false,false,false,false,false,false,false,false,false,false,false,false,false,false,false,false,false,false,false,false,false,false,false,false,false,false,false,false,false,false,false,false,false,false,false,false,false,false,false,false,false,false,false,{"$f":"EI1<=$H$2","v":false},false,false,false,false,false,false,false,false,false,false,false,false,false,false,false,false,false]
[null,"Months in Period",null,null,null,null,1,6,null,{"$f":"IF(J2,$G$3,$H$3)","v":1},{"$f":"IF(K2,$G$3,$H$3)","v":1},1,1,1,1,1,1,1,1,1,1,1,1,1,1,1,1,1,1,1,1,1,1,1,1,1,1,1,1,1,1,1,1,1,1,6,6,6,6,6,6,6,6,6,6,6,6,6,6,6,6,6,6,6,6,6,6,6,6,6,6,6,6,6,{"$f":"IF(BW2,$G$3,$H$3)","v":6},6,6,6,6,6,6,6,6,6,6,6,6,6,6,6,6,6,6,6,6,6,6,6,6,6,6,6,6,6,6,6,6,6,6,6,6,6,6,6,6,6,6,6,6,6,6,6,6,6,6,6,6,6,6,6,6,6,6,6,6,6,6,6,{"$f":"IF(EI2,$G$3,$H$3)","v":6},6,6,6,6,6,6,6,6,6,6,6,6,6,6,6,6,6]
[null,"Start of Period",null,null,"Equity IRR",{"$f":"F451","v":0.10332065224647521},null,null,null,{"$f":"I5+1","v":"2019-01-01"},{"$f":"J5+1","v":"2019-02-01"},"2019-03-01","2019-04-01","2019-05-01","2019-06-01","2019-07-01","2019-08-01","2019-09-01","2019-10-01","2019-11-01","2019-12-01","2020-01-01","2020-02-01","2020-03-01","2020-04-01","2020-05-01","2020-06-01","2020-07-01","2020-08-01","2020-09-01","2020-10-01","2020-11-01","2020-12-01","2021-01-01","2021-02-01","2021-03-01","2021-04-01","2021-05-01","2021-06-01","2021-07-01","2021-08-01","2021-09-01","2021-10-01","2021-11-01","2021-12-01","2022-01-01","2022-07-01","2023-01-01","2023-07-01","2024-01-01","2024-07-01","2025-01-01","2025-07-01","2026-01-01","2026-07-01","2027-01-01","2027-07-01","2028-01-01","2028-07-01","2029-01-01","2029-07-01","2030-01-01","2030-07-01","2031-01-01","2031-07-01","2032-01-01","2032-07-01","2033-01-01","2033-07-01","2034-01-01","2034-07-01","2035-01-01","2035-07-01","2036-01-01",{"$f":"BV5+1","v":"2036-07-01"},"2037-01-01","2037-07-01","2038-01-01","2038-07-01","2039-01-01","2039-07-01","2040-01-01","2040-07-01","2041-01-01","2041-07-01","2042-01-01","2042-07-01","2043-01-01","2043-07-01","2044-01-01","2044-07-01","2045-01-01","2045-07-01","2046-01-01","2046-07-01","2047-01-01","2047-07-01","2048-01-01","2048-07-01","2049-01-01","2049-07-01","2050-01-01","2050-07-01","2051-01-01","2051-07-01","2052-01-01","2052-07-01","2053-01-01","2053-07-01","2054-01-01","2054-07-01","2055-01-01","2055-07-01","2056-01-01","2056-07-01","2057-01-01","2057-07-01","2058-01-01","2058-07-01","2059-01-01","2059-07-01","2060-01-01","2060-07-01","2061-01-01","2061-07-01","2062-01-01","2062-07-01","2063-01-01","2063-07-01","2064-01-01","2064-07-01","2065-01-01","2065-07-01","2066-01-01","2066-07-01","2067-01-01","2067-07-01","2068-01-01",{"$f":"EH5+1","v":"2068-07-01"},"2069-01-01","2069-07-01","2070-01-01","2070-07-01","2071-01-01","2071-07-01","2072-01-01","2072-07-01","2073-01-01","2073-07-01","2074-01-01","2074-07-01","2075-01-01","2075-07-01","2076-01-01","2076-07-01","2077-01-01"]
[null,"End of Period",null,null,"Debt IRR",{"$f":"E464","v":3.9915308356285109E-2},null,null,{"$f":"F12-1","v":"2018-12-31"},{"$f":"EDATE(J4,J3)-1","v":"2019-01-31"},{"$f":"EDATE(K4,K3)-1","v":"2019-02-28"},"2019-03-31","2019-04-30","2019-05-31","2019-06-30","2019-07-31","2019-08-31","2019-09-30","2019-10-31","2019-11-30","2019-12-31","2020-01-31","2020-02-29","2020-03-31","2020-04-30","2020-05-31","2020-06-30","2020-07-31","2020-08-31","2020-09-30","2020-10-31","2020-11-30","2020-12-31","2021-01-31","2021-02-28","2021-03-31","2021-04-30","2021-05-31","2021-06-30","2021-07-31","2021-08-31","2021-09-30","2021-10-31","2021-11-30","2021-12-31","2022-06-30","2022-12-31","2023-06-30","2023-12-31","2024-06-30","2024-12-31","2025-06-30","2025-12-31","2026-06-30","2026-12-31","2027-06-30","2027-12-31","2028-06-30","2028-12-31","2029-06-30","2029-12-31","2030-06-30","2030-12-31","2031-06-30","2031-12-31","2032-06-30","2032-12-31","2033-06-30","2033-12-31","2034-06-30","2034-12-31","2035-06-30","2035-12-31","2036-06-30",{"$f":"EDATE(BW4,BW3)-1","v":"2036-12-31"},"2037-06-30","2037-12-31","2038-06-30","2038-12-31","2039-06-30","2039-12-31","2040-06-30","2040-12-31","2041-06-30","2041-12-31","2042-06-30","2042-12-31","2043-06-30","2043-12-31","2044-06-30","2044-12-31","2045-06-30","2045-12-31","2046-06-30","2046-12-31","2047-06-30","2047-12-31","2048-06-30","2048-12-31","2049-06-30","2049-12-31","2050-06-30","2050-12-31","2051-06-30","2051-12-31","2052-06-30","2052-12-31","2053-06-30","2053-12-31","2054-06-30","2054-12-31","2055-06-30","2055-12-31","2056-06-30","2056-12-31","2057-06-30","2057-12-31","2058-06-30","2058-12-31","2059-06-30","2059-12-31","2060-06-30","2060-12-31","2061-06-30","2061-12-31","2062-06-30","2062-12-31","2063-06-30","2063-12-31","2064-06-30","2064-12-31","2065-06-30","2065-12-31","2066-06-30","2066-12-31","2067-06-30","2067-12-31","2068-06-30",{"$f":"EDATE(EI4,EI3)-1","v":"2068-12-31"},"2069-06-30","2069-12-31","2070-06-30","2070-12-31","2071-06-30","2071-12-31","2072-06-30","2072-12-31","2073-06-30","2073-12-31","2074-06-30","2074-12-31","2075-06-30","2075-12-31","2076-06-30","2076-12-31","2077-06-30"]
[null,"Construction"]
[null,"Construction",null,null,"Project IRR",{"$f":"F130","v":5.3269788622856154E-2},{"$f":"F12","v":"2019-01-01"},{"$f":"F14","v":"2022-01-01"},null,{"$f":"J4<$H$7","v":true},{"$f":"K4<$H$7","v":true},true,true,true,true,true,true,true,true,true,true,true,true,true,true,true,true,true,true,true,true,true,true,true,{"$f":"AI4<$H$7","v":true},true,true,true,true,true,true,true,true,true,true,false,false,false,false,false,false,false,false,false,false,false,false,false,false,false,false,false,false,false,false,false,false,false,false,false,false,false,false,false,false,false,false,false,false,false,false,false,false,false,false,false,false,false,false,false,false,false,false,false,false,false,false,false,{"$f":"CU4<$H$7","v":false},false,false,false,false,false,false,false,false,false,false,false,false,false,false,false,false,false,false,false,false,false,false,false,false,false,false,false,false,false,false,false,false,false,false,false,false,false,false,false,false,false,false,false,false,false,false,false,false,false,false,false,false,false,false,false,false,false]
[null,"Operation",null,null,"Pre-tax IRR",{"$f":"F121","v":6.3753578066825842E-2},{"$f":"F14","v":"2022-01-01"},{"$f":"F16","v":"2057-01-01"},null,{"$f":"AND(NOT(J7),J4<$H$8)","v":false},{"$f":"AND(NOT(K7),K4<$H$8)","v":false},false,false,false,false,false,false,false,false,false,false,false,false,false,false,false,false,false,false,false,false,false,false,false,{"$f":"AND(NOT(AI7),AI4<$H$8)","v":false},false,false,false,false,false,false,false,false,false,false,true,true,true,true,true,true,true,true,true,true,true,true,true,true,true,true,true,true,true,true,true,true,true,true,true,true,true,true,true,true,true,true,true,true,true,true,true,true,true,true,true,true,true,true,true,true,true,true,true,true,true,true,true,{"$f":"AND(NOT(CU7),CU4<$H$8)","v":true},true,true,true,true,true,true,true,true,true,true,true,true,true,true,true,true,false,false,false,false,false,false,false,false,false,false,false,false,false,false,false,false,false,false,false,false,false,false,false,false,false,false,false,false,false,false,false,false,false,false,false,false,false,false,false,false,false]
[]
["Assumptions"]
[null,"Timing"]
[null,null,"Financial Close",null,"Date","2019-01-01"]
[null,null,"Construction",null,"Years",{"$f":"G13","v":36},36]
[null,null,"COD",null,"Date",{"$f":"EDATE(F12,F13*$G$3)","v":"2022-01-01"}]
[null,null,"Operations",null,"Years",{"$f":"G15","v":35},35]
[null,null,"Decommissioning",null,"Date",{"$f":"EDATE(F14,F15*12)","v":"2057-01-01"}]
[]
[null,"Operating"]
[null,null,"Apply P50 Case",null,"Euro",true]
[null,null,"Apply P99 Case",null,"Euro",{"$f":"NOT(F19)","v":false}]
[]
[null,null,"EPC Cost/kW",null,"Euro/kW",{"$f":"'Inputs and Operations'!F25","v":1400}]
[null,null,"Capital Expenditure",null,"Euro",{"$f":"'Inputs and Operations'!F99","v":168000}]
[null,null,"S-Cruve Mean",null,"Periods",{"$f":"F13/2.5","v":14.4},"Euro"]
[null,null,"S-Cruve Standard Deviation",null,"Periods",{"$f":"F13/4","v":9}]
[]
[null,null,"Development Fee",null,"%",{"$f":"G27/100","v":0.2},20]
[null,null,"Target IRR",null,"%",{"$f":"G28/100","v":0.11},11]
[]
[null,null,"Tax Rate",null,"Percent",0.21]
[]
["Financing Assumptions"]
[null,"Senior Financing"]
[null,null,"Debt Size"]
[null,null,null,"DSCR - P50","Times",{"$f":"G35/100","v":1.35},135]
[null,null,null,"DSCR - P99","Times",{"$f":"G36/100","v":1},100]
[null,null,null,"DSCR Applied",null,{"$f":"SUMPRODUCT(F19:F20*F35:F36)","v":1.35}]
[]
[null,null,null,"Maximum Debt to Capital","%",{"$f":"G39/100","v":0.89},89]
[]
[null,null,null,"Up-Front Equity","Percent",{"$f":"G41/100","v":0.5},50]
[]
[null,null,null,"Tenure - Years","Years",{"$f":"G43","v":27},27]
[null,null,null,"Tenure - Periods","Periods",{"$f":"F43*12/H3","v":54}]
[null,null,null,"Repayment Date","Date",{"$f":"EDATE(F14,F43*12)","v":"2049-01-01"}]
[]
[null,null,null,null,null,{"$f":"F12","v":"2019-01-01"},{"$f":"F14","v":"2022-01-01"},{"$f":"EDATE(G47,4*12)","v":"2026-01-01"},{"$f":"EDATE(H47,4*12)","v":"2030-01-01"},"2034-01-01"]
[null,null,null,"Annual Base Rate","% p.a.",1.4999999999999999E-2,1.4999999999999999E-2,1.4999999999999999E-2,1.4999999999999999E-2,1.4999999999999999E-2]
[null,null,null,"Annual Credit Spread","% p.a.",{"$f":"E50/1000","v":1.7000000000000001E-2},{"$f":"F49+0.25%","v":1.95E-2},{"$f":"G49+0.25%","v":2.1999999999999999E-2},2.4499999999999997E-2,{"$f":"I49+0.25%","v":2.6999999999999996E-2}]
[null,null,null,"Total",17,{"$f":"F48+F49","v":3.2000000000000001E-2},{"$f":"G48+G49","v":3.4500000000000003E-2},3.6999999999999998E-2,3.9499999999999993E-2,4.1999999999999996E-2]
[]
[null,null,null,"Commitment Fee","% p.a.",0.01]
[null,null,null,"Up-Front Fee","%",1.4999999999999999E-2]
[]
[null,null,null,"DSRA Percent","Percent",1]
[null,null,null,"Cash Sweep Percent","Percent",0]
[]
[null,"Mezzanine Financing"]
[null,null,"Debt Size"]
[null,null,null,"Total DSCR - P50",null,1.2]
[null,null,null,"Debt to Capital",null,0]
[]
[null,null,null,"Tenor","Years",{"$f":"G63","v":18},18]
[null,null,null,null,null,1,5,9,14]
[null,null,null,"Interest Rate","% p.a.",0.05,0.05,0.05,0.05]
[]
[null,null,null,"Cash Sweep","%",0]
[]
[null,"EBL Loan"]
[null,null,"Include EBL",null,"Switch",false]
[null,null,"Interest Rate on EBL",null,"% p.a.",1.4999999999999999E-2]
[]
["Re-financing Assumptions"]
[null,"Re-financing Issue Number 1"]
[null,null,"Re-financing Period After COD (Year)",null,"Year",{"$f":"[0]!refi1","v":36},36]
[null,null,"Re-financing Period After COD (Period)",null,"Period",{"$f":"F75*12/$H$3","v":72}]
[null,null,"Re-finance Date",null,null,{"$f":"EDATE($F$14,F75*12)","v":"2058-01-01"}]
[null,null,"Re-financing DSCR - Sizing",null,null,1.25]
[null,null,"Re-financing Tenor - Tail (Years)",null,null,2]
[null,null,"Re-financing Tenor - Tail (Periods)",null,null,{"$f":"F79*12/$H$3","v":4}]
[null,null,"Maturity of Re-financing",null,null,{"$f":"EDATE($F$16,-F80*$H$3)","v":"2055-01-01"}]
[null,null,"Re-financing Term (Years)",null,null,{"$f":"DAYS360(F77,F81)/360","v":-3}]
[null,null,"Re-financing Term (Periods)",null,null,{"$f":"F82*12/H3","v":-6}]
[null,null,"Re-financing Interest Rate",null,null,3.5000000000000003E-2]
[]
[null,"Re-financing Issue Number 2"]
[null,null,"Re-financing Period After COD (Year)",null,null,{"$f":"G87","v":36},36]
[null,null,"Re-financing Period After COD (Period)",null,"Period",{"$f":"F87*12/$H$3","v":72}]
[null,null,"Re-finance Date",null,null,{"$f":"EDATE($F$14,F88*$H$3)","v":"2058-01-01"}]
[null,null,"Re-financing DSCR - Sizing",null,null,1.25]
[null,null,"Re-financing Tenor - Tail (Years)",null,null,1]
[null,null,"Re-financing Tenor - Tail (Periods)",null,null,{"$f":"F91*12/$H$3","v":2}]
[null,null,"Maturity of Re-financing",null,null,{"$f":"EDATE($F$16,-F92*$H$3)","v":"2056-01-01"}]
[null,null,"Re-financing Term (Years)",null,null,{"$f":"DAYS360(F89,F93)/360","v":-2}]
[null,null,"Re-financing Term (Periods)",null,null,{"$f":"F94*12/$H$3","v":-4}]
[null,null,"Re-financing Interest Rate",null,null,0.03]
[]
[null,"Re-financing Issue Number 3"]
[null,null,"Re-financing Period After COD (Year)",null,null,{"$f":"G99","v":36},36]
[null,null,"Re-financing Period After COD",null,null,{"$f":"F99*12/H3","v":72}]
[null,null,"Re-finance Date",null,null,{"$f":"EDATE($F$14,F100*$H$3)","v":"2058-01-01"}]
[null,null,"Re-financing DSCR - Sizing",null,null,1.2]
[null,null,"Re-financing Tenor - Tail (Years)",null,null,0]
[null,null,"Re-financing Tenor - Tail (Periods)",null,null,{"$f":"F103*12/$H$3","v":0}]
[null,null,"Maturity of Re-financing",null,null,{"$f":"EDATE($F$16,-F104*$H$3)","v":"2057-01-01"}]
[null,null,"Re-financing Term (Years)",null,null,{"$f":"DAYS360(F101,F105)/360","v":-1}]
[null,null,"Re-financing Term (Periods)",null,null,{"$f":"F106*12/$H$3","v":-2}]
[null,null,"Re-financing Interest Rate",null,null,2.9000000000000001E-2]
[]
["Operations"]
[null,"Operation Period",null,null,null,null,null,null,null,{"$f":"I111+J8","v":0},0,0,0,0,0,0,0,0,0,0,0,0,0,0,0,0,0,0,0,0,0,0,0,0,0,0,0,0,0,0,0,{"$f":"AO111+AP8","v":0},0,0,0,1,2,3,4,5,6,7,8,9,10,11,12,13,14,15,16,17,18,19,20,21,22,23,24,25,26,27,28,{"$f":"BU111+BV8","v":29},30,31,32,33,34,35,36,37,38,39,40,41,42,43,44,45,46,47,48,49,50,51,52,53,54,55,56,57,58,59,60,{"$f":"DA111+DB8","v":61},62,63,64,65,66,67,68,69,70,70,70,70,70,70,70,70,70,70,70,70,70,70,70,70,70,70,70,70,70,70,70,{"$f":"EG111+EH8","v":70},70,70,70,70,70,70,70,70,70,70,70,70,70,70,70,70,70,70]
[null,null,"EBITDA  - P50",null,null,null,null,null,null,{"$f":"LOOKUP(J111,'Inputs and Operations'!1:1,'Inputs and Operations'!144:144)","v":0},{"$f":"LOOKUP(K111,'Inputs and Operations'!1:1,'Inputs and Operations'!144:144)","v":0},{"$f":"LOOKUP(L111,'Inputs and Operations'!1:1,'Inputs and Operations'!144:144)","v":0},{"$f":"LOOKUP(M111,'Inputs and Operations'!1:1,'Inputs and Operations'!144:144)","v":0},{"$f":"LOOKUP(N111,'Inputs and Operations'!1:1,'Inputs and Operations'!144:144)","v":0},{"$f":"LOOKUP(O111,'Inputs and Operations'!1:1,'Inputs and Operations'!144:144)","v":0},{"$f":"LOOKUP(P111,'Inputs and Operations'!1:1,'Inputs and Operations'!144:144)","v":0},{"$f":"LOOKUP(Q111,'Inputs and Operations'!1:1,'Inputs and Operations'!144:144)","v":0},{"$f":"LOOKUP(R111,'Inputs and Operations'!1:1,'Inputs and Operations'!144:144)","v":0},{"$f":"LOOKUP(S111,'Inputs and Operations'!1:1,'Inputs and Operations'!144:144)","v":0},{"$f":"LOOKUP(T111,'Inputs and Operations'!1:1,'Inputs and Operations'!144:144)","v":0},{"$f":"LOOKUP(U111,'Inputs and Operations'!1:1,'Inputs and Operations'!144:144)","v":0},{"$f":"LOOKUP(V111,'Inputs and Operations'!1:1,'Inputs and Operations'!144:144)","v":0},{"$f":"LOOKUP(W111,'Inputs and Operations'!1:1,'Inputs and Operations'!144:144)","v":0},{"$f":"LOOKUP(X111,'Inputs and Operations'!1:1,'Inputs and Operations'!144:144)","v":0},{"$f":"LOOKUP(Y111,'Inputs and Operations'!1:1,'Inputs and Operations'!144:144)","v":0},{"$f":"LOOKUP(Z111,'Inputs and Operations'!1:1,'Inputs and Operations'!144:144)","v":0},{"$f":"LOOKUP(AA111,'Inputs and Operations'!1:1,'Inputs and Operations'!144:144)","v":0},{"$f":"LOOKUP(AB111,'Inputs and Operations'!1:1,'Inputs and Operations'!144:144)","v":0},{"$f":"LOOKUP(AC111,'Inputs and Operations'!1:1,'Inputs and Operations'!144:144)","v":0},{"$f":"LOOKUP(AD111,'Inputs and Operations'!1:1,'Inputs and Operations'!144:144)","v":0},{"$f":"LOOKUP(AE111,'Inputs and Operations'!1:1,'Inputs and Operations'!144:144)","v":0},{"$f":"LOOKUP(AF111,'Inputs and Operations'!1:1,'Inputs and Operations'!144:144)","v":0},{"$f":"LOOKUP(AG111,'Inputs and Operations'!1:1,'Inputs and Operations'!144:144)","v":0},{"$f":"LOOKUP(AH111,'Inputs and Operations'!1:1,'Inputs and Operations'!144:144)","v":0},{"$f":"LOOKUP(AI111,'Inputs and Operations'!1:1,'Inputs and Operations'!144:144)","v":0},{"$f":"LOOKUP(AJ111,'Inputs and Operations'!1:1,'Inputs and Operations'!144:144)","v":0},{"$f":"LOOKUP(AK111,'Inputs and Operations'!1:1,'Inputs and Operations'!144:144)","v":0},{"$f":"LOOKUP(AL111,'Inputs and Operations'!1:1,'Inputs and Operations'!144:144)","v":0},{"$f":"LOOKUP(AM111,'Inputs and Operations'!1:1,'Inputs and Operations'!144:144)","v":0},{"$f":"LOOKUP(AN111,'Inputs and Operations'!1:1,'Inputs and Operations'!144:144)","v":0},{"$f":"LOOKUP(AO111,'Inputs and Operations'!1:1,'Inputs and Operations'!144:144)","v":0},{"$f":"LOOKUP(AP111,'Inputs and Operations'!1:1,'Inputs and Operations'!144:144)","v":0},{"$f":"LOOKUP(AQ111,'Inputs and Operations'!1:1,'Inputs and Operations'!144:144)","v":0},{"$f":"LOOKUP(AR111,'Inputs and Operations'!1:1,'Inputs and Operations'!144:144)","v":0},{"$f":"LOOKUP(AS111,'Inputs and Operations'!1:1,'Inputs and Operations'!144:144)","v":0},{"$f":"LOOKUP(AT111,'Inputs and Operations'!1:1,'Inputs and Operations'!144:144)","v":0},{"$f":"LOOKUP(AU111,'Inputs and Operations'!1:1,'Inputs and Operations'!144:144)","v":5565.1840271663941},{"$f":"LOOKUP(AV111,'Inputs and Operations'!1:1,'Inputs and Operations'!144:144)","v":5736.7954714120624},{"$f":"LOOKUP(AW111,'Inputs and Operations'!1:1,'Inputs and Operations'!144:144)","v":5676.4877077097226},{"$f":"LOOKUP(AX111,'Inputs and Operations'!1:1,'Inputs and Operations'!144:144)","v":5851.5313808403025},{"$f":"LOOKUP(AY111,'Inputs and Operations'!1:1,'Inputs and Operations'!144:144)","v":5790.0174618639167},{"$f":"LOOKUP(AZ111,'Inputs and Operations'!1:1,'Inputs and Operations'!144:144)","v":5968.5620084571083},{"$f":"LOOKUP(BA111,'Inputs and Operations'!1:1,'Inputs and Operations'!144:144)","v":5946.5292567118922},{"$f":"LOOKUP(BB111,'Inputs and Operations'!1:1,'Inputs and Operations'!144:144)","v":6087.933248626252},{"$f":"LOOKUP(BC111,'Inputs and Operations'!1:1,'Inputs and Operations'!144:144)","v":6023.9341673232211},{"$f":"LOOKUP(BD111,'Inputs and Operations'!1:1,'Inputs and Operations'!144:144)","v":6209.6919135987755},{"$f":"LOOKUP(BE111,'Inputs and Operations'!1:1,'Inputs and Operations'!144:144)","v":6144.4128506696843},{"$f":"LOOKUP(BF111,'Inputs and Operations'!1:1,'Inputs and Operations'!144:144)","v":6333.8857518707518},{"$f":"LOOKUP(BG111,'Inputs and Operations'!1:1,'Inputs and Operations'!144:144)","v":6267.3011076830808},{"$f":"LOOKUP(BH111,'Inputs and Operations'!1:1,'Inputs and Operations'!144:144)","v":6460.5634669081692},{"$f":"LOOKUP(BI111,'Inputs and Operations'!1:1,'Inputs and Operations'!144:144)","v":6436.7145078458507},{"$f":"LOOKUP(BJ111,'Inputs and Operations'!1:1,'Inputs and Operations'!144:144)","v":6589.7747362463333},{"$f":"LOOKUP(BK111,'Inputs and Operations'!1:1,'Inputs and Operations'!144:144)","v":6520.5000724334768},{"$f":"LOOKUP(BL111,'Inputs and Operations'!1:1,'Inputs and Operations'!144:144)","v":6721.5702309712624},{"$f":"LOOKUP(BM111,'Inputs and Operations'!1:1,'Inputs and Operations'!144:144)","v":6650.9100738821444},{"$f":"LOOKUP(BN111,'Inputs and Operations'!1:1,'Inputs and Operations'!144:144)","v":6856.0016355906855},{"$f":"LOOKUP(BO111,'Inputs and Operations'!1:1,'Inputs and Operations'!144:144)","v":6783.9282753597909},{"$f":"LOOKUP(BP111,'Inputs and Operations'!1:1,'Inputs and Operations'!144:144)","v":6993.1216683025004},{"$f":"LOOKUP(BQ111,'Inputs and Operations'!1:1,'Inputs and Operations'!144:144)","v":6967.3067880309245},{"$f":"LOOKUP(BR111,'Inputs and Operations'!1:1,'Inputs and Operations'!144:144)","v":7132.9841016685514},{"$f":"LOOKUP(BS111,'Inputs and Operations'!1:1,'Inputs and Operations'!144:144)","v":7057.9989776843286},{"$f":"LOOKUP(BT111,'Inputs and Operations'!1:1,'Inputs and Operations'!144:144)","v":7275.6437837019257},{"$f":"LOOKUP(BU111,'Inputs and Operations'!1:1,'Inputs and Operations'!144:144)","v":7199.1589572380144},{"$f":"LOOKUP(BV111,'Inputs and Operations'!1:1,'Inputs and Operations'!144:144)","v":7421.1566593759617},{"$f":"LOOKUP(BW111,'Inputs and Operations'!1:1,'Inputs and Operations'!144:144)","v":7343.1421363827767},{"$f":"LOOKUP(BX111,'Inputs and Operations'!1:1,'Inputs and Operations'!144:144)","v":7569.5797925634834},{"$f":"LOOKUP(BY111,'Inputs and Operations'!1:1,'Inputs and Operations'!144:144)","v":7541.6369359509763},{"$f":"LOOKUP(BZ111,'Inputs and Operations'!1:1,'Inputs and Operations'!144:144)","v":7720.9713884147532},{"$f":"LOOKUP(CA111,'Inputs and Operations'!1:1,'Inputs and Operations'!144:144)","v":7639.8050786926424},{"$f":"LOOKUP(CB111,'Inputs and Operations'!1:1,'Inputs and Operations'!144:144)","v":7875.3908161830495},{"$f":"LOOKUP(CC111,'Inputs and Operations'!1:1,'Inputs and Operations'!144:144)","v":7792.6011802664971},{"$f":"LOOKUP(CD111,'Inputs and Operations'!1:1,'Inputs and Operations'!144:144)","v":8032.8986325067126},{"$f":"LOOKUP(CE111,'Inputs and Operations'!1:1,'Inputs and Operations'!144:144)","v":7948.4532038718262},{"$f":"LOOKUP(CF111,'Inputs and Operations'!1:1,'Inputs and Operations'!144:144)","v":8193.5566051568476},{"$f":"LOOKUP(CG111,'Inputs and Operations'!1:1,'Inputs and Operations'!144:144)","v":8163.3103585172039},{"$f":"LOOKUP(CH111,'Inputs and Operations'!1:1,'Inputs and Operations'!144:144)","v":8357.4277372599863},{"$f":"LOOKUP(CI111,'Inputs and Operations'!1:1,'Inputs and Operations'!144:144)","v":8269.5707133082524},{"$f":"LOOKUP(CJ111,'Inputs and Operations'!1:1,'Inputs and Operations'!144:144)","v":8524.576292005182},{"$f":"LOOKUP(CK111,'Inputs and Operations'!1:1,'Inputs and Operations'!144:144)","v":8434.9621275744157},{"$f":"LOOKUP(CL111,'Inputs and Operations'!1:1,'Inputs and Operations'!144:144)","v":8695.0678178452908},{"$f":"LOOKUP(CM111,'Inputs and Operations'!1:1,'Inputs and Operations'!144:144)","v":8603.6613701259066},{"$f":"LOOKUP(CN111,'Inputs and Operations'!1:1,'Inputs and Operations'!144:144)","v":8868.9691742021932},{"$f":"LOOKUP(CO111,'Inputs and Operations'!1:1,'Inputs and Operations'!144:144)","v":8836.2296641201538},{"$f":"LOOKUP(CP111,'Inputs and Operations'!1:1,'Inputs and Operations'!144:144)","v":9046.3485576862404},{"$f":"LOOKUP(CQ111,'Inputs and Operations'!1:1,'Inputs and Operations'!144:144)","v":8951.2492894789902},{"$f":"LOOKUP(CR111,'Inputs and Operations'!1:1,'Inputs and Operations'!144:144)","v":9227.275528839964},{"$f":"LOOKUP(CS111,'Inputs and Operations'!1:1,'Inputs and Operations'!144:144)","v":9130.2742752685735},{"$f":"LOOKUP(CT111,'Inputs and Operations'!1:1,'Inputs and Operations'!144:144)","v":9411.8210394167654},{"$f":"LOOKUP(CU111,'Inputs and Operations'!1:1,'Inputs and Operations'!144:144)","v":9312.8797607739452},{"$f":"LOOKUP(CV111,'Inputs and Operations'!1:1,'Inputs and Operations'!144:144)","v":9600.057460205102},{"$f":"LOOKUP(CW111,'Inputs and Operations'!1:1,'Inputs and Operations'!144:144)","v":9564.6191615896569},{"$f":"LOOKUP(CX111,'Inputs and Operations'!1:1,'Inputs and Operations'!144:144)","v":9792.058609409205},{"$f":"LOOKUP(CY111,'Inputs and Operations'!1:1,'Inputs and Operations'!144:144)","v":9689.1201031092151},{"$f":"LOOKUP(CZ111,'Inputs and Operations'!1:1,'Inputs and Operations'!144:144)","v":9987.8997815973889},{"$f":"LOOKUP(DA111,'Inputs and Operations'!1:1,'Inputs and Operations'!144:144)","v":9882.9025051713998},{"$f":"LOOKUP(DB111,'Inputs and Operations'!1:1,'Inputs and Operations'!144:144)","v":10187.657777229335},{"$f":"LOOKUP(DC111,'Inputs and Operations'!1:1,'Inputs and Operations'!144:144)","v":0},{"$f":"LOOKUP(DD111,'Inputs and Operations'!1:1,'Inputs and Operations'!144:144)","v":0},{"$f":"LOOKUP(DE111,'Inputs and Operations'!1:1,'Inputs and Operations'!144:144)","v":0},{"$f":"LOOKUP(DF111,'Inputs and Operations'!1:1,'Inputs and Operations'!144:144)","v":0},{"$f":"LOOKUP(DG111,'Inputs and Operations'!1:1,'Inputs and Operations'!144:144)","v":0},{"$f":"LOOKUP(DH111,'Inputs and Operations'!1:1,'Inputs and Operations'!144:144)","v":0},{"$f":"LOOKUP(DI111,'Inputs and Operations'!1:1,'Inputs and Operations'!144:144)","v":0},{"$f":"LOOKUP(DJ111,'Inputs and Operations'!1:1,'Inputs and Operations'!144:144)","v":0},{"$f":"LOOKUP(DK111,'Inputs and Operations'!1:1,'Inputs and Operations'!144:144)","v":0},{"$f":"LOOKUP(DL111,'Inputs and Operations'!1:1,'Inputs and Operations'!144:144)","v":0},{"$f":"LOOKUP(DM111,'Inputs and Operations'!1:1,'Inputs and Operations'!144:144)","v":0},{"$f":"LOOKUP(DN111,'Inputs and Operations'!1:1,'Inputs and Operations'!144:144)","v":0},{"$f":"LOOKUP(DO111,'Inputs and Operations'!1:1,'Inputs and Operations'!144:144)","v":0},{"$f":"LOOKUP(DP111,'Inputs and Operations'!1:1,'Inputs and Operations'!144:144)","v":0},{"$f":"LOOKUP(DQ111,'Inputs and Operations'!1:1,'Inputs and Operations'!144:144)","v":0},{"$f":"LOOKUP(DR111,'Inputs and Operations'!1:1,'Inputs and Operations'!144:144)","v":0},{"$f":"LOOKUP(DS111,'Inputs and Operations'!1:1,'Inputs and Operations'!144:144)","v":0},{"$f":"LOOKUP(DT111,'Inputs and Operations'!1:1,'Inputs and Operations'!144:144)","v":0},{"$f":"LOOKUP(DU111,'Inputs and Operations'!1:1,'Inputs and Operations'!144:144)","v":0},{"$f":"LOOKUP(DV111,'Inputs and Operations'!1:1,'Inputs and Operations'!144:144)","v":0},{"$f":"LOOKUP(DW111,'Inputs and Operations'!1:1,'Inputs and Operations'!144:144)","v":0},{"$f":"LOOKUP(DX111,'Inputs and Operations'!1:1,'Inputs and Operations'!144:144)","v":0},{"$f":"LOOKUP(DY111,'Inputs and Operations'!1:1,'Inputs and Operations'!144:144)","v":0},{"$f":"LOOKUP(DZ111,'Inputs and Operations'!1:1,'Inputs and Operations'!144:144)","v":0},{"$f":"LOOKUP(EA111,'Inputs and Operations'!1:1,'Inputs and Operations'!144:144)","v":0},{"$f":"LOOKUP(EB111,'Inputs and Operations'!1:1,'Inputs and Operations'!144:144)","v":0},{"$f":"LOOKUP(EC111,'Inputs and Operations'!1:1,'Inputs and Operations'!144:144)","v":0},{"$f":"LOOKUP(ED111,'Inputs and Operations'!1:1,'Inputs and Operations'!144:144)","v":0},{"$f":"LOOKUP(EE111,'Inputs and Operations'!1:1,'Inputs and Operations'!144:144)","v":0},{"$f":"LOOKUP(EF111,'Inputs and Operations'!1:1,'Inputs and Operations'!144:144)","v":0},{"$f":"LOOKUP(EG111,'Inputs and Operations'!1:1,'Inputs and Operations'!144:144)","v":0},{"$f":"LOOKUP(EH111,'Inputs and Operations'!1:1,'Inputs and Operations'!144:144)","v":0},{"$f":"LOOKUP(EI111,'Inputs and Operations'!1:1,'Inputs and Operations'!144:144)","v":0},{"$f":"LOOKUP(EJ111,'Inputs and Operations'!1:1,'Inputs and Operations'!144:144)","v":0},{"$f":"LOOKUP(EK111,'Inputs and Operations'!1:1,'Inputs and Operations'!144:144)","v":0},{"$f":"LOOKUP(EL111,'Inputs and Operations'!1:1,'Inputs and Operations'!144:144)","v":0},{"$f":"LOOKUP(EM111,'Inputs and Operations'!1:1,'Inputs and Operations'!144:144)","v":0},{"$f":"LOOKUP(EN111,'Inputs and Operations'!1:1,'Inputs and Operations'!144:144)","v":0},{"$f":"LOOKUP(EO111,'Inputs and Operations'!1:1,'Inputs and Operations'!144:144)","v":0},{"$f":"LOOKUP(EP111,'Inputs and Operations'!1:1,'Inputs and Operations'!144:144)","v":0},{"$f":"LOOKUP(EQ111,'Inputs and Operations'!1:1,'Inputs and Operations'!144:144)","v":0},{"$f":"LOOKUP(ER111,'Inputs and Operations'!1:1,'Inputs and Operations'!144:144)","v":0},{"$f":"LOOKUP(ES111,'Inputs and Operations'!1:1,'Inputs and Operations'!144:144)","v":0},{"$f":"LOOKUP(ET111,'Inputs and Operations'!1:1,'Inputs and Operations'!144:144)","v":0},{"$f":"LOOKUP(EU111,'Inputs and Operations'!1:1,'Inputs and Operations'!144:144)","v":0},{"$f":"LOOKUP(EV111,'Inputs and Operations'!1:1,'Inputs and Operations'!144:144)","v":0},{"$f":"LOOKUP(EW111,'Inputs and Operations'!1:1,'Inputs and Operations'!144:144)","v":0},{"$f":"LOOKUP(EX111,'Inputs and Operations'!1:1,'Inputs and Operations'!144:144)","v":0},{"$f":"LOOKUP(EY111,'Inputs and Operations'!1:1,'Inputs and Operations'!144:144)","v":0},{"$f":"LOOKUP(EZ111,'Inputs and Operations'!1:1,'Inputs and Operations'!144:144)","v":0}]
[null,null,"EBITDA - P99",null,null,null,null,null,null,{"$f":"LOOKUP(J111,'Inputs and Operations'!1:1,'Inputs and Operations'!185:185)","v":0},{"$f":"LOOKUP(K111,'Inputs and Operations'!1:1,'Inputs and Operations'!185:185)","v":0},{"$f":"LOOKUP(L111,'Inputs and Operations'!1:1,'Inputs and Operations'!185:185)","v":0},{"$f":"LOOKUP(M111,'Inputs and Operations'!1:1,'Inputs and Operations'!185:185)","v":0},{"$f":"LOOKUP(N111,'Inputs and Operations'!1:1,'Inputs and Operations'!185:185)","v":0},{"$f":"LOOKUP(O111,'Inputs and Operations'!1:1,'Inputs and Operations'!185:185)","v":0},{"$f":"LOOKUP(P111,'Inputs and Operations'!1:1,'Inputs and Operations'!185:185)","v":0},{"$f":"LOOKUP(Q111,'Inputs and Operations'!1:1,'Inputs and Operations'!185:185)","v":0},{"$f":"LOOKUP(R111,'Inputs and Operations'!1:1,'Inputs and Operations'!185:185)","v":0},{"$f":"LOOKUP(S111,'Inputs and Operations'!1:1,'Inputs and Operations'!185:185)","v":0},{"$f":"LOOKUP(T111,'Inputs and Operations'!1:1,'Inputs and Operations'!185:185)","v":0},{"$f":"LOOKUP(U111,'Inputs and Operations'!1:1,'Inputs and Operations'!185:185)","v":0},{"$f":"LOOKUP(V111,'Inputs and Operations'!1:1,'Inputs and Operations'!185:185)","v":0},{"$f":"LOOKUP(W111,'Inputs and Operations'!1:1,'Inputs and Operations'!185:185)","v":0},{"$f":"LOOKUP(X111,'Inputs and Operations'!1:1,'Inputs and Operations'!185:185)","v":0},{"$f":"LOOKUP(Y111,'Inputs and Operations'!1:1,'Inputs and Operations'!185:185)","v":0},{"$f":"LOOKUP(Z111,'Inputs and Operations'!1:1,'Inputs and Operations'!185:185)","v":0},{"$f":"LOOKUP(AA111,'Inputs and Operations'!1:1,'Inputs and Operations'!185:185)","v":0},{"$f":"LOOKUP(AB111,'Inputs and Operations'!1:1,'Inputs and Operations'!185:185)","v":0},{"$f":"LOOKUP(AC111,'Inputs and Operations'!1:1,'Inputs and Operations'!185:185)","v":0},{"$f":"LOOKUP(AD111,'Inputs and Operations'!1:1,'Inputs and Operations'!185:185)","v":0},{"$f":"LOOKUP(AE111,'Inputs and Operations'!1:1,'Inputs and Operations'!185:185)","v":0},{"$f":"LOOKUP(AF111,'Inputs and Operations'!1:1,'Inputs and Operations'!185:185)","v":0},{"$f":"LOOKUP(AG111,'Inputs and Operations'!1:1,'Inputs and Operations'!185:185)","v":0},{"$f":"LOOKUP(AH111,'Inputs and Operations'!1:1,'Inputs and Operations'!185:185)","v":0},{"$f":"LOOKUP(AI111,'Inputs and Operations'!1:1,'Inputs and Operations'!185:185)","v":0},{"$f":"LOOKUP(AJ111,'Inputs and Operations'!1:1,'Inputs and Operations'!185:185)","v":0},{"$f":"LOOKUP(AK111,'Inputs and Operations'!1:1,'Inputs and Operations'!185:185)","v":0},{"$f":"LOOKUP(AL111,'Inputs and Operations'!1:1,'Inputs and Operations'!185:185)","v":0},{"$f":"LOOKUP(AM111,'Inputs and Operations'!1:1,'Inputs and Operations'!185:185)","v":0},{"$f":"LOOKUP(AN111,'Inputs and Operations'!1:1,'Inputs and Operations'!185:185)","v":0},{"$f":"LOOKUP(AO111,'Inputs and Operations'!1:1,'Inputs and Operations'!185:185)","v":0},{"$f":"LOOKUP(AP111,'Inputs and Operations'!1:1,'Inputs and Operations'!185:185)","v":0},{"$f":"LOOKUP(AQ111,'Inputs and Operations'!1:1,'Inputs and Operations'!185:185)","v":0},{"$f":"LOOKUP(AR111,'Inputs and Operations'!1:1,'Inputs and Operations'!185:185)","v":0},{"$f":"LOOKUP(AS111,'Inputs and Operations'!1:1,'Inputs and Operations'!185:185)","v":0},{"$f":"LOOKUP(AT111,'Inputs and Operations'!1:1,'Inputs and Operations'!185:185)","v":0},{"$f":"LOOKUP(AU111,'Inputs and Operations'!1:1,'Inputs and Operations'!185:185)","v":3597.6759228992451},{"$f":"LOOKUP(AV111,'Inputs and Operations'!1:1,'Inputs and Operations'!185:185)","v":3716.7745664299191},{"$f":"LOOKUP(AW111,'Inputs and Operations'!1:1,'Inputs and Operations'!185:185)","v":3669.6294413572296},{"$f":"LOOKUP(AX111,'Inputs and Operations'!1:1,'Inputs and Operations'!185:185)","v":3791.1100577585166},{"$f":"LOOKUP(AY111,'Inputs and Operations'!1:1,'Inputs and Operations'!185:185)","v":3743.0220301843747},{"$f":"LOOKUP(AZ111,'Inputs and Operations'!1:1,'Inputs and Operations'!185:185)","v":3866.9322589136864},{"$f":"LOOKUP(BA111,'Inputs and Operations'!1:1,'Inputs and Operations'!185:185)","v":3847.0583620323887},{"$f":"LOOKUP(BB111,'Inputs and Operations'!1:1,'Inputs and Operations'!185:185)","v":3944.2709040919617},{"$f":"LOOKUP(BC111,'Inputs and Operations'!1:1,'Inputs and Operations'!185:185)","v":3894.2401202038254},{"$f":"LOOKUP(BD111,'Inputs and Operations'!1:1,'Inputs and Operations'!185:185)","v":4023.1563221737993},{"$f":"LOOKUP(BE111,'Inputs and Operations'!1:1,'Inputs and Operations'!185:185)","v":3972.1249226079008},{"$f":"LOOKUP(BF111,'Inputs and Operations'!1:1,'Inputs and Operations'!185:185)","v":4103.6194486172772},{"$f":"LOOKUP(BG111,'Inputs and Operations'!1:1,'Inputs and Operations'!185:185)","v":4051.5674210600596},{"$f":"LOOKUP(BH111,'Inputs and Operations'!1:1,'Inputs and Operations'!185:185)","v":4185.691837589623},{"$f":"LOOKUP(BI111,'Inputs and Operations'!1:1,'Inputs and Operations'!185:185)","v":4164.1796924607825},{"$f":"LOOKUP(BJ111,'Inputs and Operations'!1:1,'Inputs and Operations'!185:185)","v":4269.4056743414158},{"$f":"LOOKUP(BK111,'Inputs and Operations'!1:1,'Inputs and Operations'!185:185)","v":4215.2507448708875},{"$f":"LOOKUP(BL111,'Inputs and Operations'!1:1,'Inputs and Operations'!185:185)","v":4354.7937878282446},{"$f":"LOOKUP(BM111,'Inputs and Operations'!1:1,'Inputs and Operations'!185:185)","v":4299.5557597683037},{"$f":"LOOKUP(BN111,'Inputs and Operations'!1:1,'Inputs and Operations'!185:185)","v":4441.8896635848096},{"$f":"LOOKUP(BO111,'Inputs and Operations'!1:1,'Inputs and Operations'!185:185)","v":4385.5468749636721},{"$f":"LOOKUP(BP111,'Inputs and Operations'!1:1,'Inputs and Operations'!185:185)","v":4530.7274568565063},{"$f":"LOOKUP(BQ111,'Inputs and Operations'!1:1,'Inputs and Operations'!185:185)","v":4507.4420191384625},{"$f":"LOOKUP(BR111,'Inputs and Operations'!1:1,'Inputs and Operations'!185:185)","v":4621.3420059936379},{"$f":"LOOKUP(BS111,'Inputs and Operations'!1:1,'Inputs and Operations'!185:185)","v":4562.7229687122053},{"$f":"LOOKUP(BT111,'Inputs and Operations'!1:1,'Inputs and Operations'!185:185)","v":4713.7688461135112},{"$f":"LOOKUP(BU111,'Inputs and Operations'!1:1,'Inputs and Operations'!185:185)","v":4653.9774280864485},{"$f":"LOOKUP(BV111,'Inputs and Operations'!1:1,'Inputs and Operations'!185:185)","v":4808.0442230357803},{"$f":"LOOKUP(BW111,'Inputs and Operations'!1:1,'Inputs and Operations'!185:185)","v":4747.0569766481794},{"$f":"LOOKUP(BX111,'Inputs and Operations'!1:1,'Inputs and Operations'!185:185)","v":4904.2051074964984},{"$f":"LOOKUP(BY111,'Inputs and Operations'!1:1,'Inputs and Operations'!185:185)","v":4879.0002008508081},{"$f":"LOOKUP(BZ111,'Inputs and Operations'!1:1,'Inputs and Operations'!185:185)","v":5002.2892096464275},{"$f":"LOOKUP(CA111,'Inputs and Operations'!1:1,'Inputs and Operations'!185:185)","v":4938.8380785047675},{"$f":"LOOKUP(CB111,'Inputs and Operations'!1:1,'Inputs and Operations'!185:185)","v":5102.3349938393567},{"$f":"LOOKUP(CC111,'Inputs and Operations'!1:1,'Inputs and Operations'!185:185)","v":5037.6148400748625},{"$f":"LOOKUP(CD111,'Inputs and Operations'!1:1,'Inputs and Operations'!185:185)","v":5204.3816937161446},{"$f":"LOOKUP(CE111,'Inputs and Operations'!1:1,'Inputs and Operations'!185:185)","v":5138.3671368763607},{"$f":"LOOKUP(CF111,'Inputs and Operations'!1:1,'Inputs and Operations'!185:185)","v":5308.4693275904683},{"$f":"LOOKUP(CG111,'Inputs and Operations'!1:1,'Inputs and Operations'!185:185)","v":5281.1867260473773},{"$f":"LOOKUP(CH111,'Inputs and Operations'!1:1,'Inputs and Operations'!185:185)","v":5414.6387141422783},{"$f":"LOOKUP(CI111,'Inputs and Operations'!1:1,'Inputs and Operations'!185:185)","v":5345.9571692061672},{"$f":"LOOKUP(CJ111,'Inputs and Operations'!1:1,'Inputs and Operations'!185:185)","v":5522.9314884251235},{"$f":"LOOKUP(CK111,'Inputs and Operations'!1:1,'Inputs and Operations'!185:185)","v":5452.8763125902897},{"$f":"LOOKUP(CL111,'Inputs and Operations'!1:1,'Inputs and Operations'!185:185)","v":5633.3901181936271},{"$f":"LOOKUP(CM111,'Inputs and Operations'!1:1,'Inputs and Operations'!185:185)","v":5561.9338388420974},{"$f":"LOOKUP(CN111,'Inputs and Operations'!1:1,'Inputs and Operations'!185:185)","v":5746.0579205574995},{"$f":"LOOKUP(CO111,'Inputs and Operations'!1:1,'Inputs and Operations'!185:185)","v":5716.5263552387933},{"$f":"LOOKUP(CP111,'Inputs and Operations'!1:1,'Inputs and Operations'!185:185)","v":5860.9790789686504},{"$f":"LOOKUP(CQ111,'Inputs and Operations'!1:1,'Inputs and Operations'!185:185)","v":5786.6359659313166},{"$f":"LOOKUP(CR111,'Inputs and Operations'!1:1,'Inputs and Operations'!185:185)","v":5978.1986605480233},{"$f":"LOOKUP(CS111,'Inputs and Operations'!1:1,'Inputs and Operations'!185:185)","v":5902.368685249945},{"$f":"LOOKUP(CT111,'Inputs and Operations'!1:1,'Inputs and Operations'!185:185)","v":6097.7626337589845},{"$f":"LOOKUP(CU111,'Inputs and Operations'!1:1,'Inputs and Operations'!185:185)","v":6020.4160589549447},{"$f":"LOOKUP(CV111,'Inputs and Operations'!1:1,'Inputs and Operations'!185:185)","v":6219.7178864341658},{"$f":"LOOKUP(CW111,'Inputs and Operations'!1:1,'Inputs and Operations'!185:185)","v":6187.7519703980561},{"$f":"LOOKUP(CX111,'Inputs and Operations'!1:1,'Inputs and Operations'!185:185)","v":6344.1122441628486},{"$f":"LOOKUP(CY111,'Inputs and Operations'!1:1,'Inputs and Operations'!185:185)","v":6263.6408677367253},{"$f":"LOOKUP(CZ111,'Inputs and Operations'!1:1,'Inputs and Operations'!185:185)","v":6470.9944890461038},{"$f":"LOOKUP(DA111,'Inputs and Operations'!1:1,'Inputs and Operations'!185:185)","v":6388.9136850914583},{"$f":"LOOKUP(DB111,'Inputs and Operations'!1:1,'Inputs and Operations'!185:185)","v":6600.4143788270285},{"$f":"LOOKUP(DC111,'Inputs and Operations'!1:1,'Inputs and Operations'!185:185)","v":0},{"$f":"LOOKUP(DD111,'Inputs and Operations'!1:1,'Inputs and Operations'!185:185)","v":0},{"$f":"LOOKUP(DE111,'Inputs and Operations'!1:1,'Inputs and Operations'!185:185)","v":0},{"$f":"LOOKUP(DF111,'Inputs and Operations'!1:1,'Inputs and Operations'!185:185)","v":0},{"$f":"LOOKUP(DG111,'Inputs and Operations'!1:1,'Inputs and Operations'!185:185)","v":0},{"$f":"LOOKUP(DH111,'Inputs and Operations'!1:1,'Inputs and Operations'!185:185)","v":0},{"$f":"LOOKUP(DI111,'Inputs and Operations'!1:1,'Inputs and Operations'!185:185)","v":0},{"$f":"LOOKUP(DJ111,'Inputs and Operations'!1:1,'Inputs and Operations'!185:185)","v":0},{"$f":"LOOKUP(DK111,'Inputs and Operations'!1:1,'Inputs and Operations'!185:185)","v":0},{"$f":"LOOKUP(DL111,'Inputs and Operations'!1:1,'Inputs and Operations'!185:185)","v":0},{"$f":"LOOKUP(DM111,'Inputs and Operations'!1:1,'Inputs and Operations'!185:185)","v":0},{"$f":"LOOKUP(DN111,'Inputs and Operations'!1:1,'Inputs and Operations'!185:185)","v":0},{"$f":"LOOKUP(DO111,'Inputs and Operations'!1:1,'Inputs and Operations'!185:185)","v":0},{"$f":"LOOKUP(DP111,'Inputs and Operations'!1:1,'Inputs and Operations'!185:185)","v":0},{"$f":"LOOKUP(DQ111,'Inputs and Operations'!1:1,'Inputs and Operations'!185:185)","v":0},{"$f":"LOOKUP(DR111,'Inputs and Operations'!1:1,'Inputs and Operations'!185:185)","v":0},{"$f":"LOOKUP(DS111,'Inputs and Operations'!1:1,'Inputs and Operations'!185:185)","v":0},{"$f":"LOOKUP(DT111,'Inputs and Operations'!1:1,'Inputs and Operations'!185:185)","v":0},{"$f":"LOOKUP(DU111,'Inputs and Operations'!1:1,'Inputs and Operations'!185:185)","v":0},{"$f":"LOOKUP(DV111,'Inputs and Operations'!1:1,'Inputs and Operations'!185:185)","v":0},{"$f":"LOOKUP(DW111,'Inputs and Operations'!1:1,'Inputs and Operations'!185:185)","v":0},{"$f":"LOOKUP(DX111,'Inputs and Operations'!1:1,'Inputs and Operations'!185:185)","v":0},{"$f":"LOOKUP(DY111,'Inputs and Operations'!1:1,'Inputs and Operations'!185:185)","v":0},{"$f":"LOOKUP(DZ111,'Inputs and Operations'!1:1,'Inputs and Operations'!185:185)","v":0},{"$f":"LOOKUP(EA111,'Inputs and Operations'!1:1,'Inputs and Operations'!185:185)","v":0},{"$f":"LOOKUP(EB111,'Inputs and Operations'!1:1,'Inputs and Operations'!185:185)","v":0},{"$f":"LOOKUP(EC111,'Inputs and Operations'!1:1,'Inputs and Operations'!185:185)","v":0},{"$f":"LOOKUP(ED111,'Inputs and Operations'!1:1,'Inputs and Operations'!185:185)","v":0},{"$f":"LOOKUP(EE111,'Inputs and Operations'!1:1,'Inputs and Operations'!185:185)","v":0},{"$f":"LOOKUP(EF111,'Inputs and Operations'!1:1,'Inputs and Operations'!185:185)","v":0},{"$f":"LOOKUP(EG111,'Inputs and Operations'!1:1,'Inputs and Operations'!185:185)","v":0},{"$f":"LOOKUP(EH111,'Inputs and Operations'!1:1,'Inputs and Operations'!185:185)","v":0},{"$f":"LOOKUP(EI111,'Inputs and Operations'!1:1,'Inputs and Operations'!185:185)","v":0},{"$f":"LOOKUP(EJ111,'Inputs and Operations'!1:1,'Inputs and Operations'!185:185)","v":0},{"$f":"LOOKUP(EK111,'Inputs and Operations'!1:1,'Inputs and Operations'!185:185)","v":0},{"$f":"LOOKUP(EL111,'Inputs and Operations'!1:1,'Inputs and Operations'!185:185)","v":0},{"$f":"LOOKUP(EM111,'Inputs and Operations'!1:1,'Inputs and Operations'!185:185)","v":0},{"$f":"LOOKUP(EN111,'Inputs and Operations'!1:1,'Inputs and Operations'!185:185)","v":0},{"$f":"LOOKUP(EO111,'Inputs and Operations'!1:1,'Inputs and Operations'!185:185)","v":0},{"$f":"LOOKUP(EP111,'Inputs and Operations'!1:1,'Inputs and Operations'!185:185)","v":0},{"$f":"LOOKUP(EQ111,'Inputs and Operations'!1:1,'Inputs and Operations'!185:185)","v":0},{"$f":"LOOKUP(ER111,'Inputs and Operations'!1:1,'Inputs and Operations'!185:185)","v":0},{"$f":"LOOKUP(ES111,'Inputs and Operations'!1:1,'Inputs and Operations'!185:185)","v":0},{"$f":"LOOKUP(ET111,'Inputs and Operations'!1:1,'Inputs and Operations'!185:185)","v":0},{"$f":"LOOKUP(EU111,'Inputs and Operations'!1:1,'Inputs and Operations'!185:185)","v":0},{"$f":"LOOKUP(EV111,'Inputs and Operations'!1:1,'Inputs and Operations'!185:185)","v":0},{"$f":"LOOKUP(EW111,'Inputs and Operations'!1:1,'Inputs and Operations'!185:185)","v":0},{"$f":"LOOKUP(EX111,'Inputs and Operations'!1:1,'Inputs and Operations'!185:185)","v":0},{"$f":"LOOKUP(EY111,'Inputs and Operations'!1:1,'Inputs and Operations'!185:185)","v":0},{"$f":"LOOKUP(EZ111,'Inputs and Operations'!1:1,'Inputs and Operations'!185:185)","v":0}]
[null,null,"EBITDA Applied (P50 is TRUE)",null,null,{"$f":"F19","v":true},null,null,null,{"$f":"IF($F$114,J112,J113)","v":0},0,0,0,0,0,0,0,0,0,0,0,0,0,0,0,0,0,0,0,0,0,0,0,0,0,0,0,0,0,0,0,{"$f":"IF($F$114,AP112,AP113)","v":0},0,0,0,0,5565.1840271663941,5736.7954714120624,5676.4877077097226,5851.5313808403025,5790.0174618639167,5968.5620084571083,5946.5292567118922,6087.933248626252,6023.9341673232211,6209.6919135987755,6144.4128506696843,6333.8857518707518,6267.3011076830808,6460.5634669081692,6436.7145078458507,6589.7747362463333,6520.5000724334768,6721.5702309712624,6650.9100738821444,6856.0016355906855,6783.9282753597909,6993.1216683025004,6967.3067880309245,7132.9841016685514,7057.9989776843286,7275.6437837019257,7199.1589572380144,{"$f":"IF($F$114,BV112,BV113)","v":7421.1566593759617},7343.1421363827767,7569.5797925634834,7541.6369359509763,7720.9713884147532,7639.8050786926424,7875.3908161830495,7792.6011802664971,8032.8986325067126,7948.4532038718262,8193.5566051568476,8163.3103585172039,8357.4277372599863,8269.5707133082524,8524.576292005182,8434.9621275744157,8695.0678178452908,8603.6613701259066,8868.9691742021932,8836.2296641201538,9046.3485576862404,8951.2492894789902,9227.275528839964,9130.2742752685735,9411.8210394167654,9312.8797607739452,9600.057460205102,9564.6191615896569,9792.058609409205,9689.1201031092151,9987.8997815973889,9882.9025051713998,{"$f":"IF($F$114,DB112,DB113)","v":10187.657777229335},0,0,0,0,0,0,0,0,0,0,0,0,0,0,0,0,0,0,0,0,0,0,0,0,0,0,0,0,0,0,0,{"$f":"IF($F$114,EH112,EH113)","v":0},0,0,0,0,0,0,0,0,0,0,0,0,0,0,0,0,0,0]
[]
[null,null,"Construction Period",null,null,null,null,null,null,{"$f":"I116+J7","v":1},2,3,4,5,6,7,8,9,10,11,12,13,14,15,16,17,18,19,20,21,22,23,24,25,26,27,28,29,30,31,32,{"$f":"AO116+AP7","v":33},34,35,36,36,36,36,36,36,36,36,36,36,36,36,36,36,36,36,36,36,36,36,36,36,36,36,36,36,36,36,36,{"$f":"BU116+BV7","v":36},36,36,36,36,36,36,36,36,36,36,36,36,36,36,36,36,36,36,36,36,36,36,36,36,36,36,36,36,36,36,36,{"$f":"DA116+DB7","v":36},36,36,36,36,36,36,36,36,36,36,36,36,36,36,36,36,36,36,36,36,36,36,36,36,36,36,36,36,36,36,36,{"$f":"EG116+EH7","v":36},36,36,36,36,36,36,36,36,36,36,36,36,36,36,36,36,36,36]
[null,null,"Unadjusted Normal",null,null,null,{"$f":"F24","v":14.4},{"$f":"F25","v":9},null,{"$f":"_xlfn.NORM.DIST(J116,$G$117,$H$117,0)*J7","v":1.4631798015768678E-2},1.7157859799489281E-2,1.9873157388282284E-2,2.2735733446945884E-2,2.5691496705850327E-2,2.8675313989248628E-2,3.1612969926059845E-2,3.442395410361665E-2,3.7024955876866626E-2,3.933387062263418E-2,4.1274057039797522E-2,4.2778541621779326E-2,4.3793850282215954E-2,4.4283161982961859E-2,4.4228525145994686E-2,4.3631950835586519E-2,4.2515289891291275E-2,4.0918904478147035E-2,3.8899246664690856E-2,3.6525546560204507E-2,3.38758807733908E-2,3.1032931856138792E-2,2.8079757934794506E-2,2.5095869718569384E-2,2.2153863851525346E-2,1.9316794222242483E-2,1.6636385070638318E-2,1.4152110619852136E-2,1.1891093794794277E-2,9.8687178989546494E-3,8.0898040872455553E-3,6.550185717153845E-3,{"$f":"_xlfn.NORM.DIST(AP116,$G$117,$H$117,0)*AP7","v":5.2385074128746189E-3},4.1380892345591449E-3,3.2287207159315372E-3,2.4882811438714314E-3,0,0,0,0,0,0,0,0,0,0,0,0,0,0,0,0,0,0,0,0,0,0,0,0,0,0,0,0,{"$f":"_xlfn.NORM.DIST(BV116,$G$117,$H$117,0)*BV7","v":0},0,0,0,0,0,0,0,0,0,0,0,0,0,0,0,0,0,0,0,0,0,0,0,0,0,0,0,0,0,0,0,{"$f":"_xlfn.NORM.DIST(DB116,$G$117,$H$117,0)*DB7","v":0},0,0,0,0,0,0,0,0,0,0,0,0,0,0,0,0,0,0,0,0,0,0,0,0,0,0,0,0,0,0,0,{"$f":"_xlfn.NORM.DIST(EH116,$G$117,$H$117,0)*EH7","v":0},0,0,0,0,0,0,0,0,0,0,0,0,0,0,0,0,0,0]
[null,null,"S-Curve (Adjusted Normal)",null,null,null,null,{"$f":"SUM(J117:EZ117)","v":0.93184717842996856},null,{"$f":"J117/$H$118*J7","v":1.5701928765209334E-2},1.8412739982105072E-2,2.1326627207012377E-2,2.4398564456944966E-2,2.7570504370831368E-2,3.0772550105868754E-2,3.392505837633511E-2,3.6941630452341091E-2,3.9732862570071276E-2,4.2210645192816081E-2,4.4292731678748552E-2,4.5907250257338494E-2,4.6996815889921384E-2,4.7521914545658399E-2,4.7463281715907031E-2,4.6823075548825741E-2,4.5624744996195149E-2,4.3911604204339205E-2,4.17442339957831E-2,3.9196927785675025E-2,3.6353472497997898E-2,3.3302597866342112E-2,3.013343666727086E-2,2.693131481156856E-2,2.3774138468553922E-2,2.0729573120335638E-2,1.7853125980022054E-2,1.5187158310332013E-2,1.2760776734688513E-2,1.0590489650440377E-2,8.6814708189337838E-3,7.0292488605159346E-3,{"$f":"AP117/$H$118*AP7","v":5.621637897429455E-3},4.4407380634357268E-3,3.4648607525661853E-3,2.67026740163965E-3,0,0,0,0,0,0,0,0,0,0,0,0,0,0,0,0,0,0,0,0,0,0,0,0,0,0,0,0,{"$f":"BV117/$H$118*BV7","v":0},0,0,0,0,0,0,0,0,0,0,0,0,0,0,0,0,0,0,0,0,0,0,0,0,0,0,0,0,0,0,0,{"$f":"DB117/$H$118*DB7","v":0},0,0,0,0,0,0,0,0,0,0,0,0,0,0,0,0,0,0,0,0,0,0,0,0,0,0,0,0,0,0,0,{"$f":"EH117/$H$118*EH7","v":0},0,0,0,0,0,0,0,0,0,0,0,0,0,0,0,0,0,0]
[null,null,null,"Capital Expenditures",null,null,{"$f":"F13","v":36},{"$f":"F23","v":168000},null,{"$f":"J118*$H$119","v":2637.9240325551682},3093.3403169936519,3582.8733707780793,4098.9588287667539,4631.8447342996697,5169.7884177859505,5699.4098072242987,6206.1939159933036,6675.1209117719745,7091.3883923931016,7441.1789220297569,7712.4180432328667,7895.4650695067921,7983.6816436706113,7973.8313282723811,7866.276692202724,7664.9571593607852,7377.1495063289867,7013.031311291561,6585.0838679934041,6107.3833796636472,5594.8364415454753,5062.4173601015045,4524.4608883435185,3994.0552627170587,3482.5682842163874,2999.3251646437052,2551.4425961357783,2143.8104914276701,1779.2022612739834,1458.4870975808756,1180.9138085666771,{"$f":"AP118*$H$119","v":944.43516676814841},746.04399465720212,582.09660643111908,448.60492347546119,0,0,0,0,0,0,0,0,0,0,0,0,0,0,0,0,0,0,0,0,0,0,0,0,0,0,0,0,{"$f":"BV118*$H$119","v":0},0,0,0,0,0,0,0,0,0,0,0,0,0,0,0,0,0,0,0,0,0,0,0,0,0,0,0,0,0,0,0,{"$f":"DB118*$H$119","v":0},0,0,0,0,0,0,0,0,0,0,0,0,0,0,0,0,0,0,0,0,0,0,0,0,0,0,0,0,0,0,0,{"$f":"EH118*$H$119","v":0},0,0,0,0,0,0,0,0,0,0,0,0,0,0,0,0,0,0]
[]
[null,null,"Pre-tax Project IRR",null,null,{"$f":"XIRR(J121:EZ121,J4:EZ4)","v":6.3753578066825842E-2},null,{"$f":"SUM(J121:EZ121)","v":290865.57516389695},null,{"$f":"J114-J119","v":-2637.9240325551682},{"$f":"K114-K119","v":-3093.3403169936519},-3582.8733707780793,-4098.9588287667539,-4631.8447342996697,-5169.7884177859505,-5699.4098072242987,-6206.1939159933036,-6675.1209117719745,-7091.3883923931016,-7441.1789220297569,-7712.4180432328667,-7895.4650695067921,-7983.6816436706113,-7973.8313282723811,-7866.276692202724,-7664.9571593607852,-7377.1495063289867,-7013.031311291561,-6585.0838679934041,-6107.3833796636472,-5594.8364415454753,-5062.4173601015045,-4524.4608883435185,-3994.0552627170587,-3482.5682842163874,-2999.3251646437052,-2551.4425961357783,-2143.8104914276701,-1779.2022612739834,-1458.4870975808756,-1180.9138085666771,-944.43516676814841,-746.04399465720212,-582.09660643111908,-448.60492347546119,0,5565.1840271663941,5736.7954714120624,5676.4877077097226,5851.5313808403025,5790.0174618639167,5968.5620084571083,5946.5292567118922,6087.933248626252,6023.9341673232211,6209.6919135987755,6144.4128506696843,6333.8857518707518,6267.3011076830808,6460.5634669081692,6436.7145078458507,6589.7747362463333,6520.5000724334768,6721.5702309712624,6650.9100738821444,6856.0016355906855,6783.9282753597909,6993.1216683025004,6967.3067880309245,7132.9841016685514,7057.9989776843286,7275.6437837019257,7199.1589572380144,7421.1566593759617,{"$f":"BW114-BW119","v":7343.1421363827767},7569.5797925634834,7541.6369359509763,7720.9713884147532,7639.8050786926424,7875.3908161830495,7792.6011802664971,8032.8986325067126,7948.4532038718262,8193.5566051568476,8163.3103585172039,8357.4277372599863,8269.5707133082524,8524.576292005182,8434.9621275744157,8695.0678178452908,8603.6613701259066,8868.9691742021932,8836.2296641201538,9046.3485576862404,8951.2492894789902,9227.275528839964,9130.2742752685735,9411.8210394167654,9312.8797607739452,9600.057460205102,9564.6191615896569,9792.058609409205,9689.1201031092151,9987.8997815973889,9882.9025051713998,10187.657777229335,0,0,0,0,0,0,0,0,0,0,0,0,0,0,0,0,0,0,0,0,0,0,0,0,0,0,0,0,0,0,0,0,{"$f":"EI114-EI119","v":0},0,0,0,0,0,0,0,0,0,0,0,0,0,0,0,0,0]
[]
[null,null,"Accumulated Plant",null,null,null,null,null,null,{"$f":"I123+J119","v":2637.9240325551682},5731.2643495488201,9314.1377203269003,13413.096549093654,18044.941283393324,23214.729701179276,28914.139508403576,35120.333424396878,41795.454336168856,48886.842728561955,56328.021650591712,64040.439693824577,71935.904763331375,79919.586407001989,87893.417735274372,95759.694427477094,103424.65158683788,110801.80109316687,117814.83240445843,124399.91627245184,130507.29965211549,136102.13609366096,141164.55345376246,145689.01434210598,149683.06960482305,153165.63788903944,156164.96305368314,158716.40564981892,160860.21614124658,162639.41840252056,164097.90550010145,165278.81930866811,{"$f":"AO123+AP119","v":166223.25447543626},166969.29847009346,167551.39507652458,168000.00000000006,168000.00000000006,168000.00000000006,168000.00000000006,168000.00000000006,168000.00000000006,168000.00000000006,168000.00000000006,168000.00000000006,168000.00000000006,168000.00000000006,168000.00000000006,168000.00000000006,168000.00000000006,168000.00000000006,168000.00000000006,168000.00000000006,168000.00000000006,168000.00000000006,168000.00000000006,168000.00000000006,168000.00000000006,168000.00000000006,168000.00000000006,168000.00000000006,168000.00000000006,168000.00000000006,168000.00000000006,168000.00000000006,{"$f":"BU123+BV119","v":168000.00000000006},168000.00000000006,168000.00000000006,168000.00000000006,168000.00000000006,168000.00000000006,168000.00000000006,168000.00000000006,168000.00000000006,168000.00000000006,168000.00000000006,168000.00000000006,168000.00000000006,168000.00000000006,168000.00000000006,168000.00000000006,168000.00000000006,168000.00000000006,168000.00000000006,168000.00000000006,168000.00000000006,168000.00000000006,168000.00000000006,168000.00000000006,168000.00000000006,168000.00000000006,168000.00000000006,168000.00000000006,168000.00000000006,168000.00000000006,168000.00000000006,168000.00000000006,{"$f":"DA123+DB119","v":168000.00000000006},168000.00000000006,168000.00000000006,168000.00000000006,168000.00000000006,168000.00000000006,168000.00000000006,168000.00000000006,168000.00000000006,168000.00000000006,168000.00000000006,168000.00000000006,168000.00000000006,168000.00000000006,168000.00000000006,168000.00000000006,168000.00000000006,168000.00000000006,168000.00000000006,168000.00000000006,168000.00000000006,168000.00000000006,168000.00000000006,168000.00000000006,168000.00000000006,168000.00000000006,168000.00000000006,168000.00000000006,168000.00000000006,168000.00000000006,168000.00000000006,168000.00000000006,{"$f":"EG123+EH119","v":168000.00000000006},168000.00000000006,168000.00000000006,168000.00000000006,168000.00000000006,168000.00000000006,168000.00000000006,168000.00000000006,168000.00000000006,168000.00000000006,168000.00000000006,168000.00000000006,168000.00000000006,168000.00000000006,168000.00000000006,168000.00000000006,168000.00000000006,168000.00000000006,168000.00000000006]
[null,null,"Accumulated Depreciation",null,null,null,null,null,null,{"$f":"I124+J126","v":0},{"$f":"J124+K126","v":0},0,0,0,0,0,0,0,0,0,0,0,0,0,0,0,0,0,0,0,0,0,0,0,{"$f":"AH124+AI126","v":0},{"$f":"AI124+AJ126","v":0},{"$f":"AJ124+AK126","v":0},{"$f":"AK124+AL126","v":0},{"$f":"AL124+AM126","v":0},{"$f":"AM124+AN126","v":0},{"$f":"AN124+AO126","v":0},{"$f":"AO124+AP126","v":0},{"$f":"AP124+AQ126","v":0},{"$f":"AQ124+AR126","v":0},{"$f":"AR124+AS126","v":0},{"$f":"AS124+AT126","v":2400.0000000000009},{"$f":"AT124+AU126","v":4800.0000000000018},{"$f":"AU124+AV126","v":7200.0000000000027},{"$f":"AV124+AW126","v":9600.0000000000036},{"$f":"AW124+AX126","v":12000.000000000004},{"$f":"AX124+AY126","v":14400.000000000004},{"$f":"AY124+AZ126","v":16800.000000000004},{"$f":"AZ124+BA126","v":19200.000000000004},{"$f":"BA124+BB126","v":21600.000000000004},{"$f":"BB124+BC126","v":24000.000000000004},{"$f":"BC124+BD126","v":26400.000000000004},{"$f":"BD124+BE126","v":28800.000000000004},{"$f":"BE124+BF126","v":31200.000000000004},{"$f":"BF124+BG126","v":33600.000000000007},{"$f":"BG124+BH126","v":36000.000000000007},{"$f":"BH124+BI126","v":38400.000000000007},{"$f":"BI124+BJ126","v":40800.000000000007},{"$f":"BJ124+BK126","v":43200.000000000007},{"$f":"BK124+BL126","v":45600.000000000007},{"$f":"BL124+BM126","v":48000.000000000007},{"$f":"BM124+BN126","v":50400.000000000007},{"$f":"BN124+BO126","v":52800.000000000007},{"$f":"BO124+BP126","v":55200.000000000007},{"$f":"BP124+BQ126","v":57600.000000000007},{"$f":"BQ124+BR126","v":60000.000000000007},{"$f":"BR124+BS126","v":62400.000000000007},{"$f":"BS124+BT126","v":64800.000000000007},{"$f":"BT124+BU126","v":67200.000000000015},{"$f":"BU124+BV126","v":69600.000000000015},{"$f":"BV124+BW126","v":72000.000000000015},{"$f":"BW124+BX126","v":74400.000000000015},{"$f":"BX124+BY126","v":76800.000000000015},{"$f":"BY124+BZ126","v":79200.000000000015},{"$f":"BZ124+CA126","v":81600.000000000015},{"$f":"CA124+CB126","v":84000.000000000015},{"$f":"CB124+CC126","v":86400.000000000015},{"$f":"CC124+CD126","v":88800.000000000015},{"$f":"CD124+CE126","v":91200.000000000015},{"$f":"CE124+CF126","v":93600.000000000015},{"$f":"CF124+CG126","v":96000.000000000015},{"$f":"CG124+CH126","v":98400.000000000015},{"$f":"CH124+CI126","v":100800.00000000001},{"$f":"CI124+CJ126","v":103200.00000000001},{"$f":"CJ124+CK126","v":105600.00000000001},{"$f":"CK124+CL126","v":108000.00000000001},{"$f":"CL124+CM126","v":110400.00000000001},{"$f":"CM124+CN126","v":112800.00000000001},{"$f":"CN124+CO126","v":115200.00000000001},{"$f":"CO124+CP126","v":117600.00000000001},{"$f":"CP124+CQ126","v":120000.00000000001},{"$f":"CQ124+CR126","v":122400.00000000001},{"$f":"CR124+CS126","v":124800.00000000001},{"$f":"CS124+CT126","v":127200.00000000001},{"$f":"CT124+CU126","v":129600.00000000001},{"$f":"CU124+CV126","v":132000.00000000003},{"$f":"CV124+CW126","v":134400.00000000003},{"$f":"CW124+CX126","v":136800.00000000003},{"$f":"CX124+CY126","v":139200.00000000003},{"$f":"CY124+CZ126","v":141600.00000000003},{"$f":"CZ124+DA126","v":144000.00000000003},{"$f":"DA124+DB126","v":146400.00000000003},{"$f":"DB124+DC126","v":148800.00000000003},{"$f":"DC124+DD126","v":151200.00000000003},{"$f":"DD124+DE126","v":153600.00000000003},{"$f":"DE124+DF126","v":156000.00000000003},{"$f":"DF124+DG126","v":158400.00000000003},{"$f":"DG124+DH126","v":160800.00000000003},{"$f":"DH124+DI126","v":163200.00000000003},{"$f":"DI124+DJ126","v":165600.00000000003},{"$f":"DJ124+DK126","v":168000.00000000003},{"$f":"DK124+DL126","v":168000.00000000003},{"$f":"DL124+DM126","v":168000.00000000003},{"$f":"DM124+DN126","v":168000.00000000003},{"$f":"DN124+DO126","v":168000.00000000003},{"$f":"DO124+DP126","v":168000.00000000003},{"$f":"DP124+DQ126","v":168000.00000000003},{"$f":"DQ124+DR126","v":168000.00000000003},{"$f":"DR124+DS126","v":168000.00000000003},{"$f":"DS124+DT126","v":168000.00000000003},{"$f":"DT124+DU126","v":168000.00000000003},{"$f":"DU124+DV126","v":168000.00000000003},{"$f":"DV124+DW126","v":168000.00000000003},{"$f":"DW124+DX126","v":168000.00000000003},{"$f":"DX124+DY126","v":168000.00000000003},{"$f":"DY124+DZ126","v":168000.00000000003},{"$f":"DZ124+EA126","v":168000.00000000003},{"$f":"EA124+EB126","v":168000.00000000003},{"$f":"EB124+EC126","v":168000.00000000003},{"$f":"EC124+ED126","v":168000.00000000003},{"$f":"ED124+EE126","v":168000.00000000003},{"$f":"EE124+EF126","v":168000.00000000003},{"$f":"EF124+EG126","v":168000.00000000003},{"$f":"EG124+EH126","v":168000.00000000003},{"$f":"EH124+EI126","v":168000.00000000003},{"$f":"EI124+EJ126","v":168000.00000000003},{"$f":"EJ124+EK126","v":168000.00000000003},{"$f":"EK124+EL126","v":168000.00000000003},{"$f":"EL124+EM126","v":168000.00000000003},{"$f":"EM124+EN126","v":168000.00000000003},{"$f":"EN124+EO126","v":168000.00000000003},{"$f":"EO124+EP126","v":168000.00000000003},{"$f":"EP124+EQ126","v":168000.00000000003},{"$f":"EQ124+ER126","v":168000.00000000003},{"$f":"ER124+ES126","v":168000.00000000003},{"$f":"ES124+ET126","v":168000.00000000003},{"$f":"ET124+EU126","v":168000.00000000003},{"$f":"EU124+EV126","v":168000.00000000003},{"$f":"EV124+EW126","v":168000.00000000003},{"$f":"EW124+EX126","v":168000.00000000003},{"$f":"EX124+EY126","v":168000.00000000003},{"$f":"EY124+EZ126","v":168000.00000000003}]
[null,null,"Net Plant",null,null,null,null,null,null,{"$f":"J123-J124","v":2637.9240325551682},{"$f":"K123-K124","v":5731.2643495488201},9314.1377203269003,13413.096549093654,18044.941283393324,23214.729701179276,28914.139508403576,35120.333424396878,41795.454336168856,48886.842728561955,56328.021650591712,64040.439693824577,71935.904763331375,79919.586407001989,87893.417735274372,95759.694427477094,103424.65158683788,110801.80109316687,117814.83240445843,124399.91627245184,130507.29965211549,136102.13609366096,141164.55345376246,145689.01434210598,149683.06960482305,{"$f":"AI123-AI124","v":153165.63788903944},156164.96305368314,158716.40564981892,160860.21614124658,162639.41840252056,164097.90550010145,165278.81930866811,166223.25447543626,166969.29847009346,167551.39507652458,168000.00000000006,165600.00000000006,163200.00000000006,160800.00000000006,158400.00000000006,156000.00000000006,153600.00000000006,151200.00000000006,148800.00000000006,146400.00000000006,144000.00000000006,141600.00000000006,139200.00000000006,136800.00000000006,134400.00000000006,132000.00000000006,129600.00000000006,127200.00000000006,124800.00000000006,122400.00000000006,120000.00000000006,117600.00000000006,115200.00000000006,112800.00000000006,110400.00000000006,108000.00000000006,105600.00000000006,103200.00000000006,100800.00000000004,98400.000000000044,96000.000000000044,93600.000000000044,91200.000000000044,88800.000000000044,86400.000000000044,84000.000000000044,81600.000000000044,79200.000000000044,76800.000000000044,74400.000000000044,72000.000000000044,69600.000000000044,67200.000000000044,64800.000000000044,62400.000000000044,60000.000000000044,57600.000000000044,55200.000000000044,52800.000000000044,50400.000000000044,48000.000000000044,45600.000000000044,43200.000000000044,40800.000000000044,{"$f":"CU123-CU124","v":38400.000000000044},36000.000000000029,33600.000000000029,31200.000000000029,28800.000000000029,26400.000000000029,24000.000000000029,21600.000000000029,19200.000000000029,16800.000000000029,14400.000000000029,12000.000000000029,9600.0000000000291,7200.0000000000291,4800.0000000000291,2400.0000000000291,0,0,0,0,0,0,0,0,0,0,0,0,0,0,0,0,0,0,0,0,0,0,0,0,0,0,0,0,0,0,0,0,0,0,0,0,0,0,0,0,0,0]
[null,null,"Depreciation",null,null,null,{"$f":"F15*12/H3","v":70},null,null,{"$f":"J123/$G$126*J8","v":0},0,0,0,0,0,0,0,0,0,0,0,0,0,0,0,0,0,0,0,0,0,0,0,0,0,0,0,0,0,0,0,{"$f":"AP123/$G$126*AP8","v":0},0,0,0,2400.0000000000009,2400.0000000000009,2400.0000000000009,2400.0000000000009,2400.0000000000009,2400.0000000000009,2400.0000000000009,2400.0000000000009,2400.0000000000009,2400.0000000000009,2400.0000000000009,2400.0000000000009,2400.0000000000009,2400.0000000000009,2400.0000000000009,2400.0000000000009,2400.0000000000009,2400.0000000000009,2400.0000000000009,2400.0000000000009,2400.0000000000009,2400.0000000000009,2400.0000000000009,2400.0000000000009,2400.0000000000009,2400.0000000000009,2400.0000000000009,2400.0000000000009,{"$f":"BV123/$G$126*BV8","v":2400.0000000000009},2400.0000000000009,2400.0000000000009,2400.0000000000009,2400.0000000000009,2400.0000000000009,2400.0000000000009,2400.0000000000009,2400.0000000000009,2400.0000000000009,2400.0000000000009,2400.0000000000009,2400.0000000000009,2400.0000000000009,2400.0000000000009,2400.0000000000009,2400.0000000000009,2400.0000000000009,2400.0000000000009,2400.0000000000009,2400.0000000000009,2400.0000000000009,2400.0000000000009,2400.0000000000009,2400.0000000000009,2400.0000000000009,2400.0000000000009,2400.0000000000009,2400.0000000000009,2400.0000000000009,2400.0000000000009,2400.0000000000009,{"$f":"DB123/$G$126*DB8","v":2400.0000000000009},2400.0000000000009,2400.0000000000009,2400.0000000000009,2400.0000000000009,2400.0000000000009,2400.0000000000009,2400.0000000000009,2400.0000000000009,2400.0000000000009,0,0,0,0,0,0,0,0,0,0,0,0,0,0,0,0,0,0,0,0,0,0,{"$f":"EH123/$G$126*EH8","v":0},0,0,0,0,0,0,0,0,0,0,0,0,0,0,0,0,0,0]
[]
[null,null,"EBIT",null,null,null,null,null,null,{"$f":"J114-J126","v":0},0,0,0,0,0,0,0,0,0,0,0,0,0,0,0,0,0,0,0,0,0,0,0,0,0,0,0,0,0,0,0,{"$f":"AP114-AP126","v":0},0,0,0,-2400.0000000000009,3165.1840271663932,3336.7954714120615,3276.4877077097217,3451.5313808403016,3390.0174618639157,3568.5620084571074,3546.5292567118913,3687.933248626251,3623.9341673232202,3809.6919135987746,3744.4128506696834,3933.8857518707509,3867.3011076830799,4060.5634669081683,4036.7145078458498,4189.7747362463324,4120.5000724334759,4321.5702309712615,4250.9100738821435,4456.0016355906846,4383.92827535979,4593.1216683024995,4567.3067880309236,4732.9841016685505,4657.9989776843277,4875.6437837019248,4799.1589572380135,{"$f":"BV114-BV126","v":5021.1566593759608},4943.1421363827758,5169.5797925634824,5141.6369359509754,5320.9713884147523,5239.8050786926415,5475.3908161830486,5392.6011802664962,5632.8986325067117,5548.4532038718253,5793.5566051568467,5763.310358517203,5957.4277372599854,5869.5707133082515,6124.5762920051811,6034.9621275744148,6295.0678178452899,6203.6613701259057,6468.9691742021923,6436.2296641201528,6646.3485576862395,6551.2492894789893,6827.275528839963,6730.2742752685726,7011.8210394167645,6912.8797607739443,7200.0574602051011,7164.619161589656,7392.0586094092041,7289.1201031092141,7587.899781597388,7482.9025051713988,{"$f":"DB114-DB126","v":7787.657777229334},-2400.0000000000009,-2400.0000000000009,-2400.0000000000009,-2400.0000000000009,-2400.0000000000009,-2400.0000000000009,-2400.0000000000009,-2400.0000000000009,-2400.0000000000009,0,0,0,0,0,0,0,0,0,0,0,0,0,0,0,0,0,0,0,0,0,0,{"$f":"EH114-EH126","v":0},0,0,0,0,0,0,0,0,0,0,0,0,0,0,0,0,0,0]
[null,null,"Taxes on EBIT",null,null,null,{"$f":"F30","v":0.21},null,null,{"$f":"J128*$G$129","v":0},0,0,0,0,0,0,0,0,0,0,0,0,0,0,0,0,0,0,0,0,0,0,0,0,0,0,0,0,0,0,0,{"$f":"AP128*$G$129","v":0},0,0,0,-504.00000000000017,664.68864570494259,700.72704899653286,688.06241861904152,724.82158997646331,711.90366699142226,749.39802177599256,744.77114390949714,774.46598221151271,761.02617513787618,800.03530185574266,786.32669864063348,826.11600789285762,812.13323261344669,852.71832805071529,847.71004664762847,879.85269461172982,865.30501521102985,907.52974850396492,892.69111551525009,935.76034347404368,920.62493782555589,964.55555034352483,959.13442548649391,993.92666135039553,978.17978531370875,1023.8851945774041,1007.8233810199828,{"$f":"BV128*$G$129","v":1054.4428984689516},1038.0598486403828,1085.6117564383312,1079.7437565497048,1117.4039915670978,1100.3590665254546,1149.8320713984401,1132.4462478559642,1182.9087128264093,1165.1751728130832,1216.6468870829378,1210.2951752886127,1251.0598248245969,1232.6098497947328,1286.1610213210879,1267.3420467906271,1321.9642417475109,1302.7688877264402,1358.4835265824604,1351.6082294652319,1395.7331971141102,1375.7623507905878,1433.7278610563922,1413.3575978064002,1472.4824182775205,1451.7047497625283,1512.0120666430712,1504.5700239338278,1552.3323079759327,1530.7152216529348,1593.4589541354514,1571.4095260859938,{"$f":"DB128*$G$129","v":1635.4081332181602},-504.00000000000017,-504.00000000000017,-504.00000000000017,-504.00000000000017,-504.00000000000017,-504.00000000000017,-504.00000000000017,-504.00000000000017,-504.00000000000017,0,0,0,0,0,0,0,0,0,0,0,0,0,0,0,0,0,0,0,0,0,0,{"$f":"EH128*$G$129","v":0},0,0,0,0,0,0,0,0,0,0,0,0,0,0,0,0,0,0]
[null,null,"Post-tax Project IRR",null,null,{"$f":"XIRR(J130:EZ130,J4:EZ4)","v":5.3269788622856154E-2},null,null,null,{"$f":"J121-J129","v":-2637.9240325551682},-3093.3403169936519,-3582.8733707780793,-4098.9588287667539,-4631.8447342996697,-5169.7884177859505,-5699.4098072242987,-6206.1939159933036,-6675.1209117719745,-7091.3883923931016,-7441.1789220297569,-7712.4180432328667,-7895.4650695067921,-7983.6816436706113,-7973.8313282723811,-7866.276692202724,-7664.9571593607852,-7377.1495063289867,-7013.031311291561,-6585.0838679934041,-6107.3833796636472,-5594.8364415454753,-5062.4173601015045,-4524.4608883435185,-3994.0552627170587,-3482.5682842163874,-2999.3251646437052,-2551.4425961357783,-2143.8104914276701,-1779.2022612739834,-1458.4870975808756,-1180.9138085666771,{"$f":"AP121-AP129","v":-944.43516676814841},-746.04399465720212,-582.09660643111908,-448.60492347546119,504.00000000000017,4900.4953814614519,5036.0684224155293,4988.425289090681,5126.7097908638389,5078.1137948724945,5219.1639866811156,5201.7581128023949,5313.4672664147392,5262.9079921853445,5409.656611743033,5358.0861520290509,5507.769743977894,5455.1678750696337,5607.845138857454,5589.0044611982221,5709.9220416346034,5655.1950572224468,5814.0404824672978,5758.2189583668942,5920.2412921166415,5863.3033375342347,6028.5661179589752,6008.1723625444301,6139.0574403181563,6079.8191923706199,6251.7585891245217,6191.3355762180317,{"$f":"BV121-BV129","v":6366.7137609070105},6305.0822877423943,6483.9680361251521,6461.8931794012715,6603.5673968476549,6539.4460121671873,6725.5587447846092,6660.1549324105326,6849.9899196803035,6783.2780310587432,6976.90971807391,6953.015183228591,7106.3679124353894,7036.9608635135191,7238.4152706840941,7167.6200807837886,7373.1035760977802,7300.8924823994666,7510.4856476197328,7484.6214346549223,7650.6153605721302,7575.486938688402,7793.5476677835723,7716.9166774621735,7939.3386211392444,7861.1750110114172,8088.0453935620308,8060.0491376558293,8239.726301433273,8158.4048814562802,8394.4408274619382,8311.4929790854058,{"$f":"DB121-DB129","v":8552.2496440111754},504.00000000000017,504.00000000000017,504.00000000000017,504.00000000000017,504.00000000000017,504.00000000000017,504.00000000000017,504.00000000000017,504.00000000000017,0,0,0,0,0,0,0,0,0,0,0,0,0,0,0,0,0,0,0,0,0,0,{"$f":"EH121-EH129","v":0},0,0,0,0,0,0,0,0,0,0,0,0,0,0,0,0,0,0]
[null,null,"NPV at Target IRR",null,null,{"$f":"F28","v":0.11},{"$f":"XNPV(F131,J130:EZ130,J4:EZ4)","v":-72978.04874016704},"npv_project",null,{"$f":"'Parallel Model P50'!J363","v":-2637.9240325551682},{"$f":"'Parallel Model P50'!K363","v":-3093.3403169936519},{"$f":"'Parallel Model P50'!L363","v":-3582.8733707780793},{"$f":"'Parallel Model P50'!M363","v":-4098.9588287667539},{"$f":"'Parallel Model P50'!N363","v":-4631.8447342996697},{"$f":"'Parallel Model P50'!O363","v":-5169.7884177859505},{"$f":"'Parallel Model P50'!P363","v":-5699.4098072242987},{"$f":"'Parallel Model P50'!Q363","v":-6206.1939159933036},{"$f":"'Parallel Model P50'!R363","v":-6675.1209117719745},{"$f":"'Parallel Model P50'!S363","v":-7091.3883923931016},{"$f":"'Parallel Model P50'!T363","v":-7441.1789220297569},{"$f":"'Parallel Model P50'!U363","v":-7712.4180432328667},{"$f":"'Parallel Model P50'!V363","v":-7895.4650695067921},{"$f":"'Parallel Model P50'!W363","v":-7983.6816436706113},{"$f":"'Parallel Model P50'!X363","v":-7973.8313282723811},{"$f":"'Parallel Model P50'!Y363","v":-7866.276692202724},{"$f":"'Parallel Model P50'!Z363","v":-7664.9571593607852},{"$f":"'Parallel Model P50'!AA363","v":-7377.1495063289867},{"$f":"'Parallel Model P50'!AB363","v":-7013.031311291561},{"$f":"'Parallel Model P50'!AC363","v":-6585.0838679934041},{"$f":"'Parallel Model P50'!AD363","v":-6107.3833796636472},{"$f":"'Parallel Model P50'!AE363","v":-5594.8364415454753},{"$f":"'Parallel Model P50'!AF363","v":-5062.4173601015045},{"$f":"'Parallel Model P50'!AG363","v":-4524.4608883435185},{"$f":"'Parallel Model P50'!AH363","v":-3994.0552627170587},{"$f":"'Parallel Model P50'!AI363","v":-3482.5682842163874},{"$f":"'Parallel Model P50'!AJ363","v":-2999.3251646437052},{"$f":"'Parallel Model P50'!AK363","v":-2551.4425961357783},{"$f":"'Parallel Model P50'!AL363","v":-2143.8104914276701},{"$f":"'Parallel Model P50'!AM363","v":-1779.2022612739834},{"$f":"'Parallel Model P50'!AN363","v":-1458.4870975808756},{"$f":"'Parallel Model P50'!AO363","v":-1180.9138085666771},{"$f":"'Parallel Model P50'!AP363","v":-944.43516676814841},{"$f":"'Parallel Model P50'!AQ363","v":-746.04399465720212},{"$f":"'Parallel Model P50'!AR363","v":-582.09660643111908},{"$f":"'Parallel Model P50'!AS363","v":-448.60492347546119},{"$f":"'Parallel Model P50'!AT363","v":504.00000000000017},{"$f":"'Parallel Model P50'!AU363","v":4900.4953814614519},{"$f":"'Parallel Model P50'!AV363","v":5036.0684224155293},{"$f":"'Parallel Model P50'!AW363","v":4988.425289090681},{"$f":"'Parallel Model P50'!AX363","v":5126.7097908638389},{"$f":"'Parallel Model P50'!AY363","v":5078.1137948724945},{"$f":"'Parallel Model P50'!AZ363","v":5219.1639866811156},{"$f":"'Parallel Model P50'!BA363","v":5201.7581128023949},{"$f":"'Parallel Model P50'!BB363","v":5313.4672664147392},{"$f":"'Parallel Model P50'!BC363","v":5262.9079921853445},{"$f":"'Parallel Model P50'!BD363","v":5409.656611743033},{"$f":"'Parallel Model P50'!BE363","v":5358.0861520290509},{"$f":"'Parallel Model P50'!BF363","v":5507.769743977894},{"$f":"'Parallel Model P50'!BG363","v":5455.1678750696337},{"$f":"'Parallel Model P50'!BH363","v":5607.845138857454},{"$f":"'Parallel Model P50'!BI363","v":5589.0044611982221},{"$f":"'Parallel Model P50'!BJ363","v":5709.9220416346034},{"$f":"'Parallel Model P50'!BK363","v":5655.1950572224468},{"$f":"'Parallel Model P50'!BL363","v":5814.0404824672978},{"$f":"'Parallel Model P50'!BM363","v":5758.2189583668942},{"$f":"'Parallel Model P50'!BN363","v":5920.2412921166415},{"$f":"'Parallel Model P50'!BO363","v":5863.3033375342347},{"$f":"'Parallel Model P50'!BP363","v":6028.5661179589752},{"$f":"'Parallel Model P50'!BQ363","v":6008.1723625444301},{"$f":"'Parallel Model P50'!BR363","v":6139.0574403181563},{"$f":"'Parallel Model P50'!BS363","v":6079.8191923706199},{"$f":"'Parallel Model P50'!BT363","v":6251.7585891245217},{"$f":"'Parallel Model P50'!BU363","v":6191.3355762180317},{"$f":"'Parallel Model P50'!BV363","v":6366.7137609070105},{"$f":"'Parallel Model P50'!BW363","v":6305.0822877423943},{"$f":"'Parallel Model P50'!BX363","v":6483.9680361251521},{"$f":"'Parallel Model P50'!BY363","v":6461.8931794012715},{"$f":"'Parallel Model P50'!BZ363","v":6603.5673968476549},{"$f":"'Parallel Model P50'!CA363","v":6539.4460121671873},{"$f":"'Parallel Model P50'!CB363","v":6725.5587447846092},{"$f":"'Parallel Model P50'!CC363","v":6660.1549324105326},{"$f":"'Parallel Model P50'!CD363","v":6849.9899196803035},{"$f":"'Parallel Model P50'!CE363","v":6783.2780310587432},{"$f":"'Parallel Model P50'!CF363","v":6976.90971807391},{"$f":"'Parallel Model P50'!CG363","v":6953.015183228591},{"$f":"'Parallel Model P50'!CH363","v":7106.3679124353894},{"$f":"'Parallel Model P50'!CI363","v":7036.9608635135191},{"$f":"'Parallel Model P50'!CJ363","v":7238.4152706840941},{"$f":"'Parallel Model P50'!CK363","v":7167.6200807837886},{"$f":"'Parallel Model P50'!CL363","v":7373.1035760977802},{"$f":"'Parallel Model P50'!CM363","v":7300.8924823994666},{"$f":"'Parallel Model P50'!CN363","v":7510.4856476197328},{"$f":"'Parallel Model P50'!CO363","v":7484.6214346549223},{"$f":"'Parallel Model P50'!CP363","v":7650.6153605721302},{"$f":"'Parallel Model P50'!CQ363","v":7575.486938688402},{"$f":"'Parallel Model P50'!CR363","v":7793.5476677835723},{"$f":"'Parallel Model P50'!CS363","v":7716.9166774621735},{"$f":"'Parallel Model P50'!CT363","v":7939.3386211392444},{"$f":"'Parallel Model P50'!CU363","v":7861.1750110114172},{"$f":"'Parallel Model P50'!CV363","v":8088.0453935620308},{"$f":"'Parallel Model P50'!CW363","v":8060.0491376558293},{"$f":"'Parallel Model P50'!CX363","v":8239.726301433273},{"$f":"'Parallel Model P50'!CY363","v":8158.4048814562802},{"$f":"'Parallel Model P50'!CZ363","v":8394.4408274619382},{"$f":"'Parallel Model P50'!DA363","v":8311.4929790854058},{"$f":"'Parallel Model P50'!DB363","v":8552.2496440111754},{"$f":"'Parallel Model P50'!DC363","v":504.00000000000017},{"$f":"'Parallel Model P50'!DD363","v":504.00000000000017},{"$f":"'Parallel Model P50'!DE363","v":504.00000000000017},{"$f":"'Parallel Model P50'!DF363","v":504.00000000000017},{"$f":"'Parallel Model P50'!DG363","v":504.00000000000017},{"$f":"'Parallel Model P50'!DH363","v":504.00000000000017},{"$f":"'Parallel Model P50'!DI363","v":504.00000000000017},{"$f":"'Parallel Model P50'!DJ363","v":504.00000000000017},{"$f":"'Parallel Model P50'!DK363","v":504.00000000000017},{"$f":"'Parallel Model P50'!DL363","v":0},{"$f":"'Parallel Model P50'!DM363","v":0},{"$f":"'Parallel Model P50'!DN363","v":0},{"$f":"'Parallel Model P50'!DO363","v":0},{"$f":"'Parallel Model P50'!DP363","v":0},{"$f":"'Parallel Model P50'!DQ363","v":0},{"$f":"'Parallel Model P50'!DR363","v":0},{"$f":"'Parallel Model P50'!DS363","v":0},{"$f":"'Parallel Model P50'!DT363","v":0},{"$f":"'Parallel Model P50'!DU363","v":0},{"$f":"'Parallel Model P50'!DV363","v":0},{"$f":"'Parallel Model P50'!DW363","v":0},{"$f":"'Parallel Model P50'!DX363","v":0},{"$f":"'Parallel Model P50'!DY363","v":0},{"$f":"'Parallel Model P50'!DZ363","v":0},{"$f":"'Parallel Model P50'!EA363","v":0},{"$f":"'Parallel Model P50'!EB363","v":0},{"$f":"'Parallel Model P50'!EC363","v":0},{"$f":"'Parallel Model P50'!ED363","v":0},{"$f":"'Parallel Model P50'!EE363","v":0},{"$f":"'Parallel Model P50'!EF363","v":0},{"$f":"'Parallel Model P50'!EG363","v":0},{"$f":"'Parallel Model P50'!EH363","v":0},{"$f":"'Parallel Model P50'!EI363","v":0},{"$f":"'Parallel Model P50'!EJ363","v":0},{"$f":"'Parallel Model P50'!EK363","v":0},{"$f":"'Parallel Model P50'!EL363","v":0},{"$f":"'Parallel Model P50'!EM363","v":0},{"$f":"'Parallel Model P50'!EN363","v":0},{"$f":"'Parallel Model P50'!EO363","v":0},{"$f":"'Parallel Model P50'!EP363","v":0},{"$f":"'Parallel Model P50'!EQ363","v":0},{"$f":"'Parallel Model P50'!ER363","v":0},{"$f":"'Parallel Model P50'!ES363","v":0},{"$f":"'Parallel Model P50'!ET363","v":0},{"$f":"'Parallel Model P50'!EU363","v":0},{"$f":"'Parallel Model P50'!EV363","v":0},{"$f":"'Parallel Model P50'!EW363","v":0},{"$f":"'Parallel Model P50'!EX363","v":0},{"$f":"'Parallel Model P50'!EY363","v":0},{"$f":"'Parallel Model P50'!EZ363","v":0}]
[]
["Sources and Uses"]
[null,null,null,null,null,null,null,null,null,null,null,{"$f":"E204","v":false},{"$f":"E205","v":true}]
[null,"Uses",null,null,null,null,null,null,null,"Computed",null,"P50","P99","Applied"]
[null,null,"EPC",null,null,null,null,null,{"$f":"SUM(J119:EZ119)","v":168000.00000000006},{"$f":"SUM(J119:EZ119)","v":168000.00000000006},null,{"$f":"J136","v":168000.00000000006},{"$f":"J136","v":168000.00000000006},{"$f":"SUMPRODUCT($L$134:$M$134*L136:M136)","v":168000.00000000006}]
[null,null,"Development Fee",null,null,null,null,{"$f":"F27","v":0.2},{"$f":"H137*I143","v":45095.192494425573},{"$f":"I137","v":45095.192494425573},null,{"$f":"J137","v":45095.192494425573},{"$f":"L137","v":45095.192494425573},{"$f":"SUMPRODUCT($L$134:$M$134*L137:M137)","v":45095.192494425573}]
[null,null,"IDC",null,null,null,null,null,{"$f":"N138","v":8292.527548038508},{"$f":"SUM(297:297)","v":8292.527548038508},null,{"$f":"'Parallel Model P50'!H182","v":9287.3617654818154},{"$f":"'Parallel Model P99'!H182","v":8292.527548038508},{"$f":"SUMPRODUCT($L$134:$M$134*L138:M138)","v":8292.527548038508}]
[null,null,"IDC on Equity Bridge Loan"]
[null,null,"Up-Front Fees",null,null,null,null,null,{"$f":"N140","v":2226.5524362101032},{"$f":"SUM(J300:EZ300)","v":2226.5524362101032},null,{"$f":"'Parallel Model P50'!H184","v":2439.8701773704206},{"$f":"'Parallel Model P99'!H184","v":2226.5524362101032},{"$f":"SUMPRODUCT($L$134:$M$134*L140:M140)","v":2226.5524362101032}]
[null,null,"Commitment Fees",null,null,null,null,null,{"$f":"N141","v":1861.6900136581726},{"$f":"SUM(J303:EZ303)","v":1861.6900136581726},null,{"$f":"'Parallel Model P50'!H185","v":1977.4398030277741},{"$f":"'Parallel Model P99'!H185","v":1861.6900136581726},{"$f":"SUMPRODUCT($L$134:$M$134*L141:M141)","v":1861.6900136581726}]
[null,null,"DSRA",null,null,null,null,null,{"$f":"N142","v":0},null,null,{"$f":"'Parallel Model P50'!H187","v":0},{"$f":"'Parallel Model P99'!H187","v":0},{"$f":"SUMPRODUCT($L$134:$M$134*L142:M142)","v":0}]
[null,null,null,"Total",null,null,null,null,{"$f":"N143","v":225475.96247212787},{"$f":"SUM(I136:I142)","v":225475.96249233242},{"$f":"J143-I143","v":2.0204548491165042E-5},{"$f":"'Parallel Model P50'!H190","v":227130.83969413111},{"$f":"'Parallel Model P99'!H190","v":225475.96247212787},{"$f":"SUMPRODUCT($L$134:$M$134*L143:M143)","v":225475.96247212787}]
[null,null,null,null,null,null,null,null,null,null,null,{"$f":"SUM(L136:L142)","v":226799.86424030564},{"$f":"SUM(M136:M142)","v":225475.96249233242},{"$f":"SUM(N136:N142)","v":225475.96249233242}]
[null,"Sources"]
[null,null,"Senior Debt (From Minimum)",null,null,null,null,null,{"$f":"E202","v":148436.82908067355},{"$f":"IFERROR(I146/$I$143,1)","v":0.65832662361524463},null,{"$f":"'Parallel Model P50'!H205","v":162658.01182469472}]
[null,null,"Mezzanine Debt"]
[null,null,"Equity",null,null,null,null,null,{"$f":"I143-I146-I147","v":77039.133391454321}]
[null,null,null,"Total",null,null,null,null,{"$f":"SUM(I146:I148)","v":225475.96247212787}]
[]
[null,null,"Equity Up-front",null,null,null,{"$f":"F41","v":0.5},null,{"$f":"G151*I148","v":38519.566695727161}]
[null,null,"Remaining Equity Pro-Rata",null,null,null,null,null,{"$f":"I148-I151","v":38519.566695727161}]
[null,null,"Total Left Over for Pro-Rata",null,null,null,null,null,{"$f":"I149-I151","v":186956.39577640069}]
[null,null,"Equity as Percent of Left Over Pro-Rata",null,null,null,null,null,{"$f":"I152/I153","v":0.20603503044526195}]
[null,null,"Debt as Percent of Left Over Pro-Rata",null,null,null,null,null,{"$f":"IF(I146,(I146+I147)/I153)","v":0.79396496955473816}]
[]
["Re-financing Sources and Uses"]
[null,null,"Re-financing Switch 1",null,null,null,{"$f":"F77","v":"2058-01-01"},null,null,{"$f":"$G158=J$4","v":false},{"$f":"$G158=K$4","v":false},false,false,false,false,false,false,false,false,false,false,false,false,false,false,false,false,false,false,false,false,false,false,false,false,false,false,false,false,false,false,false,false,false,false,false,false,false,false,false,false,false,false,false,false,false,false,false,false,false,false,false,false,false,false,false,false,false,false,false,false,false,false,false,{"$f":"$G158=BW$4","v":false},false,false,false,false,false,false,false,false,false,false,false,false,false,false,false,false,false,false,false,false,false,false,false,false,false,false,false,false,false,false,false,false,false,false,false,false,false,false,false,false,false,false,true,false,false,false,false,false,false,false,false,false,false,false,false,false,false,false,false,false,false,false,false,{"$f":"$G158=EI$4","v":false},false,false,false,false,false,false,false,false,false,false,false,false,false,false,false,false,false]
[null,null,"Re-financing Switch 2",null,null,null,{"$f":"F89","v":"2058-01-01"},null,null,{"$f":"J$4=$G159","v":false},{"$f":"K$4=$G159","v":false},false,false,false,false,false,false,false,false,false,false,false,false,false,false,false,false,false,false,false,false,false,false,false,false,false,false,false,false,false,false,false,false,false,false,false,false,false,false,false,false,false,false,false,false,false,false,false,false,false,false,false,false,false,false,false,false,false,false,false,false,false,false,false,{"$f":"BW$4=$G159","v":false},false,false,false,false,false,false,false,false,false,false,false,false,false,false,false,false,false,false,false,false,false,false,false,false,false,false,false,false,false,false,false,false,false,false,false,false,false,false,false,false,false,false,true,false,false,false,false,false,false,false,false,false,false,false,false,false,false,false,false,false,false,false,false,{"$f":"EI$4=$G159","v":false},false,false,false,false,false,false,false,false,false,false,false,false,false,false,false,false,false]
[null,null,"Re-financing Switch 3",null,null,null,{"$f":"F101","v":"2058-01-01"},null,null,{"$f":"J$4=$G160","v":false},false,false,false,false,false,false,false,false,false,false,false,false,false,false,false,false,false,false,false,false,false,false,false,false,false,false,false,false,false,false,false,false,false,false,false,false,false,false,false,false,false,false,false,false,false,false,false,false,false,false,false,false,false,false,false,false,false,false,false,false,false,false,false,false,false,false,false,false,false,false,false,false,false,false,false,false,false,false,false,false,false,false,false,false,false,false,false,false,false,false,false,false,false,false,false,false,false,false,false,false,false,false,false,false,false,false,false,true,false,false,false,false,false,false,false,false,false,false,false,false,false,false,false,false,false,false,false,false,false,false,false,false,false,false,false,false,false,false,false,false,false,false,false,false,false,false]
[]
[null,null,"Sources:"]
[null,null,null,"Re-financing Amount from Sculpting 1","Year/Amount",{"$f":"F75","v":36},{"$f":"E228","v":0},null,null,{"$f":"$G163*J158","v":0},{"$f":"$G163*K158","v":0},0,0,0,0,0,0,0,0,0,0,0,0,0,0,0,0,0,0,0,0,0,0,0,0,0,0,0,0,0,0,0,0,0,0,0,0,0,0,0,0,0,0,0,0,0,0,0,0,0,0,0,0,0,0,0,0,0,0,0,0,0,0,0,{"$f":"$G163*BW158","v":0},0,0,0,0,0,0,0,0,0,0,0,0,0,0,0,0,0,0,0,0,0,0,0,0,0,0,0,0,0,0,0,0,0,0,0,0,0,0,0,0,0,0,0,0,0,0,0,0,0,0,0,0,0,0,0,0,0,0,0,0,0,0,0,{"$f":"$G163*EI158","v":0},0,0,0,0,0,0,0,0,0,0,0,0,0,0,0,0,0]
[null,null,null,"Re-financing Amount from Sculpting 2","Year/Amount",{"$f":"F87","v":36},{"$f":"E236","v":0},null,null,{"$f":"$G164*J159","v":0},0,0,0,0,0,0,0,0,0,0,0,0,0,0,0,0,0,0,0,0,0,0,0,0,0,0,0,0,0,0,0,0,0,0,0,0,0,0,0,0,0,0,0,0,0,0,0,0,0,0,0,0,0,0,0,0,0,0,0,0,0,0,0,{"$f":"$G164*BV159","v":0},0,0,0,0,0,0,0,0,0,0,0,0,0,0,0,0,0,0,0,0,0,0,0,0,0,0,0,0,0,0,0,0,0,0,0,0,0,0,0,0,0,0,0,0,0,0,0,0,0,0,0,0,0,0,0,0,0,0,0,0,0,0,0,{"$f":"$G164*EH159","v":0},0,0,0,0,0,0,0,0,0,0,0,0,0,0,0,0,0,0]
[null,null,null,"Re-financing Amount from Sculpting 3","Year/Amount",{"$f":"F99","v":36},{"$f":"E244","v":0},null,null,{"$f":"$G165*J160","v":0},0,0,0,0,0,0,0,0,0,0,0,0,0,0,0,0,0,0,0,0,0,0,0,0,0,0,0,0,0,0,0,0,0,0,0,0,0,0,0,0,0,0,0,0,0,0,0,0,0,0,0,0,0,0,0,0,0,0,0,0,0,0,0,{"$f":"$G165*BV160","v":0},0,0,0,0,0,0,0,0,0,0,0,0,0,0,0,0,0,0,0,0,0,0,0,0,0,0,0,0,0,0,0,0,0,0,0,0,0,0,0,0,0,0,0,0,0,0,0,0,0,0,0,0,0,0,0,0,0,0,0,0,0,0,0,{"$f":"$G165*EH160","v":0},0,0,0,0,0,0,0,0,0,0,0,0,0,0,0,0,0,0]
[null,null,null,"Total",null,null,null,null,null,{"$f":"SUM(J163:J165)","v":0},{"$f":"SUM(K163:K165)","v":0},0,0,0,0,0,0,0,0,0,0,0,0,0,0,0,0,0,0,0,0,0,0,0,0,0,0,0,0,0,0,0,0,0,0,0,0,0,0,0,0,0,0,0,0,0,0,0,0,0,0,0,0,0,0,0,0,0,0,0,0,0,0,0,{"$f":"SUM(BW163:BW165)","v":0},0,0,0,0,0,0,0,0,0,0,0,0,0,0,0,0,0,0,0,0,0,0,0,0,0,0,0,0,0,0,0,0,0,0,0,0,0,0,0,0,0,0,0,0,0,0,0,0,0,0,0,0,0,0,0,0,0,0,0,0,0,0,0,{"$f":"SUM(EI163:EI165)","v":0},0,0,0,0,0,0,0,0,0,0,0,0,0,0,0,0,0]
[]
[null,null,"Uses:"]
[null,null,null,"Repayment of Base Debt ",null,null,null,null,null,{"$f":"(J288-J290)*J158","v":0},0,0,0,0,0,0,0,0,0,0,0,0,0,0,0,0,0,0,0,0,0,0,0,0,0,0,0,0,0,0,0,{"$f":"(AP288-AP290)*AP158","v":0},0,0,0,0,0,0,0,0,0,0,0,0,0,0,0,0,0,0,0,0,0,0,0,0,0,0,0,0,0,0,0,{"$f":"(BV288-BV290)*BV158","v":0},0,0,0,0,0,0,0,0,0,0,0,0,0,0,0,0,0,0,0,0,0,0,0,0,0,0,0,0,0,0,0,{"$f":"(DB288-DB290)*DB158","v":0},0,0,0,0,0,0,0,0,0,0,0,6.4788837967753079E-5,0,0,0,0,0,0,0,0,0,0,0,0,0,0,0,0,0,0,0,{"$f":"(EH288-EH290)*EH158","v":0},0,0,0,0,0,0,0,0,0,0,0,0,0,0,0,0,0,0]
[null,null,null,"Repayment of 1st Refi with 2nd Refi",null,null,null,null,null,{"$f":"J321","v":0},0,0,0,0,0,0,0,0,0,0,0,0,0,0,0,0,0,0,0,0,0,0,0,0,0,0,0,0,0,0,0,{"$f":"AP321","v":0},0,0,0,0,0,0,0,0,0,0,0,0,0,0,0,0,0,0,0,0,0,0,0,0,0,0,0,0,0,0,0,{"$f":"BV321","v":0},0,0,0,0,0,0,0,0,0,0,0,0,0,0,0,0,0,0,0,0,0,0,0,0,0,0,0,0,0,0,0,{"$f":"DB321","v":0},0,0,0,0,0,0,0,0,0,0,0,0,0,0,0,0,0,0,0,0,0,0,0,0,0,0,0,0,0,0,0,{"$f":"EH321","v":0},0,0,0,0,0,0,0,0,0,0,0,0,0,0,0,0,0,0]
[null,null,null,"Repayment of 2nd Refi with 3rd Refi",null,null,null,null,null,{"$f":"J333","v":0},0,0,0,0,0,0,0,0,0,0,0,0,0,0,0,0,0,0,0,0,0,0,0,0,0,0,0,0,0,0,0,{"$f":"AP333","v":0},0,0,0,0,0,0,0,0,0,0,0,0,0,0,0,0,0,0,0,0,0,0,0,0,0,0,0,0,0,0,0,{"$f":"BV333","v":0},0,0,0,0,0,0,0,0,0,0,0,0,0,0,0,0,0,0,0,0,0,0,0,0,0,0,0,0,0,0,0,{"$f":"DB333","v":0},0,0,0,0,0,0,0,0,0,0,0,0,0,0,0,0,0,0,0,0,0,0,0,0,0,0,0,0,0,0,0,{"$f":"EH333","v":0},0,0,0,0,0,0,0,0,0,0,0,0,0,0,0,0,0,0]
[null,null,null,"Re-financing Fees and Swap Unwind"]
[null,null,null,"Super Dividends",null,null,null,null,null,{"$f":"J166-J169-J170-J171-J172","v":0},{"$f":"K166-K169-K170-K171-K172","v":0},0,0,0,0,0,0,0,0,0,0,0,0,0,0,0,0,0,0,0,0,0,0,0,0,0,0,0,0,0,0,0,0,0,0,0,0,0,0,0,0,0,0,0,0,0,0,0,0,0,0,0,0,0,0,0,0,0,0,0,0,0,0,0,{"$f":"BW166-BW169-BW170-BW171-BW172","v":0},0,0,0,0,0,0,0,0,0,0,0,0,0,0,0,0,0,0,0,0,0,0,0,0,0,0,0,0,0,0,0,0,0,0,0,0,0,0,0,0,0,0,-6.4788837967753079E-5,0,0,0,0,0,0,0,0,0,0,0,0,0,0,0,0,0,0,0,0,{"$f":"EI166-EI169-EI170-EI171-EI172","v":0},0,0,0,0,0,0,0,0,0,0,0,0,0,0,0,0,0]
[]
["Sizing Using Alternative Methods with Different Parallel Models"]
[]
[null,"CFADS - P50 -- First UDF",null,null,null,null,null,null,null,{"$f":"'Parallel Model P50'!J253","v":0},{"$f":"'Parallel Model P50'!K253","v":0},{"$f":"'Parallel Model P50'!L253","v":0},{"$f":"'Parallel Model P50'!M253","v":0},{"$f":"'Parallel Model P50'!N253","v":0},{"$f":"'Parallel Model P50'!O253","v":0},{"$f":"'Parallel Model P50'!P253","v":0},{"$f":"'Parallel Model P50'!Q253","v":0},{"$f":"'Parallel Model P50'!R253","v":0},{"$f":"'Parallel Model P50'!S253","v":0},{"$f":"'Parallel Model P50'!T253","v":0},{"$f":"'Parallel Model P50'!U253","v":0},{"$f":"'Parallel Model P50'!V253","v":0},{"$f":"'Parallel Model P50'!W253","v":0},{"$f":"'Parallel Model P50'!X253","v":0},{"$f":"'Parallel Model P50'!Y253","v":0},{"$f":"'Parallel Model P50'!Z253","v":0},{"$f":"'Parallel Model P50'!AA253","v":0},{"$f":"'Parallel Model P50'!AB253","v":0},{"$f":"'Parallel Model P50'!AC253","v":0},{"$f":"'Parallel Model P50'!AD253","v":0},{"$f":"'Parallel Model P50'!AE253","v":0},{"$f":"'Parallel Model P50'!AF253","v":0},{"$f":"'Parallel Model P50'!AG253","v":0},{"$f":"'Parallel Model P50'!AH253","v":0},{"$f":"'Parallel Model P50'!AI253","v":0},{"$f":"'Parallel Model P50'!AJ253","v":0},{"$f":"'Parallel Model P50'!AK253","v":0},{"$f":"'Parallel Model P50'!AL253","v":0},{"$f":"'Parallel Model P50'!AM253","v":0},{"$f":"'Parallel Model P50'!AN253","v":0},{"$f":"'Parallel Model P50'!AO253","v":0},{"$f":"'Parallel Model P50'!AP253","v":0},{"$f":"'Parallel Model P50'!AQ253","v":0},{"$f":"'Parallel Model P50'!AR253","v":0},{"$f":"'Parallel Model P50'!AS253","v":0},{"$f":"'Parallel Model P50'!AT253","v":0},{"$f":"'Parallel Model P50'!AU253","v":5565.1840271663941},{"$f":"'Parallel Model P50'!AV253","v":5736.7954714120624},{"$f":"'Parallel Model P50'!AW253","v":5676.4877077097226},{"$f":"'Parallel Model P50'!AX253","v":5851.5313808403025},{"$f":"'Parallel Model P50'!AY253","v":5790.0174618639167},{"$f":"'Parallel Model P50'!AZ253","v":5968.5620084571083},{"$f":"'Parallel Model P50'!BA253","v":5946.5292567118922},{"$f":"'Parallel Model P50'!BB253","v":6087.933248626252},{"$f":"'Parallel Model P50'!BC253","v":6023.9341673232211},{"$f":"'Parallel Model P50'!BD253","v":6209.6919135987755},{"$f":"'Parallel Model P50'!BE253","v":6144.4128506696843},{"$f":"'Parallel Model P50'!BF253","v":6333.8857518707518},{"$f":"'Parallel Model P50'!BG253","v":6267.3011076830808},{"$f":"'Parallel Model P50'!BH253","v":6460.5634669081692},{"$f":"'Parallel Model P50'!BI253","v":6436.7145078458507},{"$f":"'Parallel Model P50'!BJ253","v":6589.7747362463333},{"$f":"'Parallel Model P50'!BK253","v":6520.5000724334768},{"$f":"'Parallel Model P50'!BL253","v":6721.5702309712624},{"$f":"'Parallel Model P50'!BM253","v":6650.9100738821444},{"$f":"'Parallel Model P50'!BN253","v":6856.0016355906855},{"$f":"'Parallel Model P50'!BO253","v":6783.9282753597909},{"$f":"'Parallel Model P50'!BP253","v":6934.5209313250061},{"$f":"'Parallel Model P50'!BQ253","v":6697.6638331760014},{"$f":"'Parallel Model P50'!BR253","v":6849.8352797779435},{"$f":"'Parallel Model P50'!BS253","v":6779.4219949624339},{"$f":"'Parallel Model P50'!BT253","v":6940.1816958047066},{"$f":"'Parallel Model P50'!BU253","v":6867.8190650157567},{"$f":"'Parallel Model P50'!BV253","v":7031.2432844408286},{"$f":"'Parallel Model P50'!BW253","v":6956.8729602910234},{"$f":"'Parallel Model P50'!BX253","v":7122.9952848769681},{"$f":"'Parallel Model P50'!BY253","v":7087.3463061955918},{"$f":"'Parallel Model P50'!BZ253","v":7215.277798453767},{"$f":"'Parallel Model P50'!CA253","v":7136.7071818142467},{"$f":"'Parallel Model P50'!CB253","v":7308.3239126160033},{"$f":"'Parallel Model P50'!CC253","v":7227.5590677335103},{"$f":"'Parallel Model P50'!CD253","v":7401.9742726389741},{"$f":"'Parallel Model P50'!CE253","v":7318.9490298867458},{"$f":"'Parallel Model P50'!CF253","v":7496.1959981276586},{"$f":"'Parallel Model P50'!CG253","v":7454.9936586501999},{"$f":"'Parallel Model P50'!CH253","v":7590.8097136365595},{"$f":"'Parallel Model P50'!CI253","v":7503.0540545554213},{"$f":"'Parallel Model P50'!CJ253","v":7686.0611992398772},{"$f":"'Parallel Model P50'!CK253","v":7595.8335310011953},{"$f":"'Parallel Model P50'!CL253","v":7781.7712096481109},{"$f":"'Parallel Model P50'!CM253","v":7688.996440715031},{"$f":"'Parallel Model P50'!CN253","v":7877.8971577659386},{"$f":"'Parallel Model P50'!CO253","v":7830.2888795437211},{"$f":"'Parallel Model P50'!CP253","v":7974.2376352086358},{"$f":"'Parallel Model P50'!CQ253","v":7876.1308618948224},{"$f":"'Parallel Model P50'!CR253","v":8071.0511763061804},{"$f":"'Parallel Model P50'!CS253","v":7970.1570828980275},{"$f":"'Parallel Model P50'!CT253","v":8168.1359856954668},{"$f":"'Parallel Model P50'!CU253","v":8064.3692997461976},{"$f":"'Parallel Model P50'!CV253","v":8265.4379130573579},{"$f":"'Parallel Model P50'!CW253","v":8237.4416571604215},{"$f":"'Parallel Model P50'!CX253","v":8417.1188209473239},{"$f":"'Parallel Model P50'!CY253","v":8335.7974009799909},{"$f":"'Parallel Model P50'!CZ253","v":8571.8333469955105},{"$f":"'Parallel Model P50'!DA253","v":8488.8854986290462},{"$f":"'Parallel Model P50'!DB253","v":8729.642163565095},{"$f":"'Parallel Model P50'!DC253","v":0},{"$f":"'Parallel Model P50'!DD253","v":0},{"$f":"'Parallel Model P50'!DE253","v":0},{"$f":"'Parallel Model P50'!DF253","v":0},{"$f":"'Parallel Model P50'!DG253","v":0},{"$f":"'Parallel Model P50'!DH253","v":0},{"$f":"'Parallel Model P50'!DI253","v":0},{"$f":"'Parallel Model P50'!DJ253","v":0},{"$f":"'Parallel Model P50'!DK253","v":0},{"$f":"'Parallel Model P50'!DL253","v":0},{"$f":"'Parallel Model P50'!DM253","v":0},{"$f":"'Parallel Model P50'!DN253","v":0},{"$f":"'Parallel Model P50'!DO253","v":0},{"$f":"'Parallel Model P50'!DP253","v":0},{"$f":"'Parallel Model P50'!DQ253","v":0},{"$f":"'Parallel Model P50'!DR253","v":0},{"$f":"'Parallel Model P50'!DS253","v":0},{"$f":"'Parallel Model P50'!DT253","v":0},{"$f":"'Parallel Model P50'!DU253","v":0},{"$f":"'Parallel Model P50'!DV253","v":0},{"$f":"'Parallel Model P50'!DW253","v":0},{"$f":"'Parallel Model P50'!DX253","v":0},{"$f":"'Parallel Model P50'!DY253","v":0},{"$f":"'Parallel Model P50'!DZ253","v":0},{"$f":"'Parallel Model P50'!EA253","v":0},{"$f":"'Parallel Model P50'!EB253","v":0},{"$f":"'Parallel Model P50'!EC253","v":0},{"$f":"'Parallel Model P50'!ED253","v":0},{"$f":"'Parallel Model P50'!EE253","v":0},{"$f":"'Parallel Model P50'!EF253","v":0},{"$f":"'Parallel Model P50'!EG253","v":0},{"$f":"'Parallel Model P50'!EH253","v":0},{"$f":"'Parallel Model P50'!EI253","v":0},{"$f":"'Parallel Model P50'!EJ253","v":0},{"$f":"'Parallel Model P50'!EK253","v":0},{"$f":"'Parallel Model P50'!EL253","v":0},{"$f":"'Parallel Model P50'!EM253","v":0},{"$f":"'Parallel Model P50'!EN253","v":0},{"$f":"'Parallel Model P50'!EO253","v":0},{"$f":"'Parallel Model P50'!EP253","v":0},{"$f":"'Parallel Model P50'!EQ253","v":0},{"$f":"'Parallel Model P50'!ER253","v":0},{"$f":"'Parallel Model P50'!ES253","v":0},{"$f":"'Parallel Model P50'!ET253","v":0},{"$f":"'Parallel Model P50'!EU253","v":0},{"$f":"'Parallel Model P50'!EV253","v":0},{"$f":"'Parallel Model P50'!EW253","v":0},{"$f":"'Parallel Model P50'!EX253","v":0},{"$f":"'Parallel Model P50'!EY253","v":0},{"$f":"'Parallel Model P50'!EZ253","v":0}]
[null,"CFADS - P99 -- Second UDF",null,null,null,null,null,null,null,{"$f":"'Parallel Model P99'!J253","v":0},{"$f":"'Parallel Model P99'!K253","v":0},{"$f":"'Parallel Model P99'!L253","v":0},{"$f":"'Parallel Model P99'!M253","v":0},{"$f":"'Parallel Model P99'!N253","v":0},{"$f":"'Parallel Model P99'!O253","v":0},{"$f":"'Parallel Model P99'!P253","v":0},{"$f":"'Parallel Model P99'!Q253","v":0},{"$f":"'Parallel Model P99'!R253","v":0},{"$f":"'Parallel Model P99'!S253","v":0},{"$f":"'Parallel Model P99'!T253","v":0},{"$f":"'Parallel Model P99'!U253","v":0},{"$f":"'Parallel Model P99'!V253","v":0},{"$f":"'Parallel Model P99'!W253","v":0},{"$f":"'Parallel Model P99'!X253","v":0},{"$f":"'Parallel Model P99'!Y253","v":0},{"$f":"'Parallel Model P99'!Z253","v":0},{"$f":"'Parallel Model P99'!AA253","v":0},{"$f":"'Parallel Model P99'!AB253","v":0},{"$f":"'Parallel Model P99'!AC253","v":0},{"$f":"'Parallel Model P99'!AD253","v":0},{"$f":"'Parallel Model P99'!AE253","v":0},{"$f":"'Parallel Model P99'!AF253","v":0},{"$f":"'Parallel Model P99'!AG253","v":0},{"$f":"'Parallel Model P99'!AH253","v":0},{"$f":"'Parallel Model P99'!AI253","v":0},{"$f":"'Parallel Model P99'!AJ253","v":0},{"$f":"'Parallel Model P99'!AK253","v":0},{"$f":"'Parallel Model P99'!AL253","v":0},{"$f":"'Parallel Model P99'!AM253","v":0},{"$f":"'Parallel Model P99'!AN253","v":0},{"$f":"'Parallel Model P99'!AO253","v":0},{"$f":"'Parallel Model P99'!AP253","v":0},{"$f":"'Parallel Model P99'!AQ253","v":0},{"$f":"'Parallel Model P99'!AR253","v":0},{"$f":"'Parallel Model P99'!AS253","v":0},{"$f":"'Parallel Model P99'!AT253","v":0},{"$f":"'Parallel Model P99'!AU253","v":3597.6759228992451},{"$f":"'Parallel Model P99'!AV253","v":3716.7745664299191},{"$f":"'Parallel Model P99'!AW253","v":3669.6294413572296},{"$f":"'Parallel Model P99'!AX253","v":3791.1100577585166},{"$f":"'Parallel Model P99'!AY253","v":3743.0220301843747},{"$f":"'Parallel Model P99'!AZ253","v":3866.9322589136864},{"$f":"'Parallel Model P99'!BA253","v":3847.0583620323887},{"$f":"'Parallel Model P99'!BB253","v":3944.2709040919617},{"$f":"'Parallel Model P99'!BC253","v":3894.2401202038254},{"$f":"'Parallel Model P99'!BD253","v":4023.1563221737993},{"$f":"'Parallel Model P99'!BE253","v":3972.1249226079008},{"$f":"'Parallel Model P99'!BF253","v":4103.6194486172772},{"$f":"'Parallel Model P99'!BG253","v":4051.5674210600596},{"$f":"'Parallel Model P99'!BH253","v":4185.691837589623},{"$f":"'Parallel Model P99'!BI253","v":4164.1796924607825},{"$f":"'Parallel Model P99'!BJ253","v":4269.4056743414158},{"$f":"'Parallel Model P99'!BK253","v":4215.2507448708875},{"$f":"'Parallel Model P99'!BL253","v":4354.7937878282446},{"$f":"'Parallel Model P99'!BM253","v":4299.5557597683037},{"$f":"'Parallel Model P99'!BN253","v":4441.8896635848096},{"$f":"'Parallel Model P99'!BO253","v":4385.5468749636721},{"$f":"'Parallel Model P99'!BP253","v":4530.7274568565063},{"$f":"'Parallel Model P99'!BQ253","v":4507.4420191384625},{"$f":"'Parallel Model P99'!BR253","v":4621.3420059936379},{"$f":"'Parallel Model P99'!BS253","v":4562.7229687122053},{"$f":"'Parallel Model P99'!BT253","v":4713.7688461135112},{"$f":"'Parallel Model P99'!BU253","v":4653.9774280864485},{"$f":"'Parallel Model P99'!BV253","v":4808.0442230357803},{"$f":"'Parallel Model P99'!BW253","v":4747.0569766481794},{"$f":"'Parallel Model P99'!BX253","v":4904.2051074964984},{"$f":"'Parallel Model P99'!BY253","v":4879.0002008508081},{"$f":"'Parallel Model P99'!BZ253","v":5002.2892096464275},{"$f":"'Parallel Model P99'!CA253","v":4938.8380785047675},{"$f":"'Parallel Model P99'!CB253","v":5102.3349938393567},{"$f":"'Parallel Model P99'!CC253","v":5037.6148400748625},{"$f":"'Parallel Model P99'!CD253","v":5204.3816937161446},{"$f":"'Parallel Model P99'!CE253","v":5138.3671368763607},{"$f":"'Parallel Model P99'!CF253","v":5308.4693275904683},{"$f":"'Parallel Model P99'!CG253","v":5281.1867260473773},{"$f":"'Parallel Model P99'!CH253","v":5414.6387141422783},{"$f":"'Parallel Model P99'!CI253","v":5345.9571692061672},{"$f":"'Parallel Model P99'!CJ253","v":5522.9314884251235},{"$f":"'Parallel Model P99'!CK253","v":5452.8763125902897},{"$f":"'Parallel Model P99'!CL253","v":5633.3901181936271},{"$f":"'Parallel Model P99'!CM253","v":5561.9338388420974},{"$f":"'Parallel Model P99'!CN253","v":5746.0579205574995},{"$f":"'Parallel Model P99'!CO253","v":5716.5263552387933},{"$f":"'Parallel Model P99'!CP253","v":5860.9790789686504},{"$f":"'Parallel Model P99'!CQ253","v":5786.6359659313166},{"$f":"'Parallel Model P99'!CR253","v":5978.1986605480233},{"$f":"'Parallel Model P99'!CS253","v":5902.368685249945},{"$f":"'Parallel Model P99'!CT253","v":6097.7626337589845},{"$f":"'Parallel Model P99'!CU253","v":6020.4160589549447},{"$f":"'Parallel Model P99'!CV253","v":6219.7178864341658},{"$f":"'Parallel Model P99'!CW253","v":6187.7519703980561},{"$f":"'Parallel Model P99'!CX253","v":6344.1122441628486},{"$f":"'Parallel Model P99'!CY253","v":6263.6408677367253},{"$f":"'Parallel Model P99'!CZ253","v":6470.9944890461038},{"$f":"'Parallel Model P99'!DA253","v":6388.9136850914583},{"$f":"'Parallel Model P99'!DB253","v":6600.4143788270285},{"$f":"'Parallel Model P99'!DC253","v":0},{"$f":"'Parallel Model P99'!DD253","v":0},{"$f":"'Parallel Model P99'!DE253","v":0},{"$f":"'Parallel Model P99'!DF253","v":0},{"$f":"'Parallel Model P99'!DG253","v":0},{"$f":"'Parallel Model P99'!DH253","v":0},{"$f":"'Parallel Model P99'!DI253","v":0},{"$f":"'Parallel Model P99'!DJ253","v":0},{"$f":"'Parallel Model P99'!DK253","v":0},{"$f":"'Parallel Model P99'!DL253","v":0},{"$f":"'Parallel Model P99'!DM253","v":0},{"$f":"'Parallel Model P99'!DN253","v":0},{"$f":"'Parallel Model P99'!DO253","v":0},{"$f":"'Parallel Model P99'!DP253","v":0},{"$f":"'Parallel Model P99'!DQ253","v":0},{"$f":"'Parallel Model P99'!DR253","v":0},{"$f":"'Parallel Model P99'!DS253","v":0},{"$f":"'Parallel Model P99'!DT253","v":0},{"$f":"'Parallel Model P99'!DU253","v":0},{"$f":"'Parallel Model P99'!DV253","v":0},{"$f":"'Parallel Model P99'!DW253","v":0},{"$f":"'Parallel Model P99'!DX253","v":0},{"$f":"'Parallel Model P99'!DY253","v":0},{"$f":"'Parallel Model P99'!DZ253","v":0},{"$f":"'Parallel Model P99'!EA253","v":0},{"$f":"'Parallel Model P99'!EB253","v":0},{"$f":"'Parallel Model P99'!EC253","v":0},{"$f":"'Parallel Model P99'!ED253","v":0},{"$f":"'Parallel Model P99'!EE253","v":0},{"$f":"'Parallel Model P99'!EF253","v":0},{"$f":"'Parallel Model P99'!EG253","v":0},{"$f":"'Parallel Model P99'!EH253","v":0},{"$f":"'Parallel Model P99'!EI253","v":0},{"$f":"'Parallel Model P99'!EJ253","v":0},{"$f":"'Parallel Model P99'!EK253","v":0},{"$f":"'Parallel Model P99'!EL253","v":0},{"$f":"'Parallel Model P99'!EM253","v":0},{"$f":"'Parallel Model P99'!EN253","v":0},{"$f":"'Parallel Model P99'!EO253","v":0},{"$f":"'Parallel Model P99'!EP253","v":0},{"$f":"'Parallel Model P99'!EQ253","v":0},{"$f":"'Parallel Model P99'!ER253","v":0},{"$f":"'Parallel Model P99'!ES253","v":0},{"$f":"'Parallel Model P99'!ET253","v":0},{"$f":"'Parallel Model P99'!EU253","v":0},{"$f":"'Parallel Model P99'!EV253","v":0},{"$f":"'Parallel Model P99'!EW253","v":0},{"$f":"'Parallel Model P99'!EX253","v":0},{"$f":"'Parallel Model P99'!EY253","v":0},{"$f":"'Parallel Model P99'!EZ253","v":0}]
[]
[null,"Base Debt Size - P50 Case"]
[null,null,"Repayment Switch - Base Debt",null,null,null,{"$f":"F45","v":"2049-01-01"},null,null,{"$f":"AND(NOT(J7),J4<$G$181)","v":false},false,false,false,false,false,false,false,false,false,false,false,false,false,false,false,false,false,false,false,false,false,false,false,false,false,false,false,false,false,false,false,{"$f":"AND(NOT(AP7),AP4<$G$181)","v":false},false,false,false,true,true,true,true,true,true,true,true,true,true,true,true,true,true,true,true,true,true,true,true,true,true,true,true,true,true,true,true,{"$f":"AND(NOT(BV7),BV4<$G$181)","v":true},true,true,true,true,true,true,true,true,true,true,true,true,true,true,true,true,true,true,true,true,true,true,true,true,true,false,false,false,false,false,false,{"$f":"AND(NOT(DB7),DB4<$G$181)","v":false},false,false,false,false,false,false,false,false,false,false,false,false,false,false,false,false,false,false,false,false,false,false,false,false,false,false,false,false,false,false,false,{"$f":"AND(NOT(EH7),EH4<$G$181)","v":false},false,false,false,false,false,false,false,false,false,false,false,false,false,false,false,false,false,false]
[null,null,"CFADS - P50",null,null,null,null,null,null,{"$f":"J181*J177","v":0},{"$f":"K181*K177","v":0},0,0,0,0,0,0,0,0,0,0,0,0,0,0,0,0,0,0,0,0,0,0,0,0,0,0,0,0,0,0,0,0,0,0,0,5565.1840271663941,5736.7954714120624,5676.4877077097226,5851.5313808403025,5790.0174618639167,5968.5620084571083,5946.5292567118922,6087.933248626252,6023.9341673232211,6209.6919135987755,6144.4128506696843,6333.8857518707518,6267.3011076830808,6460.5634669081692,6436.7145078458507,6589.7747362463333,6520.5000724334768,6721.5702309712624,6650.9100738821444,6856.0016355906855,6783.9282753597909,6934.5209313250061,6697.6638331760014,6849.8352797779435,6779.4219949624339,6940.1816958047066,6867.8190650157567,7031.2432844408286,{"$f":"BW181*BW177","v":6956.8729602910234},7122.9952848769681,7087.3463061955918,7215.277798453767,7136.7071818142467,7308.3239126160033,7227.5590677335103,7401.9742726389741,7318.9490298867458,7496.1959981276586,7454.9936586501999,7590.8097136365595,7503.0540545554213,7686.0611992398772,7595.8335310011953,7781.7712096481109,7688.996440715031,7877.8971577659386,7830.2888795437211,7974.2376352086358,7876.1308618948224,8071.0511763061804,7970.1570828980275,8168.1359856954668,8064.3692997461976,0,0,0,0,0,0,0,0,0,0,0,0,0,0,0,0,0,0,0,0,0,0,0,0,0,0,0,0,0,0,0,0,0,0,0,0,0,0,0,{"$f":"EI181*EI177","v":0},0,0,0,0,0,0,0,0,0,0,0,0,0,0,0,0,0]
[null,null,"Target DSCR",null,null,null,{"$f":"F37","v":1.35},null,null,{"$f":"$G$183","v":1.35},1.35,1.35,1.35,1.35,1.35,1.35,1.35,1.35,1.35,1.35,1.35,1.35,1.35,1.35,1.35,1.35,1.35,1.35,1.35,1.35,1.35,1.35,1.35,1.35,1.35,1.35,1.35,1.35,1.35,1.35,1.35,{"$f":"$G$183","v":1.35},1.35,1.35,1.35,1.35,1.35,1.35,1.35,1.35,1.35,1.35,1.35,1.35,1.35,1.35,1.35,1.35,1.35,1.35,1.35,1.35,1.35,1.35,1.35,1.35,1.35,1.35,1.35,1.35,1.35,1.35,1.35,{"$f":"$G$183","v":1.35},1.35,1.35,1.35,1.35,1.35,1.35,1.35,1.35,1.35,1.35,1.35,1.35,1.35,1.35,1.35,1.35,1.35,1.35,1.35,1.35,1.35,1.35,1.35,1.35,1.35,1.35,1.35,1.35,1.35,1.35,1.35,{"$f":"$G$183","v":1.35},1.35,1.35,1.35,1.35,1.35,1.35,1.35,1.35,1.35,1.35,1.35,1.35,1.35,1.35,1.35,1.35,1.35,1.35,1.35,1.35,1.35,1.35,1.35,1.35,1.35,1.35,1.35,1.35,1.35,1.35,1.35,{"$f":"$G$183","v":1.35},1.35,1.35,1.35,1.35,1.35,1.35,1.35,1.35,1.35,1.35,1.35,1.35,1.35,1.35,1.35,1.35,1.35,1.35]
[null,null,"Senior Debt Service",null,{"$f":"F75","v":36},null,null,null,null,{"$f":"J182/J183","v":0},{"$f":"K182/K183","v":0},0,0,0,0,0,0,0,0,0,0,0,0,0,0,0,0,0,0,0,0,0,0,0,{"$f":"AI182/AI183","v":0},0,0,0,0,0,0,0,0,0,0,0,4122.3585386417735,4249.4781269718978,4204.8057094146088,4334.4676895113353,4288.9018236029005,4421.1570433015613,4404.8364864532532,4509.5801841675939,4462.1734572764599,4599.7717878509447,4551.4169264219881,4691.7672236079643,4642.4452649504301,4785.6025680801249,4767.9366724784077,4881.3146194417277,4830.0000536544267,4978.9409118305648,4926.6000547275144,5078.5197300671744,5025.1320558220668,5136.6821713518557,4961.23246901926,5073.9520590947723,5021.7940703425429,5140.8753302257082,5087.2733814931526,5208.3283588450577,5153.2392298452023,5276.2928036125686,5249.8861527374747,5344.650221076864,5286.4497643068489,5413.5732686044466,5353.7474575803781,5482.9439056584988,5421.4437258420339,5552.737776390858,5522.2175249260736,5622.8220101011548,5557.8178181892008,5693.378666103612,5626.5433562971812,5764.2749701097118,5695.5529190481711,5835.4793761229175,5800.2139848472007,5906.8426927471373,5834.1710088109794,5978.5564268934668,5903.820061405946,6050.4711005151603,{"$f":"CU182/CU183","v":5973.6068887008869},0,0,0,0,0,0,0,0,0,0,0,0,0,0,0,0,0,0,0,0,0,0,0,0,0,0,0,0,0,0,0,0,0,0,0,0,0,0,0,0,0,0,0,0,0,0,0,0,0,0,0,0,0,0,0,0,0]
[null,null,"Interest Rate",null,null,null,null,null,null,{"$f":"LOOKUP(J4,47:47,50:50)/12*J3","v":2.6666666666666666E-3},2.6666666666666666E-3,2.6666666666666666E-3,2.6666666666666666E-3,2.6666666666666666E-3,2.6666666666666666E-3,2.6666666666666666E-3,2.6666666666666666E-3,2.6666666666666666E-3,2.6666666666666666E-3,2.6666666666666666E-3,2.6666666666666666E-3,2.6666666666666666E-3,2.6666666666666666E-3,2.6666666666666666E-3,2.6666666666666666E-3,2.6666666666666666E-3,2.6666666666666666E-3,2.6666666666666666E-3,2.6666666666666666E-3,2.6666666666666666E-3,2.6666666666666666E-3,2.6666666666666666E-3,2.6666666666666666E-3,2.6666666666666666E-3,2.6666666666666666E-3,2.6666666666666666E-3,2.6666666666666666E-3,2.6666666666666666E-3,2.6666666666666666E-3,2.6666666666666666E-3,2.6666666666666666E-3,{"$f":"LOOKUP(AP4,47:47,50:50)/12*AP3","v":2.6666666666666666E-3},2.6666666666666666E-3,2.6666666666666666E-3,2.6666666666666666E-3,1.7250000000000001E-2,1.7250000000000001E-2,1.7250000000000001E-2,1.7250000000000001E-2,1.7250000000000001E-2,1.7250000000000001E-2,1.7250000000000001E-2,1.7250000000000001E-2,1.8499999999999999E-2,1.8499999999999999E-2,1.8499999999999999E-2,1.8499999999999999E-2,1.8499999999999999E-2,1.8499999999999999E-2,1.8499999999999999E-2,1.8499999999999999E-2,1.9749999999999997E-2,1.9749999999999997E-2,1.9749999999999997E-2,1.9749999999999997E-2,1.9749999999999997E-2,1.9749999999999997E-2,1.9749999999999997E-2,1.9749999999999997E-2,2.0999999999999998E-2,2.0999999999999998E-2,2.0999999999999998E-2,2.0999999999999998E-2,{"$f":"LOOKUP(BV4,47:47,50:50)/12*BV3","v":2.0999999999999998E-2},2.0999999999999998E-2,2.0999999999999998E-2,2.0999999999999998E-2,2.0999999999999998E-2,2.0999999999999998E-2,2.0999999999999998E-2,2.0999999999999998E-2,2.0999999999999998E-2,2.0999999999999998E-2,2.0999999999999998E-2,2.0999999999999998E-2,2.0999999999999998E-2,2.0999999999999998E-2,2.0999999999999998E-2,2.0999999999999998E-2,2.0999999999999998E-2,2.0999999999999998E-2,2.0999999999999998E-2,2.0999999999999998E-2,2.0999999999999998E-2,2.0999999999999998E-2,2.0999999999999998E-2,2.0999999999999998E-2,2.0999999999999998E-2,2.0999999999999998E-2,2.0999999999999998E-2,2.0999999999999998E-2,2.0999999999999998E-2,2.0999999999999998E-2,2.0999999999999998E-2,2.0999999999999998E-2,{"$f":"LOOKUP(DB4,47:47,50:50)/12*DB3","v":2.0999999999999998E-2},2.0999999999999998E-2,2.0999999999999998E-2,2.0999999999999998E-2,2.0999999999999998E-2,2.0999999999999998E-2,2.0999999999999998E-2,2.0999999999999998E-2,2.0999999999999998E-2,2.0999999999999998E-2,2.0999999999999998E-2,2.0999999999999998E-2,2.0999999999999998E-2,2.0999999999999998E-2,2.0999999999999998E-2,2.0999999999999998E-2,2.0999999999999998E-2,2.0999999999999998E-2,2.0999999999999998E-2,2.0999999999999998E-2,2.0999999999999998E-2,2.0999999999999998E-2,2.0999999999999998E-2,2.0999999999999998E-2,2.0999999999999998E-2,2.0999999999999998E-2,2.0999999999999998E-2,2.0999999999999998E-2,2.0999999999999998E-2,2.0999999999999998E-2,2.0999999999999998E-2,2.0999999999999998E-2,{"$f":"LOOKUP(EH4,47:47,50:50)/12*EH3","v":2.0999999999999998E-2},2.0999999999999998E-2,2.0999999999999998E-2,2.0999999999999998E-2,2.0999999999999998E-2,2.0999999999999998E-2,2.0999999999999998E-2,2.0999999999999998E-2,2.0999999999999998E-2,2.0999999999999998E-2,2.0999999999999998E-2,2.0999999999999998E-2,2.0999999999999998E-2,2.0999999999999998E-2,2.0999999999999998E-2,2.0999999999999998E-2,2.0999999999999998E-2,2.0999999999999998E-2,2.0999999999999998E-2]
[null,null,"Interest Rate Index",null,null,null,null,null,1,{"$f":"I186*(1+J181*J185)","v":1},{"$f":"J186*(1+K181*K185)","v":1},1,1,1,1,1,1,1,1,1,1,1,1,1,1,1,1,1,1,1,1,1,1,1,1,1,1,1,1,1,1,1,1,1,1,1.01725,1.0347975624999999,1.0526478204531249,1.0708059953559412,1.0892773987758313,1.1080674339047143,1.1271815971395707,1.1466254796902282,1.1678380510644975,1.1894430550091906,1.2114477515268605,1.2338595349301074,1.2566859363263143,1.2799346261483511,1.3036134167320954,1.3277302649416391,1.3539529376742365,1.3806935081933025,1.4079622049801201,1.4357694585284775,1.4641259053344149,1.4930423919647695,1.5225299792060736,1.5525999462953934,1.5852045451675965,1.6184938406161158,1.652482211269054,1.6871843377057041,1.7226152087975237,{"$f":"BV186*(1+BW181*BW185)","v":1.7587901281822715},1.7957247208740992,1.833434940012455,1.8719370737527163,1.9112477523015232,1.9513839550998551,1.9923630181569518,2.0342026415382475,2.0769208970105506,2.120536235847772,2.165067496800575,2.2105339142333866,2.2569551264322874,2.3043511840873654,2.3527425589531998,2.4021501526912168,2.4525953058977321,2.5040998073215843,2.5566859032753375,2.6103763072441195,2.6651942096962458,2.7211632880998669,2.7783077171499637,2.8366521792101125,2.8962218749735245,2.8962218749735245,2.8962218749735245,2.8962218749735245,2.8962218749735245,2.8962218749735245,2.8962218749735245,2.8962218749735245,2.8962218749735245,2.8962218749735245,2.8962218749735245,2.8962218749735245,2.8962218749735245,2.8962218749735245,2.8962218749735245,2.8962218749735245,2.8962218749735245,2.8962218749735245,2.8962218749735245,2.8962218749735245,2.8962218749735245,2.8962218749735245,2.8962218749735245,2.8962218749735245,2.8962218749735245,2.8962218749735245,2.8962218749735245,2.8962218749735245,2.8962218749735245,2.8962218749735245,2.8962218749735245,2.8962218749735245,2.8962218749735245,2.8962218749735245,2.8962218749735245,2.8962218749735245,2.8962218749735245,2.8962218749735245,2.8962218749735245,2.8962218749735245,{"$f":"EH186*(1+EI181*EI185)","v":2.8962218749735245},2.8962218749735245,2.8962218749735245,2.8962218749735245,2.8962218749735245,2.8962218749735245,2.8962218749735245,2.8962218749735245,2.8962218749735245,2.8962218749735245,2.8962218749735245,2.8962218749735245,2.8962218749735245,2.8962218749735245,2.8962218749735245,2.8962218749735245,2.8962218749735245,2.8962218749735245]
[null,null,"PV of Debt Service",null,{"$f":"SUMPRODUCT(J184:EZ184/J186:EZ186)","v":162658.0118655829},null,null,null,null,null,null,null,null,null,null,null,null,null,null,null,null,null,null,null,null,null,null,null,null,null,null,null,null,null,null,null,null,null,null,null,null,null,null,null,null,null,null,null,null,null,null,null,null,null,null,{"$f":"'Parallel Model P50'!BD276","v":1.230713730688755},{"$f":"'Parallel Model P50'!BE276","v":1.2541605650326924},{"$f":"'Parallel Model P50'!BF276","v":1.2780540946779362},{"$f":"'Parallel Model P50'!BG276","v":1.3024028298007124},{"$f":"'Parallel Model P50'!BH276","v":1.3272154427081209},{"$f":"'Parallel Model P50'!BI276","v":1.3525007709269565},{"$f":"'Parallel Model P50'!BJ276","v":1.3782678203513785},{"$f":"'Parallel Model P50'!BK276","v":1.4045257684505461},{"$f":"'Parallel Model P50'!BL276","v":1.431283967537365},{"$f":"'Parallel Model P50'!BM276","v":1.4585519480995068},{"$f":"'Parallel Model P50'!BN276","v":1.4863394221938906},{"$f":"'Parallel Model P50'!BO276","v":1.5146562869058333},{"$f":"'Parallel Model P50'!BP276","v":1.5435126278741016},{"$f":"'Parallel Model P50'!BQ276","v":1.5729187228831221},{"$f":"'Parallel Model P50'!BR276","v":1.6028850455236265},{"$f":"'Parallel Model P50'!BS276","v":1.6334222689230391},{"$f":"'Parallel Model P50'!BT276","v":1.6645412695469319},{"$f":"'Parallel Model P50'!BU276","v":1.6962531310729039},{"$f":"'Parallel Model P50'!BV276","v":1.7285691483382621},{"$f":"'Parallel Model P50'!BW276","v":1.7615008313629135},{"$f":"'Parallel Model P50'!BX276","v":1.7950599094488955},{"$f":"'Parallel Model P50'!BY276","v":1.8292583353580116},{"$f":"'Parallel Model P50'!BZ276","v":1.8641082895690553},{"$f":"'Parallel Model P50'!CA276","v":1.8996221846161396},{"$f":"'Parallel Model P50'!CB276","v":1.9358126695096791},{"$f":"'Parallel Model P50'!CC276","v":1.9726926342415971},{"$f":"'Parallel Model P50'!CD276","v":2.0102752143763643},{"$f":"'Parallel Model P50'!CE276","v":2.0485737957295012},{"$f":"'Parallel Model P50'!CF276","v":2.0876020191352151},{"$f":"'Parallel Model P50'!CG276","v":2.1273737853048664},{"$f":"'Parallel Model P50'!CH276","v":2.1679032597779946},{"$f":"'Parallel Model P50'!CI276","v":2.2092048779676685},{"$f":"'Parallel Model P50'!CJ276","v":2.2512933503019599},{"$f":"'Parallel Model P50'!CK276","v":2.2941836674633658},{"$f":"'Parallel Model P50'!CL276","v":2.3378911057280516},{"$f":"'Parallel Model P50'!CM276","v":2.3824312324068146},{"$f":"'Parallel Model P50'!CN276","v":2.4278199113897032},{"$f":"'Parallel Model P50'!CO276","v":2.4740733087962714},{"$f":"'Parallel Model P50'!CP276","v":2.5212078987334769},{"$f":"'Parallel Model P50'!CQ276","v":2.5692404691632773},{"$f":"'Parallel Model P50'!CR276","v":2.6181881278820098},{"$f":"'Parallel Model P50'!CS276","v":2.6680683086136878},{"$f":"'Parallel Model P50'!CT276","v":2.7188987772193842},{"$f":"'Parallel Model P50'!CU276","v":2.7706976380249104},{"$f":"'Parallel Model P50'!CV276","v":1},{"$f":"'Parallel Model P50'!CW276","v":1},{"$f":"'Parallel Model P50'!CX276","v":1},{"$f":"'Parallel Model P50'!CY276","v":1},{"$f":"'Parallel Model P50'!CZ276","v":1},{"$f":"'Parallel Model P50'!DA276","v":1},{"$f":"'Parallel Model P50'!DB276","v":1},{"$f":"'Parallel Model P50'!DC276","v":1},{"$f":"'Parallel Model P50'!DD276","v":1},{"$f":"'Parallel Model P50'!DE276","v":1},{"$f":"'Parallel Model P50'!DF276","v":1},{"$f":"'Parallel Model P50'!DG276","v":1},{"$f":"'Parallel Model P50'!DH276","v":1},{"$f":"'Parallel Model P50'!DI276","v":1},{"$f":"'Parallel Model P50'!DJ276","v":1},{"$f":"'Parallel Model P50'!DK276","v":1},{"$f":"'Parallel Model P50'!DL276","v":0},{"$f":"'Parallel Model P50'!DM276","v":0},{"$f":"'Parallel Model P50'!DN276","v":0},{"$f":"'Parallel Model P50'!DO276","v":0},{"$f":"'Parallel Model P50'!DP276","v":0},{"$f":"'Parallel Model P50'!DQ276","v":0},{"$f":"'Parallel Model P50'!DR276","v":0},{"$f":"'Parallel Model P50'!DS276","v":0},{"$f":"'Parallel Model P50'!DT276","v":0},{"$f":"'Parallel Model P50'!DU276","v":0},{"$f":"'Parallel Model P50'!DV276","v":0},{"$f":"'Parallel Model P50'!DW276","v":0},{"$f":"'Parallel Model P50'!DX276","v":0},{"$f":"'Parallel Model P50'!DY276","v":0},{"$f":"'Parallel Model P50'!DZ276","v":0},{"$f":"'Parallel Model P50'!EA276","v":0},{"$f":"'Parallel Model P50'!EB276","v":0},{"$f":"'Parallel Model P50'!EC276","v":0},{"$f":"'Parallel Model P50'!ED276","v":0},{"$f":"'Parallel Model P50'!EE276","v":0},{"$f":"'Parallel Model P50'!EF276","v":0},{"$f":"'Parallel Model P50'!EG276","v":0},{"$f":"'Parallel Model P50'!EH276","v":0},{"$f":"'Parallel Model P50'!EI276","v":0},{"$f":"'Parallel Model P50'!EJ276","v":0},{"$f":"'Parallel Model P50'!EK276","v":0},{"$f":"'Parallel Model P50'!EL276","v":0},{"$f":"'Parallel Model P50'!EM276","v":0},{"$f":"'Parallel Model P50'!EN276","v":0},{"$f":"'Parallel Model P50'!EO276","v":0},{"$f":"'Parallel Model P50'!EP276","v":0},{"$f":"'Parallel Model P50'!EQ276","v":0},{"$f":"'Parallel Model P50'!ER276","v":0},{"$f":"'Parallel Model P50'!ES276","v":0},{"$f":"'Parallel Model P50'!ET276","v":0},{"$f":"'Parallel Model P50'!EU276","v":0},{"$f":"'Parallel Model P50'!EV276","v":0},{"$f":"'Parallel Model P50'!EW276","v":0},{"$f":"'Parallel Model P50'!EX276","v":0},{"$f":"'Parallel Model P50'!EY276","v":0},{"$f":"'Parallel Model P50'!EZ276","v":0}]
[null,null,"PV of Debt Service from Parallel Model",null,{"$f":"'Parallel Model P50'!S175","v":162658.01182469472},null,null,null,null,{"$f":"'Parallel Model P50'!J269","v":0},{"$f":"'Parallel Model P50'!K269","v":0},{"$f":"'Parallel Model P50'!L269","v":0},{"$f":"'Parallel Model P50'!M269","v":0},{"$f":"'Parallel Model P50'!N269","v":0},{"$f":"'Parallel Model P50'!O269","v":0},{"$f":"'Parallel Model P50'!P269","v":0},{"$f":"'Parallel Model P50'!Q269","v":0},{"$f":"'Parallel Model P50'!R269","v":0},{"$f":"'Parallel Model P50'!S269","v":0},{"$f":"'Parallel Model P50'!T269","v":0},{"$f":"'Parallel Model P50'!U269","v":0},{"$f":"'Parallel Model P50'!V269","v":0},{"$f":"'Parallel Model P50'!W269","v":0},{"$f":"'Parallel Model P50'!X269","v":0},{"$f":"'Parallel Model P50'!Y269","v":0},{"$f":"'Parallel Model P50'!Z269","v":0},{"$f":"'Parallel Model P50'!AA269","v":0},{"$f":"'Parallel Model P50'!AB269","v":0},{"$f":"'Parallel Model P50'!AC269","v":0},{"$f":"'Parallel Model P50'!AD269","v":0},{"$f":"'Parallel Model P50'!AE269","v":0},{"$f":"'Parallel Model P50'!AF269","v":0},{"$f":"'Parallel Model P50'!AG269","v":0},{"$f":"'Parallel Model P50'!AH269","v":0},{"$f":"'Parallel Model P50'!AI269","v":0},{"$f":"'Parallel Model P50'!AJ269","v":0},{"$f":"'Parallel Model P50'!AK269","v":0},{"$f":"'Parallel Model P50'!AL269","v":0},{"$f":"'Parallel Model P50'!AM269","v":0},{"$f":"'Parallel Model P50'!AN269","v":0},{"$f":"'Parallel Model P50'!AO269","v":0},{"$f":"'Parallel Model P50'!AP269","v":0},{"$f":"'Parallel Model P50'!AQ269","v":0},{"$f":"'Parallel Model P50'!AR269","v":0},{"$f":"'Parallel Model P50'!AS269","v":0},{"$f":"'Parallel Model P50'!AT269","v":0},{"$f":"'Parallel Model P50'!AU269","v":4122.3585376076708},{"$f":"'Parallel Model P50'!AV269","v":4249.4781259059073},{"$f":"'Parallel Model P50'!AW269","v":4204.8057083598251},{"$f":"'Parallel Model P50'!AX269","v":4334.4676884240253},{"$f":"'Parallel Model P50'!AY269","v":4288.9018225270211},{"$f":"'Parallel Model P50'!AZ269","v":4421.1570421925053},{"$f":"'Parallel Model P50'!BA269","v":4404.8364853482908},{"$f":"'Parallel Model P50'!BB269","v":4509.5801830363562},{"$f":"'Parallel Model P50'!BC269","v":4462.1734561571147},{"$f":"'Parallel Model P50'!BD269","v":4599.7717866970825},{"$f":"'Parallel Model P50'!BE269","v":4551.4169252802558},{"$f":"'Parallel Model P50'!BF269","v":4691.7672224310245},{"$f":"'Parallel Model P50'!BG269","v":4642.4452637858631},{"$f":"'Parallel Model P50'!BH269","v":4785.6025668796474},{"$f":"'Parallel Model P50'!BI269","v":4767.9366712823612},{"$f":"'Parallel Model P50'!BJ269","v":4881.3146182172404},{"$f":"'Parallel Model P50'!BK269","v":4830.0000524428115},{"$f":"'Parallel Model P50'!BL269","v":4978.9409105815866},{"$f":"'Parallel Model P50'!BM269","v":4926.6000534916666},{"$f":"'Parallel Model P50'!BN269","v":5078.5197287932169},{"$f":"'Parallel Model P50'!BO269","v":5025.1320545615026},{"$f":"'Parallel Model P50'!BP269","v":5136.6821700633091},{"$f":"'Parallel Model P50'!BQ269","v":4961.2324677747247},{"$f":"'Parallel Model P50'!BR269","v":5073.9520578219617},{"$f":"'Parallel Model P50'!BS269","v":5021.7940690828163},{"$f":"'Parallel Model P50'!BT269","v":5140.8753289361093},{"$f":"'Parallel Model P50'!BU269","v":5087.2733802169996},{"$f":"'Parallel Model P50'!BV269","v":5208.3283575385385},{"$f":"'Parallel Model P50'!BW269","v":5153.239228552502},{"$f":"'Parallel Model P50'!BX269","v":5276.2928022890001},{"$f":"'Parallel Model P50'!BY269","v":5249.886151420531},{"$f":"'Parallel Model P50'!BZ269","v":5344.6502197361478},{"$f":"'Parallel Model P50'!CA269","v":5286.4497629807329},{"$f":"'Parallel Model P50'!CB269","v":5413.573267246441},{"$f":"'Parallel Model P50'!CC269","v":5353.7474562373791},{"$f":"'Parallel Model P50'!CD269","v":5482.9439042830918},{"$f":"'Parallel Model P50'!CE269","v":5421.4437244820538},{"$f":"'Parallel Model P50'!CF269","v":5552.7377749979423},{"$f":"'Parallel Model P50'!CG269","v":5522.217523540814},{"$f":"'Parallel Model P50'!CH269","v":5622.8220086906585},{"$f":"'Parallel Model P50'!CI269","v":5557.8178167950109},{"$f":"'Parallel Model P50'!CJ269","v":5693.378664675417},{"$f":"'Parallel Model P50'!CK269","v":5626.5433548857518},{"$f":"'Parallel Model P50'!CL269","v":5764.2749686637317},{"$f":"'Parallel Model P50'!CM269","v":5695.5529176194295},{"$f":"'Parallel Model P50'!CN269","v":5835.4793746590749},{"$f":"'Parallel Model P50'!CO269","v":5800.2139833922047},{"$f":"'Parallel Model P50'!CP269","v":5906.842691265394},{"$f":"'Parallel Model P50'!CQ269","v":5834.171007347466},{"$f":"'Parallel Model P50'!CR269","v":5978.5564253937337},{"$f":"'Parallel Model P50'!CS269","v":5903.8200599249603},{"$f":"'Parallel Model P50'!CT269","v":6050.4710989973873},{"$f":"'Parallel Model P50'!CU269","v":5973.6068872023952},{"$f":"'Parallel Model P50'!CV269","v":0},{"$f":"'Parallel Model P50'!CW269","v":0},{"$f":"'Parallel Model P50'!CX269","v":0},{"$f":"'Parallel Model P50'!CY269","v":0},{"$f":"'Parallel Model P50'!CZ269","v":0},{"$f":"'Parallel Model P50'!DA269","v":0},{"$f":"'Parallel Model P50'!DB269","v":0},{"$f":"'Parallel Model P50'!DC269","v":0},{"$f":"'Parallel Model P50'!DD269","v":0},{"$f":"'Parallel Model P50'!DE269","v":0},{"$f":"'Parallel Model P50'!DF269","v":0},{"$f":"'Parallel Model P50'!DG269","v":0},{"$f":"'Parallel Model P50'!DH269","v":0},{"$f":"'Parallel Model P50'!DI269","v":0},{"$f":"'Parallel Model P50'!DJ269","v":0},{"$f":"'Parallel Model P50'!DK269","v":0},{"$f":"'Parallel Model P50'!DL269","v":0},{"$f":"'Parallel Model P50'!DM269","v":0},{"$f":"'Parallel Model P50'!DN269","v":0},{"$f":"'Parallel Model P50'!DO269","v":0},{"$f":"'Parallel Model P50'!DP269","v":0},{"$f":"'Parallel Model P50'!DQ269","v":0},{"$f":"'Parallel Model P50'!DR269","v":0},{"$f":"'Parallel Model P50'!DS269","v":0},{"$f":"'Parallel Model P50'!DT269","v":0},{"$f":"'Parallel Model P50'!DU269","v":0},{"$f":"'Parallel Model P50'!DV269","v":0},{"$f":"'Parallel Model P50'!DW269","v":0},{"$f":"'Parallel Model P50'!DX269","v":0},{"$f":"'Parallel Model P50'!DY269","v":0},{"$f":"'Parallel Model P50'!DZ269","v":0},{"$f":"'Parallel Model P50'!EA269","v":0},{"$f":"'Parallel Model P50'!EB269","v":0},{"$f":"'Parallel Model P50'!EC269","v":0},{"$f":"'Parallel Model P50'!ED269","v":0},{"$f":"'Parallel Model P50'!EE269","v":0},{"$f":"'Parallel Model P50'!EF269","v":0},{"$f":"'Parallel Model P50'!EG269","v":0},{"$f":"'Parallel Model P50'!EH269","v":0},{"$f":"'Parallel Model P50'!EI269","v":0},{"$f":"'Parallel Model P50'!EJ269","v":0},{"$f":"'Parallel Model P50'!EK269","v":0},{"$f":"'Parallel Model P50'!EL269","v":0},{"$f":"'Parallel Model P50'!EM269","v":0},{"$f":"'Parallel Model P50'!EN269","v":0},{"$f":"'Parallel Model P50'!EO269","v":0},{"$f":"'Parallel Model P50'!EP269","v":0},{"$f":"'Parallel Model P50'!EQ269","v":0},{"$f":"'Parallel Model P50'!ER269","v":0},{"$f":"'Parallel Model P50'!ES269","v":0},{"$f":"'Parallel Model P50'!ET269","v":0},{"$f":"'Parallel Model P50'!EU269","v":0},{"$f":"'Parallel Model P50'!EV269","v":0},{"$f":"'Parallel Model P50'!EW269","v":0},{"$f":"'Parallel Model P50'!EX269","v":0},{"$f":"'Parallel Model P50'!EY269","v":0},{"$f":"'Parallel Model P50'!EZ269","v":0}]
[]
[null,"Base Debt Size - P99 Case"]
[null,null,"CFADS - P99",null,null,null,null,null,null,{"$f":"J178*J181","v":0},{"$f":"K178*K181","v":0},0,0,0,0,0,0,0,0,0,0,0,0,0,0,0,0,0,0,0,0,0,0,0,0,0,0,0,0,0,0,0,0,0,0,0,3597.6759228992451,3716.7745664299191,3669.6294413572296,3791.1100577585166,3743.0220301843747,3866.9322589136864,3847.0583620323887,3944.2709040919617,3894.2401202038254,4023.1563221737993,3972.1249226079008,4103.6194486172772,4051.5674210600596,4185.691837589623,4164.1796924607825,4269.4056743414158,4215.2507448708875,4354.7937878282446,4299.5557597683037,4441.8896635848096,4385.5468749636721,4530.7274568565063,4507.4420191384625,4621.3420059936379,4562.7229687122053,4713.7688461135112,4653.9774280864485,4808.0442230357803,{"$f":"BW178*BW181","v":4747.0569766481794},4904.2051074964984,4879.0002008508081,5002.2892096464275,4938.8380785047675,5102.3349938393567,5037.6148400748625,5204.3816937161446,5138.3671368763607,5308.4693275904683,5281.1867260473773,5414.6387141422783,5345.9571692061672,5522.9314884251235,5452.8763125902897,5633.3901181936271,5561.9338388420974,5746.0579205574995,5716.5263552387933,5860.9790789686504,5786.6359659313166,5978.1986605480233,5902.368685249945,6097.7626337589845,6020.4160589549447,0,0,0,0,0,0,0,0,0,0,0,0,0,0,0,0,0,0,0,0,0,0,0,0,0,0,0,0,0,0,0,0,0,0,0,0,0,0,0,{"$f":"EI178*EI181","v":0},0,0,0,0,0,0,0,0,0,0,0,0,0,0,0,0,0]
[null,null,"Target DSCR",null,null,null,{"$f":"F36","v":1},null,null,{"$f":"$G$192","v":1},1,1,1,1,1,1,1,1,1,1,1,1,1,1,1,1,1,1,1,1,1,1,1,1,1,1,1,1,1,1,1,{"$f":"$G$192","v":1},1,1,1,1,1,1,1,1,1,1,1,1,1,1,1,1,1,1,1,1,1,1,1,1,1,1,1,1,1,1,1,{"$f":"$G$192","v":1},1,1,1,1,1,1,1,1,1,1,1,1,1,1,1,1,1,1,1,1,1,1,1,1,1,1,1,1,1,1,1,{"$f":"$G$192","v":1},1,1,1,1,1,1,1,1,1,1,1,1,1,1,1,1,1,1,1,1,1,1,1,1,1,1,1,1,1,1,1,{"$f":"$G$192","v":1},1,1,1,1,1,1,1,1,1,1,1,1,1,1,1,1,1,1]
[null,null,"Senior Debt Service",null,null,null,null,null,null,{"$f":"J191/J192","v":0},{"$f":"K191/K192","v":0},0,0,0,0,0,0,0,0,0,0,0,0,0,0,0,0,0,0,0,0,0,0,0,0,0,0,0,0,0,0,0,0,0,0,0,3597.6759228992451,3716.7745664299191,3669.6294413572296,3791.1100577585166,3743.0220301843747,3866.9322589136864,3847.0583620323887,3944.2709040919617,3894.2401202038254,4023.1563221737993,3972.1249226079008,4103.6194486172772,4051.5674210600596,4185.691837589623,4164.1796924607825,4269.4056743414158,4215.2507448708875,4354.7937878282446,4299.5557597683037,4441.8896635848096,4385.5468749636721,4530.7274568565063,4507.4420191384625,4621.3420059936379,4562.7229687122053,4713.7688461135112,4653.9774280864485,4808.0442230357803,{"$f":"BW191/BW192","v":4747.0569766481794},4904.2051074964984,4879.0002008508081,5002.2892096464275,4938.8380785047675,5102.3349938393567,5037.6148400748625,5204.3816937161446,5138.3671368763607,5308.4693275904683,5281.1867260473773,5414.6387141422783,5345.9571692061672,5522.9314884251235,5452.8763125902897,5633.3901181936271,5561.9338388420974,5746.0579205574995,5716.5263552387933,5860.9790789686504,5786.6359659313166,5978.1986605480233,5902.368685249945,6097.7626337589845,6020.4160589549447,0,0,0,0,0,0,0,0,0,0,0,0,0,0,0,0,0,0,0,0,0,0,0,0,0,0,0,0,0,0,0,0,0,0,0,0,0,0,0,{"$f":"EI191/EI192","v":0},0,0,0,0,0,0,0,0,0,0,0,0,0,0,0,0,0]
[null,null,"Interest Rate",null,null,null,null,null,null,{"$f":"J185","v":2.6666666666666666E-3},2.6666666666666666E-3,2.6666666666666666E-3,2.6666666666666666E-3,2.6666666666666666E-3,2.6666666666666666E-3,2.6666666666666666E-3,2.6666666666666666E-3,2.6666666666666666E-3,2.6666666666666666E-3,2.6666666666666666E-3,2.6666666666666666E-3,2.6666666666666666E-3,2.6666666666666666E-3,2.6666666666666666E-3,2.6666666666666666E-3,2.6666666666666666E-3,2.6666666666666666E-3,2.6666666666666666E-3,2.6666666666666666E-3,2.6666666666666666E-3,2.6666666666666666E-3,2.6666666666666666E-3,2.6666666666666666E-3,2.6666666666666666E-3,2.6666666666666666E-3,2.6666666666666666E-3,2.6666666666666666E-3,2.6666666666666666E-3,2.6666666666666666E-3,2.6666666666666666E-3,2.6666666666666666E-3,{"$f":"AP185","v":2.6666666666666666E-3},2.6666666666666666E-3,2.6666666666666666E-3,2.6666666666666666E-3,1.7250000000000001E-2,1.7250000000000001E-2,1.7250000000000001E-2,1.7250000000000001E-2,1.7250000000000001E-2,1.7250000000000001E-2,1.7250000000000001E-2,1.7250000000000001E-2,1.8499999999999999E-2,1.8499999999999999E-2,1.8499999999999999E-2,1.8499999999999999E-2,1.8499999999999999E-2,1.8499999999999999E-2,1.8499999999999999E-2,1.8499999999999999E-2,1.9749999999999997E-2,1.9749999999999997E-2,1.9749999999999997E-2,1.9749999999999997E-2,1.9749999999999997E-2,1.9749999999999997E-2,1.9749999999999997E-2,1.9749999999999997E-2,2.0999999999999998E-2,2.0999999999999998E-2,2.0999999999999998E-2,2.0999999999999998E-2,{"$f":"BV185","v":2.0999999999999998E-2},2.0999999999999998E-2,2.0999999999999998E-2,2.0999999999999998E-2,2.0999999999999998E-2,2.0999999999999998E-2,2.0999999999999998E-2,2.0999999999999998E-2,2.0999999999999998E-2,2.0999999999999998E-2,2.0999999999999998E-2,2.0999999999999998E-2,2.0999999999999998E-2,2.0999999999999998E-2,2.0999999999999998E-2,2.0999999999999998E-2,2.0999999999999998E-2,2.0999999999999998E-2,2.0999999999999998E-2,2.0999999999999998E-2,2.0999999999999998E-2,2.0999999999999998E-2,2.0999999999999998E-2,2.0999999999999998E-2,2.0999999999999998E-2,2.0999999999999998E-2,2.0999999999999998E-2,2.0999999999999998E-2,2.0999999999999998E-2,2.0999999999999998E-2,2.0999999999999998E-2,2.0999999999999998E-2,{"$f":"DB185","v":2.0999999999999998E-2},2.0999999999999998E-2,2.0999999999999998E-2,2.0999999999999998E-2,2.0999999999999998E-2,2.0999999999999998E-2,2.0999999999999998E-2,2.0999999999999998E-2,2.0999999999999998E-2,2.0999999999999998E-2,2.0999999999999998E-2,2.0999999999999998E-2,2.0999999999999998E-2,2.0999999999999998E-2,2.0999999999999998E-2,2.0999999999999998E-2,2.0999999999999998E-2,2.0999999999999998E-2,2.0999999999999998E-2,2.0999999999999998E-2,2.0999999999999998E-2,2.0999999999999998E-2,2.0999999999999998E-2,2.0999999999999998E-2,2.0999999999999998E-2,2.0999999999999998E-2,2.0999999999999998E-2,2.0999999999999998E-2,2.0999999999999998E-2,2.0999999999999998E-2,2.0999999999999998E-2,2.0999999999999998E-2,{"$f":"EH185","v":2.0999999999999998E-2},2.0999999999999998E-2,2.0999999999999998E-2,2.0999999999999998E-2,2.0999999999999998E-2,2.0999999999999998E-2,2.0999999999999998E-2,2.0999999999999998E-2,2.0999999999999998E-2,2.0999999999999998E-2,2.0999999999999998E-2,2.0999999999999998E-2,2.0999999999999998E-2,2.0999999999999998E-2,2.0999999999999998E-2,2.0999999999999998E-2,2.0999999999999998E-2,2.0999999999999998E-2,2.0999999999999998E-2]
[null,null,"Interest Rate Index",null,null,null,null,null,1,{"$f":"I195*(1+J194*J181)","v":1},{"$f":"J195*(1+K194*K181)","v":1},1,1,1,1,1,1,1,1,1,1,1,1,1,1,1,1,1,1,1,1,1,1,1,1,1,1,1,1,1,1,1,1,1,1,1.01725,1.0347975624999999,1.0526478204531249,1.0708059953559412,1.0892773987758313,1.1080674339047143,1.1271815971395707,1.1466254796902282,1.1678380510644975,1.1894430550091906,1.2114477515268605,1.2338595349301074,1.2566859363263143,1.2799346261483511,1.3036134167320954,1.3277302649416391,1.3539529376742365,1.3806935081933025,1.4079622049801201,1.4357694585284775,1.4641259053344149,1.4930423919647695,1.5225299792060736,1.5525999462953934,1.5852045451675965,1.6184938406161158,1.652482211269054,1.6871843377057041,1.7226152087975237,{"$f":"BV195*(1+BW194*BW181)","v":1.7587901281822715},1.7957247208740992,1.833434940012455,1.8719370737527163,1.9112477523015232,1.9513839550998551,1.9923630181569518,2.0342026415382475,2.0769208970105506,2.120536235847772,2.165067496800575,2.2105339142333866,2.2569551264322874,2.3043511840873654,2.3527425589531998,2.4021501526912168,2.4525953058977321,2.5040998073215843,2.5566859032753375,2.6103763072441195,2.6651942096962458,2.7211632880998669,2.7783077171499637,2.8366521792101125,2.8962218749735245,2.8962218749735245,2.8962218749735245,2.8962218749735245,2.8962218749735245,2.8962218749735245,2.8962218749735245,2.8962218749735245,2.8962218749735245,2.8962218749735245,2.8962218749735245,2.8962218749735245,2.8962218749735245,2.8962218749735245,2.8962218749735245,2.8962218749735245,2.8962218749735245,2.8962218749735245,2.8962218749735245,2.8962218749735245,2.8962218749735245,2.8962218749735245,2.8962218749735245,2.8962218749735245,2.8962218749735245,2.8962218749735245,2.8962218749735245,2.8962218749735245,2.8962218749735245,2.8962218749735245,2.8962218749735245,2.8962218749735245,2.8962218749735245,2.8962218749735245,2.8962218749735245,2.8962218749735245,2.8962218749735245,2.8962218749735245,2.8962218749735245,2.8962218749735245,{"$f":"EH195*(1+EI194*EI181)","v":2.8962218749735245},2.8962218749735245,2.8962218749735245,2.8962218749735245,2.8962218749735245,2.8962218749735245,2.8962218749735245,2.8962218749735245,2.8962218749735245,2.8962218749735245,2.8962218749735245,2.8962218749735245,2.8962218749735245,2.8962218749735245,2.8962218749735245,2.8962218749735245,2.8962218749735245,2.8962218749735245]
[null,null,"PV of Debt Service",null,{"$f":"IF(SUMPRODUCT(J193:EZ193/J195:EZ195)>0,SUMPRODUCT(J193:EZ193/J195:EZ195))","v":148436.82908067355}]
[null,null,"PV of Debt Service from Parallel Model",null,{"$f":"'Parallel Model P99'!S175","v":148436.82908067355}]
[]
[null,null,"Total Project Cost",null,{"$f":"I143","v":225475.96247212787}]
[null,null,"Debt Size from Debt to Capital",null,{"$f":"I143*F200","v":200673.6066001938},{"$f":"F39","v":0.89}]
[]
[null,null,"Debt Applied",null,{"$f":"MIN(E200,E196,E187)","v":148436.82908067355}]
[null,null,"Minimum of P50 or P99",null,{"$f":"MIN(E187,E196)","v":148436.82908067355}]
[null,null,"P50 Applied",null,{"$f":"E203=E187","v":false}]
[null,null,"P99 Applied",null,{"$f":"NOT(E204)","v":true}]
[null,null,"Cash Flow for Debt Size",null,{"$f":"IF(E204,C204,C205)","v":"P99 Applied"}]
[null,null,"Debt Sizing Method",null,{"$f":"IF(E202=E200,\"Max Debt to Cap\",\"DSCR\")","v":"DSCR"}]
[]
[null,"Sculpting with Total/Mezzanine Debt"]
[null,null,"Repayment Switch",null,null,{"$f":"F13","v":36},{"$f":"F63+F13","v":54},null,null,{"$f":"AND(J1>$F$210,J1<=$G$210)","v":false},false,false,false,false,false,false,false,false,false,false,false,false,false,false,false,false,false,false,false,false,false,false,false,false,false,false,false,false,false,false,false,{"$f":"AND(AP1>$F$210,AP1<=$G$210)","v":false},false,false,false,true,true,true,true,true,true,true,true,true,true,true,true,true,true,true,true,true,true,false,false,false,false,false,false,false,false,false,false,{"$f":"AND(BV1>$F$210,BV1<=$G$210)","v":false},false,false,false,false,false,false,false,false,false,false,false,false,false,false,false,false,false,false,false,false,false,false,false,false,false,false,false,false,false,false,false,{"$f":"AND(DB1>$F$210,DB1<=$G$210)","v":false},false,false,false,false,false,false,false,false,false,false,false,false,false,false,false,false,false,false,false,false,false,false,false,false,false,false,false,false,false,false,false,{"$f":"AND(EH1>$F$210,EH1<=$G$210)","v":false},false,false,false,false,false,false,false,false,false,false,false,false,false,false,false,false,false,false]
[null,null,"CFADS",null,null,null,null,null,null,{"$f":"J411","v":0},0,0,0,0,0,0,0,0,0,0,0,0,0,0,0,0,0,0,0,0,0,0,0,0,0,0,0,0,0,0,0,{"$f":"AP411","v":0},0,0,0,0,5565.1840271663941,5736.7954714120624,5676.4877077097226,5851.5313808403025,5790.0174618639167,5968.5620084571083,5946.5292567118922,6087.933248626252,6023.9341673232211,6209.6919135987755,6144.4128506696843,6333.8857518707518,6267.3011076830808,6460.5634669081692,6436.7145078458507,6589.7747362463333,6520.5000724334768,6569.7827464988104,6450.8856010034178,6605.3502426539262,6540.1150016872425,6697.1503060374225,6667.7644454324436,6819.8353289301476,6750.8923127600146,6913.1816511130555,6842.2398162599475,{"$f":"BV411","v":7007.1419638949283},6934.1350223324534,7101.6753712375676,7067.3238383899707,7196.5747231523483,7119.2254112727223,7292.1122497081369,7212.4837779776062,7388.0808039225376,7306.0965149637595,7484.4262054302899,7444.158181447764,7580.9138945182794,7493.972768853766,7677.8277692832689,7588.2831283525747,7774.9323774899703,7682.6954525626425,7872.1573662900246,7824.9271583506143,7969.2366376018117,7871.3313591604392,8066.4647708387474,7965.5801979514736,8163.5736440198507,8059.6068505206222,8260.4732812439215,8232.4770253420211,8412.1541891238576,8330.8327691513514,8566.8687151615886,8483.9208667897328,{"$f":"DB411","v":8724.6775317202755},0,0,0,0,0,0,0,0,0,0,0,0,0,0,0,0,0,0,0,0,0,0,0,0,0,0,0,0,0,0,0,{"$f":"EH411","v":0},0,0,0,0,0,0,0,0,0,0,0,0,0,0,0,0,0,0]
[null,null,"Target Total Debt Service",null,null,null,{"$f":"F60","v":1.2},null,null,{"$f":"(J211/$G$212)*J210","v":0},0,0,0,0,0,0,0,0,0,0,0,0,0,0,0,0,0,0,0,0,0,0,0,0,0,0,0,0,0,0,0,{"$f":"(AP211/$G$212)*AP210","v":0},0,0,0,0,4637.6533559719956,4780.6628928433856,4730.4064230914355,4876.2761507002524,4825.014551553264,4973.801673714257,4955.4410472599102,5073.2777071885439,5019.9451394360176,5174.7432613323135,5120.3440422247368,5278.2381265589602,5222.750923069234,5383.8028890901414,5363.9287565382092,5491.4789468719446,5433.7500603612307,0,0,0,0,0,0,0,0,0,0,{"$f":"(BV211/$G$212)*BV210","v":0},0,0,0,0,0,0,0,0,0,0,0,0,0,0,0,0,0,0,0,0,0,0,0,0,0,0,0,0,0,0,0,{"$f":"(DB211/$G$212)*DB210","v":0},0,0,0,0,0,0,0,0,0,0,0,0,0,0,0,0,0,0,0,0,0,0,0,0,0,0,0,0,0,0,0,{"$f":"(EH211/$G$212)*EH210","v":0},0,0,0,0,0,0,0,0,0,0,0,0,0,0,0,0,0,0]
[null,null,"Other Debt Service",null,null,null,null,null,null,{"$f":"J184","v":0},0,0,0,0,0,0,0,0,0,0,0,0,0,0,0,0,0,0,0,0,0,0,0,0,0,0,0,0,0,0,0,{"$f":"AP184","v":0},0,0,0,0,4122.3585386417735,4249.4781269718978,4204.8057094146088,4334.4676895113353,4288.9018236029005,4421.1570433015613,4404.8364864532532,4509.5801841675939,4462.1734572764599,4599.7717878509447,4551.4169264219881,4691.7672236079643,4642.4452649504301,4785.6025680801249,4767.9366724784077,4881.3146194417277,4830.0000536544267,4978.9409118305648,4926.6000547275144,5078.5197300671744,5025.1320558220668,5136.6821713518557,4961.23246901926,5073.9520590947723,5021.7940703425429,5140.8753302257082,5087.2733814931526,{"$f":"BV184","v":5208.3283588450577},5153.2392298452023,5276.2928036125686,5249.8861527374747,5344.650221076864,5286.4497643068489,5413.5732686044466,5353.7474575803781,5482.9439056584988,5421.4437258420339,5552.737776390858,5522.2175249260736,5622.8220101011548,5557.8178181892008,5693.378666103612,5626.5433562971812,5764.2749701097118,5695.5529190481711,5835.4793761229175,5800.2139848472007,5906.8426927471373,5834.1710088109794,5978.5564268934668,5903.820061405946,6050.4711005151603,5973.6068887008869,0,0,0,0,0,0,{"$f":"DB184","v":0},0,0,0,0,0,0,0,0,0,0,0,0,0,0,0,0,0,0,0,0,0,0,0,0,0,0,0,0,0,0,0,{"$f":"EH184","v":0},0,0,0,0,0,0,0,0,0,0,0,0,0,0,0,0,0,0]
[null,null,"Debt Service to Mezzanine",null,null,null,null,null,null,{"$f":"J212-J213","v":0},{"$f":"K212-K213","v":0},0,0,0,0,0,0,0,0,0,0,0,0,0,0,0,0,0,0,0,0,0,0,0,{"$f":"AI212-AI213","v":0},0,0,0,0,0,0,0,0,0,0,0,515.29481733022203,531.1847658714878,525.60071367682667,541.80846118891714,536.11272795036348,552.64463041269573,550.60456080665699,563.69752302095003,557.77168215955771,574.97147348136878,568.92711580274863,586.47090295099588,580.30565811880388,598.20032101001652,595.99208405980153,610.16432743021687,603.75000670680402,-4978.9409118305648,-4926.6000547275144,-5078.5197300671744,-5025.1320558220668,-5136.6821713518557,-4961.23246901926,-5073.9520590947723,-5021.7940703425429,-5140.8753302257082,-5087.2733814931526,-5208.3283588450577,-5153.2392298452023,-5276.2928036125686,-5249.8861527374747,-5344.650221076864,-5286.4497643068489,-5413.5732686044466,-5353.7474575803781,-5482.9439056584988,-5421.4437258420339,-5552.737776390858,-5522.2175249260736,-5622.8220101011548,-5557.8178181892008,-5693.378666103612,-5626.5433562971812,-5764.2749701097118,-5695.5529190481711,-5835.4793761229175,-5800.2139848472007,-5906.8426927471373,-5834.1710088109794,-5978.5564268934668,-5903.820061405946,-6050.4711005151603,{"$f":"CU212-CU213","v":-5973.6068887008869},0,0,0,0,0,0,0,0,0,0,0,0,0,0,0,0,0,0,0,0,0,0,0,0,0,0,0,0,0,0,0,0,0,0,0,0,0,0,0,0,0,0,0,0,0,0,0,0,0,0,0,0,0,0,0,0,0]
[null,null,"Interest Rate",null,null,null,{"$f":"F84","v":3.5000000000000003E-2},null,null,{"$f":"$G$215/12*J3","v":2.9166666666666668E-3},2.9166666666666668E-3,2.9166666666666668E-3,2.9166666666666668E-3,2.9166666666666668E-3,2.9166666666666668E-3,2.9166666666666668E-3,2.9166666666666668E-3,2.9166666666666668E-3,2.9166666666666668E-3,2.9166666666666668E-3,2.9166666666666668E-3,2.9166666666666668E-3,2.9166666666666668E-3,2.9166666666666668E-3,2.9166666666666668E-3,2.9166666666666668E-3,2.9166666666666668E-3,2.9166666666666668E-3,2.9166666666666668E-3,2.9166666666666668E-3,2.9166666666666668E-3,2.9166666666666668E-3,2.9166666666666668E-3,2.9166666666666668E-3,2.9166666666666668E-3,2.9166666666666668E-3,2.9166666666666668E-3,2.9166666666666668E-3,2.9166666666666668E-3,2.9166666666666668E-3,2.9166666666666668E-3,{"$f":"$G$215/12*AP3","v":2.9166666666666668E-3},2.9166666666666668E-3,2.9166666666666668E-3,2.9166666666666668E-3,1.7500000000000002E-2,1.7500000000000002E-2,1.7500000000000002E-2,1.7500000000000002E-2,1.7500000000000002E-2,1.7500000000000002E-2,1.7500000000000002E-2,1.7500000000000002E-2,1.7500000000000002E-2,1.7500000000000002E-2,1.7500000000000002E-2,1.7500000000000002E-2,1.7500000000000002E-2,1.7500000000000002E-2,1.7500000000000002E-2,1.7500000000000002E-2,1.7500000000000002E-2,1.7500000000000002E-2,1.7500000000000002E-2,1.7500000000000002E-2,1.7500000000000002E-2,1.7500000000000002E-2,1.7500000000000002E-2,1.7500000000000002E-2,1.7500000000000002E-2,1.7500000000000002E-2,1.7500000000000002E-2,1.7500000000000002E-2,{"$f":"$G$215/12*BV3","v":1.7500000000000002E-2},1.7500000000000002E-2,1.7500000000000002E-2,1.7500000000000002E-2,1.7500000000000002E-2,1.7500000000000002E-2,1.7500000000000002E-2,1.7500000000000002E-2,1.7500000000000002E-2,1.7500000000000002E-2,1.7500000000000002E-2,1.7500000000000002E-2,1.7500000000000002E-2,1.7500000000000002E-2,1.7500000000000002E-2,1.7500000000000002E-2,1.7500000000000002E-2,1.7500000000000002E-2,1.7500000000000002E-2,1.7500000000000002E-2,1.7500000000000002E-2,1.7500000000000002E-2,1.7500000000000002E-2,1.7500000000000002E-2,1.7500000000000002E-2,1.7500000000000002E-2,1.7500000000000002E-2,1.7500000000000002E-2,1.7500000000000002E-2,1.7500000000000002E-2,1.7500000000000002E-2,1.7500000000000002E-2,{"$f":"$G$215/12*DB3","v":1.7500000000000002E-2},1.7500000000000002E-2,1.7500000000000002E-2,1.7500000000000002E-2,1.7500000000000002E-2,1.7500000000000002E-2,1.7500000000000002E-2,1.7500000000000002E-2,1.7500000000000002E-2,1.7500000000000002E-2,1.7500000000000002E-2,1.7500000000000002E-2,1.7500000000000002E-2,1.7500000000000002E-2,1.7500000000000002E-2,1.7500000000000002E-2,1.7500000000000002E-2,1.7500000000000002E-2,1.7500000000000002E-2,1.7500000000000002E-2,1.7500000000000002E-2,1.7500000000000002E-2,1.7500000000000002E-2,1.7500000000000002E-2,1.7500000000000002E-2,1.7500000000000002E-2,1.7500000000000002E-2,1.7500000000000002E-2,1.7500000000000002E-2,1.7500000000000002E-2,1.7500000000000002E-2,1.7500000000000002E-2,{"$f":"$G$215/12*EH3","v":1.7500000000000002E-2},1.7500000000000002E-2,1.7500000000000002E-2,1.7500000000000002E-2,1.7500000000000002E-2,1.7500000000000002E-2,1.7500000000000002E-2,1.7500000000000002E-2,1.7500000000000002E-2,1.7500000000000002E-2,1.7500000000000002E-2,1.7500000000000002E-2,1.7500000000000002E-2,1.7500000000000002E-2,1.7500000000000002E-2,1.7500000000000002E-2,1.7500000000000002E-2,1.7500000000000002E-2,1.7500000000000002E-2]
[null,null,"Compound Interest",null,null,null,null,null,1,{"$f":"I216*(1+J215*J210)","v":1},{"$f":"J216*(1+K215*K210)","v":1},1,1,1,1,1,1,1,1,1,1,1,1,1,1,1,1,1,1,1,1,1,1,1,{"$f":"AH216*(1+AI215*AI210)","v":1},{"$f":"AI216*(1+AJ215*AJ210)","v":1},{"$f":"AJ216*(1+AK215*AK210)","v":1},{"$f":"AK216*(1+AL215*AL210)","v":1},{"$f":"AL216*(1+AM215*AM210)","v":1},{"$f":"AM216*(1+AN215*AN210)","v":1},{"$f":"AN216*(1+AO215*AO210)","v":1},{"$f":"AO216*(1+AP215*AP210)","v":1},{"$f":"AP216*(1+AQ215*AQ210)","v":1},{"$f":"AQ216*(1+AR215*AR210)","v":1},{"$f":"AR216*(1+AS215*AS210)","v":1},{"$f":"AS216*(1+AT215*AT210)","v":1.0175000000000001},{"$f":"AT216*(1+AU215*AU210)","v":1.0353062500000001},{"$f":"AU216*(1+AV215*AV210)","v":1.0534241093750001},{"$f":"AV216*(1+AW215*AW210)","v":1.0718590312890626},{"$f":"AW216*(1+AX215*AX210)","v":1.0906165643366212},{"$f":"AX216*(1+AY215*AY210)","v":1.1097023542125122},{"$f":"AY216*(1+AZ215*AZ210)","v":1.1291221454112312},{"$f":"AZ216*(1+BA215*BA210)","v":1.1488817829559279},{"$f":"BA216*(1+BB215*BB210)","v":1.1689872141576567},{"$f":"BB216*(1+BC215*BC210)","v":1.1894444904054158},{"$f":"BC216*(1+BD215*BD210)","v":1.2102597689875105},{"$f":"BD216*(1+BE215*BE210)","v":1.231439314944792},{"$f":"BE216*(1+BF215*BF210)","v":1.2529895029563258},{"$f":"BF216*(1+BG215*BG210)","v":1.2749168192580616},{"$f":"BG216*(1+BH215*BH210)","v":1.2972278635950778},{"$f":"BH216*(1+BI215*BI210)","v":1.3199293512079917},{"$f":"BI216*(1+BJ215*BJ210)","v":1.3430281148541316},{"$f":"BJ216*(1+BK215*BK210)","v":1.3665311068640791},{"$f":"BK216*(1+BL215*BL210)","v":1.3665311068640791},{"$f":"BL216*(1+BM215*BM210)","v":1.3665311068640791},{"$f":"BM216*(1+BN215*BN210)","v":1.3665311068640791},{"$f":"BN216*(1+BO215*BO210)","v":1.3665311068640791},{"$f":"BO216*(1+BP215*BP210)","v":1.3665311068640791},{"$f":"BP216*(1+BQ215*BQ210)","v":1.3665311068640791},{"$f":"BQ216*(1+BR215*BR210)","v":1.3665311068640791},{"$f":"BR216*(1+BS215*BS210)","v":1.3665311068640791},{"$f":"BS216*(1+BT215*BT210)","v":1.3665311068640791},{"$f":"BT216*(1+BU215*BU210)","v":1.3665311068640791},{"$f":"BU216*(1+BV215*BV210)","v":1.3665311068640791},{"$f":"BV216*(1+BW215*BW210)","v":1.3665311068640791},{"$f":"BW216*(1+BX215*BX210)","v":1.3665311068640791},{"$f":"BX216*(1+BY215*BY210)","v":1.3665311068640791},{"$f":"BY216*(1+BZ215*BZ210)","v":1.3665311068640791},{"$f":"BZ216*(1+CA215*CA210)","v":1.3665311068640791},{"$f":"CA216*(1+CB215*CB210)","v":1.3665311068640791},{"$f":"CB216*(1+CC215*CC210)","v":1.3665311068640791},{"$f":"CC216*(1+CD215*CD210)","v":1.3665311068640791},{"$f":"CD216*(1+CE215*CE210)","v":1.3665311068640791},{"$f":"CE216*(1+CF215*CF210)","v":1.3665311068640791},{"$f":"CF216*(1+CG215*CG210)","v":1.3665311068640791},{"$f":"CG216*(1+CH215*CH210)","v":1.3665311068640791},{"$f":"CH216*(1+CI215*CI210)","v":1.3665311068640791},{"$f":"CI216*(1+CJ215*CJ210)","v":1.3665311068640791},{"$f":"CJ216*(1+CK215*CK210)","v":1.3665311068640791},{"$f":"CK216*(1+CL215*CL210)","v":1.3665311068640791},{"$f":"CL216*(1+CM215*CM210)","v":1.3665311068640791},{"$f":"CM216*(1+CN215*CN210)","v":1.3665311068640791},{"$f":"CN216*(1+CO215*CO210)","v":1.3665311068640791},{"$f":"CO216*(1+CP215*CP210)","v":1.3665311068640791},{"$f":"CP216*(1+CQ215*CQ210)","v":1.3665311068640791},{"$f":"CQ216*(1+CR215*CR210)","v":1.3665311068640791},{"$f":"CR216*(1+CS215*CS210)","v":1.3665311068640791},{"$f":"CS216*(1+CT215*CT210)","v":1.3665311068640791},{"$f":"CT216*(1+CU215*CU210)","v":1.3665311068640791},{"$f":"CU216*(1+CV215*CV210)","v":1.3665311068640791},{"$f":"CV216*(1+CW215*CW210)","v":1.3665311068640791},{"$f":"CW216*(1+CX215*CX210)","v":1.3665311068640791},{"$f":"CX216*(1+CY215*CY210)","v":1.3665311068640791},{"$f":"CY216*(1+CZ215*CZ210)","v":1.3665311068640791},{"$f":"CZ216*(1+DA215*DA210)","v":1.3665311068640791},{"$f":"DA216*(1+DB215*DB210)","v":1.3665311068640791},{"$f":"DB216*(1+DC215*DC210)","v":1.3665311068640791},{"$f":"DC216*(1+DD215*DD210)","v":1.3665311068640791},{"$f":"DD216*(1+DE215*DE210)","v":1.3665311068640791},{"$f":"DE216*(1+DF215*DF210)","v":1.3665311068640791},{"$f":"DF216*(1+DG215*DG210)","v":1.3665311068640791},{"$f":"DG216*(1+DH215*DH210)","v":1.3665311068640791},{"$f":"DH216*(1+DI215*DI210)","v":1.3665311068640791},{"$f":"DI216*(1+DJ215*DJ210)","v":1.3665311068640791},{"$f":"DJ216*(1+DK215*DK210)","v":1.3665311068640791},{"$f":"DK216*(1+DL215*DL210)","v":1.3665311068640791},{"$f":"DL216*(1+DM215*DM210)","v":1.3665311068640791},{"$f":"DM216*(1+DN215*DN210)","v":1.3665311068640791},{"$f":"DN216*(1+DO215*DO210)","v":1.3665311068640791},{"$f":"DO216*(1+DP215*DP210)","v":1.3665311068640791},{"$f":"DP216*(1+DQ215*DQ210)","v":1.3665311068640791},{"$f":"DQ216*(1+DR215*DR210)","v":1.3665311068640791},{"$f":"DR216*(1+DS215*DS210)","v":1.3665311068640791},{"$f":"DS216*(1+DT215*DT210)","v":1.3665311068640791},{"$f":"DT216*(1+DU215*DU210)","v":1.3665311068640791},{"$f":"DU216*(1+DV215*DV210)","v":1.3665311068640791},{"$f":"DV216*(1+DW215*DW210)","v":1.3665311068640791},{"$f":"DW216*(1+DX215*DX210)","v":1.3665311068640791},{"$f":"DX216*(1+DY215*DY210)","v":1.3665311068640791},{"$f":"DY216*(1+DZ215*DZ210)","v":1.3665311068640791},{"$f":"DZ216*(1+EA215*EA210)","v":1.3665311068640791},{"$f":"EA216*(1+EB215*EB210)","v":1.3665311068640791},{"$f":"EB216*(1+EC215*EC210)","v":1.3665311068640791},{"$f":"EC216*(1+ED215*ED210)","v":1.3665311068640791},{"$f":"ED216*(1+EE215*EE210)","v":1.3665311068640791},{"$f":"EE216*(1+EF215*EF210)","v":1.3665311068640791},{"$f":"EF216*(1+EG215*EG210)","v":1.3665311068640791},{"$f":"EG216*(1+EH215*EH210)","v":1.3665311068640791},{"$f":"EH216*(1+EI215*EI210)","v":1.3665311068640791},{"$f":"EI216*(1+EJ215*EJ210)","v":1.3665311068640791},{"$f":"EJ216*(1+EK215*EK210)","v":1.3665311068640791},{"$f":"EK216*(1+EL215*EL210)","v":1.3665311068640791},{"$f":"EL216*(1+EM215*EM210)","v":1.3665311068640791},{"$f":"EM216*(1+EN215*EN210)","v":1.3665311068640791},{"$f":"EN216*(1+EO215*EO210)","v":1.3665311068640791},{"$f":"EO216*(1+EP215*EP210)","v":1.3665311068640791},{"$f":"EP216*(1+EQ215*EQ210)","v":1.3665311068640791},{"$f":"EQ216*(1+ER215*ER210)","v":1.3665311068640791},{"$f":"ER216*(1+ES215*ES210)","v":1.3665311068640791},{"$f":"ES216*(1+ET215*ET210)","v":1.3665311068640791},{"$f":"ET216*(1+EU215*EU210)","v":1.3665311068640791},{"$f":"EU216*(1+EV215*EV210)","v":1.3665311068640791},{"$f":"EV216*(1+EW215*EW210)","v":1.3665311068640791},{"$f":"EW216*(1+EX215*EX210)","v":1.3665311068640791},{"$f":"EX216*(1+EY215*EY210)","v":1.3665311068640791},{"$f":"EY216*(1+EZ215*EZ210)","v":1.3665311068640791}]
[null,null,"PV of Mezzinine Debt Service",null,{"$f":"SUMPRODUCT(J214:AH214/J216:AH216)","v":0}]
[]
["Re-Finance Debt Sizing"]
[null,"CFADS Applied for Re-financing",null,null,null,null,{"$f":"F19","v":true},null,null,{"$f":"IF($G$220,J177,J178)","v":0},0,0,0,0,0,0,0,0,0,0,0,0,0,0,0,0,0,0,0,0,0,0,0,0,0,0,0,0,0,0,0,{"$f":"IF($G$220,AP177,AP178)","v":0},0,0,0,0,5565.1840271663941,5736.7954714120624,5676.4877077097226,5851.5313808403025,5790.0174618639167,5968.5620084571083,5946.5292567118922,6087.933248626252,6023.9341673232211,6209.6919135987755,6144.4128506696843,6333.8857518707518,6267.3011076830808,6460.5634669081692,6436.7145078458507,6589.7747362463333,6520.5000724334768,6721.5702309712624,6650.9100738821444,6856.0016355906855,6783.9282753597909,6934.5209313250061,6697.6638331760014,6849.8352797779435,6779.4219949624339,6940.1816958047066,6867.8190650157567,{"$f":"IF($G$220,BV177,BV178)","v":7031.2432844408286},6956.8729602910234,7122.9952848769681,7087.3463061955918,7215.277798453767,7136.7071818142467,7308.3239126160033,7227.5590677335103,7401.9742726389741,7318.9490298867458,7496.1959981276586,7454.9936586501999,7590.8097136365595,7503.0540545554213,7686.0611992398772,7595.8335310011953,7781.7712096481109,7688.996440715031,7877.8971577659386,7830.2888795437211,7974.2376352086358,7876.1308618948224,8071.0511763061804,7970.1570828980275,8168.1359856954668,8064.3692997461976,8265.4379130573579,8237.4416571604215,8417.1188209473239,8335.7974009799909,8571.8333469955105,8488.8854986290462,{"$f":"IF($G$220,DB177,DB178)","v":8729.642163565095},0,0,0,0,0,0,0,0,0,0,0,0,0,0,0,0,0,0,0,0,0,0,0,0,0,0,0,0,0,0,0,{"$f":"IF($G$220,EH177,EH178)","v":0},0,0,0,0,0,0,0,0,0,0,0,0,0,0,0,0,0,0]
[]
[null,"Sculpting Switch - Re-financing 1",null,null,{"$f":"F75","v":36},{"$f":"F77","v":"2058-01-01"},{"$f":"F93","v":"2056-01-01"},null,null,{"$f":"AND(J4>$F$222,J4<$G$222)","v":false},false,false,false,false,false,false,false,false,false,false,false,false,false,false,false,false,false,false,false,false,false,false,false,false,false,false,false,false,false,false,false,{"$f":"AND(AP4>$F$222,AP4<$G$222)","v":false},false,false,false,false,false,false,false,false,false,false,false,false,false,false,false,false,false,false,false,false,false,false,false,false,false,false,false,false,false,false,false,{"$f":"AND(BV4>$F$222,BV4<$G$222)","v":false},false,false,false,false,false,false,false,false,false,false,false,false,false,false,false,false,false,false,false,false,false,false,false,false,false,false,false,false,false,false,false,{"$f":"AND(DB4>$F$222,DB4<$G$222)","v":false},false,false,false,false,false,false,false,false,false,false,false,false,false,false,false,false,false,false,false,false,false,false,false,false,false,false,false,false,false,false,false,{"$f":"AND(EH4>$F$222,EH4<$G$222)","v":false},false,false,false,false,false,false,false,false,false,false,false,false,false,false,false,false,false,false]
[null,null,"CFADS",null,null,null,null,null,null,{"$f":"J220*J222","v":0},{"$f":"K220*K222","v":0},0,0,0,0,0,0,0,0,0,0,0,0,0,0,0,0,0,0,0,0,0,0,0,0,0,0,0,0,0,0,0,0,0,0,0,0,0,0,0,0,0,0,0,0,0,0,0,0,0,0,0,0,0,0,0,0,0,0,0,0,0,0,0,{"$f":"BW220*BW222","v":0},0,0,0,0,0,0,0,0,0,0,0,0,0,0,0,0,0,0,0,0,0,0,0,0,0,0,0,0,0,0,0,0,0,0,0,0,0,0,0,0,0,0,0,0,0,0,0,0,0,0,0,0,0,0,0,0,0,0,0,0,0,0,0,{"$f":"EI220*EI222","v":0},0,0,0,0,0,0,0,0,0,0,0,0,0,0,0,0,0]
[null,null,"Target DSCR",null,null,null,{"$f":"F78","v":1.25},null,null,{"$f":"$G$224","v":1.25},1.25,1.25,1.25,1.25,1.25,1.25,1.25,1.25,1.25,1.25,1.25,1.25,1.25,1.25,1.25,1.25,1.25,1.25,1.25,1.25,1.25,1.25,1.25,1.25,1.25,1.25,1.25,1.25,1.25,1.25,1.25,{"$f":"$G$224","v":1.25},1.25,1.25,1.25,1.25,1.25,1.25,1.25,1.25,1.25,1.25,1.25,1.25,1.25,1.25,1.25,1.25,1.25,1.25,1.25,1.25,1.25,1.25,1.25,1.25,1.25,1.25,1.25,1.25,1.25,1.25,1.25,{"$f":"$G$224","v":1.25},1.25,1.25,1.25,1.25,1.25,1.25,1.25,1.25,1.25,1.25,1.25,1.25,1.25,1.25,1.25,1.25,1.25,1.25,1.25,1.25,1.25,1.25,1.25,1.25,1.25,1.25,1.25,1.25,1.25,1.25,1.25,{"$f":"$G$224","v":1.25},1.25,1.25,1.25,1.25,1.25,1.25,1.25,1.25,1.25,1.25,1.25,1.25,1.25,1.25,1.25,1.25,1.25,1.25,1.25,1.25,1.25,1.25,1.25,1.25,1.25,1.25,1.25,1.25,1.25,1.25,1.25,{"$f":"$G$224","v":1.25},1.25,1.25,1.25,1.25,1.25,1.25,1.25,1.25,1.25,1.25,1.25,1.25,1.25,1.25,1.25,1.25,1.25,1.25]
[null,null,"Target Debt Service",null,null,null,null,null,null,{"$f":"J223/J224","v":0},{"$f":"K223/K224","v":0},0,0,0,0,0,0,0,0,0,0,0,0,0,0,0,0,0,0,0,0,0,0,0,{"$f":"AI223/AI224","v":0},0,0,0,0,0,0,0,0,0,0,0,0,0,0,0,0,0,0,0,0,0,0,0,0,0,0,0,0,0,0,0,0,0,0,0,0,0,0,0,0,0,0,0,0,0,0,0,0,0,0,0,0,0,0,0,0,0,0,0,0,0,0,0,{"$f":"CU223/CU224","v":0},0,0,0,0,0,0,0,0,0,0,0,0,0,0,0,0,0,0,0,0,0,0,0,0,0,0,0,0,0,0,0,0,0,0,0,0,0,0,0,0,0,0,0,0,0,0,0,0,0,0,0,0,0,0,0,0,0]
[null,null,"Interest Rate",null,null,null,{"$f":"F84","v":3.5000000000000003E-2},null,null,{"$f":"$G$226/12*J3","v":2.9166666666666668E-3},2.9166666666666668E-3,2.9166666666666668E-3,2.9166666666666668E-3,2.9166666666666668E-3,2.9166666666666668E-3,2.9166666666666668E-3,2.9166666666666668E-3,2.9166666666666668E-3,2.9166666666666668E-3,2.9166666666666668E-3,2.9166666666666668E-3,2.9166666666666668E-3,2.9166666666666668E-3,2.9166666666666668E-3,2.9166666666666668E-3,2.9166666666666668E-3,2.9166666666666668E-3,2.9166666666666668E-3,2.9166666666666668E-3,2.9166666666666668E-3,2.9166666666666668E-3,2.9166666666666668E-3,2.9166666666666668E-3,2.9166666666666668E-3,2.9166666666666668E-3,2.9166666666666668E-3,2.9166666666666668E-3,2.9166666666666668E-3,2.9166666666666668E-3,2.9166666666666668E-3,2.9166666666666668E-3,{"$f":"$G$226/12*AP3","v":2.9166666666666668E-3},2.9166666666666668E-3,2.9166666666666668E-3,2.9166666666666668E-3,1.7500000000000002E-2,1.7500000000000002E-2,1.7500000000000002E-2,1.7500000000000002E-2,1.7500000000000002E-2,1.7500000000000002E-2,1.7500000000000002E-2,1.7500000000000002E-2,1.7500000000000002E-2,1.7500000000000002E-2,1.7500000000000002E-2,1.7500000000000002E-2,1.7500000000000002E-2,1.7500000000000002E-2,1.7500000000000002E-2,1.7500000000000002E-2,1.7500000000000002E-2,1.7500000000000002E-2,1.7500000000000002E-2,1.7500000000000002E-2,1.7500000000000002E-2,1.7500000000000002E-2,1.7500000000000002E-2,1.7500000000000002E-2,1.7500000000000002E-2,1.7500000000000002E-2,1.7500000000000002E-2,1.7500000000000002E-2,{"$f":"$G$226/12*BV3","v":1.7500000000000002E-2},1.7500000000000002E-2,1.7500000000000002E-2,1.7500000000000002E-2,1.7500000000000002E-2,1.7500000000000002E-2,1.7500000000000002E-2,1.7500000000000002E-2,1.7500000000000002E-2,1.7500000000000002E-2,1.7500000000000002E-2,1.7500000000000002E-2,1.7500000000000002E-2,1.7500000000000002E-2,1.7500000000000002E-2,1.7500000000000002E-2,1.7500000000000002E-2,1.7500000000000002E-2,1.7500000000000002E-2,1.7500000000000002E-2,1.7500000000000002E-2,1.7500000000000002E-2,1.7500000000000002E-2,1.7500000000000002E-2,1.7500000000000002E-2,1.7500000000000002E-2,1.7500000000000002E-2,1.7500000000000002E-2,1.7500000000000002E-2,1.7500000000000002E-2,1.7500000000000002E-2,1.7500000000000002E-2,{"$f":"$G$226/12*DB3","v":1.7500000000000002E-2},1.7500000000000002E-2,1.7500000000000002E-2,1.7500000000000002E-2,1.7500000000000002E-2,1.7500000000000002E-2,1.7500000000000002E-2,1.7500000000000002E-2,1.7500000000000002E-2,1.7500000000000002E-2,1.7500000000000002E-2,1.7500000000000002E-2,1.7500000000000002E-2,1.7500000000000002E-2,1.7500000000000002E-2,1.7500000000000002E-2,1.7500000000000002E-2,1.7500000000000002E-2,1.7500000000000002E-2,1.7500000000000002E-2,1.7500000000000002E-2,1.7500000000000002E-2,1.7500000000000002E-2,1.7500000000000002E-2,1.7500000000000002E-2,1.7500000000000002E-2,1.7500000000000002E-2,1.7500000000000002E-2,1.7500000000000002E-2,1.7500000000000002E-2,1.7500000000000002E-2,1.7500000000000002E-2,{"$f":"$G$226/12*EH3","v":1.7500000000000002E-2},1.7500000000000002E-2,1.7500000000000002E-2,1.7500000000000002E-2,1.7500000000000002E-2,1.7500000000000002E-2,1.7500000000000002E-2,1.7500000000000002E-2,1.7500000000000002E-2,1.7500000000000002E-2,1.7500000000000002E-2,1.7500000000000002E-2,1.7500000000000002E-2,1.7500000000000002E-2,1.7500000000000002E-2,1.7500000000000002E-2,1.7500000000000002E-2,1.7500000000000002E-2,1.7500000000000002E-2]
[null,null,"Interest Rate Index",null,null,null,null,null,1,{"$f":"I227*(1+J226*J222)","v":1},{"$f":"J227*(1+K226*K222)","v":1},1,1,1,1,1,1,1,1,1,1,1,1,1,1,1,1,1,1,1,1,1,1,1,{"$f":"AH227*(1+AI226*AI222)","v":1},{"$f":"AI227*(1+AJ226*AJ222)","v":1},{"$f":"AJ227*(1+AK226*AK222)","v":1},{"$f":"AK227*(1+AL226*AL222)","v":1},{"$f":"AL227*(1+AM226*AM222)","v":1},{"$f":"AM227*(1+AN226*AN222)","v":1},{"$f":"AN227*(1+AO226*AO222)","v":1},{"$f":"AO227*(1+AP226*AP222)","v":1},{"$f":"AP227*(1+AQ226*AQ222)","v":1},{"$f":"AQ227*(1+AR226*AR222)","v":1},{"$f":"AR227*(1+AS226*AS222)","v":1},{"$f":"AS227*(1+AT226*AT222)","v":1},{"$f":"AT227*(1+AU226*AU222)","v":1},{"$f":"AU227*(1+AV226*AV222)","v":1},{"$f":"AV227*(1+AW226*AW222)","v":1},{"$f":"AW227*(1+AX226*AX222)","v":1},{"$f":"AX227*(1+AY226*AY222)","v":1},{"$f":"AY227*(1+AZ226*AZ222)","v":1},{"$f":"AZ227*(1+BA226*BA222)","v":1},{"$f":"BA227*(1+BB226*BB222)","v":1},{"$f":"BB227*(1+BC226*BC222)","v":1},{"$f":"BC227*(1+BD226*BD222)","v":1},{"$f":"BD227*(1+BE226*BE222)","v":1},{"$f":"BE227*(1+BF226*BF222)","v":1},{"$f":"BF227*(1+BG226*BG222)","v":1},{"$f":"BG227*(1+BH226*BH222)","v":1},{"$f":"BH227*(1+BI226*BI222)","v":1},{"$f":"BI227*(1+BJ226*BJ222)","v":1},{"$f":"BJ227*(1+BK226*BK222)","v":1},{"$f":"BK227*(1+BL226*BL222)","v":1},{"$f":"BL227*(1+BM226*BM222)","v":1},{"$f":"BM227*(1+BN226*BN222)","v":1},{"$f":"BN227*(1+BO226*BO222)","v":1},{"$f":"BO227*(1+BP226*BP222)","v":1},{"$f":"BP227*(1+BQ226*BQ222)","v":1},{"$f":"BQ227*(1+BR226*BR222)","v":1},{"$f":"BR227*(1+BS226*BS222)","v":1},{"$f":"BS227*(1+BT226*BT222)","v":1},{"$f":"BT227*(1+BU226*BU222)","v":1},{"$f":"BU227*(1+BV226*BV222)","v":1},{"$f":"BV227*(1+BW226*BW222)","v":1},{"$f":"BW227*(1+BX226*BX222)","v":1},{"$f":"BX227*(1+BY226*BY222)","v":1},{"$f":"BY227*(1+BZ226*BZ222)","v":1},{"$f":"BZ227*(1+CA226*CA222)","v":1},{"$f":"CA227*(1+CB226*CB222)","v":1},{"$f":"CB227*(1+CC226*CC222)","v":1},{"$f":"CC227*(1+CD226*CD222)","v":1},{"$f":"CD227*(1+CE226*CE222)","v":1},{"$f":"CE227*(1+CF226*CF222)","v":1},{"$f":"CF227*(1+CG226*CG222)","v":1},{"$f":"CG227*(1+CH226*CH222)","v":1},{"$f":"CH227*(1+CI226*CI222)","v":1},{"$f":"CI227*(1+CJ226*CJ222)","v":1},{"$f":"CJ227*(1+CK226*CK222)","v":1},{"$f":"CK227*(1+CL226*CL222)","v":1},{"$f":"CL227*(1+CM226*CM222)","v":1},{"$f":"CM227*(1+CN226*CN222)","v":1},{"$f":"CN227*(1+CO226*CO222)","v":1},{"$f":"CO227*(1+CP226*CP222)","v":1},{"$f":"CP227*(1+CQ226*CQ222)","v":1},{"$f":"CQ227*(1+CR226*CR222)","v":1},{"$f":"CR227*(1+CS226*CS222)","v":1},{"$f":"CS227*(1+CT226*CT222)","v":1},{"$f":"CT227*(1+CU226*CU222)","v":1},{"$f":"CU227*(1+CV226*CV222)","v":1},{"$f":"CV227*(1+CW226*CW222)","v":1},{"$f":"CW227*(1+CX226*CX222)","v":1},{"$f":"CX227*(1+CY226*CY222)","v":1},{"$f":"CY227*(1+CZ226*CZ222)","v":1},{"$f":"CZ227*(1+DA226*DA222)","v":1},{"$f":"DA227*(1+DB226*DB222)","v":1},{"$f":"DB227*(1+DC226*DC222)","v":1},{"$f":"DC227*(1+DD226*DD222)","v":1},{"$f":"DD227*(1+DE226*DE222)","v":1},{"$f":"DE227*(1+DF226*DF222)","v":1},{"$f":"DF227*(1+DG226*DG222)","v":1},{"$f":"DG227*(1+DH226*DH222)","v":1},{"$f":"DH227*(1+DI226*DI222)","v":1},{"$f":"DI227*(1+DJ226*DJ222)","v":1},{"$f":"DJ227*(1+DK226*DK222)","v":1},{"$f":"DK227*(1+DL226*DL222)","v":1},{"$f":"DL227*(1+DM226*DM222)","v":1},{"$f":"DM227*(1+DN226*DN222)","v":1},{"$f":"DN227*(1+DO226*DO222)","v":1},{"$f":"DO227*(1+DP226*DP222)","v":1},{"$f":"DP227*(1+DQ226*DQ222)","v":1},{"$f":"DQ227*(1+DR226*DR222)","v":1},{"$f":"DR227*(1+DS226*DS222)","v":1},{"$f":"DS227*(1+DT226*DT222)","v":1},{"$f":"DT227*(1+DU226*DU222)","v":1},{"$f":"DU227*(1+DV226*DV222)","v":1},{"$f":"DV227*(1+DW226*DW222)","v":1},{"$f":"DW227*(1+DX226*DX222)","v":1},{"$f":"DX227*(1+DY226*DY222)","v":1},{"$f":"DY227*(1+DZ226*DZ222)","v":1},{"$f":"DZ227*(1+EA226*EA222)","v":1},{"$f":"EA227*(1+EB226*EB222)","v":1},{"$f":"EB227*(1+EC226*EC222)","v":1},{"$f":"EC227*(1+ED226*ED222)","v":1},{"$f":"ED227*(1+EE226*EE222)","v":1},{"$f":"EE227*(1+EF226*EF222)","v":1},{"$f":"EF227*(1+EG226*EG222)","v":1},{"$f":"EG227*(1+EH226*EH222)","v":1},{"$f":"EH227*(1+EI226*EI222)","v":1},{"$f":"EI227*(1+EJ226*EJ222)","v":1},{"$f":"EJ227*(1+EK226*EK222)","v":1},{"$f":"EK227*(1+EL226*EL222)","v":1},{"$f":"EL227*(1+EM226*EM222)","v":1},{"$f":"EM227*(1+EN226*EN222)","v":1},{"$f":"EN227*(1+EO226*EO222)","v":1},{"$f":"EO227*(1+EP226*EP222)","v":1},{"$f":"EP227*(1+EQ226*EQ222)","v":1},{"$f":"EQ227*(1+ER226*ER222)","v":1},{"$f":"ER227*(1+ES226*ES222)","v":1},{"$f":"ES227*(1+ET226*ET222)","v":1},{"$f":"ET227*(1+EU226*EU222)","v":1},{"$f":"EU227*(1+EV226*EV222)","v":1},{"$f":"EV227*(1+EW226*EW222)","v":1},{"$f":"EW227*(1+EX226*EX222)","v":1},{"$f":"EX227*(1+EY226*EY222)","v":1},{"$f":"EY227*(1+EZ226*EZ222)","v":1}]
[null,null,"PV of Debt Service",null,{"$f":"SUMPRODUCT(J225:EZ225/J227:EZ227)","v":0}]
[]
[null,"Sculpting Switch - Re-financing 2",null,null,null,{"$f":"F89","v":"2058-01-01"},{"$f":"F93","v":"2056-01-01"},null,null,{"$f":"AND(J$4>$F$230,J$4<$G$230)","v":false},false,false,false,false,false,false,false,false,false,false,false,false,false,false,false,false,false,false,false,false,false,false,false,false,false,false,false,false,false,false,false,{"$f":"AND(AP$4>$F$230,AP$4<$G$230)","v":false},false,false,false,false,false,false,false,false,false,false,false,false,false,false,false,false,false,false,false,false,false,false,false,false,false,false,false,false,false,false,false,{"$f":"AND(BV$4>$F$230,BV$4<$G$230)","v":false},false,false,false,false,false,false,false,false,false,false,false,false,false,false,false,false,false,false,false,false,false,false,false,false,false,false,false,false,false,false,false,{"$f":"AND(DB$4>$F$230,DB$4<$G$230)","v":false},false,false,false,false,false,false,false,false,false,false,false,false,false,false,false,false,false,false,false,false,false,false,false,false,false,false,false,false,false,false,false,{"$f":"AND(EH$4>$F$230,EH$4<$G$230)","v":false},false,false,false,false,false,false,false,false,false,false,false,false,false,false,false,false,false,false]
[null,null,"CFADS",null,null,null,null,null,null,{"$f":"J220*J230","v":0},{"$f":"K220*K230","v":0},0,0,0,0,0,0,0,0,0,0,0,0,0,0,0,0,0,0,0,0,0,0,0,0,0,0,0,0,0,0,0,0,0,0,0,0,0,0,0,0,0,0,0,0,0,0,0,0,0,0,0,0,0,0,0,0,0,0,0,0,0,0,0,{"$f":"BW220*BW230","v":0},0,0,0,0,0,0,0,0,0,0,0,0,0,0,0,0,0,0,0,0,0,0,0,0,0,0,0,0,0,0,0,0,0,0,0,0,0,0,0,0,0,0,0,0,0,0,0,0,0,0,0,0,0,0,0,0,0,0,0,0,0,0,0,{"$f":"EI220*EI230","v":0},0,0,0,0,0,0,0,0,0,0,0,0,0,0,0,0,0]
[null,null,"Target DSCR",null,null,null,{"$f":"F90","v":1.25},null,null,{"$f":"$G$232","v":1.25},1.25,1.25,1.25,1.25,1.25,1.25,1.25,1.25,1.25,1.25,1.25,1.25,1.25,1.25,1.25,1.25,1.25,1.25,1.25,1.25,1.25,1.25,1.25,1.25,1.25,1.25,1.25,1.25,1.25,1.25,1.25,{"$f":"$G$232","v":1.25},1.25,1.25,1.25,1.25,1.25,1.25,1.25,1.25,1.25,1.25,1.25,1.25,1.25,1.25,1.25,1.25,1.25,1.25,1.25,1.25,1.25,1.25,1.25,1.25,1.25,1.25,1.25,1.25,1.25,1.25,1.25,{"$f":"$G$232","v":1.25},1.25,1.25,1.25,1.25,1.25,1.25,1.25,1.25,1.25,1.25,1.25,1.25,1.25,1.25,1.25,1.25,1.25,1.25,1.25,1.25,1.25,1.25,1.25,1.25,1.25,1.25,1.25,1.25,1.25,1.25,1.25,{"$f":"$G$232","v":1.25},1.25,1.25,1.25,1.25,1.25,1.25,1.25,1.25,1.25,1.25,1.25,1.25,1.25,1.25,1.25,1.25,1.25,1.25,1.25,1.25,1.25,1.25,1.25,1.25,1.25,1.25,1.25,1.25,1.25,1.25,1.25,{"$f":"$G$232","v":1.25},1.25,1.25,1.25,1.25,1.25,1.25,1.25,1.25,1.25,1.25,1.25,1.25,1.25,1.25,1.25,1.25,1.25,1.25]
[null,null,"Target Debt Service",null,null,null,null,null,null,{"$f":"J231/J232","v":0},{"$f":"K231/K232","v":0},0,0,0,0,0,0,0,0,0,0,0,0,0,0,0,0,0,0,0,0,0,0,0,0,0,0,0,0,0,0,0,0,0,0,0,0,0,0,0,0,0,0,0,0,0,0,0,0,0,0,0,0,0,0,0,0,0,0,0,0,0,0,0,{"$f":"BW231/BW232","v":0},0,0,0,0,0,0,0,0,0,0,0,0,0,0,0,0,0,0,0,0,0,0,0,0,0,0,0,0,0,0,0,0,0,0,0,0,0,0,0,0,0,0,0,0,0,0,0,0,0,0,0,0,0,0,0,0,0,0,0,0,0,0,0,{"$f":"EI231/EI232","v":0},0,0,0,0,0,0,0,0,0,0,0,0,0,0,0,0,0]
[null,null,"Interest Rate",null,null,null,{"$f":"F96","v":0.03},null,null,{"$f":"$G$234/12*J3","v":2.5000000000000001E-3},2.5000000000000001E-3,2.5000000000000001E-3,2.5000000000000001E-3,2.5000000000000001E-3,2.5000000000000001E-3,2.5000000000000001E-3,2.5000000000000001E-3,2.5000000000000001E-3,2.5000000000000001E-3,2.5000000000000001E-3,2.5000000000000001E-3,2.5000000000000001E-3,2.5000000000000001E-3,2.5000000000000001E-3,2.5000000000000001E-3,2.5000000000000001E-3,2.5000000000000001E-3,2.5000000000000001E-3,2.5000000000000001E-3,2.5000000000000001E-3,2.5000000000000001E-3,2.5000000000000001E-3,2.5000000000000001E-3,2.5000000000000001E-3,2.5000000000000001E-3,2.5000000000000001E-3,2.5000000000000001E-3,2.5000000000000001E-3,2.5000000000000001E-3,2.5000000000000001E-3,2.5000000000000001E-3,{"$f":"$G$234/12*AP3","v":2.5000000000000001E-3},2.5000000000000001E-3,2.5000000000000001E-3,2.5000000000000001E-3,1.4999999999999999E-2,1.4999999999999999E-2,1.4999999999999999E-2,1.4999999999999999E-2,1.4999999999999999E-2,1.4999999999999999E-2,1.4999999999999999E-2,1.4999999999999999E-2,1.4999999999999999E-2,1.4999999999999999E-2,1.4999999999999999E-2,1.4999999999999999E-2,1.4999999999999999E-2,1.4999999999999999E-2,1.4999999999999999E-2,1.4999999999999999E-2,1.4999999999999999E-2,1.4999999999999999E-2,1.4999999999999999E-2,1.4999999999999999E-2,1.4999999999999999E-2,1.4999999999999999E-2,1.4999999999999999E-2,1.4999999999999999E-2,1.4999999999999999E-2,1.4999999999999999E-2,1.4999999999999999E-2,1.4999999999999999E-2,{"$f":"$G$234/12*BV3","v":1.4999999999999999E-2},1.4999999999999999E-2,1.4999999999999999E-2,1.4999999999999999E-2,1.4999999999999999E-2,1.4999999999999999E-2,1.4999999999999999E-2,1.4999999999999999E-2,1.4999999999999999E-2,1.4999999999999999E-2,1.4999999999999999E-2,1.4999999999999999E-2,1.4999999999999999E-2,1.4999999999999999E-2,1.4999999999999999E-2,1.4999999999999999E-2,1.4999999999999999E-2,1.4999999999999999E-2,1.4999999999999999E-2,1.4999999999999999E-2,1.4999999999999999E-2,1.4999999999999999E-2,1.4999999999999999E-2,1.4999999999999999E-2,1.4999999999999999E-2,1.4999999999999999E-2,1.4999999999999999E-2,1.4999999999999999E-2,1.4999999999999999E-2,1.4999999999999999E-2,1.4999999999999999E-2,1.4999999999999999E-2,{"$f":"$G$234/12*DB3","v":1.4999999999999999E-2},1.4999999999999999E-2,1.4999999999999999E-2,1.4999999999999999E-2,1.4999999999999999E-2,1.4999999999999999E-2,1.4999999999999999E-2,1.4999999999999999E-2,1.4999999999999999E-2,1.4999999999999999E-2,1.4999999999999999E-2,1.4999999999999999E-2,1.4999999999999999E-2,1.4999999999999999E-2,1.4999999999999999E-2,1.4999999999999999E-2,1.4999999999999999E-2,1.4999999999999999E-2,1.4999999999999999E-2,1.4999999999999999E-2,1.4999999999999999E-2,1.4999999999999999E-2,1.4999999999999999E-2,1.4999999999999999E-2,1.4999999999999999E-2,1.4999999999999999E-2,1.4999999999999999E-2,1.4999999999999999E-2,1.4999999999999999E-2,1.4999999999999999E-2,1.4999999999999999E-2,1.4999999999999999E-2,{"$f":"$G$234/12*EH3","v":1.4999999999999999E-2},1.4999999999999999E-2,1.4999999999999999E-2,1.4999999999999999E-2,1.4999999999999999E-2,1.4999999999999999E-2,1.4999999999999999E-2,1.4999999999999999E-2,1.4999999999999999E-2,1.4999999999999999E-2,1.4999999999999999E-2,1.4999999999999999E-2,1.4999999999999999E-2,1.4999999999999999E-2,1.4999999999999999E-2,1.4999999999999999E-2,1.4999999999999999E-2,1.4999999999999999E-2,1.4999999999999999E-2]
[null,null,"Interest Rate Index",null,null,null,null,null,1,{"$f":"I235*(1+J234*J230)","v":1},{"$f":"J235*(1+K234*K230)","v":1},{"$f":"K235*(1+L234*L230)","v":1},{"$f":"L235*(1+M234*M230)","v":1},{"$f":"M235*(1+N234*N230)","v":1},{"$f":"N235*(1+O234*O230)","v":1},{"$f":"O235*(1+P234*P230)","v":1},{"$f":"P235*(1+Q234*Q230)","v":1},{"$f":"Q235*(1+R234*R230)","v":1},{"$f":"R235*(1+S234*S230)","v":1},{"$f":"S235*(1+T234*T230)","v":1},{"$f":"T235*(1+U234*U230)","v":1},{"$f":"U235*(1+V234*V230)","v":1},{"$f":"V235*(1+W234*W230)","v":1},{"$f":"W235*(1+X234*X230)","v":1},{"$f":"X235*(1+Y234*Y230)","v":1},{"$f":"Y235*(1+Z234*Z230)","v":1},{"$f":"Z235*(1+AA234*AA230)","v":1},{"$f":"AA235*(1+AB234*AB230)","v":1},{"$f":"AB235*(1+AC234*AC230)","v":1},{"$f":"AC235*(1+AD234*AD230)","v":1},{"$f":"AD235*(1+AE234*AE230)","v":1},{"$f":"AE235*(1+AF234*AF230)","v":1},{"$f":"AF235*(1+AG234*AG230)","v":1},{"$f":"AG235*(1+AH234*AH230)","v":1},{"$f":"AH235*(1+AI234*AI230)","v":1},{"$f":"AI235*(1+AJ234*AJ230)","v":1},{"$f":"AJ235*(1+AK234*AK230)","v":1},{"$f":"AK235*(1+AL234*AL230)","v":1},{"$f":"AL235*(1+AM234*AM230)","v":1},{"$f":"AM235*(1+AN234*AN230)","v":1},{"$f":"AN235*(1+AO234*AO230)","v":1},{"$f":"AO235*(1+AP234*AP230)","v":1},{"$f":"AP235*(1+AQ234*AQ230)","v":1},{"$f":"AQ235*(1+AR234*AR230)","v":1},{"$f":"AR235*(1+AS234*AS230)","v":1},{"$f":"AS235*(1+AT234*AT230)","v":1},{"$f":"AT235*(1+AU234*AU230)","v":1},{"$f":"AU235*(1+AV234*AV230)","v":1},{"$f":"AV235*(1+AW234*AW230)","v":1},{"$f":"AW235*(1+AX234*AX230)","v":1},{"$f":"AX235*(1+AY234*AY230)","v":1},{"$f":"AY235*(1+AZ234*AZ230)","v":1},{"$f":"AZ235*(1+BA234*BA230)","v":1},{"$f":"BA235*(1+BB234*BB230)","v":1},{"$f":"BB235*(1+BC234*BC230)","v":1},{"$f":"BC235*(1+BD234*BD230)","v":1},{"$f":"BD235*(1+BE234*BE230)","v":1},{"$f":"BE235*(1+BF234*BF230)","v":1},{"$f":"BF235*(1+BG234*BG230)","v":1},{"$f":"BG235*(1+BH234*BH230)","v":1},{"$f":"BH235*(1+BI234*BI230)","v":1},{"$f":"BI235*(1+BJ234*BJ230)","v":1},{"$f":"BJ235*(1+BK234*BK230)","v":1},{"$f":"BK235*(1+BL234*BL230)","v":1},{"$f":"BL235*(1+BM234*BM230)","v":1},{"$f":"BM235*(1+BN234*BN230)","v":1},{"$f":"BN235*(1+BO234*BO230)","v":1},{"$f":"BO235*(1+BP234*BP230)","v":1},{"$f":"BP235*(1+BQ234*BQ230)","v":1},{"$f":"BQ235*(1+BR234*BR230)","v":1},{"$f":"BR235*(1+BS234*BS230)","v":1},{"$f":"BS235*(1+BT234*BT230)","v":1},{"$f":"BT235*(1+BU234*BU230)","v":1},{"$f":"BU235*(1+BV234*BV230)","v":1},{"$f":"BV235*(1+BW234*BW230)","v":1},{"$f":"BW235*(1+BX234*BX230)","v":1},{"$f":"BX235*(1+BY234*BY230)","v":1},{"$f":"BY235*(1+BZ234*BZ230)","v":1},{"$f":"BZ235*(1+CA234*CA230)","v":1},{"$f":"CA235*(1+CB234*CB230)","v":1},{"$f":"CB235*(1+CC234*CC230)","v":1},{"$f":"CC235*(1+CD234*CD230)","v":1},{"$f":"CD235*(1+CE234*CE230)","v":1},{"$f":"CE235*(1+CF234*CF230)","v":1},{"$f":"CF235*(1+CG234*CG230)","v":1},{"$f":"CG235*(1+CH234*CH230)","v":1},{"$f":"CH235*(1+CI234*CI230)","v":1},{"$f":"CI235*(1+CJ234*CJ230)","v":1},{"$f":"CJ235*(1+CK234*CK230)","v":1},{"$f":"CK235*(1+CL234*CL230)","v":1},{"$f":"CL235*(1+CM234*CM230)","v":1},{"$f":"CM235*(1+CN234*CN230)","v":1},{"$f":"CN235*(1+CO234*CO230)","v":1},{"$f":"CO235*(1+CP234*CP230)","v":1},{"$f":"CP235*(1+CQ234*CQ230)","v":1},{"$f":"CQ235*(1+CR234*CR230)","v":1},{"$f":"CR235*(1+CS234*CS230)","v":1},{"$f":"CS235*(1+CT234*CT230)","v":1},{"$f":"CT235*(1+CU234*CU230)","v":1},{"$f":"CU235*(1+CV234*CV230)","v":1},{"$f":"CV235*(1+CW234*CW230)","v":1},{"$f":"CW235*(1+CX234*CX230)","v":1},{"$f":"CX235*(1+CY234*CY230)","v":1},{"$f":"CY235*(1+CZ234*CZ230)","v":1},{"$f":"CZ235*(1+DA234*DA230)","v":1},{"$f":"DA235*(1+DB234*DB230)","v":1},{"$f":"DB235*(1+DC234*DC230)","v":1},{"$f":"DC235*(1+DD234*DD230)","v":1},{"$f":"DD235*(1+DE234*DE230)","v":1},{"$f":"DE235*(1+DF234*DF230)","v":1},{"$f":"DF235*(1+DG234*DG230)","v":1},{"$f":"DG235*(1+DH234*DH230)","v":1},{"$f":"DH235*(1+DI234*DI230)","v":1},{"$f":"DI235*(1+DJ234*DJ230)","v":1},{"$f":"DJ235*(1+DK234*DK230)","v":1},{"$f":"DK235*(1+DL234*DL230)","v":1},{"$f":"DL235*(1+DM234*DM230)","v":1},{"$f":"DM235*(1+DN234*DN230)","v":1},{"$f":"DN235*(1+DO234*DO230)","v":1},{"$f":"DO235*(1+DP234*DP230)","v":1},{"$f":"DP235*(1+DQ234*DQ230)","v":1},{"$f":"DQ235*(1+DR234*DR230)","v":1},{"$f":"DR235*(1+DS234*DS230)","v":1},{"$f":"DS235*(1+DT234*DT230)","v":1},{"$f":"DT235*(1+DU234*DU230)","v":1},{"$f":"DU235*(1+DV234*DV230)","v":1},{"$f":"DV235*(1+DW234*DW230)","v":1},{"$f":"DW235*(1+DX234*DX230)","v":1},{"$f":"DX235*(1+DY234*DY230)","v":1},{"$f":"DY235*(1+DZ234*DZ230)","v":1},{"$f":"DZ235*(1+EA234*EA230)","v":1},{"$f":"EA235*(1+EB234*EB230)","v":1},{"$f":"EB235*(1+EC234*EC230)","v":1},{"$f":"EC235*(1+ED234*ED230)","v":1},{"$f":"ED235*(1+EE234*EE230)","v":1},{"$f":"EE235*(1+EF234*EF230)","v":1},{"$f":"EF235*(1+EG234*EG230)","v":1},{"$f":"EG235*(1+EH234*EH230)","v":1},{"$f":"EH235*(1+EI234*EI230)","v":1},{"$f":"EI235*(1+EJ234*EJ230)","v":1},{"$f":"EJ235*(1+EK234*EK230)","v":1},{"$f":"EK235*(1+EL234*EL230)","v":1},{"$f":"EL235*(1+EM234*EM230)","v":1},{"$f":"EM235*(1+EN234*EN230)","v":1},{"$f":"EN235*(1+EO234*EO230)","v":1},{"$f":"EO235*(1+EP234*EP230)","v":1},{"$f":"EP235*(1+EQ234*EQ230)","v":1},{"$f":"EQ235*(1+ER234*ER230)","v":1},{"$f":"ER235*(1+ES234*ES230)","v":1},{"$f":"ES235*(1+ET234*ET230)","v":1},{"$f":"ET235*(1+EU234*EU230)","v":1},{"$f":"EU235*(1+EV234*EV230)","v":1},{"$f":"EV235*(1+EW234*EW230)","v":1},{"$f":"EW235*(1+EX234*EX230)","v":1},{"$f":"EX235*(1+EY234*EY230)","v":1},{"$f":"EY235*(1+EZ234*EZ230)","v":1}]
[null,null,"PV of Debt Service",null,{"$f":"SUMPRODUCT(J233:EZ233/J235:EZ235)","v":0}]
[]
[null,"Sculpting Switch - Re-financing 3",null,null,null,{"$f":"F101","v":"2058-01-01"},{"$f":"F105","v":"2057-01-01"},null,null,{"$f":"AND(J$4>$F$238,J$4<$G$238)","v":false},false,false,false,false,false,false,false,false,false,false,false,false,false,false,false,false,false,false,false,false,false,false,false,false,false,false,false,false,false,false,false,{"$f":"AND(AP$4>$F$238,AP$4<$G$238)","v":false},false,false,false,false,false,false,false,false,false,false,false,false,false,false,false,false,false,false,false,false,false,false,false,false,false,false,false,false,false,false,false,{"$f":"AND(BV$4>$F$238,BV$4<$G$238)","v":false},false,false,false,false,false,false,false,false,false,false,false,false,false,false,false,false,false,false,false,false,false,false,false,false,false,false,false,false,false,false,false,{"$f":"AND(DB$4>$F$238,DB$4<$G$238)","v":false},false,false,false,false,false,false,false,false,false,false,false,false,false,false,false,false,false,false,false,false,false,false,false,false,false,false,false,false,false,false,false,{"$f":"AND(EH$4>$F$238,EH$4<$G$238)","v":false},false,false,false,false,false,false,false,false,false,false,false,false,false,false,false,false,false,false]
[null,null,"CFADS",null,null,null,null,null,null,{"$f":"J220*J238","v":0},{"$f":"K220*K238","v":0},0,0,0,0,0,0,0,0,0,0,0,0,0,0,0,0,0,0,0,0,0,0,0,0,0,0,0,0,0,0,0,0,0,0,0,0,0,0,0,0,0,0,0,0,0,0,0,0,0,0,0,0,0,0,0,0,0,0,0,0,0,0,0,{"$f":"BW220*BW238","v":0},0,0,0,0,0,0,0,0,0,0,0,0,0,0,0,0,0,0,0,0,0,0,0,0,0,0,0,0,0,0,0,0,0,0,0,0,0,0,0,0,0,0,0,0,0,0,0,0,0,0,0,0,0,0,0,0,0,0,0,0,0,0,0,{"$f":"EI220*EI238","v":0},0,0,0,0,0,0,0,0,0,0,0,0,0,0,0,0,0]
[null,null,"Target DSCR",null,null,null,{"$f":"F102","v":1.2},null,null,{"$f":"$G$240","v":1.2},1.2,1.2,1.2,1.2,1.2,1.2,1.2,1.2,1.2,1.2,1.2,1.2,1.2,1.2,1.2,1.2,1.2,1.2,1.2,1.2,1.2,1.2,1.2,1.2,1.2,1.2,1.2,1.2,1.2,1.2,1.2,{"$f":"$G$240","v":1.2},1.2,1.2,1.2,1.2,1.2,1.2,1.2,1.2,1.2,1.2,1.2,1.2,1.2,1.2,1.2,1.2,1.2,1.2,1.2,1.2,1.2,1.2,1.2,1.2,1.2,1.2,1.2,1.2,1.2,1.2,1.2,{"$f":"$G$240","v":1.2},1.2,1.2,1.2,1.2,1.2,1.2,1.2,1.2,1.2,1.2,1.2,1.2,1.2,1.2,1.2,1.2,1.2,1.2,1.2,1.2,1.2,1.2,1.2,1.2,1.2,1.2,1.2,1.2,1.2,1.2,1.2,{"$f":"$G$240","v":1.2},1.2,1.2,1.2,1.2,1.2,1.2,1.2,1.2,1.2,1.2,1.2,1.2,1.2,1.2,1.2,1.2,1.2,1.2,1.2,1.2,1.2,1.2,1.2,1.2,1.2,1.2,1.2,1.2,1.2,1.2,1.2,{"$f":"$G$240","v":1.2},1.2,1.2,1.2,1.2,1.2,1.2,1.2,1.2,1.2,1.2,1.2,1.2,1.2,1.2,1.2,1.2,1.2,1.2]
[null,null,"Target Debt Service",null,null,null,null,null,null,{"$f":"J239/J240","v":0},{"$f":"K239/K240","v":0},0,0,0,0,0,0,0,0,0,0,0,0,0,0,0,0,0,0,0,0,0,0,0,0,0,0,0,0,0,0,0,0,0,0,0,0,0,0,0,0,0,0,0,0,0,0,0,0,0,0,0,0,0,0,0,0,0,0,0,0,0,0,0,{"$f":"BW239/BW240","v":0},0,0,0,0,0,0,0,0,0,0,0,0,0,0,0,0,0,0,0,0,0,0,0,0,0,0,0,0,0,0,0,0,0,0,0,0,0,0,0,0,0,0,0,0,0,0,0,0,0,0,0,0,0,0,0,0,0,0,0,0,0,0,0,{"$f":"EI239/EI240","v":0},0,0,0,0,0,0,0,0,0,0,0,0,0,0,0,0,0]
[null,null,"Interest Rate",null,null,null,{"$f":"F108","v":2.9000000000000001E-2},null,null,{"$f":"$G$242/12*J3","v":2.4166666666666668E-3},2.4166666666666668E-3,2.4166666666666668E-3,2.4166666666666668E-3,2.4166666666666668E-3,2.4166666666666668E-3,2.4166666666666668E-3,2.4166666666666668E-3,2.4166666666666668E-3,2.4166666666666668E-3,2.4166666666666668E-3,2.4166666666666668E-3,2.4166666666666668E-3,2.4166666666666668E-3,2.4166666666666668E-3,2.4166666666666668E-3,2.4166666666666668E-3,2.4166666666666668E-3,2.4166666666666668E-3,2.4166666666666668E-3,2.4166666666666668E-3,2.4166666666666668E-3,2.4166666666666668E-3,2.4166666666666668E-3,2.4166666666666668E-3,2.4166666666666668E-3,2.4166666666666668E-3,2.4166666666666668E-3,2.4166666666666668E-3,2.4166666666666668E-3,2.4166666666666668E-3,2.4166666666666668E-3,{"$f":"$G$242/12*AP3","v":2.4166666666666668E-3},2.4166666666666668E-3,2.4166666666666668E-3,2.4166666666666668E-3,1.4500000000000001E-2,1.4500000000000001E-2,1.4500000000000001E-2,1.4500000000000001E-2,1.4500000000000001E-2,1.4500000000000001E-2,1.4500000000000001E-2,1.4500000000000001E-2,1.4500000000000001E-2,1.4500000000000001E-2,1.4500000000000001E-2,1.4500000000000001E-2,1.4500000000000001E-2,1.4500000000000001E-2,1.4500000000000001E-2,1.4500000000000001E-2,1.4500000000000001E-2,1.4500000000000001E-2,1.4500000000000001E-2,1.4500000000000001E-2,1.4500000000000001E-2,1.4500000000000001E-2,1.4500000000000001E-2,1.4500000000000001E-2,1.4500000000000001E-2,1.4500000000000001E-2,1.4500000000000001E-2,1.4500000000000001E-2,{"$f":"$G$242/12*BV3","v":1.4500000000000001E-2},1.4500000000000001E-2,1.4500000000000001E-2,1.4500000000000001E-2,1.4500000000000001E-2,1.4500000000000001E-2,1.4500000000000001E-2,1.4500000000000001E-2,1.4500000000000001E-2,1.4500000000000001E-2,1.4500000000000001E-2,1.4500000000000001E-2,1.4500000000000001E-2,1.4500000000000001E-2,1.4500000000000001E-2,1.4500000000000001E-2,1.4500000000000001E-2,1.4500000000000001E-2,1.4500000000000001E-2,1.4500000000000001E-2,1.4500000000000001E-2,1.4500000000000001E-2,1.4500000000000001E-2,1.4500000000000001E-2,1.4500000000000001E-2,1.4500000000000001E-2,1.4500000000000001E-2,1.4500000000000001E-2,1.4500000000000001E-2,1.4500000000000001E-2,1.4500000000000001E-2,1.4500000000000001E-2,{"$f":"$G$242/12*DB3","v":1.4500000000000001E-2},1.4500000000000001E-2,1.4500000000000001E-2,1.4500000000000001E-2,1.4500000000000001E-2,1.4500000000000001E-2,1.4500000000000001E-2,1.4500000000000001E-2,1.4500000000000001E-2,1.4500000000000001E-2,1.4500000000000001E-2,1.4500000000000001E-2,1.4500000000000001E-2,1.4500000000000001E-2,1.4500000000000001E-2,1.4500000000000001E-2,1.4500000000000001E-2,1.4500000000000001E-2,1.4500000000000001E-2,1.4500000000000001E-2,1.4500000000000001E-2,1.4500000000000001E-2,1.4500000000000001E-2,1.4500000000000001E-2,1.4500000000000001E-2,1.4500000000000001E-2,1.4500000000000001E-2,1.4500000000000001E-2,1.4500000000000001E-2,1.4500000000000001E-2,1.4500000000000001E-2,1.4500000000000001E-2,{"$f":"$G$242/12*EH3","v":1.4500000000000001E-2},1.4500000000000001E-2,1.4500000000000001E-2,1.4500000000000001E-2,1.4500000000000001E-2,1.4500000000000001E-2,1.4500000000000001E-2,1.4500000000000001E-2,1.4500000000000001E-2,1.4500000000000001E-2,1.4500000000000001E-2,1.4500000000000001E-2,1.4500000000000001E-2,1.4500000000000001E-2,1.4500000000000001E-2,1.4500000000000001E-2,1.4500000000000001E-2,1.4500000000000001E-2,1.4500000000000001E-2]
[null,null,"Interest Rate Index",null,null,null,null,null,1,{"$f":"I243*(1+J242*J238)","v":1},{"$f":"J243*(1+K242*K238)","v":1},{"$f":"K243*(1+L242*L238)","v":1},{"$f":"L243*(1+M242*M238)","v":1},{"$f":"M243*(1+N242*N238)","v":1},{"$f":"N243*(1+O242*O238)","v":1},{"$f":"O243*(1+P242*P238)","v":1},{"$f":"P243*(1+Q242*Q238)","v":1},{"$f":"Q243*(1+R242*R238)","v":1},{"$f":"R243*(1+S242*S238)","v":1},{"$f":"S243*(1+T242*T238)","v":1},{"$f":"T243*(1+U242*U238)","v":1},{"$f":"U243*(1+V242*V238)","v":1},{"$f":"V243*(1+W242*W238)","v":1},{"$f":"W243*(1+X242*X238)","v":1},{"$f":"X243*(1+Y242*Y238)","v":1},{"$f":"Y243*(1+Z242*Z238)","v":1},{"$f":"Z243*(1+AA242*AA238)","v":1},{"$f":"AA243*(1+AB242*AB238)","v":1},{"$f":"AB243*(1+AC242*AC238)","v":1},{"$f":"AC243*(1+AD242*AD238)","v":1},{"$f":"AD243*(1+AE242*AE238)","v":1},{"$f":"AE243*(1+AF242*AF238)","v":1},{"$f":"AF243*(1+AG242*AG238)","v":1},{"$f":"AG243*(1+AH242*AH238)","v":1},{"$f":"AH243*(1+AI242*AI238)","v":1},{"$f":"AI243*(1+AJ242*AJ238)","v":1},{"$f":"AJ243*(1+AK242*AK238)","v":1},{"$f":"AK243*(1+AL242*AL238)","v":1},{"$f":"AL243*(1+AM242*AM238)","v":1},{"$f":"AM243*(1+AN242*AN238)","v":1},{"$f":"AN243*(1+AO242*AO238)","v":1},{"$f":"AO243*(1+AP242*AP238)","v":1},{"$f":"AP243*(1+AQ242*AQ238)","v":1},{"$f":"AQ243*(1+AR242*AR238)","v":1},{"$f":"AR243*(1+AS242*AS238)","v":1},{"$f":"AS243*(1+AT242*AT238)","v":1},{"$f":"AT243*(1+AU242*AU238)","v":1},{"$f":"AU243*(1+AV242*AV238)","v":1},{"$f":"AV243*(1+AW242*AW238)","v":1},{"$f":"AW243*(1+AX242*AX238)","v":1},{"$f":"AX243*(1+AY242*AY238)","v":1},{"$f":"AY243*(1+AZ242*AZ238)","v":1},{"$f":"AZ243*(1+BA242*BA238)","v":1},{"$f":"BA243*(1+BB242*BB238)","v":1},{"$f":"BB243*(1+BC242*BC238)","v":1},{"$f":"BC243*(1+BD242*BD238)","v":1},{"$f":"BD243*(1+BE242*BE238)","v":1},{"$f":"BE243*(1+BF242*BF238)","v":1},{"$f":"BF243*(1+BG242*BG238)","v":1},{"$f":"BG243*(1+BH242*BH238)","v":1},{"$f":"BH243*(1+BI242*BI238)","v":1},{"$f":"BI243*(1+BJ242*BJ238)","v":1},{"$f":"BJ243*(1+BK242*BK238)","v":1},{"$f":"BK243*(1+BL242*BL238)","v":1},{"$f":"BL243*(1+BM242*BM238)","v":1},{"$f":"BM243*(1+BN242*BN238)","v":1},{"$f":"BN243*(1+BO242*BO238)","v":1},{"$f":"BO243*(1+BP242*BP238)","v":1},{"$f":"BP243*(1+BQ242*BQ238)","v":1},{"$f":"BQ243*(1+BR242*BR238)","v":1},{"$f":"BR243*(1+BS242*BS238)","v":1},{"$f":"BS243*(1+BT242*BT238)","v":1},{"$f":"BT243*(1+BU242*BU238)","v":1},{"$f":"BU243*(1+BV242*BV238)","v":1},{"$f":"BV243*(1+BW242*BW238)","v":1},{"$f":"BW243*(1+BX242*BX238)","v":1},{"$f":"BX243*(1+BY242*BY238)","v":1},{"$f":"BY243*(1+BZ242*BZ238)","v":1},{"$f":"BZ243*(1+CA242*CA238)","v":1},{"$f":"CA243*(1+CB242*CB238)","v":1},{"$f":"CB243*(1+CC242*CC238)","v":1},{"$f":"CC243*(1+CD242*CD238)","v":1},{"$f":"CD243*(1+CE242*CE238)","v":1},{"$f":"CE243*(1+CF242*CF238)","v":1},{"$f":"CF243*(1+CG242*CG238)","v":1},{"$f":"CG243*(1+CH242*CH238)","v":1},{"$f":"CH243*(1+CI242*CI238)","v":1},{"$f":"CI243*(1+CJ242*CJ238)","v":1},{"$f":"CJ243*(1+CK242*CK238)","v":1},{"$f":"CK243*(1+CL242*CL238)","v":1},{"$f":"CL243*(1+CM242*CM238)","v":1},{"$f":"CM243*(1+CN242*CN238)","v":1},{"$f":"CN243*(1+CO242*CO238)","v":1},{"$f":"CO243*(1+CP242*CP238)","v":1},{"$f":"CP243*(1+CQ242*CQ238)","v":1},{"$f":"CQ243*(1+CR242*CR238)","v":1},{"$f":"CR243*(1+CS242*CS238)","v":1},{"$f":"CS243*(1+CT242*CT238)","v":1},{"$f":"CT243*(1+CU242*CU238)","v":1},{"$f":"CU243*(1+CV242*CV238)","v":1},{"$f":"CV243*(1+CW242*CW238)","v":1},{"$f":"CW243*(1+CX242*CX238)","v":1},{"$f":"CX243*(1+CY242*CY238)","v":1},{"$f":"CY243*(1+CZ242*CZ238)","v":1},{"$f":"CZ243*(1+DA242*DA238)","v":1},{"$f":"DA243*(1+DB242*DB238)","v":1},{"$f":"DB243*(1+DC242*DC238)","v":1},{"$f":"DC243*(1+DD242*DD238)","v":1},{"$f":"DD243*(1+DE242*DE238)","v":1},{"$f":"DE243*(1+DF242*DF238)","v":1},{"$f":"DF243*(1+DG242*DG238)","v":1},{"$f":"DG243*(1+DH242*DH238)","v":1},{"$f":"DH243*(1+DI242*DI238)","v":1},{"$f":"DI243*(1+DJ242*DJ238)","v":1},{"$f":"DJ243*(1+DK242*DK238)","v":1},{"$f":"DK243*(1+DL242*DL238)","v":1},{"$f":"DL243*(1+DM242*DM238)","v":1},{"$f":"DM243*(1+DN242*DN238)","v":1},{"$f":"DN243*(1+DO242*DO238)","v":1},{"$f":"DO243*(1+DP242*DP238)","v":1},{"$f":"DP243*(1+DQ242*DQ238)","v":1},{"$f":"DQ243*(1+DR242*DR238)","v":1},{"$f":"DR243*(1+DS242*DS238)","v":1},{"$f":"DS243*(1+DT242*DT238)","v":1},{"$f":"DT243*(1+DU242*DU238)","v":1},{"$f":"DU243*(1+DV242*DV238)","v":1},{"$f":"DV243*(1+DW242*DW238)","v":1},{"$f":"DW243*(1+DX242*DX238)","v":1},{"$f":"DX243*(1+DY242*DY238)","v":1},{"$f":"DY243*(1+DZ242*DZ238)","v":1},{"$f":"DZ243*(1+EA242*EA238)","v":1},{"$f":"EA243*(1+EB242*EB238)","v":1},{"$f":"EB243*(1+EC242*EC238)","v":1},{"$f":"EC243*(1+ED242*ED238)","v":1},{"$f":"ED243*(1+EE242*EE238)","v":1},{"$f":"EE243*(1+EF242*EF238)","v":1},{"$f":"EF243*(1+EG242*EG238)","v":1},{"$f":"EG243*(1+EH242*EH238)","v":1},{"$f":"EH243*(1+EI242*EI238)","v":1},{"$f":"EI243*(1+EJ242*EJ238)","v":1},{"$f":"EJ243*(1+EK242*EK238)","v":1},{"$f":"EK243*(1+EL242*EL238)","v":1},{"$f":"EL243*(1+EM242*EM238)","v":1},{"$f":"EM243*(1+EN242*EN238)","v":1},{"$f":"EN243*(1+EO242*EO238)","v":1},{"$f":"EO243*(1+EP242*EP238)","v":1},{"$f":"EP243*(1+EQ242*EQ238)","v":1},{"$f":"EQ243*(1+ER242*ER238)","v":1},{"$f":"ER243*(1+ES242*ES238)","v":1},{"$f":"ES243*(1+ET242*ET238)","v":1},{"$f":"ET243*(1+EU242*EU238)","v":1},{"$f":"EU243*(1+EV242*EV238)","v":1},{"$f":"EV243*(1+EW242*EW238)","v":1},{"$f":"EW243*(1+EX242*EX238)","v":1},{"$f":"EX243*(1+EY242*EY238)","v":1},{"$f":"EY243*(1+EZ242*EZ238)","v":1}]
[null,null,"PV of Debt Service",null,{"$f":"SUMPRODUCT(J241:EZ241/J243:EZ243)","v":0}]
["Funding and Cash Flow Before COD"]
[null,null,"EPC",null,null,null,null,null,null,{"$f":"J119","v":2637.9240325551682},3093.3403169936519,3582.8733707780793,4098.9588287667539,4631.8447342996697,5169.7884177859505,5699.4098072242987,6206.1939159933036,6675.1209117719745,7091.3883923931016,7441.1789220297569,7712.4180432328667,7895.4650695067921,7983.6816436706113,7973.8313282723811,7866.276692202724,7664.9571593607852,7377.1495063289867,7013.031311291561,6585.0838679934041,6107.3833796636472,5594.8364415454753,5062.4173601015045,4524.4608883435185,3994.0552627170587,3482.5682842163874,2999.3251646437052,2551.4425961357783,2143.8104914276701,1779.2022612739834,1458.4870975808756,1180.9138085666771,{"$f":"AP119","v":944.43516676814841},746.04399465720212,582.09660643111908,448.60492347546119,0,0,0,0,0,0,0,0,0,0,0,0,0,0,0,0,0,0,0,0,0,0,0,0,0,0,0,0,{"$f":"BV119","v":0},0,0,0,0,0,0,0,0,0,0,0,0,0,0,0,0,0,0,0,0,0,0,0,0,0,0,0,0,0,0,0,{"$f":"DB119","v":0},0,0,0,0,0,0,0,0,0,0,0,0,0,0,0,0,0,0,0,0,0,0,0,0,0,0,0,0,0,0,0,{"$f":"EH119","v":0},0,0,0,0,0,0,0,0,0,0,0,0,0,0,0,0,0,0]
[null,null,"Development Fee",null,null,{"$f":"F12","v":"2019-01-01"},{"$f":"I137","v":45095.192494425573},null,null,{"$f":"(J4=$F$247)*$G$247","v":45095.192494425573},0,0,0,0,0,0,0,0,0,0,0,0,0,0,0,0,0,0,0,0,0,0,0,0,0,0,0,0,0,0,0,{"$f":"(AP4=$F$247)*$G$247","v":0},0,0,0,0,0,0,0,0,0,0,0,0,0,0,0,0,0,0,0,0,0,0,0,0,0,0,0,0,0,0,0,{"$f":"(BV4=$F$247)*$G$247","v":0},0,0,0,0,0,0,0,0,0,0,0,0,0,0,0,0,0,0,0,0,0,0,0,0,0,0,0,0,0,0,0,{"$f":"(DB4=$F$247)*$G$247","v":0},0,0,0,0,0,0,0,0,0,0,0,0,0,0,0,0,0,0,0,0,0,0,0,0,0,0,0,0,0,0,0,{"$f":"(EH4=$F$247)*$G$247","v":0},0,0,0,0,0,0,0,0,0,0,0,0,0,0,0,0,0,0]
[null,null,"IDC",null,null,null,null,null,null,{"$f":"J365","v":0},24.483338179266035,31.330216771066016,39.2235206191299,48.220990712740019,58.359804857176783,69.652332925013582,82.082633971882814,95.604012140643434,110.13790301498672,125.57428758328481,141.77373186325923,158.57103438887685,175.78034158015356,193.20147433336115,210.62710984901071,227.85039119336827,244.6725010367779,260.90973933245317,276.39968701417922,291.00611449150637,304.62239657724228,317.17331371881392,328.61524107328279,338.93484040858539,348.14646501416439,356.28855743419962,363.41935988061147,369.61226708750792,374.95113374099373,379.5258085622205,383.42811134415888,{"$f":"AP365","v":386.74840507966758},389.5728498224907,391.98136412485161,394.04626831158049,0,0,0,0,0,0,0,0,0,0,0,0,0,0,0,0,0,0,0,0,0,0,0,0,0,0,0,0,{"$f":"BV365","v":0},0,0,0,0,0,0,0,0,0,0,0,0,0,0,0,0,0,0,0,0,0,0,0,0,0,0,0,0,0,0,0,{"$f":"DB365","v":0},0,0,0,0,0,0,0,0,0,0,0,0,0,0,0,0,0,0,0,0,0,0,0,0,0,0,0,0,0,0,0,{"$f":"EH365","v":0},0,0,0,0,0,0,0,0,0,0,0,0,0,0,0,0,0,0]
[null,null,"Up-Front Fees",null,null,null,null,null,null,{"$f":"J300","v":2226.5524362101032},0,0,0,0,0,0,0,0,0,0,0,0,0,0,0,0,0,0,0,0,0,0,0,0,0,0,0,0,0,0,0,{"$f":"AP300","v":0},0,0,0,0,0,0,0,0,0,0,0,0,0,0,0,0,0,0,0,0,0,0,0,0,0,0,0,0,0,0,0,{"$f":"BV300","v":0},0,0,0,0,0,0,0,0,0,0,0,0,0,0,0,0,0,0,0,0,0,0,0,0,0,0,0,0,0,0,0,{"$f":"DB300","v":0},0,0,0,0,0,0,0,0,0,0,0,0,0,0,0,0,0,0,0,0,0,0,0,0,0,0,0,0,0,0,0,{"$f":"EH300","v":0},0,0,0,0,0,0,0,0,0,0,0,0,0,0,0,0,0,0]
[null,null,"Commitment Fees",null,null,null,null,null,null,{"$f":"J303","v":123.69735756722797},116.04631438620734,113.90666482626983,111.44000737374986,108.6282979694967,105.45991854936021,101.93100352816121,98.04653445101458,93.821103773276889,89.279262875044623,84.455392697451458,79.393066359959448,74.143909320703955,68.766000823429977,63.321896838052602,57.876385739412115,52.494110319300368,47.237200993234865,42.163064025836334,37.322455375296947,32.757946788632204,28.50285863683974,24.580697030098612,21.005094731827086,17.780219939545013,14.901587250301588,12.357183369040577,10.128807604536876,8.1935241023817316,6.5251282731674056,5.0955423915340363,3.8760727721783046,{"$f":"AP303","v":2.8384809798318265},1.9558419976996084,1.2031812782118263,0.55789871985905248,0,0,0,0,0,0,0,0,0,0,0,0,0,0,0,0,0,0,0,0,0,0,0,0,0,0,0,0,{"$f":"BV303","v":0},0,0,0,0,0,0,0,0,0,0,0,0,0,0,0,0,0,0,0,0,0,0,0,0,0,0,0,0,0,0,0,{"$f":"DB303","v":0},0,0,0,0,0,0,0,0,0,0,0,0,0,0,0,0,0,0,0,0,0,0,0,0,0,0,0,0,0,0,0,{"$f":"EH303","v":0},0,0,0,0,0,0,0,0,0,0,0,0,0,0,0,0,0,0]
[null,null,"DSRA Funding",null,null,{"$f":"L134","v":false},null,null,null,{"$f":"IF($F$251,'Parallel Model P50'!J187,'Parallel Model P99'!J187)","v":0},{"$f":"IF($F$251,'Parallel Model P50'!K187,'Parallel Model P99'!K187)","v":0},{"$f":"IF($F$251,'Parallel Model P50'!L187,'Parallel Model P99'!L187)","v":0},{"$f":"IF($F$251,'Parallel Model P50'!M187,'Parallel Model P99'!M187)","v":0},{"$f":"IF($F$251,'Parallel Model P50'!N187,'Parallel Model P99'!N187)","v":0},{"$f":"IF($F$251,'Parallel Model P50'!O187,'Parallel Model P99'!O187)","v":0},{"$f":"IF($F$251,'Parallel Model P50'!P187,'Parallel Model P99'!P187)","v":0},{"$f":"IF($F$251,'Parallel Model P50'!Q187,'Parallel Model P99'!Q187)","v":0},{"$f":"IF($F$251,'Parallel Model P50'!R187,'Parallel Model P99'!R187)","v":0},{"$f":"IF($F$251,'Parallel Model P50'!S187,'Parallel Model P99'!S187)","v":0},{"$f":"IF($F$251,'Parallel Model P50'!T187,'Parallel Model P99'!T187)","v":0},{"$f":"IF($F$251,'Parallel Model P50'!U187,'Parallel Model P99'!U187)","v":0},{"$f":"IF($F$251,'Parallel Model P50'!V187,'Parallel Model P99'!V187)","v":0},{"$f":"IF($F$251,'Parallel Model P50'!W187,'Parallel Model P99'!W187)","v":0},{"$f":"IF($F$251,'Parallel Model P50'!X187,'Parallel Model P99'!X187)","v":0},{"$f":"IF($F$251,'Parallel Model P50'!Y187,'Parallel Model P99'!Y187)","v":0},{"$f":"IF($F$251,'Parallel Model P50'!Z187,'Parallel Model P99'!Z187)","v":0},{"$f":"IF($F$251,'Parallel Model P50'!AA187,'Parallel Model P99'!AA187)","v":0},{"$f":"IF($F$251,'Parallel Model P50'!AB187,'Parallel Model P99'!AB187)","v":0},{"$f":"IF($F$251,'Parallel Model P50'!AC187,'Parallel Model P99'!AC187)","v":0},{"$f":"IF($F$251,'Parallel Model P50'!AD187,'Parallel Model P99'!AD187)","v":0},{"$f":"IF($F$251,'Parallel Model P50'!AE187,'Parallel Model P99'!AE187)","v":0},{"$f":"IF($F$251,'Parallel Model P50'!AF187,'Parallel Model P99'!AF187)","v":0},{"$f":"IF($F$251,'Parallel Model P50'!AG187,'Parallel Model P99'!AG187)","v":0},{"$f":"IF($F$251,'Parallel Model P50'!AH187,'Parallel Model P99'!AH187)","v":0},{"$f":"IF($F$251,'Parallel Model P50'!AI187,'Parallel Model P99'!AI187)","v":0},{"$f":"IF($F$251,'Parallel Model P50'!AJ187,'Parallel Model P99'!AJ187)","v":0},{"$f":"IF($F$251,'Parallel Model P50'!AK187,'Parallel Model P99'!AK187)","v":0},{"$f":"IF($F$251,'Parallel Model P50'!AL187,'Parallel Model P99'!AL187)","v":0},{"$f":"IF($F$251,'Parallel Model P50'!AM187,'Parallel Model P99'!AM187)","v":0},{"$f":"IF($F$251,'Parallel Model P50'!AN187,'Parallel Model P99'!AN187)","v":0},{"$f":"IF($F$251,'Parallel Model P50'!AO187,'Parallel Model P99'!AO187)","v":0},{"$f":"IF($F$251,'Parallel Model P50'!AP187,'Parallel Model P99'!AP187)","v":0},{"$f":"IF($F$251,'Parallel Model P50'!AQ187,'Parallel Model P99'!AQ187)","v":0},{"$f":"IF($F$251,'Parallel Model P50'!AR187,'Parallel Model P99'!AR187)","v":0},{"$f":"IF($F$251,'Parallel Model P50'!AS187,'Parallel Model P99'!AS187)","v":0},{"$f":"IF($F$251,'Parallel Model P50'!AT187,'Parallel Model P99'!AT187)","v":0},{"$f":"IF($F$251,'Parallel Model P50'!AU187,'Parallel Model P99'!AU187)","v":0},{"$f":"IF($F$251,'Parallel Model P50'!AV187,'Parallel Model P99'!AV187)","v":0},{"$f":"IF($F$251,'Parallel Model P50'!AW187,'Parallel Model P99'!AW187)","v":0},{"$f":"IF($F$251,'Parallel Model P50'!AX187,'Parallel Model P99'!AX187)","v":0},{"$f":"IF($F$251,'Parallel Model P50'!AY187,'Parallel Model P99'!AY187)","v":0},{"$f":"IF($F$251,'Parallel Model P50'!AZ187,'Parallel Model P99'!AZ187)","v":0},{"$f":"IF($F$251,'Parallel Model P50'!BA187,'Parallel Model P99'!BA187)","v":0},{"$f":"IF($F$251,'Parallel Model P50'!BB187,'Parallel Model P99'!BB187)","v":0},{"$f":"IF($F$251,'Parallel Model P50'!BC187,'Parallel Model P99'!BC187)","v":0},{"$f":"IF($F$251,'Parallel Model P50'!BD187,'Parallel Model P99'!BD187)","v":0},{"$f":"IF($F$251,'Parallel Model P50'!BE187,'Parallel Model P99'!BE187)","v":0},{"$f":"IF($F$251,'Parallel Model P50'!BF187,'Parallel Model P99'!BF187)","v":0},{"$f":"IF($F$251,'Parallel Model P50'!BG187,'Parallel Model P99'!BG187)","v":0},{"$f":"IF($F$251,'Parallel Model P50'!BH187,'Parallel Model P99'!BH187)","v":0},{"$f":"IF($F$251,'Parallel Model P50'!BI187,'Parallel Model P99'!BI187)","v":0},{"$f":"IF($F$251,'Parallel Model P50'!BJ187,'Parallel Model P99'!BJ187)","v":0},{"$f":"IF($F$251,'Parallel Model P50'!BK187,'Parallel Model P99'!BK187)","v":0},{"$f":"IF($F$251,'Parallel Model P50'!BL187,'Parallel Model P99'!BL187)","v":0},{"$f":"IF($F$251,'Parallel Model P50'!BM187,'Parallel Model P99'!BM187)","v":0},{"$f":"IF($F$251,'Parallel Model P50'!BN187,'Parallel Model P99'!BN187)","v":0},{"$f":"IF($F$251,'Parallel Model P50'!BO187,'Parallel Model P99'!BO187)","v":0},{"$f":"IF($F$251,'Parallel Model P50'!BP187,'Parallel Model P99'!BP187)","v":0},{"$f":"IF($F$251,'Parallel Model P50'!BQ187,'Parallel Model P99'!BQ187)","v":0},{"$f":"IF($F$251,'Parallel Model P50'!BR187,'Parallel Model P99'!BR187)","v":0},{"$f":"IF($F$251,'Parallel Model P50'!BS187,'Parallel Model P99'!BS187)","v":0},{"$f":"IF($F$251,'Parallel Model P50'!BT187,'Parallel Model P99'!BT187)","v":0},{"$f":"IF($F$251,'Parallel Model P50'!BU187,'Parallel Model P99'!BU187)","v":0},{"$f":"IF($F$251,'Parallel Model P50'!BV187,'Parallel Model P99'!BV187)","v":0},{"$f":"IF($F$251,'Parallel Model P50'!BW187,'Parallel Model P99'!BW187)","v":0},{"$f":"IF($F$251,'Parallel Model P50'!BX187,'Parallel Model P99'!BX187)","v":0},{"$f":"IF($F$251,'Parallel Model P50'!BY187,'Parallel Model P99'!BY187)","v":0},{"$f":"IF($F$251,'Parallel Model P50'!BZ187,'Parallel Model P99'!BZ187)","v":0},{"$f":"IF($F$251,'Parallel Model P50'!CA187,'Parallel Model P99'!CA187)","v":0},{"$f":"IF($F$251,'Parallel Model P50'!CB187,'Parallel Model P99'!CB187)","v":0},{"$f":"IF($F$251,'Parallel Model P50'!CC187,'Parallel Model P99'!CC187)","v":0},{"$f":"IF($F$251,'Parallel Model P50'!CD187,'Parallel Model P99'!CD187)","v":0},{"$f":"IF($F$251,'Parallel Model P50'!CE187,'Parallel Model P99'!CE187)","v":0},{"$f":"IF($F$251,'Parallel Model P50'!CF187,'Parallel Model P99'!CF187)","v":0},{"$f":"IF($F$251,'Parallel Model P50'!CG187,'Parallel Model P99'!CG187)","v":0},{"$f":"IF($F$251,'Parallel Model P50'!CH187,'Parallel Model P99'!CH187)","v":0},{"$f":"IF($F$251,'Parallel Model P50'!CI187,'Parallel Model P99'!CI187)","v":0},{"$f":"IF($F$251,'Parallel Model P50'!CJ187,'Parallel Model P99'!CJ187)","v":0},{"$f":"IF($F$251,'Parallel Model P50'!CK187,'Parallel Model P99'!CK187)","v":0},{"$f":"IF($F$251,'Parallel Model P50'!CL187,'Parallel Model P99'!CL187)","v":0},{"$f":"IF($F$251,'Parallel Model P50'!CM187,'Parallel Model P99'!CM187)","v":0},{"$f":"IF($F$251,'Parallel Model P50'!CN187,'Parallel Model P99'!CN187)","v":0},{"$f":"IF($F$251,'Parallel Model P50'!CO187,'Parallel Model P99'!CO187)","v":0},{"$f":"IF($F$251,'Parallel Model P50'!CP187,'Parallel Model P99'!CP187)","v":0},{"$f":"IF($F$251,'Parallel Model P50'!CQ187,'Parallel Model P99'!CQ187)","v":0},{"$f":"IF($F$251,'Parallel Model P50'!CR187,'Parallel Model P99'!CR187)","v":0},{"$f":"IF($F$251,'Parallel Model P50'!CS187,'Parallel Model P99'!CS187)","v":0},{"$f":"IF($F$251,'Parallel Model P50'!CT187,'Parallel Model P99'!CT187)","v":0},{"$f":"IF($F$251,'Parallel Model P50'!CU187,'Parallel Model P99'!CU187)","v":0},{"$f":"IF($F$251,'Parallel Model P50'!CV187,'Parallel Model P99'!CV187)","v":0},{"$f":"IF($F$251,'Parallel Model P50'!CW187,'Parallel Model P99'!CW187)","v":0},{"$f":"IF($F$251,'Parallel Model P50'!CX187,'Parallel Model P99'!CX187)","v":0},{"$f":"IF($F$251,'Parallel Model P50'!CY187,'Parallel Model P99'!CY187)","v":0},{"$f":"IF($F$251,'Parallel Model P50'!CZ187,'Parallel Model P99'!CZ187)","v":0},{"$f":"IF($F$251,'Parallel Model P50'!DA187,'Parallel Model P99'!DA187)","v":0},{"$f":"IF($F$251,'Parallel Model P50'!DB187,'Parallel Model P99'!DB187)","v":0},{"$f":"IF($F$251,'Parallel Model P50'!DC187,'Parallel Model P99'!DC187)","v":0},{"$f":"IF($F$251,'Parallel Model P50'!DD187,'Parallel Model P99'!DD187)","v":0},{"$f":"IF($F$251,'Parallel Model P50'!DE187,'Parallel Model P99'!DE187)","v":0},{"$f":"IF($F$251,'Parallel Model P50'!DF187,'Parallel Model P99'!DF187)","v":0},{"$f":"IF($F$251,'Parallel Model P50'!DG187,'Parallel Model P99'!DG187)","v":0},{"$f":"IF($F$251,'Parallel Model P50'!DH187,'Parallel Model P99'!DH187)","v":0},{"$f":"IF($F$251,'Parallel Model P50'!DI187,'Parallel Model P99'!DI187)","v":0},{"$f":"IF($F$251,'Parallel Model P50'!DJ187,'Parallel Model P99'!DJ187)","v":0},{"$f":"IF($F$251,'Parallel Model P50'!DK187,'Parallel Model P99'!DK187)","v":0},{"$f":"IF($F$251,'Parallel Model P50'!DL187,'Parallel Model P99'!DL187)","v":0},{"$f":"IF($F$251,'Parallel Model P50'!DM187,'Parallel Model P99'!DM187)","v":0},{"$f":"IF($F$251,'Parallel Model P50'!DN187,'Parallel Model P99'!DN187)","v":0},{"$f":"IF($F$251,'Parallel Model P50'!DO187,'Parallel Model P99'!DO187)","v":0},{"$f":"IF($F$251,'Parallel Model P50'!DP187,'Parallel Model P99'!DP187)","v":0},{"$f":"IF($F$251,'Parallel Model P50'!DQ187,'Parallel Model P99'!DQ187)","v":0},{"$f":"IF($F$251,'Parallel Model P50'!DR187,'Parallel Model P99'!DR187)","v":0},{"$f":"IF($F$251,'Parallel Model P50'!DS187,'Parallel Model P99'!DS187)","v":0},{"$f":"IF($F$251,'Parallel Model P50'!DT187,'Parallel Model P99'!DT187)","v":0},{"$f":"IF($F$251,'Parallel Model P50'!DU187,'Parallel Model P99'!DU187)","v":0},{"$f":"IF($F$251,'Parallel Model P50'!DV187,'Parallel Model P99'!DV187)","v":0},{"$f":"IF($F$251,'Parallel Model P50'!DW187,'Parallel Model P99'!DW187)","v":0},{"$f":"IF($F$251,'Parallel Model P50'!DX187,'Parallel Model P99'!DX187)","v":0},{"$f":"IF($F$251,'Parallel Model P50'!DY187,'Parallel Model P99'!DY187)","v":0},{"$f":"IF($F$251,'Parallel Model P50'!DZ187,'Parallel Model P99'!DZ187)","v":0},{"$f":"IF($F$251,'Parallel Model P50'!EA187,'Parallel Model P99'!EA187)","v":0},{"$f":"IF($F$251,'Parallel Model P50'!EB187,'Parallel Model P99'!EB187)","v":0},{"$f":"IF($F$251,'Parallel Model P50'!EC187,'Parallel Model P99'!EC187)","v":0},{"$f":"IF($F$251,'Parallel Model P50'!ED187,'Parallel Model P99'!ED187)","v":0},{"$f":"IF($F$251,'Parallel Model P50'!EE187,'Parallel Model P99'!EE187)","v":0},{"$f":"IF($F$251,'Parallel Model P50'!EF187,'Parallel Model P99'!EF187)","v":0},{"$f":"IF($F$251,'Parallel Model P50'!EG187,'Parallel Model P99'!EG187)","v":0},{"$f":"IF($F$251,'Parallel Model P50'!EH187,'Parallel Model P99'!EH187)","v":0},{"$f":"IF($F$251,'Parallel Model P50'!EI187,'Parallel Model P99'!EI187)","v":0},{"$f":"IF($F$251,'Parallel Model P50'!EJ187,'Parallel Model P99'!EJ187)","v":0},{"$f":"IF($F$251,'Parallel Model P50'!EK187,'Parallel Model P99'!EK187)","v":0},{"$f":"IF($F$251,'Parallel Model P50'!EL187,'Parallel Model P99'!EL187)","v":0},{"$f":"IF($F$251,'Parallel Model P50'!EM187,'Parallel Model P99'!EM187)","v":0},{"$f":"IF($F$251,'Parallel Model P50'!EN187,'Parallel Model P99'!EN187)","v":0},{"$f":"IF($F$251,'Parallel Model P50'!EO187,'Parallel Model P99'!EO187)","v":0},{"$f":"IF($F$251,'Parallel Model P50'!EP187,'Parallel Model P99'!EP187)","v":0},{"$f":"IF($F$251,'Parallel Model P50'!EQ187,'Parallel Model P99'!EQ187)","v":0},{"$f":"IF($F$251,'Parallel Model P50'!ER187,'Parallel Model P99'!ER187)","v":0},{"$f":"IF($F$251,'Parallel Model P50'!ES187,'Parallel Model P99'!ES187)","v":0},{"$f":"IF($F$251,'Parallel Model P50'!ET187,'Parallel Model P99'!ET187)","v":0},{"$f":"IF($F$251,'Parallel Model P50'!EU187,'Parallel Model P99'!EU187)","v":0},{"$f":"IF($F$251,'Parallel Model P50'!EV187,'Parallel Model P99'!EV187)","v":0},{"$f":"IF($F$251,'Parallel Model P50'!EW187,'Parallel Model P99'!EW187)","v":0},{"$f":"IF($F$251,'Parallel Model P50'!EX187,'Parallel Model P99'!EX187)","v":0},{"$f":"IF($F$251,'Parallel Model P50'!EY187,'Parallel Model P99'!EY187)","v":0},{"$f":"IF($F$251,'Parallel Model P50'!EZ187,'Parallel Model P99'!EZ187)","v":0}]
[null,null,null,"Total",null,null,null,null,null,{"$f":"SUM(J246:J251)","v":50083.366320758076},{"$f":"SUM(K246:K251)","v":3233.8699695591254},3728.1102523754148,4249.6223567596335,4788.6940229819065,5333.608141192487,5870.9931436774741,6386.3230844162008,6864.5460276858948,7290.805558283133,7651.208602310493,7933.5848414560851,8128.1800132163726,8228.2279860741946,8230.3546994437947,8134.780187791147,7945.3016608734542,7669.059208359,7316.1041146498501,6898.8060103828802,6431.147440943786,5927.9616967595575,5404.1713708504167,4874.0812241486283,4350.7703230651887,{"$f":"SUM(AI246:AI251)","v":3845.6163364808531},3367.9709054469454,2924.9907636209268,2521.6162826175596,2160.6785232881443,1843.1084485346303,1568.2179926830142,1334.0220528276477,1137.5726864773924,975.28115183418254,843.20909050690068,0,0,0,0,0,0,0,0,0,0,0,0,0,0,0,0,0,0,0,0,0,0,0,0,0,0,0,0,0,0,0,0,0,0,0,0,0,0,0,0,0,0,0,0,0,0,0,0,0,0,0,0,0,{"$f":"SUM(CU246:CU251)","v":0},0,0,0,0,0,0,0,0,0,0,0,0,0,0,0,0,0,0,0,0,0,0,0,0,0,0,0,0,0,0,0,{"$f":"SUM(EA246:EA251)","v":0},0,0,0,0,0,0,0,0,0,0,0,0,0,0,0,0,0,0,0,0,0,0,0,0,0]
[]
[null,null,"Equity Up-Front",null,null,{"$f":"G151","v":0.5},{"$f":"I148","v":77039.133391454321},null,null,{"$f":"$G$254*$F$254","v":38519.566695727161},38519.566695727161,38519.566695727161,38519.566695727161,38519.566695727161,38519.566695727161,38519.566695727161,38519.566695727161,38519.566695727161,38519.566695727161,38519.566695727161,38519.566695727161,38519.566695727161,38519.566695727161,38519.566695727161,38519.566695727161,38519.566695727161,38519.566695727161,38519.566695727161,38519.566695727161,38519.566695727161,38519.566695727161,38519.566695727161,38519.566695727161,38519.566695727161,38519.566695727161,38519.566695727161,38519.566695727161,38519.566695727161,38519.566695727161,38519.566695727161,38519.566695727161,{"$f":"$G$254*$F$254","v":38519.566695727161},38519.566695727161,38519.566695727161,38519.566695727161,38519.566695727161,38519.566695727161,38519.566695727161,38519.566695727161,38519.566695727161,38519.566695727161,38519.566695727161,38519.566695727161,38519.566695727161,38519.566695727161,38519.566695727161,38519.566695727161,38519.566695727161,38519.566695727161,38519.566695727161,38519.566695727161,38519.566695727161,38519.566695727161,38519.566695727161,38519.566695727161,38519.566695727161,38519.566695727161,38519.566695727161,38519.566695727161,38519.566695727161,38519.566695727161,38519.566695727161,38519.566695727161,{"$f":"$G$254*$F$254","v":38519.566695727161},38519.566695727161,38519.566695727161,38519.566695727161,38519.566695727161,38519.566695727161,38519.566695727161,38519.566695727161,38519.566695727161,38519.566695727161,38519.566695727161,38519.566695727161,38519.566695727161,38519.566695727161,38519.566695727161,38519.566695727161,38519.566695727161,38519.566695727161,38519.566695727161,38519.566695727161,38519.566695727161,38519.566695727161,38519.566695727161,38519.566695727161,38519.566695727161,38519.566695727161,38519.566695727161,38519.566695727161,38519.566695727161,38519.566695727161,38519.566695727161,38519.566695727161,{"$f":"$G$254*$F$254","v":38519.566695727161},38519.566695727161,38519.566695727161,38519.566695727161,38519.566695727161,38519.566695727161,38519.566695727161,38519.566695727161,38519.566695727161,38519.566695727161,38519.566695727161,38519.566695727161,38519.566695727161,38519.566695727161,38519.566695727161,38519.566695727161,38519.566695727161,38519.566695727161,38519.566695727161,38519.566695727161,38519.566695727161,38519.566695727161,38519.566695727161,38519.566695727161,38519.566695727161,38519.566695727161,38519.566695727161,38519.566695727161,38519.566695727161,38519.566695727161,38519.566695727161,38519.566695727161,{"$f":"$G$254*$F$254","v":38519.566695727161},38519.566695727161,38519.566695727161,38519.566695727161,38519.566695727161,38519.566695727161,38519.566695727161,38519.566695727161,38519.566695727161,38519.566695727161,38519.566695727161,38519.566695727161,38519.566695727161,38519.566695727161,38519.566695727161,38519.566695727161,38519.566695727161,38519.566695727161,38519.566695727161]
[null,null,"Less: Opening Balance",null,null,null,null,null,null,{"$f":"J258","v":0},38519.566695727161,38519.566695727161,38519.566695727161,38519.566695727161,38519.566695727161,38519.566695727161,38519.566695727161,38519.566695727161,38519.566695727161,38519.566695727161,38519.566695727161,38519.566695727161,38519.566695727161,38519.566695727161,38519.566695727161,38519.566695727161,38519.566695727161,38519.566695727161,38519.566695727161,38519.566695727161,38519.566695727161,38519.566695727161,38519.566695727161,38519.566695727161,38519.566695727161,38519.566695727161,38519.566695727161,38519.566695727161,38519.566695727161,38519.566695727161,38519.566695727161,{"$f":"AP258","v":38519.566695727161},38519.566695727161,38519.566695727161,38519.566695727161,38519.566695727161,38519.566695727161,38519.566695727161,38519.566695727161,38519.566695727161,38519.566695727161,38519.566695727161,38519.566695727161,38519.566695727161,38519.566695727161,38519.566695727161,38519.566695727161,38519.566695727161,38519.566695727161,38519.566695727161,38519.566695727161,38519.566695727161,38519.566695727161,38519.566695727161,38519.566695727161,38519.566695727161,38519.566695727161,38519.566695727161,38519.566695727161,38519.566695727161,38519.566695727161,38519.566695727161,38519.566695727161,{"$f":"BV258","v":38519.566695727161},38519.566695727161,38519.566695727161,38519.566695727161,38519.566695727161,38519.566695727161,38519.566695727161,38519.566695727161,38519.566695727161,38519.566695727161,38519.566695727161,38519.566695727161,38519.566695727161,38519.566695727161,38519.566695727161,38519.566695727161,38519.566695727161,38519.566695727161,38519.566695727161,38519.566695727161,38519.566695727161,38519.566695727161,38519.566695727161,38519.566695727161,38519.566695727161,38519.566695727161,38519.566695727161,38519.566695727161,38519.566695727161,38519.566695727161,38519.566695727161,38519.566695727161,{"$f":"DB258","v":38519.566695727161},38519.566695727161,38519.566695727161,38519.566695727161,38519.566695727161,38519.566695727161,38519.566695727161,38519.566695727161,38519.566695727161,38519.566695727161,38519.566695727161,38519.566695727161,38519.566695727161,38519.566695727161,38519.566695727161,38519.566695727161,38519.566695727161,38519.566695727161,38519.566695727161,38519.566695727161,38519.566695727161,38519.566695727161,38519.566695727161,38519.566695727161,38519.566695727161,38519.566695727161,38519.566695727161,38519.566695727161,38519.566695727161,38519.566695727161,38519.566695727161,38519.566695727161,{"$f":"EH258","v":38519.566695727161},38519.566695727161,38519.566695727161,38519.566695727161,38519.566695727161,38519.566695727161,38519.566695727161,38519.566695727161,38519.566695727161,38519.566695727161,38519.566695727161,38519.566695727161,38519.566695727161,38519.566695727161,38519.566695727161,38519.566695727161,38519.566695727161,38519.566695727161,38519.566695727161]
[null,null,"Remaining Equity Funding",null,null,null,null,null,null,{"$f":"J254-J255","v":38519.566695727161},{"$f":"K254-K255","v":0},0,0,0,0,0,0,0,0,0,0,0,0,0,0,0,0,0,0,0,0,0,0,0,{"$f":"AI254-AI255","v":0},0,0,0,0,0,0,0,0,0,0,0,0,0,0,0,0,0,0,0,0,0,0,0,0,0,0,0,0,0,0,0,0,0,0,0,0,0,0,0,0,0,0,0,0,0,0,0,0,0,0,0,0,0,0,0,0,0,0,0,0,0,0,0,{"$f":"CU254-CU255","v":0},0,0,0,0,0,0,0,0,0,0,0,0,0,0,0,0,0,0,0,0,0,0,0,0,0,0,0,0,0,0,0,0,0,0,0,0,0,0,0,0,0,0,0,0,0,0,0,0,0,0,0,0,0,0,0,0,0]
[]
[null,null,"Opening Balance",null,null,null,null,null,null,{"$f":"I260","v":0},38519.566695727161,38519.566695727161,38519.566695727161,38519.566695727161,38519.566695727161,38519.566695727161,38519.566695727161,38519.566695727161,38519.566695727161,38519.566695727161,38519.566695727161,38519.566695727161,38519.566695727161,38519.566695727161,38519.566695727161,38519.566695727161,38519.566695727161,38519.566695727161,38519.566695727161,38519.566695727161,38519.566695727161,38519.566695727161,38519.566695727161,38519.566695727161,38519.566695727161,38519.566695727161,38519.566695727161,38519.566695727161,38519.566695727161,38519.566695727161,38519.566695727161,{"$f":"AO260","v":38519.566695727161},38519.566695727161,38519.566695727161,38519.566695727161,38519.566695727161,38519.566695727161,38519.566695727161,38519.566695727161,38519.566695727161,38519.566695727161,38519.566695727161,38519.566695727161,38519.566695727161,38519.566695727161,38519.566695727161,38519.566695727161,38519.566695727161,38519.566695727161,38519.566695727161,38519.566695727161,38519.566695727161,38519.566695727161,38519.566695727161,38519.566695727161,38519.566695727161,38519.566695727161,38519.566695727161,38519.566695727161,38519.566695727161,38519.566695727161,38519.566695727161,38519.566695727161,{"$f":"BU260","v":38519.566695727161},38519.566695727161,38519.566695727161,38519.566695727161,38519.566695727161,38519.566695727161,38519.566695727161,38519.566695727161,38519.566695727161,38519.566695727161,38519.566695727161,38519.566695727161,38519.566695727161,38519.566695727161,38519.566695727161,38519.566695727161,38519.566695727161,38519.566695727161,38519.566695727161,38519.566695727161,38519.566695727161,38519.566695727161,38519.566695727161,38519.566695727161,38519.566695727161,38519.566695727161,38519.566695727161,38519.566695727161,38519.566695727161,38519.566695727161,38519.566695727161,38519.566695727161,{"$f":"DA260","v":38519.566695727161},38519.566695727161,38519.566695727161,38519.566695727161,38519.566695727161,38519.566695727161,38519.566695727161,38519.566695727161,38519.566695727161,38519.566695727161,38519.566695727161,38519.566695727161,38519.566695727161,38519.566695727161,38519.566695727161,38519.566695727161,38519.566695727161,38519.566695727161,38519.566695727161,38519.566695727161,38519.566695727161,38519.566695727161,38519.566695727161,38519.566695727161,38519.566695727161,38519.566695727161,38519.566695727161,38519.566695727161,38519.566695727161,38519.566695727161,38519.566695727161,38519.566695727161,{"$f":"EG260","v":38519.566695727161},38519.566695727161,38519.566695727161,38519.566695727161,38519.566695727161,38519.566695727161,38519.566695727161,38519.566695727161,38519.566695727161,38519.566695727161,38519.566695727161,38519.566695727161,38519.566695727161,38519.566695727161,38519.566695727161,38519.566695727161,38519.566695727161,38519.566695727161,38519.566695727161]
[null,null,"Add: Equity Funding",null,null,null,null,null,null,{"$f":"MIN(J256,J252)","v":38519.566695727161},{"$f":"MIN(K256,K252)","v":0},0,0,0,0,0,0,0,0,0,0,0,0,0,0,0,0,0,0,0,0,0,0,0,{"$f":"MIN(AI256,AI252)","v":0},0,0,0,0,0,0,0,0,0,0,0,0,0,0,0,0,0,0,0,0,0,0,0,0,0,0,0,0,0,0,0,0,0,0,0,0,0,0,0,0,0,0,0,0,0,0,0,0,0,0,0,0,0,0,0,0,0,0,0,0,0,0,0,{"$f":"MIN(CU256,CU252)","v":0},0,0,0,0,0,0,0,0,0,0,0,0,0,0,0,0,0,0,0,0,0,0,0,0,0,0,0,0,0,0,0,0,0,0,0,0,0,0,0,0,0,0,0,0,0,0,0,0,0,0,0,0,0,0,0,0,0]
[null,null,"Closing Balance",null,null,null,null,null,null,{"$f":"J258+J259","v":38519.566695727161},{"$f":"K258+K259","v":38519.566695727161},38519.566695727161,38519.566695727161,38519.566695727161,38519.566695727161,38519.566695727161,38519.566695727161,38519.566695727161,38519.566695727161,38519.566695727161,38519.566695727161,38519.566695727161,38519.566695727161,38519.566695727161,38519.566695727161,38519.566695727161,38519.566695727161,38519.566695727161,38519.566695727161,38519.566695727161,38519.566695727161,38519.566695727161,38519.566695727161,38519.566695727161,{"$f":"AI258+AI259","v":38519.566695727161},38519.566695727161,38519.566695727161,38519.566695727161,38519.566695727161,38519.566695727161,38519.566695727161,38519.566695727161,38519.566695727161,38519.566695727161,38519.566695727161,38519.566695727161,38519.566695727161,38519.566695727161,38519.566695727161,38519.566695727161,38519.566695727161,38519.566695727161,38519.566695727161,38519.566695727161,38519.566695727161,38519.566695727161,38519.566695727161,38519.566695727161,38519.566695727161,38519.566695727161,38519.566695727161,38519.566695727161,38519.566695727161,38519.566695727161,38519.566695727161,38519.566695727161,38519.566695727161,38519.566695727161,38519.566695727161,38519.566695727161,38519.566695727161,38519.566695727161,38519.566695727161,38519.566695727161,38519.566695727161,38519.566695727161,38519.566695727161,38519.566695727161,38519.566695727161,38519.566695727161,38519.566695727161,38519.566695727161,38519.566695727161,38519.566695727161,38519.566695727161,38519.566695727161,38519.566695727161,38519.566695727161,38519.566695727161,38519.566695727161,38519.566695727161,38519.566695727161,38519.566695727161,38519.566695727161,38519.566695727161,38519.566695727161,38519.566695727161,38519.566695727161,{"$f":"CU258+CU259","v":38519.566695727161},38519.566695727161,38519.566695727161,38519.566695727161,38519.566695727161,38519.566695727161,38519.566695727161,38519.566695727161,38519.566695727161,38519.566695727161,38519.566695727161,38519.566695727161,38519.566695727161,38519.566695727161,38519.566695727161,38519.566695727161,38519.566695727161,38519.566695727161,38519.566695727161,38519.566695727161,38519.566695727161,38519.566695727161,38519.566695727161,38519.566695727161,38519.566695727161,38519.566695727161,38519.566695727161,38519.566695727161,38519.566695727161,38519.566695727161,38519.566695727161,38519.566695727161,38519.566695727161,38519.566695727161,38519.566695727161,38519.566695727161,38519.566695727161,38519.566695727161,38519.566695727161,38519.566695727161,38519.566695727161,38519.566695727161,38519.566695727161,38519.566695727161,38519.566695727161,38519.566695727161,38519.566695727161,38519.566695727161,38519.566695727161,38519.566695727161,38519.566695727161,38519.566695727161,38519.566695727161,38519.566695727161,38519.566695727161,38519.566695727161,38519.566695727161,38519.566695727161]
[]
[null,null,"Left-Over for Pro-Rata",null,null,null,null,null,null,{"$f":"J252-J259","v":11563.799625030915},{"$f":"K252-K259","v":3233.8699695591254},3728.1102523754148,4249.6223567596335,4788.6940229819065,5333.608141192487,5870.9931436774741,6386.3230844162008,6864.5460276858948,7290.805558283133,7651.208602310493,7933.5848414560851,8128.1800132163726,8228.2279860741946,8230.3546994437947,8134.780187791147,7945.3016608734542,7669.059208359,7316.1041146498501,6898.8060103828802,6431.147440943786,5927.9616967595575,5404.1713708504167,4874.0812241486283,4350.7703230651887,{"$f":"AI252-AI259","v":3845.6163364808531},3367.9709054469454,2924.9907636209268,2521.6162826175596,2160.6785232881443,1843.1084485346303,1568.2179926830142,1334.0220528276477,1137.5726864773924,975.28115183418254,843.20909050690068,0,0,0,0,0,0,0,0,0,0,0,0,0,0,0,0,0,0,0,0,0,0,0,0,0,0,0,0,0,0,0,0,0,0,0,0,0,0,0,0,0,0,0,0,0,0,0,0,0,0,0,0,0,{"$f":"CU252-CU259","v":0},0,0,0,0,0,0,0,0,0,0,0,0,0,0,0,0,0,0,0,0,0,0,0,0,0,0,0,0,0,0,0,0,0,0,0,0,0,0,0,0,0,0,0,0,0,0,0,0,0,0,0,0,0,0,0,0,0]
[]
[null,null,"Pro-Rata Equity ",null,null,null,{"$f":"I154","v":0.20603503044526195},null,null,{"$f":"$G$264*J262","v":2382.5478078061533},666.29049763413275,768.12130935146183,875.57107165583693,986.63871881812099,1098.9101157536911,1209.6302511015126,1315.806271130971,1414.3369498071654,1502.1613451713504,1576.4169973200926,1634.5963943494733,1674.689816487605,1695.3032036213531,1695.7413810752071,1676.0496836570626,1637.0104695948523,1580.0948474807631,1507.373734002588,1421.3957063851929,1325.0416587928214,1221.3677686702022,1113.4486129245786,1004.2314734101423,896.41109597307832,792.33167896762927,693.91998804251784,602.65056103474762,519.5412875603771,445.17546532809644,379.74490530775205,323.10784186725243,{"$f":"$G$264*AP262","v":274.85527426899523},234.37982309206797,200.94208181084593,173.73061063431092,0,0,0,0,0,0,0,0,0,0,0,0,0,0,0,0,0,0,0,0,0,0,0,0,0,0,0,0,{"$f":"$G$264*BV262","v":0},0,0,0,0,0,0,0,0,0,0,0,0,0,0,0,0,0,0,0,0,0,0,0,0,0,0,0,0,0,0,0,{"$f":"$G$264*DB262","v":0},0,0,0,0,0,0,0,0,0,0,0,0,0,0,0,0,0,0,0,0,0,0,0,0,0,0,0,0,0,0,0,{"$f":"$G$264*EH262","v":0},0,0,0,0,0,0,0,0,0,0,0,0,0,0,0,0,0,0]
[null,null,"Pro-Rata Debt ",null,null,null,{"$f":"I155","v":0.79396496955473816},null,null,{"$f":"J262*$G$265","v":9181.2518172247637},2567.579471924993,2959.9889430239537,3374.051285103797,3802.0553041637859,4234.6980254387963,4661.3628925759622,5070.5168132852305,5450.2090778787306,5788.6442131117838,6074.7916049904015,6298.9884471066125,6453.4901967287688,6532.9247824528429,6534.6133183685888,6458.7305041340851,6308.291191278603,6088.964360878238,5808.7303806472628,5477.4103039976881,5106.1057821509658,4706.5939280893563,4290.7227579258388,3869.8497507384864,3454.3592270921108,3053.2846575132244,2674.0509174044278,2322.3402025861797,2002.0749950571828,1715.5030579600482,1463.3635432268784,1245.1101508157619,{"$f":"AP262*$G$265","v":1059.1667785586526},903.19286338532459,774.33907002333672,669.4784798725899,0,0,0,0,0,0,0,0,0,0,0,0,0,0,0,0,0,0,0,0,0,0,0,0,0,0,0,0,{"$f":"BV262*$G$265","v":0},0,0,0,0,0,0,0,0,0,0,0,0,0,0,0,0,0,0,0,0,0,0,0,0,0,0,0,0,0,0,0,{"$f":"DB262*$G$265","v":0},0,0,0,0,0,0,0,0,0,0,0,0,0,0,0,0,0,0,0,0,0,0,0,0,0,0,0,0,0,0,0,{"$f":"EH262*$G$265","v":0},0,0,0,0,0,0,0,0,0,0,0,0,0,0,0,0,0,0]
[]
[null,"Period by Period Sources"]
[null,null,"Senior Funding",null,null,null,{"$f":"I146/(I146+I147)","v":1},null,null,{"$f":"J265*$G$268","v":9181.2518172247637},2567.579471924993,2959.9889430239537,3374.051285103797,3802.0553041637859,4234.6980254387963,4661.3628925759622,5070.5168132852305,5450.2090778787306,5788.6442131117838,6074.7916049904015,6298.9884471066125,6453.4901967287688,6532.9247824528429,6534.6133183685888,6458.7305041340851,6308.291191278603,6088.964360878238,5808.7303806472628,5477.4103039976881,5106.1057821509658,4706.5939280893563,4290.7227579258388,3869.8497507384864,3454.3592270921108,3053.2846575132244,2674.0509174044278,2322.3402025861797,2002.0749950571828,1715.5030579600482,1463.3635432268784,1245.1101508157619,{"$f":"AP265*$G$268","v":1059.1667785586526},903.19286338532459,774.33907002333672,669.4784798725899,0,0,0,0,0,0,0,0,0,0,0,0,0,0,0,0,0,0,0,0,0,0,0,0,0,0,0,0,{"$f":"BV265*$G$268","v":0},0,0,0,0,0,0,0,0,0,0,0,0,0,0,0,0,0,0,0,0,0,0,0,0,0,0,0,0,0,0,0,{"$f":"DB265*$G$268","v":0},0,0,0,0,0,0,0,0,0,0,0,0,0,0,0,0,0,0,0,0,0,0,0,0,0,0,0,0,0,0,0,{"$f":"EH265*$G$268","v":0},0,0,0,0,0,0,0,0,0,0,0,0,0,0,0,0,0,0]
[null,null,"Mezzanine Funding",null,null,null,{"$f":"1-G268","v":0},null,null,{"$f":"J265*$G$269","v":0},0,0,0,0,0,0,0,0,0,0,0,0,0,0,0,0,0,0,0,0,0,0,0,0,0,0,0,0,0,0,0,{"$f":"AP265*$G$269","v":0},0,0,0,0,0,0,0,0,0,0,0,0,0,0,0,0,0,0,0,0,0,0,0,0,0,0,0,0,0,0,0,{"$f":"BV265*$G$269","v":0},0,0,0,0,0,0,0,0,0,0,0,0,0,0,0,0,0,0,0,0,0,0,0,0,0,0,0,0,0,0,0,{"$f":"DB265*$G$269","v":0},0,0,0,0,0,0,0,0,0,0,0,0,0,0,0,0,0,0,0,0,0,0,0,0,0,0,0,0,0,0,0,{"$f":"EH265*$G$269","v":0},0,0,0,0,0,0,0,0,0,0,0,0,0,0,0,0,0,0]
[null,null,"Equity Funding",null,null,null,null,null,null,{"$f":"J264+J259","v":40902.114503533317},{"$f":"K264+K259","v":666.29049763413275},768.12130935146183,875.57107165583693,986.63871881812099,1098.9101157536911,1209.6302511015126,1315.806271130971,1414.3369498071654,1502.1613451713504,1576.4169973200926,1634.5963943494733,1674.689816487605,1695.3032036213531,1695.7413810752071,1676.0496836570626,1637.0104695948523,1580.0948474807631,1507.373734002588,1421.3957063851929,1325.0416587928214,1221.3677686702022,1113.4486129245786,1004.2314734101423,896.41109597307832,{"$f":"AI264+AI259","v":792.33167896762927},693.91998804251784,602.65056103474762,519.5412875603771,445.17546532809644,379.74490530775205,323.10784186725243,274.85527426899523,234.37982309206797,200.94208181084593,173.73061063431092,0,0,0,0,0,0,0,0,0,0,0,0,0,0,0,0,0,0,0,0,0,0,0,0,0,0,0,0,0,0,0,0,0,0,0,0,0,0,0,0,0,0,0,0,0,0,0,0,0,0,0,0,0,{"$f":"CU264+CU259","v":0},0,0,0,0,0,0,0,0,0,0,0,0,0,0,0,0,0,0,0,0,0,0,0,0,0,0,0,0,0,0,0,0,0,0,0,0,0,0,0,0,0,0,0,0,0,0,0,0,0,0,0,0,0,0,0,0,0]
[null,null,null,"Total Funding",null,null,null,null,null,{"$f":"SUM(J268:J270)","v":50083.366320758083},{"$f":"SUM(K268:K270)","v":3233.8699695591258},3728.1102523754153,4249.6223567596335,4788.6940229819065,5333.6081411924879,5870.993143677475,6386.3230844162017,6864.5460276858958,7290.8055582831339,7651.2086023104939,7933.584841456086,8128.1800132163735,8228.2279860741965,8230.3546994437966,8134.7801877911479,7945.3016608734551,7669.0592083590009,7316.104114649851,6898.8060103828811,6431.1474409437869,5927.9616967595584,5404.1713708504176,4874.0812241486283,4350.7703230651896,{"$f":"SUM(AI268:AI270)","v":3845.6163364808535},3367.9709054469458,2924.9907636209273,2521.61628261756,2160.6785232881448,1843.1084485346305,1568.2179926830145,1334.0220528276477,1137.5726864773926,975.28115183418265,843.20909050690079,0,0,0,0,0,0,0,0,0,0,0,0,0,0,0,0,0,0,0,0,0,0,0,0,0,0,0,0,0,0,0,0,0,0,0,0,0,0,0,0,0,0,0,0,0,0,0,0,0,0,0,0,0,{"$f":"SUM(CU268:CU270)","v":0},0,0,0,0,0,0,0,0,0,0,0,0,0,0,0,0,0,0,0,0,0,0,0,0,0,0,0,0,0,0,0,0,0,0,0,0,0,0,0,0,0,0,0,0,0,0,0,0,0,0,0,0,0,0,0,0,0]
[]
[null,null,"Funding in Parallel Model",null,null,null,{"$f":"SUM(J273:EZ273)","v":162658.0118168288},null,null,{"$f":"'Parallel Model P50'!J214","v":15359.141677610844},{"$f":"'Parallel Model P50'!K214","v":2718.3168603196036},{"$f":"'Parallel Model P50'!L214","v":3131.0382211297133},{"$f":"'Parallel Model P50'!M214","v":3566.5516007077408},{"$f":"'Parallel Model P50'!N214","v":4016.7529337335909},{"$f":"'Parallel Model P50'!O214","v":4471.8643148583515},{"$f":"'Parallel Model P50'!P214","v":4920.7263089479429},{"$f":"'Parallel Model P50'!Q214","v":5351.2152112672375},{"$f":"'Parallel Model P50'!R214","v":5750.7674247484438},{"$f":"'Parallel Model P50'!S214","v":6106.9815950965649},{"$f":"'Parallel Model P50'!T214","v":6408.2594412874441},{"$f":"'Parallel Model P50'!U214","v":6644.4396177833805},{"$f":"'Parallel Model P50'!V214","v":6807.3764455552327},{"$f":"'Parallel Model P50'!W214","v":6891.4175124901849},{"$f":"'Parallel Model P50'!X214","v":6893.7409846827741},{"$f":"'Parallel Model P50'!Y214","v":6814.5244250812248},{"$f":"'Parallel Model P50'!Z214","v":6656.9308954360122},{"$f":"'Parallel Model P50'!AA214","v":6426.9136368227319},{"$f":"'Parallel Model P50'!AB214","v":6132.8559953018957},{"$f":"'Parallel Model P50'!AC214","v":5785.0768148760862},{"$f":"'Parallel Model P50'!AD214","v":5395.241832613613},{"$f":"'Parallel Model P50'!AE214","v":4975.7276766738487},{"$f":"'Parallel Model P50'!AF214","v":4538.9864240723618},{"$f":"'Parallel Model P50'!AG214","v":4096.9554362094395},{"$f":"'Parallel Model P50'!AH214","v":3660.550002619726},{"$f":"'Parallel Model P50'!AI214","v":3239.266246536959},{"$f":"'Parallel Model P50'!AJ214","v":2840.9100853751102},{"$f":"'Parallel Model P50'!AK214","v":2471.4561597310462},{"$f":"'Parallel Model P50'!AL214","v":2135.029791869139},{"$f":"'Parallel Model P50'!AM214","v":1833.9961931346681},{"$f":"'Parallel Model P50'!AN214","v":1569.134941370525},{"$f":"'Parallel Model P50'!AO214","v":1339.874442301865},{"$f":"'Parallel Model P50'!AP214","v":1144.5605615070888},{"$f":"'Parallel Model P50'!AQ214","v":980.73546357733017},{"$f":"'Parallel Model P50'!AR214","v":845.40632544466678},{"$f":"'Parallel Model P50'!AS214","v":735.28831605440405},{"$f":"'Parallel Model P50'!AT214","v":0},{"$f":"'Parallel Model P50'!AU214","v":0},{"$f":"'Parallel Model P50'!AV214","v":0},{"$f":"'Parallel Model P50'!AW214","v":0},{"$f":"'Parallel Model P50'!AX214","v":0},{"$f":"'Parallel Model P50'!AY214","v":0},{"$f":"'Parallel Model P50'!AZ214","v":0},{"$f":"'Parallel Model P50'!BA214","v":0},{"$f":"'Parallel Model P50'!BB214","v":0},{"$f":"'Parallel Model P50'!BC214","v":0},{"$f":"'Parallel Model P50'!BD214","v":0},{"$f":"'Parallel Model P50'!BE214","v":0},{"$f":"'Parallel Model P50'!BF214","v":0},{"$f":"'Parallel Model P50'!BG214","v":0},{"$f":"'Parallel Model P50'!BH214","v":0},{"$f":"'Parallel Model P50'!BI214","v":0},{"$f":"'Parallel Model P50'!BJ214","v":0},{"$f":"'Parallel Model P50'!BK214","v":0},{"$f":"'Parallel Model P50'!BL214","v":0},{"$f":"'Parallel Model P50'!BM214","v":0},{"$f":"'Parallel Model P50'!BN214","v":0},{"$f":"'Parallel Model P50'!BO214","v":0},{"$f":"'Parallel Model P50'!BP214","v":0},{"$f":"'Parallel Model P50'!BQ214","v":0},{"$f":"'Parallel Model P50'!BR214","v":0},{"$f":"'Parallel Model P50'!BS214","v":0},{"$f":"'Parallel Model P50'!BT214","v":0},{"$f":"'Parallel Model P50'!BU214","v":0},{"$f":"'Parallel Model P50'!BV214","v":0},{"$f":"'Parallel Model P50'!BW214","v":0},{"$f":"'Parallel Model P50'!BX214","v":0},{"$f":"'Parallel Model P50'!BY214","v":0},{"$f":"'Parallel Model P50'!BZ214","v":0},{"$f":"'Parallel Model P50'!CA214","v":0},{"$f":"'Parallel Model P50'!CB214","v":0},{"$f":"'Parallel Model P50'!CC214","v":0},{"$f":"'Parallel Model P50'!CD214","v":0},{"$f":"'Parallel Model P50'!CE214","v":0},{"$f":"'Parallel Model P50'!CF214","v":0},{"$f":"'Parallel Model P50'!CG214","v":0},{"$f":"'Parallel Model P50'!CH214","v":0},{"$f":"'Parallel Model P50'!CI214","v":0},{"$f":"'Parallel Model P50'!CJ214","v":0},{"$f":"'Parallel Model P50'!CK214","v":0},{"$f":"'Parallel Model P50'!CL214","v":0},{"$f":"'Parallel Model P50'!CM214","v":0},{"$f":"'Parallel Model P50'!CN214","v":0},{"$f":"'Parallel Model P50'!CO214","v":0},{"$f":"'Parallel Model P50'!CP214","v":0},{"$f":"'Parallel Model P50'!CQ214","v":0},{"$f":"'Parallel Model P50'!CR214","v":0},{"$f":"'Parallel Model P50'!CS214","v":0},{"$f":"'Parallel Model P50'!CT214","v":0},{"$f":"'Parallel Model P50'!CU214","v":0},{"$f":"'Parallel Model P50'!CV214","v":0},{"$f":"'Parallel Model P50'!CW214","v":0},{"$f":"'Parallel Model P50'!CX214","v":0},{"$f":"'Parallel Model P50'!CY214","v":0},{"$f":"'Parallel Model P50'!CZ214","v":0},{"$f":"'Parallel Model P50'!DA214","v":0},{"$f":"'Parallel Model P50'!DB214","v":0},{"$f":"'Parallel Model P50'!DC214","v":0},{"$f":"'Parallel Model P50'!DD214","v":0},{"$f":"'Parallel Model P50'!DE214","v":0},{"$f":"'Parallel Model P50'!DF214","v":0},{"$f":"'Parallel Model P50'!DG214","v":0},{"$f":"'Parallel Model P50'!DH214","v":0},{"$f":"'Parallel Model P50'!DI214","v":0},{"$f":"'Parallel Model P50'!DJ214","v":0},{"$f":"'Parallel Model P50'!DK214","v":0},{"$f":"'Parallel Model P50'!DL214","v":0},{"$f":"'Parallel Model P50'!DM214","v":0},{"$f":"'Parallel Model P50'!DN214","v":0},{"$f":"'Parallel Model P50'!DO214","v":0},{"$f":"'Parallel Model P50'!DP214","v":0},{"$f":"'Parallel Model P50'!DQ214","v":0},{"$f":"'Parallel Model P50'!DR214","v":0},{"$f":"'Parallel Model P50'!DS214","v":0},{"$f":"'Parallel Model P50'!DT214","v":0},{"$f":"'Parallel Model P50'!DU214","v":0},{"$f":"'Parallel Model P50'!DV214","v":0},{"$f":"'Parallel Model P50'!DW214","v":0},{"$f":"'Parallel Model P50'!DX214","v":0},{"$f":"'Parallel Model P50'!DY214","v":0},{"$f":"'Parallel Model P50'!DZ214","v":0},{"$f":"'Parallel Model P50'!EA214","v":0},{"$f":"'Parallel Model P50'!EB214","v":0},{"$f":"'Parallel Model P50'!EC214","v":0},{"$f":"'Parallel Model P50'!ED214","v":0},{"$f":"'Parallel Model P50'!EE214","v":0},{"$f":"'Parallel Model P50'!EF214","v":0},{"$f":"'Parallel Model P50'!EG214","v":0},{"$f":"'Parallel Model P50'!EH214","v":0},{"$f":"'Parallel Model P50'!EI214","v":0},{"$f":"'Parallel Model P50'!EJ214","v":0},{"$f":"'Parallel Model P50'!EK214","v":0},{"$f":"'Parallel Model P50'!EL214","v":0},{"$f":"'Parallel Model P50'!EM214","v":0},{"$f":"'Parallel Model P50'!EN214","v":0},{"$f":"'Parallel Model P50'!EO214","v":0},{"$f":"'Parallel Model P50'!EP214","v":0},{"$f":"'Parallel Model P50'!EQ214","v":0},{"$f":"'Parallel Model P50'!ER214","v":0},{"$f":"'Parallel Model P50'!ES214","v":0},{"$f":"'Parallel Model P50'!ET214","v":0},{"$f":"'Parallel Model P50'!EU214","v":0},{"$f":"'Parallel Model P50'!EV214","v":0},{"$f":"'Parallel Model P50'!EW214","v":0},{"$f":"'Parallel Model P50'!EX214","v":0},{"$f":"'Parallel Model P50'!EY214","v":0},{"$f":"'Parallel Model P50'!EZ214","v":0}]
[]
["Debt Schedule"]
[null,"Repayment"]
[null,null,"Debt Repayment Switch",null,null,null,null,null,null,{"$f":"J181","v":false},false,false,false,false,false,false,false,false,false,false,false,false,false,false,false,false,false,false,false,false,false,false,false,false,false,false,false,false,false,false,false,{"$f":"AP181","v":false},false,false,false,true,true,true,true,true,true,true,true,true,true,true,true,true,true,true,true,true,true,true,true,true,true,true,true,true,true,true,true,{"$f":"BV181","v":true},true,true,true,true,true,true,true,true,true,true,true,true,true,true,true,true,true,true,true,true,true,true,true,true,true,false,false,false,false,false,false,{"$f":"DB181","v":false},false,false,false,false,false,false,false,false,false,false,false,false,false,false,false,false,false,false,false,false,false,false,false,false,false,false,false,false,false,false,false,{"$f":"EH181","v":false},false,false,false,false,false,false,false,false,false,false,false,false,false,false,false,false,false,false]
[null,null,"CFADS for Repayment",null,null,null,"P50",{"$f":"E204","v":false},null,{"$f":"IF($H$278,J177,J178)*J277","v":0},0,0,0,0,0,0,0,0,0,0,0,0,0,0,0,0,0,0,0,0,0,0,0,0,0,0,0,0,0,0,0,{"$f":"IF($H$278,AP177,AP178)*AP277","v":0},0,0,0,0,3597.6759228992451,3716.7745664299191,3669.6294413572296,3791.1100577585166,3743.0220301843747,3866.9322589136864,3847.0583620323887,3944.2709040919617,3894.2401202038254,4023.1563221737993,3972.1249226079008,4103.6194486172772,4051.5674210600596,4185.691837589623,4164.1796924607825,4269.4056743414158,4215.2507448708875,4354.7937878282446,4299.5557597683037,4441.8896635848096,4385.5468749636721,4530.7274568565063,4507.4420191384625,4621.3420059936379,4562.7229687122053,4713.7688461135112,4653.9774280864485,{"$f":"IF($H$278,BV177,BV178)*BV277","v":4808.0442230357803},4747.0569766481794,4904.2051074964984,4879.0002008508081,5002.2892096464275,4938.8380785047675,5102.3349938393567,5037.6148400748625,5204.3816937161446,5138.3671368763607,5308.4693275904683,5281.1867260473773,5414.6387141422783,5345.9571692061672,5522.9314884251235,5452.8763125902897,5633.3901181936271,5561.9338388420974,5746.0579205574995,5716.5263552387933,5860.9790789686504,5786.6359659313166,5978.1986605480233,5902.368685249945,6097.7626337589845,6020.4160589549447,0,0,0,0,0,0,{"$f":"IF($H$278,DB177,DB178)*DB277","v":0},0,0,0,0,0,0,0,0,0,0,0,0,0,0,0,0,0,0,0,0,0,0,0,0,0,0,0,0,0,0,0,{"$f":"IF($H$278,EH177,EH178)*EH277","v":0},0,0,0,0,0,0,0,0,0,0,0,0,0,0,0,0,0,0]
[null,null,"Compound Factor",null,null,null,null,null,{"$f":"I186","v":1},1,1,1,1,1,1,1,1,1,1,1,1,1,1,1,1,1,1,1,1,1,1,1,1,1,1,1,1,1,1,1,{"$f":"AO186","v":1},1,1,1,1,1.01725,1.0347975624999999,1.0526478204531249,1.0708059953559412,1.0892773987758313,1.1080674339047143,1.1271815971395707,1.1466254796902282,1.1678380510644975,1.1894430550091906,1.2114477515268605,1.2338595349301074,1.2566859363263143,1.2799346261483511,1.3036134167320954,1.3277302649416391,1.3539529376742365,1.3806935081933025,1.4079622049801201,1.4357694585284775,1.4641259053344149,1.4930423919647695,1.5225299792060736,1.5525999462953934,1.5852045451675965,1.6184938406161158,1.652482211269054,{"$f":"BU186","v":1.6871843377057041},1.7226152087975237,1.7587901281822715,1.7957247208740992,1.833434940012455,1.8719370737527163,1.9112477523015232,1.9513839550998551,1.9923630181569518,2.0342026415382475,2.0769208970105506,2.120536235847772,2.165067496800575,2.2105339142333866,2.2569551264322874,2.3043511840873654,2.3527425589531998,2.4021501526912168,2.4525953058977321,2.5040998073215843,2.5566859032753375,2.6103763072441195,2.6651942096962458,2.7211632880998669,2.7783077171499637,2.8366521792101125,2.8962218749735245,2.8962218749735245,2.8962218749735245,2.8962218749735245,2.8962218749735245,2.8962218749735245,{"$f":"DA186","v":2.8962218749735245},2.8962218749735245,2.8962218749735245,2.8962218749735245,2.8962218749735245,2.8962218749735245,2.8962218749735245,2.8962218749735245,2.8962218749735245,2.8962218749735245,2.8962218749735245,2.8962218749735245,2.8962218749735245,2.8962218749735245,2.8962218749735245,2.8962218749735245,2.8962218749735245,2.8962218749735245,2.8962218749735245,2.8962218749735245,2.8962218749735245,2.8962218749735245,2.8962218749735245,2.8962218749735245,2.8962218749735245,2.8962218749735245,2.8962218749735245,2.8962218749735245,2.8962218749735245,2.8962218749735245,2.8962218749735245,2.8962218749735245,{"$f":"EG186","v":2.8962218749735245},2.8962218749735245,2.8962218749735245,2.8962218749735245,2.8962218749735245,2.8962218749735245,2.8962218749735245,2.8962218749735245,2.8962218749735245,2.8962218749735245,2.8962218749735245,2.8962218749735245,2.8962218749735245,2.8962218749735245,2.8962218749735245,2.8962218749735245,2.8962218749735245,2.8962218749735245,2.8962218749735245,2.8962218749735245]
[null,null,"PV of CFADS",null,null,null,{"$f":"SUMPRODUCT(J278:EZ278/J279:EZ279)","v":148436.82908067355}]
[null,null,"Debt Size",null,null,null,{"$f":"E202","v":148436.82908067355}]
[null,null,"LLCR/DSCR Applied",null,null,null,{"$f":"G280/G281","v":1}]
[null,null,"Debt Service Applied",null,null,null,{"$f":"G282","v":1},null,null,{"$f":"J278/$G$283","v":0},0,0,0,0,0,0,0,0,0,0,0,0,0,0,0,0,0,0,0,0,0,0,0,0,0,0,0,0,0,0,0,{"$f":"AP278/$G$283","v":0},0,0,0,0,3597.6759228992451,3716.7745664299191,3669.6294413572296,3791.1100577585166,3743.0220301843747,3866.9322589136864,3847.0583620323887,3944.2709040919617,3894.2401202038254,4023.1563221737993,3972.1249226079008,4103.6194486172772,4051.5674210600596,4185.691837589623,4164.1796924607825,4269.4056743414158,4215.2507448708875,4354.7937878282446,4299.5557597683037,4441.8896635848096,4385.5468749636721,4530.7274568565063,4507.4420191384625,4621.3420059936379,4562.7229687122053,4713.7688461135112,4653.9774280864485,{"$f":"BV278/$G$283","v":4808.0442230357803},4747.0569766481794,4904.2051074964984,4879.0002008508081,5002.2892096464275,4938.8380785047675,5102.3349938393567,5037.6148400748625,5204.3816937161446,5138.3671368763607,5308.4693275904683,5281.1867260473773,5414.6387141422783,5345.9571692061672,5522.9314884251235,5452.8763125902897,5633.3901181936271,5561.9338388420974,5746.0579205574995,5716.5263552387933,5860.9790789686504,5786.6359659313166,5978.1986605480233,5902.368685249945,6097.7626337589845,6020.4160589549447,0,0,0,0,0,0,{"$f":"DB278/$G$283","v":0},0,0,0,0,0,0,0,0,0,0,0,0,0,0,0,0,0,0,0,0,0,0,0,0,0,0,0,0,0,0,0,{"$f":"EH278/$G$283","v":0},0,0,0,0,0,0,0,0,0,0,0,0,0,0,0,0,0,0]
[null,null,"Repayment Applied",null,null,null,null,null,null,{"$f":"J283-J296","v":0},0,0,0,0,0,0,0,0,0,0,0,0,0,0,0,0,0,0,0,0,0,0,0,0,0,0,0,0,0,0,0,{"$f":"AP283-AP296","v":0},0,0,0,-2560.535301918339,992.97138702281472,1129.1987869796326,1101.5323409823413,1242.0143902655741,1215.3511109235133,1360.2261463162554,1363.8161504589129,1306.3142035067967,1280.4502323835363,1433.0547636526053,1408.5348772142802,1566.0872984521211,1543.0078859162677,1705.6779483352825,1715.7208452506443,1689.3959052296987,1668.6065448874569,1841.1045671063412,1822.2283542467508,2000.5512680596298,1983.7193669826702,2168.0784063734118,2187.6125171812432,2200.6277148746158,2188.22185960555,2385.2203960585725,2375.5186063487399,{"$f":"BV283-BV296","v":2579.471292031395},2572.6529427764535,2783.8267854230776,2817.0822412712723,2999.5299771335881,2999.0689755117337,3225.5463393320688,3228.5626586935487,3463.1293281673952,3469.8404872191268,3712.8093281648362,3763.4957225132066,3975.9811207808848,3990.7951793811721,4251.5761973671333,4270.8041216770089,4541.0048138355633,4564.9096355745805,4844.8968196370488,4917.1080875307207,5164.8200810987228,5198.9381897644625,5499.6785863662226,5539.3418613818349,5851.0619889798936,5896.5877159444308,-9.756804702192311E-7,-9.9616976009383503E-7,-1.0170893250558056E-6,-1.0384482008819773E-6,-1.0602556131004988E-6,-1.0825209809756093E-6,{"$f":"DB283-DB296","v":-1.1052539215760972E-6},-1.1284642539291953E-6,-1.1521620032617085E-6,-1.1763574053302042E-6,-1.2010609108421385E-6,-1.2262831899698234E-6,-1.2520351369591897E-6,-1.2783278748353327E-6,-1.3051727602068748E-6,-1.332581388171219E-6,0,0,0,0,0,0,0,0,0,0,0,0,0,0,0,0,0,0,0,0,0,0,{"$f":"EH283-EH296","v":0},0,0,0,0,0,0,0,0,0,0,0,0,0,0,0,0,0,0]
[null,null,"Maximum Debt",null,null,null,{"$f":"MAX(292:292)","v":150997.36439863362}]
[]
[null,"Base Debt"]
[null,null,"Opening Balance",null,null,null,null,null,null,{"$f":"I292","v":0},9181.2518172247637,11748.831289149757,14708.820232173712,18082.871517277508,21884.926821441295,26119.624846880091,30780.987739456054,35851.504552741288,41301.713630620019,47090.357843731806,53165.149448722208,59464.137895828819,65917.628092557585,72450.552875010428,78985.166193379016,85443.896697513104,91752.187888791712,97841.152249669947,103649.88263031721,109127.2929343149,114233.39871646586,118939.99264455521,123230.71540248104,127100.56515321953,130554.92438031164,133608.20903782485,136282.2599552293,138604.60015781547,140606.67515287266,142322.1782108327,143785.54175405958,{"$f":"AO292","v":145030.65190487535},146089.81868343402,146993.01154681935,147767.35061684268,148436.82909671529,150997.36439863362,150004.39301161081,148875.19422463118,147773.66188364883,146531.64749338327,145316.29638245975,143956.07023614351,142592.2540856846,141285.9398821778,140005.48964979427,138572.43488614165,137163.90000892736,135597.81271047523,134054.80482455896,132349.12687622369,130633.40603097304,128944.01012574334,127275.40358085588,125434.29901374954,123612.07065950279,121611.51939144316,119627.80002446049,117459.72161808707,115272.10910090583,113071.48138603121,110883.25952642567,108498.03913036709,{"$f":"BU292","v":106122.52052401836},103543.04923198697,100970.39628921052,98186.569503787439,95369.487262516166,92369.957285382581,89370.888309870847,86145.341970538779,82916.779311845225,79453.649983677824,75983.809496458693,72271.00016829386,68507.504445780651,64531.523324999769,60540.728145618596,56289.151948251463,52018.347826574456,47477.343012738893,42912.433377164314,38067.536557527266,33150.428469996543,27985.608388897821,22786.670199133358,17286.991612767135,11747.649751385299,5896.5877624054056,4.6460974772344343E-5,4.7436655242563574E-5,4.843282500265741E-5,4.9449914327713213E-5,5.0488362528595192E-5,5.1548618141695689E-5,{"$f":"DA292","v":5.2631139122671301E-5},5.3736393044247399E-5,5.4864857298176597E-5,5.6017019301438305E-5,5.7193376706768507E-5,5.8394437617610644E-5,5.9620720807580468E-5,6.0872755944539654E-5,6.2151083819374993E-5,6.3456256579581864E-5,6.4788837967753079E-5,6.4788837967753079E-5,6.4788837967753079E-5,0,0,0,0,0,0,0,0,0,0,0,0,0,0,0,0,0,0,0,{"$f":"EG292","v":0},0,0,0,0,0,0,0,0,0,0,0,0,0,0,0,0,0,0]
[null,null,"Add: Funding",null,null,null,null,null,null,{"$f":"J268","v":9181.2518172247637},2567.579471924993,2959.9889430239537,3374.051285103797,3802.0553041637859,4234.6980254387963,4661.3628925759622,5070.5168132852305,5450.2090778787306,5788.6442131117838,6074.7916049904015,6298.9884471066125,6453.4901967287688,6532.9247824528429,6534.6133183685888,6458.7305041340851,6308.291191278603,6088.964360878238,5808.7303806472628,5477.4103039976881,5106.1057821509658,4706.5939280893563,4290.7227579258388,3869.8497507384864,3454.3592270921108,3053.2846575132244,2674.0509174044278,2322.3402025861797,2002.0749950571828,1715.5030579600482,1463.3635432268784,1245.1101508157619,{"$f":"AP268","v":1059.1667785586526},903.19286338532459,774.33907002333672,669.4784798725899,0,0,0,0,0,0,0,0,0,0,0,0,0,0,0,0,0,0,0,0,0,0,0,0,0,0,0,0,{"$f":"BV268","v":0},0,0,0,0,0,0,0,0,0,0,0,0,0,0,0,0,0,0,0,0,0,0,0,0,0,0,0,0,0,0,0,{"$f":"DB268","v":0},0,0,0,0,0,0,0,0,0,0,0,0,0,0,0,0,0,0,0,0,0,0,0,0,0,0,0,0,0,0,0,{"$f":"EH268","v":0},0,0,0,0,0,0,0,0,0,0,0,0,0,0,0,0,0,0]
[null,null,"Less: Repayment",null,null,null,null,"REPAY",null,{"$f":"MIN((J284),J288)","v":0},0,0,0,0,0,0,0,0,0,0,0,0,0,0,0,0,0,0,0,0,0,0,0,0,0,0,0,0,0,0,0,{"$f":"MIN((AP284),AP288)","v":0},0,0,0,-2560.535301918339,992.97138702281472,1129.1987869796326,1101.5323409823413,1242.0143902655741,1215.3511109235133,1360.2261463162554,1363.8161504589129,1306.3142035067967,1280.4502323835363,1433.0547636526053,1408.5348772142802,1566.0872984521211,1543.0078859162677,1705.6779483352825,1715.7208452506443,1689.3959052296987,1668.6065448874569,1841.1045671063412,1822.2283542467508,2000.5512680596298,1983.7193669826702,2168.0784063734118,2187.6125171812432,2200.6277148746158,2188.22185960555,2385.2203960585725,2375.5186063487399,{"$f":"MIN((BV284),BV288)","v":2579.471292031395},2572.6529427764535,2783.8267854230776,2817.0822412712723,2999.5299771335881,2999.0689755117337,3225.5463393320688,3228.5626586935487,3463.1293281673952,3469.8404872191268,3712.8093281648362,3763.4957225132066,3975.9811207808848,3990.7951793811721,4251.5761973671333,4270.8041216770089,4541.0048138355633,4564.9096355745805,4844.8968196370488,4917.1080875307207,5164.8200810987228,5198.9381897644625,5499.6785863662226,5539.3418613818349,5851.0619889798936,5896.5877159444308,-9.756804702192311E-7,-9.9616976009383503E-7,-1.0170893250558056E-6,-1.0384482008819773E-6,-1.0602556131004988E-6,-1.0825209809756093E-6,{"$f":"MIN((DB284),DB288)","v":-1.1052539215760972E-6},-1.1284642539291953E-6,-1.1521620032617085E-6,-1.1763574053302042E-6,-1.2010609108421385E-6,-1.2262831899698234E-6,-1.2520351369591897E-6,-1.2783278748353327E-6,-1.3051727602068748E-6,-1.332581388171219E-6,0,0,0,0,0,0,0,0,0,0,0,0,0,0,0,0,0,0,0,0,0,0,{"$f":"MIN((EH284),EH288)","v":0},0,0,0,0,0,0,0,0,0,0,0,0,0,0,0,0,0,0]
[null,null,"Less: Repayment at Re-financing",null,null,null,null,null,null,{"$f":"(J288-J290)*J158","v":0},0,0,0,0,0,0,0,0,0,0,0,0,0,0,0,0,0,0,0,0,0,0,0,0,0,0,0,0,0,0,0,{"$f":"(AP288-AP290)*AP158","v":0},0,0,0,0,0,0,0,0,0,0,0,0,0,0,0,0,0,0,0,0,0,0,0,0,0,0,0,0,0,0,0,{"$f":"(BV288-BV290)*BV158","v":0},0,0,0,0,0,0,0,0,0,0,0,0,0,0,0,0,0,0,0,0,0,0,0,0,0,0,0,0,0,0,0,{"$f":"(DB288-DB290)*DB158","v":0},0,0,0,0,0,0,0,0,0,0,0,6.4788837967753079E-5,0,0,0,0,0,0,0,0,0,0,0,0,0,0,0,0,0,0,0,{"$f":"(EH288-EH290)*EH158","v":0},0,0,0,0,0,0,0,0,0,0,0,0,0,0,0,0,0,0]
[null,null,"Closing Balance",null,null,null,null,"BAL",null,{"$f":"J288+J289-J290-J291","v":9181.2518172247637},{"$f":"K288+K289-K290-K291","v":11748.831289149757},14708.820232173712,18082.871517277508,21884.926821441295,26119.624846880091,30780.987739456054,35851.504552741288,41301.713630620019,47090.357843731806,53165.149448722208,59464.137895828819,65917.628092557585,72450.552875010428,78985.166193379016,85443.896697513104,91752.187888791712,97841.152249669947,103649.88263031721,109127.2929343149,114233.39871646586,118939.99264455521,123230.71540248104,127100.56515321953,130554.92438031164,{"$f":"AI288+AI289-AI290-AI291","v":133608.20903782485},136282.2599552293,138604.60015781547,140606.67515287266,142322.1782108327,143785.54175405958,145030.65190487535,146089.81868343402,146993.01154681935,147767.35061684268,148436.82909671529,150997.36439863362,150004.39301161081,148875.19422463118,147773.66188364883,146531.64749338327,145316.29638245975,143956.07023614351,142592.2540856846,141285.9398821778,140005.48964979427,138572.43488614165,137163.90000892736,135597.81271047523,134054.80482455896,132349.12687622369,130633.40603097304,128944.01012574334,127275.40358085588,125434.29901374954,123612.07065950279,121611.51939144316,119627.80002446049,117459.72161808707,115272.10910090583,113071.48138603121,110883.25952642567,108498.03913036709,106122.52052401836,103543.04923198697,100970.39628921052,98186.569503787439,95369.487262516166,92369.957285382581,89370.888309870847,86145.341970538779,82916.779311845225,79453.649983677824,75983.809496458693,72271.00016829386,68507.504445780651,64531.523324999769,60540.728145618596,56289.151948251463,52018.347826574456,47477.343012738893,42912.433377164314,38067.536557527266,33150.428469996543,27985.608388897821,22786.670199133358,17286.991612767135,11747.649751385299,5896.5877624054056,{"$f":"CU288+CU289-CU290-CU291","v":4.6460974772344343E-5},4.7436655242563574E-5,4.843282500265741E-5,4.9449914327713213E-5,5.0488362528595192E-5,5.1548618141695689E-5,5.2631139122671301E-5,5.3736393044247399E-5,5.4864857298176597E-5,5.6017019301438305E-5,5.7193376706768507E-5,5.8394437617610644E-5,5.9620720807580468E-5,6.0872755944539654E-5,6.2151083819374993E-5,6.3456256579581864E-5,6.4788837967753079E-5,6.4788837967753079E-5,6.4788837967753079E-5,0,0,0,0,0,0,0,0,0,0,0,0,0,0,0,0,0,0,0,0,0,0,0,0,0,0,0,0,0,0,0,0,0,0,0,0,0,0,0]
[null,null,"Interest Rate",null,null,null,null,null,null,{"$f":"J185","v":2.6666666666666666E-3},2.6666666666666666E-3,2.6666666666666666E-3,2.6666666666666666E-3,2.6666666666666666E-3,2.6666666666666666E-3,2.6666666666666666E-3,2.6666666666666666E-3,2.6666666666666666E-3,2.6666666666666666E-3,2.6666666666666666E-3,2.6666666666666666E-3,2.6666666666666666E-3,2.6666666666666666E-3,2.6666666666666666E-3,2.6666666666666666E-3,2.6666666666666666E-3,2.6666666666666666E-3,2.6666666666666666E-3,2.6666666666666666E-3,2.6666666666666666E-3,2.6666666666666666E-3,2.6666666666666666E-3,2.6666666666666666E-3,2.6666666666666666E-3,2.6666666666666666E-3,2.6666666666666666E-3,2.6666666666666666E-3,2.6666666666666666E-3,2.6666666666666666E-3,2.6666666666666666E-3,2.6666666666666666E-3,{"$f":"AP185","v":2.6666666666666666E-3},2.6666666666666666E-3,2.6666666666666666E-3,2.6666666666666666E-3,1.7250000000000001E-2,1.7250000000000001E-2,1.7250000000000001E-2,1.7250000000000001E-2,1.7250000000000001E-2,1.7250000000000001E-2,1.7250000000000001E-2,1.7250000000000001E-2,1.8499999999999999E-2,1.8499999999999999E-2,1.8499999999999999E-2,1.8499999999999999E-2,1.8499999999999999E-2,1.8499999999999999E-2,1.8499999999999999E-2,1.8499999999999999E-2,1.9749999999999997E-2,1.9749999999999997E-2,1.9749999999999997E-2,1.9749999999999997E-2,1.9749999999999997E-2,1.9749999999999997E-2,1.9749999999999997E-2,1.9749999999999997E-2,2.0999999999999998E-2,2.0999999999999998E-2,2.0999999999999998E-2,2.0999999999999998E-2,{"$f":"BV185","v":2.0999999999999998E-2},2.0999999999999998E-2,2.0999999999999998E-2,2.0999999999999998E-2,2.0999999999999998E-2,2.0999999999999998E-2,2.0999999999999998E-2,2.0999999999999998E-2,2.0999999999999998E-2,2.0999999999999998E-2,2.0999999999999998E-2,2.0999999999999998E-2,2.0999999999999998E-2,2.0999999999999998E-2,2.0999999999999998E-2,2.0999999999999998E-2,2.0999999999999998E-2,2.0999999999999998E-2,2.0999999999999998E-2,2.0999999999999998E-2,2.0999999999999998E-2,2.0999999999999998E-2,2.0999999999999998E-2,2.0999999999999998E-2,2.0999999999999998E-2,2.0999999999999998E-2,2.0999999999999998E-2,2.0999999999999998E-2,2.0999999999999998E-2,2.0999999999999998E-2,2.0999999999999998E-2,2.0999999999999998E-2,{"$f":"DB185","v":2.0999999999999998E-2},2.0999999999999998E-2,2.0999999999999998E-2,2.0999999999999998E-2,2.0999999999999998E-2,2.0999999999999998E-2,2.0999999999999998E-2,2.0999999999999998E-2,2.0999999999999998E-2,2.0999999999999998E-2,2.0999999999999998E-2,2.0999999999999998E-2,2.0999999999999998E-2,2.0999999999999998E-2,2.0999999999999998E-2,2.0999999999999998E-2,2.0999999999999998E-2,2.0999999999999998E-2,2.0999999999999998E-2,2.0999999999999998E-2,2.0999999999999998E-2,2.0999999999999998E-2,2.0999999999999998E-2,2.0999999999999998E-2,2.0999999999999998E-2,2.0999999999999998E-2,2.0999999999999998E-2,2.0999999999999998E-2,2.0999999999999998E-2,2.0999999999999998E-2,2.0999999999999998E-2,2.0999999999999998E-2,{"$f":"EH185","v":2.0999999999999998E-2},2.0999999999999998E-2,2.0999999999999998E-2,2.0999999999999998E-2,2.0999999999999998E-2,2.0999999999999998E-2,2.0999999999999998E-2,2.0999999999999998E-2,2.0999999999999998E-2,2.0999999999999998E-2,2.0999999999999998E-2,2.0999999999999998E-2,2.0999999999999998E-2,2.0999999999999998E-2,2.0999999999999998E-2,2.0999999999999998E-2,2.0999999999999998E-2,2.0999999999999998E-2,2.0999999999999998E-2]
[]
[null,null,"Interest Cost",null,null,null,null,null,null,{"$f":"J293*J288","v":0},24.483338179266035,31.330216771066016,39.2235206191299,48.220990712740019,58.359804857176783,69.652332925013582,82.082633971882814,95.604012140643434,110.13790301498672,125.57428758328481,141.77373186325923,158.57103438887685,175.78034158015356,193.20147433336115,210.62710984901071,227.85039119336827,244.6725010367779,260.90973933245317,276.39968701417922,291.00611449150637,304.62239657724228,317.17331371881392,328.61524107328279,338.93484040858539,{"$f":"AI293*AI288","v":348.14646501416439},356.28855743419962,363.41935988061147,369.61226708750792,374.95113374099373,379.5258085622205,383.42811134415888,386.74840507966758,389.5728498224907,391.98136412485161,394.04626831158049,2560.535301918339,2604.7045358764303,2587.5757794502865,2568.0971003748882,2549.0956674929425,2527.6709192608614,2506.706112597431,2483.2422115734757,2637.956700585165,2613.7898878202891,2590.101558521194,2563.5900453936206,2537.5321501651561,2508.5595351437919,2480.0138892543405,2448.4588472101382,2580.0097691117171,2546.6441999834306,2513.6892207219034,2477.3274055215529,2441.3383955251797,2401.8275079810019,2362.6490504830945,2319.8295019572192,2420.7142911190222,2374.5011091066553,2328.5484500549387,2278.4588217377086,2228.5729310043853,2174.4040338717259,2120.3783220734208,2061.9179595795358,2002.7592325128394,1939.769102993034,1876.7886545072877,1809.0521813813141,1741.2523655487496,1668.5266496572342,1595.6599994256323,1517.6910035341709,1438.6575933613935,1355.1619898249951,1271.3552910579904,1182.0721909132806,1092.3853043580634,997.02420326751667,901.16110092045051,799.41826770807256,696.15899786992736,587.69777616685417,478.52007418180045,363.02682386810977,246.70064477909125,{"$f":"CU293*CU288","v":123.82834301051351},9.756804702192311E-7,9.9616976009383503E-7,1.0170893250558056E-6,1.0384482008819773E-6,1.0602556131004988E-6,1.0825209809756093E-6,1.1052539215760972E-6,1.1284642539291953E-6,1.1521620032617085E-6,1.1763574053302042E-6,1.2010609108421385E-6,1.2262831899698234E-6,1.2520351369591897E-6,1.2783278748353327E-6,1.3051727602068748E-6,1.332581388171219E-6,1.3605655973228146E-6,1.3605655973228146E-6,1.3605655973228146E-6,0,0,0,0,0,0,0,0,0,0,0,0,0,0,0,0,0,0,0,0,0,0,0,0,0,0,0,0,0,0,0,0,0,0,0,0,0,0]
[null,null,"Interest Expense",null,null,null,null,"I",null,{"$f":"J295*J8","v":0},0,0,0,0,0,0,0,0,0,0,0,0,0,0,0,0,0,0,0,0,0,0,0,0,0,0,0,0,0,0,0,{"$f":"AP295*AP8","v":0},0,0,0,2560.535301918339,2604.7045358764303,2587.5757794502865,2568.0971003748882,2549.0956674929425,2527.6709192608614,2506.706112597431,2483.2422115734757,2637.956700585165,2613.7898878202891,2590.101558521194,2563.5900453936206,2537.5321501651561,2508.5595351437919,2480.0138892543405,2448.4588472101382,2580.0097691117171,2546.6441999834306,2513.6892207219034,2477.3274055215529,2441.3383955251797,2401.8275079810019,2362.6490504830945,2319.8295019572192,2420.7142911190222,2374.5011091066553,2328.5484500549387,2278.4588217377086,{"$f":"BV295*BV8","v":2228.5729310043853},2174.4040338717259,2120.3783220734208,2061.9179595795358,2002.7592325128394,1939.769102993034,1876.7886545072877,1809.0521813813141,1741.2523655487496,1668.5266496572342,1595.6599994256323,1517.6910035341709,1438.6575933613935,1355.1619898249951,1271.3552910579904,1182.0721909132806,1092.3853043580634,997.02420326751667,901.16110092045051,799.41826770807256,696.15899786992736,587.69777616685417,478.52007418180045,363.02682386810977,246.70064477909125,123.82834301051351,9.756804702192311E-7,9.9616976009383503E-7,1.0170893250558056E-6,1.0384482008819773E-6,1.0602556131004988E-6,1.0825209809756093E-6,{"$f":"DB295*DB8","v":1.1052539215760972E-6},1.1284642539291953E-6,1.1521620032617085E-6,1.1763574053302042E-6,1.2010609108421385E-6,1.2262831899698234E-6,1.2520351369591897E-6,1.2783278748353327E-6,1.3051727602068748E-6,1.332581388171219E-6,0,0,0,0,0,0,0,0,0,0,0,0,0,0,0,0,0,0,0,0,0,0,{"$f":"EH295*EH8","v":0},0,0,0,0,0,0,0,0,0,0,0,0,0,0,0,0,0,0]
[null,null,"Interest During Construction",null,null,null,null,"IDC",null,{"$f":"J295*J7","v":0},24.483338179266035,31.330216771066016,39.2235206191299,48.220990712740019,58.359804857176783,69.652332925013582,82.082633971882814,95.604012140643434,110.13790301498672,125.57428758328481,141.77373186325923,158.57103438887685,175.78034158015356,193.20147433336115,210.62710984901071,227.85039119336827,244.6725010367779,260.90973933245317,276.39968701417922,291.00611449150637,304.62239657724228,317.17331371881392,328.61524107328279,338.93484040858539,348.14646501416439,356.28855743419962,363.41935988061147,369.61226708750792,374.95113374099373,379.5258085622205,383.42811134415888,{"$f":"AP295*AP7","v":386.74840507966758},389.5728498224907,391.98136412485161,394.04626831158049,0,0,0,0,0,0,0,0,0,0,0,0,0,0,0,0,0,0,0,0,0,0,0,0,0,0,0,0,{"$f":"BV295*BV7","v":0},0,0,0,0,0,0,0,0,0,0,0,0,0,0,0,0,0,0,0,0,0,0,0,0,0,0,0,0,0,0,0,{"$f":"DB295*DB7","v":0},0,0,0,0,0,0,0,0,0,0,0,0,0,0,0,0,0,0,0,0,0,0,0,0,0,0,0,0,0,0,0,{"$f":"EH295*EH7","v":0},0,0,0,0,0,0,0,0,0,0,0,0,0,0,0,0,0,0]
[]
[null,null,"Debt Commitment",null,null,null,null,{"$f":"I146","v":148436.82908067355},null,{"$f":"$H$299","v":148436.82908067355},148436.82908067355,148436.82908067355,148436.82908067355,148436.82908067355,148436.82908067355,148436.82908067355,148436.82908067355,148436.82908067355,148436.82908067355,148436.82908067355,148436.82908067355,148436.82908067355,148436.82908067355,148436.82908067355,148436.82908067355,148436.82908067355,148436.82908067355,148436.82908067355,148436.82908067355,148436.82908067355,148436.82908067355,148436.82908067355,148436.82908067355,148436.82908067355,148436.82908067355,148436.82908067355,148436.82908067355,148436.82908067355,148436.82908067355,148436.82908067355,148436.82908067355,{"$f":"$H$299","v":148436.82908067355},148436.82908067355,148436.82908067355,148436.82908067355,148436.82908067355,148436.82908067355,148436.82908067355,148436.82908067355,148436.82908067355,148436.82908067355,148436.82908067355,148436.82908067355,148436.82908067355,148436.82908067355,148436.82908067355,148436.82908067355,148436.82908067355,148436.82908067355,148436.82908067355,148436.82908067355,148436.82908067355,148436.82908067355,148436.82908067355,148436.82908067355,148436.82908067355,148436.82908067355,148436.82908067355,148436.82908067355,148436.82908067355,148436.82908067355,148436.82908067355,148436.82908067355,{"$f":"$H$299","v":148436.82908067355},148436.82908067355,148436.82908067355,148436.82908067355,148436.82908067355,148436.82908067355,148436.82908067355,148436.82908067355,148436.82908067355,148436.82908067355,148436.82908067355,148436.82908067355,148436.82908067355,148436.82908067355,148436.82908067355,148436.82908067355,148436.82908067355,148436.82908067355,148436.82908067355,148436.82908067355,148436.82908067355,148436.82908067355,148436.82908067355,148436.82908067355,148436.82908067355,148436.82908067355,148436.82908067355,148436.82908067355,148436.82908067355,148436.82908067355,148436.82908067355,148436.82908067355,{"$f":"$H$299","v":148436.82908067355},148436.82908067355,148436.82908067355,148436.82908067355,148436.82908067355,148436.82908067355,148436.82908067355,148436.82908067355,148436.82908067355,148436.82908067355,148436.82908067355,148436.82908067355,148436.82908067355,148436.82908067355,148436.82908067355,148436.82908067355,148436.82908067355,148436.82908067355,148436.82908067355,148436.82908067355,148436.82908067355,148436.82908067355,148436.82908067355,148436.82908067355,148436.82908067355,148436.82908067355,148436.82908067355,148436.82908067355,148436.82908067355,148436.82908067355,148436.82908067355,148436.82908067355,{"$f":"$H$299","v":148436.82908067355},148436.82908067355,148436.82908067355,148436.82908067355,148436.82908067355,148436.82908067355,148436.82908067355,148436.82908067355,148436.82908067355,148436.82908067355,148436.82908067355,148436.82908067355,148436.82908067355,148436.82908067355,148436.82908067355,148436.82908067355,148436.82908067355,148436.82908067355,148436.82908067355]
[null,null,"Up-Front Fee",null,null,null,{"$f":"F12","v":"2019-01-01"},{"$f":"F53","v":1.4999999999999999E-2},null,{"$f":"(J4=$G$300)*$H$300*J299","v":2226.5524362101032},0,0,0,0,0,0,0,0,0,0,0,0,0,0,0,0,0,0,0,0,0,0,0,0,0,0,0,0,0,0,0,{"$f":"(AP4=$G$300)*$H$300*AP299","v":0},0,0,0,0,0,0,0,0,0,0,0,0,0,0,0,0,0,0,0,0,0,0,0,0,0,0,0,0,0,0,0,{"$f":"(BV4=$G$300)*$H$300*BV299","v":0},0,0,0,0,0,0,0,0,0,0,0,0,0,0,0,0,0,0,0,0,0,0,0,0,0,0,0,0,0,0,0,{"$f":"(DB4=$G$300)*$H$300*DB299","v":0},0,0,0,0,0,0,0,0,0,0,0,0,0,0,0,0,0,0,0,0,0,0,0,0,0,0,0,0,0,0,0,{"$f":"(EH4=$G$300)*$H$300*EH299","v":0},0,0,0,0,0,0,0,0,0,0,0,0,0,0,0,0,0,0]
[null,null,"Undrawn Balance",null,null,null,null,null,null,{"$f":"J299-J288","v":148436.82908067355},139255.57726344879,136687.99779152378,133728.00884849983,130353.95756339603,126551.90225923224,122317.20423379345,117655.84134121749,112585.32452793226,107135.11545005353,101346.47123694174,95271.679631951338,88972.691184844734,82519.200988115961,75986.276205663118,69451.662887294529,62992.932383160442,56684.641191881834,50595.676831003599,44786.946450356336,39309.536146358645,34203.430364207685,29496.836436118334,25206.113678192502,21336.263927454012,17881.904700361905,14828.620042848692,12154.56912544425,9832.2289228580776,7830.1539278008859,6114.6508698408434,4651.287326613965,{"$f":"AP299-AP288","v":3406.1771757981915},2347.01039723953,1443.8175338541914,669.47846383086289,-1.604174030944705E-5,-2560.5353179600788,-1567.5639309372636,-438.36514395763515,663.16719702471164,1905.1815872902807,3120.5326982137922,4480.7588445300353,5844.5749949889432,7150.8891984957445,8431.3394308792776,9864.3941945318948,11272.929071746184,12839.016370198311,14382.024256114586,16087.702204449859,17803.423049700505,19492.818954930204,21161.425499817662,23002.53006692401,24824.758421170758,26825.309689230387,28809.029056213054,30977.107462586471,33164.719979767717,35365.347694642332,37553.569554247879,39938.789950306455,{"$f":"BV299-BV288","v":42314.308556655189},44893.779848686579,47466.432791463027,50250.259576886107,53067.34181815738,56066.871795290965,59065.940770802699,62291.487110134767,65520.049768828321,68983.179096995722,72453.019584214853,76165.828912379686,79929.324634892895,83905.305755673777,87896.100935054943,92147.677132422075,96418.481254099082,100959.48606793466,105524.39570350923,110369.29252314629,115286.400610677,120451.22069177573,125650.15888154019,131149.83746790641,136689.17932928825,142540.24131826815,148436.82903421257,148436.82903323689,148436.82903224073,148436.82903122363,148436.82903018518,148436.82902912493,{"$f":"DB299-DB288","v":148436.82902804241},148436.82902693716,148436.82902580869,148436.82902465653,148436.82902348018,148436.8290222791,148436.82902105284,148436.82901980079,148436.82901852246,148436.8290172173,148436.82901588469,148436.82901588469,148436.82901588469,148436.82908067355,148436.82908067355,148436.82908067355,148436.82908067355,148436.82908067355,148436.82908067355,148436.82908067355,148436.82908067355,148436.82908067355,148436.82908067355,148436.82908067355,148436.82908067355,148436.82908067355,148436.82908067355,148436.82908067355,148436.82908067355,148436.82908067355,148436.82908067355,148436.82908067355,{"$f":"EH299-EH288","v":148436.82908067355},148436.82908067355,148436.82908067355,148436.82908067355,148436.82908067355,148436.82908067355,148436.82908067355,148436.82908067355,148436.82908067355,148436.82908067355,148436.82908067355,148436.82908067355,148436.82908067355,148436.82908067355,148436.82908067355,148436.82908067355,148436.82908067355,148436.82908067355,148436.82908067355]
[null,null,"Commitment Fee Percent",null,null,null,null,{"$f":"F52","v":0.01},null,{"$f":"$H$302/12*J3","v":8.3333333333333339E-4},8.3333333333333339E-4,8.3333333333333339E-4,8.3333333333333339E-4,8.3333333333333339E-4,8.3333333333333339E-4,8.3333333333333339E-4,8.3333333333333339E-4,8.3333333333333339E-4,8.3333333333333339E-4,8.3333333333333339E-4,8.3333333333333339E-4,8.3333333333333339E-4,8.3333333333333339E-4,8.3333333333333339E-4,8.3333333333333339E-4,8.3333333333333339E-4,8.3333333333333339E-4,8.3333333333333339E-4,8.3333333333333339E-4,8.3333333333333339E-4,8.3333333333333339E-4,8.3333333333333339E-4,8.3333333333333339E-4,8.3333333333333339E-4,8.3333333333333339E-4,8.3333333333333339E-4,8.3333333333333339E-4,8.3333333333333339E-4,8.3333333333333339E-4,8.3333333333333339E-4,8.3333333333333339E-4,{"$f":"$H$302/12*AP3","v":8.3333333333333339E-4},8.3333333333333339E-4,8.3333333333333339E-4,8.3333333333333339E-4,5.0000000000000001E-3,5.0000000000000001E-3,5.0000000000000001E-3,5.0000000000000001E-3,5.0000000000000001E-3,5.0000000000000001E-3,5.0000000000000001E-3,5.0000000000000001E-3,5.0000000000000001E-3,5.0000000000000001E-3,5.0000000000000001E-3,5.0000000000000001E-3,5.0000000000000001E-3,5.0000000000000001E-3,5.0000000000000001E-3,5.0000000000000001E-3,5.0000000000000001E-3,5.0000000000000001E-3,5.0000000000000001E-3,5.0000000000000001E-3,5.0000000000000001E-3,5.0000000000000001E-3,5.0000000000000001E-3,5.0000000000000001E-3,5.0000000000000001E-3,5.0000000000000001E-3,5.0000000000000001E-3,5.0000000000000001E-3,{"$f":"$H$302/12*BV3","v":5.0000000000000001E-3},5.0000000000000001E-3,5.0000000000000001E-3,5.0000000000000001E-3,5.0000000000000001E-3,5.0000000000000001E-3,5.0000000000000001E-3,5.0000000000000001E-3,5.0000000000000001E-3,5.0000000000000001E-3,5.0000000000000001E-3,5.0000000000000001E-3,5.0000000000000001E-3,5.0000000000000001E-3,5.0000000000000001E-3,5.0000000000000001E-3,5.0000000000000001E-3,5.0000000000000001E-3,5.0000000000000001E-3,5.0000000000000001E-3,5.0000000000000001E-3,5.0000000000000001E-3,5.0000000000000001E-3,5.0000000000000001E-3,5.0000000000000001E-3,5.0000000000000001E-3,5.0000000000000001E-3,5.0000000000000001E-3,5.0000000000000001E-3,5.0000000000000001E-3,5.0000000000000001E-3,5.0000000000000001E-3,{"$f":"$H$302/12*DB3","v":5.0000000000000001E-3},5.0000000000000001E-3,5.0000000000000001E-3,5.0000000000000001E-3,5.0000000000000001E-3,5.0000000000000001E-3,5.0000000000000001E-3,5.0000000000000001E-3,5.0000000000000001E-3,5.0000000000000001E-3,5.0000000000000001E-3,5.0000000000000001E-3,5.0000000000000001E-3,5.0000000000000001E-3,5.0000000000000001E-3,5.0000000000000001E-3,5.0000000000000001E-3,5.0000000000000001E-3,5.0000000000000001E-3,5.0000000000000001E-3,5.0000000000000001E-3,5.0000000000000001E-3,5.0000000000000001E-3,5.0000000000000001E-3,5.0000000000000001E-3,5.0000000000000001E-3,5.0000000000000001E-3,5.0000000000000001E-3,5.0000000000000001E-3,5.0000000000000001E-3,5.0000000000000001E-3,5.0000000000000001E-3,{"$f":"$H$302/12*EH3","v":5.0000000000000001E-3},5.0000000000000001E-3,5.0000000000000001E-3,5.0000000000000001E-3,5.0000000000000001E-3,5.0000000000000001E-3,5.0000000000000001E-3,5.0000000000000001E-3,5.0000000000000001E-3,5.0000000000000001E-3,5.0000000000000001E-3,5.0000000000000001E-3,5.0000000000000001E-3,5.0000000000000001E-3,5.0000000000000001E-3,5.0000000000000001E-3,5.0000000000000001E-3,5.0000000000000001E-3,5.0000000000000001E-3]
[null,null,"Total Commitment Fee",null,null,null,null,null,null,{"$f":"J302*J301*J7","v":123.69735756722797},116.04631438620734,113.90666482626983,111.44000737374986,108.6282979694967,105.45991854936021,101.93100352816121,98.04653445101458,93.821103773276889,89.279262875044623,84.455392697451458,79.393066359959448,74.143909320703955,68.766000823429977,63.321896838052602,57.876385739412115,52.494110319300368,47.237200993234865,42.163064025836334,37.322455375296947,32.757946788632204,28.50285863683974,24.580697030098612,21.005094731827086,17.780219939545013,14.901587250301588,12.357183369040577,10.128807604536876,8.1935241023817316,6.5251282731674056,5.0955423915340363,3.8760727721783046,{"$f":"AP302*AP301*AP7","v":2.8384809798318265},1.9558419976996084,1.2031812782118263,0.55789871985905248,0,0,0,0,0,0,0,0,0,0,0,0,0,0,0,0,0,0,0,0,0,0,0,0,0,0,0,0,{"$f":"BV302*BV301*BV7","v":0},0,0,0,0,0,0,0,0,0,0,0,0,0,0,0,0,0,0,0,0,0,0,0,0,0,0,0,0,0,0,0,{"$f":"DB302*DB301*DB7","v":0},0,0,0,0,0,0,0,0,0,0,0,0,0,0,0,0,0,0,0,0,0,0,0,0,0,0,0,0,0,0,0,{"$f":"EH302*EH301*EH7","v":0},0,0,0,0,0,0,0,0,0,0,0,0,0,0,0,0,0,0]
[]
[null,"Mezzanine Debt"]
[null,null,"Opening Balance",null,null,null,null,null,null,{"$f":"I310","v":0},0,0,0,0,0,0,0,0,0,0,0,0,0,0,0,0,0,0,0,0,0,0,0,0,0,0,0,0,0,0,0,{"$f":"AO310","v":0},0,0,0,0,0,0,0,0,0,0,0,0,0,0,0,0,0,0,0,0,0,0,0,0,0,0,0,0,0,0,0,{"$f":"BU310","v":0},0,0,0,0,0,0,0,0,0,0,0,0,0,0,0,0,0,0,0,0,0,0,0,0,0,0,0,0,0,0,0,{"$f":"DA310","v":0},0,0,0,0,0,0,0,0,0,0,0,0,0,0,0,0,0,0,0,0,0,0,0,0,0,0,0,0,0,0,0,{"$f":"EG310","v":0},0,0,0,0,0,0,0,0,0,0,0,0,0,0,0,0,0,0]
[null,null,"Add: Funding",null,null,null,null,null,null,{"$f":"J269","v":0},0,0,0,0,0,0,0,0,0,0,0,0,0,0,0,0,0,0,0,0,0,0,0,0,0,0,0,0,0,0,0,{"$f":"AP269","v":0},0,0,0,0,0,0,0,0,0,0,0,0,0,0,0,0,0,0,0,0,0,0,0,0,0,0,0,0,0,0,0,{"$f":"BV269","v":0},0,0,0,0,0,0,0,0,0,0,0,0,0,0,0,0,0,0,0,0,0,0,0,0,0,0,0,0,0,0,0,{"$f":"DB269","v":0},0,0,0,0,0,0,0,0,0,0,0,0,0,0,0,0,0,0,0,0,0,0,0,0,0,0,0,0,0,0,0,{"$f":"EH269","v":0},0,0,0,0,0,0,0,0,0,0,0,0,0,0,0,0,0,0]
[null,null,"Less: Repayment",null,null,null,null,"REPAY"]
[null,null,"Less: Repayment at Re-financing"]
[null,null,"Closing Balance",null,null,null,null,"BAL",null,{"$f":"J306+J307-J308-J309","v":0},{"$f":"K306+K307-K308-K309","v":0},0,0,0,0,0,0,0,0,0,0,0,0,0,0,0,0,0,0,0,0,0,0,0,{"$f":"AI306+AI307-AI308-AI309","v":0},0,0,0,0,0,0,0,0,0,0,0,0,0,0,0,0,0,0,0,0,0,0,0,0,0,0,0,0,0,0,0,0,0,0,0,0,0,0,0,0,0,0,0,0,0,0,0,0,0,0,0,0,0,0,0,0,0,0,0,0,0,0,0,{"$f":"CU306+CU307-CU308-CU309","v":0},0,0,0,0,0,0,0,0,0,0,0,0,0,0,0,0,0,0,0,0,0,0,0,0,0,0,0,0,0,0,0,0,0,0,0,0,0,0,0,0,0,0,0,0,0,0,0,0,0,0,0,0,0,0,0,0,0]
[null,null,"Interest Rate",null,null,null,null,null,null,{"$f":"J215","v":2.9166666666666668E-3},2.9166666666666668E-3,2.9166666666666668E-3,2.9166666666666668E-3,2.9166666666666668E-3,2.9166666666666668E-3,2.9166666666666668E-3,2.9166666666666668E-3,2.9166666666666668E-3,2.9166666666666668E-3,2.9166666666666668E-3,2.9166666666666668E-3,2.9166666666666668E-3,2.9166666666666668E-3,2.9166666666666668E-3,2.9166666666666668E-3,2.9166666666666668E-3,2.9166666666666668E-3,2.9166666666666668E-3,2.9166666666666668E-3,2.9166666666666668E-3,2.9166666666666668E-3,2.9166666666666668E-3,2.9166666666666668E-3,2.9166666666666668E-3,2.9166666666666668E-3,2.9166666666666668E-3,2.9166666666666668E-3,2.9166666666666668E-3,2.9166666666666668E-3,2.9166666666666668E-3,2.9166666666666668E-3,{"$f":"AP215","v":2.9166666666666668E-3},2.9166666666666668E-3,2.9166666666666668E-3,2.9166666666666668E-3,1.7500000000000002E-2,1.7500000000000002E-2,1.7500000000000002E-2,1.7500000000000002E-2,1.7500000000000002E-2,1.7500000000000002E-2,1.7500000000000002E-2,1.7500000000000002E-2,1.7500000000000002E-2,1.7500000000000002E-2,1.7500000000000002E-2,1.7500000000000002E-2,1.7500000000000002E-2,1.7500000000000002E-2,1.7500000000000002E-2,1.7500000000000002E-2,1.7500000000000002E-2,1.7500000000000002E-2,1.7500000000000002E-2,1.7500000000000002E-2,1.7500000000000002E-2,1.7500000000000002E-2,1.7500000000000002E-2,1.7500000000000002E-2,1.7500000000000002E-2,1.7500000000000002E-2,1.7500000000000002E-2,1.7500000000000002E-2,{"$f":"BV215","v":1.7500000000000002E-2},1.7500000000000002E-2,1.7500000000000002E-2,1.7500000000000002E-2,1.7500000000000002E-2,1.7500000000000002E-2,1.7500000000000002E-2,1.7500000000000002E-2,1.7500000000000002E-2,1.7500000000000002E-2,1.7500000000000002E-2,1.7500000000000002E-2,1.7500000000000002E-2,1.7500000000000002E-2,1.7500000000000002E-2,1.7500000000000002E-2,1.7500000000000002E-2,1.7500000000000002E-2,1.7500000000000002E-2,1.7500000000000002E-2,1.7500000000000002E-2,1.7500000000000002E-2,1.7500000000000002E-2,1.7500000000000002E-2,1.7500000000000002E-2,1.7500000000000002E-2,1.7500000000000002E-2,1.7500000000000002E-2,1.7500000000000002E-2,1.7500000000000002E-2,1.7500000000000002E-2,1.7500000000000002E-2,{"$f":"DB215","v":1.7500000000000002E-2},1.7500000000000002E-2,1.7500000000000002E-2,1.7500000000000002E-2,1.7500000000000002E-2,1.7500000000000002E-2,1.7500000000000002E-2,1.7500000000000002E-2,1.7500000000000002E-2,1.7500000000000002E-2,1.7500000000000002E-2,1.7500000000000002E-2,1.7500000000000002E-2,1.7500000000000002E-2,1.7500000000000002E-2,1.7500000000000002E-2,1.7500000000000002E-2,1.7500000000000002E-2,1.7500000000000002E-2,1.7500000000000002E-2,1.7500000000000002E-2,1.7500000000000002E-2,1.7500000000000002E-2,1.7500000000000002E-2,1.7500000000000002E-2,1.7500000000000002E-2,1.7500000000000002E-2,1.7500000000000002E-2,1.7500000000000002E-2,1.7500000000000002E-2,1.7500000000000002E-2,1.7500000000000002E-2,{"$f":"EH215","v":1.7500000000000002E-2},1.7500000000000002E-2,1.7500000000000002E-2,1.7500000000000002E-2,1.7500000000000002E-2,1.7500000000000002E-2,1.7500000000000002E-2,1.7500000000000002E-2,1.7500000000000002E-2,1.7500000000000002E-2,1.7500000000000002E-2,1.7500000000000002E-2,1.7500000000000002E-2,1.7500000000000002E-2,1.7500000000000002E-2,1.7500000000000002E-2,1.7500000000000002E-2,1.7500000000000002E-2,1.7500000000000002E-2]
[]
[null,null,"Interest Cost",null,null,null,null,null,null,{"$f":"J311*J306","v":0},{"$f":"K311*K306","v":0},0,0,0,0,0,0,0,0,0,0,0,0,0,0,0,0,0,0,0,0,0,0,0,{"$f":"AI311*AI306","v":0},0,0,0,0,0,0,0,0,0,0,0,0,0,0,0,0,0,0,0,0,0,0,0,0,0,0,0,0,0,0,0,0,0,0,0,0,0,0,0,0,0,0,0,0,0,0,0,0,0,0,0,0,0,0,0,0,0,0,0,0,0,0,0,{"$f":"CU311*CU306","v":0},0,0,0,0,0,0,0,0,0,0,0,0,0,0,0,0,0,0,0,0,0,0,0,0,0,0,0,0,0,0,0,0,0,0,0,0,0,0,0,0,0,0,0,0,0,0,0,0,0,0,0,0,0,0,0,0,0]
[null,null,"Interest Expense",null,null,null,null,"I",null,{"$f":"J313*J8","v":0},0,0,0,0,0,0,0,0,0,0,0,0,0,0,0,0,0,0,0,0,0,0,0,0,0,0,0,0,0,0,0,{"$f":"AP313*AP8","v":0},0,0,0,0,0,0,0,0,0,0,0,0,0,0,0,0,0,0,0,0,0,0,0,0,0,0,0,0,0,0,0,{"$f":"BV313*BV8","v":0},0,0,0,0,0,0,0,0,0,0,0,0,0,0,0,0,0,0,0,0,0,0,0,0,0,0,0,0,0,0,0,{"$f":"DB313*DB8","v":0},0,0,0,0,0,0,0,0,0,0,0,0,0,0,0,0,0,0,0,0,0,0,0,0,0,0,0,0,0,0,0,{"$f":"EH313*EH8","v":0},0,0,0,0,0,0,0,0,0,0,0,0,0,0,0,0,0,0]
[null,null,"Interest During Construction",null,null,null,null,"IDC",null,{"$f":"J313*J7","v":0},0,0,0,0,0,0,0,0,0,0,0,0,0,0,0,0,0,0,0,0,0,0,0,0,0,0,0,0,0,0,0,{"$f":"AP313*AP7","v":0},0,0,0,0,0,0,0,0,0,0,0,0,0,0,0,0,0,0,0,0,0,0,0,0,0,0,0,0,0,0,0,{"$f":"BV313*BV7","v":0},0,0,0,0,0,0,0,0,0,0,0,0,0,0,0,0,0,0,0,0,0,0,0,0,0,0,0,0,0,0,0,{"$f":"DB313*DB7","v":0},0,0,0,0,0,0,0,0,0,0,0,0,0,0,0,0,0,0,0,0,0,0,0,0,0,0,0,0,0,0,0,{"$f":"EH313*EH7","v":0},0,0,0,0,0,0,0,0,0,0,0,0,0,0,0,0,0,0]
[]
[null,"Re-finance 1"]
[null,null,"Opening Balance",null,null,null,null,null,null,{"$f":"I322","v":0},0,0,0,0,0,0,0,0,0,0,0,0,0,0,0,0,0,0,0,0,0,0,0,0,0,0,0,0,0,0,0,{"$f":"AO322","v":0},0,0,0,0,0,0,0,0,0,0,0,0,0,0,0,0,0,0,0,0,0,0,0,0,0,0,0,0,0,0,0,{"$f":"BU322","v":0},0,0,0,0,0,0,0,0,0,0,0,0,0,0,0,0,0,0,0,0,0,0,0,0,0,0,0,0,0,0,0,{"$f":"DA322","v":0},0,0,0,0,0,0,0,0,0,0,0,0,0,0,0,0,0,0,0,0,0,0,0,0,0,0,0,0,0,0,0,{"$f":"EG322","v":0},0,0,0,0,0,0,0,0,0,0,0,0,0,0,0,0,0,0]
[null,null,"Add: Funding",null,null,null,null,null,null,{"$f":"J163","v":0},0,0,0,0,0,0,0,0,0,0,0,0,0,0,0,0,0,0,0,0,0,0,0,0,0,0,0,0,0,0,0,{"$f":"AP163","v":0},0,0,0,0,0,0,0,0,0,0,0,0,0,0,0,0,0,0,0,0,0,0,0,0,0,0,0,0,0,0,0,{"$f":"BV163","v":0},0,0,0,0,0,0,0,0,0,0,0,0,0,0,0,0,0,0,0,0,0,0,0,0,0,0,0,0,0,0,0,{"$f":"DB163","v":0},0,0,0,0,0,0,0,0,0,0,0,0,0,0,0,0,0,0,0,0,0,0,0,0,0,0,0,0,0,0,0,{"$f":"EH163","v":0},0,0,0,0,0,0,0,0,0,0,0,0,0,0,0,0,0,0]
[null,null,"Less: Repayment",null,null,null,null,"REPAY",null,{"$f":"MIN(J225-J326,J318)","v":0},0,0,0,0,0,0,0,0,0,0,0,0,0,0,0,0,0,0,0,0,0,0,0,0,0,0,0,0,0,0,0,{"$f":"MIN(AP225-AP326,AP318)","v":0},0,0,0,0,0,0,0,0,0,0,0,0,0,0,0,0,0,0,0,0,0,0,0,0,0,0,0,0,0,0,0,{"$f":"MIN(BV225-BV326,BV318)","v":0},0,0,0,0,0,0,0,0,0,0,0,0,0,0,0,0,0,0,0,0,0,0,0,0,0,0,0,0,0,0,0,{"$f":"MIN(DB225-DB326,DB318)","v":0},0,0,0,0,0,0,0,0,0,0,0,0,0,0,0,0,0,0,0,0,0,0,0,0,0,0,0,0,0,0,0,{"$f":"MIN(EH225-EH326,EH318)","v":0},0,0,0,0,0,0,0,0,0,0,0,0,0,0,0,0,0,0]
[null,null,"Less: Repayment from Future Re-financing",null,null,null,null,null,null,{"$f":"(J318-J320)*J159","v":0},0,0,0,0,0,0,0,0,0,0,0,0,0,0,0,0,0,0,0,0,0,0,0,0,0,0,0,0,0,0,0,{"$f":"(AP318-AP320)*AP159","v":0},0,0,0,0,0,0,0,0,0,0,0,0,0,0,0,0,0,0,0,0,0,0,0,0,0,0,0,0,0,0,0,{"$f":"(BV318-BV320)*BV159","v":0},0,0,0,0,0,0,0,0,0,0,0,0,0,0,0,0,0,0,0,0,0,0,0,0,0,0,0,0,0,0,0,{"$f":"(DB318-DB320)*DB159","v":0},0,0,0,0,0,0,0,0,0,0,0,0,0,0,0,0,0,0,0,0,0,0,0,0,0,0,0,0,0,0,0,{"$f":"(EH318-EH320)*EH159","v":0},0,0,0,0,0,0,0,0,0,0,0,0,0,0,0,0,0,0]
[null,null,"Closing Balance",null,null,null,null,"BAL",null,{"$f":"J318+J319-J320-J321","v":0},{"$f":"K318+K319-K320-K321","v":0},0,0,0,0,0,0,0,0,0,0,0,0,0,0,0,0,0,0,0,0,0,0,0,0,0,0,0,0,0,0,0,0,0,0,0,0,0,0,0,0,0,0,0,0,0,0,0,0,0,0,0,0,0,0,0,0,0,0,0,0,0,0,0,{"$f":"BW318+BW319-BW320-BW321","v":0},0,0,0,0,0,0,0,0,0,0,0,0,0,0,0,0,0,0,0,0,0,0,0,0,0,0,0,0,0,0,0,0,0,0,0,0,0,0,0,0,0,0,0,0,0,0,0,0,0,0,0,0,0,0,0,0,0,0,0,0,0,0,0,{"$f":"EI318+EI319-EI320-EI321","v":0},0,0,0,0,0,0,0,0,0,0,0,0,0,0,0,0,0]
[null,null,"Interest Rate",null,null,null,{"$f":"F84","v":3.5000000000000003E-2},null,null,{"$f":"$G$323*J3/12","v":2.9166666666666668E-3},2.9166666666666668E-3,2.9166666666666668E-3,2.9166666666666668E-3,2.9166666666666668E-3,2.9166666666666668E-3,2.9166666666666668E-3,2.9166666666666668E-3,2.9166666666666668E-3,2.9166666666666668E-3,2.9166666666666668E-3,2.9166666666666668E-3,2.9166666666666668E-3,2.9166666666666668E-3,2.9166666666666668E-3,2.9166666666666668E-3,2.9166666666666668E-3,2.9166666666666668E-3,2.9166666666666668E-3,2.9166666666666668E-3,2.9166666666666668E-3,2.9166666666666668E-3,2.9166666666666668E-3,2.9166666666666668E-3,2.9166666666666668E-3,2.9166666666666668E-3,2.9166666666666668E-3,2.9166666666666668E-3,2.9166666666666668E-3,2.9166666666666668E-3,2.9166666666666668E-3,2.9166666666666668E-3,{"$f":"$G$323*AP3/12","v":2.9166666666666668E-3},2.9166666666666668E-3,2.9166666666666668E-3,2.9166666666666668E-3,1.7500000000000002E-2,1.7500000000000002E-2,1.7500000000000002E-2,1.7500000000000002E-2,1.7500000000000002E-2,1.7500000000000002E-2,1.7500000000000002E-2,1.7500000000000002E-2,1.7500000000000002E-2,1.7500000000000002E-2,1.7500000000000002E-2,1.7500000000000002E-2,1.7500000000000002E-2,1.7500000000000002E-2,1.7500000000000002E-2,1.7500000000000002E-2,1.7500000000000002E-2,1.7500000000000002E-2,1.7500000000000002E-2,1.7500000000000002E-2,1.7500000000000002E-2,1.7500000000000002E-2,1.7500000000000002E-2,1.7500000000000002E-2,1.7500000000000002E-2,1.7500000000000002E-2,1.7500000000000002E-2,1.7500000000000002E-2,{"$f":"$G$323*BV3/12","v":1.7500000000000002E-2},1.7500000000000002E-2,1.7500000000000002E-2,1.7500000000000002E-2,1.7500000000000002E-2,1.7500000000000002E-2,1.7500000000000002E-2,1.7500000000000002E-2,1.7500000000000002E-2,1.7500000000000002E-2,1.7500000000000002E-2,1.7500000000000002E-2,1.7500000000000002E-2,1.7500000000000002E-2,1.7500000000000002E-2,1.7500000000000002E-2,1.7500000000000002E-2,1.7500000000000002E-2,1.7500000000000002E-2,1.7500000000000002E-2,1.7500000000000002E-2,1.7500000000000002E-2,1.7500000000000002E-2,1.7500000000000002E-2,1.7500000000000002E-2,1.7500000000000002E-2,1.7500000000000002E-2,1.7500000000000002E-2,1.7500000000000002E-2,1.7500000000000002E-2,1.7500000000000002E-2,1.7500000000000002E-2,{"$f":"$G$323*DB3/12","v":1.7500000000000002E-2},1.7500000000000002E-2,1.7500000000000002E-2,1.7500000000000002E-2,1.7500000000000002E-2,1.7500000000000002E-2,1.7500000000000002E-2,1.7500000000000002E-2,1.7500000000000002E-2,1.7500000000000002E-2,1.7500000000000002E-2,1.7500000000000002E-2,1.7500000000000002E-2,1.7500000000000002E-2,1.7500000000000002E-2,1.7500000000000002E-2,1.7500000000000002E-2,1.7500000000000002E-2,1.7500000000000002E-2,1.7500000000000002E-2,1.7500000000000002E-2,1.7500000000000002E-2,1.7500000000000002E-2,1.7500000000000002E-2,1.7500000000000002E-2,1.7500000000000002E-2,1.7500000000000002E-2,1.7500000000000002E-2,1.7500000000000002E-2,1.7500000000000002E-2,1.7500000000000002E-2,1.7500000000000002E-2,{"$f":"$G$323*EH3/12","v":1.7500000000000002E-2},1.7500000000000002E-2,1.7500000000000002E-2,1.7500000000000002E-2,1.7500000000000002E-2,1.7500000000000002E-2,1.7500000000000002E-2,1.7500000000000002E-2,1.7500000000000002E-2,1.7500000000000002E-2,1.7500000000000002E-2,1.7500000000000002E-2,1.7500000000000002E-2,1.7500000000000002E-2,1.7500000000000002E-2,1.7500000000000002E-2,1.7500000000000002E-2,1.7500000000000002E-2,1.7500000000000002E-2]
[]
[null,null,"Interest Cost",null,null,null,null,null,null,{"$f":"J323*J318","v":0},{"$f":"K323*K318","v":0},0,0,0,0,0,0,0,0,0,0,0,0,0,0,0,0,0,0,0,0,0,0,0,{"$f":"AI323*AI318","v":0},0,0,0,0,0,0,0,0,0,0,0,0,0,0,0,0,0,0,0,0,0,0,0,0,0,0,0,0,0,0,0,0,0,0,0,0,0,0,0,0,0,0,0,0,0,0,0,0,0,0,0,0,0,0,0,0,0,0,0,0,0,0,0,{"$f":"CU323*CU318","v":0},0,0,0,0,0,0,0,0,0,0,0,0,0,0,0,0,0,0,0,0,0,0,0,0,0,0,0,0,0,0,0,0,0,0,0,0,0,0,0,0,0,0,0,0,0,0,0,0,0,0,0,0,0,0,0,0,0]
[null,null,"Interest Expense",null,null,null,null,"I",null,{"$f":"J325","v":0},0,0,0,0,0,0,0,0,0,0,0,0,0,0,0,0,0,0,0,0,0,0,0,0,0,0,0,0,0,0,0,{"$f":"AP325","v":0},0,0,0,0,0,0,0,0,0,0,0,0,0,0,0,0,0,0,0,0,0,0,0,0,0,0,0,0,0,0,0,{"$f":"BV325","v":0},0,0,0,0,0,0,0,0,0,0,0,0,0,0,0,0,0,0,0,0,0,0,0,0,0,0,0,0,0,0,0,{"$f":"DB325","v":0},0,0,0,0,0,0,0,0,0,0,0,0,0,0,0,0,0,0,0,0,0,0,0,0,0,0,0,0,0,0,0,{"$f":"EH325","v":0},0,0,0,0,0,0,0,0,0,0,0,0,0,0,0,0,0,0]
[null,null,"Interest During Construction",null,null,null,null,"IDC",null,{"$f":"J325-J326","v":0},{"$f":"K325-K326","v":0},0,0,0,0,0,0,0,0,0,0,0,0,0,0,0,0,0,0,0,0,0,0,0,{"$f":"AI325-AI326","v":0},0,0,0,0,0,0,0,0,0,0,0,0,0,0,0,0,0,0,0,0,0,0,0,0,0,0,0,0,0,0,0,0,0,0,0,0,0,0,0,0,0,0,0,0,0,0,0,0,0,0,0,0,0,0,0,0,0,0,0,0,0,0,0,{"$f":"CU325-CU326","v":0},0,0,0,0,0,0,0,0,0,0,0,0,0,0,0,0,0,0,0,0,0,0,0,0,0,0,0,0,0,0,0,0,0,0,0,0,0,0,0,0,0,0,0,0,0,0,0,0,0,0,0,0,0,0,0,0,0]
[]
[null,"Re-finance 2"]
[null,null,"Opening Balance",null,null,null,null,null,null,{"$f":"I334","v":0},0,0,0,0,0,0,0,0,0,0,0,0,0,0,0,0,0,0,0,0,0,0,0,0,0,0,0,0,0,0,0,{"$f":"AO334","v":0},0,0,0,0,0,0,0,0,0,0,0,0,0,0,0,0,0,0,0,0,0,0,0,0,0,0,0,0,0,0,0,{"$f":"BU334","v":0},0,0,0,0,0,0,0,0,0,0,0,0,0,0,0,0,0,0,0,0,0,0,0,0,0,0,0,0,0,0,0,{"$f":"DA334","v":0},0,0,0,0,0,0,0,0,0,0,0,0,0,0,0,0,0,0,0,0,0,0,0,0,0,0,0,0,0,0,0,{"$f":"EG334","v":0},0,0,0,0,0,0,0,0,0,0,0,0,0,0,0,0,0,0]
[null,null,"Add: Funding",null,null,null,null,null,null,{"$f":"J164","v":0},0,0,0,0,0,0,0,0,0,0,0,0,0,0,0,0,0,0,0,0,0,0,0,0,0,0,0,0,0,0,0,{"$f":"AP164","v":0},0,0,0,0,0,0,0,0,0,0,0,0,0,0,0,0,0,0,0,0,0,0,0,0,0,0,0,0,0,0,0,{"$f":"BV164","v":0},0,0,0,0,0,0,0,0,0,0,0,0,0,0,0,0,0,0,0,0,0,0,0,0,0,0,0,0,0,0,0,{"$f":"DB164","v":0},0,0,0,0,0,0,0,0,0,0,0,0,0,0,0,0,0,0,0,0,0,0,0,0,0,0,0,0,0,0,0,{"$f":"EH164","v":0},0,0,0,0,0,0,0,0,0,0,0,0,0,0,0,0,0,0]
[null,null,"Less: Repayment",null,null,null,null,"REPAY",null,{"$f":"MIN(J233-J338,J330)","v":0},0,0,0,0,0,0,0,0,0,0,0,0,0,0,0,0,0,0,0,0,0,0,0,0,0,0,0,0,0,0,0,{"$f":"MIN(AP233-AP338,AP330)","v":0},0,0,0,0,0,0,0,0,0,0,0,0,0,0,0,0,0,0,0,0,0,0,0,0,0,0,0,0,0,0,0,{"$f":"MIN(BV233-BV338,BV330)","v":0},0,0,0,0,0,0,0,0,0,0,0,0,0,0,0,0,0,0,0,0,0,0,0,0,0,0,0,0,0,0,0,{"$f":"MIN(DB233-DB338,DB330)","v":0},0,0,0,0,0,0,0,0,0,0,0,0,0,0,0,0,0,0,0,0,0,0,0,0,0,0,0,0,0,0,0,{"$f":"MIN(EH233-EH338,EH330)","v":0},0,0,0,0,0,0,0,0,0,0,0,0,0,0,0,0,0,0]
[null,null,"Less: Repayment from Future Re-Financing",null,null,null,null,null,null,{"$f":"(J330-J332)*J160","v":0},0,0,0,0,0,0,0,0,0,0,0,0,0,0,0,0,0,0,0,0,0,0,0,0,0,0,0,0,0,0,0,{"$f":"(AP330-AP332)*AP160","v":0},0,0,0,0,0,0,0,0,0,0,0,0,0,0,0,0,0,0,0,0,0,0,0,0,0,0,0,0,0,0,0,{"$f":"(BV330-BV332)*BV160","v":0},0,0,0,0,0,0,0,0,0,0,0,0,0,0,0,0,0,0,0,0,0,0,0,0,0,0,0,0,0,0,0,{"$f":"(DB330-DB332)*DB160","v":0},0,0,0,0,0,0,0,0,0,0,0,0,0,0,0,0,0,0,0,0,0,0,0,0,0,0,0,0,0,0,0,{"$f":"(EH330-EH332)*EH160","v":0},0,0,0,0,0,0,0,0,0,0,0,0,0,0,0,0,0,0]
[null,null,"Closing Balance",null,null,null,null,"BAL",null,{"$f":"J330+J331-J332-J333","v":0},{"$f":"K330+K331-K332-K333","v":0},0,0,0,0,0,0,0,0,0,0,0,0,0,0,0,0,0,0,0,0,0,0,0,0,0,0,0,0,0,0,0,0,0,0,0,0,0,0,0,0,0,0,0,0,0,0,0,0,0,0,0,0,0,0,0,0,0,0,0,0,0,0,0,{"$f":"BW330+BW331-BW332-BW333","v":0},0,0,0,0,0,0,0,0,0,0,0,0,0,0,0,0,0,0,0,0,0,0,0,0,0,0,0,0,0,0,0,0,0,0,0,0,0,0,0,0,0,0,0,0,0,0,0,0,0,0,0,0,0,0,0,0,0,0,0,0,0,0,0,{"$f":"EI330+EI331-EI332-EI333","v":0},0,0,0,0,0,0,0,0,0,0,0,0,0,0,0,0,0]
[null,null,"Interest Rate",null,null,null,{"$f":"F108","v":2.9000000000000001E-2},null,null,{"$f":"$G$335/12*J3","v":2.4166666666666668E-3},2.4166666666666668E-3,2.4166666666666668E-3,2.4166666666666668E-3,2.4166666666666668E-3,2.4166666666666668E-3,2.4166666666666668E-3,2.4166666666666668E-3,2.4166666666666668E-3,2.4166666666666668E-3,2.4166666666666668E-3,2.4166666666666668E-3,2.4166666666666668E-3,2.4166666666666668E-3,2.4166666666666668E-3,2.4166666666666668E-3,2.4166666666666668E-3,2.4166666666666668E-3,2.4166666666666668E-3,2.4166666666666668E-3,2.4166666666666668E-3,2.4166666666666668E-3,2.4166666666666668E-3,2.4166666666666668E-3,2.4166666666666668E-3,2.4166666666666668E-3,2.4166666666666668E-3,2.4166666666666668E-3,2.4166666666666668E-3,2.4166666666666668E-3,2.4166666666666668E-3,2.4166666666666668E-3,{"$f":"$G$335/12*AP3","v":2.4166666666666668E-3},2.4166666666666668E-3,2.4166666666666668E-3,2.4166666666666668E-3,1.4500000000000001E-2,1.4500000000000001E-2,1.4500000000000001E-2,1.4500000000000001E-2,1.4500000000000001E-2,1.4500000000000001E-2,1.4500000000000001E-2,1.4500000000000001E-2,1.4500000000000001E-2,1.4500000000000001E-2,1.4500000000000001E-2,1.4500000000000001E-2,1.4500000000000001E-2,1.4500000000000001E-2,1.4500000000000001E-2,1.4500000000000001E-2,1.4500000000000001E-2,1.4500000000000001E-2,1.4500000000000001E-2,1.4500000000000001E-2,1.4500000000000001E-2,1.4500000000000001E-2,1.4500000000000001E-2,1.4500000000000001E-2,1.4500000000000001E-2,1.4500000000000001E-2,1.4500000000000001E-2,1.4500000000000001E-2,{"$f":"$G$335/12*BV3","v":1.4500000000000001E-2},1.4500000000000001E-2,1.4500000000000001E-2,1.4500000000000001E-2,1.4500000000000001E-2,1.4500000000000001E-2,1.4500000000000001E-2,1.4500000000000001E-2,1.4500000000000001E-2,1.4500000000000001E-2,1.4500000000000001E-2,1.4500000000000001E-2,1.4500000000000001E-2,1.4500000000000001E-2,1.4500000000000001E-2,1.4500000000000001E-2,1.4500000000000001E-2,1.4500000000000001E-2,1.4500000000000001E-2,1.4500000000000001E-2,1.4500000000000001E-2,1.4500000000000001E-2,1.4500000000000001E-2,1.4500000000000001E-2,1.4500000000000001E-2,1.4500000000000001E-2,1.4500000000000001E-2,1.4500000000000001E-2,1.4500000000000001E-2,1.4500000000000001E-2,1.4500000000000001E-2,1.4500000000000001E-2,{"$f":"$G$335/12*DB3","v":1.4500000000000001E-2},1.4500000000000001E-2,1.4500000000000001E-2,1.4500000000000001E-2,1.4500000000000001E-2,1.4500000000000001E-2,1.4500000000000001E-2,1.4500000000000001E-2,1.4500000000000001E-2,1.4500000000000001E-2,1.4500000000000001E-2,1.4500000000000001E-2,1.4500000000000001E-2,1.4500000000000001E-2,1.4500000000000001E-2,1.4500000000000001E-2,1.4500000000000001E-2,1.4500000000000001E-2,1.4500000000000001E-2,1.4500000000000001E-2,1.4500000000000001E-2,1.4500000000000001E-2,1.4500000000000001E-2,1.4500000000000001E-2,1.4500000000000001E-2,1.4500000000000001E-2,1.4500000000000001E-2,1.4500000000000001E-2,1.4500000000000001E-2,1.4500000000000001E-2,1.4500000000000001E-2,1.4500000000000001E-2,{"$f":"$G$335/12*EH3","v":1.4500000000000001E-2},1.4500000000000001E-2,1.4500000000000001E-2,1.4500000000000001E-2,1.4500000000000001E-2,1.4500000000000001E-2,1.4500000000000001E-2,1.4500000000000001E-2,1.4500000000000001E-2,1.4500000000000001E-2,1.4500000000000001E-2,1.4500000000000001E-2,1.4500000000000001E-2,1.4500000000000001E-2,1.4500000000000001E-2,1.4500000000000001E-2,1.4500000000000001E-2,1.4500000000000001E-2,1.4500000000000001E-2]
[]
[null,null,"Interest Cost",null,null,null,null,null,null,{"$f":"J335*J330","v":0},{"$f":"K335*K330","v":0},0,0,0,0,0,0,0,0,0,0,0,0,0,0,0,0,0,0,0,0,0,0,0,0,0,0,0,0,0,0,0,0,0,0,0,0,0,0,0,0,0,0,0,0,0,0,0,0,0,0,0,0,0,0,0,0,0,0,0,0,0,0,0,{"$f":"BW335*BW330","v":0},0,0,0,0,0,0,0,0,0,0,0,0,0,0,0,0,0,0,0,0,0,0,0,0,0,0,0,0,0,0,0,0,0,0,0,0,0,0,0,0,0,0,0,0,0,0,0,0,0,0,0,0,0,0,0,0,0,0,0,0,0,0,0,{"$f":"EI335*EI330","v":0},0,0,0,0,0,0,0,0,0,0,0,0,0,0,0,0,0]
[null,null,"Interest Expense",null,null,null,null,"I",null,{"$f":"J337*J8","v":0},0,0,0,0,0,0,0,0,0,0,0,0,0,0,0,0,0,0,0,0,0,0,0,0,0,0,0,0,0,0,0,{"$f":"AP337*AP8","v":0},0,0,0,0,0,0,0,0,0,0,0,0,0,0,0,0,0,0,0,0,0,0,0,0,0,0,0,0,0,0,0,{"$f":"BV337*BV8","v":0},0,0,0,0,0,0,0,0,0,0,0,0,0,0,0,0,0,0,0,0,0,0,0,0,0,0,0,0,0,0,0,{"$f":"DB337*DB8","v":0},0,0,0,0,0,0,0,0,0,0,0,0,0,0,0,0,0,0,0,0,0,0,0,0,0,0,0,0,0,0,0,{"$f":"EH337*EH8","v":0},0,0,0,0,0,0,0,0,0,0,0,0,0,0,0,0,0,0]
[null,null,"Interest During Construction",null,null,null,null,"IDC",null,{"$f":"J337-J338","v":0},{"$f":"K337-K338","v":0},0,0,0,0,0,0,0,0,0,0,0,0,0,0,0,0,0,0,0,0,0,0,0,0,0,0,0,0,0,0,0,0,0,0,0,0,0,0,0,0,0,0,0,0,0,0,0,0,0,0,0,0,0,0,0,0,0,0,0,0,0,0,0,{"$f":"BW337-BW338","v":0},0,0,0,0,0,0,0,0,0,0,0,0,0,0,0,0,0,0,0,0,0,0,0,0,0,0,0,0,0,0,0,0,0,0,0,0,0,0,0,0,0,0,0,0,0,0,0,0,0,0,0,0,0,0,0,0,0,0,0,0,0,0,0,{"$f":"EI337-EI338","v":0},0,0,0,0,0,0,0,0,0,0,0,0,0,0,0,0,0]
[]
[null,"Re-finance 3"]
[null,null,"Opening Balance",null,null,null,null,null,null,{"$f":"I346","v":0},0,0,0,0,0,0,0,0,0,0,0,0,0,0,0,0,0,0,0,0,0,0,0,0,0,0,0,0,0,0,0,{"$f":"AO346","v":0},0,0,0,0,0,0,0,0,0,0,0,0,0,0,0,0,0,0,0,0,0,0,0,0,0,0,0,0,0,0,0,{"$f":"BU346","v":0},0,0,0,0,0,0,0,0,0,0,0,0,0,0,0,0,0,0,0,0,0,0,0,0,0,0,0,0,0,0,0,{"$f":"DA346","v":0},0,0,0,0,0,0,0,0,0,0,0,0,0,0,0,0,0,0,0,0,0,0,0,0,0,0,0,0,0,0,0,{"$f":"EG346","v":0},0,0,0,0,0,0,0,0,0,0,0,0,0,0,0,0,0,0]
[null,null,"Add: Funding",null,null,null,null,null,null,{"$f":"J165","v":0},0,0,0,0,0,0,0,0,0,0,0,0,0,0,0,0,0,0,0,0,0,0,0,0,0,0,0,0,0,0,0,{"$f":"AP165","v":0},0,0,0,0,0,0,0,0,0,0,0,0,0,0,0,0,0,0,0,0,0,0,0,0,0,0,0,0,0,0,0,{"$f":"BV165","v":0},0,0,0,0,0,0,0,0,0,0,0,0,0,0,0,0,0,0,0,0,0,0,0,0,0,0,0,0,0,0,0,{"$f":"DB165","v":0},0,0,0,0,0,0,0,0,0,0,0,0,0,0,0,0,0,0,0,0,0,0,0,0,0,0,0,0,0,0,0,{"$f":"EH165","v":0},0,0,0,0,0,0,0,0,0,0,0,0,0,0,0,0,0,0]
[null,null,"Less: Repayment",null,null,null,null,"REPAY",null,{"$f":"MIN(J241-J350,J342)","v":0},0,0,0,0,0,0,0,0,0,0,0,0,0,0,0,0,0,0,0,0,0,0,0,0,0,0,0,0,0,0,0,{"$f":"MIN(AP241-AP350,AP342)","v":0},0,0,0,0,0,0,0,0,0,0,0,0,0,0,0,0,0,0,0,0,0,0,0,0,0,0,0,0,0,0,0,{"$f":"MIN(BV241-BV350,BV342)","v":0},0,0,0,0,0,0,0,0,0,0,0,0,0,0,0,0,0,0,0,0,0,0,0,0,0,0,0,0,0,0,0,{"$f":"MIN(DB241-DB350,DB342)","v":0},0,0,0,0,0,0,0,0,0,0,0,0,0,0,0,0,0,0,0,0,0,0,0,0,0,0,0,0,0,0,0,{"$f":"MIN(EH241-EH350,EH342)","v":0},0,0,0,0,0,0,0,0,0,0,0,0,0,0,0,0,0,0]
[null,null,"Less: Repayment from Future Re-Financing"]
[null,null,"Closing Balance",null,null,null,null,"BAL",null,{"$f":"J342+J343-J344-J345","v":0},{"$f":"K342+K343-K344-K345","v":0},0,0,0,0,0,0,0,0,0,0,0,0,0,0,0,0,0,0,0,0,0,0,0,0,0,0,0,0,0,0,0,0,0,0,0,0,0,0,0,0,0,0,0,0,0,0,0,0,0,0,0,0,0,0,0,0,0,0,0,0,0,0,0,{"$f":"BW342+BW343-BW344-BW345","v":0},0,0,0,0,0,0,0,0,0,0,0,0,0,0,0,0,0,0,0,0,0,0,0,0,0,0,0,0,0,0,0,0,0,0,0,0,0,0,0,0,0,0,0,0,0,0,0,0,0,0,0,0,0,0,0,0,0,0,0,0,0,0,0,{"$f":"EI342+EI343-EI344-EI345","v":0},0,0,0,0,0,0,0,0,0,0,0,0,0,0,0,0,0]
[null,null,"Interest Rate",null,null,null,{"$f":"F108","v":2.9000000000000001E-2},null,null,{"$f":"$G$347/12*J3","v":2.4166666666666668E-3},2.4166666666666668E-3,2.4166666666666668E-3,2.4166666666666668E-3,2.4166666666666668E-3,2.4166666666666668E-3,2.4166666666666668E-3,2.4166666666666668E-3,2.4166666666666668E-3,2.4166666666666668E-3,2.4166666666666668E-3,2.4166666666666668E-3,2.4166666666666668E-3,2.4166666666666668E-3,2.4166666666666668E-3,2.4166666666666668E-3,2.4166666666666668E-3,2.4166666666666668E-3,2.4166666666666668E-3,2.4166666666666668E-3,2.4166666666666668E-3,2.4166666666666668E-3,2.4166666666666668E-3,2.4166666666666668E-3,2.4166666666666668E-3,2.4166666666666668E-3,2.4166666666666668E-3,2.4166666666666668E-3,2.4166666666666668E-3,2.4166666666666668E-3,2.4166666666666668E-3,2.4166666666666668E-3,{"$f":"$G$347/12*AP3","v":2.4166666666666668E-3},2.4166666666666668E-3,2.4166666666666668E-3,2.4166666666666668E-3,1.4500000000000001E-2,1.4500000000000001E-2,1.4500000000000001E-2,1.4500000000000001E-2,1.4500000000000001E-2,1.4500000000000001E-2,1.4500000000000001E-2,1.4500000000000001E-2,1.4500000000000001E-2,1.4500000000000001E-2,1.4500000000000001E-2,1.4500000000000001E-2,1.4500000000000001E-2,1.4500000000000001E-2,1.4500000000000001E-2,1.4500000000000001E-2,1.4500000000000001E-2,1.4500000000000001E-2,1.4500000000000001E-2,1.4500000000000001E-2,1.4500000000000001E-2,1.4500000000000001E-2,1.4500000000000001E-2,1.4500000000000001E-2,1.4500000000000001E-2,1.4500000000000001E-2,1.4500000000000001E-2,1.4500000000000001E-2,{"$f":"$G$347/12*BV3","v":1.4500000000000001E-2},1.4500000000000001E-2,1.4500000000000001E-2,1.4500000000000001E-2,1.4500000000000001E-2,1.4500000000000001E-2,1.4500000000000001E-2,1.4500000000000001E-2,1.4500000000000001E-2,1.4500000000000001E-2,1.4500000000000001E-2,1.4500000000000001E-2,1.4500000000000001E-2,1.4500000000000001E-2,1.4500000000000001E-2,1.4500000000000001E-2,1.4500000000000001E-2,1.4500000000000001E-2,1.4500000000000001E-2,1.4500000000000001E-2,1.4500000000000001E-2,1.4500000000000001E-2,1.4500000000000001E-2,1.4500000000000001E-2,1.4500000000000001E-2,1.4500000000000001E-2,1.4500000000000001E-2,1.4500000000000001E-2,1.4500000000000001E-2,1.4500000000000001E-2,1.4500000000000001E-2,1.4500000000000001E-2,{"$f":"$G$347/12*DB3","v":1.4500000000000001E-2},1.4500000000000001E-2,1.4500000000000001E-2,1.4500000000000001E-2,1.4500000000000001E-2,1.4500000000000001E-2,1.4500000000000001E-2,1.4500000000000001E-2,1.4500000000000001E-2,1.4500000000000001E-2,1.4500000000000001E-2,1.4500000000000001E-2,1.4500000000000001E-2,1.4500000000000001E-2,1.4500000000000001E-2,1.4500000000000001E-2,1.4500000000000001E-2,1.4500000000000001E-2,1.4500000000000001E-2,1.4500000000000001E-2,1.4500000000000001E-2,1.4500000000000001E-2,1.4500000000000001E-2,1.4500000000000001E-2,1.4500000000000001E-2,1.4500000000000001E-2,1.4500000000000001E-2,1.4500000000000001E-2,1.4500000000000001E-2,1.4500000000000001E-2,1.4500000000000001E-2,1.4500000000000001E-2,{"$f":"$G$347/12*EH3","v":1.4500000000000001E-2},1.4500000000000001E-2,1.4500000000000001E-2,1.4500000000000001E-2,1.4500000000000001E-2,1.4500000000000001E-2,1.4500000000000001E-2,1.4500000000000001E-2,1.4500000000000001E-2,1.4500000000000001E-2,1.4500000000000001E-2,1.4500000000000001E-2,1.4500000000000001E-2,1.4500000000000001E-2,1.4500000000000001E-2,1.4500000000000001E-2,1.4500000000000001E-2,1.4500000000000001E-2,1.4500000000000001E-2]
[]
[null,null,"Interest Cost",null,null,null,null,null,null,{"$f":"J347*J342","v":0},{"$f":"K347*K342","v":0},0,0,0,0,0,0,0,0,0,0,0,0,0,0,0,0,0,0,0,0,0,0,0,0,0,0,0,0,0,0,0,0,0,0,0,0,0,0,0,0,0,0,0,0,0,0,0,0,0,0,0,0,0,0,0,0,0,0,0,0,0,0,0,{"$f":"BW347*BW342","v":0},0,0,0,0,0,0,0,0,0,0,0,0,0,0,0,0,0,0,0,0,0,0,0,0,0,0,0,0,0,0,0,0,0,0,0,0,0,0,0,0,0,0,0,0,0,0,0,0,0,0,0,0,0,0,0,0,0,0,0,0,0,0,0,{"$f":"EI347*EI342","v":0},0,0,0,0,0,0,0,0,0,0,0,0,0,0,0,0,0]
[null,null,"Interest Expense",null,null,null,null,"I",null,{"$f":"J349*J8","v":0},0,0,0,0,0,0,0,0,0,0,0,0,0,0,0,0,0,0,0,0,0,0,0,0,0,0,0,0,0,0,0,{"$f":"AP349*AP8","v":0},0,0,0,0,0,0,0,0,0,0,0,0,0,0,0,0,0,0,0,0,0,0,0,0,0,0,0,0,0,0,0,{"$f":"BV349*BV8","v":0},0,0,0,0,0,0,0,0,0,0,0,0,0,0,0,0,0,0,0,0,0,0,0,0,0,0,0,0,0,0,0,{"$f":"DB349*DB8","v":0},0,0,0,0,0,0,0,0,0,0,0,0,0,0,0,0,0,0,0,0,0,0,0,0,0,0,0,0,0,0,0,{"$f":"EH349*EH8","v":0},0,0,0,0,0,0,0,0,0,0,0,0,0,0,0,0,0,0]
[null,null,"Interest During Construction",null,null,null,null,"IDC",null,{"$f":"J349-J350","v":0},{"$f":"K349-K350","v":0},0,0,0,0,0,0,0,0,0,0,0,0,0,0,0,0,0,0,0,0,0,0,0,0,0,0,0,0,0,0,0,0,0,0,0,0,0,0,0,0,0,0,0,0,0,0,0,0,0,0,0,0,0,0,0,0,0,0,0,0,0,0,0,{"$f":"BW349-BW350","v":0},0,0,0,0,0,0,0,0,0,0,0,0,0,0,0,0,0,0,0,0,0,0,0,0,0,0,0,0,0,0,0,0,0,0,0,0,0,0,0,0,0,0,0,0,0,0,0,0,0,0,0,0,0,0,0,0,0,0,0,0,0,0,0,{"$f":"EI349-EI350","v":0},0,0,0,0,0,0,0,0,0,0,0,0,0,0,0,0,0]
[]
[null,"EBL Loan"]
[null,null,"EBL Repayment",null,null,null,{"$f":"F14","v":"2022-01-01"},null,null,{"$f":"$G$354=J4","v":false},false,false,false,false,false,false,false,false,false,false,false,false,false,false,false,false,false,false,false,false,false,false,false,false,false,false,false,false,false,false,false,{"$f":"$G$354=AP4","v":false},false,false,false,true,false,false,false,false,false,false,false,false,false,false,false,false,false,false,false,false,false,false,false,false,false,false,false,false,false,false,false,{"$f":"$G$354=BV4","v":false},false,false,false,false,false,false,false,false,false,false,false,false,false,false,false,false,false,false,false,false,false,false,false,false,false,false,false,false,false,false,false,{"$f":"$G$354=DB4","v":false},false,false,false,false,false,false,false,false,false,false,false,false,false,false,false,false,false,false,false,false,false,false,false,false,false,false,false,false,false,false,false,{"$f":"$G$354=EH4","v":false},false,false,false,false,false,false,false,false,false,false,false,false,false,false,false,false,false,false]
[null,null,"Opening Balance",null,null,null,null,null,null,{"$f":"I359","v":0},0,0,0,0,0,0,0,0,0,0,0,0,0,0,0,0,0,0,0,0,0,0,0,0,0,0,0,0,0,0,0,{"$f":"AO359","v":0},0,0,0,0,0,0,0,0,0,0,0,0,0,0,0,0,0,0,0,0,0,0,0,0,0,0,0,0,0,0,0,{"$f":"BU359","v":0},0,0,0,0,0,0,0,0,0,0,0,0,0,0,0,0,0,0,0,0,0,0,0,0,0,0,0,0,0,0,0,{"$f":"DA359","v":0},0,0,0,0,0,0,0,0,0,0,0,0,0,0,0,0,0,0,0,0,0,0,0,0,0,0,0,0,0,0,0,{"$f":"EG359","v":0},0,0,0,0,0,0,0,0,0,0,0,0,0,0,0,0,0,0]
[null,null,"Add: Capitalised Interest",null,null,null,null,null,null,{"$f":"J361","v":0},0,0,0,0,0,0,0,0,0,0,0,0,0,0,0,0,0,0,0,0,0,0,0,0,0,0,0,0,0,0,0,{"$f":"AP361","v":0},0,0,0,0,0,0,0,0,0,0,0,0,0,0,0,0,0,0,0,0,0,0,0,0,0,0,0,0,0,0,0,{"$f":"BV361","v":0},0,0,0,0,0,0,0,0,0,0,0,0,0,0,0,0,0,0,0,0,0,0,0,0,0,0,0,0,0,0,0,{"$f":"DB361","v":0},0,0,0,0,0,0,0,0,0,0,0,0,0,0,0,0,0,0,0,0,0,0,0,0,0,0,0,0,0,0,0,{"$f":"EH361","v":0},0,0,0,0,0,0,0,0,0,0,0,0,0,0,0,0,0,0]
[null,null,"Add: Draws",null,null,null,{"$f":"F70","v":false},null,null,{"$f":"J270*$G$357","v":0},0,0,0,0,0,0,0,0,0,0,0,0,0,0,0,0,0,0,0,0,0,0,0,0,0,0,0,0,0,0,0,{"$f":"AP270*$G$357","v":0},0,0,0,0,0,0,0,0,0,0,0,0,0,0,0,0,0,0,0,0,0,0,0,0,0,0,0,0,0,0,0,{"$f":"BV270*$G$357","v":0},0,0,0,0,0,0,0,0,0,0,0,0,0,0,0,0,0,0,0,0,0,0,0,0,0,0,0,0,0,0,0,{"$f":"DB270*$G$357","v":0},0,0,0,0,0,0,0,0,0,0,0,0,0,0,0,0,0,0,0,0,0,0,0,0,0,0,0,0,0,0,0,{"$f":"EH270*$G$357","v":0},0,0,0,0,0,0,0,0,0,0,0,0,0,0,0,0,0,0]
[null,null,"Less: Repayment",null,null,null,null,null,null,{"$f":"SUM(J355:J357)*J354","v":0},{"$f":"SUM(K355:K357)*K354","v":0},0,0,0,0,0,0,0,0,0,0,0,0,0,0,0,0,0,0,0,0,0,0,0,0,0,0,0,0,0,0,0,0,0,0,0,0,0,0,0,0,0,0,0,0,0,0,0,0,0,0,0,0,0,0,0,0,0,0,0,0,0,0,0,{"$f":"SUM(BW355:BW357)*BW354","v":0},0,0,0,0,0,0,0,0,0,0,0,0,0,0,0,0,0,0,0,0,0,0,0,0,0,0,0,0,0,0,0,0,0,0,0,0,0,0,0,0,0,0,0,0,0,0,0,0,0,0,0,0,0,0,0,0,0,0,0,0,0,0,0,{"$f":"SUM(EI355:EI357)*EI354","v":0},0,0,0,0,0,0,0,0,0,0,0,0,0,0,0,0,0]
[null,null,"Closing Balance",null,null,null,null,null,null,{"$f":"J355+J356+J357-J358","v":0},{"$f":"K355+K356+K357-K358","v":0},0,0,0,0,0,0,0,0,0,0,0,0,0,0,0,0,0,0,0,0,0,0,0,0,0,0,0,0,0,0,0,0,0,0,0,0,0,0,0,0,0,0,0,0,0,0,0,0,0,0,0,0,0,0,0,0,0,0,0,0,0,0,0,{"$f":"BW355+BW356+BW357-BW358","v":0},0,0,0,0,0,0,0,0,0,0,0,0,0,0,0,0,0,0,0,0,0,0,0,0,0,0,0,0,0,0,0,0,0,0,0,0,0,0,0,0,0,0,0,0,0,0,0,0,0,0,0,0,0,0,0,0,0,0,0,0,0,0,0,{"$f":"EI355+EI356+EI357-EI358","v":0},0,0,0,0,0,0,0,0,0,0,0,0,0,0,0,0,0]
[null,null,"Interest on EBL",null,null,null,{"$f":"F71","v":1.4999999999999999E-2},null,null,{"$f":"$G$360/12*J3","v":1.25E-3},1.25E-3,1.25E-3,1.25E-3,1.25E-3,1.25E-3,1.25E-3,1.25E-3,1.25E-3,1.25E-3,1.25E-3,1.25E-3,1.25E-3,1.25E-3,1.25E-3,1.25E-3,1.25E-3,1.25E-3,1.25E-3,1.25E-3,1.25E-3,1.25E-3,1.25E-3,1.25E-3,1.25E-3,1.25E-3,1.25E-3,1.25E-3,1.25E-3,1.25E-3,1.25E-3,1.25E-3,{"$f":"$G$360/12*AP3","v":1.25E-3},1.25E-3,1.25E-3,1.25E-3,7.4999999999999997E-3,7.4999999999999997E-3,7.4999999999999997E-3,7.4999999999999997E-3,7.4999999999999997E-3,7.4999999999999997E-3,7.4999999999999997E-3,7.4999999999999997E-3,7.4999999999999997E-3,7.4999999999999997E-3,7.4999999999999997E-3,7.4999999999999997E-3,7.4999999999999997E-3,7.4999999999999997E-3,7.4999999999999997E-3,7.4999999999999997E-3,7.4999999999999997E-3,7.4999999999999997E-3,7.4999999999999997E-3,7.4999999999999997E-3,7.4999999999999997E-3,7.4999999999999997E-3,7.4999999999999997E-3,7.4999999999999997E-3,7.4999999999999997E-3,7.4999999999999997E-3,7.4999999999999997E-3,7.4999999999999997E-3,{"$f":"$G$360/12*BV3","v":7.4999999999999997E-3},7.4999999999999997E-3,7.4999999999999997E-3,7.4999999999999997E-3,7.4999999999999997E-3,7.4999999999999997E-3,7.4999999999999997E-3,7.4999999999999997E-3,7.4999999999999997E-3,7.4999999999999997E-3,7.4999999999999997E-3,7.4999999999999997E-3,7.4999999999999997E-3,7.4999999999999997E-3,7.4999999999999997E-3,7.4999999999999997E-3,7.4999999999999997E-3,7.4999999999999997E-3,7.4999999999999997E-3,7.4999999999999997E-3,7.4999999999999997E-3,7.4999999999999997E-3,7.4999999999999997E-3,7.4999999999999997E-3,7.4999999999999997E-3,7.4999999999999997E-3,7.4999999999999997E-3,7.4999999999999997E-3,7.4999999999999997E-3,7.4999999999999997E-3,7.4999999999999997E-3,7.4999999999999997E-3,{"$f":"$G$360/12*DB3","v":7.4999999999999997E-3},7.4999999999999997E-3,7.4999999999999997E-3,7.4999999999999997E-3,7.4999999999999997E-3,7.4999999999999997E-3,7.4999999999999997E-3,7.4999999999999997E-3,7.4999999999999997E-3,7.4999999999999997E-3,7.4999999999999997E-3,7.4999999999999997E-3,7.4999999999999997E-3,7.4999999999999997E-3,7.4999999999999997E-3,7.4999999999999997E-3,7.4999999999999997E-3,7.4999999999999997E-3,7.4999999999999997E-3,7.4999999999999997E-3,7.4999999999999997E-3,7.4999999999999997E-3,7.4999999999999997E-3,7.4999999999999997E-3,7.4999999999999997E-3,7.4999999999999997E-3,7.4999999999999997E-3,7.4999999999999997E-3,7.4999999999999997E-3,7.4999999999999997E-3,7.4999999999999997E-3,7.4999999999999997E-3,{"$f":"$G$360/12*EH3","v":7.4999999999999997E-3},7.4999999999999997E-3,7.4999999999999997E-3,7.4999999999999997E-3,7.4999999999999997E-3,7.4999999999999997E-3,7.4999999999999997E-3,7.4999999999999997E-3,7.4999999999999997E-3,7.4999999999999997E-3,7.4999999999999997E-3,7.4999999999999997E-3,7.4999999999999997E-3,7.4999999999999997E-3,7.4999999999999997E-3,7.4999999999999997E-3,7.4999999999999997E-3,7.4999999999999997E-3,7.4999999999999997E-3]
[null,null,"EBL Interest",null,null,null,null,null,null,{"$f":"J360*J355","v":0},{"$f":"K360*K355","v":0},0,0,0,0,0,0,0,0,0,0,0,0,0,0,0,0,0,0,0,0,0,0,0,0,0,0,0,0,0,0,0,0,0,0,0,0,0,0,0,0,0,0,0,0,0,0,0,0,0,0,0,0,0,0,0,0,0,0,0,0,0,0,0,{"$f":"BW360*BW355","v":0},0,0,0,0,0,0,0,0,0,0,0,0,0,0,0,0,0,0,0,0,0,0,0,0,0,0,0,0,0,0,0,0,0,0,0,0,0,0,0,0,0,0,0,0,0,0,0,0,0,0,0,0,0,0,0,0,0,0,0,0,0,0,0,{"$f":"EI360*EI355","v":0},0,0,0,0,0,0,0,0,0,0,0,0,0,0,0,0,0]
[]
[null,"Totals"]
[null,null,"Total Interest Expense",null,null,null,null,null,null,{"$f":"SUMIF($H:$H,\"I\",J:J)","v":0},0,0,0,0,0,0,0,0,0,0,0,0,0,0,0,0,0,0,0,0,0,0,0,0,0,0,0,0,0,0,0,{"$f":"SUMIF($H:$H,\"I\",AP:AP)","v":0},0,0,0,2560.535301918339,2604.7045358764303,2587.5757794502865,2568.0971003748882,2549.0956674929425,2527.6709192608614,2506.706112597431,2483.2422115734757,2637.956700585165,2613.7898878202891,2590.101558521194,2563.5900453936206,2537.5321501651561,2508.5595351437919,2480.0138892543405,2448.4588472101382,2580.0097691117171,2546.6441999834306,2513.6892207219034,2477.3274055215529,2441.3383955251797,2401.8275079810019,2362.6490504830945,2319.8295019572192,2420.7142911190222,2374.5011091066553,2328.5484500549387,2278.4588217377086,{"$f":"SUMIF($H:$H,\"I\",BV:BV)","v":2228.5729310043853},2174.4040338717259,2120.3783220734208,2061.9179595795358,2002.7592325128394,1939.769102993034,1876.7886545072877,1809.0521813813141,1741.2523655487496,1668.5266496572342,1595.6599994256323,1517.6910035341709,1438.6575933613935,1355.1619898249951,1271.3552910579904,1182.0721909132806,1092.3853043580634,997.02420326751667,901.16110092045051,799.41826770807256,696.15899786992736,587.69777616685417,478.52007418180045,363.02682386810977,246.70064477909125,123.82834301051351,9.756804702192311E-7,9.9616976009383503E-7,1.0170893250558056E-6,1.0384482008819773E-6,1.0602556131004988E-6,1.0825209809756093E-6,{"$f":"SUMIF($H:$H,\"I\",DB:DB)","v":1.1052539215760972E-6},1.1284642539291953E-6,1.1521620032617085E-6,1.1763574053302042E-6,1.2010609108421385E-6,1.2262831899698234E-6,1.2520351369591897E-6,1.2783278748353327E-6,1.3051727602068748E-6,1.332581388171219E-6,0,0,0,0,0,0,0,0,0,0,0,0,0,0,0,0,0,0,0,0,0,0,{"$f":"SUMIF($H:$H,\"I\",EH:EH)","v":0},0,0,0,0,0,0,0,0,0,0,0,0,0,0,0,0,0,0]
[null,null,"Interest During Construction",null,null,null,null,null,null,{"$f":"SUMIF($H:$H,\"IDC\",J:J)","v":0},24.483338179266035,31.330216771066016,39.2235206191299,48.220990712740019,58.359804857176783,69.652332925013582,82.082633971882814,95.604012140643434,110.13790301498672,125.57428758328481,141.77373186325923,158.57103438887685,175.78034158015356,193.20147433336115,210.62710984901071,227.85039119336827,244.6725010367779,260.90973933245317,276.39968701417922,291.00611449150637,304.62239657724228,317.17331371881392,328.61524107328279,338.93484040858539,348.14646501416439,356.28855743419962,363.41935988061147,369.61226708750792,374.95113374099373,379.5258085622205,383.42811134415888,{"$f":"SUMIF($H:$H,\"IDC\",AP:AP)","v":386.74840507966758},389.5728498224907,391.98136412485161,394.04626831158049,0,0,0,0,0,0,0,0,0,0,0,0,0,0,0,0,0,0,0,0,0,0,0,0,0,0,0,0,{"$f":"SUMIF($H:$H,\"IDC\",BV:BV)","v":0},0,0,0,0,0,0,0,0,0,0,0,0,0,0,0,0,0,0,0,0,0,0,0,0,0,0,0,0,0,0,0,{"$f":"SUMIF($H:$H,\"IDC\",DB:DB)","v":0},0,0,0,0,0,0,0,0,0,0,0,0,0,0,0,0,0,0,0,0,0,0,0,0,0,0,0,0,0,0,0,{"$f":"SUMIF($H:$H,\"IDC\",EH:EH)","v":0},0,0,0,0,0,0,0,0,0,0,0,0,0,0,0,0,0,0]
[null,null,"Total Repayment",null,null,null,null,null,null,{"$f":"SUMIF($H:$H,\"REPAY\",J:J)","v":0},0,0,0,0,0,0,0,0,0,0,0,0,0,0,0,0,0,0,0,0,0,0,0,0,0,0,0,0,0,0,0,{"$f":"SUMIF($H:$H,\"REPAY\",AP:AP)","v":0},0,0,0,-2560.535301918339,992.97138702281472,1129.1987869796326,1101.5323409823413,1242.0143902655741,1215.3511109235133,1360.2261463162554,1363.8161504589129,1306.3142035067967,1280.4502323835363,1433.0547636526053,1408.5348772142802,1566.0872984521211,1543.0078859162677,1705.6779483352825,1715.7208452506443,1689.3959052296987,1668.6065448874569,1841.1045671063412,1822.2283542467508,2000.5512680596298,1983.7193669826702,2168.0784063734118,2187.6125171812432,2200.6277148746158,2188.22185960555,2385.2203960585725,2375.5186063487399,{"$f":"SUMIF($H:$H,\"REPAY\",BV:BV)","v":2579.471292031395},2572.6529427764535,2783.8267854230776,2817.0822412712723,2999.5299771335881,2999.0689755117337,3225.5463393320688,3228.5626586935487,3463.1293281673952,3469.8404872191268,3712.8093281648362,3763.4957225132066,3975.9811207808848,3990.7951793811721,4251.5761973671333,4270.8041216770089,4541.0048138355633,4564.9096355745805,4844.8968196370488,4917.1080875307207,5164.8200810987228,5198.9381897644625,5499.6785863662226,5539.3418613818349,5851.0619889798936,5896.5877159444308,-9.756804702192311E-7,-9.9616976009383503E-7,-1.0170893250558056E-6,-1.0384482008819773E-6,-1.0602556131004988E-6,-1.0825209809756093E-6,{"$f":"SUMIF($H:$H,\"REPAY\",DB:DB)","v":-1.1052539215760972E-6},-1.1284642539291953E-6,-1.1521620032617085E-6,-1.1763574053302042E-6,-1.2010609108421385E-6,-1.2262831899698234E-6,-1.2520351369591897E-6,-1.2783278748353327E-6,-1.3051727602068748E-6,-1.332581388171219E-6,0,0,0,0,0,0,0,0,0,0,0,0,0,0,0,0,0,0,0,0,0,0,{"$f":"SUMIF($H:$H,\"REPAY\",EH:EH)","v":0},0,0,0,0,0,0,0,0,0,0,0,0,0,0,0,0,0,0]
[null,null,"Closing Balance",null,null,null,null,null,null,{"$f":"SUMIF($H:$H,\"BAL\",J:J)","v":9181.2518172247637},11748.831289149757,14708.820232173712,18082.871517277508,21884.926821441295,26119.624846880091,30780.987739456054,35851.504552741288,41301.713630620019,47090.357843731806,53165.149448722208,59464.137895828819,65917.628092557585,72450.552875010428,78985.166193379016,85443.896697513104,91752.187888791712,97841.152249669947,103649.88263031721,109127.2929343149,114233.39871646586,118939.99264455521,123230.71540248104,127100.56515321953,130554.92438031164,133608.20903782485,136282.2599552293,138604.60015781547,140606.67515287266,142322.1782108327,143785.54175405958,145030.65190487535,{"$f":"SUMIF($H:$H,\"BAL\",AP:AP)","v":146089.81868343402},146993.01154681935,147767.35061684268,148436.82909671529,150997.36439863362,150004.39301161081,148875.19422463118,147773.66188364883,146531.64749338327,145316.29638245975,143956.07023614351,142592.2540856846,141285.9398821778,140005.48964979427,138572.43488614165,137163.90000892736,135597.81271047523,134054.80482455896,132349.12687622369,130633.40603097304,128944.01012574334,127275.40358085588,125434.29901374954,123612.07065950279,121611.51939144316,119627.80002446049,117459.72161808707,115272.10910090583,113071.48138603121,110883.25952642567,108498.03913036709,106122.52052401836,{"$f":"SUMIF($H:$H,\"BAL\",BV:BV)","v":103543.04923198697},100970.39628921052,98186.569503787439,95369.487262516166,92369.957285382581,89370.888309870847,86145.341970538779,82916.779311845225,79453.649983677824,75983.809496458693,72271.00016829386,68507.504445780651,64531.523324999769,60540.728145618596,56289.151948251463,52018.347826574456,47477.343012738893,42912.433377164314,38067.536557527266,33150.428469996543,27985.608388897821,22786.670199133358,17286.991612767135,11747.649751385299,5896.5877624054056,4.6460974772344343E-5,4.7436655242563574E-5,4.843282500265741E-5,4.9449914327713213E-5,5.0488362528595192E-5,5.1548618141695689E-5,5.2631139122671301E-5,{"$f":"SUMIF($H:$H,\"BAL\",DB:DB)","v":5.3736393044247399E-5},5.4864857298176597E-5,5.6017019301438305E-5,5.7193376706768507E-5,5.8394437617610644E-5,5.9620720807580468E-5,6.0872755944539654E-5,6.2151083819374993E-5,6.3456256579581864E-5,6.4788837967753079E-5,6.4788837967753079E-5,6.4788837967753079E-5,0,0,0,0,0,0,0,0,0,0,0,0,0,0,0,0,0,0,0,0,{"$f":"SUMIF($H:$H,\"BAL\",EH:EH)","v":0},0,0,0,0,0,0,0,0,0,0,0,0,0,0,0,0,0,0]
[]
["DSRA"]
[null,"Debt Service",null,null,null,null,null,null,null,{"$f":"J364+J366","v":0},{"$f":"K364+K366","v":0},0,0,0,0,0,0,0,0,0,0,0,0,0,0,0,0,0,0,0,0,0,0,0,{"$f":"AI364+AI366","v":0},0,0,0,0,0,0,0,0,0,0,0,3597.6759228992451,3716.7745664299191,3669.6294413572296,3791.1100577585166,3743.0220301843747,3866.9322589136864,3847.0583620323887,3944.2709040919617,3894.2401202038254,4023.1563221737993,3972.1249226079008,4103.6194486172772,4051.5674210600596,4185.691837589623,4164.1796924607825,4269.4056743414158,4215.2507448708875,4354.7937878282446,4299.5557597683037,4441.8896635848096,4385.5468749636721,4530.7274568565063,4507.4420191384625,4621.3420059936379,4562.7229687122053,4713.7688461135112,4653.9774280864485,4808.0442230357803,4747.0569766481794,4904.2051074964984,4879.0002008508081,5002.2892096464275,4938.8380785047675,5102.3349938393567,5037.6148400748625,5204.3816937161446,5138.3671368763607,5308.4693275904683,5281.1867260473773,5414.6387141422783,5345.9571692061672,5522.9314884251235,5452.8763125902897,5633.3901181936271,5561.9338388420974,5746.0579205574995,5716.5263552387933,5860.9790789686504,5786.6359659313166,5978.1986605480233,5902.368685249945,6097.7626337589845,{"$f":"CU364+CU366","v":6020.4160589549447},0,0,0,0,0,0,0,0,0,0,0,0,0,0,0,0,0,0,0,0,0,0,0,0,0,0,0,0,0,0,0,0,0,0,0,0,0,0,0,0,0,0,0,0,0,0,0,0,0,0,0,0,0,0,0,0,0]
[null,"Required DSRA",null,null,null,null,{"$f":"F55","v":1},null,null,{"$f":"K370*$G$371","v":0},0,0,0,0,0,0,0,0,0,0,0,0,0,0,0,0,0,0,0,0,0,0,0,0,0,0,0,0,0,0,0,{"$f":"AQ370*$G$371","v":0},0,0,0,3597.6759228992451,3716.7745664299191,3669.6294413572296,3791.1100577585166,3743.0220301843747,3866.9322589136864,3847.0583620323887,3944.2709040919617,3894.2401202038254,4023.1563221737993,3972.1249226079008,4103.6194486172772,4051.5674210600596,4185.691837589623,4164.1796924607825,4269.4056743414158,4215.2507448708875,4354.7937878282446,4299.5557597683037,4441.8896635848096,4385.5468749636721,4530.7274568565063,4507.4420191384625,4621.3420059936379,4562.7229687122053,4713.7688461135112,4653.9774280864485,4808.0442230357803,{"$f":"BW370*$G$371","v":4747.0569766481794},4904.2051074964984,4879.0002008508081,5002.2892096464275,4938.8380785047675,5102.3349938393567,5037.6148400748625,5204.3816937161446,5138.3671368763607,5308.4693275904683,5281.1867260473773,5414.6387141422783,5345.9571692061672,5522.9314884251235,5452.8763125902897,5633.3901181936271,5561.9338388420974,5746.0579205574995,5716.5263552387933,5860.9790789686504,5786.6359659313166,5978.1986605480233,5902.368685249945,6097.7626337589845,6020.4160589549447,0,0,0,0,0,0,0,{"$f":"DC370*$G$371","v":0},0,0,0,0,0,0,0,0,0,0,0,0,0,0,0,0,0,0,0,0,0,0,0,0,0,0,0,0,0,0,0,{"$f":"EI370*$G$371","v":0},0,0,0,0,0,0,0,0,0,0,0,0,0,0,0,0,0,0]
[null,"Less: Opening DSRA Balance",null,null,null,null,null,null,null,{"$f":"J375","v":0},0,0,0,0,0,0,0,0,0,0,0,0,0,0,0,0,0,0,0,0,0,0,0,0,0,0,0,0,0,0,0,{"$f":"AP375","v":0},0,0,0,0,3597.6759228992451,3716.7745664299191,3669.6294413572296,3791.1100577585166,3743.0220301843747,3866.9322589136864,3847.0583620323887,3944.2709040919617,3894.2401202038254,4023.1563221737993,3972.1249226079008,4103.6194486172772,4051.5674210600596,4185.691837589623,4164.1796924607825,4269.4056743414158,4215.2507448708875,4354.7937878282446,4299.5557597683037,4441.8896635848096,4385.5468749636721,4530.7274568565063,4507.4420191384625,4621.3420059936379,4562.7229687122053,4713.7688461135112,4653.9774280864485,{"$f":"BV375","v":4808.0442230357803},4747.0569766481794,4904.2051074964984,4879.0002008508081,5002.2892096464275,4938.8380785047675,5102.3349938393567,5037.6148400748625,5204.3816937161446,5138.3671368763607,5308.4693275904683,5281.1867260473773,5414.6387141422783,5345.9571692061672,5522.9314884251235,5452.8763125902897,5633.3901181936271,5561.9338388420974,5746.0579205574995,5716.5263552387933,5860.9790789686504,5786.6359659313166,5978.1986605480233,5902.368685249945,6097.7626337589845,6020.4160589549447,0,0,0,0,0,0,{"$f":"DB375","v":0},0,0,0,0,0,0,0,0,0,0,0,0,0,0,0,0,0,0,0,0,0,0,0,0,0,0,0,0,0,0,0,{"$f":"EH375","v":0},0,0,0,0,0,0,0,0,0,0,0,0,0,0,0,0,0,0]
[null,"Net Funding Required",null,null,null,null,null,null,null,{"$f":"J371-J372","v":0},{"$f":"K371-K372","v":0},0,0,0,0,0,0,0,0,0,0,0,0,0,0,0,0,0,0,0,0,0,0,0,{"$f":"AI371-AI372","v":0},0,0,0,0,0,0,0,0,0,0,3597.6759228992451,119.09864353067405,-47.145125072689552,121.48061640128708,-48.088027574141961,123.91022872931171,-19.873896881297696,97.212542059573025,-50.030783888136284,128.91620196997383,-51.031399565898482,131.49452600937639,-52.052027557217571,134.1244165295634,-21.51214512884053,105.2259818806333,-54.154929470528259,139.5430429573571,-55.238028059940916,142.33390381650588,-56.342788621137515,145.1805818928342,-23.285437718043795,113.89998685517548,-58.619037281432611,151.04587740130592,-59.791418027062718,154.06679494933178,-60.987246387600862,157.14813084831894,-25.204906645690244,123.28900879561934,-63.451131141659971,163.49691533458918,-64.720153764494171,166.76685364128207,-66.014556839783836,170.10219071410756,-27.282601543091005,133.45198809490103,-68.681544936111095,176.97431921895623,-70.05517583483379,180.51380560333746,-71.456279351529702,184.1240817154021,-29.531565318706271,144.4527237298571,-74.343113037333751,191.56269461670672,-75.829975298078352,195.39394850903955,-77.346574804039847,{"$f":"CU371-CU372","v":-6020.4160589549447},0,0,0,0,0,0,0,0,0,0,0,0,0,0,0,0,0,0,0,0,0,0,0,0,0,0,0,0,0,0,0,0,0,0,0,0,0,0,0,0,0,0,0,0,0,0,0,0,0,0,0,0,0,0,0,0,0]
[]
[null,"Opening Balance",null,null,null,null,null,null,null,{"$f":"I378","v":0},0,0,0,0,0,0,0,0,0,0,0,0,0,0,0,0,0,0,0,0,0,0,0,0,0,0,0,0,0,0,0,{"$f":"AO378","v":0},0,0,0,0,3597.6759228992451,3716.7745664299191,3669.6294413572296,3791.1100577585166,3743.0220301843747,3866.9322589136864,3847.0583620323887,3944.2709040919617,3894.2401202038254,4023.1563221737993,3972.1249226079008,4103.6194486172772,4051.5674210600596,4185.691837589623,4164.1796924607825,4269.4056743414158,4215.2507448708875,4354.7937878282446,4299.5557597683037,4441.8896635848096,4385.5468749636721,4530.7274568565063,4507.4420191384625,4621.3420059936379,4562.7229687122053,4713.7688461135112,4653.9774280864485,{"$f":"BU378","v":4808.0442230357803},4747.0569766481794,4904.2051074964984,4879.0002008508081,5002.2892096464275,4938.8380785047675,5102.3349938393567,5037.6148400748625,5204.3816937161446,5138.3671368763607,5308.4693275904683,5281.1867260473773,5414.6387141422783,5345.9571692061672,5522.9314884251235,5452.8763125902897,5633.3901181936271,5561.9338388420974,5746.0579205574995,5716.5263552387933,5860.9790789686504,5786.6359659313166,5978.1986605480233,5902.368685249945,6097.7626337589845,6020.4160589549447,0,0,0,0,0,0,{"$f":"DA378","v":0},0,0,0,0,0,0,0,0,0,0,0,0,0,0,0,0,0,0,0,0,0,0,0,0,0,0,0,0,0,0,0,{"$f":"EG378","v":0},0,0,0,0,0,0,0,0,0,0,0,0,0,0,0,0,0,0]
[null,"Add: DSRA Funded During Construction",null,null,null,null,null,null,null,{"$f":"J373*J7","v":0},0,0,0,0,0,0,0,0,0,0,0,0,0,0,0,0,0,0,0,0,0,0,0,0,0,0,0,0,0,0,0,{"$f":"AP373*AP7","v":0},0,0,0,0,0,0,0,0,0,0,0,0,0,0,0,0,0,0,0,0,0,0,0,0,0,0,0,0,0,0,0,{"$f":"BV373*BV7","v":0},0,0,0,0,0,0,0,0,0,0,0,0,0,0,0,0,0,0,0,0,0,0,0,0,0,0,0,0,0,0,0,{"$f":"DB373*DB7","v":0},0,0,0,0,0,0,0,0,0,0,0,0,0,0,0,0,0,0,0,0,0,0,0,0,0,0,0,0,0,0,0,{"$f":"EH373*EH7","v":0},0,0,0,0,0,0,0,0,0,0,0,0,0,0,0,0,0,0]
[null,"Less: DSRA Changes During Operation",null,null,null,null,null,null,null,{"$f":"J373*J8","v":0},0,0,0,0,0,0,0,0,0,0,0,0,0,0,0,0,0,0,0,0,0,0,0,0,0,0,0,0,0,0,0,{"$f":"AP373*AP8","v":0},0,0,0,3597.6759228992451,119.09864353067405,-47.145125072689552,121.48061640128708,-48.088027574141961,123.91022872931171,-19.873896881297696,97.212542059573025,-50.030783888136284,128.91620196997383,-51.031399565898482,131.49452600937639,-52.052027557217571,134.1244165295634,-21.51214512884053,105.2259818806333,-54.154929470528259,139.5430429573571,-55.238028059940916,142.33390381650588,-56.342788621137515,145.1805818928342,-23.285437718043795,113.89998685517548,-58.619037281432611,151.04587740130592,-59.791418027062718,154.06679494933178,{"$f":"BV373*BV8","v":-60.987246387600862},157.14813084831894,-25.204906645690244,123.28900879561934,-63.451131141659971,163.49691533458918,-64.720153764494171,166.76685364128207,-66.014556839783836,170.10219071410756,-27.282601543091005,133.45198809490103,-68.681544936111095,176.97431921895623,-70.05517583483379,180.51380560333746,-71.456279351529702,184.1240817154021,-29.531565318706271,144.4527237298571,-74.343113037333751,191.56269461670672,-75.829975298078352,195.39394850903955,-77.346574804039847,-6020.4160589549447,0,0,0,0,0,0,{"$f":"DB373*DB8","v":0},0,0,0,0,0,0,0,0,0,0,0,0,0,0,0,0,0,0,0,0,0,0,0,0,0,0,0,0,0,0,0,{"$f":"EH373*EH8","v":0},0,0,0,0,0,0,0,0,0,0,0,0,0,0,0,0,0,0]
[null,"Closing Balance",null,null,null,null,null,null,null,{"$f":"J375+J376+J377","v":0},{"$f":"K375+K376+K377","v":0},0,0,0,0,0,0,0,0,0,0,0,0,0,0,0,0,0,0,0,0,0,0,0,{"$f":"AI375+AI376+AI377","v":0},0,0,0,0,0,0,0,0,0,0,3597.6759228992451,3716.7745664299191,3669.6294413572296,3791.1100577585166,3743.0220301843747,3866.9322589136864,3847.0583620323887,3944.2709040919617,3894.2401202038254,4023.1563221737993,3972.1249226079008,4103.6194486172772,4051.5674210600596,4185.691837589623,4164.1796924607825,4269.4056743414158,4215.2507448708875,4354.7937878282446,4299.5557597683037,4441.8896635848096,4385.5468749636721,4530.7274568565063,4507.4420191384625,4621.3420059936379,4562.7229687122053,4713.7688461135112,4653.9774280864485,4808.0442230357803,4747.0569766481794,4904.2051074964984,4879.0002008508081,5002.2892096464275,4938.8380785047675,5102.3349938393567,5037.6148400748625,5204.3816937161446,5138.3671368763607,5308.4693275904683,5281.1867260473773,5414.6387141422783,5345.9571692061672,5522.9314884251235,5452.8763125902897,5633.3901181936271,5561.9338388420974,5746.0579205574995,5716.5263552387933,5860.9790789686504,5786.6359659313166,5978.1986605480233,5902.368685249945,6097.7626337589845,6020.4160589549447,{"$f":"CU375+CU376+CU377","v":0},0,0,0,0,0,0,0,0,0,0,0,0,0,0,0,0,0,0,0,0,0,0,0,0,0,0,0,0,0,0,0,0,0,0,0,0,0,0,0,0,0,0,0,0,0,0,0,0,0,0,0,0,0,0,0,0,0]
[]
[null,"UDF Balance",null,null,null,null,null,null,null,{"$f":"'Parallel Model P50'!J309","v":0},{"$f":"'Parallel Model P50'!K309","v":0},{"$f":"'Parallel Model P50'!L309","v":0},{"$f":"'Parallel Model P50'!M309","v":0},{"$f":"'Parallel Model P50'!N309","v":0},{"$f":"'Parallel Model P50'!O309","v":0},{"$f":"'Parallel Model P50'!P309","v":0},{"$f":"'Parallel Model P50'!Q309","v":0},{"$f":"'Parallel Model P50'!R309","v":0},{"$f":"'Parallel Model P50'!S309","v":0},{"$f":"'Parallel Model P50'!T309","v":0},{"$f":"'Parallel Model P50'!U309","v":0},{"$f":"'Parallel Model P50'!V309","v":0},{"$f":"'Parallel Model P50'!W309","v":0},{"$f":"'Parallel Model P50'!X309","v":0},{"$f":"'Parallel Model P50'!Y309","v":0},{"$f":"'Parallel Model P50'!Z309","v":0},{"$f":"'Parallel Model P50'!AA309","v":0},{"$f":"'Parallel Model P50'!AB309","v":0},{"$f":"'Parallel Model P50'!AC309","v":0},{"$f":"'Parallel Model P50'!AD309","v":0},{"$f":"'Parallel Model P50'!AE309","v":0},{"$f":"'Parallel Model P50'!AF309","v":0},{"$f":"'Parallel Model P50'!AG309","v":0},{"$f":"'Parallel Model P50'!AH309","v":0},{"$f":"'Parallel Model P50'!AI309","v":0},{"$f":"'Parallel Model P50'!AJ309","v":0},{"$f":"'Parallel Model P50'!AK309","v":0},{"$f":"'Parallel Model P50'!AL309","v":0},{"$f":"'Parallel Model P50'!AM309","v":0},{"$f":"'Parallel Model P50'!AN309","v":0},{"$f":"'Parallel Model P50'!AO309","v":0},{"$f":"'Parallel Model P50'!AP309","v":0},{"$f":"'Parallel Model P50'!AQ309","v":0},{"$f":"'Parallel Model P50'!AR309","v":0},{"$f":"'Parallel Model P50'!AS309","v":0},{"$f":"'Parallel Model P50'!AT309","v":4122.3585412940374},{"$f":"'Parallel Model P50'!AU309","v":4249.4781295647317},{"$f":"'Parallel Model P50'!AV309","v":4204.8057119878231},{"$f":"'Parallel Model P50'!AW309","v":4334.4676920216516},{"$f":"'Parallel Model P50'!AX309","v":4288.9018260908861},{"$f":"'Parallel Model P50'!AY309","v":4421.1570457230337},{"$f":"'Parallel Model P50'!AZ309","v":4404.8364888419837},{"$f":"'Parallel Model P50'!BA309","v":4509.5801867434166},{"$f":"'Parallel Model P50'!BB309","v":4462.173459825839},{"$f":"'Parallel Model P50'!BC309","v":4599.7717903278863},{"$f":"'Parallel Model P50'!BD309","v":4551.4169288691755},{"$f":"'Parallel Model P50'!BE309","v":4691.7672259784322},{"$f":"'Parallel Model P50'!BF309","v":4642.4452672876614},{"$f":"'Parallel Model P50'!BG309","v":4785.6025703361629},{"$f":"'Parallel Model P50'!BH309","v":4767.9366746893629},{"$f":"'Parallel Model P50'!BI309","v":4881.3146218010543},{"$f":"'Parallel Model P50'!BJ309","v":4830.0000559738564},{"$f":"'Parallel Model P50'!BK309","v":4978.9409140601201},{"$f":"'Parallel Model P50'!BL309","v":4926.600056912881},{"$f":"'Parallel Model P50'!BM309","v":5078.519732157305},{"$f":"'Parallel Model P50'!BN309","v":5025.1320578634914},{"$f":"'Parallel Model P50'!BO309","v":5136.682173303323},{"$f":"'Parallel Model P50'!BP309","v":4961.232471573383},{"$f":"'Parallel Model P50'!BQ309","v":5073.9520618397237},{"$f":"'Parallel Model P50'!BR309","v":5021.7940730825794},{"$f":"'Parallel Model P50'!BS309","v":5140.8753329186029},{"$f":"'Parallel Model P50'!BT309","v":5087.2733841783684},{"$f":"'Parallel Model P50'!BU309","v":5208.3283614794509},{"$f":"'Parallel Model P50'!BV309","v":5153.239232468949},{"$f":"'Parallel Model P50'!BW309","v":5276.2928061815865},{"$f":"'Parallel Model P50'!BX309","v":5249.8861552850867},{"$f":"'Parallel Model P50'!BY309","v":5344.6502235723929},{"$f":"'Parallel Model P50'!BZ309","v":5286.4497667851183},{"$f":"'Parallel Model P50'!CA309","v":5413.5732710194234},{"$f":"'Parallel Model P50'!CB309","v":5353.7474599744419},{"$f":"'Parallel Model P50'!CC309","v":5482.943907984607},{"$f":"'Parallel Model P50'!CD309","v":5421.4437281433193},{"$f":"'Parallel Model P50'!CE309","v":5552.7377786192392},{"$f":"'Parallel Model P50'!CF309","v":5522.2175271172455},{"$f":"'Parallel Model P50'!CG309","v":5622.8220122215271},{"$f":"'Parallel Model P50'!CH309","v":5557.8178202760701},{"$f":"'Parallel Model P50'!CI309","v":5693.3786681067413},{"$f":"'Parallel Model P50'!CJ309","v":5626.5433582620235},{"$f":"'Parallel Model P50'!CK309","v":5764.2749719849126},{"$f":"'Parallel Model P50'!CL309","v":5695.5529208799735},{"$f":"'Parallel Model P50'!CM309","v":5835.4793778588182},{"$f":"'Parallel Model P50'!CN309","v":5800.2139865253648},{"$f":"'Parallel Model P50'!CO309","v":5906.8426943307204},{"$f":"'Parallel Model P50'!CP309","v":5834.1710103398509},{"$f":"'Parallel Model P50'!CQ309","v":5978.5564283127351},{"$f":"'Parallel Model P50'!CR309","v":5903.8200627642791},{"$f":"'Parallel Model P50'!CS309","v":6050.471101756425},{"$f":"'Parallel Model P50'!CT309","v":5973.6068668474691},{"$f":"'Parallel Model P50'!CU309","v":2.1009911288274452E-6},{"$f":"'Parallel Model P50'!CV309","v":2.1451119425328213E-6},{"$f":"'Parallel Model P50'!CW309","v":2.1901592933260105E-6},{"$f":"'Parallel Model P50'!CX309","v":2.236152638485857E-6},{"$f":"'Parallel Model P50'!CY309","v":2.2831118438940599E-6},{"$f":"'Parallel Model P50'!CZ309","v":2.331057192615835E-6},{"$f":"'Parallel Model P50'!DA309","v":2.3800093936607676E-6},{"$f":"'Parallel Model P50'!DB309","v":2.4299895909276435E-6},{"$f":"'Parallel Model P50'!DC309","v":2.4810193723371242E-6},{"$f":"'Parallel Model P50'!DD309","v":2.5331207791562039E-6},{"$f":"'Parallel Model P50'!DE309","v":2.5863163155184842E-6},{"$f":"'Parallel Model P50'!DF309","v":2.6406289581443725E-6},{"$f":"'Parallel Model P50'!DG309","v":2.6960821662654044E-6},{"$f":"'Parallel Model P50'!DH309","v":2.7526998917569782E-6},{"$f":"'Parallel Model P50'!DI309","v":2.8105065894838745E-6},{"$f":"'Parallel Model P50'!DJ309","v":2.8695272278630364E-6},{"$f":"'Parallel Model P50'!DK309","v":0},{"$f":"'Parallel Model P50'!DL309","v":0},{"$f":"'Parallel Model P50'!DM309","v":0},{"$f":"'Parallel Model P50'!DN309","v":0},{"$f":"'Parallel Model P50'!DO309","v":0},{"$f":"'Parallel Model P50'!DP309","v":0},{"$f":"'Parallel Model P50'!DQ309","v":0},{"$f":"'Parallel Model P50'!DR309","v":0},{"$f":"'Parallel Model P50'!DS309","v":0},{"$f":"'Parallel Model P50'!DT309","v":0},{"$f":"'Parallel Model P50'!DU309","v":0},{"$f":"'Parallel Model P50'!DV309","v":0},{"$f":"'Parallel Model P50'!DW309","v":0},{"$f":"'Parallel Model P50'!DX309","v":0},{"$f":"'Parallel Model P50'!DY309","v":0},{"$f":"'Parallel Model P50'!DZ309","v":0},{"$f":"'Parallel Model P50'!EA309","v":0},{"$f":"'Parallel Model P50'!EB309","v":0},{"$f":"'Parallel Model P50'!EC309","v":0},{"$f":"'Parallel Model P50'!ED309","v":0},{"$f":"'Parallel Model P50'!EE309","v":0},{"$f":"'Parallel Model P50'!EF309","v":0},{"$f":"'Parallel Model P50'!EG309","v":0},{"$f":"'Parallel Model P50'!EH309","v":0},{"$f":"'Parallel Model P50'!EI309","v":0},{"$f":"'Parallel Model P50'!EJ309","v":0},{"$f":"'Parallel Model P50'!EK309","v":0},{"$f":"'Parallel Model P50'!EL309","v":0},{"$f":"'Parallel Model P50'!EM309","v":0},{"$f":"'Parallel Model P50'!EN309","v":0},{"$f":"'Parallel Model P50'!EO309","v":0},{"$f":"'Parallel Model P50'!EP309","v":0},{"$f":"'Parallel Model P50'!EQ309","v":0},{"$f":"'Parallel Model P50'!ER309","v":0},{"$f":"'Parallel Model P50'!ES309","v":0},{"$f":"'Parallel Model P50'!ET309","v":0},{"$f":"'Parallel Model P50'!EU309","v":0},{"$f":"'Parallel Model P50'!EV309","v":0},{"$f":"'Parallel Model P50'!EW309","v":0},{"$f":"'Parallel Model P50'!EX309","v":0},{"$f":"'Parallel Model P50'!EY309","v":0},{"$f":"'Parallel Model P50'!EZ309","v":0}]
[]
["Profit and Loss"]
[]
[null,null,"Depreciation Rate",null,null,null,null,null,null,{"$f":"J126/J123","v":0},0,0,0,0,0,0,0,0,0,0,0,0,0,0,0,0,0,0,0,0,0,0,0,0,0,0,0,0,0,0,0,{"$f":"AP126/AP123","v":0},0,0,0,1.4285714285714287E-2,1.4285714285714287E-2,1.4285714285714287E-2,1.4285714285714287E-2,1.4285714285714287E-2,1.4285714285714287E-2,1.4285714285714287E-2,1.4285714285714287E-2,1.4285714285714287E-2,1.4285714285714287E-2,1.4285714285714287E-2,1.4285714285714287E-2,1.4285714285714287E-2,1.4285714285714287E-2,1.4285714285714287E-2,1.4285714285714287E-2,1.4285714285714287E-2,1.4285714285714287E-2,1.4285714285714287E-2,1.4285714285714287E-2,1.4285714285714287E-2,1.4285714285714287E-2,1.4285714285714287E-2,1.4285714285714287E-2,1.4285714285714287E-2,1.4285714285714287E-2,1.4285714285714287E-2,1.4285714285714287E-2,{"$f":"BV126/BV123","v":1.4285714285714287E-2},1.4285714285714287E-2,1.4285714285714287E-2,1.4285714285714287E-2,1.4285714285714287E-2,1.4285714285714287E-2,1.4285714285714287E-2,1.4285714285714287E-2,1.4285714285714287E-2,1.4285714285714287E-2,1.4285714285714287E-2,1.4285714285714287E-2,1.4285714285714287E-2,1.4285714285714287E-2,1.4285714285714287E-2,1.4285714285714287E-2,1.4285714285714287E-2,1.4285714285714287E-2,1.4285714285714287E-2,1.4285714285714287E-2,1.4285714285714287E-2,1.4285714285714287E-2,1.4285714285714287E-2,1.4285714285714287E-2,1.4285714285714287E-2,1.4285714285714287E-2,1.4285714285714287E-2,1.4285714285714287E-2,1.4285714285714287E-2,1.4285714285714287E-2,1.4285714285714287E-2,1.4285714285714287E-2,{"$f":"DB126/DB123","v":1.4285714285714287E-2},1.4285714285714287E-2,1.4285714285714287E-2,1.4285714285714287E-2,1.4285714285714287E-2,1.4285714285714287E-2,1.4285714285714287E-2,1.4285714285714287E-2,1.4285714285714287E-2,1.4285714285714287E-2,0,0,0,0,0,0,0,0,0,0,0,0,0,0,0,0,0,0,0,0,0,0,{"$f":"EH126/EH123","v":0},0,0,0,0,0,0,0,0,0,0,0,0,0,0,0,0,0,0]
[null,null,"Accumultated Development Fee",null,null,null,null,null,null,{"$f":"I385+J247","v":45095.192494425573},{"$f":"J385+K247","v":45095.192494425573},45095.192494425573,45095.192494425573,45095.192494425573,45095.192494425573,45095.192494425573,45095.192494425573,45095.192494425573,45095.192494425573,45095.192494425573,45095.192494425573,45095.192494425573,45095.192494425573,45095.192494425573,45095.192494425573,45095.192494425573,45095.192494425573,45095.192494425573,45095.192494425573,45095.192494425573,45095.192494425573,45095.192494425573,45095.192494425573,45095.192494425573,45095.192494425573,45095.192494425573,45095.192494425573,45095.192494425573,45095.192494425573,45095.192494425573,45095.192494425573,45095.192494425573,45095.192494425573,45095.192494425573,45095.192494425573,45095.192494425573,45095.192494425573,45095.192494425573,45095.192494425573,45095.192494425573,45095.192494425573,45095.192494425573,45095.192494425573,45095.192494425573,45095.192494425573,45095.192494425573,45095.192494425573,45095.192494425573,45095.192494425573,45095.192494425573,45095.192494425573,45095.192494425573,45095.192494425573,45095.192494425573,45095.192494425573,45095.192494425573,45095.192494425573,45095.192494425573,45095.192494425573,45095.192494425573,45095.192494425573,45095.192494425573,45095.192494425573,45095.192494425573,{"$f":"BV385+BW247","v":45095.192494425573},45095.192494425573,45095.192494425573,45095.192494425573,45095.192494425573,45095.192494425573,45095.192494425573,45095.192494425573,45095.192494425573,45095.192494425573,45095.192494425573,45095.192494425573,45095.192494425573,45095.192494425573,45095.192494425573,45095.192494425573,45095.192494425573,45095.192494425573,45095.192494425573,45095.192494425573,45095.192494425573,45095.192494425573,45095.192494425573,45095.192494425573,45095.192494425573,45095.192494425573,45095.192494425573,45095.192494425573,45095.192494425573,45095.192494425573,45095.192494425573,45095.192494425573,45095.192494425573,45095.192494425573,45095.192494425573,45095.192494425573,45095.192494425573,45095.192494425573,45095.192494425573,45095.192494425573,45095.192494425573,45095.192494425573,45095.192494425573,45095.192494425573,45095.192494425573,45095.192494425573,45095.192494425573,45095.192494425573,45095.192494425573,45095.192494425573,45095.192494425573,45095.192494425573,45095.192494425573,45095.192494425573,45095.192494425573,45095.192494425573,45095.192494425573,45095.192494425573,45095.192494425573,45095.192494425573,45095.192494425573,45095.192494425573,45095.192494425573,45095.192494425573,{"$f":"EH385+EI247","v":45095.192494425573},45095.192494425573,45095.192494425573,45095.192494425573,45095.192494425573,45095.192494425573,45095.192494425573,45095.192494425573,45095.192494425573,45095.192494425573,45095.192494425573,45095.192494425573,45095.192494425573,45095.192494425573,45095.192494425573,45095.192494425573,45095.192494425573,45095.192494425573]
[null,null,"Development Fee Depreciation",null,null,null,null,null,null,{"$f":"J385*J384","v":0},{"$f":"K385*K384","v":0},0,0,0,0,0,0,0,0,0,0,0,0,0,0,0,0,0,0,0,0,0,0,0,0,0,0,0,0,0,0,0,0,0,0,644.2170356346511,644.2170356346511,644.2170356346511,644.2170356346511,644.2170356346511,644.2170356346511,644.2170356346511,644.2170356346511,644.2170356346511,644.2170356346511,644.2170356346511,644.2170356346511,644.2170356346511,644.2170356346511,644.2170356346511,644.2170356346511,644.2170356346511,644.2170356346511,644.2170356346511,644.2170356346511,644.2170356346511,644.2170356346511,644.2170356346511,644.2170356346511,644.2170356346511,644.2170356346511,644.2170356346511,644.2170356346511,644.2170356346511,{"$f":"BW385*BW384","v":644.2170356346511},644.2170356346511,644.2170356346511,644.2170356346511,644.2170356346511,644.2170356346511,644.2170356346511,644.2170356346511,644.2170356346511,644.2170356346511,644.2170356346511,644.2170356346511,644.2170356346511,644.2170356346511,644.2170356346511,644.2170356346511,644.2170356346511,644.2170356346511,644.2170356346511,644.2170356346511,644.2170356346511,644.2170356346511,644.2170356346511,644.2170356346511,644.2170356346511,644.2170356346511,644.2170356346511,644.2170356346511,644.2170356346511,644.2170356346511,644.2170356346511,644.2170356346511,644.2170356346511,644.2170356346511,644.2170356346511,644.2170356346511,644.2170356346511,644.2170356346511,644.2170356346511,644.2170356346511,644.2170356346511,0,0,0,0,0,0,0,0,0,0,0,0,0,0,0,0,0,0,0,0,0,0,0,{"$f":"EI385*EI384","v":0},0,0,0,0,0,0,0,0,0,0,0,0,0,0,0,0,0]
[]
[null,null,"IDC and Fees",null,null,null,null,null,null,{"$f":"J365+J300+J303","v":2350.249793777331},140.52965256547338,145.23688159733584,150.66352799287978,156.8492886822367,163.81972340653698,171.58333645317481,180.12916842289741,189.42511591392031,199.41716589003136,210.02968028073627,221.16679822321868,232.71494370958081,244.54634240358354,256.52337117141377,268.50349558842282,280.34450151266861,291.9097020300128,303.07280335828949,313.72214238947618,323.76406128013855,333.12525521408202,341.75401074891255,349.6203358051099,356.71506034813041,363.04805226446598,368.64574080324019,373.54816748514833,377.80579118988965,381.47626201416114,384.62135095375453,387.30418411633718,{"$f":"AP365+AP300+AP303","v":389.58688605949942},391.52869182019032,393.18454540306345,394.60416703143954,0,0,0,0,0,0,0,0,0,0,0,0,0,0,0,0,0,0,0,0,0,0,0,0,0,0,0,0,{"$f":"BV365+BV300+BV303","v":0},0,0,0,0,0,0,0,0,0,0,0,0,0,0,0,0,0,0,0,0,0,0,0,0,0,0,0,0,0,0,0,{"$f":"DB365+DB300+DB303","v":0},0,0,0,0,0,0,0,0,0,0,0,0,0,0,0,0,0,0,0,0,0,0,0,0,0,0,0,0,0,0,0,{"$f":"EH365+EH300+EH303","v":0},0,0,0,0,0,0,0,0,0,0,0,0,0,0,0,0,0,0]
[null,null,"IDC and Fee Balance",null,null,null,null,null,null,{"$f":"I389+J388","v":2350.249793777331},{"$f":"J389+K388","v":2490.7794463428045},2636.0163279401404,2786.67985593302,2943.5291446152569,3107.3488680217938,3278.9322044749688,3459.061372897866,3648.4864888117863,3847.9036547018177,4057.9333349825538,4279.1001332057722,4511.8150769153526,4756.361419318936,5012.8847904903496,5281.3882860787726,5561.7327875914416,5853.6424896214539,6156.715292979743,6470.4374353692192,6794.201496649358,7127.3267518634402,7469.0807626123524,7818.7010984174622,8175.4161587655926,8538.4642110300592,8907.1099518332994,9280.6581193184484,9658.4639105083388,10039.9401725225,10424.561523476254,10811.865707592591,11201.452593652091,11592.981285472282,11986.165830875345,12380.769997906784,12380.769997906784,12380.769997906784,12380.769997906784,12380.769997906784,12380.769997906784,12380.769997906784,12380.769997906784,12380.769997906784,12380.769997906784,12380.769997906784,12380.769997906784,12380.769997906784,12380.769997906784,12380.769997906784,12380.769997906784,12380.769997906784,12380.769997906784,12380.769997906784,12380.769997906784,12380.769997906784,12380.769997906784,12380.769997906784,12380.769997906784,12380.769997906784,12380.769997906784,12380.769997906784,12380.769997906784,12380.769997906784,12380.769997906784,{"$f":"BV389+BW388","v":12380.769997906784},12380.769997906784,12380.769997906784,12380.769997906784,12380.769997906784,12380.769997906784,12380.769997906784,12380.769997906784,12380.769997906784,12380.769997906784,12380.769997906784,12380.769997906784,12380.769997906784,12380.769997906784,12380.769997906784,12380.769997906784,12380.769997906784,12380.769997906784,12380.769997906784,12380.769997906784,12380.769997906784,12380.769997906784,12380.769997906784,12380.769997906784,12380.769997906784,12380.769997906784,12380.769997906784,12380.769997906784,12380.769997906784,12380.769997906784,12380.769997906784,12380.769997906784,12380.769997906784,12380.769997906784,12380.769997906784,12380.769997906784,12380.769997906784,12380.769997906784,12380.769997906784,12380.769997906784,12380.769997906784,12380.769997906784,12380.769997906784,12380.769997906784,12380.769997906784,12380.769997906784,12380.769997906784,12380.769997906784,12380.769997906784,12380.769997906784,12380.769997906784,12380.769997906784,12380.769997906784,12380.769997906784,12380.769997906784,12380.769997906784,12380.769997906784,12380.769997906784,12380.769997906784,12380.769997906784,12380.769997906784,12380.769997906784,12380.769997906784,12380.769997906784,{"$f":"EH389+EI388","v":12380.769997906784},12380.769997906784,12380.769997906784,12380.769997906784,12380.769997906784,12380.769997906784,12380.769997906784,12380.769997906784,12380.769997906784,12380.769997906784,12380.769997906784,12380.769997906784,12380.769997906784,12380.769997906784,12380.769997906784,12380.769997906784,12380.769997906784,12380.769997906784]
[]
[null,null,"Depreciation on IDC and Fees",null,null,null,null,null,null,{"$f":"J389*J384+J386","v":0},{"$f":"K389*K384+K386","v":0},0,0,0,0,0,0,0,0,0,0,0,0,0,0,0,0,0,0,0,0,0,0,0,0,0,0,0,0,0,0,0,0,0,0,821.08517846189091,821.08517846189091,821.08517846189091,821.08517846189091,821.08517846189091,821.08517846189091,821.08517846189091,821.08517846189091,821.08517846189091,821.08517846189091,821.08517846189091,821.08517846189091,821.08517846189091,821.08517846189091,821.08517846189091,821.08517846189091,821.08517846189091,821.08517846189091,821.08517846189091,821.08517846189091,821.08517846189091,821.08517846189091,821.08517846189091,821.08517846189091,821.08517846189091,821.08517846189091,821.08517846189091,821.08517846189091,821.08517846189091,{"$f":"BW389*BW384+BW386","v":821.08517846189091},821.08517846189091,821.08517846189091,821.08517846189091,821.08517846189091,821.08517846189091,821.08517846189091,821.08517846189091,821.08517846189091,821.08517846189091,821.08517846189091,821.08517846189091,821.08517846189091,821.08517846189091,821.08517846189091,821.08517846189091,821.08517846189091,821.08517846189091,821.08517846189091,821.08517846189091,821.08517846189091,821.08517846189091,821.08517846189091,821.08517846189091,821.08517846189091,821.08517846189091,821.08517846189091,821.08517846189091,821.08517846189091,821.08517846189091,821.08517846189091,821.08517846189091,821.08517846189091,821.08517846189091,821.08517846189091,821.08517846189091,821.08517846189091,821.08517846189091,821.08517846189091,821.08517846189091,821.08517846189091,0,0,0,0,0,0,0,0,0,0,0,0,0,0,0,0,0,0,0,0,0,0,0,{"$f":"EI389*EI384+EI386","v":0},0,0,0,0,0,0,0,0,0,0,0,0,0,0,0,0,0]
[null,null,"Accumulated IDC Depreciation",null,null,null,null,null,null,{"$f":"I392+J391","v":0},{"$f":"J392+K391","v":0},0,0,0,0,0,0,0,0,0,0,0,0,0,0,0,0,0,0,0,0,0,0,0,{"$f":"AH392+AI391","v":0},{"$f":"AI392+AJ391","v":0},{"$f":"AJ392+AK391","v":0},{"$f":"AK392+AL391","v":0},{"$f":"AL392+AM391","v":0},{"$f":"AM392+AN391","v":0},{"$f":"AN392+AO391","v":0},{"$f":"AO392+AP391","v":0},{"$f":"AP392+AQ391","v":0},{"$f":"AQ392+AR391","v":0},{"$f":"AR392+AS391","v":0},{"$f":"AS392+AT391","v":821.08517846189091},{"$f":"AT392+AU391","v":1642.1703569237818},{"$f":"AU392+AV391","v":2463.2555353856728},{"$f":"AV392+AW391","v":3284.3407138475636},{"$f":"AW392+AX391","v":4105.4258923094549},{"$f":"AX392+AY391","v":4926.5110707713457},{"$f":"AY392+AZ391","v":5747.5962492332364},{"$f":"AZ392+BA391","v":6568.6814276951272},{"$f":"BA392+BB391","v":7389.766606157018},{"$f":"BB392+BC391","v":8210.8517846189097},{"$f":"BC392+BD391","v":9031.9369630808014},{"$f":"BD392+BE391","v":9853.0221415426931},{"$f":"BE392+BF391","v":10674.107320004585},{"$f":"BF392+BG391","v":11495.192498466477},{"$f":"BG392+BH391","v":12316.277676928368},{"$f":"BH392+BI391","v":13137.36285539026},{"$f":"BI392+BJ391","v":13958.448033852152},{"$f":"BJ392+BK391","v":14779.533212314043},{"$f":"BK392+BL391","v":15600.618390775935},{"$f":"BL392+BM391","v":16421.703569237827},{"$f":"BM392+BN391","v":17242.788747699717},{"$f":"BN392+BO391","v":18063.873926161607},{"$f":"BO392+BP391","v":18884.959104623496},{"$f":"BP392+BQ391","v":19706.044283085386},{"$f":"BQ392+BR391","v":20527.129461547276},{"$f":"BR392+BS391","v":21348.214640009166},{"$f":"BS392+BT391","v":22169.299818471056},{"$f":"BT392+BU391","v":22990.384996932946},{"$f":"BU392+BV391","v":23811.470175394836},{"$f":"BV392+BW391","v":24632.555353856726},{"$f":"BW392+BX391","v":25453.640532318615},{"$f":"BX392+BY391","v":26274.725710780505},{"$f":"BY392+BZ391","v":27095.810889242395},{"$f":"BZ392+CA391","v":27916.896067704285},{"$f":"CA392+CB391","v":28737.981246166175},{"$f":"CB392+CC391","v":29559.066424628065},{"$f":"CC392+CD391","v":30380.151603089955},{"$f":"CD392+CE391","v":31201.236781551845},{"$f":"CE392+CF391","v":32022.321960013734},{"$f":"CF392+CG391","v":32843.407138475624},{"$f":"CG392+CH391","v":33664.492316937518},{"$f":"CH392+CI391","v":34485.577495399411},{"$f":"CI392+CJ391","v":35306.662673861305},{"$f":"CJ392+CK391","v":36127.747852323198},{"$f":"CK392+CL391","v":36948.833030785092},{"$f":"CL392+CM391","v":37769.918209246985},{"$f":"CM392+CN391","v":38591.003387708879},{"$f":"CN392+CO391","v":39412.088566170773},{"$f":"CO392+CP391","v":40233.173744632666},{"$f":"CP392+CQ391","v":41054.25892309456},{"$f":"CQ392+CR391","v":41875.344101556453},{"$f":"CR392+CS391","v":42696.429280018347},{"$f":"CS392+CT391","v":43517.51445848024},{"$f":"CT392+CU391","v":44338.599636942134},{"$f":"CU392+CV391","v":45159.684815404027},{"$f":"CV392+CW391","v":45980.769993865921},{"$f":"CW392+CX391","v":46801.855172327814},{"$f":"CX392+CY391","v":47622.940350789708},{"$f":"CY392+CZ391","v":48444.025529251601},{"$f":"CZ392+DA391","v":49265.110707713495},{"$f":"DA392+DB391","v":50086.195886175388},{"$f":"DB392+DC391","v":50907.281064637282},{"$f":"DC392+DD391","v":51728.366243099175},{"$f":"DD392+DE391","v":52549.451421561069},{"$f":"DE392+DF391","v":53370.536600022962},{"$f":"DF392+DG391","v":54191.621778484856},{"$f":"DG392+DH391","v":55012.706956946749},{"$f":"DH392+DI391","v":55833.792135408643},{"$f":"DI392+DJ391","v":56654.877313870536},{"$f":"DJ392+DK391","v":57475.96249233243},{"$f":"DK392+DL391","v":57475.96249233243},{"$f":"DL392+DM391","v":57475.96249233243},{"$f":"DM392+DN391","v":57475.96249233243},{"$f":"DN392+DO391","v":57475.96249233243},{"$f":"DO392+DP391","v":57475.96249233243},{"$f":"DP392+DQ391","v":57475.96249233243},{"$f":"DQ392+DR391","v":57475.96249233243},{"$f":"DR392+DS391","v":57475.96249233243},{"$f":"DS392+DT391","v":57475.96249233243},{"$f":"DT392+DU391","v":57475.96249233243},{"$f":"DU392+DV391","v":57475.96249233243},{"$f":"DV392+DW391","v":57475.96249233243},{"$f":"DW392+DX391","v":57475.96249233243},{"$f":"DX392+DY391","v":57475.96249233243},{"$f":"DY392+DZ391","v":57475.96249233243},{"$f":"DZ392+EA391","v":57475.96249233243},{"$f":"EA392+EB391","v":57475.96249233243},{"$f":"EB392+EC391","v":57475.96249233243},{"$f":"EC392+ED391","v":57475.96249233243},{"$f":"ED392+EE391","v":57475.96249233243},{"$f":"EE392+EF391","v":57475.96249233243},{"$f":"EF392+EG391","v":57475.96249233243},{"$f":"EG392+EH391","v":57475.96249233243},{"$f":"EH392+EI391","v":57475.96249233243},{"$f":"EI392+EJ391","v":57475.96249233243},{"$f":"EJ392+EK391","v":57475.96249233243},{"$f":"EK392+EL391","v":57475.96249233243},{"$f":"EL392+EM391","v":57475.96249233243},{"$f":"EM392+EN391","v":57475.96249233243},{"$f":"EN392+EO391","v":57475.96249233243},{"$f":"EO392+EP391","v":57475.96249233243},{"$f":"EP392+EQ391","v":57475.96249233243},{"$f":"EQ392+ER391","v":57475.96249233243},{"$f":"ER392+ES391","v":57475.96249233243},{"$f":"ES392+ET391","v":57475.96249233243},{"$f":"ET392+EU391","v":57475.96249233243},{"$f":"EU392+EV391","v":57475.96249233243},{"$f":"EV392+EW391","v":57475.96249233243},{"$f":"EW392+EX391","v":57475.96249233243},{"$f":"EX392+EY391","v":57475.96249233243},{"$f":"EY392+EZ391","v":57475.96249233243}]
[null,null,"Net IDC Balance",null,null,null,null,null,null,{"$f":"J389-J392","v":2350.249793777331},2490.7794463428045,2636.0163279401404,2786.67985593302,2943.5291446152569,3107.3488680217938,3278.9322044749688,3459.061372897866,3648.4864888117863,3847.9036547018177,4057.9333349825538,4279.1001332057722,4511.8150769153526,4756.361419318936,5012.8847904903496,5281.3882860787726,5561.7327875914416,5853.6424896214539,6156.715292979743,6470.4374353692192,6794.201496649358,7127.3267518634402,7469.0807626123524,7818.7010984174622,8175.4161587655926,8538.4642110300592,8907.1099518332994,9280.6581193184484,9658.4639105083388,10039.9401725225,10424.561523476254,10811.865707592591,{"$f":"AP389-AP392","v":11201.452593652091},11592.981285472282,11986.165830875345,12380.769997906784,11559.684819444892,10738.599640983002,9917.5144625211105,9096.4292840592207,8275.344105597329,7454.2589271354382,6633.1737486735474,5812.0885702116566,4991.0033917497658,4169.9182132878741,3348.8330348259824,2527.7478563640907,1706.662677902199,885.57749944030729,64.492320978415592,-756.59285748347611,-1577.6780359453678,-2398.7632144072595,-3219.8483928691512,-4040.9335713310429,-4862.0187497929328,-5683.1039282548227,-6504.1891067167126,-7325.2742851786024,-8146.3594636404923,-8967.4446421023822,-9788.5298205642721,-10609.614999026162,{"$f":"BV389-BV392","v":-11430.700177488052},-12251.785355949942,-13072.870534411832,-13893.955712873721,-14715.040891335611,-15536.126069797501,-16357.211248259391,-17178.296426721281,-17999.381605183171,-18820.466783645061,-19641.551962106951,-20462.637140568841,-21283.722319030734,-22104.807497492628,-22925.892675954521,-23746.977854416415,-24568.063032878308,-25389.148211340202,-26210.233389802095,-27031.318568263989,-27852.403746725882,-28673.488925187776,-29494.574103649669,-30315.659282111563,-31136.744460573456,-31957.82963903535,-32778.914817497243,-33599.999995959137,-34421.08517442103,-35242.170352882924,-36063.255531344817,-36884.340709806711,{"$f":"DB389-DB392","v":-37705.425888268604},-38526.511066730498,-39347.596245192392,-40168.681423654285,-40989.766602116179,-41810.851780578072,-42631.936959039966,-43453.022137501859,-44274.107315963753,-45095.192494425646,-45095.192494425646,-45095.192494425646,-45095.192494425646,-45095.192494425646,-45095.192494425646,-45095.192494425646,-45095.192494425646,-45095.192494425646,-45095.192494425646,-45095.192494425646,-45095.192494425646,-45095.192494425646,-45095.192494425646,-45095.192494425646,-45095.192494425646,-45095.192494425646,-45095.192494425646,-45095.192494425646,-45095.192494425646,-45095.192494425646,-45095.192494425646,-45095.192494425646,{"$f":"EH389-EH392","v":-45095.192494425646},-45095.192494425646,-45095.192494425646,-45095.192494425646,-45095.192494425646,-45095.192494425646,-45095.192494425646,-45095.192494425646,-45095.192494425646,-45095.192494425646,-45095.192494425646,-45095.192494425646,-45095.192494425646,-45095.192494425646,-45095.192494425646,-45095.192494425646,-45095.192494425646,-45095.192494425646,-45095.192494425646]
[]
[null,null,"EBITDA",null,null,null,null,null,null,{"$f":"J112","v":0},0,0,0,0,0,0,0,0,0,0,0,0,0,0,0,0,0,0,0,0,0,0,0,0,0,0,0,0,0,0,0,{"$f":"AP112","v":0},0,0,0,0,5565.1840271663941,5736.7954714120624,5676.4877077097226,5851.5313808403025,5790.0174618639167,5968.5620084571083,5946.5292567118922,6087.933248626252,6023.9341673232211,6209.6919135987755,6144.4128506696843,6333.8857518707518,6267.3011076830808,6460.5634669081692,6436.7145078458507,6589.7747362463333,6520.5000724334768,6721.5702309712624,6650.9100738821444,6856.0016355906855,6783.9282753597909,6993.1216683025004,6967.3067880309245,7132.9841016685514,7057.9989776843286,7275.6437837019257,7199.1589572380144,{"$f":"BV112","v":7421.1566593759617},7343.1421363827767,7569.5797925634834,7541.6369359509763,7720.9713884147532,7639.8050786926424,7875.3908161830495,7792.6011802664971,8032.8986325067126,7948.4532038718262,8193.5566051568476,8163.3103585172039,8357.4277372599863,8269.5707133082524,8524.576292005182,8434.9621275744157,8695.0678178452908,8603.6613701259066,8868.9691742021932,8836.2296641201538,9046.3485576862404,8951.2492894789902,9227.275528839964,9130.2742752685735,9411.8210394167654,9312.8797607739452,9600.057460205102,9564.6191615896569,9792.058609409205,9689.1201031092151,9987.8997815973889,9882.9025051713998,{"$f":"DB112","v":10187.657777229335},0,0,0,0,0,0,0,0,0,0,0,0,0,0,0,0,0,0,0,0,0,0,0,0,0,0,0,0,0,0,0,{"$f":"EH112","v":0},0,0,0,0,0,0,0,0,0,0,0,0,0,0,0,0,0,0]
[null,null,"Less: Depreciation",null,null,null,null,null,null,{"$f":"J391+J126","v":0},0,0,0,0,0,0,0,0,0,0,0,0,0,0,0,0,0,0,0,0,0,0,0,0,0,0,0,0,0,0,0,{"$f":"AP391+AP126","v":0},0,0,0,3221.0851784618917,3221.0851784618917,3221.0851784618917,3221.0851784618917,3221.0851784618917,3221.0851784618917,3221.0851784618917,3221.0851784618917,3221.0851784618917,3221.0851784618917,3221.0851784618917,3221.0851784618917,3221.0851784618917,3221.0851784618917,3221.0851784618917,3221.0851784618917,3221.0851784618917,3221.0851784618917,3221.0851784618917,3221.0851784618917,3221.0851784618917,3221.0851784618917,3221.0851784618917,3221.0851784618917,3221.0851784618917,3221.0851784618917,3221.0851784618917,3221.0851784618917,{"$f":"BV391+BV126","v":3221.0851784618917},3221.0851784618917,3221.0851784618917,3221.0851784618917,3221.0851784618917,3221.0851784618917,3221.0851784618917,3221.0851784618917,3221.0851784618917,3221.0851784618917,3221.0851784618917,3221.0851784618917,3221.0851784618917,3221.0851784618917,3221.0851784618917,3221.0851784618917,3221.0851784618917,3221.0851784618917,3221.0851784618917,3221.0851784618917,3221.0851784618917,3221.0851784618917,3221.0851784618917,3221.0851784618917,3221.0851784618917,3221.0851784618917,3221.0851784618917,3221.0851784618917,3221.0851784618917,3221.0851784618917,3221.0851784618917,3221.0851784618917,{"$f":"DB391+DB126","v":3221.0851784618917},3221.0851784618917,3221.0851784618917,3221.0851784618917,3221.0851784618917,3221.0851784618917,3221.0851784618917,3221.0851784618917,3221.0851784618917,3221.0851784618917,0,0,0,0,0,0,0,0,0,0,0,0,0,0,0,0,0,0,0,0,0,0,{"$f":"EH391+EH126","v":0},0,0,0,0,0,0,0,0,0,0,0,0,0,0,0,0,0,0]
[null,null,"EBIT",null,null,null,null,null,null,{"$f":"J395-J396","v":0},{"$f":"K395-K396","v":0},0,0,0,0,0,0,0,0,0,0,0,0,0,0,0,0,0,0,0,0,0,0,0,{"$f":"AI395-AI396","v":0},0,0,0,0,0,0,0,0,0,0,-3221.0851784618917,2344.0988487045024,2515.7102929501707,2455.4025292478309,2630.4462023784108,2568.932283402025,2747.4768299952166,2725.4440782500005,2866.8480701643603,2802.8489888613294,2988.6067351368838,2923.3276722077926,3112.8005734088601,3046.2159292211891,3239.4782884462775,3215.629329383959,3368.6895577844416,3299.4148939715851,3500.4850525093707,3429.8248954202527,3634.9164571287938,3562.8430968978992,3772.0364898406087,3746.2216095690328,3911.8989232066597,3836.9137992224369,4054.558605240034,3978.0737787761227,4200.07148091407,4122.056957920885,4348.4946141015917,4320.5517574890846,4499.8862099528615,4418.7199002307507,4654.3056377211578,4571.5160018046054,4811.8134540448209,4727.3680254099345,4972.4714266949559,4942.2251800553122,5136.3425587980946,5048.4855348463607,5303.4911135432903,5213.876949112524,5473.9826393833991,5382.5761916640149,5647.8839957403015,5615.1444856582621,5825.2633792243487,5730.1641110170985,6006.1903503780723,5909.1890968066818,6190.7358609548737,{"$f":"CU395-CU396","v":6091.7945823120535},6378.9722817432103,6343.5339831277652,6570.9734309473133,6468.0349246473234,6766.8146031354972,6661.8173267095081,6966.5725987674432,-3221.0851784618917,-3221.0851784618917,-3221.0851784618917,-3221.0851784618917,-3221.0851784618917,-3221.0851784618917,-3221.0851784618917,-3221.0851784618917,-3221.0851784618917,0,0,0,0,0,0,0,0,0,0,0,0,0,0,0,0,0,0,0,0,0,0,0,0,0,0,0,0,0,0,0,0,0,0,0,0,0,0,0,0,0]
[null,null,"Less: Interest Expense",null,null,null,null,null,null,{"$f":"J364","v":0},0,0,0,0,0,0,0,0,0,0,0,0,0,0,0,0,0,0,0,0,0,0,0,0,0,0,0,0,0,0,0,{"$f":"AP364","v":0},0,0,0,2560.535301918339,2604.7045358764303,2587.5757794502865,2568.0971003748882,2549.0956674929425,2527.6709192608614,2506.706112597431,2483.2422115734757,2637.956700585165,2613.7898878202891,2590.101558521194,2563.5900453936206,2537.5321501651561,2508.5595351437919,2480.0138892543405,2448.4588472101382,2580.0097691117171,2546.6441999834306,2513.6892207219034,2477.3274055215529,2441.3383955251797,2401.8275079810019,2362.6490504830945,2319.8295019572192,2420.7142911190222,2374.5011091066553,2328.5484500549387,2278.4588217377086,{"$f":"BV364","v":2228.5729310043853},2174.4040338717259,2120.3783220734208,2061.9179595795358,2002.7592325128394,1939.769102993034,1876.7886545072877,1809.0521813813141,1741.2523655487496,1668.5266496572342,1595.6599994256323,1517.6910035341709,1438.6575933613935,1355.1619898249951,1271.3552910579904,1182.0721909132806,1092.3853043580634,997.02420326751667,901.16110092045051,799.41826770807256,696.15899786992736,587.69777616685417,478.52007418180045,363.02682386810977,246.70064477909125,123.82834301051351,9.756804702192311E-7,9.9616976009383503E-7,1.0170893250558056E-6,1.0384482008819773E-6,1.0602556131004988E-6,1.0825209809756093E-6,{"$f":"DB364","v":1.1052539215760972E-6},1.1284642539291953E-6,1.1521620032617085E-6,1.1763574053302042E-6,1.2010609108421385E-6,1.2262831899698234E-6,1.2520351369591897E-6,1.2783278748353327E-6,1.3051727602068748E-6,1.332581388171219E-6,0,0,0,0,0,0,0,0,0,0,0,0,0,0,0,0,0,0,0,0,0,0,{"$f":"EH364","v":0},0,0,0,0,0,0,0,0,0,0,0,0,0,0,0,0,0,0]
[null,null,"EBT",null,null,null,null,null,null,{"$f":"J397-J398","v":0},{"$f":"K397-K398","v":0},0,0,0,0,0,0,0,0,0,0,0,0,0,0,0,0,0,0,0,0,0,0,0,{"$f":"AI397-AI398","v":0},0,0,0,0,0,0,0,0,0,0,-5781.6204803802302,-260.60568717192791,-71.865486500115821,-112.69457112705732,81.350534885468278,41.26136414116354,240.77071739778557,242.20186667652479,228.89136957919527,189.05910104104032,398.50517661568983,359.73762681417202,575.26842324370409,537.65639407739718,759.46439919193699,767.1704821738208,788.6797886727245,752.77069398815456,986.79583178746725,952.49748989869977,1193.5780616036141,1161.0155889168973,1409.3874393575143,1426.3921076118136,1491.1846320876375,1462.4126901157815,1726.0101551850953,1699.6149570384141,1971.4985499096847,1947.6529240491591,2228.1162920281708,2258.6337979095488,2497.1269774400221,2478.9507972377169,2777.5169832138699,2762.4638204232915,3070.5610884960715,3058.8413757527005,3376.8114272693238,3424.5341765211415,3697.6849654367011,3693.3235450213656,4032.1358224853002,4031.8047581992432,4381.5973350253353,4385.551988396498,4746.7228948198508,4815.7262179501895,5129.1043813544211,5142.4663348502445,5527.6702761962715,5546.1622729385717,5944.0352161757828,{"$f":"CU397-CU398","v":5967.9662393015396},6378.9722807675298,6343.5339821315956,6570.9734299302236,6468.034923608875,6766.814602075242,6661.8173256269874,6966.5725976621889,-3221.0851795903559,-3221.0851796140537,-3221.085179638249,-3221.0851796629527,-3221.0851796881748,-3221.0851797139267,-3221.0851797402197,-3221.0851797670643,-3221.0851797944729,0,0,0,0,0,0,0,0,0,0,0,0,0,0,0,0,0,0,0,0,0,0,0,0,0,0,0,0,0,0,0,0,0,0,0,0,0,0,0,0,0]
[null,null,"Opening NOL",null,null,null,null,null,null,{"$f":"I403","v":0},0,0,0,0,0,0,0,0,0,0,0,0,0,0,0,0,0,0,0,0,0,0,0,0,0,0,0,0,0,0,0,{"$f":"AO403","v":0},0,0,0,0,5781.6204803802302,6042.2261675521586,6114.091654052274,6226.7862251793313,6145.4356902938634,6104.1743261526999,5863.4036087549139,5621.2017420783886,5392.3103724991934,5203.2512714581535,4804.7460948424632,4445.0084680282907,3869.7400447845866,3332.0836507071895,2572.6192515152525,1805.4487693414317,1016.7689806687072,263.99828668055261,0,0,0,0,0,0,0,0,0,{"$f":"BU403","v":0},0,0,0,0,0,0,0,0,0,0,0,0,0,0,0,0,0,0,0,0,0,0,0,0,0,0,0,0,0,0,0,{"$f":"DA403","v":0},0,3221.0851795903559,6442.1703592044096,9663.255538842659,12884.340718505611,16105.425898193786,19326.511077907711,22547.596257647932,25768.681437414998,28989.766617209472,28989.766617209472,28989.766617209472,28989.766617209472,28989.766617209472,28989.766617209472,28989.766617209472,28989.766617209472,28989.766617209472,28989.766617209472,28989.766617209472,28989.766617209472,28989.766617209472,28989.766617209472,28989.766617209472,28989.766617209472,28989.766617209472,28989.766617209472,28989.766617209472,28989.766617209472,28989.766617209472,28989.766617209472,{"$f":"EG403","v":28989.766617209472},28989.766617209472,28989.766617209472,28989.766617209472,28989.766617209472,28989.766617209472,28989.766617209472,28989.766617209472,28989.766617209472,28989.766617209472,28989.766617209472,28989.766617209472,28989.766617209472,28989.766617209472,28989.766617209472,28989.766617209472,28989.766617209472,28989.766617209472,28989.766617209472]
[null,null,"Add: Accrued Tax Loss",null,null,null,null,null,null,{"$f":"MAX(-J399,0)","v":0},{"$f":"MAX(-K399,0)","v":0},0,0,0,0,0,0,0,0,0,0,0,0,0,0,0,0,0,0,0,0,0,0,0,{"$f":"MAX(-AI399,0)","v":0},0,0,0,0,0,0,0,0,0,0,5781.6204803802302,260.60568717192791,71.865486500115821,112.69457112705732,0,0,0,0,0,0,0,0,0,0,0,0,0,0,0,0,0,0,0,0,0,0,0,0,0,0,0,0,0,0,0,0,0,0,0,0,0,0,0,0,0,0,0,0,0,0,0,0,0,{"$f":"MAX(-CU399,0)","v":0},0,0,0,0,0,0,0,3221.0851795903559,3221.0851796140537,3221.085179638249,3221.0851796629527,3221.0851796881748,3221.0851797139267,3221.0851797402197,3221.0851797670643,3221.0851797944729,0,0,0,0,0,0,0,0,0,0,0,0,0,0,0,0,0,0,0,0,0,0,0,0,0,0,0,0,0,0,0,0,0,0,0,0,0,0,0,0,0]
[null,null,"Less: NOL Used",null,null,null,null,null,null,{"$f":"MIN(J400,MAX(J399,0))","v":0},{"$f":"MIN(K400,MAX(K399,0))","v":0},0,0,0,0,0,0,0,0,0,0,0,0,0,0,0,0,0,0,0,0,0,0,0,{"$f":"MIN(AI400,MAX(AI399,0))","v":0},0,0,0,0,0,0,0,0,0,0,0,0,0,0,81.350534885468278,41.26136414116354,240.77071739778557,242.20186667652479,228.89136957919527,189.05910104104032,398.50517661568983,359.73762681417202,575.26842324370409,537.65639407739718,759.46439919193699,767.1704821738208,788.6797886727245,752.77069398815456,263.99828668055261,0,0,0,0,0,0,0,0,0,0,0,0,0,0,0,0,0,0,0,0,0,0,0,0,0,0,0,0,0,0,0,0,0,0,{"$f":"MIN(CU400,MAX(CU399,0))","v":0},0,0,0,0,0,0,0,0,0,0,0,0,0,0,0,0,0,0,0,0,0,0,0,0,0,0,0,0,0,0,0,0,0,0,0,0,0,0,0,0,0,0,0,0,0,0,0,0,0,0,0,0,0,0,0,0,0]
[null,null,"Closing NOL",null,null,null,null,null,null,{"$f":"J400+J401-J402","v":0},{"$f":"K400+K401-K402","v":0},0,0,0,0,0,0,0,0,0,0,0,0,0,0,0,0,0,0,0,0,0,0,0,{"$f":"AI400+AI401-AI402","v":0},0,0,0,0,0,0,0,0,0,0,5781.6204803802302,6042.2261675521586,6114.091654052274,6226.7862251793313,6145.4356902938634,6104.1743261526999,5863.4036087549139,5621.2017420783886,5392.3103724991934,5203.2512714581535,4804.7460948424632,4445.0084680282907,3869.7400447845866,3332.0836507071895,2572.6192515152525,1805.4487693414317,1016.7689806687072,263.99828668055261,0,0,0,0,0,0,0,0,0,0,0,0,0,0,0,0,0,0,0,0,0,0,0,0,0,0,0,0,0,0,0,0,0,0,0,{"$f":"CU400+CU401-CU402","v":0},0,0,0,0,0,0,0,3221.0851795903559,6442.1703592044096,9663.255538842659,12884.340718505611,16105.425898193786,19326.511077907711,22547.596257647932,25768.681437414998,28989.766617209472,28989.766617209472,28989.766617209472,28989.766617209472,28989.766617209472,28989.766617209472,28989.766617209472,28989.766617209472,28989.766617209472,28989.766617209472,28989.766617209472,28989.766617209472,28989.766617209472,28989.766617209472,28989.766617209472,28989.766617209472,28989.766617209472,28989.766617209472,28989.766617209472,28989.766617209472,28989.766617209472,28989.766617209472,28989.766617209472,28989.766617209472,28989.766617209472,28989.766617209472,28989.766617209472,28989.766617209472,28989.766617209472,28989.766617209472,28989.766617209472,28989.766617209472,28989.766617209472,28989.766617209472,28989.766617209472,28989.766617209472,28989.766617209472,28989.766617209472,28989.766617209472,28989.766617209472,28989.766617209472,28989.766617209472]
[null,null,"EBT after NOL",null,null,null,null,null,null,{"$f":"J399+J401-J402","v":0},{"$f":"K399+K401-K402","v":0},0,0,0,0,0,0,0,0,0,0,0,0,0,0,0,0,0,0,0,0,0,0,0,{"$f":"AI399+AI401-AI402","v":0},0,0,0,0,0,0,0,0,0,0,0,0,0,0,0,0,0,0,0,0,0,0,0,0,0,0,0,0,722.79754510691464,952.49748989869977,1193.5780616036141,1161.0155889168973,1409.3874393575143,1426.3921076118136,1491.1846320876375,1462.4126901157815,1726.0101551850953,1699.6149570384141,1971.4985499096847,1947.6529240491591,2228.1162920281708,2258.6337979095488,2497.1269774400221,2478.9507972377169,2777.5169832138699,2762.4638204232915,3070.5610884960715,3058.8413757527005,3376.8114272693238,3424.5341765211415,3697.6849654367011,3693.3235450213656,4032.1358224853002,4031.8047581992432,4381.5973350253353,4385.551988396498,4746.7228948198508,4815.7262179501895,5129.1043813544211,5142.4663348502445,5527.6702761962715,5546.1622729385717,5944.0352161757828,{"$f":"CU399+CU401-CU402","v":5967.9662393015396},6378.9722807675298,6343.5339821315956,6570.9734299302236,6468.034923608875,6766.814602075242,6661.8173256269874,6966.5725976621889,0,0,0,0,0,0,0,0,0,0,0,0,0,0,0,0,0,0,0,0,0,0,0,0,0,0,0,0,0,0,0,0,0,0,0,0,0,0,0,0,0,0,0,0,0,0,0,0,0,0]
[null,null,"Taxes",null,null,null,null,{"$f":"F30","v":0.21},null,{"$f":"$H$405*J404","v":0},0,0,0,0,0,0,0,0,0,0,0,0,0,0,0,0,0,0,0,0,0,0,0,0,0,0,0,0,0,0,0,{"$f":"$H$405*AP404","v":0},0,0,0,0,0,0,0,0,0,0,0,0,0,0,0,0,0,0,0,0,0,151.78748447245206,200.02447287872695,250.65139293675895,243.81327367254843,295.97136226507797,299.54234259848084,313.14877273840386,307.10666492431409,362.46213258887002,356.91914097806693,{"$f":"$H$405*BV404","v":414.01469548103375},409.00711405032337,467.90442132591585,474.31309756100524,524.39666526240467,520.5796674199205,583.27856647491262,580.11740228889118,644.817828584175,642.3566889080671,709.13039972655793,719.15217706943963,776.51384274170721,775.59794445448676,846.74852272191299,846.67899922184108,920.13544035532038,920.9659175632645,996.81180791216866,1011.3025057695397,1077.1119200844284,1079.9179303185513,1160.810758001217,1164.6940773171,1248.2473953969143,1253.2729102533233,1339.5841789611811,1332.1421362476351,1379.904420285347,1358.2873339578637,1421.0310664358008,1398.9816383816674,{"$f":"$H$405*DB404","v":1462.9802455090596},0,0,0,0,0,0,0,0,0,0,0,0,0,0,0,0,0,0,0,0,0,0,0,0,0,0,0,0,0,0,0,{"$f":"$H$405*EH404","v":0},0,0,0,0,0,0,0,0,0,0,0,0,0,0,0,0,0,0]
[null,null,"Net Income",null,null,null,null,null,null,{"$f":"J404-J405","v":0},{"$f":"K404-K405","v":0},0,0,0,0,0,0,0,0,0,0,0,0,0,0,0,0,0,0,0,0,0,0,0,{"$f":"AI404-AI405","v":0},0,0,0,0,0,0,0,0,0,0,0,0,0,0,0,0,0,0,0,0,0,0,0,0,0,0,0,0,571.01006063446255,752.47301701997276,942.92666866685511,917.20231524434882,1113.4160770924364,1126.8497650133327,1178.0358593492338,1155.3060251914674,1363.5480225962253,1342.6958160603472,1557.4838544286508,1538.6458099988358,1760.2118707022551,1784.3207003485436,1972.7303121776174,1958.3711298177964,2194.2384167389573,2182.3464181344002,2425.7432599118965,2416.4846868446334,2667.6810275427661,2705.3819994517016,2921.1711226949938,2917.7256005668787,3185.3872997633871,3185.1257589774023,3461.4618946700148,3464.5860708332334,3749.9110869076821,3804.42371218065,4051.9924612699924,4062.5484045316934,4366.859518195055,4381.4681956214718,4695.787820778869,{"$f":"CU404-CU405","v":4714.6933290482166},5039.3881018063485,5011.3918458839607,5191.0690096448761,5109.7475896510114,5345.7835356394407,5262.8356872453205,5503.5923521531295,0,0,0,0,0,0,0,0,0,0,0,0,0,0,0,0,0,0,0,0,0,0,0,0,0,0,0,0,0,0,0,0,0,0,0,0,0,0,0,0,0,0,0,0,0,0,0,0,0,0]
[]
["Cash Flow Waterfall"]
[null,null,"EBITDA",null,null,null,null,null,null,{"$f":"J395","v":0},0,0,0,0,0,0,0,0,0,0,0,0,0,0,0,0,0,0,0,0,0,0,0,0,0,0,0,0,0,0,0,{"$f":"AP395","v":0},0,0,0,0,5565.1840271663941,5736.7954714120624,5676.4877077097226,5851.5313808403025,5790.0174618639167,5968.5620084571083,5946.5292567118922,6087.933248626252,6023.9341673232211,6209.6919135987755,6144.4128506696843,6333.8857518707518,6267.3011076830808,6460.5634669081692,6436.7145078458507,6589.7747362463333,6520.5000724334768,6721.5702309712624,6650.9100738821444,6856.0016355906855,6783.9282753597909,6993.1216683025004,6967.3067880309245,7132.9841016685514,7057.9989776843286,7275.6437837019257,7199.1589572380144,{"$f":"BV395","v":7421.1566593759617},7343.1421363827767,7569.5797925634834,7541.6369359509763,7720.9713884147532,7639.8050786926424,7875.3908161830495,7792.6011802664971,8032.8986325067126,7948.4532038718262,8193.5566051568476,8163.3103585172039,8357.4277372599863,8269.5707133082524,8524.576292005182,8434.9621275744157,8695.0678178452908,8603.6613701259066,8868.9691742021932,8836.2296641201538,9046.3485576862404,8951.2492894789902,9227.275528839964,9130.2742752685735,9411.8210394167654,9312.8797607739452,9600.057460205102,9564.6191615896569,9792.058609409205,9689.1201031092151,9987.8997815973889,9882.9025051713998,{"$f":"DB395","v":10187.657777229335},0,0,0,0,0,0,0,0,0,0,0,0,0,0,0,0,0,0,0,0,0,0,0,0,0,0,0,0,0,0,0,{"$f":"EH395","v":0},0,0,0,0,0,0,0,0,0,0,0,0,0,0,0,0,0,0]
[null,null,"Less: Taxes",null,null,null,null,null,null,{"$f":"J405","v":0},0,0,0,0,0,0,0,0,0,0,0,0,0,0,0,0,0,0,0,0,0,0,0,0,0,0,0,0,0,0,0,{"$f":"AP405","v":0},0,0,0,0,0,0,0,0,0,0,0,0,0,0,0,0,0,0,0,0,0,151.78748447245206,200.02447287872695,250.65139293675895,243.81327367254843,295.97136226507797,299.54234259848084,313.14877273840386,307.10666492431409,362.46213258887002,356.91914097806693,{"$f":"BV405","v":414.01469548103375},409.00711405032337,467.90442132591585,474.31309756100524,524.39666526240467,520.5796674199205,583.27856647491262,580.11740228889118,644.817828584175,642.3566889080671,709.13039972655793,719.15217706943963,776.51384274170721,775.59794445448676,846.74852272191299,846.67899922184108,920.13544035532038,920.9659175632645,996.81180791216866,1011.3025057695397,1077.1119200844284,1079.9179303185513,1160.810758001217,1164.6940773171,1248.2473953969143,1253.2729102533233,1339.5841789611811,1332.1421362476351,1379.904420285347,1358.2873339578637,1421.0310664358008,1398.9816383816674,{"$f":"DB405","v":1462.9802455090596},0,0,0,0,0,0,0,0,0,0,0,0,0,0,0,0,0,0,0,0,0,0,0,0,0,0,0,0,0,0,0,{"$f":"EH405","v":0},0,0,0,0,0,0,0,0,0,0,0,0,0,0,0,0,0,0]
[null,null,"CFADS",null,null,null,null,null,null,{"$f":"J409-J410","v":0},{"$f":"K409-K410","v":0},0,0,0,0,0,0,0,0,0,0,0,0,0,0,0,0,0,0,0,0,0,0,0,0,0,0,0,0,0,0,0,0,0,0,0,5565.1840271663941,5736.7954714120624,5676.4877077097226,5851.5313808403025,5790.0174618639167,5968.5620084571083,5946.5292567118922,6087.933248626252,6023.9341673232211,6209.6919135987755,6144.4128506696843,6333.8857518707518,6267.3011076830808,6460.5634669081692,6436.7145078458507,6589.7747362463333,6520.5000724334768,6569.7827464988104,6450.8856010034178,6605.3502426539262,6540.1150016872425,6697.1503060374225,6667.7644454324436,6819.8353289301476,6750.8923127600146,6913.1816511130555,6842.2398162599475,7007.1419638949283,{"$f":"BW409-BW410","v":6934.1350223324534},7101.6753712375676,7067.3238383899707,7196.5747231523483,7119.2254112727223,7292.1122497081369,7212.4837779776062,7388.0808039225376,7306.0965149637595,7484.4262054302899,7444.158181447764,7580.9138945182794,7493.972768853766,7677.8277692832689,7588.2831283525747,7774.9323774899703,7682.6954525626425,7872.1573662900246,7824.9271583506143,7969.2366376018117,7871.3313591604392,8066.4647708387474,7965.5801979514736,8163.5736440198507,8059.6068505206222,8260.4732812439215,8232.4770253420211,8412.1541891238576,8330.8327691513514,8566.8687151615886,8483.9208667897328,8724.6775317202755,0,0,0,0,0,0,0,0,0,0,0,0,0,0,0,0,0,0,0,0,0,0,0,0,0,0,0,0,0,0,0,0,{"$f":"EI409-EI410","v":0},0,0,0,0,0,0,0,0,0,0,0,0,0,0,0,0,0]
[null,null,"Less: Interest Expense",null,null,null,null,null,null,{"$f":"J398","v":0},0,0,0,0,0,0,0,0,0,0,0,0,0,0,0,0,0,0,0,0,0,0,0,0,0,0,0,0,0,0,0,{"$f":"AP398","v":0},0,0,0,2560.535301918339,2604.7045358764303,2587.5757794502865,2568.0971003748882,2549.0956674929425,2527.6709192608614,2506.706112597431,2483.2422115734757,2637.956700585165,2613.7898878202891,2590.101558521194,2563.5900453936206,2537.5321501651561,2508.5595351437919,2480.0138892543405,2448.4588472101382,2580.0097691117171,2546.6441999834306,2513.6892207219034,2477.3274055215529,2441.3383955251797,2401.8275079810019,2362.6490504830945,2319.8295019572192,2420.7142911190222,2374.5011091066553,2328.5484500549387,2278.4588217377086,{"$f":"BV398","v":2228.5729310043853},2174.4040338717259,2120.3783220734208,2061.9179595795358,2002.7592325128394,1939.769102993034,1876.7886545072877,1809.0521813813141,1741.2523655487496,1668.5266496572342,1595.6599994256323,1517.6910035341709,1438.6575933613935,1355.1619898249951,1271.3552910579904,1182.0721909132806,1092.3853043580634,997.02420326751667,901.16110092045051,799.41826770807256,696.15899786992736,587.69777616685417,478.52007418180045,363.02682386810977,246.70064477909125,123.82834301051351,9.756804702192311E-7,9.9616976009383503E-7,1.0170893250558056E-6,1.0384482008819773E-6,1.0602556131004988E-6,1.0825209809756093E-6,{"$f":"DB398","v":1.1052539215760972E-6},1.1284642539291953E-6,1.1521620032617085E-6,1.1763574053302042E-6,1.2010609108421385E-6,1.2262831899698234E-6,1.2520351369591897E-6,1.2783278748353327E-6,1.3051727602068748E-6,1.332581388171219E-6,0,0,0,0,0,0,0,0,0,0,0,0,0,0,0,0,0,0,0,0,0,0,{"$f":"EH398","v":0},0,0,0,0,0,0,0,0,0,0,0,0,0,0,0,0,0,0]
[null,null,"Less: Repayment",null,null,null,null,null,null,{"$f":"J366","v":0},0,0,0,0,0,0,0,0,0,0,0,0,0,0,0,0,0,0,0,0,0,0,0,0,0,0,0,0,0,0,0,{"$f":"AP366","v":0},0,0,0,-2560.535301918339,992.97138702281472,1129.1987869796326,1101.5323409823413,1242.0143902655741,1215.3511109235133,1360.2261463162554,1363.8161504589129,1306.3142035067967,1280.4502323835363,1433.0547636526053,1408.5348772142802,1566.0872984521211,1543.0078859162677,1705.6779483352825,1715.7208452506443,1689.3959052296987,1668.6065448874569,1841.1045671063412,1822.2283542467508,2000.5512680596298,1983.7193669826702,2168.0784063734118,2187.6125171812432,2200.6277148746158,2188.22185960555,2385.2203960585725,2375.5186063487399,{"$f":"BV366","v":2579.471292031395},2572.6529427764535,2783.8267854230776,2817.0822412712723,2999.5299771335881,2999.0689755117337,3225.5463393320688,3228.5626586935487,3463.1293281673952,3469.8404872191268,3712.8093281648362,3763.4957225132066,3975.9811207808848,3990.7951793811721,4251.5761973671333,4270.8041216770089,4541.0048138355633,4564.9096355745805,4844.8968196370488,4917.1080875307207,5164.8200810987228,5198.9381897644625,5499.6785863662226,5539.3418613818349,5851.0619889798936,5896.5877159444308,-9.756804702192311E-7,-9.9616976009383503E-7,-1.0170893250558056E-6,-1.0384482008819773E-6,-1.0602556131004988E-6,-1.0825209809756093E-6,{"$f":"DB366","v":-1.1052539215760972E-6},-1.1284642539291953E-6,-1.1521620032617085E-6,-1.1763574053302042E-6,-1.2010609108421385E-6,-1.2262831899698234E-6,-1.2520351369591897E-6,-1.2783278748353327E-6,-1.3051727602068748E-6,-1.332581388171219E-6,0,0,0,0,0,0,0,0,0,0,0,0,0,0,0,0,0,0,0,0,0,0,{"$f":"EH366","v":0},0,0,0,0,0,0,0,0,0,0,0,0,0,0,0,0,0,0]
[null,null,"Net Cash Flow",null,null,null,null,null,null,{"$f":"J411-J412-J413","v":0},{"$f":"K411-K412-K413","v":0},0,0,{"$f":"N411-N412-N413","v":0},0,0,0,0,0,0,0,0,0,0,0,0,0,0,0,0,0,0,0,0,{"$f":"AI411-AI412-AI413","v":0},0,0,0,0,0,0,0,0,0,0,0,1967.5081042671491,2020.0209049821433,2006.858266352493,2060.4213230817859,2046.995431679542,2101.6297495434219,2099.4708946795035,2143.6623445342902,2129.6940471193957,2186.5355914249762,2172.2879280617835,2230.2663032534747,2215.7336866230212,2274.8716293185462,2272.5348153850682,2320.3690619049175,2305.2493275625893,2214.9889586705658,2151.3298412351141,2163.4605790691162,2154.5681267235705,2166.4228491809163,2160.3224262939807,2198.4933229365097,2188.1693440478093,2199.4128049995447,2188.2623881734989,2199.097740859148,2187.078045684274,2197.4702637410687,2188.3236375391625,2194.2855135059203,2180.3873327679548,2189.7772558687802,2174.8689379027437,2183.699110206393,2167.7293780873988,2175.9568778398216,2162.9714554003867,2166.2751803760007,2148.0155996475983,2154.8962808581455,2135.4068157622851,2141.5422592963441,2120.761613720545,2126.0994457325251,2108.400803111821,2108.2575586331614,2084.6953932291226,2088.2661102907241,2063.2115127015286,2065.8110102608662,{"$f":"CU411-CU412-CU413","v":2039.1907915656775},8260.4732812439215,8232.4770253420211,8412.1541891238576,8330.8327691513514,8566.8687151615886,8483.9208667897328,8724.6775317202755,0,0,0,0,0,0,0,0,0,0,0,0,0,0,0,0,0,0,0,0,0,0,0,0,0,0,0,0,0,0,0,0,0,0,0,0,0,0,0,0,0,0,0,0,0,0,0,0,0,0]
[null,null,"Less: Change in DSRA",null,null,null,null,null,null,{"$f":"J377","v":0},0,0,0,0,0,0,0,0,0,0,0,0,0,0,0,0,0,0,0,0,0,0,0,0,0,0,0,0,0,0,0,{"$f":"AP377","v":0},0,0,0,3597.6759228992451,119.09864353067405,-47.145125072689552,121.48061640128708,-48.088027574141961,123.91022872931171,-19.873896881297696,97.212542059573025,-50.030783888136284,128.91620196997383,-51.031399565898482,131.49452600937639,-52.052027557217571,134.1244165295634,-21.51214512884053,105.2259818806333,-54.154929470528259,139.5430429573571,-55.238028059940916,142.33390381650588,-56.342788621137515,145.1805818928342,-23.285437718043795,113.89998685517548,-58.619037281432611,151.04587740130592,-59.791418027062718,154.06679494933178,{"$f":"BV377","v":-60.987246387600862},157.14813084831894,-25.204906645690244,123.28900879561934,-63.451131141659971,163.49691533458918,-64.720153764494171,166.76685364128207,-66.014556839783836,170.10219071410756,-27.282601543091005,133.45198809490103,-68.681544936111095,176.97431921895623,-70.05517583483379,180.51380560333746,-71.456279351529702,184.1240817154021,-29.531565318706271,144.4527237298571,-74.343113037333751,191.56269461670672,-75.829975298078352,195.39394850903955,-77.346574804039847,-6020.4160589549447,0,0,0,0,0,0,{"$f":"DB377","v":0},0,0,0,0,0,0,0,0,0,0,0,0,0,0,0,0,0,0,0,0,0,0,0,0,0,0,0,0,0,0,0,{"$f":"EH377","v":0},0,0,0,0,0,0,0,0,0,0,0,0,0,0,0,0,0,0]
[null,null,"Less: Cash Flow Sweep"]
[null,null,"Net Cash Flow Before Re-financing",null,null,null,null,null,null,{"$f":"J414-J415-J416","v":0},{"$f":"K414-K415-K416","v":0},0,0,0,0,0,0,0,0,0,0,0,0,0,0,0,0,0,0,0,0,0,0,0,{"$f":"AI414-AI415-AI416","v":0},0,0,0,0,0,0,0,0,0,0,-3597.6759228992451,1848.409460736475,2067.1660300548328,1885.377649951206,2108.5093506559278,1923.0852029502303,2121.5036464247196,2002.2583526199305,2193.6931284224265,2000.7778451494219,2237.5669909908747,2040.7934020524071,2282.3183308106923,2081.6092700934578,2296.3837744473867,2167.3088335044349,2374.5239913754458,2165.7062846052322,2270.2269867305067,2008.9959374186083,2219.8033676902537,2009.3875448307363,2189.7082868989601,2046.4224394388052,2257.1123602179423,2037.1234666465034,2259.2042230266075,2034.1955932241672,2260.0849872467488,2029.9299148359551,2222.675170386759,2065.0346287435432,2257.7366446475803,2016.8904174333657,2254.4974096332744,2008.1020842614616,2249.7136670461769,1997.6271873732912,2203.2394793829126,2029.5194673054857,2234.9567253121118,1971.041280428642,2224.9514566929793,1954.8930101589476,2212.9985386478738,1936.6375320051429,2155.6310110512313,1963.9480793819639,2182.6006716704951,1893.1326986124159,2164.0960855888025,1867.817564192489,2143.157585064906,{"$f":"CU414-CU415-CU416","v":8059.6068505206222},8260.4732812439215,8232.4770253420211,8412.1541891238576,8330.8327691513514,8566.8687151615886,8483.9208667897328,8724.6775317202755,0,0,0,0,0,0,0,0,0,0,0,0,0,0,0,0,0,0,0,0,0,0,0,0,0,0,0,0,0,0,0,0,0,0,0,0,0,0,0,0,0,0,0,0,0,0,0,0,0,0]
[null,null,"Less: Repayment of Existing Debt at Re-financing",null,null,null,null,null,null,{"$f":"J169+J170+J171","v":0},0,0,0,0,0,0,0,0,0,0,0,0,0,0,0,0,0,0,0,0,0,0,0,0,0,0,0,0,0,0,0,{"$f":"AP169+AP170+AP171","v":0},0,0,0,0,0,0,0,0,0,0,0,0,0,0,0,0,0,0,0,0,0,0,0,0,0,0,0,0,0,0,0,{"$f":"BV169+BV170+BV171","v":0},0,0,0,0,0,0,0,0,0,0,0,0,0,0,0,0,0,0,0,0,0,0,0,0,0,0,0,0,0,0,0,{"$f":"DB169+DB170+DB171","v":0},0,0,0,0,0,0,0,0,0,0,0,6.4788837967753079E-5,0,0,0,0,0,0,0,0,0,0,0,0,0,0,0,0,0,0,0,{"$f":"EH169+EH170+EH171","v":0},0,0,0,0,0,0,0,0,0,0,0,0,0,0,0,0,0,0]
[null,null,"Less: Re-financing Fees",null,null,null,null,null,null,{"$f":"J172","v":0},0,0,0,0,0,0,0,0,0,0,0,0,0,0,0,0,0,0,0,0,0,0,0,0,0,0,0,0,0,0,0,{"$f":"AP172","v":0},0,0,0,0,0,0,0,0,0,0,0,0,0,0,0,0,0,0,0,0,0,0,0,0,0,0,0,0,0,0,0,{"$f":"BV172","v":0},0,0,0,0,0,0,0,0,0,0,0,0,0,0,0,0,0,0,0,0,0,0,0,0,0,0,0,0,0,0,0,{"$f":"DB172","v":0},0,0,0,0,0,0,0,0,0,0,0,0,0,0,0,0,0,0,0,0,0,0,0,0,0,0,0,0,0,0,0,{"$f":"EH172","v":0},0,0,0,0,0,0,0,0,0,0,0,0,0,0,0,0,0,0]
[null,null,"Add: New Re-financed Debt",null,null,null,null,null,null,{"$f":"J166","v":0},0,0,0,0,0,0,0,0,0,0,0,0,0,0,0,0,0,0,0,0,0,0,0,0,0,0,0,0,0,0,0,{"$f":"AP166","v":0},0,0,0,0,0,0,0,0,0,0,0,0,0,0,0,0,0,0,0,0,0,0,0,0,0,0,0,0,0,0,0,{"$f":"BV166","v":0},0,0,0,0,0,0,0,0,0,0,0,0,0,0,0,0,0,0,0,0,0,0,0,0,0,0,0,0,0,0,0,{"$f":"DB166","v":0},0,0,0,0,0,0,0,0,0,0,0,0,0,0,0,0,0,0,0,0,0,0,0,0,0,0,0,0,0,0,0,{"$f":"EH166","v":0},0,0,0,0,0,0,0,0,0,0,0,0,0,0,0,0,0,0]
[null,null,"Net Dividends",null,null,null,null,null,null,{"$f":"J417-J418-J419+J420","v":0},{"$f":"K417-K418-K419+K420","v":0},0,0,0,0,0,0,0,0,0,0,0,0,0,0,0,0,0,0,0,0,0,0,0,{"$f":"AI417-AI418-AI419+AI420","v":0},0,0,0,0,0,0,0,0,0,0,-3597.6759228992451,1848.409460736475,2067.1660300548328,1885.377649951206,2108.5093506559278,1923.0852029502303,2121.5036464247196,2002.2583526199305,2193.6931284224265,2000.7778451494219,2237.5669909908747,2040.7934020524071,2282.3183308106923,2081.6092700934578,2296.3837744473867,2167.3088335044349,2374.5239913754458,2165.7062846052322,2270.2269867305067,2008.9959374186083,2219.8033676902537,2009.3875448307363,2189.7082868989601,2046.4224394388052,2257.1123602179423,2037.1234666465034,2259.2042230266075,2034.1955932241672,2260.0849872467488,2029.9299148359551,2222.675170386759,2065.0346287435432,2257.7366446475803,2016.8904174333657,2254.4974096332744,2008.1020842614616,2249.7136670461769,1997.6271873732912,2203.2394793829126,2029.5194673054857,2234.9567253121118,1971.041280428642,2224.9514566929793,1954.8930101589476,2212.9985386478738,1936.6375320051429,2155.6310110512313,1963.9480793819639,2182.6006716704951,1893.1326986124159,2164.0960855888025,1867.817564192489,2143.157585064906,{"$f":"CU417-CU418-CU419+CU420","v":8059.6068505206222},8260.4732812439215,8232.4770253420211,8412.1541891238576,8330.8327691513514,8566.8687151615886,8483.9208667897328,8724.6775317202755,0,0,0,0,0,0,0,0,0,0,0,-6.4788837967753079E-5,0,0,0,0,0,0,0,0,0,0,0,0,0,0,0,0,0,0,0,0,0,0,0,0,0,0,0,0,0,0,0,0,0,0,0,0,0,0]
[]
["Balance Sheet"]
[null,"Assets"]
[null,null,"DSRA",null,null,null,null,null,null,{"$f":"J378","v":0},0,0,0,0,0,0,0,0,0,0,0,0,0,0,0,0,0,0,0,0,0,0,0,0,0,0,0,0,0,0,0,{"$f":"AP378","v":0},0,0,0,3597.6759228992451,3716.7745664299191,3669.6294413572296,3791.1100577585166,3743.0220301843747,3866.9322589136864,3847.0583620323887,3944.2709040919617,3894.2401202038254,4023.1563221737993,3972.1249226079008,4103.6194486172772,4051.5674210600596,4185.691837589623,4164.1796924607825,4269.4056743414158,4215.2507448708875,4354.7937878282446,4299.5557597683037,4441.8896635848096,4385.5468749636721,4530.7274568565063,4507.4420191384625,4621.3420059936379,4562.7229687122053,4713.7688461135112,4653.9774280864485,4808.0442230357803,{"$f":"BV378","v":4747.0569766481794},4904.2051074964984,4879.0002008508081,5002.2892096464275,4938.8380785047675,5102.3349938393567,5037.6148400748625,5204.3816937161446,5138.3671368763607,5308.4693275904683,5281.1867260473773,5414.6387141422783,5345.9571692061672,5522.9314884251235,5452.8763125902897,5633.3901181936271,5561.9338388420974,5746.0579205574995,5716.5263552387933,5860.9790789686504,5786.6359659313166,5978.1986605480233,5902.368685249945,6097.7626337589845,6020.4160589549447,0,0,0,0,0,0,0,{"$f":"DB378","v":0},0,0,0,0,0,0,0,0,0,0,0,0,0,0,0,0,0,0,0,0,0,0,0,0,0,0,0,0,0,0,0,{"$f":"EH378","v":0},0,0,0,0,0,0,0,0,0,0,0,0,0,0,0,0,0,0]
[null,null,"Gross Plant",null,null,null,null,null,null,{"$f":"J123","v":2637.9240325551682},5731.2643495488201,9314.1377203269003,13413.096549093654,18044.941283393324,23214.729701179276,28914.139508403576,35120.333424396878,41795.454336168856,48886.842728561955,56328.021650591712,64040.439693824577,71935.904763331375,79919.586407001989,87893.417735274372,95759.694427477094,103424.65158683788,110801.80109316687,117814.83240445843,124399.91627245184,130507.29965211549,136102.13609366096,141164.55345376246,145689.01434210598,149683.06960482305,153165.63788903944,156164.96305368314,158716.40564981892,160860.21614124658,162639.41840252056,164097.90550010145,165278.81930866811,{"$f":"AP123","v":166223.25447543626},166969.29847009346,167551.39507652458,168000.00000000006,168000.00000000006,168000.00000000006,168000.00000000006,168000.00000000006,168000.00000000006,168000.00000000006,168000.00000000006,168000.00000000006,168000.00000000006,168000.00000000006,168000.00000000006,168000.00000000006,168000.00000000006,168000.00000000006,168000.00000000006,168000.00000000006,168000.00000000006,168000.00000000006,168000.00000000006,168000.00000000006,168000.00000000006,168000.00000000006,168000.00000000006,168000.00000000006,168000.00000000006,168000.00000000006,168000.00000000006,168000.00000000006,{"$f":"BV123","v":168000.00000000006},168000.00000000006,168000.00000000006,168000.00000000006,168000.00000000006,168000.00000000006,168000.00000000006,168000.00000000006,168000.00000000006,168000.00000000006,168000.00000000006,168000.00000000006,168000.00000000006,168000.00000000006,168000.00000000006,168000.00000000006,168000.00000000006,168000.00000000006,168000.00000000006,168000.00000000006,168000.00000000006,168000.00000000006,168000.00000000006,168000.00000000006,168000.00000000006,168000.00000000006,168000.00000000006,168000.00000000006,168000.00000000006,168000.00000000006,168000.00000000006,168000.00000000006,{"$f":"DB123","v":168000.00000000006},168000.00000000006,168000.00000000006,168000.00000000006,168000.00000000006,168000.00000000006,168000.00000000006,168000.00000000006,168000.00000000006,168000.00000000006,168000.00000000006,168000.00000000006,168000.00000000006,168000.00000000006,168000.00000000006,168000.00000000006,168000.00000000006,168000.00000000006,168000.00000000006,168000.00000000006,168000.00000000006,168000.00000000006,168000.00000000006,168000.00000000006,168000.00000000006,168000.00000000006,168000.00000000006,168000.00000000006,168000.00000000006,168000.00000000006,168000.00000000006,168000.00000000006,{"$f":"EH123","v":168000.00000000006},168000.00000000006,168000.00000000006,168000.00000000006,168000.00000000006,168000.00000000006,168000.00000000006,168000.00000000006,168000.00000000006,168000.00000000006,168000.00000000006,168000.00000000006,168000.00000000006,168000.00000000006,168000.00000000006,168000.00000000006,168000.00000000006,168000.00000000006,168000.00000000006]
[null,null,"Less: Accumulated Depreciation",null,null,null,null,null,null,{"$f":"-J124","v":0},0,0,0,0,0,0,0,0,0,0,0,0,0,0,0,0,0,0,0,0,0,0,0,0,0,0,0,0,0,0,0,{"$f":"-AP124","v":0},0,0,0,-2400.0000000000009,-4800.0000000000018,-7200.0000000000027,-9600.0000000000036,-12000.000000000004,-14400.000000000004,-16800.000000000004,-19200.000000000004,-21600.000000000004,-24000.000000000004,-26400.000000000004,-28800.000000000004,-31200.000000000004,-33600.000000000007,-36000.000000000007,-38400.000000000007,-40800.000000000007,-43200.000000000007,-45600.000000000007,-48000.000000000007,-50400.000000000007,-52800.000000000007,-55200.000000000007,-57600.000000000007,-60000.000000000007,-62400.000000000007,-64800.000000000007,-67200.000000000015,{"$f":"-BV124","v":-69600.000000000015},-72000.000000000015,-74400.000000000015,-76800.000000000015,-79200.000000000015,-81600.000000000015,-84000.000000000015,-86400.000000000015,-88800.000000000015,-91200.000000000015,-93600.000000000015,-96000.000000000015,-98400.000000000015,-100800.00000000001,-103200.00000000001,-105600.00000000001,-108000.00000000001,-110400.00000000001,-112800.00000000001,-115200.00000000001,-117600.00000000001,-120000.00000000001,-122400.00000000001,-124800.00000000001,-127200.00000000001,-129600.00000000001,-132000.00000000003,-134400.00000000003,-136800.00000000003,-139200.00000000003,-141600.00000000003,-144000.00000000003,{"$f":"-DB124","v":-146400.00000000003},-148800.00000000003,-151200.00000000003,-153600.00000000003,-156000.00000000003,-158400.00000000003,-160800.00000000003,-163200.00000000003,-165600.00000000003,-168000.00000000003,-168000.00000000003,-168000.00000000003,-168000.00000000003,-168000.00000000003,-168000.00000000003,-168000.00000000003,-168000.00000000003,-168000.00000000003,-168000.00000000003,-168000.00000000003,-168000.00000000003,-168000.00000000003,-168000.00000000003,-168000.00000000003,-168000.00000000003,-168000.00000000003,-168000.00000000003,-168000.00000000003,-168000.00000000003,-168000.00000000003,-168000.00000000003,-168000.00000000003,{"$f":"-EH124","v":-168000.00000000003},-168000.00000000003,-168000.00000000003,-168000.00000000003,-168000.00000000003,-168000.00000000003,-168000.00000000003,-168000.00000000003,-168000.00000000003,-168000.00000000003,-168000.00000000003,-168000.00000000003,-168000.00000000003,-168000.00000000003,-168000.00000000003,-168000.00000000003,-168000.00000000003,-168000.00000000003,-168000.00000000003]
[null,null,"IDC Net Plant",null,null,null,null,null,null,{"$f":"J393","v":2350.249793777331},2490.7794463428045,2636.0163279401404,2786.67985593302,2943.5291446152569,3107.3488680217938,3278.9322044749688,3459.061372897866,3648.4864888117863,3847.9036547018177,4057.9333349825538,4279.1001332057722,4511.8150769153526,4756.361419318936,5012.8847904903496,5281.3882860787726,5561.7327875914416,5853.6424896214539,6156.715292979743,6470.4374353692192,6794.201496649358,7127.3267518634402,7469.0807626123524,7818.7010984174622,8175.4161587655926,8538.4642110300592,8907.1099518332994,9280.6581193184484,9658.4639105083388,10039.9401725225,10424.561523476254,10811.865707592591,{"$f":"AP393","v":11201.452593652091},11592.981285472282,11986.165830875345,12380.769997906784,11559.684819444892,10738.599640983002,9917.5144625211105,9096.4292840592207,8275.344105597329,7454.2589271354382,6633.1737486735474,5812.0885702116566,4991.0033917497658,4169.9182132878741,3348.8330348259824,2527.7478563640907,1706.662677902199,885.57749944030729,64.492320978415592,-756.59285748347611,-1577.6780359453678,-2398.7632144072595,-3219.8483928691512,-4040.9335713310429,-4862.0187497929328,-5683.1039282548227,-6504.1891067167126,-7325.2742851786024,-8146.3594636404923,-8967.4446421023822,-9788.5298205642721,-10609.614999026162,{"$f":"BV393","v":-11430.700177488052},-12251.785355949942,-13072.870534411832,-13893.955712873721,-14715.040891335611,-15536.126069797501,-16357.211248259391,-17178.296426721281,-17999.381605183171,-18820.466783645061,-19641.551962106951,-20462.637140568841,-21283.722319030734,-22104.807497492628,-22925.892675954521,-23746.977854416415,-24568.063032878308,-25389.148211340202,-26210.233389802095,-27031.318568263989,-27852.403746725882,-28673.488925187776,-29494.574103649669,-30315.659282111563,-31136.744460573456,-31957.82963903535,-32778.914817497243,-33599.999995959137,-34421.08517442103,-35242.170352882924,-36063.255531344817,-36884.340709806711,{"$f":"DB393","v":-37705.425888268604},-38526.511066730498,-39347.596245192392,-40168.681423654285,-40989.766602116179,-41810.851780578072,-42631.936959039966,-43453.022137501859,-44274.107315963753,-45095.192494425646,-45095.192494425646,-45095.192494425646,-45095.192494425646,-45095.192494425646,-45095.192494425646,-45095.192494425646,-45095.192494425646,-45095.192494425646,-45095.192494425646,-45095.192494425646,-45095.192494425646,-45095.192494425646,-45095.192494425646,-45095.192494425646,-45095.192494425646,-45095.192494425646,-45095.192494425646,-45095.192494425646,-45095.192494425646,-45095.192494425646,-45095.192494425646,-45095.192494425646,{"$f":"EH393","v":-45095.192494425646},-45095.192494425646,-45095.192494425646,-45095.192494425646,-45095.192494425646,-45095.192494425646,-45095.192494425646,-45095.192494425646,-45095.192494425646,-45095.192494425646,-45095.192494425646,-45095.192494425646,-45095.192494425646,-45095.192494425646,-45095.192494425646,-45095.192494425646,-45095.192494425646,-45095.192494425646,-45095.192494425646]
[null,null,null,"Total Assets",null,null,null,null,null,{"$f":"SUM(J425:J428)","v":4988.1738263324987},{"$f":"SUM(K425:K428)","v":8222.0437958916245},11950.154048267041,16199.776405026674,20988.470428008579,26322.078569201069,32193.071712878544,38579.394797294743,45443.940824980644,52734.746383263773,60385.954985574266,68319.539827030356,76447.719840246733,84675.947826320931,92906.302525764724,101041.08271355586,108986.38437442933,116655.44358278833,123971.54769743817,130870.35370782106,137301.50114876483,143229.46284552439,148633.6342163748,153507.71544052343,157858.48576358863,{"$f":"SUM(AI425:AI428)","v":161704.10210006949},165072.07300551643,167997.06376913737,170518.68005175493,172679.35857504306,174522.46702357772,176090.68501626072,177424.70706908836,178562.27975556575,179537.56090739992,180380.76999790684,180757.3607423442,177655.374207413,174387.1439038784,171287.53934181778,168018.36613578175,164921.1911860492,161680.23211070601,158556.3594743037,155285.24351195365,152193.07453546172,148920.95795743394,145831.36730498142,142558.23009896232,139471.26933703001,136228.67201343924,133112.812816858,129837.57270892558,126756.03057342104,123479.70736689919,120400.95609225384,117123.52812517081,114047.62352860175,110803.2529124218,107696.0677208151,104416.36350507179,101346.32420401121,98065.447607522234,94998.429224009655,91716.356799160189,88652.419751546608,85406.12966643901,82308.333496772757,79023.797187169213,75966.208924041886,72680.403591815499,69626.085266994894,66338.985531693237,63288.00254394544,60039.634763940456,56952.001573573492,53662.234850175482,50618.123990932538,47326.983636635814,44286.412263777267,40993.870805963823,37956.909709217347,34706.292965436754,31629.660510704693,28334.232219205478,25304.709735360288,22007.794581600312,18982.103351647456,15683.671598381545,{"$f":"SUM(CU425:CU428)","v":6442.1703609646938},3221.0851825027858,4.0408922359347343E-6,-3221.0851744210013,-6442.1703528828948,-9663.2555313447883,-12884.340709806682,-16105.425888268575,-19326.511066730469,-22547.596245192362,-25768.681423654256,-28989.766602116149,-32210.851780578043,-35431.936959039936,-38653.02213750183,-41874.107315963724,-45095.192494425617,-45095.192494425617,-45095.192494425617,-45095.192494425617,-45095.192494425617,-45095.192494425617,-45095.192494425617,-45095.192494425617,-45095.192494425617,-45095.192494425617,-45095.192494425617,-45095.192494425617,-45095.192494425617,-45095.192494425617,-45095.192494425617,-45095.192494425617,-45095.192494425617,-45095.192494425617,-45095.192494425617,-45095.192494425617,-45095.192494425617,-45095.192494425617,-45095.192494425617,-45095.192494425617,-45095.192494425617,-45095.192494425617,-45095.192494425617,-45095.192494425617,-45095.192494425617,-45095.192494425617,-45095.192494425617,-45095.192494425617,-45095.192494425617,-45095.192494425617,-45095.192494425617,-45095.192494425617,-45095.192494425617,-45095.192494425617,-45095.192494425617,-45095.192494425617,-45095.192494425617,-45095.192494425617]
[]
[null,"Equity Balance"]
[null,null,"Opening Balance",null,null,null,null,null,null,{"$f":"I436","v":0},40902.114503533317,41568.405001167448,42336.526310518908,43212.097382174747,44198.736100992865,45297.646216746558,46507.276467848067,47823.082738979036,49237.419688786198,50739.581033957547,52315.998031277639,53950.59442562711,55625.284242114714,57320.58744573607,59016.328826811274,60692.378510468334,62329.388980063188,63909.483827543954,65416.857561546545,66838.253267931737,68163.294926724557,69384.662695394756,70498.111308319334,71502.342781729472,72398.753877702547,73191.085556670179,73885.005544712694,74487.656105747446,75007.197393307826,75452.372858635921,75832.117763943679,{"$f":"AO436","v":76155.225605810934},76430.080880079928,76664.460703171993,76865.402784982842,77039.133395617158,80636.809318516403,78788.399857779936,76721.233827725096,74835.856177773894,72727.346827117959,70804.261624167731,68682.757977743007,66680.499625123077,64486.80649670065,62486.028651551227,60248.461660560351,58207.668258507947,55925.349927697258,53843.740657603797,51547.356883156412,49380.048049651974,47005.524058276525,44839.817773671297,43140.600847575253,41884.077927176615,40607.201228153215,39515.015998566829,38438.723788760304,37519.151114334833,36440.074613466124,35558.257172011086,34662.600971580701,{"$f":"BU436","v":33971.101194416879},33268.500061598781,32777.215956761662,32314.752657077155,32034.038728682153,31749.032396212191,31690.51310859662,31630.254115702308,31804.498449575251,31980.528042440972,32399.385541912314,32863.827090072162,33539.689622218379,34225.904019601257,35172.588339739501,36133.02418280991,37363.256931628363,38611.720287650503,40139.668826478592,41733.948902335047,43574.42453513373,45443.816324733227,47613.2320306525,49815.995463258754,52329.646094687734,54882.276330401699,51537.362808929298,48316.277629491728,45095.192450033668,41874.107270554683,38653.022091054343,35431.936911532197,{"$f":"DA436","v":32210.851731987786},28989.766552420639,28989.766552420639,28989.766552420639,28989.766552420639,28989.766552420639,28989.766552420639,28989.766552420639,28989.766552420639,28989.766552420639,28989.766552420639,28989.766552420639,28989.766552420639,28989.766617209476,28989.766617209476,28989.766617209476,28989.766617209476,28989.766617209476,28989.766617209476,28989.766617209476,28989.766617209476,28989.766617209476,28989.766617209476,28989.766617209476,28989.766617209476,28989.766617209476,28989.766617209476,28989.766617209476,28989.766617209476,28989.766617209476,28989.766617209476,28989.766617209476,{"$f":"EG436","v":28989.766617209476},28989.766617209476,28989.766617209476,28989.766617209476,28989.766617209476,28989.766617209476,28989.766617209476,28989.766617209476,28989.766617209476,28989.766617209476,28989.766617209476,28989.766617209476,28989.766617209476,28989.766617209476,28989.766617209476,28989.766617209476,28989.766617209476,28989.766617209476,28989.766617209476]
[null,null,"Add: Funding",null,null,null,null,null,null,{"$f":"J270","v":40902.114503533317},666.29049763413275,768.12130935146183,875.57107165583693,986.63871881812099,1098.9101157536911,1209.6302511015126,1315.806271130971,1414.3369498071654,1502.1613451713504,1576.4169973200926,1634.5963943494733,1674.689816487605,1695.3032036213531,1695.7413810752071,1676.0496836570626,1637.0104695948523,1580.0948474807631,1507.373734002588,1421.3957063851929,1325.0416587928214,1221.3677686702022,1113.4486129245786,1004.2314734101423,896.41109597307832,792.33167896762927,693.91998804251784,602.65056103474762,519.5412875603771,445.17546532809644,379.74490530775205,323.10784186725243,{"$f":"AP270","v":274.85527426899523},234.37982309206797,200.94208181084593,173.73061063431092,0,0,0,0,0,0,0,0,0,0,0,0,0,0,0,0,0,0,0,0,0,0,0,0,0,0,0,0,{"$f":"BV270","v":0},0,0,0,0,0,0,0,0,0,0,0,0,0,0,0,0,0,0,0,0,0,0,0,0,0,0,0,0,0,0,0,{"$f":"DB270","v":0},0,0,0,0,0,0,0,0,0,0,0,0,0,0,0,0,0,0,0,0,0,0,0,0,0,0,0,0,0,0,0,{"$f":"EH270","v":0},0,0,0,0,0,0,0,0,0,0,0,0,0,0,0,0,0,0]
[null,null,"Add: Net Income",null,null,null,null,null,null,{"$f":"J406","v":0},0,0,0,0,0,0,0,0,0,0,0,0,0,0,0,0,0,0,0,0,0,0,0,0,0,0,0,0,0,0,0,{"$f":"AP406","v":0},0,0,0,0,0,0,0,0,0,0,0,0,0,0,0,0,0,0,0,0,0,571.01006063446255,752.47301701997276,942.92666866685511,917.20231524434882,1113.4160770924364,1126.8497650133327,1178.0358593492338,1155.3060251914674,1363.5480225962253,1342.6958160603472,{"$f":"BV406","v":1557.4838544286508},1538.6458099988358,1760.2118707022551,1784.3207003485436,1972.7303121776174,1958.3711298177964,2194.2384167389573,2182.3464181344002,2425.7432599118965,2416.4846868446334,2667.6810275427661,2705.3819994517016,2921.1711226949938,2917.7256005668787,3185.3872997633871,3185.1257589774023,3461.4618946700148,3464.5860708332334,3749.9110869076821,3804.42371218065,4051.9924612699924,4062.5484045316934,4366.859518195055,4381.4681956214718,4695.787820778869,4714.6933290482166,5039.3881018063485,5011.3918458839607,5191.0690096448761,5109.7475896510114,5345.7835356394407,5262.8356872453205,{"$f":"DB406","v":5503.5923521531295},0,0,0,0,0,0,0,0,0,0,0,0,0,0,0,0,0,0,0,0,0,0,0,0,0,0,0,0,0,0,0,{"$f":"EH406","v":0},0,0,0,0,0,0,0,0,0,0,0,0,0,0,0,0,0,0]
[null,null,"Less: Dividends",null,null,null,null,null,null,{"$f":"-J421","v":0},{"$f":"-K421","v":0},0,0,0,0,0,0,0,0,0,0,0,0,0,0,0,0,0,0,0,0,0,0,0,{"$f":"-AI421","v":0},0,0,0,0,0,0,0,0,0,0,3597.6759228992451,-1848.409460736475,-2067.1660300548328,-1885.377649951206,-2108.5093506559278,-1923.0852029502303,-2121.5036464247196,-2002.2583526199305,-2193.6931284224265,-2000.7778451494219,-2237.5669909908747,-2040.7934020524071,-2282.3183308106923,-2081.6092700934578,-2296.3837744473867,-2167.3088335044349,-2374.5239913754458,-2165.7062846052322,-2270.2269867305067,-2008.9959374186083,-2219.8033676902537,-2009.3875448307363,-2189.7082868989601,-2046.4224394388052,-2257.1123602179423,-2037.1234666465034,-2259.2042230266075,-2034.1955932241672,-2260.0849872467488,-2029.9299148359551,-2222.675170386759,-2065.0346287435432,-2257.7366446475803,-2016.8904174333657,-2254.4974096332744,-2008.1020842614616,-2249.7136670461769,-1997.6271873732912,-2203.2394793829126,-2029.5194673054857,-2234.9567253121118,-1971.041280428642,-2224.9514566929793,-1954.8930101589476,-2212.9985386478738,-1936.6375320051429,-2155.6310110512313,-1963.9480793819639,-2182.6006716704951,-1893.1326986124159,-2164.0960855888025,-1867.817564192489,-2143.157585064906,{"$f":"-CU421","v":-8059.6068505206222},-8260.4732812439215,-8232.4770253420211,-8412.1541891238576,-8330.8327691513514,-8566.8687151615886,-8483.9208667897328,-8724.6775317202755,0,0,0,0,0,0,0,0,0,0,0,6.4788837967753079E-5,0,0,0,0,0,0,0,0,0,0,0,0,0,0,0,0,0,0,0,0,0,0,0,0,0,0,0,0,0,0,0,0,0,0,0,0,0,0]
[null,null,"Closing Equity Balance",null,null,null,null,null,null,{"$f":"SUM(J432:J435)","v":40902.114503533317},{"$f":"SUM(K432:K435)","v":41568.405001167448},42336.526310518908,43212.097382174747,44198.736100992865,45297.646216746558,46507.276467848067,47823.082738979036,49237.419688786198,50739.581033957547,52315.998031277639,53950.59442562711,55625.284242114714,57320.58744573607,59016.328826811274,60692.378510468334,62329.388980063188,63909.483827543954,65416.857561546545,66838.253267931737,68163.294926724557,69384.662695394756,70498.111308319334,71502.342781729472,72398.753877702547,{"$f":"SUM(AI432:AI435)","v":73191.085556670179},73885.005544712694,74487.656105747446,75007.197393307826,75452.372858635921,75832.117763943679,76155.225605810934,76430.080880079928,76664.460703171993,76865.402784982842,77039.133395617158,80636.809318516403,78788.399857779936,76721.233827725096,74835.856177773894,72727.346827117959,70804.261624167731,68682.757977743007,66680.499625123077,64486.80649670065,62486.028651551227,60248.461660560351,58207.668258507947,55925.349927697258,53843.740657603797,51547.356883156412,49380.048049651974,47005.524058276525,44839.817773671297,43140.600847575253,41884.077927176615,40607.201228153215,39515.015998566829,38438.723788760304,37519.151114334833,36440.074613466124,35558.257172011086,34662.600971580701,33971.101194416879,33268.500061598781,32777.215956761662,32314.752657077155,32034.038728682153,31749.032396212191,31690.51310859662,31630.254115702308,31804.498449575251,31980.528042440972,32399.385541912314,32863.827090072162,33539.689622218379,34225.904019601257,35172.588339739501,36133.02418280991,37363.256931628363,38611.720287650503,40139.668826478592,41733.948902335047,43574.42453513373,45443.816324733227,47613.2320306525,49815.995463258754,52329.646094687734,54882.276330401699,{"$f":"SUM(CU432:CU435)","v":51537.362808929298},48316.277629491728,45095.192450033668,41874.107270554683,38653.022091054343,35431.936911532197,32210.851731987786,28989.766552420639,28989.766552420639,28989.766552420639,28989.766552420639,28989.766552420639,28989.766552420639,28989.766552420639,28989.766552420639,28989.766552420639,28989.766552420639,28989.766552420639,28989.766552420639,28989.766617209476,28989.766617209476,28989.766617209476,28989.766617209476,28989.766617209476,28989.766617209476,28989.766617209476,28989.766617209476,28989.766617209476,28989.766617209476,28989.766617209476,28989.766617209476,28989.766617209476,28989.766617209476,28989.766617209476,28989.766617209476,28989.766617209476,28989.766617209476,28989.766617209476,28989.766617209476,28989.766617209476,28989.766617209476,28989.766617209476,28989.766617209476,28989.766617209476,28989.766617209476,28989.766617209476,28989.766617209476,28989.766617209476,28989.766617209476,28989.766617209476,28989.766617209476,28989.766617209476,28989.766617209476,28989.766617209476,28989.766617209476,28989.766617209476,28989.766617209476,28989.766617209476]
[null,null,"Senior Debt Balance",null,null,null,null,null,null,{"$f":"J292","v":9181.2518172247637},11748.831289149757,14708.820232173712,18082.871517277508,21884.926821441295,26119.624846880091,30780.987739456054,35851.504552741288,41301.713630620019,47090.357843731806,53165.149448722208,59464.137895828819,65917.628092557585,72450.552875010428,78985.166193379016,85443.896697513104,91752.187888791712,97841.152249669947,103649.88263031721,109127.2929343149,114233.39871646586,118939.99264455521,123230.71540248104,127100.56515321953,130554.92438031164,133608.20903782485,136282.2599552293,138604.60015781547,140606.67515287266,142322.1782108327,143785.54175405958,145030.65190487535,{"$f":"AP292","v":146089.81868343402},146993.01154681935,147767.35061684268,148436.82909671529,150997.36439863362,150004.39301161081,148875.19422463118,147773.66188364883,146531.64749338327,145316.29638245975,143956.07023614351,142592.2540856846,141285.9398821778,140005.48964979427,138572.43488614165,137163.90000892736,135597.81271047523,134054.80482455896,132349.12687622369,130633.40603097304,128944.01012574334,127275.40358085588,125434.29901374954,123612.07065950279,121611.51939144316,119627.80002446049,117459.72161808707,115272.10910090583,113071.48138603121,110883.25952642567,108498.03913036709,106122.52052401836,{"$f":"BV292","v":103543.04923198697},100970.39628921052,98186.569503787439,95369.487262516166,92369.957285382581,89370.888309870847,86145.341970538779,82916.779311845225,79453.649983677824,75983.809496458693,72271.00016829386,68507.504445780651,64531.523324999769,60540.728145618596,56289.151948251463,52018.347826574456,47477.343012738893,42912.433377164314,38067.536557527266,33150.428469996543,27985.608388897821,22786.670199133358,17286.991612767135,11747.649751385299,5896.5877624054056,4.6460974772344343E-5,4.7436655242563574E-5,4.843282500265741E-5,4.9449914327713213E-5,5.0488362528595192E-5,5.1548618141695689E-5,5.2631139122671301E-5,{"$f":"DB292","v":5.3736393044247399E-5},5.4864857298176597E-5,5.6017019301438305E-5,5.7193376706768507E-5,5.8394437617610644E-5,5.9620720807580468E-5,6.0872755944539654E-5,6.2151083819374993E-5,6.3456256579581864E-5,6.4788837967753079E-5,6.4788837967753079E-5,6.4788837967753079E-5,0,0,0,0,0,0,0,0,0,0,0,0,0,0,0,0,0,0,0,0,{"$f":"EH292","v":0},0,0,0,0,0,0,0,0,0,0,0,0,0,0,0,0,0,0]
[null,null,"Mezzanine Debt",null,null,null,null,null,null,{"$f":"J310","v":0},0,0,0,0,0,0,0,0,0,0,0,0,0,0,0,0,0,0,0,0,0,0,0,0,0,0,0,0,0,0,0,{"$f":"AP310","v":0},0,0,0,0,0,0,0,0,0,0,0,0,0,0,0,0,0,0,0,0,0,0,0,0,0,0,0,0,0,0,0,{"$f":"BV310","v":0},0,0,0,0,0,0,0,0,0,0,0,0,0,0,0,0,0,0,0,0,0,0,0,0,0,0,0,0,0,0,0,{"$f":"DB310","v":0},0,0,0,0,0,0,0,0,0,0,0,0,0,0,0,0,0,0,0,0,0,0,0,0,0,0,0,0,0,0,0,{"$f":"EH310","v":0},0,0,0,0,0,0,0,0,0,0,0,0,0,0,0,0,0,0]
[null,null,"Re-financed Debt",null,null,null,null,null,null,{"$f":"J322","v":0},0,0,0,0,0,0,0,0,0,0,0,0,0,0,0,0,0,0,0,0,0,0,0,0,0,0,0,0,0,0,0,{"$f":"AP322","v":0},0,0,0,0,0,0,0,0,0,0,0,0,0,0,0,0,0,0,0,0,0,0,0,0,0,0,0,0,0,0,0,{"$f":"BV322","v":0},0,0,0,0,0,0,0,0,0,0,0,0,0,0,0,0,0,0,0,0,0,0,0,0,0,0,0,0,0,0,0,{"$f":"DB322","v":0},0,0,0,0,0,0,0,0,0,0,0,0,0,0,0,0,0,0,0,0,0,0,0,0,0,0,0,0,0,0,0,{"$f":"EH322","v":0},0,0,0,0,0,0,0,0,0,0,0,0,0,0,0,0,0,0]
[null,null,null,"Total Liabilities and Capital",null,null,null,null,null,{"$f":"SUM(J436:J439)","v":50083.366320758083},{"$f":"SUM(K436:K439)","v":53317.236290317203},57045.34654269262,61294.968899452258,66083.66292243416,71417.271063626657,77288.264207304121,83674.587291720323,90539.133319406217,97829.938877689361,105481.14747999984,113414.73232145593,121542.91233467229,129771.14032074649,138001.49502019028,146136.27520798144,154081.5768688549,161750.63607721392,169066.74019186376,175965.54620224662,182396.69364319043,188324.65533994997,193728.82671080038,198602.90793494901,202953.6782580142,{"$f":"SUM(AI436:AI439)","v":206799.29459449503},210167.265499942,213092.25626356291,215613.8725461805,217774.55106946861,219617.65951800326,221185.87751068629,222519.89956351393,223657.47224999135,224632.75340182552,225475.96249233244,231634.17371715003,228792.79286939075,225596.42805235629,222609.51806142274,219258.99432050122,216120.55800662749,212638.82821388653,209272.75371080768,205772.74637887845,202491.5183013455,198820.89654670202,195371.5682674353,191523.16263817251,187898.54548216276,183896.48375938009,180013.45408062503,175949.53418401987,172115.22135452717,168574.89986132478,165496.1485866794,162218.72061959637,159142.81602302732,155898.44540684737,152791.26021524065,149511.55599949733,146441.51669843675,143160.64010194779,140093.62171843523,136811.54929358576,133747.61224597218,130501.3221608646,127403.52599119832,124118.98968159477,121061.40141846746,117775.59608624109,114721.27776142047,111434.1780261188,108383.19503837101,105134.82725836601,102047.19406799902,98757.427344601019,95713.316485358097,92422.176131061366,89381.604758202826,86089.063300389389,83052.102203642906,79801.485459862306,76724.853005130281,73429.424713631044,70399.902229785861,67102.987076025893,64077.29584607303,60778.864092807104,{"$f":"SUM(CU436:CU439)","v":51537.362855390274},48316.277676928381,45095.192498466495,41874.107320004594,38653.022141542708,35431.936963080814,32210.851784618924,28989.766606157031,28989.766607285495,28989.766608437658,28989.766609614016,28989.766610815077,28989.76661204136,28989.766613293395,28989.766614571723,28989.766615876895,28989.766617209476,28989.766617209476,28989.766617209476,28989.766617209476,28989.766617209476,28989.766617209476,28989.766617209476,28989.766617209476,28989.766617209476,28989.766617209476,28989.766617209476,28989.766617209476,28989.766617209476,28989.766617209476,28989.766617209476,28989.766617209476,28989.766617209476,28989.766617209476,28989.766617209476,28989.766617209476,28989.766617209476,28989.766617209476,28989.766617209476,28989.766617209476,28989.766617209476,28989.766617209476,28989.766617209476,28989.766617209476,28989.766617209476,28989.766617209476,28989.766617209476,28989.766617209476,28989.766617209476,28989.766617209476,28989.766617209476,28989.766617209476,28989.766617209476,28989.766617209476,28989.766617209476,28989.766617209476,28989.766617209476,28989.766617209476]
[]
[null,null,null,"Difference",null,null,null,null,null,{"$f":"J440-J429","v":45095.192494425588},{"$f":"K440-K429","v":45095.192494425581},45095.192494425581,45095.192494425588,45095.192494425581,45095.192494425588,45095.192494425573,45095.192494425581,45095.192494425573,45095.192494425588,45095.192494425573,45095.192494425573,45095.192494425559,45095.192494425559,45095.192494425559,45095.192494425573,45095.192494425573,45095.192494425588,45095.192494425588,45095.192494425559,45095.192494425602,45095.192494425573,45095.192494425573,45095.192494425573,45095.192494425573,{"$f":"AI440-AI429","v":45095.192494425544},45095.192494425573,45095.192494425544,45095.192494425573,45095.192494425544,45095.192494425544,45095.192494425573,45095.192494425573,45095.192494425602,45095.192494425602,45095.192494425602,50876.812974805827,51137.418661977747,51209.284148477891,51321.978719604958,51240.628184719477,51199.366820578289,50958.59610318052,50716.394236503984,50487.502866924799,50298.443765883771,49899.938589268073,49540.200962453877,48964.932539210189,48427.276145132753,47667.811745940853,46900.641263767029,46111.961475094286,45359.190781106125,45095.192494425588,45095.192494425559,45095.192494425559,45095.192494425573,45095.192494425573,45095.192494425544,45095.192494425544,45095.192494425544,45095.192494425559,45095.192494425573,45095.192494425573,45095.192494425573,45095.192494425588,45095.192494425559,45095.192494425559,45095.192494425573,45095.192494425588,45095.192494425573,45095.192494425559,45095.192494425566,45095.192494425559,45095.19249442553,45095.192494425537,45095.192494425559,45095.192494425552,45095.192494425559,45095.192494425566,45095.192494425559,45095.192494425552,45095.192494425588,45095.192494425566,45095.192494425573,45095.192494425581,45095.192494425573,45095.192494425559,{"$f":"CU440-CU429","v":45095.192494425581},45095.192494425595,45095.192494425602,45095.192494425595,45095.192494425602,45095.192494425602,45095.192494425602,45095.192494425602,48316.277674015961,51537.362853630024,54758.448033268272,57979.53321293123,61200.618392619406,64421.703572333332,67642.788752073553,70863.873931840615,74084.959111635093,74084.959111635093,74084.959111635093,74084.959111635093,74084.959111635093,74084.959111635093,74084.959111635093,74084.959111635093,74084.959111635093,74084.959111635093,74084.959111635093,74084.959111635093,74084.959111635093,74084.959111635093,74084.959111635093,74084.959111635093,74084.959111635093,74084.959111635093,74084.959111635093,74084.959111635093,74084.959111635093,74084.959111635093,74084.959111635093,74084.959111635093,74084.959111635093,74084.959111635093,74084.959111635093,74084.959111635093,74084.959111635093,74084.959111635093,74084.959111635093,74084.959111635093,74084.959111635093,74084.959111635093,74084.959111635093,74084.959111635093,74084.959111635093,74084.959111635093,74084.959111635093,74084.959111635093,74084.959111635093,74084.959111635093]
[null,null,null,"Balance Sheet Test",null,null,{"$f":"AND(J443:EZ443)","v":false},null,null,{"$f":"ROUND(J442,0)=0","v":false},{"$f":"ROUND(K442,0)=0","v":false},false,false,false,false,false,false,false,false,false,false,false,false,false,false,false,false,false,false,false,false,false,false,false,false,false,false,false,false,false,false,false,false,false,false,false,false,false,false,false,false,false,false,false,false,false,false,false,false,false,false,false,false,false,false,false,false,false,false,false,false,false,false,false,{"$f":"ROUND(BW442,0)=0","v":false},false,false,false,false,false,false,false,false,false,false,false,false,false,false,false,false,false,false,false,false,false,false,false,false,false,false,false,false,false,false,false,false,false,false,false,false,false,false,false,false,false,false,false,false,false,false,false,false,false,false,false,false,false,false,false,false,false,false,false,false,false,false,false,{"$f":"ROUND(EI442,0)=0","v":false},false,false,false,false,false,false,false,false,false,false,false,false,false,false,false,false,false]
[null,null,null,null,null,null,null,null,null,null,null,null,null,null,null,null,null,null,null,null,null,null,null,null,null,null,null,null,null,null,null,null,null,null,null,null,null,null,null,null,null,null,null,null,null,null,null,null,null,null,null,null,null,null,null,null,{"$f":"BE442-BD442","v":-359.73762681419612}]
["Outputs"]
[null,"CFADS",null,null,null,null,null,null,null,{"$f":"J411","v":0},0,0,0,0,0,0,0,0,0,0,0,0,0,0,0,0,0,0,0,0,0,0,0,0,0,0,0,0,0,0,0,{"$f":"AP411","v":0},0,0,0,0,5565.1840271663941,5736.7954714120624,5676.4877077097226,5851.5313808403025,5790.0174618639167,5968.5620084571083,5946.5292567118922,6087.933248626252,6023.9341673232211,6209.6919135987755,6144.4128506696843,6333.8857518707518,6267.3011076830808,6460.5634669081692,6436.7145078458507,6589.7747362463333,6520.5000724334768,6569.7827464988104,6450.8856010034178,6605.3502426539262,6540.1150016872425,6697.1503060374225,6667.7644454324436,6819.8353289301476,6750.8923127600146,6913.1816511130555,6842.2398162599475,{"$f":"BV411","v":7007.1419638949283},6934.1350223324534,7101.6753712375676,7067.3238383899707,7196.5747231523483,7119.2254112727223,7292.1122497081369,7212.4837779776062,7388.0808039225376,7306.0965149637595,7484.4262054302899,7444.158181447764,7580.9138945182794,7493.972768853766,7677.8277692832689,7588.2831283525747,7774.9323774899703,7682.6954525626425,7872.1573662900246,7824.9271583506143,7969.2366376018117,7871.3313591604392,8066.4647708387474,7965.5801979514736,8163.5736440198507,8059.6068505206222,8260.4732812439215,8232.4770253420211,8412.1541891238576,8330.8327691513514,8566.8687151615886,8483.9208667897328,{"$f":"DB411","v":8724.6775317202755},0,0,0,0,0,0,0,0,0,0,0,0,0,0,0,0,0,0,0,0,0,0,0,0,0,0,0,0,0,0,0,{"$f":"EH411","v":0},0,0,0,0,0,0,0,0,0,0,0,0,0,0,0,0,0,0]
[null,"Debt Service",null,null,null,null,null,null,null,{"$f":"J412+J413","v":0},{"$f":"K412+K413","v":0},0,0,0,0,0,0,0,0,0,0,0,0,0,0,0,0,0,0,0,0,0,0,0,{"$f":"AI412+AI413","v":0},0,0,0,0,0,0,0,0,0,0,0,3597.6759228992451,3716.7745664299191,3669.6294413572296,3791.1100577585166,3743.0220301843747,3866.9322589136864,3847.0583620323887,3944.2709040919617,3894.2401202038254,4023.1563221737993,3972.1249226079008,4103.6194486172772,4051.5674210600596,4185.691837589623,4164.1796924607825,4269.4056743414158,4215.2507448708875,4354.7937878282446,4299.5557597683037,4441.8896635848096,4385.5468749636721,4530.7274568565063,4507.4420191384625,4621.3420059936379,4562.7229687122053,4713.7688461135112,4653.9774280864485,4808.0442230357803,4747.0569766481794,4904.2051074964984,4879.0002008508081,5002.2892096464275,4938.8380785047675,5102.3349938393567,5037.6148400748625,5204.3816937161446,5138.3671368763607,5308.4693275904683,5281.1867260473773,5414.6387141422783,5345.9571692061672,5522.9314884251235,5452.8763125902897,5633.3901181936271,5561.9338388420974,5746.0579205574995,5716.5263552387933,5860.9790789686504,5786.6359659313166,5978.1986605480233,5902.368685249945,6097.7626337589845,{"$f":"CU412+CU413","v":6020.4160589549447},0,0,0,0,0,0,0,0,0,0,0,0,0,0,0,0,0,0,0,0,0,0,0,0,0,0,0,0,0,0,0,0,0,0,0,0,0,0,0,0,0,0,0,0,0,0,0,0,0,0,0,0,0,0,0,0,0]
[null,null,"DSCR",null,null,null,null,null,null,{"$f":"IF(J447>0.1,J446/J447)","v":false},{"$f":"IF(K447>0.1,K446/K447)","v":false},false,false,false,false,false,false,false,false,false,false,false,false,false,false,false,false,false,false,false,false,false,false,false,{"$f":"IF(AI447>0.1,AI446/AI447)","v":false},false,false,false,false,false,false,false,false,false,false,false,1.5468830840887973,1.5434876043403509,1.5468830840887975,1.5434876043403509,1.5468830840887973,1.5434876043403511,1.5457340900776873,1.5434876043403509,1.546883084088797,1.5434876043403511,1.5468830840887973,1.5434876043403507,1.5468830840887975,1.5434876043403511,1.5457340900776873,1.5434876043403511,1.5468830840887968,1.5086323409529778,1.5003609585356432,1.4870586040903826,1.4912883588187431,1.4781622531504062,1.4792790272445697,1.4757261678718387,1.4795753235628513,1.4665932668321133,1.4701918782346213,1.4573788507025516,1.4607229398010164,1.4480787845479888,1.4485188660491466,1.4386562674693928,1.4414777925718243,1.4291715966342378,1.4317259272386977,1.419588577225807,1.4218712521591388,1.4099028822735038,1.4095616321862623,1.4000775111214703,1.4018018722672561,1.3901725533576408,1.3916110862136719,1.3801515986581521,1.3812993241505462,1.3700100965091289,1.3688255195709227,1.3597108145631103,1.3602603318236568,1.3493136024521628,1.3495565293739624,1.3387818015125641,{"$f":"IF(CU447>0.1,CU446/CU447)","v":1.3387126025173168},false,false,false,false,false,false,false,false,false,false,false,false,false,false,false,false,false,false,false,false,false,false,false,false,false,false,false,false,false,false,false,false,false,false,false,false,false,false,false,false,false,false,false,false,false,false,false,false,false,false,false,false,false,false,false,false,false]
[]
[null,"Equity Cash Flow",null,null,null,null,null,null,{"$f":"-0.01","v":-0.01},{"$f":"J421-J270+J247","v":4193.0779908922559},-666.29049763413275,-768.12130935146183,-875.57107165583693,-986.63871881812099,-1098.9101157536911,-1209.6302511015126,-1315.806271130971,-1414.3369498071654,-1502.1613451713504,-1576.4169973200926,-1634.5963943494733,-1674.689816487605,-1695.3032036213531,-1695.7413810752071,-1676.0496836570626,-1637.0104695948523,-1580.0948474807631,-1507.373734002588,-1421.3957063851929,-1325.0416587928214,-1221.3677686702022,-1113.4486129245786,-1004.2314734101423,-896.41109597307832,-792.33167896762927,-693.91998804251784,-602.65056103474762,-519.5412875603771,-445.17546532809644,-379.74490530775205,-323.10784186725243,{"$f":"AP421-AP270+AP247","v":-274.85527426899523},-234.37982309206797,-200.94208181084593,-173.73061063431092,-3597.6759228992451,1848.409460736475,2067.1660300548328,1885.377649951206,2108.5093506559278,1923.0852029502303,2121.5036464247196,2002.2583526199305,2193.6931284224265,2000.7778451494219,2237.5669909908747,2040.7934020524071,2282.3183308106923,2081.6092700934578,2296.3837744473867,2167.3088335044349,2374.5239913754458,2165.7062846052322,2270.2269867305067,2008.9959374186083,2219.8033676902537,2009.3875448307363,2189.7082868989601,2046.4224394388052,2257.1123602179423,2037.1234666465034,2259.2042230266075,2034.1955932241672,{"$f":"BV421-BV270+BV247","v":2260.0849872467488},2029.9299148359551,2222.675170386759,2065.0346287435432,2257.7366446475803,2016.8904174333657,2254.4974096332744,2008.1020842614616,2249.7136670461769,1997.6271873732912,2203.2394793829126,2029.5194673054857,2234.9567253121118,1971.041280428642,2224.9514566929793,1954.8930101589476,2212.9985386478738,1936.6375320051429,2155.6310110512313,1963.9480793819639,2182.6006716704951,1893.1326986124159,2164.0960855888025,1867.817564192489,2143.157585064906,8059.6068505206222,8260.4732812439215,8232.4770253420211,8412.1541891238576,8330.8327691513514,8566.8687151615886,8483.9208667897328,{"$f":"DB421-DB270+DB247","v":8724.6775317202755},0,0,0,0,0,0,0,0,0,0,0,-6.4788837967753079E-5,0,0,0,0,0,0,0,0,0,0,0,0,0,0,0,0,0,0,0,{"$f":"EH421-EH270+EH247","v":0},0,0,0,0,0,0,0,0,0,0,0,0,0,0,0,0,0,0]
[null,"Equity IRR",null,null,null,{"$f":"XIRR(I450:EZ450,I5:EZ5)","v":0.10332065224647521}]
[]
[null,"NPV at Target IRR",null,null,null,{"$f":"F28","v":0.11},{"$f":"XNPV(F453,I450:EZ450,I5:EZ5)","v":-2076.0093539789937},"npv equity"]
[]
[null,"CFADS Check",null,null,null,null,null,null,null,{"$f":"J409-J410-J411","v":0},0,0,0,0,0,0,0,0,0,0,0,0,0,0,0,0,0,0,0,0,0,0,0,0,0,0,0,0,0,0,0,{"$f":"AP409-AP410-AP411","v":0},0,0,0,0,0,0,0,0,0,0,0,0,0,0,0,0,0,0,0,0,0,0,0,0,0,0,0,0,0,0,0,{"$f":"BV409-BV410-BV411","v":0},0,0,0,0,0,0,0,0,0,0,0,0,0,0,0,0,0,0,0,0,0,0,0,0,0,0,0,0,0,0,0,{"$f":"DB409-DB410-DB411","v":0},0,0,0,0,0,0,0,0,0,0,0,0,0,0,0,0,0,0,0,0,0,0,0,0,0,0,0,0,0,0,0,{"$f":"EH409-EH410-EH411","v":0},0,0,0,0,0,0,0,0,0,0,0,0,0,0,0,0,0,0]
[null,"CFADS Computed",null,null,null,null,null,null,null,{"$f":"J411","v":0},0,0,0,0,0,0,0,0,0,0,0,0,0,0,0,0,0,0,0,0,0,0,0,0,0,0,0,0,0,0,0,{"$f":"AP411","v":0},0,0,0,0,5565.1840271663941,5736.7954714120624,5676.4877077097226,5851.5313808403025,5790.0174618639167,5968.5620084571083,5946.5292567118922,6087.933248626252,6023.9341673232211,6209.6919135987755,6144.4128506696843,6333.8857518707518,6267.3011076830808,6460.5634669081692,6436.7145078458507,6589.7747362463333,6520.5000724334768,6569.7827464988104,6450.8856010034178,6605.3502426539262,6540.1150016872425,6697.1503060374225,6667.7644454324436,6819.8353289301476,6750.8923127600146,6913.1816511130555,6842.2398162599475,{"$f":"BV411","v":7007.1419638949283},6934.1350223324534,7101.6753712375676,7067.3238383899707,7196.5747231523483,7119.2254112727223,7292.1122497081369,7212.4837779776062,7388.0808039225376,7306.0965149637595,7484.4262054302899,7444.158181447764,7580.9138945182794,7493.972768853766,7677.8277692832689,7588.2831283525747,7774.9323774899703,7682.6954525626425,7872.1573662900246,7824.9271583506143,7969.2366376018117,7871.3313591604392,8066.4647708387474,7965.5801979514736,8163.5736440198507,8059.6068505206222,8260.4732812439215,8232.4770253420211,8412.1541891238576,8330.8327691513514,8566.8687151615886,8483.9208667897328,{"$f":"DB411","v":8724.6775317202755},0,0,0,0,0,0,0,0,0,0,0,0,0,0,0,0,0,0,0,0,0,0,0,0,0,0,0,0,0,0,0,{"$f":"EH411","v":0},0,0,0,0,0,0,0,0,0,0,0,0,0,0,0,0,0,0]
[null,"CFADS UDF",null,null,null,null,null,null,null,{"$f":"'Parallel Model P50'!J253","v":0},{"$f":"'Parallel Model P50'!K253","v":0},{"$f":"'Parallel Model P50'!L253","v":0},{"$f":"'Parallel Model P50'!M253","v":0},{"$f":"'Parallel Model P50'!N253","v":0},{"$f":"'Parallel Model P50'!O253","v":0},{"$f":"'Parallel Model P50'!P253","v":0},{"$f":"'Parallel Model P50'!Q253","v":0},{"$f":"'Parallel Model P50'!R253","v":0},{"$f":"'Parallel Model P50'!S253","v":0},{"$f":"'Parallel Model P50'!T253","v":0},{"$f":"'Parallel Model P50'!U253","v":0},{"$f":"'Parallel Model P50'!V253","v":0},{"$f":"'Parallel Model P50'!W253","v":0},{"$f":"'Parallel Model P50'!X253","v":0},{"$f":"'Parallel Model P50'!Y253","v":0},{"$f":"'Parallel Model P50'!Z253","v":0},{"$f":"'Parallel Model P50'!AA253","v":0},{"$f":"'Parallel Model P50'!AB253","v":0},{"$f":"'Parallel Model P50'!AC253","v":0},{"$f":"'Parallel Model P50'!AD253","v":0},{"$f":"'Parallel Model P50'!AE253","v":0},{"$f":"'Parallel Model P50'!AF253","v":0},{"$f":"'Parallel Model P50'!AG253","v":0},{"$f":"'Parallel Model P50'!AH253","v":0},{"$f":"'Parallel Model P50'!AI253","v":0},{"$f":"'Parallel Model P50'!AJ253","v":0},{"$f":"'Parallel Model P50'!AK253","v":0},{"$f":"'Parallel Model P50'!AL253","v":0},{"$f":"'Parallel Model P50'!AM253","v":0},{"$f":"'Parallel Model P50'!AN253","v":0},{"$f":"'Parallel Model P50'!AO253","v":0},{"$f":"'Parallel Model P50'!AP253","v":0},{"$f":"'Parallel Model P50'!AQ253","v":0},{"$f":"'Parallel Model P50'!AR253","v":0},{"$f":"'Parallel Model P50'!AS253","v":0},{"$f":"'Parallel Model P50'!AT253","v":0},{"$f":"'Parallel Model P50'!AU253","v":5565.1840271663941},{"$f":"'Parallel Model P50'!AV253","v":5736.7954714120624},{"$f":"'Parallel Model P50'!AW253","v":5676.4877077097226},{"$f":"'Parallel Model P50'!AX253","v":5851.5313808403025},{"$f":"'Parallel Model P50'!AY253","v":5790.0174618639167},{"$f":"'Parallel Model P50'!AZ253","v":5968.5620084571083},{"$f":"'Parallel Model P50'!BA253","v":5946.5292567118922},{"$f":"'Parallel Model P50'!BB253","v":6087.933248626252},{"$f":"'Parallel Model P50'!BC253","v":6023.9341673232211},{"$f":"'Parallel Model P50'!BD253","v":6209.6919135987755},{"$f":"'Parallel Model P50'!BE253","v":6144.4128506696843},{"$f":"'Parallel Model P50'!BF253","v":6333.8857518707518},{"$f":"'Parallel Model P50'!BG253","v":6267.3011076830808},{"$f":"'Parallel Model P50'!BH253","v":6460.5634669081692},{"$f":"'Parallel Model P50'!BI253","v":6436.7145078458507},{"$f":"'Parallel Model P50'!BJ253","v":6589.7747362463333},{"$f":"'Parallel Model P50'!BK253","v":6520.5000724334768},{"$f":"'Parallel Model P50'!BL253","v":6721.5702309712624},{"$f":"'Parallel Model P50'!BM253","v":6650.9100738821444},{"$f":"'Parallel Model P50'!BN253","v":6856.0016355906855},{"$f":"'Parallel Model P50'!BO253","v":6783.9282753597909},{"$f":"'Parallel Model P50'!BP253","v":6934.5209313250061},{"$f":"'Parallel Model P50'!BQ253","v":6697.6638331760014},{"$f":"'Parallel Model P50'!BR253","v":6849.8352797779435},{"$f":"'Parallel Model P50'!BS253","v":6779.4219949624339},{"$f":"'Parallel Model P50'!BT253","v":6940.1816958047066},{"$f":"'Parallel Model P50'!BU253","v":6867.8190650157567},{"$f":"'Parallel Model P50'!BV253","v":7031.2432844408286},{"$f":"'Parallel Model P50'!BW253","v":6956.8729602910234},{"$f":"'Parallel Model P50'!BX253","v":7122.9952848769681},{"$f":"'Parallel Model P50'!BY253","v":7087.3463061955918},{"$f":"'Parallel Model P50'!BZ253","v":7215.277798453767},{"$f":"'Parallel Model P50'!CA253","v":7136.7071818142467},{"$f":"'Parallel Model P50'!CB253","v":7308.3239126160033},{"$f":"'Parallel Model P50'!CC253","v":7227.5590677335103},{"$f":"'Parallel Model P50'!CD253","v":7401.9742726389741},{"$f":"'Parallel Model P50'!CE253","v":7318.9490298867458},{"$f":"'Parallel Model P50'!CF253","v":7496.1959981276586},{"$f":"'Parallel Model P50'!CG253","v":7454.9936586501999},{"$f":"'Parallel Model P50'!CH253","v":7590.8097136365595},{"$f":"'Parallel Model P50'!CI253","v":7503.0540545554213},{"$f":"'Parallel Model P50'!CJ253","v":7686.0611992398772},{"$f":"'Parallel Model P50'!CK253","v":7595.8335310011953},{"$f":"'Parallel Model P50'!CL253","v":7781.7712096481109},{"$f":"'Parallel Model P50'!CM253","v":7688.996440715031},{"$f":"'Parallel Model P50'!CN253","v":7877.8971577659386},{"$f":"'Parallel Model P50'!CO253","v":7830.2888795437211},{"$f":"'Parallel Model P50'!CP253","v":7974.2376352086358},{"$f":"'Parallel Model P50'!CQ253","v":7876.1308618948224},{"$f":"'Parallel Model P50'!CR253","v":8071.0511763061804},{"$f":"'Parallel Model P50'!CS253","v":7970.1570828980275},{"$f":"'Parallel Model P50'!CT253","v":8168.1359856954668},{"$f":"'Parallel Model P50'!CU253","v":8064.3692997461976},{"$f":"'Parallel Model P50'!CV253","v":8265.4379130573579},{"$f":"'Parallel Model P50'!CW253","v":8237.4416571604215},{"$f":"'Parallel Model P50'!CX253","v":8417.1188209473239},{"$f":"'Parallel Model P50'!CY253","v":8335.7974009799909},{"$f":"'Parallel Model P50'!CZ253","v":8571.8333469955105},{"$f":"'Parallel Model P50'!DA253","v":8488.8854986290462},{"$f":"'Parallel Model P50'!DB253","v":8729.642163565095},{"$f":"'Parallel Model P50'!DC253","v":0},{"$f":"'Parallel Model P50'!DD253","v":0},{"$f":"'Parallel Model P50'!DE253","v":0},{"$f":"'Parallel Model P50'!DF253","v":0},{"$f":"'Parallel Model P50'!DG253","v":0},{"$f":"'Parallel Model P50'!DH253","v":0},{"$f":"'Parallel Model P50'!DI253","v":0},{"$f":"'Parallel Model P50'!DJ253","v":0},{"$f":"'Parallel Model P50'!DK253","v":0},{"$f":"'Parallel Model P50'!DL253","v":0},{"$f":"'Parallel Model P50'!DM253","v":0},{"$f":"'Parallel Model P50'!DN253","v":0},{"$f":"'Parallel Model P50'!DO253","v":0},{"$f":"'Parallel Model P50'!DP253","v":0},{"$f":"'Parallel Model P50'!DQ253","v":0},{"$f":"'Parallel Model P50'!DR253","v":0},{"$f":"'Parallel Model P50'!DS253","v":0},{"$f":"'Parallel Model P50'!DT253","v":0},{"$f":"'Parallel Model P50'!DU253","v":0},{"$f":"'Parallel Model P50'!DV253","v":0},{"$f":"'Parallel Model P50'!DW253","v":0},{"$f":"'Parallel Model P50'!DX253","v":0},{"$f":"'Parallel Model P50'!DY253","v":0},{"$f":"'Parallel Model P50'!DZ253","v":0},{"$f":"'Parallel Model P50'!EA253","v":0},{"$f":"'Parallel Model P50'!EB253","v":0},{"$f":"'Parallel Model P50'!EC253","v":0},{"$f":"'Parallel Model P50'!ED253","v":0},{"$f":"'Parallel Model P50'!EE253","v":0},{"$f":"'Parallel Model P50'!EF253","v":0},{"$f":"'Parallel Model P50'!EG253","v":0},{"$f":"'Parallel Model P50'!EH253","v":0},{"$f":"'Parallel Model P50'!EI253","v":0},{"$f":"'Parallel Model P50'!EJ253","v":0},{"$f":"'Parallel Model P50'!EK253","v":0},{"$f":"'Parallel Model P50'!EL253","v":0},{"$f":"'Parallel Model P50'!EM253","v":0},{"$f":"'Parallel Model P50'!EN253","v":0},{"$f":"'Parallel Model P50'!EO253","v":0},{"$f":"'Parallel Model P50'!EP253","v":0},{"$f":"'Parallel Model P50'!EQ253","v":0},{"$f":"'Parallel Model P50'!ER253","v":0},{"$f":"'Parallel Model P50'!ES253","v":0},{"$f":"'Parallel Model P50'!ET253","v":0},{"$f":"'Parallel Model P50'!EU253","v":0},{"$f":"'Parallel Model P50'!EV253","v":0},{"$f":"'Parallel Model P50'!EW253","v":0},{"$f":"'Parallel Model P50'!EX253","v":0},{"$f":"'Parallel Model P50'!EY253","v":0},{"$f":"'Parallel Model P50'!EZ253","v":0}]
[null,null,"Difference",null,null,null,null,null,null,{"$f":"J456-J457","v":0},{"$f":"K456-K457","v":0},0,0,0,0,0,0,0,0,0,0,0,0,0,0,0,0,0,0,0,0,0,0,0,0,0,0,0,0,0,0,0,0,0,0,0,0,0,0,0,0,0,0,0,0,0,0,0,0,0,0,0,0,-151.78748447245198,-200.02447287872656,-250.65139293675929,-243.81327367254835,-237.37062528758361,-29.899387743557782,-29.999950847795844,-28.529682202419281,-27.000044691651055,-25.579248755809203,-24.101320545900307,{"$f":"BW456-BW457","v":-22.737937958570001},-21.319913639400511,-20.022467805621091,-18.703075301418721,-17.481770541524384,-16.211662907866412,-15.075289755904123,-13.893468716436473,-12.852514922986302,-11.769792697368757,-10.835477202435868,-9.8958191182800874,-9.0812857016553608,-8.2334299566082336,-7.5504026486205476,-6.8388321581405762,-6.3009881523885269,-5.7397914759139894,-5.3617211931068596,-5.0009976068240576,-4.799502734383168,-4.5864054674329964,-4.5768849465539461,-4.5623416756161532,-4.7624492255754376,-4.9646318134364265,-4.9646318184004485,-4.964631823466334,-4.9646318286395399,-4.9646318339218851,-4.9646318393133697,-4.9646318448194506,0,0,0,0,0,0,0,0,0,0,0,0,0,0,0,0,0,0,0,0,0,0,0,0,0,0,0,0,0,0,0,0,{"$f":"EI456-EI457","v":0},0,0,0,0,0,0,0,0,0,0,0,0,0,0,0,0,0]
[]
[null,"Total Draws",null,null,null,null,null,null,null,{"$f":"J289+J166-J169-J170-J171","v":9181.2518172247637},2567.579471924993,2959.9889430239537,3374.051285103797,3802.0553041637859,4234.6980254387963,4661.3628925759622,5070.5168132852305,5450.2090778787306,5788.6442131117838,6074.7916049904015,6298.9884471066125,6453.4901967287688,6532.9247824528429,6534.6133183685888,6458.7305041340851,6308.291191278603,6088.964360878238,5808.7303806472628,5477.4103039976881,5106.1057821509658,4706.5939280893563,4290.7227579258388,3869.8497507384864,3454.3592270921108,3053.2846575132244,2674.0509174044278,2322.3402025861797,2002.0749950571828,1715.5030579600482,1463.3635432268784,1245.1101508157619,{"$f":"AP289+AP166-AP169-AP170-AP171","v":1059.1667785586526},903.19286338532459,774.33907002333672,669.4784798725899,0,0,0,0,0,0,0,0,0,0,0,0,0,0,0,0,0,0,0,0,0,0,0,0,0,0,0,0,{"$f":"BV289+BV166-BV169-BV170-BV171","v":0},0,0,0,0,0,0,0,0,0,0,0,0,0,0,0,0,0,0,0,0,0,0,0,0,0,0,0,0,0,0,0,{"$f":"DB289+DB166-DB169-DB170-DB171","v":0},0,0,0,0,0,0,0,0,0,0,0,-6.4788837967753079E-5,0,0,0,0,0,0,0,0,0,0,0,0,0,0,0,0,0,0,0,{"$f":"EH289+EH166-EH169-EH170-EH171","v":0},0,0,0,0,0,0,0,0,0,0,0,0,0,0,0,0,0,0]
[null,"Total Fees",null,null,null,null,null,null,null,{"$f":"J300+J303","v":2350.249793777331},116.04631438620734,113.90666482626983,111.44000737374986,108.6282979694967,105.45991854936021,101.93100352816121,98.04653445101458,93.821103773276889,89.279262875044623,84.455392697451458,79.393066359959448,74.143909320703955,68.766000823429977,63.321896838052602,57.876385739412115,52.494110319300368,47.237200993234865,42.163064025836334,37.322455375296947,32.757946788632204,28.50285863683974,24.580697030098612,21.005094731827086,17.780219939545013,14.901587250301588,12.357183369040577,10.128807604536876,8.1935241023817316,6.5251282731674056,5.0955423915340363,3.8760727721783046,{"$f":"AP300+AP303","v":2.8384809798318265},1.9558419976996084,1.2031812782118263,0.55789871985905248,0,0,0,0,0,0,0,0,0,0,0,0,0,0,0,0,0,0,0,0,0,0,0,0,0,0,0,0,{"$f":"BV300+BV303","v":0},0,0,0,0,0,0,0,0,0,0,0,0,0,0,0,0,0,0,0,0,0,0,0,0,0,0,0,0,0,0,0,{"$f":"DB300+DB303","v":0},0,0,0,0,0,0,0,0,0,0,0,0,0,0,0,0,0,0,0,0,0,0,0,0,0,0,0,0,0,0,0,{"$f":"EH300+EH303","v":0},0,0,0,0,0,0,0,0,0,0,0,0,0,0,0,0,0,0]
[null,"Total Interest  and IDC",null,null,null,null,null,null,null,{"$f":"J364+J365","v":0},24.483338179266035,31.330216771066016,39.2235206191299,48.220990712740019,58.359804857176783,69.652332925013582,82.082633971882814,95.604012140643434,110.13790301498672,125.57428758328481,141.77373186325923,158.57103438887685,175.78034158015356,193.20147433336115,210.62710984901071,227.85039119336827,244.6725010367779,260.90973933245317,276.39968701417922,291.00611449150637,304.62239657724228,317.17331371881392,328.61524107328279,338.93484040858539,348.14646501416439,356.28855743419962,363.41935988061147,369.61226708750792,374.95113374099373,379.5258085622205,383.42811134415888,{"$f":"AP364+AP365","v":386.74840507966758},389.5728498224907,391.98136412485161,394.04626831158049,2560.535301918339,2604.7045358764303,2587.5757794502865,2568.0971003748882,2549.0956674929425,2527.6709192608614,2506.706112597431,2483.2422115734757,2637.956700585165,2613.7898878202891,2590.101558521194,2563.5900453936206,2537.5321501651561,2508.5595351437919,2480.0138892543405,2448.4588472101382,2580.0097691117171,2546.6441999834306,2513.6892207219034,2477.3274055215529,2441.3383955251797,2401.8275079810019,2362.6490504830945,2319.8295019572192,2420.7142911190222,2374.5011091066553,2328.5484500549387,2278.4588217377086,{"$f":"BV364+BV365","v":2228.5729310043853},2174.4040338717259,2120.3783220734208,2061.9179595795358,2002.7592325128394,1939.769102993034,1876.7886545072877,1809.0521813813141,1741.2523655487496,1668.5266496572342,1595.6599994256323,1517.6910035341709,1438.6575933613935,1355.1619898249951,1271.3552910579904,1182.0721909132806,1092.3853043580634,997.02420326751667,901.16110092045051,799.41826770807256,696.15899786992736,587.69777616685417,478.52007418180045,363.02682386810977,246.70064477909125,123.82834301051351,9.756804702192311E-7,9.9616976009383503E-7,1.0170893250558056E-6,1.0384482008819773E-6,1.0602556131004988E-6,1.0825209809756093E-6,{"$f":"DB364+DB365","v":1.1052539215760972E-6},1.1284642539291953E-6,1.1521620032617085E-6,1.1763574053302042E-6,1.2010609108421385E-6,1.2262831899698234E-6,1.2520351369591897E-6,1.2783278748353327E-6,1.3051727602068748E-6,1.332581388171219E-6,0,0,0,0,0,0,0,0,0,0,0,0,0,0,0,0,0,0,0,0,0,0,{"$f":"EH364+EH365","v":0},0,0,0,0,0,0,0,0,0,0,0,0,0,0,0,0,0,0]
[null,"Total Repayments",null,null,null,null,null,null,null,{"$f":"J366","v":0},0,0,0,0,0,0,0,0,0,0,0,0,0,0,0,0,0,0,0,0,0,0,0,0,0,0,0,0,0,0,0,{"$f":"AP366","v":0},0,0,0,-2560.535301918339,992.97138702281472,1129.1987869796326,1101.5323409823413,1242.0143902655741,1215.3511109235133,1360.2261463162554,1363.8161504589129,1306.3142035067967,1280.4502323835363,1433.0547636526053,1408.5348772142802,1566.0872984521211,1543.0078859162677,1705.6779483352825,1715.7208452506443,1689.3959052296987,1668.6065448874569,1841.1045671063412,1822.2283542467508,2000.5512680596298,1983.7193669826702,2168.0784063734118,2187.6125171812432,2200.6277148746158,2188.22185960555,2385.2203960585725,2375.5186063487399,{"$f":"BV366","v":2579.471292031395},2572.6529427764535,2783.8267854230776,2817.0822412712723,2999.5299771335881,2999.0689755117337,3225.5463393320688,3228.5626586935487,3463.1293281673952,3469.8404872191268,3712.8093281648362,3763.4957225132066,3975.9811207808848,3990.7951793811721,4251.5761973671333,4270.8041216770089,4541.0048138355633,4564.9096355745805,4844.8968196370488,4917.1080875307207,5164.8200810987228,5198.9381897644625,5499.6785863662226,5539.3418613818349,5851.0619889798936,5896.5877159444308,-9.756804702192311E-7,-9.9616976009383503E-7,-1.0170893250558056E-6,-1.0384482008819773E-6,-1.0602556131004988E-6,-1.0825209809756093E-6,{"$f":"DB366","v":-1.1052539215760972E-6},-1.1284642539291953E-6,-1.1521620032617085E-6,-1.1763574053302042E-6,-1.2010609108421385E-6,-1.2262831899698234E-6,-1.2520351369591897E-6,-1.2783278748353327E-6,-1.3051727602068748E-6,-1.332581388171219E-6,0,0,0,0,0,0,0,0,0,0,0,0,0,0,0,0,0,0,0,0,0,0,{"$f":"EH366","v":0},0,0,0,0,0,0,0,0,0,0,0,0,0,0,0,0,0,0]
[null,null,"Total",null,{"$f":"XIRR(I464:EZ464,I5:EZ5)","v":3.9915308356285109E-2},null,null,null,{"$f":"-0.0000001","v":-9.9999999999999995E-8},{"$f":"J461+J462+J463-J460","v":-6831.0020234474323},{"$f":"K461+K462+K463-K460","v":-2427.0498193595195},-2814.7520614266177,-3223.3877571109174,-3645.206015481549,-4070.8783020322594,-4489.7795561227877,-4890.3876448623332,-5260.7839619648103,-5589.2270472217524,-5864.7619247096654,-6077.8216488833941,-6220.7752530191883,-6288.3784400492596,-6278.0899471971752,-6190.2270085456621,-6027.946689765934,-5797.0546588482248,-5505.6575772889737,-5163.6881616082119,-4782.341720870827,-4373.468672875274,-3948.9687471769262,-3520.2294149333766,-3097.6441667439803,-2690.2366052487582,-2305.4051766011876,-1948.7920351010314,-1624.2692038672931,-1334.026795945887,-1078.7421922731239,-857.80596669942474,-669.57989249915317,-511.66417156513427,-381.15452462027326,-274.87431284115036,0,3597.6759228992451,3716.7745664299191,3669.6294413572296,3791.1100577585166,3743.0220301843747,3866.9322589136864,3847.0583620323887,3944.2709040919617,3894.2401202038254,4023.1563221737993,3972.1249226079008,4103.6194486172772,4051.5674210600596,4185.691837589623,4164.1796924607825,4269.4056743414158,4215.2507448708875,4354.7937878282446,4299.5557597683037,4441.8896635848096,4385.5468749636721,4530.7274568565063,4507.4420191384625,4621.3420059936379,4562.7229687122053,4713.7688461135112,4653.9774280864485,4808.0442230357803,{"$f":"BW461+BW462+BW463-BW460","v":4747.0569766481794},4904.2051074964984,4879.0002008508081,5002.2892096464275,4938.8380785047675,5102.3349938393567,5037.6148400748625,5204.3816937161446,5138.3671368763607,5308.4693275904683,5281.1867260473773,5414.6387141422783,5345.9571692061672,5522.9314884251235,5452.8763125902897,5633.3901181936271,5561.9338388420974,5746.0579205574995,5716.5263552387933,5860.9790789686504,5786.6359659313166,5978.1986605480233,5902.368685249945,6097.7626337589845,6020.4160589549447,0,0,0,0,0,0,0,0,0,0,0,0,0,0,0,0,0,0,6.4788837967753079E-5,0,0,0,0,0,0,0,0,0,0,0,0,0,0,0,0,0,0,0,0,{"$f":"EI461+EI462+EI463-EI460","v":0},0,0,0,0,0,0,0,0,0,0,0,0,0,0,0,0,0]
[]
["Graphs",null,null,null,null,null,null,null,null,{"$f":"IF(J8,J5,NA())","v":{"$error":"#N/A"}},{"$error":"#N/A"},{"$error":"#N/A"},{"$error":"#N/A"},{"$error":"#N/A"},{"$error":"#N/A"},{"$error":"#N/A"},{"$error":"#N/A"},{"$error":"#N/A"},{"$error":"#N/A"},{"$error":"#N/A"},{"$error":"#N/A"},{"$error":"#N/A"},{"$error":"#N/A"},{"$error":"#N/A"},{"$error":"#N/A"},{"$error":"#N/A"},{"$error":"#N/A"},{"$error":"#N/A"},{"$error":"#N/A"},{"$error":"#N/A"},{"$error":"#N/A"},{"$error":"#N/A"},{"$error":"#N/A"},{"$error":"#N/A"},{"$error":"#N/A"},{"$error":"#N/A"},{"$error":"#N/A"},{"$error":"#N/A"},{"$error":"#N/A"},{"$error":"#N/A"},{"$error":"#N/A"},{"$f":"IF(AP8,AP5,NA())","v":{"$error":"#N/A"}},{"$error":"#N/A"},{"$error":"#N/A"},{"$error":"#N/A"},"2022-06-30","2022-12-31","2023-06-30","2023-12-31","2024-06-30","2024-12-31","2025-06-30","2025-12-31","2026-06-30","2026-12-31","2027-06-30","2027-12-31","2028-06-30","2028-12-31","2029-06-30","2029-12-31","2030-06-30","2030-12-31","2031-06-30","2031-12-31","2032-06-30","2032-12-31","2033-06-30","2033-12-31","2034-06-30","2034-12-31","2035-06-30","2035-12-31",{"$f":"IF(BV8,BV5,NA())","v":"2036-06-30"},"2036-12-31","2037-06-30","2037-12-31","2038-06-30","2038-12-31","2039-06-30","2039-12-31","2040-06-30","2040-12-31","2041-06-30","2041-12-31","2042-06-30","2042-12-31","2043-06-30","2043-12-31","2044-06-30","2044-12-31","2045-06-30","2045-12-31","2046-06-30","2046-12-31","2047-06-30","2047-12-31","2048-06-30","2048-12-31","2049-06-30","2049-12-31","2050-06-30","2050-12-31","2051-06-30","2051-12-31",{"$f":"IF(DB8,DB5,NA())","v":"2052-06-30"},"2052-12-31","2053-06-30","2053-12-31","2054-06-30","2054-12-31","2055-06-30","2055-12-31","2056-06-30","2056-12-31",{"$error":"#N/A"},{"$error":"#N/A"},{"$error":"#N/A"},{"$error":"#N/A"},{"$error":"#N/A"},{"$error":"#N/A"},{"$error":"#N/A"},{"$error":"#N/A"},{"$error":"#N/A"},{"$error":"#N/A"},{"$error":"#N/A"},{"$error":"#N/A"},{"$error":"#N/A"},{"$error":"#N/A"},{"$error":"#N/A"},{"$error":"#N/A"},{"$error":"#N/A"},{"$error":"#N/A"},{"$error":"#N/A"},{"$error":"#N/A"},{"$error":"#N/A"},{"$error":"#N/A"},{"$f":"IF(EH8,EH5,NA())","v":{"$error":"#N/A"}},{"$error":"#N/A"},{"$error":"#N/A"},{"$error":"#N/A"},{"$error":"#N/A"},{"$error":"#N/A"},{"$error":"#N/A"},{"$error":"#N/A"},{"$error":"#N/A"},{"$error":"#N/A"},{"$error":"#N/A"},{"$error":"#N/A"},{"$error":"#N/A"},{"$error":"#N/A"},{"$error":"#N/A"},{"$error":"#N/A"},{"$error":"#N/A"},{"$error":"#N/A"},{"$error":"#N/A"}]
[null,"CFADS",null,null,null,null,null,null,null,{"$f":"IF(J8,J411,NA())","v":{"$error":"#N/A"}},{"$error":"#N/A"},{"$error":"#N/A"},{"$error":"#N/A"},{"$error":"#N/A"},{"$error":"#N/A"},{"$error":"#N/A"},{"$error":"#N/A"},{"$error":"#N/A"},{"$error":"#N/A"},{"$error":"#N/A"},{"$error":"#N/A"},{"$error":"#N/A"},{"$error":"#N/A"},{"$error":"#N/A"},{"$error":"#N/A"},{"$error":"#N/A"},{"$error":"#N/A"},{"$error":"#N/A"},{"$error":"#N/A"},{"$error":"#N/A"},{"$error":"#N/A"},{"$error":"#N/A"},{"$error":"#N/A"},{"$error":"#N/A"},{"$error":"#N/A"},{"$error":"#N/A"},{"$error":"#N/A"},{"$error":"#N/A"},{"$error":"#N/A"},{"$error":"#N/A"},{"$error":"#N/A"},{"$f":"IF(AP8,AP411,NA())","v":{"$error":"#N/A"}},{"$error":"#N/A"},{"$error":"#N/A"},{"$error":"#N/A"},0,5565.1840271663941,5736.7954714120624,5676.4877077097226,5851.5313808403025,5790.0174618639167,5968.5620084571083,5946.5292567118922,6087.933248626252,6023.9341673232211,6209.6919135987755,6144.4128506696843,6333.8857518707518,6267.3011076830808,6460.5634669081692,6436.7145078458507,6589.7747362463333,6520.5000724334768,6569.7827464988104,6450.8856010034178,6605.3502426539262,6540.1150016872425,6697.1503060374225,6667.7644454324436,6819.8353289301476,6750.8923127600146,6913.1816511130555,6842.2398162599475,{"$f":"IF(BV8,BV411,NA())","v":7007.1419638949283},6934.1350223324534,7101.6753712375676,7067.3238383899707,7196.5747231523483,7119.2254112727223,7292.1122497081369,7212.4837779776062,7388.0808039225376,7306.0965149637595,7484.4262054302899,7444.158181447764,7580.9138945182794,7493.972768853766,7677.8277692832689,7588.2831283525747,7774.9323774899703,7682.6954525626425,7872.1573662900246,7824.9271583506143,7969.2366376018117,7871.3313591604392,8066.4647708387474,7965.5801979514736,8163.5736440198507,8059.6068505206222,8260.4732812439215,8232.4770253420211,8412.1541891238576,8330.8327691513514,8566.8687151615886,8483.9208667897328,{"$f":"IF(DB8,DB411,NA())","v":8724.6775317202755},0,0,0,0,0,0,0,0,0,{"$error":"#N/A"},{"$error":"#N/A"},{"$error":"#N/A"},{"$error":"#N/A"},{"$error":"#N/A"},{"$error":"#N/A"},{"$error":"#N/A"},{"$error":"#N/A"},{"$error":"#N/A"},{"$error":"#N/A"},{"$error":"#N/A"},{"$error":"#N/A"},{"$error":"#N/A"},{"$error":"#N/A"},{"$error":"#N/A"},{"$error":"#N/A"},{"$error":"#N/A"},{"$error":"#N/A"},{"$error":"#N/A"},{"$error":"#N/A"},{"$error":"#N/A"},{"$error":"#N/A"},{"$f":"IF(EH8,EH411,NA())","v":{"$error":"#N/A"}},{"$error":"#N/A"},{"$error":"#N/A"},{"$error":"#N/A"},{"$error":"#N/A"},{"$error":"#N/A"},{"$error":"#N/A"},{"$error":"#N/A"},{"$error":"#N/A"},{"$error":"#N/A"},{"$error":"#N/A"},{"$error":"#N/A"},{"$error":"#N/A"},{"$error":"#N/A"},{"$error":"#N/A"},{"$error":"#N/A"},{"$error":"#N/A"},{"$error":"#N/A"},{"$error":"#N/A"}]
[null,"Debt Service",null,null,null,null,null,null,null,{"$f":"IF(J8,J412+J413,NA())","v":{"$error":"#N/A"}},{"$error":"#N/A"},{"$error":"#N/A"},{"$error":"#N/A"},{"$error":"#N/A"},{"$error":"#N/A"},{"$error":"#N/A"},{"$error":"#N/A"},{"$error":"#N/A"},{"$error":"#N/A"},{"$error":"#N/A"},{"$error":"#N/A"},{"$error":"#N/A"},{"$error":"#N/A"},{"$error":"#N/A"},{"$error":"#N/A"},{"$error":"#N/A"},{"$error":"#N/A"},{"$error":"#N/A"},{"$error":"#N/A"},{"$error":"#N/A"},{"$error":"#N/A"},{"$error":"#N/A"},{"$error":"#N/A"},{"$error":"#N/A"},{"$error":"#N/A"},{"$error":"#N/A"},{"$error":"#N/A"},{"$error":"#N/A"},{"$error":"#N/A"},{"$error":"#N/A"},{"$error":"#N/A"},{"$f":"IF(AP8,AP412+AP413,NA())","v":{"$error":"#N/A"}},{"$error":"#N/A"},{"$error":"#N/A"},{"$error":"#N/A"},0,3597.6759228992451,3716.7745664299191,3669.6294413572296,3791.1100577585166,3743.0220301843747,3866.9322589136864,3847.0583620323887,3944.2709040919617,3894.2401202038254,4023.1563221737993,3972.1249226079008,4103.6194486172772,4051.5674210600596,4185.691837589623,4164.1796924607825,4269.4056743414158,4215.2507448708875,4354.7937878282446,4299.5557597683037,4441.8896635848096,4385.5468749636721,4530.7274568565063,4507.4420191384625,4621.3420059936379,4562.7229687122053,4713.7688461135112,4653.9774280864485,{"$f":"IF(BV8,BV412+BV413,NA())","v":4808.0442230357803},4747.0569766481794,4904.2051074964984,4879.0002008508081,5002.2892096464275,4938.8380785047675,5102.3349938393567,5037.6148400748625,5204.3816937161446,5138.3671368763607,5308.4693275904683,5281.1867260473773,5414.6387141422783,5345.9571692061672,5522.9314884251235,5452.8763125902897,5633.3901181936271,5561.9338388420974,5746.0579205574995,5716.5263552387933,5860.9790789686504,5786.6359659313166,5978.1986605480233,5902.368685249945,6097.7626337589845,6020.4160589549447,0,0,0,0,0,0,{"$f":"IF(DB8,DB412+DB413,NA())","v":0},0,0,0,0,0,0,0,0,0,{"$error":"#N/A"},{"$error":"#N/A"},{"$error":"#N/A"},{"$error":"#N/A"},{"$error":"#N/A"},{"$error":"#N/A"},{"$error":"#N/A"},{"$error":"#N/A"},{"$error":"#N/A"},{"$error":"#N/A"},{"$error":"#N/A"},{"$error":"#N/A"},{"$error":"#N/A"},{"$error":"#N/A"},{"$error":"#N/A"},{"$error":"#N/A"},{"$error":"#N/A"},{"$error":"#N/A"},{"$error":"#N/A"},{"$error":"#N/A"},{"$error":"#N/A"},{"$error":"#N/A"},{"$f":"IF(EH8,EH412+EH413,NA())","v":{"$error":"#N/A"}},{"$error":"#N/A"},{"$error":"#N/A"},{"$error":"#N/A"},{"$error":"#N/A"},{"$error":"#N/A"},{"$error":"#N/A"},{"$error":"#N/A"},{"$error":"#N/A"},{"$error":"#N/A"},{"$error":"#N/A"},{"$error":"#N/A"},{"$error":"#N/A"},{"$error":"#N/A"},{"$error":"#N/A"},{"$error":"#N/A"},{"$error":"#N/A"},{"$error":"#N/A"},{"$error":"#N/A"}]

{"sheet":"Parallel Model P50","index":4,"n_rows":1007,"n_cols":156,"rows_kept":1007,"cut":false,"hidden":false,"merged":[]}
["Consistent Time Line from Model"]
[null,"Press CNTL, Alt, F9 to Re-calc",null,null,null,"Instructions",null,null,"Input Check",false,"Eq IRR",{"$f":"I443","v":2.9802322387695314E-9},"Pr IRR",{"$f":"I440","v":5.3269788622856154E-2},"Pre-tax",{"$f":"I439","v":6.3753578066825842E-2}]
[]
["Section 1: Get Time and Operating Inputs for the Parallel Model from Your Financial Model (Get Entire Line and start on line below)",null,null,null,null,null,null,null,null,1,2,3,4,5,6,7,8,9,10,11,12,13,14,15,16,17,18,19,20,21,22,23,24,25,26,27,28,29,30,31,32,33,34,35,36,37,38,39,40,41,42,43,44,45,46,47,48,49,50,51,52,53,54,55,56,57,58,59,60,61,62,63,64,65,66,67,68,69,70,71,72,73,74,75,76,77,78,79,80,81,82,83,84,85,86,87,88,89,90,91,92,93,94,95,96,97,98,99,100,101,102,103,104,105,106,107,108,109,110,111,112,113,114,115,116,117,118,119,120,121,122,123,124,125,126,127,128,129,130,131,132,133,134,135,136,137,138,139,140,141,142,143,144,145,146,147]
[null,"Start of Selection - First Line is Date",null,null,null,null,null,null,null,{"$f":"'Financial Model'!J4","v":"2019-01-01"},{"$f":"'Financial Model'!K4","v":"2019-02-01"},{"$f":"'Financial Model'!L4","v":"2019-03-01"},{"$f":"'Financial Model'!M4","v":"2019-04-01"},{"$f":"'Financial Model'!N4","v":"2019-05-01"},{"$f":"'Financial Model'!O4","v":"2019-06-01"},{"$f":"'Financial Model'!P4","v":"2019-07-01"},{"$f":"'Financial Model'!Q4","v":"2019-08-01"},{"$f":"'Financial Model'!R4","v":"2019-09-01"},{"$f":"'Financial Model'!S4","v":"2019-10-01"},{"$f":"'Financial Model'!T4","v":"2019-11-01"},{"$f":"'Financial Model'!U4","v":"2019-12-01"},{"$f":"'Financial Model'!V4","v":"2020-01-01"},{"$f":"'Financial Model'!W4","v":"2020-02-01"},{"$f":"'Financial Model'!X4","v":"2020-03-01"},{"$f":"'Financial Model'!Y4","v":"2020-04-01"},{"$f":"'Financial Model'!Z4","v":"2020-05-01"},{"$f":"'Financial Model'!AA4","v":"2020-06-01"},{"$f":"'Financial Model'!AB4","v":"2020-07-01"},{"$f":"'Financial Model'!AC4","v":"2020-08-01"},{"$f":"'Financial Model'!AD4","v":"2020-09-01"},{"$f":"'Financial Model'!AE4","v":"2020-10-01"},{"$f":"'Financial Model'!AF4","v":"2020-11-01"},{"$f":"'Financial Model'!AG4","v":"2020-12-01"},{"$f":"'Financial Model'!AH4","v":"2021-01-01"},{"$f":"'Financial Model'!AI4","v":"2021-02-01"},{"$f":"'Financial Model'!AJ4","v":"2021-03-01"},{"$f":"'Financial Model'!AK4","v":"2021-04-01"},{"$f":"'Financial Model'!AL4","v":"2021-05-01"},{"$f":"'Financial Model'!AM4","v":"2021-06-01"},{"$f":"'Financial Model'!AN4","v":"2021-07-01"},{"$f":"'Financial Model'!AO4","v":"2021-08-01"},{"$f":"'Financial Model'!AP4","v":"2021-09-01"},{"$f":"'Financial Model'!AQ4","v":"2021-10-01"},{"$f":"'Financial Model'!AR4","v":"2021-11-01"},{"$f":"'Financial Model'!AS4","v":"2021-12-01"},{"$f":"'Financial Model'!AT4","v":"2022-01-01"},{"$f":"'Financial Model'!AU4","v":"2022-07-01"},{"$f":"'Financial Model'!AV4","v":"2023-01-01"},{"$f":"'Financial Model'!AW4","v":"2023-07-01"},{"$f":"'Financial Model'!AX4","v":"2024-01-01"},{"$f":"'Financial Model'!AY4","v":"2024-07-01"},{"$f":"'Financial Model'!AZ4","v":"2025-01-01"},{"$f":"'Financial Model'!BA4","v":"2025-07-01"},{"$f":"'Financial Model'!BB4","v":"2026-01-01"},{"$f":"'Financial Model'!BC4","v":"2026-07-01"},{"$f":"'Financial Model'!BD4","v":"2027-01-01"},{"$f":"'Financial Model'!BE4","v":"2027-07-01"},{"$f":"'Financial Model'!BF4","v":"2028-01-01"},{"$f":"'Financial Model'!BG4","v":"2028-07-01"},{"$f":"'Financial Model'!BH4","v":"2029-01-01"},{"$f":"'Financial Model'!BI4","v":"2029-07-01"},{"$f":"'Financial Model'!BJ4","v":"2030-01-01"},{"$f":"'Financial Model'!BK4","v":"2030-07-01"},{"$f":"'Financial Model'!BL4","v":"2031-01-01"},{"$f":"'Financial Model'!BM4","v":"2031-07-01"},{"$f":"'Financial Model'!BN4","v":"2032-01-01"},{"$f":"'Financial Model'!BO4","v":"2032-07-01"},{"$f":"'Financial Model'!BP4","v":"2033-01-01"},{"$f":"'Financial Model'!BQ4","v":"2033-07-01"},{"$f":"'Financial Model'!BR4","v":"2034-01-01"},{"$f":"'Financial Model'!BS4","v":"2034-07-01"},{"$f":"'Financial Model'!BT4","v":"2035-01-01"},{"$f":"'Financial Model'!BU4","v":"2035-07-01"},{"$f":"'Financial Model'!BV4","v":"2036-01-01"},{"$f":"'Financial Model'!BW4","v":"2036-07-01"},{"$f":"'Financial Model'!BX4","v":"2037-01-01"},{"$f":"'Financial Model'!BY4","v":"2037-07-01"},{"$f":"'Financial Model'!BZ4","v":"2038-01-01"},{"$f":"'Financial Model'!CA4","v":"2038-07-01"},{"$f":"'Financial Model'!CB4","v":"2039-01-01"},{"$f":"'Financial Model'!CC4","v":"2039-07-01"},{"$f":"'Financial Model'!CD4","v":"2040-01-01"},{"$f":"'Financial Model'!CE4","v":"2040-07-01"},{"$f":"'Financial Model'!CF4","v":"2041-01-01"},{"$f":"'Financial Model'!CG4","v":"2041-07-01"},{"$f":"'Financial Model'!CH4","v":"2042-01-01"},{"$f":"'Financial Model'!CI4","v":"2042-07-01"},{"$f":"'Financial Model'!CJ4","v":"2043-01-01"},{"$f":"'Financial Model'!CK4","v":"2043-07-01"},{"$f":"'Financial Model'!CL4","v":"2044-01-01"},{"$f":"'Financial Model'!CM4","v":"2044-07-01"},{"$f":"'Financial Model'!CN4","v":"2045-01-01"},{"$f":"'Financial Model'!CO4","v":"2045-07-01"},{"$f":"'Financial Model'!CP4","v":"2046-01-01"},{"$f":"'Financial Model'!CQ4","v":"2046-07-01"},{"$f":"'Financial Model'!CR4","v":"2047-01-01"},{"$f":"'Financial Model'!CS4","v":"2047-07-01"},{"$f":"'Financial Model'!CT4","v":"2048-01-01"},{"$f":"'Financial Model'!CU4","v":"2048-07-01"},{"$f":"'Financial Model'!CV4","v":"2049-01-01"},{"$f":"'Financial Model'!CW4","v":"2049-07-01"},{"$f":"'Financial Model'!CX4","v":"2050-01-01"},{"$f":"'Financial Model'!CY4","v":"2050-07-01"},{"$f":"'Financial Model'!CZ4","v":"2051-01-01"},{"$f":"'Financial Model'!DA4","v":"2051-07-01"},{"$f":"'Financial Model'!DB4","v":"2052-01-01"},{"$f":"'Financial Model'!DC4","v":"2052-07-01"},{"$f":"'Financial Model'!DD4","v":"2053-01-01"},{"$f":"'Financial Model'!DE4","v":"2053-07-01"},{"$f":"'Financial Model'!DF4","v":"2054-01-01"},{"$f":"'Financial Model'!DG4","v":"2054-07-01"},{"$f":"'Financial Model'!DH4","v":"2055-01-01"},{"$f":"'Financial Model'!DI4","v":"2055-07-01"},{"$f":"'Financial Model'!DJ4","v":"2056-01-01"},{"$f":"'Financial Model'!DK4","v":"2056-07-01"},{"$f":"'Financial Model'!DL4","v":"2057-01-01"},{"$f":"'Financial Model'!DM4","v":"2057-07-01"},{"$f":"'Financial Model'!DN4","v":"2058-01-01"},{"$f":"'Financial Model'!DO4","v":"2058-07-01"},{"$f":"'Financial Model'!DP4","v":"2059-01-01"},{"$f":"'Financial Model'!DQ4","v":"2059-07-01"},{"$f":"'Financial Model'!DR4","v":"2060-01-01"},{"$f":"'Financial Model'!DS4","v":"2060-07-01"},{"$f":"'Financial Model'!DT4","v":"2061-01-01"},{"$f":"'Financial Model'!DU4","v":"2061-07-01"},{"$f":"'Financial Model'!DV4","v":"2062-01-01"},{"$f":"'Financial Model'!DW4","v":"2062-07-01"},{"$f":"'Financial Model'!DX4","v":"2063-01-01"},{"$f":"'Financial Model'!DY4","v":"2063-07-01"},{"$f":"'Financial Model'!DZ4","v":"2064-01-01"},{"$f":"'Financial Model'!EA4","v":"2064-07-01"},{"$f":"'Financial Model'!EB4","v":"2065-01-01"},{"$f":"'Financial Model'!EC4","v":"2065-07-01"},{"$f":"'Financial Model'!ED4","v":"2066-01-01"},{"$f":"'Financial Model'!EE4","v":"2066-07-01"},{"$f":"'Financial Model'!EF4","v":"2067-01-01"},{"$f":"'Financial Model'!EG4","v":"2067-07-01"},{"$f":"'Financial Model'!EH4","v":"2068-01-01"},{"$f":"'Financial Model'!EI4","v":"2068-07-01"},{"$f":"'Financial Model'!EJ4","v":"2069-01-01"},{"$f":"'Financial Model'!EK4","v":"2069-07-01"},{"$f":"'Financial Model'!EL4","v":"2070-01-01"},{"$f":"'Financial Model'!EM4","v":"2070-07-01"},{"$f":"'Financial Model'!EN4","v":"2071-01-01"},{"$f":"'Financial Model'!EO4","v":"2071-07-01"},{"$f":"'Financial Model'!EP4","v":"2072-01-01"},{"$f":"'Financial Model'!EQ4","v":"2072-07-01"},{"$f":"'Financial Model'!ER4","v":"2073-01-01"},{"$f":"'Financial Model'!ES4","v":"2073-07-01"},{"$f":"'Financial Model'!ET4","v":"2074-01-01"},{"$f":"'Financial Model'!EU4","v":"2074-07-01"},{"$f":"'Financial Model'!EV4","v":"2075-01-01"},{"$f":"'Financial Model'!EW4","v":"2075-07-01"},{"$f":"'Financial Model'!EX4","v":"2076-01-01"},{"$f":"'Financial Model'!EY4","v":"2076-07-01"},{"$f":"'Financial Model'!EZ4","v":"2077-01-01"}]
[null,null,"Development Period (these can be 1's and 0's)",null,null,null,null,null,null,true,false,false,false,false,false,false,false,false,false,false,false,false,false,false,false,false,false,false,false,false,false,false,false,false,false,false,false,false,false,false,false,false,false,false,false,false,false,false,false,false,false,false,false,false,false,false,false,false,false,false,false,false,false,false,false,false,false,false,false,false,false,false,false,false,false,false,false,false,false,false,false,false,false,false,false,false,false,false,false,false,false,false,false,false,false,false,false,false,false,false,false,false,false,false,false,false,false,false,false,false,false,false,false,false,false,false,false,false,false,false,false,false,false,false,false,false,false,false,false,false,false,false,false,false,false,false,false,false,false,false,false,false,false,false,false,false,false,false,false,false,false,false,false,false,false,false]
[null,null,"Construction Period",null,null,null,null,null,null,{"$f":"'Financial Model'!J7","v":true},{"$f":"'Financial Model'!K7","v":true},{"$f":"'Financial Model'!L7","v":true},{"$f":"'Financial Model'!M7","v":true},{"$f":"'Financial Model'!N7","v":true},{"$f":"'Financial Model'!O7","v":true},{"$f":"'Financial Model'!P7","v":true},{"$f":"'Financial Model'!Q7","v":true},{"$f":"'Financial Model'!R7","v":true},{"$f":"'Financial Model'!S7","v":true},{"$f":"'Financial Model'!T7","v":true},{"$f":"'Financial Model'!U7","v":true},{"$f":"'Financial Model'!V7","v":true},{"$f":"'Financial Model'!W7","v":true},{"$f":"'Financial Model'!X7","v":true},{"$f":"'Financial Model'!Y7","v":true},{"$f":"'Financial Model'!Z7","v":true},{"$f":"'Financial Model'!AA7","v":true},{"$f":"'Financial Model'!AB7","v":true},{"$f":"'Financial Model'!AC7","v":true},{"$f":"'Financial Model'!AD7","v":true},{"$f":"'Financial Model'!AE7","v":true},{"$f":"'Financial Model'!AF7","v":true},{"$f":"'Financial Model'!AG7","v":true},{"$f":"'Financial Model'!AH7","v":true},{"$f":"'Financial Model'!AI7","v":true},{"$f":"'Financial Model'!AJ7","v":true},{"$f":"'Financial Model'!AK7","v":true},{"$f":"'Financial Model'!AL7","v":true},{"$f":"'Financial Model'!AM7","v":true},{"$f":"'Financial Model'!AN7","v":true},{"$f":"'Financial Model'!AO7","v":true},{"$f":"'Financial Model'!AP7","v":true},{"$f":"'Financial Model'!AQ7","v":true},{"$f":"'Financial Model'!AR7","v":true},{"$f":"'Financial Model'!AS7","v":true},{"$f":"'Financial Model'!AT7","v":false},{"$f":"'Financial Model'!AU7","v":false},{"$f":"'Financial Model'!AV7","v":false},{"$f":"'Financial Model'!AW7","v":false},{"$f":"'Financial Model'!AX7","v":false},{"$f":"'Financial Model'!AY7","v":false},{"$f":"'Financial Model'!AZ7","v":false},{"$f":"'Financial Model'!BA7","v":false},{"$f":"'Financial Model'!BB7","v":false},{"$f":"'Financial Model'!BC7","v":false},{"$f":"'Financial Model'!BD7","v":false},{"$f":"'Financial Model'!BE7","v":false},{"$f":"'Financial Model'!BF7","v":false},{"$f":"'Financial Model'!BG7","v":false},{"$f":"'Financial Model'!BH7","v":false},{"$f":"'Financial Model'!BI7","v":false},{"$f":"'Financial Model'!BJ7","v":false},{"$f":"'Financial Model'!BK7","v":false},{"$f":"'Financial Model'!BL7","v":false},{"$f":"'Financial Model'!BM7","v":false},{"$f":"'Financial Model'!BN7","v":false},{"$f":"'Financial Model'!BO7","v":false},{"$f":"'Financial Model'!BP7","v":false},{"$f":"'Financial Model'!BQ7","v":false},{"$f":"'Financial Model'!BR7","v":false},{"$f":"'Financial Model'!BS7","v":false},{"$f":"'Financial Model'!BT7","v":false},{"$f":"'Financial Model'!BU7","v":false},{"$f":"'Financial Model'!BV7","v":false},{"$f":"'Financial Model'!BW7","v":false},{"$f":"'Financial Model'!BX7","v":false},{"$f":"'Financial Model'!BY7","v":false},{"$f":"'Financial Model'!BZ7","v":false},{"$f":"'Financial Model'!CA7","v":false},{"$f":"'Financial Model'!CB7","v":false},{"$f":"'Financial Model'!CC7","v":false},{"$f":"'Financial Model'!CD7","v":false},{"$f":"'Financial Model'!CE7","v":false},{"$f":"'Financial Model'!CF7","v":false},{"$f":"'Financial Model'!CG7","v":false},{"$f":"'Financial Model'!CH7","v":false},{"$f":"'Financial Model'!CI7","v":false},{"$f":"'Financial Model'!CJ7","v":false},{"$f":"'Financial Model'!CK7","v":false},{"$f":"'Financial Model'!CL7","v":false},{"$f":"'Financial Model'!CM7","v":false},{"$f":"'Financial Model'!CN7","v":false},{"$f":"'Financial Model'!CO7","v":false},{"$f":"'Financial Model'!CP7","v":false},{"$f":"'Financial Model'!CQ7","v":false},{"$f":"'Financial Model'!CR7","v":false},{"$f":"'Financial Model'!CS7","v":false},{"$f":"'Financial Model'!CT7","v":false},{"$f":"'Financial Model'!CU7","v":false},{"$f":"'Financial Model'!CV7","v":false},{"$f":"'Financial Model'!CW7","v":false},{"$f":"'Financial Model'!CX7","v":false},{"$f":"'Financial Model'!CY7","v":false},{"$f":"'Financial Model'!CZ7","v":false},{"$f":"'Financial Model'!DA7","v":false},{"$f":"'Financial Model'!DB7","v":false},{"$f":"'Financial Model'!DC7","v":false},{"$f":"'Financial Model'!DD7","v":false},{"$f":"'Financial Model'!DE7","v":false},{"$f":"'Financial Model'!DF7","v":false},{"$f":"'Financial Model'!DG7","v":false},{"$f":"'Financial Model'!DH7","v":false},{"$f":"'Financial Model'!DI7","v":false},{"$f":"'Financial Model'!DJ7","v":false},{"$f":"'Financial Model'!DK7","v":false},{"$f":"'Financial Model'!DL7","v":false},{"$f":"'Financial Model'!DM7","v":false},{"$f":"'Financial Model'!DN7","v":false},{"$f":"'Financial Model'!DO7","v":false},{"$f":"'Financial Model'!DP7","v":false},{"$f":"'Financial Model'!DQ7","v":false},{"$f":"'Financial Model'!DR7","v":false},{"$f":"'Financial Model'!DS7","v":false},{"$f":"'Financial Model'!DT7","v":false},{"$f":"'Financial Model'!DU7","v":false},{"$f":"'Financial Model'!DV7","v":false},{"$f":"'Financial Model'!DW7","v":false},{"$f":"'Financial Model'!DX7","v":false},{"$f":"'Financial Model'!DY7","v":false},{"$f":"'Financial Model'!DZ7","v":false},{"$f":"'Financial Model'!EA7","v":false},{"$f":"'Financial Model'!EB7","v":false},{"$f":"'Financial Model'!EC7","v":false},{"$f":"'Financial Model'!ED7","v":false},{"$f":"'Financial Model'!EE7","v":false},{"$f":"'Financial Model'!EF7","v":false},{"$f":"'Financial Model'!EG7","v":false},{"$f":"'Financial Model'!EH7","v":false},{"$f":"'Financial Model'!EI7","v":false},{"$f":"'Financial Model'!EJ7","v":false},{"$f":"'Financial Model'!EK7","v":false},{"$f":"'Financial Model'!EL7","v":false},{"$f":"'Financial Model'!EM7","v":false},{"$f":"'Financial Model'!EN7","v":false},{"$f":"'Financial Model'!EO7","v":false},{"$f":"'Financial Model'!EP7","v":false},{"$f":"'Financial Model'!EQ7","v":false},{"$f":"'Financial Model'!ER7","v":false},{"$f":"'Financial Model'!ES7","v":false},{"$f":"'Financial Model'!ET7","v":false},{"$f":"'Financial Model'!EU7","v":false},{"$f":"'Financial Model'!EV7","v":false},{"$f":"'Financial Model'!EW7","v":false},{"$f":"'Financial Model'!EX7","v":false},{"$f":"'Financial Model'!EY7","v":false},{"$f":"'Financial Model'!EZ7","v":false}]
[null,null,"Operation Period",null,null,null,null,null,null,{"$f":"'Financial Model'!J8","v":false},{"$f":"'Financial Model'!K8","v":false},{"$f":"'Financial Model'!L8","v":false},{"$f":"'Financial Model'!M8","v":false},{"$f":"'Financial Model'!N8","v":false},{"$f":"'Financial Model'!O8","v":false},{"$f":"'Financial Model'!P8","v":false},{"$f":"'Financial Model'!Q8","v":false},{"$f":"'Financial Model'!R8","v":false},{"$f":"'Financial Model'!S8","v":false},{"$f":"'Financial Model'!T8","v":false},{"$f":"'Financial Model'!U8","v":false},{"$f":"'Financial Model'!V8","v":false},{"$f":"'Financial Model'!W8","v":false},{"$f":"'Financial Model'!X8","v":false},{"$f":"'Financial Model'!Y8","v":false},{"$f":"'Financial Model'!Z8","v":false},{"$f":"'Financial Model'!AA8","v":false},{"$f":"'Financial Model'!AB8","v":false},{"$f":"'Financial Model'!AC8","v":false},{"$f":"'Financial Model'!AD8","v":false},{"$f":"'Financial Model'!AE8","v":false},{"$f":"'Financial Model'!AF8","v":false},{"$f":"'Financial Model'!AG8","v":false},{"$f":"'Financial Model'!AH8","v":false},{"$f":"'Financial Model'!AI8","v":false},{"$f":"'Financial Model'!AJ8","v":false},{"$f":"'Financial Model'!AK8","v":false},{"$f":"'Financial Model'!AL8","v":false},{"$f":"'Financial Model'!AM8","v":false},{"$f":"'Financial Model'!AN8","v":false},{"$f":"'Financial Model'!AO8","v":false},{"$f":"'Financial Model'!AP8","v":false},{"$f":"'Financial Model'!AQ8","v":false},{"$f":"'Financial Model'!AR8","v":false},{"$f":"'Financial Model'!AS8","v":false},{"$f":"'Financial Model'!AT8","v":true},{"$f":"'Financial Model'!AU8","v":true},{"$f":"'Financial Model'!AV8","v":true},{"$f":"'Financial Model'!AW8","v":true},{"$f":"'Financial Model'!AX8","v":true},{"$f":"'Financial Model'!AY8","v":true},{"$f":"'Financial Model'!AZ8","v":true},{"$f":"'Financial Model'!BA8","v":true},{"$f":"'Financial Model'!BB8","v":true},{"$f":"'Financial Model'!BC8","v":true},{"$f":"'Financial Model'!BD8","v":true},{"$f":"'Financial Model'!BE8","v":true},{"$f":"'Financial Model'!BF8","v":true},{"$f":"'Financial Model'!BG8","v":true},{"$f":"'Financial Model'!BH8","v":true},{"$f":"'Financial Model'!BI8","v":true},{"$f":"'Financial Model'!BJ8","v":true},{"$f":"'Financial Model'!BK8","v":true},{"$f":"'Financial Model'!BL8","v":true},{"$f":"'Financial Model'!BM8","v":true},{"$f":"'Financial Model'!BN8","v":true},{"$f":"'Financial Model'!BO8","v":true},{"$f":"'Financial Model'!BP8","v":true},{"$f":"'Financial Model'!BQ8","v":true},{"$f":"'Financial Model'!BR8","v":true},{"$f":"'Financial Model'!BS8","v":true},{"$f":"'Financial Model'!BT8","v":true},{"$f":"'Financial Model'!BU8","v":true},{"$f":"'Financial Model'!BV8","v":true},{"$f":"'Financial Model'!BW8","v":true},{"$f":"'Financial Model'!BX8","v":true},{"$f":"'Financial Model'!BY8","v":true},{"$f":"'Financial Model'!BZ8","v":true},{"$f":"'Financial Model'!CA8","v":true},{"$f":"'Financial Model'!CB8","v":true},{"$f":"'Financial Model'!CC8","v":true},{"$f":"'Financial Model'!CD8","v":true},{"$f":"'Financial Model'!CE8","v":true},{"$f":"'Financial Model'!CF8","v":true},{"$f":"'Financial Model'!CG8","v":true},{"$f":"'Financial Model'!CH8","v":true},{"$f":"'Financial Model'!CI8","v":true},{"$f":"'Financial Model'!CJ8","v":true},{"$f":"'Financial Model'!CK8","v":true},{"$f":"'Financial Model'!CL8","v":true},{"$f":"'Financial Model'!CM8","v":true},{"$f":"'Financial Model'!CN8","v":true},{"$f":"'Financial Model'!CO8","v":true},{"$f":"'Financial Model'!CP8","v":true},{"$f":"'Financial Model'!CQ8","v":true},{"$f":"'Financial Model'!CR8","v":true},{"$f":"'Financial Model'!CS8","v":true},{"$f":"'Financial Model'!CT8","v":true},{"$f":"'Financial Model'!CU8","v":true},{"$f":"'Financial Model'!CV8","v":true},{"$f":"'Financial Model'!CW8","v":true},{"$f":"'Financial Model'!CX8","v":true},{"$f":"'Financial Model'!CY8","v":true},{"$f":"'Financial Model'!CZ8","v":true},{"$f":"'Financial Model'!DA8","v":true},{"$f":"'Financial Model'!DB8","v":true},{"$f":"'Financial Model'!DC8","v":true},{"$f":"'Financial Model'!DD8","v":true},{"$f":"'Financial Model'!DE8","v":true},{"$f":"'Financial Model'!DF8","v":true},{"$f":"'Financial Model'!DG8","v":true},{"$f":"'Financial Model'!DH8","v":true},{"$f":"'Financial Model'!DI8","v":true},{"$f":"'Financial Model'!DJ8","v":true},{"$f":"'Financial Model'!DK8","v":true},{"$f":"'Financial Model'!DL8","v":false},{"$f":"'Financial Model'!DM8","v":false},{"$f":"'Financial Model'!DN8","v":false},{"$f":"'Financial Model'!DO8","v":false},{"$f":"'Financial Model'!DP8","v":false},{"$f":"'Financial Model'!DQ8","v":false},{"$f":"'Financial Model'!DR8","v":false},{"$f":"'Financial Model'!DS8","v":false},{"$f":"'Financial Model'!DT8","v":false},{"$f":"'Financial Model'!DU8","v":false},{"$f":"'Financial Model'!DV8","v":false},{"$f":"'Financial Model'!DW8","v":false},{"$f":"'Financial Model'!DX8","v":false},{"$f":"'Financial Model'!DY8","v":false},{"$f":"'Financial Model'!DZ8","v":false},{"$f":"'Financial Model'!EA8","v":false},{"$f":"'Financial Model'!EB8","v":false},{"$f":"'Financial Model'!EC8","v":false},{"$f":"'Financial Model'!ED8","v":false},{"$f":"'Financial Model'!EE8","v":false},{"$f":"'Financial Model'!EF8","v":false},{"$f":"'Financial Model'!EG8","v":false},{"$f":"'Financial Model'!EH8","v":false},{"$f":"'Financial Model'!EI8","v":false},{"$f":"'Financial Model'!EJ8","v":false},{"$f":"'Financial Model'!EK8","v":false},{"$f":"'Financial Model'!EL8","v":false},{"$f":"'Financial Model'!EM8","v":false},{"$f":"'Financial Model'!EN8","v":false},{"$f":"'Financial Model'!EO8","v":false},{"$f":"'Financial Model'!EP8","v":false},{"$f":"'Financial Model'!EQ8","v":false},{"$f":"'Financial Model'!ER8","v":false},{"$f":"'Financial Model'!ES8","v":false},{"$f":"'Financial Model'!ET8","v":false},{"$f":"'Financial Model'!EU8","v":false},{"$f":"'Financial Model'!EV8","v":false},{"$f":"'Financial Model'!EW8","v":false},{"$f":"'Financial Model'!EX8","v":false},{"$f":"'Financial Model'!EY8","v":false},{"$f":"'Financial Model'!EZ8","v":false}]
[]
[null,null,"Capital Expenditures (Physical from Model; i.e. no IDC, DSRA Fees, Development Fees etc.)",null,null,null,null,null,null,{"$f":"'Financial Model'!J119","v":2637.9240325551682},{"$f":"'Financial Model'!K119","v":3093.3403169936519},{"$f":"'Financial Model'!L119","v":3582.8733707780793},{"$f":"'Financial Model'!M119","v":4098.9588287667539},{"$f":"'Financial Model'!N119","v":4631.8447342996697},{"$f":"'Financial Model'!O119","v":5169.7884177859505},{"$f":"'Financial Model'!P119","v":5699.4098072242987},{"$f":"'Financial Model'!Q119","v":6206.1939159933036},{"$f":"'Financial Model'!R119","v":6675.1209117719745},{"$f":"'Financial Model'!S119","v":7091.3883923931016},{"$f":"'Financial Model'!T119","v":7441.1789220297569},{"$f":"'Financial Model'!U119","v":7712.4180432328667},{"$f":"'Financial Model'!V119","v":7895.4650695067921},{"$f":"'Financial Model'!W119","v":7983.6816436706113},{"$f":"'Financial Model'!X119","v":7973.8313282723811},{"$f":"'Financial Model'!Y119","v":7866.276692202724},{"$f":"'Financial Model'!Z119","v":7664.9571593607852},{"$f":"'Financial Model'!AA119","v":7377.1495063289867},{"$f":"'Financial Model'!AB119","v":7013.031311291561},{"$f":"'Financial Model'!AC119","v":6585.0838679934041},{"$f":"'Financial Model'!AD119","v":6107.3833796636472},{"$f":"'Financial Model'!AE119","v":5594.8364415454753},{"$f":"'Financial Model'!AF119","v":5062.4173601015045},{"$f":"'Financial Model'!AG119","v":4524.4608883435185},{"$f":"'Financial Model'!AH119","v":3994.0552627170587},{"$f":"'Financial Model'!AI119","v":3482.5682842163874},{"$f":"'Financial Model'!AJ119","v":2999.3251646437052},{"$f":"'Financial Model'!AK119","v":2551.4425961357783},{"$f":"'Financial Model'!AL119","v":2143.8104914276701},{"$f":"'Financial Model'!AM119","v":1779.2022612739834},{"$f":"'Financial Model'!AN119","v":1458.4870975808756},{"$f":"'Financial Model'!AO119","v":1180.9138085666771},{"$f":"'Financial Model'!AP119","v":944.43516676814841},{"$f":"'Financial Model'!AQ119","v":746.04399465720212},{"$f":"'Financial Model'!AR119","v":582.09660643111908},{"$f":"'Financial Model'!AS119","v":448.60492347546119},{"$f":"'Financial Model'!AT119","v":0},{"$f":"'Financial Model'!AU119","v":0},{"$f":"'Financial Model'!AV119","v":0},{"$f":"'Financial Model'!AW119","v":0},{"$f":"'Financial Model'!AX119","v":0},{"$f":"'Financial Model'!AY119","v":0},{"$f":"'Financial Model'!AZ119","v":0},{"$f":"'Financial Model'!BA119","v":0},{"$f":"'Financial Model'!BB119","v":0},{"$f":"'Financial Model'!BC119","v":0},{"$f":"'Financial Model'!BD119","v":0},{"$f":"'Financial Model'!BE119","v":0},{"$f":"'Financial Model'!BF119","v":0},{"$f":"'Financial Model'!BG119","v":0},{"$f":"'Financial Model'!BH119","v":0},{"$f":"'Financial Model'!BI119","v":0},{"$f":"'Financial Model'!BJ119","v":0},{"$f":"'Financial Model'!BK119","v":0},{"$f":"'Financial Model'!BL119","v":0},{"$f":"'Financial Model'!BM119","v":0},{"$f":"'Financial Model'!BN119","v":0},{"$f":"'Financial Model'!BO119","v":0},{"$f":"'Financial Model'!BP119","v":0},{"$f":"'Financial Model'!BQ119","v":0},{"$f":"'Financial Model'!BR119","v":0},{"$f":"'Financial Model'!BS119","v":0},{"$f":"'Financial Model'!BT119","v":0},{"$f":"'Financial Model'!BU119","v":0},{"$f":"'Financial Model'!BV119","v":0},{"$f":"'Financial Model'!BW119","v":0},{"$f":"'Financial Model'!BX119","v":0},{"$f":"'Financial Model'!BY119","v":0},{"$f":"'Financial Model'!BZ119","v":0},{"$f":"'Financial Model'!CA119","v":0},{"$f":"'Financial Model'!CB119","v":0},{"$f":"'Financial Model'!CC119","v":0},{"$f":"'Financial Model'!CD119","v":0},{"$f":"'Financial Model'!CE119","v":0},{"$f":"'Financial Model'!CF119","v":0},{"$f":"'Financial Model'!CG119","v":0},{"$f":"'Financial Model'!CH119","v":0},{"$f":"'Financial Model'!CI119","v":0},{"$f":"'Financial Model'!CJ119","v":0},{"$f":"'Financial Model'!CK119","v":0},{"$f":"'Financial Model'!CL119","v":0},{"$f":"'Financial Model'!CM119","v":0},{"$f":"'Financial Model'!CN119","v":0},{"$f":"'Financial Model'!CO119","v":0},{"$f":"'Financial Model'!CP119","v":0},{"$f":"'Financial Model'!CQ119","v":0},{"$f":"'Financial Model'!CR119","v":0},{"$f":"'Financial Model'!CS119","v":0},{"$f":"'Financial Model'!CT119","v":0},{"$f":"'Financial Model'!CU119","v":0},{"$f":"'Financial Model'!CV119","v":0},{"$f":"'Financial Model'!CW119","v":0},{"$f":"'Financial Model'!CX119","v":0},{"$f":"'Financial Model'!CY119","v":0},{"$f":"'Financial Model'!CZ119","v":0},{"$f":"'Financial Model'!DA119","v":0},{"$f":"'Financial Model'!DB119","v":0},{"$f":"'Financial Model'!DC119","v":0},{"$f":"'Financial Model'!DD119","v":0},{"$f":"'Financial Model'!DE119","v":0},{"$f":"'Financial Model'!DF119","v":0},{"$f":"'Financial Model'!DG119","v":0},{"$f":"'Financial Model'!DH119","v":0},{"$f":"'Financial Model'!DI119","v":0},{"$f":"'Financial Model'!DJ119","v":0},{"$f":"'Financial Model'!DK119","v":0},{"$f":"'Financial Model'!DL119","v":0},{"$f":"'Financial Model'!DM119","v":0},{"$f":"'Financial Model'!DN119","v":0},{"$f":"'Financial Model'!DO119","v":0},{"$f":"'Financial Model'!DP119","v":0},{"$f":"'Financial Model'!DQ119","v":0},{"$f":"'Financial Model'!DR119","v":0},{"$f":"'Financial Model'!DS119","v":0},{"$f":"'Financial Model'!DT119","v":0},{"$f":"'Financial Model'!DU119","v":0},{"$f":"'Financial Model'!DV119","v":0},{"$f":"'Financial Model'!DW119","v":0},{"$f":"'Financial Model'!DX119","v":0},{"$f":"'Financial Model'!DY119","v":0},{"$f":"'Financial Model'!DZ119","v":0},{"$f":"'Financial Model'!EA119","v":0},{"$f":"'Financial Model'!EB119","v":0},{"$f":"'Financial Model'!EC119","v":0},{"$f":"'Financial Model'!ED119","v":0},{"$f":"'Financial Model'!EE119","v":0},{"$f":"'Financial Model'!EF119","v":0},{"$f":"'Financial Model'!EG119","v":0},{"$f":"'Financial Model'!EH119","v":0},{"$f":"'Financial Model'!EI119","v":0},{"$f":"'Financial Model'!EJ119","v":0},{"$f":"'Financial Model'!EK119","v":0},{"$f":"'Financial Model'!EL119","v":0},{"$f":"'Financial Model'!EM119","v":0},{"$f":"'Financial Model'!EN119","v":0},{"$f":"'Financial Model'!EO119","v":0},{"$f":"'Financial Model'!EP119","v":0},{"$f":"'Financial Model'!EQ119","v":0},{"$f":"'Financial Model'!ER119","v":0},{"$f":"'Financial Model'!ES119","v":0},{"$f":"'Financial Model'!ET119","v":0},{"$f":"'Financial Model'!EU119","v":0},{"$f":"'Financial Model'!EV119","v":0},{"$f":"'Financial Model'!EW119","v":0},{"$f":"'Financial Model'!EX119","v":0},{"$f":"'Financial Model'!EY119","v":0},{"$f":"'Financial Model'!EZ119","v":0}]
[null,null,"EBITDA from Model",null,null,null,null,null,null,{"$f":"'Financial Model'!J112","v":0},{"$f":"'Financial Model'!K112","v":0},{"$f":"'Financial Model'!L112","v":0},{"$f":"'Financial Model'!M112","v":0},{"$f":"'Financial Model'!N112","v":0},{"$f":"'Financial Model'!O112","v":0},{"$f":"'Financial Model'!P112","v":0},{"$f":"'Financial Model'!Q112","v":0},{"$f":"'Financial Model'!R112","v":0},{"$f":"'Financial Model'!S112","v":0},{"$f":"'Financial Model'!T112","v":0},{"$f":"'Financial Model'!U112","v":0},{"$f":"'Financial Model'!V112","v":0},{"$f":"'Financial Model'!W112","v":0},{"$f":"'Financial Model'!X112","v":0},{"$f":"'Financial Model'!Y112","v":0},{"$f":"'Financial Model'!Z112","v":0},{"$f":"'Financial Model'!AA112","v":0},{"$f":"'Financial Model'!AB112","v":0},{"$f":"'Financial Model'!AC112","v":0},{"$f":"'Financial Model'!AD112","v":0},{"$f":"'Financial Model'!AE112","v":0},{"$f":"'Financial Model'!AF112","v":0},{"$f":"'Financial Model'!AG112","v":0},{"$f":"'Financial Model'!AH112","v":0},{"$f":"'Financial Model'!AI112","v":0},{"$f":"'Financial Model'!AJ112","v":0},{"$f":"'Financial Model'!AK112","v":0},{"$f":"'Financial Model'!AL112","v":0},{"$f":"'Financial Model'!AM112","v":0},{"$f":"'Financial Model'!AN112","v":0},{"$f":"'Financial Model'!AO112","v":0},{"$f":"'Financial Model'!AP112","v":0},{"$f":"'Financial Model'!AQ112","v":0},{"$f":"'Financial Model'!AR112","v":0},{"$f":"'Financial Model'!AS112","v":0},{"$f":"'Financial Model'!AT112","v":0},{"$f":"'Financial Model'!AU112","v":5565.1840271663941},{"$f":"'Financial Model'!AV112","v":5736.7954714120624},{"$f":"'Financial Model'!AW112","v":5676.4877077097226},{"$f":"'Financial Model'!AX112","v":5851.5313808403025},{"$f":"'Financial Model'!AY112","v":5790.0174618639167},{"$f":"'Financial Model'!AZ112","v":5968.5620084571083},{"$f":"'Financial Model'!BA112","v":5946.5292567118922},{"$f":"'Financial Model'!BB112","v":6087.933248626252},{"$f":"'Financial Model'!BC112","v":6023.9341673232211},{"$f":"'Financial Model'!BD112","v":6209.6919135987755},{"$f":"'Financial Model'!BE112","v":6144.4128506696843},{"$f":"'Financial Model'!BF112","v":6333.8857518707518},{"$f":"'Financial Model'!BG112","v":6267.3011076830808},{"$f":"'Financial Model'!BH112","v":6460.5634669081692},{"$f":"'Financial Model'!BI112","v":6436.7145078458507},{"$f":"'Financial Model'!BJ112","v":6589.7747362463333},{"$f":"'Financial Model'!BK112","v":6520.5000724334768},{"$f":"'Financial Model'!BL112","v":6721.5702309712624},{"$f":"'Financial Model'!BM112","v":6650.9100738821444},{"$f":"'Financial Model'!BN112","v":6856.0016355906855},{"$f":"'Financial Model'!BO112","v":6783.9282753597909},{"$f":"'Financial Model'!BP112","v":6993.1216683025004},{"$f":"'Financial Model'!BQ112","v":6967.3067880309245},{"$f":"'Financial Model'!BR112","v":7132.9841016685514},{"$f":"'Financial Model'!BS112","v":7057.9989776843286},{"$f":"'Financial Model'!BT112","v":7275.6437837019257},{"$f":"'Financial Model'!BU112","v":7199.1589572380144},{"$f":"'Financial Model'!BV112","v":7421.1566593759617},{"$f":"'Financial Model'!BW112","v":7343.1421363827767},{"$f":"'Financial Model'!BX112","v":7569.5797925634834},{"$f":"'Financial Model'!BY112","v":7541.6369359509763},{"$f":"'Financial Model'!BZ112","v":7720.9713884147532},{"$f":"'Financial Model'!CA112","v":7639.8050786926424},{"$f":"'Financial Model'!CB112","v":7875.3908161830495},{"$f":"'Financial Model'!CC112","v":7792.6011802664971},{"$f":"'Financial Model'!CD112","v":8032.8986325067126},{"$f":"'Financial Model'!CE112","v":7948.4532038718262},{"$f":"'Financial Model'!CF112","v":8193.5566051568476},{"$f":"'Financial Model'!CG112","v":8163.3103585172039},{"$f":"'Financial Model'!CH112","v":8357.4277372599863},{"$f":"'Financial Model'!CI112","v":8269.5707133082524},{"$f":"'Financial Model'!CJ112","v":8524.576292005182},{"$f":"'Financial Model'!CK112","v":8434.9621275744157},{"$f":"'Financial Model'!CL112","v":8695.0678178452908},{"$f":"'Financial Model'!CM112","v":8603.6613701259066},{"$f":"'Financial Model'!CN112","v":8868.9691742021932},{"$f":"'Financial Model'!CO112","v":8836.2296641201538},{"$f":"'Financial Model'!CP112","v":9046.3485576862404},{"$f":"'Financial Model'!CQ112","v":8951.2492894789902},{"$f":"'Financial Model'!CR112","v":9227.275528839964},{"$f":"'Financial Model'!CS112","v":9130.2742752685735},{"$f":"'Financial Model'!CT112","v":9411.8210394167654},{"$f":"'Financial Model'!CU112","v":9312.8797607739452},{"$f":"'Financial Model'!CV112","v":9600.057460205102},{"$f":"'Financial Model'!CW112","v":9564.6191615896569},{"$f":"'Financial Model'!CX112","v":9792.058609409205},{"$f":"'Financial Model'!CY112","v":9689.1201031092151},{"$f":"'Financial Model'!CZ112","v":9987.8997815973889},{"$f":"'Financial Model'!DA112","v":9882.9025051713998},{"$f":"'Financial Model'!DB112","v":10187.657777229335},{"$f":"'Financial Model'!DC112","v":0},{"$f":"'Financial Model'!DD112","v":0},{"$f":"'Financial Model'!DE112","v":0},{"$f":"'Financial Model'!DF112","v":0},{"$f":"'Financial Model'!DG112","v":0},{"$f":"'Financial Model'!DH112","v":0},{"$f":"'Financial Model'!DI112","v":0},{"$f":"'Financial Model'!DJ112","v":0},{"$f":"'Financial Model'!DK112","v":0},{"$f":"'Financial Model'!DL112","v":0},{"$f":"'Financial Model'!DM112","v":0},{"$f":"'Financial Model'!DN112","v":0},{"$f":"'Financial Model'!DO112","v":0},{"$f":"'Financial Model'!DP112","v":0},{"$f":"'Financial Model'!DQ112","v":0},{"$f":"'Financial Model'!DR112","v":0},{"$f":"'Financial Model'!DS112","v":0},{"$f":"'Financial Model'!DT112","v":0},{"$f":"'Financial Model'!DU112","v":0},{"$f":"'Financial Model'!DV112","v":0},{"$f":"'Financial Model'!DW112","v":0},{"$f":"'Financial Model'!DX112","v":0},{"$f":"'Financial Model'!DY112","v":0},{"$f":"'Financial Model'!DZ112","v":0},{"$f":"'Financial Model'!EA112","v":0},{"$f":"'Financial Model'!EB112","v":0},{"$f":"'Financial Model'!EC112","v":0},{"$f":"'Financial Model'!ED112","v":0},{"$f":"'Financial Model'!EE112","v":0},{"$f":"'Financial Model'!EF112","v":0},{"$f":"'Financial Model'!EG112","v":0},{"$f":"'Financial Model'!EH112","v":0},{"$f":"'Financial Model'!EI112","v":0},{"$f":"'Financial Model'!EJ112","v":0},{"$f":"'Financial Model'!EK112","v":0},{"$f":"'Financial Model'!EL112","v":0},{"$f":"'Financial Model'!EM112","v":0},{"$f":"'Financial Model'!EN112","v":0},{"$f":"'Financial Model'!EO112","v":0},{"$f":"'Financial Model'!EP112","v":0},{"$f":"'Financial Model'!EQ112","v":0},{"$f":"'Financial Model'!ER112","v":0},{"$f":"'Financial Model'!ES112","v":0},{"$f":"'Financial Model'!ET112","v":0},{"$f":"'Financial Model'!EU112","v":0},{"$f":"'Financial Model'!EV112","v":0},{"$f":"'Financial Model'!EW112","v":0},{"$f":"'Financial Model'!EX112","v":0},{"$f":"'Financial Model'!EY112","v":0},{"$f":"'Financial Model'!EZ112","v":0}]
[null,null,"Working Capital Change from Model",null,null,null,null,null,null,0,0,0,0,0,0,0,0,0,0,0,0,0,0,0,0,0,0,0,0,0,0,0,0,0,0,0,0,0,0,0,0,0,0,0,0,0,0,0,0,0,0,0,0,0,0,0,0,0,0,0,0,0,0,0,0,0,0,0,0,0,0,0,0,0,0,0,0,0,0,0,0,0,0,0,0,0,0,0,0,0,0,0,0,0,0,0,0,0,0,0,0,0,0,0,0,0,0,0,0,0,0,0,0,0,0,0,0,0,0,0,0,0,0,0,0,0,0,0,0,0,0,0,0,0,0,0,0,0,0,0,0,0,0,0,0,0,0,0,0,0,0,0,0,0,0,0]
[null,null,"Tax Depreciation Expense (Physical Cap Exp; i.e. excl IDC, Fees etc.)",null,null,null,null,null,null,{"$f":"'Financial Model'!J126","v":0},{"$f":"'Financial Model'!K126","v":0},{"$f":"'Financial Model'!L126","v":0},{"$f":"'Financial Model'!M126","v":0},{"$f":"'Financial Model'!N126","v":0},{"$f":"'Financial Model'!O126","v":0},{"$f":"'Financial Model'!P126","v":0},{"$f":"'Financial Model'!Q126","v":0},{"$f":"'Financial Model'!R126","v":0},{"$f":"'Financial Model'!S126","v":0},{"$f":"'Financial Model'!T126","v":0},{"$f":"'Financial Model'!U126","v":0},{"$f":"'Financial Model'!V126","v":0},{"$f":"'Financial Model'!W126","v":0},{"$f":"'Financial Model'!X126","v":0},{"$f":"'Financial Model'!Y126","v":0},{"$f":"'Financial Model'!Z126","v":0},{"$f":"'Financial Model'!AA126","v":0},{"$f":"'Financial Model'!AB126","v":0},{"$f":"'Financial Model'!AC126","v":0},{"$f":"'Financial Model'!AD126","v":0},{"$f":"'Financial Model'!AE126","v":0},{"$f":"'Financial Model'!AF126","v":0},{"$f":"'Financial Model'!AG126","v":0},{"$f":"'Financial Model'!AH126","v":0},{"$f":"'Financial Model'!AI126","v":0},{"$f":"'Financial Model'!AJ126","v":0},{"$f":"'Financial Model'!AK126","v":0},{"$f":"'Financial Model'!AL126","v":0},{"$f":"'Financial Model'!AM126","v":0},{"$f":"'Financial Model'!AN126","v":0},{"$f":"'Financial Model'!AO126","v":0},{"$f":"'Financial Model'!AP126","v":0},{"$f":"'Financial Model'!AQ126","v":0},{"$f":"'Financial Model'!AR126","v":0},{"$f":"'Financial Model'!AS126","v":0},{"$f":"'Financial Model'!AT126","v":2400.0000000000009},{"$f":"'Financial Model'!AU126","v":2400.0000000000009},{"$f":"'Financial Model'!AV126","v":2400.0000000000009},{"$f":"'Financial Model'!AW126","v":2400.0000000000009},{"$f":"'Financial Model'!AX126","v":2400.0000000000009},{"$f":"'Financial Model'!AY126","v":2400.0000000000009},{"$f":"'Financial Model'!AZ126","v":2400.0000000000009},{"$f":"'Financial Model'!BA126","v":2400.0000000000009},{"$f":"'Financial Model'!BB126","v":2400.0000000000009},{"$f":"'Financial Model'!BC126","v":2400.0000000000009},{"$f":"'Financial Model'!BD126","v":2400.0000000000009},{"$f":"'Financial Model'!BE126","v":2400.0000000000009},{"$f":"'Financial Model'!BF126","v":2400.0000000000009},{"$f":"'Financial Model'!BG126","v":2400.0000000000009},{"$f":"'Financial Model'!BH126","v":2400.0000000000009},{"$f":"'Financial Model'!BI126","v":2400.0000000000009},{"$f":"'Financial Model'!BJ126","v":2400.0000000000009},{"$f":"'Financial Model'!BK126","v":2400.0000000000009},{"$f":"'Financial Model'!BL126","v":2400.0000000000009},{"$f":"'Financial Model'!BM126","v":2400.0000000000009},{"$f":"'Financial Model'!BN126","v":2400.0000000000009},{"$f":"'Financial Model'!BO126","v":2400.0000000000009},{"$f":"'Financial Model'!BP126","v":2400.0000000000009},{"$f":"'Financial Model'!BQ126","v":2400.0000000000009},{"$f":"'Financial Model'!BR126","v":2400.0000000000009},{"$f":"'Financial Model'!BS126","v":2400.0000000000009},{"$f":"'Financial Model'!BT126","v":2400.0000000000009},{"$f":"'Financial Model'!BU126","v":2400.0000000000009},{"$f":"'Financial Model'!BV126","v":2400.0000000000009},{"$f":"'Financial Model'!BW126","v":2400.0000000000009},{"$f":"'Financial Model'!BX126","v":2400.0000000000009},{"$f":"'Financial Model'!BY126","v":2400.0000000000009},{"$f":"'Financial Model'!BZ126","v":2400.0000000000009},{"$f":"'Financial Model'!CA126","v":2400.0000000000009},{"$f":"'Financial Model'!CB126","v":2400.0000000000009},{"$f":"'Financial Model'!CC126","v":2400.0000000000009},{"$f":"'Financial Model'!CD126","v":2400.0000000000009},{"$f":"'Financial Model'!CE126","v":2400.0000000000009},{"$f":"'Financial Model'!CF126","v":2400.0000000000009},{"$f":"'Financial Model'!CG126","v":2400.0000000000009},{"$f":"'Financial Model'!CH126","v":2400.0000000000009},{"$f":"'Financial Model'!CI126","v":2400.0000000000009},{"$f":"'Financial Model'!CJ126","v":2400.0000000000009},{"$f":"'Financial Model'!CK126","v":2400.0000000000009},{"$f":"'Financial Model'!CL126","v":2400.0000000000009},{"$f":"'Financial Model'!CM126","v":2400.0000000000009},{"$f":"'Financial Model'!CN126","v":2400.0000000000009},{"$f":"'Financial Model'!CO126","v":2400.0000000000009},{"$f":"'Financial Model'!CP126","v":2400.0000000000009},{"$f":"'Financial Model'!CQ126","v":2400.0000000000009},{"$f":"'Financial Model'!CR126","v":2400.0000000000009},{"$f":"'Financial Model'!CS126","v":2400.0000000000009},{"$f":"'Financial Model'!CT126","v":2400.0000000000009},{"$f":"'Financial Model'!CU126","v":2400.0000000000009},{"$f":"'Financial Model'!CV126","v":2400.0000000000009},{"$f":"'Financial Model'!CW126","v":2400.0000000000009},{"$f":"'Financial Model'!CX126","v":2400.0000000000009},{"$f":"'Financial Model'!CY126","v":2400.0000000000009},{"$f":"'Financial Model'!CZ126","v":2400.0000000000009},{"$f":"'Financial Model'!DA126","v":2400.0000000000009},{"$f":"'Financial Model'!DB126","v":2400.0000000000009},{"$f":"'Financial Model'!DC126","v":2400.0000000000009},{"$f":"'Financial Model'!DD126","v":2400.0000000000009},{"$f":"'Financial Model'!DE126","v":2400.0000000000009},{"$f":"'Financial Model'!DF126","v":2400.0000000000009},{"$f":"'Financial Model'!DG126","v":2400.0000000000009},{"$f":"'Financial Model'!DH126","v":2400.0000000000009},{"$f":"'Financial Model'!DI126","v":2400.0000000000009},{"$f":"'Financial Model'!DJ126","v":2400.0000000000009},{"$f":"'Financial Model'!DK126","v":2400.0000000000009},{"$f":"'Financial Model'!DL126","v":0},{"$f":"'Financial Model'!DM126","v":0},{"$f":"'Financial Model'!DN126","v":0},{"$f":"'Financial Model'!DO126","v":0},{"$f":"'Financial Model'!DP126","v":0},{"$f":"'Financial Model'!DQ126","v":0},{"$f":"'Financial Model'!DR126","v":0},{"$f":"'Financial Model'!DS126","v":0},{"$f":"'Financial Model'!DT126","v":0},{"$f":"'Financial Model'!DU126","v":0},{"$f":"'Financial Model'!DV126","v":0},{"$f":"'Financial Model'!DW126","v":0},{"$f":"'Financial Model'!DX126","v":0},{"$f":"'Financial Model'!DY126","v":0},{"$f":"'Financial Model'!DZ126","v":0},{"$f":"'Financial Model'!EA126","v":0},{"$f":"'Financial Model'!EB126","v":0},{"$f":"'Financial Model'!EC126","v":0},{"$f":"'Financial Model'!ED126","v":0},{"$f":"'Financial Model'!EE126","v":0},{"$f":"'Financial Model'!EF126","v":0},{"$f":"'Financial Model'!EG126","v":0},{"$f":"'Financial Model'!EH126","v":0},{"$f":"'Financial Model'!EI126","v":0},{"$f":"'Financial Model'!EJ126","v":0},{"$f":"'Financial Model'!EK126","v":0},{"$f":"'Financial Model'!EL126","v":0},{"$f":"'Financial Model'!EM126","v":0},{"$f":"'Financial Model'!EN126","v":0},{"$f":"'Financial Model'!EO126","v":0},{"$f":"'Financial Model'!EP126","v":0},{"$f":"'Financial Model'!EQ126","v":0},{"$f":"'Financial Model'!ER126","v":0},{"$f":"'Financial Model'!ES126","v":0},{"$f":"'Financial Model'!ET126","v":0},{"$f":"'Financial Model'!EU126","v":0},{"$f":"'Financial Model'!EV126","v":0},{"$f":"'Financial Model'!EW126","v":0},{"$f":"'Financial Model'!EX126","v":0},{"$f":"'Financial Model'!EY126","v":0},{"$f":"'Financial Model'!EZ126","v":0}]
[null,null,"Tax Rate (Time Based)",null,null,null,null,null,null,{"$f":"'Financial Model'!$G$129","v":0.21},{"$f":"'Financial Model'!$G$129","v":0.21},{"$f":"'Financial Model'!$G$129","v":0.21},{"$f":"'Financial Model'!$G$129","v":0.21},{"$f":"'Financial Model'!$G$129","v":0.21},{"$f":"'Financial Model'!$G$129","v":0.21},{"$f":"'Financial Model'!$G$129","v":0.21},{"$f":"'Financial Model'!$G$129","v":0.21},{"$f":"'Financial Model'!$G$129","v":0.21},{"$f":"'Financial Model'!$G$129","v":0.21},{"$f":"'Financial Model'!$G$129","v":0.21},{"$f":"'Financial Model'!$G$129","v":0.21},{"$f":"'Financial Model'!$G$129","v":0.21},{"$f":"'Financial Model'!$G$129","v":0.21},{"$f":"'Financial Model'!$G$129","v":0.21},{"$f":"'Financial Model'!$G$129","v":0.21},{"$f":"'Financial Model'!$G$129","v":0.21},{"$f":"'Financial Model'!$G$129","v":0.21},{"$f":"'Financial Model'!$G$129","v":0.21},{"$f":"'Financial Model'!$G$129","v":0.21},{"$f":"'Financial Model'!$G$129","v":0.21},{"$f":"'Financial Model'!$G$129","v":0.21},{"$f":"'Financial Model'!$G$129","v":0.21},{"$f":"'Financial Model'!$G$129","v":0.21},{"$f":"'Financial Model'!$G$129","v":0.21},{"$f":"'Financial Model'!$G$129","v":0.21},{"$f":"'Financial Model'!$G$129","v":0.21},{"$f":"'Financial Model'!$G$129","v":0.21},{"$f":"'Financial Model'!$G$129","v":0.21},{"$f":"'Financial Model'!$G$129","v":0.21},{"$f":"'Financial Model'!$G$129","v":0.21},{"$f":"'Financial Model'!$G$129","v":0.21},{"$f":"'Financial Model'!$G$129","v":0.21},{"$f":"'Financial Model'!$G$129","v":0.21},{"$f":"'Financial Model'!$G$129","v":0.21},{"$f":"'Financial Model'!$G$129","v":0.21},{"$f":"'Financial Model'!$G$129","v":0.21},{"$f":"'Financial Model'!$G$129","v":0.21},{"$f":"'Financial Model'!$G$129","v":0.21},{"$f":"'Financial Model'!$G$129","v":0.21},{"$f":"'Financial Model'!$G$129","v":0.21},{"$f":"'Financial Model'!$G$129","v":0.21},{"$f":"'Financial Model'!$G$129","v":0.21},{"$f":"'Financial Model'!$G$129","v":0.21},{"$f":"'Financial Model'!$G$129","v":0.21},{"$f":"'Financial Model'!$G$129","v":0.21},{"$f":"'Financial Model'!$G$129","v":0.21},{"$f":"'Financial Model'!$G$129","v":0.21},{"$f":"'Financial Model'!$G$129","v":0.21},{"$f":"'Financial Model'!$G$129","v":0.21},{"$f":"'Financial Model'!$G$129","v":0.21},{"$f":"'Financial Model'!$G$129","v":0.21},{"$f":"'Financial Model'!$G$129","v":0.21},{"$f":"'Financial Model'!$G$129","v":0.21},{"$f":"'Financial Model'!$G$129","v":0.21},{"$f":"'Financial Model'!$G$129","v":0.21},{"$f":"'Financial Model'!$G$129","v":0.21},{"$f":"'Financial Model'!$G$129","v":0.21},{"$f":"'Financial Model'!$G$129","v":0.21},{"$f":"'Financial Model'!$G$129","v":0.21},{"$f":"'Financial Model'!$G$129","v":0.21},{"$f":"'Financial Model'!$G$129","v":0.21},{"$f":"'Financial Model'!$G$129","v":0.21},{"$f":"'Financial Model'!$G$129","v":0.21},{"$f":"'Financial Model'!$G$129","v":0.21},{"$f":"'Financial Model'!$G$129","v":0.21},{"$f":"'Financial Model'!$G$129","v":0.21},{"$f":"'Financial Model'!$G$129","v":0.21},{"$f":"'Financial Model'!$G$129","v":0.21},{"$f":"'Financial Model'!$G$129","v":0.21},{"$f":"'Financial Model'!$G$129","v":0.21},{"$f":"'Financial Model'!$G$129","v":0.21},{"$f":"'Financial Model'!$G$129","v":0.21},{"$f":"'Financial Model'!$G$129","v":0.21},{"$f":"'Financial Model'!$G$129","v":0.21},{"$f":"'Financial Model'!$G$129","v":0.21},{"$f":"'Financial Model'!$G$129","v":0.21},{"$f":"'Financial Model'!$G$129","v":0.21},{"$f":"'Financial Model'!$G$129","v":0.21},{"$f":"'Financial Model'!$G$129","v":0.21},{"$f":"'Financial Model'!$G$129","v":0.21},{"$f":"'Financial Model'!$G$129","v":0.21},{"$f":"'Financial Model'!$G$129","v":0.21},{"$f":"'Financial Model'!$G$129","v":0.21},{"$f":"'Financial Model'!$G$129","v":0.21},{"$f":"'Financial Model'!$G$129","v":0.21},{"$f":"'Financial Model'!$G$129","v":0.21},{"$f":"'Financial Model'!$G$129","v":0.21},{"$f":"'Financial Model'!$G$129","v":0.21},{"$f":"'Financial Model'!$G$129","v":0.21},{"$f":"'Financial Model'!$G$129","v":0.21},{"$f":"'Financial Model'!$G$129","v":0.21},{"$f":"'Financial Model'!$G$129","v":0.21},{"$f":"'Financial Model'!$G$129","v":0.21},{"$f":"'Financial Model'!$G$129","v":0.21},{"$f":"'Financial Model'!$G$129","v":0.21},{"$f":"'Financial Model'!$G$129","v":0.21},{"$f":"'Financial Model'!$G$129","v":0.21},{"$f":"'Financial Model'!$G$129","v":0.21},{"$f":"'Financial Model'!$G$129","v":0.21},{"$f":"'Financial Model'!$G$129","v":0.21},{"$f":"'Financial Model'!$G$129","v":0.21},{"$f":"'Financial Model'!$G$129","v":0.21},{"$f":"'Financial Model'!$G$129","v":0.21},{"$f":"'Financial Model'!$G$129","v":0.21},{"$f":"'Financial Model'!$G$129","v":0.21},{"$f":"'Financial Model'!$G$129","v":0.21},{"$f":"'Financial Model'!$G$129","v":0.21},{"$f":"'Financial Model'!$G$129","v":0.21},{"$f":"'Financial Model'!$G$129","v":0.21},{"$f":"'Financial Model'!$G$129","v":0.21},{"$f":"'Financial Model'!$G$129","v":0.21},{"$f":"'Financial Model'!$G$129","v":0.21},{"$f":"'Financial Model'!$G$129","v":0.21},{"$f":"'Financial Model'!$G$129","v":0.21},{"$f":"'Financial Model'!$G$129","v":0.21},{"$f":"'Financial Model'!$G$129","v":0.21},{"$f":"'Financial Model'!$G$129","v":0.21},{"$f":"'Financial Model'!$G$129","v":0.21},{"$f":"'Financial Model'!$G$129","v":0.21},{"$f":"'Financial Model'!$G$129","v":0.21},{"$f":"'Financial Model'!$G$129","v":0.21},{"$f":"'Financial Model'!$G$129","v":0.21},{"$f":"'Financial Model'!$G$129","v":0.21},{"$f":"'Financial Model'!$G$129","v":0.21},{"$f":"'Financial Model'!$G$129","v":0.21},{"$f":"'Financial Model'!$G$129","v":0.21},{"$f":"'Financial Model'!$G$129","v":0.21},{"$f":"'Financial Model'!$G$129","v":0.21},{"$f":"'Financial Model'!$G$129","v":0.21},{"$f":"'Financial Model'!$G$129","v":0.21},{"$f":"'Financial Model'!$G$129","v":0.21},{"$f":"'Financial Model'!$G$129","v":0.21},{"$f":"'Financial Model'!$G$129","v":0.21},{"$f":"'Financial Model'!$G$129","v":0.21},{"$f":"'Financial Model'!$G$129","v":0.21},{"$f":"'Financial Model'!$G$129","v":0.21},{"$f":"'Financial Model'!$G$129","v":0.21},{"$f":"'Financial Model'!$G$129","v":0.21},{"$f":"'Financial Model'!$G$129","v":0.21},{"$f":"'Financial Model'!$G$129","v":0.21},{"$f":"'Financial Model'!$G$129","v":0.21},{"$f":"'Financial Model'!$G$129","v":0.21},{"$f":"'Financial Model'!$G$129","v":0.21},{"$f":"'Financial Model'!$G$129","v":0.21},{"$f":"'Financial Model'!$G$129","v":0.21},{"$f":"'Financial Model'!$G$129","v":0.21}]
[null,null,"Capital Expenditures After COD",null,null,null,null,null,null,0,0,0,0,0,0,0,0,0,0,0,0,0,0,0,0,0,0,0,0,0,0,0,0,0,0,0,0,0,0,0,0,0,0,0,0,0,0,0,0,0,0,0,0,0,0,0,0,0,0,0,0,0,0,0,0,0,0,0,0,0,0,0,0,0,0,0,0,0,0,0,0,0,0,0,0,0,0,0,0,0,0,0,0,0,0,0,0,0,0,0,0,0,0,0,0,0,0,0,0,0,0,0,0,0,0,0,0,0,0,0,0,0,0,0,0,0,0,0,0,0,0,0,0,0,0,0,0,0,0,0,0,0,0,0,0,0,0,0,0,0,0,0,0,0,0,0]
[null,null,"Periods in Accumulating Tax (1 is for every period; could be quarterly with 2 or 4 etc)",null,null,null,null,null,null,1,null,{"$f":"IF(J16=1,\" Taxes Computed Each Operating Period\", \"Taxes Computed in Alternative Periods\")","v":" Taxes Computed Each Operating Period"}]
[null,null,"Apply Same Depreciation Rate to Financing Costs (IDC and Fees)",null,null,null,null,null,null,true,null,{"$f":"IF(J17,\" IDC Plant Basis has Same Depreciation Rate as Other Plant\",\"\")","v":" IDC Plant Basis has Same Depreciation Rate as Other Plant"}]
[null,null,"Zero Tax Depreciation for Amortisation of Financing Costs",null,null,null,null,null,null,false]
[null,null,"Debt Balance Percent for Finance Cost Amortisation",null,null,null,null,null,null,false]
[null,null,"Maximum Interest Limit as Percent of Taxable EBIT",null,null,null,null,null,null,1,null,{"$f":"IF(J20=1,\" No Limit on Tax Deductions\")","v":" No Limit on Tax Deductions"}]
[null,null,"Apply NOL (Not True Sets Tax to Zero but Does Not Accumulate)",null,null,null,null,null,null,true,null,{"$f":"IF(J21,\"Apply NOL Balance when Negative Taxes\",\"No Carryforward\")","v":"Apply NOL Balance when Negative Taxes"}]
[]
[]
["Start of General Debt Options Block Inputs Block (Start Selection Here and Select Entire Line)"]
[null,null,"Development Fee Percent (If zero use amount from below)",null,null,null,null,null,null,{"$f":"'Financial Model'!F27","v":0.2}]
[null,null,"Development Fee Amount (If zero use percent)",null,null,null,null,null,null,0]
[null,null,"Up-Front Equity Percent (Remainder is Pro-Rata)",null,null,null,null,null,null,{"$f":"'Financial Model'!F41","v":0.5},null,{"$f":"\"Input 0% for Pro-Rata or 100% for all Equity Up-Front\"","v":"Input 0% for Pro-Rata or 100% for all Equity Up-Front"}]
[null,null,"Senior Debt Sizing Option (1-4) 1-Fix;2-% Cap;3-DSCR;4-Min",null,null,null,null,null,null,4,null,{"$f":"CHOOSE(debt_size_method,\" Senior Debt in Model Driven by Fixed Debt Input\",\"Senior Debt in Model Driven by Debt to Capital Input\",\"Senior Debt in Model Driven by DSCR Input\",\"Senior Debt in Model Driven by Either Debt to Captial Input or DSCR\")","v":"Senior Debt in Model Driven by Either Debt to Captial Input or DSCR"}]
[null,null,"Senior Debt Fixed Amount for Option 1 (Currency in Model)",null,null,null,null,null,null,0,null,{"$f":"IF(debt_size_method=1,\"Method Applied\",\"Not Relevant\")","v":"Not Relevant"}]
[null,null,"Sr. Debt as Percent of Project Cost for Option 2 or Option 4",null,null,null,null,null,null,{"$f":"'Financial Model'!F39","v":0.89}]
[null,null,"DSCR for Senior Debt Sizing and Sculpting Debt",null,null,null,null,null,null,{"$f":"'Financial Model'!F35","v":1.35},{"$f":"J31","v":1.35},{"$f":"K31","v":1.35},1.35,1.35,1.35,1.35,1.35,1.35,1.35,1.35,1.35,1.35,1.35,1.35,1.35,1.35,1.35,1.35,1.35,1.35,1.35,1.35,1.35,1.35,1.35,1.35,1.35,1.35,1.35,1.35,1.35,1.35,1.35,1.35,1.35,1.35,1.35,1.35,1.35,1.35,1.35,1.35,1.35,1.35,1.35,1.35,1.35,1.35,1.35,1.35,1.35,1.35,1.35,1.35,1.35,1.35,1.35,1.35,1.35,1.35,1.35,1.35,1.35,1.35,1.35,{"$f":"BW31","v":1.35},1.35,1.35,1.35,1.35,1.35,1.35,1.35,1.35,1.35,1.35,1.35,1.35,1.35,1.35,1.35,1.35,1.35,1.35,1.35,1.35,1.35,1.35,1.35,1.35,1.35,1.35,1.35,1.35,1.35,1.35,1.35,1.35,1.35,1.35,1.35,1.35,1.35,1.35,1.35,1.35,1.35,1.35,1.35,1.35,1.35,1.35,1.35,1.35,1.35,1.35,1.35,1.35,1.35,1.35,1.35,1.35,1.35,1.35,1.35,1.35,1.35,1.35,1.35,{"$f":"EI31","v":1.35},1.35,1.35,1.35,1.35,1.35,1.35,1.35,1.35,1.35,1.35,1.35,1.35,1.35,1.35,1.35,1.35]
[null,null,"Include Mezzanine Debt (Boolean)",null,null,null,null,null,null,false,null,{"$f":"IF(J32,\"Mezzanine Included\",\"Mezzanine Not Included\")","v":"Mezzanine Not Included"}]
[null,null,"Mezzanine Debt Sizing Option (1-4) 1-Fix;2-% Cap;3-DSCR;4-Min)",null,null,null,null,null,null,3,null,{"$f":"IF(J32,CHOOSE(debt_size_method,\" Mezzanine Debt in Model Driven by Fixed Debt Input\",\"Mezzanine Debt in Model Driven by Debt to Capital Input\",\"Mezzanine Debt in Model Driven by DSCR Input\",\"Mezzanine Debt in Model Driven by Either Debt to Captial Input or DSCR\"),\"\")","v":""}]
[null,null,"Fixed Amount of Mezzanine Debt Input"]
[null,null,"Mezzanine Debt as Percent of Project Cost",null,null,null,null,null,null,{"$f":"'Financial Model'!F61","v":0}]
[null,null,"Total DSCR for Sculpting including Mezzanine Debt (Scalar or Time Series)",null,null,null,null,null,null,{"$f":"'Financial Model'!F60","v":1.2}]
[null,null,"Mezzanine Interest Deductability Percent",null,null,null,null,null,null,1]
[null,null,"Include Mezzanine IDC in Project Cost (Boolean)",null,null,null,null,null,null,true]
[null,null,"Mezzanine Debt Draws as Pro-Rata Debt (Boolean)",null,null,null,null,null,null,true]
[null,null,"Include Shareholder Debt (Boolean)",null,null,null,null,null,null,true,null,{"$f":"IF(J40,\"Shareholder Debt Included\",\"Shareholder Debt Not Included\")","v":"Shareholder Debt Included"}]
[null,null,"Shareholder Debt Sizing Option (1 or 2; 1-Fix;2-% Equity)",null,null,null,null,null,null,2,null,{"$f":"IF(J40,CHOOSE(J41,\"Fixed Shareholder Debt\",\"Shareholder Debt as Percent of Equity Issued\"),\"\")","v":"Shareholder Debt as Percent of Equity Issued"}]
[null,null,"Shareholder Fixed Amount of Debt",null,null,null,null,null,null,0,null,{"$f":"IF(J40,IF(J41=1,\"Fixed Method Applied\",\"Not Relevant\"),\"\")","v":"Not Relevant"}]
[null,null,"Shareholder Debt as % of Equity",null,null,null,null,null,null,0,null,{"$f":"IF(J40,IF(J41=2,\"Percent Method Applied\",\"Not Relevant\"),\"\")","v":"Percent Method Applied"}]
[null,null,"Include Shareholder Debt IDC in Project Cost",null,null,null,null,null,null,true,null,{"$f":"IF(J40,IF(J44,\"Include Shareholder IDC in Project Cost\",\"Do not include Shareholder Debt IDC in Project Cost\"),\"\")","v":"Include Shareholder IDC in Project Cost"}]
[null,null,"Shareholder Interest Deductibility Percent",null,null,null,null,null,null,1]
[null,null,"DSRA Forward Periods (Percent if Annual)",null,null,null,null,null,null,{"$f":"'Financial Model'!F55","v":1},null,{"$f":"IF(J46<1,\"DSRA Using Percent of Prospective Debt Service\",\"DSRA Using DSRA Periods\")","v":"DSRA Using DSRA Periods"}]
[null,null,"DSRA Letter of Credit (TRUE-L/C; NOT TRUE - Funded)",null,null,null,null,null,null,false,null,{"$f":"IF(J47,\"Using Letter of Credit for DSRA\",\"Cash Based for DSRA\")","v":"Cash Based for DSRA"}]
[null,null,"Interest Income Rate for DSRA",null,null,null,null,null,null,0,0,0,0,0,0,0,0,0,0,0,0,0,0,0,0,0,0,0,0,0,0,0,0,0,0,0,0,0,0,0,0,0,0,0,0,0,0,0,0,0,0,0,0,0,0,0,0,0,0,0,0,0,0,0,0,0,0,0,0,0,0,0,0,0,0,0,0,0,0,0,0,0,0,0,0,0,0,0,0,0,0,0,0,0,0,0,0,0,0,0,0,0,0,0,0,0,0,0,0,0,0,0,0,0,0,0,0,0,0,0,0,0,0,0,0,0,0,0,0,0,0,0,0,0,0,0,0,0,0,0,0,0,0,0,0,0,0,0,0,0,0,0,0,0,0,0]
[null,null,"Fee Percent for DSRA Letter of Credit",null,null,null,null,null,null,0,0,0,0,0,0,0,0,0,0,0,0,0,0,0,0,0,0,0,0,0,0,0,0,0,0,0,0,0,0,0,0,0,0,0,0,0,0,0,0,0,0,0,0,0,0,0,0,0,0,0,0,0,0,0,0,0,0,0,0,0,0,0,0,0,0,0,0,0,0,0,0,0,0,0,0,0,0,0,0,0,0,0,0,0,0,0,0,0,0,0,0,0,0,0,0,0,0,0,0,0,0,0,0,0,0,0,0,0,0,0,0,0,0,0,0,0,0,0,0,0,0,0,0,0,0,0,0,0,0,0,0,0,0,0,0,0,0,0,0,0,0,0,0,0,0,0]
[null,null,"MRA Net Cash Flows",null,null,null,null,null,null,0,0,0,0,0,0,0,0,0,0,0,0,0,0,0,0,0,0,0,0,0,0,0,0,0,0,0,0,0,0,0,0,0,0,0,0,0,0,0,0,0,0,0,0,0,0,0,0,0,0,0,0,0,0,0,0,0,0,0,0,0,0,0,0,0,0,0,0,0,0,0,0,0,0,0,0,0,0,0,0,0,0,0,0,0,0,0,0,0,0,0,0,0,0,0,0,0,0,0,0,0,0,0,0,0,0,0,0,0,0,0,0,0,0,0,0,0,0,0,0,0,0,0,0,0,0,0,0,0,0,0,0,0,0,0,0,0,0,0,0,0,0,0,0,0,0,0]
[null,null,"Option to Include DSRA Changes in CFADS or Debt Service (1-3)",null,null,null,null,null,null,1,null,{"$f":"CHOOSE(J51,\"DSRA Flows Do Not Affect CFADS or Sculpting\",\"DSRA Changes in CFADS\",\"DSRA Chages in Debt Service\")","v":"DSRA Flows Do Not Affect CFADS or Sculpting"}]
[null,null,"Taxes on Development Fee",null,null,null,null,null,null,false]
[null,null,"Taxes on Pre-COD Income",null,null,null,null,null,null,false]
[null,null,"Percent of Development Fee at Financial Close (Can Change to COD)",null,null,null,null,null,null,1]
[null,null,"EBL Switch (True is include)",null,null,null,null,null,null,false,null,{"$f":"IF(J55,\"EBL Included\",\"EBL Not Included\")","v":"EBL Not Included"}]
[null,null,"Initial Share Capital in Case of EBL",null,null,null,null,null,null,0]
[null,null,"Percent of Debt Subject to Witholding Tax",null,null,null,null,null,null,0]
[null,null,"Witholding Tax Rate",null,null,null,null,null,null,0,0,0,0,0,0,0,0,0,0,0,0,0,0,0,0,0,0,0,0,0,0,0,0,0,0,0,0,0,0,0,0,0,0,0,0,0,0,0,0,0,0,0,0,0,0,0,0,0,0,0,0,0,0,0,0,0,0,0,0,0,0,0,0,0,0,0,0,0,0,0,0,0,0,0,0,0,0,0,0,0,0,0,0,0,0,0,0,0,0,0,0,0,0,0,0,0,0,0,0,0,0,0,0,0,0,0,0,0,0,0,0,0,0,0,0,0,0,0,0,0,0,0,0,0,0,0,0,0,0,0,0,0,0,0,0,0,0,0,0,0,0,0,0,0,0,0]
[null,null,"Working Capital Facility Switch",null,null,null,null,null,null,true]
[null,null,"Standby Commitment Switch (True is Inpt)",null,null,null,null,null,null,false]
[null,null,"Grace Period for Senior Sculpting (in Periods)",null,null,null,null,null,null,0]
[null,null,"Number of Debt Issues",null,null,null,null,null,null,2,null,{"$f":"IF(J62<1,\"You Must Enter the number of debt issues that are applied\",\"You Must Enter the number of debt issues\")","v":"You Must Enter the number of debt issues"}]
[null,null,"Blank Input",null,null,null,null,null,null,false]
[]
[]
[]
["Issue by Issue Debt"]
[null,"Issue 1 - Start the selection here"]
[null,null,"Senior/Mezz Debt (1-Senior; 2-Mezz; 3-Shareholder Loan; 4--EBL; 5--WC; 6 -- Standby; 7 VAT)",null,null,null,null,null,null,1,{"$f":"CHOOSE(J69,\"Senior Debt Facility\",\"Mezzanine Debt Facility\",\"Shareholder Loan\",\"Equity Bridge Loan\",\"Working Capital Facility\",\"Standby Debt Facility\",\"VAT Facility\")","v":"Senior Debt Facility"}]
[null,null,{"$f":"CHOOSE(J69,\"Percent of Senior Debt Loans (zero for re-finance)\",\"Percent of Mezzanine Debt Loans\",\"Percent of Shareholder Loans\",\"Percent of EBL\",\"Percent of Working Capital Facility\",\"Percent of Standby Debt\",\"Percent of VAT Facilities\")","v":"Percent of Senior Debt Loans (zero for re-finance)"},null,null,null,null,null,null,1]
[null,null,"Periodic Interest Rate",null,null,null,null,null,null,{"$f":"'Financial Model'!J185","v":2.6666666666666666E-3},{"$f":"'Financial Model'!K185","v":2.6666666666666666E-3},{"$f":"'Financial Model'!L185","v":2.6666666666666666E-3},{"$f":"'Financial Model'!M185","v":2.6666666666666666E-3},{"$f":"'Financial Model'!N185","v":2.6666666666666666E-3},{"$f":"'Financial Model'!O185","v":2.6666666666666666E-3},{"$f":"'Financial Model'!P185","v":2.6666666666666666E-3},{"$f":"'Financial Model'!Q185","v":2.6666666666666666E-3},{"$f":"'Financial Model'!R185","v":2.6666666666666666E-3},{"$f":"'Financial Model'!S185","v":2.6666666666666666E-3},{"$f":"'Financial Model'!T185","v":2.6666666666666666E-3},{"$f":"'Financial Model'!U185","v":2.6666666666666666E-3},{"$f":"'Financial Model'!V185","v":2.6666666666666666E-3},{"$f":"'Financial Model'!W185","v":2.6666666666666666E-3},{"$f":"'Financial Model'!X185","v":2.6666666666666666E-3},{"$f":"'Financial Model'!Y185","v":2.6666666666666666E-3},{"$f":"'Financial Model'!Z185","v":2.6666666666666666E-3},{"$f":"'Financial Model'!AA185","v":2.6666666666666666E-3},{"$f":"'Financial Model'!AB185","v":2.6666666666666666E-3},{"$f":"'Financial Model'!AC185","v":2.6666666666666666E-3},{"$f":"'Financial Model'!AD185","v":2.6666666666666666E-3},{"$f":"'Financial Model'!AE185","v":2.6666666666666666E-3},{"$f":"'Financial Model'!AF185","v":2.6666666666666666E-3},{"$f":"'Financial Model'!AG185","v":2.6666666666666666E-3},{"$f":"'Financial Model'!AH185","v":2.6666666666666666E-3},{"$f":"'Financial Model'!AI185","v":2.6666666666666666E-3},{"$f":"'Financial Model'!AJ185","v":2.6666666666666666E-3},{"$f":"'Financial Model'!AK185","v":2.6666666666666666E-3},{"$f":"'Financial Model'!AL185","v":2.6666666666666666E-3},{"$f":"'Financial Model'!AM185","v":2.6666666666666666E-3},{"$f":"'Financial Model'!AN185","v":2.6666666666666666E-3},{"$f":"'Financial Model'!AO185","v":2.6666666666666666E-3},{"$f":"'Financial Model'!AP185","v":2.6666666666666666E-3},{"$f":"'Financial Model'!AQ185","v":2.6666666666666666E-3},{"$f":"'Financial Model'!AR185","v":2.6666666666666666E-3},{"$f":"'Financial Model'!AS185","v":2.6666666666666666E-3},{"$f":"'Financial Model'!AT185","v":1.7250000000000001E-2},{"$f":"'Financial Model'!AU185","v":1.7250000000000001E-2},{"$f":"'Financial Model'!AV185","v":1.7250000000000001E-2},{"$f":"'Financial Model'!AW185","v":1.7250000000000001E-2},{"$f":"'Financial Model'!AX185","v":1.7250000000000001E-2},{"$f":"'Financial Model'!AY185","v":1.7250000000000001E-2},{"$f":"'Financial Model'!AZ185","v":1.7250000000000001E-2},{"$f":"'Financial Model'!BA185","v":1.7250000000000001E-2},{"$f":"'Financial Model'!BB185","v":1.8499999999999999E-2},{"$f":"'Financial Model'!BC185","v":1.8499999999999999E-2},{"$f":"'Financial Model'!BD185","v":1.8499999999999999E-2},{"$f":"'Financial Model'!BE185","v":1.8499999999999999E-2},{"$f":"'Financial Model'!BF185","v":1.8499999999999999E-2},{"$f":"'Financial Model'!BG185","v":1.8499999999999999E-2},{"$f":"'Financial Model'!BH185","v":1.8499999999999999E-2},{"$f":"'Financial Model'!BI185","v":1.8499999999999999E-2},{"$f":"'Financial Model'!BJ185","v":1.9749999999999997E-2},{"$f":"'Financial Model'!BK185","v":1.9749999999999997E-2},{"$f":"'Financial Model'!BL185","v":1.9749999999999997E-2},{"$f":"'Financial Model'!BM185","v":1.9749999999999997E-2},{"$f":"'Financial Model'!BN185","v":1.9749999999999997E-2},{"$f":"'Financial Model'!BO185","v":1.9749999999999997E-2},{"$f":"'Financial Model'!BP185","v":1.9749999999999997E-2},{"$f":"'Financial Model'!BQ185","v":1.9749999999999997E-2},{"$f":"'Financial Model'!BR185","v":2.0999999999999998E-2},{"$f":"'Financial Model'!BS185","v":2.0999999999999998E-2},{"$f":"'Financial Model'!BT185","v":2.0999999999999998E-2},{"$f":"'Financial Model'!BU185","v":2.0999999999999998E-2},{"$f":"'Financial Model'!BV185","v":2.0999999999999998E-2},{"$f":"'Financial Model'!BW185","v":2.0999999999999998E-2},{"$f":"'Financial Model'!BX185","v":2.0999999999999998E-2},{"$f":"'Financial Model'!BY185","v":2.0999999999999998E-2},{"$f":"'Financial Model'!BZ185","v":2.0999999999999998E-2},{"$f":"'Financial Model'!CA185","v":2.0999999999999998E-2},{"$f":"'Financial Model'!CB185","v":2.0999999999999998E-2},{"$f":"'Financial Model'!CC185","v":2.0999999999999998E-2},{"$f":"'Financial Model'!CD185","v":2.0999999999999998E-2},{"$f":"'Financial Model'!CE185","v":2.0999999999999998E-2},{"$f":"'Financial Model'!CF185","v":2.0999999999999998E-2},{"$f":"'Financial Model'!CG185","v":2.0999999999999998E-2},{"$f":"'Financial Model'!CH185","v":2.0999999999999998E-2},{"$f":"'Financial Model'!CI185","v":2.0999999999999998E-2},{"$f":"'Financial Model'!CJ185","v":2.0999999999999998E-2},{"$f":"'Financial Model'!CK185","v":2.0999999999999998E-2},{"$f":"'Financial Model'!CL185","v":2.0999999999999998E-2},{"$f":"'Financial Model'!CM185","v":2.0999999999999998E-2},{"$f":"'Financial Model'!CN185","v":2.0999999999999998E-2},{"$f":"'Financial Model'!CO185","v":2.0999999999999998E-2},{"$f":"'Financial Model'!CP185","v":2.0999999999999998E-2},{"$f":"'Financial Model'!CQ185","v":2.0999999999999998E-2},{"$f":"'Financial Model'!CR185","v":2.0999999999999998E-2},{"$f":"'Financial Model'!CS185","v":2.0999999999999998E-2},{"$f":"'Financial Model'!CT185","v":2.0999999999999998E-2},{"$f":"'Financial Model'!CU185","v":2.0999999999999998E-2},{"$f":"'Financial Model'!CV185","v":2.0999999999999998E-2},{"$f":"'Financial Model'!CW185","v":2.0999999999999998E-2},{"$f":"'Financial Model'!CX185","v":2.0999999999999998E-2},{"$f":"'Financial Model'!CY185","v":2.0999999999999998E-2},{"$f":"'Financial Model'!CZ185","v":2.0999999999999998E-2},{"$f":"'Financial Model'!DA185","v":2.0999999999999998E-2},{"$f":"'Financial Model'!DB185","v":2.0999999999999998E-2},{"$f":"'Financial Model'!DC185","v":2.0999999999999998E-2},{"$f":"'Financial Model'!DD185","v":2.0999999999999998E-2},{"$f":"'Financial Model'!DE185","v":2.0999999999999998E-2},{"$f":"'Financial Model'!DF185","v":2.0999999999999998E-2},{"$f":"'Financial Model'!DG185","v":2.0999999999999998E-2},{"$f":"'Financial Model'!DH185","v":2.0999999999999998E-2},{"$f":"'Financial Model'!DI185","v":2.0999999999999998E-2},{"$f":"'Financial Model'!DJ185","v":2.0999999999999998E-2},{"$f":"'Financial Model'!DK185","v":2.0999999999999998E-2},{"$f":"'Financial Model'!DL185","v":2.0999999999999998E-2},{"$f":"'Financial Model'!DM185","v":2.0999999999999998E-2},{"$f":"'Financial Model'!DN185","v":2.0999999999999998E-2},{"$f":"'Financial Model'!DO185","v":2.0999999999999998E-2},{"$f":"'Financial Model'!DP185","v":2.0999999999999998E-2},{"$f":"'Financial Model'!DQ185","v":2.0999999999999998E-2},{"$f":"'Financial Model'!DR185","v":2.0999999999999998E-2},{"$f":"'Financial Model'!DS185","v":2.0999999999999998E-2},{"$f":"'Financial Model'!DT185","v":2.0999999999999998E-2},{"$f":"'Financial Model'!DU185","v":2.0999999999999998E-2},{"$f":"'Financial Model'!DV185","v":2.0999999999999998E-2},{"$f":"'Financial Model'!DW185","v":2.0999999999999998E-2},{"$f":"'Financial Model'!DX185","v":2.0999999999999998E-2},{"$f":"'Financial Model'!DY185","v":2.0999999999999998E-2},{"$f":"'Financial Model'!DZ185","v":2.0999999999999998E-2},{"$f":"'Financial Model'!EA185","v":2.0999999999999998E-2},{"$f":"'Financial Model'!EB185","v":2.0999999999999998E-2},{"$f":"'Financial Model'!EC185","v":2.0999999999999998E-2},{"$f":"'Financial Model'!ED185","v":2.0999999999999998E-2},{"$f":"'Financial Model'!EE185","v":2.0999999999999998E-2},{"$f":"'Financial Model'!EF185","v":2.0999999999999998E-2},{"$f":"'Financial Model'!EG185","v":2.0999999999999998E-2},{"$f":"'Financial Model'!EH185","v":2.0999999999999998E-2},{"$f":"'Financial Model'!EI185","v":2.0999999999999998E-2},{"$f":"'Financial Model'!EJ185","v":2.0999999999999998E-2},{"$f":"'Financial Model'!EK185","v":2.0999999999999998E-2},{"$f":"'Financial Model'!EL185","v":2.0999999999999998E-2},{"$f":"'Financial Model'!EM185","v":2.0999999999999998E-2},{"$f":"'Financial Model'!EN185","v":2.0999999999999998E-2},{"$f":"'Financial Model'!EO185","v":2.0999999999999998E-2},{"$f":"'Financial Model'!EP185","v":2.0999999999999998E-2},{"$f":"'Financial Model'!EQ185","v":2.0999999999999998E-2},{"$f":"'Financial Model'!ER185","v":2.0999999999999998E-2},{"$f":"'Financial Model'!ES185","v":2.0999999999999998E-2},{"$f":"'Financial Model'!ET185","v":2.0999999999999998E-2},{"$f":"'Financial Model'!EU185","v":2.0999999999999998E-2},{"$f":"'Financial Model'!EV185","v":2.0999999999999998E-2},{"$f":"'Financial Model'!EW185","v":2.0999999999999998E-2},{"$f":"'Financial Model'!EX185","v":2.0999999999999998E-2},{"$f":"'Financial Model'!EY185","v":2.0999999999999998E-2},{"$f":"'Financial Model'!EZ185","v":2.0999999999999998E-2}]
[null,null,"Up-Front Fee",null,null,null,null,null,null,{"$f":"'Financial Model'!F53","v":1.4999999999999999E-2}]
[null,null,"Periodic Commitment Fee",null,null,null,null,null,null,{"$f":"'Financial Model'!J302","v":8.3333333333333339E-4},{"$f":"'Financial Model'!K302","v":8.3333333333333339E-4},{"$f":"'Financial Model'!L302","v":8.3333333333333339E-4},{"$f":"'Financial Model'!M302","v":8.3333333333333339E-4},{"$f":"'Financial Model'!N302","v":8.3333333333333339E-4},{"$f":"'Financial Model'!O302","v":8.3333333333333339E-4},{"$f":"'Financial Model'!P302","v":8.3333333333333339E-4},{"$f":"'Financial Model'!Q302","v":8.3333333333333339E-4},{"$f":"'Financial Model'!R302","v":8.3333333333333339E-4},{"$f":"'Financial Model'!S302","v":8.3333333333333339E-4},{"$f":"'Financial Model'!T302","v":8.3333333333333339E-4},{"$f":"'Financial Model'!U302","v":8.3333333333333339E-4},{"$f":"'Financial Model'!V302","v":8.3333333333333339E-4},{"$f":"'Financial Model'!W302","v":8.3333333333333339E-4},{"$f":"'Financial Model'!X302","v":8.3333333333333339E-4},{"$f":"'Financial Model'!Y302","v":8.3333333333333339E-4},{"$f":"'Financial Model'!Z302","v":8.3333333333333339E-4},{"$f":"'Financial Model'!AA302","v":8.3333333333333339E-4},{"$f":"'Financial Model'!AB302","v":8.3333333333333339E-4},{"$f":"'Financial Model'!AC302","v":8.3333333333333339E-4},{"$f":"'Financial Model'!AD302","v":8.3333333333333339E-4},{"$f":"'Financial Model'!AE302","v":8.3333333333333339E-4},{"$f":"'Financial Model'!AF302","v":8.3333333333333339E-4},{"$f":"'Financial Model'!AG302","v":8.3333333333333339E-4},{"$f":"'Financial Model'!AH302","v":8.3333333333333339E-4},{"$f":"'Financial Model'!AI302","v":8.3333333333333339E-4},{"$f":"'Financial Model'!AJ302","v":8.3333333333333339E-4},{"$f":"'Financial Model'!AK302","v":8.3333333333333339E-4},{"$f":"'Financial Model'!AL302","v":8.3333333333333339E-4},{"$f":"'Financial Model'!AM302","v":8.3333333333333339E-4},{"$f":"'Financial Model'!AN302","v":8.3333333333333339E-4},{"$f":"'Financial Model'!AO302","v":8.3333333333333339E-4},{"$f":"'Financial Model'!AP302","v":8.3333333333333339E-4},{"$f":"'Financial Model'!AQ302","v":8.3333333333333339E-4},{"$f":"'Financial Model'!AR302","v":8.3333333333333339E-4},{"$f":"'Financial Model'!AS302","v":8.3333333333333339E-4},{"$f":"'Financial Model'!AT302","v":5.0000000000000001E-3},{"$f":"'Financial Model'!AU302","v":5.0000000000000001E-3},{"$f":"'Financial Model'!AV302","v":5.0000000000000001E-3},{"$f":"'Financial Model'!AW302","v":5.0000000000000001E-3},{"$f":"'Financial Model'!AX302","v":5.0000000000000001E-3},{"$f":"'Financial Model'!AY302","v":5.0000000000000001E-3},{"$f":"'Financial Model'!AZ302","v":5.0000000000000001E-3},{"$f":"'Financial Model'!BA302","v":5.0000000000000001E-3},{"$f":"'Financial Model'!BB302","v":5.0000000000000001E-3},{"$f":"'Financial Model'!BC302","v":5.0000000000000001E-3},{"$f":"'Financial Model'!BD302","v":5.0000000000000001E-3},{"$f":"'Financial Model'!BE302","v":5.0000000000000001E-3},{"$f":"'Financial Model'!BF302","v":5.0000000000000001E-3},{"$f":"'Financial Model'!BG302","v":5.0000000000000001E-3},{"$f":"'Financial Model'!BH302","v":5.0000000000000001E-3},{"$f":"'Financial Model'!BI302","v":5.0000000000000001E-3},{"$f":"'Financial Model'!BJ302","v":5.0000000000000001E-3},{"$f":"'Financial Model'!BK302","v":5.0000000000000001E-3},{"$f":"'Financial Model'!BL302","v":5.0000000000000001E-3},{"$f":"'Financial Model'!BM302","v":5.0000000000000001E-3},{"$f":"'Financial Model'!BN302","v":5.0000000000000001E-3},{"$f":"'Financial Model'!BO302","v":5.0000000000000001E-3},{"$f":"'Financial Model'!BP302","v":5.0000000000000001E-3},{"$f":"'Financial Model'!BQ302","v":5.0000000000000001E-3},{"$f":"'Financial Model'!BR302","v":5.0000000000000001E-3},{"$f":"'Financial Model'!BS302","v":5.0000000000000001E-3},{"$f":"'Financial Model'!BT302","v":5.0000000000000001E-3},{"$f":"'Financial Model'!BU302","v":5.0000000000000001E-3},{"$f":"'Financial Model'!BV302","v":5.0000000000000001E-3},{"$f":"'Financial Model'!BW302","v":5.0000000000000001E-3},{"$f":"'Financial Model'!BX302","v":5.0000000000000001E-3},{"$f":"'Financial Model'!BY302","v":5.0000000000000001E-3},{"$f":"'Financial Model'!BZ302","v":5.0000000000000001E-3},{"$f":"'Financial Model'!CA302","v":5.0000000000000001E-3},{"$f":"'Financial Model'!CB302","v":5.0000000000000001E-3},{"$f":"'Financial Model'!CC302","v":5.0000000000000001E-3},{"$f":"'Financial Model'!CD302","v":5.0000000000000001E-3},{"$f":"'Financial Model'!CE302","v":5.0000000000000001E-3},{"$f":"'Financial Model'!CF302","v":5.0000000000000001E-3},{"$f":"'Financial Model'!CG302","v":5.0000000000000001E-3},{"$f":"'Financial Model'!CH302","v":5.0000000000000001E-3},{"$f":"'Financial Model'!CI302","v":5.0000000000000001E-3},{"$f":"'Financial Model'!CJ302","v":5.0000000000000001E-3},{"$f":"'Financial Model'!CK302","v":5.0000000000000001E-3},{"$f":"'Financial Model'!CL302","v":5.0000000000000001E-3},{"$f":"'Financial Model'!CM302","v":5.0000000000000001E-3},{"$f":"'Financial Model'!CN302","v":5.0000000000000001E-3},{"$f":"'Financial Model'!CO302","v":5.0000000000000001E-3},{"$f":"'Financial Model'!CP302","v":5.0000000000000001E-3},{"$f":"'Financial Model'!CQ302","v":5.0000000000000001E-3},{"$f":"'Financial Model'!CR302","v":5.0000000000000001E-3},{"$f":"'Financial Model'!CS302","v":5.0000000000000001E-3},{"$f":"'Financial Model'!CT302","v":5.0000000000000001E-3},{"$f":"'Financial Model'!CU302","v":5.0000000000000001E-3},{"$f":"'Financial Model'!CV302","v":5.0000000000000001E-3},{"$f":"'Financial Model'!CW302","v":5.0000000000000001E-3},{"$f":"'Financial Model'!CX302","v":5.0000000000000001E-3},{"$f":"'Financial Model'!CY302","v":5.0000000000000001E-3},{"$f":"'Financial Model'!CZ302","v":5.0000000000000001E-3},{"$f":"'Financial Model'!DA302","v":5.0000000000000001E-3},{"$f":"'Financial Model'!DB302","v":5.0000000000000001E-3},{"$f":"'Financial Model'!DC302","v":5.0000000000000001E-3},{"$f":"'Financial Model'!DD302","v":5.0000000000000001E-3},{"$f":"'Financial Model'!DE302","v":5.0000000000000001E-3},{"$f":"'Financial Model'!DF302","v":5.0000000000000001E-3},{"$f":"'Financial Model'!DG302","v":5.0000000000000001E-3},{"$f":"'Financial Model'!DH302","v":5.0000000000000001E-3},{"$f":"'Financial Model'!DI302","v":5.0000000000000001E-3},{"$f":"'Financial Model'!DJ302","v":5.0000000000000001E-3},{"$f":"'Financial Model'!DK302","v":5.0000000000000001E-3},{"$f":"'Financial Model'!DL302","v":5.0000000000000001E-3},{"$f":"'Financial Model'!DM302","v":5.0000000000000001E-3},{"$f":"'Financial Model'!DN302","v":5.0000000000000001E-3},{"$f":"'Financial Model'!DO302","v":5.0000000000000001E-3},{"$f":"'Financial Model'!DP302","v":5.0000000000000001E-3},{"$f":"'Financial Model'!DQ302","v":5.0000000000000001E-3},{"$f":"'Financial Model'!DR302","v":5.0000000000000001E-3},{"$f":"'Financial Model'!DS302","v":5.0000000000000001E-3},{"$f":"'Financial Model'!DT302","v":5.0000000000000001E-3},{"$f":"'Financial Model'!DU302","v":5.0000000000000001E-3},{"$f":"'Financial Model'!DV302","v":5.0000000000000001E-3},{"$f":"'Financial Model'!DW302","v":5.0000000000000001E-3},{"$f":"'Financial Model'!DX302","v":5.0000000000000001E-3},{"$f":"'Financial Model'!DY302","v":5.0000000000000001E-3},{"$f":"'Financial Model'!DZ302","v":5.0000000000000001E-3},{"$f":"'Financial Model'!EA302","v":5.0000000000000001E-3},{"$f":"'Financial Model'!EB302","v":5.0000000000000001E-3},{"$f":"'Financial Model'!EC302","v":5.0000000000000001E-3},{"$f":"'Financial Model'!ED302","v":5.0000000000000001E-3},{"$f":"'Financial Model'!EE302","v":5.0000000000000001E-3},{"$f":"'Financial Model'!EF302","v":5.0000000000000001E-3},{"$f":"'Financial Model'!EG302","v":5.0000000000000001E-3},{"$f":"'Financial Model'!EH302","v":5.0000000000000001E-3},{"$f":"'Financial Model'!EI302","v":5.0000000000000001E-3},{"$f":"'Financial Model'!EJ302","v":5.0000000000000001E-3},{"$f":"'Financial Model'!EK302","v":5.0000000000000001E-3},{"$f":"'Financial Model'!EL302","v":5.0000000000000001E-3},{"$f":"'Financial Model'!EM302","v":5.0000000000000001E-3},{"$f":"'Financial Model'!EN302","v":5.0000000000000001E-3},{"$f":"'Financial Model'!EO302","v":5.0000000000000001E-3},{"$f":"'Financial Model'!EP302","v":5.0000000000000001E-3},{"$f":"'Financial Model'!EQ302","v":5.0000000000000001E-3},{"$f":"'Financial Model'!ER302","v":5.0000000000000001E-3},{"$f":"'Financial Model'!ES302","v":5.0000000000000001E-3},{"$f":"'Financial Model'!ET302","v":5.0000000000000001E-3},{"$f":"'Financial Model'!EU302","v":5.0000000000000001E-3},{"$f":"'Financial Model'!EV302","v":5.0000000000000001E-3},{"$f":"'Financial Model'!EW302","v":5.0000000000000001E-3},{"$f":"'Financial Model'!EX302","v":5.0000000000000001E-3},{"$f":"'Financial Model'!EY302","v":5.0000000000000001E-3},{"$f":"'Financial Model'!EZ302","v":5.0000000000000001E-3}]
[null,null,"PRI (Political Risk Insurance)",null,null,null,null,null,null,0,0,0,0,0,0,0,0,0,0,0,0,0,0,0,0,0,0,0,0,0,0,0,0,0,0,0,0,0,0,0,0,0,0,0,0,0,0,0,0,0,0,0,0,0,0,0,0,0,0,0,0,0,0,0,0,0,0,0,0,0,0,0,0,0,0,0,0,0,0,0,0,0,0,0,0,0,0,0,0,0,0,0,0,0,0,0,0,0,0,0,0,0,0,0,0,0,0,0,0,0,0,0,0,0,0,0,0,0,0,0,0,0,0,0,0,0,0,0,0,0,0,0,0,0,0,0,0,0,0,0,0,0,0,0,0,0,0,0,0,0,0,0,0,0,0,0]
[null,null,"Capitalised Interest During Construction Switch",null,null,null,null,null,null,0]
[null,null,"Capitalised Fee During Construction Switch",null,null,null,null,null,null,0]
[null,null,"Sculpting Switch - TRUE is Automated Sculpting",null,null,null,null,null,null,true,{"$f":"IF(J77,\"Sculpting from DSCR -- Fixed Repayment Percentages Not Used\",\"Fixed Input Percentages Used\")","v":"Sculpting from DSCR -- Fixed Repayment Percentages Not Used"}]
[null,null,"Debt Tenure - periods post COD (EBL - periods post Fin Close)",null,null,null,null,null,null,{"$f":"'Financial Model'!F44","v":54}]
[null,null,"Repayment Percent Input"]
[null,null,"Balloon Percent",null,null,null,null,null,null,0]
[null,null,"Sweep Percent",null,null,null,null,null,null,{"$f":"'Financial Model'!F56","v":0},{"$f":"IF(J81>0,\" Cash Flow Sweep of \"&TEXT(J81,\" ##.00%\"),\"\")","v":""}]
[null,null,"Start Period after COD for Sweep",null,null,null,null,null,null,0]
[null,null,"Post COD Fee as Percent of Debt (other than LC Fee)",null,null,null,null,null,null,0,0,0,0,0,0,0,0,0,0,0,0,0,0,0,0,0,0,0,0,0,0,0,0,0,0,0,0,0,0,0,0,0,0,0,0,0,0,0,0,0,0,0,0,0,0,0,0,0,0,0,0,0,0,0,0,0,0,0,0,0,0,0,0,0,0,0,0,0,0,0,0,0,0,0,0,0,0,0,0,0,0,0,0,0,0,0,0,0,0,0,0,0,0,0,0,0,0,0,0,0,0,0,0,0,0,0,0,0,0,0,0,0,0,0,0,0,0,0,0,0,0,0,0,0,0,0,0,0,0,0,0,0,0,0,0,0,0,0,0,0,0,0,0,0,0,0]
[null,null,"Re-financing Issue",null,null,null,null,null,null,false,{"$f":"IF(J84,\"This is a Re-financing Debt Facility\",\"\")","v":""}]
[null,null,"Period of Re-financing -- period after COD ",null,null,null,null,null,null,50,{"$f":"IF(J84,\"Periods after COD for Re-financing -- Put in a large number to turn off\",\"\")","v":""}]
[null,null,"Fixed Amount of Re-financing",null,null,null,null,null,null,0]
[null,null,"DSCR for Sculpted Re-financing",null,null,null,null,null,null,0]
[null,null,"Tenor of Re-financing in Periods",null,null,null,null,null,null,20]
[null,null,"Breakage Costs and Re-financing Fees",null,null,null,null,null,null,0]
[null,null,"Commitment (Not Funded e.g. Standby Commitment)",null,null,null,null,null,null,0]
[null,null,"Debt with Fixed Issue Date (Boolean)",null,null,null,null,null,null,false]
[null,null,"Commitment Amount for Debt with Fixed Funding Date",null,null,null,null,null,null,0]
[null,null,"Period in construction period of financing",null,null,null,null,null,null,0]
[null,"Issue 2 for Re-financing - Start the selection here"]
[null,null,"Senior/Mezz Debt (1-Senior; 2-Mezz; 3-Shareholder Loan; 4--EBL; 5--WC; 6 -- Standby; 7 VAT)",null,null,null,null,null,null,1,{"$f":"CHOOSE(J95,\"Senior Debt Facility\",\"Mezzanine Debt Facility\",\"Shareholder Loan\",\"Equity Bridge Loan\",\"Working Capital Facility\",\"Standby Debt Facility\",\"VAT Facility\")","v":"Senior Debt Facility"}]
[null,null,{"$f":"CHOOSE(J95,\"Percent of Senior Debt Loans (zero for re-finance)\",\"Percent of Mezzanine Debt Loans\",\"Percent of Shareholder Loans\",\"Percent of EBL\",\"Percent of Working Capital Facility\",\"Percent of Standby Debt\",\"Percent of VAT Facilities\")","v":"Percent of Senior Debt Loans (zero for re-finance)"},null,null,null,null,null,null,0]
[null,null,"Periodic Interest Rate",null,null,null,null,null,null,{"$f":"'Financial Model'!J226","v":2.9166666666666668E-3},{"$f":"'Financial Model'!K226","v":2.9166666666666668E-3},{"$f":"'Financial Model'!L226","v":2.9166666666666668E-3},{"$f":"'Financial Model'!M226","v":2.9166666666666668E-3},{"$f":"'Financial Model'!N226","v":2.9166666666666668E-3},{"$f":"'Financial Model'!O226","v":2.9166666666666668E-3},{"$f":"'Financial Model'!P226","v":2.9166666666666668E-3},{"$f":"'Financial Model'!Q226","v":2.9166666666666668E-3},{"$f":"'Financial Model'!R226","v":2.9166666666666668E-3},{"$f":"'Financial Model'!S226","v":2.9166666666666668E-3},{"$f":"'Financial Model'!T226","v":2.9166666666666668E-3},{"$f":"'Financial Model'!U226","v":2.9166666666666668E-3},{"$f":"'Financial Model'!V226","v":2.9166666666666668E-3},{"$f":"'Financial Model'!W226","v":2.9166666666666668E-3},{"$f":"'Financial Model'!X226","v":2.9166666666666668E-3},{"$f":"'Financial Model'!Y226","v":2.9166666666666668E-3},{"$f":"'Financial Model'!Z226","v":2.9166666666666668E-3},{"$f":"'Financial Model'!AA226","v":2.9166666666666668E-3},{"$f":"'Financial Model'!AB226","v":2.9166666666666668E-3},{"$f":"'Financial Model'!AC226","v":2.9166666666666668E-3},{"$f":"'Financial Model'!AD226","v":2.9166666666666668E-3},{"$f":"'Financial Model'!AE226","v":2.9166666666666668E-3},{"$f":"'Financial Model'!AF226","v":2.9166666666666668E-3},{"$f":"'Financial Model'!AG226","v":2.9166666666666668E-3},{"$f":"'Financial Model'!AH226","v":2.9166666666666668E-3},{"$f":"'Financial Model'!AI226","v":2.9166666666666668E-3},{"$f":"'Financial Model'!AJ226","v":2.9166666666666668E-3},{"$f":"'Financial Model'!AK226","v":2.9166666666666668E-3},{"$f":"'Financial Model'!AL226","v":2.9166666666666668E-3},{"$f":"'Financial Model'!AM226","v":2.9166666666666668E-3},{"$f":"'Financial Model'!AN226","v":2.9166666666666668E-3},{"$f":"'Financial Model'!AO226","v":2.9166666666666668E-3},{"$f":"'Financial Model'!AP226","v":2.9166666666666668E-3},{"$f":"'Financial Model'!AQ226","v":2.9166666666666668E-3},{"$f":"'Financial Model'!AR226","v":2.9166666666666668E-3},{"$f":"'Financial Model'!AS226","v":2.9166666666666668E-3},{"$f":"'Financial Model'!AT226","v":1.7500000000000002E-2},{"$f":"'Financial Model'!AU226","v":1.7500000000000002E-2},{"$f":"'Financial Model'!AV226","v":1.7500000000000002E-2},{"$f":"'Financial Model'!AW226","v":1.7500000000000002E-2},{"$f":"'Financial Model'!AX226","v":1.7500000000000002E-2},{"$f":"'Financial Model'!AY226","v":1.7500000000000002E-2},{"$f":"'Financial Model'!AZ226","v":1.7500000000000002E-2},{"$f":"'Financial Model'!BA226","v":1.7500000000000002E-2},{"$f":"'Financial Model'!BB226","v":1.7500000000000002E-2},{"$f":"'Financial Model'!BC226","v":1.7500000000000002E-2},{"$f":"'Financial Model'!BD226","v":1.7500000000000002E-2},{"$f":"'Financial Model'!BE226","v":1.7500000000000002E-2},{"$f":"'Financial Model'!BF226","v":1.7500000000000002E-2},{"$f":"'Financial Model'!BG226","v":1.7500000000000002E-2},{"$f":"'Financial Model'!BH226","v":1.7500000000000002E-2},{"$f":"'Financial Model'!BI226","v":1.7500000000000002E-2},{"$f":"'Financial Model'!BJ226","v":1.7500000000000002E-2},{"$f":"'Financial Model'!BK226","v":1.7500000000000002E-2},{"$f":"'Financial Model'!BL226","v":1.7500000000000002E-2},{"$f":"'Financial Model'!BM226","v":1.7500000000000002E-2},{"$f":"'Financial Model'!BN226","v":1.7500000000000002E-2},{"$f":"'Financial Model'!BO226","v":1.7500000000000002E-2},{"$f":"'Financial Model'!BP226","v":1.7500000000000002E-2},{"$f":"'Financial Model'!BQ226","v":1.7500000000000002E-2},{"$f":"'Financial Model'!BR226","v":1.7500000000000002E-2},{"$f":"'Financial Model'!BS226","v":1.7500000000000002E-2},{"$f":"'Financial Model'!BT226","v":1.7500000000000002E-2},{"$f":"'Financial Model'!BU226","v":1.7500000000000002E-2},{"$f":"'Financial Model'!BV226","v":1.7500000000000002E-2},{"$f":"'Financial Model'!BW226","v":1.7500000000000002E-2},{"$f":"'Financial Model'!BX226","v":1.7500000000000002E-2},{"$f":"'Financial Model'!BY226","v":1.7500000000000002E-2},{"$f":"'Financial Model'!BZ226","v":1.7500000000000002E-2},{"$f":"'Financial Model'!CA226","v":1.7500000000000002E-2},{"$f":"'Financial Model'!CB226","v":1.7500000000000002E-2},{"$f":"'Financial Model'!CC226","v":1.7500000000000002E-2},{"$f":"'Financial Model'!CD226","v":1.7500000000000002E-2},{"$f":"'Financial Model'!CE226","v":1.7500000000000002E-2},{"$f":"'Financial Model'!CF226","v":1.7500000000000002E-2},{"$f":"'Financial Model'!CG226","v":1.7500000000000002E-2},{"$f":"'Financial Model'!CH226","v":1.7500000000000002E-2},{"$f":"'Financial Model'!CI226","v":1.7500000000000002E-2},{"$f":"'Financial Model'!CJ226","v":1.7500000000000002E-2},{"$f":"'Financial Model'!CK226","v":1.7500000000000002E-2},{"$f":"'Financial Model'!CL226","v":1.7500000000000002E-2},{"$f":"'Financial Model'!CM226","v":1.7500000000000002E-2},{"$f":"'Financial Model'!CN226","v":1.7500000000000002E-2},{"$f":"'Financial Model'!CO226","v":1.7500000000000002E-2},{"$f":"'Financial Model'!CP226","v":1.7500000000000002E-2},{"$f":"'Financial Model'!CQ226","v":1.7500000000000002E-2},{"$f":"'Financial Model'!CR226","v":1.7500000000000002E-2},{"$f":"'Financial Model'!CS226","v":1.7500000000000002E-2},{"$f":"'Financial Model'!CT226","v":1.7500000000000002E-2},{"$f":"'Financial Model'!CU226","v":1.7500000000000002E-2},{"$f":"'Financial Model'!CV226","v":1.7500000000000002E-2},{"$f":"'Financial Model'!CW226","v":1.7500000000000002E-2},{"$f":"'Financial Model'!CX226","v":1.7500000000000002E-2},{"$f":"'Financial Model'!CY226","v":1.7500000000000002E-2},{"$f":"'Financial Model'!CZ226","v":1.7500000000000002E-2},{"$f":"'Financial Model'!DA226","v":1.7500000000000002E-2},{"$f":"'Financial Model'!DB226","v":1.7500000000000002E-2},{"$f":"'Financial Model'!DC226","v":1.7500000000000002E-2},{"$f":"'Financial Model'!DD226","v":1.7500000000000002E-2},{"$f":"'Financial Model'!DE226","v":1.7500000000000002E-2},{"$f":"'Financial Model'!DF226","v":1.7500000000000002E-2},{"$f":"'Financial Model'!DG226","v":1.7500000000000002E-2},{"$f":"'Financial Model'!DH226","v":1.7500000000000002E-2},{"$f":"'Financial Model'!DI226","v":1.7500000000000002E-2},{"$f":"'Financial Model'!DJ226","v":1.7500000000000002E-2},{"$f":"'Financial Model'!DK226","v":1.7500000000000002E-2},{"$f":"'Financial Model'!DL226","v":1.7500000000000002E-2},{"$f":"'Financial Model'!DM226","v":1.7500000000000002E-2},{"$f":"'Financial Model'!DN226","v":1.7500000000000002E-2},{"$f":"'Financial Model'!DO226","v":1.7500000000000002E-2},{"$f":"'Financial Model'!DP226","v":1.7500000000000002E-2},{"$f":"'Financial Model'!DQ226","v":1.7500000000000002E-2},{"$f":"'Financial Model'!DR226","v":1.7500000000000002E-2},{"$f":"'Financial Model'!DS226","v":1.7500000000000002E-2},{"$f":"'Financial Model'!DT226","v":1.7500000000000002E-2},{"$f":"'Financial Model'!DU226","v":1.7500000000000002E-2},{"$f":"'Financial Model'!DV226","v":1.7500000000000002E-2},{"$f":"'Financial Model'!DW226","v":1.7500000000000002E-2},{"$f":"'Financial Model'!DX226","v":1.7500000000000002E-2},{"$f":"'Financial Model'!DY226","v":1.7500000000000002E-2},{"$f":"'Financial Model'!DZ226","v":1.7500000000000002E-2},{"$f":"'Financial Model'!EA226","v":1.7500000000000002E-2},{"$f":"'Financial Model'!EB226","v":1.7500000000000002E-2},{"$f":"'Financial Model'!EC226","v":1.7500000000000002E-2},{"$f":"'Financial Model'!ED226","v":1.7500000000000002E-2},{"$f":"'Financial Model'!EE226","v":1.7500000000000002E-2},{"$f":"'Financial Model'!EF226","v":1.7500000000000002E-2},{"$f":"'Financial Model'!EG226","v":1.7500000000000002E-2},{"$f":"'Financial Model'!EH226","v":1.7500000000000002E-2},{"$f":"'Financial Model'!EI226","v":1.7500000000000002E-2},{"$f":"'Financial Model'!EJ226","v":1.7500000000000002E-2},{"$f":"'Financial Model'!EK226","v":1.7500000000000002E-2},{"$f":"'Financial Model'!EL226","v":1.7500000000000002E-2},{"$f":"'Financial Model'!EM226","v":1.7500000000000002E-2},{"$f":"'Financial Model'!EN226","v":1.7500000000000002E-2},{"$f":"'Financial Model'!EO226","v":1.7500000000000002E-2},{"$f":"'Financial Model'!EP226","v":1.7500000000000002E-2},{"$f":"'Financial Model'!EQ226","v":1.7500000000000002E-2},{"$f":"'Financial Model'!ER226","v":1.7500000000000002E-2},{"$f":"'Financial Model'!ES226","v":1.7500000000000002E-2},{"$f":"'Financial Model'!ET226","v":1.7500000000000002E-2},{"$f":"'Financial Model'!EU226","v":1.7500000000000002E-2},{"$f":"'Financial Model'!EV226","v":1.7500000000000002E-2},{"$f":"'Financial Model'!EW226","v":1.7500000000000002E-2},{"$f":"'Financial Model'!EX226","v":1.7500000000000002E-2},{"$f":"'Financial Model'!EY226","v":1.7500000000000002E-2},{"$f":"'Financial Model'!EZ226","v":1.7500000000000002E-2}]
[null,null,"Up-Front Fee",null,null,null,null,null,null,0]
[null,null,"Periodic Commitment Fee",null,null,null,null,null,null,0,0,0,0,0,0,0,0,0,0,0,0,0,0,0,0,0,0,0,0,0,0,0,0,0,0,0,0,0,0,0,0,0,0,0,0,0,0,0,0,0,0,0,0,0,0,0,0,0,0,0,0,0,0,0,0,0,0,0,0,0,0,0,0,0,0,0,0,0,0,0,0,0,0,0,0,0,0,0,0,0,0,0,0,0,0,0,0,0,0,0,0,0,0,0,0,0,0,0,0,0,0,0,0,0,0,0,0,0,0,0,0,0,0,0,0,0,0,0,0,0,0,0,0,0,0,0,0,0,0,0,0,0,0,0,0,0,0,0,0,0,0,0,0,0,0,0]
[null,null,"PRI (Political Risk Insurance)",null,null,null,null,null,null,0,0,0,0,0,0,0,0,0,0,0,0,0,0,0,0,0,0,0,0,0,0,0,0,0,0,0,0,0,0,0,0,0,0,0,0,0,0,0,0,0,0,0,0,0,0,0,0,0,0,0,0,0,0,0,0,0,0,0,0,0,0,0,0,0,0,0,0,0,0,0,0,0,0,0,0,0,0,0,0,0,0,0,0,0,0,0,0,0,0,0,0,0,0,0,0,0,0,0,0,0,0,0,0,0,0,0,0,0,0,0,0,0,0,0,0,0,0,0,0,0,0,0,0,0,0,0,0,0,0,0,0,0,0,0,0,0,0,0,0,0,0,0,0,0,0,0]
[null,null,"Capitalised Interest During Construction Switch",null,null,null,null,null,null,0]
[null,null,"Capitalised Fee During Construction Switch",null,null,null,null,null,null,0]
[null,null,"Sculpting Switch - TRUE is Automated Sculpting",null,null,null,null,null,null,true,{"$f":"IF(J103,\"Sculpting from DSCR -- Fixed Repayment Percentages Not Used\",\"Fixed Input Percentages Used\")","v":"Sculpting from DSCR -- Fixed Repayment Percentages Not Used"}]
[null,null,"Debt Tenure - periods post COD (EBL - periods post Fin Close)"]
[null,null,"Repayment Percent Input"]
[null,null,"Balloon Percent",null,null,null,null,null,null,0]
[null,null,"Sweep Percent",null,null,null,null,null,null,null,{"$f":"IF(J107>0,\" Cash Flow Sweep of \"&TEXT(J107,\" ##.00%\"),\"\")","v":""}]
[null,null,"Start Period after COD for Sweep",null,null,null,null,null,null,0]
[null,null,"Post COD Fee as Percent of Debt (other than LC Fee)",null,null,null,null,null,null,0,0,0,0,0,0,0,0,0,0,0,0,0,0,0,0,0,0,0,0,0,0,0,0,0,0,0,0,0,0,0,0,0,0,0,0,0,0,0,0,0,0,0,0,0,0,0,0,0,0,0,0,0,0,0,0,0,0,0,0,0,0,0,0,0,0,0,0,0,0,0,0,0,0,0,0,0,0,0,0,0,0,0,0,0,0,0,0,0,0,0,0,0,0,0,0,0,0,0,0,0,0,0,0,0,0,0,0,0,0,0,0,0,0,0,0,0,0,0,0,0,0,0,0,0,0,0,0,0,0,0,0,0,0,0,0,0,0,0,0,0,0,0,0,0,0,0]
[null,null,"Re-financing Issue",null,null,null,null,null,null,true,{"$f":"IF(J110,\"This is a Re-financing Debt Facility\",\"\")","v":"This is a Re-financing Debt Facility"}]
[null,null,"Period of Re-financing -- period after COD ",null,null,null,null,null,null,{"$f":"'Financial Model'!F76","v":72},{"$f":"IF(J110,\"Periods after COD for Re-financing -- Put in a large number to turn off\",\"\")","v":"Periods after COD for Re-financing -- Put in a large number to turn off"}]
[null,null,"Fixed Amount of Re-financing",null,null,null,null,null,null,0]
[null,null,"DSCR for Sculpted Re-financing",null,null,null,null,null,null,{"$f":"'Financial Model'!F78","v":1.25}]
[null,null,"Tenor of Re-financing in Periods",null,null,null,null,null,null,{"$f":"'Financial Model'!F83","v":-6}]
[null,null,"Breakage Costs and Re-financing Fees",null,null,null,null,null,null,0]
[null,null,"Commitment (Not Funded e.g. Standby Commitment)",null,null,null,null,null,null,0]
[null,null,"Debt with Fixed Issue Date (Boolean)",null,null,null,null,null,null,false]
[null,null,"Commitment Amount for Debt with Fixed Funding Date",null,null,null,null,null,null,0]
[null,null,"Period in construction period of financing",null,null,null,null,null,null,0]
[null,"Issue 3 for Second Re-financing - Start the selection here"]
[null,null,"Senior/Mezz Debt (1-Senior; 2-Mezz; 3-Shareholder Loan; 4--EBL; 5--WC; 6 -- Standby; 7 VAT)",null,null,null,null,null,null,1,{"$f":"CHOOSE(J121,\"Senior Debt Facility\",\"Mezzanine Debt Facility\",\"Shareholder Loan\",\"Equity Bridge Loan\",\"Working Capital Facility\",\"Standby Debt Facility\",\"VAT Facility\")","v":"Senior Debt Facility"}]
[null,null,{"$f":"CHOOSE(J121,\"Percent of Senior Debt Loans (zero for refinance)\",\"Percent of Mezzanine Debt Loans\",\"Percent of Shareholder Loans\",\"Percent of EBL\",\"Percent of Working Capital Facility\",\"Percent of Standby Debt\",\"Percent of VAT Facilities\")","v":"Percent of Senior Debt Loans (zero for refinance)"},null,null,null,null,null,null,0]
[null,null,"Periodic Interest Rate",null,null,null,null,null,null,{"$f":"'Financial Model'!J234","v":2.5000000000000001E-3},{"$f":"'Financial Model'!K234","v":2.5000000000000001E-3},{"$f":"'Financial Model'!L234","v":2.5000000000000001E-3},{"$f":"'Financial Model'!M234","v":2.5000000000000001E-3},{"$f":"'Financial Model'!N234","v":2.5000000000000001E-3},{"$f":"'Financial Model'!O234","v":2.5000000000000001E-3},{"$f":"'Financial Model'!P234","v":2.5000000000000001E-3},{"$f":"'Financial Model'!Q234","v":2.5000000000000001E-3},{"$f":"'Financial Model'!R234","v":2.5000000000000001E-3},{"$f":"'Financial Model'!S234","v":2.5000000000000001E-3},{"$f":"'Financial Model'!T234","v":2.5000000000000001E-3},{"$f":"'Financial Model'!U234","v":2.5000000000000001E-3},{"$f":"'Financial Model'!V234","v":2.5000000000000001E-3},{"$f":"'Financial Model'!W234","v":2.5000000000000001E-3},{"$f":"'Financial Model'!X234","v":2.5000000000000001E-3},{"$f":"'Financial Model'!Y234","v":2.5000000000000001E-3},{"$f":"'Financial Model'!Z234","v":2.5000000000000001E-3},{"$f":"'Financial Model'!AA234","v":2.5000000000000001E-3},{"$f":"'Financial Model'!AB234","v":2.5000000000000001E-3},{"$f":"'Financial Model'!AC234","v":2.5000000000000001E-3},{"$f":"'Financial Model'!AD234","v":2.5000000000000001E-3},{"$f":"'Financial Model'!AE234","v":2.5000000000000001E-3},{"$f":"'Financial Model'!AF234","v":2.5000000000000001E-3},{"$f":"'Financial Model'!AG234","v":2.5000000000000001E-3},{"$f":"'Financial Model'!AH234","v":2.5000000000000001E-3},{"$f":"'Financial Model'!AI234","v":2.5000000000000001E-3},{"$f":"'Financial Model'!AJ234","v":2.5000000000000001E-3},{"$f":"'Financial Model'!AK234","v":2.5000000000000001E-3},{"$f":"'Financial Model'!AL234","v":2.5000000000000001E-3},{"$f":"'Financial Model'!AM234","v":2.5000000000000001E-3},{"$f":"'Financial Model'!AN234","v":2.5000000000000001E-3},{"$f":"'Financial Model'!AO234","v":2.5000000000000001E-3},{"$f":"'Financial Model'!AP234","v":2.5000000000000001E-3},{"$f":"'Financial Model'!AQ234","v":2.5000000000000001E-3},{"$f":"'Financial Model'!AR234","v":2.5000000000000001E-3},{"$f":"'Financial Model'!AS234","v":2.5000000000000001E-3},{"$f":"'Financial Model'!AT234","v":1.4999999999999999E-2},{"$f":"'Financial Model'!AU234","v":1.4999999999999999E-2},{"$f":"'Financial Model'!AV234","v":1.4999999999999999E-2},{"$f":"'Financial Model'!AW234","v":1.4999999999999999E-2},{"$f":"'Financial Model'!AX234","v":1.4999999999999999E-2},{"$f":"'Financial Model'!AY234","v":1.4999999999999999E-2},{"$f":"'Financial Model'!AZ234","v":1.4999999999999999E-2},{"$f":"'Financial Model'!BA234","v":1.4999999999999999E-2},{"$f":"'Financial Model'!BB234","v":1.4999999999999999E-2},{"$f":"'Financial Model'!BC234","v":1.4999999999999999E-2},{"$f":"'Financial Model'!BD234","v":1.4999999999999999E-2},{"$f":"'Financial Model'!BE234","v":1.4999999999999999E-2},{"$f":"'Financial Model'!BF234","v":1.4999999999999999E-2},{"$f":"'Financial Model'!BG234","v":1.4999999999999999E-2},{"$f":"'Financial Model'!BH234","v":1.4999999999999999E-2},{"$f":"'Financial Model'!BI234","v":1.4999999999999999E-2},{"$f":"'Financial Model'!BJ234","v":1.4999999999999999E-2},{"$f":"'Financial Model'!BK234","v":1.4999999999999999E-2},{"$f":"'Financial Model'!BL234","v":1.4999999999999999E-2},{"$f":"'Financial Model'!BM234","v":1.4999999999999999E-2},{"$f":"'Financial Model'!BN234","v":1.4999999999999999E-2},{"$f":"'Financial Model'!BO234","v":1.4999999999999999E-2},{"$f":"'Financial Model'!BP234","v":1.4999999999999999E-2},{"$f":"'Financial Model'!BQ234","v":1.4999999999999999E-2},{"$f":"'Financial Model'!BR234","v":1.4999999999999999E-2},{"$f":"'Financial Model'!BS234","v":1.4999999999999999E-2},{"$f":"'Financial Model'!BT234","v":1.4999999999999999E-2},{"$f":"'Financial Model'!BU234","v":1.4999999999999999E-2},{"$f":"'Financial Model'!BV234","v":1.4999999999999999E-2},{"$f":"'Financial Model'!BW234","v":1.4999999999999999E-2},{"$f":"'Financial Model'!BX234","v":1.4999999999999999E-2},{"$f":"'Financial Model'!BY234","v":1.4999999999999999E-2},{"$f":"'Financial Model'!BZ234","v":1.4999999999999999E-2},{"$f":"'Financial Model'!CA234","v":1.4999999999999999E-2},{"$f":"'Financial Model'!CB234","v":1.4999999999999999E-2},{"$f":"'Financial Model'!CC234","v":1.4999999999999999E-2},{"$f":"'Financial Model'!CD234","v":1.4999999999999999E-2},{"$f":"'Financial Model'!CE234","v":1.4999999999999999E-2},{"$f":"'Financial Model'!CF234","v":1.4999999999999999E-2},{"$f":"'Financial Model'!CG234","v":1.4999999999999999E-2},{"$f":"'Financial Model'!CH234","v":1.4999999999999999E-2},{"$f":"'Financial Model'!CI234","v":1.4999999999999999E-2},{"$f":"'Financial Model'!CJ234","v":1.4999999999999999E-2},{"$f":"'Financial Model'!CK234","v":1.4999999999999999E-2},{"$f":"'Financial Model'!CL234","v":1.4999999999999999E-2},{"$f":"'Financial Model'!CM234","v":1.4999999999999999E-2},{"$f":"'Financial Model'!CN234","v":1.4999999999999999E-2},{"$f":"'Financial Model'!CO234","v":1.4999999999999999E-2},{"$f":"'Financial Model'!CP234","v":1.4999999999999999E-2},{"$f":"'Financial Model'!CQ234","v":1.4999999999999999E-2},{"$f":"'Financial Model'!CR234","v":1.4999999999999999E-2},{"$f":"'Financial Model'!CS234","v":1.4999999999999999E-2},{"$f":"'Financial Model'!CT234","v":1.4999999999999999E-2},{"$f":"'Financial Model'!CU234","v":1.4999999999999999E-2},{"$f":"'Financial Model'!CV234","v":1.4999999999999999E-2},{"$f":"'Financial Model'!CW234","v":1.4999999999999999E-2},{"$f":"'Financial Model'!CX234","v":1.4999999999999999E-2},{"$f":"'Financial Model'!CY234","v":1.4999999999999999E-2},{"$f":"'Financial Model'!CZ234","v":1.4999999999999999E-2},{"$f":"'Financial Model'!DA234","v":1.4999999999999999E-2},{"$f":"'Financial Model'!DB234","v":1.4999999999999999E-2},{"$f":"'Financial Model'!DC234","v":1.4999999999999999E-2},{"$f":"'Financial Model'!DD234","v":1.4999999999999999E-2},{"$f":"'Financial Model'!DE234","v":1.4999999999999999E-2},{"$f":"'Financial Model'!DF234","v":1.4999999999999999E-2},{"$f":"'Financial Model'!DG234","v":1.4999999999999999E-2},{"$f":"'Financial Model'!DH234","v":1.4999999999999999E-2},{"$f":"'Financial Model'!DI234","v":1.4999999999999999E-2},{"$f":"'Financial Model'!DJ234","v":1.4999999999999999E-2},{"$f":"'Financial Model'!DK234","v":1.4999999999999999E-2},{"$f":"'Financial Model'!DL234","v":1.4999999999999999E-2},{"$f":"'Financial Model'!DM234","v":1.4999999999999999E-2},{"$f":"'Financial Model'!DN234","v":1.4999999999999999E-2},{"$f":"'Financial Model'!DO234","v":1.4999999999999999E-2},{"$f":"'Financial Model'!DP234","v":1.4999999999999999E-2},{"$f":"'Financial Model'!DQ234","v":1.4999999999999999E-2},{"$f":"'Financial Model'!DR234","v":1.4999999999999999E-2},{"$f":"'Financial Model'!DS234","v":1.4999999999999999E-2},{"$f":"'Financial Model'!DT234","v":1.4999999999999999E-2},{"$f":"'Financial Model'!DU234","v":1.4999999999999999E-2},{"$f":"'Financial Model'!DV234","v":1.4999999999999999E-2},{"$f":"'Financial Model'!DW234","v":1.4999999999999999E-2},{"$f":"'Financial Model'!DX234","v":1.4999999999999999E-2},{"$f":"'Financial Model'!DY234","v":1.4999999999999999E-2},{"$f":"'Financial Model'!DZ234","v":1.4999999999999999E-2},{"$f":"'Financial Model'!EA234","v":1.4999999999999999E-2},{"$f":"'Financial Model'!EB234","v":1.4999999999999999E-2},{"$f":"'Financial Model'!EC234","v":1.4999999999999999E-2},{"$f":"'Financial Model'!ED234","v":1.4999999999999999E-2},{"$f":"'Financial Model'!EE234","v":1.4999999999999999E-2},{"$f":"'Financial Model'!EF234","v":1.4999999999999999E-2},{"$f":"'Financial Model'!EG234","v":1.4999999999999999E-2},{"$f":"'Financial Model'!EH234","v":1.4999999999999999E-2},{"$f":"'Financial Model'!EI234","v":1.4999999999999999E-2},{"$f":"'Financial Model'!EJ234","v":1.4999999999999999E-2},{"$f":"'Financial Model'!EK234","v":1.4999999999999999E-2},{"$f":"'Financial Model'!EL234","v":1.4999999999999999E-2},{"$f":"'Financial Model'!EM234","v":1.4999999999999999E-2},{"$f":"'Financial Model'!EN234","v":1.4999999999999999E-2},{"$f":"'Financial Model'!EO234","v":1.4999999999999999E-2},{"$f":"'Financial Model'!EP234","v":1.4999999999999999E-2},{"$f":"'Financial Model'!EQ234","v":1.4999999999999999E-2},{"$f":"'Financial Model'!ER234","v":1.4999999999999999E-2},{"$f":"'Financial Model'!ES234","v":1.4999999999999999E-2},{"$f":"'Financial Model'!ET234","v":1.4999999999999999E-2},{"$f":"'Financial Model'!EU234","v":1.4999999999999999E-2},{"$f":"'Financial Model'!EV234","v":1.4999999999999999E-2},{"$f":"'Financial Model'!EW234","v":1.4999999999999999E-2},{"$f":"'Financial Model'!EX234","v":1.4999999999999999E-2},{"$f":"'Financial Model'!EY234","v":1.4999999999999999E-2},{"$f":"'Financial Model'!EZ234","v":1.4999999999999999E-2}]
[null,null,"Up-Front Fee",null,null,null,null,null,null,0]
[null,null,"Periodic Commitment Fee",null,null,null,null,null,null,0,0,0,0,0,0,0,0,0,0,0,0,0,0,0,0,0,0,0,0,0,0,0,0,0,0,0,0,0,0,0,0,0,0,0,0,0,0,0,0,0,0,0,0,0,0,0,0,0,0,0,0,0,0,0,0,0,0,0,0,0,0,0,0,0,0,0,0,0,0,0,0,0,0,0,0,0,0,0,0,0,0,0,0,0,0,0,0,0,0,0,0,0,0,0,0,0,0,0,0,0,0,0,0,0,0,0,0,0,0,0,0,0,0,0,0,0,0,0,0,0,0,0,0,0,0,0,0,0,0,0,0,0,0,0,0,0,0,0,0,0,0,0,0,0,0,0]
[null,null,"PRI (Political Risk Insurance)",null,null,null,null,null,null,0,0,0,0,0,0,0,0,0,0,0,0,0,0,0,0,0,0,0,0,0,0,0,0,0,0,0,0,0,0,0,0,0,0,0,0,0,0,0,0,0,0,0,0,0,0,0,0,0,0,0,0,0,0,0,0,0,0,0,0,0,0,0,0,0,0,0,0,0,0,0,0,0,0,0,0,0,0,0,0,0,0,0,0,0,0,0,0,0,0,0,0,0,0,0,0,0,0,0,0,0,0,0,0,0,0,0,0,0,0,0,0,0,0,0,0,0,0,0,0,0,0,0,0,0,0,0,0,0,0,0,0,0,0,0,0,0,0,0,0,0,0,0,0,0,0,0]
[null,null,"Capitalised Interest During Construction Switch",null,null,null,null,null,null,0]
[null,null,"Capitalised Fee During Construction Switch",null,null,null,null,null,null,0]
[null,null,"Sculpting Switch - TRUE is Automated Sculpting",null,null,null,null,null,null,true,{"$f":"IF(J129,\"Sculpting from DSCR -- Fixed Repayment Percentages Not Used\",\"Fixed Input Percentages Used\")","v":"Sculpting from DSCR -- Fixed Repayment Percentages Not Used"}]
[null,null,"Debt Tenure - periods post COD (EBL - periods post Fin Close)"]
[null,null,"Repayment Percent Input"]
[null,null,"Balloon Percent",null,null,null,null,null,null,0]
[null,null,"Sweep Percent",null,null,null,null,null,null,null,{"$f":"IF(J133>0,\" Cash Flow Sweep of \"&TEXT(J133,\" ##.00%\"),\"\")","v":""}]
[null,null,"Start Period after COD for Sweep",null,null,null,null,null,null,0]
[null,null,"Post COD Fee as Percent of Debt (other than LC Fee)",null,null,null,null,null,null,0,0,0,0,0,0,0,0,0,0,0,0,0,0,0,0,0,0,0,0,0,0,0,0,0,0,0,0,0,0,0,0,0,0,0,0,0,0,0,0,0,0,0,0,0,0,0,0,0,0,0,0,0,0,0,0,0,0,0,0,0,0,0,0,0,0,0,0,0,0,0,0,0,0,0,0,0,0,0,0,0,0,0,0,0,0,0,0,0,0,0,0,0,0,0,0,0,0,0,0,0,0,0,0,0,0,0,0,0,0,0,0,0,0,0,0,0,0,0,0,0,0,0,0,0,0,0,0,0,0,0,0,0,0,0,0,0,0,0,0,0,0,0,0,0,0,0]
[null,null,"Re-financing Issue",null,null,null,null,null,null,true,{"$f":"IF(J136,\"This is a Re-financing Debt Facility\",\"\")","v":"This is a Re-financing Debt Facility"}]
[null,null,"Period of Re-financing -- period after COD ",null,null,null,null,null,null,{"$f":"'Financial Model'!F88","v":72},{"$f":"IF(J136,\"Periods after COD for Re-financing -- Put in a large number to turn off\",\"\")","v":"Periods after COD for Re-financing -- Put in a large number to turn off"}]
[null,null,"Fixed Amount of Re-financing",null,null,null,null,null,null,0]
[null,null,"DSCR for Sculpted Re-financing",null,null,null,null,null,null,{"$f":"'Financial Model'!F90","v":1.25}]
[null,null,"Tenor of Re-financing in Periods",null,null,null,null,null,null,{"$f":"'Financial Model'!F95","v":-4}]
[null,null,"Breakage Costs and Re-financing Fees",null,null,null,null,null,null,0]
[null,null,"Commitment (Not Funded e.g. Standby Commitment)",null,null,null,null,null,null,0]
[null,null,"Debt with Fixed Issue Date (Boolean)",null,null,null,null,null,null,false]
[null,null,"Commitment Amount for Debt with Fixed Funding Date",null,null,null,null,null,null,0]
[null,null,"Period in construction period of financing",null,null,null,null,null,null,0]
[null,"Issue 4 for Third Re-financing - Start the selection here"]
[null,null,"Senior/Mezz Debt (1-Senior; 2-Mezz; 3-Shareholder Loan; 4--EBL; 5--WC; 6 -- Standby; 7 VAT)",null,null,null,null,null,null,1,{"$f":"CHOOSE(J147,\"Senior Debt Facility\",\"Mezzanine Debt Facility\",\"Shareholder Loan\",\"Equity Bridge Loan\",\"Working Capital Facility\",\"Standby Debt Facility\",\"VAT Facility\")","v":"Senior Debt Facility"}]
[null,null,{"$f":"CHOOSE(J147,\"Percent of Senior Debt Loans (zero for refinance)\",\"Percent of Mezzanine Debt Loans\",\"Percent of Shareholder Loans\",\"Percent of EBL\",\"Percent of Working Capital Facility\",\"Percent of Standby Debt\",\"Percent of VAT Facilities\")","v":"Percent of Senior Debt Loans (zero for refinance)"},null,null,null,null,null,null,0]
[null,null,"Periodic Interest Rate",null,null,null,null,null,null,{"$f":"'Financial Model'!J242","v":2.4166666666666668E-3},{"$f":"'Financial Model'!K242","v":2.4166666666666668E-3},{"$f":"'Financial Model'!L242","v":2.4166666666666668E-3},{"$f":"'Financial Model'!M242","v":2.4166666666666668E-3},{"$f":"'Financial Model'!N242","v":2.4166666666666668E-3},{"$f":"'Financial Model'!O242","v":2.4166666666666668E-3},{"$f":"'Financial Model'!P242","v":2.4166666666666668E-3},{"$f":"'Financial Model'!Q242","v":2.4166666666666668E-3},{"$f":"'Financial Model'!R242","v":2.4166666666666668E-3},{"$f":"'Financial Model'!S242","v":2.4166666666666668E-3},{"$f":"'Financial Model'!T242","v":2.4166666666666668E-3},{"$f":"'Financial Model'!U242","v":2.4166666666666668E-3},{"$f":"'Financial Model'!V242","v":2.4166666666666668E-3},{"$f":"'Financial Model'!W242","v":2.4166666666666668E-3},{"$f":"'Financial Model'!X242","v":2.4166666666666668E-3},{"$f":"'Financial Model'!Y242","v":2.4166666666666668E-3},{"$f":"'Financial Model'!Z242","v":2.4166666666666668E-3},{"$f":"'Financial Model'!AA242","v":2.4166666666666668E-3},{"$f":"'Financial Model'!AB242","v":2.4166666666666668E-3},{"$f":"'Financial Model'!AC242","v":2.4166666666666668E-3},{"$f":"'Financial Model'!AD242","v":2.4166666666666668E-3},{"$f":"'Financial Model'!AE242","v":2.4166666666666668E-3},{"$f":"'Financial Model'!AF242","v":2.4166666666666668E-3},{"$f":"'Financial Model'!AG242","v":2.4166666666666668E-3},{"$f":"'Financial Model'!AH242","v":2.4166666666666668E-3},{"$f":"'Financial Model'!AI242","v":2.4166666666666668E-3},{"$f":"'Financial Model'!AJ242","v":2.4166666666666668E-3},{"$f":"'Financial Model'!AK242","v":2.4166666666666668E-3},{"$f":"'Financial Model'!AL242","v":2.4166666666666668E-3},{"$f":"'Financial Model'!AM242","v":2.4166666666666668E-3},{"$f":"'Financial Model'!AN242","v":2.4166666666666668E-3},{"$f":"'Financial Model'!AO242","v":2.4166666666666668E-3},{"$f":"'Financial Model'!AP242","v":2.4166666666666668E-3},{"$f":"'Financial Model'!AQ242","v":2.4166666666666668E-3},{"$f":"'Financial Model'!AR242","v":2.4166666666666668E-3},{"$f":"'Financial Model'!AS242","v":2.4166666666666668E-3},{"$f":"'Financial Model'!AT242","v":1.4500000000000001E-2},{"$f":"'Financial Model'!AU242","v":1.4500000000000001E-2},{"$f":"'Financial Model'!AV242","v":1.4500000000000001E-2},{"$f":"'Financial Model'!AW242","v":1.4500000000000001E-2},{"$f":"'Financial Model'!AX242","v":1.4500000000000001E-2},{"$f":"'Financial Model'!AY242","v":1.4500000000000001E-2},{"$f":"'Financial Model'!AZ242","v":1.4500000000000001E-2},{"$f":"'Financial Model'!BA242","v":1.4500000000000001E-2},{"$f":"'Financial Model'!BB242","v":1.4500000000000001E-2},{"$f":"'Financial Model'!BC242","v":1.4500000000000001E-2},{"$f":"'Financial Model'!BD242","v":1.4500000000000001E-2},{"$f":"'Financial Model'!BE242","v":1.4500000000000001E-2},{"$f":"'Financial Model'!BF242","v":1.4500000000000001E-2},{"$f":"'Financial Model'!BG242","v":1.4500000000000001E-2},{"$f":"'Financial Model'!BH242","v":1.4500000000000001E-2},{"$f":"'Financial Model'!BI242","v":1.4500000000000001E-2},{"$f":"'Financial Model'!BJ242","v":1.4500000000000001E-2},{"$f":"'Financial Model'!BK242","v":1.4500000000000001E-2},{"$f":"'Financial Model'!BL242","v":1.4500000000000001E-2},{"$f":"'Financial Model'!BM242","v":1.4500000000000001E-2},{"$f":"'Financial Model'!BN242","v":1.4500000000000001E-2},{"$f":"'Financial Model'!BO242","v":1.4500000000000001E-2},{"$f":"'Financial Model'!BP242","v":1.4500000000000001E-2},{"$f":"'Financial Model'!BQ242","v":1.4500000000000001E-2},{"$f":"'Financial Model'!BR242","v":1.4500000000000001E-2},{"$f":"'Financial Model'!BS242","v":1.4500000000000001E-2},{"$f":"'Financial Model'!BT242","v":1.4500000000000001E-2},{"$f":"'Financial Model'!BU242","v":1.4500000000000001E-2},{"$f":"'Financial Model'!BV242","v":1.4500000000000001E-2},{"$f":"'Financial Model'!BW242","v":1.4500000000000001E-2},{"$f":"'Financial Model'!BX242","v":1.4500000000000001E-2},{"$f":"'Financial Model'!BY242","v":1.4500000000000001E-2},{"$f":"'Financial Model'!BZ242","v":1.4500000000000001E-2},{"$f":"'Financial Model'!CA242","v":1.4500000000000001E-2},{"$f":"'Financial Model'!CB242","v":1.4500000000000001E-2},{"$f":"'Financial Model'!CC242","v":1.4500000000000001E-2},{"$f":"'Financial Model'!CD242","v":1.4500000000000001E-2},{"$f":"'Financial Model'!CE242","v":1.4500000000000001E-2},{"$f":"'Financial Model'!CF242","v":1.4500000000000001E-2},{"$f":"'Financial Model'!CG242","v":1.4500000000000001E-2},{"$f":"'Financial Model'!CH242","v":1.4500000000000001E-2},{"$f":"'Financial Model'!CI242","v":1.4500000000000001E-2},{"$f":"'Financial Model'!CJ242","v":1.4500000000000001E-2},{"$f":"'Financial Model'!CK242","v":1.4500000000000001E-2},{"$f":"'Financial Model'!CL242","v":1.4500000000000001E-2},{"$f":"'Financial Model'!CM242","v":1.4500000000000001E-2},{"$f":"'Financial Model'!CN242","v":1.4500000000000001E-2},{"$f":"'Financial Model'!CO242","v":1.4500000000000001E-2},{"$f":"'Financial Model'!CP242","v":1.4500000000000001E-2},{"$f":"'Financial Model'!CQ242","v":1.4500000000000001E-2},{"$f":"'Financial Model'!CR242","v":1.4500000000000001E-2},{"$f":"'Financial Model'!CS242","v":1.4500000000000001E-2},{"$f":"'Financial Model'!CT242","v":1.4500000000000001E-2},{"$f":"'Financial Model'!CU242","v":1.4500000000000001E-2},{"$f":"'Financial Model'!CV242","v":1.4500000000000001E-2},{"$f":"'Financial Model'!CW242","v":1.4500000000000001E-2},{"$f":"'Financial Model'!CX242","v":1.4500000000000001E-2},{"$f":"'Financial Model'!CY242","v":1.4500000000000001E-2},{"$f":"'Financial Model'!CZ242","v":1.4500000000000001E-2},{"$f":"'Financial Model'!DA242","v":1.4500000000000001E-2},{"$f":"'Financial Model'!DB242","v":1.4500000000000001E-2},{"$f":"'Financial Model'!DC242","v":1.4500000000000001E-2},{"$f":"'Financial Model'!DD242","v":1.4500000000000001E-2},{"$f":"'Financial Model'!DE242","v":1.4500000000000001E-2},{"$f":"'Financial Model'!DF242","v":1.4500000000000001E-2},{"$f":"'Financial Model'!DG242","v":1.4500000000000001E-2},{"$f":"'Financial Model'!DH242","v":1.4500000000000001E-2},{"$f":"'Financial Model'!DI242","v":1.4500000000000001E-2},{"$f":"'Financial Model'!DJ242","v":1.4500000000000001E-2},{"$f":"'Financial Model'!DK242","v":1.4500000000000001E-2},{"$f":"'Financial Model'!DL242","v":1.4500000000000001E-2},{"$f":"'Financial Model'!DM242","v":1.4500000000000001E-2},{"$f":"'Financial Model'!DN242","v":1.4500000000000001E-2},{"$f":"'Financial Model'!DO242","v":1.4500000000000001E-2},{"$f":"'Financial Model'!DP242","v":1.4500000000000001E-2},{"$f":"'Financial Model'!DQ242","v":1.4500000000000001E-2},{"$f":"'Financial Model'!DR242","v":1.4500000000000001E-2},{"$f":"'Financial Model'!DS242","v":1.4500000000000001E-2},{"$f":"'Financial Model'!DT242","v":1.4500000000000001E-2},{"$f":"'Financial Model'!DU242","v":1.4500000000000001E-2},{"$f":"'Financial Model'!DV242","v":1.4500000000000001E-2},{"$f":"'Financial Model'!DW242","v":1.4500000000000001E-2},{"$f":"'Financial Model'!DX242","v":1.4500000000000001E-2},{"$f":"'Financial Model'!DY242","v":1.4500000000000001E-2},{"$f":"'Financial Model'!DZ242","v":1.4500000000000001E-2},{"$f":"'Financial Model'!EA242","v":1.4500000000000001E-2},{"$f":"'Financial Model'!EB242","v":1.4500000000000001E-2},{"$f":"'Financial Model'!EC242","v":1.4500000000000001E-2},{"$f":"'Financial Model'!ED242","v":1.4500000000000001E-2},{"$f":"'Financial Model'!EE242","v":1.4500000000000001E-2},{"$f":"'Financial Model'!EF242","v":1.4500000000000001E-2},{"$f":"'Financial Model'!EG242","v":1.4500000000000001E-2},{"$f":"'Financial Model'!EH242","v":1.4500000000000001E-2},{"$f":"'Financial Model'!EI242","v":1.4500000000000001E-2},{"$f":"'Financial Model'!EJ242","v":1.4500000000000001E-2},{"$f":"'Financial Model'!EK242","v":1.4500000000000001E-2},{"$f":"'Financial Model'!EL242","v":1.4500000000000001E-2},{"$f":"'Financial Model'!EM242","v":1.4500000000000001E-2},{"$f":"'Financial Model'!EN242","v":1.4500000000000001E-2},{"$f":"'Financial Model'!EO242","v":1.4500000000000001E-2},{"$f":"'Financial Model'!EP242","v":1.4500000000000001E-2},{"$f":"'Financial Model'!EQ242","v":1.4500000000000001E-2},{"$f":"'Financial Model'!ER242","v":1.4500000000000001E-2},{"$f":"'Financial Model'!ES242","v":1.4500000000000001E-2},{"$f":"'Financial Model'!ET242","v":1.4500000000000001E-2},{"$f":"'Financial Model'!EU242","v":1.4500000000000001E-2},{"$f":"'Financial Model'!EV242","v":1.4500000000000001E-2},{"$f":"'Financial Model'!EW242","v":1.4500000000000001E-2},{"$f":"'Financial Model'!EX242","v":1.4500000000000001E-2},{"$f":"'Financial Model'!EY242","v":1.4500000000000001E-2},{"$f":"'Financial Model'!EZ242","v":1.4500000000000001E-2}]
[null,null,"Up-Front Fee",null,null,null,null,null,null,0]
[null,null,"Periodic Commitment Fee",null,null,null,null,null,null,0,0,0,0,0,0,0,0,0,0,0,0,0,0,0,0,0,0,0,0,0,0,0,0,0,0,0,0,0,0,0,0,0,0,0,0,0,0,0,0,0,0,0,0,0,0,0,0,0,0,0,0,0,0,0,0,0,0,0,0,0,0,0,0,0,0,0,0,0,0,0,0,0,0,0,0,0,0,0,0,0,0,0,0,0,0,0,0,0,0,0,0,0,0,0,0,0,0,0,0,0,0,0,0,0,0,0,0,0,0,0,0,0,0,0,0,0,0,0,0,0,0,0,0,0,0,0,0,0,0,0,0,0,0,0,0,0,0,0,0,0,0,0,0,0,0,0]
[null,null,"PRI (Political Risk Insurance)",null,null,null,null,null,null,0,0,0,0,0,0,0,0,0,0,0,0,0,0,0,0,0,0,0,0,0,0,0,0,0,0,0,0,0,0,0,0,0,0,0,0,0,0,0,0,0,0,0,0,0,0,0,0,0,0,0,0,0,0,0,0,0,0,0,0,0,0,0,0,0,0,0,0,0,0,0,0,0,0,0,0,0,0,0,0,0,0,0,0,0,0,0,0,0,0,0,0,0,0,0,0,0,0,0,0,0,0,0,0,0,0,0,0,0,0,0,0,0,0,0,0,0,0,0,0,0,0,0,0,0,0,0,0,0,0,0,0,0,0,0,0,0,0,0,0,0,0,0,0,0,0,0]
[null,null,"Capitalised Interest During Construction Switch",null,null,null,null,null,null,0]
[null,null,"Capitalised Fee During Construction Switch",null,null,null,null,null,null,0]
[null,null,"Sculpting Switch - TRUE is Automated Sculpting",null,null,null,null,null,null,true,{"$f":"IF(J155,\"Sculpting from DSCR -- Fixed Repayment Percentages Not Used\",\"Fixed Input Percentages Used\")","v":"Sculpting from DSCR -- Fixed Repayment Percentages Not Used"}]
[null,null,"Debt Tenure - periods post COD (EBL - periods post Fin Close)",null,null,null,null,null,null,{"$f":"'Financial Model'!F109","v":0}]
[null,null,"Repayment Percent Input"]
[null,null,"Balloon Percent",null,null,null,null,null,null,0]
[null,null,"Sweep Percent",null,null,null,null,null,null,null,{"$f":"IF(J159>0,\" Cash Flow Sweep of \"&TEXT(J159,\" ##.00%\"),\"\")","v":""}]
[null,null,"Start Period after COD for Sweep",null,null,null,null,null,null,0]
[null,null,"Post COD Fee as Percent of Debt (other than LC Fee)",null,null,null,null,null,null,0,0,0,0,0,0,0,0,0,0,0,0,0,0,0,0,0,0,0,0,0,0,0,0,0,0,0,0,0,0,0,0,0,0,0,0,0,0,0,0,0,0,0,0,0,0,0,0,0,0,0,0,0,0,0,0,0,0,0,0,0,0,0,0,0,0,0,0,0,0,0,0,0,0,0,0,0,0,0,0,0,0,0,0,0,0,0,0,0,0,0,0,0,0,0,0,0,0,0,0,0,0,0,0,0,0,0,0,0,0,0,0,0,0,0,0,0,0,0,0,0,0,0,0,0,0,0,0,0,0,0,0,0,0,0,0,0,0,0,0,0,0,0,0,0,0,0]
[null,null,"Re-financing Issue",null,null,null,null,null,null,true,{"$f":"IF(J162,\"This is a Re-financing Debt Facility\",\"\")","v":"This is a Re-financing Debt Facility"}]
[null,null,"Period of Re-financing -- period after COD ",null,null,null,null,null,null,{"$f":"'Financial Model'!F100","v":72},{"$f":"IF(J162,\"Periods after COD for Re-financing -- Put in a large number to turn off\",\"\")","v":"Periods after COD for Re-financing -- Put in a large number to turn off"}]
[null,null,"Fixed Amount of Re-financing",null,null,null,null,null,null,0]
[null,null,"DSCR for Sculpted Re-financing",null,null,null,null,null,null,{"$f":"'Financial Model'!F102","v":1.2}]
[null,null,"Tenor of Re-financing in Periods",null,null,null,null,null,null,{"$f":"'Financial Model'!F107","v":-2}]
[null,null,"Breakage Costs and Re-financing Fees",null,null,null,null,null,null,0]
[null,null,"Commitment (Not Funded e.g. Standby Commitment)",null,null,null,null,null,null,0]
[null,null,"Debt with Fixed Issue Date (Boolean)",null,null,null,null,null,null,false]
[null,null,"Commitment Amount for Debt with Fixed Funding Date",null,null,null,null,null,null,0]
[null,null,"Period in construction period of financing",null,null,null,null,null,null,0]
[]
["Function Output"]
[null,{"$f":"B455","v":"1 Iteration/Number of Issues/Period Count"},null,null,null,null,null,{"$f":"IFERROR(circular_template(UDF_switch,5:21,24:63,68:171),0)","v":19},2,3,4,5,6,7,8,9,10,11,12,13,14,15,16,17,18,19,20,21,22,23,24,25,26,27,28,29,30,31,32,33,34,35,36,37,38,39,40,41,42,43,44,45,46,47,48,49,50,51,52,53,54,55,56,57,58,59,60,61,62,63,64,65,66,67,68,69,70,71,72,73,74,75,76,77,78,79,80,81,82,83,84,85,86,87,88,89,90,91,92,93,94,95,96,97,98,99,100,101,102,103,104,105,106,107,108,"","","","","","","","","","","","","","","","","","","","","","","","","","","","","","","","","","","","","","","","",""]
[null,{"$f":"B456","v":"'2 Senior Debt Sizing Parameters"},null,null,null,null,null,"Senior Size",162658.01182469472," From DSCR/Pct ",4," Debt % ",0.71614234351225747," Fix Input Debt ",0," From Pct ",202146.4473277767," From DSCR ",162658.01182469472," From DSCR/Pct ",202146.4473277767," Proj Cost ",227130.83969413111," DSCR Input ",1.35," DSCR Applied ",1.35,"","","","","","","","","","","","","","","","","","","","","","","","","","","","","","","","","","","","","","","","","","","","","","","","","","","","","","","","","","","","","","","","","","","","","","","","","","","","","","","","","","","","","","","","","","","","","","","","","","","","","","","","","","","","","","","","","","","","","","","","","","","","","","","","",""]
[null,"'3 Mezzanine Debt Sizing Parameters",null,null,null,null,null,"Mezz Size",0," From DSCR ",3," Debt % ",0," Fix Input Debt ",0," From Pct ",0," From DSCR ",0," From DSCR/Pct ",0," Proj Cost ",227130.83969413111," Total DSCR ",1.2," Mezz IDC ",0," Mezz Fees ",0," Deductible Int ",1,"","","","","","","","","","","","","","","","","","","","","","","","","","","","","","","","","","","","","","","","","","","","","","","","","","","","","","","","","","","","","","","","","","","","","","","","","","","","","","","","","","","","","","","","","","","","","","","","","","","","","","","","","","","","","","","","","","","","","","","","","","","","",""]
[null,"'4 Shareholder Debt Sizing Parameters",null,null,null,null,null," Sh Loan Size ",0," From Pct of Equity",2," Pct of Equity ",0," Input Debt ",0," From Pct ",0,"","","",""," Equity Commitment ",64472.827869436383," Shrldr IDC ",0,"",""," Shrldr Fees ",0," Deductible Int ",1,"","","","","","","","","","","","","","","","","","","","","","","","","","","","","","","","","","","","","","","","","","","","","","","","","","","","","","","","","","","","","","","","","","","","","","","","","","","","","","","","","","","","","","","","","","","","","","","","","","","","","","","","","","","","","","","","","","","","","","","","","","","","",""]
[".","'5 Uses of Funds Pre-COD Section",null,null,null,null,null,"","","","","","","","","","","","","","","","","","","","","","","","","","","","","","","","","","","","","","","Operation","Operation","Operation","Operation","Operation","Operation","Operation","Operation","Operation","Operation","Operation","Operation","Operation","Operation","Operation","Operation","Operation","Operation","Operation","Operation","Operation","Operation","Operation","Operation","Operation","Operation","Operation","Operation","Operation","Operation","Operation","Operation","Operation","Operation","Operation","Operation","Operation","Operation","Operation","Operation","Operation","Operation","Operation","Operation","Operation","Operation","Operation","Operation","Operation","Operation","Operation","Operation","Operation","Operation","Operation","Operation","Operation","Operation","Operation","Operation","Operation","Operation","Operation","Operation","Operation","Operation","Operation","Operation","Operation","Operation","","","","","","","","","","","","","","","","","","","","","","","","","","","","","","","","","","","","","","","","",""]
[null,"'6 Capital Expenditures",null,null,null,null,null,168000.00000000006,"",2637.9240325551682,3093.3403169936519,3582.8733707780793,4098.9588287667539,4631.8447342996697,5169.7884177859505,5699.4098072242987,6206.1939159933036,6675.1209117719745,7091.3883923931016,7441.1789220297569,7712.4180432328667,7895.4650695067921,7983.6816436706113,7973.8313282723811,7866.276692202724,7664.9571593607852,7377.1495063289867,7013.031311291561,6585.0838679934041,6107.3833796636472,5594.8364415454753,5062.4173601015045,4524.4608883435185,3994.0552627170587,3482.5682842163874,2999.3251646437052,2551.4425961357783,2143.8104914276701,1779.2022612739834,1458.4870975808756,1180.9138085666771,944.43516676814841,746.04399465720212,582.09660643111908,448.60492347546119,0,0,0,0,0,0,0,0,0,0,0,0,0,0,0,0,0,0,0,0,0,0,0,0,0,0,0,0,0,0,0,0,0,0,0,0,0,0,0,0,0,0,0,0,0,0,0,0,0,0,0,0,0,0,0,0,0,0,0,0,0,0,0,0,0,0,0,0,0,0,"","","","","","","","","","","","","","","","","","","","","","","","","","","","","","","","","","","","","","","","",""]
[null,"'7 Working Capital Pre-COD/Total",null,null,null,null,null,0,"",0,0,0,0,0,0,0,0,0,0,0,0,0,0,0,0,0,0,0,0,0,0,0,0,0,0,0,0,0,0,0,0,0,0,0,0,0,0,0,0,0,0,0,0,0,0,0,0,0,0,0,0,0,0,0,0,0,0,0,0,0,0,0,0,0,0,0,0,0,0,0,0,0,0,0,0,0,0,0,0,0,0,0,0,0,0,0,0,0,0,0,0,0,0,0,0,0,0,0,0,0,0,0,0,0,0,"","","","","","","","","","","","","","","","","","","","","","","","","","","","","","","","","","","","","","","","",""]
[null,"'8 Development Success Fee",null,null,null,null,null,45426.167938826227,"",45426.167938826227,0,0,0,0,0,0,0,0,0,0,0,0,0,0,0,0,0,0,0,0,0,0,0,0,0,0,0,0,0,0,0,0,0,0,0,0,0,0,0,0,0,0,0,0,0,0,0,0,0,0,0,0,0,0,0,0,0,0,0,0,0,0,0,0,0,0,0,0,0,0,0,0,0,0,0,0,0,0,0,0,0,0,0,0,0,0,0,0,0,0,0,0,0,0,0,0,0,0,0,0,0,0,0,0,0,"","","","","","","","","","","","","","","","","","","","","","","","","","","","","","","","","","","","","","","","",""]
[null,"'9 Interest During Construction",null,null,null,null,null,9287.3617654818154,"",0,40.957711140295579,48.206556101147861,56.555991357493767,66.06679562604775,76.778136782670657,88.703108288959598,101.82504511282079,116.09495234286676,131.43033214219597,147.71561639578678,164.80430823921998,182.52281388664233,200.67581774145629,219.05293110809677,237.43624040058418,255.6083055341341,273.3601212552968,290.49855762015744,306.85284027429583,322.27971178063206,336.66702333426838,349.93563047206527,362.03959426959153,372.96480876615004,382.72627543980269,391.36431876390122,398.94007899156816,405.53062875085095,411.22404152916869,416.11469804419443,420.29905788784913,423.87205640065412,426.92421789800636,429.53951246754593,431.79392933539833,0,0,0,0,0,0,0,0,0,0,0,0,0,0,0,0,0,0,0,0,0,0,0,0,0,0,0,0,0,0,0,0,0,0,0,0,0,0,0,0,0,0,0,0,0,0,0,0,0,0,0,0,0,0,0,0,0,0,0,0,0,0,0,0,0,0,0,0,0,0,"","","","","","","","","","","","","","","","","","","","","","","","","","","","","","","","","","","","","","","","",""]
[null,"'10 Shareholder Loand Interest During Construction",null,null,null,null,null,0,"",0,0,0,0,0,0,0,0,0,0,0,0,0,0,0,0,0,0,0,0,0,0,0,0,0,0,0,0,0,0,0,0,0,0,0,0,0,0,0,0,0,0,0,0,0,0,0,0,0,0,0,0,0,0,0,0,0,0,0,0,0,0,0,0,0,0,0,0,0,0,0,0,0,0,0,0,0,0,0,0,0,0,0,0,0,0,0,0,0,0,0,0,0,0,0,0,0,0,0,0,0,0,0,0,0,0,0,0,0,0,0,0,0,0,0,0,0,0,0,0,0,0,0,0,0,0,0,0,0,0,0,0,0,0,0,0,0,0,0,0,0,0,0,0,0,0,0]
[null,"'11 Up-Front Fees",null,null,null,null,null,2439.8701773704206,"",2439.8701773704206,0,0,0,0,0,0,0,0,0,0,0,0,0,0,0,0,0,0,0,0,0,0,0,0,0,0,0,0,0,0,0,0,0,0,0,0,0,0,0,0,0,0,0,0,0,0,0,0,0,0,0,0,0,0,0,0,0,0,0,0,0,0,0,0,0,0,0,0,0,0,0,0,0,0,0,0,0,0,0,0,0,0,0,0,0,0,0,0,0,0,0,0,0,0,0,0,0,0,0,0,0,0,0,0,0,0,0,0,0,0,0,0,0,0,0,0,0,0,0,0,0,0,0,0,0,0,0,0,0,0,0,0,0,0,0,0,0,0,0,0,0,0,0,0,0,0]
[null,"'12 Commitment Fees",null,null,null,null,null,1977.4398030277741,"",135.54834318724562,122.74905845590325,120.4837944056369,117.87459588802881,114.90246955410568,111.55517544266104,107.82862184694574,103.7280165894891,99.268670580099752,94.476364392809373,89.387213063562243,84.046996862489365,78.50996384766988,72.837150143040517,67.094302215965371,61.349518062063048,55.670747707828696,50.123305294965348,44.767543930946402,39.656830601528156,34.835933255798082,30.339898395286742,26.19345866472521,22.410969977998249,18.996840447823708,15.946382112307257,13.246993573526465,10.879568502380547,8.8200217026046701,7.0408302093803901,5.5125000484348377,4.20488759729274,3.0883255620411854,2.1345250941186049,1.3172455411375026,0.61274026993361386,0,0,0,0,0,0,0,0,0,0,0,0,0,0,0,0,0,0,0,0,0,0,0,0,0,0,0,0,0,0,0,0,0,0,0,0,0,0,0,0,0,0,0,0,0,0,0,0,0,0,0,0,0,0,0,0,0,0,0,0,0,0,0,0,0,0,0,0,0,0,0,0,0,0,0,0,0,0,0,0,0,0,0,0,0,0,0,0,0,0,0,0,0,0,0,0,0,0,0,0,0,0,0,0,0,0,0,0,0,0,0]
[null,"'13 Other: PRI/EBL Interest/Witholdding/Standby Interest",null,null,null,null,null,0,"",0,0,0,0,0,0,0,0,0,0,0,0,0,0,0,0,0,0,0,0,0,0,0,0,0,0,0,0,0,0,0,0,0,0,0,0,0,0,0,0,0,0,0,0,0,0,0,0,0,0,0,0,0,0,0,0,0,0,0,0,0,0,0,0,0,0,0,0,0,0,0,0,0,0,0,0,0,0,0,0,0,0,0,0,0,0,0,0,0,0,0,0,0,0,0,0,0,0,0,0,0,0,0,0,0,0,0,0,0,0,0,0,0,0,0,0,0,0,0,0,0,0,0,0,0,0,0,0,0,0,0,0,0,0,0,0,0,0,0,0,0,0,0,0,0,0,0]
[null,"'14 DSRA Funded During Construction",null,null,null,null,null,0,"",0,0,0,0,0,0,0,0,0,0,0,0,0,0,0,0,0,0,0,0,0,0,0,0,0,0,0,0,0,0,0,0,0,0,0,0,0,0,0,0,0,0,0,0,0,0,0,0,0,0,0,0,0,0,0,0,0,0,0,0,0,0,0,0,0,0,0,0,0,0,0,0,0,0,0,0,0,0,0,0,0,0,0,0,0,0,0,0,0,0,0,0,0,0,0,0,0,0,0,0,0,0,0,0,0,0,0,0,0,0,0,0,0,0,0,0,0,0,0,0,0,0,0,0,0,0,0,0,0,0,0,0,0,0,0,0,0,0,0,0,0,0,0,0,0,0,0]
[null,"'15 Withholding Tax",null,null,null,null,null,0,"",0,0,0,0,0,0,0,0,0,0,0,0,0,0,0,0,0,0,0,0,0,0,0,0,0,0,0,0,0,0,0,0,0,0,0,0,0,0,0,0,0,0,0,0,0,0,0,0,0,0,0,0,0,0,0,0,0,0,0,0,0,0,0,0,0,0,0,0,0,0,0,0,0,0,0,0,0,0,0,0,0,0,0,0,0,0,0,0,0,0,0,0,0,0,0,0,0,0,0,0,0,0,0,0,0,0,0,0,0,0,0,0,0,0,0,0,0,0,0,0,0,0,0,0,0,0,0,0,0,0,0,0,0,0,0,0,0,0,0,0,0,0,0,0,0,0,0]
[null,"16 VAT Debt Fees and Interest",null,null,null,null,null,0,"",0,0,0,0,0,0,0,0,0,0,0,0,0,0,0,0,0,0,0,0,0,0,0,0,0,0,0,0,0,0,0,0,0,0,0,0,0,0,0,0,0,0,0,0,0,0,0,0,0,0,0,0,0,0,0,0,0,0,0,0,0,0,0,0,0,0,0,0,0,0,0,0,0,0,0,0,0,0,0,0,0,0,0,0,0,0,0,0,0,0,0,0,0,0,0,0,0,0,0,0,0,0,0,0,0,0,0,0,0,0,0,0,0,0,0,0,0,0,0,0,0,0,0,0,0,0,0,0,0,0,0,0,0,0,0,0,0,0,0,0,0,0,0,0,0,0,0]
[null,"'17 Total Uses Including Capitalised Items",null,null,null,null,null,227130.83969413111,"",50639.510491939065,3257.0470865898506,3751.5637212848642,4273.3894160122763,4812.813999479823,5358.1217300112821,5895.9415373602042,6411.7469776956132,6890.4845346949414,7317.2950889281065,7678.2817514891058,7961.2693483345756,8156.497847241104,8257.1946115551091,8259.9785615964429,8165.0624506653712,7976.2362126027483,7700.632932879249,7348.297412842664,6931.5935388692278,6464.4990247000778,5961.8433632750302,5438.5464492382944,4908.9114525911082,4386.0169119310331,3881.2409417684971,3403.9364769811332,2961.262243629727,2558.1611418811258,2197.4671330125325,1880.1142956735048,1605.417754051819,1371.3955487308438,1175.1027376493271,1012.9533644398025,881.0115930807932,0,0,0,0,0,0,0,0,0,0,0,0,0,0,0,0,0,0,0,0,0,0,0,0,0,0,0,0,0,0,0,0,0,0,0,0,0,0,0,0,0,0,0,0,0,0,0,0,0,0,0,0,0,0,0,0,0,0,0,0,0,0,0,0,0,0,0,0,0,0,0,0,0,0,0,0,0,0,0,0,0,0,0,0,0,0,0,0,0,0,0,0,0,0,0,0,0,0,0,0,0,0,0,0,0,0,0,0,0,0,0]
[null,"'18 Less: Capitalised Interest and Fees Inclding WC, Standby etc.",null,null,null,null,null,0,"",0,0,0,0,0,0,0,0,0,0,0,0,0,0,0,0,0,0,0,0,0,0,0,0,0,0,0,0,0,0,0,0,0,0,0,0,0,0,0,0,0,0,0,0,0,0,0,0,0,0,0,0,0,0,0,0,0,0,0,0,0,0,0,0,0,0,0,0,0,0,0,0,0,0,0,0,0,0,0,0,0,0,0,0,0,0,0,0,0,0,0,0,0,0,0,0,0,0,0,0,0,0,0,0,0,0,0,0,0,0,0,0,0,0,0,0,0,0,0,0,0,0,0,0,0,0,0,0,0,0,0,0,0,0,0,0,0,0,0,0,0,0,0,0,0,0,0]
[null,"'19 Less: Capitalised Interest on EBL",null,null,null,null,null,0,"",0,0,0,0,0,0,0,0,0,0,0,0,0,0,0,0,0,0,0,0,0,0,0,0,0,0,0,0,0,0,0,0,0,0,0,0,0,0,0,0,0,0,0,0,0,0,0,0,0,0,0,0,0,0,0,0,0,0,0,0,0,0,0,0,0,0,0,0,0,0,0,0,0,0,0,0,0,0,0,0,0,0,0,0,0,0,0,0,0,0,0,0,0,0,0,0,0,0,0,0,0,0,0,0,0,0,0,0,0,0,0,0,0,0,0,0,0,0,0,0,0,0,0,0,0,0,0,0,0,0,0,0,0,0,0,0,0,0,0,0,0,0,0,0,0,0,0]
[null,"'20 Less: Capitalised Interest on Shareholder Loan",null,null,null,null,null,0,"",0,0,0,0,0,0,0,0,0,0,0,0,0,0,0,0,0,0,0,0,0,0,0,0,0,0,0,0,0,0,0,0,0,0,0,0,0,0,0,0,0,0,0,0,0,0,0,0,0,0,0,0,0,0,0,0,0,0,0,0,0,0,0,0,0,0,0,0,0,0,0,0,0,0,0,0,0,0,0,0,0,0,0,0,0,0,0,0,0,0,0,0,0,0,0,0,0,0,0,0,0,0,0,0,0,0,0,0,0,0,0,0,0,0,0,0,0,0,0,0,0,0,0,0,0,0,0,0,0,0,0,0,0,0,0,0,0,0,0,0,0,0,0,0,0,0,0]
[null,"'21 Less: Capitalised Fees on Debt Including WC, Standby etc.",null,null,null,null,null,0,"",0,0,0,0,0,0,0,0,0,0,0,0,0,0,0,0,0,0,0,0,0,0,0,0,0,0,0,0,0,0,0,0,0,0,0,0,0,0,0,0,0,0,0,0,0,0,0,0,0,0,0,0,0,0,0,0,0,0,0,0,0,0,0,0,0,0,0,0,0,0,0,0,0,0,0,0,0,0,0,0,0,0,0,0,0,0,0,0,0,0,0,0,0,0,0,0,0,0,0,0,0,0,0,0,0,0,0,0,0,0,0,0,0,0,0,0,0,0,0,0,0,0,0,0,0,0,0,0,0,0,0,0,0,0,0,0,0,0,0,0,0,0,0,0,0,0,0]
[null,"'22 Less: Capitalised Fees on EBL",null,null,null,null,null,0,"",0,0,0,0,0,0,0,0,0,0,0,0,0,0,0,0,0,0,0,0,0,0,0,0,0,0,0,0,0,0,0,0,0,0,0,0,0,0,0,0,0,0,0,0,0,0,0,0,0,0,0,0,0,0,0,0,0,0,0,0,0,0,0,0,0,0,0,0,0,0,0,0,0,0,0,0,0,0,0,0,0,0,0,0,0,0,0,0,0,0,0,0,0,0,0,0,0,0,0,0,0,0,0,0,0,0,0,0,0,0,0,0,0,0,0,0,0,0,0,0,0,0,0,0,0,0,0,0,0,0,0,0,0,0,0,0,0,0,0,0,0,0,0,0,0,0,0]
[null,"'23 Cash Funding Needs for Pro-Rata (excl capitalised items)",null,null,null,null,null,227130.83969413111,"",50639.510491939065,3257.0470865898506,3751.5637212848642,4273.3894160122763,4812.813999479823,5358.1217300112821,5895.9415373602042,6411.7469776956132,6890.4845346949414,7317.2950889281065,7678.2817514891058,7961.2693483345756,8156.497847241104,8257.1946115551091,8259.9785615964429,8165.0624506653712,7976.2362126027483,7700.632932879249,7348.297412842664,6931.5935388692278,6464.4990247000778,5961.8433632750302,5438.5464492382944,4908.9114525911082,4386.0169119310331,3881.2409417684971,3403.9364769811332,2961.262243629727,2558.1611418811258,2197.4671330125325,1880.1142956735048,1605.417754051819,1371.3955487308438,1175.1027376493271,1012.9533644398025,881.0115930807932,0,0,0,0,0,0,0,0,0,0,0,0,0,0,0,0,0,0,0,0,0,0,0,0,0,0,0,0,0,0,0,0,0,0,0,0,0,0,0,0,0,0,0,0,0,0,0,0,0,0,0,0,0,0,0,0,0,0,0,0,0,0,0,0,0,0,0,0,0,0,0,0,0,0,0,0,0,0,0,0,0,0,0,0,0,0,0,0,0,0,0,0,0,0,0,0,0,0,0,0,0,0,0,0,0,0,0,0,0,0,0]
[".","'24 Sources of Funds Section",null,null,null,null,null,"","","","","","","","","","","","","","","","","","","","","","","","","","","","","","","","","","","","","","","Operation","Operation","Operation","Operation","Operation","Operation","Operation","Operation","Operation","Operation","Operation","Operation","Operation","Operation","Operation","Operation","Operation","Operation","Operation","Operation","Operation","Operation","Operation","Operation","Operation","Operation","Operation","Operation","Operation","Operation","Operation","Operation","Operation","Operation","Operation","Operation","Operation","Operation","Operation","Operation","Operation","Operation","Operation","Operation","Operation","Operation","Operation","Operation","Operation","Operation","Operation","Operation","Operation","Operation","Operation","Operation","Operation","Operation","Operation","Operation","Operation","Operation","Operation","Operation","Operation","Operation","Operation","Operation","Operation","Operation",0,0,0,0,0,0,0,0,0,0,0,0,0,0,0,0,0,0,0,0,0,0,0,0,0,0,0,0,0,0,0,0,0,0,0,0,0,0,0,0,0]
[null,"'25 Total Debt Funding from Debt with Fixed Dates",null,null,null,null,null,0,"",0,0,0,0,0,0,0,0,0,0,0,0,0,0,0,0,0,0,0,0,0,0,0,0,0,0,0,0,0,0,0,0,0,0,0,0,0,0,0,0,0,0,0,0,0,0,0,0,0,0,0,0,0,0,0,0,0,0,0,0,0,0,0,0,0,0,0,0,0,0,0,0,0,0,0,0,0,0,0,0,0,0,0,0,0,0,0,0,0,0,0,0,0,0,0,0,0,0,0,0,0,0,0,0,0,0,0,0,0,0,0,0,0,0,0,0,0,0,0,0,0,0,0,0,0,0,0,0,0,0,0,0,0,0,0,0,0,0,0,0,0,0,0,0,0,0,0]
[null,"'26 Allocation to Up-Front Equity Financing (Total/Percent)",null,null,null,null,null,32236.413934718192,0.5,32236.413934718192,0,0,0,0,0,0,0,0,0,0,0,0,0,0,0,0,0,0,0,0,0,0,0,0,0,0,0,0,0,0,0,0,0,0,0,0,0,0,0,0,0,0,0,0,0,0,0,0,0,0,0,0,0,0,0,0,0,0,0,0,0,0,0,0,0,0,0,0,0,0,0,0,0,0,0,0,0,0,0,0,0,0,0,0,0,0,0,0,0,0,0,0,0,0,0,0,0,0,0,0,0,0,0,0,0,0,0,0,0,0,0,0,0,0,0,0,0,0,0,0,0,0,0,0,0,0,0,0,0,0,0,0,0,0,0,0,0,0,0,0,0,0,0,0,0,0]
[null,"'27 Remaining Pro-Rata Funding from Equity and Debt",null,null,null,null,null,194894.42575941293,1,18403.096557220873,3257.0470865898506,3751.5637212848642,4273.3894160122763,4812.813999479823,5358.1217300112821,5895.9415373602042,6411.7469776956132,6890.4845346949414,7317.2950889281065,7678.2817514891058,7961.2693483345756,8156.497847241104,8257.1946115551091,8259.9785615964429,8165.0624506653712,7976.2362126027483,7700.632932879249,7348.297412842664,6931.5935388692278,6464.4990247000778,5961.8433632750302,5438.5464492382944,4908.9114525911082,4386.0169119310331,3881.2409417684971,3403.9364769811332,2961.262243629727,2558.1611418811258,2197.4671330125325,1880.1142956735048,1605.417754051819,1371.3955487308438,1175.1027376493271,1012.9533644398025,881.0115930807932,0,0,0,0,0,0,0,0,0,0,0,0,0,0,0,0,0,0,0,0,0,0,0,0,0,0,0,0,0,0,0,0,0,0,0,0,0,0,0,0,0,0,0,0,0,0,0,0,0,0,0,0,0,0,0,0,0,0,0,0,0,0,0,0,0,0,0,0,0,0,0,0,0,0,0,0,0,0,0,0,0,0,0,0,0,0,0,0,0,0,0,0,0,0,0,0,0,0,0,0,0,0,0,0,0,0,0,0,0,0,0]
[null,"'28 Pro-Rata Funding from Equity",null,null,null,null,null,32236.413934718192,0.16540449430048026,3043.954879610028,538.73022627024682,620.52550015515089,706.8378153045353,796.06106574623198,886.25741515293055,975.21522841226079,1060.5317664283757,1139.7171099464967,1210.3134938315411,1270.0223102016614,1316.8297305511946,1349.1214016858708,1365.7770990649235,1366.2375769136679,1350.5380255841458,1319.3053171667357,1273.7192960565164,1215.4414175407683,1146.5167239931411,1069.2571920864643,986.11568660118087,899.56002516593264,811.95601638166829,725.46690931130661,641.97469523153802,563.02639160602268,489.80608389868058,423.13135001198674,363.47093987786411,310.97935430297969,265.54331174995394,226.83498722375487,194.36727407199689,167.54703899513561,145.7232770263891,0,0,0,0,0,0,0,0,0,0,0,0,0,0,0,0,0,0,0,0,0,0,0,0,0,0,0,0,0,0,0,0,0,0,0,0,0,0,0,0,0,0,0,0,0,0,0,0,0,0,0,0,0,0,0,0,0,0,0,0,0,0,0,0,0,0,0,0,0,0,0,0,0,0,0,0,0,0,0,0,0,0,0,0,0,0,0,0,0,0,0,0,0,0,0,0,0,0,0,0,0,0,0,0,0,0,0,0,0,0,0]
[null,"29 Pro-Rata Debt Funding",null,null,null,null,null,162658.01182469472,0.83459550569951968,0,0,0,0,0,0,0,0,0,0,0,0,0,0,0,0,0,0,0,0,0,0,0,0,0,0,0,0,0,0,0,0,0,0,0,0,0,0,0,0,0,0,0,0,0,0,0,0,0,0,0,0,0,0,0,0,0,0,0,0,0,0,0,0,0,0,0,0,0,0,0,0,0,0,0,0,0,0,0,0,0,0,0,0,0,0,0,0,0,0,0,0,0,0,0,0,0,0,0,0,0,0,0,0,0,0,0,0,0,0,0,0,0,0,0,0,0,0,0,0,0,0,0,0,0,0,0,0,0,0,0,0,0,0,0,0,0,0,0,0,0,0,0,0,0,0,0]
[".","'30 Debt and Equity Sources",null,null,null,null,null,"","","","","","","","","","","","","","","","","","","","","","","","","","","","","","","","","","","","","","","Operation","Operation","Operation","Operation","Operation","Operation","Operation","Operation","Operation","Operation","Operation","Operation","Operation","Operation","Operation","Operation","Operation","Operation","Operation","Operation","Operation","Operation","Operation","Operation","Operation","Operation","Operation","Operation","Operation","Operation","Operation","Operation","Operation","Operation","Operation","Operation","Operation","Operation","Operation","Operation","Operation","Operation","Operation","Operation","Operation","Operation","Operation","Operation","Operation","Operation","Operation","Operation","Operation","Operation","Operation","Operation","Operation","Operation","Operation","Operation","Operation","Operation","Operation","Operation","Operation","Operation","Operation","Operation","Operation","Operation",0,0,0,0,0,0,0,0,0,0,0,0,0,0,0,0,0,0,0,0,0,0,0,0,0,0,0,0,0,0,0,0,0,0,0,0,0,0,0,0,0]
[null,"'31 Total Equity Draws Incl EBL and Shareholder Loans",null,null,null,null,null,64472.827869436383,0.28385765648774253,35280.36881432822,538.73022627024682,620.52550015515089,706.8378153045353,796.06106574623198,886.25741515293055,975.21522841226079,1060.5317664283757,1139.7171099464967,1210.3134938315411,1270.0223102016614,1316.8297305511946,1349.1214016858708,1365.7770990649235,1366.2375769136679,1350.5380255841458,1319.3053171667357,1273.7192960565164,1215.4414175407683,1146.5167239931411,1069.2571920864643,986.11568660118087,899.56002516593264,811.95601638166829,725.46690931130661,641.97469523153802,563.02639160602268,489.80608389868058,423.13135001198674,363.47093987786411,310.97935430297969,265.54331174995394,226.83498722375487,194.36727407199689,167.54703899513561,145.7232770263891,0,0,0,0,0,0,0,0,0,0,0,0,0,0,0,0,0,0,0,0,0,0,0,0,0,0,0,0,0,0,0,0,0,0,0,0,0,0,0,0,0,0,0,0,0,0,0,0,0,0,0,0,0,0,0,0,0,0,0,0,0,0,0,0,0,0,0,0,0,0,0,0,0,0,0,0,0,0,0,0,0,0,0,0,0,0,0,0,0,0,0,0,0,0,0,0,0,0,0,0,0,0,0,0,0,0,0,0,0,0,0]
[null,"'32 Senior Debt Financing/Pct Senior",null,null,null,null,null,162658.01182469472,0.71614234351225747,15359.141677610844,2718.3168603196036,3131.0382211297133,3566.5516007077408,4016.7529337335909,4471.8643148583515,4920.7263089479429,5351.2152112672375,5750.7674247484438,6106.9815950965649,6408.2594412874441,6644.4396177833805,6807.3764455552327,6891.4175124901849,6893.7409846827741,6814.5244250812248,6656.9308954360122,6426.9136368227319,6132.8559953018957,5785.0768148760862,5395.241832613613,4975.7276766738487,4538.9864240723618,4096.9554362094395,3660.550002619726,3239.266246536959,2840.9100853751102,2471.4561597310462,2135.029791869139,1833.9961931346681,1569.134941370525,1339.874442301865,1144.5605615070888,980.73546357733017,845.40632544466678,735.28831605440405,0,0,0,0,0,0,0,0,0,0,0,0,0,0,0,0,0,0,0,0,0,0,0,0,0,0,0,0,0,0,0,0,0,0,0,0,0,0,0,0,0,0,0,0,0,0,0,0,0,0,0,0,0,0,0,0,0,0,0,0,0,0,0,0,0,0,0,0,0,0,0,0,0,0,0,0,0,0,0,0,0,0,0,0,0,0,0,0,0,0,0,0,0,0,0,0,0,0,0,0,0,0,0,0,0,0,0,0,0,0,0]
[null,"'33 Mezzanine Debt Financing/Pct Senior",null,null,null,null,null,0,0,0,0,0,0,0,0,0,0,0,0,0,0,0,0,0,0,0,0,0,0,0,0,0,0,0,0,0,0,0,0,0,0,0,0,0,0,0,0,0,0,0,0,0,0,0,0,0,0,0,0,0,0,0,0,0,0,0,0,0,0,0,0,0,0,0,0,0,0,0,0,0,0,0,0,0,0,0,0,0,0,0,0,0,0,0,0,0,0,0,0,0,0,0,0,0,0,0,0,0,0,0,0,0,0,0,0,0,0,0,0,0,0,0,0,0,0,0,0,0,0,0,0,0,0,0,0,0,0,0,0,0,0,0,0,0,0,0,0,0,0,0,0,0,0,0,0,0]
[null,"'34 Working Capital Draws",null,null,null,null,null,"","",0,0,0,0,0,0,0,0,0,0,0,0,0,0,0,0,0,0,0,0,0,0,0,0,0,0,0,0,0,0,0,0,0,0,0,0,0,0,0,0,0,0,0,0,0,0,0,0,0,0,0,0,0,0,0,0,0,0,0,0,0,0,0,0,0,0,0,0,0,0,0,0,0,0,0,0,0,0,0,0,0,0,0,0,0,0,0,0,0,0,0,0,0,0,0,0,0,0,0,0,0,0,0,0,0,0,0,0,0,0,0,0,0,0,0,0,0,0,0,0,0,0,0,0,0,0,0,0,0,0,0,0,0,0,0,0,0,0,0,0,0,0,0,0,0,0,0]
[null,"'35 Standby Draws",null,null,null,null,null,"","",0,0,0,0,0,0,0,0,0,0,0,0,0,0,0,0,0,0,0,0,0,0,0,0,0,0,0,0,0,0,0,0,0,0,0,0,0,0,0,0,0,0,0,0,0,0,0,0,0,0,0,0,0,0,0,0,0,0,0,0,0,0,0,0,0,0,0,0,0,0,0,0,0,0,0,0,0,0,0,0,0,0,0,0,0,0,0,0,0,0,0,0,0,0,0,0,0,0,0,0,0,0,0,0,0,0,0,0,0,0,0,0,0,0,0,0,0,0,0,0,0,0,0,0,0,0,0,0,0,0,0,0,0,0,0,0,0,0,0,0,0,0,0,0,0,0,0]
[null,"'36 Pre-COD EBITDA",null,null,null,null,null,"","",0,0,0,0,0,0,0,0,0,0,0,0,0,0,0,0,0,0,0,0,0,0,0,0,0,0,0,0,0,0,0,0,0,0,0,0,0,0,0,0,0,0,0,0,0,0,0,0,0,0,0,0,0,0,0,0,0,0,0,0,0,0,0,0,0,0,0,0,0,0,0,0,0,0,0,0,0,0,0,0,0,0,0,0,0,0,0,0,0,0,0,0,0,0,0,0,0,0,0,0,0,0,0,0,0,0,0,0,0,0,0,0,0,0,0,0,0,0,0,0,0,0,0,0,0,0,0,0,0,0,0,0,0,0,0,0,0,0,0,0,0,0,0,0,0,0,0]
[null,"'37 Pre-COD Taxes Paid",null,null,null,null,null,"","",0,0,0,0,0,0,0,0,0,0,0,0,0,0,0,0,0,0,0,0,0,0,0,0,0,0,0,0,0,0,0,0,0,0,0,0,0,0,0,0,0,0,0,0,0,0,0,0,0,0,0,0,0,0,0,0,0,0,0,0,0,0,0,0,0,0,0,0,0,0,0,0,0,0,0,0,0,0,0,0,0,0,0,0,0,0,0,0,0,0,0,0,0,0,0,0,0,0,0,0,0,0,0,0,0,0,0,0,0,0,0,0,0,0,0,0,0,0,0,0,0,0,0,0,0,0,0,0,0,0,0,0,0,0,0,0,0,0,0,0,0,0,0,0,0,0,0]
[null,"'38 Surplus Cash",null,null,null,null,null,"","",0,0,0,0,0,0,0,0,0,0,0,0,0,0,0,0,0,0,0,0,0,0,0,0,0,0,0,0,0,0,0,0,0,0,0,0,0,0,0,0,0,0,0,0,0,0,0,0,0,0,0,0,0,0,0,0,0,0,0,0,0,0,0,0,0,0,0,0,0,0,0,0,0,0,0,0,0,0,0,0,0,0,0,0,0,0,0,0,0,0,0,0,0,0,0,0,0,0,0,0,0,0,0,0,0,0,0,0,0,0,0,0,0,0,0,0,0,0,0,0,0,0,0,0,0,0,0,0,0,0,0,0,0,0,0,0,0,0,0,0,0,0,0,0,0,0,0]
[null,"'39 Accumulated Surplus Cash",null,null,null,null,null,"","",0,0,0,0,0,0,0,0,0,0,0,0,0,0,0,0,0,0,0,0,0,0,0,0,0,0,0,0,0,0,0,0,0,0,0,0,0,0,0,0,0,0,0,0,0,0,0,0,0,0,0,0,0,0,0,0,0,0,0,0,0,0,0,0,0,0,0,0,0,0,0,0,0,0,0,0,0,0,0,0,0,0,0,0,0,0,0,0,0,0,0,0,0,0,0,0,0,0,0,0,0,0,0,0,0,0,0,0,0,0,0,0,0,0,0,0,0,0,0,0,0,0,0,0,0,0,0,0,0,0,0,0,0,0,0,0,0,0,0,0,0,0,0,0,0,0,0]
[null,"'40 Total Sources",null,null,null,null,null,227130.83968626519,"",50639.510491939065,3257.0470865898506,3751.5637212848642,4273.3894160122763,4812.813999479823,5358.1217300112821,5895.9415373602042,6411.7469776956132,6890.4845346949405,7317.2950889281055,7678.2817514891058,7961.2693483345756,8156.497847241104,8257.1946115551091,8259.9785615964429,8165.0624506653703,7976.2362126027474,7700.6329328792481,7348.297412842664,6931.5935388692269,6464.4990247000769,5961.8433632750293,5438.5464492382944,4908.9114525911082,4386.0169119310322,3881.2409417684971,3403.9364769811327,2961.262243629727,2558.1611418811258,2197.467133012532,1880.1142956735048,1605.417754051819,1371.3955487308435,1175.1027376493271,1012.9533644398024,881.01159308079309,0,0,0,0,0,0,0,0,0,0,0,0,0,0,0,0,0,0,0,0,0,0,0,0,0,0,0,0,0,0,0,0,0,0,0,0,0,0,0,0,0,0,0,0,0,0,0,0,0,0,0,0,0,0,0,0,0,0,0,0,0,0,0,0,0,0,0,0,0,0,0,0,0,0,0,0,0,0,0,0,0,0,0,0,0,0,0,0,0,0,0,0,0,0,0,0,0,0,0,0,0,0,0,0,0,0,0,0,0,0,0]
[null,"'41 Total Debt Including Cap Int and Fees",null,null,null,null,null,162658.0118168288,0.71614234351225747,15359.141677610844,2718.3168603196036,3131.0382211297133,3566.5516007077408,4016.7529337335909,4471.8643148583515,4920.7263089479429,5351.2152112672375,5750.7674247484438,6106.9815950965649,6408.2594412874441,6644.4396177833805,6807.3764455552327,6891.4175124901849,6893.7409846827741,6814.5244250812248,6656.9308954360122,6426.9136368227319,6132.8559953018957,5785.0768148760862,5395.241832613613,4975.7276766738487,4538.9864240723618,4096.9554362094395,3660.550002619726,3239.266246536959,2840.9100853751102,2471.4561597310462,2135.029791869139,1833.9961931346681,1569.134941370525,1339.874442301865,1144.5605615070888,980.73546357733017,845.40632544466678,735.28831605440405,0,0,0,0,0,0,0,0,0,0,0,0,0,0,0,0,0,0,0,0,0,0,0,0,0,0,0,0,0,0,0,0,0,0,0,0,0,0,0,0,0,0,0,0,0,0,0,0,0,0,0,0,0,0,0,0,0,0,0,0,0,0,0,0,0,0,0,0,0,0,0,0,0,0,0,0,0,0,0,0,0,0,0,0,0,0,0,0,0,0,0,0,0,0,0,0,0,0,0,0,0,0,0,0,0,0,0,0,0,0,0]
[".","'42 Equity Components Section",null,null,null,null,null,"","","","","","","","","","","","","","","","","","","","","","","","","","","","","","","","","","","","","","","Operation","Operation","Operation","Operation","Operation","Operation","Operation","Operation","Operation","Operation","Operation","Operation","Operation","Operation","Operation","Operation","Operation","Operation","Operation","Operation","Operation","Operation","Operation","Operation","Operation","Operation","Operation","Operation","Operation","Operation","Operation","Operation","Operation","Operation","Operation","Operation","Operation","Operation","Operation","Operation","Operation","Operation","Operation","Operation","Operation","Operation","Operation","Operation","Operation","Operation","Operation","Operation","Operation","Operation","Operation","Operation","Operation","Operation","Operation","Operation","Operation","Operation","Operation","Operation","Operation","Operation","Operation","Operation","Operation","Operation",0,0,0,0,0,0,0,0,0,0,0,0,0,0,0,0,0,0,0,0,0,0,0,0,0,0,0,0,0,0,0,0,0,0,0,0,0,0,0,0,0]
[null,"'43 Up Front Equity Draws/Up Front %",null,null,null,null,null,32236.413934718192,0.5,32236.413934718192,0,0,0,0,0,0,0,0,0,0,0,0,0,0,0,0,0,0,0,0,0,0,0,0,0,0,0,0,0,0,0,0,0,0,0,0,0,0,0,0,0,0,0,0,0,0,0,0,0,0,0,0,0,0,0,0,0,0,0,0,0,0,0,0,0,0,0,0,0,0,0,0,0,0,0,0,0,0,0,0,0,0,0,0,0,0,0,0,0,0,0,0,0,0,0,0,0,0,0,0,0,0,0,0,0,0,0,0,0,0,0,0,0,0,0,0,0,0,0,0,0,0,0,0,0,0,0,0,0,0,0,0,0,0,0,0,0,0,0,0,0,0,0,0,0,0]
[null,"'44 Pro-Rata Equity Draws/Equity Pro Rata %",null,null,null,null,null,32236.413934718192,0.16540449430048026,3043.954879610028,538.73022627024682,620.52550015515089,706.8378153045353,796.06106574623198,886.25741515293055,975.21522841226079,1060.5317664283757,1139.7171099464967,1210.3134938315411,1270.0223102016614,1316.8297305511946,1349.1214016858708,1365.7770990649235,1366.2375769136679,1350.5380255841458,1319.3053171667357,1273.7192960565164,1215.4414175407683,1146.5167239931411,1069.2571920864643,986.11568660118087,899.56002516593264,811.95601638166829,725.46690931130661,641.97469523153802,563.02639160602268,489.80608389868058,423.13135001198674,363.47093987786411,310.97935430297969,265.54331174995394,226.83498722375487,194.36727407199689,167.54703899513561,145.7232770263891,0,0,0,0,0,0,0,0,0,0,0,0,0,0,0,0,0,0,0,0,0,0,0,0,0,0,0,0,0,0,0,0,0,0,0,0,0,0,0,0,0,0,0,0,0,0,0,0,0,0,0,0,0,0,0,0,0,0,0,0,0,0,0,0,0,0,0,0,0,0,0,0,0,0,0,0,0,0,0,0,0,0,0,0,0,0,0,0,0,0,0,0,0,0,0,0,0,0,0,0,0,0,0,0,0,0,0,0,0,0,0]
[null,"'45 Total Equity Draws/Debt Pro Rata %",null,null,null,null,null,64472.827867877473,"",35280.36881432822,538.73022627024682,620.52550015515089,706.8378153045353,796.06106574623198,886.25741515293055,975.21522841226079,1060.5317664283757,1139.7171099464967,1210.3134938315411,1270.0223102016614,1316.8297305511946,1349.1214016858708,1365.7770990649235,1366.2375769136679,1350.5380255841458,1319.3053171667357,1273.7192960565164,1215.4414175407683,1146.5167239931411,1069.2571920864643,986.11568660118087,899.56002516593264,811.95601638166829,725.46690931130661,641.97469523153802,563.02639160602268,489.80608389868058,423.13135001198674,363.47093987786411,310.97935430297969,265.54331174995394,226.83498722375487,194.36727407199689,167.54703899513561,145.7232770263891,0,0,0,0,0,0,0,0,0,0,0,0,0,0,0,0,0,0,0,0,0,0,0,0,0,0,0,0,0,0,0,0,0,0,0,0,0,0,0,0,0,0,0,0,0,0,0,0,0,0,0,0,0,0,0,0,0,0,0,0,0,0,0,0,0,0,0,0,0,0,0,0,0,0,0,0,0,0,0,0,0,0,0,0,0,0,0,0,0,0,0,0,0,0,0,0,0,0,0,0,0,0,0,0,0,0,0,0,0,0,0]
[null,"'46 Initial Share Capital",null,null,null,null,null,0,"",0,0,0,0,0,0,0,0,0,0,0,0,0,0,0,0,0,0,0,0,0,0,0,0,0,0,0,0,0,0,0,0,0,0,0,0,0,0,0,0,0,0,0,0,0,0,0,0,0,0,0,0,0,0,0,0,0,0,0,0,0,0,0,0,0,0,0,0,0,0,0,0,0,0,0,0,0,0,0,0,0,0,0,0,0,0,0,0,0,0,0,0,0,0,0,0,0,0,0,0,0,0,0,0,0,0,0,0,0,0,0,0,0,0,0,0,0,0,0,0,0,0,0,0,0,0,0,0,0,0,0,0,0,0,0,0,0,0,0,0,0,0,0,0,0,0,0]
[null,"'47 EBL Draws",null,null,null,null,null,0,"",0,0,0,0,0,0,0,0,0,0,0,0,0,0,0,0,0,0,0,0,0,0,0,0,0,0,0,0,0,0,0,0,0,0,0,0,0,0,0,0,0,0,0,0,0,0,0,0,0,0,0,0,0,0,0,0,0,0,0,0,0,0,0,0,0,0,0,0,0,0,0,0,0,0,0,0,0,0,0,0,0,0,0,0,0,0,0,0,0,0,0,0,0,0,0,0,0,0,0,0,0,0,0,0,0,0,0,0,0,0,0,0,0,0,0,0,0,0,0,0,0,0,0,0,0,0,0,0,0,0,0,0,0,0,0,0,0,0,0,0,0,0,0,0,0,0,0]
[null,"'48 EBL Repayment",null,null,null,null,null,"","",35280.36881432822,538.73022627024682,620.52550015515089,706.8378153045353,796.06106574623198,886.25741515293055,975.21522841226079,1060.5317664283757,1139.7171099464967,1210.3134938315411,1270.0223102016614,1316.8297305511946,1349.1214016858708,1365.7770990649235,1366.2375769136679,1350.5380255841458,1319.3053171667357,1273.7192960565164,1215.4414175407683,1146.5167239931411,1069.2571920864643,986.11568660118087,899.56002516593264,811.95601638166829,725.46690931130661,641.97469523153802,563.02639160602268,489.80608389868058,423.13135001198674,363.47093987786411,310.97935430297969,265.54331174995394,226.83498722375487,194.36727407199689,167.54703899513561,145.7232770263891,0,0,0,0,0,0,0,0,0,0,0,0,0,0,0,0,0,0,0,0,0,0,0,0,0,0,0,0,0,0,0,0,0,0,0,0,0,0,0,0,0,0,0,0,0,0,0,0,0,0,0,0,0,0,0,0,0,0,0,0,0,0,0,0,0,0,0,0,0,0,0,0,0,0,0,0,0,0,0,0,0,0,0,0,0,0,0,0,0,0,0,0,0,0,0,0,0,0,0,0,0,0,0,0,0,0,0,0,0,0,0]
[null,"'49 Shareholder Loan Draws",null,null,null,null,null,0,0,0,0,0,0,0,0,0,0,0,0,0,0,0,0,0,0,0,0,0,0,0,0,0,0,0,0,0,0,0,0,0,0,0,0,0,0,0,0,0,0,0,0,0,0,0,0,0,0,0,0,0,0,0,0,0,0,0,0,0,0,0,0,0,0,0,0,0,0,0,0,0,0,0,0,0,0,0,0,0,0,0,0,0,0,0,0,0,0,0,0,0,0,0,0,0,0,0,0,0,0,0,0,0,0,0,0,0,0,0,0,0,0,0,0,0,0,0,0,0,0,0,0,0,0,0,0,0,0,0,0,0,0,0,0,0,0,0,0,0,0,0,0,0,0,0,0,0]
[null,"'50 Shareholder Loan IDC",null,null,null,null,null,0,0,0,0,0,0,0,0,0,0,0,0,0,0,0,0,0,0,0,0,0,0,0,0,0,0,0,0,0,0,0,0,0,0,0,0,0,0,0,0,0,0,0,0,0,0,0,0,0,0,0,0,0,0,0,0,0,0,0,0,0,0,0,0,0,0,0,0,0,0,0,0,0,0,0,0,0,0,0,0,0,0,0,0,0,0,0,0,0,0,0,0,0,0,0,0,0,0,0,0,0,0,0,0,0,0,0,0,0,0,0,0,0,0,0,0,0,0,0,0,0,0,0,0,0,0,0,0,0,0,0,0,0,0,0,0,0,0,0,0,0,0,0,0,0,0,0,0,0]
[null,"'51 Common Equity Draws",null,null,null,null,null,"","",35280.36881432822,538.73022627024682,620.52550015515089,706.8378153045353,796.06106574623198,886.25741515293055,975.21522841226079,1060.5317664283757,1139.7171099464967,1210.3134938315411,1270.0223102016614,1316.8297305511946,1349.1214016858708,1365.7770990649235,1366.2375769136679,1350.5380255841458,1319.3053171667357,1273.7192960565164,1215.4414175407683,1146.5167239931411,1069.2571920864643,986.11568660118087,899.56002516593264,811.95601638166829,725.46690931130661,641.97469523153802,563.02639160602268,489.80608389868058,423.13135001198674,363.47093987786411,310.97935430297969,265.54331174995394,226.83498722375487,194.36727407199689,167.54703899513561,145.7232770263891,0,0,0,0,0,0,0,0,0,0,0,0,0,0,0,0,0,0,0,0,0,0,0,0,0,0,0,0,0,0,0,0,0,0,0,0,0,0,0,0,0,0,0,0,0,0,0,0,0,0,0,0,0,0,0,0,0,0,0,0,0,0,0,0,0,0,0,0,0,0,0,0,0,0,0,0,0,0,0,0,0,0,0,0,0,0,0,0,0,0,0,0,0,0,0,0,0,0,0,0,0,0,0,0,0,0,0,0,0,0,0]
[".","'52 Income Tax Section",null,null,null,null,null,"","","","","","","","","","","","","","","","","","","","","","","","","","","","","","","","","","","","","","","Operation","Operation","Operation","Operation","Operation","Operation","Operation","Operation","Operation","Operation","Operation","Operation","Operation","Operation","Operation","Operation","Operation","Operation","Operation","Operation","Operation","Operation","Operation","Operation","Operation","Operation","Operation","Operation","Operation","Operation","Operation","Operation","Operation","Operation","Operation","Operation","Operation","Operation","Operation","Operation","Operation","Operation","Operation","Operation","Operation","Operation","Operation","Operation","Operation","Operation","Operation","Operation","Operation","Operation","Operation","Operation","Operation","Operation","Operation","Operation","Operation","Operation","Operation","Operation","Operation","Operation","Operation","Operation","Operation","Operation",0,0,0,0,0,0,0,0,0,0,0,0,0,0,0,0,0,0,0,0,0,0,0,0,0,0,0,0,0,0,0,0,0,0,0,0,0,0,0,0,0]
[null,"'53 Tax Parameters",null,null,null,null,null," Tax Period ",1," Max % EBITDA ",0," Base Dep Rate ",true," Zero IDC Dep ",false," Debt Bal Dep ",false,"","","","",0,0,0,0,0,0,0,0,0,0,0,0,0,0,0,0,0,0,0,0,0,0,0,0,0,0,0,0,0,0,0,0,0,0,0,0,0,0,0,0,0,0,0,0,0,0,0,0,0,0,0,0,0,0,0,0,0,0,0,0,0,0,0,0,0,0,0,0,0,0,0,0,0,0,0,0,0,0,0,0,0,0,0,0,0,0,0,0,0,0,0,0,0,0,0,0,0,0,0,0,0,0,0,0,0,0,0,0,0,0,0,0,0,0,0,0,0,0,0,0,0,0,0,0,0,0,0,0,0,0,0,0,0,0,0]
[null,"'54 Tax Period (True is tax period)",null,null,null,null,null,1,"",false,false,false,false,false,false,false,false,false,false,false,false,false,false,false,false,false,false,false,false,false,false,false,false,false,false,false,false,false,false,false,false,false,false,false,false,true,true,true,true,true,true,true,true,true,true,true,true,true,true,true,true,true,true,true,true,true,true,true,true,true,true,true,true,true,true,true,true,true,true,true,true,true,true,true,true,true,true,true,true,true,true,true,true,true,true,true,true,true,true,true,true,true,true,true,true,true,true,true,true,true,true,true,true,true,true,0,0,0,0,0,0,0,0,0,0,0,0,0,0,0,0,0,0,0,0,0,0,0,0,0,0,0,0,0,0,0,0,0,0,0,0,0,0,0,0,0]
[null,"'55 EBITDA/Start/End",null,null,null,null,null,46,115,0,0,0,0,0,0,0,0,0,0,0,0,0,0,0,0,0,0,0,0,0,0,0,0,0,0,0,0,0,0,0,0,0,0,0,0,0,5565.1840271663941,5736.7954714120624,5676.4877077097226,5851.5313808403025,5790.0174618639167,5968.5620084571083,5946.5292567118922,6087.933248626252,6023.9341673232211,6209.6919135987755,6144.4128506696843,6333.8857518707518,6267.3011076830808,6460.5634669081692,6436.7145078458507,6589.7747362463333,6520.5000724334768,6721.5702309712624,6650.9100738821444,6856.0016355906855,6783.9282753597909,6993.1216683025004,6967.3067880309245,7132.9841016685514,7057.9989776843286,7275.6437837019257,7199.1589572380144,7421.1566593759617,7343.1421363827767,7569.5797925634834,7541.6369359509763,7720.9713884147532,7639.8050786926424,7875.3908161830495,7792.6011802664971,8032.8986325067126,7948.4532038718262,8193.5566051568476,8163.3103585172039,8357.4277372599863,8269.5707133082524,8524.576292005182,8434.9621275744157,8695.0678178452908,8603.6613701259066,8868.9691742021932,8836.2296641201538,9046.3485576862404,8951.2492894789902,9227.275528839964,9130.2742752685735,9411.8210394167654,9312.8797607739452,9600.057460205102,9564.6191615896569,9792.058609409205,9689.1201031092151,9987.8997815973889,9882.9025051713998,10187.657777229335,0,0,0,0,0,0,0,0,0,0,0,0,0,0,0,0,0,0,0,0,0,0,0,0,0,0,0,0,0,0,0,0,0,0,0,0,0,0,0,0,0,0,0,0,0,0,0,0,0,0]
[null,"'56 Depreciation without IDC",null,null,null,null,null,"","",0,0,0,0,0,0,0,0,0,0,0,0,0,0,0,0,0,0,0,0,0,0,0,0,0,0,0,0,0,0,0,0,0,0,0,0,2400.0000000000009,2400.0000000000009,2400.0000000000009,2400.0000000000009,2400.0000000000009,2400.0000000000009,2400.0000000000009,2400.0000000000009,2400.0000000000009,2400.0000000000009,2400.0000000000009,2400.0000000000009,2400.0000000000009,2400.0000000000009,2400.0000000000009,2400.0000000000009,2400.0000000000009,2400.0000000000009,2400.0000000000009,2400.0000000000009,2400.0000000000009,2400.0000000000009,2400.0000000000009,2400.0000000000009,2400.0000000000009,2400.0000000000009,2400.0000000000009,2400.0000000000009,2400.0000000000009,2400.0000000000009,2400.0000000000009,2400.0000000000009,2400.0000000000009,2400.0000000000009,2400.0000000000009,2400.0000000000009,2400.0000000000009,2400.0000000000009,2400.0000000000009,2400.0000000000009,2400.0000000000009,2400.0000000000009,2400.0000000000009,2400.0000000000009,2400.0000000000009,2400.0000000000009,2400.0000000000009,2400.0000000000009,2400.0000000000009,2400.0000000000009,2400.0000000000009,2400.0000000000009,2400.0000000000009,2400.0000000000009,2400.0000000000009,2400.0000000000009,2400.0000000000009,2400.0000000000009,2400.0000000000009,2400.0000000000009,2400.0000000000009,2400.0000000000009,2400.0000000000009,2400.0000000000009,2400.0000000000009,2400.0000000000009,2400.0000000000009,2400.0000000000009,2400.0000000000009,2400.0000000000009,0,0,0,0,0,0,0,0,0,0,0,0,0,0,0,0,0,0,0,0,0,0,0,0,0,0,0,0,0,0,0,0,0,0,0,0,0,0,0,0,0]
[null,"'57 IDC Depreciation",null,null,null,null,null,"","",0,0,0,0,0,0,0,0,0,0,0,0,0,0,0,0,0,0,0,0,0,0,0,0,0,0,0,0,0,0,0,0,0,0,0,0,781.6218529186865,781.6218529186865,781.6218529186865,781.6218529186865,781.6218529186865,781.6218529186865,781.6218529186865,781.6218529186865,781.6218529186865,781.6218529186865,781.6218529186865,781.6218529186865,781.6218529186865,781.6218529186865,781.6218529186865,781.6218529186865,781.6218529186865,781.6218529186865,781.6218529186865,781.6218529186865,781.6218529186865,781.6218529186865,781.6218529186865,781.6218529186865,781.6218529186865,781.6218529186865,781.6218529186865,781.6218529186865,781.6218529186865,781.6218529186865,781.6218529186865,781.6218529186865,781.6218529186865,781.6218529186865,781.6218529186865,781.6218529186865,781.6218529186865,781.6218529186865,781.6218529186865,781.6218529186865,781.6218529186865,781.6218529186865,781.6218529186865,781.6218529186865,781.6218529186865,781.6218529186865,781.6218529186865,781.6218529186865,781.6218529186865,781.6218529186865,781.6218529186865,781.6218529186865,781.6218529186865,781.6218529186865,781.6218529186865,781.6218529186865,781.6218529186865,781.6218529186865,781.6218529186865,781.6218529186865,781.6218529186865,781.6218529186865,781.6218529186865,781.6218529186865,781.6218529186865,781.6218529186865,781.6218529186865,781.6218529186865,781.6218529186865,781.6218529186865,0,0,0,0,0,0,0,0,0,0,0,0,0,0,0,0,0,0,0,0,0,0,0,0,0,0,0,0,0,0,0,0,0,0,0,0,0,0,0,0,0]
[null,"'58 Fee Amortisation",null,null,null,null,null,"","",0,0,0,0,0,0,0,0,0,0,0,0,0,0,0,0,0,0,0,0,0,0,0,0,0,0,0,0,0,0,0,0,0,0,0,0,63.104428291402797,63.104428291402797,63.104428291402797,63.104428291402797,63.104428291402797,63.104428291402797,63.104428291402797,63.104428291402797,63.104428291402797,63.104428291402797,63.104428291402797,63.104428291402797,63.104428291402797,63.104428291402797,63.104428291402797,63.104428291402797,63.104428291402797,63.104428291402797,63.104428291402797,63.104428291402797,63.104428291402797,63.104428291402797,63.104428291402797,63.104428291402797,63.104428291402797,63.104428291402797,63.104428291402797,63.104428291402797,63.104428291402797,63.104428291402797,63.104428291402797,63.104428291402797,63.104428291402797,63.104428291402797,63.104428291402797,63.104428291402797,63.104428291402797,63.104428291402797,63.104428291402797,63.104428291402797,63.104428291402797,63.104428291402797,63.104428291402797,63.104428291402797,63.104428291402797,63.104428291402797,63.104428291402797,63.104428291402797,63.104428291402797,63.104428291402797,63.104428291402797,63.104428291402797,63.104428291402797,63.104428291402797,63.104428291402797,63.104428291402797,63.104428291402797,63.104428291402797,63.104428291402797,63.104428291402797,63.104428291402797,63.104428291402797,63.104428291402797,63.104428291402797,63.104428291402797,63.104428291402797,63.104428291402797,63.104428291402797,63.104428291402797,63.104428291402797,0,0,0,0,0,0,0,0,0,0,0,0,0,0,0,0,0,0,0,0,0,0,0,0,0,0,0,0,0,0,0,0,0,0,0,0,0,0,0,0,0]
[null,"'59 EBIT",null,null,null,null,null,"","",0,0,0,0,0,0,0,0,0,0,0,0,0,0,0,0,0,0,0,0,0,0,0,0,0,0,0,0,0,0,0,0,0,0,0,0,-3244.7262812100898,2320.4577459563043,2492.0691902019726,2431.7614264996328,2606.8050996302127,2545.2911806538268,2723.8357272470184,2701.8029755018024,2843.2069674161621,2779.2078861131313,2964.9656323886857,2899.6865694595945,3089.159470660662,3022.5748264729909,3215.8371856980793,3191.9882266357608,3345.0484550362435,3275.773791223387,3476.8439497611726,3406.1837926720546,3611.2753543805957,3539.201994149701,3748.3953870924106,3722.5805068208347,3888.2578204584615,3813.2726964742387,4030.9175024918359,3954.4326760279246,4176.4303781658718,4098.4158551726869,4324.8535113533935,4296.9106547408865,4476.2451072046633,4395.0787974825525,4630.6645349729597,4547.8748990564072,4788.1723512966228,4703.7269226617364,4948.8303239467577,4918.5840773071141,5112.7014560498965,5024.8444320981625,5279.8500107950922,5190.2358463643259,5450.341536635201,5358.9350889158168,5624.2428929921034,5591.5033829100639,5801.6222764761505,5706.5230082689004,5982.5492476298741,5885.5479940584837,6167.0947582066756,6068.1534795638554,6355.3311789950121,6319.892880379567,6547.3323281991152,6444.3938218991252,6743.1735003872991,6638.1762239613099,6942.9314960192451,-3244.7262812100898,-3244.7262812100898,-3244.7262812100898,-3244.7262812100898,-3244.7262812100898,-3244.7262812100898,-3244.7262812100898,-3244.7262812100898,-3244.7262812100898,0,0,0,0,0,0,0,0,0,0,0,0,0,0,0,0,0,0,0,0,0,0,0,0,0,0,0,0,0,0,0,0,0,0,0,0,0,0,0,0,0]
[null,"'60 Deductible Senior Interest",null,null,null,null,null,"","",0,0,0,0,0,0,0,0,0,0,0,0,0,0,0,0,0,0,0,0,0,0,0,0,0,0,0,0,0,0,0,0,0,0,0,0,2805.8507038402972,2854.2516321679091,2832.3767879579414,2807.9317897843971,2783.8357145960167,2757.0873129516631,2730.6635125666749,2701.502499082892,2865.7518708907301,2835.3410470091203,2805.2446473340901,2772.0458951468208,2739.1275309814446,2703.003696578392,2667.124027474988,2627.9321743825417,2763.2300702036682,2721.3979002568512,2679.7530076289281,2634.3440464195933,2589.0719901552247,2539.9053971885846,2490.8221705782803,2438.5664360831056,2539.9300971698526,2486.7156358937868,2433.4789886955527,2376.6236654457434,2319.7000213319025,2259.0388261643384,2198.2606176080808,2133.6219416200065,2068.1803931047289,1999.3745266330491,1930.3459465584522,1857.1981727088521,1783.7706376407273,1706.0879989232562,1628.0655285696666,1545.6474112737601,1462.1394387954842,1374.7651047037275,1286.9209976269742,1194.3853864918465,1101.3100690295812,1003.3878060068826,904.85233853374734,801.30917064133769,696.33216943993932,586.91144834429167,476.7189974690005,361.18041134160018,244.78497858144308,122.86556990791308,2.1009911288274452E-6,2.1451119425328213E-6,2.1901592933260105E-6,2.236152638485857E-6,2.2831118438940599E-6,2.331057192615835E-6,2.3800093936607676E-6,2.4299895909276435E-6,2.4810193723371242E-6,2.5331207791562039E-6,2.5863163155184842E-6,2.6406289581443725E-6,2.6960821662654044E-6,2.7526998917569782E-6,2.8105065894838745E-6,2.8695272278630364E-6,0,0,0,0,0,0,0,0,0,0,0,0,0,0,0,0,0,0,0,0,0,0,0,0,0,0,0,0,0,0,0,0,0,0,0,0,0,0,0,0,0]
[null,"'61 Deductible Mezzanine Interest",null,null,null,null,null,"","",0,0,0,0,0,0,0,0,0,0,0,0,0,0,0,0,0,0,0,0,0,0,0,0,0,0,0,0,0,0,0,0,0,0,0,0,0,0,0,0,0,0,0,0,0,0,0,0,0,0,0,0,0,0,0,0,0,0,0,0,0,0,0,0,0,0,0,0,0,0,0,0,0,0,0,0,0,0,0,0,0,0,0,0,0,0,0,0,0,0,0,0,0,0,0,0,0,0,0,0,0,0,0,0,0,0,0,0,0,0,0,0,0,0,0,0,0,0,0,0,0,0,0,0,0,0,0,0,0,0,0,0,0,0,0,0,0,0,0,0,0,0,0,0,0,0,0]
[null,"'62 Deductible Shareholder Interest",null,null,null,null,null,"","",0,0,0,0,0,0,0,0,0,0,0,0,0,0,0,0,0,0,0,0,0,0,0,0,0,0,0,0,0,0,0,0,0,0,0,0,0,0,0,0,0,0,0,0,0,0,0,0,0,0,0,0,0,0,0,0,0,0,0,0,0,0,0,0,0,0,0,0,0,0,0,0,0,0,0,0,0,0,0,0,0,0,0,0,0,0,0,0,0,0,0,0,0,0,0,0,0,0,0,0,0,0,0,0,0,0,0,0,0,0,0,0,0,0,0,0,0,0,0,0,0,0,0,0,0,0,0,0,0,0,0,0,0,0,0,0,0,0,0,0,0,0,0,0,0,0,0]
[null,"'63 Total Deductible Interest/Max Pct",null,null,null,null,null,"","",0,0,0,0,0,0,0,0,0,0,0,0,0,0,0,0,0,0,0,0,0,0,0,0,0,0,0,0,0,0,0,0,0,0,0,0,2805.8507038402972,2854.2516321679091,2832.3767879579414,2807.9317897843971,2783.8357145960167,2757.0873129516631,2730.6635125666749,2701.502499082892,2865.7518708907301,2835.3410470091203,2805.2446473340901,2772.0458951468208,2739.1275309814446,2703.003696578392,2667.124027474988,2627.9321743825417,2763.2300702036682,2721.3979002568512,2679.7530076289281,2634.3440464195933,2589.0719901552247,2539.9053971885846,2490.8221705782803,2438.5664360831056,2539.9300971698526,2486.7156358937868,2433.4789886955527,2376.6236654457434,2319.7000213319025,2259.0388261643384,2198.2606176080808,2133.6219416200065,2068.1803931047289,1999.3745266330491,1930.3459465584522,1857.1981727088521,1783.7706376407273,1706.0879989232562,1628.0655285696666,1545.6474112737601,1462.1394387954842,1374.7651047037275,1286.9209976269742,1194.3853864918465,1101.3100690295812,1003.3878060068826,904.85233853374734,801.30917064133769,696.33216943993932,586.91144834429167,476.7189974690005,361.18041134160018,244.78497858144308,122.86556990791308,2.1009911288274452E-6,2.1451119425328213E-6,2.1901592933260105E-6,2.236152638485857E-6,2.2831118438940599E-6,2.331057192615835E-6,2.3800093936607676E-6,2.4299895909276435E-6,2.4810193723371242E-6,2.5331207791562039E-6,2.5863163155184842E-6,2.6406289581443725E-6,2.6960821662654044E-6,2.7526998917569782E-6,2.8105065894838745E-6,2.8695272278630364E-6,0,0,0,0,0,0,0,0,0,0,0,0,0,0,0,0,0,0,0,0,0,0,0,0,0,0,0,0,0,0,0,0,0,0,0,0,0,0,0,0,0]
[null,"'64 EBT Before NOL Adjustment",null,null,null,null,null,"","",0,0,0,0,0,0,0,0,0,0,0,0,0,0,0,0,0,0,0,0,0,0,0,0,0,0,0,0,0,0,0,0,0,0,0,0,-6050.5769850503875,-533.79388621160479,-340.3075977559688,-376.17036328476433,-177.03061496580403,-211.79613229783627,-6.8277853196564138,0.30047641891042076,-22.544903474567946,-56.133160895989022,159.72098505459553,127.64067431277363,350.03193967921743,319.57112989459893,548.71315822309134,564.05605225321915,581.81838483257525,554.37589096653574,797.09094213224444,771.83974625246128,1022.2033642253709,999.29659696111639,1257.5732165141303,1284.0140707377291,1348.3277232886089,1326.5570605804519,1597.4385137962831,1577.8090105821811,1856.7303568339694,1839.3770290083485,2126.5928937453127,2163.2887131208799,2408.0647140999345,2395.7042708495037,2700.3185884145078,2690.6767263475549,3004.4017136558955,2997.6389237384801,3320.7647953770911,3372.936666033354,3650.5620172544122,3650.079327394435,3992.9290131681182,3995.8504598724794,4349.0314676056196,4355.547282908934,4719.3905544583558,4790.194212268726,5105.2901070362113,5119.6115599246086,5505.8302501608732,5524.3675827168836,5922.3097796252323,5945.2879096559427,6355.3311768940212,6319.8928782344547,6547.3323260089555,6444.3938196629724,6743.1734981041873,6638.1762216302532,6942.9314936392357,-3244.7262836400796,-3244.7262836911091,-3244.7262837432108,-3244.7262837964063,-3244.7262838507186,-3244.7262839061718,-3244.7262839627897,-3244.7262840205963,-3244.726284079617,0,0,0,0,0,0,0,0,0,0,0,0,0,0,0,0,0,0,0,0,0,0,0,0,0,0,0,0,0,0,0,0,0,0,0,0,0,0,0,0,0]
[null,"'65 Additions to NOL",null,null,null,null,null,"","",0,0,0,0,0,0,0,0,0,0,0,0,0,0,0,0,0,0,0,0,0,0,0,0,0,0,0,0,0,0,0,0,0,0,0,0,6050.5769850503875,533.79388621160479,340.3075977559688,376.17036328476433,177.03061496580403,211.79613229783627,6.8277853196564138,0,22.544903474567946,56.133160895989022,0,0,0,0,0,0,0,0,0,0,0,0,0,0,0,0,0,0,0,0,0,0,0,0,0,0,0,0,0,0,0,0,0,0,0,0,0,0,0,0,0,0,0,0,0,0,0,0,0,0,0,3244.7262836400796,3244.7262836911091,3244.7262837432108,3244.7262837964063,3244.7262838507186,3244.7262839061718,3244.7262839627897,3244.7262840205963,3244.726284079617,0,0,0,0,0,0,0,0,0,0,0,0,0,0,0,0,0,0,0,0,0,0,0,0,0,0,0,0,0,0,0,0,0,0,0,0,0,0,0,0,0]
[null,{"$f":"B520","v":"'66 Subtractions from NOL"},null,null,null,null,null,"","",0,0,0,0,0,0,0,0,0,0,0,0,0,0,0,0,0,0,0,0,0,0,0,0,0,0,0,0,0,0,0,0,0,0,0,0,0,0,0,0,0,0,0,0.30047641891042076,0,0,159.72098505459553,127.64067431277363,350.03193967921743,319.57112989459893,548.71315822309134,564.05605225321915,581.81838483257525,554.37589096653574,797.09094213224444,771.83974625246128,1022.2033642253709,999.29659696111639,978.52208804986958,0,0,0,0,0,0,0,0,0,0,0,0,0,0,0,0,0,0,0,0,0,0,0,0,0,0,0,0,0,0,0,0,0,0,0,0,0,0,0,0,0,0,0,0,0,0,0,0,0,0,0,0,0,0,0,0,0,0,0,0,0,0,0,0,0,0,0,0,0,0,0,0,0,0,0,0,0,0,0,0,0,0,0,0,0,0,0,0]
[null,"'67 Adjusted EBT for NOL",null,null,null,null,null,"","",0,0,0,0,0,0,0,0,0,0,0,0,0,0,0,0,0,0,0,0,0,0,0,0,0,0,0,0,0,0,0,0,0,0,0,0,0,0,0,0,0,0,0,0,0,0,0,0,0,0,0,0,0,0,0,0,0,0,279.05112846426073,1284.0140707377291,1348.3277232886089,1326.5570605804519,1597.4385137962831,1577.8090105821811,1856.7303568339694,1839.3770290083485,2126.5928937453127,2163.2887131208799,2408.0647140999345,2395.7042708495037,2700.3185884145078,2690.6767263475549,3004.4017136558955,2997.6389237384801,3320.7647953770911,3372.936666033354,3650.5620172544122,3650.079327394435,3992.9290131681182,3995.8504598724794,4349.0314676056196,4355.547282908934,4719.3905544583558,4790.194212268726,5105.2901070362113,5119.6115599246086,5505.8302501608732,5524.3675827168836,5922.3097796252323,5945.2879096559427,6355.3311768940212,6319.8928782344547,6547.3323260089555,6444.3938196629724,6743.1734981041873,6638.1762216302532,6942.9314936392357,0,0,0,0,0,0,0,0,0,0,0,0,0,0,0,0,0,0,0,0,0,0,0,0,0,0,0,0,0,0,0,0,0,0,0,0,0,0,0,0,0,0,0,0,0,0,0,0,0,0]
[null,"'68 NOL Balance",null,null,null,null,null,"","",0,0,0,0,0,0,0,0,0,0,0,0,0,0,0,0,0,0,0,0,0,0,0,0,0,0,0,0,0,0,0,0,0,0,0,0,6050.5769850503875,6584.3708712619919,6924.6784690179611,7300.848832302725,7477.8794472685295,7689.6755795663657,7696.5033648860226,7696.2028884671126,7718.7477919416806,7774.8809528376696,7615.1599677830745,7487.5192934703009,7137.4873537910835,6817.9162238964846,6269.2030656733932,5705.1470134201736,5123.3286285875984,4568.9527376210626,3771.8617954888182,3000.0220492363569,1977.818685010986,978.52208804986958,0,0,0,0,0,0,0,0,0,0,0,0,0,0,0,0,0,0,0,0,0,0,0,0,0,0,0,0,0,0,0,0,0,0,0,0,0,0,0,3244.7262836400796,6489.4525673311891,9734.1788510744009,12978.905134870807,16223.631418721525,19468.357702627698,22713.083986590489,25957.810270611084,29202.536554690701,0,0,0,0,0,0,0,0,0,0,0,0,0,0,0,0,0,0,0,0,0,0,0,0,0,0,0,0,0,0,0,0,0,0,0,0,0,0,0,0,0]
[null,"'69 Taxes Paid/Tax Rate",null,null,null,null,null,"",0.21,0,0,0,0,0,0,0,0,0,0,0,0,0,0,0,0,0,0,0,0,0,0,0,0,0,0,0,0,0,0,0,0,0,0,0,0,0,0,0,0,0,0,0,0,0,0,0,0,0,0,0,0,0,0,0,0,0,0,58.600736977494748,269.64295485492312,283.14882189060785,278.57698272189486,335.46208789721942,331.33989222225802,389.91337493513356,386.26917609175314,446.58450768651568,454.29062975538477,505.69358996098623,503.09789687839577,567.06690356704655,565.04211253298649,630.92435986773808,629.5041739850808,697.36060702918905,708.31669986700433,766.61802362342655,766.51665875283129,838.51509276530476,839.12859657322065,913.29660819718003,914.66492941087608,991.07201643625467,1005.9407845764324,1072.1109224776044,1075.1184275841679,1156.2243525337833,1160.1171923705456,1243.6850537212988,1248.5104610277479,1334.6195471477445,1327.1775044292353,1374.9397884618807,1353.3227021292241,1416.0664346018793,1394.0170065423531,1458.0156136642395,0,0,0,0,0,0,0,0,0,0,0,0,0,0,0,0,0,0,0,0,0,0,0,0,0,0,0,0,0,0,0,0,0,0,0,0,0,0,0,0,0,0,0,0,0,0,0,0,0,0]
[null,"'70 Non Deductible Interest",null,null,null,null,null,"","",0,0,0,0,0,0,0,0,0,0,0,0,0,0,0,0,0,0,0,0,0,0,0,0,0,0,0,0,0,0,0,0,0,0,0,0,0,0,0,0,0,0,0,0,0,0,0,0,0,0,0,0,0,0,0,0,0,0,0,0,0,0,0,0,0,0,0,0,0,0,0,0,0,0,0,0,0,0,0,0,0,0,0,0,0,0,0,0,0,0,0,0,0,0,0,0,0,0,0,0,0,0,0,0,0,0,0,0,0,0,0,0,0,0,0,0,0,0,0,0,0,0,0,0,0,0,0,0,0,0,0,0,0,0,0,0,0,0,0,0,0,0,0,0,0,0,0]
[null,"'71 Net Income",null,null,null,null,null,"","",0,0,0,0,0,0,0,0,0,0,0,0,0,0,0,0,0,0,0,0,0,0,0,0,0,0,0,0,0,0,0,0,0,0,0,0,-6050.5769850503875,-533.79388621160513,-340.30759775596914,-376.17036328476468,-177.0306149658044,-211.79613229783664,-6.8277853196567833,0.30047641891005128,-22.544903474568315,-56.133160895989391,159.72098505459516,127.64067431277326,350.03193967921709,319.57112989459858,548.713158223091,564.05605225321881,581.81838483257491,554.37589096653539,797.09094213224409,771.83974625246094,1022.2033642253706,999.29659696111605,1198.9724795366351,1014.3711158828055,1065.1789013980006,1047.9800778585566,1261.9764258990633,1246.4691183599227,1466.8169818988354,1453.1078529165948,1680.008386058797,1708.9980833654952,1902.3711241389483,1892.606373971108,2133.2516848474611,2125.6346138145682,2373.477353788157,2368.1347497533993,2623.4041883479022,2664.61996616635,2883.9439936309855,2883.5626686416035,3154.4139204028133,3156.721863299259,3435.7348594084397,3440.8823534980579,3728.3185380221012,3784.2534276922934,4033.1791845586067,4044.4931323404408,4349.6058976270897,4364.2503903463385,4678.6247259039337,4696.7774486281951,5020.7116297462762,4992.7153738052193,5172.3925375470753,5091.0711175337483,5327.1070635023079,5244.1592150879005,5484.9158799749966,-3244.7262836400796,-3244.7262836911095,-3244.7262837432108,-3244.7262837964063,-3244.7262838507186,-3244.7262839061723,-3244.7262839627901,-3244.7262840205967,-3244.7262840796175,0,0,0,0,0,0,0,0,0,0,0,0,0,0,0,0,0,0,0,0,0,0,0,0,0,0,0,0,0,0,0,0,0,0,0,0,0,0,0,0,0]
[".","'72 CFADS Section",null,null,null,null,null,"","","","","","","","","","","","","","","","","","","","","","","","","","","","","","","","","","","","","","","Operation","Operation","Operation","Operation","Operation","Operation","Operation","Operation","Operation","Operation","Operation","Operation","Operation","Operation","Operation","Operation","Operation","Operation","Operation","Operation","Operation","Operation","Operation","Operation","Operation","Operation","Operation","Operation","Operation","Operation","Operation","Operation","Operation","Operation","Operation","Operation","Operation","Operation","Operation","Operation","Operation","Operation","Operation","Operation","Operation","Operation","Operation","Operation","Operation","Operation","Operation","Operation","Operation","Operation","Operation","Operation","Operation","Operation","Operation","Operation","Operation","Operation","Operation","Operation","Operation","Operation","Operation","Operation","Operation","Operation",0,0,0,0,0,0,0,0,0,0,0,0,0,0,0,0,0,0,0,0,0,0,0,0,0,0,0,0,0,0,0,0,0,0,0,0,0,0,0,0,0]
[null,"'73 EBITDA",null,null,null,null,null,"","",0,0,0,0,0,0,0,0,0,0,0,0,0,0,0,0,0,0,0,0,0,0,0,0,0,0,0,0,0,0,0,0,0,0,0,0,0,5565.1840271663941,5736.7954714120624,5676.4877077097226,5851.5313808403025,5790.0174618639167,5968.5620084571083,5946.5292567118922,6087.933248626252,6023.9341673232211,6209.6919135987755,6144.4128506696843,6333.8857518707518,6267.3011076830808,6460.5634669081692,6436.7145078458507,6589.7747362463333,6520.5000724334768,6721.5702309712624,6650.9100738821444,6856.0016355906855,6783.9282753597909,6993.1216683025004,6967.3067880309245,7132.9841016685514,7057.9989776843286,7275.6437837019257,7199.1589572380144,7421.1566593759617,7343.1421363827767,7569.5797925634834,7541.6369359509763,7720.9713884147532,7639.8050786926424,7875.3908161830495,7792.6011802664971,8032.8986325067126,7948.4532038718262,8193.5566051568476,8163.3103585172039,8357.4277372599863,8269.5707133082524,8524.576292005182,8434.9621275744157,8695.0678178452908,8603.6613701259066,8868.9691742021932,8836.2296641201538,9046.3485576862404,8951.2492894789902,9227.275528839964,9130.2742752685735,9411.8210394167654,9312.8797607739452,9600.057460205102,9564.6191615896569,9792.058609409205,9689.1201031092151,9987.8997815973889,9882.9025051713998,10187.657777229335,0,0,0,0,0,0,0,0,0,0,0,0,0,0,0,0,0,0,0,0,0,0,0,0,0,0,0,0,0,0,0,0,0,0,0,0,0,0,0,0,0,0,0,0,0,0,0,0,0,0]
[null,"'74 Working Capital Change",null,null,null,null,null,"","",0,0,0,0,0,0,0,0,0,0,0,0,0,0,0,0,0,0,0,0,0,0,0,0,0,0,0,0,0,0,0,0,0,0,0,0,0,0,0,0,0,0,0,0,0,0,0,0,0,0,0,0,0,0,0,0,0,0,0,0,0,0,0,0,0,0,0,0,0,0,0,0,0,0,0,0,0,0,0,0,0,0,0,0,0,0,0,0,0,0,0,0,0,0,0,0,0,0,0,0,0,0,0,0,0,0,0,0,0,0,0,0,0,0,0,0,0,0,0,0,0,0,0,0,0,0,0,0,0,0,0,0,0,0,0,0,0,0,0,0,0,0,0,0,0,0,0]
[null,"'75 Taxes Paid",null,null,null,null,null,"","",0,0,0,0,0,0,0,0,0,0,0,0,0,0,0,0,0,0,0,0,0,0,0,0,0,0,0,0,0,0,0,0,0,0,0,0,0,0,0,0,0,0,0,0,0,0,0,0,0,0,0,0,0,0,0,0,0,0,58.600736977494748,269.64295485492312,283.14882189060785,278.57698272189486,335.46208789721942,331.33989222225802,389.91337493513356,386.26917609175314,446.58450768651568,454.29062975538477,505.69358996098623,503.09789687839577,567.06690356704655,565.04211253298649,630.92435986773808,629.5041739850808,697.36060702918905,708.31669986700433,766.61802362342655,766.51665875283129,838.51509276530476,839.12859657322065,913.29660819718003,914.66492941087608,991.07201643625467,1005.9407845764324,1072.1109224776044,1075.1184275841679,1156.2243525337833,1160.1171923705456,1243.6850537212988,1248.5104610277479,1334.6195471477445,1327.1775044292353,1374.9397884618807,1353.3227021292241,1416.0664346018793,1394.0170065423531,1458.0156136642395,0,0,0,0,0,0,0,0,0,0,0,0,0,0,0,0,0,0,0,0,0,0,0,0,0,0,0,0,0,0,0,0,0,0,0,0,0,0,0,0,0,0,0,0,0,0,0,0,0,0]
[null,"'76 Interest Income/Rate",null,null,null,null,null,"",0,0,0,0,0,0,0,0,0,0,0,0,0,0,0,0,0,0,0,0,0,0,0,0,0,0,0,0,0,0,0,0,0,0,0,0,0,0,0,0,0,0,0,0,0,0,0,0,0,0,0,0,0,0,0,0,0,0,0,0,0,0,0,0,0,0,0,0,0,0,0,0,0,0,0,0,0,0,0,0,0,0,0,0,0,0,0,0,0,0,0,0,0,0,0,0,0,0,0,0,0,0,0,0,0,0,0,0,0,0,0,0,0,0,0,0,0,0,0,0,0,0,0,0,0,0,0,0,0,0,0,0,0,0,0,0,0,0,0,0,0,0,0,0,0,0,0,0]
[null,"'77 Post COD Capital Expenditure",null,null,null,null,null,"","",0,0,0,0,0,0,0,0,0,0,0,0,0,0,0,0,0,0,0,0,0,0,0,0,0,0,0,0,0,0,0,0,0,0,0,0,0,0,0,0,0,0,0,0,0,0,0,0,0,0,0,0,0,0,0,0,0,0,0,0,0,0,0,0,0,0,0,0,0,0,0,0,0,0,0,0,0,0,0,0,0,0,0,0,0,0,0,0,0,0,0,0,0,0,0,0,0,0,0,0,0,0,0,0,0,0,0,0,0,0,0,0,0,0,0,0,0,0,0,0,0,0,0,0,0,0,0,0,0,0,0,0,0,0,0,0,0,0,0,0,0,0,0,0,0,0,0]
[null,"'78 Changes to MRA Account",null,null,null,null,null,"","",0,0,0,0,0,0,0,0,0,0,0,0,0,0,0,0,0,0,0,0,0,0,0,0,0,0,0,0,0,0,0,0,0,0,0,0,0,0,0,0,0,0,0,0,0,0,0,0,0,0,0,0,0,0,0,0,0,0,0,0,0,0,0,0,0,0,0,0,0,0,0,0,0,0,0,0,0,0,0,0,0,0,0,0,0,0,0,0,0,0,0,0,0,0,0,0,0,0,0,0,0,0,0,0,0,0,0,0,0,0,0,0,0,0,0,0,0,0,0,0,0,0,0,0,0,0,0,0,0,0,0,0,0,0,0,0,0,0,0,0,0,0,0,0,0,0,0]
[null,"'79 Changes to DSRA Account",null,null,null,null,null,1,"",0,0,0,0,0,0,0,0,0,0,0,0,0,0,0,0,0,0,0,0,0,0,0,0,0,0,0,0,0,0,0,0,0,0,0,0,0,0,0,0,0,0,0,0,0,0,0,0,0,0,0,0,0,0,0,0,0,0,0,0,0,0,0,0,0,0,0,0,0,0,0,0,0,0,0,0,0,0,0,0,0,0,0,0,0,0,0,0,0,0,0,0,0,0,0,0,0,0,0,0,0,0,0,0,0,0,0,0,0,0,0,0,0,0,0,0,0,0,0,0,0,0,0,0,0,0,0,0,0,0,0,0,0,0,0,0,0,0,0,0,0,0,0,0,0,0,0]
[null,"'80 CFADS",null,null,null,null,null,"","",0,0,0,0,0,0,0,0,0,0,0,0,0,0,0,0,0,0,0,0,0,0,0,0,0,0,0,0,0,0,0,0,0,0,0,0,0,5565.1840271663941,5736.7954714120624,5676.4877077097226,5851.5313808403025,5790.0174618639167,5968.5620084571083,5946.5292567118922,6087.933248626252,6023.9341673232211,6209.6919135987755,6144.4128506696843,6333.8857518707518,6267.3011076830808,6460.5634669081692,6436.7145078458507,6589.7747362463333,6520.5000724334768,6721.5702309712624,6650.9100738821444,6856.0016355906855,6783.9282753597909,6934.5209313250061,6697.6638331760014,6849.8352797779435,6779.4219949624339,6940.1816958047066,6867.8190650157567,7031.2432844408286,6956.8729602910234,7122.9952848769681,7087.3463061955918,7215.277798453767,7136.7071818142467,7308.3239126160033,7227.5590677335103,7401.9742726389741,7318.9490298867458,7496.1959981276586,7454.9936586501999,7590.8097136365595,7503.0540545554213,7686.0611992398772,7595.8335310011953,7781.7712096481109,7688.996440715031,7877.8971577659386,7830.2888795437211,7974.2376352086358,7876.1308618948224,8071.0511763061804,7970.1570828980275,8168.1359856954668,8064.3692997461976,8265.4379130573579,8237.4416571604215,8417.1188209473239,8335.7974009799909,8571.8333469955105,8488.8854986290462,8729.642163565095,0,0,0,0,0,0,0,0,0,0,0,0,0,0,0,0,0,0,0,0,0,0,0,0,0,0,0,0,0,0,0,0,0,0,0,0,0,0,0,0,0,0,0,0,0,0,0,0,0,0]
[".","'81 Non Sculpted Debt Service",null,null,null,null,null,"","","","","","","","","","","","","","","","","","","","","","","","","","","","","","","","","","","","","","","Operation","Operation","Operation","Operation","Operation","Operation","Operation","Operation","Operation","Operation","Operation","Operation","Operation","Operation","Operation","Operation","Operation","Operation","Operation","Operation","Operation","Operation","Operation","Operation","Operation","Operation","Operation","Operation","Operation","Operation","Operation","Operation","Operation","Operation","Operation","Operation","Operation","Operation","Operation","Operation","Operation","Operation","Operation","Operation","Operation","Operation","Operation","Operation","Operation","Operation","Operation","Operation","Operation","Operation","Operation","Operation","Operation","Operation","Operation","Operation","Operation","Operation","Operation","Operation","Operation","Operation","Operation","Operation","Operation","Operation",0,0,0,0,0,0,0,0,0,0,0,0,0,0,0,0,0,0,0,0,0,0,0,0,0,0,0,0,0,0,0,0,0,0,0,0,0,0,0,0,0]
[null,"'82 Interest Expense on Non-Sculpted Debt",null,null,null,null,null,"","",0,0,0,0,0,0,0,0,0,0,0,0,0,0,0,0,0,0,0,0,0,0,0,0,0,0,0,0,0,0,0,0,0,0,0,0,0,0,0,0,0,0,0,0,0,0,0,0,0,0,0,0,0,0,0,0,0,0,0,0,0,0,0,0,0,0,0,0,0,0,0,0,0,0,0,0,0,0,0,0,0,0,0,0,0,0,0,0,0,0,0,0,0,0,0,0,0,0,0,0,0,0,0,0,0,0,0,0,0,0,0,0,0,0,0,0,0,0,0,0,0,0,0,0,0,0,0,0,0,0,0,0,0,0,0,0,0,0,0,0,0,0,0,0,0,0,0]
[null,"'83 Repayment of Non Sculpted Debt",null,null,null,null,null,162658.0118168288,"",0,0,0,0,0,0,0,0,0,0,0,0,0,0,0,0,0,0,0,0,0,0,0,0,0,0,0,0,0,0,0,0,0,0,0,0,0,0,0,0,0,0,0,0,0,0,0,0,0,0,0,0,0,0,0,0,0,0,0,0,0,0,0,0,0,0,0,0,0,0,0,0,0,0,0,0,0,0,0,0,0,0,0,0,0,0,0,0,0,0,0,0,0,0,0,0,0,0,0,0,0,0,0,0,0,0,0,0,0,0,0,0,0,0,0,0,0,0,0,0,0,0,0,0,0,0,0,0,0,0,0,0,0,0,0,0,0,0,0,0,0,0,0,0,0,0,0]
[null,"'84 Non Sculpted Debt Service (No Balloon)/PV",null,null,null,null,null,"","",0,0,0,0,0,0,0,0,0,0,0,0,0,0,0,0,0,0,0,0,0,0,0,0,0,0,0,0,0,0,0,0,0,0,0,0,0,0,0,0,0,0,0,0,0,0,0,0,0,0,0,0,0,0,0,0,0,0,0,0,0,0,0,0,0,0,0,0,0,0,0,0,0,0,0,0,0,0,0,0,0,0,0,0,0,0,0,0,0,0,0,0,0,0,0,0,0,0,0,0,0,0,0,0,0,0,0,0,0,0,0,0,0,0,0,0,0,0,0,0,0,0,0,0,0,0,0,0,0,0,0,0,0,0,0,0,0,0,0,0,0,0,0,0,0,0,0]
[null,"'85 Balloon Interest",null,null,null,null,null,"","",0,0,0,0,0,0,0,0,0,0,0,0,0,0,0,0,0,0,0,0,0,0,0,0,0,0,0,0,0,0,0,0,0,0,0,0,0,0,0,0,0,0,0,0,0,0,0,0,0,0,0,0,0,0,0,0,0,0,0,0,0,0,0,0,0,0,0,0,0,0,0,0,0,0,0,0,0,0,0,0,0,0,0,0,0,0,0,0,0,0,0,0,0,0,0,0,0,0,0,0,0,0,0,0,0,0,0,0,0,0,0,0,0,0,0,0,0,0,0,0,0,0,0,0,0,0,0,0,0,0,0,0,0,0,0,0,0,0,0,0,0,0,0,0,0,0,0]
[null,"'86 Balloon Repayment",null,null,null,null,null,0,"",0,0,0,0,0,0,0,0,0,0,0,0,0,0,0,0,0,0,0,0,0,0,0,0,0,0,0,0,0,0,0,0,0,0,0,0,0,0,0,0,0,0,0,0,0,0,0,0,0,0,0,0,0,0,0,0,0,0,0,0,0,0,0,0,0,0,0,0,0,0,0,0,0,0,0,0,0,0,0,0,0,0,0,0,0,0,0,0,0,0,0,0,0,0,0,0,0,0,0,0,0,0,0,0,0,0,0,0,0,0,0,0,0,0,0,0,0,0,0,0,0,0,0,0,0,0,0,0,0,0,0,0,0,0,0,0,0,0,0,0,0,0,0,0,0,0,0]
[null,"'87 Total Non-Sculpted Interest Incl Balloon",null,null,null,null,null,0,"",0,0,0,0,0,0,0,0,0,0,0,0,0,0,0,0,0,0,0,0,0,0,0,0,0,0,0,0,0,0,0,0,0,0,0,0,0,0,0,0,0,0,0,0,0,0,0,0,0,0,0,0,0,0,0,0,0,0,0,0,0,0,0,0,0,0,0,0,0,0,0,0,0,0,0,0,0,0,0,0,0,0,0,0,0,0,0,0,0,0,0,0,0,0,0,0,0,0,0,0,0,0,0,0,0,0,0,0,0,0,0,0,0,0,0,0,0,0,0,0,0,0,0,0,0,0,0,0,0,0,0,0,0,0,0,0,0,0,0,0,0,0,0,0,0,0,0]
[null,"'88 Total Non-Sculpted Repayment",null,null,null,null,null,"","",0,0,0,0,0,0,0,0,0,0,0,0,0,0,0,0,0,0,0,0,0,0,0,0,0,0,0,0,0,0,0,0,0,0,0,0,0,0,0,0,0,0,0,0,0,0,0,0,0,0,0,0,0,0,0,0,0,0,0,0,0,0,0,0,0,0,0,0,0,0,0,0,0,0,0,0,0,0,0,0,0,0,0,0,0,0,0,0,0,0,0,0,0,0,0,0,0,0,0,0,0,0,0,0,0,0,0,0,0,0,0,0,0,0,0,0,0,0,0,0,0,0,0,0,0,0,0,0,0,0,0,0,0,0,0,0,0,0,0,0,0,0,0,0,0,0,0]
[null,"'89 Total Non-Sculpted Debt Service Incl Balloon",null,null,null,null,null,"","",0,0,0,0,0,0,0,0,0,0,0,0,0,0,0,0,0,0,0,0,0,0,0,0,0,0,0,0,0,0,0,0,0,0,0,0,0,0,0,0,0,0,0,0,0,0,0,0,0,0,0,0,0,0,0,0,0,0,0,0,0,0,0,0,0,0,0,0,0,0,0,0,0,0,0,0,0,0,0,0,0,0,0,0,0,0,0,0,0,0,0,0,0,0,0,0,0,0,0,0,0,0,0,0,0,0,0,0,0,0,0,0,0,0,0,0,0,0,0,0,0,0,0,0,0,0,0,0,0,0,0,0,0,0,0,0,0,0,0,0,0,0,0,0,0,0,0]
[null,"'90 Senior Non-Sculpted Debt Service Incl Balloon",null,null,null,null,null,"","",0,0,0,0,0,0,0,0,0,0,0,0,0,0,0,0,0,0,0,0,0,0,0,0,0,0,0,0,0,0,0,0,0,0,0,0,0,0,0,0,0,0,0,0,0,0,0,0,0,0,0,0,0,0,0,0,0,0,0,0,0,0,0,0,0,0,0,0,0,0,0,0,0,0,0,0,0,0,0,0,0,0,0,0,0,0,0,0,0,0,0,0,0,0,0,0,0,0,0,0,0,0,0,0,0,0,0,0,0,0,0,0,0,0,0,0,0,0,0,0,0,0,0,0,0,0,0,0,0,0,0,0,0,0,0,0,0,0,0,0,0,0,0,0,0,0,0]
[null,"'91 Mezzanine Non-Sculpted Debt Service Incl Balloon",null,null,null,null,null,"","",0,0,0,0,0,0,0,0,0,0,0,0,0,0,0,0,0,0,0,0,0,0,0,0,0,0,0,0,0,0,0,0,0,0,0,0,0,0,0,0,0,0,0,0,0,0,0,0,0,0,0,0,0,0,0,0,0,0,0,0,0,0,0,0,0,0,0,0,0,0,0,0,0,0,0,0,0,0,0,0,0,0,0,0,0,0,0,0,0,0,0,0,0,0,0,0,0,0,0,0,0,0,0,0,0,0,0,0,0,0,0,0,0,0,0,0,0,0,0,0,0,0,0,0,0,0,0,0,0,0,0,0,0,0,0,0,0,0,0,0,0,0,0,0,0,0,0]
[".","'92 Senior Debt Sculpting",null,null,null,null,null,"","","","","","","","","","","","","","","","","","","","","","","","","","","","","","","","","","","","","","","Operation","Operation","Operation","Operation","Operation","Operation","Operation","Operation","Operation","Operation","Operation","Operation","Operation","Operation","Operation","Operation","Operation","Operation","Operation","Operation","Operation","Operation","Operation","Operation","Operation","Operation","Operation","Operation","Operation","Operation","Operation","Operation","Operation","Operation","Operation","Operation","Operation","Operation","Operation","Operation","Operation","Operation","Operation","Operation","Operation","Operation","Operation","Operation","Operation","Operation","Operation","Operation","Operation","Operation","Operation","Operation","Operation","Operation","Operation","Operation","Operation","Operation","Operation","Operation","Operation","Operation","Operation","Operation","Operation","Operation",0,0,0,0,0,0,0,0,0,0,0,0,0,0,0,0,0,0,0,0,0,0,0,0,0,0,0,0,0,0,0,0,0,0,0,0,0,0,0,0,0]
[null,"'93 Senior Sculpting Parameters",null,null,null,null,null," Sculpt Used ",true," Sr DSCR Input ",1.35," Sculpted Debt ",162658.0118168288," Non Sculpt ",0," Max Tenure ",54," Capture Debt ",1," Sr Debt IRR ",1.9051412005283819E-2," PV CFADS ",219588.31601842205," PV DS ",162658.01182469469," DSCR Used ",1.25,0,0,0,0,0,0,0,0,0,0,0,0,0,0,0,0,0,0,0,0,0,0,0,0,0,0,0,0,0,0,0,0,0,0,0,0,0,0,0,0,0,0,0,0,0,0,0,0,0,0,0,0,0,0,0,0,0,0,0,0,0,0,0,0,0,0,0,0,0,0,0,0,0,0,0,0,0,0,0,0,0,0,0,0,0,0,0,0,0,0,0,0,0,0,0,0,0,0,0,0,0,0,0,0,0,0,0,0,0,0,0,0,0,0,0,0,0,0,0,0,0,0,0,0,0,0,0,0,0]
[null,"'94 CFADS for Sculpting",null,null,null,null,null,"","",0,0,0,0,0,0,0,0,0,0,0,0,0,0,0,0,0,0,0,0,0,0,0,0,0,0,0,0,0,0,0,0,0,0,0,0,0,5565.1840271663941,5736.7954714120624,5676.4877077097226,5851.5313808403025,5790.0174618639167,5968.5620084571083,5946.5292567118922,6087.933248626252,6023.9341673232211,6209.6919135987755,6144.4128506696843,6333.8857518707518,6267.3011076830808,6460.5634669081692,6436.7145078458507,6589.7747362463333,6520.5000724334768,6721.5702309712624,6650.9100738821444,6856.0016355906855,6783.9282753597909,6934.5209313250061,6697.6638331760014,6849.8352797779435,6779.4219949624339,6940.1816958047066,6867.8190650157567,7031.2432844408286,6956.8729602910234,7122.9952848769681,7087.3463061955918,7215.277798453767,7136.7071818142467,7308.3239126160033,7227.5590677335103,7401.9742726389741,7318.9490298867458,7496.1959981276586,7454.9936586501999,7590.8097136365595,7503.0540545554213,7686.0611992398772,7595.8335310011953,7781.7712096481109,7688.996440715031,7877.8971577659386,7830.2888795437211,7974.2376352086358,7876.1308618948224,8071.0511763061804,7970.1570828980275,8168.1359856954668,8064.3692997461976,8265.4379130573579,8237.4416571604215,8417.1188209473239,8335.7974009799909,8571.8333469955105,8488.8854986290462,8729.642163565095,0,0,0,0,0,0,0,0,0,0,0,0,0,0,0,0,0,0,0,0,0,0,0,0,0,0,0,0,0,0,0,0,0,0,0,0,0,0,0,0,0,0,0,0,0,0,0,0,0,0]
[null,"'95 Senior DSCR Applied/Num/Denom",null,null,null,null,null,219588.31601842205,162658.01182469472,1.3500000003386503,1.3500000003386503,1.3500000003386503,1.3500000003386503,1.3500000003386503,1.3500000003386503,1.3500000003386503,1.3500000003386503,1.3500000003386503,1.3500000003386503,1.3500000003386503,1.3500000003386503,1.3500000003386503,1.3500000003386503,1.3500000003386503,1.3500000003386503,1.3500000003386503,1.3500000003386503,1.3500000003386503,1.3500000003386503,1.3500000003386503,1.3500000003386503,1.3500000003386503,1.3500000003386503,1.3500000003386503,1.3500000003386503,1.3500000003386503,1.3500000003386503,1.3500000003386503,1.3500000003386503,1.3500000003386503,1.3500000003386503,1.3500000003386503,1.3500000003386503,1.3500000003386503,1.3500000003386503,1.3500000003386503,1.3500000003386503,1.3500000003386503,1.3500000003386503,1.3500000003386503,1.3500000003386503,1.3500000003386503,1.3500000003386503,1.3500000003386503,1.3500000003386503,1.3500000003386503,1.3500000003386503,1.3500000003386503,1.3500000003386503,1.3500000003386503,1.3500000003386503,1.3500000003386503,1.3500000003386503,1.3500000003386503,1.3500000003386503,1.3500000003386503,1.3500000003386503,1.3500000003386503,1.3500000003386503,1.3500000003386503,1.3500000003386503,1.3500000003386503,1.3500000003386503,1.3500000003386503,1.3500000003386503,1.3500000003386503,1.3500000003386503,1.3500000003386503,1.3500000003386503,1.3500000003386503,1.3500000003386503,1.3500000003386503,1.3500000003386503,1.3500000003386503,1.3500000003386503,1.3500000003386503,1.3500000003386503,1.3500000003386503,1.3500000003386503,1.3500000003386503,1.3500000003386503,1.3500000003386503,1.3500000003386503,1.3500000003386503,1.3500000003386503,1.3500000003386503,1.3500000003386503,1.3500000003386503,1.3500000003386503,1.3500000003386503,1.3500000003386503,1.3500000003386503,1.3500000003386503,1.3500000003386503,1.3500000003386503,1.3500000003386503,1.3500000003386503,1.3500000003386503,1.3500000003386503,1.3500000003386503,1.3500000003386503,1.3500000003386503,1.3500000003386503,1.3500000003386503,1.3500000003386503,0,0,0,0,0,0,0,0,0,0,0,0,0,0,0,0,0,0,0,0,0,0,0,0,0,0,0,0,0,0,0,0,0,0,0,0,0,0,0,0,0]
[null,"'96 Senior Sculpted Debt Service Before Other Debt",null,null,null,null,null,"","",0,0,0,0,0,0,0,0,0,0,0,0,0,0,0,0,0,0,0,0,0,0,0,0,0,0,0,0,0,0,0,0,0,0,0,0,0,4122.3585376076708,4249.4781259059073,4204.8057083598251,4334.4676884240253,4288.9018225270211,4421.1570421925053,4404.8364853482908,4509.5801830363562,4462.1734561571147,4599.7717866970825,4551.4169252802558,4691.7672224310245,4642.4452637858631,4785.6025668796474,4767.9366712823612,4881.3146182172404,4830.0000524428115,4978.9409105815866,4926.6000534916666,5078.5197287932169,5025.1320545615026,5136.6821700633091,4961.2324677747247,5073.9520578219617,5021.7940690828163,5140.8753289361093,5087.2733802169996,5208.3283575385385,5153.239228552502,5276.2928022890001,5249.886151420531,5344.6502197361478,5286.4497629807329,5413.573267246441,5353.7474562373791,5482.9439042830918,5421.4437244820538,5552.7377749979423,5522.217523540814,5622.8220086906585,5557.8178167950109,5693.378664675417,5626.5433548857518,5764.2749686637317,5695.5529176194295,5835.4793746590749,5800.2139833922047,5906.842691265394,5834.171007347466,5978.5564253937337,5903.8200599249603,6050.4710989973873,5973.6068872023952,0,0,0,0,0,0,0,0,0,0,0,0,0,0,0,0,0,0,0,0,0,0,0,0,0,0,0,0,0,0,0,0,0,0,0,0,0,0,0,0,0,0,0,0,0,0,0,0,0,0,0,0,0,0,0,0,0]
[null,"'97 Less: Senior Non Sculpt Debt Service",null,null,null,null,null,"","",0,0,0,0,0,0,0,0,0,0,0,0,0,0,0,0,0,0,0,0,0,0,0,0,0,0,0,0,0,0,0,0,0,0,0,0,0,0,0,0,0,0,0,0,0,0,0,0,0,0,0,0,0,0,0,0,0,0,0,0,0,0,0,0,0,0,0,0,0,0,0,0,0,0,0,0,0,0,0,0,0,0,0,0,0,0,0,0,0,0,0,0,0,0,0,0,0,0,0,0,0,0,0,0,0,0,0,0,0,0,0,0,0,0,0,0,0,0,0,0,0,0,0,0,0,0,0,0,0,0,0,0,0,0,0,0,0,0,0,0,0,0,0,0,0,0,0]
[null,"'98 Senior Sculpted Debt Service",null,null,null,null,null,162658.01182469469,"",0,0,0,0,0,0,0,0,0,0,0,0,0,0,0,0,0,0,0,0,0,0,0,0,0,0,0,0,0,0,0,0,0,0,0,0,0,4122.3585376076708,4249.4781259059073,4204.8057083598251,4334.4676884240253,4288.9018225270211,4421.1570421925053,4404.8364853482908,4509.5801830363562,4462.1734561571147,4599.7717866970825,4551.4169252802558,4691.7672224310245,4642.4452637858631,4785.6025668796474,4767.9366712823612,4881.3146182172404,4830.0000524428115,4978.9409105815866,4926.6000534916666,5078.5197287932169,5025.1320545615026,5136.6821700633091,4961.2324677747247,5073.9520578219617,5021.7940690828163,5140.8753289361093,5087.2733802169996,5208.3283575385385,5153.239228552502,5276.2928022890001,5249.886151420531,5344.6502197361478,5286.4497629807329,5413.573267246441,5353.7474562373791,5482.9439042830918,5421.4437244820538,5552.7377749979423,5522.217523540814,5622.8220086906585,5557.8178167950109,5693.378664675417,5626.5433548857518,5764.2749686637317,5695.5529176194295,5835.4793746590749,5800.2139833922047,5906.842691265394,5834.171007347466,5978.5564253937337,5903.8200599249603,6050.4710989973873,5973.6068872023952,0,0,0,0,0,0,0,0,0,0,0,0,0,0,0,0,0,0,0,0,0,0,0,0,0,0,0,0,0,0,0,0,0,0,0,0,0,0,0,0,0,0,0,0,0,0,0,0,0,0,0,0,0,0,0,0,0]
[null,"'99 Senior Interest Expense",null,null,null,null,null,"","",0,0,0,0,0,0,0,0,0,0,0,0,0,0,0,0,0,0,0,0,0,0,0,0,0,0,0,0,0,0,0,0,0,0,0,0,-2805.8507038402972,-2854.2516321679091,-2832.3767879579414,-2807.9317897843971,-2783.8357145960167,-2757.0873129516631,-2730.6635125666749,-2701.502499082892,-2865.7518708907301,-2835.3410470091203,-2805.2446473340901,-2772.0458951468208,-2739.1275309814446,-2703.003696578392,-2667.124027474988,-2627.9321743825417,-2763.2300702036682,-2721.3979002568512,-2679.7530076289281,-2634.3440464195933,-2589.0719901552247,-2539.9053971885846,-2490.8221705782803,-2438.5664360831056,-2539.9300971698526,-2486.7156358937868,-2433.4789886955527,-2376.6236654457434,-2319.7000213319025,-2259.0388261643384,-2198.2606176080808,-2133.6219416200065,-2068.1803931047289,-1999.3745266330491,-1930.3459465584522,-1857.1981727088521,-1783.7706376407273,-1706.0879989232562,-1628.0655285696666,-1545.6474112737601,-1462.1394387954842,-1374.7651047037275,-1286.9209976269742,-1194.3853864918465,-1101.3100690295812,-1003.3878060068826,-904.85233853374734,-801.30917064133769,-696.33216943993932,-586.91144834429167,-476.7189974690005,-361.18041134160018,-244.78497858144308,-122.86556990791308,-2.1009911288274452E-6,-2.1451119425328213E-6,-2.1901592933260105E-6,-2.236152638485857E-6,-2.2831118438940599E-6,-2.331057192615835E-6,-2.3800093936607676E-6,-2.4299895909276435E-6,-2.4810193723371242E-6,-2.5331207791562039E-6,-2.5863163155184842E-6,-2.6406289581443725E-6,-2.6960821662654044E-6,-2.7526998917569782E-6,-2.8105065894838745E-6,-2.8695272278630364E-6,0,0,0,0,0,0,0,0,0,0,0,0,0,0,0,0,0,0,0,0,0,0,0,0,0,0,0,0,0,0,0,0,0,0,0,0,0,0,0,0,0]
[null,"'100 Repayment Adjustment from DSRA",null,null,null,null,null,1,"",0,0,0,0,0,0,0,0,0,0,0,0,0,0,0,0,0,0,0,0,0,0,0,0,0,0,0,0,0,0,0,0,0,0,0,0,0,0,0,0,0,0,0,0,0,0,0,0,0,0,0,0,0,0,0,0,0,0,0,0,0,0,0,0,0,0,0,0,0,0,0,0,0,0,0,0,0,0,0,0,0,0,0,0,0,0,0,0,0,0,0,0,0,0,0,0,0,0,0,0,0,0,0,0,0,0,0,0,0,0,0,0,0,0,0,0,0,0,0,0,0,0,0,0,0,0,0,0,0,0,0,0,0,0,0,0,0,0,0,0,0,0,0,0,0,0,0]
[null,"'101 Senior Sculpted Repayment",null,null,null,null,null,0,"",0,0,0,0,0,0,0,0,0,0,0,0,0,0,0,0,0,0,0,0,0,0,0,0,0,0,0,0,0,0,0,0,0,0,0,0,-2805.8507038402972,1268.1069054397617,1417.1013379479659,1396.873918575428,1550.6319738280085,1531.814509575358,1690.4935296258304,1703.3339862653988,1643.8283121456261,1626.8324091479944,1794.5271393629923,1779.3710301334349,1952.6396914495799,1939.4415672074711,2118.4785394046594,2140.0044968998195,2118.0845480135722,2108.6021521859602,2299.1879029526585,2292.2560070720733,2489.4477386379922,2485.226657372918,2645.8599994850288,2522.6660316916191,2534.0219606521091,2535.0784331890295,2707.3963402405566,2710.6497147712562,2888.628336206636,2894.2004023881636,3078.0321846809193,3116.2642098005244,3276.469826631419,3287.075236347684,3483.227320687989,3496.5492835285268,3699.1732666423645,3715.3557255587975,3924.6722464282757,3976.5701122670539,4160.6825698951743,4183.052712091283,4406.457667048443,4432.1579683939053,4662.9648996341502,4692.1651116125468,4930.6270361253273,4998.9048127508668,5210.5105218254548,5247.2595590031742,5501.8374279247328,5542.6396485833602,5805.6861204159441,5850.7413172944825,0,0,0,0,0,0,0,0,0,0,0,0,0,0,0,0,0,0,0,0,0,0,0,0,0,0,0,0,0,0,0,0,0,0,0,0,0,0,0,0,0,0,0,0,0,0,0,0,0,0,0,0,0,0,0,0,0]
[null,"'102 Sculpt Period",null,null,null,null,null,117,111,0,0,0,0,0,0,0,0,0,0,0,0,0,0,0,0,0,0,0,0,0,0,0,0,0,0,0,0,0,0,0,0,0,0,0,0,true,true,true,true,true,true,true,true,true,true,true,true,true,true,true,true,true,true,true,true,true,true,true,true,true,true,true,true,true,true,true,true,true,true,true,true,true,true,true,true,true,true,true,true,true,true,true,true,true,true,true,true,true,true,false,false,false,false,false,false,false,false,false,false,false,false,false,false,false,false,0,0,0,0,0,0,0,0,0,0,0,0,0,0,0,0,0,0,0,0,0,0,0,0,0,0,0,0,0,0,0,0,0,0,0,0,0,0,0,0,0]
[null,"'103 Sculpting Disc Fac/Debt IRR",null,null,null,null,null,1.9051412005283819E-2,"",1,1,1,1,1,1,1,1,1,1,1,1,1,1,1,1,1,1,1,1,1,1,1,1,1,1,1,1,1,1,1,1,1,1,1,1,1.0190514120053049,1.0384657803100057,1.058250019744102,1.078411176874869,1.0989564325166379,1.1198931042883924,1.1412286492200905,1.1629706664086401,1.185126899724475,1.2077052405696957,1.230713730688755,1.2541605650326924,1.2780540946779362,1.3024028298007124,1.3272154427081209,1.3525007709269565,1.3782678203513785,1.4045257684505461,1.431283967537365,1.4585519480995068,1.4863394221938906,1.5146562869058333,1.5435126278741016,1.5729187228831221,1.6028850455236265,1.6334222689230391,1.6645412695469319,1.6962531310729039,1.7285691483382621,1.7615008313629135,1.7950599094488955,1.8292583353580116,1.8641082895690553,1.8996221846161396,1.9358126695096791,1.9726926342415971,2.0102752143763643,2.0485737957295012,2.0876020191352151,2.1273737853048664,2.1679032597779946,2.2092048779676685,2.2512933503019599,2.2941836674633658,2.3378911057280516,2.3824312324068146,2.4278199113897032,2.4740733087962714,2.5212078987334769,2.5692404691632773,2.6181881278820098,2.6680683086136878,2.7188987772193842,2.7706976380249104,1,1,1,1,1,1,1,1,1,1,1,1,1,1,1,1,0,0,0,0,0,0,0,0,0,0,0,0,0,0,0,0,0,0,0,0,0,0,0,0,0,0,0,0,0,0,0,0,0,0,0,0,0,0,0,0,0]
[null,"'104 Debt Cash Flow for/Debt IRR",null,null,null,null,null,162658.0118168288,"",0,0,0,0,0,0,0,0,0,0,0,0,0,0,0,0,0,0,0,0,0,0,0,0,0,0,0,0,0,0,0,0,0,0,0,-162658.01182477982,0,4122.3585376076708,4249.4781259059073,4204.8057083598251,4334.4676884240253,4288.9018225270211,4421.1570421925053,4404.8364853482908,4509.5801830363562,4462.1734561571147,4599.7717866970825,4551.4169252802558,4691.7672224310245,4642.4452637858631,4785.6025668796474,4767.9366712823612,4881.3146182172404,4830.0000524428115,4978.9409105815866,4926.6000534916666,5078.5197287932169,5025.1320545615026,5136.6821700633091,4961.2324677747247,5073.9520578219617,5021.7940690828163,5140.8753289361093,5087.2733802169996,5208.3283575385385,5153.239228552502,5276.2928022890001,5249.886151420531,5344.6502197361478,5286.4497629807329,5413.573267246441,5353.7474562373791,5482.9439042830918,5421.4437244820538,5552.7377749979423,5522.217523540814,5622.8220086906585,5557.8178167950109,5693.378664675417,5626.5433548857518,5764.2749686637317,5695.5529176194295,5835.4793746590749,5800.2139833922047,5906.842691265394,5834.171007347466,5978.5564253937337,5903.8200599249603,6050.4710989973873,5973.6068872023952,0,0,0,0,0,0,0,0,0,0,0,0,0,0,0,0,0,0,0,0,0,0,0,0,0,0,0,0,0,0,0,0,0,0,0,0,0,0,0,0,0,0,0,0,0,0,0,0,0,0,0,0,0,0,0,0,0]
[".","'105 Mezzanine (Total) Sculpting Analysis",null,null,null,null,null,"","","","","","","","","","","","","","","","","","","","","","","","","","","","","","","","","","","","","","","Operation","Operation","Operation","Operation","Operation","Operation","Operation","Operation","Operation","Operation","Operation","Operation","Operation","Operation","Operation","Operation","Operation","Operation","Operation","Operation","Operation","Operation","Operation","Operation","Operation","Operation","Operation","Operation","Operation","Operation","Operation","Operation","Operation","Operation","Operation","Operation","Operation","Operation","Operation","Operation","Operation","Operation","Operation","Operation","Operation","Operation","Operation","Operation","Operation","Operation","Operation","Operation","Operation","Operation","Operation","Operation","Operation","Operation","Operation","Operation","Operation","Operation","Operation","Operation","Operation","Operation","Operation","Operation","Operation","Operation",0,0,0,0,0,0,0,0,0,0,0,0,0,0,0,0,0,0,0,0,0,0,0,0,0,0,0,0,0,0,0,0,0,0,0,0,0,0,0,0,0]
[null,"'106 Total/Mezzanine Sculpting Parameters",null,null,null,null,null," Implement ",true," Total DSCR Input ",1.2," Total Sculpted Debt ",0," Non Sculpt ",162658.0118168288," Max Tenure ",54," Capture Debt ",0," Total Debt IRR ",1.9051412005283819E-2," PV CFADS ",0," PV DS ",0," DSCR Used ",1.25,0,0,0,0,0,0,0,0,0,0,0,0,0,0,0,0,0,0,0,0,0,0,0,0,0,0,0,0,0,0,0,0,0,0,0,0,0,0,0,0,0,0,0,0,0,0,0,0,0,0,0,0,0,0,0,0,0,0,0,0,0,0,0,0,0,0,0,0,0,0,0,0,0,0,0,0,0,0,0,0,0,0,0,0,0,0,0,0,0,0,0,0,0,0,0,0,0,0,0,0,0,0,0,0,0,0,0,0,0,0,0,0,0,0,0,0,0,0,0,0,0,0,0,0,0,0,0,0,0]
[null,"'107 CFADS for Sculpting",null,null,null,null,null,"","",0,0,0,0,0,0,0,0,0,0,0,0,0,0,0,0,0,0,0,0,0,0,0,0,0,0,0,0,0,0,0,0,0,0,0,0,0,5565.1840271663941,5736.7954714120624,5676.4877077097226,5851.5313808403025,5790.0174618639167,5968.5620084571083,5946.5292567118922,6087.933248626252,6023.9341673232211,6209.6919135987755,6144.4128506696843,6333.8857518707518,6267.3011076830808,6460.5634669081692,6436.7145078458507,6589.7747362463333,6520.5000724334768,6721.5702309712624,6650.9100738821444,6856.0016355906855,6783.9282753597909,6934.5209313250061,6697.6638331760014,6849.8352797779435,6779.4219949624339,6940.1816958047066,6867.8190650157567,7031.2432844408286,6956.8729602910234,7122.9952848769681,7087.3463061955918,7215.277798453767,7136.7071818142467,7308.3239126160033,7227.5590677335103,7401.9742726389741,7318.9490298867458,7496.1959981276586,7454.9936586501999,7590.8097136365595,7503.0540545554213,7686.0611992398772,7595.8335310011953,7781.7712096481109,7688.996440715031,7877.8971577659386,7830.2888795437211,7974.2376352086358,7876.1308618948224,8071.0511763061804,7970.1570828980275,8168.1359856954668,8064.3692997461976,8265.4379130573579,8237.4416571604215,8417.1188209473239,8335.7974009799909,8571.8333469955105,8488.8854986290462,8729.642163565095,0,0,0,0,0,0,0,0,0,0,0,0,0,0,0,0,0,0,0,0,0,0,0,0,0,0,0,0,0,0,0,0,0,0,0,0,0,0,0,0,0,0,0,0,0,0,0,0,0,0]
[null,"'108 Total DSCR Applied for Mezzanine Sculpting",null,null,null,null,null,219588.31601842205,0,1.2,1.2,1.2,1.2,1.2,1.2,1.2,1.2,1.2,1.2,1.2,1.2,1.2,1.2,1.2,1.2,1.2,1.2,1.2,1.2,1.2,1.2,1.2,1.2,1.2,1.2,1.2,1.2,1.2,1.2,1.2,1.2,1.2,1.2,1.2,1.2,1.2,1.2,1.2,1.2,1.2,1.2,1.2,1.2,1.2,1.2,1.2,1.2,1.2,1.2,1.2,1.2,1.2,1.2,1.2,1.2,1.2,1.2,1.2,1.2,1.2,1.2,1.2,1.2,1.2,1.2,1.2,1.2,1.2,1.2,1.2,1.2,1.2,1.2,1.2,1.2,1.2,1.2,1.2,1.2,1.2,1.2,1.2,1.2,1.2,1.2,1.2,1.2,1.2,1.2,1.2,1.2,1.2,1.2,1.2,1.2,1.2,1.2,1.2,1.2,1.2,1.2,1.2,1.2,1.2,1.2,0,0,0,0,0,0,0,0,0,0,0,0,0,0,0,0,0,0,0,0,0,0,0,0,0,0,0,0,0,0,0,0,0,0,0,0,0,0,0,0,0]
[null,"'109 Total Sculpted Debt Service Including Mezzanine",null,null,null,null,null,"","",0,0,0,0,0,0,0,0,0,0,0,0,0,0,0,0,0,0,0,0,0,0,0,0,0,0,0,0,0,0,0,0,0,0,0,0,0,0,0,0,0,0,0,0,0,0,0,0,0,0,0,0,0,0,0,0,0,0,0,0,0,0,0,0,0,0,0,0,0,0,0,0,0,0,0,0,0,0,0,0,0,0,0,0,0,0,0,0,0,0,0,0,0,0,0,0,0,0,0,0,0,0,0,0,0,0,0,0,0,0,0,0,0,0,0,0,0,0,0,0,0,0,0,0,0,0,0,0,0,0,0,0,0,0,0,0,0,0,0,0,0,0,0,0,0,0,0]
[null,"'110 Less: Total Non Sculpt Debt Service",null,null,null,null,null,"","",0,0,0,0,0,0,0,0,0,0,0,0,0,0,0,0,0,0,0,0,0,0,0,0,0,0,0,0,0,0,0,0,0,0,0,0,0,-4122.3585376076708,-4249.4781259059073,-4204.8057083598251,-4334.4676884240253,-4288.9018225270211,-4421.1570421925053,-4404.8364853482908,-4509.5801830363562,-4462.1734561571147,-4599.7717866970825,-4551.4169252802558,-4691.7672224310245,-4642.4452637858631,-4785.6025668796474,-4767.9366712823612,-4881.3146182172404,-4830.0000524428115,-4978.9409105815866,-4926.6000534916666,-5078.5197287932169,-5025.1320545615026,-5136.6821700633091,-4961.2324677747247,-5073.9520578219617,-5021.7940690828163,-5140.8753289361093,-5087.2733802169996,-5208.3283575385385,-5153.239228552502,-5276.2928022890001,-5249.886151420531,-5344.6502197361478,-5286.4497629807329,-5413.573267246441,-5353.7474562373791,-5482.9439042830918,-5421.4437244820538,-5552.7377749979423,-5522.217523540814,-5622.8220086906585,-5557.8178167950109,-5693.378664675417,-5626.5433548857518,-5764.2749686637317,-5695.5529176194295,-5835.4793746590749,-5800.2139833922047,-5906.842691265394,-5834.171007347466,-5978.5564253937337,-5903.8200599249603,-6050.4710989973873,-5973.6068872023952,0,0,0,0,0,0,0,0,0,0,0,0,0,0,0,0,0,0,0,0,0,0,0,0,0,0,0,0,0,0,0,0,0,0,0,0,0,0,0,0,0,0,0,0,0,0,0,0,0,0,0,0,0,0,0,0,0]
[null,"'111 Total Sculpted Debt Service",null,null,null,null,null,0,"",0,0,0,0,0,0,0,0,0,0,0,0,0,0,0,0,0,0,0,0,0,0,0,0,0,0,0,0,0,0,0,0,0,0,0,0,0,0,0,0,0,0,0,0,0,0,0,0,0,0,0,0,0,0,0,0,0,0,0,0,0,0,0,0,0,0,0,0,0,0,0,0,0,0,0,0,0,0,0,0,0,0,0,0,0,0,0,0,0,0,0,0,0,0,0,0,0,0,0,0,0,0,0,0,0,0,0,0,0,0,0,0,0,0,0,0,0,0,0,0,0,0,0,0,0,0,0,0,0,0,0,0,0,0,0,0,0,0,0,0,0,0,0,0,0,0,0]
[null,"'112 Less: Senior Sculpted Debt Service",null,null,null,null,null,162658.0118168288,"",0,0,0,0,0,0,0,0,0,0,0,0,0,0,0,0,0,0,0,0,0,0,0,0,0,0,0,0,0,0,0,0,0,0,0,0,0,-4122.3585376076708,-4249.4781259059073,-4204.8057083598251,-4334.4676884240253,-4288.9018225270211,-4421.1570421925053,-4404.8364853482908,-4509.5801830363562,-4462.1734561571147,-4599.7717866970825,-4551.4169252802558,-4691.7672224310245,-4642.4452637858631,-4785.6025668796474,-4767.9366712823612,-4881.3146182172404,-4830.0000524428115,-4978.9409105815866,-4926.6000534916666,-5078.5197287932169,-5025.1320545615026,-5136.6821700633091,-4961.2324677747247,-5073.9520578219617,-5021.7940690828163,-5140.8753289361093,-5087.2733802169996,-5208.3283575385385,-5153.239228552502,-5276.2928022890001,-5249.886151420531,-5344.6502197361478,-5286.4497629807329,-5413.573267246441,-5353.7474562373791,-5482.9439042830918,-5421.4437244820538,-5552.7377749979423,-5522.217523540814,-5622.8220086906585,-5557.8178167950109,-5693.378664675417,-5626.5433548857518,-5764.2749686637317,-5695.5529176194295,-5835.4793746590749,-5800.2139833922047,-5906.842691265394,-5834.171007347466,-5978.5564253937337,-5903.8200599249603,-6050.4710989973873,-5973.6068872023952,0,0,0,0,0,0,0,0,0,0,0,0,0,0,0,0,0,0,0,0,0,0,0,0,0,0,0,0,0,0,0,0,0,0,0,0,0,0,0,0,0,0,0,0,0,0,0,0,0,0,0,0,0,0,0,0,0]
[null,"'113 Mezzanine Sculpted Debt Service",null,null,null,null,null,0,0,0,0,0,0,0,0,0,0,0,0,0,0,0,0,0,0,0,0,0,0,0,0,0,0,0,0,0,0,0,0,0,0,0,0,0,0,0,0,0,0,0,0,0,0,0,0,0,0,0,0,0,0,0,0,0,0,0,0,0,0,0,0,0,0,0,0,0,0,0,0,0,0,0,0,0,0,0,0,0,0,0,0,0,0,0,0,0,0,0,0,0,0,0,0,0,0,0,0,0,0,0,0,0,0,0,0,0,0,0,0,0,0,0,0,0,0,0,0,0,0,0,0,0,0,0,0,0,0,0,0,0,0,0,0,0,0,0,0,0,0,0,0,0,0,0,0,0]
[null,"'114 Less: Mezzanine Interest",null,null,null,null,null,"","",0,0,0,0,0,0,0,0,0,0,0,0,0,0,0,0,0,0,0,0,0,0,0,0,0,0,0,0,0,0,0,0,0,0,0,0,0,0,0,0,0,0,0,0,0,0,0,0,0,0,0,0,0,0,0,0,0,0,0,0,0,0,0,0,0,0,0,0,0,0,0,0,0,0,0,0,0,0,0,0,0,0,0,0,0,0,0,0,0,0,0,0,0,0,0,0,0,0,0,0,0,0,0,0,0,0,0,0,0,0,0,0,0,0,0,0,0,0,0,0,0,0,0,0,0,0,0,0,0,0,0,0,0,0,0,0,0,0,0,0,0,0,0,0,0,0,0]
[null,"'115 Mezzanine Repayment",null,null,null,null,null,"","",0,0,0,0,0,0,0,0,0,0,0,0,0,0,0,0,0,0,0,0,0,0,0,0,0,0,0,0,0,0,0,0,0,0,0,0,0,0,0,0,0,0,0,0,0,0,0,0,0,0,0,0,0,0,0,0,0,0,0,0,0,0,0,0,0,0,0,0,0,0,0,0,0,0,0,0,0,0,0,0,0,0,0,0,0,0,0,0,0,0,0,0,0,0,0,0,0,0,0,0,0,0,0,0,0,0,0,0,0,0,0,0,0,0,0,0,0,0,0,0,0,0,0,0,0,0,0,0,0,0,0,0,0,0,0,0,0,0,0,0,0,0,0,0,0,0,0]
[null,"'116 Total Sculpted Repayment",null,null,null,null,null,"","",0,0,0,0,0,0,0,0,0,0,0,0,0,0,0,0,0,0,0,0,0,0,0,0,0,0,0,0,0,0,0,0,0,0,0,0,0,0,0,0,0,0,0,0,0,0,0,0,0,0,0,0,0,0,0,0,0,0,0,0,0,0,0,0,0,0,0,0,0,0,0,0,0,0,0,0,0,0,0,0,0,0,0,0,0,0,0,0,0,0,0,0,0,0,0,0,0,0,0,0,0,0,0,0,0,0,0,0,0,0,0,0,0,0,0,0,0,0,0,0,0,0,0,0,0,0,0,0,0,0,0,0,0,0,0,0,0,0,0,0,0,0,0,0,0,0,0]
[null,"'117 Period for Sculpting Total",null,null,null,null,null,117,111,0,0,0,0,0,0,0,0,0,0,0,0,0,0,0,0,0,0,0,0,0,0,0,0,0,0,0,0,0,0,0,0,0,0,0,0,false,false,false,false,false,false,false,false,false,false,false,false,false,false,false,false,false,false,false,false,false,false,false,false,false,false,false,false,false,false,false,false,false,false,false,false,false,false,false,false,false,false,false,false,false,false,false,false,false,false,false,false,false,false,false,false,false,false,false,false,false,false,false,false,false,false,false,false,false,false,0,0,0,0,0,0,0,0,0,0,0,0,0,0,0,0,0,0,0,0,0,0,0,0,0,0,0,0,0,0,0,0,0,0,0,0,0,0,0,0,0]
[null,"'118 Compound Interest Total/Debt IRR",null,null,null,null,null,1.9051412005283819E-2,"",1,1,1,1,1,1,1,1,1,1,1,1,1,1,1,1,1,1,1,1,1,1,1,1,1,1,1,1,1,1,1,1,1,1,1,1,1.0190514120053049,1.0384657803100057,1.058250019744102,1.078411176874869,1.0989564325166379,1.1198931042883924,1.1412286492200905,1.1629706664086401,1.185126899724475,1.2077052405696957,1.230713730688755,1.2541605650326924,1.2780540946779362,1.3024028298007124,1.3272154427081209,1.3525007709269565,1.3782678203513785,1.4045257684505461,1.431283967537365,1.4585519480995068,1.4863394221938906,1.5146562869058333,1.5435126278741016,1.5729187228831221,1.6028850455236265,1.6334222689230391,1.6645412695469319,1.6962531310729039,1.7285691483382621,1.7615008313629135,1.7950599094488955,1.8292583353580116,1.8641082895690553,1.8996221846161396,1.9358126695096791,1.9726926342415971,2.0102752143763643,2.0485737957295012,2.0876020191352151,2.1273737853048664,2.1679032597779946,2.2092048779676685,2.2512933503019599,2.2941836674633658,2.3378911057280516,2.3824312324068146,2.4278199113897032,2.4740733087962714,2.5212078987334769,2.5692404691632773,2.6181881278820098,2.6680683086136878,2.7188987772193842,2.7706976380249104,1,1,1,1,1,1,1,1,1,1,1,1,1,1,1,1,0,0,0,0,0,0,0,0,0,0,0,0,0,0,0,0,0,0,0,0,0,0,0,0,0,0,0,0,0,0,0,0,0,0,0,0,0,0,0,0,0]
[null,"'119 Total Debt Cash Flow for Debt IRR",null,null,null,null,null,0,"",0,0,0,0,0,0,0,0,0,0,0,0,0,0,0,0,0,0,0,0,0,0,0,0,0,0,0,0,0,0,0,0,0,0,0,0,0,0,0,0,0,0,0,0,0,0,0,0,0,0,0,0,0,0,0,0,0,0,0,0,0,0,0,0,0,0,0,0,0,0,0,0,0,0,0,0,0,0,0,0,0,0,0,0,0,0,0,0,0,0,0,0,0,0,0,0,0,0,0,0,0,0,0,0,0,0,0,0,0,0,0,0,0,0,0,0,0,0,0,0,0,0,0,0,0,0,0,0,0,0,0,0,0,0,0,0,0,0,0,0,0,0,0,0,0,0,0]
[".","'120 Computation of Senior DSCR",null,null,null,null,null,"","","","","","","","","","","","","","","","","","","","","","","","","","","","","","","","","","","","","","","Operation","Operation","Operation","Operation","Operation","Operation","Operation","Operation","Operation","Operation","Operation","Operation","Operation","Operation","Operation","Operation","Operation","Operation","Operation","Operation","Operation","Operation","Operation","Operation","Operation","Operation","Operation","Operation","Operation","Operation","Operation","Operation","Operation","Operation","Operation","Operation","Operation","Operation","Operation","Operation","Operation","Operation","Operation","Operation","Operation","Operation","Operation","Operation","Operation","Operation","Operation","Operation","Operation","Operation","Operation","Operation","Operation","Operation","Operation","Operation","Operation","Operation","Operation","Operation","Operation","Operation","Operation","Operation","Operation","Operation",0,0,0,0,0,0,0,0,0,0,0,0,0,0,0,0,0,0,0,0,0,0,0,0,0,0,0,0,0,0,0,0,0,0,0,0,0,0,0,0,0]
[null,"'121 CFADS",null,null,null,null,null,"","",0,0,0,0,0,0,0,0,0,0,0,0,0,0,0,0,0,0,0,0,0,0,0,0,0,0,0,0,0,0,0,0,0,0,0,0,0,5565.1840271663941,5736.7954714120624,5676.4877077097226,5851.5313808403025,5790.0174618639167,5968.5620084571083,5946.5292567118922,6087.933248626252,6023.9341673232211,6209.6919135987755,6144.4128506696843,6333.8857518707518,6267.3011076830808,6460.5634669081692,6436.7145078458507,6589.7747362463333,6520.5000724334768,6721.5702309712624,6650.9100738821444,6856.0016355906855,6783.9282753597909,6934.5209313250061,6697.6638331760014,6849.8352797779435,6779.4219949624339,6940.1816958047066,6867.8190650157567,7031.2432844408286,6956.8729602910234,7122.9952848769681,7087.3463061955918,7215.277798453767,7136.7071818142467,7308.3239126160033,7227.5590677335103,7401.9742726389741,7318.9490298867458,7496.1959981276586,7454.9936586501999,7590.8097136365595,7503.0540545554213,7686.0611992398772,7595.8335310011953,7781.7712096481109,7688.996440715031,7877.8971577659386,7830.2888795437211,7974.2376352086358,7876.1308618948224,8071.0511763061804,7970.1570828980275,8168.1359856954668,8064.3692997461976,8265.4379130573579,8237.4416571604215,8417.1188209473239,8335.7974009799909,8571.8333469955105,8488.8854986290462,8729.642163565095,0,0,0,0,0,0,0,0,0,0,0,0,0,0,0,0,0,0,0,0,0,0,0,0,0,0,0,0,0,0,0,0,0,0,0,0,0,0,0,0,0,0,0,0,0,0,0,0,0,0]
[null,"'122 DSRA Adjustment to CFADS",null,null,null,null,null,"","",0,0,0,0,0,0,0,0,0,0,0,0,0,0,0,0,0,0,0,0,0,0,0,0,0,0,0,0,0,0,0,0,0,0,0,0,0,0,0,0,0,0,0,0,0,0,0,0,0,0,0,0,0,0,0,0,0,0,0,0,0,0,0,0,0,0,0,0,0,0,0,0,0,0,0,0,0,0,0,0,0,0,0,0,0,0,0,0,0,0,0,0,0,0,0,0,0,0,0,0,0,0,0,0,0,0,0,0,0,0,0,0,0,0,0,0,0,0,0,0,0,0,0,0,0,0,0,0,0,0,0,0,0,0,0,0,0,0,0,0,0,0,0,0,0,0,0]
[null,"'123 Senior Debt Repayment",null,null,null,null,null,0,"",0,0,0,0,0,0,0,0,0,0,0,0,0,0,0,0,0,0,0,0,0,0,0,0,0,0,0,0,0,0,0,0,0,0,0,0,-2805.8507038402972,1268.1069091261288,1417.1013416067908,1396.873922203426,1550.6319774256353,1531.814513139223,1690.4935331563588,1703.3339897590913,1643.828315852686,1626.8324128167192,1794.5271429937961,1779.3710337223547,1952.6396949969871,1939.4415707092699,2118.4785428611754,2140.0045003068212,2118.0845515973861,2108.6021557170056,2299.1879064311915,2292.2560104932872,2489.4477420020803,2485.2266606749072,2645.8600027250427,2522.6660354902779,2534.0219646698711,2535.078437188793,2707.3963442230502,2710.6497187326245,2888.6283401475489,2894.2004063046106,3078.0321885735057,3116.2642136650802,3276.4698304676635,3287.0752401520695,3483.2273244609714,3496.5492872655896,3699.1732703438793,3715.355729220063,3924.6722500495725,3976.5701158434849,4160.6825734260428,4183.0527155723421,4406.4576704797673,4432.157971770177,4662.9649029553311,4692.1651148730907,4930.6270393250707,4998.9048158840269,5210.5105248907812,5247.2595619955591,5501.8374308437342,5542.639651422679,5805.6861231749817,5850.7412969395564,0,0,0,0,0,0,0,0,0,0,0,0,0,0,0,0,0,0,0,0,0,0,0,0,0,0,0,0,0,0,0,0,0,0,0,0,0,0,0,0,0,0,0,0,0,0,0,0,0,0,0,0,0,0,0,0,0]
[null,"'124 Senior Interest Expense",null,null,null,null,null,"","",0,0,0,0,0,0,0,0,0,0,0,0,0,0,0,0,0,0,0,0,0,0,0,0,0,0,0,0,0,0,0,0,0,0,0,0,2805.8507038402972,2854.2516321679091,2832.3767879579414,2807.9317897843971,2783.8357145960167,2757.0873129516631,2730.6635125666749,2701.502499082892,2865.7518708907301,2835.3410470091203,2805.2446473340901,2772.0458951468208,2739.1275309814446,2703.003696578392,2667.124027474988,2627.9321743825417,2763.2300702036682,2721.3979002568512,2679.7530076289281,2634.3440464195933,2589.0719901552247,2539.9053971885846,2490.8221705782803,2438.5664360831056,2539.9300971698526,2486.7156358937868,2433.4789886955527,2376.6236654457434,2319.7000213319025,2259.0388261643384,2198.2606176080808,2133.6219416200065,2068.1803931047289,1999.3745266330491,1930.3459465584522,1857.1981727088521,1783.7706376407273,1706.0879989232562,1628.0655285696666,1545.6474112737601,1462.1394387954842,1374.7651047037275,1286.9209976269742,1194.3853864918465,1101.3100690295812,1003.3878060068826,904.85233853374734,801.30917064133769,696.33216943993932,586.91144834429167,476.7189974690005,361.18041134160018,244.78497858144308,122.86556990791308,2.1009911288274452E-6,2.1451119425328213E-6,2.1901592933260105E-6,2.236152638485857E-6,2.2831118438940599E-6,2.331057192615835E-6,2.3800093936607676E-6,2.4299895909276435E-6,2.4810193723371242E-6,2.5331207791562039E-6,2.5863163155184842E-6,2.6406289581443725E-6,2.6960821662654044E-6,2.7526998917569782E-6,2.8105065894838745E-6,2.8695272278630364E-6,0,0,0,0,0,0,0,0,0,0,0,0,0,0,0,0,0,0,0,0,0,0,0,0,0,0,0,0,0,0,0,0,0,0,0,0,0,0,0,0,0]
[null,"'125 Senior Debt Service",null,null,null,null,null,"","",0,0,0,0,0,0,0,0,0,0,0,0,0,0,0,0,0,0,0,0,0,0,0,0,0,0,0,0,0,0,0,0,0,0,0,0,0,4122.3585412940374,4249.4781295647317,4204.8057119878231,4334.4676920216516,4288.9018260908861,4421.1570457230337,4404.8364888419837,4509.5801867434166,4462.173459825839,4599.7717903278863,4551.4169288691755,4691.7672259784322,4642.4452672876614,4785.6025703361629,4767.9366746893629,4881.3146218010543,4830.0000559738564,4978.9409140601201,4926.600056912881,5078.519732157305,5025.1320578634914,5136.682173303323,4961.232471573383,5073.9520618397237,5021.7940730825794,5140.8753329186029,5087.2733841783684,5208.3283614794509,5153.239232468949,5276.2928061815865,5249.8861552850867,5344.6502235723929,5286.4497667851183,5413.5732710194234,5353.7474599744419,5482.943907984607,5421.4437281433193,5552.7377786192392,5522.2175271172455,5622.8220122215271,5557.8178202760701,5693.3786681067413,5626.5433582620235,5764.2749719849126,5695.5529208799735,5835.4793778588182,5800.2139865253648,5906.8426943307204,5834.1710103398509,5978.5564283127351,5903.8200627642791,6050.471101756425,5973.6068668474691,2.1009911288274452E-6,2.1451119425328213E-6,2.1901592933260105E-6,2.236152638485857E-6,2.2831118438940599E-6,2.331057192615835E-6,2.3800093936607676E-6,2.4299895909276435E-6,2.4810193723371242E-6,2.5331207791562039E-6,2.5863163155184842E-6,2.6406289581443725E-6,2.6960821662654044E-6,2.7526998917569782E-6,2.8105065894838745E-6,2.8695272278630364E-6,0,0,0,0,0,0,0,0,0,0,0,0,0,0,0,0,0,0,0,0,0,0,0,0,0,0,0,0,0,0,0,0,0,0,0,0,0,0,0,0,0]
[null,"'126 Senior DSCR Computed",null,null,null,null,null,"","",0,0,0,0,0,0,0,0,0,0,0,0,0,0,0,0,0,0,0,0,0,0,0,0,0,0,0,0,0,0,0,0,0,0,0,0,0,1.3499999991314302,1.3499999991762928,1.3499999991738409,1.3499999992181446,1.3499999992168672,1.3499999992606038,1.3499999992678988,1.3499999992288949,1.3499999992287028,1.3499999992730354,1.3499999992741376,1.3499999993179261,1.3499999993203449,1.3499999993635805,1.3499999993739873,1.3499999993474934,1.3499999993517124,1.3499999993954739,1.34999999940116,1.3499999994443901,1.3499999994515721,1.3499999994871241,1.3499999993049983,1.3499999992696652,1.3499999992634011,1.3499999992928426,1.3499999992874296,1.3499999993171647,1.3499999993126541,1.3499999993426874,1.3499999993448857,1.349999999369657,1.3499999993671248,1.3499999993977696,1.3499999993963132,1.3499999994272702,1.3499999994269543,1.3499999994582286,1.3499999994643308,1.3499999994909135,1.3499999994930971,1.3499999995250231,1.3499999995285674,1.3499999995608258,1.3499999995658134,1.3499999995984107,1.3499999996094072,1.3499999996380745,1.3499999996462262,1.3499999996795193,1.3499999996893961,1.3499999997230452,1.3500000049387439,0,0,0,0,0,0,0,0,0,0,0,0,0,0,0,0,0,0,0,0,0,0,0,0,0,0,0,0,0,0,0,0,0,0,0,0,0,0,0,0,0,0,0,0,0,0,0,0,0,0,0,0,0,0,0,0,0]
[null,"'127 Total Debt Repayment",null,null,null,null,null,"","",0,0,0,0,0,0,0,0,0,0,0,0,0,0,0,0,0,0,0,0,0,0,0,0,0,0,0,0,0,0,0,0,0,0,0,0,-2805.8507038402972,1268.1069091261288,1417.1013416067908,1396.873922203426,1550.6319774256353,1531.814513139223,1690.4935331563588,1703.3339897590913,1643.828315852686,1626.8324128167192,1794.5271429937961,1779.3710337223547,1952.6396949969871,1939.4415707092699,2118.4785428611754,2140.0045003068212,2118.0845515973861,2108.6021557170056,2299.1879064311915,2292.2560104932872,2489.4477420020803,2485.2266606749072,2645.8600027250427,2522.6660354902779,2534.0219646698711,2535.078437188793,2707.3963442230502,2710.6497187326245,2888.6283401475489,2894.2004063046106,3078.0321885735057,3116.2642136650802,3276.4698304676635,3287.0752401520695,3483.2273244609714,3496.5492872655896,3699.1732703438793,3715.355729220063,3924.6722500495725,3976.5701158434849,4160.6825734260428,4183.0527155723421,4406.4576704797673,4432.157971770177,4662.9649029553311,4692.1651148730907,4930.6270393250707,4998.9048158840269,5210.5105248907812,5247.2595619955591,5501.8374308437342,5542.639651422679,5805.6861231749817,5850.7412969395564,0,0,0,0,0,0,0,0,0,0,0,0,0,0,0,0,0,0,0,0,0,0,0,0,0,0,0,0,0,0,0,0,0,0,0,0,0,0,0,0,0,0,0,0,0,0,0,0,0,0,0,0,0,0,0,0,0]
[null,"'128 Total Interest Expense",null,null,null,null,null,"","",0,0,0,0,0,0,0,0,0,0,0,0,0,0,0,0,0,0,0,0,0,0,0,0,0,0,0,0,0,0,0,0,0,0,0,0,2805.8507038402972,2854.2516321679091,2832.3767879579414,2807.9317897843971,2783.8357145960167,2757.0873129516631,2730.6635125666749,2701.502499082892,2865.7518708907301,2835.3410470091203,2805.2446473340901,2772.0458951468208,2739.1275309814446,2703.003696578392,2667.124027474988,2627.9321743825417,2763.2300702036682,2721.3979002568512,2679.7530076289281,2634.3440464195933,2589.0719901552247,2539.9053971885846,2490.8221705782803,2438.5664360831056,2539.9300971698526,2486.7156358937868,2433.4789886955527,2376.6236654457434,2319.7000213319025,2259.0388261643384,2198.2606176080808,2133.6219416200065,2068.1803931047289,1999.3745266330491,1930.3459465584522,1857.1981727088521,1783.7706376407273,1706.0879989232562,1628.0655285696666,1545.6474112737601,1462.1394387954842,1374.7651047037275,1286.9209976269742,1194.3853864918465,1101.3100690295812,1003.3878060068826,904.85233853374734,801.30917064133769,696.33216943993932,586.91144834429167,476.7189974690005,361.18041134160018,244.78497858144308,122.86556990791308,2.1009911288274452E-6,2.1451119425328213E-6,2.1901592933260105E-6,2.236152638485857E-6,2.2831118438940599E-6,2.331057192615835E-6,2.3800093936607676E-6,2.4299895909276435E-6,2.4810193723371242E-6,2.5331207791562039E-6,2.5863163155184842E-6,2.6406289581443725E-6,2.6960821662654044E-6,2.7526998917569782E-6,2.8105065894838745E-6,2.8695272278630364E-6,0,0,0,0,0,0,0,0,0,0,0,0,0,0,0,0,0,0,0,0,0,0,0,0,0,0,0,0,0,0,0,0,0,0,0,0,0,0,0,0,0]
[null,"'129 Total Debt Service",null,null,null,null,null,"","",0,0,0,0,0,0,0,0,0,0,0,0,0,0,0,0,0,0,0,0,0,0,0,0,0,0,0,0,0,0,0,0,0,0,0,0,0,4122.3585412940374,4249.4781295647317,4204.8057119878231,4334.4676920216516,4288.9018260908861,4421.1570457230337,4404.8364888419837,4509.5801867434166,4462.173459825839,4599.7717903278863,4551.4169288691755,4691.7672259784322,4642.4452672876614,4785.6025703361629,4767.9366746893629,4881.3146218010543,4830.0000559738564,4978.9409140601201,4926.600056912881,5078.519732157305,5025.1320578634914,5136.682173303323,4961.232471573383,5073.9520618397237,5021.7940730825794,5140.8753329186029,5087.2733841783684,5208.3283614794509,5153.239232468949,5276.2928061815865,5249.8861552850867,5344.6502235723929,5286.4497667851183,5413.5732710194234,5353.7474599744419,5482.943907984607,5421.4437281433193,5552.7377786192392,5522.2175271172455,5622.8220122215271,5557.8178202760701,5693.3786681067413,5626.5433582620235,5764.2749719849126,5695.5529208799735,5835.4793778588182,5800.2139865253648,5906.8426943307204,5834.1710103398509,5978.5564283127351,5903.8200627642791,6050.471101756425,5973.6068668474691,2.1009911288274452E-6,2.1451119425328213E-6,2.1901592933260105E-6,2.236152638485857E-6,2.2831118438940599E-6,2.331057192615835E-6,2.3800093936607676E-6,2.4299895909276435E-6,2.4810193723371242E-6,2.5331207791562039E-6,2.5863163155184842E-6,2.6406289581443725E-6,2.6960821662654044E-6,2.7526998917569782E-6,2.8105065894838745E-6,2.8695272278630364E-6,0,0,0,0,0,0,0,0,0,0,0,0,0,0,0,0,0,0,0,0,0,0,0,0,0,0,0,0,0,0,0,0,0,0,0,0,0,0,0,0,0]
[null,{"$f":"B584","v":"'130 Total DSCR Computed"},null,null,null,null,null,"","",0,0,0,0,0,0,0,0,0,0,0,0,0,0,0,0,0,0,0,0,0,0,0,0,0,0,0,0,0,0,0,0,0,0,0,0,0,1.3499999991314302,1.3499999991762928,1.3499999991738409,1.3499999992181446,1.3499999992168672,1.3499999992606038,1.3499999992678988,1.3499999992288949,1.3499999992287028,1.3499999992730354,1.3499999992741376,1.3499999993179261,1.3499999993203449,1.3499999993635805,1.3499999993739873,1.3499999993474934,1.3499999993517124,1.3499999993954739,1.34999999940116,1.3499999994443901,1.3499999994515721,1.3499999994871241,1.3499999993049983,1.3499999992696652,1.3499999992634011,1.3499999992928426,1.3499999992874296,1.3499999993171647,1.3499999993126541,1.3499999993426874,1.3499999993448857,1.349999999369657,1.3499999993671248,1.3499999993977696,1.3499999993963132,1.3499999994272702,1.3499999994269543,1.3499999994582286,1.3499999994643308,1.3499999994909135,1.3499999994930971,1.3499999995250231,1.3499999995285674,1.3499999995608258,1.3499999995658134,1.3499999995984107,1.3499999996094072,1.3499999996380745,1.3499999996462262,1.3499999996795193,1.3499999996893961,1.3499999997230452,1.3500000049387439,0,0,0,0,0,0,0,0,0,0,0,0,0,0,0,0,0,0,0,0,0,0,0,0,0,0,0,0,0,0,0,0,0,0,0,0,0,0,0,0,0,0,0,0,0,0,0,0,0,0,0,0,0,0,0,0,0]
[null,"'131 Average Total Interest Rate",null,null,null,null,null,"","",0,0,0,0,0,0,0,0,0,0,0,0,0,0,0,0,0,0,0,0,0,0,0,0,0,0,0,0,0,0,0,0,0,0,0,0,0,0,0,0,0,0,0,0,0,0,0,0,0,0,0,0,0,0,0,0,0,0,0,0,0,0,0,0,0,0,0,0,0,0,0,0,0,0,0,0,0,0,0,0,0,0,0,0,0,0,0,0,0,0,0,0,0,0,0,0,0,0,0,0,0,0,0,0,0,0,0,0,0,0,0,0,0,0,0,0,0,0,0,0,0,0,0,0,0,0,0,0,0,0,0,0,0,0,0,0,0,0,0,0,0,0,0,0,0,0,0]
[".","'132 DSRA Section",null,null,null,null,null,"","","","","","","","","","","","","","","","","","","","","","","","","","","","","","","","","","","","","","","Operation","Operation","Operation","Operation","Operation","Operation","Operation","Operation","Operation","Operation","Operation","Operation","Operation","Operation","Operation","Operation","Operation","Operation","Operation","Operation","Operation","Operation","Operation","Operation","Operation","Operation","Operation","Operation","Operation","Operation","Operation","Operation","Operation","Operation","Operation","Operation","Operation","Operation","Operation","Operation","Operation","Operation","Operation","Operation","Operation","Operation","Operation","Operation","Operation","Operation","Operation","Operation","Operation","Operation","Operation","Operation","Operation","Operation","Operation","Operation","Operation","Operation","Operation","Operation","Operation","Operation","Operation","Operation","Operation","Operation",0,0,0,0,0,0,0,0,0,0,0,0,0,0,0,0,0,0,0,0,0,0,0,0,0,0,0,0,0,0,0,0,0,0,0,0,0,0,0,0,0]
[null,"'133 DSRA Parameters",null,null,null,null,null," DSRA Opt-->"," No Adj ",1," DSRA Per (or Pct) ",1," DSRA L/C ",false," DSRA Code ",1," DSRA Percent ",1," PV DSRA Flows ",-52556.964745517049," PV DSRA Flows DSCR ",-36635.62959228074,0,0,0,0,0,0,0,0,0,0,0,0,0,0,0,0,0,0,0,0,0,0,0,0,0,0,0,0,0,0,0,0,0,0,0,0,0,0,0,0,0,0,0,0,0,0,0,0,0,0,0,0,0,0,0,0,0,0,0,0,0,0,0,0,0,0,0,0,0,0,0,0,0,0,0,0,0,0,0,0,0,0,0,0,0,0,0,0,0,0,0,0,0,0,0,0,0,0,0,0,0,0,0,0,0,0,0,0,0,0,0,0,0,0,0,0,0,0,0,0,0,0,0,0,0,0,0,0,0,0,0,0,0,0]
[null,"'134 Senior Debt Service",null,null,null,null,null,"","",0,0,0,0,0,0,0,0,0,0,0,0,0,0,0,0,0,0,0,0,0,0,0,0,0,0,0,0,0,0,0,0,0,0,0,0,0,4122.3585412940374,4249.4781295647317,4204.8057119878231,4334.4676920216516,4288.9018260908861,4421.1570457230337,4404.8364888419837,4509.5801867434166,4462.173459825839,4599.7717903278863,4551.4169288691755,4691.7672259784322,4642.4452672876614,4785.6025703361629,4767.9366746893629,4881.3146218010543,4830.0000559738564,4978.9409140601201,4926.600056912881,5078.519732157305,5025.1320578634914,5136.682173303323,4961.232471573383,5073.9520618397237,5021.7940730825794,5140.8753329186029,5087.2733841783684,5208.3283614794509,5153.239232468949,5276.2928061815865,5249.8861552850867,5344.6502235723929,5286.4497667851183,5413.5732710194234,5353.7474599744419,5482.943907984607,5421.4437281433193,5552.7377786192392,5522.2175271172455,5622.8220122215271,5557.8178202760701,5693.3786681067413,5626.5433582620235,5764.2749719849126,5695.5529208799735,5835.4793778588182,5800.2139865253648,5906.8426943307204,5834.1710103398509,5978.5564283127351,5903.8200627642791,6050.471101756425,5973.6068668474691,2.1009911288274452E-6,2.1451119425328213E-6,2.1901592933260105E-6,2.236152638485857E-6,2.2831118438940599E-6,2.331057192615835E-6,2.3800093936607676E-6,2.4299895909276435E-6,2.4810193723371242E-6,2.5331207791562039E-6,2.5863163155184842E-6,2.6406289581443725E-6,2.6960821662654044E-6,2.7526998917569782E-6,2.8105065894838745E-6,2.8695272278630364E-6,0,0,0,0,0,0,0,0,0,0,0,0,0,0,0,0,0,0,0,0,0,0,0,0,0,0,0,0,0,0,0,0,0,0,0,0,0,0,0,0,0]
[null,"'135 DSRA Requirement",null,null,null,null,null,"","",0,0,0,0,0,0,0,0,0,0,0,0,0,0,0,0,0,0,0,0,0,0,0,0,0,0,0,0,0,0,0,0,0,0,0,0,4122.3585412940374,4249.4781295647317,4204.8057119878231,4334.4676920216516,4288.9018260908861,4421.1570457230337,4404.8364888419837,4509.5801867434166,4462.173459825839,4599.7717903278863,4551.4169288691755,4691.7672259784322,4642.4452672876614,4785.6025703361629,4767.9366746893629,4881.3146218010543,4830.0000559738564,4978.9409140601201,4926.600056912881,5078.519732157305,5025.1320578634914,5136.682173303323,4961.232471573383,5073.9520618397237,5021.7940730825794,5140.8753329186029,5087.2733841783684,5208.3283614794509,5153.239232468949,5276.2928061815865,5249.8861552850867,5344.6502235723929,5286.4497667851183,5413.5732710194234,5353.7474599744419,5482.943907984607,5421.4437281433193,5552.7377786192392,5522.2175271172455,5622.8220122215271,5557.8178202760701,5693.3786681067413,5626.5433582620235,5764.2749719849126,5695.5529208799735,5835.4793778588182,5800.2139865253648,5906.8426943307204,5834.1710103398509,5978.5564283127351,5903.8200627642791,6050.471101756425,5973.6068668474691,2.1009911288274452E-6,2.1451119425328213E-6,2.1901592933260105E-6,2.236152638485857E-6,2.2831118438940599E-6,2.331057192615835E-6,2.3800093936607676E-6,2.4299895909276435E-6,2.4810193723371242E-6,2.5331207791562039E-6,2.5863163155184842E-6,2.6406289581443725E-6,2.6960821662654044E-6,2.7526998917569782E-6,2.8105065894838745E-6,2.8695272278630364E-6,0,0,0,0,0,0,0,0,0,0,0,0,0,0,0,0,0,0,0,0,0,0,0,0,0,0,0,0,0,0,0,0,0,0,0,0,0,0,0,0,0,0]
[null,"'136 DSRA Balance/DSRA Periods",null,null,null,null,null,1,"",0,0,0,0,0,0,0,0,0,0,0,0,0,0,0,0,0,0,0,0,0,0,0,0,0,0,0,0,0,0,0,0,0,0,0,0,4122.3585412940374,4249.4781295647317,4204.8057119878231,4334.4676920216516,4288.9018260908861,4421.1570457230337,4404.8364888419837,4509.5801867434166,4462.173459825839,4599.7717903278863,4551.4169288691755,4691.7672259784322,4642.4452672876614,4785.6025703361629,4767.9366746893629,4881.3146218010543,4830.0000559738564,4978.9409140601201,4926.600056912881,5078.519732157305,5025.1320578634914,5136.682173303323,4961.232471573383,5073.9520618397237,5021.7940730825794,5140.8753329186029,5087.2733841783684,5208.3283614794509,5153.239232468949,5276.2928061815865,5249.8861552850867,5344.6502235723929,5286.4497667851183,5413.5732710194234,5353.7474599744419,5482.943907984607,5421.4437281433193,5552.7377786192392,5522.2175271172455,5622.8220122215271,5557.8178202760701,5693.3786681067413,5626.5433582620235,5764.2749719849126,5695.5529208799735,5835.4793778588182,5800.2139865253648,5906.8426943307204,5834.1710103398509,5978.5564283127351,5903.8200627642791,6050.471101756425,5973.6068668474691,2.1009911288274452E-6,2.1451119425328213E-6,2.1901592933260105E-6,2.236152638485857E-6,2.2831118438940599E-6,2.331057192615835E-6,2.3800093936607676E-6,2.4299895909276435E-6,2.4810193723371242E-6,2.5331207791562039E-6,2.5863163155184842E-6,2.6406289581443725E-6,2.6960821662654044E-6,2.7526998917569782E-6,2.8105065894838745E-6,2.8695272278630364E-6,0,0,0,0,0,0,0,0,0,0,0,0,0,0,0,0,0,0,0,0,0,0,0,0,0,0,0,0,0,0,0,0,0,0,0,0,0,0,0,0,0,0]
[null,"'137 DSRA Funded",null,null,null,null,null,-36635.62959228074,"",0,0,0,0,0,0,0,0,0,0,0,0,0,0,0,0,0,0,0,0,0,0,0,0,0,0,0,0,0,0,0,0,0,0,0,0,4122.3585412940374,4249.4781295647317,4204.8057119878231,4334.4676920216516,4288.9018260908861,4421.1570457230337,4404.8364888419837,4509.5801867434166,4462.173459825839,4599.7717903278863,4551.4169288691755,4691.7672259784322,4642.4452672876614,4785.6025703361629,4767.9366746893629,4881.3146218010543,4830.0000559738564,4978.9409140601201,4926.600056912881,5078.519732157305,5025.1320578634914,5136.682173303323,4961.232471573383,5073.9520618397237,5021.7940730825794,5140.8753329186029,5087.2733841783684,5208.3283614794509,5153.239232468949,5276.2928061815865,5249.8861552850867,5344.6502235723929,5286.4497667851183,5413.5732710194234,5353.7474599744419,5482.943907984607,5421.4437281433193,5552.7377786192392,5522.2175271172455,5622.8220122215271,5557.8178202760701,5693.3786681067413,5626.5433582620235,5764.2749719849126,5695.5529208799735,5835.4793778588182,5800.2139865253648,5906.8426943307204,5834.1710103398509,5978.5564283127351,5903.8200627642791,6050.471101756425,5973.6068668474691,2.1009911288274452E-6,2.1451119425328213E-6,2.1901592933260105E-6,2.236152638485857E-6,2.2831118438940599E-6,2.331057192615835E-6,2.3800093936607676E-6,2.4299895909276435E-6,2.4810193723371242E-6,2.5331207791562039E-6,2.5863163155184842E-6,2.6406289581443725E-6,2.6960821662654044E-6,2.7526998917569782E-6,2.8105065894838745E-6,2.8695272278630364E-6,0,0,0,0,0,0,0,0,0,0,0,0,0,0,0,0,0,0,0,0,0,0,0,0,0,0,0,0,0,0,0,0,0,0,0,0,0,0,0,0,0,0]
[null,"'138 DSRA Change/PV DSRA Flows/PV DSCR",null,null,null,null,null,-52556.964745517049,"",0,0,0,0,0,0,0,0,0,0,0,0,0,0,0,0,0,0,0,0,0,0,0,0,0,0,0,0,0,0,0,0,0,0,0,0,4122.3585412940374,127.11958827069429,-44.672417576908629,129.66198003382851,-45.56586593076554,132.2552196321476,-16.320556881049924,104.74369790143282,-47.406726917577544,137.59833050204725,-48.354861458710729,140.35029710925664,-49.321958690770771,143.15730304850149,-17.665895646799981,113.37794711169136,-51.314565827197839,148.94085808626369,-52.340857147239149,151.91967524442407,-53.387674293813689,111.55011543983164,-175.44970172993999,112.71959026634067,-52.157988757144267,119.08125983602349,-53.601948740234548,121.05497730108254,-55.089129010501892,123.05357371263744,-26.406650896499741,94.764068287306145,-58.200456787274561,127.12350423430507,-59.825811044981492,129.19644801016511,-61.500179841287718,131.2940504759199,-30.520251501993698,100.60448510428159,-65.004191945457023,135.56084783067126,-66.835309844717813,137.73161372288905,-68.722051104939055,139.92645697884473,-35.265391333453408,106.62870780535559,-72.671683990869496,144.38541797288417,-74.736365548455979,146.65103899214591,-76.86423490895595,-5973.6068647464781,4.4120813705376148E-8,4.5047350793189199E-8,4.5993345159846513E-8,4.6959205408202826E-8,4.794534872177516E-8,4.8952201044932572E-8,4.9980197266875943E-8,5.1029781409480662E-8,5.210140681907971E-8,5.3195536362280312E-8,5.4312642625888278E-8,5.5453208121031929E-8,5.6617725491573711E-8,5.7806697726896301E-8,5.9020638379161904E-8,-2.8695272278630364E-6,0,0,0,0,0,0,0,0,0,0,0,0,0,0,0,0,0,0,0,0,0,0,0,0,0,0,0,0,0,0,0,0,0,0,0,0,0,0,0,0,0]
[null,"'139 DSRA LC/LC Switch",null,null,null,null,null,"","",0,0,0,0,0,0,0,0,0,0,0,0,0,0,0,0,0,0,0,0,0,0,0,0,0,0,0,0,0,0,0,0,0,0,0,0,0,0,0,0,0,0,0,0,0,0,0,0,0,0,0,0,0,0,0,0,0,0,0,0,0,0,0,0,0,0,0,0,0,0,0,0,0,0,0,0,0,0,0,0,0,0,0,0,0,0,0,0,0,0,0,0,0,0,0,0,0,0,0,0,0,0,0,0,0,0,0,0,0,0,0,0,0,0,0,0,0,0,0,0,0,0,0,0,0,0,0,0,0,0,0,0,0,0,0,0,0,0,0,0,0,0,0,0,0,0,0]
[null,"'140 Interest Income",null,null,null,null,null,"","",0,0,0,0,0,0,0,0,0,0,0,0,0,0,0,0,0,0,0,0,0,0,0,0,0,0,0,0,0,0,0,0,0,0,0,0,0,0,0,0,0,0,0,0,0,0,0,0,0,0,0,0,0,0,0,0,0,0,0,0,0,0,0,0,0,0,0,0,0,0,0,0,0,0,0,0,0,0,0,0,0,0,0,0,0,0,0,0,0,0,0,0,0,0,0,0,0,0,0,0,0,0,0,0,0,0,0,0,0,0,0,0,0,0,0,0,0,0,0,0,0,0,0,0,0,0,0,0,0,0,0,0,0,0,0,0,0,0,0,0,0,0,0,0,0,0,0]
[null,"'141 DSRA LC Fee/PV Fees",null,null,null,null,null,0,"",0,0,0,0,0,0,0,0,0,0,0,0,0,0,0,0,0,0,0,0,0,0,0,0,0,0,0,0,0,0,0,0,0,0,0,0,0,0,0,0,0,0,0,0,0,0,0,0,0,0,0,0,0,0,0,0,0,0,0,0,0,0,0,0,0,0,0,0,0,0,0,0,0,0,0,0,0,0,0,0,0,0,0,0,0,0,0,0,0,0,0,0,0,0,0,0,0,0,0,0,0,0,0,0,0,0,0,0,0,0,0,0,0,0,0,0,0,0,0,0,0,0,0,0,0,0,0,0,0,0,0,0,0,0,0,0,0,0,0,0,0,0,0,0,0,0,0]
[".","'142 Re-financing Section",null,null,null,null,null,"","","","","","","","","","","","","","","","","","","","","","","","","","","","","","","","","","","","","","","Operation","Operation","Operation","Operation","Operation","Operation","Operation","Operation","Operation","Operation","Operation","Operation","Operation","Operation","Operation","Operation","Operation","Operation","Operation","Operation","Operation","Operation","Operation","Operation","Operation","Operation","Operation","Operation","Operation","Operation","Operation","Operation","Operation","Operation","Operation","Operation","Operation","Operation","Operation","Operation","Operation","Operation","Operation","Operation","Operation","Operation","Operation","Operation","Operation","Operation","Operation","Operation","Operation","Operation","Operation","Operation","Operation","Operation","Operation","Operation","Operation","Operation","Operation","Operation","Operation","Operation","Operation","Operation","Operation","Operation",0,0,0,0,0,0,0,0,0,0,0,0,0,0,0,0,0,0,0,0,0,0,0,0,0,0,0,0,0,0,0,0,0,0,0,0,0,0,0,0,0]
[null,"'143 Re-financing Number",null,null,null,null,null,"","",0,0,0,0,0,0,0,0,0,0,0,0,0,0,0,0,0,0,0,0,0,0,0,0,0,0,0,0,0,0,0,0,0,0,0,0,0,0,0,0,0,0,0,0,0,0,0,0,0,0,0,0,0,0,0,0,0,0,0,0,0,0,0,0,0,0,0,0,0,0,0,0,0,0,0,0,0,0,0,0,0,0,0,0,0,0,0,0,0,0,0,0,0,0,0,0,0,0,0,0,0,0,0,0,0,0,0,0,0,0,0,0,0,0,0,0,0,0,0,0,0,0,0,0,0,0,0,0,0,0,0,0,0,0,0,0,0,0,0,0,0,0,0,0,0,0,0]
[null,"'144 Re-finance Period",null,null,null,null,null,"","",0,0,0,0,0,0,0,0,0,0,0,0,0,0,0,0,0,0,0,0,0,0,0,0,0,0,0,0,0,0,0,0,0,0,0,0,false,false,false,false,false,false,false,false,false,false,false,false,false,false,false,false,false,false,false,false,false,false,false,false,false,false,false,false,false,false,false,false,false,false,false,false,false,false,false,false,false,false,false,false,false,false,false,false,false,false,false,false,false,false,false,false,false,false,false,false,false,false,false,false,false,false,false,false,false,false,0,0,0,0,0,0,0,0,0,0,0,0,0,0,0,0,0,0,0,0,0,0,0,0,0,0,0,0,0,0,0,0,0,0,0,0,0,0,0,0,0]
[null,"'145 Re-finance DSCR",null,null,null,null,null,"","",0,0,0,0,0,0,0,0,0,0,0,0,0,0,0,0,0,0,0,0,0,0,0,0,0,0,0,0,0,0,0,0,0,0,0,0,0,0,0,0,0,0,0,0,0,0,0,0,0,0,0,0,0,0,0,0,0,0,0,0,0,0,0,0,0,0,0,0,0,0,0,0,0,0,0,0,0,0,0,0,0,0,0,0,0,0,0,0,0,0,0,0,0,0,0,0,0,0,0,0,0,0,0,0,0,0,0,0,0,0,0,0,0,0,0,0,0,0,0,0,0,0,0,0,0,0,0,0,0,0,0,0,0,0,0,0,0,0,0,0,0,0,0,0,0,0,0]
[null,"'146 Re-financing Amount",null,null,null,null,null,"","",0,0,0,0,0,0,0,0,0,0,0,0,0,0,0,0,0,0,0,0,0,0,0,0,0,0,0,0,0,0,0,0,0,0,0,0,0,0,0,0,0,0,0,0,0,0,0,0,0,0,0,0,0,0,0,0,0,0,0,0,0,0,0,0,0,0,0,0,0,0,0,0,0,0,0,0,0,0,0,0,0,0,0,0,0,0,0,0,0,0,0,0,0,0,0,0,0,0,0,0,0,0,0,0,0,0,0,0,0,0,0,0,0,0,0,0,0,0,0,0,0,0,0,0,0,0,0,0,0,0,0,0,0,0,0,0,0,0,0,0,0,0,0,0,0,0,0]
[null,"'147 Sculpted Debt Service for Re-financing",null,null,null,null,null,"","",0,0,0,0,0,0,0,0,0,0,0,0,0,0,0,0,0,0,0,0,0,0,0,0,0,0,0,0,0,0,0,0,0,0,0,0,0,0,0,0,0,0,0,0,0,0,0,0,0,0,0,0,0,0,0,0,0,0,0,0,0,0,0,0,0,0,0,0,0,0,0,0,0,0,0,0,0,0,0,0,0,0,0,0,0,0,0,0,0,0,0,0,0,0,0,0,0,0,0,0,0,0,0,0,0,0,0,0,0,0,0,0,0,0,0,0,0,0,0,0,0,0,0,0,0,0,0,0,0,0,0,0,0,0,0,0,0,0,0,0,0,0,0,0,0,0,0]
[null,"'148 Re-finance fees",null,null,null,null,null,"","",0,0,0,0,0,0,0,0,0,0,0,0,0,0,0,0,0,0,0,0,0,0,0,0,0,0,0,0,0,0,0,0,0,0,0,0,0,0,0,0,0,0,0,0,0,0,0,0,0,0,0,0,0,0,0,0,0,0,0,0,0,0,0,0,0,0,0,0,0,0,0,0,0,0,0,0,0,0,0,0,0,0,0,0,0,0,0,0,0,0,0,0,0,0,0,0,0,0,0,0,0,0,0,0,0,0,0,0,0,0,0,0,0,0,0,0,0,0,0,0,0,0,0,0,0,0,0,0,0,0,0,0,0,0,0,0,0,0,0,0,0,0,0,0,0,0,0]
[null,"'149 Repayment of Loans from Re-financing",null,null,null,null,null,"","",0,0,0,0,0,0,0,0,0,0,0,0,0,0,0,0,0,0,0,0,0,0,0,0,0,0,0,0,0,0,0,0,0,0,0,0,0,0,0,0,0,0,0,0,0,0,0,0,0,0,0,0,0,0,0,0,0,0,0,0,0,0,0,0,0,0,0,0,0,0,0,0,0,0,0,0,0,0,0,0,0,0,0,0,0,0,0,0,0,0,0,0,0,0,0,0,0,0,0,0,0,0,0,0,0,0,0,0,0,0,0,0,0,0,0,0,0,0,0,0,0,0,0,0,0,0,0,0,0,0,0,0,0,0,0,0,0,0,0,0,0,0,0,0,0,0,0]
[".","'150 Cash Flow Waterfall Section",null,null,null,null,null,"","","","","","","","","","","","","","","","","","","","","","","","","","","","","","","","","","","","","","","Operation","Operation","Operation","Operation","Operation","Operation","Operation","Operation","Operation","Operation","Operation","Operation","Operation","Operation","Operation","Operation","Operation","Operation","Operation","Operation","Operation","Operation","Operation","Operation","Operation","Operation","Operation","Operation","Operation","Operation","Operation","Operation","Operation","Operation","Operation","Operation","Operation","Operation","Operation","Operation","Operation","Operation","Operation","Operation","Operation","Operation","Operation","Operation","Operation","Operation","Operation","Operation","Operation","Operation","Operation","Operation","Operation","Operation","Operation","Operation","Operation","Operation","Operation","Operation","Operation","Operation","Operation","Operation","Operation","Operation",0,0,0,0,0,0,0,0,0,0,0,0,0,0,0,0,0,0,0,0,0,0,0,0,0,0,0,0,0,0,0,0,0,0,0,0,0,0,0,0,0]
[null,"'151 CFADS",null,null,null,null,null,"","",0,0,0,0,0,0,0,0,0,0,0,0,0,0,0,0,0,0,0,0,0,0,0,0,0,0,0,0,0,0,0,0,0,0,0,0,0,5565.1840271663941,5736.7954714120624,5676.4877077097226,5851.5313808403025,5790.0174618639167,5968.5620084571083,5946.5292567118922,6087.933248626252,6023.9341673232211,6209.6919135987755,6144.4128506696843,6333.8857518707518,6267.3011076830808,6460.5634669081692,6436.7145078458507,6589.7747362463333,6520.5000724334768,6721.5702309712624,6650.9100738821444,6856.0016355906855,6783.9282753597909,6934.5209313250061,6697.6638331760014,6849.8352797779435,6779.4219949624339,6940.1816958047066,6867.8190650157567,7031.2432844408286,6956.8729602910234,7122.9952848769681,7087.3463061955918,7215.277798453767,7136.7071818142467,7308.3239126160033,7227.5590677335103,7401.9742726389741,7318.9490298867458,7496.1959981276586,7454.9936586501999,7590.8097136365595,7503.0540545554213,7686.0611992398772,7595.8335310011953,7781.7712096481109,7688.996440715031,7877.8971577659386,7830.2888795437211,7974.2376352086358,7876.1308618948224,8071.0511763061804,7970.1570828980275,8168.1359856954668,8064.3692997461976,8265.4379130573579,8237.4416571604215,8417.1188209473239,8335.7974009799909,8571.8333469955105,8488.8854986290462,8729.642163565095,0,0,0,0,0,0,0,0,0,0,0,0,0,0,0,0,0,0,0,0,0,0,0,0,0,0,0,0,0,0,0,0,0,0,0,0,0,0,0,0,0,0,0,0,0,0,0,0,0,0]
[null,"'152 Less: Senior Interest",null,null,null,null,null,"","",0,0,0,0,0,0,0,0,0,0,0,0,0,0,0,0,0,0,0,0,0,0,0,0,0,0,0,0,0,0,0,0,0,0,0,0,-2805.8507038402972,-2854.2516321679091,-2832.3767879579414,-2807.9317897843971,-2783.8357145960167,-2757.0873129516631,-2730.6635125666749,-2701.502499082892,-2865.7518708907301,-2835.3410470091203,-2805.2446473340901,-2772.0458951468208,-2739.1275309814446,-2703.003696578392,-2667.124027474988,-2627.9321743825417,-2763.2300702036682,-2721.3979002568512,-2679.7530076289281,-2634.3440464195933,-2589.0719901552247,-2539.9053971885846,-2490.8221705782803,-2438.5664360831056,-2539.9300971698526,-2486.7156358937868,-2433.4789886955527,-2376.6236654457434,-2319.7000213319025,-2259.0388261643384,-2198.2606176080808,-2133.6219416200065,-2068.1803931047289,-1999.3745266330491,-1930.3459465584522,-1857.1981727088521,-1783.7706376407273,-1706.0879989232562,-1628.0655285696666,-1545.6474112737601,-1462.1394387954842,-1374.7651047037275,-1286.9209976269742,-1194.3853864918465,-1101.3100690295812,-1003.3878060068826,-904.85233853374734,-801.30917064133769,-696.33216943993932,-586.91144834429167,-476.7189974690005,-361.18041134160018,-244.78497858144308,-122.86556990791308,-2.1009911288274452E-6,-2.1451119425328213E-6,-2.1901592933260105E-6,-2.236152638485857E-6,-2.2831118438940599E-6,-2.331057192615835E-6,-2.3800093936607676E-6,-2.4299895909276435E-6,-2.4810193723371242E-6,-2.5331207791562039E-6,-2.5863163155184842E-6,-2.6406289581443725E-6,-2.6960821662654044E-6,-2.7526998917569782E-6,-2.8105065894838745E-6,-2.8695272278630364E-6,0,0,0,0,0,0,0,0,0,0,0,0,0,0,0,0,0,0,0,0,0,0,0,0,0,0,0,0,0,0,0,0,0,0,0,0,0,0,0,0,0]
[null,"'153 Less: Senior Repayment",null,null,null,null,null,"","",0,0,0,0,0,0,0,0,0,0,0,0,0,0,0,0,0,0,0,0,0,0,0,0,0,0,0,0,0,0,0,0,0,0,0,0,2805.8507038402972,-1268.1069091261288,-1417.1013416067908,-1396.873922203426,-1550.6319774256353,-1531.814513139223,-1690.4935331563588,-1703.3339897590913,-1643.828315852686,-1626.8324128167192,-1794.5271429937961,-1779.3710337223547,-1952.6396949969871,-1939.4415707092699,-2118.4785428611754,-2140.0045003068212,-2118.0845515973861,-2108.6021557170056,-2299.1879064311915,-2292.2560104932872,-2489.4477420020803,-2485.2266606749072,-2645.8600027250427,-2522.6660354902779,-2534.0219646698711,-2535.078437188793,-2707.3963442230502,-2710.6497187326245,-2888.6283401475489,-2894.2004063046106,-3078.0321885735057,-3116.2642136650802,-3276.4698304676635,-3287.0752401520695,-3483.2273244609714,-3496.5492872655896,-3699.1732703438793,-3715.355729220063,-3924.6722500495725,-3976.5701158434849,-4160.6825734260428,-4183.0527155723421,-4406.4576704797673,-4432.157971770177,-4662.9649029553311,-4692.1651148730907,-4930.6270393250707,-4998.9048158840269,-5210.5105248907812,-5247.2595619955591,-5501.8374308437342,-5542.639651422679,-5805.6861231749817,-5850.7412969395564,0,0,0,0,0,0,0,0,0,0,0,0,0,0,0,0,0,0,0,0,0,0,0,0,0,0,0,0,0,0,0,0,0,0,0,0,0,0,0,0,0,0,0,0,0,0,0,0,0,0,0,0,0,0,0,0,0]
[null,"'154 Less: Senior Fees",null,null,null,null,null,"","",0,0,0,0,0,0,0,0,0,0,0,0,0,0,0,0,0,0,0,0,0,0,0,0,0,0,0,0,0,0,0,0,0,0,0,0,0,0,0,0,0,0,0,0,0,0,0,0,0,0,0,0,0,0,0,0,0,0,0,0,0,0,0,0,0,0,0,0,0,0,0,0,0,0,0,0,0,0,0,0,0,0,0,0,0,0,0,0,0,0,0,0,0,0,0,0,0,0,0,0,0,0,0,0,0,0,0,0,0,0,0,0,0,0,0,0,0,0,0,0,0,0,0,0,0,0,0,0,0,0,0,0,0,0,0,0,0,0,0,0,0,0,0,0,0,0,0]
[null,"'155 Subtotal: Senior Debt Service",null,null,null,null,null,"","",0,0,0,0,0,0,0,0,0,0,0,0,0,0,0,0,0,0,0,0,0,0,0,0,0,0,0,0,0,0,0,0,0,0,0,0,0,-4122.3585412940374,-4249.4781295647317,-4204.8057119878231,-4334.4676920216516,-4288.9018260908861,-4421.1570457230337,-4404.8364888419837,-4509.5801867434166,-4462.173459825839,-4599.7717903278863,-4551.4169288691755,-4691.7672259784322,-4642.4452672876614,-4785.6025703361629,-4767.9366746893629,-4881.3146218010543,-4830.0000559738564,-4978.9409140601201,-4926.600056912881,-5078.519732157305,-5025.1320578634914,-5136.682173303323,-4961.232471573383,-5073.9520618397237,-5021.7940730825794,-5140.8753329186029,-5087.2733841783684,-5208.3283614794509,-5153.239232468949,-5276.2928061815865,-5249.8861552850867,-5344.6502235723929,-5286.4497667851183,-5413.5732710194234,-5353.7474599744419,-5482.943907984607,-5421.4437281433193,-5552.7377786192392,-5522.2175271172455,-5622.8220122215271,-5557.8178202760701,-5693.3786681067413,-5626.5433582620235,-5764.2749719849126,-5695.5529208799735,-5835.4793778588182,-5800.2139865253648,-5906.8426943307204,-5834.1710103398509,-5978.5564283127351,-5903.8200627642791,-6050.471101756425,-5973.6068668474691,-2.1009911288274452E-6,-2.1451119425328213E-6,-2.1901592933260105E-6,-2.236152638485857E-6,-2.2831118438940599E-6,-2.331057192615835E-6,-2.3800093936607676E-6,-2.4299895909276435E-6,-2.4810193723371242E-6,-2.5331207791562039E-6,-2.5863163155184842E-6,-2.6406289581443725E-6,-2.6960821662654044E-6,-2.7526998917569782E-6,-2.8105065894838745E-6,-2.8695272278630364E-6,0,0,0,0,0,0,0,0,0,0,0,0,0,0,0,0,0,0,0,0,0,0,0,0,0,0,0,0,0,0,0,0,0,0,0,0,0,0,0,0,0]
[null,"'156 Subtotal: Cash Flow Before Senior Sweep",null,null,null,null,null,"","",0,0,0,0,0,0,0,0,0,0,0,0,0,0,0,0,0,0,0,0,0,0,0,0,0,0,0,0,0,0,0,0,0,0,0,0,0,1442.8254858723567,1487.3173418473307,1471.6819957218995,1517.0636888186509,1501.1156357730306,1547.4049627340746,1541.6927678699085,1578.3530618828354,1561.7607074973821,1609.9201232708892,1592.9959218005088,1642.1185258923197,1624.8558403954194,1674.9608965720063,1668.7778331564878,1708.460114445279,1690.5000164596204,1742.6293169111423,1724.3100169692634,1777.4819034333805,1758.7962174962995,1797.8387580216831,1736.4313616026184,1775.8832179382198,1757.6279218798545,1799.3063628861037,1780.5456808373883,1822.9149229613777,1803.6337278220744,1846.7024786953816,1837.460150910505,1870.6275748813741,1850.2574150291284,1894.75064159658,1873.8116077590685,1919.0303646543671,1897.5053017434266,1943.4582195084195,1932.7761315329544,1967.9877014150325,1945.2362342793513,1992.6825311331359,1969.2901727391718,2017.4962376631984,1993.4435198350575,2042.4177799071203,2030.0748930183563,2067.3949408779154,2041.9598515549715,2092.4947479934453,2066.3370201337484,2117.6648839390418,2090.7624328987285,8265.437910956367,8237.4416550153092,8417.1188187571643,8335.7973987438381,8571.8333447123987,8488.8854962979894,8729.6421611850856,-2.4299895909276435E-6,-2.4810193723371242E-6,-2.5331207791562039E-6,-2.5863163155184842E-6,-2.6406289581443725E-6,-2.6960821662654044E-6,-2.7526998917569782E-6,-2.8105065894838745E-6,-2.8695272278630364E-6,0,0,0,0,0,0,0,0,0,0,0,0,0,0,0,0,0,0,0,0,0,0,0,0,0,0,0,0,0,0,0,0,0,0,0,0,0,0,0,0,0]
[null,"'157 Less: Senior Sweep",null,null,null,null,null,0,"",0,0,0,0,0,0,0,0,0,0,0,0,0,0,0,0,0,0,0,0,0,0,0,0,0,0,0,0,0,0,0,0,0,0,0,0,0,0,0,0,0,0,0,0,0,0,0,0,0,0,0,0,0,0,0,0,0,0,0,0,0,0,0,0,0,0,0,0,0,0,0,0,0,0,0,0,0,0,0,0,0,0,0,0,0,0,0,0,0,0,0,0,0,0,0,0,0,0,0,0,0,0,0,0,0,0,0,0,0,0,0,0,0,0,0,0,0,0,0,0,0,0,0,0,0,0,0,0,0,0,0,0,0,0,0,0,0,0,0,0,0,0,0,0,0,0,0]
[null,"'158 Subtotal: Cash Flow After Sweep",null,null,null,null,null,"","",0,0,0,0,0,0,0,0,0,0,0,0,0,0,0,0,0,0,0,0,0,0,0,0,0,0,0,0,0,0,0,0,0,0,0,0,0,1442.8254858723567,1487.3173418473307,1471.6819957218995,1517.0636888186509,1501.1156357730306,1547.4049627340746,1541.6927678699085,1578.3530618828354,1561.7607074973821,1609.9201232708892,1592.9959218005088,1642.1185258923197,1624.8558403954194,1674.9608965720063,1668.7778331564878,1708.460114445279,1690.5000164596204,1742.6293169111423,1724.3100169692634,1777.4819034333805,1758.7962174962995,1797.8387580216831,1736.4313616026184,1775.8832179382198,1757.6279218798545,1799.3063628861037,1780.5456808373883,1822.9149229613777,1803.6337278220744,1846.7024786953816,1837.460150910505,1870.6275748813741,1850.2574150291284,1894.75064159658,1873.8116077590685,1919.0303646543671,1897.5053017434266,1943.4582195084195,1932.7761315329544,1967.9877014150325,1945.2362342793513,1992.6825311331359,1969.2901727391718,2017.4962376631984,1993.4435198350575,2042.4177799071203,2030.0748930183563,2067.3949408779154,2041.9598515549715,2092.4947479934453,2066.3370201337484,2117.6648839390418,2090.7624328987285,8265.437910956367,8237.4416550153092,8417.1188187571643,8335.7973987438381,8571.8333447123987,8488.8854962979894,8729.6421611850856,-2.4299895909276435E-6,-2.4810193723371242E-6,-2.5331207791562039E-6,-2.5863163155184842E-6,-2.6406289581443725E-6,-2.6960821662654044E-6,-2.7526998917569782E-6,-2.8105065894838745E-6,-2.8695272278630364E-6,0,0,0,0,0,0,0,0,0,0,0,0,0,0,0,0,0,0,0,0,0,0,0,0,0,0,0,0,0,0,0,0,0,0,0,0,0,0,0,0,0]
[null,"'159 Less: Mezzanine Interest",null,null,null,null,null,"","",0,0,0,0,0,0,0,0,0,0,0,0,0,0,0,0,0,0,0,0,0,0,0,0,0,0,0,0,0,0,0,0,0,0,0,0,0,0,0,0,0,0,0,0,0,0,0,0,0,0,0,0,0,0,0,0,0,0,0,0,0,0,0,0,0,0,0,0,0,0,0,0,0,0,0,0,0,0,0,0,0,0,0,0,0,0,0,0,0,0,0,0,0,0,0,0,0,0,0,0,0,0,0,0,0,0,0,0,0,0,0,0,0,0,0,0,0,0,0,0,0,0,0,0,0,0,0,0,0,0,0,0,0,0,0,0,0,0,0,0,0,0,0,0,0,0,0]
[null,"'160 Less: Mezzanine Repayment",null,null,null,null,null,"","",0,0,0,0,0,0,0,0,0,0,0,0,0,0,0,0,0,0,0,0,0,0,0,0,0,0,0,0,0,0,0,0,0,0,0,0,0,0,0,0,0,0,0,0,0,0,0,0,0,0,0,0,0,0,0,0,0,0,0,0,0,0,0,0,0,0,0,0,0,0,0,0,0,0,0,0,0,0,0,0,0,0,0,0,0,0,0,0,0,0,0,0,0,0,0,0,0,0,0,0,0,0,0,0,0,0,0,0,0,0,0,0,0,0,0,0,0,0,0,0,0,0,0,0,0,0,0,0,0,0,0,0,0,0,0,0,0,0,0,0,0,0,0,0,0,0,0]
[null,"'161 Less: Mezzanine Fees",null,null,null,null,null,"","",0,0,0,0,0,0,0,0,0,0,0,0,0,0,0,0,0,0,0,0,0,0,0,0,0,0,0,0,0,0,0,0,0,0,0,0,0,0,0,0,0,0,0,0,0,0,0,0,0,0,0,0,0,0,0,0,0,0,0,0,0,0,0,0,0,0,0,0,0,0,0,0,0,0,0,0,0,0,0,0,0,0,0,0,0,0,0,0,0,0,0,0,0,0,0,0,0,0,0,0,0,0,0,0,0,0,0,0,0,0,0,0,0,0,0,0,0,0,0,0,0,0,0,0,0,0,0,0,0,0,0,0,0,0,0,0,0,0,0,0,0,0,0,0,0,0,0]
[null,"'162 Subtotal: Mezzanine Debt Service",null,null,null,null,null,"","",0,0,0,0,0,0,0,0,0,0,0,0,0,0,0,0,0,0,0,0,0,0,0,0,0,0,0,0,0,0,0,0,0,0,0,0,0,0,0,0,0,0,0,0,0,0,0,0,0,0,0,0,0,0,0,0,0,0,0,0,0,0,0,0,0,0,0,0,0,0,0,0,0,0,0,0,0,0,0,0,0,0,0,0,0,0,0,0,0,0,0,0,0,0,0,0,0,0,0,0,0,0,0,0,0,0,0,0,0,0,0,0,0,0,0,0,0,0,0,0,0,0,0,0,0,0,0,0,0,0,0,0,0,0,0,0,0,0,0,0,0,0,0,0,0,0,0]
[null,"'163 Subtotal: Cash Flow Before Mezzanine Sweep",null,null,null,null,null,"","",0,0,0,0,0,0,0,0,0,0,0,0,0,0,0,0,0,0,0,0,0,0,0,0,0,0,0,0,0,0,0,0,0,0,0,0,0,1442.8254858723567,1487.3173418473307,1471.6819957218995,1517.0636888186509,1501.1156357730306,1547.4049627340746,1541.6927678699085,1578.3530618828354,1561.7607074973821,1609.9201232708892,1592.9959218005088,1642.1185258923197,1624.8558403954194,1674.9608965720063,1668.7778331564878,1708.460114445279,1690.5000164596204,1742.6293169111423,1724.3100169692634,1777.4819034333805,1758.7962174962995,1797.8387580216831,1736.4313616026184,1775.8832179382198,1757.6279218798545,1799.3063628861037,1780.5456808373883,1822.9149229613777,1803.6337278220744,1846.7024786953816,1837.460150910505,1870.6275748813741,1850.2574150291284,1894.75064159658,1873.8116077590685,1919.0303646543671,1897.5053017434266,1943.4582195084195,1932.7761315329544,1967.9877014150325,1945.2362342793513,1992.6825311331359,1969.2901727391718,2017.4962376631984,1993.4435198350575,2042.4177799071203,2030.0748930183563,2067.3949408779154,2041.9598515549715,2092.4947479934453,2066.3370201337484,2117.6648839390418,2090.7624328987285,8265.437910956367,8237.4416550153092,8417.1188187571643,8335.7973987438381,8571.8333447123987,8488.8854962979894,8729.6421611850856,-2.4299895909276435E-6,-2.4810193723371242E-6,-2.5331207791562039E-6,-2.5863163155184842E-6,-2.6406289581443725E-6,-2.6960821662654044E-6,-2.7526998917569782E-6,-2.8105065894838745E-6,-2.8695272278630364E-6,0,0,0,0,0,0,0,0,0,0,0,0,0,0,0,0,0,0,0,0,0,0,0,0,0,0,0,0,0,0,0,0,0,0,0,0,0,0,0,0,0]
[null,"'164 Less: Mezzanine Sweep",null,null,null,null,null,0,"",0,0,0,0,0,0,0,0,0,0,0,0,0,0,0,0,0,0,0,0,0,0,0,0,0,0,0,0,0,0,0,0,0,0,0,0,0,0,0,0,0,0,0,0,0,0,0,0,0,0,0,0,0,0,0,0,0,0,0,0,0,0,0,0,0,0,0,0,0,0,0,0,0,0,0,0,0,0,0,0,0,0,0,0,0,0,0,0,0,0,0,0,0,0,0,0,0,0,0,0,0,0,0,0,0,0,0,0,0,0,0,0,0,0,0,0,0,0,0,0,0,0,0,0,0,0,0,0,0,0,0,0,0,0,0,0,0,0,0,0,0,0,0,0,0,0,0]
[null,"'165 Subtotal: Cash Flow Before Shareholder Loan",null,null,null,null,null,"","",0,0,0,0,0,0,0,0,0,0,0,0,0,0,0,0,0,0,0,0,0,0,0,0,0,0,0,0,0,0,0,0,0,0,0,0,0,1442.8254858723567,1487.3173418473307,1471.6819957218995,1517.0636888186509,1501.1156357730306,1547.4049627340746,1541.6927678699085,1578.3530618828354,1561.7607074973821,1609.9201232708892,1592.9959218005088,1642.1185258923197,1624.8558403954194,1674.9608965720063,1668.7778331564878,1708.460114445279,1690.5000164596204,1742.6293169111423,1724.3100169692634,1777.4819034333805,1758.7962174962995,1797.8387580216831,1736.4313616026184,1775.8832179382198,1757.6279218798545,1799.3063628861037,1780.5456808373883,1822.9149229613777,1803.6337278220744,1846.7024786953816,1837.460150910505,1870.6275748813741,1850.2574150291284,1894.75064159658,1873.8116077590685,1919.0303646543671,1897.5053017434266,1943.4582195084195,1932.7761315329544,1967.9877014150325,1945.2362342793513,1992.6825311331359,1969.2901727391718,2017.4962376631984,1993.4435198350575,2042.4177799071203,2030.0748930183563,2067.3949408779154,2041.9598515549715,2092.4947479934453,2066.3370201337484,2117.6648839390418,2090.7624328987285,8265.437910956367,8237.4416550153092,8417.1188187571643,8335.7973987438381,8571.8333447123987,8488.8854962979894,8729.6421611850856,-2.4299895909276435E-6,-2.4810193723371242E-6,-2.5331207791562039E-6,-2.5863163155184842E-6,-2.6406289581443725E-6,-2.6960821662654044E-6,-2.7526998917569782E-6,-2.8105065894838745E-6,-2.8695272278630364E-6,0,0,0,0,0,0,0,0,0,0,0,0,0,0,0,0,0,0,0,0,0,0,0,0,0,0,0,0,0,0,0,0,0,0,0,0,0,0,0,0,0]
[null,"'166 Less: Shareholder Loan Sweep",null,null,null,null,null,0,"",0,0,0,0,0,0,0,0,0,0,0,0,0,0,0,0,0,0,0,0,0,0,0,0,0,0,0,0,0,0,0,0,0,0,0,0,0,0,0,0,0,0,0,0,0,0,0,0,0,0,0,0,0,0,0,0,0,0,0,0,0,0,0,0,0,0,0,0,0,0,0,0,0,0,0,0,0,0,0,0,0,0,0,0,0,0,0,0,0,0,0,0,0,0,0,0,0,0,0,0,0,0,0,0,0,0,0,0,0,0,0,0,0,0,0,0,0,0,0,0,0,0,0,0,0,0,0,0,0,0,0,0,0,0,0,0,0,0,0,0,0,0,0,0,0,0,0]
[null,"'167 Cash Flow After Shareholder Loan",null,null,null,null,null,"","",0,0,0,0,0,0,0,0,0,0,0,0,0,0,0,0,0,0,0,0,0,0,0,0,0,0,0,0,0,0,0,0,0,0,0,0,0,1442.8254858723567,1487.3173418473307,1471.6819957218995,1517.0636888186509,1501.1156357730306,1547.4049627340746,1541.6927678699085,1578.3530618828354,1561.7607074973821,1609.9201232708892,1592.9959218005088,1642.1185258923197,1624.8558403954194,1674.9608965720063,1668.7778331564878,1708.460114445279,1690.5000164596204,1742.6293169111423,1724.3100169692634,1777.4819034333805,1758.7962174962995,1797.8387580216831,1736.4313616026184,1775.8832179382198,1757.6279218798545,1799.3063628861037,1780.5456808373883,1822.9149229613777,1803.6337278220744,1846.7024786953816,1837.460150910505,1870.6275748813741,1850.2574150291284,1894.75064159658,1873.8116077590685,1919.0303646543671,1897.5053017434266,1943.4582195084195,1932.7761315329544,1967.9877014150325,1945.2362342793513,1992.6825311331359,1969.2901727391718,2017.4962376631984,1993.4435198350575,2042.4177799071203,2030.0748930183563,2067.3949408779154,2041.9598515549715,2092.4947479934453,2066.3370201337484,2117.6648839390418,2090.7624328987285,8265.437910956367,8237.4416550153092,8417.1188187571643,8335.7973987438381,8571.8333447123987,8488.8854962979894,8729.6421611850856,-2.4299895909276435E-6,-2.4810193723371242E-6,-2.5331207791562039E-6,-2.5863163155184842E-6,-2.6406289581443725E-6,-2.6960821662654044E-6,-2.7526998917569782E-6,-2.8105065894838745E-6,-2.8695272278630364E-6,0,0,0,0,0,0,0,0,0,0,0,0,0,0,0,0,0,0,0,0,0,0,0,0,0,0,0,0,0,0,0,0,0,0,0,0,0,0,0,0,0]
[null,"'168 Plus: Proceeds from Re-financing",null,null,null,null,null,"","",0,0,0,0,0,0,0,0,0,0,0,0,0,0,0,0,0,0,0,0,0,0,0,0,0,0,0,0,0,0,0,0,0,0,0,0,0,0,0,0,0,0,0,0,0,0,0,0,0,0,0,0,0,0,0,0,0,0,0,0,0,0,0,0,0,0,0,0,0,0,0,0,0,0,0,0,0,0,0,0,0,0,0,0,0,0,0,0,0,0,0,0,0,0,0,0,0,0,0,0,0,0,0,0,0,0,0,0,0,0,0,0,0,0,0,0,0,0,0,0,0,0,0,0,0,0,0,0,0,0,0,0,0,0,0,0,0,0,0,0,0,0,0,0,0,0,0]
[null,"'169 Less: Re-financing Fees",null,null,null,null,null,"","",0,0,0,0,0,0,0,0,0,0,0,0,0,0,0,0,0,0,0,0,0,0,0,0,0,0,0,0,0,0,0,0,0,0,0,0,0,0,0,0,0,0,0,0,0,0,0,0,0,0,0,0,0,0,0,0,0,0,0,0,0,0,0,0,0,0,0,0,0,0,0,0,0,0,0,0,0,0,0,0,0,0,0,0,0,0,0,0,0,0,0,0,0,0,0,0,0,0,0,0,0,0,0,0,0,0,0,0,0,0,0,0,0,0,0,0,0,0,0,0,0,0,0,0,0,0,0,0,0,0,0,0,0,0,0,0,0,0,0,0,0,0,0,0,0,0,0]
[null,"'170 Less: Early Repayment of Existing Debt",null,null,null,null,null,"","",0,0,0,0,0,0,0,0,0,0,0,0,0,0,0,0,0,0,0,0,0,0,0,0,0,0,0,0,0,0,0,0,0,0,0,0,0,0,0,0,0,0,0,0,0,0,0,0,0,0,0,0,0,0,0,0,0,0,0,0,0,0,0,0,0,0,0,0,0,0,0,0,0,0,0,0,0,0,0,0,0,0,0,0,0,0,0,0,0,0,0,0,0,0,0,0,0,0,0,0,0,0,0,0,0,0,0,0,0,0,0,0,0,0,0,0,0,0,0,0,0,0,0,0,0,0,0,0,0,0,0,0,0,0,0,0,0,0,0,0,0,0,0,0,0,0,0]
[null,"'171 Common Dividends",null,null,null,null,null,"","",0,0,0,0,0,0,0,0,0,0,0,0,0,0,0,0,0,0,0,0,0,0,0,0,0,0,0,0,0,0,0,0,0,0,0,0,-4122.3585323188272,1315.7058972924688,1531.989759320586,1342.0200153624755,1562.6295546332967,1368.8604157982008,1563.7255194472782,1436.9490705904918,1625.7597886602025,1424.1623766191506,1658.2749845739863,1452.6456242947124,1691.4404844112933,1481.6985369291369,1692.6267919881839,1555.3998864675141,1759.7746800636523,1541.5591579080628,1794.9701738293961,1572.3903412339387,1830.869577477004,1647.2461332231269,1973.2884325095793,1623.7117720310316,1828.0412066391609,1638.5466617718803,1852.9083115573076,1659.4907032468836,1878.0040518890928,1680.5801538015066,1873.1091294556409,1742.6960823305872,1928.828031555242,1723.1339104463996,1954.5764525112554,1744.6151593784634,1980.530544347268,1766.2112508737409,1973.9784708007728,1832.1716460479984,2032.9918931719667,1809.6753860038853,2059.5178407672183,1831.5585585437266,2086.2182885338752,1853.5170623542281,2077.6831709357084,1923.4461847207549,2140.0666245822113,1897.5744330157295,2167.2311132265413,1919.6859805401946,2194.5290954748107,8064.3693236998824,8265.4379110004884,8237.4416550603564,8417.1188188031574,8335.7973987907972,8571.8333447603436,8488.8854963469421,8729.6421612350659,-2.3789598095181629E-6,-2.4289179655180445E-6,-2.4799252427939236E-6,-2.532003672892596E-6,-2.5851757500233406E-6,-2.6394644407738307E-6,-2.6948931940300819E-6,-2.7514859511047125E-6,-5.7390544557260727E-6,0,0,0,0,0,0,0,0,0,0,0,0,0,0,0,0,0,0,0,0,0,0,0,0,0,0,0,0,0,0,0,0,0,0,0,0,0,0,0,0,0]
[".","'172 Balance Sheet Section",null,null,null,null,null,"","","","","","","","","","","","","","","","","","","","","","","","","","","","","","","","","","","","","","","Operation","Operation","Operation","Operation","Operation","Operation","Operation","Operation","Operation","Operation","Operation","Operation","Operation","Operation","Operation","Operation","Operation","Operation","Operation","Operation","Operation","Operation","Operation","Operation","Operation","Operation","Operation","Operation","Operation","Operation","Operation","Operation","Operation","Operation","Operation","Operation","Operation","Operation","Operation","Operation","Operation","Operation","Operation","Operation","Operation","Operation","Operation","Operation","Operation","Operation","Operation","Operation","Operation","Operation","Operation","Operation","Operation","Operation","Operation","Operation","Operation","Operation","Operation","Operation","Operation","Operation","Operation","Operation","Operation","Operation",0,0,0,0,0,0,0,0,0,0,0,0,0,0,0,0,0,0,0,0,0,0,0,0,0,0,0,0,0,0,0,0,0,0,0,0,0,0,0,0,0]
[null,"'173 Net Equity Paid In Capital",null,null,null,null,null,"","",35280.36881432822,35819.099040598463,36439.624540753612,37146.462356058146,37942.523421804377,38828.78083695731,39803.996065369574,40864.527831797954,42004.244941744451,43214.558435575993,44484.580745777654,45801.410476328849,47150.531878014721,48516.308977079643,49882.546553993314,51233.084579577458,52552.389896744193,53826.109192800708,55041.550610341474,56188.067334334613,57257.324526421078,58243.440213022259,59143.000238188193,59954.956254569865,60680.423163881169,61322.397859112709,61885.42425071873,62375.230334617409,62798.361684629395,63161.83262450726,63472.811978810241,63738.355290560197,63965.19027778395,64159.557551855949,64327.104590851086,64472.827867877473,64472.827867877473,64472.827867877473,64472.827867877473,64472.827867877473,64472.827867877473,64472.827867877473,64472.827867877473,64472.827867877473,64472.827867877473,64472.827867877473,64472.827867877473,64472.827867877473,64472.827867877473,64472.827867877473,64472.827867877473,64472.827867877473,64472.827867877473,64472.827867877473,64472.827867877473,64472.827867877473,64472.827867877473,64472.827867877473,64472.827867877473,64472.827867877473,64472.827867877473,64472.827867877473,64472.827867877473,64472.827867877473,64472.827867877473,64472.827867877473,64472.827867877473,64472.827867877473,64472.827867877473,64472.827867877473,64472.827867877473,64472.827867877473,64472.827867877473,64472.827867877473,64472.827867877473,64472.827867877473,64472.827867877473,64472.827867877473,64472.827867877473,64472.827867877473,64472.827867877473,64472.827867877473,64472.827867877473,64472.827867877473,64472.827867877473,64472.827867877473,64472.827867877473,64472.827867877473,64472.827867877473,64472.827867877473,64472.827867877473,64472.827867877473,64472.827867877473,64472.827867877473,64472.827867877473,64472.827867877473,64472.827867877473,64472.827867877473,64472.827867877473,64472.827867877473,64472.827867877473,64472.827867877473,64472.827867877473,64472.827867877473,64472.827867877473,64472.827867877473,0,0,0,0,0,0,0,0,0,0,0,0,0,0,0,0,0,0,0,0,0,0,0,0,0,0,0,0,0,0,0,0,0,0,0,0,0,0,0,0,0]
[null,"'174 Retained Earnings",null,null,null,null,null,"","",0,0,0,0,0,0,0,0,0,0,0,0,0,0,0,0,0,0,0,0,0,0,0,0,0,0,0,0,0,0,0,0,0,0,0,0,-1928.2184527315603,-3777.7182362356343,-5650.0155933121896,-7368.2059719594299,-9107.8661415585302,-10688.522689654568,-12259.075994421502,-13695.724588593084,-15344.029280727857,-16824.324818242996,-18322.878817762386,-19647.883767744326,-20989.292312476402,-22151.419719510941,-23295.333353276033,-24286.677187490328,-25464.633482721405,-26451.816749662932,-27449.695981360084,-28250.24657634156,-29058.912789593196,-29706.862325855203,-30481.178278828149,-31090.518934976375,-31853.381240217535,-32443.947824130861,-33034.879709789107,-33447.901294676063,-33859.088364666321,-34086.560665551231,-34279.661408948072,-34313.359407913165,-34339.816315329459,-34170.343851804748,-33991.668619468539,-33610.649165032431,-33217.702355591544,-32615.778856711884,-31966.353139164756,-31133.904819046405,-30282.952718587385,-29209.065435949666,-28114.169356314069,-26789.006051558536,-25439.489480683973,-23852.124189540144,-22201.48882245375,-20340.681579482211,-18447.569019505816,-16300.650320181103,-14118.275535780554,-11673.711125974411,-9189.6154955452876,-12557.207370616976,-15801.933651871188,-19046.659933126324,-22291.386214382408,-25536.112495639456,-28780.838776897494,-32025.565058156535,-35270.291339416603,-38515.017620677718,-41759.74390193991,-45004.470183203201,-48249.196464467605,-51493.922745733144,-54738.649026999854,-57983.37530826775,-61228.101589536862,-64472.827867877422,0,0,0,0,0,0,0,0,0,0,0,0,0,0,0,0,0,0,0,0,0,0,0,0,0,0,0,0,0,0,0,0,0,0,0,0,0,0,0,0,0]
[null,"'175 Shareholder Loan Balance",null,null,null,null,null,"","",0,0,0,0,0,0,0,0,0,0,0,0,0,0,0,0,0,0,0,0,0,0,0,0,0,0,0,0,0,0,0,0,0,0,0,0,0,0,0,0,0,0,0,0,0,0,0,0,0,0,0,0,0,0,0,0,0,0,0,0,0,0,0,0,0,0,0,0,0,0,0,0,0,0,0,0,0,0,0,0,0,0,0,0,0,0,0,0,0,0,0,0,0,0,0,0,0,0,0,0,0,0,0,0,0,0,0,0,0,0,0,0,0,0,0,0,0,0,0,0,0,0,0,0,0,0,0,0,0,0,0,0,0,0,0,0,0,0,0,0,0,0,0,0,0,0,0]
[null,"'176 Equity Bridge Loan Balance",null,null,null,null,null,false,"",0,0,0,0,0,0,0,0,0,0,0,0,0,0,0,0,0,0,0,0,0,0,0,0,0,0,0,0,0,0,0,0,0,0,0,0,0,0,0,0,0,0,0,0,0,0,0,0,0,0,0,0,0,0,0,0,0,0,0,0,0,0,0,0,0,0,0,0,0,0,0,0,0,0,0,0,0,0,0,0,0,0,0,0,0,0,0,0,0,0,0,0,0,0,0,0,0,0,0,0,0,0,0,0,0,0,0,0,0,0,0,0,0,0,0,0,0,0,0,0,0,0,0,0,0,0,0,0,0,0,0,0,0,0,0,0,0,0,0,0,0,0,0,0,0,0,0]
[null,"'177 Mezzanine Debt Balance",null,null,null,null,null,"","",0,0,0,0,0,0,0,0,0,0,0,0,0,0,0,0,0,0,0,0,0,0,0,0,0,0,0,0,0,0,0,0,0,0,0,0,0,0,0,0,0,0,0,0,0,0,0,0,0,0,0,0,0,0,0,0,0,0,0,0,0,0,0,0,0,0,0,0,0,0,0,0,0,0,0,0,0,0,0,0,0,0,0,0,0,0,0,0,0,0,0,0,0,0,0,0,0,0,0,0,0,0,0,0,0,0,0,0,0,0,0,0,0,0,0,0,0,0,0,0,0,0,0,0,0,0,0,0,0,0,0,0,0,0,0,0,0,0,0,0,0,0,0,0,0,0,0]
[null,"'178 Senior Debt Balance",null,null,null,null,null,"","",0,0,0,0,0,0,0,0,0,0,0,0,0,0,0,0,0,0,0,0,0,0,0,0,0,0,0,0,0,0,0,0,0,0,0,0,165463.86252066909,164195.75561154296,162778.65426993617,161381.78034773274,159831.14837030711,158299.33385716789,156608.84032401154,154905.50633425245,153261.67801839978,151634.84560558305,149840.31846258926,148060.9474288669,146108.30773386991,144168.86616316065,142050.38762029947,139910.38311999265,137792.29856839526,135683.69641267826,133384.50850624708,131092.25249575378,128602.8047537517,126117.57809307679,123471.71809035176,120949.05205486147,118415.03009019161,115879.95165300282,113172.55530877977,110461.90559004714,107573.27724989959,104679.07684359499,101601.04465502148,98484.780441356401,95208.310610888744,91921.235370736671,88438.008046275703,84941.458759010115,81242.285488666239,77526.929759446182,73602.257509396615,69625.687393553133,65465.004820127091,61281.952104554752,56875.494434074986,52443.336462304811,47780.371559349478,43088.206444476389,38157.579405151322,33158.674589267292,27948.164064376509,22700.904502380952,17199.067071537218,11656.427420114538,5850.7412969395564,0,0,0,0,0,0,0,0,0,0,0,0,0,0,0,0,0,0,0,0,0,0,0,0,0,0,0,0,0,0,0,0,0,0,0,0,0,0,0,0,0,0,0,0,0,0,0,0,0,0,0,0,0,0,0,0,0,0]
[null,"'179 Total Debt",null,null,null,null,null,"","",15359.141771011404,18077.458633511906,21208.496857117578,24775.048460612899,28791.801397456551,33263.665715751406,38184.39202845838,43535.607243794686,49286.374672900834,55393.356272613557,61801.615718737172,68446.055341531071,75253.43179221965,82144.849309910438,89038.590299803414,95853.114730046829,102510.04563054153,108936.95927226811,115069.81527227351,120854.89209161447,126250.13392842424,131225.86160900415,135764.84803667985,139861.80347618568,143522.3534817984,146761.61973103514,149602.52981883261,152073.98598072858,154209.01577452815,156043.01196938343,157612.14691228999,158952.02135596817,160096.58191871564,161077.31738341946,161922.72370989667,162658.01202690738,165463.86252066909,164195.75561154296,162778.65426993617,161381.78034773274,159831.14837030711,158299.33385716789,156608.84032401154,154905.50633425245,153261.67801839978,151634.84560558305,149840.31846258926,148060.9474288669,146108.30773386991,144168.86616316065,142050.38762029947,139910.38311999265,137792.29856839526,135683.69641267826,133384.50850624708,131092.25249575378,128602.8047537517,126117.57809307679,123471.71809035176,120949.05205486147,118415.03009019161,115879.95165300282,113172.55530877977,110461.90559004714,107573.27724989959,104679.07684359499,101601.04465502148,98484.780441356401,95208.310610888744,91921.235370736671,88438.008046275703,84941.458759010115,81242.285488666239,77526.929759446182,73602.257509396615,69625.687393553133,65465.004820127091,61281.952104554752,56875.494434074986,52443.336462304811,47780.371559349478,43088.206444476389,38157.579405151322,33158.674589267292,27948.164064376509,22700.904502380952,17199.067071537218,11656.427420114538,5850.7412969395564,0,0,0,0,0,0,0,0,0,0,0,0,0,0,0,0,0,0,0,0,0,0,0,0,0,0,0,0,0,0,0,0,0,0,0,0,0,0,0,0,0,0,0,0,0,0,0,0,0,0,0,0,0,0,0,0,0,0]
[null,"'180 Total Capitalisation",null,null,null,null,null,"","",50639.510585339624,53896.557674110372,57648.121397871189,61921.510816671042,66734.324819260932,72092.446552708716,77988.388093827962,84400.13507559264,91290.619614645286,98607.91470818955,106286.19646451483,114247.46581785992,122403.96367023437,130661.15828699007,138921.13685379672,147086.19930962429,155062.43552728574,162763.06846506882,170111.36588261498,177042.95942594908,183507.45845484533,189469.30182202641,194907.84827486804,199816.75973075556,204202.77664567958,208084.01759014785,211487.95406955134,214449.21631534598,217007.37745915755,219204.84459389068,221084.95889110022,222690.37664652837,224061.7721964996,225236.87493527541,226249.82830074776,227130.83989478485,228008.471935815,224890.86524318479,221601.46654450145,218486.40224365078,215196.11009662604,212083.63903539078,208822.59219746751,205682.60961353683,202390.4766055494,199283.3486552175,195990.26751270433,192885.89152900004,189591.84328927097,186490.27431152717,183227.88213490089,180096.53380037978,176800.49295355132,173704.7075308928,170407.64039276447,167314.83378728968,164016.71983203597,160883.54363509905,157463.36767940107,154331.36098776257,151034.47671785153,147908.83169674943,144610.50346686813,141486.83216324856,138187.01675311074,135065.34404592123,131794.21111395088,128644.24890132071,125341.32216343677,122223.7193868094,118919.16729468462,115803.63746185516,112497.41100095215,109383.97877061176,106108.73223810933,102964.6104423842,99654.879969417176,96545.714536482556,93234.152945638387,90127.158278623741,86813.709946542978,83708.910122813715,80428.91845057506,77290.82087766254,73973.422912748167,70873.082050077326,67553.619403634133,64455.544162017599,61133.953669271745,51915.620497260497,48670.894216006287,45426.167934751153,42181.441653495065,38936.715372238017,35691.98909097998,32447.262809720938,29202.536528460871,25957.810247199755,22713.083965937563,19468.357684674273,16223.631403409869,12978.90512214433,9734.1788408776192,6489.4525596097228,3244.7262783406113,5.0931703299283981E-11,0,0,0,0,0,0,0,0,0,0,0,0,0,0,0,0,0,0,0,0,0,0,0,0,0,0,0,0,0,0,0,0,0,0,0,0,0,0,0,0,0]
[null,"'181 DSRA Balance",null,null,null,null,null,"","",0,0,0,0,0,0,0,0,0,0,0,0,0,0,0,0,0,0,0,0,0,0,0,0,0,0,0,0,0,0,0,0,0,0,0,0,4122.3585412940374,4249.4781295647317,4204.8057119878231,4334.4676920216516,4288.9018260908861,4421.1570457230337,4404.8364888419837,4509.5801867434166,4462.173459825839,4599.7717903278863,4551.4169288691755,4691.7672259784322,4642.4452672876614,4785.6025703361629,4767.9366746893629,4881.3146218010543,4830.0000559738564,4978.9409140601201,4926.600056912881,5078.519732157305,5025.1320578634914,5136.682173303323,4961.232471573383,5073.9520618397237,5021.7940730825794,5140.8753329186029,5087.2733841783684,5208.3283614794509,5153.239232468949,5276.2928061815865,5249.8861552850867,5344.6502235723929,5286.4497667851183,5413.5732710194234,5353.7474599744419,5482.943907984607,5421.4437281433193,5552.7377786192392,5522.2175271172455,5622.8220122215271,5557.8178202760701,5693.3786681067413,5626.5433582620235,5764.2749719849126,5695.5529208799735,5835.4793778588182,5800.2139865253648,5906.8426943307204,5834.1710103398509,5978.5564283127351,5903.8200627642791,6050.471101756425,5973.6068668474691,2.1009911288274452E-6,2.1451119425328213E-6,2.1901592933260105E-6,2.236152638485857E-6,2.2831118438940599E-6,2.331057192615835E-6,2.3800093936607676E-6,2.4299895909276435E-6,2.4810193723371242E-6,2.5331207791562039E-6,2.5863163155184842E-6,2.6406289581443725E-6,2.6960821662654044E-6,2.7526998917569782E-6,2.8105065894838745E-6,2.8695272278630364E-6,0,0,0,0,0,0,0,0,0,0,0,0,0,0,0,0,0,0,0,0,0,0,0,0,0,0,0,0,0,0,0,0,0,0,0,0,0,0,0,0,0,0]
[null,"'182 MRA Balance",null,null,null,null,null,"","",0,0,0,0,0,0,0,0,0,0,0,0,0,0,0,0,0,0,0,0,0,0,0,0,0,0,0,0,0,0,0,0,0,0,0,0,0,0,0,0,0,0,0,0,0,0,0,0,0,0,0,0,0,0,0,0,0,0,0,0,0,0,0,0,0,0,0,0,0,0,0,0,0,0,0,0,0,0,0,0,0,0,0,0,0,0,0,0,0,0,0,0,0,0,0,0,0,0,0,0,0,0,0,0,0,0,0,0,0,0,0,0,0,0,0,0,0,0,0,0,0,0,0,0,0,0,0,0,0,0,0,0,0,0,0,0,0,0,0,0,0,0,0,0,0,0,0]
[null,"'183 Gross Plant Balance",null,null,null,null,null,"","",48064.091971381393,51157.432288375043,54740.30565915312,58839.264487919878,63471.109222219544,68640.897640005496,74340.307447229789,80546.501363223098,87221.622274995068,94313.010667388167,101754.18958941792,109466.60763265079,117362.07270215759,125345.7543458282,133319.58567410058,141185.86236630331,148850.81952566409,156227.96903199307,163241.00034328463,169826.08421127804,175933.4675909417,181528.30403248718,186590.72139258869,191115.1822809322,195109.23754364927,198591.80582786567,201591.13099250937,204142.57358864514,206286.38408007281,208065.58634134679,209524.07343892768,210704.98724749434,211649.42241426249,212395.46640891969,212977.56301535081,213426.16793882629,213426.16793882629,213426.16793882629,213426.16793882629,213426.16793882629,213426.16793882629,213426.16793882629,213426.16793882629,213426.16793882629,213426.16793882629,213426.16793882629,213426.16793882629,213426.16793882629,213426.16793882629,213426.16793882629,213426.16793882629,213426.16793882629,213426.16793882629,213426.16793882629,213426.16793882629,213426.16793882629,213426.16793882629,213426.16793882629,213426.16793882629,213426.16793882629,213426.16793882629,213426.16793882629,213426.16793882629,213426.16793882629,213426.16793882629,213426.16793882629,213426.16793882629,213426.16793882629,213426.16793882629,213426.16793882629,213426.16793882629,213426.16793882629,213426.16793882629,213426.16793882629,213426.16793882629,213426.16793882629,213426.16793882629,213426.16793882629,213426.16793882629,213426.16793882629,213426.16793882629,213426.16793882629,213426.16793882629,213426.16793882629,213426.16793882629,213426.16793882629,213426.16793882629,213426.16793882629,213426.16793882629,213426.16793882629,213426.16793882629,213426.16793882629,213426.16793882629,213426.16793882629,213426.16793882629,213426.16793882629,213426.16793882629,213426.16793882629,213426.16793882629,213426.16793882629,213426.16793882629,213426.16793882629,213426.16793882629,213426.16793882629,213426.16793882629,213426.16793882629,0,0,0,0,0,0,0,0,0,0,0,0,0,0,0,0,0,0,0,0,0,0,0,0,0,0,0,0,0,0,0,0,0,0,0,0,0,0,0,0,0]
[null,"'184 Accumulated Depreciation",null,null,null,null,null,"","",0,0,0,0,0,0,0,0,0,0,0,0,0,0,0,0,0,0,0,0,0,0,0,0,0,0,0,0,0,0,0,0,0,0,0,0,-2400.0000000000009,-4800.0000000000018,-7200.0000000000027,-9600.0000000000036,-12000.000000000004,-14400.000000000004,-16800.000000000004,-19200.000000000004,-21600.000000000004,-24000.000000000004,-26400.000000000004,-28800.000000000004,-31200.000000000004,-33600.000000000007,-36000.000000000007,-38400.000000000007,-40800.000000000007,-43200.000000000007,-45600.000000000007,-48000.000000000007,-50400.000000000007,-52800.000000000007,-55200.000000000007,-57600.000000000007,-60000.000000000007,-62400.000000000007,-64800.000000000007,-67200.000000000015,-69600.000000000015,-72000.000000000015,-74400.000000000015,-76800.000000000015,-79200.000000000015,-81600.000000000015,-84000.000000000015,-86400.000000000015,-88800.000000000015,-91200.000000000015,-93600.000000000015,-96000.000000000015,-98400.000000000015,-100800.00000000001,-103200.00000000001,-105600.00000000001,-108000.00000000001,-110400.00000000001,-112800.00000000001,-115200.00000000001,-117600.00000000001,-120000.00000000001,-122400.00000000001,-124800.00000000001,-127200.00000000001,-129600.00000000001,-132000.00000000003,-134400.00000000003,-136800.00000000003,-139200.00000000003,-141600.00000000003,-144000.00000000003,-146400.00000000003,-148800.00000000003,-151200.00000000003,-153600.00000000003,-156000.00000000003,-158400.00000000003,-160800.00000000003,-163200.00000000003,-165600.00000000003,-168000.00000000003,0,0,0,0,0,0,0,0,0,0,0,0,0,0,0,0,0,0,0,0,0,0,0,0,0,0,0,0,0,0,0,0,0,0,0,0,0,0,0,0,0]
[null,"'185 Net IDC Balance",null,null,null,null,null,"","",0,40.957711140295579,89.16426724144344,145.72025859893722,211.78705422498496,288.56519100765559,377.26829929661517,479.09334440943599,595.18829675230279,726.61862889449878,874.33424529028559,1039.1385535295055,1221.6613674161479,1422.3371851576042,1641.390116265701,1878.8263566662852,2134.4346622004191,2407.7947834557158,2698.2933410758733,3005.1461813501692,3327.4258931308013,3664.0929164650697,4014.0285469371352,4376.068141206727,4749.0329499728768,5131.7592254126794,5523.1235441765803,5922.0636231681483,6327.5942519189994,6738.8182934481683,7154.9329914923628,7575.2320493802117,7999.1041057808661,8426.0283236788728,8855.5678361464179,9287.3617654818154,8505.7399125631291,7724.1180596444428,6942.4962067257566,6160.8743538070703,5379.252500888384,4597.6306479696977,3816.0087950510115,3034.3869421323252,2252.7650892136389,1471.1432362949524,689.52138337626593,-92.100469542420569,-873.72232246110707,-1655.3441753797936,-2436.9660282984801,-3218.5878812171668,-4000.2097341358531,-4781.8315870545393,-5563.4534399732256,-6345.0752928919119,-7126.6971458105982,-7908.3189987292844,-8689.9408516479707,-9471.562704566657,-10253.184557485343,-11034.80641040403,-11816.428263322716,-12598.050116241402,-13379.671969160088,-14161.293822078775,-14942.915674997461,-15724.537527916147,-16506.159380834833,-17287.781233753522,-18069.40308667221,-18851.024939590898,-19632.646792509586,-20414.268645428274,-21195.890498346962,-21977.51235126565,-22759.134204184338,-23540.756057103026,-24322.377910021714,-25103.999762940402,-25885.621615859091,-26667.243468777779,-27448.865321696467,-28230.487174615155,-29012.109027533843,-29793.730880452531,-30575.352733371219,-31356.974586289907,-32138.596439208595,-32920.218292127283,-33701.840145045971,-34483.46199796466,-35265.083850883348,-36046.705703802036,-36828.327556720724,-37609.949409639412,-38391.5712625581,-39173.193115476788,-39954.814968395476,-40736.436821314164,-41518.058674232852,-42299.68052715154,-43081.302380070229,-43862.924232988917,-44644.546085907605,-45426.167938826293,0,0,0,0,0,0,0,0,0,0,0,0,0,0,0,0,0,0,0,0,0,0,0,0,0,0,0,0,0,0,0,0,0,0,0,0,0,0,0,0,0]
[null,"'186 Net Fee Balance",null,null,null,null,null,"","",2575.4185205576664,2698.1675790135696,2818.6513734192067,2936.5259693072358,3051.4284388613414,3162.9836143040025,3270.8122361509481,3374.5402527404372,3473.8089233205369,3568.2852877133464,3657.6725007769087,3741.719497639398,3820.229461487068,3893.0666116301086,3960.160913846074,4021.510431908137,4077.1811796159654,4127.304484910931,4172.072028841877,4211.7288594434049,4246.5647926992033,4276.9046910944899,4303.0981497592147,4325.509119737213,4344.5059601850371,4360.4523422973443,4373.6993358708705,4384.5789043732511,4393.3989260758563,4400.4397562852364,4405.9522563336714,4410.1571439309637,4413.2454694930047,4415.3799945871233,4416.697240128261,4417.309980398195,4354.2055521067923,4291.1011238153897,4227.996695523987,4164.8922672325843,4101.7878389411817,4038.683410649779,3975.5789823583764,3912.4745540669737,3849.3701257755711,3786.2656974841684,3723.1612691927658,3660.0568409013631,3596.9524126099604,3533.8479843185578,3470.7435560271551,3407.6391277357525,3344.5346994443498,3281.4302711529472,3218.3258428615445,3155.2214145701419,3092.1169862787392,3029.0125579873365,2965.9081296959339,2902.8037014045312,2839.6992731131286,2776.5948448217259,2713.4904165303233,2650.3859882389206,2587.281559947518,2524.1771316561153,2461.0727033647127,2397.96827507331,2334.8638467819073,2271.7594184905047,2208.654990199102,2145.5505619076994,2082.4461336162967,2019.3417053248938,1956.237277033491,1893.1328487420881,1830.0284204506852,1766.9239921592823,1703.8195638678794,1640.7151355764765,1577.6107072850737,1514.5062789936708,1451.4018507022679,1388.297422410865,1325.1929941194621,1262.0885658280592,1198.9841375366564,1135.8797092452535,1072.7752809538506,1009.6708526624478,946.56642437104506,883.46199607964229,820.35756778823952,757.25313949683675,694.14871120543398,631.04428291403121,567.93985462262845,504.83542633122568,441.73099803982291,378.62656974842014,315.52214145701737,252.41771316561457,189.31328487421177,126.20885658280898,63.10442829140618,3.3821834222180769E-12,0,0,0,0,0,0,0,0,0,0,0,0,0,0,0,0,0,0,0,0,0,0,0,0,0,0,0,0,0,0,0,0,0,0,0,0,0,0,0,0,0]
[null,"'187 Total Net Assets",null,null,null,null,null,"","",50639.510491939058,53896.557578528911,57648.121299813771,61921.510715826051,66734.324715305876,72092.446445317153,77988.387982677348,84400.134960372976,91290.619495067906,98607.914583996011,106286.19633548512,114247.4656838197,122403.9635310608,130661.15814261591,138921.13670421235,147086.19915487772,155062.43536748047,162763.06830035971,170111.36571320237,177042.95925207163,183507.45827677171,189469.30164004673,194907.84808928505,199816.75954187615,204202.77645380719,208084.01739557571,211487.95387255683,214449.21611618655,217007.37725806766,219204.8443910802,221084.9586867537,222690.37644080553,224061.77198953636,225236.8747271857,226249.82809162547,227130.8396847063,228008.47194479025,224890.86525185083,221601.46655306386,218486.4022518876,215196.11010474674,212083.63904316878,208822.59220507764,205682.60962176899,202390.47661364134,199283.34866293328,195990.26752026449,192885.89153616366,189591.84329626278,186490.2743181012,183227.88214124431,180096.53380714593,176800.49296010865,173704.70753698482,170407.6403986275,167314.83379266178,164016.7198371579,160883.54367138766,157463.36768844762,154331.36099750389,151034.47672753665,147908.83170616257,144610.50347621227,141486.83217230323,138187.01676208264,135065.34405458521,131794.21112247859,128644.24890955583,125341.32217155847,122223.71939458269,118919.16730232761,115803.63746912767,112497.41100807631,109383.97877734213,106108.73224463004,102964.61044852424,99654.879975368691,96545.714541989262,93234.152950934455,90127.15828344725,86813.709951132216,83708.910126900984,80428.918454357452,77290.820880952699,73973.42291575174,70873.082052514539,67553.619405755977,64455.544163538041,61133.953647419003,51915.620501462414,48670.894220296454,45426.167939131388,42181.441657967298,38936.715376804183,35691.989095642013,32447.262814480884,29202.536533320781,25957.8102521617,22713.083971003722,19468.357689846835,16223.631408691066,12978.905127536409,9734.1788463829453,6489.4525652306411,3244.7262840795797,-2.9103830456733704E-11,0,0,0,0,0,0,0,0,0,0,0,0,0,0,0,0,0,0,0,0,0,0,0,0,0,0,0,0,0,0,0,0,0,0,0,0,0,0,0,0,0]
[".","'188 Cash Flow Analysis Section",null,null,null,null,null,"","","","","","","","","","","","","","","","","","","","","","","","","","","","","","","","","","","","","","","Operation","Operation","Operation","Operation","Operation","Operation","Operation","Operation","Operation","Operation","Operation","Operation","Operation","Operation","Operation","Operation","Operation","Operation","Operation","Operation","Operation","Operation","Operation","Operation","Operation","Operation","Operation","Operation","Operation","Operation","Operation","Operation","Operation","Operation","Operation","Operation","Operation","Operation","Operation","Operation","Operation","Operation","Operation","Operation","Operation","Operation","Operation","Operation","Operation","Operation","Operation","Operation","Operation","Operation","Operation","Operation","Operation","Operation","Operation","Operation","Operation","Operation","Operation","Operation","Operation","Operation","Operation","Operation","Operation","Operation",0,0,0,0,0,0,0,0,0,0,0,0,0,0,0,0,0,0,0,0,0,0,0,0,0,0,0,0,0,0,0,0,0,0,0,0,0,0,0,0,0]
[null,"'189 Pre tax cash flow",null,null,null,null,null,"","",-2637.9240325551682,-3093.3403169936519,-3582.8733707780793,-4098.9588287667539,-4631.8447342996697,-5169.7884177859505,-5699.4098072242987,-6206.1939159933036,-6675.1209117719745,-7091.3883923931016,-7441.1789220297569,-7712.4180432328667,-7895.4650695067921,-7983.6816436706113,-7973.8313282723811,-7866.276692202724,-7664.9571593607852,-7377.1495063289867,-7013.031311291561,-6585.0838679934041,-6107.3833796636472,-5594.8364415454753,-5062.4173601015045,-4524.4608883435185,-3994.0552627170587,-3482.5682842163874,-2999.3251646437052,-2551.4425961357783,-2143.8104914276701,-1779.2022612739834,-1458.4870975808756,-1180.9138085666771,-944.43516676814841,-746.04399465720212,-582.09660643111908,-448.60492347546119,0,5565.1840271663941,5736.7954714120624,5676.4877077097226,5851.5313808403025,5790.0174618639167,5968.5620084571083,5946.5292567118922,6087.933248626252,6023.9341673232211,6209.6919135987755,6144.4128506696843,6333.8857518707518,6267.3011076830808,6460.5634669081692,6436.7145078458507,6589.7747362463333,6520.5000724334768,6721.5702309712624,6650.9100738821444,6856.0016355906855,6783.9282753597909,6993.1216683025004,6967.3067880309245,7132.9841016685514,7057.9989776843286,7275.6437837019257,7199.1589572380144,7421.1566593759617,7343.1421363827767,7569.5797925634834,7541.6369359509763,7720.9713884147532,7639.8050786926424,7875.3908161830495,7792.6011802664971,8032.8986325067126,7948.4532038718262,8193.5566051568476,8163.3103585172039,8357.4277372599863,8269.5707133082524,8524.576292005182,8434.9621275744157,8695.0678178452908,8603.6613701259066,8868.9691742021932,8836.2296641201538,9046.3485576862404,8951.2492894789902,9227.275528839964,9130.2742752685735,9411.8210394167654,9312.8797607739452,9600.057460205102,9564.6191615896569,9792.058609409205,9689.1201031092151,9987.8997815973889,9882.9025051713998,10187.657777229335,0,0,0,0,0,0,0,0,0,0,0,0,0,0,0,0,0,0,0,0,0,0,0,0,0,0,0,0,0,0,0,0,0,0,0,0,0,0,0,0,0,0,0,0,0,0,0,0,0,0]
[null,"'190 After tax cash flow",null,null,null,null,null,"","",-2637.9240325551682,-3093.3403169936519,-3582.8733707780793,-4098.9588287667539,-4631.8447342996697,-5169.7884177859505,-5699.4098072242987,-6206.1939159933036,-6675.1209117719745,-7091.3883923931016,-7441.1789220297569,-7712.4180432328667,-7895.4650695067921,-7983.6816436706113,-7973.8313282723811,-7866.276692202724,-7664.9571593607852,-7377.1495063289867,-7013.031311291561,-6585.0838679934041,-6107.3833796636472,-5594.8364415454753,-5062.4173601015045,-4524.4608883435185,-3994.0552627170587,-3482.5682842163874,-2999.3251646437052,-2551.4425961357783,-2143.8104914276701,-1779.2022612739834,-1458.4870975808756,-1180.9138085666771,-944.43516676814841,-746.04399465720212,-582.09660643111908,-448.60492347546119,504.00000000000017,4900.4953814614519,5036.0684224155293,4988.425289090681,5126.7097908638389,5078.1137948724945,5219.1639866811156,5201.7581128023949,5313.4672664147392,5262.9079921853445,5409.656611743033,5358.0861520290509,5507.769743977894,5455.1678750696337,5607.845138857454,5589.0044611982221,5709.9220416346034,5655.1950572224468,5814.0404824672978,5758.2189583668942,5920.2412921166415,5863.3033375342347,6028.5661179589752,6008.1723625444301,6139.0574403181563,6079.8191923706199,6251.7585891245217,6191.3355762180317,6366.7137609070105,6305.0822877423943,6483.9680361251521,6461.8931794012715,6603.5673968476549,6539.4460121671873,6725.5587447846092,6660.1549324105326,6849.9899196803035,6783.2780310587432,6976.90971807391,6953.015183228591,7106.3679124353894,7036.9608635135191,7238.4152706840941,7167.6200807837886,7373.1035760977802,7300.8924823994666,7510.4856476197328,7484.6214346549223,7650.6153605721302,7575.486938688402,7793.5476677835723,7716.9166774621735,7939.3386211392444,7861.1750110114172,8088.0453935620308,8060.0491376558293,8239.726301433273,8158.4048814562802,8394.4408274619382,8311.4929790854058,8552.2496440111754,504.00000000000017,504.00000000000017,504.00000000000017,504.00000000000017,504.00000000000017,504.00000000000017,504.00000000000017,504.00000000000017,504.00000000000017,0,0,0,0,0,0,0,0,0,0,0,0,0,0,0,0,0,0,0,0,0,0,0,0,0,0,0,0,0,0,0,0,0,0,0,0,0,0,0,0,0]
[null,"'191 Pre tax debt cash flow",null,null,null,null,null,"","",-12783.723157053177,-2554.6100907234049,-2962.3478706229284,-3392.1210134622183,-3835.7836685534376,-4283.5310026330199,-4724.1945788120374,-5145.6621495649279,-5535.4038018254769,-5881.0748985615592,-6171.1566118280953,-6395.5883126816716,-6546.3436678209209,-6617.904544605688,-6607.5937513587123,-6515.7386666185776,-6345.6518421940491,-6103.4302102724696,-5797.5898937507918,-5438.5671440002625,-5038.1261875771834,-4608.7207549442937,-4162.8573349355711,-3712.5048719618499,-3268.5883534057521,-2840.5935889848488,-2436.2987730376826,-2061.6365122370976,-1720.6791414156833,-1415.731321396119,-1147.5077432778958,-915.37049681672306,-717.60017954439354,-551.6767205852052,-414.54956743598336,-302.88164644907209,0,4122.3585412940374,4249.4781295647317,4204.8057119878231,4334.4676920216516,4288.9018260908861,4421.1570457230337,4404.8364888419837,4509.5801867434166,4462.173459825839,4599.7717903278863,4551.4169288691755,4691.7672259784322,4642.4452672876614,4785.6025703361629,4767.9366746893629,4881.3146218010543,4830.0000559738564,4978.9409140601201,4926.600056912881,5078.519732157305,5025.1320578634914,5136.682173303323,4961.232471573383,5073.9520618397237,5021.7940730825794,5140.8753329186029,5087.2733841783684,5208.3283614794509,5153.239232468949,5276.2928061815865,5249.8861552850867,5344.6502235723929,5286.4497667851183,5413.5732710194234,5353.7474599744419,5482.943907984607,5421.4437281433193,5552.7377786192392,5522.2175271172455,5622.8220122215271,5557.8178202760701,5693.3786681067413,5626.5433582620235,5764.2749719849126,5695.5529208799735,5835.4793778588182,5800.2139865253648,5906.8426943307204,5834.1710103398509,5978.5564283127351,5903.8200627642791,6050.471101756425,5973.6068668474691,2.1009911288274452E-6,2.1451119425328213E-6,2.1901592933260105E-6,2.236152638485857E-6,2.2831118438940599E-6,2.331057192615835E-6,2.3800093936607676E-6,2.4299895909276435E-6,2.4810193723371242E-6,2.5331207791562039E-6,2.5863163155184842E-6,2.6406289581443725E-6,2.6960821662654044E-6,2.7526998917569782E-6,2.8105065894838745E-6,2.8695272278630364E-6,0,0,0,0,0,0,0,0,0,0,0,0,0,0,0,0,0,0,0,0,0,0,0,0,0,0,0,0,0,0,0,0,0,0,0,0,0,0,0,0,0]
[null,"'192 Debt tax shield",null,null,null,null,null,"","",0,0,0,0,0,0,0,0,0,0,0,0,0,0,0,0,0,0,0,0,0,0,0,0,0,0,0,0,0,0,0,0,0,0,0,0,766.62116686058118,776.78536180937965,772.19164452528639,767.0581949088421,761.99801911928228,756.38085477396794,750.83185669312047,744.70804386152611,779.20041194117198,772.81413892603393,766.49389499427764,759.52215703495108,752.60930056022198,745.023295335581,737.48856482386611,729.25827567445253,757.67083379688893,748.8860781080574,740.14065065619366,730.60476880223337,721.09763698671588,710.77265246372156,700.46517487555764,689.49147063157091,710.77783945978774,699.602802591814,688.42310668018479,676.48348879772482,664.52952353381818,651.79067254862969,639.02724875181559,625.45312679432004,611.71040160611176,597.26116964705898,582.76516783139368,567.4041353229776,551.98435295867148,535.67099882800244,519.28628005374867,501.97847542160838,484.44180120117034,466.09319104190155,447.64592855578331,428.21345021740649,408.66763355033083,388.10395831556411,367.41151014620567,345.66744488879965,323.62227463650606,300.64392320641997,277.50350852260885,253.2404054358548,228.79736455622179,203.19428873478049,177.39251949532687,177.39251950459223,177.3925195140522,177.3925195237108,177.39251953357223,177.39251954364076,177.39251955392072,177.39251956441655,177.39251957513281,177.39251958607412,177.39251959724515,177.39251960865082,177.39251962029601,177.3925196321857,177.39251964432512,177.39251965671946,0,0,0,0,0,0,0,0,0,0,0,0,0,0,0,0,0,0,0,0,0,0,0,0,0,0,0,0,0,0,0,0,0,0,0,0,0,0,0,0,0]
[null,"'193 After tax debt cash flow",null,null,null,null,null,"","",-12783.723157053177,-2554.6100907234049,-2962.3478706229284,-3392.1210134622183,-3835.7836685534376,-4283.5310026330199,-4724.1945788120374,-5145.6621495649279,-5535.4038018254769,-5881.0748985615592,-6171.1566118280953,-6395.5883126816716,-6546.3436678209209,-6617.904544605688,-6607.5937513587123,-6515.7386666185776,-6345.6518421940491,-6103.4302102724696,-5797.5898937507918,-5438.5671440002625,-5038.1261875771834,-4608.7207549442937,-4162.8573349355711,-3712.5048719618499,-3268.5883534057521,-2840.5935889848488,-2436.2987730376826,-2061.6365122370976,-1720.6791414156833,-1415.731321396119,-1147.5077432778958,-915.37049681672306,-717.60017954439354,-551.6767205852052,-414.54956743598336,-302.88164644907209,-766.62116686058118,3345.5731794846579,3477.2864850394453,3437.7475170789812,3572.4696729023694,3532.5209713169179,3670.3251890299134,3660.1284449804575,3730.3797748022444,3689.359320899805,3833.2778953336087,3791.8947718342242,3939.1579254182102,3897.4219719520806,4048.1140055122969,4038.6783990149106,4123.6437880041649,4081.1139778657989,4238.8002634039267,4195.9952881106474,4357.4220951705893,4314.3594053997695,4436.2169984277652,4271.7410009418118,4363.1742223799356,4322.1912704907654,4452.452226238418,4410.7898953806434,4543.7988379456328,4501.448559920319,4637.2655574297705,4624.4330284907664,4732.9398219662808,4689.1885971380598,4830.8081031880301,4786.3433246514642,4930.9595550259355,4885.7727293153166,5033.4514985654905,5020.2390516956375,5138.3802110203569,5091.7246292341688,5245.7327395509583,5198.3299080446168,5355.6073384345818,5307.4489625644092,5468.0678677126125,5454.5465416365651,5583.2204196942148,5533.5270871334305,5701.052919790126,5650.5796573284242,5821.6737372002035,5770.4125781126886,-177.39251739433573,-177.39251735948028,-177.39251732389289,-177.39251728755818,-177.39251725046037,-177.39251721258356,-177.39251717391133,-177.39251713442695,-177.39251709411343,-177.39251705295334,-177.39251701092883,-177.39251696802185,-177.39251692421385,-177.39251687948581,-177.39251683381852,-177.39251678719222,0,0,0,0,0,0,0,0,0,0,0,0,0,0,0,0,0,0,0,0,0,0,0,0,0,0,0,0,0,0,0,0,0,0,0,0,0,0,0,0,0]
[null,{"$f":"B648","v":"'194 Pre tax DSRA Cash"},null,null,null,null,null,"","",0,0,0,0,0,0,0,0,0,0,0,0,0,0,0,0,0,0,0,0,0,0,0,0,0,0,0,0,0,0,0,0,0,0,0,0,-4122.3585412940374,-127.11958827069429,44.672417576908629,-129.66198003382851,45.56586593076554,-132.2552196321476,16.320556881049924,-104.74369790143282,47.406726917577544,-137.59833050204725,48.354861458710729,-140.35029710925664,49.321958690770771,-143.15730304850149,17.665895646799981,-113.37794711169136,51.314565827197839,-148.94085808626369,52.340857147239149,-151.91967524442407,53.387674293813689,-111.55011543983164,175.44970172993999,-112.71959026634067,52.157988757144267,-119.08125983602349,53.601948740234548,-121.05497730108254,55.089129010501892,-123.05357371263744,26.406650896499741,-94.764068287306145,58.200456787274561,-127.12350423430507,59.825811044981492,-129.19644801016511,61.500179841287718,-131.2940504759199,30.520251501993698,-100.60448510428159,65.004191945457023,-135.56084783067126,66.835309844717813,-137.73161372288905,68.722051104939055,-139.92645697884473,35.265391333453408,-106.62870780535559,72.671683990869496,-144.38541797288417,74.736365548455979,-146.65103899214591,76.86423490895595,5973.6068647464781,-4.4120813705376148E-8,-4.5047350793189199E-8,-4.5993345159846513E-8,-4.6959205408202826E-8,-4.794534872177516E-8,-4.8952201044932572E-8,-4.9980197266875943E-8,-5.1029781409480662E-8,-5.210140681907971E-8,-5.3195536362280312E-8,-5.4312642625888278E-8,-5.5453208121031929E-8,-5.6617725491573711E-8,-5.7806697726896301E-8,-5.9020638379161904E-8,2.8695272278630364E-6,0,0,0,0,0,0,0,0,0,0,0,0,0,0,0,0,0,0,0,0,0,0,0,0,0,0,0,0,0,0,0,0,0,0,0,0,0,0,0,0,0]
[null,"'195 MRA cash flow",null,null,null,null,null,"","",0,0,0,0,0,0,0,0,0,0,0,0,0,0,0,0,0,0,0,0,0,0,0,0,0,0,0,0,0,0,0,0,0,0,0,0,0,0,0,0,0,0,0,0,0,0,0,0,0,0,0,0,0,0,0,0,0,0,0,0,0,0,0,0,0,0,0,0,0,0,0,0,0,0,0,0,0,0,0,0,0,0,0,0,0,0,0,0,0,0,0,0,0,0,0,0,0,0,0,0,0,0,0,0,0,0,0,0,0,0,0,0,0,0,0,0,0,0,0,0,0,0,0,0,0,0,0,0,0,0,0,0,0,0,0,0,0,0,0,0,0,0,0,0,0,0,0]
[null,"'196 Cash Sweep (Senior and Mezzanine)",null,null,null,null,null,"","",0,0,0,0,0,0,0,0,0,0,0,0,0,0,0,0,0,0,0,0,0,0,0,0,0,0,0,0,0,0,0,0,0,0,0,0,0,0,0,0,0,0,0,0,0,0,0,0,0,0,0,0,0,0,0,0,0,0,0,0,0,0,0,0,0,0,0,0,0,0,0,0,0,0,0,0,0,0,0,0,0,0,0,0,0,0,0,0,0,0,0,0,0,0,0,0,0,0,0,0,0,0,0,0,0,0,0,0,0,0,0,0,0,0,0,0,0,0,0,0,0,0,0,0,0,0,0,0,0,0,0,0,0,0,0,0,0,0,0,0,0,0,0,0,0,0,0]
[null,"'197 Tax adjustment (Taxes - EBT x Tax)",null,null,null,null,null,"","",0,0,0,0,0,0,0,0,0,0,0,0,0,0,0,0,0,0,0,0,0,0,0,0,0,0,0,0,0,0,0,0,0,0,0,0,0,0,0,0,0,0,0,0,0,0,0,0,0,0,0,0,0,0,0,0,0,0,58.600736977494748,269.64295485492312,283.14882189060785,278.57698272189486,335.46208789721942,331.33989222225802,389.91337493513356,386.26917609175314,446.58450768651568,454.29062975538477,505.69358996098623,503.09789687839577,567.06690356704655,565.04211253298649,630.92435986773808,629.5041739850808,697.36060702918905,708.31669986700433,766.61802362342655,766.51665875283129,838.51509276530476,839.12859657322065,913.29660819718003,914.66492941087608,991.07201643625467,1005.9407845764324,1072.1109224776044,1075.1184275841679,1156.2243525337833,1160.1171923705456,1243.6850537212988,1248.5104610277479,1334.6195471477445,1327.1775044292353,1374.9397884618807,1353.3227021292241,1416.0664346018793,1394.0170065423531,1458.0156136642395,0,0,0,0,0,0,0,0,0,0,0,0,0,0,0,0,0,0,0,0,0,0,0,0,0,0,0,0,0,0,0,0,0,0,0,0,0,0,0,0,0,0,0,0,0,0,0,0,0,0]
[null,"'198 Total Equity cash flow Before EBL, Refinancing",null,null,null,null,null,"","",10145.799124498008,-538.73022627024693,-620.52550015515089,-706.83781530453552,-796.06106574623209,-886.25741515293066,-975.21522841226124,-1060.5317664283757,-1139.7171099464977,-1210.3134938315425,-1270.0223102016616,-1316.8297305511951,-1349.1214016858712,-1365.7770990649233,-1366.2375769136688,-1350.5380255841465,-1319.3053171667361,-1273.7192960565171,-1215.4414175407692,-1146.5167239931416,-1069.2571920864639,-986.11568660118155,-899.56002516593344,-811.95601638166863,-725.46690931130661,-641.97469523153859,-563.02639160602257,-489.80608389868075,-423.1313500119868,-363.47093987786434,-310.9793543029798,-265.543311749954,-226.83498722375487,-194.36727407199692,-167.54703899513572,-145.7232770263891,-4122.3585412940374,1315.7058976016624,1531.9897594242393,1342.020015688071,1562.6295547494165,1368.860416140883,1563.7255196151245,1436.9490699684757,1625.7597888004129,1424.1623769953349,1658.2749847296,1452.6456246912521,1691.4404845830904,1481.6985373469179,1692.6267922188063,1555.3998860447964,1759.7746802724769,1541.5591583733567,1794.9701740583814,1572.3903417248393,1830.8695777271942,1647.2461020564679,1973.2884597516227,1623.7117713362777,1828.0412066953641,1638.5466620438308,1852.908311626338,1659.4907035363055,1878.0040519718791,1680.580154109437,1873.1091295918809,1742.6960826231987,1928.8280316686487,1723.1339107948234,1954.576452641561,1744.6151597489036,1980.5305444956552,1766.2112512675062,1973.9784710104132,1832.1716464286724,2032.9918933604897,1809.6753864486798,2059.5178409778537,1831.5585590162825,2086.2182887681374,1853.5170628562123,2077.6831712405738,1923.4461852130009,2140.0666248687849,1897.5744335820873,2167.2311135419013,1919.685981141603,2194.5291188479978,8064.3692976452066,8265.4379109122456,8237.4416549702619,8417.1188187111711,8335.7973986968791,8571.8333446644538,8488.8854962490368,8729.6421611351052,-2.4810193723371242E-6,-2.5331207791562039E-6,-2.5863163155184842E-6,-2.6406289581443725E-6,-2.6960821662654044E-6,-2.7526998917569782E-6,-2.8105065894838745E-6,-2.8695272278630364E-6,0,0,0,0,0,0,0,0,0,0,0,0,0,0,0,0,0,0,0,0,0,0,0,0,0,0,0,0,0,0,0,0,0,0,0,0,0,0,0,0,0,0]
[null,"'199 Pre tax EBL cash flow",null,null,null,null,null,"","",0,0,0,0,0,0,0,0,0,0,0,0,0,0,0,0,0,0,0,0,0,0,0,0,0,0,0,0,0,0,0,0,0,0,0,0,0,0,0,0,0,0,0,0,0,0,0,0,0,0,0,0,0,0,0,0,0,0,0,0,0,0,0,0,0,0,0,0,0,0,0,0,0,0,0,0,0,0,0,0,0,0,0,0,0,0,0,0,0,0,0,0,0,0,0,0,0,0,0,0,0,0,0,0,0,0,0,0,0,0,0,0,0,0,0,0,0,0,0,0,0,0,0,0,0,0,0,0,0,0,0,0,0,0,0,0,0,0,0,0,0,0,0,0,0,0,0]
[null,"'200 After tax EBL cash flow",null,null,null,null,null,"","",10145.799124498008,-538.73022627024693,-620.52550015515089,-706.83781530453552,-796.06106574623209,-886.25741515293066,-975.21522841226124,-1060.5317664283757,-1139.7171099464977,-1210.3134938315425,-1270.0223102016616,-1316.8297305511951,-1349.1214016858712,-1365.7770990649233,-1366.2375769136688,-1350.5380255841465,-1319.3053171667361,-1273.7192960565171,-1215.4414175407692,-1146.5167239931416,-1069.2571920864639,-986.11568660118155,-899.56002516593344,-811.95601638166863,-725.46690931130661,-641.97469523153859,-563.02639160602257,-489.80608389868075,-423.1313500119868,-363.47093987786434,-310.9793543029798,-265.543311749954,-226.83498722375487,-194.36727407199692,-167.54703899513572,-145.7232770263891,-4122.3585412940374,1315.7058976016624,1531.9897594242393,1342.020015688071,1562.6295547494165,1368.860416140883,1563.7255196151245,1436.9490699684757,1625.7597888004129,1424.1623769953349,1658.2749847296,1452.6456246912521,1691.4404845830904,1481.6985373469179,1692.6267922188063,1555.3998860447964,1759.7746802724769,1541.5591583733567,1794.9701740583814,1572.3903417248393,1830.8695777271942,1647.2461020564679,1973.2884597516227,1623.7117713362777,1828.0412066953641,1638.5466620438308,1852.908311626338,1659.4907035363055,1878.0040519718791,1680.580154109437,1873.1091295918809,1742.6960826231987,1928.8280316686487,1723.1339107948234,1954.576452641561,1744.6151597489036,1980.5305444956552,1766.2112512675062,1973.9784710104132,1832.1716464286724,2032.9918933604897,1809.6753864486798,2059.5178409778537,1831.5585590162825,2086.2182887681374,1853.5170628562123,2077.6831712405738,1923.4461852130009,2140.0666248687849,1897.5744335820873,2167.2311135419013,1919.685981141603,2194.5291188479978,8064.3692976452066,8265.4379109122456,8237.4416549702619,8417.1188187111711,8335.7973986968791,8571.8333446644538,8488.8854962490368,8729.6421611351052,-2.4810193723371242E-6,-2.5331207791562039E-6,-2.5863163155184842E-6,-2.6406289581443725E-6,-2.6960821662654044E-6,-2.7526998917569782E-6,-2.8105065894838745E-6,-2.8695272278630364E-6,0,0,0,0,0,0,0,0,0,0,0,0,0,0,0,0,0,0,0,0,0,0,0,0,0,0,0,0,0,0,0,0,0,0,0,0,0,0,0,0,0,0]
[null,"'201 Shareholder Loan Cash Flow",null,null,null,null,null,"","",0,0,0,0,0,0,0,0,0,0,0,0,0,0,0,0,0,0,0,0,0,0,0,0,0,0,0,0,0,0,0,0,0,0,0,0,0,0,0,0,0,0,0,0,0,0,0,0,0,0,0,0,0,0,0,0,0,0,0,0,0,0,0,0,0,0,0,0,0,0,0,0,0,0,0,0,0,0,0,0,0,0,0,0,0,0,0,0,0,0,0,0,0,0,0,0,0,0,0,0,0,0,0,0,0,0,0,0,0,0,0,0,0,0,0,0,0,0,0,0,0,0,0,0,0,0,0,0,0,0,0,0,0,0,0,0,0,0,0,0,0,0,0,0,0,0,0]
[null,"'202 Re-financing Cash Flow",null,null,null,null,null,"","",0,0,0,0,0,0,0,0,0,0,0,0,0,0,0,0,0,0,0,0,0,0,0,0,0,0,0,0,0,0,0,0,0,0,0,0,0,0,0,0,0,0,0,0,0,0,0,0,0,0,0,0,0,0,0,0,0,0,0,0,0,0,0,0,0,0,0,0,0,0,0,0,0,0,0,0,0,0,0,0,0,0,0,0,0,0,0,0,0,0,0,0,0,0,0,0,0,0,0,0,0,0,0,0,0,0,0,0,0,0,0,0,0,0,0,0,0,0,0,0,0,0,0,0,0,0,0,0,0,0,0,0,0,0,0,0,0,0,0,0,0,0,0,0,0,0,0]
[null,"'203 Equity cash flow  after EBL",null,null,null,null,null,"","",10145.799124498008,-538.73022627024693,-620.52550015515089,-706.83781530453552,-796.06106574623209,-886.25741515293066,-975.21522841226124,-1060.5317664283757,-1139.7171099464977,-1210.3134938315425,-1270.0223102016616,-1316.8297305511951,-1349.1214016858712,-1365.7770990649233,-1366.2375769136688,-1350.5380255841465,-1319.3053171667361,-1273.7192960565171,-1215.4414175407692,-1146.5167239931416,-1069.2571920864639,-986.11568660118155,-899.56002516593344,-811.95601638166863,-725.46690931130661,-641.97469523153859,-563.02639160602257,-489.80608389868075,-423.1313500119868,-363.47093987786434,-310.9793543029798,-265.543311749954,-226.83498722375487,-194.36727407199692,-167.54703899513572,-145.7232770263891,-4122.3585412940374,1315.7058976016624,1531.9897594242393,1342.020015688071,1562.6295547494165,1368.860416140883,1563.7255196151245,1436.9490699684757,1625.7597888004129,1424.1623769953349,1658.2749847296,1452.6456246912521,1691.4404845830904,1481.6985373469179,1692.6267922188063,1555.3998860447964,1759.7746802724769,1541.5591583733567,1794.9701740583814,1572.3903417248393,1830.8695777271942,1647.2461020564679,1973.2884597516227,1623.7117713362777,1828.0412066953641,1638.5466620438308,1852.908311626338,1659.4907035363055,1878.0040519718791,1680.580154109437,1873.1091295918809,1742.6960826231987,1928.8280316686487,1723.1339107948234,1954.576452641561,1744.6151597489036,1980.5305444956552,1766.2112512675062,1973.9784710104132,1832.1716464286724,2032.9918933604897,1809.6753864486798,2059.5178409778537,1831.5585590162825,2086.2182887681374,1853.5170628562123,2077.6831712405738,1923.4461852130009,2140.0666248687849,1897.5744335820873,2167.2311135419013,1919.685981141603,2194.5291188479978,8064.3692976452066,8265.4379109122456,8237.4416549702619,8417.1188187111711,8335.7973986968791,8571.8333446644538,8488.8854962490368,8729.6421611351052,-2.4810193723371242E-6,-2.5331207791562039E-6,-2.5863163155184842E-6,-2.6406289581443725E-6,-2.6960821662654044E-6,-2.7526998917569782E-6,-2.8105065894838745E-6,-2.8695272278630364E-6,0,0,0,0,0,0,0,0,0,0,0,0,0,0,0,0,0,0,0,0,0,0,0,0,0,0,0,0,0,0,0,0,0,0,0,0,0,0,0,0,0,0]
[".","'204 Issue by Issue Section",null,null,null,null,null,"","","","","","","","","","","","","","","","","","","","","","","","","","","","","","","","","","","","","","","Operation","Operation","Operation","Operation","Operation","Operation","Operation","Operation","Operation","Operation","Operation","Operation","Operation","Operation","Operation","Operation","Operation","Operation","Operation","Operation","Operation","Operation","Operation","Operation","Operation","Operation","Operation","Operation","Operation","Operation","Operation","Operation","Operation","Operation","Operation","Operation","Operation","Operation","Operation","Operation","Operation","Operation","Operation","Operation","Operation","Operation","Operation","Operation","Operation","Operation","Operation","Operation","Operation","Operation","Operation","Operation","Operation","Operation","Operation","Operation","Operation","Operation","Operation","Operation","Operation","Operation","Operation","Operation","Operation","Operation",0,0,0,0,0,0,0,0,0,0,0,0,0,0,0,0,0,0,0,0,0,0,0,0,0,0,0,0,0,0,0,0,0,0,0,0,0,0,0,0,0]
[null,"'205 Debt Commitment by Issue",null,null,null,null,null," Issue 1",162658.01182469472," Issue 2",0," Issue 3",0," Issue 4",0," Issue 5",0," Issue 6",0," Issue 7",0," Issue 8",0," Issue 9",0," Issue 10",0," Issue 11",0," Issue 12",0," Debt Tot",162658.0118168288," Sum",0.61274026993361386,0,0,0,0,0,0,0,0,0,0,0,0,0,0,0,0,0,0,0,0,0,0,0,0,0,0,0,0,0,0,0,0,0,0,0,0,0,0,0,0,0,0,0,0,0,0,0,0,0,0,0,0,0,0,0,0,0,0,0,0,0,0,0,0,0,0,0,0,0,0,0,0,0,0,0,0,0,0,0,0,0,0,0,0,0,0,0,0,0,0,0,0,0,0,0,0,0,0,0,0,0,0,0,0,0,0,0,0,0,0,0,0,0,0,0,0,0,0,0,0,0]
[null,"'206 Up Front Fee by Debt Issue",null,null,null,null,null," Issue 1",0," Issue 2",0," Issue 3",0," Issue 4",0," Issue 5",0," Issue 6",0," Issue 7",0," Issue 8",0," Issue 9",0," Issue 10",0," Issue 11",0," Issue 12",0," Total Up Front",2439.8701773704206," Up Front Sum",0,0,0,0,0,0,0,0,0,0,0,0,0,0,0,0,0,0,0,0,0,0,0,0,0,0,0,0,0,0,0,0,0,0,0,0,0,0,0,0,0,0,0,0,0,0,0,0,0,0,0,0,0,0,0,0,0,0,0,0,0,0,0,0,0,0,0,0,0,0,0,0,0,0,0,0,0,0,0,0,0,0,0,0,0,0,0,0,0,0,0,0,0,0,0,0,0,0,0,0,0,0,0,0,0,0,0,0,0,0,0,0,0,0,0,0,0,0,0,0,0,0]
[null,"'207 Commitment Fee by Debt Issue",null,null,null,null,null," Issue 1",0.61274026993361386," Issue 2",0," Issue 3",0," Issue 4",0," Issue 5",0," Issue 6",0," Issue 7",0," Issue 8",0," Issue 9",0," Issue 10",0," Issue 11",0," Issue 12",0," Total Commitment Fee",1977.4398030277741," Commitment Fee Sum",0.61274026993361386,0,0,0,0,0,0,0,0,0,0,0,0,0,0,0,0,0,0,0,0,0,0,0,0,0,0,0,0,0,0,0,0,0,0,0,0,0,0,0,0,0,0,0,0,0,0,0,0,0,0,0,0,0,0,0,0,0,0,0,0,0,0,0,0,0,0,0,0,0,0,0,0,0,0,0,0,0,0,0,0,0,0,0,0,0,0,0,0,0,0,0,0,0,0,0,0,0,0,0,0,0,0,0,0,0,0,0,0,0,0,0,0,0,0,0,0,0,0,0,0,0]
[null,"'208 IDC by Debt Issue",null,null,null,null,null," Issue 1",162658.0118168288," Issue 2",0," Issue 3",0," Issue 4",0," Issue 5",0," Issue 6",0," Issue 7",0," Issue 8",0," Issue 9",0," Issue 10",0," Issue 11",0," Issue 12",0," Debt at COD",0.61274026993361386," Sum of Debt at COD",0,0,0,0,0,0,0,0,0,0,0,0,0,0,0,0,0,0,0,0,0,0,0,0,0,0,0,0,0,0,0,0,0,0,0,0,0,0,0,0,0,0,0,0,0,0,0,0,0,0,0,0,0,0,0,0,0,0,0,0,0,0,0,0,0,0,0,0,0,0,0,0,0,0,0,0,0,0,0,0,0,0,0,0,0,0,0,0,0,0,0,0,0,0,0,0,0,0,0,0,0,0,0,0,0,0,0,0,0,0,0,0,0,0,0,0,0,0,0,0,0,0]
[null,"'209 Debt at COD by Issue",null,null,null,null,null," Issue 1",219588.31601853686," Issue 2",0," Issue 3",0," Issue 4",0," Issue 5",0," Issue 6",0," Issue 7",0," Issue 8",0," Issue 9",0," Issue 10",0," Issue 11",0," Issue 12",0," Balloon Debt at COD",0," Sum of Balloon",0,0,0,0,0,0,0,0,0,0,0,0,0,0,0,0,0,0,0,0,0,0,0,0,0,0,0,0,0,0,0,0,0,0,0,0,0,0,0,0,0,0,0,0,0,0,0,0,0,0,0,0,0,0,0,0,0,0,0,0,0,0,0,0,0,0,0,0,0,0,0,0,0,0,0,0,0,0,0,0,0,0,0,0,0,0,0,0,0,0,0,0,0,0,0,0,0,0,0,0,0,0,0,0,0,0,0,0,0,0,0,0,0,0,0,0,0,0,0,0,0,0]
[null,"'210 Sculpt Switch",null,null,null,null,null," Issue 1",true," Issue 2",true," Issue 3",true," Issue 4",true," Issue 5",false," Issue 6",false," Issue 7",false," Issue 8",false," Issue 9",false," Issue 10",false," Issue 11",false," Issue 12",false,0,0,0,0,0,0,0,0,0,0,0,0,0,0,0,0,0,0,0,0,0,0,0,0,0,0,0,0,0,0,0,0,0,0,0,0,0,0,0,0,0,0,0,0,0,0,0,0,0,0,0,0,0,0,0,0,0,0,0,0,0,0,0,0,0,0,0,0,0,0,0,0,0,0,0,0,0,0,0,0,0,0,0,0,0,0,0,0,0,0,0,0,0,0,0,0,0,0,0,0,0,0,0,0,0,0,0,0,0,0,0,0,0,0,0,0,0,0,0,0,0,0,0,0,0]
[null,"'211 Debt Tenure",null,null,null,null,null," Issue 1",54," Issue 2",0," Issue 3",0," Issue 4",0," Issue 5",0," Issue 6",0," Issue 7",0," Issue 8",0," Issue 9",0," Issue 10",0," Issue 11",0," Issue 12",0," Max Tenure",54,0,0,0,0,0,0,0,0,0,0,0,0,0,0,0,0,0,0,0,0,0,0,0,0,0,0,0,0,0,0,0,0,0,0,0,0,0,0,0,0,0,0,0,0,0,0,0,0,0,0,0,0,0,0,0,0,0,0,0,0,0,0,0,0,0,0,0,0,0,0,0,0,0,0,0,0,0,0,0,0,0,0,0,0,0,0,0,0,0,0,0,0,0,0,0,0,0,0,0,0,0,0,0,0,0,0,0,0,0,0,0,0,0,0,0,0,0,0,0,0,0,0,0]
[null,"'212 LLCR by Issue",null,null,null,null,null," Issue 1",1," Issue 2",1," Issue 3",0," Issue 4",0," Issue 5",0," Issue 6",0," Issue 7",0," Issue 8",0," Issue 9",0," Issue 10",0," Issue 11",0," Issue 12",0,0,0,0,0,0,0,0,0,0,0,0,0,0,0,0,0,0,0,0,0,0,0,0,0,0,0,0,0,0,0,0,0,0,0,0,0,0,0,0,0,0,0,0,0,0,0,0,0,0,0,0,0,0,0,0,0,0,0,0,0,0,0,0,0,0,0,0,0,0,0,0,0,0,0,0,0,0,0,0,0,0,0,0,0,0,0,0,0,0,0,0,0,0,0,0,0,0,0,0,0,0,0,0,0,0,0,0,0,0,0,0,0,0,0,0,0,0,0,0,0,0,0,0,0,0]
[null,"'213 Refinance Start by Issue",null,null,null,null,null," Issue 1",0," Issue 2",117," Issue 3",0," Issue 4",0," Issue 5",0," Issue 6",0," Issue 7",0," Issue 8",0," Issue 9",0," Issue 10",0," Issue 11",0," Issue 12",0,0,0,0,0,0,0,0,0,0,0,0,0,0,0,0,0,0,0,0,0,0,0,0,0,0,0,0,0,0,0,0,0,0,0,0,0,0,0,0,0,0,0,0,0,0,0,0,0,0,0,0,0,0,0,0,0,0,0,0,0,0,0,0,0,0,0,0,0,0,0,0,0,0,0,0,0,0,0,0,0,0,0,0,0,0,0,0,0,0,0,0,0,0,0,0,0,0,0,0,0,0,0,0,0,0,0,0,0,0,0,0,0,0,0,0,0,0,0,0,0,0,0,0,0,0]
[null,"'214 Opening Debt Balance - Issue 1",null,null,null,null,null,"","",0,15359.141677610844,18077.458537930448,21208.496759060163,24775.048359767905,28791.801293501496,33263.66560835985,38184.391917307796,43535.607128575037,49286.374553323483,55393.356148420047,61801.615589707493,68446.055207490877,75253.431653046107,82144.849165536289,89038.590150219068,95853.114575300293,102510.04547073631,108936.95910755904,115069.81510286094,120854.89191773703,126250.13375035064,131225.86142702447,135764.84785109683,139861.80328730628,143522.35328992602,146761.61953646297,149602.52962183807,152073.98578156912,154209.01557343826,156043.01176657292,157612.14670794344,158952.0211502453,160096.5817117524,161077.31717532972,161922.72350077439,162658.0118168288,165463.86252066909,164195.75561154296,162778.65426993617,161381.78034773274,159831.14837030711,158299.33385716789,156608.84032401154,154905.50633425245,153261.67801839978,151634.84560558305,149840.31846258926,148060.9474288669,146108.30773386991,144168.86616316065,142050.38762029947,139910.38311999265,137792.29856839526,135683.69641267826,133384.50850624708,131092.25249575378,128602.8047537517,126117.57809307679,123471.71809035176,120949.05205486147,118415.03009019161,115879.95165300282,113172.55530877977,110461.90559004714,107573.27724989959,104679.07684359499,101601.04465502148,98484.780441356401,95208.310610888744,91921.235370736671,88438.008046275703,84941.458759010115,81242.285488666239,77526.929759446182,73602.257509396615,69625.687393553133,65465.004820127091,61281.952104554752,56875.494434074986,52443.336462304811,47780.371559349478,43088.206444476389,38157.579405151322,33158.674589267292,27948.164064376509,22700.904502380952,17199.067071537218,11656.427420114538,5850.7412969395564,0,0,0,0,0,0,0,0,0,0,0,0,0,0,0,0,0,0,0,0,0,0,0,0,0,0,0,0,0,0,0,0,0,0,0,0,0,0,0,0,0,0,0,0,0,0,0,0,0,0,0,0,0,0,0,0,0]
[null,"'215 Add: Debt Draws - Issue 1",null,null,null,null,null,"","",15359.141677610844,2718.3168603196036,3131.0382211297133,3566.5516007077408,4016.7529337335909,4471.8643148583515,4920.7263089479429,5351.2152112672375,5750.7674247484438,6106.9815950965649,6408.2594412874441,6644.4396177833805,6807.3764455552327,6891.4175124901849,6893.7409846827741,6814.5244250812248,6656.9308954360122,6426.9136368227319,6132.8559953018957,5785.0768148760862,5395.241832613613,4975.7276766738487,4538.9864240723618,4096.9554362094395,3660.550002619726,3239.266246536959,2840.9100853751102,2471.4561597310462,2135.029791869139,1833.9961931346681,1569.134941370525,1339.874442301865,1144.5605615070888,980.73546357733017,845.40632544466678,735.28831605440405,0,0,0,0,0,0,0,0,0,0,0,0,0,0,0,0,0,0,0,0,0,0,0,0,0,0,0,0,0,0,0,0,0,0,0,0,0,0,0,0,0,0,0,0,0,0,0,0,0,0,0,0,0,0,0,0,0,0,0,0,0,0,0,0,0,0,0,0,0,0,0,0,0,0,0,0,0,0,0,0,0,0,0,0,0,0,0,0,0,0,0,0,0,0,0,0,0,0,0,0,0,0,0,0,0,0,0,0,0,0,0]
[null,"'216 Less: Debt Repayments - Issue 1",null,null,null,null,null,"","",0,0,0,0,0,0,0,0,0,0,0,0,0,0,0,0,0,0,0,0,0,0,0,0,0,0,0,0,0,0,0,0,0,0,0,0,2805.8507038402972,-1268.1069091261288,-1417.1013416067908,-1396.873922203426,-1550.6319774256353,-1531.814513139223,-1690.4935331563588,-1703.3339897590913,-1643.828315852686,-1626.8324128167192,-1794.5271429937961,-1779.3710337223547,-1952.6396949969871,-1939.4415707092699,-2118.4785428611754,-2140.0045003068212,-2118.0845515973861,-2108.6021557170056,-2299.1879064311915,-2292.2560104932872,-2489.4477420020803,-2485.2266606749072,-2645.8600027250427,-2522.6660354902779,-2534.0219646698711,-2535.078437188793,-2707.3963442230502,-2710.6497187326245,-2888.6283401475489,-2894.2004063046106,-3078.0321885735057,-3116.2642136650802,-3276.4698304676635,-3287.0752401520695,-3483.2273244609714,-3496.5492872655896,-3699.1732703438793,-3715.355729220063,-3924.6722500495725,-3976.5701158434849,-4160.6825734260428,-4183.0527155723421,-4406.4576704797673,-4432.157971770177,-4662.9649029553311,-4692.1651148730907,-4930.6270393250707,-4998.9048158840269,-5210.5105248907812,-5247.2595619955591,-5501.8374308437342,-5542.639651422679,-5805.6861231749817,-5850.7412969395564,0,0,0,0,0,0,0,0,0,0,0,0,0,0,0,0,0,0,0,0,0,0,0,0,0,0,0,0,0,0,0,0,0,0,0,0,0,0,0,0,0,0,0,0,0,0,0,0,0,0,0,0,0,0,0,0,0]
[null,"'217 Less: Cash Sweep - Issue 1",null,null,null,null,null,"","",0,0,0,0,0,0,0,0,0,0,0,0,0,0,0,0,0,0,0,0,0,0,0,0,0,0,0,0,0,0,0,0,0,0,0,0,0,0,0,0,0,0,0,0,0,0,0,0,0,0,0,0,0,0,0,0,0,0,0,0,0,0,0,0,0,0,0,0,0,0,0,0,0,0,0,0,0,0,0,0,0,0,0,0,0,0,0,0,0,0,0,0,0,0,0,0,0,0,0,0,0,0,0,0,0,0,0,0,0,0,0,0,0,0,0,0,0,0,0,0,0,0,0,0,0,0,0,0,0,0,0,0,0,0,0,0,0,0,0,0,0,0,0,0,0,0,0]
[null,"'218 Closing Balance - Issue 1",null,null,null,null,null,"","",15359.141677610844,18077.458537930448,21208.496759060163,24775.048359767905,28791.801293501496,33263.66560835985,38184.391917307796,43535.607128575037,49286.374553323483,55393.356148420047,61801.615589707493,68446.055207490877,75253.431653046107,82144.849165536289,89038.590150219068,95853.114575300293,102510.04547073631,108936.95910755904,115069.81510286094,120854.89191773703,126250.13375035064,131225.86142702447,135764.84785109683,139861.80328730628,143522.35328992602,146761.61953646297,149602.52962183807,152073.98578156912,154209.01557343826,156043.01176657292,157612.14670794344,158952.0211502453,160096.5817117524,161077.31717532972,161922.72350077439,162658.0118168288,165463.86252066909,164195.75561154296,162778.65426993617,161381.78034773274,159831.14837030711,158299.33385716789,156608.84032401154,154905.50633425245,153261.67801839978,151634.84560558305,149840.31846258926,148060.9474288669,146108.30773386991,144168.86616316065,142050.38762029947,139910.38311999265,137792.29856839526,135683.69641267826,133384.50850624708,131092.25249575378,128602.8047537517,126117.57809307679,123471.71809035176,120949.05205486147,118415.03009019161,115879.95165300282,113172.55530877977,110461.90559004714,107573.27724989959,104679.07684359499,101601.04465502148,98484.780441356401,95208.310610888744,91921.235370736671,88438.008046275703,84941.458759010115,81242.285488666239,77526.929759446182,73602.257509396615,69625.687393553133,65465.004820127091,61281.952104554752,56875.494434074986,52443.336462304811,47780.371559349478,43088.206444476389,38157.579405151322,33158.674589267292,27948.164064376509,22700.904502380952,17199.067071537218,11656.427420114538,5850.7412969395564,0,0,0,0,0,0,0,0,0,0,0,0,0,0,0,0,0,0,0,0,0,0,0,0,0,0,0,0,0,0,0,0,0,0,0,0,0,0,0,0,0,0,0,0,0,0,0,0,0,0,0,0,0,0,0,0,0,0]
[null,"'219 Interest Rate - Issue 1",null,null,null,null,null,"","",2.6666666666666666E-3,2.6666666666666666E-3,2.6666666666666666E-3,2.6666666666666666E-3,2.6666666666666666E-3,2.6666666666666666E-3,2.6666666666666666E-3,2.6666666666666666E-3,2.6666666666666666E-3,2.6666666666666666E-3,2.6666666666666666E-3,2.6666666666666666E-3,2.6666666666666666E-3,2.6666666666666666E-3,2.6666666666666666E-3,2.6666666666666666E-3,2.6666666666666666E-3,2.6666666666666666E-3,2.6666666666666666E-3,2.6666666666666666E-3,2.6666666666666666E-3,2.6666666666666666E-3,2.6666666666666666E-3,2.6666666666666666E-3,2.6666666666666666E-3,2.6666666666666666E-3,2.6666666666666666E-3,2.6666666666666666E-3,2.6666666666666666E-3,2.6666666666666666E-3,2.6666666666666666E-3,2.6666666666666666E-3,2.6666666666666666E-3,2.6666666666666666E-3,2.6666666666666666E-3,2.6666666666666666E-3,1.7250000000000001E-2,1.7250000000000001E-2,1.7250000000000001E-2,1.7250000000000001E-2,1.7250000000000001E-2,1.7250000000000001E-2,1.7250000000000001E-2,1.7250000000000001E-2,1.8499999999999999E-2,1.8499999999999999E-2,1.8499999999999999E-2,1.8499999999999999E-2,1.8499999999999999E-2,1.8499999999999999E-2,1.8499999999999999E-2,1.8499999999999999E-2,1.9749999999999997E-2,1.9749999999999997E-2,1.9749999999999997E-2,1.9749999999999997E-2,1.9749999999999997E-2,1.9749999999999997E-2,1.9749999999999997E-2,1.9749999999999997E-2,2.0999999999999998E-2,2.0999999999999998E-2,2.0999999999999998E-2,2.0999999999999998E-2,2.0999999999999998E-2,2.0999999999999998E-2,2.0999999999999998E-2,2.0999999999999998E-2,2.0999999999999998E-2,2.0999999999999998E-2,2.0999999999999998E-2,2.0999999999999998E-2,2.0999999999999998E-2,2.0999999999999998E-2,2.0999999999999998E-2,2.0999999999999998E-2,2.0999999999999998E-2,2.0999999999999998E-2,2.0999999999999998E-2,2.0999999999999998E-2,2.0999999999999998E-2,2.0999999999999998E-2,2.0999999999999998E-2,2.0999999999999998E-2,2.0999999999999998E-2,2.0999999999999998E-2,2.0999999999999998E-2,2.0999999999999998E-2,2.0999999999999998E-2,2.0999999999999998E-2,2.0999999999999998E-2,2.0999999999999998E-2,2.0999999999999998E-2,2.0999999999999998E-2,2.0999999999999998E-2,2.0999999999999998E-2,2.0999999999999998E-2,2.0999999999999998E-2,2.0999999999999998E-2,2.0999999999999998E-2,2.0999999999999998E-2,2.0999999999999998E-2,2.0999999999999998E-2,2.0999999999999998E-2,2.0999999999999998E-2,2.0999999999999998E-2,0,0,0,0,0,0,0,0,0,0,0,0,0,0,0,0,0,0,0,0,0,0,0,0,0,0,0,0,0,0,0,0,0,0,0,0,0,0,0,0,0]
[null,"'220 Interest Expense - Issue 1",null,null,null,null,null,"","",0,0,0,0,0,0,0,0,0,0,0,0,0,0,0,0,0,0,0,0,0,0,0,0,0,0,0,0,0,0,0,0,0,0,0,0,2805.8507038402972,2854.2516321679091,2832.3767879579414,2807.9317897843971,2783.8357145960167,2757.0873129516631,2730.6635125666749,2701.502499082892,2865.7518708907301,2835.3410470091203,2805.2446473340901,2772.0458951468208,2739.1275309814446,2703.003696578392,2667.124027474988,2627.9321743825417,2763.2300702036682,2721.3979002568512,2679.7530076289281,2634.3440464195933,2589.0719901552247,2539.9053971885846,2490.8221705782803,2438.5664360831056,2539.9300971698526,2486.7156358937868,2433.4789886955527,2376.6236654457434,2319.7000213319025,2259.0388261643384,2198.2606176080808,2133.6219416200065,2068.1803931047289,1999.3745266330491,1930.3459465584522,1857.1981727088521,1783.7706376407273,1706.0879989232562,1628.0655285696666,1545.6474112737601,1462.1394387954842,1374.7651047037275,1286.9209976269742,1194.3853864918465,1101.3100690295812,1003.3878060068826,904.85233853374734,801.30917064133769,696.33216943993932,586.91144834429167,476.7189974690005,361.18041134160018,244.78497858144308,122.86556990791308,2.1009911288274452E-6,2.1451119425328213E-6,2.1901592933260105E-6,2.236152638485857E-6,2.2831118438940599E-6,2.331057192615835E-6,2.3800093936607676E-6,2.4299895909276435E-6,2.4810193723371242E-6,2.5331207791562039E-6,2.5863163155184842E-6,2.6406289581443725E-6,2.6960821662654044E-6,2.7526998917569782E-6,2.8105065894838745E-6,2.8695272278630364E-6,0,0,0,0,0,0,0,0,0,0,0,0,0,0,0,0,0,0,0,0,0,0,0,0,0,0,0,0,0,0,0,0,0,0,0,0,0,0,0,0,0]
[null,"'221 Opening Debt Balance - Issue 2",null,null,null,null,null,"","",0,0,0,0,0,0,0,0,0,0,0,0,0,0,0,0,0,0,0,0,0,0,0,0,0,0,0,0,0,0,0,0,0,0,0,0,0,0,0,0,0,0,0,0,0,0,0,0,0,0,0,0,0,0,0,0,0,0,0,0,0,0,0,0,0,0,0,0,0,0,0,0,0,0,0,0,0,0,0,0,0,0,0,0,0,0,0,0,0,0,0,0,0,0,0,0,0,0,0,0,0,0,0,0,0,0,0,0,0,0,0,0,0,0,0,0,0,0,0,0,0,0,0,0,0,0,0,0,0,0,0,0,0,0,0,0,0,0,0,0,0,0,0,0,0,0,0]
[null,"'222 Add: Debt Draws - Issue 2",null,null,null,null,null,"","",0,0,0,0,0,0,0,0,0,0,0,0,0,0,0,0,0,0,0,0,0,0,0,0,0,0,0,0,0,0,0,0,0,0,0,0,0,0,0,0,0,0,0,0,0,0,0,0,0,0,0,0,0,0,0,0,0,0,0,0,0,0,0,0,0,0,0,0,0,0,0,0,0,0,0,0,0,0,0,0,0,0,0,0,0,0,0,0,0,0,0,0,0,0,0,0,0,0,0,0,0,0,0,0,0,0,0,0,0,0,0,0,0,0,0,0,0,0,0,0,0,0,0,0,0,0,0,0,0,0,0,0,0,0,0,0,0,0,0,0,0,0,0,0,0,0,0]
[null,"'223 Less: Debt Repayments - Issue 2",null,null,null,null,null,"","",0,0,0,0,0,0,0,0,0,0,0,0,0,0,0,0,0,0,0,0,0,0,0,0,0,0,0,0,0,0,0,0,0,0,0,0,0,0,0,0,0,0,0,0,0,0,0,0,0,0,0,0,0,0,0,0,0,0,0,0,0,0,0,0,0,0,0,0,0,0,0,0,0,0,0,0,0,0,0,0,0,0,0,0,0,0,0,0,0,0,0,0,0,0,0,0,0,0,0,0,0,0,0,0,0,0,0,0,0,0,0,0,0,0,0,0,0,0,0,0,0,0,0,0,0,0,0,0,0,0,0,0,0,0,0,0,0,0,0,0,0,0,0,0,0,0,0]
[null,"'224 Less: Cash Sweep - Issue 2",null,null,null,null,null,"","",0,0,0,0,0,0,0,0,0,0,0,0,0,0,0,0,0,0,0,0,0,0,0,0,0,0,0,0,0,0,0,0,0,0,0,0,0,0,0,0,0,0,0,0,0,0,0,0,0,0,0,0,0,0,0,0,0,0,0,0,0,0,0,0,0,0,0,0,0,0,0,0,0,0,0,0,0,0,0,0,0,0,0,0,0,0,0,0,0,0,0,0,0,0,0,0,0,0,0,0,0,0,0,0,0,0,0,0,0,0,0,0,0,0,0,0,0,0,0,0,0,0,0,0,0,0,0,0,0,0,0,0,0,0,0,0,0,0,0,0,0,0,0,0,0,0,0]
[null,"'225 Closing Balance - Issue 2",null,null,null,null,null,"","",0,0,0,0,0,0,0,0,0,0,0,0,0,0,0,0,0,0,0,0,0,0,0,0,0,0,0,0,0,0,0,0,0,0,0,0,0,0,0,0,0,0,0,0,0,0,0,0,0,0,0,0,0,0,0,0,0,0,0,0,0,0,0,0,0,0,0,0,0,0,0,0,0,0,0,0,0,0,0,0,0,0,0,0,0,0,0,0,0,0,0,0,0,0,0,0,0,0,0,0,0,0,0,0,0,0,0,0,0,0,0,0,0,0,0,0,0,0,0,0,0,0,0,0,0,0,0,0,0,0,0,0,0,0,0,0,0,0,0,0,0,0,0,0,0,0,0]
[null,"'226 Interest Rate - Issue 2",null,null,null,null,null,"","",2.9166666666666668E-3,2.9166666666666668E-3,2.9166666666666668E-3,2.9166666666666668E-3,2.9166666666666668E-3,2.9166666666666668E-3,2.9166666666666668E-3,2.9166666666666668E-3,2.9166666666666668E-3,2.9166666666666668E-3,2.9166666666666668E-3,2.9166666666666668E-3,2.9166666666666668E-3,2.9166666666666668E-3,2.9166666666666668E-3,2.9166666666666668E-3,2.9166666666666668E-3,2.9166666666666668E-3,2.9166666666666668E-3,2.9166666666666668E-3,2.9166666666666668E-3,2.9166666666666668E-3,2.9166666666666668E-3,2.9166666666666668E-3,2.9166666666666668E-3,2.9166666666666668E-3,2.9166666666666668E-3,2.9166666666666668E-3,2.9166666666666668E-3,2.9166666666666668E-3,2.9166666666666668E-3,2.9166666666666668E-3,2.9166666666666668E-3,2.9166666666666668E-3,2.9166666666666668E-3,2.9166666666666668E-3,1.7500000000000002E-2,1.7500000000000002E-2,1.7500000000000002E-2,1.7500000000000002E-2,1.7500000000000002E-2,1.7500000000000002E-2,1.7500000000000002E-2,1.7500000000000002E-2,1.7500000000000002E-2,1.7500000000000002E-2,1.7500000000000002E-2,1.7500000000000002E-2,1.7500000000000002E-2,1.7500000000000002E-2,1.7500000000000002E-2,1.7500000000000002E-2,1.7500000000000002E-2,1.7500000000000002E-2,1.7500000000000002E-2,1.7500000000000002E-2,1.7500000000000002E-2,1.7500000000000002E-2,1.7500000000000002E-2,1.7500000000000002E-2,1.7500000000000002E-2,1.7500000000000002E-2,1.7500000000000002E-2,1.7500000000000002E-2,1.7500000000000002E-2,1.7500000000000002E-2,1.7500000000000002E-2,1.7500000000000002E-2,1.7500000000000002E-2,1.7500000000000002E-2,1.7500000000000002E-2,1.7500000000000002E-2,1.7500000000000002E-2,1.7500000000000002E-2,1.7500000000000002E-2,1.7500000000000002E-2,1.7500000000000002E-2,1.7500000000000002E-2,1.7500000000000002E-2,1.7500000000000002E-2,1.7500000000000002E-2,1.7500000000000002E-2,1.7500000000000002E-2,1.7500000000000002E-2,1.7500000000000002E-2,1.7500000000000002E-2,1.7500000000000002E-2,1.7500000000000002E-2,1.7500000000000002E-2,1.7500000000000002E-2,1.7500000000000002E-2,1.7500000000000002E-2,1.7500000000000002E-2,1.7500000000000002E-2,1.7500000000000002E-2,1.7500000000000002E-2,1.7500000000000002E-2,1.7500000000000002E-2,1.7500000000000002E-2,1.7500000000000002E-2,1.7500000000000002E-2,1.7500000000000002E-2,1.7500000000000002E-2,1.7500000000000002E-2,1.7500000000000002E-2,1.7500000000000002E-2,0,0,0,0,0,0,0,0,0,0,0,0,0,0,0,0,0,0,0,0,0,0,0,0,0,0,0,0,0,0,0,0,0,0,0,0,0,0,0,0,0]
[null,"'227 Interest Expense - Issue 2",null,null,null,null,null,"","",0,0,0,0,0,0,0,0,0,0,0,0,0,0,0,0,0,0,0,0,0,0,0,0,0,0,0,0,0,0,0,0,0,0,0,0,0,0,0,0,0,0,0,0,0,0,0,0,0,0,0,0,0,0,0,0,0,0,0,0,0,0,0,0,0,0,0,0,0,0,0,0,0,0,0,0,0,0,0,0,0,0,0,0,0,0,0,0,0,0,0,0,0,0,0,0,0,0,0,0,0,0,0,0,0,0,0,0,0,0,0,0,0,0,0,0,0,0,0,0,0,0,0,0,0,0,0,0,0,0,0,0,0,0,0,0,0,0,0,0,0,0,0,0,0,0,0]
[null,"'228 Opening Debt Balance - Issue 3",null,null,null,null,null,"","",0,0,0,0,0,0,0,0,0,0,0,0,0,0,0,0,0,0,0,0,0,0,0,0,0,0,0,0,0,0,0,0,0,0,0,0,0,0,0,0,0,0,0,0,0,0,0,0,0,0,0,0,0,0,0,0,0,0,0,0,0,0,0,0,0,0,0,0,0,0,0,0,0,0,0,0,0,0,0,0,0,0,0,0,0,0,0,0,0,0,0,0,0,0,0,0,0,0,0,0,0,0,0,0,0,0,0,0,0,0,0,0,0,0,0,0,0,0,0,0,0,0,0,0,0,0,0,0,0,0,0,0,0,0,0,0,0,0,0,0,0,0,0,0,0,0,0]
[null,"'229 Add: Debt Draws - Issue 3",null,null,null,null,null,"","",0,0,0,0,0,0,0,0,0,0,0,0,0,0,0,0,0,0,0,0,0,0,0,0,0,0,0,0,0,0,0,0,0,0,0,0,0,0,0,0,0,0,0,0,0,0,0,0,0,0,0,0,0,0,0,0,0,0,0,0,0,0,0,0,0,0,0,0,0,0,0,0,0,0,0,0,0,0,0,0,0,0,0,0,0,0,0,0,0,0,0,0,0,0,0,0,0,0,0,0,0,0,0,0,0,0,0,0,0,0,0,0,0,0,0,0,0,0,0,0,0,0,0,0,0,0,0,0,0,0,0,0,0,0,0,0,0,0,0,0,0,0,0,0,0,0,0]
[null,"'230 Less: Debt Repayments - Issue 3",null,null,null,null,null,"","",0,0,0,0,0,0,0,0,0,0,0,0,0,0,0,0,0,0,0,0,0,0,0,0,0,0,0,0,0,0,0,0,0,0,0,0,0,0,0,0,0,0,0,0,0,0,0,0,0,0,0,0,0,0,0,0,0,0,0,0,0,0,0,0,0,0,0,0,0,0,0,0,0,0,0,0,0,0,0,0,0,0,0,0,0,0,0,0,0,0,0,0,0,0,0,0,0,0,0,0,0,0,0,0,0,0,0,0,0,0,0,0,0,0,0,0,0,0,0,0,0,0,0,0,0,0,0,0,0,0,0,0,0,0,0,0,0,0,0,0,0,0,0,0,0,0,0]
[null,"'231 Less: Cash Sweep - Issue 3",null,null,null,null,null,"","",0,0,0,0,0,0,0,0,0,0,0,0,0,0,0,0,0,0,0,0,0,0,0,0,0,0,0,0,0,0,0,0,0,0,0,0,0,0,0,0,0,0,0,0,0,0,0,0,0,0,0,0,0,0,0,0,0,0,0,0,0,0,0,0,0,0,0,0,0,0,0,0,0,0,0,0,0,0,0,0,0,0,0,0,0,0,0,0,0,0,0,0,0,0,0,0,0,0,0,0,0,0,0,0,0,0,0,0,0,0,0,0,0,0,0,0,0,0,0,0,0,0,0,0,0,0,0,0,0,0,0,0,0,0,0,0,0,0,0,0,0,0,0,0,0,0,0]
[null,"'232 Closing Balance - Issue 3",null,null,null,null,null,"","",0,0,0,0,0,0,0,0,0,0,0,0,0,0,0,0,0,0,0,0,0,0,0,0,0,0,0,0,0,0,0,0,0,0,0,0,0,0,0,0,0,0,0,0,0,0,0,0,0,0,0,0,0,0,0,0,0,0,0,0,0,0,0,0,0,0,0,0,0,0,0,0,0,0,0,0,0,0,0,0,0,0,0,0,0,0,0,0,0,0,0,0,0,0,0,0,0,0,0,0,0,0,0,0,0,0,0,0,0,0,0,0,0,0,0,0,0,0,0,0,0,0,0,0,0,0,0,0,0,0,0,0,0,0,0,0,0,0,0,0,0,0,0,0,0,0,0]
[null,"'233 Interest Rate - Issue 3",null,null,null,null,null,"","",2.5000000000000001E-3,2.5000000000000001E-3,2.5000000000000001E-3,2.5000000000000001E-3,2.5000000000000001E-3,2.5000000000000001E-3,2.5000000000000001E-3,2.5000000000000001E-3,2.5000000000000001E-3,2.5000000000000001E-3,2.5000000000000001E-3,2.5000000000000001E-3,2.5000000000000001E-3,2.5000000000000001E-3,2.5000000000000001E-3,2.5000000000000001E-3,2.5000000000000001E-3,2.5000000000000001E-3,2.5000000000000001E-3,2.5000000000000001E-3,2.5000000000000001E-3,2.5000000000000001E-3,2.5000000000000001E-3,2.5000000000000001E-3,2.5000000000000001E-3,2.5000000000000001E-3,2.5000000000000001E-3,2.5000000000000001E-3,2.5000000000000001E-3,2.5000000000000001E-3,2.5000000000000001E-3,2.5000000000000001E-3,2.5000000000000001E-3,2.5000000000000001E-3,2.5000000000000001E-3,2.5000000000000001E-3,1.4999999999999999E-2,1.4999999999999999E-2,1.4999999999999999E-2,1.4999999999999999E-2,1.4999999999999999E-2,1.4999999999999999E-2,1.4999999999999999E-2,1.4999999999999999E-2,1.4999999999999999E-2,1.4999999999999999E-2,1.4999999999999999E-2,1.4999999999999999E-2,1.4999999999999999E-2,1.4999999999999999E-2,1.4999999999999999E-2,1.4999999999999999E-2,1.4999999999999999E-2,1.4999999999999999E-2,1.4999999999999999E-2,1.4999999999999999E-2,1.4999999999999999E-2,1.4999999999999999E-2,1.4999999999999999E-2,1.4999999999999999E-2,1.4999999999999999E-2,1.4999999999999999E-2,1.4999999999999999E-2,1.4999999999999999E-2,1.4999999999999999E-2,1.4999999999999999E-2,1.4999999999999999E-2,1.4999999999999999E-2,1.4999999999999999E-2,1.4999999999999999E-2,1.4999999999999999E-2,1.4999999999999999E-2,1.4999999999999999E-2,1.4999999999999999E-2,1.4999999999999999E-2,1.4999999999999999E-2,1.4999999999999999E-2,1.4999999999999999E-2,1.4999999999999999E-2,1.4999999999999999E-2,1.4999999999999999E-2,1.4999999999999999E-2,1.4999999999999999E-2,1.4999999999999999E-2,1.4999999999999999E-2,1.4999999999999999E-2,1.4999999999999999E-2,1.4999999999999999E-2,1.4999999999999999E-2,1.4999999999999999E-2,1.4999999999999999E-2,1.4999999999999999E-2,1.4999999999999999E-2,1.4999999999999999E-2,1.4999999999999999E-2,1.4999999999999999E-2,1.4999999999999999E-2,1.4999999999999999E-2,1.4999999999999999E-2,1.4999999999999999E-2,1.4999999999999999E-2,1.4999999999999999E-2,1.4999999999999999E-2,1.4999999999999999E-2,1.4999999999999999E-2,1.4999999999999999E-2,0,0,0,0,0,0,0,0,0,0,0,0,0,0,0,0,0,0,0,0,0,0,0,0,0,0,0,0,0,0,0,0,0,0,0,0,0,0,0,0,0]
[null,"'234 Interest Expense - Issue 3",null,null,null,null,null,"","",0,0,0,0,0,0,0,0,0,0,0,0,0,0,0,0,0,0,0,0,0,0,0,0,0,0,0,0,0,0,0,0,0,0,0,0,0,0,0,0,0,0,0,0,0,0,0,0,0,0,0,0,0,0,0,0,0,0,0,0,0,0,0,0,0,0,0,0,0,0,0,0,0,0,0,0,0,0,0,0,0,0,0,0,0,0,0,0,0,0,0,0,0,0,0,0,0,0,0,0,0,0,0,0,0,0,0,0,0,0,0,0,0,0,0,0,0,0,0,0,0,0,0,0,0,0,0,0,0,0,0,0,0,0,0,0,0,0,0,0,0,0,0,0,0,0,0]
[null,"'235 Opening Debt Balance - Issue 4",null,null,null,null,null,"","",0,0,0,0,0,0,0,0,0,0,0,0,0,0,0,0,0,0,0,0,0,0,0,0,0,0,0,0,0,0,0,0,0,0,0,0,0,0,0,0,0,0,0,0,0,0,0,0,0,0,0,0,0,0,0,0,0,0,0,0,0,0,0,0,0,0,0,0,0,0,0,0,0,0,0,0,0,0,0,0,0,0,0,0,0,0,0,0,0,0,0,0,0,0,0,0,0,0,0,0,0,0,0,0,0,0,0,0,0,0,0,0,0,0,0,0,0,0,0,0,0,0,0,0,0,0,0,0,0,0,0,0,0,0,0,0,0,0,0,0,0,0,0,0,0,0,0]
[null,"'236 Add: Debt Draws - Issue 4",null,null,null,null,null,"","",0,0,0,0,0,0,0,0,0,0,0,0,0,0,0,0,0,0,0,0,0,0,0,0,0,0,0,0,0,0,0,0,0,0,0,0,0,0,0,0,0,0,0,0,0,0,0,0,0,0,0,0,0,0,0,0,0,0,0,0,0,0,0,0,0,0,0,0,0,0,0,0,0,0,0,0,0,0,0,0,0,0,0,0,0,0,0,0,0,0,0,0,0,0,0,0,0,0,0,0,0,0,0,0,0,0,0,0,0,0,0,0,0,0,0,0,0,0,0,0,0,0,0,0,0,0,0,0,0,0,0,0,0,0,0,0,0,0,0,0,0,0,0,0,0,0,0]
[null,"'237 Less: Debt Repayments - Issue 4",null,null,null,null,null,"","",0,0,0,0,0,0,0,0,0,0,0,0,0,0,0,0,0,0,0,0,0,0,0,0,0,0,0,0,0,0,0,0,0,0,0,0,0,0,0,0,0,0,0,0,0,0,0,0,0,0,0,0,0,0,0,0,0,0,0,0,0,0,0,0,0,0,0,0,0,0,0,0,0,0,0,0,0,0,0,0,0,0,0,0,0,0,0,0,0,0,0,0,0,0,0,0,0,0,0,0,0,0,0,0,0,0,0,0,0,0,0,0,0,0,0,0,0,0,0,0,0,0,0,0,0,0,0,0,0,0,0,0,0,0,0,0,0,0,0,0,0,0,0,0,0,0,0]
[null,"'238 Less: Cash Sweep - Issue 4",null,null,null,null,null,"","",0,0,0,0,0,0,0,0,0,0,0,0,0,0,0,0,0,0,0,0,0,0,0,0,0,0,0,0,0,0,0,0,0,0,0,0,0,0,0,0,0,0,0,0,0,0,0,0,0,0,0,0,0,0,0,0,0,0,0,0,0,0,0,0,0,0,0,0,0,0,0,0,0,0,0,0,0,0,0,0,0,0,0,0,0,0,0,0,0,0,0,0,0,0,0,0,0,0,0,0,0,0,0,0,0,0,0,0,0,0,0,0,0,0,0,0,0,0,0,0,0,0,0,0,0,0,0,0,0,0,0,0,0,0,0,0,0,0,0,0,0,0,0,0,0,0,0]
[null,"'239 Closing Balance - Issue 4",null,null,null,null,null,"","",0,0,0,0,0,0,0,0,0,0,0,0,0,0,0,0,0,0,0,0,0,0,0,0,0,0,0,0,0,0,0,0,0,0,0,0,0,0,0,0,0,0,0,0,0,0,0,0,0,0,0,0,0,0,0,0,0,0,0,0,0,0,0,0,0,0,0,0,0,0,0,0,0,0,0,0,0,0,0,0,0,0,0,0,0,0,0,0,0,0,0,0,0,0,0,0,0,0,0,0,0,0,0,0,0,0,0,0,0,0,0,0,0,0,0,0,0,0,0,0,0,0,0,0,0,0,0,0,0,0,0,0,0,0,0,0,0,0,0,0,0,0,0,0,0,0,0]
[null,"'240 Interest Rate - Issue 4",null,null,null,null,null,"","",2.4166666666666668E-3,2.4166666666666668E-3,2.4166666666666668E-3,2.4166666666666668E-3,2.4166666666666668E-3,2.4166666666666668E-3,2.4166666666666668E-3,2.4166666666666668E-3,2.4166666666666668E-3,2.4166666666666668E-3,2.4166666666666668E-3,2.4166666666666668E-3,2.4166666666666668E-3,2.4166666666666668E-3,2.4166666666666668E-3,2.4166666666666668E-3,2.4166666666666668E-3,2.4166666666666668E-3,2.4166666666666668E-3,2.4166666666666668E-3,2.4166666666666668E-3,2.4166666666666668E-3,2.4166666666666668E-3,2.4166666666666668E-3,2.4166666666666668E-3,2.4166666666666668E-3,2.4166666666666668E-3,2.4166666666666668E-3,2.4166666666666668E-3,2.4166666666666668E-3,2.4166666666666668E-3,2.4166666666666668E-3,2.4166666666666668E-3,2.4166666666666668E-3,2.4166666666666668E-3,2.4166666666666668E-3,1.4500000000000001E-2,1.4500000000000001E-2,1.4500000000000001E-2,1.4500000000000001E-2,1.4500000000000001E-2,1.4500000000000001E-2,1.4500000000000001E-2,1.4500000000000001E-2,1.4500000000000001E-2,1.4500000000000001E-2,1.4500000000000001E-2,1.4500000000000001E-2,1.4500000000000001E-2,1.4500000000000001E-2,1.4500000000000001E-2,1.4500000000000001E-2,1.4500000000000001E-2,1.4500000000000001E-2,1.4500000000000001E-2,1.4500000000000001E-2,1.4500000000000001E-2,1.4500000000000001E-2,1.4500000000000001E-2,1.4500000000000001E-2,1.4500000000000001E-2,1.4500000000000001E-2,1.4500000000000001E-2,1.4500000000000001E-2,1.4500000000000001E-2,1.4500000000000001E-2,1.4500000000000001E-2,1.4500000000000001E-2,1.4500000000000001E-2,1.4500000000000001E-2,1.4500000000000001E-2,1.4500000000000001E-2,1.4500000000000001E-2,1.4500000000000001E-2,1.4500000000000001E-2,1.4500000000000001E-2,1.4500000000000001E-2,1.4500000000000001E-2,1.4500000000000001E-2,1.4500000000000001E-2,1.4500000000000001E-2,1.4500000000000001E-2,1.4500000000000001E-2,1.4500000000000001E-2,1.4500000000000001E-2,1.4500000000000001E-2,1.4500000000000001E-2,1.4500000000000001E-2,1.4500000000000001E-2,1.4500000000000001E-2,1.4500000000000001E-2,1.4500000000000001E-2,1.4500000000000001E-2,1.4500000000000001E-2,1.4500000000000001E-2,1.4500000000000001E-2,1.4500000000000001E-2,1.4500000000000001E-2,1.4500000000000001E-2,1.4500000000000001E-2,1.4500000000000001E-2,1.4500000000000001E-2,1.4500000000000001E-2,1.4500000000000001E-2,1.4500000000000001E-2,1.4500000000000001E-2,0,0,0,0,0,0,0,0,0,0,0,0,0,0,0,0,0,0,0,0,0,0,0,0,0,0,0,0,0,0,0,0,0,0,0,0,0,0,0,0,0]
[null,"'241 Interest Expense - Issue 4",null,null,null,null,null,"","",0,0,0,0,0,0,0,0,0,0,0,0,0,0,0,0,0,0,0,0,0,0,0,0,0,0,0,0,0,0,0,0,0,0,0,0,0,0,0,0,0,0,0,0,0,0,0,0,0,0,0,0,0,0,0,0,0,0,0,0,0,0,0,0,0,0,0,0,0,0,0,0,0,0,0,0,0,0,0,0,0,0,0,0,0,0,0,0,0,0,0,0,0,0,0,0,0,0,0,0,0,0,0,0,0,0,0,0,0,0,0,0,0,0,0,0,0,0,0,0,0,0,0,0,0,0,0,0,0,0,0,0,0,0,0,0,0,0,0,0,0,0,0,0,0,0,0]
[null,"'242 Opening Debt Balance - Issue 5",null,null,null,null,null,"","",0,0,0,0,0,0,0,0,0,0,0,0,0,0,0,0,0,0,0,0,0,0,0,0,0,0,0,0,0,0,0,0,0,0,0,0,0,0,0,0,0,0,0,0,0,0,0,0,0,0,0,0,0,0,0,0,0,0,0,0,0,0,0,0,0,0,0,0,0,0,0,0,0,0,0,0,0,0,0,0,0,0,0,0,0,0,0,0,0,0,0,0,0,0,0,0,0,0,0,0,0,0,0,0,0,0,0,0,0,0,0,0,0,0,0,0,0,0,0,0,0,0,0,0,0,0,0,0,0,0,0,0,0,0,0,0,0,0,0,0,0,0,0,0,0,0,0]
[null,"'243 Add: Debt Draws - Issue 5",null,null,null,null,null,"","",0,0,0,0,0,0,0,0,0,0,0,0,0,0,0,0,0,0,0,0,0,0,0,0,0,0,0,0,0,0,0,0,0,0,0,0,0,0,0,0,0,0,0,0,0,0,0,0,0,0,0,0,0,0,0,0,0,0,0,0,0,0,0,0,0,0,0,0,0,0,0,0,0,0,0,0,0,0,0,0,0,0,0,0,0,0,0,0,0,0,0,0,0,0,0,0,0,0,0,0,0,0,0,0,0,0,0,0,0,0,0,0,0,0,0,0,0,0,0,0,0,0,0,0,0,0,0,0,0,0,0,0,0,0,0,0,0,0,0,0,0,0,0,0,0,0,0]
[null,"'244 Less: Debt Repayments - Issue 5",null,null,null,null,null,"","",0,0,0,0,0,0,0,0,0,0,0,0,0,0,0,0,0,0,0,0,0,0,0,0,0,0,0,0,0,0,0,0,0,0,0,0,0,0,0,0,0,0,0,0,0,0,0,0,0,0,0,0,0,0,0,0,0,0,0,0,0,0,0,0,0,0,0,0,0,0,0,0,0,0,0,0,0,0,0,0,0,0,0,0,0,0,0,0,0,0,0,0,0,0,0,0,0,0,0,0,0,0,0,0,0,0,0,0,0,0,0,0,0,0,0,0,0,0,0,0,0,0,0,0,0,0,0,0,0,0,0,0,0,0,0,0,0,0,0,0,0,0,0,0,0,0,0]
[null,"'245 Less: Cash Sweep - Issue 5",null,null,null,null,null,"","","","","","","","","","","","","","",0,0,0,0,0,0,0,0,0,0,0,0,0,0,0,0,0,0,0,0,0,0,0,0,0,0,0,0,0,0,0,0,0,0,0,0,0,0,0,0,0,0,0,0,0,0,0,0,0,0,0,0,0,0,0,0,0,0,0,0,0,0,0,0,0,0,0,0,0,0,0,0,0,0,0,0,0,0,0,0,0,0,0,0,0,0,0,0,0,0,0,0,0,0,0,0,0,0,0,0,0,0,0,0,0,0,0,0,0,0,0,0,0,0,0,0,0,0,0,0,0,0,0,0,0,0,0,0,0,0,0,0,0,0,0]
[null,"'246 Closing Balance - Issue 5",null,null,null,null,null,"","",0,0,0,0,0,0,0,0,0,0,0,0,0,0,0,0,0,0,0,0,0,0,0,0,0,0,0,0,0,0,0,0,0,0,0,0,0,0,0,0,0,0,0,0,0,0,0,0,0,0,0,0,0,0,0,0,0,0,0,0,0,0,0,0,0,0,0,0,0,0,0,0,0,0,0,0,0,0,0,0,0,0,0,0,0,0,0,0,0,0,0,0,0,0,0,0,0,0,0,0,0,0,0,0,0,0,0,0,0,0,0,0,0,0,0,0,0,0,0,0,0,0,0,0,0,0,0,0,0,0,0,0,0,0,0,0,0,0,0,0,0,0,0,0,0,0,0]
[null,"'247 Interest Rate - Issue 5",null,null,null,null,null,"","",0,0,0,0,0,0,0,0,0,0,0,0,0,0,0,0,0,0,0,0,0,0,0,0,0,0,0,0,0,0,0,0,0,0,0,0,0,0,0,0,0,0,0,0,0,0,0,0,0,0,0,0,0,0,0,0,0,0,0,0,0,0,0,0,0,0,0,0,0,0,0,0,0,0,0,0,0,0,0,0,0,0,0,0,0,0,0,0,0,0,0,0,0,0,0,0,0,0,0,0,0,0,0,0,0,0,0,0,0,0,0,0,0,0,0,0,0,0,0,0,0,0,0,0,0,0,0,0,0,0,0,0,0,0,0,0,0,0,0,0,0,0,0,0,0,0,0]
[null,"'248 Interest Expense - Issue 5",null,null,null,null,null,"","",0,0,0,0,0,0,0,0,0,0,0,0,0,0,0,0,0,0,0,0,0,0,0,0,0,0,0,0,0,0,0,0,0,0,0,0,0,0,0,0,0,0,0,0,0,0,0,0,0,0,0,0,0,0,0,0,0,0,0,0,0,0,0,0,0,0,0,0,0,0,0,0,0,0,0,0,0,0,0,0,0,0,0,0,0,0,0,0,0,0,0,0,0,0,0,0,0,0,0,0,0,0,0,0,0,0,0,0,0,0,0,0,0,0,0,0,0,0,0,0,0,0,0,0,0,0,0,0,0,0,0,0,0,0,0,0,0,0,0,0,0,0,0,0,0,0,0]
[null,"'249 EBL Opening Balance",null,null,null,null,null,"","",0,0,0,0,0,0,0,0,0,0,0,0,0,0,0,0,0,0,0,0,0,0,0,0,0,0,0,0,0,0,0,0,0,0,0,0,0,0,0,0,0,0,0,0,0,0,0,0,0,0,0,0,0,0,0,0,0,0,0,0,0,0,0,0,0,0,0,0,0,0,0,0,0,0,0,0,0,0,0,0,0,0,0,0,0,0,0,0,0,0,0,0,0,0,0,0,0,0,0,0,0,0,0,0,0,0,0,0,0,0,0,0,0,0,0,0,0,0,0,0,0,0,0,0,0,0,0,0,0,0,0,0,0,0,0,0,0,0,0,0,0,0,0,0,0,0,0]
[null,"'250 EBL Draws",null,null,null,null,null,"","",0,0,0,0,0,0,0,0,0,0,0,0,0,0,0,0,0,0,0,0,0,0,0,0,0,0,0,0,0,0,0,0,0,0,0,0,0,0,0,0,0,0,0,0,0,0,0,0,0,0,0,0,0,0,0,0,0,0,0,0,0,0,0,0,0,0,0,0,0,0,0,0,0,0,0,0,0,0,0,0,0,0,0,0,0,0,0,0,0,0,0,0,0,0,0,0,0,0,0,0,0,0,0,0,0,0,0,0,0,0,0,0,0,0,0,0,0,0,0,0,0,0,0,0,0,0,0,0,0,0,0,0,0,0,0,0,0,0,0,0,0,0,0,0,0,0,0]
[null,"'251 EBL Interest Capitalised",null,null,null,null,null,"","",0,0,0,0,0,0,0,0,0,0,0,0,0,0,0,0,0,0,0,0,0,0,0,0,0,0,0,0,0,0,0,0,0,0,0,0,0,0,0,0,0,0,0,0,0,0,0,0,0,0,0,0,0,0,0,0,0,0,0,0,0,0,0,0,0,0,0,0,0,0,0,0,0,0,0,0,0,0,0,0,0,0,0,0,0,0,0,0,0,0,0,0,0,0,0,0,0,0,0,0,0,0,0,0,0,0,0,0,0,0,0,0,0,0,0,0,0,0,0,0,0,0,0,0,0,0,0,0,0,0,0,0,0,0,0,0,0,0,0,0,0,0,0,0,0,0,0]
[null,"'252 EBL Repayment",null,null,null,null,null,"","",0,0,0,0,0,0,0,0,0,0,0,0,0,0,0,0,0,0,0,0,0,0,0,0,0,0,0,0,0,0,0,0,0,0,0,0,0,0,0,0,0,0,0,0,0,0,0,0,0,0,0,0,0,0,0,0,0,0,0,0,0,0,0,0,0,0,0,0,0,0,0,0,0,0,0,0,0,0,0,0,0,0,0,0,0,0,0,0,0,0,0,0,0,0,0,0,0,0,0,0,0,0,0,0,0,0,0,0,0,0,0,0,0,0,0,0,0,0,0,0,0,0,0,0,0,0,0,0,0,0,0,0,0,0,0,0,0,0,0,0,0,0,0,0,0,0,0]
[null,"'253 EBL Closing Balance",null,null,null,null,null,"","",0,0,0,0,0,0,0,0,0,0,0,0,0,0,0,0,0,0,0,0,0,0,0,0,0,0,0,0,0,0,0,0,0,0,0,0,0,0,0,0,0,0,0,0,0,0,0,0,0,0,0,0,0,0,0,0,0,0,0,0,0,0,0,0,0,0,0,0,0,0,0,0,0,0,0,0,0,0,0,0,0,0,0,0,0,0,0,0,0,0,0,0,0,0,0,0,0,0,0,0,0,0,0,0,0,0,0,0,0,0,0,0,0,0,0,0,0,0,0,0,0,0,0,0,0,0,0,0,0,0,0,0,0,0,0,0,0,0,0,0,0,0,0,0,0,0,0]
[null,"'254 Shareholder Loan Opening Balance",null,null,null,null,null,"","",0,0,0,0,0,0,0,0,0,0,0,0,0,0,0,0,0,0,0,0,0,0,0,0,0,0,0,0,0,0,0,0,0,0,0,0,0,0,0,0,0,0,0,0,0,0,0,0,0,0,0,0,0,0,0,0,0,0,0,0,0,0,0,0,0,0,0,0,0,0,0,0,0,0,0,0,0,0,0,0,0,0,0,0,0,0,0,0,0,0,0,0,0,0,0,0,0,0,0,0,0,0,0,0,0,0,0,0,0,0,0,0,0,0,0,0,0,0,0,0,0,0,0,0,0,0,0,0,0,0,0,0,0,0,0,0,0,0,0,0,0,0,0,0,0,0,0]
[null,"'255 Shareholder Draws",null,null,null,null,null,"","",0,0,0,0,0,0,0,0,0,0,0,0,0,0,0,0,0,0,0,0,0,0,0,0,0,0,0,0,0,0,0,0,0,0,0,0,0,0,0,0,0,0,0,0,0,0,0,0,0,0,0,0,0,0,0,0,0,0,0,0,0,0,0,0,0,0,0,0,0,0,0,0,0,0,0,0,0,0,0,0,0,0,0,0,0,0,0,0,0,0,0,0,0,0,0,0,0,0,0,0,0,0,0,0,0,0,0,0,0,0,0,0,0,0,0,0,0,0,0,0,0,0,0,0,0,0,0,0,0,0,0,0,0,0,0,0,0,0,0,0,0,0,0,0,0,0,0]
[null,"'256 Shareholder Interest Capitalised",null,null,null,null,null,"","",0,0,0,0,0,0,0,0,0,0,0,0,0,0,0,0,0,0,0,0,0,0,0,0,0,0,0,0,0,0,0,0,0,0,0,0,0,0,0,0,0,0,0,0,0,0,0,0,0,0,0,0,0,0,0,0,0,0,0,0,0,0,0,0,0,0,0,0,0,0,0,0,0,0,0,0,0,0,0,0,0,0,0,0,0,0,0,0,0,0,0,0,0,0,0,0,0,0,0,0,0,0,0,0,0,0,0,0,0,0,0,0,0,0,0,0,0,0,0,0,0,0,0,0,0,0,0,0,0,0,0,0,0,0,0,0,0,0,0,0,0,0,0,0,0,0,0]
[null,"'257 Shareholder Lonan Repayment",null,null,null,null,null,"","",0,0,0,0,0,0,0,0,0,0,0,0,0,0,0,0,0,0,0,0,0,0,0,0,0,0,0,0,0,0,0,0,0,0,0,0,0,0,0,0,0,0,0,0,0,0,0,0,0,0,0,0,0,0,0,0,0,0,0,0,0,0,0,0,0,0,0,0,0,0,0,0,0,0,0,0,0,0,0,0,0,0,0,0,0,0,0,0,0,0,0,0,0,0,0,0,0,0,0,0,0,0,0,0,0,0,0,0,0,0,0,0,0,0,0,0,0,0,0,0,0,0,0,0,0,0,0,0,0,0,0,0,0,0,0,0,0,0,0,0,0,0,0,0,0,0,0]
[null,{"$f":"B712","v":"'258 Shareholder Loan Closing Balance"},null,null,null,null,null,"","",0,0,0,0,0,0,0,0,0,0,0,0,0,0,0,0,0,0,0,0,0,0,0,0,0,0,0,0,0,0,0,0,0,0,0,0,0,0,0,0,0,0,0,0,0,0,0,0,0,0,0,0,0,0,0,0,0,0,0,0,0,0,0,0,0,0,0,0,0,0,0,0,0,0,0,0,0,0,0,0,0,0,0,0,0,0,0,0,0,0,0,0,0,0,0,0,0,0,0,0,0,0,0,0,0,0,0,0,0,0,0,0,0,0,0,0,0,0,0,0,0,0,0,0,0,0,0,0,0,0,0,0,0,0,0,0,0,0,0,0,0,0,0,0,0,0,0]
[null,{"$f":"B713","v":"'259 Other Outputs"},null,null,null,null,null,"","","","","","","","","","","","","","","","","","","","","","","","","","","","","","","","","","","","","","","Operation","Operation","Operation","Operation","Operation","Operation","Operation","Operation","Operation","Operation","Operation","Operation","Operation","Operation","Operation","Operation","Operation","Operation","Operation","Operation","Operation","Operation","Operation","Operation","Operation","Operation","Operation","Operation","Operation","Operation","Operation","Operation","Operation","Operation","Operation","Operation","Operation","Operation","Operation","Operation","Operation","Operation","Operation","Operation","Operation","Operation","Operation","Operation","Operation","Operation","Operation","Operation","Operation","Operation","Operation","Operation","Operation","Operation","Operation","Operation","Operation","Operation","Operation","Operation","Operation","Operation","Operation","Operation","Operation","Operation",0,0,0,0,0,0,0,0,0,0,0,0,0,0,0,0,0,0,0,0,0,0,0,0,0,0,0,0,0,0,0,0,0,0,0,0,0,0,0,0,0]
[null,{"$f":"B714","v":"'260 Non Capture Sculpted Debt Service"},null,null,null,null,null,"","",0,0,0,0,0,0,0,0,0,0,0,0,0,0,0,0,0,0,0,0,0,0,0,0,0,0,0,0,0,0,0,0,0,0,0,0,0,0,0,0,0,0,0,0,0,0,0,0,0,0,0,0,0,0,0,0,0,0,0,0,0,0,0,0,0,0,0,0,0,0,0,0,0,0,0,0,0,0,0,0,0,0,0,0,0,0,0,0,0,0,0,0,0,0,0,0,0,0,0,0,0,0,0,0,0,0,0,0,0,0,0,0,0,0,0,0,0,0,0,0,0,0,0,0,0,0,0,0,0,0,0,0,0,0,0,0,0,0,0,0,0,0,0,0,0,0,0]
[null,{"$f":"B715","v":"'261 Capture Debt Service/Issue No."},null,null,null,null,null,1,"",0,0,0,0,0,0,0,0,0,0,0,0,0,0,0,0,0,0,0,0,0,0,0,0,0,0,0,0,0,0,0,0,0,0,0,0,0,4122.3585376076708,4249.4781259059073,4204.8057083598251,4334.4676884240253,4288.9018225270211,4421.1570421925053,4404.8364853482908,4509.5801830363562,4462.1734561571147,4599.7717866970825,4551.4169252802558,4691.7672224310245,4642.4452637858631,4785.6025668796474,4767.9366712823612,4881.3146182172404,4830.0000524428115,4978.9409105815866,4926.6000534916666,5078.5197287932169,5025.1320545615026,5136.6821700633091,4961.2324677747247,5073.9520578219617,5021.7940690828163,5140.8753289361093,5087.2733802169996,5208.3283575385385,5153.239228552502,5276.2928022890001,5249.886151420531,5344.6502197361478,5286.4497629807329,5413.573267246441,5353.7474562373791,5482.9439042830918,5421.4437244820538,5552.7377749979423,5522.217523540814,5622.8220086906585,5557.8178167950109,5693.378664675417,5626.5433548857518,5764.2749686637317,5695.5529176194295,5835.4793746590749,5800.2139833922047,5906.842691265394,5834.171007347466,5978.5564253937337,5903.8200599249603,6050.4710989973873,5973.6068872023952,0,0,0,0,0,0,0,0,0,0,0,0,0,0,0,0,0,0,0,0,0,0,0,0,0,0,0,0,0,0,0,0,0,0,0,0,0,0,0,0,0,0,0,0,0,0,0,0,0,0,0,0,0,0,0,0,0]
[null,{"$f":"B716","v":"'262 LLCR for sculpting"},null,null,null,null,null,"","",1.2,1.2,1.2,1.2,1.2,1.2,1.2,1.2,1.2,1.2,1.2,1.2,1.2,1.2,1.2,1.2,1.2,1.2,1.2,1.2,1.2,1.2,1.2,1.2,1.2,1.2,1.2,1.2,1.2,1.2,1.2,1.2,1.2,1.2,1.2,1.2,1.2,1.2,1.2,1.2,1.2,1.2,1.2,1.2,1.2,1.2,1.2,1.2,1.2,1.2,1.2,1.2,1.2,1.2,1.2,1.2,1.2,1.2,1.2,1.2,1.2,1.2,1.2,1.2,1.2,1.2,1.2,1.2,1.2,1.2,1.2,1.2,1.2,1.2,1.2,1.2,1.2,1.2,1.2,1.2,1.2,1.2,1.2,1.2,1.2,1.2,1.2,1.2,1.2,1.2,1.2,1.2,1.2,1.2,1.2,1.2,1.2,1.2,1.2,1.2,1.2,1.2,1.2,1.2,1.2,1.2,0,0,0,0,0,0,0,0,0,0,0,0,0,0,0,0,0,0,0,0,0,0,0,0,0,0,0,0,0,0,0,0,0,0,0,0,0,0,0,0,0]
[]
[]
[null,null,null,null,null,null,null,"IRR","XIRR"]
[null,"Pre-tax Project",null,null,null,null,null,{"$f":"IFERROR(IRR(J362:AH362),FALSE)","v":false},{"$f":"XIRR(J362:EZ362,J$5:EZ$5)","v":6.3753578066825842E-2}]
[null,"After-tax",null,null,null,null,null,{"$f":"IFERROR(IRR(J363:AH363),FALSE)","v":false},{"$f":"XIRR(J363:EZ363,J$5:EZ$5)","v":5.3269788622856154E-2}]
[null,"Debt IRR",null,null,null,null,null,{"$f":"IFERROR(IRR(J259:AH259),FALSE)","v":false}]
[null,"After-tax Debt IRR",null,null,null,null,null,{"$f":"IFERROR(IRR(J261:AH261),FALSE)","v":false}]
[null,"Equity IRR",null,null,null,null,null,{"$f":"IFERROR(IRR(J371:AH371),0)","v":8.3272945256719133E-2},{"$f":"XIRR(J376:EZ376,J5:EZ5)","v":2.9802322387695314E-9}]
[]
[]
["Go",null,null,"Back to Top"]
[]
[]
[]
[]
[]
[]
[]
[]
[null,"1 Iteration/Number of Issues/Period Count"]
[null,"'2 Senior Debt Sizing Parameters"]
[null,"'3 Mezzanine Debt Sizing Parameters"]
[null,"'4 Shareholder Debt Sizing Parameters"]
[null,"'5 Uses of Funds Pre-COD Section"]
[null,"'6 Capital Expenditures"]
[null,"'7 Working Capital Pre-COD/Total"]
[null,"'8 Development Success Fee"]
[null,"'9 Interest During Construction"]
[null,"'10 Shareholder Loand Interest During Construction"]
[null,"'11 Up-Front Fees"]
[null,"'12 Commitment Fees"]
[null,"'13 Other: PRI/EBL Interest/Witholdding/Standby Interest"]
[null,"'14 DSRA Funded During Construction"]
[null,"'15 Withholding Tax"]
[null,"16 VAT Debt Fees and Interest"]
[null,"'17 Total Uses Including Capitalised Items"]
[null,"'18 Less: Capitalised Interest and Fees Inclding WC, Standby etc."]
[null,"'19 Less: Capitalised Interest on EBL"]
[null,"'20 Less: Capitalised Interest on Shareholder Loan"]
[null,"'21 Less: Capitalised Fees on Debt Including WC, Standby etc."]
[null,"'22 Less: Capitalised Fees on EBL"]
[null,"'23 Cash Funding Needs for Pro-Rata (excl capitalised items)"]
[null,"'24 Sources of Funds Section"]
[null,"'25 Total Debt Funding from Debt with Fixed Dates"]
[null,"'26 Allocation to Up-Front Equity Financing (Total/Percent)"]
[null,"'27 Remaining Pro-Rata Funding from Equity and Debt"]
[null,"'28 Pro-Rata Funding from Equity"]
[null,"29 Pro-Rata Debt Funding"]
[null,"'30 Debt and Equity Sources"]
[null,"'31 Total Equity Draws Incl EBL and Shareholder Loans"]
[null,"'32 Senior Debt Financing/Pct Senior"]
[null,"'33 Mezzanine Debt Financing/Pct Senior"]
[null,"'34 Working Capital Draws"]
[null,"'35 Standby Draws"]
[null,"'36 Pre-COD EBITDA"]
[null,"'37 Pre-COD Taxes Paid"]
[null,"'38 Surplus Cash"]
[null,"'39 Accumulated Surplus Cash"]
[null,"'40 Total Sources"]
[null,"'41 Total Debt Including Cap Int and Fees"]
[null,"'42 Equity Components Section"]
[null,"'43 Up Front Equity Draws/Up Front %"]
[null,"'44 Pro-Rata Equity Draws/Equity Pro Rata %"]
[null,"'45 Total Equity Draws/Debt Pro Rata %"]
[null,"'46 Initial Share Capital"]
[null,"'47 EBL Draws"]
[null,"'48 EBL Repayment"]
[null,"'49 Shareholder Loan Draws"]
[null,"'50 Shareholder Loan IDC"]
[null,"'51 Common Equity Draws"]
[null,"'52 Income Tax Section"]
[null,"'53 Tax Parameters"]
[null,"'54 Tax Period (True is tax period)"]
[null,"'55 EBITDA/Start/End"]
[null,"'56 Depreciation without IDC"]
[null,"'57 IDC Depreciation"]
[null,"'58 Fee Amortisation"]
[null,"'59 EBIT"]
[null,"'60 Deductible Senior Interest"]
[null,"'61 Deductible Mezzanine Interest"]
[null,"'62 Deductible Shareholder Interest"]
[null,"'63 Total Deductible Interest/Max Pct"]
[null,"'64 EBT Before NOL Adjustment"]
[null,"'65 Additions to NOL"]
[null,"'66 Subtractions from NOL"]
[null,"'67 Adjusted EBT for NOL"]
[null,"'68 NOL Balance"]
[null,"'69 Taxes Paid/Tax Rate"]
[null,"'70 Non Deductible Interest"]
[null,"'71 Net Income"]
[null,"'72 CFADS Section"]
[null,"'73 EBITDA"]
[null,"'74 Working Capital Change"]
[null,"'75 Taxes Paid"]
[null,"'76 Interest Income/Rate"]
[null,"'77 Post COD Capital Expenditure"]
[null,"'78 Changes to MRA Account"]
[null,"'79 Changes to DSRA Account"]
[null,"'80 CFADS"]
[null,"'81 Non Sculpted Debt Service"]
[null,"'82 Interest Expense on Non-Sculpted Debt"]
[null,"'83 Repayment of Non Sculpted Debt"]
[null,"'84 Non Sculpted Debt Service (No Balloon)/PV"]
[null,"'85 Balloon Interest"]
[null,"'86 Balloon Repayment"]
[null,"'87 Total Non-Sculpted Interest Incl Balloon"]
[null,"'88 Total Non-Sculpted Repayment"]
[null,"'89 Total Non-Sculpted Debt Service Incl Balloon"]
[null,"'90 Senior Non-Sculpted Debt Service Incl Balloon"]
[null,"'91 Mezzanine Non-Sculpted Debt Service Incl Balloon"]
[null,"'92 Senior Debt Sculpting"]
[null,"'93 Senior Sculpting Parameters"]
[null,"'94 CFADS for Sculpting"]
[null,"'95 Senior DSCR Applied/Num/Denom"]
[null,"'96 Senior Sculpted Debt Service Before Other Debt"]
[null,"'97 Less: Senior Non Sculpt Debt Service"]
[null,"'98 Senior Sculpted Debt Service"]
[null,"'99 Senior Interest Expense"]
[null,"'100 Repayment Adjustment from DSRA"]
[null,"'101 Senior Sculpted Repayment"]
[null,"'102 Sculpt Period"]
[null,"'103 Sculpting Disc Fac/Debt IRR"]
[null,"'104 Debt Cash Flow for/Debt IRR"]
[null,"'105 Mezzanine (Total) Sculpting Analysis"]
[null,"'106 Total/Mezzanine Sculpting Parameters"]
[null,"'107 CFADS for Sculpting"]
[null,"'108 Total DSCR Applied for Mezzanine Sculpting"]
[null,"'109 Total Sculpted Debt Service Including Mezzanine"]
[null,"'110 Less: Total Non Sculpt Debt Service"]
[null,"'111 Total Sculpted Debt Service"]
[null,"'112 Less: Senior Sculpted Debt Service"]
[null,"'113 Mezzanine Sculpted Debt Service"]
[null,"'114 Less: Mezzanine Interest"]
[null,"'115 Mezzanine Repayment"]
[null,"'116 Total Sculpted Repayment"]
[null,"'117 Period for Sculpting Total"]
[null,"'118 Compound Interest Total/Debt IRR"]
[null,"'119 Total Debt Cash Flow for Debt IRR"]
[null,"'120 Computation of Senior DSCR"]
[null,"'121 CFADS"]
[null,"'122 DSRA Adjustment to CFADS"]
[null,"'123 Senior Debt Repayment"]
[null,"'124 Senior Interest Expense"]
[null,"'125 Senior Debt Service"]
[null,"'126 Senior DSCR Computed"]
[null,"'127 Total Debt Repayment"]
[null,"'128 Total Interest Expense"]
[null,"'129 Total Debt Service"]
[null,"'130 Total DSCR Computed"]
[null,"'131 Average Total Interest Rate"]
[null,"'132 DSRA Section"]
[null,"'133 DSRA Parameters"]
[null,"'134 Senior Debt Service"]
[null,"'135 DSRA Requirement"]
[null,"'136 DSRA Balance/DSRA Periods"]
[null,"'137 DSRA Funded"]
[null,"'138 DSRA Change/PV DSRA Flows/PV DSCR"]
[null,"'139 DSRA LC/LC Switch"]
[null,"'140 Interest Income"]
[null,"'141 DSRA LC Fee/PV Fees"]
[null,"'142 Re-financing Section"]
[null,"'143 Re-financing Number"]
[null,"'144 Re-finance Period"]
[null,"'145 Re-finance DSCR"]
[null,"'146 Re-financing Amount"]
[null,"'147 Sculpted Debt Service for Re-financing"]
[null,"'148 Re-finance fees"]
[null,"'149 Repayment of Loans from Re-financing"]
[null,"'150 Cash Flow Waterfall Section"]
[null,"'151 CFADS"]
[null,"'152 Less: Senior Interest"]
[null,"'153 Less: Senior Repayment"]
[null,"'154 Less: Senior Fees"]
[null,"'155 Subtotal: Senior Debt Service"]
[null,"'156 Subtotal: Cash Flow Before Senior Sweep"]
[null,"'157 Less: Senior Sweep"]
[null,"'158 Subtotal: Cash Flow After Sweep"]
[null,"'159 Less: Mezzanine Interest"]
[null,"'160 Less: Mezzanine Repayment"]
[null,"'161 Less: Mezzanine Fees"]
[null,"'162 Subtotal: Mezzanine Debt Service"]
[null,"'163 Subtotal: Cash Flow Before Mezzanine Sweep"]
[null,"'164 Less: Mezzanine Sweep"]
[null,"'165 Subtotal: Cash Flow Before Shareholder Loan"]
[null,"'166 Less: Shareholder Loan Sweep"]
[null,"'167 Cash Flow After Shareholder Loan"]
[null,"'168 Plus: Proceeds from Re-financing"]
[null,"'169 Less: Re-financing Fees"]
[null,"'170 Less: Early Repayment of Existing Debt"]
[null,"'171 Common Dividends"]
[null,"'172 Balance Sheet Section"]
[null,"'173 Net Equity Paid In Capital"]
[null,"'174 Retained Earnings"]
[null,"'175 Shareholder Loan Balance"]
[null,"'176 Equity Bridge Loan Balance"]
[null,"'177 Mezzanine Debt Balance"]
[null,"'178 Senior Debt Balance"]
[null,"'179 Total Debt"]
[null,"'180 Total Capitalisation"]
[null,"'181 DSRA Balance"]
[null,"'182 MRA Balance"]
[null,"'183 Gross Plant Balance"]
[null,"'184 Accumulated Depreciation"]
[null,"'185 Net IDC Balance"]
[null,"'186 Net Fee Balance"]
[null,"'187 Total Net Assets"]
[null,"'188 Cash Flow Analysis Section"]
[null,"'189 Pre tax cash flow"]
[null,"'190 After tax cash flow"]
[null,"'191 Pre tax debt cash flow"]
[null,"'192 Debt tax shield"]
[null,"'193 After tax debt cash flow"]
[null,"'194 Pre tax DSRA Cash"]
[null,"'195 MRA cash flow"]
[null,"'196 Cash Sweep (Senior and Mezzanine)"]
[null,"'197 Tax adjustment (Taxes - EBT x Tax)"]
[null,"'198 Total Equity cash flow Before EBL, Refinancing"]
[null,"'199 Pre tax EBL cash flow"]
[null,"'200 After tax EBL cash flow"]
[null,"'201 Shareholder Loan Cash Flow"]
[null,"'202 Re-financing Cash Flow"]
[null,"'203 Equity cash flow  after EBL"]
[null,"'204 Issue by Issue Section"]
[null,"'205 Debt Commitment by Issue"]
[null,"'206 Up Front Fee by Debt Issue"]
[null,"'207 Commitment Fee by Debt Issue"]
[null,"'208 IDC by Debt Issue"]
[null,"'209 Debt at COD by Issue"]
[null,"'210 Sculpt Switch"]
[null,"'211 Debt Tenure"]
[null,"'212 LLCR by Issue"]
[null,"'213 Refinance Start by Issue"]
[null,"'214 Opening Debt Balance - Issue 1"]
[null,"'215 Add: Debt Draws - Issue 1"]
[null,"'216 Less: Debt Repayments - Issue 1"]
[null,"'217 Less: Cash Sweep - Issue 1"]
[null,"'218 Closing Balance - Issue 1"]
[null,"'219 Interest Rate - Issue 1"]
[null,"'220 Interest Expense - Issue 1"]
[null,"'221 Opening Debt Balance - Issue 2"]
[null,"'222 Add: Debt Draws - Issue 2"]
[null,"'223 Less: Debt Repayments - Issue 2"]
[null,"'224 Less: Cash Sweep - Issue 2"]
[null,"'225 Closing Balance - Issue 2"]
[null,"'226 Interest Rate - Issue 2"]
[null,"'227 Interest Expense - Issue 2"]
[null,"'228 Opening Debt Balance - Issue 3"]
[null,"'229 Add: Debt Draws - Issue 3"]
[null,"'230 Less: Debt Repayments - Issue 3"]
[null,"'231 Less: Cash Sweep - Issue 3"]
[null,"'232 Closing Balance - Issue 3"]
[null,"'233 Interest Rate - Issue 3"]
[null,"'234 Interest Expense - Issue 3"]
[null,"'235 Opening Debt Balance - Issue 4"]
[null,"'236 Add: Debt Draws - Issue 4"]
[null,"'237 Less: Debt Repayments - Issue 4"]
[null,"'238 Less: Cash Sweep - Issue 4"]
[null,"'239 Closing Balance - Issue 4"]
[null,"'240 Interest Rate - Issue 4"]
[null,"'241 Interest Expense - Issue 4"]
[null,"'242 Opening Debt Balance - Issue 5"]
[null,"'243 Add: Debt Draws - Issue 5"]
[null,"'244 Less: Debt Repayments - Issue 5"]
[null,"'245 Less: Cash Sweep - Issue 5"]
[null,"'246 Closing Balance - Issue 5"]
[null,"'247 Interest Rate - Issue 5"]
[null,"'248 Interest Expense - Issue 5"]
[null,"'249 EBL Opening Balance"]
[null,"'250 EBL Draws"]
[null,"'251 EBL Interest Capitalised"]
[null,"'252 EBL Repayment"]
[null,"'253 EBL Closing Balance"]
[null,"'254 Shareholder Loan Opening Balance"]
[null,"'255 Shareholder Draws"]
[null,"'256 Shareholder Interest Capitalised"]
[null,"'257 Shareholder Lonan Repayment"]
[null,"'258 Shareholder Loan Closing Balance"]
[null,"'259 Other Outputs"]
[null,"'260 Non Capture Sculpted Debt Service"]
[null,"'261 Capture Debt Service/Issue No."]
[null,"'262 LLCR for sculpting"]
[]
[]
[]
[]
[]
[]
[]
[]
[]
[]
[]
[]
[]
[]
[]
[]
[]
[]
[]
[]
[]
[]
[]
[]
[]
[]
[]
[]
[]
[]
[]
[]
[]
[]
[]
[]
[]
[]
[]
[]
[]
[]
[]
[]
[]
[]
[]
[]
[]
[]
[]
[]
[]
[]
[]
[]
[]
[]
[]
[]
[]
[]
[]
[]
[]
[]
[]
[]
[]
[]
[]
[]
[]
[]
[]
[]
[]
[]
[]
[]
[]
[]
[]
[]
[]
[]
[]
[]
[]
[]
[]
[]
[]
[]
[]
[]
[]
[]
[]
[]
[]
[]
[]
[]
[]
[]
[]
[]
[]
[]
[]
[]
[]
[]
[]
[]
[]
[]
[]
[]
[]
[]
[]
[]
[]
[]
[]
[]
[]
[]
[]
[]
[]
[]
[]
[]
[]
[]
[]
[]
[]
[]
[]
[]
[]
[]
[]
[]
[]
[]
[]
[]
[]
[]
[]
[null,"General Points about the Function",null,null,null,null,null,"Diagram -- What happens here doesn't affect the rest of your model. So don't be afraid"]
[null,null,null,"Here are some Key Points"]
[]
[null,null,null,"Please Understand that you can add parallel model to any of your project finance models"]
[]
[null,null,null,"If you do not attach anything, the parallel model will be completely independent"]
[]
[null,null,null,"Understand that there are three sections to the parallel model"]
[null,null,null,"Section 1: Get Inputs to the parrallel model from your model"]
[null,null,null,"Section 2: Make function (may not be necessary)"]
[null,null,null,"Section 3: Check the Parallel Model with your Model -- Get the Model working first"]
[]
[null,"Step by Step Instructions"]
[null,null,"First, copy this sheet and and the code into your model. You can copy the sheet using ALT, E, M in English"]
[null,null,"To copy the code you can press the copy code button and then use CNTL C and CNTL A"]
[null,null,"Then, go to your model, press ALT, F8 and paste the code."]
[]
[null,null,"After you get this file into your model, I suggest trying a few simple things. Remember that the parallel model is independent of your model"]
[null,null,"You probably have to select the function area that has NAME and re-do it."]
[]
[null,null,"After you get started do not jump to fixing circular references.  If you have copy and pastes leave them in."]
[null,null,"Once the Function is working and at least gives you a bunch of zeros and not NAME etc, start linking variables.  I suggest starting with EBITDA and CAPEXP Only"]
[null,null,"Then, Add in Depreciation and taxes (as you should for any old model)"]
[]
[]
[]
[]
[]
[]
[null,"Why Include Re-financing"]
[]
[null,null,null,"I used to make separate UDF functions.  This is messy"]
[null,null,null,"Re-financing with sculpting and taxes causes circular references"]
[]
[]
[null,"What happens if you get a bunch of #VALUE's"]
[null,null,null,"The most common problem is that there is a problem with inputs"]
[]
[]
[]
[null,"Finding Items to Change in the VBA Code"]
[null,null,"Do not change too much (my mistake)"]
[null,null,"Find the section in the VBA code and understand the existing code"]
[]
[]
[null,"Other Comments"]
[null,null,"Trying to do this with other models may be difficult"]
[]
[]
[null,"Some Philosophical Aspects"]
[null,null,"Try not to make a black box and try to print important variables"]
[null,null,"Debt and taxes part of model causes problems, but only so many things to change. This is not like EBITDA"]
[]
[]
[]
[]
[]
[]
[]
[]
[]
[]
[]
[]
[]
["Instructions for Running the Parallel Model",null,null,null,"Go Back "]
[]
[null,"This page should be inserted into a new sheet in your model"]
[null,"Even though your models may often start at financial close, you should have one blank development period.  If you do not have a development period, do not worry. But start the reconciliation in the fourth instead of third column"]
[]
[null,"Link time-based variables to the model and not to the inputs to get the periods correct.  For example the periodic interest rate may be month by month and then semi-annual to correspond to the model."]
[]
[null,"With no development fee, you will have to move over one place"]
[]
[]
[]
[]
[]
[]
[]
[]
[]
[]
[]
[]
[]
[]
[]
[]
[]
[]
[]
[]
[]
[]
[]
[]
[]
[]
[]
[]
[]
[]
[]
[]
[]
[]
[]
[]
[]
[]
[]
[]
[]
[]
[]
[]
[]
[]
[]
[]
[]
[]
[]
[]
[]
[null,"Development Start Date"]
[null,"Months per Period in Development"]
[null,"Periods of Development"]
[null,"Financial Close"]
[null,"Months per Period in Construction"]
[null,"Periods of Construction"]
[null,"Commercial Operation"]
[null,"Months per Period in Construction"]
[null,"Periods of Operation"]
[null,"Decomissioning Date"]

{"sheet":"Parallel Model P99","index":5,"n_rows":1007,"n_cols":156,"rows_kept":1007,"cut":false,"hidden":false,"merged":[]}
["Consistent Time Line from Model"]
[null,"Press CNTL, Alt, F9 to Re-calc",null,null,null,"Instructions",null,null,"Input Check",false,"Eq IRR",{"$f":"I443","v":13.124729251861575},"Pr IRR",{"$f":"I440","v":2.736183702945709E-2},"Pre-tax",{"$f":"I439","v":3.3436325192451474E-2}]
[]
["Section 1: Get Time and Operating Inputs for the Parallel Model from Your Financial Model (Get Entire Line and start on line below)",null,null,null,null,null,null,null,null,1,2,3,4,5,6,7,8,9,10,11,12,13,14,15,16,17,18,19,20,21,22,23,24,25,26,27,28,29,30,31,32,33,34,35,36,37,38,39,40,41,42,43,44,45,46,47,48,49,50,51,52,53,54,55,56,57,58,59,60,61,62,63,64,65,66,67,68,69,70,71,72,73,74,75,76,77,78,79,80,81,82,83,84,85,86,87,88,89,90,91,92,93,94,95,96,97,98,99,100,101,102,103,104,105,106,107,108,109,110,111,112,113,114,115,116,117,118,119,120,121,122,123,124,125,126,127,128,129,130,131,132,133,134,135,136,137,138,139,140,141,142,143,144,145,146,147]
[null,"Start of Selection - First Line is Date",null,null,null,null,null,null,null,{"$f":"'Financial Model'!J4","v":"2019-01-01"},{"$f":"'Financial Model'!K4","v":"2019-02-01"},{"$f":"'Financial Model'!L4","v":"2019-03-01"},{"$f":"'Financial Model'!M4","v":"2019-04-01"},{"$f":"'Financial Model'!N4","v":"2019-05-01"},{"$f":"'Financial Model'!O4","v":"2019-06-01"},{"$f":"'Financial Model'!P4","v":"2019-07-01"},{"$f":"'Financial Model'!Q4","v":"2019-08-01"},{"$f":"'Financial Model'!R4","v":"2019-09-01"},{"$f":"'Financial Model'!S4","v":"2019-10-01"},{"$f":"'Financial Model'!T4","v":"2019-11-01"},{"$f":"'Financial Model'!U4","v":"2019-12-01"},{"$f":"'Financial Model'!V4","v":"2020-01-01"},{"$f":"'Financial Model'!W4","v":"2020-02-01"},{"$f":"'Financial Model'!X4","v":"2020-03-01"},{"$f":"'Financial Model'!Y4","v":"2020-04-01"},{"$f":"'Financial Model'!Z4","v":"2020-05-01"},{"$f":"'Financial Model'!AA4","v":"2020-06-01"},{"$f":"'Financial Model'!AB4","v":"2020-07-01"},{"$f":"'Financial Model'!AC4","v":"2020-08-01"},{"$f":"'Financial Model'!AD4","v":"2020-09-01"},{"$f":"'Financial Model'!AE4","v":"2020-10-01"},{"$f":"'Financial Model'!AF4","v":"2020-11-01"},{"$f":"'Financial Model'!AG4","v":"2020-12-01"},{"$f":"'Financial Model'!AH4","v":"2021-01-01"},{"$f":"'Financial Model'!AI4","v":"2021-02-01"},{"$f":"'Financial Model'!AJ4","v":"2021-03-01"},{"$f":"'Financial Model'!AK4","v":"2021-04-01"},{"$f":"'Financial Model'!AL4","v":"2021-05-01"},{"$f":"'Financial Model'!AM4","v":"2021-06-01"},{"$f":"'Financial Model'!AN4","v":"2021-07-01"},{"$f":"'Financial Model'!AO4","v":"2021-08-01"},{"$f":"'Financial Model'!AP4","v":"2021-09-01"},{"$f":"'Financial Model'!AQ4","v":"2021-10-01"},{"$f":"'Financial Model'!AR4","v":"2021-11-01"},{"$f":"'Financial Model'!AS4","v":"2021-12-01"},{"$f":"'Financial Model'!AT4","v":"2022-01-01"},{"$f":"'Financial Model'!AU4","v":"2022-07-01"},{"$f":"'Financial Model'!AV4","v":"2023-01-01"},{"$f":"'Financial Model'!AW4","v":"2023-07-01"},{"$f":"'Financial Model'!AX4","v":"2024-01-01"},{"$f":"'Financial Model'!AY4","v":"2024-07-01"},{"$f":"'Financial Model'!AZ4","v":"2025-01-01"},{"$f":"'Financial Model'!BA4","v":"2025-07-01"},{"$f":"'Financial Model'!BB4","v":"2026-01-01"},{"$f":"'Financial Model'!BC4","v":"2026-07-01"},{"$f":"'Financial Model'!BD4","v":"2027-01-01"},{"$f":"'Financial Model'!BE4","v":"2027-07-01"},{"$f":"'Financial Model'!BF4","v":"2028-01-01"},{"$f":"'Financial Model'!BG4","v":"2028-07-01"},{"$f":"'Financial Model'!BH4","v":"2029-01-01"},{"$f":"'Financial Model'!BI4","v":"2029-07-01"},{"$f":"'Financial Model'!BJ4","v":"2030-01-01"},{"$f":"'Financial Model'!BK4","v":"2030-07-01"},{"$f":"'Financial Model'!BL4","v":"2031-01-01"},{"$f":"'Financial Model'!BM4","v":"2031-07-01"},{"$f":"'Financial Model'!BN4","v":"2032-01-01"},{"$f":"'Financial Model'!BO4","v":"2032-07-01"},{"$f":"'Financial Model'!BP4","v":"2033-01-01"},{"$f":"'Financial Model'!BQ4","v":"2033-07-01"},{"$f":"'Financial Model'!BR4","v":"2034-01-01"},{"$f":"'Financial Model'!BS4","v":"2034-07-01"},{"$f":"'Financial Model'!BT4","v":"2035-01-01"},{"$f":"'Financial Model'!BU4","v":"2035-07-01"},{"$f":"'Financial Model'!BV4","v":"2036-01-01"},{"$f":"'Financial Model'!BW4","v":"2036-07-01"},{"$f":"'Financial Model'!BX4","v":"2037-01-01"},{"$f":"'Financial Model'!BY4","v":"2037-07-01"},{"$f":"'Financial Model'!BZ4","v":"2038-01-01"},{"$f":"'Financial Model'!CA4","v":"2038-07-01"},{"$f":"'Financial Model'!CB4","v":"2039-01-01"},{"$f":"'Financial Model'!CC4","v":"2039-07-01"},{"$f":"'Financial Model'!CD4","v":"2040-01-01"},{"$f":"'Financial Model'!CE4","v":"2040-07-01"},{"$f":"'Financial Model'!CF4","v":"2041-01-01"},{"$f":"'Financial Model'!CG4","v":"2041-07-01"},{"$f":"'Financial Model'!CH4","v":"2042-01-01"},{"$f":"'Financial Model'!CI4","v":"2042-07-01"},{"$f":"'Financial Model'!CJ4","v":"2043-01-01"},{"$f":"'Financial Model'!CK4","v":"2043-07-01"},{"$f":"'Financial Model'!CL4","v":"2044-01-01"},{"$f":"'Financial Model'!CM4","v":"2044-07-01"},{"$f":"'Financial Model'!CN4","v":"2045-01-01"},{"$f":"'Financial Model'!CO4","v":"2045-07-01"},{"$f":"'Financial Model'!CP4","v":"2046-01-01"},{"$f":"'Financial Model'!CQ4","v":"2046-07-01"},{"$f":"'Financial Model'!CR4","v":"2047-01-01"},{"$f":"'Financial Model'!CS4","v":"2047-07-01"},{"$f":"'Financial Model'!CT4","v":"2048-01-01"},{"$f":"'Financial Model'!CU4","v":"2048-07-01"},{"$f":"'Financial Model'!CV4","v":"2049-01-01"},{"$f":"'Financial Model'!CW4","v":"2049-07-01"},{"$f":"'Financial Model'!CX4","v":"2050-01-01"},{"$f":"'Financial Model'!CY4","v":"2050-07-01"},{"$f":"'Financial Model'!CZ4","v":"2051-01-01"},{"$f":"'Financial Model'!DA4","v":"2051-07-01"},{"$f":"'Financial Model'!DB4","v":"2052-01-01"},{"$f":"'Financial Model'!DC4","v":"2052-07-01"},{"$f":"'Financial Model'!DD4","v":"2053-01-01"},{"$f":"'Financial Model'!DE4","v":"2053-07-01"},{"$f":"'Financial Model'!DF4","v":"2054-01-01"},{"$f":"'Financial Model'!DG4","v":"2054-07-01"},{"$f":"'Financial Model'!DH4","v":"2055-01-01"},{"$f":"'Financial Model'!DI4","v":"2055-07-01"},{"$f":"'Financial Model'!DJ4","v":"2056-01-01"},{"$f":"'Financial Model'!DK4","v":"2056-07-01"},{"$f":"'Financial Model'!DL4","v":"2057-01-01"},{"$f":"'Financial Model'!DM4","v":"2057-07-01"},{"$f":"'Financial Model'!DN4","v":"2058-01-01"},{"$f":"'Financial Model'!DO4","v":"2058-07-01"},{"$f":"'Financial Model'!DP4","v":"2059-01-01"},{"$f":"'Financial Model'!DQ4","v":"2059-07-01"},{"$f":"'Financial Model'!DR4","v":"2060-01-01"},{"$f":"'Financial Model'!DS4","v":"2060-07-01"},{"$f":"'Financial Model'!DT4","v":"2061-01-01"},{"$f":"'Financial Model'!DU4","v":"2061-07-01"},{"$f":"'Financial Model'!DV4","v":"2062-01-01"},{"$f":"'Financial Model'!DW4","v":"2062-07-01"},{"$f":"'Financial Model'!DX4","v":"2063-01-01"},{"$f":"'Financial Model'!DY4","v":"2063-07-01"},{"$f":"'Financial Model'!DZ4","v":"2064-01-01"},{"$f":"'Financial Model'!EA4","v":"2064-07-01"},{"$f":"'Financial Model'!EB4","v":"2065-01-01"},{"$f":"'Financial Model'!EC4","v":"2065-07-01"},{"$f":"'Financial Model'!ED4","v":"2066-01-01"},{"$f":"'Financial Model'!EE4","v":"2066-07-01"},{"$f":"'Financial Model'!EF4","v":"2067-01-01"},{"$f":"'Financial Model'!EG4","v":"2067-07-01"},{"$f":"'Financial Model'!EH4","v":"2068-01-01"},{"$f":"'Financial Model'!EI4","v":"2068-07-01"},{"$f":"'Financial Model'!EJ4","v":"2069-01-01"},{"$f":"'Financial Model'!EK4","v":"2069-07-01"},{"$f":"'Financial Model'!EL4","v":"2070-01-01"},{"$f":"'Financial Model'!EM4","v":"2070-07-01"},{"$f":"'Financial Model'!EN4","v":"2071-01-01"},{"$f":"'Financial Model'!EO4","v":"2071-07-01"},{"$f":"'Financial Model'!EP4","v":"2072-01-01"},{"$f":"'Financial Model'!EQ4","v":"2072-07-01"},{"$f":"'Financial Model'!ER4","v":"2073-01-01"},{"$f":"'Financial Model'!ES4","v":"2073-07-01"},{"$f":"'Financial Model'!ET4","v":"2074-01-01"},{"$f":"'Financial Model'!EU4","v":"2074-07-01"},{"$f":"'Financial Model'!EV4","v":"2075-01-01"},{"$f":"'Financial Model'!EW4","v":"2075-07-01"},{"$f":"'Financial Model'!EX4","v":"2076-01-01"},{"$f":"'Financial Model'!EY4","v":"2076-07-01"},{"$f":"'Financial Model'!EZ4","v":"2077-01-01"}]
[null,null,"Development Period (these can be 1's and 0's)",null,null,null,null,null,null,true,false,false,false,false,false,false,false,false,false,false,false,false,false,false,false,false,false,false,false,false,false,false,false,false,false,false,false,false,false,false,false,false,false,false,false,false,false,false,false,false,false,false,false,false,false,false,false,false,false,false,false,false,false,false,false,false,false,false,false,false,false,false,false,false,false,false,false,false,false,false,false,false,false,false,false,false,false,false,false,false,false,false,false,false,false,false,false,false,false,false,false,false,false,false,false,false,false,false,false,false,false,false,false,false,false,false,false,false,false,false,false,false,false,false,false,false,false,false,false,false,false,false,false,false,false,false,false,false,false,false,false,false,false,false,false,false,false,false,false,false,false,false,false,false,false,false]
[null,null,"Construction Period",null,null,null,null,null,null,{"$f":"'Financial Model'!J7","v":true},{"$f":"'Financial Model'!K7","v":true},{"$f":"'Financial Model'!L7","v":true},{"$f":"'Financial Model'!M7","v":true},{"$f":"'Financial Model'!N7","v":true},{"$f":"'Financial Model'!O7","v":true},{"$f":"'Financial Model'!P7","v":true},{"$f":"'Financial Model'!Q7","v":true},{"$f":"'Financial Model'!R7","v":true},{"$f":"'Financial Model'!S7","v":true},{"$f":"'Financial Model'!T7","v":true},{"$f":"'Financial Model'!U7","v":true},{"$f":"'Financial Model'!V7","v":true},{"$f":"'Financial Model'!W7","v":true},{"$f":"'Financial Model'!X7","v":true},{"$f":"'Financial Model'!Y7","v":true},{"$f":"'Financial Model'!Z7","v":true},{"$f":"'Financial Model'!AA7","v":true},{"$f":"'Financial Model'!AB7","v":true},{"$f":"'Financial Model'!AC7","v":true},{"$f":"'Financial Model'!AD7","v":true},{"$f":"'Financial Model'!AE7","v":true},{"$f":"'Financial Model'!AF7","v":true},{"$f":"'Financial Model'!AG7","v":true},{"$f":"'Financial Model'!AH7","v":true},{"$f":"'Financial Model'!AI7","v":true},{"$f":"'Financial Model'!AJ7","v":true},{"$f":"'Financial Model'!AK7","v":true},{"$f":"'Financial Model'!AL7","v":true},{"$f":"'Financial Model'!AM7","v":true},{"$f":"'Financial Model'!AN7","v":true},{"$f":"'Financial Model'!AO7","v":true},{"$f":"'Financial Model'!AP7","v":true},{"$f":"'Financial Model'!AQ7","v":true},{"$f":"'Financial Model'!AR7","v":true},{"$f":"'Financial Model'!AS7","v":true},{"$f":"'Financial Model'!AT7","v":false},{"$f":"'Financial Model'!AU7","v":false},{"$f":"'Financial Model'!AV7","v":false},{"$f":"'Financial Model'!AW7","v":false},{"$f":"'Financial Model'!AX7","v":false},{"$f":"'Financial Model'!AY7","v":false},{"$f":"'Financial Model'!AZ7","v":false},{"$f":"'Financial Model'!BA7","v":false},{"$f":"'Financial Model'!BB7","v":false},{"$f":"'Financial Model'!BC7","v":false},{"$f":"'Financial Model'!BD7","v":false},{"$f":"'Financial Model'!BE7","v":false},{"$f":"'Financial Model'!BF7","v":false},{"$f":"'Financial Model'!BG7","v":false},{"$f":"'Financial Model'!BH7","v":false},{"$f":"'Financial Model'!BI7","v":false},{"$f":"'Financial Model'!BJ7","v":false},{"$f":"'Financial Model'!BK7","v":false},{"$f":"'Financial Model'!BL7","v":false},{"$f":"'Financial Model'!BM7","v":false},{"$f":"'Financial Model'!BN7","v":false},{"$f":"'Financial Model'!BO7","v":false},{"$f":"'Financial Model'!BP7","v":false},{"$f":"'Financial Model'!BQ7","v":false},{"$f":"'Financial Model'!BR7","v":false},{"$f":"'Financial Model'!BS7","v":false},{"$f":"'Financial Model'!BT7","v":false},{"$f":"'Financial Model'!BU7","v":false},{"$f":"'Financial Model'!BV7","v":false},{"$f":"'Financial Model'!BW7","v":false},{"$f":"'Financial Model'!BX7","v":false},{"$f":"'Financial Model'!BY7","v":false},{"$f":"'Financial Model'!BZ7","v":false},{"$f":"'Financial Model'!CA7","v":false},{"$f":"'Financial Model'!CB7","v":false},{"$f":"'Financial Model'!CC7","v":false},{"$f":"'Financial Model'!CD7","v":false},{"$f":"'Financial Model'!CE7","v":false},{"$f":"'Financial Model'!CF7","v":false},{"$f":"'Financial Model'!CG7","v":false},{"$f":"'Financial Model'!CH7","v":false},{"$f":"'Financial Model'!CI7","v":false},{"$f":"'Financial Model'!CJ7","v":false},{"$f":"'Financial Model'!CK7","v":false},{"$f":"'Financial Model'!CL7","v":false},{"$f":"'Financial Model'!CM7","v":false},{"$f":"'Financial Model'!CN7","v":false},{"$f":"'Financial Model'!CO7","v":false},{"$f":"'Financial Model'!CP7","v":false},{"$f":"'Financial Model'!CQ7","v":false},{"$f":"'Financial Model'!CR7","v":false},{"$f":"'Financial Model'!CS7","v":false},{"$f":"'Financial Model'!CT7","v":false},{"$f":"'Financial Model'!CU7","v":false},{"$f":"'Financial Model'!CV7","v":false},{"$f":"'Financial Model'!CW7","v":false},{"$f":"'Financial Model'!CX7","v":false},{"$f":"'Financial Model'!CY7","v":false},{"$f":"'Financial Model'!CZ7","v":false},{"$f":"'Financial Model'!DA7","v":false},{"$f":"'Financial Model'!DB7","v":false},{"$f":"'Financial Model'!DC7","v":false},{"$f":"'Financial Model'!DD7","v":false},{"$f":"'Financial Model'!DE7","v":false},{"$f":"'Financial Model'!DF7","v":false},{"$f":"'Financial Model'!DG7","v":false},{"$f":"'Financial Model'!DH7","v":false},{"$f":"'Financial Model'!DI7","v":false},{"$f":"'Financial Model'!DJ7","v":false},{"$f":"'Financial Model'!DK7","v":false},{"$f":"'Financial Model'!DL7","v":false},{"$f":"'Financial Model'!DM7","v":false},{"$f":"'Financial Model'!DN7","v":false},{"$f":"'Financial Model'!DO7","v":false},{"$f":"'Financial Model'!DP7","v":false},{"$f":"'Financial Model'!DQ7","v":false},{"$f":"'Financial Model'!DR7","v":false},{"$f":"'Financial Model'!DS7","v":false},{"$f":"'Financial Model'!DT7","v":false},{"$f":"'Financial Model'!DU7","v":false},{"$f":"'Financial Model'!DV7","v":false},{"$f":"'Financial Model'!DW7","v":false},{"$f":"'Financial Model'!DX7","v":false},{"$f":"'Financial Model'!DY7","v":false},{"$f":"'Financial Model'!DZ7","v":false},{"$f":"'Financial Model'!EA7","v":false},{"$f":"'Financial Model'!EB7","v":false},{"$f":"'Financial Model'!EC7","v":false},{"$f":"'Financial Model'!ED7","v":false},{"$f":"'Financial Model'!EE7","v":false},{"$f":"'Financial Model'!EF7","v":false},{"$f":"'Financial Model'!EG7","v":false},{"$f":"'Financial Model'!EH7","v":false},{"$f":"'Financial Model'!EI7","v":false},{"$f":"'Financial Model'!EJ7","v":false},{"$f":"'Financial Model'!EK7","v":false},{"$f":"'Financial Model'!EL7","v":false},{"$f":"'Financial Model'!EM7","v":false},{"$f":"'Financial Model'!EN7","v":false},{"$f":"'Financial Model'!EO7","v":false},{"$f":"'Financial Model'!EP7","v":false},{"$f":"'Financial Model'!EQ7","v":false},{"$f":"'Financial Model'!ER7","v":false},{"$f":"'Financial Model'!ES7","v":false},{"$f":"'Financial Model'!ET7","v":false},{"$f":"'Financial Model'!EU7","v":false},{"$f":"'Financial Model'!EV7","v":false},{"$f":"'Financial Model'!EW7","v":false},{"$f":"'Financial Model'!EX7","v":false},{"$f":"'Financial Model'!EY7","v":false},{"$f":"'Financial Model'!EZ7","v":false}]
[null,null,"Operation Period",null,null,null,null,null,null,{"$f":"'Financial Model'!J8","v":false},{"$f":"'Financial Model'!K8","v":false},{"$f":"'Financial Model'!L8","v":false},{"$f":"'Financial Model'!M8","v":false},{"$f":"'Financial Model'!N8","v":false},{"$f":"'Financial Model'!O8","v":false},{"$f":"'Financial Model'!P8","v":false},{"$f":"'Financial Model'!Q8","v":false},{"$f":"'Financial Model'!R8","v":false},{"$f":"'Financial Model'!S8","v":false},{"$f":"'Financial Model'!T8","v":false},{"$f":"'Financial Model'!U8","v":false},{"$f":"'Financial Model'!V8","v":false},{"$f":"'Financial Model'!W8","v":false},{"$f":"'Financial Model'!X8","v":false},{"$f":"'Financial Model'!Y8","v":false},{"$f":"'Financial Model'!Z8","v":false},{"$f":"'Financial Model'!AA8","v":false},{"$f":"'Financial Model'!AB8","v":false},{"$f":"'Financial Model'!AC8","v":false},{"$f":"'Financial Model'!AD8","v":false},{"$f":"'Financial Model'!AE8","v":false},{"$f":"'Financial Model'!AF8","v":false},{"$f":"'Financial Model'!AG8","v":false},{"$f":"'Financial Model'!AH8","v":false},{"$f":"'Financial Model'!AI8","v":false},{"$f":"'Financial Model'!AJ8","v":false},{"$f":"'Financial Model'!AK8","v":false},{"$f":"'Financial Model'!AL8","v":false},{"$f":"'Financial Model'!AM8","v":false},{"$f":"'Financial Model'!AN8","v":false},{"$f":"'Financial Model'!AO8","v":false},{"$f":"'Financial Model'!AP8","v":false},{"$f":"'Financial Model'!AQ8","v":false},{"$f":"'Financial Model'!AR8","v":false},{"$f":"'Financial Model'!AS8","v":false},{"$f":"'Financial Model'!AT8","v":true},{"$f":"'Financial Model'!AU8","v":true},{"$f":"'Financial Model'!AV8","v":true},{"$f":"'Financial Model'!AW8","v":true},{"$f":"'Financial Model'!AX8","v":true},{"$f":"'Financial Model'!AY8","v":true},{"$f":"'Financial Model'!AZ8","v":true},{"$f":"'Financial Model'!BA8","v":true},{"$f":"'Financial Model'!BB8","v":true},{"$f":"'Financial Model'!BC8","v":true},{"$f":"'Financial Model'!BD8","v":true},{"$f":"'Financial Model'!BE8","v":true},{"$f":"'Financial Model'!BF8","v":true},{"$f":"'Financial Model'!BG8","v":true},{"$f":"'Financial Model'!BH8","v":true},{"$f":"'Financial Model'!BI8","v":true},{"$f":"'Financial Model'!BJ8","v":true},{"$f":"'Financial Model'!BK8","v":true},{"$f":"'Financial Model'!BL8","v":true},{"$f":"'Financial Model'!BM8","v":true},{"$f":"'Financial Model'!BN8","v":true},{"$f":"'Financial Model'!BO8","v":true},{"$f":"'Financial Model'!BP8","v":true},{"$f":"'Financial Model'!BQ8","v":true},{"$f":"'Financial Model'!BR8","v":true},{"$f":"'Financial Model'!BS8","v":true},{"$f":"'Financial Model'!BT8","v":true},{"$f":"'Financial Model'!BU8","v":true},{"$f":"'Financial Model'!BV8","v":true},{"$f":"'Financial Model'!BW8","v":true},{"$f":"'Financial Model'!BX8","v":true},{"$f":"'Financial Model'!BY8","v":true},{"$f":"'Financial Model'!BZ8","v":true},{"$f":"'Financial Model'!CA8","v":true},{"$f":"'Financial Model'!CB8","v":true},{"$f":"'Financial Model'!CC8","v":true},{"$f":"'Financial Model'!CD8","v":true},{"$f":"'Financial Model'!CE8","v":true},{"$f":"'Financial Model'!CF8","v":true},{"$f":"'Financial Model'!CG8","v":true},{"$f":"'Financial Model'!CH8","v":true},{"$f":"'Financial Model'!CI8","v":true},{"$f":"'Financial Model'!CJ8","v":true},{"$f":"'Financial Model'!CK8","v":true},{"$f":"'Financial Model'!CL8","v":true},{"$f":"'Financial Model'!CM8","v":true},{"$f":"'Financial Model'!CN8","v":true},{"$f":"'Financial Model'!CO8","v":true},{"$f":"'Financial Model'!CP8","v":true},{"$f":"'Financial Model'!CQ8","v":true},{"$f":"'Financial Model'!CR8","v":true},{"$f":"'Financial Model'!CS8","v":true},{"$f":"'Financial Model'!CT8","v":true},{"$f":"'Financial Model'!CU8","v":true},{"$f":"'Financial Model'!CV8","v":true},{"$f":"'Financial Model'!CW8","v":true},{"$f":"'Financial Model'!CX8","v":true},{"$f":"'Financial Model'!CY8","v":true},{"$f":"'Financial Model'!CZ8","v":true},{"$f":"'Financial Model'!DA8","v":true},{"$f":"'Financial Model'!DB8","v":true},{"$f":"'Financial Model'!DC8","v":true},{"$f":"'Financial Model'!DD8","v":true},{"$f":"'Financial Model'!DE8","v":true},{"$f":"'Financial Model'!DF8","v":true},{"$f":"'Financial Model'!DG8","v":true},{"$f":"'Financial Model'!DH8","v":true},{"$f":"'Financial Model'!DI8","v":true},{"$f":"'Financial Model'!DJ8","v":true},{"$f":"'Financial Model'!DK8","v":true},{"$f":"'Financial Model'!DL8","v":false},{"$f":"'Financial Model'!DM8","v":false},{"$f":"'Financial Model'!DN8","v":false},{"$f":"'Financial Model'!DO8","v":false},{"$f":"'Financial Model'!DP8","v":false},{"$f":"'Financial Model'!DQ8","v":false},{"$f":"'Financial Model'!DR8","v":false},{"$f":"'Financial Model'!DS8","v":false},{"$f":"'Financial Model'!DT8","v":false},{"$f":"'Financial Model'!DU8","v":false},{"$f":"'Financial Model'!DV8","v":false},{"$f":"'Financial Model'!DW8","v":false},{"$f":"'Financial Model'!DX8","v":false},{"$f":"'Financial Model'!DY8","v":false},{"$f":"'Financial Model'!DZ8","v":false},{"$f":"'Financial Model'!EA8","v":false},{"$f":"'Financial Model'!EB8","v":false},{"$f":"'Financial Model'!EC8","v":false},{"$f":"'Financial Model'!ED8","v":false},{"$f":"'Financial Model'!EE8","v":false},{"$f":"'Financial Model'!EF8","v":false},{"$f":"'Financial Model'!EG8","v":false},{"$f":"'Financial Model'!EH8","v":false},{"$f":"'Financial Model'!EI8","v":false},{"$f":"'Financial Model'!EJ8","v":false},{"$f":"'Financial Model'!EK8","v":false},{"$f":"'Financial Model'!EL8","v":false},{"$f":"'Financial Model'!EM8","v":false},{"$f":"'Financial Model'!EN8","v":false},{"$f":"'Financial Model'!EO8","v":false},{"$f":"'Financial Model'!EP8","v":false},{"$f":"'Financial Model'!EQ8","v":false},{"$f":"'Financial Model'!ER8","v":false},{"$f":"'Financial Model'!ES8","v":false},{"$f":"'Financial Model'!ET8","v":false},{"$f":"'Financial Model'!EU8","v":false},{"$f":"'Financial Model'!EV8","v":false},{"$f":"'Financial Model'!EW8","v":false},{"$f":"'Financial Model'!EX8","v":false},{"$f":"'Financial Model'!EY8","v":false},{"$f":"'Financial Model'!EZ8","v":false}]
[]
[null,null,"Capital Expenditures (Physical from Model; i.e. no IDC, DSRA Fees, Development Fees etc.)",null,null,null,null,null,null,{"$f":"'Financial Model'!J119","v":2637.9240325551682},{"$f":"'Financial Model'!K119","v":3093.3403169936519},{"$f":"'Financial Model'!L119","v":3582.8733707780793},{"$f":"'Financial Model'!M119","v":4098.9588287667539},{"$f":"'Financial Model'!N119","v":4631.8447342996697},{"$f":"'Financial Model'!O119","v":5169.7884177859505},{"$f":"'Financial Model'!P119","v":5699.4098072242987},{"$f":"'Financial Model'!Q119","v":6206.1939159933036},{"$f":"'Financial Model'!R119","v":6675.1209117719745},{"$f":"'Financial Model'!S119","v":7091.3883923931016},{"$f":"'Financial Model'!T119","v":7441.1789220297569},{"$f":"'Financial Model'!U119","v":7712.4180432328667},{"$f":"'Financial Model'!V119","v":7895.4650695067921},{"$f":"'Financial Model'!W119","v":7983.6816436706113},{"$f":"'Financial Model'!X119","v":7973.8313282723811},{"$f":"'Financial Model'!Y119","v":7866.276692202724},{"$f":"'Financial Model'!Z119","v":7664.9571593607852},{"$f":"'Financial Model'!AA119","v":7377.1495063289867},{"$f":"'Financial Model'!AB119","v":7013.031311291561},{"$f":"'Financial Model'!AC119","v":6585.0838679934041},{"$f":"'Financial Model'!AD119","v":6107.3833796636472},{"$f":"'Financial Model'!AE119","v":5594.8364415454753},{"$f":"'Financial Model'!AF119","v":5062.4173601015045},{"$f":"'Financial Model'!AG119","v":4524.4608883435185},{"$f":"'Financial Model'!AH119","v":3994.0552627170587},{"$f":"'Financial Model'!AI119","v":3482.5682842163874},{"$f":"'Financial Model'!AJ119","v":2999.3251646437052},{"$f":"'Financial Model'!AK119","v":2551.4425961357783},{"$f":"'Financial Model'!AL119","v":2143.8104914276701},{"$f":"'Financial Model'!AM119","v":1779.2022612739834},{"$f":"'Financial Model'!AN119","v":1458.4870975808756},{"$f":"'Financial Model'!AO119","v":1180.9138085666771},{"$f":"'Financial Model'!AP119","v":944.43516676814841},{"$f":"'Financial Model'!AQ119","v":746.04399465720212},{"$f":"'Financial Model'!AR119","v":582.09660643111908},{"$f":"'Financial Model'!AS119","v":448.60492347546119},{"$f":"'Financial Model'!AT119","v":0},{"$f":"'Financial Model'!AU119","v":0},{"$f":"'Financial Model'!AV119","v":0},{"$f":"'Financial Model'!AW119","v":0},{"$f":"'Financial Model'!AX119","v":0},{"$f":"'Financial Model'!AY119","v":0},{"$f":"'Financial Model'!AZ119","v":0},{"$f":"'Financial Model'!BA119","v":0},{"$f":"'Financial Model'!BB119","v":0},{"$f":"'Financial Model'!BC119","v":0},{"$f":"'Financial Model'!BD119","v":0},{"$f":"'Financial Model'!BE119","v":0},{"$f":"'Financial Model'!BF119","v":0},{"$f":"'Financial Model'!BG119","v":0},{"$f":"'Financial Model'!BH119","v":0},{"$f":"'Financial Model'!BI119","v":0},{"$f":"'Financial Model'!BJ119","v":0},{"$f":"'Financial Model'!BK119","v":0},{"$f":"'Financial Model'!BL119","v":0},{"$f":"'Financial Model'!BM119","v":0},{"$f":"'Financial Model'!BN119","v":0},{"$f":"'Financial Model'!BO119","v":0},{"$f":"'Financial Model'!BP119","v":0},{"$f":"'Financial Model'!BQ119","v":0},{"$f":"'Financial Model'!BR119","v":0},{"$f":"'Financial Model'!BS119","v":0},{"$f":"'Financial Model'!BT119","v":0},{"$f":"'Financial Model'!BU119","v":0},{"$f":"'Financial Model'!BV119","v":0},{"$f":"'Financial Model'!BW119","v":0},{"$f":"'Financial Model'!BX119","v":0},{"$f":"'Financial Model'!BY119","v":0},{"$f":"'Financial Model'!BZ119","v":0},{"$f":"'Financial Model'!CA119","v":0},{"$f":"'Financial Model'!CB119","v":0},{"$f":"'Financial Model'!CC119","v":0},{"$f":"'Financial Model'!CD119","v":0},{"$f":"'Financial Model'!CE119","v":0},{"$f":"'Financial Model'!CF119","v":0},{"$f":"'Financial Model'!CG119","v":0},{"$f":"'Financial Model'!CH119","v":0},{"$f":"'Financial Model'!CI119","v":0},{"$f":"'Financial Model'!CJ119","v":0},{"$f":"'Financial Model'!CK119","v":0},{"$f":"'Financial Model'!CL119","v":0},{"$f":"'Financial Model'!CM119","v":0},{"$f":"'Financial Model'!CN119","v":0},{"$f":"'Financial Model'!CO119","v":0},{"$f":"'Financial Model'!CP119","v":0},{"$f":"'Financial Model'!CQ119","v":0},{"$f":"'Financial Model'!CR119","v":0},{"$f":"'Financial Model'!CS119","v":0},{"$f":"'Financial Model'!CT119","v":0},{"$f":"'Financial Model'!CU119","v":0},{"$f":"'Financial Model'!CV119","v":0},{"$f":"'Financial Model'!CW119","v":0},{"$f":"'Financial Model'!CX119","v":0},{"$f":"'Financial Model'!CY119","v":0},{"$f":"'Financial Model'!CZ119","v":0},{"$f":"'Financial Model'!DA119","v":0},{"$f":"'Financial Model'!DB119","v":0},{"$f":"'Financial Model'!DC119","v":0},{"$f":"'Financial Model'!DD119","v":0},{"$f":"'Financial Model'!DE119","v":0},{"$f":"'Financial Model'!DF119","v":0},{"$f":"'Financial Model'!DG119","v":0},{"$f":"'Financial Model'!DH119","v":0},{"$f":"'Financial Model'!DI119","v":0},{"$f":"'Financial Model'!DJ119","v":0},{"$f":"'Financial Model'!DK119","v":0},{"$f":"'Financial Model'!DL119","v":0},{"$f":"'Financial Model'!DM119","v":0},{"$f":"'Financial Model'!DN119","v":0},{"$f":"'Financial Model'!DO119","v":0},{"$f":"'Financial Model'!DP119","v":0},{"$f":"'Financial Model'!DQ119","v":0},{"$f":"'Financial Model'!DR119","v":0},{"$f":"'Financial Model'!DS119","v":0},{"$f":"'Financial Model'!DT119","v":0},{"$f":"'Financial Model'!DU119","v":0},{"$f":"'Financial Model'!DV119","v":0},{"$f":"'Financial Model'!DW119","v":0},{"$f":"'Financial Model'!DX119","v":0},{"$f":"'Financial Model'!DY119","v":0},{"$f":"'Financial Model'!DZ119","v":0},{"$f":"'Financial Model'!EA119","v":0},{"$f":"'Financial Model'!EB119","v":0},{"$f":"'Financial Model'!EC119","v":0},{"$f":"'Financial Model'!ED119","v":0},{"$f":"'Financial Model'!EE119","v":0},{"$f":"'Financial Model'!EF119","v":0},{"$f":"'Financial Model'!EG119","v":0},{"$f":"'Financial Model'!EH119","v":0},{"$f":"'Financial Model'!EI119","v":0},{"$f":"'Financial Model'!EJ119","v":0},{"$f":"'Financial Model'!EK119","v":0},{"$f":"'Financial Model'!EL119","v":0},{"$f":"'Financial Model'!EM119","v":0},{"$f":"'Financial Model'!EN119","v":0},{"$f":"'Financial Model'!EO119","v":0},{"$f":"'Financial Model'!EP119","v":0},{"$f":"'Financial Model'!EQ119","v":0},{"$f":"'Financial Model'!ER119","v":0},{"$f":"'Financial Model'!ES119","v":0},{"$f":"'Financial Model'!ET119","v":0},{"$f":"'Financial Model'!EU119","v":0},{"$f":"'Financial Model'!EV119","v":0},{"$f":"'Financial Model'!EW119","v":0},{"$f":"'Financial Model'!EX119","v":0},{"$f":"'Financial Model'!EY119","v":0},{"$f":"'Financial Model'!EZ119","v":0}]
[null,null,"EBITDA from Model",null,null,null,null,null,null,{"$f":"'Financial Model'!J113","v":0},{"$f":"'Financial Model'!K113","v":0},{"$f":"'Financial Model'!L113","v":0},{"$f":"'Financial Model'!M113","v":0},{"$f":"'Financial Model'!N113","v":0},{"$f":"'Financial Model'!O113","v":0},{"$f":"'Financial Model'!P113","v":0},{"$f":"'Financial Model'!Q113","v":0},{"$f":"'Financial Model'!R113","v":0},{"$f":"'Financial Model'!S113","v":0},{"$f":"'Financial Model'!T113","v":0},{"$f":"'Financial Model'!U113","v":0},{"$f":"'Financial Model'!V113","v":0},{"$f":"'Financial Model'!W113","v":0},{"$f":"'Financial Model'!X113","v":0},{"$f":"'Financial Model'!Y113","v":0},{"$f":"'Financial Model'!Z113","v":0},{"$f":"'Financial Model'!AA113","v":0},{"$f":"'Financial Model'!AB113","v":0},{"$f":"'Financial Model'!AC113","v":0},{"$f":"'Financial Model'!AD113","v":0},{"$f":"'Financial Model'!AE113","v":0},{"$f":"'Financial Model'!AF113","v":0},{"$f":"'Financial Model'!AG113","v":0},{"$f":"'Financial Model'!AH113","v":0},{"$f":"'Financial Model'!AI113","v":0},{"$f":"'Financial Model'!AJ113","v":0},{"$f":"'Financial Model'!AK113","v":0},{"$f":"'Financial Model'!AL113","v":0},{"$f":"'Financial Model'!AM113","v":0},{"$f":"'Financial Model'!AN113","v":0},{"$f":"'Financial Model'!AO113","v":0},{"$f":"'Financial Model'!AP113","v":0},{"$f":"'Financial Model'!AQ113","v":0},{"$f":"'Financial Model'!AR113","v":0},{"$f":"'Financial Model'!AS113","v":0},{"$f":"'Financial Model'!AT113","v":0},{"$f":"'Financial Model'!AU113","v":3597.6759228992451},{"$f":"'Financial Model'!AV113","v":3716.7745664299191},{"$f":"'Financial Model'!AW113","v":3669.6294413572296},{"$f":"'Financial Model'!AX113","v":3791.1100577585166},{"$f":"'Financial Model'!AY113","v":3743.0220301843747},{"$f":"'Financial Model'!AZ113","v":3866.9322589136864},{"$f":"'Financial Model'!BA113","v":3847.0583620323887},{"$f":"'Financial Model'!BB113","v":3944.2709040919617},{"$f":"'Financial Model'!BC113","v":3894.2401202038254},{"$f":"'Financial Model'!BD113","v":4023.1563221737993},{"$f":"'Financial Model'!BE113","v":3972.1249226079008},{"$f":"'Financial Model'!BF113","v":4103.6194486172772},{"$f":"'Financial Model'!BG113","v":4051.5674210600596},{"$f":"'Financial Model'!BH113","v":4185.691837589623},{"$f":"'Financial Model'!BI113","v":4164.1796924607825},{"$f":"'Financial Model'!BJ113","v":4269.4056743414158},{"$f":"'Financial Model'!BK113","v":4215.2507448708875},{"$f":"'Financial Model'!BL113","v":4354.7937878282446},{"$f":"'Financial Model'!BM113","v":4299.5557597683037},{"$f":"'Financial Model'!BN113","v":4441.8896635848096},{"$f":"'Financial Model'!BO113","v":4385.5468749636721},{"$f":"'Financial Model'!BP113","v":4530.7274568565063},{"$f":"'Financial Model'!BQ113","v":4507.4420191384625},{"$f":"'Financial Model'!BR113","v":4621.3420059936379},{"$f":"'Financial Model'!BS113","v":4562.7229687122053},{"$f":"'Financial Model'!BT113","v":4713.7688461135112},{"$f":"'Financial Model'!BU113","v":4653.9774280864485},{"$f":"'Financial Model'!BV113","v":4808.0442230357803},{"$f":"'Financial Model'!BW113","v":4747.0569766481794},{"$f":"'Financial Model'!BX113","v":4904.2051074964984},{"$f":"'Financial Model'!BY113","v":4879.0002008508081},{"$f":"'Financial Model'!BZ113","v":5002.2892096464275},{"$f":"'Financial Model'!CA113","v":4938.8380785047675},{"$f":"'Financial Model'!CB113","v":5102.3349938393567},{"$f":"'Financial Model'!CC113","v":5037.6148400748625},{"$f":"'Financial Model'!CD113","v":5204.3816937161446},{"$f":"'Financial Model'!CE113","v":5138.3671368763607},{"$f":"'Financial Model'!CF113","v":5308.4693275904683},{"$f":"'Financial Model'!CG113","v":5281.1867260473773},{"$f":"'Financial Model'!CH113","v":5414.6387141422783},{"$f":"'Financial Model'!CI113","v":5345.9571692061672},{"$f":"'Financial Model'!CJ113","v":5522.9314884251235},{"$f":"'Financial Model'!CK113","v":5452.8763125902897},{"$f":"'Financial Model'!CL113","v":5633.3901181936271},{"$f":"'Financial Model'!CM113","v":5561.9338388420974},{"$f":"'Financial Model'!CN113","v":5746.0579205574995},{"$f":"'Financial Model'!CO113","v":5716.5263552387933},{"$f":"'Financial Model'!CP113","v":5860.9790789686504},{"$f":"'Financial Model'!CQ113","v":5786.6359659313166},{"$f":"'Financial Model'!CR113","v":5978.1986605480233},{"$f":"'Financial Model'!CS113","v":5902.368685249945},{"$f":"'Financial Model'!CT113","v":6097.7626337589845},{"$f":"'Financial Model'!CU113","v":6020.4160589549447},{"$f":"'Financial Model'!CV113","v":6219.7178864341658},{"$f":"'Financial Model'!CW113","v":6187.7519703980561},{"$f":"'Financial Model'!CX113","v":6344.1122441628486},{"$f":"'Financial Model'!CY113","v":6263.6408677367253},{"$f":"'Financial Model'!CZ113","v":6470.9944890461038},{"$f":"'Financial Model'!DA113","v":6388.9136850914583},{"$f":"'Financial Model'!DB113","v":6600.4143788270285},{"$f":"'Financial Model'!DC113","v":0},{"$f":"'Financial Model'!DD113","v":0},{"$f":"'Financial Model'!DE113","v":0},{"$f":"'Financial Model'!DF113","v":0},{"$f":"'Financial Model'!DG113","v":0},{"$f":"'Financial Model'!DH113","v":0},{"$f":"'Financial Model'!DI113","v":0},{"$f":"'Financial Model'!DJ113","v":0},{"$f":"'Financial Model'!DK113","v":0},{"$f":"'Financial Model'!DL113","v":0},{"$f":"'Financial Model'!DM113","v":0},{"$f":"'Financial Model'!DN113","v":0},{"$f":"'Financial Model'!DO113","v":0},{"$f":"'Financial Model'!DP113","v":0},{"$f":"'Financial Model'!DQ113","v":0},{"$f":"'Financial Model'!DR113","v":0},{"$f":"'Financial Model'!DS113","v":0},{"$f":"'Financial Model'!DT113","v":0},{"$f":"'Financial Model'!DU113","v":0},{"$f":"'Financial Model'!DV113","v":0},{"$f":"'Financial Model'!DW113","v":0},{"$f":"'Financial Model'!DX113","v":0},{"$f":"'Financial Model'!DY113","v":0},{"$f":"'Financial Model'!DZ113","v":0},{"$f":"'Financial Model'!EA113","v":0},{"$f":"'Financial Model'!EB113","v":0},{"$f":"'Financial Model'!EC113","v":0},{"$f":"'Financial Model'!ED113","v":0},{"$f":"'Financial Model'!EE113","v":0},{"$f":"'Financial Model'!EF113","v":0},{"$f":"'Financial Model'!EG113","v":0},{"$f":"'Financial Model'!EH113","v":0},{"$f":"'Financial Model'!EI113","v":0},{"$f":"'Financial Model'!EJ113","v":0},{"$f":"'Financial Model'!EK113","v":0},{"$f":"'Financial Model'!EL113","v":0},{"$f":"'Financial Model'!EM113","v":0},{"$f":"'Financial Model'!EN113","v":0},{"$f":"'Financial Model'!EO113","v":0},{"$f":"'Financial Model'!EP113","v":0},{"$f":"'Financial Model'!EQ113","v":0},{"$f":"'Financial Model'!ER113","v":0},{"$f":"'Financial Model'!ES113","v":0},{"$f":"'Financial Model'!ET113","v":0},{"$f":"'Financial Model'!EU113","v":0},{"$f":"'Financial Model'!EV113","v":0},{"$f":"'Financial Model'!EW113","v":0},{"$f":"'Financial Model'!EX113","v":0},{"$f":"'Financial Model'!EY113","v":0},{"$f":"'Financial Model'!EZ113","v":0}]
[null,null,"Working Capital Change from Model",null,null,null,null,null,null,0,0,0,0,0,0,0,0,0,0,0,0,0,0,0,0,0,0,0,0,0,0,0,0,0,0,0,0,0,0,0,0,0,0,0,0,0,0,0,0,0,0,0,0,0,0,0,0,0,0,0,0,0,0,0,0,0,0,0,0,0,0,0,0,0,0,0,0,0,0,0,0,0,0,0,0,0,0,0,0,0,0,0,0,0,0,0,0,0,0,0,0,0,0,0,0,0,0,0,0,0,0,0,0,0,0,0,0,0,0,0,0,0,0,0,0,0,0,0,0,0,0,0,0,0,0,0,0,0,0,0,0,0,0,0,0,0,0,0,0,0,0,0,0,0,0,0]
[null,null,"Tax Depreciation Expense (Physical Cap Exp; i.e. excl IDC, Fees etc.)",null,null,null,null,null,null,{"$f":"'Financial Model'!J126","v":0},{"$f":"'Financial Model'!K126","v":0},{"$f":"'Financial Model'!L126","v":0},{"$f":"'Financial Model'!M126","v":0},{"$f":"'Financial Model'!N126","v":0},{"$f":"'Financial Model'!O126","v":0},{"$f":"'Financial Model'!P126","v":0},{"$f":"'Financial Model'!Q126","v":0},{"$f":"'Financial Model'!R126","v":0},{"$f":"'Financial Model'!S126","v":0},{"$f":"'Financial Model'!T126","v":0},{"$f":"'Financial Model'!U126","v":0},{"$f":"'Financial Model'!V126","v":0},{"$f":"'Financial Model'!W126","v":0},{"$f":"'Financial Model'!X126","v":0},{"$f":"'Financial Model'!Y126","v":0},{"$f":"'Financial Model'!Z126","v":0},{"$f":"'Financial Model'!AA126","v":0},{"$f":"'Financial Model'!AB126","v":0},{"$f":"'Financial Model'!AC126","v":0},{"$f":"'Financial Model'!AD126","v":0},{"$f":"'Financial Model'!AE126","v":0},{"$f":"'Financial Model'!AF126","v":0},{"$f":"'Financial Model'!AG126","v":0},{"$f":"'Financial Model'!AH126","v":0},{"$f":"'Financial Model'!AI126","v":0},{"$f":"'Financial Model'!AJ126","v":0},{"$f":"'Financial Model'!AK126","v":0},{"$f":"'Financial Model'!AL126","v":0},{"$f":"'Financial Model'!AM126","v":0},{"$f":"'Financial Model'!AN126","v":0},{"$f":"'Financial Model'!AO126","v":0},{"$f":"'Financial Model'!AP126","v":0},{"$f":"'Financial Model'!AQ126","v":0},{"$f":"'Financial Model'!AR126","v":0},{"$f":"'Financial Model'!AS126","v":0},{"$f":"'Financial Model'!AT126","v":2400.0000000000009},{"$f":"'Financial Model'!AU126","v":2400.0000000000009},{"$f":"'Financial Model'!AV126","v":2400.0000000000009},{"$f":"'Financial Model'!AW126","v":2400.0000000000009},{"$f":"'Financial Model'!AX126","v":2400.0000000000009},{"$f":"'Financial Model'!AY126","v":2400.0000000000009},{"$f":"'Financial Model'!AZ126","v":2400.0000000000009},{"$f":"'Financial Model'!BA126","v":2400.0000000000009},{"$f":"'Financial Model'!BB126","v":2400.0000000000009},{"$f":"'Financial Model'!BC126","v":2400.0000000000009},{"$f":"'Financial Model'!BD126","v":2400.0000000000009},{"$f":"'Financial Model'!BE126","v":2400.0000000000009},{"$f":"'Financial Model'!BF126","v":2400.0000000000009},{"$f":"'Financial Model'!BG126","v":2400.0000000000009},{"$f":"'Financial Model'!BH126","v":2400.0000000000009},{"$f":"'Financial Model'!BI126","v":2400.0000000000009},{"$f":"'Financial Model'!BJ126","v":2400.0000000000009},{"$f":"'Financial Model'!BK126","v":2400.0000000000009},{"$f":"'Financial Model'!BL126","v":2400.0000000000009},{"$f":"'Financial Model'!BM126","v":2400.0000000000009},{"$f":"'Financial Model'!BN126","v":2400.0000000000009},{"$f":"'Financial Model'!BO126","v":2400.0000000000009},{"$f":"'Financial Model'!BP126","v":2400.0000000000009},{"$f":"'Financial Model'!BQ126","v":2400.0000000000009},{"$f":"'Financial Model'!BR126","v":2400.0000000000009},{"$f":"'Financial Model'!BS126","v":2400.0000000000009},{"$f":"'Financial Model'!BT126","v":2400.0000000000009},{"$f":"'Financial Model'!BU126","v":2400.0000000000009},{"$f":"'Financial Model'!BV126","v":2400.0000000000009},{"$f":"'Financial Model'!BW126","v":2400.0000000000009},{"$f":"'Financial Model'!BX126","v":2400.0000000000009},{"$f":"'Financial Model'!BY126","v":2400.0000000000009},{"$f":"'Financial Model'!BZ126","v":2400.0000000000009},{"$f":"'Financial Model'!CA126","v":2400.0000000000009},{"$f":"'Financial Model'!CB126","v":2400.0000000000009},{"$f":"'Financial Model'!CC126","v":2400.0000000000009},{"$f":"'Financial Model'!CD126","v":2400.0000000000009},{"$f":"'Financial Model'!CE126","v":2400.0000000000009},{"$f":"'Financial Model'!CF126","v":2400.0000000000009},{"$f":"'Financial Model'!CG126","v":2400.0000000000009},{"$f":"'Financial Model'!CH126","v":2400.0000000000009},{"$f":"'Financial Model'!CI126","v":2400.0000000000009},{"$f":"'Financial Model'!CJ126","v":2400.0000000000009},{"$f":"'Financial Model'!CK126","v":2400.0000000000009},{"$f":"'Financial Model'!CL126","v":2400.0000000000009},{"$f":"'Financial Model'!CM126","v":2400.0000000000009},{"$f":"'Financial Model'!CN126","v":2400.0000000000009},{"$f":"'Financial Model'!CO126","v":2400.0000000000009},{"$f":"'Financial Model'!CP126","v":2400.0000000000009},{"$f":"'Financial Model'!CQ126","v":2400.0000000000009},{"$f":"'Financial Model'!CR126","v":2400.0000000000009},{"$f":"'Financial Model'!CS126","v":2400.0000000000009},{"$f":"'Financial Model'!CT126","v":2400.0000000000009},{"$f":"'Financial Model'!CU126","v":2400.0000000000009},{"$f":"'Financial Model'!CV126","v":2400.0000000000009},{"$f":"'Financial Model'!CW126","v":2400.0000000000009},{"$f":"'Financial Model'!CX126","v":2400.0000000000009},{"$f":"'Financial Model'!CY126","v":2400.0000000000009},{"$f":"'Financial Model'!CZ126","v":2400.0000000000009},{"$f":"'Financial Model'!DA126","v":2400.0000000000009},{"$f":"'Financial Model'!DB126","v":2400.0000000000009},{"$f":"'Financial Model'!DC126","v":2400.0000000000009},{"$f":"'Financial Model'!DD126","v":2400.0000000000009},{"$f":"'Financial Model'!DE126","v":2400.0000000000009},{"$f":"'Financial Model'!DF126","v":2400.0000000000009},{"$f":"'Financial Model'!DG126","v":2400.0000000000009},{"$f":"'Financial Model'!DH126","v":2400.0000000000009},{"$f":"'Financial Model'!DI126","v":2400.0000000000009},{"$f":"'Financial Model'!DJ126","v":2400.0000000000009},{"$f":"'Financial Model'!DK126","v":2400.0000000000009},{"$f":"'Financial Model'!DL126","v":0},{"$f":"'Financial Model'!DM126","v":0},{"$f":"'Financial Model'!DN126","v":0},{"$f":"'Financial Model'!DO126","v":0},{"$f":"'Financial Model'!DP126","v":0},{"$f":"'Financial Model'!DQ126","v":0},{"$f":"'Financial Model'!DR126","v":0},{"$f":"'Financial Model'!DS126","v":0},{"$f":"'Financial Model'!DT126","v":0},{"$f":"'Financial Model'!DU126","v":0},{"$f":"'Financial Model'!DV126","v":0},{"$f":"'Financial Model'!DW126","v":0},{"$f":"'Financial Model'!DX126","v":0},{"$f":"'Financial Model'!DY126","v":0},{"$f":"'Financial Model'!DZ126","v":0},{"$f":"'Financial Model'!EA126","v":0},{"$f":"'Financial Model'!EB126","v":0},{"$f":"'Financial Model'!EC126","v":0},{"$f":"'Financial Model'!ED126","v":0},{"$f":"'Financial Model'!EE126","v":0},{"$f":"'Financial Model'!EF126","v":0},{"$f":"'Financial Model'!EG126","v":0},{"$f":"'Financial Model'!EH126","v":0},{"$f":"'Financial Model'!EI126","v":0},{"$f":"'Financial Model'!EJ126","v":0},{"$f":"'Financial Model'!EK126","v":0},{"$f":"'Financial Model'!EL126","v":0},{"$f":"'Financial Model'!EM126","v":0},{"$f":"'Financial Model'!EN126","v":0},{"$f":"'Financial Model'!EO126","v":0},{"$f":"'Financial Model'!EP126","v":0},{"$f":"'Financial Model'!EQ126","v":0},{"$f":"'Financial Model'!ER126","v":0},{"$f":"'Financial Model'!ES126","v":0},{"$f":"'Financial Model'!ET126","v":0},{"$f":"'Financial Model'!EU126","v":0},{"$f":"'Financial Model'!EV126","v":0},{"$f":"'Financial Model'!EW126","v":0},{"$f":"'Financial Model'!EX126","v":0},{"$f":"'Financial Model'!EY126","v":0},{"$f":"'Financial Model'!EZ126","v":0}]
[null,null,"Tax Rate (Time Based)",null,null,null,null,null,null,{"$f":"'Financial Model'!$G$129","v":0.21},{"$f":"'Financial Model'!$G$129","v":0.21},{"$f":"'Financial Model'!$G$129","v":0.21},{"$f":"'Financial Model'!$G$129","v":0.21},{"$f":"'Financial Model'!$G$129","v":0.21},{"$f":"'Financial Model'!$G$129","v":0.21},{"$f":"'Financial Model'!$G$129","v":0.21},{"$f":"'Financial Model'!$G$129","v":0.21},{"$f":"'Financial Model'!$G$129","v":0.21},{"$f":"'Financial Model'!$G$129","v":0.21},{"$f":"'Financial Model'!$G$129","v":0.21},{"$f":"'Financial Model'!$G$129","v":0.21},{"$f":"'Financial Model'!$G$129","v":0.21},{"$f":"'Financial Model'!$G$129","v":0.21},{"$f":"'Financial Model'!$G$129","v":0.21},{"$f":"'Financial Model'!$G$129","v":0.21},{"$f":"'Financial Model'!$G$129","v":0.21},{"$f":"'Financial Model'!$G$129","v":0.21},{"$f":"'Financial Model'!$G$129","v":0.21},{"$f":"'Financial Model'!$G$129","v":0.21},{"$f":"'Financial Model'!$G$129","v":0.21},{"$f":"'Financial Model'!$G$129","v":0.21},{"$f":"'Financial Model'!$G$129","v":0.21},{"$f":"'Financial Model'!$G$129","v":0.21},{"$f":"'Financial Model'!$G$129","v":0.21},{"$f":"'Financial Model'!$G$129","v":0.21},{"$f":"'Financial Model'!$G$129","v":0.21},{"$f":"'Financial Model'!$G$129","v":0.21},{"$f":"'Financial Model'!$G$129","v":0.21},{"$f":"'Financial Model'!$G$129","v":0.21},{"$f":"'Financial Model'!$G$129","v":0.21},{"$f":"'Financial Model'!$G$129","v":0.21},{"$f":"'Financial Model'!$G$129","v":0.21},{"$f":"'Financial Model'!$G$129","v":0.21},{"$f":"'Financial Model'!$G$129","v":0.21},{"$f":"'Financial Model'!$G$129","v":0.21},{"$f":"'Financial Model'!$G$129","v":0.21},{"$f":"'Financial Model'!$G$129","v":0.21},{"$f":"'Financial Model'!$G$129","v":0.21},{"$f":"'Financial Model'!$G$129","v":0.21},{"$f":"'Financial Model'!$G$129","v":0.21},{"$f":"'Financial Model'!$G$129","v":0.21},{"$f":"'Financial Model'!$G$129","v":0.21},{"$f":"'Financial Model'!$G$129","v":0.21},{"$f":"'Financial Model'!$G$129","v":0.21},{"$f":"'Financial Model'!$G$129","v":0.21},{"$f":"'Financial Model'!$G$129","v":0.21},{"$f":"'Financial Model'!$G$129","v":0.21},{"$f":"'Financial Model'!$G$129","v":0.21},{"$f":"'Financial Model'!$G$129","v":0.21},{"$f":"'Financial Model'!$G$129","v":0.21},{"$f":"'Financial Model'!$G$129","v":0.21},{"$f":"'Financial Model'!$G$129","v":0.21},{"$f":"'Financial Model'!$G$129","v":0.21},{"$f":"'Financial Model'!$G$129","v":0.21},{"$f":"'Financial Model'!$G$129","v":0.21},{"$f":"'Financial Model'!$G$129","v":0.21},{"$f":"'Financial Model'!$G$129","v":0.21},{"$f":"'Financial Model'!$G$129","v":0.21},{"$f":"'Financial Model'!$G$129","v":0.21},{"$f":"'Financial Model'!$G$129","v":0.21},{"$f":"'Financial Model'!$G$129","v":0.21},{"$f":"'Financial Model'!$G$129","v":0.21},{"$f":"'Financial Model'!$G$129","v":0.21},{"$f":"'Financial Model'!$G$129","v":0.21},{"$f":"'Financial Model'!$G$129","v":0.21},{"$f":"'Financial Model'!$G$129","v":0.21},{"$f":"'Financial Model'!$G$129","v":0.21},{"$f":"'Financial Model'!$G$129","v":0.21},{"$f":"'Financial Model'!$G$129","v":0.21},{"$f":"'Financial Model'!$G$129","v":0.21},{"$f":"'Financial Model'!$G$129","v":0.21},{"$f":"'Financial Model'!$G$129","v":0.21},{"$f":"'Financial Model'!$G$129","v":0.21},{"$f":"'Financial Model'!$G$129","v":0.21},{"$f":"'Financial Model'!$G$129","v":0.21},{"$f":"'Financial Model'!$G$129","v":0.21},{"$f":"'Financial Model'!$G$129","v":0.21},{"$f":"'Financial Model'!$G$129","v":0.21},{"$f":"'Financial Model'!$G$129","v":0.21},{"$f":"'Financial Model'!$G$129","v":0.21},{"$f":"'Financial Model'!$G$129","v":0.21},{"$f":"'Financial Model'!$G$129","v":0.21},{"$f":"'Financial Model'!$G$129","v":0.21},{"$f":"'Financial Model'!$G$129","v":0.21},{"$f":"'Financial Model'!$G$129","v":0.21},{"$f":"'Financial Model'!$G$129","v":0.21},{"$f":"'Financial Model'!$G$129","v":0.21},{"$f":"'Financial Model'!$G$129","v":0.21},{"$f":"'Financial Model'!$G$129","v":0.21},{"$f":"'Financial Model'!$G$129","v":0.21},{"$f":"'Financial Model'!$G$129","v":0.21},{"$f":"'Financial Model'!$G$129","v":0.21},{"$f":"'Financial Model'!$G$129","v":0.21},{"$f":"'Financial Model'!$G$129","v":0.21},{"$f":"'Financial Model'!$G$129","v":0.21},{"$f":"'Financial Model'!$G$129","v":0.21},{"$f":"'Financial Model'!$G$129","v":0.21},{"$f":"'Financial Model'!$G$129","v":0.21},{"$f":"'Financial Model'!$G$129","v":0.21},{"$f":"'Financial Model'!$G$129","v":0.21},{"$f":"'Financial Model'!$G$129","v":0.21},{"$f":"'Financial Model'!$G$129","v":0.21},{"$f":"'Financial Model'!$G$129","v":0.21},{"$f":"'Financial Model'!$G$129","v":0.21},{"$f":"'Financial Model'!$G$129","v":0.21},{"$f":"'Financial Model'!$G$129","v":0.21},{"$f":"'Financial Model'!$G$129","v":0.21},{"$f":"'Financial Model'!$G$129","v":0.21},{"$f":"'Financial Model'!$G$129","v":0.21},{"$f":"'Financial Model'!$G$129","v":0.21},{"$f":"'Financial Model'!$G$129","v":0.21},{"$f":"'Financial Model'!$G$129","v":0.21},{"$f":"'Financial Model'!$G$129","v":0.21},{"$f":"'Financial Model'!$G$129","v":0.21},{"$f":"'Financial Model'!$G$129","v":0.21},{"$f":"'Financial Model'!$G$129","v":0.21},{"$f":"'Financial Model'!$G$129","v":0.21},{"$f":"'Financial Model'!$G$129","v":0.21},{"$f":"'Financial Model'!$G$129","v":0.21},{"$f":"'Financial Model'!$G$129","v":0.21},{"$f":"'Financial Model'!$G$129","v":0.21},{"$f":"'Financial Model'!$G$129","v":0.21},{"$f":"'Financial Model'!$G$129","v":0.21},{"$f":"'Financial Model'!$G$129","v":0.21},{"$f":"'Financial Model'!$G$129","v":0.21},{"$f":"'Financial Model'!$G$129","v":0.21},{"$f":"'Financial Model'!$G$129","v":0.21},{"$f":"'Financial Model'!$G$129","v":0.21},{"$f":"'Financial Model'!$G$129","v":0.21},{"$f":"'Financial Model'!$G$129","v":0.21},{"$f":"'Financial Model'!$G$129","v":0.21},{"$f":"'Financial Model'!$G$129","v":0.21},{"$f":"'Financial Model'!$G$129","v":0.21},{"$f":"'Financial Model'!$G$129","v":0.21},{"$f":"'Financial Model'!$G$129","v":0.21},{"$f":"'Financial Model'!$G$129","v":0.21},{"$f":"'Financial Model'!$G$129","v":0.21},{"$f":"'Financial Model'!$G$129","v":0.21},{"$f":"'Financial Model'!$G$129","v":0.21},{"$f":"'Financial Model'!$G$129","v":0.21},{"$f":"'Financial Model'!$G$129","v":0.21},{"$f":"'Financial Model'!$G$129","v":0.21},{"$f":"'Financial Model'!$G$129","v":0.21},{"$f":"'Financial Model'!$G$129","v":0.21},{"$f":"'Financial Model'!$G$129","v":0.21},{"$f":"'Financial Model'!$G$129","v":0.21}]
[null,null,"Capital Expenditures After COD",null,null,null,null,null,null,0,0,0,0,0,0,0,0,0,0,0,0,0,0,0,0,0,0,0,0,0,0,0,0,0,0,0,0,0,0,0,0,0,0,0,0,0,0,0,0,0,0,0,0,0,0,0,0,0,0,0,0,0,0,0,0,0,0,0,0,0,0,0,0,0,0,0,0,0,0,0,0,0,0,0,0,0,0,0,0,0,0,0,0,0,0,0,0,0,0,0,0,0,0,0,0,0,0,0,0,0,0,0,0,0,0,0,0,0,0,0,0,0,0,0,0,0,0,0,0,0,0,0,0,0,0,0,0,0,0,0,0,0,0,0,0,0,0,0,0,0,0,0,0,0,0,0]
[null,null,"Periods in Accumulating Tax (1 is for every period; could be quarterly with 2 or 4 etc)",null,null,null,null,null,null,1,null,{"$f":"IF(J16=1,\" Taxes Computed Each Operating Period\", \"Taxes Computed in Alternative Periods\")","v":" Taxes Computed Each Operating Period"}]
[null,null,"Apply Same Depreciation Rate to Financing Costs (IDC and Fees)",null,null,null,null,null,null,true,null,{"$f":"IF(J17,\" IDC Plant Basis has Same Depreciation Rate as Other Plant\",\"\")","v":" IDC Plant Basis has Same Depreciation Rate as Other Plant"}]
[null,null,"Zero Tax Depreciation for Amortisation of Financing Costs",null,null,null,null,null,null,false]
[null,null,"Debt Balance Percent for Finance Cost Amortisation",null,null,null,null,null,null,false]
[null,null,"Maximum Interest Limit as Percent of Taxable EBIT",null,null,null,null,null,null,1,null,{"$f":"IF(J20=1,\" No Limit on Tax Deductions\")","v":" No Limit on Tax Deductions"}]
[null,null,"Apply NOL (Not True Sets Tax to Zero but Does Not Accumulate)",null,null,null,null,null,null,true,null,{"$f":"IF(J21,\"Apply NOL Balance when Negative Taxes\",\"No Carryforward\")","v":"Apply NOL Balance when Negative Taxes"}]
[]
[]
["Start of General Debt Options Block Inputs Block (Start Selection Here and Select Entire Line)"]
[null,null,"Development Fee Percent (If zero use amount from below)",null,null,null,null,null,null,{"$f":"'Financial Model'!F27","v":0.2}]
[null,null,"Development Fee Amount (If zero use percent)",null,null,null,null,null,null,0]
[null,null,"Up-Front Equity Percent (Remainder is Pro-Rata)",null,null,null,null,null,null,{"$f":"'Financial Model'!F41","v":0.5},null,{"$f":"\"Input 0% for Pro-Rata or 100% for all Equity Up-Front\"","v":"Input 0% for Pro-Rata or 100% for all Equity Up-Front"}]
[null,null,"Senior Debt Sizing Option (1-4) 1-Fix;2-% Cap;3-DSCR;4-Min",null,null,null,null,null,null,4,null,{"$f":"CHOOSE(debt_size_method,\" Senior Debt in Model Driven by Fixed Debt Input\",\"Senior Debt in Model Driven by Debt to Capital Input\",\"Senior Debt in Model Driven by DSCR Input\",\"Senior Debt in Model Driven by Either Debt to Captial Input or DSCR\")","v":"Senior Debt in Model Driven by Either Debt to Captial Input or DSCR"}]
[null,null,"Senior Debt Fixed Amount for Option 1 (Currency in Model)",null,null,null,null,null,null,0,null,{"$f":"IF(debt_size_method=1,\"Method Applied\",\"Not Relevant\")","v":"Not Relevant"}]
[null,null,"Sr. Debt as Percent of Project Cost for Option 2 or Option 4",null,null,null,null,null,null,{"$f":"'Financial Model'!F39","v":0.89}]
[null,null,"DSCR for Senior Debt Sizing and Sculpting Debt",null,null,null,null,null,null,{"$f":"'Financial Model'!F36","v":1},{"$f":"J31","v":1},{"$f":"K31","v":1},1,1,1,1,1,1,1,1,1,1,1,1,1,1,1,1,1,1,1,1,1,1,1,1,1,1,1,1,1,1,1,1,1,1,1,1,1,1,1,1,1,1,1,1,1,1,1,1,1,1,1,1,1,1,1,1,1,1,1,1,1,1,1,{"$f":"BW31","v":1},1,1,1,1,1,1,1,1,1,1,1,1,1,1,1,1,1,1,1,1,1,1,1,1,1,1,1,1,1,1,1,1,1,1,1,1,1,1,1,1,1,1,1,1,1,1,1,1,1,1,1,1,1,1,1,1,1,1,1,1,1,1,1,{"$f":"EI31","v":1},1,1,1,1,1,1,1,1,1,1,1,1,1,1,1,1]
[null,null,"Include Mezzanine Debt (Boolean)",null,null,null,null,null,null,false,null,{"$f":"IF(J32,\"Mezzanine Included\",\"Mezzanine Not Included\")","v":"Mezzanine Not Included"}]
[null,null,"Mezzanine Debt Sizing Option (1-4) 1-Fix;2-% Cap;3-DSCR;4-Min)",null,null,null,null,null,null,3,null,{"$f":"IF(J32,CHOOSE(debt_size_method,\" Mezzanine Debt in Model Driven by Fixed Debt Input\",\"Mezzanine Debt in Model Driven by Debt to Capital Input\",\"Mezzanine Debt in Model Driven by DSCR Input\",\"Mezzanine Debt in Model Driven by Either Debt to Captial Input or DSCR\"),\"\")","v":""}]
[null,null,"Fixed Amount of Mezzanine Debt Input"]
[null,null,"Mezzanine Debt as Percent of Project Cost",null,null,null,null,null,null,{"$f":"'Financial Model'!F61","v":0}]
[null,null,"Total DSCR for Sculpting including Mezzanine Debt (Scalar or Time Series)",null,null,null,null,null,null,{"$f":"'Financial Model'!F60","v":1.2}]
[null,null,"Mezzanine Interest Deductability Percent",null,null,null,null,null,null,1]
[null,null,"Include Mezzanine IDC in Project Cost (Boolean)",null,null,null,null,null,null,true]
[null,null,"Mezzanine Debt Draws as Pro-Rata Debt (Boolean)",null,null,null,null,null,null,true]
[null,null,"Include Shareholder Debt (Boolean)",null,null,null,null,null,null,true,null,{"$f":"IF(J40,\"Shareholder Debt Included\",\"Shareholder Debt Not Included\")","v":"Shareholder Debt Included"}]
[null,null,"Shareholder Debt Sizing Option (1 or 2; 1-Fix;2-% Equity)",null,null,null,null,null,null,2,null,{"$f":"IF(J40,CHOOSE(J41,\"Fixed Shareholder Debt\",\"Shareholder Debt as Percent of Equity Issued\"),\"\")","v":"Shareholder Debt as Percent of Equity Issued"}]
[null,null,"Shareholder Fixed Amount of Debt",null,null,null,null,null,null,0,null,{"$f":"IF(J40,IF(J41=1,\"Fixed Method Applied\",\"Not Relevant\"),\"\")","v":"Not Relevant"}]
[null,null,"Shareholder Debt as % of Equity",null,null,null,null,null,null,0,null,{"$f":"IF(J40,IF(J41=2,\"Percent Method Applied\",\"Not Relevant\"),\"\")","v":"Percent Method Applied"}]
[null,null,"Include Shareholder Debt IDC in Project Cost",null,null,null,null,null,null,true,null,{"$f":"IF(J40,IF(J44,\"Include Shareholder IDC in Project Cost\",\"Do not include Shareholder Debt IDC in Project Cost\"),\"\")","v":"Include Shareholder IDC in Project Cost"}]
[null,null,"Shareholder Interest Deductibility Percent",null,null,null,null,null,null,1]
[null,null,"DSRA Forward Periods (Percent if Annual)",null,null,null,null,null,null,{"$f":"'Financial Model'!F55","v":1},null,{"$f":"IF(J46<1,\"DSRA Using Percent of Prospective Debt Service\",\"DSRA Using DSRA Periods\")","v":"DSRA Using DSRA Periods"}]
[null,null,"DSRA Letter of Credit (TRUE-L/C; NOT TRUE - Funded)",null,null,null,null,null,null,false,null,{"$f":"IF(J47,\"Using Letter of Credit for DSRA\",\"Cash Based for DSRA\")","v":"Cash Based for DSRA"}]
[null,null,"Interest Income Rate for DSRA",null,null,null,null,null,null,0,0,0,0,0,0,0,0,0,0,0,0,0,0,0,0,0,0,0,0,0,0,0,0,0,0,0,0,0,0,0,0,0,0,0,0,0,0,0,0,0,0,0,0,0,0,0,0,0,0,0,0,0,0,0,0,0,0,0,0,0,0,0,0,0,0,0,0,0,0,0,0,0,0,0,0,0,0,0,0,0,0,0,0,0,0,0,0,0,0,0,0,0,0,0,0,0,0,0,0,0,0,0,0,0,0,0,0,0,0,0,0,0,0,0,0,0,0,0,0,0,0,0,0,0,0,0,0,0,0,0,0,0,0,0,0,0,0,0,0,0,0,0,0,0,0,0]
[null,null,"Fee Percent for DSRA Letter of Credit",null,null,null,null,null,null,0,0,0,0,0,0,0,0,0,0,0,0,0,0,0,0,0,0,0,0,0,0,0,0,0,0,0,0,0,0,0,0,0,0,0,0,0,0,0,0,0,0,0,0,0,0,0,0,0,0,0,0,0,0,0,0,0,0,0,0,0,0,0,0,0,0,0,0,0,0,0,0,0,0,0,0,0,0,0,0,0,0,0,0,0,0,0,0,0,0,0,0,0,0,0,0,0,0,0,0,0,0,0,0,0,0,0,0,0,0,0,0,0,0,0,0,0,0,0,0,0,0,0,0,0,0,0,0,0,0,0,0,0,0,0,0,0,0,0,0,0,0,0,0,0,0,0]
[null,null,"MRA Net Cash Flows",null,null,null,null,null,null,0,0,0,0,0,0,0,0,0,0,0,0,0,0,0,0,0,0,0,0,0,0,0,0,0,0,0,0,0,0,0,0,0,0,0,0,0,0,0,0,0,0,0,0,0,0,0,0,0,0,0,0,0,0,0,0,0,0,0,0,0,0,0,0,0,0,0,0,0,0,0,0,0,0,0,0,0,0,0,0,0,0,0,0,0,0,0,0,0,0,0,0,0,0,0,0,0,0,0,0,0,0,0,0,0,0,0,0,0,0,0,0,0,0,0,0,0,0,0,0,0,0,0,0,0,0,0,0,0,0,0,0,0,0,0,0,0,0,0,0,0,0,0,0,0,0,0]
[null,null,"Option to Include DSRA Changes in CFADS or Debt Service (1-3)",null,null,null,null,null,null,1,null,{"$f":"CHOOSE(J51,\"DSRA Flows Do Not Affect CFADS or Sculpting\",\"DSRA Changes in CFADS\",\"DSRA Chages in Debt Service\")","v":"DSRA Flows Do Not Affect CFADS or Sculpting"}]
[null,null,"Taxes on Development Fee",null,null,null,null,null,null,false]
[null,null,"Taxes on Pre-COD Income",null,null,null,null,null,null,false]
[null,null,"Percent of Development Fee at Financial Close (Can Change to COD)",null,null,null,null,null,null,1]
[null,null,"EBL Switch (True is include)",null,null,null,null,null,null,false,null,{"$f":"IF(J55,\"EBL Included\",\"EBL Not Included\")","v":"EBL Not Included"}]
[null,null,"Initial Share Capital in Case of EBL",null,null,null,null,null,null,0]
[null,null,"Percent of Debt Subject to Witholding Tax",null,null,null,null,null,null,0]
[null,null,"Witholding Tax Rate",null,null,null,null,null,null,0,0,0,0,0,0,0,0,0,0,0,0,0,0,0,0,0,0,0,0,0,0,0,0,0,0,0,0,0,0,0,0,0,0,0,0,0,0,0,0,0,0,0,0,0,0,0,0,0,0,0,0,0,0,0,0,0,0,0,0,0,0,0,0,0,0,0,0,0,0,0,0,0,0,0,0,0,0,0,0,0,0,0,0,0,0,0,0,0,0,0,0,0,0,0,0,0,0,0,0,0,0,0,0,0,0,0,0,0,0,0,0,0,0,0,0,0,0,0,0,0,0,0,0,0,0,0,0,0,0,0,0,0,0,0,0,0,0,0,0,0,0,0,0,0,0,0]
[null,null,"Working Capital Facility Switch",null,null,null,null,null,null,true]
[null,null,"Standby Commitment Switch (True is Inpt)",null,null,null,null,null,null,false]
[null,null,"Grace Period for Senior Sculpting (in Periods)",null,null,null,null,null,null,0]
[null,null,"Number of Debt Issues",null,null,null,null,null,null,2,null,{"$f":"IF(J62<1,\"You Must Enter the number of debt issues that are applied\",\"You Must Enter the number of debt issues\")","v":"You Must Enter the number of debt issues"}]
[null,null,"Blank Input",null,null,null,null,null,null,false]
[]
[]
[]
["Issue by Issue Debt"]
[null,"Issue 1 - Start the selection here"]
[null,null,"Senior/Mezz Debt (1-Senior; 2-Mezz; 3-Shareholder Loan; 4--EBL; 5--WC; 6 -- Standby; 7 VAT)",null,null,null,null,null,null,1,{"$f":"CHOOSE(J69,\"Senior Debt Facility\",\"Mezzanine Debt Facility\",\"Shareholder Loan\",\"Equity Bridge Loan\",\"Working Capital Facility\",\"Standby Debt Facility\",\"VAT Facility\")","v":"Senior Debt Facility"}]
[null,null,{"$f":"CHOOSE(J69,\"Percent of Senior Debt Loans (zero for re-finance)\",\"Percent of Mezzanine Debt Loans\",\"Percent of Shareholder Loans\",\"Percent of EBL\",\"Percent of Working Capital Facility\",\"Percent of Standby Debt\",\"Percent of VAT Facilities\")","v":"Percent of Senior Debt Loans (zero for re-finance)"},null,null,null,null,null,null,1]
[null,null,"Periodic Interest Rate",null,null,null,null,null,null,{"$f":"'Financial Model'!J185","v":2.6666666666666666E-3},{"$f":"'Financial Model'!K185","v":2.6666666666666666E-3},{"$f":"'Financial Model'!L185","v":2.6666666666666666E-3},{"$f":"'Financial Model'!M185","v":2.6666666666666666E-3},{"$f":"'Financial Model'!N185","v":2.6666666666666666E-3},{"$f":"'Financial Model'!O185","v":2.6666666666666666E-3},{"$f":"'Financial Model'!P185","v":2.6666666666666666E-3},{"$f":"'Financial Model'!Q185","v":2.6666666666666666E-3},{"$f":"'Financial Model'!R185","v":2.6666666666666666E-3},{"$f":"'Financial Model'!S185","v":2.6666666666666666E-3},{"$f":"'Financial Model'!T185","v":2.6666666666666666E-3},{"$f":"'Financial Model'!U185","v":2.6666666666666666E-3},{"$f":"'Financial Model'!V185","v":2.6666666666666666E-3},{"$f":"'Financial Model'!W185","v":2.6666666666666666E-3},{"$f":"'Financial Model'!X185","v":2.6666666666666666E-3},{"$f":"'Financial Model'!Y185","v":2.6666666666666666E-3},{"$f":"'Financial Model'!Z185","v":2.6666666666666666E-3},{"$f":"'Financial Model'!AA185","v":2.6666666666666666E-3},{"$f":"'Financial Model'!AB185","v":2.6666666666666666E-3},{"$f":"'Financial Model'!AC185","v":2.6666666666666666E-3},{"$f":"'Financial Model'!AD185","v":2.6666666666666666E-3},{"$f":"'Financial Model'!AE185","v":2.6666666666666666E-3},{"$f":"'Financial Model'!AF185","v":2.6666666666666666E-3},{"$f":"'Financial Model'!AG185","v":2.6666666666666666E-3},{"$f":"'Financial Model'!AH185","v":2.6666666666666666E-3},{"$f":"'Financial Model'!AI185","v":2.6666666666666666E-3},{"$f":"'Financial Model'!AJ185","v":2.6666666666666666E-3},{"$f":"'Financial Model'!AK185","v":2.6666666666666666E-3},{"$f":"'Financial Model'!AL185","v":2.6666666666666666E-3},{"$f":"'Financial Model'!AM185","v":2.6666666666666666E-3},{"$f":"'Financial Model'!AN185","v":2.6666666666666666E-3},{"$f":"'Financial Model'!AO185","v":2.6666666666666666E-3},{"$f":"'Financial Model'!AP185","v":2.6666666666666666E-3},{"$f":"'Financial Model'!AQ185","v":2.6666666666666666E-3},{"$f":"'Financial Model'!AR185","v":2.6666666666666666E-3},{"$f":"'Financial Model'!AS185","v":2.6666666666666666E-3},{"$f":"'Financial Model'!AT185","v":1.7250000000000001E-2},{"$f":"'Financial Model'!AU185","v":1.7250000000000001E-2},{"$f":"'Financial Model'!AV185","v":1.7250000000000001E-2},{"$f":"'Financial Model'!AW185","v":1.7250000000000001E-2},{"$f":"'Financial Model'!AX185","v":1.7250000000000001E-2},{"$f":"'Financial Model'!AY185","v":1.7250000000000001E-2},{"$f":"'Financial Model'!AZ185","v":1.7250000000000001E-2},{"$f":"'Financial Model'!BA185","v":1.7250000000000001E-2},{"$f":"'Financial Model'!BB185","v":1.8499999999999999E-2},{"$f":"'Financial Model'!BC185","v":1.8499999999999999E-2},{"$f":"'Financial Model'!BD185","v":1.8499999999999999E-2},{"$f":"'Financial Model'!BE185","v":1.8499999999999999E-2},{"$f":"'Financial Model'!BF185","v":1.8499999999999999E-2},{"$f":"'Financial Model'!BG185","v":1.8499999999999999E-2},{"$f":"'Financial Model'!BH185","v":1.8499999999999999E-2},{"$f":"'Financial Model'!BI185","v":1.8499999999999999E-2},{"$f":"'Financial Model'!BJ185","v":1.9749999999999997E-2},{"$f":"'Financial Model'!BK185","v":1.9749999999999997E-2},{"$f":"'Financial Model'!BL185","v":1.9749999999999997E-2},{"$f":"'Financial Model'!BM185","v":1.9749999999999997E-2},{"$f":"'Financial Model'!BN185","v":1.9749999999999997E-2},{"$f":"'Financial Model'!BO185","v":1.9749999999999997E-2},{"$f":"'Financial Model'!BP185","v":1.9749999999999997E-2},{"$f":"'Financial Model'!BQ185","v":1.9749999999999997E-2},{"$f":"'Financial Model'!BR185","v":2.0999999999999998E-2},{"$f":"'Financial Model'!BS185","v":2.0999999999999998E-2},{"$f":"'Financial Model'!BT185","v":2.0999999999999998E-2},{"$f":"'Financial Model'!BU185","v":2.0999999999999998E-2},{"$f":"'Financial Model'!BV185","v":2.0999999999999998E-2},{"$f":"'Financial Model'!BW185","v":2.0999999999999998E-2},{"$f":"'Financial Model'!BX185","v":2.0999999999999998E-2},{"$f":"'Financial Model'!BY185","v":2.0999999999999998E-2},{"$f":"'Financial Model'!BZ185","v":2.0999999999999998E-2},{"$f":"'Financial Model'!CA185","v":2.0999999999999998E-2},{"$f":"'Financial Model'!CB185","v":2.0999999999999998E-2},{"$f":"'Financial Model'!CC185","v":2.0999999999999998E-2},{"$f":"'Financial Model'!CD185","v":2.0999999999999998E-2},{"$f":"'Financial Model'!CE185","v":2.0999999999999998E-2},{"$f":"'Financial Model'!CF185","v":2.0999999999999998E-2},{"$f":"'Financial Model'!CG185","v":2.0999999999999998E-2},{"$f":"'Financial Model'!CH185","v":2.0999999999999998E-2},{"$f":"'Financial Model'!CI185","v":2.0999999999999998E-2},{"$f":"'Financial Model'!CJ185","v":2.0999999999999998E-2},{"$f":"'Financial Model'!CK185","v":2.0999999999999998E-2},{"$f":"'Financial Model'!CL185","v":2.0999999999999998E-2},{"$f":"'Financial Model'!CM185","v":2.0999999999999998E-2},{"$f":"'Financial Model'!CN185","v":2.0999999999999998E-2},{"$f":"'Financial Model'!CO185","v":2.0999999999999998E-2},{"$f":"'Financial Model'!CP185","v":2.0999999999999998E-2},{"$f":"'Financial Model'!CQ185","v":2.0999999999999998E-2},{"$f":"'Financial Model'!CR185","v":2.0999999999999998E-2},{"$f":"'Financial Model'!CS185","v":2.0999999999999998E-2},{"$f":"'Financial Model'!CT185","v":2.0999999999999998E-2},{"$f":"'Financial Model'!CU185","v":2.0999999999999998E-2},{"$f":"'Financial Model'!CV185","v":2.0999999999999998E-2},{"$f":"'Financial Model'!CW185","v":2.0999999999999998E-2},{"$f":"'Financial Model'!CX185","v":2.0999999999999998E-2},{"$f":"'Financial Model'!CY185","v":2.0999999999999998E-2},{"$f":"'Financial Model'!CZ185","v":2.0999999999999998E-2},{"$f":"'Financial Model'!DA185","v":2.0999999999999998E-2},{"$f":"'Financial Model'!DB185","v":2.0999999999999998E-2},{"$f":"'Financial Model'!DC185","v":2.0999999999999998E-2},{"$f":"'Financial Model'!DD185","v":2.0999999999999998E-2},{"$f":"'Financial Model'!DE185","v":2.0999999999999998E-2},{"$f":"'Financial Model'!DF185","v":2.0999999999999998E-2},{"$f":"'Financial Model'!DG185","v":2.0999999999999998E-2},{"$f":"'Financial Model'!DH185","v":2.0999999999999998E-2},{"$f":"'Financial Model'!DI185","v":2.0999999999999998E-2},{"$f":"'Financial Model'!DJ185","v":2.0999999999999998E-2},{"$f":"'Financial Model'!DK185","v":2.0999999999999998E-2},{"$f":"'Financial Model'!DL185","v":2.0999999999999998E-2},{"$f":"'Financial Model'!DM185","v":2.0999999999999998E-2},{"$f":"'Financial Model'!DN185","v":2.0999999999999998E-2},{"$f":"'Financial Model'!DO185","v":2.0999999999999998E-2},{"$f":"'Financial Model'!DP185","v":2.0999999999999998E-2},{"$f":"'Financial Model'!DQ185","v":2.0999999999999998E-2},{"$f":"'Financial Model'!DR185","v":2.0999999999999998E-2},{"$f":"'Financial Model'!DS185","v":2.0999999999999998E-2},{"$f":"'Financial Model'!DT185","v":2.0999999999999998E-2},{"$f":"'Financial Model'!DU185","v":2.0999999999999998E-2},{"$f":"'Financial Model'!DV185","v":2.0999999999999998E-2},{"$f":"'Financial Model'!DW185","v":2.0999999999999998E-2},{"$f":"'Financial Model'!DX185","v":2.0999999999999998E-2},{"$f":"'Financial Model'!DY185","v":2.0999999999999998E-2},{"$f":"'Financial Model'!DZ185","v":2.0999999999999998E-2},{"$f":"'Financial Model'!EA185","v":2.0999999999999998E-2},{"$f":"'Financial Model'!EB185","v":2.0999999999999998E-2},{"$f":"'Financial Model'!EC185","v":2.0999999999999998E-2},{"$f":"'Financial Model'!ED185","v":2.0999999999999998E-2},{"$f":"'Financial Model'!EE185","v":2.0999999999999998E-2},{"$f":"'Financial Model'!EF185","v":2.0999999999999998E-2},{"$f":"'Financial Model'!EG185","v":2.0999999999999998E-2},{"$f":"'Financial Model'!EH185","v":2.0999999999999998E-2},{"$f":"'Financial Model'!EI185","v":2.0999999999999998E-2},{"$f":"'Financial Model'!EJ185","v":2.0999999999999998E-2},{"$f":"'Financial Model'!EK185","v":2.0999999999999998E-2},{"$f":"'Financial Model'!EL185","v":2.0999999999999998E-2},{"$f":"'Financial Model'!EM185","v":2.0999999999999998E-2},{"$f":"'Financial Model'!EN185","v":2.0999999999999998E-2},{"$f":"'Financial Model'!EO185","v":2.0999999999999998E-2},{"$f":"'Financial Model'!EP185","v":2.0999999999999998E-2},{"$f":"'Financial Model'!EQ185","v":2.0999999999999998E-2},{"$f":"'Financial Model'!ER185","v":2.0999999999999998E-2},{"$f":"'Financial Model'!ES185","v":2.0999999999999998E-2},{"$f":"'Financial Model'!ET185","v":2.0999999999999998E-2},{"$f":"'Financial Model'!EU185","v":2.0999999999999998E-2},{"$f":"'Financial Model'!EV185","v":2.0999999999999998E-2},{"$f":"'Financial Model'!EW185","v":2.0999999999999998E-2},{"$f":"'Financial Model'!EX185","v":2.0999999999999998E-2},{"$f":"'Financial Model'!EY185","v":2.0999999999999998E-2},{"$f":"'Financial Model'!EZ185","v":2.0999999999999998E-2}]
[null,null,"Up-Front Fee",null,null,null,null,null,null,{"$f":"'Financial Model'!F53","v":1.4999999999999999E-2}]
[null,null,"Periodic Commitment Fee",null,null,null,null,null,null,{"$f":"'Financial Model'!J302","v":8.3333333333333339E-4},{"$f":"'Financial Model'!K302","v":8.3333333333333339E-4},{"$f":"'Financial Model'!L302","v":8.3333333333333339E-4},{"$f":"'Financial Model'!M302","v":8.3333333333333339E-4},{"$f":"'Financial Model'!N302","v":8.3333333333333339E-4},{"$f":"'Financial Model'!O302","v":8.3333333333333339E-4},{"$f":"'Financial Model'!P302","v":8.3333333333333339E-4},{"$f":"'Financial Model'!Q302","v":8.3333333333333339E-4},{"$f":"'Financial Model'!R302","v":8.3333333333333339E-4},{"$f":"'Financial Model'!S302","v":8.3333333333333339E-4},{"$f":"'Financial Model'!T302","v":8.3333333333333339E-4},{"$f":"'Financial Model'!U302","v":8.3333333333333339E-4},{"$f":"'Financial Model'!V302","v":8.3333333333333339E-4},{"$f":"'Financial Model'!W302","v":8.3333333333333339E-4},{"$f":"'Financial Model'!X302","v":8.3333333333333339E-4},{"$f":"'Financial Model'!Y302","v":8.3333333333333339E-4},{"$f":"'Financial Model'!Z302","v":8.3333333333333339E-4},{"$f":"'Financial Model'!AA302","v":8.3333333333333339E-4},{"$f":"'Financial Model'!AB302","v":8.3333333333333339E-4},{"$f":"'Financial Model'!AC302","v":8.3333333333333339E-4},{"$f":"'Financial Model'!AD302","v":8.3333333333333339E-4},{"$f":"'Financial Model'!AE302","v":8.3333333333333339E-4},{"$f":"'Financial Model'!AF302","v":8.3333333333333339E-4},{"$f":"'Financial Model'!AG302","v":8.3333333333333339E-4},{"$f":"'Financial Model'!AH302","v":8.3333333333333339E-4},{"$f":"'Financial Model'!AI302","v":8.3333333333333339E-4},{"$f":"'Financial Model'!AJ302","v":8.3333333333333339E-4},{"$f":"'Financial Model'!AK302","v":8.3333333333333339E-4},{"$f":"'Financial Model'!AL302","v":8.3333333333333339E-4},{"$f":"'Financial Model'!AM302","v":8.3333333333333339E-4},{"$f":"'Financial Model'!AN302","v":8.3333333333333339E-4},{"$f":"'Financial Model'!AO302","v":8.3333333333333339E-4},{"$f":"'Financial Model'!AP302","v":8.3333333333333339E-4},{"$f":"'Financial Model'!AQ302","v":8.3333333333333339E-4},{"$f":"'Financial Model'!AR302","v":8.3333333333333339E-4},{"$f":"'Financial Model'!AS302","v":8.3333333333333339E-4},{"$f":"'Financial Model'!AT302","v":5.0000000000000001E-3},{"$f":"'Financial Model'!AU302","v":5.0000000000000001E-3},{"$f":"'Financial Model'!AV302","v":5.0000000000000001E-3},{"$f":"'Financial Model'!AW302","v":5.0000000000000001E-3},{"$f":"'Financial Model'!AX302","v":5.0000000000000001E-3},{"$f":"'Financial Model'!AY302","v":5.0000000000000001E-3},{"$f":"'Financial Model'!AZ302","v":5.0000000000000001E-3},{"$f":"'Financial Model'!BA302","v":5.0000000000000001E-3},{"$f":"'Financial Model'!BB302","v":5.0000000000000001E-3},{"$f":"'Financial Model'!BC302","v":5.0000000000000001E-3},{"$f":"'Financial Model'!BD302","v":5.0000000000000001E-3},{"$f":"'Financial Model'!BE302","v":5.0000000000000001E-3},{"$f":"'Financial Model'!BF302","v":5.0000000000000001E-3},{"$f":"'Financial Model'!BG302","v":5.0000000000000001E-3},{"$f":"'Financial Model'!BH302","v":5.0000000000000001E-3},{"$f":"'Financial Model'!BI302","v":5.0000000000000001E-3},{"$f":"'Financial Model'!BJ302","v":5.0000000000000001E-3},{"$f":"'Financial Model'!BK302","v":5.0000000000000001E-3},{"$f":"'Financial Model'!BL302","v":5.0000000000000001E-3},{"$f":"'Financial Model'!BM302","v":5.0000000000000001E-3},{"$f":"'Financial Model'!BN302","v":5.0000000000000001E-3},{"$f":"'Financial Model'!BO302","v":5.0000000000000001E-3},{"$f":"'Financial Model'!BP302","v":5.0000000000000001E-3},{"$f":"'Financial Model'!BQ302","v":5.0000000000000001E-3},{"$f":"'Financial Model'!BR302","v":5.0000000000000001E-3},{"$f":"'Financial Model'!BS302","v":5.0000000000000001E-3},{"$f":"'Financial Model'!BT302","v":5.0000000000000001E-3},{"$f":"'Financial Model'!BU302","v":5.0000000000000001E-3},{"$f":"'Financial Model'!BV302","v":5.0000000000000001E-3},{"$f":"'Financial Model'!BW302","v":5.0000000000000001E-3},{"$f":"'Financial Model'!BX302","v":5.0000000000000001E-3},{"$f":"'Financial Model'!BY302","v":5.0000000000000001E-3},{"$f":"'Financial Model'!BZ302","v":5.0000000000000001E-3},{"$f":"'Financial Model'!CA302","v":5.0000000000000001E-3},{"$f":"'Financial Model'!CB302","v":5.0000000000000001E-3},{"$f":"'Financial Model'!CC302","v":5.0000000000000001E-3},{"$f":"'Financial Model'!CD302","v":5.0000000000000001E-3},{"$f":"'Financial Model'!CE302","v":5.0000000000000001E-3},{"$f":"'Financial Model'!CF302","v":5.0000000000000001E-3},{"$f":"'Financial Model'!CG302","v":5.0000000000000001E-3},{"$f":"'Financial Model'!CH302","v":5.0000000000000001E-3},{"$f":"'Financial Model'!CI302","v":5.0000000000000001E-3},{"$f":"'Financial Model'!CJ302","v":5.0000000000000001E-3},{"$f":"'Financial Model'!CK302","v":5.0000000000000001E-3},{"$f":"'Financial Model'!CL302","v":5.0000000000000001E-3},{"$f":"'Financial Model'!CM302","v":5.0000000000000001E-3},{"$f":"'Financial Model'!CN302","v":5.0000000000000001E-3},{"$f":"'Financial Model'!CO302","v":5.0000000000000001E-3},{"$f":"'Financial Model'!CP302","v":5.0000000000000001E-3},{"$f":"'Financial Model'!CQ302","v":5.0000000000000001E-3},{"$f":"'Financial Model'!CR302","v":5.0000000000000001E-3},{"$f":"'Financial Model'!CS302","v":5.0000000000000001E-3},{"$f":"'Financial Model'!CT302","v":5.0000000000000001E-3},{"$f":"'Financial Model'!CU302","v":5.0000000000000001E-3},{"$f":"'Financial Model'!CV302","v":5.0000000000000001E-3},{"$f":"'Financial Model'!CW302","v":5.0000000000000001E-3},{"$f":"'Financial Model'!CX302","v":5.0000000000000001E-3},{"$f":"'Financial Model'!CY302","v":5.0000000000000001E-3},{"$f":"'Financial Model'!CZ302","v":5.0000000000000001E-3},{"$f":"'Financial Model'!DA302","v":5.0000000000000001E-3},{"$f":"'Financial Model'!DB302","v":5.0000000000000001E-3},{"$f":"'Financial Model'!DC302","v":5.0000000000000001E-3},{"$f":"'Financial Model'!DD302","v":5.0000000000000001E-3},{"$f":"'Financial Model'!DE302","v":5.0000000000000001E-3},{"$f":"'Financial Model'!DF302","v":5.0000000000000001E-3},{"$f":"'Financial Model'!DG302","v":5.0000000000000001E-3},{"$f":"'Financial Model'!DH302","v":5.0000000000000001E-3},{"$f":"'Financial Model'!DI302","v":5.0000000000000001E-3},{"$f":"'Financial Model'!DJ302","v":5.0000000000000001E-3},{"$f":"'Financial Model'!DK302","v":5.0000000000000001E-3},{"$f":"'Financial Model'!DL302","v":5.0000000000000001E-3},{"$f":"'Financial Model'!DM302","v":5.0000000000000001E-3},{"$f":"'Financial Model'!DN302","v":5.0000000000000001E-3},{"$f":"'Financial Model'!DO302","v":5.0000000000000001E-3},{"$f":"'Financial Model'!DP302","v":5.0000000000000001E-3},{"$f":"'Financial Model'!DQ302","v":5.0000000000000001E-3},{"$f":"'Financial Model'!DR302","v":5.0000000000000001E-3},{"$f":"'Financial Model'!DS302","v":5.0000000000000001E-3},{"$f":"'Financial Model'!DT302","v":5.0000000000000001E-3},{"$f":"'Financial Model'!DU302","v":5.0000000000000001E-3},{"$f":"'Financial Model'!DV302","v":5.0000000000000001E-3},{"$f":"'Financial Model'!DW302","v":5.0000000000000001E-3},{"$f":"'Financial Model'!DX302","v":5.0000000000000001E-3},{"$f":"'Financial Model'!DY302","v":5.0000000000000001E-3},{"$f":"'Financial Model'!DZ302","v":5.0000000000000001E-3},{"$f":"'Financial Model'!EA302","v":5.0000000000000001E-3},{"$f":"'Financial Model'!EB302","v":5.0000000000000001E-3},{"$f":"'Financial Model'!EC302","v":5.0000000000000001E-3},{"$f":"'Financial Model'!ED302","v":5.0000000000000001E-3},{"$f":"'Financial Model'!EE302","v":5.0000000000000001E-3},{"$f":"'Financial Model'!EF302","v":5.0000000000000001E-3},{"$f":"'Financial Model'!EG302","v":5.0000000000000001E-3},{"$f":"'Financial Model'!EH302","v":5.0000000000000001E-3},{"$f":"'Financial Model'!EI302","v":5.0000000000000001E-3},{"$f":"'Financial Model'!EJ302","v":5.0000000000000001E-3},{"$f":"'Financial Model'!EK302","v":5.0000000000000001E-3},{"$f":"'Financial Model'!EL302","v":5.0000000000000001E-3},{"$f":"'Financial Model'!EM302","v":5.0000000000000001E-3},{"$f":"'Financial Model'!EN302","v":5.0000000000000001E-3},{"$f":"'Financial Model'!EO302","v":5.0000000000000001E-3},{"$f":"'Financial Model'!EP302","v":5.0000000000000001E-3},{"$f":"'Financial Model'!EQ302","v":5.0000000000000001E-3},{"$f":"'Financial Model'!ER302","v":5.0000000000000001E-3},{"$f":"'Financial Model'!ES302","v":5.0000000000000001E-3},{"$f":"'Financial Model'!ET302","v":5.0000000000000001E-3},{"$f":"'Financial Model'!EU302","v":5.0000000000000001E-3},{"$f":"'Financial Model'!EV302","v":5.0000000000000001E-3},{"$f":"'Financial Model'!EW302","v":5.0000000000000001E-3},{"$f":"'Financial Model'!EX302","v":5.0000000000000001E-3},{"$f":"'Financial Model'!EY302","v":5.0000000000000001E-3},{"$f":"'Financial Model'!EZ302","v":5.0000000000000001E-3}]
[null,null,"PRI (Political Risk Insurance)",null,null,null,null,null,null,0,0,0,0,0,0,0,0,0,0,0,0,0,0,0,0,0,0,0,0,0,0,0,0,0,0,0,0,0,0,0,0,0,0,0,0,0,0,0,0,0,0,0,0,0,0,0,0,0,0,0,0,0,0,0,0,0,0,0,0,0,0,0,0,0,0,0,0,0,0,0,0,0,0,0,0,0,0,0,0,0,0,0,0,0,0,0,0,0,0,0,0,0,0,0,0,0,0,0,0,0,0,0,0,0,0,0,0,0,0,0,0,0,0,0,0,0,0,0,0,0,0,0,0,0,0,0,0,0,0,0,0,0,0,0,0,0,0,0,0,0,0,0,0,0,0,0]
[null,null,"Capitalised Interest During Construction Switch",null,null,null,null,null,null,0]
[null,null,"Capitalised Fee During Construction Switch",null,null,null,null,null,null,0]
[null,null,"Sculpting Switch - TRUE is Automated Sculpting",null,null,null,null,null,null,true,{"$f":"IF(J77,\"Sculpting from DSCR -- Fixed Repayment Percentages Not Used\",\"Fixed Input Percentages Used\")","v":"Sculpting from DSCR -- Fixed Repayment Percentages Not Used"}]
[null,null,"Debt Tenure - periods post COD (EBL - periods post Fin Close)",null,null,null,null,null,null,{"$f":"'Financial Model'!F44","v":54}]
[null,null,"Repayment Percent Input"]
[null,null,"Balloon Percent",null,null,null,null,null,null,0]
[null,null,"Sweep Percent",null,null,null,null,null,null,{"$f":"'Financial Model'!F56","v":0},{"$f":"IF(J81>0,\" Cash Flow Sweep of \"&TEXT(J81,\" ##.00%\"),\"\")","v":""}]
[null,null,"Start Period after COD for Sweep",null,null,null,null,null,null,0]
[null,null,"Post COD Fee as Percent of Debt (other than LC Fee)",null,null,null,null,null,null,0,0,0,0,0,0,0,0,0,0,0,0,0,0,0,0,0,0,0,0,0,0,0,0,0,0,0,0,0,0,0,0,0,0,0,0,0,0,0,0,0,0,0,0,0,0,0,0,0,0,0,0,0,0,0,0,0,0,0,0,0,0,0,0,0,0,0,0,0,0,0,0,0,0,0,0,0,0,0,0,0,0,0,0,0,0,0,0,0,0,0,0,0,0,0,0,0,0,0,0,0,0,0,0,0,0,0,0,0,0,0,0,0,0,0,0,0,0,0,0,0,0,0,0,0,0,0,0,0,0,0,0,0,0,0,0,0,0,0,0,0,0,0,0,0,0,0]
[null,null,"Re-financing Issue",null,null,null,null,null,null,false,{"$f":"IF(J84,\"This is a Re-financing Debt Facility\",\"\")","v":""}]
[null,null,"Period of Re-financing -- period after COD ",null,null,null,null,null,null,50,{"$f":"IF(J84,\"Periods after COD for Re-financing -- Put in a large number to turn off\",\"\")","v":""}]
[null,null,"Fixed Amount of Re-financing",null,null,null,null,null,null,0]
[null,null,"DSCR for Sculpted Re-financing",null,null,null,null,null,null,0]
[null,null,"Tenor of Re-financing in Periods",null,null,null,null,null,null,20]
[null,null,"Breakage Costs and Re-financing Fees",null,null,null,null,null,null,0]
[null,null,"Commitment (Not Funded e.g. Standby Commitment)",null,null,null,null,null,null,0]
[null,null,"Debt with Fixed Issue Date (Boolean)",null,null,null,null,null,null,false]
[null,null,"Commitment Amount for Debt with Fixed Funding Date",null,null,null,null,null,null,0]
[null,null,"Period in construction period of financing",null,null,null,null,null,null,0]
[null,"Issue 2 for Re-financing - Start the selection here"]
[null,null,"Senior/Mezz Debt (1-Senior; 2-Mezz; 3-Shareholder Loan; 4--EBL; 5--WC; 6 -- Standby; 7 VAT)",null,null,null,null,null,null,1,{"$f":"CHOOSE(J95,\"Senior Debt Facility\",\"Mezzanine Debt Facility\",\"Shareholder Loan\",\"Equity Bridge Loan\",\"Working Capital Facility\",\"Standby Debt Facility\",\"VAT Facility\")","v":"Senior Debt Facility"}]
[null,null,{"$f":"CHOOSE(J95,\"Percent of Senior Debt Loans (zero for re-finance)\",\"Percent of Mezzanine Debt Loans\",\"Percent of Shareholder Loans\",\"Percent of EBL\",\"Percent of Working Capital Facility\",\"Percent of Standby Debt\",\"Percent of VAT Facilities\")","v":"Percent of Senior Debt Loans (zero for re-finance)"},null,null,null,null,null,null,0]
[null,null,"Periodic Interest Rate",null,null,null,null,null,null,{"$f":"'Financial Model'!J226","v":2.9166666666666668E-3},{"$f":"'Financial Model'!K226","v":2.9166666666666668E-3},{"$f":"'Financial Model'!L226","v":2.9166666666666668E-3},{"$f":"'Financial Model'!M226","v":2.9166666666666668E-3},{"$f":"'Financial Model'!N226","v":2.9166666666666668E-3},{"$f":"'Financial Model'!O226","v":2.9166666666666668E-3},{"$f":"'Financial Model'!P226","v":2.9166666666666668E-3},{"$f":"'Financial Model'!Q226","v":2.9166666666666668E-3},{"$f":"'Financial Model'!R226","v":2.9166666666666668E-3},{"$f":"'Financial Model'!S226","v":2.9166666666666668E-3},{"$f":"'Financial Model'!T226","v":2.9166666666666668E-3},{"$f":"'Financial Model'!U226","v":2.9166666666666668E-3},{"$f":"'Financial Model'!V226","v":2.9166666666666668E-3},{"$f":"'Financial Model'!W226","v":2.9166666666666668E-3},{"$f":"'Financial Model'!X226","v":2.9166666666666668E-3},{"$f":"'Financial Model'!Y226","v":2.9166666666666668E-3},{"$f":"'Financial Model'!Z226","v":2.9166666666666668E-3},{"$f":"'Financial Model'!AA226","v":2.9166666666666668E-3},{"$f":"'Financial Model'!AB226","v":2.9166666666666668E-3},{"$f":"'Financial Model'!AC226","v":2.9166666666666668E-3},{"$f":"'Financial Model'!AD226","v":2.9166666666666668E-3},{"$f":"'Financial Model'!AE226","v":2.9166666666666668E-3},{"$f":"'Financial Model'!AF226","v":2.9166666666666668E-3},{"$f":"'Financial Model'!AG226","v":2.9166666666666668E-3},{"$f":"'Financial Model'!AH226","v":2.9166666666666668E-3},{"$f":"'Financial Model'!AI226","v":2.9166666666666668E-3},{"$f":"'Financial Model'!AJ226","v":2.9166666666666668E-3},{"$f":"'Financial Model'!AK226","v":2.9166666666666668E-3},{"$f":"'Financial Model'!AL226","v":2.9166666666666668E-3},{"$f":"'Financial Model'!AM226","v":2.9166666666666668E-3},{"$f":"'Financial Model'!AN226","v":2.9166666666666668E-3},{"$f":"'Financial Model'!AO226","v":2.9166666666666668E-3},{"$f":"'Financial Model'!AP226","v":2.9166666666666668E-3},{"$f":"'Financial Model'!AQ226","v":2.9166666666666668E-3},{"$f":"'Financial Model'!AR226","v":2.9166666666666668E-3},{"$f":"'Financial Model'!AS226","v":2.9166666666666668E-3},{"$f":"'Financial Model'!AT226","v":1.7500000000000002E-2},{"$f":"'Financial Model'!AU226","v":1.7500000000000002E-2},{"$f":"'Financial Model'!AV226","v":1.7500000000000002E-2},{"$f":"'Financial Model'!AW226","v":1.7500000000000002E-2},{"$f":"'Financial Model'!AX226","v":1.7500000000000002E-2},{"$f":"'Financial Model'!AY226","v":1.7500000000000002E-2},{"$f":"'Financial Model'!AZ226","v":1.7500000000000002E-2},{"$f":"'Financial Model'!BA226","v":1.7500000000000002E-2},{"$f":"'Financial Model'!BB226","v":1.7500000000000002E-2},{"$f":"'Financial Model'!BC226","v":1.7500000000000002E-2},{"$f":"'Financial Model'!BD226","v":1.7500000000000002E-2},{"$f":"'Financial Model'!BE226","v":1.7500000000000002E-2},{"$f":"'Financial Model'!BF226","v":1.7500000000000002E-2},{"$f":"'Financial Model'!BG226","v":1.7500000000000002E-2},{"$f":"'Financial Model'!BH226","v":1.7500000000000002E-2},{"$f":"'Financial Model'!BI226","v":1.7500000000000002E-2},{"$f":"'Financial Model'!BJ226","v":1.7500000000000002E-2},{"$f":"'Financial Model'!BK226","v":1.7500000000000002E-2},{"$f":"'Financial Model'!BL226","v":1.7500000000000002E-2},{"$f":"'Financial Model'!BM226","v":1.7500000000000002E-2},{"$f":"'Financial Model'!BN226","v":1.7500000000000002E-2},{"$f":"'Financial Model'!BO226","v":1.7500000000000002E-2},{"$f":"'Financial Model'!BP226","v":1.7500000000000002E-2},{"$f":"'Financial Model'!BQ226","v":1.7500000000000002E-2},{"$f":"'Financial Model'!BR226","v":1.7500000000000002E-2},{"$f":"'Financial Model'!BS226","v":1.7500000000000002E-2},{"$f":"'Financial Model'!BT226","v":1.7500000000000002E-2},{"$f":"'Financial Model'!BU226","v":1.7500000000000002E-2},{"$f":"'Financial Model'!BV226","v":1.7500000000000002E-2},{"$f":"'Financial Model'!BW226","v":1.7500000000000002E-2},{"$f":"'Financial Model'!BX226","v":1.7500000000000002E-2},{"$f":"'Financial Model'!BY226","v":1.7500000000000002E-2},{"$f":"'Financial Model'!BZ226","v":1.7500000000000002E-2},{"$f":"'Financial Model'!CA226","v":1.7500000000000002E-2},{"$f":"'Financial Model'!CB226","v":1.7500000000000002E-2},{"$f":"'Financial Model'!CC226","v":1.7500000000000002E-2},{"$f":"'Financial Model'!CD226","v":1.7500000000000002E-2},{"$f":"'Financial Model'!CE226","v":1.7500000000000002E-2},{"$f":"'Financial Model'!CF226","v":1.7500000000000002E-2},{"$f":"'Financial Model'!CG226","v":1.7500000000000002E-2},{"$f":"'Financial Model'!CH226","v":1.7500000000000002E-2},{"$f":"'Financial Model'!CI226","v":1.7500000000000002E-2},{"$f":"'Financial Model'!CJ226","v":1.7500000000000002E-2},{"$f":"'Financial Model'!CK226","v":1.7500000000000002E-2},{"$f":"'Financial Model'!CL226","v":1.7500000000000002E-2},{"$f":"'Financial Model'!CM226","v":1.7500000000000002E-2},{"$f":"'Financial Model'!CN226","v":1.7500000000000002E-2},{"$f":"'Financial Model'!CO226","v":1.7500000000000002E-2},{"$f":"'Financial Model'!CP226","v":1.7500000000000002E-2},{"$f":"'Financial Model'!CQ226","v":1.7500000000000002E-2},{"$f":"'Financial Model'!CR226","v":1.7500000000000002E-2},{"$f":"'Financial Model'!CS226","v":1.7500000000000002E-2},{"$f":"'Financial Model'!CT226","v":1.7500000000000002E-2},{"$f":"'Financial Model'!CU226","v":1.7500000000000002E-2},{"$f":"'Financial Model'!CV226","v":1.7500000000000002E-2},{"$f":"'Financial Model'!CW226","v":1.7500000000000002E-2},{"$f":"'Financial Model'!CX226","v":1.7500000000000002E-2},{"$f":"'Financial Model'!CY226","v":1.7500000000000002E-2},{"$f":"'Financial Model'!CZ226","v":1.7500000000000002E-2},{"$f":"'Financial Model'!DA226","v":1.7500000000000002E-2},{"$f":"'Financial Model'!DB226","v":1.7500000000000002E-2},{"$f":"'Financial Model'!DC226","v":1.7500000000000002E-2},{"$f":"'Financial Model'!DD226","v":1.7500000000000002E-2},{"$f":"'Financial Model'!DE226","v":1.7500000000000002E-2},{"$f":"'Financial Model'!DF226","v":1.7500000000000002E-2},{"$f":"'Financial Model'!DG226","v":1.7500000000000002E-2},{"$f":"'Financial Model'!DH226","v":1.7500000000000002E-2},{"$f":"'Financial Model'!DI226","v":1.7500000000000002E-2},{"$f":"'Financial Model'!DJ226","v":1.7500000000000002E-2},{"$f":"'Financial Model'!DK226","v":1.7500000000000002E-2},{"$f":"'Financial Model'!DL226","v":1.7500000000000002E-2},{"$f":"'Financial Model'!DM226","v":1.7500000000000002E-2},{"$f":"'Financial Model'!DN226","v":1.7500000000000002E-2},{"$f":"'Financial Model'!DO226","v":1.7500000000000002E-2},{"$f":"'Financial Model'!DP226","v":1.7500000000000002E-2},{"$f":"'Financial Model'!DQ226","v":1.7500000000000002E-2},{"$f":"'Financial Model'!DR226","v":1.7500000000000002E-2},{"$f":"'Financial Model'!DS226","v":1.7500000000000002E-2},{"$f":"'Financial Model'!DT226","v":1.7500000000000002E-2},{"$f":"'Financial Model'!DU226","v":1.7500000000000002E-2},{"$f":"'Financial Model'!DV226","v":1.7500000000000002E-2},{"$f":"'Financial Model'!DW226","v":1.7500000000000002E-2},{"$f":"'Financial Model'!DX226","v":1.7500000000000002E-2},{"$f":"'Financial Model'!DY226","v":1.7500000000000002E-2},{"$f":"'Financial Model'!DZ226","v":1.7500000000000002E-2},{"$f":"'Financial Model'!EA226","v":1.7500000000000002E-2},{"$f":"'Financial Model'!EB226","v":1.7500000000000002E-2},{"$f":"'Financial Model'!EC226","v":1.7500000000000002E-2},{"$f":"'Financial Model'!ED226","v":1.7500000000000002E-2},{"$f":"'Financial Model'!EE226","v":1.7500000000000002E-2},{"$f":"'Financial Model'!EF226","v":1.7500000000000002E-2},{"$f":"'Financial Model'!EG226","v":1.7500000000000002E-2},{"$f":"'Financial Model'!EH226","v":1.7500000000000002E-2},{"$f":"'Financial Model'!EI226","v":1.7500000000000002E-2},{"$f":"'Financial Model'!EJ226","v":1.7500000000000002E-2},{"$f":"'Financial Model'!EK226","v":1.7500000000000002E-2},{"$f":"'Financial Model'!EL226","v":1.7500000000000002E-2},{"$f":"'Financial Model'!EM226","v":1.7500000000000002E-2},{"$f":"'Financial Model'!EN226","v":1.7500000000000002E-2},{"$f":"'Financial Model'!EO226","v":1.7500000000000002E-2},{"$f":"'Financial Model'!EP226","v":1.7500000000000002E-2},{"$f":"'Financial Model'!EQ226","v":1.7500000000000002E-2},{"$f":"'Financial Model'!ER226","v":1.7500000000000002E-2},{"$f":"'Financial Model'!ES226","v":1.7500000000000002E-2},{"$f":"'Financial Model'!ET226","v":1.7500000000000002E-2},{"$f":"'Financial Model'!EU226","v":1.7500000000000002E-2},{"$f":"'Financial Model'!EV226","v":1.7500000000000002E-2},{"$f":"'Financial Model'!EW226","v":1.7500000000000002E-2},{"$f":"'Financial Model'!EX226","v":1.7500000000000002E-2},{"$f":"'Financial Model'!EY226","v":1.7500000000000002E-2},{"$f":"'Financial Model'!EZ226","v":1.7500000000000002E-2}]
[null,null,"Up-Front Fee",null,null,null,null,null,null,0]
[null,null,"Periodic Commitment Fee",null,null,null,null,null,null,0,0,0,0,0,0,0,0,0,0,0,0,0,0,0,0,0,0,0,0,0,0,0,0,0,0,0,0,0,0,0,0,0,0,0,0,0,0,0,0,0,0,0,0,0,0,0,0,0,0,0,0,0,0,0,0,0,0,0,0,0,0,0,0,0,0,0,0,0,0,0,0,0,0,0,0,0,0,0,0,0,0,0,0,0,0,0,0,0,0,0,0,0,0,0,0,0,0,0,0,0,0,0,0,0,0,0,0,0,0,0,0,0,0,0,0,0,0,0,0,0,0,0,0,0,0,0,0,0,0,0,0,0,0,0,0,0,0,0,0,0,0,0,0,0,0,0]
[null,null,"PRI (Political Risk Insurance)",null,null,null,null,null,null,0,0,0,0,0,0,0,0,0,0,0,0,0,0,0,0,0,0,0,0,0,0,0,0,0,0,0,0,0,0,0,0,0,0,0,0,0,0,0,0,0,0,0,0,0,0,0,0,0,0,0,0,0,0,0,0,0,0,0,0,0,0,0,0,0,0,0,0,0,0,0,0,0,0,0,0,0,0,0,0,0,0,0,0,0,0,0,0,0,0,0,0,0,0,0,0,0,0,0,0,0,0,0,0,0,0,0,0,0,0,0,0,0,0,0,0,0,0,0,0,0,0,0,0,0,0,0,0,0,0,0,0,0,0,0,0,0,0,0,0,0,0,0,0,0,0,0]
[null,null,"Capitalised Interest During Construction Switch",null,null,null,null,null,null,0]
[null,null,"Capitalised Fee During Construction Switch",null,null,null,null,null,null,0]
[null,null,"Sculpting Switch - TRUE is Automated Sculpting",null,null,null,null,null,null,true,{"$f":"IF(J103,\"Sculpting from DSCR -- Fixed Repayment Percentages Not Used\",\"Fixed Input Percentages Used\")","v":"Sculpting from DSCR -- Fixed Repayment Percentages Not Used"}]
[null,null,"Debt Tenure - periods post COD (EBL - periods post Fin Close)"]
[null,null,"Repayment Percent Input"]
[null,null,"Balloon Percent",null,null,null,null,null,null,0]
[null,null,"Sweep Percent",null,null,null,null,null,null,null,{"$f":"IF(J107>0,\" Cash Flow Sweep of \"&TEXT(J107,\" ##.00%\"),\"\")","v":""}]
[null,null,"Start Period after COD for Sweep",null,null,null,null,null,null,0]
[null,null,"Post COD Fee as Percent of Debt (other than LC Fee)",null,null,null,null,null,null,0,0,0,0,0,0,0,0,0,0,0,0,0,0,0,0,0,0,0,0,0,0,0,0,0,0,0,0,0,0,0,0,0,0,0,0,0,0,0,0,0,0,0,0,0,0,0,0,0,0,0,0,0,0,0,0,0,0,0,0,0,0,0,0,0,0,0,0,0,0,0,0,0,0,0,0,0,0,0,0,0,0,0,0,0,0,0,0,0,0,0,0,0,0,0,0,0,0,0,0,0,0,0,0,0,0,0,0,0,0,0,0,0,0,0,0,0,0,0,0,0,0,0,0,0,0,0,0,0,0,0,0,0,0,0,0,0,0,0,0,0,0,0,0,0,0,0]
[null,null,"Re-financing Issue",null,null,null,null,null,null,true,{"$f":"IF(J110,\"This is a Re-financing Debt Facility\",\"\")","v":"This is a Re-financing Debt Facility"}]
[null,null,"Period of Re-financing -- period after COD ",null,null,null,null,null,null,{"$f":"'Financial Model'!F76","v":72},{"$f":"IF(J110,\"Periods after COD for Re-financing -- Put in a large number to turn off\",\"\")","v":"Periods after COD for Re-financing -- Put in a large number to turn off"}]
[null,null,"Fixed Amount of Re-financing",null,null,null,null,null,null,0]
[null,null,"DSCR for Sculpted Re-financing",null,null,null,null,null,null,{"$f":"'Financial Model'!F78","v":1.25}]
[null,null,"Tenor of Re-financing in Periods",null,null,null,null,null,null,{"$f":"'Financial Model'!F83","v":-6}]
[null,null,"Breakage Costs and Re-financing Fees",null,null,null,null,null,null,0]
[null,null,"Commitment (Not Funded e.g. Standby Commitment)",null,null,null,null,null,null,0]
[null,null,"Debt with Fixed Issue Date (Boolean)",null,null,null,null,null,null,false]
[null,null,"Commitment Amount for Debt with Fixed Funding Date",null,null,null,null,null,null,0]
[null,null,"Period in construction period of financing",null,null,null,null,null,null,0]
[null,"Issue 3 for Second Re-financing - Start the selection here"]
[null,null,"Senior/Mezz Debt (1-Senior; 2-Mezz; 3-Shareholder Loan; 4--EBL; 5--WC; 6 -- Standby; 7 VAT)",null,null,null,null,null,null,1,{"$f":"CHOOSE(J121,\"Senior Debt Facility\",\"Mezzanine Debt Facility\",\"Shareholder Loan\",\"Equity Bridge Loan\",\"Working Capital Facility\",\"Standby Debt Facility\",\"VAT Facility\")","v":"Senior Debt Facility"}]
[null,null,{"$f":"CHOOSE(J121,\"Percent of Senior Debt Loans (zero for refinance)\",\"Percent of Mezzanine Debt Loans\",\"Percent of Shareholder Loans\",\"Percent of EBL\",\"Percent of Working Capital Facility\",\"Percent of Standby Debt\",\"Percent of VAT Facilities\")","v":"Percent of Senior Debt Loans (zero for refinance)"},null,null,null,null,null,null,0]
[null,null,"Periodic Interest Rate",null,null,null,null,null,null,{"$f":"'Financial Model'!J234","v":2.5000000000000001E-3},{"$f":"'Financial Model'!K234","v":2.5000000000000001E-3},{"$f":"'Financial Model'!L234","v":2.5000000000000001E-3},{"$f":"'Financial Model'!M234","v":2.5000000000000001E-3},{"$f":"'Financial Model'!N234","v":2.5000000000000001E-3},{"$f":"'Financial Model'!O234","v":2.5000000000000001E-3},{"$f":"'Financial Model'!P234","v":2.5000000000000001E-3},{"$f":"'Financial Model'!Q234","v":2.5000000000000001E-3},{"$f":"'Financial Model'!R234","v":2.5000000000000001E-3},{"$f":"'Financial Model'!S234","v":2.5000000000000001E-3},{"$f":"'Financial Model'!T234","v":2.5000000000000001E-3},{"$f":"'Financial Model'!U234","v":2.5000000000000001E-3},{"$f":"'Financial Model'!V234","v":2.5000000000000001E-3},{"$f":"'Financial Model'!W234","v":2.5000000000000001E-3},{"$f":"'Financial Model'!X234","v":2.5000000000000001E-3},{"$f":"'Financial Model'!Y234","v":2.5000000000000001E-3},{"$f":"'Financial Model'!Z234","v":2.5000000000000001E-3},{"$f":"'Financial Model'!AA234","v":2.5000000000000001E-3},{"$f":"'Financial Model'!AB234","v":2.5000000000000001E-3},{"$f":"'Financial Model'!AC234","v":2.5000000000000001E-3},{"$f":"'Financial Model'!AD234","v":2.5000000000000001E-3},{"$f":"'Financial Model'!AE234","v":2.5000000000000001E-3},{"$f":"'Financial Model'!AF234","v":2.5000000000000001E-3},{"$f":"'Financial Model'!AG234","v":2.5000000000000001E-3},{"$f":"'Financial Model'!AH234","v":2.5000000000000001E-3},{"$f":"'Financial Model'!AI234","v":2.5000000000000001E-3},{"$f":"'Financial Model'!AJ234","v":2.5000000000000001E-3},{"$f":"'Financial Model'!AK234","v":2.5000000000000001E-3},{"$f":"'Financial Model'!AL234","v":2.5000000000000001E-3},{"$f":"'Financial Model'!AM234","v":2.5000000000000001E-3},{"$f":"'Financial Model'!AN234","v":2.5000000000000001E-3},{"$f":"'Financial Model'!AO234","v":2.5000000000000001E-3},{"$f":"'Financial Model'!AP234","v":2.5000000000000001E-3},{"$f":"'Financial Model'!AQ234","v":2.5000000000000001E-3},{"$f":"'Financial Model'!AR234","v":2.5000000000000001E-3},{"$f":"'Financial Model'!AS234","v":2.5000000000000001E-3},{"$f":"'Financial Model'!AT234","v":1.4999999999999999E-2},{"$f":"'Financial Model'!AU234","v":1.4999999999999999E-2},{"$f":"'Financial Model'!AV234","v":1.4999999999999999E-2},{"$f":"'Financial Model'!AW234","v":1.4999999999999999E-2},{"$f":"'Financial Model'!AX234","v":1.4999999999999999E-2},{"$f":"'Financial Model'!AY234","v":1.4999999999999999E-2},{"$f":"'Financial Model'!AZ234","v":1.4999999999999999E-2},{"$f":"'Financial Model'!BA234","v":1.4999999999999999E-2},{"$f":"'Financial Model'!BB234","v":1.4999999999999999E-2},{"$f":"'Financial Model'!BC234","v":1.4999999999999999E-2},{"$f":"'Financial Model'!BD234","v":1.4999999999999999E-2},{"$f":"'Financial Model'!BE234","v":1.4999999999999999E-2},{"$f":"'Financial Model'!BF234","v":1.4999999999999999E-2},{"$f":"'Financial Model'!BG234","v":1.4999999999999999E-2},{"$f":"'Financial Model'!BH234","v":1.4999999999999999E-2},{"$f":"'Financial Model'!BI234","v":1.4999999999999999E-2},{"$f":"'Financial Model'!BJ234","v":1.4999999999999999E-2},{"$f":"'Financial Model'!BK234","v":1.4999999999999999E-2},{"$f":"'Financial Model'!BL234","v":1.4999999999999999E-2},{"$f":"'Financial Model'!BM234","v":1.4999999999999999E-2},{"$f":"'Financial Model'!BN234","v":1.4999999999999999E-2},{"$f":"'Financial Model'!BO234","v":1.4999999999999999E-2},{"$f":"'Financial Model'!BP234","v":1.4999999999999999E-2},{"$f":"'Financial Model'!BQ234","v":1.4999999999999999E-2},{"$f":"'Financial Model'!BR234","v":1.4999999999999999E-2},{"$f":"'Financial Model'!BS234","v":1.4999999999999999E-2},{"$f":"'Financial Model'!BT234","v":1.4999999999999999E-2},{"$f":"'Financial Model'!BU234","v":1.4999999999999999E-2},{"$f":"'Financial Model'!BV234","v":1.4999999999999999E-2},{"$f":"'Financial Model'!BW234","v":1.4999999999999999E-2},{"$f":"'Financial Model'!BX234","v":1.4999999999999999E-2},{"$f":"'Financial Model'!BY234","v":1.4999999999999999E-2},{"$f":"'Financial Model'!BZ234","v":1.4999999999999999E-2},{"$f":"'Financial Model'!CA234","v":1.4999999999999999E-2},{"$f":"'Financial Model'!CB234","v":1.4999999999999999E-2},{"$f":"'Financial Model'!CC234","v":1.4999999999999999E-2},{"$f":"'Financial Model'!CD234","v":1.4999999999999999E-2},{"$f":"'Financial Model'!CE234","v":1.4999999999999999E-2},{"$f":"'Financial Model'!CF234","v":1.4999999999999999E-2},{"$f":"'Financial Model'!CG234","v":1.4999999999999999E-2},{"$f":"'Financial Model'!CH234","v":1.4999999999999999E-2},{"$f":"'Financial Model'!CI234","v":1.4999999999999999E-2},{"$f":"'Financial Model'!CJ234","v":1.4999999999999999E-2},{"$f":"'Financial Model'!CK234","v":1.4999999999999999E-2},{"$f":"'Financial Model'!CL234","v":1.4999999999999999E-2},{"$f":"'Financial Model'!CM234","v":1.4999999999999999E-2},{"$f":"'Financial Model'!CN234","v":1.4999999999999999E-2},{"$f":"'Financial Model'!CO234","v":1.4999999999999999E-2},{"$f":"'Financial Model'!CP234","v":1.4999999999999999E-2},{"$f":"'Financial Model'!CQ234","v":1.4999999999999999E-2},{"$f":"'Financial Model'!CR234","v":1.4999999999999999E-2},{"$f":"'Financial Model'!CS234","v":1.4999999999999999E-2},{"$f":"'Financial Model'!CT234","v":1.4999999999999999E-2},{"$f":"'Financial Model'!CU234","v":1.4999999999999999E-2},{"$f":"'Financial Model'!CV234","v":1.4999999999999999E-2},{"$f":"'Financial Model'!CW234","v":1.4999999999999999E-2},{"$f":"'Financial Model'!CX234","v":1.4999999999999999E-2},{"$f":"'Financial Model'!CY234","v":1.4999999999999999E-2},{"$f":"'Financial Model'!CZ234","v":1.4999999999999999E-2},{"$f":"'Financial Model'!DA234","v":1.4999999999999999E-2},{"$f":"'Financial Model'!DB234","v":1.4999999999999999E-2},{"$f":"'Financial Model'!DC234","v":1.4999999999999999E-2},{"$f":"'Financial Model'!DD234","v":1.4999999999999999E-2},{"$f":"'Financial Model'!DE234","v":1.4999999999999999E-2},{"$f":"'Financial Model'!DF234","v":1.4999999999999999E-2},{"$f":"'Financial Model'!DG234","v":1.4999999999999999E-2},{"$f":"'Financial Model'!DH234","v":1.4999999999999999E-2},{"$f":"'Financial Model'!DI234","v":1.4999999999999999E-2},{"$f":"'Financial Model'!DJ234","v":1.4999999999999999E-2},{"$f":"'Financial Model'!DK234","v":1.4999999999999999E-2},{"$f":"'Financial Model'!DL234","v":1.4999999999999999E-2},{"$f":"'Financial Model'!DM234","v":1.4999999999999999E-2},{"$f":"'Financial Model'!DN234","v":1.4999999999999999E-2},{"$f":"'Financial Model'!DO234","v":1.4999999999999999E-2},{"$f":"'Financial Model'!DP234","v":1.4999999999999999E-2},{"$f":"'Financial Model'!DQ234","v":1.4999999999999999E-2},{"$f":"'Financial Model'!DR234","v":1.4999999999999999E-2},{"$f":"'Financial Model'!DS234","v":1.4999999999999999E-2},{"$f":"'Financial Model'!DT234","v":1.4999999999999999E-2},{"$f":"'Financial Model'!DU234","v":1.4999999999999999E-2},{"$f":"'Financial Model'!DV234","v":1.4999999999999999E-2},{"$f":"'Financial Model'!DW234","v":1.4999999999999999E-2},{"$f":"'Financial Model'!DX234","v":1.4999999999999999E-2},{"$f":"'Financial Model'!DY234","v":1.4999999999999999E-2},{"$f":"'Financial Model'!DZ234","v":1.4999999999999999E-2},{"$f":"'Financial Model'!EA234","v":1.4999999999999999E-2},{"$f":"'Financial Model'!EB234","v":1.4999999999999999E-2},{"$f":"'Financial Model'!EC234","v":1.4999999999999999E-2},{"$f":"'Financial Model'!ED234","v":1.4999999999999999E-2},{"$f":"'Financial Model'!EE234","v":1.4999999999999999E-2},{"$f":"'Financial Model'!EF234","v":1.4999999999999999E-2},{"$f":"'Financial Model'!EG234","v":1.4999999999999999E-2},{"$f":"'Financial Model'!EH234","v":1.4999999999999999E-2},{"$f":"'Financial Model'!EI234","v":1.4999999999999999E-2},{"$f":"'Financial Model'!EJ234","v":1.4999999999999999E-2},{"$f":"'Financial Model'!EK234","v":1.4999999999999999E-2},{"$f":"'Financial Model'!EL234","v":1.4999999999999999E-2},{"$f":"'Financial Model'!EM234","v":1.4999999999999999E-2},{"$f":"'Financial Model'!EN234","v":1.4999999999999999E-2},{"$f":"'Financial Model'!EO234","v":1.4999999999999999E-2},{"$f":"'Financial Model'!EP234","v":1.4999999999999999E-2},{"$f":"'Financial Model'!EQ234","v":1.4999999999999999E-2},{"$f":"'Financial Model'!ER234","v":1.4999999999999999E-2},{"$f":"'Financial Model'!ES234","v":1.4999999999999999E-2},{"$f":"'Financial Model'!ET234","v":1.4999999999999999E-2},{"$f":"'Financial Model'!EU234","v":1.4999999999999999E-2},{"$f":"'Financial Model'!EV234","v":1.4999999999999999E-2},{"$f":"'Financial Model'!EW234","v":1.4999999999999999E-2},{"$f":"'Financial Model'!EX234","v":1.4999999999999999E-2},{"$f":"'Financial Model'!EY234","v":1.4999999999999999E-2},{"$f":"'Financial Model'!EZ234","v":1.4999999999999999E-2}]
[null,null,"Up-Front Fee",null,null,null,null,null,null,0]
[null,null,"Periodic Commitment Fee",null,null,null,null,null,null,0,0,0,0,0,0,0,0,0,0,0,0,0,0,0,0,0,0,0,0,0,0,0,0,0,0,0,0,0,0,0,0,0,0,0,0,0,0,0,0,0,0,0,0,0,0,0,0,0,0,0,0,0,0,0,0,0,0,0,0,0,0,0,0,0,0,0,0,0,0,0,0,0,0,0,0,0,0,0,0,0,0,0,0,0,0,0,0,0,0,0,0,0,0,0,0,0,0,0,0,0,0,0,0,0,0,0,0,0,0,0,0,0,0,0,0,0,0,0,0,0,0,0,0,0,0,0,0,0,0,0,0,0,0,0,0,0,0,0,0,0,0,0,0,0,0,0]
[null,null,"PRI (Political Risk Insurance)",null,null,null,null,null,null,0,0,0,0,0,0,0,0,0,0,0,0,0,0,0,0,0,0,0,0,0,0,0,0,0,0,0,0,0,0,0,0,0,0,0,0,0,0,0,0,0,0,0,0,0,0,0,0,0,0,0,0,0,0,0,0,0,0,0,0,0,0,0,0,0,0,0,0,0,0,0,0,0,0,0,0,0,0,0,0,0,0,0,0,0,0,0,0,0,0,0,0,0,0,0,0,0,0,0,0,0,0,0,0,0,0,0,0,0,0,0,0,0,0,0,0,0,0,0,0,0,0,0,0,0,0,0,0,0,0,0,0,0,0,0,0,0,0,0,0,0,0,0,0,0,0,0]
[null,null,"Capitalised Interest During Construction Switch",null,null,null,null,null,null,0]
[null,null,"Capitalised Fee During Construction Switch",null,null,null,null,null,null,0]
[null,null,"Sculpting Switch - TRUE is Automated Sculpting",null,null,null,null,null,null,true,{"$f":"IF(J129,\"Sculpting from DSCR -- Fixed Repayment Percentages Not Used\",\"Fixed Input Percentages Used\")","v":"Sculpting from DSCR -- Fixed Repayment Percentages Not Used"}]
[null,null,"Debt Tenure - periods post COD (EBL - periods post Fin Close)"]
[null,null,"Repayment Percent Input"]
[null,null,"Balloon Percent",null,null,null,null,null,null,0]
[null,null,"Sweep Percent",null,null,null,null,null,null,null,{"$f":"IF(J133>0,\" Cash Flow Sweep of \"&TEXT(J133,\" ##.00%\"),\"\")","v":""}]
[null,null,"Start Period after COD for Sweep",null,null,null,null,null,null,0]
[null,null,"Post COD Fee as Percent of Debt (other than LC Fee)",null,null,null,null,null,null,0,0,0,0,0,0,0,0,0,0,0,0,0,0,0,0,0,0,0,0,0,0,0,0,0,0,0,0,0,0,0,0,0,0,0,0,0,0,0,0,0,0,0,0,0,0,0,0,0,0,0,0,0,0,0,0,0,0,0,0,0,0,0,0,0,0,0,0,0,0,0,0,0,0,0,0,0,0,0,0,0,0,0,0,0,0,0,0,0,0,0,0,0,0,0,0,0,0,0,0,0,0,0,0,0,0,0,0,0,0,0,0,0,0,0,0,0,0,0,0,0,0,0,0,0,0,0,0,0,0,0,0,0,0,0,0,0,0,0,0,0,0,0,0,0,0,0]
[null,null,"Re-financing Issue",null,null,null,null,null,null,true,{"$f":"IF(J136,\"This is a Re-financing Debt Facility\",\"\")","v":"This is a Re-financing Debt Facility"}]
[null,null,"Period of Re-financing -- period after COD ",null,null,null,null,null,null,{"$f":"'Financial Model'!F88","v":72},{"$f":"IF(J136,\"Periods after COD for Re-financing -- Put in a large number to turn off\",\"\")","v":"Periods after COD for Re-financing -- Put in a large number to turn off"}]
[null,null,"Fixed Amount of Re-financing",null,null,null,null,null,null,0]
[null,null,"DSCR for Sculpted Re-financing",null,null,null,null,null,null,{"$f":"'Financial Model'!F90","v":1.25}]
[null,null,"Tenor of Re-financing in Periods",null,null,null,null,null,null,{"$f":"'Financial Model'!F95","v":-4}]
[null,null,"Breakage Costs and Re-financing Fees",null,null,null,null,null,null,0]
[null,null,"Commitment (Not Funded e.g. Standby Commitment)",null,null,null,null,null,null,0]
[null,null,"Debt with Fixed Issue Date (Boolean)",null,null,null,null,null,null,false]
[null,null,"Commitment Amount for Debt with Fixed Funding Date",null,null,null,null,null,null,0]
[null,null,"Period in construction period of financing",null,null,null,null,null,null,0]
[null,"Issue 4 for Third Re-financing - Start the selection here"]
[null,null,"Senior/Mezz Debt (1-Senior; 2-Mezz; 3-Shareholder Loan; 4--EBL; 5--WC; 6 -- Standby; 7 VAT)",null,null,null,null,null,null,1,{"$f":"CHOOSE(J147,\"Senior Debt Facility\",\"Mezzanine Debt Facility\",\"Shareholder Loan\",\"Equity Bridge Loan\",\"Working Capital Facility\",\"Standby Debt Facility\",\"VAT Facility\")","v":"Senior Debt Facility"}]
[null,null,{"$f":"CHOOSE(J147,\"Percent of Senior Debt Loans (zero for refinance)\",\"Percent of Mezzanine Debt Loans\",\"Percent of Shareholder Loans\",\"Percent of EBL\",\"Percent of Working Capital Facility\",\"Percent of Standby Debt\",\"Percent of VAT Facilities\")","v":"Percent of Senior Debt Loans (zero for refinance)"},null,null,null,null,null,null,0]
[null,null,"Periodic Interest Rate",null,null,null,null,null,null,{"$f":"'Financial Model'!J242","v":2.4166666666666668E-3},{"$f":"'Financial Model'!K242","v":2.4166666666666668E-3},{"$f":"'Financial Model'!L242","v":2.4166666666666668E-3},{"$f":"'Financial Model'!M242","v":2.4166666666666668E-3},{"$f":"'Financial Model'!N242","v":2.4166666666666668E-3},{"$f":"'Financial Model'!O242","v":2.4166666666666668E-3},{"$f":"'Financial Model'!P242","v":2.4166666666666668E-3},{"$f":"'Financial Model'!Q242","v":2.4166666666666668E-3},{"$f":"'Financial Model'!R242","v":2.4166666666666668E-3},{"$f":"'Financial Model'!S242","v":2.4166666666666668E-3},{"$f":"'Financial Model'!T242","v":2.4166666666666668E-3},{"$f":"'Financial Model'!U242","v":2.4166666666666668E-3},{"$f":"'Financial Model'!V242","v":2.4166666666666668E-3},{"$f":"'Financial Model'!W242","v":2.4166666666666668E-3},{"$f":"'Financial Model'!X242","v":2.4166666666666668E-3},{"$f":"'Financial Model'!Y242","v":2.4166666666666668E-3},{"$f":"'Financial Model'!Z242","v":2.4166666666666668E-3},{"$f":"'Financial Model'!AA242","v":2.4166666666666668E-3},{"$f":"'Financial Model'!AB242","v":2.4166666666666668E-3},{"$f":"'Financial Model'!AC242","v":2.4166666666666668E-3},{"$f":"'Financial Model'!AD242","v":2.4166666666666668E-3},{"$f":"'Financial Model'!AE242","v":2.4166666666666668E-3},{"$f":"'Financial Model'!AF242","v":2.4166666666666668E-3},{"$f":"'Financial Model'!AG242","v":2.4166666666666668E-3},{"$f":"'Financial Model'!AH242","v":2.4166666666666668E-3},{"$f":"'Financial Model'!AI242","v":2.4166666666666668E-3},{"$f":"'Financial Model'!AJ242","v":2.4166666666666668E-3},{"$f":"'Financial Model'!AK242","v":2.4166666666666668E-3},{"$f":"'Financial Model'!AL242","v":2.4166666666666668E-3},{"$f":"'Financial Model'!AM242","v":2.4166666666666668E-3},{"$f":"'Financial Model'!AN242","v":2.4166666666666668E-3},{"$f":"'Financial Model'!AO242","v":2.4166666666666668E-3},{"$f":"'Financial Model'!AP242","v":2.4166666666666668E-3},{"$f":"'Financial Model'!AQ242","v":2.4166666666666668E-3},{"$f":"'Financial Model'!AR242","v":2.4166666666666668E-3},{"$f":"'Financial Model'!AS242","v":2.4166666666666668E-3},{"$f":"'Financial Model'!AT242","v":1.4500000000000001E-2},{"$f":"'Financial Model'!AU242","v":1.4500000000000001E-2},{"$f":"'Financial Model'!AV242","v":1.4500000000000001E-2},{"$f":"'Financial Model'!AW242","v":1.4500000000000001E-2},{"$f":"'Financial Model'!AX242","v":1.4500000000000001E-2},{"$f":"'Financial Model'!AY242","v":1.4500000000000001E-2},{"$f":"'Financial Model'!AZ242","v":1.4500000000000001E-2},{"$f":"'Financial Model'!BA242","v":1.4500000000000001E-2},{"$f":"'Financial Model'!BB242","v":1.4500000000000001E-2},{"$f":"'Financial Model'!BC242","v":1.4500000000000001E-2},{"$f":"'Financial Model'!BD242","v":1.4500000000000001E-2},{"$f":"'Financial Model'!BE242","v":1.4500000000000001E-2},{"$f":"'Financial Model'!BF242","v":1.4500000000000001E-2},{"$f":"'Financial Model'!BG242","v":1.4500000000000001E-2},{"$f":"'Financial Model'!BH242","v":1.4500000000000001E-2},{"$f":"'Financial Model'!BI242","v":1.4500000000000001E-2},{"$f":"'Financial Model'!BJ242","v":1.4500000000000001E-2},{"$f":"'Financial Model'!BK242","v":1.4500000000000001E-2},{"$f":"'Financial Model'!BL242","v":1.4500000000000001E-2},{"$f":"'Financial Model'!BM242","v":1.4500000000000001E-2},{"$f":"'Financial Model'!BN242","v":1.4500000000000001E-2},{"$f":"'Financial Model'!BO242","v":1.4500000000000001E-2},{"$f":"'Financial Model'!BP242","v":1.4500000000000001E-2},{"$f":"'Financial Model'!BQ242","v":1.4500000000000001E-2},{"$f":"'Financial Model'!BR242","v":1.4500000000000001E-2},{"$f":"'Financial Model'!BS242","v":1.4500000000000001E-2},{"$f":"'Financial Model'!BT242","v":1.4500000000000001E-2},{"$f":"'Financial Model'!BU242","v":1.4500000000000001E-2},{"$f":"'Financial Model'!BV242","v":1.4500000000000001E-2},{"$f":"'Financial Model'!BW242","v":1.4500000000000001E-2},{"$f":"'Financial Model'!BX242","v":1.4500000000000001E-2},{"$f":"'Financial Model'!BY242","v":1.4500000000000001E-2},{"$f":"'Financial Model'!BZ242","v":1.4500000000000001E-2},{"$f":"'Financial Model'!CA242","v":1.4500000000000001E-2},{"$f":"'Financial Model'!CB242","v":1.4500000000000001E-2},{"$f":"'Financial Model'!CC242","v":1.4500000000000001E-2},{"$f":"'Financial Model'!CD242","v":1.4500000000000001E-2},{"$f":"'Financial Model'!CE242","v":1.4500000000000001E-2},{"$f":"'Financial Model'!CF242","v":1.4500000000000001E-2},{"$f":"'Financial Model'!CG242","v":1.4500000000000001E-2},{"$f":"'Financial Model'!CH242","v":1.4500000000000001E-2},{"$f":"'Financial Model'!CI242","v":1.4500000000000001E-2},{"$f":"'Financial Model'!CJ242","v":1.4500000000000001E-2},{"$f":"'Financial Model'!CK242","v":1.4500000000000001E-2},{"$f":"'Financial Model'!CL242","v":1.4500000000000001E-2},{"$f":"'Financial Model'!CM242","v":1.4500000000000001E-2},{"$f":"'Financial Model'!CN242","v":1.4500000000000001E-2},{"$f":"'Financial Model'!CO242","v":1.4500000000000001E-2},{"$f":"'Financial Model'!CP242","v":1.4500000000000001E-2},{"$f":"'Financial Model'!CQ242","v":1.4500000000000001E-2},{"$f":"'Financial Model'!CR242","v":1.4500000000000001E-2},{"$f":"'Financial Model'!CS242","v":1.4500000000000001E-2},{"$f":"'Financial Model'!CT242","v":1.4500000000000001E-2},{"$f":"'Financial Model'!CU242","v":1.4500000000000001E-2},{"$f":"'Financial Model'!CV242","v":1.4500000000000001E-2},{"$f":"'Financial Model'!CW242","v":1.4500000000000001E-2},{"$f":"'Financial Model'!CX242","v":1.4500000000000001E-2},{"$f":"'Financial Model'!CY242","v":1.4500000000000001E-2},{"$f":"'Financial Model'!CZ242","v":1.4500000000000001E-2},{"$f":"'Financial Model'!DA242","v":1.4500000000000001E-2},{"$f":"'Financial Model'!DB242","v":1.4500000000000001E-2},{"$f":"'Financial Model'!DC242","v":1.4500000000000001E-2},{"$f":"'Financial Model'!DD242","v":1.4500000000000001E-2},{"$f":"'Financial Model'!DE242","v":1.4500000000000001E-2},{"$f":"'Financial Model'!DF242","v":1.4500000000000001E-2},{"$f":"'Financial Model'!DG242","v":1.4500000000000001E-2},{"$f":"'Financial Model'!DH242","v":1.4500000000000001E-2},{"$f":"'Financial Model'!DI242","v":1.4500000000000001E-2},{"$f":"'Financial Model'!DJ242","v":1.4500000000000001E-2},{"$f":"'Financial Model'!DK242","v":1.4500000000000001E-2},{"$f":"'Financial Model'!DL242","v":1.4500000000000001E-2},{"$f":"'Financial Model'!DM242","v":1.4500000000000001E-2},{"$f":"'Financial Model'!DN242","v":1.4500000000000001E-2},{"$f":"'Financial Model'!DO242","v":1.4500000000000001E-2},{"$f":"'Financial Model'!DP242","v":1.4500000000000001E-2},{"$f":"'Financial Model'!DQ242","v":1.4500000000000001E-2},{"$f":"'Financial Model'!DR242","v":1.4500000000000001E-2},{"$f":"'Financial Model'!DS242","v":1.4500000000000001E-2},{"$f":"'Financial Model'!DT242","v":1.4500000000000001E-2},{"$f":"'Financial Model'!DU242","v":1.4500000000000001E-2},{"$f":"'Financial Model'!DV242","v":1.4500000000000001E-2},{"$f":"'Financial Model'!DW242","v":1.4500000000000001E-2},{"$f":"'Financial Model'!DX242","v":1.4500000000000001E-2},{"$f":"'Financial Model'!DY242","v":1.4500000000000001E-2},{"$f":"'Financial Model'!DZ242","v":1.4500000000000001E-2},{"$f":"'Financial Model'!EA242","v":1.4500000000000001E-2},{"$f":"'Financial Model'!EB242","v":1.4500000000000001E-2},{"$f":"'Financial Model'!EC242","v":1.4500000000000001E-2},{"$f":"'Financial Model'!ED242","v":1.4500000000000001E-2},{"$f":"'Financial Model'!EE242","v":1.4500000000000001E-2},{"$f":"'Financial Model'!EF242","v":1.4500000000000001E-2},{"$f":"'Financial Model'!EG242","v":1.4500000000000001E-2},{"$f":"'Financial Model'!EH242","v":1.4500000000000001E-2},{"$f":"'Financial Model'!EI242","v":1.4500000000000001E-2},{"$f":"'Financial Model'!EJ242","v":1.4500000000000001E-2},{"$f":"'Financial Model'!EK242","v":1.4500000000000001E-2},{"$f":"'Financial Model'!EL242","v":1.4500000000000001E-2},{"$f":"'Financial Model'!EM242","v":1.4500000000000001E-2},{"$f":"'Financial Model'!EN242","v":1.4500000000000001E-2},{"$f":"'Financial Model'!EO242","v":1.4500000000000001E-2},{"$f":"'Financial Model'!EP242","v":1.4500000000000001E-2},{"$f":"'Financial Model'!EQ242","v":1.4500000000000001E-2},{"$f":"'Financial Model'!ER242","v":1.4500000000000001E-2},{"$f":"'Financial Model'!ES242","v":1.4500000000000001E-2},{"$f":"'Financial Model'!ET242","v":1.4500000000000001E-2},{"$f":"'Financial Model'!EU242","v":1.4500000000000001E-2},{"$f":"'Financial Model'!EV242","v":1.4500000000000001E-2},{"$f":"'Financial Model'!EW242","v":1.4500000000000001E-2},{"$f":"'Financial Model'!EX242","v":1.4500000000000001E-2},{"$f":"'Financial Model'!EY242","v":1.4500000000000001E-2},{"$f":"'Financial Model'!EZ242","v":1.4500000000000001E-2}]
[null,null,"Up-Front Fee",null,null,null,null,null,null,0]
[null,null,"Periodic Commitment Fee",null,null,null,null,null,null,0,0,0,0,0,0,0,0,0,0,0,0,0,0,0,0,0,0,0,0,0,0,0,0,0,0,0,0,0,0,0,0,0,0,0,0,0,0,0,0,0,0,0,0,0,0,0,0,0,0,0,0,0,0,0,0,0,0,0,0,0,0,0,0,0,0,0,0,0,0,0,0,0,0,0,0,0,0,0,0,0,0,0,0,0,0,0,0,0,0,0,0,0,0,0,0,0,0,0,0,0,0,0,0,0,0,0,0,0,0,0,0,0,0,0,0,0,0,0,0,0,0,0,0,0,0,0,0,0,0,0,0,0,0,0,0,0,0,0,0,0,0,0,0,0,0,0]
[null,null,"PRI (Political Risk Insurance)",null,null,null,null,null,null,0,0,0,0,0,0,0,0,0,0,0,0,0,0,0,0,0,0,0,0,0,0,0,0,0,0,0,0,0,0,0,0,0,0,0,0,0,0,0,0,0,0,0,0,0,0,0,0,0,0,0,0,0,0,0,0,0,0,0,0,0,0,0,0,0,0,0,0,0,0,0,0,0,0,0,0,0,0,0,0,0,0,0,0,0,0,0,0,0,0,0,0,0,0,0,0,0,0,0,0,0,0,0,0,0,0,0,0,0,0,0,0,0,0,0,0,0,0,0,0,0,0,0,0,0,0,0,0,0,0,0,0,0,0,0,0,0,0,0,0,0,0,0,0,0,0,0]
[null,null,"Capitalised Interest During Construction Switch",null,null,null,null,null,null,0]
[null,null,"Capitalised Fee During Construction Switch",null,null,null,null,null,null,0]
[null,null,"Sculpting Switch - TRUE is Automated Sculpting",null,null,null,null,null,null,true,{"$f":"IF(J155,\"Sculpting from DSCR -- Fixed Repayment Percentages Not Used\",\"Fixed Input Percentages Used\")","v":"Sculpting from DSCR -- Fixed Repayment Percentages Not Used"}]
[null,null,"Debt Tenure - periods post COD (EBL - periods post Fin Close)",null,null,null,null,null,null,{"$f":"'Financial Model'!F109","v":0}]
[null,null,"Repayment Percent Input"]
[null,null,"Balloon Percent",null,null,null,null,null,null,0]
[null,null,"Sweep Percent",null,null,null,null,null,null,null,{"$f":"IF(J159>0,\" Cash Flow Sweep of \"&TEXT(J159,\" ##.00%\"),\"\")","v":""}]
[null,null,"Start Period after COD for Sweep",null,null,null,null,null,null,0]
[null,null,"Post COD Fee as Percent of Debt (other than LC Fee)",null,null,null,null,null,null,0,0,0,0,0,0,0,0,0,0,0,0,0,0,0,0,0,0,0,0,0,0,0,0,0,0,0,0,0,0,0,0,0,0,0,0,0,0,0,0,0,0,0,0,0,0,0,0,0,0,0,0,0,0,0,0,0,0,0,0,0,0,0,0,0,0,0,0,0,0,0,0,0,0,0,0,0,0,0,0,0,0,0,0,0,0,0,0,0,0,0,0,0,0,0,0,0,0,0,0,0,0,0,0,0,0,0,0,0,0,0,0,0,0,0,0,0,0,0,0,0,0,0,0,0,0,0,0,0,0,0,0,0,0,0,0,0,0,0,0,0,0,0,0,0,0,0]
[null,null,"Re-financing Issue",null,null,null,null,null,null,true,{"$f":"IF(J162,\"This is a Re-financing Debt Facility\",\"\")","v":"This is a Re-financing Debt Facility"}]
[null,null,"Period of Re-financing -- period after COD ",null,null,null,null,null,null,{"$f":"'Financial Model'!F100","v":72},{"$f":"IF(J162,\"Periods after COD for Re-financing -- Put in a large number to turn off\",\"\")","v":"Periods after COD for Re-financing -- Put in a large number to turn off"}]
[null,null,"Fixed Amount of Re-financing",null,null,null,null,null,null,0]
[null,null,"DSCR for Sculpted Re-financing",null,null,null,null,null,null,{"$f":"'Financial Model'!F102","v":1.2}]
[null,null,"Tenor of Re-financing in Periods",null,null,null,null,null,null,{"$f":"'Financial Model'!F107","v":-2}]
[null,null,"Breakage Costs and Re-financing Fees",null,null,null,null,null,null,0]
[null,null,"Commitment (Not Funded e.g. Standby Commitment)",null,null,null,null,null,null,0]
[null,null,"Debt with Fixed Issue Date (Boolean)",null,null,null,null,null,null,false]
[null,null,"Commitment Amount for Debt with Fixed Funding Date",null,null,null,null,null,null,0]
[null,null,"Period in construction period of financing",null,null,null,null,null,null,0]
[]
["Function Output"]
[null,{"$f":"B455","v":"1 Iteration/Number of Issues/Period Count"},null,null,null,null,null,{"$f":"IFERROR(circular_template(UDF_switch,5:21,24:63,68:171),0)","v":14},2,3,4,5,6,7,8,9,10,11,12,13,14,15,16,17,18,19,20,21,22,23,24,25,26,27,28,29,30,31,32,33,34,35,36,37,38,39,40,41,42,43,44,45,46,47,48,49,50,51,52,53,54,55,56,57,58,59,60,61,62,63,64,65,66,67,68,69,70,71,72,73,74,75,76,77,78,79,80,81,82,83,84,85,86,87,88,89,90,91,92,93,94,95,96,97,98,99,100,101,102,103,104,105,106,107,108,"","","","","","","","","","","","","","","","","","","","","","","","","","","","","","","","","","","","","","","","",""]
[null,{"$f":"B456","v":"'2 Senior Debt Sizing Parameters"},null,null,null,null,null,"Senior Size",148436.82908067355," From DSCR/Pct ",4," Debt % ",0.65832662363955341," Fix Input Debt ",0," From Pct ",200673.6066001938," From DSCR ",148436.82908067355," From DSCR/Pct ",200673.6066001938," Proj Cost ",225475.96247212787," DSCR Input ",1," DSCR Applied ",1,"","","","","","","","","","","","","","","","","","","","","","","","","","","","","","","","","","","","","","","","","","","","","","","","","","","","","","","","","","","","","","","","","","","","","","","","","","","","","","","","","","","","","","","","","","","","","","","","","","","","","","","","","","","","","","","","","","","","","","","","","","","","","","","","",""]
[null,"'3 Mezzanine Debt Sizing Parameters",null,null,null,null,null,"Mezz Size",0," From DSCR ",3," Debt % ",0," Fix Input Debt ",0," From Pct ",0," From DSCR ",0," From DSCR/Pct ",0," Proj Cost ",225475.96247212787," Total DSCR ",1.2," Mezz IDC ",0," Mezz Fees ",0," Deductible Int ",1,"","","","","","","","","","","","","","","","","","","","","","","","","","","","","","","","","","","","","","","","","","","","","","","","","","","","","","","","","","","","","","","","","","","","","","","","","","","","","","","","","","","","","","","","","","","","","","","","","","","","","","","","","","","","","","","","","","","","","","","","","","","","",""]
[null,"'4 Shareholder Debt Sizing Parameters",null,null,null,null,null," Sh Loan Size ",0," From Pct of Equity",2," Pct of Equity ",0," Input Debt ",0," From Pct ",0,"","","",""," Equity Commitment ",77039.133391454321," Shrldr IDC ",0,"",""," Shrldr Fees ",0," Deductible Int ",1,"","","","","","","","","","","","","","","","","","","","","","","","","","","","","","","","","","","","","","","","","","","","","","","","","","","","","","","","","","","","","","","","","","","","","","","","","","","","","","","","","","","","","","","","","","","","","","","","","","","","","","","","","","","","","","","","","","","","","","","","","","","","",""]
[".","'5 Uses of Funds Pre-COD Section",null,null,null,null,null,"","","","","","","","","","","","","","","","","","","","","","","","","","","","","","","","","","","","","","","Operation","Operation","Operation","Operation","Operation","Operation","Operation","Operation","Operation","Operation","Operation","Operation","Operation","Operation","Operation","Operation","Operation","Operation","Operation","Operation","Operation","Operation","Operation","Operation","Operation","Operation","Operation","Operation","Operation","Operation","Operation","Operation","Operation","Operation","Operation","Operation","Operation","Operation","Operation","Operation","Operation","Operation","Operation","Operation","Operation","Operation","Operation","Operation","Operation","Operation","Operation","Operation","Operation","Operation","Operation","Operation","Operation","Operation","Operation","Operation","Operation","Operation","Operation","Operation","Operation","Operation","Operation","Operation","Operation","Operation","","","","","","","","","","","","","","","","","","","","","","","","","","","","","","","","","","","","","","","","",""]
[null,"'6 Capital Expenditures",null,null,null,null,null,168000.00000000006,"",2637.9240325551682,3093.3403169936519,3582.8733707780793,4098.9588287667539,4631.8447342996697,5169.7884177859505,5699.4098072242987,6206.1939159933036,6675.1209117719745,7091.3883923931016,7441.1789220297569,7712.4180432328667,7895.4650695067921,7983.6816436706113,7973.8313282723811,7866.276692202724,7664.9571593607852,7377.1495063289867,7013.031311291561,6585.0838679934041,6107.3833796636472,5594.8364415454753,5062.4173601015045,4524.4608883435185,3994.0552627170587,3482.5682842163874,2999.3251646437052,2551.4425961357783,2143.8104914276701,1779.2022612739834,1458.4870975808756,1180.9138085666771,944.43516676814841,746.04399465720212,582.09660643111908,448.60492347546119,0,0,0,0,0,0,0,0,0,0,0,0,0,0,0,0,0,0,0,0,0,0,0,0,0,0,0,0,0,0,0,0,0,0,0,0,0,0,0,0,0,0,0,0,0,0,0,0,0,0,0,0,0,0,0,0,0,0,0,0,0,0,0,0,0,0,0,0,0,0,"","","","","","","","","","","","","","","","","","","","","","","","","","","","","","","","","","","","","","","","",""]
[null,"'7 Working Capital Pre-COD/Total",null,null,null,null,null,0,"",0,0,0,0,0,0,0,0,0,0,0,0,0,0,0,0,0,0,0,0,0,0,0,0,0,0,0,0,0,0,0,0,0,0,0,0,0,0,0,0,0,0,0,0,0,0,0,0,0,0,0,0,0,0,0,0,0,0,0,0,0,0,0,0,0,0,0,0,0,0,0,0,0,0,0,0,0,0,0,0,0,0,0,0,0,0,0,0,0,0,0,0,0,0,0,0,0,0,0,0,0,0,0,0,0,0,"","","","","","","","","","","","","","","","","","","","","","","","","","","","","","","","","","","","","","","","",""]
[null,"'8 Development Success Fee",null,null,null,null,null,45095.192494425573,"",45095.192494425573,0,0,0,0,0,0,0,0,0,0,0,0,0,0,0,0,0,0,0,0,0,0,0,0,0,0,0,0,0,0,0,0,0,0,0,0,0,0,0,0,0,0,0,0,0,0,0,0,0,0,0,0,0,0,0,0,0,0,0,0,0,0,0,0,0,0,0,0,0,0,0,0,0,0,0,0,0,0,0,0,0,0,0,0,0,0,0,0,0,0,0,0,0,0,0,0,0,0,0,0,0,0,0,0,0,"","","","","","","","","","","","","","","","","","","","","","","","","","","","","","","","","","","","","","","","",""]
[null,"'9 Interest During Construction",null,null,null,null,null,8292.527548038508,"",0,24.483338179266035,31.330216771066016,39.2235206191299,48.220990712740019,58.359804857176783,69.652332925013582,82.082633971882814,95.604012140643434,110.13790301498672,125.57428758328481,141.77373186325923,158.57103438887685,175.78034158015356,193.20147433336115,210.62710984901071,227.85039119336827,244.6725010367779,260.90973933245317,276.39968701417922,291.00611449150637,304.62239657724228,317.17331371881392,328.61524107328279,338.93484040858539,348.14646501416439,356.28855743419962,363.41935988061147,369.61226708750792,374.95113374099373,379.5258085622205,383.42811134415888,386.74840507966758,389.5728498224907,391.98136412485161,394.04626831158049,0,0,0,0,0,0,0,0,0,0,0,0,0,0,0,0,0,0,0,0,0,0,0,0,0,0,0,0,0,0,0,0,0,0,0,0,0,0,0,0,0,0,0,0,0,0,0,0,0,0,0,0,0,0,0,0,0,0,0,0,0,0,0,0,0,0,0,0,0,0,"","","","","","","","","","","","","","","","","","","","","","","","","","","","","","","","","","","","","","","","",""]
[null,"'10 Shareholder Loand Interest During Construction",null,null,null,null,null,0,"",0,0,0,0,0,0,0,0,0,0,0,0,0,0,0,0,0,0,0,0,0,0,0,0,0,0,0,0,0,0,0,0,0,0,0,0,0,0,0,0,0,0,0,0,0,0,0,0,0,0,0,0,0,0,0,0,0,0,0,0,0,0,0,0,0,0,0,0,0,0,0,0,0,0,0,0,0,0,0,0,0,0,0,0,0,0,0,0,0,0,0,0,0,0,0,0,0,0,0,0,0,0,0,0,0,0,0,0,0,0,0,0,0,0,0,0,0,0,0,0,0,0,0,0,0,0,0,0,0,0,0,0,0,0,0,0,0,0,0,0,0,0,0,0,0,0,0]
[null,"'11 Up-Front Fees",null,null,null,null,null,2226.5524362101032,"",2226.5524362101032,0,0,0,0,0,0,0,0,0,0,0,0,0,0,0,0,0,0,0,0,0,0,0,0,0,0,0,0,0,0,0,0,0,0,0,0,0,0,0,0,0,0,0,0,0,0,0,0,0,0,0,0,0,0,0,0,0,0,0,0,0,0,0,0,0,0,0,0,0,0,0,0,0,0,0,0,0,0,0,0,0,0,0,0,0,0,0,0,0,0,0,0,0,0,0,0,0,0,0,0,0,0,0,0,0,0,0,0,0,0,0,0,0,0,0,0,0,0,0,0,0,0,0,0,0,0,0,0,0,0,0,0,0,0,0,0,0,0,0,0,0,0,0,0,0,0]
[null,"'12 Commitment Fees",null,null,null,null,null,1861.6900136581726,"",123.69735756722797,116.04631438620734,113.90666482626983,111.44000737374986,108.6282979694967,105.45991854936021,101.93100352816121,98.04653445101458,93.821103773276889,89.279262875044623,84.455392697451458,79.393066359959448,74.143909320703955,68.766000823429977,63.321896838052602,57.876385739412115,52.494110319300368,47.237200993234865,42.163064025836334,37.322455375296947,32.757946788632204,28.50285863683974,24.580697030098612,21.005094731827086,17.780219939545013,14.901587250301588,12.357183369040577,10.128807604536876,8.1935241023817316,6.5251282731674056,5.0955423915340363,3.8760727721783046,2.8384809798318265,1.9558419976996084,1.2031812782118263,0.55789871985905248,0,0,0,0,0,0,0,0,0,0,0,0,0,0,0,0,0,0,0,0,0,0,0,0,0,0,0,0,0,0,0,0,0,0,0,0,0,0,0,0,0,0,0,0,0,0,0,0,0,0,0,0,0,0,0,0,0,0,0,0,0,0,0,0,0,0,0,0,0,0,0,0,0,0,0,0,0,0,0,0,0,0,0,0,0,0,0,0,0,0,0,0,0,0,0,0,0,0,0,0,0,0,0,0,0,0,0,0,0,0,0]
[null,"'13 Other: PRI/EBL Interest/Witholdding/Standby Interest",null,null,null,null,null,0,"",0,0,0,0,0,0,0,0,0,0,0,0,0,0,0,0,0,0,0,0,0,0,0,0,0,0,0,0,0,0,0,0,0,0,0,0,0,0,0,0,0,0,0,0,0,0,0,0,0,0,0,0,0,0,0,0,0,0,0,0,0,0,0,0,0,0,0,0,0,0,0,0,0,0,0,0,0,0,0,0,0,0,0,0,0,0,0,0,0,0,0,0,0,0,0,0,0,0,0,0,0,0,0,0,0,0,0,0,0,0,0,0,0,0,0,0,0,0,0,0,0,0,0,0,0,0,0,0,0,0,0,0,0,0,0,0,0,0,0,0,0,0,0,0,0,0,0]
[null,"'14 DSRA Funded During Construction",null,null,null,null,null,0,"",0,0,0,0,0,0,0,0,0,0,0,0,0,0,0,0,0,0,0,0,0,0,0,0,0,0,0,0,0,0,0,0,0,0,0,0,0,0,0,0,0,0,0,0,0,0,0,0,0,0,0,0,0,0,0,0,0,0,0,0,0,0,0,0,0,0,0,0,0,0,0,0,0,0,0,0,0,0,0,0,0,0,0,0,0,0,0,0,0,0,0,0,0,0,0,0,0,0,0,0,0,0,0,0,0,0,0,0,0,0,0,0,0,0,0,0,0,0,0,0,0,0,0,0,0,0,0,0,0,0,0,0,0,0,0,0,0,0,0,0,0,0,0,0,0,0,0]
[null,"'15 Withholding Tax",null,null,null,null,null,0,"",0,0,0,0,0,0,0,0,0,0,0,0,0,0,0,0,0,0,0,0,0,0,0,0,0,0,0,0,0,0,0,0,0,0,0,0,0,0,0,0,0,0,0,0,0,0,0,0,0,0,0,0,0,0,0,0,0,0,0,0,0,0,0,0,0,0,0,0,0,0,0,0,0,0,0,0,0,0,0,0,0,0,0,0,0,0,0,0,0,0,0,0,0,0,0,0,0,0,0,0,0,0,0,0,0,0,0,0,0,0,0,0,0,0,0,0,0,0,0,0,0,0,0,0,0,0,0,0,0,0,0,0,0,0,0,0,0,0,0,0,0,0,0,0,0,0,0]
[null,"16 VAT Debt Fees and Interest",null,null,null,null,null,0,"",0,0,0,0,0,0,0,0,0,0,0,0,0,0,0,0,0,0,0,0,0,0,0,0,0,0,0,0,0,0,0,0,0,0,0,0,0,0,0,0,0,0,0,0,0,0,0,0,0,0,0,0,0,0,0,0,0,0,0,0,0,0,0,0,0,0,0,0,0,0,0,0,0,0,0,0,0,0,0,0,0,0,0,0,0,0,0,0,0,0,0,0,0,0,0,0,0,0,0,0,0,0,0,0,0,0,0,0,0,0,0,0,0,0,0,0,0,0,0,0,0,0,0,0,0,0,0,0,0,0,0,0,0,0,0,0,0,0,0,0,0,0,0,0,0,0,0]
[null,"'17 Total Uses Including Capitalised Items",null,null,null,null,null,225475.96247212787,"",50083.366320758076,3233.8699695591254,3728.1102523754148,4249.6223567596335,4788.6940229819065,5333.608141192487,5870.9931436774741,6386.3230844162008,6864.5460276858948,7290.805558283133,7651.208602310493,7933.5848414560851,8128.1800132163726,8228.2279860741946,8230.3546994437947,8134.780187791147,7945.3016608734542,7669.059208359,7316.1041146498501,6898.8060103828802,6431.147440943786,5927.9616967595575,5404.1713708504167,4874.0812241486283,4350.7703230651887,3845.6163364808531,3367.9709054469454,2924.9907636209268,2521.6162826175596,2160.6785232881443,1843.1084485346303,1568.2179926830142,1334.0220528276477,1137.5726864773924,975.28115183418254,843.20909050690068,0,0,0,0,0,0,0,0,0,0,0,0,0,0,0,0,0,0,0,0,0,0,0,0,0,0,0,0,0,0,0,0,0,0,0,0,0,0,0,0,0,0,0,0,0,0,0,0,0,0,0,0,0,0,0,0,0,0,0,0,0,0,0,0,0,0,0,0,0,0,0,0,0,0,0,0,0,0,0,0,0,0,0,0,0,0,0,0,0,0,0,0,0,0,0,0,0,0,0,0,0,0,0,0,0,0,0,0,0,0,0]
[null,"'18 Less: Capitalised Interest and Fees Inclding WC, Standby etc.",null,null,null,null,null,0,"",0,0,0,0,0,0,0,0,0,0,0,0,0,0,0,0,0,0,0,0,0,0,0,0,0,0,0,0,0,0,0,0,0,0,0,0,0,0,0,0,0,0,0,0,0,0,0,0,0,0,0,0,0,0,0,0,0,0,0,0,0,0,0,0,0,0,0,0,0,0,0,0,0,0,0,0,0,0,0,0,0,0,0,0,0,0,0,0,0,0,0,0,0,0,0,0,0,0,0,0,0,0,0,0,0,0,0,0,0,0,0,0,0,0,0,0,0,0,0,0,0,0,0,0,0,0,0,0,0,0,0,0,0,0,0,0,0,0,0,0,0,0,0,0,0,0,0]
[null,"'19 Less: Capitalised Interest on EBL",null,null,null,null,null,0,"",0,0,0,0,0,0,0,0,0,0,0,0,0,0,0,0,0,0,0,0,0,0,0,0,0,0,0,0,0,0,0,0,0,0,0,0,0,0,0,0,0,0,0,0,0,0,0,0,0,0,0,0,0,0,0,0,0,0,0,0,0,0,0,0,0,0,0,0,0,0,0,0,0,0,0,0,0,0,0,0,0,0,0,0,0,0,0,0,0,0,0,0,0,0,0,0,0,0,0,0,0,0,0,0,0,0,0,0,0,0,0,0,0,0,0,0,0,0,0,0,0,0,0,0,0,0,0,0,0,0,0,0,0,0,0,0,0,0,0,0,0,0,0,0,0,0,0]
[null,"'20 Less: Capitalised Interest on Shareholder Loan",null,null,null,null,null,0,"",0,0,0,0,0,0,0,0,0,0,0,0,0,0,0,0,0,0,0,0,0,0,0,0,0,0,0,0,0,0,0,0,0,0,0,0,0,0,0,0,0,0,0,0,0,0,0,0,0,0,0,0,0,0,0,0,0,0,0,0,0,0,0,0,0,0,0,0,0,0,0,0,0,0,0,0,0,0,0,0,0,0,0,0,0,0,0,0,0,0,0,0,0,0,0,0,0,0,0,0,0,0,0,0,0,0,0,0,0,0,0,0,0,0,0,0,0,0,0,0,0,0,0,0,0,0,0,0,0,0,0,0,0,0,0,0,0,0,0,0,0,0,0,0,0,0,0]
[null,"'21 Less: Capitalised Fees on Debt Including WC, Standby etc.",null,null,null,null,null,0,"",0,0,0,0,0,0,0,0,0,0,0,0,0,0,0,0,0,0,0,0,0,0,0,0,0,0,0,0,0,0,0,0,0,0,0,0,0,0,0,0,0,0,0,0,0,0,0,0,0,0,0,0,0,0,0,0,0,0,0,0,0,0,0,0,0,0,0,0,0,0,0,0,0,0,0,0,0,0,0,0,0,0,0,0,0,0,0,0,0,0,0,0,0,0,0,0,0,0,0,0,0,0,0,0,0,0,0,0,0,0,0,0,0,0,0,0,0,0,0,0,0,0,0,0,0,0,0,0,0,0,0,0,0,0,0,0,0,0,0,0,0,0,0,0,0,0,0]
[null,"'22 Less: Capitalised Fees on EBL",null,null,null,null,null,0,"",0,0,0,0,0,0,0,0,0,0,0,0,0,0,0,0,0,0,0,0,0,0,0,0,0,0,0,0,0,0,0,0,0,0,0,0,0,0,0,0,0,0,0,0,0,0,0,0,0,0,0,0,0,0,0,0,0,0,0,0,0,0,0,0,0,0,0,0,0,0,0,0,0,0,0,0,0,0,0,0,0,0,0,0,0,0,0,0,0,0,0,0,0,0,0,0,0,0,0,0,0,0,0,0,0,0,0,0,0,0,0,0,0,0,0,0,0,0,0,0,0,0,0,0,0,0,0,0,0,0,0,0,0,0,0,0,0,0,0,0,0,0,0,0,0,0,0]
[null,"'23 Cash Funding Needs for Pro-Rata (excl capitalised items)",null,null,null,null,null,225475.96247212787,"",50083.366320758076,3233.8699695591254,3728.1102523754148,4249.6223567596335,4788.6940229819065,5333.608141192487,5870.9931436774741,6386.3230844162008,6864.5460276858948,7290.805558283133,7651.208602310493,7933.5848414560851,8128.1800132163726,8228.2279860741946,8230.3546994437947,8134.780187791147,7945.3016608734542,7669.059208359,7316.1041146498501,6898.8060103828802,6431.147440943786,5927.9616967595575,5404.1713708504167,4874.0812241486283,4350.7703230651887,3845.6163364808531,3367.9709054469454,2924.9907636209268,2521.6162826175596,2160.6785232881443,1843.1084485346303,1568.2179926830142,1334.0220528276477,1137.5726864773924,975.28115183418254,843.20909050690068,0,0,0,0,0,0,0,0,0,0,0,0,0,0,0,0,0,0,0,0,0,0,0,0,0,0,0,0,0,0,0,0,0,0,0,0,0,0,0,0,0,0,0,0,0,0,0,0,0,0,0,0,0,0,0,0,0,0,0,0,0,0,0,0,0,0,0,0,0,0,0,0,0,0,0,0,0,0,0,0,0,0,0,0,0,0,0,0,0,0,0,0,0,0,0,0,0,0,0,0,0,0,0,0,0,0,0,0,0,0,0]
[".","'24 Sources of Funds Section",null,null,null,null,null,"","","","","","","","","","","","","","","","","","","","","","","","","","","","","","","","","","","","","","","Operation","Operation","Operation","Operation","Operation","Operation","Operation","Operation","Operation","Operation","Operation","Operation","Operation","Operation","Operation","Operation","Operation","Operation","Operation","Operation","Operation","Operation","Operation","Operation","Operation","Operation","Operation","Operation","Operation","Operation","Operation","Operation","Operation","Operation","Operation","Operation","Operation","Operation","Operation","Operation","Operation","Operation","Operation","Operation","Operation","Operation","Operation","Operation","Operation","Operation","Operation","Operation","Operation","Operation","Operation","Operation","Operation","Operation","Operation","Operation","Operation","Operation","Operation","Operation","Operation","Operation","Operation","Operation","Operation","Operation",0,0,0,0,0,0,0,0,0,0,0,0,0,0,0,0,0,0,0,0,0,0,0,0,0,0,0,0,0,0,0,0,0,0,0,0,0,0,0,0,0]
[null,"'25 Total Debt Funding from Debt with Fixed Dates",null,null,null,null,null,0,"",0,0,0,0,0,0,0,0,0,0,0,0,0,0,0,0,0,0,0,0,0,0,0,0,0,0,0,0,0,0,0,0,0,0,0,0,0,0,0,0,0,0,0,0,0,0,0,0,0,0,0,0,0,0,0,0,0,0,0,0,0,0,0,0,0,0,0,0,0,0,0,0,0,0,0,0,0,0,0,0,0,0,0,0,0,0,0,0,0,0,0,0,0,0,0,0,0,0,0,0,0,0,0,0,0,0,0,0,0,0,0,0,0,0,0,0,0,0,0,0,0,0,0,0,0,0,0,0,0,0,0,0,0,0,0,0,0,0,0,0,0,0,0,0,0,0,0]
[null,"'26 Allocation to Up-Front Equity Financing (Total/Percent)",null,null,null,null,null,38519.566695727161,0.5,38519.566695727161,0,0,0,0,0,0,0,0,0,0,0,0,0,0,0,0,0,0,0,0,0,0,0,0,0,0,0,0,0,0,0,0,0,0,0,0,0,0,0,0,0,0,0,0,0,0,0,0,0,0,0,0,0,0,0,0,0,0,0,0,0,0,0,0,0,0,0,0,0,0,0,0,0,0,0,0,0,0,0,0,0,0,0,0,0,0,0,0,0,0,0,0,0,0,0,0,0,0,0,0,0,0,0,0,0,0,0,0,0,0,0,0,0,0,0,0,0,0,0,0,0,0,0,0,0,0,0,0,0,0,0,0,0,0,0,0,0,0,0,0,0,0,0,0,0,0]
[null,"'27 Remaining Pro-Rata Funding from Equity and Debt",null,null,null,null,null,186956.39577640069,1,11563.799625030915,3233.8699695591254,3728.1102523754148,4249.6223567596335,4788.6940229819065,5333.608141192487,5870.9931436774741,6386.3230844162008,6864.5460276858948,7290.805558283133,7651.208602310493,7933.5848414560851,8128.1800132163726,8228.2279860741946,8230.3546994437947,8134.780187791147,7945.3016608734542,7669.059208359,7316.1041146498501,6898.8060103828802,6431.147440943786,5927.9616967595575,5404.1713708504167,4874.0812241486283,4350.7703230651887,3845.6163364808531,3367.9709054469454,2924.9907636209268,2521.6162826175596,2160.6785232881443,1843.1084485346303,1568.2179926830142,1334.0220528276477,1137.5726864773924,975.28115183418254,843.20909050690068,0,0,0,0,0,0,0,0,0,0,0,0,0,0,0,0,0,0,0,0,0,0,0,0,0,0,0,0,0,0,0,0,0,0,0,0,0,0,0,0,0,0,0,0,0,0,0,0,0,0,0,0,0,0,0,0,0,0,0,0,0,0,0,0,0,0,0,0,0,0,0,0,0,0,0,0,0,0,0,0,0,0,0,0,0,0,0,0,0,0,0,0,0,0,0,0,0,0,0,0,0,0,0,0,0,0,0,0,0,0,0]
[null,"'28 Pro-Rata Funding from Equity",null,null,null,null,null,38519.566695727161,0.20603503044526195,2382.5478078061533,666.29049763413275,768.12130935146183,875.57107165583693,986.63871881812099,1098.9101157536911,1209.6302511015126,1315.806271130971,1414.3369498071654,1502.1613451713504,1576.4169973200926,1634.5963943494733,1674.689816487605,1695.3032036213531,1695.7413810752071,1676.0496836570626,1637.0104695948523,1580.0948474807631,1507.373734002588,1421.3957063851929,1325.0416587928214,1221.3677686702022,1113.4486129245786,1004.2314734101423,896.41109597307832,792.33167896762927,693.91998804251784,602.65056103474762,519.5412875603771,445.17546532809644,379.74490530775205,323.10784186725243,274.85527426899523,234.37982309206797,200.94208181084593,173.73061063431092,0,0,0,0,0,0,0,0,0,0,0,0,0,0,0,0,0,0,0,0,0,0,0,0,0,0,0,0,0,0,0,0,0,0,0,0,0,0,0,0,0,0,0,0,0,0,0,0,0,0,0,0,0,0,0,0,0,0,0,0,0,0,0,0,0,0,0,0,0,0,0,0,0,0,0,0,0,0,0,0,0,0,0,0,0,0,0,0,0,0,0,0,0,0,0,0,0,0,0,0,0,0,0,0,0,0,0,0,0,0,0]
[null,"29 Pro-Rata Debt Funding",null,null,null,null,null,148436.82908067355,0.79396496955473816,0,0,0,0,0,0,0,0,0,0,0,0,0,0,0,0,0,0,0,0,0,0,0,0,0,0,0,0,0,0,0,0,0,0,0,0,0,0,0,0,0,0,0,0,0,0,0,0,0,0,0,0,0,0,0,0,0,0,0,0,0,0,0,0,0,0,0,0,0,0,0,0,0,0,0,0,0,0,0,0,0,0,0,0,0,0,0,0,0,0,0,0,0,0,0,0,0,0,0,0,0,0,0,0,0,0,0,0,0,0,0,0,0,0,0,0,0,0,0,0,0,0,0,0,0,0,0,0,0,0,0,0,0,0,0,0,0,0,0,0,0,0,0,0,0,0,0]
[".","'30 Debt and Equity Sources",null,null,null,null,null,"","","","","","","","","","","","","","","","","","","","","","","","","","","","","","","","","","","","","","","Operation","Operation","Operation","Operation","Operation","Operation","Operation","Operation","Operation","Operation","Operation","Operation","Operation","Operation","Operation","Operation","Operation","Operation","Operation","Operation","Operation","Operation","Operation","Operation","Operation","Operation","Operation","Operation","Operation","Operation","Operation","Operation","Operation","Operation","Operation","Operation","Operation","Operation","Operation","Operation","Operation","Operation","Operation","Operation","Operation","Operation","Operation","Operation","Operation","Operation","Operation","Operation","Operation","Operation","Operation","Operation","Operation","Operation","Operation","Operation","Operation","Operation","Operation","Operation","Operation","Operation","Operation","Operation","Operation","Operation",0,0,0,0,0,0,0,0,0,0,0,0,0,0,0,0,0,0,0,0,0,0,0,0,0,0,0,0,0,0,0,0,0,0,0,0,0,0,0,0,0]
[null,"'31 Total Equity Draws Incl EBL and Shareholder Loans",null,null,null,null,null,77039.133391454321,0.34167337636044665,40902.114503533317,666.29049763413275,768.12130935146183,875.57107165583693,986.63871881812099,1098.9101157536911,1209.6302511015126,1315.806271130971,1414.3369498071654,1502.1613451713504,1576.4169973200926,1634.5963943494733,1674.689816487605,1695.3032036213531,1695.7413810752071,1676.0496836570626,1637.0104695948523,1580.0948474807631,1507.373734002588,1421.3957063851929,1325.0416587928214,1221.3677686702022,1113.4486129245786,1004.2314734101423,896.41109597307832,792.33167896762927,693.91998804251784,602.65056103474762,519.5412875603771,445.17546532809644,379.74490530775205,323.10784186725243,274.85527426899523,234.37982309206797,200.94208181084593,173.73061063431092,0,0,0,0,0,0,0,0,0,0,0,0,0,0,0,0,0,0,0,0,0,0,0,0,0,0,0,0,0,0,0,0,0,0,0,0,0,0,0,0,0,0,0,0,0,0,0,0,0,0,0,0,0,0,0,0,0,0,0,0,0,0,0,0,0,0,0,0,0,0,0,0,0,0,0,0,0,0,0,0,0,0,0,0,0,0,0,0,0,0,0,0,0,0,0,0,0,0,0,0,0,0,0,0,0,0,0,0,0,0,0]
[null,"'32 Senior Debt Financing/Pct Senior",null,null,null,null,null,148436.82908067355,0.65832662363955341,9181.2518172247637,2567.579471924993,2959.9889430239537,3374.051285103797,3802.0553041637859,4234.6980254387963,4661.3628925759622,5070.5168132852305,5450.2090778787306,5788.6442131117838,6074.7916049904015,6298.9884471066125,6453.4901967287688,6532.9247824528429,6534.6133183685888,6458.7305041340851,6308.291191278603,6088.964360878238,5808.7303806472628,5477.4103039976881,5106.1057821509658,4706.5939280893563,4290.7227579258388,3869.8497507384864,3454.3592270921108,3053.2846575132244,2674.0509174044278,2322.3402025861797,2002.0749950571828,1715.5030579600482,1463.3635432268784,1245.1101508157619,1059.1667785586526,903.19286338532459,774.33907002333672,669.4784798725899,0,0,0,0,0,0,0,0,0,0,0,0,0,0,0,0,0,0,0,0,0,0,0,0,0,0,0,0,0,0,0,0,0,0,0,0,0,0,0,0,0,0,0,0,0,0,0,0,0,0,0,0,0,0,0,0,0,0,0,0,0,0,0,0,0,0,0,0,0,0,0,0,0,0,0,0,0,0,0,0,0,0,0,0,0,0,0,0,0,0,0,0,0,0,0,0,0,0,0,0,0,0,0,0,0,0,0,0,0,0,0]
[null,"'33 Mezzanine Debt Financing/Pct Senior",null,null,null,null,null,0,0,0,0,0,0,0,0,0,0,0,0,0,0,0,0,0,0,0,0,0,0,0,0,0,0,0,0,0,0,0,0,0,0,0,0,0,0,0,0,0,0,0,0,0,0,0,0,0,0,0,0,0,0,0,0,0,0,0,0,0,0,0,0,0,0,0,0,0,0,0,0,0,0,0,0,0,0,0,0,0,0,0,0,0,0,0,0,0,0,0,0,0,0,0,0,0,0,0,0,0,0,0,0,0,0,0,0,0,0,0,0,0,0,0,0,0,0,0,0,0,0,0,0,0,0,0,0,0,0,0,0,0,0,0,0,0,0,0,0,0,0,0,0,0,0,0,0,0]
[null,"'34 Working Capital Draws",null,null,null,null,null,"","",0,0,0,0,0,0,0,0,0,0,0,0,0,0,0,0,0,0,0,0,0,0,0,0,0,0,0,0,0,0,0,0,0,0,0,0,0,0,0,0,0,0,0,0,0,0,0,0,0,0,0,0,0,0,0,0,0,0,0,0,0,0,0,0,0,0,0,0,0,0,0,0,0,0,0,0,0,0,0,0,0,0,0,0,0,0,0,0,0,0,0,0,0,0,0,0,0,0,0,0,0,0,0,0,0,0,0,0,0,0,0,0,0,0,0,0,0,0,0,0,0,0,0,0,0,0,0,0,0,0,0,0,0,0,0,0,0,0,0,0,0,0,0,0,0,0,0]
[null,"'35 Standby Draws",null,null,null,null,null,"","",0,0,0,0,0,0,0,0,0,0,0,0,0,0,0,0,0,0,0,0,0,0,0,0,0,0,0,0,0,0,0,0,0,0,0,0,0,0,0,0,0,0,0,0,0,0,0,0,0,0,0,0,0,0,0,0,0,0,0,0,0,0,0,0,0,0,0,0,0,0,0,0,0,0,0,0,0,0,0,0,0,0,0,0,0,0,0,0,0,0,0,0,0,0,0,0,0,0,0,0,0,0,0,0,0,0,0,0,0,0,0,0,0,0,0,0,0,0,0,0,0,0,0,0,0,0,0,0,0,0,0,0,0,0,0,0,0,0,0,0,0,0,0,0,0,0,0]
[null,"'36 Pre-COD EBITDA",null,null,null,null,null,"","",0,0,0,0,0,0,0,0,0,0,0,0,0,0,0,0,0,0,0,0,0,0,0,0,0,0,0,0,0,0,0,0,0,0,0,0,0,0,0,0,0,0,0,0,0,0,0,0,0,0,0,0,0,0,0,0,0,0,0,0,0,0,0,0,0,0,0,0,0,0,0,0,0,0,0,0,0,0,0,0,0,0,0,0,0,0,0,0,0,0,0,0,0,0,0,0,0,0,0,0,0,0,0,0,0,0,0,0,0,0,0,0,0,0,0,0,0,0,0,0,0,0,0,0,0,0,0,0,0,0,0,0,0,0,0,0,0,0,0,0,0,0,0,0,0,0,0]
[null,"'37 Pre-COD Taxes Paid",null,null,null,null,null,"","",0,0,0,0,0,0,0,0,0,0,0,0,0,0,0,0,0,0,0,0,0,0,0,0,0,0,0,0,0,0,0,0,0,0,0,0,0,0,0,0,0,0,0,0,0,0,0,0,0,0,0,0,0,0,0,0,0,0,0,0,0,0,0,0,0,0,0,0,0,0,0,0,0,0,0,0,0,0,0,0,0,0,0,0,0,0,0,0,0,0,0,0,0,0,0,0,0,0,0,0,0,0,0,0,0,0,0,0,0,0,0,0,0,0,0,0,0,0,0,0,0,0,0,0,0,0,0,0,0,0,0,0,0,0,0,0,0,0,0,0,0,0,0,0,0,0,0]
[null,"'38 Surplus Cash",null,null,null,null,null,"","",0,0,0,0,0,0,0,0,0,0,0,0,0,0,0,0,0,0,0,0,0,0,0,0,0,0,0,0,0,0,0,0,0,0,0,0,0,0,0,0,0,0,0,0,0,0,0,0,0,0,0,0,0,0,0,0,0,0,0,0,0,0,0,0,0,0,0,0,0,0,0,0,0,0,0,0,0,0,0,0,0,0,0,0,0,0,0,0,0,0,0,0,0,0,0,0,0,0,0,0,0,0,0,0,0,0,0,0,0,0,0,0,0,0,0,0,0,0,0,0,0,0,0,0,0,0,0,0,0,0,0,0,0,0,0,0,0,0,0,0,0,0,0,0,0,0,0]
[null,"'39 Accumulated Surplus Cash",null,null,null,null,null,"","",0,0,0,0,0,0,0,0,0,0,0,0,0,0,0,0,0,0,0,0,0,0,0,0,0,0,0,0,0,0,0,0,0,0,0,0,0,0,0,0,0,0,0,0,0,0,0,0,0,0,0,0,0,0,0,0,0,0,0,0,0,0,0,0,0,0,0,0,0,0,0,0,0,0,0,0,0,0,0,0,0,0,0,0,0,0,0,0,0,0,0,0,0,0,0,0,0,0,0,0,0,0,0,0,0,0,0,0,0,0,0,0,0,0,0,0,0,0,0,0,0,0,0,0,0,0,0,0,0,0,0,0,0,0,0,0,0,0,0,0,0,0,0,0,0,0,0]
[null,"'40 Total Sources",null,null,null,null,null,225475.96248816961,"",50083.366320758083,3233.8699695591258,3728.1102523754153,4249.6223567596335,4788.6940229819065,5333.6081411924879,5870.993143677475,6386.3230844162017,6864.5460276858958,7290.8055582831339,7651.2086023104939,7933.584841456086,8128.1800132163735,8228.2279860741965,8230.3546994437966,8134.7801877911479,7945.3016608734551,7669.0592083590009,7316.104114649851,6898.8060103828811,6431.1474409437869,5927.9616967595584,5404.1713708504176,4874.0812241486283,4350.7703230651896,3845.6163364808535,3367.9709054469458,2924.9907636209273,2521.61628261756,2160.6785232881448,1843.1084485346305,1568.2179926830145,1334.0220528276477,1137.5726864773926,975.28115183418265,843.20909050690079,0,0,0,0,0,0,0,0,0,0,0,0,0,0,0,0,0,0,0,0,0,0,0,0,0,0,0,0,0,0,0,0,0,0,0,0,0,0,0,0,0,0,0,0,0,0,0,0,0,0,0,0,0,0,0,0,0,0,0,0,0,0,0,0,0,0,0,0,0,0,0,0,0,0,0,0,0,0,0,0,0,0,0,0,0,0,0,0,0,0,0,0,0,0,0,0,0,0,0,0,0,0,0,0,0,0,0,0,0,0,0]
[null,"'41 Total Debt Including Cap Int and Fees",null,null,null,null,null,148436.82909671529,0.65832662363955341,9181.2518172247637,2567.579471924993,2959.9889430239537,3374.051285103797,3802.0553041637859,4234.6980254387963,4661.3628925759622,5070.5168132852305,5450.2090778787306,5788.6442131117838,6074.7916049904015,6298.9884471066125,6453.4901967287688,6532.9247824528429,6534.6133183685888,6458.7305041340851,6308.291191278603,6088.964360878238,5808.7303806472628,5477.4103039976881,5106.1057821509658,4706.5939280893563,4290.7227579258388,3869.8497507384864,3454.3592270921108,3053.2846575132244,2674.0509174044278,2322.3402025861797,2002.0749950571828,1715.5030579600482,1463.3635432268784,1245.1101508157619,1059.1667785586526,903.19286338532459,774.33907002333672,669.4784798725899,0,0,0,0,0,0,0,0,0,0,0,0,0,0,0,0,0,0,0,0,0,0,0,0,0,0,0,0,0,0,0,0,0,0,0,0,0,0,0,0,0,0,0,0,0,0,0,0,0,0,0,0,0,0,0,0,0,0,0,0,0,0,0,0,0,0,0,0,0,0,0,0,0,0,0,0,0,0,0,0,0,0,0,0,0,0,0,0,0,0,0,0,0,0,0,0,0,0,0,0,0,0,0,0,0,0,0,0,0,0,0]
[".","'42 Equity Components Section",null,null,null,null,null,"","","","","","","","","","","","","","","","","","","","","","","","","","","","","","","","","","","","","","","Operation","Operation","Operation","Operation","Operation","Operation","Operation","Operation","Operation","Operation","Operation","Operation","Operation","Operation","Operation","Operation","Operation","Operation","Operation","Operation","Operation","Operation","Operation","Operation","Operation","Operation","Operation","Operation","Operation","Operation","Operation","Operation","Operation","Operation","Operation","Operation","Operation","Operation","Operation","Operation","Operation","Operation","Operation","Operation","Operation","Operation","Operation","Operation","Operation","Operation","Operation","Operation","Operation","Operation","Operation","Operation","Operation","Operation","Operation","Operation","Operation","Operation","Operation","Operation","Operation","Operation","Operation","Operation","Operation","Operation",0,0,0,0,0,0,0,0,0,0,0,0,0,0,0,0,0,0,0,0,0,0,0,0,0,0,0,0,0,0,0,0,0,0,0,0,0,0,0,0,0]
[null,"'43 Up Front Equity Draws/Up Front %",null,null,null,null,null,38519.566695727161,0.5,38519.566695727161,0,0,0,0,0,0,0,0,0,0,0,0,0,0,0,0,0,0,0,0,0,0,0,0,0,0,0,0,0,0,0,0,0,0,0,0,0,0,0,0,0,0,0,0,0,0,0,0,0,0,0,0,0,0,0,0,0,0,0,0,0,0,0,0,0,0,0,0,0,0,0,0,0,0,0,0,0,0,0,0,0,0,0,0,0,0,0,0,0,0,0,0,0,0,0,0,0,0,0,0,0,0,0,0,0,0,0,0,0,0,0,0,0,0,0,0,0,0,0,0,0,0,0,0,0,0,0,0,0,0,0,0,0,0,0,0,0,0,0,0,0,0,0,0,0,0]
[null,"'44 Pro-Rata Equity Draws/Equity Pro Rata %",null,null,null,null,null,38519.566695727161,0.20603503044526195,2382.5478078061533,666.29049763413275,768.12130935146183,875.57107165583693,986.63871881812099,1098.9101157536911,1209.6302511015126,1315.806271130971,1414.3369498071654,1502.1613451713504,1576.4169973200926,1634.5963943494733,1674.689816487605,1695.3032036213531,1695.7413810752071,1676.0496836570626,1637.0104695948523,1580.0948474807631,1507.373734002588,1421.3957063851929,1325.0416587928214,1221.3677686702022,1113.4486129245786,1004.2314734101423,896.41109597307832,792.33167896762927,693.91998804251784,602.65056103474762,519.5412875603771,445.17546532809644,379.74490530775205,323.10784186725243,274.85527426899523,234.37982309206797,200.94208181084593,173.73061063431092,0,0,0,0,0,0,0,0,0,0,0,0,0,0,0,0,0,0,0,0,0,0,0,0,0,0,0,0,0,0,0,0,0,0,0,0,0,0,0,0,0,0,0,0,0,0,0,0,0,0,0,0,0,0,0,0,0,0,0,0,0,0,0,0,0,0,0,0,0,0,0,0,0,0,0,0,0,0,0,0,0,0,0,0,0,0,0,0,0,0,0,0,0,0,0,0,0,0,0,0,0,0,0,0,0,0,0,0,0,0,0]
[null,"'45 Total Equity Draws/Debt Pro Rata %",null,null,null,null,null,77039.133395617158,"",40902.114503533317,666.29049763413275,768.12130935146183,875.57107165583693,986.63871881812099,1098.9101157536911,1209.6302511015126,1315.806271130971,1414.3369498071654,1502.1613451713504,1576.4169973200926,1634.5963943494733,1674.689816487605,1695.3032036213531,1695.7413810752071,1676.0496836570626,1637.0104695948523,1580.0948474807631,1507.373734002588,1421.3957063851929,1325.0416587928214,1221.3677686702022,1113.4486129245786,1004.2314734101423,896.41109597307832,792.33167896762927,693.91998804251784,602.65056103474762,519.5412875603771,445.17546532809644,379.74490530775205,323.10784186725243,274.85527426899523,234.37982309206797,200.94208181084593,173.73061063431092,0,0,0,0,0,0,0,0,0,0,0,0,0,0,0,0,0,0,0,0,0,0,0,0,0,0,0,0,0,0,0,0,0,0,0,0,0,0,0,0,0,0,0,0,0,0,0,0,0,0,0,0,0,0,0,0,0,0,0,0,0,0,0,0,0,0,0,0,0,0,0,0,0,0,0,0,0,0,0,0,0,0,0,0,0,0,0,0,0,0,0,0,0,0,0,0,0,0,0,0,0,0,0,0,0,0,0,0,0,0,0]
[null,"'46 Initial Share Capital",null,null,null,null,null,0,"",0,0,0,0,0,0,0,0,0,0,0,0,0,0,0,0,0,0,0,0,0,0,0,0,0,0,0,0,0,0,0,0,0,0,0,0,0,0,0,0,0,0,0,0,0,0,0,0,0,0,0,0,0,0,0,0,0,0,0,0,0,0,0,0,0,0,0,0,0,0,0,0,0,0,0,0,0,0,0,0,0,0,0,0,0,0,0,0,0,0,0,0,0,0,0,0,0,0,0,0,0,0,0,0,0,0,0,0,0,0,0,0,0,0,0,0,0,0,0,0,0,0,0,0,0,0,0,0,0,0,0,0,0,0,0,0,0,0,0,0,0,0,0,0,0,0,0]
[null,"'47 EBL Draws",null,null,null,null,null,0,"",0,0,0,0,0,0,0,0,0,0,0,0,0,0,0,0,0,0,0,0,0,0,0,0,0,0,0,0,0,0,0,0,0,0,0,0,0,0,0,0,0,0,0,0,0,0,0,0,0,0,0,0,0,0,0,0,0,0,0,0,0,0,0,0,0,0,0,0,0,0,0,0,0,0,0,0,0,0,0,0,0,0,0,0,0,0,0,0,0,0,0,0,0,0,0,0,0,0,0,0,0,0,0,0,0,0,0,0,0,0,0,0,0,0,0,0,0,0,0,0,0,0,0,0,0,0,0,0,0,0,0,0,0,0,0,0,0,0,0,0,0,0,0,0,0,0,0]
[null,"'48 EBL Repayment",null,null,null,null,null,"","",40902.114503533317,666.29049763413275,768.12130935146183,875.57107165583693,986.63871881812099,1098.9101157536911,1209.6302511015126,1315.806271130971,1414.3369498071654,1502.1613451713504,1576.4169973200926,1634.5963943494733,1674.689816487605,1695.3032036213531,1695.7413810752071,1676.0496836570626,1637.0104695948523,1580.0948474807631,1507.373734002588,1421.3957063851929,1325.0416587928214,1221.3677686702022,1113.4486129245786,1004.2314734101423,896.41109597307832,792.33167896762927,693.91998804251784,602.65056103474762,519.5412875603771,445.17546532809644,379.74490530775205,323.10784186725243,274.85527426899523,234.37982309206797,200.94208181084593,173.73061063431092,0,0,0,0,0,0,0,0,0,0,0,0,0,0,0,0,0,0,0,0,0,0,0,0,0,0,0,0,0,0,0,0,0,0,0,0,0,0,0,0,0,0,0,0,0,0,0,0,0,0,0,0,0,0,0,0,0,0,0,0,0,0,0,0,0,0,0,0,0,0,0,0,0,0,0,0,0,0,0,0,0,0,0,0,0,0,0,0,0,0,0,0,0,0,0,0,0,0,0,0,0,0,0,0,0,0,0,0,0,0,0]
[null,"'49 Shareholder Loan Draws",null,null,null,null,null,0,0,0,0,0,0,0,0,0,0,0,0,0,0,0,0,0,0,0,0,0,0,0,0,0,0,0,0,0,0,0,0,0,0,0,0,0,0,0,0,0,0,0,0,0,0,0,0,0,0,0,0,0,0,0,0,0,0,0,0,0,0,0,0,0,0,0,0,0,0,0,0,0,0,0,0,0,0,0,0,0,0,0,0,0,0,0,0,0,0,0,0,0,0,0,0,0,0,0,0,0,0,0,0,0,0,0,0,0,0,0,0,0,0,0,0,0,0,0,0,0,0,0,0,0,0,0,0,0,0,0,0,0,0,0,0,0,0,0,0,0,0,0,0,0,0,0,0,0]
[null,"'50 Shareholder Loan IDC",null,null,null,null,null,0,0,0,0,0,0,0,0,0,0,0,0,0,0,0,0,0,0,0,0,0,0,0,0,0,0,0,0,0,0,0,0,0,0,0,0,0,0,0,0,0,0,0,0,0,0,0,0,0,0,0,0,0,0,0,0,0,0,0,0,0,0,0,0,0,0,0,0,0,0,0,0,0,0,0,0,0,0,0,0,0,0,0,0,0,0,0,0,0,0,0,0,0,0,0,0,0,0,0,0,0,0,0,0,0,0,0,0,0,0,0,0,0,0,0,0,0,0,0,0,0,0,0,0,0,0,0,0,0,0,0,0,0,0,0,0,0,0,0,0,0,0,0,0,0,0,0,0,0]
[null,"'51 Common Equity Draws",null,null,null,null,null,"","",40902.114503533317,666.29049763413275,768.12130935146183,875.57107165583693,986.63871881812099,1098.9101157536911,1209.6302511015126,1315.806271130971,1414.3369498071654,1502.1613451713504,1576.4169973200926,1634.5963943494733,1674.689816487605,1695.3032036213531,1695.7413810752071,1676.0496836570626,1637.0104695948523,1580.0948474807631,1507.373734002588,1421.3957063851929,1325.0416587928214,1221.3677686702022,1113.4486129245786,1004.2314734101423,896.41109597307832,792.33167896762927,693.91998804251784,602.65056103474762,519.5412875603771,445.17546532809644,379.74490530775205,323.10784186725243,274.85527426899523,234.37982309206797,200.94208181084593,173.73061063431092,0,0,0,0,0,0,0,0,0,0,0,0,0,0,0,0,0,0,0,0,0,0,0,0,0,0,0,0,0,0,0,0,0,0,0,0,0,0,0,0,0,0,0,0,0,0,0,0,0,0,0,0,0,0,0,0,0,0,0,0,0,0,0,0,0,0,0,0,0,0,0,0,0,0,0,0,0,0,0,0,0,0,0,0,0,0,0,0,0,0,0,0,0,0,0,0,0,0,0,0,0,0,0,0,0,0,0,0,0,0,0]
[".","'52 Income Tax Section",null,null,null,null,null,"","","","","","","","","","","","","","","","","","","","","","","","","","","","","","","","","","","","","","","Operation","Operation","Operation","Operation","Operation","Operation","Operation","Operation","Operation","Operation","Operation","Operation","Operation","Operation","Operation","Operation","Operation","Operation","Operation","Operation","Operation","Operation","Operation","Operation","Operation","Operation","Operation","Operation","Operation","Operation","Operation","Operation","Operation","Operation","Operation","Operation","Operation","Operation","Operation","Operation","Operation","Operation","Operation","Operation","Operation","Operation","Operation","Operation","Operation","Operation","Operation","Operation","Operation","Operation","Operation","Operation","Operation","Operation","Operation","Operation","Operation","Operation","Operation","Operation","Operation","Operation","Operation","Operation","Operation","Operation",0,0,0,0,0,0,0,0,0,0,0,0,0,0,0,0,0,0,0,0,0,0,0,0,0,0,0,0,0,0,0,0,0,0,0,0,0,0,0,0,0]
[null,"'53 Tax Parameters",null,null,null,null,null," Tax Period ",1," Max % EBITDA ",0," Base Dep Rate ",true," Zero IDC Dep ",false," Debt Bal Dep ",false,"","","","",0,0,0,0,0,0,0,0,0,0,0,0,0,0,0,0,0,0,0,0,0,0,0,0,0,0,0,0,0,0,0,0,0,0,0,0,0,0,0,0,0,0,0,0,0,0,0,0,0,0,0,0,0,0,0,0,0,0,0,0,0,0,0,0,0,0,0,0,0,0,0,0,0,0,0,0,0,0,0,0,0,0,0,0,0,0,0,0,0,0,0,0,0,0,0,0,0,0,0,0,0,0,0,0,0,0,0,0,0,0,0,0,0,0,0,0,0,0,0,0,0,0,0,0,0,0,0,0,0,0,0,0,0,0,0]
[null,"'54 Tax Period (True is tax period)",null,null,null,null,null,1,"",false,false,false,false,false,false,false,false,false,false,false,false,false,false,false,false,false,false,false,false,false,false,false,false,false,false,false,false,false,false,false,false,false,false,false,false,true,true,true,true,true,true,true,true,true,true,true,true,true,true,true,true,true,true,true,true,true,true,true,true,true,true,true,true,true,true,true,true,true,true,true,true,true,true,true,true,true,true,true,true,true,true,true,true,true,true,true,true,true,true,true,true,true,true,true,true,true,true,true,true,true,true,true,true,true,true,0,0,0,0,0,0,0,0,0,0,0,0,0,0,0,0,0,0,0,0,0,0,0,0,0,0,0,0,0,0,0,0,0,0,0,0,0,0,0,0,0]
[null,"'55 EBITDA/Start/End",null,null,null,null,null,46,115,0,0,0,0,0,0,0,0,0,0,0,0,0,0,0,0,0,0,0,0,0,0,0,0,0,0,0,0,0,0,0,0,0,0,0,0,0,3597.6759228992451,3716.7745664299191,3669.6294413572296,3791.1100577585166,3743.0220301843747,3866.9322589136864,3847.0583620323887,3944.2709040919617,3894.2401202038254,4023.1563221737993,3972.1249226079008,4103.6194486172772,4051.5674210600596,4185.691837589623,4164.1796924607825,4269.4056743414158,4215.2507448708875,4354.7937878282446,4299.5557597683037,4441.8896635848096,4385.5468749636721,4530.7274568565063,4507.4420191384625,4621.3420059936379,4562.7229687122053,4713.7688461135112,4653.9774280864485,4808.0442230357803,4747.0569766481794,4904.2051074964984,4879.0002008508081,5002.2892096464275,4938.8380785047675,5102.3349938393567,5037.6148400748625,5204.3816937161446,5138.3671368763607,5308.4693275904683,5281.1867260473773,5414.6387141422783,5345.9571692061672,5522.9314884251235,5452.8763125902897,5633.3901181936271,5561.9338388420974,5746.0579205574995,5716.5263552387933,5860.9790789686504,5786.6359659313166,5978.1986605480233,5902.368685249945,6097.7626337589845,6020.4160589549447,6219.7178864341658,6187.7519703980561,6344.1122441628486,6263.6408677367253,6470.9944890461038,6388.9136850914583,6600.4143788270285,0,0,0,0,0,0,0,0,0,0,0,0,0,0,0,0,0,0,0,0,0,0,0,0,0,0,0,0,0,0,0,0,0,0,0,0,0,0,0,0,0,0,0,0,0,0,0,0,0,0]
[null,"'56 Depreciation without IDC",null,null,null,null,null,"","",0,0,0,0,0,0,0,0,0,0,0,0,0,0,0,0,0,0,0,0,0,0,0,0,0,0,0,0,0,0,0,0,0,0,0,0,2400.0000000000009,2400.0000000000009,2400.0000000000009,2400.0000000000009,2400.0000000000009,2400.0000000000009,2400.0000000000009,2400.0000000000009,2400.0000000000009,2400.0000000000009,2400.0000000000009,2400.0000000000009,2400.0000000000009,2400.0000000000009,2400.0000000000009,2400.0000000000009,2400.0000000000009,2400.0000000000009,2400.0000000000009,2400.0000000000009,2400.0000000000009,2400.0000000000009,2400.0000000000009,2400.0000000000009,2400.0000000000009,2400.0000000000009,2400.0000000000009,2400.0000000000009,2400.0000000000009,2400.0000000000009,2400.0000000000009,2400.0000000000009,2400.0000000000009,2400.0000000000009,2400.0000000000009,2400.0000000000009,2400.0000000000009,2400.0000000000009,2400.0000000000009,2400.0000000000009,2400.0000000000009,2400.0000000000009,2400.0000000000009,2400.0000000000009,2400.0000000000009,2400.0000000000009,2400.0000000000009,2400.0000000000009,2400.0000000000009,2400.0000000000009,2400.0000000000009,2400.0000000000009,2400.0000000000009,2400.0000000000009,2400.0000000000009,2400.0000000000009,2400.0000000000009,2400.0000000000009,2400.0000000000009,2400.0000000000009,2400.0000000000009,2400.0000000000009,2400.0000000000009,2400.0000000000009,2400.0000000000009,2400.0000000000009,2400.0000000000009,2400.0000000000009,2400.0000000000009,2400.0000000000009,0,0,0,0,0,0,0,0,0,0,0,0,0,0,0,0,0,0,0,0,0,0,0,0,0,0,0,0,0,0,0,0,0,0,0,0,0,0,0,0,0]
[null,"'57 IDC Depreciation",null,null,null,null,null,"","",0,0,0,0,0,0,0,0,0,0,0,0,0,0,0,0,0,0,0,0,0,0,0,0,0,0,0,0,0,0,0,0,0,0,0,0,762.68171489234419,762.68171489234419,762.68171489234419,762.68171489234419,762.68171489234419,762.68171489234419,762.68171489234419,762.68171489234419,762.68171489234419,762.68171489234419,762.68171489234419,762.68171489234419,762.68171489234419,762.68171489234419,762.68171489234419,762.68171489234419,762.68171489234419,762.68171489234419,762.68171489234419,762.68171489234419,762.68171489234419,762.68171489234419,762.68171489234419,762.68171489234419,762.68171489234419,762.68171489234419,762.68171489234419,762.68171489234419,762.68171489234419,762.68171489234419,762.68171489234419,762.68171489234419,762.68171489234419,762.68171489234419,762.68171489234419,762.68171489234419,762.68171489234419,762.68171489234419,762.68171489234419,762.68171489234419,762.68171489234419,762.68171489234419,762.68171489234419,762.68171489234419,762.68171489234419,762.68171489234419,762.68171489234419,762.68171489234419,762.68171489234419,762.68171489234419,762.68171489234419,762.68171489234419,762.68171489234419,762.68171489234419,762.68171489234419,762.68171489234419,762.68171489234419,762.68171489234419,762.68171489234419,762.68171489234419,762.68171489234419,762.68171489234419,762.68171489234419,762.68171489234419,762.68171489234419,762.68171489234419,762.68171489234419,762.68171489234419,762.68171489234419,762.68171489234419,0,0,0,0,0,0,0,0,0,0,0,0,0,0,0,0,0,0,0,0,0,0,0,0,0,0,0,0,0,0,0,0,0,0,0,0,0,0,0,0,0]
[null,"'58 Fee Amortisation",null,null,null,null,null,"","",0,0,0,0,0,0,0,0,0,0,0,0,0,0,0,0,0,0,0,0,0,0,0,0,0,0,0,0,0,0,0,0,0,0,0,0,58.403463569546808,58.403463569546808,58.403463569546808,58.403463569546808,58.403463569546808,58.403463569546808,58.403463569546808,58.403463569546808,58.403463569546808,58.403463569546808,58.403463569546808,58.403463569546808,58.403463569546808,58.403463569546808,58.403463569546808,58.403463569546808,58.403463569546808,58.403463569546808,58.403463569546808,58.403463569546808,58.403463569546808,58.403463569546808,58.403463569546808,58.403463569546808,58.403463569546808,58.403463569546808,58.403463569546808,58.403463569546808,58.403463569546808,58.403463569546808,58.403463569546808,58.403463569546808,58.403463569546808,58.403463569546808,58.403463569546808,58.403463569546808,58.403463569546808,58.403463569546808,58.403463569546808,58.403463569546808,58.403463569546808,58.403463569546808,58.403463569546808,58.403463569546808,58.403463569546808,58.403463569546808,58.403463569546808,58.403463569546808,58.403463569546808,58.403463569546808,58.403463569546808,58.403463569546808,58.403463569546808,58.403463569546808,58.403463569546808,58.403463569546808,58.403463569546808,58.403463569546808,58.403463569546808,58.403463569546808,58.403463569546808,58.403463569546808,58.403463569546808,58.403463569546808,58.403463569546808,58.403463569546808,58.403463569546808,58.403463569546808,58.403463569546808,58.403463569546808,0,0,0,0,0,0,0,0,0,0,0,0,0,0,0,0,0,0,0,0,0,0,0,0,0,0,0,0,0,0,0,0,0,0,0,0,0,0,0,0,0]
[null,"'59 EBIT",null,null,null,null,null,"","",0,0,0,0,0,0,0,0,0,0,0,0,0,0,0,0,0,0,0,0,0,0,0,0,0,0,0,0,0,0,0,0,0,0,0,0,-3221.0851784618917,376.59074443735312,495.68938796802718,448.54426289533762,570.0248792966247,521.93685172248274,645.84708045179445,625.97318357049676,723.18572563006978,673.1549417419335,802.07114371190733,751.03974414600884,882.53427015538523,830.48224259816766,964.60665912773106,943.09451399889053,1048.3204958795238,994.16556640899557,1133.7086093663527,1078.4705813064118,1220.8044851229176,1164.4616965017801,1309.6422783946143,1286.3568406765705,1400.256827531746,1341.6377902503134,1492.6836676516193,1432.8922496245566,1586.9590445738884,1525.9717981862875,1683.1199290346065,1657.9150223889162,1781.2040311845356,1717.7529000428756,1881.2498153774648,1816.5296616129706,1983.2965152542527,1917.2819584144688,2087.3841491285766,2060.1015475854856,2193.5535356803866,2124.8719907442755,2301.8463099632318,2231.791134128398,2412.3049397317354,2340.8486603802057,2524.9727420956078,2495.4411767769016,2639.8939005067587,2565.5507874694249,2757.1134820861316,2681.2835067880533,2876.6774552970928,2799.330880493053,2998.6327079722741,2966.6667919361644,3123.0270657009569,3042.5556892748336,3249.9093105842121,3167.8285066295666,3379.3292003651368,-3221.0851784618917,-3221.0851784618917,-3221.0851784618917,-3221.0851784618917,-3221.0851784618917,-3221.0851784618917,-3221.0851784618917,-3221.0851784618917,-3221.0851784618917,0,0,0,0,0,0,0,0,0,0,0,0,0,0,0,0,0,0,0,0,0,0,0,0,0,0,0,0,0,0,0,0,0,0,0,0,0,0,0,0,0]
[null,"'60 Deductible Senior Interest",null,null,null,null,null,"","",0,0,0,0,0,0,0,0,0,0,0,0,0,0,0,0,0,0,0,0,0,0,0,0,0,0,0,0,0,0,0,0,0,0,0,0,2560.535301918339,2604.7045372623206,2587.5757808600838,2568.097101809004,2549.0956689517971,2527.6709207448812,2506.7061141070499,2483.2422131091357,2637.9567022605142,2613.7898895266326,2590.1015602591042,2563.5900471636828,2537.5321519679646,2508.5595369799521,2480.0138911244703,2448.4588491148647,2580.0097711827602,2546.6442020953768,2513.6892228755605,2477.3274077177448,2441.3383977647463,2401.8275102648004,2362.6490528119975,2319.8295043321182,2420.7142936941041,2374.501111735814,2328.5484527393096,2278.4588244784513,2228.5729338026836,2174.4040367287885,2120.3783249904809,2061.9179625578545,2002.7592355537029,1939.7691060977554,1876.7886576772082,1809.0521846178031,1741.2523688532049,1668.526653031083,1595.6600028703322,1517.6910070512095,1438.6575969522899,1355.1619934913001,1271.3552948012878,1182.0721947351874,1092.3853082602302,997.02420725162892,901.16110498822911,799.41827186127443,696.15900211034659,587.69778049632214,478.52007860218737,363.02682838132478,246.70064938708373,123.82834771527384,5.7792407587839979E-6,5.9006048147184616E-6,6.0245175158275493E-6,6.1510323836599279E-6,6.280204063716786E-6,6.4120883490548386E-6,6.5467422043849897E-6,6.6842237906770745E-6,6.8245924902812932E-6,6.9679089325772E-6,7.1142350201613208E-6,7.2636339555847084E-6,7.4161702686519879E-6,7.5719098442936799E-6,7.7309199510238457E-6,7.8932692699953464E-6,0,0,0,0,0,0,0,0,0,0,0,0,0,0,0,0,0,0,0,0,0,0,0,0,0,0,0,0,0,0,0,0,0,0,0,0,0,0,0,0,0]
[null,"'61 Deductible Mezzanine Interest",null,null,null,null,null,"","",0,0,0,0,0,0,0,0,0,0,0,0,0,0,0,0,0,0,0,0,0,0,0,0,0,0,0,0,0,0,0,0,0,0,0,0,0,0,0,0,0,0,0,0,0,0,0,0,0,0,0,0,0,0,0,0,0,0,0,0,0,0,0,0,0,0,0,0,0,0,0,0,0,0,0,0,0,0,0,0,0,0,0,0,0,0,0,0,0,0,0,0,0,0,0,0,0,0,0,0,0,0,0,0,0,0,0,0,0,0,0,0,0,0,0,0,0,0,0,0,0,0,0,0,0,0,0,0,0,0,0,0,0,0,0,0,0,0,0,0,0,0,0,0,0,0,0]
[null,"'62 Deductible Shareholder Interest",null,null,null,null,null,"","",0,0,0,0,0,0,0,0,0,0,0,0,0,0,0,0,0,0,0,0,0,0,0,0,0,0,0,0,0,0,0,0,0,0,0,0,0,0,0,0,0,0,0,0,0,0,0,0,0,0,0,0,0,0,0,0,0,0,0,0,0,0,0,0,0,0,0,0,0,0,0,0,0,0,0,0,0,0,0,0,0,0,0,0,0,0,0,0,0,0,0,0,0,0,0,0,0,0,0,0,0,0,0,0,0,0,0,0,0,0,0,0,0,0,0,0,0,0,0,0,0,0,0,0,0,0,0,0,0,0,0,0,0,0,0,0,0,0,0,0,0,0,0,0,0,0,0]
[null,"'63 Total Deductible Interest/Max Pct",null,null,null,null,null,"","",0,0,0,0,0,0,0,0,0,0,0,0,0,0,0,0,0,0,0,0,0,0,0,0,0,0,0,0,0,0,0,0,0,0,0,0,2560.535301918339,2604.7045372623206,2587.5757808600838,2568.097101809004,2549.0956689517971,2527.6709207448812,2506.7061141070499,2483.2422131091357,2637.9567022605142,2613.7898895266326,2590.1015602591042,2563.5900471636828,2537.5321519679646,2508.5595369799521,2480.0138911244703,2448.4588491148647,2580.0097711827602,2546.6442020953768,2513.6892228755605,2477.3274077177448,2441.3383977647463,2401.8275102648004,2362.6490528119975,2319.8295043321182,2420.7142936941041,2374.501111735814,2328.5484527393096,2278.4588244784513,2228.5729338026836,2174.4040367287885,2120.3783249904809,2061.9179625578545,2002.7592355537029,1939.7691060977554,1876.7886576772082,1809.0521846178031,1741.2523688532049,1668.526653031083,1595.6600028703322,1517.6910070512095,1438.6575969522899,1355.1619934913001,1271.3552948012878,1182.0721947351874,1092.3853082602302,997.02420725162892,901.16110498822911,799.41827186127443,696.15900211034659,587.69778049632214,478.52007860218737,363.02682838132478,246.70064938708373,123.82834771527384,5.7792407587839979E-6,5.9006048147184616E-6,6.0245175158275493E-6,6.1510323836599279E-6,6.280204063716786E-6,6.4120883490548386E-6,6.5467422043849897E-6,6.6842237906770745E-6,6.8245924902812932E-6,6.9679089325772E-6,7.1142350201613208E-6,7.2636339555847084E-6,7.4161702686519879E-6,7.5719098442936799E-6,7.7309199510238457E-6,7.8932692699953464E-6,0,0,0,0,0,0,0,0,0,0,0,0,0,0,0,0,0,0,0,0,0,0,0,0,0,0,0,0,0,0,0,0,0,0,0,0,0,0,0,0,0]
[null,"'64 EBT Before NOL Adjustment",null,null,null,null,null,"","",0,0,0,0,0,0,0,0,0,0,0,0,0,0,0,0,0,0,0,0,0,0,0,0,0,0,0,0,0,0,0,0,0,0,0,0,-5781.6204803802302,-2228.1137928249673,-2091.8863928920564,-2119.5528389136662,-1979.0707896551723,-2005.7340690223984,-1860.8590336552554,-1857.269029538639,-1914.7709766304445,-1940.6349477846991,-1788.0304165471969,-1812.550303017674,-1654.9978818125794,-1678.0772943817844,-1515.4072319967393,-1505.3643351159742,-1531.6892753032364,-1552.4786356863813,-1379.9806135092078,-1398.856826411333,-1220.5339126418287,-1237.3658137630202,-1053.0067744173832,-1033.4726636555476,-1020.4574661623581,-1032.8633214855006,-835.86478508769028,-845.56657485389474,-641.61388922879519,-648.43223854250095,-437.25839595587445,-404.00294016893827,-221.55520436916731,-222.01620605487983,4.4611577002565355,7.4774769951675353,242.04414640104778,248.7553053833858,491.72414625824445,542.41054053427615,754.89593872809678,769.70999725297543,1030.491015161944,1049.7189393932106,1319.9196314715052,1343.8244531285768,1623.8116371073788,1696.0229049156271,1943.7348983964121,1977.8530069731028,2278.5934034839443,2318.2566784067285,2629.9768059100093,2675.5025327777789,2998.6327021930333,2966.6667860355597,3123.0270596764394,3042.5556831238014,3249.9093043040079,3167.8285002174784,3379.3291938183947,-3221.0851851461157,-3221.0851852864844,-3221.0851854298007,-3221.0851855761266,-3221.0851857255257,-3221.085185878062,-3221.0851860338016,-3221.0851861928118,-3221.0851863551611,0,0,0,0,0,0,0,0,0,0,0,0,0,0,0,0,0,0,0,0,0,0,0,0,0,0,0,0,0,0,0,0,0,0,0,0,0,0,0,0,0]
[null,"'65 Additions to NOL",null,null,null,null,null,"","",0,0,0,0,0,0,0,0,0,0,0,0,0,0,0,0,0,0,0,0,0,0,0,0,0,0,0,0,0,0,0,0,0,0,0,0,5781.6204803802302,2228.1137928249673,2091.8863928920564,2119.5528389136662,1979.0707896551723,2005.7340690223984,1860.8590336552554,1857.269029538639,1914.7709766304445,1940.6349477846991,1788.0304165471969,1812.550303017674,1654.9978818125794,1678.0772943817844,1515.4072319967393,1505.3643351159742,1531.6892753032364,1552.4786356863813,1379.9806135092078,1398.856826411333,1220.5339126418287,1237.3658137630202,1053.0067744173832,1033.4726636555476,1020.4574661623581,1032.8633214855006,835.86478508769028,845.56657485389474,641.61388922879519,648.43223854250095,437.25839595587445,404.00294016893827,221.55520436916731,222.01620605487983,0,0,0,0,0,0,0,0,0,0,0,0,0,0,0,0,0,0,0,0,0,0,0,0,0,0,0,3221.0851851461157,3221.0851852864844,3221.0851854298007,3221.0851855761266,3221.0851857255257,3221.085185878062,3221.0851860338016,3221.0851861928118,3221.0851863551611,0,0,0,0,0,0,0,0,0,0,0,0,0,0,0,0,0,0,0,0,0,0,0,0,0,0,0,0,0,0,0,0,0,0,0,0,0,0,0,0,0]
[null,{"$f":"B520","v":"'66 Subtractions from NOL"},null,null,null,null,null,"","",0,0,0,0,0,0,0,0,0,0,0,0,0,0,0,0,0,0,0,0,0,0,0,0,0,0,0,0,0,0,0,0,0,0,0,0,0,0,0,0,0,0,0,0,0,0,0,0,0,0,0,0,0,0,0,0,0,0,0,0,0,0,0,0,0,0,0,0,0,0,4.4611577002565355,7.4774769951675353,242.04414640104778,248.7553053833858,491.72414625824445,542.41054053427615,754.89593872809678,769.70999725297543,1030.491015161944,1049.7189393932106,1319.9196314715052,1343.8244531285768,1623.8116371073788,1696.0229049156271,1943.7348983964121,1977.8530069731028,2278.5934034839443,2318.2566784067285,2629.9768059100093,2675.5025327777789,2998.6327021930333,2966.6667860355597,3123.0270596764394,3042.5556831238014,3249.9093043040079,3167.8285002174784,3379.3291938183947,0,0,0,0,0,0,0,0,0,0,0,0,0,0,0,0,0,0,0,0,0,0,0,0,0,0,0,0,0,0,0,0,0,0,0,0,0,0,0,0,0,0,0,0,0,0,0,0,0,0]
[null,"'67 Adjusted EBT for NOL",null,null,null,null,null,"","",0,0,0,0,0,0,0,0,0,0,0,0,0,0,0,0,0,0,0,0,0,0,0,0,0,0,0,0,0,0,0,0,0,0,0,0,0,0,0,0,0,0,0,0,0,0,0,0,0,0,0,0,0,0,0,0,0,0,0,0,0,0,0,0,0,0,0,0,0,0,0,0,0,0,0,0,0,0,0,0,0,0,0,0,0,0,0,0,0,0,0,0,0,0,0,0,0,0,0,0,0,0,0,0,0,0,0,0,0,0,0,0,0,0,0,0,0,0,0,0,0,0,0,0,0,0,0,0,0,0,0,0,0,0,0,0,0,0,0,0,0,0,0,0,0,0,0]
[null,"'68 NOL Balance",null,null,null,null,null,"","",0,0,0,0,0,0,0,0,0,0,0,0,0,0,0,0,0,0,0,0,0,0,0,0,0,0,0,0,0,0,0,0,0,0,0,0,5781.6204803802302,8009.7342732051975,10101.620666097253,12221.17350501092,14200.244294666092,16205.978363688491,18066.837397343748,19924.106426882387,21838.87740351283,23779.51235129753,25567.542767844727,27380.0930708624,29035.090952674978,30713.168247056761,32228.575479053499,33733.939814169476,35265.629089472714,36818.107725159098,38198.088338668305,39596.94516507964,40817.479077721466,42054.844891484485,43107.851665901871,44141.324329557421,45161.781795719777,46194.645117205277,47030.509902292964,47876.07647714686,48517.690366375653,49166.122604918157,49603.381000874033,50007.383941042972,50228.939145412136,50450.955351467019,50446.494193766761,50439.016716771592,50196.972570370541,49948.217264987157,49456.493118728911,48914.082578194633,48159.186639466534,47389.476642213558,46358.985627051617,45309.266687658404,43989.347056186896,42645.522603058322,41021.710965950944,39325.688061035318,37381.953162638907,35404.100155665801,33125.506752181856,30807.250073775129,28177.273267865119,25501.770735087339,22503.138032894305,19536.471246858746,16413.444187182307,13370.888504058506,10120.979199754498,6953.15069953702,3573.8215057186253,6794.906690864741,10015.991876151225,13237.077061581025,16458.162247157154,19679.247432882679,22900.332618760742,26121.417804794542,29342.502990987356,32563.588177342517,0,0,0,0,0,0,0,0,0,0,0,0,0,0,0,0,0,0,0,0,0,0,0,0,0,0,0,0,0,0,0,0,0,0,0,0,0,0,0,0,0]
[null,"'69 Taxes Paid/Tax Rate",null,null,null,null,null,"",0.21,0,0,0,0,0,0,0,0,0,0,0,0,0,0,0,0,0,0,0,0,0,0,0,0,0,0,0,0,0,0,0,0,0,0,0,0,0,0,0,0,0,0,0,0,0,0,0,0,0,0,0,0,0,0,0,0,0,0,0,0,0,0,0,0,0,0,0,0,0,0,0,0,0,0,0,0,0,0,0,0,0,0,0,0,0,0,0,0,0,0,0,0,0,0,0,0,0,0,0,0,0,0,0,0,0,0,0,0,0,0,0,0,0,0,0,0,0,0,0,0,0,0,0,0,0,0,0,0,0,0,0,0,0,0,0,0,0,0,0,0,0,0,0,0,0,0,0]
[null,"'70 Non Deductible Interest",null,null,null,null,null,"","",0,0,0,0,0,0,0,0,0,0,0,0,0,0,0,0,0,0,0,0,0,0,0,0,0,0,0,0,0,0,0,0,0,0,0,0,0,0,0,0,0,0,0,0,0,0,0,0,0,0,0,0,0,0,0,0,0,0,0,0,0,0,0,0,0,0,0,0,0,0,0,0,0,0,0,0,0,0,0,0,0,0,0,0,0,0,0,0,0,0,0,0,0,0,0,0,0,0,0,0,0,0,0,0,0,0,0,0,0,0,0,0,0,0,0,0,0,0,0,0,0,0,0,0,0,0,0,0,0,0,0,0,0,0,0,0,0,0,0,0,0,0,0,0,0,0,0]
[null,"'71 Net Income",null,null,null,null,null,"","",0,0,0,0,0,0,0,0,0,0,0,0,0,0,0,0,0,0,0,0,0,0,0,0,0,0,0,0,0,0,0,0,0,0,0,0,-5781.6204803802311,-2228.1137928249673,-2091.8863928920564,-2119.5528389136662,-1979.0707896551723,-2005.7340690223984,-1860.8590336552554,-1857.269029538639,-1914.7709766304445,-1940.6349477846991,-1788.0304165471969,-1812.550303017674,-1654.9978818125794,-1678.0772943817844,-1515.4072319967393,-1505.3643351159742,-1531.6892753032364,-1552.4786356863813,-1379.9806135092078,-1398.856826411333,-1220.5339126418287,-1237.3658137630202,-1053.0067744173832,-1033.4726636555476,-1020.4574661623581,-1032.8633214855006,-835.86478508769028,-845.56657485389474,-641.61388922879519,-648.43223854250095,-437.25839595587445,-404.00294016893827,-221.55520436916728,-222.0162060548798,4.4611577002565568,7.4774769951675566,242.04414640104781,248.75530538338583,491.72414625824422,542.41054053427592,754.89593872809655,769.7099972529752,1030.4910151619438,1049.7189393932103,1319.9196314715052,1343.8244531285766,1623.8116371073786,1696.0229049156267,1943.7348983964118,1977.8530069731025,2278.5934034839443,2318.2566784067285,2629.9768059100093,2675.5025327777789,2998.6327021930333,2966.6667860355597,3123.0270596764394,3042.5556831238014,3249.9093043040079,3167.8285002174784,3379.3291938183947,-3221.0851851461157,-3221.0851852864844,-3221.0851854298007,-3221.0851855761266,-3221.0851857255257,-3221.085185878062,-3221.0851860338016,-3221.0851861928118,-3221.0851863551611,0,0,0,0,0,0,0,0,0,0,0,0,0,0,0,0,0,0,0,0,0,0,0,0,0,0,0,0,0,0,0,0,0,0,0,0,0,0,0,0,0]
[".","'72 CFADS Section",null,null,null,null,null,"","","","","","","","","","","","","","","","","","","","","","","","","","","","","","","","","","","","","","","Operation","Operation","Operation","Operation","Operation","Operation","Operation","Operation","Operation","Operation","Operation","Operation","Operation","Operation","Operation","Operation","Operation","Operation","Operation","Operation","Operation","Operation","Operation","Operation","Operation","Operation","Operation","Operation","Operation","Operation","Operation","Operation","Operation","Operation","Operation","Operation","Operation","Operation","Operation","Operation","Operation","Operation","Operation","Operation","Operation","Operation","Operation","Operation","Operation","Operation","Operation","Operation","Operation","Operation","Operation","Operation","Operation","Operation","Operation","Operation","Operation","Operation","Operation","Operation","Operation","Operation","Operation","Operation","Operation","Operation",0,0,0,0,0,0,0,0,0,0,0,0,0,0,0,0,0,0,0,0,0,0,0,0,0,0,0,0,0,0,0,0,0,0,0,0,0,0,0,0,0]
[null,"'73 EBITDA",null,null,null,null,null,"","",0,0,0,0,0,0,0,0,0,0,0,0,0,0,0,0,0,0,0,0,0,0,0,0,0,0,0,0,0,0,0,0,0,0,0,0,0,3597.6759228992451,3716.7745664299191,3669.6294413572296,3791.1100577585166,3743.0220301843747,3866.9322589136864,3847.0583620323887,3944.2709040919617,3894.2401202038254,4023.1563221737993,3972.1249226079008,4103.6194486172772,4051.5674210600596,4185.691837589623,4164.1796924607825,4269.4056743414158,4215.2507448708875,4354.7937878282446,4299.5557597683037,4441.8896635848096,4385.5468749636721,4530.7274568565063,4507.4420191384625,4621.3420059936379,4562.7229687122053,4713.7688461135112,4653.9774280864485,4808.0442230357803,4747.0569766481794,4904.2051074964984,4879.0002008508081,5002.2892096464275,4938.8380785047675,5102.3349938393567,5037.6148400748625,5204.3816937161446,5138.3671368763607,5308.4693275904683,5281.1867260473773,5414.6387141422783,5345.9571692061672,5522.9314884251235,5452.8763125902897,5633.3901181936271,5561.9338388420974,5746.0579205574995,5716.5263552387933,5860.9790789686504,5786.6359659313166,5978.1986605480233,5902.368685249945,6097.7626337589845,6020.4160589549447,6219.7178864341658,6187.7519703980561,6344.1122441628486,6263.6408677367253,6470.9944890461038,6388.9136850914583,6600.4143788270285,0,0,0,0,0,0,0,0,0,0,0,0,0,0,0,0,0,0,0,0,0,0,0,0,0,0,0,0,0,0,0,0,0,0,0,0,0,0,0,0,0,0,0,0,0,0,0,0,0,0]
[null,"'74 Working Capital Change",null,null,null,null,null,"","",0,0,0,0,0,0,0,0,0,0,0,0,0,0,0,0,0,0,0,0,0,0,0,0,0,0,0,0,0,0,0,0,0,0,0,0,0,0,0,0,0,0,0,0,0,0,0,0,0,0,0,0,0,0,0,0,0,0,0,0,0,0,0,0,0,0,0,0,0,0,0,0,0,0,0,0,0,0,0,0,0,0,0,0,0,0,0,0,0,0,0,0,0,0,0,0,0,0,0,0,0,0,0,0,0,0,0,0,0,0,0,0,0,0,0,0,0,0,0,0,0,0,0,0,0,0,0,0,0,0,0,0,0,0,0,0,0,0,0,0,0,0,0,0,0,0,0]
[null,"'75 Taxes Paid",null,null,null,null,null,"","",0,0,0,0,0,0,0,0,0,0,0,0,0,0,0,0,0,0,0,0,0,0,0,0,0,0,0,0,0,0,0,0,0,0,0,0,0,0,0,0,0,0,0,0,0,0,0,0,0,0,0,0,0,0,0,0,0,0,0,0,0,0,0,0,0,0,0,0,0,0,0,0,0,0,0,0,0,0,0,0,0,0,0,0,0,0,0,0,0,0,0,0,0,0,0,0,0,0,0,0,0,0,0,0,0,0,0,0,0,0,0,0,0,0,0,0,0,0,0,0,0,0,0,0,0,0,0,0,0,0,0,0,0,0,0,0,0,0,0,0,0,0,0,0,0,0,0]
[null,"'76 Interest Income/Rate",null,null,null,null,null,"",0,0,0,0,0,0,0,0,0,0,0,0,0,0,0,0,0,0,0,0,0,0,0,0,0,0,0,0,0,0,0,0,0,0,0,0,0,0,0,0,0,0,0,0,0,0,0,0,0,0,0,0,0,0,0,0,0,0,0,0,0,0,0,0,0,0,0,0,0,0,0,0,0,0,0,0,0,0,0,0,0,0,0,0,0,0,0,0,0,0,0,0,0,0,0,0,0,0,0,0,0,0,0,0,0,0,0,0,0,0,0,0,0,0,0,0,0,0,0,0,0,0,0,0,0,0,0,0,0,0,0,0,0,0,0,0,0,0,0,0,0,0,0,0,0,0,0,0]
[null,"'77 Post COD Capital Expenditure",null,null,null,null,null,"","",0,0,0,0,0,0,0,0,0,0,0,0,0,0,0,0,0,0,0,0,0,0,0,0,0,0,0,0,0,0,0,0,0,0,0,0,0,0,0,0,0,0,0,0,0,0,0,0,0,0,0,0,0,0,0,0,0,0,0,0,0,0,0,0,0,0,0,0,0,0,0,0,0,0,0,0,0,0,0,0,0,0,0,0,0,0,0,0,0,0,0,0,0,0,0,0,0,0,0,0,0,0,0,0,0,0,0,0,0,0,0,0,0,0,0,0,0,0,0,0,0,0,0,0,0,0,0,0,0,0,0,0,0,0,0,0,0,0,0,0,0,0,0,0,0,0,0]
[null,"'78 Changes to MRA Account",null,null,null,null,null,"","",0,0,0,0,0,0,0,0,0,0,0,0,0,0,0,0,0,0,0,0,0,0,0,0,0,0,0,0,0,0,0,0,0,0,0,0,0,0,0,0,0,0,0,0,0,0,0,0,0,0,0,0,0,0,0,0,0,0,0,0,0,0,0,0,0,0,0,0,0,0,0,0,0,0,0,0,0,0,0,0,0,0,0,0,0,0,0,0,0,0,0,0,0,0,0,0,0,0,0,0,0,0,0,0,0,0,0,0,0,0,0,0,0,0,0,0,0,0,0,0,0,0,0,0,0,0,0,0,0,0,0,0,0,0,0,0,0,0,0,0,0,0,0,0,0,0,0]
[null,"'79 Changes to DSRA Account",null,null,null,null,null,1,"",0,0,0,0,0,0,0,0,0,0,0,0,0,0,0,0,0,0,0,0,0,0,0,0,0,0,0,0,0,0,0,0,0,0,0,0,0,0,0,0,0,0,0,0,0,0,0,0,0,0,0,0,0,0,0,0,0,0,0,0,0,0,0,0,0,0,0,0,0,0,0,0,0,0,0,0,0,0,0,0,0,0,0,0,0,0,0,0,0,0,0,0,0,0,0,0,0,0,0,0,0,0,0,0,0,0,0,0,0,0,0,0,0,0,0,0,0,0,0,0,0,0,0,0,0,0,0,0,0,0,0,0,0,0,0,0,0,0,0,0,0,0,0,0,0,0,0]
[null,"'80 CFADS",null,null,null,null,null,"","",0,0,0,0,0,0,0,0,0,0,0,0,0,0,0,0,0,0,0,0,0,0,0,0,0,0,0,0,0,0,0,0,0,0,0,0,0,3597.6759228992451,3716.7745664299191,3669.6294413572296,3791.1100577585166,3743.0220301843747,3866.9322589136864,3847.0583620323887,3944.2709040919617,3894.2401202038254,4023.1563221737993,3972.1249226079008,4103.6194486172772,4051.5674210600596,4185.691837589623,4164.1796924607825,4269.4056743414158,4215.2507448708875,4354.7937878282446,4299.5557597683037,4441.8896635848096,4385.5468749636721,4530.7274568565063,4507.4420191384625,4621.3420059936379,4562.7229687122053,4713.7688461135112,4653.9774280864485,4808.0442230357803,4747.0569766481794,4904.2051074964984,4879.0002008508081,5002.2892096464275,4938.8380785047675,5102.3349938393567,5037.6148400748625,5204.3816937161446,5138.3671368763607,5308.4693275904683,5281.1867260473773,5414.6387141422783,5345.9571692061672,5522.9314884251235,5452.8763125902897,5633.3901181936271,5561.9338388420974,5746.0579205574995,5716.5263552387933,5860.9790789686504,5786.6359659313166,5978.1986605480233,5902.368685249945,6097.7626337589845,6020.4160589549447,6219.7178864341658,6187.7519703980561,6344.1122441628486,6263.6408677367253,6470.9944890461038,6388.9136850914583,6600.4143788270285,0,0,0,0,0,0,0,0,0,0,0,0,0,0,0,0,0,0,0,0,0,0,0,0,0,0,0,0,0,0,0,0,0,0,0,0,0,0,0,0,0,0,0,0,0,0,0,0,0,0]
[".","'81 Non Sculpted Debt Service",null,null,null,null,null,"","","","","","","","","","","","","","","","","","","","","","","","","","","","","","","","","","","","","","","Operation","Operation","Operation","Operation","Operation","Operation","Operation","Operation","Operation","Operation","Operation","Operation","Operation","Operation","Operation","Operation","Operation","Operation","Operation","Operation","Operation","Operation","Operation","Operation","Operation","Operation","Operation","Operation","Operation","Operation","Operation","Operation","Operation","Operation","Operation","Operation","Operation","Operation","Operation","Operation","Operation","Operation","Operation","Operation","Operation","Operation","Operation","Operation","Operation","Operation","Operation","Operation","Operation","Operation","Operation","Operation","Operation","Operation","Operation","Operation","Operation","Operation","Operation","Operation","Operation","Operation","Operation","Operation","Operation","Operation",0,0,0,0,0,0,0,0,0,0,0,0,0,0,0,0,0,0,0,0,0,0,0,0,0,0,0,0,0,0,0,0,0,0,0,0,0,0,0,0,0]
[null,"'82 Interest Expense on Non-Sculpted Debt",null,null,null,null,null,"","",0,0,0,0,0,0,0,0,0,0,0,0,0,0,0,0,0,0,0,0,0,0,0,0,0,0,0,0,0,0,0,0,0,0,0,0,0,0,0,0,0,0,0,0,0,0,0,0,0,0,0,0,0,0,0,0,0,0,0,0,0,0,0,0,0,0,0,0,0,0,0,0,0,0,0,0,0,0,0,0,0,0,0,0,0,0,0,0,0,0,0,0,0,0,0,0,0,0,0,0,0,0,0,0,0,0,0,0,0,0,0,0,0,0,0,0,0,0,0,0,0,0,0,0,0,0,0,0,0,0,0,0,0,0,0,0,0,0,0,0,0,0,0,0,0,0,0]
[null,"'83 Repayment of Non Sculpted Debt",null,null,null,null,null,148436.82909671529,"",0,0,0,0,0,0,0,0,0,0,0,0,0,0,0,0,0,0,0,0,0,0,0,0,0,0,0,0,0,0,0,0,0,0,0,0,0,0,0,0,0,0,0,0,0,0,0,0,0,0,0,0,0,0,0,0,0,0,0,0,0,0,0,0,0,0,0,0,0,0,0,0,0,0,0,0,0,0,0,0,0,0,0,0,0,0,0,0,0,0,0,0,0,0,0,0,0,0,0,0,0,0,0,0,0,0,0,0,0,0,0,0,0,0,0,0,0,0,0,0,0,0,0,0,0,0,0,0,0,0,0,0,0,0,0,0,0,0,0,0,0,0,0,0,0,0,0]
[null,"'84 Non Sculpted Debt Service (No Balloon)/PV",null,null,null,null,null,"","",0,0,0,0,0,0,0,0,0,0,0,0,0,0,0,0,0,0,0,0,0,0,0,0,0,0,0,0,0,0,0,0,0,0,0,0,0,0,0,0,0,0,0,0,0,0,0,0,0,0,0,0,0,0,0,0,0,0,0,0,0,0,0,0,0,0,0,0,0,0,0,0,0,0,0,0,0,0,0,0,0,0,0,0,0,0,0,0,0,0,0,0,0,0,0,0,0,0,0,0,0,0,0,0,0,0,0,0,0,0,0,0,0,0,0,0,0,0,0,0,0,0,0,0,0,0,0,0,0,0,0,0,0,0,0,0,0,0,0,0,0,0,0,0,0,0,0]
[null,"'85 Balloon Interest",null,null,null,null,null,"","",0,0,0,0,0,0,0,0,0,0,0,0,0,0,0,0,0,0,0,0,0,0,0,0,0,0,0,0,0,0,0,0,0,0,0,0,0,0,0,0,0,0,0,0,0,0,0,0,0,0,0,0,0,0,0,0,0,0,0,0,0,0,0,0,0,0,0,0,0,0,0,0,0,0,0,0,0,0,0,0,0,0,0,0,0,0,0,0,0,0,0,0,0,0,0,0,0,0,0,0,0,0,0,0,0,0,0,0,0,0,0,0,0,0,0,0,0,0,0,0,0,0,0,0,0,0,0,0,0,0,0,0,0,0,0,0,0,0,0,0,0,0,0,0,0,0,0]
[null,"'86 Balloon Repayment",null,null,null,null,null,0,"",0,0,0,0,0,0,0,0,0,0,0,0,0,0,0,0,0,0,0,0,0,0,0,0,0,0,0,0,0,0,0,0,0,0,0,0,0,0,0,0,0,0,0,0,0,0,0,0,0,0,0,0,0,0,0,0,0,0,0,0,0,0,0,0,0,0,0,0,0,0,0,0,0,0,0,0,0,0,0,0,0,0,0,0,0,0,0,0,0,0,0,0,0,0,0,0,0,0,0,0,0,0,0,0,0,0,0,0,0,0,0,0,0,0,0,0,0,0,0,0,0,0,0,0,0,0,0,0,0,0,0,0,0,0,0,0,0,0,0,0,0,0,0,0,0,0,0]
[null,"'87 Total Non-Sculpted Interest Incl Balloon",null,null,null,null,null,0,"",0,0,0,0,0,0,0,0,0,0,0,0,0,0,0,0,0,0,0,0,0,0,0,0,0,0,0,0,0,0,0,0,0,0,0,0,0,0,0,0,0,0,0,0,0,0,0,0,0,0,0,0,0,0,0,0,0,0,0,0,0,0,0,0,0,0,0,0,0,0,0,0,0,0,0,0,0,0,0,0,0,0,0,0,0,0,0,0,0,0,0,0,0,0,0,0,0,0,0,0,0,0,0,0,0,0,0,0,0,0,0,0,0,0,0,0,0,0,0,0,0,0,0,0,0,0,0,0,0,0,0,0,0,0,0,0,0,0,0,0,0,0,0,0,0,0,0]
[null,"'88 Total Non-Sculpted Repayment",null,null,null,null,null,"","",0,0,0,0,0,0,0,0,0,0,0,0,0,0,0,0,0,0,0,0,0,0,0,0,0,0,0,0,0,0,0,0,0,0,0,0,0,0,0,0,0,0,0,0,0,0,0,0,0,0,0,0,0,0,0,0,0,0,0,0,0,0,0,0,0,0,0,0,0,0,0,0,0,0,0,0,0,0,0,0,0,0,0,0,0,0,0,0,0,0,0,0,0,0,0,0,0,0,0,0,0,0,0,0,0,0,0,0,0,0,0,0,0,0,0,0,0,0,0,0,0,0,0,0,0,0,0,0,0,0,0,0,0,0,0,0,0,0,0,0,0,0,0,0,0,0,0]
[null,"'89 Total Non-Sculpted Debt Service Incl Balloon",null,null,null,null,null,"","",0,0,0,0,0,0,0,0,0,0,0,0,0,0,0,0,0,0,0,0,0,0,0,0,0,0,0,0,0,0,0,0,0,0,0,0,0,0,0,0,0,0,0,0,0,0,0,0,0,0,0,0,0,0,0,0,0,0,0,0,0,0,0,0,0,0,0,0,0,0,0,0,0,0,0,0,0,0,0,0,0,0,0,0,0,0,0,0,0,0,0,0,0,0,0,0,0,0,0,0,0,0,0,0,0,0,0,0,0,0,0,0,0,0,0,0,0,0,0,0,0,0,0,0,0,0,0,0,0,0,0,0,0,0,0,0,0,0,0,0,0,0,0,0,0,0,0]
[null,"'90 Senior Non-Sculpted Debt Service Incl Balloon",null,null,null,null,null,"","",0,0,0,0,0,0,0,0,0,0,0,0,0,0,0,0,0,0,0,0,0,0,0,0,0,0,0,0,0,0,0,0,0,0,0,0,0,0,0,0,0,0,0,0,0,0,0,0,0,0,0,0,0,0,0,0,0,0,0,0,0,0,0,0,0,0,0,0,0,0,0,0,0,0,0,0,0,0,0,0,0,0,0,0,0,0,0,0,0,0,0,0,0,0,0,0,0,0,0,0,0,0,0,0,0,0,0,0,0,0,0,0,0,0,0,0,0,0,0,0,0,0,0,0,0,0,0,0,0,0,0,0,0,0,0,0,0,0,0,0,0,0,0,0,0,0,0]
[null,"'91 Mezzanine Non-Sculpted Debt Service Incl Balloon",null,null,null,null,null,"","",0,0,0,0,0,0,0,0,0,0,0,0,0,0,0,0,0,0,0,0,0,0,0,0,0,0,0,0,0,0,0,0,0,0,0,0,0,0,0,0,0,0,0,0,0,0,0,0,0,0,0,0,0,0,0,0,0,0,0,0,0,0,0,0,0,0,0,0,0,0,0,0,0,0,0,0,0,0,0,0,0,0,0,0,0,0,0,0,0,0,0,0,0,0,0,0,0,0,0,0,0,0,0,0,0,0,0,0,0,0,0,0,0,0,0,0,0,0,0,0,0,0,0,0,0,0,0,0,0,0,0,0,0,0,0,0,0,0,0,0,0,0,0,0,0,0,0]
[".","'92 Senior Debt Sculpting",null,null,null,null,null,"","","","","","","","","","","","","","","","","","","","","","","","","","","","","","","","","","","","","","","Operation","Operation","Operation","Operation","Operation","Operation","Operation","Operation","Operation","Operation","Operation","Operation","Operation","Operation","Operation","Operation","Operation","Operation","Operation","Operation","Operation","Operation","Operation","Operation","Operation","Operation","Operation","Operation","Operation","Operation","Operation","Operation","Operation","Operation","Operation","Operation","Operation","Operation","Operation","Operation","Operation","Operation","Operation","Operation","Operation","Operation","Operation","Operation","Operation","Operation","Operation","Operation","Operation","Operation","Operation","Operation","Operation","Operation","Operation","Operation","Operation","Operation","Operation","Operation","Operation","Operation","Operation","Operation","Operation","Operation",0,0,0,0,0,0,0,0,0,0,0,0,0,0,0,0,0,0,0,0,0,0,0,0,0,0,0,0,0,0,0,0,0,0,0,0,0,0,0,0,0]
[null,"'93 Senior Sculpting Parameters",null,null,null,null,null," Sculpt Used ",true," Sr DSCR Input ",1," Sculpted Debt ",148436.82909671529," Non Sculpt ",0," Max Tenure ",54," Capture Debt ",1," Sr Debt IRR ",1.9085411057726986E-2," PV CFADS ",148436.82908067355," PV DS ",148436.82908067355," DSCR Used ",1.25,0,0,0,0,0,0,0,0,0,0,0,0,0,0,0,0,0,0,0,0,0,0,0,0,0,0,0,0,0,0,0,0,0,0,0,0,0,0,0,0,0,0,0,0,0,0,0,0,0,0,0,0,0,0,0,0,0,0,0,0,0,0,0,0,0,0,0,0,0,0,0,0,0,0,0,0,0,0,0,0,0,0,0,0,0,0,0,0,0,0,0,0,0,0,0,0,0,0,0,0,0,0,0,0,0,0,0,0,0,0,0,0,0,0,0,0,0,0,0,0,0,0,0,0,0,0,0,0,0]
[null,"'94 CFADS for Sculpting",null,null,null,null,null,"","",0,0,0,0,0,0,0,0,0,0,0,0,0,0,0,0,0,0,0,0,0,0,0,0,0,0,0,0,0,0,0,0,0,0,0,0,0,3597.6759228992451,3716.7745664299191,3669.6294413572296,3791.1100577585166,3743.0220301843747,3866.9322589136864,3847.0583620323887,3944.2709040919617,3894.2401202038254,4023.1563221737993,3972.1249226079008,4103.6194486172772,4051.5674210600596,4185.691837589623,4164.1796924607825,4269.4056743414158,4215.2507448708875,4354.7937878282446,4299.5557597683037,4441.8896635848096,4385.5468749636721,4530.7274568565063,4507.4420191384625,4621.3420059936379,4562.7229687122053,4713.7688461135112,4653.9774280864485,4808.0442230357803,4747.0569766481794,4904.2051074964984,4879.0002008508081,5002.2892096464275,4938.8380785047675,5102.3349938393567,5037.6148400748625,5204.3816937161446,5138.3671368763607,5308.4693275904683,5281.1867260473773,5414.6387141422783,5345.9571692061672,5522.9314884251235,5452.8763125902897,5633.3901181936271,5561.9338388420974,5746.0579205574995,5716.5263552387933,5860.9790789686504,5786.6359659313166,5978.1986605480233,5902.368685249945,6097.7626337589845,6020.4160589549447,6219.7178864341658,6187.7519703980561,6344.1122441628486,6263.6408677367253,6470.9944890461038,6388.9136850914583,6600.4143788270285,0,0,0,0,0,0,0,0,0,0,0,0,0,0,0,0,0,0,0,0,0,0,0,0,0,0,0,0,0,0,0,0,0,0,0,0,0,0,0,0,0,0,0,0,0,0,0,0,0,0]
[null,"'95 Senior DSCR Applied/Num/Denom",null,null,null,null,null,148436.82908067355,148436.82908067355,1,1,1,1,1,1,1,1,1,1,1,1,1,1,1,1,1,1,1,1,1,1,1,1,1,1,1,1,1,1,1,1,1,1,1,1,1,1,1,1,1,1,1,1,1,1,1,1,1,1,1,1,1,1,1,1,1,1,1,1,1,1,1,1,1,1,1,1,1,1,1,1,1,1,1,1,1,1,1,1,1,1,1,1,1,1,1,1,1,1,1,1,1,1,1,1,1,1,1,1,1,1,1,1,1,1,0,0,0,0,0,0,0,0,0,0,0,0,0,0,0,0,0,0,0,0,0,0,0,0,0,0,0,0,0,0,0,0,0,0,0,0,0,0,0,0,0]
[null,"'96 Senior Sculpted Debt Service Before Other Debt",null,null,null,null,null,"","",0,0,0,0,0,0,0,0,0,0,0,0,0,0,0,0,0,0,0,0,0,0,0,0,0,0,0,0,0,0,0,0,0,0,0,0,0,3597.6759228992451,3716.7745664299191,3669.6294413572296,3791.1100577585166,3743.0220301843747,3866.9322589136864,3847.0583620323887,3944.2709040919617,3894.2401202038254,4023.1563221737993,3972.1249226079008,4103.6194486172772,4051.5674210600596,4185.691837589623,4164.1796924607825,4269.4056743414158,4215.2507448708875,4354.7937878282446,4299.5557597683037,4441.8896635848096,4385.5468749636721,4530.7274568565063,4507.4420191384625,4621.3420059936379,4562.7229687122053,4713.7688461135112,4653.9774280864485,4808.0442230357803,4747.0569766481794,4904.2051074964984,4879.0002008508081,5002.2892096464275,4938.8380785047675,5102.3349938393567,5037.6148400748625,5204.3816937161446,5138.3671368763607,5308.4693275904683,5281.1867260473773,5414.6387141422783,5345.9571692061672,5522.9314884251235,5452.8763125902897,5633.3901181936271,5561.9338388420974,5746.0579205574995,5716.5263552387933,5860.9790789686504,5786.6359659313166,5978.1986605480233,5902.368685249945,6097.7626337589845,6020.4160589549447,0,0,0,0,0,0,0,0,0,0,0,0,0,0,0,0,0,0,0,0,0,0,0,0,0,0,0,0,0,0,0,0,0,0,0,0,0,0,0,0,0,0,0,0,0,0,0,0,0,0,0,0,0,0,0,0,0]
[null,"'97 Less: Senior Non Sculpt Debt Service",null,null,null,null,null,"","",0,0,0,0,0,0,0,0,0,0,0,0,0,0,0,0,0,0,0,0,0,0,0,0,0,0,0,0,0,0,0,0,0,0,0,0,0,0,0,0,0,0,0,0,0,0,0,0,0,0,0,0,0,0,0,0,0,0,0,0,0,0,0,0,0,0,0,0,0,0,0,0,0,0,0,0,0,0,0,0,0,0,0,0,0,0,0,0,0,0,0,0,0,0,0,0,0,0,0,0,0,0,0,0,0,0,0,0,0,0,0,0,0,0,0,0,0,0,0,0,0,0,0,0,0,0,0,0,0,0,0,0,0,0,0,0,0,0,0,0,0,0,0,0,0,0,0]
[null,"'98 Senior Sculpted Debt Service",null,null,null,null,null,148436.82908067355,"",0,0,0,0,0,0,0,0,0,0,0,0,0,0,0,0,0,0,0,0,0,0,0,0,0,0,0,0,0,0,0,0,0,0,0,0,0,3597.6759228992451,3716.7745664299191,3669.6294413572296,3791.1100577585166,3743.0220301843747,3866.9322589136864,3847.0583620323887,3944.2709040919617,3894.2401202038254,4023.1563221737993,3972.1249226079008,4103.6194486172772,4051.5674210600596,4185.691837589623,4164.1796924607825,4269.4056743414158,4215.2507448708875,4354.7937878282446,4299.5557597683037,4441.8896635848096,4385.5468749636721,4530.7274568565063,4507.4420191384625,4621.3420059936379,4562.7229687122053,4713.7688461135112,4653.9774280864485,4808.0442230357803,4747.0569766481794,4904.2051074964984,4879.0002008508081,5002.2892096464275,4938.8380785047675,5102.3349938393567,5037.6148400748625,5204.3816937161446,5138.3671368763607,5308.4693275904683,5281.1867260473773,5414.6387141422783,5345.9571692061672,5522.9314884251235,5452.8763125902897,5633.3901181936271,5561.9338388420974,5746.0579205574995,5716.5263552387933,5860.9790789686504,5786.6359659313166,5978.1986605480233,5902.368685249945,6097.7626337589845,6020.4160589549447,0,0,0,0,0,0,0,0,0,0,0,0,0,0,0,0,0,0,0,0,0,0,0,0,0,0,0,0,0,0,0,0,0,0,0,0,0,0,0,0,0,0,0,0,0,0,0,0,0,0,0,0,0,0,0,0,0]
[null,"'99 Senior Interest Expense",null,null,null,null,null,"","",0,0,0,0,0,0,0,0,0,0,0,0,0,0,0,0,0,0,0,0,0,0,0,0,0,0,0,0,0,0,0,0,0,0,0,0,-2560.535301918339,-2604.7045372623206,-2587.5757808600838,-2568.097101809004,-2549.0956689517971,-2527.6709207448812,-2506.7061141070499,-2483.2422131091357,-2637.9567022605142,-2613.7898895266326,-2590.1015602591042,-2563.5900471636828,-2537.5321519679646,-2508.5595369799521,-2480.0138911244703,-2448.4588491148647,-2580.0097711827602,-2546.6442020953768,-2513.6892228755605,-2477.3274077177448,-2441.3383977647463,-2401.8275102648004,-2362.6490528119975,-2319.8295043321182,-2420.7142936941041,-2374.501111735814,-2328.5484527393096,-2278.4588244784513,-2228.5729338026836,-2174.4040367287885,-2120.3783249904809,-2061.9179625578545,-2002.7592355537029,-1939.7691060977554,-1876.7886576772082,-1809.0521846178031,-1741.2523688532049,-1668.526653031083,-1595.6600028703322,-1517.6910070512095,-1438.6575969522899,-1355.1619934913001,-1271.3552948012878,-1182.0721947351874,-1092.3853082602302,-997.02420725162892,-901.16110498822911,-799.41827186127443,-696.15900211034659,-587.69778049632214,-478.52007860218737,-363.02682838132478,-246.70064938708373,-123.82834771527384,-5.7792407587839979E-6,-5.9006048147184616E-6,-6.0245175158275493E-6,-6.1510323836599279E-6,-6.280204063716786E-6,-6.4120883490548386E-6,-6.5467422043849897E-6,-6.6842237906770745E-6,-6.8245924902812932E-6,-6.9679089325772E-6,-7.1142350201613208E-6,-7.2636339555847084E-6,-7.4161702686519879E-6,-7.5719098442936799E-6,-7.7309199510238457E-6,-7.8932692699953464E-6,0,0,0,0,0,0,0,0,0,0,0,0,0,0,0,0,0,0,0,0,0,0,0,0,0,0,0,0,0,0,0,0,0,0,0,0,0,0,0,0,0]
[null,"'100 Repayment Adjustment from DSRA",null,null,null,null,null,1,"",0,0,0,0,0,0,0,0,0,0,0,0,0,0,0,0,0,0,0,0,0,0,0,0,0,0,0,0,0,0,0,0,0,0,0,0,0,0,0,0,0,0,0,0,0,0,0,0,0,0,0,0,0,0,0,0,0,0,0,0,0,0,0,0,0,0,0,0,0,0,0,0,0,0,0,0,0,0,0,0,0,0,0,0,0,0,0,0,0,0,0,0,0,0,0,0,0,0,0,0,0,0,0,0,0,0,0,0,0,0,0,0,0,0,0,0,0,0,0,0,0,0,0,0,0,0,0,0,0,0,0,0,0,0,0,0,0,0,0,0,0,0,0,0,0,0,0]
[null,"'101 Senior Sculpted Repayment",null,null,null,null,null,0,"",0,0,0,0,0,0,0,0,0,0,0,0,0,0,0,0,0,0,0,0,0,0,0,0,0,0,0,0,0,0,0,0,0,0,0,0,-2560.535301918339,992.97138563692442,1129.1987855698353,1101.5323395482255,1242.0143888067196,1215.3511094394935,1360.2261448066365,1363.816148923253,1306.3142018314475,1280.4502306771928,1433.0547619146951,1408.534875444218,1566.0872966493125,1543.0078840801075,1705.6779464651527,1715.7208433459177,1689.3959031586555,1668.6065427755107,1841.1045649526841,1822.2283520505589,2000.5512658200632,1983.7193646988717,2168.0784040445087,2187.6125148063443,2200.6277122995339,2188.2218569763913,2385.2203933742016,2375.5186036079972,2579.4712892330967,2572.652939919391,2783.8267825060175,2817.0822382929537,2999.5299740927248,2999.0689724070121,3225.5463361621487,3228.5626554570595,3463.1293248629399,3469.840483845278,3712.8093247201359,3763.4957189961679,3975.9811171899883,3990.7951757148671,4251.5761936238359,4270.804117855102,4541.0048099333972,4564.9096315904681,4844.8968155692701,4917.1080833775186,5164.8200768583038,5198.938185434994,5499.6785819458364,5539.3418568686202,5851.0619843719005,5896.5877112396711,0,0,0,0,0,0,0,0,0,0,0,0,0,0,0,0,0,0,0,0,0,0,0,0,0,0,0,0,0,0,0,0,0,0,0,0,0,0,0,0,0,0,0,0,0,0,0,0,0,0,0,0,0,0,0,0,0]
[null,"'102 Sculpt Period",null,null,null,null,null,117,111,0,0,0,0,0,0,0,0,0,0,0,0,0,0,0,0,0,0,0,0,0,0,0,0,0,0,0,0,0,0,0,0,0,0,0,0,true,true,true,true,true,true,true,true,true,true,true,true,true,true,true,true,true,true,true,true,true,true,true,true,true,true,true,true,true,true,true,true,true,true,true,true,true,true,true,true,true,true,true,true,true,true,true,true,true,true,true,true,true,true,false,false,false,false,false,false,false,false,false,false,false,false,false,false,false,false,0,0,0,0,0,0,0,0,0,0,0,0,0,0,0,0,0,0,0,0,0,0,0,0,0,0,0,0,0,0,0,0,0,0,0,0,0,0,0,0,0]
[null,"'103 Sculpting Disc Fac/Debt IRR",null,null,null,null,null,1.9085411057726986E-2,"",1,1,1,1,1,1,1,1,1,1,1,1,1,1,1,1,1,1,1,1,1,1,1,1,1,1,1,1,1,1,1,1,1,1,1,1,1.019085411057727,1.0385350750306963,1.0583559438355246,1.0785551020690141,1.0991397695404099,1.120117303851984,1.1414952030288721,1.1632811081991017,1.1854828063247698,1.2081082329853456,1.2311654752140953,1.254662774388638,1.2786085291766733,1.3030112985379259,1.3278798047833849,1.35322293669293,1.379049752692459,1.4053694840916513,1.4321915383835262,1.4595255026069742,1.4873811467734639,1.5157684273591487,1.5446974908636224,1.574178677436594,1.6042225245737805,1.6348397708833355,1.6660413599241641,1.6978384441174912,1.7302423887330851,1.7632647759515594,1.7969174090042057,1.8312123163918368,1.8661617561841475,1.9017782204011315,1.9380744394781197,1.9750633868160334,2.0127582834184841,2.0511726026173709,2.090320074888671,2.13021469276014,2.170870715812677,2.2123026757771438,2.2545253817284601,2.2975539253788266,2.3414036864719758,2.3860903382803706,2.4316298532073222,2.4780385084960241,2.5253328920475475,2.5735299083498733,2.6226467845200849,2.6727010764618768,2.7237106751405813,2.7756938129779583,1,1,1,1,1,1,1,1,1,1,1,1,1,1,1,1,0,0,0,0,0,0,0,0,0,0,0,0,0,0,0,0,0,0,0,0,0,0,0,0,0,0,0,0,0,0,0,0,0,0,0,0,0,0,0,0,0]
[null,"'104 Debt Cash Flow for/Debt IRR",null,null,null,null,null,148436.82909671529,"",0,0,0,0,0,0,0,0,0,0,0,0,0,0,0,0,0,0,0,0,0,0,0,0,0,0,0,0,0,0,0,0,0,0,0,-148436.82908067355,0,3597.6759228992451,3716.7745664299191,3669.6294413572296,3791.1100577585166,3743.0220301843747,3866.9322589136864,3847.0583620323887,3944.2709040919617,3894.2401202038254,4023.1563221737993,3972.1249226079008,4103.6194486172772,4051.5674210600596,4185.691837589623,4164.1796924607825,4269.4056743414158,4215.2507448708875,4354.7937878282446,4299.5557597683037,4441.8896635848096,4385.5468749636721,4530.7274568565063,4507.4420191384625,4621.3420059936379,4562.7229687122053,4713.7688461135112,4653.9774280864485,4808.0442230357803,4747.0569766481794,4904.2051074964984,4879.0002008508081,5002.2892096464275,4938.8380785047675,5102.3349938393567,5037.6148400748625,5204.3816937161446,5138.3671368763607,5308.4693275904683,5281.1867260473773,5414.6387141422783,5345.9571692061672,5522.9314884251235,5452.8763125902897,5633.3901181936271,5561.9338388420974,5746.0579205574995,5716.5263552387933,5860.9790789686504,5786.6359659313166,5978.1986605480233,5902.368685249945,6097.7626337589845,6020.4160589549447,0,0,0,0,0,0,0,0,0,0,0,0,0,0,0,0,0,0,0,0,0,0,0,0,0,0,0,0,0,0,0,0,0,0,0,0,0,0,0,0,0,0,0,0,0,0,0,0,0,0,0,0,0,0,0,0,0]
[".","'105 Mezzanine (Total) Sculpting Analysis",null,null,null,null,null,"","","","","","","","","","","","","","","","","","","","","","","","","","","","","","","","","","","","","","","Operation","Operation","Operation","Operation","Operation","Operation","Operation","Operation","Operation","Operation","Operation","Operation","Operation","Operation","Operation","Operation","Operation","Operation","Operation","Operation","Operation","Operation","Operation","Operation","Operation","Operation","Operation","Operation","Operation","Operation","Operation","Operation","Operation","Operation","Operation","Operation","Operation","Operation","Operation","Operation","Operation","Operation","Operation","Operation","Operation","Operation","Operation","Operation","Operation","Operation","Operation","Operation","Operation","Operation","Operation","Operation","Operation","Operation","Operation","Operation","Operation","Operation","Operation","Operation","Operation","Operation","Operation","Operation","Operation","Operation",0,0,0,0,0,0,0,0,0,0,0,0,0,0,0,0,0,0,0,0,0,0,0,0,0,0,0,0,0,0,0,0,0,0,0,0,0,0,0,0,0]
[null,"'106 Total/Mezzanine Sculpting Parameters",null,null,null,null,null," Implement ",true," Total DSCR Input ",1.2," Total Sculpted Debt ",0," Non Sculpt ",148436.82909671529," Max Tenure ",54," Capture Debt ",0," Total Debt IRR ",1.9085411057726986E-2," PV CFADS ",0," PV DS ",0," DSCR Used ",1.25,0,0,0,0,0,0,0,0,0,0,0,0,0,0,0,0,0,0,0,0,0,0,0,0,0,0,0,0,0,0,0,0,0,0,0,0,0,0,0,0,0,0,0,0,0,0,0,0,0,0,0,0,0,0,0,0,0,0,0,0,0,0,0,0,0,0,0,0,0,0,0,0,0,0,0,0,0,0,0,0,0,0,0,0,0,0,0,0,0,0,0,0,0,0,0,0,0,0,0,0,0,0,0,0,0,0,0,0,0,0,0,0,0,0,0,0,0,0,0,0,0,0,0,0,0,0,0,0,0]
[null,"'107 CFADS for Sculpting",null,null,null,null,null,"","",0,0,0,0,0,0,0,0,0,0,0,0,0,0,0,0,0,0,0,0,0,0,0,0,0,0,0,0,0,0,0,0,0,0,0,0,0,3597.6759228992451,3716.7745664299191,3669.6294413572296,3791.1100577585166,3743.0220301843747,3866.9322589136864,3847.0583620323887,3944.2709040919617,3894.2401202038254,4023.1563221737993,3972.1249226079008,4103.6194486172772,4051.5674210600596,4185.691837589623,4164.1796924607825,4269.4056743414158,4215.2507448708875,4354.7937878282446,4299.5557597683037,4441.8896635848096,4385.5468749636721,4530.7274568565063,4507.4420191384625,4621.3420059936379,4562.7229687122053,4713.7688461135112,4653.9774280864485,4808.0442230357803,4747.0569766481794,4904.2051074964984,4879.0002008508081,5002.2892096464275,4938.8380785047675,5102.3349938393567,5037.6148400748625,5204.3816937161446,5138.3671368763607,5308.4693275904683,5281.1867260473773,5414.6387141422783,5345.9571692061672,5522.9314884251235,5452.8763125902897,5633.3901181936271,5561.9338388420974,5746.0579205574995,5716.5263552387933,5860.9790789686504,5786.6359659313166,5978.1986605480233,5902.368685249945,6097.7626337589845,6020.4160589549447,6219.7178864341658,6187.7519703980561,6344.1122441628486,6263.6408677367253,6470.9944890461038,6388.9136850914583,6600.4143788270285,0,0,0,0,0,0,0,0,0,0,0,0,0,0,0,0,0,0,0,0,0,0,0,0,0,0,0,0,0,0,0,0,0,0,0,0,0,0,0,0,0,0,0,0,0,0,0,0,0,0]
[null,"'108 Total DSCR Applied for Mezzanine Sculpting",null,null,null,null,null,148436.82908067355,0,1.2,1.2,1.2,1.2,1.2,1.2,1.2,1.2,1.2,1.2,1.2,1.2,1.2,1.2,1.2,1.2,1.2,1.2,1.2,1.2,1.2,1.2,1.2,1.2,1.2,1.2,1.2,1.2,1.2,1.2,1.2,1.2,1.2,1.2,1.2,1.2,1.2,1.2,1.2,1.2,1.2,1.2,1.2,1.2,1.2,1.2,1.2,1.2,1.2,1.2,1.2,1.2,1.2,1.2,1.2,1.2,1.2,1.2,1.2,1.2,1.2,1.2,1.2,1.2,1.2,1.2,1.2,1.2,1.2,1.2,1.2,1.2,1.2,1.2,1.2,1.2,1.2,1.2,1.2,1.2,1.2,1.2,1.2,1.2,1.2,1.2,1.2,1.2,1.2,1.2,1.2,1.2,1.2,1.2,1.2,1.2,1.2,1.2,1.2,1.2,1.2,1.2,1.2,1.2,1.2,1.2,0,0,0,0,0,0,0,0,0,0,0,0,0,0,0,0,0,0,0,0,0,0,0,0,0,0,0,0,0,0,0,0,0,0,0,0,0,0,0,0,0]
[null,"'109 Total Sculpted Debt Service Including Mezzanine",null,null,null,null,null,"","",0,0,0,0,0,0,0,0,0,0,0,0,0,0,0,0,0,0,0,0,0,0,0,0,0,0,0,0,0,0,0,0,0,0,0,0,0,0,0,0,0,0,0,0,0,0,0,0,0,0,0,0,0,0,0,0,0,0,0,0,0,0,0,0,0,0,0,0,0,0,0,0,0,0,0,0,0,0,0,0,0,0,0,0,0,0,0,0,0,0,0,0,0,0,0,0,0,0,0,0,0,0,0,0,0,0,0,0,0,0,0,0,0,0,0,0,0,0,0,0,0,0,0,0,0,0,0,0,0,0,0,0,0,0,0,0,0,0,0,0,0,0,0,0,0,0,0]
[null,"'110 Less: Total Non Sculpt Debt Service",null,null,null,null,null,"","",0,0,0,0,0,0,0,0,0,0,0,0,0,0,0,0,0,0,0,0,0,0,0,0,0,0,0,0,0,0,0,0,0,0,0,0,0,-3597.6759228992451,-3716.7745664299191,-3669.6294413572296,-3791.1100577585166,-3743.0220301843747,-3866.9322589136864,-3847.0583620323887,-3944.2709040919617,-3894.2401202038254,-4023.1563221737993,-3972.1249226079008,-4103.6194486172772,-4051.5674210600596,-4185.691837589623,-4164.1796924607825,-4269.4056743414158,-4215.2507448708875,-4354.7937878282446,-4299.5557597683037,-4441.8896635848096,-4385.5468749636721,-4530.7274568565063,-4507.4420191384625,-4621.3420059936379,-4562.7229687122053,-4713.7688461135112,-4653.9774280864485,-4808.0442230357803,-4747.0569766481794,-4904.2051074964984,-4879.0002008508081,-5002.2892096464275,-4938.8380785047675,-5102.3349938393567,-5037.6148400748625,-5204.3816937161446,-5138.3671368763607,-5308.4693275904683,-5281.1867260473773,-5414.6387141422783,-5345.9571692061672,-5522.9314884251235,-5452.8763125902897,-5633.3901181936271,-5561.9338388420974,-5746.0579205574995,-5716.5263552387933,-5860.9790789686504,-5786.6359659313166,-5978.1986605480233,-5902.368685249945,-6097.7626337589845,-6020.4160589549447,0,0,0,0,0,0,0,0,0,0,0,0,0,0,0,0,0,0,0,0,0,0,0,0,0,0,0,0,0,0,0,0,0,0,0,0,0,0,0,0,0,0,0,0,0,0,0,0,0,0,0,0,0,0,0,0,0]
[null,"'111 Total Sculpted Debt Service",null,null,null,null,null,0,"",0,0,0,0,0,0,0,0,0,0,0,0,0,0,0,0,0,0,0,0,0,0,0,0,0,0,0,0,0,0,0,0,0,0,0,0,0,0,0,0,0,0,0,0,0,0,0,0,0,0,0,0,0,0,0,0,0,0,0,0,0,0,0,0,0,0,0,0,0,0,0,0,0,0,0,0,0,0,0,0,0,0,0,0,0,0,0,0,0,0,0,0,0,0,0,0,0,0,0,0,0,0,0,0,0,0,0,0,0,0,0,0,0,0,0,0,0,0,0,0,0,0,0,0,0,0,0,0,0,0,0,0,0,0,0,0,0,0,0,0,0,0,0,0,0,0,0]
[null,"'112 Less: Senior Sculpted Debt Service",null,null,null,null,null,148436.82909671529,"",0,0,0,0,0,0,0,0,0,0,0,0,0,0,0,0,0,0,0,0,0,0,0,0,0,0,0,0,0,0,0,0,0,0,0,0,0,-3597.6759228992451,-3716.7745664299191,-3669.6294413572296,-3791.1100577585166,-3743.0220301843747,-3866.9322589136864,-3847.0583620323887,-3944.2709040919617,-3894.2401202038254,-4023.1563221737993,-3972.1249226079008,-4103.6194486172772,-4051.5674210600596,-4185.691837589623,-4164.1796924607825,-4269.4056743414158,-4215.2507448708875,-4354.7937878282446,-4299.5557597683037,-4441.8896635848096,-4385.5468749636721,-4530.7274568565063,-4507.4420191384625,-4621.3420059936379,-4562.7229687122053,-4713.7688461135112,-4653.9774280864485,-4808.0442230357803,-4747.0569766481794,-4904.2051074964984,-4879.0002008508081,-5002.2892096464275,-4938.8380785047675,-5102.3349938393567,-5037.6148400748625,-5204.3816937161446,-5138.3671368763607,-5308.4693275904683,-5281.1867260473773,-5414.6387141422783,-5345.9571692061672,-5522.9314884251235,-5452.8763125902897,-5633.3901181936271,-5561.9338388420974,-5746.0579205574995,-5716.5263552387933,-5860.9790789686504,-5786.6359659313166,-5978.1986605480233,-5902.368685249945,-6097.7626337589845,-6020.4160589549447,0,0,0,0,0,0,0,0,0,0,0,0,0,0,0,0,0,0,0,0,0,0,0,0,0,0,0,0,0,0,0,0,0,0,0,0,0,0,0,0,0,0,0,0,0,0,0,0,0,0,0,0,0,0,0,0,0]
[null,"'113 Mezzanine Sculpted Debt Service",null,null,null,null,null,0,0,0,0,0,0,0,0,0,0,0,0,0,0,0,0,0,0,0,0,0,0,0,0,0,0,0,0,0,0,0,0,0,0,0,0,0,0,0,0,0,0,0,0,0,0,0,0,0,0,0,0,0,0,0,0,0,0,0,0,0,0,0,0,0,0,0,0,0,0,0,0,0,0,0,0,0,0,0,0,0,0,0,0,0,0,0,0,0,0,0,0,0,0,0,0,0,0,0,0,0,0,0,0,0,0,0,0,0,0,0,0,0,0,0,0,0,0,0,0,0,0,0,0,0,0,0,0,0,0,0,0,0,0,0,0,0,0,0,0,0,0,0,0,0,0,0,0,0]
[null,"'114 Less: Mezzanine Interest",null,null,null,null,null,"","",0,0,0,0,0,0,0,0,0,0,0,0,0,0,0,0,0,0,0,0,0,0,0,0,0,0,0,0,0,0,0,0,0,0,0,0,0,0,0,0,0,0,0,0,0,0,0,0,0,0,0,0,0,0,0,0,0,0,0,0,0,0,0,0,0,0,0,0,0,0,0,0,0,0,0,0,0,0,0,0,0,0,0,0,0,0,0,0,0,0,0,0,0,0,0,0,0,0,0,0,0,0,0,0,0,0,0,0,0,0,0,0,0,0,0,0,0,0,0,0,0,0,0,0,0,0,0,0,0,0,0,0,0,0,0,0,0,0,0,0,0,0,0,0,0,0,0]
[null,"'115 Mezzanine Repayment",null,null,null,null,null,"","",0,0,0,0,0,0,0,0,0,0,0,0,0,0,0,0,0,0,0,0,0,0,0,0,0,0,0,0,0,0,0,0,0,0,0,0,0,0,0,0,0,0,0,0,0,0,0,0,0,0,0,0,0,0,0,0,0,0,0,0,0,0,0,0,0,0,0,0,0,0,0,0,0,0,0,0,0,0,0,0,0,0,0,0,0,0,0,0,0,0,0,0,0,0,0,0,0,0,0,0,0,0,0,0,0,0,0,0,0,0,0,0,0,0,0,0,0,0,0,0,0,0,0,0,0,0,0,0,0,0,0,0,0,0,0,0,0,0,0,0,0,0,0,0,0,0,0]
[null,"'116 Total Sculpted Repayment",null,null,null,null,null,"","",0,0,0,0,0,0,0,0,0,0,0,0,0,0,0,0,0,0,0,0,0,0,0,0,0,0,0,0,0,0,0,0,0,0,0,0,0,0,0,0,0,0,0,0,0,0,0,0,0,0,0,0,0,0,0,0,0,0,0,0,0,0,0,0,0,0,0,0,0,0,0,0,0,0,0,0,0,0,0,0,0,0,0,0,0,0,0,0,0,0,0,0,0,0,0,0,0,0,0,0,0,0,0,0,0,0,0,0,0,0,0,0,0,0,0,0,0,0,0,0,0,0,0,0,0,0,0,0,0,0,0,0,0,0,0,0,0,0,0,0,0,0,0,0,0,0,0]
[null,"'117 Period for Sculpting Total",null,null,null,null,null,117,111,0,0,0,0,0,0,0,0,0,0,0,0,0,0,0,0,0,0,0,0,0,0,0,0,0,0,0,0,0,0,0,0,0,0,0,0,false,false,false,false,false,false,false,false,false,false,false,false,false,false,false,false,false,false,false,false,false,false,false,false,false,false,false,false,false,false,false,false,false,false,false,false,false,false,false,false,false,false,false,false,false,false,false,false,false,false,false,false,false,false,false,false,false,false,false,false,false,false,false,false,false,false,false,false,false,false,0,0,0,0,0,0,0,0,0,0,0,0,0,0,0,0,0,0,0,0,0,0,0,0,0,0,0,0,0,0,0,0,0,0,0,0,0,0,0,0,0]
[null,"'118 Compound Interest Total/Debt IRR",null,null,null,null,null,1.9085411057726986E-2,"",1,1,1,1,1,1,1,1,1,1,1,1,1,1,1,1,1,1,1,1,1,1,1,1,1,1,1,1,1,1,1,1,1,1,1,1,1.019085411057727,1.0385350750306963,1.0583559438355246,1.0785551020690141,1.0991397695404099,1.120117303851984,1.1414952030288721,1.1632811081991017,1.1854828063247698,1.2081082329853456,1.2311654752140953,1.254662774388638,1.2786085291766733,1.3030112985379259,1.3278798047833849,1.35322293669293,1.379049752692459,1.4053694840916513,1.4321915383835262,1.4595255026069742,1.4873811467734639,1.5157684273591487,1.5446974908636224,1.574178677436594,1.6042225245737805,1.6348397708833355,1.6660413599241641,1.6978384441174912,1.7302423887330851,1.7632647759515594,1.7969174090042057,1.8312123163918368,1.8661617561841475,1.9017782204011315,1.9380744394781197,1.9750633868160334,2.0127582834184841,2.0511726026173709,2.090320074888671,2.13021469276014,2.170870715812677,2.2123026757771438,2.2545253817284601,2.2975539253788266,2.3414036864719758,2.3860903382803706,2.4316298532073222,2.4780385084960241,2.5253328920475475,2.5735299083498733,2.6226467845200849,2.6727010764618768,2.7237106751405813,2.7756938129779583,1,1,1,1,1,1,1,1,1,1,1,1,1,1,1,1,0,0,0,0,0,0,0,0,0,0,0,0,0,0,0,0,0,0,0,0,0,0,0,0,0,0,0,0,0,0,0,0,0,0,0,0,0,0,0,0,0]
[null,"'119 Total Debt Cash Flow for Debt IRR",null,null,null,null,null,0,"",0,0,0,0,0,0,0,0,0,0,0,0,0,0,0,0,0,0,0,0,0,0,0,0,0,0,0,0,0,0,0,0,0,0,0,0,0,0,0,0,0,0,0,0,0,0,0,0,0,0,0,0,0,0,0,0,0,0,0,0,0,0,0,0,0,0,0,0,0,0,0,0,0,0,0,0,0,0,0,0,0,0,0,0,0,0,0,0,0,0,0,0,0,0,0,0,0,0,0,0,0,0,0,0,0,0,0,0,0,0,0,0,0,0,0,0,0,0,0,0,0,0,0,0,0,0,0,0,0,0,0,0,0,0,0,0,0,0,0,0,0,0,0,0,0,0,0]
[".","'120 Computation of Senior DSCR",null,null,null,null,null,"","","","","","","","","","","","","","","","","","","","","","","","","","","","","","","","","","","","","","","Operation","Operation","Operation","Operation","Operation","Operation","Operation","Operation","Operation","Operation","Operation","Operation","Operation","Operation","Operation","Operation","Operation","Operation","Operation","Operation","Operation","Operation","Operation","Operation","Operation","Operation","Operation","Operation","Operation","Operation","Operation","Operation","Operation","Operation","Operation","Operation","Operation","Operation","Operation","Operation","Operation","Operation","Operation","Operation","Operation","Operation","Operation","Operation","Operation","Operation","Operation","Operation","Operation","Operation","Operation","Operation","Operation","Operation","Operation","Operation","Operation","Operation","Operation","Operation","Operation","Operation","Operation","Operation","Operation","Operation",0,0,0,0,0,0,0,0,0,0,0,0,0,0,0,0,0,0,0,0,0,0,0,0,0,0,0,0,0,0,0,0,0,0,0,0,0,0,0,0,0]
[null,"'121 CFADS",null,null,null,null,null,"","",0,0,0,0,0,0,0,0,0,0,0,0,0,0,0,0,0,0,0,0,0,0,0,0,0,0,0,0,0,0,0,0,0,0,0,0,0,3597.6759228992451,3716.7745664299191,3669.6294413572296,3791.1100577585166,3743.0220301843747,3866.9322589136864,3847.0583620323887,3944.2709040919617,3894.2401202038254,4023.1563221737993,3972.1249226079008,4103.6194486172772,4051.5674210600596,4185.691837589623,4164.1796924607825,4269.4056743414158,4215.2507448708875,4354.7937878282446,4299.5557597683037,4441.8896635848096,4385.5468749636721,4530.7274568565063,4507.4420191384625,4621.3420059936379,4562.7229687122053,4713.7688461135112,4653.9774280864485,4808.0442230357803,4747.0569766481794,4904.2051074964984,4879.0002008508081,5002.2892096464275,4938.8380785047675,5102.3349938393567,5037.6148400748625,5204.3816937161446,5138.3671368763607,5308.4693275904683,5281.1867260473773,5414.6387141422783,5345.9571692061672,5522.9314884251235,5452.8763125902897,5633.3901181936271,5561.9338388420974,5746.0579205574995,5716.5263552387933,5860.9790789686504,5786.6359659313166,5978.1986605480233,5902.368685249945,6097.7626337589845,6020.4160589549447,6219.7178864341658,6187.7519703980561,6344.1122441628486,6263.6408677367253,6470.9944890461038,6388.9136850914583,6600.4143788270285,0,0,0,0,0,0,0,0,0,0,0,0,0,0,0,0,0,0,0,0,0,0,0,0,0,0,0,0,0,0,0,0,0,0,0,0,0,0,0,0,0,0,0,0,0,0,0,0,0,0]
[null,"'122 DSRA Adjustment to CFADS",null,null,null,null,null,"","",0,0,0,0,0,0,0,0,0,0,0,0,0,0,0,0,0,0,0,0,0,0,0,0,0,0,0,0,0,0,0,0,0,0,0,0,0,0,0,0,0,0,0,0,0,0,0,0,0,0,0,0,0,0,0,0,0,0,0,0,0,0,0,0,0,0,0,0,0,0,0,0,0,0,0,0,0,0,0,0,0,0,0,0,0,0,0,0,0,0,0,0,0,0,0,0,0,0,0,0,0,0,0,0,0,0,0,0,0,0,0,0,0,0,0,0,0,0,0,0,0,0,0,0,0,0,0,0,0,0,0,0,0,0,0,0,0,0,0,0,0,0,0,0,0,0,0]
[null,"'123 Senior Debt Repayment",null,null,null,null,null,0,"",0,0,0,0,0,0,0,0,0,0,0,0,0,0,0,0,0,0,0,0,0,0,0,0,0,0,0,0,0,0,0,0,0,0,0,0,-2560.535301918339,992.97138702281472,1129.1987869796326,1101.5323409823413,1242.0143902655741,1215.3511109235133,1360.2261463162554,1363.8161504589129,1306.3142035067967,1280.4502323835363,1433.0547636526053,1408.5348772142802,1566.0872984521211,1543.0078859162677,1705.6779483352825,1715.7208452506443,1689.3959052296987,1668.6065448874569,1841.1045671063412,1822.2283542467508,2000.5512680596298,1983.7193669826702,2168.0784063734118,2187.6125171812432,2200.6277148746158,2188.22185960555,2385.2203960585725,2375.5186063487399,2579.471292031395,2572.6529427764535,2783.8267854230776,2817.0822412712723,2999.5299771335881,2999.0689755117337,3225.5463393320688,3228.5626586935487,3463.1293281673952,3469.8404872191268,3712.8093281648362,3763.4957225132066,3975.9811207808848,3990.7951793811721,4251.5761973671333,4270.8041216770089,4541.0048138355633,4564.9096355745805,4844.8968196370488,4917.1080875307207,5164.8200810987228,5198.9381897644625,5499.6785863662226,5539.3418613818349,5851.0619889798936,5896.5877159444308,-9.756804702192311E-7,-9.9616976009383503E-7,-1.0170893250558056E-6,-1.0384482008819773E-6,-1.0602556131004988E-6,-1.0825209809756093E-6,-1.1052539215760972E-6,-1.1284642539291953E-6,-1.1521620032617085E-6,-1.1763574053302042E-6,-1.2010609108421385E-6,-1.2262831899698234E-6,-1.2520351369591897E-6,-1.2783278748353327E-6,-1.3051727602068748E-6,-1.332581388171219E-6,0,0,0,0,0,0,0,0,0,0,0,0,0,0,0,0,0,0,0,0,0,0,0,0,0,0,0,0,0,0,0,0,0,0,0,0,0,0,0,0,0]
[null,"'124 Senior Interest Expense",null,null,null,null,null,"","",0,0,0,0,0,0,0,0,0,0,0,0,0,0,0,0,0,0,0,0,0,0,0,0,0,0,0,0,0,0,0,0,0,0,0,0,2560.535301918339,2604.7045372623206,2587.5757808600838,2568.097101809004,2549.0956689517971,2527.6709207448812,2506.7061141070499,2483.2422131091357,2637.9567022605142,2613.7898895266326,2590.1015602591042,2563.5900471636828,2537.5321519679646,2508.5595369799521,2480.0138911244703,2448.4588491148647,2580.0097711827602,2546.6442020953768,2513.6892228755605,2477.3274077177448,2441.3383977647463,2401.8275102648004,2362.6490528119975,2319.8295043321182,2420.7142936941041,2374.501111735814,2328.5484527393096,2278.4588244784513,2228.5729338026836,2174.4040367287885,2120.3783249904809,2061.9179625578545,2002.7592355537029,1939.7691060977554,1876.7886576772082,1809.0521846178031,1741.2523688532049,1668.526653031083,1595.6600028703322,1517.6910070512095,1438.6575969522899,1355.1619934913001,1271.3552948012878,1182.0721947351874,1092.3853082602302,997.02420725162892,901.16110498822911,799.41827186127443,696.15900211034659,587.69778049632214,478.52007860218737,363.02682838132478,246.70064938708373,123.82834771527384,5.7792407587839979E-6,5.9006048147184616E-6,6.0245175158275493E-6,6.1510323836599279E-6,6.280204063716786E-6,6.4120883490548386E-6,6.5467422043849897E-6,6.6842237906770745E-6,6.8245924902812932E-6,6.9679089325772E-6,7.1142350201613208E-6,7.2636339555847084E-6,7.4161702686519879E-6,7.5719098442936799E-6,7.7309199510238457E-6,7.8932692699953464E-6,0,0,0,0,0,0,0,0,0,0,0,0,0,0,0,0,0,0,0,0,0,0,0,0,0,0,0,0,0,0,0,0,0,0,0,0,0,0,0,0,0]
[null,"'125 Senior Debt Service",null,null,null,null,null,"","",0,0,0,0,0,0,0,0,0,0,0,0,0,0,0,0,0,0,0,0,0,0,0,0,0,0,0,0,0,0,0,0,0,0,0,0,0,3597.6759242851354,3716.7745678397164,3669.6294427913454,3791.1100592173711,3743.0220316683944,3866.9322604233053,3847.0583635680487,3944.270905767311,3894.2401219101689,4023.1563239117095,3972.124924377963,4103.6194504200857,4051.5674228962198,4185.6918394597524,4164.179694365509,4269.4056764124589,4215.2507469828342,4354.7937899819017,4299.5557619644951,4441.8896658243757,4385.5468772474705,4530.7274591854093,4507.4420215133614,4621.3420085687194,4562.7229713413635,4713.7688487978821,4653.9774308271917,4808.044225834079,4747.0569795052415,4904.2051104135589,4879.0002038291268,5002.2892126872912,4938.8380816094887,5102.3349970092768,5037.6148433113522,5204.3816970205999,5138.3671402502096,5308.4693310351686,5281.1867295644161,5414.6387177331744,5345.9571728724723,5522.9314921684208,5452.8763164121965,5633.3901220957932,5561.933842826209,5746.0579246252782,5716.5263593919954,5860.9790832090694,5786.6359702607842,5978.1986649684095,5902.3686897631596,6097.7626383669776,6020.4160636597044,4.8035602885647668E-6,4.904435054624627E-6,5.0074281907717441E-6,5.1125841827779502E-6,5.2199484506162868E-6,5.3295673680792297E-6,5.4414882828088927E-6,5.5557595367478793E-6,5.6724304870195845E-6,5.7915515272469963E-6,5.9131741093191819E-6,6.0373507656148849E-6,6.164135131692798E-6,6.2935819694583476E-6,6.4257471908169705E-6,6.5606878818241276E-6,0,0,0,0,0,0,0,0,0,0,0,0,0,0,0,0,0,0,0,0,0,0,0,0,0,0,0,0,0,0,0,0,0,0,0,0,0,0,0,0,0]
[null,"'126 Senior DSCR Computed",null,null,null,null,null,"","",0,0,0,0,0,0,0,0,0,0,0,0,0,0,0,0,0,0,0,0,0,0,0,0,0,0,0,0,0,0,0,0,0,0,0,0,0,0.99999999961478181,0.99999999962069341,0.99999999960919328,0.9999999996151907,0.99999999960352359,0.99999999960960817,0.99999999960082231,0.99999999957524488,0.99999999956182895,0.99999999956802321,0.99999999955437902,0.99999999956067842,0.99999999954680252,0.99999999955320906,0.99999999954259267,0.9999999995149107,0.99999999949897478,0.99999999950545138,0.99999999948920504,0.99999999949580776,0.99999999947924434,0.99999999948597595,0.99999999947311602,0.99999999944278495,0.99999999942377427,0.99999999943052553,0.99999999941109663,0.99999999941799644,0.99999999939814033,0.99999999940519202,0.99999999938956374,0.9999999993921056,0.99999999937136608,0.99999999937873152,0.99999999935753536,0.9999999993650629,0.99999999934340056,0.99999999935109352,0.99999999933404382,0.99999999933681705,0.99999999931419115,0.99999999932222638,0.99999999929910255,0.99999999930731476,0.99999999928368233,0.99999999929207484,0.99999999927347449,0.99999999927649985,0.99999999925181615,0.99999999926058225,0.99999999923535532,0.99999999924431415,0.99999999921853244,0,0,0,0,0,0,0,0,0,0,0,0,0,0,0,0,0,0,0,0,0,0,0,0,0,0,0,0,0,0,0,0,0,0,0,0,0,0,0,0,0,0,0,0,0,0,0,0,0,0,0,0,0,0,0,0,0]
[null,"'127 Total Debt Repayment",null,null,null,null,null,"","",0,0,0,0,0,0,0,0,0,0,0,0,0,0,0,0,0,0,0,0,0,0,0,0,0,0,0,0,0,0,0,0,0,0,0,0,-2560.535301918339,992.97138702281472,1129.1987869796326,1101.5323409823413,1242.0143902655741,1215.3511109235133,1360.2261463162554,1363.8161504589129,1306.3142035067967,1280.4502323835363,1433.0547636526053,1408.5348772142802,1566.0872984521211,1543.0078859162677,1705.6779483352825,1715.7208452506443,1689.3959052296987,1668.6065448874569,1841.1045671063412,1822.2283542467508,2000.5512680596298,1983.7193669826702,2168.0784063734118,2187.6125171812432,2200.6277148746158,2188.22185960555,2385.2203960585725,2375.5186063487399,2579.471292031395,2572.6529427764535,2783.8267854230776,2817.0822412712723,2999.5299771335881,2999.0689755117337,3225.5463393320688,3228.5626586935487,3463.1293281673952,3469.8404872191268,3712.8093281648362,3763.4957225132066,3975.9811207808848,3990.7951793811721,4251.5761973671333,4270.8041216770089,4541.0048138355633,4564.9096355745805,4844.8968196370488,4917.1080875307207,5164.8200810987228,5198.9381897644625,5499.6785863662226,5539.3418613818349,5851.0619889798936,5896.5877159444308,-9.756804702192311E-7,-9.9616976009383503E-7,-1.0170893250558056E-6,-1.0384482008819773E-6,-1.0602556131004988E-6,-1.0825209809756093E-6,-1.1052539215760972E-6,-1.1284642539291953E-6,-1.1521620032617085E-6,-1.1763574053302042E-6,-1.2010609108421385E-6,-1.2262831899698234E-6,-1.2520351369591897E-6,-1.2783278748353327E-6,-1.3051727602068748E-6,-1.332581388171219E-6,0,0,0,0,0,0,0,0,0,0,0,0,0,0,0,0,0,0,0,0,0,0,0,0,0,0,0,0,0,0,0,0,0,0,0,0,0,0,0,0,0]
[null,"'128 Total Interest Expense",null,null,null,null,null,"","",0,0,0,0,0,0,0,0,0,0,0,0,0,0,0,0,0,0,0,0,0,0,0,0,0,0,0,0,0,0,0,0,0,0,0,0,2560.535301918339,2604.7045372623206,2587.5757808600838,2568.097101809004,2549.0956689517971,2527.6709207448812,2506.7061141070499,2483.2422131091357,2637.9567022605142,2613.7898895266326,2590.1015602591042,2563.5900471636828,2537.5321519679646,2508.5595369799521,2480.0138911244703,2448.4588491148647,2580.0097711827602,2546.6442020953768,2513.6892228755605,2477.3274077177448,2441.3383977647463,2401.8275102648004,2362.6490528119975,2319.8295043321182,2420.7142936941041,2374.501111735814,2328.5484527393096,2278.4588244784513,2228.5729338026836,2174.4040367287885,2120.3783249904809,2061.9179625578545,2002.7592355537029,1939.7691060977554,1876.7886576772082,1809.0521846178031,1741.2523688532049,1668.526653031083,1595.6600028703322,1517.6910070512095,1438.6575969522899,1355.1619934913001,1271.3552948012878,1182.0721947351874,1092.3853082602302,997.02420725162892,901.16110498822911,799.41827186127443,696.15900211034659,587.69778049632214,478.52007860218737,363.02682838132478,246.70064938708373,123.82834771527384,5.7792407587839979E-6,5.9006048147184616E-6,6.0245175158275493E-6,6.1510323836599279E-6,6.280204063716786E-6,6.4120883490548386E-6,6.5467422043849897E-6,6.6842237906770745E-6,6.8245924902812932E-6,6.9679089325772E-6,7.1142350201613208E-6,7.2636339555847084E-6,7.4161702686519879E-6,7.5719098442936799E-6,7.7309199510238457E-6,7.8932692699953464E-6,0,0,0,0,0,0,0,0,0,0,0,0,0,0,0,0,0,0,0,0,0,0,0,0,0,0,0,0,0,0,0,0,0,0,0,0,0,0,0,0,0]
[null,"'129 Total Debt Service",null,null,null,null,null,"","",0,0,0,0,0,0,0,0,0,0,0,0,0,0,0,0,0,0,0,0,0,0,0,0,0,0,0,0,0,0,0,0,0,0,0,0,0,3597.6759242851354,3716.7745678397164,3669.6294427913454,3791.1100592173711,3743.0220316683944,3866.9322604233053,3847.0583635680487,3944.270905767311,3894.2401219101689,4023.1563239117095,3972.124924377963,4103.6194504200857,4051.5674228962198,4185.6918394597524,4164.179694365509,4269.4056764124589,4215.2507469828342,4354.7937899819017,4299.5557619644951,4441.8896658243757,4385.5468772474705,4530.7274591854093,4507.4420215133614,4621.3420085687194,4562.7229713413635,4713.7688487978821,4653.9774308271917,4808.044225834079,4747.0569795052415,4904.2051104135589,4879.0002038291268,5002.2892126872912,4938.8380816094887,5102.3349970092768,5037.6148433113522,5204.3816970205999,5138.3671402502096,5308.4693310351686,5281.1867295644161,5414.6387177331744,5345.9571728724723,5522.9314921684208,5452.8763164121965,5633.3901220957932,5561.933842826209,5746.0579246252782,5716.5263593919954,5860.9790832090694,5786.6359702607842,5978.1986649684095,5902.3686897631596,6097.7626383669776,6020.4160636597044,4.8035602885647668E-6,4.904435054624627E-6,5.0074281907717441E-6,5.1125841827779502E-6,5.2199484506162868E-6,5.3295673680792297E-6,5.4414882828088927E-6,5.5557595367478793E-6,5.6724304870195845E-6,5.7915515272469963E-6,5.9131741093191819E-6,6.0373507656148849E-6,6.164135131692798E-6,6.2935819694583476E-6,6.4257471908169705E-6,6.5606878818241276E-6,0,0,0,0,0,0,0,0,0,0,0,0,0,0,0,0,0,0,0,0,0,0,0,0,0,0,0,0,0,0,0,0,0,0,0,0,0,0,0,0,0]
[null,{"$f":"B584","v":"'130 Total DSCR Computed"},null,null,null,null,null,"","",0,0,0,0,0,0,0,0,0,0,0,0,0,0,0,0,0,0,0,0,0,0,0,0,0,0,0,0,0,0,0,0,0,0,0,0,0,0.99999999961478181,0.99999999962069341,0.99999999960919328,0.9999999996151907,0.99999999960352359,0.99999999960960817,0.99999999960082231,0.99999999957524488,0.99999999956182895,0.99999999956802321,0.99999999955437902,0.99999999956067842,0.99999999954680252,0.99999999955320906,0.99999999954259267,0.9999999995149107,0.99999999949897478,0.99999999950545138,0.99999999948920504,0.99999999949580776,0.99999999947924434,0.99999999948597595,0.99999999947311602,0.99999999944278495,0.99999999942377427,0.99999999943052553,0.99999999941109663,0.99999999941799644,0.99999999939814033,0.99999999940519202,0.99999999938956374,0.9999999993921056,0.99999999937136608,0.99999999937873152,0.99999999935753536,0.9999999993650629,0.99999999934340056,0.99999999935109352,0.99999999933404382,0.99999999933681705,0.99999999931419115,0.99999999932222638,0.99999999929910255,0.99999999930731476,0.99999999928368233,0.99999999929207484,0.99999999927347449,0.99999999927649985,0.99999999925181615,0.99999999926058225,0.99999999923535532,0.99999999924431415,0.99999999921853244,0,0,0,0,0,0,0,0,0,0,0,0,0,0,0,0,0,0,0,0,0,0,0,0,0,0,0,0,0,0,0,0,0,0,0,0,0,0,0,0,0,0,0,0,0,0,0,0,0,0,0,0,0,0,0,0,0]
[null,"'131 Average Total Interest Rate",null,null,null,null,null,"","",0,0,0,0,0,0,0,0,0,0,0,0,0,0,0,0,0,0,0,0,0,0,0,0,0,0,0,0,0,0,0,0,0,0,0,0,0,0,0,0,0,0,0,0,0,0,0,0,0,0,0,0,0,0,0,0,0,0,0,0,0,0,0,0,0,0,0,0,0,0,0,0,0,0,0,0,0,0,0,0,0,0,0,0,0,0,0,0,0,0,0,0,0,0,0,0,0,0,0,0,0,0,0,0,0,0,0,0,0,0,0,0,0,0,0,0,0,0,0,0,0,0,0,0,0,0,0,0,0,0,0,0,0,0,0,0,0,0,0,0,0,0,0,0,0,0,0]
[".","'132 DSRA Section",null,null,null,null,null,"","","","","","","","","","","","","","","","","","","","","","","","","","","","","","","","","","","","","","","Operation","Operation","Operation","Operation","Operation","Operation","Operation","Operation","Operation","Operation","Operation","Operation","Operation","Operation","Operation","Operation","Operation","Operation","Operation","Operation","Operation","Operation","Operation","Operation","Operation","Operation","Operation","Operation","Operation","Operation","Operation","Operation","Operation","Operation","Operation","Operation","Operation","Operation","Operation","Operation","Operation","Operation","Operation","Operation","Operation","Operation","Operation","Operation","Operation","Operation","Operation","Operation","Operation","Operation","Operation","Operation","Operation","Operation","Operation","Operation","Operation","Operation","Operation","Operation","Operation","Operation","Operation","Operation","Operation","Operation",0,0,0,0,0,0,0,0,0,0,0,0,0,0,0,0,0,0,0,0,0,0,0,0,0,0,0,0,0,0,0,0,0,0,0,0,0,0,0,0,0]
[null,"'133 DSRA Parameters",null,null,null,null,null," DSRA Opt-->"," No Adj ",1," DSRA Per (or Pct) ",1," DSRA L/C ",false," DSRA Code ",1," DSRA Percent ",1," PV DSRA Flows ",-34075.787778068974," PV DSRA Flows DSCR ",-31242.809859425717,0,0,0,0,0,0,0,0,0,0,0,0,0,0,0,0,0,0,0,0,0,0,0,0,0,0,0,0,0,0,0,0,0,0,0,0,0,0,0,0,0,0,0,0,0,0,0,0,0,0,0,0,0,0,0,0,0,0,0,0,0,0,0,0,0,0,0,0,0,0,0,0,0,0,0,0,0,0,0,0,0,0,0,0,0,0,0,0,0,0,0,0,0,0,0,0,0,0,0,0,0,0,0,0,0,0,0,0,0,0,0,0,0,0,0,0,0,0,0,0,0,0,0,0,0,0,0,0,0,0,0,0,0,0]
[null,"'134 Senior Debt Service",null,null,null,null,null,"","",0,0,0,0,0,0,0,0,0,0,0,0,0,0,0,0,0,0,0,0,0,0,0,0,0,0,0,0,0,0,0,0,0,0,0,0,0,3597.6759242851354,3716.7745678397164,3669.6294427913454,3791.1100592173711,3743.0220316683944,3866.9322604233053,3847.0583635680487,3944.270905767311,3894.2401219101689,4023.1563239117095,3972.124924377963,4103.6194504200857,4051.5674228962198,4185.6918394597524,4164.179694365509,4269.4056764124589,4215.2507469828342,4354.7937899819017,4299.5557619644951,4441.8896658243757,4385.5468772474705,4530.7274591854093,4507.4420215133614,4621.3420085687194,4562.7229713413635,4713.7688487978821,4653.9774308271917,4808.044225834079,4747.0569795052415,4904.2051104135589,4879.0002038291268,5002.2892126872912,4938.8380816094887,5102.3349970092768,5037.6148433113522,5204.3816970205999,5138.3671402502096,5308.4693310351686,5281.1867295644161,5414.6387177331744,5345.9571728724723,5522.9314921684208,5452.8763164121965,5633.3901220957932,5561.933842826209,5746.0579246252782,5716.5263593919954,5860.9790832090694,5786.6359702607842,5978.1986649684095,5902.3686897631596,6097.7626383669776,6020.4160636597044,4.8035602885647668E-6,4.904435054624627E-6,5.0074281907717441E-6,5.1125841827779502E-6,5.2199484506162868E-6,5.3295673680792297E-6,5.4414882828088927E-6,5.5557595367478793E-6,5.6724304870195845E-6,5.7915515272469963E-6,5.9131741093191819E-6,6.0373507656148849E-6,6.164135131692798E-6,6.2935819694583476E-6,6.4257471908169705E-6,6.5606878818241276E-6,0,0,0,0,0,0,0,0,0,0,0,0,0,0,0,0,0,0,0,0,0,0,0,0,0,0,0,0,0,0,0,0,0,0,0,0,0,0,0,0,0]
[null,"'135 DSRA Requirement",null,null,null,null,null,"","",0,0,0,0,0,0,0,0,0,0,0,0,0,0,0,0,0,0,0,0,0,0,0,0,0,0,0,0,0,0,0,0,0,0,0,0,3597.6759242851354,3716.7745678397164,3669.6294427913454,3791.1100592173711,3743.0220316683944,3866.9322604233053,3847.0583635680487,3944.270905767311,3894.2401219101689,4023.1563239117095,3972.124924377963,4103.6194504200857,4051.5674228962198,4185.6918394597524,4164.179694365509,4269.4056764124589,4215.2507469828342,4354.7937899819017,4299.5557619644951,4441.8896658243757,4385.5468772474705,4530.7274591854093,4507.4420215133614,4621.3420085687194,4562.7229713413635,4713.7688487978821,4653.9774308271917,4808.044225834079,4747.0569795052415,4904.2051104135589,4879.0002038291268,5002.2892126872912,4938.8380816094887,5102.3349970092768,5037.6148433113522,5204.3816970205999,5138.3671402502096,5308.4693310351686,5281.1867295644161,5414.6387177331744,5345.9571728724723,5522.9314921684208,5452.8763164121965,5633.3901220957932,5561.933842826209,5746.0579246252782,5716.5263593919954,5860.9790832090694,5786.6359702607842,5978.1986649684095,5902.3686897631596,6097.7626383669776,6020.4160636597044,4.8035602885647668E-6,4.904435054624627E-6,5.0074281907717441E-6,5.1125841827779502E-6,5.2199484506162868E-6,5.3295673680792297E-6,5.4414882828088927E-6,5.5557595367478793E-6,5.6724304870195845E-6,5.7915515272469963E-6,5.9131741093191819E-6,6.0373507656148849E-6,6.164135131692798E-6,6.2935819694583476E-6,6.4257471908169705E-6,6.5606878818241276E-6,0,0,0,0,0,0,0,0,0,0,0,0,0,0,0,0,0,0,0,0,0,0,0,0,0,0,0,0,0,0,0,0,0,0,0,0,0,0,0,0,0,0]
[null,"'136 DSRA Balance/DSRA Periods",null,null,null,null,null,1,"",0,0,0,0,0,0,0,0,0,0,0,0,0,0,0,0,0,0,0,0,0,0,0,0,0,0,0,0,0,0,0,0,0,0,0,0,3597.6759242851354,3716.7745678397164,3669.6294427913454,3791.1100592173711,3743.0220316683944,3866.9322604233053,3847.0583635680487,3944.270905767311,3894.2401219101689,4023.1563239117095,3972.124924377963,4103.6194504200857,4051.5674228962198,4185.6918394597524,4164.179694365509,4269.4056764124589,4215.2507469828342,4354.7937899819017,4299.5557619644951,4441.8896658243757,4385.5468772474705,4530.7274591854093,4507.4420215133614,4621.3420085687194,4562.7229713413635,4713.7688487978821,4653.9774308271917,4808.044225834079,4747.0569795052415,4904.2051104135589,4879.0002038291268,5002.2892126872912,4938.8380816094887,5102.3349970092768,5037.6148433113522,5204.3816970205999,5138.3671402502096,5308.4693310351686,5281.1867295644161,5414.6387177331744,5345.9571728724723,5522.9314921684208,5452.8763164121965,5633.3901220957932,5561.933842826209,5746.0579246252782,5716.5263593919954,5860.9790832090694,5786.6359702607842,5978.1986649684095,5902.3686897631596,6097.7626383669776,6020.4160636597044,4.8035602885647668E-6,4.904435054624627E-6,5.0074281907717441E-6,5.1125841827779502E-6,5.2199484506162868E-6,5.3295673680792297E-6,5.4414882828088927E-6,5.5557595367478793E-6,5.6724304870195845E-6,5.7915515272469963E-6,5.9131741093191819E-6,6.0373507656148849E-6,6.164135131692798E-6,6.2935819694583476E-6,6.4257471908169705E-6,6.5606878818241276E-6,0,0,0,0,0,0,0,0,0,0,0,0,0,0,0,0,0,0,0,0,0,0,0,0,0,0,0,0,0,0,0,0,0,0,0,0,0,0,0,0,0,0]
[null,"'137 DSRA Funded",null,null,null,null,null,-31242.809859425717,"",0,0,0,0,0,0,0,0,0,0,0,0,0,0,0,0,0,0,0,0,0,0,0,0,0,0,0,0,0,0,0,0,0,0,0,0,3597.6759242851354,3716.7745678397164,3669.6294427913454,3791.1100592173711,3743.0220316683944,3866.9322604233053,3847.0583635680487,3944.270905767311,3894.2401219101689,4023.1563239117095,3972.124924377963,4103.6194504200857,4051.5674228962198,4185.6918394597524,4164.179694365509,4269.4056764124589,4215.2507469828342,4354.7937899819017,4299.5557619644951,4441.8896658243757,4385.5468772474705,4530.7274591854093,4507.4420215133614,4621.3420085687194,4562.7229713413635,4713.7688487978821,4653.9774308271917,4808.044225834079,4747.0569795052415,4904.2051104135589,4879.0002038291268,5002.2892126872912,4938.8380816094887,5102.3349970092768,5037.6148433113522,5204.3816970205999,5138.3671402502096,5308.4693310351686,5281.1867295644161,5414.6387177331744,5345.9571728724723,5522.9314921684208,5452.8763164121965,5633.3901220957932,5561.933842826209,5746.0579246252782,5716.5263593919954,5860.9790832090694,5786.6359702607842,5978.1986649684095,5902.3686897631596,6097.7626383669776,6020.4160636597044,4.8035602885647668E-6,4.904435054624627E-6,5.0074281907717441E-6,5.1125841827779502E-6,5.2199484506162868E-6,5.3295673680792297E-6,5.4414882828088927E-6,5.5557595367478793E-6,5.6724304870195845E-6,5.7915515272469963E-6,5.9131741093191819E-6,6.0373507656148849E-6,6.164135131692798E-6,6.2935819694583476E-6,6.4257471908169705E-6,6.5606878818241276E-6,0,0,0,0,0,0,0,0,0,0,0,0,0,0,0,0,0,0,0,0,0,0,0,0,0,0,0,0,0,0,0,0,0,0,0,0,0,0,0,0,0,0]
[null,"'138 DSRA Change/PV DSRA Flows/PV DSCR",null,null,null,null,null,-34075.787778068974,"",0,0,0,0,0,0,0,0,0,0,0,0,0,0,0,0,0,0,0,0,0,0,0,0,0,0,0,0,0,0,0,0,0,0,0,0,3597.6759242851354,119.09864355458103,-47.145125048371028,121.48061642602579,-48.088027548976697,123.9102287549108,-19.873896855256589,97.212542199262316,-50.030783857142069,128.91620200154057,-51.03139953374648,131.49452604212274,-52.052027523865945,134.12441656353258,-21.512145094243351,105.22598204694987,-54.154929429624644,139.54304299906744,-55.238028017406577,142.33390385988059,-56.34278857690515,145.18058193793877,-23.285437672047919,113.899987055358,-58.619037227355875,151.04587745651861,-59.791417970690418,154.06679500688733,-60.9872463288375,157.1481309083174,-25.204906584432138,123.28900885816438,-63.451131077802529,163.49691539978812,-64.720153697924616,166.7668537092477,-66.0145567703903,170.10219078495902,-27.282601470752525,133.45198816875836,-68.681544860702161,176.97431929594859,-70.055175756224344,180.51380568359673,-71.456279269584229,184.12408179906924,-29.53156523328289,144.452723817074,-74.343112948285125,191.56269470762527,-75.829975205249866,195.39394860381799,-77.346574707273248,-6020.4160588561444,1.0087476605986014E-7,1.0299313614711712E-7,1.0515599200620609E-7,1.0736426783833656E-7,1.0961891746294299E-7,1.1192091472966297E-7,1.1427125393898655E-7,1.1667095027170525E-7,1.1912104022741176E-7,1.2162258207218563E-7,1.2417665629570305E-7,1.2678436607791309E-7,1.2944683776554959E-7,1.3216522135862287E-7,1.3494069100715709E-7,-6.5606878818241276E-6,0,0,0,0,0,0,0,0,0,0,0,0,0,0,0,0,0,0,0,0,0,0,0,0,0,0,0,0,0,0,0,0,0,0,0,0,0,0,0,0,0]
[null,"'139 DSRA LC/LC Switch",null,null,null,null,null,"","",0,0,0,0,0,0,0,0,0,0,0,0,0,0,0,0,0,0,0,0,0,0,0,0,0,0,0,0,0,0,0,0,0,0,0,0,0,0,0,0,0,0,0,0,0,0,0,0,0,0,0,0,0,0,0,0,0,0,0,0,0,0,0,0,0,0,0,0,0,0,0,0,0,0,0,0,0,0,0,0,0,0,0,0,0,0,0,0,0,0,0,0,0,0,0,0,0,0,0,0,0,0,0,0,0,0,0,0,0,0,0,0,0,0,0,0,0,0,0,0,0,0,0,0,0,0,0,0,0,0,0,0,0,0,0,0,0,0,0,0,0,0,0,0,0,0,0]
[null,"'140 Interest Income",null,null,null,null,null,"","",0,0,0,0,0,0,0,0,0,0,0,0,0,0,0,0,0,0,0,0,0,0,0,0,0,0,0,0,0,0,0,0,0,0,0,0,0,0,0,0,0,0,0,0,0,0,0,0,0,0,0,0,0,0,0,0,0,0,0,0,0,0,0,0,0,0,0,0,0,0,0,0,0,0,0,0,0,0,0,0,0,0,0,0,0,0,0,0,0,0,0,0,0,0,0,0,0,0,0,0,0,0,0,0,0,0,0,0,0,0,0,0,0,0,0,0,0,0,0,0,0,0,0,0,0,0,0,0,0,0,0,0,0,0,0,0,0,0,0,0,0,0,0,0,0,0,0]
[null,"'141 DSRA LC Fee/PV Fees",null,null,null,null,null,0,"",0,0,0,0,0,0,0,0,0,0,0,0,0,0,0,0,0,0,0,0,0,0,0,0,0,0,0,0,0,0,0,0,0,0,0,0,0,0,0,0,0,0,0,0,0,0,0,0,0,0,0,0,0,0,0,0,0,0,0,0,0,0,0,0,0,0,0,0,0,0,0,0,0,0,0,0,0,0,0,0,0,0,0,0,0,0,0,0,0,0,0,0,0,0,0,0,0,0,0,0,0,0,0,0,0,0,0,0,0,0,0,0,0,0,0,0,0,0,0,0,0,0,0,0,0,0,0,0,0,0,0,0,0,0,0,0,0,0,0,0,0,0,0,0,0,0,0]
[".","'142 Re-financing Section",null,null,null,null,null,"","","","","","","","","","","","","","","","","","","","","","","","","","","","","","","","","","","","","","","Operation","Operation","Operation","Operation","Operation","Operation","Operation","Operation","Operation","Operation","Operation","Operation","Operation","Operation","Operation","Operation","Operation","Operation","Operation","Operation","Operation","Operation","Operation","Operation","Operation","Operation","Operation","Operation","Operation","Operation","Operation","Operation","Operation","Operation","Operation","Operation","Operation","Operation","Operation","Operation","Operation","Operation","Operation","Operation","Operation","Operation","Operation","Operation","Operation","Operation","Operation","Operation","Operation","Operation","Operation","Operation","Operation","Operation","Operation","Operation","Operation","Operation","Operation","Operation","Operation","Operation","Operation","Operation","Operation","Operation",0,0,0,0,0,0,0,0,0,0,0,0,0,0,0,0,0,0,0,0,0,0,0,0,0,0,0,0,0,0,0,0,0,0,0,0,0,0,0,0,0]
[null,"'143 Re-financing Number",null,null,null,null,null,"","",0,0,0,0,0,0,0,0,0,0,0,0,0,0,0,0,0,0,0,0,0,0,0,0,0,0,0,0,0,0,0,0,0,0,0,0,0,0,0,0,0,0,0,0,0,0,0,0,0,0,0,0,0,0,0,0,0,0,0,0,0,0,0,0,0,0,0,0,0,0,0,0,0,0,0,0,0,0,0,0,0,0,0,0,0,0,0,0,0,0,0,0,0,0,0,0,0,0,0,0,0,0,0,0,0,0,0,0,0,0,0,0,0,0,0,0,0,0,0,0,0,0,0,0,0,0,0,0,0,0,0,0,0,0,0,0,0,0,0,0,0,0,0,0,0,0,0]
[null,"'144 Re-finance Period",null,null,null,null,null,"","",0,0,0,0,0,0,0,0,0,0,0,0,0,0,0,0,0,0,0,0,0,0,0,0,0,0,0,0,0,0,0,0,0,0,0,0,false,false,false,false,false,false,false,false,false,false,false,false,false,false,false,false,false,false,false,false,false,false,false,false,false,false,false,false,false,false,false,false,false,false,false,false,false,false,false,false,false,false,false,false,false,false,false,false,false,false,false,false,false,false,false,false,false,false,false,false,false,false,false,false,false,false,false,false,false,false,0,0,0,0,0,0,0,0,0,0,0,0,0,0,0,0,0,0,0,0,0,0,0,0,0,0,0,0,0,0,0,0,0,0,0,0,0,0,0,0,0]
[null,"'145 Re-finance DSCR",null,null,null,null,null,"","",0,0,0,0,0,0,0,0,0,0,0,0,0,0,0,0,0,0,0,0,0,0,0,0,0,0,0,0,0,0,0,0,0,0,0,0,0,0,0,0,0,0,0,0,0,0,0,0,0,0,0,0,0,0,0,0,0,0,0,0,0,0,0,0,0,0,0,0,0,0,0,0,0,0,0,0,0,0,0,0,0,0,0,0,0,0,0,0,0,0,0,0,0,0,0,0,0,0,0,0,0,0,0,0,0,0,0,0,0,0,0,0,0,0,0,0,0,0,0,0,0,0,0,0,0,0,0,0,0,0,0,0,0,0,0,0,0,0,0,0,0,0,0,0,0,0,0]
[null,"'146 Re-financing Amount",null,null,null,null,null,"","",0,0,0,0,0,0,0,0,0,0,0,0,0,0,0,0,0,0,0,0,0,0,0,0,0,0,0,0,0,0,0,0,0,0,0,0,0,0,0,0,0,0,0,0,0,0,0,0,0,0,0,0,0,0,0,0,0,0,0,0,0,0,0,0,0,0,0,0,0,0,0,0,0,0,0,0,0,0,0,0,0,0,0,0,0,0,0,0,0,0,0,0,0,0,0,0,0,0,0,0,0,0,0,0,0,0,0,0,0,0,0,0,0,0,0,0,0,0,0,0,0,0,0,0,0,0,0,0,0,0,0,0,0,0,0,0,0,0,0,0,0,0,0,0,0,0,0]
[null,"'147 Sculpted Debt Service for Re-financing",null,null,null,null,null,"","",0,0,0,0,0,0,0,0,0,0,0,0,0,0,0,0,0,0,0,0,0,0,0,0,0,0,0,0,0,0,0,0,0,0,0,0,0,0,0,0,0,0,0,0,0,0,0,0,0,0,0,0,0,0,0,0,0,0,0,0,0,0,0,0,0,0,0,0,0,0,0,0,0,0,0,0,0,0,0,0,0,0,0,0,0,0,0,0,0,0,0,0,0,0,0,0,0,0,0,0,0,0,0,0,0,0,0,0,0,0,0,0,0,0,0,0,0,0,0,0,0,0,0,0,0,0,0,0,0,0,0,0,0,0,0,0,0,0,0,0,0,0,0,0,0,0,0]
[null,"'148 Re-finance fees",null,null,null,null,null,"","",0,0,0,0,0,0,0,0,0,0,0,0,0,0,0,0,0,0,0,0,0,0,0,0,0,0,0,0,0,0,0,0,0,0,0,0,0,0,0,0,0,0,0,0,0,0,0,0,0,0,0,0,0,0,0,0,0,0,0,0,0,0,0,0,0,0,0,0,0,0,0,0,0,0,0,0,0,0,0,0,0,0,0,0,0,0,0,0,0,0,0,0,0,0,0,0,0,0,0,0,0,0,0,0,0,0,0,0,0,0,0,0,0,0,0,0,0,0,0,0,0,0,0,0,0,0,0,0,0,0,0,0,0,0,0,0,0,0,0,0,0,0,0,0,0,0,0]
[null,"'149 Repayment of Loans from Re-financing",null,null,null,null,null,"","",0,0,0,0,0,0,0,0,0,0,0,0,0,0,0,0,0,0,0,0,0,0,0,0,0,0,0,0,0,0,0,0,0,0,0,0,0,0,0,0,0,0,0,0,0,0,0,0,0,0,0,0,0,0,0,0,0,0,0,0,0,0,0,0,0,0,0,0,0,0,0,0,0,0,0,0,0,0,0,0,0,0,0,0,0,0,0,0,0,0,0,0,0,0,0,0,0,0,0,0,0,0,0,0,0,0,0,0,0,0,0,0,0,0,0,0,0,0,0,0,0,0,0,0,0,0,0,0,0,0,0,0,0,0,0,0,0,0,0,0,0,0,0,0,0,0,0]
[".","'150 Cash Flow Waterfall Section",null,null,null,null,null,"","","","","","","","","","","","","","","","","","","","","","","","","","","","","","","","","","","","","","","Operation","Operation","Operation","Operation","Operation","Operation","Operation","Operation","Operation","Operation","Operation","Operation","Operation","Operation","Operation","Operation","Operation","Operation","Operation","Operation","Operation","Operation","Operation","Operation","Operation","Operation","Operation","Operation","Operation","Operation","Operation","Operation","Operation","Operation","Operation","Operation","Operation","Operation","Operation","Operation","Operation","Operation","Operation","Operation","Operation","Operation","Operation","Operation","Operation","Operation","Operation","Operation","Operation","Operation","Operation","Operation","Operation","Operation","Operation","Operation","Operation","Operation","Operation","Operation","Operation","Operation","Operation","Operation","Operation","Operation",0,0,0,0,0,0,0,0,0,0,0,0,0,0,0,0,0,0,0,0,0,0,0,0,0,0,0,0,0,0,0,0,0,0,0,0,0,0,0,0,0]
[null,"'151 CFADS",null,null,null,null,null,"","",0,0,0,0,0,0,0,0,0,0,0,0,0,0,0,0,0,0,0,0,0,0,0,0,0,0,0,0,0,0,0,0,0,0,0,0,0,3597.6759228992451,3716.7745664299191,3669.6294413572296,3791.1100577585166,3743.0220301843747,3866.9322589136864,3847.0583620323887,3944.2709040919617,3894.2401202038254,4023.1563221737993,3972.1249226079008,4103.6194486172772,4051.5674210600596,4185.691837589623,4164.1796924607825,4269.4056743414158,4215.2507448708875,4354.7937878282446,4299.5557597683037,4441.8896635848096,4385.5468749636721,4530.7274568565063,4507.4420191384625,4621.3420059936379,4562.7229687122053,4713.7688461135112,4653.9774280864485,4808.0442230357803,4747.0569766481794,4904.2051074964984,4879.0002008508081,5002.2892096464275,4938.8380785047675,5102.3349938393567,5037.6148400748625,5204.3816937161446,5138.3671368763607,5308.4693275904683,5281.1867260473773,5414.6387141422783,5345.9571692061672,5522.9314884251235,5452.8763125902897,5633.3901181936271,5561.9338388420974,5746.0579205574995,5716.5263552387933,5860.9790789686504,5786.6359659313166,5978.1986605480233,5902.368685249945,6097.7626337589845,6020.4160589549447,6219.7178864341658,6187.7519703980561,6344.1122441628486,6263.6408677367253,6470.9944890461038,6388.9136850914583,6600.4143788270285,0,0,0,0,0,0,0,0,0,0,0,0,0,0,0,0,0,0,0,0,0,0,0,0,0,0,0,0,0,0,0,0,0,0,0,0,0,0,0,0,0,0,0,0,0,0,0,0,0,0]
[null,"'152 Less: Senior Interest",null,null,null,null,null,"","",0,0,0,0,0,0,0,0,0,0,0,0,0,0,0,0,0,0,0,0,0,0,0,0,0,0,0,0,0,0,0,0,0,0,0,0,-2560.535301918339,-2604.7045372623206,-2587.5757808600838,-2568.097101809004,-2549.0956689517971,-2527.6709207448812,-2506.7061141070499,-2483.2422131091357,-2637.9567022605142,-2613.7898895266326,-2590.1015602591042,-2563.5900471636828,-2537.5321519679646,-2508.5595369799521,-2480.0138911244703,-2448.4588491148647,-2580.0097711827602,-2546.6442020953768,-2513.6892228755605,-2477.3274077177448,-2441.3383977647463,-2401.8275102648004,-2362.6490528119975,-2319.8295043321182,-2420.7142936941041,-2374.501111735814,-2328.5484527393096,-2278.4588244784513,-2228.5729338026836,-2174.4040367287885,-2120.3783249904809,-2061.9179625578545,-2002.7592355537029,-1939.7691060977554,-1876.7886576772082,-1809.0521846178031,-1741.2523688532049,-1668.526653031083,-1595.6600028703322,-1517.6910070512095,-1438.6575969522899,-1355.1619934913001,-1271.3552948012878,-1182.0721947351874,-1092.3853082602302,-997.02420725162892,-901.16110498822911,-799.41827186127443,-696.15900211034659,-587.69778049632214,-478.52007860218737,-363.02682838132478,-246.70064938708373,-123.82834771527384,-5.7792407587839979E-6,-5.9006048147184616E-6,-6.0245175158275493E-6,-6.1510323836599279E-6,-6.280204063716786E-6,-6.4120883490548386E-6,-6.5467422043849897E-6,-6.6842237906770745E-6,-6.8245924902812932E-6,-6.9679089325772E-6,-7.1142350201613208E-6,-7.2636339555847084E-6,-7.4161702686519879E-6,-7.5719098442936799E-6,-7.7309199510238457E-6,-7.8932692699953464E-6,0,0,0,0,0,0,0,0,0,0,0,0,0,0,0,0,0,0,0,0,0,0,0,0,0,0,0,0,0,0,0,0,0,0,0,0,0,0,0,0,0]
[null,"'153 Less: Senior Repayment",null,null,null,null,null,"","",0,0,0,0,0,0,0,0,0,0,0,0,0,0,0,0,0,0,0,0,0,0,0,0,0,0,0,0,0,0,0,0,0,0,0,0,2560.535301918339,-992.97138702281472,-1129.1987869796326,-1101.5323409823413,-1242.0143902655741,-1215.3511109235133,-1360.2261463162554,-1363.8161504589129,-1306.3142035067967,-1280.4502323835363,-1433.0547636526053,-1408.5348772142802,-1566.0872984521211,-1543.0078859162677,-1705.6779483352825,-1715.7208452506443,-1689.3959052296987,-1668.6065448874569,-1841.1045671063412,-1822.2283542467508,-2000.5512680596298,-1983.7193669826702,-2168.0784063734118,-2187.6125171812432,-2200.6277148746158,-2188.22185960555,-2385.2203960585725,-2375.5186063487399,-2579.471292031395,-2572.6529427764535,-2783.8267854230776,-2817.0822412712723,-2999.5299771335881,-2999.0689755117337,-3225.5463393320688,-3228.5626586935487,-3463.1293281673952,-3469.8404872191268,-3712.8093281648362,-3763.4957225132066,-3975.9811207808848,-3990.7951793811721,-4251.5761973671333,-4270.8041216770089,-4541.0048138355633,-4564.9096355745805,-4844.8968196370488,-4917.1080875307207,-5164.8200810987228,-5198.9381897644625,-5499.6785863662226,-5539.3418613818349,-5851.0619889798936,-5896.5877159444308,9.756804702192311E-7,9.9616976009383503E-7,1.0170893250558056E-6,1.0384482008819773E-6,1.0602556131004988E-6,1.0825209809756093E-6,1.1052539215760972E-6,1.1284642539291953E-6,1.1521620032617085E-6,1.1763574053302042E-6,1.2010609108421385E-6,1.2262831899698234E-6,1.2520351369591897E-6,1.2783278748353327E-6,1.3051727602068748E-6,1.332581388171219E-6,0,0,0,0,0,0,0,0,0,0,0,0,0,0,0,0,0,0,0,0,0,0,0,0,0,0,0,0,0,0,0,0,0,0,0,0,0,0,0,0,0]
[null,"'154 Less: Senior Fees",null,null,null,null,null,"","",0,0,0,0,0,0,0,0,0,0,0,0,0,0,0,0,0,0,0,0,0,0,0,0,0,0,0,0,0,0,0,0,0,0,0,0,0,0,0,0,0,0,0,0,0,0,0,0,0,0,0,0,0,0,0,0,0,0,0,0,0,0,0,0,0,0,0,0,0,0,0,0,0,0,0,0,0,0,0,0,0,0,0,0,0,0,0,0,0,0,0,0,0,0,0,0,0,0,0,0,0,0,0,0,0,0,0,0,0,0,0,0,0,0,0,0,0,0,0,0,0,0,0,0,0,0,0,0,0,0,0,0,0,0,0,0,0,0,0,0,0,0,0,0,0,0,0]
[null,"'155 Subtotal: Senior Debt Service",null,null,null,null,null,"","",0,0,0,0,0,0,0,0,0,0,0,0,0,0,0,0,0,0,0,0,0,0,0,0,0,0,0,0,0,0,0,0,0,0,0,0,0,-3597.6759242851354,-3716.7745678397164,-3669.6294427913454,-3791.1100592173711,-3743.0220316683944,-3866.9322604233053,-3847.0583635680487,-3944.270905767311,-3894.2401219101689,-4023.1563239117095,-3972.124924377963,-4103.6194504200857,-4051.5674228962198,-4185.6918394597524,-4164.179694365509,-4269.4056764124589,-4215.2507469828342,-4354.7937899819017,-4299.5557619644951,-4441.8896658243757,-4385.5468772474705,-4530.7274591854093,-4507.4420215133614,-4621.3420085687194,-4562.7229713413635,-4713.7688487978821,-4653.9774308271917,-4808.044225834079,-4747.0569795052415,-4904.2051104135589,-4879.0002038291268,-5002.2892126872912,-4938.8380816094887,-5102.3349970092768,-5037.6148433113522,-5204.3816970205999,-5138.3671402502096,-5308.4693310351686,-5281.1867295644161,-5414.6387177331744,-5345.9571728724723,-5522.9314921684208,-5452.8763164121965,-5633.3901220957932,-5561.933842826209,-5746.0579246252782,-5716.5263593919954,-5860.9790832090694,-5786.6359702607842,-5978.1986649684095,-5902.3686897631596,-6097.7626383669776,-6020.4160636597044,-4.8035602885647668E-6,-4.904435054624627E-6,-5.0074281907717441E-6,-5.1125841827779502E-6,-5.2199484506162868E-6,-5.3295673680792297E-6,-5.4414882828088927E-6,-5.5557595367478793E-6,-5.6724304870195845E-6,-5.7915515272469963E-6,-5.9131741093191819E-6,-6.0373507656148849E-6,-6.164135131692798E-6,-6.2935819694583476E-6,-6.4257471908169705E-6,-6.5606878818241276E-6,0,0,0,0,0,0,0,0,0,0,0,0,0,0,0,0,0,0,0,0,0,0,0,0,0,0,0,0,0,0,0,0,0,0,0,0,0,0,0,0,0]
[null,"'156 Subtotal: Cash Flow Before Senior Sweep",null,null,null,null,null,"","",0,0,0,0,0,0,0,0,0,0,0,0,0,0,0,0,0,0,0,0,0,0,0,0,0,0,0,0,0,0,0,0,0,0,0,0,0,-1.3858903002983425E-6,-1.4097972780291457E-6,-1.4341158021125011E-6,-1.4588545127480756E-6,-1.4840197763987817E-6,-1.5096188690222334E-6,-1.5356599760707468E-6,-1.6753492673160508E-6,-1.7063434825104196E-6,-1.7379102246195544E-6,-1.77006222656928E-6,-1.8028085833066143E-6,-1.8361602087679785E-6,-1.8701293811318465E-6,-1.9047265595872886E-6,-2.0710431272163987E-6,-2.1119467419339344E-6,-2.1536570784519427E-6,-2.1961914171697572E-6,-2.2395661289920099E-6,-2.2837984943180345E-6,-2.3289030650630593E-6,-2.3748989406158216E-6,-2.5750814529601485E-6,-2.6291581889381632E-6,-2.6843708837986924E-6,-2.740743184403982E-6,-2.7982987376162782E-6,-2.8570620997925289E-6,-2.9170605557737872E-6,-2.978318661917001E-6,-3.0408637030632235E-6,-3.1047211450641043E-6,-3.1699200917501003E-6,-3.236489646951668E-6,-3.3044552765204571E-6,-3.3738488127710298E-6,-3.4447002690285444E-6,-3.5170387491234578E-6,-3.590896085370332E-6,-3.6663050195784308E-6,-3.7432973840623163E-6,-3.821906830125954E-6,-3.9021660995786078E-6,-3.9841115722083487E-6,-4.0677787183085456E-6,-4.1532020986778662E-6,-4.2404190025990829E-6,-4.3294676288496703E-6,-4.4203861762071028E-6,-4.5132146624382585E-6,-4.6079931053100154E-6,-4.7047597035998479E-6,6219.7178816306059,6187.7519654936214,6344.11223915542,6263.6408626241409,6470.9944838261554,6388.9136797618912,6600.4143733855399,-5.5557595367478793E-6,-5.6724304870195845E-6,-5.7915515272469963E-6,-5.9131741093191819E-6,-6.0373507656148849E-6,-6.164135131692798E-6,-6.2935819694583476E-6,-6.4257471908169705E-6,-6.5606878818241276E-6,0,0,0,0,0,0,0,0,0,0,0,0,0,0,0,0,0,0,0,0,0,0,0,0,0,0,0,0,0,0,0,0,0,0,0,0,0,0,0,0,0]
[null,"'157 Less: Senior Sweep",null,null,null,null,null,0,"",0,0,0,0,0,0,0,0,0,0,0,0,0,0,0,0,0,0,0,0,0,0,0,0,0,0,0,0,0,0,0,0,0,0,0,0,0,0,0,0,0,0,0,0,0,0,0,0,0,0,0,0,0,0,0,0,0,0,0,0,0,0,0,0,0,0,0,0,0,0,0,0,0,0,0,0,0,0,0,0,0,0,0,0,0,0,0,0,0,0,0,0,0,0,0,0,0,0,0,0,0,0,0,0,0,0,0,0,0,0,0,0,0,0,0,0,0,0,0,0,0,0,0,0,0,0,0,0,0,0,0,0,0,0,0,0,0,0,0,0,0,0,0,0,0,0,0]
[null,"'158 Subtotal: Cash Flow After Sweep",null,null,null,null,null,"","",0,0,0,0,0,0,0,0,0,0,0,0,0,0,0,0,0,0,0,0,0,0,0,0,0,0,0,0,0,0,0,0,0,0,0,0,0,-1.3858903002983425E-6,-1.4097972780291457E-6,-1.4341158021125011E-6,-1.4588545127480756E-6,-1.4840197763987817E-6,-1.5096188690222334E-6,-1.5356599760707468E-6,-1.6753492673160508E-6,-1.7063434825104196E-6,-1.7379102246195544E-6,-1.77006222656928E-6,-1.8028085833066143E-6,-1.8361602087679785E-6,-1.8701293811318465E-6,-1.9047265595872886E-6,-2.0710431272163987E-6,-2.1119467419339344E-6,-2.1536570784519427E-6,-2.1961914171697572E-6,-2.2395661289920099E-6,-2.2837984943180345E-6,-2.3289030650630593E-6,-2.3748989406158216E-6,-2.5750814529601485E-6,-2.6291581889381632E-6,-2.6843708837986924E-6,-2.740743184403982E-6,-2.7982987376162782E-6,-2.8570620997925289E-6,-2.9170605557737872E-6,-2.978318661917001E-6,-3.0408637030632235E-6,-3.1047211450641043E-6,-3.1699200917501003E-6,-3.236489646951668E-6,-3.3044552765204571E-6,-3.3738488127710298E-6,-3.4447002690285444E-6,-3.5170387491234578E-6,-3.590896085370332E-6,-3.6663050195784308E-6,-3.7432973840623163E-6,-3.821906830125954E-6,-3.9021660995786078E-6,-3.9841115722083487E-6,-4.0677787183085456E-6,-4.1532020986778662E-6,-4.2404190025990829E-6,-4.3294676288496703E-6,-4.4203861762071028E-6,-4.5132146624382585E-6,-4.6079931053100154E-6,-4.7047597035998479E-6,6219.7178816306059,6187.7519654936214,6344.11223915542,6263.6408626241409,6470.9944838261554,6388.9136797618912,6600.4143733855399,-5.5557595367478793E-6,-5.6724304870195845E-6,-5.7915515272469963E-6,-5.9131741093191819E-6,-6.0373507656148849E-6,-6.164135131692798E-6,-6.2935819694583476E-6,-6.4257471908169705E-6,-6.5606878818241276E-6,0,0,0,0,0,0,0,0,0,0,0,0,0,0,0,0,0,0,0,0,0,0,0,0,0,0,0,0,0,0,0,0,0,0,0,0,0,0,0,0,0]
[null,"'159 Less: Mezzanine Interest",null,null,null,null,null,"","",0,0,0,0,0,0,0,0,0,0,0,0,0,0,0,0,0,0,0,0,0,0,0,0,0,0,0,0,0,0,0,0,0,0,0,0,0,0,0,0,0,0,0,0,0,0,0,0,0,0,0,0,0,0,0,0,0,0,0,0,0,0,0,0,0,0,0,0,0,0,0,0,0,0,0,0,0,0,0,0,0,0,0,0,0,0,0,0,0,0,0,0,0,0,0,0,0,0,0,0,0,0,0,0,0,0,0,0,0,0,0,0,0,0,0,0,0,0,0,0,0,0,0,0,0,0,0,0,0,0,0,0,0,0,0,0,0,0,0,0,0,0,0,0,0,0,0]
[null,"'160 Less: Mezzanine Repayment",null,null,null,null,null,"","",0,0,0,0,0,0,0,0,0,0,0,0,0,0,0,0,0,0,0,0,0,0,0,0,0,0,0,0,0,0,0,0,0,0,0,0,0,0,0,0,0,0,0,0,0,0,0,0,0,0,0,0,0,0,0,0,0,0,0,0,0,0,0,0,0,0,0,0,0,0,0,0,0,0,0,0,0,0,0,0,0,0,0,0,0,0,0,0,0,0,0,0,0,0,0,0,0,0,0,0,0,0,0,0,0,0,0,0,0,0,0,0,0,0,0,0,0,0,0,0,0,0,0,0,0,0,0,0,0,0,0,0,0,0,0,0,0,0,0,0,0,0,0,0,0,0,0]
[null,"'161 Less: Mezzanine Fees",null,null,null,null,null,"","",0,0,0,0,0,0,0,0,0,0,0,0,0,0,0,0,0,0,0,0,0,0,0,0,0,0,0,0,0,0,0,0,0,0,0,0,0,0,0,0,0,0,0,0,0,0,0,0,0,0,0,0,0,0,0,0,0,0,0,0,0,0,0,0,0,0,0,0,0,0,0,0,0,0,0,0,0,0,0,0,0,0,0,0,0,0,0,0,0,0,0,0,0,0,0,0,0,0,0,0,0,0,0,0,0,0,0,0,0,0,0,0,0,0,0,0,0,0,0,0,0,0,0,0,0,0,0,0,0,0,0,0,0,0,0,0,0,0,0,0,0,0,0,0,0,0,0]
[null,"'162 Subtotal: Mezzanine Debt Service",null,null,null,null,null,"","",0,0,0,0,0,0,0,0,0,0,0,0,0,0,0,0,0,0,0,0,0,0,0,0,0,0,0,0,0,0,0,0,0,0,0,0,0,0,0,0,0,0,0,0,0,0,0,0,0,0,0,0,0,0,0,0,0,0,0,0,0,0,0,0,0,0,0,0,0,0,0,0,0,0,0,0,0,0,0,0,0,0,0,0,0,0,0,0,0,0,0,0,0,0,0,0,0,0,0,0,0,0,0,0,0,0,0,0,0,0,0,0,0,0,0,0,0,0,0,0,0,0,0,0,0,0,0,0,0,0,0,0,0,0,0,0,0,0,0,0,0,0,0,0,0,0,0]
[null,"'163 Subtotal: Cash Flow Before Mezzanine Sweep",null,null,null,null,null,"","",0,0,0,0,0,0,0,0,0,0,0,0,0,0,0,0,0,0,0,0,0,0,0,0,0,0,0,0,0,0,0,0,0,0,0,0,0,-1.3858903002983425E-6,-1.4097972780291457E-6,-1.4341158021125011E-6,-1.4588545127480756E-6,-1.4840197763987817E-6,-1.5096188690222334E-6,-1.5356599760707468E-6,-1.6753492673160508E-6,-1.7063434825104196E-6,-1.7379102246195544E-6,-1.77006222656928E-6,-1.8028085833066143E-6,-1.8361602087679785E-6,-1.8701293811318465E-6,-1.9047265595872886E-6,-2.0710431272163987E-6,-2.1119467419339344E-6,-2.1536570784519427E-6,-2.1961914171697572E-6,-2.2395661289920099E-6,-2.2837984943180345E-6,-2.3289030650630593E-6,-2.3748989406158216E-6,-2.5750814529601485E-6,-2.6291581889381632E-6,-2.6843708837986924E-6,-2.740743184403982E-6,-2.7982987376162782E-6,-2.8570620997925289E-6,-2.9170605557737872E-6,-2.978318661917001E-6,-3.0408637030632235E-6,-3.1047211450641043E-6,-3.1699200917501003E-6,-3.236489646951668E-6,-3.3044552765204571E-6,-3.3738488127710298E-6,-3.4447002690285444E-6,-3.5170387491234578E-6,-3.590896085370332E-6,-3.6663050195784308E-6,-3.7432973840623163E-6,-3.821906830125954E-6,-3.9021660995786078E-6,-3.9841115722083487E-6,-4.0677787183085456E-6,-4.1532020986778662E-6,-4.2404190025990829E-6,-4.3294676288496703E-6,-4.4203861762071028E-6,-4.5132146624382585E-6,-4.6079931053100154E-6,-4.7047597035998479E-6,6219.7178816306059,6187.7519654936214,6344.11223915542,6263.6408626241409,6470.9944838261554,6388.9136797618912,6600.4143733855399,-5.5557595367478793E-6,-5.6724304870195845E-6,-5.7915515272469963E-6,-5.9131741093191819E-6,-6.0373507656148849E-6,-6.164135131692798E-6,-6.2935819694583476E-6,-6.4257471908169705E-6,-6.5606878818241276E-6,0,0,0,0,0,0,0,0,0,0,0,0,0,0,0,0,0,0,0,0,0,0,0,0,0,0,0,0,0,0,0,0,0,0,0,0,0,0,0,0,0]
[null,"'164 Less: Mezzanine Sweep",null,null,null,null,null,0,"",0,0,0,0,0,0,0,0,0,0,0,0,0,0,0,0,0,0,0,0,0,0,0,0,0,0,0,0,0,0,0,0,0,0,0,0,0,0,0,0,0,0,0,0,0,0,0,0,0,0,0,0,0,0,0,0,0,0,0,0,0,0,0,0,0,0,0,0,0,0,0,0,0,0,0,0,0,0,0,0,0,0,0,0,0,0,0,0,0,0,0,0,0,0,0,0,0,0,0,0,0,0,0,0,0,0,0,0,0,0,0,0,0,0,0,0,0,0,0,0,0,0,0,0,0,0,0,0,0,0,0,0,0,0,0,0,0,0,0,0,0,0,0,0,0,0,0]
[null,"'165 Subtotal: Cash Flow Before Shareholder Loan",null,null,null,null,null,"","",0,0,0,0,0,0,0,0,0,0,0,0,0,0,0,0,0,0,0,0,0,0,0,0,0,0,0,0,0,0,0,0,0,0,0,0,0,-1.3858903002983425E-6,-1.4097972780291457E-6,-1.4341158021125011E-6,-1.4588545127480756E-6,-1.4840197763987817E-6,-1.5096188690222334E-6,-1.5356599760707468E-6,-1.6753492673160508E-6,-1.7063434825104196E-6,-1.7379102246195544E-6,-1.77006222656928E-6,-1.8028085833066143E-6,-1.8361602087679785E-6,-1.8701293811318465E-6,-1.9047265595872886E-6,-2.0710431272163987E-6,-2.1119467419339344E-6,-2.1536570784519427E-6,-2.1961914171697572E-6,-2.2395661289920099E-6,-2.2837984943180345E-6,-2.3289030650630593E-6,-2.3748989406158216E-6,-2.5750814529601485E-6,-2.6291581889381632E-6,-2.6843708837986924E-6,-2.740743184403982E-6,-2.7982987376162782E-6,-2.8570620997925289E-6,-2.9170605557737872E-6,-2.978318661917001E-6,-3.0408637030632235E-6,-3.1047211450641043E-6,-3.1699200917501003E-6,-3.236489646951668E-6,-3.3044552765204571E-6,-3.3738488127710298E-6,-3.4447002690285444E-6,-3.5170387491234578E-6,-3.590896085370332E-6,-3.6663050195784308E-6,-3.7432973840623163E-6,-3.821906830125954E-6,-3.9021660995786078E-6,-3.9841115722083487E-6,-4.0677787183085456E-6,-4.1532020986778662E-6,-4.2404190025990829E-6,-4.3294676288496703E-6,-4.4203861762071028E-6,-4.5132146624382585E-6,-4.6079931053100154E-6,-4.7047597035998479E-6,6219.7178816306059,6187.7519654936214,6344.11223915542,6263.6408626241409,6470.9944838261554,6388.9136797618912,6600.4143733855399,-5.5557595367478793E-6,-5.6724304870195845E-6,-5.7915515272469963E-6,-5.9131741093191819E-6,-6.0373507656148849E-6,-6.164135131692798E-6,-6.2935819694583476E-6,-6.4257471908169705E-6,-6.5606878818241276E-6,0,0,0,0,0,0,0,0,0,0,0,0,0,0,0,0,0,0,0,0,0,0,0,0,0,0,0,0,0,0,0,0,0,0,0,0,0,0,0,0,0]
[null,"'166 Less: Shareholder Loan Sweep",null,null,null,null,null,0,"",0,0,0,0,0,0,0,0,0,0,0,0,0,0,0,0,0,0,0,0,0,0,0,0,0,0,0,0,0,0,0,0,0,0,0,0,0,0,0,0,0,0,0,0,0,0,0,0,0,0,0,0,0,0,0,0,0,0,0,0,0,0,0,0,0,0,0,0,0,0,0,0,0,0,0,0,0,0,0,0,0,0,0,0,0,0,0,0,0,0,0,0,0,0,0,0,0,0,0,0,0,0,0,0,0,0,0,0,0,0,0,0,0,0,0,0,0,0,0,0,0,0,0,0,0,0,0,0,0,0,0,0,0,0,0,0,0,0,0,0,0,0,0,0,0,0,0]
[null,"'167 Cash Flow After Shareholder Loan",null,null,null,null,null,"","",0,0,0,0,0,0,0,0,0,0,0,0,0,0,0,0,0,0,0,0,0,0,0,0,0,0,0,0,0,0,0,0,0,0,0,0,0,-1.3858903002983425E-6,-1.4097972780291457E-6,-1.4341158021125011E-6,-1.4588545127480756E-6,-1.4840197763987817E-6,-1.5096188690222334E-6,-1.5356599760707468E-6,-1.6753492673160508E-6,-1.7063434825104196E-6,-1.7379102246195544E-6,-1.77006222656928E-6,-1.8028085833066143E-6,-1.8361602087679785E-6,-1.8701293811318465E-6,-1.9047265595872886E-6,-2.0710431272163987E-6,-2.1119467419339344E-6,-2.1536570784519427E-6,-2.1961914171697572E-6,-2.2395661289920099E-6,-2.2837984943180345E-6,-2.3289030650630593E-6,-2.3748989406158216E-6,-2.5750814529601485E-6,-2.6291581889381632E-6,-2.6843708837986924E-6,-2.740743184403982E-6,-2.7982987376162782E-6,-2.8570620997925289E-6,-2.9170605557737872E-6,-2.978318661917001E-6,-3.0408637030632235E-6,-3.1047211450641043E-6,-3.1699200917501003E-6,-3.236489646951668E-6,-3.3044552765204571E-6,-3.3738488127710298E-6,-3.4447002690285444E-6,-3.5170387491234578E-6,-3.590896085370332E-6,-3.6663050195784308E-6,-3.7432973840623163E-6,-3.821906830125954E-6,-3.9021660995786078E-6,-3.9841115722083487E-6,-4.0677787183085456E-6,-4.1532020986778662E-6,-4.2404190025990829E-6,-4.3294676288496703E-6,-4.4203861762071028E-6,-4.5132146624382585E-6,-4.6079931053100154E-6,-4.7047597035998479E-6,6219.7178816306059,6187.7519654936214,6344.11223915542,6263.6408626241409,6470.9944838261554,6388.9136797618912,6600.4143733855399,-5.5557595367478793E-6,-5.6724304870195845E-6,-5.7915515272469963E-6,-5.9131741093191819E-6,-6.0373507656148849E-6,-6.164135131692798E-6,-6.2935819694583476E-6,-6.4257471908169705E-6,-6.5606878818241276E-6,0,0,0,0,0,0,0,0,0,0,0,0,0,0,0,0,0,0,0,0,0,0,0,0,0,0,0,0,0,0,0,0,0,0,0,0,0,0,0,0,0]
[null,"'168 Plus: Proceeds from Re-financing",null,null,null,null,null,"","",0,0,0,0,0,0,0,0,0,0,0,0,0,0,0,0,0,0,0,0,0,0,0,0,0,0,0,0,0,0,0,0,0,0,0,0,0,0,0,0,0,0,0,0,0,0,0,0,0,0,0,0,0,0,0,0,0,0,0,0,0,0,0,0,0,0,0,0,0,0,0,0,0,0,0,0,0,0,0,0,0,0,0,0,0,0,0,0,0,0,0,0,0,0,0,0,0,0,0,0,0,0,0,0,0,0,0,0,0,0,0,0,0,0,0,0,0,0,0,0,0,0,0,0,0,0,0,0,0,0,0,0,0,0,0,0,0,0,0,0,0,0,0,0,0,0,0]
[null,"'169 Less: Re-financing Fees",null,null,null,null,null,"","",0,0,0,0,0,0,0,0,0,0,0,0,0,0,0,0,0,0,0,0,0,0,0,0,0,0,0,0,0,0,0,0,0,0,0,0,0,0,0,0,0,0,0,0,0,0,0,0,0,0,0,0,0,0,0,0,0,0,0,0,0,0,0,0,0,0,0,0,0,0,0,0,0,0,0,0,0,0,0,0,0,0,0,0,0,0,0,0,0,0,0,0,0,0,0,0,0,0,0,0,0,0,0,0,0,0,0,0,0,0,0,0,0,0,0,0,0,0,0,0,0,0,0,0,0,0,0,0,0,0,0,0,0,0,0,0,0,0,0,0,0,0,0,0,0,0,0]
[null,"'170 Less: Early Repayment of Existing Debt",null,null,null,null,null,"","",0,0,0,0,0,0,0,0,0,0,0,0,0,0,0,0,0,0,0,0,0,0,0,0,0,0,0,0,0,0,0,0,0,0,0,0,0,0,0,0,0,0,0,0,0,0,0,0,0,0,0,0,0,0,0,0,0,0,0,0,0,0,0,0,0,0,0,0,0,0,0,0,0,0,0,0,0,0,0,0,0,0,0,0,0,0,0,0,0,0,0,0,0,0,0,0,0,0,0,0,0,0,0,0,0,0,0,0,0,0,0,0,0,0,0,0,0,0,0,0,0,0,0,0,0,0,0,0,0,0,0,0,0,0,0,0,0,0,0,0,0,0,0,0,0,0,0]
[null,"'171 Common Dividends",null,null,null,null,null,"","",0,0,0,0,0,0,0,0,0,0,0,0,0,0,0,0,0,0,0,0,0,0,0,0,0,0,0,0,0,0,0,0,0,0,0,0,-3597.675931108392,-119.09864505817177,47.145123518841501,-121.48061798193839,48.08802596622445,-123.91023036496563,19.873895217428981,-97.212544422665815,50.030782029198235,-128.91620386330305,51.03139763754416,-131.49452797340609,52.052025556852186,-134.12441856693385,21.512143053777436,-105.2259847705127,54.15492715720211,-139.54304531637354,55.238025654333796,-142.33390626962137,56.342786119571429,-145.18058444380677,23.285435116690678,-113.89999041583269,58.61903438603531,-151.04588035750749,59.791415008780859,-154.06679803099814,60.987243241219403,-157.14813406077428,25.204903365773134,-123.28901214441248,63.45112772254015,-163.49691882550906,64.72015020026538,-166.76685728036136,66.014553124284248,-170.10219450763179,27.282597669901406,-133.45199204942764,68.681540898540334,-176.97432334131645,70.055171625905132,-180.51380990065445,71.456274963969918,-184.12408619510097,29.531560744933813,-144.45272839968038,74.34310826944602,-191.56269948472163,75.829970327837145,-195.39395358365618,77.346569622854076,6020.4160536649561,6219.717881033087,6187.7519648835541,6344.1122385325416,6263.6408619881822,6470.9944831768416,6388.9136790989414,6600.4143727086685,-6.2468451525502948E-6,-6.3780289007538474E-6,-6.5119675076696707E-6,-6.6487188253307422E-6,-6.7883419206626825E-6,-6.9308971009965919E-6,-7.0764459401175367E-6,-7.2250513048599909E-6,3.2300716900934381E-5,0,0,0,0,0,0,0,0,0,0,0,0,0,0,0,0,0,0,0,0,0,0,0,0,0,0,0,0,0,0,0,0,0,0,0,0,0,0,0,0,0]
[".","'172 Balance Sheet Section",null,null,null,null,null,"","","","","","","","","","","","","","","","","","","","","","","","","","","","","","","","","","","","","","","Operation","Operation","Operation","Operation","Operation","Operation","Operation","Operation","Operation","Operation","Operation","Operation","Operation","Operation","Operation","Operation","Operation","Operation","Operation","Operation","Operation","Operation","Operation","Operation","Operation","Operation","Operation","Operation","Operation","Operation","Operation","Operation","Operation","Operation","Operation","Operation","Operation","Operation","Operation","Operation","Operation","Operation","Operation","Operation","Operation","Operation","Operation","Operation","Operation","Operation","Operation","Operation","Operation","Operation","Operation","Operation","Operation","Operation","Operation","Operation","Operation","Operation","Operation","Operation","Operation","Operation","Operation","Operation","Operation","Operation",0,0,0,0,0,0,0,0,0,0,0,0,0,0,0,0,0,0,0,0,0,0,0,0,0,0,0,0,0,0,0,0,0,0,0,0,0,0,0,0,0]
[null,"'173 Net Equity Paid In Capital",null,null,null,null,null,"","",40902.114503533317,41568.405001167448,42336.526310518908,43212.097382174747,44198.736100992865,45297.646216746558,46507.276467848067,47823.082738979036,49237.419688786198,50739.581033957547,52315.998031277639,53950.59442562711,55625.284242114714,57320.58744573607,59016.328826811274,60692.378510468334,62329.388980063188,63909.483827543954,65416.857561546545,66838.253267931737,68163.294926724557,69384.662695394756,70498.111308319334,71502.342781729472,72398.753877702547,73191.085556670179,73885.005544712694,74487.656105747446,75007.197393307826,75452.372858635921,75832.117763943679,76155.225605810934,76430.080880079928,76664.460703171993,76865.402784982842,77039.133395617158,77039.133395617158,77039.133395617158,77039.133395617158,77039.133395617158,77039.133395617158,77039.133395617158,77039.133395617158,77039.133395617158,77039.133395617158,77039.133395617158,77039.133395617158,77039.133395617158,77039.133395617158,77039.133395617158,77039.133395617158,77039.133395617158,77039.133395617158,77039.133395617158,77039.133395617158,77039.133395617158,77039.133395617158,77039.133395617158,77039.133395617158,77039.133395617158,77039.133395617158,77039.133395617158,77039.133395617158,77039.133395617158,77039.133395617158,77039.133395617158,77039.133395617158,77039.133395617158,77039.133395617158,77039.133395617158,77039.133395617158,77039.133395617158,77039.133395617158,77039.133395617158,77039.133395617158,77039.133395617158,77039.133395617158,77039.133395617158,77039.133395617158,77039.133395617158,77039.133395617158,77039.133395617158,77039.133395617158,77039.133395617158,77039.133395617158,77039.133395617158,77039.133395617158,77039.133395617158,77039.133395617158,77039.133395617158,77039.133395617158,77039.133395617158,77039.133395617158,77039.133395617158,77039.133395617158,77039.133395617158,77039.133395617158,77039.133395617158,77039.133395617158,77039.133395617158,77039.133395617158,77039.133395617158,77039.133395617158,77039.133395617158,77039.133395617158,77039.133395617158,0,0,0,0,0,0,0,0,0,0,0,0,0,0,0,0,0,0,0,0,0,0,0,0,0,0,0,0,0,0,0,0,0,0,0,0,0,0,0,0,0]
[null,"'174 Retained Earnings",null,null,null,null,null,"","",0,0,0,0,0,0,0,0,0,0,0,0,0,0,0,0,0,0,0,0,0,0,0,0,0,0,0,0,0,0,0,0,0,0,0,0,-2183.9445492718392,-4292.9596970386356,-6431.9912134495335,-8430.0634343812599,-10457.222250002656,-12339.04608866009,-14219.779017532775,-15979.835502648748,-17944.637261308388,-19756.356005229783,-21595.417819414524,-23276.473594458792,-24983.523501828222,-26527.47637764307,-28064.395752693585,-29464.534103039045,-31050.378305499486,-32463.313895869491,-33898.532535033031,-35155.055455174748,-36431.932153936148,-37524.117383255361,-38600.409592789438,-39519.982266029154,-40599.058766577546,-41480.876207705536,-42376.532407802006,-43068.032184624906,-43770.633317094922,-44261.917421576654,-44724.380720898305,-45005.09464892283,-45290.100981014533,-45348.620268243903,-45408.87926074391,-45234.634926468381,-45058.605333191612,-44639.7478333006,-44175.306284712256,-43499.443752128551,-42813.229354298994,-41866.5450337047,-40906.109190168667,-39675.876440874796,-38427.413084367261,-36899.464545043586,-35305.184468681138,-33464.708835365833,-31595.317045238866,-29425.901338781041,-27223.137905624935,-24709.48727363455,-22156.857037347392,-25501.770558234566,-28722.85573707462,-31943.940915922616,-35165.026094778717,-38386.111273643095,-41607.196452515935,-44828.281631397396,-48049.366810287669,-51270.451989186942,-54491.537168095398,-57712.622347013232,-60933.707525940641,-64154.792704877822,-67375.877883824985,-70596.963062782335,-73818.04824175009,-77039.133460405967,0,0,0,0,0,0,0,0,0,0,0,0,0,0,0,0,0,0,0,0,0,0,0,0,0,0,0,0,0,0,0,0,0,0,0,0,0,0,0,0,0]
[null,"'175 Shareholder Loan Balance",null,null,null,null,null,"","",0,0,0,0,0,0,0,0,0,0,0,0,0,0,0,0,0,0,0,0,0,0,0,0,0,0,0,0,0,0,0,0,0,0,0,0,0,0,0,0,0,0,0,0,0,0,0,0,0,0,0,0,0,0,0,0,0,0,0,0,0,0,0,0,0,0,0,0,0,0,0,0,0,0,0,0,0,0,0,0,0,0,0,0,0,0,0,0,0,0,0,0,0,0,0,0,0,0,0,0,0,0,0,0,0,0,0,0,0,0,0,0,0,0,0,0,0,0,0,0,0,0,0,0,0,0,0,0,0,0,0,0,0,0,0,0,0,0,0,0,0,0,0,0,0,0,0]
[null,"'176 Equity Bridge Loan Balance",null,null,null,null,null,false,"",0,0,0,0,0,0,0,0,0,0,0,0,0,0,0,0,0,0,0,0,0,0,0,0,0,0,0,0,0,0,0,0,0,0,0,0,0,0,0,0,0,0,0,0,0,0,0,0,0,0,0,0,0,0,0,0,0,0,0,0,0,0,0,0,0,0,0,0,0,0,0,0,0,0,0,0,0,0,0,0,0,0,0,0,0,0,0,0,0,0,0,0,0,0,0,0,0,0,0,0,0,0,0,0,0,0,0,0,0,0,0,0,0,0,0,0,0,0,0,0,0,0,0,0,0,0,0,0,0,0,0,0,0,0,0,0,0,0,0,0,0,0,0,0,0,0,0]
[null,"'177 Mezzanine Debt Balance",null,null,null,null,null,"","",0,0,0,0,0,0,0,0,0,0,0,0,0,0,0,0,0,0,0,0,0,0,0,0,0,0,0,0,0,0,0,0,0,0,0,0,0,0,0,0,0,0,0,0,0,0,0,0,0,0,0,0,0,0,0,0,0,0,0,0,0,0,0,0,0,0,0,0,0,0,0,0,0,0,0,0,0,0,0,0,0,0,0,0,0,0,0,0,0,0,0,0,0,0,0,0,0,0,0,0,0,0,0,0,0,0,0,0,0,0,0,0,0,0,0,0,0,0,0,0,0,0,0,0,0,0,0,0,0,0,0,0,0,0,0,0,0,0,0,0,0,0,0,0,0,0,0]
[null,"'178 Senior Debt Balance",null,null,null,null,null,"","",0,0,0,0,0,0,0,0,0,0,0,0,0,0,0,0,0,0,0,0,0,0,0,0,0,0,0,0,0,0,0,0,0,0,0,0,150997.36439863362,150004.39301161081,148875.19422463118,147773.66188364883,146531.64749338327,145316.29638245975,143956.07023614351,142592.2540856846,141285.9398821778,140005.48964979427,138572.43488614165,137163.90000892736,135597.81271047523,134054.80482455896,132349.12687622369,130633.40603097304,128944.01012574334,127275.40358085588,125434.29901374954,123612.07065950279,121611.51939144316,119627.80002446049,117459.72161808707,115272.10910090583,113071.48138603121,110883.25952642567,108498.03913036709,106122.52052401836,103543.04923198697,100970.39628921052,98186.569503787439,95369.487262516166,92369.957285382581,89370.888309870847,86145.341970538779,82916.779311845225,79453.649983677824,75983.809496458693,72271.00016829386,68507.504445780651,64531.523324999769,60540.728145618596,56289.151948251463,52018.347826574456,47477.343012738893,42912.433377164314,38067.536557527266,33150.428469996543,27985.608388897821,22786.670199133358,17286.991612767135,11747.649751385299,5896.5877624054056,4.6460974772344343E-5,4.7436655242563574E-5,4.843282500265741E-5,4.9449914327713213E-5,5.0488362528595192E-5,5.1548618141695689E-5,5.2631139122671301E-5,5.3736393044247399E-5,5.4864857298176597E-5,5.6017019301438305E-5,5.7193376706768507E-5,5.8394437617610644E-5,5.9620720807580468E-5,6.0872755944539654E-5,6.2151083819374993E-5,6.3456256579581864E-5,6.4788837967753079E-5,0,0,0,0,0,0,0,0,0,0,0,0,0,0,0,0,0,0,0,0,0,0,0,0,0,0,0,0,0,0,0,0,0,0,0,0,0,0,0,0,0]
[null,"'179 Total Debt",null,null,null,null,null,"","",9181.2518486696645,11748.831321462238,14708.820265480634,18082.871551712851,21884.926857143691,26119.624883989862,30780.987778111808,35851.504593076235,41301.713672758131,47090.357887784034,53165.149494782927,59464.13794397271,65917.628142837129,72450.552927454162,78985.166247990637,85443.896754271467,91752.187947651793,97841.152310564605,103649.88269315971,109127.29299900203,114233.39878288147,118939.99271257395,123230.71547197213,127100.5652240504,130554.92445235125,133608.2091109466,136282.26002931336,138604.6002327507,140606.67522855775,142322.17828717706,143785.54183098345,145030.6519823097,146089.81876132009,146993.01162510787,147767.35069549302,148436.82917569438,150997.36439863362,150004.39301161081,148875.19422463118,147773.66188364883,146531.64749338327,145316.29638245975,143956.07023614351,142592.2540856846,141285.9398821778,140005.48964979427,138572.43488614165,137163.90000892736,135597.81271047523,134054.80482455896,132349.12687622369,130633.40603097304,128944.01012574334,127275.40358085588,125434.29901374954,123612.07065950279,121611.51939144316,119627.80002446049,117459.72161808707,115272.10910090583,113071.48138603121,110883.25952642567,108498.03913036709,106122.52052401836,103543.04923198697,100970.39628921052,98186.569503787439,95369.487262516166,92369.957285382581,89370.888309870847,86145.341970538779,82916.779311845225,79453.649983677824,75983.809496458693,72271.00016829386,68507.504445780651,64531.523324999769,60540.728145618596,56289.151948251463,52018.347826574456,47477.343012738893,42912.433377164314,38067.536557527266,33150.428469996543,27985.608388897821,22786.670199133358,17286.991612767135,11747.649751385299,5896.5877624054056,4.6460974772344343E-5,4.7436655242563574E-5,4.843282500265741E-5,4.9449914327713213E-5,5.0488362528595192E-5,5.1548618141695689E-5,5.2631139122671301E-5,5.3736393044247399E-5,5.4864857298176597E-5,5.6017019301438305E-5,5.7193376706768507E-5,5.8394437617610644E-5,5.9620720807580468E-5,6.0872755944539654E-5,6.2151083819374993E-5,6.3456256579581864E-5,6.4788837967753079E-5,0,0,0,0,0,0,0,0,0,0,0,0,0,0,0,0,0,0,0,0,0,0,0,0,0,0,0,0,0,0,0,0,0,0,0,0,0,0,0,0,0]
[null,"'180 Total Capitalisation",null,null,null,null,null,"","",50083.366352202982,53317.236322629687,57045.346575999545,61294.968933887598,66083.662958136556,71417.271100736427,77288.264245959872,83674.587332055264,90539.133361544329,97829.938921741588,105481.14752606057,113414.73236959982,121542.91238495184,129771.14037319022,138001.4950748019,146136.27526473982,154081.57692771498,161750.63613810856,169066.74025470627,175965.54626693379,182396.69370960601,188324.6554079687,193728.82678029145,198602.90800577987,202953.67833005381,206799.29466761678,210167.26557402604,213092.25633849815,215613.87262186559,217774.55114581296,219617.65959492713,221185.87758812064,222519.89964140003,223657.47232827987,224632.75348047586,225475.96257131154,225852.55324497895,222750.56671018933,219482.3364067988,216382.73184488472,213113.55863899775,210016.38368941683,206775.4246142279,203651.55197865301,200380.43601648658,197288.26704018164,194016.15046234429,190926.55981008572,187653.42260426417,184566.46184253306,181323.86451914726,178208.00532355116,174932.76521586103,171851.22308060358,168574.89987433367,165496.14859994518,162218.72063312415,159142.8160368223,155898.4454209148,152791.26023049385,149511.55601507085,146441.51671433728,143160.64011818223,140093.62173501062,136811.54931050917,133747.61226325101,130501.32217850629,127403.5260092105,124118.98969998521,121061.4014372441,117775.59610541203,114721.277780994,111434.17804610336,108383.19505877527,105134.82727919877,102047.19408926927,98757.427366317919,95713.316507531068,92422.176153699955,89381.604781316826,86089.063323988783,83052.102227737894,79801.485484463279,76724.853030247876,73429.424739276117,70399.902255969471,67102.987102759362,64077.295873367904,60778.864120675178,51537.362883843569,48316.277705979192,45095.192528127358,41874.107350288352,38653.022172462428,35431.936994649841,32210.851816850896,28989.766639065885,25768.681461295069,22547.596283538776,19326.511105797304,16105.425928070952,12884.340750360061,9663.2555726649298,6442.1703949859075,3221.0852173233288,2.9103830456733704E-11,0,0,0,0,0,0,0,0,0,0,0,0,0,0,0,0,0,0,0,0,0,0,0,0,0,0,0,0,0,0,0,0,0,0,0,0,0,0,0,0,0]
[null,"'181 DSRA Balance",null,null,null,null,null,"","",0,0,0,0,0,0,0,0,0,0,0,0,0,0,0,0,0,0,0,0,0,0,0,0,0,0,0,0,0,0,0,0,0,0,0,0,3597.6759242851354,3716.7745678397164,3669.6294427913454,3791.1100592173711,3743.0220316683944,3866.9322604233053,3847.0583635680487,3944.270905767311,3894.2401219101689,4023.1563239117095,3972.124924377963,4103.6194504200857,4051.5674228962198,4185.6918394597524,4164.179694365509,4269.4056764124589,4215.2507469828342,4354.7937899819017,4299.5557619644951,4441.8896658243757,4385.5468772474705,4530.7274591854093,4507.4420215133614,4621.3420085687194,4562.7229713413635,4713.7688487978821,4653.9774308271917,4808.044225834079,4747.0569795052415,4904.2051104135589,4879.0002038291268,5002.2892126872912,4938.8380816094887,5102.3349970092768,5037.6148433113522,5204.3816970205999,5138.3671402502096,5308.4693310351686,5281.1867295644161,5414.6387177331744,5345.9571728724723,5522.9314921684208,5452.8763164121965,5633.3901220957932,5561.933842826209,5746.0579246252782,5716.5263593919954,5860.9790832090694,5786.6359702607842,5978.1986649684095,5902.3686897631596,6097.7626383669776,6020.4160636597044,4.8035602885647668E-6,4.904435054624627E-6,5.0074281907717441E-6,5.1125841827779502E-6,5.2199484506162868E-6,5.3295673680792297E-6,5.4414882828088927E-6,5.5557595367478793E-6,5.6724304870195845E-6,5.7915515272469963E-6,5.9131741093191819E-6,6.0373507656148849E-6,6.164135131692798E-6,6.2935819694583476E-6,6.4257471908169705E-6,6.5606878818241276E-6,0,0,0,0,0,0,0,0,0,0,0,0,0,0,0,0,0,0,0,0,0,0,0,0,0,0,0,0,0,0,0,0,0,0,0,0,0,0,0,0,0,0]
[null,"'182 MRA Balance",null,null,null,null,null,"","",0,0,0,0,0,0,0,0,0,0,0,0,0,0,0,0,0,0,0,0,0,0,0,0,0,0,0,0,0,0,0,0,0,0,0,0,0,0,0,0,0,0,0,0,0,0,0,0,0,0,0,0,0,0,0,0,0,0,0,0,0,0,0,0,0,0,0,0,0,0,0,0,0,0,0,0,0,0,0,0,0,0,0,0,0,0,0,0,0,0,0,0,0,0,0,0,0,0,0,0,0,0,0,0,0,0,0,0,0,0,0,0,0,0,0,0,0,0,0,0,0,0,0,0,0,0,0,0,0,0,0,0,0,0,0,0,0,0,0,0,0,0,0,0,0,0,0]
[null,"'183 Gross Plant Balance",null,null,null,null,null,"","",47733.116526980739,50826.456843974389,54409.330214752466,58508.289043519224,63140.13377781889,68309.922195604842,74009.332002829135,80215.525918822445,86890.646830594414,93982.035222987513,101423.21414501726,109135.63218825014,117031.09725775693,125014.77890142755,132988.61022969993,140854.88692190265,148519.84408126344,155896.99358759241,162910.02489888397,169495.10876687738,175602.49214654104,181197.32858808653,186259.74594818804,190784.20683653155,194778.26209924862,198260.83038346501,201260.15554810871,203811.59814424449,205955.40863567215,207734.61089694613,209193.09799452702,210374.01180309369,211318.44696986183,212064.49096451903,212646.58757095016,213095.19249442563,213095.19249442563,213095.19249442563,213095.19249442563,213095.19249442563,213095.19249442563,213095.19249442563,213095.19249442563,213095.19249442563,213095.19249442563,213095.19249442563,213095.19249442563,213095.19249442563,213095.19249442563,213095.19249442563,213095.19249442563,213095.19249442563,213095.19249442563,213095.19249442563,213095.19249442563,213095.19249442563,213095.19249442563,213095.19249442563,213095.19249442563,213095.19249442563,213095.19249442563,213095.19249442563,213095.19249442563,213095.19249442563,213095.19249442563,213095.19249442563,213095.19249442563,213095.19249442563,213095.19249442563,213095.19249442563,213095.19249442563,213095.19249442563,213095.19249442563,213095.19249442563,213095.19249442563,213095.19249442563,213095.19249442563,213095.19249442563,213095.19249442563,213095.19249442563,213095.19249442563,213095.19249442563,213095.19249442563,213095.19249442563,213095.19249442563,213095.19249442563,213095.19249442563,213095.19249442563,213095.19249442563,213095.19249442563,213095.19249442563,213095.19249442563,213095.19249442563,213095.19249442563,213095.19249442563,213095.19249442563,213095.19249442563,213095.19249442563,213095.19249442563,213095.19249442563,213095.19249442563,213095.19249442563,213095.19249442563,213095.19249442563,213095.19249442563,213095.19249442563,0,0,0,0,0,0,0,0,0,0,0,0,0,0,0,0,0,0,0,0,0,0,0,0,0,0,0,0,0,0,0,0,0,0,0,0,0,0,0,0,0]
[null,"'184 Accumulated Depreciation",null,null,null,null,null,"","",0,0,0,0,0,0,0,0,0,0,0,0,0,0,0,0,0,0,0,0,0,0,0,0,0,0,0,0,0,0,0,0,0,0,0,0,-2400.0000000000009,-4800.0000000000018,-7200.0000000000027,-9600.0000000000036,-12000.000000000004,-14400.000000000004,-16800.000000000004,-19200.000000000004,-21600.000000000004,-24000.000000000004,-26400.000000000004,-28800.000000000004,-31200.000000000004,-33600.000000000007,-36000.000000000007,-38400.000000000007,-40800.000000000007,-43200.000000000007,-45600.000000000007,-48000.000000000007,-50400.000000000007,-52800.000000000007,-55200.000000000007,-57600.000000000007,-60000.000000000007,-62400.000000000007,-64800.000000000007,-67200.000000000015,-69600.000000000015,-72000.000000000015,-74400.000000000015,-76800.000000000015,-79200.000000000015,-81600.000000000015,-84000.000000000015,-86400.000000000015,-88800.000000000015,-91200.000000000015,-93600.000000000015,-96000.000000000015,-98400.000000000015,-100800.00000000001,-103200.00000000001,-105600.00000000001,-108000.00000000001,-110400.00000000001,-112800.00000000001,-115200.00000000001,-117600.00000000001,-120000.00000000001,-122400.00000000001,-124800.00000000001,-127200.00000000001,-129600.00000000001,-132000.00000000003,-134400.00000000003,-136800.00000000003,-139200.00000000003,-141600.00000000003,-144000.00000000003,-146400.00000000003,-148800.00000000003,-151200.00000000003,-153600.00000000003,-156000.00000000003,-158400.00000000003,-160800.00000000003,-163200.00000000003,-165600.00000000003,-168000.00000000003,0,0,0,0,0,0,0,0,0,0,0,0,0,0,0,0,0,0,0,0,0,0,0,0,0,0,0,0,0,0,0,0,0,0,0,0,0,0,0,0,0]
[null,"'185 Net IDC Balance",null,null,null,null,null,"","",0,24.483338179266035,55.813554950332048,95.037075569461948,143.25806628220198,201.61787113937876,271.27020406439237,353.35283803627522,448.95685017691864,559.0947531919054,684.66904077519018,826.44277263844947,985.01380702732627,1160.7941486074799,1353.995622940841,1564.6227327898519,1792.4731239832201,2037.1456250199981,2298.0553643524513,2574.4550513666304,2865.4611658581366,3170.083562435379,3487.2568761541929,3815.8721172274759,4154.8069576360613,4502.9534226502255,4859.2419800844254,5222.6613399650369,5592.2736070525443,5967.2247407935383,6346.7505493557592,6730.1786606999176,7116.9270657795851,7506.4999156020758,7898.4812797269278,8292.527548038508,7529.8458331461643,6767.1641182538206,6004.4824033614768,5241.8006884691331,4479.1189735767894,3716.4372586844452,2953.755543792101,2191.0738288997568,1428.3921140074126,665.71039911506841,-96.971315777275777,-859.65303066961997,-1622.3347455619642,-2385.0164604543083,-3147.6981753466525,-3910.3798902389967,-4673.0616051313409,-5435.7433200236846,-6198.4250349160284,-6961.1067498083721,-7723.7884647007158,-8486.4701795930596,-9249.1518944854033,-10011.833609377747,-10774.515324270091,-11537.197039162435,-12299.878754054778,-13062.560468947122,-13825.242183839466,-14587.923898731809,-15350.605613624153,-16113.287328516497,-16875.969043408841,-17638.650758301184,-18401.332473193528,-19164.014188085872,-19926.695902978216,-20689.377617870559,-21452.059332762903,-22214.741047655247,-22977.422762547591,-23740.104477439934,-24502.786192332278,-25265.467907224622,-26028.149622116965,-26790.831337009309,-27553.513051901653,-28316.194766793997,-29078.87648168634,-29841.558196578684,-30604.239911471028,-31366.921626363372,-32129.603341255715,-32892.285056148059,-33654.966771040403,-34417.648485932747,-35180.33020082509,-35943.011915717434,-36705.693630609778,-37468.375345502121,-38231.057060394465,-38993.738775286809,-39756.420490179153,-40519.102205071496,-41281.78391996384,-42044.465634856184,-42807.147349748528,-43569.829064640871,-44332.510779533215,-45095.192494425559,0,0,0,0,0,0,0,0,0,0,0,0,0,0,0,0,0,0,0,0,0,0,0,0,0,0,0,0,0,0,0,0,0,0,0,0,0,0,0,0,0]
[null,"'186 Net Fee Balance",null,null,null,null,null,"","",2350.249793777331,2466.2961081635385,2580.2027729898082,2691.6427803635579,2800.2710783330544,2905.7309968824147,3007.6620004105757,3105.7085348615901,3199.5296386348668,3288.8089015099113,3373.2642942073626,3452.657360567322,3526.8012698880261,3595.5672707114563,3658.8891675495088,3716.7655532889207,3769.2596636082212,3816.4968646014559,3858.6599286272922,3895.9823840025892,3928.7403307912214,3957.2431894280612,3981.8238864581599,4002.8289811899872,4020.6092011295323,4035.5107883798337,4047.8679717488744,4057.9967793534115,4066.1903034557931,4072.7154317289605,4077.8109741204944,4081.6870468926727,4084.5255278725044,4086.4813698702042,4087.6845511484162,4088.2424498682753,4029.8389862987287,3971.4355227291821,3913.0320591596355,3854.6285955900889,3796.2251320205423,3737.8216684509957,3679.4182048814491,3621.0147413119025,3562.6112777423559,3504.2078141728093,3445.8043506032627,3387.4008870337161,3328.9974234641695,3270.5939598946229,3212.1904963250763,3153.7870327555297,3095.3835691859831,3036.9801056164365,2978.5766420468899,2920.1731784773433,2861.7697149077967,2803.3662513382501,2744.9627877687035,2686.5593241991569,2628.1558606296103,2569.7523970600637,2511.3489334905171,2452.9454699209705,2394.5420063514239,2336.1385427818773,2277.7350792123307,2219.3316156427841,2160.9281520732375,2102.5246885036909,2044.121224934144,1985.7177613645972,1927.3142977950504,1868.9108342255035,1810.5073706559567,1752.1039070864099,1693.7004435168631,1635.2969799473162,1576.8935163777694,1518.4900528082226,1460.0865892386757,1401.6831256691289,1343.2796620995821,1284.8761985300353,1226.4727349604884,1168.0692713909416,1109.6658078213948,1051.2623442518479,992.85888068230111,934.45541711275428,876.05195354320745,817.64848997366062,759.24502640411379,700.84156283456696,642.43809926502013,584.0346356954733,525.63117212592647,467.22770855637964,408.82424498683281,350.42078141728598,292.01731784773915,233.61385427819235,175.21039070864555,116.80692713909875,58.403463569551938,5.1301185521879233E-12,0,0,0,0,0,0,0,0,0,0,0,0,0,0,0,0,0,0,0,0,0,0,0,0,0,0,0,0,0,0,0,0,0,0,0,0,0,0,0,0,0]
[null,"'187 Total Net Assets",null,null,null,null,null,"","",50083.366320758068,53317.236290317196,57045.346542692605,61294.968899452244,66083.662922434145,71417.271063626642,77288.264207304106,83674.587291720309,90539.133319406203,97829.938877689332,105481.14747999981,113414.7323214559,121542.91233467229,129771.14032074649,138001.49502019028,146136.27520798144,154081.57686885487,161750.63607721386,169066.7401918637,175965.54620224659,182396.6936431904,188324.65533994997,193728.82671080038,198602.90793494901,202953.6782580142,206799.29459449506,210167.265499942,213092.25626356294,215613.8725461805,217774.55106946864,219617.65951800329,221185.87751068629,222519.89956351393,223657.47224999132,224632.7534018255,225475.96249233242,225852.55323815567,222750.56670324836,219482.33639973807,216382.73183770222,213113.55863169135,210016.38368198439,206775.42460666722,203651.5519704046,200380.43600808555,197288.2670316252,194016.15045362958,190926.55980120981,187653.42259522405,184566.46183332571,181323.86450976957,178208.0053133546,174932.7652054631,171851.22307000027,168574.89986352099,165496.14858891896,162218.72062188014,159142.81602535624,155898.44540922227,152791.26021781575,149511.55600212651,146441.51670112115,143160.64010468856,140093.62172123353,136811.5492964428,133747.61224888923,130501.32216384292,127403.5259942392,124118.9896846995,121061.40142163741,117775.59608947759,114721.27776472493,111434.17802949266,108383.19504181574,105134.8272618831,102047.19407158995,98757.42734826736,95713.316489101431,92422.176134883295,89381.604762105009,86089.063304373543,83052.102207710719,79801.485464015554,76724.853009370738,73429.424717960545,70399.902234206282,67102.98708053914,64077.295850681076,60778.86409751192,51537.362860193854,48316.277681832842,45095.192503473954,41874.107325117191,38653.022146762698,35431.936968410402,32210.851790060438,28989.766611712825,25768.681433367608,22547.596255024844,19326.51107668455,16105.42589834687,12884.340720011738,9663.2555416792984,6442.1703633495781,3221.0851850226322,5.8207660913467407E-11,0,0,0,0,0,0,0,0,0,0,0,0,0,0,0,0,0,0,0,0,0,0,0,0,0,0,0,0,0,0,0,0,0,0,0,0,0,0,0,0,0]
[".","'188 Cash Flow Analysis Section",null,null,null,null,null,"","","","","","","","","","","","","","","","","","","","","","","","","","","","","","","","","","","","","","","Operation","Operation","Operation","Operation","Operation","Operation","Operation","Operation","Operation","Operation","Operation","Operation","Operation","Operation","Operation","Operation","Operation","Operation","Operation","Operation","Operation","Operation","Operation","Operation","Operation","Operation","Operation","Operation","Operation","Operation","Operation","Operation","Operation","Operation","Operation","Operation","Operation","Operation","Operation","Operation","Operation","Operation","Operation","Operation","Operation","Operation","Operation","Operation","Operation","Operation","Operation","Operation","Operation","Operation","Operation","Operation","Operation","Operation","Operation","Operation","Operation","Operation","Operation","Operation","Operation","Operation","Operation","Operation","Operation","Operation",0,0,0,0,0,0,0,0,0,0,0,0,0,0,0,0,0,0,0,0,0,0,0,0,0,0,0,0,0,0,0,0,0,0,0,0,0,0,0,0,0]
[null,"'189 Pre tax cash flow",null,null,null,null,null,"","",-2637.9240325551682,-3093.3403169936519,-3582.8733707780793,-4098.9588287667539,-4631.8447342996697,-5169.7884177859505,-5699.4098072242987,-6206.1939159933036,-6675.1209117719745,-7091.3883923931016,-7441.1789220297569,-7712.4180432328667,-7895.4650695067921,-7983.6816436706113,-7973.8313282723811,-7866.276692202724,-7664.9571593607852,-7377.1495063289867,-7013.031311291561,-6585.0838679934041,-6107.3833796636472,-5594.8364415454753,-5062.4173601015045,-4524.4608883435185,-3994.0552627170587,-3482.5682842163874,-2999.3251646437052,-2551.4425961357783,-2143.8104914276701,-1779.2022612739834,-1458.4870975808756,-1180.9138085666771,-944.43516676814841,-746.04399465720212,-582.09660643111908,-448.60492347546119,0,3597.6759228992451,3716.7745664299191,3669.6294413572296,3791.1100577585166,3743.0220301843747,3866.9322589136864,3847.0583620323887,3944.2709040919617,3894.2401202038254,4023.1563221737993,3972.1249226079008,4103.6194486172772,4051.5674210600596,4185.691837589623,4164.1796924607825,4269.4056743414158,4215.2507448708875,4354.7937878282446,4299.5557597683037,4441.8896635848096,4385.5468749636721,4530.7274568565063,4507.4420191384625,4621.3420059936379,4562.7229687122053,4713.7688461135112,4653.9774280864485,4808.0442230357803,4747.0569766481794,4904.2051074964984,4879.0002008508081,5002.2892096464275,4938.8380785047675,5102.3349938393567,5037.6148400748625,5204.3816937161446,5138.3671368763607,5308.4693275904683,5281.1867260473773,5414.6387141422783,5345.9571692061672,5522.9314884251235,5452.8763125902897,5633.3901181936271,5561.9338388420974,5746.0579205574995,5716.5263552387933,5860.9790789686504,5786.6359659313166,5978.1986605480233,5902.368685249945,6097.7626337589845,6020.4160589549447,6219.7178864341658,6187.7519703980561,6344.1122441628486,6263.6408677367253,6470.9944890461038,6388.9136850914583,6600.4143788270285,0,0,0,0,0,0,0,0,0,0,0,0,0,0,0,0,0,0,0,0,0,0,0,0,0,0,0,0,0,0,0,0,0,0,0,0,0,0,0,0,0,0,0,0,0,0,0,0,0,0]
[null,"'190 After tax cash flow",null,null,null,null,null,"","",-2637.9240325551682,-3093.3403169936519,-3582.8733707780793,-4098.9588287667539,-4631.8447342996697,-5169.7884177859505,-5699.4098072242987,-6206.1939159933036,-6675.1209117719745,-7091.3883923931016,-7441.1789220297569,-7712.4180432328667,-7895.4650695067921,-7983.6816436706113,-7973.8313282723811,-7866.276692202724,-7664.9571593607852,-7377.1495063289867,-7013.031311291561,-6585.0838679934041,-6107.3833796636472,-5594.8364415454753,-5062.4173601015045,-4524.4608883435185,-3994.0552627170587,-3482.5682842163874,-2999.3251646437052,-2551.4425961357783,-2143.8104914276701,-1779.2022612739834,-1458.4870975808756,-1180.9138085666771,-944.43516676814841,-746.04399465720212,-582.09660643111908,-448.60492347546119,504.00000000000017,3346.1639790904037,3440.2519074796364,3403.0072586722117,3498.9769456292283,3460.9874038456564,3558.8764845418123,3543.1761060055874,3619.97401423265,3580.4496949610225,3682.2934945173015,3641.9786888602416,3745.8593644076491,3704.7382626374474,3810.6965516958026,3793.7019570440184,3876.8304827297188,3834.0480884480012,3944.2870923843134,3900.6490502169599,4013.0928342319999,3968.5820312213009,4083.2746909166403,4064.8791951193857,4154.8601847349746,4108.5511452826422,4227.8773884296743,4180.6421681882948,4302.3549361982668,4254.1750115520617,4378.3220349222338,4358.410158672139,4455.8084756206781,4405.6820820187668,4534.8446451330919,4483.715723659142,4615.4615380357545,4563.3100381323256,4697.6907687964704,4676.1375135774288,4781.5645841723999,4727.3061636728726,4867.1158758558477,4811.7722869463287,4954.3781933729661,4897.9277326852571,5043.3857572404249,5020.0558206386468,5134.1734723852342,5075.4424130857406,5226.776941832939,5166.8712613474563,5321.2324806695979,5260.1286865744069,5417.5771302829908,5392.324056614465,5515.848672888651,5452.2762855120136,5616.0856463464224,5551.2418112222522,5718.3273592733531,504.00000000000017,504.00000000000017,504.00000000000017,504.00000000000017,504.00000000000017,504.00000000000017,504.00000000000017,504.00000000000017,504.00000000000017,0,0,0,0,0,0,0,0,0,0,0,0,0,0,0,0,0,0,0,0,0,0,0,0,0,0,0,0,0,0,0,0,0,0,0,0,0,0,0,0,0]
[null,"'191 Pre tax debt cash flow",null,null,null,null,null,"","",-6831.0020234474323,-2427.0498193595195,-2814.7520614266177,-3223.3877571109174,-3645.206015481549,-4070.8783020322594,-4489.7795561227877,-4890.3876448623332,-5260.7839619648103,-5589.2270472217524,-5864.7619247096654,-6077.8216488833941,-6220.7752530191883,-6288.3784400492596,-6278.0899471971752,-6190.2270085456621,-6027.946689765934,-5797.0546588482248,-5505.6575772889737,-5163.6881616082119,-4782.341720870827,-4373.468672875274,-3948.9687471769262,-3520.2294149333766,-3097.6441667439803,-2690.2366052487582,-2305.4051766011876,-1948.7920351010314,-1624.2692038672931,-1334.026795945887,-1078.7421922731239,-857.80596669942474,-669.57989249915317,-511.66417156513427,-381.15452462027326,-274.87431284115036,0,3597.6759242851354,3716.7745678397164,3669.6294427913454,3791.1100592173711,3743.0220316683944,3866.9322604233053,3847.0583635680487,3944.270905767311,3894.2401219101689,4023.1563239117095,3972.124924377963,4103.6194504200857,4051.5674228962198,4185.6918394597524,4164.179694365509,4269.4056764124589,4215.2507469828342,4354.7937899819017,4299.5557619644951,4441.8896658243757,4385.5468772474705,4530.7274591854093,4507.4420215133614,4621.3420085687194,4562.7229713413635,4713.7688487978821,4653.9774308271917,4808.044225834079,4747.0569795052415,4904.2051104135589,4879.0002038291268,5002.2892126872912,4938.8380816094887,5102.3349970092768,5037.6148433113522,5204.3816970205999,5138.3671402502096,5308.4693310351686,5281.1867295644161,5414.6387177331744,5345.9571728724723,5522.9314921684208,5452.8763164121965,5633.3901220957932,5561.933842826209,5746.0579246252782,5716.5263593919954,5860.9790832090694,5786.6359702607842,5978.1986649684095,5902.3686897631596,6097.7626383669776,6020.4160636597044,4.8035602885647668E-6,4.904435054624627E-6,5.0074281907717441E-6,5.1125841827779502E-6,5.2199484506162868E-6,5.3295673680792297E-6,5.4414882828088927E-6,5.5557595367478793E-6,5.6724304870195845E-6,5.7915515272469963E-6,5.9131741093191819E-6,6.0373507656148849E-6,6.164135131692798E-6,6.2935819694583476E-6,6.4257471908169705E-6,6.5606878818241276E-6,0,0,0,0,0,0,0,0,0,0,0,0,0,0,0,0,0,0,0,0,0,0,0,0,0,0,0,0,0,0,0,0,0,0,0,0,0,0,0,0,0]
[null,"'192 Debt tax shield",null,null,null,null,null,"","",0,0,0,0,0,0,0,0,0,0,0,0,0,0,0,0,0,0,0,0,0,0,0,0,0,0,0,0,0,0,0,0,0,0,0,0,710.14030087984827,719.41584030208435,715.81880145761465,711.72827885688787,707.73797795687437,703.23878083342208,698.83617143947754,693.90875222991554,726.39879495170499,721.32376427758993,716.34921513140887,710.78179738137044,705.30963939026958,699.22539024278694,693.23080461313577,686.60424579111861,714.22993942537664,707.22316991702621,700.30262428086473,692.66664309772341,685.10895100759376,676.81166463260513,668.58418856751655,659.59208338674182,680.77788915275892,671.07312094151803,661.42306255225208,650.90424061747183,640.42820357556059,629.05273519004265,617.70733572499807,605.43065961414652,593.00732694327473,579.77939975752565,566.55350558921077,552.32884624673568,538.09088493617014,522.81848461352456,507.51648807976676,491.14299895775105,474.54598283697788,457.01190611017006,439.41249938526755,420.66304837138642,401.82880221164544,381.80297099983915,361.6717195245252,340.30572456786473,318.62127792016986,295.84442138122478,272.91710398345646,248.6635214370753,224.2350238482847,198.4318404972046,172.42788869063767,172.42788871612413,172.42788874214577,172.4278887687139,172.42788879583995,172.42788882353568,172.42788885181295,172.42788888068409,172.42788891016153,172.42788894025799,172.42788897098646,172.42788900236025,172.42788903439288,172.42788906709816,172.42788910049029,172.42788913458367,0,0,0,0,0,0,0,0,0,0,0,0,0,0,0,0,0,0,0,0,0,0,0,0,0,0,0,0,0,0,0,0,0,0,0,0,0,0,0,0,0]
[null,"'193 After tax debt cash flow",null,null,null,null,null,"","",-6831.0020234474323,-2427.0498193595195,-2814.7520614266177,-3223.3877571109174,-3645.206015481549,-4070.8783020322594,-4489.7795561227877,-4890.3876448623332,-5260.7839619648103,-5589.2270472217524,-5864.7619247096654,-6077.8216488833941,-6220.7752530191883,-6288.3784400492596,-6278.0899471971752,-6190.2270085456621,-6027.946689765934,-5797.0546588482248,-5505.6575772889737,-5163.6881616082119,-4782.341720870827,-4373.468672875274,-3948.9687471769262,-3520.2294149333766,-3097.6441667439803,-2690.2366052487582,-2305.4051766011876,-1948.7920351010314,-1624.2692038672931,-1334.026795945887,-1078.7421922731239,-857.80596669942474,-669.57989249915317,-511.66417156513427,-381.15452462027326,-274.87431284115036,-710.14030087984827,2878.2600839830511,3000.9557663821015,2957.9011639344576,3083.372081260497,3039.7832508349725,3168.0960889838279,3153.1496113381331,3217.872110815606,3172.9163576325791,3306.8071087803005,3261.3431269965927,3398.309811029816,3352.3420326534329,3492.4610348466167,3477.5754485743905,3555.175736987082,3508.0275770658081,3654.4911657010371,3606.8891188667717,3756.7807148167822,3708.7352126148653,3862.143270617893,3847.8499381266197,3940.5641194159607,3891.6498503998455,4052.3457862456298,4003.07319020972,4167.6160222585186,4118.0042443151988,4286.4977746885606,4273.5695442149799,4409.2818857440161,4359.0586818519632,4535.7814914200662,4485.2859970646168,4666.2908120844295,4615.548655636685,4800.952842955402,4790.0437306066651,4940.0927348961968,4888.9452667623018,5083.5189927831534,5032.2132680408104,5231.5613198841475,5180.1308718263699,5384.3862051007527,5376.2206348241307,5542.3578052888997,5490.7915488795597,5705.2815609849531,5653.7051683260843,5873.5276145186926,5821.9842231624998,-172.42788388707737,-172.42788381168907,-172.42788373471757,-172.42788365612972,-172.42788357589149,-172.42788349396832,-172.42788341032468,-172.42788332492455,-172.42788323773104,-172.42788314870646,-172.42788305781235,-172.42788296500947,-172.42788287025775,-172.42788277351619,-172.4278826747431,-172.42788257389577,0,0,0,0,0,0,0,0,0,0,0,0,0,0,0,0,0,0,0,0,0,0,0,0,0,0,0,0,0,0,0,0,0,0,0,0,0,0,0,0,0]
[null,{"$f":"B648","v":"'194 Pre tax DSRA Cash"},null,null,null,null,null,"","",0,0,0,0,0,0,0,0,0,0,0,0,0,0,0,0,0,0,0,0,0,0,0,0,0,0,0,0,0,0,0,0,0,0,0,0,-3597.6759242851354,-119.09864355458103,47.145125048371028,-121.48061642602579,48.088027548976697,-123.9102287549108,19.873896855256589,-97.212542199262316,50.030783857142069,-128.91620200154057,51.03139953374648,-131.49452604212274,52.052027523865945,-134.12441656353258,21.512145094243351,-105.22598204694987,54.154929429624644,-139.54304299906744,55.238028017406577,-142.33390385988059,56.34278857690515,-145.18058193793877,23.285437672047919,-113.899987055358,58.619037227355875,-151.04587745651861,59.791417970690418,-154.06679500688733,60.9872463288375,-157.1481309083174,25.204906584432138,-123.28900885816438,63.451131077802529,-163.49691539978812,64.720153697924616,-166.7668537092477,66.0145567703903,-170.10219078495902,27.282601470752525,-133.45198816875836,68.681544860702161,-176.97431929594859,70.055175756224344,-180.51380568359673,71.456279269584229,-184.12408179906924,29.53156523328289,-144.452723817074,74.343112948285125,-191.56269470762527,75.829975205249866,-195.39394860381799,77.346574707273248,6020.4160588561444,-1.0087476605986014E-7,-1.0299313614711712E-7,-1.0515599200620609E-7,-1.0736426783833656E-7,-1.0961891746294299E-7,-1.1192091472966297E-7,-1.1427125393898655E-7,-1.1667095027170525E-7,-1.1912104022741176E-7,-1.2162258207218563E-7,-1.2417665629570305E-7,-1.2678436607791309E-7,-1.2944683776554959E-7,-1.3216522135862287E-7,-1.3494069100715709E-7,6.5606878818241276E-6,0,0,0,0,0,0,0,0,0,0,0,0,0,0,0,0,0,0,0,0,0,0,0,0,0,0,0,0,0,0,0,0,0,0,0,0,0,0,0,0,0]
[null,"'195 MRA cash flow",null,null,null,null,null,"","",0,0,0,0,0,0,0,0,0,0,0,0,0,0,0,0,0,0,0,0,0,0,0,0,0,0,0,0,0,0,0,0,0,0,0,0,0,0,0,0,0,0,0,0,0,0,0,0,0,0,0,0,0,0,0,0,0,0,0,0,0,0,0,0,0,0,0,0,0,0,0,0,0,0,0,0,0,0,0,0,0,0,0,0,0,0,0,0,0,0,0,0,0,0,0,0,0,0,0,0,0,0,0,0,0,0,0,0,0,0,0,0,0,0,0,0,0,0,0,0,0,0,0,0,0,0,0,0,0,0,0,0,0,0,0,0,0,0,0,0,0,0,0,0,0,0,0]
[null,"'196 Cash Sweep (Senior and Mezzanine)",null,null,null,null,null,"","",0,0,0,0,0,0,0,0,0,0,0,0,0,0,0,0,0,0,0,0,0,0,0,0,0,0,0,0,0,0,0,0,0,0,0,0,0,0,0,0,0,0,0,0,0,0,0,0,0,0,0,0,0,0,0,0,0,0,0,0,0,0,0,0,0,0,0,0,0,0,0,0,0,0,0,0,0,0,0,0,0,0,0,0,0,0,0,0,0,0,0,0,0,0,0,0,0,0,0,0,0,0,0,0,0,0,0,0,0,0,0,0,0,0,0,0,0,0,0,0,0,0,0,0,0,0,0,0,0,0,0,0,0,0,0,0,0,0,0,0,0,0,0,0,0,0,0]
[null,"'197 Tax adjustment (Taxes - EBT x Tax)",null,null,null,null,null,"","",0,0,0,0,0,0,0,0,0,0,0,0,0,0,0,0,0,0,0,0,0,0,0,0,0,0,0,0,0,0,0,0,0,0,0,0,0,0,0,0,0,0,0,0,0,0,0,0,0,0,0,0,0,0,0,0,0,0,0,0,0,0,0,0,0,0,0,0,0,0,0,0,0,0,0,0,0,0,0,0,0,0,0,0,0,0,0,0,0,0,0,0,0,0,0,0,0,0,0,0,0,0,0,0,0,0,0,0,0,0,0,0,0,0,0,0,0,0,0,0,0,0,0,0,0,0,0,0,0,0,0,0,0,0,0,0,0,0,0,0,0,0,0,0,0,0,0]
[null,"'198 Total Equity cash flow Before EBL, Refinancing",null,null,null,null,null,"","",4193.0779908922641,-666.29049763413241,-768.1213093514616,-875.57107165583648,-986.63871881812065,-1098.9101157536911,-1209.630251101511,-1315.8062711309703,-1414.3369498071643,-1502.1613451713492,-1576.4169973200915,-1634.5963943494726,-1674.6898164876038,-1695.3032036213517,-1695.7413810752059,-1676.0496836570619,-1637.0104695948512,-1580.0948474807619,-1507.3737340025873,-1421.3957063851922,-1325.0416587928203,-1221.3677686702013,-1113.4486129245784,-1004.2314734101419,-896.41109597307832,-792.33167896762916,-693.91998804251762,-602.65056103474694,-519.54128756037699,-445.17546532809638,-379.74490530775165,-323.10784186725232,-274.85527426899523,-234.37982309206785,-200.94208181084582,-173.73061063431084,-3597.6759242851354,-119.09864494047133,47.14512363857375,-121.48061786014159,48.088026090122185,-123.91023023893058,19.87389534563772,-97.212543734922292,50.030782181792802,-128.91620370788405,51.031397795836256,-131.49452781218497,52.052025721057362,-134.12441839969279,21.51214322411397,-105.22598395167643,54.154927358581517,-139.54304511101418,55.238025863749499,-142.33390605607201,56.342786337339021,-145.18058422173726,23.285435343144854,-113.89998943025694,58.619034652274422,-151.0458800856768,59.791415286319534,-154.06679774763052,60.987243530538763,-157.1481337653795,25.204903667371582,-123.28901183648304,63.451128036938826,-163.49691850450927,64.720150528004524,-166.76685694573735,66.014553465935023,-170.10219415880783,27.282598026052256,-133.45199168579711,68.681541269806075,-176.97432296225361,70.05517201292696,-180.51380950550356,71.456275367418129,-184.12408578318082,29.531561165504172,-144.4527279702761,74.343108707866122,-191.5626990370929,75.82997078486369,-195.39395311703265,77.346570099280143,6020.4160541513847,6219.7178815297311,6187.7519653906284,6344.1122390502642,6263.6408625167769,6470.9944837165367,6388.9136796499706,6600.4143732712682,-5.6724304870195845E-6,-5.7915515272469963E-6,-5.9131741093191819E-6,-6.0373507656148849E-6,-6.164135131692798E-6,-6.2935819694583476E-6,-6.4257471908169705E-6,-6.5606878818241276E-6,0,0,0,0,0,0,0,0,0,0,0,0,0,0,0,0,0,0,0,0,0,0,0,0,0,0,0,0,0,0,0,0,0,0,0,0,0,0,0,0,0,0]
[null,"'199 Pre tax EBL cash flow",null,null,null,null,null,"","",0,0,0,0,0,0,0,0,0,0,0,0,0,0,0,0,0,0,0,0,0,0,0,0,0,0,0,0,0,0,0,0,0,0,0,0,0,0,0,0,0,0,0,0,0,0,0,0,0,0,0,0,0,0,0,0,0,0,0,0,0,0,0,0,0,0,0,0,0,0,0,0,0,0,0,0,0,0,0,0,0,0,0,0,0,0,0,0,0,0,0,0,0,0,0,0,0,0,0,0,0,0,0,0,0,0,0,0,0,0,0,0,0,0,0,0,0,0,0,0,0,0,0,0,0,0,0,0,0,0,0,0,0,0,0,0,0,0,0,0,0,0,0,0,0,0,0]
[null,"'200 After tax EBL cash flow",null,null,null,null,null,"","",4193.0779908922641,-666.29049763413241,-768.1213093514616,-875.57107165583648,-986.63871881812065,-1098.9101157536911,-1209.630251101511,-1315.8062711309703,-1414.3369498071643,-1502.1613451713492,-1576.4169973200915,-1634.5963943494726,-1674.6898164876038,-1695.3032036213517,-1695.7413810752059,-1676.0496836570619,-1637.0104695948512,-1580.0948474807619,-1507.3737340025873,-1421.3957063851922,-1325.0416587928203,-1221.3677686702013,-1113.4486129245784,-1004.2314734101419,-896.41109597307832,-792.33167896762916,-693.91998804251762,-602.65056103474694,-519.54128756037699,-445.17546532809638,-379.74490530775165,-323.10784186725232,-274.85527426899523,-234.37982309206785,-200.94208181084582,-173.73061063431084,-3597.6759242851354,-119.09864494047133,47.14512363857375,-121.48061786014159,48.088026090122185,-123.91023023893058,19.87389534563772,-97.212543734922292,50.030782181792802,-128.91620370788405,51.031397795836256,-131.49452781218497,52.052025721057362,-134.12441839969279,21.51214322411397,-105.22598395167643,54.154927358581517,-139.54304511101418,55.238025863749499,-142.33390605607201,56.342786337339021,-145.18058422173726,23.285435343144854,-113.89998943025694,58.619034652274422,-151.0458800856768,59.791415286319534,-154.06679774763052,60.987243530538763,-157.1481337653795,25.204903667371582,-123.28901183648304,63.451128036938826,-163.49691850450927,64.720150528004524,-166.76685694573735,66.014553465935023,-170.10219415880783,27.282598026052256,-133.45199168579711,68.681541269806075,-176.97432296225361,70.05517201292696,-180.51380950550356,71.456275367418129,-184.12408578318082,29.531561165504172,-144.4527279702761,74.343108707866122,-191.5626990370929,75.82997078486369,-195.39395311703265,77.346570099280143,6020.4160541513847,6219.7178815297311,6187.7519653906284,6344.1122390502642,6263.6408625167769,6470.9944837165367,6388.9136796499706,6600.4143732712682,-5.6724304870195845E-6,-5.7915515272469963E-6,-5.9131741093191819E-6,-6.0373507656148849E-6,-6.164135131692798E-6,-6.2935819694583476E-6,-6.4257471908169705E-6,-6.5606878818241276E-6,0,0,0,0,0,0,0,0,0,0,0,0,0,0,0,0,0,0,0,0,0,0,0,0,0,0,0,0,0,0,0,0,0,0,0,0,0,0,0,0,0,0]
[null,"'201 Shareholder Loan Cash Flow",null,null,null,null,null,"","",0,0,0,0,0,0,0,0,0,0,0,0,0,0,0,0,0,0,0,0,0,0,0,0,0,0,0,0,0,0,0,0,0,0,0,0,0,0,0,0,0,0,0,0,0,0,0,0,0,0,0,0,0,0,0,0,0,0,0,0,0,0,0,0,0,0,0,0,0,0,0,0,0,0,0,0,0,0,0,0,0,0,0,0,0,0,0,0,0,0,0,0,0,0,0,0,0,0,0,0,0,0,0,0,0,0,0,0,0,0,0,0,0,0,0,0,0,0,0,0,0,0,0,0,0,0,0,0,0,0,0,0,0,0,0,0,0,0,0,0,0,0,0,0,0,0,0]
[null,"'202 Re-financing Cash Flow",null,null,null,null,null,"","",0,0,0,0,0,0,0,0,0,0,0,0,0,0,0,0,0,0,0,0,0,0,0,0,0,0,0,0,0,0,0,0,0,0,0,0,0,0,0,0,0,0,0,0,0,0,0,0,0,0,0,0,0,0,0,0,0,0,0,0,0,0,0,0,0,0,0,0,0,0,0,0,0,0,0,0,0,0,0,0,0,0,0,0,0,0,0,0,0,0,0,0,0,0,0,0,0,0,0,0,0,0,0,0,0,0,0,0,0,0,0,0,0,0,0,0,0,0,0,0,0,0,0,0,0,0,0,0,0,0,0,0,0,0,0,0,0,0,0,0,0,0,0,0,0,0,0]
[null,"'203 Equity cash flow  after EBL",null,null,null,null,null,"","",4193.0779908922641,-666.29049763413241,-768.1213093514616,-875.57107165583648,-986.63871881812065,-1098.9101157536911,-1209.630251101511,-1315.8062711309703,-1414.3369498071643,-1502.1613451713492,-1576.4169973200915,-1634.5963943494726,-1674.6898164876038,-1695.3032036213517,-1695.7413810752059,-1676.0496836570619,-1637.0104695948512,-1580.0948474807619,-1507.3737340025873,-1421.3957063851922,-1325.0416587928203,-1221.3677686702013,-1113.4486129245784,-1004.2314734101419,-896.41109597307832,-792.33167896762916,-693.91998804251762,-602.65056103474694,-519.54128756037699,-445.17546532809638,-379.74490530775165,-323.10784186725232,-274.85527426899523,-234.37982309206785,-200.94208181084582,-173.73061063431084,-3597.6759242851354,-119.09864494047133,47.14512363857375,-121.48061786014159,48.088026090122185,-123.91023023893058,19.87389534563772,-97.212543734922292,50.030782181792802,-128.91620370788405,51.031397795836256,-131.49452781218497,52.052025721057362,-134.12441839969279,21.51214322411397,-105.22598395167643,54.154927358581517,-139.54304511101418,55.238025863749499,-142.33390605607201,56.342786337339021,-145.18058422173726,23.285435343144854,-113.89998943025694,58.619034652274422,-151.0458800856768,59.791415286319534,-154.06679774763052,60.987243530538763,-157.1481337653795,25.204903667371582,-123.28901183648304,63.451128036938826,-163.49691850450927,64.720150528004524,-166.76685694573735,66.014553465935023,-170.10219415880783,27.282598026052256,-133.45199168579711,68.681541269806075,-176.97432296225361,70.05517201292696,-180.51380950550356,71.456275367418129,-184.12408578318082,29.531561165504172,-144.4527279702761,74.343108707866122,-191.5626990370929,75.82997078486369,-195.39395311703265,77.346570099280143,6020.4160541513847,6219.7178815297311,6187.7519653906284,6344.1122390502642,6263.6408625167769,6470.9944837165367,6388.9136796499706,6600.4143732712682,-5.6724304870195845E-6,-5.7915515272469963E-6,-5.9131741093191819E-6,-6.0373507656148849E-6,-6.164135131692798E-6,-6.2935819694583476E-6,-6.4257471908169705E-6,-6.5606878818241276E-6,0,0,0,0,0,0,0,0,0,0,0,0,0,0,0,0,0,0,0,0,0,0,0,0,0,0,0,0,0,0,0,0,0,0,0,0,0,0,0,0,0,0]
[".","'204 Issue by Issue Section",null,null,null,null,null,"","","","","","","","","","","","","","","","","","","","","","","","","","","","","","","","","","","","","","","Operation","Operation","Operation","Operation","Operation","Operation","Operation","Operation","Operation","Operation","Operation","Operation","Operation","Operation","Operation","Operation","Operation","Operation","Operation","Operation","Operation","Operation","Operation","Operation","Operation","Operation","Operation","Operation","Operation","Operation","Operation","Operation","Operation","Operation","Operation","Operation","Operation","Operation","Operation","Operation","Operation","Operation","Operation","Operation","Operation","Operation","Operation","Operation","Operation","Operation","Operation","Operation","Operation","Operation","Operation","Operation","Operation","Operation","Operation","Operation","Operation","Operation","Operation","Operation","Operation","Operation","Operation","Operation","Operation","Operation",0,0,0,0,0,0,0,0,0,0,0,0,0,0,0,0,0,0,0,0,0,0,0,0,0,0,0,0,0,0,0,0,0,0,0,0,0,0,0,0,0]
[null,"'205 Debt Commitment by Issue",null,null,null,null,null," Issue 1",148436.82908067355," Issue 2",0," Issue 3",0," Issue 4",0," Issue 5",0," Issue 6",0," Issue 7",0," Issue 8",0," Issue 9",0," Issue 10",0," Issue 11",0," Issue 12",0," Debt Tot",148436.82909671529," Sum",0.55789871985905248,0,0,0,0,0,0,0,0,0,0,0,0,0,0,0,0,0,0,0,0,0,0,0,0,0,0,0,0,0,0,0,0,0,0,0,0,0,0,0,0,0,0,0,0,0,0,0,0,0,0,0,0,0,0,0,0,0,0,0,0,0,0,0,0,0,0,0,0,0,0,0,0,0,0,0,0,0,0,0,0,0,0,0,0,0,0,0,0,0,0,0,0,0,0,0,0,0,0,0,0,0,0,0,0,0,0,0,0,0,0,0,0,0,0,0,0,0,0,0,0,0]
[null,"'206 Up Front Fee by Debt Issue",null,null,null,null,null," Issue 1",0," Issue 2",0," Issue 3",0," Issue 4",0," Issue 5",0," Issue 6",0," Issue 7",0," Issue 8",0," Issue 9",0," Issue 10",0," Issue 11",0," Issue 12",0," Total Up Front",2226.5524362101032," Up Front Sum",0,0,0,0,0,0,0,0,0,0,0,0,0,0,0,0,0,0,0,0,0,0,0,0,0,0,0,0,0,0,0,0,0,0,0,0,0,0,0,0,0,0,0,0,0,0,0,0,0,0,0,0,0,0,0,0,0,0,0,0,0,0,0,0,0,0,0,0,0,0,0,0,0,0,0,0,0,0,0,0,0,0,0,0,0,0,0,0,0,0,0,0,0,0,0,0,0,0,0,0,0,0,0,0,0,0,0,0,0,0,0,0,0,0,0,0,0,0,0,0,0,0]
[null,"'207 Commitment Fee by Debt Issue",null,null,null,null,null," Issue 1",0.55789871985905248," Issue 2",0," Issue 3",0," Issue 4",0," Issue 5",0," Issue 6",0," Issue 7",0," Issue 8",0," Issue 9",0," Issue 10",0," Issue 11",0," Issue 12",0," Total Commitment Fee",1861.6900136581726," Commitment Fee Sum",0.55789871985905248,0,0,0,0,0,0,0,0,0,0,0,0,0,0,0,0,0,0,0,0,0,0,0,0,0,0,0,0,0,0,0,0,0,0,0,0,0,0,0,0,0,0,0,0,0,0,0,0,0,0,0,0,0,0,0,0,0,0,0,0,0,0,0,0,0,0,0,0,0,0,0,0,0,0,0,0,0,0,0,0,0,0,0,0,0,0,0,0,0,0,0,0,0,0,0,0,0,0,0,0,0,0,0,0,0,0,0,0,0,0,0,0,0,0,0,0,0,0,0,0,0]
[null,"'208 IDC by Debt Issue",null,null,null,null,null," Issue 1",148436.82909671529," Issue 2",0," Issue 3",0," Issue 4",0," Issue 5",0," Issue 6",0," Issue 7",0," Issue 8",0," Issue 9",0," Issue 10",0," Issue 11",0," Issue 12",0," Debt at COD",0.55789871985905248," Sum of Debt at COD",0,0,0,0,0,0,0,0,0,0,0,0,0,0,0,0,0,0,0,0,0,0,0,0,0,0,0,0,0,0,0,0,0,0,0,0,0,0,0,0,0,0,0,0,0,0,0,0,0,0,0,0,0,0,0,0,0,0,0,0,0,0,0,0,0,0,0,0,0,0,0,0,0,0,0,0,0,0,0,0,0,0,0,0,0,0,0,0,0,0,0,0,0,0,0,0,0,0,0,0,0,0,0,0,0,0,0,0,0,0,0,0,0,0,0,0,0,0,0,0,0,0]
[null,"'209 Debt at COD by Issue",null,null,null,null,null," Issue 1",148436.82908067355," Issue 2",0," Issue 3",0," Issue 4",0," Issue 5",0," Issue 6",0," Issue 7",0," Issue 8",0," Issue 9",0," Issue 10",0," Issue 11",0," Issue 12",0," Balloon Debt at COD",0," Sum of Balloon",0,0,0,0,0,0,0,0,0,0,0,0,0,0,0,0,0,0,0,0,0,0,0,0,0,0,0,0,0,0,0,0,0,0,0,0,0,0,0,0,0,0,0,0,0,0,0,0,0,0,0,0,0,0,0,0,0,0,0,0,0,0,0,0,0,0,0,0,0,0,0,0,0,0,0,0,0,0,0,0,0,0,0,0,0,0,0,0,0,0,0,0,0,0,0,0,0,0,0,0,0,0,0,0,0,0,0,0,0,0,0,0,0,0,0,0,0,0,0,0,0,0]
[null,"'210 Sculpt Switch",null,null,null,null,null," Issue 1",true," Issue 2",true," Issue 3",true," Issue 4",true," Issue 5",false," Issue 6",false," Issue 7",false," Issue 8",false," Issue 9",false," Issue 10",false," Issue 11",false," Issue 12",false,0,0,0,0,0,0,0,0,0,0,0,0,0,0,0,0,0,0,0,0,0,0,0,0,0,0,0,0,0,0,0,0,0,0,0,0,0,0,0,0,0,0,0,0,0,0,0,0,0,0,0,0,0,0,0,0,0,0,0,0,0,0,0,0,0,0,0,0,0,0,0,0,0,0,0,0,0,0,0,0,0,0,0,0,0,0,0,0,0,0,0,0,0,0,0,0,0,0,0,0,0,0,0,0,0,0,0,0,0,0,0,0,0,0,0,0,0,0,0,0,0,0,0,0,0]
[null,"'211 Debt Tenure",null,null,null,null,null," Issue 1",54," Issue 2",0," Issue 3",0," Issue 4",0," Issue 5",0," Issue 6",0," Issue 7",0," Issue 8",0," Issue 9",0," Issue 10",0," Issue 11",0," Issue 12",0," Max Tenure",54,0,0,0,0,0,0,0,0,0,0,0,0,0,0,0,0,0,0,0,0,0,0,0,0,0,0,0,0,0,0,0,0,0,0,0,0,0,0,0,0,0,0,0,0,0,0,0,0,0,0,0,0,0,0,0,0,0,0,0,0,0,0,0,0,0,0,0,0,0,0,0,0,0,0,0,0,0,0,0,0,0,0,0,0,0,0,0,0,0,0,0,0,0,0,0,0,0,0,0,0,0,0,0,0,0,0,0,0,0,0,0,0,0,0,0,0,0,0,0,0,0,0,0]
[null,"'212 LLCR by Issue",null,null,null,null,null," Issue 1",1," Issue 2",1," Issue 3",0," Issue 4",0," Issue 5",0," Issue 6",0," Issue 7",0," Issue 8",0," Issue 9",0," Issue 10",0," Issue 11",0," Issue 12",0,0,0,0,0,0,0,0,0,0,0,0,0,0,0,0,0,0,0,0,0,0,0,0,0,0,0,0,0,0,0,0,0,0,0,0,0,0,0,0,0,0,0,0,0,0,0,0,0,0,0,0,0,0,0,0,0,0,0,0,0,0,0,0,0,0,0,0,0,0,0,0,0,0,0,0,0,0,0,0,0,0,0,0,0,0,0,0,0,0,0,0,0,0,0,0,0,0,0,0,0,0,0,0,0,0,0,0,0,0,0,0,0,0,0,0,0,0,0,0,0,0,0,0,0,0]
[null,"'213 Refinance Start by Issue",null,null,null,null,null," Issue 1",0," Issue 2",117," Issue 3",0," Issue 4",0," Issue 5",0," Issue 6",0," Issue 7",0," Issue 8",0," Issue 9",0," Issue 10",0," Issue 11",0," Issue 12",0,0,0,0,0,0,0,0,0,0,0,0,0,0,0,0,0,0,0,0,0,0,0,0,0,0,0,0,0,0,0,0,0,0,0,0,0,0,0,0,0,0,0,0,0,0,0,0,0,0,0,0,0,0,0,0,0,0,0,0,0,0,0,0,0,0,0,0,0,0,0,0,0,0,0,0,0,0,0,0,0,0,0,0,0,0,0,0,0,0,0,0,0,0,0,0,0,0,0,0,0,0,0,0,0,0,0,0,0,0,0,0,0,0,0,0,0,0,0,0,0,0,0,0,0,0]
[null,"'214 Opening Debt Balance - Issue 1",null,null,null,null,null,"","",0,9181.2518172247637,11748.831289149757,14708.820232173712,18082.871517277508,21884.926821441295,26119.624846880091,30780.987739456054,35851.504552741288,41301.713630620019,47090.357843731806,53165.149448722208,59464.137895828819,65917.628092557585,72450.552875010428,78985.166193379016,85443.896697513104,91752.187888791712,97841.152249669947,103649.88263031721,109127.2929343149,114233.39871646586,118939.99264455521,123230.71540248104,127100.56515321953,130554.92438031164,133608.20903782485,136282.2599552293,138604.60015781547,140606.67515287266,142322.1782108327,143785.54175405958,145030.65190487535,146089.81868343402,146993.01154681935,147767.35061684268,148436.82909671529,150997.36439863362,150004.39301161081,148875.19422463118,147773.66188364883,146531.64749338327,145316.29638245975,143956.07023614351,142592.2540856846,141285.9398821778,140005.48964979427,138572.43488614165,137163.90000892736,135597.81271047523,134054.80482455896,132349.12687622369,130633.40603097304,128944.01012574334,127275.40358085588,125434.29901374954,123612.07065950279,121611.51939144316,119627.80002446049,117459.72161808707,115272.10910090583,113071.48138603121,110883.25952642567,108498.03913036709,106122.52052401836,103543.04923198697,100970.39628921052,98186.569503787439,95369.487262516166,92369.957285382581,89370.888309870847,86145.341970538779,82916.779311845225,79453.649983677824,75983.809496458693,72271.00016829386,68507.504445780651,64531.523324999769,60540.728145618596,56289.151948251463,52018.347826574456,47477.343012738893,42912.433377164314,38067.536557527266,33150.428469996543,27985.608388897821,22786.670199133358,17286.991612767135,11747.649751385299,5896.5877624054056,4.6460974772344343E-5,4.7436655242563574E-5,4.843282500265741E-5,4.9449914327713213E-5,5.0488362528595192E-5,5.1548618141695689E-5,5.2631139122671301E-5,5.3736393044247399E-5,5.4864857298176597E-5,5.6017019301438305E-5,5.7193376706768507E-5,5.8394437617610644E-5,5.9620720807580468E-5,6.0872755944539654E-5,6.2151083819374993E-5,6.3456256579581864E-5,0,0,0,0,0,0,0,0,0,0,0,0,0,0,0,0,0,0,0,0,0,0,0,0,0,0,0,0,0,0,0,0,0,0,0,0,0,0,0,0,0]
[null,"'215 Add: Debt Draws - Issue 1",null,null,null,null,null,"","",9181.2518172247637,2567.579471924993,2959.9889430239537,3374.051285103797,3802.0553041637859,4234.6980254387963,4661.3628925759622,5070.5168132852305,5450.2090778787306,5788.6442131117838,6074.7916049904015,6298.9884471066125,6453.4901967287688,6532.9247824528429,6534.6133183685888,6458.7305041340851,6308.291191278603,6088.964360878238,5808.7303806472628,5477.4103039976881,5106.1057821509658,4706.5939280893563,4290.7227579258388,3869.8497507384864,3454.3592270921108,3053.2846575132244,2674.0509174044278,2322.3402025861797,2002.0749950571828,1715.5030579600482,1463.3635432268784,1245.1101508157619,1059.1667785586526,903.19286338532459,774.33907002333672,669.4784798725899,0,0,0,0,0,0,0,0,0,0,0,0,0,0,0,0,0,0,0,0,0,0,0,0,0,0,0,0,0,0,0,0,0,0,0,0,0,0,0,0,0,0,0,0,0,0,0,0,0,0,0,0,0,0,0,0,0,0,0,0,0,0,0,0,0,0,0,0,0,0,0,0,0,0,0,0,0,0,0,0,0,0,0,0,0,0,0,0,0,0,0,0,0,0,0,0,0,0,0,0,0,0,0,0,0,0,0,0,0,0,0]
[null,"'216 Less: Debt Repayments - Issue 1",null,null,null,null,null,"","",0,0,0,0,0,0,0,0,0,0,0,0,0,0,0,0,0,0,0,0,0,0,0,0,0,0,0,0,0,0,0,0,0,0,0,0,2560.535301918339,-992.97138702281472,-1129.1987869796326,-1101.5323409823413,-1242.0143902655741,-1215.3511109235133,-1360.2261463162554,-1363.8161504589129,-1306.3142035067967,-1280.4502323835363,-1433.0547636526053,-1408.5348772142802,-1566.0872984521211,-1543.0078859162677,-1705.6779483352825,-1715.7208452506443,-1689.3959052296987,-1668.6065448874569,-1841.1045671063412,-1822.2283542467508,-2000.5512680596298,-1983.7193669826702,-2168.0784063734118,-2187.6125171812432,-2200.6277148746158,-2188.22185960555,-2385.2203960585725,-2375.5186063487399,-2579.471292031395,-2572.6529427764535,-2783.8267854230776,-2817.0822412712723,-2999.5299771335881,-2999.0689755117337,-3225.5463393320688,-3228.5626586935487,-3463.1293281673952,-3469.8404872191268,-3712.8093281648362,-3763.4957225132066,-3975.9811207808848,-3990.7951793811721,-4251.5761973671333,-4270.8041216770089,-4541.0048138355633,-4564.9096355745805,-4844.8968196370488,-4917.1080875307207,-5164.8200810987228,-5198.9381897644625,-5499.6785863662226,-5539.3418613818349,-5851.0619889798936,-5896.5877159444308,9.756804702192311E-7,9.9616976009383503E-7,1.0170893250558056E-6,1.0384482008819773E-6,1.0602556131004988E-6,1.0825209809756093E-6,1.1052539215760972E-6,1.1284642539291953E-6,1.1521620032617085E-6,1.1763574053302042E-6,1.2010609108421385E-6,1.2262831899698234E-6,1.2520351369591897E-6,1.2783278748353327E-6,1.3051727602068748E-6,1.332581388171219E-6,0,0,0,0,0,0,0,0,0,0,0,0,0,0,0,0,0,0,0,0,0,0,0,0,0,0,0,0,0,0,0,0,0,0,0,0,0,0,0,0,0]
[null,"'217 Less: Cash Sweep - Issue 1",null,null,null,null,null,"","",0,0,0,0,0,0,0,0,0,0,0,0,0,0,0,0,0,0,0,0,0,0,0,0,0,0,0,0,0,0,0,0,0,0,0,0,0,0,0,0,0,0,0,0,0,0,0,0,0,0,0,0,0,0,0,0,0,0,0,0,0,0,0,0,0,0,0,0,0,0,0,0,0,0,0,0,0,0,0,0,0,0,0,0,0,0,0,0,0,0,0,0,0,0,0,0,0,0,0,0,0,0,0,0,0,0,0,0,0,0,0,0,0,0,0,0,0,0,0,0,0,0,0,0,0,0,0,0,0,0,0,0,0,0,0,0,0,0,0,0,0,0,0,0,0,0,0]
[null,"'218 Closing Balance - Issue 1",null,null,null,null,null,"","",9181.2518172247637,11748.831289149757,14708.820232173712,18082.871517277508,21884.926821441295,26119.624846880091,30780.987739456054,35851.504552741288,41301.713630620019,47090.357843731806,53165.149448722208,59464.137895828819,65917.628092557585,72450.552875010428,78985.166193379016,85443.896697513104,91752.187888791712,97841.152249669947,103649.88263031721,109127.2929343149,114233.39871646586,118939.99264455521,123230.71540248104,127100.56515321953,130554.92438031164,133608.20903782485,136282.2599552293,138604.60015781547,140606.67515287266,142322.1782108327,143785.54175405958,145030.65190487535,146089.81868343402,146993.01154681935,147767.35061684268,148436.82909671529,150997.36439863362,150004.39301161081,148875.19422463118,147773.66188364883,146531.64749338327,145316.29638245975,143956.07023614351,142592.2540856846,141285.9398821778,140005.48964979427,138572.43488614165,137163.90000892736,135597.81271047523,134054.80482455896,132349.12687622369,130633.40603097304,128944.01012574334,127275.40358085588,125434.29901374954,123612.07065950279,121611.51939144316,119627.80002446049,117459.72161808707,115272.10910090583,113071.48138603121,110883.25952642567,108498.03913036709,106122.52052401836,103543.04923198697,100970.39628921052,98186.569503787439,95369.487262516166,92369.957285382581,89370.888309870847,86145.341970538779,82916.779311845225,79453.649983677824,75983.809496458693,72271.00016829386,68507.504445780651,64531.523324999769,60540.728145618596,56289.151948251463,52018.347826574456,47477.343012738893,42912.433377164314,38067.536557527266,33150.428469996543,27985.608388897821,22786.670199133358,17286.991612767135,11747.649751385299,5896.5877624054056,4.6460974772344343E-5,4.7436655242563574E-5,4.843282500265741E-5,4.9449914327713213E-5,5.0488362528595192E-5,5.1548618141695689E-5,5.2631139122671301E-5,5.3736393044247399E-5,5.4864857298176597E-5,5.6017019301438305E-5,5.7193376706768507E-5,5.8394437617610644E-5,5.9620720807580468E-5,6.0872755944539654E-5,6.2151083819374993E-5,6.3456256579581864E-5,6.4788837967753079E-5,0,0,0,0,0,0,0,0,0,0,0,0,0,0,0,0,0,0,0,0,0,0,0,0,0,0,0,0,0,0,0,0,0,0,0,0,0,0,0,0,0]
[null,"'219 Interest Rate - Issue 1",null,null,null,null,null,"","",2.6666666666666666E-3,2.6666666666666666E-3,2.6666666666666666E-3,2.6666666666666666E-3,2.6666666666666666E-3,2.6666666666666666E-3,2.6666666666666666E-3,2.6666666666666666E-3,2.6666666666666666E-3,2.6666666666666666E-3,2.6666666666666666E-3,2.6666666666666666E-3,2.6666666666666666E-3,2.6666666666666666E-3,2.6666666666666666E-3,2.6666666666666666E-3,2.6666666666666666E-3,2.6666666666666666E-3,2.6666666666666666E-3,2.6666666666666666E-3,2.6666666666666666E-3,2.6666666666666666E-3,2.6666666666666666E-3,2.6666666666666666E-3,2.6666666666666666E-3,2.6666666666666666E-3,2.6666666666666666E-3,2.6666666666666666E-3,2.6666666666666666E-3,2.6666666666666666E-3,2.6666666666666666E-3,2.6666666666666666E-3,2.6666666666666666E-3,2.6666666666666666E-3,2.6666666666666666E-3,2.6666666666666666E-3,1.7250000000000001E-2,1.7250000000000001E-2,1.7250000000000001E-2,1.7250000000000001E-2,1.7250000000000001E-2,1.7250000000000001E-2,1.7250000000000001E-2,1.7250000000000001E-2,1.8499999999999999E-2,1.8499999999999999E-2,1.8499999999999999E-2,1.8499999999999999E-2,1.8499999999999999E-2,1.8499999999999999E-2,1.8499999999999999E-2,1.8499999999999999E-2,1.9749999999999997E-2,1.9749999999999997E-2,1.9749999999999997E-2,1.9749999999999997E-2,1.9749999999999997E-2,1.9749999999999997E-2,1.9749999999999997E-2,1.9749999999999997E-2,2.0999999999999998E-2,2.0999999999999998E-2,2.0999999999999998E-2,2.0999999999999998E-2,2.0999999999999998E-2,2.0999999999999998E-2,2.0999999999999998E-2,2.0999999999999998E-2,2.0999999999999998E-2,2.0999999999999998E-2,2.0999999999999998E-2,2.0999999999999998E-2,2.0999999999999998E-2,2.0999999999999998E-2,2.0999999999999998E-2,2.0999999999999998E-2,2.0999999999999998E-2,2.0999999999999998E-2,2.0999999999999998E-2,2.0999999999999998E-2,2.0999999999999998E-2,2.0999999999999998E-2,2.0999999999999998E-2,2.0999999999999998E-2,2.0999999999999998E-2,2.0999999999999998E-2,2.0999999999999998E-2,2.0999999999999998E-2,2.0999999999999998E-2,2.0999999999999998E-2,2.0999999999999998E-2,2.0999999999999998E-2,2.0999999999999998E-2,2.0999999999999998E-2,2.0999999999999998E-2,2.0999999999999998E-2,2.0999999999999998E-2,2.0999999999999998E-2,2.0999999999999998E-2,2.0999999999999998E-2,2.0999999999999998E-2,2.0999999999999998E-2,2.0999999999999998E-2,2.0999999999999998E-2,2.0999999999999998E-2,2.0999999999999998E-2,0,0,0,0,0,0,0,0,0,0,0,0,0,0,0,0,0,0,0,0,0,0,0,0,0,0,0,0,0,0,0,0,0,0,0,0,0,0,0,0,0]
[null,"'220 Interest Expense - Issue 1",null,null,null,null,null,"","",0,0,0,0,0,0,0,0,0,0,0,0,0,0,0,0,0,0,0,0,0,0,0,0,0,0,0,0,0,0,0,0,0,0,0,0,2560.535301918339,2604.7045372623206,2587.5757808600838,2568.097101809004,2549.0956689517971,2527.6709207448812,2506.7061141070499,2483.2422131091357,2637.9567022605142,2613.7898895266326,2590.1015602591042,2563.5900471636828,2537.5321519679646,2508.5595369799521,2480.0138911244703,2448.4588491148647,2580.0097711827602,2546.6442020953768,2513.6892228755605,2477.3274077177448,2441.3383977647463,2401.8275102648004,2362.6490528119975,2319.8295043321182,2420.7142936941041,2374.501111735814,2328.5484527393096,2278.4588244784513,2228.5729338026836,2174.4040367287885,2120.3783249904809,2061.9179625578545,2002.7592355537029,1939.7691060977554,1876.7886576772082,1809.0521846178031,1741.2523688532049,1668.526653031083,1595.6600028703322,1517.6910070512095,1438.6575969522899,1355.1619934913001,1271.3552948012878,1182.0721947351874,1092.3853082602302,997.02420725162892,901.16110498822911,799.41827186127443,696.15900211034659,587.69778049632214,478.52007860218737,363.02682838132478,246.70064938708373,123.82834771527384,5.7792407587839979E-6,5.9006048147184616E-6,6.0245175158275493E-6,6.1510323836599279E-6,6.280204063716786E-6,6.4120883490548386E-6,6.5467422043849897E-6,6.6842237906770745E-6,6.8245924902812932E-6,6.9679089325772E-6,7.1142350201613208E-6,7.2636339555847084E-6,7.4161702686519879E-6,7.5719098442936799E-6,7.7309199510238457E-6,7.8932692699953464E-6,0,0,0,0,0,0,0,0,0,0,0,0,0,0,0,0,0,0,0,0,0,0,0,0,0,0,0,0,0,0,0,0,0,0,0,0,0,0,0,0,0]
[null,"'221 Opening Debt Balance - Issue 2",null,null,null,null,null,"","",0,0,0,0,0,0,0,0,0,0,0,0,0,0,0,0,0,0,0,0,0,0,0,0,0,0,0,0,0,0,0,0,0,0,0,0,0,0,0,0,0,0,0,0,0,0,0,0,0,0,0,0,0,0,0,0,0,0,0,0,0,0,0,0,0,0,0,0,0,0,0,0,0,0,0,0,0,0,0,0,0,0,0,0,0,0,0,0,0,0,0,0,0,0,0,0,0,0,0,0,0,0,0,0,0,0,0,0,0,0,0,0,0,0,0,0,0,0,0,0,0,0,0,0,0,0,0,0,0,0,0,0,0,0,0,0,0,0,0,0,0,0,0,0,0,0,0]
[null,"'222 Add: Debt Draws - Issue 2",null,null,null,null,null,"","",0,0,0,0,0,0,0,0,0,0,0,0,0,0,0,0,0,0,0,0,0,0,0,0,0,0,0,0,0,0,0,0,0,0,0,0,0,0,0,0,0,0,0,0,0,0,0,0,0,0,0,0,0,0,0,0,0,0,0,0,0,0,0,0,0,0,0,0,0,0,0,0,0,0,0,0,0,0,0,0,0,0,0,0,0,0,0,0,0,0,0,0,0,0,0,0,0,0,0,0,0,0,0,0,0,0,0,0,0,0,0,0,0,0,0,0,0,0,0,0,0,0,0,0,0,0,0,0,0,0,0,0,0,0,0,0,0,0,0,0,0,0,0,0,0,0,0]
[null,"'223 Less: Debt Repayments - Issue 2",null,null,null,null,null,"","",0,0,0,0,0,0,0,0,0,0,0,0,0,0,0,0,0,0,0,0,0,0,0,0,0,0,0,0,0,0,0,0,0,0,0,0,0,0,0,0,0,0,0,0,0,0,0,0,0,0,0,0,0,0,0,0,0,0,0,0,0,0,0,0,0,0,0,0,0,0,0,0,0,0,0,0,0,0,0,0,0,0,0,0,0,0,0,0,0,0,0,0,0,0,0,0,0,0,0,0,0,0,0,0,0,0,0,0,0,0,0,0,0,0,0,0,0,0,0,0,0,0,0,0,0,0,0,0,0,0,0,0,0,0,0,0,0,0,0,0,0,0,0,0,0,0,0]
[null,"'224 Less: Cash Sweep - Issue 2",null,null,null,null,null,"","",0,0,0,0,0,0,0,0,0,0,0,0,0,0,0,0,0,0,0,0,0,0,0,0,0,0,0,0,0,0,0,0,0,0,0,0,0,0,0,0,0,0,0,0,0,0,0,0,0,0,0,0,0,0,0,0,0,0,0,0,0,0,0,0,0,0,0,0,0,0,0,0,0,0,0,0,0,0,0,0,0,0,0,0,0,0,0,0,0,0,0,0,0,0,0,0,0,0,0,0,0,0,0,0,0,0,0,0,0,0,0,0,0,0,0,0,0,0,0,0,0,0,0,0,0,0,0,0,0,0,0,0,0,0,0,0,0,0,0,0,0,0,0,0,0,0,0]
[null,"'225 Closing Balance - Issue 2",null,null,null,null,null,"","",0,0,0,0,0,0,0,0,0,0,0,0,0,0,0,0,0,0,0,0,0,0,0,0,0,0,0,0,0,0,0,0,0,0,0,0,0,0,0,0,0,0,0,0,0,0,0,0,0,0,0,0,0,0,0,0,0,0,0,0,0,0,0,0,0,0,0,0,0,0,0,0,0,0,0,0,0,0,0,0,0,0,0,0,0,0,0,0,0,0,0,0,0,0,0,0,0,0,0,0,0,0,0,0,0,0,0,0,0,0,0,0,0,0,0,0,0,0,0,0,0,0,0,0,0,0,0,0,0,0,0,0,0,0,0,0,0,0,0,0,0,0,0,0,0,0,0]
[null,"'226 Interest Rate - Issue 2",null,null,null,null,null,"","",2.9166666666666668E-3,2.9166666666666668E-3,2.9166666666666668E-3,2.9166666666666668E-3,2.9166666666666668E-3,2.9166666666666668E-3,2.9166666666666668E-3,2.9166666666666668E-3,2.9166666666666668E-3,2.9166666666666668E-3,2.9166666666666668E-3,2.9166666666666668E-3,2.9166666666666668E-3,2.9166666666666668E-3,2.9166666666666668E-3,2.9166666666666668E-3,2.9166666666666668E-3,2.9166666666666668E-3,2.9166666666666668E-3,2.9166666666666668E-3,2.9166666666666668E-3,2.9166666666666668E-3,2.9166666666666668E-3,2.9166666666666668E-3,2.9166666666666668E-3,2.9166666666666668E-3,2.9166666666666668E-3,2.9166666666666668E-3,2.9166666666666668E-3,2.9166666666666668E-3,2.9166666666666668E-3,2.9166666666666668E-3,2.9166666666666668E-3,2.9166666666666668E-3,2.9166666666666668E-3,2.9166666666666668E-3,1.7500000000000002E-2,1.7500000000000002E-2,1.7500000000000002E-2,1.7500000000000002E-2,1.7500000000000002E-2,1.7500000000000002E-2,1.7500000000000002E-2,1.7500000000000002E-2,1.7500000000000002E-2,1.7500000000000002E-2,1.7500000000000002E-2,1.7500000000000002E-2,1.7500000000000002E-2,1.7500000000000002E-2,1.7500000000000002E-2,1.7500000000000002E-2,1.7500000000000002E-2,1.7500000000000002E-2,1.7500000000000002E-2,1.7500000000000002E-2,1.7500000000000002E-2,1.7500000000000002E-2,1.7500000000000002E-2,1.7500000000000002E-2,1.7500000000000002E-2,1.7500000000000002E-2,1.7500000000000002E-2,1.7500000000000002E-2,1.7500000000000002E-2,1.7500000000000002E-2,1.7500000000000002E-2,1.7500000000000002E-2,1.7500000000000002E-2,1.7500000000000002E-2,1.7500000000000002E-2,1.7500000000000002E-2,1.7500000000000002E-2,1.7500000000000002E-2,1.7500000000000002E-2,1.7500000000000002E-2,1.7500000000000002E-2,1.7500000000000002E-2,1.7500000000000002E-2,1.7500000000000002E-2,1.7500000000000002E-2,1.7500000000000002E-2,1.7500000000000002E-2,1.7500000000000002E-2,1.7500000000000002E-2,1.7500000000000002E-2,1.7500000000000002E-2,1.7500000000000002E-2,1.7500000000000002E-2,1.7500000000000002E-2,1.7500000000000002E-2,1.7500000000000002E-2,1.7500000000000002E-2,1.7500000000000002E-2,1.7500000000000002E-2,1.7500000000000002E-2,1.7500000000000002E-2,1.7500000000000002E-2,1.7500000000000002E-2,1.7500000000000002E-2,1.7500000000000002E-2,1.7500000000000002E-2,1.7500000000000002E-2,1.7500000000000002E-2,1.7500000000000002E-2,1.7500000000000002E-2,0,0,0,0,0,0,0,0,0,0,0,0,0,0,0,0,0,0,0,0,0,0,0,0,0,0,0,0,0,0,0,0,0,0,0,0,0,0,0,0,0]
[null,"'227 Interest Expense - Issue 2",null,null,null,null,null,"","",0,0,0,0,0,0,0,0,0,0,0,0,0,0,0,0,0,0,0,0,0,0,0,0,0,0,0,0,0,0,0,0,0,0,0,0,0,0,0,0,0,0,0,0,0,0,0,0,0,0,0,0,0,0,0,0,0,0,0,0,0,0,0,0,0,0,0,0,0,0,0,0,0,0,0,0,0,0,0,0,0,0,0,0,0,0,0,0,0,0,0,0,0,0,0,0,0,0,0,0,0,0,0,0,0,0,0,0,0,0,0,0,0,0,0,0,0,0,0,0,0,0,0,0,0,0,0,0,0,0,0,0,0,0,0,0,0,0,0,0,0,0,0,0,0,0,0]
[null,"'228 Opening Debt Balance - Issue 3",null,null,null,null,null,"","",0,0,0,0,0,0,0,0,0,0,0,0,0,0,0,0,0,0,0,0,0,0,0,0,0,0,0,0,0,0,0,0,0,0,0,0,0,0,0,0,0,0,0,0,0,0,0,0,0,0,0,0,0,0,0,0,0,0,0,0,0,0,0,0,0,0,0,0,0,0,0,0,0,0,0,0,0,0,0,0,0,0,0,0,0,0,0,0,0,0,0,0,0,0,0,0,0,0,0,0,0,0,0,0,0,0,0,0,0,0,0,0,0,0,0,0,0,0,0,0,0,0,0,0,0,0,0,0,0,0,0,0,0,0,0,0,0,0,0,0,0,0,0,0,0,0,0]
[null,"'229 Add: Debt Draws - Issue 3",null,null,null,null,null,"","",0,0,0,0,0,0,0,0,0,0,0,0,0,0,0,0,0,0,0,0,0,0,0,0,0,0,0,0,0,0,0,0,0,0,0,0,0,0,0,0,0,0,0,0,0,0,0,0,0,0,0,0,0,0,0,0,0,0,0,0,0,0,0,0,0,0,0,0,0,0,0,0,0,0,0,0,0,0,0,0,0,0,0,0,0,0,0,0,0,0,0,0,0,0,0,0,0,0,0,0,0,0,0,0,0,0,0,0,0,0,0,0,0,0,0,0,0,0,0,0,0,0,0,0,0,0,0,0,0,0,0,0,0,0,0,0,0,0,0,0,0,0,0,0,0,0,0]
[null,"'230 Less: Debt Repayments - Issue 3",null,null,null,null,null,"","",0,0,0,0,0,0,0,0,0,0,0,0,0,0,0,0,0,0,0,0,0,0,0,0,0,0,0,0,0,0,0,0,0,0,0,0,0,0,0,0,0,0,0,0,0,0,0,0,0,0,0,0,0,0,0,0,0,0,0,0,0,0,0,0,0,0,0,0,0,0,0,0,0,0,0,0,0,0,0,0,0,0,0,0,0,0,0,0,0,0,0,0,0,0,0,0,0,0,0,0,0,0,0,0,0,0,0,0,0,0,0,0,0,0,0,0,0,0,0,0,0,0,0,0,0,0,0,0,0,0,0,0,0,0,0,0,0,0,0,0,0,0,0,0,0,0,0]
[null,"'231 Less: Cash Sweep - Issue 3",null,null,null,null,null,"","",0,0,0,0,0,0,0,0,0,0,0,0,0,0,0,0,0,0,0,0,0,0,0,0,0,0,0,0,0,0,0,0,0,0,0,0,0,0,0,0,0,0,0,0,0,0,0,0,0,0,0,0,0,0,0,0,0,0,0,0,0,0,0,0,0,0,0,0,0,0,0,0,0,0,0,0,0,0,0,0,0,0,0,0,0,0,0,0,0,0,0,0,0,0,0,0,0,0,0,0,0,0,0,0,0,0,0,0,0,0,0,0,0,0,0,0,0,0,0,0,0,0,0,0,0,0,0,0,0,0,0,0,0,0,0,0,0,0,0,0,0,0,0,0,0,0,0]
[null,"'232 Closing Balance - Issue 3",null,null,null,null,null,"","",0,0,0,0,0,0,0,0,0,0,0,0,0,0,0,0,0,0,0,0,0,0,0,0,0,0,0,0,0,0,0,0,0,0,0,0,0,0,0,0,0,0,0,0,0,0,0,0,0,0,0,0,0,0,0,0,0,0,0,0,0,0,0,0,0,0,0,0,0,0,0,0,0,0,0,0,0,0,0,0,0,0,0,0,0,0,0,0,0,0,0,0,0,0,0,0,0,0,0,0,0,0,0,0,0,0,0,0,0,0,0,0,0,0,0,0,0,0,0,0,0,0,0,0,0,0,0,0,0,0,0,0,0,0,0,0,0,0,0,0,0,0,0,0,0,0,0]
[null,"'233 Interest Rate - Issue 3",null,null,null,null,null,"","",2.5000000000000001E-3,2.5000000000000001E-3,2.5000000000000001E-3,2.5000000000000001E-3,2.5000000000000001E-3,2.5000000000000001E-3,2.5000000000000001E-3,2.5000000000000001E-3,2.5000000000000001E-3,2.5000000000000001E-3,2.5000000000000001E-3,2.5000000000000001E-3,2.5000000000000001E-3,2.5000000000000001E-3,2.5000000000000001E-3,2.5000000000000001E-3,2.5000000000000001E-3,2.5000000000000001E-3,2.5000000000000001E-3,2.5000000000000001E-3,2.5000000000000001E-3,2.5000000000000001E-3,2.5000000000000001E-3,2.5000000000000001E-3,2.5000000000000001E-3,2.5000000000000001E-3,2.5000000000000001E-3,2.5000000000000001E-3,2.5000000000000001E-3,2.5000000000000001E-3,2.5000000000000001E-3,2.5000000000000001E-3,2.5000000000000001E-3,2.5000000000000001E-3,2.5000000000000001E-3,2.5000000000000001E-3,1.4999999999999999E-2,1.4999999999999999E-2,1.4999999999999999E-2,1.4999999999999999E-2,1.4999999999999999E-2,1.4999999999999999E-2,1.4999999999999999E-2,1.4999999999999999E-2,1.4999999999999999E-2,1.4999999999999999E-2,1.4999999999999999E-2,1.4999999999999999E-2,1.4999999999999999E-2,1.4999999999999999E-2,1.4999999999999999E-2,1.4999999999999999E-2,1.4999999999999999E-2,1.4999999999999999E-2,1.4999999999999999E-2,1.4999999999999999E-2,1.4999999999999999E-2,1.4999999999999999E-2,1.4999999999999999E-2,1.4999999999999999E-2,1.4999999999999999E-2,1.4999999999999999E-2,1.4999999999999999E-2,1.4999999999999999E-2,1.4999999999999999E-2,1.4999999999999999E-2,1.4999999999999999E-2,1.4999999999999999E-2,1.4999999999999999E-2,1.4999999999999999E-2,1.4999999999999999E-2,1.4999999999999999E-2,1.4999999999999999E-2,1.4999999999999999E-2,1.4999999999999999E-2,1.4999999999999999E-2,1.4999999999999999E-2,1.4999999999999999E-2,1.4999999999999999E-2,1.4999999999999999E-2,1.4999999999999999E-2,1.4999999999999999E-2,1.4999999999999999E-2,1.4999999999999999E-2,1.4999999999999999E-2,1.4999999999999999E-2,1.4999999999999999E-2,1.4999999999999999E-2,1.4999999999999999E-2,1.4999999999999999E-2,1.4999999999999999E-2,1.4999999999999999E-2,1.4999999999999999E-2,1.4999999999999999E-2,1.4999999999999999E-2,1.4999999999999999E-2,1.4999999999999999E-2,1.4999999999999999E-2,1.4999999999999999E-2,1.4999999999999999E-2,1.4999999999999999E-2,1.4999999999999999E-2,1.4999999999999999E-2,1.4999999999999999E-2,1.4999999999999999E-2,1.4999999999999999E-2,0,0,0,0,0,0,0,0,0,0,0,0,0,0,0,0,0,0,0,0,0,0,0,0,0,0,0,0,0,0,0,0,0,0,0,0,0,0,0,0,0]
[null,"'234 Interest Expense - Issue 3",null,null,null,null,null,"","",0,0,0,0,0,0,0,0,0,0,0,0,0,0,0,0,0,0,0,0,0,0,0,0,0,0,0,0,0,0,0,0,0,0,0,0,0,0,0,0,0,0,0,0,0,0,0,0,0,0,0,0,0,0,0,0,0,0,0,0,0,0,0,0,0,0,0,0,0,0,0,0,0,0,0,0,0,0,0,0,0,0,0,0,0,0,0,0,0,0,0,0,0,0,0,0,0,0,0,0,0,0,0,0,0,0,0,0,0,0,0,0,0,0,0,0,0,0,0,0,0,0,0,0,0,0,0,0,0,0,0,0,0,0,0,0,0,0,0,0,0,0,0,0,0,0,0]
[null,"'235 Opening Debt Balance - Issue 4",null,null,null,null,null,"","",0,0,0,0,0,0,0,0,0,0,0,0,0,0,0,0,0,0,0,0,0,0,0,0,0,0,0,0,0,0,0,0,0,0,0,0,0,0,0,0,0,0,0,0,0,0,0,0,0,0,0,0,0,0,0,0,0,0,0,0,0,0,0,0,0,0,0,0,0,0,0,0,0,0,0,0,0,0,0,0,0,0,0,0,0,0,0,0,0,0,0,0,0,0,0,0,0,0,0,0,0,0,0,0,0,0,0,0,0,0,0,0,0,0,0,0,0,0,0,0,0,0,0,0,0,0,0,0,0,0,0,0,0,0,0,0,0,0,0,0,0,0,0,0,0,0,0]
[null,"'236 Add: Debt Draws - Issue 4",null,null,null,null,null,"","",0,0,0,0,0,0,0,0,0,0,0,0,0,0,0,0,0,0,0,0,0,0,0,0,0,0,0,0,0,0,0,0,0,0,0,0,0,0,0,0,0,0,0,0,0,0,0,0,0,0,0,0,0,0,0,0,0,0,0,0,0,0,0,0,0,0,0,0,0,0,0,0,0,0,0,0,0,0,0,0,0,0,0,0,0,0,0,0,0,0,0,0,0,0,0,0,0,0,0,0,0,0,0,0,0,0,0,0,0,0,0,0,0,0,0,0,0,0,0,0,0,0,0,0,0,0,0,0,0,0,0,0,0,0,0,0,0,0,0,0,0,0,0,0,0,0,0]
[null,"'237 Less: Debt Repayments - Issue 4",null,null,null,null,null,"","",0,0,0,0,0,0,0,0,0,0,0,0,0,0,0,0,0,0,0,0,0,0,0,0,0,0,0,0,0,0,0,0,0,0,0,0,0,0,0,0,0,0,0,0,0,0,0,0,0,0,0,0,0,0,0,0,0,0,0,0,0,0,0,0,0,0,0,0,0,0,0,0,0,0,0,0,0,0,0,0,0,0,0,0,0,0,0,0,0,0,0,0,0,0,0,0,0,0,0,0,0,0,0,0,0,0,0,0,0,0,0,0,0,0,0,0,0,0,0,0,0,0,0,0,0,0,0,0,0,0,0,0,0,0,0,0,0,0,0,0,0,0,0,0,0,0,0]
[null,"'238 Less: Cash Sweep - Issue 4",null,null,null,null,null,"","",0,0,0,0,0,0,0,0,0,0,0,0,0,0,0,0,0,0,0,0,0,0,0,0,0,0,0,0,0,0,0,0,0,0,0,0,0,0,0,0,0,0,0,0,0,0,0,0,0,0,0,0,0,0,0,0,0,0,0,0,0,0,0,0,0,0,0,0,0,0,0,0,0,0,0,0,0,0,0,0,0,0,0,0,0,0,0,0,0,0,0,0,0,0,0,0,0,0,0,0,0,0,0,0,0,0,0,0,0,0,0,0,0,0,0,0,0,0,0,0,0,0,0,0,0,0,0,0,0,0,0,0,0,0,0,0,0,0,0,0,0,0,0,0,0,0,0]
[null,"'239 Closing Balance - Issue 4",null,null,null,null,null,"","",0,0,0,0,0,0,0,0,0,0,0,0,0,0,0,0,0,0,0,0,0,0,0,0,0,0,0,0,0,0,0,0,0,0,0,0,0,0,0,0,0,0,0,0,0,0,0,0,0,0,0,0,0,0,0,0,0,0,0,0,0,0,0,0,0,0,0,0,0,0,0,0,0,0,0,0,0,0,0,0,0,0,0,0,0,0,0,0,0,0,0,0,0,0,0,0,0,0,0,0,0,0,0,0,0,0,0,0,0,0,0,0,0,0,0,0,0,0,0,0,0,0,0,0,0,0,0,0,0,0,0,0,0,0,0,0,0,0,0,0,0,0,0,0,0,0,0]
[null,"'240 Interest Rate - Issue 4",null,null,null,null,null,"","",2.4166666666666668E-3,2.4166666666666668E-3,2.4166666666666668E-3,2.4166666666666668E-3,2.4166666666666668E-3,2.4166666666666668E-3,2.4166666666666668E-3,2.4166666666666668E-3,2.4166666666666668E-3,2.4166666666666668E-3,2.4166666666666668E-3,2.4166666666666668E-3,2.4166666666666668E-3,2.4166666666666668E-3,2.4166666666666668E-3,2.4166666666666668E-3,2.4166666666666668E-3,2.4166666666666668E-3,2.4166666666666668E-3,2.4166666666666668E-3,2.4166666666666668E-3,2.4166666666666668E-3,2.4166666666666668E-3,2.4166666666666668E-3,2.4166666666666668E-3,2.4166666666666668E-3,2.4166666666666668E-3,2.4166666666666668E-3,2.4166666666666668E-3,2.4166666666666668E-3,2.4166666666666668E-3,2.4166666666666668E-3,2.4166666666666668E-3,2.4166666666666668E-3,2.4166666666666668E-3,2.4166666666666668E-3,1.4500000000000001E-2,1.4500000000000001E-2,1.4500000000000001E-2,1.4500000000000001E-2,1.4500000000000001E-2,1.4500000000000001E-2,1.4500000000000001E-2,1.4500000000000001E-2,1.4500000000000001E-2,1.4500000000000001E-2,1.4500000000000001E-2,1.4500000000000001E-2,1.4500000000000001E-2,1.4500000000000001E-2,1.4500000000000001E-2,1.4500000000000001E-2,1.4500000000000001E-2,1.4500000000000001E-2,1.4500000000000001E-2,1.4500000000000001E-2,1.4500000000000001E-2,1.4500000000000001E-2,1.4500000000000001E-2,1.4500000000000001E-2,1.4500000000000001E-2,1.4500000000000001E-2,1.4500000000000001E-2,1.4500000000000001E-2,1.4500000000000001E-2,1.4500000000000001E-2,1.4500000000000001E-2,1.4500000000000001E-2,1.4500000000000001E-2,1.4500000000000001E-2,1.4500000000000001E-2,1.4500000000000001E-2,1.4500000000000001E-2,1.4500000000000001E-2,1.4500000000000001E-2,1.4500000000000001E-2,1.4500000000000001E-2,1.4500000000000001E-2,1.4500000000000001E-2,1.4500000000000001E-2,1.4500000000000001E-2,1.4500000000000001E-2,1.4500000000000001E-2,1.4500000000000001E-2,1.4500000000000001E-2,1.4500000000000001E-2,1.4500000000000001E-2,1.4500000000000001E-2,1.4500000000000001E-2,1.4500000000000001E-2,1.4500000000000001E-2,1.4500000000000001E-2,1.4500000000000001E-2,1.4500000000000001E-2,1.4500000000000001E-2,1.4500000000000001E-2,1.4500000000000001E-2,1.4500000000000001E-2,1.4500000000000001E-2,1.4500000000000001E-2,1.4500000000000001E-2,1.4500000000000001E-2,1.4500000000000001E-2,1.4500000000000001E-2,1.4500000000000001E-2,1.4500000000000001E-2,0,0,0,0,0,0,0,0,0,0,0,0,0,0,0,0,0,0,0,0,0,0,0,0,0,0,0,0,0,0,0,0,0,0,0,0,0,0,0,0,0]
[null,"'241 Interest Expense - Issue 4",null,null,null,null,null,"","",0,0,0,0,0,0,0,0,0,0,0,0,0,0,0,0,0,0,0,0,0,0,0,0,0,0,0,0,0,0,0,0,0,0,0,0,0,0,0,0,0,0,0,0,0,0,0,0,0,0,0,0,0,0,0,0,0,0,0,0,0,0,0,0,0,0,0,0,0,0,0,0,0,0,0,0,0,0,0,0,0,0,0,0,0,0,0,0,0,0,0,0,0,0,0,0,0,0,0,0,0,0,0,0,0,0,0,0,0,0,0,0,0,0,0,0,0,0,0,0,0,0,0,0,0,0,0,0,0,0,0,0,0,0,0,0,0,0,0,0,0,0,0,0,0,0,0]
[null,"'242 Opening Debt Balance - Issue 5",null,null,null,null,null,"","",0,0,0,0,0,0,0,0,0,0,0,0,0,0,0,0,0,0,0,0,0,0,0,0,0,0,0,0,0,0,0,0,0,0,0,0,0,0,0,0,0,0,0,0,0,0,0,0,0,0,0,0,0,0,0,0,0,0,0,0,0,0,0,0,0,0,0,0,0,0,0,0,0,0,0,0,0,0,0,0,0,0,0,0,0,0,0,0,0,0,0,0,0,0,0,0,0,0,0,0,0,0,0,0,0,0,0,0,0,0,0,0,0,0,0,0,0,0,0,0,0,0,0,0,0,0,0,0,0,0,0,0,0,0,0,0,0,0,0,0,0,0,0,0,0,0,0]
[null,"'243 Add: Debt Draws - Issue 5",null,null,null,null,null,"","",0,0,0,0,0,0,0,0,0,0,0,0,0,0,0,0,0,0,0,0,0,0,0,0,0,0,0,0,0,0,0,0,0,0,0,0,0,0,0,0,0,0,0,0,0,0,0,0,0,0,0,0,0,0,0,0,0,0,0,0,0,0,0,0,0,0,0,0,0,0,0,0,0,0,0,0,0,0,0,0,0,0,0,0,0,0,0,0,0,0,0,0,0,0,0,0,0,0,0,0,0,0,0,0,0,0,0,0,0,0,0,0,0,0,0,0,0,0,0,0,0,0,0,0,0,0,0,0,0,0,0,0,0,0,0,0,0,0,0,0,0,0,0,0,0,0,0]
[null,"'244 Less: Debt Repayments - Issue 5",null,null,null,null,null,"","",0,0,0,0,0,0,0,0,0,0,0,0,0,0,0,0,0,0,0,0,0,0,0,0,0,0,0,0,0,0,0,0,0,0,0,0,0,0,0,0,0,0,0,0,0,0,0,0,0,0,0,0,0,0,0,0,0,0,0,0,0,0,0,0,0,0,0,0,0,0,0,0,0,0,0,0,0,0,0,0,0,0,0,0,0,0,0,0,0,0,0,0,0,0,0,0,0,0,0,0,0,0,0,0,0,0,0,0,0,0,0,0,0,0,0,0,0,0,0,0,0,0,0,0,0,0,0,0,0,0,0,0,0,0,0,0,0,0,0,0,0,0,0,0,0,0,0]
[null,"'245 Less: Cash Sweep - Issue 5",null,null,null,null,null,"","","","","","","","","","","","","","",0,0,0,0,0,0,0,0,0,0,0,0,0,0,0,0,0,0,0,0,0,0,0,0,0,0,0,0,0,0,0,0,0,0,0,0,0,0,0,0,0,0,0,0,0,0,0,0,0,0,0,0,0,0,0,0,0,0,0,0,0,0,0,0,0,0,0,0,0,0,0,0,0,0,0,0,0,0,0,0,0,0,0,0,0,0,0,0,0,0,0,0,0,0,0,0,0,0,0,0,0,0,0,0,0,0,0,0,0,0,0,0,0,0,0,0,0,0,0,0,0,0,0,0,0,0,0,0,0,0,0,0,0,0,0]
[null,"'246 Closing Balance - Issue 5",null,null,null,null,null,"","",0,0,0,0,0,0,0,0,0,0,0,0,0,0,0,0,0,0,0,0,0,0,0,0,0,0,0,0,0,0,0,0,0,0,0,0,0,0,0,0,0,0,0,0,0,0,0,0,0,0,0,0,0,0,0,0,0,0,0,0,0,0,0,0,0,0,0,0,0,0,0,0,0,0,0,0,0,0,0,0,0,0,0,0,0,0,0,0,0,0,0,0,0,0,0,0,0,0,0,0,0,0,0,0,0,0,0,0,0,0,0,0,0,0,0,0,0,0,0,0,0,0,0,0,0,0,0,0,0,0,0,0,0,0,0,0,0,0,0,0,0,0,0,0,0,0,0]
[null,"'247 Interest Rate - Issue 5",null,null,null,null,null,"","",0,0,0,0,0,0,0,0,0,0,0,0,0,0,0,0,0,0,0,0,0,0,0,0,0,0,0,0,0,0,0,0,0,0,0,0,0,0,0,0,0,0,0,0,0,0,0,0,0,0,0,0,0,0,0,0,0,0,0,0,0,0,0,0,0,0,0,0,0,0,0,0,0,0,0,0,0,0,0,0,0,0,0,0,0,0,0,0,0,0,0,0,0,0,0,0,0,0,0,0,0,0,0,0,0,0,0,0,0,0,0,0,0,0,0,0,0,0,0,0,0,0,0,0,0,0,0,0,0,0,0,0,0,0,0,0,0,0,0,0,0,0,0,0,0,0,0]
[null,"'248 Interest Expense - Issue 5",null,null,null,null,null,"","",0,0,0,0,0,0,0,0,0,0,0,0,0,0,0,0,0,0,0,0,0,0,0,0,0,0,0,0,0,0,0,0,0,0,0,0,0,0,0,0,0,0,0,0,0,0,0,0,0,0,0,0,0,0,0,0,0,0,0,0,0,0,0,0,0,0,0,0,0,0,0,0,0,0,0,0,0,0,0,0,0,0,0,0,0,0,0,0,0,0,0,0,0,0,0,0,0,0,0,0,0,0,0,0,0,0,0,0,0,0,0,0,0,0,0,0,0,0,0,0,0,0,0,0,0,0,0,0,0,0,0,0,0,0,0,0,0,0,0,0,0,0,0,0,0,0,0]
[null,"'249 EBL Opening Balance",null,null,null,null,null,"","",0,0,0,0,0,0,0,0,0,0,0,0,0,0,0,0,0,0,0,0,0,0,0,0,0,0,0,0,0,0,0,0,0,0,0,0,0,0,0,0,0,0,0,0,0,0,0,0,0,0,0,0,0,0,0,0,0,0,0,0,0,0,0,0,0,0,0,0,0,0,0,0,0,0,0,0,0,0,0,0,0,0,0,0,0,0,0,0,0,0,0,0,0,0,0,0,0,0,0,0,0,0,0,0,0,0,0,0,0,0,0,0,0,0,0,0,0,0,0,0,0,0,0,0,0,0,0,0,0,0,0,0,0,0,0,0,0,0,0,0,0,0,0,0,0,0,0]
[null,"'250 EBL Draws",null,null,null,null,null,"","",0,0,0,0,0,0,0,0,0,0,0,0,0,0,0,0,0,0,0,0,0,0,0,0,0,0,0,0,0,0,0,0,0,0,0,0,0,0,0,0,0,0,0,0,0,0,0,0,0,0,0,0,0,0,0,0,0,0,0,0,0,0,0,0,0,0,0,0,0,0,0,0,0,0,0,0,0,0,0,0,0,0,0,0,0,0,0,0,0,0,0,0,0,0,0,0,0,0,0,0,0,0,0,0,0,0,0,0,0,0,0,0,0,0,0,0,0,0,0,0,0,0,0,0,0,0,0,0,0,0,0,0,0,0,0,0,0,0,0,0,0,0,0,0,0,0,0]
[null,"'251 EBL Interest Capitalised",null,null,null,null,null,"","",0,0,0,0,0,0,0,0,0,0,0,0,0,0,0,0,0,0,0,0,0,0,0,0,0,0,0,0,0,0,0,0,0,0,0,0,0,0,0,0,0,0,0,0,0,0,0,0,0,0,0,0,0,0,0,0,0,0,0,0,0,0,0,0,0,0,0,0,0,0,0,0,0,0,0,0,0,0,0,0,0,0,0,0,0,0,0,0,0,0,0,0,0,0,0,0,0,0,0,0,0,0,0,0,0,0,0,0,0,0,0,0,0,0,0,0,0,0,0,0,0,0,0,0,0,0,0,0,0,0,0,0,0,0,0,0,0,0,0,0,0,0,0,0,0,0,0]
[null,"'252 EBL Repayment",null,null,null,null,null,"","",0,0,0,0,0,0,0,0,0,0,0,0,0,0,0,0,0,0,0,0,0,0,0,0,0,0,0,0,0,0,0,0,0,0,0,0,0,0,0,0,0,0,0,0,0,0,0,0,0,0,0,0,0,0,0,0,0,0,0,0,0,0,0,0,0,0,0,0,0,0,0,0,0,0,0,0,0,0,0,0,0,0,0,0,0,0,0,0,0,0,0,0,0,0,0,0,0,0,0,0,0,0,0,0,0,0,0,0,0,0,0,0,0,0,0,0,0,0,0,0,0,0,0,0,0,0,0,0,0,0,0,0,0,0,0,0,0,0,0,0,0,0,0,0,0,0,0]
[null,"'253 EBL Closing Balance",null,null,null,null,null,"","",0,0,0,0,0,0,0,0,0,0,0,0,0,0,0,0,0,0,0,0,0,0,0,0,0,0,0,0,0,0,0,0,0,0,0,0,0,0,0,0,0,0,0,0,0,0,0,0,0,0,0,0,0,0,0,0,0,0,0,0,0,0,0,0,0,0,0,0,0,0,0,0,0,0,0,0,0,0,0,0,0,0,0,0,0,0,0,0,0,0,0,0,0,0,0,0,0,0,0,0,0,0,0,0,0,0,0,0,0,0,0,0,0,0,0,0,0,0,0,0,0,0,0,0,0,0,0,0,0,0,0,0,0,0,0,0,0,0,0,0,0,0,0,0,0,0,0]
[null,"'254 Shareholder Loan Opening Balance",null,null,null,null,null,"","",0,0,0,0,0,0,0,0,0,0,0,0,0,0,0,0,0,0,0,0,0,0,0,0,0,0,0,0,0,0,0,0,0,0,0,0,0,0,0,0,0,0,0,0,0,0,0,0,0,0,0,0,0,0,0,0,0,0,0,0,0,0,0,0,0,0,0,0,0,0,0,0,0,0,0,0,0,0,0,0,0,0,0,0,0,0,0,0,0,0,0,0,0,0,0,0,0,0,0,0,0,0,0,0,0,0,0,0,0,0,0,0,0,0,0,0,0,0,0,0,0,0,0,0,0,0,0,0,0,0,0,0,0,0,0,0,0,0,0,0,0,0,0,0,0,0,0]
[null,"'255 Shareholder Draws",null,null,null,null,null,"","",0,0,0,0,0,0,0,0,0,0,0,0,0,0,0,0,0,0,0,0,0,0,0,0,0,0,0,0,0,0,0,0,0,0,0,0,0,0,0,0,0,0,0,0,0,0,0,0,0,0,0,0,0,0,0,0,0,0,0,0,0,0,0,0,0,0,0,0,0,0,0,0,0,0,0,0,0,0,0,0,0,0,0,0,0,0,0,0,0,0,0,0,0,0,0,0,0,0,0,0,0,0,0,0,0,0,0,0,0,0,0,0,0,0,0,0,0,0,0,0,0,0,0,0,0,0,0,0,0,0,0,0,0,0,0,0,0,0,0,0,0,0,0,0,0,0,0]
[null,"'256 Shareholder Interest Capitalised",null,null,null,null,null,"","",0,0,0,0,0,0,0,0,0,0,0,0,0,0,0,0,0,0,0,0,0,0,0,0,0,0,0,0,0,0,0,0,0,0,0,0,0,0,0,0,0,0,0,0,0,0,0,0,0,0,0,0,0,0,0,0,0,0,0,0,0,0,0,0,0,0,0,0,0,0,0,0,0,0,0,0,0,0,0,0,0,0,0,0,0,0,0,0,0,0,0,0,0,0,0,0,0,0,0,0,0,0,0,0,0,0,0,0,0,0,0,0,0,0,0,0,0,0,0,0,0,0,0,0,0,0,0,0,0,0,0,0,0,0,0,0,0,0,0,0,0,0,0,0,0,0,0]
[null,"'257 Shareholder Lonan Repayment",null,null,null,null,null,"","",0,0,0,0,0,0,0,0,0,0,0,0,0,0,0,0,0,0,0,0,0,0,0,0,0,0,0,0,0,0,0,0,0,0,0,0,0,0,0,0,0,0,0,0,0,0,0,0,0,0,0,0,0,0,0,0,0,0,0,0,0,0,0,0,0,0,0,0,0,0,0,0,0,0,0,0,0,0,0,0,0,0,0,0,0,0,0,0,0,0,0,0,0,0,0,0,0,0,0,0,0,0,0,0,0,0,0,0,0,0,0,0,0,0,0,0,0,0,0,0,0,0,0,0,0,0,0,0,0,0,0,0,0,0,0,0,0,0,0,0,0,0,0,0,0,0,0]
[null,{"$f":"B712","v":"'258 Shareholder Loan Closing Balance"},null,null,null,null,null,"","",0,0,0,0,0,0,0,0,0,0,0,0,0,0,0,0,0,0,0,0,0,0,0,0,0,0,0,0,0,0,0,0,0,0,0,0,0,0,0,0,0,0,0,0,0,0,0,0,0,0,0,0,0,0,0,0,0,0,0,0,0,0,0,0,0,0,0,0,0,0,0,0,0,0,0,0,0,0,0,0,0,0,0,0,0,0,0,0,0,0,0,0,0,0,0,0,0,0,0,0,0,0,0,0,0,0,0,0,0,0,0,0,0,0,0,0,0,0,0,0,0,0,0,0,0,0,0,0,0,0,0,0,0,0,0,0,0,0,0,0,0,0,0,0,0,0,0]
[null,{"$f":"B713","v":"'259 Other Outputs"},null,null,null,null,null,"","","","","","","","","","","","","","","","","","","","","","","","","","","","","","","","","","","","","","","Operation","Operation","Operation","Operation","Operation","Operation","Operation","Operation","Operation","Operation","Operation","Operation","Operation","Operation","Operation","Operation","Operation","Operation","Operation","Operation","Operation","Operation","Operation","Operation","Operation","Operation","Operation","Operation","Operation","Operation","Operation","Operation","Operation","Operation","Operation","Operation","Operation","Operation","Operation","Operation","Operation","Operation","Operation","Operation","Operation","Operation","Operation","Operation","Operation","Operation","Operation","Operation","Operation","Operation","Operation","Operation","Operation","Operation","Operation","Operation","Operation","Operation","Operation","Operation","Operation","Operation","Operation","Operation","Operation","Operation",0,0,0,0,0,0,0,0,0,0,0,0,0,0,0,0,0,0,0,0,0,0,0,0,0,0,0,0,0,0,0,0,0,0,0,0,0,0,0,0,0]
[null,{"$f":"B714","v":"'260 Non Capture Sculpted Debt Service"},null,null,null,null,null,"","",0,0,0,0,0,0,0,0,0,0,0,0,0,0,0,0,0,0,0,0,0,0,0,0,0,0,0,0,0,0,0,0,0,0,0,0,0,0,0,0,0,0,0,0,0,0,0,0,0,0,0,0,0,0,0,0,0,0,0,0,0,0,0,0,0,0,0,0,0,0,0,0,0,0,0,0,0,0,0,0,0,0,0,0,0,0,0,0,0,0,0,0,0,0,0,0,0,0,0,0,0,0,0,0,0,0,0,0,0,0,0,0,0,0,0,0,0,0,0,0,0,0,0,0,0,0,0,0,0,0,0,0,0,0,0,0,0,0,0,0,0,0,0,0,0,0,0]
[null,{"$f":"B715","v":"'261 Capture Debt Service/Issue No."},null,null,null,null,null,1,"",0,0,0,0,0,0,0,0,0,0,0,0,0,0,0,0,0,0,0,0,0,0,0,0,0,0,0,0,0,0,0,0,0,0,0,0,0,3597.6759228992451,3716.7745664299191,3669.6294413572296,3791.1100577585166,3743.0220301843747,3866.9322589136864,3847.0583620323887,3944.2709040919617,3894.2401202038254,4023.1563221737993,3972.1249226079008,4103.6194486172772,4051.5674210600596,4185.691837589623,4164.1796924607825,4269.4056743414158,4215.2507448708875,4354.7937878282446,4299.5557597683037,4441.8896635848096,4385.5468749636721,4530.7274568565063,4507.4420191384625,4621.3420059936379,4562.7229687122053,4713.7688461135112,4653.9774280864485,4808.0442230357803,4747.0569766481794,4904.2051074964984,4879.0002008508081,5002.2892096464275,4938.8380785047675,5102.3349938393567,5037.6148400748625,5204.3816937161446,5138.3671368763607,5308.4693275904683,5281.1867260473773,5414.6387141422783,5345.9571692061672,5522.9314884251235,5452.8763125902897,5633.3901181936271,5561.9338388420974,5746.0579205574995,5716.5263552387933,5860.9790789686504,5786.6359659313166,5978.1986605480233,5902.368685249945,6097.7626337589845,6020.4160589549447,0,0,0,0,0,0,0,0,0,0,0,0,0,0,0,0,0,0,0,0,0,0,0,0,0,0,0,0,0,0,0,0,0,0,0,0,0,0,0,0,0,0,0,0,0,0,0,0,0,0,0,0,0,0,0,0,0]
[null,{"$f":"B716","v":"'262 LLCR for sculpting"},null,null,null,null,null,"","",1.2,1.2,1.2,1.2,1.2,1.2,1.2,1.2,1.2,1.2,1.2,1.2,1.2,1.2,1.2,1.2,1.2,1.2,1.2,1.2,1.2,1.2,1.2,1.2,1.2,1.2,1.2,1.2,1.2,1.2,1.2,1.2,1.2,1.2,1.2,1.2,1.2,1.2,1.2,1.2,1.2,1.2,1.2,1.2,1.2,1.2,1.2,1.2,1.2,1.2,1.2,1.2,1.2,1.2,1.2,1.2,1.2,1.2,1.2,1.2,1.2,1.2,1.2,1.2,1.2,1.2,1.2,1.2,1.2,1.2,1.2,1.2,1.2,1.2,1.2,1.2,1.2,1.2,1.2,1.2,1.2,1.2,1.2,1.2,1.2,1.2,1.2,1.2,1.2,1.2,1.2,1.2,1.2,1.2,1.2,1.2,1.2,1.2,1.2,1.2,1.2,1.2,1.2,1.2,1.2,1.2,0,0,0,0,0,0,0,0,0,0,0,0,0,0,0,0,0,0,0,0,0,0,0,0,0,0,0,0,0,0,0,0,0,0,0,0,0,0,0,0,0]
[]
[]
[null,null,null,null,null,null,null,"IRR","XIRR"]
[null,"Pre-tax Project",null,null,null,null,null,{"$f":"IFERROR(IRR(J362:AH362),FALSE)","v":false},{"$f":"XIRR(J362:EZ362,J$5:EZ$5)","v":3.3436325192451474E-2}]
[null,"After-tax",null,null,null,null,null,{"$f":"IFERROR(IRR(J363:AH363),FALSE)","v":false},{"$f":"XIRR(J363:EZ363,J$5:EZ$5)","v":2.736183702945709E-2}]
[null,"Debt IRR",null,null,null,null,null,{"$f":"IFERROR(IRR(J259:AH259),FALSE)","v":false}]
[null,"After-tax Debt IRR",null,null,null,null,null,{"$f":"IFERROR(IRR(J261:AH261),FALSE)","v":false}]
[null,"Equity IRR",null,null,null,null,null,{"$f":"IFERROR(IRR(J371:AH371),0)","v":0.24513957263424957},{"$f":"XIRR(J376:EZ376,J5:EZ5)","v":13.124729251861575}]
[]
[]
["Go",null,null,"Back to Top"]
[]
[]
[]
[]
[]
[]
[]
[]
[null,"1 Iteration/Number of Issues/Period Count"]
[null,"'2 Senior Debt Sizing Parameters"]
[null,"'3 Mezzanine Debt Sizing Parameters"]
[null,"'4 Shareholder Debt Sizing Parameters"]
[null,"'5 Uses of Funds Pre-COD Section"]
[null,"'6 Capital Expenditures"]
[null,"'7 Working Capital Pre-COD/Total"]
[null,"'8 Development Success Fee"]
[null,"'9 Interest During Construction"]
[null,"'10 Shareholder Loand Interest During Construction"]
[null,"'11 Up-Front Fees"]
[null,"'12 Commitment Fees"]
[null,"'13 Other: PRI/EBL Interest/Witholdding/Standby Interest"]
[null,"'14 DSRA Funded During Construction"]
[null,"'15 Withholding Tax"]
[null,"16 VAT Debt Fees and Interest"]
[null,"'17 Total Uses Including Capitalised Items"]
[null,"'18 Less: Capitalised Interest and Fees Inclding WC, Standby etc."]
[null,"'19 Less: Capitalised Interest on EBL"]
[null,"'20 Less: Capitalised Interest on Shareholder Loan"]
[null,"'21 Less: Capitalised Fees on Debt Including WC, Standby etc."]
[null,"'22 Less: Capitalised Fees on EBL"]
[null,"'23 Cash Funding Needs for Pro-Rata (excl capitalised items)"]
[null,"'24 Sources of Funds Section"]
[null,"'25 Total Debt Funding from Debt with Fixed Dates"]
[null,"'26 Allocation to Up-Front Equity Financing (Total/Percent)"]
[null,"'27 Remaining Pro-Rata Funding from Equity and Debt"]
[null,"'28 Pro-Rata Funding from Equity"]
[null,"29 Pro-Rata Debt Funding"]
[null,"'30 Debt and Equity Sources"]
[null,"'31 Total Equity Draws Incl EBL and Shareholder Loans"]
[null,"'32 Senior Debt Financing/Pct Senior"]
[null,"'33 Mezzanine Debt Financing/Pct Senior"]
[null,"'34 Working Capital Draws"]
[null,"'35 Standby Draws"]
[null,"'36 Pre-COD EBITDA"]
[null,"'37 Pre-COD Taxes Paid"]
[null,"'38 Surplus Cash"]
[null,"'39 Accumulated Surplus Cash"]
[null,"'40 Total Sources"]
[null,"'41 Total Debt Including Cap Int and Fees"]
[null,"'42 Equity Components Section"]
[null,"'43 Up Front Equity Draws/Up Front %"]
[null,"'44 Pro-Rata Equity Draws/Equity Pro Rata %"]
[null,"'45 Total Equity Draws/Debt Pro Rata %"]
[null,"'46 Initial Share Capital"]
[null,"'47 EBL Draws"]
[null,"'48 EBL Repayment"]
[null,"'49 Shareholder Loan Draws"]
[null,"'50 Shareholder Loan IDC"]
[null,"'51 Common Equity Draws"]
[null,"'52 Income Tax Section"]
[null,"'53 Tax Parameters"]
[null,"'54 Tax Period (True is tax period)"]
[null,"'55 EBITDA/Start/End"]
[null,"'56 Depreciation without IDC"]
[null,"'57 IDC Depreciation"]
[null,"'58 Fee Amortisation"]
[null,"'59 EBIT"]
[null,"'60 Deductible Senior Interest"]
[null,"'61 Deductible Mezzanine Interest"]
[null,"'62 Deductible Shareholder Interest"]
[null,"'63 Total Deductible Interest/Max Pct"]
[null,"'64 EBT Before NOL Adjustment"]
[null,"'65 Additions to NOL"]
[null,"'66 Subtractions from NOL"]
[null,"'67 Adjusted EBT for NOL"]
[null,"'68 NOL Balance"]
[null,"'69 Taxes Paid/Tax Rate"]
[null,"'70 Non Deductible Interest"]
[null,"'71 Net Income"]
[null,"'72 CFADS Section"]
[null,"'73 EBITDA"]
[null,"'74 Working Capital Change"]
[null,"'75 Taxes Paid"]
[null,"'76 Interest Income/Rate"]
[null,"'77 Post COD Capital Expenditure"]
[null,"'78 Changes to MRA Account"]
[null,"'79 Changes to DSRA Account"]
[null,"'80 CFADS"]
[null,"'81 Non Sculpted Debt Service"]
[null,"'82 Interest Expense on Non-Sculpted Debt"]
[null,"'83 Repayment of Non Sculpted Debt"]
[null,"'84 Non Sculpted Debt Service (No Balloon)/PV"]
[null,"'85 Balloon Interest"]
[null,"'86 Balloon Repayment"]
[null,"'87 Total Non-Sculpted Interest Incl Balloon"]
[null,"'88 Total Non-Sculpted Repayment"]
[null,"'89 Total Non-Sculpted Debt Service Incl Balloon"]
[null,"'90 Senior Non-Sculpted Debt Service Incl Balloon"]
[null,"'91 Mezzanine Non-Sculpted Debt Service Incl Balloon"]
[null,"'92 Senior Debt Sculpting"]
[null,"'93 Senior Sculpting Parameters"]
[null,"'94 CFADS for Sculpting"]
[null,"'95 Senior DSCR Applied/Num/Denom"]
[null,"'96 Senior Sculpted Debt Service Before Other Debt"]
[null,"'97 Less: Senior Non Sculpt Debt Service"]
[null,"'98 Senior Sculpted Debt Service"]
[null,"'99 Senior Interest Expense"]
[null,"'100 Repayment Adjustment from DSRA"]
[null,"'101 Senior Sculpted Repayment"]
[null,"'102 Sculpt Period"]
[null,"'103 Sculpting Disc Fac/Debt IRR"]
[null,"'104 Debt Cash Flow for/Debt IRR"]
[null,"'105 Mezzanine (Total) Sculpting Analysis"]
[null,"'106 Total/Mezzanine Sculpting Parameters"]
[null,"'107 CFADS for Sculpting"]
[null,"'108 Total DSCR Applied for Mezzanine Sculpting"]
[null,"'109 Total Sculpted Debt Service Including Mezzanine"]
[null,"'110 Less: Total Non Sculpt Debt Service"]
[null,"'111 Total Sculpted Debt Service"]
[null,"'112 Less: Senior Sculpted Debt Service"]
[null,"'113 Mezzanine Sculpted Debt Service"]
[null,"'114 Less: Mezzanine Interest"]
[null,"'115 Mezzanine Repayment"]
[null,"'116 Total Sculpted Repayment"]
[null,"'117 Period for Sculpting Total"]
[null,"'118 Compound Interest Total/Debt IRR"]
[null,"'119 Total Debt Cash Flow for Debt IRR"]
[null,"'120 Computation of Senior DSCR"]
[null,"'121 CFADS"]
[null,"'122 DSRA Adjustment to CFADS"]
[null,"'123 Senior Debt Repayment"]
[null,"'124 Senior Interest Expense"]
[null,"'125 Senior Debt Service"]
[null,"'126 Senior DSCR Computed"]
[null,"'127 Total Debt Repayment"]
[null,"'128 Total Interest Expense"]
[null,"'129 Total Debt Service"]
[null,"'130 Total DSCR Computed"]
[null,"'131 Average Total Interest Rate"]
[null,"'132 DSRA Section"]
[null,"'133 DSRA Parameters"]
[null,"'134 Senior Debt Service"]
[null,"'135 DSRA Requirement"]
[null,"'136 DSRA Balance/DSRA Periods"]
[null,"'137 DSRA Funded"]
[null,"'138 DSRA Change/PV DSRA Flows/PV DSCR"]
[null,"'139 DSRA LC/LC Switch"]
[null,"'140 Interest Income"]
[null,"'141 DSRA LC Fee/PV Fees"]
[null,"'142 Re-financing Section"]
[null,"'143 Re-financing Number"]
[null,"'144 Re-finance Period"]
[null,"'145 Re-finance DSCR"]
[null,"'146 Re-financing Amount"]
[null,"'147 Sculpted Debt Service for Re-financing"]
[null,"'148 Re-finance fees"]
[null,"'149 Repayment of Loans from Re-financing"]
[null,"'150 Cash Flow Waterfall Section"]
[null,"'151 CFADS"]
[null,"'152 Less: Senior Interest"]
[null,"'153 Less: Senior Repayment"]
[null,"'154 Less: Senior Fees"]
[null,"'155 Subtotal: Senior Debt Service"]
[null,"'156 Subtotal: Cash Flow Before Senior Sweep"]
[null,"'157 Less: Senior Sweep"]
[null,"'158 Subtotal: Cash Flow After Sweep"]
[null,"'159 Less: Mezzanine Interest"]
[null,"'160 Less: Mezzanine Repayment"]
[null,"'161 Less: Mezzanine Fees"]
[null,"'162 Subtotal: Mezzanine Debt Service"]
[null,"'163 Subtotal: Cash Flow Before Mezzanine Sweep"]
[null,"'164 Less: Mezzanine Sweep"]
[null,"'165 Subtotal: Cash Flow Before Shareholder Loan"]
[null,"'166 Less: Shareholder Loan Sweep"]
[null,"'167 Cash Flow After Shareholder Loan"]
[null,"'168 Plus: Proceeds from Re-financing"]
[null,"'169 Less: Re-financing Fees"]
[null,"'170 Less: Early Repayment of Existing Debt"]
[null,"'171 Common Dividends"]
[null,"'172 Balance Sheet Section"]
[null,"'173 Net Equity Paid In Capital"]
[null,"'174 Retained Earnings"]
[null,"'175 Shareholder Loan Balance"]
[null,"'176 Equity Bridge Loan Balance"]
[null,"'177 Mezzanine Debt Balance"]
[null,"'178 Senior Debt Balance"]
[null,"'179 Total Debt"]
[null,"'180 Total Capitalisation"]
[null,"'181 DSRA Balance"]
[null,"'182 MRA Balance"]
[null,"'183 Gross Plant Balance"]
[null,"'184 Accumulated Depreciation"]
[null,"'185 Net IDC Balance"]
[null,"'186 Net Fee Balance"]
[null,"'187 Total Net Assets"]
[null,"'188 Cash Flow Analysis Section"]
[null,"'189 Pre tax cash flow"]
[null,"'190 After tax cash flow"]
[null,"'191 Pre tax debt cash flow"]
[null,"'192 Debt tax shield"]
[null,"'193 After tax debt cash flow"]
[null,"'194 Pre tax DSRA Cash"]
[null,"'195 MRA cash flow"]
[null,"'196 Cash Sweep (Senior and Mezzanine)"]
[null,"'197 Tax adjustment (Taxes - EBT x Tax)"]
[null,"'198 Total Equity cash flow Before EBL, Refinancing"]
[null,"'199 Pre tax EBL cash flow"]
[null,"'200 After tax EBL cash flow"]
[null,"'201 Shareholder Loan Cash Flow"]
[null,"'202 Re-financing Cash Flow"]
[null,"'203 Equity cash flow  after EBL"]
[null,"'204 Issue by Issue Section"]
[null,"'205 Debt Commitment by Issue"]
[null,"'206 Up Front Fee by Debt Issue"]
[null,"'207 Commitment Fee by Debt Issue"]
[null,"'208 IDC by Debt Issue"]
[null,"'209 Debt at COD by Issue"]
[null,"'210 Sculpt Switch"]
[null,"'211 Debt Tenure"]
[null,"'212 LLCR by Issue"]
[null,"'213 Refinance Start by Issue"]
[null,"'214 Opening Debt Balance - Issue 1"]
[null,"'215 Add: Debt Draws - Issue 1"]
[null,"'216 Less: Debt Repayments - Issue 1"]
[null,"'217 Less: Cash Sweep - Issue 1"]
[null,"'218 Closing Balance - Issue 1"]
[null,"'219 Interest Rate - Issue 1"]
[null,"'220 Interest Expense - Issue 1"]
[null,"'221 Opening Debt Balance - Issue 2"]
[null,"'222 Add: Debt Draws - Issue 2"]
[null,"'223 Less: Debt Repayments - Issue 2"]
[null,"'224 Less: Cash Sweep - Issue 2"]
[null,"'225 Closing Balance - Issue 2"]
[null,"'226 Interest Rate - Issue 2"]
[null,"'227 Interest Expense - Issue 2"]
[null,"'228 Opening Debt Balance - Issue 3"]
[null,"'229 Add: Debt Draws - Issue 3"]
[null,"'230 Less: Debt Repayments - Issue 3"]
[null,"'231 Less: Cash Sweep - Issue 3"]
[null,"'232 Closing Balance - Issue 3"]
[null,"'233 Interest Rate - Issue 3"]
[null,"'234 Interest Expense - Issue 3"]
[null,"'235 Opening Debt Balance - Issue 4"]
[null,"'236 Add: Debt Draws - Issue 4"]
[null,"'237 Less: Debt Repayments - Issue 4"]
[null,"'238 Less: Cash Sweep - Issue 4"]
[null,"'239 Closing Balance - Issue 4"]
[null,"'240 Interest Rate - Issue 4"]
[null,"'241 Interest Expense - Issue 4"]
[null,"'242 Opening Debt Balance - Issue 5"]
[null,"'243 Add: Debt Draws - Issue 5"]
[null,"'244 Less: Debt Repayments - Issue 5"]
[null,"'245 Less: Cash Sweep - Issue 5"]
[null,"'246 Closing Balance - Issue 5"]
[null,"'247 Interest Rate - Issue 5"]
[null,"'248 Interest Expense - Issue 5"]
[null,"'249 EBL Opening Balance"]
[null,"'250 EBL Draws"]
[null,"'251 EBL Interest Capitalised"]
[null,"'252 EBL Repayment"]
[null,"'253 EBL Closing Balance"]
[null,"'254 Shareholder Loan Opening Balance"]
[null,"'255 Shareholder Draws"]
[null,"'256 Shareholder Interest Capitalised"]
[null,"'257 Shareholder Lonan Repayment"]
[null,"'258 Shareholder Loan Closing Balance"]
[null,"'259 Other Outputs"]
[null,"'260 Non Capture Sculpted Debt Service"]
[null,"'261 Capture Debt Service/Issue No."]
[null,"'262 LLCR for sculpting"]
[]
[]
[]
[]
[]
[]
[]
[]
[]
[]
[]
[]
[]
[]
[]
[]
[]
[]
[]
[]
[]
[]
[]
[]
[]
[]
[]
[]
[]
[]
[]
[]
[]
[]
[]
[]
[]
[]
[]
[]
[]
[]
[]
[]
[]
[]
[]
[]
[]
[]
[]
[]
[]
[]
[]
[]
[]
[]
[]
[]
[]
[]
[]
[]
[]
[]
[]
[]
[]
[]
[]
[]
[]
[]
[]
[]
[]
[]
[]
[]
[]
[]
[]
[]
[]
[]
[]
[]
[]
[]
[]
[]
[]
[]
[]
[]
[]
[]
[]
[]
[]
[]
[]
[]
[]
[]
[]
[]
[]
[]
[]
[]
[]
[]
[]
[]
[]
[]
[]
[]
[]
[]
[]
[]
[]
[]
[]
[]
[]
[]
[]
[]
[]
[]
[]
[]
[]
[]
[]
[]
[]
[]
[]
[]
[]
[]
[]
[]
[]
[]
[]
[]
[]
[]
[]
[null,"General Points about the Function",null,null,null,null,null,"Diagram -- What happens here doesn't affect the rest of your model. So don't be afraid"]
[null,null,null,"Here are some Key Points"]
[]
[null,null,null,"Please Understand that you can add parallel model to any of your project finance models"]
[]
[null,null,null,"If you do not attach anything, the parallel model will be completely independent"]
[]
[null,null,null,"Understand that there are three sections to the parallel model"]
[null,null,null,"Section 1: Get Inputs to the parrallel model from your model"]
[null,null,null,"Section 2: Make function (may not be necessary)"]
[null,null,null,"Section 3: Check the Parallel Model with your Model -- Get the Model working first"]
[]
[null,"Step by Step Instructions"]
[null,null,"First, copy this sheet and and the code into your model. You can copy the sheet using ALT, E, M in English"]
[null,null,"To copy the code you can press the copy code button and then use CNTL C and CNTL A"]
[null,null,"Then, go to your model, press ALT, F8 and paste the code."]
[]
[null,null,"After you get this file into your model, I suggest trying a few simple things. Remember that the parallel model is independent of your model"]
[null,null,"You probably have to select the function area that has NAME and re-do it."]
[]
[null,null,"After you get started do not jump to fixing circular references.  If you have copy and pastes leave them in."]
[null,null,"Once the Function is working and at least gives you a bunch of zeros and not NAME etc, start linking variables.  I suggest starting with EBITDA and CAPEXP Only"]
[null,null,"Then, Add in Depreciation and taxes (as you should for any old model)"]
[]
[]
[]
[]
[]
[]
[null,"Why Include Re-financing"]
[]
[null,null,null,"I used to make separate UDF functions.  This is messy"]
[null,null,null,"Re-financing with sculpting and taxes causes circular references"]
[]
[]
[null,"What happens if you get a bunch of #VALUE's"]
[null,null,null,"The most common problem is that there is a problem with inputs"]
[]
[]
[]
[null,"Finding Items to Change in the VBA Code"]
[null,null,"Do not change too much (my mistake)"]
[null,null,"Find the section in the VBA code and understand the existing code"]
[]
[]
[null,"Other Comments"]
[null,null,"Trying to do this with other models may be difficult"]
[]
[]
[null,"Some Philosophical Aspects"]
[null,null,"Try not to make a black box and try to print important variables"]
[null,null,"Debt and taxes part of model causes problems, but only so many things to change. This is not like EBITDA"]
[]
[]
[]
[]
[]
[]
[]
[]
[]
[]
[]
[]
[]
["Instructions for Running the Parallel Model",null,null,null,"Go Back "]
[]
[null,"This page should be inserted into a new sheet in your model"]
[null,"Even though your models may often start at financial close, you should have one blank development period.  If you do not have a development period, do not worry. But start the reconciliation in the fourth instead of third column"]
[]
[null,"Link time-based variables to the model and not to the inputs to get the periods correct.  For example the periodic interest rate may be month by month and then semi-annual to correspond to the model."]
[]
[null,"With no development fee, you will have to move over one place"]
[]
[]
[]
[]
[]
[]
[]
[]
[]
[]
[]
[]
[]
[]
[]
[]
[]
[]
[]
[]
[]
[]
[]
[]
[]
[]
[]
[]
[]
[]
[]
[]
[]
[]
[]
[]
[]
[]
[]
[]
[]
[]
[]
[]
[]
[]
[]
[]
[]
[]
[]
[]
[]
[null,"Development Start Date"]
[null,"Months per Period in Development"]
[null,"Periods of Development"]
[null,"Financial Close"]
[null,"Months per Period in Construction"]
[null,"Periods of Construction"]
[null,"Commercial Operation"]
[null,"Months per Period in Construction"]
[null,"Periods of Operation"]
[null,"Decomissioning Date"]

{"sheet":"Wind Study Back-up","index":6,"n_rows":84,"n_cols":19,"rows_kept":84,"cut":false,"hidden":false,"merged":[]}
[]
["P50 Summary"]
[null," Wind Farm Rated Power1  MW                            ",120]
[null," Gross Capacity Factor",0.47499999999999998]
[null," Gross Energy Output  GWh/annum                             ",{"$f":"C3*C4*8760/1000","v":499.32},null,{"$f":"_xlfn.FORMULATEXT(C5)","v":"=C3*C4*8760/1000"}]
[null," Wake effect                                ",0.94799999999999995]
[null," Availability                                 ",0.95299999999999996,null,null,null,null,null,null,null,null,null,null,null,null,null,null,"AllTables","={1}"]
[null," Electrical efficiency                                ",0.97700000000000009,null,null,null,null,null,null,null,null,null,null,null,null,null,null,"base_sd","='Wind Study Back-up (2)'!$O$17"]
[null," Turbine performance                                ",0.95299999999999996,null,null,null,null,null,null,null,null,null,null,null,null,null,null,"Col_Name_Scenario_Name","='C:\\Users\\stormy daniels\\Documents\\[File for Friday.xlsm]Scenario Output'!#REF!"]
[null," Environmental                                 ",0.97599999999999998,null,null,null,null,null,null,null,null,null,null,null,null,null,null,"dev_irr","=FM!$F$273"]
[null," Curtailment                                 ",0.995,null,null,null,null,null,null,null,null,null,null,null,null,null,null,"dev_npv","=FM!$H$273"]
[null," Net Energy Output  GWh/annum                             ",{"$f":"PRODUCT(C5:C11)","v":407.88765621272086},null,{"$f":"_xlfn.FORMULATEXT(C12)","v":"=PRODUCT(C5:C11)"},null,null,null,null,null,null,null,null,null,null,null,null,"ebitda","=FM!$F$18"]
[null," Net Capacity Factor",{"$f":"C12/8760*1000/C3","v":0.38802098193751988},null,{"$f":"_xlfn.FORMULATEXT(C13)","v":"=C12/8760*1000/C3"},null,null,null,null,null,null,null,null,null,null,null,null,"End_col","='Table VBA'!$M$6"]
[null,null,null,null,null,null,null,null,null,null,null,null,null,null,null,null,null,"End_row","='Table VBA'!$M$4"]
["Probability Summary",null,null,null,null,null,null,null,null,null,null,null,null,null,null,null,null,"fixed_om","='Intermediate Financial Model'!$G$35:$G$49"]
[null,null,null,"1 yr","10 yr","20 yr",null,null,null,null,null,null,null,null,null,null,null,"Holding_period","=FM!$F$51"]
[null,"Standard Deviation as Percent of Mean",null,{"$f":"N17/10000","v":0.12180000000000001},{"$f":"I64","v":8.4569221906166517E-2},{"$f":"I65","v":8.2670927430998103E-2},null,null,null,null,null,null,null,1218,11.38,null,null,"IRR_HoldP","=FM!$G$126"]
[null,"Total Standard Deviation (MWH)",null,{"$f":"D17*C12","v":49.680716526709404},{"$f":"E17*C12","v":34.494741711039751},{"$f":"F17*C12","v":33.720450826761748},null,{"$f":"_xlfn.FORMULATEXT(D18)","v":"=D17*C12"},null,null,null,null,null,null,null,null,null,"npv_out","='Intermediate Financial Model'!$F$134"]
[null,null,null,null,null,null,null,null,null,null,null,null,null,null,null,null,null,"NPV_target","=FM!$F$107"]
[null,null,null,null,null,null,null,"1-year Probability Case",null,"Implied",null,null,null,null,null,null,null,"price","='Intermediate Financial Model'!$F$53"]
[null,"Probability of Exceeding","1-p","1 yr","10 yr","20 yr",null,"Cap Fac","vs P50","DSCR",null,null,null,null,null,null,null,"ProjectName","={\"BU Name or Client/Project Name\"}"]
[null,0.99,{"$f":"1-B22","v":1.0000000000000009E-2},{"$f":"NORMINV($C22,$C$12,$D$18)","v":292.31302693998475},{"$f":"_xlfn.NORM.INV(C22,$C$12,E$18)","v":327.64088716765559},{"$f":"_xlfn.NORM.INV(C22,$C$12,F$18)","v":329.44215712018496},null,{"$f":"D22/8760/$C$3*1000","v":0.27807555835234471},{"$f":"H22/$H$26","v":0.71665082894182541},{"$f":"1/I22","v":1.3953796739153366},null,null,null,null,null,null,null,"sd_value","='Wind Study Back-up (2)'!$N$17"]
[null,0.95000000000000007,{"$f":"1-B23","v":4.9999999999999933E-2},{"$f":"NORMINV($C23,$C$12,$D$18)","v":326.17014944421487},{"$f":"_xlfn.NORM.INV(C23,$C$12,E$18)","v":351.14885519856284},{"$f":"_xlfn.NORM.INV(C23,$C$12,F$18)","v":352.42245036788302},null,{"$f":"D23/8760/$C$3*1000","v":0.31028362770568391},{"$f":"H23/$H$26","v":0.79965682823731055},{"$f":"1/I23","v":1.2505364359913083},null,null,null,null,null,null,null,"sponsor_irr","=FM!$F$272"]
[null,0.9,9.9999999999999978E-2,344.21925617053893,363.68086596988121,364.67315966481459,null,{"$f":"D24/8760/$C$3*1000","v":0.32745363029921892},{"$f":"H24/$H$26","v":0.84390701931666756},1.1849646668536125,null,null,null,null,null,null,null,"Start_col","='Table VBA'!$M$5"]
[null,0.75,0.25,374.37852213305825,384.6213064929633,385.14355775807906,null,{"$f":"D25/8760/$C$3*1000","v":0.35614395180085451},{"$f":"H25/$H$26","v":0.91784714842611703},1.0895060269182673,null,null,null,null,null,null,null,"Start_row","='Table VBA'!$M$3"]
[null,0.5,0.5,407.88765621272086,407.88765621272086,407.88765621272086,null,{"$f":"D26/8760/$C$3*1000","v":0.38802098193751988},{"$f":"H26/$H$26","v":1},1,null,null,null,null,null,null,null,"targ_irr","=FM!$G$20"]
[null,null,null,null,null,null,null,null,null,null,null,null,null,null,null,null,null,"target_irr","=FM!$F$20"]
[null,null,null,null,null,null,null,null,null,null,null,null,null,null,null,null,null,"waterfall_graph_data1","='C:\\Users\\stormy daniels\\Documents\\[File for Friday.xlsm]Scenario Output'!$D$14:$E$20"]
[null,"Diameter m",null,100]
[null,"Hub height m",null,80]
[null,"Rotor speed to rpm",6,16]
[null,"Air Density kg/m",null,1.18]
[null,"Turbulence intensity to",10,15]
[null,"Peak Cp",null,0.51]
[null,"Operational temperature range °C to °C",-30,40]
[null,"Cut out ten minute"]
[null,"mean wind speed m/s",null,25]
[null,"Restart five minute"]
[null,"mean wind speed m/s",null,22]
[]
[]
["Standard Deviation and Mean Square Error"]
[null,null,"Energy uncertainty"]
[null,null,"%","Square","Square Rt","GWH","Square","Square Rt","% of P50"]
[null,"Anemometer accuracy",3.1155107834246604E-2,{"$f":"C45^2","v":9.7064074416353412E-4},null,{"$f":"C45*$C$12","v":12.707783913565425},{"$f":"F45^2","v":161.4877719938722},null,null,null,{"$f":"_xlfn.FORMULATEXT(G45)","v":"=F45^2"}]
[null,"Variability of the year period",1.9104547256849333E-2,{"$f":"C46^2","v":3.649837258891894E-4},null,7.7925090036014399,{"$f":"F46^2","v":60.723196571209506}]
[null,"Synthesis from Mast at m",8.8174833493150778E-3,7.7748012615448645E-5,null,3.5965426170468189,12.935118796233981]
[null,"Correlation to long term reference stations",7.0539866794520614E-3,4.9758728073887116E-5,null,2.8772340936374547,8.2784760295897453]
[null,"Extrapolation to m",1.2638392800684944E-2,1.5972897258440501E-4,null,5.1550444177671064,26.574482949151804]
[null,"Overall historical wind speed",4.026650729520552E-2,1.6213916097548393E-3,null,16.424211284513806,269.75471631835063]
[null,"Substation metering",2.939161116438359E-3,8.6386680683831805E-6,null,1.1988475390156061,1.4372354218037753]
[null,"Wake and topographic calculation",5.4962312877397314E-2,3.0208558368329144E-3,null,22.418448979591837,502.58685465056226]
[null,"Wind rose representative of long term",3.8209094513698668E-3,1.4599349035567576E-5,null,1.558501800720288,2.4289278628483801]
[null,"Energy loss factor assumptions",1.4989721693835631E-2,2.2469175645864652E-4,null,6.1141224489795913,37.382493321116193]
[]
[null,"Sum of Squares",null,{"$f":"SUM(D45:D55)","v":6.5130374034768155E-3},{"$f":"D56^0.5","v":8.0703391524004839E-2},null,{"$f":"SUM(G45:G55)","v":1083.5892739147384},{"$f":"G56^0.5","v":32.917917217143895},{"$f":"H56/C12","v":8.0703391524004839E-2},null,{"$f":"_xlfn.FORMULATEXT(H56)","v":"=G56^0.5"}]
[]
[null,"Future energy variability year 1",8.0239098478767201E-2,6.4383129246853013E-3,{"$f":"D58^0.5","v":8.0239098478767201E-2},{"$f":"C58*$C$12","v":32.728537815126046},{"$f":"F58^2","v":1071.1571875161355},{"$f":"G58^0.5","v":32.728537815126046},{"$f":"H58/$C$12","v":8.0239098478767187E-2}]
[null,"Future energy variability year 10",2.5276785601369887E-2,6.3891589033762003E-4,{"$f":"D59^0.5","v":2.5276785601369887E-2},{"$f":"C59*$C$12","v":10.310088835534213},106.29793179660722,{"$f":"G59^0.5","v":10.310088835534213},{"$f":"H59/$C$12","v":2.5276785601369887E-2}]
[null,"Future energy variability year 20",1.792888281027399E-2,3.214448388245382E-4,{"$f":"D60^0.5","v":1.792888281027399E-2},{"$f":"C60*$C$12","v":7.3129699879951984},53.479530045318491,{"$f":"G60^0.5","v":7.3129699879951984},1.792888281027399E-2]
[]
[]
[null,"Overall energy uncertainty year",0.106,{"$f":"D56+D58","v":1.2951350328162116E-2},{"$f":"D63^0.5","v":0.11380399961408262},36.200000000000003,{"$f":"$G$56+G58","v":2154.7464614308738},{"$f":"G63^0.5","v":46.41924667022154},{"$f":"H63/$C$12","v":0.11380399961408259}]
[null,"Overall energy uncertainty year",7.400000000000001E-2,{"$f":"$D$56+D59","v":7.1519532938144354E-3},{"$f":"D64^0.5","v":8.4569221906166517E-2},25.3,{"$f":"$G$56+G59","v":1189.8872057113456},{"$f":"G64^0.5","v":34.494741711039751},8.4569221906166517E-2]
[null,"Overall energy uncertainty year",7.2000000000000008E-2,{"$f":"$D$56+D60","v":6.8344822423013537E-3},8.2670927430998103E-2,24.6,{"$f":"$G$56+G60","v":1137.068803960057},33.720450826761748,8.2670927430998103E-2]
[]
[]
[]
[]
[null,null,null,"kW"]
[null,null,3,4]
[null,null,4,93]
[null,null,5,271]
[null,null,6,509]
[null,null,7,810]
[null,null,8,1189]
[null,null,9,1472]
[null,null,10,1596]
[null,null,11,1620]
[null,null,12,1620]
[null,null,13,1620]
[null,null,14,1620]
[null,null,15,1620]
[null,null,16,1620]

{"sheet":"Wind Study 1","index":7,"n_rows":57,"n_cols":14,"rows_kept":57,"cut":false,"hidden":false,"merged":[]}
["Wind Farm 1"]
[null,"Production",null,"Vestas","Gamesa","GE","Siemens"]
[null,null,"Wind Farm Rated Power MW",28.8,32,25.6,29.9]
[null,null,"Gross Energy Output GWh/annum",140.30000000000001,138.19999999999999,136.9,136.69999999999999]
[null,null,"Wake effect",94.7,94.5,95.2,95.9]
[null,null,"Availability",96.3,96.3,96.3,96.3]
[null,null,"Electrical efficiency",98.4,98.4,98.4,98.4]
[null,null,"Turbine performance",100,100,100,100]
[null,null,"Environmental",99.5,99.5,99.5,99.5]
[null,null,"Curtailment",100,100,100,100]
[null,null,"Net Energy Output GWh/annum",125.3,123.2,122.9,123.5]
[null,null,"Equivalent hours hours",4350,3849,4800,4132]
[]
[null,"Standard Deviation (uncertainty)",null,"Vestas","Gamesa","GE","Siemens",null,null,null,null,null,"Base Std 1",20.2]
[null,null,"In any one year period",20.2,21.5,17.600000000000001,21,null,null,null,null,null,"Base Std 2",51]
[null,null,"In any ten year period",14.2,15,12.7,14.7,null,null,null,null,null,"Ratio",{"$f":"std_2a/std_1a","v":2.5247524752475248}]
[]
[null,"1 year",null,null,null,null,null,null,null,"Prob"]
[null,null,"P50",{"$f":"'Wind Study 1'!D11","v":125.3},{"$f":"'Wind Study 1'!E11","v":123.2},{"$f":"'Wind Study 1'!F11","v":122.9},{"$f":"'Wind Study 1'!G11","v":123.5},null,null,0.5]
[null,null,"P99",{"$f":"_xlfn.NORM.INV($J20,D$11,D$15)","v":78.307772944375017},73.183520708121932,81.956277416881207,74.646694645142347,null,null,0.01]
[null,null,"p90",99.412658375999058,95.646641340791092,100.34469244641504,96.587417123563384,null,null,0.1]
[null,"10 year"]
[null,null,"P50",{"$f":"'Wind Study 1'!D11","v":125.3},{"$f":"'Wind Study 1'!E11","v":123.2},{"$f":"'Wind Study 1'!F11","v":122.9},{"$f":"'Wind Study 1'!G11","v":123.5}]
[null,null,"P99",{"$f":"_xlfn.NORM.INV($J20,D$11,D$16)","v":92.265860188620053},88.304781889387385,93.355381999681327,89.302686251599653]
[null,null,"p90",107.10196776926666,103.97672651683099,106.62429511758359,104.66119198649437]
[]
[null,"Downside Case -- P99/P50 1 - year",null,{"$f":"D20/D19","v":0.62496227409716698},{"$f":"E20/E19","v":0.5940220836698209},{"$f":"F20/F19","v":0.66685335571099436},{"$f":"G20/G19","v":0.604426677288602}]
[null,"P50/P99 for Factor",null,{"$f":"D19/D20","v":1.6000965841412109},{"$f":"E19/E20","v":1.6834390967791637},1.4995800672455297,1.6544603962318483]
[]
["Wind Farm 2"]
[null,null,null,"Vestas","Gamesa","GE","Siemens"]
[null,null,"Wind Farm Rated Power MW",77.400000000000006,88,70.400000000000006,80.5]
[null,null,"Gross Energy Output GWh/annum",370.6,377.3,370,365.5]
[null,null,"Wake effect",90.7,90,91.6,90.7]
[null,null,"Availability",96.3,96.3,96.3,96.3]
[null,null,"Electrical efficiency",98,98,98,98]
[null,null,"Turbine performance",100,100,100,100]
[null,null,"Environmental",99.5,99.5,99.5,99.5]
[null,null,"Curtailment",100,100,100,100]
[null,null,"Net Energy Output GWh/annum",315.8,318.8,318.5,311.5]
[null,null,"Equivalent hours hours",4081,3623,4524,3869]
[]
[null,null,"Standard Deviation (uncertainty)","Vestas","Gamesa","GE","Siemens"]
[null,null,"In any one year period",51,55.6,47.4,52.7]
[null,null,"In any ten year period",36.299999999999997,38.799999999999997,34.299999999999997,37]
[]
[null,"1 year"]
[null,null,"P50",{"$f":"'Wind Study 1'!D40","v":315.8},{"$f":"'Wind Study 1'!E40","v":318.8},{"$f":"'Wind Study 1'!F40","v":318.5},{"$f":"'Wind Study 1'!G40","v":311.5},null,null,0.5]
[null,null,"P99",{"$f":"_xlfn.NORM.INV($J49,D$40,D$44)","v":197.15625842391714},189.45505820332926,208.23111077046417,188.90146703804768,null,null,0.01]
[null,null,"p90",250.44087015722539,247.54573295572021,257.75445579318591,243.96223249579953,null,null,0.1]
[]
[null,"10 year"]
[null,null,"P50",{"$f":"'Wind Study 1'!D40","v":315.8},{"$f":"'Wind Study 1'!E40","v":318.8},{"$f":"'Wind Study 1'!F40","v":318.5},{"$f":"'Wind Study 1'!G40","v":311.5}]
[null,null,"P99",{"$f":"_xlfn.NORM.INV($J49,D$40,D$45)","v":231.35357217231751},228.5377024872154,238.70626792039917,225.42512866048889]
[null,null,"p90",269.27967817073102,269.07579925686952,274.54278130182018,264.0825920748498]
[]
[null,"Downside Case - P99 vs P50 1 Year",null,{"$f":"D49/D48","v":0.62430734143102318},{"$f":"E49/E48","v":0.59427559034921351},{"$f":"F49/F48","v":0.65378684700302725},{"$f":"G49/G48","v":0.60642525533883684}]