{"text_format":"1","workbook":"xlsx","n_sheets":11,"sheets":["Contents","QA","Summary","InputC - Operations","InputC-Financing","InputS","Operation Monthly","Project Finance Semi-Annual","Taxes Waterfall Returns","Annual Financial Statement","Checks"],"not_rendered":{"charts":1,"images":0,"macros":1,"external_links":1,"defined_names":27,"comments":7,"pivot_tables":0},"unopened":[],"bounds":{"document_bytes":16777216,"sheet_cells":100000,"rows_first":2000,"rows_last":500,"rows_between":2000,"halvings":0,"cell_chars":16384,"cell_head_chars":4096},"cells_cut":0,"cells_raw":0,"read":"whole","date_system":"1900"}

{"sheet":"Contents","index":0,"n_rows":0,"n_cols":0,"rows_kept":0,"cut":false,"hidden":false,"merged":[]}

{"sheet":"QA","index":1,"n_rows":73,"n_cols":7,"rows_kept":73,"cut":false,"hidden":false,"merged":[]}
[]
[]
[null,null,null,"Introduction"]
[null,null,null,"My Experience - Making Mistakes; trying different things"]
[null,null,null,"History of Models"]
[null,null,null,"Example of Models"]
[]
[null,null,null,"Old Models - Nuclear"]
[null,null,null,"FAST Model"]
[null,null,null,"Monster Model"]
[null,null,null,"Solar Model"]
[null,null,null,"Tax Equity Model"]
[null,null,null,"Port Model"]
[null,null,null,"Biomas Model"]
[]
[null,null,null,"3.       You can use a power sector model as reference \n(Production curves and tax equity are common points we need folks to be familiar with so should serve as a good example)"]
[]
[null,null,null,"6.       After the intro session on Tuesday, you will circulate an evaluation test/homework exercise for the juniors to take on\n and send it back to you. We should give people only a few days to do so – suggest to have the deadline be COB Friday, Dec 23. We will use this test to assess skills, ensure they’re paying attention and compare with what we do at the end, in order to monitor learning throughout the course"]
[]
[]
[]
[null,null,null,"Objective for the course is to build a model from scratch. \nUltimate taks to be mastered are: \n1. building of CFADS, \n2. setting of debt structure with multiple sources (loan + bonds) on a pari-passu basis, \n3. calculating equity returns, \n4 and preparing a model for syndication purposes - \n5. running sensitivities on a set debt amount (no longer sizing for changes made to CFADS and investors play around with model). "]
[]
[]
[null,null,null,"Power sector projects are a good example, \ngiven complexity added by production curves for sizing methodology and introduction of tax equity. \nMUFG’s credit policy on sizing debt for power is applying a grid of DSCRs based on different P-curves. \nFor example, on a solar project, on each quarter we constrain P99 CFADS at a 1.00x and p50 at a 1.35x, \nand take the minimum resulting constrained CFADS. "]
[]
[]
[null,null,false,"a.       Structuring a project with evaluation of debt size from either P90, P50, or maximum debt to capital."]
[null,null,false,"b.       Inclusion of DSRA changes in the DSCR for debt sculpting."]
[null,null,false,"c.       Resolving circular references without copy and paste macros or the iteration button."]
[null,null,false,"d.       Effective control pages where you can evaluate changes to inputs and properly include the inputs in relevant input sheets."]
[null,null,false,"e.       Debt sculpting of multiple debt issues where cash flow is affected by interest expenses and income taxes."]
[null,null,false,"f.        Computing debt repayment where the debt size is given, and sculpting is used to obtain a minimum DSCR with varying DSCR’s."]
[null,null,false,"g.       Modelling development fees in the context of multiple investors."]
[null,null,false,"h.       Creating data tables using VBA to resolve problems with data tables"]
[null,null,false,"i.         Developing timelines that can easily convert monthly to semi-annual or quarterly and creating semi-annual sums in monthly models without SUM(OFFSET)."]
[null,null,false,"j.         Incorporating options for DSRA funding with an L/C or with cash funding."]
[null,null,false,"k.       Adding re-financing assumptions to a model where the debt size depends on taxes which are also affected by interest on the re-financing."]
[null,null,false,"l.         Including actual data in models for the construction period and operating period."]
[null,null,false,"m.     Developing alternative ways to model working capital requirements in the initial operating periods of a project."]
[null,null,false,"n.       Evaluating different structures for equity investors including cash flow flips and incentives to developers."]
[null,null,false,"o.       Modelling the effect of financing in different currencies including translation adjustments on the balance sheet."]
[null,null,false,"p.       Modelling alternative cash sweep structures."]
[null,null,false,"q.       Modelling mini-perms and different re-financing assumptions."]
[null,null,false,"r.        Modelling equity bridge loans and the associated circular references along with options to include or not include interest during construction in the borrowing base."]
[null,null,false,"s.        Valuation of projects with changing buyer target IRR’s and computation of holding period returns."]
[null,null,false,"t.        Evaluation of NOL time limits on the calculation of income tax."]
[null,null,false,"u.       Accumulation of projects into a portfolio or a fund"]
[null,null,false,"v.       Evaluation of defaults and the risks of senior and subordinated debt"]
[null,null,false,"w.     Computation of the LLCR with different debt issues using the prospective debt IRR"]
[]
[]
[]
["          "]
[null,null,"High","Enter 1 for High Impact"]
[null,null,"Medium","Enter 2 for Medium Impact"]
[null,null,"Low","enter 3 for Low Impact"]
[]
[null,null,{"$f":"\"Matters arising from review of Financial Model Filename: “\"&MID(CELL(\"filename\",A54),FIND(\"[\",CELL(\"filename\",A54))+1,FIND(\"]\", CELL(\"filename\",A54))-FIND(\"[\",CELL(\"filename\",A54))-1)&\" ”\"","v":"Matters arising from review of Financial Model Filename: “Exercise for Class Blank.xlsm ”"}]
[null,null,"No","Impact level ","Category","Reference","Issue/Question"]
[null,null,1]
[null,null,2]
[null,null,3]
[null,null,4]
[null,null,5]
[null,null,6]
[null,null,7]
[null,null,8]
[null,null,9]
[null,null,10]
[null,null,11]
[null,null,12]
[null,null,13]

{"sheet":"Summary","index":2,"n_rows":69,"n_cols":14,"rows_kept":69,"cut":false,"hidden":false,"merged":[]}
[{"$f":"RIGHT(CELL(\"filename\",A1),LEN(CELL(\"filename\",A1))- SEARCH(\"]\",CELL(\"filename\",A1)))","v":"Summary"}]
[null,"Modelling Exercise",null,null,null,null,null,null,null,null,null,null,true,"comments"]
[]
[]
[null,null,null,null,"Key Dates","Start",null,null,"Return Metrics"]
[null,null,null,null,"Financial Close Date",{"$f":"'InputC - Operations'!J7","v":"2023-01-01"},null,null,"Equity IRR -- All Equity",{"$f":"'Taxes Waterfall Returns'!H99","v":0}]
[null,null,null,null,"Commercial Operation",{"$f":"'InputC - Operations'!J9","v":"00:00:00"}]
[null,null,null,null,"Operations Period End",{"$f":"'InputC - Operations'!J11","v":"00:00:00"},null,null,"Post-Tax Project IRR",{"$f":"'Taxes Waterfall Returns'!H84","v":{"$error":"#N/A"}}]
[null,null,null,null,null,null,null,null,"Pre-Tax Project IRR",{"$f":"'Taxes Waterfall Returns'!H93","v":0}]
[null,null,null,null,"Key Metrics - Tariff & Financial Score"]
[null,null,null,null,"PPA Rate (USD/MWH)",{"$f":"'InputC - Operations'!E33","v":33},null,null,"Debt Metrics"]
[null,null,null,null,"PPA Inflation",{"$f":"'InputC - Operations'!E28","v":2},null,null,"DSCR Output from Sculpting",{"$f":"'Taxes Waterfall Returns'!H104","v":0}]
[null,null,null,null,null,null,null,null,"LLCR",{"$f":"'Taxes Waterfall Returns'!H117","v":0}]
[null,null,null,null,"Capacity (MWp)",{"$f":"'InputC - Operations'!E17","v":0},null,null,"PLCR",{"$f":"'Taxes Waterfall Returns'!H112","v":{"$error":"#N/A"}}]
[]
[null,null,null,null,null,"kWh/kWp","Cap Fac",null,"Average Debt Life",{"$f":"'Taxes Waterfall Returns'!H123","v":0}]
[null,null,null,null,"Annual Yield - P50",{"$f":"'InputC - Operations'!J22","v":1980},{"$f":"F17/8760","v":0.22602739726027396}]
[null,null,null,null,"Annual Yield - P90",{"$f":"'InputC - Operations'!K22","v":0},{"$f":"F18/8760","v":0}]
[]
[null,null,null,null,null,"USD","USD/kW"]
[null,null,null,null,"EPC Cost",{"$f":"'Project Finance Semi-Annual'!I21","v":0},{"$f":"'InputC - Operations'!E52","v":900}]
[null,null,null,null,"Total Plant Cost",{"$f":"'Project Finance Semi-Annual'!I28","v":3600000},{"$f":"F32/F14/1000","v":{"$error":"#DIV/0!"}}]
[]
[]
[null,null,null,null,"Uses of Funds"]
[null,null,null,null,"Total EPC Cost Incl. Contingency",{"$f":"'Project Finance Semi-Annual'!I70","v":0}]
[null,null,null,null,{"$f":"'Project Finance Semi-Annual'!D72","v":"Interest During Construction - Senior"},{"$f":"'Project Finance Semi-Annual'!I71","v":3600000}]
[null,null,null,null,{"$f":"'Project Finance Semi-Annual'!D73","v":"Up-Front Fee"},{"$f":"'Project Finance Semi-Annual'!I72","v":0}]
[null,null,null,null,{"$f":"'Project Finance Semi-Annual'!D74","v":"Commitment Fee"},{"$f":"'Project Finance Semi-Annual'!I73","v":0}]
[null,null,null,null,{"$f":"'Project Finance Semi-Annual'!D75","v":"Interest During Construction - SHL"},{"$f":"'Project Finance Semi-Annual'!I74","v":0}]
[null,null,null,null,{"$f":"'Project Finance Semi-Annual'!D76","v":"DSRA"},{"$f":"'Project Finance Semi-Annual'!I75","v":0}]
[null,null,null,null,"Total",{"$f":"SUM(F26:F31)","v":3600000}]
[]
[null,null,null,null,"Sources of funds"]
[null,null,null,null,"Senior Debt",{"$f":"'Project Finance Semi-Annual'!I80","v":0},{"$f":"'Project Finance Semi-Annual'!J80","v":0}]
[null,null,null,null,"Equity",{"$f":"'Project Finance Semi-Annual'!I81","v":3600000},{"$f":"'Project Finance Semi-Annual'!J81","v":1}]
[null,null,null,null,"Total Senior Debt",{"$f":"SUM(F35:F36)","v":3600000},{"$f":"SUM(G35:G36)","v":1}]
[]
[]
[]
[]
[]
[]
[]
[]
[]
[]
[]
[]
[]
[]
[null,null,null,null,{"$f":"TRANSPOSE('InputC-Financing'!J3:R3)","v":"Base Case"}]
[null,null,null,null,"P90 Debt Size Case"]
[null,null,null,null,"P99 Debt Size Case"]
[null,null,null,null,"Maximum Debt to Capital Case"]
[null,null,null,null,"Stress Case for Credit"]
[null,null,null,null,"P90 and No Inflation"]
[null,null,null,null,"Higher EPC"]
[null,null,null,null,"Lower PPA"]
[null,null,null,null,"Shareholder Loan"]
[null,null,null,null,{"$error":"#N/A"}]
[null,null,null,null,{"$error":"#N/A"}]
[null,null,null,null,{"$error":"#N/A"}]
[null,null,null,null,{"$error":"#N/A"}]
[null,null,null,null,{"$error":"#N/A"}]
[null,null,null,null,{"$error":"#N/A"}]
[null,null,null,null,{"$error":"#N/A"}]
[null,null,null,null,{"$error":"#N/A"}]
[null,null,null,null,{"$error":"#N/A"}]

{"sheet":"InputC - Operations","index":3,"n_rows":68,"n_cols":18,"rows_kept":68,"cut":false,"hidden":false,"merged":[]}
[null,null,null,null,"Project IRR"]
[null,null,null,null,"Equity IRR"]
[null,null,null,"Active Scenario",2,null,null,null,null,{"$f":"'InputC-Financing'!J3","v":"Base Case"},{"$f":"'InputC-Financing'!K3","v":"P90 Debt Size Case"},{"$f":"'InputC-Financing'!L3","v":"P99 Debt Size Case"},{"$f":"'InputC-Financing'!M3","v":"Maximum Debt to Capital Case"},{"$f":"'InputC-Financing'!N3","v":"Stress Case for Credit"},{"$f":"'InputC-Financing'!O3","v":"P90 and No Inflation"},{"$f":"'InputC-Financing'!P3","v":"Higher EPC"},{"$f":"'InputC-Financing'!Q3","v":"Lower PPA"},{"$f":"'InputC-Financing'!R3","v":"Shareholder Loan"}]
[null,null,null,null,null,null,null,null,null,1,2,6,3,4,5,7,8,9]
[]
[null,"Model Timeline"]
[null,null,null,"Financial Close Date",null,"Date",null,null,null,"2023-01-01","2023-01-01","2023-01-01","2023-01-01","2023-01-01","2023-01-01","2023-01-01","2023-01-01","2023-01-01"]
[null,null,null,"Construction Period",null,"Month",null,null,null,11,{"$f":"J8","v":11},14,16,14,14,14,14,14]
[null,null,null,"Commerical Operation Date",null,"Date"]
[null,null,null,"Operating Life",null,"Years",null,null,null,35,35,35,30,35,35,35,35,35]
[null,null,null,"Period After Operating Life",null,"Date"]
[]
[null,null,null,"Months in Period for Semi-Annual",null,"Months",null,null,null,6,6,6,6,6,6,6,6,6]
[null,null,null,"Months in Period pre-COD",null,"Months",null,null,null,1,1,1,1,1,1,1,1,1]
[]
[null,"Solar Plant Details"]
[null,null,null,"Capacity of Plant",null,"MWp",null,null,null,132,132,132,132,132,132,132,132,132]
[]
[null,null,null,"Standard Deviation in Resoruce",null,null,null,null,null,0.1,0.1,0.1,0.1,0.1,0.1,0.1,0.1,0.1]
[null,null,null,"Complement of P Value",null,null,null,null,null,0.5,0.1,0.01,0.1,0.05,0.1,0.1,0.1,0.1]
[]
[null,null,null,"Annual Yield",{"$f":"INDEX(J22:R22,case_active)","v":0},"MWh/MWp",null,null,null,1980]
[]
[null,null,null,"Plant Availability Code",{"$f":"INDEX(J24:R24,case_active)","v":0.99},"%","Energy generated to the grid",null,null,0.99,0.99,0.99,0.99,0.99,0.99,0.99,0.99,0.99]
[null,null,null,"Degradation Code to InputS",null,"Code","Solar Cells Degradation",null,null,1,2,3,3,1,1,1,1,1]
[]
[null,"Revenues"]
[null,null,null,"PPA Inflation Rate Code to InputS",{"$f":"INDEX(J28:R28,case_active)","v":2},"% p.a.","On costs and Revenues",null,null,2,2,3,2,3,2,1,2,2]
[]
[null,null,null,"PPA Term Contract",{"$f":"INDEX(J30:R30,case_active)","v":35},"Years",null,null,null,{"$f":"J10","v":35},35,35,30,35,35,35,35,35]
[null,null,null,"Offtake Amount",{"$f":"INDEX(J31:R31,case_active)","v":1},"%","Of Total Production",null,null,1,1,1,1,1,1,1,1,1]
[]
[null,null,null,"Power Price for Offtake (USD 2021)",{"$f":"INDEX(J33:R33,case_active)","v":33},"USD/MWh","Real Terms - 2021",null,null,33,33,33,33,33,30,33,33,33]
[null,null,null,"Apply PPA Inflation",{"$f":"INDEX(J34:R34,case_active)","v":1},"Flag","1 =Yes; 0 - No",null,null,1,1,0,1,0,0,0,0,0]
[null,null,null,"Start Date for PPA Inflation",{"$f":"INDEX(J35:R35,case_active)","v":"00:00:00"},"Date",null,null,null,{"$f":"J9","v":"00:00:00"},{"$f":"K9","v":"00:00:00"},{"$f":"L9","v":"00:00:00"},"00:00:00","00:00:00","00:00:00","00:00:00","00:00:00","00:00:00"]
[]
[null,null,null,"Revenues Arrear Collection",{"$f":"INDEX(J37:R37,case_active)","v":2},"Months","Received in Arrears",null,null,2,2,2,2,2,2,2,2,2]
[]
[null,"Operation and Maintenance"]
[null,null,null,"Land Lease",{"$f":"INDEX(J40:R40,case_active)","v":300000},"USD/Yr","Payable Through Construction",null,null,300000,300000,300000,300000,300000,300000,300000,300000,300000]
[null,null,null,"Land Lease Infaltion Start",{"$f":"INDEX(J41:R41,case_active)","v":"2023-01-01"},null,null,null,null,"2023-01-01","2023-01-01","2023-01-01","2023-01-01","2023-01-01","2023-01-01","2023-01-01","2023-01-01","2023-01-01"]
[]
[null,null,null,"O&M per Year without Inflation - Initial Contract",{"$f":"INDEX(J43:R43,case_active)","v":9.5},"USD/kWp-yr","Starting OpEx",null,null,9.5,9.5,9.5,9.5,9.5,9.5,9.5,9.5,9.5]
[null,null,null,"Initial Period End for O&M",{"$f":"INDEX(J44:R44,case_active)","v":5},"Years",null,null,null,5,5,5,5,5,5,5,5,5]
[null,null,null,"O&M per Year after Initial Period",{"$f":"INDEX(J45:R45,case_active)","v":8},"USD/kWp","Due to Economies of Scale",null,null,7.5,8,8,7.5,7.5,7.5,7.5,7.5,7.5]
[]
[null,null,null,"Insurance During Operation",{"$f":"INDEX(J47:R47,case_active)","v":4},"USD/kWp-yr","Yearly Estimate",null,null,4,4,4,4,4,4,4,4,4]
[]
[null,null,null,"Operation and Maintenance Payment Arrears",{"$f":"INDEX(J49:R49,case_active)","v":2},"Months",null,null,null,2,2,2,2,2,2,2,2,2]
[]
[null,"Capital Expenditures",null,null,null,null,"Paid at Financial Close"]
[null,null,null,"EPC Contractor",{"$f":"INDEX(J52:R52,case_active)","v":900},"USD/kWp",null,null,null,900,900,900,900,900,900,1200,1000,1000]
[null,null,null,"S-curve Code to InputS",{"$f":"INDEX(J53:R53,case_active)","v":2},"Code","Detailed in Input-S",null,null,1,2,3,3,1,1,1,1,1]
[null,null,null,"Developer Fee",{"$f":"INDEX(J54:R54,case_active)","v":3600000},"USD ","Paid to Developer",null,null,3600000,3600000,3600000,3600000,3600000,3600000,3600000,3600000,3600000]
[null,null,null,"Period of Developer Bonus",{"$f":"INDEX(J55:R55,case_active)","v":"00:00:00"},"Date","Assume paid in Fin Close (up-front)",null,null,{"$f":"J7","v":"2023-01-01"},{"$f":"K9","v":"00:00:00"},{"$f":"L7","v":"2023-01-01"},{"$f":"M7","v":"2023-01-01"},"2023-01-01","2023-01-01","2023-01-01","2023-01-01","2023-01-01"]
[]
[null,"Taxes and Capital Allowance"]
[null,null,null,"Bonus Depreciation",null,"Percent",null,null,null,0,0,0,0,0,0,0,0,0]
[null,null,null,"Depreciaion Life",{"$f":"INDEX(J59:R59,case_active)","v":5},"Years",null,null,null,5,5,5,5,5,5,5,5,5]
[null,null,null,"Declining Balance Factor",{"$f":"INDEX(J60:R60,case_active)","v":2},"Factor",null,null,null,2,2,2,2,2,2,2,2,2]
[null,null,null,"Tax Depreciation Code Number",{"$f":"INDEX(J61:R61,case_active)","v":1},"Code",null,null,null,1,1,2,1,1,2,2,2,2]
[null,null,null,"Tax Rate",{"$f":"INDEX(J62:R62,case_active)","v":0.21},"%",null,null,null,0.21,0.21,0.21,0.21,0.21,0.21,0.21,0.21,0.21]
[]
[null,"Constants"]
[null,null,null,"Months in Year",12,"Months"]
[null,null,null,"Inflation Days in Year",365,"Days Inflation"]
[null,null,null,"Semi-Annual Periods",2,"Semi"]
[null,null,null,"Days in 360 Year",360,"Year 360"]

{"sheet":"InputC-Financing","index":4,"n_rows":44,"n_cols":18,"rows_kept":44,"cut":false,"hidden":false,"merged":[]}
["          ",null,null,null,"Project IRR"]
[null,null,null,null,"Equity IRR"]
[null,"Active Scenario",null,null,{"$f":"case_active","v":2},null,null,null,null,"Base Case","P90 Debt Size Case","P99 Debt Size Case","Maximum Debt to Capital Case","Stress Case for Credit","P90 and No Inflation","Higher EPC","Lower PPA","Shareholder Loan"]
[null,null,null,null,null,null,null,null,null,1,2,6,3,4,5,7,8,9]
[null,"Dates"]
[null,null,"Financial Close",null,{"$f":"INDEX(J6:R6,case_active)","v":"2023-01-01"},null,null,null,null,{"$f":"'InputC - Operations'!J7","v":"2023-01-01"},{"$f":"'InputC - Operations'!K7","v":"2023-01-01"},{"$f":"'InputC - Operations'!L7","v":"2023-01-01"},{"$f":"'InputC - Operations'!M7","v":"2023-01-01"},{"$f":"'InputC - Operations'!N7","v":"2023-01-01"},{"$f":"'InputC - Operations'!O7","v":"2023-01-01"},{"$f":"'InputC - Operations'!P7","v":"2023-01-01"},{"$f":"'InputC - Operations'!Q7","v":"2023-01-01"},{"$f":"'InputC - Operations'!R7","v":"2023-01-01"}]
[null,null,"Commercial Operation",null,{"$f":"INDEX(J7:R7,case_active)","v":"00:00:00"},null,null,null,null,{"$f":"'InputC - Operations'!J9","v":"00:00:00"},{"$f":"'InputC - Operations'!K9","v":"00:00:00"},{"$f":"'InputC - Operations'!L9","v":"00:00:00"},{"$f":"'InputC - Operations'!M9","v":"00:00:00"},{"$f":"'InputC - Operations'!N9","v":"00:00:00"},{"$f":"'InputC - Operations'!O9","v":"00:00:00"},{"$f":"'InputC - Operations'!P9","v":"00:00:00"},{"$f":"'InputC - Operations'!Q9","v":"00:00:00"},{"$f":"'InputC - Operations'!R9","v":"00:00:00"}]
[]
[null,"Funding"]
[null,null,"First Repayment Month"]
[null,null,"Second Repayment Month"]
[]
[null,null,"Senior Debt"]
[null,null,null,"Maximum Debt Sizing ",{"$f":"INDEX(J14:R14,case_active)","v":0.8},"%","Tested through DSCR",null,null,0.8,0.8,0.8,0.8,0.8,0.8,0.8,0.8,0.8]
[null,null,null,"DSCR Target",{"$f":"INDEX(J15:R15,case_active)","v":1.3},null,null,null,null,1.3,1.3,1.3,1.3,1.3,1.3,1.3,1.3,1.3]
[null,null,null,"Fix Debt Size",{"$f":"INDEX(J16:R16,case_active)","v":false},"Flag",null,null,null,true,false,false,true,true,true,true,true,true]
[]
[null,null,null,"Equity Up-Front Funding",{"$f":"INDEX(J18:R18,case_active)","v":true},"Flag",null,null,null,true,true,true,true,true,true,true,true,true]
[null,null,null,"Pro-Rata Funding",{"$f":"INDEX(J19:R19,case_active)","v":0},"Flag"]
[]
[null,null,null,"Debt Tenor",{"$f":"INDEX(J21:R21,case_active)","v":25},"Years",null,null,null,25,25,25,25,25,25,25,25,25]
[null,null,null,"End of Debt Repayment",{"$f":"INDEX(J22:R22,case_active)","v":"1924-12-31"},null,null,null,null,{"$f":"EDATE(J7,J21*Months)","v":"1924-12-31"},"1924-12-31","1924-12-31","1924-12-31","1924-12-31","1924-12-31","1924-12-31","1924-12-31","1924-12-31"]
[null,null,null,"Interest and Principal Repayments Timing",{"$f":"INDEX(J23:R23,case_active)","v":6},"Months","Every 6 Months",null,null,6,6,6,6,6,6,6,6,6]
[]
[null,null,null,"Base Interest Rate",{"$f":"INDEX(J25:R25,case_active)","v":3.5000000000000003E-2},"% p.a.","Annual Rate",null,null,3.5000000000000003E-2,3.5000000000000003E-2,3.5000000000000003E-2,3.5000000000000003E-2,3.5000000000000003E-2,3.5000000000000003E-2,3.5000000000000003E-2,3.5000000000000003E-2,3.5000000000000003E-2]
[null,null,null,"Code for Credit Spread",{"$f":"INDEX(J26:R26,E3)","v":2},"Code",null,null,null,2,2,1,1,3,2,1,1,1]
[null,null,null,"Up-Front Fee",{"$f":"INDEX(J27:R27,case_active)","v":0.01},"%",null,null,null,0.01,0.01,0.01,0.01,0.01,0.01,0.01,0.01,0.01]
[null,null,null,"Commitment Fee",{"$f":"INDEX(J28:R28,case_active)","v":7.0000000000000001E-3},"% p.a.",null,null,null,7.0000000000000001E-3,7.0000000000000001E-3,7.0000000000000001E-3,7.0000000000000001E-3,7.0000000000000001E-3,7.0000000000000001E-3,7.0000000000000001E-3,7.0000000000000001E-3,7.0000000000000001E-3]
[]
[null,null,null,"DSRA Months",{"$f":"INDEX(J30:R30,case_active)","v":6},"Months",null,null,null,6,6,6,6,6,6,6,6,6]
[]
[null,null,"Fixed Items Copied"]
[null,null,null,"Fixed Debt Size"]
[null,null,null,"IDC Fixed"]
[null,null,null,"Up-front Fee Fixed"]
[null,null,null,"Commitment Fee Fixed"]
[null,null,null,"DSRA Fixed"]
[]
[null,null,"Shareholder Loan"]
[null,null,null,"Shareholder Loan as Percent of Equity",{"$f":"INDEX(J40:R40,case_active)","v":0},null,null,null,null,0,0,0,0,0,0,0,0,0.9]
[null,null,null,"Shareholder Loan Interest Rate",{"$f":"INDEX(J41:R41,case_active)","v":0.08},"% p.a.",null,null,null,0.08,0.08,0.08,0.08,0.08,0.08,0.08,0.08,0.08]
[null,null,null,"Capitalise Interest on Shareholder Loan",{"$f":"INDEX(J42:R42,case_active)","v":0},"1=yes;0=no"]
[null,null,null,"Allow SHL Interest Deduction in Taxes",{"$f":"INDEX(J43:R43,case_active)","v":0},"1=yes;0=no"]
[null,null,null,"Cash Flow Sweep Percent",{"$f":"INDEX(J44:R44,case_active)","v":0},"%",null,null,null,{"$f":"J40","v":0},{"$f":"K40","v":0},{"$f":"L40","v":0},{"$f":"M40","v":0},{"$f":"N40","v":0},0,0,0,0.9]

{"sheet":"InputS","index":5,"n_rows":57,"n_cols":35,"rows_kept":57,"cut":false,"hidden":false,"merged":[]}
[{"$f":"RIGHT(CELL(\"filename\",A1),LEN(CELL(\"filename\",A1))- SEARCH(\"]\",CELL(\"filename\",A1)))","v":"InputS"}]
[]
[null,"EPC - S-Curve"]
[]
[null,null,null,"Construction Period",null,null,"Month",null,null,null,null,1,2,3,4,5,6,7,8,9,10,11,12,13,14,15,16,17,18,19,20,21,22,23,24]
[null,null,null,"Construction Year",null,null,"Year",null,null,null,null,{"$f":"ROUNDUP(L5/12,0)","v":1},{"$f":"ROUNDUP(M5/12,0)","v":1},1,1,1,1,1,1,1,1,1,1,2,2,2,2,2,2,2,2,2,2,2,2]
[null,null,null,"Construction Months",null,null,"Flag",{"$f":"'InputC - Operations'!E8","v":0},null,null,null,{"$f":"L5<=$H$7","v":false},false,false,false,false,false,false,false,false,false,false,false,false,false,false,false,false,false,false,false,false,false,false,false]
[]
[null,"S-Curve - Scenario Number",null,null,null,null,"Code",{"$f":"'InputC - Operations'!E53","v":2}]
[]
[null,null,null,"S-Curve - Base Case",null,1,"%",{"$f":"SUM(L11:BI11)","v":1},null,null,null,0.25,0.1,0,0.15,0.2,0.3,0,0,0,0,0,0,0,0,0,0,0,0,0,0,0,0,0,0]
[null,null,null,"S-Curve - Flat Case",null,2,"%",{"$f":"SUM(L12:BI12)","v":{"$error":"#DIV/0!"}},null,null,null,{"$f":"1/$H$7*L7","v":{"$error":"#DIV/0!"}},{"$error":"#DIV/0!"},{"$error":"#DIV/0!"},{"$error":"#DIV/0!"},{"$error":"#DIV/0!"},{"$error":"#DIV/0!"},{"$error":"#DIV/0!"},{"$error":"#DIV/0!"},{"$error":"#DIV/0!"},{"$error":"#DIV/0!"},{"$error":"#DIV/0!"},{"$error":"#DIV/0!"},{"$error":"#DIV/0!"},{"$error":"#DIV/0!"},{"$error":"#DIV/0!"},{"$error":"#DIV/0!"},{"$error":"#DIV/0!"},{"$error":"#DIV/0!"},{"$error":"#DIV/0!"},{"$error":"#DIV/0!"},{"$error":"#DIV/0!"},{"$error":"#DIV/0!"},{"$error":"#DIV/0!"},{"$error":"#DIV/0!"}]
[null,null,null,"S-Curve - Front Loaded Case",null,3,"%",{"$f":"SUM(L13:BI13)","v":0.99999999999999989},null,null,null,0.4,0.3,0.2,0.1,0,0,0,0,0,0,0,0,0,0,0,0,0,0,0,0,0,0,0,0]
[]
[null,null,null,{"$f":"INDEX(D11:D13,$H$9)","v":"S-Curve - Flat Case"},null,null,"%",{"$f":"SUM(I15:XFD15)","v":{"$error":"#DIV/0!"}},null,null,null,{"$f":"INDEX(L11:L14,$H$9)","v":{"$error":"#DIV/0!"}},{"$f":"INDEX(M11:M14,$H$9)","v":{"$error":"#DIV/0!"}},{"$f":"INDEX(N11:N14,$H$9)","v":{"$error":"#DIV/0!"}},{"$f":"INDEX(O11:O14,$H$9)","v":{"$error":"#DIV/0!"}},{"$f":"INDEX(P11:P14,$H$9)","v":{"$error":"#DIV/0!"}},{"$f":"INDEX(Q11:Q14,$H$9)","v":{"$error":"#DIV/0!"}},{"$f":"INDEX(R11:R14,$H$9)","v":{"$error":"#DIV/0!"}},{"$f":"INDEX(S11:S14,$H$9)","v":{"$error":"#DIV/0!"}},{"$f":"INDEX(T11:T14,$H$9)","v":{"$error":"#DIV/0!"}},{"$f":"INDEX(U11:U14,$H$9)","v":{"$error":"#DIV/0!"}},{"$f":"INDEX(V11:V14,$H$9)","v":{"$error":"#DIV/0!"}},{"$f":"INDEX(W11:W14,$H$9)","v":{"$error":"#DIV/0!"}},{"$f":"INDEX(X11:X14,$H$9)","v":{"$error":"#DIV/0!"}},{"$f":"INDEX(Y11:Y14,$H$9)","v":{"$error":"#DIV/0!"}},{"$f":"INDEX(Z11:Z14,$H$9)","v":{"$error":"#DIV/0!"}},{"$f":"INDEX(AA11:AA14,$H$9)","v":{"$error":"#DIV/0!"}},{"$f":"INDEX(AB11:AB14,$H$9)","v":{"$error":"#DIV/0!"}},{"$f":"INDEX(AC11:AC14,$H$9)","v":{"$error":"#DIV/0!"}},{"$f":"INDEX(AD11:AD14,$H$9)","v":{"$error":"#DIV/0!"}},{"$f":"INDEX(AE11:AE14,$H$9)","v":{"$error":"#DIV/0!"}},{"$f":"INDEX(AF11:AF14,$H$9)","v":{"$error":"#DIV/0!"}},{"$f":"INDEX(AG11:AG14,$H$9)","v":{"$error":"#DIV/0!"}},{"$f":"INDEX(AH11:AH14,$H$9)","v":{"$error":"#DIV/0!"}},{"$f":"INDEX(AI11:AI14,$H$9)","v":{"$error":"#DIV/0!"}}]
[]
[null,"Solar Seasonality"]
[null,null,null,"Month Name",null,null,null,null,null,null,1,"Jan","Feb","March","April","May","June","July","August","Sept","October","Nov","Dec"]
[null,null,null,"Month Number",null,null,"Counter",null,null,null,null,1,2,3,4,5,6,7,8,9,10,11,12]
[null,null,null,"Resource Availability",null,null,"%",{"$f":"SUM(L20:W20)","v":0.99999999999999978},null,null,null,6.6666666666666666E-2,6.6666666666666666E-2,0.08,8.5000000000000006E-2,0.09,0.12,0.12,0.09,0.08,7.0000000000000007E-2,6.5000000000000002E-2,6.6666666666666666E-2]
[]
[null,"General Inflation Rate",null,null,null,null,"Code",{"$f":"'InputC - Operations'!E53","v":2}]
[]
[null,null,null,"Year",null,null,null,null,null,null,null,2021,2022,2023,2024,2025,2026,2027,2028,2029]
[null,null,null,"Base Case",null,1,"%",null,null,null,null,1.4999999999999999E-2,0.04,3.5000000000000003E-2,0.03,0.03,0.03,0.03,0.03,0.03]
[null,null,null,"High Inflation",null,2,"%",null,null,null,null,1.4999999999999999E-2,0.04,0.04,0.04,0.04,0.04,0.04,0.04,0.04]
[null,null,null,"Low Inflation",null,3,"%",null,null,null,null,1.4999999999999999E-2,0.04,0.02,0.02,1.4999999999999999E-2,1.4999999999999999E-2,1.4999999999999999E-2,1.4999999999999999E-2,1.4999999999999999E-2]
[]
[null,null,null,{"$f":"INDEX(D25:D27,$H$22)","v":"High Inflation"},null,null,"%",null,null,null,null,{"$f":"INDEX(L25:L27,$H$22)","v":1.4999999999999999E-2},{"$f":"INDEX(M25:M27,$H$22)","v":0.04},{"$f":"INDEX(N25:N27,$H$22)","v":0.04},{"$f":"INDEX(O25:O27,$H$22)","v":0.04},{"$f":"INDEX(P25:P27,$H$22)","v":0.04},{"$f":"INDEX(Q25:Q27,$H$22)","v":0.04},{"$f":"INDEX(R25:R27,$H$22)","v":0.04},{"$f":"INDEX(S25:S27,$H$22)","v":0.04},{"$f":"INDEX(T25:T27,$H$22)","v":0.04}]
[]
[null,"Degradation Rate",null,null,null,null,"Code"]
[]
[null,null,null,"Age - Annual",null,null,"Year",null,null,null,0,1,2,3,4,5,6,7,8,9,10,11,12]
[]
[null,null,null,"Base Case",null,1,"%",null,null,null,null,7.4999999999999997E-3,5.0000000000000001E-3,5.0000000000000001E-3,5.0000000000000001E-3,5.0000000000000001E-3,5.0000000000000001E-3,5.0000000000000001E-3,5.0000000000000001E-3,5.0000000000000001E-3,5.0000000000000001E-3,5.0000000000000001E-3,5.0000000000000001E-3]
[null,null,null,"High Degradation",null,2,"%",null,null,null,null,7.4999999999999997E-3,7.4999999999999997E-3,7.4999999999999997E-3,7.4999999999999997E-3,7.4999999999999997E-3,7.4999999999999997E-3,7.4999999999999997E-3,7.4999999999999997E-3,7.4999999999999997E-3,7.4999999999999997E-3,7.4999999999999997E-3,7.4999999999999997E-3]
[null,null,null,"Low Degredation",null,3,"%",null,null,null,null,4.0000000000000001E-3,4.0000000000000001E-3,4.0000000000000001E-3,4.0000000000000001E-3,4.0000000000000001E-3,4.0000000000000001E-3,4.0000000000000001E-3,4.0000000000000001E-3,4.0000000000000001E-3,4.0000000000000001E-3,4.0000000000000001E-3,4.0000000000000001E-3]
[]
[]
[]
[null,"Depreciaion Rate"]
[]
[null,null,null,"Life",null,null,"Years",{"$f":"'InputC - Operations'!E59","v":5}]
[null,null,null,"Factor",null,null,"Factor",{"$f":"'InputC - Operations'!E60","v":2}]
[]
[null,null,null,"Year",null,null,null,null,null,null,null,0,1,2,3,4,5,6,7,8,9,10,11,12,13,14]
[null,null,null,"Annual Depreciation Rate",null,null,"%",null,null,null,null,null,{"$f":"IFERROR(VDB(1,0,$H$43,L46,M46,$H$44),0)","v":0.4},{"$f":"IFERROR(VDB(1,0,$H$43,M46,N46,$H$44),0)","v":0.24},0.14399999999999999,0.108,0.108,0,0,0,0,0,0,0,0,0]
[]
[null,"Margin",null,null,null,null,"Code",{"$f":"'InputC-Financing'!E26","v":2}]
[]
[null,null,null,"Repayment Period",null,null,null,null,null,null,null,0,1,3,5,7,10]
[]
[null,null,null,"Credit Spread in Term Sheet",null,1,"%",null,null,null,null,1.4999999999999999E-2,1.7500000000000002E-2,{"$f":"M53+0.25%","v":0.02},{"$f":"N53+0.25%","v":2.2499999999999999E-2},2.4999999999999998E-2,{"$f":"P53","v":2.4999999999999998E-2}]
[null,null,null,"Flat Credit Spread",null,2,"%",null,null,null,null,{"$f":"L53","v":1.4999999999999999E-2},{"$f":"M53","v":1.7500000000000002E-2},{"$f":"M54","v":1.7500000000000002E-2},{"$f":"N54","v":1.7500000000000002E-2},1.7500000000000002E-2,1.7500000000000002E-2]
[null,null,null,"Upside Credit Spread",null,3,"%",null,null,null,null,{"$f":"L54","v":1.4999999999999999E-2},{"$f":"M54","v":1.7500000000000002E-2},1.4999999999999999E-2,1.4999999999999999E-2,1.4999999999999999E-2,1.4999999999999999E-2]
[]
[null,null,null,{"$f":"INDEX(D53:D55,$H$49)","v":"Flat Credit Spread"},null,null,"%",null,null,null,null,{"$f":"INDEX(L53:L55,$H$49)","v":1.4999999999999999E-2},{"$f":"INDEX(M53:M55,$H$49)","v":1.7500000000000002E-2},{"$f":"INDEX(N53:N55,$H$49)","v":1.7500000000000002E-2},{"$f":"INDEX(O53:O55,$H$49)","v":1.7500000000000002E-2},{"$f":"INDEX(P53:P55,$H$49)","v":1.7500000000000002E-2},{"$f":"INDEX(Q53:Q55,$H$49)","v":1.7500000000000002E-2}]

{"sheet":"Operation Monthly","index":6,"n_rows":99,"n_cols":511,"rows_kept":99,"cut":false,"hidden":false,"merged":[]}
[{"$f":"MID(CELL(\"filename\"),FIND(\"]\",CELL(\"filename\"),1)+1,250)","v":"InputC - Operations"}]
[null,null,null,null,"Constant","Constant","Unit"]
[null,null,null,"Period Number",null,null,"Number"]
[null,null,null,"Start of Period",{"$f":"'InputC - Operations'!$E$7","v":"00:00:00"},null,"Date"]
[null,null,null,"End of Period",null,null,"Date",null,null,null,{"$f":"E4-1","v":-1}]
[null,null,null,"Pre-COD Flag",{"$f":"'InputC - Operations'!$E$9","v":"00:00:00"},null,"Flag"]
[null,null,null,"Operations Flag",{"$f":"'InputC - Operations'!$E$9","v":"00:00:00"},{"$f":"'InputC - Operations'!$E$11","v":"00:00:00"},"Flag"]
[null,null,null,"Year",null,null,"Year",null,null,null,null,{"$f":"YEAR(L4)","v":1900},{"$f":"YEAR(M4)","v":1900},1900,1900,1900,1900,1900,1900,1900,1900,1900,1900,1900,1900,1900,1900,1900,1900,1900,1900,1900,1900,1900,1900,1900,1900,1900,1900,1900,1900,1900,1900,1900,1900,1900,1900,1900,1900,1900,1900,1900,1900,1900,1900,1900,1900,1900,1900,1900,1900,1900,1900,1900,1900,1900,1900,1900,1900,1900,1900,1900,1900,1900,1900,1900,{"$f":"YEAR(BY4)","v":1900},1900,1900,1900,1900,1900,1900,1900,1900,1900,1900,1900,1900,1900,1900,1900,1900,1900,1900,1900,1900,1900,1900,1900,1900,1900,1900,1900,1900,1900,1900,1900,1900,1900,1900,1900,1900,1900,1900,1900,1900,1900,1900,1900,1900,1900,1900,1900,1900,1900,1900,1900,1900,1900,1900,1900,1900,1900,1900,1900,1900,1900,1900,1900,{"$f":"YEAR(EK4)","v":1900},1900,1900,1900,1900,1900,1900,1900,1900,1900,1900,1900,1900,1900,1900,1900,1900,1900,1900,1900,1900,1900,1900,1900,1900,1900,1900,1900,1900,1900,1900,1900,1900,1900,1900,1900,1900,1900,1900,1900,1900,1900,1900,1900,1900,1900,1900,1900,1900,1900,1900,1900,1900,1900,1900,1900,1900,1900,1900,1900,1900,1900,1900,1900,{"$f":"YEAR(GW4)","v":1900},1900,1900,1900,1900,1900,1900,1900,1900,1900,1900,1900,1900,1900,1900,1900,1900,1900,1900,1900,1900,1900,1900,1900,1900,1900,1900,1900,1900,1900,1900,1900,1900,1900,1900,1900,1900,1900,1900,1900,1900,1900,1900,1900,1900,1900,1900,1900,1900,1900,1900,1900,1900,1900,1900,1900,1900,1900,1900,1900,1900,1900,1900,1900,{"$f":"YEAR(JI4)","v":1900},1900,1900,1900,1900,1900,1900,1900,1900,1900,1900,1900,1900,1900,1900,1900,1900,1900,1900,1900,1900,1900,1900,1900,1900,1900,1900,1900,1900,1900,1900,1900,1900,1900,1900,1900,1900,1900,1900,1900,1900,1900,1900,1900,1900,1900,1900,1900,1900,1900,1900,1900,1900,1900,1900,1900,1900,1900,1900,1900,1900,1900,1900,1900,{"$f":"YEAR(LU4)","v":1900},1900,1900,1900,1900,1900,1900,1900,1900,1900,1900,1900,1900,1900,1900,1900,1900,1900,1900,1900,1900,1900,1900,1900,1900,1900,1900,1900,1900,1900,1900,1900,1900,1900,1900,1900,1900,1900,1900,1900,1900,1900,1900,1900,1900,1900,1900,1900,1900,1900,1900,1900,1900,1900,1900,1900,1900,1900,1900,1900,1900,1900,1900,1900,{"$f":"YEAR(OG4)","v":1900},1900,1900,1900,1900,1900,1900,1900,1900,1900,1900,1900,1900,1900,1900,1900,1900,1900,1900,1900,1900,1900,1900,1900,1900,1900,1900,1900,1900,1900,1900,1900,1900,1900,1900,1900,1900,1900,1900,1900,1900,1900,1900,1900,1900,1900,1900,1900,1900,1900,1900,1900,1900,1900,1900,1900,1900,1900,1900,1900,1900,1900,1900,1900,{"$f":"YEAR(QS4)","v":1900},1900,1900,1900,1900,1900,1900,1900,1900,1900,1900,1900,1900,1900,1900,1900,1900,1900,1900,1900,1900,1900,1900,1900,1900,1900,1900,1900,1900,1900,1900,1900,1900,1900,1900,1900,1900,1900,1900,1900,1900,1900,1900,1900,1900,1900,1900,1900,1900,1900,1900]
[]
[null,"Monthly and Semi-Annual Date for Financing"]
[null,null,null,"Counter from COD ",null,null,"Counter"]
[null,null,null,"Flag for Semi Annual Period",{"$f":"'InputC-Financing'!E10","v":0},{"$f":"'InputC-Financing'!E11","v":0},"Flag","Months -->"]
[null,null,null,"Semi-Annual Counter",null,null,"Counter",null,null,null,0,{"$f":"IF(L12,0,K13+1)","v":1},{"$f":"IF(M12,0,L13+1)","v":2},3,4,5,6,7,8,9,10,11,12,13,14,15,16,17,18,19,20,21,22,23,24,25,26,27,28,29,30,31,32,33,34,35,36,37,38,39,40,41,42,43,44,45,46,47,48,49,50,51,52,53,54,55,56,57,58,59,60,61,62,63,64,65,{"$f":"IF(BY12,0,BX13+1)","v":66},67,68,69,70,71,72,73,74,75,76,77,78,79,80,81,82,83,84,85,86,87,88,89,90,91,92,93,94,95,96,97,98,99,100,101,102,103,104,105,106,107,108,109,110,111,112,113,114,115,116,117,118,119,120,121,122,123,124,125,126,127,128,129,{"$f":"IF(EK12,0,EJ13+1)","v":130},131,132,133,134,135,136,137,138,139,140,141,142,143,144,145,146,147,148,149,150,151,152,153,154,155,156,157,158,159,160,161,162,163,164,165,166,167,168,169,170,171,172,173,174,175,176,177,178,179,180,181,182,183,184,185,186,187,188,189,190,191,192,193,{"$f":"IF(GW12,0,GV13+1)","v":194},195,196,197,198,199,200,201,202,203,204,205,206,207,208,209,210,211,212,213,214,215,216,217,218,219,220,221,222,223,224,225,226,227,228,229,230,231,232,233,234,235,236,237,238,239,240,241,242,243,244,245,246,247,248,249,250,251,252,253,254,255,256,257,{"$f":"IF(JI12,0,JH13+1)","v":258},259,260,261,262,263,264,265,266,267,268,269,270,271,272,273,274,275,276,277,278,279,280,281,282,283,284,285,286,287,288,289,290,291,292,293,294,295,296,297,298,299,300,301,302,303,304,305,306,307,308,309,310,311,312,313,314,315,316,317,318,319,320,321,{"$f":"IF(LU12,0,LT13+1)","v":322},323,324,325,326,327,328,329,330,331,332,333,334,335,336,337,338,339,340,341,342,343,344,345,346,347,348,349,350,351,352,353,354,355,356,357,358,359,360,361,362,363,364,365,366,367,368,369,370,371,372,373,374,375,376,377,378,379,380,381,382,383,384,385,{"$f":"IF(OG12,0,OF13+1)","v":386},387,388,389,390,391,392,393,394,395,396,397,398,399,400,401,402,403,404,405,406,407,408,409,410,411,412,413,414,415,416,417,418,419,420,421,422,423,424,425,426,427,428,429,430,431,432,433,434,435,436,437,438,439,440,441,442,443,444,445,446,447,448,449,{"$f":"IF(QS12,0,QR13+1)","v":450},451,452,453,454,455,456,457,458,459,460,461,462,463,464,465,466,467,468,469,470,471,472,473,474,475,476,477,478,479,480,481,482,483,484,485,486,487,488,489,490,491,492,493,494,495,496,497,498,499,500]
[null,null,null,"Forward Semi-Annual Date with Same Dates",null,null,"Date",null,null,null,null,{"$f":"IF(L6,L4,OFFSET(L4,0,-L13))","v":"00:00:00"},{"$f":"IF(M6,M4,OFFSET(M4,0,-M13))","v":"00:00:00"},"00:00:00","00:00:00","00:00:00","00:00:00","00:00:00","00:00:00","00:00:00","00:00:00","00:00:00","00:00:00","00:00:00","00:00:00","00:00:00","00:00:00","00:00:00","00:00:00","00:00:00","00:00:00","00:00:00","00:00:00","00:00:00","00:00:00","00:00:00","00:00:00","00:00:00","00:00:00","00:00:00","00:00:00","00:00:00","00:00:00","00:00:00","00:00:00","00:00:00","00:00:00","00:00:00","00:00:00","00:00:00","00:00:00","00:00:00","00:00:00","00:00:00","00:00:00","00:00:00","00:00:00","00:00:00","00:00:00","00:00:00","00:00:00","00:00:00","00:00:00","00:00:00","00:00:00","00:00:00","00:00:00","00:00:00","00:00:00","00:00:00","00:00:00","00:00:00","00:00:00","00:00:00","00:00:00","00:00:00",{"$f":"IF(BY6,BY4,OFFSET(BY4,0,-BY13))","v":"00:00:00"},"00:00:00","00:00:00","00:00:00","00:00:00","00:00:00","00:00:00","00:00:00","00:00:00","00:00:00","00:00:00","00:00:00","00:00:00","00:00:00","00:00:00","00:00:00","00:00:00","00:00:00","00:00:00","00:00:00","00:00:00","00:00:00","00:00:00","00:00:00","00:00:00","00:00:00","00:00:00","00:00:00","00:00:00","00:00:00","00:00:00","00:00:00","00:00:00","00:00:00","00:00:00","00:00:00","00:00:00","00:00:00","00:00:00","00:00:00","00:00:00","00:00:00","00:00:00","00:00:00","00:00:00","00:00:00","00:00:00","00:00:00","00:00:00","00:00:00","00:00:00","00:00:00","00:00:00","00:00:00","00:00:00","00:00:00","00:00:00","00:00:00","00:00:00","00:00:00","00:00:00","00:00:00","00:00:00","00:00:00",{"$f":"IF(EK6,EK4,OFFSET(EK4,0,-EK13))","v":"00:00:00"},"00:00:00","00:00:00","00:00:00","00:00:00","00:00:00","00:00:00","00:00:00","00:00:00","00:00:00","00:00:00","00:00:00","00:00:00","00:00:00","00:00:00","00:00:00","00:00:00","00:00:00","00:00:00","00:00:00","00:00:00","00:00:00","00:00:00","00:00:00","00:00:00","00:00:00","00:00:00","00:00:00","00:00:00","00:00:00","00:00:00","00:00:00","00:00:00","00:00:00","00:00:00","00:00:00","00:00:00","00:00:00","00:00:00","00:00:00","00:00:00","00:00:00","00:00:00","00:00:00","00:00:00","00:00:00","00:00:00","00:00:00","00:00:00","00:00:00","00:00:00","00:00:00","00:00:00","00:00:00","00:00:00","00:00:00","00:00:00","00:00:00","00:00:00","00:00:00","00:00:00","00:00:00","00:00:00","00:00:00",{"$f":"IF(GW6,GW4,OFFSET(GW4,0,-GW13))","v":"00:00:00"},"00:00:00","00:00:00","00:00:00","00:00:00","00:00:00","00:00:00","00:00:00","00:00:00","00:00:00","00:00:00","00:00:00","00:00:00","00:00:00","00:00:00","00:00:00","00:00:00","00:00:00","00:00:00","00:00:00","00:00:00","00:00:00","00:00:00","00:00:00","00:00:00","00:00:00","00:00:00","00:00:00","00:00:00","00:00:00","00:00:00","00:00:00","00:00:00","00:00:00","00:00:00","00:00:00","00:00:00","00:00:00","00:00:00","00:00:00","00:00:00","00:00:00","00:00:00","00:00:00","00:00:00","00:00:00","00:00:00","00:00:00","00:00:00","00:00:00","00:00:00","00:00:00","00:00:00","00:00:00","00:00:00","00:00:00","00:00:00","00:00:00","00:00:00","00:00:00","00:00:00","00:00:00","00:00:00","00:00:00",{"$f":"IF(JI6,JI4,OFFSET(JI4,0,-JI13))","v":"00:00:00"},"00:00:00","00:00:00","00:00:00","00:00:00","00:00:00","00:00:00","00:00:00","00:00:00","00:00:00","00:00:00","00:00:00","00:00:00","00:00:00","00:00:00","00:00:00","00:00:00","00:00:00","00:00:00","00:00:00","00:00:00","00:00:00","00:00:00","00:00:00","00:00:00","00:00:00","00:00:00","00:00:00","00:00:00","00:00:00","00:00:00","00:00:00","00:00:00","00:00:00","00:00:00","00:00:00","00:00:00","00:00:00","00:00:00","00:00:00","00:00:00","00:00:00","00:00:00","00:00:00","00:00:00","00:00:00","00:00:00","00:00:00","00:00:00","00:00:00","00:00:00","00:00:00","00:00:00","00:00:00","00:00:00","00:00:00","00:00:00","00:00:00","00:00:00","00:00:00","00:00:00","00:00:00","00:00:00","00:00:00",{"$f":"IF(LU6,LU4,OFFSET(LU4,0,-LU13))","v":"00:00:00"},"00:00:00","00:00:00","00:00:00","00:00:00","00:00:00","00:00:00","00:00:00","00:00:00","00:00:00","00:00:00","00:00:00","00:00:00","00:00:00","00:00:00","00:00:00","00:00:00","00:00:00","00:00:00","00:00:00","00:00:00","00:00:00","00:00:00","00:00:00","00:00:00","00:00:00","00:00:00","00:00:00","00:00:00","00:00:00","00:00:00","00:00:00","00:00:00","00:00:00","00:00:00","00:00:00","00:00:00","00:00:00","00:00:00","00:00:00","00:00:00","00:00:00","00:00:00","00:00:00","00:00:00","00:00:00","00:00:00","00:00:00","00:00:00","00:00:00","00:00:00","00:00:00","00:00:00","00:00:00","00:00:00","00:00:00","00:00:00","00:00:00","00:00:00","00:00:00","00:00:00","00:00:00","00:00:00","00:00:00",{"$f":"IF(OG6,OG4,OFFSET(OG4,0,-OG13))","v":"00:00:00"},"00:00:00","00:00:00","00:00:00","00:00:00","00:00:00","00:00:00","00:00:00","00:00:00","00:00:00","00:00:00","00:00:00","00:00:00","00:00:00","00:00:00","00:00:00","00:00:00","00:00:00","00:00:00","00:00:00","00:00:00","00:00:00","00:00:00","00:00:00","00:00:00","00:00:00","00:00:00","00:00:00","00:00:00","00:00:00","00:00:00","00:00:00","00:00:00","00:00:00","00:00:00","00:00:00","00:00:00","00:00:00","00:00:00","00:00:00","00:00:00","00:00:00","00:00:00","00:00:00","00:00:00","00:00:00","00:00:00","00:00:00","00:00:00","00:00:00","00:00:00","00:00:00","00:00:00","00:00:00","00:00:00","00:00:00","00:00:00","00:00:00","00:00:00","00:00:00","00:00:00","00:00:00","00:00:00","00:00:00",{"$f":"IF(QS6,QS4,OFFSET(QS4,0,-QS13))","v":"00:00:00"},"00:00:00","00:00:00","00:00:00","00:00:00","00:00:00","00:00:00","00:00:00","00:00:00","00:00:00","00:00:00","00:00:00","00:00:00","00:00:00","00:00:00","00:00:00","00:00:00","00:00:00","00:00:00","00:00:00","00:00:00","00:00:00","00:00:00","00:00:00","00:00:00","00:00:00","00:00:00","00:00:00","00:00:00","00:00:00","00:00:00","00:00:00","00:00:00","00:00:00","00:00:00","00:00:00","00:00:00","00:00:00","00:00:00","00:00:00","00:00:00","00:00:00","00:00:00","00:00:00","00:00:00","00:00:00","00:00:00","00:00:00","00:00:00","00:00:00","00:00:00"]
[]
[null,"Capacity and Production"]
[null,null,null,"Capacity in MW",{"$f":"'InputC - Operations'!$E$17","v":0},null,{"$f":"'InputC - Operations'!F17","v":"MWp"}]
[null,null,null,"Capacity in kW",{"$f":"'InputC - Operations'!E17*1000","v":0},null,"kWp",null,null,null,null,{"$f":"$E$18*L7","v":0},{"$f":"$E$18*M7","v":0},0,0,0,0,0,0,0,0,0,0,0,0,0,0,0,0,0,0,0,0,0,0,0,0,0,0,0,0,0,0,0,0,0,0,0,0,0,0,0,0,0,0,0,0,0,0,0,0,0,0,0,0,0,0,0,0,0,0,0,0,0,0,0,{"$f":"$E$18*BY7","v":0},0,0,0,0,0,0,0,0,0,0,0,0,0,0,0,0,0,0,0,0,0,0,0,0,0,0,0,0,0,0,0,0,0,0,0,0,0,0,0,0,0,0,0,0,0,0,0,0,0,0,0,0,0,0,0,0,0,0,0,0,0,0,0,{"$f":"$E$18*EK7","v":0},0,0,0,0,0,0,0,0,0,0,0,0,0,0,0,0,0,0,0,0,0,0,0,0,0,0,0,0,0,0,0,0,0,0,0,0,0,0,0,0,0,0,0,0,0,0,0,0,0,0,0,0,0,0,0,0,0,0,0,0,0,0,0,{"$f":"$E$18*GW7","v":0},0,0,0,0,0,0,0,0,0,0,0,0,0,0,0,0,0,0,0,0,0,0,0,0,0,0,0,0,0,0,0,0,0,0,0,0,0,0,0,0,0,0,0,0,0,0,0,0,0,0,0,0,0,0,0,0,0,0,0,0,0,0,0,{"$f":"$E$18*JI7","v":0},0,0,0,0,0,0,0,0,0,0,0,0,0,0,0,0,0,0,0,0,0,0,0,0,0,0,0,0,0,0,0,0,0,0,0,0,0,0,0,0,0,0,0,0,0,0,0,0,0,0,0,0,0,0,0,0,0,0,0,0,0,0,0,{"$f":"$E$18*LU7","v":0},0,0,0,0,0,0,0,0,0,0,0,0,0,0,0,0,0,0,0,0,0,0,0,0,0,0,0,0,0,0,0,0,0,0,0,0,0,0,0,0,0,0,0,0,0,0,0,0,0,0,0,0,0,0,0,0,0,0,0,0,0,0,0,{"$f":"$E$18*OG7","v":0},0,0,0,0,0,0,0,0,0,0,0,0,0,0,0,0,0,0,0,0,0,0,0,0,0,0,0,0,0,0,0,0,0,0,0,0,0,0,0,0,0,0,0,0,0,0,0,0,0,0,0,0,0,0,0,0,0,0,0,0,0,0,0,{"$f":"$E$18*QS7","v":0},0,0,0,0,0,0,0,0,0,0,0,0,0,0,0,0,0,0,0,0,0,0,0,0,0,0,0,0,0,0,0,0,0,0,0,0,0,0,0,0,0,0,0,0,0,0,0,0,0,0]
[]
[null,null,null,"Annual Yield",{"$f":"'InputC - Operations'!$E$22","v":0},null,"kWh/kWp",null,null,null,null,{"$f":"$E$20*L7","v":0},0,0,0,0,0,0,0,0,0,0,0,0,0,0,0,0,0,0,0,0,0,0,0,0,0,0,0,0,0,0,0,0,0,0,0,0,0,0,0,0,0,0,0,0,0,0,0,0,0,0,0,0,0,0,0,0,0,0,0,0,0,0,0,{"$f":"$E$20*BX7","v":0},0,0,0,0,0,0,0,0,0,0,0,0,0,0,0,0,0,0,0,0,0,0,0,0,0,0,0,0,0,0,0,0,0,0,0,0,0,0,0,0,0,0,0,0,0,0,0,0,0,0,0,0,0,0,0,0,0,0,0,0,0,0,0,{"$f":"$E$20*EJ7","v":0},0,0,0,0,0,0,0,0,0,0,0,0,0,0,0,0,0,0,0,0,0,0,0,0,0,0,0,0,0,0,0,0,0,0,0,0,0,0,0,0,0,0,0,0,0,0,0,0,0,0,0,0,0,0,0,0,0,0,0,0,0,0,0,{"$f":"$E$20*GV7","v":0},0,0,0,0,0,0,0,0,0,0,0,0,0,0,0,0,0,0,0,0,0,0,0,0,0,0,0,0,0,0,0,0,0,0,0,0,0,0,0,0,0,0,0,0,0,0,0,0,0,0,0,0,0,0,0,0,0,0,0,0,0,0,0,{"$f":"$E$20*JH7","v":0},0,0,0,0,0,0,0,0,0,0,0,0,0,0,0,0,0,0,0,0,0,0,0,0,0,0,0,0,0,0,0,0,0,0,0,0,0,0,0,0,0,0,0,0,0,0,0,0,0,0,0,0,0,0,0,0,0,0,0,0,0,0,0,{"$f":"$E$20*LT7","v":0},0,0,0,0,0,0,0,0,0,0,0,0,0,0,0,0,0,0,0,0,0,0,0,0,0,0,0,0,0,0,0,0,0,0,0,0,0,0,0,0,0,0,0,0,0,0,0,0,0,0,0,0,0,0,0,0,0,0,0,0,0,0,0,{"$f":"$E$20*OF7","v":0},0,0,0,0,0,0,0,0,0,0,0,0,0,0,0,0,0,0,0,0,0,0,0,0,0,0,0,0,0,0,0,0,0,0,0,0,0,0,0,0,0,0,0,0,0,0,0,0,0,0,0,0,0,0,0,0,0,0,0,0,0,0,0,{"$f":"$E$20*QR7","v":0},0,0,0,0,0,0,0,0,0,0,0,0,0,0,0,0,0,0,0,0,0,0,0,0,0,0,0,0,0,0,0,0,0,0,0,0,0,0,0,0,0,0,0,0,0,0,0,0,0,0,0]
[null,null,null,"Annual Generation b/4 Degrad, Availiblity",null,null,"MWH",null,null,null,null,{"$f":"L20*L17","v":0},{"$f":"M20*M17","v":0},0,0,0,0,0,0,0,0,0,0,0,0,0,0,0,0,0,0,0,0,0,0,0,0,0,0,0,0,0,0,0,0,0,0,0,0,0,0,0,0,0,0,0,0,0,0,0,0,0,0,0,0,0,0,0,0,0,0,0,0,0,0,0,{"$f":"BY20*BY17","v":0},0,0,0,0,0,0,0,0,0,0,0,0,0,0,0,0,0,0,0,0,0,0,0,0,0,0,0,0,0,0,0,0,0,0,0,0,0,0,0,0,0,0,0,0,0,0,0,0,0,0,0,0,0,0,0,0,0,0,0,0,0,0,0,{"$f":"EK20*EK17","v":0},0,0,0,0,0,0,0,0,0,0,0,0,0,0,0,0,0,0,0,0,0,0,0,0,0,0,0,0,0,0,0,0,0,0,0,0,0,0,0,0,0,0,0,0,0,0,0,0,0,0,0,0,0,0,0,0,0,0,0,0,0,0,0,{"$f":"GW20*GW17","v":0},0,0,0,0,0,0,0,0,0,0,0,0,0,0,0,0,0,0,0,0,0,0,0,0,0,0,0,0,0,0,0,0,0,0,0,0,0,0,0,0,0,0,0,0,0,0,0,0,0,0,0,0,0,0,0,0,0,0,0,0,0,0,0,{"$f":"JI20*JI17","v":0},0,0,0,0,0,0,0,0,0,0,0,0,0,0,0,0,0,0,0,0,0,0,0,0,0,0,0,0,0,0,0,0,0,0,0,0,0,0,0,0,0,0,0,0,0,0,0,0,0,0,0,0,0,0,0,0,0,0,0,0,0,0,0,{"$f":"LU20*LU17","v":0},0,0,0,0,0,0,0,0,0,0,0,0,0,0,0,0,0,0,0,0,0,0,0,0,0,0,0,0,0,0,0,0,0,0,0,0,0,0,0,0,0,0,0,0,0,0,0,0,0,0,0,0,0,0,0,0,0,0,0,0,0,0,0,{"$f":"OG20*OG17","v":0},0,0,0,0,0,0,0,0,0,0,0,0,0,0,0,0,0,0,0,0,0,0,0,0,0,0,0,0,0,0,0,0,0,0,0,0,0,0,0,0,0,0,0,0,0,0,0,0,0,0,0,0,0,0,0,0,0,0,0,0,0,0,0,{"$f":"QS20*QS17","v":0},0,0,0,0,0,0,0,0,0,0,0,0,0,0,0,0,0,0,0,0,0,0,0,0,0,0,0,0,0,0,0,0,0,0,0,0,0,0,0,0,0,0,0,0,0,0,0,0,0,0]
[]
[null,null,null,"Availability Factor",{"$f":"'InputC - Operations'!$E$24","v":0.99},null,"Pct",null,null,null,null,{"$f":"$E$23*L7","v":0},0,0,0,0,0,0,0,0,0,0,0,0,0,0,0,0,0,0,0,0,0,0,0,0,0,0,0,0,0,0,0,0,0,0,0,0,0,0,0,0,0,0,0,0,0,0,0,0,0,0,0,0,0,0,0,0,0,0,0,0,0,0,0,{"$f":"$E$23*BX7","v":0},0,0,0,0,0,0,0,0,0,0,0,0,0,0,0,0,0,0,0,0,0,0,0,0,0,0,0,0,0,0,0,0,0,0,0,0,0,0,0,0,0,0,0,0,0,0,0,0,0,0,0,0,0,0,0,0,0,0,0,0,0,0,0,{"$f":"$E$23*EJ7","v":0},0,0,0,0,0,0,0,0,0,0,0,0,0,0,0,0,0,0,0,0,0,0,0,0,0,0,0,0,0,0,0,0,0,0,0,0,0,0,0,0,0,0,0,0,0,0,0,0,0,0,0,0,0,0,0,0,0,0,0,0,0,0,0,{"$f":"$E$23*GV7","v":0},0,0,0,0,0,0,0,0,0,0,0,0,0,0,0,0,0,0,0,0,0,0,0,0,0,0,0,0,0,0,0,0,0,0,0,0,0,0,0,0,0,0,0,0,0,0,0,0,0,0,0,0,0,0,0,0,0,0,0,0,0,0,0,{"$f":"$E$23*JH7","v":0},0,0,0,0,0,0,0,0,0,0,0,0,0,0,0,0,0,0,0,0,0,0,0,0,0,0,0,0,0,0,0,0,0,0,0,0,0,0,0,0,0,0,0,0,0,0,0,0,0,0,0,0,0,0,0,0,0,0,0,0,0,0,0,{"$f":"$E$23*LT7","v":0},0,0,0,0,0,0,0,0,0,0,0,0,0,0,0,0,0,0,0,0,0,0,0,0,0,0,0,0,0,0,0,0,0,0,0,0,0,0,0,0,0,0,0,0,0,0,0,0,0,0,0,0,0,0,0,0,0,0,0,0,0,0,0,{"$f":"$E$23*OF7","v":0},0,0,0,0,0,0,0,0,0,0,0,0,0,0,0,0,0,0,0,0,0,0,0,0,0,0,0,0,0,0,0,0,0,0,0,0,0,0,0,0,0,0,0,0,0,0,0,0,0,0,0,0,0,0,0,0,0,0,0,0,0,0,0,{"$f":"$E$23*QR7","v":0},0,0,0,0,0,0,0,0,0,0,0,0,0,0,0,0,0,0,0,0,0,0,0,0,0,0,0,0,0,0,0,0,0,0,0,0,0,0,0,0,0,0,0,0,0,0,0,0,0,0,0]
[null,null,null,"Available Generation",null,null,"MWH",null,null,null,null,{"$f":"L23*L21","v":0},{"$f":"M23*M21","v":0},0,0,0,0,0,0,0,0,0,0,0,0,0,0,0,0,0,0,0,0,0,0,0,0,0,0,0,0,0,0,0,0,0,0,0,0,0,0,0,0,0,0,0,0,0,0,0,0,0,0,0,0,0,0,0,0,0,0,0,0,0,0,0,{"$f":"BY23*BY21","v":0},0,0,0,0,0,0,0,0,0,0,0,0,0,0,0,0,0,0,0,0,0,0,0,0,0,0,0,0,0,0,0,0,0,0,0,0,0,0,0,0,0,0,0,0,0,0,0,0,0,0,0,0,0,0,0,0,0,0,0,0,0,0,0,{"$f":"EK23*EK21","v":0},0,0,0,0,0,0,0,0,0,0,0,0,0,0,0,0,0,0,0,0,0,0,0,0,0,0,0,0,0,0,0,0,0,0,0,0,0,0,0,0,0,0,0,0,0,0,0,0,0,0,0,0,0,0,0,0,0,0,0,0,0,0,0,{"$f":"GW23*GW21","v":0},0,0,0,0,0,0,0,0,0,0,0,0,0,0,0,0,0,0,0,0,0,0,0,0,0,0,0,0,0,0,0,0,0,0,0,0,0,0,0,0,0,0,0,0,0,0,0,0,0,0,0,0,0,0,0,0,0,0,0,0,0,0,0,{"$f":"JI23*JI21","v":0},0,0,0,0,0,0,0,0,0,0,0,0,0,0,0,0,0,0,0,0,0,0,0,0,0,0,0,0,0,0,0,0,0,0,0,0,0,0,0,0,0,0,0,0,0,0,0,0,0,0,0,0,0,0,0,0,0,0,0,0,0,0,0,{"$f":"LU23*LU21","v":0},0,0,0,0,0,0,0,0,0,0,0,0,0,0,0,0,0,0,0,0,0,0,0,0,0,0,0,0,0,0,0,0,0,0,0,0,0,0,0,0,0,0,0,0,0,0,0,0,0,0,0,0,0,0,0,0,0,0,0,0,0,0,0,{"$f":"OG23*OG21","v":0},0,0,0,0,0,0,0,0,0,0,0,0,0,0,0,0,0,0,0,0,0,0,0,0,0,0,0,0,0,0,0,0,0,0,0,0,0,0,0,0,0,0,0,0,0,0,0,0,0,0,0,0,0,0,0,0,0,0,0,0,0,0,0,{"$f":"QS23*QS21","v":0},0,0,0,0,0,0,0,0,0,0,0,0,0,0,0,0,0,0,0,0,0,0,0,0,0,0,0,0,0,0,0,0,0,0,0,0,0,0,0,0,0,0,0,0,0,0,0,0,0,0]
[]
[null,null,null,"Age in Periods",null,null,"Months"]
[null,null,null,"Age in Years",null,null,"Years"]
[null,null,null,"Annual Degradation  ",{"$f":"InputS!D39","v":0},null,"% p.a."]
[null,null,null,"Monthly Degradation  ",null,null,"% p.p."]
[null,null,null,"Monthly Degradation Index",null,null,"Index",null,null,null,1]
[null,null,null,"Annual Generation after Degradation",null,null,"MWH",null,null,null,null,{"$f":"L30*L24","v":0},{"$f":"M30*M24","v":0},0,0,0,0,0,0,0,0,0,0,0,0,0,0,0,0,0,0,0,0,0,0,0,0,0,0,0,0,0,0,0,0,0,0,0,0,0,0,0,0,0,0,0,0,0,0,0,0,0,0,0,0,0,0,0,0,0,0,0,0,0,0,0,{"$f":"BY30*BY24","v":0},0,0,0,0,0,0,0,0,0,0,0,0,0,0,0,0,0,0,0,0,0,0,0,0,0,0,0,0,0,0,0,0,0,0,0,0,0,0,0,0,0,0,0,0,0,0,0,0,0,0,0,0,0,0,0,0,0,0,0,0,0,0,0,{"$f":"EK30*EK24","v":0},0,0,0,0,0,0,0,0,0,0,0,0,0,0,0,0,0,0,0,0,0,0,0,0,0,0,0,0,0,0,0,0,0,0,0,0,0,0,0,0,0,0,0,0,0,0,0,0,0,0,0,0,0,0,0,0,0,0,0,0,0,0,0,{"$f":"GW30*GW24","v":0},0,0,0,0,0,0,0,0,0,0,0,0,0,0,0,0,0,0,0,0,0,0,0,0,0,0,0,0,0,0,0,0,0,0,0,0,0,0,0,0,0,0,0,0,0,0,0,0,0,0,0,0,0,0,0,0,0,0,0,0,0,0,0,{"$f":"JI30*JI24","v":0},0,0,0,0,0,0,0,0,0,0,0,0,0,0,0,0,0,0,0,0,0,0,0,0,0,0,0,0,0,0,0,0,0,0,0,0,0,0,0,0,0,0,0,0,0,0,0,0,0,0,0,0,0,0,0,0,0,0,0,0,0,0,0,{"$f":"LU30*LU24","v":0},0,0,0,0,0,0,0,0,0,0,0,0,0,0,0,0,0,0,0,0,0,0,0,0,0,0,0,0,0,0,0,0,0,0,0,0,0,0,0,0,0,0,0,0,0,0,0,0,0,0,0,0,0,0,0,0,0,0,0,0,0,0,0,{"$f":"OG30*OG24","v":0},0,0,0,0,0,0,0,0,0,0,0,0,0,0,0,0,0,0,0,0,0,0,0,0,0,0,0,0,0,0,0,0,0,0,0,0,0,0,0,0,0,0,0,0,0,0,0,0,0,0,0,0,0,0,0,0,0,0,0,0,0,0,0,{"$f":"QS30*QS24","v":0},0,0,0,0,0,0,0,0,0,0,0,0,0,0,0,0,0,0,0,0,0,0,0,0,0,0,0,0,0,0,0,0,0,0,0,0,0,0,0,0,0,0,0,0,0,0,0,0,0,0]
[]
[null,null,null,"Month Number",null,null,"Month",null,null,null,null,{"$f":"MONTH(L4)","v":1},{"$f":"MONTH(M4)","v":1},1,1,1,1,1,1,1,1,1,1,1,1,1,1,1,1,1,1,1,1,1,1,1,1,1,1,1,1,1,1,1,1,1,1,1,1,1,1,1,1,1,1,1,1,1,1,1,1,1,1,1,1,1,1,1,1,1,1,1,1,1,1,1,{"$f":"MONTH(BY4)","v":1},1,1,1,1,1,1,1,1,1,1,1,1,1,1,1,1,1,1,1,1,1,1,1,1,1,1,1,1,1,1,1,1,1,1,1,1,1,1,1,1,1,1,1,1,1,1,1,1,1,1,1,1,1,1,1,1,1,1,1,1,1,1,1,{"$f":"MONTH(EK4)","v":1},1,1,1,1,1,1,1,1,1,1,1,1,1,1,1,1,1,1,1,1,1,1,1,1,1,1,1,1,1,1,1,1,1,1,1,1,1,1,1,1,1,1,1,1,1,1,1,1,1,1,1,1,1,1,1,1,1,1,1,1,1,1,1,{"$f":"MONTH(GW4)","v":1},1,1,1,1,1,1,1,1,1,1,1,1,1,1,1,1,1,1,1,1,1,1,1,1,1,1,1,1,1,1,1,1,1,1,1,1,1,1,1,1,1,1,1,1,1,1,1,1,1,1,1,1,1,1,1,1,1,1,1,1,1,1,1,{"$f":"MONTH(JI4)","v":1},1,1,1,1,1,1,1,1,1,1,1,1,1,1,1,1,1,1,1,1,1,1,1,1,1,1,1,1,1,1,1,1,1,1,1,1,1,1,1,1,1,1,1,1,1,1,1,1,1,1,1,1,1,1,1,1,1,1,1,1,1,1,1,{"$f":"MONTH(LU4)","v":1},1,1,1,1,1,1,1,1,1,1,1,1,1,1,1,1,1,1,1,1,1,1,1,1,1,1,1,1,1,1,1,1,1,1,1,1,1,1,1,1,1,1,1,1,1,1,1,1,1,1,1,1,1,1,1,1,1,1,1,1,1,1,1,{"$f":"MONTH(OG4)","v":1},1,1,1,1,1,1,1,1,1,1,1,1,1,1,1,1,1,1,1,1,1,1,1,1,1,1,1,1,1,1,1,1,1,1,1,1,1,1,1,1,1,1,1,1,1,1,1,1,1,1,1,1,1,1,1,1,1,1,1,1,1,1,1,{"$f":"MONTH(QS4)","v":1},1,1,1,1,1,1,1,1,1,1,1,1,1,1,1,1,1,1,1,1,1,1,1,1,1,1,1,1,1,1,1,1,1,1,1,1,1,1,1,1,1,1,1,1,1,1,1,1,1,1]
[null,null,null,"Seasonality",null,null,"%",null,null,null,null,{"$f":"LOOKUP(L33,InputS!19:19,InputS!20:20)","v":6.6666666666666666E-2},{"$f":"LOOKUP(M33,InputS!19:19,InputS!20:20)","v":6.6666666666666666E-2},{"$f":"LOOKUP(N33,InputS!19:19,InputS!20:20)","v":6.6666666666666666E-2},{"$f":"LOOKUP(O33,InputS!19:19,InputS!20:20)","v":6.6666666666666666E-2},{"$f":"LOOKUP(P33,InputS!19:19,InputS!20:20)","v":6.6666666666666666E-2},{"$f":"LOOKUP(Q33,InputS!19:19,InputS!20:20)","v":6.6666666666666666E-2},{"$f":"LOOKUP(R33,InputS!19:19,InputS!20:20)","v":6.6666666666666666E-2},{"$f":"LOOKUP(S33,InputS!19:19,InputS!20:20)","v":6.6666666666666666E-2},{"$f":"LOOKUP(T33,InputS!19:19,InputS!20:20)","v":6.6666666666666666E-2},{"$f":"LOOKUP(U33,InputS!19:19,InputS!20:20)","v":6.6666666666666666E-2},{"$f":"LOOKUP(V33,InputS!19:19,InputS!20:20)","v":6.6666666666666666E-2},{"$f":"LOOKUP(W33,InputS!19:19,InputS!20:20)","v":6.6666666666666666E-2},{"$f":"LOOKUP(X33,InputS!19:19,InputS!20:20)","v":6.6666666666666666E-2},{"$f":"LOOKUP(Y33,InputS!19:19,InputS!20:20)","v":6.6666666666666666E-2},{"$f":"LOOKUP(Z33,InputS!19:19,InputS!20:20)","v":6.6666666666666666E-2},{"$f":"LOOKUP(AA33,InputS!19:19,InputS!20:20)","v":6.6666666666666666E-2},{"$f":"LOOKUP(AB33,InputS!19:19,InputS!20:20)","v":6.6666666666666666E-2},{"$f":"LOOKUP(AC33,InputS!19:19,InputS!20:20)","v":6.6666666666666666E-2},{"$f":"LOOKUP(AD33,InputS!19:19,InputS!20:20)","v":6.6666666666666666E-2},{"$f":"LOOKUP(AE33,InputS!19:19,InputS!20:20)","v":6.6666666666666666E-2},{"$f":"LOOKUP(AF33,InputS!19:19,InputS!20:20)","v":6.6666666666666666E-2},{"$f":"LOOKUP(AG33,InputS!19:19,InputS!20:20)","v":6.6666666666666666E-2},{"$f":"LOOKUP(AH33,InputS!19:19,InputS!20:20)","v":6.6666666666666666E-2},{"$f":"LOOKUP(AI33,InputS!19:19,InputS!20:20)","v":6.6666666666666666E-2},{"$f":"LOOKUP(AJ33,InputS!19:19,InputS!20:20)","v":6.6666666666666666E-2},{"$f":"LOOKUP(AK33,InputS!19:19,InputS!20:20)","v":6.6666666666666666E-2},{"$f":"LOOKUP(AL33,InputS!19:19,InputS!20:20)","v":6.6666666666666666E-2},{"$f":"LOOKUP(AM33,InputS!19:19,InputS!20:20)","v":6.6666666666666666E-2},{"$f":"LOOKUP(AN33,InputS!19:19,InputS!20:20)","v":6.6666666666666666E-2},{"$f":"LOOKUP(AO33,InputS!19:19,InputS!20:20)","v":6.6666666666666666E-2},{"$f":"LOOKUP(AP33,InputS!19:19,InputS!20:20)","v":6.6666666666666666E-2},{"$f":"LOOKUP(AQ33,InputS!19:19,InputS!20:20)","v":6.6666666666666666E-2},{"$f":"LOOKUP(AR33,InputS!19:19,InputS!20:20)","v":6.6666666666666666E-2},{"$f":"LOOKUP(AS33,InputS!19:19,InputS!20:20)","v":6.6666666666666666E-2},{"$f":"LOOKUP(AT33,InputS!19:19,InputS!20:20)","v":6.6666666666666666E-2},{"$f":"LOOKUP(AU33,InputS!19:19,InputS!20:20)","v":6.6666666666666666E-2},{"$f":"LOOKUP(AV33,InputS!19:19,InputS!20:20)","v":6.6666666666666666E-2},{"$f":"LOOKUP(AW33,InputS!19:19,InputS!20:20)","v":6.6666666666666666E-2},{"$f":"LOOKUP(AX33,InputS!19:19,InputS!20:20)","v":6.6666666666666666E-2},{"$f":"LOOKUP(AY33,InputS!19:19,InputS!20:20)","v":6.6666666666666666E-2},{"$f":"LOOKUP(AZ33,InputS!19:19,InputS!20:20)","v":6.6666666666666666E-2},{"$f":"LOOKUP(BA33,InputS!19:19,InputS!20:20)","v":6.6666666666666666E-2},{"$f":"LOOKUP(BB33,InputS!19:19,InputS!20:20)","v":6.6666666666666666E-2},{"$f":"LOOKUP(BC33,InputS!19:19,InputS!20:20)","v":6.6666666666666666E-2},{"$f":"LOOKUP(BD33,InputS!19:19,InputS!20:20)","v":6.6666666666666666E-2},{"$f":"LOOKUP(BE33,InputS!19:19,InputS!20:20)","v":6.6666666666666666E-2},{"$f":"LOOKUP(BF33,InputS!19:19,InputS!20:20)","v":6.6666666666666666E-2},{"$f":"LOOKUP(BG33,InputS!19:19,InputS!20:20)","v":6.6666666666666666E-2},{"$f":"LOOKUP(BH33,InputS!19:19,InputS!20:20)","v":6.6666666666666666E-2},{"$f":"LOOKUP(BI33,InputS!19:19,InputS!20:20)","v":6.6666666666666666E-2},{"$f":"LOOKUP(BJ33,InputS!19:19,InputS!20:20)","v":6.6666666666666666E-2},{"$f":"LOOKUP(BK33,InputS!19:19,InputS!20:20)","v":6.6666666666666666E-2},{"$f":"LOOKUP(BL33,InputS!19:19,InputS!20:20)","v":6.6666666666666666E-2},{"$f":"LOOKUP(BM33,InputS!19:19,InputS!20:20)","v":6.6666666666666666E-2},{"$f":"LOOKUP(BN33,InputS!19:19,InputS!20:20)","v":6.6666666666666666E-2},{"$f":"LOOKUP(BO33,InputS!19:19,InputS!20:20)","v":6.6666666666666666E-2},{"$f":"LOOKUP(BP33,InputS!19:19,InputS!20:20)","v":6.6666666666666666E-2},{"$f":"LOOKUP(BQ33,InputS!19:19,InputS!20:20)","v":6.6666666666666666E-2},{"$f":"LOOKUP(BR33,InputS!19:19,InputS!20:20)","v":6.6666666666666666E-2},{"$f":"LOOKUP(BS33,InputS!19:19,InputS!20:20)","v":6.6666666666666666E-2},{"$f":"LOOKUP(BT33,InputS!19:19,InputS!20:20)","v":6.6666666666666666E-2},{"$f":"LOOKUP(BU33,InputS!19:19,InputS!20:20)","v":6.6666666666666666E-2},{"$f":"LOOKUP(BV33,InputS!19:19,InputS!20:20)","v":6.6666666666666666E-2},{"$f":"LOOKUP(BW33,InputS!19:19,InputS!20:20)","v":6.6666666666666666E-2},{"$f":"LOOKUP(BX33,InputS!19:19,InputS!20:20)","v":6.6666666666666666E-2},{"$f":"LOOKUP(BY33,InputS!19:19,InputS!20:20)","v":6.6666666666666666E-2},{"$f":"LOOKUP(BZ33,InputS!19:19,InputS!20:20)","v":6.6666666666666666E-2},{"$f":"LOOKUP(CA33,InputS!19:19,InputS!20:20)","v":6.6666666666666666E-2},{"$f":"LOOKUP(CB33,InputS!19:19,InputS!20:20)","v":6.6666666666666666E-2},{"$f":"LOOKUP(CC33,InputS!19:19,InputS!20:20)","v":6.6666666666666666E-2},{"$f":"LOOKUP(CD33,InputS!19:19,InputS!20:20)","v":6.6666666666666666E-2},{"$f":"LOOKUP(CE33,InputS!19:19,InputS!20:20)","v":6.6666666666666666E-2},{"$f":"LOOKUP(CF33,InputS!19:19,InputS!20:20)","v":6.6666666666666666E-2},{"$f":"LOOKUP(CG33,InputS!19:19,InputS!20:20)","v":6.6666666666666666E-2},{"$f":"LOOKUP(CH33,InputS!19:19,InputS!20:20)","v":6.6666666666666666E-2},{"$f":"LOOKUP(CI33,InputS!19:19,InputS!20:20)","v":6.6666666666666666E-2},{"$f":"LOOKUP(CJ33,InputS!19:19,InputS!20:20)","v":6.6666666666666666E-2},{"$f":"LOOKUP(CK33,InputS!19:19,InputS!20:20)","v":6.6666666666666666E-2},{"$f":"LOOKUP(CL33,InputS!19:19,InputS!20:20)","v":6.6666666666666666E-2},{"$f":"LOOKUP(CM33,InputS!19:19,InputS!20:20)","v":6.6666666666666666E-2},{"$f":"LOOKUP(CN33,InputS!19:19,InputS!20:20)","v":6.6666666666666666E-2},{"$f":"LOOKUP(CO33,InputS!19:19,InputS!20:20)","v":6.6666666666666666E-2},{"$f":"LOOKUP(CP33,InputS!19:19,InputS!20:20)","v":6.6666666666666666E-2},{"$f":"LOOKUP(CQ33,InputS!19:19,InputS!20:20)","v":6.6666666666666666E-2},{"$f":"LOOKUP(CR33,InputS!19:19,InputS!20:20)","v":6.6666666666666666E-2},{"$f":"LOOKUP(CS33,InputS!19:19,InputS!20:20)","v":6.6666666666666666E-2},{"$f":"LOOKUP(CT33,InputS!19:19,InputS!20:20)","v":6.6666666666666666E-2},{"$f":"LOOKUP(CU33,InputS!19:19,InputS!20:20)","v":6.6666666666666666E-2},{"$f":"LOOKUP(CV33,InputS!19:19,InputS!20:20)","v":6.6666666666666666E-2},{"$f":"LOOKUP(CW33,InputS!19:19,InputS!20:20)","v":6.6666666666666666E-2},{"$f":"LOOKUP(CX33,InputS!19:19,InputS!20:20)","v":6.6666666666666666E-2},{"$f":"LOOKUP(CY33,InputS!19:19,InputS!20:20)","v":6.6666666666666666E-2},{"$f":"LOOKUP(CZ33,InputS!19:19,InputS!20:20)","v":6.6666666666666666E-2},{"$f":"LOOKUP(DA33,InputS!19:19,InputS!20:20)","v":6.6666666666666666E-2},{"$f":"LOOKUP(DB33,InputS!19:19,InputS!20:20)","v":6.6666666666666666E-2},{"$f":"LOOKUP(DC33,InputS!19:19,InputS!20:20)","v":6.6666666666666666E-2},{"$f":"LOOKUP(DD33,InputS!19:19,InputS!20:20)","v":6.6666666666666666E-2},{"$f":"LOOKUP(DE33,InputS!19:19,InputS!20:20)","v":6.6666666666666666E-2},{"$f":"LOOKUP(DF33,InputS!19:19,InputS!20:20)","v":6.6666666666666666E-2},{"$f":"LOOKUP(DG33,InputS!19:19,InputS!20:20)","v":6.6666666666666666E-2},{"$f":"LOOKUP(DH33,InputS!19:19,InputS!20:20)","v":6.6666666666666666E-2},{"$f":"LOOKUP(DI33,InputS!19:19,InputS!20:20)","v":6.6666666666666666E-2},{"$f":"LOOKUP(DJ33,InputS!19:19,InputS!20:20)","v":6.6666666666666666E-2},{"$f":"LOOKUP(DK33,InputS!19:19,InputS!20:20)","v":6.6666666666666666E-2},{"$f":"LOOKUP(DL33,InputS!19:19,InputS!20:20)","v":6.6666666666666666E-2},{"$f":"LOOKUP(DM33,InputS!19:19,InputS!20:20)","v":6.6666666666666666E-2},{"$f":"LOOKUP(DN33,InputS!19:19,InputS!20:20)","v":6.6666666666666666E-2},{"$f":"LOOKUP(DO33,InputS!19:19,InputS!20:20)","v":6.6666666666666666E-2},{"$f":"LOOKUP(DP33,InputS!19:19,InputS!20:20)","v":6.6666666666666666E-2},{"$f":"LOOKUP(DQ33,InputS!19:19,InputS!20:20)","v":6.6666666666666666E-2},{"$f":"LOOKUP(DR33,InputS!19:19,InputS!20:20)","v":6.6666666666666666E-2},{"$f":"LOOKUP(DS33,InputS!19:19,InputS!20:20)","v":6.6666666666666666E-2},{"$f":"LOOKUP(DT33,InputS!19:19,InputS!20:20)","v":6.6666666666666666E-2},{"$f":"LOOKUP(DU33,InputS!19:19,InputS!20:20)","v":6.6666666666666666E-2},{"$f":"LOOKUP(DV33,InputS!19:19,InputS!20:20)","v":6.6666666666666666E-2},{"$f":"LOOKUP(DW33,InputS!19:19,InputS!20:20)","v":6.6666666666666666E-2},{"$f":"LOOKUP(DX33,InputS!19:19,InputS!20:20)","v":6.6666666666666666E-2},{"$f":"LOOKUP(DY33,InputS!19:19,InputS!20:20)","v":6.6666666666666666E-2},{"$f":"LOOKUP(DZ33,InputS!19:19,InputS!20:20)","v":6.6666666666666666E-2},{"$f":"LOOKUP(EA33,InputS!19:19,InputS!20:20)","v":6.6666666666666666E-2},{"$f":"LOOKUP(EB33,InputS!19:19,InputS!20:20)","v":6.6666666666666666E-2},{"$f":"LOOKUP(EC33,InputS!19:19,InputS!20:20)","v":6.6666666666666666E-2},{"$f":"LOOKUP(ED33,InputS!19:19,InputS!20:20)","v":6.6666666666666666E-2},{"$f":"LOOKUP(EE33,InputS!19:19,InputS!20:20)","v":6.6666666666666666E-2},{"$f":"LOOKUP(EF33,InputS!19:19,InputS!20:20)","v":6.6666666666666666E-2},{"$f":"LOOKUP(EG33,InputS!19:19,InputS!20:20)","v":6.6666666666666666E-2},{"$f":"LOOKUP(EH33,InputS!19:19,InputS!20:20)","v":6.6666666666666666E-2},{"$f":"LOOKUP(EI33,InputS!19:19,InputS!20:20)","v":6.6666666666666666E-2},{"$f":"LOOKUP(EJ33,InputS!19:19,InputS!20:20)","v":6.6666666666666666E-2},{"$f":"LOOKUP(EK33,InputS!19:19,InputS!20:20)","v":6.6666666666666666E-2},{"$f":"LOOKUP(EL33,InputS!19:19,InputS!20:20)","v":6.6666666666666666E-2},{"$f":"LOOKUP(EM33,InputS!19:19,InputS!20:20)","v":6.6666666666666666E-2},{"$f":"LOOKUP(EN33,InputS!19:19,InputS!20:20)","v":6.6666666666666666E-2},{"$f":"LOOKUP(EO33,InputS!19:19,InputS!20:20)","v":6.6666666666666666E-2},{"$f":"LOOKUP(EP33,InputS!19:19,InputS!20:20)","v":6.6666666666666666E-2},{"$f":"LOOKUP(EQ33,InputS!19:19,InputS!20:20)","v":6.6666666666666666E-2},{"$f":"LOOKUP(ER33,InputS!19:19,InputS!20:20)","v":6.6666666666666666E-2},{"$f":"LOOKUP(ES33,InputS!19:19,InputS!20:20)","v":6.6666666666666666E-2},{"$f":"LOOKUP(ET33,InputS!19:19,InputS!20:20)","v":6.6666666666666666E-2},{"$f":"LOOKUP(EU33,InputS!19:19,InputS!20:20)","v":6.6666666666666666E-2},{"$f":"LOOKUP(EV33,InputS!19:19,InputS!20:20)","v":6.6666666666666666E-2},{"$f":"LOOKUP(EW33,InputS!19:19,InputS!20:20)","v":6.6666666666666666E-2},{"$f":"LOOKUP(EX33,InputS!19:19,InputS!20:20)","v":6.6666666666666666E-2},{"$f":"LOOKUP(EY33,InputS!19:19,InputS!20:20)","v":6.6666666666666666E-2},{"$f":"LOOKUP(EZ33,InputS!19:19,InputS!20:20)","v":6.6666666666666666E-2},{"$f":"LOOKUP(FA33,InputS!19:19,InputS!20:20)","v":6.6666666666666666E-2},{"$f":"LOOKUP(FB33,InputS!19:19,InputS!20:20)","v":6.6666666666666666E-2},{"$f":"LOOKUP(FC33,InputS!19:19,InputS!20:20)","v":6.6666666666666666E-2},{"$f":"LOOKUP(FD33,InputS!19:19,InputS!20:20)","v":6.6666666666666666E-2},{"$f":"LOOKUP(FE33,InputS!19:19,InputS!20:20)","v":6.6666666666666666E-2},{"$f":"LOOKUP(FF33,InputS!19:19,InputS!20:20)","v":6.6666666666666666E-2},{"$f":"LOOKUP(FG33,InputS!19:19,InputS!20:20)","v":6.6666666666666666E-2},{"$f":"LOOKUP(FH33,InputS!19:19,InputS!20:20)","v":6.6666666666666666E-2},{"$f":"LOOKUP(FI33,InputS!19:19,InputS!20:20)","v":6.6666666666666666E-2},{"$f":"LOOKUP(FJ33,InputS!19:19,InputS!20:20)","v":6.6666666666666666E-2},{"$f":"LOOKUP(FK33,InputS!19:19,InputS!20:20)","v":6.6666666666666666E-2},{"$f":"LOOKUP(FL33,InputS!19:19,InputS!20:20)","v":6.6666666666666666E-2},{"$f":"LOOKUP(FM33,InputS!19:19,InputS!20:20)","v":6.6666666666666666E-2},{"$f":"LOOKUP(FN33,InputS!19:19,InputS!20:20)","v":6.6666666666666666E-2},{"$f":"LOOKUP(FO33,InputS!19:19,InputS!20:20)","v":6.6666666666666666E-2},{"$f":"LOOKUP(FP33,InputS!19:19,InputS!20:20)","v":6.6666666666666666E-2},{"$f":"LOOKUP(FQ33,InputS!19:19,InputS!20:20)","v":6.6666666666666666E-2},{"$f":"LOOKUP(FR33,InputS!19:19,InputS!20:20)","v":6.6666666666666666E-2},{"$f":"LOOKUP(FS33,InputS!19:19,InputS!20:20)","v":6.6666666666666666E-2},{"$f":"LOOKUP(FT33,InputS!19:19,InputS!20:20)","v":6.6666666666666666E-2},{"$f":"LOOKUP(FU33,InputS!19:19,InputS!20:20)","v":6.6666666666666666E-2},{"$f":"LOOKUP(FV33,InputS!19:19,InputS!20:20)","v":6.6666666666666666E-2},{"$f":"LOOKUP(FW33,InputS!19:19,InputS!20:20)","v":6.6666666666666666E-2},{"$f":"LOOKUP(FX33,InputS!19:19,InputS!20:20)","v":6.6666666666666666E-2},{"$f":"LOOKUP(FY33,InputS!19:19,InputS!20:20)","v":6.6666666666666666E-2},{"$f":"LOOKUP(FZ33,InputS!19:19,InputS!20:20)","v":6.6666666666666666E-2},{"$f":"LOOKUP(GA33,InputS!19:19,InputS!20:20)","v":6.6666666666666666E-2},{"$f":"LOOKUP(GB33,InputS!19:19,InputS!20:20)","v":6.6666666666666666E-2},{"$f":"LOOKUP(GC33,InputS!19:19,InputS!20:20)","v":6.6666666666666666E-2},{"$f":"LOOKUP(GD33,InputS!19:19,InputS!20:20)","v":6.6666666666666666E-2},{"$f":"LOOKUP(GE33,InputS!19:19,InputS!20:20)","v":6.6666666666666666E-2},{"$f":"LOOKUP(GF33,InputS!19:19,InputS!20:20)","v":6.6666666666666666E-2},{"$f":"LOOKUP(GG33,InputS!19:19,InputS!20:20)","v":6.6666666666666666E-2},{"$f":"LOOKUP(GH33,InputS!19:19,InputS!20:20)","v":6.6666666666666666E-2},{"$f":"LOOKUP(GI33,InputS!19:19,InputS!20:20)","v":6.6666666666666666E-2},{"$f":"LOOKUP(GJ33,InputS!19:19,InputS!20:20)","v":6.6666666666666666E-2},{"$f":"LOOKUP(GK33,InputS!19:19,InputS!20:20)","v":6.6666666666666666E-2},{"$f":"LOOKUP(GL33,InputS!19:19,InputS!20:20)","v":6.6666666666666666E-2},{"$f":"LOOKUP(GM33,InputS!19:19,InputS!20:20)","v":6.6666666666666666E-2},{"$f":"LOOKUP(GN33,InputS!19:19,InputS!20:20)","v":6.6666666666666666E-2},{"$f":"LOOKUP(GO33,InputS!19:19,InputS!20:20)","v":6.6666666666666666E-2},{"$f":"LOOKUP(GP33,InputS!19:19,InputS!20:20)","v":6.6666666666666666E-2},{"$f":"LOOKUP(GQ33,InputS!19:19,InputS!20:20)","v":6.6666666666666666E-2},{"$f":"LOOKUP(GR33,InputS!19:19,InputS!20:20)","v":6.6666666666666666E-2},{"$f":"LOOKUP(GS33,InputS!19:19,InputS!20:20)","v":6.6666666666666666E-2},{"$f":"LOOKUP(GT33,InputS!19:19,InputS!20:20)","v":6.6666666666666666E-2},{"$f":"LOOKUP(GU33,InputS!19:19,InputS!20:20)","v":6.6666666666666666E-2},{"$f":"LOOKUP(GV33,InputS!19:19,InputS!20:20)","v":6.6666666666666666E-2},{"$f":"LOOKUP(GW33,InputS!19:19,InputS!20:20)","v":6.6666666666666666E-2},{"$f":"LOOKUP(GX33,InputS!19:19,InputS!20:20)","v":6.6666666666666666E-2},{"$f":"LOOKUP(GY33,InputS!19:19,InputS!20:20)","v":6.6666666666666666E-2},{"$f":"LOOKUP(GZ33,InputS!19:19,InputS!20:20)","v":6.6666666666666666E-2},{"$f":"LOOKUP(HA33,InputS!19:19,InputS!20:20)","v":6.6666666666666666E-2},{"$f":"LOOKUP(HB33,InputS!19:19,InputS!20:20)","v":6.6666666666666666E-2},{"$f":"LOOKUP(HC33,InputS!19:19,InputS!20:20)","v":6.6666666666666666E-2},{"$f":"LOOKUP(HD33,InputS!19:19,InputS!20:20)","v":6.6666666666666666E-2},{"$f":"LOOKUP(HE33,InputS!19:19,InputS!20:20)","v":6.6666666666666666E-2},{"$f":"LOOKUP(HF33,InputS!19:19,InputS!20:20)","v":6.6666666666666666E-2},{"$f":"LOOKUP(HG33,InputS!19:19,InputS!20:20)","v":6.6666666666666666E-2},{"$f":"LOOKUP(HH33,InputS!19:19,InputS!20:20)","v":6.6666666666666666E-2},{"$f":"LOOKUP(HI33,InputS!19:19,InputS!20:20)","v":6.6666666666666666E-2},{"$f":"LOOKUP(HJ33,InputS!19:19,InputS!20:20)","v":6.6666666666666666E-2},{"$f":"LOOKUP(HK33,InputS!19:19,InputS!20:20)","v":6.6666666666666666E-2},{"$f":"LOOKUP(HL33,InputS!19:19,InputS!20:20)","v":6.6666666666666666E-2},{"$f":"LOOKUP(HM33,InputS!19:19,InputS!20:20)","v":6.6666666666666666E-2},{"$f":"LOOKUP(HN33,InputS!19:19,InputS!20:20)","v":6.6666666666666666E-2},{"$f":"LOOKUP(HO33,InputS!19:19,InputS!20:20)","v":6.6666666666666666E-2},{"$f":"LOOKUP(HP33,InputS!19:19,InputS!20:20)","v":6.6666666666666666E-2},{"$f":"LOOKUP(HQ33,InputS!19:19,InputS!20:20)","v":6.6666666666666666E-2},{"$f":"LOOKUP(HR33,InputS!19:19,InputS!20:20)","v":6.6666666666666666E-2},{"$f":"LOOKUP(HS33,InputS!19:19,InputS!20:20)","v":6.6666666666666666E-2},{"$f":"LOOKUP(HT33,InputS!19:19,InputS!20:20)","v":6.6666666666666666E-2},{"$f":"LOOKUP(HU33,InputS!19:19,InputS!20:20)","v":6.6666666666666666E-2},{"$f":"LOOKUP(HV33,InputS!19:19,InputS!20:20)","v":6.6666666666666666E-2},{"$f":"LOOKUP(HW33,InputS!19:19,InputS!20:20)","v":6.6666666666666666E-2},{"$f":"LOOKUP(HX33,InputS!19:19,InputS!20:20)","v":6.6666666666666666E-2},{"$f":"LOOKUP(HY33,InputS!19:19,InputS!20:20)","v":6.6666666666666666E-2},{"$f":"LOOKUP(HZ33,InputS!19:19,InputS!20:20)","v":6.6666666666666666E-2},{"$f":"LOOKUP(IA33,InputS!19:19,InputS!20:20)","v":6.6666666666666666E-2},{"$f":"LOOKUP(IB33,InputS!19:19,InputS!20:20)","v":6.6666666666666666E-2},{"$f":"LOOKUP(IC33,InputS!19:19,InputS!20:20)","v":6.6666666666666666E-2},{"$f":"LOOKUP(ID33,InputS!19:19,InputS!20:20)","v":6.6666666666666666E-2},{"$f":"LOOKUP(IE33,InputS!19:19,InputS!20:20)","v":6.6666666666666666E-2},{"$f":"LOOKUP(IF33,InputS!19:19,InputS!20:20)","v":6.6666666666666666E-2},{"$f":"LOOKUP(IG33,InputS!19:19,InputS!20:20)","v":6.6666666666666666E-2},{"$f":"LOOKUP(IH33,InputS!19:19,InputS!20:20)","v":6.6666666666666666E-2},{"$f":"LOOKUP(II33,InputS!19:19,InputS!20:20)","v":6.6666666666666666E-2},{"$f":"LOOKUP(IJ33,InputS!19:19,InputS!20:20)","v":6.6666666666666666E-2},{"$f":"LOOKUP(IK33,InputS!19:19,InputS!20:20)","v":6.6666666666666666E-2},{"$f":"LOOKUP(IL33,InputS!19:19,InputS!20:20)","v":6.6666666666666666E-2},{"$f":"LOOKUP(IM33,InputS!19:19,InputS!20:20)","v":6.6666666666666666E-2},{"$f":"LOOKUP(IN33,InputS!19:19,InputS!20:20)","v":6.6666666666666666E-2},{"$f":"LOOKUP(IO33,InputS!19:19,InputS!20:20)","v":6.6666666666666666E-2},{"$f":"LOOKUP(IP33,InputS!19:19,InputS!20:20)","v":6.6666666666666666E-2},{"$f":"LOOKUP(IQ33,InputS!19:19,InputS!20:20)","v":6.6666666666666666E-2},{"$f":"LOOKUP(IR33,InputS!19:19,InputS!20:20)","v":6.6666666666666666E-2},{"$f":"LOOKUP(IS33,InputS!19:19,InputS!20:20)","v":6.6666666666666666E-2},{"$f":"LOOKUP(IT33,InputS!19:19,InputS!20:20)","v":6.6666666666666666E-2},{"$f":"LOOKUP(IU33,InputS!19:19,InputS!20:20)","v":6.6666666666666666E-2},{"$f":"LOOKUP(IV33,InputS!19:19,InputS!20:20)","v":6.6666666666666666E-2},{"$f":"LOOKUP(IW33,InputS!19:19,InputS!20:20)","v":6.6666666666666666E-2},{"$f":"LOOKUP(IX33,InputS!19:19,InputS!20:20)","v":6.6666666666666666E-2},{"$f":"LOOKUP(IY33,InputS!19:19,InputS!20:20)","v":6.6666666666666666E-2},{"$f":"LOOKUP(IZ33,InputS!19:19,InputS!20:20)","v":6.6666666666666666E-2},{"$f":"LOOKUP(JA33,InputS!19:19,InputS!20:20)","v":6.6666666666666666E-2},{"$f":"LOOKUP(JB33,InputS!19:19,InputS!20:20)","v":6.6666666666666666E-2},{"$f":"LOOKUP(JC33,InputS!19:19,InputS!20:20)","v":6.6666666666666666E-2},{"$f":"LOOKUP(JD33,InputS!19:19,InputS!20:20)","v":6.6666666666666666E-2},{"$f":"LOOKUP(JE33,InputS!19:19,InputS!20:20)","v":6.6666666666666666E-2},{"$f":"LOOKUP(JF33,InputS!19:19,InputS!20:20)","v":6.6666666666666666E-2},{"$f":"LOOKUP(JG33,InputS!19:19,InputS!20:20)","v":6.6666666666666666E-2},{"$f":"LOOKUP(JH33,InputS!19:19,InputS!20:20)","v":6.6666666666666666E-2},{"$f":"LOOKUP(JI33,InputS!19:19,InputS!20:20)","v":6.6666666666666666E-2},{"$f":"LOOKUP(JJ33,InputS!19:19,InputS!20:20)","v":6.6666666666666666E-2},{"$f":"LOOKUP(JK33,InputS!19:19,InputS!20:20)","v":6.6666666666666666E-2},{"$f":"LOOKUP(JL33,InputS!19:19,InputS!20:20)","v":6.6666666666666666E-2},{"$f":"LOOKUP(JM33,InputS!19:19,InputS!20:20)","v":6.6666666666666666E-2},{"$f":"LOOKUP(JN33,InputS!19:19,InputS!20:20)","v":6.6666666666666666E-2},{"$f":"LOOKUP(JO33,InputS!19:19,InputS!20:20)","v":6.6666666666666666E-2},{"$f":"LOOKUP(JP33,InputS!19:19,InputS!20:20)","v":6.6666666666666666E-2},{"$f":"LOOKUP(JQ33,InputS!19:19,InputS!20:20)","v":6.6666666666666666E-2},{"$f":"LOOKUP(JR33,InputS!19:19,InputS!20:20)","v":6.6666666666666666E-2},{"$f":"LOOKUP(JS33,InputS!19:19,InputS!20:20)","v":6.6666666666666666E-2},{"$f":"LOOKUP(JT33,InputS!19:19,InputS!20:20)","v":6.6666666666666666E-2},{"$f":"LOOKUP(JU33,InputS!19:19,InputS!20:20)","v":6.6666666666666666E-2},{"$f":"LOOKUP(JV33,InputS!19:19,InputS!20:20)","v":6.6666666666666666E-2},{"$f":"LOOKUP(JW33,InputS!19:19,InputS!20:20)","v":6.6666666666666666E-2},{"$f":"LOOKUP(JX33,InputS!19:19,InputS!20:20)","v":6.6666666666666666E-2},{"$f":"LOOKUP(JY33,InputS!19:19,InputS!20:20)","v":6.6666666666666666E-2},{"$f":"LOOKUP(JZ33,InputS!19:19,InputS!20:20)","v":6.6666666666666666E-2},{"$f":"LOOKUP(KA33,InputS!19:19,InputS!20:20)","v":6.6666666666666666E-2},{"$f":"LOOKUP(KB33,InputS!19:19,InputS!20:20)","v":6.6666666666666666E-2},{"$f":"LOOKUP(KC33,InputS!19:19,InputS!20:20)","v":6.6666666666666666E-2},{"$f":"LOOKUP(KD33,InputS!19:19,InputS!20:20)","v":6.6666666666666666E-2},{"$f":"LOOKUP(KE33,InputS!19:19,InputS!20:20)","v":6.6666666666666666E-2},{"$f":"LOOKUP(KF33,InputS!19:19,InputS!20:20)","v":6.6666666666666666E-2},{"$f":"LOOKUP(KG33,InputS!19:19,InputS!20:20)","v":6.6666666666666666E-2},{"$f":"LOOKUP(KH33,InputS!19:19,InputS!20:20)","v":6.6666666666666666E-2},{"$f":"LOOKUP(KI33,InputS!19:19,InputS!20:20)","v":6.6666666666666666E-2},{"$f":"LOOKUP(KJ33,InputS!19:19,InputS!20:20)","v":6.6666666666666666E-2},{"$f":"LOOKUP(KK33,InputS!19:19,InputS!20:20)","v":6.6666666666666666E-2},{"$f":"LOOKUP(KL33,InputS!19:19,InputS!20:20)","v":6.6666666666666666E-2},{"$f":"LOOKUP(KM33,InputS!19:19,InputS!20:20)","v":6.6666666666666666E-2},{"$f":"LOOKUP(KN33,InputS!19:19,InputS!20:20)","v":6.6666666666666666E-2},{"$f":"LOOKUP(KO33,InputS!19:19,InputS!20:20)","v":6.6666666666666666E-2},{"$f":"LOOKUP(KP33,InputS!19:19,InputS!20:20)","v":6.6666666666666666E-2},{"$f":"LOOKUP(KQ33,InputS!19:19,InputS!20:20)","v":6.6666666666666666E-2},{"$f":"LOOKUP(KR33,InputS!19:19,InputS!20:20)","v":6.6666666666666666E-2},{"$f":"LOOKUP(KS33,InputS!19:19,InputS!20:20)","v":6.6666666666666666E-2},{"$f":"LOOKUP(KT33,InputS!19:19,InputS!20:20)","v":6.6666666666666666E-2},{"$f":"LOOKUP(KU33,InputS!19:19,InputS!20:20)","v":6.6666666666666666E-2},{"$f":"LOOKUP(KV33,InputS!19:19,InputS!20:20)","v":6.6666666666666666E-2},{"$f":"LOOKUP(KW33,InputS!19:19,InputS!20:20)","v":6.6666666666666666E-2},{"$f":"LOOKUP(KX33,InputS!19:19,InputS!20:20)","v":6.6666666666666666E-2},{"$f":"LOOKUP(KY33,InputS!19:19,InputS!20:20)","v":6.6666666666666666E-2},{"$f":"LOOKUP(KZ33,InputS!19:19,InputS!20:20)","v":6.6666666666666666E-2},{"$f":"LOOKUP(LA33,InputS!19:19,InputS!20:20)","v":6.6666666666666666E-2},{"$f":"LOOKUP(LB33,InputS!19:19,InputS!20:20)","v":6.6666666666666666E-2},{"$f":"LOOKUP(LC33,InputS!19:19,InputS!20:20)","v":6.6666666666666666E-2},{"$f":"LOOKUP(LD33,InputS!19:19,InputS!20:20)","v":6.6666666666666666E-2},{"$f":"LOOKUP(LE33,InputS!19:19,InputS!20:20)","v":6.6666666666666666E-2},{"$f":"LOOKUP(LF33,InputS!19:19,InputS!20:20)","v":6.6666666666666666E-2},{"$f":"LOOKUP(LG33,InputS!19:19,InputS!20:20)","v":6.6666666666666666E-2},{"$f":"LOOKUP(LH33,InputS!19:19,InputS!20:20)","v":6.6666666666666666E-2},{"$f":"LOOKUP(LI33,InputS!19:19,InputS!20:20)","v":6.6666666666666666E-2},{"$f":"LOOKUP(LJ33,InputS!19:19,InputS!20:20)","v":6.6666666666666666E-2},{"$f":"LOOKUP(LK33,InputS!19:19,InputS!20:20)","v":6.6666666666666666E-2},{"$f":"LOOKUP(LL33,InputS!19:19,InputS!20:20)","v":6.6666666666666666E-2},{"$f":"LOOKUP(LM33,InputS!19:19,InputS!20:20)","v":6.6666666666666666E-2},{"$f":"LOOKUP(LN33,InputS!19:19,InputS!20:20)","v":6.6666666666666666E-2},{"$f":"LOOKUP(LO33,InputS!19:19,InputS!20:20)","v":6.6666666666666666E-2},{"$f":"LOOKUP(LP33,InputS!19:19,InputS!20:20)","v":6.6666666666666666E-2},{"$f":"LOOKUP(LQ33,InputS!19:19,InputS!20:20)","v":6.6666666666666666E-2},{"$f":"LOOKUP(LR33,InputS!19:19,InputS!20:20)","v":6.6666666666666666E-2},{"$f":"LOOKUP(LS33,InputS!19:19,InputS!20:20)","v":6.6666666666666666E-2},{"$f":"LOOKUP(LT33,InputS!19:19,InputS!20:20)","v":6.6666666666666666E-2},{"$f":"LOOKUP(LU33,InputS!19:19,InputS!20:20)","v":6.6666666666666666E-2},{"$f":"LOOKUP(LV33,InputS!19:19,InputS!20:20)","v":6.6666666666666666E-2},{"$f":"LOOKUP(LW33,InputS!19:19,InputS!20:20)","v":6.6666666666666666E-2},{"$f":"LOOKUP(LX33,InputS!19:19,InputS!20:20)","v":6.6666666666666666E-2},{"$f":"LOOKUP(LY33,InputS!19:19,InputS!20:20)","v":6.6666666666666666E-2},{"$f":"LOOKUP(LZ33,InputS!19:19,InputS!20:20)","v":6.6666666666666666E-2},{"$f":"LOOKUP(MA33,InputS!19:19,InputS!20:20)","v":6.6666666666666666E-2},{"$f":"LOOKUP(MB33,InputS!19:19,InputS!20:20)","v":6.6666666666666666E-2},{"$f":"LOOKUP(MC33,InputS!19:19,InputS!20:20)","v":6.6666666666666666E-2},{"$f":"LOOKUP(MD33,InputS!19:19,InputS!20:20)","v":6.6666666666666666E-2},{"$f":"LOOKUP(ME33,InputS!19:19,InputS!20:20)","v":6.6666666666666666E-2},{"$f":"LOOKUP(MF33,InputS!19:19,InputS!20:20)","v":6.6666666666666666E-2},{"$f":"LOOKUP(MG33,InputS!19:19,InputS!20:20)","v":6.6666666666666666E-2},{"$f":"LOOKUP(MH33,InputS!19:19,InputS!20:20)","v":6.6666666666666666E-2},{"$f":"LOOKUP(MI33,InputS!19:19,InputS!20:20)","v":6.6666666666666666E-2},{"$f":"LOOKUP(MJ33,InputS!19:19,InputS!20:20)","v":6.6666666666666666E-2},{"$f":"LOOKUP(MK33,InputS!19:19,InputS!20:20)","v":6.6666666666666666E-2},{"$f":"LOOKUP(ML33,InputS!19:19,InputS!20:20)","v":6.6666666666666666E-2},{"$f":"LOOKUP(MM33,InputS!19:19,InputS!20:20)","v":6.6666666666666666E-2},{"$f":"LOOKUP(MN33,InputS!19:19,InputS!20:20)","v":6.6666666666666666E-2},{"$f":"LOOKUP(MO33,InputS!19:19,InputS!20:20)","v":6.6666666666666666E-2},{"$f":"LOOKUP(MP33,InputS!19:19,InputS!20:20)","v":6.6666666666666666E-2},{"$f":"LOOKUP(MQ33,InputS!19:19,InputS!20:20)","v":6.6666666666666666E-2},{"$f":"LOOKUP(MR33,InputS!19:19,InputS!20:20)","v":6.6666666666666666E-2},{"$f":"LOOKUP(MS33,InputS!19:19,InputS!20:20)","v":6.6666666666666666E-2},{"$f":"LOOKUP(MT33,InputS!19:19,InputS!20:20)","v":6.6666666666666666E-2},{"$f":"LOOKUP(MU33,InputS!19:19,InputS!20:20)","v":6.6666666666666666E-2},{"$f":"LOOKUP(MV33,InputS!19:19,InputS!20:20)","v":6.6666666666666666E-2},{"$f":"LOOKUP(MW33,InputS!19:19,InputS!20:20)","v":6.6666666666666666E-2},{"$f":"LOOKUP(MX33,InputS!19:19,InputS!20:20)","v":6.6666666666666666E-2},{"$f":"LOOKUP(MY33,InputS!19:19,InputS!20:20)","v":6.6666666666666666E-2},{"$f":"LOOKUP(MZ33,InputS!19:19,InputS!20:20)","v":6.6666666666666666E-2},{"$f":"LOOKUP(NA33,InputS!19:19,InputS!20:20)","v":6.6666666666666666E-2},{"$f":"LOOKUP(NB33,InputS!19:19,InputS!20:20)","v":6.6666666666666666E-2},{"$f":"LOOKUP(NC33,InputS!19:19,InputS!20:20)","v":6.6666666666666666E-2},{"$f":"LOOKUP(ND33,InputS!19:19,InputS!20:20)","v":6.6666666666666666E-2},{"$f":"LOOKUP(NE33,InputS!19:19,InputS!20:20)","v":6.6666666666666666E-2},{"$f":"LOOKUP(NF33,InputS!19:19,InputS!20:20)","v":6.6666666666666666E-2},{"$f":"LOOKUP(NG33,InputS!19:19,InputS!20:20)","v":6.6666666666666666E-2},{"$f":"LOOKUP(NH33,InputS!19:19,InputS!20:20)","v":6.6666666666666666E-2},{"$f":"LOOKUP(NI33,InputS!19:19,InputS!20:20)","v":6.6666666666666666E-2},{"$f":"LOOKUP(NJ33,InputS!19:19,InputS!20:20)","v":6.6666666666666666E-2},{"$f":"LOOKUP(NK33,InputS!19:19,InputS!20:20)","v":6.6666666666666666E-2},{"$f":"LOOKUP(NL33,InputS!19:19,InputS!20:20)","v":6.6666666666666666E-2},{"$f":"LOOKUP(NM33,InputS!19:19,InputS!20:20)","v":6.6666666666666666E-2},{"$f":"LOOKUP(NN33,InputS!19:19,InputS!20:20)","v":6.6666666666666666E-2},{"$f":"LOOKUP(NO33,InputS!19:19,InputS!20:20)","v":6.6666666666666666E-2},{"$f":"LOOKUP(NP33,InputS!19:19,InputS!20:20)","v":6.6666666666666666E-2},{"$f":"LOOKUP(NQ33,InputS!19:19,InputS!20:20)","v":6.6666666666666666E-2},{"$f":"LOOKUP(NR33,InputS!19:19,InputS!20:20)","v":6.6666666666666666E-2},{"$f":"LOOKUP(NS33,InputS!19:19,InputS!20:20)","v":6.6666666666666666E-2},{"$f":"LOOKUP(NT33,InputS!19:19,InputS!20:20)","v":6.6666666666666666E-2},{"$f":"LOOKUP(NU33,InputS!19:19,InputS!20:20)","v":6.6666666666666666E-2},{"$f":"LOOKUP(NV33,InputS!19:19,InputS!20:20)","v":6.6666666666666666E-2},{"$f":"LOOKUP(NW33,InputS!19:19,InputS!20:20)","v":6.6666666666666666E-2},{"$f":"LOOKUP(NX33,InputS!19:19,InputS!20:20)","v":6.6666666666666666E-2},{"$f":"LOOKUP(NY33,InputS!19:19,InputS!20:20)","v":6.6666666666666666E-2},{"$f":"LOOKUP(NZ33,InputS!19:19,InputS!20:20)","v":6.6666666666666666E-2},{"$f":"LOOKUP(OA33,InputS!19:19,InputS!20:20)","v":6.6666666666666666E-2},{"$f":"LOOKUP(OB33,InputS!19:19,InputS!20:20)","v":6.6666666666666666E-2},{"$f":"LOOKUP(OC33,InputS!19:19,InputS!20:20)","v":6.6666666666666666E-2},{"$f":"LOOKUP(OD33,InputS!19:19,InputS!20:20)","v":6.6666666666666666E-2},{"$f":"LOOKUP(OE33,InputS!19:19,InputS!20:20)","v":6.6666666666666666E-2},{"$f":"LOOKUP(OF33,InputS!19:19,InputS!20:20)","v":6.6666666666666666E-2},{"$f":"LOOKUP(OG33,InputS!19:19,InputS!20:20)","v":6.6666666666666666E-2},{"$f":"LOOKUP(OH33,InputS!19:19,InputS!20:20)","v":6.6666666666666666E-2},{"$f":"LOOKUP(OI33,InputS!19:19,InputS!20:20)","v":6.6666666666666666E-2},{"$f":"LOOKUP(OJ33,InputS!19:19,InputS!20:20)","v":6.6666666666666666E-2},{"$f":"LOOKUP(OK33,InputS!19:19,InputS!20:20)","v":6.6666666666666666E-2},{"$f":"LOOKUP(OL33,InputS!19:19,InputS!20:20)","v":6.6666666666666666E-2},{"$f":"LOOKUP(OM33,InputS!19:19,InputS!20:20)","v":6.6666666666666666E-2},{"$f":"LOOKUP(ON33,InputS!19:19,InputS!20:20)","v":6.6666666666666666E-2},{"$f":"LOOKUP(OO33,InputS!19:19,InputS!20:20)","v":6.6666666666666666E-2},{"$f":"LOOKUP(OP33,InputS!19:19,InputS!20:20)","v":6.6666666666666666E-2},{"$f":"LOOKUP(OQ33,InputS!19:19,InputS!20:20)","v":6.6666666666666666E-2},{"$f":"LOOKUP(OR33,InputS!19:19,InputS!20:20)","v":6.6666666666666666E-2},{"$f":"LOOKUP(OS33,InputS!19:19,InputS!20:20)","v":6.6666666666666666E-2},{"$f":"LOOKUP(OT33,InputS!19:19,InputS!20:20)","v":6.6666666666666666E-2},{"$f":"LOOKUP(OU33,InputS!19:19,InputS!20:20)","v":6.6666666666666666E-2},{"$f":"LOOKUP(OV33,InputS!19:19,InputS!20:20)","v":6.6666666666666666E-2},{"$f":"LOOKUP(OW33,InputS!19:19,InputS!20:20)","v":6.6666666666666666E-2},{"$f":"LOOKUP(OX33,InputS!19:19,InputS!20:20)","v":6.6666666666666666E-2},{"$f":"LOOKUP(OY33,InputS!19:19,InputS!20:20)","v":6.6666666666666666E-2},{"$f":"LOOKUP(OZ33,InputS!19:19,InputS!20:20)","v":6.6666666666666666E-2},{"$f":"LOOKUP(PA33,InputS!19:19,InputS!20:20)","v":6.6666666666666666E-2},{"$f":"LOOKUP(PB33,InputS!19:19,InputS!20:20)","v":6.6666666666666666E-2},{"$f":"LOOKUP(PC33,InputS!19:19,InputS!20:20)","v":6.6666666666666666E-2},{"$f":"LOOKUP(PD33,InputS!19:19,InputS!20:20)","v":6.6666666666666666E-2},{"$f":"LOOKUP(PE33,InputS!19:19,InputS!20:20)","v":6.6666666666666666E-2},{"$f":"LOOKUP(PF33,InputS!19:19,InputS!20:20)","v":6.6666666666666666E-2},{"$f":"LOOKUP(PG33,InputS!19:19,InputS!20:20)","v":6.6666666666666666E-2},{"$f":"LOOKUP(PH33,InputS!19:19,InputS!20:20)","v":6.6666666666666666E-2},{"$f":"LOOKUP(PI33,InputS!19:19,InputS!20:20)","v":6.6666666666666666E-2},{"$f":"LOOKUP(PJ33,InputS!19:19,InputS!20:20)","v":6.6666666666666666E-2},{"$f":"LOOKUP(PK33,InputS!19:19,InputS!20:20)","v":6.6666666666666666E-2},{"$f":"LOOKUP(PL33,InputS!19:19,InputS!20:20)","v":6.6666666666666666E-2},{"$f":"LOOKUP(PM33,InputS!19:19,InputS!20:20)","v":6.6666666666666666E-2},{"$f":"LOOKUP(PN33,InputS!19:19,InputS!20:20)","v":6.6666666666666666E-2},{"$f":"LOOKUP(PO33,InputS!19:19,InputS!20:20)","v":6.6666666666666666E-2},{"$f":"LOOKUP(PP33,InputS!19:19,InputS!20:20)","v":6.6666666666666666E-2},{"$f":"LOOKUP(PQ33,InputS!19:19,InputS!20:20)","v":6.6666666666666666E-2},{"$f":"LOOKUP(PR33,InputS!19:19,InputS!20:20)","v":6.6666666666666666E-2},{"$f":"LOOKUP(PS33,InputS!19:19,InputS!20:20)","v":6.6666666666666666E-2},{"$f":"LOOKUP(PT33,InputS!19:19,InputS!20:20)","v":6.6666666666666666E-2},{"$f":"LOOKUP(PU33,InputS!19:19,InputS!20:20)","v":6.6666666666666666E-2},{"$f":"LOOKUP(PV33,InputS!19:19,InputS!20:20)","v":6.6666666666666666E-2},{"$f":"LOOKUP(PW33,InputS!19:19,InputS!20:20)","v":6.6666666666666666E-2},{"$f":"LOOKUP(PX33,InputS!19:19,InputS!20:20)","v":6.6666666666666666E-2},{"$f":"LOOKUP(PY33,InputS!19:19,InputS!20:20)","v":6.6666666666666666E-2},{"$f":"LOOKUP(PZ33,InputS!19:19,InputS!20:20)","v":6.6666666666666666E-2},{"$f":"LOOKUP(QA33,InputS!19:19,InputS!20:20)","v":6.6666666666666666E-2},{"$f":"LOOKUP(QB33,InputS!19:19,InputS!20:20)","v":6.6666666666666666E-2},{"$f":"LOOKUP(QC33,InputS!19:19,InputS!20:20)","v":6.6666666666666666E-2},{"$f":"LOOKUP(QD33,InputS!19:19,InputS!20:20)","v":6.6666666666666666E-2},{"$f":"LOOKUP(QE33,InputS!19:19,InputS!20:20)","v":6.6666666666666666E-2},{"$f":"LOOKUP(QF33,InputS!19:19,InputS!20:20)","v":6.6666666666666666E-2},{"$f":"LOOKUP(QG33,InputS!19:19,InputS!20:20)","v":6.6666666666666666E-2},{"$f":"LOOKUP(QH33,InputS!19:19,InputS!20:20)","v":6.6666666666666666E-2},{"$f":"LOOKUP(QI33,InputS!19:19,InputS!20:20)","v":6.6666666666666666E-2},{"$f":"LOOKUP(QJ33,InputS!19:19,InputS!20:20)","v":6.6666666666666666E-2},{"$f":"LOOKUP(QK33,InputS!19:19,InputS!20:20)","v":6.6666666666666666E-2},{"$f":"LOOKUP(QL33,InputS!19:19,InputS!20:20)","v":6.6666666666666666E-2},{"$f":"LOOKUP(QM33,InputS!19:19,InputS!20:20)","v":6.6666666666666666E-2},{"$f":"LOOKUP(QN33,InputS!19:19,InputS!20:20)","v":6.6666666666666666E-2},{"$f":"LOOKUP(QO33,InputS!19:19,InputS!20:20)","v":6.6666666666666666E-2},{"$f":"LOOKUP(QP33,InputS!19:19,InputS!20:20)","v":6.6666666666666666E-2},{"$f":"LOOKUP(QQ33,InputS!19:19,InputS!20:20)","v":6.6666666666666666E-2},{"$f":"LOOKUP(QR33,InputS!19:19,InputS!20:20)","v":6.6666666666666666E-2},{"$f":"LOOKUP(QS33,InputS!19:19,InputS!20:20)","v":6.6666666666666666E-2},{"$f":"LOOKUP(QT33,InputS!19:19,InputS!20:20)","v":6.6666666666666666E-2},{"$f":"LOOKUP(QU33,InputS!19:19,InputS!20:20)","v":6.6666666666666666E-2},{"$f":"LOOKUP(QV33,InputS!19:19,InputS!20:20)","v":6.6666666666666666E-2},{"$f":"LOOKUP(QW33,InputS!19:19,InputS!20:20)","v":6.6666666666666666E-2},{"$f":"LOOKUP(QX33,InputS!19:19,InputS!20:20)","v":6.6666666666666666E-2},{"$f":"LOOKUP(QY33,InputS!19:19,InputS!20:20)","v":6.6666666666666666E-2},{"$f":"LOOKUP(QZ33,InputS!19:19,InputS!20:20)","v":6.6666666666666666E-2},{"$f":"LOOKUP(RA33,InputS!19:19,InputS!20:20)","v":6.6666666666666666E-2},{"$f":"LOOKUP(RB33,InputS!19:19,InputS!20:20)","v":6.6666666666666666E-2},{"$f":"LOOKUP(RC33,InputS!19:19,InputS!20:20)","v":6.6666666666666666E-2},{"$f":"LOOKUP(RD33,InputS!19:19,InputS!20:20)","v":6.6666666666666666E-2},{"$f":"LOOKUP(RE33,InputS!19:19,InputS!20:20)","v":6.6666666666666666E-2},{"$f":"LOOKUP(RF33,InputS!19:19,InputS!20:20)","v":6.6666666666666666E-2},{"$f":"LOOKUP(RG33,InputS!19:19,InputS!20:20)","v":6.6666666666666666E-2},{"$f":"LOOKUP(RH33,InputS!19:19,InputS!20:20)","v":6.6666666666666666E-2},{"$f":"LOOKUP(RI33,InputS!19:19,InputS!20:20)","v":6.6666666666666666E-2},{"$f":"LOOKUP(RJ33,InputS!19:19,InputS!20:20)","v":6.6666666666666666E-2},{"$f":"LOOKUP(RK33,InputS!19:19,InputS!20:20)","v":6.6666666666666666E-2},{"$f":"LOOKUP(RL33,InputS!19:19,InputS!20:20)","v":6.6666666666666666E-2},{"$f":"LOOKUP(RM33,InputS!19:19,InputS!20:20)","v":6.6666666666666666E-2},{"$f":"LOOKUP(RN33,InputS!19:19,InputS!20:20)","v":6.6666666666666666E-2},{"$f":"LOOKUP(RO33,InputS!19:19,InputS!20:20)","v":6.6666666666666666E-2},{"$f":"LOOKUP(RP33,InputS!19:19,InputS!20:20)","v":6.6666666666666666E-2},{"$f":"LOOKUP(RQ33,InputS!19:19,InputS!20:20)","v":6.6666666666666666E-2},{"$f":"LOOKUP(RR33,InputS!19:19,InputS!20:20)","v":6.6666666666666666E-2},{"$f":"LOOKUP(RS33,InputS!19:19,InputS!20:20)","v":6.6666666666666666E-2},{"$f":"LOOKUP(RT33,InputS!19:19,InputS!20:20)","v":6.6666666666666666E-2},{"$f":"LOOKUP(RU33,InputS!19:19,InputS!20:20)","v":6.6666666666666666E-2},{"$f":"LOOKUP(RV33,InputS!19:19,InputS!20:20)","v":6.6666666666666666E-2},{"$f":"LOOKUP(RW33,InputS!19:19,InputS!20:20)","v":6.6666666666666666E-2},{"$f":"LOOKUP(RX33,InputS!19:19,InputS!20:20)","v":6.6666666666666666E-2},{"$f":"LOOKUP(RY33,InputS!19:19,InputS!20:20)","v":6.6666666666666666E-2},{"$f":"LOOKUP(RZ33,InputS!19:19,InputS!20:20)","v":6.6666666666666666E-2},{"$f":"LOOKUP(SA33,InputS!19:19,InputS!20:20)","v":6.6666666666666666E-2},{"$f":"LOOKUP(SB33,InputS!19:19,InputS!20:20)","v":6.6666666666666666E-2},{"$f":"LOOKUP(SC33,InputS!19:19,InputS!20:20)","v":6.6666666666666666E-2},{"$f":"LOOKUP(SD33,InputS!19:19,InputS!20:20)","v":6.6666666666666666E-2},{"$f":"LOOKUP(SE33,InputS!19:19,InputS!20:20)","v":6.6666666666666666E-2},{"$f":"LOOKUP(SF33,InputS!19:19,InputS!20:20)","v":6.6666666666666666E-2},{"$f":"LOOKUP(SG33,InputS!19:19,InputS!20:20)","v":6.6666666666666666E-2},{"$f":"LOOKUP(SH33,InputS!19:19,InputS!20:20)","v":6.6666666666666666E-2},{"$f":"LOOKUP(SI33,InputS!19:19,InputS!20:20)","v":6.6666666666666666E-2},{"$f":"LOOKUP(SJ33,InputS!19:19,InputS!20:20)","v":6.6666666666666666E-2},{"$f":"LOOKUP(SK33,InputS!19:19,InputS!20:20)","v":6.6666666666666666E-2},{"$f":"LOOKUP(SL33,InputS!19:19,InputS!20:20)","v":6.6666666666666666E-2},{"$f":"LOOKUP(SM33,InputS!19:19,InputS!20:20)","v":6.6666666666666666E-2},{"$f":"LOOKUP(SN33,InputS!19:19,InputS!20:20)","v":6.6666666666666666E-2},{"$f":"LOOKUP(SO33,InputS!19:19,InputS!20:20)","v":6.6666666666666666E-2},{"$f":"LOOKUP(SP33,InputS!19:19,InputS!20:20)","v":6.6666666666666666E-2},{"$f":"LOOKUP(SQ33,InputS!19:19,InputS!20:20)","v":6.6666666666666666E-2}]
[null,null,null,"Seasonal Generation",null,null,"MWH",null,null,{"$f":"SUM(K35:XFD35)","v":0},null,{"$f":"L34*L31","v":0},{"$f":"M34*M31","v":0},0,0,0,0,0,0,0,0,0,0,0,0,0,0,0,0,0,0,0,0,0,0,0,0,0,0,0,0,0,0,0,0,0,0,0,0,0,0,0,0,0,0,0,0,0,0,0,0,0,0,0,0,0,0,0,0,0,0,0,0,0,0,0,{"$f":"BY34*BY31","v":0},0,0,0,0,0,0,0,0,0,0,0,0,0,0,0,0,0,0,0,0,0,0,0,0,0,0,0,0,0,0,0,0,0,0,0,0,0,0,0,0,0,0,0,0,0,0,0,0,0,0,0,0,0,0,0,0,0,0,0,0,0,0,0,{"$f":"EK34*EK31","v":0},0,0,0,0,0,0,0,0,0,0,0,0,0,0,0,0,0,0,0,0,0,0,0,0,0,0,0,0,0,0,0,0,0,0,0,0,0,0,0,0,0,0,0,0,0,0,0,0,0,0,0,0,0,0,0,0,0,0,0,0,0,0,0,{"$f":"GW34*GW31","v":0},0,0,0,0,0,0,0,0,0,0,0,0,0,0,0,0,0,0,0,0,0,0,0,0,0,0,0,0,0,0,0,0,0,0,0,0,0,0,0,0,0,0,0,0,0,0,0,0,0,0,0,0,0,0,0,0,0,0,0,0,0,0,0,{"$f":"JI34*JI31","v":0},0,0,0,0,0,0,0,0,0,0,0,0,0,0,0,0,0,0,0,0,0,0,0,0,0,0,0,0,0,0,0,0,0,0,0,0,0,0,0,0,0,0,0,0,0,0,0,0,0,0,0,0,0,0,0,0,0,0,0,0,0,0,0,{"$f":"LU34*LU31","v":0},0,0,0,0,0,0,0,0,0,0,0,0,0,0,0,0,0,0,0,0,0,0,0,0,0,0,0,0,0,0,0,0,0,0,0,0,0,0,0,0,0,0,0,0,0,0,0,0,0,0,0,0,0,0,0,0,0,0,0,0,0,0,0,{"$f":"OG34*OG31","v":0},0,0,0,0,0,0,0,0,0,0,0,0,0,0,0,0,0,0,0,0,0,0,0,0,0,0,0,0,0,0,0,0,0,0,0,0,0,0,0,0,0,0,0,0,0,0,0,0,0,0,0,0,0,0,0,0,0,0,0,0,0,0,0,{"$f":"QS34*QS31","v":0},0,0,0,0,0,0,0,0,0,0,0,0,0,0,0,0,0,0,0,0,0,0,0,0,0,0,0,0,0,0,0,0,0,0,0,0,0,0,0,0,0,0,0,0,0,0,0,0,0,0]
[]
[null,"Cash Flow"]
[null,null,"Inflation Index"]
[null,null,null,"Year",null,null,"Year",null,null,null,null,{"$f":"YEAR(L4)","v":1900},{"$f":"YEAR(M4)","v":1900},1900,1900,1900,1900,1900,1900,1900,1900,1900,1900,1900,1900,1900,1900,1900,1900,1900,1900,1900,1900,1900,1900,1900,1900,1900,1900,1900,1900,1900,1900,1900,1900,1900,1900,1900,1900,1900,1900,1900,1900,1900,1900,1900,1900,1900,1900,1900,1900,1900,1900,1900,1900,1900,1900,1900,1900,1900,1900,1900,1900,1900,1900,1900,{"$f":"YEAR(BY4)","v":1900},1900,1900,1900,1900,1900,1900,1900,1900,1900,1900,1900,1900,1900,1900,1900,1900,1900,1900,1900,1900,1900,1900,1900,1900,1900,1900,1900,1900,1900,1900,1900,1900,1900,1900,1900,1900,1900,1900,1900,1900,1900,1900,1900,1900,1900,1900,1900,1900,1900,1900,1900,1900,1900,1900,1900,1900,1900,1900,1900,1900,1900,1900,1900,{"$f":"YEAR(EK4)","v":1900},1900,1900,1900,1900,1900,1900,1900,1900,1900,1900,1900,1900,1900,1900,1900,1900,1900,1900,1900,1900,1900,1900,1900,1900,1900,1900,1900,1900,1900,1900,1900,1900,1900,1900,1900,1900,1900,1900,1900,1900,1900,1900,1900,1900,1900,1900,1900,1900,1900,1900,1900,1900,1900,1900,1900,1900,1900,1900,1900,1900,1900,1900,1900,{"$f":"YEAR(GW4)","v":1900},1900,1900,1900,1900,1900,1900,1900,1900,1900,1900,1900,1900,1900,1900,1900,1900,1900,1900,1900,1900,1900,1900,1900,1900,1900,1900,1900,1900,1900,1900,1900,1900,1900,1900,1900,1900,1900,1900,1900,1900,1900,1900,1900,1900,1900,1900,1900,1900,1900,1900,1900,1900,1900,1900,1900,1900,1900,1900,1900,1900,1900,1900,1900,{"$f":"YEAR(JI4)","v":1900},1900,1900,1900,1900,1900,1900,1900,1900,1900,1900,1900,1900,1900,1900,1900,1900,1900,1900,1900,1900,1900,1900,1900,1900,1900,1900,1900,1900,1900,1900,1900,1900,1900,1900,1900,1900,1900,1900,1900,1900,1900,1900,1900,1900,1900,1900,1900,1900,1900,1900,1900,1900,1900,1900,1900,1900,1900,1900,1900,1900,1900,1900,1900,{"$f":"YEAR(LU4)","v":1900},1900,1900,1900,1900,1900,1900,1900,1900,1900,1900,1900,1900,1900,1900,1900,1900,1900,1900,1900,1900,1900,1900,1900,1900,1900,1900,1900,1900,1900,1900,1900,1900,1900,1900,1900,1900,1900,1900,1900,1900,1900,1900,1900,1900,1900,1900,1900,1900,1900,1900,1900,1900,1900,1900,1900,1900,1900,1900,1900,1900,1900,1900,1900,{"$f":"YEAR(OG4)","v":1900},1900,1900,1900,1900,1900,1900,1900,1900,1900,1900,1900,1900,1900,1900,1900,1900,1900,1900,1900,1900,1900,1900,1900,1900,1900,1900,1900,1900,1900,1900,1900,1900,1900,1900,1900,1900,1900,1900,1900,1900,1900,1900,1900,1900,1900,1900,1900,1900,1900,1900,1900,1900,1900,1900,1900,1900,1900,1900,1900,1900,1900,1900,1900,{"$f":"YEAR(QS4)","v":1900},1900,1900,1900,1900,1900,1900,1900,1900,1900,1900,1900,1900,1900,1900,1900,1900,1900,1900,1900,1900,1900,1900,1900,1900,1900,1900,1900,1900,1900,1900,1900,1900,1900,1900,1900,1900,1900,1900,1900,1900,1900,1900,1900,1900,1900,1900,1900,1900,1900,1900]
[null,null,null,"Annual Inflation Rate",{"$f":"InputS!D29","v":"High Inflation"},null,"% p.a.",null,null,null,null,{"$f":"LOOKUP(L39,InputS!24:24,InputS!29:29)","v":{"$error":"#N/A"}},{"$f":"LOOKUP(M39,InputS!24:24,InputS!29:29)","v":{"$error":"#N/A"}},{"$f":"LOOKUP(N39,InputS!24:24,InputS!29:29)","v":{"$error":"#N/A"}},{"$f":"LOOKUP(O39,InputS!24:24,InputS!29:29)","v":{"$error":"#N/A"}},{"$f":"LOOKUP(P39,InputS!24:24,InputS!29:29)","v":{"$error":"#N/A"}},{"$f":"LOOKUP(Q39,InputS!24:24,InputS!29:29)","v":{"$error":"#N/A"}},{"$f":"LOOKUP(R39,InputS!24:24,InputS!29:29)","v":{"$error":"#N/A"}},{"$f":"LOOKUP(S39,InputS!24:24,InputS!29:29)","v":{"$error":"#N/A"}},{"$f":"LOOKUP(T39,InputS!24:24,InputS!29:29)","v":{"$error":"#N/A"}},{"$f":"LOOKUP(U39,InputS!24:24,InputS!29:29)","v":{"$error":"#N/A"}},{"$f":"LOOKUP(V39,InputS!24:24,InputS!29:29)","v":{"$error":"#N/A"}},{"$f":"LOOKUP(W39,InputS!24:24,InputS!29:29)","v":{"$error":"#N/A"}},{"$f":"LOOKUP(X39,InputS!24:24,InputS!29:29)","v":{"$error":"#N/A"}},{"$f":"LOOKUP(Y39,InputS!24:24,InputS!29:29)","v":{"$error":"#N/A"}},{"$f":"LOOKUP(Z39,InputS!24:24,InputS!29:29)","v":{"$error":"#N/A"}},{"$f":"LOOKUP(AA39,InputS!24:24,InputS!29:29)","v":{"$error":"#N/A"}},{"$f":"LOOKUP(AB39,InputS!24:24,InputS!29:29)","v":{"$error":"#N/A"}},{"$f":"LOOKUP(AC39,InputS!24:24,InputS!29:29)","v":{"$error":"#N/A"}},{"$f":"LOOKUP(AD39,InputS!24:24,InputS!29:29)","v":{"$error":"#N/A"}},{"$f":"LOOKUP(AE39,InputS!24:24,InputS!29:29)","v":{"$error":"#N/A"}},{"$f":"LOOKUP(AF39,InputS!24:24,InputS!29:29)","v":{"$error":"#N/A"}},{"$f":"LOOKUP(AG39,InputS!24:24,InputS!29:29)","v":{"$error":"#N/A"}},{"$f":"LOOKUP(AH39,InputS!24:24,InputS!29:29)","v":{"$error":"#N/A"}},{"$f":"LOOKUP(AI39,InputS!24:24,InputS!29:29)","v":{"$error":"#N/A"}},{"$f":"LOOKUP(AJ39,InputS!24:24,InputS!29:29)","v":{"$error":"#N/A"}},{"$f":"LOOKUP(AK39,InputS!24:24,InputS!29:29)","v":{"$error":"#N/A"}},{"$f":"LOOKUP(AL39,InputS!24:24,InputS!29:29)","v":{"$error":"#N/A"}},{"$f":"LOOKUP(AM39,InputS!24:24,InputS!29:29)","v":{"$error":"#N/A"}},{"$f":"LOOKUP(AN39,InputS!24:24,InputS!29:29)","v":{"$error":"#N/A"}},{"$f":"LOOKUP(AO39,InputS!24:24,InputS!29:29)","v":{"$error":"#N/A"}},{"$f":"LOOKUP(AP39,InputS!24:24,InputS!29:29)","v":{"$error":"#N/A"}},{"$f":"LOOKUP(AQ39,InputS!24:24,InputS!29:29)","v":{"$error":"#N/A"}},{"$f":"LOOKUP(AR39,InputS!24:24,InputS!29:29)","v":{"$error":"#N/A"}},{"$f":"LOOKUP(AS39,InputS!24:24,InputS!29:29)","v":{"$error":"#N/A"}},{"$f":"LOOKUP(AT39,InputS!24:24,InputS!29:29)","v":{"$error":"#N/A"}},{"$f":"LOOKUP(AU39,InputS!24:24,InputS!29:29)","v":{"$error":"#N/A"}},{"$f":"LOOKUP(AV39,InputS!24:24,InputS!29:29)","v":{"$error":"#N/A"}},{"$f":"LOOKUP(AW39,InputS!24:24,InputS!29:29)","v":{"$error":"#N/A"}},{"$f":"LOOKUP(AX39,InputS!24:24,InputS!29:29)","v":{"$error":"#N/A"}},{"$f":"LOOKUP(AY39,InputS!24:24,InputS!29:29)","v":{"$error":"#N/A"}},{"$f":"LOOKUP(AZ39,InputS!24:24,InputS!29:29)","v":{"$error":"#N/A"}},{"$f":"LOOKUP(BA39,InputS!24:24,InputS!29:29)","v":{"$error":"#N/A"}},{"$f":"LOOKUP(BB39,InputS!24:24,InputS!29:29)","v":{"$error":"#N/A"}},{"$f":"LOOKUP(BC39,InputS!24:24,InputS!29:29)","v":{"$error":"#N/A"}},{"$f":"LOOKUP(BD39,InputS!24:24,InputS!29:29)","v":{"$error":"#N/A"}},{"$f":"LOOKUP(BE39,InputS!24:24,InputS!29:29)","v":{"$error":"#N/A"}},{"$f":"LOOKUP(BF39,InputS!24:24,InputS!29:29)","v":{"$error":"#N/A"}},{"$f":"LOOKUP(BG39,InputS!24:24,InputS!29:29)","v":{"$error":"#N/A"}},{"$f":"LOOKUP(BH39,InputS!24:24,InputS!29:29)","v":{"$error":"#N/A"}},{"$f":"LOOKUP(BI39,InputS!24:24,InputS!29:29)","v":{"$error":"#N/A"}},{"$f":"LOOKUP(BJ39,InputS!24:24,InputS!29:29)","v":{"$error":"#N/A"}},{"$f":"LOOKUP(BK39,InputS!24:24,InputS!29:29)","v":{"$error":"#N/A"}},{"$f":"LOOKUP(BL39,InputS!24:24,InputS!29:29)","v":{"$error":"#N/A"}},{"$f":"LOOKUP(BM39,InputS!24:24,InputS!29:29)","v":{"$error":"#N/A"}},{"$f":"LOOKUP(BN39,InputS!24:24,InputS!29:29)","v":{"$error":"#N/A"}},{"$f":"LOOKUP(BO39,InputS!24:24,InputS!29:29)","v":{"$error":"#N/A"}},{"$f":"LOOKUP(BP39,InputS!24:24,InputS!29:29)","v":{"$error":"#N/A"}},{"$f":"LOOKUP(BQ39,InputS!24:24,InputS!29:29)","v":{"$error":"#N/A"}},{"$f":"LOOKUP(BR39,InputS!24:24,InputS!29:29)","v":{"$error":"#N/A"}},{"$f":"LOOKUP(BS39,InputS!24:24,InputS!29:29)","v":{"$error":"#N/A"}},{"$f":"LOOKUP(BT39,InputS!24:24,InputS!29:29)","v":{"$error":"#N/A"}},{"$f":"LOOKUP(BU39,InputS!24:24,InputS!29:29)","v":{"$error":"#N/A"}},{"$f":"LOOKUP(BV39,InputS!24:24,InputS!29:29)","v":{"$error":"#N/A"}},{"$f":"LOOKUP(BW39,InputS!24:24,InputS!29:29)","v":{"$error":"#N/A"}},{"$f":"LOOKUP(BX39,InputS!24:24,InputS!29:29)","v":{"$error":"#N/A"}},{"$f":"LOOKUP(BY39,InputS!24:24,InputS!29:29)","v":{"$error":"#N/A"}},{"$f":"LOOKUP(BZ39,InputS!24:24,InputS!29:29)","v":{"$error":"#N/A"}},{"$f":"LOOKUP(CA39,InputS!24:24,InputS!29:29)","v":{"$error":"#N/A"}},{"$f":"LOOKUP(CB39,InputS!24:24,InputS!29:29)","v":{"$error":"#N/A"}},{"$f":"LOOKUP(CC39,InputS!24:24,InputS!29:29)","v":{"$error":"#N/A"}},{"$f":"LOOKUP(CD39,InputS!24:24,InputS!29:29)","v":{"$error":"#N/A"}},{"$f":"LOOKUP(CE39,InputS!24:24,InputS!29:29)","v":{"$error":"#N/A"}},{"$f":"LOOKUP(CF39,InputS!24:24,InputS!29:29)","v":{"$error":"#N/A"}},{"$f":"LOOKUP(CG39,InputS!24:24,InputS!29:29)","v":{"$error":"#N/A"}},{"$f":"LOOKUP(CH39,InputS!24:24,InputS!29:29)","v":{"$error":"#N/A"}},{"$f":"LOOKUP(CI39,InputS!24:24,InputS!29:29)","v":{"$error":"#N/A"}},{"$f":"LOOKUP(CJ39,InputS!24:24,InputS!29:29)","v":{"$error":"#N/A"}},{"$f":"LOOKUP(CK39,InputS!24:24,InputS!29:29)","v":{"$error":"#N/A"}},{"$f":"LOOKUP(CL39,InputS!24:24,InputS!29:29)","v":{"$error":"#N/A"}},{"$f":"LOOKUP(CM39,InputS!24:24,InputS!29:29)","v":{"$error":"#N/A"}},{"$f":"LOOKUP(CN39,InputS!24:24,InputS!29:29)","v":{"$error":"#N/A"}},{"$f":"LOOKUP(CO39,InputS!24:24,InputS!29:29)","v":{"$error":"#N/A"}},{"$f":"LOOKUP(CP39,InputS!24:24,InputS!29:29)","v":{"$error":"#N/A"}},{"$f":"LOOKUP(CQ39,InputS!24:24,InputS!29:29)","v":{"$error":"#N/A"}},{"$f":"LOOKUP(CR39,InputS!24:24,InputS!29:29)","v":{"$error":"#N/A"}},{"$f":"LOOKUP(CS39,InputS!24:24,InputS!29:29)","v":{"$error":"#N/A"}},{"$f":"LOOKUP(CT39,InputS!24:24,InputS!29:29)","v":{"$error":"#N/A"}},{"$f":"LOOKUP(CU39,InputS!24:24,InputS!29:29)","v":{"$error":"#N/A"}},{"$f":"LOOKUP(CV39,InputS!24:24,InputS!29:29)","v":{"$error":"#N/A"}},{"$f":"LOOKUP(CW39,InputS!24:24,InputS!29:29)","v":{"$error":"#N/A"}},{"$f":"LOOKUP(CX39,InputS!24:24,InputS!29:29)","v":{"$error":"#N/A"}},{"$f":"LOOKUP(CY39,InputS!24:24,InputS!29:29)","v":{"$error":"#N/A"}},{"$f":"LOOKUP(CZ39,InputS!24:24,InputS!29:29)","v":{"$error":"#N/A"}},{"$f":"LOOKUP(DA39,InputS!24:24,InputS!29:29)","v":{"$error":"#N/A"}},{"$f":"LOOKUP(DB39,InputS!24:24,InputS!29:29)","v":{"$error":"#N/A"}},{"$f":"LOOKUP(DC39,InputS!24:24,InputS!29:29)","v":{"$error":"#N/A"}},{"$f":"LOOKUP(DD39,InputS!24:24,InputS!29:29)","v":{"$error":"#N/A"}},{"$f":"LOOKUP(DE39,InputS!24:24,InputS!29:29)","v":{"$error":"#N/A"}},{"$f":"LOOKUP(DF39,InputS!24:24,InputS!29:29)","v":{"$error":"#N/A"}},{"$f":"LOOKUP(DG39,InputS!24:24,InputS!29:29)","v":{"$error":"#N/A"}},{"$f":"LOOKUP(DH39,InputS!24:24,InputS!29:29)","v":{"$error":"#N/A"}},{"$f":"LOOKUP(DI39,InputS!24:24,InputS!29:29)","v":{"$error":"#N/A"}},{"$f":"LOOKUP(DJ39,InputS!24:24,InputS!29:29)","v":{"$error":"#N/A"}},{"$f":"LOOKUP(DK39,InputS!24:24,InputS!29:29)","v":{"$error":"#N/A"}},{"$f":"LOOKUP(DL39,InputS!24:24,InputS!29:29)","v":{"$error":"#N/A"}},{"$f":"LOOKUP(DM39,InputS!24:24,InputS!29:29)","v":{"$error":"#N/A"}},{"$f":"LOOKUP(DN39,InputS!24:24,InputS!29:29)","v":{"$error":"#N/A"}},{"$f":"LOOKUP(DO39,InputS!24:24,InputS!29:29)","v":{"$error":"#N/A"}},{"$f":"LOOKUP(DP39,InputS!24:24,InputS!29:29)","v":{"$error":"#N/A"}},{"$f":"LOOKUP(DQ39,InputS!24:24,InputS!29:29)","v":{"$error":"#N/A"}},{"$f":"LOOKUP(DR39,InputS!24:24,InputS!29:29)","v":{"$error":"#N/A"}},{"$f":"LOOKUP(DS39,InputS!24:24,InputS!29:29)","v":{"$error":"#N/A"}},{"$f":"LOOKUP(DT39,InputS!24:24,InputS!29:29)","v":{"$error":"#N/A"}},{"$f":"LOOKUP(DU39,InputS!24:24,InputS!29:29)","v":{"$error":"#N/A"}},{"$f":"LOOKUP(DV39,InputS!24:24,InputS!29:29)","v":{"$error":"#N/A"}},{"$f":"LOOKUP(DW39,InputS!24:24,InputS!29:29)","v":{"$error":"#N/A"}},{"$f":"LOOKUP(DX39,InputS!24:24,InputS!29:29)","v":{"$error":"#N/A"}},{"$f":"LOOKUP(DY39,InputS!24:24,InputS!29:29)","v":{"$error":"#N/A"}},{"$f":"LOOKUP(DZ39,InputS!24:24,InputS!29:29)","v":{"$error":"#N/A"}},{"$f":"LOOKUP(EA39,InputS!24:24,InputS!29:29)","v":{"$error":"#N/A"}},{"$f":"LOOKUP(EB39,InputS!24:24,InputS!29:29)","v":{"$error":"#N/A"}},{"$f":"LOOKUP(EC39,InputS!24:24,InputS!29:29)","v":{"$error":"#N/A"}},{"$f":"LOOKUP(ED39,InputS!24:24,InputS!29:29)","v":{"$error":"#N/A"}},{"$f":"LOOKUP(EE39,InputS!24:24,InputS!29:29)","v":{"$error":"#N/A"}},{"$f":"LOOKUP(EF39,InputS!24:24,InputS!29:29)","v":{"$error":"#N/A"}},{"$f":"LOOKUP(EG39,InputS!24:24,InputS!29:29)","v":{"$error":"#N/A"}},{"$f":"LOOKUP(EH39,InputS!24:24,InputS!29:29)","v":{"$error":"#N/A"}},{"$f":"LOOKUP(EI39,InputS!24:24,InputS!29:29)","v":{"$error":"#N/A"}},{"$f":"LOOKUP(EJ39,InputS!24:24,InputS!29:29)","v":{"$error":"#N/A"}},{"$f":"LOOKUP(EK39,InputS!24:24,InputS!29:29)","v":{"$error":"#N/A"}},{"$f":"LOOKUP(EL39,InputS!24:24,InputS!29:29)","v":{"$error":"#N/A"}},{"$f":"LOOKUP(EM39,InputS!24:24,InputS!29:29)","v":{"$error":"#N/A"}},{"$f":"LOOKUP(EN39,InputS!24:24,InputS!29:29)","v":{"$error":"#N/A"}},{"$f":"LOOKUP(EO39,InputS!24:24,InputS!29:29)","v":{"$error":"#N/A"}},{"$f":"LOOKUP(EP39,InputS!24:24,InputS!29:29)","v":{"$error":"#N/A"}},{"$f":"LOOKUP(EQ39,InputS!24:24,InputS!29:29)","v":{"$error":"#N/A"}},{"$f":"LOOKUP(ER39,InputS!24:24,InputS!29:29)","v":{"$error":"#N/A"}},{"$f":"LOOKUP(ES39,InputS!24:24,InputS!29:29)","v":{"$error":"#N/A"}},{"$f":"LOOKUP(ET39,InputS!24:24,InputS!29:29)","v":{"$error":"#N/A"}},{"$f":"LOOKUP(EU39,InputS!24:24,InputS!29:29)","v":{"$error":"#N/A"}},{"$f":"LOOKUP(EV39,InputS!24:24,InputS!29:29)","v":{"$error":"#N/A"}},{"$f":"LOOKUP(EW39,InputS!24:24,InputS!29:29)","v":{"$error":"#N/A"}},{"$f":"LOOKUP(EX39,InputS!24:24,InputS!29:29)","v":{"$error":"#N/A"}},{"$f":"LOOKUP(EY39,InputS!24:24,InputS!29:29)","v":{"$error":"#N/A"}},{"$f":"LOOKUP(EZ39,InputS!24:24,InputS!29:29)","v":{"$error":"#N/A"}},{"$f":"LOOKUP(FA39,InputS!24:24,InputS!29:29)","v":{"$error":"#N/A"}},{"$f":"LOOKUP(FB39,InputS!24:24,InputS!29:29)","v":{"$error":"#N/A"}},{"$f":"LOOKUP(FC39,InputS!24:24,InputS!29:29)","v":{"$error":"#N/A"}},{"$f":"LOOKUP(FD39,InputS!24:24,InputS!29:29)","v":{"$error":"#N/A"}},{"$f":"LOOKUP(FE39,InputS!24:24,InputS!29:29)","v":{"$error":"#N/A"}},{"$f":"LOOKUP(FF39,InputS!24:24,InputS!29:29)","v":{"$error":"#N/A"}},{"$f":"LOOKUP(FG39,InputS!24:24,InputS!29:29)","v":{"$error":"#N/A"}},{"$f":"LOOKUP(FH39,InputS!24:24,InputS!29:29)","v":{"$error":"#N/A"}},{"$f":"LOOKUP(FI39,InputS!24:24,InputS!29:29)","v":{"$error":"#N/A"}},{"$f":"LOOKUP(FJ39,InputS!24:24,InputS!29:29)","v":{"$error":"#N/A"}},{"$f":"LOOKUP(FK39,InputS!24:24,InputS!29:29)","v":{"$error":"#N/A"}},{"$f":"LOOKUP(FL39,InputS!24:24,InputS!29:29)","v":{"$error":"#N/A"}},{"$f":"LOOKUP(FM39,InputS!24:24,InputS!29:29)","v":{"$error":"#N/A"}},{"$f":"LOOKUP(FN39,InputS!24:24,InputS!29:29)","v":{"$error":"#N/A"}},{"$f":"LOOKUP(FO39,InputS!24:24,InputS!29:29)","v":{"$error":"#N/A"}},{"$f":"LOOKUP(FP39,InputS!24:24,InputS!29:29)","v":{"$error":"#N/A"}},{"$f":"LOOKUP(FQ39,InputS!24:24,InputS!29:29)","v":{"$error":"#N/A"}},{"$f":"LOOKUP(FR39,InputS!24:24,InputS!29:29)","v":{"$error":"#N/A"}},{"$f":"LOOKUP(FS39,InputS!24:24,InputS!29:29)","v":{"$error":"#N/A"}},{"$f":"LOOKUP(FT39,InputS!24:24,InputS!29:29)","v":{"$error":"#N/A"}},{"$f":"LOOKUP(FU39,InputS!24:24,InputS!29:29)","v":{"$error":"#N/A"}},{"$f":"LOOKUP(FV39,InputS!24:24,InputS!29:29)","v":{"$error":"#N/A"}},{"$f":"LOOKUP(FW39,InputS!24:24,InputS!29:29)","v":{"$error":"#N/A"}},{"$f":"LOOKUP(FX39,InputS!24:24,InputS!29:29)","v":{"$error":"#N/A"}},{"$f":"LOOKUP(FY39,InputS!24:24,InputS!29:29)","v":{"$error":"#N/A"}},{"$f":"LOOKUP(FZ39,InputS!24:24,InputS!29:29)","v":{"$error":"#N/A"}},{"$f":"LOOKUP(GA39,InputS!24:24,InputS!29:29)","v":{"$error":"#N/A"}},{"$f":"LOOKUP(GB39,InputS!24:24,InputS!29:29)","v":{"$error":"#N/A"}},{"$f":"LOOKUP(GC39,InputS!24:24,InputS!29:29)","v":{"$error":"#N/A"}},{"$f":"LOOKUP(GD39,InputS!24:24,InputS!29:29)","v":{"$error":"#N/A"}},{"$f":"LOOKUP(GE39,InputS!24:24,InputS!29:29)","v":{"$error":"#N/A"}},{"$f":"LOOKUP(GF39,InputS!24:24,InputS!29:29)","v":{"$error":"#N/A"}},{"$f":"LOOKUP(GG39,InputS!24:24,InputS!29:29)","v":{"$error":"#N/A"}},{"$f":"LOOKUP(GH39,InputS!24:24,InputS!29:29)","v":{"$error":"#N/A"}},{"$f":"LOOKUP(GI39,InputS!24:24,InputS!29:29)","v":{"$error":"#N/A"}},{"$f":"LOOKUP(GJ39,InputS!24:24,InputS!29:29)","v":{"$error":"#N/A"}},{"$f":"LOOKUP(GK39,InputS!24:24,InputS!29:29)","v":{"$error":"#N/A"}},{"$f":"LOOKUP(GL39,InputS!24:24,InputS!29:29)","v":{"$error":"#N/A"}},{"$f":"LOOKUP(GM39,InputS!24:24,InputS!29:29)","v":{"$error":"#N/A"}},{"$f":"LOOKUP(GN39,InputS!24:24,InputS!29:29)","v":{"$error":"#N/A"}},{"$f":"LOOKUP(GO39,InputS!24:24,InputS!29:29)","v":{"$error":"#N/A"}},{"$f":"LOOKUP(GP39,InputS!24:24,InputS!29:29)","v":{"$error":"#N/A"}},{"$f":"LOOKUP(GQ39,InputS!24:24,InputS!29:29)","v":{"$error":"#N/A"}},{"$f":"LOOKUP(GR39,InputS!24:24,InputS!29:29)","v":{"$error":"#N/A"}},{"$f":"LOOKUP(GS39,InputS!24:24,InputS!29:29)","v":{"$error":"#N/A"}},{"$f":"LOOKUP(GT39,InputS!24:24,InputS!29:29)","v":{"$error":"#N/A"}},{"$f":"LOOKUP(GU39,InputS!24:24,InputS!29:29)","v":{"$error":"#N/A"}},{"$f":"LOOKUP(GV39,InputS!24:24,InputS!29:29)","v":{"$error":"#N/A"}},{"$f":"LOOKUP(GW39,InputS!24:24,InputS!29:29)","v":{"$error":"#N/A"}},{"$f":"LOOKUP(GX39,InputS!24:24,InputS!29:29)","v":{"$error":"#N/A"}},{"$f":"LOOKUP(GY39,InputS!24:24,InputS!29:29)","v":{"$error":"#N/A"}},{"$f":"LOOKUP(GZ39,InputS!24:24,InputS!29:29)","v":{"$error":"#N/A"}},{"$f":"LOOKUP(HA39,InputS!24:24,InputS!29:29)","v":{"$error":"#N/A"}},{"$f":"LOOKUP(HB39,InputS!24:24,InputS!29:29)","v":{"$error":"#N/A"}},{"$f":"LOOKUP(HC39,InputS!24:24,InputS!29:29)","v":{"$error":"#N/A"}},{"$f":"LOOKUP(HD39,InputS!24:24,InputS!29:29)","v":{"$error":"#N/A"}},{"$f":"LOOKUP(HE39,InputS!24:24,InputS!29:29)","v":{"$error":"#N/A"}},{"$f":"LOOKUP(HF39,InputS!24:24,InputS!29:29)","v":{"$error":"#N/A"}},{"$f":"LOOKUP(HG39,InputS!24:24,InputS!29:29)","v":{"$error":"#N/A"}},{"$f":"LOOKUP(HH39,InputS!24:24,InputS!29:29)","v":{"$error":"#N/A"}},{"$f":"LOOKUP(HI39,InputS!24:24,InputS!29:29)","v":{"$error":"#N/A"}},{"$f":"LOOKUP(HJ39,InputS!24:24,InputS!29:29)","v":{"$error":"#N/A"}},{"$f":"LOOKUP(HK39,InputS!24:24,InputS!29:29)","v":{"$error":"#N/A"}},{"$f":"LOOKUP(HL39,InputS!24:24,InputS!29:29)","v":{"$error":"#N/A"}},{"$f":"LOOKUP(HM39,InputS!24:24,InputS!29:29)","v":{"$error":"#N/A"}},{"$f":"LOOKUP(HN39,InputS!24:24,InputS!29:29)","v":{"$error":"#N/A"}},{"$f":"LOOKUP(HO39,InputS!24:24,InputS!29:29)","v":{"$error":"#N/A"}},{"$f":"LOOKUP(HP39,InputS!24:24,InputS!29:29)","v":{"$error":"#N/A"}},{"$f":"LOOKUP(HQ39,InputS!24:24,InputS!29:29)","v":{"$error":"#N/A"}},{"$f":"LOOKUP(HR39,InputS!24:24,InputS!29:29)","v":{"$error":"#N/A"}},{"$f":"LOOKUP(HS39,InputS!24:24,InputS!29:29)","v":{"$error":"#N/A"}},{"$f":"LOOKUP(HT39,InputS!24:24,InputS!29:29)","v":{"$error":"#N/A"}},{"$f":"LOOKUP(HU39,InputS!24:24,InputS!29:29)","v":{"$error":"#N/A"}},{"$f":"LOOKUP(HV39,InputS!24:24,InputS!29:29)","v":{"$error":"#N/A"}},{"$f":"LOOKUP(HW39,InputS!24:24,InputS!29:29)","v":{"$error":"#N/A"}},{"$f":"LOOKUP(HX39,InputS!24:24,InputS!29:29)","v":{"$error":"#N/A"}},{"$f":"LOOKUP(HY39,InputS!24:24,InputS!29:29)","v":{"$error":"#N/A"}},{"$f":"LOOKUP(HZ39,InputS!24:24,InputS!29:29)","v":{"$error":"#N/A"}},{"$f":"LOOKUP(IA39,InputS!24:24,InputS!29:29)","v":{"$error":"#N/A"}},{"$f":"LOOKUP(IB39,InputS!24:24,InputS!29:29)","v":{"$error":"#N/A"}},{"$f":"LOOKUP(IC39,InputS!24:24,InputS!29:29)","v":{"$error":"#N/A"}},{"$f":"LOOKUP(ID39,InputS!24:24,InputS!29:29)","v":{"$error":"#N/A"}},{"$f":"LOOKUP(IE39,InputS!24:24,InputS!29:29)","v":{"$error":"#N/A"}},{"$f":"LOOKUP(IF39,InputS!24:24,InputS!29:29)","v":{"$error":"#N/A"}},{"$f":"LOOKUP(IG39,InputS!24:24,InputS!29:29)","v":{"$error":"#N/A"}},{"$f":"LOOKUP(IH39,InputS!24:24,InputS!29:29)","v":{"$error":"#N/A"}},{"$f":"LOOKUP(II39,InputS!24:24,InputS!29:29)","v":{"$error":"#N/A"}},{"$f":"LOOKUP(IJ39,InputS!24:24,InputS!29:29)","v":{"$error":"#N/A"}},{"$f":"LOOKUP(IK39,InputS!24:24,InputS!29:29)","v":{"$error":"#N/A"}},{"$f":"LOOKUP(IL39,InputS!24:24,InputS!29:29)","v":{"$error":"#N/A"}},{"$f":"LOOKUP(IM39,InputS!24:24,InputS!29:29)","v":{"$error":"#N/A"}},{"$f":"LOOKUP(IN39,InputS!24:24,InputS!29:29)","v":{"$error":"#N/A"}},{"$f":"LOOKUP(IO39,InputS!24:24,InputS!29:29)","v":{"$error":"#N/A"}},{"$f":"LOOKUP(IP39,InputS!24:24,InputS!29:29)","v":{"$error":"#N/A"}},{"$f":"LOOKUP(IQ39,InputS!24:24,InputS!29:29)","v":{"$error":"#N/A"}},{"$f":"LOOKUP(IR39,InputS!24:24,InputS!29:29)","v":{"$error":"#N/A"}},{"$f":"LOOKUP(IS39,InputS!24:24,InputS!29:29)","v":{"$error":"#N/A"}},{"$f":"LOOKUP(IT39,InputS!24:24,InputS!29:29)","v":{"$error":"#N/A"}},{"$f":"LOOKUP(IU39,InputS!24:24,InputS!29:29)","v":{"$error":"#N/A"}},{"$f":"LOOKUP(IV39,InputS!24:24,InputS!29:29)","v":{"$error":"#N/A"}},{"$f":"LOOKUP(IW39,InputS!24:24,InputS!29:29)","v":{"$error":"#N/A"}},{"$f":"LOOKUP(IX39,InputS!24:24,InputS!29:29)","v":{"$error":"#N/A"}},{"$f":"LOOKUP(IY39,InputS!24:24,InputS!29:29)","v":{"$error":"#N/A"}},{"$f":"LOOKUP(IZ39,InputS!24:24,InputS!29:29)","v":{"$error":"#N/A"}},{"$f":"LOOKUP(JA39,InputS!24:24,InputS!29:29)","v":{"$error":"#N/A"}},{"$f":"LOOKUP(JB39,InputS!24:24,InputS!29:29)","v":{"$error":"#N/A"}},{"$f":"LOOKUP(JC39,InputS!24:24,InputS!29:29)","v":{"$error":"#N/A"}},{"$f":"LOOKUP(JD39,InputS!24:24,InputS!29:29)","v":{"$error":"#N/A"}},{"$f":"LOOKUP(JE39,InputS!24:24,InputS!29:29)","v":{"$error":"#N/A"}},{"$f":"LOOKUP(JF39,InputS!24:24,InputS!29:29)","v":{"$error":"#N/A"}},{"$f":"LOOKUP(JG39,InputS!24:24,InputS!29:29)","v":{"$error":"#N/A"}},{"$f":"LOOKUP(JH39,InputS!24:24,InputS!29:29)","v":{"$error":"#N/A"}},{"$f":"LOOKUP(JI39,InputS!24:24,InputS!29:29)","v":{"$error":"#N/A"}},{"$f":"LOOKUP(JJ39,InputS!24:24,InputS!29:29)","v":{"$error":"#N/A"}},{"$f":"LOOKUP(JK39,InputS!24:24,InputS!29:29)","v":{"$error":"#N/A"}},{"$f":"LOOKUP(JL39,InputS!24:24,InputS!29:29)","v":{"$error":"#N/A"}},{"$f":"LOOKUP(JM39,InputS!24:24,InputS!29:29)","v":{"$error":"#N/A"}},{"$f":"LOOKUP(JN39,InputS!24:24,InputS!29:29)","v":{"$error":"#N/A"}},{"$f":"LOOKUP(JO39,InputS!24:24,InputS!29:29)","v":{"$error":"#N/A"}},{"$f":"LOOKUP(JP39,InputS!24:24,InputS!29:29)","v":{"$error":"#N/A"}},{"$f":"LOOKUP(JQ39,InputS!24:24,InputS!29:29)","v":{"$error":"#N/A"}},{"$f":"LOOKUP(JR39,InputS!24:24,InputS!29:29)","v":{"$error":"#N/A"}},{"$f":"LOOKUP(JS39,InputS!24:24,InputS!29:29)","v":{"$error":"#N/A"}},{"$f":"LOOKUP(JT39,InputS!24:24,InputS!29:29)","v":{"$error":"#N/A"}},{"$f":"LOOKUP(JU39,InputS!24:24,InputS!29:29)","v":{"$error":"#N/A"}},{"$f":"LOOKUP(JV39,InputS!24:24,InputS!29:29)","v":{"$error":"#N/A"}},{"$f":"LOOKUP(JW39,InputS!24:24,InputS!29:29)","v":{"$error":"#N/A"}},{"$f":"LOOKUP(JX39,InputS!24:24,InputS!29:29)","v":{"$error":"#N/A"}},{"$f":"LOOKUP(JY39,InputS!24:24,InputS!29:29)","v":{"$error":"#N/A"}},{"$f":"LOOKUP(JZ39,InputS!24:24,InputS!29:29)","v":{"$error":"#N/A"}},{"$f":"LOOKUP(KA39,InputS!24:24,InputS!29:29)","v":{"$error":"#N/A"}},{"$f":"LOOKUP(KB39,InputS!24:24,InputS!29:29)","v":{"$error":"#N/A"}},{"$f":"LOOKUP(KC39,InputS!24:24,InputS!29:29)","v":{"$error":"#N/A"}},{"$f":"LOOKUP(KD39,InputS!24:24,InputS!29:29)","v":{"$error":"#N/A"}},{"$f":"LOOKUP(KE39,InputS!24:24,InputS!29:29)","v":{"$error":"#N/A"}},{"$f":"LOOKUP(KF39,InputS!24:24,InputS!29:29)","v":{"$error":"#N/A"}},{"$f":"LOOKUP(KG39,InputS!24:24,InputS!29:29)","v":{"$error":"#N/A"}},{"$f":"LOOKUP(KH39,InputS!24:24,InputS!29:29)","v":{"$error":"#N/A"}},{"$f":"LOOKUP(KI39,InputS!24:24,InputS!29:29)","v":{"$error":"#N/A"}},{"$f":"LOOKUP(KJ39,InputS!24:24,InputS!29:29)","v":{"$error":"#N/A"}},{"$f":"LOOKUP(KK39,InputS!24:24,InputS!29:29)","v":{"$error":"#N/A"}},{"$f":"LOOKUP(KL39,InputS!24:24,InputS!29:29)","v":{"$error":"#N/A"}},{"$f":"LOOKUP(KM39,InputS!24:24,InputS!29:29)","v":{"$error":"#N/A"}},{"$f":"LOOKUP(KN39,InputS!24:24,InputS!29:29)","v":{"$error":"#N/A"}},{"$f":"LOOKUP(KO39,InputS!24:24,InputS!29:29)","v":{"$error":"#N/A"}},{"$f":"LOOKUP(KP39,InputS!24:24,InputS!29:29)","v":{"$error":"#N/A"}},{"$f":"LOOKUP(KQ39,InputS!24:24,InputS!29:29)","v":{"$error":"#N/A"}},{"$f":"LOOKUP(KR39,InputS!24:24,InputS!29:29)","v":{"$error":"#N/A"}},{"$f":"LOOKUP(KS39,InputS!24:24,InputS!29:29)","v":{"$error":"#N/A"}},{"$f":"LOOKUP(KT39,InputS!24:24,InputS!29:29)","v":{"$error":"#N/A"}},{"$f":"LOOKUP(KU39,InputS!24:24,InputS!29:29)","v":{"$error":"#N/A"}},{"$f":"LOOKUP(KV39,InputS!24:24,InputS!29:29)","v":{"$error":"#N/A"}},{"$f":"LOOKUP(KW39,InputS!24:24,InputS!29:29)","v":{"$error":"#N/A"}},{"$f":"LOOKUP(KX39,InputS!24:24,InputS!29:29)","v":{"$error":"#N/A"}},{"$f":"LOOKUP(KY39,InputS!24:24,InputS!29:29)","v":{"$error":"#N/A"}},{"$f":"LOOKUP(KZ39,InputS!24:24,InputS!29:29)","v":{"$error":"#N/A"}},{"$f":"LOOKUP(LA39,InputS!24:24,InputS!29:29)","v":{"$error":"#N/A"}},{"$f":"LOOKUP(LB39,InputS!24:24,InputS!29:29)","v":{"$error":"#N/A"}},{"$f":"LOOKUP(LC39,InputS!24:24,InputS!29:29)","v":{"$error":"#N/A"}},{"$f":"LOOKUP(LD39,InputS!24:24,InputS!29:29)","v":{"$error":"#N/A"}},{"$f":"LOOKUP(LE39,InputS!24:24,InputS!29:29)","v":{"$error":"#N/A"}},{"$f":"LOOKUP(LF39,InputS!24:24,InputS!29:29)","v":{"$error":"#N/A"}},{"$f":"LOOKUP(LG39,InputS!24:24,InputS!29:29)","v":{"$error":"#N/A"}},{"$f":"LOOKUP(LH39,InputS!24:24,InputS!29:29)","v":{"$error":"#N/A"}},{"$f":"LOOKUP(LI39,InputS!24:24,InputS!29:29)","v":{"$error":"#N/A"}},{"$f":"LOOKUP(LJ39,InputS!24:24,InputS!29:29)","v":{"$error":"#N/A"}},{"$f":"LOOKUP(LK39,InputS!24:24,InputS!29:29)","v":{"$error":"#N/A"}},{"$f":"LOOKUP(LL39,InputS!24:24,InputS!29:29)","v":{"$error":"#N/A"}},{"$f":"LOOKUP(LM39,InputS!24:24,InputS!29:29)","v":{"$error":"#N/A"}},{"$f":"LOOKUP(LN39,InputS!24:24,InputS!29:29)","v":{"$error":"#N/A"}},{"$f":"LOOKUP(LO39,InputS!24:24,InputS!29:29)","v":{"$error":"#N/A"}},{"$f":"LOOKUP(LP39,InputS!24:24,InputS!29:29)","v":{"$error":"#N/A"}},{"$f":"LOOKUP(LQ39,InputS!24:24,InputS!29:29)","v":{"$error":"#N/A"}},{"$f":"LOOKUP(LR39,InputS!24:24,InputS!29:29)","v":{"$error":"#N/A"}},{"$f":"LOOKUP(LS39,InputS!24:24,InputS!29:29)","v":{"$error":"#N/A"}},{"$f":"LOOKUP(LT39,InputS!24:24,InputS!29:29)","v":{"$error":"#N/A"}},{"$f":"LOOKUP(LU39,InputS!24:24,InputS!29:29)","v":{"$error":"#N/A"}},{"$f":"LOOKUP(LV39,InputS!24:24,InputS!29:29)","v":{"$error":"#N/A"}},{"$f":"LOOKUP(LW39,InputS!24:24,InputS!29:29)","v":{"$error":"#N/A"}},{"$f":"LOOKUP(LX39,InputS!24:24,InputS!29:29)","v":{"$error":"#N/A"}},{"$f":"LOOKUP(LY39,InputS!24:24,InputS!29:29)","v":{"$error":"#N/A"}},{"$f":"LOOKUP(LZ39,InputS!24:24,InputS!29:29)","v":{"$error":"#N/A"}},{"$f":"LOOKUP(MA39,InputS!24:24,InputS!29:29)","v":{"$error":"#N/A"}},{"$f":"LOOKUP(MB39,InputS!24:24,InputS!29:29)","v":{"$error":"#N/A"}},{"$f":"LOOKUP(MC39,InputS!24:24,InputS!29:29)","v":{"$error":"#N/A"}},{"$f":"LOOKUP(MD39,InputS!24:24,InputS!29:29)","v":{"$error":"#N/A"}},{"$f":"LOOKUP(ME39,InputS!24:24,InputS!29:29)","v":{"$error":"#N/A"}},{"$f":"LOOKUP(MF39,InputS!24:24,InputS!29:29)","v":{"$error":"#N/A"}},{"$f":"LOOKUP(MG39,InputS!24:24,InputS!29:29)","v":{"$error":"#N/A"}},{"$f":"LOOKUP(MH39,InputS!24:24,InputS!29:29)","v":{"$error":"#N/A"}},{"$f":"LOOKUP(MI39,InputS!24:24,InputS!29:29)","v":{"$error":"#N/A"}},{"$f":"LOOKUP(MJ39,InputS!24:24,InputS!29:29)","v":{"$error":"#N/A"}},{"$f":"LOOKUP(MK39,InputS!24:24,InputS!29:29)","v":{"$error":"#N/A"}},{"$f":"LOOKUP(ML39,InputS!24:24,InputS!29:29)","v":{"$error":"#N/A"}},{"$f":"LOOKUP(MM39,InputS!24:24,InputS!29:29)","v":{"$error":"#N/A"}},{"$f":"LOOKUP(MN39,InputS!24:24,InputS!29:29)","v":{"$error":"#N/A"}},{"$f":"LOOKUP(MO39,InputS!24:24,InputS!29:29)","v":{"$error":"#N/A"}},{"$f":"LOOKUP(MP39,InputS!24:24,InputS!29:29)","v":{"$error":"#N/A"}},{"$f":"LOOKUP(MQ39,InputS!24:24,InputS!29:29)","v":{"$error":"#N/A"}},{"$f":"LOOKUP(MR39,InputS!24:24,InputS!29:29)","v":{"$error":"#N/A"}},{"$f":"LOOKUP(MS39,InputS!24:24,InputS!29:29)","v":{"$error":"#N/A"}},{"$f":"LOOKUP(MT39,InputS!24:24,InputS!29:29)","v":{"$error":"#N/A"}},{"$f":"LOOKUP(MU39,InputS!24:24,InputS!29:29)","v":{"$error":"#N/A"}},{"$f":"LOOKUP(MV39,InputS!24:24,InputS!29:29)","v":{"$error":"#N/A"}},{"$f":"LOOKUP(MW39,InputS!24:24,InputS!29:29)","v":{"$error":"#N/A"}},{"$f":"LOOKUP(MX39,InputS!24:24,InputS!29:29)","v":{"$error":"#N/A"}},{"$f":"LOOKUP(MY39,InputS!24:24,InputS!29:29)","v":{"$error":"#N/A"}},{"$f":"LOOKUP(MZ39,InputS!24:24,InputS!29:29)","v":{"$error":"#N/A"}},{"$f":"LOOKUP(NA39,InputS!24:24,InputS!29:29)","v":{"$error":"#N/A"}},{"$f":"LOOKUP(NB39,InputS!24:24,InputS!29:29)","v":{"$error":"#N/A"}},{"$f":"LOOKUP(NC39,InputS!24:24,InputS!29:29)","v":{"$error":"#N/A"}},{"$f":"LOOKUP(ND39,InputS!24:24,InputS!29:29)","v":{"$error":"#N/A"}},{"$f":"LOOKUP(NE39,InputS!24:24,InputS!29:29)","v":{"$error":"#N/A"}},{"$f":"LOOKUP(NF39,InputS!24:24,InputS!29:29)","v":{"$error":"#N/A"}},{"$f":"LOOKUP(NG39,InputS!24:24,InputS!29:29)","v":{"$error":"#N/A"}},{"$f":"LOOKUP(NH39,InputS!24:24,InputS!29:29)","v":{"$error":"#N/A"}},{"$f":"LOOKUP(NI39,InputS!24:24,InputS!29:29)","v":{"$error":"#N/A"}},{"$f":"LOOKUP(NJ39,InputS!24:24,InputS!29:29)","v":{"$error":"#N/A"}},{"$f":"LOOKUP(NK39,InputS!24:24,InputS!29:29)","v":{"$error":"#N/A"}},{"$f":"LOOKUP(NL39,InputS!24:24,InputS!29:29)","v":{"$error":"#N/A"}},{"$f":"LOOKUP(NM39,InputS!24:24,InputS!29:29)","v":{"$error":"#N/A"}},{"$f":"LOOKUP(NN39,InputS!24:24,InputS!29:29)","v":{"$error":"#N/A"}},{"$f":"LOOKUP(NO39,InputS!24:24,InputS!29:29)","v":{"$error":"#N/A"}},{"$f":"LOOKUP(NP39,InputS!24:24,InputS!29:29)","v":{"$error":"#N/A"}},{"$f":"LOOKUP(NQ39,InputS!24:24,InputS!29:29)","v":{"$error":"#N/A"}},{"$f":"LOOKUP(NR39,InputS!24:24,InputS!29:29)","v":{"$error":"#N/A"}},{"$f":"LOOKUP(NS39,InputS!24:24,InputS!29:29)","v":{"$error":"#N/A"}},{"$f":"LOOKUP(NT39,InputS!24:24,InputS!29:29)","v":{"$error":"#N/A"}},{"$f":"LOOKUP(NU39,InputS!24:24,InputS!29:29)","v":{"$error":"#N/A"}},{"$f":"LOOKUP(NV39,InputS!24:24,InputS!29:29)","v":{"$error":"#N/A"}},{"$f":"LOOKUP(NW39,InputS!24:24,InputS!29:29)","v":{"$error":"#N/A"}},{"$f":"LOOKUP(NX39,InputS!24:24,InputS!29:29)","v":{"$error":"#N/A"}},{"$f":"LOOKUP(NY39,InputS!24:24,InputS!29:29)","v":{"$error":"#N/A"}},{"$f":"LOOKUP(NZ39,InputS!24:24,InputS!29:29)","v":{"$error":"#N/A"}},{"$f":"LOOKUP(OA39,InputS!24:24,InputS!29:29)","v":{"$error":"#N/A"}},{"$f":"LOOKUP(OB39,InputS!24:24,InputS!29:29)","v":{"$error":"#N/A"}},{"$f":"LOOKUP(OC39,InputS!24:24,InputS!29:29)","v":{"$error":"#N/A"}},{"$f":"LOOKUP(OD39,InputS!24:24,InputS!29:29)","v":{"$error":"#N/A"}},{"$f":"LOOKUP(OE39,InputS!24:24,InputS!29:29)","v":{"$error":"#N/A"}},{"$f":"LOOKUP(OF39,InputS!24:24,InputS!29:29)","v":{"$error":"#N/A"}},{"$f":"LOOKUP(OG39,InputS!24:24,InputS!29:29)","v":{"$error":"#N/A"}},{"$f":"LOOKUP(OH39,InputS!24:24,InputS!29:29)","v":{"$error":"#N/A"}},{"$f":"LOOKUP(OI39,InputS!24:24,InputS!29:29)","v":{"$error":"#N/A"}},{"$f":"LOOKUP(OJ39,InputS!24:24,InputS!29:29)","v":{"$error":"#N/A"}},{"$f":"LOOKUP(OK39,InputS!24:24,InputS!29:29)","v":{"$error":"#N/A"}},{"$f":"LOOKUP(OL39,InputS!24:24,InputS!29:29)","v":{"$error":"#N/A"}},{"$f":"LOOKUP(OM39,InputS!24:24,InputS!29:29)","v":{"$error":"#N/A"}},{"$f":"LOOKUP(ON39,InputS!24:24,InputS!29:29)","v":{"$error":"#N/A"}},{"$f":"LOOKUP(OO39,InputS!24:24,InputS!29:29)","v":{"$error":"#N/A"}},{"$f":"LOOKUP(OP39,InputS!24:24,InputS!29:29)","v":{"$error":"#N/A"}},{"$f":"LOOKUP(OQ39,InputS!24:24,InputS!29:29)","v":{"$error":"#N/A"}},{"$f":"LOOKUP(OR39,InputS!24:24,InputS!29:29)","v":{"$error":"#N/A"}},{"$f":"LOOKUP(OS39,InputS!24:24,InputS!29:29)","v":{"$error":"#N/A"}},{"$f":"LOOKUP(OT39,InputS!24:24,InputS!29:29)","v":{"$error":"#N/A"}},{"$f":"LOOKUP(OU39,InputS!24:24,InputS!29:29)","v":{"$error":"#N/A"}},{"$f":"LOOKUP(OV39,InputS!24:24,InputS!29:29)","v":{"$error":"#N/A"}},{"$f":"LOOKUP(OW39,InputS!24:24,InputS!29:29)","v":{"$error":"#N/A"}},{"$f":"LOOKUP(OX39,InputS!24:24,InputS!29:29)","v":{"$error":"#N/A"}},{"$f":"LOOKUP(OY39,InputS!24:24,InputS!29:29)","v":{"$error":"#N/A"}},{"$f":"LOOKUP(OZ39,InputS!24:24,InputS!29:29)","v":{"$error":"#N/A"}},{"$f":"LOOKUP(PA39,InputS!24:24,InputS!29:29)","v":{"$error":"#N/A"}},{"$f":"LOOKUP(PB39,InputS!24:24,InputS!29:29)","v":{"$error":"#N/A"}},{"$f":"LOOKUP(PC39,InputS!24:24,InputS!29:29)","v":{"$error":"#N/A"}},{"$f":"LOOKUP(PD39,InputS!24:24,InputS!29:29)","v":{"$error":"#N/A"}},{"$f":"LOOKUP(PE39,InputS!24:24,InputS!29:29)","v":{"$error":"#N/A"}},{"$f":"LOOKUP(PF39,InputS!24:24,InputS!29:29)","v":{"$error":"#N/A"}},{"$f":"LOOKUP(PG39,InputS!24:24,InputS!29:29)","v":{"$error":"#N/A"}},{"$f":"LOOKUP(PH39,InputS!24:24,InputS!29:29)","v":{"$error":"#N/A"}},{"$f":"LOOKUP(PI39,InputS!24:24,InputS!29:29)","v":{"$error":"#N/A"}},{"$f":"LOOKUP(PJ39,InputS!24:24,InputS!29:29)","v":{"$error":"#N/A"}},{"$f":"LOOKUP(PK39,InputS!24:24,InputS!29:29)","v":{"$error":"#N/A"}},{"$f":"LOOKUP(PL39,InputS!24:24,InputS!29:29)","v":{"$error":"#N/A"}},{"$f":"LOOKUP(PM39,InputS!24:24,InputS!29:29)","v":{"$error":"#N/A"}},{"$f":"LOOKUP(PN39,InputS!24:24,InputS!29:29)","v":{"$error":"#N/A"}},{"$f":"LOOKUP(PO39,InputS!24:24,InputS!29:29)","v":{"$error":"#N/A"}},{"$f":"LOOKUP(PP39,InputS!24:24,InputS!29:29)","v":{"$error":"#N/A"}},{"$f":"LOOKUP(PQ39,InputS!24:24,InputS!29:29)","v":{"$error":"#N/A"}},{"$f":"LOOKUP(PR39,InputS!24:24,InputS!29:29)","v":{"$error":"#N/A"}},{"$f":"LOOKUP(PS39,InputS!24:24,InputS!29:29)","v":{"$error":"#N/A"}},{"$f":"LOOKUP(PT39,InputS!24:24,InputS!29:29)","v":{"$error":"#N/A"}},{"$f":"LOOKUP(PU39,InputS!24:24,InputS!29:29)","v":{"$error":"#N/A"}},{"$f":"LOOKUP(PV39,InputS!24:24,InputS!29:29)","v":{"$error":"#N/A"}},{"$f":"LOOKUP(PW39,InputS!24:24,InputS!29:29)","v":{"$error":"#N/A"}},{"$f":"LOOKUP(PX39,InputS!24:24,InputS!29:29)","v":{"$error":"#N/A"}},{"$f":"LOOKUP(PY39,InputS!24:24,InputS!29:29)","v":{"$error":"#N/A"}},{"$f":"LOOKUP(PZ39,InputS!24:24,InputS!29:29)","v":{"$error":"#N/A"}},{"$f":"LOOKUP(QA39,InputS!24:24,InputS!29:29)","v":{"$error":"#N/A"}},{"$f":"LOOKUP(QB39,InputS!24:24,InputS!29:29)","v":{"$error":"#N/A"}},{"$f":"LOOKUP(QC39,InputS!24:24,InputS!29:29)","v":{"$error":"#N/A"}},{"$f":"LOOKUP(QD39,InputS!24:24,InputS!29:29)","v":{"$error":"#N/A"}},{"$f":"LOOKUP(QE39,InputS!24:24,InputS!29:29)","v":{"$error":"#N/A"}},{"$f":"LOOKUP(QF39,InputS!24:24,InputS!29:29)","v":{"$error":"#N/A"}},{"$f":"LOOKUP(QG39,InputS!24:24,InputS!29:29)","v":{"$error":"#N/A"}},{"$f":"LOOKUP(QH39,InputS!24:24,InputS!29:29)","v":{"$error":"#N/A"}},{"$f":"LOOKUP(QI39,InputS!24:24,InputS!29:29)","v":{"$error":"#N/A"}},{"$f":"LOOKUP(QJ39,InputS!24:24,InputS!29:29)","v":{"$error":"#N/A"}},{"$f":"LOOKUP(QK39,InputS!24:24,InputS!29:29)","v":{"$error":"#N/A"}},{"$f":"LOOKUP(QL39,InputS!24:24,InputS!29:29)","v":{"$error":"#N/A"}},{"$f":"LOOKUP(QM39,InputS!24:24,InputS!29:29)","v":{"$error":"#N/A"}},{"$f":"LOOKUP(QN39,InputS!24:24,InputS!29:29)","v":{"$error":"#N/A"}},{"$f":"LOOKUP(QO39,InputS!24:24,InputS!29:29)","v":{"$error":"#N/A"}},{"$f":"LOOKUP(QP39,InputS!24:24,InputS!29:29)","v":{"$error":"#N/A"}},{"$f":"LOOKUP(QQ39,InputS!24:24,InputS!29:29)","v":{"$error":"#N/A"}},{"$f":"LOOKUP(QR39,InputS!24:24,InputS!29:29)","v":{"$error":"#N/A"}},{"$f":"LOOKUP(QS39,InputS!24:24,InputS!29:29)","v":{"$error":"#N/A"}},{"$f":"LOOKUP(QT39,InputS!24:24,InputS!29:29)","v":{"$error":"#N/A"}},{"$f":"LOOKUP(QU39,InputS!24:24,InputS!29:29)","v":{"$error":"#N/A"}},{"$f":"LOOKUP(QV39,InputS!24:24,InputS!29:29)","v":{"$error":"#N/A"}},{"$f":"LOOKUP(QW39,InputS!24:24,InputS!29:29)","v":{"$error":"#N/A"}},{"$f":"LOOKUP(QX39,InputS!24:24,InputS!29:29)","v":{"$error":"#N/A"}},{"$f":"LOOKUP(QY39,InputS!24:24,InputS!29:29)","v":{"$error":"#N/A"}},{"$f":"LOOKUP(QZ39,InputS!24:24,InputS!29:29)","v":{"$error":"#N/A"}},{"$f":"LOOKUP(RA39,InputS!24:24,InputS!29:29)","v":{"$error":"#N/A"}},{"$f":"LOOKUP(RB39,InputS!24:24,InputS!29:29)","v":{"$error":"#N/A"}},{"$f":"LOOKUP(RC39,InputS!24:24,InputS!29:29)","v":{"$error":"#N/A"}},{"$f":"LOOKUP(RD39,InputS!24:24,InputS!29:29)","v":{"$error":"#N/A"}},{"$f":"LOOKUP(RE39,InputS!24:24,InputS!29:29)","v":{"$error":"#N/A"}},{"$f":"LOOKUP(RF39,InputS!24:24,InputS!29:29)","v":{"$error":"#N/A"}},{"$f":"LOOKUP(RG39,InputS!24:24,InputS!29:29)","v":{"$error":"#N/A"}},{"$f":"LOOKUP(RH39,InputS!24:24,InputS!29:29)","v":{"$error":"#N/A"}},{"$f":"LOOKUP(RI39,InputS!24:24,InputS!29:29)","v":{"$error":"#N/A"}},{"$f":"LOOKUP(RJ39,InputS!24:24,InputS!29:29)","v":{"$error":"#N/A"}},{"$f":"LOOKUP(RK39,InputS!24:24,InputS!29:29)","v":{"$error":"#N/A"}},{"$f":"LOOKUP(RL39,InputS!24:24,InputS!29:29)","v":{"$error":"#N/A"}},{"$f":"LOOKUP(RM39,InputS!24:24,InputS!29:29)","v":{"$error":"#N/A"}},{"$f":"LOOKUP(RN39,InputS!24:24,InputS!29:29)","v":{"$error":"#N/A"}},{"$f":"LOOKUP(RO39,InputS!24:24,InputS!29:29)","v":{"$error":"#N/A"}},{"$f":"LOOKUP(RP39,InputS!24:24,InputS!29:29)","v":{"$error":"#N/A"}},{"$f":"LOOKUP(RQ39,InputS!24:24,InputS!29:29)","v":{"$error":"#N/A"}},{"$f":"LOOKUP(RR39,InputS!24:24,InputS!29:29)","v":{"$error":"#N/A"}},{"$f":"LOOKUP(RS39,InputS!24:24,InputS!29:29)","v":{"$error":"#N/A"}},{"$f":"LOOKUP(RT39,InputS!24:24,InputS!29:29)","v":{"$error":"#N/A"}},{"$f":"LOOKUP(RU39,InputS!24:24,InputS!29:29)","v":{"$error":"#N/A"}},{"$f":"LOOKUP(RV39,InputS!24:24,InputS!29:29)","v":{"$error":"#N/A"}},{"$f":"LOOKUP(RW39,InputS!24:24,InputS!29:29)","v":{"$error":"#N/A"}},{"$f":"LOOKUP(RX39,InputS!24:24,InputS!29:29)","v":{"$error":"#N/A"}},{"$f":"LOOKUP(RY39,InputS!24:24,InputS!29:29)","v":{"$error":"#N/A"}},{"$f":"LOOKUP(RZ39,InputS!24:24,InputS!29:29)","v":{"$error":"#N/A"}},{"$f":"LOOKUP(SA39,InputS!24:24,InputS!29:29)","v":{"$error":"#N/A"}},{"$f":"LOOKUP(SB39,InputS!24:24,InputS!29:29)","v":{"$error":"#N/A"}},{"$f":"LOOKUP(SC39,InputS!24:24,InputS!29:29)","v":{"$error":"#N/A"}},{"$f":"LOOKUP(SD39,InputS!24:24,InputS!29:29)","v":{"$error":"#N/A"}},{"$f":"LOOKUP(SE39,InputS!24:24,InputS!29:29)","v":{"$error":"#N/A"}},{"$f":"LOOKUP(SF39,InputS!24:24,InputS!29:29)","v":{"$error":"#N/A"}},{"$f":"LOOKUP(SG39,InputS!24:24,InputS!29:29)","v":{"$error":"#N/A"}},{"$f":"LOOKUP(SH39,InputS!24:24,InputS!29:29)","v":{"$error":"#N/A"}},{"$f":"LOOKUP(SI39,InputS!24:24,InputS!29:29)","v":{"$error":"#N/A"}},{"$f":"LOOKUP(SJ39,InputS!24:24,InputS!29:29)","v":{"$error":"#N/A"}},{"$f":"LOOKUP(SK39,InputS!24:24,InputS!29:29)","v":{"$error":"#N/A"}},{"$f":"LOOKUP(SL39,InputS!24:24,InputS!29:29)","v":{"$error":"#N/A"}},{"$f":"LOOKUP(SM39,InputS!24:24,InputS!29:29)","v":{"$error":"#N/A"}},{"$f":"LOOKUP(SN39,InputS!24:24,InputS!29:29)","v":{"$error":"#N/A"}},{"$f":"LOOKUP(SO39,InputS!24:24,InputS!29:29)","v":{"$error":"#N/A"}},{"$f":"LOOKUP(SP39,InputS!24:24,InputS!29:29)","v":{"$error":"#N/A"}},{"$f":"LOOKUP(SQ39,InputS!24:24,InputS!29:29)","v":{"$error":"#N/A"}}]
[null,null,null,"Monthly Inflation Rate",null,null,"% p.p.",null,null,null,null,{"$f":"(1+L40)^(1/Months)-1","v":{"$error":"#N/A"}},{"$error":"#N/A"},{"$error":"#N/A"},{"$error":"#N/A"},{"$error":"#N/A"},{"$error":"#N/A"},{"$error":"#N/A"},{"$error":"#N/A"},{"$error":"#N/A"},{"$error":"#N/A"},{"$error":"#N/A"},{"$error":"#N/A"},{"$error":"#N/A"},{"$error":"#N/A"},{"$error":"#N/A"},{"$error":"#N/A"},{"$error":"#N/A"},{"$error":"#N/A"},{"$error":"#N/A"},{"$error":"#N/A"},{"$error":"#N/A"},{"$error":"#N/A"},{"$error":"#N/A"},{"$error":"#N/A"},{"$error":"#N/A"},{"$error":"#N/A"},{"$error":"#N/A"},{"$error":"#N/A"},{"$error":"#N/A"},{"$error":"#N/A"},{"$error":"#N/A"},{"$error":"#N/A"},{"$error":"#N/A"},{"$error":"#N/A"},{"$error":"#N/A"},{"$error":"#N/A"},{"$error":"#N/A"},{"$error":"#N/A"},{"$error":"#N/A"},{"$error":"#N/A"},{"$error":"#N/A"},{"$error":"#N/A"},{"$error":"#N/A"},{"$error":"#N/A"},{"$error":"#N/A"},{"$error":"#N/A"},{"$error":"#N/A"},{"$error":"#N/A"},{"$error":"#N/A"},{"$error":"#N/A"},{"$error":"#N/A"},{"$error":"#N/A"},{"$error":"#N/A"},{"$error":"#N/A"},{"$error":"#N/A"},{"$error":"#N/A"},{"$error":"#N/A"},{"$error":"#N/A"},{"$error":"#N/A"},{"$error":"#N/A"},{"$error":"#N/A"},{"$error":"#N/A"},{"$error":"#N/A"},{"$error":"#N/A"},{"$f":"(1+BX40)^(1/Months)-1","v":{"$error":"#N/A"}},{"$error":"#N/A"},{"$error":"#N/A"},{"$error":"#N/A"},{"$error":"#N/A"},{"$error":"#N/A"},{"$error":"#N/A"},{"$error":"#N/A"},{"$error":"#N/A"},{"$error":"#N/A"},{"$error":"#N/A"},{"$error":"#N/A"},{"$error":"#N/A"},{"$error":"#N/A"},{"$error":"#N/A"},{"$error":"#N/A"},{"$error":"#N/A"},{"$error":"#N/A"},{"$error":"#N/A"},{"$error":"#N/A"},{"$error":"#N/A"},{"$error":"#N/A"},{"$error":"#N/A"},{"$error":"#N/A"},{"$error":"#N/A"},{"$error":"#N/A"},{"$error":"#N/A"},{"$error":"#N/A"},{"$error":"#N/A"},{"$error":"#N/A"},{"$error":"#N/A"},{"$error":"#N/A"},{"$error":"#N/A"},{"$error":"#N/A"},{"$error":"#N/A"},{"$error":"#N/A"},{"$error":"#N/A"},{"$error":"#N/A"},{"$error":"#N/A"},{"$error":"#N/A"},{"$error":"#N/A"},{"$error":"#N/A"},{"$error":"#N/A"},{"$error":"#N/A"},{"$error":"#N/A"},{"$error":"#N/A"},{"$error":"#N/A"},{"$error":"#N/A"},{"$error":"#N/A"},{"$error":"#N/A"},{"$error":"#N/A"},{"$error":"#N/A"},{"$error":"#N/A"},{"$error":"#N/A"},{"$error":"#N/A"},{"$error":"#N/A"},{"$error":"#N/A"},{"$error":"#N/A"},{"$error":"#N/A"},{"$error":"#N/A"},{"$error":"#N/A"},{"$error":"#N/A"},{"$error":"#N/A"},{"$error":"#N/A"},{"$f":"(1+EJ40)^(1/Months)-1","v":{"$error":"#N/A"}},{"$error":"#N/A"},{"$error":"#N/A"},{"$error":"#N/A"},{"$error":"#N/A"},{"$error":"#N/A"},{"$error":"#N/A"},{"$error":"#N/A"},{"$error":"#N/A"},{"$error":"#N/A"},{"$error":"#N/A"},{"$error":"#N/A"},{"$error":"#N/A"},{"$error":"#N/A"},{"$error":"#N/A"},{"$error":"#N/A"},{"$error":"#N/A"},{"$error":"#N/A"},{"$error":"#N/A"},{"$error":"#N/A"},{"$error":"#N/A"},{"$error":"#N/A"},{"$error":"#N/A"},{"$error":"#N/A"},{"$error":"#N/A"},{"$error":"#N/A"},{"$error":"#N/A"},{"$error":"#N/A"},{"$error":"#N/A"},{"$error":"#N/A"},{"$error":"#N/A"},{"$error":"#N/A"},{"$error":"#N/A"},{"$error":"#N/A"},{"$error":"#N/A"},{"$error":"#N/A"},{"$error":"#N/A"},{"$error":"#N/A"},{"$error":"#N/A"},{"$error":"#N/A"},{"$error":"#N/A"},{"$error":"#N/A"},{"$error":"#N/A"},{"$error":"#N/A"},{"$error":"#N/A"},{"$error":"#N/A"},{"$error":"#N/A"},{"$error":"#N/A"},{"$error":"#N/A"},{"$error":"#N/A"},{"$error":"#N/A"},{"$error":"#N/A"},{"$error":"#N/A"},{"$error":"#N/A"},{"$error":"#N/A"},{"$error":"#N/A"},{"$error":"#N/A"},{"$error":"#N/A"},{"$error":"#N/A"},{"$error":"#N/A"},{"$error":"#N/A"},{"$error":"#N/A"},{"$error":"#N/A"},{"$error":"#N/A"},{"$f":"(1+GV40)^(1/Months)-1","v":{"$error":"#N/A"}},{"$error":"#N/A"},{"$error":"#N/A"},{"$error":"#N/A"},{"$error":"#N/A"},{"$error":"#N/A"},{"$error":"#N/A"},{"$error":"#N/A"},{"$error":"#N/A"},{"$error":"#N/A"},{"$error":"#N/A"},{"$error":"#N/A"},{"$error":"#N/A"},{"$error":"#N/A"},{"$error":"#N/A"},{"$error":"#N/A"},{"$error":"#N/A"},{"$error":"#N/A"},{"$error":"#N/A"},{"$error":"#N/A"},{"$error":"#N/A"},{"$error":"#N/A"},{"$error":"#N/A"},{"$error":"#N/A"},{"$error":"#N/A"},{"$error":"#N/A"},{"$error":"#N/A"},{"$error":"#N/A"},{"$error":"#N/A"},{"$error":"#N/A"},{"$error":"#N/A"},{"$error":"#N/A"},{"$error":"#N/A"},{"$error":"#N/A"},{"$error":"#N/A"},{"$error":"#N/A"},{"$error":"#N/A"},{"$error":"#N/A"},{"$error":"#N/A"},{"$error":"#N/A"},{"$error":"#N/A"},{"$error":"#N/A"},{"$error":"#N/A"},{"$error":"#N/A"},{"$error":"#N/A"},{"$error":"#N/A"},{"$error":"#N/A"},{"$error":"#N/A"},{"$error":"#N/A"},{"$error":"#N/A"},{"$error":"#N/A"},{"$error":"#N/A"},{"$error":"#N/A"},{"$error":"#N/A"},{"$error":"#N/A"},{"$error":"#N/A"},{"$error":"#N/A"},{"$error":"#N/A"},{"$error":"#N/A"},{"$error":"#N/A"},{"$error":"#N/A"},{"$error":"#N/A"},{"$error":"#N/A"},{"$error":"#N/A"},{"$f":"(1+JH40)^(1/Months)-1","v":{"$error":"#N/A"}},{"$error":"#N/A"},{"$error":"#N/A"},{"$error":"#N/A"},{"$error":"#N/A"},{"$error":"#N/A"},{"$error":"#N/A"},{"$error":"#N/A"},{"$error":"#N/A"},{"$error":"#N/A"},{"$error":"#N/A"},{"$error":"#N/A"},{"$error":"#N/A"},{"$error":"#N/A"},{"$error":"#N/A"},{"$error":"#N/A"},{"$error":"#N/A"},{"$error":"#N/A"},{"$error":"#N/A"},{"$error":"#N/A"},{"$error":"#N/A"},{"$error":"#N/A"},{"$error":"#N/A"},{"$error":"#N/A"},{"$error":"#N/A"},{"$error":"#N/A"},{"$error":"#N/A"},{"$error":"#N/A"},{"$error":"#N/A"},{"$error":"#N/A"},{"$error":"#N/A"},{"$error":"#N/A"},{"$error":"#N/A"},{"$error":"#N/A"},{"$error":"#N/A"},{"$error":"#N/A"},{"$error":"#N/A"},{"$error":"#N/A"},{"$error":"#N/A"},{"$error":"#N/A"},{"$error":"#N/A"},{"$error":"#N/A"},{"$error":"#N/A"},{"$error":"#N/A"},{"$error":"#N/A"},{"$error":"#N/A"},{"$error":"#N/A"},{"$error":"#N/A"},{"$error":"#N/A"},{"$error":"#N/A"},{"$error":"#N/A"},{"$error":"#N/A"},{"$error":"#N/A"},{"$error":"#N/A"},{"$error":"#N/A"},{"$error":"#N/A"},{"$error":"#N/A"},{"$error":"#N/A"},{"$error":"#N/A"},{"$error":"#N/A"},{"$error":"#N/A"},{"$error":"#N/A"},{"$error":"#N/A"},{"$error":"#N/A"},{"$f":"(1+LT40)^(1/Months)-1","v":{"$error":"#N/A"}},{"$error":"#N/A"},{"$error":"#N/A"},{"$error":"#N/A"},{"$error":"#N/A"},{"$error":"#N/A"},{"$error":"#N/A"},{"$error":"#N/A"},{"$error":"#N/A"},{"$error":"#N/A"},{"$error":"#N/A"},{"$error":"#N/A"},{"$error":"#N/A"},{"$error":"#N/A"},{"$error":"#N/A"},{"$error":"#N/A"},{"$error":"#N/A"},{"$error":"#N/A"},{"$error":"#N/A"},{"$error":"#N/A"},{"$error":"#N/A"},{"$error":"#N/A"},{"$error":"#N/A"},{"$error":"#N/A"},{"$error":"#N/A"},{"$error":"#N/A"},{"$error":"#N/A"},{"$error":"#N/A"},{"$error":"#N/A"},{"$error":"#N/A"},{"$error":"#N/A"},{"$error":"#N/A"},{"$error":"#N/A"},{"$error":"#N/A"},{"$error":"#N/A"},{"$error":"#N/A"},{"$error":"#N/A"},{"$error":"#N/A"},{"$error":"#N/A"},{"$error":"#N/A"},{"$error":"#N/A"},{"$error":"#N/A"},{"$error":"#N/A"},{"$error":"#N/A"},{"$error":"#N/A"},{"$error":"#N/A"},{"$error":"#N/A"},{"$error":"#N/A"},{"$error":"#N/A"},{"$error":"#N/A"},{"$error":"#N/A"},{"$error":"#N/A"},{"$error":"#N/A"},{"$error":"#N/A"},{"$error":"#N/A"},{"$error":"#N/A"},{"$error":"#N/A"},{"$error":"#N/A"},{"$error":"#N/A"},{"$error":"#N/A"},{"$error":"#N/A"},{"$error":"#N/A"},{"$error":"#N/A"},{"$error":"#N/A"},{"$f":"(1+OF40)^(1/Months)-1","v":{"$error":"#N/A"}},{"$error":"#N/A"},{"$error":"#N/A"},{"$error":"#N/A"},{"$error":"#N/A"},{"$error":"#N/A"},{"$error":"#N/A"},{"$error":"#N/A"},{"$error":"#N/A"},{"$error":"#N/A"},{"$error":"#N/A"},{"$error":"#N/A"},{"$error":"#N/A"},{"$error":"#N/A"},{"$error":"#N/A"},{"$error":"#N/A"},{"$error":"#N/A"},{"$error":"#N/A"},{"$error":"#N/A"},{"$error":"#N/A"},{"$error":"#N/A"},{"$error":"#N/A"},{"$error":"#N/A"},{"$error":"#N/A"},{"$error":"#N/A"},{"$error":"#N/A"},{"$error":"#N/A"},{"$error":"#N/A"},{"$error":"#N/A"},{"$error":"#N/A"},{"$error":"#N/A"},{"$error":"#N/A"},{"$error":"#N/A"},{"$error":"#N/A"},{"$error":"#N/A"},{"$error":"#N/A"},{"$error":"#N/A"},{"$error":"#N/A"},{"$error":"#N/A"},{"$error":"#N/A"},{"$error":"#N/A"},{"$error":"#N/A"},{"$error":"#N/A"},{"$error":"#N/A"},{"$error":"#N/A"},{"$error":"#N/A"},{"$error":"#N/A"},{"$error":"#N/A"},{"$error":"#N/A"},{"$error":"#N/A"},{"$error":"#N/A"},{"$error":"#N/A"},{"$error":"#N/A"},{"$error":"#N/A"},{"$error":"#N/A"},{"$error":"#N/A"},{"$error":"#N/A"},{"$error":"#N/A"},{"$error":"#N/A"},{"$error":"#N/A"},{"$error":"#N/A"},{"$error":"#N/A"},{"$error":"#N/A"},{"$error":"#N/A"},{"$f":"(1+QR40)^(1/Months)-1","v":{"$error":"#N/A"}},{"$error":"#N/A"},{"$error":"#N/A"},{"$error":"#N/A"},{"$error":"#N/A"},{"$error":"#N/A"},{"$error":"#N/A"},{"$error":"#N/A"},{"$error":"#N/A"},{"$error":"#N/A"},{"$error":"#N/A"},{"$error":"#N/A"},{"$error":"#N/A"},{"$error":"#N/A"},{"$error":"#N/A"},{"$error":"#N/A"},{"$error":"#N/A"},{"$error":"#N/A"},{"$error":"#N/A"},{"$error":"#N/A"},{"$error":"#N/A"},{"$error":"#N/A"},{"$error":"#N/A"},{"$error":"#N/A"},{"$error":"#N/A"},{"$error":"#N/A"},{"$error":"#N/A"},{"$error":"#N/A"},{"$error":"#N/A"},{"$error":"#N/A"},{"$error":"#N/A"},{"$error":"#N/A"},{"$error":"#N/A"},{"$error":"#N/A"},{"$error":"#N/A"},{"$error":"#N/A"},{"$error":"#N/A"},{"$error":"#N/A"},{"$error":"#N/A"},{"$error":"#N/A"},{"$error":"#N/A"},{"$error":"#N/A"},{"$error":"#N/A"},{"$error":"#N/A"},{"$error":"#N/A"},{"$error":"#N/A"},{"$error":"#N/A"},{"$error":"#N/A"},{"$error":"#N/A"},{"$error":"#N/A"},{"$error":"#N/A"},{"$error":"#N/A"}]
[]
[null,null,null,"Inflation Index from COD",null,null,"Index",null,null,null,1]
[null,null,null,"Inflation Index from Start Date",null,null,"Index",null,null,null,1,{"$f":"K44*(1+L41)","v":{"$error":"#N/A"}},{"$f":"L44*(1+M41)","v":{"$error":"#N/A"}},{"$error":"#N/A"},{"$error":"#N/A"},{"$error":"#N/A"},{"$error":"#N/A"},{"$error":"#N/A"},{"$error":"#N/A"},{"$error":"#N/A"},{"$error":"#N/A"},{"$error":"#N/A"},{"$error":"#N/A"},{"$error":"#N/A"},{"$error":"#N/A"},{"$error":"#N/A"},{"$error":"#N/A"},{"$error":"#N/A"},{"$error":"#N/A"},{"$error":"#N/A"},{"$error":"#N/A"},{"$error":"#N/A"},{"$error":"#N/A"},{"$error":"#N/A"},{"$error":"#N/A"},{"$error":"#N/A"},{"$error":"#N/A"},{"$error":"#N/A"},{"$error":"#N/A"},{"$error":"#N/A"},{"$error":"#N/A"},{"$error":"#N/A"},{"$error":"#N/A"},{"$error":"#N/A"},{"$error":"#N/A"},{"$error":"#N/A"},{"$error":"#N/A"},{"$error":"#N/A"},{"$error":"#N/A"},{"$error":"#N/A"},{"$error":"#N/A"},{"$error":"#N/A"},{"$error":"#N/A"},{"$error":"#N/A"},{"$error":"#N/A"},{"$error":"#N/A"},{"$error":"#N/A"},{"$error":"#N/A"},{"$error":"#N/A"},{"$error":"#N/A"},{"$error":"#N/A"},{"$error":"#N/A"},{"$error":"#N/A"},{"$error":"#N/A"},{"$error":"#N/A"},{"$error":"#N/A"},{"$error":"#N/A"},{"$error":"#N/A"},{"$error":"#N/A"},{"$error":"#N/A"},{"$error":"#N/A"},{"$error":"#N/A"},{"$error":"#N/A"},{"$error":"#N/A"},{"$error":"#N/A"},{"$error":"#N/A"},{"$f":"BX44*(1+BY41)","v":{"$error":"#N/A"}},{"$error":"#N/A"},{"$error":"#N/A"},{"$error":"#N/A"},{"$error":"#N/A"},{"$error":"#N/A"},{"$error":"#N/A"},{"$error":"#N/A"},{"$error":"#N/A"},{"$error":"#N/A"},{"$error":"#N/A"},{"$error":"#N/A"},{"$error":"#N/A"},{"$error":"#N/A"},{"$error":"#N/A"},{"$error":"#N/A"},{"$error":"#N/A"},{"$error":"#N/A"},{"$error":"#N/A"},{"$error":"#N/A"},{"$error":"#N/A"},{"$error":"#N/A"},{"$error":"#N/A"},{"$error":"#N/A"},{"$error":"#N/A"},{"$error":"#N/A"},{"$error":"#N/A"},{"$error":"#N/A"},{"$error":"#N/A"},{"$error":"#N/A"},{"$error":"#N/A"},{"$error":"#N/A"},{"$error":"#N/A"},{"$error":"#N/A"},{"$error":"#N/A"},{"$error":"#N/A"},{"$error":"#N/A"},{"$error":"#N/A"},{"$error":"#N/A"},{"$error":"#N/A"},{"$error":"#N/A"},{"$error":"#N/A"},{"$error":"#N/A"},{"$error":"#N/A"},{"$error":"#N/A"},{"$error":"#N/A"},{"$error":"#N/A"},{"$error":"#N/A"},{"$error":"#N/A"},{"$error":"#N/A"},{"$error":"#N/A"},{"$error":"#N/A"},{"$error":"#N/A"},{"$error":"#N/A"},{"$error":"#N/A"},{"$error":"#N/A"},{"$error":"#N/A"},{"$error":"#N/A"},{"$error":"#N/A"},{"$error":"#N/A"},{"$error":"#N/A"},{"$error":"#N/A"},{"$error":"#N/A"},{"$error":"#N/A"},{"$f":"EJ44*(1+EK41)","v":{"$error":"#N/A"}},{"$error":"#N/A"},{"$error":"#N/A"},{"$error":"#N/A"},{"$error":"#N/A"},{"$error":"#N/A"},{"$error":"#N/A"},{"$error":"#N/A"},{"$error":"#N/A"},{"$error":"#N/A"},{"$error":"#N/A"},{"$error":"#N/A"},{"$error":"#N/A"},{"$error":"#N/A"},{"$error":"#N/A"},{"$error":"#N/A"},{"$error":"#N/A"},{"$error":"#N/A"},{"$error":"#N/A"},{"$error":"#N/A"},{"$error":"#N/A"},{"$error":"#N/A"},{"$error":"#N/A"},{"$error":"#N/A"},{"$error":"#N/A"},{"$error":"#N/A"},{"$error":"#N/A"},{"$error":"#N/A"},{"$error":"#N/A"},{"$error":"#N/A"},{"$error":"#N/A"},{"$error":"#N/A"},{"$error":"#N/A"},{"$error":"#N/A"},{"$error":"#N/A"},{"$error":"#N/A"},{"$error":"#N/A"},{"$error":"#N/A"},{"$error":"#N/A"},{"$error":"#N/A"},{"$error":"#N/A"},{"$error":"#N/A"},{"$error":"#N/A"},{"$error":"#N/A"},{"$error":"#N/A"},{"$error":"#N/A"},{"$error":"#N/A"},{"$error":"#N/A"},{"$error":"#N/A"},{"$error":"#N/A"},{"$error":"#N/A"},{"$error":"#N/A"},{"$error":"#N/A"},{"$error":"#N/A"},{"$error":"#N/A"},{"$error":"#N/A"},{"$error":"#N/A"},{"$error":"#N/A"},{"$error":"#N/A"},{"$error":"#N/A"},{"$error":"#N/A"},{"$error":"#N/A"},{"$error":"#N/A"},{"$error":"#N/A"},{"$f":"GV44*(1+GW41)","v":{"$error":"#N/A"}},{"$error":"#N/A"},{"$error":"#N/A"},{"$error":"#N/A"},{"$error":"#N/A"},{"$error":"#N/A"},{"$error":"#N/A"},{"$error":"#N/A"},{"$error":"#N/A"},{"$error":"#N/A"},{"$error":"#N/A"},{"$error":"#N/A"},{"$error":"#N/A"},{"$error":"#N/A"},{"$error":"#N/A"},{"$error":"#N/A"},{"$error":"#N/A"},{"$error":"#N/A"},{"$error":"#N/A"},{"$error":"#N/A"},{"$error":"#N/A"},{"$error":"#N/A"},{"$error":"#N/A"},{"$error":"#N/A"},{"$error":"#N/A"},{"$error":"#N/A"},{"$error":"#N/A"},{"$error":"#N/A"},{"$error":"#N/A"},{"$error":"#N/A"},{"$error":"#N/A"},{"$error":"#N/A"},{"$error":"#N/A"},{"$error":"#N/A"},{"$error":"#N/A"},{"$error":"#N/A"},{"$error":"#N/A"},{"$error":"#N/A"},{"$error":"#N/A"},{"$error":"#N/A"},{"$error":"#N/A"},{"$error":"#N/A"},{"$error":"#N/A"},{"$error":"#N/A"},{"$error":"#N/A"},{"$error":"#N/A"},{"$error":"#N/A"},{"$error":"#N/A"},{"$error":"#N/A"},{"$error":"#N/A"},{"$error":"#N/A"},{"$error":"#N/A"},{"$error":"#N/A"},{"$error":"#N/A"},{"$error":"#N/A"},{"$error":"#N/A"},{"$error":"#N/A"},{"$error":"#N/A"},{"$error":"#N/A"},{"$error":"#N/A"},{"$error":"#N/A"},{"$error":"#N/A"},{"$error":"#N/A"},{"$error":"#N/A"},{"$f":"JH44*(1+JI41)","v":{"$error":"#N/A"}},{"$error":"#N/A"},{"$error":"#N/A"},{"$error":"#N/A"},{"$error":"#N/A"},{"$error":"#N/A"},{"$error":"#N/A"},{"$error":"#N/A"},{"$error":"#N/A"},{"$error":"#N/A"},{"$error":"#N/A"},{"$error":"#N/A"},{"$error":"#N/A"},{"$error":"#N/A"},{"$error":"#N/A"},{"$error":"#N/A"},{"$error":"#N/A"},{"$error":"#N/A"},{"$error":"#N/A"},{"$error":"#N/A"},{"$error":"#N/A"},{"$error":"#N/A"},{"$error":"#N/A"},{"$error":"#N/A"},{"$error":"#N/A"},{"$error":"#N/A"},{"$error":"#N/A"},{"$error":"#N/A"},{"$error":"#N/A"},{"$error":"#N/A"},{"$error":"#N/A"},{"$error":"#N/A"},{"$error":"#N/A"},{"$error":"#N/A"},{"$error":"#N/A"},{"$error":"#N/A"},{"$error":"#N/A"},{"$error":"#N/A"},{"$error":"#N/A"},{"$error":"#N/A"},{"$error":"#N/A"},{"$error":"#N/A"},{"$error":"#N/A"},{"$error":"#N/A"},{"$error":"#N/A"},{"$error":"#N/A"},{"$error":"#N/A"},{"$error":"#N/A"},{"$error":"#N/A"},{"$error":"#N/A"},{"$error":"#N/A"},{"$error":"#N/A"},{"$error":"#N/A"},{"$error":"#N/A"},{"$error":"#N/A"},{"$error":"#N/A"},{"$error":"#N/A"},{"$error":"#N/A"},{"$error":"#N/A"},{"$error":"#N/A"},{"$error":"#N/A"},{"$error":"#N/A"},{"$error":"#N/A"},{"$error":"#N/A"},{"$f":"LT44*(1+LU41)","v":{"$error":"#N/A"}},{"$error":"#N/A"},{"$error":"#N/A"},{"$error":"#N/A"},{"$error":"#N/A"},{"$error":"#N/A"},{"$error":"#N/A"},{"$error":"#N/A"},{"$error":"#N/A"},{"$error":"#N/A"},{"$error":"#N/A"},{"$error":"#N/A"},{"$error":"#N/A"},{"$error":"#N/A"},{"$error":"#N/A"},{"$error":"#N/A"},{"$error":"#N/A"},{"$error":"#N/A"},{"$error":"#N/A"},{"$error":"#N/A"},{"$error":"#N/A"},{"$error":"#N/A"},{"$error":"#N/A"},{"$error":"#N/A"},{"$error":"#N/A"},{"$error":"#N/A"},{"$error":"#N/A"},{"$error":"#N/A"},{"$error":"#N/A"},{"$error":"#N/A"},{"$error":"#N/A"},{"$error":"#N/A"},{"$error":"#N/A"},{"$error":"#N/A"},{"$error":"#N/A"},{"$error":"#N/A"},{"$error":"#N/A"},{"$error":"#N/A"},{"$error":"#N/A"},{"$error":"#N/A"},{"$error":"#N/A"},{"$error":"#N/A"},{"$error":"#N/A"},{"$error":"#N/A"},{"$error":"#N/A"},{"$error":"#N/A"},{"$error":"#N/A"},{"$error":"#N/A"},{"$error":"#N/A"},{"$error":"#N/A"},{"$error":"#N/A"},{"$error":"#N/A"},{"$error":"#N/A"},{"$error":"#N/A"},{"$error":"#N/A"},{"$error":"#N/A"},{"$error":"#N/A"},{"$error":"#N/A"},{"$error":"#N/A"},{"$error":"#N/A"},{"$error":"#N/A"},{"$error":"#N/A"},{"$error":"#N/A"},{"$error":"#N/A"},{"$f":"OF44*(1+OG41)","v":{"$error":"#N/A"}},{"$error":"#N/A"},{"$error":"#N/A"},{"$error":"#N/A"},{"$error":"#N/A"},{"$error":"#N/A"},{"$error":"#N/A"},{"$error":"#N/A"},{"$error":"#N/A"},{"$error":"#N/A"},{"$error":"#N/A"},{"$error":"#N/A"},{"$error":"#N/A"},{"$error":"#N/A"},{"$error":"#N/A"},{"$error":"#N/A"},{"$error":"#N/A"},{"$error":"#N/A"},{"$error":"#N/A"},{"$error":"#N/A"},{"$error":"#N/A"},{"$error":"#N/A"},{"$error":"#N/A"},{"$error":"#N/A"},{"$error":"#N/A"},{"$error":"#N/A"},{"$error":"#N/A"},{"$error":"#N/A"},{"$error":"#N/A"},{"$error":"#N/A"},{"$error":"#N/A"},{"$error":"#N/A"},{"$error":"#N/A"},{"$error":"#N/A"},{"$error":"#N/A"},{"$error":"#N/A"},{"$error":"#N/A"},{"$error":"#N/A"},{"$error":"#N/A"},{"$error":"#N/A"},{"$error":"#N/A"},{"$error":"#N/A"},{"$error":"#N/A"},{"$error":"#N/A"},{"$error":"#N/A"},{"$error":"#N/A"},{"$error":"#N/A"},{"$error":"#N/A"},{"$error":"#N/A"},{"$error":"#N/A"},{"$error":"#N/A"},{"$error":"#N/A"},{"$error":"#N/A"},{"$error":"#N/A"},{"$error":"#N/A"},{"$error":"#N/A"},{"$error":"#N/A"},{"$error":"#N/A"},{"$error":"#N/A"},{"$error":"#N/A"},{"$error":"#N/A"},{"$error":"#N/A"},{"$error":"#N/A"},{"$error":"#N/A"},{"$f":"QR44*(1+QS41)","v":{"$error":"#N/A"}},{"$error":"#N/A"},{"$error":"#N/A"},{"$error":"#N/A"},{"$error":"#N/A"},{"$error":"#N/A"},{"$error":"#N/A"},{"$error":"#N/A"},{"$error":"#N/A"},{"$error":"#N/A"},{"$error":"#N/A"},{"$error":"#N/A"},{"$error":"#N/A"},{"$error":"#N/A"},{"$error":"#N/A"},{"$error":"#N/A"},{"$error":"#N/A"},{"$error":"#N/A"},{"$error":"#N/A"},{"$error":"#N/A"},{"$error":"#N/A"},{"$error":"#N/A"},{"$error":"#N/A"},{"$error":"#N/A"},{"$error":"#N/A"},{"$error":"#N/A"},{"$error":"#N/A"},{"$error":"#N/A"},{"$error":"#N/A"},{"$error":"#N/A"},{"$error":"#N/A"},{"$error":"#N/A"},{"$error":"#N/A"},{"$error":"#N/A"},{"$error":"#N/A"},{"$error":"#N/A"},{"$error":"#N/A"},{"$error":"#N/A"},{"$error":"#N/A"},{"$error":"#N/A"},{"$error":"#N/A"},{"$error":"#N/A"},{"$error":"#N/A"},{"$error":"#N/A"},{"$error":"#N/A"},{"$error":"#N/A"},{"$error":"#N/A"},{"$error":"#N/A"},{"$error":"#N/A"},{"$error":"#N/A"},{"$error":"#N/A"}]
[]
[null,null,"PPA Revenues"]
[null,null,null,"PPA Real Rate (2021)",{"$f":"'InputC - Operations'!$E$33","v":33},null,"USD/MWH",null,null,null,null,{"$f":"$E$47","v":33},33,33,33,33,33,33,33,33,33,33,33,33,33,33,33,33,33,33,33,33,33,33,33,33,33,33,33,33,33,33,33,33,33,33,33,33,33,33,33,33,33,33,33,33,33,33,33,33,33,33,33,33,33,33,33,33,33,33,33,33,33,33,33,{"$f":"$E$47","v":33},33,33,33,33,33,33,33,33,33,33,33,33,33,33,33,33,33,33,33,33,33,33,33,33,33,33,33,33,33,33,33,33,33,33,33,33,33,33,33,33,33,33,33,33,33,33,33,33,33,33,33,33,33,33,33,33,33,33,33,33,33,33,33,{"$f":"$E$47","v":33},33,33,33,33,33,33,33,33,33,33,33,33,33,33,33,33,33,33,33,33,33,33,33,33,33,33,33,33,33,33,33,33,33,33,33,33,33,33,33,33,33,33,33,33,33,33,33,33,33,33,33,33,33,33,33,33,33,33,33,33,33,33,33,{"$f":"$E$47","v":33},33,33,33,33,33,33,33,33,33,33,33,33,33,33,33,33,33,33,33,33,33,33,33,33,33,33,33,33,33,33,33,33,33,33,33,33,33,33,33,33,33,33,33,33,33,33,33,33,33,33,33,33,33,33,33,33,33,33,33,33,33,33,33,{"$f":"$E$47","v":33},33,33,33,33,33,33,33,33,33,33,33,33,33,33,33,33,33,33,33,33,33,33,33,33,33,33,33,33,33,33,33,33,33,33,33,33,33,33,33,33,33,33,33,33,33,33,33,33,33,33,33,33,33,33,33,33,33,33,33,33,33,33,33,{"$f":"$E$47","v":33},33,33,33,33,33,33,33,33,33,33,33,33,33,33,33,33,33,33,33,33,33,33,33,33,33,33,33,33,33,33,33,33,33,33,33,33,33,33,33,33,33,33,33,33,33,33,33,33,33,33,33,33,33,33,33,33,33,33,33,33,33,33,33,{"$f":"$E$47","v":33},33,33,33,33,33,33,33,33,33,33,33,33,33,33,33,33,33,33,33,33,33,33,33,33,33,33,33,33,33,33,33,33,33,33,33,33,33,33,33,33,33,33,33,33,33,33,33,33,33,33,33,33,33,33,33,33,33,33,33,33,33,33,33,{"$f":"$E$47","v":33},33,33,33,33,33,33,33,33,33,33,33,33,33,33,33,33,33,33,33,33,33,33,33,33,33,33,33,33,33,33,33,33,33,33,33,33,33,33,33,33,33,33,33,33,33,33,33,33,33,33,33]
[null,null,null,"PPA Rate Inflated",{"$f":"'InputC - Operations'!$E$34","v":1},null,"USD/MWH",null,null,null,null,{"$f":"IF($E$48,L47*L43,L47)","v":0},{"$f":"IF($E$48,M47*M43,M47)","v":0},0,0,0,0,0,0,0,0,0,0,0,0,0,0,0,0,0,0,0,0,0,0,0,0,0,0,0,0,0,0,0,0,0,0,0,0,0,0,0,0,0,0,0,0,0,0,0,0,0,0,0,0,0,0,0,0,0,0,0,0,0,0,0,{"$f":"IF($E$48,BY47*BY43,BY47)","v":0},0,0,0,0,0,0,0,0,0,0,0,0,0,0,0,0,0,0,0,0,0,0,0,0,0,0,0,0,0,0,0,0,0,0,0,0,0,0,0,0,0,0,0,0,0,0,0,0,0,0,0,0,0,0,0,0,0,0,0,0,0,0,0,{"$f":"IF($E$48,EK47*EK43,EK47)","v":0},0,0,0,0,0,0,0,0,0,0,0,0,0,0,0,0,0,0,0,0,0,0,0,0,0,0,0,0,0,0,0,0,0,0,0,0,0,0,0,0,0,0,0,0,0,0,0,0,0,0,0,0,0,0,0,0,0,0,0,0,0,0,0,{"$f":"IF($E$48,GW47*GW43,GW47)","v":0},0,0,0,0,0,0,0,0,0,0,0,0,0,0,0,0,0,0,0,0,0,0,0,0,0,0,0,0,0,0,0,0,0,0,0,0,0,0,0,0,0,0,0,0,0,0,0,0,0,0,0,0,0,0,0,0,0,0,0,0,0,0,0,{"$f":"IF($E$48,JI47*JI43,JI47)","v":0},0,0,0,0,0,0,0,0,0,0,0,0,0,0,0,0,0,0,0,0,0,0,0,0,0,0,0,0,0,0,0,0,0,0,0,0,0,0,0,0,0,0,0,0,0,0,0,0,0,0,0,0,0,0,0,0,0,0,0,0,0,0,0,{"$f":"IF($E$48,LU47*LU43,LU47)","v":0},0,0,0,0,0,0,0,0,0,0,0,0,0,0,0,0,0,0,0,0,0,0,0,0,0,0,0,0,0,0,0,0,0,0,0,0,0,0,0,0,0,0,0,0,0,0,0,0,0,0,0,0,0,0,0,0,0,0,0,0,0,0,0,{"$f":"IF($E$48,OG47*OG43,OG47)","v":0},0,0,0,0,0,0,0,0,0,0,0,0,0,0,0,0,0,0,0,0,0,0,0,0,0,0,0,0,0,0,0,0,0,0,0,0,0,0,0,0,0,0,0,0,0,0,0,0,0,0,0,0,0,0,0,0,0,0,0,0,0,0,0,{"$f":"IF($E$48,QS47*QS43,QS47)","v":0},0,0,0,0,0,0,0,0,0,0,0,0,0,0,0,0,0,0,0,0,0,0,0,0,0,0,0,0,0,0,0,0,0,0,0,0,0,0,0,0,0,0,0,0,0,0,0,0,0,0]
[]
[null,null,null,"Total Energy Generation",null,null,"MWH",null,null,null,null,{"$f":"L35","v":0},{"$f":"M35","v":0},0,0,0,0,0,0,0,0,0,0,0,0,0,0,0,0,0,0,0,0,0,0,0,0,0,0,0,0,0,0,0,0,0,0,0,0,0,0,0,0,0,0,0,0,0,0,0,0,0,0,0,0,0,0,0,0,0,0,0,0,0,0,0,{"$f":"BY35","v":0},0,0,0,0,0,0,0,0,0,0,0,0,0,0,0,0,0,0,0,0,0,0,0,0,0,0,0,0,0,0,0,0,0,0,0,0,0,0,0,0,0,0,0,0,0,0,0,0,0,0,0,0,0,0,0,0,0,0,0,0,0,0,0,{"$f":"EK35","v":0},0,0,0,0,0,0,0,0,0,0,0,0,0,0,0,0,0,0,0,0,0,0,0,0,0,0,0,0,0,0,0,0,0,0,0,0,0,0,0,0,0,0,0,0,0,0,0,0,0,0,0,0,0,0,0,0,0,0,0,0,0,0,0,{"$f":"GW35","v":0},0,0,0,0,0,0,0,0,0,0,0,0,0,0,0,0,0,0,0,0,0,0,0,0,0,0,0,0,0,0,0,0,0,0,0,0,0,0,0,0,0,0,0,0,0,0,0,0,0,0,0,0,0,0,0,0,0,0,0,0,0,0,0,{"$f":"JI35","v":0},0,0,0,0,0,0,0,0,0,0,0,0,0,0,0,0,0,0,0,0,0,0,0,0,0,0,0,0,0,0,0,0,0,0,0,0,0,0,0,0,0,0,0,0,0,0,0,0,0,0,0,0,0,0,0,0,0,0,0,0,0,0,0,{"$f":"LU35","v":0},0,0,0,0,0,0,0,0,0,0,0,0,0,0,0,0,0,0,0,0,0,0,0,0,0,0,0,0,0,0,0,0,0,0,0,0,0,0,0,0,0,0,0,0,0,0,0,0,0,0,0,0,0,0,0,0,0,0,0,0,0,0,0,{"$f":"OG35","v":0},0,0,0,0,0,0,0,0,0,0,0,0,0,0,0,0,0,0,0,0,0,0,0,0,0,0,0,0,0,0,0,0,0,0,0,0,0,0,0,0,0,0,0,0,0,0,0,0,0,0,0,0,0,0,0,0,0,0,0,0,0,0,0,{"$f":"QS35","v":0},0,0,0,0,0,0,0,0,0,0,0,0,0,0,0,0,0,0,0,0,0,0,0,0,0,0,0,0,0,0,0,0,0,0,0,0,0,0,0,0,0,0,0,0,0,0,0,0,0,0]
[null,null,null,"PPA Revenues",null,null,"USD",null,null,{"$f":"SUM(K51:XFD51)","v":0},null,{"$f":"L50*L48","v":0},{"$f":"M50*M48","v":0},0,0,0,0,0,0,0,0,0,0,0,0,0,0,0,0,0,0,0,0,0,0,0,0,0,0,0,0,0,0,0,0,0,0,0,0,0,0,0,0,0,0,0,0,0,0,0,0,0,0,0,0,0,0,0,0,0,0,0,0,0,0,0,{"$f":"BY50*BY48","v":0},0,0,0,0,0,0,0,0,0,0,0,0,0,0,0,0,0,0,0,0,0,0,0,0,0,0,0,0,0,0,0,0,0,0,0,0,0,0,0,0,0,0,0,0,0,0,0,0,0,0,0,0,0,0,0,0,0,0,0,0,0,0,0,{"$f":"EK50*EK48","v":0},0,0,0,0,0,0,0,0,0,0,0,0,0,0,0,0,0,0,0,0,0,0,0,0,0,0,0,0,0,0,0,0,0,0,0,0,0,0,0,0,0,0,0,0,0,0,0,0,0,0,0,0,0,0,0,0,0,0,0,0,0,0,0,{"$f":"GW50*GW48","v":0},0,0,0,0,0,0,0,0,0,0,0,0,0,0,0,0,0,0,0,0,0,0,0,0,0,0,0,0,0,0,0,0,0,0,0,0,0,0,0,0,0,0,0,0,0,0,0,0,0,0,0,0,0,0,0,0,0,0,0,0,0,0,0,{"$f":"JI50*JI48","v":0},0,0,0,0,0,0,0,0,0,0,0,0,0,0,0,0,0,0,0,0,0,0,0,0,0,0,0,0,0,0,0,0,0,0,0,0,0,0,0,0,0,0,0,0,0,0,0,0,0,0,0,0,0,0,0,0,0,0,0,0,0,0,0,{"$f":"LU50*LU48","v":0},0,0,0,0,0,0,0,0,0,0,0,0,0,0,0,0,0,0,0,0,0,0,0,0,0,0,0,0,0,0,0,0,0,0,0,0,0,0,0,0,0,0,0,0,0,0,0,0,0,0,0,0,0,0,0,0,0,0,0,0,0,0,0,{"$f":"OG50*OG48","v":0},0,0,0,0,0,0,0,0,0,0,0,0,0,0,0,0,0,0,0,0,0,0,0,0,0,0,0,0,0,0,0,0,0,0,0,0,0,0,0,0,0,0,0,0,0,0,0,0,0,0,0,0,0,0,0,0,0,0,0,0,0,0,0,{"$f":"QS50*QS48","v":0},0,0,0,0,0,0,0,0,0,0,0,0,0,0,0,0,0,0,0,0,0,0,0,0,0,0,0,0,0,0,0,0,0,0,0,0,0,0,0,0,0,0,0,0,0,0,0,0,0,0]
[]
[null,"Operations and Maintenance"]
[null,null,null,"Land Lease"]
[null,null,null,"Land Lease",{"$f":"'InputC - Operations'!E40","v":300000},null,"USD/yr",null,null,null,null,{"$f":"$E$55*L7","v":0},{"$f":"$E$55*M7","v":0},0,0,0,0,0,0,0,0,0,0,0,0,0,0,0,0,0,0,0,0,0,0,0,0,0,0,0,0,0,0,0,0,0,0,0,0,0,0,0,0,0,0,0,0,0,0,0,0,0,0,0,0,0,0,0,0,0,0,0,0,0,0,0,{"$f":"$E$55*BY7","v":0},0,0,0,0,0,0,0,0,0,0,0,0,0,0,0,0,0,0,0,0,0,0,0,0,0,0,0,0,0,0,0,0,0,0,0,0,0,0,0,0,0,0,0,0,0,0,0,0,0,0,0,0,0,0,0,0,0,0,0,0,0,0,0,{"$f":"$E$55*EK7","v":0},0,0,0,0,0,0,0,0,0,0,0,0,0,0,0,0,0,0,0,0,0,0,0,0,0,0,0,0,0,0,0,0,0,0,0,0,0,0,0,0,0,0,0,0,0,0,0,0,0,0,0,0,0,0,0,0,0,0,0,0,0,0,0,{"$f":"$E$55*GW7","v":0},0,0,0,0,0,0,0,0,0,0,0,0,0,0,0,0,0,0,0,0,0,0,0,0,0,0,0,0,0,0,0,0,0,0,0,0,0,0,0,0,0,0,0,0,0,0,0,0,0,0,0,0,0,0,0,0,0,0,0,0,0,0,0,{"$f":"$E$55*JI7","v":0},0,0,0,0,0,0,0,0,0,0,0,0,0,0,0,0,0,0,0,0,0,0,0,0,0,0,0,0,0,0,0,0,0,0,0,0,0,0,0,0,0,0,0,0,0,0,0,0,0,0,0,0,0,0,0,0,0,0,0,0,0,0,0,{"$f":"$E$55*LU7","v":0},0,0,0,0,0,0,0,0,0,0,0,0,0,0,0,0,0,0,0,0,0,0,0,0,0,0,0,0,0,0,0,0,0,0,0,0,0,0,0,0,0,0,0,0,0,0,0,0,0,0,0,0,0,0,0,0,0,0,0,0,0,0,0,{"$f":"$E$55*OG7","v":0},0,0,0,0,0,0,0,0,0,0,0,0,0,0,0,0,0,0,0,0,0,0,0,0,0,0,0,0,0,0,0,0,0,0,0,0,0,0,0,0,0,0,0,0,0,0,0,0,0,0,0,0,0,0,0,0,0,0,0,0,0,0,0,{"$f":"$E$55*QS7","v":0},0,0,0,0,0,0,0,0,0,0,0,0,0,0,0,0,0,0,0,0,0,0,0,0,0,0,0,0,0,0,0,0,0,0,0,0,0,0,0,0,0,0,0,0,0,0,0,0,0,0]
[null,null,null,"Land Lease",null,null,"USD/month",null,null,null,null,{"$f":"L55/Months","v":0},0,0,0,0,0,0,0,0,0,0,0,0,0,0,0,0,0,0,0,0,0,0,0,0,0,0,0,0,0,0,0,0,0,0,0,0,0,0,0,0,0,0,0,0,0,0,0,0,0,0,0,0,0,0,0,0,0,0,0,0,0,0,0,{"$f":"BX55/Months","v":0},0,0,0,0,0,0,0,0,0,0,0,0,0,0,0,0,0,0,0,0,0,0,0,0,0,0,0,0,0,0,0,0,0,0,0,0,0,0,0,0,0,0,0,0,0,0,0,0,0,0,0,0,0,0,0,0,0,0,0,0,0,0,0,{"$f":"EJ55/Months","v":0},0,0,0,0,0,0,0,0,0,0,0,0,0,0,0,0,0,0,0,0,0,0,0,0,0,0,0,0,0,0,0,0,0,0,0,0,0,0,0,0,0,0,0,0,0,0,0,0,0,0,0,0,0,0,0,0,0,0,0,0,0,0,0,{"$f":"GV55/Months","v":0},0,0,0,0,0,0,0,0,0,0,0,0,0,0,0,0,0,0,0,0,0,0,0,0,0,0,0,0,0,0,0,0,0,0,0,0,0,0,0,0,0,0,0,0,0,0,0,0,0,0,0,0,0,0,0,0,0,0,0,0,0,0,0,{"$f":"JH55/Months","v":0},0,0,0,0,0,0,0,0,0,0,0,0,0,0,0,0,0,0,0,0,0,0,0,0,0,0,0,0,0,0,0,0,0,0,0,0,0,0,0,0,0,0,0,0,0,0,0,0,0,0,0,0,0,0,0,0,0,0,0,0,0,0,0,{"$f":"LT55/Months","v":0},0,0,0,0,0,0,0,0,0,0,0,0,0,0,0,0,0,0,0,0,0,0,0,0,0,0,0,0,0,0,0,0,0,0,0,0,0,0,0,0,0,0,0,0,0,0,0,0,0,0,0,0,0,0,0,0,0,0,0,0,0,0,0,{"$f":"OF55/Months","v":0},0,0,0,0,0,0,0,0,0,0,0,0,0,0,0,0,0,0,0,0,0,0,0,0,0,0,0,0,0,0,0,0,0,0,0,0,0,0,0,0,0,0,0,0,0,0,0,0,0,0,0,0,0,0,0,0,0,0,0,0,0,0,0,{"$f":"QR55/Months","v":0},0,0,0,0,0,0,0,0,0,0,0,0,0,0,0,0,0,0,0,0,0,0,0,0,0,0,0,0,0,0,0,0,0,0,0,0,0,0,0,0,0,0,0,0,0,0,0,0,0,0,0]
[]
[null,null,"Base O&M Costs"]
[null,null,null,"Age",null,null,"Year",null,null,null,null,{"$f":"L27","v":0},{"$f":"M27","v":0},0,0,0,0,0,0,0,0,0,0,0,0,0,0,0,0,0,0,0,0,0,0,0,0,0,0,0,0,0,0,0,0,0,0,0,0,0,0,0,0,0,0,0,0,0,0,0,0,0,0,0,0,0,0,0,0,0,0,0,0,0,0,0,{"$f":"BY27","v":0},0,0,0,0,0,0,0,0,0,0,0,0,0,0,0,0,0,0,0,0,0,0,0,0,0,0,0,0,0,0,0,0,0,0,0,0,0,0,0,0,0,0,0,0,0,0,0,0,0,0,0,0,0,0,0,0,0,0,0,0,0,0,0,{"$f":"EK27","v":0},0,0,0,0,0,0,0,0,0,0,0,0,0,0,0,0,0,0,0,0,0,0,0,0,0,0,0,0,0,0,0,0,0,0,0,0,0,0,0,0,0,0,0,0,0,0,0,0,0,0,0,0,0,0,0,0,0,0,0,0,0,0,0,{"$f":"GW27","v":0},0,0,0,0,0,0,0,0,0,0,0,0,0,0,0,0,0,0,0,0,0,0,0,0,0,0,0,0,0,0,0,0,0,0,0,0,0,0,0,0,0,0,0,0,0,0,0,0,0,0,0,0,0,0,0,0,0,0,0,0,0,0,0,{"$f":"JI27","v":0},0,0,0,0,0,0,0,0,0,0,0,0,0,0,0,0,0,0,0,0,0,0,0,0,0,0,0,0,0,0,0,0,0,0,0,0,0,0,0,0,0,0,0,0,0,0,0,0,0,0,0,0,0,0,0,0,0,0,0,0,0,0,0,{"$f":"LU27","v":0},0,0,0,0,0,0,0,0,0,0,0,0,0,0,0,0,0,0,0,0,0,0,0,0,0,0,0,0,0,0,0,0,0,0,0,0,0,0,0,0,0,0,0,0,0,0,0,0,0,0,0,0,0,0,0,0,0,0,0,0,0,0,0,{"$f":"OG27","v":0},0,0,0,0,0,0,0,0,0,0,0,0,0,0,0,0,0,0,0,0,0,0,0,0,0,0,0,0,0,0,0,0,0,0,0,0,0,0,0,0,0,0,0,0,0,0,0,0,0,0,0,0,0,0,0,0,0,0,0,0,0,0,0,{"$f":"QS27","v":0},0,0,0,0,0,0,0,0,0,0,0,0,0,0,0,0,0,0,0,0,0,0,0,0,0,0,0,0,0,0,0,0,0,0,0,0,0,0,0,0,0,0,0,0,0,0,0,0,0,0]
[null,null,null,"O&M Period",{"$f":"'InputC - Operations'!E44","v":5},null,"Period",null,null,null,null,{"$f":"L59<=$E$60","v":true},{"$f":"M59<=$E$60","v":true},true,true,true,true,true,true,true,true,true,true,true,true,true,true,true,true,true,true,true,true,true,true,true,true,true,true,true,true,true,true,true,true,true,true,true,true,true,true,true,true,true,true,true,true,true,true,true,true,true,true,true,true,true,true,true,true,true,true,true,true,true,true,true,{"$f":"BY59<=$E$60","v":true},true,true,true,true,true,true,true,true,true,true,true,true,true,true,true,true,true,true,true,true,true,true,true,true,true,true,true,true,true,true,true,true,true,true,true,true,true,true,true,true,true,true,true,true,true,true,true,true,true,true,true,true,true,true,true,true,true,true,true,true,true,true,true,{"$f":"EK59<=$E$60","v":true},true,true,true,true,true,true,true,true,true,true,true,true,true,true,true,true,true,true,true,true,true,true,true,true,true,true,true,true,true,true,true,true,true,true,true,true,true,true,true,true,true,true,true,true,true,true,true,true,true,true,true,true,true,true,true,true,true,true,true,true,true,true,true,{"$f":"GW59<=$E$60","v":true},true,true,true,true,true,true,true,true,true,true,true,true,true,true,true,true,true,true,true,true,true,true,true,true,true,true,true,true,true,true,true,true,true,true,true,true,true,true,true,true,true,true,true,true,true,true,true,true,true,true,true,true,true,true,true,true,true,true,true,true,true,true,true,{"$f":"JI59<=$E$60","v":true},true,true,true,true,true,true,true,true,true,true,true,true,true,true,true,true,true,true,true,true,true,true,true,true,true,true,true,true,true,true,true,true,true,true,true,true,true,true,true,true,true,true,true,true,true,true,true,true,true,true,true,true,true,true,true,true,true,true,true,true,true,true,true,{"$f":"LU59<=$E$60","v":true},true,true,true,true,true,true,true,true,true,true,true,true,true,true,true,true,true,true,true,true,true,true,true,true,true,true,true,true,true,true,true,true,true,true,true,true,true,true,true,true,true,true,true,true,true,true,true,true,true,true,true,true,true,true,true,true,true,true,true,true,true,true,true,{"$f":"OG59<=$E$60","v":true},true,true,true,true,true,true,true,true,true,true,true,true,true,true,true,true,true,true,true,true,true,true,true,true,true,true,true,true,true,true,true,true,true,true,true,true,true,true,true,true,true,true,true,true,true,true,true,true,true,true,true,true,true,true,true,true,true,true,true,true,true,true,true,{"$f":"QS59<=$E$60","v":true},true,true,true,true,true,true,true,true,true,true,true,true,true,true,true,true,true,true,true,true,true,true,true,true,true,true,true,true,true,true,true,true,true,true,true,true,true,true,true,true,true,true,true,true,true,true,true,true,true,true]
[null,null,null,"O&M per Year",{"$f":"'InputC - Operations'!E43","v":9.5},{"$f":"'InputC - Operations'!E45","v":8},{"$f":"'InputC - Operations'!F43","v":"USD/kWp-yr"}]
[null,null,null,"O&M Real",null,null,"USD"]
[null,null,null,"O&M Nominal",null,null,"USD",null,null,null,null,{"$f":"L62*L44","v":{"$error":"#N/A"}},{"$error":"#N/A"},{"$error":"#N/A"},{"$error":"#N/A"},{"$error":"#N/A"},{"$error":"#N/A"},{"$error":"#N/A"},{"$error":"#N/A"},{"$error":"#N/A"},{"$error":"#N/A"},{"$error":"#N/A"},{"$error":"#N/A"},{"$error":"#N/A"},{"$error":"#N/A"},{"$error":"#N/A"},{"$error":"#N/A"},{"$error":"#N/A"},{"$error":"#N/A"},{"$error":"#N/A"},{"$error":"#N/A"},{"$error":"#N/A"},{"$error":"#N/A"},{"$error":"#N/A"},{"$error":"#N/A"},{"$error":"#N/A"},{"$error":"#N/A"},{"$error":"#N/A"},{"$error":"#N/A"},{"$error":"#N/A"},{"$error":"#N/A"},{"$error":"#N/A"},{"$error":"#N/A"},{"$error":"#N/A"},{"$error":"#N/A"},{"$error":"#N/A"},{"$error":"#N/A"},{"$error":"#N/A"},{"$error":"#N/A"},{"$error":"#N/A"},{"$error":"#N/A"},{"$error":"#N/A"},{"$error":"#N/A"},{"$error":"#N/A"},{"$error":"#N/A"},{"$error":"#N/A"},{"$error":"#N/A"},{"$error":"#N/A"},{"$error":"#N/A"},{"$error":"#N/A"},{"$error":"#N/A"},{"$error":"#N/A"},{"$error":"#N/A"},{"$error":"#N/A"},{"$error":"#N/A"},{"$error":"#N/A"},{"$error":"#N/A"},{"$error":"#N/A"},{"$error":"#N/A"},{"$error":"#N/A"},{"$error":"#N/A"},{"$error":"#N/A"},{"$error":"#N/A"},{"$error":"#N/A"},{"$error":"#N/A"},{"$f":"BX62*BX44","v":{"$error":"#N/A"}},{"$error":"#N/A"},{"$error":"#N/A"},{"$error":"#N/A"},{"$error":"#N/A"},{"$error":"#N/A"},{"$error":"#N/A"},{"$error":"#N/A"},{"$error":"#N/A"},{"$error":"#N/A"},{"$error":"#N/A"},{"$error":"#N/A"},{"$error":"#N/A"},{"$error":"#N/A"},{"$error":"#N/A"},{"$error":"#N/A"},{"$error":"#N/A"},{"$error":"#N/A"},{"$error":"#N/A"},{"$error":"#N/A"},{"$error":"#N/A"},{"$error":"#N/A"},{"$error":"#N/A"},{"$error":"#N/A"},{"$error":"#N/A"},{"$error":"#N/A"},{"$error":"#N/A"},{"$error":"#N/A"},{"$error":"#N/A"},{"$error":"#N/A"},{"$error":"#N/A"},{"$error":"#N/A"},{"$error":"#N/A"},{"$error":"#N/A"},{"$error":"#N/A"},{"$error":"#N/A"},{"$error":"#N/A"},{"$error":"#N/A"},{"$error":"#N/A"},{"$error":"#N/A"},{"$error":"#N/A"},{"$error":"#N/A"},{"$error":"#N/A"},{"$error":"#N/A"},{"$error":"#N/A"},{"$error":"#N/A"},{"$error":"#N/A"},{"$error":"#N/A"},{"$error":"#N/A"},{"$error":"#N/A"},{"$error":"#N/A"},{"$error":"#N/A"},{"$error":"#N/A"},{"$error":"#N/A"},{"$error":"#N/A"},{"$error":"#N/A"},{"$error":"#N/A"},{"$error":"#N/A"},{"$error":"#N/A"},{"$error":"#N/A"},{"$error":"#N/A"},{"$error":"#N/A"},{"$error":"#N/A"},{"$error":"#N/A"},{"$f":"EJ62*EJ44","v":{"$error":"#N/A"}},{"$error":"#N/A"},{"$error":"#N/A"},{"$error":"#N/A"},{"$error":"#N/A"},{"$error":"#N/A"},{"$error":"#N/A"},{"$error":"#N/A"},{"$error":"#N/A"},{"$error":"#N/A"},{"$error":"#N/A"},{"$error":"#N/A"},{"$error":"#N/A"},{"$error":"#N/A"},{"$error":"#N/A"},{"$error":"#N/A"},{"$error":"#N/A"},{"$error":"#N/A"},{"$error":"#N/A"},{"$error":"#N/A"},{"$error":"#N/A"},{"$error":"#N/A"},{"$error":"#N/A"},{"$error":"#N/A"},{"$error":"#N/A"},{"$error":"#N/A"},{"$error":"#N/A"},{"$error":"#N/A"},{"$error":"#N/A"},{"$error":"#N/A"},{"$error":"#N/A"},{"$error":"#N/A"},{"$error":"#N/A"},{"$error":"#N/A"},{"$error":"#N/A"},{"$error":"#N/A"},{"$error":"#N/A"},{"$error":"#N/A"},{"$error":"#N/A"},{"$error":"#N/A"},{"$error":"#N/A"},{"$error":"#N/A"},{"$error":"#N/A"},{"$error":"#N/A"},{"$error":"#N/A"},{"$error":"#N/A"},{"$error":"#N/A"},{"$error":"#N/A"},{"$error":"#N/A"},{"$error":"#N/A"},{"$error":"#N/A"},{"$error":"#N/A"},{"$error":"#N/A"},{"$error":"#N/A"},{"$error":"#N/A"},{"$error":"#N/A"},{"$error":"#N/A"},{"$error":"#N/A"},{"$error":"#N/A"},{"$error":"#N/A"},{"$error":"#N/A"},{"$error":"#N/A"},{"$error":"#N/A"},{"$error":"#N/A"},{"$f":"GV62*GV44","v":{"$error":"#N/A"}},{"$error":"#N/A"},{"$error":"#N/A"},{"$error":"#N/A"},{"$error":"#N/A"},{"$error":"#N/A"},{"$error":"#N/A"},{"$error":"#N/A"},{"$error":"#N/A"},{"$error":"#N/A"},{"$error":"#N/A"},{"$error":"#N/A"},{"$error":"#N/A"},{"$error":"#N/A"},{"$error":"#N/A"},{"$error":"#N/A"},{"$error":"#N/A"},{"$error":"#N/A"},{"$error":"#N/A"},{"$error":"#N/A"},{"$error":"#N/A"},{"$error":"#N/A"},{"$error":"#N/A"},{"$error":"#N/A"},{"$error":"#N/A"},{"$error":"#N/A"},{"$error":"#N/A"},{"$error":"#N/A"},{"$error":"#N/A"},{"$error":"#N/A"},{"$error":"#N/A"},{"$error":"#N/A"},{"$error":"#N/A"},{"$error":"#N/A"},{"$error":"#N/A"},{"$error":"#N/A"},{"$error":"#N/A"},{"$error":"#N/A"},{"$error":"#N/A"},{"$error":"#N/A"},{"$error":"#N/A"},{"$error":"#N/A"},{"$error":"#N/A"},{"$error":"#N/A"},{"$error":"#N/A"},{"$error":"#N/A"},{"$error":"#N/A"},{"$error":"#N/A"},{"$error":"#N/A"},{"$error":"#N/A"},{"$error":"#N/A"},{"$error":"#N/A"},{"$error":"#N/A"},{"$error":"#N/A"},{"$error":"#N/A"},{"$error":"#N/A"},{"$error":"#N/A"},{"$error":"#N/A"},{"$error":"#N/A"},{"$error":"#N/A"},{"$error":"#N/A"},{"$error":"#N/A"},{"$error":"#N/A"},{"$error":"#N/A"},{"$f":"JH62*JH44","v":{"$error":"#N/A"}},{"$error":"#N/A"},{"$error":"#N/A"},{"$error":"#N/A"},{"$error":"#N/A"},{"$error":"#N/A"},{"$error":"#N/A"},{"$error":"#N/A"},{"$error":"#N/A"},{"$error":"#N/A"},{"$error":"#N/A"},{"$error":"#N/A"},{"$error":"#N/A"},{"$error":"#N/A"},{"$error":"#N/A"},{"$error":"#N/A"},{"$error":"#N/A"},{"$error":"#N/A"},{"$error":"#N/A"},{"$error":"#N/A"},{"$error":"#N/A"},{"$error":"#N/A"},{"$error":"#N/A"},{"$error":"#N/A"},{"$error":"#N/A"},{"$error":"#N/A"},{"$error":"#N/A"},{"$error":"#N/A"},{"$error":"#N/A"},{"$error":"#N/A"},{"$error":"#N/A"},{"$error":"#N/A"},{"$error":"#N/A"},{"$error":"#N/A"},{"$error":"#N/A"},{"$error":"#N/A"},{"$error":"#N/A"},{"$error":"#N/A"},{"$error":"#N/A"},{"$error":"#N/A"},{"$error":"#N/A"},{"$error":"#N/A"},{"$error":"#N/A"},{"$error":"#N/A"},{"$error":"#N/A"},{"$error":"#N/A"},{"$error":"#N/A"},{"$error":"#N/A"},{"$error":"#N/A"},{"$error":"#N/A"},{"$error":"#N/A"},{"$error":"#N/A"},{"$error":"#N/A"},{"$error":"#N/A"},{"$error":"#N/A"},{"$error":"#N/A"},{"$error":"#N/A"},{"$error":"#N/A"},{"$error":"#N/A"},{"$error":"#N/A"},{"$error":"#N/A"},{"$error":"#N/A"},{"$error":"#N/A"},{"$error":"#N/A"},{"$f":"LT62*LT44","v":{"$error":"#N/A"}},{"$error":"#N/A"},{"$error":"#N/A"},{"$error":"#N/A"},{"$error":"#N/A"},{"$error":"#N/A"},{"$error":"#N/A"},{"$error":"#N/A"},{"$error":"#N/A"},{"$error":"#N/A"},{"$error":"#N/A"},{"$error":"#N/A"},{"$error":"#N/A"},{"$error":"#N/A"},{"$error":"#N/A"},{"$error":"#N/A"},{"$error":"#N/A"},{"$error":"#N/A"},{"$error":"#N/A"},{"$error":"#N/A"},{"$error":"#N/A"},{"$error":"#N/A"},{"$error":"#N/A"},{"$error":"#N/A"},{"$error":"#N/A"},{"$error":"#N/A"},{"$error":"#N/A"},{"$error":"#N/A"},{"$error":"#N/A"},{"$error":"#N/A"},{"$error":"#N/A"},{"$error":"#N/A"},{"$error":"#N/A"},{"$error":"#N/A"},{"$error":"#N/A"},{"$error":"#N/A"},{"$error":"#N/A"},{"$error":"#N/A"},{"$error":"#N/A"},{"$error":"#N/A"},{"$error":"#N/A"},{"$error":"#N/A"},{"$error":"#N/A"},{"$error":"#N/A"},{"$error":"#N/A"},{"$error":"#N/A"},{"$error":"#N/A"},{"$error":"#N/A"},{"$error":"#N/A"},{"$error":"#N/A"},{"$error":"#N/A"},{"$error":"#N/A"},{"$error":"#N/A"},{"$error":"#N/A"},{"$error":"#N/A"},{"$error":"#N/A"},{"$error":"#N/A"},{"$error":"#N/A"},{"$error":"#N/A"},{"$error":"#N/A"},{"$error":"#N/A"},{"$error":"#N/A"},{"$error":"#N/A"},{"$error":"#N/A"},{"$f":"OF62*OF44","v":{"$error":"#N/A"}},{"$error":"#N/A"},{"$error":"#N/A"},{"$error":"#N/A"},{"$error":"#N/A"},{"$error":"#N/A"},{"$error":"#N/A"},{"$error":"#N/A"},{"$error":"#N/A"},{"$error":"#N/A"},{"$error":"#N/A"},{"$error":"#N/A"},{"$error":"#N/A"},{"$error":"#N/A"},{"$error":"#N/A"},{"$error":"#N/A"},{"$error":"#N/A"},{"$error":"#N/A"},{"$error":"#N/A"},{"$error":"#N/A"},{"$error":"#N/A"},{"$error":"#N/A"},{"$error":"#N/A"},{"$error":"#N/A"},{"$error":"#N/A"},{"$error":"#N/A"},{"$error":"#N/A"},{"$error":"#N/A"},{"$error":"#N/A"},{"$error":"#N/A"},{"$error":"#N/A"},{"$error":"#N/A"},{"$error":"#N/A"},{"$error":"#N/A"},{"$error":"#N/A"},{"$error":"#N/A"},{"$error":"#N/A"},{"$error":"#N/A"},{"$error":"#N/A"},{"$error":"#N/A"},{"$error":"#N/A"},{"$error":"#N/A"},{"$error":"#N/A"},{"$error":"#N/A"},{"$error":"#N/A"},{"$error":"#N/A"},{"$error":"#N/A"},{"$error":"#N/A"},{"$error":"#N/A"},{"$error":"#N/A"},{"$error":"#N/A"},{"$error":"#N/A"},{"$error":"#N/A"},{"$error":"#N/A"},{"$error":"#N/A"},{"$error":"#N/A"},{"$error":"#N/A"},{"$error":"#N/A"},{"$error":"#N/A"},{"$error":"#N/A"},{"$error":"#N/A"},{"$error":"#N/A"},{"$error":"#N/A"},{"$error":"#N/A"},{"$f":"QR62*QR44","v":{"$error":"#N/A"}},{"$error":"#N/A"},{"$error":"#N/A"},{"$error":"#N/A"},{"$error":"#N/A"},{"$error":"#N/A"},{"$error":"#N/A"},{"$error":"#N/A"},{"$error":"#N/A"},{"$error":"#N/A"},{"$error":"#N/A"},{"$error":"#N/A"},{"$error":"#N/A"},{"$error":"#N/A"},{"$error":"#N/A"},{"$error":"#N/A"},{"$error":"#N/A"},{"$error":"#N/A"},{"$error":"#N/A"},{"$error":"#N/A"},{"$error":"#N/A"},{"$error":"#N/A"},{"$error":"#N/A"},{"$error":"#N/A"},{"$error":"#N/A"},{"$error":"#N/A"},{"$error":"#N/A"},{"$error":"#N/A"},{"$error":"#N/A"},{"$error":"#N/A"},{"$error":"#N/A"},{"$error":"#N/A"},{"$error":"#N/A"},{"$error":"#N/A"},{"$error":"#N/A"},{"$error":"#N/A"},{"$error":"#N/A"},{"$error":"#N/A"},{"$error":"#N/A"},{"$error":"#N/A"},{"$error":"#N/A"},{"$error":"#N/A"},{"$error":"#N/A"},{"$error":"#N/A"},{"$error":"#N/A"},{"$error":"#N/A"},{"$error":"#N/A"},{"$error":"#N/A"},{"$error":"#N/A"},{"$error":"#N/A"},{"$error":"#N/A"},{"$error":"#N/A"}]
[]
[null,null,null,{"$f":"'InputC - Operations'!D47","v":"Insurance During Operation"},{"$f":"'InputC - Operations'!E47","v":4},null,{"$f":"'InputC - Operations'!F47","v":"USD/kWp-yr"},null,null,null,null,{"$f":"$E$65*L7","v":0},0,0,0,0,0,0,0,0,0,0,0,0,0,0,0,0,0,0,0,0,0,0,0,0,0,0,0,0,0,0,0,0,0,0,0,0,0,0,0,0,0,0,0,0,0,0,0,0,0,0,0,0,0,0,0,0,0,0,0,0,0,0,0,{"$f":"$E$65*BX7","v":0},0,0,0,0,0,0,0,0,0,0,0,0,0,0,0,0,0,0,0,0,0,0,0,0,0,0,0,0,0,0,0,0,0,0,0,0,0,0,0,0,0,0,0,0,0,0,0,0,0,0,0,0,0,0,0,0,0,0,0,0,0,0,0,{"$f":"$E$65*EJ7","v":0},0,0,0,0,0,0,0,0,0,0,0,0,0,0,0,0,0,0,0,0,0,0,0,0,0,0,0,0,0,0,0,0,0,0,0,0,0,0,0,0,0,0,0,0,0,0,0,0,0,0,0,0,0,0,0,0,0,0,0,0,0,0,0,{"$f":"$E$65*GV7","v":0},0,0,0,0,0,0,0,0,0,0,0,0,0,0,0,0,0,0,0,0,0,0,0,0,0,0,0,0,0,0,0,0,0,0,0,0,0,0,0,0,0,0,0,0,0,0,0,0,0,0,0,0,0,0,0,0,0,0,0,0,0,0,0,{"$f":"$E$65*JH7","v":0},0,0,0,0,0,0,0,0,0,0,0,0,0,0,0,0,0,0,0,0,0,0,0,0,0,0,0,0,0,0,0,0,0,0,0,0,0,0,0,0,0,0,0,0,0,0,0,0,0,0,0,0,0,0,0,0,0,0,0,0,0,0,0,{"$f":"$E$65*LT7","v":0},0,0,0,0,0,0,0,0,0,0,0,0,0,0,0,0,0,0,0,0,0,0,0,0,0,0,0,0,0,0,0,0,0,0,0,0,0,0,0,0,0,0,0,0,0,0,0,0,0,0,0,0,0,0,0,0,0,0,0,0,0,0,0,{"$f":"$E$65*OF7","v":0},0,0,0,0,0,0,0,0,0,0,0,0,0,0,0,0,0,0,0,0,0,0,0,0,0,0,0,0,0,0,0,0,0,0,0,0,0,0,0,0,0,0,0,0,0,0,0,0,0,0,0,0,0,0,0,0,0,0,0,0,0,0,0,{"$f":"$E$65*QR7","v":0},0,0,0,0,0,0,0,0,0,0,0,0,0,0,0,0,0,0,0,0,0,0,0,0,0,0,0,0,0,0,0,0,0,0,0,0,0,0,0,0,0,0,0,0,0,0,0,0,0,0,0]
[null,null,null,{"$f":"D65","v":"Insurance During Operation"},null,null,"USD/kWp-mo",null,null,null,null,{"$f":"L65/Months","v":0},0,0,0,0,0,0,0,0,0,0,0,0,0,0,0,0,0,0,0,0,0,0,0,0,0,0,0,0,0,0,0,0,0,0,0,0,0,0,0,0,0,0,0,0,0,0,0,0,0,0,0,0,0,0,0,0,0,0,0,0,0,0,0,{"$f":"BX65/Months","v":0},0,0,0,0,0,0,0,0,0,0,0,0,0,0,0,0,0,0,0,0,0,0,0,0,0,0,0,0,0,0,0,0,0,0,0,0,0,0,0,0,0,0,0,0,0,0,0,0,0,0,0,0,0,0,0,0,0,0,0,0,0,0,0,{"$f":"EJ65/Months","v":0},0,0,0,0,0,0,0,0,0,0,0,0,0,0,0,0,0,0,0,0,0,0,0,0,0,0,0,0,0,0,0,0,0,0,0,0,0,0,0,0,0,0,0,0,0,0,0,0,0,0,0,0,0,0,0,0,0,0,0,0,0,0,0,{"$f":"GV65/Months","v":0},0,0,0,0,0,0,0,0,0,0,0,0,0,0,0,0,0,0,0,0,0,0,0,0,0,0,0,0,0,0,0,0,0,0,0,0,0,0,0,0,0,0,0,0,0,0,0,0,0,0,0,0,0,0,0,0,0,0,0,0,0,0,0,{"$f":"JH65/Months","v":0},0,0,0,0,0,0,0,0,0,0,0,0,0,0,0,0,0,0,0,0,0,0,0,0,0,0,0,0,0,0,0,0,0,0,0,0,0,0,0,0,0,0,0,0,0,0,0,0,0,0,0,0,0,0,0,0,0,0,0,0,0,0,0,{"$f":"LT65/Months","v":0},0,0,0,0,0,0,0,0,0,0,0,0,0,0,0,0,0,0,0,0,0,0,0,0,0,0,0,0,0,0,0,0,0,0,0,0,0,0,0,0,0,0,0,0,0,0,0,0,0,0,0,0,0,0,0,0,0,0,0,0,0,0,0,{"$f":"OF65/Months","v":0},0,0,0,0,0,0,0,0,0,0,0,0,0,0,0,0,0,0,0,0,0,0,0,0,0,0,0,0,0,0,0,0,0,0,0,0,0,0,0,0,0,0,0,0,0,0,0,0,0,0,0,0,0,0,0,0,0,0,0,0,0,0,0,{"$f":"QR65/Months","v":0},0,0,0,0,0,0,0,0,0,0,0,0,0,0,0,0,0,0,0,0,0,0,0,0,0,0,0,0,0,0,0,0,0,0,0,0,0,0,0,0,0,0,0,0,0,0,0,0,0,0,0]
[null,null,null,"Insurance During Operation ",null,null,"USD",null,null,null,null,{"$f":"L66*L18","v":0},0,0,0,0,0,0,0,0,0,0,0,0,0,0,0,0,0,0,0,0,0,0,0,0,0,0,0,0,0,0,0,0,0,0,0,0,0,0,0,0,0,0,0,0,0,0,0,0,0,0,0,0,0,0,0,0,0,0,0,0,0,0,0,{"$f":"BX66*BX18","v":0},0,0,0,0,0,0,0,0,0,0,0,0,0,0,0,0,0,0,0,0,0,0,0,0,0,0,0,0,0,0,0,0,0,0,0,0,0,0,0,0,0,0,0,0,0,0,0,0,0,0,0,0,0,0,0,0,0,0,0,0,0,0,0,{"$f":"EJ66*EJ18","v":0},0,0,0,0,0,0,0,0,0,0,0,0,0,0,0,0,0,0,0,0,0,0,0,0,0,0,0,0,0,0,0,0,0,0,0,0,0,0,0,0,0,0,0,0,0,0,0,0,0,0,0,0,0,0,0,0,0,0,0,0,0,0,0,{"$f":"GV66*GV18","v":0},0,0,0,0,0,0,0,0,0,0,0,0,0,0,0,0,0,0,0,0,0,0,0,0,0,0,0,0,0,0,0,0,0,0,0,0,0,0,0,0,0,0,0,0,0,0,0,0,0,0,0,0,0,0,0,0,0,0,0,0,0,0,0,{"$f":"JH66*JH18","v":0},0,0,0,0,0,0,0,0,0,0,0,0,0,0,0,0,0,0,0,0,0,0,0,0,0,0,0,0,0,0,0,0,0,0,0,0,0,0,0,0,0,0,0,0,0,0,0,0,0,0,0,0,0,0,0,0,0,0,0,0,0,0,0,{"$f":"LT66*LT18","v":0},0,0,0,0,0,0,0,0,0,0,0,0,0,0,0,0,0,0,0,0,0,0,0,0,0,0,0,0,0,0,0,0,0,0,0,0,0,0,0,0,0,0,0,0,0,0,0,0,0,0,0,0,0,0,0,0,0,0,0,0,0,0,0,{"$f":"OF66*OF18","v":0},0,0,0,0,0,0,0,0,0,0,0,0,0,0,0,0,0,0,0,0,0,0,0,0,0,0,0,0,0,0,0,0,0,0,0,0,0,0,0,0,0,0,0,0,0,0,0,0,0,0,0,0,0,0,0,0,0,0,0,0,0,0,0,{"$f":"QR66*QR18","v":0},0,0,0,0,0,0,0,0,0,0,0,0,0,0,0,0,0,0,0,0,0,0,0,0,0,0,0,0,0,0,0,0,0,0,0,0,0,0,0,0,0,0,0,0,0,0,0,0,0,0,0]
[]
[null,null,null,"Total O&M Expenses",null,null,"USD/Month",null,null,{"$f":"SUM(K69:XFD69)","v":{"$error":"#N/A"}},null,{"$f":"L67+L63+L56","v":{"$error":"#N/A"}},{"$error":"#N/A"},{"$error":"#N/A"},{"$error":"#N/A"},{"$error":"#N/A"},{"$error":"#N/A"},{"$error":"#N/A"},{"$error":"#N/A"},{"$error":"#N/A"},{"$error":"#N/A"},{"$error":"#N/A"},{"$error":"#N/A"},{"$error":"#N/A"},{"$error":"#N/A"},{"$error":"#N/A"},{"$error":"#N/A"},{"$error":"#N/A"},{"$error":"#N/A"},{"$error":"#N/A"},{"$error":"#N/A"},{"$error":"#N/A"},{"$error":"#N/A"},{"$error":"#N/A"},{"$error":"#N/A"},{"$error":"#N/A"},{"$error":"#N/A"},{"$error":"#N/A"},{"$error":"#N/A"},{"$error":"#N/A"},{"$error":"#N/A"},{"$error":"#N/A"},{"$error":"#N/A"},{"$error":"#N/A"},{"$error":"#N/A"},{"$error":"#N/A"},{"$error":"#N/A"},{"$error":"#N/A"},{"$error":"#N/A"},{"$error":"#N/A"},{"$error":"#N/A"},{"$error":"#N/A"},{"$error":"#N/A"},{"$error":"#N/A"},{"$error":"#N/A"},{"$error":"#N/A"},{"$error":"#N/A"},{"$error":"#N/A"},{"$error":"#N/A"},{"$error":"#N/A"},{"$error":"#N/A"},{"$error":"#N/A"},{"$error":"#N/A"},{"$error":"#N/A"},{"$error":"#N/A"},{"$error":"#N/A"},{"$error":"#N/A"},{"$error":"#N/A"},{"$error":"#N/A"},{"$error":"#N/A"},{"$error":"#N/A"},{"$error":"#N/A"},{"$error":"#N/A"},{"$error":"#N/A"},{"$error":"#N/A"},{"$f":"BX67+BX63+BX56","v":{"$error":"#N/A"}},{"$error":"#N/A"},{"$error":"#N/A"},{"$error":"#N/A"},{"$error":"#N/A"},{"$error":"#N/A"},{"$error":"#N/A"},{"$error":"#N/A"},{"$error":"#N/A"},{"$error":"#N/A"},{"$error":"#N/A"},{"$error":"#N/A"},{"$error":"#N/A"},{"$error":"#N/A"},{"$error":"#N/A"},{"$error":"#N/A"},{"$error":"#N/A"},{"$error":"#N/A"},{"$error":"#N/A"},{"$error":"#N/A"},{"$error":"#N/A"},{"$error":"#N/A"},{"$error":"#N/A"},{"$error":"#N/A"},{"$error":"#N/A"},{"$error":"#N/A"},{"$error":"#N/A"},{"$error":"#N/A"},{"$error":"#N/A"},{"$error":"#N/A"},{"$error":"#N/A"},{"$error":"#N/A"},{"$error":"#N/A"},{"$error":"#N/A"},{"$error":"#N/A"},{"$error":"#N/A"},{"$error":"#N/A"},{"$error":"#N/A"},{"$error":"#N/A"},{"$error":"#N/A"},{"$error":"#N/A"},{"$error":"#N/A"},{"$error":"#N/A"},{"$error":"#N/A"},{"$error":"#N/A"},{"$error":"#N/A"},{"$error":"#N/A"},{"$error":"#N/A"},{"$error":"#N/A"},{"$error":"#N/A"},{"$error":"#N/A"},{"$error":"#N/A"},{"$error":"#N/A"},{"$error":"#N/A"},{"$error":"#N/A"},{"$error":"#N/A"},{"$error":"#N/A"},{"$error":"#N/A"},{"$error":"#N/A"},{"$error":"#N/A"},{"$error":"#N/A"},{"$error":"#N/A"},{"$error":"#N/A"},{"$error":"#N/A"},{"$f":"EJ67+EJ63+EJ56","v":{"$error":"#N/A"}},{"$error":"#N/A"},{"$error":"#N/A"},{"$error":"#N/A"},{"$error":"#N/A"},{"$error":"#N/A"},{"$error":"#N/A"},{"$error":"#N/A"},{"$error":"#N/A"},{"$error":"#N/A"},{"$error":"#N/A"},{"$error":"#N/A"},{"$error":"#N/A"},{"$error":"#N/A"},{"$error":"#N/A"},{"$error":"#N/A"},{"$error":"#N/A"},{"$error":"#N/A"},{"$error":"#N/A"},{"$error":"#N/A"},{"$error":"#N/A"},{"$error":"#N/A"},{"$error":"#N/A"},{"$error":"#N/A"},{"$error":"#N/A"},{"$error":"#N/A"},{"$error":"#N/A"},{"$error":"#N/A"},{"$error":"#N/A"},{"$error":"#N/A"},{"$error":"#N/A"},{"$error":"#N/A"},{"$error":"#N/A"},{"$error":"#N/A"},{"$error":"#N/A"},{"$error":"#N/A"},{"$error":"#N/A"},{"$error":"#N/A"},{"$error":"#N/A"},{"$error":"#N/A"},{"$error":"#N/A"},{"$error":"#N/A"},{"$error":"#N/A"},{"$error":"#N/A"},{"$error":"#N/A"},{"$error":"#N/A"},{"$error":"#N/A"},{"$error":"#N/A"},{"$error":"#N/A"},{"$error":"#N/A"},{"$error":"#N/A"},{"$error":"#N/A"},{"$error":"#N/A"},{"$error":"#N/A"},{"$error":"#N/A"},{"$error":"#N/A"},{"$error":"#N/A"},{"$error":"#N/A"},{"$error":"#N/A"},{"$error":"#N/A"},{"$error":"#N/A"},{"$error":"#N/A"},{"$error":"#N/A"},{"$error":"#N/A"},{"$f":"GV67+GV63+GV56","v":{"$error":"#N/A"}},{"$error":"#N/A"},{"$error":"#N/A"},{"$error":"#N/A"},{"$error":"#N/A"},{"$error":"#N/A"},{"$error":"#N/A"},{"$error":"#N/A"},{"$error":"#N/A"},{"$error":"#N/A"},{"$error":"#N/A"},{"$error":"#N/A"},{"$error":"#N/A"},{"$error":"#N/A"},{"$error":"#N/A"},{"$error":"#N/A"},{"$error":"#N/A"},{"$error":"#N/A"},{"$error":"#N/A"},{"$error":"#N/A"},{"$error":"#N/A"},{"$error":"#N/A"},{"$error":"#N/A"},{"$error":"#N/A"},{"$error":"#N/A"},{"$error":"#N/A"},{"$error":"#N/A"},{"$error":"#N/A"},{"$error":"#N/A"},{"$error":"#N/A"},{"$error":"#N/A"},{"$error":"#N/A"},{"$error":"#N/A"},{"$error":"#N/A"},{"$error":"#N/A"},{"$error":"#N/A"},{"$error":"#N/A"},{"$error":"#N/A"},{"$error":"#N/A"},{"$error":"#N/A"},{"$error":"#N/A"},{"$error":"#N/A"},{"$error":"#N/A"},{"$error":"#N/A"},{"$error":"#N/A"},{"$error":"#N/A"},{"$error":"#N/A"},{"$error":"#N/A"},{"$error":"#N/A"},{"$error":"#N/A"},{"$error":"#N/A"},{"$error":"#N/A"},{"$error":"#N/A"},{"$error":"#N/A"},{"$error":"#N/A"},{"$error":"#N/A"},{"$error":"#N/A"},{"$error":"#N/A"},{"$error":"#N/A"},{"$error":"#N/A"},{"$error":"#N/A"},{"$error":"#N/A"},{"$error":"#N/A"},{"$error":"#N/A"},{"$f":"JH67+JH63+JH56","v":{"$error":"#N/A"}},{"$error":"#N/A"},{"$error":"#N/A"},{"$error":"#N/A"},{"$error":"#N/A"},{"$error":"#N/A"},{"$error":"#N/A"},{"$error":"#N/A"},{"$error":"#N/A"},{"$error":"#N/A"},{"$error":"#N/A"},{"$error":"#N/A"},{"$error":"#N/A"},{"$error":"#N/A"},{"$error":"#N/A"},{"$error":"#N/A"},{"$error":"#N/A"},{"$error":"#N/A"},{"$error":"#N/A"},{"$error":"#N/A"},{"$error":"#N/A"},{"$error":"#N/A"},{"$error":"#N/A"},{"$error":"#N/A"},{"$error":"#N/A"},{"$error":"#N/A"},{"$error":"#N/A"},{"$error":"#N/A"},{"$error":"#N/A"},{"$error":"#N/A"},{"$error":"#N/A"},{"$error":"#N/A"},{"$error":"#N/A"},{"$error":"#N/A"},{"$error":"#N/A"},{"$error":"#N/A"},{"$error":"#N/A"},{"$error":"#N/A"},{"$error":"#N/A"},{"$error":"#N/A"},{"$error":"#N/A"},{"$error":"#N/A"},{"$error":"#N/A"},{"$error":"#N/A"},{"$error":"#N/A"},{"$error":"#N/A"},{"$error":"#N/A"},{"$error":"#N/A"},{"$error":"#N/A"},{"$error":"#N/A"},{"$error":"#N/A"},{"$error":"#N/A"},{"$error":"#N/A"},{"$error":"#N/A"},{"$error":"#N/A"},{"$error":"#N/A"},{"$error":"#N/A"},{"$error":"#N/A"},{"$error":"#N/A"},{"$error":"#N/A"},{"$error":"#N/A"},{"$error":"#N/A"},{"$error":"#N/A"},{"$error":"#N/A"},{"$f":"LT67+LT63+LT56","v":{"$error":"#N/A"}},{"$error":"#N/A"},{"$error":"#N/A"},{"$error":"#N/A"},{"$error":"#N/A"},{"$error":"#N/A"},{"$error":"#N/A"},{"$error":"#N/A"},{"$error":"#N/A"},{"$error":"#N/A"},{"$error":"#N/A"},{"$error":"#N/A"},{"$error":"#N/A"},{"$error":"#N/A"},{"$error":"#N/A"},{"$error":"#N/A"},{"$error":"#N/A"},{"$error":"#N/A"},{"$error":"#N/A"},{"$error":"#N/A"},{"$error":"#N/A"},{"$error":"#N/A"},{"$error":"#N/A"},{"$error":"#N/A"},{"$error":"#N/A"},{"$error":"#N/A"},{"$error":"#N/A"},{"$error":"#N/A"},{"$error":"#N/A"},{"$error":"#N/A"},{"$error":"#N/A"},{"$error":"#N/A"},{"$error":"#N/A"},{"$error":"#N/A"},{"$error":"#N/A"},{"$error":"#N/A"},{"$error":"#N/A"},{"$error":"#N/A"},{"$error":"#N/A"},{"$error":"#N/A"},{"$error":"#N/A"},{"$error":"#N/A"},{"$error":"#N/A"},{"$error":"#N/A"},{"$error":"#N/A"},{"$error":"#N/A"},{"$error":"#N/A"},{"$error":"#N/A"},{"$error":"#N/A"},{"$error":"#N/A"},{"$error":"#N/A"},{"$error":"#N/A"},{"$error":"#N/A"},{"$error":"#N/A"},{"$error":"#N/A"},{"$error":"#N/A"},{"$error":"#N/A"},{"$error":"#N/A"},{"$error":"#N/A"},{"$error":"#N/A"},{"$error":"#N/A"},{"$error":"#N/A"},{"$error":"#N/A"},{"$error":"#N/A"},{"$f":"OF67+OF63+OF56","v":{"$error":"#N/A"}},{"$error":"#N/A"},{"$error":"#N/A"},{"$error":"#N/A"},{"$error":"#N/A"},{"$error":"#N/A"},{"$error":"#N/A"},{"$error":"#N/A"},{"$error":"#N/A"},{"$error":"#N/A"},{"$error":"#N/A"},{"$error":"#N/A"},{"$error":"#N/A"},{"$error":"#N/A"},{"$error":"#N/A"},{"$error":"#N/A"},{"$error":"#N/A"},{"$error":"#N/A"},{"$error":"#N/A"},{"$error":"#N/A"},{"$error":"#N/A"},{"$error":"#N/A"},{"$error":"#N/A"},{"$error":"#N/A"},{"$error":"#N/A"},{"$error":"#N/A"},{"$error":"#N/A"},{"$error":"#N/A"},{"$error":"#N/A"},{"$error":"#N/A"},{"$error":"#N/A"},{"$error":"#N/A"},{"$error":"#N/A"},{"$error":"#N/A"},{"$error":"#N/A"},{"$error":"#N/A"},{"$error":"#N/A"},{"$error":"#N/A"},{"$error":"#N/A"},{"$error":"#N/A"},{"$error":"#N/A"},{"$error":"#N/A"},{"$error":"#N/A"},{"$error":"#N/A"},{"$error":"#N/A"},{"$error":"#N/A"},{"$error":"#N/A"},{"$error":"#N/A"},{"$error":"#N/A"},{"$error":"#N/A"},{"$error":"#N/A"},{"$error":"#N/A"},{"$error":"#N/A"},{"$error":"#N/A"},{"$error":"#N/A"},{"$error":"#N/A"},{"$error":"#N/A"},{"$error":"#N/A"},{"$error":"#N/A"},{"$error":"#N/A"},{"$error":"#N/A"},{"$error":"#N/A"},{"$error":"#N/A"},{"$error":"#N/A"},{"$f":"QR67+QR63+QR56","v":{"$error":"#N/A"}},{"$error":"#N/A"},{"$error":"#N/A"},{"$error":"#N/A"},{"$error":"#N/A"},{"$error":"#N/A"},{"$error":"#N/A"},{"$error":"#N/A"},{"$error":"#N/A"},{"$error":"#N/A"},{"$error":"#N/A"},{"$error":"#N/A"},{"$error":"#N/A"},{"$error":"#N/A"},{"$error":"#N/A"},{"$error":"#N/A"},{"$error":"#N/A"},{"$error":"#N/A"},{"$error":"#N/A"},{"$error":"#N/A"},{"$error":"#N/A"},{"$error":"#N/A"},{"$error":"#N/A"},{"$error":"#N/A"},{"$error":"#N/A"},{"$error":"#N/A"},{"$error":"#N/A"},{"$error":"#N/A"},{"$error":"#N/A"},{"$error":"#N/A"},{"$error":"#N/A"},{"$error":"#N/A"},{"$error":"#N/A"},{"$error":"#N/A"},{"$error":"#N/A"},{"$error":"#N/A"},{"$error":"#N/A"},{"$error":"#N/A"},{"$error":"#N/A"},{"$error":"#N/A"},{"$error":"#N/A"},{"$error":"#N/A"},{"$error":"#N/A"},{"$error":"#N/A"},{"$error":"#N/A"},{"$error":"#N/A"},{"$error":"#N/A"},{"$error":"#N/A"},{"$error":"#N/A"},{"$error":"#N/A"},{"$error":"#N/A"},{"$error":"#N/A"}]
[]
[null,null,null,"Total EBITDA",null,null,"USD/Month",null,null,{"$f":"SUM(K71:XFD71)","v":{"$error":"#N/A"}},null,{"$f":"L51-L69","v":{"$error":"#N/A"}},{"$f":"M51-M69","v":{"$error":"#N/A"}},{"$error":"#N/A"},{"$error":"#N/A"},{"$error":"#N/A"},{"$error":"#N/A"},{"$error":"#N/A"},{"$error":"#N/A"},{"$error":"#N/A"},{"$error":"#N/A"},{"$error":"#N/A"},{"$error":"#N/A"},{"$error":"#N/A"},{"$error":"#N/A"},{"$error":"#N/A"},{"$error":"#N/A"},{"$error":"#N/A"},{"$error":"#N/A"},{"$error":"#N/A"},{"$error":"#N/A"},{"$error":"#N/A"},{"$error":"#N/A"},{"$error":"#N/A"},{"$error":"#N/A"},{"$error":"#N/A"},{"$error":"#N/A"},{"$error":"#N/A"},{"$error":"#N/A"},{"$error":"#N/A"},{"$error":"#N/A"},{"$error":"#N/A"},{"$error":"#N/A"},{"$error":"#N/A"},{"$error":"#N/A"},{"$error":"#N/A"},{"$error":"#N/A"},{"$error":"#N/A"},{"$error":"#N/A"},{"$error":"#N/A"},{"$error":"#N/A"},{"$error":"#N/A"},{"$error":"#N/A"},{"$error":"#N/A"},{"$error":"#N/A"},{"$error":"#N/A"},{"$error":"#N/A"},{"$error":"#N/A"},{"$error":"#N/A"},{"$error":"#N/A"},{"$error":"#N/A"},{"$error":"#N/A"},{"$error":"#N/A"},{"$error":"#N/A"},{"$error":"#N/A"},{"$error":"#N/A"},{"$error":"#N/A"},{"$error":"#N/A"},{"$error":"#N/A"},{"$error":"#N/A"},{"$error":"#N/A"},{"$error":"#N/A"},{"$error":"#N/A"},{"$error":"#N/A"},{"$error":"#N/A"},{"$error":"#N/A"},{"$f":"BY51-BY69","v":{"$error":"#N/A"}},{"$error":"#N/A"},{"$error":"#N/A"},{"$error":"#N/A"},{"$error":"#N/A"},{"$error":"#N/A"},{"$error":"#N/A"},{"$error":"#N/A"},{"$error":"#N/A"},{"$error":"#N/A"},{"$error":"#N/A"},{"$error":"#N/A"},{"$error":"#N/A"},{"$error":"#N/A"},{"$error":"#N/A"},{"$error":"#N/A"},{"$error":"#N/A"},{"$error":"#N/A"},{"$error":"#N/A"},{"$error":"#N/A"},{"$error":"#N/A"},{"$error":"#N/A"},{"$error":"#N/A"},{"$error":"#N/A"},{"$error":"#N/A"},{"$error":"#N/A"},{"$error":"#N/A"},{"$error":"#N/A"},{"$error":"#N/A"},{"$error":"#N/A"},{"$error":"#N/A"},{"$error":"#N/A"},{"$error":"#N/A"},{"$error":"#N/A"},{"$error":"#N/A"},{"$error":"#N/A"},{"$error":"#N/A"},{"$error":"#N/A"},{"$error":"#N/A"},{"$error":"#N/A"},{"$error":"#N/A"},{"$error":"#N/A"},{"$error":"#N/A"},{"$error":"#N/A"},{"$error":"#N/A"},{"$error":"#N/A"},{"$error":"#N/A"},{"$error":"#N/A"},{"$error":"#N/A"},{"$error":"#N/A"},{"$error":"#N/A"},{"$error":"#N/A"},{"$error":"#N/A"},{"$error":"#N/A"},{"$error":"#N/A"},{"$error":"#N/A"},{"$error":"#N/A"},{"$error":"#N/A"},{"$error":"#N/A"},{"$error":"#N/A"},{"$error":"#N/A"},{"$error":"#N/A"},{"$error":"#N/A"},{"$error":"#N/A"},{"$f":"EK51-EK69","v":{"$error":"#N/A"}},{"$error":"#N/A"},{"$error":"#N/A"},{"$error":"#N/A"},{"$error":"#N/A"},{"$error":"#N/A"},{"$error":"#N/A"},{"$error":"#N/A"},{"$error":"#N/A"},{"$error":"#N/A"},{"$error":"#N/A"},{"$error":"#N/A"},{"$error":"#N/A"},{"$error":"#N/A"},{"$error":"#N/A"},{"$error":"#N/A"},{"$error":"#N/A"},{"$error":"#N/A"},{"$error":"#N/A"},{"$error":"#N/A"},{"$error":"#N/A"},{"$error":"#N/A"},{"$error":"#N/A"},{"$error":"#N/A"},{"$error":"#N/A"},{"$error":"#N/A"},{"$error":"#N/A"},{"$error":"#N/A"},{"$error":"#N/A"},{"$error":"#N/A"},{"$error":"#N/A"},{"$error":"#N/A"},{"$error":"#N/A"},{"$error":"#N/A"},{"$error":"#N/A"},{"$error":"#N/A"},{"$error":"#N/A"},{"$error":"#N/A"},{"$error":"#N/A"},{"$error":"#N/A"},{"$error":"#N/A"},{"$error":"#N/A"},{"$error":"#N/A"},{"$error":"#N/A"},{"$error":"#N/A"},{"$error":"#N/A"},{"$error":"#N/A"},{"$error":"#N/A"},{"$error":"#N/A"},{"$error":"#N/A"},{"$error":"#N/A"},{"$error":"#N/A"},{"$error":"#N/A"},{"$error":"#N/A"},{"$error":"#N/A"},{"$error":"#N/A"},{"$error":"#N/A"},{"$error":"#N/A"},{"$error":"#N/A"},{"$error":"#N/A"},{"$error":"#N/A"},{"$error":"#N/A"},{"$error":"#N/A"},{"$error":"#N/A"},{"$f":"GW51-GW69","v":{"$error":"#N/A"}},{"$error":"#N/A"},{"$error":"#N/A"},{"$error":"#N/A"},{"$error":"#N/A"},{"$error":"#N/A"},{"$error":"#N/A"},{"$error":"#N/A"},{"$error":"#N/A"},{"$error":"#N/A"},{"$error":"#N/A"},{"$error":"#N/A"},{"$error":"#N/A"},{"$error":"#N/A"},{"$error":"#N/A"},{"$error":"#N/A"},{"$error":"#N/A"},{"$error":"#N/A"},{"$error":"#N/A"},{"$error":"#N/A"},{"$error":"#N/A"},{"$error":"#N/A"},{"$error":"#N/A"},{"$error":"#N/A"},{"$error":"#N/A"},{"$error":"#N/A"},{"$error":"#N/A"},{"$error":"#N/A"},{"$error":"#N/A"},{"$error":"#N/A"},{"$error":"#N/A"},{"$error":"#N/A"},{"$error":"#N/A"},{"$error":"#N/A"},{"$error":"#N/A"},{"$error":"#N/A"},{"$error":"#N/A"},{"$error":"#N/A"},{"$error":"#N/A"},{"$error":"#N/A"},{"$error":"#N/A"},{"$error":"#N/A"},{"$error":"#N/A"},{"$error":"#N/A"},{"$error":"#N/A"},{"$error":"#N/A"},{"$error":"#N/A"},{"$error":"#N/A"},{"$error":"#N/A"},{"$error":"#N/A"},{"$error":"#N/A"},{"$error":"#N/A"},{"$error":"#N/A"},{"$error":"#N/A"},{"$error":"#N/A"},{"$error":"#N/A"},{"$error":"#N/A"},{"$error":"#N/A"},{"$error":"#N/A"},{"$error":"#N/A"},{"$error":"#N/A"},{"$error":"#N/A"},{"$error":"#N/A"},{"$error":"#N/A"},{"$f":"JI51-JI69","v":{"$error":"#N/A"}},{"$error":"#N/A"},{"$error":"#N/A"},{"$error":"#N/A"},{"$error":"#N/A"},{"$error":"#N/A"},{"$error":"#N/A"},{"$error":"#N/A"},{"$error":"#N/A"},{"$error":"#N/A"},{"$error":"#N/A"},{"$error":"#N/A"},{"$error":"#N/A"},{"$error":"#N/A"},{"$error":"#N/A"},{"$error":"#N/A"},{"$error":"#N/A"},{"$error":"#N/A"},{"$error":"#N/A"},{"$error":"#N/A"},{"$error":"#N/A"},{"$error":"#N/A"},{"$error":"#N/A"},{"$error":"#N/A"},{"$error":"#N/A"},{"$error":"#N/A"},{"$error":"#N/A"},{"$error":"#N/A"},{"$error":"#N/A"},{"$error":"#N/A"},{"$error":"#N/A"},{"$error":"#N/A"},{"$error":"#N/A"},{"$error":"#N/A"},{"$error":"#N/A"},{"$error":"#N/A"},{"$error":"#N/A"},{"$error":"#N/A"},{"$error":"#N/A"},{"$error":"#N/A"},{"$error":"#N/A"},{"$error":"#N/A"},{"$error":"#N/A"},{"$error":"#N/A"},{"$error":"#N/A"},{"$error":"#N/A"},{"$error":"#N/A"},{"$error":"#N/A"},{"$error":"#N/A"},{"$error":"#N/A"},{"$error":"#N/A"},{"$error":"#N/A"},{"$error":"#N/A"},{"$error":"#N/A"},{"$error":"#N/A"},{"$error":"#N/A"},{"$error":"#N/A"},{"$error":"#N/A"},{"$error":"#N/A"},{"$error":"#N/A"},{"$error":"#N/A"},{"$error":"#N/A"},{"$error":"#N/A"},{"$error":"#N/A"},{"$f":"LU51-LU69","v":{"$error":"#N/A"}},{"$error":"#N/A"},{"$error":"#N/A"},{"$error":"#N/A"},{"$error":"#N/A"},{"$error":"#N/A"},{"$error":"#N/A"},{"$error":"#N/A"},{"$error":"#N/A"},{"$error":"#N/A"},{"$error":"#N/A"},{"$error":"#N/A"},{"$error":"#N/A"},{"$error":"#N/A"},{"$error":"#N/A"},{"$error":"#N/A"},{"$error":"#N/A"},{"$error":"#N/A"},{"$error":"#N/A"},{"$error":"#N/A"},{"$error":"#N/A"},{"$error":"#N/A"},{"$error":"#N/A"},{"$error":"#N/A"},{"$error":"#N/A"},{"$error":"#N/A"},{"$error":"#N/A"},{"$error":"#N/A"},{"$error":"#N/A"},{"$error":"#N/A"},{"$error":"#N/A"},{"$error":"#N/A"},{"$error":"#N/A"},{"$error":"#N/A"},{"$error":"#N/A"},{"$error":"#N/A"},{"$error":"#N/A"},{"$error":"#N/A"},{"$error":"#N/A"},{"$error":"#N/A"},{"$error":"#N/A"},{"$error":"#N/A"},{"$error":"#N/A"},{"$error":"#N/A"},{"$error":"#N/A"},{"$error":"#N/A"},{"$error":"#N/A"},{"$error":"#N/A"},{"$error":"#N/A"},{"$error":"#N/A"},{"$error":"#N/A"},{"$error":"#N/A"},{"$error":"#N/A"},{"$error":"#N/A"},{"$error":"#N/A"},{"$error":"#N/A"},{"$error":"#N/A"},{"$error":"#N/A"},{"$error":"#N/A"},{"$error":"#N/A"},{"$error":"#N/A"},{"$error":"#N/A"},{"$error":"#N/A"},{"$error":"#N/A"},{"$f":"OG51-OG69","v":{"$error":"#N/A"}},{"$error":"#N/A"},{"$error":"#N/A"},{"$error":"#N/A"},{"$error":"#N/A"},{"$error":"#N/A"},{"$error":"#N/A"},{"$error":"#N/A"},{"$error":"#N/A"},{"$error":"#N/A"},{"$error":"#N/A"},{"$error":"#N/A"},{"$error":"#N/A"},{"$error":"#N/A"},{"$error":"#N/A"},{"$error":"#N/A"},{"$error":"#N/A"},{"$error":"#N/A"},{"$error":"#N/A"},{"$error":"#N/A"},{"$error":"#N/A"},{"$error":"#N/A"},{"$error":"#N/A"},{"$error":"#N/A"},{"$error":"#N/A"},{"$error":"#N/A"},{"$error":"#N/A"},{"$error":"#N/A"},{"$error":"#N/A"},{"$error":"#N/A"},{"$error":"#N/A"},{"$error":"#N/A"},{"$error":"#N/A"},{"$error":"#N/A"},{"$error":"#N/A"},{"$error":"#N/A"},{"$error":"#N/A"},{"$error":"#N/A"},{"$error":"#N/A"},{"$error":"#N/A"},{"$error":"#N/A"},{"$error":"#N/A"},{"$error":"#N/A"},{"$error":"#N/A"},{"$error":"#N/A"},{"$error":"#N/A"},{"$error":"#N/A"},{"$error":"#N/A"},{"$error":"#N/A"},{"$error":"#N/A"},{"$error":"#N/A"},{"$error":"#N/A"},{"$error":"#N/A"},{"$error":"#N/A"},{"$error":"#N/A"},{"$error":"#N/A"},{"$error":"#N/A"},{"$error":"#N/A"},{"$error":"#N/A"},{"$error":"#N/A"},{"$error":"#N/A"},{"$error":"#N/A"},{"$error":"#N/A"},{"$error":"#N/A"},{"$f":"QS51-QS69","v":{"$error":"#N/A"}},{"$error":"#N/A"},{"$error":"#N/A"},{"$error":"#N/A"},{"$error":"#N/A"},{"$error":"#N/A"},{"$error":"#N/A"},{"$error":"#N/A"},{"$error":"#N/A"},{"$error":"#N/A"},{"$error":"#N/A"},{"$error":"#N/A"},{"$error":"#N/A"},{"$error":"#N/A"},{"$error":"#N/A"},{"$error":"#N/A"},{"$error":"#N/A"},{"$error":"#N/A"},{"$error":"#N/A"},{"$error":"#N/A"},{"$error":"#N/A"},{"$error":"#N/A"},{"$error":"#N/A"},{"$error":"#N/A"},{"$error":"#N/A"},{"$error":"#N/A"},{"$error":"#N/A"},{"$error":"#N/A"},{"$error":"#N/A"},{"$error":"#N/A"},{"$error":"#N/A"},{"$error":"#N/A"},{"$error":"#N/A"},{"$error":"#N/A"},{"$error":"#N/A"},{"$error":"#N/A"},{"$error":"#N/A"},{"$error":"#N/A"},{"$error":"#N/A"},{"$error":"#N/A"},{"$error":"#N/A"},{"$error":"#N/A"},{"$error":"#N/A"},{"$error":"#N/A"},{"$error":"#N/A"},{"$error":"#N/A"},{"$error":"#N/A"},{"$error":"#N/A"},{"$error":"#N/A"},{"$error":"#N/A"},{"$error":"#N/A"}]
[]
[null,"Working Capital"]
[null,null,"Revenues"]
[null,null,null,"Revenue Booked",null,null,"USD/Month",null,null,null,null,{"$f":"L51","v":0},{"$f":"M51","v":0},0,0,0,0,0,0,0,0,0,0,0,0,0,0,0,0,0,0,0,0,0,0,0,0,0,0,0,0,0,0,0,0,0,0,0,0,0,0,0,0,0,0,0,0,0,0,0,0,0,0,0,0,0,0,0,0,0,0,0,0,0,0,0,{"$f":"BY51","v":0},0,0,0,0,0,0,0,0,0,0,0,0,0,0,0,0,0,0,0,0,0,0,0,0,0,0,0,0,0,0,0,0,0,0,0,0,0,0,0,0,0,0,0,0,0,0,0,0,0,0,0,0,0,0,0,0,0,0,0,0,0,0,0,{"$f":"EK51","v":0},0,0,0,0,0,0,0,0,0,0,0,0,0,0,0,0,0,0,0,0,0,0,0,0,0,0,0,0,0,0,0,0,0,0,0,0,0,0,0,0,0,0,0,0,0,0,0,0,0,0,0,0,0,0,0,0,0,0,0,0,0,0,0,{"$f":"GW51","v":0},0,0,0,0,0,0,0,0,0,0,0,0,0,0,0,0,0,0,0,0,0,0,0,0,0,0,0,0,0,0,0,0,0,0,0,0,0,0,0,0,0,0,0,0,0,0,0,0,0,0,0,0,0,0,0,0,0,0,0,0,0,0,0,{"$f":"JI51","v":0},0,0,0,0,0,0,0,0,0,0,0,0,0,0,0,0,0,0,0,0,0,0,0,0,0,0,0,0,0,0,0,0,0,0,0,0,0,0,0,0,0,0,0,0,0,0,0,0,0,0,0,0,0,0,0,0,0,0,0,0,0,0,0,{"$f":"LU51","v":0},0,0,0,0,0,0,0,0,0,0,0,0,0,0,0,0,0,0,0,0,0,0,0,0,0,0,0,0,0,0,0,0,0,0,0,0,0,0,0,0,0,0,0,0,0,0,0,0,0,0,0,0,0,0,0,0,0,0,0,0,0,0,0,{"$f":"OG51","v":0},0,0,0,0,0,0,0,0,0,0,0,0,0,0,0,0,0,0,0,0,0,0,0,0,0,0,0,0,0,0,0,0,0,0,0,0,0,0,0,0,0,0,0,0,0,0,0,0,0,0,0,0,0,0,0,0,0,0,0,0,0,0,0,{"$f":"QS51","v":0},0,0,0,0,0,0,0,0,0,0,0,0,0,0,0,0,0,0,0,0,0,0,0,0,0,0,0,0,0,0,0,0,0,0,0,0,0,0,0,0,0,0,0,0,0,0,0,0,0,0]
[null,null,null,"Revenue Months in Arrears",{"$f":"'InputC - Operations'!E37","v":2},null,{"$f":"'InputC - Operations'!F37","v":"Months"},null,null,null,null,{"$f":"$E$76","v":2},{"$f":"$E$76","v":2},2,2,2,2,2,2,2,2,2,2,2,2,2,2,2,2,2,2,2,2,2,2,2,2,2,2,2,2,2,2,2,2,2,2,2,2,2,2,2,2,2,2,2,2,2,2,2,2,2,2,2,2,2,2,2,2,2,2,2,2,2,2,2,{"$f":"$E$76","v":2},2,2,2,2,2,2,2,2,2,2,2,2,2,2,2,2,2,2,2,2,2,2,2,2,2,2,2,2,2,2,2,2,2,2,2,2,2,2,2,2,2,2,2,2,2,2,2,2,2,2,2,2,2,2,2,2,2,2,2,2,2,2,2,{"$f":"$E$76","v":2},2,2,2,2,2,2,2,2,2,2,2,2,2,2,2,2,2,2,2,2,2,2,2,2,2,2,2,2,2,2,2,2,2,2,2,2,2,2,2,2,2,2,2,2,2,2,2,2,2,2,2,2,2,2,2,2,2,2,2,2,2,2,2,{"$f":"$E$76","v":2},2,2,2,2,2,2,2,2,2,2,2,2,2,2,2,2,2,2,2,2,2,2,2,2,2,2,2,2,2,2,2,2,2,2,2,2,2,2,2,2,2,2,2,2,2,2,2,2,2,2,2,2,2,2,2,2,2,2,2,2,2,2,2,{"$f":"$E$76","v":2},2,2,2,2,2,2,2,2,2,2,2,2,2,2,2,2,2,2,2,2,2,2,2,2,2,2,2,2,2,2,2,2,2,2,2,2,2,2,2,2,2,2,2,2,2,2,2,2,2,2,2,2,2,2,2,2,2,2,2,2,2,2,2,{"$f":"$E$76","v":2},2,2,2,2,2,2,2,2,2,2,2,2,2,2,2,2,2,2,2,2,2,2,2,2,2,2,2,2,2,2,2,2,2,2,2,2,2,2,2,2,2,2,2,2,2,2,2,2,2,2,2,2,2,2,2,2,2,2,2,2,2,2,2,{"$f":"$E$76","v":2},2,2,2,2,2,2,2,2,2,2,2,2,2,2,2,2,2,2,2,2,2,2,2,2,2,2,2,2,2,2,2,2,2,2,2,2,2,2,2,2,2,2,2,2,2,2,2,2,2,2,2,2,2,2,2,2,2,2,2,2,2,2,2,{"$f":"$E$76","v":2},2,2,2,2,2,2,2,2,2,2,2,2,2,2,2,2,2,2,2,2,2,2,2,2,2,2,2,2,2,2,2,2,2,2,2,2,2,2,2,2,2,2,2,2,2,2,2,2,2,2]
[null,null,null,"Revenues Collected",null,null,"USD/Month",null,null,null,null,{"$f":"OFFSET(L75,0,-L76)","v":0},{"$f":"OFFSET(M75,0,-M76)","v":0},0,0,0,0,0,0,0,0,0,0,0,0,0,0,0,0,0,0,0,0,0,0,0,0,0,0,0,0,0,0,0,0,0,0,0,0,0,0,0,0,0,0,0,0,0,0,0,0,0,0,0,0,0,0,0,0,0,0,0,0,0,0,0,{"$f":"OFFSET(BY75,0,-BY76)","v":0},0,0,0,0,0,0,0,0,0,0,0,0,0,0,0,0,0,0,0,0,0,0,0,0,0,0,0,0,0,0,0,0,0,0,0,0,0,0,0,0,0,0,0,0,0,0,0,0,0,0,0,0,0,0,0,0,0,0,0,0,0,0,0,{"$f":"OFFSET(EK75,0,-EK76)","v":0},0,0,0,0,0,0,0,0,0,0,0,0,0,0,0,0,0,0,0,0,0,0,0,0,0,0,0,0,0,0,0,0,0,0,0,0,0,0,0,0,0,0,0,0,0,0,0,0,0,0,0,0,0,0,0,0,0,0,0,0,0,0,0,{"$f":"OFFSET(GW75,0,-GW76)","v":0},0,0,0,0,0,0,0,0,0,0,0,0,0,0,0,0,0,0,0,0,0,0,0,0,0,0,0,0,0,0,0,0,0,0,0,0,0,0,0,0,0,0,0,0,0,0,0,0,0,0,0,0,0,0,0,0,0,0,0,0,0,0,0,{"$f":"OFFSET(JI75,0,-JI76)","v":0},0,0,0,0,0,0,0,0,0,0,0,0,0,0,0,0,0,0,0,0,0,0,0,0,0,0,0,0,0,0,0,0,0,0,0,0,0,0,0,0,0,0,0,0,0,0,0,0,0,0,0,0,0,0,0,0,0,0,0,0,0,0,0,{"$f":"OFFSET(LU75,0,-LU76)","v":0},0,0,0,0,0,0,0,0,0,0,0,0,0,0,0,0,0,0,0,0,0,0,0,0,0,0,0,0,0,0,0,0,0,0,0,0,0,0,0,0,0,0,0,0,0,0,0,0,0,0,0,0,0,0,0,0,0,0,0,0,0,0,0,{"$f":"OFFSET(OG75,0,-OG76)","v":0},0,0,0,0,0,0,0,0,0,0,0,0,0,0,0,0,0,0,0,0,0,0,0,0,0,0,0,0,0,0,0,0,0,0,0,0,0,0,0,0,0,0,0,0,0,0,0,0,0,0,0,0,0,0,0,0,0,0,0,0,0,0,0,{"$f":"OFFSET(QS75,0,-QS76)","v":0},0,0,0,0,0,0,0,0,0,0,0,0,0,0,0,0,0,0,0,0,0,0,0,0,0,0,0,0,0,0,0,0,0,0,0,0,0,0,0,0,0,0,0,0,0,0,0,0,0,0]
[]
[null,null,null,"A/R Balance - BF",null,null,"USD",null,null,null,null,{"$f":"K82","v":0},{"$f":"L82","v":0},0,0,0,0,0,0,0,0,0,0,0,0,0,0,0,0,0,0,0,0,0,0,0,0,0,0,0,0,0,0,0,0,0,0,0,0,0,0,0,0,0,0,0,0,0,0,0,0,0,0,0,0,0,0,0,0,0,0,0,0,0,0,0,{"$f":"BX82","v":0},0,0,0,0,0,0,0,0,0,0,0,0,0,0,0,0,0,0,0,0,0,0,0,0,0,0,0,0,0,0,0,0,0,0,0,0,0,0,0,0,0,0,0,0,0,0,0,0,0,0,0,0,0,0,0,0,0,0,0,0,0,0,0,{"$f":"EJ82","v":0},0,0,0,0,0,0,0,0,0,0,0,0,0,0,0,0,0,0,0,0,0,0,0,0,0,0,0,0,0,0,0,0,0,0,0,0,0,0,0,0,0,0,0,0,0,0,0,0,0,0,0,0,0,0,0,0,0,0,0,0,0,0,0,{"$f":"GV82","v":0},0,0,0,0,0,0,0,0,0,0,0,0,0,0,0,0,0,0,0,0,0,0,0,0,0,0,0,0,0,0,0,0,0,0,0,0,0,0,0,0,0,0,0,0,0,0,0,0,0,0,0,0,0,0,0,0,0,0,0,0,0,0,0,{"$f":"JH82","v":0},0,0,0,0,0,0,0,0,0,0,0,0,0,0,0,0,0,0,0,0,0,0,0,0,0,0,0,0,0,0,0,0,0,0,0,0,0,0,0,0,0,0,0,0,0,0,0,0,0,0,0,0,0,0,0,0,0,0,0,0,0,0,0,{"$f":"LT82","v":0},0,0,0,0,0,0,0,0,0,0,0,0,0,0,0,0,0,0,0,0,0,0,0,0,0,0,0,0,0,0,0,0,0,0,0,0,0,0,0,0,0,0,0,0,0,0,0,0,0,0,0,0,0,0,0,0,0,0,0,0,0,0,0,{"$f":"OF82","v":0},0,0,0,0,0,0,0,0,0,0,0,0,0,0,0,0,0,0,0,0,0,0,0,0,0,0,0,0,0,0,0,0,0,0,0,0,0,0,0,0,0,0,0,0,0,0,0,0,0,0,0,0,0,0,0,0,0,0,0,0,0,0,0,{"$f":"QR82","v":0},0,0,0,0,0,0,0,0,0,0,0,0,0,0,0,0,0,0,0,0,0,0,0,0,0,0,0,0,0,0,0,0,0,0,0,0,0,0,0,0,0,0,0,0,0,0,0,0,0,0]
[null,null,null,"Add: Revenues Booked",null,null,"USD",null,null,null,null,{"$f":"L75","v":0},{"$f":"M75","v":0},0,0,0,0,0,0,0,0,0,0,0,0,0,0,0,0,0,0,0,0,0,0,0,0,0,0,0,0,0,0,0,0,0,0,0,0,0,0,0,0,0,0,0,0,0,0,0,0,0,0,0,0,0,0,0,0,0,0,0,0,0,0,0,{"$f":"BY75","v":0},0,0,0,0,0,0,0,0,0,0,0,0,0,0,0,0,0,0,0,0,0,0,0,0,0,0,0,0,0,0,0,0,0,0,0,0,0,0,0,0,0,0,0,0,0,0,0,0,0,0,0,0,0,0,0,0,0,0,0,0,0,0,0,{"$f":"EK75","v":0},0,0,0,0,0,0,0,0,0,0,0,0,0,0,0,0,0,0,0,0,0,0,0,0,0,0,0,0,0,0,0,0,0,0,0,0,0,0,0,0,0,0,0,0,0,0,0,0,0,0,0,0,0,0,0,0,0,0,0,0,0,0,0,{"$f":"GW75","v":0},0,0,0,0,0,0,0,0,0,0,0,0,0,0,0,0,0,0,0,0,0,0,0,0,0,0,0,0,0,0,0,0,0,0,0,0,0,0,0,0,0,0,0,0,0,0,0,0,0,0,0,0,0,0,0,0,0,0,0,0,0,0,0,{"$f":"JI75","v":0},0,0,0,0,0,0,0,0,0,0,0,0,0,0,0,0,0,0,0,0,0,0,0,0,0,0,0,0,0,0,0,0,0,0,0,0,0,0,0,0,0,0,0,0,0,0,0,0,0,0,0,0,0,0,0,0,0,0,0,0,0,0,0,{"$f":"LU75","v":0},0,0,0,0,0,0,0,0,0,0,0,0,0,0,0,0,0,0,0,0,0,0,0,0,0,0,0,0,0,0,0,0,0,0,0,0,0,0,0,0,0,0,0,0,0,0,0,0,0,0,0,0,0,0,0,0,0,0,0,0,0,0,0,{"$f":"OG75","v":0},0,0,0,0,0,0,0,0,0,0,0,0,0,0,0,0,0,0,0,0,0,0,0,0,0,0,0,0,0,0,0,0,0,0,0,0,0,0,0,0,0,0,0,0,0,0,0,0,0,0,0,0,0,0,0,0,0,0,0,0,0,0,0,{"$f":"QS75","v":0},0,0,0,0,0,0,0,0,0,0,0,0,0,0,0,0,0,0,0,0,0,0,0,0,0,0,0,0,0,0,0,0,0,0,0,0,0,0,0,0,0,0,0,0,0,0,0,0,0,0]
[null,null,null,"Less: Revenues Collected",null,null,"USD",null,null,null,null,{"$f":"L77","v":0},{"$f":"M77","v":0},0,0,0,0,0,0,0,0,0,0,0,0,0,0,0,0,0,0,0,0,0,0,0,0,0,0,0,0,0,0,0,0,0,0,0,0,0,0,0,0,0,0,0,0,0,0,0,0,0,0,0,0,0,0,0,0,0,0,0,0,0,0,0,{"$f":"BY77","v":0},0,0,0,0,0,0,0,0,0,0,0,0,0,0,0,0,0,0,0,0,0,0,0,0,0,0,0,0,0,0,0,0,0,0,0,0,0,0,0,0,0,0,0,0,0,0,0,0,0,0,0,0,0,0,0,0,0,0,0,0,0,0,0,{"$f":"EK77","v":0},0,0,0,0,0,0,0,0,0,0,0,0,0,0,0,0,0,0,0,0,0,0,0,0,0,0,0,0,0,0,0,0,0,0,0,0,0,0,0,0,0,0,0,0,0,0,0,0,0,0,0,0,0,0,0,0,0,0,0,0,0,0,0,{"$f":"GW77","v":0},0,0,0,0,0,0,0,0,0,0,0,0,0,0,0,0,0,0,0,0,0,0,0,0,0,0,0,0,0,0,0,0,0,0,0,0,0,0,0,0,0,0,0,0,0,0,0,0,0,0,0,0,0,0,0,0,0,0,0,0,0,0,0,{"$f":"JI77","v":0},0,0,0,0,0,0,0,0,0,0,0,0,0,0,0,0,0,0,0,0,0,0,0,0,0,0,0,0,0,0,0,0,0,0,0,0,0,0,0,0,0,0,0,0,0,0,0,0,0,0,0,0,0,0,0,0,0,0,0,0,0,0,0,{"$f":"LU77","v":0},0,0,0,0,0,0,0,0,0,0,0,0,0,0,0,0,0,0,0,0,0,0,0,0,0,0,0,0,0,0,0,0,0,0,0,0,0,0,0,0,0,0,0,0,0,0,0,0,0,0,0,0,0,0,0,0,0,0,0,0,0,0,0,{"$f":"OG77","v":0},0,0,0,0,0,0,0,0,0,0,0,0,0,0,0,0,0,0,0,0,0,0,0,0,0,0,0,0,0,0,0,0,0,0,0,0,0,0,0,0,0,0,0,0,0,0,0,0,0,0,0,0,0,0,0,0,0,0,0,0,0,0,0,{"$f":"QS77","v":0},0,0,0,0,0,0,0,0,0,0,0,0,0,0,0,0,0,0,0,0,0,0,0,0,0,0,0,0,0,0,0,0,0,0,0,0,0,0,0,0,0,0,0,0,0,0,0,0,0,0]
[null,null,null,"A/R Balance - CF",null,null,"USD",null,null,null,null,{"$f":"L79+L80-L81","v":0},{"$f":"M79+M80-M81","v":0},0,0,0,0,0,0,0,0,0,0,0,0,0,0,0,0,0,0,0,0,0,0,0,0,0,0,0,0,0,0,0,0,0,0,0,0,0,0,0,0,0,0,0,0,0,0,0,0,0,0,0,0,0,0,0,0,0,0,0,0,0,0,0,{"$f":"BY79+BY80-BY81","v":0},0,0,0,0,0,0,0,0,0,0,0,0,0,0,0,0,0,0,0,0,0,0,0,0,0,0,0,0,0,0,0,0,0,0,0,0,0,0,0,0,0,0,0,0,0,0,0,0,0,0,0,0,0,0,0,0,0,0,0,0,0,0,0,{"$f":"EK79+EK80-EK81","v":0},0,0,0,0,0,0,0,0,0,0,0,0,0,0,0,0,0,0,0,0,0,0,0,0,0,0,0,0,0,0,0,0,0,0,0,0,0,0,0,0,0,0,0,0,0,0,0,0,0,0,0,0,0,0,0,0,0,0,0,0,0,0,0,{"$f":"GW79+GW80-GW81","v":0},0,0,0,0,0,0,0,0,0,0,0,0,0,0,0,0,0,0,0,0,0,0,0,0,0,0,0,0,0,0,0,0,0,0,0,0,0,0,0,0,0,0,0,0,0,0,0,0,0,0,0,0,0,0,0,0,0,0,0,0,0,0,0,{"$f":"JI79+JI80-JI81","v":0},0,0,0,0,0,0,0,0,0,0,0,0,0,0,0,0,0,0,0,0,0,0,0,0,0,0,0,0,0,0,0,0,0,0,0,0,0,0,0,0,0,0,0,0,0,0,0,0,0,0,0,0,0,0,0,0,0,0,0,0,0,0,0,{"$f":"LU79+LU80-LU81","v":0},0,0,0,0,0,0,0,0,0,0,0,0,0,0,0,0,0,0,0,0,0,0,0,0,0,0,0,0,0,0,0,0,0,0,0,0,0,0,0,0,0,0,0,0,0,0,0,0,0,0,0,0,0,0,0,0,0,0,0,0,0,0,0,{"$f":"OG79+OG80-OG81","v":0},0,0,0,0,0,0,0,0,0,0,0,0,0,0,0,0,0,0,0,0,0,0,0,0,0,0,0,0,0,0,0,0,0,0,0,0,0,0,0,0,0,0,0,0,0,0,0,0,0,0,0,0,0,0,0,0,0,0,0,0,0,0,0,{"$f":"QS79+QS80-QS81","v":0},0,0,0,0,0,0,0,0,0,0,0,0,0,0,0,0,0,0,0,0,0,0,0,0,0,0,0,0,0,0,0,0,0,0,0,0,0,0,0,0,0,0,0,0,0,0,0,0,0,0]
[]
[null,null,null,"Change in Current Assets",null,null,"USD",null,null,null,null,{"$f":"L82-L79","v":0},{"$f":"M82-M79","v":0},0,0,0,0,0,0,0,0,0,0,0,0,0,0,0,0,0,0,0,0,0,0,0,0,0,0,0,0,0,0,0,0,0,0,0,0,0,0,0,0,0,0,0,0,0,0,0,0,0,0,0,0,0,0,0,0,0,0,0,0,0,0,0,{"$f":"BY82-BY79","v":0},0,0,0,0,0,0,0,0,0,0,0,0,0,0,0,0,0,0,0,0,0,0,0,0,0,0,0,0,0,0,0,0,0,0,0,0,0,0,0,0,0,0,0,0,0,0,0,0,0,0,0,0,0,0,0,0,0,0,0,0,0,0,0,{"$f":"EK82-EK79","v":0},0,0,0,0,0,0,0,0,0,0,0,0,0,0,0,0,0,0,0,0,0,0,0,0,0,0,0,0,0,0,0,0,0,0,0,0,0,0,0,0,0,0,0,0,0,0,0,0,0,0,0,0,0,0,0,0,0,0,0,0,0,0,0,{"$f":"GW82-GW79","v":0},0,0,0,0,0,0,0,0,0,0,0,0,0,0,0,0,0,0,0,0,0,0,0,0,0,0,0,0,0,0,0,0,0,0,0,0,0,0,0,0,0,0,0,0,0,0,0,0,0,0,0,0,0,0,0,0,0,0,0,0,0,0,0,{"$f":"JI82-JI79","v":0},0,0,0,0,0,0,0,0,0,0,0,0,0,0,0,0,0,0,0,0,0,0,0,0,0,0,0,0,0,0,0,0,0,0,0,0,0,0,0,0,0,0,0,0,0,0,0,0,0,0,0,0,0,0,0,0,0,0,0,0,0,0,0,{"$f":"LU82-LU79","v":0},0,0,0,0,0,0,0,0,0,0,0,0,0,0,0,0,0,0,0,0,0,0,0,0,0,0,0,0,0,0,0,0,0,0,0,0,0,0,0,0,0,0,0,0,0,0,0,0,0,0,0,0,0,0,0,0,0,0,0,0,0,0,0,{"$f":"OG82-OG79","v":0},0,0,0,0,0,0,0,0,0,0,0,0,0,0,0,0,0,0,0,0,0,0,0,0,0,0,0,0,0,0,0,0,0,0,0,0,0,0,0,0,0,0,0,0,0,0,0,0,0,0,0,0,0,0,0,0,0,0,0,0,0,0,0,{"$f":"QS82-QS79","v":0},0,0,0,0,0,0,0,0,0,0,0,0,0,0,0,0,0,0,0,0,0,0,0,0,0,0,0,0,0,0,0,0,0,0,0,0,0,0,0,0,0,0,0,0,0,0,0,0,0,0]
[]
[null,null,"Operating Costs"]
[null,null,null,"Expenses Booked",null,null,"USD/Month",null,null,null,null,{"$f":"L69","v":{"$error":"#N/A"}},{"$f":"M69","v":{"$error":"#N/A"}},{"$error":"#N/A"},{"$error":"#N/A"},{"$error":"#N/A"},{"$error":"#N/A"},{"$error":"#N/A"},{"$error":"#N/A"},{"$error":"#N/A"},{"$error":"#N/A"},{"$error":"#N/A"},{"$error":"#N/A"},{"$error":"#N/A"},{"$error":"#N/A"},{"$error":"#N/A"},{"$error":"#N/A"},{"$error":"#N/A"},{"$error":"#N/A"},{"$error":"#N/A"},{"$error":"#N/A"},{"$error":"#N/A"},{"$error":"#N/A"},{"$error":"#N/A"},{"$error":"#N/A"},{"$error":"#N/A"},{"$error":"#N/A"},{"$error":"#N/A"},{"$error":"#N/A"},{"$error":"#N/A"},{"$error":"#N/A"},{"$error":"#N/A"},{"$error":"#N/A"},{"$error":"#N/A"},{"$error":"#N/A"},{"$error":"#N/A"},{"$error":"#N/A"},{"$error":"#N/A"},{"$error":"#N/A"},{"$error":"#N/A"},{"$error":"#N/A"},{"$error":"#N/A"},{"$error":"#N/A"},{"$error":"#N/A"},{"$error":"#N/A"},{"$error":"#N/A"},{"$error":"#N/A"},{"$error":"#N/A"},{"$error":"#N/A"},{"$error":"#N/A"},{"$error":"#N/A"},{"$error":"#N/A"},{"$error":"#N/A"},{"$error":"#N/A"},{"$error":"#N/A"},{"$error":"#N/A"},{"$error":"#N/A"},{"$error":"#N/A"},{"$error":"#N/A"},{"$error":"#N/A"},{"$error":"#N/A"},{"$error":"#N/A"},{"$error":"#N/A"},{"$error":"#N/A"},{"$error":"#N/A"},{"$error":"#N/A"},{"$f":"BY69","v":{"$error":"#N/A"}},{"$error":"#N/A"},{"$error":"#N/A"},{"$error":"#N/A"},{"$error":"#N/A"},{"$error":"#N/A"},{"$error":"#N/A"},{"$error":"#N/A"},{"$error":"#N/A"},{"$error":"#N/A"},{"$error":"#N/A"},{"$error":"#N/A"},{"$error":"#N/A"},{"$error":"#N/A"},{"$error":"#N/A"},{"$error":"#N/A"},{"$error":"#N/A"},{"$error":"#N/A"},{"$error":"#N/A"},{"$error":"#N/A"},{"$error":"#N/A"},{"$error":"#N/A"},{"$error":"#N/A"},{"$error":"#N/A"},{"$error":"#N/A"},{"$error":"#N/A"},{"$error":"#N/A"},{"$error":"#N/A"},{"$error":"#N/A"},{"$error":"#N/A"},{"$error":"#N/A"},{"$error":"#N/A"},{"$error":"#N/A"},{"$error":"#N/A"},{"$error":"#N/A"},{"$error":"#N/A"},{"$error":"#N/A"},{"$error":"#N/A"},{"$error":"#N/A"},{"$error":"#N/A"},{"$error":"#N/A"},{"$error":"#N/A"},{"$error":"#N/A"},{"$error":"#N/A"},{"$error":"#N/A"},{"$error":"#N/A"},{"$error":"#N/A"},{"$error":"#N/A"},{"$error":"#N/A"},{"$error":"#N/A"},{"$error":"#N/A"},{"$error":"#N/A"},{"$error":"#N/A"},{"$error":"#N/A"},{"$error":"#N/A"},{"$error":"#N/A"},{"$error":"#N/A"},{"$error":"#N/A"},{"$error":"#N/A"},{"$error":"#N/A"},{"$error":"#N/A"},{"$error":"#N/A"},{"$error":"#N/A"},{"$error":"#N/A"},{"$f":"EK69","v":{"$error":"#N/A"}},{"$error":"#N/A"},{"$error":"#N/A"},{"$error":"#N/A"},{"$error":"#N/A"},{"$error":"#N/A"},{"$error":"#N/A"},{"$error":"#N/A"},{"$error":"#N/A"},{"$error":"#N/A"},{"$error":"#N/A"},{"$error":"#N/A"},{"$error":"#N/A"},{"$error":"#N/A"},{"$error":"#N/A"},{"$error":"#N/A"},{"$error":"#N/A"},{"$error":"#N/A"},{"$error":"#N/A"},{"$error":"#N/A"},{"$error":"#N/A"},{"$error":"#N/A"},{"$error":"#N/A"},{"$error":"#N/A"},{"$error":"#N/A"},{"$error":"#N/A"},{"$error":"#N/A"},{"$error":"#N/A"},{"$error":"#N/A"},{"$error":"#N/A"},{"$error":"#N/A"},{"$error":"#N/A"},{"$error":"#N/A"},{"$error":"#N/A"},{"$error":"#N/A"},{"$error":"#N/A"},{"$error":"#N/A"},{"$error":"#N/A"},{"$error":"#N/A"},{"$error":"#N/A"},{"$error":"#N/A"},{"$error":"#N/A"},{"$error":"#N/A"},{"$error":"#N/A"},{"$error":"#N/A"},{"$error":"#N/A"},{"$error":"#N/A"},{"$error":"#N/A"},{"$error":"#N/A"},{"$error":"#N/A"},{"$error":"#N/A"},{"$error":"#N/A"},{"$error":"#N/A"},{"$error":"#N/A"},{"$error":"#N/A"},{"$error":"#N/A"},{"$error":"#N/A"},{"$error":"#N/A"},{"$error":"#N/A"},{"$error":"#N/A"},{"$error":"#N/A"},{"$error":"#N/A"},{"$error":"#N/A"},{"$error":"#N/A"},{"$f":"GW69","v":{"$error":"#N/A"}},{"$error":"#N/A"},{"$error":"#N/A"},{"$error":"#N/A"},{"$error":"#N/A"},{"$error":"#N/A"},{"$error":"#N/A"},{"$error":"#N/A"},{"$error":"#N/A"},{"$error":"#N/A"},{"$error":"#N/A"},{"$error":"#N/A"},{"$error":"#N/A"},{"$error":"#N/A"},{"$error":"#N/A"},{"$error":"#N/A"},{"$error":"#N/A"},{"$error":"#N/A"},{"$error":"#N/A"},{"$error":"#N/A"},{"$error":"#N/A"},{"$error":"#N/A"},{"$error":"#N/A"},{"$error":"#N/A"},{"$error":"#N/A"},{"$error":"#N/A"},{"$error":"#N/A"},{"$error":"#N/A"},{"$error":"#N/A"},{"$error":"#N/A"},{"$error":"#N/A"},{"$error":"#N/A"},{"$error":"#N/A"},{"$error":"#N/A"},{"$error":"#N/A"},{"$error":"#N/A"},{"$error":"#N/A"},{"$error":"#N/A"},{"$error":"#N/A"},{"$error":"#N/A"},{"$error":"#N/A"},{"$error":"#N/A"},{"$error":"#N/A"},{"$error":"#N/A"},{"$error":"#N/A"},{"$error":"#N/A"},{"$error":"#N/A"},{"$error":"#N/A"},{"$error":"#N/A"},{"$error":"#N/A"},{"$error":"#N/A"},{"$error":"#N/A"},{"$error":"#N/A"},{"$error":"#N/A"},{"$error":"#N/A"},{"$error":"#N/A"},{"$error":"#N/A"},{"$error":"#N/A"},{"$error":"#N/A"},{"$error":"#N/A"},{"$error":"#N/A"},{"$error":"#N/A"},{"$error":"#N/A"},{"$error":"#N/A"},{"$f":"JI69","v":{"$error":"#N/A"}},{"$error":"#N/A"},{"$error":"#N/A"},{"$error":"#N/A"},{"$error":"#N/A"},{"$error":"#N/A"},{"$error":"#N/A"},{"$error":"#N/A"},{"$error":"#N/A"},{"$error":"#N/A"},{"$error":"#N/A"},{"$error":"#N/A"},{"$error":"#N/A"},{"$error":"#N/A"},{"$error":"#N/A"},{"$error":"#N/A"},{"$error":"#N/A"},{"$error":"#N/A"},{"$error":"#N/A"},{"$error":"#N/A"},{"$error":"#N/A"},{"$error":"#N/A"},{"$error":"#N/A"},{"$error":"#N/A"},{"$error":"#N/A"},{"$error":"#N/A"},{"$error":"#N/A"},{"$error":"#N/A"},{"$error":"#N/A"},{"$error":"#N/A"},{"$error":"#N/A"},{"$error":"#N/A"},{"$error":"#N/A"},{"$error":"#N/A"},{"$error":"#N/A"},{"$error":"#N/A"},{"$error":"#N/A"},{"$error":"#N/A"},{"$error":"#N/A"},{"$error":"#N/A"},{"$error":"#N/A"},{"$error":"#N/A"},{"$error":"#N/A"},{"$error":"#N/A"},{"$error":"#N/A"},{"$error":"#N/A"},{"$error":"#N/A"},{"$error":"#N/A"},{"$error":"#N/A"},{"$error":"#N/A"},{"$error":"#N/A"},{"$error":"#N/A"},{"$error":"#N/A"},{"$error":"#N/A"},{"$error":"#N/A"},{"$error":"#N/A"},{"$error":"#N/A"},{"$error":"#N/A"},{"$error":"#N/A"},{"$error":"#N/A"},{"$error":"#N/A"},{"$error":"#N/A"},{"$error":"#N/A"},{"$error":"#N/A"},{"$f":"LU69","v":{"$error":"#N/A"}},{"$error":"#N/A"},{"$error":"#N/A"},{"$error":"#N/A"},{"$error":"#N/A"},{"$error":"#N/A"},{"$error":"#N/A"},{"$error":"#N/A"},{"$error":"#N/A"},{"$error":"#N/A"},{"$error":"#N/A"},{"$error":"#N/A"},{"$error":"#N/A"},{"$error":"#N/A"},{"$error":"#N/A"},{"$error":"#N/A"},{"$error":"#N/A"},{"$error":"#N/A"},{"$error":"#N/A"},{"$error":"#N/A"},{"$error":"#N/A"},{"$error":"#N/A"},{"$error":"#N/A"},{"$error":"#N/A"},{"$error":"#N/A"},{"$error":"#N/A"},{"$error":"#N/A"},{"$error":"#N/A"},{"$error":"#N/A"},{"$error":"#N/A"},{"$error":"#N/A"},{"$error":"#N/A"},{"$error":"#N/A"},{"$error":"#N/A"},{"$error":"#N/A"},{"$error":"#N/A"},{"$error":"#N/A"},{"$error":"#N/A"},{"$error":"#N/A"},{"$error":"#N/A"},{"$error":"#N/A"},{"$error":"#N/A"},{"$error":"#N/A"},{"$error":"#N/A"},{"$error":"#N/A"},{"$error":"#N/A"},{"$error":"#N/A"},{"$error":"#N/A"},{"$error":"#N/A"},{"$error":"#N/A"},{"$error":"#N/A"},{"$error":"#N/A"},{"$error":"#N/A"},{"$error":"#N/A"},{"$error":"#N/A"},{"$error":"#N/A"},{"$error":"#N/A"},{"$error":"#N/A"},{"$error":"#N/A"},{"$error":"#N/A"},{"$error":"#N/A"},{"$error":"#N/A"},{"$error":"#N/A"},{"$error":"#N/A"},{"$f":"OG69","v":{"$error":"#N/A"}},{"$error":"#N/A"},{"$error":"#N/A"},{"$error":"#N/A"},{"$error":"#N/A"},{"$error":"#N/A"},{"$error":"#N/A"},{"$error":"#N/A"},{"$error":"#N/A"},{"$error":"#N/A"},{"$error":"#N/A"},{"$error":"#N/A"},{"$error":"#N/A"},{"$error":"#N/A"},{"$error":"#N/A"},{"$error":"#N/A"},{"$error":"#N/A"},{"$error":"#N/A"},{"$error":"#N/A"},{"$error":"#N/A"},{"$error":"#N/A"},{"$error":"#N/A"},{"$error":"#N/A"},{"$error":"#N/A"},{"$error":"#N/A"},{"$error":"#N/A"},{"$error":"#N/A"},{"$error":"#N/A"},{"$error":"#N/A"},{"$error":"#N/A"},{"$error":"#N/A"},{"$error":"#N/A"},{"$error":"#N/A"},{"$error":"#N/A"},{"$error":"#N/A"},{"$error":"#N/A"},{"$error":"#N/A"},{"$error":"#N/A"},{"$error":"#N/A"},{"$error":"#N/A"},{"$error":"#N/A"},{"$error":"#N/A"},{"$error":"#N/A"},{"$error":"#N/A"},{"$error":"#N/A"},{"$error":"#N/A"},{"$error":"#N/A"},{"$error":"#N/A"},{"$error":"#N/A"},{"$error":"#N/A"},{"$error":"#N/A"},{"$error":"#N/A"},{"$error":"#N/A"},{"$error":"#N/A"},{"$error":"#N/A"},{"$error":"#N/A"},{"$error":"#N/A"},{"$error":"#N/A"},{"$error":"#N/A"},{"$error":"#N/A"},{"$error":"#N/A"},{"$error":"#N/A"},{"$error":"#N/A"},{"$error":"#N/A"},{"$f":"QS69","v":{"$error":"#N/A"}},{"$error":"#N/A"},{"$error":"#N/A"},{"$error":"#N/A"},{"$error":"#N/A"},{"$error":"#N/A"},{"$error":"#N/A"},{"$error":"#N/A"},{"$error":"#N/A"},{"$error":"#N/A"},{"$error":"#N/A"},{"$error":"#N/A"},{"$error":"#N/A"},{"$error":"#N/A"},{"$error":"#N/A"},{"$error":"#N/A"},{"$error":"#N/A"},{"$error":"#N/A"},{"$error":"#N/A"},{"$error":"#N/A"},{"$error":"#N/A"},{"$error":"#N/A"},{"$error":"#N/A"},{"$error":"#N/A"},{"$error":"#N/A"},{"$error":"#N/A"},{"$error":"#N/A"},{"$error":"#N/A"},{"$error":"#N/A"},{"$error":"#N/A"},{"$error":"#N/A"},{"$error":"#N/A"},{"$error":"#N/A"},{"$error":"#N/A"},{"$error":"#N/A"},{"$error":"#N/A"},{"$error":"#N/A"},{"$error":"#N/A"},{"$error":"#N/A"},{"$error":"#N/A"},{"$error":"#N/A"},{"$error":"#N/A"},{"$error":"#N/A"},{"$error":"#N/A"},{"$error":"#N/A"},{"$error":"#N/A"},{"$error":"#N/A"},{"$error":"#N/A"},{"$error":"#N/A"},{"$error":"#N/A"},{"$error":"#N/A"}]
[null,null,null,{"$f":"'InputC - Operations'!D49","v":"Operation and Maintenance Payment Arrears"},{"$f":"'InputC - Operations'!E49","v":2},null,{"$f":"'InputC - Operations'!F49","v":"Months"},null,null,null,null,{"$f":"$E$88","v":2},{"$f":"$E$88","v":2},2,2,2,2,2,2,2,2,2,2,2,2,2,2,2,2,2,2,2,2,2,2,2,2,2,2,2,2,2,2,2,2,2,2,2,2,2,2,2,2,2,2,2,2,2,2,2,2,2,2,2,2,2,2,2,2,2,2,2,2,2,2,2,{"$f":"$E$88","v":2},2,2,2,2,2,2,2,2,2,2,2,2,2,2,2,2,2,2,2,2,2,2,2,2,2,2,2,2,2,2,2,2,2,2,2,2,2,2,2,2,2,2,2,2,2,2,2,2,2,2,2,2,2,2,2,2,2,2,2,2,2,2,2,{"$f":"$E$88","v":2},2,2,2,2,2,2,2,2,2,2,2,2,2,2,2,2,2,2,2,2,2,2,2,2,2,2,2,2,2,2,2,2,2,2,2,2,2,2,2,2,2,2,2,2,2,2,2,2,2,2,2,2,2,2,2,2,2,2,2,2,2,2,2,{"$f":"$E$88","v":2},2,2,2,2,2,2,2,2,2,2,2,2,2,2,2,2,2,2,2,2,2,2,2,2,2,2,2,2,2,2,2,2,2,2,2,2,2,2,2,2,2,2,2,2,2,2,2,2,2,2,2,2,2,2,2,2,2,2,2,2,2,2,2,{"$f":"$E$88","v":2},2,2,2,2,2,2,2,2,2,2,2,2,2,2,2,2,2,2,2,2,2,2,2,2,2,2,2,2,2,2,2,2,2,2,2,2,2,2,2,2,2,2,2,2,2,2,2,2,2,2,2,2,2,2,2,2,2,2,2,2,2,2,2,{"$f":"$E$88","v":2},2,2,2,2,2,2,2,2,2,2,2,2,2,2,2,2,2,2,2,2,2,2,2,2,2,2,2,2,2,2,2,2,2,2,2,2,2,2,2,2,2,2,2,2,2,2,2,2,2,2,2,2,2,2,2,2,2,2,2,2,2,2,2,{"$f":"$E$88","v":2},2,2,2,2,2,2,2,2,2,2,2,2,2,2,2,2,2,2,2,2,2,2,2,2,2,2,2,2,2,2,2,2,2,2,2,2,2,2,2,2,2,2,2,2,2,2,2,2,2,2,2,2,2,2,2,2,2,2,2,2,2,2,2,{"$f":"$E$88","v":2},2,2,2,2,2,2,2,2,2,2,2,2,2,2,2,2,2,2,2,2,2,2,2,2,2,2,2,2,2,2,2,2,2,2,2,2,2,2,2,2,2,2,2,2,2,2,2,2,2,2]
[null,null,null,"Expenses Paid",null,null,"USD/Month",null,null,null,null,{"$f":"OFFSET(L87,0,-L88)","v":0},{"$f":"OFFSET(M87,0,-M88)","v":0},{"$error":"#N/A"},{"$error":"#N/A"},{"$error":"#N/A"},{"$error":"#N/A"},{"$error":"#N/A"},{"$error":"#N/A"},{"$error":"#N/A"},{"$error":"#N/A"},{"$error":"#N/A"},{"$error":"#N/A"},{"$error":"#N/A"},{"$error":"#N/A"},{"$error":"#N/A"},{"$error":"#N/A"},{"$error":"#N/A"},{"$error":"#N/A"},{"$error":"#N/A"},{"$error":"#N/A"},{"$error":"#N/A"},{"$error":"#N/A"},{"$error":"#N/A"},{"$error":"#N/A"},{"$error":"#N/A"},{"$error":"#N/A"},{"$error":"#N/A"},{"$error":"#N/A"},{"$error":"#N/A"},{"$error":"#N/A"},{"$error":"#N/A"},{"$error":"#N/A"},{"$error":"#N/A"},{"$error":"#N/A"},{"$error":"#N/A"},{"$error":"#N/A"},{"$error":"#N/A"},{"$error":"#N/A"},{"$error":"#N/A"},{"$error":"#N/A"},{"$error":"#N/A"},{"$error":"#N/A"},{"$error":"#N/A"},{"$error":"#N/A"},{"$error":"#N/A"},{"$error":"#N/A"},{"$error":"#N/A"},{"$error":"#N/A"},{"$error":"#N/A"},{"$error":"#N/A"},{"$error":"#N/A"},{"$error":"#N/A"},{"$error":"#N/A"},{"$error":"#N/A"},{"$error":"#N/A"},{"$error":"#N/A"},{"$error":"#N/A"},{"$error":"#N/A"},{"$error":"#N/A"},{"$error":"#N/A"},{"$error":"#N/A"},{"$error":"#N/A"},{"$error":"#N/A"},{"$error":"#N/A"},{"$error":"#N/A"},{"$f":"OFFSET(BY87,0,-BY88)","v":{"$error":"#N/A"}},{"$error":"#N/A"},{"$error":"#N/A"},{"$error":"#N/A"},{"$error":"#N/A"},{"$error":"#N/A"},{"$error":"#N/A"},{"$error":"#N/A"},{"$error":"#N/A"},{"$error":"#N/A"},{"$error":"#N/A"},{"$error":"#N/A"},{"$error":"#N/A"},{"$error":"#N/A"},{"$error":"#N/A"},{"$error":"#N/A"},{"$error":"#N/A"},{"$error":"#N/A"},{"$error":"#N/A"},{"$error":"#N/A"},{"$error":"#N/A"},{"$error":"#N/A"},{"$error":"#N/A"},{"$error":"#N/A"},{"$error":"#N/A"},{"$error":"#N/A"},{"$error":"#N/A"},{"$error":"#N/A"},{"$error":"#N/A"},{"$error":"#N/A"},{"$error":"#N/A"},{"$error":"#N/A"},{"$error":"#N/A"},{"$error":"#N/A"},{"$error":"#N/A"},{"$error":"#N/A"},{"$error":"#N/A"},{"$error":"#N/A"},{"$error":"#N/A"},{"$error":"#N/A"},{"$error":"#N/A"},{"$error":"#N/A"},{"$error":"#N/A"},{"$error":"#N/A"},{"$error":"#N/A"},{"$error":"#N/A"},{"$error":"#N/A"},{"$error":"#N/A"},{"$error":"#N/A"},{"$error":"#N/A"},{"$error":"#N/A"},{"$error":"#N/A"},{"$error":"#N/A"},{"$error":"#N/A"},{"$error":"#N/A"},{"$error":"#N/A"},{"$error":"#N/A"},{"$error":"#N/A"},{"$error":"#N/A"},{"$error":"#N/A"},{"$error":"#N/A"},{"$error":"#N/A"},{"$error":"#N/A"},{"$error":"#N/A"},{"$f":"OFFSET(EK87,0,-EK88)","v":{"$error":"#N/A"}},{"$error":"#N/A"},{"$error":"#N/A"},{"$error":"#N/A"},{"$error":"#N/A"},{"$error":"#N/A"},{"$error":"#N/A"},{"$error":"#N/A"},{"$error":"#N/A"},{"$error":"#N/A"},{"$error":"#N/A"},{"$error":"#N/A"},{"$error":"#N/A"},{"$error":"#N/A"},{"$error":"#N/A"},{"$error":"#N/A"},{"$error":"#N/A"},{"$error":"#N/A"},{"$error":"#N/A"},{"$error":"#N/A"},{"$error":"#N/A"},{"$error":"#N/A"},{"$error":"#N/A"},{"$error":"#N/A"},{"$error":"#N/A"},{"$error":"#N/A"},{"$error":"#N/A"},{"$error":"#N/A"},{"$error":"#N/A"},{"$error":"#N/A"},{"$error":"#N/A"},{"$error":"#N/A"},{"$error":"#N/A"},{"$error":"#N/A"},{"$error":"#N/A"},{"$error":"#N/A"},{"$error":"#N/A"},{"$error":"#N/A"},{"$error":"#N/A"},{"$error":"#N/A"},{"$error":"#N/A"},{"$error":"#N/A"},{"$error":"#N/A"},{"$error":"#N/A"},{"$error":"#N/A"},{"$error":"#N/A"},{"$error":"#N/A"},{"$error":"#N/A"},{"$error":"#N/A"},{"$error":"#N/A"},{"$error":"#N/A"},{"$error":"#N/A"},{"$error":"#N/A"},{"$error":"#N/A"},{"$error":"#N/A"},{"$error":"#N/A"},{"$error":"#N/A"},{"$error":"#N/A"},{"$error":"#N/A"},{"$error":"#N/A"},{"$error":"#N/A"},{"$error":"#N/A"},{"$error":"#N/A"},{"$error":"#N/A"},{"$f":"OFFSET(GW87,0,-GW88)","v":{"$error":"#N/A"}},{"$error":"#N/A"},{"$error":"#N/A"},{"$error":"#N/A"},{"$error":"#N/A"},{"$error":"#N/A"},{"$error":"#N/A"},{"$error":"#N/A"},{"$error":"#N/A"},{"$error":"#N/A"},{"$error":"#N/A"},{"$error":"#N/A"},{"$error":"#N/A"},{"$error":"#N/A"},{"$error":"#N/A"},{"$error":"#N/A"},{"$error":"#N/A"},{"$error":"#N/A"},{"$error":"#N/A"},{"$error":"#N/A"},{"$error":"#N/A"},{"$error":"#N/A"},{"$error":"#N/A"},{"$error":"#N/A"},{"$error":"#N/A"},{"$error":"#N/A"},{"$error":"#N/A"},{"$error":"#N/A"},{"$error":"#N/A"},{"$error":"#N/A"},{"$error":"#N/A"},{"$error":"#N/A"},{"$error":"#N/A"},{"$error":"#N/A"},{"$error":"#N/A"},{"$error":"#N/A"},{"$error":"#N/A"},{"$error":"#N/A"},{"$error":"#N/A"},{"$error":"#N/A"},{"$error":"#N/A"},{"$error":"#N/A"},{"$error":"#N/A"},{"$error":"#N/A"},{"$error":"#N/A"},{"$error":"#N/A"},{"$error":"#N/A"},{"$error":"#N/A"},{"$error":"#N/A"},{"$error":"#N/A"},{"$error":"#N/A"},{"$error":"#N/A"},{"$error":"#N/A"},{"$error":"#N/A"},{"$error":"#N/A"},{"$error":"#N/A"},{"$error":"#N/A"},{"$error":"#N/A"},{"$error":"#N/A"},{"$error":"#N/A"},{"$error":"#N/A"},{"$error":"#N/A"},{"$error":"#N/A"},{"$error":"#N/A"},{"$f":"OFFSET(JI87,0,-JI88)","v":{"$error":"#N/A"}},{"$error":"#N/A"},{"$error":"#N/A"},{"$error":"#N/A"},{"$error":"#N/A"},{"$error":"#N/A"},{"$error":"#N/A"},{"$error":"#N/A"},{"$error":"#N/A"},{"$error":"#N/A"},{"$error":"#N/A"},{"$error":"#N/A"},{"$error":"#N/A"},{"$error":"#N/A"},{"$error":"#N/A"},{"$error":"#N/A"},{"$error":"#N/A"},{"$error":"#N/A"},{"$error":"#N/A"},{"$error":"#N/A"},{"$error":"#N/A"},{"$error":"#N/A"},{"$error":"#N/A"},{"$error":"#N/A"},{"$error":"#N/A"},{"$error":"#N/A"},{"$error":"#N/A"},{"$error":"#N/A"},{"$error":"#N/A"},{"$error":"#N/A"},{"$error":"#N/A"},{"$error":"#N/A"},{"$error":"#N/A"},{"$error":"#N/A"},{"$error":"#N/A"},{"$error":"#N/A"},{"$error":"#N/A"},{"$error":"#N/A"},{"$error":"#N/A"},{"$error":"#N/A"},{"$error":"#N/A"},{"$error":"#N/A"},{"$error":"#N/A"},{"$error":"#N/A"},{"$error":"#N/A"},{"$error":"#N/A"},{"$error":"#N/A"},{"$error":"#N/A"},{"$error":"#N/A"},{"$error":"#N/A"},{"$error":"#N/A"},{"$error":"#N/A"},{"$error":"#N/A"},{"$error":"#N/A"},{"$error":"#N/A"},{"$error":"#N/A"},{"$error":"#N/A"},{"$error":"#N/A"},{"$error":"#N/A"},{"$error":"#N/A"},{"$error":"#N/A"},{"$error":"#N/A"},{"$error":"#N/A"},{"$error":"#N/A"},{"$f":"OFFSET(LU87,0,-LU88)","v":{"$error":"#N/A"}},{"$error":"#N/A"},{"$error":"#N/A"},{"$error":"#N/A"},{"$error":"#N/A"},{"$error":"#N/A"},{"$error":"#N/A"},{"$error":"#N/A"},{"$error":"#N/A"},{"$error":"#N/A"},{"$error":"#N/A"},{"$error":"#N/A"},{"$error":"#N/A"},{"$error":"#N/A"},{"$error":"#N/A"},{"$error":"#N/A"},{"$error":"#N/A"},{"$error":"#N/A"},{"$error":"#N/A"},{"$error":"#N/A"},{"$error":"#N/A"},{"$error":"#N/A"},{"$error":"#N/A"},{"$error":"#N/A"},{"$error":"#N/A"},{"$error":"#N/A"},{"$error":"#N/A"},{"$error":"#N/A"},{"$error":"#N/A"},{"$error":"#N/A"},{"$error":"#N/A"},{"$error":"#N/A"},{"$error":"#N/A"},{"$error":"#N/A"},{"$error":"#N/A"},{"$error":"#N/A"},{"$error":"#N/A"},{"$error":"#N/A"},{"$error":"#N/A"},{"$error":"#N/A"},{"$error":"#N/A"},{"$error":"#N/A"},{"$error":"#N/A"},{"$error":"#N/A"},{"$error":"#N/A"},{"$error":"#N/A"},{"$error":"#N/A"},{"$error":"#N/A"},{"$error":"#N/A"},{"$error":"#N/A"},{"$error":"#N/A"},{"$error":"#N/A"},{"$error":"#N/A"},{"$error":"#N/A"},{"$error":"#N/A"},{"$error":"#N/A"},{"$error":"#N/A"},{"$error":"#N/A"},{"$error":"#N/A"},{"$error":"#N/A"},{"$error":"#N/A"},{"$error":"#N/A"},{"$error":"#N/A"},{"$error":"#N/A"},{"$f":"OFFSET(OG87,0,-OG88)","v":{"$error":"#N/A"}},{"$error":"#N/A"},{"$error":"#N/A"},{"$error":"#N/A"},{"$error":"#N/A"},{"$error":"#N/A"},{"$error":"#N/A"},{"$error":"#N/A"},{"$error":"#N/A"},{"$error":"#N/A"},{"$error":"#N/A"},{"$error":"#N/A"},{"$error":"#N/A"},{"$error":"#N/A"},{"$error":"#N/A"},{"$error":"#N/A"},{"$error":"#N/A"},{"$error":"#N/A"},{"$error":"#N/A"},{"$error":"#N/A"},{"$error":"#N/A"},{"$error":"#N/A"},{"$error":"#N/A"},{"$error":"#N/A"},{"$error":"#N/A"},{"$error":"#N/A"},{"$error":"#N/A"},{"$error":"#N/A"},{"$error":"#N/A"},{"$error":"#N/A"},{"$error":"#N/A"},{"$error":"#N/A"},{"$error":"#N/A"},{"$error":"#N/A"},{"$error":"#N/A"},{"$error":"#N/A"},{"$error":"#N/A"},{"$error":"#N/A"},{"$error":"#N/A"},{"$error":"#N/A"},{"$error":"#N/A"},{"$error":"#N/A"},{"$error":"#N/A"},{"$error":"#N/A"},{"$error":"#N/A"},{"$error":"#N/A"},{"$error":"#N/A"},{"$error":"#N/A"},{"$error":"#N/A"},{"$error":"#N/A"},{"$error":"#N/A"},{"$error":"#N/A"},{"$error":"#N/A"},{"$error":"#N/A"},{"$error":"#N/A"},{"$error":"#N/A"},{"$error":"#N/A"},{"$error":"#N/A"},{"$error":"#N/A"},{"$error":"#N/A"},{"$error":"#N/A"},{"$error":"#N/A"},{"$error":"#N/A"},{"$error":"#N/A"},{"$f":"OFFSET(QS87,0,-QS88)","v":{"$error":"#N/A"}},{"$error":"#N/A"},{"$error":"#N/A"},{"$error":"#N/A"},{"$error":"#N/A"},{"$error":"#N/A"},{"$error":"#N/A"},{"$error":"#N/A"},{"$error":"#N/A"},{"$error":"#N/A"},{"$error":"#N/A"},{"$error":"#N/A"},{"$error":"#N/A"},{"$error":"#N/A"},{"$error":"#N/A"},{"$error":"#N/A"},{"$error":"#N/A"},{"$error":"#N/A"},{"$error":"#N/A"},{"$error":"#N/A"},{"$error":"#N/A"},{"$error":"#N/A"},{"$error":"#N/A"},{"$error":"#N/A"},{"$error":"#N/A"},{"$error":"#N/A"},{"$error":"#N/A"},{"$error":"#N/A"},{"$error":"#N/A"},{"$error":"#N/A"},{"$error":"#N/A"},{"$error":"#N/A"},{"$error":"#N/A"},{"$error":"#N/A"},{"$error":"#N/A"},{"$error":"#N/A"},{"$error":"#N/A"},{"$error":"#N/A"},{"$error":"#N/A"},{"$error":"#N/A"},{"$error":"#N/A"},{"$error":"#N/A"},{"$error":"#N/A"},{"$error":"#N/A"},{"$error":"#N/A"},{"$error":"#N/A"},{"$error":"#N/A"},{"$error":"#N/A"},{"$error":"#N/A"},{"$error":"#N/A"},{"$error":"#N/A"}]
[]
[null,null,null,"Accounts Payable Balance - BF",null,null,"USD",null,null,null,null,{"$f":"K94","v":0},{"$f":"L94","v":{"$error":"#N/A"}},{"$error":"#N/A"},{"$error":"#N/A"},{"$error":"#N/A"},{"$error":"#N/A"},{"$error":"#N/A"},{"$error":"#N/A"},{"$error":"#N/A"},{"$error":"#N/A"},{"$error":"#N/A"},{"$error":"#N/A"},{"$error":"#N/A"},{"$error":"#N/A"},{"$error":"#N/A"},{"$error":"#N/A"},{"$error":"#N/A"},{"$error":"#N/A"},{"$error":"#N/A"},{"$error":"#N/A"},{"$error":"#N/A"},{"$error":"#N/A"},{"$error":"#N/A"},{"$error":"#N/A"},{"$error":"#N/A"},{"$error":"#N/A"},{"$error":"#N/A"},{"$error":"#N/A"},{"$error":"#N/A"},{"$error":"#N/A"},{"$error":"#N/A"},{"$error":"#N/A"},{"$error":"#N/A"},{"$error":"#N/A"},{"$error":"#N/A"},{"$error":"#N/A"},{"$error":"#N/A"},{"$error":"#N/A"},{"$error":"#N/A"},{"$error":"#N/A"},{"$error":"#N/A"},{"$error":"#N/A"},{"$error":"#N/A"},{"$error":"#N/A"},{"$error":"#N/A"},{"$error":"#N/A"},{"$error":"#N/A"},{"$error":"#N/A"},{"$error":"#N/A"},{"$error":"#N/A"},{"$error":"#N/A"},{"$error":"#N/A"},{"$error":"#N/A"},{"$error":"#N/A"},{"$error":"#N/A"},{"$error":"#N/A"},{"$error":"#N/A"},{"$error":"#N/A"},{"$error":"#N/A"},{"$error":"#N/A"},{"$error":"#N/A"},{"$error":"#N/A"},{"$error":"#N/A"},{"$error":"#N/A"},{"$error":"#N/A"},{"$f":"BX94","v":{"$error":"#N/A"}},{"$error":"#N/A"},{"$error":"#N/A"},{"$error":"#N/A"},{"$error":"#N/A"},{"$error":"#N/A"},{"$error":"#N/A"},{"$error":"#N/A"},{"$error":"#N/A"},{"$error":"#N/A"},{"$error":"#N/A"},{"$error":"#N/A"},{"$error":"#N/A"},{"$error":"#N/A"},{"$error":"#N/A"},{"$error":"#N/A"},{"$error":"#N/A"},{"$error":"#N/A"},{"$error":"#N/A"},{"$error":"#N/A"},{"$error":"#N/A"},{"$error":"#N/A"},{"$error":"#N/A"},{"$error":"#N/A"},{"$error":"#N/A"},{"$error":"#N/A"},{"$error":"#N/A"},{"$error":"#N/A"},{"$error":"#N/A"},{"$error":"#N/A"},{"$error":"#N/A"},{"$error":"#N/A"},{"$error":"#N/A"},{"$error":"#N/A"},{"$error":"#N/A"},{"$error":"#N/A"},{"$error":"#N/A"},{"$error":"#N/A"},{"$error":"#N/A"},{"$error":"#N/A"},{"$error":"#N/A"},{"$error":"#N/A"},{"$error":"#N/A"},{"$error":"#N/A"},{"$error":"#N/A"},{"$error":"#N/A"},{"$error":"#N/A"},{"$error":"#N/A"},{"$error":"#N/A"},{"$error":"#N/A"},{"$error":"#N/A"},{"$error":"#N/A"},{"$error":"#N/A"},{"$error":"#N/A"},{"$error":"#N/A"},{"$error":"#N/A"},{"$error":"#N/A"},{"$error":"#N/A"},{"$error":"#N/A"},{"$error":"#N/A"},{"$error":"#N/A"},{"$error":"#N/A"},{"$error":"#N/A"},{"$error":"#N/A"},{"$f":"EJ94","v":{"$error":"#N/A"}},{"$error":"#N/A"},{"$error":"#N/A"},{"$error":"#N/A"},{"$error":"#N/A"},{"$error":"#N/A"},{"$error":"#N/A"},{"$error":"#N/A"},{"$error":"#N/A"},{"$error":"#N/A"},{"$error":"#N/A"},{"$error":"#N/A"},{"$error":"#N/A"},{"$error":"#N/A"},{"$error":"#N/A"},{"$error":"#N/A"},{"$error":"#N/A"},{"$error":"#N/A"},{"$error":"#N/A"},{"$error":"#N/A"},{"$error":"#N/A"},{"$error":"#N/A"},{"$error":"#N/A"},{"$error":"#N/A"},{"$error":"#N/A"},{"$error":"#N/A"},{"$error":"#N/A"},{"$error":"#N/A"},{"$error":"#N/A"},{"$error":"#N/A"},{"$error":"#N/A"},{"$error":"#N/A"},{"$error":"#N/A"},{"$error":"#N/A"},{"$error":"#N/A"},{"$error":"#N/A"},{"$error":"#N/A"},{"$error":"#N/A"},{"$error":"#N/A"},{"$error":"#N/A"},{"$error":"#N/A"},{"$error":"#N/A"},{"$error":"#N/A"},{"$error":"#N/A"},{"$error":"#N/A"},{"$error":"#N/A"},{"$error":"#N/A"},{"$error":"#N/A"},{"$error":"#N/A"},{"$error":"#N/A"},{"$error":"#N/A"},{"$error":"#N/A"},{"$error":"#N/A"},{"$error":"#N/A"},{"$error":"#N/A"},{"$error":"#N/A"},{"$error":"#N/A"},{"$error":"#N/A"},{"$error":"#N/A"},{"$error":"#N/A"},{"$error":"#N/A"},{"$error":"#N/A"},{"$error":"#N/A"},{"$error":"#N/A"},{"$f":"GV94","v":{"$error":"#N/A"}},{"$error":"#N/A"},{"$error":"#N/A"},{"$error":"#N/A"},{"$error":"#N/A"},{"$error":"#N/A"},{"$error":"#N/A"},{"$error":"#N/A"},{"$error":"#N/A"},{"$error":"#N/A"},{"$error":"#N/A"},{"$error":"#N/A"},{"$error":"#N/A"},{"$error":"#N/A"},{"$error":"#N/A"},{"$error":"#N/A"},{"$error":"#N/A"},{"$error":"#N/A"},{"$error":"#N/A"},{"$error":"#N/A"},{"$error":"#N/A"},{"$error":"#N/A"},{"$error":"#N/A"},{"$error":"#N/A"},{"$error":"#N/A"},{"$error":"#N/A"},{"$error":"#N/A"},{"$error":"#N/A"},{"$error":"#N/A"},{"$error":"#N/A"},{"$error":"#N/A"},{"$error":"#N/A"},{"$error":"#N/A"},{"$error":"#N/A"},{"$error":"#N/A"},{"$error":"#N/A"},{"$error":"#N/A"},{"$error":"#N/A"},{"$error":"#N/A"},{"$error":"#N/A"},{"$error":"#N/A"},{"$error":"#N/A"},{"$error":"#N/A"},{"$error":"#N/A"},{"$error":"#N/A"},{"$error":"#N/A"},{"$error":"#N/A"},{"$error":"#N/A"},{"$error":"#N/A"},{"$error":"#N/A"},{"$error":"#N/A"},{"$error":"#N/A"},{"$error":"#N/A"},{"$error":"#N/A"},{"$error":"#N/A"},{"$error":"#N/A"},{"$error":"#N/A"},{"$error":"#N/A"},{"$error":"#N/A"},{"$error":"#N/A"},{"$error":"#N/A"},{"$error":"#N/A"},{"$error":"#N/A"},{"$error":"#N/A"},{"$f":"JH94","v":{"$error":"#N/A"}},{"$error":"#N/A"},{"$error":"#N/A"},{"$error":"#N/A"},{"$error":"#N/A"},{"$error":"#N/A"},{"$error":"#N/A"},{"$error":"#N/A"},{"$error":"#N/A"},{"$error":"#N/A"},{"$error":"#N/A"},{"$error":"#N/A"},{"$error":"#N/A"},{"$error":"#N/A"},{"$error":"#N/A"},{"$error":"#N/A"},{"$error":"#N/A"},{"$error":"#N/A"},{"$error":"#N/A"},{"$error":"#N/A"},{"$error":"#N/A"},{"$error":"#N/A"},{"$error":"#N/A"},{"$error":"#N/A"},{"$error":"#N/A"},{"$error":"#N/A"},{"$error":"#N/A"},{"$error":"#N/A"},{"$error":"#N/A"},{"$error":"#N/A"},{"$error":"#N/A"},{"$error":"#N/A"},{"$error":"#N/A"},{"$error":"#N/A"},{"$error":"#N/A"},{"$error":"#N/A"},{"$error":"#N/A"},{"$error":"#N/A"},{"$error":"#N/A"},{"$error":"#N/A"},{"$error":"#N/A"},{"$error":"#N/A"},{"$error":"#N/A"},{"$error":"#N/A"},{"$error":"#N/A"},{"$error":"#N/A"},{"$error":"#N/A"},{"$error":"#N/A"},{"$error":"#N/A"},{"$error":"#N/A"},{"$error":"#N/A"},{"$error":"#N/A"},{"$error":"#N/A"},{"$error":"#N/A"},{"$error":"#N/A"},{"$error":"#N/A"},{"$error":"#N/A"},{"$error":"#N/A"},{"$error":"#N/A"},{"$error":"#N/A"},{"$error":"#N/A"},{"$error":"#N/A"},{"$error":"#N/A"},{"$error":"#N/A"},{"$f":"LT94","v":{"$error":"#N/A"}},{"$error":"#N/A"},{"$error":"#N/A"},{"$error":"#N/A"},{"$error":"#N/A"},{"$error":"#N/A"},{"$error":"#N/A"},{"$error":"#N/A"},{"$error":"#N/A"},{"$error":"#N/A"},{"$error":"#N/A"},{"$error":"#N/A"},{"$error":"#N/A"},{"$error":"#N/A"},{"$error":"#N/A"},{"$error":"#N/A"},{"$error":"#N/A"},{"$error":"#N/A"},{"$error":"#N/A"},{"$error":"#N/A"},{"$error":"#N/A"},{"$error":"#N/A"},{"$error":"#N/A"},{"$error":"#N/A"},{"$error":"#N/A"},{"$error":"#N/A"},{"$error":"#N/A"},{"$error":"#N/A"},{"$error":"#N/A"},{"$error":"#N/A"},{"$error":"#N/A"},{"$error":"#N/A"},{"$error":"#N/A"},{"$error":"#N/A"},{"$error":"#N/A"},{"$error":"#N/A"},{"$error":"#N/A"},{"$error":"#N/A"},{"$error":"#N/A"},{"$error":"#N/A"},{"$error":"#N/A"},{"$error":"#N/A"},{"$error":"#N/A"},{"$error":"#N/A"},{"$error":"#N/A"},{"$error":"#N/A"},{"$error":"#N/A"},{"$error":"#N/A"},{"$error":"#N/A"},{"$error":"#N/A"},{"$error":"#N/A"},{"$error":"#N/A"},{"$error":"#N/A"},{"$error":"#N/A"},{"$error":"#N/A"},{"$error":"#N/A"},{"$error":"#N/A"},{"$error":"#N/A"},{"$error":"#N/A"},{"$error":"#N/A"},{"$error":"#N/A"},{"$error":"#N/A"},{"$error":"#N/A"},{"$error":"#N/A"},{"$f":"OF94","v":{"$error":"#N/A"}},{"$error":"#N/A"},{"$error":"#N/A"},{"$error":"#N/A"},{"$error":"#N/A"},{"$error":"#N/A"},{"$error":"#N/A"},{"$error":"#N/A"},{"$error":"#N/A"},{"$error":"#N/A"},{"$error":"#N/A"},{"$error":"#N/A"},{"$error":"#N/A"},{"$error":"#N/A"},{"$error":"#N/A"},{"$error":"#N/A"},{"$error":"#N/A"},{"$error":"#N/A"},{"$error":"#N/A"},{"$error":"#N/A"},{"$error":"#N/A"},{"$error":"#N/A"},{"$error":"#N/A"},{"$error":"#N/A"},{"$error":"#N/A"},{"$error":"#N/A"},{"$error":"#N/A"},{"$error":"#N/A"},{"$error":"#N/A"},{"$error":"#N/A"},{"$error":"#N/A"},{"$error":"#N/A"},{"$error":"#N/A"},{"$error":"#N/A"},{"$error":"#N/A"},{"$error":"#N/A"},{"$error":"#N/A"},{"$error":"#N/A"},{"$error":"#N/A"},{"$error":"#N/A"},{"$error":"#N/A"},{"$error":"#N/A"},{"$error":"#N/A"},{"$error":"#N/A"},{"$error":"#N/A"},{"$error":"#N/A"},{"$error":"#N/A"},{"$error":"#N/A"},{"$error":"#N/A"},{"$error":"#N/A"},{"$error":"#N/A"},{"$error":"#N/A"},{"$error":"#N/A"},{"$error":"#N/A"},{"$error":"#N/A"},{"$error":"#N/A"},{"$error":"#N/A"},{"$error":"#N/A"},{"$error":"#N/A"},{"$error":"#N/A"},{"$error":"#N/A"},{"$error":"#N/A"},{"$error":"#N/A"},{"$error":"#N/A"},{"$f":"QR94","v":{"$error":"#N/A"}},{"$error":"#N/A"},{"$error":"#N/A"},{"$error":"#N/A"},{"$error":"#N/A"},{"$error":"#N/A"},{"$error":"#N/A"},{"$error":"#N/A"},{"$error":"#N/A"},{"$error":"#N/A"},{"$error":"#N/A"},{"$error":"#N/A"},{"$error":"#N/A"},{"$error":"#N/A"},{"$error":"#N/A"},{"$error":"#N/A"},{"$error":"#N/A"},{"$error":"#N/A"},{"$error":"#N/A"},{"$error":"#N/A"},{"$error":"#N/A"},{"$error":"#N/A"},{"$error":"#N/A"},{"$error":"#N/A"},{"$error":"#N/A"},{"$error":"#N/A"},{"$error":"#N/A"},{"$error":"#N/A"},{"$error":"#N/A"},{"$error":"#N/A"},{"$error":"#N/A"},{"$error":"#N/A"},{"$error":"#N/A"},{"$error":"#N/A"},{"$error":"#N/A"},{"$error":"#N/A"},{"$error":"#N/A"},{"$error":"#N/A"},{"$error":"#N/A"},{"$error":"#N/A"},{"$error":"#N/A"},{"$error":"#N/A"},{"$error":"#N/A"},{"$error":"#N/A"},{"$error":"#N/A"},{"$error":"#N/A"},{"$error":"#N/A"},{"$error":"#N/A"},{"$error":"#N/A"},{"$error":"#N/A"},{"$error":"#N/A"}]
[null,null,null,"Add: Expenses Booked",null,null,"USD",null,null,null,null,{"$f":"L87","v":{"$error":"#N/A"}},{"$f":"M87","v":{"$error":"#N/A"}},{"$error":"#N/A"},{"$error":"#N/A"},{"$error":"#N/A"},{"$error":"#N/A"},{"$error":"#N/A"},{"$error":"#N/A"},{"$error":"#N/A"},{"$error":"#N/A"},{"$error":"#N/A"},{"$error":"#N/A"},{"$error":"#N/A"},{"$error":"#N/A"},{"$error":"#N/A"},{"$error":"#N/A"},{"$error":"#N/A"},{"$error":"#N/A"},{"$error":"#N/A"},{"$error":"#N/A"},{"$error":"#N/A"},{"$error":"#N/A"},{"$error":"#N/A"},{"$error":"#N/A"},{"$error":"#N/A"},{"$error":"#N/A"},{"$error":"#N/A"},{"$error":"#N/A"},{"$error":"#N/A"},{"$error":"#N/A"},{"$error":"#N/A"},{"$error":"#N/A"},{"$error":"#N/A"},{"$error":"#N/A"},{"$error":"#N/A"},{"$error":"#N/A"},{"$error":"#N/A"},{"$error":"#N/A"},{"$error":"#N/A"},{"$error":"#N/A"},{"$error":"#N/A"},{"$error":"#N/A"},{"$error":"#N/A"},{"$error":"#N/A"},{"$error":"#N/A"},{"$error":"#N/A"},{"$error":"#N/A"},{"$error":"#N/A"},{"$error":"#N/A"},{"$error":"#N/A"},{"$error":"#N/A"},{"$error":"#N/A"},{"$error":"#N/A"},{"$error":"#N/A"},{"$error":"#N/A"},{"$error":"#N/A"},{"$error":"#N/A"},{"$error":"#N/A"},{"$error":"#N/A"},{"$error":"#N/A"},{"$error":"#N/A"},{"$error":"#N/A"},{"$error":"#N/A"},{"$error":"#N/A"},{"$error":"#N/A"},{"$f":"BY87","v":{"$error":"#N/A"}},{"$error":"#N/A"},{"$error":"#N/A"},{"$error":"#N/A"},{"$error":"#N/A"},{"$error":"#N/A"},{"$error":"#N/A"},{"$error":"#N/A"},{"$error":"#N/A"},{"$error":"#N/A"},{"$error":"#N/A"},{"$error":"#N/A"},{"$error":"#N/A"},{"$error":"#N/A"},{"$error":"#N/A"},{"$error":"#N/A"},{"$error":"#N/A"},{"$error":"#N/A"},{"$error":"#N/A"},{"$error":"#N/A"},{"$error":"#N/A"},{"$error":"#N/A"},{"$error":"#N/A"},{"$error":"#N/A"},{"$error":"#N/A"},{"$error":"#N/A"},{"$error":"#N/A"},{"$error":"#N/A"},{"$error":"#N/A"},{"$error":"#N/A"},{"$error":"#N/A"},{"$error":"#N/A"},{"$error":"#N/A"},{"$error":"#N/A"},{"$error":"#N/A"},{"$error":"#N/A"},{"$error":"#N/A"},{"$error":"#N/A"},{"$error":"#N/A"},{"$error":"#N/A"},{"$error":"#N/A"},{"$error":"#N/A"},{"$error":"#N/A"},{"$error":"#N/A"},{"$error":"#N/A"},{"$error":"#N/A"},{"$error":"#N/A"},{"$error":"#N/A"},{"$error":"#N/A"},{"$error":"#N/A"},{"$error":"#N/A"},{"$error":"#N/A"},{"$error":"#N/A"},{"$error":"#N/A"},{"$error":"#N/A"},{"$error":"#N/A"},{"$error":"#N/A"},{"$error":"#N/A"},{"$error":"#N/A"},{"$error":"#N/A"},{"$error":"#N/A"},{"$error":"#N/A"},{"$error":"#N/A"},{"$error":"#N/A"},{"$f":"EK87","v":{"$error":"#N/A"}},{"$error":"#N/A"},{"$error":"#N/A"},{"$error":"#N/A"},{"$error":"#N/A"},{"$error":"#N/A"},{"$error":"#N/A"},{"$error":"#N/A"},{"$error":"#N/A"},{"$error":"#N/A"},{"$error":"#N/A"},{"$error":"#N/A"},{"$error":"#N/A"},{"$error":"#N/A"},{"$error":"#N/A"},{"$error":"#N/A"},{"$error":"#N/A"},{"$error":"#N/A"},{"$error":"#N/A"},{"$error":"#N/A"},{"$error":"#N/A"},{"$error":"#N/A"},{"$error":"#N/A"},{"$error":"#N/A"},{"$error":"#N/A"},{"$error":"#N/A"},{"$error":"#N/A"},{"$error":"#N/A"},{"$error":"#N/A"},{"$error":"#N/A"},{"$error":"#N/A"},{"$error":"#N/A"},{"$error":"#N/A"},{"$error":"#N/A"},{"$error":"#N/A"},{"$error":"#N/A"},{"$error":"#N/A"},{"$error":"#N/A"},{"$error":"#N/A"},{"$error":"#N/A"},{"$error":"#N/A"},{"$error":"#N/A"},{"$error":"#N/A"},{"$error":"#N/A"},{"$error":"#N/A"},{"$error":"#N/A"},{"$error":"#N/A"},{"$error":"#N/A"},{"$error":"#N/A"},{"$error":"#N/A"},{"$error":"#N/A"},{"$error":"#N/A"},{"$error":"#N/A"},{"$error":"#N/A"},{"$error":"#N/A"},{"$error":"#N/A"},{"$error":"#N/A"},{"$error":"#N/A"},{"$error":"#N/A"},{"$error":"#N/A"},{"$error":"#N/A"},{"$error":"#N/A"},{"$error":"#N/A"},{"$error":"#N/A"},{"$f":"GW87","v":{"$error":"#N/A"}},{"$error":"#N/A"},{"$error":"#N/A"},{"$error":"#N/A"},{"$error":"#N/A"},{"$error":"#N/A"},{"$error":"#N/A"},{"$error":"#N/A"},{"$error":"#N/A"},{"$error":"#N/A"},{"$error":"#N/A"},{"$error":"#N/A"},{"$error":"#N/A"},{"$error":"#N/A"},{"$error":"#N/A"},{"$error":"#N/A"},{"$error":"#N/A"},{"$error":"#N/A"},{"$error":"#N/A"},{"$error":"#N/A"},{"$error":"#N/A"},{"$error":"#N/A"},{"$error":"#N/A"},{"$error":"#N/A"},{"$error":"#N/A"},{"$error":"#N/A"},{"$error":"#N/A"},{"$error":"#N/A"},{"$error":"#N/A"},{"$error":"#N/A"},{"$error":"#N/A"},{"$error":"#N/A"},{"$error":"#N/A"},{"$error":"#N/A"},{"$error":"#N/A"},{"$error":"#N/A"},{"$error":"#N/A"},{"$error":"#N/A"},{"$error":"#N/A"},{"$error":"#N/A"},{"$error":"#N/A"},{"$error":"#N/A"},{"$error":"#N/A"},{"$error":"#N/A"},{"$error":"#N/A"},{"$error":"#N/A"},{"$error":"#N/A"},{"$error":"#N/A"},{"$error":"#N/A"},{"$error":"#N/A"},{"$error":"#N/A"},{"$error":"#N/A"},{"$error":"#N/A"},{"$error":"#N/A"},{"$error":"#N/A"},{"$error":"#N/A"},{"$error":"#N/A"},{"$error":"#N/A"},{"$error":"#N/A"},{"$error":"#N/A"},{"$error":"#N/A"},{"$error":"#N/A"},{"$error":"#N/A"},{"$error":"#N/A"},{"$f":"JI87","v":{"$error":"#N/A"}},{"$error":"#N/A"},{"$error":"#N/A"},{"$error":"#N/A"},{"$error":"#N/A"},{"$error":"#N/A"},{"$error":"#N/A"},{"$error":"#N/A"},{"$error":"#N/A"},{"$error":"#N/A"},{"$error":"#N/A"},{"$error":"#N/A"},{"$error":"#N/A"},{"$error":"#N/A"},{"$error":"#N/A"},{"$error":"#N/A"},{"$error":"#N/A"},{"$error":"#N/A"},{"$error":"#N/A"},{"$error":"#N/A"},{"$error":"#N/A"},{"$error":"#N/A"},{"$error":"#N/A"},{"$error":"#N/A"},{"$error":"#N/A"},{"$error":"#N/A"},{"$error":"#N/A"},{"$error":"#N/A"},{"$error":"#N/A"},{"$error":"#N/A"},{"$error":"#N/A"},{"$error":"#N/A"},{"$error":"#N/A"},{"$error":"#N/A"},{"$error":"#N/A"},{"$error":"#N/A"},{"$error":"#N/A"},{"$error":"#N/A"},{"$error":"#N/A"},{"$error":"#N/A"},{"$error":"#N/A"},{"$error":"#N/A"},{"$error":"#N/A"},{"$error":"#N/A"},{"$error":"#N/A"},{"$error":"#N/A"},{"$error":"#N/A"},{"$error":"#N/A"},{"$error":"#N/A"},{"$error":"#N/A"},{"$error":"#N/A"},{"$error":"#N/A"},{"$error":"#N/A"},{"$error":"#N/A"},{"$error":"#N/A"},{"$error":"#N/A"},{"$error":"#N/A"},{"$error":"#N/A"},{"$error":"#N/A"},{"$error":"#N/A"},{"$error":"#N/A"},{"$error":"#N/A"},{"$error":"#N/A"},{"$error":"#N/A"},{"$f":"LU87","v":{"$error":"#N/A"}},{"$error":"#N/A"},{"$error":"#N/A"},{"$error":"#N/A"},{"$error":"#N/A"},{"$error":"#N/A"},{"$error":"#N/A"},{"$error":"#N/A"},{"$error":"#N/A"},{"$error":"#N/A"},{"$error":"#N/A"},{"$error":"#N/A"},{"$error":"#N/A"},{"$error":"#N/A"},{"$error":"#N/A"},{"$error":"#N/A"},{"$error":"#N/A"},{"$error":"#N/A"},{"$error":"#N/A"},{"$error":"#N/A"},{"$error":"#N/A"},{"$error":"#N/A"},{"$error":"#N/A"},{"$error":"#N/A"},{"$error":"#N/A"},{"$error":"#N/A"},{"$error":"#N/A"},{"$error":"#N/A"},{"$error":"#N/A"},{"$error":"#N/A"},{"$error":"#N/A"},{"$error":"#N/A"},{"$error":"#N/A"},{"$error":"#N/A"},{"$error":"#N/A"},{"$error":"#N/A"},{"$error":"#N/A"},{"$error":"#N/A"},{"$error":"#N/A"},{"$error":"#N/A"},{"$error":"#N/A"},{"$error":"#N/A"},{"$error":"#N/A"},{"$error":"#N/A"},{"$error":"#N/A"},{"$error":"#N/A"},{"$error":"#N/A"},{"$error":"#N/A"},{"$error":"#N/A"},{"$error":"#N/A"},{"$error":"#N/A"},{"$error":"#N/A"},{"$error":"#N/A"},{"$error":"#N/A"},{"$error":"#N/A"},{"$error":"#N/A"},{"$error":"#N/A"},{"$error":"#N/A"},{"$error":"#N/A"},{"$error":"#N/A"},{"$error":"#N/A"},{"$error":"#N/A"},{"$error":"#N/A"},{"$error":"#N/A"},{"$f":"OG87","v":{"$error":"#N/A"}},{"$error":"#N/A"},{"$error":"#N/A"},{"$error":"#N/A"},{"$error":"#N/A"},{"$error":"#N/A"},{"$error":"#N/A"},{"$error":"#N/A"},{"$error":"#N/A"},{"$error":"#N/A"},{"$error":"#N/A"},{"$error":"#N/A"},{"$error":"#N/A"},{"$error":"#N/A"},{"$error":"#N/A"},{"$error":"#N/A"},{"$error":"#N/A"},{"$error":"#N/A"},{"$error":"#N/A"},{"$error":"#N/A"},{"$error":"#N/A"},{"$error":"#N/A"},{"$error":"#N/A"},{"$error":"#N/A"},{"$error":"#N/A"},{"$error":"#N/A"},{"$error":"#N/A"},{"$error":"#N/A"},{"$error":"#N/A"},{"$error":"#N/A"},{"$error":"#N/A"},{"$error":"#N/A"},{"$error":"#N/A"},{"$error":"#N/A"},{"$error":"#N/A"},{"$error":"#N/A"},{"$error":"#N/A"},{"$error":"#N/A"},{"$error":"#N/A"},{"$error":"#N/A"},{"$error":"#N/A"},{"$error":"#N/A"},{"$error":"#N/A"},{"$error":"#N/A"},{"$error":"#N/A"},{"$error":"#N/A"},{"$error":"#N/A"},{"$error":"#N/A"},{"$error":"#N/A"},{"$error":"#N/A"},{"$error":"#N/A"},{"$error":"#N/A"},{"$error":"#N/A"},{"$error":"#N/A"},{"$error":"#N/A"},{"$error":"#N/A"},{"$error":"#N/A"},{"$error":"#N/A"},{"$error":"#N/A"},{"$error":"#N/A"},{"$error":"#N/A"},{"$error":"#N/A"},{"$error":"#N/A"},{"$error":"#N/A"},{"$f":"QS87","v":{"$error":"#N/A"}},{"$error":"#N/A"},{"$error":"#N/A"},{"$error":"#N/A"},{"$error":"#N/A"},{"$error":"#N/A"},{"$error":"#N/A"},{"$error":"#N/A"},{"$error":"#N/A"},{"$error":"#N/A"},{"$error":"#N/A"},{"$error":"#N/A"},{"$error":"#N/A"},{"$error":"#N/A"},{"$error":"#N/A"},{"$error":"#N/A"},{"$error":"#N/A"},{"$error":"#N/A"},{"$error":"#N/A"},{"$error":"#N/A"},{"$error":"#N/A"},{"$error":"#N/A"},{"$error":"#N/A"},{"$error":"#N/A"},{"$error":"#N/A"},{"$error":"#N/A"},{"$error":"#N/A"},{"$error":"#N/A"},{"$error":"#N/A"},{"$error":"#N/A"},{"$error":"#N/A"},{"$error":"#N/A"},{"$error":"#N/A"},{"$error":"#N/A"},{"$error":"#N/A"},{"$error":"#N/A"},{"$error":"#N/A"},{"$error":"#N/A"},{"$error":"#N/A"},{"$error":"#N/A"},{"$error":"#N/A"},{"$error":"#N/A"},{"$error":"#N/A"},{"$error":"#N/A"},{"$error":"#N/A"},{"$error":"#N/A"},{"$error":"#N/A"},{"$error":"#N/A"},{"$error":"#N/A"},{"$error":"#N/A"},{"$error":"#N/A"}]
[null,null,null,"Less: Expenses Collected",null,null,"USD",null,null,null,null,{"$f":"L89","v":0},{"$f":"M89","v":0},{"$error":"#N/A"},{"$error":"#N/A"},{"$error":"#N/A"},{"$error":"#N/A"},{"$error":"#N/A"},{"$error":"#N/A"},{"$error":"#N/A"},{"$error":"#N/A"},{"$error":"#N/A"},{"$error":"#N/A"},{"$error":"#N/A"},{"$error":"#N/A"},{"$error":"#N/A"},{"$error":"#N/A"},{"$error":"#N/A"},{"$error":"#N/A"},{"$error":"#N/A"},{"$error":"#N/A"},{"$error":"#N/A"},{"$error":"#N/A"},{"$error":"#N/A"},{"$error":"#N/A"},{"$error":"#N/A"},{"$error":"#N/A"},{"$error":"#N/A"},{"$error":"#N/A"},{"$error":"#N/A"},{"$error":"#N/A"},{"$error":"#N/A"},{"$error":"#N/A"},{"$error":"#N/A"},{"$error":"#N/A"},{"$error":"#N/A"},{"$error":"#N/A"},{"$error":"#N/A"},{"$error":"#N/A"},{"$error":"#N/A"},{"$error":"#N/A"},{"$error":"#N/A"},{"$error":"#N/A"},{"$error":"#N/A"},{"$error":"#N/A"},{"$error":"#N/A"},{"$error":"#N/A"},{"$error":"#N/A"},{"$error":"#N/A"},{"$error":"#N/A"},{"$error":"#N/A"},{"$error":"#N/A"},{"$error":"#N/A"},{"$error":"#N/A"},{"$error":"#N/A"},{"$error":"#N/A"},{"$error":"#N/A"},{"$error":"#N/A"},{"$error":"#N/A"},{"$error":"#N/A"},{"$error":"#N/A"},{"$error":"#N/A"},{"$error":"#N/A"},{"$error":"#N/A"},{"$error":"#N/A"},{"$error":"#N/A"},{"$f":"BY89","v":{"$error":"#N/A"}},{"$error":"#N/A"},{"$error":"#N/A"},{"$error":"#N/A"},{"$error":"#N/A"},{"$error":"#N/A"},{"$error":"#N/A"},{"$error":"#N/A"},{"$error":"#N/A"},{"$error":"#N/A"},{"$error":"#N/A"},{"$error":"#N/A"},{"$error":"#N/A"},{"$error":"#N/A"},{"$error":"#N/A"},{"$error":"#N/A"},{"$error":"#N/A"},{"$error":"#N/A"},{"$error":"#N/A"},{"$error":"#N/A"},{"$error":"#N/A"},{"$error":"#N/A"},{"$error":"#N/A"},{"$error":"#N/A"},{"$error":"#N/A"},{"$error":"#N/A"},{"$error":"#N/A"},{"$error":"#N/A"},{"$error":"#N/A"},{"$error":"#N/A"},{"$error":"#N/A"},{"$error":"#N/A"},{"$error":"#N/A"},{"$error":"#N/A"},{"$error":"#N/A"},{"$error":"#N/A"},{"$error":"#N/A"},{"$error":"#N/A"},{"$error":"#N/A"},{"$error":"#N/A"},{"$error":"#N/A"},{"$error":"#N/A"},{"$error":"#N/A"},{"$error":"#N/A"},{"$error":"#N/A"},{"$error":"#N/A"},{"$error":"#N/A"},{"$error":"#N/A"},{"$error":"#N/A"},{"$error":"#N/A"},{"$error":"#N/A"},{"$error":"#N/A"},{"$error":"#N/A"},{"$error":"#N/A"},{"$error":"#N/A"},{"$error":"#N/A"},{"$error":"#N/A"},{"$error":"#N/A"},{"$error":"#N/A"},{"$error":"#N/A"},{"$error":"#N/A"},{"$error":"#N/A"},{"$error":"#N/A"},{"$error":"#N/A"},{"$f":"EK89","v":{"$error":"#N/A"}},{"$error":"#N/A"},{"$error":"#N/A"},{"$error":"#N/A"},{"$error":"#N/A"},{"$error":"#N/A"},{"$error":"#N/A"},{"$error":"#N/A"},{"$error":"#N/A"},{"$error":"#N/A"},{"$error":"#N/A"},{"$error":"#N/A"},{"$error":"#N/A"},{"$error":"#N/A"},{"$error":"#N/A"},{"$error":"#N/A"},{"$error":"#N/A"},{"$error":"#N/A"},{"$error":"#N/A"},{"$error":"#N/A"},{"$error":"#N/A"},{"$error":"#N/A"},{"$error":"#N/A"},{"$error":"#N/A"},{"$error":"#N/A"},{"$error":"#N/A"},{"$error":"#N/A"},{"$error":"#N/A"},{"$error":"#N/A"},{"$error":"#N/A"},{"$error":"#N/A"},{"$error":"#N/A"},{"$error":"#N/A"},{"$error":"#N/A"},{"$error":"#N/A"},{"$error":"#N/A"},{"$error":"#N/A"},{"$error":"#N/A"},{"$error":"#N/A"},{"$error":"#N/A"},{"$error":"#N/A"},{"$error":"#N/A"},{"$error":"#N/A"},{"$error":"#N/A"},{"$error":"#N/A"},{"$error":"#N/A"},{"$error":"#N/A"},{"$error":"#N/A"},{"$error":"#N/A"},{"$error":"#N/A"},{"$error":"#N/A"},{"$error":"#N/A"},{"$error":"#N/A"},{"$error":"#N/A"},{"$error":"#N/A"},{"$error":"#N/A"},{"$error":"#N/A"},{"$error":"#N/A"},{"$error":"#N/A"},{"$error":"#N/A"},{"$error":"#N/A"},{"$error":"#N/A"},{"$error":"#N/A"},{"$error":"#N/A"},{"$f":"GW89","v":{"$error":"#N/A"}},{"$error":"#N/A"},{"$error":"#N/A"},{"$error":"#N/A"},{"$error":"#N/A"},{"$error":"#N/A"},{"$error":"#N/A"},{"$error":"#N/A"},{"$error":"#N/A"},{"$error":"#N/A"},{"$error":"#N/A"},{"$error":"#N/A"},{"$error":"#N/A"},{"$error":"#N/A"},{"$error":"#N/A"},{"$error":"#N/A"},{"$error":"#N/A"},{"$error":"#N/A"},{"$error":"#N/A"},{"$error":"#N/A"},{"$error":"#N/A"},{"$error":"#N/A"},{"$error":"#N/A"},{"$error":"#N/A"},{"$error":"#N/A"},{"$error":"#N/A"},{"$error":"#N/A"},{"$error":"#N/A"},{"$error":"#N/A"},{"$error":"#N/A"},{"$error":"#N/A"},{"$error":"#N/A"},{"$error":"#N/A"},{"$error":"#N/A"},{"$error":"#N/A"},{"$error":"#N/A"},{"$error":"#N/A"},{"$error":"#N/A"},{"$error":"#N/A"},{"$error":"#N/A"},{"$error":"#N/A"},{"$error":"#N/A"},{"$error":"#N/A"},{"$error":"#N/A"},{"$error":"#N/A"},{"$error":"#N/A"},{"$error":"#N/A"},{"$error":"#N/A"},{"$error":"#N/A"},{"$error":"#N/A"},{"$error":"#N/A"},{"$error":"#N/A"},{"$error":"#N/A"},{"$error":"#N/A"},{"$error":"#N/A"},{"$error":"#N/A"},{"$error":"#N/A"},{"$error":"#N/A"},{"$error":"#N/A"},{"$error":"#N/A"},{"$error":"#N/A"},{"$error":"#N/A"},{"$error":"#N/A"},{"$error":"#N/A"},{"$f":"JI89","v":{"$error":"#N/A"}},{"$error":"#N/A"},{"$error":"#N/A"},{"$error":"#N/A"},{"$error":"#N/A"},{"$error":"#N/A"},{"$error":"#N/A"},{"$error":"#N/A"},{"$error":"#N/A"},{"$error":"#N/A"},{"$error":"#N/A"},{"$error":"#N/A"},{"$error":"#N/A"},{"$error":"#N/A"},{"$error":"#N/A"},{"$error":"#N/A"},{"$error":"#N/A"},{"$error":"#N/A"},{"$error":"#N/A"},{"$error":"#N/A"},{"$error":"#N/A"},{"$error":"#N/A"},{"$error":"#N/A"},{"$error":"#N/A"},{"$error":"#N/A"},{"$error":"#N/A"},{"$error":"#N/A"},{"$error":"#N/A"},{"$error":"#N/A"},{"$error":"#N/A"},{"$error":"#N/A"},{"$error":"#N/A"},{"$error":"#N/A"},{"$error":"#N/A"},{"$error":"#N/A"},{"$error":"#N/A"},{"$error":"#N/A"},{"$error":"#N/A"},{"$error":"#N/A"},{"$error":"#N/A"},{"$error":"#N/A"},{"$error":"#N/A"},{"$error":"#N/A"},{"$error":"#N/A"},{"$error":"#N/A"},{"$error":"#N/A"},{"$error":"#N/A"},{"$error":"#N/A"},{"$error":"#N/A"},{"$error":"#N/A"},{"$error":"#N/A"},{"$error":"#N/A"},{"$error":"#N/A"},{"$error":"#N/A"},{"$error":"#N/A"},{"$error":"#N/A"},{"$error":"#N/A"},{"$error":"#N/A"},{"$error":"#N/A"},{"$error":"#N/A"},{"$error":"#N/A"},{"$error":"#N/A"},{"$error":"#N/A"},{"$error":"#N/A"},{"$f":"LU89","v":{"$error":"#N/A"}},{"$error":"#N/A"},{"$error":"#N/A"},{"$error":"#N/A"},{"$error":"#N/A"},{"$error":"#N/A"},{"$error":"#N/A"},{"$error":"#N/A"},{"$error":"#N/A"},{"$error":"#N/A"},{"$error":"#N/A"},{"$error":"#N/A"},{"$error":"#N/A"},{"$error":"#N/A"},{"$error":"#N/A"},{"$error":"#N/A"},{"$error":"#N/A"},{"$error":"#N/A"},{"$error":"#N/A"},{"$error":"#N/A"},{"$error":"#N/A"},{"$error":"#N/A"},{"$error":"#N/A"},{"$error":"#N/A"},{"$error":"#N/A"},{"$error":"#N/A"},{"$error":"#N/A"},{"$error":"#N/A"},{"$error":"#N/A"},{"$error":"#N/A"},{"$error":"#N/A"},{"$error":"#N/A"},{"$error":"#N/A"},{"$error":"#N/A"},{"$error":"#N/A"},{"$error":"#N/A"},{"$error":"#N/A"},{"$error":"#N/A"},{"$error":"#N/A"},{"$error":"#N/A"},{"$error":"#N/A"},{"$error":"#N/A"},{"$error":"#N/A"},{"$error":"#N/A"},{"$error":"#N/A"},{"$error":"#N/A"},{"$error":"#N/A"},{"$error":"#N/A"},{"$error":"#N/A"},{"$error":"#N/A"},{"$error":"#N/A"},{"$error":"#N/A"},{"$error":"#N/A"},{"$error":"#N/A"},{"$error":"#N/A"},{"$error":"#N/A"},{"$error":"#N/A"},{"$error":"#N/A"},{"$error":"#N/A"},{"$error":"#N/A"},{"$error":"#N/A"},{"$error":"#N/A"},{"$error":"#N/A"},{"$error":"#N/A"},{"$f":"OG89","v":{"$error":"#N/A"}},{"$error":"#N/A"},{"$error":"#N/A"},{"$error":"#N/A"},{"$error":"#N/A"},{"$error":"#N/A"},{"$error":"#N/A"},{"$error":"#N/A"},{"$error":"#N/A"},{"$error":"#N/A"},{"$error":"#N/A"},{"$error":"#N/A"},{"$error":"#N/A"},{"$error":"#N/A"},{"$error":"#N/A"},{"$error":"#N/A"},{"$error":"#N/A"},{"$error":"#N/A"},{"$error":"#N/A"},{"$error":"#N/A"},{"$error":"#N/A"},{"$error":"#N/A"},{"$error":"#N/A"},{"$error":"#N/A"},{"$error":"#N/A"},{"$error":"#N/A"},{"$error":"#N/A"},{"$error":"#N/A"},{"$error":"#N/A"},{"$error":"#N/A"},{"$error":"#N/A"},{"$error":"#N/A"},{"$error":"#N/A"},{"$error":"#N/A"},{"$error":"#N/A"},{"$error":"#N/A"},{"$error":"#N/A"},{"$error":"#N/A"},{"$error":"#N/A"},{"$error":"#N/A"},{"$error":"#N/A"},{"$error":"#N/A"},{"$error":"#N/A"},{"$error":"#N/A"},{"$error":"#N/A"},{"$error":"#N/A"},{"$error":"#N/A"},{"$error":"#N/A"},{"$error":"#N/A"},{"$error":"#N/A"},{"$error":"#N/A"},{"$error":"#N/A"},{"$error":"#N/A"},{"$error":"#N/A"},{"$error":"#N/A"},{"$error":"#N/A"},{"$error":"#N/A"},{"$error":"#N/A"},{"$error":"#N/A"},{"$error":"#N/A"},{"$error":"#N/A"},{"$error":"#N/A"},{"$error":"#N/A"},{"$error":"#N/A"},{"$f":"QS89","v":{"$error":"#N/A"}},{"$error":"#N/A"},{"$error":"#N/A"},{"$error":"#N/A"},{"$error":"#N/A"},{"$error":"#N/A"},{"$error":"#N/A"},{"$error":"#N/A"},{"$error":"#N/A"},{"$error":"#N/A"},{"$error":"#N/A"},{"$error":"#N/A"},{"$error":"#N/A"},{"$error":"#N/A"},{"$error":"#N/A"},{"$error":"#N/A"},{"$error":"#N/A"},{"$error":"#N/A"},{"$error":"#N/A"},{"$error":"#N/A"},{"$error":"#N/A"},{"$error":"#N/A"},{"$error":"#N/A"},{"$error":"#N/A"},{"$error":"#N/A"},{"$error":"#N/A"},{"$error":"#N/A"},{"$error":"#N/A"},{"$error":"#N/A"},{"$error":"#N/A"},{"$error":"#N/A"},{"$error":"#N/A"},{"$error":"#N/A"},{"$error":"#N/A"},{"$error":"#N/A"},{"$error":"#N/A"},{"$error":"#N/A"},{"$error":"#N/A"},{"$error":"#N/A"},{"$error":"#N/A"},{"$error":"#N/A"},{"$error":"#N/A"},{"$error":"#N/A"},{"$error":"#N/A"},{"$error":"#N/A"},{"$error":"#N/A"},{"$error":"#N/A"},{"$error":"#N/A"},{"$error":"#N/A"},{"$error":"#N/A"},{"$error":"#N/A"}]
[null,null,null,"Payable Balance - CF",null,null,"USD",null,null,null,null,{"$f":"L91+L92-L93","v":{"$error":"#N/A"}},{"$f":"M91+M92-M93","v":{"$error":"#N/A"}},{"$error":"#N/A"},{"$error":"#N/A"},{"$error":"#N/A"},{"$error":"#N/A"},{"$error":"#N/A"},{"$error":"#N/A"},{"$error":"#N/A"},{"$error":"#N/A"},{"$error":"#N/A"},{"$error":"#N/A"},{"$error":"#N/A"},{"$error":"#N/A"},{"$error":"#N/A"},{"$error":"#N/A"},{"$error":"#N/A"},{"$error":"#N/A"},{"$error":"#N/A"},{"$error":"#N/A"},{"$error":"#N/A"},{"$error":"#N/A"},{"$error":"#N/A"},{"$error":"#N/A"},{"$error":"#N/A"},{"$error":"#N/A"},{"$error":"#N/A"},{"$error":"#N/A"},{"$error":"#N/A"},{"$error":"#N/A"},{"$error":"#N/A"},{"$error":"#N/A"},{"$error":"#N/A"},{"$error":"#N/A"},{"$error":"#N/A"},{"$error":"#N/A"},{"$error":"#N/A"},{"$error":"#N/A"},{"$error":"#N/A"},{"$error":"#N/A"},{"$error":"#N/A"},{"$error":"#N/A"},{"$error":"#N/A"},{"$error":"#N/A"},{"$error":"#N/A"},{"$error":"#N/A"},{"$error":"#N/A"},{"$error":"#N/A"},{"$error":"#N/A"},{"$error":"#N/A"},{"$error":"#N/A"},{"$error":"#N/A"},{"$error":"#N/A"},{"$error":"#N/A"},{"$error":"#N/A"},{"$error":"#N/A"},{"$error":"#N/A"},{"$error":"#N/A"},{"$error":"#N/A"},{"$error":"#N/A"},{"$error":"#N/A"},{"$error":"#N/A"},{"$error":"#N/A"},{"$error":"#N/A"},{"$error":"#N/A"},{"$f":"BY91+BY92-BY93","v":{"$error":"#N/A"}},{"$error":"#N/A"},{"$error":"#N/A"},{"$error":"#N/A"},{"$error":"#N/A"},{"$error":"#N/A"},{"$error":"#N/A"},{"$error":"#N/A"},{"$error":"#N/A"},{"$error":"#N/A"},{"$error":"#N/A"},{"$error":"#N/A"},{"$error":"#N/A"},{"$error":"#N/A"},{"$error":"#N/A"},{"$error":"#N/A"},{"$error":"#N/A"},{"$error":"#N/A"},{"$error":"#N/A"},{"$error":"#N/A"},{"$error":"#N/A"},{"$error":"#N/A"},{"$error":"#N/A"},{"$error":"#N/A"},{"$error":"#N/A"},{"$error":"#N/A"},{"$error":"#N/A"},{"$error":"#N/A"},{"$error":"#N/A"},{"$error":"#N/A"},{"$error":"#N/A"},{"$error":"#N/A"},{"$error":"#N/A"},{"$error":"#N/A"},{"$error":"#N/A"},{"$error":"#N/A"},{"$error":"#N/A"},{"$error":"#N/A"},{"$error":"#N/A"},{"$error":"#N/A"},{"$error":"#N/A"},{"$error":"#N/A"},{"$error":"#N/A"},{"$error":"#N/A"},{"$error":"#N/A"},{"$error":"#N/A"},{"$error":"#N/A"},{"$error":"#N/A"},{"$error":"#N/A"},{"$error":"#N/A"},{"$error":"#N/A"},{"$error":"#N/A"},{"$error":"#N/A"},{"$error":"#N/A"},{"$error":"#N/A"},{"$error":"#N/A"},{"$error":"#N/A"},{"$error":"#N/A"},{"$error":"#N/A"},{"$error":"#N/A"},{"$error":"#N/A"},{"$error":"#N/A"},{"$error":"#N/A"},{"$error":"#N/A"},{"$f":"EK91+EK92-EK93","v":{"$error":"#N/A"}},{"$error":"#N/A"},{"$error":"#N/A"},{"$error":"#N/A"},{"$error":"#N/A"},{"$error":"#N/A"},{"$error":"#N/A"},{"$error":"#N/A"},{"$error":"#N/A"},{"$error":"#N/A"},{"$error":"#N/A"},{"$error":"#N/A"},{"$error":"#N/A"},{"$error":"#N/A"},{"$error":"#N/A"},{"$error":"#N/A"},{"$error":"#N/A"},{"$error":"#N/A"},{"$error":"#N/A"},{"$error":"#N/A"},{"$error":"#N/A"},{"$error":"#N/A"},{"$error":"#N/A"},{"$error":"#N/A"},{"$error":"#N/A"},{"$error":"#N/A"},{"$error":"#N/A"},{"$error":"#N/A"},{"$error":"#N/A"},{"$error":"#N/A"},{"$error":"#N/A"},{"$error":"#N/A"},{"$error":"#N/A"},{"$error":"#N/A"},{"$error":"#N/A"},{"$error":"#N/A"},{"$error":"#N/A"},{"$error":"#N/A"},{"$error":"#N/A"},{"$error":"#N/A"},{"$error":"#N/A"},{"$error":"#N/A"},{"$error":"#N/A"},{"$error":"#N/A"},{"$error":"#N/A"},{"$error":"#N/A"},{"$error":"#N/A"},{"$error":"#N/A"},{"$error":"#N/A"},{"$error":"#N/A"},{"$error":"#N/A"},{"$error":"#N/A"},{"$error":"#N/A"},{"$error":"#N/A"},{"$error":"#N/A"},{"$error":"#N/A"},{"$error":"#N/A"},{"$error":"#N/A"},{"$error":"#N/A"},{"$error":"#N/A"},{"$error":"#N/A"},{"$error":"#N/A"},{"$error":"#N/A"},{"$error":"#N/A"},{"$f":"GW91+GW92-GW93","v":{"$error":"#N/A"}},{"$error":"#N/A"},{"$error":"#N/A"},{"$error":"#N/A"},{"$error":"#N/A"},{"$error":"#N/A"},{"$error":"#N/A"},{"$error":"#N/A"},{"$error":"#N/A"},{"$error":"#N/A"},{"$error":"#N/A"},{"$error":"#N/A"},{"$error":"#N/A"},{"$error":"#N/A"},{"$error":"#N/A"},{"$error":"#N/A"},{"$error":"#N/A"},{"$error":"#N/A"},{"$error":"#N/A"},{"$error":"#N/A"},{"$error":"#N/A"},{"$error":"#N/A"},{"$error":"#N/A"},{"$error":"#N/A"},{"$error":"#N/A"},{"$error":"#N/A"},{"$error":"#N/A"},{"$error":"#N/A"},{"$error":"#N/A"},{"$error":"#N/A"},{"$error":"#N/A"},{"$error":"#N/A"},{"$error":"#N/A"},{"$error":"#N/A"},{"$error":"#N/A"},{"$error":"#N/A"},{"$error":"#N/A"},{"$error":"#N/A"},{"$error":"#N/A"},{"$error":"#N/A"},{"$error":"#N/A"},{"$error":"#N/A"},{"$error":"#N/A"},{"$error":"#N/A"},{"$error":"#N/A"},{"$error":"#N/A"},{"$error":"#N/A"},{"$error":"#N/A"},{"$error":"#N/A"},{"$error":"#N/A"},{"$error":"#N/A"},{"$error":"#N/A"},{"$error":"#N/A"},{"$error":"#N/A"},{"$error":"#N/A"},{"$error":"#N/A"},{"$error":"#N/A"},{"$error":"#N/A"},{"$error":"#N/A"},{"$error":"#N/A"},{"$error":"#N/A"},{"$error":"#N/A"},{"$error":"#N/A"},{"$error":"#N/A"},{"$f":"JI91+JI92-JI93","v":{"$error":"#N/A"}},{"$error":"#N/A"},{"$error":"#N/A"},{"$error":"#N/A"},{"$error":"#N/A"},{"$error":"#N/A"},{"$error":"#N/A"},{"$error":"#N/A"},{"$error":"#N/A"},{"$error":"#N/A"},{"$error":"#N/A"},{"$error":"#N/A"},{"$error":"#N/A"},{"$error":"#N/A"},{"$error":"#N/A"},{"$error":"#N/A"},{"$error":"#N/A"},{"$error":"#N/A"},{"$error":"#N/A"},{"$error":"#N/A"},{"$error":"#N/A"},{"$error":"#N/A"},{"$error":"#N/A"},{"$error":"#N/A"},{"$error":"#N/A"},{"$error":"#N/A"},{"$error":"#N/A"},{"$error":"#N/A"},{"$error":"#N/A"},{"$error":"#N/A"},{"$error":"#N/A"},{"$error":"#N/A"},{"$error":"#N/A"},{"$error":"#N/A"},{"$error":"#N/A"},{"$error":"#N/A"},{"$error":"#N/A"},{"$error":"#N/A"},{"$error":"#N/A"},{"$error":"#N/A"},{"$error":"#N/A"},{"$error":"#N/A"},{"$error":"#N/A"},{"$error":"#N/A"},{"$error":"#N/A"},{"$error":"#N/A"},{"$error":"#N/A"},{"$error":"#N/A"},{"$error":"#N/A"},{"$error":"#N/A"},{"$error":"#N/A"},{"$error":"#N/A"},{"$error":"#N/A"},{"$error":"#N/A"},{"$error":"#N/A"},{"$error":"#N/A"},{"$error":"#N/A"},{"$error":"#N/A"},{"$error":"#N/A"},{"$error":"#N/A"},{"$error":"#N/A"},{"$error":"#N/A"},{"$error":"#N/A"},{"$error":"#N/A"},{"$f":"LU91+LU92-LU93","v":{"$error":"#N/A"}},{"$error":"#N/A"},{"$error":"#N/A"},{"$error":"#N/A"},{"$error":"#N/A"},{"$error":"#N/A"},{"$error":"#N/A"},{"$error":"#N/A"},{"$error":"#N/A"},{"$error":"#N/A"},{"$error":"#N/A"},{"$error":"#N/A"},{"$error":"#N/A"},{"$error":"#N/A"},{"$error":"#N/A"},{"$error":"#N/A"},{"$error":"#N/A"},{"$error":"#N/A"},{"$error":"#N/A"},{"$error":"#N/A"},{"$error":"#N/A"},{"$error":"#N/A"},{"$error":"#N/A"},{"$error":"#N/A"},{"$error":"#N/A"},{"$error":"#N/A"},{"$error":"#N/A"},{"$error":"#N/A"},{"$error":"#N/A"},{"$error":"#N/A"},{"$error":"#N/A"},{"$error":"#N/A"},{"$error":"#N/A"},{"$error":"#N/A"},{"$error":"#N/A"},{"$error":"#N/A"},{"$error":"#N/A"},{"$error":"#N/A"},{"$error":"#N/A"},{"$error":"#N/A"},{"$error":"#N/A"},{"$error":"#N/A"},{"$error":"#N/A"},{"$error":"#N/A"},{"$error":"#N/A"},{"$error":"#N/A"},{"$error":"#N/A"},{"$error":"#N/A"},{"$error":"#N/A"},{"$error":"#N/A"},{"$error":"#N/A"},{"$error":"#N/A"},{"$error":"#N/A"},{"$error":"#N/A"},{"$error":"#N/A"},{"$error":"#N/A"},{"$error":"#N/A"},{"$error":"#N/A"},{"$error":"#N/A"},{"$error":"#N/A"},{"$error":"#N/A"},{"$error":"#N/A"},{"$error":"#N/A"},{"$error":"#N/A"},{"$f":"OG91+OG92-OG93","v":{"$error":"#N/A"}},{"$error":"#N/A"},{"$error":"#N/A"},{"$error":"#N/A"},{"$error":"#N/A"},{"$error":"#N/A"},{"$error":"#N/A"},{"$error":"#N/A"},{"$error":"#N/A"},{"$error":"#N/A"},{"$error":"#N/A"},{"$error":"#N/A"},{"$error":"#N/A"},{"$error":"#N/A"},{"$error":"#N/A"},{"$error":"#N/A"},{"$error":"#N/A"},{"$error":"#N/A"},{"$error":"#N/A"},{"$error":"#N/A"},{"$error":"#N/A"},{"$error":"#N/A"},{"$error":"#N/A"},{"$error":"#N/A"},{"$error":"#N/A"},{"$error":"#N/A"},{"$error":"#N/A"},{"$error":"#N/A"},{"$error":"#N/A"},{"$error":"#N/A"},{"$error":"#N/A"},{"$error":"#N/A"},{"$error":"#N/A"},{"$error":"#N/A"},{"$error":"#N/A"},{"$error":"#N/A"},{"$error":"#N/A"},{"$error":"#N/A"},{"$error":"#N/A"},{"$error":"#N/A"},{"$error":"#N/A"},{"$error":"#N/A"},{"$error":"#N/A"},{"$error":"#N/A"},{"$error":"#N/A"},{"$error":"#N/A"},{"$error":"#N/A"},{"$error":"#N/A"},{"$error":"#N/A"},{"$error":"#N/A"},{"$error":"#N/A"},{"$error":"#N/A"},{"$error":"#N/A"},{"$error":"#N/A"},{"$error":"#N/A"},{"$error":"#N/A"},{"$error":"#N/A"},{"$error":"#N/A"},{"$error":"#N/A"},{"$error":"#N/A"},{"$error":"#N/A"},{"$error":"#N/A"},{"$error":"#N/A"},{"$error":"#N/A"},{"$f":"QS91+QS92-QS93","v":{"$error":"#N/A"}},{"$error":"#N/A"},{"$error":"#N/A"},{"$error":"#N/A"},{"$error":"#N/A"},{"$error":"#N/A"},{"$error":"#N/A"},{"$error":"#N/A"},{"$error":"#N/A"},{"$error":"#N/A"},{"$error":"#N/A"},{"$error":"#N/A"},{"$error":"#N/A"},{"$error":"#N/A"},{"$error":"#N/A"},{"$error":"#N/A"},{"$error":"#N/A"},{"$error":"#N/A"},{"$error":"#N/A"},{"$error":"#N/A"},{"$error":"#N/A"},{"$error":"#N/A"},{"$error":"#N/A"},{"$error":"#N/A"},{"$error":"#N/A"},{"$error":"#N/A"},{"$error":"#N/A"},{"$error":"#N/A"},{"$error":"#N/A"},{"$error":"#N/A"},{"$error":"#N/A"},{"$error":"#N/A"},{"$error":"#N/A"},{"$error":"#N/A"},{"$error":"#N/A"},{"$error":"#N/A"},{"$error":"#N/A"},{"$error":"#N/A"},{"$error":"#N/A"},{"$error":"#N/A"},{"$error":"#N/A"},{"$error":"#N/A"},{"$error":"#N/A"},{"$error":"#N/A"},{"$error":"#N/A"},{"$error":"#N/A"},{"$error":"#N/A"},{"$error":"#N/A"},{"$error":"#N/A"},{"$error":"#N/A"},{"$error":"#N/A"}]
[]
[null,null,null,"Payable Change",null,null,"USD",null,null,null,null,{"$f":"L94-L91","v":{"$error":"#N/A"}},{"$f":"M94-M91","v":{"$error":"#N/A"}},{"$error":"#N/A"},{"$error":"#N/A"},{"$error":"#N/A"},{"$error":"#N/A"},{"$error":"#N/A"},{"$error":"#N/A"},{"$error":"#N/A"},{"$error":"#N/A"},{"$error":"#N/A"},{"$error":"#N/A"},{"$error":"#N/A"},{"$error":"#N/A"},{"$error":"#N/A"},{"$error":"#N/A"},{"$error":"#N/A"},{"$error":"#N/A"},{"$error":"#N/A"},{"$error":"#N/A"},{"$error":"#N/A"},{"$error":"#N/A"},{"$error":"#N/A"},{"$error":"#N/A"},{"$error":"#N/A"},{"$error":"#N/A"},{"$error":"#N/A"},{"$error":"#N/A"},{"$error":"#N/A"},{"$error":"#N/A"},{"$error":"#N/A"},{"$error":"#N/A"},{"$error":"#N/A"},{"$error":"#N/A"},{"$error":"#N/A"},{"$error":"#N/A"},{"$error":"#N/A"},{"$error":"#N/A"},{"$error":"#N/A"},{"$error":"#N/A"},{"$error":"#N/A"},{"$error":"#N/A"},{"$error":"#N/A"},{"$error":"#N/A"},{"$error":"#N/A"},{"$error":"#N/A"},{"$error":"#N/A"},{"$error":"#N/A"},{"$error":"#N/A"},{"$error":"#N/A"},{"$error":"#N/A"},{"$error":"#N/A"},{"$error":"#N/A"},{"$error":"#N/A"},{"$error":"#N/A"},{"$error":"#N/A"},{"$error":"#N/A"},{"$error":"#N/A"},{"$error":"#N/A"},{"$error":"#N/A"},{"$error":"#N/A"},{"$error":"#N/A"},{"$error":"#N/A"},{"$error":"#N/A"},{"$error":"#N/A"},{"$f":"BY94-BY91","v":{"$error":"#N/A"}},{"$error":"#N/A"},{"$error":"#N/A"},{"$error":"#N/A"},{"$error":"#N/A"},{"$error":"#N/A"},{"$error":"#N/A"},{"$error":"#N/A"},{"$error":"#N/A"},{"$error":"#N/A"},{"$error":"#N/A"},{"$error":"#N/A"},{"$error":"#N/A"},{"$error":"#N/A"},{"$error":"#N/A"},{"$error":"#N/A"},{"$error":"#N/A"},{"$error":"#N/A"},{"$error":"#N/A"},{"$error":"#N/A"},{"$error":"#N/A"},{"$error":"#N/A"},{"$error":"#N/A"},{"$error":"#N/A"},{"$error":"#N/A"},{"$error":"#N/A"},{"$error":"#N/A"},{"$error":"#N/A"},{"$error":"#N/A"},{"$error":"#N/A"},{"$error":"#N/A"},{"$error":"#N/A"},{"$error":"#N/A"},{"$error":"#N/A"},{"$error":"#N/A"},{"$error":"#N/A"},{"$error":"#N/A"},{"$error":"#N/A"},{"$error":"#N/A"},{"$error":"#N/A"},{"$error":"#N/A"},{"$error":"#N/A"},{"$error":"#N/A"},{"$error":"#N/A"},{"$error":"#N/A"},{"$error":"#N/A"},{"$error":"#N/A"},{"$error":"#N/A"},{"$error":"#N/A"},{"$error":"#N/A"},{"$error":"#N/A"},{"$error":"#N/A"},{"$error":"#N/A"},{"$error":"#N/A"},{"$error":"#N/A"},{"$error":"#N/A"},{"$error":"#N/A"},{"$error":"#N/A"},{"$error":"#N/A"},{"$error":"#N/A"},{"$error":"#N/A"},{"$error":"#N/A"},{"$error":"#N/A"},{"$error":"#N/A"},{"$f":"EK94-EK91","v":{"$error":"#N/A"}},{"$error":"#N/A"},{"$error":"#N/A"},{"$error":"#N/A"},{"$error":"#N/A"},{"$error":"#N/A"},{"$error":"#N/A"},{"$error":"#N/A"},{"$error":"#N/A"},{"$error":"#N/A"},{"$error":"#N/A"},{"$error":"#N/A"},{"$error":"#N/A"},{"$error":"#N/A"},{"$error":"#N/A"},{"$error":"#N/A"},{"$error":"#N/A"},{"$error":"#N/A"},{"$error":"#N/A"},{"$error":"#N/A"},{"$error":"#N/A"},{"$error":"#N/A"},{"$error":"#N/A"},{"$error":"#N/A"},{"$error":"#N/A"},{"$error":"#N/A"},{"$error":"#N/A"},{"$error":"#N/A"},{"$error":"#N/A"},{"$error":"#N/A"},{"$error":"#N/A"},{"$error":"#N/A"},{"$error":"#N/A"},{"$error":"#N/A"},{"$error":"#N/A"},{"$error":"#N/A"},{"$error":"#N/A"},{"$error":"#N/A"},{"$error":"#N/A"},{"$error":"#N/A"},{"$error":"#N/A"},{"$error":"#N/A"},{"$error":"#N/A"},{"$error":"#N/A"},{"$error":"#N/A"},{"$error":"#N/A"},{"$error":"#N/A"},{"$error":"#N/A"},{"$error":"#N/A"},{"$error":"#N/A"},{"$error":"#N/A"},{"$error":"#N/A"},{"$error":"#N/A"},{"$error":"#N/A"},{"$error":"#N/A"},{"$error":"#N/A"},{"$error":"#N/A"},{"$error":"#N/A"},{"$error":"#N/A"},{"$error":"#N/A"},{"$error":"#N/A"},{"$error":"#N/A"},{"$error":"#N/A"},{"$error":"#N/A"},{"$f":"GW94-GW91","v":{"$error":"#N/A"}},{"$error":"#N/A"},{"$error":"#N/A"},{"$error":"#N/A"},{"$error":"#N/A"},{"$error":"#N/A"},{"$error":"#N/A"},{"$error":"#N/A"},{"$error":"#N/A"},{"$error":"#N/A"},{"$error":"#N/A"},{"$error":"#N/A"},{"$error":"#N/A"},{"$error":"#N/A"},{"$error":"#N/A"},{"$error":"#N/A"},{"$error":"#N/A"},{"$error":"#N/A"},{"$error":"#N/A"},{"$error":"#N/A"},{"$error":"#N/A"},{"$error":"#N/A"},{"$error":"#N/A"},{"$error":"#N/A"},{"$error":"#N/A"},{"$error":"#N/A"},{"$error":"#N/A"},{"$error":"#N/A"},{"$error":"#N/A"},{"$error":"#N/A"},{"$error":"#N/A"},{"$error":"#N/A"},{"$error":"#N/A"},{"$error":"#N/A"},{"$error":"#N/A"},{"$error":"#N/A"},{"$error":"#N/A"},{"$error":"#N/A"},{"$error":"#N/A"},{"$error":"#N/A"},{"$error":"#N/A"},{"$error":"#N/A"},{"$error":"#N/A"},{"$error":"#N/A"},{"$error":"#N/A"},{"$error":"#N/A"},{"$error":"#N/A"},{"$error":"#N/A"},{"$error":"#N/A"},{"$error":"#N/A"},{"$error":"#N/A"},{"$error":"#N/A"},{"$error":"#N/A"},{"$error":"#N/A"},{"$error":"#N/A"},{"$error":"#N/A"},{"$error":"#N/A"},{"$error":"#N/A"},{"$error":"#N/A"},{"$error":"#N/A"},{"$error":"#N/A"},{"$error":"#N/A"},{"$error":"#N/A"},{"$error":"#N/A"},{"$f":"JI94-JI91","v":{"$error":"#N/A"}},{"$error":"#N/A"},{"$error":"#N/A"},{"$error":"#N/A"},{"$error":"#N/A"},{"$error":"#N/A"},{"$error":"#N/A"},{"$error":"#N/A"},{"$error":"#N/A"},{"$error":"#N/A"},{"$error":"#N/A"},{"$error":"#N/A"},{"$error":"#N/A"},{"$error":"#N/A"},{"$error":"#N/A"},{"$error":"#N/A"},{"$error":"#N/A"},{"$error":"#N/A"},{"$error":"#N/A"},{"$error":"#N/A"},{"$error":"#N/A"},{"$error":"#N/A"},{"$error":"#N/A"},{"$error":"#N/A"},{"$error":"#N/A"},{"$error":"#N/A"},{"$error":"#N/A"},{"$error":"#N/A"},{"$error":"#N/A"},{"$error":"#N/A"},{"$error":"#N/A"},{"$error":"#N/A"},{"$error":"#N/A"},{"$error":"#N/A"},{"$error":"#N/A"},{"$error":"#N/A"},{"$error":"#N/A"},{"$error":"#N/A"},{"$error":"#N/A"},{"$error":"#N/A"},{"$error":"#N/A"},{"$error":"#N/A"},{"$error":"#N/A"},{"$error":"#N/A"},{"$error":"#N/A"},{"$error":"#N/A"},{"$error":"#N/A"},{"$error":"#N/A"},{"$error":"#N/A"},{"$error":"#N/A"},{"$error":"#N/A"},{"$error":"#N/A"},{"$error":"#N/A"},{"$error":"#N/A"},{"$error":"#N/A"},{"$error":"#N/A"},{"$error":"#N/A"},{"$error":"#N/A"},{"$error":"#N/A"},{"$error":"#N/A"},{"$error":"#N/A"},{"$error":"#N/A"},{"$error":"#N/A"},{"$error":"#N/A"},{"$f":"LU94-LU91","v":{"$error":"#N/A"}},{"$error":"#N/A"},{"$error":"#N/A"},{"$error":"#N/A"},{"$error":"#N/A"},{"$error":"#N/A"},{"$error":"#N/A"},{"$error":"#N/A"},{"$error":"#N/A"},{"$error":"#N/A"},{"$error":"#N/A"},{"$error":"#N/A"},{"$error":"#N/A"},{"$error":"#N/A"},{"$error":"#N/A"},{"$error":"#N/A"},{"$error":"#N/A"},{"$error":"#N/A"},{"$error":"#N/A"},{"$error":"#N/A"},{"$error":"#N/A"},{"$error":"#N/A"},{"$error":"#N/A"},{"$error":"#N/A"},{"$error":"#N/A"},{"$error":"#N/A"},{"$error":"#N/A"},{"$error":"#N/A"},{"$error":"#N/A"},{"$error":"#N/A"},{"$error":"#N/A"},{"$error":"#N/A"},{"$error":"#N/A"},{"$error":"#N/A"},{"$error":"#N/A"},{"$error":"#N/A"},{"$error":"#N/A"},{"$error":"#N/A"},{"$error":"#N/A"},{"$error":"#N/A"},{"$error":"#N/A"},{"$error":"#N/A"},{"$error":"#N/A"},{"$error":"#N/A"},{"$error":"#N/A"},{"$error":"#N/A"},{"$error":"#N/A"},{"$error":"#N/A"},{"$error":"#N/A"},{"$error":"#N/A"},{"$error":"#N/A"},{"$error":"#N/A"},{"$error":"#N/A"},{"$error":"#N/A"},{"$error":"#N/A"},{"$error":"#N/A"},{"$error":"#N/A"},{"$error":"#N/A"},{"$error":"#N/A"},{"$error":"#N/A"},{"$error":"#N/A"},{"$error":"#N/A"},{"$error":"#N/A"},{"$error":"#N/A"},{"$f":"OG94-OG91","v":{"$error":"#N/A"}},{"$error":"#N/A"},{"$error":"#N/A"},{"$error":"#N/A"},{"$error":"#N/A"},{"$error":"#N/A"},{"$error":"#N/A"},{"$error":"#N/A"},{"$error":"#N/A"},{"$error":"#N/A"},{"$error":"#N/A"},{"$error":"#N/A"},{"$error":"#N/A"},{"$error":"#N/A"},{"$error":"#N/A"},{"$error":"#N/A"},{"$error":"#N/A"},{"$error":"#N/A"},{"$error":"#N/A"},{"$error":"#N/A"},{"$error":"#N/A"},{"$error":"#N/A"},{"$error":"#N/A"},{"$error":"#N/A"},{"$error":"#N/A"},{"$error":"#N/A"},{"$error":"#N/A"},{"$error":"#N/A"},{"$error":"#N/A"},{"$error":"#N/A"},{"$error":"#N/A"},{"$error":"#N/A"},{"$error":"#N/A"},{"$error":"#N/A"},{"$error":"#N/A"},{"$error":"#N/A"},{"$error":"#N/A"},{"$error":"#N/A"},{"$error":"#N/A"},{"$error":"#N/A"},{"$error":"#N/A"},{"$error":"#N/A"},{"$error":"#N/A"},{"$error":"#N/A"},{"$error":"#N/A"},{"$error":"#N/A"},{"$error":"#N/A"},{"$error":"#N/A"},{"$error":"#N/A"},{"$error":"#N/A"},{"$error":"#N/A"},{"$error":"#N/A"},{"$error":"#N/A"},{"$error":"#N/A"},{"$error":"#N/A"},{"$error":"#N/A"},{"$error":"#N/A"},{"$error":"#N/A"},{"$error":"#N/A"},{"$error":"#N/A"},{"$error":"#N/A"},{"$error":"#N/A"},{"$error":"#N/A"},{"$error":"#N/A"},{"$f":"QS94-QS91","v":{"$error":"#N/A"}},{"$error":"#N/A"},{"$error":"#N/A"},{"$error":"#N/A"},{"$error":"#N/A"},{"$error":"#N/A"},{"$error":"#N/A"},{"$error":"#N/A"},{"$error":"#N/A"},{"$error":"#N/A"},{"$error":"#N/A"},{"$error":"#N/A"},{"$error":"#N/A"},{"$error":"#N/A"},{"$error":"#N/A"},{"$error":"#N/A"},{"$error":"#N/A"},{"$error":"#N/A"},{"$error":"#N/A"},{"$error":"#N/A"},{"$error":"#N/A"},{"$error":"#N/A"},{"$error":"#N/A"},{"$error":"#N/A"},{"$error":"#N/A"},{"$error":"#N/A"},{"$error":"#N/A"},{"$error":"#N/A"},{"$error":"#N/A"},{"$error":"#N/A"},{"$error":"#N/A"},{"$error":"#N/A"},{"$error":"#N/A"},{"$error":"#N/A"},{"$error":"#N/A"},{"$error":"#N/A"},{"$error":"#N/A"},{"$error":"#N/A"},{"$error":"#N/A"},{"$error":"#N/A"},{"$error":"#N/A"},{"$error":"#N/A"},{"$error":"#N/A"},{"$error":"#N/A"},{"$error":"#N/A"},{"$error":"#N/A"},{"$error":"#N/A"},{"$error":"#N/A"},{"$error":"#N/A"},{"$error":"#N/A"},{"$error":"#N/A"}]
[]
[null,null,null,"Total Working Capital",null,null,"USD",null,null,null,null,{"$f":"L82-L94","v":{"$error":"#N/A"}},{"$f":"M82-M94","v":{"$error":"#N/A"}},{"$error":"#N/A"},{"$error":"#N/A"},{"$error":"#N/A"},{"$error":"#N/A"},{"$error":"#N/A"},{"$error":"#N/A"},{"$error":"#N/A"},{"$error":"#N/A"},{"$error":"#N/A"},{"$error":"#N/A"},{"$error":"#N/A"},{"$error":"#N/A"},{"$error":"#N/A"},{"$error":"#N/A"},{"$error":"#N/A"},{"$error":"#N/A"},{"$error":"#N/A"},{"$error":"#N/A"},{"$error":"#N/A"},{"$error":"#N/A"},{"$error":"#N/A"},{"$error":"#N/A"},{"$error":"#N/A"},{"$error":"#N/A"},{"$error":"#N/A"},{"$error":"#N/A"},{"$error":"#N/A"},{"$error":"#N/A"},{"$error":"#N/A"},{"$error":"#N/A"},{"$error":"#N/A"},{"$error":"#N/A"},{"$error":"#N/A"},{"$error":"#N/A"},{"$error":"#N/A"},{"$error":"#N/A"},{"$error":"#N/A"},{"$error":"#N/A"},{"$error":"#N/A"},{"$error":"#N/A"},{"$error":"#N/A"},{"$error":"#N/A"},{"$error":"#N/A"},{"$error":"#N/A"},{"$error":"#N/A"},{"$error":"#N/A"},{"$error":"#N/A"},{"$error":"#N/A"},{"$error":"#N/A"},{"$error":"#N/A"},{"$error":"#N/A"},{"$error":"#N/A"},{"$error":"#N/A"},{"$error":"#N/A"},{"$error":"#N/A"},{"$error":"#N/A"},{"$error":"#N/A"},{"$error":"#N/A"},{"$error":"#N/A"},{"$error":"#N/A"},{"$error":"#N/A"},{"$error":"#N/A"},{"$error":"#N/A"},{"$f":"BY82-BY94","v":{"$error":"#N/A"}},{"$error":"#N/A"},{"$error":"#N/A"},{"$error":"#N/A"},{"$error":"#N/A"},{"$error":"#N/A"},{"$error":"#N/A"},{"$error":"#N/A"},{"$error":"#N/A"},{"$error":"#N/A"},{"$error":"#N/A"},{"$error":"#N/A"},{"$error":"#N/A"},{"$error":"#N/A"},{"$error":"#N/A"},{"$error":"#N/A"},{"$error":"#N/A"},{"$error":"#N/A"},{"$error":"#N/A"},{"$error":"#N/A"},{"$error":"#N/A"},{"$error":"#N/A"},{"$error":"#N/A"},{"$error":"#N/A"},{"$error":"#N/A"},{"$error":"#N/A"},{"$error":"#N/A"},{"$error":"#N/A"},{"$error":"#N/A"},{"$error":"#N/A"},{"$error":"#N/A"},{"$error":"#N/A"},{"$error":"#N/A"},{"$error":"#N/A"},{"$error":"#N/A"},{"$error":"#N/A"},{"$error":"#N/A"},{"$error":"#N/A"},{"$error":"#N/A"},{"$error":"#N/A"},{"$error":"#N/A"},{"$error":"#N/A"},{"$error":"#N/A"},{"$error":"#N/A"},{"$error":"#N/A"},{"$error":"#N/A"},{"$error":"#N/A"},{"$error":"#N/A"},{"$error":"#N/A"},{"$error":"#N/A"},{"$error":"#N/A"},{"$error":"#N/A"},{"$error":"#N/A"},{"$error":"#N/A"},{"$error":"#N/A"},{"$error":"#N/A"},{"$error":"#N/A"},{"$error":"#N/A"},{"$error":"#N/A"},{"$error":"#N/A"},{"$error":"#N/A"},{"$error":"#N/A"},{"$error":"#N/A"},{"$error":"#N/A"},{"$f":"EK82-EK94","v":{"$error":"#N/A"}},{"$error":"#N/A"},{"$error":"#N/A"},{"$error":"#N/A"},{"$error":"#N/A"},{"$error":"#N/A"},{"$error":"#N/A"},{"$error":"#N/A"},{"$error":"#N/A"},{"$error":"#N/A"},{"$error":"#N/A"},{"$error":"#N/A"},{"$error":"#N/A"},{"$error":"#N/A"},{"$error":"#N/A"},{"$error":"#N/A"},{"$error":"#N/A"},{"$error":"#N/A"},{"$error":"#N/A"},{"$error":"#N/A"},{"$error":"#N/A"},{"$error":"#N/A"},{"$error":"#N/A"},{"$error":"#N/A"},{"$error":"#N/A"},{"$error":"#N/A"},{"$error":"#N/A"},{"$error":"#N/A"},{"$error":"#N/A"},{"$error":"#N/A"},{"$error":"#N/A"},{"$error":"#N/A"},{"$error":"#N/A"},{"$error":"#N/A"},{"$error":"#N/A"},{"$error":"#N/A"},{"$error":"#N/A"},{"$error":"#N/A"},{"$error":"#N/A"},{"$error":"#N/A"},{"$error":"#N/A"},{"$error":"#N/A"},{"$error":"#N/A"},{"$error":"#N/A"},{"$error":"#N/A"},{"$error":"#N/A"},{"$error":"#N/A"},{"$error":"#N/A"},{"$error":"#N/A"},{"$error":"#N/A"},{"$error":"#N/A"},{"$error":"#N/A"},{"$error":"#N/A"},{"$error":"#N/A"},{"$error":"#N/A"},{"$error":"#N/A"},{"$error":"#N/A"},{"$error":"#N/A"},{"$error":"#N/A"},{"$error":"#N/A"},{"$error":"#N/A"},{"$error":"#N/A"},{"$error":"#N/A"},{"$error":"#N/A"},{"$f":"GW82-GW94","v":{"$error":"#N/A"}},{"$error":"#N/A"},{"$error":"#N/A"},{"$error":"#N/A"},{"$error":"#N/A"},{"$error":"#N/A"},{"$error":"#N/A"},{"$error":"#N/A"},{"$error":"#N/A"},{"$error":"#N/A"},{"$error":"#N/A"},{"$error":"#N/A"},{"$error":"#N/A"},{"$error":"#N/A"},{"$error":"#N/A"},{"$error":"#N/A"},{"$error":"#N/A"},{"$error":"#N/A"},{"$error":"#N/A"},{"$error":"#N/A"},{"$error":"#N/A"},{"$error":"#N/A"},{"$error":"#N/A"},{"$error":"#N/A"},{"$error":"#N/A"},{"$error":"#N/A"},{"$error":"#N/A"},{"$error":"#N/A"},{"$error":"#N/A"},{"$error":"#N/A"},{"$error":"#N/A"},{"$error":"#N/A"},{"$error":"#N/A"},{"$error":"#N/A"},{"$error":"#N/A"},{"$error":"#N/A"},{"$error":"#N/A"},{"$error":"#N/A"},{"$error":"#N/A"},{"$error":"#N/A"},{"$error":"#N/A"},{"$error":"#N/A"},{"$error":"#N/A"},{"$error":"#N/A"},{"$error":"#N/A"},{"$error":"#N/A"},{"$error":"#N/A"},{"$error":"#N/A"},{"$error":"#N/A"},{"$error":"#N/A"},{"$error":"#N/A"},{"$error":"#N/A"},{"$error":"#N/A"},{"$error":"#N/A"},{"$error":"#N/A"},{"$error":"#N/A"},{"$error":"#N/A"},{"$error":"#N/A"},{"$error":"#N/A"},{"$error":"#N/A"},{"$error":"#N/A"},{"$error":"#N/A"},{"$error":"#N/A"},{"$error":"#N/A"},{"$f":"JI82-JI94","v":{"$error":"#N/A"}},{"$error":"#N/A"},{"$error":"#N/A"},{"$error":"#N/A"},{"$error":"#N/A"},{"$error":"#N/A"},{"$error":"#N/A"},{"$error":"#N/A"},{"$error":"#N/A"},{"$error":"#N/A"},{"$error":"#N/A"},{"$error":"#N/A"},{"$error":"#N/A"},{"$error":"#N/A"},{"$error":"#N/A"},{"$error":"#N/A"},{"$error":"#N/A"},{"$error":"#N/A"},{"$error":"#N/A"},{"$error":"#N/A"},{"$error":"#N/A"},{"$error":"#N/A"},{"$error":"#N/A"},{"$error":"#N/A"},{"$error":"#N/A"},{"$error":"#N/A"},{"$error":"#N/A"},{"$error":"#N/A"},{"$error":"#N/A"},{"$error":"#N/A"},{"$error":"#N/A"},{"$error":"#N/A"},{"$error":"#N/A"},{"$error":"#N/A"},{"$error":"#N/A"},{"$error":"#N/A"},{"$error":"#N/A"},{"$error":"#N/A"},{"$error":"#N/A"},{"$error":"#N/A"},{"$error":"#N/A"},{"$error":"#N/A"},{"$error":"#N/A"},{"$error":"#N/A"},{"$error":"#N/A"},{"$error":"#N/A"},{"$error":"#N/A"},{"$error":"#N/A"},{"$error":"#N/A"},{"$error":"#N/A"},{"$error":"#N/A"},{"$error":"#N/A"},{"$error":"#N/A"},{"$error":"#N/A"},{"$error":"#N/A"},{"$error":"#N/A"},{"$error":"#N/A"},{"$error":"#N/A"},{"$error":"#N/A"},{"$error":"#N/A"},{"$error":"#N/A"},{"$error":"#N/A"},{"$error":"#N/A"},{"$error":"#N/A"},{"$f":"LU82-LU94","v":{"$error":"#N/A"}},{"$error":"#N/A"},{"$error":"#N/A"},{"$error":"#N/A"},{"$error":"#N/A"},{"$error":"#N/A"},{"$error":"#N/A"},{"$error":"#N/A"},{"$error":"#N/A"},{"$error":"#N/A"},{"$error":"#N/A"},{"$error":"#N/A"},{"$error":"#N/A"},{"$error":"#N/A"},{"$error":"#N/A"},{"$error":"#N/A"},{"$error":"#N/A"},{"$error":"#N/A"},{"$error":"#N/A"},{"$error":"#N/A"},{"$error":"#N/A"},{"$error":"#N/A"},{"$error":"#N/A"},{"$error":"#N/A"},{"$error":"#N/A"},{"$error":"#N/A"},{"$error":"#N/A"},{"$error":"#N/A"},{"$error":"#N/A"},{"$error":"#N/A"},{"$error":"#N/A"},{"$error":"#N/A"},{"$error":"#N/A"},{"$error":"#N/A"},{"$error":"#N/A"},{"$error":"#N/A"},{"$error":"#N/A"},{"$error":"#N/A"},{"$error":"#N/A"},{"$error":"#N/A"},{"$error":"#N/A"},{"$error":"#N/A"},{"$error":"#N/A"},{"$error":"#N/A"},{"$error":"#N/A"},{"$error":"#N/A"},{"$error":"#N/A"},{"$error":"#N/A"},{"$error":"#N/A"},{"$error":"#N/A"},{"$error":"#N/A"},{"$error":"#N/A"},{"$error":"#N/A"},{"$error":"#N/A"},{"$error":"#N/A"},{"$error":"#N/A"},{"$error":"#N/A"},{"$error":"#N/A"},{"$error":"#N/A"},{"$error":"#N/A"},{"$error":"#N/A"},{"$error":"#N/A"},{"$error":"#N/A"},{"$error":"#N/A"},{"$f":"OG82-OG94","v":{"$error":"#N/A"}},{"$error":"#N/A"},{"$error":"#N/A"},{"$error":"#N/A"},{"$error":"#N/A"},{"$error":"#N/A"},{"$error":"#N/A"},{"$error":"#N/A"},{"$error":"#N/A"},{"$error":"#N/A"},{"$error":"#N/A"},{"$error":"#N/A"},{"$error":"#N/A"},{"$error":"#N/A"},{"$error":"#N/A"},{"$error":"#N/A"},{"$error":"#N/A"},{"$error":"#N/A"},{"$error":"#N/A"},{"$error":"#N/A"},{"$error":"#N/A"},{"$error":"#N/A"},{"$error":"#N/A"},{"$error":"#N/A"},{"$error":"#N/A"},{"$error":"#N/A"},{"$error":"#N/A"},{"$error":"#N/A"},{"$error":"#N/A"},{"$error":"#N/A"},{"$error":"#N/A"},{"$error":"#N/A"},{"$error":"#N/A"},{"$error":"#N/A"},{"$error":"#N/A"},{"$error":"#N/A"},{"$error":"#N/A"},{"$error":"#N/A"},{"$error":"#N/A"},{"$error":"#N/A"},{"$error":"#N/A"},{"$error":"#N/A"},{"$error":"#N/A"},{"$error":"#N/A"},{"$error":"#N/A"},{"$error":"#N/A"},{"$error":"#N/A"},{"$error":"#N/A"},{"$error":"#N/A"},{"$error":"#N/A"},{"$error":"#N/A"},{"$error":"#N/A"},{"$error":"#N/A"},{"$error":"#N/A"},{"$error":"#N/A"},{"$error":"#N/A"},{"$error":"#N/A"},{"$error":"#N/A"},{"$error":"#N/A"},{"$error":"#N/A"},{"$error":"#N/A"},{"$error":"#N/A"},{"$error":"#N/A"},{"$error":"#N/A"},{"$f":"QS82-QS94","v":{"$error":"#N/A"}},{"$error":"#N/A"},{"$error":"#N/A"},{"$error":"#N/A"},{"$error":"#N/A"},{"$error":"#N/A"},{"$error":"#N/A"},{"$error":"#N/A"},{"$error":"#N/A"},{"$error":"#N/A"},{"$error":"#N/A"},{"$error":"#N/A"},{"$error":"#N/A"},{"$error":"#N/A"},{"$error":"#N/A"},{"$error":"#N/A"},{"$error":"#N/A"},{"$error":"#N/A"},{"$error":"#N/A"},{"$error":"#N/A"},{"$error":"#N/A"},{"$error":"#N/A"},{"$error":"#N/A"},{"$error":"#N/A"},{"$error":"#N/A"},{"$error":"#N/A"},{"$error":"#N/A"},{"$error":"#N/A"},{"$error":"#N/A"},{"$error":"#N/A"},{"$error":"#N/A"},{"$error":"#N/A"},{"$error":"#N/A"},{"$error":"#N/A"},{"$error":"#N/A"},{"$error":"#N/A"},{"$error":"#N/A"},{"$error":"#N/A"},{"$error":"#N/A"},{"$error":"#N/A"},{"$error":"#N/A"},{"$error":"#N/A"},{"$error":"#N/A"},{"$error":"#N/A"},{"$error":"#N/A"},{"$error":"#N/A"},{"$error":"#N/A"},{"$error":"#N/A"},{"$error":"#N/A"},{"$error":"#N/A"},{"$error":"#N/A"}]
[null,null,null,"Change in Working Capital",null,null,"USD",null,null,null,null,{"$f":"L84-L96","v":{"$error":"#N/A"}},{"$f":"M84-M96","v":{"$error":"#N/A"}},{"$error":"#N/A"},{"$error":"#N/A"},{"$error":"#N/A"},{"$error":"#N/A"},{"$error":"#N/A"},{"$error":"#N/A"},{"$error":"#N/A"},{"$error":"#N/A"},{"$error":"#N/A"},{"$error":"#N/A"},{"$error":"#N/A"},{"$error":"#N/A"},{"$error":"#N/A"},{"$error":"#N/A"},{"$error":"#N/A"},{"$error":"#N/A"},{"$error":"#N/A"},{"$error":"#N/A"},{"$error":"#N/A"},{"$error":"#N/A"},{"$error":"#N/A"},{"$error":"#N/A"},{"$error":"#N/A"},{"$error":"#N/A"},{"$error":"#N/A"},{"$error":"#N/A"},{"$error":"#N/A"},{"$error":"#N/A"},{"$error":"#N/A"},{"$error":"#N/A"},{"$error":"#N/A"},{"$error":"#N/A"},{"$error":"#N/A"},{"$error":"#N/A"},{"$error":"#N/A"},{"$error":"#N/A"},{"$error":"#N/A"},{"$error":"#N/A"},{"$error":"#N/A"},{"$error":"#N/A"},{"$error":"#N/A"},{"$error":"#N/A"},{"$error":"#N/A"},{"$error":"#N/A"},{"$error":"#N/A"},{"$error":"#N/A"},{"$error":"#N/A"},{"$error":"#N/A"},{"$error":"#N/A"},{"$error":"#N/A"},{"$error":"#N/A"},{"$error":"#N/A"},{"$error":"#N/A"},{"$error":"#N/A"},{"$error":"#N/A"},{"$error":"#N/A"},{"$error":"#N/A"},{"$error":"#N/A"},{"$error":"#N/A"},{"$error":"#N/A"},{"$error":"#N/A"},{"$error":"#N/A"},{"$error":"#N/A"},{"$f":"BY84-BY96","v":{"$error":"#N/A"}},{"$error":"#N/A"},{"$error":"#N/A"},{"$error":"#N/A"},{"$error":"#N/A"},{"$error":"#N/A"},{"$error":"#N/A"},{"$error":"#N/A"},{"$error":"#N/A"},{"$error":"#N/A"},{"$error":"#N/A"},{"$error":"#N/A"},{"$error":"#N/A"},{"$error":"#N/A"},{"$error":"#N/A"},{"$error":"#N/A"},{"$error":"#N/A"},{"$error":"#N/A"},{"$error":"#N/A"},{"$error":"#N/A"},{"$error":"#N/A"},{"$error":"#N/A"},{"$error":"#N/A"},{"$error":"#N/A"},{"$error":"#N/A"},{"$error":"#N/A"},{"$error":"#N/A"},{"$error":"#N/A"},{"$error":"#N/A"},{"$error":"#N/A"},{"$error":"#N/A"},{"$error":"#N/A"},{"$error":"#N/A"},{"$error":"#N/A"},{"$error":"#N/A"},{"$error":"#N/A"},{"$error":"#N/A"},{"$error":"#N/A"},{"$error":"#N/A"},{"$error":"#N/A"},{"$error":"#N/A"},{"$error":"#N/A"},{"$error":"#N/A"},{"$error":"#N/A"},{"$error":"#N/A"},{"$error":"#N/A"},{"$error":"#N/A"},{"$error":"#N/A"},{"$error":"#N/A"},{"$error":"#N/A"},{"$error":"#N/A"},{"$error":"#N/A"},{"$error":"#N/A"},{"$error":"#N/A"},{"$error":"#N/A"},{"$error":"#N/A"},{"$error":"#N/A"},{"$error":"#N/A"},{"$error":"#N/A"},{"$error":"#N/A"},{"$error":"#N/A"},{"$error":"#N/A"},{"$error":"#N/A"},{"$error":"#N/A"},{"$f":"EK84-EK96","v":{"$error":"#N/A"}},{"$error":"#N/A"},{"$error":"#N/A"},{"$error":"#N/A"},{"$error":"#N/A"},{"$error":"#N/A"},{"$error":"#N/A"},{"$error":"#N/A"},{"$error":"#N/A"},{"$error":"#N/A"},{"$error":"#N/A"},{"$error":"#N/A"},{"$error":"#N/A"},{"$error":"#N/A"},{"$error":"#N/A"},{"$error":"#N/A"},{"$error":"#N/A"},{"$error":"#N/A"},{"$error":"#N/A"},{"$error":"#N/A"},{"$error":"#N/A"},{"$error":"#N/A"},{"$error":"#N/A"},{"$error":"#N/A"},{"$error":"#N/A"},{"$error":"#N/A"},{"$error":"#N/A"},{"$error":"#N/A"},{"$error":"#N/A"},{"$error":"#N/A"},{"$error":"#N/A"},{"$error":"#N/A"},{"$error":"#N/A"},{"$error":"#N/A"},{"$error":"#N/A"},{"$error":"#N/A"},{"$error":"#N/A"},{"$error":"#N/A"},{"$error":"#N/A"},{"$error":"#N/A"},{"$error":"#N/A"},{"$error":"#N/A"},{"$error":"#N/A"},{"$error":"#N/A"},{"$error":"#N/A"},{"$error":"#N/A"},{"$error":"#N/A"},{"$error":"#N/A"},{"$error":"#N/A"},{"$error":"#N/A"},{"$error":"#N/A"},{"$error":"#N/A"},{"$error":"#N/A"},{"$error":"#N/A"},{"$error":"#N/A"},{"$error":"#N/A"},{"$error":"#N/A"},{"$error":"#N/A"},{"$error":"#N/A"},{"$error":"#N/A"},{"$error":"#N/A"},{"$error":"#N/A"},{"$error":"#N/A"},{"$error":"#N/A"},{"$f":"GW84-GW96","v":{"$error":"#N/A"}},{"$error":"#N/A"},{"$error":"#N/A"},{"$error":"#N/A"},{"$error":"#N/A"},{"$error":"#N/A"},{"$error":"#N/A"},{"$error":"#N/A"},{"$error":"#N/A"},{"$error":"#N/A"},{"$error":"#N/A"},{"$error":"#N/A"},{"$error":"#N/A"},{"$error":"#N/A"},{"$error":"#N/A"},{"$error":"#N/A"},{"$error":"#N/A"},{"$error":"#N/A"},{"$error":"#N/A"},{"$error":"#N/A"},{"$error":"#N/A"},{"$error":"#N/A"},{"$error":"#N/A"},{"$error":"#N/A"},{"$error":"#N/A"},{"$error":"#N/A"},{"$error":"#N/A"},{"$error":"#N/A"},{"$error":"#N/A"},{"$error":"#N/A"},{"$error":"#N/A"},{"$error":"#N/A"},{"$error":"#N/A"},{"$error":"#N/A"},{"$error":"#N/A"},{"$error":"#N/A"},{"$error":"#N/A"},{"$error":"#N/A"},{"$error":"#N/A"},{"$error":"#N/A"},{"$error":"#N/A"},{"$error":"#N/A"},{"$error":"#N/A"},{"$error":"#N/A"},{"$error":"#N/A"},{"$error":"#N/A"},{"$error":"#N/A"},{"$error":"#N/A"},{"$error":"#N/A"},{"$error":"#N/A"},{"$error":"#N/A"},{"$error":"#N/A"},{"$error":"#N/A"},{"$error":"#N/A"},{"$error":"#N/A"},{"$error":"#N/A"},{"$error":"#N/A"},{"$error":"#N/A"},{"$error":"#N/A"},{"$error":"#N/A"},{"$error":"#N/A"},{"$error":"#N/A"},{"$error":"#N/A"},{"$error":"#N/A"},{"$f":"JI84-JI96","v":{"$error":"#N/A"}},{"$error":"#N/A"},{"$error":"#N/A"},{"$error":"#N/A"},{"$error":"#N/A"},{"$error":"#N/A"},{"$error":"#N/A"},{"$error":"#N/A"},{"$error":"#N/A"},{"$error":"#N/A"},{"$error":"#N/A"},{"$error":"#N/A"},{"$error":"#N/A"},{"$error":"#N/A"},{"$error":"#N/A"},{"$error":"#N/A"},{"$error":"#N/A"},{"$error":"#N/A"},{"$error":"#N/A"},{"$error":"#N/A"},{"$error":"#N/A"},{"$error":"#N/A"},{"$error":"#N/A"},{"$error":"#N/A"},{"$error":"#N/A"},{"$error":"#N/A"},{"$error":"#N/A"},{"$error":"#N/A"},{"$error":"#N/A"},{"$error":"#N/A"},{"$error":"#N/A"},{"$error":"#N/A"},{"$error":"#N/A"},{"$error":"#N/A"},{"$error":"#N/A"},{"$error":"#N/A"},{"$error":"#N/A"},{"$error":"#N/A"},{"$error":"#N/A"},{"$error":"#N/A"},{"$error":"#N/A"},{"$error":"#N/A"},{"$error":"#N/A"},{"$error":"#N/A"},{"$error":"#N/A"},{"$error":"#N/A"},{"$error":"#N/A"},{"$error":"#N/A"},{"$error":"#N/A"},{"$error":"#N/A"},{"$error":"#N/A"},{"$error":"#N/A"},{"$error":"#N/A"},{"$error":"#N/A"},{"$error":"#N/A"},{"$error":"#N/A"},{"$error":"#N/A"},{"$error":"#N/A"},{"$error":"#N/A"},{"$error":"#N/A"},{"$error":"#N/A"},{"$error":"#N/A"},{"$error":"#N/A"},{"$error":"#N/A"},{"$f":"LU84-LU96","v":{"$error":"#N/A"}},{"$error":"#N/A"},{"$error":"#N/A"},{"$error":"#N/A"},{"$error":"#N/A"},{"$error":"#N/A"},{"$error":"#N/A"},{"$error":"#N/A"},{"$error":"#N/A"},{"$error":"#N/A"},{"$error":"#N/A"},{"$error":"#N/A"},{"$error":"#N/A"},{"$error":"#N/A"},{"$error":"#N/A"},{"$error":"#N/A"},{"$error":"#N/A"},{"$error":"#N/A"},{"$error":"#N/A"},{"$error":"#N/A"},{"$error":"#N/A"},{"$error":"#N/A"},{"$error":"#N/A"},{"$error":"#N/A"},{"$error":"#N/A"},{"$error":"#N/A"},{"$error":"#N/A"},{"$error":"#N/A"},{"$error":"#N/A"},{"$error":"#N/A"},{"$error":"#N/A"},{"$error":"#N/A"},{"$error":"#N/A"},{"$error":"#N/A"},{"$error":"#N/A"},{"$error":"#N/A"},{"$error":"#N/A"},{"$error":"#N/A"},{"$error":"#N/A"},{"$error":"#N/A"},{"$error":"#N/A"},{"$error":"#N/A"},{"$error":"#N/A"},{"$error":"#N/A"},{"$error":"#N/A"},{"$error":"#N/A"},{"$error":"#N/A"},{"$error":"#N/A"},{"$error":"#N/A"},{"$error":"#N/A"},{"$error":"#N/A"},{"$error":"#N/A"},{"$error":"#N/A"},{"$error":"#N/A"},{"$error":"#N/A"},{"$error":"#N/A"},{"$error":"#N/A"},{"$error":"#N/A"},{"$error":"#N/A"},{"$error":"#N/A"},{"$error":"#N/A"},{"$error":"#N/A"},{"$error":"#N/A"},{"$error":"#N/A"},{"$f":"OG84-OG96","v":{"$error":"#N/A"}},{"$error":"#N/A"},{"$error":"#N/A"},{"$error":"#N/A"},{"$error":"#N/A"},{"$error":"#N/A"},{"$error":"#N/A"},{"$error":"#N/A"},{"$error":"#N/A"},{"$error":"#N/A"},{"$error":"#N/A"},{"$error":"#N/A"},{"$error":"#N/A"},{"$error":"#N/A"},{"$error":"#N/A"},{"$error":"#N/A"},{"$error":"#N/A"},{"$error":"#N/A"},{"$error":"#N/A"},{"$error":"#N/A"},{"$error":"#N/A"},{"$error":"#N/A"},{"$error":"#N/A"},{"$error":"#N/A"},{"$error":"#N/A"},{"$error":"#N/A"},{"$error":"#N/A"},{"$error":"#N/A"},{"$error":"#N/A"},{"$error":"#N/A"},{"$error":"#N/A"},{"$error":"#N/A"},{"$error":"#N/A"},{"$error":"#N/A"},{"$error":"#N/A"},{"$error":"#N/A"},{"$error":"#N/A"},{"$error":"#N/A"},{"$error":"#N/A"},{"$error":"#N/A"},{"$error":"#N/A"},{"$error":"#N/A"},{"$error":"#N/A"},{"$error":"#N/A"},{"$error":"#N/A"},{"$error":"#N/A"},{"$error":"#N/A"},{"$error":"#N/A"},{"$error":"#N/A"},{"$error":"#N/A"},{"$error":"#N/A"},{"$error":"#N/A"},{"$error":"#N/A"},{"$error":"#N/A"},{"$error":"#N/A"},{"$error":"#N/A"},{"$error":"#N/A"},{"$error":"#N/A"},{"$error":"#N/A"},{"$error":"#N/A"},{"$error":"#N/A"},{"$error":"#N/A"},{"$error":"#N/A"},{"$error":"#N/A"},{"$f":"QS84-QS96","v":{"$error":"#N/A"}},{"$error":"#N/A"},{"$error":"#N/A"},{"$error":"#N/A"},{"$error":"#N/A"},{"$error":"#N/A"},{"$error":"#N/A"},{"$error":"#N/A"},{"$error":"#N/A"},{"$error":"#N/A"},{"$error":"#N/A"},{"$error":"#N/A"},{"$error":"#N/A"},{"$error":"#N/A"},{"$error":"#N/A"},{"$error":"#N/A"},{"$error":"#N/A"},{"$error":"#N/A"},{"$error":"#N/A"},{"$error":"#N/A"},{"$error":"#N/A"},{"$error":"#N/A"},{"$error":"#N/A"},{"$error":"#N/A"},{"$error":"#N/A"},{"$error":"#N/A"},{"$error":"#N/A"},{"$error":"#N/A"},{"$error":"#N/A"},{"$error":"#N/A"},{"$error":"#N/A"},{"$error":"#N/A"},{"$error":"#N/A"},{"$error":"#N/A"},{"$error":"#N/A"},{"$error":"#N/A"},{"$error":"#N/A"},{"$error":"#N/A"},{"$error":"#N/A"},{"$error":"#N/A"},{"$error":"#N/A"},{"$error":"#N/A"},{"$error":"#N/A"},{"$error":"#N/A"},{"$error":"#N/A"},{"$error":"#N/A"},{"$error":"#N/A"},{"$error":"#N/A"},{"$error":"#N/A"},{"$error":"#N/A"},{"$error":"#N/A"}]

{"sheet":"Project Finance Semi-Annual","index":7,"n_rows":143,"n_cols":102,"rows_kept":143,"cut":false,"hidden":false,"merged":[]}
[{"$f":"MID(CELL(\"filename\"),FIND(\"]\",CELL(\"filename\"),1)+1,250)","v":"InputC - Operations"}]
[null,null,null,"Period Number",null,"Constant","Constant","Unit","Total","Test",null,null,1,2,3,4,5,6,7,8,9,10,11,12,13,14,15,16,17,18,19,20,21,22,23,24,25,26,27,28,29,30,31,32,33,34,35,36,37,38,39,40,41,42,43,44,45,46,47,48,49,50,51,52,53,54,55,56,57,58,59,60,61,62,63,64,65,66,67,68,69,70,71,72,73,74,75,76,77,78,79,80,81,82,83,84,85,86,87,88,89,90]
[null,null,null,"Pre-COD Period",null,null,null,null,null,null,null,null,{"$f":"'Operation Monthly'!L6","v":0},{"$f":"'Operation Monthly'!M6","v":0},{"$f":"'Operation Monthly'!N6","v":0},{"$f":"'Operation Monthly'!O6","v":0},{"$f":"'Operation Monthly'!P6","v":0},{"$f":"'Operation Monthly'!Q6","v":0},{"$f":"'Operation Monthly'!R6","v":0},{"$f":"'Operation Monthly'!S6","v":0},{"$f":"'Operation Monthly'!T6","v":0},{"$f":"'Operation Monthly'!U6","v":0},{"$f":"'Operation Monthly'!V6","v":0},{"$f":"'Operation Monthly'!W6","v":0},{"$f":"'Operation Monthly'!X6","v":0},{"$f":"'Operation Monthly'!Y6","v":0},{"$f":"'Operation Monthly'!Z6","v":0},{"$f":"'Operation Monthly'!AA6","v":0},{"$f":"'Operation Monthly'!AB6","v":0},{"$f":"'Operation Monthly'!AC6","v":0},{"$f":"'Operation Monthly'!AD6","v":0},{"$f":"'Operation Monthly'!AE6","v":0},{"$f":"'Operation Monthly'!AF6","v":0},{"$f":"'Operation Monthly'!AG6","v":0},{"$f":"'Operation Monthly'!AH6","v":0},{"$f":"'Operation Monthly'!AI6","v":0},{"$f":"'Operation Monthly'!AJ6","v":0},{"$f":"'Operation Monthly'!AK6","v":0},{"$f":"'Operation Monthly'!AL6","v":0},{"$f":"'Operation Monthly'!AM6","v":0},{"$f":"'Operation Monthly'!AN6","v":0},{"$f":"'Operation Monthly'!AO6","v":0},{"$f":"'Operation Monthly'!AP6","v":0},{"$f":"'Operation Monthly'!AQ6","v":0},{"$f":"'Operation Monthly'!AR6","v":0},{"$f":"'Operation Monthly'!AS6","v":0},{"$f":"'Operation Monthly'!AT6","v":0},{"$f":"'Operation Monthly'!AU6","v":0},{"$f":"'Operation Monthly'!AV6","v":0},{"$f":"'Operation Monthly'!AW6","v":0},{"$f":"'Operation Monthly'!AX6","v":0},{"$f":"'Operation Monthly'!AY6","v":0},{"$f":"'Operation Monthly'!AZ6","v":0},{"$f":"'Operation Monthly'!BA6","v":0},{"$f":"'Operation Monthly'!BB6","v":0},{"$f":"'Operation Monthly'!BC6","v":0},{"$f":"'Operation Monthly'!BD6","v":0},{"$f":"'Operation Monthly'!BE6","v":0},{"$f":"'Operation Monthly'!BF6","v":0},{"$f":"'Operation Monthly'!BG6","v":0},{"$f":"'Operation Monthly'!BH6","v":0},{"$f":"'Operation Monthly'!BI6","v":0},{"$f":"'Operation Monthly'!BJ6","v":0},{"$f":"'Operation Monthly'!BK6","v":0},{"$f":"'Operation Monthly'!BL6","v":0},{"$f":"'Operation Monthly'!BM6","v":0},{"$f":"'Operation Monthly'!BN6","v":0},{"$f":"'Operation Monthly'!BO6","v":0},{"$f":"'Operation Monthly'!BP6","v":0},{"$f":"'Operation Monthly'!BQ6","v":0},{"$f":"'Operation Monthly'!BR6","v":0},{"$f":"'Operation Monthly'!BS6","v":0},{"$f":"'Operation Monthly'!BT6","v":0},{"$f":"'Operation Monthly'!BU6","v":0},{"$f":"'Operation Monthly'!BV6","v":0},{"$f":"'Operation Monthly'!BW6","v":0},{"$f":"'Operation Monthly'!BX6","v":0},{"$f":"'Operation Monthly'!BY6","v":0},{"$f":"'Operation Monthly'!BZ6","v":0},{"$f":"'Operation Monthly'!CA6","v":0},{"$f":"'Operation Monthly'!CB6","v":0},{"$f":"'Operation Monthly'!CC6","v":0},{"$f":"'Operation Monthly'!CD6","v":0},{"$f":"'Operation Monthly'!CE6","v":0},{"$f":"'Operation Monthly'!CF6","v":0},{"$f":"'Operation Monthly'!CG6","v":0},{"$f":"'Operation Monthly'!CH6","v":0},{"$f":"'Operation Monthly'!CI6","v":0},{"$f":"'Operation Monthly'!CJ6","v":0},{"$f":"'Operation Monthly'!CK6","v":0},{"$f":"'Operation Monthly'!CL6","v":0},{"$f":"'Operation Monthly'!CM6","v":0},{"$f":"'Operation Monthly'!CN6","v":0},{"$f":"'Operation Monthly'!CO6","v":0},{"$f":"'Operation Monthly'!CP6","v":0},{"$f":"'Operation Monthly'!CQ6","v":0},{"$f":"'Operation Monthly'!CR6","v":0},{"$f":"'Operation Monthly'!CS6","v":0},{"$f":"'Operation Monthly'!CT6","v":0},{"$f":"'Operation Monthly'!CU6","v":0},{"$f":"'Operation Monthly'!CV6","v":0},{"$f":"'Operation Monthly'!CW6","v":0}]
[null,null,null,"Months in Period",null,{"$f":"'InputC - Operations'!E13","v":0}]
[null,null,null,"Start of Period",null,null,null,null,null,null,null,null,{"$f":"L6+1","v":"00:00:00"},"1900-01-01","1900-01-01","1900-01-01","1900-01-01","1900-01-01","1900-01-01","1900-01-01","1900-01-01","1900-01-01","1900-01-01","1900-01-01","1900-01-01","1900-01-01","1900-01-01","1900-01-01","1900-01-01","1900-01-01","1900-01-01","1900-01-01","1900-01-01","1900-01-01","1900-01-01","1900-01-01","1900-01-01","1900-01-01","1900-01-01","1900-01-01","1900-01-01","1900-01-01","1900-01-01","1900-01-01",{"$f":"AR6+1","v":"1900-01-01"},"1900-01-01","1900-01-01","1900-01-01","1900-01-01","1900-01-01","1900-01-01","1900-01-01","1900-01-01","1900-01-01","1900-01-01","1900-01-01","1900-01-01","1900-01-01","1900-01-01","1900-01-01","1900-01-01","1900-01-01","1900-01-01","1900-01-01","1900-01-01","1900-01-01","1900-01-01","1900-01-01","1900-01-01","1900-01-01","1900-01-01","1900-01-01","1900-01-01","1900-01-01","1900-01-01","1900-01-01",{"$f":"BX6+1","v":"1900-01-01"},"1900-01-01","1900-01-01","1900-01-01","1900-01-01","1900-01-01","1900-01-01","1900-01-01","1900-01-01","1900-01-01","1900-01-01","1900-01-01","1900-01-01","1900-01-01","1900-01-01","1900-01-01","1900-01-01","1900-01-01","1900-01-01","1900-01-01","1900-01-01","1900-01-01","1900-01-01","1900-01-01","1900-01-01","1900-01-01"]
[null,null,null,"End of Period",null,null,null,null,null,null,null,{"$f":"'Operation Monthly'!K5","v":-1}]
[null,null,null,"Operating Flag",null,{"$f":"'InputC - Operations'!E9","v":"00:00:00"},{"$f":"'InputC - Operations'!E11","v":"00:00:00"},null,null,null,null,null,{"$f":"AND(M5>=$F$7,M5<$G$7)","v":false},false,false,false,false,false,false,false,false,false,false,false,false,false,false,false,false,false,false,false,false,false,false,false,false,false,false,false,false,false,false,false,{"$f":"AND(AS5>=$F$7,AS5<$G$7)","v":false},false,false,false,false,false,false,false,false,false,false,false,false,false,false,false,false,false,false,false,false,false,false,false,false,false,false,false,false,false,false,false,{"$f":"AND(BY5>=$F$7,BY5<$G$7)","v":false},false,false,false,false,false,false,false,false,false,false,false,false,false,false,false,false,false,false,false,false,false,false,false,false,false]
[null,null,null,"Year",null,null,null,null,null,null,null,null,{"$f":"YEAR(M5)","v":1900},{"$f":"YEAR(N5)","v":1900},1900,1900,1900,1900,1900,1900,1900,1900,1900,1900,1900,1900,1900,1900,1900,1900,1900,1900,1900,1900,1900,1900,1900,1900,1900,1900,1900,1900,1900,1900,1900,1900,1900,1900,1900,1900,1900,1900,1900,1900,1900,1900,1900,1900,1900,1900,1900,1900,1900,1900,1900,1900,1900,1900,1900,1900,1900,1900,1900,1900,1900,1900,1900,{"$f":"YEAR(BZ5)","v":1900},1900,1900,1900,1900,1900,1900,1900,1900,1900,1900,1900,1900,1900,1900,1900,1900,1900,1900,1900,1900,1900,1900,1900,1900]
[]
[null,"Transferred Variables"]
[null,null,null,"EBITDA to Semi-Annual",null,null,null,"USD",{"$f":"SUM(M11:XFD11)","v":0}]
[null,null,null,"Working Captial Changes to Semi-Annual",null,null,null,"USD",{"$f":"SUM(M12:XFD12)","v":{"$error":"#N/A"}},null,null,null,{"$f":"SUMIF('Operation Monthly'!$14:$14,'Project Finance Semi-Annual'!M$5,'Operation Monthly'!99:99)","v":{"$error":"#N/A"}},{"$f":"SUMIF('Operation Monthly'!$14:$14,'Project Finance Semi-Annual'!N$5,'Operation Monthly'!99:99)","v":0},{"$f":"SUMIF('Operation Monthly'!$14:$14,'Project Finance Semi-Annual'!O$5,'Operation Monthly'!99:99)","v":0},{"$f":"SUMIF('Operation Monthly'!$14:$14,'Project Finance Semi-Annual'!P$5,'Operation Monthly'!99:99)","v":0},{"$f":"SUMIF('Operation Monthly'!$14:$14,'Project Finance Semi-Annual'!Q$5,'Operation Monthly'!99:99)","v":0},{"$f":"SUMIF('Operation Monthly'!$14:$14,'Project Finance Semi-Annual'!R$5,'Operation Monthly'!99:99)","v":0},{"$f":"SUMIF('Operation Monthly'!$14:$14,'Project Finance Semi-Annual'!S$5,'Operation Monthly'!99:99)","v":0},{"$f":"SUMIF('Operation Monthly'!$14:$14,'Project Finance Semi-Annual'!T$5,'Operation Monthly'!99:99)","v":0},{"$f":"SUMIF('Operation Monthly'!$14:$14,'Project Finance Semi-Annual'!U$5,'Operation Monthly'!99:99)","v":0},{"$f":"SUMIF('Operation Monthly'!$14:$14,'Project Finance Semi-Annual'!V$5,'Operation Monthly'!99:99)","v":0},{"$f":"SUMIF('Operation Monthly'!$14:$14,'Project Finance Semi-Annual'!W$5,'Operation Monthly'!99:99)","v":0},{"$f":"SUMIF('Operation Monthly'!$14:$14,'Project Finance Semi-Annual'!X$5,'Operation Monthly'!99:99)","v":0},{"$f":"SUMIF('Operation Monthly'!$14:$14,'Project Finance Semi-Annual'!Y$5,'Operation Monthly'!99:99)","v":0},{"$f":"SUMIF('Operation Monthly'!$14:$14,'Project Finance Semi-Annual'!Z$5,'Operation Monthly'!99:99)","v":0},{"$f":"SUMIF('Operation Monthly'!$14:$14,'Project Finance Semi-Annual'!AA$5,'Operation Monthly'!99:99)","v":0},{"$f":"SUMIF('Operation Monthly'!$14:$14,'Project Finance Semi-Annual'!AB$5,'Operation Monthly'!99:99)","v":0},{"$f":"SUMIF('Operation Monthly'!$14:$14,'Project Finance Semi-Annual'!AC$5,'Operation Monthly'!99:99)","v":0},{"$f":"SUMIF('Operation Monthly'!$14:$14,'Project Finance Semi-Annual'!AD$5,'Operation Monthly'!99:99)","v":0},{"$f":"SUMIF('Operation Monthly'!$14:$14,'Project Finance Semi-Annual'!AE$5,'Operation Monthly'!99:99)","v":0},{"$f":"SUMIF('Operation Monthly'!$14:$14,'Project Finance Semi-Annual'!AF$5,'Operation Monthly'!99:99)","v":0},{"$f":"SUMIF('Operation Monthly'!$14:$14,'Project Finance Semi-Annual'!AG$5,'Operation Monthly'!99:99)","v":0},{"$f":"SUMIF('Operation Monthly'!$14:$14,'Project Finance Semi-Annual'!AH$5,'Operation Monthly'!99:99)","v":0},{"$f":"SUMIF('Operation Monthly'!$14:$14,'Project Finance Semi-Annual'!AI$5,'Operation Monthly'!99:99)","v":0},{"$f":"SUMIF('Operation Monthly'!$14:$14,'Project Finance Semi-Annual'!AJ$5,'Operation Monthly'!99:99)","v":0},{"$f":"SUMIF('Operation Monthly'!$14:$14,'Project Finance Semi-Annual'!AK$5,'Operation Monthly'!99:99)","v":0},{"$f":"SUMIF('Operation Monthly'!$14:$14,'Project Finance Semi-Annual'!AL$5,'Operation Monthly'!99:99)","v":0},{"$f":"SUMIF('Operation Monthly'!$14:$14,'Project Finance Semi-Annual'!AM$5,'Operation Monthly'!99:99)","v":0},{"$f":"SUMIF('Operation Monthly'!$14:$14,'Project Finance Semi-Annual'!AN$5,'Operation Monthly'!99:99)","v":0},{"$f":"SUMIF('Operation Monthly'!$14:$14,'Project Finance Semi-Annual'!AO$5,'Operation Monthly'!99:99)","v":0},{"$f":"SUMIF('Operation Monthly'!$14:$14,'Project Finance Semi-Annual'!AP$5,'Operation Monthly'!99:99)","v":0},{"$f":"SUMIF('Operation Monthly'!$14:$14,'Project Finance Semi-Annual'!AQ$5,'Operation Monthly'!99:99)","v":0},{"$f":"SUMIF('Operation Monthly'!$14:$14,'Project Finance Semi-Annual'!AR$5,'Operation Monthly'!99:99)","v":0},{"$f":"SUMIF('Operation Monthly'!$14:$14,'Project Finance Semi-Annual'!AS$5,'Operation Monthly'!99:99)","v":0},{"$f":"SUMIF('Operation Monthly'!$14:$14,'Project Finance Semi-Annual'!AT$5,'Operation Monthly'!99:99)","v":0},{"$f":"SUMIF('Operation Monthly'!$14:$14,'Project Finance Semi-Annual'!AU$5,'Operation Monthly'!99:99)","v":0},{"$f":"SUMIF('Operation Monthly'!$14:$14,'Project Finance Semi-Annual'!AV$5,'Operation Monthly'!99:99)","v":0},{"$f":"SUMIF('Operation Monthly'!$14:$14,'Project Finance Semi-Annual'!AW$5,'Operation Monthly'!99:99)","v":0},{"$f":"SUMIF('Operation Monthly'!$14:$14,'Project Finance Semi-Annual'!AX$5,'Operation Monthly'!99:99)","v":0},{"$f":"SUMIF('Operation Monthly'!$14:$14,'Project Finance Semi-Annual'!AY$5,'Operation Monthly'!99:99)","v":0},{"$f":"SUMIF('Operation Monthly'!$14:$14,'Project Finance Semi-Annual'!AZ$5,'Operation Monthly'!99:99)","v":0},{"$f":"SUMIF('Operation Monthly'!$14:$14,'Project Finance Semi-Annual'!BA$5,'Operation Monthly'!99:99)","v":0},{"$f":"SUMIF('Operation Monthly'!$14:$14,'Project Finance Semi-Annual'!BB$5,'Operation Monthly'!99:99)","v":0},{"$f":"SUMIF('Operation Monthly'!$14:$14,'Project Finance Semi-Annual'!BC$5,'Operation Monthly'!99:99)","v":0},{"$f":"SUMIF('Operation Monthly'!$14:$14,'Project Finance Semi-Annual'!BD$5,'Operation Monthly'!99:99)","v":0},{"$f":"SUMIF('Operation Monthly'!$14:$14,'Project Finance Semi-Annual'!BE$5,'Operation Monthly'!99:99)","v":0},{"$f":"SUMIF('Operation Monthly'!$14:$14,'Project Finance Semi-Annual'!BF$5,'Operation Monthly'!99:99)","v":0},{"$f":"SUMIF('Operation Monthly'!$14:$14,'Project Finance Semi-Annual'!BG$5,'Operation Monthly'!99:99)","v":0},{"$f":"SUMIF('Operation Monthly'!$14:$14,'Project Finance Semi-Annual'!BH$5,'Operation Monthly'!99:99)","v":0},{"$f":"SUMIF('Operation Monthly'!$14:$14,'Project Finance Semi-Annual'!BI$5,'Operation Monthly'!99:99)","v":0},{"$f":"SUMIF('Operation Monthly'!$14:$14,'Project Finance Semi-Annual'!BJ$5,'Operation Monthly'!99:99)","v":0},{"$f":"SUMIF('Operation Monthly'!$14:$14,'Project Finance Semi-Annual'!BK$5,'Operation Monthly'!99:99)","v":0},{"$f":"SUMIF('Operation Monthly'!$14:$14,'Project Finance Semi-Annual'!BL$5,'Operation Monthly'!99:99)","v":0},{"$f":"SUMIF('Operation Monthly'!$14:$14,'Project Finance Semi-Annual'!BM$5,'Operation Monthly'!99:99)","v":0},{"$f":"SUMIF('Operation Monthly'!$14:$14,'Project Finance Semi-Annual'!BN$5,'Operation Monthly'!99:99)","v":0},{"$f":"SUMIF('Operation Monthly'!$14:$14,'Project Finance Semi-Annual'!BO$5,'Operation Monthly'!99:99)","v":0},{"$f":"SUMIF('Operation Monthly'!$14:$14,'Project Finance Semi-Annual'!BP$5,'Operation Monthly'!99:99)","v":0},{"$f":"SUMIF('Operation Monthly'!$14:$14,'Project Finance Semi-Annual'!BQ$5,'Operation Monthly'!99:99)","v":0},{"$f":"SUMIF('Operation Monthly'!$14:$14,'Project Finance Semi-Annual'!BR$5,'Operation Monthly'!99:99)","v":0},{"$f":"SUMIF('Operation Monthly'!$14:$14,'Project Finance Semi-Annual'!BS$5,'Operation Monthly'!99:99)","v":0},{"$f":"SUMIF('Operation Monthly'!$14:$14,'Project Finance Semi-Annual'!BT$5,'Operation Monthly'!99:99)","v":0},{"$f":"SUMIF('Operation Monthly'!$14:$14,'Project Finance Semi-Annual'!BU$5,'Operation Monthly'!99:99)","v":0},{"$f":"SUMIF('Operation Monthly'!$14:$14,'Project Finance Semi-Annual'!BV$5,'Operation Monthly'!99:99)","v":0},{"$f":"SUMIF('Operation Monthly'!$14:$14,'Project Finance Semi-Annual'!BW$5,'Operation Monthly'!99:99)","v":0},{"$f":"SUMIF('Operation Monthly'!$14:$14,'Project Finance Semi-Annual'!BX$5,'Operation Monthly'!99:99)","v":0},{"$f":"SUMIF('Operation Monthly'!$14:$14,'Project Finance Semi-Annual'!BY$5,'Operation Monthly'!99:99)","v":0},{"$f":"SUMIF('Operation Monthly'!$14:$14,'Project Finance Semi-Annual'!BZ$5,'Operation Monthly'!99:99)","v":0},{"$f":"SUMIF('Operation Monthly'!$14:$14,'Project Finance Semi-Annual'!CA$5,'Operation Monthly'!99:99)","v":0},{"$f":"SUMIF('Operation Monthly'!$14:$14,'Project Finance Semi-Annual'!CB$5,'Operation Monthly'!99:99)","v":0},{"$f":"SUMIF('Operation Monthly'!$14:$14,'Project Finance Semi-Annual'!CC$5,'Operation Monthly'!99:99)","v":0},{"$f":"SUMIF('Operation Monthly'!$14:$14,'Project Finance Semi-Annual'!CD$5,'Operation Monthly'!99:99)","v":0},{"$f":"SUMIF('Operation Monthly'!$14:$14,'Project Finance Semi-Annual'!CE$5,'Operation Monthly'!99:99)","v":0},{"$f":"SUMIF('Operation Monthly'!$14:$14,'Project Finance Semi-Annual'!CF$5,'Operation Monthly'!99:99)","v":0},{"$f":"SUMIF('Operation Monthly'!$14:$14,'Project Finance Semi-Annual'!CG$5,'Operation Monthly'!99:99)","v":0},{"$f":"SUMIF('Operation Monthly'!$14:$14,'Project Finance Semi-Annual'!CH$5,'Operation Monthly'!99:99)","v":0},{"$f":"SUMIF('Operation Monthly'!$14:$14,'Project Finance Semi-Annual'!CI$5,'Operation Monthly'!99:99)","v":0},{"$f":"SUMIF('Operation Monthly'!$14:$14,'Project Finance Semi-Annual'!CJ$5,'Operation Monthly'!99:99)","v":0},{"$f":"SUMIF('Operation Monthly'!$14:$14,'Project Finance Semi-Annual'!CK$5,'Operation Monthly'!99:99)","v":0},{"$f":"SUMIF('Operation Monthly'!$14:$14,'Project Finance Semi-Annual'!CL$5,'Operation Monthly'!99:99)","v":0},{"$f":"SUMIF('Operation Monthly'!$14:$14,'Project Finance Semi-Annual'!CM$5,'Operation Monthly'!99:99)","v":0},{"$f":"SUMIF('Operation Monthly'!$14:$14,'Project Finance Semi-Annual'!CN$5,'Operation Monthly'!99:99)","v":0},{"$f":"SUMIF('Operation Monthly'!$14:$14,'Project Finance Semi-Annual'!CO$5,'Operation Monthly'!99:99)","v":0},{"$f":"SUMIF('Operation Monthly'!$14:$14,'Project Finance Semi-Annual'!CP$5,'Operation Monthly'!99:99)","v":0},{"$f":"SUMIF('Operation Monthly'!$14:$14,'Project Finance Semi-Annual'!CQ$5,'Operation Monthly'!99:99)","v":0},{"$f":"SUMIF('Operation Monthly'!$14:$14,'Project Finance Semi-Annual'!CR$5,'Operation Monthly'!99:99)","v":0},{"$f":"SUMIF('Operation Monthly'!$14:$14,'Project Finance Semi-Annual'!CS$5,'Operation Monthly'!99:99)","v":0},{"$f":"SUMIF('Operation Monthly'!$14:$14,'Project Finance Semi-Annual'!CT$5,'Operation Monthly'!99:99)","v":0},{"$f":"SUMIF('Operation Monthly'!$14:$14,'Project Finance Semi-Annual'!CU$5,'Operation Monthly'!99:99)","v":0},{"$f":"SUMIF('Operation Monthly'!$14:$14,'Project Finance Semi-Annual'!CV$5,'Operation Monthly'!99:99)","v":0},{"$f":"SUMIF('Operation Monthly'!$14:$14,'Project Finance Semi-Annual'!CW$5,'Operation Monthly'!99:99)","v":0},{"$f":"SUMIF('Operation Monthly'!$14:$14,'Project Finance Semi-Annual'!CX$5,'Operation Monthly'!99:99)","v":0}]
[null,null,null,"Revenues",null,null,null,"USD",null,null,null,null,{"$f":"SUMIF('Operation Monthly'!$14:$14,'Project Finance Semi-Annual'!M$5,'Operation Monthly'!51:51)","v":0},{"$f":"SUMIF('Operation Monthly'!$14:$14,'Project Finance Semi-Annual'!N$5,'Operation Monthly'!51:51)","v":0},{"$f":"SUMIF('Operation Monthly'!$14:$14,'Project Finance Semi-Annual'!O$5,'Operation Monthly'!51:51)","v":0},{"$f":"SUMIF('Operation Monthly'!$14:$14,'Project Finance Semi-Annual'!P$5,'Operation Monthly'!51:51)","v":0},{"$f":"SUMIF('Operation Monthly'!$14:$14,'Project Finance Semi-Annual'!Q$5,'Operation Monthly'!51:51)","v":0},{"$f":"SUMIF('Operation Monthly'!$14:$14,'Project Finance Semi-Annual'!R$5,'Operation Monthly'!51:51)","v":0},{"$f":"SUMIF('Operation Monthly'!$14:$14,'Project Finance Semi-Annual'!S$5,'Operation Monthly'!51:51)","v":0},{"$f":"SUMIF('Operation Monthly'!$14:$14,'Project Finance Semi-Annual'!T$5,'Operation Monthly'!51:51)","v":0},{"$f":"SUMIF('Operation Monthly'!$14:$14,'Project Finance Semi-Annual'!U$5,'Operation Monthly'!51:51)","v":0},{"$f":"SUMIF('Operation Monthly'!$14:$14,'Project Finance Semi-Annual'!V$5,'Operation Monthly'!51:51)","v":0},{"$f":"SUMIF('Operation Monthly'!$14:$14,'Project Finance Semi-Annual'!W$5,'Operation Monthly'!51:51)","v":0},{"$f":"SUMIF('Operation Monthly'!$14:$14,'Project Finance Semi-Annual'!X$5,'Operation Monthly'!51:51)","v":0},{"$f":"SUMIF('Operation Monthly'!$14:$14,'Project Finance Semi-Annual'!Y$5,'Operation Monthly'!51:51)","v":0},{"$f":"SUMIF('Operation Monthly'!$14:$14,'Project Finance Semi-Annual'!Z$5,'Operation Monthly'!51:51)","v":0},{"$f":"SUMIF('Operation Monthly'!$14:$14,'Project Finance Semi-Annual'!AA$5,'Operation Monthly'!51:51)","v":0},{"$f":"SUMIF('Operation Monthly'!$14:$14,'Project Finance Semi-Annual'!AB$5,'Operation Monthly'!51:51)","v":0},{"$f":"SUMIF('Operation Monthly'!$14:$14,'Project Finance Semi-Annual'!AC$5,'Operation Monthly'!51:51)","v":0},{"$f":"SUMIF('Operation Monthly'!$14:$14,'Project Finance Semi-Annual'!AD$5,'Operation Monthly'!51:51)","v":0},{"$f":"SUMIF('Operation Monthly'!$14:$14,'Project Finance Semi-Annual'!AE$5,'Operation Monthly'!51:51)","v":0},{"$f":"SUMIF('Operation Monthly'!$14:$14,'Project Finance Semi-Annual'!AF$5,'Operation Monthly'!51:51)","v":0},{"$f":"SUMIF('Operation Monthly'!$14:$14,'Project Finance Semi-Annual'!AG$5,'Operation Monthly'!51:51)","v":0},{"$f":"SUMIF('Operation Monthly'!$14:$14,'Project Finance Semi-Annual'!AH$5,'Operation Monthly'!51:51)","v":0},{"$f":"SUMIF('Operation Monthly'!$14:$14,'Project Finance Semi-Annual'!AI$5,'Operation Monthly'!51:51)","v":0},{"$f":"SUMIF('Operation Monthly'!$14:$14,'Project Finance Semi-Annual'!AJ$5,'Operation Monthly'!51:51)","v":0},{"$f":"SUMIF('Operation Monthly'!$14:$14,'Project Finance Semi-Annual'!AK$5,'Operation Monthly'!51:51)","v":0},{"$f":"SUMIF('Operation Monthly'!$14:$14,'Project Finance Semi-Annual'!AL$5,'Operation Monthly'!51:51)","v":0},{"$f":"SUMIF('Operation Monthly'!$14:$14,'Project Finance Semi-Annual'!AM$5,'Operation Monthly'!51:51)","v":0},{"$f":"SUMIF('Operation Monthly'!$14:$14,'Project Finance Semi-Annual'!AN$5,'Operation Monthly'!51:51)","v":0},{"$f":"SUMIF('Operation Monthly'!$14:$14,'Project Finance Semi-Annual'!AO$5,'Operation Monthly'!51:51)","v":0},{"$f":"SUMIF('Operation Monthly'!$14:$14,'Project Finance Semi-Annual'!AP$5,'Operation Monthly'!51:51)","v":0},{"$f":"SUMIF('Operation Monthly'!$14:$14,'Project Finance Semi-Annual'!AQ$5,'Operation Monthly'!51:51)","v":0},{"$f":"SUMIF('Operation Monthly'!$14:$14,'Project Finance Semi-Annual'!AR$5,'Operation Monthly'!51:51)","v":0},{"$f":"SUMIF('Operation Monthly'!$14:$14,'Project Finance Semi-Annual'!AS$5,'Operation Monthly'!51:51)","v":0},{"$f":"SUMIF('Operation Monthly'!$14:$14,'Project Finance Semi-Annual'!AT$5,'Operation Monthly'!51:51)","v":0},{"$f":"SUMIF('Operation Monthly'!$14:$14,'Project Finance Semi-Annual'!AU$5,'Operation Monthly'!51:51)","v":0},{"$f":"SUMIF('Operation Monthly'!$14:$14,'Project Finance Semi-Annual'!AV$5,'Operation Monthly'!51:51)","v":0},{"$f":"SUMIF('Operation Monthly'!$14:$14,'Project Finance Semi-Annual'!AW$5,'Operation Monthly'!51:51)","v":0},{"$f":"SUMIF('Operation Monthly'!$14:$14,'Project Finance Semi-Annual'!AX$5,'Operation Monthly'!51:51)","v":0},{"$f":"SUMIF('Operation Monthly'!$14:$14,'Project Finance Semi-Annual'!AY$5,'Operation Monthly'!51:51)","v":0},{"$f":"SUMIF('Operation Monthly'!$14:$14,'Project Finance Semi-Annual'!AZ$5,'Operation Monthly'!51:51)","v":0},{"$f":"SUMIF('Operation Monthly'!$14:$14,'Project Finance Semi-Annual'!BA$5,'Operation Monthly'!51:51)","v":0},{"$f":"SUMIF('Operation Monthly'!$14:$14,'Project Finance Semi-Annual'!BB$5,'Operation Monthly'!51:51)","v":0},{"$f":"SUMIF('Operation Monthly'!$14:$14,'Project Finance Semi-Annual'!BC$5,'Operation Monthly'!51:51)","v":0},{"$f":"SUMIF('Operation Monthly'!$14:$14,'Project Finance Semi-Annual'!BD$5,'Operation Monthly'!51:51)","v":0},{"$f":"SUMIF('Operation Monthly'!$14:$14,'Project Finance Semi-Annual'!BE$5,'Operation Monthly'!51:51)","v":0},{"$f":"SUMIF('Operation Monthly'!$14:$14,'Project Finance Semi-Annual'!BF$5,'Operation Monthly'!51:51)","v":0},{"$f":"SUMIF('Operation Monthly'!$14:$14,'Project Finance Semi-Annual'!BG$5,'Operation Monthly'!51:51)","v":0},{"$f":"SUMIF('Operation Monthly'!$14:$14,'Project Finance Semi-Annual'!BH$5,'Operation Monthly'!51:51)","v":0},{"$f":"SUMIF('Operation Monthly'!$14:$14,'Project Finance Semi-Annual'!BI$5,'Operation Monthly'!51:51)","v":0},{"$f":"SUMIF('Operation Monthly'!$14:$14,'Project Finance Semi-Annual'!BJ$5,'Operation Monthly'!51:51)","v":0},{"$f":"SUMIF('Operation Monthly'!$14:$14,'Project Finance Semi-Annual'!BK$5,'Operation Monthly'!51:51)","v":0},{"$f":"SUMIF('Operation Monthly'!$14:$14,'Project Finance Semi-Annual'!BL$5,'Operation Monthly'!51:51)","v":0},{"$f":"SUMIF('Operation Monthly'!$14:$14,'Project Finance Semi-Annual'!BM$5,'Operation Monthly'!51:51)","v":0},{"$f":"SUMIF('Operation Monthly'!$14:$14,'Project Finance Semi-Annual'!BN$5,'Operation Monthly'!51:51)","v":0},{"$f":"SUMIF('Operation Monthly'!$14:$14,'Project Finance Semi-Annual'!BO$5,'Operation Monthly'!51:51)","v":0},{"$f":"SUMIF('Operation Monthly'!$14:$14,'Project Finance Semi-Annual'!BP$5,'Operation Monthly'!51:51)","v":0},{"$f":"SUMIF('Operation Monthly'!$14:$14,'Project Finance Semi-Annual'!BQ$5,'Operation Monthly'!51:51)","v":0},{"$f":"SUMIF('Operation Monthly'!$14:$14,'Project Finance Semi-Annual'!BR$5,'Operation Monthly'!51:51)","v":0},{"$f":"SUMIF('Operation Monthly'!$14:$14,'Project Finance Semi-Annual'!BS$5,'Operation Monthly'!51:51)","v":0},{"$f":"SUMIF('Operation Monthly'!$14:$14,'Project Finance Semi-Annual'!BT$5,'Operation Monthly'!51:51)","v":0},{"$f":"SUMIF('Operation Monthly'!$14:$14,'Project Finance Semi-Annual'!BU$5,'Operation Monthly'!51:51)","v":0},{"$f":"SUMIF('Operation Monthly'!$14:$14,'Project Finance Semi-Annual'!BV$5,'Operation Monthly'!51:51)","v":0},{"$f":"SUMIF('Operation Monthly'!$14:$14,'Project Finance Semi-Annual'!BW$5,'Operation Monthly'!51:51)","v":0},{"$f":"SUMIF('Operation Monthly'!$14:$14,'Project Finance Semi-Annual'!BX$5,'Operation Monthly'!51:51)","v":0},{"$f":"SUMIF('Operation Monthly'!$14:$14,'Project Finance Semi-Annual'!BY$5,'Operation Monthly'!51:51)","v":0},{"$f":"SUMIF('Operation Monthly'!$14:$14,'Project Finance Semi-Annual'!BZ$5,'Operation Monthly'!51:51)","v":0},{"$f":"SUMIF('Operation Monthly'!$14:$14,'Project Finance Semi-Annual'!CA$5,'Operation Monthly'!51:51)","v":0},{"$f":"SUMIF('Operation Monthly'!$14:$14,'Project Finance Semi-Annual'!CB$5,'Operation Monthly'!51:51)","v":0},{"$f":"SUMIF('Operation Monthly'!$14:$14,'Project Finance Semi-Annual'!CC$5,'Operation Monthly'!51:51)","v":0},{"$f":"SUMIF('Operation Monthly'!$14:$14,'Project Finance Semi-Annual'!CD$5,'Operation Monthly'!51:51)","v":0},{"$f":"SUMIF('Operation Monthly'!$14:$14,'Project Finance Semi-Annual'!CE$5,'Operation Monthly'!51:51)","v":0},{"$f":"SUMIF('Operation Monthly'!$14:$14,'Project Finance Semi-Annual'!CF$5,'Operation Monthly'!51:51)","v":0},{"$f":"SUMIF('Operation Monthly'!$14:$14,'Project Finance Semi-Annual'!CG$5,'Operation Monthly'!51:51)","v":0},{"$f":"SUMIF('Operation Monthly'!$14:$14,'Project Finance Semi-Annual'!CH$5,'Operation Monthly'!51:51)","v":0},{"$f":"SUMIF('Operation Monthly'!$14:$14,'Project Finance Semi-Annual'!CI$5,'Operation Monthly'!51:51)","v":0},{"$f":"SUMIF('Operation Monthly'!$14:$14,'Project Finance Semi-Annual'!CJ$5,'Operation Monthly'!51:51)","v":0},{"$f":"SUMIF('Operation Monthly'!$14:$14,'Project Finance Semi-Annual'!CK$5,'Operation Monthly'!51:51)","v":0},{"$f":"SUMIF('Operation Monthly'!$14:$14,'Project Finance Semi-Annual'!CL$5,'Operation Monthly'!51:51)","v":0},{"$f":"SUMIF('Operation Monthly'!$14:$14,'Project Finance Semi-Annual'!CM$5,'Operation Monthly'!51:51)","v":0},{"$f":"SUMIF('Operation Monthly'!$14:$14,'Project Finance Semi-Annual'!CN$5,'Operation Monthly'!51:51)","v":0},{"$f":"SUMIF('Operation Monthly'!$14:$14,'Project Finance Semi-Annual'!CO$5,'Operation Monthly'!51:51)","v":0},{"$f":"SUMIF('Operation Monthly'!$14:$14,'Project Finance Semi-Annual'!CP$5,'Operation Monthly'!51:51)","v":0},{"$f":"SUMIF('Operation Monthly'!$14:$14,'Project Finance Semi-Annual'!CQ$5,'Operation Monthly'!51:51)","v":0},{"$f":"SUMIF('Operation Monthly'!$14:$14,'Project Finance Semi-Annual'!CR$5,'Operation Monthly'!51:51)","v":0},{"$f":"SUMIF('Operation Monthly'!$14:$14,'Project Finance Semi-Annual'!CS$5,'Operation Monthly'!51:51)","v":0},{"$f":"SUMIF('Operation Monthly'!$14:$14,'Project Finance Semi-Annual'!CT$5,'Operation Monthly'!51:51)","v":0},{"$f":"SUMIF('Operation Monthly'!$14:$14,'Project Finance Semi-Annual'!CU$5,'Operation Monthly'!51:51)","v":0},{"$f":"SUMIF('Operation Monthly'!$14:$14,'Project Finance Semi-Annual'!CV$5,'Operation Monthly'!51:51)","v":0},{"$f":"SUMIF('Operation Monthly'!$14:$14,'Project Finance Semi-Annual'!CW$5,'Operation Monthly'!51:51)","v":0},{"$f":"SUMIF('Operation Monthly'!$14:$14,'Project Finance Semi-Annual'!CX$5,'Operation Monthly'!51:51)","v":0}]
[null,null,null,"Total Operating Expenses",null,null,null,"USD",null,null,null,null,{"$f":"SUMIF('Operation Monthly'!$14:$14,'Project Finance Semi-Annual'!M$5,'Operation Monthly'!69:69)","v":{"$error":"#N/A"}},{"$f":"SUMIF('Operation Monthly'!$14:$14,'Project Finance Semi-Annual'!N$5,'Operation Monthly'!69:69)","v":0},{"$f":"SUMIF('Operation Monthly'!$14:$14,'Project Finance Semi-Annual'!O$5,'Operation Monthly'!69:69)","v":0},{"$f":"SUMIF('Operation Monthly'!$14:$14,'Project Finance Semi-Annual'!P$5,'Operation Monthly'!69:69)","v":0},{"$f":"SUMIF('Operation Monthly'!$14:$14,'Project Finance Semi-Annual'!Q$5,'Operation Monthly'!69:69)","v":0},{"$f":"SUMIF('Operation Monthly'!$14:$14,'Project Finance Semi-Annual'!R$5,'Operation Monthly'!69:69)","v":0},{"$f":"SUMIF('Operation Monthly'!$14:$14,'Project Finance Semi-Annual'!S$5,'Operation Monthly'!69:69)","v":0},{"$f":"SUMIF('Operation Monthly'!$14:$14,'Project Finance Semi-Annual'!T$5,'Operation Monthly'!69:69)","v":0},{"$f":"SUMIF('Operation Monthly'!$14:$14,'Project Finance Semi-Annual'!U$5,'Operation Monthly'!69:69)","v":0},{"$f":"SUMIF('Operation Monthly'!$14:$14,'Project Finance Semi-Annual'!V$5,'Operation Monthly'!69:69)","v":0},{"$f":"SUMIF('Operation Monthly'!$14:$14,'Project Finance Semi-Annual'!W$5,'Operation Monthly'!69:69)","v":0},{"$f":"SUMIF('Operation Monthly'!$14:$14,'Project Finance Semi-Annual'!X$5,'Operation Monthly'!69:69)","v":0},{"$f":"SUMIF('Operation Monthly'!$14:$14,'Project Finance Semi-Annual'!Y$5,'Operation Monthly'!69:69)","v":0},{"$f":"SUMIF('Operation Monthly'!$14:$14,'Project Finance Semi-Annual'!Z$5,'Operation Monthly'!69:69)","v":0},{"$f":"SUMIF('Operation Monthly'!$14:$14,'Project Finance Semi-Annual'!AA$5,'Operation Monthly'!69:69)","v":0},{"$f":"SUMIF('Operation Monthly'!$14:$14,'Project Finance Semi-Annual'!AB$5,'Operation Monthly'!69:69)","v":0},{"$f":"SUMIF('Operation Monthly'!$14:$14,'Project Finance Semi-Annual'!AC$5,'Operation Monthly'!69:69)","v":0},{"$f":"SUMIF('Operation Monthly'!$14:$14,'Project Finance Semi-Annual'!AD$5,'Operation Monthly'!69:69)","v":0},{"$f":"SUMIF('Operation Monthly'!$14:$14,'Project Finance Semi-Annual'!AE$5,'Operation Monthly'!69:69)","v":0},{"$f":"SUMIF('Operation Monthly'!$14:$14,'Project Finance Semi-Annual'!AF$5,'Operation Monthly'!69:69)","v":0},{"$f":"SUMIF('Operation Monthly'!$14:$14,'Project Finance Semi-Annual'!AG$5,'Operation Monthly'!69:69)","v":0},{"$f":"SUMIF('Operation Monthly'!$14:$14,'Project Finance Semi-Annual'!AH$5,'Operation Monthly'!69:69)","v":0},{"$f":"SUMIF('Operation Monthly'!$14:$14,'Project Finance Semi-Annual'!AI$5,'Operation Monthly'!69:69)","v":0},{"$f":"SUMIF('Operation Monthly'!$14:$14,'Project Finance Semi-Annual'!AJ$5,'Operation Monthly'!69:69)","v":0},{"$f":"SUMIF('Operation Monthly'!$14:$14,'Project Finance Semi-Annual'!AK$5,'Operation Monthly'!69:69)","v":0},{"$f":"SUMIF('Operation Monthly'!$14:$14,'Project Finance Semi-Annual'!AL$5,'Operation Monthly'!69:69)","v":0},{"$f":"SUMIF('Operation Monthly'!$14:$14,'Project Finance Semi-Annual'!AM$5,'Operation Monthly'!69:69)","v":0},{"$f":"SUMIF('Operation Monthly'!$14:$14,'Project Finance Semi-Annual'!AN$5,'Operation Monthly'!69:69)","v":0},{"$f":"SUMIF('Operation Monthly'!$14:$14,'Project Finance Semi-Annual'!AO$5,'Operation Monthly'!69:69)","v":0},{"$f":"SUMIF('Operation Monthly'!$14:$14,'Project Finance Semi-Annual'!AP$5,'Operation Monthly'!69:69)","v":0},{"$f":"SUMIF('Operation Monthly'!$14:$14,'Project Finance Semi-Annual'!AQ$5,'Operation Monthly'!69:69)","v":0},{"$f":"SUMIF('Operation Monthly'!$14:$14,'Project Finance Semi-Annual'!AR$5,'Operation Monthly'!69:69)","v":0},{"$f":"SUMIF('Operation Monthly'!$14:$14,'Project Finance Semi-Annual'!AS$5,'Operation Monthly'!69:69)","v":0},{"$f":"SUMIF('Operation Monthly'!$14:$14,'Project Finance Semi-Annual'!AT$5,'Operation Monthly'!69:69)","v":0},{"$f":"SUMIF('Operation Monthly'!$14:$14,'Project Finance Semi-Annual'!AU$5,'Operation Monthly'!69:69)","v":0},{"$f":"SUMIF('Operation Monthly'!$14:$14,'Project Finance Semi-Annual'!AV$5,'Operation Monthly'!69:69)","v":0},{"$f":"SUMIF('Operation Monthly'!$14:$14,'Project Finance Semi-Annual'!AW$5,'Operation Monthly'!69:69)","v":0},{"$f":"SUMIF('Operation Monthly'!$14:$14,'Project Finance Semi-Annual'!AX$5,'Operation Monthly'!69:69)","v":0},{"$f":"SUMIF('Operation Monthly'!$14:$14,'Project Finance Semi-Annual'!AY$5,'Operation Monthly'!69:69)","v":0},{"$f":"SUMIF('Operation Monthly'!$14:$14,'Project Finance Semi-Annual'!AZ$5,'Operation Monthly'!69:69)","v":0},{"$f":"SUMIF('Operation Monthly'!$14:$14,'Project Finance Semi-Annual'!BA$5,'Operation Monthly'!69:69)","v":0},{"$f":"SUMIF('Operation Monthly'!$14:$14,'Project Finance Semi-Annual'!BB$5,'Operation Monthly'!69:69)","v":0},{"$f":"SUMIF('Operation Monthly'!$14:$14,'Project Finance Semi-Annual'!BC$5,'Operation Monthly'!69:69)","v":0},{"$f":"SUMIF('Operation Monthly'!$14:$14,'Project Finance Semi-Annual'!BD$5,'Operation Monthly'!69:69)","v":0},{"$f":"SUMIF('Operation Monthly'!$14:$14,'Project Finance Semi-Annual'!BE$5,'Operation Monthly'!69:69)","v":0},{"$f":"SUMIF('Operation Monthly'!$14:$14,'Project Finance Semi-Annual'!BF$5,'Operation Monthly'!69:69)","v":0},{"$f":"SUMIF('Operation Monthly'!$14:$14,'Project Finance Semi-Annual'!BG$5,'Operation Monthly'!69:69)","v":0},{"$f":"SUMIF('Operation Monthly'!$14:$14,'Project Finance Semi-Annual'!BH$5,'Operation Monthly'!69:69)","v":0},{"$f":"SUMIF('Operation Monthly'!$14:$14,'Project Finance Semi-Annual'!BI$5,'Operation Monthly'!69:69)","v":0},{"$f":"SUMIF('Operation Monthly'!$14:$14,'Project Finance Semi-Annual'!BJ$5,'Operation Monthly'!69:69)","v":0},{"$f":"SUMIF('Operation Monthly'!$14:$14,'Project Finance Semi-Annual'!BK$5,'Operation Monthly'!69:69)","v":0},{"$f":"SUMIF('Operation Monthly'!$14:$14,'Project Finance Semi-Annual'!BL$5,'Operation Monthly'!69:69)","v":0},{"$f":"SUMIF('Operation Monthly'!$14:$14,'Project Finance Semi-Annual'!BM$5,'Operation Monthly'!69:69)","v":0},{"$f":"SUMIF('Operation Monthly'!$14:$14,'Project Finance Semi-Annual'!BN$5,'Operation Monthly'!69:69)","v":0},{"$f":"SUMIF('Operation Monthly'!$14:$14,'Project Finance Semi-Annual'!BO$5,'Operation Monthly'!69:69)","v":0},{"$f":"SUMIF('Operation Monthly'!$14:$14,'Project Finance Semi-Annual'!BP$5,'Operation Monthly'!69:69)","v":0},{"$f":"SUMIF('Operation Monthly'!$14:$14,'Project Finance Semi-Annual'!BQ$5,'Operation Monthly'!69:69)","v":0},{"$f":"SUMIF('Operation Monthly'!$14:$14,'Project Finance Semi-Annual'!BR$5,'Operation Monthly'!69:69)","v":0},{"$f":"SUMIF('Operation Monthly'!$14:$14,'Project Finance Semi-Annual'!BS$5,'Operation Monthly'!69:69)","v":0},{"$f":"SUMIF('Operation Monthly'!$14:$14,'Project Finance Semi-Annual'!BT$5,'Operation Monthly'!69:69)","v":0},{"$f":"SUMIF('Operation Monthly'!$14:$14,'Project Finance Semi-Annual'!BU$5,'Operation Monthly'!69:69)","v":0},{"$f":"SUMIF('Operation Monthly'!$14:$14,'Project Finance Semi-Annual'!BV$5,'Operation Monthly'!69:69)","v":0},{"$f":"SUMIF('Operation Monthly'!$14:$14,'Project Finance Semi-Annual'!BW$5,'Operation Monthly'!69:69)","v":0},{"$f":"SUMIF('Operation Monthly'!$14:$14,'Project Finance Semi-Annual'!BX$5,'Operation Monthly'!69:69)","v":0},{"$f":"SUMIF('Operation Monthly'!$14:$14,'Project Finance Semi-Annual'!BY$5,'Operation Monthly'!69:69)","v":0},{"$f":"SUMIF('Operation Monthly'!$14:$14,'Project Finance Semi-Annual'!BZ$5,'Operation Monthly'!69:69)","v":0},{"$f":"SUMIF('Operation Monthly'!$14:$14,'Project Finance Semi-Annual'!CA$5,'Operation Monthly'!69:69)","v":0},{"$f":"SUMIF('Operation Monthly'!$14:$14,'Project Finance Semi-Annual'!CB$5,'Operation Monthly'!69:69)","v":0},{"$f":"SUMIF('Operation Monthly'!$14:$14,'Project Finance Semi-Annual'!CC$5,'Operation Monthly'!69:69)","v":0},{"$f":"SUMIF('Operation Monthly'!$14:$14,'Project Finance Semi-Annual'!CD$5,'Operation Monthly'!69:69)","v":0},{"$f":"SUMIF('Operation Monthly'!$14:$14,'Project Finance Semi-Annual'!CE$5,'Operation Monthly'!69:69)","v":0},{"$f":"SUMIF('Operation Monthly'!$14:$14,'Project Finance Semi-Annual'!CF$5,'Operation Monthly'!69:69)","v":0},{"$f":"SUMIF('Operation Monthly'!$14:$14,'Project Finance Semi-Annual'!CG$5,'Operation Monthly'!69:69)","v":0},{"$f":"SUMIF('Operation Monthly'!$14:$14,'Project Finance Semi-Annual'!CH$5,'Operation Monthly'!69:69)","v":0},{"$f":"SUMIF('Operation Monthly'!$14:$14,'Project Finance Semi-Annual'!CI$5,'Operation Monthly'!69:69)","v":0},{"$f":"SUMIF('Operation Monthly'!$14:$14,'Project Finance Semi-Annual'!CJ$5,'Operation Monthly'!69:69)","v":0},{"$f":"SUMIF('Operation Monthly'!$14:$14,'Project Finance Semi-Annual'!CK$5,'Operation Monthly'!69:69)","v":0},{"$f":"SUMIF('Operation Monthly'!$14:$14,'Project Finance Semi-Annual'!CL$5,'Operation Monthly'!69:69)","v":0},{"$f":"SUMIF('Operation Monthly'!$14:$14,'Project Finance Semi-Annual'!CM$5,'Operation Monthly'!69:69)","v":0},{"$f":"SUMIF('Operation Monthly'!$14:$14,'Project Finance Semi-Annual'!CN$5,'Operation Monthly'!69:69)","v":0},{"$f":"SUMIF('Operation Monthly'!$14:$14,'Project Finance Semi-Annual'!CO$5,'Operation Monthly'!69:69)","v":0},{"$f":"SUMIF('Operation Monthly'!$14:$14,'Project Finance Semi-Annual'!CP$5,'Operation Monthly'!69:69)","v":0},{"$f":"SUMIF('Operation Monthly'!$14:$14,'Project Finance Semi-Annual'!CQ$5,'Operation Monthly'!69:69)","v":0},{"$f":"SUMIF('Operation Monthly'!$14:$14,'Project Finance Semi-Annual'!CR$5,'Operation Monthly'!69:69)","v":0},{"$f":"SUMIF('Operation Monthly'!$14:$14,'Project Finance Semi-Annual'!CS$5,'Operation Monthly'!69:69)","v":0},{"$f":"SUMIF('Operation Monthly'!$14:$14,'Project Finance Semi-Annual'!CT$5,'Operation Monthly'!69:69)","v":0},{"$f":"SUMIF('Operation Monthly'!$14:$14,'Project Finance Semi-Annual'!CU$5,'Operation Monthly'!69:69)","v":0},{"$f":"SUMIF('Operation Monthly'!$14:$14,'Project Finance Semi-Annual'!CV$5,'Operation Monthly'!69:69)","v":0},{"$f":"SUMIF('Operation Monthly'!$14:$14,'Project Finance Semi-Annual'!CW$5,'Operation Monthly'!69:69)","v":0},{"$f":"SUMIF('Operation Monthly'!$14:$14,'Project Finance Semi-Annual'!CX$5,'Operation Monthly'!69:69)","v":0}]
[]
[null,"Capital Expenditure"]
[null,null,"EPC Cost"]
[null,null,null,"Total Cost",null,{"$f":"'InputC - Operations'!E52","v":900},{"$f":"'InputC - Operations'!E17*1000","v":0},"USD",null,null,null,null,{"$f":"$F$18*$G$18","v":0},0,0,0,0,0,0,0,0,0,0,0,0,0,0,0,0,0,0,0,0,0,0,0,0,0,0,0,0,0,0,0,{"$f":"$F$18*$G$18","v":0},0,0,0,0,0,0,0,0,0,0,0,0,0,0,0,0,0,0,0,0,0,0,0,0,0,0,0,0,0,0,0,{"$f":"$F$18*$G$18","v":0},0,0,0,0,0,0,0,0,0,0,0,0,0,0,0,0,0,0,0,0,0,0,0,0,0]
[null,null,null,"Construction Month",null,null,null,"Counter",null,null,null,null,{"$f":"L19+M3","v":0},0,0,0,0,0,0,0,0,0,0,0,0,0,0,0,0,0,0,0,0,0,0,0,0,0,0,0,0,0,0,0,{"$f":"AR19+AS3","v":0},0,0,0,0,0,0,0,0,0,0,0,0,0,0,0,0,0,0,0,0,0,0,0,0,0,0,0,0,0,0,0,{"$f":"BX19+BY3","v":0},0,0,0,0,0,0,0,0,0,0,0,0,0,0,0,0,0,0,0,0,0,0,0,0,0]
[null,null,null,"S-Curve",null,{"$f":"InputS!D15","v":"S-Curve - Flat Case"},null,"%",{"$f":"SUM(M20:XFD20)","v":0},{"$f":"I20=1","v":false}]
[null,null,null,"Monthly EPC Cost",null,null,null,"USD/Month",{"$f":"SUM(J21:XFD21)","v":0},null,null,null,{"$f":"M20*M18","v":0},0,0,0,0,0,0,0,0,0,0,0,0,0,0,0,0,0,0,0,0,0,0,0,0,0,0,0,0,0,0,0,{"$f":"AS20*AS18","v":0},0,0,0,0,0,0,0,0,0,0,0,0,0,0,0,0,0,0,0,0,0,0,0,0,0,0,0,0,0,0,0,{"$f":"BY20*BY18","v":0},0,0,0,0,0,0,0,0,0,0,0,0,0,0,0,0,0,0,0,0,0,0,0,0,0]
[]
[null,null,"Developer Bonus and Other Costs"]
[null,null,null,"Total Developer Fee",null,{"$f":"'InputC - Operations'!E54","v":3600000},null,"USD",null,null,null,null,{"$f":"$F$24","v":3600000},3600000,3600000,3600000,3600000,3600000,3600000,3600000,3600000,3600000,3600000,3600000,3600000,3600000,3600000,3600000,3600000,3600000,3600000,3600000,3600000,3600000,3600000,3600000,3600000,3600000,3600000,3600000,3600000,3600000,3600000,3600000,{"$f":"$F$24","v":3600000},3600000,3600000,3600000,3600000,3600000,3600000,3600000,3600000,3600000,3600000,3600000,3600000,3600000,3600000,3600000,3600000,3600000,3600000,3600000,3600000,3600000,3600000,3600000,3600000,3600000,3600000,3600000,3600000,3600000,3600000,3600000,{"$f":"$F$24","v":3600000},3600000,3600000,3600000,3600000,3600000,3600000,3600000,3600000,3600000,3600000,3600000,3600000,3600000,3600000,3600000,3600000,3600000,3600000,3600000,3600000,3600000,3600000,3600000,3600000,3600000]
[null,null,null,"Flag for Financial Close",null,{"$f":"'InputC - Operations'!E7","v":"00:00:00"},null,"Flag",null,null,null,null,{"$f":"M5=$F$25","v":true},false,false,false,false,false,false,false,false,false,false,false,false,false,false,false,false,false,false,false,false,false,false,false,false,false,false,false,false,false,false,false,{"$f":"AS5=$F$25","v":false},false,false,false,false,false,false,false,false,false,false,false,false,false,false,false,false,false,false,false,false,false,false,false,false,false,false,false,false,false,false,false,{"$f":"BY5=$F$25","v":false},false,false,false,false,false,false,false,false,false,false,false,false,false,false,false,false,false,false,false,false,false,false,false,false,false]
[null,null,null,"Monthly Developer Bonus",null,null,null,"USD",{"$f":"SUM(J26:XFD26)","v":3600000},null,null,null,{"$f":"M24*M25","v":3600000},0,0,0,0,0,0,0,0,0,0,0,0,0,0,0,0,0,0,0,0,0,0,0,0,0,0,0,0,0,0,0,{"$f":"AS24*AS25","v":0},0,0,0,0,0,0,0,0,0,0,0,0,0,0,0,0,0,0,0,0,0,0,0,0,0,0,0,0,0,0,0,{"$f":"BY24*BY25","v":0},0,0,0,0,0,0,0,0,0,0,0,0,0,0,0,0,0,0,0,0,0,0,0,0,0]
[]
[null,null,"Grand Total Expenditures without Financing Costs",null,null,null,null,"USD",{"$f":"SUM(J28:XFD28)","v":3600000},null,null,null,{"$f":"M21+M26","v":3600000},0,0,0,0,0,0,0,0,0,0,0,0,0,0,0,0,0,0,0,0,0,0,0,0,0,0,0,0,0,0,0,{"$f":"AS21+AS26","v":0},0,0,0,0,0,0,0,0,0,0,0,0,0,0,0,0,0,0,0,0,0,0,0,0,0,0,0,0,0,0,0,{"$f":"BY21+BY26","v":0},0,0,0,0,0,0,0,0,0,0,0,0,0,0,0,0,0,0,0,0,0,0,0,0,0]
[]
[null,null,"Pre-tax Project Cash Flow",null,null,null,null,"USD",null,null,null,null,{"$f":"M11-M12-M28","v":{"$error":"#N/A"}},0,0,0,0,0,0,0,0,0,0,0,0,0,0,0,0,0,0,0,0,0,0,0,0,0,0,0,0,0,0,0,{"$f":"AS11-AS12-AS28","v":0},0,0,0,0,0,0,0,0,0,0,0,0,0,0,0,0,0,0,0,0,0,0,0,0,0,0,0,0,0,0,0,{"$f":"BY11-BY12-BY28","v":0},0,0,0,0,0,0,0,0,0,0,0,0,0,0,0,0,0,0,0,0,0,0,0,0,0]
[null,null,"Project IRR",null,null,null,null,"%"]
[]
[null,"Debt Sizing from Cash Flow"]
[null,null,"EBITDA",null,null,null,null,"USD",{"$f":"SUM(M34:XFD34)","v":0},null,null,null,{"$f":"M11","v":0},0,0,0,0,0,0,0,0,0,0,0,0,0,0,0,0,0,0,0,0,0,0,0,0,0,0,0,0,0,0,0,{"$f":"AS11","v":0},0,0,0,0,0,0,0,0,0,0,0,0,0,0,0,0,0,0,0,0,0,0,0,0,0,0,0,0,0,0,0,{"$f":"BY11","v":0},0,0,0,0,0,0,0,0,0,0,0,0,0,0,0,0,0,0,0,0,0,0,0,0,0]
[null,null,"Less: Working Capital Change",null,null,null,null,"USD",{"$f":"SUM(M35:XFD35)","v":{"$error":"#N/A"}},null,null,null,{"$f":"M12","v":{"$error":"#N/A"}},0,0,0,0,0,0,0,0,0,0,0,0,0,0,0,0,0,0,0,0,0,0,0,0,0,0,0,0,0,0,0,{"$f":"AS12","v":0},0,0,0,0,0,0,0,0,0,0,0,0,0,0,0,0,0,0,0,0,0,0,0,0,0,0,0,0,0,0,0,{"$f":"BY12","v":0},0,0,0,0,0,0,0,0,0,0,0,0,0,0,0,0,0,0,0,0,0,0,0,0,0]
[null,null,"Less: Taxes",null,null,null,null,"USD",{"$f":"SUM(M36:XFD36)","v":0},null,null,null,{"$f":"'Taxes Waterfall Returns'!J52","v":0},{"$f":"'Taxes Waterfall Returns'!K52","v":0},{"$f":"'Taxes Waterfall Returns'!L52","v":0},{"$f":"'Taxes Waterfall Returns'!M52","v":0},{"$f":"'Taxes Waterfall Returns'!N52","v":0},{"$f":"'Taxes Waterfall Returns'!O52","v":0},{"$f":"'Taxes Waterfall Returns'!P52","v":0},{"$f":"'Taxes Waterfall Returns'!Q52","v":0},{"$f":"'Taxes Waterfall Returns'!R52","v":0},{"$f":"'Taxes Waterfall Returns'!S52","v":0},{"$f":"'Taxes Waterfall Returns'!T52","v":0},{"$f":"'Taxes Waterfall Returns'!U52","v":0},{"$f":"'Taxes Waterfall Returns'!V52","v":0},{"$f":"'Taxes Waterfall Returns'!W52","v":0},{"$f":"'Taxes Waterfall Returns'!X52","v":0},{"$f":"'Taxes Waterfall Returns'!Y52","v":0},{"$f":"'Taxes Waterfall Returns'!Z52","v":0},{"$f":"'Taxes Waterfall Returns'!AA52","v":0},{"$f":"'Taxes Waterfall Returns'!AB52","v":0},{"$f":"'Taxes Waterfall Returns'!AC52","v":0},{"$f":"'Taxes Waterfall Returns'!AD52","v":0},{"$f":"'Taxes Waterfall Returns'!AE52","v":0},{"$f":"'Taxes Waterfall Returns'!AF52","v":0},{"$f":"'Taxes Waterfall Returns'!AG52","v":0},{"$f":"'Taxes Waterfall Returns'!AH52","v":0},{"$f":"'Taxes Waterfall Returns'!AI52","v":0},{"$f":"'Taxes Waterfall Returns'!AJ52","v":0},{"$f":"'Taxes Waterfall Returns'!AK52","v":0},{"$f":"'Taxes Waterfall Returns'!AL52","v":0},{"$f":"'Taxes Waterfall Returns'!AM52","v":0},{"$f":"'Taxes Waterfall Returns'!AN52","v":0},{"$f":"'Taxes Waterfall Returns'!AO52","v":0},{"$f":"'Taxes Waterfall Returns'!AP52","v":0},{"$f":"'Taxes Waterfall Returns'!AQ52","v":0},{"$f":"'Taxes Waterfall Returns'!AR52","v":0},{"$f":"'Taxes Waterfall Returns'!AS52","v":0},{"$f":"'Taxes Waterfall Returns'!AT52","v":0},{"$f":"'Taxes Waterfall Returns'!AU52","v":0},{"$f":"'Taxes Waterfall Returns'!AV52","v":0},{"$f":"'Taxes Waterfall Returns'!AW52","v":0},{"$f":"'Taxes Waterfall Returns'!AX52","v":0},{"$f":"'Taxes Waterfall Returns'!AY52","v":0},{"$f":"'Taxes Waterfall Returns'!AZ52","v":0},{"$f":"'Taxes Waterfall Returns'!BA52","v":0},{"$f":"'Taxes Waterfall Returns'!BB52","v":0},{"$f":"'Taxes Waterfall Returns'!BC52","v":0},{"$f":"'Taxes Waterfall Returns'!BD52","v":0},{"$f":"'Taxes Waterfall Returns'!BE52","v":0},{"$f":"'Taxes Waterfall Returns'!BF52","v":0},{"$f":"'Taxes Waterfall Returns'!BG52","v":0},{"$f":"'Taxes Waterfall Returns'!BH52","v":0},{"$f":"'Taxes Waterfall Returns'!BI52","v":0},{"$f":"'Taxes Waterfall Returns'!BJ52","v":0},{"$f":"'Taxes Waterfall Returns'!BK52","v":0},{"$f":"'Taxes Waterfall Returns'!BL52","v":0},{"$f":"'Taxes Waterfall Returns'!BM52","v":0},{"$f":"'Taxes Waterfall Returns'!BN52","v":0},{"$f":"'Taxes Waterfall Returns'!BO52","v":0},{"$f":"'Taxes Waterfall Returns'!BP52","v":0},{"$f":"'Taxes Waterfall Returns'!BQ52","v":0},{"$f":"'Taxes Waterfall Returns'!BR52","v":0},{"$f":"'Taxes Waterfall Returns'!BS52","v":0},{"$f":"'Taxes Waterfall Returns'!BT52","v":0},{"$f":"'Taxes Waterfall Returns'!BU52","v":0},{"$f":"'Taxes Waterfall Returns'!BV52","v":0},{"$f":"'Taxes Waterfall Returns'!BW52","v":0},{"$f":"'Taxes Waterfall Returns'!BX52","v":0},{"$f":"'Taxes Waterfall Returns'!BY52","v":0},{"$f":"'Taxes Waterfall Returns'!BZ52","v":0},{"$f":"'Taxes Waterfall Returns'!CA52","v":0},{"$f":"'Taxes Waterfall Returns'!CB52","v":0},{"$f":"'Taxes Waterfall Returns'!CC52","v":0},{"$f":"'Taxes Waterfall Returns'!CD52","v":0},{"$f":"'Taxes Waterfall Returns'!CE52","v":0},{"$f":"'Taxes Waterfall Returns'!CF52","v":0},{"$f":"'Taxes Waterfall Returns'!CG52","v":0},{"$f":"'Taxes Waterfall Returns'!CH52","v":0},{"$f":"'Taxes Waterfall Returns'!CI52","v":0},{"$f":"'Taxes Waterfall Returns'!CJ52","v":0},{"$f":"'Taxes Waterfall Returns'!CK52","v":0},{"$f":"'Taxes Waterfall Returns'!CL52","v":0},{"$f":"'Taxes Waterfall Returns'!CM52","v":0},{"$f":"'Taxes Waterfall Returns'!CN52","v":0},{"$f":"'Taxes Waterfall Returns'!CO52","v":0},{"$f":"'Taxes Waterfall Returns'!CP52","v":0},{"$f":"'Taxes Waterfall Returns'!CQ52","v":0},{"$f":"'Taxes Waterfall Returns'!CR52","v":0},{"$f":"'Taxes Waterfall Returns'!CS52","v":0},{"$f":"'Taxes Waterfall Returns'!CT52","v":0},{"$f":"'Taxes Waterfall Returns'!CU52","v":0}]
[null,null,"Less: Change in DSRA",null,null,null,null,"USD"]
[null,null,null,"Cash Flow Available for Financing",null,null,null,"USD",null,null,null,null,{"$f":"M34-M35-M36","v":{"$error":"#N/A"}},0,0,0,0,0,0,0,0,0,0,0,0,0,0,0,0,0,0,0,0,0,0,0,0,0,0,0,0,0,0,0,{"$f":"AS34-AS35-AS36","v":0},0,0,0,0,0,0,0,0,0,0,0,0,0,0,0,0,0,0,0,0,0,0,0,0,0,0,0,0,0,0,0,{"$f":"BY34-BY35-BY36","v":0},0,0,0,0,0,0,0,0,0,0,0,0,0,0,0,0,0,0,0,0,0,0,0,0,0]
[]
[null,null,"Interest Rates"]
[null,null,null,"Age in Periods",null,null,null,"Period",null,null,null,null,{"$f":"L41+M7","v":0},0,0,0,0,0,0,0,0,0,0,0,0,0,0,0,0,0,0,0,0,0,0,0,0,0,0,0,0,0,0,0,{"$f":"AR41+AS7","v":0},0,0,0,0,0,0,0,0,0,0,0,0,0,0,0,0,0,0,0,0,0,0,0,0,0,0,0,0,0,0,0,{"$f":"BX41+BY7","v":0},0,0,0,0,0,0,0,0,0,0,0,0,0,0,0,0,0,0,0,0,0,0,0,0,0]
[null,null,null,"Age in Years",null,null,null,"Year",null,null,null,null,{"$f":"ROUNDUP(M41/Semi,0)","v":0},0,0,0,0,0,0,0,0,0,0,0,0,0,0,0,0,0,0,0,0,0,0,0,0,0,0,0,0,0,0,0,{"$f":"ROUNDUP(AS41/Semi,0)","v":0},0,0,0,0,0,0,0,0,0,0,0,0,0,0,0,0,0,0,0,0,0,0,0,0,0,0,0,0,0,0,0,{"$f":"ROUNDUP(BY41/Semi,0)","v":0},0,0,0,0,0,0,0,0,0,0,0,0,0,0,0,0,0,0,0,0,0,0,0,0,0]
[null,null,null,"Base Annual Interest Rate",null,{"$f":"'InputC-Financing'!E25","v":3.5000000000000003E-2},null,"% p.a.",null,null,null,null,{"$f":"$F$43","v":3.5000000000000003E-2},3.5000000000000003E-2,3.5000000000000003E-2,3.5000000000000003E-2,3.5000000000000003E-2,3.5000000000000003E-2,3.5000000000000003E-2,3.5000000000000003E-2,3.5000000000000003E-2,3.5000000000000003E-2,3.5000000000000003E-2,3.5000000000000003E-2,3.5000000000000003E-2,3.5000000000000003E-2,3.5000000000000003E-2,3.5000000000000003E-2,3.5000000000000003E-2,3.5000000000000003E-2,3.5000000000000003E-2,3.5000000000000003E-2,3.5000000000000003E-2,3.5000000000000003E-2,3.5000000000000003E-2,3.5000000000000003E-2,3.5000000000000003E-2,3.5000000000000003E-2,3.5000000000000003E-2,3.5000000000000003E-2,3.5000000000000003E-2,3.5000000000000003E-2,3.5000000000000003E-2,3.5000000000000003E-2,{"$f":"$F$43","v":3.5000000000000003E-2},3.5000000000000003E-2,3.5000000000000003E-2,3.5000000000000003E-2,3.5000000000000003E-2,3.5000000000000003E-2,3.5000000000000003E-2,3.5000000000000003E-2,3.5000000000000003E-2,3.5000000000000003E-2,3.5000000000000003E-2,3.5000000000000003E-2,3.5000000000000003E-2,3.5000000000000003E-2,3.5000000000000003E-2,3.5000000000000003E-2,3.5000000000000003E-2,3.5000000000000003E-2,3.5000000000000003E-2,3.5000000000000003E-2,3.5000000000000003E-2,3.5000000000000003E-2,3.5000000000000003E-2,3.5000000000000003E-2,3.5000000000000003E-2,3.5000000000000003E-2,3.5000000000000003E-2,3.5000000000000003E-2,3.5000000000000003E-2,3.5000000000000003E-2,3.5000000000000003E-2,3.5000000000000003E-2,{"$f":"$F$43","v":3.5000000000000003E-2},3.5000000000000003E-2,3.5000000000000003E-2,3.5000000000000003E-2,3.5000000000000003E-2,3.5000000000000003E-2,3.5000000000000003E-2,3.5000000000000003E-2,3.5000000000000003E-2,3.5000000000000003E-2,3.5000000000000003E-2,3.5000000000000003E-2,3.5000000000000003E-2,3.5000000000000003E-2,3.5000000000000003E-2,3.5000000000000003E-2,3.5000000000000003E-2,3.5000000000000003E-2,3.5000000000000003E-2,3.5000000000000003E-2,3.5000000000000003E-2,3.5000000000000003E-2,3.5000000000000003E-2,3.5000000000000003E-2,3.5000000000000003E-2,3.5000000000000003E-2]
[null,null,null,"Credit Spread",null,null,null,"% p.a.",null,null,null,null,{"$f":"LOOKUP(M41,InputS!51:51,InputS!57:57)","v":1.4999999999999999E-2},{"$f":"LOOKUP(N41,InputS!51:51,InputS!57:57)","v":1.4999999999999999E-2},{"$f":"LOOKUP(O41,InputS!51:51,InputS!57:57)","v":1.4999999999999999E-2},{"$f":"LOOKUP(P41,InputS!51:51,InputS!57:57)","v":1.4999999999999999E-2},{"$f":"LOOKUP(Q41,InputS!51:51,InputS!57:57)","v":1.4999999999999999E-2},{"$f":"LOOKUP(R41,InputS!51:51,InputS!57:57)","v":1.4999999999999999E-2},{"$f":"LOOKUP(S41,InputS!51:51,InputS!57:57)","v":1.4999999999999999E-2},{"$f":"LOOKUP(T41,InputS!51:51,InputS!57:57)","v":1.4999999999999999E-2},{"$f":"LOOKUP(U41,InputS!51:51,InputS!57:57)","v":1.4999999999999999E-2},{"$f":"LOOKUP(V41,InputS!51:51,InputS!57:57)","v":1.4999999999999999E-2},{"$f":"LOOKUP(W41,InputS!51:51,InputS!57:57)","v":1.4999999999999999E-2},{"$f":"LOOKUP(X41,InputS!51:51,InputS!57:57)","v":1.4999999999999999E-2},{"$f":"LOOKUP(Y41,InputS!51:51,InputS!57:57)","v":1.4999999999999999E-2},{"$f":"LOOKUP(Z41,InputS!51:51,InputS!57:57)","v":1.4999999999999999E-2},{"$f":"LOOKUP(AA41,InputS!51:51,InputS!57:57)","v":1.4999999999999999E-2},{"$f":"LOOKUP(AB41,InputS!51:51,InputS!57:57)","v":1.4999999999999999E-2},{"$f":"LOOKUP(AC41,InputS!51:51,InputS!57:57)","v":1.4999999999999999E-2},{"$f":"LOOKUP(AD41,InputS!51:51,InputS!57:57)","v":1.4999999999999999E-2},{"$f":"LOOKUP(AE41,InputS!51:51,InputS!57:57)","v":1.4999999999999999E-2},{"$f":"LOOKUP(AF41,InputS!51:51,InputS!57:57)","v":1.4999999999999999E-2},{"$f":"LOOKUP(AG41,InputS!51:51,InputS!57:57)","v":1.4999999999999999E-2},{"$f":"LOOKUP(AH41,InputS!51:51,InputS!57:57)","v":1.4999999999999999E-2},{"$f":"LOOKUP(AI41,InputS!51:51,InputS!57:57)","v":1.4999999999999999E-2},{"$f":"LOOKUP(AJ41,InputS!51:51,InputS!57:57)","v":1.4999999999999999E-2},{"$f":"LOOKUP(AK41,InputS!51:51,InputS!57:57)","v":1.4999999999999999E-2},{"$f":"LOOKUP(AL41,InputS!51:51,InputS!57:57)","v":1.4999999999999999E-2},{"$f":"LOOKUP(AM41,InputS!51:51,InputS!57:57)","v":1.4999999999999999E-2},{"$f":"LOOKUP(AN41,InputS!51:51,InputS!57:57)","v":1.4999999999999999E-2},{"$f":"LOOKUP(AO41,InputS!51:51,InputS!57:57)","v":1.4999999999999999E-2},{"$f":"LOOKUP(AP41,InputS!51:51,InputS!57:57)","v":1.4999999999999999E-2},{"$f":"LOOKUP(AQ41,InputS!51:51,InputS!57:57)","v":1.4999999999999999E-2},{"$f":"LOOKUP(AR41,InputS!51:51,InputS!57:57)","v":1.4999999999999999E-2},{"$f":"LOOKUP(AS41,InputS!51:51,InputS!57:57)","v":1.4999999999999999E-2},{"$f":"LOOKUP(AT41,InputS!51:51,InputS!57:57)","v":1.4999999999999999E-2},{"$f":"LOOKUP(AU41,InputS!51:51,InputS!57:57)","v":1.4999999999999999E-2},{"$f":"LOOKUP(AV41,InputS!51:51,InputS!57:57)","v":1.4999999999999999E-2},{"$f":"LOOKUP(AW41,InputS!51:51,InputS!57:57)","v":1.4999999999999999E-2},{"$f":"LOOKUP(AX41,InputS!51:51,InputS!57:57)","v":1.4999999999999999E-2},{"$f":"LOOKUP(AY41,InputS!51:51,InputS!57:57)","v":1.4999999999999999E-2},{"$f":"LOOKUP(AZ41,InputS!51:51,InputS!57:57)","v":1.4999999999999999E-2},{"$f":"LOOKUP(BA41,InputS!51:51,InputS!57:57)","v":1.4999999999999999E-2},{"$f":"LOOKUP(BB41,InputS!51:51,InputS!57:57)","v":1.4999999999999999E-2},{"$f":"LOOKUP(BC41,InputS!51:51,InputS!57:57)","v":1.4999999999999999E-2},{"$f":"LOOKUP(BD41,InputS!51:51,InputS!57:57)","v":1.4999999999999999E-2},{"$f":"LOOKUP(BE41,InputS!51:51,InputS!57:57)","v":1.4999999999999999E-2},{"$f":"LOOKUP(BF41,InputS!51:51,InputS!57:57)","v":1.4999999999999999E-2},{"$f":"LOOKUP(BG41,InputS!51:51,InputS!57:57)","v":1.4999999999999999E-2},{"$f":"LOOKUP(BH41,InputS!51:51,InputS!57:57)","v":1.4999999999999999E-2},{"$f":"LOOKUP(BI41,InputS!51:51,InputS!57:57)","v":1.4999999999999999E-2},{"$f":"LOOKUP(BJ41,InputS!51:51,InputS!57:57)","v":1.4999999999999999E-2},{"$f":"LOOKUP(BK41,InputS!51:51,InputS!57:57)","v":1.4999999999999999E-2},{"$f":"LOOKUP(BL41,InputS!51:51,InputS!57:57)","v":1.4999999999999999E-2},{"$f":"LOOKUP(BM41,InputS!51:51,InputS!57:57)","v":1.4999999999999999E-2},{"$f":"LOOKUP(BN41,InputS!51:51,InputS!57:57)","v":1.4999999999999999E-2},{"$f":"LOOKUP(BO41,InputS!51:51,InputS!57:57)","v":1.4999999999999999E-2},{"$f":"LOOKUP(BP41,InputS!51:51,InputS!57:57)","v":1.4999999999999999E-2},{"$f":"LOOKUP(BQ41,InputS!51:51,InputS!57:57)","v":1.4999999999999999E-2},{"$f":"LOOKUP(BR41,InputS!51:51,InputS!57:57)","v":1.4999999999999999E-2},{"$f":"LOOKUP(BS41,InputS!51:51,InputS!57:57)","v":1.4999999999999999E-2},{"$f":"LOOKUP(BT41,InputS!51:51,InputS!57:57)","v":1.4999999999999999E-2},{"$f":"LOOKUP(BU41,InputS!51:51,InputS!57:57)","v":1.4999999999999999E-2},{"$f":"LOOKUP(BV41,InputS!51:51,InputS!57:57)","v":1.4999999999999999E-2},{"$f":"LOOKUP(BW41,InputS!51:51,InputS!57:57)","v":1.4999999999999999E-2},{"$f":"LOOKUP(BX41,InputS!51:51,InputS!57:57)","v":1.4999999999999999E-2},{"$f":"LOOKUP(BY41,InputS!51:51,InputS!57:57)","v":1.4999999999999999E-2},{"$f":"LOOKUP(BZ41,InputS!51:51,InputS!57:57)","v":1.4999999999999999E-2},{"$f":"LOOKUP(CA41,InputS!51:51,InputS!57:57)","v":1.4999999999999999E-2},{"$f":"LOOKUP(CB41,InputS!51:51,InputS!57:57)","v":1.4999999999999999E-2},{"$f":"LOOKUP(CC41,InputS!51:51,InputS!57:57)","v":1.4999999999999999E-2},{"$f":"LOOKUP(CD41,InputS!51:51,InputS!57:57)","v":1.4999999999999999E-2},{"$f":"LOOKUP(CE41,InputS!51:51,InputS!57:57)","v":1.4999999999999999E-2},{"$f":"LOOKUP(CF41,InputS!51:51,InputS!57:57)","v":1.4999999999999999E-2},{"$f":"LOOKUP(CG41,InputS!51:51,InputS!57:57)","v":1.4999999999999999E-2},{"$f":"LOOKUP(CH41,InputS!51:51,InputS!57:57)","v":1.4999999999999999E-2},{"$f":"LOOKUP(CI41,InputS!51:51,InputS!57:57)","v":1.4999999999999999E-2},{"$f":"LOOKUP(CJ41,InputS!51:51,InputS!57:57)","v":1.4999999999999999E-2},{"$f":"LOOKUP(CK41,InputS!51:51,InputS!57:57)","v":1.4999999999999999E-2},{"$f":"LOOKUP(CL41,InputS!51:51,InputS!57:57)","v":1.4999999999999999E-2},{"$f":"LOOKUP(CM41,InputS!51:51,InputS!57:57)","v":1.4999999999999999E-2},{"$f":"LOOKUP(CN41,InputS!51:51,InputS!57:57)","v":1.4999999999999999E-2},{"$f":"LOOKUP(CO41,InputS!51:51,InputS!57:57)","v":1.4999999999999999E-2},{"$f":"LOOKUP(CP41,InputS!51:51,InputS!57:57)","v":1.4999999999999999E-2},{"$f":"LOOKUP(CQ41,InputS!51:51,InputS!57:57)","v":1.4999999999999999E-2},{"$f":"LOOKUP(CR41,InputS!51:51,InputS!57:57)","v":1.4999999999999999E-2},{"$f":"LOOKUP(CS41,InputS!51:51,InputS!57:57)","v":1.4999999999999999E-2},{"$f":"LOOKUP(CT41,InputS!51:51,InputS!57:57)","v":1.4999999999999999E-2},{"$f":"LOOKUP(CU41,InputS!51:51,InputS!57:57)","v":1.4999999999999999E-2},{"$f":"LOOKUP(CV41,InputS!51:51,InputS!57:57)","v":1.4999999999999999E-2},{"$f":"LOOKUP(CW41,InputS!51:51,InputS!57:57)","v":1.4999999999999999E-2},{"$f":"LOOKUP(CX41,InputS!51:51,InputS!57:57)","v":1.4999999999999999E-2}]
[null,null,null,"Total Annual Rate",null,null,null,"% p.a.",null,null,null,null,{"$f":"M43+M44","v":0.05},0.05,0.05,0.05,0.05,0.05,0.05,0.05,0.05,0.05,0.05,0.05,0.05,0.05,0.05,0.05,0.05,0.05,0.05,0.05,0.05,0.05,0.05,0.05,0.05,0.05,0.05,0.05,0.05,0.05,0.05,0.05,{"$f":"AS43+AS44","v":0.05},0.05,0.05,0.05,0.05,0.05,0.05,0.05,0.05,0.05,0.05,0.05,0.05,0.05,0.05,0.05,0.05,0.05,0.05,0.05,0.05,0.05,0.05,0.05,0.05,0.05,0.05,0.05,0.05,0.05,0.05,0.05,{"$f":"BY43+BY44","v":0.05},0.05,0.05,0.05,0.05,0.05,0.05,0.05,0.05,0.05,0.05,0.05,0.05,0.05,0.05,0.05,0.05,0.05,0.05,0.05,0.05,0.05,0.05,0.05,0.05,0.05]
[]
[null,null,null,"Days in Period",null,null,null,"Days",null,null,null,null,{"$f":"M6-M5+1","v":1},0,0,0,0,0,0,0,0,0,0,0,0,0,0,0,0,0,0,0,0,0,0,0,0,0,0,0,0,0,0,0,{"$f":"AS6-AS5+1","v":0},0,0,0,0,0,0,0,0,0,0,0,0,0,0,0,0,0,0,0,0,0,0,0,0,0,0,0,0,0,0,0,{"$f":"BY6-BY5+1","v":0},0,0,0,0,0,0,0,0,0,0,0,0,0,0,0,0,0,0,0,0,0,0,0,0,0]
[null,null,null,"360 Day Factor",null,{"$f":"Year_360","v":360},null,"Factor"]
[null,null,null,"Periodic Interest Rate",null,null,null,"% p.p."]
[]
[null,null,null,"Interest Rate Index for NPV",null,null,null,"Index",null,null,null,1]
[]
[null,null,null,"Debt Repayment Flag",null,{"$f":"'InputC-Financing'!E21","v":25},null,"Flag",{"$f":"SUM(M53:XFD53)","v":0},null,null,null,{"$f":"AND(M7,M42<=$F$53)*1","v":0},0,0,0,0,0,0,0,0,0,0,0,0,0,0,0,0,0,0,0,0,0,0,0,0,0,0,0,0,0,0,0,{"$f":"AND(AS7,AS42<=$F$53)*1","v":0},0,0,0,0,0,0,0,0,0,0,0,0,0,0,0,0,0,0,0,0,0,0,0,0,0,0,0,0,0,0,0,{"$f":"AND(BY7,BY42<=$F$53)*1","v":0},0,0,0,0,0,0,0,0,0,0,0,0,0,0,0,0,0,0,0,0,0,0,0,0,0]
[null,null,null,"Debt Service over Repayment Tenor",null,{"$f":"'InputC-Financing'!E15","v":1.3}]
[]
[null,null,null,"PV of Debt Service"]
[]
[null,null,null,"Pre-COD Flag",null,{"$f":"EDATE('InputC-Financing'!E7,-1)","v":{"$error":"#NUM!"}},null,"Flag",{"$f":"SUM(M58:XFD58)","v":{"$error":"#NUM!"}},null,null,null,{"$f":"($F$58=M5)*1","v":{"$error":"#NUM!"}},{"$error":"#NUM!"},{"$error":"#NUM!"},{"$error":"#NUM!"},{"$error":"#NUM!"},{"$error":"#NUM!"},{"$error":"#NUM!"},{"$error":"#NUM!"},{"$error":"#NUM!"},{"$error":"#NUM!"},{"$error":"#NUM!"},{"$error":"#NUM!"},{"$error":"#NUM!"},{"$error":"#NUM!"},{"$error":"#NUM!"},{"$error":"#NUM!"},{"$error":"#NUM!"},{"$error":"#NUM!"},{"$error":"#NUM!"},{"$error":"#NUM!"},{"$error":"#NUM!"},{"$error":"#NUM!"},{"$error":"#NUM!"},{"$error":"#NUM!"},{"$error":"#NUM!"},{"$error":"#NUM!"},{"$error":"#NUM!"},{"$error":"#NUM!"},{"$error":"#NUM!"},{"$error":"#NUM!"},{"$error":"#NUM!"},{"$error":"#NUM!"},{"$f":"($F$58=AS5)*1","v":{"$error":"#NUM!"}},{"$error":"#NUM!"},{"$error":"#NUM!"},{"$error":"#NUM!"},{"$error":"#NUM!"},{"$error":"#NUM!"},{"$error":"#NUM!"},{"$error":"#NUM!"},{"$error":"#NUM!"},{"$error":"#NUM!"},{"$error":"#NUM!"},{"$error":"#NUM!"},{"$error":"#NUM!"},{"$error":"#NUM!"},{"$error":"#NUM!"},{"$error":"#NUM!"},{"$error":"#NUM!"},{"$error":"#NUM!"},{"$error":"#NUM!"},{"$error":"#NUM!"},{"$error":"#NUM!"},{"$error":"#NUM!"},{"$error":"#NUM!"},{"$error":"#NUM!"},{"$error":"#NUM!"},{"$error":"#NUM!"},{"$error":"#NUM!"},{"$error":"#NUM!"},{"$error":"#NUM!"},{"$error":"#NUM!"},{"$error":"#NUM!"},{"$error":"#NUM!"},{"$f":"($F$58=BY5)*1","v":{"$error":"#NUM!"}},{"$error":"#NUM!"},{"$error":"#NUM!"},{"$error":"#NUM!"},{"$error":"#NUM!"},{"$error":"#NUM!"},{"$error":"#NUM!"},{"$error":"#NUM!"},{"$error":"#NUM!"},{"$error":"#NUM!"},{"$error":"#NUM!"},{"$error":"#NUM!"},{"$error":"#NUM!"},{"$error":"#NUM!"},{"$error":"#NUM!"},{"$error":"#NUM!"},{"$error":"#NUM!"},{"$error":"#NUM!"},{"$error":"#NUM!"},{"$error":"#NUM!"},{"$error":"#NUM!"},{"$error":"#NUM!"},{"$error":"#NUM!"},{"$error":"#NUM!"},{"$error":"#NUM!"},{"$error":"#NUM!"}]
[]
[null,null,null,"Opening Balance",null,null,null,null,null,null,null,null,{"$f":"L63","v":0},{"$error":"#NUM!"},{"$error":"#NUM!"},{"$error":"#NUM!"},{"$error":"#NUM!"},{"$error":"#NUM!"},{"$error":"#NUM!"},{"$error":"#NUM!"},{"$error":"#NUM!"},{"$error":"#NUM!"},{"$error":"#NUM!"},{"$error":"#NUM!"},{"$error":"#NUM!"},{"$error":"#NUM!"},{"$error":"#NUM!"},{"$error":"#NUM!"},{"$error":"#NUM!"},{"$error":"#NUM!"},{"$error":"#NUM!"},{"$error":"#NUM!"},{"$error":"#NUM!"},{"$error":"#NUM!"},{"$error":"#NUM!"},{"$error":"#NUM!"},{"$error":"#NUM!"},{"$error":"#NUM!"},{"$error":"#NUM!"},{"$error":"#NUM!"},{"$error":"#NUM!"},{"$error":"#NUM!"},{"$error":"#NUM!"},{"$error":"#NUM!"},{"$f":"AR63","v":{"$error":"#NUM!"}},{"$error":"#NUM!"},{"$error":"#NUM!"},{"$error":"#NUM!"},{"$error":"#NUM!"},{"$error":"#NUM!"},{"$error":"#NUM!"},{"$error":"#NUM!"},{"$error":"#NUM!"},{"$error":"#NUM!"},{"$error":"#NUM!"},{"$error":"#NUM!"},{"$error":"#NUM!"},{"$error":"#NUM!"},{"$error":"#NUM!"},{"$error":"#NUM!"},{"$error":"#NUM!"},{"$error":"#NUM!"},{"$error":"#NUM!"},{"$error":"#NUM!"},{"$error":"#NUM!"},{"$error":"#NUM!"},{"$error":"#NUM!"},{"$error":"#NUM!"},{"$error":"#NUM!"},{"$error":"#NUM!"},{"$error":"#NUM!"},{"$error":"#NUM!"},{"$error":"#NUM!"},{"$error":"#NUM!"},{"$error":"#NUM!"},{"$error":"#NUM!"},{"$f":"BX63","v":{"$error":"#NUM!"}},{"$error":"#NUM!"},{"$error":"#NUM!"},{"$error":"#NUM!"},{"$error":"#NUM!"},{"$error":"#NUM!"},{"$error":"#NUM!"},{"$error":"#NUM!"},{"$error":"#NUM!"},{"$error":"#NUM!"},{"$error":"#NUM!"},{"$error":"#NUM!"},{"$error":"#NUM!"},{"$error":"#NUM!"},{"$error":"#NUM!"},{"$error":"#NUM!"},{"$error":"#NUM!"},{"$error":"#NUM!"},{"$error":"#NUM!"},{"$error":"#NUM!"},{"$error":"#NUM!"},{"$error":"#NUM!"},{"$error":"#NUM!"},{"$error":"#NUM!"},{"$error":"#NUM!"},{"$error":"#NUM!"}]
[null,null,null,"Add: Draw",null,{"$f":"F56","v":0},null,null,null,null,null,null,{"$f":"$F$61*M58","v":{"$error":"#NUM!"}},{"$error":"#NUM!"},{"$error":"#NUM!"},{"$error":"#NUM!"},{"$error":"#NUM!"},{"$error":"#NUM!"},{"$error":"#NUM!"},{"$error":"#NUM!"},{"$error":"#NUM!"},{"$error":"#NUM!"},{"$error":"#NUM!"},{"$error":"#NUM!"},{"$error":"#NUM!"},{"$error":"#NUM!"},{"$error":"#NUM!"},{"$error":"#NUM!"},{"$error":"#NUM!"},{"$error":"#NUM!"},{"$error":"#NUM!"},{"$error":"#NUM!"},{"$error":"#NUM!"},{"$error":"#NUM!"},{"$error":"#NUM!"},{"$error":"#NUM!"},{"$error":"#NUM!"},{"$error":"#NUM!"},{"$error":"#NUM!"},{"$error":"#NUM!"},{"$error":"#NUM!"},{"$error":"#NUM!"},{"$error":"#NUM!"},{"$error":"#NUM!"},{"$f":"$F$61*AS58","v":{"$error":"#NUM!"}},{"$error":"#NUM!"},{"$error":"#NUM!"},{"$error":"#NUM!"},{"$error":"#NUM!"},{"$error":"#NUM!"},{"$error":"#NUM!"},{"$error":"#NUM!"},{"$error":"#NUM!"},{"$error":"#NUM!"},{"$error":"#NUM!"},{"$error":"#NUM!"},{"$error":"#NUM!"},{"$error":"#NUM!"},{"$error":"#NUM!"},{"$error":"#NUM!"},{"$error":"#NUM!"},{"$error":"#NUM!"},{"$error":"#NUM!"},{"$error":"#NUM!"},{"$error":"#NUM!"},{"$error":"#NUM!"},{"$error":"#NUM!"},{"$error":"#NUM!"},{"$error":"#NUM!"},{"$error":"#NUM!"},{"$error":"#NUM!"},{"$error":"#NUM!"},{"$error":"#NUM!"},{"$error":"#NUM!"},{"$error":"#NUM!"},{"$error":"#NUM!"},{"$f":"$F$61*BY58","v":{"$error":"#NUM!"}},{"$error":"#NUM!"},{"$error":"#NUM!"},{"$error":"#NUM!"},{"$error":"#NUM!"},{"$error":"#NUM!"},{"$error":"#NUM!"},{"$error":"#NUM!"},{"$error":"#NUM!"},{"$error":"#NUM!"},{"$error":"#NUM!"},{"$error":"#NUM!"},{"$error":"#NUM!"},{"$error":"#NUM!"},{"$error":"#NUM!"},{"$error":"#NUM!"},{"$error":"#NUM!"},{"$error":"#NUM!"},{"$error":"#NUM!"},{"$error":"#NUM!"},{"$error":"#NUM!"},{"$error":"#NUM!"},{"$error":"#NUM!"},{"$error":"#NUM!"},{"$error":"#NUM!"},{"$error":"#NUM!"}]
[null,null,null,"Less: Repayment",null,null,null,null,{"$f":"SUM(M62:XFD62)","v":0},{"$f":"ROUND(I62-F61,0)=0","v":true}]
[null,null,null,"Closing",null,null,null,null,null,null,null,null,{"$f":"M60+M61-M62","v":{"$error":"#NUM!"}},{"$error":"#NUM!"},{"$error":"#NUM!"},{"$error":"#NUM!"},{"$error":"#NUM!"},{"$error":"#NUM!"},{"$error":"#NUM!"},{"$error":"#NUM!"},{"$error":"#NUM!"},{"$error":"#NUM!"},{"$error":"#NUM!"},{"$error":"#NUM!"},{"$error":"#NUM!"},{"$error":"#NUM!"},{"$error":"#NUM!"},{"$error":"#NUM!"},{"$error":"#NUM!"},{"$error":"#NUM!"},{"$error":"#NUM!"},{"$error":"#NUM!"},{"$error":"#NUM!"},{"$error":"#NUM!"},{"$error":"#NUM!"},{"$error":"#NUM!"},{"$error":"#NUM!"},{"$error":"#NUM!"},{"$error":"#NUM!"},{"$error":"#NUM!"},{"$error":"#NUM!"},{"$error":"#NUM!"},{"$error":"#NUM!"},{"$error":"#NUM!"},{"$f":"AS60+AS61-AS62","v":{"$error":"#NUM!"}},{"$error":"#NUM!"},{"$error":"#NUM!"},{"$error":"#NUM!"},{"$error":"#NUM!"},{"$error":"#NUM!"},{"$error":"#NUM!"},{"$error":"#NUM!"},{"$error":"#NUM!"},{"$error":"#NUM!"},{"$error":"#NUM!"},{"$error":"#NUM!"},{"$error":"#NUM!"},{"$error":"#NUM!"},{"$error":"#NUM!"},{"$error":"#NUM!"},{"$error":"#NUM!"},{"$error":"#NUM!"},{"$error":"#NUM!"},{"$error":"#NUM!"},{"$error":"#NUM!"},{"$error":"#NUM!"},{"$error":"#NUM!"},{"$error":"#NUM!"},{"$error":"#NUM!"},{"$error":"#NUM!"},{"$error":"#NUM!"},{"$error":"#NUM!"},{"$error":"#NUM!"},{"$error":"#NUM!"},{"$error":"#NUM!"},{"$error":"#NUM!"},{"$f":"BY60+BY61-BY62","v":{"$error":"#NUM!"}},{"$error":"#NUM!"},{"$error":"#NUM!"},{"$error":"#NUM!"},{"$error":"#NUM!"},{"$error":"#NUM!"},{"$error":"#NUM!"},{"$error":"#NUM!"},{"$error":"#NUM!"},{"$error":"#NUM!"},{"$error":"#NUM!"},{"$error":"#NUM!"},{"$error":"#NUM!"},{"$error":"#NUM!"},{"$error":"#NUM!"},{"$error":"#NUM!"},{"$error":"#NUM!"},{"$error":"#NUM!"},{"$error":"#NUM!"},{"$error":"#NUM!"},{"$error":"#NUM!"},{"$error":"#NUM!"},{"$error":"#NUM!"},{"$error":"#NUM!"},{"$error":"#NUM!"},{"$error":"#NUM!"}]
[null,null,null,"Interest",null,null,null,null,null,null,null,null,{"$f":"M60*M49","v":0},{"$error":"#NUM!"},{"$error":"#NUM!"},{"$error":"#NUM!"},{"$error":"#NUM!"},{"$error":"#NUM!"},{"$error":"#NUM!"},{"$error":"#NUM!"},{"$error":"#NUM!"},{"$error":"#NUM!"},{"$error":"#NUM!"},{"$error":"#NUM!"},{"$error":"#NUM!"},{"$error":"#NUM!"},{"$error":"#NUM!"},{"$error":"#NUM!"},{"$error":"#NUM!"},{"$error":"#NUM!"},{"$error":"#NUM!"},{"$error":"#NUM!"},{"$error":"#NUM!"},{"$error":"#NUM!"},{"$error":"#NUM!"},{"$error":"#NUM!"},{"$error":"#NUM!"},{"$error":"#NUM!"},{"$error":"#NUM!"},{"$error":"#NUM!"},{"$error":"#NUM!"},{"$error":"#NUM!"},{"$error":"#NUM!"},{"$error":"#NUM!"},{"$f":"AS60*AS49","v":{"$error":"#NUM!"}},{"$error":"#NUM!"},{"$error":"#NUM!"},{"$error":"#NUM!"},{"$error":"#NUM!"},{"$error":"#NUM!"},{"$error":"#NUM!"},{"$error":"#NUM!"},{"$error":"#NUM!"},{"$error":"#NUM!"},{"$error":"#NUM!"},{"$error":"#NUM!"},{"$error":"#NUM!"},{"$error":"#NUM!"},{"$error":"#NUM!"},{"$error":"#NUM!"},{"$error":"#NUM!"},{"$error":"#NUM!"},{"$error":"#NUM!"},{"$error":"#NUM!"},{"$error":"#NUM!"},{"$error":"#NUM!"},{"$error":"#NUM!"},{"$error":"#NUM!"},{"$error":"#NUM!"},{"$error":"#NUM!"},{"$error":"#NUM!"},{"$error":"#NUM!"},{"$error":"#NUM!"},{"$error":"#NUM!"},{"$error":"#NUM!"},{"$error":"#NUM!"},{"$f":"BY60*BY49","v":{"$error":"#NUM!"}},{"$error":"#NUM!"},{"$error":"#NUM!"},{"$error":"#NUM!"},{"$error":"#NUM!"},{"$error":"#NUM!"},{"$error":"#NUM!"},{"$error":"#NUM!"},{"$error":"#NUM!"},{"$error":"#NUM!"},{"$error":"#NUM!"},{"$error":"#NUM!"},{"$error":"#NUM!"},{"$error":"#NUM!"},{"$error":"#NUM!"},{"$error":"#NUM!"},{"$error":"#NUM!"},{"$error":"#NUM!"},{"$error":"#NUM!"},{"$error":"#NUM!"},{"$error":"#NUM!"},{"$error":"#NUM!"},{"$error":"#NUM!"},{"$error":"#NUM!"},{"$error":"#NUM!"},{"$error":"#NUM!"}]
[]
[null,null,null,"Test",null,{"$f":"EDATE(F7,F53*12)","v":"1924-12-31"}]
[]
[null,"Sources and Uses Summary (For Copy/Paste Macro)"]
[null,null,"Uses of Funds",null,null,null,null,null,"Applied",null,null,"Fixed","Computed","Difference"]
[null,null,null,"Total Capital Expenditures",null,null,null,"USD",{"$f":"SUM(M21:CX21)","v":0}]
[null,null,null,"Development Fee",null,null,null,"USD",{"$f":"I26","v":3600000}]
[null,null,null,"Interest During Construction - Senior",null,null,null,"USD",{"$f":"L72","v":0},null,null,null,null,{"$f":"M72-L72","v":0}]
[null,null,null,"Up-Front Fee",null,null,null,"USD",{"$f":"L73","v":0},null,null,null,null,{"$f":"M73-L73","v":0}]
[null,null,null,"Commitment Fee",null,null,null,"USD",{"$f":"L74","v":0},null,null,null,null,{"$f":"M74-L74","v":0}]
[null,null,null,"Interest During Construction - SHL",null,null,null,"USD",{"$f":"L75","v":0},null,null,null,null,{"$f":"M75-L75","v":0}]
[null,null,null,"DSRA",null,null,null,"USD",{"$f":"L76","v":0},null,null,0,{"$f":"I141","v":0},{"$f":"M76-L76","v":0}]
[null,null,null,"Total Project Cost",null,null,null,"USD",{"$f":"SUM(I70:I76)","v":3600000},null,null,null,null,{"$f":"SUM(N70:N76)","v":0}]
[]
[null,null,"Sources"]
[null,null,null,"Senior Debt",null,{"$f":"'InputC-Financing'!E14","v":0.8},{"$f":"F56","v":0},"USD",{"$f":"G80","v":0},{"$f":"I80/I77","v":0}]
[null,null,null,"Total Equity",null,{"$f":"1-F80","v":0.19999999999999996},null,"USD",{"$f":"I77-I80","v":3600000},{"$f":"I81/I77","v":1}]
[null,null,null,"Total Funding",null,{"$f":"SUM(F80:F81)","v":1},null,"USD",{"$f":"SUM(I80:I81)","v":3600000},{"$f":"I82/I77","v":1}]
[]
[null,"Sources and Uses Summary (For Copy/Paste Macro)"]
[null,null,"Uses of Funds"]
[null,null,null,"Total Capital Expenditures",null,null,null,"USD",{"$f":"SUM(J86:XFD86)","v":0},null,null,null,{"$f":"M21","v":0},0,0,0,0,0,0,0,0,0,0,0,0,0,0,0,0,0,0,0,0,0,0,0,0,0,0,0,0,0,0,0,{"$f":"AS21","v":0},0,0,0,0,0,0,0,0,0,0,0,0,0,0,0,0,0,0,0,0,0,0,0,0,0,0,0,0,0,0,0,{"$f":"BY21","v":0},0,0,0,0,0,0,0,0,0,0,0,0,0,0,0,0,0,0,0,0,0,0,0,0,0]
[null,null,null,"Development Fee",null,null,null,"USD",3600000,null,null,null,{"$f":"M26","v":3600000},0,0,0,0,0,0,0,0,0,0,0,0,0,0,0,0,0,0,0,0,0,0,0,0,0,0,0,0,0,0,0,{"$f":"AS26","v":0},0,0,0,0,0,0,0,0,0,0,0,0,0,0,0,0,0,0,0,0,0,0,0,0,0,0,0,0,0,0,0,{"$f":"BY26","v":0},0,0,0,0,0,0,0,0,0,0,0,0,0,0,0,0,0,0,0,0,0,0,0,0,0]
[null,null,null,"Interest During Construction - Senior",null,null,null,"USD",0,null,null,null,{"$f":"M123","v":0},0,0,0,0,0,0,0,0,0,0,0,0,0,0,0,0,0,0,0,0,0,0,0,0,0,0,0,0,0,0,0,{"$f":"AS123","v":0},0,0,0,0,0,0,0,0,0,0,0,0,0,0,0,0,0,0,0,0,0,0,0,0,0,0,0,0,0,0,0,{"$f":"BY123","v":0},0,0,0,0,0,0,0,0,0,0,0,0,0,0,0,0,0,0,0,0,0,0,0,0,0]
[null,null,null,"Up-Front Fee",null,null,null,"USD",0,null,null,null,{"$f":"M127","v":0},0,0,0,0,0,0,0,0,0,0,0,0,0,0,0,0,0,0,0,0,0,0,0,0,0,0,0,0,0,0,0,{"$f":"AS127","v":0},0,0,0,0,0,0,0,0,0,0,0,0,0,0,0,0,0,0,0,0,0,0,0,0,0,0,0,0,0,0,0,{"$f":"BY127","v":0},0,0,0,0,0,0,0,0,0,0,0,0,0,0,0,0,0,0,0,0,0,0,0,0,0]
[null,null,null,"Commitment Fee",null,null,null,"USD",0,null,null,null,{"$f":"M131","v":0},0,0,0,0,0,0,0,0,0,0,0,0,0,0,0,0,0,0,0,0,0,0,0,0,0,0,0,0,0,0,0,{"$f":"AS131","v":0},0,0,0,0,0,0,0,0,0,0,0,0,0,0,0,0,0,0,0,0,0,0,0,0,0,0,0,0,0,0,0,{"$f":"BY131","v":0},0,0,0,0,0,0,0,0,0,0,0,0,0,0,0,0,0,0,0,0,0,0,0,0,0]
[null,null,null,"Interest During Construction - SHL",null,null,null,"USD",0]
[null,null,null,"DSRA",null,{"$f":"L76","v":0},null,"USD",{"$error":"#NUM!"},null,null,null,{"$f":"$F$92*M58","v":{"$error":"#NUM!"}},{"$error":"#NUM!"},{"$error":"#NUM!"},{"$error":"#NUM!"},{"$error":"#NUM!"},{"$error":"#NUM!"},{"$error":"#NUM!"},{"$error":"#NUM!"},{"$error":"#NUM!"},{"$error":"#NUM!"},{"$error":"#NUM!"},{"$error":"#NUM!"},{"$error":"#NUM!"},{"$error":"#NUM!"},{"$error":"#NUM!"},{"$error":"#NUM!"},{"$error":"#NUM!"},{"$error":"#NUM!"},{"$error":"#NUM!"},{"$error":"#NUM!"},{"$error":"#NUM!"},{"$error":"#NUM!"},{"$error":"#NUM!"},{"$error":"#NUM!"},{"$error":"#NUM!"},{"$error":"#NUM!"},{"$error":"#NUM!"},{"$error":"#NUM!"},{"$error":"#NUM!"},{"$error":"#NUM!"},{"$error":"#NUM!"},{"$error":"#NUM!"},{"$f":"$F$92*AS58","v":{"$error":"#NUM!"}},{"$error":"#NUM!"},{"$error":"#NUM!"},{"$error":"#NUM!"},{"$error":"#NUM!"},{"$error":"#NUM!"},{"$error":"#NUM!"},{"$error":"#NUM!"},{"$error":"#NUM!"},{"$error":"#NUM!"},{"$error":"#NUM!"},{"$error":"#NUM!"},{"$error":"#NUM!"},{"$error":"#NUM!"},{"$error":"#NUM!"},{"$error":"#NUM!"},{"$error":"#NUM!"},{"$error":"#NUM!"},{"$error":"#NUM!"},{"$error":"#NUM!"},{"$error":"#NUM!"},{"$error":"#NUM!"},{"$error":"#NUM!"},{"$error":"#NUM!"},{"$error":"#NUM!"},{"$error":"#NUM!"},{"$error":"#NUM!"},{"$error":"#NUM!"},{"$error":"#NUM!"},{"$error":"#NUM!"},{"$error":"#NUM!"},{"$error":"#NUM!"},{"$f":"$F$92*BY58","v":{"$error":"#NUM!"}},{"$error":"#NUM!"},{"$error":"#NUM!"},{"$error":"#NUM!"},{"$error":"#NUM!"},{"$error":"#NUM!"},{"$error":"#NUM!"},{"$error":"#NUM!"},{"$error":"#NUM!"},{"$error":"#NUM!"},{"$error":"#NUM!"},{"$error":"#NUM!"},{"$error":"#NUM!"},{"$error":"#NUM!"},{"$error":"#NUM!"},{"$error":"#NUM!"},{"$error":"#NUM!"},{"$error":"#NUM!"},{"$error":"#NUM!"},{"$error":"#NUM!"},{"$error":"#NUM!"},{"$error":"#NUM!"},{"$error":"#NUM!"},{"$error":"#NUM!"},{"$error":"#NUM!"},{"$error":"#NUM!"}]
[null,null,null,"Total Funding Needs",null,null,null,"USD",{"$error":"#NUM!"},null,null,null,{"$f":"SUM(M86:M92)","v":{"$error":"#NUM!"}},{"$error":"#NUM!"},{"$error":"#NUM!"},{"$error":"#NUM!"},{"$error":"#NUM!"},{"$error":"#NUM!"},{"$error":"#NUM!"},{"$error":"#NUM!"},{"$error":"#NUM!"},{"$error":"#NUM!"},{"$error":"#NUM!"},{"$error":"#NUM!"},{"$error":"#NUM!"},{"$error":"#NUM!"},{"$error":"#NUM!"},{"$error":"#NUM!"},{"$error":"#NUM!"},{"$error":"#NUM!"},{"$error":"#NUM!"},{"$error":"#NUM!"},{"$error":"#NUM!"},{"$error":"#NUM!"},{"$error":"#NUM!"},{"$error":"#NUM!"},{"$error":"#NUM!"},{"$error":"#NUM!"},{"$error":"#NUM!"},{"$error":"#NUM!"},{"$error":"#NUM!"},{"$error":"#NUM!"},{"$error":"#NUM!"},{"$error":"#NUM!"},{"$f":"SUM(AS86:AS92)","v":{"$error":"#NUM!"}},{"$error":"#NUM!"},{"$error":"#NUM!"},{"$error":"#NUM!"},{"$error":"#NUM!"},{"$error":"#NUM!"},{"$error":"#NUM!"},{"$error":"#NUM!"},{"$error":"#NUM!"},{"$error":"#NUM!"},{"$error":"#NUM!"},{"$error":"#NUM!"},{"$error":"#NUM!"},{"$error":"#NUM!"},{"$error":"#NUM!"},{"$error":"#NUM!"},{"$error":"#NUM!"},{"$error":"#NUM!"},{"$error":"#NUM!"},{"$error":"#NUM!"},{"$error":"#NUM!"},{"$error":"#NUM!"},{"$error":"#NUM!"},{"$error":"#NUM!"},{"$error":"#NUM!"},{"$error":"#NUM!"},{"$error":"#NUM!"},{"$error":"#NUM!"},{"$error":"#NUM!"},{"$error":"#NUM!"},{"$error":"#NUM!"},{"$error":"#NUM!"},{"$f":"SUM(BY86:BY92)","v":{"$error":"#NUM!"}},{"$error":"#NUM!"},{"$error":"#NUM!"},{"$error":"#NUM!"},{"$error":"#NUM!"},{"$error":"#NUM!"},{"$error":"#NUM!"},{"$error":"#NUM!"},{"$error":"#NUM!"},{"$error":"#NUM!"},{"$error":"#NUM!"},{"$error":"#NUM!"},{"$error":"#NUM!"},{"$error":"#NUM!"},{"$error":"#NUM!"},{"$error":"#NUM!"},{"$error":"#NUM!"},{"$error":"#NUM!"},{"$error":"#NUM!"},{"$error":"#NUM!"},{"$error":"#NUM!"},{"$error":"#NUM!"},{"$error":"#NUM!"},{"$error":"#NUM!"},{"$error":"#NUM!"},{"$error":"#NUM!"}]
[]
[null,null,"Sources"]
[null,null,null,"Equity Commitment",null,{"$f":"I81","v":3600000},null,"USD"]
[null,null,null,"Less Opening",null,null,null,"USD"]
[null,null,null,"Remaining Equity to Fund",null,null,null,"USD"]
[]
[null,null,null,"Opening Balance",null,null,null,"USD"]
[null,null,null,"Add: Funding",null,null,null,"USD",{"$f":"SUM(M101:XFD101)","v":0}]
[null,null,null,"Closing",null,null,null,"USD"]
[]
[null,null,null,"Equity Pro-Rata",null,{"$f":"J81","v":1},null,"USD",{"$f":"SUM(M104:XFD104)","v":0}]
[null,null,null,"Equity Funding Applied",null,{"$f":"'InputC-Financing'!E18","v":true},null,"USD",{"$f":"SUM(M105:XFD105)","v":0}]
[]
[null,null,null,"Senior Debt Draws",null,null,null,"USD",{"$f":"SUM(M107:XFD107)","v":0}]
[]
[null,"Debt Balance"]
[]
[null,null,"Senior Debt Account"]
[null,null,null,"Debt Service",null,null,null,"USD",null,null,null,null,{"$f":"M54","v":0},0,0,0,0,0,0,0,0,0,0,0,0,0,0,0,0,0,0,0,0,0,0,0,0,0,0,0,0,0,0,0,{"$f":"AS54","v":0},0,0,0,0,0,0,0,0,0,0,0,0,0,0,0,0,0,0,0,0,0,0,0,0,0,0,0,0,0,0,0,{"$f":"BY54","v":0},0,0,0,0,0,0,0,0,0,0,0,0,0,0,0,0,0,0,0,0,0,0,0,0,0]
[null,null,null,"Less Interest Expense (after COD)",null,null,null,"USD",null,null,null,null,{"$f":"M124*M53","v":0},0,0,0,0,0,0,0,0,0,0,0,0,0,0,0,0,0,0,0,0,0,0,0,0,0,0,0,0,0,0,0,{"$f":"AS124*AS53","v":0},0,0,0,0,0,0,0,0,0,0,0,0,0,0,0,0,0,0,0,0,0,0,0,0,0,0,0,0,0,0,0,{"$f":"BY124*BY53","v":0},0,0,0,0,0,0,0,0,0,0,0,0,0,0,0,0,0,0,0,0,0,0,0,0,0]
[null,null,null,"Repayments",null,null,null,"USD",{"$f":"SUM(M114:XFD114)","v":0},null,null,null,{"$f":"M112-M113","v":0},0,0,0,0,0,0,0,0,0,0,0,0,0,0,0,0,0,0,0,0,0,0,0,0,0,0,0,0,0,0,0,{"$f":"AS112-AS113","v":0},0,0,0,0,0,0,0,0,0,0,0,0,0,0,0,0,0,0,0,0,0,0,0,0,0,0,0,0,0,0,0,{"$f":"BY112-BY113","v":0},0,0,0,0,0,0,0,0,0,0,0,0,0,0,0,0,0,0,0,0,0,0,0,0,0]
[]
[null,null,null,"Balance BF",null,null,null,"USD"]
[null,null,null,"Add: Draws",null,null,null,"USD",{"$f":"SUM(M117:XFD117)","v":0}]
[null,null,null,"Less: Repayments",null,null,null,"USD",{"$f":"SUM(M118:XFD118)","v":0},{"$f":"ROUND(I118-I117,0)=0","v":true}]
[null,null,null,"Balance CF",null,null,null,"USD"]
[]
[null,null,null,"Periodic Interest Rate",null,null,null,"% p.p.",null,null,null,null,{"$f":"M49","v":0},0,0,0,0,0,0,0,0,0,0,0,0,0,0,0,0,0,0,0,0,0,0,0,0,0,0,0,0,0,0,0,{"$f":"AS49","v":0},0,0,0,0,0,0,0,0,0,0,0,0,0,0,0,0,0,0,0,0,0,0,0,0,0,0,0,0,0,0,0,{"$f":"BY49","v":0},0,0,0,0,0,0,0,0,0,0,0,0,0,0,0,0,0,0,0,0,0,0,0,0,0]
[null,null,null,"Interest Cost",null,null,null,"USD",{"$f":"SUM(M122:XFD122)","v":0},null,null,null,{"$f":"M121*M116","v":0},0,0,0,0,0,0,0,0,0,0,0,0,0,0,0,0,0,0,0,0,0,0,0,0,0,0,0,0,0,0,0,{"$f":"AS121*AS116","v":0},0,0,0,0,0,0,0,0,0,0,0,0,0,0,0,0,0,0,0,0,0,0,0,0,0,0,0,0,0,0,0,{"$f":"BY121*BY116","v":0},0,0,0,0,0,0,0,0,0,0,0,0,0,0,0,0,0,0,0,0,0,0,0,0,0]
[null,null,null,"Interest During Construction",null,null,null,"USD",{"$f":"SUM(M123:XFD123)","v":0},null,null,null,{"$f":"M122*M3","v":0},0,0,0,0,0,0,0,0,0,0,0,0,0,0,0,0,0,0,0,0,0,0,0,0,0,0,0,0,0,0,0,{"$f":"AS122*AS3","v":0},0,0,0,0,0,0,0,0,0,0,0,0,0,0,0,0,0,0,0,0,0,0,0,0,0,0,0,0,0,0,0,{"$f":"BY122*BY3","v":0},0,0,0,0,0,0,0,0,0,0,0,0,0,0,0,0,0,0,0,0,0,0,0,0,0]
[null,null,null,"Interest Expense",null,null,null,"USD",{"$f":"SUM(M124:XFD124)","v":0},null,null,null,{"$f":"M122-M123","v":0},0,0,0,0,0,0,0,0,0,0,0,0,0,0,0,0,0,0,0,0,0,0,0,0,0,0,0,0,0,0,0,{"$f":"AS122-AS123","v":0},0,0,0,0,0,0,0,0,0,0,0,0,0,0,0,0,0,0,0,0,0,0,0,0,0,0,0,0,0,0,0,{"$f":"BY122-BY123","v":0},0,0,0,0,0,0,0,0,0,0,0,0,0,0,0,0,0,0,0,0,0,0,0,0,0]
[]
[null,null,null,"Financial Close Flag",null,{"$f":"'InputC - Operations'!E7","v":"00:00:00"},null,"Flag",null,null,null,null,{"$f":"M5=$F$126","v":true},false,false,false,false,false,false,false,false,false,false,false,false,false,false,false,false,false,false,false,false,false,false,false,false,false,false,false,false,false,false,false,{"$f":"AS5=$F$126","v":false},false,false,false,false,false,false,false,false,false,false,false,false,false,false,false,false,false,false,false,false,false,false,false,false,false,false,false,false,false,false,false,{"$f":"BY5=$F$126","v":false},false,false,false,false,false,false,false,false,false,false,false,false,false,false,false,false,false,false,false,false,false,false,false,false,false]
[null,null,null,"Up-Front Fee",null,{"$f":"I80","v":0},{"$f":"'InputC-Financing'!E27","v":0.01},"USD",{"$f":"SUM(M127:XFD127)","v":0},null,null,null,{"$f":"$F$127*$G$127*M126","v":0},0,0,0,0,0,0,0,0,0,0,0,0,0,0,0,0,0,0,0,0,0,0,0,0,0,0,0,0,0,0,0,{"$f":"$F$127*$G$127*AS126","v":0},0,0,0,0,0,0,0,0,0,0,0,0,0,0,0,0,0,0,0,0,0,0,0,0,0,0,0,0,0,0,0,{"$f":"$F$127*$G$127*BY126","v":0},0,0,0,0,0,0,0,0,0,0,0,0,0,0,0,0,0,0,0,0,0,0,0,0,0]
[]
[null,null,null,"Undrawn  Debt",null,{"$f":"F127","v":0},null,"USD",null,null,null,null,{"$f":"$F$129-M116","v":0},0,0,0,0,0,0,0,0,0,0,0,0,0,0,0,0,0,0,0,0,0,0,0,0,0,0,0,0,0,0,0,{"$f":"$F$129-AS116","v":0},0,0,0,0,0,0,0,0,0,0,0,0,0,0,0,0,0,0,0,0,0,0,0,0,0,0,0,0,0,0,0,{"$f":"$F$129-BY116","v":0},0,0,0,0,0,0,0,0,0,0,0,0,0,0,0,0,0,0,0,0,0,0,0,0,0]
[null,null,null,"Commitment Fee - ",null,{"$f":"'InputC-Financing'!E28","v":7.0000000000000001E-3},null,"% p.p.",null,null,null,null,{"$f":"$F$130*M48","v":0},0,0,0,0,0,0,0,0,0,0,0,0,0,0,0,0,0,0,0,0,0,0,0,0,0,0,0,0,0,0,0,{"$f":"$F$130*AS48","v":0},0,0,0,0,0,0,0,0,0,0,0,0,0,0,0,0,0,0,0,0,0,0,0,0,0,0,0,0,0,0,0,{"$f":"$F$130*BY48","v":0},0,0,0,0,0,0,0,0,0,0,0,0,0,0,0,0,0,0,0,0,0,0,0,0,0]
[null,null,null,"Commitment Fee",null,null,null,"USD",{"$f":"SUM(M131:XFD131)","v":0},null,null,null,{"$f":"M129*M130*M3","v":0},0,0,0,0,0,0,0,0,0,0,0,0,0,0,0,0,0,0,0,0,0,0,0,0,0,0,0,0,0,0,0,{"$f":"AS129*AS130*AS3","v":0},0,0,0,0,0,0,0,0,0,0,0,0,0,0,0,0,0,0,0,0,0,0,0,0,0,0,0,0,0,0,0,{"$f":"BY129*BY130*BY3","v":0},0,0,0,0,0,0,0,0,0,0,0,0,0,0,0,0,0,0,0,0,0,0,0,0,0]
[]
[]
[null,"DSRA"]
[null,null,"Debt Service",null,null,null,null,"USD",{"$f":"SUM(M135:XFD135)","v":0}]
[null,null,"Forward Debt Service",null,null,{"$f":"Months/Semi","v":6},null,"USD"]
[null,null,"Less: Openiing Balance"]
[null,null,"Required Change to DSRA Account"]
[]
[null,null,"Opening Balance",null,null,null,null,"USD"]
[null,null,"Add: Net Required DSRA Pre-COD",null,null,null,null,"USD",{"$f":"SUM(M141:XFD141)","v":0}]
[null,null,"Add: Net Required DSRA Post-COD",null,null,null,null,"USD",{"$f":"SUM(M142:XFD142)","v":0}]
[null,null,"Closing Balance",null,null,null,null,"USD"]

{"sheet":"Taxes Waterfall Returns","index":8,"n_rows":143,"n_cols":101,"rows_kept":143,"cut":false,"hidden":false,"merged":[]}
["          ",null,null,null,null,null,null,null,null,1,2,3,4,5,6,7,8,9,10,11,12,13,14,15,16,17,18,19,20,21,22,23,24,25,26,27,28,29,30,31,32,33,34,35,36,37,38,39,40,41,42,43,44,45,46,47,48,49,50,51,52,53,54,55,56,57,58,59,60,61,62,63,64,65,66,67,68,69,70,71,72,73,74,75,76,77,78,79,80,81,82,83,84,85,86,87,88,89]
[]
[null,null,"Start of Period",null,null,null,null,null,null,{"$f":"'Project Finance Semi-Annual'!M5","v":"00:00:00"},{"$f":"'Project Finance Semi-Annual'!N5","v":"1900-01-01"},{"$f":"'Project Finance Semi-Annual'!O5","v":"1900-01-01"},{"$f":"'Project Finance Semi-Annual'!P5","v":"1900-01-01"},{"$f":"'Project Finance Semi-Annual'!Q5","v":"1900-01-01"},{"$f":"'Project Finance Semi-Annual'!R5","v":"1900-01-01"},{"$f":"'Project Finance Semi-Annual'!S5","v":"1900-01-01"},{"$f":"'Project Finance Semi-Annual'!T5","v":"1900-01-01"},{"$f":"'Project Finance Semi-Annual'!U5","v":"1900-01-01"},{"$f":"'Project Finance Semi-Annual'!V5","v":"1900-01-01"},{"$f":"'Project Finance Semi-Annual'!W5","v":"1900-01-01"},{"$f":"'Project Finance Semi-Annual'!X5","v":"1900-01-01"},{"$f":"'Project Finance Semi-Annual'!Y5","v":"1900-01-01"},{"$f":"'Project Finance Semi-Annual'!Z5","v":"1900-01-01"},{"$f":"'Project Finance Semi-Annual'!AA5","v":"1900-01-01"},{"$f":"'Project Finance Semi-Annual'!AB5","v":"1900-01-01"},{"$f":"'Project Finance Semi-Annual'!AC5","v":"1900-01-01"},{"$f":"'Project Finance Semi-Annual'!AD5","v":"1900-01-01"},{"$f":"'Project Finance Semi-Annual'!AE5","v":"1900-01-01"},{"$f":"'Project Finance Semi-Annual'!AF5","v":"1900-01-01"},{"$f":"'Project Finance Semi-Annual'!AG5","v":"1900-01-01"},{"$f":"'Project Finance Semi-Annual'!AH5","v":"1900-01-01"},{"$f":"'Project Finance Semi-Annual'!AI5","v":"1900-01-01"},{"$f":"'Project Finance Semi-Annual'!AJ5","v":"1900-01-01"},{"$f":"'Project Finance Semi-Annual'!AK5","v":"1900-01-01"},{"$f":"'Project Finance Semi-Annual'!AL5","v":"1900-01-01"},{"$f":"'Project Finance Semi-Annual'!AM5","v":"1900-01-01"},{"$f":"'Project Finance Semi-Annual'!AN5","v":"1900-01-01"},{"$f":"'Project Finance Semi-Annual'!AO5","v":"1900-01-01"},{"$f":"'Project Finance Semi-Annual'!AP5","v":"1900-01-01"},{"$f":"'Project Finance Semi-Annual'!AQ5","v":"1900-01-01"},{"$f":"'Project Finance Semi-Annual'!AR5","v":"1900-01-01"},{"$f":"'Project Finance Semi-Annual'!AS5","v":"1900-01-01"},{"$f":"'Project Finance Semi-Annual'!AT5","v":"1900-01-01"},{"$f":"'Project Finance Semi-Annual'!AU5","v":"1900-01-01"},{"$f":"'Project Finance Semi-Annual'!AV5","v":"1900-01-01"},{"$f":"'Project Finance Semi-Annual'!AW5","v":"1900-01-01"},{"$f":"'Project Finance Semi-Annual'!AX5","v":"1900-01-01"},{"$f":"'Project Finance Semi-Annual'!AY5","v":"1900-01-01"},{"$f":"'Project Finance Semi-Annual'!AZ5","v":"1900-01-01"},{"$f":"'Project Finance Semi-Annual'!BA5","v":"1900-01-01"},{"$f":"'Project Finance Semi-Annual'!BB5","v":"1900-01-01"},{"$f":"'Project Finance Semi-Annual'!BC5","v":"1900-01-01"},{"$f":"'Project Finance Semi-Annual'!BD5","v":"1900-01-01"},{"$f":"'Project Finance Semi-Annual'!BE5","v":"1900-01-01"},{"$f":"'Project Finance Semi-Annual'!BF5","v":"1900-01-01"},{"$f":"'Project Finance Semi-Annual'!BG5","v":"1900-01-01"},{"$f":"'Project Finance Semi-Annual'!BH5","v":"1900-01-01"},{"$f":"'Project Finance Semi-Annual'!BI5","v":"1900-01-01"},{"$f":"'Project Finance Semi-Annual'!BJ5","v":"1900-01-01"},{"$f":"'Project Finance Semi-Annual'!BK5","v":"1900-01-01"},{"$f":"'Project Finance Semi-Annual'!BL5","v":"1900-01-01"},{"$f":"'Project Finance Semi-Annual'!BM5","v":"1900-01-01"},{"$f":"'Project Finance Semi-Annual'!BN5","v":"1900-01-01"},{"$f":"'Project Finance Semi-Annual'!BO5","v":"1900-01-01"},{"$f":"'Project Finance Semi-Annual'!BP5","v":"1900-01-01"},{"$f":"'Project Finance Semi-Annual'!BQ5","v":"1900-01-01"},{"$f":"'Project Finance Semi-Annual'!BR5","v":"1900-01-01"},{"$f":"'Project Finance Semi-Annual'!BS5","v":"1900-01-01"},{"$f":"'Project Finance Semi-Annual'!BT5","v":"1900-01-01"},{"$f":"'Project Finance Semi-Annual'!BU5","v":"1900-01-01"},{"$f":"'Project Finance Semi-Annual'!BV5","v":"1900-01-01"},{"$f":"'Project Finance Semi-Annual'!BW5","v":"1900-01-01"},{"$f":"'Project Finance Semi-Annual'!BX5","v":"1900-01-01"},{"$f":"'Project Finance Semi-Annual'!BY5","v":"1900-01-01"},{"$f":"'Project Finance Semi-Annual'!BZ5","v":"1900-01-01"},{"$f":"'Project Finance Semi-Annual'!CA5","v":"1900-01-01"},{"$f":"'Project Finance Semi-Annual'!CB5","v":"1900-01-01"},{"$f":"'Project Finance Semi-Annual'!CC5","v":"1900-01-01"},{"$f":"'Project Finance Semi-Annual'!CD5","v":"1900-01-01"},{"$f":"'Project Finance Semi-Annual'!CE5","v":"1900-01-01"},{"$f":"'Project Finance Semi-Annual'!CF5","v":"1900-01-01"},{"$f":"'Project Finance Semi-Annual'!CG5","v":"1900-01-01"},{"$f":"'Project Finance Semi-Annual'!CH5","v":"1900-01-01"},{"$f":"'Project Finance Semi-Annual'!CI5","v":"1900-01-01"},{"$f":"'Project Finance Semi-Annual'!CJ5","v":"1900-01-01"},{"$f":"'Project Finance Semi-Annual'!CK5","v":"1900-01-01"},{"$f":"'Project Finance Semi-Annual'!CL5","v":"1900-01-01"},{"$f":"'Project Finance Semi-Annual'!CM5","v":"1900-01-01"},{"$f":"'Project Finance Semi-Annual'!CN5","v":"1900-01-01"},{"$f":"'Project Finance Semi-Annual'!CO5","v":"1900-01-01"},{"$f":"'Project Finance Semi-Annual'!CP5","v":"1900-01-01"},{"$f":"'Project Finance Semi-Annual'!CQ5","v":"1900-01-01"},{"$f":"'Project Finance Semi-Annual'!CR5","v":"1900-01-01"},{"$f":"'Project Finance Semi-Annual'!CS5","v":"1900-01-01"},{"$f":"'Project Finance Semi-Annual'!CT5","v":"1900-01-01"},{"$f":"'Project Finance Semi-Annual'!CU5","v":"1900-01-01"},{"$f":"'Project Finance Semi-Annual'!CV5","v":"1900-01-01"},{"$f":"'Project Finance Semi-Annual'!CW5","v":"1900-01-01"}]
[null,null,"End of Period",null,null,null,null,null,null,{"$f":"'Project Finance Semi-Annual'!M6","v":"00:00:00"},{"$f":"'Project Finance Semi-Annual'!N6","v":"00:00:00"},{"$f":"'Project Finance Semi-Annual'!O6","v":"00:00:00"},{"$f":"'Project Finance Semi-Annual'!P6","v":"00:00:00"},{"$f":"'Project Finance Semi-Annual'!Q6","v":"00:00:00"},{"$f":"'Project Finance Semi-Annual'!R6","v":"00:00:00"},{"$f":"'Project Finance Semi-Annual'!S6","v":"00:00:00"},{"$f":"'Project Finance Semi-Annual'!T6","v":"00:00:00"},{"$f":"'Project Finance Semi-Annual'!U6","v":"00:00:00"},{"$f":"'Project Finance Semi-Annual'!V6","v":"00:00:00"},{"$f":"'Project Finance Semi-Annual'!W6","v":"00:00:00"},{"$f":"'Project Finance Semi-Annual'!X6","v":"00:00:00"},{"$f":"'Project Finance Semi-Annual'!Y6","v":"00:00:00"},{"$f":"'Project Finance Semi-Annual'!Z6","v":"00:00:00"},{"$f":"'Project Finance Semi-Annual'!AA6","v":"00:00:00"},{"$f":"'Project Finance Semi-Annual'!AB6","v":"00:00:00"},{"$f":"'Project Finance Semi-Annual'!AC6","v":"00:00:00"},{"$f":"'Project Finance Semi-Annual'!AD6","v":"00:00:00"},{"$f":"'Project Finance Semi-Annual'!AE6","v":"00:00:00"},{"$f":"'Project Finance Semi-Annual'!AF6","v":"00:00:00"},{"$f":"'Project Finance Semi-Annual'!AG6","v":"00:00:00"},{"$f":"'Project Finance Semi-Annual'!AH6","v":"00:00:00"},{"$f":"'Project Finance Semi-Annual'!AI6","v":"00:00:00"},{"$f":"'Project Finance Semi-Annual'!AJ6","v":"00:00:00"},{"$f":"'Project Finance Semi-Annual'!AK6","v":"00:00:00"},{"$f":"'Project Finance Semi-Annual'!AL6","v":"00:00:00"},{"$f":"'Project Finance Semi-Annual'!AM6","v":"00:00:00"},{"$f":"'Project Finance Semi-Annual'!AN6","v":"00:00:00"},{"$f":"'Project Finance Semi-Annual'!AO6","v":"00:00:00"},{"$f":"'Project Finance Semi-Annual'!AP6","v":"00:00:00"},{"$f":"'Project Finance Semi-Annual'!AQ6","v":"00:00:00"},{"$f":"'Project Finance Semi-Annual'!AR6","v":"00:00:00"},{"$f":"'Project Finance Semi-Annual'!AS6","v":"00:00:00"},{"$f":"'Project Finance Semi-Annual'!AT6","v":"00:00:00"},{"$f":"'Project Finance Semi-Annual'!AU6","v":"00:00:00"},{"$f":"'Project Finance Semi-Annual'!AV6","v":"00:00:00"},{"$f":"'Project Finance Semi-Annual'!AW6","v":"00:00:00"},{"$f":"'Project Finance Semi-Annual'!AX6","v":"00:00:00"},{"$f":"'Project Finance Semi-Annual'!AY6","v":"00:00:00"},{"$f":"'Project Finance Semi-Annual'!AZ6","v":"00:00:00"},{"$f":"'Project Finance Semi-Annual'!BA6","v":"00:00:00"},{"$f":"'Project Finance Semi-Annual'!BB6","v":"00:00:00"},{"$f":"'Project Finance Semi-Annual'!BC6","v":"00:00:00"},{"$f":"'Project Finance Semi-Annual'!BD6","v":"00:00:00"},{"$f":"'Project Finance Semi-Annual'!BE6","v":"00:00:00"},{"$f":"'Project Finance Semi-Annual'!BF6","v":"00:00:00"},{"$f":"'Project Finance Semi-Annual'!BG6","v":"00:00:00"},{"$f":"'Project Finance Semi-Annual'!BH6","v":"00:00:00"},{"$f":"'Project Finance Semi-Annual'!BI6","v":"00:00:00"},{"$f":"'Project Finance Semi-Annual'!BJ6","v":"00:00:00"},{"$f":"'Project Finance Semi-Annual'!BK6","v":"00:00:00"},{"$f":"'Project Finance Semi-Annual'!BL6","v":"00:00:00"},{"$f":"'Project Finance Semi-Annual'!BM6","v":"00:00:00"},{"$f":"'Project Finance Semi-Annual'!BN6","v":"00:00:00"},{"$f":"'Project Finance Semi-Annual'!BO6","v":"00:00:00"},{"$f":"'Project Finance Semi-Annual'!BP6","v":"00:00:00"},{"$f":"'Project Finance Semi-Annual'!BQ6","v":"00:00:00"},{"$f":"'Project Finance Semi-Annual'!BR6","v":"00:00:00"},{"$f":"'Project Finance Semi-Annual'!BS6","v":"00:00:00"},{"$f":"'Project Finance Semi-Annual'!BT6","v":"00:00:00"},{"$f":"'Project Finance Semi-Annual'!BU6","v":"00:00:00"},{"$f":"'Project Finance Semi-Annual'!BV6","v":"00:00:00"},{"$f":"'Project Finance Semi-Annual'!BW6","v":"00:00:00"},{"$f":"'Project Finance Semi-Annual'!BX6","v":"00:00:00"},{"$f":"'Project Finance Semi-Annual'!BY6","v":"00:00:00"},{"$f":"'Project Finance Semi-Annual'!BZ6","v":"00:00:00"},{"$f":"'Project Finance Semi-Annual'!CA6","v":"00:00:00"},{"$f":"'Project Finance Semi-Annual'!CB6","v":"00:00:00"},{"$f":"'Project Finance Semi-Annual'!CC6","v":"00:00:00"},{"$f":"'Project Finance Semi-Annual'!CD6","v":"00:00:00"},{"$f":"'Project Finance Semi-Annual'!CE6","v":"00:00:00"},{"$f":"'Project Finance Semi-Annual'!CF6","v":"00:00:00"},{"$f":"'Project Finance Semi-Annual'!CG6","v":"00:00:00"},{"$f":"'Project Finance Semi-Annual'!CH6","v":"00:00:00"},{"$f":"'Project Finance Semi-Annual'!CI6","v":"00:00:00"},{"$f":"'Project Finance Semi-Annual'!CJ6","v":"00:00:00"},{"$f":"'Project Finance Semi-Annual'!CK6","v":"00:00:00"},{"$f":"'Project Finance Semi-Annual'!CL6","v":"00:00:00"},{"$f":"'Project Finance Semi-Annual'!CM6","v":"00:00:00"},{"$f":"'Project Finance Semi-Annual'!CN6","v":"00:00:00"},{"$f":"'Project Finance Semi-Annual'!CO6","v":"00:00:00"},{"$f":"'Project Finance Semi-Annual'!CP6","v":"00:00:00"},{"$f":"'Project Finance Semi-Annual'!CQ6","v":"00:00:00"},{"$f":"'Project Finance Semi-Annual'!CR6","v":"00:00:00"},{"$f":"'Project Finance Semi-Annual'!CS6","v":"00:00:00"},{"$f":"'Project Finance Semi-Annual'!CT6","v":"00:00:00"},{"$f":"'Project Finance Semi-Annual'!CU6","v":"00:00:00"},{"$f":"'Project Finance Semi-Annual'!CV6","v":"00:00:00"},{"$f":"'Project Finance Semi-Annual'!CW6","v":"00:00:00"}]
[null,null,"Year",null,null,null,null,null,null,{"$f":"'Project Finance Semi-Annual'!M8","v":1900},{"$f":"'Project Finance Semi-Annual'!N8","v":1900},{"$f":"'Project Finance Semi-Annual'!O8","v":1900},{"$f":"'Project Finance Semi-Annual'!P8","v":1900},{"$f":"'Project Finance Semi-Annual'!Q8","v":1900},{"$f":"'Project Finance Semi-Annual'!R8","v":1900},{"$f":"'Project Finance Semi-Annual'!S8","v":1900},{"$f":"'Project Finance Semi-Annual'!T8","v":1900},{"$f":"'Project Finance Semi-Annual'!U8","v":1900},{"$f":"'Project Finance Semi-Annual'!V8","v":1900},{"$f":"'Project Finance Semi-Annual'!W8","v":1900},{"$f":"'Project Finance Semi-Annual'!X8","v":1900},{"$f":"'Project Finance Semi-Annual'!Y8","v":1900},{"$f":"'Project Finance Semi-Annual'!Z8","v":1900},{"$f":"'Project Finance Semi-Annual'!AA8","v":1900},{"$f":"'Project Finance Semi-Annual'!AB8","v":1900},{"$f":"'Project Finance Semi-Annual'!AC8","v":1900},{"$f":"'Project Finance Semi-Annual'!AD8","v":1900},{"$f":"'Project Finance Semi-Annual'!AE8","v":1900},{"$f":"'Project Finance Semi-Annual'!AF8","v":1900},{"$f":"'Project Finance Semi-Annual'!AG8","v":1900},{"$f":"'Project Finance Semi-Annual'!AH8","v":1900},{"$f":"'Project Finance Semi-Annual'!AI8","v":1900},{"$f":"'Project Finance Semi-Annual'!AJ8","v":1900},{"$f":"'Project Finance Semi-Annual'!AK8","v":1900},{"$f":"'Project Finance Semi-Annual'!AL8","v":1900},{"$f":"'Project Finance Semi-Annual'!AM8","v":1900},{"$f":"'Project Finance Semi-Annual'!AN8","v":1900},{"$f":"'Project Finance Semi-Annual'!AO8","v":1900},{"$f":"'Project Finance Semi-Annual'!AP8","v":1900},{"$f":"'Project Finance Semi-Annual'!AQ8","v":1900},{"$f":"'Project Finance Semi-Annual'!AR8","v":1900},{"$f":"'Project Finance Semi-Annual'!AS8","v":1900},{"$f":"'Project Finance Semi-Annual'!AT8","v":1900},{"$f":"'Project Finance Semi-Annual'!AU8","v":1900},{"$f":"'Project Finance Semi-Annual'!AV8","v":1900},{"$f":"'Project Finance Semi-Annual'!AW8","v":1900},{"$f":"'Project Finance Semi-Annual'!AX8","v":1900},{"$f":"'Project Finance Semi-Annual'!AY8","v":1900},{"$f":"'Project Finance Semi-Annual'!AZ8","v":1900},{"$f":"'Project Finance Semi-Annual'!BA8","v":1900},{"$f":"'Project Finance Semi-Annual'!BB8","v":1900},{"$f":"'Project Finance Semi-Annual'!BC8","v":1900},{"$f":"'Project Finance Semi-Annual'!BD8","v":1900},{"$f":"'Project Finance Semi-Annual'!BE8","v":1900},{"$f":"'Project Finance Semi-Annual'!BF8","v":1900},{"$f":"'Project Finance Semi-Annual'!BG8","v":1900},{"$f":"'Project Finance Semi-Annual'!BH8","v":1900},{"$f":"'Project Finance Semi-Annual'!BI8","v":1900},{"$f":"'Project Finance Semi-Annual'!BJ8","v":1900},{"$f":"'Project Finance Semi-Annual'!BK8","v":1900},{"$f":"'Project Finance Semi-Annual'!BL8","v":1900},{"$f":"'Project Finance Semi-Annual'!BM8","v":1900},{"$f":"'Project Finance Semi-Annual'!BN8","v":1900},{"$f":"'Project Finance Semi-Annual'!BO8","v":1900},{"$f":"'Project Finance Semi-Annual'!BP8","v":1900},{"$f":"'Project Finance Semi-Annual'!BQ8","v":1900},{"$f":"'Project Finance Semi-Annual'!BR8","v":1900},{"$f":"'Project Finance Semi-Annual'!BS8","v":1900},{"$f":"'Project Finance Semi-Annual'!BT8","v":1900},{"$f":"'Project Finance Semi-Annual'!BU8","v":1900},{"$f":"'Project Finance Semi-Annual'!BV8","v":1900},{"$f":"'Project Finance Semi-Annual'!BW8","v":1900},{"$f":"'Project Finance Semi-Annual'!BX8","v":1900},{"$f":"'Project Finance Semi-Annual'!BY8","v":1900},{"$f":"'Project Finance Semi-Annual'!BZ8","v":1900},{"$f":"'Project Finance Semi-Annual'!CA8","v":1900},{"$f":"'Project Finance Semi-Annual'!CB8","v":1900},{"$f":"'Project Finance Semi-Annual'!CC8","v":1900},{"$f":"'Project Finance Semi-Annual'!CD8","v":1900},{"$f":"'Project Finance Semi-Annual'!CE8","v":1900},{"$f":"'Project Finance Semi-Annual'!CF8","v":1900},{"$f":"'Project Finance Semi-Annual'!CG8","v":1900},{"$f":"'Project Finance Semi-Annual'!CH8","v":1900},{"$f":"'Project Finance Semi-Annual'!CI8","v":1900},{"$f":"'Project Finance Semi-Annual'!CJ8","v":1900},{"$f":"'Project Finance Semi-Annual'!CK8","v":1900},{"$f":"'Project Finance Semi-Annual'!CL8","v":1900},{"$f":"'Project Finance Semi-Annual'!CM8","v":1900},{"$f":"'Project Finance Semi-Annual'!CN8","v":1900},{"$f":"'Project Finance Semi-Annual'!CO8","v":1900},{"$f":"'Project Finance Semi-Annual'!CP8","v":1900},{"$f":"'Project Finance Semi-Annual'!CQ8","v":1900},{"$f":"'Project Finance Semi-Annual'!CR8","v":1900},{"$f":"'Project Finance Semi-Annual'!CS8","v":1900},{"$f":"'Project Finance Semi-Annual'!CT8","v":1900},{"$f":"'Project Finance Semi-Annual'!CU8","v":1900},{"$f":"'Project Finance Semi-Annual'!CV8","v":1900},{"$f":"'Project Finance Semi-Annual'!CW8","v":1900}]
[null,null,"End of Year",null,null,null,null,null,null,{"$f":"J5<>K5","v":false},{"$f":"K5<>L5","v":false},false,false,false,false,false,false,false,false,false,false,false,false,false,false,false,false,false,false,false,false,false,false,false,false,false,false,false,false,false,false,false,false,false,false,false,false,false,false,false,false,false,false,false,false,false,false,false,false,false,false,false,false,false,false,false,false,false,false,false,false,false,false,false,{"$f":"BW5<>BX5","v":false},false,false,false,false,false,false,false,false,false,false,false,false,false,false,false,false,false,false,false,false,false,false,true]
[]
[null,null,null,null,null,"Constant","Unit","Total","Test"]
[]
[null,"Transferred Variables"]
[null,null,"EBITDA to Semi-Annual",null,null,null,"USD",null,null,{"$f":"'Project Finance Semi-Annual'!M11","v":0},{"$f":"'Project Finance Semi-Annual'!N11","v":0},{"$f":"'Project Finance Semi-Annual'!O11","v":0},{"$f":"'Project Finance Semi-Annual'!P11","v":0},{"$f":"'Project Finance Semi-Annual'!Q11","v":0},{"$f":"'Project Finance Semi-Annual'!R11","v":0},{"$f":"'Project Finance Semi-Annual'!S11","v":0},{"$f":"'Project Finance Semi-Annual'!T11","v":0},{"$f":"'Project Finance Semi-Annual'!U11","v":0},{"$f":"'Project Finance Semi-Annual'!V11","v":0},{"$f":"'Project Finance Semi-Annual'!W11","v":0},{"$f":"'Project Finance Semi-Annual'!X11","v":0},{"$f":"'Project Finance Semi-Annual'!Y11","v":0},{"$f":"'Project Finance Semi-Annual'!Z11","v":0},{"$f":"'Project Finance Semi-Annual'!AA11","v":0},{"$f":"'Project Finance Semi-Annual'!AB11","v":0},{"$f":"'Project Finance Semi-Annual'!AC11","v":0},{"$f":"'Project Finance Semi-Annual'!AD11","v":0},{"$f":"'Project Finance Semi-Annual'!AE11","v":0},{"$f":"'Project Finance Semi-Annual'!AF11","v":0},{"$f":"'Project Finance Semi-Annual'!AG11","v":0},{"$f":"'Project Finance Semi-Annual'!AH11","v":0},{"$f":"'Project Finance Semi-Annual'!AI11","v":0},{"$f":"'Project Finance Semi-Annual'!AJ11","v":0},{"$f":"'Project Finance Semi-Annual'!AK11","v":0},{"$f":"'Project Finance Semi-Annual'!AL11","v":0},{"$f":"'Project Finance Semi-Annual'!AM11","v":0},{"$f":"'Project Finance Semi-Annual'!AN11","v":0},{"$f":"'Project Finance Semi-Annual'!AO11","v":0},{"$f":"'Project Finance Semi-Annual'!AP11","v":0},{"$f":"'Project Finance Semi-Annual'!AQ11","v":0},{"$f":"'Project Finance Semi-Annual'!AR11","v":0},{"$f":"'Project Finance Semi-Annual'!AS11","v":0},{"$f":"'Project Finance Semi-Annual'!AT11","v":0},{"$f":"'Project Finance Semi-Annual'!AU11","v":0},{"$f":"'Project Finance Semi-Annual'!AV11","v":0},{"$f":"'Project Finance Semi-Annual'!AW11","v":0},{"$f":"'Project Finance Semi-Annual'!AX11","v":0},{"$f":"'Project Finance Semi-Annual'!AY11","v":0},{"$f":"'Project Finance Semi-Annual'!AZ11","v":0},{"$f":"'Project Finance Semi-Annual'!BA11","v":0},{"$f":"'Project Finance Semi-Annual'!BB11","v":0},{"$f":"'Project Finance Semi-Annual'!BC11","v":0},{"$f":"'Project Finance Semi-Annual'!BD11","v":0},{"$f":"'Project Finance Semi-Annual'!BE11","v":0},{"$f":"'Project Finance Semi-Annual'!BF11","v":0},{"$f":"'Project Finance Semi-Annual'!BG11","v":0},{"$f":"'Project Finance Semi-Annual'!BH11","v":0},{"$f":"'Project Finance Semi-Annual'!BI11","v":0},{"$f":"'Project Finance Semi-Annual'!BJ11","v":0},{"$f":"'Project Finance Semi-Annual'!BK11","v":0},{"$f":"'Project Finance Semi-Annual'!BL11","v":0},{"$f":"'Project Finance Semi-Annual'!BM11","v":0},{"$f":"'Project Finance Semi-Annual'!BN11","v":0},{"$f":"'Project Finance Semi-Annual'!BO11","v":0},{"$f":"'Project Finance Semi-Annual'!BP11","v":0},{"$f":"'Project Finance Semi-Annual'!BQ11","v":0},{"$f":"'Project Finance Semi-Annual'!BR11","v":0},{"$f":"'Project Finance Semi-Annual'!BS11","v":0},{"$f":"'Project Finance Semi-Annual'!BT11","v":0},{"$f":"'Project Finance Semi-Annual'!BU11","v":0},{"$f":"'Project Finance Semi-Annual'!BV11","v":0},{"$f":"'Project Finance Semi-Annual'!BW11","v":0},{"$f":"'Project Finance Semi-Annual'!BX11","v":0},{"$f":"'Project Finance Semi-Annual'!BY11","v":0},{"$f":"'Project Finance Semi-Annual'!BZ11","v":0},{"$f":"'Project Finance Semi-Annual'!CA11","v":0},{"$f":"'Project Finance Semi-Annual'!CB11","v":0},{"$f":"'Project Finance Semi-Annual'!CC11","v":0},{"$f":"'Project Finance Semi-Annual'!CD11","v":0},{"$f":"'Project Finance Semi-Annual'!CE11","v":0},{"$f":"'Project Finance Semi-Annual'!CF11","v":0},{"$f":"'Project Finance Semi-Annual'!CG11","v":0},{"$f":"'Project Finance Semi-Annual'!CH11","v":0},{"$f":"'Project Finance Semi-Annual'!CI11","v":0},{"$f":"'Project Finance Semi-Annual'!CJ11","v":0},{"$f":"'Project Finance Semi-Annual'!CK11","v":0},{"$f":"'Project Finance Semi-Annual'!CL11","v":0},{"$f":"'Project Finance Semi-Annual'!CM11","v":0},{"$f":"'Project Finance Semi-Annual'!CN11","v":0},{"$f":"'Project Finance Semi-Annual'!CO11","v":0},{"$f":"'Project Finance Semi-Annual'!CP11","v":0},{"$f":"'Project Finance Semi-Annual'!CQ11","v":0},{"$f":"'Project Finance Semi-Annual'!CR11","v":0},{"$f":"'Project Finance Semi-Annual'!CS11","v":0},{"$f":"'Project Finance Semi-Annual'!CT11","v":0},{"$f":"'Project Finance Semi-Annual'!CU11","v":0},{"$f":"'Project Finance Semi-Annual'!CV11","v":0},{"$f":"'Project Finance Semi-Annual'!CW11","v":0}]
[null,null,"Working Captial Changes to Semi-Annual",null,null,null,"USD",null,null,{"$f":"'Project Finance Semi-Annual'!M12","v":{"$error":"#N/A"}},{"$f":"'Project Finance Semi-Annual'!N12","v":0},{"$f":"'Project Finance Semi-Annual'!O12","v":0},{"$f":"'Project Finance Semi-Annual'!P12","v":0},{"$f":"'Project Finance Semi-Annual'!Q12","v":0},{"$f":"'Project Finance Semi-Annual'!R12","v":0},{"$f":"'Project Finance Semi-Annual'!S12","v":0},{"$f":"'Project Finance Semi-Annual'!T12","v":0},{"$f":"'Project Finance Semi-Annual'!U12","v":0},{"$f":"'Project Finance Semi-Annual'!V12","v":0},{"$f":"'Project Finance Semi-Annual'!W12","v":0},{"$f":"'Project Finance Semi-Annual'!X12","v":0},{"$f":"'Project Finance Semi-Annual'!Y12","v":0},{"$f":"'Project Finance Semi-Annual'!Z12","v":0},{"$f":"'Project Finance Semi-Annual'!AA12","v":0},{"$f":"'Project Finance Semi-Annual'!AB12","v":0},{"$f":"'Project Finance Semi-Annual'!AC12","v":0},{"$f":"'Project Finance Semi-Annual'!AD12","v":0},{"$f":"'Project Finance Semi-Annual'!AE12","v":0},{"$f":"'Project Finance Semi-Annual'!AF12","v":0},{"$f":"'Project Finance Semi-Annual'!AG12","v":0},{"$f":"'Project Finance Semi-Annual'!AH12","v":0},{"$f":"'Project Finance Semi-Annual'!AI12","v":0},{"$f":"'Project Finance Semi-Annual'!AJ12","v":0},{"$f":"'Project Finance Semi-Annual'!AK12","v":0},{"$f":"'Project Finance Semi-Annual'!AL12","v":0},{"$f":"'Project Finance Semi-Annual'!AM12","v":0},{"$f":"'Project Finance Semi-Annual'!AN12","v":0},{"$f":"'Project Finance Semi-Annual'!AO12","v":0},{"$f":"'Project Finance Semi-Annual'!AP12","v":0},{"$f":"'Project Finance Semi-Annual'!AQ12","v":0},{"$f":"'Project Finance Semi-Annual'!AR12","v":0},{"$f":"'Project Finance Semi-Annual'!AS12","v":0},{"$f":"'Project Finance Semi-Annual'!AT12","v":0},{"$f":"'Project Finance Semi-Annual'!AU12","v":0},{"$f":"'Project Finance Semi-Annual'!AV12","v":0},{"$f":"'Project Finance Semi-Annual'!AW12","v":0},{"$f":"'Project Finance Semi-Annual'!AX12","v":0},{"$f":"'Project Finance Semi-Annual'!AY12","v":0},{"$f":"'Project Finance Semi-Annual'!AZ12","v":0},{"$f":"'Project Finance Semi-Annual'!BA12","v":0},{"$f":"'Project Finance Semi-Annual'!BB12","v":0},{"$f":"'Project Finance Semi-Annual'!BC12","v":0},{"$f":"'Project Finance Semi-Annual'!BD12","v":0},{"$f":"'Project Finance Semi-Annual'!BE12","v":0},{"$f":"'Project Finance Semi-Annual'!BF12","v":0},{"$f":"'Project Finance Semi-Annual'!BG12","v":0},{"$f":"'Project Finance Semi-Annual'!BH12","v":0},{"$f":"'Project Finance Semi-Annual'!BI12","v":0},{"$f":"'Project Finance Semi-Annual'!BJ12","v":0},{"$f":"'Project Finance Semi-Annual'!BK12","v":0},{"$f":"'Project Finance Semi-Annual'!BL12","v":0},{"$f":"'Project Finance Semi-Annual'!BM12","v":0},{"$f":"'Project Finance Semi-Annual'!BN12","v":0},{"$f":"'Project Finance Semi-Annual'!BO12","v":0},{"$f":"'Project Finance Semi-Annual'!BP12","v":0},{"$f":"'Project Finance Semi-Annual'!BQ12","v":0},{"$f":"'Project Finance Semi-Annual'!BR12","v":0},{"$f":"'Project Finance Semi-Annual'!BS12","v":0},{"$f":"'Project Finance Semi-Annual'!BT12","v":0},{"$f":"'Project Finance Semi-Annual'!BU12","v":0},{"$f":"'Project Finance Semi-Annual'!BV12","v":0},{"$f":"'Project Finance Semi-Annual'!BW12","v":0},{"$f":"'Project Finance Semi-Annual'!BX12","v":0},{"$f":"'Project Finance Semi-Annual'!BY12","v":0},{"$f":"'Project Finance Semi-Annual'!BZ12","v":0},{"$f":"'Project Finance Semi-Annual'!CA12","v":0},{"$f":"'Project Finance Semi-Annual'!CB12","v":0},{"$f":"'Project Finance Semi-Annual'!CC12","v":0},{"$f":"'Project Finance Semi-Annual'!CD12","v":0},{"$f":"'Project Finance Semi-Annual'!CE12","v":0},{"$f":"'Project Finance Semi-Annual'!CF12","v":0},{"$f":"'Project Finance Semi-Annual'!CG12","v":0},{"$f":"'Project Finance Semi-Annual'!CH12","v":0},{"$f":"'Project Finance Semi-Annual'!CI12","v":0},{"$f":"'Project Finance Semi-Annual'!CJ12","v":0},{"$f":"'Project Finance Semi-Annual'!CK12","v":0},{"$f":"'Project Finance Semi-Annual'!CL12","v":0},{"$f":"'Project Finance Semi-Annual'!CM12","v":0},{"$f":"'Project Finance Semi-Annual'!CN12","v":0},{"$f":"'Project Finance Semi-Annual'!CO12","v":0},{"$f":"'Project Finance Semi-Annual'!CP12","v":0},{"$f":"'Project Finance Semi-Annual'!CQ12","v":0},{"$f":"'Project Finance Semi-Annual'!CR12","v":0},{"$f":"'Project Finance Semi-Annual'!CS12","v":0},{"$f":"'Project Finance Semi-Annual'!CT12","v":0},{"$f":"'Project Finance Semi-Annual'!CU12","v":0},{"$f":"'Project Finance Semi-Annual'!CV12","v":0},{"$f":"'Project Finance Semi-Annual'!CW12","v":0}]
[null,null,"Income Taxes",null,null,null,"USD"]
[null,null,"Capital Expenditures",null,null,null,"USD",null,null,{"$f":"'Project Finance Semi-Annual'!M28","v":3600000},{"$f":"'Project Finance Semi-Annual'!N28","v":0},{"$f":"'Project Finance Semi-Annual'!O28","v":0},{"$f":"'Project Finance Semi-Annual'!P28","v":0},{"$f":"'Project Finance Semi-Annual'!Q28","v":0},{"$f":"'Project Finance Semi-Annual'!R28","v":0},{"$f":"'Project Finance Semi-Annual'!S28","v":0},{"$f":"'Project Finance Semi-Annual'!T28","v":0},{"$f":"'Project Finance Semi-Annual'!U28","v":0},{"$f":"'Project Finance Semi-Annual'!V28","v":0},{"$f":"'Project Finance Semi-Annual'!W28","v":0},{"$f":"'Project Finance Semi-Annual'!X28","v":0},{"$f":"'Project Finance Semi-Annual'!Y28","v":0},{"$f":"'Project Finance Semi-Annual'!Z28","v":0},{"$f":"'Project Finance Semi-Annual'!AA28","v":0},{"$f":"'Project Finance Semi-Annual'!AB28","v":0},{"$f":"'Project Finance Semi-Annual'!AC28","v":0},{"$f":"'Project Finance Semi-Annual'!AD28","v":0},{"$f":"'Project Finance Semi-Annual'!AE28","v":0},{"$f":"'Project Finance Semi-Annual'!AF28","v":0},{"$f":"'Project Finance Semi-Annual'!AG28","v":0},{"$f":"'Project Finance Semi-Annual'!AH28","v":0},{"$f":"'Project Finance Semi-Annual'!AI28","v":0},{"$f":"'Project Finance Semi-Annual'!AJ28","v":0},{"$f":"'Project Finance Semi-Annual'!AK28","v":0},{"$f":"'Project Finance Semi-Annual'!AL28","v":0},{"$f":"'Project Finance Semi-Annual'!AM28","v":0},{"$f":"'Project Finance Semi-Annual'!AN28","v":0},{"$f":"'Project Finance Semi-Annual'!AO28","v":0},{"$f":"'Project Finance Semi-Annual'!AP28","v":0},{"$f":"'Project Finance Semi-Annual'!AQ28","v":0},{"$f":"'Project Finance Semi-Annual'!AR28","v":0},{"$f":"'Project Finance Semi-Annual'!AS28","v":0},{"$f":"'Project Finance Semi-Annual'!AT28","v":0},{"$f":"'Project Finance Semi-Annual'!AU28","v":0},{"$f":"'Project Finance Semi-Annual'!AV28","v":0},{"$f":"'Project Finance Semi-Annual'!AW28","v":0},{"$f":"'Project Finance Semi-Annual'!AX28","v":0},{"$f":"'Project Finance Semi-Annual'!AY28","v":0},{"$f":"'Project Finance Semi-Annual'!AZ28","v":0},{"$f":"'Project Finance Semi-Annual'!BA28","v":0},{"$f":"'Project Finance Semi-Annual'!BB28","v":0},{"$f":"'Project Finance Semi-Annual'!BC28","v":0},{"$f":"'Project Finance Semi-Annual'!BD28","v":0},{"$f":"'Project Finance Semi-Annual'!BE28","v":0},{"$f":"'Project Finance Semi-Annual'!BF28","v":0},{"$f":"'Project Finance Semi-Annual'!BG28","v":0},{"$f":"'Project Finance Semi-Annual'!BH28","v":0},{"$f":"'Project Finance Semi-Annual'!BI28","v":0},{"$f":"'Project Finance Semi-Annual'!BJ28","v":0},{"$f":"'Project Finance Semi-Annual'!BK28","v":0},{"$f":"'Project Finance Semi-Annual'!BL28","v":0},{"$f":"'Project Finance Semi-Annual'!BM28","v":0},{"$f":"'Project Finance Semi-Annual'!BN28","v":0},{"$f":"'Project Finance Semi-Annual'!BO28","v":0},{"$f":"'Project Finance Semi-Annual'!BP28","v":0},{"$f":"'Project Finance Semi-Annual'!BQ28","v":0},{"$f":"'Project Finance Semi-Annual'!BR28","v":0},{"$f":"'Project Finance Semi-Annual'!BS28","v":0},{"$f":"'Project Finance Semi-Annual'!BT28","v":0},{"$f":"'Project Finance Semi-Annual'!BU28","v":0},{"$f":"'Project Finance Semi-Annual'!BV28","v":0},{"$f":"'Project Finance Semi-Annual'!BW28","v":0},{"$f":"'Project Finance Semi-Annual'!BX28","v":0},{"$f":"'Project Finance Semi-Annual'!BY28","v":0},{"$f":"'Project Finance Semi-Annual'!BZ28","v":0},{"$f":"'Project Finance Semi-Annual'!CA28","v":0},{"$f":"'Project Finance Semi-Annual'!CB28","v":0},{"$f":"'Project Finance Semi-Annual'!CC28","v":0},{"$f":"'Project Finance Semi-Annual'!CD28","v":0},{"$f":"'Project Finance Semi-Annual'!CE28","v":0},{"$f":"'Project Finance Semi-Annual'!CF28","v":0},{"$f":"'Project Finance Semi-Annual'!CG28","v":0},{"$f":"'Project Finance Semi-Annual'!CH28","v":0},{"$f":"'Project Finance Semi-Annual'!CI28","v":0},{"$f":"'Project Finance Semi-Annual'!CJ28","v":0},{"$f":"'Project Finance Semi-Annual'!CK28","v":0},{"$f":"'Project Finance Semi-Annual'!CL28","v":0},{"$f":"'Project Finance Semi-Annual'!CM28","v":0},{"$f":"'Project Finance Semi-Annual'!CN28","v":0},{"$f":"'Project Finance Semi-Annual'!CO28","v":0},{"$f":"'Project Finance Semi-Annual'!CP28","v":0},{"$f":"'Project Finance Semi-Annual'!CQ28","v":0},{"$f":"'Project Finance Semi-Annual'!CR28","v":0},{"$f":"'Project Finance Semi-Annual'!CS28","v":0},{"$f":"'Project Finance Semi-Annual'!CT28","v":0},{"$f":"'Project Finance Semi-Annual'!CU28","v":0},{"$f":"'Project Finance Semi-Annual'!CV28","v":0},{"$f":"'Project Finance Semi-Annual'!CW28","v":0}]
[null,null,"Taxes without Financing",null,null,null,"USD",null,null,{"$f":"'Project Finance Semi-Annual'!M36","v":0},{"$f":"'Project Finance Semi-Annual'!N36","v":0},{"$f":"'Project Finance Semi-Annual'!O36","v":0},{"$f":"'Project Finance Semi-Annual'!P36","v":0},{"$f":"'Project Finance Semi-Annual'!Q36","v":0},{"$f":"'Project Finance Semi-Annual'!R36","v":0},{"$f":"'Project Finance Semi-Annual'!S36","v":0},{"$f":"'Project Finance Semi-Annual'!T36","v":0},{"$f":"'Project Finance Semi-Annual'!U36","v":0},{"$f":"'Project Finance Semi-Annual'!V36","v":0},{"$f":"'Project Finance Semi-Annual'!W36","v":0},{"$f":"'Project Finance Semi-Annual'!X36","v":0},{"$f":"'Project Finance Semi-Annual'!Y36","v":0},{"$f":"'Project Finance Semi-Annual'!Z36","v":0},{"$f":"'Project Finance Semi-Annual'!AA36","v":0},{"$f":"'Project Finance Semi-Annual'!AB36","v":0},{"$f":"'Project Finance Semi-Annual'!AC36","v":0},{"$f":"'Project Finance Semi-Annual'!AD36","v":0},{"$f":"'Project Finance Semi-Annual'!AE36","v":0},{"$f":"'Project Finance Semi-Annual'!AF36","v":0},{"$f":"'Project Finance Semi-Annual'!AG36","v":0},{"$f":"'Project Finance Semi-Annual'!AH36","v":0},{"$f":"'Project Finance Semi-Annual'!AI36","v":0},{"$f":"'Project Finance Semi-Annual'!AJ36","v":0},{"$f":"'Project Finance Semi-Annual'!AK36","v":0},{"$f":"'Project Finance Semi-Annual'!AL36","v":0},{"$f":"'Project Finance Semi-Annual'!AM36","v":0},{"$f":"'Project Finance Semi-Annual'!AN36","v":0},{"$f":"'Project Finance Semi-Annual'!AO36","v":0},{"$f":"'Project Finance Semi-Annual'!AP36","v":0},{"$f":"'Project Finance Semi-Annual'!AQ36","v":0},{"$f":"'Project Finance Semi-Annual'!AR36","v":0},{"$f":"'Project Finance Semi-Annual'!AS36","v":0},{"$f":"'Project Finance Semi-Annual'!AT36","v":0},{"$f":"'Project Finance Semi-Annual'!AU36","v":0},{"$f":"'Project Finance Semi-Annual'!AV36","v":0},{"$f":"'Project Finance Semi-Annual'!AW36","v":0},{"$f":"'Project Finance Semi-Annual'!AX36","v":0},{"$f":"'Project Finance Semi-Annual'!AY36","v":0},{"$f":"'Project Finance Semi-Annual'!AZ36","v":0},{"$f":"'Project Finance Semi-Annual'!BA36","v":0},{"$f":"'Project Finance Semi-Annual'!BB36","v":0},{"$f":"'Project Finance Semi-Annual'!BC36","v":0},{"$f":"'Project Finance Semi-Annual'!BD36","v":0},{"$f":"'Project Finance Semi-Annual'!BE36","v":0},{"$f":"'Project Finance Semi-Annual'!BF36","v":0},{"$f":"'Project Finance Semi-Annual'!BG36","v":0},{"$f":"'Project Finance Semi-Annual'!BH36","v":0},{"$f":"'Project Finance Semi-Annual'!BI36","v":0},{"$f":"'Project Finance Semi-Annual'!BJ36","v":0},{"$f":"'Project Finance Semi-Annual'!BK36","v":0},{"$f":"'Project Finance Semi-Annual'!BL36","v":0},{"$f":"'Project Finance Semi-Annual'!BM36","v":0},{"$f":"'Project Finance Semi-Annual'!BN36","v":0},{"$f":"'Project Finance Semi-Annual'!BO36","v":0},{"$f":"'Project Finance Semi-Annual'!BP36","v":0},{"$f":"'Project Finance Semi-Annual'!BQ36","v":0},{"$f":"'Project Finance Semi-Annual'!BR36","v":0},{"$f":"'Project Finance Semi-Annual'!BS36","v":0},{"$f":"'Project Finance Semi-Annual'!BT36","v":0},{"$f":"'Project Finance Semi-Annual'!BU36","v":0},{"$f":"'Project Finance Semi-Annual'!BV36","v":0},{"$f":"'Project Finance Semi-Annual'!BW36","v":0},{"$f":"'Project Finance Semi-Annual'!BX36","v":0},{"$f":"'Project Finance Semi-Annual'!BY36","v":0},{"$f":"'Project Finance Semi-Annual'!BZ36","v":0},{"$f":"'Project Finance Semi-Annual'!CA36","v":0},{"$f":"'Project Finance Semi-Annual'!CB36","v":0},{"$f":"'Project Finance Semi-Annual'!CC36","v":0},{"$f":"'Project Finance Semi-Annual'!CD36","v":0},{"$f":"'Project Finance Semi-Annual'!CE36","v":0},{"$f":"'Project Finance Semi-Annual'!CF36","v":0},{"$f":"'Project Finance Semi-Annual'!CG36","v":0},{"$f":"'Project Finance Semi-Annual'!CH36","v":0},{"$f":"'Project Finance Semi-Annual'!CI36","v":0},{"$f":"'Project Finance Semi-Annual'!CJ36","v":0},{"$f":"'Project Finance Semi-Annual'!CK36","v":0},{"$f":"'Project Finance Semi-Annual'!CL36","v":0},{"$f":"'Project Finance Semi-Annual'!CM36","v":0},{"$f":"'Project Finance Semi-Annual'!CN36","v":0},{"$f":"'Project Finance Semi-Annual'!CO36","v":0},{"$f":"'Project Finance Semi-Annual'!CP36","v":0},{"$f":"'Project Finance Semi-Annual'!CQ36","v":0},{"$f":"'Project Finance Semi-Annual'!CR36","v":0},{"$f":"'Project Finance Semi-Annual'!CS36","v":0},{"$f":"'Project Finance Semi-Annual'!CT36","v":0},{"$f":"'Project Finance Semi-Annual'!CU36","v":0},{"$f":"'Project Finance Semi-Annual'!CV36","v":0},{"$f":"'Project Finance Semi-Annual'!CW36","v":0}]
[null,null,"Depreciation Expense",null,null,null,"USD",null,null,{"$f":"J39","v":0},{"$f":"K39","v":0},0,0,0,0,0,0,0,0,0,0,0,0,0,0,0,0,0,0,0,0,0,0,0,0,0,0,0,0,0,0,0,0,0,0,0,0,0,0,0,0,0,0,0,0,0,0,0,0,0,0,0,0,0,0,0,0,0,0,0,0,0,0,0,{"$f":"BW39","v":0},0,0,0,0,0,0,0,0,0,0,0,0,0,0,0,0,0,0,0,0,0,0,0]
[null,null,"Equity Invested",null,null,null,"USD",null,null,{"$f":"'Project Finance Semi-Annual'!M105","v":0},{"$f":"'Project Finance Semi-Annual'!N105","v":0},{"$f":"'Project Finance Semi-Annual'!O105","v":0},{"$f":"'Project Finance Semi-Annual'!P105","v":0},{"$f":"'Project Finance Semi-Annual'!Q105","v":0},{"$f":"'Project Finance Semi-Annual'!R105","v":0},{"$f":"'Project Finance Semi-Annual'!S105","v":0},{"$f":"'Project Finance Semi-Annual'!T105","v":0},{"$f":"'Project Finance Semi-Annual'!U105","v":0},{"$f":"'Project Finance Semi-Annual'!V105","v":0},{"$f":"'Project Finance Semi-Annual'!W105","v":0},{"$f":"'Project Finance Semi-Annual'!X105","v":0},{"$f":"'Project Finance Semi-Annual'!Y105","v":0},{"$f":"'Project Finance Semi-Annual'!Z105","v":0},{"$f":"'Project Finance Semi-Annual'!AA105","v":0},{"$f":"'Project Finance Semi-Annual'!AB105","v":0},{"$f":"'Project Finance Semi-Annual'!AC105","v":0},{"$f":"'Project Finance Semi-Annual'!AD105","v":0},{"$f":"'Project Finance Semi-Annual'!AE105","v":0},{"$f":"'Project Finance Semi-Annual'!AF105","v":0},{"$f":"'Project Finance Semi-Annual'!AG105","v":0},{"$f":"'Project Finance Semi-Annual'!AH105","v":0},{"$f":"'Project Finance Semi-Annual'!AI105","v":0},{"$f":"'Project Finance Semi-Annual'!AJ105","v":0},{"$f":"'Project Finance Semi-Annual'!AK105","v":0},{"$f":"'Project Finance Semi-Annual'!AL105","v":0},{"$f":"'Project Finance Semi-Annual'!AM105","v":0},{"$f":"'Project Finance Semi-Annual'!AN105","v":0},{"$f":"'Project Finance Semi-Annual'!AO105","v":0},{"$f":"'Project Finance Semi-Annual'!AP105","v":0},{"$f":"'Project Finance Semi-Annual'!AQ105","v":0},{"$f":"'Project Finance Semi-Annual'!AR105","v":0},{"$f":"'Project Finance Semi-Annual'!AS105","v":0},{"$f":"'Project Finance Semi-Annual'!AT105","v":0},{"$f":"'Project Finance Semi-Annual'!AU105","v":0},{"$f":"'Project Finance Semi-Annual'!AV105","v":0},{"$f":"'Project Finance Semi-Annual'!AW105","v":0},{"$f":"'Project Finance Semi-Annual'!AX105","v":0},{"$f":"'Project Finance Semi-Annual'!AY105","v":0},{"$f":"'Project Finance Semi-Annual'!AZ105","v":0},{"$f":"'Project Finance Semi-Annual'!BA105","v":0},{"$f":"'Project Finance Semi-Annual'!BB105","v":0},{"$f":"'Project Finance Semi-Annual'!BC105","v":0},{"$f":"'Project Finance Semi-Annual'!BD105","v":0},{"$f":"'Project Finance Semi-Annual'!BE105","v":0},{"$f":"'Project Finance Semi-Annual'!BF105","v":0},{"$f":"'Project Finance Semi-Annual'!BG105","v":0},{"$f":"'Project Finance Semi-Annual'!BH105","v":0},{"$f":"'Project Finance Semi-Annual'!BI105","v":0},{"$f":"'Project Finance Semi-Annual'!BJ105","v":0},{"$f":"'Project Finance Semi-Annual'!BK105","v":0},{"$f":"'Project Finance Semi-Annual'!BL105","v":0},{"$f":"'Project Finance Semi-Annual'!BM105","v":0},{"$f":"'Project Finance Semi-Annual'!BN105","v":0},{"$f":"'Project Finance Semi-Annual'!BO105","v":0},{"$f":"'Project Finance Semi-Annual'!BP105","v":0},{"$f":"'Project Finance Semi-Annual'!BQ105","v":0},{"$f":"'Project Finance Semi-Annual'!BR105","v":0},{"$f":"'Project Finance Semi-Annual'!BS105","v":0},{"$f":"'Project Finance Semi-Annual'!BT105","v":0},{"$f":"'Project Finance Semi-Annual'!BU105","v":0},{"$f":"'Project Finance Semi-Annual'!BV105","v":0},{"$f":"'Project Finance Semi-Annual'!BW105","v":0},{"$f":"'Project Finance Semi-Annual'!BX105","v":0},{"$f":"'Project Finance Semi-Annual'!BY105","v":0},{"$f":"'Project Finance Semi-Annual'!BZ105","v":0},{"$f":"'Project Finance Semi-Annual'!CA105","v":0},{"$f":"'Project Finance Semi-Annual'!CB105","v":0},{"$f":"'Project Finance Semi-Annual'!CC105","v":0},{"$f":"'Project Finance Semi-Annual'!CD105","v":0},{"$f":"'Project Finance Semi-Annual'!CE105","v":0},{"$f":"'Project Finance Semi-Annual'!CF105","v":0},{"$f":"'Project Finance Semi-Annual'!CG105","v":0},{"$f":"'Project Finance Semi-Annual'!CH105","v":0},{"$f":"'Project Finance Semi-Annual'!CI105","v":0},{"$f":"'Project Finance Semi-Annual'!CJ105","v":0},{"$f":"'Project Finance Semi-Annual'!CK105","v":0},{"$f":"'Project Finance Semi-Annual'!CL105","v":0},{"$f":"'Project Finance Semi-Annual'!CM105","v":0},{"$f":"'Project Finance Semi-Annual'!CN105","v":0},{"$f":"'Project Finance Semi-Annual'!CO105","v":0},{"$f":"'Project Finance Semi-Annual'!CP105","v":0},{"$f":"'Project Finance Semi-Annual'!CQ105","v":0},{"$f":"'Project Finance Semi-Annual'!CR105","v":0},{"$f":"'Project Finance Semi-Annual'!CS105","v":0},{"$f":"'Project Finance Semi-Annual'!CT105","v":0},{"$f":"'Project Finance Semi-Annual'!CU105","v":0},{"$f":"'Project Finance Semi-Annual'!CV105","v":0},{"$f":"'Project Finance Semi-Annual'!CW105","v":0}]
[null,null,"Interest Expense",null,null,null,"USD",null,null,{"$f":"'Project Finance Semi-Annual'!M124","v":0},{"$f":"'Project Finance Semi-Annual'!N124","v":0},{"$f":"'Project Finance Semi-Annual'!O124","v":0},{"$f":"'Project Finance Semi-Annual'!P124","v":0},{"$f":"'Project Finance Semi-Annual'!Q124","v":0},{"$f":"'Project Finance Semi-Annual'!R124","v":0},{"$f":"'Project Finance Semi-Annual'!S124","v":0},{"$f":"'Project Finance Semi-Annual'!T124","v":0},{"$f":"'Project Finance Semi-Annual'!U124","v":0},{"$f":"'Project Finance Semi-Annual'!V124","v":0},{"$f":"'Project Finance Semi-Annual'!W124","v":0},{"$f":"'Project Finance Semi-Annual'!X124","v":0},{"$f":"'Project Finance Semi-Annual'!Y124","v":0},{"$f":"'Project Finance Semi-Annual'!Z124","v":0},{"$f":"'Project Finance Semi-Annual'!AA124","v":0},{"$f":"'Project Finance Semi-Annual'!AB124","v":0},{"$f":"'Project Finance Semi-Annual'!AC124","v":0},{"$f":"'Project Finance Semi-Annual'!AD124","v":0},{"$f":"'Project Finance Semi-Annual'!AE124","v":0},{"$f":"'Project Finance Semi-Annual'!AF124","v":0},{"$f":"'Project Finance Semi-Annual'!AG124","v":0},{"$f":"'Project Finance Semi-Annual'!AH124","v":0},{"$f":"'Project Finance Semi-Annual'!AI124","v":0},{"$f":"'Project Finance Semi-Annual'!AJ124","v":0},{"$f":"'Project Finance Semi-Annual'!AK124","v":0},{"$f":"'Project Finance Semi-Annual'!AL124","v":0},{"$f":"'Project Finance Semi-Annual'!AM124","v":0},{"$f":"'Project Finance Semi-Annual'!AN124","v":0},{"$f":"'Project Finance Semi-Annual'!AO124","v":0},{"$f":"'Project Finance Semi-Annual'!AP124","v":0},{"$f":"'Project Finance Semi-Annual'!AQ124","v":0},{"$f":"'Project Finance Semi-Annual'!AR124","v":0},{"$f":"'Project Finance Semi-Annual'!AS124","v":0},{"$f":"'Project Finance Semi-Annual'!AT124","v":0},{"$f":"'Project Finance Semi-Annual'!AU124","v":0},{"$f":"'Project Finance Semi-Annual'!AV124","v":0},{"$f":"'Project Finance Semi-Annual'!AW124","v":0},{"$f":"'Project Finance Semi-Annual'!AX124","v":0},{"$f":"'Project Finance Semi-Annual'!AY124","v":0},{"$f":"'Project Finance Semi-Annual'!AZ124","v":0},{"$f":"'Project Finance Semi-Annual'!BA124","v":0},{"$f":"'Project Finance Semi-Annual'!BB124","v":0},{"$f":"'Project Finance Semi-Annual'!BC124","v":0},{"$f":"'Project Finance Semi-Annual'!BD124","v":0},{"$f":"'Project Finance Semi-Annual'!BE124","v":0},{"$f":"'Project Finance Semi-Annual'!BF124","v":0},{"$f":"'Project Finance Semi-Annual'!BG124","v":0},{"$f":"'Project Finance Semi-Annual'!BH124","v":0},{"$f":"'Project Finance Semi-Annual'!BI124","v":0},{"$f":"'Project Finance Semi-Annual'!BJ124","v":0},{"$f":"'Project Finance Semi-Annual'!BK124","v":0},{"$f":"'Project Finance Semi-Annual'!BL124","v":0},{"$f":"'Project Finance Semi-Annual'!BM124","v":0},{"$f":"'Project Finance Semi-Annual'!BN124","v":0},{"$f":"'Project Finance Semi-Annual'!BO124","v":0},{"$f":"'Project Finance Semi-Annual'!BP124","v":0},{"$f":"'Project Finance Semi-Annual'!BQ124","v":0},{"$f":"'Project Finance Semi-Annual'!BR124","v":0},{"$f":"'Project Finance Semi-Annual'!BS124","v":0},{"$f":"'Project Finance Semi-Annual'!BT124","v":0},{"$f":"'Project Finance Semi-Annual'!BU124","v":0},{"$f":"'Project Finance Semi-Annual'!BV124","v":0},{"$f":"'Project Finance Semi-Annual'!BW124","v":0},{"$f":"'Project Finance Semi-Annual'!BX124","v":0},{"$f":"'Project Finance Semi-Annual'!BY124","v":0},{"$f":"'Project Finance Semi-Annual'!BZ124","v":0},{"$f":"'Project Finance Semi-Annual'!CA124","v":0},{"$f":"'Project Finance Semi-Annual'!CB124","v":0},{"$f":"'Project Finance Semi-Annual'!CC124","v":0},{"$f":"'Project Finance Semi-Annual'!CD124","v":0},{"$f":"'Project Finance Semi-Annual'!CE124","v":0},{"$f":"'Project Finance Semi-Annual'!CF124","v":0},{"$f":"'Project Finance Semi-Annual'!CG124","v":0},{"$f":"'Project Finance Semi-Annual'!CH124","v":0},{"$f":"'Project Finance Semi-Annual'!CI124","v":0},{"$f":"'Project Finance Semi-Annual'!CJ124","v":0},{"$f":"'Project Finance Semi-Annual'!CK124","v":0},{"$f":"'Project Finance Semi-Annual'!CL124","v":0},{"$f":"'Project Finance Semi-Annual'!CM124","v":0},{"$f":"'Project Finance Semi-Annual'!CN124","v":0},{"$f":"'Project Finance Semi-Annual'!CO124","v":0},{"$f":"'Project Finance Semi-Annual'!CP124","v":0},{"$f":"'Project Finance Semi-Annual'!CQ124","v":0},{"$f":"'Project Finance Semi-Annual'!CR124","v":0},{"$f":"'Project Finance Semi-Annual'!CS124","v":0},{"$f":"'Project Finance Semi-Annual'!CT124","v":0},{"$f":"'Project Finance Semi-Annual'!CU124","v":0},{"$f":"'Project Finance Semi-Annual'!CV124","v":0},{"$f":"'Project Finance Semi-Annual'!CW124","v":0}]
[null,null,"Repayments ",null,null,null,"USD",null,null,{"$f":"'Project Finance Semi-Annual'!M118","v":0},{"$f":"'Project Finance Semi-Annual'!N118","v":0},{"$f":"'Project Finance Semi-Annual'!O118","v":0},{"$f":"'Project Finance Semi-Annual'!P118","v":0},{"$f":"'Project Finance Semi-Annual'!Q118","v":0},{"$f":"'Project Finance Semi-Annual'!R118","v":0},{"$f":"'Project Finance Semi-Annual'!S118","v":0},{"$f":"'Project Finance Semi-Annual'!T118","v":0},{"$f":"'Project Finance Semi-Annual'!U118","v":0},{"$f":"'Project Finance Semi-Annual'!V118","v":0},{"$f":"'Project Finance Semi-Annual'!W118","v":0},{"$f":"'Project Finance Semi-Annual'!X118","v":0},{"$f":"'Project Finance Semi-Annual'!Y118","v":0},{"$f":"'Project Finance Semi-Annual'!Z118","v":0},{"$f":"'Project Finance Semi-Annual'!AA118","v":0},{"$f":"'Project Finance Semi-Annual'!AB118","v":0},{"$f":"'Project Finance Semi-Annual'!AC118","v":0},{"$f":"'Project Finance Semi-Annual'!AD118","v":0},{"$f":"'Project Finance Semi-Annual'!AE118","v":0},{"$f":"'Project Finance Semi-Annual'!AF118","v":0},{"$f":"'Project Finance Semi-Annual'!AG118","v":0},{"$f":"'Project Finance Semi-Annual'!AH118","v":0},{"$f":"'Project Finance Semi-Annual'!AI118","v":0},{"$f":"'Project Finance Semi-Annual'!AJ118","v":0},{"$f":"'Project Finance Semi-Annual'!AK118","v":0},{"$f":"'Project Finance Semi-Annual'!AL118","v":0},{"$f":"'Project Finance Semi-Annual'!AM118","v":0},{"$f":"'Project Finance Semi-Annual'!AN118","v":0},{"$f":"'Project Finance Semi-Annual'!AO118","v":0},{"$f":"'Project Finance Semi-Annual'!AP118","v":0},{"$f":"'Project Finance Semi-Annual'!AQ118","v":0},{"$f":"'Project Finance Semi-Annual'!AR118","v":0},{"$f":"'Project Finance Semi-Annual'!AS118","v":0},{"$f":"'Project Finance Semi-Annual'!AT118","v":0},{"$f":"'Project Finance Semi-Annual'!AU118","v":0},{"$f":"'Project Finance Semi-Annual'!AV118","v":0},{"$f":"'Project Finance Semi-Annual'!AW118","v":0},{"$f":"'Project Finance Semi-Annual'!AX118","v":0},{"$f":"'Project Finance Semi-Annual'!AY118","v":0},{"$f":"'Project Finance Semi-Annual'!AZ118","v":0},{"$f":"'Project Finance Semi-Annual'!BA118","v":0},{"$f":"'Project Finance Semi-Annual'!BB118","v":0},{"$f":"'Project Finance Semi-Annual'!BC118","v":0},{"$f":"'Project Finance Semi-Annual'!BD118","v":0},{"$f":"'Project Finance Semi-Annual'!BE118","v":0},{"$f":"'Project Finance Semi-Annual'!BF118","v":0},{"$f":"'Project Finance Semi-Annual'!BG118","v":0},{"$f":"'Project Finance Semi-Annual'!BH118","v":0},{"$f":"'Project Finance Semi-Annual'!BI118","v":0},{"$f":"'Project Finance Semi-Annual'!BJ118","v":0},{"$f":"'Project Finance Semi-Annual'!BK118","v":0},{"$f":"'Project Finance Semi-Annual'!BL118","v":0},{"$f":"'Project Finance Semi-Annual'!BM118","v":0},{"$f":"'Project Finance Semi-Annual'!BN118","v":0},{"$f":"'Project Finance Semi-Annual'!BO118","v":0},{"$f":"'Project Finance Semi-Annual'!BP118","v":0},{"$f":"'Project Finance Semi-Annual'!BQ118","v":0},{"$f":"'Project Finance Semi-Annual'!BR118","v":0},{"$f":"'Project Finance Semi-Annual'!BS118","v":0},{"$f":"'Project Finance Semi-Annual'!BT118","v":0},{"$f":"'Project Finance Semi-Annual'!BU118","v":0},{"$f":"'Project Finance Semi-Annual'!BV118","v":0},{"$f":"'Project Finance Semi-Annual'!BW118","v":0},{"$f":"'Project Finance Semi-Annual'!BX118","v":0},{"$f":"'Project Finance Semi-Annual'!BY118","v":0},{"$f":"'Project Finance Semi-Annual'!BZ118","v":0},{"$f":"'Project Finance Semi-Annual'!CA118","v":0},{"$f":"'Project Finance Semi-Annual'!CB118","v":0},{"$f":"'Project Finance Semi-Annual'!CC118","v":0},{"$f":"'Project Finance Semi-Annual'!CD118","v":0},{"$f":"'Project Finance Semi-Annual'!CE118","v":0},{"$f":"'Project Finance Semi-Annual'!CF118","v":0},{"$f":"'Project Finance Semi-Annual'!CG118","v":0},{"$f":"'Project Finance Semi-Annual'!CH118","v":0},{"$f":"'Project Finance Semi-Annual'!CI118","v":0},{"$f":"'Project Finance Semi-Annual'!CJ118","v":0},{"$f":"'Project Finance Semi-Annual'!CK118","v":0},{"$f":"'Project Finance Semi-Annual'!CL118","v":0},{"$f":"'Project Finance Semi-Annual'!CM118","v":0},{"$f":"'Project Finance Semi-Annual'!CN118","v":0},{"$f":"'Project Finance Semi-Annual'!CO118","v":0},{"$f":"'Project Finance Semi-Annual'!CP118","v":0},{"$f":"'Project Finance Semi-Annual'!CQ118","v":0},{"$f":"'Project Finance Semi-Annual'!CR118","v":0},{"$f":"'Project Finance Semi-Annual'!CS118","v":0},{"$f":"'Project Finance Semi-Annual'!CT118","v":0},{"$f":"'Project Finance Semi-Annual'!CU118","v":0},{"$f":"'Project Finance Semi-Annual'!CV118","v":0},{"$f":"'Project Finance Semi-Annual'!CW118","v":0}]
[null,null,"Dividends",null,null,null,"USD",null,null,{"$f":"J69","v":{"$error":"#N/A"}},{"$f":"K69","v":0},0,0,0,0,0,0,0,0,0,0,0,0,0,0,0,0,0,0,0,0,0,0,0,0,0,0,0,0,0,0,0,0,0,0,0,0,0,0,0,0,0,0,0,0,0,0,0,0,0,0,0,0,0,0,0,0,0,0,0,0,0,0,0,{"$f":"BW69","v":0},0,0,0,0,0,0,0,0,0,0,0,0,0,0,0,0,0,0,0,0,0,0,0]
[null,null,"CFADS",null,null,null,"USD",null,null,{"$f":"J58","v":{"$error":"#N/A"}},{"$f":"K58","v":0},0,0,0,0,0,0,0,0,0,0,0,0,0,0,0,0,0,0,0,0,0,0,0,0,0,0,0,0,0,0,0,0,0,0,0,0,0,0,0,0,0,0,0,0,0,0,0,0,0,0,0,0,0,0,0,0,0,0,0,0,0,0,0,{"$f":"BW58","v":0},0,0,0,0,0,0,0,0,0,0,0,0,0,0,0,0,0,0,0,0,0,0,0]
[null,null,"Debt Service",null,null,null,"USD",null,null,{"$f":"J60+J61","v":0},{"$f":"K60+K61","v":0},0,0,0,0,0,0,0,0,0,0,0,0,0,0,0,0,0,0,0,0,0,0,0,0,0,0,0,0,0,0,0,0,0,0,0,0,0,0,0,0,0,0,0,0,0,0,0,0,0,0,0,0,0,0,0,0,0,0,0,0,0,0,0,{"$f":"BW60+BW61","v":0},0,0,0,0,0,0,0,0,0,0,0,0,0,0,0,0,0,0,0,0,0,0,0]
[null,null,"Interest Rate Index",null,null,null,"Index",null,null,{"$f":"'Project Finance Semi-Annual'!M51","v":0},{"$f":"'Project Finance Semi-Annual'!N51","v":0},{"$f":"'Project Finance Semi-Annual'!O51","v":0},{"$f":"'Project Finance Semi-Annual'!P51","v":0},{"$f":"'Project Finance Semi-Annual'!Q51","v":0},{"$f":"'Project Finance Semi-Annual'!R51","v":0},{"$f":"'Project Finance Semi-Annual'!S51","v":0},{"$f":"'Project Finance Semi-Annual'!T51","v":0},{"$f":"'Project Finance Semi-Annual'!U51","v":0},{"$f":"'Project Finance Semi-Annual'!V51","v":0},{"$f":"'Project Finance Semi-Annual'!W51","v":0},{"$f":"'Project Finance Semi-Annual'!X51","v":0},{"$f":"'Project Finance Semi-Annual'!Y51","v":0},{"$f":"'Project Finance Semi-Annual'!Z51","v":0},{"$f":"'Project Finance Semi-Annual'!AA51","v":0},{"$f":"'Project Finance Semi-Annual'!AB51","v":0},{"$f":"'Project Finance Semi-Annual'!AC51","v":0},{"$f":"'Project Finance Semi-Annual'!AD51","v":0},{"$f":"'Project Finance Semi-Annual'!AE51","v":0},{"$f":"'Project Finance Semi-Annual'!AF51","v":0},{"$f":"'Project Finance Semi-Annual'!AG51","v":0},{"$f":"'Project Finance Semi-Annual'!AH51","v":0},{"$f":"'Project Finance Semi-Annual'!AI51","v":0},{"$f":"'Project Finance Semi-Annual'!AJ51","v":0},{"$f":"'Project Finance Semi-Annual'!AK51","v":0},{"$f":"'Project Finance Semi-Annual'!AL51","v":0},{"$f":"'Project Finance Semi-Annual'!AM51","v":0},{"$f":"'Project Finance Semi-Annual'!AN51","v":0},{"$f":"'Project Finance Semi-Annual'!AO51","v":0},{"$f":"'Project Finance Semi-Annual'!AP51","v":0},{"$f":"'Project Finance Semi-Annual'!AQ51","v":0},{"$f":"'Project Finance Semi-Annual'!AR51","v":0},{"$f":"'Project Finance Semi-Annual'!AS51","v":0},{"$f":"'Project Finance Semi-Annual'!AT51","v":0},{"$f":"'Project Finance Semi-Annual'!AU51","v":0},{"$f":"'Project Finance Semi-Annual'!AV51","v":0},{"$f":"'Project Finance Semi-Annual'!AW51","v":0},{"$f":"'Project Finance Semi-Annual'!AX51","v":0},{"$f":"'Project Finance Semi-Annual'!AY51","v":0},{"$f":"'Project Finance Semi-Annual'!AZ51","v":0},{"$f":"'Project Finance Semi-Annual'!BA51","v":0},{"$f":"'Project Finance Semi-Annual'!BB51","v":0},{"$f":"'Project Finance Semi-Annual'!BC51","v":0},{"$f":"'Project Finance Semi-Annual'!BD51","v":0},{"$f":"'Project Finance Semi-Annual'!BE51","v":0},{"$f":"'Project Finance Semi-Annual'!BF51","v":0},{"$f":"'Project Finance Semi-Annual'!BG51","v":0},{"$f":"'Project Finance Semi-Annual'!BH51","v":0},{"$f":"'Project Finance Semi-Annual'!BI51","v":0},{"$f":"'Project Finance Semi-Annual'!BJ51","v":0},{"$f":"'Project Finance Semi-Annual'!BK51","v":0},{"$f":"'Project Finance Semi-Annual'!BL51","v":0},{"$f":"'Project Finance Semi-Annual'!BM51","v":0},{"$f":"'Project Finance Semi-Annual'!BN51","v":0},{"$f":"'Project Finance Semi-Annual'!BO51","v":0},{"$f":"'Project Finance Semi-Annual'!BP51","v":0},{"$f":"'Project Finance Semi-Annual'!BQ51","v":0},{"$f":"'Project Finance Semi-Annual'!BR51","v":0},{"$f":"'Project Finance Semi-Annual'!BS51","v":0},{"$f":"'Project Finance Semi-Annual'!BT51","v":0},{"$f":"'Project Finance Semi-Annual'!BU51","v":0},{"$f":"'Project Finance Semi-Annual'!BV51","v":0},{"$f":"'Project Finance Semi-Annual'!BW51","v":0},{"$f":"'Project Finance Semi-Annual'!BX51","v":0},{"$f":"'Project Finance Semi-Annual'!BY51","v":0},{"$f":"'Project Finance Semi-Annual'!BZ51","v":0},{"$f":"'Project Finance Semi-Annual'!CA51","v":0},{"$f":"'Project Finance Semi-Annual'!CB51","v":0},{"$f":"'Project Finance Semi-Annual'!CC51","v":0},{"$f":"'Project Finance Semi-Annual'!CD51","v":0},{"$f":"'Project Finance Semi-Annual'!CE51","v":0},{"$f":"'Project Finance Semi-Annual'!CF51","v":0},{"$f":"'Project Finance Semi-Annual'!CG51","v":0},{"$f":"'Project Finance Semi-Annual'!CH51","v":0},{"$f":"'Project Finance Semi-Annual'!CI51","v":0},{"$f":"'Project Finance Semi-Annual'!CJ51","v":0},{"$f":"'Project Finance Semi-Annual'!CK51","v":0},{"$f":"'Project Finance Semi-Annual'!CL51","v":0},{"$f":"'Project Finance Semi-Annual'!CM51","v":0},{"$f":"'Project Finance Semi-Annual'!CN51","v":0},{"$f":"'Project Finance Semi-Annual'!CO51","v":0},{"$f":"'Project Finance Semi-Annual'!CP51","v":0},{"$f":"'Project Finance Semi-Annual'!CQ51","v":0},{"$f":"'Project Finance Semi-Annual'!CR51","v":0},{"$f":"'Project Finance Semi-Annual'!CS51","v":0},{"$f":"'Project Finance Semi-Annual'!CT51","v":0},{"$f":"'Project Finance Semi-Annual'!CU51","v":0},{"$f":"'Project Finance Semi-Annual'!CV51","v":0},{"$f":"'Project Finance Semi-Annual'!CW51","v":0}]
[null,null,"Repayment Flag",null,null,null,"Flag",null,null,{"$f":"'Project Finance Semi-Annual'!M53","v":0},{"$f":"'Project Finance Semi-Annual'!N53","v":0},{"$f":"'Project Finance Semi-Annual'!O53","v":0},{"$f":"'Project Finance Semi-Annual'!P53","v":0},{"$f":"'Project Finance Semi-Annual'!Q53","v":0},{"$f":"'Project Finance Semi-Annual'!R53","v":0},{"$f":"'Project Finance Semi-Annual'!S53","v":0},{"$f":"'Project Finance Semi-Annual'!T53","v":0},{"$f":"'Project Finance Semi-Annual'!U53","v":0},{"$f":"'Project Finance Semi-Annual'!V53","v":0},{"$f":"'Project Finance Semi-Annual'!W53","v":0},{"$f":"'Project Finance Semi-Annual'!X53","v":0},{"$f":"'Project Finance Semi-Annual'!Y53","v":0},{"$f":"'Project Finance Semi-Annual'!Z53","v":0},{"$f":"'Project Finance Semi-Annual'!AA53","v":0},{"$f":"'Project Finance Semi-Annual'!AB53","v":0},{"$f":"'Project Finance Semi-Annual'!AC53","v":0},{"$f":"'Project Finance Semi-Annual'!AD53","v":0},{"$f":"'Project Finance Semi-Annual'!AE53","v":0},{"$f":"'Project Finance Semi-Annual'!AF53","v":0},{"$f":"'Project Finance Semi-Annual'!AG53","v":0},{"$f":"'Project Finance Semi-Annual'!AH53","v":0},{"$f":"'Project Finance Semi-Annual'!AI53","v":0},{"$f":"'Project Finance Semi-Annual'!AJ53","v":0},{"$f":"'Project Finance Semi-Annual'!AK53","v":0},{"$f":"'Project Finance Semi-Annual'!AL53","v":0},{"$f":"'Project Finance Semi-Annual'!AM53","v":0},{"$f":"'Project Finance Semi-Annual'!AN53","v":0},{"$f":"'Project Finance Semi-Annual'!AO53","v":0},{"$f":"'Project Finance Semi-Annual'!AP53","v":0},{"$f":"'Project Finance Semi-Annual'!AQ53","v":0},{"$f":"'Project Finance Semi-Annual'!AR53","v":0},{"$f":"'Project Finance Semi-Annual'!AS53","v":0},{"$f":"'Project Finance Semi-Annual'!AT53","v":0},{"$f":"'Project Finance Semi-Annual'!AU53","v":0},{"$f":"'Project Finance Semi-Annual'!AV53","v":0},{"$f":"'Project Finance Semi-Annual'!AW53","v":0},{"$f":"'Project Finance Semi-Annual'!AX53","v":0},{"$f":"'Project Finance Semi-Annual'!AY53","v":0},{"$f":"'Project Finance Semi-Annual'!AZ53","v":0},{"$f":"'Project Finance Semi-Annual'!BA53","v":0},{"$f":"'Project Finance Semi-Annual'!BB53","v":0},{"$f":"'Project Finance Semi-Annual'!BC53","v":0},{"$f":"'Project Finance Semi-Annual'!BD53","v":0},{"$f":"'Project Finance Semi-Annual'!BE53","v":0},{"$f":"'Project Finance Semi-Annual'!BF53","v":0},{"$f":"'Project Finance Semi-Annual'!BG53","v":0},{"$f":"'Project Finance Semi-Annual'!BH53","v":0},{"$f":"'Project Finance Semi-Annual'!BI53","v":0},{"$f":"'Project Finance Semi-Annual'!BJ53","v":0},{"$f":"'Project Finance Semi-Annual'!BK53","v":0},{"$f":"'Project Finance Semi-Annual'!BL53","v":0},{"$f":"'Project Finance Semi-Annual'!BM53","v":0},{"$f":"'Project Finance Semi-Annual'!BN53","v":0},{"$f":"'Project Finance Semi-Annual'!BO53","v":0},{"$f":"'Project Finance Semi-Annual'!BP53","v":0},{"$f":"'Project Finance Semi-Annual'!BQ53","v":0},{"$f":"'Project Finance Semi-Annual'!BR53","v":0},{"$f":"'Project Finance Semi-Annual'!BS53","v":0},{"$f":"'Project Finance Semi-Annual'!BT53","v":0},{"$f":"'Project Finance Semi-Annual'!BU53","v":0},{"$f":"'Project Finance Semi-Annual'!BV53","v":0},{"$f":"'Project Finance Semi-Annual'!BW53","v":0},{"$f":"'Project Finance Semi-Annual'!BX53","v":0},{"$f":"'Project Finance Semi-Annual'!BY53","v":0},{"$f":"'Project Finance Semi-Annual'!BZ53","v":0},{"$f":"'Project Finance Semi-Annual'!CA53","v":0},{"$f":"'Project Finance Semi-Annual'!CB53","v":0},{"$f":"'Project Finance Semi-Annual'!CC53","v":0},{"$f":"'Project Finance Semi-Annual'!CD53","v":0},{"$f":"'Project Finance Semi-Annual'!CE53","v":0},{"$f":"'Project Finance Semi-Annual'!CF53","v":0},{"$f":"'Project Finance Semi-Annual'!CG53","v":0},{"$f":"'Project Finance Semi-Annual'!CH53","v":0},{"$f":"'Project Finance Semi-Annual'!CI53","v":0},{"$f":"'Project Finance Semi-Annual'!CJ53","v":0},{"$f":"'Project Finance Semi-Annual'!CK53","v":0},{"$f":"'Project Finance Semi-Annual'!CL53","v":0},{"$f":"'Project Finance Semi-Annual'!CM53","v":0},{"$f":"'Project Finance Semi-Annual'!CN53","v":0},{"$f":"'Project Finance Semi-Annual'!CO53","v":0},{"$f":"'Project Finance Semi-Annual'!CP53","v":0},{"$f":"'Project Finance Semi-Annual'!CQ53","v":0},{"$f":"'Project Finance Semi-Annual'!CR53","v":0},{"$f":"'Project Finance Semi-Annual'!CS53","v":0},{"$f":"'Project Finance Semi-Annual'!CT53","v":0},{"$f":"'Project Finance Semi-Annual'!CU53","v":0},{"$f":"'Project Finance Semi-Annual'!CV53","v":0},{"$f":"'Project Finance Semi-Annual'!CW53","v":0}]
[]
[]
[null,"Taxes"]
[null,null,"Age in Years",null,null,null,"Year",null,null,{"$f":"'Project Finance Semi-Annual'!M42","v":0},{"$f":"'Project Finance Semi-Annual'!N42","v":0},{"$f":"'Project Finance Semi-Annual'!O42","v":0},{"$f":"'Project Finance Semi-Annual'!P42","v":0},{"$f":"'Project Finance Semi-Annual'!Q42","v":0},{"$f":"'Project Finance Semi-Annual'!R42","v":0},{"$f":"'Project Finance Semi-Annual'!S42","v":0},{"$f":"'Project Finance Semi-Annual'!T42","v":0},{"$f":"'Project Finance Semi-Annual'!U42","v":0},{"$f":"'Project Finance Semi-Annual'!V42","v":0},{"$f":"'Project Finance Semi-Annual'!W42","v":0},{"$f":"'Project Finance Semi-Annual'!X42","v":0},{"$f":"'Project Finance Semi-Annual'!Y42","v":0},{"$f":"'Project Finance Semi-Annual'!Z42","v":0},{"$f":"'Project Finance Semi-Annual'!AA42","v":0},{"$f":"'Project Finance Semi-Annual'!AB42","v":0},{"$f":"'Project Finance Semi-Annual'!AC42","v":0},{"$f":"'Project Finance Semi-Annual'!AD42","v":0},{"$f":"'Project Finance Semi-Annual'!AE42","v":0},{"$f":"'Project Finance Semi-Annual'!AF42","v":0},{"$f":"'Project Finance Semi-Annual'!AG42","v":0},{"$f":"'Project Finance Semi-Annual'!AH42","v":0},{"$f":"'Project Finance Semi-Annual'!AI42","v":0},{"$f":"'Project Finance Semi-Annual'!AJ42","v":0},{"$f":"'Project Finance Semi-Annual'!AK42","v":0},{"$f":"'Project Finance Semi-Annual'!AL42","v":0},{"$f":"'Project Finance Semi-Annual'!AM42","v":0},{"$f":"'Project Finance Semi-Annual'!AN42","v":0},{"$f":"'Project Finance Semi-Annual'!AO42","v":0},{"$f":"'Project Finance Semi-Annual'!AP42","v":0},{"$f":"'Project Finance Semi-Annual'!AQ42","v":0},{"$f":"'Project Finance Semi-Annual'!AR42","v":0},{"$f":"'Project Finance Semi-Annual'!AS42","v":0},{"$f":"'Project Finance Semi-Annual'!AT42","v":0},{"$f":"'Project Finance Semi-Annual'!AU42","v":0},{"$f":"'Project Finance Semi-Annual'!AV42","v":0},{"$f":"'Project Finance Semi-Annual'!AW42","v":0},{"$f":"'Project Finance Semi-Annual'!AX42","v":0},{"$f":"'Project Finance Semi-Annual'!AY42","v":0},{"$f":"'Project Finance Semi-Annual'!AZ42","v":0},{"$f":"'Project Finance Semi-Annual'!BA42","v":0},{"$f":"'Project Finance Semi-Annual'!BB42","v":0},{"$f":"'Project Finance Semi-Annual'!BC42","v":0},{"$f":"'Project Finance Semi-Annual'!BD42","v":0},{"$f":"'Project Finance Semi-Annual'!BE42","v":0},{"$f":"'Project Finance Semi-Annual'!BF42","v":0},{"$f":"'Project Finance Semi-Annual'!BG42","v":0},{"$f":"'Project Finance Semi-Annual'!BH42","v":0},{"$f":"'Project Finance Semi-Annual'!BI42","v":0},{"$f":"'Project Finance Semi-Annual'!BJ42","v":0},{"$f":"'Project Finance Semi-Annual'!BK42","v":0},{"$f":"'Project Finance Semi-Annual'!BL42","v":0},{"$f":"'Project Finance Semi-Annual'!BM42","v":0},{"$f":"'Project Finance Semi-Annual'!BN42","v":0},{"$f":"'Project Finance Semi-Annual'!BO42","v":0},{"$f":"'Project Finance Semi-Annual'!BP42","v":0},{"$f":"'Project Finance Semi-Annual'!BQ42","v":0},{"$f":"'Project Finance Semi-Annual'!BR42","v":0},{"$f":"'Project Finance Semi-Annual'!BS42","v":0},{"$f":"'Project Finance Semi-Annual'!BT42","v":0},{"$f":"'Project Finance Semi-Annual'!BU42","v":0},{"$f":"'Project Finance Semi-Annual'!BV42","v":0},{"$f":"'Project Finance Semi-Annual'!BW42","v":0},{"$f":"'Project Finance Semi-Annual'!BX42","v":0},{"$f":"'Project Finance Semi-Annual'!BY42","v":0},{"$f":"'Project Finance Semi-Annual'!BZ42","v":0},{"$f":"'Project Finance Semi-Annual'!CA42","v":0},{"$f":"'Project Finance Semi-Annual'!CB42","v":0},{"$f":"'Project Finance Semi-Annual'!CC42","v":0},{"$f":"'Project Finance Semi-Annual'!CD42","v":0},{"$f":"'Project Finance Semi-Annual'!CE42","v":0},{"$f":"'Project Finance Semi-Annual'!CF42","v":0},{"$f":"'Project Finance Semi-Annual'!CG42","v":0},{"$f":"'Project Finance Semi-Annual'!CH42","v":0},{"$f":"'Project Finance Semi-Annual'!CI42","v":0},{"$f":"'Project Finance Semi-Annual'!CJ42","v":0},{"$f":"'Project Finance Semi-Annual'!CK42","v":0},{"$f":"'Project Finance Semi-Annual'!CL42","v":0},{"$f":"'Project Finance Semi-Annual'!CM42","v":0},{"$f":"'Project Finance Semi-Annual'!CN42","v":0},{"$f":"'Project Finance Semi-Annual'!CO42","v":0},{"$f":"'Project Finance Semi-Annual'!CP42","v":0},{"$f":"'Project Finance Semi-Annual'!CQ42","v":0},{"$f":"'Project Finance Semi-Annual'!CR42","v":0},{"$f":"'Project Finance Semi-Annual'!CS42","v":0},{"$f":"'Project Finance Semi-Annual'!CT42","v":0},{"$f":"'Project Finance Semi-Annual'!CU42","v":0},{"$f":"'Project Finance Semi-Annual'!CV42","v":0},{"$f":"'Project Finance Semi-Annual'!CW42","v":0},{"$f":"'Project Finance Semi-Annual'!CV42","v":0},{"$f":"'Project Finance Semi-Annual'!CW42","v":0},{"$f":"'Project Finance Semi-Annual'!CX42","v":0}]
[null,null,"Annual Depreciation Rate",null,null,null,"%",null,null,{"$f":"LOOKUP(J28,InputS!46:46,InputS!47:47)","v":0},{"$f":"LOOKUP(K28,InputS!46:46,InputS!47:47)","v":0},{"$f":"LOOKUP(L28,InputS!46:46,InputS!47:47)","v":0},{"$f":"LOOKUP(M28,InputS!46:46,InputS!47:47)","v":0},{"$f":"LOOKUP(N28,InputS!46:46,InputS!47:47)","v":0},{"$f":"LOOKUP(O28,InputS!46:46,InputS!47:47)","v":0},{"$f":"LOOKUP(P28,InputS!46:46,InputS!47:47)","v":0},{"$f":"LOOKUP(Q28,InputS!46:46,InputS!47:47)","v":0},{"$f":"LOOKUP(R28,InputS!46:46,InputS!47:47)","v":0},{"$f":"LOOKUP(S28,InputS!46:46,InputS!47:47)","v":0},{"$f":"LOOKUP(T28,InputS!46:46,InputS!47:47)","v":0},{"$f":"LOOKUP(U28,InputS!46:46,InputS!47:47)","v":0},{"$f":"LOOKUP(V28,InputS!46:46,InputS!47:47)","v":0},{"$f":"LOOKUP(W28,InputS!46:46,InputS!47:47)","v":0},{"$f":"LOOKUP(X28,InputS!46:46,InputS!47:47)","v":0},{"$f":"LOOKUP(Y28,InputS!46:46,InputS!47:47)","v":0},{"$f":"LOOKUP(Z28,InputS!46:46,InputS!47:47)","v":0},{"$f":"LOOKUP(AA28,InputS!46:46,InputS!47:47)","v":0},{"$f":"LOOKUP(AB28,InputS!46:46,InputS!47:47)","v":0},{"$f":"LOOKUP(AC28,InputS!46:46,InputS!47:47)","v":0},{"$f":"LOOKUP(AD28,InputS!46:46,InputS!47:47)","v":0},{"$f":"LOOKUP(AE28,InputS!46:46,InputS!47:47)","v":0},{"$f":"LOOKUP(AF28,InputS!46:46,InputS!47:47)","v":0},{"$f":"LOOKUP(AG28,InputS!46:46,InputS!47:47)","v":0},{"$f":"LOOKUP(AH28,InputS!46:46,InputS!47:47)","v":0},{"$f":"LOOKUP(AI28,InputS!46:46,InputS!47:47)","v":0},{"$f":"LOOKUP(AJ28,InputS!46:46,InputS!47:47)","v":0},{"$f":"LOOKUP(AK28,InputS!46:46,InputS!47:47)","v":0},{"$f":"LOOKUP(AL28,InputS!46:46,InputS!47:47)","v":0},{"$f":"LOOKUP(AM28,InputS!46:46,InputS!47:47)","v":0},{"$f":"LOOKUP(AN28,InputS!46:46,InputS!47:47)","v":0},{"$f":"LOOKUP(AO28,InputS!46:46,InputS!47:47)","v":0},{"$f":"LOOKUP(AP28,InputS!46:46,InputS!47:47)","v":0},{"$f":"LOOKUP(AQ28,InputS!46:46,InputS!47:47)","v":0},{"$f":"LOOKUP(AR28,InputS!46:46,InputS!47:47)","v":0},{"$f":"LOOKUP(AS28,InputS!46:46,InputS!47:47)","v":0},{"$f":"LOOKUP(AT28,InputS!46:46,InputS!47:47)","v":0},{"$f":"LOOKUP(AU28,InputS!46:46,InputS!47:47)","v":0},{"$f":"LOOKUP(AV28,InputS!46:46,InputS!47:47)","v":0},{"$f":"LOOKUP(AW28,InputS!46:46,InputS!47:47)","v":0},{"$f":"LOOKUP(AX28,InputS!46:46,InputS!47:47)","v":0},{"$f":"LOOKUP(AY28,InputS!46:46,InputS!47:47)","v":0},{"$f":"LOOKUP(AZ28,InputS!46:46,InputS!47:47)","v":0},{"$f":"LOOKUP(BA28,InputS!46:46,InputS!47:47)","v":0},{"$f":"LOOKUP(BB28,InputS!46:46,InputS!47:47)","v":0},{"$f":"LOOKUP(BC28,InputS!46:46,InputS!47:47)","v":0},{"$f":"LOOKUP(BD28,InputS!46:46,InputS!47:47)","v":0},{"$f":"LOOKUP(BE28,InputS!46:46,InputS!47:47)","v":0},{"$f":"LOOKUP(BF28,InputS!46:46,InputS!47:47)","v":0},{"$f":"LOOKUP(BG28,InputS!46:46,InputS!47:47)","v":0},{"$f":"LOOKUP(BH28,InputS!46:46,InputS!47:47)","v":0},{"$f":"LOOKUP(BI28,InputS!46:46,InputS!47:47)","v":0},{"$f":"LOOKUP(BJ28,InputS!46:46,InputS!47:47)","v":0},{"$f":"LOOKUP(BK28,InputS!46:46,InputS!47:47)","v":0},{"$f":"LOOKUP(BL28,InputS!46:46,InputS!47:47)","v":0},{"$f":"LOOKUP(BM28,InputS!46:46,InputS!47:47)","v":0},{"$f":"LOOKUP(BN28,InputS!46:46,InputS!47:47)","v":0},{"$f":"LOOKUP(BO28,InputS!46:46,InputS!47:47)","v":0},{"$f":"LOOKUP(BP28,InputS!46:46,InputS!47:47)","v":0},{"$f":"LOOKUP(BQ28,InputS!46:46,InputS!47:47)","v":0},{"$f":"LOOKUP(BR28,InputS!46:46,InputS!47:47)","v":0},{"$f":"LOOKUP(BS28,InputS!46:46,InputS!47:47)","v":0},{"$f":"LOOKUP(BT28,InputS!46:46,InputS!47:47)","v":0},{"$f":"LOOKUP(BU28,InputS!46:46,InputS!47:47)","v":0},{"$f":"LOOKUP(BV28,InputS!46:46,InputS!47:47)","v":0},{"$f":"LOOKUP(BW28,InputS!46:46,InputS!47:47)","v":0},{"$f":"LOOKUP(BX28,InputS!46:46,InputS!47:47)","v":0},{"$f":"LOOKUP(BY28,InputS!46:46,InputS!47:47)","v":0},{"$f":"LOOKUP(BZ28,InputS!46:46,InputS!47:47)","v":0},{"$f":"LOOKUP(CA28,InputS!46:46,InputS!47:47)","v":0},{"$f":"LOOKUP(CB28,InputS!46:46,InputS!47:47)","v":0},{"$f":"LOOKUP(CC28,InputS!46:46,InputS!47:47)","v":0},{"$f":"LOOKUP(CD28,InputS!46:46,InputS!47:47)","v":0},{"$f":"LOOKUP(CE28,InputS!46:46,InputS!47:47)","v":0},{"$f":"LOOKUP(CF28,InputS!46:46,InputS!47:47)","v":0},{"$f":"LOOKUP(CG28,InputS!46:46,InputS!47:47)","v":0},{"$f":"LOOKUP(CH28,InputS!46:46,InputS!47:47)","v":0},{"$f":"LOOKUP(CI28,InputS!46:46,InputS!47:47)","v":0},{"$f":"LOOKUP(CJ28,InputS!46:46,InputS!47:47)","v":0},{"$f":"LOOKUP(CK28,InputS!46:46,InputS!47:47)","v":0},{"$f":"LOOKUP(CL28,InputS!46:46,InputS!47:47)","v":0},{"$f":"LOOKUP(CM28,InputS!46:46,InputS!47:47)","v":0},{"$f":"LOOKUP(CN28,InputS!46:46,InputS!47:47)","v":0},{"$f":"LOOKUP(CO28,InputS!46:46,InputS!47:47)","v":0},{"$f":"LOOKUP(CP28,InputS!46:46,InputS!47:47)","v":0},{"$f":"LOOKUP(CQ28,InputS!46:46,InputS!47:47)","v":0},{"$f":"LOOKUP(CR28,InputS!46:46,InputS!47:47)","v":0},{"$f":"LOOKUP(CS28,InputS!46:46,InputS!47:47)","v":0},{"$f":"LOOKUP(CT28,InputS!46:46,InputS!47:47)","v":0},{"$f":"LOOKUP(CU28,InputS!46:46,InputS!47:47)","v":0},{"$f":"LOOKUP(CV28,InputS!46:46,InputS!47:47)","v":0},{"$f":"LOOKUP(CW28,InputS!46:46,InputS!47:47)","v":0}]
[null,null,"Semi-Annual Depreciation Rate",null,null,null,"%",null,null,{"$f":"J29/Semi","v":0},{"$f":"K29/Semi","v":0},{"$f":"L29/Semi","v":0},{"$f":"M29/Semi","v":0},{"$f":"N29/Semi","v":0},{"$f":"O29/Semi","v":0},{"$f":"P29/Semi","v":0},{"$f":"Q29/Semi","v":0},{"$f":"R29/Semi","v":0},{"$f":"S29/Semi","v":0},{"$f":"T29/Semi","v":0},{"$f":"U29/Semi","v":0},{"$f":"V29/Semi","v":0},{"$f":"W29/Semi","v":0},{"$f":"X29/Semi","v":0},{"$f":"Y29/Semi","v":0},{"$f":"Z29/Semi","v":0},{"$f":"AA29/Semi","v":0},{"$f":"AB29/Semi","v":0},{"$f":"AC29/Semi","v":0},{"$f":"AD29/Semi","v":0},{"$f":"AE29/Semi","v":0},{"$f":"AF29/Semi","v":0},{"$f":"AG29/Semi","v":0},{"$f":"AH29/Semi","v":0},{"$f":"AI29/Semi","v":0},{"$f":"AJ29/Semi","v":0},{"$f":"AK29/Semi","v":0},{"$f":"AL29/Semi","v":0},{"$f":"AM29/Semi","v":0},{"$f":"AN29/Semi","v":0},{"$f":"AO29/Semi","v":0},{"$f":"AP29/Semi","v":0},{"$f":"AQ29/Semi","v":0},{"$f":"AR29/Semi","v":0},{"$f":"AS29/Semi","v":0},{"$f":"AT29/Semi","v":0},{"$f":"AU29/Semi","v":0},{"$f":"AV29/Semi","v":0},{"$f":"AW29/Semi","v":0},{"$f":"AX29/Semi","v":0},{"$f":"AY29/Semi","v":0},{"$f":"AZ29/Semi","v":0},{"$f":"BA29/Semi","v":0},{"$f":"BB29/Semi","v":0},{"$f":"BC29/Semi","v":0},{"$f":"BD29/Semi","v":0},{"$f":"BE29/Semi","v":0},{"$f":"BF29/Semi","v":0},{"$f":"BG29/Semi","v":0},{"$f":"BH29/Semi","v":0},{"$f":"BI29/Semi","v":0},{"$f":"BJ29/Semi","v":0},{"$f":"BK29/Semi","v":0},{"$f":"BL29/Semi","v":0},{"$f":"BM29/Semi","v":0},{"$f":"BN29/Semi","v":0},{"$f":"BO29/Semi","v":0},{"$f":"BP29/Semi","v":0},{"$f":"BQ29/Semi","v":0},{"$f":"BR29/Semi","v":0},{"$f":"BS29/Semi","v":0},{"$f":"BT29/Semi","v":0},{"$f":"BU29/Semi","v":0},{"$f":"BV29/Semi","v":0},{"$f":"BW29/Semi","v":0},{"$f":"BX29/Semi","v":0},{"$f":"BY29/Semi","v":0},{"$f":"BZ29/Semi","v":0},{"$f":"CA29/Semi","v":0},{"$f":"CB29/Semi","v":0},{"$f":"CC29/Semi","v":0},{"$f":"CD29/Semi","v":0},{"$f":"CE29/Semi","v":0},{"$f":"CF29/Semi","v":0},{"$f":"CG29/Semi","v":0},{"$f":"CH29/Semi","v":0},{"$f":"CI29/Semi","v":0},{"$f":"CJ29/Semi","v":0},{"$f":"CK29/Semi","v":0},{"$f":"CL29/Semi","v":0},{"$f":"CM29/Semi","v":0},{"$f":"CN29/Semi","v":0},{"$f":"CO29/Semi","v":0},{"$f":"CP29/Semi","v":0},{"$f":"CQ29/Semi","v":0},{"$f":"CR29/Semi","v":0},{"$f":"CS29/Semi","v":0},{"$f":"CT29/Semi","v":0},{"$f":"CU29/Semi","v":0},{"$f":"CV29/Semi","v":0},{"$f":"CW29/Semi","v":0}]
[null,null,"Depreciation Base",null,null,{"$f":"'Project Finance Semi-Annual'!I77-'Project Finance Semi-Annual'!I76","v":3600000},"USD",null,null,{"$f":"$F$31","v":3600000},{"$f":"$F$31","v":3600000},3600000,3600000,3600000,3600000,3600000,3600000,3600000,3600000,3600000,3600000,3600000,3600000,3600000,3600000,3600000,3600000,3600000,3600000,3600000,3600000,3600000,3600000,3600000,3600000,3600000,3600000,3600000,3600000,3600000,3600000,3600000,3600000,3600000,3600000,3600000,3600000,3600000,3600000,3600000,3600000,3600000,3600000,3600000,3600000,3600000,3600000,3600000,3600000,3600000,3600000,3600000,3600000,3600000,3600000,3600000,3600000,3600000,3600000,3600000,3600000,3600000,3600000,3600000,{"$f":"$F$31","v":3600000},3600000,3600000,3600000,3600000,3600000,3600000,3600000,3600000,3600000,3600000,3600000,3600000,3600000,3600000,3600000,3600000,3600000,3600000,3600000,3600000,3600000,3600000,3600000,3600000,3600000,3600000]
[null,null,"Depreciation ",null,null,null,"USD",{"$f":"SUM(L32:XFD32)","v":0},{"$f":"H32=F31","v":false},{"$f":"J31*J30","v":0},{"$f":"K31*K30","v":0},0,0,0,0,0,0,0,0,0,0,0,0,0,0,0,0,0,0,0,0,0,0,0,0,0,0,0,0,0,0,0,0,0,0,0,0,0,0,0,0,0,0,0,0,0,0,0,0,0,0,0,0,0,0,0,0,0,0,0,0,0,0,0,{"$f":"BW31*BW30","v":0},0,0,0,0,0,0,0,0,0,0,0,0,0,0,0,0,0,0,0,0,0,0,0,0,0,0]
[]
[null,null,"Base for Financing Items",null,null,{"$f":"'Project Finance Semi-Annual'!I72+'Project Finance Semi-Annual'!I73+'Project Finance Semi-Annual'!I74","v":0},"USD",null,null,{"$f":"$F$34","v":0},{"$f":"$F$34","v":0},0,0,0,0,0,0,0,0,0,0,0,0,0,0,0,0,0,0,0,0,0,0,0,0,0,0,0,0,0,0,0,0,0,0,0,0,0,0,0,0,0,0,0,0,0,0,0,0,0,0,0,0,0,0,0,0,0,0,0,0,0,0,0,{"$f":"$F$34","v":0},0,0,0,0,0,0,0,0,0,0,0,0,0,0,0,0,0,0,0,0,0,0,0,0,0,0]
[null,null,"Depreciation on Financing Items",null,null,null,"USD",{"$f":"SUM(J35:XFD35)","v":0},null,{"$f":"J34*J30","v":0},{"$f":"K34*K30","v":0},0,0,0,0,0,0,0,0,0,0,0,0,0,0,0,0,0,0,0,0,0,0,0,0,0,0,0,0,0,0,0,0,0,0,0,0,0,0,0,0,0,0,0,0,0,0,0,0,0,0,0,0,0,0,0,0,0,0,0,0,0,0,0,{"$f":"BW34*BW30","v":0},0,0,0,0,0,0,0,0,0,0,0,0,0,0,0,0,0,0,0,0,0,0,0,0,0,0]
[null,null,"Total Depreciation",null,null,null,"USD",{"$f":"SUM(J36:XFD36)","v":0},null,{"$f":"J35+J32","v":0},{"$f":"K35+K32","v":0},0,0,0,0,0,0,0,0,0,0,0,0,0,0,0,0,0,0,0,0,0,0,0,0,0,0,0,0,0,0,0,0,0,0,0,0,0,0,0,0,0,0,0,0,0,0,0,0,0,0,0,0,0,0,0,0,0,0,0,0,0,0,0,{"$f":"BW35+BW32","v":0},0,0,0,0,0,0,0,0,0,0,0,0,0,0,0,0,0,0,0,0,0,0,0,0,0,0]
[]
[null,null,"EBITDA",null,null,null,"USD",{"$f":"SUM(L38:XFD38)","v":0},null,{"$f":"'Project Finance Semi-Annual'!M34","v":0},{"$f":"'Project Finance Semi-Annual'!N34","v":0},{"$f":"'Project Finance Semi-Annual'!O34","v":0},{"$f":"'Project Finance Semi-Annual'!P34","v":0},{"$f":"'Project Finance Semi-Annual'!Q34","v":0},{"$f":"'Project Finance Semi-Annual'!R34","v":0},{"$f":"'Project Finance Semi-Annual'!S34","v":0},{"$f":"'Project Finance Semi-Annual'!T34","v":0},{"$f":"'Project Finance Semi-Annual'!U34","v":0},{"$f":"'Project Finance Semi-Annual'!V34","v":0},{"$f":"'Project Finance Semi-Annual'!W34","v":0},{"$f":"'Project Finance Semi-Annual'!X34","v":0},{"$f":"'Project Finance Semi-Annual'!Y34","v":0},{"$f":"'Project Finance Semi-Annual'!Z34","v":0},{"$f":"'Project Finance Semi-Annual'!AA34","v":0},{"$f":"'Project Finance Semi-Annual'!AB34","v":0},{"$f":"'Project Finance Semi-Annual'!AC34","v":0},{"$f":"'Project Finance Semi-Annual'!AD34","v":0},{"$f":"'Project Finance Semi-Annual'!AE34","v":0},{"$f":"'Project Finance Semi-Annual'!AF34","v":0},{"$f":"'Project Finance Semi-Annual'!AG34","v":0},{"$f":"'Project Finance Semi-Annual'!AH34","v":0},{"$f":"'Project Finance Semi-Annual'!AI34","v":0},{"$f":"'Project Finance Semi-Annual'!AJ34","v":0},{"$f":"'Project Finance Semi-Annual'!AK34","v":0},{"$f":"'Project Finance Semi-Annual'!AL34","v":0},{"$f":"'Project Finance Semi-Annual'!AM34","v":0},{"$f":"'Project Finance Semi-Annual'!AN34","v":0},{"$f":"'Project Finance Semi-Annual'!AO34","v":0},{"$f":"'Project Finance Semi-Annual'!AP34","v":0},{"$f":"'Project Finance Semi-Annual'!AQ34","v":0},{"$f":"'Project Finance Semi-Annual'!AR34","v":0},{"$f":"'Project Finance Semi-Annual'!AS34","v":0},{"$f":"'Project Finance Semi-Annual'!AT34","v":0},{"$f":"'Project Finance Semi-Annual'!AU34","v":0},{"$f":"'Project Finance Semi-Annual'!AV34","v":0},{"$f":"'Project Finance Semi-Annual'!AW34","v":0},{"$f":"'Project Finance Semi-Annual'!AX34","v":0},{"$f":"'Project Finance Semi-Annual'!AY34","v":0},{"$f":"'Project Finance Semi-Annual'!AZ34","v":0},{"$f":"'Project Finance Semi-Annual'!BA34","v":0},{"$f":"'Project Finance Semi-Annual'!BB34","v":0},{"$f":"'Project Finance Semi-Annual'!BC34","v":0},{"$f":"'Project Finance Semi-Annual'!BD34","v":0},{"$f":"'Project Finance Semi-Annual'!BE34","v":0},{"$f":"'Project Finance Semi-Annual'!BF34","v":0},{"$f":"'Project Finance Semi-Annual'!BG34","v":0},{"$f":"'Project Finance Semi-Annual'!BH34","v":0},{"$f":"'Project Finance Semi-Annual'!BI34","v":0},{"$f":"'Project Finance Semi-Annual'!BJ34","v":0},{"$f":"'Project Finance Semi-Annual'!BK34","v":0},{"$f":"'Project Finance Semi-Annual'!BL34","v":0},{"$f":"'Project Finance Semi-Annual'!BM34","v":0},{"$f":"'Project Finance Semi-Annual'!BN34","v":0},{"$f":"'Project Finance Semi-Annual'!BO34","v":0},{"$f":"'Project Finance Semi-Annual'!BP34","v":0},{"$f":"'Project Finance Semi-Annual'!BQ34","v":0},{"$f":"'Project Finance Semi-Annual'!BR34","v":0},{"$f":"'Project Finance Semi-Annual'!BS34","v":0},{"$f":"'Project Finance Semi-Annual'!BT34","v":0},{"$f":"'Project Finance Semi-Annual'!BU34","v":0},{"$f":"'Project Finance Semi-Annual'!BV34","v":0},{"$f":"'Project Finance Semi-Annual'!BW34","v":0},{"$f":"'Project Finance Semi-Annual'!BX34","v":0},{"$f":"'Project Finance Semi-Annual'!BY34","v":0},{"$f":"'Project Finance Semi-Annual'!BZ34","v":0},{"$f":"'Project Finance Semi-Annual'!CA34","v":0},{"$f":"'Project Finance Semi-Annual'!CB34","v":0},{"$f":"'Project Finance Semi-Annual'!CC34","v":0},{"$f":"'Project Finance Semi-Annual'!CD34","v":0},{"$f":"'Project Finance Semi-Annual'!CE34","v":0},{"$f":"'Project Finance Semi-Annual'!CF34","v":0},{"$f":"'Project Finance Semi-Annual'!CG34","v":0},{"$f":"'Project Finance Semi-Annual'!CH34","v":0},{"$f":"'Project Finance Semi-Annual'!CI34","v":0},{"$f":"'Project Finance Semi-Annual'!CJ34","v":0},{"$f":"'Project Finance Semi-Annual'!CK34","v":0},{"$f":"'Project Finance Semi-Annual'!CL34","v":0},{"$f":"'Project Finance Semi-Annual'!CM34","v":0},{"$f":"'Project Finance Semi-Annual'!CN34","v":0},{"$f":"'Project Finance Semi-Annual'!CO34","v":0},{"$f":"'Project Finance Semi-Annual'!CP34","v":0},{"$f":"'Project Finance Semi-Annual'!CQ34","v":0},{"$f":"'Project Finance Semi-Annual'!CR34","v":0},{"$f":"'Project Finance Semi-Annual'!CS34","v":0},{"$f":"'Project Finance Semi-Annual'!CT34","v":0},{"$f":"'Project Finance Semi-Annual'!CU34","v":0},{"$f":"'Project Finance Semi-Annual'!CV34","v":0},{"$f":"'Project Finance Semi-Annual'!CW34","v":0},{"$f":"'Project Finance Semi-Annual'!CX34","v":0},{"$f":"'Project Finance Semi-Annual'!CY34","v":0},{"$f":"'Project Finance Semi-Annual'!CZ34","v":0}]
[null,null,"Less: Tax Depreciation",null,null,null,"USD",{"$f":"SUM(L39:XFD39)","v":0},null,{"$f":"J32","v":0},{"$f":"K32","v":0},0,0,0,0,0,0,0,0,0,0,0,0,0,0,0,0,0,0,0,0,0,0,0,0,0,0,0,0,0,0,0,0,0,0,0,0,0,0,0,0,0,0,0,0,0,0,0,0,0,0,0,0,0,0,0,0,0,0,0,0,0,0,0,{"$f":"BW32","v":0},0,0,0,0,0,0,0,0,0,0,0,0,0,0,0,0,0,0,0,0,0,0,0,0,0,0]
[null,null,"Less: Interest on Senior Debt",null,null,null,"USD"]
[null,null,"Less: Interest on SHL Debt",null,null,null,"USD"]
[null,null,"EBT Before NOL",null,null,null,"USD",{"$f":"SUM(L42:XFD42)","v":0},null,{"$f":"J38-J39-J40-J41","v":0},0,0,0,0,0,0,0,0,0,0,0,0,0,0,0,0,0,0,0,0,0,0,0,0,0,0,0,0,0,0,0,{"$f":"AP38-AP39-AP40-AP41","v":0},0,0,0,0,0,0,0,0,0,0,0,0,0,0,0,0,0,0,0,0,0,0,0,0,0,0,0,0,0,0,0,{"$f":"BV38-BV39-BV40-BV41","v":0},0,0,0,0,0,0,0,0,0,0,0,0,0,0,0,0,0,0,0,0,0,0,0,0,0,0,0]
[]
[null,null,"NOL Opening Balance",null,null,null,"USD",null,null,{"$f":"I47","v":0},{"$f":"J47","v":0},0,0,0,0,0,0,0,0,0,0,0,0,0,0,0,0,0,0,0,0,0,0,0,0,0,0,0,0,0,0,0,0,0,0,0,0,0,0,0,0,0,0,0,0,0,0,0,0,0,0,0,0,0,0,0,0,0,0,0,0,0,0,0,{"$f":"BV47","v":0},0,0,0,0,0,0,0,0,0,0,0,0,0,0,0,0,0,0,0,0,0,0,0,0,0,0]
[null,null,"Add: NOL Generated",null,null,null,"USD",null,null,{"$f":"MAX(-J42,0)","v":0},{"$f":"MAX(-K42,0)","v":0},0,0,0,0,0,0,0,0,0,0,0,0,0,0,0,0,0,0,0,0,0,0,0,0,0,0,0,0,0,0,0,0,0,0,0,0,0,0,0,0,0,0,0,0,0,0,0,0,0,0,0,0,0,0,0,0,0,0,0,0,0,0,0,{"$f":"MAX(-BW42,0)","v":0},0,0,0,0,0,0,0,0,0,0,0,0,0,0,0,0,0,0,0,0,0,0,0,0,0,0]
[null,null,"Less: NOL Used",null,null,null,"USD",null,null,{"$f":"MIN(J44,MAX(J42,0))","v":0},{"$f":"MIN(K44,MAX(K42,0))","v":0},0,0,0,0,0,0,0,0,0,0,0,0,0,0,0,0,0,0,0,0,0,0,0,0,0,0,0,0,0,0,0,0,0,0,0,0,0,0,0,0,0,0,0,0,0,0,0,0,0,0,0,0,0,0,0,0,0,0,0,0,0,0,0,{"$f":"MIN(BW44,MAX(BW42,0))","v":0},0,0,0,0,0,0,0,0,0,0,0,0,0,0,0,0,0,0,0,0,0,0,0,0,0,0]
[null,null,"NOL Closing Balance",null,null,null,"USD",null,null,{"$f":"J44+J45-J46","v":0},{"$f":"K44+K45-K46","v":0},0,0,0,0,0,0,0,0,0,0,0,0,0,0,0,0,0,0,0,0,0,0,0,0,0,0,0,0,0,0,0,0,0,0,0,0,0,0,0,0,0,0,0,0,0,0,0,0,0,0,0,0,0,0,0,0,0,0,0,0,0,0,0,{"$f":"BW44+BW45-BW46","v":0},0,0,0,0,0,0,0,0,0,0,0,0,0,0,0,0,0,0,0,0,0,0,0,0,0,0]
[]
[null,null,"Adjusted EBT for NOL",null,null,null,"USD",null,null,{"$f":"J42+J45-J46","v":0},{"$f":"K42+K45-K46","v":0},0,0,0,0,0,0,0,0,0,0,0,0,0,0,0,0,0,0,0,0,0,0,0,0,0,0,0,0,0,0,0,0,0,0,0,0,0,0,0,0,0,0,0,0,0,0,0,0,0,0,0,0,0,0,0,0,0,0,0,0,0,0,0,{"$f":"BW42+BW45-BW46","v":0},0,0,0,0,0,0,0,0,0,0,0,0,0,0,0,0,0,0,0,0,0,0,0,0,0,0]
[]
[null,null,{"$f":"'InputC - Operations'!D62","v":"Tax Rate"},null,null,{"$f":"'InputC - Operations'!E62","v":0.21},{"$f":"'InputC - Operations'!F62","v":"%"},null,null,{"$f":"$F$51","v":0.21},{"$f":"$F$51","v":0.21},0.21,0.21,0.21,0.21,0.21,0.21,0.21,0.21,0.21,0.21,0.21,0.21,0.21,0.21,0.21,0.21,0.21,0.21,0.21,0.21,0.21,0.21,0.21,0.21,0.21,0.21,0.21,0.21,0.21,0.21,0.21,0.21,0.21,0.21,0.21,0.21,0.21,0.21,0.21,0.21,0.21,0.21,0.21,0.21,0.21,0.21,0.21,0.21,0.21,0.21,0.21,0.21,0.21,0.21,0.21,0.21,0.21,0.21,0.21,0.21,0.21,0.21,0.21,{"$f":"$F$51","v":0.21},0.21,0.21,0.21,0.21,0.21,0.21,0.21,0.21,0.21,0.21,0.21,0.21,0.21,0.21,0.21,0.21,0.21,0.21,0.21,0.21,0.21,0.21,0.21,0.21,0.21,0.21]
[null,null,"Income Taxes",null,null,null,"USD",null,null,{"$f":"J51*J49","v":0},{"$f":"K51*K49","v":0},0,0,0,0,0,0,0,0,0,0,0,0,0,0,0,0,0,0,0,0,0,0,0,0,0,0,0,0,0,0,0,0,0,0,0,0,0,0,0,0,0,0,0,0,0,0,0,0,0,0,0,0,0,0,0,0,0,0,0,0,0,0,0,{"$f":"BW51*BW49","v":0},0,0,0,0,0,0,0,0,0,0,0,0,0,0,0,0,0,0,0,0,0,0,0,0,0,0]
[]
[null,"Cash Flow Waterfall (Positive Number Convention)"]
[null,null,"EBITDA",null,null,null,"USD",null,null,{"$f":"J11","v":0},0,0,0,0,0,0,0,0,0,0,0,0,0,0,0,0,0,0,0,0,0,0,0,0,0,0,0,0,0,0,0,{"$f":"AP11","v":0},0,0,0,0,0,0,0,0,0,0,0,0,0,0,0,0,0,0,0,0,0,0,0,0,0,0,0,0,0,0,0,{"$f":"BV11","v":0},0,0,0,0,0,0,0,0,0,0,0,0,0,0,0,0,0,0,0,0,0,0,0,0,0,0,0]
[null,null,"Less: Working Captital Changes",null,null,null,"USD",null,null,{"$f":"J12","v":{"$error":"#N/A"}},0,0,0,0,0,0,0,0,0,0,0,0,0,0,0,0,0,0,0,0,0,0,0,0,0,0,0,0,0,0,0,{"$f":"AP12","v":0},0,0,0,0,0,0,0,0,0,0,0,0,0,0,0,0,0,0,0,0,0,0,0,0,0,0,0,0,0,0,0,{"$f":"BV12","v":0},0,0,0,0,0,0,0,0,0,0,0,0,0,0,0,0,0,0,0,0,0,0,0,0,0,0,0]
[null,null,"Less: Taxes",null,null,null,"USD",null,null,{"$f":"J52","v":0},0,0,0,0,0,0,0,0,0,0,0,0,0,0,0,0,0,0,0,0,0,0,0,0,0,0,0,0,0,0,0,{"$f":"AP52","v":0},0,0,0,0,0,0,0,0,0,0,0,0,0,0,0,0,0,0,0,0,0,0,0,0,0,0,0,0,0,0,0,{"$f":"BV52","v":0},0,0,0,0,0,0,0,0,0,0,0,0,0,0,0,0,0,0,0,0,0,0,0,0,0,0,0]
[null,null,"CFADS",null,null,null,"USD",null,null,{"$f":"J55-J56-J57","v":{"$error":"#N/A"}},{"$f":"K55-K56-K57","v":0},0,0,0,0,0,0,0,0,0,0,0,0,0,0,0,0,0,0,0,0,0,0,0,0,0,0,0,0,0,0,0,0,0,0,0,0,0,0,0,0,0,0,0,0,0,0,0,0,0,0,0,0,0,0,0,0,0,0,0,0,0,0,0,{"$f":"BW55-BW56-BW57","v":0},0,0,0,0,0,0,0,0,0,0,0,0,0,0,0,0,0,0,0,0,0,0,0,0,0,0]
[null,null,"Less: DSRA Adjustments",null,null,null,"USD",null,null,{"$f":"'Project Finance Semi-Annual'!M142","v":0},{"$f":"'Project Finance Semi-Annual'!N142","v":0},{"$f":"'Project Finance Semi-Annual'!O142","v":0},{"$f":"'Project Finance Semi-Annual'!P142","v":0},{"$f":"'Project Finance Semi-Annual'!Q142","v":0},{"$f":"'Project Finance Semi-Annual'!R142","v":0},{"$f":"'Project Finance Semi-Annual'!S142","v":0},{"$f":"'Project Finance Semi-Annual'!T142","v":0},{"$f":"'Project Finance Semi-Annual'!U142","v":0},{"$f":"'Project Finance Semi-Annual'!V142","v":0},{"$f":"'Project Finance Semi-Annual'!W142","v":0},{"$f":"'Project Finance Semi-Annual'!X142","v":0},{"$f":"'Project Finance Semi-Annual'!Y142","v":0},{"$f":"'Project Finance Semi-Annual'!Z142","v":0},{"$f":"'Project Finance Semi-Annual'!AA142","v":0},{"$f":"'Project Finance Semi-Annual'!AB142","v":0},{"$f":"'Project Finance Semi-Annual'!AC142","v":0},{"$f":"'Project Finance Semi-Annual'!AD142","v":0},{"$f":"'Project Finance Semi-Annual'!AE142","v":0},{"$f":"'Project Finance Semi-Annual'!AF142","v":0},{"$f":"'Project Finance Semi-Annual'!AG142","v":0},{"$f":"'Project Finance Semi-Annual'!AH142","v":0},{"$f":"'Project Finance Semi-Annual'!AI142","v":0},{"$f":"'Project Finance Semi-Annual'!AJ142","v":0},{"$f":"'Project Finance Semi-Annual'!AK142","v":0},{"$f":"'Project Finance Semi-Annual'!AL142","v":0},{"$f":"'Project Finance Semi-Annual'!AM142","v":0},{"$f":"'Project Finance Semi-Annual'!AN142","v":0},{"$f":"'Project Finance Semi-Annual'!AO142","v":0},{"$f":"'Project Finance Semi-Annual'!AP142","v":0},{"$f":"'Project Finance Semi-Annual'!AQ142","v":0},{"$f":"'Project Finance Semi-Annual'!AR142","v":0},{"$f":"'Project Finance Semi-Annual'!AS142","v":0},{"$f":"'Project Finance Semi-Annual'!AT142","v":0},{"$f":"'Project Finance Semi-Annual'!AU142","v":0},{"$f":"'Project Finance Semi-Annual'!AV142","v":0},{"$f":"'Project Finance Semi-Annual'!AW142","v":0},{"$f":"'Project Finance Semi-Annual'!AX142","v":0},{"$f":"'Project Finance Semi-Annual'!AY142","v":0},{"$f":"'Project Finance Semi-Annual'!AZ142","v":0},{"$f":"'Project Finance Semi-Annual'!BA142","v":0},{"$f":"'Project Finance Semi-Annual'!BB142","v":0},{"$f":"'Project Finance Semi-Annual'!BC142","v":0},{"$f":"'Project Finance Semi-Annual'!BD142","v":0},{"$f":"'Project Finance Semi-Annual'!BE142","v":0},{"$f":"'Project Finance Semi-Annual'!BF142","v":0},{"$f":"'Project Finance Semi-Annual'!BG142","v":0},{"$f":"'Project Finance Semi-Annual'!BH142","v":0},{"$f":"'Project Finance Semi-Annual'!BI142","v":0},{"$f":"'Project Finance Semi-Annual'!BJ142","v":0},{"$f":"'Project Finance Semi-Annual'!BK142","v":0},{"$f":"'Project Finance Semi-Annual'!BL142","v":0},{"$f":"'Project Finance Semi-Annual'!BM142","v":0},{"$f":"'Project Finance Semi-Annual'!BN142","v":0},{"$f":"'Project Finance Semi-Annual'!BO142","v":0},{"$f":"'Project Finance Semi-Annual'!BP142","v":0},{"$f":"'Project Finance Semi-Annual'!BQ142","v":0},{"$f":"'Project Finance Semi-Annual'!BR142","v":0},{"$f":"'Project Finance Semi-Annual'!BS142","v":0},{"$f":"'Project Finance Semi-Annual'!BT142","v":0},{"$f":"'Project Finance Semi-Annual'!BU142","v":0},{"$f":"'Project Finance Semi-Annual'!BV142","v":0},{"$f":"'Project Finance Semi-Annual'!BW142","v":0},{"$f":"'Project Finance Semi-Annual'!BX142","v":0},{"$f":"'Project Finance Semi-Annual'!BY142","v":0},{"$f":"'Project Finance Semi-Annual'!BZ142","v":0},{"$f":"'Project Finance Semi-Annual'!CA142","v":0},{"$f":"'Project Finance Semi-Annual'!CB142","v":0},{"$f":"'Project Finance Semi-Annual'!CC142","v":0},{"$f":"'Project Finance Semi-Annual'!CD142","v":0},{"$f":"'Project Finance Semi-Annual'!CE142","v":0},{"$f":"'Project Finance Semi-Annual'!CF142","v":0},{"$f":"'Project Finance Semi-Annual'!CG142","v":0},{"$f":"'Project Finance Semi-Annual'!CH142","v":0},{"$f":"'Project Finance Semi-Annual'!CI142","v":0},{"$f":"'Project Finance Semi-Annual'!CJ142","v":0},{"$f":"'Project Finance Semi-Annual'!CK142","v":0},{"$f":"'Project Finance Semi-Annual'!CL142","v":0},{"$f":"'Project Finance Semi-Annual'!CM142","v":0},{"$f":"'Project Finance Semi-Annual'!CN142","v":0},{"$f":"'Project Finance Semi-Annual'!CO142","v":0},{"$f":"'Project Finance Semi-Annual'!CP142","v":0},{"$f":"'Project Finance Semi-Annual'!CQ142","v":0},{"$f":"'Project Finance Semi-Annual'!CR142","v":0},{"$f":"'Project Finance Semi-Annual'!CS142","v":0},{"$f":"'Project Finance Semi-Annual'!CT142","v":0},{"$f":"'Project Finance Semi-Annual'!CU142","v":0},{"$f":"'Project Finance Semi-Annual'!CV142","v":0},{"$f":"'Project Finance Semi-Annual'!CW142","v":0},{"$f":"'Project Finance Semi-Annual'!CX142","v":0},{"$f":"'Project Finance Semi-Annual'!CY142","v":0},{"$f":"'Project Finance Semi-Annual'!CZ142","v":0}]
[null,null,"Less: Interest Expense",null,null,null,"USD",null,null,{"$f":"J18","v":0},0,0,0,0,0,0,0,0,0,0,0,0,0,0,0,0,0,0,0,0,0,0,0,0,0,0,0,0,0,0,0,{"$f":"AP18","v":0},0,0,0,0,0,0,0,0,0,0,0,0,0,0,0,0,0,0,0,0,0,0,0,0,0,0,0,0,0,0,0,{"$f":"BV18","v":0},0,0,0,0,0,0,0,0,0,0,0,0,0,0,0,0,0,0,0,0,0,0,0,0,0,0,0]
[null,null,"Less: Repayments",null,null,null,"USD",null,null,{"$f":"J19","v":0},0,0,0,0,0,0,0,0,0,0,0,0,0,0,0,0,0,0,0,0,0,0,0,0,0,0,0,0,0,0,0,{"$f":"AP19","v":0},0,0,0,0,0,0,0,0,0,0,0,0,0,0,0,0,0,0,0,0,0,0,0,0,0,0,0,0,0,0,0,{"$f":"BV19","v":0},0,0,0,0,0,0,0,0,0,0,0,0,0,0,0,0,0,0,0,0,0,0,0,0,0,0,0]
[null,null,"Cash Flow After Debt Service",null,null,null,"USD",null,null,{"$f":"J58-J60-J61-J59","v":{"$error":"#N/A"}},{"$f":"K58-K60-K61-K59","v":0},0,0,0,0,0,0,0,0,0,0,0,0,0,0,0,0,0,0,0,0,0,0,0,0,0,0,0,0,0,0,0,0,0,0,0,0,0,0,0,0,0,0,0,0,0,0,0,0,0,0,0,0,0,0,0,0,0,0,0,0,0,0,0,{"$f":"BW58-BW60-BW61-BW59","v":0},0,0,0,0,0,0,0,0,0,0,0,0,0,0,0,0,0,0,0,0,0,0,0,0,0,0]
[null,null,"Less: Cash Sweep",null,null,null,"%"]
[null,null,"Cash After Sweep",null,null,null,"USD",null,null,{"$f":"J62-J63","v":{"$error":"#N/A"}},{"$f":"K62-K63","v":0},0,0,0,0,0,0,0,0,0,0,0,0,0,0,0,0,0,0,0,0,0,0,0,0,0,0,0,0,0,0,0,0,0,0,0,0,0,0,0,0,0,0,0,0,0,0,0,0,0,0,0,0,0,0,0,0,0,0,0,0,0,0,0,{"$f":"BW62-BW63","v":0},0,0,0,0,0,0,0,0,0,0,0,0,0,0,0,0,0,0,0,0,0,0,0,0,0,0]
[null,null,"Cash Flow to Equity Before Tests",null,null,null,"USD",null,null,{"$f":"J64","v":{"$error":"#N/A"}},{"$f":"K64","v":0},0,0,0,0,0,0,0,0,0,0,0,0,0,0,0,0,0,0,0,0,0,0,0,0,0,0,0,0,0,0,0,0,0,0,0,0,0,0,0,0,0,0,0,0,0,0,0,0,0,0,0,0,0,0,0,0,0,0,0,0,0,0,0,{"$f":"BW64","v":0},0,0,0,0,0,0,0,0,0,0,0,0,0,0,0,0,0,0,0,0,0,0,0,0,0,0]
[null,null,"Lock-up Test",null,null,null,"Flag"]
[null,null,"Less: Cash Locked",null,null,null,"USD"]
[null,null,"Add: Cash Un-locked",null,null,null,"USD"]
[null,null,"Dividend Payments",null,null,null,"USD",{"$f":"SUM(L69:XFD69)","v":0},null,{"$f":"J65","v":{"$error":"#N/A"}},{"$f":"K65","v":0},0,0,0,0,0,0,0,0,0,0,0,0,0,0,0,0,0,0,0,0,0,0,0,0,0,0,0,0,0,0,0,0,0,0,0,0,0,0,0,0,0,0,0,0,0,0,0,0,0,0,0,0,0,0,0,0,0,0,0,0,0,0,0,{"$f":"BW65","v":0},0,0,0,0,0,0,0,0,0,0,0,0,0,0,0,0,0,0,0,0,0,0,0,0,0,0]
[]
[null,null,"CFADS",null,null,null,"USD",null,null,{"$f":"J58","v":{"$error":"#N/A"}},{"$f":"K58","v":0},0,0,0,0,0,0,0,0,0,0,0,0,0,0,0,0,0,0,0,0,0,0,0,0,0,0,0,0,0,0,0,0,0,0,0,0,0,0,0,0,0,0,0,0,0,0,0,0,0,0,0,0,0,0,0,0,0,0,0,0,0,0,0,{"$f":"BW58","v":0},0,0,0,0,0,0,0,0,0,0,0,0,0,0,0,0,0,0,0,0,0,0,0,0,0,0]
[null,null,"Debt Service",null,null,null,"USD",null,null,{"$f":"J60+J61","v":0},{"$f":"K60+K61","v":0},0,0,0,0,0,0,0,0,0,0,0,0,0,0,0,0,0,0,0,0,0,0,0,0,0,0,0,0,0,0,0,0,0,0,0,0,0,0,0,0,0,0,0,0,0,0,0,0,0,0,0,0,0,0,0,0,0,0,0,0,0,0,0,{"$f":"BW60+BW61","v":0},0,0,0,0,0,0,0,0,0,0,0,0,0,0,0,0,0,0,0,0,0,0,0,0,0,0]
[null,null,"DSCR",null,null,null,"x",null,null,{"$f":"IF(J72>0.1,J71/J72)","v":false},{"$f":"IF(K72>0.1,K71/K72)","v":false},false,false,false,false,false,false,false,false,false,false,false,false,false,false,false,false,false,false,false,false,false,false,false,false,false,false,false,false,false,false,false,false,false,false,false,false,false,false,false,false,false,false,false,false,false,false,false,false,false,false,false,false,false,false,false,false,false,false,false,false,false,false,false,{"$f":"IF(BW72>0.1,BW71/BW72)","v":false},false,false,false,false,false,false,false,false,false,false,false,false,false,false,false,false,false,false,false,false,false,false,false,false,false,false]
[]
[null,null,"DSCR Lock-up Covenant",null,null,null,"x"]
[null,null,"DSCR Test",null,null,null,"Test"]
[]
[]
[null,null,"Pre-tax Project Cash Flow"]
[null,null,null,"EBITDA",null,null,"USD",null,null,{"$f":"J11","v":0},0,0,0,0,0,0,0,0,0,0,0,0,0,0,0,0,0,0,0,0,0,0,0,0,0,0,0,0,0,0,0,{"$f":"AP11","v":0},0,0,0,0,0,0,0,0,0,0,0,0,0,0,0,0,0,0,0,0,0,0,0,0,0,0,0,0,0,0,0,{"$f":"BV11","v":0},0,0,0,0,0,0,0,0,0,0,0,0,0,0,0,0,0,0,0,0,0,0,0,0]
[null,null,null,"Less: Working Captital Changes",null,null,"USD",null,null,{"$f":"J12","v":{"$error":"#N/A"}},0,0,0,0,0,0,0,0,0,0,0,0,0,0,0,0,0,0,0,0,0,0,0,0,0,0,0,0,0,0,0,{"$f":"AP12","v":0},0,0,0,0,0,0,0,0,0,0,0,0,0,0,0,0,0,0,0,0,0,0,0,0,0,0,0,0,0,0,0,{"$f":"BV12","v":0},0,0,0,0,0,0,0,0,0,0,0,0,0,0,0,0,0,0,0,0,0,0,0,0]
[null,null,null,"Less: Capital Expenditures",null,null,"USD",null,null,{"$f":"J14","v":3600000},0,0,0,0,0,0,0,0,0,0,0,0,0,0,0,0,0,0,0,0,0,0,0,0,0,0,0,0,0,0,0,{"$f":"AP14","v":0},0,0,0,0,0,0,0,0,0,0,0,0,0,0,0,0,0,0,0,0,0,0,0,0,0,0,0,0,0,0,0,{"$f":"BV14","v":0},0,0,0,0,0,0,0,0,0,0,0,0,0,0,0,0,0,0,0,0,0,0,0,0]
[null,null,null,"Pre-tax Cash Flow",null,null,"USD",null,null,{"$f":"J80-J81-J82","v":{"$error":"#N/A"}},{"$f":"K80-K81-K82","v":0},0,0,0,0,0,0,0,0,0,0,0,0,0,0,0,0,0,0,0,0,0,0,0,0,0,0,0,0,0,0,0,0,0,0,0,0,0,0,0,0,0,0,0,0,0,0,0,0,0,0,0,0,0,0,0,0,0,0,0,0,0,0,0,{"$f":"BW80-BW81-BW82","v":0},0,0,0,0,0,0,0,0,0,0,0,0,0,0,0,0,0,0,0,0,0,0,0]
[null,null,null,"Pre-tax IRR",null,null,null,{"$f":"XIRR(J83:CT83,J3:CT3)","v":{"$error":"#N/A"}}]
[]
[null,null,"After-tax Project Cash Flow"]
[null,null,null,"EBITDA",null,null,"USD",null,null,{"$f":"J11","v":0},0,0,0,0,0,0,0,0,0,0,0,0,0,0,0,0,0,0,0,0,0,0,0,0,0,0,0,0,0,0,0,{"$f":"AP11","v":0},0,0,0,0,0,0,0,0,0,0,0,0,0,0,0,0,0,0,0,0,0,0,0,0,0,0,0,0,0,0,0,{"$f":"BV11","v":0},0,0,0,0,0,0,0,0,0,0,0,0,0,0,0,0,0,0,0,0,0,0,0,0]
[null,null,null,"Less: Tax Depreciation",null,null,"USD",null,null,{"$f":"J16","v":0},0,0,0,0,0,0,0,0,0,0,0,0,0,0,0,0,0,0,0,0,0,0,0,0,0,0,0,0,0,0,0,{"$f":"AP16","v":0},0,0,0,0,0,0,0,0,0,0,0,0,0,0,0,0,0,0,0,0,0,0,0,0,0,0,0,0,0,0,0,{"$f":"BV16","v":0},0,0,0,0,0,0,0,0,0,0,0,0,0,0,0,0,0,0,0,0,0,0,0,0]
[null,null,null,"EBIT",null,null,"USD",null,null,{"$f":"J87-J88","v":0},{"$f":"K87-K88","v":0},0,0,0,0,0,0,0,0,0,0,0,0,0,0,0,0,0,0,0,0,0,0,0,0,0,0,0,0,0,0,0,0,0,0,0,0,0,0,0,0,0,0,0,0,0,0,0,0,0,0,0,0,0,0,0,0,0,0,0,0,0,0,0,{"$f":"BW87-BW88","v":0},0,0,0,0,0,0,0,0,0,0,0,0,0,0,0,0,0,0,0,0,0,0,0]
[null,null,null,"Taxes on EBIT",null,{"$f":"'InputC - Operations'!E62","v":0.21},"USD"]
[null,null,null,"Pre-tax Cash Flow",null,null,"USD"]
[null,null,null,"Post-tax Cash Flow",null,null,null,null,null,{"$f":"J91-J90","v":0},{"$f":"K91-K90","v":0},0,0,0,0,0,0,0,0,0,0,0,0,0,0,0,0,0,0,0,0,0,0,0,0,0,0,0,0,0,0,0,0,0,0,0,0,0,0,0,0,0,0,0,0,0,0,0,0,0,0,0,0,0,0,0,0,0,0,0,0,0,0,0,{"$f":"BW91-BW90","v":0},0,0,0,0,0,0,0,0,0,0,0,0,0,0,0,0,0,0,0,0,0,0,0]
[null,null,null,"Project IRR Post-Tax"]
[]
[null,null,"Equity IRR"]
[null,null,null,"Equity Cash Received",null,null,"USD",null,null,{"$f":"J20","v":{"$error":"#N/A"}},0,0,0,0,0,0,0,0,0,0,0,0,0,0,0,0,0,0,0,0,0,0,0,0,0,0,0,0,0,0,0,{"$f":"AP20","v":0},0,0,0,0,0,0,0,0,0,0,0,0,0,0,0,0,0,0,0,0,0,0,0,0,0,0,0,0,0,0,0,{"$f":"BV20","v":0},0,0,0,0,0,0,0,0,0,0,0,0,0,0,0,0,0,0,0,0,0,0,0,0]
[null,null,null,"Equity Cash Invested",null,null,"USD"]
[null,null,null,"Net Equity Cash Flow",null,null,"USD"]
[null,null,null,"Net Equity IRR",null,null,"%"]
[]
[null,null,"DSCR"]
[null,null,null,"CFADS",null,null,"USD",null,null,{"$f":"J21","v":{"$error":"#N/A"}},0,0,0,0,0,0,0,0,0,0,0,0,0,0,0,0,0,0,0,0,0,0,0,0,0,0,0,0,0,0,0,{"$f":"AP21","v":0},0,0,0,0,0,0,0,0,0,0,0,0,0,0,0,0,0,0,0,0,0,0,0,0,0,0,0,0,0,0,0,{"$f":"BV21","v":0},0,0,0,0,0,0,0,0,0,0,0,0,0,0,0,0,0,0,0,0,0,0,0,0]
[null,null,null,"Senior Debt Service",null,null,"USD",null,null,{"$f":"J22","v":0},0,0,0,0,0,0,0,0,0,0,0,0,0,0,0,0,0,0,0,0,0,0,0,0,0,0,0,0,0,0,0,{"$f":"AP22","v":0},0,0,0,0,0,0,0,0,0,0,0,0,0,0,0,0,0,0,0,0,0,0,0,0,0,0,0,0,0,0,0,{"$f":"BV22","v":0},0,0,0,0,0,0,0,0,0,0,0,0,0,0,0,0,0,0,0,0,0,0,0,0]
[null,null,null,"DSCR",null,null,"x"]
[]
[null,null,null,"Interest Rate Index",null,null,"Index",null,null,{"$f":"J23","v":0},0,0,0,0,0,0,0,0,0,0,0,0,0,0,0,0,0,0,0,0,0,0,0,0,0,0,0,0,0,0,0,{"$f":"AP23","v":0},0,0,0,0,0,0,0,0,0,0,0,0,0,0,0,0,0,0,0,0,0,0,0,0,0,0,0,0,0,0,0,{"$f":"BV23","v":0},0,0,0,0,0,0,0,0,0,0,0,0,0,0,0,0,0,0,0,0,0,0,0,0]
[null,null,null,"Repayment Flag",null,null,"Flag",null,null,{"$f":"J24","v":0},0,0,0,0,0,0,0,0,0,0,0,0,0,0,0,0,0,0,0,0,0,0,0,0,0,0,0,0,0,0,0,{"$f":"AP24","v":0},0,0,0,0,0,0,0,0,0,0,0,0,0,0,0,0,0,0,0,0,0,0,0,0,0,0,0,0,0,0,0,{"$f":"BV24","v":0},0,0,0,0,0,0,0,0,0,0,0,0,0,0,0,0,0,0,0,0,0,0,0,0]
[]
[null,null,null,"CFADS over Debt Life",null,null,null,null,null,{"$f":"J21","v":{"$error":"#N/A"}},0,0,0,0,0,0,0,0,0,0,0,0,0,0,0,0,0,0,0,0,0,0,0,0,0,0,0,0,0,0,0,{"$f":"AP21","v":0},0,0,0,0,0,0,0,0,0,0,0,0,0,0,0,0,0,0,0,0,0,0,0,0,0,0,0,0,0,0,0,{"$f":"BV21","v":0},0,0,0,0,0,0,0,0,0,0,0,0,0,0,0,0,0,0,0,0,0,0,0,0]
[null,null,null,"PV of CFADS",null,null,"USD",{"$f":"SUMPRODUCT(J102:CT102/J106:CT106)","v":{"$error":"#N/A"}}]
[null,null,null,"Debt at COD",null,null,"USD",{"$f":"SUMPRODUCT(J103:CT103/J106:CT106)","v":{"$error":"#DIV/0!"}}]
[null,null,null,"PLCR",null,null,"x",{"$f":"H110/H111","v":{"$error":"#N/A"}}]
[]
[null,null,null,"CFADS over Debt Life"]
[null,null,null,"PV of CFADS",null,null,"USD"]
[null,null,null,"Debt at COD",null,null,"USD"]
[null,null,null,"LLCR",null,null,"x"]
[]
[null,null,null,"Opening Balance of Debt Post COD",null,null,null,null,null,{"$f":"'Project Finance Semi-Annual'!M60","v":0},{"$f":"'Project Finance Semi-Annual'!N60","v":{"$error":"#NUM!"}},{"$f":"'Project Finance Semi-Annual'!O60","v":{"$error":"#NUM!"}},{"$f":"'Project Finance Semi-Annual'!P60","v":{"$error":"#NUM!"}},{"$f":"'Project Finance Semi-Annual'!Q60","v":{"$error":"#NUM!"}},{"$f":"'Project Finance Semi-Annual'!R60","v":{"$error":"#NUM!"}},{"$f":"'Project Finance Semi-Annual'!S60","v":{"$error":"#NUM!"}},{"$f":"'Project Finance Semi-Annual'!T60","v":{"$error":"#NUM!"}},{"$f":"'Project Finance Semi-Annual'!U60","v":{"$error":"#NUM!"}},{"$f":"'Project Finance Semi-Annual'!V60","v":{"$error":"#NUM!"}},{"$f":"'Project Finance Semi-Annual'!W60","v":{"$error":"#NUM!"}},{"$f":"'Project Finance Semi-Annual'!X60","v":{"$error":"#NUM!"}},{"$f":"'Project Finance Semi-Annual'!Y60","v":{"$error":"#NUM!"}},{"$f":"'Project Finance Semi-Annual'!Z60","v":{"$error":"#NUM!"}},{"$f":"'Project Finance Semi-Annual'!AA60","v":{"$error":"#NUM!"}},{"$f":"'Project Finance Semi-Annual'!AB60","v":{"$error":"#NUM!"}},{"$f":"'Project Finance Semi-Annual'!AC60","v":{"$error":"#NUM!"}},{"$f":"'Project Finance Semi-Annual'!AD60","v":{"$error":"#NUM!"}},{"$f":"'Project Finance Semi-Annual'!AE60","v":{"$error":"#NUM!"}},{"$f":"'Project Finance Semi-Annual'!AF60","v":{"$error":"#NUM!"}},{"$f":"'Project Finance Semi-Annual'!AG60","v":{"$error":"#NUM!"}},{"$f":"'Project Finance Semi-Annual'!AH60","v":{"$error":"#NUM!"}},{"$f":"'Project Finance Semi-Annual'!AI60","v":{"$error":"#NUM!"}},{"$f":"'Project Finance Semi-Annual'!AJ60","v":{"$error":"#NUM!"}},{"$f":"'Project Finance Semi-Annual'!AK60","v":{"$error":"#NUM!"}},{"$f":"'Project Finance Semi-Annual'!AL60","v":{"$error":"#NUM!"}},{"$f":"'Project Finance Semi-Annual'!AM60","v":{"$error":"#NUM!"}},{"$f":"'Project Finance Semi-Annual'!AN60","v":{"$error":"#NUM!"}},{"$f":"'Project Finance Semi-Annual'!AO60","v":{"$error":"#NUM!"}},{"$f":"'Project Finance Semi-Annual'!AP60","v":{"$error":"#NUM!"}},{"$f":"'Project Finance Semi-Annual'!AQ60","v":{"$error":"#NUM!"}},{"$f":"'Project Finance Semi-Annual'!AR60","v":{"$error":"#NUM!"}},{"$f":"'Project Finance Semi-Annual'!AS60","v":{"$error":"#NUM!"}},{"$f":"'Project Finance Semi-Annual'!AT60","v":{"$error":"#NUM!"}},{"$f":"'Project Finance Semi-Annual'!AU60","v":{"$error":"#NUM!"}},{"$f":"'Project Finance Semi-Annual'!AV60","v":{"$error":"#NUM!"}},{"$f":"'Project Finance Semi-Annual'!AW60","v":{"$error":"#NUM!"}},{"$f":"'Project Finance Semi-Annual'!AX60","v":{"$error":"#NUM!"}},{"$f":"'Project Finance Semi-Annual'!AY60","v":{"$error":"#NUM!"}},{"$f":"'Project Finance Semi-Annual'!AZ60","v":{"$error":"#NUM!"}},{"$f":"'Project Finance Semi-Annual'!BA60","v":{"$error":"#NUM!"}},{"$f":"'Project Finance Semi-Annual'!BB60","v":{"$error":"#NUM!"}},{"$f":"'Project Finance Semi-Annual'!BC60","v":{"$error":"#NUM!"}},{"$f":"'Project Finance Semi-Annual'!BD60","v":{"$error":"#NUM!"}},{"$f":"'Project Finance Semi-Annual'!BE60","v":{"$error":"#NUM!"}},{"$f":"'Project Finance Semi-Annual'!BF60","v":{"$error":"#NUM!"}},{"$f":"'Project Finance Semi-Annual'!BG60","v":{"$error":"#NUM!"}},{"$f":"'Project Finance Semi-Annual'!BH60","v":{"$error":"#NUM!"}},{"$f":"'Project Finance Semi-Annual'!BI60","v":{"$error":"#NUM!"}},{"$f":"'Project Finance Semi-Annual'!BJ60","v":{"$error":"#NUM!"}},{"$f":"'Project Finance Semi-Annual'!BK60","v":{"$error":"#NUM!"}},{"$f":"'Project Finance Semi-Annual'!BL60","v":{"$error":"#NUM!"}},{"$f":"'Project Finance Semi-Annual'!BM60","v":{"$error":"#NUM!"}},{"$f":"'Project Finance Semi-Annual'!BN60","v":{"$error":"#NUM!"}},{"$f":"'Project Finance Semi-Annual'!BO60","v":{"$error":"#NUM!"}},{"$f":"'Project Finance Semi-Annual'!BP60","v":{"$error":"#NUM!"}},{"$f":"'Project Finance Semi-Annual'!BQ60","v":{"$error":"#NUM!"}},{"$f":"'Project Finance Semi-Annual'!BR60","v":{"$error":"#NUM!"}},{"$f":"'Project Finance Semi-Annual'!BS60","v":{"$error":"#NUM!"}},{"$f":"'Project Finance Semi-Annual'!BT60","v":{"$error":"#NUM!"}},{"$f":"'Project Finance Semi-Annual'!BU60","v":{"$error":"#NUM!"}},{"$f":"'Project Finance Semi-Annual'!BV60","v":{"$error":"#NUM!"}},{"$f":"'Project Finance Semi-Annual'!BW60","v":{"$error":"#NUM!"}},{"$f":"'Project Finance Semi-Annual'!BX60","v":{"$error":"#NUM!"}},{"$f":"'Project Finance Semi-Annual'!BY60","v":{"$error":"#NUM!"}},{"$f":"'Project Finance Semi-Annual'!BZ60","v":{"$error":"#NUM!"}},{"$f":"'Project Finance Semi-Annual'!CA60","v":{"$error":"#NUM!"}},{"$f":"'Project Finance Semi-Annual'!CB60","v":{"$error":"#NUM!"}},{"$f":"'Project Finance Semi-Annual'!CC60","v":{"$error":"#NUM!"}},{"$f":"'Project Finance Semi-Annual'!CD60","v":{"$error":"#NUM!"}},{"$f":"'Project Finance Semi-Annual'!CE60","v":{"$error":"#NUM!"}},{"$f":"'Project Finance Semi-Annual'!CF60","v":{"$error":"#NUM!"}},{"$f":"'Project Finance Semi-Annual'!CG60","v":{"$error":"#NUM!"}},{"$f":"'Project Finance Semi-Annual'!CH60","v":{"$error":"#NUM!"}},{"$f":"'Project Finance Semi-Annual'!CI60","v":{"$error":"#NUM!"}},{"$f":"'Project Finance Semi-Annual'!CJ60","v":{"$error":"#NUM!"}},{"$f":"'Project Finance Semi-Annual'!CK60","v":{"$error":"#NUM!"}},{"$f":"'Project Finance Semi-Annual'!CL60","v":{"$error":"#NUM!"}},{"$f":"'Project Finance Semi-Annual'!CM60","v":{"$error":"#NUM!"}},{"$f":"'Project Finance Semi-Annual'!CN60","v":{"$error":"#NUM!"}},{"$f":"'Project Finance Semi-Annual'!CO60","v":{"$error":"#NUM!"}},{"$f":"'Project Finance Semi-Annual'!CP60","v":{"$error":"#NUM!"}},{"$f":"'Project Finance Semi-Annual'!CQ60","v":{"$error":"#NUM!"}},{"$f":"'Project Finance Semi-Annual'!CR60","v":{"$error":"#NUM!"}},{"$f":"'Project Finance Semi-Annual'!CS60","v":{"$error":"#NUM!"}},{"$f":"'Project Finance Semi-Annual'!CT60","v":{"$error":"#NUM!"}},{"$f":"'Project Finance Semi-Annual'!CU60","v":{"$error":"#NUM!"}},{"$f":"'Project Finance Semi-Annual'!CV60","v":{"$error":"#NUM!"}},{"$f":"'Project Finance Semi-Annual'!CW60","v":{"$error":"#NUM!"}}]
[null,null,null,"Maximum Debt",null,null,"USD"]
[null,null,null,"Sum of Debt",null,null,"USD"]
[null,null,null,"Average Debt Life",null,null,"Periods"]
[null,null,null,"Average Debt Life",null,null,"Years"]
[]
[null,null,"Graph Data"]
[null,null,null,"Operation Flag",null,null,null,null,null,{"$f":"'Project Finance Semi-Annual'!M7","v":false},{"$f":"'Project Finance Semi-Annual'!N7","v":false},{"$f":"'Project Finance Semi-Annual'!O7","v":false},{"$f":"'Project Finance Semi-Annual'!P7","v":false},{"$f":"'Project Finance Semi-Annual'!Q7","v":false},{"$f":"'Project Finance Semi-Annual'!R7","v":false},{"$f":"'Project Finance Semi-Annual'!S7","v":false},{"$f":"'Project Finance Semi-Annual'!T7","v":false},{"$f":"'Project Finance Semi-Annual'!U7","v":false},{"$f":"'Project Finance Semi-Annual'!V7","v":false},{"$f":"'Project Finance Semi-Annual'!W7","v":false},{"$f":"'Project Finance Semi-Annual'!X7","v":false},{"$f":"'Project Finance Semi-Annual'!Y7","v":false},{"$f":"'Project Finance Semi-Annual'!Z7","v":false},{"$f":"'Project Finance Semi-Annual'!AA7","v":false},{"$f":"'Project Finance Semi-Annual'!AB7","v":false},{"$f":"'Project Finance Semi-Annual'!AC7","v":false},{"$f":"'Project Finance Semi-Annual'!AD7","v":false},{"$f":"'Project Finance Semi-Annual'!AE7","v":false},{"$f":"'Project Finance Semi-Annual'!AF7","v":false},{"$f":"'Project Finance Semi-Annual'!AG7","v":false},{"$f":"'Project Finance Semi-Annual'!AH7","v":false},{"$f":"'Project Finance Semi-Annual'!AI7","v":false},{"$f":"'Project Finance Semi-Annual'!AJ7","v":false},{"$f":"'Project Finance Semi-Annual'!AK7","v":false},{"$f":"'Project Finance Semi-Annual'!AL7","v":false},{"$f":"'Project Finance Semi-Annual'!AM7","v":false},{"$f":"'Project Finance Semi-Annual'!AN7","v":false},{"$f":"'Project Finance Semi-Annual'!AO7","v":false},{"$f":"'Project Finance Semi-Annual'!AP7","v":false},{"$f":"'Project Finance Semi-Annual'!AQ7","v":false},{"$f":"'Project Finance Semi-Annual'!AR7","v":false},{"$f":"'Project Finance Semi-Annual'!AS7","v":false},{"$f":"'Project Finance Semi-Annual'!AT7","v":false},{"$f":"'Project Finance Semi-Annual'!AU7","v":false},{"$f":"'Project Finance Semi-Annual'!AV7","v":false},{"$f":"'Project Finance Semi-Annual'!AW7","v":false},{"$f":"'Project Finance Semi-Annual'!AX7","v":false},{"$f":"'Project Finance Semi-Annual'!AY7","v":false},{"$f":"'Project Finance Semi-Annual'!AZ7","v":false},{"$f":"'Project Finance Semi-Annual'!BA7","v":false},{"$f":"'Project Finance Semi-Annual'!BB7","v":false},{"$f":"'Project Finance Semi-Annual'!BC7","v":false},{"$f":"'Project Finance Semi-Annual'!BD7","v":false},{"$f":"'Project Finance Semi-Annual'!BE7","v":false},{"$f":"'Project Finance Semi-Annual'!BF7","v":false},{"$f":"'Project Finance Semi-Annual'!BG7","v":false},{"$f":"'Project Finance Semi-Annual'!BH7","v":false},{"$f":"'Project Finance Semi-Annual'!BI7","v":false},{"$f":"'Project Finance Semi-Annual'!BJ7","v":false},{"$f":"'Project Finance Semi-Annual'!BK7","v":false},{"$f":"'Project Finance Semi-Annual'!BL7","v":false},{"$f":"'Project Finance Semi-Annual'!BM7","v":false},{"$f":"'Project Finance Semi-Annual'!BN7","v":false},{"$f":"'Project Finance Semi-Annual'!BO7","v":false},{"$f":"'Project Finance Semi-Annual'!BP7","v":false},{"$f":"'Project Finance Semi-Annual'!BQ7","v":false},{"$f":"'Project Finance Semi-Annual'!BR7","v":false},{"$f":"'Project Finance Semi-Annual'!BS7","v":false},{"$f":"'Project Finance Semi-Annual'!BT7","v":false},{"$f":"'Project Finance Semi-Annual'!BU7","v":false},{"$f":"'Project Finance Semi-Annual'!BV7","v":false},{"$f":"'Project Finance Semi-Annual'!BW7","v":false},{"$f":"'Project Finance Semi-Annual'!BX7","v":false},{"$f":"'Project Finance Semi-Annual'!BY7","v":false},{"$f":"'Project Finance Semi-Annual'!BZ7","v":false},{"$f":"'Project Finance Semi-Annual'!CA7","v":false},{"$f":"'Project Finance Semi-Annual'!CB7","v":false},{"$f":"'Project Finance Semi-Annual'!CC7","v":false},{"$f":"'Project Finance Semi-Annual'!CD7","v":false},{"$f":"'Project Finance Semi-Annual'!CE7","v":false},{"$f":"'Project Finance Semi-Annual'!CF7","v":false},{"$f":"'Project Finance Semi-Annual'!CG7","v":false},{"$f":"'Project Finance Semi-Annual'!CH7","v":false},{"$f":"'Project Finance Semi-Annual'!CI7","v":false},{"$f":"'Project Finance Semi-Annual'!CJ7","v":false},{"$f":"'Project Finance Semi-Annual'!CK7","v":false},{"$f":"'Project Finance Semi-Annual'!CL7","v":false},{"$f":"'Project Finance Semi-Annual'!CM7","v":false},{"$f":"'Project Finance Semi-Annual'!CN7","v":false},{"$f":"'Project Finance Semi-Annual'!CO7","v":false},{"$f":"'Project Finance Semi-Annual'!CP7","v":false},{"$f":"'Project Finance Semi-Annual'!CQ7","v":false},{"$f":"'Project Finance Semi-Annual'!CR7","v":false},{"$f":"'Project Finance Semi-Annual'!CS7","v":false},{"$f":"'Project Finance Semi-Annual'!CT7","v":false},{"$f":"'Project Finance Semi-Annual'!CU7","v":false},{"$f":"'Project Finance Semi-Annual'!CV7","v":false},{"$f":"'Project Finance Semi-Annual'!CW7","v":false}]
[null,null,null,null,null,null,null,null,null,{"$f":"IF(J126,J3,NA())","v":{"$error":"#N/A"}},{"$error":"#N/A"},{"$error":"#N/A"},{"$error":"#N/A"},{"$error":"#N/A"},{"$error":"#N/A"},{"$error":"#N/A"},{"$error":"#N/A"},{"$error":"#N/A"},{"$error":"#N/A"},{"$error":"#N/A"},{"$error":"#N/A"},{"$error":"#N/A"},{"$error":"#N/A"},{"$error":"#N/A"},{"$error":"#N/A"},{"$error":"#N/A"},{"$error":"#N/A"},{"$error":"#N/A"},{"$error":"#N/A"},{"$error":"#N/A"},{"$error":"#N/A"},{"$error":"#N/A"},{"$error":"#N/A"},{"$error":"#N/A"},{"$error":"#N/A"},{"$error":"#N/A"},{"$error":"#N/A"},{"$error":"#N/A"},{"$error":"#N/A"},{"$error":"#N/A"},{"$error":"#N/A"},{"$f":"IF(AP126,AP3,NA())","v":{"$error":"#N/A"}},{"$error":"#N/A"},{"$error":"#N/A"},{"$error":"#N/A"},{"$error":"#N/A"},{"$error":"#N/A"},{"$error":"#N/A"},{"$error":"#N/A"},{"$error":"#N/A"},{"$error":"#N/A"},{"$error":"#N/A"},{"$error":"#N/A"},{"$error":"#N/A"},{"$error":"#N/A"},{"$error":"#N/A"},{"$error":"#N/A"},{"$error":"#N/A"},{"$error":"#N/A"},{"$error":"#N/A"},{"$error":"#N/A"},{"$error":"#N/A"},{"$error":"#N/A"},{"$error":"#N/A"},{"$error":"#N/A"},{"$error":"#N/A"},{"$error":"#N/A"},{"$error":"#N/A"},{"$error":"#N/A"},{"$error":"#N/A"},{"$error":"#N/A"},{"$error":"#N/A"},{"$error":"#N/A"},{"$f":"IF(BV126,BV3,NA())","v":{"$error":"#N/A"}},{"$error":"#N/A"},{"$error":"#N/A"},{"$error":"#N/A"},{"$error":"#N/A"},{"$error":"#N/A"},{"$error":"#N/A"},{"$error":"#N/A"},{"$error":"#N/A"},{"$error":"#N/A"},{"$error":"#N/A"},{"$error":"#N/A"},{"$error":"#N/A"},{"$error":"#N/A"},{"$error":"#N/A"},{"$error":"#N/A"},{"$error":"#N/A"},{"$error":"#N/A"},{"$error":"#N/A"},{"$error":"#N/A"},{"$error":"#N/A"},{"$error":"#N/A"},{"$error":"#N/A"},{"$error":"#N/A"},{"$error":"#N/A"}]
[null,null,null,"CFADS",null,null,null,null,null,{"$f":"J102","v":{"$error":"#N/A"}},{"$f":"K102","v":0},0,0,0,0,0,0,0,0,0,0,0,0,0,0,0,0,0,0,0,0,0,0,0,0,0,0,0,0,0,0,0,0,0,0,0,0,0,0,0,0,0,0,0,0,0,0,0,0,0,0,0,0,0,0,0,0,0,0,0,0,0,0,0,{"$f":"BW102","v":0},0,0,0,0,0,0,0,0,0,0,0,0,0,0,0,0,0,0,0,0,0,0,0]
[null,null,null,"Debt Service",null,null,null,null,null,{"$f":"J103","v":0},{"$f":"K103","v":0},0,0,0,0,0,0,0,0,0,0,0,0,0,0,0,0,0,0,0,0,0,0,0,0,0,0,0,0,0,0,0,0,0,0,0,0,0,0,0,0,0,0,0,0,0,0,0,0,0,0,0,0,0,0,0,0,0,0,0,0,0,0,0,{"$f":"BW103","v":0},0,0,0,0,0,0,0,0,0,0,0,0,0,0,0,0,0,0,0,0,0,0,0]
[]
[null,null,null,"Pre-cod Flag"]
[null,null,null,"Pre or Post COD"]
[]
[]
[null,null,null,"Debt Balance"]
[]
[]
[]
[null,null,null,"Equity Cash Flow"]
[]
[]
[null,null,null,"Paid In Capital"]
[null,null,null,"Debt Draws"]

{"sheet":"Annual Financial Statement","index":9,"n_rows":54,"n_cols":50,"rows_kept":54,"cut":false,"hidden":false,"merged":[]}
["          "]
[]
[null,null,null,null,null,"Flow","Balance",null,null,{"$f":"YEAR('InputC - Operations'!E7)","v":1900},{"$f":"J3+1","v":1901},{"$f":"K3+1","v":1902},1903,1904,1905,1906,1907,1908,1909,1910,1911,1912,1913,1914,1915,1916,1917,1918,1919,1920,1921,1922,1923,1924,1925,1926,1927,1928,{"$f":"AL3+1","v":1929},{"$f":"AM3+1","v":1930},{"$f":"AN3+1","v":1931},{"$f":"AO3+1","v":1932},{"$f":"AP3+1","v":1933},{"$f":"AQ3+1","v":1934},{"$f":"AR3+1","v":1935},{"$f":"AS3+1","v":1936},{"$f":"AT3+1","v":1937},{"$f":"AU3+1","v":1938},{"$f":"AV3+1","v":1939},{"$f":"AW3+1","v":1940}]
[]
[null,"Profit and Loss"]
[null,null,"Revenues",null,null,null,null,null,null,{"$f":"SUMIF('Project Finance Semi-Annual'!$8:$8,'Annual Financial Statement'!J$3,'Project Finance Semi-Annual'!13:13)","v":0},{"$f":"SUMIF('Project Finance Semi-Annual'!$8:$8,'Annual Financial Statement'!K$3,'Project Finance Semi-Annual'!13:13)","v":0},{"$f":"SUMIF('Project Finance Semi-Annual'!$8:$8,'Annual Financial Statement'!L$3,'Project Finance Semi-Annual'!13:13)","v":0},{"$f":"SUMIF('Project Finance Semi-Annual'!$8:$8,'Annual Financial Statement'!M$3,'Project Finance Semi-Annual'!13:13)","v":0},{"$f":"SUMIF('Project Finance Semi-Annual'!$8:$8,'Annual Financial Statement'!N$3,'Project Finance Semi-Annual'!13:13)","v":0},{"$f":"SUMIF('Project Finance Semi-Annual'!$8:$8,'Annual Financial Statement'!O$3,'Project Finance Semi-Annual'!13:13)","v":0},{"$f":"SUMIF('Project Finance Semi-Annual'!$8:$8,'Annual Financial Statement'!P$3,'Project Finance Semi-Annual'!13:13)","v":0},{"$f":"SUMIF('Project Finance Semi-Annual'!$8:$8,'Annual Financial Statement'!Q$3,'Project Finance Semi-Annual'!13:13)","v":0},{"$f":"SUMIF('Project Finance Semi-Annual'!$8:$8,'Annual Financial Statement'!R$3,'Project Finance Semi-Annual'!13:13)","v":0},{"$f":"SUMIF('Project Finance Semi-Annual'!$8:$8,'Annual Financial Statement'!S$3,'Project Finance Semi-Annual'!13:13)","v":0},{"$f":"SUMIF('Project Finance Semi-Annual'!$8:$8,'Annual Financial Statement'!T$3,'Project Finance Semi-Annual'!13:13)","v":0},{"$f":"SUMIF('Project Finance Semi-Annual'!$8:$8,'Annual Financial Statement'!U$3,'Project Finance Semi-Annual'!13:13)","v":0},{"$f":"SUMIF('Project Finance Semi-Annual'!$8:$8,'Annual Financial Statement'!V$3,'Project Finance Semi-Annual'!13:13)","v":0},{"$f":"SUMIF('Project Finance Semi-Annual'!$8:$8,'Annual Financial Statement'!W$3,'Project Finance Semi-Annual'!13:13)","v":0},{"$f":"SUMIF('Project Finance Semi-Annual'!$8:$8,'Annual Financial Statement'!X$3,'Project Finance Semi-Annual'!13:13)","v":0},{"$f":"SUMIF('Project Finance Semi-Annual'!$8:$8,'Annual Financial Statement'!Y$3,'Project Finance Semi-Annual'!13:13)","v":0},{"$f":"SUMIF('Project Finance Semi-Annual'!$8:$8,'Annual Financial Statement'!Z$3,'Project Finance Semi-Annual'!13:13)","v":0},{"$f":"SUMIF('Project Finance Semi-Annual'!$8:$8,'Annual Financial Statement'!AA$3,'Project Finance Semi-Annual'!13:13)","v":0},{"$f":"SUMIF('Project Finance Semi-Annual'!$8:$8,'Annual Financial Statement'!AB$3,'Project Finance Semi-Annual'!13:13)","v":0},{"$f":"SUMIF('Project Finance Semi-Annual'!$8:$8,'Annual Financial Statement'!AC$3,'Project Finance Semi-Annual'!13:13)","v":0},{"$f":"SUMIF('Project Finance Semi-Annual'!$8:$8,'Annual Financial Statement'!AD$3,'Project Finance Semi-Annual'!13:13)","v":0},{"$f":"SUMIF('Project Finance Semi-Annual'!$8:$8,'Annual Financial Statement'!AE$3,'Project Finance Semi-Annual'!13:13)","v":0},{"$f":"SUMIF('Project Finance Semi-Annual'!$8:$8,'Annual Financial Statement'!AF$3,'Project Finance Semi-Annual'!13:13)","v":0},{"$f":"SUMIF('Project Finance Semi-Annual'!$8:$8,'Annual Financial Statement'!AG$3,'Project Finance Semi-Annual'!13:13)","v":0},{"$f":"SUMIF('Project Finance Semi-Annual'!$8:$8,'Annual Financial Statement'!AH$3,'Project Finance Semi-Annual'!13:13)","v":0},{"$f":"SUMIF('Project Finance Semi-Annual'!$8:$8,'Annual Financial Statement'!AI$3,'Project Finance Semi-Annual'!13:13)","v":0},{"$f":"SUMIF('Project Finance Semi-Annual'!$8:$8,'Annual Financial Statement'!AJ$3,'Project Finance Semi-Annual'!13:13)","v":0},{"$f":"SUMIF('Project Finance Semi-Annual'!$8:$8,'Annual Financial Statement'!AK$3,'Project Finance Semi-Annual'!13:13)","v":0},{"$f":"SUMIF('Project Finance Semi-Annual'!$8:$8,'Annual Financial Statement'!AL$3,'Project Finance Semi-Annual'!13:13)","v":0},{"$f":"SUMIF('Project Finance Semi-Annual'!$8:$8,'Annual Financial Statement'!AM$3,'Project Finance Semi-Annual'!13:13)","v":0},{"$f":"SUMIF('Project Finance Semi-Annual'!$8:$8,'Annual Financial Statement'!AN$3,'Project Finance Semi-Annual'!13:13)","v":0},{"$f":"SUMIF('Project Finance Semi-Annual'!$8:$8,'Annual Financial Statement'!AO$3,'Project Finance Semi-Annual'!13:13)","v":0},{"$f":"SUMIF('Project Finance Semi-Annual'!$8:$8,'Annual Financial Statement'!AP$3,'Project Finance Semi-Annual'!13:13)","v":0},{"$f":"SUMIF('Project Finance Semi-Annual'!$8:$8,'Annual Financial Statement'!AQ$3,'Project Finance Semi-Annual'!13:13)","v":0},{"$f":"SUMIF('Project Finance Semi-Annual'!$8:$8,'Annual Financial Statement'!AR$3,'Project Finance Semi-Annual'!13:13)","v":0},{"$f":"SUMIF('Project Finance Semi-Annual'!$8:$8,'Annual Financial Statement'!AS$3,'Project Finance Semi-Annual'!13:13)","v":0},{"$f":"SUMIF('Project Finance Semi-Annual'!$8:$8,'Annual Financial Statement'!AT$3,'Project Finance Semi-Annual'!13:13)","v":0},{"$f":"SUMIF('Project Finance Semi-Annual'!$8:$8,'Annual Financial Statement'!AU$3,'Project Finance Semi-Annual'!13:13)","v":0},{"$f":"SUMIF('Project Finance Semi-Annual'!$8:$8,'Annual Financial Statement'!AV$3,'Project Finance Semi-Annual'!13:13)","v":0},{"$f":"SUMIF('Project Finance Semi-Annual'!$8:$8,'Annual Financial Statement'!AW$3,'Project Finance Semi-Annual'!13:13)","v":0},{"$f":"SUMIF('Project Finance Semi-Annual'!$8:$8,'Annual Financial Statement'!AX$3,'Project Finance Semi-Annual'!13:13)","v":0}]
[null,null,"Operating Expense"]
[null,null,null,"EBITDA",null,null,null,null,null,{"$f":"J6-J7","v":0},{"$f":"K6-K7","v":0},0,0,0,0,0,0,0,0,0,0,0,0,0,0,0,0,0,0,0,0,0,0,0,0,0,0,0,0,0,0,0,0,0,0,0,0,0,0,0]
[null,null,"Less: Tax Depreciation",null,null,null,null,null,null,{"$f":"SUMIF('Taxes Waterfall Returns'!$5:$5,'Annual Financial Statement'!J$3,'Taxes Waterfall Returns'!16:16)","v":0},{"$f":"SUMIF('Taxes Waterfall Returns'!$5:$5,'Annual Financial Statement'!K$3,'Taxes Waterfall Returns'!16:16)","v":0},{"$f":"SUMIF('Taxes Waterfall Returns'!$5:$5,'Annual Financial Statement'!L$3,'Taxes Waterfall Returns'!16:16)","v":0},{"$f":"SUMIF('Taxes Waterfall Returns'!$5:$5,'Annual Financial Statement'!M$3,'Taxes Waterfall Returns'!16:16)","v":0},{"$f":"SUMIF('Taxes Waterfall Returns'!$5:$5,'Annual Financial Statement'!N$3,'Taxes Waterfall Returns'!16:16)","v":0},{"$f":"SUMIF('Taxes Waterfall Returns'!$5:$5,'Annual Financial Statement'!O$3,'Taxes Waterfall Returns'!16:16)","v":0},{"$f":"SUMIF('Taxes Waterfall Returns'!$5:$5,'Annual Financial Statement'!P$3,'Taxes Waterfall Returns'!16:16)","v":0},{"$f":"SUMIF('Taxes Waterfall Returns'!$5:$5,'Annual Financial Statement'!Q$3,'Taxes Waterfall Returns'!16:16)","v":0},{"$f":"SUMIF('Taxes Waterfall Returns'!$5:$5,'Annual Financial Statement'!R$3,'Taxes Waterfall Returns'!16:16)","v":0},{"$f":"SUMIF('Taxes Waterfall Returns'!$5:$5,'Annual Financial Statement'!S$3,'Taxes Waterfall Returns'!16:16)","v":0},{"$f":"SUMIF('Taxes Waterfall Returns'!$5:$5,'Annual Financial Statement'!T$3,'Taxes Waterfall Returns'!16:16)","v":0},{"$f":"SUMIF('Taxes Waterfall Returns'!$5:$5,'Annual Financial Statement'!U$3,'Taxes Waterfall Returns'!16:16)","v":0},{"$f":"SUMIF('Taxes Waterfall Returns'!$5:$5,'Annual Financial Statement'!V$3,'Taxes Waterfall Returns'!16:16)","v":0},{"$f":"SUMIF('Taxes Waterfall Returns'!$5:$5,'Annual Financial Statement'!W$3,'Taxes Waterfall Returns'!16:16)","v":0},{"$f":"SUMIF('Taxes Waterfall Returns'!$5:$5,'Annual Financial Statement'!X$3,'Taxes Waterfall Returns'!16:16)","v":0},{"$f":"SUMIF('Taxes Waterfall Returns'!$5:$5,'Annual Financial Statement'!Y$3,'Taxes Waterfall Returns'!16:16)","v":0},{"$f":"SUMIF('Taxes Waterfall Returns'!$5:$5,'Annual Financial Statement'!Z$3,'Taxes Waterfall Returns'!16:16)","v":0},{"$f":"SUMIF('Taxes Waterfall Returns'!$5:$5,'Annual Financial Statement'!AA$3,'Taxes Waterfall Returns'!16:16)","v":0},{"$f":"SUMIF('Taxes Waterfall Returns'!$5:$5,'Annual Financial Statement'!AB$3,'Taxes Waterfall Returns'!16:16)","v":0},{"$f":"SUMIF('Taxes Waterfall Returns'!$5:$5,'Annual Financial Statement'!AC$3,'Taxes Waterfall Returns'!16:16)","v":0},{"$f":"SUMIF('Taxes Waterfall Returns'!$5:$5,'Annual Financial Statement'!AD$3,'Taxes Waterfall Returns'!16:16)","v":0},{"$f":"SUMIF('Taxes Waterfall Returns'!$5:$5,'Annual Financial Statement'!AE$3,'Taxes Waterfall Returns'!16:16)","v":0},{"$f":"SUMIF('Taxes Waterfall Returns'!$5:$5,'Annual Financial Statement'!AF$3,'Taxes Waterfall Returns'!16:16)","v":0},{"$f":"SUMIF('Taxes Waterfall Returns'!$5:$5,'Annual Financial Statement'!AG$3,'Taxes Waterfall Returns'!16:16)","v":0},{"$f":"SUMIF('Taxes Waterfall Returns'!$5:$5,'Annual Financial Statement'!AH$3,'Taxes Waterfall Returns'!16:16)","v":0},{"$f":"SUMIF('Taxes Waterfall Returns'!$5:$5,'Annual Financial Statement'!AI$3,'Taxes Waterfall Returns'!16:16)","v":0},{"$f":"SUMIF('Taxes Waterfall Returns'!$5:$5,'Annual Financial Statement'!AJ$3,'Taxes Waterfall Returns'!16:16)","v":0},{"$f":"SUMIF('Taxes Waterfall Returns'!$5:$5,'Annual Financial Statement'!AK$3,'Taxes Waterfall Returns'!16:16)","v":0},{"$f":"SUMIF('Taxes Waterfall Returns'!$5:$5,'Annual Financial Statement'!AL$3,'Taxes Waterfall Returns'!16:16)","v":0},{"$f":"SUMIF('Taxes Waterfall Returns'!$5:$5,'Annual Financial Statement'!AM$3,'Taxes Waterfall Returns'!16:16)","v":0},{"$f":"SUMIF('Taxes Waterfall Returns'!$5:$5,'Annual Financial Statement'!AN$3,'Taxes Waterfall Returns'!16:16)","v":0},{"$f":"SUMIF('Taxes Waterfall Returns'!$5:$5,'Annual Financial Statement'!AO$3,'Taxes Waterfall Returns'!16:16)","v":0},{"$f":"SUMIF('Taxes Waterfall Returns'!$5:$5,'Annual Financial Statement'!AP$3,'Taxes Waterfall Returns'!16:16)","v":0},{"$f":"SUMIF('Taxes Waterfall Returns'!$5:$5,'Annual Financial Statement'!AQ$3,'Taxes Waterfall Returns'!16:16)","v":0},{"$f":"SUMIF('Taxes Waterfall Returns'!$5:$5,'Annual Financial Statement'!AR$3,'Taxes Waterfall Returns'!16:16)","v":0},{"$f":"SUMIF('Taxes Waterfall Returns'!$5:$5,'Annual Financial Statement'!AS$3,'Taxes Waterfall Returns'!16:16)","v":0},{"$f":"SUMIF('Taxes Waterfall Returns'!$5:$5,'Annual Financial Statement'!AT$3,'Taxes Waterfall Returns'!16:16)","v":0},{"$f":"SUMIF('Taxes Waterfall Returns'!$5:$5,'Annual Financial Statement'!AU$3,'Taxes Waterfall Returns'!16:16)","v":0},{"$f":"SUMIF('Taxes Waterfall Returns'!$5:$5,'Annual Financial Statement'!AV$3,'Taxes Waterfall Returns'!16:16)","v":0},{"$f":"SUMIF('Taxes Waterfall Returns'!$5:$5,'Annual Financial Statement'!AW$3,'Taxes Waterfall Returns'!16:16)","v":0},{"$f":"SUMIF('Taxes Waterfall Returns'!$5:$5,'Annual Financial Statement'!AX$3,'Taxes Waterfall Returns'!16:16)","v":0}]
[null,null,null,"EBIT ",null,null,null,null,null,{"$f":"J8-J9","v":0},{"$f":"K8-K9","v":0},0,0,0,0,0,0,0,0,0,0,0,0,0,0,0,0,0,0,0,0,0,0,0,0,0,0,0,{"$f":"AM8-AM9","v":0},0,0,0,0,0,0,0,{"$f":"AU8-AU9","v":0},0,0,0]
[null,null,"Less: Interest on Senior",null,null,null,null,null,null,{"$f":"SUMIF('Project Finance Semi-Annual'!$8:$8,'Annual Financial Statement'!J$3,'Project Finance Semi-Annual'!124:124)","v":0},{"$f":"SUMIF('Project Finance Semi-Annual'!$8:$8,'Annual Financial Statement'!K$3,'Project Finance Semi-Annual'!124:124)","v":0},{"$f":"SUMIF('Project Finance Semi-Annual'!$8:$8,'Annual Financial Statement'!L$3,'Project Finance Semi-Annual'!124:124)","v":0},{"$f":"SUMIF('Project Finance Semi-Annual'!$8:$8,'Annual Financial Statement'!M$3,'Project Finance Semi-Annual'!124:124)","v":0},{"$f":"SUMIF('Project Finance Semi-Annual'!$8:$8,'Annual Financial Statement'!N$3,'Project Finance Semi-Annual'!124:124)","v":0},{"$f":"SUMIF('Project Finance Semi-Annual'!$8:$8,'Annual Financial Statement'!O$3,'Project Finance Semi-Annual'!124:124)","v":0},{"$f":"SUMIF('Project Finance Semi-Annual'!$8:$8,'Annual Financial Statement'!P$3,'Project Finance Semi-Annual'!124:124)","v":0},{"$f":"SUMIF('Project Finance Semi-Annual'!$8:$8,'Annual Financial Statement'!Q$3,'Project Finance Semi-Annual'!124:124)","v":0},{"$f":"SUMIF('Project Finance Semi-Annual'!$8:$8,'Annual Financial Statement'!R$3,'Project Finance Semi-Annual'!124:124)","v":0},{"$f":"SUMIF('Project Finance Semi-Annual'!$8:$8,'Annual Financial Statement'!S$3,'Project Finance Semi-Annual'!124:124)","v":0},{"$f":"SUMIF('Project Finance Semi-Annual'!$8:$8,'Annual Financial Statement'!T$3,'Project Finance Semi-Annual'!124:124)","v":0},{"$f":"SUMIF('Project Finance Semi-Annual'!$8:$8,'Annual Financial Statement'!U$3,'Project Finance Semi-Annual'!124:124)","v":0},{"$f":"SUMIF('Project Finance Semi-Annual'!$8:$8,'Annual Financial Statement'!V$3,'Project Finance Semi-Annual'!124:124)","v":0},{"$f":"SUMIF('Project Finance Semi-Annual'!$8:$8,'Annual Financial Statement'!W$3,'Project Finance Semi-Annual'!124:124)","v":0},{"$f":"SUMIF('Project Finance Semi-Annual'!$8:$8,'Annual Financial Statement'!X$3,'Project Finance Semi-Annual'!124:124)","v":0},{"$f":"SUMIF('Project Finance Semi-Annual'!$8:$8,'Annual Financial Statement'!Y$3,'Project Finance Semi-Annual'!124:124)","v":0},{"$f":"SUMIF('Project Finance Semi-Annual'!$8:$8,'Annual Financial Statement'!Z$3,'Project Finance Semi-Annual'!124:124)","v":0},{"$f":"SUMIF('Project Finance Semi-Annual'!$8:$8,'Annual Financial Statement'!AA$3,'Project Finance Semi-Annual'!124:124)","v":0},{"$f":"SUMIF('Project Finance Semi-Annual'!$8:$8,'Annual Financial Statement'!AB$3,'Project Finance Semi-Annual'!124:124)","v":0},{"$f":"SUMIF('Project Finance Semi-Annual'!$8:$8,'Annual Financial Statement'!AC$3,'Project Finance Semi-Annual'!124:124)","v":0},{"$f":"SUMIF('Project Finance Semi-Annual'!$8:$8,'Annual Financial Statement'!AD$3,'Project Finance Semi-Annual'!124:124)","v":0},{"$f":"SUMIF('Project Finance Semi-Annual'!$8:$8,'Annual Financial Statement'!AE$3,'Project Finance Semi-Annual'!124:124)","v":0},{"$f":"SUMIF('Project Finance Semi-Annual'!$8:$8,'Annual Financial Statement'!AF$3,'Project Finance Semi-Annual'!124:124)","v":0},{"$f":"SUMIF('Project Finance Semi-Annual'!$8:$8,'Annual Financial Statement'!AG$3,'Project Finance Semi-Annual'!124:124)","v":0},{"$f":"SUMIF('Project Finance Semi-Annual'!$8:$8,'Annual Financial Statement'!AH$3,'Project Finance Semi-Annual'!124:124)","v":0},{"$f":"SUMIF('Project Finance Semi-Annual'!$8:$8,'Annual Financial Statement'!AI$3,'Project Finance Semi-Annual'!124:124)","v":0},{"$f":"SUMIF('Project Finance Semi-Annual'!$8:$8,'Annual Financial Statement'!AJ$3,'Project Finance Semi-Annual'!124:124)","v":0},{"$f":"SUMIF('Project Finance Semi-Annual'!$8:$8,'Annual Financial Statement'!AK$3,'Project Finance Semi-Annual'!124:124)","v":0},{"$f":"SUMIF('Project Finance Semi-Annual'!$8:$8,'Annual Financial Statement'!AL$3,'Project Finance Semi-Annual'!124:124)","v":0},{"$f":"SUMIF('Project Finance Semi-Annual'!$8:$8,'Annual Financial Statement'!AM$3,'Project Finance Semi-Annual'!124:124)","v":0},{"$f":"SUMIF('Project Finance Semi-Annual'!$8:$8,'Annual Financial Statement'!AN$3,'Project Finance Semi-Annual'!124:124)","v":0},{"$f":"SUMIF('Project Finance Semi-Annual'!$8:$8,'Annual Financial Statement'!AO$3,'Project Finance Semi-Annual'!124:124)","v":0},{"$f":"SUMIF('Project Finance Semi-Annual'!$8:$8,'Annual Financial Statement'!AP$3,'Project Finance Semi-Annual'!124:124)","v":0},{"$f":"SUMIF('Project Finance Semi-Annual'!$8:$8,'Annual Financial Statement'!AQ$3,'Project Finance Semi-Annual'!124:124)","v":0},{"$f":"SUMIF('Project Finance Semi-Annual'!$8:$8,'Annual Financial Statement'!AR$3,'Project Finance Semi-Annual'!124:124)","v":0},{"$f":"SUMIF('Project Finance Semi-Annual'!$8:$8,'Annual Financial Statement'!AS$3,'Project Finance Semi-Annual'!124:124)","v":0},{"$f":"SUMIF('Project Finance Semi-Annual'!$8:$8,'Annual Financial Statement'!AT$3,'Project Finance Semi-Annual'!124:124)","v":0},{"$f":"SUMIF('Project Finance Semi-Annual'!$8:$8,'Annual Financial Statement'!AU$3,'Project Finance Semi-Annual'!124:124)","v":0},{"$f":"SUMIF('Project Finance Semi-Annual'!$8:$8,'Annual Financial Statement'!AV$3,'Project Finance Semi-Annual'!124:124)","v":0},{"$f":"SUMIF('Project Finance Semi-Annual'!$8:$8,'Annual Financial Statement'!AW$3,'Project Finance Semi-Annual'!124:124)","v":0},{"$f":"SUMIF('Project Finance Semi-Annual'!$8:$8,'Annual Financial Statement'!AX$3,'Project Finance Semi-Annual'!124:124)","v":0}]
[null,null,null,"EBT",null,null,null,null,null,{"$f":"J10-J11","v":0},{"$f":"K10-K11","v":0},0,0,0,0,0,0,0,0,0,0,0,0,0,0,0,0,0,0,0,0,0,0,0,0,0,0,0,{"$f":"AM10-AM11","v":0},0,0,0,0,0,0,0,{"$f":"AU10-AU11","v":0},0,0,0]
[null,null,"Less: Taxes",null,null,null,null,null,null,{"$f":"SUMIF('Taxes Waterfall Returns'!$5:$5,'Annual Financial Statement'!J$3,'Taxes Waterfall Returns'!57:57)","v":0},{"$f":"SUMIF('Taxes Waterfall Returns'!$5:$5,'Annual Financial Statement'!K$3,'Taxes Waterfall Returns'!57:57)","v":0},{"$f":"SUMIF('Taxes Waterfall Returns'!$5:$5,'Annual Financial Statement'!L$3,'Taxes Waterfall Returns'!57:57)","v":0},{"$f":"SUMIF('Taxes Waterfall Returns'!$5:$5,'Annual Financial Statement'!M$3,'Taxes Waterfall Returns'!57:57)","v":0},{"$f":"SUMIF('Taxes Waterfall Returns'!$5:$5,'Annual Financial Statement'!N$3,'Taxes Waterfall Returns'!57:57)","v":0},{"$f":"SUMIF('Taxes Waterfall Returns'!$5:$5,'Annual Financial Statement'!O$3,'Taxes Waterfall Returns'!57:57)","v":0},{"$f":"SUMIF('Taxes Waterfall Returns'!$5:$5,'Annual Financial Statement'!P$3,'Taxes Waterfall Returns'!57:57)","v":0},{"$f":"SUMIF('Taxes Waterfall Returns'!$5:$5,'Annual Financial Statement'!Q$3,'Taxes Waterfall Returns'!57:57)","v":0},{"$f":"SUMIF('Taxes Waterfall Returns'!$5:$5,'Annual Financial Statement'!R$3,'Taxes Waterfall Returns'!57:57)","v":0},{"$f":"SUMIF('Taxes Waterfall Returns'!$5:$5,'Annual Financial Statement'!S$3,'Taxes Waterfall Returns'!57:57)","v":0},{"$f":"SUMIF('Taxes Waterfall Returns'!$5:$5,'Annual Financial Statement'!T$3,'Taxes Waterfall Returns'!57:57)","v":0},{"$f":"SUMIF('Taxes Waterfall Returns'!$5:$5,'Annual Financial Statement'!U$3,'Taxes Waterfall Returns'!57:57)","v":0},{"$f":"SUMIF('Taxes Waterfall Returns'!$5:$5,'Annual Financial Statement'!V$3,'Taxes Waterfall Returns'!57:57)","v":0},{"$f":"SUMIF('Taxes Waterfall Returns'!$5:$5,'Annual Financial Statement'!W$3,'Taxes Waterfall Returns'!57:57)","v":0},{"$f":"SUMIF('Taxes Waterfall Returns'!$5:$5,'Annual Financial Statement'!X$3,'Taxes Waterfall Returns'!57:57)","v":0},{"$f":"SUMIF('Taxes Waterfall Returns'!$5:$5,'Annual Financial Statement'!Y$3,'Taxes Waterfall Returns'!57:57)","v":0},{"$f":"SUMIF('Taxes Waterfall Returns'!$5:$5,'Annual Financial Statement'!Z$3,'Taxes Waterfall Returns'!57:57)","v":0},{"$f":"SUMIF('Taxes Waterfall Returns'!$5:$5,'Annual Financial Statement'!AA$3,'Taxes Waterfall Returns'!57:57)","v":0},{"$f":"SUMIF('Taxes Waterfall Returns'!$5:$5,'Annual Financial Statement'!AB$3,'Taxes Waterfall Returns'!57:57)","v":0},{"$f":"SUMIF('Taxes Waterfall Returns'!$5:$5,'Annual Financial Statement'!AC$3,'Taxes Waterfall Returns'!57:57)","v":0},{"$f":"SUMIF('Taxes Waterfall Returns'!$5:$5,'Annual Financial Statement'!AD$3,'Taxes Waterfall Returns'!57:57)","v":0},{"$f":"SUMIF('Taxes Waterfall Returns'!$5:$5,'Annual Financial Statement'!AE$3,'Taxes Waterfall Returns'!57:57)","v":0},{"$f":"SUMIF('Taxes Waterfall Returns'!$5:$5,'Annual Financial Statement'!AF$3,'Taxes Waterfall Returns'!57:57)","v":0},{"$f":"SUMIF('Taxes Waterfall Returns'!$5:$5,'Annual Financial Statement'!AG$3,'Taxes Waterfall Returns'!57:57)","v":0},{"$f":"SUMIF('Taxes Waterfall Returns'!$5:$5,'Annual Financial Statement'!AH$3,'Taxes Waterfall Returns'!57:57)","v":0},{"$f":"SUMIF('Taxes Waterfall Returns'!$5:$5,'Annual Financial Statement'!AI$3,'Taxes Waterfall Returns'!57:57)","v":0},{"$f":"SUMIF('Taxes Waterfall Returns'!$5:$5,'Annual Financial Statement'!AJ$3,'Taxes Waterfall Returns'!57:57)","v":0},{"$f":"SUMIF('Taxes Waterfall Returns'!$5:$5,'Annual Financial Statement'!AK$3,'Taxes Waterfall Returns'!57:57)","v":0},{"$f":"SUMIF('Taxes Waterfall Returns'!$5:$5,'Annual Financial Statement'!AL$3,'Taxes Waterfall Returns'!57:57)","v":0},{"$f":"SUMIF('Taxes Waterfall Returns'!$5:$5,'Annual Financial Statement'!AM$3,'Taxes Waterfall Returns'!57:57)","v":0},{"$f":"SUMIF('Taxes Waterfall Returns'!$5:$5,'Annual Financial Statement'!AN$3,'Taxes Waterfall Returns'!57:57)","v":0},{"$f":"SUMIF('Taxes Waterfall Returns'!$5:$5,'Annual Financial Statement'!AO$3,'Taxes Waterfall Returns'!57:57)","v":0},{"$f":"SUMIF('Taxes Waterfall Returns'!$5:$5,'Annual Financial Statement'!AP$3,'Taxes Waterfall Returns'!57:57)","v":0},{"$f":"SUMIF('Taxes Waterfall Returns'!$5:$5,'Annual Financial Statement'!AQ$3,'Taxes Waterfall Returns'!57:57)","v":0},{"$f":"SUMIF('Taxes Waterfall Returns'!$5:$5,'Annual Financial Statement'!AR$3,'Taxes Waterfall Returns'!57:57)","v":0},{"$f":"SUMIF('Taxes Waterfall Returns'!$5:$5,'Annual Financial Statement'!AS$3,'Taxes Waterfall Returns'!57:57)","v":0},{"$f":"SUMIF('Taxes Waterfall Returns'!$5:$5,'Annual Financial Statement'!AT$3,'Taxes Waterfall Returns'!57:57)","v":0},{"$f":"SUMIF('Taxes Waterfall Returns'!$5:$5,'Annual Financial Statement'!AU$3,'Taxes Waterfall Returns'!57:57)","v":0},{"$f":"SUMIF('Taxes Waterfall Returns'!$5:$5,'Annual Financial Statement'!AV$3,'Taxes Waterfall Returns'!57:57)","v":0},{"$f":"SUMIF('Taxes Waterfall Returns'!$5:$5,'Annual Financial Statement'!AW$3,'Taxes Waterfall Returns'!57:57)","v":0},{"$f":"SUMIF('Taxes Waterfall Returns'!$5:$5,'Annual Financial Statement'!AX$3,'Taxes Waterfall Returns'!57:57)","v":0}]
[null,null,null,"Profit After Tax",null,null,null,null,null,{"$f":"J12-J13","v":0},{"$f":"K12-K13","v":0},0,0,0,0,0,0,0,0,0,0,0,0,0,0,0,0,0,0,0,0,0,0,0,0,0,0,0,{"$f":"AM12-AM13","v":0},0,0,0,0,0,0,0,{"$f":"AU12-AU13","v":0},0,0,0]
[]
[null,"Cash Flow Statement (Negative Number Convention)"]
[null,null,"EBITDA",null,null,null,null,null,null,{"$f":"J8","v":0},{"$f":"K8","v":0},0,0,0,0,0,0,0,0,0,0,0,0,0,0,0,0,0,0,0,0,0,0,0,0,0,0,0,{"$f":"AM8","v":0},0,0,0,0,0,0,0,{"$f":"AU8","v":0},0,0,0]
[null,null,"Less: Working Capital Change"]
[null,null,"Less: Taxes Paid",null,null,null,null,null,null,{"$f":"-J13","v":0},{"$f":"-K13","v":0},0,0,0,0,0,0,0,0,0,0,0,0,0,0,0,0,0,0,0,0,0,0,0,0,0,0,0,{"$f":"-AM13","v":0},0,0,0,0,0,0,0,{"$f":"-AU13","v":0},0,0,0]
[null,null,null,"Operating Cash Flow",null,null,null,null,null,{"$f":"SUM(J17:J19)","v":0},{"$f":"SUM(K17:K19)","v":0},0,0,0,0,0,0,0,0,0,0,0,0,0,0,0,0,0,0,0,0,0,0,0,0,0,0,0,{"$f":"SUM(AM17:AM19)","v":0},0,0,0,0,0,0,0,{"$f":"SUM(AU17:AU19)","v":0},0,0,0]
[null,null,"Less: Capital Expenditures",null,null,null,null,null,null,{"$f":"-SUMIF('Project Finance Semi-Annual'!$8:$8,'Annual Financial Statement'!J$3,'Project Finance Semi-Annual'!28:28)","v":-3600000},{"$f":"SUMIF('Project Finance Semi-Annual'!$8:$8,'Annual Financial Statement'!K$3,'Project Finance Semi-Annual'!28:28)","v":0},{"$f":"SUMIF('Project Finance Semi-Annual'!$8:$8,'Annual Financial Statement'!L$3,'Project Finance Semi-Annual'!28:28)","v":0},{"$f":"SUMIF('Project Finance Semi-Annual'!$8:$8,'Annual Financial Statement'!M$3,'Project Finance Semi-Annual'!28:28)","v":0},{"$f":"SUMIF('Project Finance Semi-Annual'!$8:$8,'Annual Financial Statement'!N$3,'Project Finance Semi-Annual'!28:28)","v":0},{"$f":"SUMIF('Project Finance Semi-Annual'!$8:$8,'Annual Financial Statement'!O$3,'Project Finance Semi-Annual'!28:28)","v":0},{"$f":"SUMIF('Project Finance Semi-Annual'!$8:$8,'Annual Financial Statement'!P$3,'Project Finance Semi-Annual'!28:28)","v":0},{"$f":"SUMIF('Project Finance Semi-Annual'!$8:$8,'Annual Financial Statement'!Q$3,'Project Finance Semi-Annual'!28:28)","v":0},{"$f":"SUMIF('Project Finance Semi-Annual'!$8:$8,'Annual Financial Statement'!R$3,'Project Finance Semi-Annual'!28:28)","v":0},{"$f":"SUMIF('Project Finance Semi-Annual'!$8:$8,'Annual Financial Statement'!S$3,'Project Finance Semi-Annual'!28:28)","v":0},{"$f":"SUMIF('Project Finance Semi-Annual'!$8:$8,'Annual Financial Statement'!T$3,'Project Finance Semi-Annual'!28:28)","v":0},{"$f":"SUMIF('Project Finance Semi-Annual'!$8:$8,'Annual Financial Statement'!U$3,'Project Finance Semi-Annual'!28:28)","v":0},{"$f":"SUMIF('Project Finance Semi-Annual'!$8:$8,'Annual Financial Statement'!V$3,'Project Finance Semi-Annual'!28:28)","v":0},{"$f":"SUMIF('Project Finance Semi-Annual'!$8:$8,'Annual Financial Statement'!W$3,'Project Finance Semi-Annual'!28:28)","v":0},{"$f":"SUMIF('Project Finance Semi-Annual'!$8:$8,'Annual Financial Statement'!X$3,'Project Finance Semi-Annual'!28:28)","v":0},{"$f":"SUMIF('Project Finance Semi-Annual'!$8:$8,'Annual Financial Statement'!Y$3,'Project Finance Semi-Annual'!28:28)","v":0},{"$f":"SUMIF('Project Finance Semi-Annual'!$8:$8,'Annual Financial Statement'!Z$3,'Project Finance Semi-Annual'!28:28)","v":0},{"$f":"SUMIF('Project Finance Semi-Annual'!$8:$8,'Annual Financial Statement'!AA$3,'Project Finance Semi-Annual'!28:28)","v":0},{"$f":"SUMIF('Project Finance Semi-Annual'!$8:$8,'Annual Financial Statement'!AB$3,'Project Finance Semi-Annual'!28:28)","v":0},{"$f":"SUMIF('Project Finance Semi-Annual'!$8:$8,'Annual Financial Statement'!AC$3,'Project Finance Semi-Annual'!28:28)","v":0},{"$f":"SUMIF('Project Finance Semi-Annual'!$8:$8,'Annual Financial Statement'!AD$3,'Project Finance Semi-Annual'!28:28)","v":0},{"$f":"SUMIF('Project Finance Semi-Annual'!$8:$8,'Annual Financial Statement'!AE$3,'Project Finance Semi-Annual'!28:28)","v":0},{"$f":"SUMIF('Project Finance Semi-Annual'!$8:$8,'Annual Financial Statement'!AF$3,'Project Finance Semi-Annual'!28:28)","v":0},{"$f":"SUMIF('Project Finance Semi-Annual'!$8:$8,'Annual Financial Statement'!AG$3,'Project Finance Semi-Annual'!28:28)","v":0},{"$f":"SUMIF('Project Finance Semi-Annual'!$8:$8,'Annual Financial Statement'!AH$3,'Project Finance Semi-Annual'!28:28)","v":0},{"$f":"SUMIF('Project Finance Semi-Annual'!$8:$8,'Annual Financial Statement'!AI$3,'Project Finance Semi-Annual'!28:28)","v":0},{"$f":"SUMIF('Project Finance Semi-Annual'!$8:$8,'Annual Financial Statement'!AJ$3,'Project Finance Semi-Annual'!28:28)","v":0},{"$f":"SUMIF('Project Finance Semi-Annual'!$8:$8,'Annual Financial Statement'!AK$3,'Project Finance Semi-Annual'!28:28)","v":0},{"$f":"SUMIF('Project Finance Semi-Annual'!$8:$8,'Annual Financial Statement'!AL$3,'Project Finance Semi-Annual'!28:28)","v":0},{"$f":"SUMIF('Project Finance Semi-Annual'!$8:$8,'Annual Financial Statement'!AM$3,'Project Finance Semi-Annual'!28:28)","v":0},{"$f":"SUMIF('Project Finance Semi-Annual'!$8:$8,'Annual Financial Statement'!AN$3,'Project Finance Semi-Annual'!28:28)","v":0},{"$f":"SUMIF('Project Finance Semi-Annual'!$8:$8,'Annual Financial Statement'!AO$3,'Project Finance Semi-Annual'!28:28)","v":0},{"$f":"SUMIF('Project Finance Semi-Annual'!$8:$8,'Annual Financial Statement'!AP$3,'Project Finance Semi-Annual'!28:28)","v":0},{"$f":"SUMIF('Project Finance Semi-Annual'!$8:$8,'Annual Financial Statement'!AQ$3,'Project Finance Semi-Annual'!28:28)","v":0},{"$f":"SUMIF('Project Finance Semi-Annual'!$8:$8,'Annual Financial Statement'!AR$3,'Project Finance Semi-Annual'!28:28)","v":0},{"$f":"SUMIF('Project Finance Semi-Annual'!$8:$8,'Annual Financial Statement'!AS$3,'Project Finance Semi-Annual'!28:28)","v":0},{"$f":"SUMIF('Project Finance Semi-Annual'!$8:$8,'Annual Financial Statement'!AT$3,'Project Finance Semi-Annual'!28:28)","v":0},{"$f":"SUMIF('Project Finance Semi-Annual'!$8:$8,'Annual Financial Statement'!AU$3,'Project Finance Semi-Annual'!28:28)","v":0},{"$f":"SUMIF('Project Finance Semi-Annual'!$8:$8,'Annual Financial Statement'!AV$3,'Project Finance Semi-Annual'!28:28)","v":0},{"$f":"SUMIF('Project Finance Semi-Annual'!$8:$8,'Annual Financial Statement'!AW$3,'Project Finance Semi-Annual'!28:28)","v":0},{"$f":"SUMIF('Project Finance Semi-Annual'!$8:$8,'Annual Financial Statement'!AX$3,'Project Finance Semi-Annual'!28:28)","v":0}]
[null,null,"Less: Capital Expenditures - IDC",null,null,null,null,null,null,{"$f":"-SUMIF('Project Finance Semi-Annual'!$8:$8,'Annual Financial Statement'!J$3,'Project Finance Semi-Annual'!88:88)","v":0},{"$f":"SUMIF('Project Finance Semi-Annual'!$8:$8,'Annual Financial Statement'!K$3,'Project Finance Semi-Annual'!88:88)","v":0},{"$f":"SUMIF('Project Finance Semi-Annual'!$8:$8,'Annual Financial Statement'!L$3,'Project Finance Semi-Annual'!88:88)","v":0},{"$f":"SUMIF('Project Finance Semi-Annual'!$8:$8,'Annual Financial Statement'!M$3,'Project Finance Semi-Annual'!88:88)","v":0},{"$f":"SUMIF('Project Finance Semi-Annual'!$8:$8,'Annual Financial Statement'!N$3,'Project Finance Semi-Annual'!88:88)","v":0},{"$f":"SUMIF('Project Finance Semi-Annual'!$8:$8,'Annual Financial Statement'!O$3,'Project Finance Semi-Annual'!88:88)","v":0},{"$f":"SUMIF('Project Finance Semi-Annual'!$8:$8,'Annual Financial Statement'!P$3,'Project Finance Semi-Annual'!88:88)","v":0},{"$f":"SUMIF('Project Finance Semi-Annual'!$8:$8,'Annual Financial Statement'!Q$3,'Project Finance Semi-Annual'!88:88)","v":0},{"$f":"SUMIF('Project Finance Semi-Annual'!$8:$8,'Annual Financial Statement'!R$3,'Project Finance Semi-Annual'!88:88)","v":0},{"$f":"SUMIF('Project Finance Semi-Annual'!$8:$8,'Annual Financial Statement'!S$3,'Project Finance Semi-Annual'!88:88)","v":0},{"$f":"SUMIF('Project Finance Semi-Annual'!$8:$8,'Annual Financial Statement'!T$3,'Project Finance Semi-Annual'!88:88)","v":0},{"$f":"SUMIF('Project Finance Semi-Annual'!$8:$8,'Annual Financial Statement'!U$3,'Project Finance Semi-Annual'!88:88)","v":0},{"$f":"SUMIF('Project Finance Semi-Annual'!$8:$8,'Annual Financial Statement'!V$3,'Project Finance Semi-Annual'!88:88)","v":0},{"$f":"SUMIF('Project Finance Semi-Annual'!$8:$8,'Annual Financial Statement'!W$3,'Project Finance Semi-Annual'!88:88)","v":0},{"$f":"SUMIF('Project Finance Semi-Annual'!$8:$8,'Annual Financial Statement'!X$3,'Project Finance Semi-Annual'!88:88)","v":0},{"$f":"SUMIF('Project Finance Semi-Annual'!$8:$8,'Annual Financial Statement'!Y$3,'Project Finance Semi-Annual'!88:88)","v":0},{"$f":"SUMIF('Project Finance Semi-Annual'!$8:$8,'Annual Financial Statement'!Z$3,'Project Finance Semi-Annual'!88:88)","v":0},{"$f":"SUMIF('Project Finance Semi-Annual'!$8:$8,'Annual Financial Statement'!AA$3,'Project Finance Semi-Annual'!88:88)","v":0},{"$f":"SUMIF('Project Finance Semi-Annual'!$8:$8,'Annual Financial Statement'!AB$3,'Project Finance Semi-Annual'!88:88)","v":0},{"$f":"SUMIF('Project Finance Semi-Annual'!$8:$8,'Annual Financial Statement'!AC$3,'Project Finance Semi-Annual'!88:88)","v":0},{"$f":"SUMIF('Project Finance Semi-Annual'!$8:$8,'Annual Financial Statement'!AD$3,'Project Finance Semi-Annual'!88:88)","v":0},{"$f":"SUMIF('Project Finance Semi-Annual'!$8:$8,'Annual Financial Statement'!AE$3,'Project Finance Semi-Annual'!88:88)","v":0},{"$f":"SUMIF('Project Finance Semi-Annual'!$8:$8,'Annual Financial Statement'!AF$3,'Project Finance Semi-Annual'!88:88)","v":0},{"$f":"SUMIF('Project Finance Semi-Annual'!$8:$8,'Annual Financial Statement'!AG$3,'Project Finance Semi-Annual'!88:88)","v":0},{"$f":"SUMIF('Project Finance Semi-Annual'!$8:$8,'Annual Financial Statement'!AH$3,'Project Finance Semi-Annual'!88:88)","v":0},{"$f":"SUMIF('Project Finance Semi-Annual'!$8:$8,'Annual Financial Statement'!AI$3,'Project Finance Semi-Annual'!88:88)","v":0},{"$f":"SUMIF('Project Finance Semi-Annual'!$8:$8,'Annual Financial Statement'!AJ$3,'Project Finance Semi-Annual'!88:88)","v":0},{"$f":"SUMIF('Project Finance Semi-Annual'!$8:$8,'Annual Financial Statement'!AK$3,'Project Finance Semi-Annual'!88:88)","v":0},{"$f":"SUMIF('Project Finance Semi-Annual'!$8:$8,'Annual Financial Statement'!AL$3,'Project Finance Semi-Annual'!88:88)","v":0},{"$f":"SUMIF('Project Finance Semi-Annual'!$8:$8,'Annual Financial Statement'!AM$3,'Project Finance Semi-Annual'!88:88)","v":0},{"$f":"SUMIF('Project Finance Semi-Annual'!$8:$8,'Annual Financial Statement'!AN$3,'Project Finance Semi-Annual'!88:88)","v":0},{"$f":"SUMIF('Project Finance Semi-Annual'!$8:$8,'Annual Financial Statement'!AO$3,'Project Finance Semi-Annual'!88:88)","v":0},{"$f":"SUMIF('Project Finance Semi-Annual'!$8:$8,'Annual Financial Statement'!AP$3,'Project Finance Semi-Annual'!88:88)","v":0},{"$f":"SUMIF('Project Finance Semi-Annual'!$8:$8,'Annual Financial Statement'!AQ$3,'Project Finance Semi-Annual'!88:88)","v":0},{"$f":"SUMIF('Project Finance Semi-Annual'!$8:$8,'Annual Financial Statement'!AR$3,'Project Finance Semi-Annual'!88:88)","v":0},{"$f":"SUMIF('Project Finance Semi-Annual'!$8:$8,'Annual Financial Statement'!AS$3,'Project Finance Semi-Annual'!88:88)","v":0},{"$f":"SUMIF('Project Finance Semi-Annual'!$8:$8,'Annual Financial Statement'!AT$3,'Project Finance Semi-Annual'!88:88)","v":0},{"$f":"SUMIF('Project Finance Semi-Annual'!$8:$8,'Annual Financial Statement'!AU$3,'Project Finance Semi-Annual'!88:88)","v":0},{"$f":"SUMIF('Project Finance Semi-Annual'!$8:$8,'Annual Financial Statement'!AV$3,'Project Finance Semi-Annual'!88:88)","v":0},{"$f":"SUMIF('Project Finance Semi-Annual'!$8:$8,'Annual Financial Statement'!AW$3,'Project Finance Semi-Annual'!88:88)","v":0},{"$f":"SUMIF('Project Finance Semi-Annual'!$8:$8,'Annual Financial Statement'!AX$3,'Project Finance Semi-Annual'!88:88)","v":0}]
[null,null,"Less: Capital Expenditures - Up-front Fees",null,null,null,null,null,null,{"$f":"-SUMIF('Project Finance Semi-Annual'!$8:$8,'Annual Financial Statement'!J$3,'Project Finance Semi-Annual'!89:89)","v":0},{"$f":"SUMIF('Project Finance Semi-Annual'!$8:$8,'Annual Financial Statement'!K$3,'Project Finance Semi-Annual'!89:89)","v":0},{"$f":"SUMIF('Project Finance Semi-Annual'!$8:$8,'Annual Financial Statement'!L$3,'Project Finance Semi-Annual'!89:89)","v":0},{"$f":"SUMIF('Project Finance Semi-Annual'!$8:$8,'Annual Financial Statement'!M$3,'Project Finance Semi-Annual'!89:89)","v":0},{"$f":"SUMIF('Project Finance Semi-Annual'!$8:$8,'Annual Financial Statement'!N$3,'Project Finance Semi-Annual'!89:89)","v":0},{"$f":"SUMIF('Project Finance Semi-Annual'!$8:$8,'Annual Financial Statement'!O$3,'Project Finance Semi-Annual'!89:89)","v":0},{"$f":"SUMIF('Project Finance Semi-Annual'!$8:$8,'Annual Financial Statement'!P$3,'Project Finance Semi-Annual'!89:89)","v":0},{"$f":"SUMIF('Project Finance Semi-Annual'!$8:$8,'Annual Financial Statement'!Q$3,'Project Finance Semi-Annual'!89:89)","v":0},{"$f":"SUMIF('Project Finance Semi-Annual'!$8:$8,'Annual Financial Statement'!R$3,'Project Finance Semi-Annual'!89:89)","v":0},{"$f":"SUMIF('Project Finance Semi-Annual'!$8:$8,'Annual Financial Statement'!S$3,'Project Finance Semi-Annual'!89:89)","v":0},{"$f":"SUMIF('Project Finance Semi-Annual'!$8:$8,'Annual Financial Statement'!T$3,'Project Finance Semi-Annual'!89:89)","v":0},{"$f":"SUMIF('Project Finance Semi-Annual'!$8:$8,'Annual Financial Statement'!U$3,'Project Finance Semi-Annual'!89:89)","v":0},{"$f":"SUMIF('Project Finance Semi-Annual'!$8:$8,'Annual Financial Statement'!V$3,'Project Finance Semi-Annual'!89:89)","v":0},{"$f":"SUMIF('Project Finance Semi-Annual'!$8:$8,'Annual Financial Statement'!W$3,'Project Finance Semi-Annual'!89:89)","v":0},{"$f":"SUMIF('Project Finance Semi-Annual'!$8:$8,'Annual Financial Statement'!X$3,'Project Finance Semi-Annual'!89:89)","v":0},{"$f":"SUMIF('Project Finance Semi-Annual'!$8:$8,'Annual Financial Statement'!Y$3,'Project Finance Semi-Annual'!89:89)","v":0},{"$f":"SUMIF('Project Finance Semi-Annual'!$8:$8,'Annual Financial Statement'!Z$3,'Project Finance Semi-Annual'!89:89)","v":0},{"$f":"SUMIF('Project Finance Semi-Annual'!$8:$8,'Annual Financial Statement'!AA$3,'Project Finance Semi-Annual'!89:89)","v":0},{"$f":"SUMIF('Project Finance Semi-Annual'!$8:$8,'Annual Financial Statement'!AB$3,'Project Finance Semi-Annual'!89:89)","v":0},{"$f":"SUMIF('Project Finance Semi-Annual'!$8:$8,'Annual Financial Statement'!AC$3,'Project Finance Semi-Annual'!89:89)","v":0},{"$f":"SUMIF('Project Finance Semi-Annual'!$8:$8,'Annual Financial Statement'!AD$3,'Project Finance Semi-Annual'!89:89)","v":0},{"$f":"SUMIF('Project Finance Semi-Annual'!$8:$8,'Annual Financial Statement'!AE$3,'Project Finance Semi-Annual'!89:89)","v":0},{"$f":"SUMIF('Project Finance Semi-Annual'!$8:$8,'Annual Financial Statement'!AF$3,'Project Finance Semi-Annual'!89:89)","v":0},{"$f":"SUMIF('Project Finance Semi-Annual'!$8:$8,'Annual Financial Statement'!AG$3,'Project Finance Semi-Annual'!89:89)","v":0},{"$f":"SUMIF('Project Finance Semi-Annual'!$8:$8,'Annual Financial Statement'!AH$3,'Project Finance Semi-Annual'!89:89)","v":0},{"$f":"SUMIF('Project Finance Semi-Annual'!$8:$8,'Annual Financial Statement'!AI$3,'Project Finance Semi-Annual'!89:89)","v":0},{"$f":"SUMIF('Project Finance Semi-Annual'!$8:$8,'Annual Financial Statement'!AJ$3,'Project Finance Semi-Annual'!89:89)","v":0},{"$f":"SUMIF('Project Finance Semi-Annual'!$8:$8,'Annual Financial Statement'!AK$3,'Project Finance Semi-Annual'!89:89)","v":0},{"$f":"SUMIF('Project Finance Semi-Annual'!$8:$8,'Annual Financial Statement'!AL$3,'Project Finance Semi-Annual'!89:89)","v":0},{"$f":"SUMIF('Project Finance Semi-Annual'!$8:$8,'Annual Financial Statement'!AM$3,'Project Finance Semi-Annual'!89:89)","v":0},{"$f":"SUMIF('Project Finance Semi-Annual'!$8:$8,'Annual Financial Statement'!AN$3,'Project Finance Semi-Annual'!89:89)","v":0},{"$f":"SUMIF('Project Finance Semi-Annual'!$8:$8,'Annual Financial Statement'!AO$3,'Project Finance Semi-Annual'!89:89)","v":0},{"$f":"SUMIF('Project Finance Semi-Annual'!$8:$8,'Annual Financial Statement'!AP$3,'Project Finance Semi-Annual'!89:89)","v":0},{"$f":"SUMIF('Project Finance Semi-Annual'!$8:$8,'Annual Financial Statement'!AQ$3,'Project Finance Semi-Annual'!89:89)","v":0},{"$f":"SUMIF('Project Finance Semi-Annual'!$8:$8,'Annual Financial Statement'!AR$3,'Project Finance Semi-Annual'!89:89)","v":0},{"$f":"SUMIF('Project Finance Semi-Annual'!$8:$8,'Annual Financial Statement'!AS$3,'Project Finance Semi-Annual'!89:89)","v":0},{"$f":"SUMIF('Project Finance Semi-Annual'!$8:$8,'Annual Financial Statement'!AT$3,'Project Finance Semi-Annual'!89:89)","v":0},{"$f":"SUMIF('Project Finance Semi-Annual'!$8:$8,'Annual Financial Statement'!AU$3,'Project Finance Semi-Annual'!89:89)","v":0},{"$f":"SUMIF('Project Finance Semi-Annual'!$8:$8,'Annual Financial Statement'!AV$3,'Project Finance Semi-Annual'!89:89)","v":0},{"$f":"SUMIF('Project Finance Semi-Annual'!$8:$8,'Annual Financial Statement'!AW$3,'Project Finance Semi-Annual'!89:89)","v":0},{"$f":"SUMIF('Project Finance Semi-Annual'!$8:$8,'Annual Financial Statement'!AX$3,'Project Finance Semi-Annual'!89:89)","v":0}]
[null,null,"Less: Capital Expenditures - Commitment Fees",null,null,null,null,null,null,{"$f":"-SUMIF('Project Finance Semi-Annual'!$8:$8,'Annual Financial Statement'!J$3,'Project Finance Semi-Annual'!90:90)","v":0},{"$f":"SUMIF('Project Finance Semi-Annual'!$8:$8,'Annual Financial Statement'!K$3,'Project Finance Semi-Annual'!90:90)","v":0},{"$f":"SUMIF('Project Finance Semi-Annual'!$8:$8,'Annual Financial Statement'!L$3,'Project Finance Semi-Annual'!90:90)","v":0},{"$f":"SUMIF('Project Finance Semi-Annual'!$8:$8,'Annual Financial Statement'!M$3,'Project Finance Semi-Annual'!90:90)","v":0},{"$f":"SUMIF('Project Finance Semi-Annual'!$8:$8,'Annual Financial Statement'!N$3,'Project Finance Semi-Annual'!90:90)","v":0},{"$f":"SUMIF('Project Finance Semi-Annual'!$8:$8,'Annual Financial Statement'!O$3,'Project Finance Semi-Annual'!90:90)","v":0},{"$f":"SUMIF('Project Finance Semi-Annual'!$8:$8,'Annual Financial Statement'!P$3,'Project Finance Semi-Annual'!90:90)","v":0},{"$f":"SUMIF('Project Finance Semi-Annual'!$8:$8,'Annual Financial Statement'!Q$3,'Project Finance Semi-Annual'!90:90)","v":0},{"$f":"SUMIF('Project Finance Semi-Annual'!$8:$8,'Annual Financial Statement'!R$3,'Project Finance Semi-Annual'!90:90)","v":0},{"$f":"SUMIF('Project Finance Semi-Annual'!$8:$8,'Annual Financial Statement'!S$3,'Project Finance Semi-Annual'!90:90)","v":0},{"$f":"SUMIF('Project Finance Semi-Annual'!$8:$8,'Annual Financial Statement'!T$3,'Project Finance Semi-Annual'!90:90)","v":0},{"$f":"SUMIF('Project Finance Semi-Annual'!$8:$8,'Annual Financial Statement'!U$3,'Project Finance Semi-Annual'!90:90)","v":0},{"$f":"SUMIF('Project Finance Semi-Annual'!$8:$8,'Annual Financial Statement'!V$3,'Project Finance Semi-Annual'!90:90)","v":0},{"$f":"SUMIF('Project Finance Semi-Annual'!$8:$8,'Annual Financial Statement'!W$3,'Project Finance Semi-Annual'!90:90)","v":0},{"$f":"SUMIF('Project Finance Semi-Annual'!$8:$8,'Annual Financial Statement'!X$3,'Project Finance Semi-Annual'!90:90)","v":0},{"$f":"SUMIF('Project Finance Semi-Annual'!$8:$8,'Annual Financial Statement'!Y$3,'Project Finance Semi-Annual'!90:90)","v":0},{"$f":"SUMIF('Project Finance Semi-Annual'!$8:$8,'Annual Financial Statement'!Z$3,'Project Finance Semi-Annual'!90:90)","v":0},{"$f":"SUMIF('Project Finance Semi-Annual'!$8:$8,'Annual Financial Statement'!AA$3,'Project Finance Semi-Annual'!90:90)","v":0},{"$f":"SUMIF('Project Finance Semi-Annual'!$8:$8,'Annual Financial Statement'!AB$3,'Project Finance Semi-Annual'!90:90)","v":0},{"$f":"SUMIF('Project Finance Semi-Annual'!$8:$8,'Annual Financial Statement'!AC$3,'Project Finance Semi-Annual'!90:90)","v":0},{"$f":"SUMIF('Project Finance Semi-Annual'!$8:$8,'Annual Financial Statement'!AD$3,'Project Finance Semi-Annual'!90:90)","v":0},{"$f":"SUMIF('Project Finance Semi-Annual'!$8:$8,'Annual Financial Statement'!AE$3,'Project Finance Semi-Annual'!90:90)","v":0},{"$f":"SUMIF('Project Finance Semi-Annual'!$8:$8,'Annual Financial Statement'!AF$3,'Project Finance Semi-Annual'!90:90)","v":0},{"$f":"SUMIF('Project Finance Semi-Annual'!$8:$8,'Annual Financial Statement'!AG$3,'Project Finance Semi-Annual'!90:90)","v":0},{"$f":"SUMIF('Project Finance Semi-Annual'!$8:$8,'Annual Financial Statement'!AH$3,'Project Finance Semi-Annual'!90:90)","v":0},{"$f":"SUMIF('Project Finance Semi-Annual'!$8:$8,'Annual Financial Statement'!AI$3,'Project Finance Semi-Annual'!90:90)","v":0},{"$f":"SUMIF('Project Finance Semi-Annual'!$8:$8,'Annual Financial Statement'!AJ$3,'Project Finance Semi-Annual'!90:90)","v":0},{"$f":"SUMIF('Project Finance Semi-Annual'!$8:$8,'Annual Financial Statement'!AK$3,'Project Finance Semi-Annual'!90:90)","v":0},{"$f":"SUMIF('Project Finance Semi-Annual'!$8:$8,'Annual Financial Statement'!AL$3,'Project Finance Semi-Annual'!90:90)","v":0},{"$f":"SUMIF('Project Finance Semi-Annual'!$8:$8,'Annual Financial Statement'!AM$3,'Project Finance Semi-Annual'!90:90)","v":0},{"$f":"SUMIF('Project Finance Semi-Annual'!$8:$8,'Annual Financial Statement'!AN$3,'Project Finance Semi-Annual'!90:90)","v":0},{"$f":"SUMIF('Project Finance Semi-Annual'!$8:$8,'Annual Financial Statement'!AO$3,'Project Finance Semi-Annual'!90:90)","v":0},{"$f":"SUMIF('Project Finance Semi-Annual'!$8:$8,'Annual Financial Statement'!AP$3,'Project Finance Semi-Annual'!90:90)","v":0},{"$f":"SUMIF('Project Finance Semi-Annual'!$8:$8,'Annual Financial Statement'!AQ$3,'Project Finance Semi-Annual'!90:90)","v":0},{"$f":"SUMIF('Project Finance Semi-Annual'!$8:$8,'Annual Financial Statement'!AR$3,'Project Finance Semi-Annual'!90:90)","v":0},{"$f":"SUMIF('Project Finance Semi-Annual'!$8:$8,'Annual Financial Statement'!AS$3,'Project Finance Semi-Annual'!90:90)","v":0},{"$f":"SUMIF('Project Finance Semi-Annual'!$8:$8,'Annual Financial Statement'!AT$3,'Project Finance Semi-Annual'!90:90)","v":0},{"$f":"SUMIF('Project Finance Semi-Annual'!$8:$8,'Annual Financial Statement'!AU$3,'Project Finance Semi-Annual'!90:90)","v":0},{"$f":"SUMIF('Project Finance Semi-Annual'!$8:$8,'Annual Financial Statement'!AV$3,'Project Finance Semi-Annual'!90:90)","v":0},{"$f":"SUMIF('Project Finance Semi-Annual'!$8:$8,'Annual Financial Statement'!AW$3,'Project Finance Semi-Annual'!90:90)","v":0},{"$f":"SUMIF('Project Finance Semi-Annual'!$8:$8,'Annual Financial Statement'!AX$3,'Project Finance Semi-Annual'!90:90)","v":0}]
[null,null,null,"Cash Flow Before financing",null,null,null,null,null,{"$f":"SUM(J20:J24)","v":-3600000},{"$f":"SUM(K20:K24)","v":0},0,0,0,0,0,0,0,0,0,0,0,0,0,0,0,0,0,0,0,0,0,0,0,0,0,0,0,0,0,0,0,0,0,0,0,0,0,0,0]
[null,null,"Less: Interest Paid During Operation - Senior",null,null,null,null,null,null,{"$f":"-J11","v":0},{"$f":"-K11","v":0},0,0,0,0,0,0,0,0,0,0,0,0,0,0,0,0,0,0,0,0,0,0,0,0,0,0,0,{"$f":"-AM11","v":0},0,0,0,0,0,0,0,{"$f":"-AU11","v":0},0,0,0]
[null,null,"Less: Repayment of Senior Debt",null,null,null,null,null,null,{"$f":"-SUMIF('Project Finance Semi-Annual'!$8:$8,'Annual Financial Statement'!J$3,'Project Finance Semi-Annual'!118:118)","v":0},{"$f":"-SUMIF('Project Finance Semi-Annual'!$8:$8,'Annual Financial Statement'!K$3,'Project Finance Semi-Annual'!118:118)","v":0},{"$f":"-SUMIF('Project Finance Semi-Annual'!$8:$8,'Annual Financial Statement'!L$3,'Project Finance Semi-Annual'!118:118)","v":0},{"$f":"-SUMIF('Project Finance Semi-Annual'!$8:$8,'Annual Financial Statement'!M$3,'Project Finance Semi-Annual'!118:118)","v":0},{"$f":"-SUMIF('Project Finance Semi-Annual'!$8:$8,'Annual Financial Statement'!N$3,'Project Finance Semi-Annual'!118:118)","v":0},{"$f":"-SUMIF('Project Finance Semi-Annual'!$8:$8,'Annual Financial Statement'!O$3,'Project Finance Semi-Annual'!118:118)","v":0},{"$f":"-SUMIF('Project Finance Semi-Annual'!$8:$8,'Annual Financial Statement'!P$3,'Project Finance Semi-Annual'!118:118)","v":0},{"$f":"-SUMIF('Project Finance Semi-Annual'!$8:$8,'Annual Financial Statement'!Q$3,'Project Finance Semi-Annual'!118:118)","v":0},{"$f":"-SUMIF('Project Finance Semi-Annual'!$8:$8,'Annual Financial Statement'!R$3,'Project Finance Semi-Annual'!118:118)","v":0},{"$f":"-SUMIF('Project Finance Semi-Annual'!$8:$8,'Annual Financial Statement'!S$3,'Project Finance Semi-Annual'!118:118)","v":0},{"$f":"-SUMIF('Project Finance Semi-Annual'!$8:$8,'Annual Financial Statement'!T$3,'Project Finance Semi-Annual'!118:118)","v":0},{"$f":"-SUMIF('Project Finance Semi-Annual'!$8:$8,'Annual Financial Statement'!U$3,'Project Finance Semi-Annual'!118:118)","v":0},{"$f":"-SUMIF('Project Finance Semi-Annual'!$8:$8,'Annual Financial Statement'!V$3,'Project Finance Semi-Annual'!118:118)","v":0},{"$f":"-SUMIF('Project Finance Semi-Annual'!$8:$8,'Annual Financial Statement'!W$3,'Project Finance Semi-Annual'!118:118)","v":0},{"$f":"-SUMIF('Project Finance Semi-Annual'!$8:$8,'Annual Financial Statement'!X$3,'Project Finance Semi-Annual'!118:118)","v":0},{"$f":"-SUMIF('Project Finance Semi-Annual'!$8:$8,'Annual Financial Statement'!Y$3,'Project Finance Semi-Annual'!118:118)","v":0},{"$f":"-SUMIF('Project Finance Semi-Annual'!$8:$8,'Annual Financial Statement'!Z$3,'Project Finance Semi-Annual'!118:118)","v":0},{"$f":"-SUMIF('Project Finance Semi-Annual'!$8:$8,'Annual Financial Statement'!AA$3,'Project Finance Semi-Annual'!118:118)","v":0},{"$f":"-SUMIF('Project Finance Semi-Annual'!$8:$8,'Annual Financial Statement'!AB$3,'Project Finance Semi-Annual'!118:118)","v":0},{"$f":"-SUMIF('Project Finance Semi-Annual'!$8:$8,'Annual Financial Statement'!AC$3,'Project Finance Semi-Annual'!118:118)","v":0},{"$f":"-SUMIF('Project Finance Semi-Annual'!$8:$8,'Annual Financial Statement'!AD$3,'Project Finance Semi-Annual'!118:118)","v":0},{"$f":"-SUMIF('Project Finance Semi-Annual'!$8:$8,'Annual Financial Statement'!AE$3,'Project Finance Semi-Annual'!118:118)","v":0},{"$f":"-SUMIF('Project Finance Semi-Annual'!$8:$8,'Annual Financial Statement'!AF$3,'Project Finance Semi-Annual'!118:118)","v":0},{"$f":"-SUMIF('Project Finance Semi-Annual'!$8:$8,'Annual Financial Statement'!AG$3,'Project Finance Semi-Annual'!118:118)","v":0},{"$f":"-SUMIF('Project Finance Semi-Annual'!$8:$8,'Annual Financial Statement'!AH$3,'Project Finance Semi-Annual'!118:118)","v":0},{"$f":"-SUMIF('Project Finance Semi-Annual'!$8:$8,'Annual Financial Statement'!AI$3,'Project Finance Semi-Annual'!118:118)","v":0},{"$f":"-SUMIF('Project Finance Semi-Annual'!$8:$8,'Annual Financial Statement'!AJ$3,'Project Finance Semi-Annual'!118:118)","v":0},{"$f":"-SUMIF('Project Finance Semi-Annual'!$8:$8,'Annual Financial Statement'!AK$3,'Project Finance Semi-Annual'!118:118)","v":0},{"$f":"-SUMIF('Project Finance Semi-Annual'!$8:$8,'Annual Financial Statement'!AL$3,'Project Finance Semi-Annual'!118:118)","v":0},{"$f":"-SUMIF('Project Finance Semi-Annual'!$8:$8,'Annual Financial Statement'!AM$3,'Project Finance Semi-Annual'!118:118)","v":0},{"$f":"-SUMIF('Project Finance Semi-Annual'!$8:$8,'Annual Financial Statement'!AN$3,'Project Finance Semi-Annual'!118:118)","v":0},{"$f":"-SUMIF('Project Finance Semi-Annual'!$8:$8,'Annual Financial Statement'!AO$3,'Project Finance Semi-Annual'!118:118)","v":0},{"$f":"-SUMIF('Project Finance Semi-Annual'!$8:$8,'Annual Financial Statement'!AP$3,'Project Finance Semi-Annual'!118:118)","v":0},{"$f":"-SUMIF('Project Finance Semi-Annual'!$8:$8,'Annual Financial Statement'!AQ$3,'Project Finance Semi-Annual'!118:118)","v":0},{"$f":"-SUMIF('Project Finance Semi-Annual'!$8:$8,'Annual Financial Statement'!AR$3,'Project Finance Semi-Annual'!118:118)","v":0},{"$f":"-SUMIF('Project Finance Semi-Annual'!$8:$8,'Annual Financial Statement'!AS$3,'Project Finance Semi-Annual'!118:118)","v":0},{"$f":"-SUMIF('Project Finance Semi-Annual'!$8:$8,'Annual Financial Statement'!AT$3,'Project Finance Semi-Annual'!118:118)","v":0},{"$f":"-SUMIF('Project Finance Semi-Annual'!$8:$8,'Annual Financial Statement'!AU$3,'Project Finance Semi-Annual'!118:118)","v":0},{"$f":"-SUMIF('Project Finance Semi-Annual'!$8:$8,'Annual Financial Statement'!AV$3,'Project Finance Semi-Annual'!118:118)","v":0},{"$f":"-SUMIF('Project Finance Semi-Annual'!$8:$8,'Annual Financial Statement'!AW$3,'Project Finance Semi-Annual'!118:118)","v":0},{"$f":"-SUMIF('Project Finance Semi-Annual'!$8:$8,'Annual Financial Statement'!AX$3,'Project Finance Semi-Annual'!118:118)","v":0}]
[null,null,"Add: Issuance of Debt",null,null,null,null,null,null,{"$f":"SUMIF('Project Finance Semi-Annual'!$8:$8,'Annual Financial Statement'!J$3,'Project Finance Semi-Annual'!117:117)","v":0},{"$f":"SUMIF('Project Finance Semi-Annual'!$8:$8,'Annual Financial Statement'!K$3,'Project Finance Semi-Annual'!117:117)","v":0},{"$f":"SUMIF('Project Finance Semi-Annual'!$8:$8,'Annual Financial Statement'!L$3,'Project Finance Semi-Annual'!117:117)","v":0},{"$f":"SUMIF('Project Finance Semi-Annual'!$8:$8,'Annual Financial Statement'!M$3,'Project Finance Semi-Annual'!117:117)","v":0},{"$f":"SUMIF('Project Finance Semi-Annual'!$8:$8,'Annual Financial Statement'!N$3,'Project Finance Semi-Annual'!117:117)","v":0},{"$f":"SUMIF('Project Finance Semi-Annual'!$8:$8,'Annual Financial Statement'!O$3,'Project Finance Semi-Annual'!117:117)","v":0},{"$f":"SUMIF('Project Finance Semi-Annual'!$8:$8,'Annual Financial Statement'!P$3,'Project Finance Semi-Annual'!117:117)","v":0},{"$f":"SUMIF('Project Finance Semi-Annual'!$8:$8,'Annual Financial Statement'!Q$3,'Project Finance Semi-Annual'!117:117)","v":0},{"$f":"SUMIF('Project Finance Semi-Annual'!$8:$8,'Annual Financial Statement'!R$3,'Project Finance Semi-Annual'!117:117)","v":0},{"$f":"SUMIF('Project Finance Semi-Annual'!$8:$8,'Annual Financial Statement'!S$3,'Project Finance Semi-Annual'!117:117)","v":0},{"$f":"SUMIF('Project Finance Semi-Annual'!$8:$8,'Annual Financial Statement'!T$3,'Project Finance Semi-Annual'!117:117)","v":0},{"$f":"SUMIF('Project Finance Semi-Annual'!$8:$8,'Annual Financial Statement'!U$3,'Project Finance Semi-Annual'!117:117)","v":0},{"$f":"SUMIF('Project Finance Semi-Annual'!$8:$8,'Annual Financial Statement'!V$3,'Project Finance Semi-Annual'!117:117)","v":0},{"$f":"SUMIF('Project Finance Semi-Annual'!$8:$8,'Annual Financial Statement'!W$3,'Project Finance Semi-Annual'!117:117)","v":0},{"$f":"SUMIF('Project Finance Semi-Annual'!$8:$8,'Annual Financial Statement'!X$3,'Project Finance Semi-Annual'!117:117)","v":0},{"$f":"SUMIF('Project Finance Semi-Annual'!$8:$8,'Annual Financial Statement'!Y$3,'Project Finance Semi-Annual'!117:117)","v":0},{"$f":"SUMIF('Project Finance Semi-Annual'!$8:$8,'Annual Financial Statement'!Z$3,'Project Finance Semi-Annual'!117:117)","v":0},{"$f":"SUMIF('Project Finance Semi-Annual'!$8:$8,'Annual Financial Statement'!AA$3,'Project Finance Semi-Annual'!117:117)","v":0},{"$f":"SUMIF('Project Finance Semi-Annual'!$8:$8,'Annual Financial Statement'!AB$3,'Project Finance Semi-Annual'!117:117)","v":0},{"$f":"SUMIF('Project Finance Semi-Annual'!$8:$8,'Annual Financial Statement'!AC$3,'Project Finance Semi-Annual'!117:117)","v":0},{"$f":"SUMIF('Project Finance Semi-Annual'!$8:$8,'Annual Financial Statement'!AD$3,'Project Finance Semi-Annual'!117:117)","v":0},{"$f":"SUMIF('Project Finance Semi-Annual'!$8:$8,'Annual Financial Statement'!AE$3,'Project Finance Semi-Annual'!117:117)","v":0},{"$f":"SUMIF('Project Finance Semi-Annual'!$8:$8,'Annual Financial Statement'!AF$3,'Project Finance Semi-Annual'!117:117)","v":0},{"$f":"SUMIF('Project Finance Semi-Annual'!$8:$8,'Annual Financial Statement'!AG$3,'Project Finance Semi-Annual'!117:117)","v":0},{"$f":"SUMIF('Project Finance Semi-Annual'!$8:$8,'Annual Financial Statement'!AH$3,'Project Finance Semi-Annual'!117:117)","v":0},{"$f":"SUMIF('Project Finance Semi-Annual'!$8:$8,'Annual Financial Statement'!AI$3,'Project Finance Semi-Annual'!117:117)","v":0},{"$f":"SUMIF('Project Finance Semi-Annual'!$8:$8,'Annual Financial Statement'!AJ$3,'Project Finance Semi-Annual'!117:117)","v":0},{"$f":"SUMIF('Project Finance Semi-Annual'!$8:$8,'Annual Financial Statement'!AK$3,'Project Finance Semi-Annual'!117:117)","v":0},{"$f":"SUMIF('Project Finance Semi-Annual'!$8:$8,'Annual Financial Statement'!AL$3,'Project Finance Semi-Annual'!117:117)","v":0},{"$f":"SUMIF('Project Finance Semi-Annual'!$8:$8,'Annual Financial Statement'!AM$3,'Project Finance Semi-Annual'!117:117)","v":0},{"$f":"SUMIF('Project Finance Semi-Annual'!$8:$8,'Annual Financial Statement'!AN$3,'Project Finance Semi-Annual'!117:117)","v":0},{"$f":"SUMIF('Project Finance Semi-Annual'!$8:$8,'Annual Financial Statement'!AO$3,'Project Finance Semi-Annual'!117:117)","v":0},{"$f":"SUMIF('Project Finance Semi-Annual'!$8:$8,'Annual Financial Statement'!AP$3,'Project Finance Semi-Annual'!117:117)","v":0},{"$f":"SUMIF('Project Finance Semi-Annual'!$8:$8,'Annual Financial Statement'!AQ$3,'Project Finance Semi-Annual'!117:117)","v":0},{"$f":"SUMIF('Project Finance Semi-Annual'!$8:$8,'Annual Financial Statement'!AR$3,'Project Finance Semi-Annual'!117:117)","v":0},{"$f":"SUMIF('Project Finance Semi-Annual'!$8:$8,'Annual Financial Statement'!AS$3,'Project Finance Semi-Annual'!117:117)","v":0},{"$f":"SUMIF('Project Finance Semi-Annual'!$8:$8,'Annual Financial Statement'!AT$3,'Project Finance Semi-Annual'!117:117)","v":0},{"$f":"SUMIF('Project Finance Semi-Annual'!$8:$8,'Annual Financial Statement'!AU$3,'Project Finance Semi-Annual'!117:117)","v":0},{"$f":"SUMIF('Project Finance Semi-Annual'!$8:$8,'Annual Financial Statement'!AV$3,'Project Finance Semi-Annual'!117:117)","v":0},{"$f":"SUMIF('Project Finance Semi-Annual'!$8:$8,'Annual Financial Statement'!AW$3,'Project Finance Semi-Annual'!117:117)","v":0},{"$f":"SUMIF('Project Finance Semi-Annual'!$8:$8,'Annual Financial Statement'!AX$3,'Project Finance Semi-Annual'!117:117)","v":0}]
[null,null,"Less: DSRA - Construction",null,null,null,null,null,null,{"$f":"-SUMIF('Project Finance Semi-Annual'!$8:$8,'Annual Financial Statement'!J$3,'Project Finance Semi-Annual'!141:141)","v":0},{"$f":"-SUMIF('Project Finance Semi-Annual'!$8:$8,'Annual Financial Statement'!K$3,'Project Finance Semi-Annual'!141:141)","v":0},{"$f":"-SUMIF('Project Finance Semi-Annual'!$8:$8,'Annual Financial Statement'!L$3,'Project Finance Semi-Annual'!141:141)","v":0},{"$f":"-SUMIF('Project Finance Semi-Annual'!$8:$8,'Annual Financial Statement'!M$3,'Project Finance Semi-Annual'!141:141)","v":0},{"$f":"-SUMIF('Project Finance Semi-Annual'!$8:$8,'Annual Financial Statement'!N$3,'Project Finance Semi-Annual'!141:141)","v":0},{"$f":"-SUMIF('Project Finance Semi-Annual'!$8:$8,'Annual Financial Statement'!O$3,'Project Finance Semi-Annual'!141:141)","v":0},{"$f":"-SUMIF('Project Finance Semi-Annual'!$8:$8,'Annual Financial Statement'!P$3,'Project Finance Semi-Annual'!141:141)","v":0},{"$f":"-SUMIF('Project Finance Semi-Annual'!$8:$8,'Annual Financial Statement'!Q$3,'Project Finance Semi-Annual'!141:141)","v":0},{"$f":"-SUMIF('Project Finance Semi-Annual'!$8:$8,'Annual Financial Statement'!R$3,'Project Finance Semi-Annual'!141:141)","v":0},{"$f":"-SUMIF('Project Finance Semi-Annual'!$8:$8,'Annual Financial Statement'!S$3,'Project Finance Semi-Annual'!141:141)","v":0},{"$f":"-SUMIF('Project Finance Semi-Annual'!$8:$8,'Annual Financial Statement'!T$3,'Project Finance Semi-Annual'!141:141)","v":0},{"$f":"-SUMIF('Project Finance Semi-Annual'!$8:$8,'Annual Financial Statement'!U$3,'Project Finance Semi-Annual'!141:141)","v":0},{"$f":"-SUMIF('Project Finance Semi-Annual'!$8:$8,'Annual Financial Statement'!V$3,'Project Finance Semi-Annual'!141:141)","v":0},{"$f":"-SUMIF('Project Finance Semi-Annual'!$8:$8,'Annual Financial Statement'!W$3,'Project Finance Semi-Annual'!141:141)","v":0},{"$f":"-SUMIF('Project Finance Semi-Annual'!$8:$8,'Annual Financial Statement'!X$3,'Project Finance Semi-Annual'!141:141)","v":0},{"$f":"-SUMIF('Project Finance Semi-Annual'!$8:$8,'Annual Financial Statement'!Y$3,'Project Finance Semi-Annual'!141:141)","v":0},{"$f":"-SUMIF('Project Finance Semi-Annual'!$8:$8,'Annual Financial Statement'!Z$3,'Project Finance Semi-Annual'!141:141)","v":0},{"$f":"-SUMIF('Project Finance Semi-Annual'!$8:$8,'Annual Financial Statement'!AA$3,'Project Finance Semi-Annual'!141:141)","v":0},{"$f":"-SUMIF('Project Finance Semi-Annual'!$8:$8,'Annual Financial Statement'!AB$3,'Project Finance Semi-Annual'!141:141)","v":0},{"$f":"-SUMIF('Project Finance Semi-Annual'!$8:$8,'Annual Financial Statement'!AC$3,'Project Finance Semi-Annual'!141:141)","v":0},{"$f":"-SUMIF('Project Finance Semi-Annual'!$8:$8,'Annual Financial Statement'!AD$3,'Project Finance Semi-Annual'!141:141)","v":0},{"$f":"-SUMIF('Project Finance Semi-Annual'!$8:$8,'Annual Financial Statement'!AE$3,'Project Finance Semi-Annual'!141:141)","v":0},{"$f":"-SUMIF('Project Finance Semi-Annual'!$8:$8,'Annual Financial Statement'!AF$3,'Project Finance Semi-Annual'!141:141)","v":0},{"$f":"-SUMIF('Project Finance Semi-Annual'!$8:$8,'Annual Financial Statement'!AG$3,'Project Finance Semi-Annual'!141:141)","v":0},{"$f":"-SUMIF('Project Finance Semi-Annual'!$8:$8,'Annual Financial Statement'!AH$3,'Project Finance Semi-Annual'!141:141)","v":0},{"$f":"-SUMIF('Project Finance Semi-Annual'!$8:$8,'Annual Financial Statement'!AI$3,'Project Finance Semi-Annual'!141:141)","v":0},{"$f":"-SUMIF('Project Finance Semi-Annual'!$8:$8,'Annual Financial Statement'!AJ$3,'Project Finance Semi-Annual'!141:141)","v":0},{"$f":"-SUMIF('Project Finance Semi-Annual'!$8:$8,'Annual Financial Statement'!AK$3,'Project Finance Semi-Annual'!141:141)","v":0},{"$f":"-SUMIF('Project Finance Semi-Annual'!$8:$8,'Annual Financial Statement'!AL$3,'Project Finance Semi-Annual'!141:141)","v":0},{"$f":"-SUMIF('Project Finance Semi-Annual'!$8:$8,'Annual Financial Statement'!AM$3,'Project Finance Semi-Annual'!141:141)","v":0},{"$f":"-SUMIF('Project Finance Semi-Annual'!$8:$8,'Annual Financial Statement'!AN$3,'Project Finance Semi-Annual'!141:141)","v":0},{"$f":"-SUMIF('Project Finance Semi-Annual'!$8:$8,'Annual Financial Statement'!AO$3,'Project Finance Semi-Annual'!141:141)","v":0},{"$f":"-SUMIF('Project Finance Semi-Annual'!$8:$8,'Annual Financial Statement'!AP$3,'Project Finance Semi-Annual'!141:141)","v":0},{"$f":"-SUMIF('Project Finance Semi-Annual'!$8:$8,'Annual Financial Statement'!AQ$3,'Project Finance Semi-Annual'!141:141)","v":0},{"$f":"-SUMIF('Project Finance Semi-Annual'!$8:$8,'Annual Financial Statement'!AR$3,'Project Finance Semi-Annual'!141:141)","v":0},{"$f":"-SUMIF('Project Finance Semi-Annual'!$8:$8,'Annual Financial Statement'!AS$3,'Project Finance Semi-Annual'!141:141)","v":0},{"$f":"-SUMIF('Project Finance Semi-Annual'!$8:$8,'Annual Financial Statement'!AT$3,'Project Finance Semi-Annual'!141:141)","v":0},{"$f":"-SUMIF('Project Finance Semi-Annual'!$8:$8,'Annual Financial Statement'!AU$3,'Project Finance Semi-Annual'!141:141)","v":0},{"$f":"-SUMIF('Project Finance Semi-Annual'!$8:$8,'Annual Financial Statement'!AV$3,'Project Finance Semi-Annual'!141:141)","v":0},{"$f":"-SUMIF('Project Finance Semi-Annual'!$8:$8,'Annual Financial Statement'!AW$3,'Project Finance Semi-Annual'!141:141)","v":0},{"$f":"-SUMIF('Project Finance Semi-Annual'!$8:$8,'Annual Financial Statement'!AX$3,'Project Finance Semi-Annual'!141:141)","v":0}]
[null,null,"Less: DSRA - Operation",null,null,null,null,null,null,{"$f":"-SUMIF('Project Finance Semi-Annual'!$8:$8,'Annual Financial Statement'!J$3,'Project Finance Semi-Annual'!142:142)","v":0},{"$f":"-SUMIF('Project Finance Semi-Annual'!$8:$8,'Annual Financial Statement'!K$3,'Project Finance Semi-Annual'!142:142)","v":0},{"$f":"-SUMIF('Project Finance Semi-Annual'!$8:$8,'Annual Financial Statement'!L$3,'Project Finance Semi-Annual'!142:142)","v":0},{"$f":"-SUMIF('Project Finance Semi-Annual'!$8:$8,'Annual Financial Statement'!M$3,'Project Finance Semi-Annual'!142:142)","v":0},{"$f":"-SUMIF('Project Finance Semi-Annual'!$8:$8,'Annual Financial Statement'!N$3,'Project Finance Semi-Annual'!142:142)","v":0},{"$f":"-SUMIF('Project Finance Semi-Annual'!$8:$8,'Annual Financial Statement'!O$3,'Project Finance Semi-Annual'!142:142)","v":0},{"$f":"-SUMIF('Project Finance Semi-Annual'!$8:$8,'Annual Financial Statement'!P$3,'Project Finance Semi-Annual'!142:142)","v":0},{"$f":"-SUMIF('Project Finance Semi-Annual'!$8:$8,'Annual Financial Statement'!Q$3,'Project Finance Semi-Annual'!142:142)","v":0},{"$f":"-SUMIF('Project Finance Semi-Annual'!$8:$8,'Annual Financial Statement'!R$3,'Project Finance Semi-Annual'!142:142)","v":0},{"$f":"-SUMIF('Project Finance Semi-Annual'!$8:$8,'Annual Financial Statement'!S$3,'Project Finance Semi-Annual'!142:142)","v":0},{"$f":"-SUMIF('Project Finance Semi-Annual'!$8:$8,'Annual Financial Statement'!T$3,'Project Finance Semi-Annual'!142:142)","v":0},{"$f":"-SUMIF('Project Finance Semi-Annual'!$8:$8,'Annual Financial Statement'!U$3,'Project Finance Semi-Annual'!142:142)","v":0},{"$f":"-SUMIF('Project Finance Semi-Annual'!$8:$8,'Annual Financial Statement'!V$3,'Project Finance Semi-Annual'!142:142)","v":0},{"$f":"-SUMIF('Project Finance Semi-Annual'!$8:$8,'Annual Financial Statement'!W$3,'Project Finance Semi-Annual'!142:142)","v":0},{"$f":"-SUMIF('Project Finance Semi-Annual'!$8:$8,'Annual Financial Statement'!X$3,'Project Finance Semi-Annual'!142:142)","v":0},{"$f":"-SUMIF('Project Finance Semi-Annual'!$8:$8,'Annual Financial Statement'!Y$3,'Project Finance Semi-Annual'!142:142)","v":0},{"$f":"-SUMIF('Project Finance Semi-Annual'!$8:$8,'Annual Financial Statement'!Z$3,'Project Finance Semi-Annual'!142:142)","v":0},{"$f":"-SUMIF('Project Finance Semi-Annual'!$8:$8,'Annual Financial Statement'!AA$3,'Project Finance Semi-Annual'!142:142)","v":0},{"$f":"-SUMIF('Project Finance Semi-Annual'!$8:$8,'Annual Financial Statement'!AB$3,'Project Finance Semi-Annual'!142:142)","v":0},{"$f":"-SUMIF('Project Finance Semi-Annual'!$8:$8,'Annual Financial Statement'!AC$3,'Project Finance Semi-Annual'!142:142)","v":0},{"$f":"-SUMIF('Project Finance Semi-Annual'!$8:$8,'Annual Financial Statement'!AD$3,'Project Finance Semi-Annual'!142:142)","v":0},{"$f":"-SUMIF('Project Finance Semi-Annual'!$8:$8,'Annual Financial Statement'!AE$3,'Project Finance Semi-Annual'!142:142)","v":0},{"$f":"-SUMIF('Project Finance Semi-Annual'!$8:$8,'Annual Financial Statement'!AF$3,'Project Finance Semi-Annual'!142:142)","v":0},{"$f":"-SUMIF('Project Finance Semi-Annual'!$8:$8,'Annual Financial Statement'!AG$3,'Project Finance Semi-Annual'!142:142)","v":0},{"$f":"-SUMIF('Project Finance Semi-Annual'!$8:$8,'Annual Financial Statement'!AH$3,'Project Finance Semi-Annual'!142:142)","v":0},{"$f":"-SUMIF('Project Finance Semi-Annual'!$8:$8,'Annual Financial Statement'!AI$3,'Project Finance Semi-Annual'!142:142)","v":0},{"$f":"-SUMIF('Project Finance Semi-Annual'!$8:$8,'Annual Financial Statement'!AJ$3,'Project Finance Semi-Annual'!142:142)","v":0},{"$f":"-SUMIF('Project Finance Semi-Annual'!$8:$8,'Annual Financial Statement'!AK$3,'Project Finance Semi-Annual'!142:142)","v":0},{"$f":"-SUMIF('Project Finance Semi-Annual'!$8:$8,'Annual Financial Statement'!AL$3,'Project Finance Semi-Annual'!142:142)","v":0},{"$f":"-SUMIF('Project Finance Semi-Annual'!$8:$8,'Annual Financial Statement'!AM$3,'Project Finance Semi-Annual'!142:142)","v":0},{"$f":"-SUMIF('Project Finance Semi-Annual'!$8:$8,'Annual Financial Statement'!AN$3,'Project Finance Semi-Annual'!142:142)","v":0},{"$f":"-SUMIF('Project Finance Semi-Annual'!$8:$8,'Annual Financial Statement'!AO$3,'Project Finance Semi-Annual'!142:142)","v":0},{"$f":"-SUMIF('Project Finance Semi-Annual'!$8:$8,'Annual Financial Statement'!AP$3,'Project Finance Semi-Annual'!142:142)","v":0},{"$f":"-SUMIF('Project Finance Semi-Annual'!$8:$8,'Annual Financial Statement'!AQ$3,'Project Finance Semi-Annual'!142:142)","v":0},{"$f":"-SUMIF('Project Finance Semi-Annual'!$8:$8,'Annual Financial Statement'!AR$3,'Project Finance Semi-Annual'!142:142)","v":0},{"$f":"-SUMIF('Project Finance Semi-Annual'!$8:$8,'Annual Financial Statement'!AS$3,'Project Finance Semi-Annual'!142:142)","v":0},{"$f":"-SUMIF('Project Finance Semi-Annual'!$8:$8,'Annual Financial Statement'!AT$3,'Project Finance Semi-Annual'!142:142)","v":0},{"$f":"-SUMIF('Project Finance Semi-Annual'!$8:$8,'Annual Financial Statement'!AU$3,'Project Finance Semi-Annual'!142:142)","v":0},{"$f":"-SUMIF('Project Finance Semi-Annual'!$8:$8,'Annual Financial Statement'!AV$3,'Project Finance Semi-Annual'!142:142)","v":0},{"$f":"-SUMIF('Project Finance Semi-Annual'!$8:$8,'Annual Financial Statement'!AW$3,'Project Finance Semi-Annual'!142:142)","v":0},{"$f":"-SUMIF('Project Finance Semi-Annual'!$8:$8,'Annual Financial Statement'!AX$3,'Project Finance Semi-Annual'!142:142)","v":0}]
[null,null,null,"Cash Flow to All Equity"]
[null,null,"Less: Dividends",null,null,null,null,null,null,{"$f":"-SUMIF('Taxes Waterfall Returns'!$5:$5,J$3,'Taxes Waterfall Returns'!69:69)","v":{"$error":"#N/A"}},{"$f":"-SUMIF('Taxes Waterfall Returns'!$5:$5,K$3,'Taxes Waterfall Returns'!69:69)","v":0},{"$f":"-SUMIF('Taxes Waterfall Returns'!$5:$5,L$3,'Taxes Waterfall Returns'!69:69)","v":0},{"$f":"-SUMIF('Taxes Waterfall Returns'!$5:$5,M$3,'Taxes Waterfall Returns'!69:69)","v":0},{"$f":"-SUMIF('Taxes Waterfall Returns'!$5:$5,N$3,'Taxes Waterfall Returns'!69:69)","v":0},{"$f":"-SUMIF('Taxes Waterfall Returns'!$5:$5,O$3,'Taxes Waterfall Returns'!69:69)","v":0},{"$f":"-SUMIF('Taxes Waterfall Returns'!$5:$5,P$3,'Taxes Waterfall Returns'!69:69)","v":0},{"$f":"-SUMIF('Taxes Waterfall Returns'!$5:$5,Q$3,'Taxes Waterfall Returns'!69:69)","v":0},{"$f":"-SUMIF('Taxes Waterfall Returns'!$5:$5,R$3,'Taxes Waterfall Returns'!69:69)","v":0},{"$f":"-SUMIF('Taxes Waterfall Returns'!$5:$5,S$3,'Taxes Waterfall Returns'!69:69)","v":0},{"$f":"-SUMIF('Taxes Waterfall Returns'!$5:$5,T$3,'Taxes Waterfall Returns'!69:69)","v":0},{"$f":"-SUMIF('Taxes Waterfall Returns'!$5:$5,U$3,'Taxes Waterfall Returns'!69:69)","v":0},{"$f":"-SUMIF('Taxes Waterfall Returns'!$5:$5,V$3,'Taxes Waterfall Returns'!69:69)","v":0},{"$f":"-SUMIF('Taxes Waterfall Returns'!$5:$5,W$3,'Taxes Waterfall Returns'!69:69)","v":0},{"$f":"-SUMIF('Taxes Waterfall Returns'!$5:$5,X$3,'Taxes Waterfall Returns'!69:69)","v":0},{"$f":"-SUMIF('Taxes Waterfall Returns'!$5:$5,Y$3,'Taxes Waterfall Returns'!69:69)","v":0},{"$f":"-SUMIF('Taxes Waterfall Returns'!$5:$5,Z$3,'Taxes Waterfall Returns'!69:69)","v":0},{"$f":"-SUMIF('Taxes Waterfall Returns'!$5:$5,AA$3,'Taxes Waterfall Returns'!69:69)","v":0},{"$f":"-SUMIF('Taxes Waterfall Returns'!$5:$5,AB$3,'Taxes Waterfall Returns'!69:69)","v":0},{"$f":"-SUMIF('Taxes Waterfall Returns'!$5:$5,AC$3,'Taxes Waterfall Returns'!69:69)","v":0},{"$f":"-SUMIF('Taxes Waterfall Returns'!$5:$5,AD$3,'Taxes Waterfall Returns'!69:69)","v":0},{"$f":"-SUMIF('Taxes Waterfall Returns'!$5:$5,AE$3,'Taxes Waterfall Returns'!69:69)","v":0},{"$f":"-SUMIF('Taxes Waterfall Returns'!$5:$5,AF$3,'Taxes Waterfall Returns'!69:69)","v":0},{"$f":"-SUMIF('Taxes Waterfall Returns'!$5:$5,AG$3,'Taxes Waterfall Returns'!69:69)","v":0},{"$f":"-SUMIF('Taxes Waterfall Returns'!$5:$5,AH$3,'Taxes Waterfall Returns'!69:69)","v":0},{"$f":"-SUMIF('Taxes Waterfall Returns'!$5:$5,AI$3,'Taxes Waterfall Returns'!69:69)","v":0},{"$f":"-SUMIF('Taxes Waterfall Returns'!$5:$5,AJ$3,'Taxes Waterfall Returns'!69:69)","v":0},{"$f":"-SUMIF('Taxes Waterfall Returns'!$5:$5,AK$3,'Taxes Waterfall Returns'!69:69)","v":0},{"$f":"-SUMIF('Taxes Waterfall Returns'!$5:$5,AL$3,'Taxes Waterfall Returns'!69:69)","v":0},{"$f":"-SUMIF('Taxes Waterfall Returns'!$5:$5,AM$3,'Taxes Waterfall Returns'!69:69)","v":0},{"$f":"-SUMIF('Taxes Waterfall Returns'!$5:$5,AN$3,'Taxes Waterfall Returns'!69:69)","v":0},{"$f":"-SUMIF('Taxes Waterfall Returns'!$5:$5,AO$3,'Taxes Waterfall Returns'!69:69)","v":0},{"$f":"-SUMIF('Taxes Waterfall Returns'!$5:$5,AP$3,'Taxes Waterfall Returns'!69:69)","v":0},{"$f":"-SUMIF('Taxes Waterfall Returns'!$5:$5,AQ$3,'Taxes Waterfall Returns'!69:69)","v":0},{"$f":"-SUMIF('Taxes Waterfall Returns'!$5:$5,AR$3,'Taxes Waterfall Returns'!69:69)","v":0},{"$f":"-SUMIF('Taxes Waterfall Returns'!$5:$5,AS$3,'Taxes Waterfall Returns'!69:69)","v":0},{"$f":"-SUMIF('Taxes Waterfall Returns'!$5:$5,AT$3,'Taxes Waterfall Returns'!69:69)","v":0},{"$f":"-SUMIF('Taxes Waterfall Returns'!$5:$5,AU$3,'Taxes Waterfall Returns'!69:69)","v":0},{"$f":"-SUMIF('Taxes Waterfall Returns'!$5:$5,AV$3,'Taxes Waterfall Returns'!69:69)","v":0},{"$f":"-SUMIF('Taxes Waterfall Returns'!$5:$5,AW$3,'Taxes Waterfall Returns'!69:69)","v":0},{"$f":"-SUMIF('Taxes Waterfall Returns'!$5:$5,AX$3,'Taxes Waterfall Returns'!69:69)","v":0}]
[null,null,"Add: Equity Contributions",null,null,null,null,null,null,{"$f":"SUMIF('Project Finance Semi-Annual'!$8:$8,'Annual Financial Statement'!J$3,'Project Finance Semi-Annual'!105:105)","v":0},{"$f":"SUMIF('Project Finance Semi-Annual'!$8:$8,'Annual Financial Statement'!K$3,'Project Finance Semi-Annual'!105:105)","v":0},{"$f":"SUMIF('Project Finance Semi-Annual'!$8:$8,'Annual Financial Statement'!L$3,'Project Finance Semi-Annual'!105:105)","v":0},{"$f":"SUMIF('Project Finance Semi-Annual'!$8:$8,'Annual Financial Statement'!M$3,'Project Finance Semi-Annual'!105:105)","v":0},{"$f":"SUMIF('Project Finance Semi-Annual'!$8:$8,'Annual Financial Statement'!N$3,'Project Finance Semi-Annual'!105:105)","v":0},{"$f":"SUMIF('Project Finance Semi-Annual'!$8:$8,'Annual Financial Statement'!O$3,'Project Finance Semi-Annual'!105:105)","v":0},{"$f":"SUMIF('Project Finance Semi-Annual'!$8:$8,'Annual Financial Statement'!P$3,'Project Finance Semi-Annual'!105:105)","v":0},{"$f":"SUMIF('Project Finance Semi-Annual'!$8:$8,'Annual Financial Statement'!Q$3,'Project Finance Semi-Annual'!105:105)","v":0},{"$f":"SUMIF('Project Finance Semi-Annual'!$8:$8,'Annual Financial Statement'!R$3,'Project Finance Semi-Annual'!105:105)","v":0},{"$f":"SUMIF('Project Finance Semi-Annual'!$8:$8,'Annual Financial Statement'!S$3,'Project Finance Semi-Annual'!105:105)","v":0},{"$f":"SUMIF('Project Finance Semi-Annual'!$8:$8,'Annual Financial Statement'!T$3,'Project Finance Semi-Annual'!105:105)","v":0},{"$f":"SUMIF('Project Finance Semi-Annual'!$8:$8,'Annual Financial Statement'!U$3,'Project Finance Semi-Annual'!105:105)","v":0},{"$f":"SUMIF('Project Finance Semi-Annual'!$8:$8,'Annual Financial Statement'!V$3,'Project Finance Semi-Annual'!105:105)","v":0},{"$f":"SUMIF('Project Finance Semi-Annual'!$8:$8,'Annual Financial Statement'!W$3,'Project Finance Semi-Annual'!105:105)","v":0},{"$f":"SUMIF('Project Finance Semi-Annual'!$8:$8,'Annual Financial Statement'!X$3,'Project Finance Semi-Annual'!105:105)","v":0},{"$f":"SUMIF('Project Finance Semi-Annual'!$8:$8,'Annual Financial Statement'!Y$3,'Project Finance Semi-Annual'!105:105)","v":0},{"$f":"SUMIF('Project Finance Semi-Annual'!$8:$8,'Annual Financial Statement'!Z$3,'Project Finance Semi-Annual'!105:105)","v":0},{"$f":"SUMIF('Project Finance Semi-Annual'!$8:$8,'Annual Financial Statement'!AA$3,'Project Finance Semi-Annual'!105:105)","v":0},{"$f":"SUMIF('Project Finance Semi-Annual'!$8:$8,'Annual Financial Statement'!AB$3,'Project Finance Semi-Annual'!105:105)","v":0},{"$f":"SUMIF('Project Finance Semi-Annual'!$8:$8,'Annual Financial Statement'!AC$3,'Project Finance Semi-Annual'!105:105)","v":0},{"$f":"SUMIF('Project Finance Semi-Annual'!$8:$8,'Annual Financial Statement'!AD$3,'Project Finance Semi-Annual'!105:105)","v":0},{"$f":"SUMIF('Project Finance Semi-Annual'!$8:$8,'Annual Financial Statement'!AE$3,'Project Finance Semi-Annual'!105:105)","v":0},{"$f":"SUMIF('Project Finance Semi-Annual'!$8:$8,'Annual Financial Statement'!AF$3,'Project Finance Semi-Annual'!105:105)","v":0},{"$f":"SUMIF('Project Finance Semi-Annual'!$8:$8,'Annual Financial Statement'!AG$3,'Project Finance Semi-Annual'!105:105)","v":0},{"$f":"SUMIF('Project Finance Semi-Annual'!$8:$8,'Annual Financial Statement'!AH$3,'Project Finance Semi-Annual'!105:105)","v":0},{"$f":"SUMIF('Project Finance Semi-Annual'!$8:$8,'Annual Financial Statement'!AI$3,'Project Finance Semi-Annual'!105:105)","v":0},{"$f":"SUMIF('Project Finance Semi-Annual'!$8:$8,'Annual Financial Statement'!AJ$3,'Project Finance Semi-Annual'!105:105)","v":0},{"$f":"SUMIF('Project Finance Semi-Annual'!$8:$8,'Annual Financial Statement'!AK$3,'Project Finance Semi-Annual'!105:105)","v":0},{"$f":"SUMIF('Project Finance Semi-Annual'!$8:$8,'Annual Financial Statement'!AL$3,'Project Finance Semi-Annual'!105:105)","v":0},{"$f":"SUMIF('Project Finance Semi-Annual'!$8:$8,'Annual Financial Statement'!AM$3,'Project Finance Semi-Annual'!105:105)","v":0},{"$f":"SUMIF('Project Finance Semi-Annual'!$8:$8,'Annual Financial Statement'!AN$3,'Project Finance Semi-Annual'!105:105)","v":0},{"$f":"SUMIF('Project Finance Semi-Annual'!$8:$8,'Annual Financial Statement'!AO$3,'Project Finance Semi-Annual'!105:105)","v":0},{"$f":"SUMIF('Project Finance Semi-Annual'!$8:$8,'Annual Financial Statement'!AP$3,'Project Finance Semi-Annual'!105:105)","v":0},{"$f":"SUMIF('Project Finance Semi-Annual'!$8:$8,'Annual Financial Statement'!AQ$3,'Project Finance Semi-Annual'!105:105)","v":0},{"$f":"SUMIF('Project Finance Semi-Annual'!$8:$8,'Annual Financial Statement'!AR$3,'Project Finance Semi-Annual'!105:105)","v":0},{"$f":"SUMIF('Project Finance Semi-Annual'!$8:$8,'Annual Financial Statement'!AS$3,'Project Finance Semi-Annual'!105:105)","v":0},{"$f":"SUMIF('Project Finance Semi-Annual'!$8:$8,'Annual Financial Statement'!AT$3,'Project Finance Semi-Annual'!105:105)","v":0},{"$f":"SUMIF('Project Finance Semi-Annual'!$8:$8,'Annual Financial Statement'!AU$3,'Project Finance Semi-Annual'!105:105)","v":0},{"$f":"SUMIF('Project Finance Semi-Annual'!$8:$8,'Annual Financial Statement'!AV$3,'Project Finance Semi-Annual'!105:105)","v":0},{"$f":"SUMIF('Project Finance Semi-Annual'!$8:$8,'Annual Financial Statement'!AW$3,'Project Finance Semi-Annual'!105:105)","v":0},{"$f":"SUMIF('Project Finance Semi-Annual'!$8:$8,'Annual Financial Statement'!AX$3,'Project Finance Semi-Annual'!105:105)","v":0}]
[null,null,null,"Net Cash Flow",null,null,null,null,null,{"$f":"SUM(J31:J33)","v":{"$error":"#N/A"}},{"$f":"SUM(K31:K33)","v":0},0,0,0,0,0,0,0,0,0,0,0,0,0,0,0,0,0,0,0,0,0,0,0,0,0,0,0,0,0,0,0,0,0,0,0,0,0,0,0]
[]
[null,"Balance Sheet"]
[null,null,"Assets"]
[null,null,null,"Debt Service Reserve Account"]
[null,null,null,"Working Capial"]
[]
[null,null,null,"Solar Asset Balance",null,null,null,null,null,{"$f":"I41-J21","v":3600000},{"$f":"J41-K21","v":3600000},3600000,3600000,3600000,3600000,3600000,3600000,3600000,3600000,3600000,3600000,3600000,3600000,3600000,3600000,3600000,3600000,3600000,3600000,3600000,3600000,3600000,3600000,3600000,3600000,3600000,3600000,3600000,3600000,3600000,3600000,3600000,3600000,3600000,3600000,3600000,3600000,3600000,3600000,3600000]
[null,null,null,"IDC and Fee Asset Balance",null,null,null,null,null,{"$f":"I42-J22-J23-J24","v":0},{"$f":"J42-K22-K23-K24","v":0},0,0,0,0,0,0,0,0,0,0,0,0,0,0,0,0,0,0,0,0,0,0,0,0,0,0,0,0,0,0,0,0,0,0,0,0,0,0,0]
[null,null,null,"Less: Accumulated Depreciation",null,null,null,null,null,{"$f":"I43+J9","v":0},{"$f":"J43+K9","v":0},0,0,0,0,0,0,0,0,0,0,0,0,0,0,0,0,0,0,0,0,0,0,0,0,0,0,0,0,0,0,0,0,0,0,0,0,0,0,0]
[null,null,null,"Net Assets",null,null,null,null,null,{"$f":"J38+J39+J41+J42-J43","v":3600000},{"$f":"K38+K39+K41+K42-K43","v":3600000},3600000,3600000,3600000,3600000,3600000,3600000,3600000,3600000,3600000,3600000,3600000,3600000,3600000,3600000,3600000,3600000,3600000,3600000,3600000,3600000,3600000,3600000,3600000,3600000,3600000,3600000,3600000,3600000,3600000,3600000,3600000,3600000,3600000,3600000,3600000,3600000,3600000,3600000,3600000]
[]
[null,null,"Liabilites and Capital"]
[]
[null,null,null,"Senior Debt Balance",null,null,null,null,null,{"$f":"I48+J28+J27","v":0},{"$f":"J48+K28+K27","v":0},0,0,0,0,0,0,0,0,0,0,0,0,0,0,0,0,0,0,0,0,0,0,0,0,0,0,0,0,0,0,0,0,0,0,0,0,0,0,0]
[null,null,null,"Common Equity",null,null,null,null,null,{"$f":"I49+J33+J32+J14","v":{"$error":"#N/A"}},{"$f":"J49+K33+K32+K14","v":{"$error":"#N/A"}},{"$error":"#N/A"},{"$error":"#N/A"},{"$error":"#N/A"},{"$error":"#N/A"},{"$error":"#N/A"},{"$error":"#N/A"},{"$error":"#N/A"},{"$error":"#N/A"},{"$error":"#N/A"},{"$error":"#N/A"},{"$error":"#N/A"},{"$error":"#N/A"},{"$error":"#N/A"},{"$error":"#N/A"},{"$error":"#N/A"},{"$error":"#N/A"},{"$error":"#N/A"},{"$error":"#N/A"},{"$error":"#N/A"},{"$error":"#N/A"},{"$error":"#N/A"},{"$error":"#N/A"},{"$error":"#N/A"},{"$error":"#N/A"},{"$error":"#N/A"},{"$error":"#N/A"},{"$error":"#N/A"},{"$error":"#N/A"},{"$error":"#N/A"},{"$error":"#N/A"},{"$error":"#N/A"},{"$error":"#N/A"},{"$error":"#N/A"},{"$error":"#N/A"},{"$error":"#N/A"},{"$error":"#N/A"},{"$error":"#N/A"},{"$error":"#N/A"},{"$error":"#N/A"}]
[]
[null,null,null,"Total Liabilities and Capital",null,null,null,null,null,{"$f":"J48+J49","v":{"$error":"#N/A"}},{"$f":"K48+K49","v":{"$error":"#N/A"}},{"$error":"#N/A"},{"$error":"#N/A"},{"$error":"#N/A"},{"$error":"#N/A"},{"$error":"#N/A"},{"$error":"#N/A"},{"$error":"#N/A"},{"$error":"#N/A"},{"$error":"#N/A"},{"$error":"#N/A"},{"$error":"#N/A"},{"$error":"#N/A"},{"$error":"#N/A"},{"$error":"#N/A"},{"$error":"#N/A"},{"$error":"#N/A"},{"$error":"#N/A"},{"$error":"#N/A"},{"$error":"#N/A"},{"$error":"#N/A"},{"$error":"#N/A"},{"$error":"#N/A"},{"$error":"#N/A"},{"$error":"#N/A"},{"$error":"#N/A"},{"$error":"#N/A"},{"$error":"#N/A"},{"$error":"#N/A"},{"$error":"#N/A"},{"$error":"#N/A"},{"$error":"#N/A"},{"$error":"#N/A"},{"$error":"#N/A"},{"$error":"#N/A"},{"$error":"#N/A"},{"$error":"#N/A"},{"$error":"#N/A"},{"$error":"#N/A"},{"$error":"#N/A"}]
[]
[null,null,null,"Difference"]
[null,null,null,"Test",null,null,null,null,{"$f":"AND(J54:AX54)","v":{"$error":"#VALUE!"}}]

{"sheet":"Checks","index":10,"n_rows":60,"n_cols":10,"rows_kept":60,"cut":false,"hidden":false,"merged":[]}
["          "]
[null,null,null,"Check","Error Label"]
[]
[null,null,"Balance Sheet"]
[null,null,"Circular Reference",{"$f":"'Project Finance Semi-Annual'!O77","v":0},{"$f":"IF(D5,\"\",C5)","v":"Circular Reference"}]
[null,null,"Debt at End",{"$f":"'Project Finance Semi-Annual'!J66","v":0},"Debt at End"]
[null,null,"Debt Funding and Repayment",{"$f":"'Project Finance Semi-Annual'!J118","v":true},""]
[null,null,"S-Curve",{"$f":"'Project Finance Semi-Annual'!J20","v":false},"S-Curve"]
[null,null,"Depreciation",{"$f":"'Taxes Waterfall Returns'!I32","v":false},"Depreciation"]
[]
[]
[null,null,"Total Check",{"$f":"AND(D4:D9)","v":false},{"$f":"add_text(E4:E9)","v":"  Circular Reference Debt at End  S-Curve Depreciation"},{"$f":"IF(D12,\"Model OK\",E12)","v":"  Circular Reference Debt at End  S-Curve Depreciation"}]
[null,null,null,null,null,null,null,null,null,"*"]
[]
[null,null,"Error Count"]
[]
[]
[]
[]
[]
[]
[]
[]
[]
[]
[]
[]
[]
[]
[]
[]
[]
[]
[]
[]
[]
[]
[]
[]
[]
[]
[]
[]
[]
[]
[]
[null,null,null,{"$f":"TRANSPOSE('InputC - Operations'!J3:AB3)","v":"Base Case"}]
[null,null,null,"P90 Debt Size Case"]
[null,null,null,"P99 Debt Size Case"]
[null,null,null,"Maximum Debt to Capital Case"]
[null,null,null,"Stress Case for Credit"]
[null,null,null,"P90 and No Inflation"]
[null,null,null,"Higher EPC"]
[null,null,null,"Lower PPA"]
[null,null,null,"Shareholder Loan"]
[null,null,null,0]
[null,null,null,0]
[null,null,null,0]
[null,null,null,0]
[null,null,null,0]