{"text_format":"1","workbook":"xlsx","n_sheets":6,"sheets":["Summary","InputC","Model - Risk and Value","Model - Structuring","UDFInputs","UDFOutput"],"not_rendered":{"charts":0,"images":0,"macros":1,"external_links":0,"defined_names":13797,"comments":0,"pivot_tables":0},"unopened":[],"bounds":{"document_bytes":16777216,"sheet_cells":100000,"rows_first":2000,"rows_last":500,"rows_between":2000,"halvings":0,"cell_chars":16384,"cell_head_chars":4096},"cells_cut":0,"cells_raw":0,"read":"whole","date_system":"1900"}

{"sheet":"Summary","index":0,"n_rows":0,"n_cols":0,"rows_kept":0,"cut":false,"hidden":false,"merged":[]}

{"sheet":"InputC","index":1,"n_rows":57,"n_cols":16,"rows_kept":57,"cut":false,"hidden":false,"merged":[]}
[]
[null,"Scenario Number",null,null,null,1,1]
[]
[null,null,null,null,null,null,null,null,1,2,3,4,5,6,7,8]
[null,"Timing",null,null,null,{"$f":"INDEX($I5:S5,F$2)","v":"Base Case"},{"$f":"INDEX($I5:T5,G$2)","v":"Base Case"},null,"Base Case","Base with Cap","+ Inflation","+ Inflation","+ Var OM","- Var OM","Int Rate +","Int Rate - "]
[null,null,"Acquistion Date",null,"Date",{"$f":"INDEX($I6:S6,F$2)","v":"2024-12-31"},{"$f":"INDEX($I6:T6,G$2)","v":"2024-12-31"},null,"2024-12-31","2024-12-31","2024-12-31","2024-12-31","2024-12-31","2024-12-31","2024-12-31","2024-12-31"]
[null,null,"Life of Road",null,"Years",{"$f":"INDEX($I7:S7,F$2)","v":25},{"$f":"INDEX($I7:T7,G$2)","v":25},null,25,25,25,25,25,25,25,25]
[null,null,"End of Life",null,"Date",{"$f":"INDEX($I8:S8,F$2)","v":"2049-12-31"},{"$f":"INDEX($I8:T8,G$2)","v":"2049-12-31"},null,{"$f":"EDATE($I6,($I7)*12)","v":"2049-12-31"},{"$f":"EDATE(J6,(J7)*12)","v":"2049-12-31"},"2049-12-31","2049-12-31","2049-12-31","2049-12-31","2049-12-31","2049-12-31"]
[]
[null,null,"Sale Date",null,"Date",{"$f":"INDEX($I10:S10,F$2)","v":"2030-12-31"},{"$f":"INDEX($I10:T10,G$2)","v":"2030-12-31"},null,"2030-12-31","2030-12-31","2030-12-31","2030-12-31","2030-12-31","2030-12-31","2030-12-31","2030-12-31"]
[]
[null,"Capacity and Volumes"]
[null,null,"Capacity of Road",null,"km",{"$f":"INDEX($I13:S13,F$2)","v":50},{"$f":"INDEX($I13:T13,G$2)","v":50},null,50,50,50,50,50,50,50,50]
[]
[null,null,"Intial Car Traffic",null,"Cars/day",{"$f":"INDEX($I15:S15,F$2)","v":3500},{"$f":"INDEX($I15:T15,G$2)","v":3500},null,3500,3500,3500,3500,3500,3500,3500,3500]
[null,null,"Initial Trucks Traffic",null,"Cars/day",{"$f":"INDEX($I16:S16,F$2)","v":1500},{"$f":"INDEX($I16:T16,G$2)","v":1500},null,1500,1500,1500,1500,1500,1500,1500,1500]
[]
[null,null,"Car volume Increase",null,"% p.a.",{"$f":"INDEX($I18:S18,F$2)","v":0.03},{"$f":"INDEX($I18:T18,G$2)","v":0.03},null,0.03,0.03,0.03,0.03,0.03,0.03,0.03,0.03]
[null,null,"Truck Volume Increase",null,"% p.a.",{"$f":"INDEX($I19:S19,F$2)","v":0.02},{"$f":"INDEX($I19:T19,G$2)","v":0.02},null,0.02,0.02,0.02,0.02,0.02,0.02,0.02,0.02]
[]
[null,null,"Apply Car Traffic Limit",null,"Flag",{"$f":"INDEX($I21:S21,F$2)","v":false},{"$f":"INDEX($I21:T21,G$2)","v":false},null,false,true,false,true,false,false,false,false]
[null,null,"Car Traffic Limit",null,"Cars/day",{"$f":"INDEX($I22:S22,F$2)","v":5000},{"$f":"INDEX($I22:T22,G$2)","v":5000},null,5000,5000,5000,5000,5000,5000,5000,5000]
[]
[null,"Cap Exp, Revenues and Op Exp"]
[null,null,"Initial Cap Exp",null,"USD",{"$f":"INDEX($I25:S25,F$2)","v":100000000},{"$f":"INDEX($I25:T25,G$2)","v":100000000},null,100000000,100000000,100000000,100000000,100000000,100000000,100000000,100000000]
[]
[null,null,"Marco - Inflation"]
[null,null,null,"Inflation rat","% p.a.",{"$f":"INDEX($I28:S28,F$2)","v":0.02},{"$f":"INDEX($I28:T28,G$2)","v":0.02},null,0.02,0.02,2.5000000000000001E-2,1.4999999999999999E-2,0.02,0.02,0.02,0.02]
[null,null,null,"Start of Inflation","Date",{"$f":"INDEX($I29:S29,F$2)","v":"2026-01-01"},{"$f":"INDEX($I29:T29,G$2)","v":"2026-01-01"},null,"2026-01-01","2026-01-01","2026-01-01","2026-01-01","2026-01-01","2026-01-01","2026-01-01","2026-01-01"]
[]
[null,null,"Initial Toll Rates - Car",null,"USD/Car",{"$f":"INDEX($I31:S31,F$2)","v":5},{"$f":"INDEX($I31:T31,G$2)","v":5},null,5,5,5,5,5,5,5,5]
[null,null,"Initial Toll Rates - Truck",null,"USD/Truck",{"$f":"INDEX($I32:S32,F$2)","v":10},{"$f":"INDEX($I32:T32,G$2)","v":10},null,10,10,10,10,10,10,10,10]
[null,null,"Capped Toll Rate",null,"USD/Car",{"$f":"INDEX($I33:S33,F$2)","v":3},{"$f":"INDEX($I33:T33,G$2)","v":3},null,3,3,3,3,3,3,3,3]
[]
[null,null,"Variable O&M",null,"USD/Vehicle",{"$f":"INDEX($I35:S35,F$2)","v":2},{"$f":"INDEX($I35:T35,G$2)","v":2},null,2,2,2,2,{"$f":"I35*1.1","v":2.2000000000000002},{"$f":"F35*0.9","v":1.8},2,2]
[null,null,"Fixed - Real 2025",null,"USD/km - year",{"$f":"INDEX($I36:S36,F$2)","v":10000},{"$f":"INDEX($I36:T36,G$2)","v":10000},null,10000,10000,10000,10000,10000,10000,10000,10000]
[]
[null,"Working Capital"]
[null,null,"A/R Days",null,"Days",{"$f":"INDEX($I39:S39,F$2)","v":30},{"$f":"INDEX($I39:T39,G$2)","v":30},null,30,30,30,30,30,30,30,30]
[null,null,"A/R Pct of Revenues",null,"%",{"$f":"INDEX($I40:S40,F$2)","v":8.2191780821917804E-2},{"$f":"INDEX($I40:T40,G$2)","v":8.2191780821917804E-2},null,{"$f":"I39/365","v":8.2191780821917804E-2},8.2191780821917804E-2,8.2191780821917804E-2,8.2191780821917804E-2,8.2191780821917804E-2,8.2191780821917804E-2,8.2191780821917804E-2,8.2191780821917804E-2]
[]
[null,null,"A/P Days",null,"Days",{"$f":"INDEX($I42:S42,F$2)","v":60},{"$f":"INDEX($I42:T42,G$2)","v":60},null,60,60,60,60,60,60,60,60]
[null,null,"A/P as Perent of Cost",null,"%",null,null,null,{"$f":"I42/365","v":0.16438356164383561},0.16438356164383561,0.16438356164383561,0.16438356164383561,0.16438356164383561,0.16438356164383561,0.16438356164383561,0.16438356164383561]
[]
[null,"Tax and Depreciation"]
[null,null,"Corporate Tax Rate",null,"%",{"$f":"INDEX($I46:S46,F$2)","v":0.2},{"$f":"INDEX($I46:T46,G$2)*2","v":0.4},null,0.2,0.2,0.2,0.2,0.2,0.2,0.2,0.2]
[null,null,"Depreciation Life",null,"Years",{"$f":"INDEX($I47:S47,F$2)","v":20},{"$f":"INDEX($I47:T47,G$2)","v":20},null,20,20,20,20,20,20,20,20]
[]
[null,"Financing and Valuation"]
[null,null,"DSCR Minimum",null,"x",{"$f":"INDEX($I50:S50,F$2)","v":1.35},{"$f":"INDEX($I50:T50,G$2)","v":1.35},null,1.35,1.35,1.35,1.35,1.35,1.35,1.35,1.35]
[null,null,"Max Debt to Capital",null,"%",{"$f":"INDEX($I51:S51,F$2)","v":0.8},{"$f":"INDEX($I51:T51,G$2)","v":0.8},null,0.8,0.8,0.8,0.8,0.8,0.8,0.8,0.8]
[]
[null,null,"Tenure",null,"Years",{"$f":"INDEX($I53:S53,F$2)","v":20},{"$f":"INDEX($I53:T53,G$2)","v":20},null,20,15,15,15,15,15,15,15]
[null,null,"Interest Rate",null,"% p.a.",{"$f":"INDEX($I54:S54,F$2)","v":0.03},{"$f":"INDEX($I54:T54,G$2)","v":0.03},null,0.03,0.03,0.03,0.03,0.03,0.03,3.2500000000000001E-2,2.75E-2]
[null,null,"Fees",null,"%",{"$f":"INDEX($I55:S55,F$2)","v":0.01},{"$f":"INDEX($I55:T55,G$2)*0","v":0},null,0.01,0.01,0.01,0.01,0.01,0.01,0.01,0.01]
[]
[null,null,"Target IRR",null,"%",{"$f":"INDEX($I57:S57,F$2)","v":0.08},{"$f":"INDEX($I57:T57,G$2)","v":0.08},null,0.08,0.08,0.08,0.08,0.08,0.08,0.08,0.08]

{"sheet":"Model - Risk and Value","index":2,"n_rows":176,"n_cols":80,"rows_kept":176,"cut":false,"hidden":false,"merged":[]}
[null,{"$f":"InputC!F5","v":"Base Case"}]
[null,"Timing",null,null,"Units for Input","Constant","Constant","Units for Output","Sum","Initial",1,2,3,4,5,6,7,8,9,10,11,12,13,14,15,16,17,18,19,20,21,22,23,24,25,26,27,28,29,30,31,32,33,34,35,36,37,38,39,40,41,42,43,44,45,46,47,48,49,50,51,52,53,54,55,56,57,58,59,60,61,62,63,64,65,66,67,68,69,70]
[null,null,"Start of Period",null,null,null,null,null,null,null,{"$f":"J4+1","v":"2024-07-01"},{"$f":"K4+1","v":"2025-01-01"},"2025-07-01","2026-01-01","2026-07-01","2027-01-01","2027-07-01","2028-01-01","2028-07-01","2029-01-01","2029-07-01","2030-01-01","2030-07-01","2031-01-01","2031-07-01","2032-01-01","2032-07-01","2033-01-01","2033-07-01","2034-01-01","2034-07-01","2035-01-01","2035-07-01","2036-01-01","2036-07-01","2037-01-01","2037-07-01","2038-01-01","2038-07-01","2039-01-01","2039-07-01","2040-01-01","2040-07-01","2041-01-01","2041-07-01","2042-01-01","2042-07-01","2043-01-01","2043-07-01","2044-01-01","2044-07-01","2045-01-01","2045-07-01","2046-01-01","2046-07-01","2047-01-01","2047-07-01","2048-01-01","2048-07-01","2049-01-01","2049-07-01","2050-01-01","2050-07-01","2051-01-01","2051-07-01","2052-01-01","2052-07-01","2053-01-01","2053-07-01","2054-01-01","2054-07-01","2055-01-01","2055-07-01","2056-01-01","2056-07-01",{"$f":"BW4+1","v":"2057-01-01"},"2057-07-01","2058-01-01","2058-07-01","2059-01-01"]
[null,null,"End of Period",null,null,null,null,null,null,{"$f":"EDATE(InputC!F6,-6)","v":"2024-06-30"},{"$f":"EDATE(K3,6)-1","v":"2024-12-31"},{"$f":"EDATE(L3,6)-1","v":"2025-06-30"},"2025-12-31","2026-06-30","2026-12-31","2027-06-30","2027-12-31","2028-06-30","2028-12-31","2029-06-30","2029-12-31","2030-06-30","2030-12-31","2031-06-30","2031-12-31","2032-06-30","2032-12-31","2033-06-30","2033-12-31","2034-06-30","2034-12-31","2035-06-30","2035-12-31","2036-06-30","2036-12-31","2037-06-30","2037-12-31","2038-06-30","2038-12-31","2039-06-30","2039-12-31","2040-06-30","2040-12-31","2041-06-30","2041-12-31","2042-06-30","2042-12-31","2043-06-30","2043-12-31","2044-06-30","2044-12-31","2045-06-30","2045-12-31","2046-06-30","2046-12-31","2047-06-30","2047-12-31","2048-06-30","2048-12-31","2049-06-30","2049-12-31","2050-06-30","2050-12-31","2051-06-30","2051-12-31","2052-06-30","2052-12-31","2053-06-30","2053-12-31","2054-06-30","2054-12-31","2055-06-30","2055-12-31","2056-06-30","2056-12-31",{"$f":"EDATE(BX3,6)-1","v":"2057-06-30"},"2057-12-31","2058-06-30","2058-12-31","2059-06-30"]
[null,null,"Acquisition Period",null,"Flag",{"$f":"InputC!F6","v":"2024-12-31"},null,"Flag",null,null,{"$f":"(K4=$F$5)*1","v":1},{"$f":"(L4=$F$5)*1","v":0},0,0,0,0,0,0,0,0,0,0,0,0,0,0,0,0,0,0,0,0,0,0,0,0,0,0,0,0,0,0,0,0,0,0,0,0,0,0,0,0,0,0,0,0,0,0,0,0,0,0,0,0,0,0,0,0,0,0,0,0,0,0,0,{"$f":"(BX4=$F$5)*1","v":0},0,0,0,0]
[null,null,"Operation Perid",null,"Flag",{"$f":"InputC!F8","v":"2049-12-31"},null,"Flag",{"$f":"SUM(K6:XFD6)","v":50},null,{"$f":"(AND(NOT(K5),K4<=$F$6))*1","v":0},{"$f":"(AND(NOT(L5),L4<=$F$6))*1","v":1},1,1,1,1,1,1,1,1,1,1,1,1,1,1,1,1,1,1,1,1,1,1,1,1,1,1,1,1,1,1,1,1,1,1,1,1,1,1,1,1,1,1,1,1,1,1,1,1,1,0,0,0,0,0,0,0,0,0,0,0,0,0,0,{"$f":"(AND(NOT(BX5),BX4<=$F$6))*1","v":0},0,0,0,0]
[null,null,"Sale Date",null,"Flag",{"$f":"InputC!F10","v":"2030-12-31"},null,"Flag",{"$f":"SUM(K7:XFD7)","v":1},null,{"$f":"(K4=$F$7)*1","v":0},{"$f":"(L4=$F$7)*1","v":0},0,0,0,0,0,0,0,0,0,0,1,0,0,0,0,0,0,0,0,0,0,0,0,0,0,0,0,0,0,0,0,0,0,0,0,0,0,0,0,0,0,0,0,0,0,0,0,0,0,0,0,0,0,0,0,0,0,0,0,0,0,0,0,{"$f":"(BX4=$F$7)*1","v":0},0,0,0,0]
[null,null,"Days in Period",null,"Days",null,null,null,null,null,{"$f":"K4-K3+1","v":184},{"$f":"L4-L3+1","v":181},184,181,184,181,184,182,184,181,184,181,184,181,184,182,184,181,184,181,184,181,184,182,184,181,184,181,184,181,184,182,184,181,184,181,184,181,184,182,184,181,184,181,184,181,184,182,184,181,184,181,184,181,184,182,184,181,184,181,184,181,184,182,184,{"$f":"BX4-BX3+1","v":181},184,181,184,181]
[]
[null,"Capacity and Volumes"]
[null,null,"Road Capacity",null,"km",{"$f":"InputC!F13","v":50},null,"km",null,null,{"$f":"$F11*K$6","v":0},{"$f":"$F11*L$6","v":50},50,50,50,50,50,50,50,50,50,50,50,50,50,50,50,50,50,50,50,50,50,50,50,50,50,50,50,50,50,50,50,50,50,50,50,50,50,50,50,50,50,50,50,50,50,50,50,50,50,0,0,0,0,0,0,0,0,0,0,0,0,0,0,{"$f":"$F11*BX$6","v":0},0,0,0,0]
[]
[null,null,"Car Volumes - Base",null,"Cars/Day",{"$f":"InputC!F15","v":3500},null,"Cars/Period",null,null,{"$f":"$F$13*K6*K8","v":0},{"$f":"$F$13*L6*L8","v":633500},644000,633500,644000,633500,644000,637000,644000,633500,644000,633500,644000,633500,644000,637000,644000,633500,644000,633500,644000,633500,644000,637000,644000,633500,644000,633500,644000,633500,644000,637000,644000,633500,644000,633500,644000,633500,644000,637000,644000,633500,644000,633500,644000,633500,644000,637000,644000,633500,644000,0,0,0,0,0,0,0,0,0,0,0,0,0,0,{"$f":"$F$13*BX6*BX8","v":0},0,0,0,0]
[null,null,"Escalation Period",null,"Date",{"$f":"EDATE(F5,12)+1","v":"2026-01-01"},null,"Flag",null,null,{"$f":"(K3>=$F$14)*1","v":0},{"$f":"(L3>=$F$14)*1","v":0},0,1,1,1,1,1,1,1,1,1,1,1,1,1,1,1,1,1,1,1,1,1,1,1,1,1,1,1,1,1,1,1,1,1,1,1,1,1,1,1,1,1,1,1,1,1,1,1,1,1,1,1,1,1,1,1,1,1,1,1,1,1,1,{"$f":"(BX3>=$F$14)*1","v":1},1,1,1,1]
[null,null,"Growth Index",null,"% p.a.",{"$f":"InputC!F18","v":0.03},{"$f":"(1+F15)^(1/2)-1","v":1.4889156509221957E-2},"index",null,1,{"$f":"J15*(1+$G$15*K14)","v":1},{"$f":"K15*(1+$G$15*L14)","v":1},1,1.014889156509222,1.03,1.0453358312044987,1.0609000000000002,1.0766959061406338,1.0927270000000002,1.1089967833248529,1.1255088100000004,1.1422666868245985,1.1592740743000005,1.1765346874293365,1.1940522965290004,1.2118307280522165,1.2298738654248704,1.2481856498937831,1.2667700813876166,1.2856312193905965,1.3047731838292451,1.3242001559723147,1.3439163793441227,1.3639261606514843,1.3842338707244464,1.4048439454710289,1.42576088684618,1.4469892638351598,1.4685337134515652,1.4903989417502146,1.5125897248551123,1.5351109100027212,1.5579674166007658,1.5811642373028028,1.6047064390987889,1.6285991644218869,1.6528476322717525,1.6774571393545434,1.702433061239905,1.7277808535351797,1.7535060530771021,1.779614279141235,1.806111234669415,1.833002707515472,1.8602945717094974,1.8879927887409362,1.9161034088607825,1.9446325724031643,1.973586511126606,2.0029715495752591,2.032794106460404,2.0630606960625171,2.0937779296542165,2.124952516944393,2.1565912675438432,2.188701092452725,2.2212890055701586,2.2543621252263066,2.2879276757372633,2.3219929889830957,2.3565655060093813,2.3916527786525887,2.4272624711896627,2.4634023620121663,2.5000803453253524,{"$f":"BW15*(1+$G$15*BX14)","v":2.5373044328725314},2.5750827556851132,2.6134235658587075,2.6523352383556666,2.6918262728344686]
[null,null,"Car Volumes with Growth",null,"Cars/Day",null,null,"Cars/Period",null,null,{"$f":"K15*K13","v":0},{"$f":"L15*L13","v":633500},644000,642932.28064859216,663320,662220.24906804995,683219.60000000009,685855.2922115837,703716.1880000002,702549.46223629429,724827.67364000028,723625.9461033832,746572.50384920032,745334.72448648466,768969.67896467622,771936.17376926192,792038.7693336166,790725.60920771165,815799.93241362507,814447.3774839429,840273.93038603384,838880.79880846129,865482.148297615,868820.96433499549,891446.61274654348,889968.6394558968,918190.01112893992,916667.69863957376,945735.71146280807,944167.72959876095,974107.7828066923,977865.64967173338,1003331.0162908932,1001667.5443313256,1033430.94677962,1031717.5706612654,1064433.8751830086,1062669.0977811033,1096366.8914384989,1100596.4037019096,1129257.8981816538,1127385.6458359724,1163135.6351271032,1161207.2152110515,1198029.7041809163,1196043.4316673831,1233970.5953063439,1238730.9486208158,1270989.7131655342,1268882.4766559266,1309119.4045605003,0,0,0,0,0,0,0,0,0,0,0,0,0,0,{"$f":"BX15*BX13","v":0},0,0,0,0]
[]
[null,null,"Truck Volumes - Base",null,"Trucks/Day",{"$f":"InputC!F16","v":1500},null,"Trucks/Period",null,null,{"$f":"$F$18*K6*K8","v":0},{"$f":"$F$18*L6*L8","v":271500},276000,271500,276000,271500,276000,273000,276000,271500,276000,271500,276000,271500,276000,273000,276000,271500,276000,271500,276000,271500,276000,273000,276000,271500,276000,271500,276000,271500,276000,273000,276000,271500,276000,271500,276000,271500,276000,273000,276000,271500,276000,271500,276000,271500,276000,273000,276000,271500,276000,0,0,0,0,0,0,0,0,0,0,0,0,0,0,{"$f":"$F$18*BX6*BX8","v":0},0,0,0,0]
[null,null,"Growth Index",null,"% p.a.",{"$f":"InputC!F19","v":0.02},{"$f":"(1+F19)^(1/2)-1","v":9.9504938362078299E-3},"index",null,1,{"$f":"J19*(1+$G$19*K14)","v":1},{"$f":"K19*(1+$G$19*L14)","v":1},1,1.0099504938362078,1.02,1.030149503712932,1.0404,1.0507524937871906,1.0612080000000002,1.0717675436629346,1.0824321600000002,1.0932028945361933,1.1040808032000002,1.1150669524269172,1.1261624192640003,1.1373682914754557,1.1486856676492805,1.1601156573049649,1.1716593810022662,1.1833179704510643,1.1950925686223117,1.2069843298600857,1.218994419994758,1.2311240164572876,1.2433743083946533,1.2557464967864336,1.2682417945625466,1.2808614267221623,1.2936066304537976,1.3064786552566057,1.3194787630628737,1.332608228361738,1.3458683383241312,1.3592603929289728,1.372785705090614,1.3864456007875525,1.4002414191924266,1.4141745128033039,1.4282462475762754,1.4424580030593701,1.456811172527801,1.4713071631205576,1.4859473959783571,1.5007333063829689,1.5156663438979243,1.5307479725106283,1.5459796707758831,1.5613629319608411,1.5768992641914008,1.5925901906000579,1.6084372494752288,1.6244419944120592,1.6406059944647335,1.6569308343003004,1.6734181143540283,1.6900694509863066,1.7068864766411089,1.7238708400060327,1.7410242061739312,1.7583482568061535,1.7758446902974099,1.7935152219422767,1.8113615841033583,1.8293855263811225,1.8475888157854257,{"$f":"BW19*(1+$G$19*BX14)","v":1.8659732369087452},1.8845405921011344,1.9032927016469203,1.9222314039431574,1.9413585556798589]
[null,null,"Truck Volumes with Growth",null,"Trucks/Day",null,null,"Trucks/Period",null,null,{"$f":"K19*K18","v":0},{"$f":"L19*L18","v":271500},276000,274201.55907653045,281520,279685.59025806101,287150.40000000002,286855.43080390303,292893.40800000005,290984.88810448674,298751.27616000007,296804.58586657647,304726.30168320006,302740.67758390802,310820.82771686406,310501.54357279942,317037.24427120143,314971.40095829795,323377.98915662547,321270.828977464,329845.54893975804,327696.24555701326,336442.45991855318,336096.85649283952,343171.3091169243,340935.1738775167,350034.73529926286,347753.87735506706,357035.43000524817,354708.95490216842,364176.13860535313,363802.04634275445,371459.66137746023,369039.19668021612,378888.85460500949,376419.98061382049,386466.63169710973,383948.38022609701,394195.96433105203,393791.03483520803,402079.88361767307,399459.8947872314,410121.48129002657,407449.09268297604,418323.91091582709,415598.0745366356,426690.38913414371,426252.0804253096,435224.19691682665,432388.23674791574,443928.68085516314,0,0,0,0,0,0,0,0,0,0,0,0,0,0,{"$f":"BX19*BX18","v":0},0,0,0,0]
[]
[null,null,"Total Vehicles per Period",null,"Vehicles",null,null,null,null,null,{"$f":"K20+K16","v":0},{"$f":"L20+L16","v":905000},920000,917133.83972512255,944840,941905.8393261109,970370.00000000012,972710.72301548673,996609.59600000025,993534.35034078103,1023578.9498000003,1020430.5319699596,1051298.8055324005,1048075.4020703926,1079790.5066815403,1082437.7173420615,1109076.0136048179,1105697.0101660097,1139177.9215702505,1135718.2064614068,1170119.4793257918,1166577.0443654745,1201924.6082161681,1204917.820827835,1234617.9218634679,1230903.8133334136,1268224.7464282028,1264421.5759946408,1302771.1414680562,1298876.6845009294,1338283.9214120454,1341667.6960144879,1374790.6776683535,1370706.7410115418,1412319.8013846294,1408137.5512750859,1450900.5068801183,1446617.4780072004,1490562.8557695509,1494387.4385371176,1531337.7817993269,1526845.5406232039,1573257.1164171298,1568656.3078940276,1616353.6150967435,1611641.5062040186,1660660.9844404876,1664983.0290461252,1706213.9100823607,1701270.7134038424,1753048.0854156634,0,0,0,0,0,0,0,0,0,0,0,0,0,0,{"$f":"BX20+BX16","v":0},0,0,0,0]
[]
[null,null,"Total Car Volumes",null,"Cars",null,null,"Cars/Period",null,null,{"$f":"K16","v":0},{"$f":"L16","v":633500},644000,642932.28064859216,663320,662220.24906804995,683219.60000000009,685855.2922115837,703716.1880000002,702549.46223629429,724827.67364000028,723625.9461033832,746572.50384920032,745334.72448648466,768969.67896467622,771936.17376926192,792038.7693336166,790725.60920771165,815799.93241362507,814447.3774839429,840273.93038603384,838880.79880846129,865482.148297615,868820.96433499549,891446.61274654348,889968.6394558968,918190.01112893992,916667.69863957376,945735.71146280807,944167.72959876095,974107.7828066923,977865.64967173338,1003331.0162908932,1001667.5443313256,1033430.94677962,1031717.5706612654,1064433.8751830086,1062669.0977811033,1096366.8914384989,1100596.4037019096,1129257.8981816538,1127385.6458359724,1163135.6351271032,1161207.2152110515,1198029.7041809163,1196043.4316673831,1233970.5953063439,1238730.9486208158,1270989.7131655342,1268882.4766559266,1309119.4045605003,0,0,0,0,0,0,0,0,0,0,0,0,0,0,{"$f":"BX16","v":0},0,0,0,0]
[null,null,"Maximum Volumes",null,"Cars/Day",{"$f":"InputC!F22","v":5000},null,"Cars ",null,null,{"$f":"$F$25*K6","v":0},5000,5000,5000,5000,5000,5000,5000,5000,5000,5000,5000,5000,5000,5000,5000,5000,5000,5000,5000,5000,5000,5000,5000,5000,5000,5000,5000,5000,5000,5000,5000,{"$f":"$F$25*AQ6","v":5000},5000,5000,5000,5000,5000,5000,5000,5000,5000,5000,5000,5000,5000,5000,5000,5000,5000,5000,0,0,0,0,0,0,0,0,0,0,0,0,0,{"$f":"$F$25*BW6","v":0},0,0,0,0,0]
[null,null,"Maximum Volumes",null,"Cars/Period",null,null,"Cars/Period",null,null,{"$f":"K25*K8","v":0},905000,920000,905000,920000,905000,920000,910000,920000,905000,920000,905000,920000,905000,920000,910000,920000,905000,920000,905000,920000,905000,920000,910000,920000,905000,920000,905000,920000,905000,920000,910000,{"$f":"AQ25*AQ8","v":920000},905000,920000,905000,920000,905000,920000,910000,920000,905000,920000,905000,920000,905000,920000,910000,920000,905000,920000,0,0,0,0,0,0,0,0,0,0,0,0,0,{"$f":"BW25*BW8","v":0},0,0,0,0,0]
[null,null,"Volumes with Lower Rate",null,"Cars",{"$f":"InputC!$F$21","v":false},null,"Cars/Period",null,null,{"$f":"MAX(K24-K26,0)*$F$27","v":0},{"$f":"MAX(L24-L26,0)*$F$27","v":0},0,0,0,0,0,0,0,0,0,0,0,0,0,0,0,0,0,0,0,0,0,0,0,0,0,0,0,0,0,0,0,0,0,0,0,0,0,0,0,0,0,0,0,0,0,0,0,0,0,0,0,0,0,0,0,0,0,0,0,0,0,0,0,{"$f":"MAX(BX24-BX26,0)*$F$27","v":0},0,0,0,0]
[null,null,"Volumes with Base Rate",null,"Cars",null,null,"Cars/Period",null,null,{"$f":"K24-K27","v":0},{"$f":"L24-L27","v":633500},644000,642932.28064859216,663320,662220.24906804995,683219.60000000009,685855.2922115837,703716.1880000002,702549.46223629429,724827.67364000028,723625.9461033832,746572.50384920032,745334.72448648466,768969.67896467622,771936.17376926192,792038.7693336166,790725.60920771165,815799.93241362507,814447.3774839429,840273.93038603384,838880.79880846129,865482.148297615,868820.96433499549,891446.61274654348,889968.6394558968,918190.01112893992,916667.69863957376,945735.71146280807,944167.72959876095,974107.7828066923,977865.64967173338,1003331.0162908932,1001667.5443313256,1033430.94677962,1031717.5706612654,1064433.8751830086,1062669.0977811033,1096366.8914384989,1100596.4037019096,1129257.8981816538,1127385.6458359724,1163135.6351271032,1161207.2152110515,1198029.7041809163,1196043.4316673831,1233970.5953063439,1238730.9486208158,1270989.7131655342,1268882.4766559266,1309119.4045605003,0,0,0,0,0,0,0,0,0,0,0,0,0,0,{"$f":"BX24-BX27","v":0},0,0,0,0]
[]
[]
[null,"Revenues, Expensea and Cap Exp"]
[null,null,"Cap Exp/Headline Price for Investment",null,"USD",183497044.91816804,"headline",null,{"$f":"SUM(J32:XFD32)","v":183497044.91816804},{"$f":"$F$32*J5","v":0},183497044.91816804,0,0,0,0,0,0,0,0,0,0,0,0,0,0,0,0,0,0,0,0,0,0,0,0,0,0,0,0,0,0,{"$f":"$F$32*AP5","v":0},0,0,0,0,0,0,0,0,0,0,0,0,0,0,0,0,0,0,0,0,0,0,0,0,0,0,0,0,0,0,0,{"$f":"$F$32*BV5","v":0},0,0,0,0,0,0]
[]
[null,null,"Car Tolls"]
[null,null,null,"Real Toll Rate","USD/Car",{"$f":"InputC!F31","v":5},null,"USD/Car",null,null,{"$f":"$F$35","v":5},{"$f":"$F$35","v":5},5,5,5,5,5,5,5,5,5,5,5,5,5,5,5,5,5,5,5,5,5,5,5,5,5,5,5,5,5,5,5,5,5,5,5,5,5,5,5,5,5,5,5,5,5,5,5,5,5,5,5,5,5,5,5,5,5,5,5,5,5,5,5,{"$f":"$F$35","v":5},5,5,5,5]
[null,null,null,"Inflation Applied","Date",{"$f":"InputC!F29","v":"2026-01-01"},null,"Flag",null,null,{"$f":"(K3>=$F$36)*1","v":0},0,0,1,1,1,1,1,1,1,1,1,1,1,1,1,1,1,1,1,1,1,1,1,1,1,1,1,1,1,1,1,{"$f":"(AQ3>=$F$36)*1","v":1},1,1,1,1,1,1,1,1,1,1,1,1,1,1,1,1,1,1,1,1,1,1,1,1,1,1,1,1,1,1,1,{"$f":"(BW3>=$F$36)*1","v":1},1,1,1,1,1]
[null,null,null,"Inflation Index","% p.a.",{"$f":"InputC!F28","v":0.02},{"$f":"(1+F37)^(1/2)-1","v":9.9504938362078299E-3},"Index",null,1,{"$f":"J37*(1+$G$37*K36)","v":1},{"$f":"K37*(1+$G$37*L36)","v":1},1,1.0099504938362078,1.02,1.030149503712932,1.0404,1.0507524937871906,1.0612080000000002,1.0717675436629346,1.0824321600000002,1.0932028945361933,1.1040808032000002,1.1150669524269172,1.1261624192640003,1.1373682914754557,1.1486856676492805,1.1601156573049649,1.1716593810022662,1.1833179704510643,1.1950925686223117,1.2069843298600857,1.218994419994758,1.2311240164572876,1.2433743083946533,1.2557464967864336,1.2682417945625466,1.2808614267221623,1.2936066304537976,1.3064786552566057,1.3194787630628737,1.332608228361738,1.3458683383241312,1.3592603929289728,1.372785705090614,1.3864456007875525,1.4002414191924266,1.4141745128033039,1.4282462475762754,1.4424580030593701,1.456811172527801,1.4713071631205576,1.4859473959783571,1.5007333063829689,1.5156663438979243,1.5307479725106283,1.5459796707758831,1.5613629319608411,1.5768992641914008,1.5925901906000579,1.6084372494752288,1.6244419944120592,1.6406059944647335,1.6569308343003004,1.6734181143540283,1.6900694509863066,1.7068864766411089,1.7238708400060327,1.7410242061739312,1.7583482568061535,1.7758446902974099,1.7935152219422767,1.8113615841033583,1.8293855263811225,1.8475888157854257,{"$f":"BW37*(1+$G$37*BX36)","v":1.8659732369087452},1.8845405921011344,1.9032927016469203,1.9222314039431574,1.9413585556798589]
[null,null,null,"Inflated Toll Rate","USD/Car",null,null,"USD/Car",null,null,{"$f":"K35*K37","v":5},{"$f":"L35*L37","v":5},5,5.0497524691810387,5.0999999999999996,5.1507475185646605,5.202,5.2537624689359532,5.3060400000000012,5.3588377183146729,5.4121608000000005,5.4660144726809667,5.5204040160000014,5.5753347621345863,5.6308120963200015,5.6868414573772785,5.7434283382464022,5.800578286524825,5.8582969050113309,5.9165898522553215,5.9754628431115586,6.0349216493004292,6.0949720999737895,6.155620082286438,6.2168715419732665,6.2787324839321679,6.3412089728127334,6.4043071336108115,6.4680331522689887,6.5323932762830283,6.5973938153143683,6.6630411418086899,6.7293416916206557,6.7963019646448641,6.86392852545307,6.9322280039377624,7.0012070959621333,7.0708725640165193,7.1412312378813771,7.2122900152968503,7.2840558626390051,7.356535815602788,7.4297369798917856,7.5036665319148446,7.578331719489622,7.6537398625531416,7.729898353879415,7.8068146598042052,7.8844963209570036,7.9629509530002895,8.0421862473761436,8.1222099720602952,8.2030299723236677,8.2846541715015025,8.3670905717701416,8.4503472549315326,8.5344323832055444,8.6193542000301644,8.7051210308696554,8.7917412840307669,8.8792234514870501,8.9675761097113842,9.0568079205167926,9.1469276319056121,9.2379440789271285,{"$f":"BX35*BX37","v":9.3298661845437252},9.4227029605056725,9.516463508234601,9.6111570197157867,9.7067927783992953]
[null,null,null,"Inflated Capped Toll Rate","USD/Car",{"$f":"InputC!F33","v":3},null,"USD/Car",null,null,{"$f":"$F$39*K37","v":3},{"$f":"$F$39*L37","v":3},3,3.0298514815086235,3.06,3.090448511138796,3.1212,3.1522574813615716,3.1836240000000005,3.2153026309888038,3.2472964800000006,3.27960868360858,3.3122424096000005,3.3452008572807514,3.3784872577920009,3.4121048744263671,3.4460570029478417,3.4803469719148947,3.5149781430067986,3.5499539113531933,3.5852777058669352,3.6209529895802572,3.656983259984274,3.6933720493718631,3.7301229251839603,3.7672394903593007,3.8047253836876398,3.8425842801664869,3.8808198913613929,3.919435965769817,3.9584362891886213,3.9978246850852139,4.0376050149723941,4.0777811787869185,4.1183571152718423,4.1593368023626578,4.2007242575772796,4.2425235384099116,4.2847387427288259,4.3273740091781105,4.370433517583403,4.4139214893616732,4.4578421879350714,4.5021999191489064,4.5469990316937725,4.592243917531885,4.6379390123276494,4.6840887958825235,4.7306977925742029,4.7777705718001737,4.8253117484256869,4.8733259832361773,4.9218179833942006,4.9707925029009008,5.020254343062085,5.0702083529589199,5.120659429923327,5.1716125200180985,5.2230726185217939,5.2750447704184609,5.3275340708922299,5.3805456658268298,5.434084752310075,5.488156579143368,5.5427664473562768,{"$f":"$F$39*BX37","v":5.5979197107262353},5.6536217763034031,5.7098781049407608,5.7666942118294724,5.824075667039577]
[]
[null,null,null,"Cars at Base Toll Rate","Cars",null,null,"Cars",null,null,{"$f":"K28","v":0},{"$f":"L28","v":633500},644000,642932.28064859216,663320,662220.24906804995,683219.60000000009,685855.2922115837,703716.1880000002,702549.46223629429,724827.67364000028,723625.9461033832,746572.50384920032,745334.72448648466,768969.67896467622,771936.17376926192,792038.7693336166,790725.60920771165,815799.93241362507,814447.3774839429,840273.93038603384,838880.79880846129,865482.148297615,868820.96433499549,891446.61274654348,889968.6394558968,918190.01112893992,916667.69863957376,945735.71146280807,944167.72959876095,974107.7828066923,977865.64967173338,1003331.0162908932,1001667.5443313256,1033430.94677962,1031717.5706612654,1064433.8751830086,1062669.0977811033,1096366.8914384989,1100596.4037019096,1129257.8981816538,1127385.6458359724,1163135.6351271032,1161207.2152110515,1198029.7041809163,1196043.4316673831,1233970.5953063439,1238730.9486208158,1270989.7131655342,1268882.4766559266,1309119.4045605003,0,0,0,0,0,0,0,0,0,0,0,0,0,0,{"$f":"BX28","v":0},0,0,0,0]
[null,null,null,"Cars at Capped Toll Rate","Cars",null,null,"Cars",null,null,{"$f":"K27","v":0},{"$f":"L27","v":0},0,0,0,0,0,0,0,0,0,0,0,0,0,0,0,0,0,0,0,0,0,0,0,0,0,0,0,0,0,0,0,0,0,0,0,0,0,0,0,0,0,0,0,0,0,0,0,0,0,0,0,0,0,0,0,0,0,0,0,0,0,0,0,{"$f":"BX27","v":0},0,0,0,0]
[null,null,null,"Car Tolls","USD",null,null,"USD",{"$f":"SUM(K43:XFD43)","v":303957799.97979653},null,{"$f":"K41*K38+K42*K39","v":0},{"$f":"L41*L38+L42*L39","v":3167500},3220000,3246648.8717214246,3382931.9999999995,3410929.3046305296,3554108.3592000003,3603320.7933423198,3733946.2421755218,3764848.5572135439,3922883.9220296033,3955349.89420855,4121381.8484843019,4155490.5988555024,4329923.7700176071,4389878.6354402294,4549017.9127804991,4586665.7993693668,4779198.2191671925,4818751.0888174558,5021025.649057054,5062579.8939116206,5275089.546899341,5348131.7759719677,5542009.0779724494,5587875.0062326547,5822434.7373178573,5870621.4815480281,6117049.9350261409,6167674.9285143586,6426572.6617384637,6515559.0549242431,6751757.2384224311,6807635.0994599843,7093396.1546866074,7152101.4354926609,7452322.0001137517,7513997.7681285916,7829409.4933195086,7937820.4532909039,8225577.6136814766,8293652.8815888111,8641791.8409337569,8713311.7173972055,9079066.5080850068,9154205.2902975045,9538467.2733941097,9670542.9292461537,10021113.717427852,10104048.926732678,10528182.071529701,0,0,0,0,0,0,0,0,0,0,0,0,0,0,{"$f":"BX41*BX38+BX42*BX39","v":0},0,0,0,0]
[]
[null,null,"Truck Tolls"]
[null,null,null,"Real Toll Rate","USD/Truck",{"$f":"InputC!F32","v":10},null,"USD/Truck",null,null,{"$f":"$F$46","v":10},{"$f":"$F$46","v":10},10,10,10,10,10,10,10,10,10,10,10,10,10,10,10,10,10,10,10,10,10,10,10,10,10,10,10,10,10,10,10,10,10,10,10,10,10,10,10,10,10,10,10,10,10,10,10,10,10,10,10,10,10,10,10,10,10,10,10,10,10,10,10,{"$f":"$F$46","v":10},10,10,10,10]
[null,null,null,"Inflation Index","Index",null,null,"Index",null,null,{"$f":"K37","v":1},1,1,1.0099504938362078,1.02,1.030149503712932,1.0404,1.0507524937871906,1.0612080000000002,1.0717675436629346,1.0824321600000002,1.0932028945361933,1.1040808032000002,1.1150669524269172,1.1261624192640003,1.1373682914754557,1.1486856676492805,1.1601156573049649,1.1716593810022662,1.1833179704510643,1.1950925686223117,1.2069843298600857,1.218994419994758,1.2311240164572876,1.2433743083946533,1.2557464967864336,1.2682417945625466,1.2808614267221623,1.2936066304537976,1.3064786552566057,1.3194787630628737,1.332608228361738,{"$f":"AQ37","v":1.3458683383241312},1.3592603929289728,1.372785705090614,1.3864456007875525,1.4002414191924266,1.4141745128033039,1.4282462475762754,1.4424580030593701,1.456811172527801,1.4713071631205576,1.4859473959783571,1.5007333063829689,1.5156663438979243,1.5307479725106283,1.5459796707758831,1.5613629319608411,1.5768992641914008,1.5925901906000579,1.6084372494752288,1.6244419944120592,1.6406059944647335,1.6569308343003004,1.6734181143540283,1.6900694509863066,1.7068864766411089,1.7238708400060327,1.7410242061739312,1.7583482568061535,1.7758446902974099,1.7935152219422767,1.8113615841033583,1.8293855263811225,{"$f":"BW37","v":1.8475888157854257},1.8659732369087452,1.8845405921011344,1.9032927016469203,1.9222314039431574,1.9413585556798589]
[null,null,null,"Inflated Toll Rate","USD/ruck",null,null,"USD/ruck",null,null,{"$f":"K46*K47","v":10},{"$f":"L46*L47","v":10},10,10.099504938362077,10.199999999999999,10.301495037129321,10.404,10.507524937871906,10.612080000000002,10.717675436629346,10.824321600000001,10.932028945361933,11.040808032000003,11.150669524269173,11.261624192640003,11.373682914754557,11.486856676492804,11.60115657304965,11.716593810022662,11.833179704510643,11.950925686223117,12.069843298600858,12.189944199947579,12.311240164572876,12.433743083946533,12.557464967864336,12.682417945625467,12.808614267221623,12.936066304537977,13.064786552566057,13.194787630628737,13.32608228361738,13.458683383241311,13.592603929289728,13.72785705090614,13.864456007875525,14.002414191924267,14.141745128033039,14.282462475762754,14.424580030593701,14.56811172527801,14.713071631205576,14.859473959783571,15.007333063829689,15.156663438979244,15.307479725106283,15.45979670775883,15.61362931960841,15.768992641914007,15.925901906000579,16.084372494752287,16.24441994412059,16.406059944647335,16.569308343003005,16.734181143540283,16.900694509863065,17.068864766411089,17.238708400060329,17.410242061739311,17.583482568061534,17.7584469029741,17.935152219422768,18.113615841033585,18.293855263811224,18.475888157854257,{"$f":"BX46*BX47","v":18.65973236908745},18.845405921011345,19.032927016469202,19.222314039431573,19.413585556798591]
[null,null,null,"Truck Tolls","USD",null,null,"USD",{"$f":"SUM(K49:XFD49)","v":227221011.58147439},null,{"$f":"K48*K20","v":0},2715000,2760000,2769300,2871504,2881179.72,2987512.7616000003,3014140.5927360002,3108208.2771686413,3118681.5876677963,3233779.8915662542,3244676.3238095753,3364424.599185531,3375761.2472914825,3500347.3529926268,3531546.1011388665,3641761.38605353,3654032.5385500151,3788888.5460500936,3801655.4531074367,3941959.6433105185,3955242.3334129779,4101214.8129002634,4137769.1188413319,4266903.8913414357,4281281.5022796523,4439286.8085516309,4454245.2749717506,4618633.9956171187,4634196.7840806097,4805226.80904005,4848056.0045119291,{"$f":"AQ48*AQ20","v":4999357.9721252685},5016203.6348574301,5201332.0341991307,5218858.2617056724,5411465.848380778,5429700.1354785841,5630089.0686553642,5680270.2973107705,5857544.6670290409,5877282.0457983781,6094189.4715770148,6114724.2404486341,6340394.726228727,6361759.0997627592,6596546.6731683686,6655341.980472696,6863047.1587643726,6886172.6437558606,7140314.2639784524,0,0,0,0,0,0,0,0,0,0,0,0,0,{"$f":"BW48*BW20","v":0},0,0,0,0,0]
[]
[null,null,null,"Total Revenues","USD",null,null,null,{"$f":"SUM(K51:XFD51)","v":531178811.56127095},null,{"$f":"K49+K43","v":0},5882500,5980000,6015948.8717214242,6254436,6292109.0246305298,6541621.1208000006,6617461.3860783204,6842154.5193441631,6883530.1448813397,7156663.8135958575,7200026.2180181257,7485806.447669833,7531251.846146985,7830271.123010234,7921424.7365790959,8190779.2988340296,8240698.3379193824,8568086.7652172856,8620406.541924892,8962985.292367572,9017822.2273245975,9376304.3597996049,9485900.8948132992,9808912.969313886,9869156.508512307,10261721.545869488,10324866.75651978,10735683.93064326,10801871.712594967,11231799.470778514,11363615.059436172,{"$f":"AQ49+AQ43","v":11751115.210547701},11823838.734317414,12294728.188885737,12370959.697198333,12863787.84849453,12943697.903607175,13459498.561974872,13618090.750601675,14083122.280710518,14170934.927387189,14735981.312510772,14828035.957845841,15419461.234313734,15515964.390060265,16135013.946562478,16325884.909718849,16884160.876192223,16990221.570488539,17668496.335508153,0,0,0,0,0,0,0,0,0,0,0,0,0,{"$f":"BW49+BW43","v":0},0,0,0,0,0]
[]
[null,null,"Operating Expenditures"]
[null,null,null,"Inflation Index for Op Exp","Index",null,null,null,null,null,{"$f":"K47","v":1},1,1,1.0099504938362078,1.02,1.030149503712932,1.0404,1.0507524937871906,1.0612080000000002,1.0717675436629346,1.0824321600000002,1.0932028945361933,1.1040808032000002,1.1150669524269172,1.1261624192640003,1.1373682914754557,1.1486856676492805,1.1601156573049649,1.1716593810022662,1.1833179704510643,1.1950925686223117,1.2069843298600857,1.218994419994758,1.2311240164572876,1.2433743083946533,1.2557464967864336,1.2682417945625466,1.2808614267221623,1.2936066304537976,1.3064786552566057,1.3194787630628737,1.332608228361738,{"$f":"AQ47","v":1.3458683383241312},1.3592603929289728,1.372785705090614,1.3864456007875525,1.4002414191924266,1.4141745128033039,1.4282462475762754,1.4424580030593701,1.456811172527801,1.4713071631205576,1.4859473959783571,1.5007333063829689,1.5156663438979243,1.5307479725106283,1.5459796707758831,1.5613629319608411,1.5768992641914008,1.5925901906000579,1.6084372494752288,1.6244419944120592,1.6406059944647335,1.6569308343003004,1.6734181143540283,1.6900694509863066,1.7068864766411089,1.7238708400060327,1.7410242061739312,1.7583482568061535,1.7758446902974099,1.7935152219422767,1.8113615841033583,1.8293855263811225,{"$f":"BW47","v":1.8475888157854257},1.8659732369087452,1.8845405921011344,1.9032927016469203,1.9222314039431574,1.9413585556798589]
[]
[null,null,null,"Fixed Op Exp- Real","Fix/km-yr",{"$f":"InputC!F36","v":10000},{"$f":"F56/2","v":5000},"USD/period",null,null,{"$f":"$G$56*K11","v":0},250000,250000,250000,250000,250000,250000,250000,250000,250000,250000,250000,250000,250000,250000,250000,250000,250000,250000,250000,250000,250000,250000,250000,250000,250000,250000,250000,250000,250000,250000,250000,{"$f":"$G$56*AQ11","v":250000},250000,250000,250000,250000,250000,250000,250000,250000,250000,250000,250000,250000,250000,250000,250000,250000,250000,250000,0,0,0,0,0,0,0,0,0,0,0,0,0,{"$f":"$G$56*BW11","v":0},0,0,0,0,0]
[null,null,null,"Variable Expense","USD/vehicle",{"$f":"InputC!F35","v":2},{"$f":"F57/2","v":1},"USD/period",null,null,{"$f":"$G$57*K22","v":0},905000,920000,917133.83972512255,944840,941905.8393261109,970370.00000000012,972710.72301548673,996609.59600000025,993534.35034078103,1023578.9498000003,1020430.5319699596,1051298.8055324005,1048075.4020703926,1079790.5066815403,1082437.7173420615,1109076.0136048179,1105697.0101660097,1139177.9215702505,1135718.2064614068,1170119.4793257918,1166577.0443654745,1201924.6082161681,1204917.820827835,1234617.9218634679,1230903.8133334136,1268224.7464282028,1264421.5759946408,1302771.1414680562,1298876.6845009294,1338283.9214120454,1341667.6960144879,{"$f":"$G$57*AQ22","v":1374790.6776683535},1370706.7410115418,1412319.8013846294,1408137.5512750859,1450900.5068801183,1446617.4780072004,1490562.8557695509,1494387.4385371176,1531337.7817993269,1526845.5406232039,1573257.1164171298,1568656.3078940276,1616353.6150967435,1611641.5062040186,1660660.9844404876,1664983.0290461252,1706213.9100823607,1701270.7134038424,1753048.0854156634,0,0,0,0,0,0,0,0,0,0,0,0,0,{"$f":"$G$57*BW22","v":0},0,0,0,0,0]
[null,null,null,"Total Expense","USD  ",null,null,null,{"$f":"SUM(K58:XFD58)","v":99452379.842113972},null,{"$f":"SUM(K56:K57)*K54","v":0},{"$f":"SUM(L56:L57)*L54","v":1155000},1170000,1178747.3978033368,1218736.8,1227841.2088543389,1269672.9480000001,1284766.3413888616,1322912.0761519687,1332779.756125222,1378562.8135625462,1388838.3348567158,1436739.0304154137,1447440.9826069779,1497560.0941187842,1515472.4100707967,1561151.1380737729,1572765.3280551159,1627643.3436890144,1639745.2556870009,1697174.2362980405,1709786.2945886431,1769887.995668584,1791184.2711928487,1845935.7818272968,1859639.7756711047,1925476.0769593713,1939764.1804873212,2008675.0441803895,2023574.3279250842,2095706.9040174161,2121069.4685264761,2186754.3294780459,2202962.4816099834,2282008.8606298883,2298917.5134659875,2381671.3396589346,2399313.1953744027,2485952.3674235069,2516205.6211541002,2595072.7825711495,2614285.5716777397,2709264.1643390423,2729318.0941200466,2828769.3602143549,2849703.9611634337,2953843.0396896298,2989983.5168867107,3084752.2754098577,3107574.5973721365,3221777.1530725928,0,0,0,0,0,0,0,0,0,0,0,0,0,0,{"$f":"SUM(BX56:BX57)*BX54","v":0},0,0,0,0]
[]
[null,null,null,"EBITDA","USD",null,null,null,{"$f":"SUM(K60:XFD60)","v":431726431.71915704},null,{"$f":"K51-K58","v":0},{"$f":"L51-L58","v":4727500},4810000,4837201.4739180878,5035699.2,5064267.8157761907,5271948.1728000008,5332695.0446894588,5519242.4431921942,5550750.3887561178,5778101.0000333115,5811187.8831614098,6049067.4172544191,6083810.8635400068,6332711.0288914498,6405952.3265082994,6629628.1607602565,6667933.009864267,6940443.4215282714,6980661.2862378908,7265811.0560695315,7308035.9327359544,7606416.3641310204,7694716.6236204505,7962977.187486589,8009516.7328412021,8336245.4689101167,8385102.5760324579,8727008.886462871,8778297.3846698832,9136092.5667610969,9242545.5909096971,9564360.8810696546,9620876.2527074311,10012719.328255849,10072042.183732346,10482116.508835595,10544384.708232772,10973546.194551365,11101885.129447576,11488049.498139368,11556649.355709448,12026717.14817173,12098717.863725794,12590691.874099379,12666260.428896831,13181170.906872848,13335901.392832138,13799408.600782365,13882646.973116402,14446719.182435561,0,0,0,0,0,0,0,0,0,0,0,0,0,0,{"$f":"BX51-BX58","v":0},0,0,0,0]
[]
[null,"Working Capital"]
[null,null,"A/R Outstanding",null,"% Revenues",{"$f":"InputC!F40","v":8.2191780821917804E-2},null,"USD",null,null,{"$f":"K51*$F$63","v":0},{"$f":"L51*$F$63","v":483493.15068493149},491506.84931506845,494461.55110039102,514063.23287671228,517159.64586004353,537667.48938082193,543900.93584205373,562368.8646036298,565769.60094915121,588218.94358322117,591782.97682340757,615271.76282217808,619007.00105317682,643583.92791864928,651076.00574622699,673214.73689046816,677317.67160981218,704226.30946991383,708526.56508971716,736683.72266034828,741190.86799928197,770655.15286024148,779663.0872449287,806212.02487511386,811163.54864484712,843429.16815365653,848619.18546737905,882384.98060081585,887825.0722680795,923161.60033795994,933995.7583098223,965845.08579844108,971822.36172471894,1010525.6045659509,1016791.2079889041,1057297.6313831119,1063865.5811183979,1106260.1557787566,1119295.130186439,1157516.8997844262,1164734.3775934675,1211176.5462337621,1218742.6814667813,1267352.9781627725,1275284.7443885149,1326165.5298544501,1341853.5542234669,1387739.250097991,1396456.5674374141,1452205.1782609441,0,0,0,0,0,0,0,0,0,0,0,0,0,0,{"$f":"BX51*$F$63","v":0},0,0,0,0]
[null,null,"A/P Outstanding",null,"%  Expense",{"$f":"InputC!F43","v":0},null,"USD",null,null,{"$f":"$F$64*K58","v":0},{"$f":"$F$64*L58","v":0},0,0,0,0,0,0,0,0,0,0,0,0,0,0,0,0,0,0,0,0,0,0,0,0,0,0,0,0,0,0,0,0,0,0,0,0,0,0,0,0,0,0,0,0,0,0,0,0,0,0,0,0,0,0,0,0,0,0,0,0,0,0,0,{"$f":"$F$64*BX58","v":0},0,0,0,0]
[null,null,"Net Working Capital",null,"USD",null,null,"USD",null,null,{"$f":"K63-K64","v":0},{"$f":"L63-L64","v":483493.15068493149},491506.84931506845,494461.55110039102,514063.23287671228,517159.64586004353,537667.48938082193,543900.93584205373,562368.8646036298,565769.60094915121,588218.94358322117,591782.97682340757,615271.76282217808,619007.00105317682,643583.92791864928,651076.00574622699,673214.73689046816,677317.67160981218,704226.30946991383,708526.56508971716,736683.72266034828,741190.86799928197,770655.15286024148,779663.0872449287,806212.02487511386,811163.54864484712,843429.16815365653,848619.18546737905,882384.98060081585,887825.0722680795,923161.60033795994,933995.7583098223,965845.08579844108,971822.36172471894,1010525.6045659509,1016791.2079889041,1057297.6313831119,1063865.5811183979,1106260.1557787566,1119295.130186439,1157516.8997844262,1164734.3775934675,1211176.5462337621,1218742.6814667813,1267352.9781627725,1275284.7443885149,1326165.5298544501,1341853.5542234669,1387739.250097991,1396456.5674374141,1452205.1782609441,0,0,0,0,0,0,0,0,0,0,0,0,0,0,{"$f":"BX63-BX64","v":0},0,0,0,0]
[]
[null,null,"Change in Working Capital",null,"USD",null,null,"USD",null,null,null,{"$f":"L65-K65","v":483493.15068493149},{"$f":"M65-L65","v":8013.6986301369616},2954.7017853225698,19601.68177632126,3096.4129833312472,20507.843520778406,6233.446461231797,18467.92876157607,3400.7363455214072,22449.342634069966,3564.0332401863998,23488.785998770501,3735.2382309987443,24576.926865472458,7492.077827577712,22138.731144241174,4102.934719344019,26908.637860101648,4300.2556198033271,28157.157570631127,4507.1453389336821,29464.284860959509,9007.9343846872216,26548.937630185159,4951.5237697332632,32265.61950880941,5190.0173137225211,33765.795133436797,5440.0916672636522,35336.528069880442,10834.157971862354,31849.327488618786,5977.2759262778563,38703.242841231986,6265.6034229531651,40506.423394207843,6567.9497352859471,42394.574660358718,13034.974407682428,38221.769597987179,7217.4778090412728,46442.168640294578,7566.1352330192458,48610.296695991186,7931.766225742409,50880.785465935245,15688.024369016755,45885.69587452407,8717.3173394231126,55748.610823530005,-1452205.1782609441,0,0,0,0,0,0,0,0,0,0,0,0,0,0,{"$f":"BY65-BX65","v":0},0,0,0]
[]
[null,null,"Pre-tax Cash Flow"]
[null,null,null,"EBITDA","USD",null,null,"USD",null,null,{"$f":"K60","v":0},{"$f":"L60","v":4727500},4810000,4837201.4739180878,5035699.2,5064267.8157761907,5271948.1728000008,5332695.0446894588,5519242.4431921942,5550750.3887561178,5778101.0000333115,5811187.8831614098,6049067.4172544191,6083810.8635400068,6332711.0288914498,6405952.3265082994,6629628.1607602565,6667933.009864267,6940443.4215282714,6980661.2862378908,7265811.0560695315,7308035.9327359544,7606416.3641310204,7694716.6236204505,7962977.187486589,8009516.7328412021,8336245.4689101167,8385102.5760324579,8727008.886462871,8778297.3846698832,9136092.5667610969,9242545.5909096971,9564360.8810696546,9620876.2527074311,10012719.328255849,10072042.183732346,10482116.508835595,10544384.708232772,10973546.194551365,11101885.129447576,11488049.498139368,11556649.355709448,12026717.14817173,12098717.863725794,12590691.874099379,12666260.428896831,13181170.906872848,13335901.392832138,13799408.600782365,13882646.973116402,14446719.182435561,0,0,0,0,0,0,0,0,0,0,0,0,0,0,{"$f":"BX60","v":0},0,0,0,0]
[null,null,null,"Less: WC Change","USD",null,null,"USD",null,null,{"$f":"K65","v":0},{"$f":"L65","v":483493.15068493149},491506.84931506845,494461.55110039102,514063.23287671228,517159.64586004353,537667.48938082193,543900.93584205373,562368.8646036298,565769.60094915121,588218.94358322117,591782.97682340757,615271.76282217808,619007.00105317682,643583.92791864928,651076.00574622699,673214.73689046816,677317.67160981218,704226.30946991383,708526.56508971716,736683.72266034828,741190.86799928197,770655.15286024148,779663.0872449287,806212.02487511386,811163.54864484712,843429.16815365653,848619.18546737905,882384.98060081585,887825.0722680795,923161.60033795994,933995.7583098223,965845.08579844108,971822.36172471894,1010525.6045659509,1016791.2079889041,1057297.6313831119,1063865.5811183979,1106260.1557787566,1119295.130186439,1157516.8997844262,1164734.3775934675,1211176.5462337621,1218742.6814667813,1267352.9781627725,1275284.7443885149,1326165.5298544501,1341853.5542234669,1387739.250097991,1396456.5674374141,1452205.1782609441,0,0,0,0,0,0,0,0,0,0,0,0,0,0,{"$f":"BX65","v":0},0,0,0,0]
[null,null," ","Less: Cap Exp","USD",null,null,"USD",null,null,{"$f":"K32","v":183497044.91816804},0,0,0,0,0,0,0,0,0,0,0,0,0,0,0,0,0,0,0,0,0,0,0,0,0,0,0,0,0,0,0,{"$f":"AQ32","v":0},0,0,0,0,0,0,0,0,0,0,0,0,0,0,0,0,0,0,0,0,0,0,0,0,0,0,0,0,0,0,0,{"$f":"BW32","v":0},0,0,0,0,0]
[null,null,null,"Free Cash Flow Before Tax","USD",null,null,"USD",null,null,{"$f":"K70-K71-K72","v":-183497044.91816804},{"$f":"L70-L71-L72","v":4244006.8493150687},4318493.1506849313,4342739.9228176968,4521635.9671232877,4547108.1699161474,4734280.6834191792,4788794.1088474048,4956873.5785885639,4984980.7878069663,5189882.0564500904,5219404.9063380025,5433795.6544322409,5464803.86248683,5689127.1009728005,5754876.3207620727,5956413.4238697886,5990615.3382544545,6236217.1120583573,6272134.7211481733,6529127.3334091827,6566845.0647366727,6835761.2112707794,6915053.5363755217,7156765.1626114752,7198353.1841963548,7492816.3007564601,7536483.3905650787,7844623.9058620548,7890472.3124018032,8212930.9664231371,8308549.8325998746,8598515.7952712141,8649053.8909827117,9002193.7236898988,9055250.9757434409,9424818.8774524834,9480519.1271143742,9867286.0387726091,9982589.9992611371,10330532.598354943,10391914.978115981,10815540.601937968,10879975.182259014,11323338.895936606,11390975.684508316,11855005.377018398,11994047.838608671,12411669.350684375,12486190.405678988,12994514.004174616,0,0,0,0,0,0,0,0,0,0,0,0,0,0,{"$f":"BX70-BX71-BX72","v":0},0,0,0,0]
[]
[null,null,null,"Pre-tax Project IRR","%",{"$f":"XIRR(K73:CB73,K4:CB4)","v":5.6148818135261541E-2}]
[]
[null,"Tax and Deprecation"]
[null,null,"Tax Basis",null,"USD",null,null,"USD",null,null,{"$f":"J78+K32","v":183497044.91816804},183497044.91816804,183497044.91816804,183497044.91816804,183497044.91816804,183497044.91816804,183497044.91816804,183497044.91816804,183497044.91816804,183497044.91816804,183497044.91816804,183497044.91816804,183497044.91816804,183497044.91816804,183497044.91816804,183497044.91816804,183497044.91816804,183497044.91816804,183497044.91816804,183497044.91816804,183497044.91816804,183497044.91816804,183497044.91816804,183497044.91816804,183497044.91816804,183497044.91816804,183497044.91816804,183497044.91816804,183497044.91816804,183497044.91816804,183497044.91816804,183497044.91816804,{"$f":"AP78+AQ32","v":183497044.91816804},183497044.91816804,183497044.91816804,183497044.91816804,183497044.91816804,183497044.91816804,183497044.91816804,183497044.91816804,183497044.91816804,183497044.91816804,183497044.91816804,183497044.91816804,183497044.91816804,183497044.91816804,183497044.91816804,183497044.91816804,183497044.91816804,183497044.91816804,183497044.91816804,183497044.91816804,183497044.91816804,183497044.91816804,183497044.91816804,183497044.91816804,183497044.91816804,183497044.91816804,183497044.91816804,183497044.91816804,183497044.91816804,183497044.91816804,183497044.91816804,183497044.91816804,{"$f":"BV78+BW32","v":183497044.91816804},183497044.91816804,183497044.91816804,183497044.91816804,183497044.91816804,183497044.91816804]
[null,null,"Tax Depreciation Period",null,"Date",{"$f":"F5+1","v":"2025-01-01"},{"$f":"EDATE(F79,InputC!F47*12)","v":"2045-01-01"},"Flag",{"$f":"SUM(K79:XFD79)","v":40},null,{"$f":"(AND(K3>=$F$79,K3<$G$79))*1","v":0},1,1,1,1,1,1,1,1,1,1,1,1,1,1,1,1,1,1,1,1,1,1,1,1,1,1,1,1,1,1,1,{"$f":"(AND(AQ3>=$F$79,AQ3<$G$79))*1","v":1},1,1,1,1,1,1,1,1,0,0,0,0,0,0,0,0,0,0,0,0,0,0,0,0,0,0,0,0,0,0,0,{"$f":"(AND(BW3>=$F$79,BW3<$G$79))*1","v":0},0,0,0,0,0]
[null,null,"Tax Depreciation ",null,"%",{"$f":"1/I79","v":2.5000000000000001E-2},null,"USD",{"$f":"SUM(K80:XFD80)","v":183497044.91816801},null,{"$f":"K78*K79*$F$80","v":0},{"$f":"L78*L79*$F$80","v":4587426.122954201},4587426.122954201,4587426.122954201,4587426.122954201,4587426.122954201,4587426.122954201,4587426.122954201,4587426.122954201,4587426.122954201,4587426.122954201,4587426.122954201,4587426.122954201,4587426.122954201,4587426.122954201,4587426.122954201,4587426.122954201,4587426.122954201,4587426.122954201,4587426.122954201,4587426.122954201,4587426.122954201,4587426.122954201,4587426.122954201,4587426.122954201,4587426.122954201,4587426.122954201,4587426.122954201,4587426.122954201,4587426.122954201,4587426.122954201,4587426.122954201,4587426.122954201,4587426.122954201,4587426.122954201,4587426.122954201,4587426.122954201,4587426.122954201,4587426.122954201,4587426.122954201,4587426.122954201,0,0,0,0,0,0,0,0,0,0,0,0,0,0,0,0,0,0,0,0,0,0,0,0,{"$f":"BX78*BX79*$F$80","v":0},0,0,0,0]
[]
[null,null,"EBITDA",null,"USD",null,null,"USD",null,null,{"$f":"K70","v":0},{"$f":"L70","v":4727500},4810000,4837201.4739180878,5035699.2,5064267.8157761907,5271948.1728000008,5332695.0446894588,5519242.4431921942,5550750.3887561178,5778101.0000333115,5811187.8831614098,6049067.4172544191,6083810.8635400068,6332711.0288914498,6405952.3265082994,6629628.1607602565,6667933.009864267,6940443.4215282714,6980661.2862378908,7265811.0560695315,7308035.9327359544,7606416.3641310204,7694716.6236204505,7962977.187486589,8009516.7328412021,8336245.4689101167,8385102.5760324579,8727008.886462871,8778297.3846698832,9136092.5667610969,9242545.5909096971,9564360.8810696546,9620876.2527074311,10012719.328255849,10072042.183732346,10482116.508835595,10544384.708232772,10973546.194551365,11101885.129447576,11488049.498139368,11556649.355709448,12026717.14817173,12098717.863725794,12590691.874099379,12666260.428896831,13181170.906872848,13335901.392832138,13799408.600782365,13882646.973116402,14446719.182435561,0,0,0,0,0,0,0,0,0,0,0,0,0,0,{"$f":"BX70","v":0},0,0,0,0]
[null,null,"Less: Depreciation ",null,"USD",null,null,"USD",null,null,{"$f":"K80","v":0},{"$f":"L80","v":4587426.122954201},4587426.122954201,4587426.122954201,4587426.122954201,4587426.122954201,4587426.122954201,4587426.122954201,4587426.122954201,4587426.122954201,4587426.122954201,4587426.122954201,4587426.122954201,4587426.122954201,4587426.122954201,4587426.122954201,4587426.122954201,4587426.122954201,4587426.122954201,4587426.122954201,4587426.122954201,4587426.122954201,4587426.122954201,4587426.122954201,4587426.122954201,4587426.122954201,4587426.122954201,4587426.122954201,4587426.122954201,4587426.122954201,4587426.122954201,4587426.122954201,4587426.122954201,4587426.122954201,4587426.122954201,4587426.122954201,4587426.122954201,4587426.122954201,4587426.122954201,4587426.122954201,4587426.122954201,0,0,0,0,0,0,0,0,0,0,0,0,0,0,0,0,0,0,0,0,0,0,0,0,{"$f":"BX80","v":0},0,0,0,0]
[null,null,"EBIT ",null,"USD",null,null,"USD",null,null,{"$f":"K82-K83","v":0},{"$f":"L82-L83","v":140073.87704579905},222573.87704579905,249775.35096388683,448273.07704579923,476841.69282198977,684522.0498457998,745268.92173525784,931816.32023799326,963324.26580191683,1190674.8770791106,1223761.7602072088,1461641.2943002181,1496384.7405858058,1745284.9059372488,1818526.2035540985,2042202.0378060555,2080506.886910066,2353017.2985740704,2393235.1632836899,2678384.9331153305,2720609.8097817535,3018990.2411768194,3107290.5006662495,3375551.064532388,3422090.6098870011,3748819.3459559157,3797676.4530782569,4139582.76350867,4190871.2617156822,4548666.443806896,4655119.4679554962,4976934.7581154536,5033450.1297532301,5425293.205301648,5484616.0607781447,5894690.3858813941,5956958.5852785707,6386120.0715971645,6514459.0064933747,6900623.3751851674,11556649.355709448,12026717.14817173,12098717.863725794,12590691.874099379,12666260.428896831,13181170.906872848,13335901.392832138,13799408.600782365,13882646.973116402,14446719.182435561,0,0,0,0,0,0,0,0,0,0,0,0,0,0,{"$f":"BX82-BX83","v":0},0,0,0,0]
[null,null,"Taxes on EBIT",null,"Rate",{"$f":"InputC!F46","v":0.2},null,"USD",null,null,{"$f":"K84*$F$85","v":0},{"$f":"L84*$F$85","v":28014.775409159811},44514.775409159811,49955.07019277737,89654.615409159858,95368.338564397956,136904.40996915995,149053.78434705158,186363.26404759867,192664.85316038338,238134.97541582212,244752.35204144177,292328.25886004366,299276.94811716117,349056.98118744977,363705.24071081972,408440.40756121115,416101.37738201325,470603.45971481409,478647.03265673801,535676.98662306613,544121.96195635071,603798.04823536391,621458.10013324989,675110.21290647762,684418.12197740027,749763.86919118324,759535.29061565141,827916.55270173401,838174.25234313647,909733.2887613792,931023.8935910993,995386.95162309078,1006690.025950646,1085058.6410603297,1096923.2121556289,1178938.0771762789,1191391.7170557142,1277224.0143194329,1302891.8012986751,1380124.6750370336,2311329.8711418896,2405343.4296343462,2419743.5727451588,2518138.3748198762,2533252.0857793665,2636234.1813745699,2667180.2785664275,2759881.7201564731,2776529.3946232805,2889343.8364871126,0,0,0,0,0,0,0,0,0,0,0,0,0,0,{"$f":"BX84*$F$85","v":0},0,0,0,0]
[]
[null,null,"Pre-tax Cash Flow",null,"USD",null,null,"USD",null,null,{"$f":"K73","v":-183497044.91816804},{"$f":"L73","v":4244006.8493150687},4318493.1506849313,4342739.9228176968,4521635.9671232877,4547108.1699161474,4734280.6834191792,4788794.1088474048,4956873.5785885639,4984980.7878069663,5189882.0564500904,5219404.9063380025,5433795.6544322409,5464803.86248683,5689127.1009728005,5754876.3207620727,5956413.4238697886,5990615.3382544545,6236217.1120583573,6272134.7211481733,6529127.3334091827,6566845.0647366727,6835761.2112707794,6915053.5363755217,7156765.1626114752,7198353.1841963548,7492816.3007564601,7536483.3905650787,7844623.9058620548,7890472.3124018032,8212930.9664231371,8308549.8325998746,8598515.7952712141,8649053.8909827117,9002193.7236898988,9055250.9757434409,9424818.8774524834,9480519.1271143742,9867286.0387726091,9982589.9992611371,10330532.598354943,10391914.978115981,10815540.601937968,10879975.182259014,11323338.895936606,11390975.684508316,11855005.377018398,11994047.838608671,12411669.350684375,12486190.405678988,12994514.004174616,0,0,0,0,0,0,0,0,0,0,0,0,0,0,{"$f":"BX73","v":0},0,0,0,0]
[null,null,"Less: Taxes",null,"USD",null,null,"USD",null,null,{"$f":"K85","v":0},{"$f":"L85","v":28014.775409159811},44514.775409159811,49955.07019277737,89654.615409159858,95368.338564397956,136904.40996915995,149053.78434705158,186363.26404759867,192664.85316038338,238134.97541582212,244752.35204144177,292328.25886004366,299276.94811716117,349056.98118744977,363705.24071081972,408440.40756121115,416101.37738201325,470603.45971481409,478647.03265673801,535676.98662306613,544121.96195635071,603798.04823536391,621458.10013324989,675110.21290647762,684418.12197740027,749763.86919118324,759535.29061565141,827916.55270173401,838174.25234313647,909733.2887613792,931023.8935910993,995386.95162309078,1006690.025950646,1085058.6410603297,1096923.2121556289,1178938.0771762789,1191391.7170557142,1277224.0143194329,1302891.8012986751,1380124.6750370336,2311329.8711418896,2405343.4296343462,2419743.5727451588,2518138.3748198762,2533252.0857793665,2636234.1813745699,2667180.2785664275,2759881.7201564731,2776529.3946232805,2889343.8364871126,0,0,0,0,0,0,0,0,0,0,0,0,0,0,{"$f":"BX85","v":0},0,0,0,0]
[null,null,"After Tax Free Cash Flow",null,"USD",null,null,"USD",null,null,{"$f":"K87-K88","v":-183497044.91816804},{"$f":"L87-L88","v":4215992.0739059085},4273978.3752757711,4292784.8526249193,4431981.3517141277,4451739.8313517496,4597376.2734500188,4639740.3245003531,4770510.3145409655,4792315.9346465832,4951747.0810342683,4974652.5542965606,5141467.3955721976,5165526.9143696688,5340070.1197853507,5391171.0800512526,5547973.0163085777,5574513.9608724415,5765613.6523435432,5793487.6884914357,5993450.3467861162,6022723.1027803216,6231963.1630354151,6293595.4362422721,6481654.9497049972,6513935.0622189548,6743052.4315652773,6776948.0999494269,7016707.3531603208,7052298.0600586664,7303197.6776617579,7377525.9390087752,7603128.8436481236,7642363.8650320657,7917135.0826295689,7958327.763587812,8245880.8002762049,8289127.4100586604,8590062.0244531762,8679698.1979624629,8950407.9233179092,8080585.1069740914,8410197.1723036226,8460231.6095138546,8805200.5211167298,8857723.5987289492,9218771.1956438273,9326867.5600422435,9651787.6305279024,9709661.0110557079,10105170.167687504,0,0,0,0,0,0,0,0,0,0,0,0,0,0,{"$f":"BX87-BX88","v":0},0,0,0,0]
[]
[null,null,"Project IRR after Tax",null,"%",{"$f":"XIRR(K89:CB89,K4:CB4)","v":4.668066799640655E-2}]
[]
[null,"Financing"]
[null,null,"Debt Size"]
[null,null,null,"Tenure Input","Year",{"$f":"InputC!F53","v":20}]
[null,null,null,"Repayment Period","Year",{"$f":"F79","v":"2025-01-01"},{"$f":"EDATE(F79,F95*12)","v":"2045-01-01"},null,{"$f":"SUM(K96:XFD96)","v":40},null,{"$f":"(AND(K3>=$F$96,K3<$G$96))*1","v":0},1,1,1,1,1,1,1,1,1,1,1,1,1,1,1,1,1,1,1,1,1,1,1,1,1,1,1,1,1,1,1,{"$f":"(AND(AQ3>=$F$96,AQ3<$G$96))*1","v":1},1,1,1,1,1,1,1,1,0,0,0,0,0,0,0,0,0,0,0,0,0,0,0,0,0,0,0,0,0,0,0,{"$f":"(AND(BW3>=$F$96,BW3<$G$96))*1","v":0},0,0,0,0,0]
[]
[null,null,"Income Taxes with Interest Deduction"]
[null,null,null,"EBIT",null,null,null,null,null,null,{"$f":"K84","v":0},140073.87704579905,222573.87704579905,249775.35096388683,448273.07704579923,476841.69282198977,684522.0498457998,745268.92173525784,931816.32023799326,963324.26580191683,1190674.8770791106,1223761.7602072088,1461641.2943002181,1496384.7405858058,1745284.9059372488,1818526.2035540985,2042202.0378060555,2080506.886910066,2353017.2985740704,2393235.1632836899,2678384.9331153305,2720609.8097817535,3018990.2411768194,3107290.5006662495,3375551.064532388,3422090.6098870011,3748819.3459559157,3797676.4530782569,4139582.76350867,4190871.2617156822,4548666.443806896,4655119.4679554962,{"$f":"AQ84","v":4976934.7581154536},5033450.1297532301,5425293.205301648,5484616.0607781447,5894690.3858813941,5956958.5852785707,6386120.0715971645,6514459.0064933747,6900623.3751851674,11556649.355709448,12026717.14817173,12098717.863725794,12590691.874099379,12666260.428896831,13181170.906872848,13335901.392832138,13799408.600782365,13882646.973116402,14446719.182435561,0,0,0,0,0,0,0,0,0,0,0,0,0,{"$f":"BW84","v":0},0,0,0,0,0]
[null,null,null,"Less: Interest",null,null,null,null,null,null,{"$f":"K133","v":0},{"$f":"L133","v":2076056.9646068984},2055740.002777921,2034519.14308813,2012818.1671095348,1989293.2731146663,1965248.2445894454,1939277.7913430883,1912504.7817380235,1883936.6726764431,1854761.2419979023,1823441.5569674948,1791467.1707032288,1757230.7246003011,1722289.4848105309,1684962.4046743838,1646590.5789557646,1605986.2028389932,1564568.0936433531,1520497.4231472011,1475553.9159041771,1427814.3231986624,1379139.4717419751,1327517.7742916178,1274551.6632270967,1218819.212816054,1162015.9576218263,1101941.13450738,1040722.0701155362,976056.77042078669,910169.73959773383,840653.04540746321,769422.21277646103,694774.50945473672,618737.02968630206,538674.94636974286,457132.15108904726,371352.38634989393,283996.02895260189,192179.73349529435,98194.272334817986,8.3399936556816102E-9,8.4650935605168348E-9,8.5920699639245881E-9,8.7209510133834565E-9,8.851765278584208E-9,8.984541757762972E-9,9.119309884129415E-9,9.2560995323913561E-9,9.394941025377228E-9,9.5358651407578856E-9,9.6789031178692543E-9,9.824086664637293E-9,9.9714479646068533E-9,1.0121019684075956E-8,1.0272834979337095E-8,1.0426927504027152E-8,1.058333141658756E-8,1.0742081387836373E-8,1.0903212608653919E-8,1.1066760797783727E-8,1.1232762209750483E-8,1.140125364289674E-8,1.1572272447540191E-8,1.1745856534253293E-8,{"$f":"BX133","v":1.1922044382267092E-8},1.2100875048001099E-8,1.2282388173721116E-8,1.2466623996326932E-8,1.2653623356271836E-8]
[null,null,null,"EBT",null,null,null,null,null,null,{"$f":"K99-K100","v":0},{"$f":"L99-L100","v":-1935983.0875610993},-1833166.125732122,-1784743.7921242432,-1564545.0900637356,-1512451.5802926766,-1280726.1947436456,-1194008.8696078304,-980688.46150003024,-920612.40687452629,-664086.36491879169,-599679.79676028597,-329825.87640301068,-260845.98401449528,22995.421126717934,133563.79887971468,395611.45885029086,474520.68407107284,788449.20493071736,872737.74013648881,1202831.0172111534,1292795.4865830911,1639850.7694348444,1779772.7263746317,2100999.4013052913,2203271.3970709471,2586803.3883340894,2695735.318570877,3098860.6933931336,3214814.4912948953,3638496.7042091619,3814466.4225480328,4207512.545338993,4338675.6202984937,4806556.1756153461,4945941.1144084018,5437558.2347923471,5585606.1989286765,6102124.0426445622,6322279.2729980806,6802429.1028503496,11556649.355709441,12026717.148171721,12098717.863725785,12590691.87409937,12666260.428896822,13181170.906872839,13335901.392832128,13799408.600782355,13882646.973116392,14446719.182435552,-9.6789031178692543E-9,-9.824086664637293E-9,-9.9714479646068533E-9,-1.0121019684075956E-8,-1.0272834979337095E-8,-1.0426927504027152E-8,-1.058333141658756E-8,-1.0742081387836373E-8,-1.0903212608653919E-8,-1.1066760797783727E-8,-1.1232762209750483E-8,-1.140125364289674E-8,-1.1572272447540191E-8,-1.1745856534253293E-8,{"$f":"BX99-BX100","v":-1.1922044382267092E-8},-1.2100875048001099E-8,-1.2282388173721116E-8,-1.2466623996326932E-8,-1.2653623356271836E-8]
[null,null,null,"Taxes on EBT",null,{"$f":"InputC!F46","v":0.2},null,null,null,null,{"$f":"K101*$F$102","v":0},{"$f":"L101*$F$102","v":-387196.61751221988},-366633.22514642443,-356948.75842484867,-312909.01801274711,-302490.3160585353,-256145.23894872912,-238801.77392156608,-196137.69230000605,-184122.48137490527,-132817.27298375833,-119935.95935205719,-65965.17528060214,-52169.19680289906,4599.0842253435867,26712.759775942937,79122.291770058175,94904.13681421458,157689.84098614348,174547.54802729777,240566.2034422307,258559.09731661822,327970.15388696891,355954.54527492635,420199.88026105828,440654.27941418946,517360.67766681791,539147.06371417537,619772.13867862674,642962.89825897908,727699.34084183245,762893.28450960666,841502.50906779862,867735.12405969878,961311.23512306926,989188.22288168035,1087511.6469584694,1117121.2397857353,1220424.8085289125,1264455.8545996163,1360485.8205700701,2311329.8711418882,2405343.4296343443,2419743.5727451569,2518138.3748198743,2533252.0857793647,2636234.181374568,2667180.2785664257,2759881.7201564712,2776529.3946232786,2889343.8364871107,-1.9357806235738508E-9,-1.9648173329274585E-9,-1.9942895929213709E-9,-2.0242039368151911E-9,-2.054566995867419E-9,-2.0853855008054305E-9,-2.1166662833175119E-9,-2.1484162775672745E-9,-2.1806425217307837E-9,-2.2133521595567455E-9,-2.2465524419500969E-9,-2.2802507285793483E-9,-2.3144544895080384E-9,-2.3491713068506586E-9,{"$f":"BX101*$F$102","v":-2.3844088764534185E-9},-2.42017500960022E-9,-2.4564776347442234E-9,-2.4933247992653864E-9,-2.5307246712543673E-9]
[]
[null,null,"CFADS"]
[null,null,null,"EBITDA",null,null,null,"USD",null,null,{"$f":"K82","v":0},{"$f":"L82","v":4727500},4810000,4837201.4739180878,5035699.2,5064267.8157761907,5271948.1728000008,5332695.0446894588,5519242.4431921942,5550750.3887561178,5778101.0000333115,5811187.8831614098,6049067.4172544191,6083810.8635400068,6332711.0288914498,6405952.3265082994,6629628.1607602565,6667933.009864267,6940443.4215282714,6980661.2862378908,7265811.0560695315,7308035.9327359544,7606416.3641310204,7694716.6236204505,7962977.187486589,8009516.7328412021,8336245.4689101167,8385102.5760324579,8727008.886462871,8778297.3846698832,9136092.5667610969,9242545.5909096971,9564360.8810696546,9620876.2527074311,10012719.328255849,10072042.183732346,10482116.508835595,10544384.708232772,10973546.194551365,11101885.129447576,11488049.498139368,11556649.355709448,12026717.14817173,12098717.863725794,12590691.874099379,12666260.428896831,13181170.906872848,13335901.392832138,13799408.600782365,13882646.973116402,14446719.182435561,0,0,0,0,0,0,0,0,0,0,0,0,0,0,{"$f":"BX82","v":0},0,0,0,0]
[null,null,null,"Less: Working Capital Changes",null,null,null,"USD",null,null,{"$f":"-K71","v":0},{"$f":"-L71","v":-483493.15068493149},-491506.84931506845,-494461.55110039102,-514063.23287671228,-517159.64586004353,-537667.48938082193,-543900.93584205373,-562368.8646036298,-565769.60094915121,-588218.94358322117,-591782.97682340757,-615271.76282217808,-619007.00105317682,-643583.92791864928,-651076.00574622699,-673214.73689046816,-677317.67160981218,-704226.30946991383,-708526.56508971716,-736683.72266034828,-741190.86799928197,-770655.15286024148,-779663.0872449287,-806212.02487511386,-811163.54864484712,-843429.16815365653,-848619.18546737905,-882384.98060081585,-887825.0722680795,-923161.60033795994,-933995.7583098223,-965845.08579844108,-971822.36172471894,-1010525.6045659509,-1016791.2079889041,-1057297.6313831119,-1063865.5811183979,-1106260.1557787566,-1119295.130186439,-1157516.8997844262,-1164734.3775934675,-1211176.5462337621,-1218742.6814667813,-1267352.9781627725,-1275284.7443885149,-1326165.5298544501,-1341853.5542234669,-1387739.250097991,-1396456.5674374141,-1452205.1782609441,0,0,0,0,0,0,0,0,0,0,0,0,0,0,{"$f":"-BX71","v":0},0,0,0,0]
[null,null,null,"Less: Taxes Paid",null,null,null,"USD",null,null,{"$f":"-K102","v":0},{"$f":"-L102","v":387196.61751221988},366633.22514642443,356948.75842484867,312909.01801274711,302490.3160585353,256145.23894872912,238801.77392156608,196137.69230000605,184122.48137490527,132817.27298375833,119935.95935205719,65965.17528060214,52169.19680289906,-4599.0842253435867,-26712.759775942937,-79122.291770058175,-94904.13681421458,-157689.84098614348,-174547.54802729777,-240566.2034422307,-258559.09731661822,-327970.15388696891,-355954.54527492635,-420199.88026105828,-440654.27941418946,-517360.67766681791,-539147.06371417537,-619772.13867862674,-642962.89825897908,-727699.34084183245,-762893.28450960666,-841502.50906779862,-867735.12405969878,-961311.23512306926,-989188.22288168035,-1087511.6469584694,-1117121.2397857353,-1220424.8085289125,-1264455.8545996163,-1360485.8205700701,-2311329.8711418882,-2405343.4296343443,-2419743.5727451569,-2518138.3748198743,-2533252.0857793647,-2636234.181374568,-2667180.2785664257,-2759881.7201564712,-2776529.3946232786,-2889343.8364871107,1.9357806235738508E-9,1.9648173329274585E-9,1.9942895929213709E-9,2.0242039368151911E-9,2.054566995867419E-9,2.0853855008054305E-9,2.1166662833175119E-9,2.1484162775672745E-9,2.1806425217307837E-9,2.2133521595567455E-9,2.2465524419500969E-9,2.2802507285793483E-9,2.3144544895080384E-9,2.3491713068506586E-9,{"$f":"-BX102","v":2.3844088764534185E-9},2.42017500960022E-9,2.4564776347442234E-9,2.4933247992653864E-9,2.5307246712543673E-9]
[null,null,null,"Fixed CFADS",null,null,null,"USD",null,"Fixed",0,4631203.4668272883,4685126.3758313553,4699688.6812425451,4834544.9851360349,4849598.4859746825,4990425.9223679081,5027595.8827689709,5153011.2708885698,5169103.2691818718,5322699.3294338491,5339340.86569006,5499760.8297128426,5516973.0592897292,5684528.016747457,5728163.5609861296,5877291.1320997309,5895711.2014402403,6078527.2710722135,6097587.1731208758,6288561.1299669519,6308285.9674200546,6507791.0573838102,6559098.9911005953,6736565.2823504172,6757698.9047821658,6975455.6230896423,6997336.3268509032,7224851.7671834277,7247509.4141428238,7485231.6255813045,7545656.5480902679,7757013.2862034151,7781318.7669230131,8040882.4885668298,8066062.7528617606,8337307.230494014,8363397.8873286387,8646861.2302436959,8718134.1446615215,8970046.7777848728,8080585.1069740932,8410197.1723036245,8460231.6095138565,8805200.5211167317,8857723.5987289511,9218771.1956438292,9326867.5600422453,9651787.6305279024,9709661.0110557079,10105170.167687505,1.9357806235738508E-9,1.9648173329274585E-9,1.9942895929213709E-9,2.0242039368151911E-9,2.054566995867419E-9,2.0853855008054305E-9,2.1166662833175119E-9,2.1484162775672745E-9,2.1806425217307837E-9,2.2133521595567455E-9,2.2465524419500969E-9,2.2802507285793483E-9,2.3144544895080384E-9,2.3491713068506586E-9,2.3844088764534185E-9,2.42017500960022E-9,2.4564776347442234E-9,2.4933247992653864E-9,2.5307246712543673E-9]
[null,null,null,"Computed CFADS",null,null,null,"USD",null,"Computed",{"$f":"K105+K106+K107","v":0},{"$f":"L105+L106+L107","v":4631203.4668272883},4685126.3758313553,4699688.6812425451,4834544.9851360349,4849598.4859746825,4990425.9223679081,5027595.8827689709,5153011.2708885698,5169103.2691818718,5322699.3294338491,5339340.86569006,5499760.8297128426,5516973.0592897292,5684528.016747457,5728163.5609861296,5877291.1320997309,5895711.2014402403,6078527.2710722135,6097587.1731208758,6288561.1299669519,6308285.9674200546,6507791.0573838102,6559098.9911005953,6736565.2823504172,6757698.9047821658,6975455.6230896423,6997336.3268509032,7224851.7671834277,7247509.4141428238,7485231.6255813045,7545656.5480902679,7757013.2862034151,7781318.7669230131,8040882.4885668298,8066062.7528617606,8337307.230494014,8363397.8873286387,8646861.2302436959,8718134.1446615215,8970046.7777848728,8080585.1069740932,8410197.1723036245,8460231.6095138565,8805200.5211167317,8857723.5987289511,9218771.1956438292,9326867.5600422453,9651787.6305279024,9709661.0110557079,10105170.167687505,1.9357806235738508E-9,1.9648173329274585E-9,1.9942895929213709E-9,2.0242039368151911E-9,2.054566995867419E-9,2.0853855008054305E-9,2.1166662833175119E-9,2.1484162775672745E-9,2.1806425217307837E-9,2.2133521595567455E-9,2.2465524419500969E-9,2.2802507285793483E-9,2.3144544895080384E-9,2.3491713068506586E-9,{"$f":"BX105+BX106+BX107","v":2.3844088764534185E-9},2.42017500960022E-9,2.4564776347442234E-9,2.4933247992653864E-9,2.5307246712543673E-9]
[null,null,null,"CFADS Difference",null,null,null,"USD",{"$f":"SUM(K110:XFD110)","v":0},"Difference",{"$f":"K108-K109","v":0},{"$f":"L108-L109","v":0},0,0,0,0,0,0,0,0,0,0,0,0,0,0,0,0,0,0,0,0,0,0,0,0,0,0,0,0,0,0,0,0,0,0,0,0,0,0,0,0,0,0,0,0,0,0,0,0,0,0,0,0,0,0,0,0,0,0,0,0,0,0,0,{"$f":"BX108-BX109","v":0},0,0,0,0]
[]
[null,null,null,"CFADS over Debt Repayment",null,null,null,"USD",null,null,{"$f":"K108*K96","v":0},{"$f":"L108*L96","v":4631203.4668272883},4685126.3758313553,4699688.6812425451,4834544.9851360349,4849598.4859746825,4990425.9223679081,5027595.8827689709,5153011.2708885698,5169103.2691818718,5322699.3294338491,5339340.86569006,5499760.8297128426,5516973.0592897292,5684528.016747457,5728163.5609861296,5877291.1320997309,5895711.2014402403,6078527.2710722135,6097587.1731208758,6288561.1299669519,6308285.9674200546,6507791.0573838102,6559098.9911005953,6736565.2823504172,6757698.9047821658,6975455.6230896423,6997336.3268509032,7224851.7671834277,7247509.4141428238,7485231.6255813045,7545656.5480902679,7757013.2862034151,7781318.7669230131,8040882.4885668298,8066062.7528617606,8337307.230494014,8363397.8873286387,8646861.2302436959,8718134.1446615215,8970046.7777848728,0,0,0,0,0,0,0,0,0,0,0,0,0,0,0,0,0,0,0,0,0,0,0,0,{"$f":"BX108*BX96","v":0},0,0,0,0]
[]
[null,null,null,"Periodic Discount Factor","% p.a/p.p",{"$f":"InputC!F54","v":0.03},{"$f":"F114/2","v":1.4999999999999999E-2},"USD",null,1,{"$f":"J114*(1+$G$114*K96)","v":1},{"$f":"K114*(1+$G$114*L96)","v":1.0149999999999999},1.0302249999999997,1.0456783749999996,1.0613635506249994,1.0772840038843743,1.0934432639426397,1.1098449129017791,1.1264925865953057,1.1433899753942351,1.1605408250251485,1.1779489374005256,1.1956181714615335,1.2135524440334564,1.2317557306939582,1.2502320666543674,1.2689855476541827,1.2880203308689953,1.3073406358320301,1.3269507453695104,1.3468550065500529,1.3670578316483035,1.387563699123028,1.4083771546098733,1.4295028119290214,1.4509453541079567,1.472709534419576,1.4948001774358695,1.5172221800974073,1.5399805127988682,1.5630802204908509,1.5865264237982135,1.6103243201551867,1.6344791849575142,1.6589963727318768,1.6838813183228549,1.7091395380976975,1.7347766311691628,1.7607982806367002,1.7872102548462505,1.8140184086689441,1.8140184086689441,1.8140184086689441,1.8140184086689441,1.8140184086689441,1.8140184086689441,1.8140184086689441,1.8140184086689441,1.8140184086689441,1.8140184086689441,1.8140184086689441,1.8140184086689441,1.8140184086689441,1.8140184086689441,1.8140184086689441,1.8140184086689441,1.8140184086689441,1.8140184086689441,1.8140184086689441,1.8140184086689441,1.8140184086689441,1.8140184086689441,1.8140184086689441,1.8140184086689441,1.8140184086689441,{"$f":"BW114*(1+$G$114*BX96)","v":1.8140184086689441},1.8140184086689441,1.8140184086689441,1.8140184086689441,1.8140184086689441]
[]
[null,null,null,"Debt Service over Repayment","x",{"$f":"InputC!F50","v":1.35},null,"USD",null,null,{"$f":"K112/$F$116","v":0},{"$f":"L112/$F$116","v":3430521.0865387321},3470463.9820973002,3481250.8749944777,3581144.4334340999,3592295.1747960607,3696611.7943465984,3724145.0983473854,3817045.3858433845,3828965.384579164,3942740.244025073,3955067.3079185626,4073896.9108984019,4086646.7105849842,4210761.4938870044,4243084.1192489844,4353548.9867405407,4367193.4825483263,4502612.7933868244,4516731.2393487962,4658193.4296051497,4672804.4203111511,4820585.9684324516,4858591.8452597,4990048.3572966047,5005702.892431234,5167004.1652515866,5183212.0939636314,5351742.0497655021,5368525.4919576468,5544616.0189491138,5589375.2208076054,5745935.7675580848,5763939.8273503799,5956209.250790244,5974861.2984161181,6175783.133699269,6195109.546169362,6405082.3927731076,6457877.1441937191,6644479.0946554607,0,0,0,0,0,0,0,0,0,0,0,0,0,0,0,0,0,0,0,0,0,0,0,0,{"$f":"BX112/$F$116","v":0},0,0,0,0]
[null,null,null,"PV of Debt Service with Sumproduct","USD",{"$f":"SUMPRODUCT(K116:CB116/K114:CB114)","v":138403797.6404599}]
[]
[null,null,null,"Cap Exp","USD",{"$f":"F32","v":183497044.91816804}]
[null,null,null,"Fees","USD",{"$f":"I134","v":1247665.1964285183}]
[null,null,null,"Total","USD",{"$f":"SUM(F119:F120)","v":184744710.11459655}]
[]
[null,null,null,"Debt as Percent of Cap Exp + Fees","%",{"$f":"F117/F119","v":0.75425627536499107}]
[null,null,null,"Max Debt to Capital","%",{"$f":"InputC!F51","v":0.8}]
[null,null,null,"Debt from Max Debt to Capital","USD",{"$f":"F124*F121","v":147795768.09167725}]
[null,null,null,"Debt Applied","USD",{"$f":"MIN(F125,F117)","v":138403797.6404599}]
[]
[null,null,"Debt Balance"]
[null,null,null,"Opening Balance",null,null,null,"USD",null,null,{"$f":"J132","v":0},{"$f":"K132","v":138403797.6404599},137049333.51852807,135634609.53920868,134187877.80730233,132619551.54097776,131016549.63929637,129285186.08953921,127500318.78253491,125595778.17842954,123650749.46652682,121562770.46449965,119431144.71354859,117148714.97335342,114819298.98736873,112330826.97829226,109772705.26371765,107065746.85593288,104304539.57622354,101366494.87648007,98370261.060278475,95187621.546577498,91942631.449465007,88501184.952774525,84970110.881806448,81254614.187736943,77467730.508121759,73462742.300492004,69381471.341035753,65070451.361385785,60677982.639848925,56043536.360497549,51294814.185097404,46318300.630315781,41249135.312420137,35911663.091316193,30475476.739269819,24756825.756659597,18933068.596840128,12811982.233019624,6546284.8223211989,5.5599957704544067E-7,5.6433957070112232E-7,5.7280466426163918E-7,5.8139673422556378E-7,5.9011768523894721E-7,5.9896945051753145E-7,6.0795399227529441E-7,6.170733021594238E-7,6.2632940169181519E-7,6.3572434271719244E-7,6.4526020785795031E-7,6.5493911097581961E-7,6.6476319764045695E-7,6.7473464560506377E-7,6.8485566528913968E-7,6.951285002684768E-7,7.0555542777250396E-7,7.1613875918909153E-7,7.2688084057692794E-7,7.3778405318558187E-7,7.4885081398336557E-7,7.6008357619311606E-7,7.714848298360128E-7,7.8305710228355296E-7,{"$f":"BW132","v":7.9480295881780621E-7},8.0672500320007331E-7,8.1882587824807441E-7,8.3110826642179551E-7,8.4357489041812239E-7]
[null,null,null,"Add: Draw",null,{"$f":"F126","v":138403797.6404599},null,"USD",null,null,{"$f":"$F$130*K5","v":138403797.6404599},0,0,0,0,0,0,0,0,0,0,0,0,0,0,0,0,0,0,0,0,0,0,0,0,0,0,0,0,0,0,0,{"$f":"$F$130*AQ5","v":0},0,0,0,0,0,0,0,0,0,0,0,0,0,0,0,0,0,0,0,0,0,0,0,0,0,0,0,0,0,0,0,{"$f":"$F$130*BW5","v":0},0,0,0,0,0]
[null,null,null,"Less: Repayment (DS - Interest)",null,null,null,"USD",null,null,{"$f":"K116-K133","v":0},1354464.1219318337,1414723.9793193792,1446731.7319063477,1568326.266324565,1603001.9016813943,1731363.549757153,1784867.3070042972,1904540.604105361,1945028.7119027209,2087979.0020271707,2131625.7509510675,2282429.7401951728,2329415.985984683,2488472.0090764733,2558121.7145746006,2706958.4077847758,2761207.2797093331,2938044.6997434711,2996233.8162015951,3182639.5137009723,3244990.0971124889,3441446.4966904763,3531074.0709680822,3715496.694069508,3786883.67961518,4004988.2076297603,4081270.9594562515,4311019.9796499657,4392468.7215368599,4634446.2793513797,4748722.1754001426,{"$f":"AQ116-AQ133","v":4976513.5547816241},5069165.3178956434,5337472.221103942,5436186.3520463752,5718650.982610222,5823757.1598194679,6121086.3638205053,6265697.410698425,6546284.8223206429,-8.3399936556816102E-9,-8.4650935605168348E-9,-8.5920699639245881E-9,-8.7209510133834565E-9,-8.851765278584208E-9,-8.984541757762972E-9,-9.119309884129415E-9,-9.2560995323913561E-9,-9.394941025377228E-9,-9.5358651407578856E-9,-9.6789031178692543E-9,-9.824086664637293E-9,-9.9714479646068533E-9,-1.0121019684075956E-8,-1.0272834979337095E-8,-1.0426927504027152E-8,-1.058333141658756E-8,-1.0742081387836373E-8,-1.0903212608653919E-8,-1.1066760797783727E-8,-1.1232762209750483E-8,-1.140125364289674E-8,-1.1572272447540191E-8,{"$f":"BW116-BW133","v":-1.1745856534253293E-8},-1.1922044382267092E-8,-1.2100875048001099E-8,-1.2282388173721116E-8,-1.2466623996326932E-8,-1.2653623356271836E-8]
[null,null,null,"Closing Balance",null,null,null,"USD",null,null,{"$f":"K129+K130-K131","v":138403797.6404599},{"$f":"L129+L130-L131","v":137049333.51852807},135634609.53920868,134187877.80730233,132619551.54097776,131016549.63929637,129285186.08953921,127500318.78253491,125595778.17842954,123650749.46652682,121562770.46449965,119431144.71354859,117148714.97335342,114819298.98736873,112330826.97829226,109772705.26371765,107065746.85593288,104304539.57622354,101366494.87648007,98370261.060278475,95187621.546577498,91942631.449465007,88501184.952774525,84970110.881806448,81254614.187736943,77467730.508121759,73462742.300492004,69381471.341035753,65070451.361385785,60677982.639848925,56043536.360497549,51294814.185097404,46318300.630315781,41249135.312420137,35911663.091316193,30475476.739269819,24756825.756659597,18933068.596840128,12811982.233019624,6546284.8223211989,5.5599957704544067E-7,5.6433957070112232E-7,5.7280466426163918E-7,5.8139673422556378E-7,5.9011768523894721E-7,5.9896945051753145E-7,6.0795399227529441E-7,6.170733021594238E-7,6.2632940169181519E-7,6.3572434271719244E-7,6.4526020785795031E-7,6.5493911097581961E-7,6.6476319764045695E-7,6.7473464560506377E-7,6.8485566528913968E-7,6.951285002684768E-7,7.0555542777250396E-7,7.1613875918909153E-7,7.2688084057692794E-7,7.3778405318558187E-7,7.4885081398336557E-7,7.6008357619311606E-7,7.714848298360128E-7,7.8305710228355296E-7,7.9480295881780621E-7,{"$f":"BX129+BX130-BX131","v":8.0672500320007331E-7},8.1882587824807441E-7,8.3110826642179551E-7,8.4357489041812239E-7,8.562285137743942E-7]
[null,null,null,"Interest Cost",null,{"$f":"G114","v":1.4999999999999999E-2},null,"USD",null,null,{"$f":"K129*$F$133","v":0},{"$f":"L129*$F$133","v":2076056.9646068984},2055740.002777921,2034519.14308813,2012818.1671095348,1989293.2731146663,1965248.2445894454,1939277.7913430883,1912504.7817380235,1883936.6726764431,1854761.2419979023,1823441.5569674948,1791467.1707032288,1757230.7246003011,1722289.4848105309,1684962.4046743838,1646590.5789557646,1605986.2028389932,1564568.0936433531,1520497.4231472011,1475553.9159041771,1427814.3231986624,1379139.4717419751,1327517.7742916178,1274551.6632270967,1218819.212816054,1162015.9576218263,1101941.13450738,1040722.0701155362,976056.77042078669,910169.73959773383,840653.04540746321,769422.21277646103,694774.50945473672,618737.02968630206,538674.94636974286,457132.15108904726,371352.38634989393,283996.02895260189,192179.73349529435,98194.272334817986,8.3399936556816102E-9,8.4650935605168348E-9,8.5920699639245881E-9,8.7209510133834565E-9,8.851765278584208E-9,8.984541757762972E-9,9.119309884129415E-9,9.2560995323913561E-9,9.394941025377228E-9,9.5358651407578856E-9,9.6789031178692543E-9,9.824086664637293E-9,9.9714479646068533E-9,1.0121019684075956E-8,1.0272834979337095E-8,1.0426927504027152E-8,1.058333141658756E-8,1.0742081387836373E-8,1.0903212608653919E-8,1.1066760797783727E-8,1.1232762209750483E-8,1.140125364289674E-8,1.1572272447540191E-8,1.1745856534253293E-8,{"$f":"BX129*$F$133","v":1.1922044382267092E-8},1.2100875048001099E-8,1.2282388173721116E-8,1.2466623996326932E-8,1.2653623356271836E-8]
[null,null,null,"Fees on Debt",null,{"$f":"InputC!$F$55","v":0.01},1247665.1964285183,"Fixed Fee",{"$f":"SUM(K134:XFD134)","v":1247665.1964285183},null,{"$f":"$G$134*K5","v":1247665.1964285183},0,0,0,0,0,0,0,0,0,0,0,0,0,0,0,0,0,0,0,0,0,0,0,0,0,0,0,0,0,0,0,{"$f":"$G$134*AQ5","v":0},0,0,0,0,0,0,0,0,0,0,0,0,0,0,0,0,0,0,0,0,0,0,0,0,0,0,0,0,0,0,0,{"$f":"$G$134*BW5","v":0},0,0,0,0,0]
[null,null,null,"Computed Fees",null,{"$f":"InputC!$F$55","v":0.01},{"$f":"F135*F126","v":1384037.9764045989},"Computed Fee"]
[null,null,null,null,null,null,{"$f":"G135-G134","v":136372.77997608064},"Fee Dif"]
[null,null,null,"Check of Closing Balance"]
[]
[null,null,"Uses and Sources"]
[null,null,null,"Capital Expenditures",null,null,null,"USD",null,null,{"$f":"K72","v":183497044.91816804},0,0,0,0,0,0,0,0,0,0,0,0,0,0,0,0,0,0,0,0,0,0,0,0,0,0,0,0,0,0,0,{"$f":"AQ72","v":0},0,0,0,0,0,0,0,0,0,0,0,0,0,0,0,0,0,0,0,0,0,0,0,0,0,0,0,0,0,0,0,{"$f":"BW72","v":0},0,0,0,0,0]
[null,null,null,"Fees on Debt",null,null,null,"USD",null,null,{"$f":"K134","v":1247665.1964285183},{"$f":"L134","v":0},0,0,0,0,0,0,0,0,0,0,0,0,0,0,0,0,0,0,0,0,0,0,0,0,0,0,0,0,0,0,0,0,0,0,0,0,0,0,0,0,0,0,0,0,0,0,0,0,0,0,0,0,0,0,0,0,0,0,0,0,0,0,0,{"$f":"BX134","v":0},0,0,0,0]
[null,null,null,"Total Uses",null,null,null,"USD",null,null,{"$f":"SUM(K140:K141)","v":184744710.11459655},{"$f":"SUM(L140:L141)","v":0},0,0,0,0,0,0,0,0,0,0,0,0,0,0,0,0,0,0,0,0,0,0,0,0,0,0,0,0,0,0,0,0,0,0,0,0,0,0,0,0,0,0,0,0,0,0,0,0,0,0,0,0,0,0,0,0,0,0,0,0,0,0,0,{"$f":"SUM(BX140:BX141)","v":0},0,0,0,0]
[]
[null,null,null,"Debt Issued",null,null,null,"USD",null,{"$f":"K144/K142","v":0.74916243910100844},{"$f":"K130","v":138403797.6404599},{"$f":"L130","v":0},0,0,0,0,0,0,0,0,0,0,0,0,0,0,0,0,0,0,0,0,0,0,0,0,0,0,0,0,0,0,0,0,0,0,0,0,0,0,0,0,0,0,0,0,0,0,0,0,0,0,0,0,0,0,0,0,0,0,0,0,0,0,0,{"$f":"BX130","v":0},0,0,0,0]
[null,null,null,"Equity Issued",null,null,null,"USD",null,{"$f":"K145/K142","v":0.25083756089899156},{"$f":"K142-K144","v":46340912.474136651},{"$f":"L142-L144","v":0},0,0,0,0,0,0,0,0,0,0,0,0,0,0,0,0,0,0,0,0,0,0,0,0,0,0,0,0,0,0,0,0,0,0,0,0,0,0,0,0,0,0,0,0,0,0,0,0,0,0,0,0,0,0,0,0,0,0,0,0,0,0,0,{"$f":"BX142-BX144","v":0},0,0,0,0]
[null,null,null,"Total Sources",null,null,null,"USD",null,{"$f":"K146/K142","v":1},{"$f":"SUM(K144:K145)","v":184744710.11459655},{"$f":"SUM(L144:L145)","v":0},0,0,0,0,0,0,0,0,0,0,0,0,0,0,0,0,0,0,0,0,0,0,0,0,0,0,0,0,0,0,0,0,0,0,0,0,0,0,0,0,0,0,0,0,0,0,0,0,0,0,0,0,0,0,0,0,0,0,0,0,0,0,0,{"$f":"SUM(BX144:BX145)","v":0},0,0,0,0]
[]
[null,"Cash Flow Waterfall"]
[]
[null,null,"Equity Cash Flow"]
[null,null,null,"CFADS",null,null,null,"USD",null,null,{"$f":"K108","v":0},4631203.4668272883,4685126.3758313553,4699688.6812425451,4834544.9851360349,4849598.4859746825,4990425.9223679081,5027595.8827689709,5153011.2708885698,5169103.2691818718,5322699.3294338491,5339340.86569006,5499760.8297128426,5516973.0592897292,5684528.016747457,5728163.5609861296,5877291.1320997309,5895711.2014402403,6078527.2710722135,6097587.1731208758,6288561.1299669519,6308285.9674200546,6507791.0573838102,6559098.9911005953,6736565.2823504172,6757698.9047821658,6975455.6230896423,6997336.3268509032,7224851.7671834277,7247509.4141428238,7485231.6255813045,7545656.5480902679,{"$f":"AQ108","v":7757013.2862034151},7781318.7669230131,8040882.4885668298,8066062.7528617606,8337307.230494014,8363397.8873286387,8646861.2302436959,8718134.1446615215,8970046.7777848728,8080585.1069740932,8410197.1723036245,8460231.6095138565,8805200.5211167317,8857723.5987289511,9218771.1956438292,9326867.5600422453,9651787.6305279024,9709661.0110557079,10105170.167687505,1.9357806235738508E-9,1.9648173329274585E-9,1.9942895929213709E-9,2.0242039368151911E-9,2.054566995867419E-9,2.0853855008054305E-9,2.1166662833175119E-9,2.1484162775672745E-9,2.1806425217307837E-9,2.2133521595567455E-9,2.2465524419500969E-9,2.2802507285793483E-9,2.3144544895080384E-9,{"$f":"BW108","v":2.3491713068506586E-9},2.3844088764534185E-9,2.42017500960022E-9,2.4564776347442234E-9,2.4933247992653864E-9,2.5307246712543673E-9]
[null,null,null,"Less: Debt Servcice",null,null,null,"USD",null,null,{"$f":"K133+K131","v":0},3430521.0865387321,3470463.9820973002,3481250.8749944777,3581144.4334340999,3592295.1747960607,3696611.7943465984,3724145.0983473854,3817045.3858433845,3828965.384579164,3942740.244025073,3955067.3079185626,4073896.9108984014,4086646.7105849842,4210761.4938870044,4243084.1192489844,4353548.9867405407,4367193.4825483263,4502612.7933868244,4516731.2393487962,4658193.4296051497,4672804.4203111511,4820585.9684324516,4858591.8452597,4990048.3572966047,5005702.892431234,5167004.1652515866,5183212.0939636314,5351742.0497655021,5368525.4919576468,5544616.0189491138,5589375.2208076054,{"$f":"AQ133+AQ131","v":5745935.7675580848},5763939.8273503799,5956209.250790244,5974861.2984161181,6175783.133699269,6195109.546169362,6405082.3927731076,6457877.1441937191,6644479.0946554607,0,0,0,0,0,0,0,0,0,0,0,0,0,0,0,0,0,0,0,0,0,0,0,{"$f":"BW133+BW131","v":0},0,0,0,0,0]
[null,null,null,"Cash to Equity",null,null,null,"USD",null,null,{"$f":"K151-K152","v":0},{"$f":"L151-L152","v":1200682.3802885562},1214662.3937340551,1218437.8062480674,1253400.551701935,1257303.3111786218,1293814.1280213096,1303450.7844215855,1335965.8850451852,1340137.8846027078,1379959.0854087761,1384273.5577714974,1425863.9188144412,1430326.3487047451,1473766.5228604525,1485079.4417371452,1523742.1453591902,1528517.718891914,1575914.4776853891,1580855.9337720796,1630367.7003618022,1635481.5471089035,1687205.0889513586,1700507.1458408954,1746516.9250538126,1751996.0123509318,1808451.4578380557,1814124.2328872718,1873109.7174179256,1878983.922185177,1940615.6066321908,1956281.3272826625,2011077.5186453303,2017378.9395726332,2084673.2377765859,2091201.4544456424,2161524.096794745,2168288.3411592767,2241778.8374705883,2260257.0004678024,2325567.6831294121,8080585.1069740932,8410197.1723036245,8460231.6095138565,8805200.5211167317,8857723.5987289511,9218771.1956438292,9326867.5600422453,9651787.6305279024,9709661.0110557079,10105170.167687505,1.9357806235738508E-9,1.9648173329274585E-9,1.9942895929213709E-9,2.0242039368151911E-9,2.054566995867419E-9,2.0853855008054305E-9,2.1166662833175119E-9,2.1484162775672745E-9,2.1806425217307837E-9,2.2133521595567455E-9,2.2465524419500969E-9,2.2802507285793483E-9,2.3144544895080384E-9,2.3491713068506586E-9,{"$f":"BX151-BX152","v":2.3844088764534185E-9},2.42017500960022E-9,2.4564776347442234E-9,2.4933247992653864E-9,2.5307246712543673E-9]
[]
[null,null,null,"Total Expenditure",null,null,null,null,null,null,{"$f":"K32","v":183497044.91816804}]
[null,null,null,"Less: Debt",null,{"$f":"F130","v":138403797.6404599},null,null,null,null,{"$f":"$F$156*K5","v":138403797.6404599},0,0,0,0,0,0,0,0,0,0,0,0,0,0,0,0,0,0,0,0,0,0,0,0,0,0,0,0,0,0,0,{"$f":"$F$156*AQ5","v":0},0,0,0,0,0,0,0,0,0,0,0,0,0,0,0,0,0,0,0,0,0,0,0,0,0,0,0,0,0,0,0,{"$f":"$F$156*BW5","v":0},0,0,0,0,0]
[null,null,null,"Plus: Fees on Debt",null,{"$f":"InputC!F55","v":0.01},{"$f":"F157*F130","v":1384037.9764045989},null,null,null,{"$f":"$G$157*K5","v":1384037.9764045989},0,0,0,0,0,0,0,0,0,0,0,0,0,0,0,0,0,0,0,0,0,0,0,0,0,0,0,0,0,0,0,{"$f":"$G$157*AQ5","v":0},0,0,0,0,0,0,0,0,0,0,0,0,0,0,0,0,0,0,0,0,0,0,0,0,0,0,0,0,0,0,0,{"$f":"$G$157*BW5","v":0},0,0,0,0,0]
[null,null,null,"Net Equity Invested",null,null,null,null,null,null,{"$f":"K155-K156+K157","v":46477285.254112743},{"$f":"L155-L156+L157","v":0},0,0,0,0,0,0,0,0,0,0,0,0,0,0,0,0,0,0,0,0,0,0,0,0,0,0,0,0,0,0,0,0,0,0,0,0,0,0,0,0,0,0,0,0,0,0,0,0,0,0,0,0,0,0,0,0,0,0,0,0,0,0,0,{"$f":"BX155-BX156+BX157","v":0},0,0,0,0]
[]
[null,null,null,"Equity Cash Flow",null,null,null,null,null,null,{"$f":"K153-K158","v":-46477285.254112743},{"$f":"L153-L158","v":1200682.3802885562},1214662.3937340551,1218437.8062480674,1253400.551701935,1257303.3111786218,1293814.1280213096,1303450.7844215855,1335965.8850451852,1340137.8846027078,1379959.0854087761,1384273.5577714974,1425863.9188144412,1430326.3487047451,1473766.5228604525,1485079.4417371452,1523742.1453591902,1528517.718891914,1575914.4776853891,1580855.9337720796,1630367.7003618022,1635481.5471089035,1687205.0889513586,1700507.1458408954,1746516.9250538126,1751996.0123509318,1808451.4578380557,1814124.2328872718,1873109.7174179256,1878983.922185177,1940615.6066321908,1956281.3272826625,2011077.5186453303,2017378.9395726332,2084673.2377765859,2091201.4544456424,2161524.096794745,2168288.3411592767,2241778.8374705883,2260257.0004678024,2325567.6831294121,8080585.1069740932,8410197.1723036245,8460231.6095138565,8805200.5211167317,8857723.5987289511,9218771.1956438292,9326867.5600422453,9651787.6305279024,9709661.0110557079,10105170.167687505,1.9357806235738508E-9,1.9648173329274585E-9,1.9942895929213709E-9,2.0242039368151911E-9,2.054566995867419E-9,2.0853855008054305E-9,2.1166662833175119E-9,2.1484162775672745E-9,2.1806425217307837E-9,2.2133521595567455E-9,2.2465524419500969E-9,2.2802507285793483E-9,2.3144544895080384E-9,2.3491713068506586E-9,{"$f":"BX153-BX158","v":2.3844088764534185E-9},2.42017500960022E-9,2.4564776347442234E-9,2.4933247992653864E-9,2.5307246712543673E-9]
[null,null,null,"Equity IRR",null,{"$f":"XIRR(K160:CB160,K4:CB4)","v":7.9999998211860726E-2}]
[]
[null,null,null,"Target IRR",null,{"$f":"InputC!F57","v":0.08}]
[null,null,null,"NPV at Target IRR",null,{"$f":"XNPV(F163,K160:CB160,K4:CB4)","v":4.6169526775889484E-4},"NPV"]
[]
[null,"Valuation with Sale"]
[null,null,null,"Discount Rate for Valuation"]
[null,null,null,"NPV of Prospective Cash Flow"]
[]
[null,null,null,"Sale Date Flag"]
[null,null,null,"Holding Company Flag"]
[]
[null,null,null,"Cash Flow Over Holding Period"]
[null,null,null,"IRR over Holding Period"]
[]
[null,null,null,"NPV of Cash Flow at Target IRR"]

{"sheet":"Model - Structuring","index":3,"n_rows":176,"n_cols":80,"rows_kept":176,"cut":false,"hidden":false,"merged":[]}
[null,{"$f":"InputC!G5","v":"Base Case"}]
[null,"Timing",null,null,"Units for Input","Constant","Constant","Units for Output","Sum","Initial",1,2,3,4,5,6,7,8,9,10,11,12,13,14,15,16,17,18,19,20,21,22,23,24,25,26,27,28,29,30,31,32,33,34,35,36,37,38,39,40,41,42,43,44,45,46,47,48,49,50,51,52,53,54,55,56,57,58,59,60,61,62,63,64,65,66,67,68,69,70]
[null,null,"Start of Period",null,null,null,null,null,null,null,{"$f":"J4+1","v":"2024-07-01"},{"$f":"K4+1","v":"2025-01-01"},"2025-07-01","2026-01-01","2026-07-01","2027-01-01","2027-07-01","2028-01-01","2028-07-01","2029-01-01","2029-07-01","2030-01-01","2030-07-01","2031-01-01","2031-07-01","2032-01-01","2032-07-01","2033-01-01","2033-07-01","2034-01-01","2034-07-01","2035-01-01","2035-07-01","2036-01-01","2036-07-01","2037-01-01","2037-07-01","2038-01-01","2038-07-01","2039-01-01","2039-07-01","2040-01-01","2040-07-01","2041-01-01","2041-07-01","2042-01-01","2042-07-01","2043-01-01","2043-07-01","2044-01-01","2044-07-01","2045-01-01","2045-07-01","2046-01-01","2046-07-01","2047-01-01","2047-07-01","2048-01-01","2048-07-01","2049-01-01","2049-07-01","2050-01-01","2050-07-01","2051-01-01","2051-07-01","2052-01-01","2052-07-01","2053-01-01","2053-07-01","2054-01-01","2054-07-01","2055-01-01","2055-07-01","2056-01-01","2056-07-01",{"$f":"BW4+1","v":"2057-01-01"},"2057-07-01","2058-01-01","2058-07-01","2059-01-01"]
[null,null,"End of Period",null,null,null,null,null,null,{"$f":"EDATE(InputC!F6,-6)","v":"2024-06-30"},{"$f":"EDATE(K3,6)-1","v":"2024-12-31"},{"$f":"EDATE(L3,6)-1","v":"2025-06-30"},"2025-12-31","2026-06-30","2026-12-31","2027-06-30","2027-12-31","2028-06-30","2028-12-31","2029-06-30","2029-12-31","2030-06-30","2030-12-31","2031-06-30","2031-12-31","2032-06-30","2032-12-31","2033-06-30","2033-12-31","2034-06-30","2034-12-31","2035-06-30","2035-12-31","2036-06-30","2036-12-31","2037-06-30","2037-12-31","2038-06-30","2038-12-31","2039-06-30","2039-12-31","2040-06-30","2040-12-31","2041-06-30","2041-12-31","2042-06-30","2042-12-31","2043-06-30","2043-12-31","2044-06-30","2044-12-31","2045-06-30","2045-12-31","2046-06-30","2046-12-31","2047-06-30","2047-12-31","2048-06-30","2048-12-31","2049-06-30","2049-12-31","2050-06-30","2050-12-31","2051-06-30","2051-12-31","2052-06-30","2052-12-31","2053-06-30","2053-12-31","2054-06-30","2054-12-31","2055-06-30","2055-12-31","2056-06-30","2056-12-31",{"$f":"EDATE(BX3,6)-1","v":"2057-06-30"},"2057-12-31","2058-06-30","2058-12-31","2059-06-30"]
[null,null,"Acquisition Period",null,"Flag",{"$f":"InputC!G6","v":"2024-12-31"},null,"Flag",null,null,{"$f":"(K4=$F$5)*1","v":1},{"$f":"(L4=$F$5)*1","v":0},0,0,0,0,0,0,0,0,0,0,0,0,0,0,0,0,0,0,0,0,0,0,0,0,0,0,0,0,0,0,0,0,0,0,0,0,0,0,0,0,0,0,0,0,0,0,0,0,0,0,0,0,0,0,0,0,0,0,0,0,0,0,0,{"$f":"(BX4=$F$5)*1","v":0},0,0,0,0]
[null,null,"Operation Perid",null,"Flag",{"$f":"InputC!G8","v":"2049-12-31"},null,"Flag",{"$f":"SUM(K6:XFD6)","v":50},null,{"$f":"(AND(NOT(K5),K4<=$F$6))*1","v":0},{"$f":"(AND(NOT(L5),L4<=$F$6))*1","v":1},1,1,1,1,1,1,1,1,1,1,1,1,1,1,1,1,1,1,1,1,1,1,1,1,1,1,1,1,1,1,1,1,1,1,1,1,1,1,1,1,1,1,1,1,1,1,1,1,1,0,0,0,0,0,0,0,0,0,0,0,0,0,0,{"$f":"(AND(NOT(BX5),BX4<=$F$6))*1","v":0},0,0,0,0]
[null,null,"Sale Date",null,"Flag",{"$f":"InputC!G10","v":"2030-12-31"},null,"Flag",{"$f":"SUM(K7:XFD7)","v":1},null,{"$f":"(K4=$F$7)*1","v":0},{"$f":"(L4=$F$7)*1","v":0},0,0,0,0,0,0,0,0,0,0,1,0,0,0,0,0,0,0,0,0,0,0,0,0,0,0,0,0,0,0,0,0,0,0,0,0,0,0,0,0,0,0,0,0,0,0,0,0,0,0,0,0,0,0,0,0,0,0,0,0,0,0,0,{"$f":"(BX4=$F$7)*1","v":0},0,0,0,0]
[null,null,"Days in Period",null,"Days",null,null,null,null,null,{"$f":"K4-K3+1","v":184},{"$f":"L4-L3+1","v":181},184,181,184,181,184,182,184,181,184,181,184,181,184,182,184,181,184,181,184,181,184,182,184,181,184,181,184,181,184,182,184,181,184,181,184,181,184,182,184,181,184,181,184,181,184,182,184,181,184,181,184,181,184,182,184,181,184,181,184,181,184,182,184,{"$f":"BX4-BX3+1","v":181},184,181,184,181]
[]
[null,"Capacity and Volumes"]
[null,null,"Road Capacity",null,"km",{"$f":"InputC!G13","v":50},null,"km",null,null,{"$f":"$F11*K$6","v":0},{"$f":"$F11*L$6","v":50},50,50,50,50,50,50,50,50,50,50,50,50,50,50,50,50,50,50,50,50,50,50,50,50,50,50,50,50,50,50,50,50,50,50,50,50,50,50,50,50,50,50,50,50,50,50,50,50,50,0,0,0,0,0,0,0,0,0,0,0,0,0,0,{"$f":"$F11*BX$6","v":0},0,0,0,0]
[]
[null,null,"Car Volumes - Base",null,"Cars/Day",{"$f":"InputC!G15","v":3500},null,"Cars/Period",null,null,{"$f":"$F$13*K6*K8","v":0},{"$f":"$F$13*L6*L8","v":633500},644000,633500,644000,633500,644000,637000,644000,633500,644000,633500,644000,633500,644000,637000,644000,633500,644000,633500,644000,633500,644000,637000,644000,633500,644000,633500,644000,633500,644000,637000,644000,633500,644000,633500,644000,633500,644000,637000,644000,633500,644000,633500,644000,633500,644000,637000,644000,633500,644000,0,0,0,0,0,0,0,0,0,0,0,0,0,0,{"$f":"$F$13*BX6*BX8","v":0},0,0,0,0]
[null,null,"Escalation Period",null,"Date",{"$f":"EDATE(F5,12)+1","v":"2026-01-01"},null,"Flag",null,null,{"$f":"(K3>=$F$14)*1","v":0},{"$f":"(L3>=$F$14)*1","v":0},0,1,1,1,1,1,1,1,1,1,1,1,1,1,1,1,1,1,1,1,1,1,1,1,1,1,1,1,1,1,1,1,1,1,1,1,1,1,1,1,1,1,1,1,1,1,1,1,1,1,1,1,1,1,1,1,1,1,1,1,1,1,1,{"$f":"(BX3>=$F$14)*1","v":1},1,1,1,1]
[null,null,"Growth Index",null,"% p.a.",{"$f":"InputC!G18","v":0.03},{"$f":"(1+F15)^(1/2)-1","v":1.4889156509221957E-2},"index",null,1,{"$f":"J15*(1+$G$15*K14)","v":1},{"$f":"K15*(1+$G$15*L14)","v":1},1,1.014889156509222,1.03,1.0453358312044987,1.0609000000000002,1.0766959061406338,1.0927270000000002,1.1089967833248529,1.1255088100000004,1.1422666868245985,1.1592740743000005,1.1765346874293365,1.1940522965290004,1.2118307280522165,1.2298738654248704,1.2481856498937831,1.2667700813876166,1.2856312193905965,1.3047731838292451,1.3242001559723147,1.3439163793441227,1.3639261606514843,1.3842338707244464,1.4048439454710289,1.42576088684618,1.4469892638351598,1.4685337134515652,1.4903989417502146,1.5125897248551123,1.5351109100027212,1.5579674166007658,1.5811642373028028,1.6047064390987889,1.6285991644218869,1.6528476322717525,1.6774571393545434,1.702433061239905,1.7277808535351797,1.7535060530771021,1.779614279141235,1.806111234669415,1.833002707515472,1.8602945717094974,1.8879927887409362,1.9161034088607825,1.9446325724031643,1.973586511126606,2.0029715495752591,2.032794106460404,2.0630606960625171,2.0937779296542165,2.124952516944393,2.1565912675438432,2.188701092452725,2.2212890055701586,2.2543621252263066,2.2879276757372633,2.3219929889830957,2.3565655060093813,2.3916527786525887,2.4272624711896627,2.4634023620121663,2.5000803453253524,{"$f":"BW15*(1+$G$15*BX14)","v":2.5373044328725314},2.5750827556851132,2.6134235658587075,2.6523352383556666,2.6918262728344686]
[null,null,"Car Volumes with Growth",null,"Cars/Day",null,null,"Cars/Period",null,null,{"$f":"K15*K13","v":0},{"$f":"L15*L13","v":633500},644000,642932.28064859216,663320,662220.24906804995,683219.60000000009,685855.2922115837,703716.1880000002,702549.46223629429,724827.67364000028,723625.9461033832,746572.50384920032,745334.72448648466,768969.67896467622,771936.17376926192,792038.7693336166,790725.60920771165,815799.93241362507,814447.3774839429,840273.93038603384,838880.79880846129,865482.148297615,868820.96433499549,891446.61274654348,889968.6394558968,918190.01112893992,916667.69863957376,945735.71146280807,944167.72959876095,974107.7828066923,977865.64967173338,1003331.0162908932,1001667.5443313256,1033430.94677962,1031717.5706612654,1064433.8751830086,1062669.0977811033,1096366.8914384989,1100596.4037019096,1129257.8981816538,1127385.6458359724,1163135.6351271032,1161207.2152110515,1198029.7041809163,1196043.4316673831,1233970.5953063439,1238730.9486208158,1270989.7131655342,1268882.4766559266,1309119.4045605003,0,0,0,0,0,0,0,0,0,0,0,0,0,0,{"$f":"BX15*BX13","v":0},0,0,0,0]
[]
[null,null,"Truck Volumes - Base",null,"Trucks/Day",{"$f":"InputC!G16","v":1500},null,"Trucks/Period",null,null,{"$f":"$F$18*K6*K8","v":0},{"$f":"$F$18*L6*L8","v":271500},276000,271500,276000,271500,276000,273000,276000,271500,276000,271500,276000,271500,276000,273000,276000,271500,276000,271500,276000,271500,276000,273000,276000,271500,276000,271500,276000,271500,276000,273000,276000,271500,276000,271500,276000,271500,276000,273000,276000,271500,276000,271500,276000,271500,276000,273000,276000,271500,276000,0,0,0,0,0,0,0,0,0,0,0,0,0,0,{"$f":"$F$18*BX6*BX8","v":0},0,0,0,0]
[null,null,"Growth Index",null,"% p.a.",{"$f":"InputC!G19","v":0.02},{"$f":"(1+F19)^(1/2)-1","v":9.9504938362078299E-3},"index",null,1,{"$f":"J19*(1+$G$19*K14)","v":1},{"$f":"K19*(1+$G$19*L14)","v":1},1,1.0099504938362078,1.02,1.030149503712932,1.0404,1.0507524937871906,1.0612080000000002,1.0717675436629346,1.0824321600000002,1.0932028945361933,1.1040808032000002,1.1150669524269172,1.1261624192640003,1.1373682914754557,1.1486856676492805,1.1601156573049649,1.1716593810022662,1.1833179704510643,1.1950925686223117,1.2069843298600857,1.218994419994758,1.2311240164572876,1.2433743083946533,1.2557464967864336,1.2682417945625466,1.2808614267221623,1.2936066304537976,1.3064786552566057,1.3194787630628737,1.332608228361738,1.3458683383241312,1.3592603929289728,1.372785705090614,1.3864456007875525,1.4002414191924266,1.4141745128033039,1.4282462475762754,1.4424580030593701,1.456811172527801,1.4713071631205576,1.4859473959783571,1.5007333063829689,1.5156663438979243,1.5307479725106283,1.5459796707758831,1.5613629319608411,1.5768992641914008,1.5925901906000579,1.6084372494752288,1.6244419944120592,1.6406059944647335,1.6569308343003004,1.6734181143540283,1.6900694509863066,1.7068864766411089,1.7238708400060327,1.7410242061739312,1.7583482568061535,1.7758446902974099,1.7935152219422767,1.8113615841033583,1.8293855263811225,1.8475888157854257,{"$f":"BW19*(1+$G$19*BX14)","v":1.8659732369087452},1.8845405921011344,1.9032927016469203,1.9222314039431574,1.9413585556798589]
[null,null,"Truck Volumes with Growth",null,"Trucks/Day",null,null,"Trucks/Period",null,null,{"$f":"K19*K18","v":0},{"$f":"L19*L18","v":271500},276000,274201.55907653045,281520,279685.59025806101,287150.40000000002,286855.43080390303,292893.40800000005,290984.88810448674,298751.27616000007,296804.58586657647,304726.30168320006,302740.67758390802,310820.82771686406,310501.54357279942,317037.24427120143,314971.40095829795,323377.98915662547,321270.828977464,329845.54893975804,327696.24555701326,336442.45991855318,336096.85649283952,343171.3091169243,340935.1738775167,350034.73529926286,347753.87735506706,357035.43000524817,354708.95490216842,364176.13860535313,363802.04634275445,371459.66137746023,369039.19668021612,378888.85460500949,376419.98061382049,386466.63169710973,383948.38022609701,394195.96433105203,393791.03483520803,402079.88361767307,399459.8947872314,410121.48129002657,407449.09268297604,418323.91091582709,415598.0745366356,426690.38913414371,426252.0804253096,435224.19691682665,432388.23674791574,443928.68085516314,0,0,0,0,0,0,0,0,0,0,0,0,0,0,{"$f":"BX19*BX18","v":0},0,0,0,0]
[]
[null,null,"Total Vehicles per Period",null,"Vehicles",null,null,null,null,null,{"$f":"K20+K16","v":0},{"$f":"L20+L16","v":905000},920000,917133.83972512255,944840,941905.8393261109,970370.00000000012,972710.72301548673,996609.59600000025,993534.35034078103,1023578.9498000003,1020430.5319699596,1051298.8055324005,1048075.4020703926,1079790.5066815403,1082437.7173420615,1109076.0136048179,1105697.0101660097,1139177.9215702505,1135718.2064614068,1170119.4793257918,1166577.0443654745,1201924.6082161681,1204917.820827835,1234617.9218634679,1230903.8133334136,1268224.7464282028,1264421.5759946408,1302771.1414680562,1298876.6845009294,1338283.9214120454,1341667.6960144879,1374790.6776683535,1370706.7410115418,1412319.8013846294,1408137.5512750859,1450900.5068801183,1446617.4780072004,1490562.8557695509,1494387.4385371176,1531337.7817993269,1526845.5406232039,1573257.1164171298,1568656.3078940276,1616353.6150967435,1611641.5062040186,1660660.9844404876,1664983.0290461252,1706213.9100823607,1701270.7134038424,1753048.0854156634,0,0,0,0,0,0,0,0,0,0,0,0,0,0,{"$f":"BX20+BX16","v":0},0,0,0,0]
[]
[null,null,"Total Car Volumes",null,"Cars",null,null,"Cars/Period",null,null,{"$f":"K16","v":0},{"$f":"L16","v":633500},644000,642932.28064859216,663320,662220.24906804995,683219.60000000009,685855.2922115837,703716.1880000002,702549.46223629429,724827.67364000028,723625.9461033832,746572.50384920032,745334.72448648466,768969.67896467622,771936.17376926192,792038.7693336166,790725.60920771165,815799.93241362507,814447.3774839429,840273.93038603384,838880.79880846129,865482.148297615,868820.96433499549,891446.61274654348,889968.6394558968,918190.01112893992,916667.69863957376,945735.71146280807,944167.72959876095,974107.7828066923,977865.64967173338,1003331.0162908932,1001667.5443313256,1033430.94677962,1031717.5706612654,1064433.8751830086,1062669.0977811033,1096366.8914384989,1100596.4037019096,1129257.8981816538,1127385.6458359724,1163135.6351271032,1161207.2152110515,1198029.7041809163,1196043.4316673831,1233970.5953063439,1238730.9486208158,1270989.7131655342,1268882.4766559266,1309119.4045605003,0,0,0,0,0,0,0,0,0,0,0,0,0,0,{"$f":"BX16","v":0},0,0,0,0]
[null,null,"Maximum Volumes",null,"Cars/Day",{"$f":"InputC!G22","v":5000},null,"Cars ",null,null,{"$f":"$F$25*K6","v":0},5000,5000,5000,5000,5000,5000,5000,5000,5000,5000,5000,5000,5000,5000,5000,5000,5000,5000,5000,5000,5000,5000,5000,5000,5000,5000,5000,5000,5000,5000,5000,{"$f":"$F$25*AQ6","v":5000},5000,5000,5000,5000,5000,5000,5000,5000,5000,5000,5000,5000,5000,5000,5000,5000,5000,5000,0,0,0,0,0,0,0,0,0,0,0,0,0,{"$f":"$F$25*BW6","v":0},0,0,0,0,0]
[null,null,"Maximum Volumes",null,"Cars/Period",null,null,"Cars/Period",null,null,{"$f":"K25*K8","v":0},905000,920000,905000,920000,905000,920000,910000,920000,905000,920000,905000,920000,905000,920000,910000,920000,905000,920000,905000,920000,905000,920000,910000,920000,905000,920000,905000,920000,905000,920000,910000,{"$f":"AQ25*AQ8","v":920000},905000,920000,905000,920000,905000,920000,910000,920000,905000,920000,905000,920000,905000,920000,910000,920000,905000,920000,0,0,0,0,0,0,0,0,0,0,0,0,0,{"$f":"BW25*BW8","v":0},0,0,0,0,0]
[null,null,"Volumes with Lower Rate",null,"Cars",{"$f":"InputC!$G$21","v":false},null,"Cars/Period",null,null,{"$f":"MAX(K24-K26,0)*$F$27","v":0},{"$f":"MAX(L24-L26,0)*$F$27","v":0},0,0,0,0,0,0,0,0,0,0,0,0,0,0,0,0,0,0,0,0,0,0,0,0,0,0,0,0,0,0,0,0,0,0,0,0,0,0,0,0,0,0,0,0,0,0,0,0,0,0,0,0,0,0,0,0,0,0,0,0,0,0,0,{"$f":"MAX(BX24-BX26,0)*$F$27","v":0},0,0,0,0]
[null,null,"Volumes with Base Rate",null,"Cars",null,null,"Cars/Period",null,null,{"$f":"K24-K27","v":0},{"$f":"L24-L27","v":633500},644000,642932.28064859216,663320,662220.24906804995,683219.60000000009,685855.2922115837,703716.1880000002,702549.46223629429,724827.67364000028,723625.9461033832,746572.50384920032,745334.72448648466,768969.67896467622,771936.17376926192,792038.7693336166,790725.60920771165,815799.93241362507,814447.3774839429,840273.93038603384,838880.79880846129,865482.148297615,868820.96433499549,891446.61274654348,889968.6394558968,918190.01112893992,916667.69863957376,945735.71146280807,944167.72959876095,974107.7828066923,977865.64967173338,1003331.0162908932,1001667.5443313256,1033430.94677962,1031717.5706612654,1064433.8751830086,1062669.0977811033,1096366.8914384989,1100596.4037019096,1129257.8981816538,1127385.6458359724,1163135.6351271032,1161207.2152110515,1198029.7041809163,1196043.4316673831,1233970.5953063439,1238730.9486208158,1270989.7131655342,1268882.4766559266,1309119.4045605003,0,0,0,0,0,0,0,0,0,0,0,0,0,0,{"$f":"BX24-BX27","v":0},0,0,0,0]
[]
[]
[null,"Revenues, Expensea and Cap Exp"]
[null,null,"Cap Exp/Headline Price for Investment",null,"USD",216629231.00111878,"headline",null,{"$f":"SUM(J32:XFD32)","v":216629231.00111878},{"$f":"$F$32*J5","v":0},216629231.00111878,0,0,0,0,0,0,0,0,0,0,0,0,0,0,0,0,0,0,0,0,0,0,0,0,0,0,0,0,0,0,{"$f":"$F$32*AP5","v":0},0,0,0,0,0,0,0,0,0,0,0,0,0,0,0,0,0,0,0,0,0,0,0,0,0,0,0,0,0,0,0,{"$f":"$F$32*BV5","v":0},0,0,0,0,0,0]
[]
[null,null,"Car Tolls"]
[null,null,null,"Real Toll Rate","USD/Car",{"$f":"InputC!G31","v":5},null,"USD/Car",null,null,{"$f":"$F$35","v":5},{"$f":"$F$35","v":5},5,5,5,5,5,5,5,5,5,5,5,5,5,5,5,5,5,5,5,5,5,5,5,5,5,5,5,5,5,5,5,5,5,5,5,5,5,5,5,5,5,5,5,5,5,5,5,5,5,5,5,5,5,5,5,5,5,5,5,5,5,5,5,{"$f":"$F$35","v":5},5,5,5,5]
[null,null,null,"Inflation Applied","Date",{"$f":"InputC!G29","v":"2026-01-01"},null,"Flag",null,null,{"$f":"(K3>=$F$36)*1","v":0},0,0,1,1,1,1,1,1,1,1,1,1,1,1,1,1,1,1,1,1,1,1,1,1,1,1,1,1,1,1,1,{"$f":"(AQ3>=$F$36)*1","v":1},1,1,1,1,1,1,1,1,1,1,1,1,1,1,1,1,1,1,1,1,1,1,1,1,1,1,1,1,1,1,1,{"$f":"(BW3>=$F$36)*1","v":1},1,1,1,1,1]
[null,null,null,"Inflation Index","% p.a.",{"$f":"InputC!G28","v":0.02},{"$f":"(1+F37)^(1/2)-1","v":9.9504938362078299E-3},"Index",null,1,{"$f":"J37*(1+$G$37*K36)","v":1},{"$f":"K37*(1+$G$37*L36)","v":1},1,1.0099504938362078,1.02,1.030149503712932,1.0404,1.0507524937871906,1.0612080000000002,1.0717675436629346,1.0824321600000002,1.0932028945361933,1.1040808032000002,1.1150669524269172,1.1261624192640003,1.1373682914754557,1.1486856676492805,1.1601156573049649,1.1716593810022662,1.1833179704510643,1.1950925686223117,1.2069843298600857,1.218994419994758,1.2311240164572876,1.2433743083946533,1.2557464967864336,1.2682417945625466,1.2808614267221623,1.2936066304537976,1.3064786552566057,1.3194787630628737,1.332608228361738,1.3458683383241312,1.3592603929289728,1.372785705090614,1.3864456007875525,1.4002414191924266,1.4141745128033039,1.4282462475762754,1.4424580030593701,1.456811172527801,1.4713071631205576,1.4859473959783571,1.5007333063829689,1.5156663438979243,1.5307479725106283,1.5459796707758831,1.5613629319608411,1.5768992641914008,1.5925901906000579,1.6084372494752288,1.6244419944120592,1.6406059944647335,1.6569308343003004,1.6734181143540283,1.6900694509863066,1.7068864766411089,1.7238708400060327,1.7410242061739312,1.7583482568061535,1.7758446902974099,1.7935152219422767,1.8113615841033583,1.8293855263811225,1.8475888157854257,{"$f":"BW37*(1+$G$37*BX36)","v":1.8659732369087452},1.8845405921011344,1.9032927016469203,1.9222314039431574,1.9413585556798589]
[null,null,null,"Inflated Toll Rate","USD/Car",null,null,"USD/Car",null,null,{"$f":"K35*K37","v":5},{"$f":"L35*L37","v":5},5,5.0497524691810387,5.0999999999999996,5.1507475185646605,5.202,5.2537624689359532,5.3060400000000012,5.3588377183146729,5.4121608000000005,5.4660144726809667,5.5204040160000014,5.5753347621345863,5.6308120963200015,5.6868414573772785,5.7434283382464022,5.800578286524825,5.8582969050113309,5.9165898522553215,5.9754628431115586,6.0349216493004292,6.0949720999737895,6.155620082286438,6.2168715419732665,6.2787324839321679,6.3412089728127334,6.4043071336108115,6.4680331522689887,6.5323932762830283,6.5973938153143683,6.6630411418086899,6.7293416916206557,6.7963019646448641,6.86392852545307,6.9322280039377624,7.0012070959621333,7.0708725640165193,7.1412312378813771,7.2122900152968503,7.2840558626390051,7.356535815602788,7.4297369798917856,7.5036665319148446,7.578331719489622,7.6537398625531416,7.729898353879415,7.8068146598042052,7.8844963209570036,7.9629509530002895,8.0421862473761436,8.1222099720602952,8.2030299723236677,8.2846541715015025,8.3670905717701416,8.4503472549315326,8.5344323832055444,8.6193542000301644,8.7051210308696554,8.7917412840307669,8.8792234514870501,8.9675761097113842,9.0568079205167926,9.1469276319056121,9.2379440789271285,{"$f":"BX35*BX37","v":9.3298661845437252},9.4227029605056725,9.516463508234601,9.6111570197157867,9.7067927783992953]
[null,null,null,"Inflated Capped Toll Rate","USD/Car",{"$f":"InputC!G33","v":3},null,"USD/Car",null,null,{"$f":"$F$39*K37","v":3},{"$f":"$F$39*L37","v":3},3,3.0298514815086235,3.06,3.090448511138796,3.1212,3.1522574813615716,3.1836240000000005,3.2153026309888038,3.2472964800000006,3.27960868360858,3.3122424096000005,3.3452008572807514,3.3784872577920009,3.4121048744263671,3.4460570029478417,3.4803469719148947,3.5149781430067986,3.5499539113531933,3.5852777058669352,3.6209529895802572,3.656983259984274,3.6933720493718631,3.7301229251839603,3.7672394903593007,3.8047253836876398,3.8425842801664869,3.8808198913613929,3.919435965769817,3.9584362891886213,3.9978246850852139,4.0376050149723941,4.0777811787869185,4.1183571152718423,4.1593368023626578,4.2007242575772796,4.2425235384099116,4.2847387427288259,4.3273740091781105,4.370433517583403,4.4139214893616732,4.4578421879350714,4.5021999191489064,4.5469990316937725,4.592243917531885,4.6379390123276494,4.6840887958825235,4.7306977925742029,4.7777705718001737,4.8253117484256869,4.8733259832361773,4.9218179833942006,4.9707925029009008,5.020254343062085,5.0702083529589199,5.120659429923327,5.1716125200180985,5.2230726185217939,5.2750447704184609,5.3275340708922299,5.3805456658268298,5.434084752310075,5.488156579143368,5.5427664473562768,{"$f":"$F$39*BX37","v":5.5979197107262353},5.6536217763034031,5.7098781049407608,5.7666942118294724,5.824075667039577]
[]
[null,null,null,"Cars at Base Toll Rate","Cars",null,null,"Cars",null,null,{"$f":"K28","v":0},{"$f":"L28","v":633500},644000,642932.28064859216,663320,662220.24906804995,683219.60000000009,685855.2922115837,703716.1880000002,702549.46223629429,724827.67364000028,723625.9461033832,746572.50384920032,745334.72448648466,768969.67896467622,771936.17376926192,792038.7693336166,790725.60920771165,815799.93241362507,814447.3774839429,840273.93038603384,838880.79880846129,865482.148297615,868820.96433499549,891446.61274654348,889968.6394558968,918190.01112893992,916667.69863957376,945735.71146280807,944167.72959876095,974107.7828066923,977865.64967173338,1003331.0162908932,1001667.5443313256,1033430.94677962,1031717.5706612654,1064433.8751830086,1062669.0977811033,1096366.8914384989,1100596.4037019096,1129257.8981816538,1127385.6458359724,1163135.6351271032,1161207.2152110515,1198029.7041809163,1196043.4316673831,1233970.5953063439,1238730.9486208158,1270989.7131655342,1268882.4766559266,1309119.4045605003,0,0,0,0,0,0,0,0,0,0,0,0,0,0,{"$f":"BX28","v":0},0,0,0,0]
[null,null,null,"Cars at Capped Toll Rate","Cars",null,null,"Cars",null,null,{"$f":"K27","v":0},{"$f":"L27","v":0},0,0,0,0,0,0,0,0,0,0,0,0,0,0,0,0,0,0,0,0,0,0,0,0,0,0,0,0,0,0,0,0,0,0,0,0,0,0,0,0,0,0,0,0,0,0,0,0,0,0,0,0,0,0,0,0,0,0,0,0,0,0,0,{"$f":"BX27","v":0},0,0,0,0]
[null,null,null,"Car Tolls","USD",null,null,"USD",{"$f":"SUM(K43:XFD43)","v":303957799.97979653},null,{"$f":"K41*K38+K42*K39","v":0},{"$f":"L41*L38+L42*L39","v":3167500},3220000,3246648.8717214246,3382931.9999999995,3410929.3046305296,3554108.3592000003,3603320.7933423198,3733946.2421755218,3764848.5572135439,3922883.9220296033,3955349.89420855,4121381.8484843019,4155490.5988555024,4329923.7700176071,4389878.6354402294,4549017.9127804991,4586665.7993693668,4779198.2191671925,4818751.0888174558,5021025.649057054,5062579.8939116206,5275089.546899341,5348131.7759719677,5542009.0779724494,5587875.0062326547,5822434.7373178573,5870621.4815480281,6117049.9350261409,6167674.9285143586,6426572.6617384637,6515559.0549242431,6751757.2384224311,6807635.0994599843,7093396.1546866074,7152101.4354926609,7452322.0001137517,7513997.7681285916,7829409.4933195086,7937820.4532909039,8225577.6136814766,8293652.8815888111,8641791.8409337569,8713311.7173972055,9079066.5080850068,9154205.2902975045,9538467.2733941097,9670542.9292461537,10021113.717427852,10104048.926732678,10528182.071529701,0,0,0,0,0,0,0,0,0,0,0,0,0,0,{"$f":"BX41*BX38+BX42*BX39","v":0},0,0,0,0]
[]
[null,null,"Truck Tolls"]
[null,null,null,"Real Toll Rate","USD/Truck",{"$f":"InputC!G32","v":10},null,"USD/Truck",null,null,{"$f":"$F$46","v":10},{"$f":"$F$46","v":10},10,10,10,10,10,10,10,10,10,10,10,10,10,10,10,10,10,10,10,10,10,10,10,10,10,10,10,10,10,10,10,10,10,10,10,10,10,10,10,10,10,10,10,10,10,10,10,10,10,10,10,10,10,10,10,10,10,10,10,10,10,10,10,{"$f":"$F$46","v":10},10,10,10,10]
[null,null,null,"Inflation Index","Index",null,null,"Index",null,null,{"$f":"K37","v":1},1,1,1.0099504938362078,1.02,1.030149503712932,1.0404,1.0507524937871906,1.0612080000000002,1.0717675436629346,1.0824321600000002,1.0932028945361933,1.1040808032000002,1.1150669524269172,1.1261624192640003,1.1373682914754557,1.1486856676492805,1.1601156573049649,1.1716593810022662,1.1833179704510643,1.1950925686223117,1.2069843298600857,1.218994419994758,1.2311240164572876,1.2433743083946533,1.2557464967864336,1.2682417945625466,1.2808614267221623,1.2936066304537976,1.3064786552566057,1.3194787630628737,1.332608228361738,{"$f":"AQ37","v":1.3458683383241312},1.3592603929289728,1.372785705090614,1.3864456007875525,1.4002414191924266,1.4141745128033039,1.4282462475762754,1.4424580030593701,1.456811172527801,1.4713071631205576,1.4859473959783571,1.5007333063829689,1.5156663438979243,1.5307479725106283,1.5459796707758831,1.5613629319608411,1.5768992641914008,1.5925901906000579,1.6084372494752288,1.6244419944120592,1.6406059944647335,1.6569308343003004,1.6734181143540283,1.6900694509863066,1.7068864766411089,1.7238708400060327,1.7410242061739312,1.7583482568061535,1.7758446902974099,1.7935152219422767,1.8113615841033583,1.8293855263811225,{"$f":"BW37","v":1.8475888157854257},1.8659732369087452,1.8845405921011344,1.9032927016469203,1.9222314039431574,1.9413585556798589]
[null,null,null,"Inflated Toll Rate","USD/ruck",null,null,"USD/ruck",null,null,{"$f":"K46*K47","v":10},{"$f":"L46*L47","v":10},10,10.099504938362077,10.199999999999999,10.301495037129321,10.404,10.507524937871906,10.612080000000002,10.717675436629346,10.824321600000001,10.932028945361933,11.040808032000003,11.150669524269173,11.261624192640003,11.373682914754557,11.486856676492804,11.60115657304965,11.716593810022662,11.833179704510643,11.950925686223117,12.069843298600858,12.189944199947579,12.311240164572876,12.433743083946533,12.557464967864336,12.682417945625467,12.808614267221623,12.936066304537977,13.064786552566057,13.194787630628737,13.32608228361738,13.458683383241311,13.592603929289728,13.72785705090614,13.864456007875525,14.002414191924267,14.141745128033039,14.282462475762754,14.424580030593701,14.56811172527801,14.713071631205576,14.859473959783571,15.007333063829689,15.156663438979244,15.307479725106283,15.45979670775883,15.61362931960841,15.768992641914007,15.925901906000579,16.084372494752287,16.24441994412059,16.406059944647335,16.569308343003005,16.734181143540283,16.900694509863065,17.068864766411089,17.238708400060329,17.410242061739311,17.583482568061534,17.7584469029741,17.935152219422768,18.113615841033585,18.293855263811224,18.475888157854257,{"$f":"BX46*BX47","v":18.65973236908745},18.845405921011345,19.032927016469202,19.222314039431573,19.413585556798591]
[null,null,null,"Truck Tolls","USD",null,null,"USD",{"$f":"SUM(K49:XFD49)","v":227221011.58147439},null,{"$f":"K48*K20","v":0},2715000,2760000,2769300,2871504,2881179.72,2987512.7616000003,3014140.5927360002,3108208.2771686413,3118681.5876677963,3233779.8915662542,3244676.3238095753,3364424.599185531,3375761.2472914825,3500347.3529926268,3531546.1011388665,3641761.38605353,3654032.5385500151,3788888.5460500936,3801655.4531074367,3941959.6433105185,3955242.3334129779,4101214.8129002634,4137769.1188413319,4266903.8913414357,4281281.5022796523,4439286.8085516309,4454245.2749717506,4618633.9956171187,4634196.7840806097,4805226.80904005,4848056.0045119291,{"$f":"AQ48*AQ20","v":4999357.9721252685},5016203.6348574301,5201332.0341991307,5218858.2617056724,5411465.848380778,5429700.1354785841,5630089.0686553642,5680270.2973107705,5857544.6670290409,5877282.0457983781,6094189.4715770148,6114724.2404486341,6340394.726228727,6361759.0997627592,6596546.6731683686,6655341.980472696,6863047.1587643726,6886172.6437558606,7140314.2639784524,0,0,0,0,0,0,0,0,0,0,0,0,0,{"$f":"BW48*BW20","v":0},0,0,0,0,0]
[]
[null,null,null,"Total Revenues","USD",null,null,null,{"$f":"SUM(K51:XFD51)","v":531178811.56127095},null,{"$f":"K49+K43","v":0},5882500,5980000,6015948.8717214242,6254436,6292109.0246305298,6541621.1208000006,6617461.3860783204,6842154.5193441631,6883530.1448813397,7156663.8135958575,7200026.2180181257,7485806.447669833,7531251.846146985,7830271.123010234,7921424.7365790959,8190779.2988340296,8240698.3379193824,8568086.7652172856,8620406.541924892,8962985.292367572,9017822.2273245975,9376304.3597996049,9485900.8948132992,9808912.969313886,9869156.508512307,10261721.545869488,10324866.75651978,10735683.93064326,10801871.712594967,11231799.470778514,11363615.059436172,{"$f":"AQ49+AQ43","v":11751115.210547701},11823838.734317414,12294728.188885737,12370959.697198333,12863787.84849453,12943697.903607175,13459498.561974872,13618090.750601675,14083122.280710518,14170934.927387189,14735981.312510772,14828035.957845841,15419461.234313734,15515964.390060265,16135013.946562478,16325884.909718849,16884160.876192223,16990221.570488539,17668496.335508153,0,0,0,0,0,0,0,0,0,0,0,0,0,{"$f":"BW49+BW43","v":0},0,0,0,0,0]
[]
[null,null,"Operating Expenditures"]
[null,null,null,"Inflation Index for Op Exp","Index",null,null,null,null,null,{"$f":"K47","v":1},1,1,1.0099504938362078,1.02,1.030149503712932,1.0404,1.0507524937871906,1.0612080000000002,1.0717675436629346,1.0824321600000002,1.0932028945361933,1.1040808032000002,1.1150669524269172,1.1261624192640003,1.1373682914754557,1.1486856676492805,1.1601156573049649,1.1716593810022662,1.1833179704510643,1.1950925686223117,1.2069843298600857,1.218994419994758,1.2311240164572876,1.2433743083946533,1.2557464967864336,1.2682417945625466,1.2808614267221623,1.2936066304537976,1.3064786552566057,1.3194787630628737,1.332608228361738,{"$f":"AQ47","v":1.3458683383241312},1.3592603929289728,1.372785705090614,1.3864456007875525,1.4002414191924266,1.4141745128033039,1.4282462475762754,1.4424580030593701,1.456811172527801,1.4713071631205576,1.4859473959783571,1.5007333063829689,1.5156663438979243,1.5307479725106283,1.5459796707758831,1.5613629319608411,1.5768992641914008,1.5925901906000579,1.6084372494752288,1.6244419944120592,1.6406059944647335,1.6569308343003004,1.6734181143540283,1.6900694509863066,1.7068864766411089,1.7238708400060327,1.7410242061739312,1.7583482568061535,1.7758446902974099,1.7935152219422767,1.8113615841033583,1.8293855263811225,{"$f":"BW47","v":1.8475888157854257},1.8659732369087452,1.8845405921011344,1.9032927016469203,1.9222314039431574,1.9413585556798589]
[]
[null,null,null,"Fixed Op Exp- Real","Fix/km-yr",{"$f":"InputC!G36","v":10000},{"$f":"F56/2","v":5000},"USD/period",null,null,{"$f":"$G$56*K11","v":0},250000,250000,250000,250000,250000,250000,250000,250000,250000,250000,250000,250000,250000,250000,250000,250000,250000,250000,250000,250000,250000,250000,250000,250000,250000,250000,250000,250000,250000,250000,250000,{"$f":"$G$56*AQ11","v":250000},250000,250000,250000,250000,250000,250000,250000,250000,250000,250000,250000,250000,250000,250000,250000,250000,250000,250000,0,0,0,0,0,0,0,0,0,0,0,0,0,{"$f":"$G$56*BW11","v":0},0,0,0,0,0]
[null,null,null,"Variable Expense","USD/vehicle",{"$f":"InputC!G35","v":2},{"$f":"F57/2","v":1},"USD/period",null,null,{"$f":"$G$57*K22","v":0},905000,920000,917133.83972512255,944840,941905.8393261109,970370.00000000012,972710.72301548673,996609.59600000025,993534.35034078103,1023578.9498000003,1020430.5319699596,1051298.8055324005,1048075.4020703926,1079790.5066815403,1082437.7173420615,1109076.0136048179,1105697.0101660097,1139177.9215702505,1135718.2064614068,1170119.4793257918,1166577.0443654745,1201924.6082161681,1204917.820827835,1234617.9218634679,1230903.8133334136,1268224.7464282028,1264421.5759946408,1302771.1414680562,1298876.6845009294,1338283.9214120454,1341667.6960144879,{"$f":"$G$57*AQ22","v":1374790.6776683535},1370706.7410115418,1412319.8013846294,1408137.5512750859,1450900.5068801183,1446617.4780072004,1490562.8557695509,1494387.4385371176,1531337.7817993269,1526845.5406232039,1573257.1164171298,1568656.3078940276,1616353.6150967435,1611641.5062040186,1660660.9844404876,1664983.0290461252,1706213.9100823607,1701270.7134038424,1753048.0854156634,0,0,0,0,0,0,0,0,0,0,0,0,0,{"$f":"$G$57*BW22","v":0},0,0,0,0,0]
[null,null,null,"Total Expense","USD  ",null,null,null,{"$f":"SUM(K58:XFD58)","v":99452379.842113972},null,{"$f":"SUM(K56:K57)*K54","v":0},{"$f":"SUM(L56:L57)*L54","v":1155000},1170000,1178747.3978033368,1218736.8,1227841.2088543389,1269672.9480000001,1284766.3413888616,1322912.0761519687,1332779.756125222,1378562.8135625462,1388838.3348567158,1436739.0304154137,1447440.9826069779,1497560.0941187842,1515472.4100707967,1561151.1380737729,1572765.3280551159,1627643.3436890144,1639745.2556870009,1697174.2362980405,1709786.2945886431,1769887.995668584,1791184.2711928487,1845935.7818272968,1859639.7756711047,1925476.0769593713,1939764.1804873212,2008675.0441803895,2023574.3279250842,2095706.9040174161,2121069.4685264761,2186754.3294780459,2202962.4816099834,2282008.8606298883,2298917.5134659875,2381671.3396589346,2399313.1953744027,2485952.3674235069,2516205.6211541002,2595072.7825711495,2614285.5716777397,2709264.1643390423,2729318.0941200466,2828769.3602143549,2849703.9611634337,2953843.0396896298,2989983.5168867107,3084752.2754098577,3107574.5973721365,3221777.1530725928,0,0,0,0,0,0,0,0,0,0,0,0,0,0,{"$f":"SUM(BX56:BX57)*BX54","v":0},0,0,0,0]
[]
[null,null,null,"EBITDA","USD",null,null,null,{"$f":"SUM(K60:XFD60)","v":431726431.71915704},null,{"$f":"K51-K58","v":0},{"$f":"L51-L58","v":4727500},4810000,4837201.4739180878,5035699.2,5064267.8157761907,5271948.1728000008,5332695.0446894588,5519242.4431921942,5550750.3887561178,5778101.0000333115,5811187.8831614098,6049067.4172544191,6083810.8635400068,6332711.0288914498,6405952.3265082994,6629628.1607602565,6667933.009864267,6940443.4215282714,6980661.2862378908,7265811.0560695315,7308035.9327359544,7606416.3641310204,7694716.6236204505,7962977.187486589,8009516.7328412021,8336245.4689101167,8385102.5760324579,8727008.886462871,8778297.3846698832,9136092.5667610969,9242545.5909096971,9564360.8810696546,9620876.2527074311,10012719.328255849,10072042.183732346,10482116.508835595,10544384.708232772,10973546.194551365,11101885.129447576,11488049.498139368,11556649.355709448,12026717.14817173,12098717.863725794,12590691.874099379,12666260.428896831,13181170.906872848,13335901.392832138,13799408.600782365,13882646.973116402,14446719.182435561,0,0,0,0,0,0,0,0,0,0,0,0,0,0,{"$f":"BX51-BX58","v":0},0,0,0,0]
[]
[null,"Working Capital"]
[null,null,"A/R Outstanding",null,"% Revenues",{"$f":"InputC!G40","v":8.2191780821917804E-2},null,"USD",null,null,{"$f":"K51*$F$63","v":0},{"$f":"L51*$F$63","v":483493.15068493149},491506.84931506845,494461.55110039102,514063.23287671228,517159.64586004353,537667.48938082193,543900.93584205373,562368.8646036298,565769.60094915121,588218.94358322117,591782.97682340757,615271.76282217808,619007.00105317682,643583.92791864928,651076.00574622699,673214.73689046816,677317.67160981218,704226.30946991383,708526.56508971716,736683.72266034828,741190.86799928197,770655.15286024148,779663.0872449287,806212.02487511386,811163.54864484712,843429.16815365653,848619.18546737905,882384.98060081585,887825.0722680795,923161.60033795994,933995.7583098223,965845.08579844108,971822.36172471894,1010525.6045659509,1016791.2079889041,1057297.6313831119,1063865.5811183979,1106260.1557787566,1119295.130186439,1157516.8997844262,1164734.3775934675,1211176.5462337621,1218742.6814667813,1267352.9781627725,1275284.7443885149,1326165.5298544501,1341853.5542234669,1387739.250097991,1396456.5674374141,1452205.1782609441,0,0,0,0,0,0,0,0,0,0,0,0,0,0,{"$f":"BX51*$F$63","v":0},0,0,0,0]
[null,null,"A/P Outstanding",null,"%  Expense",{"$f":"InputC!G43","v":0},null,"USD",null,null,{"$f":"$F$64*K58","v":0},{"$f":"$F$64*L58","v":0},0,0,0,0,0,0,0,0,0,0,0,0,0,0,0,0,0,0,0,0,0,0,0,0,0,0,0,0,0,0,0,0,0,0,0,0,0,0,0,0,0,0,0,0,0,0,0,0,0,0,0,0,0,0,0,0,0,0,0,0,0,0,0,{"$f":"$F$64*BX58","v":0},0,0,0,0]
[null,null,"Net Working Capital",null,"USD",null,null,"USD",null,null,{"$f":"K63-K64","v":0},{"$f":"L63-L64","v":483493.15068493149},491506.84931506845,494461.55110039102,514063.23287671228,517159.64586004353,537667.48938082193,543900.93584205373,562368.8646036298,565769.60094915121,588218.94358322117,591782.97682340757,615271.76282217808,619007.00105317682,643583.92791864928,651076.00574622699,673214.73689046816,677317.67160981218,704226.30946991383,708526.56508971716,736683.72266034828,741190.86799928197,770655.15286024148,779663.0872449287,806212.02487511386,811163.54864484712,843429.16815365653,848619.18546737905,882384.98060081585,887825.0722680795,923161.60033795994,933995.7583098223,965845.08579844108,971822.36172471894,1010525.6045659509,1016791.2079889041,1057297.6313831119,1063865.5811183979,1106260.1557787566,1119295.130186439,1157516.8997844262,1164734.3775934675,1211176.5462337621,1218742.6814667813,1267352.9781627725,1275284.7443885149,1326165.5298544501,1341853.5542234669,1387739.250097991,1396456.5674374141,1452205.1782609441,0,0,0,0,0,0,0,0,0,0,0,0,0,0,{"$f":"BX63-BX64","v":0},0,0,0,0]
[]
[null,null,"Change in Working Capital",null,"USD",null,null,"USD",null,null,null,{"$f":"L65-K65","v":483493.15068493149},{"$f":"M65-L65","v":8013.6986301369616},2954.7017853225698,19601.68177632126,3096.4129833312472,20507.843520778406,6233.446461231797,18467.92876157607,3400.7363455214072,22449.342634069966,3564.0332401863998,23488.785998770501,3735.2382309987443,24576.926865472458,7492.077827577712,22138.731144241174,4102.934719344019,26908.637860101648,4300.2556198033271,28157.157570631127,4507.1453389336821,29464.284860959509,9007.9343846872216,26548.937630185159,4951.5237697332632,32265.61950880941,5190.0173137225211,33765.795133436797,5440.0916672636522,35336.528069880442,10834.157971862354,31849.327488618786,5977.2759262778563,38703.242841231986,6265.6034229531651,40506.423394207843,6567.9497352859471,42394.574660358718,13034.974407682428,38221.769597987179,7217.4778090412728,46442.168640294578,7566.1352330192458,48610.296695991186,7931.766225742409,50880.785465935245,15688.024369016755,45885.69587452407,8717.3173394231126,55748.610823530005,-1452205.1782609441,0,0,0,0,0,0,0,0,0,0,0,0,0,0,{"$f":"BY65-BX65","v":0},0,0,0]
[]
[null,null,"Pre-tax Cash Flow"]
[null,null,null,"EBITDA","USD",null,null,"USD",null,null,{"$f":"K60","v":0},{"$f":"L60","v":4727500},4810000,4837201.4739180878,5035699.2,5064267.8157761907,5271948.1728000008,5332695.0446894588,5519242.4431921942,5550750.3887561178,5778101.0000333115,5811187.8831614098,6049067.4172544191,6083810.8635400068,6332711.0288914498,6405952.3265082994,6629628.1607602565,6667933.009864267,6940443.4215282714,6980661.2862378908,7265811.0560695315,7308035.9327359544,7606416.3641310204,7694716.6236204505,7962977.187486589,8009516.7328412021,8336245.4689101167,8385102.5760324579,8727008.886462871,8778297.3846698832,9136092.5667610969,9242545.5909096971,9564360.8810696546,9620876.2527074311,10012719.328255849,10072042.183732346,10482116.508835595,10544384.708232772,10973546.194551365,11101885.129447576,11488049.498139368,11556649.355709448,12026717.14817173,12098717.863725794,12590691.874099379,12666260.428896831,13181170.906872848,13335901.392832138,13799408.600782365,13882646.973116402,14446719.182435561,0,0,0,0,0,0,0,0,0,0,0,0,0,0,{"$f":"BX60","v":0},0,0,0,0]
[null,null,null,"Less: WC Change","USD",null,null,"USD",null,null,{"$f":"K65","v":0},{"$f":"L65","v":483493.15068493149},491506.84931506845,494461.55110039102,514063.23287671228,517159.64586004353,537667.48938082193,543900.93584205373,562368.8646036298,565769.60094915121,588218.94358322117,591782.97682340757,615271.76282217808,619007.00105317682,643583.92791864928,651076.00574622699,673214.73689046816,677317.67160981218,704226.30946991383,708526.56508971716,736683.72266034828,741190.86799928197,770655.15286024148,779663.0872449287,806212.02487511386,811163.54864484712,843429.16815365653,848619.18546737905,882384.98060081585,887825.0722680795,923161.60033795994,933995.7583098223,965845.08579844108,971822.36172471894,1010525.6045659509,1016791.2079889041,1057297.6313831119,1063865.5811183979,1106260.1557787566,1119295.130186439,1157516.8997844262,1164734.3775934675,1211176.5462337621,1218742.6814667813,1267352.9781627725,1275284.7443885149,1326165.5298544501,1341853.5542234669,1387739.250097991,1396456.5674374141,1452205.1782609441,0,0,0,0,0,0,0,0,0,0,0,0,0,0,{"$f":"BX65","v":0},0,0,0,0]
[null,null," ","Less: Cap Exp","USD",null,null,"USD",null,null,{"$f":"K32","v":216629231.00111878},0,0,0,0,0,0,0,0,0,0,0,0,0,0,0,0,0,0,0,0,0,0,0,0,0,0,0,0,0,0,0,{"$f":"AQ32","v":0},0,0,0,0,0,0,0,0,0,0,0,0,0,0,0,0,0,0,0,0,0,0,0,0,0,0,0,0,0,0,0,{"$f":"BW32","v":0},0,0,0,0,0]
[null,null,null,"Free Cash Flow Before Tax","USD",null,null,"USD",null,null,{"$f":"K70-K71-K72","v":-216629231.00111878},{"$f":"L70-L71-L72","v":4244006.8493150687},4318493.1506849313,4342739.9228176968,4521635.9671232877,4547108.1699161474,4734280.6834191792,4788794.1088474048,4956873.5785885639,4984980.7878069663,5189882.0564500904,5219404.9063380025,5433795.6544322409,5464803.86248683,5689127.1009728005,5754876.3207620727,5956413.4238697886,5990615.3382544545,6236217.1120583573,6272134.7211481733,6529127.3334091827,6566845.0647366727,6835761.2112707794,6915053.5363755217,7156765.1626114752,7198353.1841963548,7492816.3007564601,7536483.3905650787,7844623.9058620548,7890472.3124018032,8212930.9664231371,8308549.8325998746,8598515.7952712141,8649053.8909827117,9002193.7236898988,9055250.9757434409,9424818.8774524834,9480519.1271143742,9867286.0387726091,9982589.9992611371,10330532.598354943,10391914.978115981,10815540.601937968,10879975.182259014,11323338.895936606,11390975.684508316,11855005.377018398,11994047.838608671,12411669.350684375,12486190.405678988,12994514.004174616,0,0,0,0,0,0,0,0,0,0,0,0,0,0,{"$f":"BX70-BX71-BX72","v":0},0,0,0,0]
[]
[null,null,null,"Pre-tax Project IRR","%",{"$f":"XIRR(K73:CB73,K4:CB4)","v":4.2368683218955996E-2}]
[]
[null,"Tax and Deprecation"]
[null,null,"Tax Basis",null,"USD",null,null,"USD",null,null,{"$f":"J78+K32","v":216629231.00111878},216629231.00111878,216629231.00111878,216629231.00111878,216629231.00111878,216629231.00111878,216629231.00111878,216629231.00111878,216629231.00111878,216629231.00111878,216629231.00111878,216629231.00111878,216629231.00111878,216629231.00111878,216629231.00111878,216629231.00111878,216629231.00111878,216629231.00111878,216629231.00111878,216629231.00111878,216629231.00111878,216629231.00111878,216629231.00111878,216629231.00111878,216629231.00111878,216629231.00111878,216629231.00111878,216629231.00111878,216629231.00111878,216629231.00111878,216629231.00111878,216629231.00111878,{"$f":"AP78+AQ32","v":216629231.00111878},216629231.00111878,216629231.00111878,216629231.00111878,216629231.00111878,216629231.00111878,216629231.00111878,216629231.00111878,216629231.00111878,216629231.00111878,216629231.00111878,216629231.00111878,216629231.00111878,216629231.00111878,216629231.00111878,216629231.00111878,216629231.00111878,216629231.00111878,216629231.00111878,216629231.00111878,216629231.00111878,216629231.00111878,216629231.00111878,216629231.00111878,216629231.00111878,216629231.00111878,216629231.00111878,216629231.00111878,216629231.00111878,216629231.00111878,216629231.00111878,216629231.00111878,{"$f":"BV78+BW32","v":216629231.00111878},216629231.00111878,216629231.00111878,216629231.00111878,216629231.00111878,216629231.00111878]
[null,null,"Tax Depreciation Period",null,"Date",{"$f":"F5+1","v":"2025-01-01"},{"$f":"EDATE(F79,InputC!G47*12)","v":"2045-01-01"},"Flag",{"$f":"SUM(K79:XFD79)","v":40},null,{"$f":"(AND(K3>=$F$79,K3<$G$79))*1","v":0},1,1,1,1,1,1,1,1,1,1,1,1,1,1,1,1,1,1,1,1,1,1,1,1,1,1,1,1,1,1,1,{"$f":"(AND(AQ3>=$F$79,AQ3<$G$79))*1","v":1},1,1,1,1,1,1,1,1,0,0,0,0,0,0,0,0,0,0,0,0,0,0,0,0,0,0,0,0,0,0,0,{"$f":"(AND(BW3>=$F$79,BW3<$G$79))*1","v":0},0,0,0,0,0]
[null,null,"Tax Depreciation ",null,"%",{"$f":"1/I79","v":2.5000000000000001E-2},null,"USD",{"$f":"SUM(K80:XFD80)","v":216629231.00111869},null,{"$f":"K78*K79*$F$80","v":0},{"$f":"L78*L79*$F$80","v":5415730.7750279699},5415730.7750279699,5415730.7750279699,5415730.7750279699,5415730.7750279699,5415730.7750279699,5415730.7750279699,5415730.7750279699,5415730.7750279699,5415730.7750279699,5415730.7750279699,5415730.7750279699,5415730.7750279699,5415730.7750279699,5415730.7750279699,5415730.7750279699,5415730.7750279699,5415730.7750279699,5415730.7750279699,5415730.7750279699,5415730.7750279699,5415730.7750279699,5415730.7750279699,5415730.7750279699,5415730.7750279699,5415730.7750279699,5415730.7750279699,5415730.7750279699,5415730.7750279699,5415730.7750279699,5415730.7750279699,5415730.7750279699,5415730.7750279699,5415730.7750279699,5415730.7750279699,5415730.7750279699,5415730.7750279699,5415730.7750279699,5415730.7750279699,5415730.7750279699,0,0,0,0,0,0,0,0,0,0,0,0,0,0,0,0,0,0,0,0,0,0,0,0,{"$f":"BX78*BX79*$F$80","v":0},0,0,0,0]
[]
[null,null,"EBITDA",null,"USD",null,null,"USD",null,null,{"$f":"K70","v":0},{"$f":"L70","v":4727500},4810000,4837201.4739180878,5035699.2,5064267.8157761907,5271948.1728000008,5332695.0446894588,5519242.4431921942,5550750.3887561178,5778101.0000333115,5811187.8831614098,6049067.4172544191,6083810.8635400068,6332711.0288914498,6405952.3265082994,6629628.1607602565,6667933.009864267,6940443.4215282714,6980661.2862378908,7265811.0560695315,7308035.9327359544,7606416.3641310204,7694716.6236204505,7962977.187486589,8009516.7328412021,8336245.4689101167,8385102.5760324579,8727008.886462871,8778297.3846698832,9136092.5667610969,9242545.5909096971,9564360.8810696546,9620876.2527074311,10012719.328255849,10072042.183732346,10482116.508835595,10544384.708232772,10973546.194551365,11101885.129447576,11488049.498139368,11556649.355709448,12026717.14817173,12098717.863725794,12590691.874099379,12666260.428896831,13181170.906872848,13335901.392832138,13799408.600782365,13882646.973116402,14446719.182435561,0,0,0,0,0,0,0,0,0,0,0,0,0,0,{"$f":"BX70","v":0},0,0,0,0]
[null,null,"Less: Depreciation ",null,"USD",null,null,"USD",null,null,{"$f":"K80","v":0},{"$f":"L80","v":5415730.7750279699},5415730.7750279699,5415730.7750279699,5415730.7750279699,5415730.7750279699,5415730.7750279699,5415730.7750279699,5415730.7750279699,5415730.7750279699,5415730.7750279699,5415730.7750279699,5415730.7750279699,5415730.7750279699,5415730.7750279699,5415730.7750279699,5415730.7750279699,5415730.7750279699,5415730.7750279699,5415730.7750279699,5415730.7750279699,5415730.7750279699,5415730.7750279699,5415730.7750279699,5415730.7750279699,5415730.7750279699,5415730.7750279699,5415730.7750279699,5415730.7750279699,5415730.7750279699,5415730.7750279699,5415730.7750279699,5415730.7750279699,5415730.7750279699,5415730.7750279699,5415730.7750279699,5415730.7750279699,5415730.7750279699,5415730.7750279699,5415730.7750279699,5415730.7750279699,0,0,0,0,0,0,0,0,0,0,0,0,0,0,0,0,0,0,0,0,0,0,0,0,{"$f":"BX80","v":0},0,0,0,0]
[null,null,"EBIT ",null,"USD",null,null,"USD",null,null,{"$f":"K82-K83","v":0},{"$f":"L82-L83","v":-688230.77502796985},-605730.77502796985,-578529.30110988207,-380031.57502796967,-351462.95925177913,-143782.6022279691,-83035.730338511057,103511.66816422436,135019.61372814793,362370.22500534169,395457.10813343991,633336.64222644921,668080.08851203695,916980.25386347994,990221.5514803296,1213897.3857322866,1252202.2348362971,1524712.6465003015,1564930.511209921,1850080.2810415616,1892305.1577079846,2190685.5891030505,2278985.8485924806,2547246.4124586191,2593785.9578132322,2920514.6938821469,2969371.801004488,3311278.1114349011,3362566.6096419133,3720361.7917331271,3826814.8158817273,4148630.1060416847,4205145.4776794612,4596988.5532278791,4656311.4087043758,5066385.7338076252,5128653.9332048018,5557815.4195233956,5686154.3544196058,6072318.7231113985,11556649.355709448,12026717.14817173,12098717.863725794,12590691.874099379,12666260.428896831,13181170.906872848,13335901.392832138,13799408.600782365,13882646.973116402,14446719.182435561,0,0,0,0,0,0,0,0,0,0,0,0,0,0,{"$f":"BX82-BX83","v":0},0,0,0,0]
[null,null,"Taxes on EBIT",null,"Rate",{"$f":"InputC!G46","v":0.4},null,"USD",null,null,{"$f":"K84*$F$85","v":0},{"$f":"L84*$F$85","v":-275292.31001118798},-242292.31001118795,-231411.72044395283,-152012.63001118787,-140585.18370071167,-57513.040891187644,-33214.292135404423,41404.66726568975,54007.845491259177,144948.09000213668,158182.84325337596,253334.6568905797,267232.03540481481,366792.10154539201,396088.62059213186,485558.95429291466,500880.89393451886,609885.0586001206,625972.20448396844,740032.11241662467,756922.06308319385,876274.23564122024,911594.3394369923,1018898.5649834477,1037514.383125293,1168205.8775528588,1187748.7204017953,1324511.2445739605,1345026.6438567655,1488144.7166932509,1530725.9263526909,1659452.0424166741,1682058.1910717846,1838795.4212911518,1862524.5634817504,2026554.2935230501,2051461.5732819207,2223126.1678093583,2274461.7417678423,2428927.4892445593,4622659.7422837792,4810686.8592686923,4839487.1454903176,5036276.7496397523,5066504.1715587331,5272468.3627491398,5334360.5571328551,5519763.4403129462,5553058.789246561,5778687.6729742251,0,0,0,0,0,0,0,0,0,0,0,0,0,0,{"$f":"BX84*$F$85","v":0},0,0,0,0]
[]
[null,null,"Pre-tax Cash Flow",null,"USD",null,null,"USD",null,null,{"$f":"K73","v":-216629231.00111878},{"$f":"L73","v":4244006.8493150687},4318493.1506849313,4342739.9228176968,4521635.9671232877,4547108.1699161474,4734280.6834191792,4788794.1088474048,4956873.5785885639,4984980.7878069663,5189882.0564500904,5219404.9063380025,5433795.6544322409,5464803.86248683,5689127.1009728005,5754876.3207620727,5956413.4238697886,5990615.3382544545,6236217.1120583573,6272134.7211481733,6529127.3334091827,6566845.0647366727,6835761.2112707794,6915053.5363755217,7156765.1626114752,7198353.1841963548,7492816.3007564601,7536483.3905650787,7844623.9058620548,7890472.3124018032,8212930.9664231371,8308549.8325998746,8598515.7952712141,8649053.8909827117,9002193.7236898988,9055250.9757434409,9424818.8774524834,9480519.1271143742,9867286.0387726091,9982589.9992611371,10330532.598354943,10391914.978115981,10815540.601937968,10879975.182259014,11323338.895936606,11390975.684508316,11855005.377018398,11994047.838608671,12411669.350684375,12486190.405678988,12994514.004174616,0,0,0,0,0,0,0,0,0,0,0,0,0,0,{"$f":"BX73","v":0},0,0,0,0]
[null,null,"Less: Taxes",null,"USD",null,null,"USD",null,null,{"$f":"K85","v":0},{"$f":"L85","v":-275292.31001118798},-242292.31001118795,-231411.72044395283,-152012.63001118787,-140585.18370071167,-57513.040891187644,-33214.292135404423,41404.66726568975,54007.845491259177,144948.09000213668,158182.84325337596,253334.6568905797,267232.03540481481,366792.10154539201,396088.62059213186,485558.95429291466,500880.89393451886,609885.0586001206,625972.20448396844,740032.11241662467,756922.06308319385,876274.23564122024,911594.3394369923,1018898.5649834477,1037514.383125293,1168205.8775528588,1187748.7204017953,1324511.2445739605,1345026.6438567655,1488144.7166932509,1530725.9263526909,1659452.0424166741,1682058.1910717846,1838795.4212911518,1862524.5634817504,2026554.2935230501,2051461.5732819207,2223126.1678093583,2274461.7417678423,2428927.4892445593,4622659.7422837792,4810686.8592686923,4839487.1454903176,5036276.7496397523,5066504.1715587331,5272468.3627491398,5334360.5571328551,5519763.4403129462,5553058.789246561,5778687.6729742251,0,0,0,0,0,0,0,0,0,0,0,0,0,0,{"$f":"BX85","v":0},0,0,0,0]
[null,null,"After Tax Free Cash Flow",null,"USD",null,null,"USD",null,null,{"$f":"K87-K88","v":-216629231.00111878},{"$f":"L87-L88","v":4519299.1593262563},4560785.4606961189,4574151.6432616496,4673648.5971344756,4687693.3536168588,4791793.7243103664,4822008.4009828093,4915468.911322874,4930972.942315707,5044933.9664479541,5061222.0630846266,5180460.9975416614,5197571.8270820156,5322334.9994274089,5358787.7001699405,5470854.4695768738,5489734.4443199355,5626332.0534582371,5646162.5166642051,5789095.2209925577,5809923.0016534785,5959486.9756295588,6003459.1969385296,6137866.5976280272,6160838.8010710618,6324610.4232036015,6348734.6701632831,6520112.6612880938,6545445.6685450375,6724786.2497298867,6777823.9062471837,6939063.75285454,6966995.6999109276,7163398.3023987468,7192726.4122616909,7398264.5839294335,7429057.5538324537,7644159.8709632512,7708128.2574932948,7901605.1091103833,5769255.2358322022,6004853.742669276,6040488.0367686963,6287062.1462968541,6324471.5129495831,6582537.0142692579,6659687.2814758159,6891905.9103714284,6933131.6164324265,7215826.3312003911,0,0,0,0,0,0,0,0,0,0,0,0,0,0,{"$f":"BX87-BX88","v":0},0,0,0,0]
[]
[null,null,"Project IRR after Tax",null,"%",{"$f":"XIRR(K89:CB89,K4:CB4)","v":2.5737097859382631E-2}]
[]
[null,"Financing"]
[null,null,"Debt Size"]
[null,null,null,"Tenure Input","Year",{"$f":"InputC!G53","v":20}]
[null,null,null,"Repayment Period","Year",{"$f":"F79","v":"2025-01-01"},{"$f":"EDATE(F79,F95*12)","v":"2045-01-01"},null,{"$f":"SUM(K96:XFD96)","v":40},null,{"$f":"(AND(K3>=$F$96,K3<$G$96))*1","v":0},1,1,1,1,1,1,1,1,1,1,1,1,1,1,1,1,1,1,1,1,1,1,1,1,1,1,1,1,1,1,1,{"$f":"(AND(AQ3>=$F$96,AQ3<$G$96))*1","v":1},1,1,1,1,1,1,1,1,0,0,0,0,0,0,0,0,0,0,0,0,0,0,0,0,0,0,0,0,0,0,0,{"$f":"(AND(BW3>=$F$96,BW3<$G$96))*1","v":0},0,0,0,0,0]
[]
[null,null,"Income Taxes with Interest Deduction"]
[null,null,null,"EBIT",null,null,null,null,null,null,{"$f":"K84","v":0},-688230.77502796985,-605730.77502796985,-578529.30110988207,-380031.57502796967,-351462.95925177913,-143782.6022279691,-83035.730338511057,103511.66816422436,135019.61372814793,362370.22500534169,395457.10813343991,633336.64222644921,668080.08851203695,916980.25386347994,990221.5514803296,1213897.3857322866,1252202.2348362971,1524712.6465003015,1564930.511209921,1850080.2810415616,1892305.1577079846,2190685.5891030505,2278985.8485924806,2547246.4124586191,2593785.9578132322,2920514.6938821469,2969371.801004488,3311278.1114349011,3362566.6096419133,3720361.7917331271,3826814.8158817273,{"$f":"AQ84","v":4148630.1060416847},4205145.4776794612,4596988.5532278791,4656311.4087043758,5066385.7338076252,5128653.9332048018,5557815.4195233956,5686154.3544196058,6072318.7231113985,11556649.355709448,12026717.14817173,12098717.863725794,12590691.874099379,12666260.428896831,13181170.906872848,13335901.392832138,13799408.600782365,13882646.973116402,14446719.182435561,0,0,0,0,0,0,0,0,0,0,0,0,0,{"$f":"BW84","v":0},0,0,0,0,0]
[null,null,null,"Less: Interest",null,null,null,null,null,null,{"$f":"K133","v":0},{"$f":"L133","v":2389404.3032642924},2378089.736154201,2360405.6788479597,2342097.9110069815,2321494.962802934,2300082.1494361688,2276234.04468572,2251194.6487090252,2223842.8516126536,2195563.2760267253,2164545.0400849129,2132484.061798173,2097520.449044527,2061426.8599434283,2022257.88393118,1981497.7494270287,1937803.6664504784,1892828.1650567364,1844403.5343807188,1794554.4648340065,1741054.4051565288,1686019.90137391,1627121.8434581847,1566131.9078963269,1501441.3504052563,1435023.3572272076,1364282.2648144902,1291636.3592453883,1214419.3147304088,1135159.4123068913,1051067.2919504812,964258.72985265136,872805.81576065195,779065.69214393781,679929.27657704556,578286.2537222635,470942.65768985992,360919.94468301354,244876.50363224756,125340.20501962135,1.1427327990531921E-8,1.1598737910389899E-8,1.1772718979045749E-8,1.1949309763731435E-8,1.2128549410187407E-8,1.2310477651340218E-8,1.2495134816110322E-8,1.2682561838351977E-8,1.2872800265927257E-8,1.3065892269916165E-8,1.3261880653964907E-8,1.346080886377438E-8,1.3662720996730997E-8,1.3867661811681963E-8,1.4075676738857191E-8,1.4286811889940048E-8,1.4501114068289148E-8,1.4718630779313486E-8,1.4939410241003188E-8,1.5163501394618236E-8,1.5390953915537508E-8,1.5621818224270572E-8,1.5856145497634632E-8,1.6093987680099152E-8,{"$f":"BX133","v":1.6335397495300638E-8},1.6580428457730147E-8,1.68291348845961E-8,1.708157190786504E-8,1.7337795486483017E-8]
[null,null,null,"EBT",null,null,null,null,null,null,{"$f":"K99-K100","v":0},{"$f":"L99-L100","v":-3077635.0782922623},-2983820.5111821708,-2938934.9799578418,-2722129.4860349512,-2672957.9220547131,-2443864.7516641379,-2359269.7750242311,-2147682.9805448009,-2088823.2378845057,-1833193.0510213836,-1769087.931951473,-1499147.4195717238,-1429440.3605324901,-1144446.6060799484,-1032036.3324508504,-767600.36369474209,-685601.43161418126,-368115.51855643489,-279473.02317079785,55525.816207555123,151250.75255145575,504665.68772914051,651864.00513429591,981114.50456229225,1092344.6074079759,1485491.3366549392,1605089.5361899978,2019641.7521895128,2148147.2949115047,2585202.3794262358,2775747.5239312463,3184371.3761890335,3332339.6619188092,3817922.8610839415,3976382.1321273302,4488099.4800853617,4657711.2755149417,5196895.4748403821,5441277.8507873584,5946978.5180917773,11556649.355709437,12026717.148171719,12098717.863725783,12590691.874099368,12666260.428896818,13181170.906872835,13335901.392832125,13799408.600782352,13882646.973116389,14446719.182435548,-1.3261880653964907E-8,-1.346080886377438E-8,-1.3662720996730997E-8,-1.3867661811681963E-8,-1.4075676738857191E-8,-1.4286811889940048E-8,-1.4501114068289148E-8,-1.4718630779313486E-8,-1.4939410241003188E-8,-1.5163501394618236E-8,-1.5390953915537508E-8,-1.5621818224270572E-8,-1.5856145497634632E-8,-1.6093987680099152E-8,{"$f":"BX99-BX100","v":-1.6335397495300638E-8},-1.6580428457730147E-8,-1.68291348845961E-8,-1.708157190786504E-8,-1.7337795486483017E-8]
[null,null,null,"Taxes on EBT",null,{"$f":"InputC!G46","v":0.4},null,null,null,null,{"$f":"K101*$F$102","v":0},{"$f":"L101*$F$102","v":-1231054.031316905},-1193528.2044728685,-1175573.9919831369,-1088851.7944139806,-1069183.1688218853,-977545.90066565527,-943707.91000969242,-859073.19221792044,-835529.29515380226,-733277.22040855349,-707635.1727805892,-599658.96782868949,-571776.14421299601,-457778.64243197936,-412814.53298034018,-307040.14547789685,-274240.57264567254,-147246.20742257396,-111789.20926831914,22210.326483022051,60500.301020582301,201866.27509165622,260745.60205371838,392445.80182491691,436937.8429631904,594196.53466197569,642035.81447599921,807856.70087580523,859258.91796460189,1034080.9517704943,1110299.0095724985,1273748.5504756134,1332935.8647675237,1527169.1444335766,1590552.8528509322,1795239.7920341447,1863084.5102059767,2078758.1899361529,2176511.1403149436,2378791.4072367111,4622659.7422837755,4810686.8592686877,4839487.1454903139,5036276.7496397477,5066504.1715587275,5272468.3627491342,5334360.5571328504,5519763.4403129406,5553058.7892465554,5778687.6729742195,-5.3047522615859629E-9,-5.3843235455097528E-9,-5.4650883986923992E-9,-5.5470647246727851E-9,-5.6302706955428763E-9,-5.7147247559760194E-9,-5.8004456273156599E-9,-5.8874523117253947E-9,-5.9757640964012756E-9,-6.0654005578472949E-9,-6.1563815662150039E-9,-6.2487272897082289E-9,-6.3424581990538529E-9,-6.4375950720396611E-9,{"$f":"BX101*$F$102","v":-6.5341589981202554E-9},-6.6321713830920588E-9,-6.7316539538384407E-9,-6.8326287631460165E-9,-6.9351181945932069E-9]
[]
[null,null,"CFADS"]
[null,null,null,"EBITDA",null,null,null,"USD",null,null,{"$f":"K82","v":0},{"$f":"L82","v":4727500},4810000,4837201.4739180878,5035699.2,5064267.8157761907,5271948.1728000008,5332695.0446894588,5519242.4431921942,5550750.3887561178,5778101.0000333115,5811187.8831614098,6049067.4172544191,6083810.8635400068,6332711.0288914498,6405952.3265082994,6629628.1607602565,6667933.009864267,6940443.4215282714,6980661.2862378908,7265811.0560695315,7308035.9327359544,7606416.3641310204,7694716.6236204505,7962977.187486589,8009516.7328412021,8336245.4689101167,8385102.5760324579,8727008.886462871,8778297.3846698832,9136092.5667610969,9242545.5909096971,9564360.8810696546,9620876.2527074311,10012719.328255849,10072042.183732346,10482116.508835595,10544384.708232772,10973546.194551365,11101885.129447576,11488049.498139368,11556649.355709448,12026717.14817173,12098717.863725794,12590691.874099379,12666260.428896831,13181170.906872848,13335901.392832138,13799408.600782365,13882646.973116402,14446719.182435561,0,0,0,0,0,0,0,0,0,0,0,0,0,0,{"$f":"BX82","v":0},0,0,0,0]
[null,null,null,"Less: Working Capital Changes",null,null,null,"USD",null,null,{"$f":"-K71","v":0},{"$f":"-L67","v":-483493.15068493149},{"$f":"-M67","v":-8013.6986301369616},-2954.7017853225698,-19601.68177632126,-3096.4129833312472,-20507.843520778406,-6233.446461231797,-18467.92876157607,-3400.7363455214072,-22449.342634069966,-3564.0332401863998,-23488.785998770501,-3735.2382309987443,-24576.926865472458,-7492.077827577712,-22138.731144241174,-4102.934719344019,-26908.637860101648,-4300.2556198033271,-28157.157570631127,-4507.1453389336821,-29464.284860959509,-9007.9343846872216,-26548.937630185159,-4951.5237697332632,-32265.61950880941,-5190.0173137225211,-33765.795133436797,-5440.0916672636522,-35336.528069880442,-10834.157971862354,-31849.327488618786,-5977.2759262778563,-38703.242841231986,-6265.6034229531651,-40506.423394207843,-6567.9497352859471,-42394.574660358718,-13034.974407682428,-38221.769597987179,-7217.4778090412728,-46442.168640294578,-7566.1352330192458,-48610.296695991186,-7931.766225742409,-50880.785465935245,-15688.024369016755,-45885.69587452407,-8717.3173394231126,-55748.610823530005,1452205.1782609441,0,0,0,0,0,0,0,0,0,0,0,0,0,0,{"$f":"-BY67","v":0},0,0,0]
[null,null,null,"Less: Taxes Paid",null,null,null,"USD",null,null,{"$f":"-K102","v":0},{"$f":"-L102","v":1231054.031316905},1193528.2044728685,1175573.9919831369,1088851.7944139806,1069183.1688218853,977545.90066565527,943707.91000969242,859073.19221792044,835529.29515380226,733277.22040855349,707635.1727805892,599658.96782868949,571776.14421299601,457778.64243197936,412814.53298034018,307040.14547789685,274240.57264567254,147246.20742257396,111789.20926831914,-22210.326483022051,-60500.301020582301,-201866.27509165622,-260745.60205371838,-392445.80182491691,-436937.8429631904,-594196.53466197569,-642035.81447599921,-807856.70087580523,-859258.91796460189,-1034080.9517704943,-1110299.0095724985,-1273748.5504756134,-1332935.8647675237,-1527169.1444335766,-1590552.8528509322,-1795239.7920341447,-1863084.5102059767,-2078758.1899361529,-2176511.1403149436,-2378791.4072367111,-4622659.7422837755,-4810686.8592686877,-4839487.1454903139,-5036276.7496397477,-5066504.1715587275,-5272468.3627491342,-5334360.5571328504,-5519763.4403129406,-5553058.7892465554,-5778687.6729742195,5.3047522615859629E-9,5.3843235455097528E-9,5.4650883986923992E-9,5.5470647246727851E-9,5.6302706955428763E-9,5.7147247559760194E-9,5.8004456273156599E-9,5.8874523117253947E-9,5.9757640964012756E-9,6.0654005578472949E-9,6.1563815662150039E-9,6.2487272897082289E-9,6.3424581990538529E-9,6.4375950720396611E-9,{"$f":"-BX102","v":6.5341589981202554E-9},6.6321713830920588E-9,6.7316539538384407E-9,6.8326287631460165E-9,6.9351181945932069E-9]
[null,null,null,"Fixed CFADS",null,null,null,"USD",null,"Fixed",0,4244006.8493150687,4801986.3013698626,4834246.7721327655,5016097.5182236787,5061171.4027928598,5251440.3292792225,5326461.5982282273,5500774.5144306179,5547349.6524105966,5755651.6573992418,5807623.8499212237,6025578.631255649,6080075.6253090082,6308134.1020259773,6398460.248680722,6607489.4296160154,6663830.0751449233,6913534.7836681698,6976361.0306180874,7237653.8984989002,7303528.7873970205,7576952.0792700611,7685708.6892357636,7936428.249856404,8004565.2090714686,8303979.8494013073,8379912.5587187354,8693243.0913294349,8772857.2930026203,9100756.0386912171,9231711.4329378344,9532511.5535810366,9614898.9767811541,9974016.0854146164,10065776.580309393,10441610.085441388,10537816.758497486,10931151.619891006,11088850.155039893,11449827.728541382,11549431.877900407,11980274.979531435,12091151.728492776,12542081.577403389,12658328.662671089,13130290.121406913,13320213.368463121,13753522.904907841,13873929.655776978,14390970.57161203,1452205.1782609441,0,0,0,0,0,0,0,0,0,0,0,0,0,0,0,0,0,0]
[null,null,null,"Computed CFADS",null,null,null,"USD",null,"Computed",{"$f":"K105+K106+K107","v":0},{"$f":"L105+L106+L107","v":5475060.880631974},5995514.5058427313,6009820.7641159026,6104949.3126376588,6130354.5716147451,6228986.2299448773,6270169.5082379198,6359847.7066485379,6382878.9475643989,6488928.8778077951,6515259.0227018129,6625237.5990843382,6651851.7695220038,6765912.7444579564,6811274.7816610625,6914529.575093912,6938070.6477905959,7060780.9910907438,7088150.2398864068,7215443.5720158778,7243028.4863764383,7375085.8041784046,7424963.087182045,7543982.4480314869,7567627.3661082778,7709783.3147393316,7737876.7442427361,7885386.3904536292,7913598.3750380185,8066675.0869207224,8121412.4233653359,8258763.0031054234,8281963.1120136306,8446846.9409810398,8475223.7274584603,8646370.2934072427,8674732.2482915092,8852393.4299548529,8912339.0147249494,9071036.3213046715,6926772.1356166312,7169588.1202627476,7251664.5830024621,7505804.8277636413,7591824.4911123617,7857821.7586577786,7985852.811330271,8233759.4645949006,8320870.8665304221,8612282.8986378107,1452205.1782609494,5.3843235455097528E-9,5.4650883986923992E-9,5.5470647246727851E-9,5.6302706955428763E-9,5.7147247559760194E-9,5.8004456273156599E-9,5.8874523117253947E-9,5.9757640964012756E-9,6.0654005578472949E-9,6.1563815662150039E-9,6.2487272897082289E-9,6.3424581990538529E-9,6.4375950720396611E-9,{"$f":"BX105+BX106+BX107","v":6.5341589981202554E-9},6.6321713830920588E-9,6.7316539538384407E-9,6.8326287631460165E-9,6.9351181945932069E-9]
[null,null,null,"CFADS Difference",null,null,null,"USD",{"$f":"SUM(K110:XFD110)","v":60575874.717157394},"Difference",{"$f":"K108-K109","v":0},{"$f":"L108-L109","v":-1231054.0313169053},-1193528.2044728687,-1175573.9919831371,-1088851.7944139801,-1069183.1688218853,-977545.9006656548,-943707.91000969242,-859073.19221791998,-835529.29515380226,-733277.22040855326,-707635.1727805892,-599658.96782868914,-571776.14421299566,-457778.64243197907,-412814.53298034053,-307040.14547789656,-274240.5726456726,-147246.20742257405,-111789.20926831942,22210.326483022422,60500.301020582207,201866.27509165648,260745.60205371864,392445.80182491709,436937.84296319075,594196.53466197569,642035.81447599921,807856.70087580569,859258.91796460189,1034080.9517704947,1110299.0095724985,1273748.5504756132,1332935.8647675235,1527169.1444335766,1590552.8528509326,1795239.7920341454,1863084.5102059767,2078758.1899361536,2176511.1403149441,2378791.4072367102,4622659.7422837755,4810686.8592686877,4839487.1454903139,5036276.7496397477,5066504.1715587275,5272468.3627491342,5334360.5571328504,5519763.4403129406,5553058.7892465554,5778687.6729742195,-5.3551048040390015E-9,-5.3843235455097528E-9,-5.4650883986923992E-9,-5.5470647246727851E-9,-5.6302706955428763E-9,-5.7147247559760194E-9,-5.8004456273156599E-9,-5.8874523117253947E-9,-5.9757640964012756E-9,-6.0654005578472949E-9,-6.1563815662150039E-9,-6.2487272897082289E-9,-6.3424581990538529E-9,-6.4375950720396611E-9,{"$f":"BX108-BX109","v":-6.5341589981202554E-9},-6.6321713830920588E-9,-6.7316539538384407E-9,-6.8326287631460165E-9,-6.9351181945932069E-9]
[]
[null,null,null,"CFADS over Debt Repayment",null,null,null,"USD",null,null,{"$f":"K108*K96","v":0},{"$f":"L108*L96","v":4244006.8493150687},4801986.3013698626,4834246.7721327655,5016097.5182236787,5061171.4027928598,5251440.3292792225,5326461.5982282273,5500774.5144306179,5547349.6524105966,5755651.6573992418,5807623.8499212237,6025578.631255649,6080075.6253090082,6308134.1020259773,6398460.248680722,6607489.4296160154,6663830.0751449233,6913534.7836681698,6976361.0306180874,7237653.8984989002,7303528.7873970205,7576952.0792700611,7685708.6892357636,7936428.249856404,8004565.2090714686,8303979.8494013073,8379912.5587187354,8693243.0913294349,8772857.2930026203,9100756.0386912171,9231711.4329378344,9532511.5535810366,9614898.9767811541,9974016.0854146164,10065776.580309393,10441610.085441388,10537816.758497486,10931151.619891006,11088850.155039893,11449827.728541382,0,0,0,0,0,0,0,0,0,0,0,0,0,0,0,0,0,0,0,0,0,0,0,0,{"$f":"BX108*BX96","v":0},0,0,0,0]
[]
[null,null,null,"Periodic Discount Factor","% p.a/p.p",{"$f":"InputC!G54","v":0.03},{"$f":"F114/2","v":1.4999999999999999E-2},"USD",null,1,{"$f":"J114*(1+$G$114*K96)","v":1},{"$f":"K114*(1+$G$114*L96)","v":1.0149999999999999},1.0302249999999997,1.0456783749999996,1.0613635506249994,1.0772840038843743,1.0934432639426397,1.1098449129017791,1.1264925865953057,1.1433899753942351,1.1605408250251485,1.1779489374005256,1.1956181714615335,1.2135524440334564,1.2317557306939582,1.2502320666543674,1.2689855476541827,1.2880203308689953,1.3073406358320301,1.3269507453695104,1.3468550065500529,1.3670578316483035,1.387563699123028,1.4083771546098733,1.4295028119290214,1.4509453541079567,1.472709534419576,1.4948001774358695,1.5172221800974073,1.5399805127988682,1.5630802204908509,1.5865264237982135,1.6103243201551867,1.6344791849575142,1.6589963727318768,1.6838813183228549,1.7091395380976975,1.7347766311691628,1.7607982806367002,1.7872102548462505,1.8140184086689441,1.8140184086689441,1.8140184086689441,1.8140184086689441,1.8140184086689441,1.8140184086689441,1.8140184086689441,1.8140184086689441,1.8140184086689441,1.8140184086689441,1.8140184086689441,1.8140184086689441,1.8140184086689441,1.8140184086689441,1.8140184086689441,1.8140184086689441,1.8140184086689441,1.8140184086689441,1.8140184086689441,1.8140184086689441,1.8140184086689441,1.8140184086689441,1.8140184086689441,1.8140184086689441,1.8140184086689441,{"$f":"BW114*(1+$G$114*BX96)","v":1.8140184086689441},1.8140184086689441,1.8140184086689441,1.8140184086689441,1.8140184086689441]
[]
[null,null,null,"Debt Service over Repayment","x",{"$f":"InputC!G50","v":1.35},null,"USD",null,null,{"$f":"K112/$F$116","v":0},{"$f":"L112/$F$116","v":3143708.7772704209},3557026.8899036017,3580923.5349131594,3715627.7912767986,3749015.8539206367,3889955.7994660903,3945527.1097986866,4074647.7884671241,4109147.8906745156,4263445.672147586,4301943.5925342394,4463391.5787078878,4503759.7224511169,4672691.9274266493,4739600.1842079423,4894436.6145303817,4936170.4260332761,5121136.8767912369,5167674.837494879,5361225.1099991854,5410021.3239977928,5612557.0957556004,5693117.5475820471,5878835.7406343734,5929307.562275162,6151096.1847417085,6207342.6360879513,6439439.3269106923,6498412.8096315702,6741300.7694009012,6838304.7651391365,7061119.669319286,7122147.390208262,7388160.0632700855,7456130.8002291797,7734525.9892158424,7805790.1914796187,8097149.3480674122,8213963.0778073277,8481353.8729936164,0,0,0,0,0,0,0,0,0,0,0,0,0,0,0,0,0,0,0,0,0,0,0,0,{"$f":"BX112/$F$116","v":0},0,0,0,0]
[null,null,null,"PV of Debt Service with Sumproduct","USD",{"$f":"SUMPRODUCT(K116:CB116/K114:CB114)","v":159293620.21761951}]
[]
[null,null,null,"Cap Exp","USD",{"$f":"F32","v":216629231.00111878}]
[null,null,null,"Fees","USD",{"$f":"I134","v":0}]
[null,null,null,"Total","USD",{"$f":"SUM(F119:F120)","v":216629231.00111878}]
[]
[null,null,null,"Debt as Percent of Cap Exp + Fees","%",{"$f":"F117/F119","v":0.73532837411400331}]
[null,null,null,"Max Debt to Capital","%",{"$f":"InputC!G51","v":0.8}]
[null,null,null,"Debt from Max Debt to Capital","USD",{"$f":"F124*F121","v":173303384.80089504}]
[null,null,null,"Debt Applied","USD",{"$f":"MIN(F125,F117)","v":159293620.21761951}]
[]
[null,null,"Debt Balance"]
[null,null,null,"Opening Balance",null,null,null,"USD",null,null,{"$f":"J132","v":0},{"$f":"K132","v":159293620.21761951},158539315.74361339,157360378.58986399,156139860.73379877,154766330.85352895,153338809.96241125,151748936.31238133,150079643.24726835,148256190.10751024,146370885.06844836,144303002.67232752,142165604.1198782,139834696.60296848,137428457.32956189,134817192.26207867,132099849.96180192,129186911.09669857,126188544.33711576,122960235.62538126,119636964.3222671,116070293.67710193,112401326.75826067,108474789.56387898,104408793.85975513,100096090.02701709,95668223.815147176,90952150.987632677,86109090.616359219,80961287.648693919,75677294.153792754,70071152.796698749,64283915.323510095,58187054.384043463,51937712.809595853,45328618.438469708,38552416.914817572,31396177.179323994,24061329.645534236,16325100.242149837,8356013.667974757,7.6182186603546143E-7,7.7324919402599333E-7,7.8484793193638328E-7,7.9662065091542903E-7,8.085699606791605E-7,8.2069851008934793E-7,8.3300898774068817E-7,8.455041225567985E-7,8.5818668439515048E-7,8.7105948466107777E-7,8.841253769309939E-7,8.9738725758495875E-7,9.1084806644873318E-7,9.2451078744546422E-7,9.3837844925714613E-7,9.524541259960033E-7,9.6674093788594326E-7,9.8124205195423237E-7,9.9596068273354596E-7,1.0109000929745491E-6,1.0260635943691673E-6,1.0414545482847049E-6,1.0570763665089756E-6,1.0729325120066102E-6,{"$f":"BW132","v":1.0890264996867093E-6},1.1053618971820098E-6,1.12194232563974E-6,1.1387714605243361E-6,1.1558530324322012E-6]
[null,null,null,"Add: Draw",null,{"$f":"F126","v":159293620.21761951},null,"USD",null,null,{"$f":"$F$130*K5","v":159293620.21761951},0,0,0,0,0,0,0,0,0,0,0,0,0,0,0,0,0,0,0,0,0,0,0,0,0,0,0,0,0,0,0,{"$f":"$F$130*AQ5","v":0},0,0,0,0,0,0,0,0,0,0,0,0,0,0,0,0,0,0,0,0,0,0,0,0,0,0,0,0,0,0,0,{"$f":"$F$130*BW5","v":0},0,0,0,0,0]
[null,null,null,"Less: Repayment (DS - Interest)",null,null,null,"USD",null,null,{"$f":"K116-K133","v":0},754304.4740061285,1178937.1537494007,1220517.8560651997,1373529.8802698171,1427520.8911177027,1589873.6500299214,1669293.0651129666,1823453.1397580989,1885305.039061862,2067882.3961208607,2137398.5524493265,2330907.5169097148,2406239.2734065899,2611265.0674832212,2717342.3002767623,2912938.8651033528,2998366.759582798,3228308.7117345007,3323271.30311416,3566670.6451651789,3668966.9188412642,3926537.1943816906,4065995.7041238621,4312703.8327380465,4427866.2118699057,4716072.8275145013,4843060.3712734608,5147802.9676653035,5283993.4949011616,5606141.3570940103,5787237.4731886555,{"$f":"AQ116-AQ133","v":6096860.9394666348},6249341.5744476104,6609094.3711261479,6776201.5236521345,7156239.7354935789,7334847.5337897586,7736229.4033843987,7969086.5741750803,8356013.6679739952,-1.1427327990531921E-8,-1.1598737910389899E-8,-1.1772718979045749E-8,-1.1949309763731435E-8,-1.2128549410187407E-8,-1.2310477651340218E-8,-1.2495134816110322E-8,-1.2682561838351977E-8,-1.2872800265927257E-8,-1.3065892269916165E-8,-1.3261880653964907E-8,-1.346080886377438E-8,-1.3662720996730997E-8,-1.3867661811681963E-8,-1.4075676738857191E-8,-1.4286811889940048E-8,-1.4501114068289148E-8,-1.4718630779313486E-8,-1.4939410241003188E-8,-1.5163501394618236E-8,-1.5390953915537508E-8,-1.5621818224270572E-8,-1.5856145497634632E-8,{"$f":"BW116-BW133","v":-1.6093987680099152E-8},-1.6335397495300638E-8,-1.6580428457730147E-8,-1.68291348845961E-8,-1.708157190786504E-8,-1.7337795486483017E-8]
[null,null,null,"Closing Balance",null,null,null,"USD",null,null,{"$f":"K129+K130-K131","v":159293620.21761951},{"$f":"L129+L130-L131","v":158539315.74361339},157360378.58986399,156139860.73379877,154766330.85352895,153338809.96241125,151748936.31238133,150079643.24726835,148256190.10751024,146370885.06844836,144303002.67232752,142165604.1198782,139834696.60296848,137428457.32956189,134817192.26207867,132099849.96180192,129186911.09669857,126188544.33711576,122960235.62538126,119636964.3222671,116070293.67710193,112401326.75826067,108474789.56387898,104408793.85975513,100096090.02701709,95668223.815147176,90952150.987632677,86109090.616359219,80961287.648693919,75677294.153792754,70071152.796698749,64283915.323510095,58187054.384043463,51937712.809595853,45328618.438469708,38552416.914817572,31396177.179323994,24061329.645534236,16325100.242149837,8356013.667974757,7.6182186603546143E-7,7.7324919402599333E-7,7.8484793193638328E-7,7.9662065091542903E-7,8.085699606791605E-7,8.2069851008934793E-7,8.3300898774068817E-7,8.455041225567985E-7,8.5818668439515048E-7,8.7105948466107777E-7,8.841253769309939E-7,8.9738725758495875E-7,9.1084806644873318E-7,9.2451078744546422E-7,9.3837844925714613E-7,9.524541259960033E-7,9.6674093788594326E-7,9.8124205195423237E-7,9.9596068273354596E-7,1.0109000929745491E-6,1.0260635943691673E-6,1.0414545482847049E-6,1.0570763665089756E-6,1.0729325120066102E-6,1.0890264996867093E-6,{"$f":"BX129+BX130-BX131","v":1.1053618971820098E-6},1.12194232563974E-6,1.1387714605243361E-6,1.1558530324322012E-6,1.1731908279186842E-6]
[null,null,null,"Interest Cost",null,{"$f":"G114","v":1.4999999999999999E-2},null,"USD",null,null,{"$f":"K129*$F$133","v":0},{"$f":"L129*$F$133","v":2389404.3032642924},2378089.736154201,2360405.6788479597,2342097.9110069815,2321494.962802934,2300082.1494361688,2276234.04468572,2251194.6487090252,2223842.8516126536,2195563.2760267253,2164545.0400849129,2132484.061798173,2097520.449044527,2061426.8599434283,2022257.88393118,1981497.7494270287,1937803.6664504784,1892828.1650567364,1844403.5343807188,1794554.4648340065,1741054.4051565288,1686019.90137391,1627121.8434581847,1566131.9078963269,1501441.3504052563,1435023.3572272076,1364282.2648144902,1291636.3592453883,1214419.3147304088,1135159.4123068913,1051067.2919504812,964258.72985265136,872805.81576065195,779065.69214393781,679929.27657704556,578286.2537222635,470942.65768985992,360919.94468301354,244876.50363224756,125340.20501962135,1.1427327990531921E-8,1.1598737910389899E-8,1.1772718979045749E-8,1.1949309763731435E-8,1.2128549410187407E-8,1.2310477651340218E-8,1.2495134816110322E-8,1.2682561838351977E-8,1.2872800265927257E-8,1.3065892269916165E-8,1.3261880653964907E-8,1.346080886377438E-8,1.3662720996730997E-8,1.3867661811681963E-8,1.4075676738857191E-8,1.4286811889940048E-8,1.4501114068289148E-8,1.4718630779313486E-8,1.4939410241003188E-8,1.5163501394618236E-8,1.5390953915537508E-8,1.5621818224270572E-8,1.5856145497634632E-8,1.6093987680099152E-8,{"$f":"BX129*$F$133","v":1.6335397495300638E-8},1.6580428457730147E-8,1.68291348845961E-8,1.708157190786504E-8,1.7337795486483017E-8]
[null,null,null,"Fees on Debt",null,{"$f":"InputC!$G$55","v":0},null,"Fixed Fee",{"$f":"SUM(K134:XFD134)","v":0},null,{"$f":"$G$134*K5","v":0},0,0,0,0,0,0,0,0,0,0,0,0,0,0,0,0,0,0,0,0,0,0,0,0,0,0,0,0,0,0,0,{"$f":"$G$134*AQ5","v":0},0,0,0,0,0,0,0,0,0,0,0,0,0,0,0,0,0,0,0,0,0,0,0,0,0,0,0,0,0,0,0,{"$f":"$G$134*BW5","v":0},0,0,0,0,0]
[null,null,null,"Computed Fees",null,{"$f":"InputC!$G$55","v":0},{"$f":"F135*F126","v":0},"Computed Fee"]
[null,null,null,null,null,null,{"$f":"G135-G134","v":0},"Fee Dif"]
[null,null,null,"Check of Closing Balance"]
[]
[null,null,"Uses and Sources"]
[null,null,null,"Capital Expenditures",null,null,null,"USD",null,null,{"$f":"K72","v":216629231.00111878},0,0,0,0,0,0,0,0,0,0,0,0,0,0,0,0,0,0,0,0,0,0,0,0,0,0,0,0,0,0,0,{"$f":"AQ72","v":0},0,0,0,0,0,0,0,0,0,0,0,0,0,0,0,0,0,0,0,0,0,0,0,0,0,0,0,0,0,0,0,{"$f":"BW72","v":0},0,0,0,0,0]
[null,null,null,"Fees on Debt",null,null,null,"USD",null,null,{"$f":"K134","v":0},{"$f":"L134","v":0},0,0,0,0,0,0,0,0,0,0,0,0,0,0,0,0,0,0,0,0,0,0,0,0,0,0,0,0,0,0,0,0,0,0,0,0,0,0,0,0,0,0,0,0,0,0,0,0,0,0,0,0,0,0,0,0,0,0,0,0,0,0,0,{"$f":"BX134","v":0},0,0,0,0]
[null,null,null,"Total Uses",null,null,null,"USD",null,null,{"$f":"SUM(K140:K141)","v":216629231.00111878},{"$f":"SUM(L140:L141)","v":0},0,0,0,0,0,0,0,0,0,0,0,0,0,0,0,0,0,0,0,0,0,0,0,0,0,0,0,0,0,0,0,0,0,0,0,0,0,0,0,0,0,0,0,0,0,0,0,0,0,0,0,0,0,0,0,0,0,0,0,0,0,0,0,{"$f":"SUM(BX140:BX141)","v":0},0,0,0,0]
[]
[null,null,null,"Debt Issued",null,null,null,"USD",null,{"$f":"K144/K142","v":0.73532837411400331},{"$f":"K130","v":159293620.21761951},{"$f":"L130","v":0},0,0,0,0,0,0,0,0,0,0,0,0,0,0,0,0,0,0,0,0,0,0,0,0,0,0,0,0,0,0,0,0,0,0,0,0,0,0,0,0,0,0,0,0,0,0,0,0,0,0,0,0,0,0,0,0,0,0,0,0,0,0,0,{"$f":"BX130","v":0},0,0,0,0]
[null,null,null,"Equity Issued",null,null,null,"USD",null,{"$f":"K145/K142","v":0.26467162588599669},{"$f":"K142-K144","v":57335610.783499271},{"$f":"L142-L144","v":0},0,0,0,0,0,0,0,0,0,0,0,0,0,0,0,0,0,0,0,0,0,0,0,0,0,0,0,0,0,0,0,0,0,0,0,0,0,0,0,0,0,0,0,0,0,0,0,0,0,0,0,0,0,0,0,0,0,0,0,0,0,0,0,{"$f":"BX142-BX144","v":0},0,0,0,0]
[null,null,null,"Total Sources",null,null,null,"USD",null,{"$f":"K146/K142","v":1},{"$f":"SUM(K144:K145)","v":216629231.00111878},{"$f":"SUM(L144:L145)","v":0},0,0,0,0,0,0,0,0,0,0,0,0,0,0,0,0,0,0,0,0,0,0,0,0,0,0,0,0,0,0,0,0,0,0,0,0,0,0,0,0,0,0,0,0,0,0,0,0,0,0,0,0,0,0,0,0,0,0,0,0,0,0,0,{"$f":"SUM(BX144:BX145)","v":0},0,0,0,0]
[]
[null,"Cash Flow Waterfall"]
[]
[null,null,"Equity Cash Flow"]
[null,null,null,"CFADS",null,null,null,"USD",null,null,{"$f":"K108","v":0},4244006.8493150687,4801986.3013698626,4834246.7721327655,5016097.5182236787,5061171.4027928598,5251440.3292792225,5326461.5982282273,5500774.5144306179,5547349.6524105966,5755651.6573992418,5807623.8499212237,6025578.631255649,6080075.6253090082,6308134.1020259773,6398460.248680722,6607489.4296160154,6663830.0751449233,6913534.7836681698,6976361.0306180874,7237653.8984989002,7303528.7873970205,7576952.0792700611,7685708.6892357636,7936428.249856404,8004565.2090714686,8303979.8494013073,8379912.5587187354,8693243.0913294349,8772857.2930026203,9100756.0386912171,9231711.4329378344,{"$f":"AQ108","v":9532511.5535810366},9614898.9767811541,9974016.0854146164,10065776.580309393,10441610.085441388,10537816.758497486,10931151.619891006,11088850.155039893,11449827.728541382,11549431.877900407,11980274.979531435,12091151.728492776,12542081.577403389,12658328.662671089,13130290.121406913,13320213.368463121,13753522.904907841,13873929.655776978,14390970.57161203,1452205.1782609441,0,0,0,0,0,0,0,0,0,0,0,0,{"$f":"BW108","v":0},0,0,0,0,0]
[null,null,null,"Less: Debt Servcice",null,null,null,"USD",null,null,{"$f":"K133+K131","v":0},3143708.7772704209,3557026.8899036017,3580923.5349131594,3715627.7912767986,3749015.8539206367,3889955.7994660903,3945527.1097986866,4074647.7884671241,4109147.8906745156,4263445.672147586,4301943.5925342394,4463391.5787078878,4503759.7224511169,4672691.9274266493,4739600.1842079423,4894436.6145303817,4936170.4260332761,5121136.8767912369,5167674.837494879,5361225.1099991854,5410021.3239977928,5612557.0957556004,5693117.5475820471,5878835.7406343734,5929307.562275162,6151096.1847417094,6207342.6360879513,6439439.3269106913,6498412.8096315702,6741300.7694009021,6838304.7651391365,{"$f":"AQ133+AQ131","v":7061119.669319286},7122147.390208262,7388160.0632700855,7456130.8002291797,7734525.9892158424,7805790.1914796187,8097149.3480674122,8213963.0778073277,8481353.8729936164,0,0,0,0,0,0,0,0,0,0,0,0,0,0,0,0,0,0,0,0,0,0,0,{"$f":"BW133+BW131","v":0},0,0,0,0,0]
[null,null,null,"Cash to Equity",null,null,null,"USD",null,null,{"$f":"K151-K152","v":0},{"$f":"L151-L152","v":1100298.0720446478},1244959.4114662609,1253323.2372196061,1300469.7269468801,1312155.5488722231,1361484.5298131322,1380934.4884295408,1426126.7259634938,1438201.761736081,1492205.9852516558,1505680.2573869843,1562187.0525477612,1576315.9028578913,1635442.1745993281,1658860.0644727796,1713052.8150856337,1727659.6491116472,1792397.9068769328,1808686.1931232084,1876428.7884997148,1893507.4633992277,1964394.9835144607,1992591.1416537166,2057592.5092220306,2075257.6467963066,2152883.6646595979,2172569.9226307841,2253803.7644187436,2274444.4833710501,2359455.269290315,2393406.6677986979,2471391.8842617506,2492751.586572892,2585856.0221445309,2609645.7800802132,2707084.0962255457,2732026.5670178672,2834002.2718235943,2874887.0772325657,2968473.8555477653,11549431.877900407,11980274.979531435,12091151.728492776,12542081.577403389,12658328.662671089,13130290.121406913,13320213.368463121,13753522.904907841,13873929.655776978,14390970.57161203,1452205.1782609441,0,0,0,0,0,0,0,0,0,0,0,0,0,{"$f":"BX151-BX152","v":0},0,0,0,0]
[]
[null,null,null,"Total Expenditure",null,null,null,null,null,null,{"$f":"K32","v":216629231.00111878}]
[null,null,null,"Less: Debt",null,{"$f":"F130","v":159293620.21761951},null,null,null,null,{"$f":"$F$156*K5","v":159293620.21761951},0,0,0,0,0,0,0,0,0,0,0,0,0,0,0,0,0,0,0,0,0,0,0,0,0,0,0,0,0,0,0,{"$f":"$F$156*AQ5","v":0},0,0,0,0,0,0,0,0,0,0,0,0,0,0,0,0,0,0,0,0,0,0,0,0,0,0,0,0,0,0,0,{"$f":"$F$156*BW5","v":0},0,0,0,0,0]
[null,null,null,"Plus: Fees on Debt",null,{"$f":"InputC!G55","v":0},{"$f":"F157*F130","v":0},null,null,null,{"$f":"$G$157*K5","v":0},0,0,0,0,0,0,0,0,0,0,0,0,0,0,0,0,0,0,0,0,0,0,0,0,0,0,0,0,0,0,0,{"$f":"$G$157*AQ5","v":0},0,0,0,0,0,0,0,0,0,0,0,0,0,0,0,0,0,0,0,0,0,0,0,0,0,0,0,0,0,0,0,{"$f":"$G$157*BW5","v":0},0,0,0,0,0]
[null,null,null,"Net Equity Invested",null,null,null,null,null,null,{"$f":"K155-K156+K157","v":57335610.783499271},{"$f":"L155-L156+L157","v":0},0,0,0,0,0,0,0,0,0,0,0,0,0,0,0,0,0,0,0,0,0,0,0,0,0,0,0,0,0,0,0,0,0,0,0,0,0,0,0,0,0,0,0,0,0,0,0,0,0,0,0,0,0,0,0,0,0,0,0,0,0,0,0,{"$f":"BX155-BX156+BX157","v":0},0,0,0,0]
[]
[null,null,null,"Equity Cash Flow",null,null,null,null,null,null,{"$f":"K153-K158","v":-57335610.783499271},{"$f":"L153-L158","v":1100298.0720446478},1244959.4114662609,1253323.2372196061,1300469.7269468801,1312155.5488722231,1361484.5298131322,1380934.4884295408,1426126.7259634938,1438201.761736081,1492205.9852516558,1505680.2573869843,1562187.0525477612,1576315.9028578913,1635442.1745993281,1658860.0644727796,1713052.8150856337,1727659.6491116472,1792397.9068769328,1808686.1931232084,1876428.7884997148,1893507.4633992277,1964394.9835144607,1992591.1416537166,2057592.5092220306,2075257.6467963066,2152883.6646595979,2172569.9226307841,2253803.7644187436,2274444.4833710501,2359455.269290315,2393406.6677986979,2471391.8842617506,2492751.586572892,2585856.0221445309,2609645.7800802132,2707084.0962255457,2732026.5670178672,2834002.2718235943,2874887.0772325657,2968473.8555477653,11549431.877900407,11980274.979531435,12091151.728492776,12542081.577403389,12658328.662671089,13130290.121406913,13320213.368463121,13753522.904907841,13873929.655776978,14390970.57161203,1452205.1782609441,0,0,0,0,0,0,0,0,0,0,0,0,0,{"$f":"BX153-BX158","v":0},0,0,0,0]
[null,null,null,"Equity IRR",null,{"$f":"XIRR(K160:CB160,K4:CB4)","v":7.9999998211860726E-2}]
[]
[null,null,null,"Target IRR",null,{"$f":"InputC!G57","v":0.08}]
[null,null,null,"NPV at Target IRR",null,{"$f":"XNPV(F163,K160:CB160,K4:CB4)","v":-7.7998265624046326E-9},"NPV"]
[]
[null,"Valuation with Sale"]
[null,null,null,"Discount Rate for Valuation"]
[null,null,null,"NPV of Prospective Cash Flow"]
[]
[null,null,null,"Sale Date Flag"]
[null,null,null,"Holding Company Flag"]
[]
[null,null,null,"Cash Flow Over Holding Period"]
[null,null,null,"IRR over Holding Period"]
[]
[null,null,null,"NPV of Cash Flow at Target IRR"]

{"sheet":"UDFInputs","index":4,"n_rows":340,"n_cols":16384,"rows_kept":340,"cut":false,"hidden":false,"merged":[]}
[{"$f":"RIGHT(CELL(\"filename\", A1), LEN(CELL(\"filename\", A1)) - SEARCH(\"]\", CELL(\"filename\", A1)))","v":"UDFInputs"},null,null,null,null,"Run Macor By Cangning h th number  -->",12]
[null,null,null,null,"Case Sensitive Variable Name in UDF",null,"Input",null,null,0,1,2,3,4,5,6,7,8,9,10,11,12,13,14,15,16,17,18,19,20,21,22,23,24,25,26,27,28,29,30,31,32,33,34,35,36,37,38,39,40,41,42,43,44,45,46,47,48,49,50,51,52,53,54,55,56,57,58,59,60,61,62,63,64,65,66,67,68,69,70,71,72,73,74,75,76,77,78,79,80,81,82,83,84,85,86,87,88,89,90,91,92,93,94,95,96,97,98,99,100,101,102,103,104,105,106,107,108,109,110,111,112,113,114,115,116,117,118,119,120,121,122,123,124,0,0,0,0,0,0,0,0,0,0,0,0,0,0,0,0,0,0,0,0,0,0,0,0,0,0,0,0,0,0,0,0,0,0,0,0,0,0,0,0,0,0,0,0,0,0,0,0,0,0,0,0,0,0,0,0,0,0,0,0]
[null,null,null,null,"(Corresponds to program)","Labels - You can Name this Yourself","Type","Constant","Units",{"$f":"'Model - Structuring'!K4","v":"2024-12-31"},{"$f":"'Model - Structuring'!L4","v":"2025-06-30"},{"$f":"'Model - Structuring'!M4","v":"2025-12-31"},{"$f":"'Model - Structuring'!N4","v":"2026-06-30"},{"$f":"'Model - Structuring'!O4","v":"2026-12-31"},{"$f":"'Model - Structuring'!P4","v":"2027-06-30"},{"$f":"'Model - Structuring'!Q4","v":"2027-12-31"},{"$f":"'Model - Structuring'!R4","v":"2028-06-30"},{"$f":"'Model - Structuring'!S4","v":"2028-12-31"},{"$f":"'Model - Structuring'!T4","v":"2029-06-30"},{"$f":"'Model - Structuring'!U4","v":"2029-12-31"},{"$f":"'Model - Structuring'!V4","v":"2030-06-30"},{"$f":"'Model - Structuring'!W4","v":"2030-12-31"},{"$f":"'Model - Structuring'!X4","v":"2031-06-30"},{"$f":"'Model - Structuring'!Y4","v":"2031-12-31"},{"$f":"'Model - Structuring'!Z4","v":"2032-06-30"},{"$f":"'Model - Structuring'!AA4","v":"2032-12-31"},{"$f":"'Model - Structuring'!AB4","v":"2033-06-30"},{"$f":"'Model - Structuring'!AC4","v":"2033-12-31"},{"$f":"'Model - Structuring'!AD4","v":"2034-06-30"},{"$f":"'Model - Structuring'!AE4","v":"2034-12-31"},{"$f":"'Model - Structuring'!AF4","v":"2035-06-30"},{"$f":"'Model - Structuring'!AG4","v":"2035-12-31"},{"$f":"'Model - Structuring'!AH4","v":"2036-06-30"},{"$f":"'Model - Structuring'!AI4","v":"2036-12-31"},{"$f":"'Model - Structuring'!AJ4","v":"2037-06-30"},{"$f":"'Model - Structuring'!AK4","v":"2037-12-31"},{"$f":"'Model - Structuring'!AL4","v":"2038-06-30"},{"$f":"'Model - Structuring'!AM4","v":"2038-12-31"},{"$f":"'Model - Structuring'!AN4","v":"2039-06-30"},{"$f":"'Model - Structuring'!AO4","v":"2039-12-31"},{"$f":"'Model - Structuring'!AP4","v":"2040-06-30"},{"$f":"'Model - Structuring'!AQ4","v":"2040-12-31"},{"$f":"'Model - Structuring'!AR4","v":"2041-06-30"},{"$f":"'Model - Structuring'!AS4","v":"2041-12-31"},{"$f":"'Model - Structuring'!AT4","v":"2042-06-30"},{"$f":"'Model - Structuring'!AU4","v":"2042-12-31"},{"$f":"'Model - Structuring'!AV4","v":"2043-06-30"},{"$f":"'Model - Structuring'!AW4","v":"2043-12-31"},{"$f":"'Model - Structuring'!AX4","v":"2044-06-30"},{"$f":"'Model - Structuring'!AY4","v":"2044-12-31"},{"$f":"'Model - Structuring'!AZ4","v":"2045-06-30"},{"$f":"'Model - Structuring'!BA4","v":"2045-12-31"},{"$f":"'Model - Structuring'!BB4","v":"2046-06-30"},{"$f":"'Model - Structuring'!BC4","v":"2046-12-31"},{"$f":"'Model - Structuring'!BD4","v":"2047-06-30"},{"$f":"'Model - Structuring'!BE4","v":"2047-12-31"},{"$f":"'Model - Structuring'!BF4","v":"2048-06-30"},{"$f":"'Model - Structuring'!BG4","v":"2048-12-31"},{"$f":"'Model - Structuring'!BH4","v":"2049-06-30"},{"$f":"'Model - Structuring'!BI4","v":"2049-12-31"},{"$f":"'Model - Structuring'!BJ4","v":"2050-06-30"},{"$f":"'Model - Structuring'!BK4","v":"2050-12-31"},{"$f":"'Model - Structuring'!BL4","v":"2051-06-30"},{"$f":"'Model - Structuring'!BM4","v":"2051-12-31"},{"$f":"'Model - Structuring'!BN4","v":"2052-06-30"},{"$f":"'Model - Structuring'!BO4","v":"2052-12-31"},{"$f":"'Model - Structuring'!BP4","v":"2053-06-30"},{"$f":"'Model - Structuring'!BQ4","v":"2053-12-31"},{"$f":"'Model - Structuring'!BR4","v":"2054-06-30"},{"$f":"'Model - Structuring'!BS4","v":"2054-12-31"},{"$f":"'Model - Structuring'!BT4","v":"2055-06-30"},{"$f":"'Model - Structuring'!BU4","v":"2055-12-31"},{"$f":"'Model - Structuring'!BV4","v":"2056-06-30"},{"$f":"'Model - Structuring'!BW4","v":"2056-12-31"},{"$f":"'Model - Structuring'!BX4","v":"2057-06-30"},{"$f":"'Model - Structuring'!BY4","v":"2057-12-31"},{"$f":"'Model - Structuring'!BZ4","v":"2058-06-30"},{"$f":"'Model - Structuring'!CA4","v":"2058-12-31"},{"$f":"'Model - Structuring'!CB4","v":"2059-06-30"},{"$f":"'Model - Structuring'!CC4","v":"00:00:00"},{"$f":"'Model - Structuring'!CD4","v":"00:00:00"},{"$f":"'Model - Structuring'!CE4","v":"00:00:00"},{"$f":"'Model - Structuring'!CF4","v":"00:00:00"},{"$f":"'Model - Structuring'!CG4","v":"00:00:00"},{"$f":"'Model - Structuring'!CH4","v":"00:00:00"},{"$f":"'Model - Structuring'!CI4","v":"00:00:00"},{"$f":"'Model - Structuring'!CJ4","v":"00:00:00"},{"$f":"'Model - Structuring'!CK4","v":"00:00:00"},{"$f":"'Model - Structuring'!CL4","v":"00:00:00"},{"$f":"'Model - Structuring'!CM4","v":"00:00:00"},{"$f":"'Model - Structuring'!CN4","v":"00:00:00"},{"$f":"'Model - Structuring'!CO4","v":"00:00:00"},{"$f":"'Model - Structuring'!CP4","v":"00:00:00"},{"$f":"'Model - Structuring'!CQ4","v":"00:00:00"},{"$f":"'Model - Structuring'!CR4","v":"00:00:00"},{"$f":"'Model - Structuring'!CS4","v":"00:00:00"},{"$f":"'Model - Structuring'!CT4","v":"00:00:00"},{"$f":"'Model - Structuring'!CU4","v":"00:00:00"},{"$f":"'Model - Structuring'!CV4","v":"00:00:00"},{"$f":"'Model - Structuring'!CW4","v":"00:00:00"},{"$f":"'Model - Structuring'!CX4","v":"00:00:00"},{"$f":"'Model - Structuring'!CY4","v":"00:00:00"},{"$f":"'Model - Structuring'!CZ4","v":"00:00:00"},{"$f":"'Model - Structuring'!DA4","v":"00:00:00"},{"$f":"'Model - Structuring'!DB4","v":"00:00:00"},{"$f":"'Model - Structuring'!DC4","v":"00:00:00"},{"$f":"'Model - Structuring'!DD4","v":"00:00:00"},{"$f":"'Model - Structuring'!DE4","v":"00:00:00"},{"$f":"'Model - Structuring'!DF4","v":"00:00:00"},{"$f":"'Model - Structuring'!DG4","v":"00:00:00"},{"$f":"'Model - Structuring'!DH4","v":"00:00:00"},{"$f":"'Model - Structuring'!DI4","v":"00:00:00"},{"$f":"'Model - Structuring'!DJ4","v":"00:00:00"},{"$f":"'Model - Structuring'!DK4","v":"00:00:00"},{"$f":"'Model - Structuring'!DL4","v":"00:00:00"},{"$f":"'Model - Structuring'!DM4","v":"00:00:00"},{"$f":"'Model - Structuring'!DN4","v":"00:00:00"},{"$f":"'Model - Structuring'!DO4","v":"00:00:00"},{"$f":"'Model - Structuring'!DP4","v":"00:00:00"},{"$f":"'Model - Structuring'!DQ4","v":"00:00:00"},{"$f":"'Model - Structuring'!DR4","v":"00:00:00"},{"$f":"'Model - Structuring'!DS4","v":"00:00:00"},{"$f":"'Model - Structuring'!DT4","v":"00:00:00"},{"$f":"'Model - Structuring'!DU4","v":"00:00:00"},{"$f":"'Model - Structuring'!DV4","v":"00:00:00"},{"$f":"'Model - Structuring'!DW4","v":"00:00:00"},{"$f":"'Model - Structuring'!DX4","v":"00:00:00"},{"$f":"'Model - Structuring'!DY4","v":"00:00:00"},{"$f":"'Model - Structuring'!DZ4","v":"00:00:00"},{"$f":"'Model - Structuring'!EA4","v":"00:00:00"},{"$f":"'Model - Structuring'!EB4","v":"00:00:00"},{"$f":"'Model - Structuring'!EC4","v":"00:00:00"},{"$f":"'Model - Structuring'!ED4","v":"00:00:00"},{"$f":"'Model - Structuring'!EE4","v":"00:00:00"},{"$f":"'Model - Structuring'!EF4","v":"00:00:00"},{"$f":"'Model - Structuring'!EG4","v":"00:00:00"},{"$f":"'Model - Structuring'!EH4","v":"00:00:00"},{"$f":"'Model - Structuring'!EI4","v":"00:00:00"},{"$f":"'Model - Structuring'!EJ4","v":"00:00:00"},{"$f":"'Model - Structuring'!EK4","v":"00:00:00"},{"$f":"'Model - Structuring'!EL4","v":"00:00:00"},{"$f":"'Model - Structuring'!EM4","v":"00:00:00"},{"$f":"'Model - Structuring'!EN4","v":"00:00:00"},{"$f":"'Model - Structuring'!EO4","v":"00:00:00"},{"$f":"'Model - Structuring'!EP4","v":"00:00:00"},{"$f":"'Model - Structuring'!EQ4","v":"00:00:00"},{"$f":"'Model - Structuring'!ER4","v":"00:00:00"},{"$f":"'Model - Structuring'!ES4","v":"00:00:00"},{"$f":"'Model - Structuring'!ET4","v":"00:00:00"},{"$f":"'Model - Structuring'!EU4","v":"00:00:00"},{"$f":"'Model - Structuring'!EV4","v":"00:00:00"},{"$f":"'Model - Structuring'!EW4","v":"00:00:00"},{"$f":"'Model - Structuring'!EX4","v":"00:00:00"},{"$f":"'Model - Structuring'!EY4","v":"00:00:00"},{"$f":"'Model - Structuring'!EZ4","v":"00:00:00"},{"$f":"'Model - Structuring'!FA4","v":"00:00:00"},{"$f":"'Model - Structuring'!FB4","v":"00:00:00"},{"$f":"'Model - Structuring'!FC4","v":"00:00:00"},{"$f":"'Model - Structuring'!FD4","v":"00:00:00"},{"$f":"'Model - Structuring'!FE4","v":"00:00:00"},{"$f":"'Model - Structuring'!FF4","v":"00:00:00"},{"$f":"'Model - Structuring'!FG4","v":"00:00:00"},{"$f":"'Model - Structuring'!FH4","v":"00:00:00"},{"$f":"'Model - Structuring'!FI4","v":"00:00:00"},{"$f":"'Model - Structuring'!FJ4","v":"00:00:00"},{"$f":"'Model - Structuring'!FK4","v":"00:00:00"},{"$f":"'Model - Structuring'!FL4","v":"00:00:00"},{"$f":"'Model - Structuring'!FM4","v":"00:00:00"},{"$f":"'Model - Structuring'!FN4","v":"00:00:00"},{"$f":"'Model - Structuring'!FO4","v":"00:00:00"},{"$f":"'Model - Structuring'!FP4","v":"00:00:00"},{"$f":"'Model - Structuring'!FQ4","v":"00:00:00"},{"$f":"'Model - Structuring'!FR4","v":"00:00:00"},{"$f":"'Model - Structuring'!FS4","v":"00:00:00"},{"$f":"'Model - Structuring'!FT4","v":"00:00:00"},{"$f":"'Model - Structuring'!FU4","v":"00:00:00"},{"$f":"'Model - Structuring'!FV4","v":"00:00:00"},{"$f":"'Model - Structuring'!FW4","v":"00:00:00"},{"$f":"'Model - Structuring'!FX4","v":"00:00:00"},{"$f":"'Model - Structuring'!FY4","v":"00:00:00"},{"$f":"'Model - Structuring'!FZ4","v":"00:00:00"},{"$f":"'Model - Structuring'!GA4","v":"00:00:00"},{"$f":"'Model - Structuring'!GB4","v":"00:00:00"},{"$f":"'Model - Structuring'!GC4","v":"00:00:00"},{"$f":"'Model - Structuring'!GD4","v":"00:00:00"},{"$f":"'Model - Structuring'!GE4","v":"00:00:00"},{"$f":"'Model - Structuring'!GF4","v":"00:00:00"},{"$f":"'Model - Structuring'!GG4","v":"00:00:00"},{"$f":"'Model - Structuring'!GH4","v":"00:00:00"},{"$f":"'Model - Structuring'!GI4","v":"00:00:00"},{"$f":"'Model - Structuring'!GJ4","v":"00:00:00"},{"$f":"'Model - Structuring'!GK4","v":"00:00:00"},{"$f":"'Model - Structuring'!GL4","v":"00:00:00"},{"$f":"'Model - Structuring'!GM4","v":"00:00:00"}]
[null,"Flags and Switches - Make Very Clear What Sections Will Be Calculated and Displayed"]
[null,null,"Flags from The Model"]
[null,null,null,null,"Development_Flag","Development period flag ( Not TRUE/FALSE)","InputS",null,"Flag",0,0,0,0,0,0,0,0,0,0,0,0,0,0,0,0,0,0,0,0,0,0,0,0,0,0,0,0,0,0,0,0,0,0,0,0,0,0,0,0,0,0,0,0,0,0,0,0,0,0,0,0,0,0,0,0,0,0,0,0,0,0,0,0,0,0,0,0,0,0,0,0,0,0,0,0,0,0,0,0,0,0,0,0,0,0,0,0,0,0,0,0,0,0,0,0,0,0,0,0,0,0,0,0,0,0,0,0,0,0,0,0,0,0,0,0,0,0,0,0,0,0,0,0,0,0,0,0,0,0,0,0,0,0,0,0,0,0,0,0,0,0,0,0,0,0,0,0,0,0,0,0,0,0,0,0,0,0,0,0,0,0,0,0,0,0,0,0,0,0,0,0,0,0,0,0,0,0,0,0,0,0,0,0,0]
[null,null,null,null,"Construction_Flag","Construction period flag (Not TRUE/FALSE)","InputS",null,"Flag",{"$f":"'Model - Structuring'!K5","v":1},{"$f":"'Model - Structuring'!L5","v":0},{"$f":"'Model - Structuring'!M5","v":0},{"$f":"'Model - Structuring'!N5","v":0},{"$f":"'Model - Structuring'!O5","v":0},{"$f":"'Model - Structuring'!P5","v":0},{"$f":"'Model - Structuring'!Q5","v":0},{"$f":"'Model - Structuring'!R5","v":0},{"$f":"'Model - Structuring'!S5","v":0},{"$f":"'Model - Structuring'!T5","v":0},{"$f":"'Model - Structuring'!U5","v":0},{"$f":"'Model - Structuring'!V5","v":0},{"$f":"'Model - Structuring'!W5","v":0},{"$f":"'Model - Structuring'!X5","v":0},{"$f":"'Model - Structuring'!Y5","v":0},{"$f":"'Model - Structuring'!Z5","v":0},{"$f":"'Model - Structuring'!AA5","v":0},{"$f":"'Model - Structuring'!AB5","v":0},{"$f":"'Model - Structuring'!AC5","v":0},{"$f":"'Model - Structuring'!AD5","v":0},{"$f":"'Model - Structuring'!AE5","v":0},{"$f":"'Model - Structuring'!AF5","v":0},{"$f":"'Model - Structuring'!AG5","v":0},{"$f":"'Model - Structuring'!AH5","v":0},{"$f":"'Model - Structuring'!AI5","v":0},{"$f":"'Model - Structuring'!AJ5","v":0},{"$f":"'Model - Structuring'!AK5","v":0},{"$f":"'Model - Structuring'!AL5","v":0},{"$f":"'Model - Structuring'!AM5","v":0},{"$f":"'Model - Structuring'!AN5","v":0},{"$f":"'Model - Structuring'!AO5","v":0},{"$f":"'Model - Structuring'!AP5","v":0},{"$f":"'Model - Structuring'!AQ5","v":0},{"$f":"'Model - Structuring'!AR5","v":0},{"$f":"'Model - Structuring'!AS5","v":0},{"$f":"'Model - Structuring'!AT5","v":0},{"$f":"'Model - Structuring'!AU5","v":0},{"$f":"'Model - Structuring'!AV5","v":0},{"$f":"'Model - Structuring'!AW5","v":0},{"$f":"'Model - Structuring'!AX5","v":0},{"$f":"'Model - Structuring'!AY5","v":0},{"$f":"'Model - Structuring'!AZ5","v":0},{"$f":"'Model - Structuring'!BA5","v":0},{"$f":"'Model - Structuring'!BB5","v":0},{"$f":"'Model - Structuring'!BC5","v":0},{"$f":"'Model - Structuring'!BD5","v":0},{"$f":"'Model - Structuring'!BE5","v":0},{"$f":"'Model - Structuring'!BF5","v":0},{"$f":"'Model - Structuring'!BG5","v":0},{"$f":"'Model - Structuring'!BH5","v":0},{"$f":"'Model - Structuring'!BI5","v":0},{"$f":"'Model - Structuring'!BJ5","v":0},{"$f":"'Model - Structuring'!BK5","v":0},{"$f":"'Model - Structuring'!BL5","v":0},{"$f":"'Model - Structuring'!BM5","v":0},{"$f":"'Model - Structuring'!BN5","v":0},{"$f":"'Model - Structuring'!BO5","v":0},{"$f":"'Model - Structuring'!BP5","v":0},{"$f":"'Model - Structuring'!BQ5","v":0},{"$f":"'Model - Structuring'!BR5","v":0},{"$f":"'Model - Structuring'!BS5","v":0},{"$f":"'Model - Structuring'!BT5","v":0},{"$f":"'Model - Structuring'!BU5","v":0},{"$f":"'Model - Structuring'!BV5","v":0},{"$f":"'Model - Structuring'!BW5","v":0},{"$f":"'Model - Structuring'!BX5","v":0},{"$f":"'Model - Structuring'!BY5","v":0},{"$f":"'Model - Structuring'!BZ5","v":0},{"$f":"'Model - Structuring'!CA5","v":0},{"$f":"'Model - Structuring'!CB5","v":0},{"$f":"'Model - Structuring'!CC5","v":0},{"$f":"'Model - Structuring'!CD5","v":0},{"$f":"'Model - Structuring'!CE5","v":0},{"$f":"'Model - Structuring'!CF5","v":0},{"$f":"'Model - Structuring'!CG5","v":0},{"$f":"'Model - Structuring'!CH5","v":0},{"$f":"'Model - Structuring'!CI5","v":0},{"$f":"'Model - Structuring'!CJ5","v":0},{"$f":"'Model - Structuring'!CK5","v":0},{"$f":"'Model - Structuring'!CL5","v":0},{"$f":"'Model - Structuring'!CM5","v":0},{"$f":"'Model - Structuring'!CN5","v":0},{"$f":"'Model - Structuring'!CO5","v":0},{"$f":"'Model - Structuring'!CP5","v":0},{"$f":"'Model - Structuring'!CQ5","v":0},{"$f":"'Model - Structuring'!CR5","v":0},{"$f":"'Model - Structuring'!CS5","v":0},{"$f":"'Model - Structuring'!CT5","v":0},{"$f":"'Model - Structuring'!CU5","v":0},{"$f":"'Model - Structuring'!CV5","v":0},{"$f":"'Model - Structuring'!CW5","v":0},{"$f":"'Model - Structuring'!CX5","v":0},{"$f":"'Model - Structuring'!CY5","v":0},{"$f":"'Model - Structuring'!CZ5","v":0},{"$f":"'Model - Structuring'!DA5","v":0},{"$f":"'Model - Structuring'!DB5","v":0},{"$f":"'Model - Structuring'!DC5","v":0},{"$f":"'Model - Structuring'!DD5","v":0},{"$f":"'Model - Structuring'!DE5","v":0},{"$f":"'Model - Structuring'!DF5","v":0},{"$f":"'Model - Structuring'!DG5","v":0},{"$f":"'Model - Structuring'!DH5","v":0},{"$f":"'Model - Structuring'!DI5","v":0},{"$f":"'Model - Structuring'!DJ5","v":0},{"$f":"'Model - Structuring'!DK5","v":0},{"$f":"'Model - Structuring'!DL5","v":0},{"$f":"'Model - Structuring'!DM5","v":0},{"$f":"'Model - Structuring'!DN5","v":0},{"$f":"'Model - Structuring'!DO5","v":0},{"$f":"'Model - Structuring'!DP5","v":0},{"$f":"'Model - Structuring'!DQ5","v":0},{"$f":"'Model - Structuring'!DR5","v":0},{"$f":"'Model - Structuring'!DS5","v":0},{"$f":"'Model - Structuring'!DT5","v":0},{"$f":"'Model - Structuring'!DU5","v":0},{"$f":"'Model - Structuring'!DV5","v":0},{"$f":"'Model - Structuring'!DW5","v":0},{"$f":"'Model - Structuring'!DX5","v":0},{"$f":"'Model - Structuring'!DY5","v":0},{"$f":"'Model - Structuring'!DZ5","v":0},{"$f":"'Model - Structuring'!EA5","v":0},{"$f":"'Model - Structuring'!EB5","v":0},{"$f":"'Model - Structuring'!EC5","v":0},{"$f":"'Model - Structuring'!ED5","v":0},{"$f":"'Model - Structuring'!EE5","v":0},{"$f":"'Model - Structuring'!EF5","v":0},{"$f":"'Model - Structuring'!EG5","v":0},{"$f":"'Model - Structuring'!EH5","v":0},{"$f":"'Model - Structuring'!EI5","v":0},{"$f":"'Model - Structuring'!EJ5","v":0},{"$f":"'Model - Structuring'!EK5","v":0},{"$f":"'Model - Structuring'!EL5","v":0},{"$f":"'Model - Structuring'!EM5","v":0},{"$f":"'Model - Structuring'!EN5","v":0},{"$f":"'Model - Structuring'!EO5","v":0},{"$f":"'Model - Structuring'!EP5","v":0},{"$f":"'Model - Structuring'!EQ5","v":0},{"$f":"'Model - Structuring'!ER5","v":0},{"$f":"'Model - Structuring'!ES5","v":0},{"$f":"'Model - Structuring'!ET5","v":0},{"$f":"'Model - Structuring'!EU5","v":0},{"$f":"'Model - Structuring'!EV5","v":0},{"$f":"'Model - Structuring'!EW5","v":0},{"$f":"'Model - Structuring'!EX5","v":0},{"$f":"'Model - Structuring'!EY5","v":0},{"$f":"'Model - Structuring'!EZ5","v":0},{"$f":"'Model - Structuring'!FA5","v":0},{"$f":"'Model - Structuring'!FB5","v":0},{"$f":"'Model - Structuring'!FC5","v":0},{"$f":"'Model - Structuring'!FD5","v":0},{"$f":"'Model - Structuring'!FE5","v":0},{"$f":"'Model - Structuring'!FF5","v":0},{"$f":"'Model - Structuring'!FG5","v":0},{"$f":"'Model - Structuring'!FH5","v":0},{"$f":"'Model - Structuring'!FI5","v":0},{"$f":"'Model - Structuring'!FJ5","v":0},{"$f":"'Model - Structuring'!FK5","v":0},{"$f":"'Model - Structuring'!FL5","v":0},{"$f":"'Model - Structuring'!FM5","v":0},{"$f":"'Model - Structuring'!FN5","v":0},{"$f":"'Model - Structuring'!FO5","v":0},{"$f":"'Model - Structuring'!FP5","v":0},{"$f":"'Model - Structuring'!FQ5","v":0},{"$f":"'Model - Structuring'!FR5","v":0},{"$f":"'Model - Structuring'!FS5","v":0},{"$f":"'Model - Structuring'!FT5","v":0},{"$f":"'Model - Structuring'!FU5","v":0},{"$f":"'Model - Structuring'!FV5","v":0},{"$f":"'Model - Structuring'!FW5","v":0},{"$f":"'Model - Structuring'!FX5","v":0},{"$f":"'Model - Structuring'!FY5","v":0},{"$f":"'Model - Structuring'!FZ5","v":0},{"$f":"'Model - Structuring'!GA5","v":0},{"$f":"'Model - Structuring'!GB5","v":0},{"$f":"'Model - Structuring'!GC5","v":0},{"$f":"'Model - Structuring'!GD5","v":0},{"$f":"'Model - Structuring'!GE5","v":0},{"$f":"'Model - Structuring'!GF5","v":0},{"$f":"'Model - Structuring'!GG5","v":0},{"$f":"'Model - Structuring'!GH5","v":0},{"$f":"'Model - Structuring'!GI5","v":0},{"$f":"'Model - Structuring'!GJ5","v":0},{"$f":"'Model - Structuring'!GK5","v":0},{"$f":"'Model - Structuring'!GL5","v":0},{"$f":"'Model - Structuring'!GM5","v":0}]
[null,null,null,null,"Operating_Flag","Operation Flag (Must be Not TRUE/FALSE)",{"$f":"G6","v":"InputS"},null,"Flag",{"$f":"'Model - Structuring'!K6","v":0},{"$f":"'Model - Structuring'!L6","v":1},{"$f":"'Model - Structuring'!M6","v":1},{"$f":"'Model - Structuring'!N6","v":1},{"$f":"'Model - Structuring'!O6","v":1},{"$f":"'Model - Structuring'!P6","v":1},{"$f":"'Model - Structuring'!Q6","v":1},{"$f":"'Model - Structuring'!R6","v":1},{"$f":"'Model - Structuring'!S6","v":1},{"$f":"'Model - Structuring'!T6","v":1},{"$f":"'Model - Structuring'!U6","v":1},{"$f":"'Model - Structuring'!V6","v":1},{"$f":"'Model - Structuring'!W6","v":1},{"$f":"'Model - Structuring'!X6","v":1},{"$f":"'Model - Structuring'!Y6","v":1},{"$f":"'Model - Structuring'!Z6","v":1},{"$f":"'Model - Structuring'!AA6","v":1},{"$f":"'Model - Structuring'!AB6","v":1},{"$f":"'Model - Structuring'!AC6","v":1},{"$f":"'Model - Structuring'!AD6","v":1},{"$f":"'Model - Structuring'!AE6","v":1},{"$f":"'Model - Structuring'!AF6","v":1},{"$f":"'Model - Structuring'!AG6","v":1},{"$f":"'Model - Structuring'!AH6","v":1},{"$f":"'Model - Structuring'!AI6","v":1},{"$f":"'Model - Structuring'!AJ6","v":1},{"$f":"'Model - Structuring'!AK6","v":1},{"$f":"'Model - Structuring'!AL6","v":1},{"$f":"'Model - Structuring'!AM6","v":1},{"$f":"'Model - Structuring'!AN6","v":1},{"$f":"'Model - Structuring'!AO6","v":1},{"$f":"'Model - Structuring'!AP6","v":1},{"$f":"'Model - Structuring'!AQ6","v":1},{"$f":"'Model - Structuring'!AR6","v":1},{"$f":"'Model - Structuring'!AS6","v":1},{"$f":"'Model - Structuring'!AT6","v":1},{"$f":"'Model - Structuring'!AU6","v":1},{"$f":"'Model - Structuring'!AV6","v":1},{"$f":"'Model - Structuring'!AW6","v":1},{"$f":"'Model - Structuring'!AX6","v":1},{"$f":"'Model - Structuring'!AY6","v":1},{"$f":"'Model - Structuring'!AZ6","v":1},{"$f":"'Model - Structuring'!BA6","v":1},{"$f":"'Model - Structuring'!BB6","v":1},{"$f":"'Model - Structuring'!BC6","v":1},{"$f":"'Model - Structuring'!BD6","v":1},{"$f":"'Model - Structuring'!BE6","v":1},{"$f":"'Model - Structuring'!BF6","v":1},{"$f":"'Model - Structuring'!BG6","v":1},{"$f":"'Model - Structuring'!BH6","v":1},{"$f":"'Model - Structuring'!BI6","v":1},{"$f":"'Model - Structuring'!BJ6","v":0},{"$f":"'Model - Structuring'!BK6","v":0},{"$f":"'Model - Structuring'!BL6","v":0},{"$f":"'Model - Structuring'!BM6","v":0},{"$f":"'Model - Structuring'!BN6","v":0},{"$f":"'Model - Structuring'!BO6","v":0},{"$f":"'Model - Structuring'!BP6","v":0},{"$f":"'Model - Structuring'!BQ6","v":0},{"$f":"'Model - Structuring'!BR6","v":0},{"$f":"'Model - Structuring'!BS6","v":0},{"$f":"'Model - Structuring'!BT6","v":0},{"$f":"'Model - Structuring'!BU6","v":0},{"$f":"'Model - Structuring'!BV6","v":0},{"$f":"'Model - Structuring'!BW6","v":0},{"$f":"'Model - Structuring'!BX6","v":0},{"$f":"'Model - Structuring'!BY6","v":0},{"$f":"'Model - Structuring'!BZ6","v":0},{"$f":"'Model - Structuring'!CA6","v":0},{"$f":"'Model - Structuring'!CB6","v":0},{"$f":"'Model - Structuring'!CC6","v":0},{"$f":"'Model - Structuring'!CD6","v":0},{"$f":"'Model - Structuring'!CE6","v":0},{"$f":"'Model - Structuring'!CF6","v":0},{"$f":"'Model - Structuring'!CG6","v":0},{"$f":"'Model - Structuring'!CH6","v":0},{"$f":"'Model - Structuring'!CI6","v":0},{"$f":"'Model - Structuring'!CJ6","v":0},{"$f":"'Model - Structuring'!CK6","v":0},{"$f":"'Model - Structuring'!CL6","v":0},{"$f":"'Model - Structuring'!CM6","v":0},{"$f":"'Model - Structuring'!CN6","v":0},{"$f":"'Model - Structuring'!CO6","v":0},{"$f":"'Model - Structuring'!CP6","v":0},{"$f":"'Model - Structuring'!CQ6","v":0},{"$f":"'Model - Structuring'!CR6","v":0},{"$f":"'Model - Structuring'!CS6","v":0},{"$f":"'Model - Structuring'!CT6","v":0},{"$f":"'Model - Structuring'!CU6","v":0},{"$f":"'Model - Structuring'!CV6","v":0},{"$f":"'Model - Structuring'!CW6","v":0},{"$f":"'Model - Structuring'!CX6","v":0},{"$f":"'Model - Structuring'!CY6","v":0},{"$f":"'Model - Structuring'!CZ6","v":0},{"$f":"'Model - Structuring'!DA6","v":0},{"$f":"'Model - Structuring'!DB6","v":0},{"$f":"'Model - Structuring'!DC6","v":0},{"$f":"'Model - Structuring'!DD6","v":0},{"$f":"'Model - Structuring'!DE6","v":0},{"$f":"'Model - Structuring'!DF6","v":0},{"$f":"'Model - Structuring'!DG6","v":0},{"$f":"'Model - Structuring'!DH6","v":0},{"$f":"'Model - Structuring'!DI6","v":0},{"$f":"'Model - Structuring'!DJ6","v":0},{"$f":"'Model - Structuring'!DK6","v":0},{"$f":"'Model - Structuring'!DL6","v":0},{"$f":"'Model - Structuring'!DM6","v":0},{"$f":"'Model - Structuring'!DN6","v":0},{"$f":"'Model - Structuring'!DO6","v":0},{"$f":"'Model - Structuring'!DP6","v":0},{"$f":"'Model - Structuring'!DQ6","v":0},{"$f":"'Model - Structuring'!DR6","v":0},{"$f":"'Model - Structuring'!DS6","v":0},{"$f":"'Model - Structuring'!DT6","v":0},{"$f":"'Model - Structuring'!DU6","v":0},{"$f":"'Model - Structuring'!DV6","v":0},{"$f":"'Model - Structuring'!DW6","v":0},{"$f":"'Model - Structuring'!DX6","v":0},{"$f":"'Model - Structuring'!DY6","v":0},{"$f":"'Model - Structuring'!DZ6","v":0},{"$f":"'Model - Structuring'!EA6","v":0},{"$f":"'Model - Structuring'!EB6","v":0},{"$f":"'Model - Structuring'!EC6","v":0},{"$f":"'Model - Structuring'!ED6","v":0},{"$f":"'Model - Structuring'!EE6","v":0},{"$f":"'Model - Structuring'!EF6","v":0},{"$f":"'Model - Structuring'!EG6","v":0},{"$f":"'Model - Structuring'!EH6","v":0},{"$f":"'Model - Structuring'!EI6","v":0},{"$f":"'Model - Structuring'!EJ6","v":0},{"$f":"'Model - Structuring'!EK6","v":0},{"$f":"'Model - Structuring'!EL6","v":0},{"$f":"'Model - Structuring'!EM6","v":0},{"$f":"'Model - Structuring'!EN6","v":0},{"$f":"'Model - Structuring'!EO6","v":0},{"$f":"'Model - Structuring'!EP6","v":0},{"$f":"'Model - Structuring'!EQ6","v":0},{"$f":"'Model - Structuring'!ER6","v":0},{"$f":"'Model - Structuring'!ES6","v":0},{"$f":"'Model - Structuring'!ET6","v":0},{"$f":"'Model - Structuring'!EU6","v":0},{"$f":"'Model - Structuring'!EV6","v":0},{"$f":"'Model - Structuring'!EW6","v":0},{"$f":"'Model - Structuring'!EX6","v":0},{"$f":"'Model - Structuring'!EY6","v":0},{"$f":"'Model - Structuring'!EZ6","v":0},{"$f":"'Model - Structuring'!FA6","v":0},{"$f":"'Model - Structuring'!FB6","v":0},{"$f":"'Model - Structuring'!FC6","v":0},{"$f":"'Model - Structuring'!FD6","v":0},{"$f":"'Model - Structuring'!FE6","v":0},{"$f":"'Model - Structuring'!FF6","v":0},{"$f":"'Model - Structuring'!FG6","v":0},{"$f":"'Model - Structuring'!FH6","v":0},{"$f":"'Model - Structuring'!FI6","v":0},{"$f":"'Model - Structuring'!FJ6","v":0},{"$f":"'Model - Structuring'!FK6","v":0},{"$f":"'Model - Structuring'!FL6","v":0},{"$f":"'Model - Structuring'!FM6","v":0},{"$f":"'Model - Structuring'!FN6","v":0},{"$f":"'Model - Structuring'!FO6","v":0},{"$f":"'Model - Structuring'!FP6","v":0},{"$f":"'Model - Structuring'!FQ6","v":0},{"$f":"'Model - Structuring'!FR6","v":0},{"$f":"'Model - Structuring'!FS6","v":0},{"$f":"'Model - Structuring'!FT6","v":0},{"$f":"'Model - Structuring'!FU6","v":0},{"$f":"'Model - Structuring'!FV6","v":0},{"$f":"'Model - Structuring'!FW6","v":0},{"$f":"'Model - Structuring'!FX6","v":0},{"$f":"'Model - Structuring'!FY6","v":0},{"$f":"'Model - Structuring'!FZ6","v":0},{"$f":"'Model - Structuring'!GA6","v":0},{"$f":"'Model - Structuring'!GB6","v":0},{"$f":"'Model - Structuring'!GC6","v":0},{"$f":"'Model - Structuring'!GD6","v":0},{"$f":"'Model - Structuring'!GE6","v":0},{"$f":"'Model - Structuring'!GF6","v":0},{"$f":"'Model - Structuring'!GG6","v":0},{"$f":"'Model - Structuring'!GH6","v":0},{"$f":"'Model - Structuring'!GI6","v":0},{"$f":"'Model - Structuring'!GJ6","v":0},{"$f":"'Model - Structuring'!GK6","v":0},{"$f":"'Model - Structuring'!GL6","v":0},{"$f":"'Model - Structuring'!GM6","v":0}]
[]
[null,null,null,null,"max_iteration","The maximum iterations in the circular reference","InputC",30]
[null,null,null,null,"turn_off","Turn off the parallel model by entering number one","InputC",0,{"$f":"IF(H11,\"TURNED OFF\",\"TURNED ON\")&\"  - One turns OFF the parallel model; Zero leaves the model on\"","v":"TURNED ON  - One turns OFF the parallel model; Zero leaves the model on"}]
[null,null,null,null,"Iteration_Output_Flag","Turn off circular documentation output","InputC",1,"Switch ( 1: shows iteration output in Summary Report; 0: No Iteration Output in Summary Report)"]
[null,null,null,null,"Convergence_Criteria","Convergence for the Circular Loop","InputC",1.0000000000000001E-5,"Enter a small number and see how sensitive the time is to the number"]
[null,null,null,null,"Turn_off_message","Turn off message Progress Message","InputC",0,"One turns off the calculation progress screen"]
[null,null,null,null,"Any_Number","Number just to make the UDF operate","InputC",2,"Blank variable for turning on and off (Just put in a number and the UDF will re-run)"]
[null,null,null,null,"number_of_cols","Maximum Number of Columns to Read","InputC",100,"Number of colums that can be up to 1000. Should be more than period counter by about 10"]
[]
[null,"Operating Inputs from Your Model"]
[null,null,"Operating Data"]
[null,null,null,null,"Capital_Expenditure","Total Cap Exp","InputS",null,null,{"$f":"'Model - Structuring'!K32","v":216629231.00111878},{"$f":"'Model - Structuring'!L32","v":0},{"$f":"'Model - Structuring'!M32","v":0},{"$f":"'Model - Structuring'!N32","v":0},{"$f":"'Model - Structuring'!O32","v":0},{"$f":"'Model - Structuring'!P32","v":0},{"$f":"'Model - Structuring'!Q32","v":0},{"$f":"'Model - Structuring'!R32","v":0},{"$f":"'Model - Structuring'!S32","v":0},{"$f":"'Model - Structuring'!T32","v":0},{"$f":"'Model - Structuring'!U32","v":0},{"$f":"'Model - Structuring'!V32","v":0},{"$f":"'Model - Structuring'!W32","v":0},{"$f":"'Model - Structuring'!X32","v":0},{"$f":"'Model - Structuring'!Y32","v":0},{"$f":"'Model - Structuring'!Z32","v":0},{"$f":"'Model - Structuring'!AA32","v":0},{"$f":"'Model - Structuring'!AB32","v":0},{"$f":"'Model - Structuring'!AC32","v":0},{"$f":"'Model - Structuring'!AD32","v":0},{"$f":"'Model - Structuring'!AE32","v":0},{"$f":"'Model - Structuring'!AF32","v":0},{"$f":"'Model - Structuring'!AG32","v":0},{"$f":"'Model - Structuring'!AH32","v":0},{"$f":"'Model - Structuring'!AI32","v":0},{"$f":"'Model - Structuring'!AJ32","v":0},{"$f":"'Model - Structuring'!AK32","v":0},{"$f":"'Model - Structuring'!AL32","v":0},{"$f":"'Model - Structuring'!AM32","v":0},{"$f":"'Model - Structuring'!AN32","v":0},{"$f":"'Model - Structuring'!AO32","v":0},{"$f":"'Model - Structuring'!AP32","v":0},{"$f":"'Model - Structuring'!AQ32","v":0},{"$f":"'Model - Structuring'!AR32","v":0},{"$f":"'Model - Structuring'!AS32","v":0},{"$f":"'Model - Structuring'!AT32","v":0},{"$f":"'Model - Structuring'!AU32","v":0},{"$f":"'Model - Structuring'!AV32","v":0},{"$f":"'Model - Structuring'!AW32","v":0},{"$f":"'Model - Structuring'!AX32","v":0},{"$f":"'Model - Structuring'!AY32","v":0},{"$f":"'Model - Structuring'!AZ32","v":0},{"$f":"'Model - Structuring'!BA32","v":0},{"$f":"'Model - Structuring'!BB32","v":0},{"$f":"'Model - Structuring'!BC32","v":0},{"$f":"'Model - Structuring'!BD32","v":0},{"$f":"'Model - Structuring'!BE32","v":0},{"$f":"'Model - Structuring'!BF32","v":0},{"$f":"'Model - Structuring'!BG32","v":0},{"$f":"'Model - Structuring'!BH32","v":0},{"$f":"'Model - Structuring'!BI32","v":0},{"$f":"'Model - Structuring'!BJ32","v":0},{"$f":"'Model - Structuring'!BK32","v":0},{"$f":"'Model - Structuring'!BL32","v":0},{"$f":"'Model - Structuring'!BM32","v":0},{"$f":"'Model - Structuring'!BN32","v":0},{"$f":"'Model - Structuring'!BO32","v":0},{"$f":"'Model - Structuring'!BP32","v":0},{"$f":"'Model - Structuring'!BQ32","v":0},{"$f":"'Model - Structuring'!BR32","v":0},{"$f":"'Model - Structuring'!BS32","v":0},{"$f":"'Model - Structuring'!BT32","v":0},{"$f":"'Model - Structuring'!BU32","v":0},{"$f":"'Model - Structuring'!BV32","v":0},{"$f":"'Model - Structuring'!BW32","v":0},{"$f":"'Model - Structuring'!BX32","v":0},{"$f":"'Model - Structuring'!BY32","v":0},{"$f":"'Model - Structuring'!BZ32","v":0},{"$f":"'Model - Structuring'!CA32","v":0},{"$f":"'Model - Structuring'!CB32","v":0},{"$f":"'Model - Structuring'!CC32","v":0},{"$f":"'Model - Structuring'!CD32","v":0},{"$f":"'Model - Structuring'!CE32","v":0},{"$f":"'Model - Structuring'!CF32","v":0},{"$f":"'Model - Structuring'!CG32","v":0},{"$f":"'Model - Structuring'!CH32","v":0},{"$f":"'Model - Structuring'!CI32","v":0},{"$f":"'Model - Structuring'!CJ32","v":0},{"$f":"'Model - Structuring'!CK32","v":0},{"$f":"'Model - Structuring'!CL32","v":0},{"$f":"'Model - Structuring'!CM32","v":0},{"$f":"'Model - Structuring'!CN32","v":0},{"$f":"'Model - Structuring'!CO32","v":0},{"$f":"'Model - Structuring'!CP32","v":0},{"$f":"'Model - Structuring'!CQ32","v":0},{"$f":"'Model - Structuring'!CR32","v":0},{"$f":"'Model - Structuring'!CS32","v":0},{"$f":"'Model - Structuring'!CT32","v":0},{"$f":"'Model - Structuring'!CU32","v":0},{"$f":"'Model - Structuring'!CV32","v":0},{"$f":"'Model - Structuring'!CW32","v":0},{"$f":"'Model - Structuring'!CX32","v":0},{"$f":"'Model - Structuring'!CY32","v":0},{"$f":"'Model - Structuring'!CZ32","v":0},{"$f":"'Model - Structuring'!DA32","v":0},{"$f":"'Model - Structuring'!DB32","v":0},{"$f":"'Model - Structuring'!DC32","v":0},{"$f":"'Model - Structuring'!DD32","v":0},{"$f":"'Model - Structuring'!DE32","v":0},{"$f":"'Model - Structuring'!DF32","v":0},{"$f":"'Model - Structuring'!DG32","v":0},{"$f":"'Model - Structuring'!DH32","v":0},{"$f":"'Model - Structuring'!DI32","v":0},{"$f":"'Model - Structuring'!DJ32","v":0},{"$f":"'Model - Structuring'!DK32","v":0},{"$f":"'Model - Structuring'!DL32","v":0},{"$f":"'Model - Structuring'!DM32","v":0},{"$f":"'Model - Structuring'!DN32","v":0},{"$f":"'Model - Structuring'!DO32","v":0},{"$f":"'Model - Structuring'!DP32","v":0},{"$f":"'Model - Structuring'!DQ32","v":0},{"$f":"'Model - Structuring'!DR32","v":0},{"$f":"'Model - Structuring'!DS32","v":0},{"$f":"'Model - Structuring'!DT32","v":0},{"$f":"'Model - Structuring'!DU32","v":0},{"$f":"'Model - Structuring'!DV32","v":0},{"$f":"'Model - Structuring'!DW32","v":0},{"$f":"'Model - Structuring'!DX32","v":0},{"$f":"'Model - Structuring'!DY32","v":0},{"$f":"'Model - Structuring'!DZ32","v":0},{"$f":"'Model - Structuring'!EA32","v":0},{"$f":"'Model - Structuring'!EB32","v":0},{"$f":"'Model - Structuring'!EC32","v":0},{"$f":"'Model - Structuring'!ED32","v":0},{"$f":"'Model - Structuring'!EE32","v":0},{"$f":"'Model - Structuring'!EF32","v":0},{"$f":"'Model - Structuring'!EG32","v":0},{"$f":"'Model - Structuring'!EH32","v":0},{"$f":"'Model - Structuring'!EI32","v":0},{"$f":"'Model - Structuring'!EJ32","v":0},{"$f":"'Model - Structuring'!EK32","v":0},{"$f":"'Model - Structuring'!EL32","v":0},{"$f":"'Model - Structuring'!EM32","v":0},{"$f":"'Model - Structuring'!EN32","v":0},{"$f":"'Model - Structuring'!EO32","v":0},{"$f":"'Model - Structuring'!EP32","v":0},{"$f":"'Model - Structuring'!EQ32","v":0},{"$f":"'Model - Structuring'!ER32","v":0},{"$f":"'Model - Structuring'!ES32","v":0},{"$f":"'Model - Structuring'!ET32","v":0},{"$f":"'Model - Structuring'!EU32","v":0},{"$f":"'Model - Structuring'!EV32","v":0},{"$f":"'Model - Structuring'!EW32","v":0},{"$f":"'Model - Structuring'!EX32","v":0},{"$f":"'Model - Structuring'!EY32","v":0},{"$f":"'Model - Structuring'!EZ32","v":0},{"$f":"'Model - Structuring'!FA32","v":0},{"$f":"'Model - Structuring'!FB32","v":0},{"$f":"'Model - Structuring'!FC32","v":0},{"$f":"'Model - Structuring'!FD32","v":0},{"$f":"'Model - Structuring'!FE32","v":0},{"$f":"'Model - Structuring'!FF32","v":0},{"$f":"'Model - Structuring'!FG32","v":0},{"$f":"'Model - Structuring'!FH32","v":0},{"$f":"'Model - Structuring'!FI32","v":0},{"$f":"'Model - Structuring'!FJ32","v":0},{"$f":"'Model - Structuring'!FK32","v":0},{"$f":"'Model - Structuring'!FL32","v":0},{"$f":"'Model - Structuring'!FM32","v":0},{"$f":"'Model - Structuring'!FN32","v":0},{"$f":"'Model - Structuring'!FO32","v":0},{"$f":"'Model - Structuring'!FP32","v":0},{"$f":"'Model - Structuring'!FQ32","v":0},{"$f":"'Model - Structuring'!FR32","v":0},{"$f":"'Model - Structuring'!FS32","v":0},{"$f":"'Model - Structuring'!FT32","v":0},{"$f":"'Model - Structuring'!FU32","v":0},{"$f":"'Model - Structuring'!FV32","v":0},{"$f":"'Model - Structuring'!FW32","v":0},{"$f":"'Model - Structuring'!FX32","v":0},{"$f":"'Model - Structuring'!FY32","v":0},{"$f":"'Model - Structuring'!FZ32","v":0},{"$f":"'Model - Structuring'!GA32","v":0},{"$f":"'Model - Structuring'!GB32","v":0},{"$f":"'Model - Structuring'!GC32","v":0},{"$f":"'Model - Structuring'!GD32","v":0},{"$f":"'Model - Structuring'!GE32","v":0},{"$f":"'Model - Structuring'!GF32","v":0},{"$f":"'Model - Structuring'!GG32","v":0},{"$f":"'Model - Structuring'!GH32","v":0},{"$f":"'Model - Structuring'!GI32","v":0},{"$f":"'Model - Structuring'!GJ32","v":0},{"$f":"'Model - Structuring'!GK32","v":0},{"$f":"'Model - Structuring'!GL32","v":0},{"$f":"'Model - Structuring'!GM32","v":0}]
[null,null,null,null,"Pre_COD_Revenues","Revenues pre COD - Treated as Equity","InputS",null,null,0,0,0,0,0,0,0,0,0,0,0,0,0,0,0,0,0,0,0,0,0,0,0,0,0,0,0,0,0,0,0,0,0,0,0,0,0,0,0,0,0,0,0,0,0,0,0,0,0,0,0,0,0,0,0,0,0,0,0,0,0,0,0,0,0,0,0,0,0,0,0,0,0,0,0,0,0,0,0,0,0,0,0,0,0,0,0,0,0,0,0,0,0,0,0,0,0,0,0,0,0,0,0,0,0,0,0,0,0,0,0,0,0,0,0,0,0,0,0,0,0,0,0,0,0,0,0,0,0,0,0,0,0,0,0,0,0,0,0,0,0,0,0,0,0,0,0,0,0,0,0,0,0,0,0,0,0,0,0,0,0,0,0,0,0,0,0,0,0,0,0,0,0,0,0,0,0,0,0,0,0,0,0,0,0]
[null,null,null,null,"Pre_COD_Expenses","Expenses pre COD - Treated as Cost","InputS",null,null,0,0,0,0,0,0,0,0,0,0,0,0,0,0,0,0,0,0,0,0,0,0,0,0,0,0,0,0,0,0,0,0,0,0,0,0,0,0,0,0,0,0,0,0,0,0,0,0,0,0,0,0,0,0,0,0,0,0,0,0,0,0,0,0,0,0,0,0,0,0,0,0,0,0,0,0,0,0,0,0,0,0,0,0,0,0,0,0,0,0,0,0,0,0,0,0,0,0,0,0,0,0,0,0,0,0,0,0,0,0,0,0,0,0,0,0,0,0,0,0,0,0,0,0,0,0,0,0,0,0,0,0,0,0,0,0,0,0,0,0,0,0,0,0,0,0,0,0,0,0,0,0,0,0,0,0,0,0,0,0,0,0,0,0,0,0,0,0,0,0,0,0,0,0,0,0,0,0,0,0,0,0,0,0,0]
[]
[null,null,null,null,"EBITDA","EBITDA for Debt Size (Do Not Include Banking Fees)","InputS",null,null,{"$f":"'Model - Structuring'!K60","v":0},{"$f":"'Model - Structuring'!L60","v":4727500},{"$f":"'Model - Structuring'!M60","v":4810000},{"$f":"'Model - Structuring'!N60","v":4837201.4739180878},{"$f":"'Model - Structuring'!O60","v":5035699.2},{"$f":"'Model - Structuring'!P60","v":5064267.8157761907},{"$f":"'Model - Structuring'!Q60","v":5271948.1728000008},{"$f":"'Model - Structuring'!R60","v":5332695.0446894588},{"$f":"'Model - Structuring'!S60","v":5519242.4431921942},{"$f":"'Model - Structuring'!T60","v":5550750.3887561178},{"$f":"'Model - Structuring'!U60","v":5778101.0000333115},{"$f":"'Model - Structuring'!V60","v":5811187.8831614098},{"$f":"'Model - Structuring'!W60","v":6049067.4172544191},{"$f":"'Model - Structuring'!X60","v":6083810.8635400068},{"$f":"'Model - Structuring'!Y60","v":6332711.0288914498},{"$f":"'Model - Structuring'!Z60","v":6405952.3265082994},{"$f":"'Model - Structuring'!AA60","v":6629628.1607602565},{"$f":"'Model - Structuring'!AB60","v":6667933.009864267},{"$f":"'Model - Structuring'!AC60","v":6940443.4215282714},{"$f":"'Model - Structuring'!AD60","v":6980661.2862378908},{"$f":"'Model - Structuring'!AE60","v":7265811.0560695315},{"$f":"'Model - Structuring'!AF60","v":7308035.9327359544},{"$f":"'Model - Structuring'!AG60","v":7606416.3641310204},{"$f":"'Model - Structuring'!AH60","v":7694716.6236204505},{"$f":"'Model - Structuring'!AI60","v":7962977.187486589},{"$f":"'Model - Structuring'!AJ60","v":8009516.7328412021},{"$f":"'Model - Structuring'!AK60","v":8336245.4689101167},{"$f":"'Model - Structuring'!AL60","v":8385102.5760324579},{"$f":"'Model - Structuring'!AM60","v":8727008.886462871},{"$f":"'Model - Structuring'!AN60","v":8778297.3846698832},{"$f":"'Model - Structuring'!AO60","v":9136092.5667610969},{"$f":"'Model - Structuring'!AP60","v":9242545.5909096971},{"$f":"'Model - Structuring'!AQ60","v":9564360.8810696546},{"$f":"'Model - Structuring'!AR60","v":9620876.2527074311},{"$f":"'Model - Structuring'!AS60","v":10012719.328255849},{"$f":"'Model - Structuring'!AT60","v":10072042.183732346},{"$f":"'Model - Structuring'!AU60","v":10482116.508835595},{"$f":"'Model - Structuring'!AV60","v":10544384.708232772},{"$f":"'Model - Structuring'!AW60","v":10973546.194551365},{"$f":"'Model - Structuring'!AX60","v":11101885.129447576},{"$f":"'Model - Structuring'!AY60","v":11488049.498139368},{"$f":"'Model - Structuring'!AZ60","v":11556649.355709448},{"$f":"'Model - Structuring'!BA60","v":12026717.14817173},{"$f":"'Model - Structuring'!BB60","v":12098717.863725794},{"$f":"'Model - Structuring'!BC60","v":12590691.874099379},{"$f":"'Model - Structuring'!BD60","v":12666260.428896831},{"$f":"'Model - Structuring'!BE60","v":13181170.906872848},{"$f":"'Model - Structuring'!BF60","v":13335901.392832138},{"$f":"'Model - Structuring'!BG60","v":13799408.600782365},{"$f":"'Model - Structuring'!BH60","v":13882646.973116402},{"$f":"'Model - Structuring'!BI60","v":14446719.182435561},{"$f":"'Model - Structuring'!BJ60","v":0},{"$f":"'Model - Structuring'!BK60","v":0},{"$f":"'Model - Structuring'!BL60","v":0},{"$f":"'Model - Structuring'!BM60","v":0},{"$f":"'Model - Structuring'!BN60","v":0},{"$f":"'Model - Structuring'!BO60","v":0},{"$f":"'Model - Structuring'!BP60","v":0},{"$f":"'Model - Structuring'!BQ60","v":0},{"$f":"'Model - Structuring'!BR60","v":0},{"$f":"'Model - Structuring'!BS60","v":0},{"$f":"'Model - Structuring'!BT60","v":0},{"$f":"'Model - Structuring'!BU60","v":0},{"$f":"'Model - Structuring'!BV60","v":0},{"$f":"'Model - Structuring'!BW60","v":0},{"$f":"'Model - Structuring'!BX60","v":0},{"$f":"'Model - Structuring'!BY60","v":0},{"$f":"'Model - Structuring'!BZ60","v":0},{"$f":"'Model - Structuring'!CA60","v":0},{"$f":"'Model - Structuring'!CB60","v":0},{"$f":"'Model - Structuring'!CC60","v":0},{"$f":"'Model - Structuring'!CD60","v":0},{"$f":"'Model - Structuring'!CE60","v":0},{"$f":"'Model - Structuring'!CF60","v":0},{"$f":"'Model - Structuring'!CG60","v":0},{"$f":"'Model - Structuring'!CH60","v":0},{"$f":"'Model - Structuring'!CI60","v":0},{"$f":"'Model - Structuring'!CJ60","v":0},{"$f":"'Model - Structuring'!CK60","v":0},{"$f":"'Model - Structuring'!CL60","v":0},{"$f":"'Model - Structuring'!CM60","v":0},{"$f":"'Model - Structuring'!CN60","v":0},{"$f":"'Model - Structuring'!CO60","v":0},{"$f":"'Model - Structuring'!CP60","v":0},{"$f":"'Model - Structuring'!CQ60","v":0},{"$f":"'Model - Structuring'!CR60","v":0},{"$f":"'Model - Structuring'!CS60","v":0},{"$f":"'Model - Structuring'!CT60","v":0},{"$f":"'Model - Structuring'!CU60","v":0},{"$f":"'Model - Structuring'!CV60","v":0},{"$f":"'Model - Structuring'!CW60","v":0},{"$f":"'Model - Structuring'!CX60","v":0},{"$f":"'Model - Structuring'!CY60","v":0},{"$f":"'Model - Structuring'!CZ60","v":0},{"$f":"'Model - Structuring'!DA60","v":0},{"$f":"'Model - Structuring'!DB60","v":0},{"$f":"'Model - Structuring'!DC60","v":0},{"$f":"'Model - Structuring'!DD60","v":0},{"$f":"'Model - Structuring'!DE60","v":0},{"$f":"'Model - Structuring'!DF60","v":0},{"$f":"'Model - Structuring'!DG60","v":0},{"$f":"'Model - Structuring'!DH60","v":0},{"$f":"'Model - Structuring'!DI60","v":0},{"$f":"'Model - Structuring'!DJ60","v":0},{"$f":"'Model - Structuring'!DK60","v":0},{"$f":"'Model - Structuring'!DL60","v":0},{"$f":"'Model - Structuring'!DM60","v":0},{"$f":"'Model - Structuring'!DN60","v":0},{"$f":"'Model - Structuring'!DO60","v":0},{"$f":"'Model - Structuring'!DP60","v":0},{"$f":"'Model - Structuring'!DQ60","v":0},{"$f":"'Model - Structuring'!DR60","v":0},{"$f":"'Model - Structuring'!DS60","v":0},{"$f":"'Model - Structuring'!DT60","v":0},{"$f":"'Model - Structuring'!DU60","v":0},{"$f":"'Model - Structuring'!DV60","v":0},{"$f":"'Model - Structuring'!DW60","v":0},{"$f":"'Model - Structuring'!DX60","v":0},{"$f":"'Model - Structuring'!DY60","v":0},{"$f":"'Model - Structuring'!DZ60","v":0},{"$f":"'Model - Structuring'!EA60","v":0},{"$f":"'Model - Structuring'!EB60","v":0},{"$f":"'Model - Structuring'!EC60","v":0},{"$f":"'Model - Structuring'!ED60","v":0},{"$f":"'Model - Structuring'!EE60","v":0},{"$f":"'Model - Structuring'!EF60","v":0},{"$f":"'Model - Structuring'!EG60","v":0},{"$f":"'Model - Structuring'!EH60","v":0},{"$f":"'Model - Structuring'!EI60","v":0},{"$f":"'Model - Structuring'!EJ60","v":0},{"$f":"'Model - Structuring'!EK60","v":0},{"$f":"'Model - Structuring'!EL60","v":0},{"$f":"'Model - Structuring'!EM60","v":0},{"$f":"'Model - Structuring'!EN60","v":0},{"$f":"'Model - Structuring'!EO60","v":0},{"$f":"'Model - Structuring'!EP60","v":0},{"$f":"'Model - Structuring'!EQ60","v":0},{"$f":"'Model - Structuring'!ER60","v":0},{"$f":"'Model - Structuring'!ES60","v":0},{"$f":"'Model - Structuring'!ET60","v":0},{"$f":"'Model - Structuring'!EU60","v":0},{"$f":"'Model - Structuring'!EV60","v":0},{"$f":"'Model - Structuring'!EW60","v":0},{"$f":"'Model - Structuring'!EX60","v":0},{"$f":"'Model - Structuring'!EY60","v":0},{"$f":"'Model - Structuring'!EZ60","v":0},{"$f":"'Model - Structuring'!FA60","v":0},{"$f":"'Model - Structuring'!FB60","v":0},{"$f":"'Model - Structuring'!FC60","v":0},{"$f":"'Model - Structuring'!FD60","v":0},{"$f":"'Model - Structuring'!FE60","v":0},{"$f":"'Model - Structuring'!FF60","v":0},{"$f":"'Model - Structuring'!FG60","v":0},{"$f":"'Model - Structuring'!FH60","v":0},{"$f":"'Model - Structuring'!FI60","v":0},{"$f":"'Model - Structuring'!FJ60","v":0},{"$f":"'Model - Structuring'!FK60","v":0},{"$f":"'Model - Structuring'!FL60","v":0},{"$f":"'Model - Structuring'!FM60","v":0},{"$f":"'Model - Structuring'!FN60","v":0},{"$f":"'Model - Structuring'!FO60","v":0},{"$f":"'Model - Structuring'!FP60","v":0},{"$f":"'Model - Structuring'!FQ60","v":0},{"$f":"'Model - Structuring'!FR60","v":0},{"$f":"'Model - Structuring'!FS60","v":0},{"$f":"'Model - Structuring'!FT60","v":0},{"$f":"'Model - Structuring'!FU60","v":0},{"$f":"'Model - Structuring'!FV60","v":0},{"$f":"'Model - Structuring'!FW60","v":0},{"$f":"'Model - Structuring'!FX60","v":0},{"$f":"'Model - Structuring'!FY60","v":0},{"$f":"'Model - Structuring'!FZ60","v":0},{"$f":"'Model - Structuring'!GA60","v":0},{"$f":"'Model - Structuring'!GB60","v":0},{"$f":"'Model - Structuring'!GC60","v":0},{"$f":"'Model - Structuring'!GD60","v":0},{"$f":"'Model - Structuring'!GE60","v":0},{"$f":"'Model - Structuring'!GF60","v":0},{"$f":"'Model - Structuring'!GG60","v":0},{"$f":"'Model - Structuring'!GH60","v":0},{"$f":"'Model - Structuring'!GI60","v":0},{"$f":"'Model - Structuring'!GJ60","v":0},{"$f":"'Model - Structuring'!GK60","v":0},{"$f":"'Model - Structuring'!GL60","v":0},{"$f":"'Model - Structuring'!GM60","v":0}]
[null,null,null,null,"WC_Change","Working Capital Changes per Period (Acc. Receivables - Acc. Payable)","InputS",null,null,{"$f":"'Model - Structuring'!K67","v":0},{"$f":"'Model - Structuring'!L67","v":483493.15068493149},{"$f":"'Model - Structuring'!M67","v":8013.6986301369616},{"$f":"'Model - Structuring'!N67","v":2954.7017853225698},{"$f":"'Model - Structuring'!O67","v":19601.68177632126},{"$f":"'Model - Structuring'!P67","v":3096.4129833312472},{"$f":"'Model - Structuring'!Q67","v":20507.843520778406},{"$f":"'Model - Structuring'!R67","v":6233.446461231797},{"$f":"'Model - Structuring'!S67","v":18467.92876157607},{"$f":"'Model - Structuring'!T67","v":3400.7363455214072},{"$f":"'Model - Structuring'!U67","v":22449.342634069966},{"$f":"'Model - Structuring'!V67","v":3564.0332401863998},{"$f":"'Model - Structuring'!W67","v":23488.785998770501},{"$f":"'Model - Structuring'!X67","v":3735.2382309987443},{"$f":"'Model - Structuring'!Y67","v":24576.926865472458},{"$f":"'Model - Structuring'!Z67","v":7492.077827577712},{"$f":"'Model - Structuring'!AA67","v":22138.731144241174},{"$f":"'Model - Structuring'!AB67","v":4102.934719344019},{"$f":"'Model - Structuring'!AC67","v":26908.637860101648},{"$f":"'Model - Structuring'!AD67","v":4300.2556198033271},{"$f":"'Model - Structuring'!AE67","v":28157.157570631127},{"$f":"'Model - Structuring'!AF67","v":4507.1453389336821},{"$f":"'Model - Structuring'!AG67","v":29464.284860959509},{"$f":"'Model - Structuring'!AH67","v":9007.9343846872216},{"$f":"'Model - Structuring'!AI67","v":26548.937630185159},{"$f":"'Model - Structuring'!AJ67","v":4951.5237697332632},{"$f":"'Model - Structuring'!AK67","v":32265.61950880941},{"$f":"'Model - Structuring'!AL67","v":5190.0173137225211},{"$f":"'Model - Structuring'!AM67","v":33765.795133436797},{"$f":"'Model - Structuring'!AN67","v":5440.0916672636522},{"$f":"'Model - Structuring'!AO67","v":35336.528069880442},{"$f":"'Model - Structuring'!AP67","v":10834.157971862354},{"$f":"'Model - Structuring'!AQ67","v":31849.327488618786},{"$f":"'Model - Structuring'!AR67","v":5977.2759262778563},{"$f":"'Model - Structuring'!AS67","v":38703.242841231986},{"$f":"'Model - Structuring'!AT67","v":6265.6034229531651},{"$f":"'Model - Structuring'!AU67","v":40506.423394207843},{"$f":"'Model - Structuring'!AV67","v":6567.9497352859471},{"$f":"'Model - Structuring'!AW67","v":42394.574660358718},{"$f":"'Model - Structuring'!AX67","v":13034.974407682428},{"$f":"'Model - Structuring'!AY67","v":38221.769597987179},{"$f":"'Model - Structuring'!AZ67","v":7217.4778090412728},{"$f":"'Model - Structuring'!BA67","v":46442.168640294578},{"$f":"'Model - Structuring'!BB67","v":7566.1352330192458},{"$f":"'Model - Structuring'!BC67","v":48610.296695991186},{"$f":"'Model - Structuring'!BD67","v":7931.766225742409},{"$f":"'Model - Structuring'!BE67","v":50880.785465935245},{"$f":"'Model - Structuring'!BF67","v":15688.024369016755},{"$f":"'Model - Structuring'!BG67","v":45885.69587452407},{"$f":"'Model - Structuring'!BH67","v":8717.3173394231126},{"$f":"'Model - Structuring'!BI67","v":55748.610823530005},{"$f":"'Model - Structuring'!BJ67","v":-1452205.1782609441},{"$f":"'Model - Structuring'!BK67","v":0},{"$f":"'Model - Structuring'!BL67","v":0},{"$f":"'Model - Structuring'!BM67","v":0},{"$f":"'Model - Structuring'!BN67","v":0},{"$f":"'Model - Structuring'!BO67","v":0},{"$f":"'Model - Structuring'!BP67","v":0},{"$f":"'Model - Structuring'!BQ67","v":0},{"$f":"'Model - Structuring'!BR67","v":0},{"$f":"'Model - Structuring'!BS67","v":0},{"$f":"'Model - Structuring'!BT67","v":0},{"$f":"'Model - Structuring'!BU67","v":0},{"$f":"'Model - Structuring'!BV67","v":0},{"$f":"'Model - Structuring'!BW67","v":0},{"$f":"'Model - Structuring'!BX67","v":0},{"$f":"'Model - Structuring'!BY67","v":0},{"$f":"'Model - Structuring'!BZ67","v":0},{"$f":"'Model - Structuring'!CA67","v":0},{"$f":"'Model - Structuring'!CB67","v":0},{"$f":"'Model - Structuring'!CC67","v":0},{"$f":"'Model - Structuring'!CD67","v":0},{"$f":"'Model - Structuring'!CE67","v":0},{"$f":"'Model - Structuring'!CF67","v":0},{"$f":"'Model - Structuring'!CG67","v":0},{"$f":"'Model - Structuring'!CH67","v":0},{"$f":"'Model - Structuring'!CI67","v":0},{"$f":"'Model - Structuring'!CJ67","v":0},{"$f":"'Model - Structuring'!CK67","v":0},{"$f":"'Model - Structuring'!CL67","v":0},{"$f":"'Model - Structuring'!CM67","v":0},{"$f":"'Model - Structuring'!CN67","v":0},{"$f":"'Model - Structuring'!CO67","v":0},{"$f":"'Model - Structuring'!CP67","v":0},{"$f":"'Model - Structuring'!CQ67","v":0},{"$f":"'Model - Structuring'!CR67","v":0},{"$f":"'Model - Structuring'!CS67","v":0},{"$f":"'Model - Structuring'!CT67","v":0},{"$f":"'Model - Structuring'!CU67","v":0},{"$f":"'Model - Structuring'!CV67","v":0},{"$f":"'Model - Structuring'!CW67","v":0},{"$f":"'Model - Structuring'!CX67","v":0},{"$f":"'Model - Structuring'!CY67","v":0},{"$f":"'Model - Structuring'!CZ67","v":0},{"$f":"'Model - Structuring'!DA67","v":0},{"$f":"'Model - Structuring'!DB67","v":0},{"$f":"'Model - Structuring'!DC67","v":0},{"$f":"'Model - Structuring'!DD67","v":0},{"$f":"'Model - Structuring'!DE67","v":0},{"$f":"'Model - Structuring'!DF67","v":0},{"$f":"'Model - Structuring'!DG67","v":0},{"$f":"'Model - Structuring'!DH67","v":0},{"$f":"'Model - Structuring'!DI67","v":0},{"$f":"'Model - Structuring'!DJ67","v":0},{"$f":"'Model - Structuring'!DK67","v":0},{"$f":"'Model - Structuring'!DL67","v":0},{"$f":"'Model - Structuring'!DM67","v":0},{"$f":"'Model - Structuring'!DN67","v":0},{"$f":"'Model - Structuring'!DO67","v":0},{"$f":"'Model - Structuring'!DP67","v":0},{"$f":"'Model - Structuring'!DQ67","v":0},{"$f":"'Model - Structuring'!DR67","v":0},{"$f":"'Model - Structuring'!DS67","v":0},{"$f":"'Model - Structuring'!DT67","v":0},{"$f":"'Model - Structuring'!DU67","v":0},{"$f":"'Model - Structuring'!DV67","v":0},{"$f":"'Model - Structuring'!DW67","v":0},{"$f":"'Model - Structuring'!DX67","v":0},{"$f":"'Model - Structuring'!DY67","v":0},{"$f":"'Model - Structuring'!DZ67","v":0},{"$f":"'Model - Structuring'!EA67","v":0},{"$f":"'Model - Structuring'!EB67","v":0},{"$f":"'Model - Structuring'!EC67","v":0},{"$f":"'Model - Structuring'!ED67","v":0},{"$f":"'Model - Structuring'!EE67","v":0},{"$f":"'Model - Structuring'!EF67","v":0},{"$f":"'Model - Structuring'!EG67","v":0},{"$f":"'Model - Structuring'!EH67","v":0},{"$f":"'Model - Structuring'!EI67","v":0},{"$f":"'Model - Structuring'!EJ67","v":0},{"$f":"'Model - Structuring'!EK67","v":0},{"$f":"'Model - Structuring'!EL67","v":0},{"$f":"'Model - Structuring'!EM67","v":0},{"$f":"'Model - Structuring'!EN67","v":0},{"$f":"'Model - Structuring'!EO67","v":0},{"$f":"'Model - Structuring'!EP67","v":0},{"$f":"'Model - Structuring'!EQ67","v":0},{"$f":"'Model - Structuring'!ER67","v":0},{"$f":"'Model - Structuring'!ES67","v":0},{"$f":"'Model - Structuring'!ET67","v":0},{"$f":"'Model - Structuring'!EU67","v":0},{"$f":"'Model - Structuring'!EV67","v":0},{"$f":"'Model - Structuring'!EW67","v":0},{"$f":"'Model - Structuring'!EX67","v":0},{"$f":"'Model - Structuring'!EY67","v":0},{"$f":"'Model - Structuring'!EZ67","v":0},{"$f":"'Model - Structuring'!FA67","v":0},{"$f":"'Model - Structuring'!FB67","v":0},{"$f":"'Model - Structuring'!FC67","v":0},{"$f":"'Model - Structuring'!FD67","v":0},{"$f":"'Model - Structuring'!FE67","v":0},{"$f":"'Model - Structuring'!FF67","v":0},{"$f":"'Model - Structuring'!FG67","v":0},{"$f":"'Model - Structuring'!FH67","v":0},{"$f":"'Model - Structuring'!FI67","v":0},{"$f":"'Model - Structuring'!FJ67","v":0},{"$f":"'Model - Structuring'!FK67","v":0},{"$f":"'Model - Structuring'!FL67","v":0},{"$f":"'Model - Structuring'!FM67","v":0},{"$f":"'Model - Structuring'!FN67","v":0},{"$f":"'Model - Structuring'!FO67","v":0},{"$f":"'Model - Structuring'!FP67","v":0},{"$f":"'Model - Structuring'!FQ67","v":0},{"$f":"'Model - Structuring'!FR67","v":0},{"$f":"'Model - Structuring'!FS67","v":0},{"$f":"'Model - Structuring'!FT67","v":0},{"$f":"'Model - Structuring'!FU67","v":0},{"$f":"'Model - Structuring'!FV67","v":0},{"$f":"'Model - Structuring'!FW67","v":0},{"$f":"'Model - Structuring'!FX67","v":0},{"$f":"'Model - Structuring'!FY67","v":0},{"$f":"'Model - Structuring'!FZ67","v":0},{"$f":"'Model - Structuring'!GA67","v":0},{"$f":"'Model - Structuring'!GB67","v":0},{"$f":"'Model - Structuring'!GC67","v":0},{"$f":"'Model - Structuring'!GD67","v":0},{"$f":"'Model - Structuring'!GE67","v":0},{"$f":"'Model - Structuring'!GF67","v":0},{"$f":"'Model - Structuring'!GG67","v":0},{"$f":"'Model - Structuring'!GH67","v":0},{"$f":"'Model - Structuring'!GI67","v":0},{"$f":"'Model - Structuring'!GJ67","v":0},{"$f":"'Model - Structuring'!GK67","v":0},{"$f":"'Model - Structuring'!GL67","v":0},{"$f":"'Model - Structuring'!GM67","v":0}]
[null,null,null,null,"depreciation_base","Depreciation on Capital Expenditures Non Circular","InputS",null,null,{"$f":"'Model - Structuring'!K80","v":0},{"$f":"'Model - Structuring'!L80","v":5415730.7750279699},{"$f":"'Model - Structuring'!M80","v":5415730.7750279699},{"$f":"'Model - Structuring'!N80","v":5415730.7750279699},{"$f":"'Model - Structuring'!O80","v":5415730.7750279699},{"$f":"'Model - Structuring'!P80","v":5415730.7750279699},{"$f":"'Model - Structuring'!Q80","v":5415730.7750279699},{"$f":"'Model - Structuring'!R80","v":5415730.7750279699},{"$f":"'Model - Structuring'!S80","v":5415730.7750279699},{"$f":"'Model - Structuring'!T80","v":5415730.7750279699},{"$f":"'Model - Structuring'!U80","v":5415730.7750279699},{"$f":"'Model - Structuring'!V80","v":5415730.7750279699},{"$f":"'Model - Structuring'!W80","v":5415730.7750279699},{"$f":"'Model - Structuring'!X80","v":5415730.7750279699},{"$f":"'Model - Structuring'!Y80","v":5415730.7750279699},{"$f":"'Model - Structuring'!Z80","v":5415730.7750279699},{"$f":"'Model - Structuring'!AA80","v":5415730.7750279699},{"$f":"'Model - Structuring'!AB80","v":5415730.7750279699},{"$f":"'Model - Structuring'!AC80","v":5415730.7750279699},{"$f":"'Model - Structuring'!AD80","v":5415730.7750279699},{"$f":"'Model - Structuring'!AE80","v":5415730.7750279699},{"$f":"'Model - Structuring'!AF80","v":5415730.7750279699},{"$f":"'Model - Structuring'!AG80","v":5415730.7750279699},{"$f":"'Model - Structuring'!AH80","v":5415730.7750279699},{"$f":"'Model - Structuring'!AI80","v":5415730.7750279699},{"$f":"'Model - Structuring'!AJ80","v":5415730.7750279699},{"$f":"'Model - Structuring'!AK80","v":5415730.7750279699},{"$f":"'Model - Structuring'!AL80","v":5415730.7750279699},{"$f":"'Model - Structuring'!AM80","v":5415730.7750279699},{"$f":"'Model - Structuring'!AN80","v":5415730.7750279699},{"$f":"'Model - Structuring'!AO80","v":5415730.7750279699},{"$f":"'Model - Structuring'!AP80","v":5415730.7750279699},{"$f":"'Model - Structuring'!AQ80","v":5415730.7750279699},{"$f":"'Model - Structuring'!AR80","v":5415730.7750279699},{"$f":"'Model - Structuring'!AS80","v":5415730.7750279699},{"$f":"'Model - Structuring'!AT80","v":5415730.7750279699},{"$f":"'Model - Structuring'!AU80","v":5415730.7750279699},{"$f":"'Model - Structuring'!AV80","v":5415730.7750279699},{"$f":"'Model - Structuring'!AW80","v":5415730.7750279699},{"$f":"'Model - Structuring'!AX80","v":5415730.7750279699},{"$f":"'Model - Structuring'!AY80","v":5415730.7750279699},{"$f":"'Model - Structuring'!AZ80","v":0},{"$f":"'Model - Structuring'!BA80","v":0},{"$f":"'Model - Structuring'!BB80","v":0},{"$f":"'Model - Structuring'!BC80","v":0},{"$f":"'Model - Structuring'!BD80","v":0},{"$f":"'Model - Structuring'!BE80","v":0},{"$f":"'Model - Structuring'!BF80","v":0},{"$f":"'Model - Structuring'!BG80","v":0},{"$f":"'Model - Structuring'!BH80","v":0},{"$f":"'Model - Structuring'!BI80","v":0},{"$f":"'Model - Structuring'!BJ80","v":0},{"$f":"'Model - Structuring'!BK80","v":0},{"$f":"'Model - Structuring'!BL80","v":0},{"$f":"'Model - Structuring'!BM80","v":0},{"$f":"'Model - Structuring'!BN80","v":0},{"$f":"'Model - Structuring'!BO80","v":0},{"$f":"'Model - Structuring'!BP80","v":0},{"$f":"'Model - Structuring'!BQ80","v":0},{"$f":"'Model - Structuring'!BR80","v":0},{"$f":"'Model - Structuring'!BS80","v":0},{"$f":"'Model - Structuring'!BT80","v":0},{"$f":"'Model - Structuring'!BU80","v":0},{"$f":"'Model - Structuring'!BV80","v":0},{"$f":"'Model - Structuring'!BW80","v":0},{"$f":"'Model - Structuring'!BX80","v":0},{"$f":"'Model - Structuring'!BY80","v":0},{"$f":"'Model - Structuring'!BZ80","v":0},{"$f":"'Model - Structuring'!CA80","v":0},{"$f":"'Model - Structuring'!CB80","v":0},{"$f":"'Model - Structuring'!CC80","v":0},{"$f":"'Model - Structuring'!CD80","v":0},{"$f":"'Model - Structuring'!CE80","v":0},{"$f":"'Model - Structuring'!CF80","v":0},{"$f":"'Model - Structuring'!CG80","v":0},{"$f":"'Model - Structuring'!CH80","v":0},{"$f":"'Model - Structuring'!CI80","v":0},{"$f":"'Model - Structuring'!CJ80","v":0},{"$f":"'Model - Structuring'!CK80","v":0},{"$f":"'Model - Structuring'!CL80","v":0},{"$f":"'Model - Structuring'!CM80","v":0},{"$f":"'Model - Structuring'!CN80","v":0},{"$f":"'Model - Structuring'!CO80","v":0},{"$f":"'Model - Structuring'!CP80","v":0},{"$f":"'Model - Structuring'!CQ80","v":0},{"$f":"'Model - Structuring'!CR80","v":0},{"$f":"'Model - Structuring'!CS80","v":0},{"$f":"'Model - Structuring'!CT80","v":0},{"$f":"'Model - Structuring'!CU80","v":0},{"$f":"'Model - Structuring'!CV80","v":0},{"$f":"'Model - Structuring'!CW80","v":0},{"$f":"'Model - Structuring'!CX80","v":0},{"$f":"'Model - Structuring'!CY80","v":0},{"$f":"'Model - Structuring'!CZ80","v":0},{"$f":"'Model - Structuring'!DA80","v":0},{"$f":"'Model - Structuring'!DB80","v":0},{"$f":"'Model - Structuring'!DC80","v":0},{"$f":"'Model - Structuring'!DD80","v":0},{"$f":"'Model - Structuring'!DE80","v":0},{"$f":"'Model - Structuring'!DF80","v":0},{"$f":"'Model - Structuring'!DG80","v":0},{"$f":"'Model - Structuring'!DH80","v":0},{"$f":"'Model - Structuring'!DI80","v":0},{"$f":"'Model - Structuring'!DJ80","v":0},{"$f":"'Model - Structuring'!DK80","v":0},{"$f":"'Model - Structuring'!DL80","v":0},{"$f":"'Model - Structuring'!DM80","v":0},{"$f":"'Model - Structuring'!DN80","v":0},{"$f":"'Model - Structuring'!DO80","v":0},{"$f":"'Model - Structuring'!DP80","v":0},{"$f":"'Model - Structuring'!DQ80","v":0},{"$f":"'Model - Structuring'!DR80","v":0},{"$f":"'Model - Structuring'!DS80","v":0},{"$f":"'Model - Structuring'!DT80","v":0},{"$f":"'Model - Structuring'!DU80","v":0},{"$f":"'Model - Structuring'!DV80","v":0},{"$f":"'Model - Structuring'!DW80","v":0},{"$f":"'Model - Structuring'!DX80","v":0},{"$f":"'Model - Structuring'!DY80","v":0},{"$f":"'Model - Structuring'!DZ80","v":0},{"$f":"'Model - Structuring'!EA80","v":0},{"$f":"'Model - Structuring'!EB80","v":0},{"$f":"'Model - Structuring'!EC80","v":0},{"$f":"'Model - Structuring'!ED80","v":0},{"$f":"'Model - Structuring'!EE80","v":0},{"$f":"'Model - Structuring'!EF80","v":0},{"$f":"'Model - Structuring'!EG80","v":0},{"$f":"'Model - Structuring'!EH80","v":0},{"$f":"'Model - Structuring'!EI80","v":0},{"$f":"'Model - Structuring'!EJ80","v":0},{"$f":"'Model - Structuring'!EK80","v":0},{"$f":"'Model - Structuring'!EL80","v":0},{"$f":"'Model - Structuring'!EM80","v":0},{"$f":"'Model - Structuring'!EN80","v":0},{"$f":"'Model - Structuring'!EO80","v":0},{"$f":"'Model - Structuring'!EP80","v":0},{"$f":"'Model - Structuring'!EQ80","v":0},{"$f":"'Model - Structuring'!ER80","v":0},{"$f":"'Model - Structuring'!ES80","v":0},{"$f":"'Model - Structuring'!ET80","v":0},{"$f":"'Model - Structuring'!EU80","v":0},{"$f":"'Model - Structuring'!EV80","v":0},{"$f":"'Model - Structuring'!EW80","v":0},{"$f":"'Model - Structuring'!EX80","v":0},{"$f":"'Model - Structuring'!EY80","v":0},{"$f":"'Model - Structuring'!EZ80","v":0},{"$f":"'Model - Structuring'!FA80","v":0},{"$f":"'Model - Structuring'!FB80","v":0},{"$f":"'Model - Structuring'!FC80","v":0},{"$f":"'Model - Structuring'!FD80","v":0},{"$f":"'Model - Structuring'!FE80","v":0},{"$f":"'Model - Structuring'!FF80","v":0},{"$f":"'Model - Structuring'!FG80","v":0},{"$f":"'Model - Structuring'!FH80","v":0},{"$f":"'Model - Structuring'!FI80","v":0},{"$f":"'Model - Structuring'!FJ80","v":0},{"$f":"'Model - Structuring'!FK80","v":0},{"$f":"'Model - Structuring'!FL80","v":0},{"$f":"'Model - Structuring'!FM80","v":0},{"$f":"'Model - Structuring'!FN80","v":0},{"$f":"'Model - Structuring'!FO80","v":0},{"$f":"'Model - Structuring'!FP80","v":0},{"$f":"'Model - Structuring'!FQ80","v":0},{"$f":"'Model - Structuring'!FR80","v":0},{"$f":"'Model - Structuring'!FS80","v":0},{"$f":"'Model - Structuring'!FT80","v":0},{"$f":"'Model - Structuring'!FU80","v":0},{"$f":"'Model - Structuring'!FV80","v":0},{"$f":"'Model - Structuring'!FW80","v":0},{"$f":"'Model - Structuring'!FX80","v":0},{"$f":"'Model - Structuring'!FY80","v":0},{"$f":"'Model - Structuring'!FZ80","v":0},{"$f":"'Model - Structuring'!GA80","v":0},{"$f":"'Model - Structuring'!GB80","v":0},{"$f":"'Model - Structuring'!GC80","v":0},{"$f":"'Model - Structuring'!GD80","v":0},{"$f":"'Model - Structuring'!GE80","v":0},{"$f":"'Model - Structuring'!GF80","v":0},{"$f":"'Model - Structuring'!GG80","v":0},{"$f":"'Model - Structuring'!GH80","v":0},{"$f":"'Model - Structuring'!GI80","v":0},{"$f":"'Model - Structuring'!GJ80","v":0},{"$f":"'Model - Structuring'!GK80","v":0},{"$f":"'Model - Structuring'!GL80","v":0},{"$f":"'Model - Structuring'!GM80","v":0}]
[]
[null,"General Debt Parameters (Not Issue by Issue)"]
[null,null,"General Debt Inputs and Debt Size"]
[null,null,null,null,"number_of_issues","Number of issues ",{"$f":"G34","v":"InputC"},1]
[null,null,null,null,"fixed_debt_input","Fixed debt if Debt Option is Set to One (Good for Verification)","InputC",138403797.6404599]
[null,null,null,null,"eq_up_pct","Upfront equity Percent (Zero  is Pro-Rata)","InputC",1]
[null,null,null,null,"fixed_equity_input","Fixed equity","InputC"]
[null,null,null,null,"debt_pct_sr","Debt / capital ratio","InputC",0.8]
[null,null,null,null,"DSCR_Input","Minimum DSCR for sculpting & debt sizing","InputC",{"$f":"'Model - Structuring'!F116","v":1.35}]
[null,null,null,null,"DSCR_Target_Time_Series","Input Flexible DSCR that Changes Over Time","InputS",null,null,{"$f":"$H$35","v":1.35},{"$f":"$H$35","v":1.35},1.35,1.35,1.35,1.35,1.35,1.35,1.35,1.35,1.35,1.35,1.35,1.35,1.35,1.35,1.35,1.35,1.35,1.35,1.35,1.35,1.35,1.35,1.35,1.35,1.35,1.35,1.35,1.35,1.35,1.35,1.35,1.35,1.35,1.35,1.35,1.35,1.35,1.35,1.35,1.35,1.35,1.35,1.35,1.35,1.35,1.35,1.35,1.35,1.35,1.35,1.35,1.35,1.35,1.35,1.35,1.35,1.35,1.35,1.35,1.35,1.35,1.35,1.35,{"$f":"$H$35","v":1.35},1.35,1.35,1.35,1.35,1.35,1.35,1.35,1.35,1.35,1.35,1.35,1.35,1.35,1.35,1.35,1.35,1.35,1.35,1.35,1.35,1.35,1.35,1.35,1.35,1.35,1.35,1.35,1.35,1.35,1.35,1.35,1.35,1.35,1.35,1.35,1.35,1.35,1.35,1.35,1.35,1.35,1.35,1.35,1.35,1.35,1.35,1.35,1.35,1.35,1.35,1.35,1.35,1.35,1.35,1.35,1.35,1.35,1.35,1.35,1.35,1.35,1.35,1.35,{"$f":"$H$35","v":1.35},1.35,1.35,1.35,1.35,1.35,1.35,1.35,1.35,1.35,1.35,1.35,1.35,1.35,1.35,1.35,1.35,1.35,1.35,1.35,1.35,1.35,1.35,1.35,1.35,1.35,1.35,1.35,1.35,1.35,1.35,1.35,1.35,1.35,1.35,1.35,1.35,1.35,1.35,1.35,1.35,1.35,1.35,1.35,1.35,1.35,1.35,1.35,1.35,1.35,1.35,1.35,1.35,1.35,1.35,1.35]
[null,null,null,null,"debt_sizing_option","Debt Sizing Option Code (Fixed, Debt/Cap, DSCR, Min)","InputC",4,"1. Fixed; 2 Debt/Cap; 3. Cash Flow; 4. Minimum"]
[null,null,null,null,"Curved_Sculpting_Flag","Sculpt Option for Sculpting and Debt Sized from Debt/Cap",{"$f":"G277","v":"InputC"},2,"1.-Min;2.-Flat LLCR;3.-Curved without Constraint; 4.-Custom"]
[null,null,null,null,"Minimum_Repay_Flag","Flag for Applying Minimum Repayment (Curved Method)",{"$f":"G278","v":"InputC"},0,"0-No Constraint Applied; 1 - Apply Constraint"]
[null,null,null,null,"Minimum_Repayment","Minimum Repayment with Sculpting as Percent of Debt",{"$f":"G278","v":"InputC"},0,"Minimum Percent of Interest Included as Repayment"]
[null,null,null,null,"Apply_Sculpting_Ratio","Apply Sculpting Ratio",{"$f":"G279","v":"InputC"},0,"1- Apply Ratio of PV of Debt Service/Fixed Debt to Allocate Multiple Issues"]
[null,null,null,null,"Grace_Period","Number of Periods with no Repayment after COD","InputC",0,"Do not include construction period in grace period"]
[null,null,null,null,"Debt_Service_Period1","Period of Debt Service (e.g. six for Semi-Annual)","InputC",0," (0 is repayment in all periods; for example semi-annual model. Number is selected repayments e.g. 6 is payment in period 6, 12, 18 etc. with MOD -- Currently only implemented for first issue)"]
[]
[null,"Issue by Issue"]
[null,null,"Inputs for Tranche 1 - Senior"]
[null,null,null,null,"debt_code1","Code Debt type","InputC",1,"1 - Senior; 2 - Mezz; 3 - Shareholder; 4 - EBL; 5 - VAT Facility; 6 - Working Capital Facility; 7 - Standby; 8 - Refinancing; 9 - Tax Equity Bridge Loan"]
[null,null,null,null,"debt_pct1"," Senior debt One","InputC",1]
[null,null,null,null,"Sculpting_Flag1","Flag for Using Sculpting for Repayment for this Debt Issue","InputC",1,"1: for sculpting ; 0: fixed % inputs"]
[null,null,null,null,"tenor1","Tenor if Apply Sculpting","InputC",40,"Periods"]
[null,null,null,null,"senior_debt1_grace_period","senior_debt1_grace_period",{"$f":"G48","v":"InputC"},1]
[null,null,null,null,"Period_Int_Rate1","All-in interest rate - Issue One Periodic","InputS",null,"% p.p.",{"$f":"'Model - Structuring'!$G$114","v":1.4999999999999999E-2},{"$f":"'Model - Structuring'!$G$114","v":1.4999999999999999E-2},{"$f":"'Model - Structuring'!$G$114","v":1.4999999999999999E-2},{"$f":"'Model - Structuring'!$G$114","v":1.4999999999999999E-2},{"$f":"'Model - Structuring'!$G$114","v":1.4999999999999999E-2},{"$f":"'Model - Structuring'!$G$114","v":1.4999999999999999E-2},{"$f":"'Model - Structuring'!$G$114","v":1.4999999999999999E-2},{"$f":"'Model - Structuring'!$G$114","v":1.4999999999999999E-2},{"$f":"'Model - Structuring'!$G$114","v":1.4999999999999999E-2},{"$f":"'Model - Structuring'!$G$114","v":1.4999999999999999E-2},{"$f":"'Model - Structuring'!$G$114","v":1.4999999999999999E-2},{"$f":"'Model - Structuring'!$G$114","v":1.4999999999999999E-2},{"$f":"'Model - Structuring'!$G$114","v":1.4999999999999999E-2},{"$f":"'Model - Structuring'!$G$114","v":1.4999999999999999E-2},{"$f":"'Model - Structuring'!$G$114","v":1.4999999999999999E-2},{"$f":"'Model - Structuring'!$G$114","v":1.4999999999999999E-2},{"$f":"'Model - Structuring'!$G$114","v":1.4999999999999999E-2},{"$f":"'Model - Structuring'!$G$114","v":1.4999999999999999E-2},{"$f":"'Model - Structuring'!$G$114","v":1.4999999999999999E-2},{"$f":"'Model - Structuring'!$G$114","v":1.4999999999999999E-2},{"$f":"'Model - Structuring'!$G$114","v":1.4999999999999999E-2},{"$f":"'Model - Structuring'!$G$114","v":1.4999999999999999E-2},{"$f":"'Model - Structuring'!$G$114","v":1.4999999999999999E-2},{"$f":"'Model - Structuring'!$G$114","v":1.4999999999999999E-2},{"$f":"'Model - Structuring'!$G$114","v":1.4999999999999999E-2},{"$f":"'Model - Structuring'!$G$114","v":1.4999999999999999E-2},{"$f":"'Model - Structuring'!$G$114","v":1.4999999999999999E-2},{"$f":"'Model - Structuring'!$G$114","v":1.4999999999999999E-2},{"$f":"'Model - Structuring'!$G$114","v":1.4999999999999999E-2},{"$f":"'Model - Structuring'!$G$114","v":1.4999999999999999E-2},{"$f":"'Model - Structuring'!$G$114","v":1.4999999999999999E-2},{"$f":"'Model - Structuring'!$G$114","v":1.4999999999999999E-2},{"$f":"'Model - Structuring'!$G$114","v":1.4999999999999999E-2},{"$f":"'Model - Structuring'!$G$114","v":1.4999999999999999E-2},{"$f":"'Model - Structuring'!$G$114","v":1.4999999999999999E-2},{"$f":"'Model - Structuring'!$G$114","v":1.4999999999999999E-2},{"$f":"'Model - Structuring'!$G$114","v":1.4999999999999999E-2},{"$f":"'Model - Structuring'!$G$114","v":1.4999999999999999E-2},{"$f":"'Model - Structuring'!$G$114","v":1.4999999999999999E-2},{"$f":"'Model - Structuring'!$G$114","v":1.4999999999999999E-2},{"$f":"'Model - Structuring'!$G$114","v":1.4999999999999999E-2},{"$f":"'Model - Structuring'!$G$114","v":1.4999999999999999E-2},{"$f":"'Model - Structuring'!$G$114","v":1.4999999999999999E-2},{"$f":"'Model - Structuring'!$G$114","v":1.4999999999999999E-2},{"$f":"'Model - Structuring'!$G$114","v":1.4999999999999999E-2},{"$f":"'Model - Structuring'!$G$114","v":1.4999999999999999E-2},{"$f":"'Model - Structuring'!$G$114","v":1.4999999999999999E-2},{"$f":"'Model - Structuring'!$G$114","v":1.4999999999999999E-2},{"$f":"'Model - Structuring'!$G$114","v":1.4999999999999999E-2},{"$f":"'Model - Structuring'!$G$114","v":1.4999999999999999E-2},{"$f":"'Model - Structuring'!$G$114","v":1.4999999999999999E-2},{"$f":"'Model - Structuring'!$G$114","v":1.4999999999999999E-2},{"$f":"'Model - Structuring'!$G$114","v":1.4999999999999999E-2},{"$f":"'Model - Structuring'!$G$114","v":1.4999999999999999E-2},{"$f":"'Model - Structuring'!$G$114","v":1.4999999999999999E-2},{"$f":"'Model - Structuring'!$G$114","v":1.4999999999999999E-2},{"$f":"'Model - Structuring'!$G$114","v":1.4999999999999999E-2},{"$f":"'Model - Structuring'!$G$114","v":1.4999999999999999E-2},{"$f":"'Model - Structuring'!$G$114","v":1.4999999999999999E-2},{"$f":"'Model - Structuring'!$G$114","v":1.4999999999999999E-2},{"$f":"'Model - Structuring'!$G$114","v":1.4999999999999999E-2},{"$f":"'Model - Structuring'!$G$114","v":1.4999999999999999E-2},{"$f":"'Model - Structuring'!$G$114","v":1.4999999999999999E-2},{"$f":"'Model - Structuring'!$G$114","v":1.4999999999999999E-2},{"$f":"'Model - Structuring'!$G$114","v":1.4999999999999999E-2},{"$f":"'Model - Structuring'!$G$114","v":1.4999999999999999E-2},{"$f":"'Model - Structuring'!$G$114","v":1.4999999999999999E-2},{"$f":"'Model - Structuring'!$G$114","v":1.4999999999999999E-2},{"$f":"'Model - Structuring'!$G$114","v":1.4999999999999999E-2},{"$f":"'Model - Structuring'!$G$114","v":1.4999999999999999E-2},{"$f":"'Model - Structuring'!$G$114","v":1.4999999999999999E-2},{"$f":"'Model - Structuring'!$G$114","v":1.4999999999999999E-2},{"$f":"'Model - Structuring'!$G$114","v":1.4999999999999999E-2},{"$f":"'Model - Structuring'!$G$114","v":1.4999999999999999E-2},{"$f":"'Model - Structuring'!$G$114","v":1.4999999999999999E-2},{"$f":"'Model - Structuring'!$G$114","v":1.4999999999999999E-2},{"$f":"'Model - Structuring'!$G$114","v":1.4999999999999999E-2},{"$f":"'Model - Structuring'!$G$114","v":1.4999999999999999E-2},{"$f":"'Model - Structuring'!$G$114","v":1.4999999999999999E-2},{"$f":"'Model - Structuring'!$G$114","v":1.4999999999999999E-2},{"$f":"'Model - Structuring'!$G$114","v":1.4999999999999999E-2},{"$f":"'Model - Structuring'!$G$114","v":1.4999999999999999E-2},{"$f":"'Model - Structuring'!$G$114","v":1.4999999999999999E-2},{"$f":"'Model - Structuring'!$G$114","v":1.4999999999999999E-2},{"$f":"'Model - Structuring'!$G$114","v":1.4999999999999999E-2},{"$f":"'Model - Structuring'!$G$114","v":1.4999999999999999E-2},{"$f":"'Model - Structuring'!$G$114","v":1.4999999999999999E-2},{"$f":"'Model - Structuring'!$G$114","v":1.4999999999999999E-2},{"$f":"'Model - Structuring'!$G$114","v":1.4999999999999999E-2},{"$f":"'Model - Structuring'!$G$114","v":1.4999999999999999E-2},{"$f":"'Model - Structuring'!$G$114","v":1.4999999999999999E-2},{"$f":"'Model - Structuring'!$G$114","v":1.4999999999999999E-2},{"$f":"'Model - Structuring'!$G$114","v":1.4999999999999999E-2},{"$f":"'Model - Structuring'!$G$114","v":1.4999999999999999E-2},{"$f":"'Model - Structuring'!$G$114","v":1.4999999999999999E-2},{"$f":"'Model - Structuring'!$G$114","v":1.4999999999999999E-2},{"$f":"'Model - Structuring'!$G$114","v":1.4999999999999999E-2},{"$f":"'Model - Structuring'!$G$114","v":1.4999999999999999E-2},{"$f":"'Model - Structuring'!$G$114","v":1.4999999999999999E-2},{"$f":"'Model - Structuring'!$G$114","v":1.4999999999999999E-2},{"$f":"'Model - Structuring'!$G$114","v":1.4999999999999999E-2},{"$f":"'Model - Structuring'!$G$114","v":1.4999999999999999E-2},{"$f":"'Model - Structuring'!$G$114","v":1.4999999999999999E-2},{"$f":"'Model - Structuring'!$G$114","v":1.4999999999999999E-2},{"$f":"'Model - Structuring'!$G$114","v":1.4999999999999999E-2},{"$f":"'Model - Structuring'!$G$114","v":1.4999999999999999E-2},{"$f":"'Model - Structuring'!$G$114","v":1.4999999999999999E-2},{"$f":"'Model - Structuring'!$G$114","v":1.4999999999999999E-2},{"$f":"'Model - Structuring'!$G$114","v":1.4999999999999999E-2},{"$f":"'Model - Structuring'!$G$114","v":1.4999999999999999E-2},{"$f":"'Model - Structuring'!$G$114","v":1.4999999999999999E-2},{"$f":"'Model - Structuring'!$G$114","v":1.4999999999999999E-2},{"$f":"'Model - Structuring'!$G$114","v":1.4999999999999999E-2},{"$f":"'Model - Structuring'!$G$114","v":1.4999999999999999E-2},{"$f":"'Model - Structuring'!$G$114","v":1.4999999999999999E-2},{"$f":"'Model - Structuring'!$G$114","v":1.4999999999999999E-2},{"$f":"'Model - Structuring'!$G$114","v":1.4999999999999999E-2},{"$f":"'Model - Structuring'!$G$114","v":1.4999999999999999E-2},{"$f":"'Model - Structuring'!$G$114","v":1.4999999999999999E-2},{"$f":"'Model - Structuring'!$G$114","v":1.4999999999999999E-2},{"$f":"'Model - Structuring'!$G$114","v":1.4999999999999999E-2},{"$f":"'Model - Structuring'!$G$114","v":1.4999999999999999E-2},{"$f":"'Model - Structuring'!$G$114","v":1.4999999999999999E-2},{"$f":"'Model - Structuring'!$G$114","v":1.4999999999999999E-2},{"$f":"'Model - Structuring'!$G$114","v":1.4999999999999999E-2},{"$f":"'Model - Structuring'!$G$114","v":1.4999999999999999E-2},{"$f":"'Model - Structuring'!$G$114","v":1.4999999999999999E-2},{"$f":"'Model - Structuring'!$G$114","v":1.4999999999999999E-2},{"$f":"'Model - Structuring'!$G$114","v":1.4999999999999999E-2},{"$f":"'Model - Structuring'!$G$114","v":1.4999999999999999E-2},{"$f":"'Model - Structuring'!$G$114","v":1.4999999999999999E-2},{"$f":"'Model - Structuring'!$G$114","v":1.4999999999999999E-2},{"$f":"'Model - Structuring'!$G$114","v":1.4999999999999999E-2},{"$f":"'Model - Structuring'!$G$114","v":1.4999999999999999E-2},{"$f":"'Model - Structuring'!$G$114","v":1.4999999999999999E-2},{"$f":"'Model - Structuring'!$G$114","v":1.4999999999999999E-2},{"$f":"'Model - Structuring'!$G$114","v":1.4999999999999999E-2},{"$f":"'Model - Structuring'!$G$114","v":1.4999999999999999E-2},{"$f":"'Model - Structuring'!$G$114","v":1.4999999999999999E-2},{"$f":"'Model - Structuring'!$G$114","v":1.4999999999999999E-2},{"$f":"'Model - Structuring'!$G$114","v":1.4999999999999999E-2},{"$f":"'Model - Structuring'!$G$114","v":1.4999999999999999E-2},{"$f":"'Model - Structuring'!$G$114","v":1.4999999999999999E-2},{"$f":"'Model - Structuring'!$G$114","v":1.4999999999999999E-2},{"$f":"'Model - Structuring'!$G$114","v":1.4999999999999999E-2},{"$f":"'Model - Structuring'!$G$114","v":1.4999999999999999E-2},{"$f":"'Model - Structuring'!$G$114","v":1.4999999999999999E-2},{"$f":"'Model - Structuring'!$G$114","v":1.4999999999999999E-2},{"$f":"'Model - Structuring'!$G$114","v":1.4999999999999999E-2},{"$f":"'Model - Structuring'!$G$114","v":1.4999999999999999E-2},{"$f":"'Model - Structuring'!$G$114","v":1.4999999999999999E-2},{"$f":"'Model - Structuring'!$G$114","v":1.4999999999999999E-2},{"$f":"'Model - Structuring'!$G$114","v":1.4999999999999999E-2},{"$f":"'Model - Structuring'!$G$114","v":1.4999999999999999E-2},{"$f":"'Model - Structuring'!$G$114","v":1.4999999999999999E-2},{"$f":"'Model - Structuring'!$G$114","v":1.4999999999999999E-2},{"$f":"'Model - Structuring'!$G$114","v":1.4999999999999999E-2},{"$f":"'Model - Structuring'!$G$114","v":1.4999999999999999E-2},{"$f":"'Model - Structuring'!$G$114","v":1.4999999999999999E-2},{"$f":"'Model - Structuring'!$G$114","v":1.4999999999999999E-2},{"$f":"'Model - Structuring'!$G$114","v":1.4999999999999999E-2},{"$f":"'Model - Structuring'!$G$114","v":1.4999999999999999E-2},{"$f":"'Model - Structuring'!$G$114","v":1.4999999999999999E-2},{"$f":"'Model - Structuring'!$G$114","v":1.4999999999999999E-2},{"$f":"'Model - Structuring'!$G$114","v":1.4999999999999999E-2},{"$f":"'Model - Structuring'!$G$114","v":1.4999999999999999E-2},{"$f":"'Model - Structuring'!$G$114","v":1.4999999999999999E-2},{"$f":"'Model - Structuring'!$G$114","v":1.4999999999999999E-2},{"$f":"'Model - Structuring'!$G$114","v":1.4999999999999999E-2},{"$f":"'Model - Structuring'!$G$114","v":1.4999999999999999E-2},{"$f":"'Model - Structuring'!$G$114","v":1.4999999999999999E-2},{"$f":"'Model - Structuring'!$G$114","v":1.4999999999999999E-2},{"$f":"'Model - Structuring'!$G$114","v":1.4999999999999999E-2},{"$f":"'Model - Structuring'!$G$114","v":1.4999999999999999E-2},{"$f":"'Model - Structuring'!$G$114","v":1.4999999999999999E-2},{"$f":"'Model - Structuring'!$G$114","v":1.4999999999999999E-2},{"$f":"'Model - Structuring'!$G$114","v":1.4999999999999999E-2},{"$f":"'Model - Structuring'!$G$114","v":1.4999999999999999E-2},{"$f":"'Model - Structuring'!$G$114","v":1.4999999999999999E-2},{"$f":"'Model - Structuring'!$G$114","v":1.4999999999999999E-2},{"$f":"'Model - Structuring'!$G$114","v":1.4999999999999999E-2},{"$f":"'Model - Structuring'!$G$114","v":1.4999999999999999E-2},{"$f":"'Model - Structuring'!$G$114","v":1.4999999999999999E-2},{"$f":"'Model - Structuring'!$G$114","v":1.4999999999999999E-2},{"$f":"'Model - Structuring'!$G$114","v":1.4999999999999999E-2}]
[null,null,null,null,"up_front_fees1"," Senior debt One up-front","InputC",{"$f":"'Model - Structuring'!F135","v":0}]
[null,null,null,null,"cmfee1pA"," Senior debt One commitment fee (Periodic)","InputS",null,"% p.p.",0,0,0,0,0,0,0,0,0,0,0,0,0,0,0,0,0,0,0,0,0,0,0,0,0,0,0,0,0,0,0,0,0,0,0,0,0,0,0,0,0,0,0,0,0,0,0,0,0,0,0,0,0,0,0,0,0,0,0,0,0,0,0,0,0,0,0,0,0,0,0,0,0,0,0,0,0,0,0,0,0,0,0,0,0,0,0,0,0,0,0,0,0,0,0,0,0,0,0,0,0,0,0,0,0,0,0,0,0,0,0,0,0,0,0,0,0,0,0,0,0,0,0,0,0,0,0,0,0,0,0,0,0,0,0,0,0,0,0,0,0,0,0,0,0,0,0,0,0,0,0,0,0,0,0,0,0,0,0,0,0,0,0,0,0,0,0,0,0,0,0,0,0,0,0,0,0,0,0,0,0,0,0,0,0]
[null,null,null,null,"debt_repayment_pct1","Repayment Percent if No Sculpting","InputS",null,null,0,0,0,0,0,0,0,0,0,0,0,0,0,0,0,0,0,0,0,0,0,0,0,0,0,0,0,0,0,0,0,0,0,0,0,0,1.2832869966443537E-2,1.3025363015940188E-2,1.3220743461179291E-2,1.3419054613096981E-2,1.3620340432293435E-2,1.3824645538777837E-2,1.4032015221859505E-2,1.4242495450187399E-2,1.4456132881940207E-2,1.467297487516931E-2,1.489306949829685E-2,1.5116465540771304E-2,1.5343212523882873E-2,1.5573360711741115E-2,1.5806961122417234E-2,1.6044065539253489E-2,1.6284726522342294E-2,1.6528997420177428E-2,1.6776932381480088E-2,1.7028586367202291E-2,1.7284015162710324E-2,1.7543275390150978E-2,1.7806424521003245E-2,1.8073520888818296E-2,1.8344623702150568E-2,1.8619793057682823E-2,1.8899089953548071E-2,1.9182576302851289E-2,1.9470314947394058E-2,1.9762369671604968E-2,2.0058805216679045E-2,2.0359687294929232E-2,2.0665082604353169E-2,2.0975058843418465E-2,2.1289684726069742E-2,2.160902999696079E-2,2.1933165446915204E-2,2.2262162928618927E-2,2.2596095372548215E-2,2.2935036803136435E-2,2.3279062355183483E-2,2.3628248290511234E-2,2.3982672014868905E-2,2.4342412095091935E-2,2.4707548276518315E-2,2.5078161500666094E-2,2.545433392317608E-2,2.5836148932023725E-2,2.6223691166004079E-2,2.661704653349414E-2,2.701630223149655E-2,2.7421546764968999E-2,0,0,0,0,0,0,0,0,0,0,0,0,0,0,0,0,0,0,0,0,0,0,0,0,0,0,0,0,0,0,0,0,0,0,0,0,0,0,0,0,0,0,0,0,0,0,0,0,0,0,0,0,0,0,0,0,0,0,0,0,0,0,0,0,0,0,0,0,0,0,0,0,0,0,0,0,0,0,0,0,0,0,0,0,0,0,0,0,0,0,0,0,0,0,0,0,0]
[null,null,null,null,"Annual_Int_Rate_DSRA1","Annual Interest Rate for Pmt method DSRA","InputC",0]
[null,null,null,null,"Fees_pre_COD1","Fees Paid Pre-COD","InputS",null,null,0,0,0,0,0,0,0,0,0,0,0,0,0,0,0,0,0,0,0,0,0,0,0,0,0,0,0,0,0,0,0,0,0,0,0,0,0,0,0,0,0,0,0,0,0,0,0,0,0,0,0,0,0,0,0,0,0,0,0,0,0,0,0,0,0,0,0,0,0,0,0,0,0,0,0,0,0,0,0,0,0,0,0,0,0,0,0,0,0,0,0,0,0,0,0,0,0,0,0,0,0,0,0,0,0,0,0,0,0,0,0,0,0,0,0,0,0,0,0,0,0,0,0,0,0,0,0,0,0,0,0,0,0,0,0,0,0,0,0,0,0,0,0,0,0,0,0,0,0,0,0,0,0,0,0,0,0,0,0,0,0,0,0,0,0,0,0,0,0,0,0,0,0,0,0,0,0,0,0,0,0,0,0,0,0]
[null,null,null,null,"Fees_all_periods1","Fees Paid Pre-COD and Post COD","InputS",null,null,0,0,0,0,0,0,0,0,0,0,0,0,0,0,0,0,0,0,0,0,0,0,0,0,0,0,0,0,0,0,0,0,0,0,0,0,0,0,0,0,0,0,0,0,0,0,0,0,0,0,0,0,0,0,0,0,0,0,0,0,0,0,0,0,0,0,0,0,0,0,0,0,0,0,0,0,0,0,0,0,0,0,0,0,0,0,0,0,0,0,0,0,0,0,0,0,0,0,0,0,0,0,0,0,0,0,0,0,0,0,0,0,0,0,0,0,0,0,0,0,0,0,0,0,0,0,0,0,0,0,0,0,0,0,0,0,0,0,0,0,0,0,0,0,0,0,0,0,0,0,0,0,0,0,0,0,0,0,0,0,0,0,0,0,0,0,0,0,0,0,0,0,0,0,0,0,0,0,0,0,0,0,0,0,0]
[null,null,null,null,"PRG_Applied1","Flag for Applying PRG","InputC",0]
[null,null,null,null,"WTH_Percentage1","Percent Applicable for Witholding","InputC",0]
[null,null,null,null,"Alternative_Currency1","Alternative Currency for Debt Tranche","InputC",0," (0 for Base Currency; 1 for Alternative Currency)"]
[null,null,null,null,"Fund_Up_Front1","Draw Before Equity for Issue (One Yes; Zero No)","InputC",0," (0 Draw After Equity or Pro-Rata; 1 Draw Up-Front)"]
[]
[null,null,"Inputs for Tranche 2 - Tax Equity Bridge"]
[null,null,null,null,"debt_code2","Code Debt type","InputC",1,"1 - Senior; 2 - Mezz; 3 - Shareholder; 4 - EBL; 5 - VAT Facility; 6 - Working Capital Facility; 7 - Standby; 8 - Refinancing; 9 - Tax Equity Bridge Loan"]
[null,null,null,null,"debt_pct2"," Senior debt One","InputC",0]
[null,null,null,null,"Sculpting_Flag2","Flag for Using Sculpting for Repayment for this Debt Issue","InputC",0,"1: for sculpting ; 0: fixed % inputs"]
[null,null,null,null,"tenor2","Tenor if Apply Sculpting","InputC",1,"Periods"]
[null,null,null,null,"senior_debt2_grace_period","senior_debt1_grace_period",{"$f":"G66","v":"InputC"},12]
[null,null,null,null,"Period_Int_Rate2","All-in interest rate - Issue One Periodic","InputS",null,"% p.p.",0,0,0,4.6499999999999996E-3,4.8050000000000002E-3,4.6499999999999996E-3,4.8050000000000002E-3,4.8050000000000002E-3,4.1333333333333326E-3,4.1505555555555558E-3,3.3333333333333335E-3,3.4444444444444444E-3,3.4444444444444444E-3,3.1111111111111114E-3,3.4444444444444444E-3,3.3333333333333335E-3,3.4444444444444444E-3,3.3333333333333335E-3,3.4444444444444444E-3,3.4444444444444444E-3,3.3333333333333335E-3,3.4444444444444444E-3,3.3333333333333335E-3,3.4444444444444444E-3,3.4444444444444444E-3,3.1111111111111114E-3,3.4444444444444444E-3,3.3333333333333335E-3,3.4444444444444444E-3,3.3333333333333335E-3,3.4444444444444444E-3,3.4444444444444444E-3,3.3333333333333335E-3,3.4444444444444444E-3,3.3333333333333335E-3,3.4444444444444444E-3,3.4444444444444444E-3,3.1111111111111114E-3,3.4444444444444444E-3,0,0,0,0,0,0,0,0,0,0,0,0,0,0,0,0,0,0,0,0,0,0,0,0,0,0,0,0,0,0,0,0,0,0,0,0,0,0,0,0,0,0,0,0,0,0,0,0,0,0,0,0,0,0,0,0,0,0,0,0,0,0,0,0,0,0,0,0,0,0,0,0,0,0,0,0,0,0,0,0,0,0,0,0,0,0,0,0,0,0,0,0,0,0,0,0,0,0,0,0,0,0,0,0,0,0,0,0,0,0,0,0,0,0,0,0,0,0,0,0,0,0,0,0,0,0,0,0,0,0,0,0,0,0,0,0,0,0,0,0,0,0,0,0,0,0]
[null,null,null,null,"up_front_fees2"," Senior debt One up-front","InputC",0.01]
[null,null,null,null,"cmfee2pA"," Senior debt One commitment fee (Periodic)","InputS",null,"% p.p.",9.4722222222222213E-4,8.8611111111111117E-4,9.4722222222222213E-4,9.1666666666666654E-4,9.4722222222222213E-4,9.1666666666666654E-4,9.4722222222222213E-4,9.4722222222222213E-4,9.1666666666666654E-4,9.4722222222222213E-4,9.1666666666666654E-4,9.4722222222222213E-4,9.4722222222222213E-4,8.5555555555555558E-4,9.4722222222222213E-4,9.1666666666666654E-4,9.4722222222222213E-4,9.1666666666666654E-4,9.4722222222222213E-4,9.4722222222222213E-4,9.1666666666666654E-4,9.4722222222222213E-4,9.1666666666666654E-4,9.4722222222222213E-4,9.4722222222222213E-4,8.5555555555555558E-4,9.4722222222222213E-4,9.1666666666666654E-4,9.4722222222222213E-4,9.1666666666666654E-4,9.4722222222222213E-4,9.4722222222222213E-4,9.1666666666666654E-4,9.4722222222222213E-4,9.1666666666666654E-4,9.4722222222222213E-4,9.4722222222222213E-4,8.5555555555555558E-4,9.4722222222222213E-4,9.1666666666666654E-4,9.4722222222222213E-4,9.1666666666666654E-4,9.4722222222222213E-4,9.4722222222222213E-4,9.1666666666666654E-4,9.4722222222222213E-4,9.1666666666666654E-4,9.4722222222222213E-4,9.4722222222222213E-4,8.8611111111111117E-4,9.4722222222222213E-4,9.1666666666666654E-4,9.4722222222222213E-4,9.1666666666666654E-4,9.4722222222222213E-4,9.4722222222222213E-4,9.1666666666666654E-4,9.4722222222222213E-4,9.1666666666666654E-4,9.4722222222222213E-4,9.4722222222222213E-4,8.5555555555555558E-4,9.4722222222222213E-4,9.1666666666666654E-4,9.4722222222222213E-4,9.1666666666666654E-4,0,0,0,0,0,0,0,0,0,0,0,0,0,0,0,0,0,0,0,0,0,0,0,0,0,0,0,0,0,0,0,0,0,0,0,0,0,0,0,0,0,0,0,0,0,0,0,0,0,0,0,0,0,0,0,0,0,0,0,0,0,0,0,0,0,0,0,0,0,0,0,0,0,0,0,0,0,0,0,0,0,0,0,0,0,0,0,0,0,0,0,0,0,0,0,0,0,0,0,0,0,0,0,0,0,0,0,0,0,0,0,0,0,0,0,0,0,0,0]
[null,null,null,null,"debt_repayment_pct2","Repayment Percent of No Sculpting","InputS",null,null,0,0,0,0,0,0,0,0,0,0,0,0,0,0,0,0,0,0,0,0,0,0,0,0,0,0,0,0,0,0,0,0,0,0,0,0,0,0,0,0,0,0,0,0,0,0,0,0,0,0,0,0,0,0,0,0,0,0,0,0,0,0,0,0,0,0,0,0,0,0,0,0,0,0,0,0,0,0,0,0,0,0,0,0,0,0,0,0,0,0,0,0,0,0,0,0,0,0,0,0,0,0,0,0,0,0,0,0,0,0,0,0,0,0,0,0,0,0,0,0,0,0,0,0,0,0,0,0,0,0,0,0,0,0,0,0,0,0,0,0,0,0,0,0,0,0,0,0,0,0,0,0,0,0,0,0,0,0,0,0,0,0,0,0,0,0,0,0,0,0,0,0,0,0,0,0,0,0,0,0,0,0,0,0,0]
[null,null,null,null,"Annual_Int_Rate_DSRA2","Annual Interest Rate for Pmt method DSRA","InputC",0]
[null,null,null,null,"Fees_pre_COD2","Fees Paid Pre-COD","InputS",null,null,0,0,0,0,0,0,0,0,0,0,0,0,0,0,0,0,0,0,0,0,0,0,0,0,0,0,0,0,0,0,0,0,0,0,0,0,0,0,0,0,0,0,0,0,0,0,0,0,0,0,0,0,0,0,0,0,0,0,0,0,0,0,0,0,0,0,0,0,0,0,0,0,0,0,0,0,0,0,0,0,0,0,0,0,0,0,0,0,0,0,0,0,0,0,0,0,0,0,0,0,0,0,0,0,0,0,0,0,0,0,0,0,0,0,0,0,0,0,0,0,0,0,0,0,0,0,0,0,0,0,0,0,0,0,0,0,0,0,0,0,0,0,0,0,0,0,0,0,0,0,0,0,0,0,0,0,0,0,0,0,0,0,0,0,0,0,0,0,0,0,0,0,0,0,0,0,0,0,0,0,0,0,0,0,0]
[null,null,null,null,"Fees_all_periods2","Fees Paid Pre-COD and Post COD","InputS",null,null,0,0,0,0,0,0,0,0,0,0,0,0,0,0,0,0,0,0,0,0,0,0,0,0,0,0,0,0,0,0,0,0,0,0,0,0,0,0,0,0,0,0,0,0,0,0,0,0,0,0,0,0,0,0,0,0,0,0,0,0,0,0,0,0,0,0,0,0,0,0,0,0,0,0,0,0,0,0,0,0,0,0,0,0,0,0,0,0,0,0,0,0,0,0,0,0,0,0,0,0,0,0,0,0,0,0,0,0,0,0,0,0,0,0,0,0,0,0,0,0,0,0,0,0,0,0,0,0,0,0,0,0,0,0,0,0,0,0,0,0,0,0,0,0,0,0,0,0,0,0,0,0,0,0,0,0,0,0,0,0,0,0,0,0,0,0,0,0,0,0,0,0,0,0,0,0,0,0,0,0,0,0,0,0,0]
[null,null,null,null,"PRG_Applied2","Flag for Applying PRG","InputC",0]
[null,null,null,null,"WTH_Percentage2","Percent Applicable for Witholding","InputC",0]
[null,null,null,null,"Alternative_Currency2","Alternative Currency for Debt Tranche","InputC",0," (0 for Base Currency; 1 for Alternative Currency)"]
[null,null,null,null,"Fund_Up_Front2","Draw Before Equity for Issue (One Yes; Zero No)","InputC",0," (0 Draw After Equity or Pro-Rata; 1 Draw Up-Front)"]
[null,null,null,null,"max_commitment1","Tax Equity Commitment","InputC",196298.14676499995]
[]
[null,null,"Inputs for Tranche 3 - EBL"]
[null,null,null,null,"debt_code3","Code Debt type","InputC",4,"1 - Senior; 2 - Mezz; 3 - Shareholder; 4 - EBL; 5 - VAT Facility; 6 - Working Capital Facility; 7 - Standby; 8 - Refinancing; 9 - Tax Equity Bridge Loan"]
[null,null,null,null,"debt_pct3"," Senior debt One","InputC",0]
[null,null,null,null,"Sculpting_Flag3","Flag for Using Sculpting for Repayment for this Debt Issue","InputC",1,"1: for sculpting ; 0: fixed % inputs"]
[null,null,null,null,"tenor3","Tenor if Apply Sculpting","InputC",35,"Periods"]
[null,null,null,null,"senior_debt3_grace_period","senior_debt1_grace_period",{"$f":"G85","v":"InputC"},12]
[null,null,null,null,"Period_Int_Rate3","All-in interest rate - Issue One Periodic","InputS",null,"% p.p.",0,0,0,3.3333333333333335E-3,3.4444444444444444E-3,3.3333333333333335E-3,3.4444444444444444E-3,3.4444444444444444E-3,3.3333333333333335E-3,3.4444444444444444E-3,3.3333333333333335E-3,3.4444444444444444E-3,3.4444444444444444E-3,3.1111111111111114E-3,3.4444444444444444E-3,3.3333333333333335E-3,3.4444444444444444E-3,3.3333333333333335E-3,3.4444444444444444E-3,3.4444444444444444E-3,3.3333333333333335E-3,3.4444444444444444E-3,3.3333333333333335E-3,3.4444444444444444E-3,3.4444444444444444E-3,3.1111111111111114E-3,3.4444444444444444E-3,3.3333333333333335E-3,3.4444444444444444E-3,3.3333333333333335E-3,3.4444444444444444E-3,3.4444444444444444E-3,3.3333333333333335E-3,3.4444444444444444E-3,3.3333333333333335E-3,3.4444444444444444E-3,3.4444444444444444E-3,3.1111111111111114E-3,3.4444444444444444E-3,0,0,0,0,0,0,0,0,0,0,0,0,0,0,0,0,0,0,0,0,0,0,0,0,0,0,0,0,0,0,0,0,0,0,0,0,0,0,0,0,0,0,0,0,0,0,0,0,0,0,0,0,0,0,0,0,0,0,0,0,0,0,0,0,0,0,0,0,0,0,0,0,0,0,0,0,0,0,0,0,0,0,0,0,0,0,0,0,0,0,0,0,0,0,0,0,0,0,0,0,0,0,0,0,0,0,0,0,0,0,0,0,0,0,0,0,0,0,0,0,0,0,0,0,0,0,0,0,0,0,0,0,0,0,0,0,0,0,0,0,0,0,0,0,0,0]
[null,null,null,null,"up_front_fees3"," Senior debt One up-front","InputC",0.01]
[null,null,null,null,"cmfee3pA"," Senior debt One commitment fee (Periodic)","InputS",null,"% p.p.",9.4722222222222213E-4,8.8611111111111117E-4,9.4722222222222213E-4,9.1666666666666654E-4,9.4722222222222213E-4,9.1666666666666654E-4,9.4722222222222213E-4,9.4722222222222213E-4,9.1666666666666654E-4,9.4722222222222213E-4,9.1666666666666654E-4,9.4722222222222213E-4,9.4722222222222213E-4,8.5555555555555558E-4,9.4722222222222213E-4,9.1666666666666654E-4,9.4722222222222213E-4,9.1666666666666654E-4,9.4722222222222213E-4,9.4722222222222213E-4,9.1666666666666654E-4,9.4722222222222213E-4,9.1666666666666654E-4,9.4722222222222213E-4,9.4722222222222213E-4,8.5555555555555558E-4,9.4722222222222213E-4,9.1666666666666654E-4,9.4722222222222213E-4,9.1666666666666654E-4,9.4722222222222213E-4,9.4722222222222213E-4,9.1666666666666654E-4,9.4722222222222213E-4,9.1666666666666654E-4,9.4722222222222213E-4,9.4722222222222213E-4,8.5555555555555558E-4,9.4722222222222213E-4,9.1666666666666654E-4,9.4722222222222213E-4,9.1666666666666654E-4,9.4722222222222213E-4,9.4722222222222213E-4,9.1666666666666654E-4,9.4722222222222213E-4,9.1666666666666654E-4,9.4722222222222213E-4,9.4722222222222213E-4,8.8611111111111117E-4,9.4722222222222213E-4,9.1666666666666654E-4,9.4722222222222213E-4,9.1666666666666654E-4,9.4722222222222213E-4,9.4722222222222213E-4,9.1666666666666654E-4,9.4722222222222213E-4,9.1666666666666654E-4,9.4722222222222213E-4,9.4722222222222213E-4,8.5555555555555558E-4,9.4722222222222213E-4,9.1666666666666654E-4,9.4722222222222213E-4,9.1666666666666654E-4,0,0,0,0,0,0,0,0,0,0,0,0,0,0,0,0,0,0,0,0,0,0,0,0,0,0,0,0,0,0,0,0,0,0,0,0,0,0,0,0,0,0,0,0,0,0,0,0,0,0,0,0,0,0,0,0,0,0,0,0,0,0,0,0,0,0,0,0,0,0,0,0,0,0,0,0,0,0,0,0,0,0,0,0,0,0,0,0,0,0,0,0,0,0,0,0,0,0,0,0,0,0,0,0,0,0,0,0,0,0,0,0,0,0,0,0,0,0,0]
[null,null,null,null,"debt_repayment_pct3","Repayment Percent of No Sculpting","InputS",null,null,0,0,0,0,0,0,0,0,0,0,0,0,0,0,0,0,0,0,0,0,0,0,0,0,0,0,0,0,0,0,0,0,0,0,0,0,1.2832869966443537E-2,1.3025363015940188E-2,1.3220743461179291E-2,1.3419054613096981E-2,1.3620340432293435E-2,1.3824645538777837E-2,1.4032015221859505E-2,1.4242495450187399E-2,1.4456132881940207E-2,1.467297487516931E-2,1.489306949829685E-2,1.5116465540771304E-2,1.5343212523882873E-2,1.5573360711741115E-2,1.5806961122417234E-2,1.6044065539253489E-2,1.6284726522342294E-2,1.6528997420177428E-2,1.6776932381480088E-2,1.7028586367202291E-2,1.7284015162710324E-2,1.7543275390150978E-2,1.7806424521003245E-2,1.8073520888818296E-2,1.8344623702150568E-2,1.8619793057682823E-2,1.8899089953548071E-2,1.9182576302851289E-2,1.9470314947394058E-2,1.9762369671604968E-2,2.0058805216679045E-2,2.0359687294929232E-2,2.0665082604353169E-2,2.0975058843418465E-2,2.1289684726069742E-2,2.160902999696079E-2,2.1933165446915204E-2,2.2262162928618927E-2,2.2596095372548215E-2,2.2935036803136435E-2,2.3279062355183483E-2,2.3628248290511234E-2,2.3982672014868905E-2,2.4342412095091935E-2,2.4707548276518315E-2,2.5078161500666094E-2,2.545433392317608E-2,2.5836148932023725E-2,2.6223691166004079E-2,2.661704653349414E-2,2.701630223149655E-2,2.7421546764968999E-2,0,0,0,0,0,0,0,0,0,0,0,0,0,0,0,0,0,0,0,0,0,0,0,0,0,0,0,0,0,0,0,0,0,0,0,0,0,0,0,0,0,0,0,0,0,0,0,0,0,0,0,0,0,0,0,0,0,0,0,0,0,0,0,0,0,0,0,0,0,0,0,0,0,0,0,0,0,0,0,0,0,0,0,0,0,0,0,0,0,0,0,0,0,0,0,0,0]
[null,null,null,null,"Annual_Int_Rate_DSRA3","Annual Interest Rate for Pmt method DSRA","InputC",0]
[null,null,null,null,"Fees_pre_COD3","Fees Paid Pre-COD","InputS",null,null,0,0,0,0,0,0,0,0,0,0,0,0,0,0,0,0,0,0,0,0,0,0,0,0,0,0,0,0,0,0,0,0,0,0,0,0,0,0,0,0,0,0,0,0,0,0,0,0,0,0,0,0,0,0,0,0,0,0,0,0,0,0,0,0,0,0,0,0,0,0,0,0,0,0,0,0,0,0,0,0,0,0,0,0,0,0,0,0,0,0,0,0,0,0,0,0,0,0,0,0,0,0,0,0,0,0,0,0,0,0,0,0,0,0,0,0,0,0,0,0,0,0,0,0,0,0,0,0,0,0,0,0,0,0,0,0,0,0,0,0,0,0,0,0,0,0,0,0,0,0,0,0,0,0,0,0,0,0,0,0,0,0,0,0,0,0,0,0,0,0,0,0,0,0,0,0,0,0,0,0,0,0,0,0,0]
[null,null,null,null,"Fees_all_periods3","Fees Paid Pre-COD and Post COD","InputS",null,null,0,0,0,0,0,0,0,0,0,0,0,0,0,0,0,0,0,0,0,0,0,0,0,0,0,0,0,0,0,0,0,0,0,0,0,0,0,0,0,0,0,0,0,0,0,0,0,0,0,0,0,0,0,0,0,0,0,0,0,0,0,0,0,0,0,0,0,0,0,0,0,0,0,0,0,0,0,0,0,0,0,0,0,0,0,0,0,0,0,0,0,0,0,0,0,0,0,0,0,0,0,0,0,0,0,0,0,0,0,0,0,0,0,0,0,0,0,0,0,0,0,0,0,0,0,0,0,0,0,0,0,0,0,0,0,0,0,0,0,0,0,0,0,0,0,0,0,0,0,0,0,0,0,0,0,0,0,0,0,0,0,0,0,0,0,0,0,0,0,0,0,0,0,0,0,0,0,0,0,0,0,0,0,0,0]
[null,null,null,null,"PRG_Applied3","Flag for Applying PRG","InputC",0]
[null,null,null,null,"WTH_Percentage3","Percent Applicable for Witholding","InputC",0]
[null,null,null,null,"Alternative_Currency3","Alternative Currency for Debt Tranche","InputC",0," (0 for Base Currency; 1 for Alternative Currency)"]
[null,null,null,null,"Fund_Up_Front3","Draw Before Equity for Issue (One Yes; Zero No)","InputC",0," (0 Draw After Equity or Pro-Rata; 1 Draw Up-Front)"]
[]
[null,null,"Inputs for Tranche 4 - Senior"]
[null,null,null,null,"debt_code4","Code Debt type","InputC",1,"1 - Senior; 2 - Mezz; 3 - Shareholder; 4 - EBL; 5 - VAT Facility; 6 - Working Capital Facility; 7 - Standby; 8 - Refinancing; 9 - Tax Equity Bridge Loan"]
[null,null,null,null,"debt_pct4"," Senior debt One","InputC",0]
[null,null,null,null,"Sculpting_Flag4","Flag for Using Sculpting for Repayment for this Debt Issue","InputC",1,"1: for sculpting ; 0: fixed % inputs"]
[null,null,null,null,"tenor4","Tenor if Apply Sculpting","InputC",37,"Periods"]
[null,null,null,null,"senior_debt4_grace_period","senior_debt1_grace_period",{"$f":"G103","v":"InputC"},12]
[null,null,null,null,"Period_Int_Rate4","All-in interest rate - Issue One Periodic","InputS",null,"% p.p.",3.3333333333333332E-4,3.3333333333333332E-4,3.3333333333333332E-4,3.3333333333333332E-4,3.3333333333333332E-4,3.3333333333333332E-4,3.3333333333333332E-4,3.3333333333333332E-4,3.3333333333333332E-4,3.3333333333333332E-4,3.3333333333333332E-4,3.3333333333333332E-4,3.3333333333333332E-4,3.3333333333333332E-4,2E-3,2E-3,2E-3,2E-3,2E-3,2E-3,2E-3,2E-3,2E-3,2E-3,2E-3,2E-3,2E-3,2E-3,2E-3,2E-3,2E-3,2E-3,2E-3,2E-3,2E-3,2E-3,2E-3,2E-3,2E-3,2E-3,2E-3,2E-3,2E-3,2E-3,2E-3,2E-3,2E-3,2E-3,2E-3,2E-3,2E-3,2E-3,2E-3,2E-3,2E-3,2E-3,2E-3,2E-3,2E-3,2E-3,2E-3,2E-3,2E-3,2E-3,2E-3,2E-3,2E-3,2E-3,2E-3,2E-3,2E-3,2E-3,2E-3,2E-3,2E-3,2E-3,2E-3,2E-3,2E-3,2E-3,2E-3,2E-3,2E-3,2E-3,2E-3,2E-3,2E-3,2E-3,2E-3,2E-3,2E-3,2E-3,2E-3,2E-3,2E-3,2E-3,2E-3,2E-3,2E-3,2E-3,2E-3,2E-3,2E-3,2E-3,2E-3,2E-3,2E-3,2E-3,2E-3,2E-3,2E-3,2E-3,2E-3,2E-3,2E-3,2E-3,2E-3,2E-3,2E-3,2E-3,2E-3,2E-3,2E-3,2E-3,0,0,0,0,0,0,0,0,0,0,0,0,0,0,0,0,0,0,0,0,0,0,0,0,0,0,0,0,0,0,0,0,0,0,0,0,0,0,0,0,0,0,0,0,0,0,0,0,0,0,0,0,0,0,0,0,0,0,0,0,0]
[null,null,null,null,"up_front_fees4"," Senior debt One up-front","InputC",1.2E-2]
[null,null,null,null,"cmfee4pA"," Senior debt One commitment fee (Periodic)","InputS",null,"% p.p.",6.6666666666666664E-4,6.6666666666666664E-4,6.6666666666666664E-4,6.6666666666666664E-4,6.6666666666666664E-4,6.6666666666666664E-4,6.6666666666666664E-4,6.6666666666666664E-4,6.6666666666666664E-4,6.6666666666666664E-4,6.6666666666666664E-4,6.6666666666666664E-4,6.6666666666666664E-4,6.6666666666666664E-4,6.6666666666666664E-4,6.6666666666666664E-4,6.6666666666666664E-4,6.6666666666666664E-4,6.6666666666666664E-4,6.6666666666666664E-4,6.6666666666666664E-4,6.6666666666666664E-4,6.6666666666666664E-4,6.6666666666666664E-4,6.6666666666666664E-4,6.6666666666666664E-4,6.6666666666666664E-4,6.6666666666666664E-4,6.6666666666666664E-4,6.6666666666666664E-4,6.6666666666666664E-4,6.6666666666666664E-4,6.6666666666666664E-4,6.6666666666666664E-4,6.6666666666666664E-4,6.6666666666666664E-4,6.6666666666666664E-4,6.6666666666666664E-4,6.6666666666666664E-4,6.6666666666666664E-4,6.6666666666666664E-4,6.6666666666666664E-4,6.6666666666666664E-4,6.6666666666666664E-4,6.6666666666666664E-4,6.6666666666666664E-4,6.6666666666666664E-4,6.6666666666666664E-4,6.6666666666666664E-4,6.6666666666666664E-4,6.6666666666666664E-4,6.6666666666666664E-4,6.6666666666666664E-4,6.6666666666666664E-4,6.6666666666666664E-4,6.6666666666666664E-4,6.6666666666666664E-4,6.6666666666666664E-4,6.6666666666666664E-4,6.6666666666666664E-4,6.6666666666666664E-4,6.6666666666666664E-4,6.6666666666666664E-4,6.6666666666666664E-4,6.6666666666666664E-4,6.6666666666666664E-4,6.6666666666666664E-4,6.6666666666666664E-4,6.6666666666666664E-4,6.6666666666666664E-4,6.6666666666666664E-4,6.6666666666666664E-4,6.6666666666666664E-4,6.6666666666666664E-4,6.6666666666666664E-4,6.6666666666666664E-4,6.6666666666666664E-4,6.6666666666666664E-4,6.6666666666666664E-4,6.6666666666666664E-4,6.6666666666666664E-4,6.6666666666666664E-4,6.6666666666666664E-4,6.6666666666666664E-4,6.6666666666666664E-4,6.6666666666666664E-4,6.6666666666666664E-4,6.6666666666666664E-4,6.6666666666666664E-4,6.6666666666666664E-4,6.6666666666666664E-4,6.6666666666666664E-4,6.6666666666666664E-4,6.6666666666666664E-4,6.6666666666666664E-4,6.6666666666666664E-4,6.6666666666666664E-4,6.6666666666666664E-4,6.6666666666666664E-4,6.6666666666666664E-4,6.6666666666666664E-4,6.6666666666666664E-4,6.6666666666666664E-4,6.6666666666666664E-4,6.6666666666666664E-4,6.6666666666666664E-4,6.6666666666666664E-4,6.6666666666666664E-4,6.6666666666666664E-4,6.6666666666666664E-4,6.6666666666666664E-4,6.6666666666666664E-4,6.6666666666666664E-4,6.6666666666666664E-4,6.6666666666666664E-4,6.6666666666666664E-4,6.6666666666666664E-4,6.6666666666666664E-4,6.6666666666666664E-4,6.6666666666666664E-4,6.6666666666666664E-4,6.6666666666666664E-4,6.6666666666666664E-4,6.6666666666666664E-4,6.6666666666666664E-4,6.6666666666666664E-4,6.6666666666666664E-4,6.6666666666666664E-4,6.6666666666666664E-4,6.6666666666666664E-4,6.6666666666666664E-4,6.6666666666666664E-4,6.6666666666666664E-4,6.6666666666666664E-4,6.6666666666666664E-4,6.6666666666666664E-4,6.6666666666666664E-4,6.6666666666666664E-4,6.6666666666666664E-4,6.6666666666666664E-4,6.6666666666666664E-4,6.6666666666666664E-4,6.6666666666666664E-4,6.6666666666666664E-4,6.6666666666666664E-4,6.6666666666666664E-4,6.6666666666666664E-4,6.6666666666666664E-4,6.6666666666666664E-4,6.6666666666666664E-4,6.6666666666666664E-4,6.6666666666666664E-4,6.6666666666666664E-4,6.6666666666666664E-4,6.6666666666666664E-4,6.6666666666666664E-4,6.6666666666666664E-4,6.6666666666666664E-4,6.6666666666666664E-4,6.6666666666666664E-4,6.6666666666666664E-4,6.6666666666666664E-4,6.6666666666666664E-4,6.6666666666666664E-4,6.6666666666666664E-4,6.6666666666666664E-4,6.6666666666666664E-4,6.6666666666666664E-4,6.6666666666666664E-4,6.6666666666666664E-4,6.6666666666666664E-4,6.6666666666666664E-4,6.6666666666666664E-4,6.6666666666666664E-4,6.6666666666666664E-4,6.6666666666666664E-4,6.6666666666666664E-4,6.6666666666666664E-4,6.6666666666666664E-4,6.6666666666666664E-4,6.6666666666666664E-4,6.6666666666666664E-4,6.6666666666666664E-4,6.6666666666666664E-4,6.6666666666666664E-4]
[null,null,null,null,"debt_repayment_pct4","Repayment Percent of No Sculpting","InputS",null,null,0,0,0,0,0,0,0,0,0,0,0,0,0,0,0,0,0,0,0,0,0,0,0,0,0,0,0,0,0,0,0,0,0,0,0,0,1.2832869966443537E-2,1.3025363015940188E-2,1.3220743461179291E-2,1.3419054613096981E-2,1.3620340432293435E-2,1.3824645538777837E-2,1.4032015221859505E-2,1.4242495450187399E-2,1.4456132881940207E-2,1.467297487516931E-2,1.489306949829685E-2,1.5116465540771304E-2,1.5343212523882873E-2,1.5573360711741115E-2,1.5806961122417234E-2,1.6044065539253489E-2,1.6284726522342294E-2,1.6528997420177428E-2,1.6776932381480088E-2,1.7028586367202291E-2,1.7284015162710324E-2,1.7543275390150978E-2,1.7806424521003245E-2,1.8073520888818296E-2,1.8344623702150568E-2,1.8619793057682823E-2,1.8899089953548071E-2,1.9182576302851289E-2,1.9470314947394058E-2,1.9762369671604968E-2,2.0058805216679045E-2,2.0359687294929232E-2,2.0665082604353169E-2,2.0975058843418465E-2,2.1289684726069742E-2,2.160902999696079E-2,2.1933165446915204E-2,2.2262162928618927E-2,2.2596095372548215E-2,2.2935036803136435E-2,2.3279062355183483E-2,2.3628248290511234E-2,2.3982672014868905E-2,2.4342412095091935E-2,2.4707548276518315E-2,2.5078161500666094E-2,2.545433392317608E-2,2.5836148932023725E-2,2.6223691166004079E-2,2.661704653349414E-2,2.701630223149655E-2,2.7421546764968999E-2,0,0,0,0,0,0,0,0,0,0,0,0,0,0,0,0,0,0,0,0,0,0,0,0,0,0,0,0,0,0,0,0,0,0,0,0,0,0,0,0,0,0,0,0,0,0,0,0,0,0,0,0,0,0,0,0,0,0,0,0,0,0,0,0,0,0,0,0,0,0,0,0,0,0,0,0,0,0,0,0,0,0,0,0,0,0,0,0,0,0,0,0,0,0,0,0,0]
[null,null,null,null,"Annual_Int_Rate_DSRA4","Annual Interest Rate for Pmt method DSRA","InputC",0]
[null,null,null,null,"Fees_pre_COD4","Fees Paid Pre-COD","InputS",null,null,0,0,0,0,0,0,0,0,0,0,0,0,0,0,0,0,0,0,0,0,0,0,0,0,0,0,0,0,0,0,0,0,0,0,0,0,0,0,0,0,0,0,0,0,0,0,0,0,0,0,0,0,0,0,0,0,0,0,0,0,0,0,0,0,0,0,0,0,0,0,0,0,0,0,0,0,0,0,0,0,0,0,0,0,0,0,0,0,0,0,0,0,0,0,0,0,0,0,0,0,0,0,0,0,0,0,0,0,0,0,0,0,0,0,0,0,0,0,0,0,0,0,0,0,0,0,0,0,0,0,0,0,0,0,0,0,0,0,0,0,0,0,0,0,0,0,0,0,0,0,0,0,0,0,0,0,0,0,0,0,0,0,0,0,0,0,0,0,0,0,0,0,0,0,0,0,0,0,0,0,0,0,0,0,0]
[null,null,null,null,"Fees_all_periods4","Fees Paid Pre-COD and Post COD","InputS",null,null,0,0,0,0,0,0,0,0,0,0,0,0,0,0,0,0,0,0,0,0,0,0,0,0,0,0,0,0,0,0,0,0,0,0,0,0,0,0,0,0,0,0,0,0,0,0,0,0,0,0,0,0,0,0,0,0,0,0,0,0,0,0,0,0,0,0,0,0,0,0,0,0,0,0,0,0,0,0,0,0,0,0,0,0,0,0,0,0,0,0,0,0,0,0,0,0,0,0,0,0,0,0,0,0,0,0,0,0,0,0,0,0,0,0,0,0,0,0,0,0,0,0,0,0,0,0,0,0,0,0,0,0,0,0,0,0,0,0,0,0,0,0,0,0,0,0,0,0,0,0,0,0,0,0,0,0,0,0,0,0,0,0,0,0,0,0,0,0,0,0,0,0,0,0,0,0,0,0,0,0,0,0,0,0,0]
[null,null,null,null,"PRG_Applied4","Flag for Applying PRG","InputC",0]
[null,null,null,null,"WTH_Percentage4","Percent Applicable for Witholding","InputC",0]
[null,null,null,null,"Alternative_Currency4","Alternative Currency for Debt Tranche","InputC",0," (0 for Base Currency; 1 for Alternative Currency)"]
[null,null,null,null,"Fund_Up_Front4","Draw Before Equity for Issue (One Yes; Zero No)","InputC",0," (0 Draw After Equity or Pro-Rata; 1 Draw Up-Front)"]
[]
[null,null,"Inputs for Tranche 5 - Senior"]
[null,null,null,null,"debt_code5","Code Debt type","InputC",1,"1 - Senior; 2 - Mezz; 3 - Shareholder; 4 - EBL; 5 - VAT Facility; 6 - Working Capital Facility; 7 - Standby; 8 - Refinancing; 9 - Tax Equity Bridge Loan"]
[null,null,null,null,"debt_pct5"," Senior debt One","InputC",0]
[null,null,null,null,"Sculpting_Flag5","Flag for Using Sculpting for Repayment for this Debt Issue","InputC",1,"1: for sculpting ; 0: fixed % inputs"]
[null,null,null,null,"tenor5","Tenor if Apply Sculpting","InputC",24,"Periods"]
[null,null,null,null,"debt_repayment_pct5","Repayment Percent of No Sculpting","InputS",null,null,0,0,0,0,0,0,0,0,0,0,0,0,0,0,0,0,0,0,0,0,0,0,0,0,0,0,0,0,0,0,0,0,0,0,0,0,0,0,0,0,0,0,0,0,0,0,0,0,0,0,0,0,0,0,0,0,0,0,0,0,0,0,0,0,0,0,0,0,0,0,0,0,0,0,0,0,0,0,0,0,0,0,0,0,0,0,0,0,0,0,0,0,0,0,0,0,0,0,0,0,0,0,0,0,0,0,0,0,0,0,0,0,0,0,0,0,0,0,0,0,0,0,0,0,0,0,0,0,0,0,0,0,0,0,0,0,0,0,0,0,0,0,0,0,0,0,0,0,0,0,0,0,0,0,0,0,0,0,0,0,0,0,0,0,0,0,0,0,0,0,0,0,0,0,0,0,0,0,0,0,0,0,0,0,0]
[null,null,null,null,"senior_debt5_grace_period","senior_debt1_grace_period",{"$f":"G121","v":"InputC"},12]
[null,null,null,null,"Period_Int_Rate5","All-in interest rate - Issue One Periodic","InputS",null,"% p.p.",0,0,0,0,0,0,0,0,0,0,0,0,0,0,0,0,0,0,0,0,0,0,0,0,0,0,0,0,0,0,0,0,0,0,0,0,0,0,0,0,0,0,0,0,0,0,0,0,0,0,0,0,0,0,0,0,0,0,0,0,0,0,0,0,0,0,0,0,0,0,0,0,0,0,0,0,0,0,0,0,0,0,0,0,0,0,0,0,0,0,0,0,0,0,0,0,0,0,0,0,0,0,0,0,0,0,0,0,0,0,0,0,0,0,0,0,0,0,0,0,0,0,0,0,0,0,0,0,0,0,0,0,0,0,0,0,0,0,0,0,0,0,0,0,0,0,0,0,0,0,0,0,0,0,0,0,0,0,0,0,0,0,0,0,0,0,0,0,0,0,0,0,0,0,0,0,0,0,0,0,0,0,0,0,0]
[null,null,null,null,"up_front_fees5"," Senior debt One up-front","InputC",0]
[null,null,null,null,"cmfee5pA"," Senior debt One commitment fee (Periodic)","InputS",null,"% p.p.",0,0,0,0,0,0,0,0,0,0,0,0,0,0,0,0,0,0,0,0,0,0,0,0,0,0,0,0,0,0,0,0,0,0,0,0,0,0,0,0,0,0,0,0,0,0,0,0,0,0,0,0,0,0,0,0,0,0,0,0,0,0,0,0,0,0,0,0,0,0,0,0,0,0,0,0,0,0,0,0,0,0,0,0,0,0,0,0,0,0,0,0,0,0,0,0,0,0,0,0,0,0,0,0,0,0,0,0,0,0,0,0,0,0,0,0,0,0,0,0,0,0,0,0,0,0,0,0,0,0,0,0,0,0,0,0,0,0,0,0,0,0,0,0,0,0,0,0,0,0,0,0,0,0,0,0,0,0,0,0,0,0,0,0,0,0,0,0,0,0,0,0,0,0,0,0,0,0,0,0,0,0,0,0,0]
[null,null,null,null,"Annual_Int_Rate_DSRA5","Annual Interest Rate for Pmt method DSRA","InputC",0]
[null,null,null,null,"Fees_pre_COD5","Fees Paid Pre-COD","InputS",null,null,0,0,0,0,0,0,0,0,0,0,0,0,0,0,0,0,0,0,0,0,0,0,0,0,0,0,0,0,0,0,0,0,0,0,0,0,0,0,0,0,0,0,0,0,0,0,0,0,0,0,0,0,0,0,0,0,0,0,0,0,0,0,0,0,0,0,0,0,0,0,0,0,0,0,0,0,0,0,0,0,0,0,0,0,0,0,0,0,0,0,0,0,0,0,0,0,0,0,0,0,0,0,0,0,0,0,0,0,0,0,0,0,0,0,0,0,0,0,0,0,0,0,0,0,0,0,0,0,0,0,0,0,0,0,0,0,0,0,0,0,0,0,0,0,0,0,0,0,0,0,0,0,0,0,0,0,0,0,0,0,0,0,0,0,0,0,0,0,0,0,0,0,0,0,0,0,0,0,0,0,0,0,0,0,0]
[null,null,null,null,"Fees_all_periods5","Fees Paid Pre-COD and Post COD","InputS",null,null,0,0,0,0,0,0,0,0,0,0,0,0,0,0,0,0,0,0,0,0,0,0,0,0,0,0,0,0,0,0,0,0,0,0,0,0,0,0,0,0,0,0,0,0,0,0,0,0,0,0,0,0,0,0,0,0,0,0,0,0,0,0,0,0,0,0,0,0,0,0,0,0,0,0,0,0,0,0,0,0,0,0,0,0,0,0,0,0,0,0,0,0,0,0,0,0,0,0,0,0,0,0,0,0,0,0,0,0,0,0,0,0,0,0,0,0,0,0,0,0,0,0,0,0,0,0,0,0,0,0,0,0,0,0,0,0,0,0,0,0,0,0,0,0,0,0,0,0,0,0,0,0,0,0,0,0,0,0,0,0,0,0,0,0,0,0,0,0,0,0,0,0,0,0,0,0,0,0,0,0,0,0,0,0,0]
[null,null,null,null,"PRG_Applied5","Flag for Applying PRG","InputC",0]
[null,null,null,null,"WTH_Percentage5","Percent Applicable for Witholding","InputC",0]
[null,null,null,null,"Alternative_Currency5","Alternative Currency for Debt Tranche","InputC",0," (0 for Base Currency; 1 for Alternative Currency)"]
[null,null,null,null,"Fund_Up_Front5","Draw Before Equity for Issue (One Yes; Zero No)","InputC",0," (0 Draw After Equity or Pro-Rata; 1 Draw Up-Front)"]
[null,null,null,null,"max_commitment1","Tax Equity Commitment","InputC",0,"Total Tax Equiy Commitment"]
[]
[null,null,"Inputs for Tranche 6 - Senior"]
[null,null,null,null,"debt_code6","Code Debt type","InputC",1,"1 - Senior; 2 - Mezz; 3 - Shareholder; 4 - EBL; 5 - VAT Facility; 6 - Working Capital Facility; 7 - Standby; 8 - Refinancing; 9 - Tax Equity Bridge Loan"]
[null,null,null,null,"debt_pct6"," Senior debt One","InputC",0]
[null,null,null,null,"Sculpting_Flag6","Flag for Using Sculpting for Repayment for this Debt Issue","InputC",1,"1: for sculpting ; 0: fixed % inputs"]
[null,null,null,null,"tenor6","Tenor if Apply Sculpting","InputC",10,"Periods"]
[null,null,null,null,"debt_repayment_pct6","Repayment Percent of No Sculpting","InputS",null,null,0,0,0,0,0,0,0,0,0,0,0,0,0,0,0,0,0,0,0,0,0,0,0,0,0,0,0,0,0,0,0,0,0,0,0,0,1.2832869966443537E-2,1.3025363015940188E-2,1.3220743461179291E-2,1.3419054613096981E-2,1.3620340432293435E-2,1.3824645538777837E-2,1.4032015221859505E-2,1.4242495450187399E-2,1.4456132881940207E-2,1.467297487516931E-2,1.489306949829685E-2,1.5116465540771304E-2,1.5343212523882873E-2,1.5573360711741115E-2,1.5806961122417234E-2,1.6044065539253489E-2,1.6284726522342294E-2,1.6528997420177428E-2,1.6776932381480088E-2,1.7028586367202291E-2,1.7284015162710324E-2,1.7543275390150978E-2,1.7806424521003245E-2,1.8073520888818296E-2,1.8344623702150568E-2,1.8619793057682823E-2,1.8899089953548071E-2,1.9182576302851289E-2,1.9470314947394058E-2,1.9762369671604968E-2,2.0058805216679045E-2,2.0359687294929232E-2,2.0665082604353169E-2,2.0975058843418465E-2,2.1289684726069742E-2,2.160902999696079E-2,2.1933165446915204E-2,2.2262162928618927E-2,2.2596095372548215E-2,2.2935036803136435E-2,2.3279062355183483E-2,2.3628248290511234E-2,2.3982672014868905E-2,2.4342412095091935E-2,2.4707548276518315E-2,2.5078161500666094E-2,2.545433392317608E-2,2.5836148932023725E-2,2.6223691166004079E-2,2.661704653349414E-2,2.701630223149655E-2,2.7421546764968999E-2,0,0,0,0,0,0,0,0,0,0,0,0,0,0,0,0,0,0,0,0,0,0,0,0,0,0,0,0,0,0,0,0,0,0,0,0,0,0,0,0,0,0,0,0,0,0,0,0,0,0,0,0,0,0,0,0,0,0,0,0,0,0,0,0,0,0,0,0,0,0,0,0,0,0,0,0,0,0,0,0,0,0,0,0,0,0,0,0,0,0,0,0,0,0,0,0,0]
[null,null,null,null,"senior_debt6_grace_period","senior_debt1_grace_period",{"$f":"G140","v":"InputC"},12]
[null,null,null,null,"Period_Int_Rate6","All-in interest rate - Issue One Periodic","InputS",null,"% p.p.",0,5.4043888888888891E-2,5.2082222222222231E-2,4.8719166666666675E-2,4.6971111111111116E-2,4.3691388888888898E-2,4.1860000000000008E-2,3.8663611111111121E-2,3.9333066666666673E-2,3.9012711111111112E-2,3.9551311111111119E-2,3.9006002777777785E-2,3.9754733333333341E-2,3.9198566666666677E-2,3.9936177777777783E-2,3.936196944444445E-2,4.0014377777777783E-2,3.9579438888888895E-2,4.0014377777777783E-2,3.936196944444445E-2,4.0014377777777783E-2,3.936196944444445E-2,4.0014377777777783E-2,3.936196944444445E-2,4.0014377777777783E-2,3.9579438888888895E-2,4.0014377777777783E-2,3.936196944444445E-2,4.0014377777777783E-2,3.936196944444445E-2,4.0014377777777783E-2,3.936196944444445E-2,4.0014377777777783E-2,3.9579438888888895E-2,4.0014377777777783E-2,3.936196944444445E-2,4.0014377777777783E-2,3.936196944444445E-2,4.0014377777777783E-2,3.936196944444445E-2,4.0014377777777783E-2,3.9579438888888895E-2,4.0014377777777783E-2,3.936196944444445E-2,4.0014377777777783E-2,3.936196944444445E-2,4.0014377777777783E-2,3.936196944444445E-2,4.0014377777777783E-2,3.9579438888888895E-2,4.0014377777777783E-2,3.936196944444445E-2,4.0014377777777783E-2,-2.0595555555555558,0,0,0,0,0,0,0,0,0,0,0,0,0,0,0,0,0,0,0,0,0,0,0,0,0,0,0,0,0,0,0,0,0,0,0,0,0,0,0,0,0,0,0,0,0,0,0,0,0,0,0,0,0,0,0,0,0,0,0,0,0,0,0,0,0,0,0,0,0,0,0,0,0,0,0,0,0,0,0,0,0,0,0,0,0,0,0,0,0,0,0,0,0,0,0,0,0,0,0,0,0,0,0,0,0,0,0,0,0,0,0,0,0,0,0,0,0,0,0,0,0,0,0,0,0,0,0,0,0,0,0]
[null,null,null,null,"up_front_fees6"," Senior debt One up-front","InputC",0]
[null,null,null,null,"cmfee6pA"," Senior debt One commitment fee (Periodic)","InputS",null,"% p.p.",8.3333333333333339E-4,8.3333333333333339E-4,8.3333333333333339E-4,8.3333333333333339E-4,8.3333333333333339E-4,8.3333333333333339E-4,8.3333333333333339E-4,8.3333333333333339E-4,8.3333333333333339E-4,8.3333333333333339E-4,8.3333333333333339E-4,8.3333333333333339E-4,8.3333333333333339E-4,8.3333333333333339E-4,8.3333333333333339E-4,8.3333333333333339E-4,8.3333333333333339E-4,8.3333333333333339E-4,8.3333333333333339E-4,8.3333333333333339E-4,8.3333333333333339E-4,8.3333333333333339E-4,8.3333333333333339E-4,8.3333333333333339E-4,8.3333333333333339E-4,8.3333333333333339E-4,8.3333333333333339E-4,8.3333333333333339E-4,8.3333333333333339E-4,8.3333333333333339E-4,8.3333333333333339E-4,8.3333333333333339E-4,8.3333333333333339E-4,8.3333333333333339E-4,8.3333333333333339E-4,8.3333333333333339E-4,8.3333333333333339E-4,8.3333333333333339E-4,8.3333333333333339E-4,8.3333333333333339E-4,8.3333333333333339E-4,8.3333333333333339E-4,8.3333333333333339E-4,8.3333333333333339E-4,8.3333333333333339E-4,8.3333333333333339E-4,8.3333333333333339E-4,8.3333333333333339E-4,8.3333333333333339E-4,8.3333333333333339E-4,8.3333333333333339E-4,8.3333333333333339E-4,8.3333333333333339E-4,8.3333333333333339E-4,8.3333333333333339E-4,8.3333333333333339E-4,8.3333333333333339E-4,8.3333333333333339E-4,8.3333333333333339E-4,8.3333333333333339E-4,8.3333333333333339E-4,8.3333333333333339E-4,8.3333333333333339E-4,8.3333333333333339E-4,8.3333333333333339E-4,8.3333333333333339E-4,8.3333333333333339E-4,8.3333333333333339E-4,8.3333333333333339E-4,8.3333333333333339E-4,8.3333333333333339E-4,8.3333333333333339E-4,8.3333333333333339E-4,8.3333333333333339E-4,8.3333333333333339E-4,8.3333333333333339E-4,8.3333333333333339E-4,8.3333333333333339E-4,8.3333333333333339E-4,8.3333333333333339E-4,8.3333333333333339E-4,8.3333333333333339E-4,8.3333333333333339E-4,8.3333333333333339E-4,8.3333333333333339E-4,8.3333333333333339E-4,8.3333333333333339E-4,8.3333333333333339E-4,8.3333333333333339E-4,8.3333333333333339E-4,8.3333333333333339E-4,8.3333333333333339E-4,8.3333333333333339E-4,8.3333333333333339E-4,8.3333333333333339E-4,8.3333333333333339E-4,8.3333333333333339E-4,8.3333333333333339E-4,8.3333333333333339E-4,8.3333333333333339E-4,8.3333333333333339E-4,8.3333333333333339E-4,8.3333333333333339E-4,8.3333333333333339E-4,8.3333333333333339E-4,8.3333333333333339E-4,8.3333333333333339E-4,8.3333333333333339E-4,8.3333333333333339E-4,8.3333333333333339E-4,8.3333333333333339E-4,8.3333333333333339E-4,8.3333333333333339E-4,8.3333333333333339E-4,8.3333333333333339E-4,8.3333333333333339E-4,8.3333333333333339E-4,8.3333333333333339E-4,8.3333333333333339E-4,8.3333333333333339E-4,8.3333333333333339E-4,8.3333333333333339E-4,8.3333333333333339E-4,8.3333333333333339E-4,8.3333333333333339E-4,8.3333333333333339E-4,8.3333333333333339E-4,8.3333333333333339E-4,8.3333333333333339E-4,8.3333333333333339E-4,8.3333333333333339E-4,8.3333333333333339E-4,8.3333333333333339E-4,8.3333333333333339E-4,8.3333333333333339E-4,8.3333333333333339E-4,8.3333333333333339E-4,8.3333333333333339E-4,8.3333333333333339E-4,8.3333333333333339E-4,8.3333333333333339E-4,8.3333333333333339E-4,8.3333333333333339E-4,8.3333333333333339E-4,8.3333333333333339E-4,8.3333333333333339E-4,8.3333333333333339E-4,8.3333333333333339E-4,8.3333333333333339E-4,8.3333333333333339E-4,8.3333333333333339E-4,8.3333333333333339E-4,8.3333333333333339E-4,8.3333333333333339E-4,8.3333333333333339E-4,8.3333333333333339E-4,8.3333333333333339E-4,8.3333333333333339E-4,8.3333333333333339E-4,8.3333333333333339E-4,8.3333333333333339E-4,0,0,0,0,0,0,0,0,0,0,0,0,0,0,0,0,0,0,0,0,0,0,0,0]
[null,null,null,null,"Annual_Int_Rate_DSRA6","Annual Interest Rate for Pmt method DSRA","InputC",0]
[null,null,null,null,"Fees_pre_COD6","Fees Paid Pre-COD","InputS",null,null,0,0,0,0,0,0,0,0,0,0,0,0,0,0,0,0,0,0,0,0,0,0,0,0,0,0,0,0,0,0,0,0,0,0,0,0,0,0,0,0,0,0,0,0,0,0,0,0,0,0,0,0,0,0,0,0,0,0,0,0,0,0,0,0,0,0,0,0,0,0,0,0,0,0,0,0,0,0,0,0,0,0,0,0,0,0,0,0,0,0,0,0,0,0,0,0,0,0,0,0,0,0,0,0,0,0,0,0,0,0,0,0,0,0,0,0,0,0,0,0,0,0,0,0,0,0,0,0,0,0,0,0,0,0,0,0,0,0,0,0,0,0,0,0,0,0,0,0,0,0,0,0,0,0,0,0,0,0,0,0,0,0,0,0,0,0,0,0,0,0,0,0,0,0,0,0,0,0,0,0,0,0,0,0,0]
[null,null,null,null,"Fees_all_periods6","Fees Paid Pre-COD and Post COD","InputS",null,null,0,0,0,0,0,0,0,0,0,0,0,0,0,0,0,0,0,0,0,0,0,0,0,0,0,0,0,0,0,0,0,0,0,0,0,0,0,0,0,0,0,0,0,0,0,0,0,0,0,0,0,0,0,0,0,0,0,0,0,0,0,0,0,0,0,0,0,0,0,0,0,0,0,0,0,0,0,0,0,0,0,0,0,0,0,0,0,0,0,0,0,0,0,0,0,0,0,0,0,0,0,0,0,0,0,0,0,0,0,0,0,0,0,0,0,0,0,0,0,0,0,0,0,0,0,0,0,0,0,0,0,0,0,0,0,0,0,0,0,0,0,0,0,0,0,0,0,0,0,0,0,0,0,0,0,0,0,0,0,0,0,0,0,0,0,0,0,0,0,0,0,0,0,0,0,0,0,0,0,0,0,0,0,0,0]
[null,null,null,null,"PRG_Applied6","Flag for Applying PRG","InputC",0]
[null,null,null,null,"WTH_Percentage6","Percent Applicable for Witholding","InputC",0]
[null,null,null,null,"Alternative_Currency6","Alternative Currency for Debt Tranche","InputC",0," (0 for Base Currency; 1 for Alternative Currency)"]
[null,null,null,null,"Fund_Up_Front6","Draw Before Equity for Issue (One Yes; Zero No)","InputC",1," (0 Draw After Equity or Pro-Rata; 1 Draw Up-Front)"]
[]
[null,null,"Inputs for Tranche 7 - Senior"]
[null,null,null,null,"debt_code7","Code Debt type","InputC",1,"1 - Senior; 2 - Mezz; 3 - Shareholder; 4 - EBL; 5 - VAT Facility; 6 - Working Capital Facility; 7 - Standby; 8 - Refinancing; 9 - Tax Equity Bridge Loan"]
[null,null,null,null,"debt_pct7"," Senior debt One","InputC",0]
[null,null,null,null,"Sculpting_Flag7","Flag for Using Sculpting for Repayment for this Debt Issue","InputC",1,"1: for sculpting ; 0: fixed % inputs"]
[null,null,null,null,"tenor7","Tenor if Apply Sculpting","InputC",16,"Periods"]
[null,null,null,null,"debt_repayment_pct7","Repayment Percent of No Sculpting","InputS",null,null,0,0,0,0,0,0,0,0,0,0,0,0,0,0,0,0,0,0,0,0,0,0,0,0,0,0,0,0,0,0,0,0,0,0,0,0,1.2832869966443537E-2,1.3025363015940188E-2,1.3220743461179291E-2,1.3419054613096981E-2,1.3620340432293435E-2,1.3824645538777837E-2,1.4032015221859505E-2,1.4242495450187399E-2,1.4456132881940207E-2,1.467297487516931E-2,1.489306949829685E-2,1.5116465540771304E-2,1.5343212523882873E-2,1.5573360711741115E-2,1.5806961122417234E-2,1.6044065539253489E-2,1.6284726522342294E-2,1.6528997420177428E-2,1.6776932381480088E-2,1.7028586367202291E-2,1.7284015162710324E-2,1.7543275390150978E-2,1.7806424521003245E-2,1.8073520888818296E-2,1.8344623702150568E-2,1.8619793057682823E-2,1.8899089953548071E-2,1.9182576302851289E-2,1.9470314947394058E-2,1.9762369671604968E-2,2.0058805216679045E-2,2.0359687294929232E-2,2.0665082604353169E-2,2.0975058843418465E-2,2.1289684726069742E-2,2.160902999696079E-2,2.1933165446915204E-2,2.2262162928618927E-2,2.2596095372548215E-2,2.2935036803136435E-2,2.3279062355183483E-2,2.3628248290511234E-2,2.3982672014868905E-2,2.4342412095091935E-2,2.4707548276518315E-2,2.5078161500666094E-2,2.545433392317608E-2,2.5836148932023725E-2,2.6223691166004079E-2,2.661704653349414E-2,2.701630223149655E-2,2.7421546764968999E-2,0,0,0,0,0,0,0,0,0,0,0,0,0,0,0,0,0,0,0,0,0,0,0,0,0,0,0,0,0,0,0,0,0,0,0,0,0,0,0,0,0,0,0,0,0,0,0,0,0,0,0,0,0,0,0,0,0,0,0,0,0,0,0,0,0,0,0,0,0,0,0,0,0,0,0,0,0,0,0,0,0,0,0,0,0,0,0,0,0,0,0,0,0,0,0,0,0]
[null,null,null,null,"senior_debt7_grace_period","senior_debt1_grace_period",{"$f":"G158","v":"InputC"},12]
[null,null,null,null,"Period_Int_Rate7","All-in interest rate - Issue One Periodic","InputS",null,"% p.p.",0,4.646055555555556E-2,4.4415555555555555E-2,4.1177500000000006E-2,3.930444444444444E-2,3.6149722222222222E-2,3.4193333333333333E-2,3.1121944444444445E-2,3.1666399999999997E-2,3.1429377777777781E-2,3.1884644444444443E-2,3.1464336111111116E-2,3.2088066666666665E-2,3.1656900000000002E-2,3.2269511111111107E-2,3.1820302777777781E-2,3.2347711111111108E-2,3.1996105555555557E-2,3.2347711111111108E-2,3.1820302777777781E-2,3.2347711111111108E-2,3.1820302777777781E-2,3.2347711111111108E-2,3.1820302777777781E-2,3.2347711111111108E-2,3.1996105555555557E-2,3.2347711111111108E-2,3.1820302777777781E-2,3.2347711111111108E-2,3.1820302777777781E-2,3.2347711111111108E-2,3.1820302777777781E-2,3.2347711111111108E-2,3.1996105555555557E-2,3.2347711111111108E-2,3.1820302777777781E-2,3.2347711111111108E-2,3.1820302777777781E-2,3.2347711111111108E-2,3.1820302777777781E-2,3.2347711111111108E-2,3.1996105555555557E-2,3.2347711111111108E-2,3.1820302777777781E-2,3.2347711111111108E-2,3.1820302777777781E-2,3.2347711111111108E-2,3.1820302777777781E-2,3.2347711111111108E-2,3.1996105555555557E-2,3.2347711111111108E-2,3.1820302777777781E-2,3.2347711111111108E-2,-1.6182222222222225,0,0,0,0,0,0,0,0,0,0,0,0,0,0,0,0,0,0,0,0,0,0,0,0,0,0,0,0,0,0,0,0,0,0,0,0,0,0,0,0,0,0,0,0,0,0,0,0,0,0,0,0,0,0,0,0,0,0,0,0,0,0,0,0,0,0,0,0,0,0,0,0,0,0,0,0,0,0,0,0,0,0,0,0,0,0,0,0,0,0,0,0,0,0,0,0,0,0,0,0,0,0,0,0,0,0,0,0,0,0,0,0,0,0,0,0,0,0,0,0,0,0,0,0,0,0,0,0,0,0,0]
[null,null,null,null,"up_front_fees7"," Senior debt One up-front","InputC",0]
[null,null,null,null,"cmfee7pA"," Senior debt One commitment fee (Periodic)","InputS",null,"% p.p.",8.3333333333333339E-4,8.3333333333333339E-4,8.3333333333333339E-4,8.3333333333333339E-4,8.3333333333333339E-4,8.3333333333333339E-4,8.3333333333333339E-4,8.3333333333333339E-4,8.3333333333333339E-4,8.3333333333333339E-4,8.3333333333333339E-4,8.3333333333333339E-4,8.3333333333333339E-4,8.3333333333333339E-4,8.3333333333333339E-4,8.3333333333333339E-4,8.3333333333333339E-4,8.3333333333333339E-4,8.3333333333333339E-4,8.3333333333333339E-4,8.3333333333333339E-4,8.3333333333333339E-4,8.3333333333333339E-4,8.3333333333333339E-4,8.3333333333333339E-4,8.3333333333333339E-4,8.3333333333333339E-4,8.3333333333333339E-4,8.3333333333333339E-4,8.3333333333333339E-4,8.3333333333333339E-4,8.3333333333333339E-4,8.3333333333333339E-4,8.3333333333333339E-4,8.3333333333333339E-4,8.3333333333333339E-4,8.3333333333333339E-4,8.3333333333333339E-4,8.3333333333333339E-4,8.3333333333333339E-4,8.3333333333333339E-4,8.3333333333333339E-4,8.3333333333333339E-4,8.3333333333333339E-4,8.3333333333333339E-4,8.3333333333333339E-4,8.3333333333333339E-4,8.3333333333333339E-4,8.3333333333333339E-4,8.3333333333333339E-4,8.3333333333333339E-4,8.3333333333333339E-4,8.3333333333333339E-4,8.3333333333333339E-4,8.3333333333333339E-4,8.3333333333333339E-4,8.3333333333333339E-4,8.3333333333333339E-4,8.3333333333333339E-4,8.3333333333333339E-4,8.3333333333333339E-4,8.3333333333333339E-4,8.3333333333333339E-4,8.3333333333333339E-4,8.3333333333333339E-4,8.3333333333333339E-4,8.3333333333333339E-4,8.3333333333333339E-4,8.3333333333333339E-4,8.3333333333333339E-4,8.3333333333333339E-4,8.3333333333333339E-4,8.3333333333333339E-4,8.3333333333333339E-4,8.3333333333333339E-4,8.3333333333333339E-4,8.3333333333333339E-4,8.3333333333333339E-4,8.3333333333333339E-4,8.3333333333333339E-4,8.3333333333333339E-4,8.3333333333333339E-4,8.3333333333333339E-4,8.3333333333333339E-4,8.3333333333333339E-4,8.3333333333333339E-4,8.3333333333333339E-4,8.3333333333333339E-4,8.3333333333333339E-4,8.3333333333333339E-4,8.3333333333333339E-4,8.3333333333333339E-4,8.3333333333333339E-4,8.3333333333333339E-4,8.3333333333333339E-4,8.3333333333333339E-4,8.3333333333333339E-4,8.3333333333333339E-4,8.3333333333333339E-4,8.3333333333333339E-4,8.3333333333333339E-4,8.3333333333333339E-4,8.3333333333333339E-4,8.3333333333333339E-4,8.3333333333333339E-4,8.3333333333333339E-4,8.3333333333333339E-4,8.3333333333333339E-4,8.3333333333333339E-4,8.3333333333333339E-4,8.3333333333333339E-4,8.3333333333333339E-4,8.3333333333333339E-4,8.3333333333333339E-4,8.3333333333333339E-4,8.3333333333333339E-4,8.3333333333333339E-4,8.3333333333333339E-4,8.3333333333333339E-4,8.3333333333333339E-4,8.3333333333333339E-4,8.3333333333333339E-4,8.3333333333333339E-4,8.3333333333333339E-4,8.3333333333333339E-4,8.3333333333333339E-4,8.3333333333333339E-4,8.3333333333333339E-4,8.3333333333333339E-4,8.3333333333333339E-4,8.3333333333333339E-4,8.3333333333333339E-4,8.3333333333333339E-4,8.3333333333333339E-4,8.3333333333333339E-4,8.3333333333333339E-4,8.3333333333333339E-4,8.3333333333333339E-4,8.3333333333333339E-4,8.3333333333333339E-4,8.3333333333333339E-4,8.3333333333333339E-4,8.3333333333333339E-4,8.3333333333333339E-4,8.3333333333333339E-4,8.3333333333333339E-4,8.3333333333333339E-4,8.3333333333333339E-4,8.3333333333333339E-4,8.3333333333333339E-4,8.3333333333333339E-4,8.3333333333333339E-4,8.3333333333333339E-4,8.3333333333333339E-4,8.3333333333333339E-4,8.3333333333333339E-4,8.3333333333333339E-4,8.3333333333333339E-4,8.3333333333333339E-4,8.3333333333333339E-4,8.3333333333333339E-4,0,0,0,0,0,0,0,0,0,0,0,0,0,0,0,0,0,0,0,0,0,0,0,0]
[null,null,null,null,"Annual_Int_Rate_DSRA7","Annual Interest Rate for Pmt method DSRA","InputC",0]
[null,null,null,null,"Fees_pre_COD7","Fees Paid Pre-COD","InputS",null,null,0,0,0,0,0,0,0,0,0,0,0,0,0,0,0,0,0,0,0,0,0,0,0,0,0,0,0,0,0,0,0,0,0,0,0,0,0,0,0,0,0,0,0,0,0,0,0,0,0,0,0,0,0,0,0,0,0,0,0,0,0,0,0,0,0,0,0,0,0,0,0,0,0,0,0,0,0,0,0,0,0,0,0,0,0,0,0,0,0,0,0,0,0,0,0,0,0,0,0,0,0,0,0,0,0,0,0,0,0,0,0,0,0,0,0,0,0,0,0,0,0,0,0,0,0,0,0,0,0,0,0,0,0,0,0,0,0,0,0,0,0,0,0,0,0,0,0,0,0,0,0,0,0,0,0,0,0,0,0,0,0,0,0,0,0,0,0,0,0,0,0,0,0,0,0,0,0,0,0,0,0,0,0,0,0]
[null,null,null,null,"Fees_all_periods7","Fees Paid Pre-COD and Post COD","InputS",null,null,0,0,0,0,0,0,0,0,0,0,0,0,0,0,0,0,0,0,0,0,0,0,0,0,0,0,0,0,0,0,0,0,0,0,0,0,0,0,0,0,0,0,0,0,0,0,0,0,0,0,0,0,0,0,0,0,0,0,0,0,0,0,0,0,0,0,0,0,0,0,0,0,0,0,0,0,0,0,0,0,0,0,0,0,0,0,0,0,0,0,0,0,0,0,0,0,0,0,0,0,0,0,0,0,0,0,0,0,0,0,0,0,0,0,0,0,0,0,0,0,0,0,0,0,0,0,0,0,0,0,0,0,0,0,0,0,0,0,0,0,0,0,0,0,0,0,0,0,0,0,0,0,0,0,0,0,0,0,0,0,0,0,0,0,0,0,0,0,0,0,0,0,0,0,0,0,0,0,0,0,0,0,0,0,0]
[null,null,null,null,"PRG_Applied7","Flag for Applying PRG","InputC",0]
[null,null,null,null,"WTH_Percentage7","Percent Applicable for Witholding","InputC",0]
[null,null,null,null,"Alternative_Currency7","Alternative Currency for Debt Tranche","InputC",0," (0 for Base Currency; 1 for Alternative Currency)"]
[null,null,null,null,"Fund_Up_Front7","Draw Before Equity for Issue (One Yes; Zero No)","InputC",0," (0 Draw After Equity or Pro-Rata; 1 Draw Up-Front)"]
[]
[null,null,"Inputs for Tranche 8 - Senior"]
[null,null,null,null,"debt_code8","Code Debt type","InputC",1,"1 - Senior; 2 - Mezz; 3 - Shareholder; 4 - EBL; 5 - VAT Facility; 6 - Working Capital Facility; 7 - Standby; 8 - Refinancing; 9 - Tax Equity Bridge Loan"]
[null,null,null,null,"debt_pct8"," Senior debt One","InputC",0]
[null,null,null,null,"Sculpting_Flag8","Flag for Using Sculpting for Repayment for this Debt Issue","InputC",1,"1: for sculpting ; 0: fixed % inputs"]
[null,null,null,null,"tenor8","Tenor if Apply Sculpting","InputC",20,"Periods"]
[null,null,null,null,"debt_repayment_pct8","Repayment Percent of No Sculpting","InputS",null,null,0,0,0,0,0,0,0,0,0,0,0,0,0,0,0,0,0,0,0,0,0,0,0,0,0,0,0,0,0,0,0,0,0,0,0,0,1.2832869966443537E-2,1.3025363015940188E-2,1.3220743461179291E-2,1.3419054613096981E-2,1.3620340432293435E-2,1.3824645538777837E-2,1.4032015221859505E-2,1.4242495450187399E-2,1.4456132881940207E-2,1.467297487516931E-2,1.489306949829685E-2,1.5116465540771304E-2,1.5343212523882873E-2,1.5573360711741115E-2,1.5806961122417234E-2,1.6044065539253489E-2,1.6284726522342294E-2,1.6528997420177428E-2,1.6776932381480088E-2,1.7028586367202291E-2,1.7284015162710324E-2,1.7543275390150978E-2,1.7806424521003245E-2,1.8073520888818296E-2,1.8344623702150568E-2,1.8619793057682823E-2,1.8899089953548071E-2,1.9182576302851289E-2,1.9470314947394058E-2,1.9762369671604968E-2,2.0058805216679045E-2,2.0359687294929232E-2,2.0665082604353169E-2,2.0975058843418465E-2,2.1289684726069742E-2,2.160902999696079E-2,2.1933165446915204E-2,2.2262162928618927E-2,2.2596095372548215E-2,2.2935036803136435E-2,2.3279062355183483E-2,2.3628248290511234E-2,2.3982672014868905E-2,2.4342412095091935E-2,2.4707548276518315E-2,2.5078161500666094E-2,2.545433392317608E-2,2.5836148932023725E-2,2.6223691166004079E-2,2.661704653349414E-2,2.701630223149655E-2,2.7421546764968999E-2,0,0,0,0,0,0,0,0,0,0,0,0,0,0,0,0,0,0,0,0,0,0,0,0,0,0,0,0,0,0,0,0,0,0,0,0,0,0,0,0,0,0,0,0,0,0,0,0,0,0,0,0,0,0,0,0,0,0,0,0,0,0,0,0,0,0,0,0,0,0,0,0,0,0,0,0,0,0,0,0,0,0,0,0,0,0,0,0,0,0,0,0,0,0,0,0,0]
[null,null,null,null,"senior_debt8_grace_period","senior_debt1_grace_period",{"$f":"G176","v":"InputC"},12]
[null,null,null,null,"Period_Int_Rate8","All-in interest rate - Issue One Periodic","InputS",null,"% p.p.",0,5.0555555555555555E-2,5.1111111111111114E-2,5.0277777777777782E-2,5.1111111111111114E-2,5.0277777777777782E-2,5.1111111111111114E-2,5.0277777777777782E-2,5.1111111111111114E-2,5.0555555555555555E-2,5.1111111111111114E-2,5.0277777777777782E-2,5.1111111111111114E-2,5.0277777777777782E-2,5.1111111111111114E-2,5.0277777777777782E-2,5.1111111111111114E-2,5.0555555555555555E-2,5.1111111111111114E-2,5.0277777777777782E-2,5.1111111111111114E-2,5.0277777777777782E-2,5.1111111111111114E-2,5.0277777777777782E-2,5.1111111111111114E-2,5.0555555555555555E-2,5.1111111111111114E-2,5.0277777777777782E-2,5.1111111111111114E-2,5.0277777777777782E-2,5.1111111111111114E-2,5.0277777777777782E-2,5.1111111111111114E-2,5.0555555555555555E-2,5.1111111111111114E-2,5.0277777777777782E-2,5.1111111111111114E-2,5.0277777777777782E-2,5.1111111111111114E-2,5.0277777777777782E-2,5.1111111111111114E-2,5.0555555555555555E-2,5.1111111111111114E-2,5.0277777777777782E-2,5.1111111111111114E-2,5.0277777777777782E-2,5.1111111111111114E-2,5.0277777777777782E-2,5.1111111111111114E-2,5.0555555555555555E-2,5.1111111111111114E-2,5.0277777777777782E-2,5.1111111111111114E-2,-2.9422222222222225,0,0,0,0,0,0,0,0,0,0,0,0,0,0,0,0,0,0,0,0,0,0,0,0,0,0,0,0,0,0,0,0,0,0,0,0,0,0,0,0,0,0,0,0,0,0,0,0,0,0,0,0,0,0,0,0,0,0,0,0,0,0,0,0,0,0,0,0,0,0,0,0,0,0,0,0,0,0,0,0,0,0,0,0,0,0,0,0,0,0,0,0,0,0,0,0,0,0,0,0,0,0,0,0,0,0,0,0,0,0,0,0,0,0,0,0,0,0,0,0,0,0,0,0,0,0,0,0,0,0,0]
[null,null,null,null,"up_front_fees8"," Senior debt One up-front","InputC",0]
[null,null,null,null,"cmfee8pA"," Senior debt One commitment fee (Periodic)","InputS",null,"% p.p.",8.3333333333333339E-4,8.3333333333333339E-4,8.3333333333333339E-4,8.3333333333333339E-4,8.3333333333333339E-4,8.3333333333333339E-4,8.3333333333333339E-4,8.3333333333333339E-4,8.3333333333333339E-4,8.3333333333333339E-4,8.3333333333333339E-4,8.3333333333333339E-4,8.3333333333333339E-4,8.3333333333333339E-4,8.3333333333333339E-4,8.3333333333333339E-4,8.3333333333333339E-4,8.3333333333333339E-4,8.3333333333333339E-4,8.3333333333333339E-4,8.3333333333333339E-4,8.3333333333333339E-4,8.3333333333333339E-4,8.3333333333333339E-4,8.3333333333333339E-4,8.3333333333333339E-4,8.3333333333333339E-4,8.3333333333333339E-4,8.3333333333333339E-4,8.3333333333333339E-4,8.3333333333333339E-4,8.3333333333333339E-4,8.3333333333333339E-4,8.3333333333333339E-4,8.3333333333333339E-4,8.3333333333333339E-4,8.3333333333333339E-4,8.3333333333333339E-4,8.3333333333333339E-4,8.3333333333333339E-4,8.3333333333333339E-4,8.3333333333333339E-4,8.3333333333333339E-4,8.3333333333333339E-4,8.3333333333333339E-4,8.3333333333333339E-4,8.3333333333333339E-4,8.3333333333333339E-4,8.3333333333333339E-4,8.3333333333333339E-4,8.3333333333333339E-4,8.3333333333333339E-4,8.3333333333333339E-4,8.3333333333333339E-4,8.3333333333333339E-4,8.3333333333333339E-4,8.3333333333333339E-4,8.3333333333333339E-4,8.3333333333333339E-4,8.3333333333333339E-4,8.3333333333333339E-4,8.3333333333333339E-4,8.3333333333333339E-4,8.3333333333333339E-4,8.3333333333333339E-4,8.3333333333333339E-4,8.3333333333333339E-4,8.3333333333333339E-4,8.3333333333333339E-4,8.3333333333333339E-4,8.3333333333333339E-4,8.3333333333333339E-4,8.3333333333333339E-4,8.3333333333333339E-4,8.3333333333333339E-4,8.3333333333333339E-4,8.3333333333333339E-4,8.3333333333333339E-4,8.3333333333333339E-4,8.3333333333333339E-4,8.3333333333333339E-4,8.3333333333333339E-4,8.3333333333333339E-4,8.3333333333333339E-4,8.3333333333333339E-4,8.3333333333333339E-4,8.3333333333333339E-4,8.3333333333333339E-4,8.3333333333333339E-4,8.3333333333333339E-4,8.3333333333333339E-4,8.3333333333333339E-4,8.3333333333333339E-4,8.3333333333333339E-4,8.3333333333333339E-4,8.3333333333333339E-4,8.3333333333333339E-4,8.3333333333333339E-4,8.3333333333333339E-4,8.3333333333333339E-4,8.3333333333333339E-4,8.3333333333333339E-4,8.3333333333333339E-4,8.3333333333333339E-4,8.3333333333333339E-4,8.3333333333333339E-4,8.3333333333333339E-4,8.3333333333333339E-4,8.3333333333333339E-4,8.3333333333333339E-4,8.3333333333333339E-4,8.3333333333333339E-4,8.3333333333333339E-4,8.3333333333333339E-4,8.3333333333333339E-4,8.3333333333333339E-4,8.3333333333333339E-4,8.3333333333333339E-4,8.3333333333333339E-4,8.3333333333333339E-4,8.3333333333333339E-4,8.3333333333333339E-4,8.3333333333333339E-4,8.3333333333333339E-4,8.3333333333333339E-4,8.3333333333333339E-4,8.3333333333333339E-4,8.3333333333333339E-4,8.3333333333333339E-4,8.3333333333333339E-4,8.3333333333333339E-4,8.3333333333333339E-4,8.3333333333333339E-4,8.3333333333333339E-4,8.3333333333333339E-4,8.3333333333333339E-4,8.3333333333333339E-4,8.3333333333333339E-4,8.3333333333333339E-4,8.3333333333333339E-4,8.3333333333333339E-4,8.3333333333333339E-4,8.3333333333333339E-4,8.3333333333333339E-4,8.3333333333333339E-4,8.3333333333333339E-4,8.3333333333333339E-4,8.3333333333333339E-4,8.3333333333333339E-4,8.3333333333333339E-4,8.3333333333333339E-4,8.3333333333333339E-4,8.3333333333333339E-4,8.3333333333333339E-4,8.3333333333333339E-4,8.3333333333333339E-4,8.3333333333333339E-4,8.3333333333333339E-4,8.3333333333333339E-4,8.3333333333333339E-4,8.3333333333333339E-4,0,0,0,0,0,0,0,0,0,0,0,0,0,0,0,0,0,0,0,0,0,0,0,0]
[null,null,null,null,"Annual_Int_Rate_DSRA8","Annual Interest Rate for Pmt method DSRA","InputC",0]
[null,null,null,null,"Fees_pre_COD8","Fees Paid Pre-COD","InputS",null,null,0,0,0,0,0,0,0,0,0,0,0,0,0,0,0,0,0,0,0,0,0,0,0,0,0,0,0,0,0,0,0,0,0,0,0,0,0,0,0,0,0,0,0,0,0,0,0,0,0,0,0,0,0,0,0,0,0,0,0,0,0,0,0,0,0,0,0,0,0,0,0,0,0,0,0,0,0,0,0,0,0,0,0,0,0,0,0,0,0,0,0,0,0,0,0,0,0,0,0,0,0,0,0,0,0,0,0,0,0,0,0,0,0,0,0,0,0,0,0,0,0,0,0,0,0,0,0,0,0,0,0,0,0,0,0,0,0,0,0,0,0,0,0,0,0,0,0,0,0,0,0,0,0,0,0,0,0,0,0,0,0,0,0,0,0,0,0,0,0,0,0,0,0,0,0,0,0,0,0,0,0,0,0,0,0]
[null,null,null,null,"Fees_all_periods8","Fees Paid Pre-COD and Post COD","InputS",null,null,0,0,0,0,0,0,0,0,0,0,0,0,0,0,0,0,0,0,0,0,0,0,0,0,0,0,0,0,0,0,0,0,0,0,0,0,0,0,0,0,0,0,0,0,0,0,0,0,0,0,0,0,0,0,0,0,0,0,0,0,0,0,0,0,0,0,0,0,0,0,0,0,0,0,0,0,0,0,0,0,0,0,0,0,0,0,0,0,0,0,0,0,0,0,0,0,0,0,0,0,0,0,0,0,0,0,0,0,0,0,0,0,0,0,0,0,0,0,0,0,0,0,0,0,0,0,0,0,0,0,0,0,0,0,0,0,0,0,0,0,0,0,0,0,0,0,0,0,0,0,0,0,0,0,0,0,0,0,0,0,0,0,0,0,0,0,0,0,0,0,0,0,0,0,0,0,0,0,0,0,0,0,0,0,0]
[null,null,null,null,"PRG_Applied8","Flag for Applying PRG","InputC",0]
[null,null,null,null,"WTH_Percentage8","Percent Applicable for Witholding","InputC",0]
[null,null,null,null,"Alternative_Currency8","Alternative Currency for Debt Tranche","InputC",0," (0 for Base Currency; 1 for Alternative Currency)"]
[null,null,null,null,"Fund_Up_Front8","Draw Before Equity for Issue (One Yes; Zero No)","InputC",0," (0 Draw After Equity or Pro-Rata; 1 Draw Up-Front)"]
[]
[]
[null,"DSRA Flags and Inputs"]
[null,null,null,null,"DSRA_method","Debt service reserve account method (One-pmt; Two - DS mnths; Three - DS %)","InputC",5,"Switch( 1: PMT for Debt Service; 2: Months of Forward Debt Service; 3 Percent of Debt Service; 4 - Fixed not yet; 5 - No DSRA)"]
[null,null,null,null,"PMT_months_DSRA","Months of Debt Service when Use PMT method","InputC",0,"Months"]
[null,null,null,null,"DSRA_periods","DSRA Periods when using Forward Months method","InputC",1,"Periods"]
[null,null,null,null,"DSRA_percent","DSRA Periods when use DS percent method","InputC",0,"Percent"]
[null,null,null,null,"DSRA_LC_Flag","DSRA Letter of Credit Flag (Zero Cash; One LC)","InputC",1,"(1 is for DSR LC and Not Cash)"]
[null,null,null,null,"DSRA_LC_Fee","Fee on DSRA Letter of Credit (Periodic)","InputC",7.4999999999999997E-3]
[null,null,null,null,"DSRA_release_flag","Allow release from DSRA?","InputC",1,"Switch( 1: yes; 0: No)"]
[]
[null,null,null,null,"DSCR_Changes_in_CFADS","Include Changes in DSRA in CFADS","InputC",0,"Switch( 1: yes; 0: No)"]
[]
[null,"Taxes, Development and Initial Working Capital"]
[null,null,"Income Tax"]
[null,null,null,null,"tax_rate","Income Tax Rate","InputS",null,"%",{"$f":"'Model - Structuring'!$F$102","v":0.4},{"$f":"'Model - Structuring'!$F$102","v":0.4},{"$f":"'Model - Structuring'!$F$102","v":0.4},{"$f":"'Model - Structuring'!$F$102","v":0.4},{"$f":"'Model - Structuring'!$F$102","v":0.4},{"$f":"'Model - Structuring'!$F$102","v":0.4},{"$f":"'Model - Structuring'!$F$102","v":0.4},{"$f":"'Model - Structuring'!$F$102","v":0.4},{"$f":"'Model - Structuring'!$F$102","v":0.4},{"$f":"'Model - Structuring'!$F$102","v":0.4},{"$f":"'Model - Structuring'!$F$102","v":0.4},{"$f":"'Model - Structuring'!$F$102","v":0.4},{"$f":"'Model - Structuring'!$F$102","v":0.4},{"$f":"'Model - Structuring'!$F$102","v":0.4},{"$f":"'Model - Structuring'!$F$102","v":0.4},{"$f":"'Model - Structuring'!$F$102","v":0.4},{"$f":"'Model - Structuring'!$F$102","v":0.4},{"$f":"'Model - Structuring'!$F$102","v":0.4},{"$f":"'Model - Structuring'!$F$102","v":0.4},{"$f":"'Model - Structuring'!$F$102","v":0.4},{"$f":"'Model - Structuring'!$F$102","v":0.4},{"$f":"'Model - Structuring'!$F$102","v":0.4},{"$f":"'Model - Structuring'!$F$102","v":0.4},{"$f":"'Model - Structuring'!$F$102","v":0.4},{"$f":"'Model - Structuring'!$F$102","v":0.4},{"$f":"'Model - Structuring'!$F$102","v":0.4},{"$f":"'Model - Structuring'!$F$102","v":0.4},{"$f":"'Model - Structuring'!$F$102","v":0.4},{"$f":"'Model - Structuring'!$F$102","v":0.4},{"$f":"'Model - Structuring'!$F$102","v":0.4},{"$f":"'Model - Structuring'!$F$102","v":0.4},{"$f":"'Model - Structuring'!$F$102","v":0.4},{"$f":"'Model - Structuring'!$F$102","v":0.4},{"$f":"'Model - Structuring'!$F$102","v":0.4},{"$f":"'Model - Structuring'!$F$102","v":0.4},{"$f":"'Model - Structuring'!$F$102","v":0.4},{"$f":"'Model - Structuring'!$F$102","v":0.4},{"$f":"'Model - Structuring'!$F$102","v":0.4},{"$f":"'Model - Structuring'!$F$102","v":0.4},{"$f":"'Model - Structuring'!$F$102","v":0.4},{"$f":"'Model - Structuring'!$F$102","v":0.4},{"$f":"'Model - Structuring'!$F$102","v":0.4},{"$f":"'Model - Structuring'!$F$102","v":0.4},{"$f":"'Model - Structuring'!$F$102","v":0.4},{"$f":"'Model - Structuring'!$F$102","v":0.4},{"$f":"'Model - Structuring'!$F$102","v":0.4},{"$f":"'Model - Structuring'!$F$102","v":0.4},{"$f":"'Model - Structuring'!$F$102","v":0.4},{"$f":"'Model - Structuring'!$F$102","v":0.4},{"$f":"'Model - Structuring'!$F$102","v":0.4},{"$f":"'Model - Structuring'!$F$102","v":0.4},{"$f":"'Model - Structuring'!$F$102","v":0.4},{"$f":"'Model - Structuring'!$F$102","v":0.4},{"$f":"'Model - Structuring'!$F$102","v":0.4},{"$f":"'Model - Structuring'!$F$102","v":0.4},{"$f":"'Model - Structuring'!$F$102","v":0.4},{"$f":"'Model - Structuring'!$F$102","v":0.4},{"$f":"'Model - Structuring'!$F$102","v":0.4},{"$f":"'Model - Structuring'!$F$102","v":0.4},{"$f":"'Model - Structuring'!$F$102","v":0.4},{"$f":"'Model - Structuring'!$F$102","v":0.4},{"$f":"'Model - Structuring'!$F$102","v":0.4},{"$f":"'Model - Structuring'!$F$102","v":0.4},{"$f":"'Model - Structuring'!$F$102","v":0.4},{"$f":"'Model - Structuring'!$F$102","v":0.4},{"$f":"'Model - Structuring'!$F$102","v":0.4},{"$f":"'Model - Structuring'!$F$102","v":0.4},{"$f":"'Model - Structuring'!$F$102","v":0.4},{"$f":"'Model - Structuring'!$F$102","v":0.4},{"$f":"'Model - Structuring'!$F$102","v":0.4},{"$f":"'Model - Structuring'!$F$102","v":0.4},{"$f":"'Model - Structuring'!$F$102","v":0.4},{"$f":"'Model - Structuring'!$F$102","v":0.4},{"$f":"'Model - Structuring'!$F$102","v":0.4},{"$f":"'Model - Structuring'!$F$102","v":0.4},{"$f":"'Model - Structuring'!$F$102","v":0.4},{"$f":"'Model - Structuring'!$F$102","v":0.4},{"$f":"'Model - Structuring'!$F$102","v":0.4},{"$f":"'Model - Structuring'!$F$102","v":0.4},{"$f":"'Model - Structuring'!$F$102","v":0.4},{"$f":"'Model - Structuring'!$F$102","v":0.4},{"$f":"'Model - Structuring'!$F$102","v":0.4},{"$f":"'Model - Structuring'!$F$102","v":0.4},{"$f":"'Model - Structuring'!$F$102","v":0.4},{"$f":"'Model - Structuring'!$F$102","v":0.4},{"$f":"'Model - Structuring'!$F$102","v":0.4},{"$f":"'Model - Structuring'!$F$102","v":0.4},{"$f":"'Model - Structuring'!$F$102","v":0.4},{"$f":"'Model - Structuring'!$F$102","v":0.4},{"$f":"'Model - Structuring'!$F$102","v":0.4},{"$f":"'Model - Structuring'!$F$102","v":0.4},{"$f":"'Model - Structuring'!$F$102","v":0.4},{"$f":"'Model - Structuring'!$F$102","v":0.4},{"$f":"'Model - Structuring'!$F$102","v":0.4},{"$f":"'Model - Structuring'!$F$102","v":0.4},{"$f":"'Model - Structuring'!$F$102","v":0.4},{"$f":"'Model - Structuring'!$F$102","v":0.4},{"$f":"'Model - Structuring'!$F$102","v":0.4},{"$f":"'Model - Structuring'!$F$102","v":0.4},{"$f":"'Model - Structuring'!$F$102","v":0.4},{"$f":"'Model - Structuring'!$F$102","v":0.4},{"$f":"'Model - Structuring'!$F$102","v":0.4},{"$f":"'Model - Structuring'!$F$102","v":0.4},{"$f":"'Model - Structuring'!$F$102","v":0.4},{"$f":"'Model - Structuring'!$F$102","v":0.4},{"$f":"'Model - Structuring'!$F$102","v":0.4},{"$f":"'Model - Structuring'!$F$102","v":0.4},{"$f":"'Model - Structuring'!$F$102","v":0.4},{"$f":"'Model - Structuring'!$F$102","v":0.4},{"$f":"'Model - Structuring'!$F$102","v":0.4},{"$f":"'Model - Structuring'!$F$102","v":0.4},{"$f":"'Model - Structuring'!$F$102","v":0.4},{"$f":"'Model - Structuring'!$F$102","v":0.4},{"$f":"'Model - Structuring'!$F$102","v":0.4},{"$f":"'Model - Structuring'!$F$102","v":0.4},{"$f":"'Model - Structuring'!$F$102","v":0.4},{"$f":"'Model - Structuring'!$F$102","v":0.4},{"$f":"'Model - Structuring'!$F$102","v":0.4},{"$f":"'Model - Structuring'!$F$102","v":0.4},{"$f":"'Model - Structuring'!$F$102","v":0.4},{"$f":"'Model - Structuring'!$F$102","v":0.4},{"$f":"'Model - Structuring'!$F$102","v":0.4},{"$f":"'Model - Structuring'!$F$102","v":0.4},{"$f":"'Model - Structuring'!$F$102","v":0.4},{"$f":"'Model - Structuring'!$F$102","v":0.4},{"$f":"'Model - Structuring'!$F$102","v":0.4},{"$f":"'Model - Structuring'!$F$102","v":0.4},{"$f":"'Model - Structuring'!$F$102","v":0.4},{"$f":"'Model - Structuring'!$F$102","v":0.4},{"$f":"'Model - Structuring'!$F$102","v":0.4},{"$f":"'Model - Structuring'!$F$102","v":0.4},{"$f":"'Model - Structuring'!$F$102","v":0.4},{"$f":"'Model - Structuring'!$F$102","v":0.4},{"$f":"'Model - Structuring'!$F$102","v":0.4},{"$f":"'Model - Structuring'!$F$102","v":0.4},{"$f":"'Model - Structuring'!$F$102","v":0.4},{"$f":"'Model - Structuring'!$F$102","v":0.4},{"$f":"'Model - Structuring'!$F$102","v":0.4},{"$f":"'Model - Structuring'!$F$102","v":0.4},{"$f":"'Model - Structuring'!$F$102","v":0.4},{"$f":"'Model - Structuring'!$F$102","v":0.4},{"$f":"'Model - Structuring'!$F$102","v":0.4},{"$f":"'Model - Structuring'!$F$102","v":0.4},{"$f":"'Model - Structuring'!$F$102","v":0.4},{"$f":"'Model - Structuring'!$F$102","v":0.4},{"$f":"'Model - Structuring'!$F$102","v":0.4},{"$f":"'Model - Structuring'!$F$102","v":0.4},{"$f":"'Model - Structuring'!$F$102","v":0.4},{"$f":"'Model - Structuring'!$F$102","v":0.4},{"$f":"'Model - Structuring'!$F$102","v":0.4},{"$f":"'Model - Structuring'!$F$102","v":0.4},{"$f":"'Model - Structuring'!$F$102","v":0.4},{"$f":"'Model - Structuring'!$F$102","v":0.4},{"$f":"'Model - Structuring'!$F$102","v":0.4},{"$f":"'Model - Structuring'!$F$102","v":0.4},{"$f":"'Model - Structuring'!$F$102","v":0.4},{"$f":"'Model - Structuring'!$F$102","v":0.4},{"$f":"'Model - Structuring'!$F$102","v":0.4},{"$f":"'Model - Structuring'!$F$102","v":0.4},{"$f":"'Model - Structuring'!$F$102","v":0.4},{"$f":"'Model - Structuring'!$F$102","v":0.4},{"$f":"'Model - Structuring'!$F$102","v":0.4},{"$f":"'Model - Structuring'!$F$102","v":0.4},{"$f":"'Model - Structuring'!$F$102","v":0.4},{"$f":"'Model - Structuring'!$F$102","v":0.4},{"$f":"'Model - Structuring'!$F$102","v":0.4},{"$f":"'Model - Structuring'!$F$102","v":0.4},{"$f":"'Model - Structuring'!$F$102","v":0.4},{"$f":"'Model - Structuring'!$F$102","v":0.4},{"$f":"'Model - Structuring'!$F$102","v":0.4},{"$f":"'Model - Structuring'!$F$102","v":0.4},{"$f":"'Model - Structuring'!$F$102","v":0.4},{"$f":"'Model - Structuring'!$F$102","v":0.4},{"$f":"'Model - Structuring'!$F$102","v":0.4},{"$f":"'Model - Structuring'!$F$102","v":0.4},{"$f":"'Model - Structuring'!$F$102","v":0.4},{"$f":"'Model - Structuring'!$F$102","v":0.4},{"$f":"'Model - Structuring'!$F$102","v":0.4},{"$f":"'Model - Structuring'!$F$102","v":0.4},{"$f":"'Model - Structuring'!$F$102","v":0.4},{"$f":"'Model - Structuring'!$F$102","v":0.4},{"$f":"'Model - Structuring'!$F$102","v":0.4},{"$f":"'Model - Structuring'!$F$102","v":0.4},{"$f":"'Model - Structuring'!$F$102","v":0.4},{"$f":"'Model - Structuring'!$F$102","v":0.4}]
[null,null,null,null,"Max_NOL_Percent","Maximum NOL Percent to Push Forward","InputC",0,"%"]
[null,null,null,null,"Interest_Limit","Maximum Interest as Percent of EBITDA","InputC",0,"%"]
[null,null,null,null,"NOL_Time_Limit","Maximum Limit","InputC",0,"Periods"]
[null,null,null,null,"Dep_Rate_Finance_Items","Financing Items Depreciation Rate if Different from Base","InputS",null,null,0,0,0,0,0,0,0,0,0,0,0,0,0,0,0,0,0,0,0,0,0,0,0,0,0,0,0,0,0,0,0,0,0,0,0,0,0,0,0,0,0,0,0,0,0,0,0,0,0,0,0,0,0,0,0,0,0,0,0,0,0,0,0,0,0,0,0,0,0,0,0,0,0,0,0,0,0,0,0,0,0,0,0,0,0,0,0,0,0,0,0,0,0,0,0,0,0,0,0,0,0,0,0,0,0,0,0,0,0,0,0,0,0,0,0,0,0,0,0,0,0,0,0,0,0,0,0,0,0,0,0,0,0,0,0,0,0,0,0,0,0,0,0,0,0,0,0,0,0,0,0,0,0,0,0,0,0,0,0,0,0,0,0,0,0,0,0,0,0,0,0,0,0,0,0,0,0,0,0,0,0,0,0,0,0]
[null,null,null,null,"Tax_Equity_Cash_pct","Percent of Cash Flow to Tax Equity","InputS",null,null,0,0,0,0,0,0,0,0,0,0,0,0,0,0,0,0,0,0,0,0,0,0,0,0,0,0,0,0,0,0,0,0,0,0,0,0,0,0,0,0,0,0,0,0,0,0,0,0,0,0,0,0,0,0,0,0,0,0,0,0,0,0,0,0,0,0,0,0,0,0,0,0,0,0,0,0,0,0,0,0,0,0,0,0,0,0,0,0,0,0,0,0,0,0,0,0,0,0,0,0,0,0,0,0,0,0,0,0,0,0,0,0,0,0,0,0,0,0,0,0,0,0,0,0,0,0,0,0,0,0,0,0,0,0,0,0,0,0,0,0,0,0,0,0,0,0,0,0,0,0,0,0,0,0,0,0,0,0,0,0,0,0,0,0,0,0,0,0,0,0,0,0,0,0,0,0,0,0,0,0,0,0,0,0,0]
[null,null,null,null,"Tax_Option","Zero NOL; One - Allow Negative; Two - No Negative","InputC",1,"Code"]
[]
[null,null,"Development Expenditure and Fees"]
[null,null,null,null,"development_exp","Development Capital Expendiitures","InputS",null,null,0,0,0,0,0,0,0,0,0,0,0,0,0,0,0,0,0,0,0,0,0,0,0,0,0,0,0,0,0,0,0,0,0,0,0,0,0,0,0,0,0,0,0,0,0,0,0,0,0,0,0,0,0,0,0,0,0,0,0,0,0,0,0,0,0]
[null,null,null,null,"dev_accum_flag","Flag for Accumulating Development to FC for Financing","InputC",1,null," 1==> Accumulate Development and Finance at FC"]
[null,null,null,null,"dev_recovery_pct","Development Expenditure Recovery Percent","InputC",1]
[]
[null,null,null,null,"dev_fee_flag","Development Fee Method","InputC",1,null," 1 ==> % of Cost; 0 ==.> Multiple"]
[null,null,null,null,"dev_fee_percent","Development capital remuneration","InputC",0,null,"% of Total Project Cost"]
[null,null,null,null,"devfee_profile","Developmemt fee payment profile","InputS",null,null,0,0,0,0,0,0,0,0,0,0,1,0,0,0,0,0,0,0,0,0,0,0,0,0,0,0,0,0,0,0,0,0,0,0,0,0,0,0,0,0,0,0,0,0,0,0,0,0,0,0,0,0,0,0,0,0,0,0,0,0,0,0,0,0,0]
[null,null,null,null,"dev_fee_multiple","Development Fee Multiple if Option Used","InputC",4,null,"times of development cost"]
[null,null,null,null,"dev_fee_reimbursable_pct","Percentage of Development Fee Reimbursible","InputC",1]
[null,null,null,null,"DevS","% of development fee payable at FC","InputC",1,null,"Same as Reimbursable"]
[]
[null,null,"Working Capital Facility"]
[null,null,null,null,"Initial_WC_Funding","Funding of the Initial Working Capital Pre-COD","InputS",null,null,0,0,0,0,0,0,0,0,0,0,0,0,0,0,0,0,0,0,0,0,0,0,0,0,0,0,0,0,0,0,0,0,0,0,0,0,0,0,0,0,0,0,0,0,0,0,0,0,0,0,0,0,0,0,0,0,0,0,0,0,0,0,0,0,0]
[null,null,null,null,"Initial_WC_Use","Use of the Funded Working Capital Post-COD","InputS",null,null,0,0,0,0,0,0,0,0,0,0,0,0,0,0,0,0,0,0,0,0,0,0,0,0,0,0,0,0,0,0,0,0,0,0,0,0,0,0,0,0,0,0,0,0,0,0,0,0,0,0,0,0,0,0,0,0,0,0,0,0,0,0,0,0,0]
[null,null,null,null,"Apply_WC_Facility","Flag for Using Working Capital Revolver","InputC"]
[null,null,null,null,"WC_Facility_Interest_Rate","Periodic Interest Rate on Working Capital Facility","InputS"]
[]
[null,null,"VAT, PRG and Equity LC, Currency"]
[null,null,null,null,"VAT_Code","Code for base of VAT","InputC",4,"(1 - Direct Input; 2 - Use Rate; 3 Include IDC; 4 - No VAT)"]
[null,null,null,null,"VAT_Rate","Rate on EPC if Not Input (Code Two)","InputC",0]
[null,null,null,null,"VAT_Payments_Input","VAT Payments Directly Input ","InputS",null,null,0,0,0,0,0,0,0,0,0,0,0,0,0,0,0,0,0,0,0,0,0,0,0,0,0,0,0,0,0,0,0,0,0,0,0,0,0,0,0,0,0,0,0,0,0,0,0,0,0,0,0,0,0,0,0,0,0,0,0,0,0,0,0,0,0,0,0,0,0,0,0,0,0,0,0,0,0,0,0,0,0,0,0,0,0,0,0,0,0,0,0,0,0,0,0,0,0,0,0,0,0,0,0,0,0,0,0,0,0,0,0,0,0,0,0,0,0,0,0,0,0,0,0,0,0,0,0,0,0,0,0,0,0,0,0,0,0,0,0,0,0,0,0,0,0,0,0,0,0,0,0,0,0,0,0,0,0,0,0,0,0,0,0,0,0,0,0,0,0,0,0,0,0,0,0,0,0,0,0,0,0,0,0,0,0]
[null,null,null,null,"VAT_Refund_Input","VAT Refunds Directly Input ","InputS",null,null,0,0,0,0,0,0,0,0,0,0,0,0,0,0,0,0,0,0,0,0,0,0,0,0,0,0,0,0,0,0,0,0,0,0,0,0,0,0,0,0,0,0,0,0,0,0,0,0,0,0,0,0,0,0,0,0,0,0,0,0,0,0,0,0,0,0,0,0,0,0,0,0,0,0,0,0,0,0,0,0,0,0,0,0,0,0,0,0,0,0,0,0,0,0,0,0,0,0,0,0,0,0,0,0,0,0,0,0,0,0,0,0,0,0,0,0,0,0,0,0,0,0,0,0,0,0,0,0,0,0,0,0,0,0,0,0,0,0,0,0,0,0,0,0,0,0,0,0,0,0,0,0,0,0,0,0,0,0,0,0,0,0,0,0,0,0,0,0,0,0,0,0,0,0,0,0,0,0,0,0,0,0,0,0,0]
[null,null,null,null,"VAT_Lag_Construction","Months of Lag for Refund (Code Two)","InputC",4]
[null,null,null,null,"VAT_Lag_Operation","Months of Lag for Refund (Code Two)","InputC",3]
[{"$f":"A$1963","v":0},{"$f":"B$1963","v":0},{"$f":"C$1963","v":0},{"$f":"D$1963","v":0},"Vat_EBL_Fees","Include VAT on EBL Fees","InputC",1,{"$f":"I$1963","v":0},{"$f":"J$1963","v":0},{"$f":"K$1963","v":0},{"$f":"L$1963","v":0},{"$f":"M$1963","v":0},{"$f":"N$1963","v":0},{"$f":"O$1963","v":0},{"$f":"P$1963","v":0},{"$f":"Q$1963","v":0},{"$f":"R$1963","v":0},{"$f":"S$1963","v":0},{"$f":"T$1963","v":0},{"$f":"U$1963","v":0},{"$f":"V$1963","v":0},{"$f":"W$1963","v":0},{"$f":"X$1963","v":0},{"$f":"Y$1963","v":0},{"$f":"Z$1963","v":0},{"$f":"AA$1963","v":0},{"$f":"AB$1963","v":0},{"$f":"AC$1963","v":0},{"$f":"AD$1963","v":0},{"$f":"AE$1963","v":0},{"$f":"AF$1963","v":0},{"$f":"AG$1963","v":0},{"$f":"AH$1963","v":0},{"$f":"AI$1963","v":0},{"$f":"AJ$1963","v":0},{"$f":"AK$1963","v":0},{"$f":"AL$1963","v":0},{"$f":"AM$1963","v":0},{"$f":"AN$1963","v":0},{"$f":"AO$1963","v":0},{"$f":"AP$1963","v":0},{"$f":"AQ$1963","v":0},{"$f":"AR$1963","v":0},{"$f":"AS$1963","v":0},{"$f":"AT$1963","v":0},{"$f":"AU$1963","v":0},{"$f":"AV$1963","v":0},{"$f":"AW$1963","v":0},{"$f":"AX$1963","v":0},{"$f":"AY$1963","v":0},{"$f":"AZ$1963","v":0},{"$f":"BA$1963","v":0},{"$f":"BB$1963","v":0},{"$f":"BC$1963","v":0},{"$f":"BD$1963","v":0},{"$f":"BE$1963","v":0},{"$f":"BF$1963","v":0},{"$f":"BG$1963","v":0},{"$f":"BH$1963","v":0},{"$f":"BI$1963","v":0},{"$f":"BJ$1963","v":0},{"$f":"BK$1963","v":0},{"$f":"BL$1963","v":0},{"$f":"BM$1963","v":0},{"$f":"BN$1963","v":0},{"$f":"BO$1963","v":0},{"$f":"BP$1963","v":0},{"$f":"BQ$1963","v":0},{"$f":"BR$1963","v":0},{"$f":"BS$1963","v":0},{"$f":"BT$1963","v":0},{"$f":"BU$1963","v":0},{"$f":"BV$1963","v":0},{"$f":"BW$1963","v":0},{"$f":"BX$1963","v":0},{"$f":"BY$1963","v":0},{"$f":"BZ$1963","v":0},{"$f":"CA$1963","v":0},{"$f":"CB$1963","v":0},{"$f":"CC$1963","v":0},{"$f":"CD$1963","v":0},{"$f":"CE$1963","v":0},{"$f":"CF$1963","v":0},{"$f":"CG$1963","v":0},{"$f":"CH$1963","v":0},{"$f":"CI$1963","v":0},{"$f":"CJ$1963","v":0},{"$f":"CK$1963","v":0},{"$f":"CL$1963","v":0},{"$f":"CM$1963","v":0},{"$f":"CN$1963","v":0},{"$f":"CO$1963","v":0},{"$f":"CP$1963","v":0},{"$f":"CQ$1963","v":0},{"$f":"CR$1963","v":0},{"$f":"CS$1963","v":0},{"$f":"CT$1963","v":0},{"$f":"CU$1963","v":0},{"$f":"CV$1963","v":0},{"$f":"CW$1963","v":0},{"$f":"CX$1963","v":0},{"$f":"CY$1963","v":0},{"$f":"CZ$1963","v":0},{"$f":"DA$1963","v":0},{"$f":"DB$1963","v":0},{"$f":"DC$1963","v":0},{"$f":"DD$1963","v":0},{"$f":"DE$1963","v":0},{"$f":"DF$1963","v":0},{"$f":"DG$1963","v":0},{"$f":"DH$1963","v":0},{"$f":"DI$1963","v":0},{"$f":"DJ$1963","v":0},{"$f":"DK$1963","v":0},{"$f":"DL$1963","v":0},{"$f":"DM$1963","v":0},{"$f":"DN$1963","v":0},{"$f":"DO$1963","v":0},{"$f":"DP$1963","v":0},{"$f":"DQ$1963","v":0},{"$f":"DR$1963","v":0},{"$f":"DS$1963","v":0},{"$f":"DT$1963","v":0},{"$f":"DU$1963","v":0},{"$f":"DV$1963","v":0},{"$f":"DW$1963","v":0},{"$f":"DX$1963","v":0},{"$f":"DY$1963","v":0},{"$f":"DZ$1963","v":0},{"$f":"EA$1963","v":0},{"$f":"EB$1963","v":0},{"$f":"EC$1963","v":0},{"$f":"ED$1963","v":0},{"$f":"EE$1963","v":0},{"$f":"EF$1963","v":0},{"$f":"EG$1963","v":0},{"$f":"EH$1963","v":0},{"$f":"EI$1963","v":0},{"$f":"EJ$1963","v":0},{"$f":"EK$1963","v":0},{"$f":"EL$1963","v":0},{"$f":"EM$1963","v":0},{"$f":"EN$1963","v":0},{"$f":"EO$1963","v":0},{"$f":"EP$1963","v":0},{"$f":"EQ$1963","v":0},{"$f":"ER$1963","v":0},{"$f":"ES$1963","v":0},{"$f":"ET$1963","v":0},{"$f":"EU$1963","v":0},{"$f":"EV$1963","v":0},{"$f":"EW$1963","v":0},{"$f":"EX$1963","v":0},{"$f":"EY$1963","v":0},{"$f":"EZ$1963","v":0},{"$f":"FA$1963","v":0},{"$f":"FB$1963","v":0},{"$f":"FC$1963","v":0},{"$f":"FD$1963","v":0},{"$f":"FE$1963","v":0},{"$f":"FF$1963","v":0},{"$f":"FG$1963","v":0},{"$f":"FH$1963","v":0},{"$f":"FI$1963","v":0},{"$f":"FJ$1963","v":0},{"$f":"FK$1963","v":0},{"$f":"FL$1963","v":0},{"$f":"FM$1963","v":0},{"$f":"FN$1963","v":0},{"$f":"FO$1963","v":0},{"$f":"FP$1963","v":0},{"$f":"FQ$1963","v":0},{"$f":"FR$1963","v":0},{"$f":"FS$1963","v":0},{"$f":"FT$1963","v":0},{"$f":"FU$1963","v":0},{"$f":"FV$1963","v":0},{"$f":"FW$1963","v":0},{"$f":"FX$1963","v":0},{"$f":"FY$1963","v":0},{"$f":"FZ$1963","v":0},{"$f":"GA$1963","v":0},{"$f":"GB$1963","v":0},{"$f":"GC$1963","v":0},{"$f":"GD$1963","v":0},{"$f":"GE$1963","v":0},{"$f":"GF$1963","v":0},{"$f":"GG$1963","v":0},{"$f":"GH$1963","v":0},{"$f":"GI$1963","v":0},{"$f":"GJ$1963","v":0},{"$f":"GK$1963","v":0},{"$f":"GL$1963","v":0},{"$f":"GM$1963","v":0},{"$f":"GN$1963","v":0},{"$f":"GO$1963","v":0},{"$f":"GP$1963","v":0},{"$f":"GQ$1963","v":0},{"$f":"GR$1963","v":0},{"$f":"GS$1963","v":0},{"$f":"GT$1963","v":0},{"$f":"GU$1963","v":0},{"$f":"GV$1963","v":0},{"$f":"GW$1963","v":0},{"$f":"GX$1963","v":0},{"$f":"GY$1963","v":0},{"$f":"GZ$1963","v":0},{"$f":"HA$1963","v":0},{"$f":"HB$1963","v":0},{"$f":"HC$1963","v":0},{"$f":"HD$1963","v":0},{"$f":"HE$1963","v":0},{"$f":"HF$1963","v":0},{"$f":"HG$1963","v":0},{"$f":"HH$1963","v":0},{"$f":"HI$1963","v":0},{"$f":"HJ$1963","v":0},{"$f":"HK$1963","v":0},{"$f":"HL$1963","v":0},{"$f":"HM$1963","v":0},{"$f":"HN$1963","v":0},{"$f":"HO$1963","v":0},{"$f":"HP$1963","v":0},{"$f":"HQ$1963","v":0},{"$f":"HR$1963","v":0},{"$f":"HS$1963","v":0},{"$f":"HT$1963","v":0},{"$f":"HU$1963","v":0},{"$f":"HV$1963","v":0},{"$f":"HW$1963","v":0},{"$f":"HX$1963","v":0},{"$f":"HY$1963","v":0},{"$f":"HZ$1963","v":0},{"$f":"IA$1963","v":0},{"$f":"IB$1963","v":0},{"$f":"IC$1963","v":0},{"$f":"ID$1963","v":0},{"$f":"IE$1963","v":0},{"$f":"IF$1963","v":0},{"$f":"IG$1963","v":0},{"$f":"IH$1963","v":0},{"$f":"II$1963","v":0},{"$f":"IJ$1963","v":0},{"$f":"IK$1963","v":0},{"$f":"IL$1963","v":0},{"$f":"IM$1963","v":0},{"$f":"IN$1963","v":0},{"$f":"IO$1963","v":0},{"$f":"IP$1963","v":0},{"$f":"IQ$1963","v":0},{"$f":"IR$1963","v":0},{"$f":"IS$1963","v":0},{"$f":"IT$1963","v":0},{"$f":"IU$1963","v":0},{"$f":"IV$1963","v":0},{"$f":"IW$1963","v":0},{"$f":"IX$1963","v":0},{"$f":"IY$1963","v":0},{"$f":"IZ$1963","v":0},{"$f":"JA$1963","v":0},{"$f":"JB$1963","v":0},{"$f":"JC$1963","v":0},{"$f":"JD$1963","v":0},{"$f":"JE$1963","v":0},{"$f":"JF$1963","v":0},{"$f":"JG$1963","v":0},{"$f":"JH$1963","v":0},{"$f":"JI$1963","v":0},{"$f":"JJ$1963","v":0},{"$f":"JK$1963","v":0},{"$f":"JL$1963","v":0},{"$f":"JM$1963","v":0},{"$f":"JN$1963","v":0},{"$f":"JO$1963","v":0},{"$f":"JP$1963","v":0},{"$f":"JQ$1963","v":0},{"$f":"JR$1963","v":0},{"$f":"JS$1963","v":0},{"$f":"JT$1963","v":0},{"$f":"JU$1963","v":0},{"$f":"JV$1963","v":0},{"$f":"JW$1963","v":0},{"$f":"JX$1963","v":0},{"$f":"JY$1963","v":0},{"$f":"JZ$1963","v":0},{"$f":"KA$1963","v":0},{"$f":"KB$1963","v":0},{"$f":"KC$1963","v":0},{"$f":"KD$1963","v":0},{"$f":"KE$1963","v":0},{"$f":"KF$1963","v":0},{"$f":"KG$1963","v":0},{"$f":"KH$1963","v":0},{"$f":"KI$1963","v":0},{"$f":"KJ$1963","v":0},{"$f":"KK$1963","v":0},{"$f":"KL$1963","v":0},{"$f":"KM$1963","v":0},{"$f":"KN$1963","v":0},{"$f":"KO$1963","v":0},{"$f":"KP$1963","v":0},{"$f":"KQ$1963","v":0},{"$f":"KR$1963","v":0},{"$f":"KS$1963","v":0},{"$f":"KT$1963","v":0},{"$f":"KU$1963","v":0},{"$f":"KV$1963","v":0},{"$f":"KW$1963","v":0},{"$f":"KX$1963","v":0},{"$f":"KY$1963","v":0},{"$f":"KZ$1963","v":0},{"$f":"LA$1963","v":0},{"$f":"LB$1963","v":0},{"$f":"LC$1963","v":0},{"$f":"LD$1963","v":0},{"$f":"LE$1963","v":0},{"$f":"LF$1963","v":0},{"$f":"LG$1963","v":0},{"$f":"LH$1963","v":0},{"$f":"LI$1963","v":0},{"$f":"LJ$1963","v":0},{"$f":"LK$1963","v":0},{"$f":"LL$1963","v":0},{"$f":"LM$1963","v":0},{"$f":"LN$1963","v":0},{"$f":"LO$1963","v":0},{"$f":"LP$1963","v":0},{"$f":"LQ$1963","v":0},{"$f":"LR$1963","v":0},{"$f":"LS$1963","v":0},{"$f":"LT$1963","v":0},{"$f":"LU$1963","v":0},{"$f":"LV$1963","v":0},{"$f":"LW$1963","v":0},{"$f":"LX$1963","v":0},{"$f":"LY$1963","v":0},{"$f":"LZ$1963","v":0},{"$f":"MA$1963","v":0},{"$f":"MB$1963","v":0},{"$f":"MC$1963","v":0},{"$f":"MD$1963","v":0},{"$f":"ME$1963","v":0},{"$f":"MF$1963","v":0},{"$f":"MG$1963","v":0},{"$f":"MH$1963","v":0},{"$f":"MI$1963","v":0},{"$f":"MJ$1963","v":0},{"$f":"MK$1963","v":0},{"$f":"ML$1963","v":0},{"$f":"MM$1963","v":0},{"$f":"MN$1963","v":0},{"$f":"MO$1963","v":0},{"$f":"MP$1963","v":0},{"$f":"MQ$1963","v":0},{"$f":"MR$1963","v":0},{"$f":"MS$1963","v":0},{"$f":"MT$1963","v":0},{"$f":"MU$1963","v":0},{"$f":"MV$1963","v":0},{"$f":"MW$1963","v":0},{"$f":"MX$1963","v":0},{"$f":"MY$1963","v":0},{"$f":"MZ$1963","v":0},{"$f":"NA$1963","v":0},{"$f":"NB$1963","v":0},{"$f":"NC$1963","v":0},{"$f":"ND$1963","v":0},{"$f":"NE$1963","v":0},{"$f":"NF$1963","v":0},{"$f":"NG$1963","v":0},{"$f":"NH$1963","v":0},{"$f":"NI$1963","v":0},{"$f":"NJ$1963","v":0},{"$f":"NK$1963","v":0},{"$f":"NL$1963","v":0},{"$f":"NM$1963","v":0},{"$f":"NN$1963","v":0},{"$f":"NO$1963","v":0},{"$f":"NP$1963","v":0},{"$f":"NQ$1963","v":0},{"$f":"NR$1963","v":0},{"$f":"NS$1963","v":0},{"$f":"NT$1963","v":0},{"$f":"NU$1963","v":0},{"$f":"NV$1963","v":0},{"$f":"NW$1963","v":0},{"$f":"NX$1963","v":0},{"$f":"NY$1963","v":0},{"$f":"NZ$1963","v":0},{"$f":"OA$1963","v":0},{"$f":"OB$1963","v":0},{"$f":"OC$1963","v":0},{"$f":"OD$1963","v":0},{"$f":"OE$1963","v":0},{"$f":"OF$1963","v":0},{"$f":"OG$1963","v":0},{"$f":"OH$1963","v":0},{"$f":"OI$1963","v":0},{"$f":"OJ$1963","v":0},{"$f":"OK$1963","v":0},{"$f":"OL$1963","v":0},{"$f":"OM$1963","v":0},{"$f":"ON$1963","v":0},{"$f":"OO$1963","v":0},{"$f":"OP$1963","v":0},{"$f":"OQ$1963","v":0},{"$f":"OR$1963","v":0},{"$f":"OS$1963","v":0},{"$f":"OT$1963","v":0},{"$f":"OU$1963","v":0},{"$f":"OV$1963","v":0},{"$f":"OW$1963","v":0},{"$f":"OX$1963","v":0},{"$f":"OY$1963","v":0},{"$f":"OZ$1963","v":0},{"$f":"PA$1963","v":0},{"$f":"PB$1963","v":0},{"$f":"PC$1963","v":0},{"$f":"PD$1963","v":0},{"$f":"PE$1963","v":0},{"$f":"PF$1963","v":0},{"$f":"PG$1963","v":0},{"$f":"PH$1963","v":0},{"$f":"PI$1963","v":0},{"$f":"PJ$1963","v":0},{"$f":"PK$1963","v":0},{"$f":"PL$1963","v":0},{"$f":"PM$1963","v":0},{"$f":"PN$1963","v":0},{"$f":"PO$1963","v":0},{"$f":"PP$1963","v":0},{"$f":"PQ$1963","v":0},{"$f":"PR$1963","v":0},{"$f":"PS$1963","v":0},{"$f":"PT$1963","v":0},{"$f":"PU$1963","v":0},{"$f":"PV$1963","v":0},{"$f":"PW$1963","v":0},{"$f":"PX$1963","v":0},{"$f":"PY$1963","v":0},{"$f":"PZ$1963","v":0},{"$f":"QA$1963","v":0},{"$f":"QB$1963","v":0},{"$f":"QC$1963","v":0},{"$f":"QD$1963","v":0},{"$f":"QE$1963","v":0},{"$f":"QF$1963","v":0},{"$f":"QG$1963","v":0},{"$f":"QH$1963","v":0},{"$f":"QI$1963","v":0},{"$f":"QJ$1963","v":0},{"$f":"QK$1963","v":0},{"$f":"QL$1963","v":0},{"$f":"QM$1963","v":0},{"$f":"QN$1963","v":0},{"$f":"QO$1963","v":0},{"$f":"QP$1963","v":0},{"$f":"QQ$1963","v":0},{"$f":"QR$1963","v":0},{"$f":"QS$1963","v":0},{"$f":"QT$1963","v":0},{"$f":"QU$1963","v":0},{"$f":"QV$1963","v":0},{"$f":"QW$1963","v":0},{"$f":"QX$1963","v":0},{"$f":"QY$1963","v":0},{"$f":"QZ$1963","v":0},{"$f":"RA$1963","v":0},{"$f":"RB$1963","v":0},{"$f":"RC$1963","v":0},{"$f":"RD$1963","v":0},{"$f":"RE$1963","v":0},{"$f":"RF$1963","v":0},{"$f":"RG$1963","v":0},{"$f":"RH$1963","v":0},{"$f":"RI$1963","v":0},{"$f":"RJ$1963","v":0},{"$f":"RK$1963","v":0},{"$f":"RL$1963","v":0},{"$f":"RM$1963","v":0},{"$f":"RN$1963","v":0},{"$f":"RO$1963","v":0},{"$f":"RP$1963","v":0},{"$f":"RQ$1963","v":0},{"$f":"RR$1963","v":0},{"$f":"RS$1963","v":0},{"$f":"RT$1963","v":0},{"$f":"RU$1963","v":0},{"$f":"RV$1963","v":0},{"$f":"RW$1963","v":0},{"$f":"RX$1963","v":0},{"$f":"RY$1963","v":0},{"$f":"RZ$1963","v":0},{"$f":"SA$1963","v":0},{"$f":"SB$1963","v":0},{"$f":"SC$1963","v":0},{"$f":"SD$1963","v":0},{"$f":"SE$1963","v":0},{"$f":"SF$1963","v":0},{"$f":"SG$1963","v":0},{"$f":"SH$1963","v":0},{"$f":"SI$1963","v":0},{"$f":"SJ$1963","v":0},{"$f":"SK$1963","v":0},{"$f":"SL$1963","v":0},{"$f":"SM$1963","v":0},{"$f":"SN$1963","v":0},{"$f":"SO$1963","v":0},{"$f":"SP$1963","v":0},{"$f":"SQ$1963","v":0},{"$f":"SR$1963","v":0},{"$f":"SS$1963","v":0},{"$f":"ST$1963","v":0},{"$f":"SU$1963","v":0},{"$f":"SV$1963","v":0},{"$f":"SW$1963","v":0},{"$f":"SX$1963","v":0},{"$f":"SY$1963","v":0},{"$f":"SZ$1963","v":0},{"$f":"TA$1963","v":0},{"$f":"TB$1963","v":0},{"$f":"TC$1963","v":0},{"$f":"TD$1963","v":0},{"$f":"TE$1963","v":0},{"$f":"TF$1963","v":0},{"$f":"TG$1963","v":0},{"$f":"TH$1963","v":0},{"$f":"TI$1963","v":0},{"$f":"TJ$1963","v":0},{"$f":"TK$1963","v":0},{"$f":"TL$1963","v":0},{"$f":"TM$1963","v":0},{"$f":"TN$1963","v":0},{"$f":"TO$1963","v":0},{"$f":"TP$1963","v":0},{"$f":"TQ$1963","v":0},{"$f":"TR$1963","v":0},{"$f":"TS$1963","v":0},{"$f":"TT$1963","v":0},{"$f":"TU$1963","v":0},{"$f":"TV$1963","v":0},{"$f":"TW$1963","v":0},{"$f":"TX$1963","v":0},{"$f":"TY$1963","v":0},{"$f":"TZ$1963","v":0},{"$f":"UA$1963","v":0},{"$f":"UB$1963","v":0},{"$f":"UC$1963","v":0},{"$f":"UD$1963","v":0},{"$f":"UE$1963","v":0},{"$f":"UF$1963","v":0},{"$f":"UG$1963","v":0},{"$f":"UH$1963","v":0},{"$f":"UI$1963","v":0},{"$f":"UJ$1963","v":0},{"$f":"UK$1963","v":0},{"$f":"UL$1963","v":0},{"$f":"UM$1963","v":0},{"$f":"UN$1963","v":0},{"$f":"UO$1963","v":0},{"$f":"UP$1963","v":0},{"$f":"UQ$1963","v":0},{"$f":"UR$1963","v":0},{"$f":"US$1963","v":0},{"$f":"UT$1963","v":0},{"$f":"UU$1963","v":0},{"$f":"UV$1963","v":0},{"$f":"UW$1963","v":0},{"$f":"UX$1963","v":0},{"$f":"UY$1963","v":0},{"$f":"UZ$1963","v":0},{"$f":"VA$1963","v":0},{"$f":"VB$1963","v":0},{"$f":"VC$1963","v":0},{"$f":"VD$1963","v":0},{"$f":"VE$1963","v":0},{"$f":"VF$1963","v":0},{"$f":"VG$1963","v":0},{"$f":"VH$1963","v":0},{"$f":"VI$1963","v":0},{"$f":"VJ$1963","v":0},{"$f":"VK$1963","v":0},{"$f":"VL$1963","v":0},{"$f":"VM$1963","v":0},{"$f":"VN$1963","v":0},{"$f":"VO$1963","v":0},{"$f":"VP$1963","v":0},{"$f":"VQ$1963","v":0},{"$f":"VR$1963","v":0},{"$f":"VS$1963","v":0},{"$f":"VT$1963","v":0},{"$f":"VU$1963","v":0},{"$f":"VV$1963","v":0},{"$f":"VW$1963","v":0},{"$f":"VX$1963","v":0},{"$f":"VY$1963","v":0},{"$f":"VZ$1963","v":0},{"$f":"WA$1963","v":0},{"$f":"WB$1963","v":0},{"$f":"WC$1963","v":0},{"$f":"WD$1963","v":0},{"$f":"WE$1963","v":0},{"$f":"WF$1963","v":0},{"$f":"WG$1963","v":0},{"$f":"WH$1963","v":0},{"$f":"WI$1963","v":0},{"$f":"WJ$1963","v":0},{"$f":"WK$1963","v":0},{"$f":"WL$1963","v":0},{"$f":"WM$1963","v":0},{"$f":"WN$1963","v":0},{"$f":"WO$1963","v":0},{"$f":"WP$1963","v":0},{"$f":"WQ$1963","v":0},{"$f":"WR$1963","v":0},{"$f":"WS$1963","v":0},{"$f":"WT$1963","v":0},{"$f":"WU$1963","v":0},{"$f":"WV$1963","v":0},{"$f":"WW$1963","v":0},{"$f":"WX$1963","v":0},{"$f":"WY$1963","v":0},{"$f":"WZ$1963","v":0},{"$f":"XA$1963","v":0},{"$f":"XB$1963","v":0},{"$f":"XC$1963","v":0},{"$f":"XD$1963","v":0},{"$f":"XE$1963","v":0},{"$f":"XF$1963","v":0},{"$f":"XG$1963","v":0},{"$f":"XH$1963","v":0},{"$f":"XI$1963","v":0},{"$f":"XJ$1963","v":0},{"$f":"XK$1963","v":0},{"$f":"XL$1963","v":0},{"$f":"XM$1963","v":0},{"$f":"XN$1963","v":0},{"$f":"XO$1963","v":0},{"$f":"XP$1963","v":0},{"$f":"XQ$1963","v":0},{"$f":"XR$1963","v":0},{"$f":"XS$1963","v":0},{"$f":"XT$1963","v":0},{"$f":"XU$1963","v":0},{"$f":"XV$1963","v":0},{"$f":"XW$1963","v":0},{"$f":"XX$1963","v":0},{"$f":"XY$1963","v":0},{"$f":"XZ$1963","v":0},{"$f":"YA$1963","v":0},{"$f":"YB$1963","v":0},{"$f":"YC$1963","v":0},{"$f":"YD$1963","v":0},{"$f":"YE$1963","v":0},{"$f":"YF$1963","v":0},{"$f":"YG$1963","v":0},{"$f":"YH$1963","v":0},{"$f":"YI$1963","v":0},{"$f":"YJ$1963","v":0},{"$f":"YK$1963","v":0},{"$f":"YL$1963","v":0},{"$f":"YM$1963","v":0},{"$f":"YN$1963","v":0},{"$f":"YO$1963","v":0},{"$f":"YP$1963","v":0},{"$f":"YQ$1963","v":0},{"$f":"YR$1963","v":0},{"$f":"YS$1963","v":0},{"$f":"YT$1963","v":0},{"$f":"YU$1963","v":0},{"$f":"YV$1963","v":0},{"$f":"YW$1963","v":0},{"$f":"YX$1963","v":0},{"$f":"YY$1963","v":0},{"$f":"YZ$1963","v":0},{"$f":"ZA$1963","v":0},{"$f":"ZB$1963","v":0},{"$f":"ZC$1963","v":0},{"$f":"ZD$1963","v":0},{"$f":"ZE$1963","v":0},{"$f":"ZF$1963","v":0},{"$f":"ZG$1963","v":0},{"$f":"ZH$1963","v":0},{"$f":"ZI$1963","v":0},{"$f":"ZJ$1963","v":0},{"$f":"ZK$1963","v":0},{"$f":"ZL$1963","v":0},{"$f":"ZM$1963","v":0},{"$f":"ZN$1963","v":0},{"$f":"ZO$1963","v":0},{"$f":"ZP$1963","v":0},{"$f":"ZQ$1963","v":0},{"$f":"ZR$1963","v":0},{"$f":"ZS$1963","v":0},{"$f":"ZT$1963","v":0},{"$f":"ZU$1963","v":0},{"$f":"ZV$1963","v":0},{"$f":"ZW$1963","v":0},{"$f":"ZX$1963","v":0},{"$f":"ZY$1963","v":0},{"$f":"ZZ$1963","v":0},{"$f":"AAA$1963","v":0},{"$f":"AAB$1963","v":0},{"$f":"AAC$1963","v":0},{"$f":"AAD$1963","v":0},{"$f":"AAE$1963","v":0},{"$f":"AAF$1963","v":0},{"$f":"AAG$1963","v":0},{"$f":"AAH$1963","v":0},{"$f":"AAI$1963","v":0},{"$f":"AAJ$1963","v":0},{"$f":"AAK$1963","v":0},{"$f":"AAL$1963","v":0},{"$f":"AAM$1963","v":0},{"$f":"AAN$1963","v":0},{"$f":"AAO$1963","v":0},{"$f":"AAP$1963","v":0},{"$f":"AAQ$1963","v":0},{"$f":"AAR$1963","v":0},{"$f":"AAS$1963","v":0},{"$f":"AAT$1963","v":0},{"$f":"AAU$1963","v":0},{"$f":"AAV$1963","v":0},{"$f":"AAW$1963","v":0},{"$f":"AAX$1963","v":0},{"$f":"AAY$1963","v":0},{"$f":"AAZ$1963","v":0},{"$f":"ABA$1963","v":0},{"$f":"ABB$1963","v":0},{"$f":"ABC$1963","v":0},{"$f":"ABD$1963","v":0},{"$f":"ABE$1963","v":0},{"$f":"ABF$1963","v":0},{"$f":"ABG$1963","v":0},{"$f":"ABH$1963","v":0},{"$f":"ABI$1963","v":0},{"$f":"ABJ$1963","v":0},{"$f":"ABK$1963","v":0},{"$f":"ABL$1963","v":0},{"$f":"ABM$1963","v":0},{"$f":"ABN$1963","v":0},{"$f":"ABO$1963","v":0},{"$f":"ABP$1963","v":0},{"$f":"ABQ$1963","v":0},{"$f":"ABR$1963","v":0},{"$f":"ABS$1963","v":0},{"$f":"ABT$1963","v":0},{"$f":"ABU$1963","v":0},{"$f":"ABV$1963","v":0},{"$f":"ABW$1963","v":0},{"$f":"ABX$1963","v":0},{"$f":"ABY$1963","v":0},{"$f":"ABZ$1963","v":0},{"$f":"ACA$1963","v":0},{"$f":"ACB$1963","v":0},{"$f":"ACC$1963","v":0},{"$f":"ACD$1963","v":0},{"$f":"ACE$1963","v":0},{"$f":"ACF$1963","v":0},{"$f":"ACG$1963","v":0},{"$f":"ACH$1963","v":0},{"$f":"ACI$1963","v":0},{"$f":"ACJ$1963","v":0},{"$f":"ACK$1963","v":0},{"$f":"ACL$1963","v":0},{"$f":"ACM$1963","v":0},{"$f":"ACN$1963","v":0},{"$f":"ACO$1963","v":0},{"$f":"ACP$1963","v":0},{"$f":"ACQ$1963","v":0},{"$f":"ACR$1963","v":0},{"$f":"ACS$1963","v":0},{"$f":"ACT$1963","v":0},{"$f":"ACU$1963","v":0},{"$f":"ACV$1963","v":0},{"$f":"ACW$1963","v":0},{"$f":"ACX$1963","v":0},{"$f":"ACY$1963","v":0},{"$f":"ACZ$1963","v":0},{"$f":"ADA$1963","v":0},{"$f":"ADB$1963","v":0},{"$f":"ADC$1963","v":0},{"$f":"ADD$1963","v":0},{"$f":"ADE$1963","v":0},{"$f":"ADF$1963","v":0},{"$f":"ADG$1963","v":0},{"$f":"ADH$1963","v":0},{"$f":"ADI$1963","v":0},{"$f":"ADJ$1963","v":0},{"$f":"ADK$1963","v":0},{"$f":"ADL$1963","v":0},{"$f":"ADM$1963","v":0},{"$f":"ADN$1963","v":0},{"$f":"ADO$1963","v":0},{"$f":"ADP$1963","v":0},{"$f":"ADQ$1963","v":0},{"$f":"ADR$1963","v":0},{"$f":"ADS$1963","v":0},{"$f":"ADT$1963","v":0},{"$f":"ADU$1963","v":0},{"$f":"ADV$1963","v":0},{"$f":"ADW$1963","v":0},{"$f":"ADX$1963","v":0},{"$f":"ADY$1963","v":0},{"$f":"ADZ$1963","v":0},{"$f":"AEA$1963","v":0},{"$f":"AEB$1963","v":0},{"$f":"AEC$1963","v":0},{"$f":"AED$1963","v":0},{"$f":"AEE$1963","v":0},{"$f":"AEF$1963","v":0},{"$f":"AEG$1963","v":0},{"$f":"AEH$1963","v":0},{"$f":"AEI$1963","v":0},{"$f":"AEJ$1963","v":0},{"$f":"AEK$1963","v":0},{"$f":"AEL$1963","v":0},{"$f":"AEM$1963","v":0},{"$f":"AEN$1963","v":0},{"$f":"AEO$1963","v":0},{"$f":"AEP$1963","v":0},{"$f":"AEQ$1963","v":0},{"$f":"AER$1963","v":0},{"$f":"AES$1963","v":0},{"$f":"AET$1963","v":0},{"$f":"AEU$1963","v":0},{"$f":"AEV$1963","v":0},{"$f":"AEW$1963","v":0},{"$f":"AEX$1963","v":0},{"$f":"AEY$1963","v":0},{"$f":"AEZ$1963","v":0},{"$f":"AFA$1963","v":0},{"$f":"AFB$1963","v":0},{"$f":"AFC$1963","v":0},{"$f":"AFD$1963","v":0},{"$f":"AFE$1963","v":0},{"$f":"AFF$1963","v":0},{"$f":"AFG$1963","v":0},{"$f":"AFH$1963","v":0},{"$f":"AFI$1963","v":0},{"$f":"AFJ$1963","v":0},{"$f":"AFK$1963","v":0},{"$f":"AFL$1963","v":0},{"$f":"AFM$1963","v":0},{"$f":"AFN$1963","v":0},{"$f":"AFO$1963","v":0},{"$f":"AFP$1963","v":0},{"$f":"AFQ$1963","v":0},{"$f":"AFR$1963","v":0},{"$f":"AFS$1963","v":0},{"$f":"AFT$1963","v":0},{"$f":"AFU$1963","v":0},{"$f":"AFV$1963","v":0},{"$f":"AFW$1963","v":0},{"$f":"AFX$1963","v":0},{"$f":"AFY$1963","v":0},{"$f":"AFZ$1963","v":0},{"$f":"AGA$1963","v":0},{"$f":"AGB$1963","v":0},{"$f":"AGC$1963","v":0},{"$f":"AGD$1963","v":0},{"$f":"AGE$1963","v":0},{"$f":"AGF$1963","v":0},{"$f":"AGG$1963","v":0},{"$f":"AGH$1963","v":0},{"$f":"AGI$1963","v":0},{"$f":"AGJ$1963","v":0},{"$f":"AGK$1963","v":0},{"$f":"AGL$1963","v":0},{"$f":"AGM$1963","v":0},{"$f":"AGN$1963","v":0},{"$f":"AGO$1963","v":0},{"$f":"AGP$1963","v":0},{"$f":"AGQ$1963","v":0},{"$f":"AGR$1963","v":0},{"$f":"AGS$1963","v":0},{"$f":"AGT$1963","v":0},{"$f":"AGU$1963","v":0},{"$f":"AGV$1963","v":0},{"$f":"AGW$1963","v":0},{"$f":"AGX$1963","v":0},{"$f":"AGY$1963","v":0},{"$f":"AGZ$1963","v":0},{"$f":"AHA$1963","v":0},{"$f":"AHB$1963","v":0},{"$f":"AHC$1963","v":0},{"$f":"AHD$1963","v":0},{"$f":"AHE$1963","v":0},{"$f":"AHF$1963","v":0},{"$f":"AHG$1963","v":0},{"$f":"AHH$1963","v":0},{"$f":"AHI$1963","v":0},{"$f":"AHJ$1963","v":0},{"$f":"AHK$1963","v":0},{"$f":"AHL$1963","v":0},{"$f":"AHM$1963","v":0},{"$f":"AHN$1963","v":0},{"$f":"AHO$1963","v":0},{"$f":"AHP$1963","v":0},{"$f":"AHQ$1963","v":0},{"$f":"AHR$1963","v":0},{"$f":"AHS$1963","v":0},{"$f":"AHT$1963","v":0},{"$f":"AHU$1963","v":0},{"$f":"AHV$1963","v":0},{"$f":"AHW$1963","v":0},{"$f":"AHX$1963","v":0},{"$f":"AHY$1963","v":0},{"$f":"AHZ$1963","v":0},{"$f":"AIA$1963","v":0},{"$f":"AIB$1963","v":0},{"$f":"AIC$1963","v":0},{"$f":"AID$1963","v":0},{"$f":"AIE$1963","v":0},{"$f":"AIF$1963","v":0},{"$f":"AIG$1963","v":0},{"$f":"AIH$1963","v":0},{"$f":"AII$1963","v":0},{"$f":"AIJ$1963","v":0},{"$f":"AIK$1963","v":0},{"$f":"AIL$1963","v":0},{"$f":"AIM$1963","v":0},{"$f":"AIN$1963","v":0},{"$f":"AIO$1963","v":0},{"$f":"AIP$1963","v":0},{"$f":"AIQ$1963","v":0},{"$f":"AIR$1963","v":0},{"$f":"AIS$1963","v":0},{"$f":"AIT$1963","v":0},{"$f":"AIU$1963","v":0},{"$f":"AIV$1963","v":0},{"$f":"AIW$1963","v":0},{"$f":"AIX$1963","v":0},{"$f":"AIY$1963","v":0},{"$f":"AIZ$1963","v":0},{"$f":"AJA$1963","v":0},{"$f":"AJB$1963","v":0},{"$f":"AJC$1963","v":0},{"$f":"AJD$1963","v":0},{"$f":"AJE$1963","v":0},{"$f":"AJF$1963","v":0},{"$f":"AJG$1963","v":0},{"$f":"AJH$1963","v":0},{"$f":"AJI$1963","v":0},{"$f":"AJJ$1963","v":0},{"$f":"AJK$1963","v":0},{"$f":"AJL$1963","v":0},{"$f":"AJM$1963","v":0},{"$f":"AJN$1963","v":0},{"$f":"AJO$1963","v":0},{"$f":"AJP$1963","v":0},{"$f":"AJQ$1963","v":0},{"$f":"AJR$1963","v":0},{"$f":"AJS$1963","v":0},{"$f":"AJT$1963","v":0},{"$f":"AJU$1963","v":0},{"$f":"AJV$1963","v":0},{"$f":"AJW$1963","v":0},{"$f":"AJX$1963","v":0},{"$f":"AJY$1963","v":0},{"$f":"AJZ$1963","v":0},{"$f":"AKA$1963","v":0},{"$f":"AKB$1963","v":0},{"$f":"AKC$1963","v":0},{"$f":"AKD$1963","v":0},{"$f":"AKE$1963","v":0},{"$f":"AKF$1963","v":0},{"$f":"AKG$1963","v":0},{"$f":"AKH$1963","v":0},{"$f":"AKI$1963","v":0},{"$f":"AKJ$1963","v":0},{"$f":"AKK$1963","v":0},{"$f":"AKL$1963","v":0},{"$f":"AKM$1963","v":0},{"$f":"AKN$1963","v":0},{"$f":"AKO$1963","v":0},{"$f":"AKP$1963","v":0},{"$f":"AKQ$1963","v":0},{"$f":"AKR$1963","v":0},{"$f":"AKS$1963","v":0},{"$f":"AKT$1963","v":0},{"$f":"AKU$1963","v":0},{"$f":"AKV$1963","v":0},{"$f":"AKW$1963","v":0},{"$f":"AKX$1963","v":0},{"$f":"AKY$1963","v":0},{"$f":"AKZ$1963","v":0},{"$f":"ALA$1963","v":0},{"$f":"ALB$1963","v":0},{"$f":"ALC$1963","v":0},{"$f":"ALD$1963","v":0},{"$f":"ALE$1963","v":0},{"$f":"ALF$1963","v":0},{"$f":"ALG$1963","v":0},{"$f":"ALH$1963","v":0},{"$f":"ALI$1963","v":0},{"$f":"ALJ$1963","v":0},{"$f":"ALK$1963","v":0},{"$f":"ALL$1963","v":0},{"$f":"ALM$1963","v":0},{"$f":"ALN$1963","v":0},{"$f":"ALO$1963","v":0},{"$f":"ALP$1963","v":0},{"$f":"ALQ$1963","v":0},{"$f":"ALR$1963","v":0},{"$f":"ALS$1963","v":0},{"$f":"ALT$1963","v":0},{"$f":"ALU$1963","v":0},{"$f":"ALV$1963","v":0},{"$f":"ALW$1963","v":0},{"$f":"ALX$1963","v":0},{"$f":"ALY$1963","v":0},{"$f":"ALZ$1963","v":0},{"$f":"AMA$1963","v":0},{"$f":"AMB$1963","v":0},{"$f":"AMC$1963","v":0},{"$f":"AMD$1963","v":0},{"$f":"AME$1963","v":0},{"$f":"AMF$1963","v":0},{"$f":"AMG$1963","v":0},{"$f":"AMH$1963","v":0},{"$f":"AMI$1963","v":0},{"$f":"AMJ$1963","v":0},{"$f":"AMK$1963","v":0},{"$f":"AML$1963","v":0},{"$f":"AMM$1963","v":0},{"$f":"AMN$1963","v":0},{"$f":"AMO$1963","v":0},{"$f":"AMP$1963","v":0},{"$f":"AMQ$1963","v":0},{"$f":"AMR$1963","v":0},{"$f":"AMS$1963","v":0},{"$f":"AMT$1963","v":0},{"$f":"AMU$1963","v":0},{"$f":"AMV$1963","v":0},{"$f":"AMW$1963","v":0},{"$f":"AMX$1963","v":0},{"$f":"AMY$1963","v":0},{"$f":"AMZ$1963","v":0},{"$f":"ANA$1963","v":0},{"$f":"ANB$1963","v":0},{"$f":"ANC$1963","v":0},{"$f":"AND$1963","v":0},{"$f":"ANE$1963","v":0},{"$f":"ANF$1963","v":0},{"$f":"ANG$1963","v":0},{"$f":"ANH$1963","v":0},{"$f":"ANI$1963","v":0},{"$f":"ANJ$1963","v":0},{"$f":"ANK$1963","v":0},{"$f":"ANL$1963","v":0},{"$f":"ANM$1963","v":0},{"$f":"ANN$1963","v":0},{"$f":"ANO$1963","v":0},{"$f":"ANP$1963","v":0},{"$f":"ANQ$1963","v":0},{"$f":"ANR$1963","v":0},{"$f":"ANS$1963","v":0},{"$f":"ANT$1963","v":0},{"$f":"ANU$1963","v":0},{"$f":"ANV$1963","v":0},{"$f":"ANW$1963","v":0},{"$f":"ANX$1963","v":0},{"$f":"ANY$1963","v":0},{"$f":"ANZ$1963","v":0},{"$f":"AOA$1963","v":0},{"$f":"AOB$1963","v":0},{"$f":"AOC$1963","v":0},{"$f":"AOD$1963","v":0},{"$f":"AOE$1963","v":0},{"$f":"AOF$1963","v":0},{"$f":"AOG$1963","v":0},{"$f":"AOH$1963","v":0},{"$f":"AOI$1963","v":0},{"$f":"AOJ$1963","v":0},{"$f":"AOK$1963","v":0},{"$f":"AOL$1963","v":0},{"$f":"AOM$1963","v":0},{"$f":"AON$1963","v":0},{"$f":"AOO$1963","v":0},{"$f":"AOP$1963","v":0},{"$f":"AOQ$1963","v":0},{"$f":"AOR$1963","v":0},{"$f":"AOS$1963","v":0},{"$f":"AOT$1963","v":0},{"$f":"AOU$1963","v":0},{"$f":"AOV$1963","v":0},{"$f":"AOW$1963","v":0},{"$f":"AOX$1963","v":0},{"$f":"AOY$1963","v":0},{"$f":"AOZ$1963","v":0},{"$f":"APA$1963","v":0},{"$f":"APB$1963","v":0},{"$f":"APC$1963","v":0},{"$f":"APD$1963","v":0},{"$f":"APE$1963","v":0},{"$f":"APF$1963","v":0},{"$f":"APG$1963","v":0},{"$f":"APH$1963","v":0},{"$f":"API$1963","v":0},{"$f":"APJ$1963","v":0},{"$f":"APK$1963","v":0},{"$f":"APL$1963","v":0},{"$f":"APM$1963","v":0},{"$f":"APN$1963","v":0},{"$f":"APO$1963","v":0},{"$f":"APP$1963","v":0},{"$f":"APQ$1963","v":0},{"$f":"APR$1963","v":0},{"$f":"APS$1963","v":0},{"$f":"APT$1963","v":0},{"$f":"APU$1963","v":0},{"$f":"APV$1963","v":0},{"$f":"APW$1963","v":0},{"$f":"APX$1963","v":0},{"$f":"APY$1963","v":0},{"$f":"APZ$1963","v":0},{"$f":"AQA$1963","v":0},{"$f":"AQB$1963","v":0},{"$f":"AQC$1963","v":0},{"$f":"AQD$1963","v":0},{"$f":"AQE$1963","v":0},{"$f":"AQF$1963","v":0},{"$f":"AQG$1963","v":0},{"$f":"AQH$1963","v":0},{"$f":"AQI$1963","v":0},{"$f":"AQJ$1963","v":0},{"$f":"AQK$1963","v":0},{"$f":"AQL$1963","v":0},{"$f":"AQM$1963","v":0},{"$f":"AQN$1963","v":0},{"$f":"AQO$1963","v":0},{"$f":"AQP$1963","v":0},{"$f":"AQQ$1963","v":0},{"$f":"AQR$1963","v":0},{"$f":"AQS$1963","v":0},{"$f":"AQT$1963","v":0},{"$f":"AQU$1963","v":0},{"$f":"AQV$1963","v":0},{"$f":"AQW$1963","v":0},{"$f":"AQX$1963","v":0},{"$f":"AQY$1963","v":0},{"$f":"AQZ$1963","v":0},{"$f":"ARA$1963","v":0},{"$f":"ARB$1963","v":0},{"$f":"ARC$1963","v":0},{"$f":"ARD$1963","v":0},{"$f":"ARE$1963","v":0},{"$f":"ARF$1963","v":0},{"$f":"ARG$1963","v":0},{"$f":"ARH$1963","v":0},{"$f":"ARI$1963","v":0},{"$f":"ARJ$1963","v":0},{"$f":"ARK$1963","v":0},{"$f":"ARL$1963","v":0},{"$f":"ARM$1963","v":0},{"$f":"ARN$1963","v":0},{"$f":"ARO$1963","v":0},{"$f":"ARP$1963","v":0},{"$f":"ARQ$1963","v":0},{"$f":"ARR$1963","v":0},{"$f":"ARS$1963","v":0},{"$f":"ART$1963","v":0},{"$f":"ARU$1963","v":0},{"$f":"ARV$1963","v":0},{"$f":"ARW$1963","v":0},{"$f":"ARX$1963","v":0},{"$f":"ARY$1963","v":0},{"$f":"ARZ$1963","v":0},{"$f":"ASA$1963","v":0},{"$f":"ASB$1963","v":0},{"$f":"ASC$1963","v":0},{"$f":"ASD$1963","v":0},{"$f":"ASE$1963","v":0},{"$f":"ASF$1963","v":0},{"$f":"ASG$1963","v":0},{"$f":"ASH$1963","v":0},{"$f":"ASI$1963","v":0},{"$f":"ASJ$1963","v":0},{"$f":"ASK$1963","v":0},{"$f":"ASL$1963","v":0},{"$f":"ASM$1963","v":0},{"$f":"ASN$1963","v":0},{"$f":"ASO$1963","v":0},{"$f":"ASP$1963","v":0},{"$f":"ASQ$1963","v":0},{"$f":"ASR$1963","v":0},{"$f":"ASS$1963","v":0},{"$f":"AST$1963","v":0},{"$f":"ASU$1963","v":0},{"$f":"ASV$1963","v":0},{"$f":"ASW$1963","v":0},{"$f":"ASX$1963","v":0},{"$f":"ASY$1963","v":0},{"$f":"ASZ$1963","v":0},{"$f":"ATA$1963","v":0},{"$f":"ATB$1963","v":0},{"$f":"ATC$1963","v":0},{"$f":"ATD$1963","v":0},{"$f":"ATE$1963","v":0},{"$f":"ATF$1963","v":0},{"$f":"ATG$1963","v":0},{"$f":"ATH$1963","v":0},{"$f":"ATI$1963","v":0},{"$f":"ATJ$1963","v":0},{"$f":"ATK$1963","v":0},{"$f":"ATL$1963","v":0},{"$f":"ATM$1963","v":0},{"$f":"ATN$1963","v":0},{"$f":"ATO$1963","v":0},{"$f":"ATP$1963","v":0},{"$f":"ATQ$1963","v":0},{"$f":"ATR$1963","v":0},{"$f":"ATS$1963","v":0},{"$f":"ATT$1963","v":0},{"$f":"ATU$1963","v":0},{"$f":"ATV$1963","v":0},{"$f":"ATW$1963","v":0},{"$f":"ATX$1963","v":0},{"$f":"ATY$1963","v":0},{"$f":"ATZ$1963","v":0},{"$f":"AUA$1963","v":0},{"$f":"AUB$1963","v":0},{"$f":"AUC$1963","v":0},{"$f":"AUD$1963","v":0},{"$f":"AUE$1963","v":0},{"$f":"AUF$1963","v":0},{"$f":"AUG$1963","v":0},{"$f":"AUH$1963","v":0},{"$f":"AUI$1963","v":0},{"$f":"AUJ$1963","v":0},{"$f":"AUK$1963","v":0},{"$f":"AUL$1963","v":0},{"$f":"AUM$1963","v":0},{"$f":"AUN$1963","v":0},{"$f":"AUO$1963","v":0},{"$f":"AUP$1963","v":0},{"$f":"AUQ$1963","v":0},{"$f":"AUR$1963","v":0},{"$f":"AUS$1963","v":0},{"$f":"AUT$1963","v":0},{"$f":"AUU$1963","v":0},{"$f":"AUV$1963","v":0},{"$f":"AUW$1963","v":0},{"$f":"AUX$1963","v":0},{"$f":"AUY$1963","v":0},{"$f":"AUZ$1963","v":0},{"$f":"AVA$1963","v":0},{"$f":"AVB$1963","v":0},{"$f":"AVC$1963","v":0},{"$f":"AVD$1963","v":0},{"$f":"AVE$1963","v":0},{"$f":"AVF$1963","v":0},{"$f":"AVG$1963","v":0},{"$f":"AVH$1963","v":0},{"$f":"AVI$1963","v":0},{"$f":"AVJ$1963","v":0},{"$f":"AVK$1963","v":0},{"$f":"AVL$1963","v":0},{"$f":"AVM$1963","v":0},{"$f":"AVN$1963","v":0},{"$f":"AVO$1963","v":0},{"$f":"AVP$1963","v":0},{"$f":"AVQ$1963","v":0},{"$f":"AVR$1963","v":0},{"$f":"AVS$1963","v":0},{"$f":"AVT$1963","v":0},{"$f":"AVU$1963","v":0},{"$f":"AVV$1963","v":0},{"$f":"AVW$1963","v":0},{"$f":"AVX$1963","v":0},{"$f":"AVY$1963","v":0},{"$f":"AVZ$1963","v":0},{"$f":"AWA$1963","v":0},{"$f":"AWB$1963","v":0},{"$f":"AWC$1963","v":0},{"$f":"AWD$1963","v":0},{"$f":"AWE$1963","v":0},{"$f":"AWF$1963","v":0},{"$f":"AWG$1963","v":0},{"$f":"AWH$1963","v":0},{"$f":"AWI$1963","v":0},{"$f":"AWJ$1963","v":0},{"$f":"AWK$1963","v":0},{"$f":"AWL$1963","v":0},{"$f":"AWM$1963","v":0},{"$f":"AWN$1963","v":0},{"$f":"AWO$1963","v":0},{"$f":"AWP$1963","v":0},{"$f":"AWQ$1963","v":0},{"$f":"AWR$1963","v":0},{"$f":"AWS$1963","v":0},{"$f":"AWT$1963","v":0},{"$f":"AWU$1963","v":0},{"$f":"AWV$1963","v":0},{"$f":"AWW$1963","v":0},{"$f":"AWX$1963","v":0},{"$f":"AWY$1963","v":0},{"$f":"AWZ$1963","v":0},{"$f":"AXA$1963","v":0},{"$f":"AXB$1963","v":0},{"$f":"AXC$1963","v":0},{"$f":"AXD$1963","v":0},{"$f":"AXE$1963","v":0},{"$f":"AXF$1963","v":0},{"$f":"AXG$1963","v":0},{"$f":"AXH$1963","v":0},{"$f":"AXI$1963","v":0},{"$f":"AXJ$1963","v":0},{"$f":"AXK$1963","v":0},{"$f":"AXL$1963","v":0},{"$f":"AXM$1963","v":0},{"$f":"AXN$1963","v":0},{"$f":"AXO$1963","v":0},{"$f":"AXP$1963","v":0},{"$f":"AXQ$1963","v":0},{"$f":"AXR$1963","v":0},{"$f":"AXS$1963","v":0},{"$f":"AXT$1963","v":0},{"$f":"AXU$1963","v":0},{"$f":"AXV$1963","v":0},{"$f":"AXW$1963","v":0},{"$f":"AXX$1963","v":0},{"$f":"AXY$1963","v":0},{"$f":"AXZ$1963","v":0},{"$f":"AYA$1963","v":0},{"$f":"AYB$1963","v":0},{"$f":"AYC$1963","v":0},{"$f":"AYD$1963","v":0},{"$f":"AYE$1963","v":0},{"$f":"AYF$1963","v":0},{"$f":"AYG$1963","v":0},{"$f":"AYH$1963","v":0},{"$f":"AYI$1963","v":0},{"$f":"AYJ$1963","v":0},{"$f":"AYK$1963","v":0},{"$f":"AYL$1963","v":0},{"$f":"AYM$1963","v":0},{"$f":"AYN$1963","v":0},{"$f":"AYO$1963","v":0},{"$f":"AYP$1963","v":0},{"$f":"AYQ$1963","v":0},{"$f":"AYR$1963","v":0},{"$f":"AYS$1963","v":0},{"$f":"AYT$1963","v":0},{"$f":"AYU$1963","v":0},{"$f":"AYV$1963","v":0},{"$f":"AYW$1963","v":0},{"$f":"AYX$1963","v":0},{"$f":"AYY$1963","v":0},{"$f":"AYZ$1963","v":0},{"$f":"AZA$1963","v":0},{"$f":"AZB$1963","v":0},{"$f":"AZC$1963","v":0},{"$f":"AZD$1963","v":0},{"$f":"AZE$1963","v":0},{"$f":"AZF$1963","v":0},{"$f":"AZG$1963","v":0},{"$f":"AZH$1963","v":0},{"$f":"AZI$1963","v":0},{"$f":"AZJ$1963","v":0},{"$f":"AZK$1963","v":0},{"$f":"AZL$1963","v":0},{"$f":"AZM$1963","v":0},{"$f":"AZN$1963","v":0},{"$f":"AZO$1963","v":0},{"$f":"AZP$1963","v":0},{"$f":"AZQ$1963","v":0},{"$f":"AZR$1963","v":0},{"$f":"AZS$1963","v":0},{"$f":"AZT$1963","v":0},{"$f":"AZU$1963","v":0},{"$f":"AZV$1963","v":0},{"$f":"AZW$1963","v":0},{"$f":"AZX$1963","v":0},{"$f":"AZY$1963","v":0},{"$f":"AZZ$1963","v":0},{"$f":"BAA$1963","v":0},{"$f":"BAB$1963","v":0},{"$f":"BAC$1963","v":0},{"$f":"BAD$1963","v":0},{"$f":"BAE$1963","v":0},{"$f":"BAF$1963","v":0},{"$f":"BAG$1963","v":0},{"$f":"BAH$1963","v":0},{"$f":"BAI$1963","v":0},{"$f":"BAJ$1963","v":0},{"$f":"BAK$1963","v":0},{"$f":"BAL$1963","v":0},{"$f":"BAM$1963","v":0},{"$f":"BAN$1963","v":0},{"$f":"BAO$1963","v":0},{"$f":"BAP$1963","v":0},{"$f":"BAQ$1963","v":0},{"$f":"BAR$1963","v":0},{"$f":"BAS$1963","v":0},{"$f":"BAT$1963","v":0},{"$f":"BAU$1963","v":0},{"$f":"BAV$1963","v":0},{"$f":"BAW$1963","v":0},{"$f":"BAX$1963","v":0},{"$f":"BAY$1963","v":0},{"$f":"BAZ$1963","v":0},{"$f":"BBA$1963","v":0},{"$f":"BBB$1963","v":0},{"$f":"BBC$1963","v":0},{"$f":"BBD$1963","v":0},{"$f":"BBE$1963","v":0},{"$f":"BBF$1963","v":0},{"$f":"BBG$1963","v":0},{"$f":"BBH$1963","v":0},{"$f":"BBI$1963","v":0},{"$f":"BBJ$1963","v":0},{"$f":"BBK$1963","v":0},{"$f":"BBL$1963","v":0},{"$f":"BBM$1963","v":0},{"$f":"BBN$1963","v":0},{"$f":"BBO$1963","v":0},{"$f":"BBP$1963","v":0},{"$f":"BBQ$1963","v":0},{"$f":"BBR$1963","v":0},{"$f":"BBS$1963","v":0},{"$f":"BBT$1963","v":0},{"$f":"BBU$1963","v":0},{"$f":"BBV$1963","v":0},{"$f":"BBW$1963","v":0},{"$f":"BBX$1963","v":0},{"$f":"BBY$1963","v":0},{"$f":"BBZ$1963","v":0},{"$f":"BCA$1963","v":0},{"$f":"BCB$1963","v":0},{"$f":"BCC$1963","v":0},{"$f":"BCD$1963","v":0},{"$f":"BCE$1963","v":0},{"$f":"BCF$1963","v":0},{"$f":"BCG$1963","v":0},{"$f":"BCH$1963","v":0},{"$f":"BCI$1963","v":0},{"$f":"BCJ$1963","v":0},{"$f":"BCK$1963","v":0},{"$f":"BCL$1963","v":0},{"$f":"BCM$1963","v":0},{"$f":"BCN$1963","v":0},{"$f":"BCO$1963","v":0},{"$f":"BCP$1963","v":0},{"$f":"BCQ$1963","v":0},{"$f":"BCR$1963","v":0},{"$f":"BCS$1963","v":0},{"$f":"BCT$1963","v":0},{"$f":"BCU$1963","v":0},{"$f":"BCV$1963","v":0},{"$f":"BCW$1963","v":0},{"$f":"BCX$1963","v":0},{"$f":"BCY$1963","v":0},{"$f":"BCZ$1963","v":0},{"$f":"BDA$1963","v":0},{"$f":"BDB$1963","v":0},{"$f":"BDC$1963","v":0},{"$f":"BDD$1963","v":0},{"$f":"BDE$1963","v":0},{"$f":"BDF$1963","v":0},{"$f":"BDG$1963","v":0},{"$f":"BDH$1963","v":0},{"$f":"BDI$1963","v":0},{"$f":"BDJ$1963","v":0},{"$f":"BDK$1963","v":0},{"$f":"BDL$1963","v":0},{"$f":"BDM$1963","v":0},{"$f":"BDN$1963","v":0},{"$f":"BDO$1963","v":0},{"$f":"BDP$1963","v":0},{"$f":"BDQ$1963","v":0},{"$f":"BDR$1963","v":0},{"$f":"BDS$1963","v":0},{"$f":"BDT$1963","v":0},{"$f":"BDU$1963","v":0},{"$f":"BDV$1963","v":0},{"$f":"BDW$1963","v":0},{"$f":"BDX$1963","v":0},{"$f":"BDY$1963","v":0},{"$f":"BDZ$1963","v":0},{"$f":"BEA$1963","v":0},{"$f":"BEB$1963","v":0},{"$f":"BEC$1963","v":0},{"$f":"BED$1963","v":0},{"$f":"BEE$1963","v":0},{"$f":"BEF$1963","v":0},{"$f":"BEG$1963","v":0},{"$f":"BEH$1963","v":0},{"$f":"BEI$1963","v":0},{"$f":"BEJ$1963","v":0},{"$f":"BEK$1963","v":0},{"$f":"BEL$1963","v":0},{"$f":"BEM$1963","v":0},{"$f":"BEN$1963","v":0},{"$f":"BEO$1963","v":0},{"$f":"BEP$1963","v":0},{"$f":"BEQ$1963","v":0},{"$f":"BER$1963","v":0},{"$f":"BES$1963","v":0},{"$f":"BET$1963","v":0},{"$f":"BEU$1963","v":0},{"$f":"BEV$1963","v":0},{"$f":"BEW$1963","v":0},{"$f":"BEX$1963","v":0},{"$f":"BEY$1963","v":0},{"$f":"BEZ$1963","v":0},{"$f":"BFA$1963","v":0},{"$f":"BFB$1963","v":0},{"$f":"BFC$1963","v":0},{"$f":"BFD$1963","v":0},{"$f":"BFE$1963","v":0},{"$f":"BFF$1963","v":0},{"$f":"BFG$1963","v":0},{"$f":"BFH$1963","v":0},{"$f":"BFI$1963","v":0},{"$f":"BFJ$1963","v":0},{"$f":"BFK$1963","v":0},{"$f":"BFL$1963","v":0},{"$f":"BFM$1963","v":0},{"$f":"BFN$1963","v":0},{"$f":"BFO$1963","v":0},{"$f":"BFP$1963","v":0},{"$f":"BFQ$1963","v":0},{"$f":"BFR$1963","v":0},{"$f":"BFS$1963","v":0},{"$f":"BFT$1963","v":0},{"$f":"BFU$1963","v":0},{"$f":"BFV$1963","v":0},{"$f":"BFW$1963","v":0},{"$f":"BFX$1963","v":0},{"$f":"BFY$1963","v":0},{"$f":"BFZ$1963","v":0},{"$f":"BGA$1963","v":0},{"$f":"BGB$1963","v":0},{"$f":"BGC$1963","v":0},{"$f":"BGD$1963","v":0},{"$f":"BGE$1963","v":0},{"$f":"BGF$1963","v":0},{"$f":"BGG$1963","v":0},{"$f":"BGH$1963","v":0},{"$f":"BGI$1963","v":0},{"$f":"BGJ$1963","v":0},{"$f":"BGK$1963","v":0},{"$f":"BGL$1963","v":0},{"$f":"BGM$1963","v":0},{"$f":"BGN$1963","v":0},{"$f":"BGO$1963","v":0},{"$f":"BGP$1963","v":0},{"$f":"BGQ$1963","v":0},{"$f":"BGR$1963","v":0},{"$f":"BGS$1963","v":0},{"$f":"BGT$1963","v":0},{"$f":"BGU$1963","v":0},{"$f":"BGV$1963","v":0},{"$f":"BGW$1963","v":0},{"$f":"BGX$1963","v":0},{"$f":"BGY$1963","v":0},{"$f":"BGZ$1963","v":0},{"$f":"BHA$1963","v":0},{"$f":"BHB$1963","v":0},{"$f":"BHC$1963","v":0},{"$f":"BHD$1963","v":0},{"$f":"BHE$1963","v":0},{"$f":"BHF$1963","v":0},{"$f":"BHG$1963","v":0},{"$f":"BHH$1963","v":0},{"$f":"BHI$1963","v":0},{"$f":"BHJ$1963","v":0},{"$f":"BHK$1963","v":0},{"$f":"BHL$1963","v":0},{"$f":"BHM$1963","v":0},{"$f":"BHN$1963","v":0},{"$f":"BHO$1963","v":0},{"$f":"BHP$1963","v":0},{"$f":"BHQ$1963","v":0},{"$f":"BHR$1963","v":0},{"$f":"BHS$1963","v":0},{"$f":"BHT$1963","v":0},{"$f":"BHU$1963","v":0},{"$f":"BHV$1963","v":0},{"$f":"BHW$1963","v":0},{"$f":"BHX$1963","v":0},{"$f":"BHY$1963","v":0},{"$f":"BHZ$1963","v":0},{"$f":"BIA$1963","v":0},{"$f":"BIB$1963","v":0},{"$f":"BIC$1963","v":0},{"$f":"BID$1963","v":0},{"$f":"BIE$1963","v":0},{"$f":"BIF$1963","v":0},{"$f":"BIG$1963","v":0},{"$f":"BIH$1963","v":0},{"$f":"BII$1963","v":0},{"$f":"BIJ$1963","v":0},{"$f":"BIK$1963","v":0},{"$f":"BIL$1963","v":0},{"$f":"BIM$1963","v":0},{"$f":"BIN$1963","v":0},{"$f":"BIO$1963","v":0},{"$f":"BIP$1963","v":0},{"$f":"BIQ$1963","v":0},{"$f":"BIR$1963","v":0},{"$f":"BIS$1963","v":0},{"$f":"BIT$1963","v":0},{"$f":"BIU$1963","v":0},{"$f":"BIV$1963","v":0},{"$f":"BIW$1963","v":0},{"$f":"BIX$1963","v":0},{"$f":"BIY$1963","v":0},{"$f":"BIZ$1963","v":0},{"$f":"BJA$1963","v":0},{"$f":"BJB$1963","v":0},{"$f":"BJC$1963","v":0},{"$f":"BJD$1963","v":0},{"$f":"BJE$1963","v":0},{"$f":"BJF$1963","v":0},{"$f":"BJG$1963","v":0},{"$f":"BJH$1963","v":0},{"$f":"BJI$1963","v":0},{"$f":"BJJ$1963","v":0},{"$f":"BJK$1963","v":0},{"$f":"BJL$1963","v":0},{"$f":"BJM$1963","v":0},{"$f":"BJN$1963","v":0},{"$f":"BJO$1963","v":0},{"$f":"BJP$1963","v":0},{"$f":"BJQ$1963","v":0},{"$f":"BJR$1963","v":0},{"$f":"BJS$1963","v":0},{"$f":"BJT$1963","v":0},{"$f":"BJU$1963","v":0},{"$f":"BJV$1963","v":0},{"$f":"BJW$1963","v":0},{"$f":"BJX$1963","v":0},{"$f":"BJY$1963","v":0},{"$f":"BJZ$1963","v":0},{"$f":"BKA$1963","v":0},{"$f":"BKB$1963","v":0},{"$f":"BKC$1963","v":0},{"$f":"BKD$1963","v":0},{"$f":"BKE$1963","v":0},{"$f":"BKF$1963","v":0},{"$f":"BKG$1963","v":0},{"$f":"BKH$1963","v":0},{"$f":"BKI$1963","v":0},{"$f":"BKJ$1963","v":0},{"$f":"BKK$1963","v":0},{"$f":"BKL$1963","v":0},{"$f":"BKM$1963","v":0},{"$f":"BKN$1963","v":0},{"$f":"BKO$1963","v":0},{"$f":"BKP$1963","v":0},{"$f":"BKQ$1963","v":0},{"$f":"BKR$1963","v":0},{"$f":"BKS$1963","v":0},{"$f":"BKT$1963","v":0},{"$f":"BKU$1963","v":0},{"$f":"BKV$1963","v":0},{"$f":"BKW$1963","v":0},{"$f":"BKX$1963","v":0},{"$f":"BKY$1963","v":0},{"$f":"BKZ$1963","v":0},{"$f":"BLA$1963","v":0},{"$f":"BLB$1963","v":0},{"$f":"BLC$1963","v":0},{"$f":"BLD$1963","v":0},{"$f":"BLE$1963","v":0},{"$f":"BLF$1963","v":0},{"$f":"BLG$1963","v":0},{"$f":"BLH$1963","v":0},{"$f":"BLI$1963","v":0},{"$f":"BLJ$1963","v":0},{"$f":"BLK$1963","v":0},{"$f":"BLL$1963","v":0},{"$f":"BLM$1963","v":0},{"$f":"BLN$1963","v":0},{"$f":"BLO$1963","v":0},{"$f":"BLP$1963","v":0},{"$f":"BLQ$1963","v":0},{"$f":"BLR$1963","v":0},{"$f":"BLS$1963","v":0},{"$f":"BLT$1963","v":0},{"$f":"BLU$1963","v":0},{"$f":"BLV$1963","v":0},{"$f":"BLW$1963","v":0},{"$f":"BLX$1963","v":0},{"$f":"BLY$1963","v":0},{"$f":"BLZ$1963","v":0},{"$f":"BMA$1963","v":0},{"$f":"BMB$1963","v":0},{"$f":"BMC$1963","v":0},{"$f":"BMD$1963","v":0},{"$f":"BME$1963","v":0},{"$f":"BMF$1963","v":0},{"$f":"BMG$1963","v":0},{"$f":"BMH$1963","v":0},{"$f":"BMI$1963","v":0},{"$f":"BMJ$1963","v":0},{"$f":"BMK$1963","v":0},{"$f":"BML$1963","v":0},{"$f":"BMM$1963","v":0},{"$f":"BMN$1963","v":0},{"$f":"BMO$1963","v":0},{"$f":"BMP$1963","v":0},{"$f":"BMQ$1963","v":0},{"$f":"BMR$1963","v":0},{"$f":"BMS$1963","v":0},{"$f":"BMT$1963","v":0},{"$f":"BMU$1963","v":0},{"$f":"BMV$1963","v":0},{"$f":"BMW$1963","v":0},{"$f":"BMX$1963","v":0},{"$f":"BMY$1963","v":0},{"$f":"BMZ$1963","v":0},{"$f":"BNA$1963","v":0},{"$f":"BNB$1963","v":0},{"$f":"BNC$1963","v":0},{"$f":"BND$1963","v":0},{"$f":"BNE$1963","v":0},{"$f":"BNF$1963","v":0},{"$f":"BNG$1963","v":0},{"$f":"BNH$1963","v":0},{"$f":"BNI$1963","v":0},{"$f":"BNJ$1963","v":0},{"$f":"BNK$1963","v":0},{"$f":"BNL$1963","v":0},{"$f":"BNM$1963","v":0},{"$f":"BNN$1963","v":0},{"$f":"BNO$1963","v":0},{"$f":"BNP$1963","v":0},{"$f":"BNQ$1963","v":0},{"$f":"BNR$1963","v":0},{"$f":"BNS$1963","v":0},{"$f":"BNT$1963","v":0},{"$f":"BNU$1963","v":0},{"$f":"BNV$1963","v":0},{"$f":"BNW$1963","v":0},{"$f":"BNX$1963","v":0},{"$f":"BNY$1963","v":0},{"$f":"BNZ$1963","v":0},{"$f":"BOA$1963","v":0},{"$f":"BOB$1963","v":0},{"$f":"BOC$1963","v":0},{"$f":"BOD$1963","v":0},{"$f":"BOE$1963","v":0},{"$f":"BOF$1963","v":0},{"$f":"BOG$1963","v":0},{"$f":"BOH$1963","v":0},{"$f":"BOI$1963","v":0},{"$f":"BOJ$1963","v":0},{"$f":"BOK$1963","v":0},{"$f":"BOL$1963","v":0},{"$f":"BOM$1963","v":0},{"$f":"BON$1963","v":0},{"$f":"BOO$1963","v":0},{"$f":"BOP$1963","v":0},{"$f":"BOQ$1963","v":0},{"$f":"BOR$1963","v":0},{"$f":"BOS$1963","v":0},{"$f":"BOT$1963","v":0},{"$f":"BOU$1963","v":0},{"$f":"BOV$1963","v":0},{"$f":"BOW$1963","v":0},{"$f":"BOX$1963","v":0},{"$f":"BOY$1963","v":0},{"$f":"BOZ$1963","v":0},{"$f":"BPA$1963","v":0},{"$f":"BPB$1963","v":0},{"$f":"BPC$1963","v":0},{"$f":"BPD$1963","v":0},{"$f":"BPE$1963","v":0},{"$f":"BPF$1963","v":0},{"$f":"BPG$1963","v":0},{"$f":"BPH$1963","v":0},{"$f":"BPI$1963","v":0},{"$f":"BPJ$1963","v":0},{"$f":"BPK$1963","v":0},{"$f":"BPL$1963","v":0},{"$f":"BPM$1963","v":0},{"$f":"BPN$1963","v":0},{"$f":"BPO$1963","v":0},{"$f":"BPP$1963","v":0},{"$f":"BPQ$1963","v":0},{"$f":"BPR$1963","v":0},{"$f":"BPS$1963","v":0},{"$f":"BPT$1963","v":0},{"$f":"BPU$1963","v":0},{"$f":"BPV$1963","v":0},{"$f":"BPW$1963","v":0},{"$f":"BPX$1963","v":0},{"$f":"BPY$1963","v":0},{"$f":"BPZ$1963","v":0},{"$f":"BQA$1963","v":0},{"$f":"BQB$1963","v":0},{"$f":"BQC$1963","v":0},{"$f":"BQD$1963","v":0},{"$f":"BQE$1963","v":0},{"$f":"BQF$1963","v":0},{"$f":"BQG$1963","v":0},{"$f":"BQH$1963","v":0},{"$f":"BQI$1963","v":0},{"$f":"BQJ$1963","v":0},{"$f":"BQK$1963","v":0},{"$f":"BQL$1963","v":0},{"$f":"BQM$1963","v":0},{"$f":"BQN$1963","v":0},{"$f":"BQO$1963","v":0},{"$f":"BQP$1963","v":0},{"$f":"BQQ$1963","v":0},{"$f":"BQR$1963","v":0},{"$f":"BQS$1963","v":0},{"$f":"BQT$1963","v":0},{"$f":"BQU$1963","v":0},{"$f":"BQV$1963","v":0},{"$f":"BQW$1963","v":0},{"$f":"BQX$1963","v":0},{"$f":"BQY$1963","v":0},{"$f":"BQZ$1963","v":0},{"$f":"BRA$1963","v":0},{"$f":"BRB$1963","v":0},{"$f":"BRC$1963","v":0},{"$f":"BRD$1963","v":0},{"$f":"BRE$1963","v":0},{"$f":"BRF$1963","v":0},{"$f":"BRG$1963","v":0},{"$f":"BRH$1963","v":0},{"$f":"BRI$1963","v":0},{"$f":"BRJ$1963","v":0},{"$f":"BRK$1963","v":0},{"$f":"BRL$1963","v":0},{"$f":"BRM$1963","v":0},{"$f":"BRN$1963","v":0},{"$f":"BRO$1963","v":0},{"$f":"BRP$1963","v":0},{"$f":"BRQ$1963","v":0},{"$f":"BRR$1963","v":0},{"$f":"BRS$1963","v":0},{"$f":"BRT$1963","v":0},{"$f":"BRU$1963","v":0},{"$f":"BRV$1963","v":0},{"$f":"BRW$1963","v":0},{"$f":"BRX$1963","v":0},{"$f":"BRY$1963","v":0},{"$f":"BRZ$1963","v":0},{"$f":"BSA$1963","v":0},{"$f":"BSB$1963","v":0},{"$f":"BSC$1963","v":0},{"$f":"BSD$1963","v":0},{"$f":"BSE$1963","v":0},{"$f":"BSF$1963","v":0},{"$f":"BSG$1963","v":0},{"$f":"BSH$1963","v":0},{"$f":"BSI$1963","v":0},{"$f":"BSJ$1963","v":0},{"$f":"BSK$1963","v":0},{"$f":"BSL$1963","v":0},{"$f":"BSM$1963","v":0},{"$f":"BSN$1963","v":0},{"$f":"BSO$1963","v":0},{"$f":"BSP$1963","v":0},{"$f":"BSQ$1963","v":0},{"$f":"BSR$1963","v":0},{"$f":"BSS$1963","v":0},{"$f":"BST$1963","v":0},{"$f":"BSU$1963","v":0},{"$f":"BSV$1963","v":0},{"$f":"BSW$1963","v":0},{"$f":"BSX$1963","v":0},{"$f":"BSY$1963","v":0},{"$f":"BSZ$1963","v":0},{"$f":"BTA$1963","v":0},{"$f":"BTB$1963","v":0},{"$f":"BTC$1963","v":0},{"$f":"BTD$1963","v":0},{"$f":"BTE$1963","v":0},{"$f":"BTF$1963","v":0},{"$f":"BTG$1963","v":0},{"$f":"BTH$1963","v":0},{"$f":"BTI$1963","v":0},{"$f":"BTJ$1963","v":0},{"$f":"BTK$1963","v":0},{"$f":"BTL$1963","v":0},{"$f":"BTM$1963","v":0},{"$f":"BTN$1963","v":0},{"$f":"BTO$1963","v":0},{"$f":"BTP$1963","v":0},{"$f":"BTQ$1963","v":0},{"$f":"BTR$1963","v":0},{"$f":"BTS$1963","v":0},{"$f":"BTT$1963","v":0},{"$f":"BTU$1963","v":0},{"$f":"BTV$1963","v":0},{"$f":"BTW$1963","v":0},{"$f":"BTX$1963","v":0},{"$f":"BTY$1963","v":0},{"$f":"BTZ$1963","v":0},{"$f":"BUA$1963","v":0},{"$f":"BUB$1963","v":0},{"$f":"BUC$1963","v":0},{"$f":"BUD$1963","v":0},{"$f":"BUE$1963","v":0},{"$f":"BUF$1963","v":0},{"$f":"BUG$1963","v":0},{"$f":"BUH$1963","v":0},{"$f":"BUI$1963","v":0},{"$f":"BUJ$1963","v":0},{"$f":"BUK$1963","v":0},{"$f":"BUL$1963","v":0},{"$f":"BUM$1963","v":0},{"$f":"BUN$1963","v":0},{"$f":"BUO$1963","v":0},{"$f":"BUP$1963","v":0},{"$f":"BUQ$1963","v":0},{"$f":"BUR$1963","v":0},{"$f":"BUS$1963","v":0},{"$f":"BUT$1963","v":0},{"$f":"BUU$1963","v":0},{"$f":"BUV$1963","v":0},{"$f":"BUW$1963","v":0},{"$f":"BUX$1963","v":0},{"$f":"BUY$1963","v":0},{"$f":"BUZ$1963","v":0},{"$f":"BVA$1963","v":0},{"$f":"BVB$1963","v":0},{"$f":"BVC$1963","v":0},{"$f":"BVD$1963","v":0},{"$f":"BVE$1963","v":0},{"$f":"BVF$1963","v":0},{"$f":"BVG$1963","v":0},{"$f":"BVH$1963","v":0},{"$f":"BVI$1963","v":0},{"$f":"BVJ$1963","v":0},{"$f":"BVK$1963","v":0},{"$f":"BVL$1963","v":0},{"$f":"BVM$1963","v":0},{"$f":"BVN$1963","v":0},{"$f":"BVO$1963","v":0},{"$f":"BVP$1963","v":0},{"$f":"BVQ$1963","v":0},{"$f":"BVR$1963","v":0},{"$f":"BVS$1963","v":0},{"$f":"BVT$1963","v":0},{"$f":"BVU$1963","v":0},{"$f":"BVV$1963","v":0},{"$f":"BVW$1963","v":0},{"$f":"BVX$1963","v":0},{"$f":"BVY$1963","v":0},{"$f":"BVZ$1963","v":0},{"$f":"BWA$1963","v":0},{"$f":"BWB$1963","v":0},{"$f":"BWC$1963","v":0},{"$f":"BWD$1963","v":0},{"$f":"BWE$1963","v":0},{"$f":"BWF$1963","v":0},{"$f":"BWG$1963","v":0},{"$f":"BWH$1963","v":0},{"$f":"BWI$1963","v":0},{"$f":"BWJ$1963","v":0},{"$f":"BWK$1963","v":0},{"$f":"BWL$1963","v":0},{"$f":"BWM$1963","v":0},{"$f":"BWN$1963","v":0},{"$f":"BWO$1963","v":0},{"$f":"BWP$1963","v":0},{"$f":"BWQ$1963","v":0},{"$f":"BWR$1963","v":0},{"$f":"BWS$1963","v":0},{"$f":"BWT$1963","v":0},{"$f":"BWU$1963","v":0},{"$f":"BWV$1963","v":0},{"$f":"BWW$1963","v":0},{"$f":"BWX$1963","v":0},{"$f":"BWY$1963","v":0},{"$f":"BWZ$1963","v":0},{"$f":"BXA$1963","v":0},{"$f":"BXB$1963","v":0},{"$f":"BXC$1963","v":0},{"$f":"BXD$1963","v":0},{"$f":"BXE$1963","v":0},{"$f":"BXF$1963","v":0},{"$f":"BXG$1963","v":0},{"$f":"BXH$1963","v":0},{"$f":"BXI$1963","v":0},{"$f":"BXJ$1963","v":0},{"$f":"BXK$1963","v":0},{"$f":"BXL$1963","v":0},{"$f":"BXM$1963","v":0},{"$f":"BXN$1963","v":0},{"$f":"BXO$1963","v":0},{"$f":"BXP$1963","v":0},{"$f":"BXQ$1963","v":0},{"$f":"BXR$1963","v":0},{"$f":"BXS$1963","v":0},{"$f":"BXT$1963","v":0},{"$f":"BXU$1963","v":0},{"$f":"BXV$1963","v":0},{"$f":"BXW$1963","v":0},{"$f":"BXX$1963","v":0},{"$f":"BXY$1963","v":0},{"$f":"BXZ$1963","v":0},{"$f":"BYA$1963","v":0},{"$f":"BYB$1963","v":0},{"$f":"BYC$1963","v":0},{"$f":"BYD$1963","v":0},{"$f":"BYE$1963","v":0},{"$f":"BYF$1963","v":0},{"$f":"BYG$1963","v":0},{"$f":"BYH$1963","v":0},{"$f":"BYI$1963","v":0},{"$f":"BYJ$1963","v":0},{"$f":"BYK$1963","v":0},{"$f":"BYL$1963","v":0},{"$f":"BYM$1963","v":0},{"$f":"BYN$1963","v":0},{"$f":"BYO$1963","v":0},{"$f":"BYP$1963","v":0},{"$f":"BYQ$1963","v":0},{"$f":"BYR$1963","v":0},{"$f":"BYS$1963","v":0},{"$f":"BYT$1963","v":0},{"$f":"BYU$1963","v":0},{"$f":"BYV$1963","v":0},{"$f":"BYW$1963","v":0},{"$f":"BYX$1963","v":0},{"$f":"BYY$1963","v":0},{"$f":"BYZ$1963","v":0},{"$f":"BZA$1963","v":0},{"$f":"BZB$1963","v":0},{"$f":"BZC$1963","v":0},{"$f":"BZD$1963","v":0},{"$f":"BZE$1963","v":0},{"$f":"BZF$1963","v":0},{"$f":"BZG$1963","v":0},{"$f":"BZH$1963","v":0},{"$f":"BZI$1963","v":0},{"$f":"BZJ$1963","v":0},{"$f":"BZK$1963","v":0},{"$f":"BZL$1963","v":0},{"$f":"BZM$1963","v":0},{"$f":"BZN$1963","v":0},{"$f":"BZO$1963","v":0},{"$f":"BZP$1963","v":0},{"$f":"BZQ$1963","v":0},{"$f":"BZR$1963","v":0},{"$f":"BZS$1963","v":0},{"$f":"BZT$1963","v":0},{"$f":"BZU$1963","v":0},{"$f":"BZV$1963","v":0},{"$f":"BZW$1963","v":0},{"$f":"BZX$1963","v":0},{"$f":"BZY$1963","v":0},{"$f":"BZZ$1963","v":0},{"$f":"CAA$1963","v":0},{"$f":"CAB$1963","v":0},{"$f":"CAC$1963","v":0},{"$f":"CAD$1963","v":0},{"$f":"CAE$1963","v":0},{"$f":"CAF$1963","v":0},{"$f":"CAG$1963","v":0},{"$f":"CAH$1963","v":0},{"$f":"CAI$1963","v":0},{"$f":"CAJ$1963","v":0},{"$f":"CAK$1963","v":0},{"$f":"CAL$1963","v":0},{"$f":"CAM$1963","v":0},{"$f":"CAN$1963","v":0},{"$f":"CAO$1963","v":0},{"$f":"CAP$1963","v":0},{"$f":"CAQ$1963","v":0},{"$f":"CAR$1963","v":0},{"$f":"CAS$1963","v":0},{"$f":"CAT$1963","v":0},{"$f":"CAU$1963","v":0},{"$f":"CAV$1963","v":0},{"$f":"CAW$1963","v":0},{"$f":"CAX$1963","v":0},{"$f":"CAY$1963","v":0},{"$f":"CAZ$1963","v":0},{"$f":"CBA$1963","v":0},{"$f":"CBB$1963","v":0},{"$f":"CBC$1963","v":0},{"$f":"CBD$1963","v":0},{"$f":"CBE$1963","v":0},{"$f":"CBF$1963","v":0},{"$f":"CBG$1963","v":0},{"$f":"CBH$1963","v":0},{"$f":"CBI$1963","v":0},{"$f":"CBJ$1963","v":0},{"$f":"CBK$1963","v":0},{"$f":"CBL$1963","v":0},{"$f":"CBM$1963","v":0},{"$f":"CBN$1963","v":0},{"$f":"CBO$1963","v":0},{"$f":"CBP$1963","v":0},{"$f":"CBQ$1963","v":0},{"$f":"CBR$1963","v":0},{"$f":"CBS$1963","v":0},{"$f":"CBT$1963","v":0},{"$f":"CBU$1963","v":0},{"$f":"CBV$1963","v":0},{"$f":"CBW$1963","v":0},{"$f":"CBX$1963","v":0},{"$f":"CBY$1963","v":0},{"$f":"CBZ$1963","v":0},{"$f":"CCA$1963","v":0},{"$f":"CCB$1963","v":0},{"$f":"CCC$1963","v":0},{"$f":"CCD$1963","v":0},{"$f":"CCE$1963","v":0},{"$f":"CCF$1963","v":0},{"$f":"CCG$1963","v":0},{"$f":"CCH$1963","v":0},{"$f":"CCI$1963","v":0},{"$f":"CCJ$1963","v":0},{"$f":"CCK$1963","v":0},{"$f":"CCL$1963","v":0},{"$f":"CCM$1963","v":0},{"$f":"CCN$1963","v":0},{"$f":"CCO$1963","v":0},{"$f":"CCP$1963","v":0},{"$f":"CCQ$1963","v":0},{"$f":"CCR$1963","v":0},{"$f":"CCS$1963","v":0},{"$f":"CCT$1963","v":0},{"$f":"CCU$1963","v":0},{"$f":"CCV$1963","v":0},{"$f":"CCW$1963","v":0},{"$f":"CCX$1963","v":0},{"$f":"CCY$1963","v":0},{"$f":"CCZ$1963","v":0},{"$f":"CDA$1963","v":0},{"$f":"CDB$1963","v":0},{"$f":"CDC$1963","v":0},{"$f":"CDD$1963","v":0},{"$f":"CDE$1963","v":0},{"$f":"CDF$1963","v":0},{"$f":"CDG$1963","v":0},{"$f":"CDH$1963","v":0},{"$f":"CDI$1963","v":0},{"$f":"CDJ$1963","v":0},{"$f":"CDK$1963","v":0},{"$f":"CDL$1963","v":0},{"$f":"CDM$1963","v":0},{"$f":"CDN$1963","v":0},{"$f":"CDO$1963","v":0},{"$f":"CDP$1963","v":0},{"$f":"CDQ$1963","v":0},{"$f":"CDR$1963","v":0},{"$f":"CDS$1963","v":0},{"$f":"CDT$1963","v":0},{"$f":"CDU$1963","v":0},{"$f":"CDV$1963","v":0},{"$f":"CDW$1963","v":0},{"$f":"CDX$1963","v":0},{"$f":"CDY$1963","v":0},{"$f":"CDZ$1963","v":0},{"$f":"CEA$1963","v":0},{"$f":"CEB$1963","v":0},{"$f":"CEC$1963","v":0},{"$f":"CED$1963","v":0},{"$f":"CEE$1963","v":0},{"$f":"CEF$1963","v":0},{"$f":"CEG$1963","v":0},{"$f":"CEH$1963","v":0},{"$f":"CEI$1963","v":0},{"$f":"CEJ$1963","v":0},{"$f":"CEK$1963","v":0},{"$f":"CEL$1963","v":0},{"$f":"CEM$1963","v":0},{"$f":"CEN$1963","v":0},{"$f":"CEO$1963","v":0},{"$f":"CEP$1963","v":0},{"$f":"CEQ$1963","v":0},{"$f":"CER$1963","v":0},{"$f":"CES$1963","v":0},{"$f":"CET$1963","v":0},{"$f":"CEU$1963","v":0},{"$f":"CEV$1963","v":0},{"$f":"CEW$1963","v":0},{"$f":"CEX$1963","v":0},{"$f":"CEY$1963","v":0},{"$f":"CEZ$1963","v":0},{"$f":"CFA$1963","v":0},{"$f":"CFB$1963","v":0},{"$f":"CFC$1963","v":0},{"$f":"CFD$1963","v":0},{"$f":"CFE$1963","v":0},{"$f":"CFF$1963","v":0},{"$f":"CFG$1963","v":0},{"$f":"CFH$1963","v":0},{"$f":"CFI$1963","v":0},{"$f":"CFJ$1963","v":0},{"$f":"CFK$1963","v":0},{"$f":"CFL$1963","v":0},{"$f":"CFM$1963","v":0},{"$f":"CFN$1963","v":0},{"$f":"CFO$1963","v":0},{"$f":"CFP$1963","v":0},{"$f":"CFQ$1963","v":0},{"$f":"CFR$1963","v":0},{"$f":"CFS$1963","v":0},{"$f":"CFT$1963","v":0},{"$f":"CFU$1963","v":0},{"$f":"CFV$1963","v":0},{"$f":"CFW$1963","v":0},{"$f":"CFX$1963","v":0},{"$f":"CFY$1963","v":0},{"$f":"CFZ$1963","v":0},{"$f":"CGA$1963","v":0},{"$f":"CGB$1963","v":0},{"$f":"CGC$1963","v":0},{"$f":"CGD$1963","v":0},{"$f":"CGE$1963","v":0},{"$f":"CGF$1963","v":0},{"$f":"CGG$1963","v":0},{"$f":"CGH$1963","v":0},{"$f":"CGI$1963","v":0},{"$f":"CGJ$1963","v":0},{"$f":"CGK$1963","v":0},{"$f":"CGL$1963","v":0},{"$f":"CGM$1963","v":0},{"$f":"CGN$1963","v":0},{"$f":"CGO$1963","v":0},{"$f":"CGP$1963","v":0},{"$f":"CGQ$1963","v":0},{"$f":"CGR$1963","v":0},{"$f":"CGS$1963","v":0},{"$f":"CGT$1963","v":0},{"$f":"CGU$1963","v":0},{"$f":"CGV$1963","v":0},{"$f":"CGW$1963","v":0},{"$f":"CGX$1963","v":0},{"$f":"CGY$1963","v":0},{"$f":"CGZ$1963","v":0},{"$f":"CHA$1963","v":0},{"$f":"CHB$1963","v":0},{"$f":"CHC$1963","v":0},{"$f":"CHD$1963","v":0},{"$f":"CHE$1963","v":0},{"$f":"CHF$1963","v":0},{"$f":"CHG$1963","v":0},{"$f":"CHH$1963","v":0},{"$f":"CHI$1963","v":0},{"$f":"CHJ$1963","v":0},{"$f":"CHK$1963","v":0},{"$f":"CHL$1963","v":0},{"$f":"CHM$1963","v":0},{"$f":"CHN$1963","v":0},{"$f":"CHO$1963","v":0},{"$f":"CHP$1963","v":0},{"$f":"CHQ$1963","v":0},{"$f":"CHR$1963","v":0},{"$f":"CHS$1963","v":0},{"$f":"CHT$1963","v":0},{"$f":"CHU$1963","v":0},{"$f":"CHV$1963","v":0},{"$f":"CHW$1963","v":0},{"$f":"CHX$1963","v":0},{"$f":"CHY$1963","v":0},{"$f":"CHZ$1963","v":0},{"$f":"CIA$1963","v":0},{"$f":"CIB$1963","v":0},{"$f":"CIC$1963","v":0},{"$f":"CID$1963","v":0},{"$f":"CIE$1963","v":0},{"$f":"CIF$1963","v":0},{"$f":"CIG$1963","v":0},{"$f":"CIH$1963","v":0},{"$f":"CII$1963","v":0},{"$f":"CIJ$1963","v":0},{"$f":"CIK$1963","v":0},{"$f":"CIL$1963","v":0},{"$f":"CIM$1963","v":0},{"$f":"CIN$1963","v":0},{"$f":"CIO$1963","v":0},{"$f":"CIP$1963","v":0},{"$f":"CIQ$1963","v":0},{"$f":"CIR$1963","v":0},{"$f":"CIS$1963","v":0},{"$f":"CIT$1963","v":0},{"$f":"CIU$1963","v":0},{"$f":"CIV$1963","v":0},{"$f":"CIW$1963","v":0},{"$f":"CIX$1963","v":0},{"$f":"CIY$1963","v":0},{"$f":"CIZ$1963","v":0},{"$f":"CJA$1963","v":0},{"$f":"CJB$1963","v":0},{"$f":"CJC$1963","v":0},{"$f":"CJD$1963","v":0},{"$f":"CJE$1963","v":0},{"$f":"CJF$1963","v":0},{"$f":"CJG$1963","v":0},{"$f":"CJH$1963","v":0},{"$f":"CJI$1963","v":0},{"$f":"CJJ$1963","v":0},{"$f":"CJK$1963","v":0},{"$f":"CJL$1963","v":0},{"$f":"CJM$1963","v":0},{"$f":"CJN$1963","v":0},{"$f":"CJO$1963","v":0},{"$f":"CJP$1963","v":0},{"$f":"CJQ$1963","v":0},{"$f":"CJR$1963","v":0},{"$f":"CJS$1963","v":0},{"$f":"CJT$1963","v":0},{"$f":"CJU$1963","v":0},{"$f":"CJV$1963","v":0},{"$f":"CJW$1963","v":0},{"$f":"CJX$1963","v":0},{"$f":"CJY$1963","v":0},{"$f":"CJZ$1963","v":0},{"$f":"CKA$1963","v":0},{"$f":"CKB$1963","v":0},{"$f":"CKC$1963","v":0},{"$f":"CKD$1963","v":0},{"$f":"CKE$1963","v":0},{"$f":"CKF$1963","v":0},{"$f":"CKG$1963","v":0},{"$f":"CKH$1963","v":0},{"$f":"CKI$1963","v":0},{"$f":"CKJ$1963","v":0},{"$f":"CKK$1963","v":0},{"$f":"CKL$1963","v":0},{"$f":"CKM$1963","v":0},{"$f":"CKN$1963","v":0},{"$f":"CKO$1963","v":0},{"$f":"CKP$1963","v":0},{"$f":"CKQ$1963","v":0},{"$f":"CKR$1963","v":0},{"$f":"CKS$1963","v":0},{"$f":"CKT$1963","v":0},{"$f":"CKU$1963","v":0},{"$f":"CKV$1963","v":0},{"$f":"CKW$1963","v":0},{"$f":"CKX$1963","v":0},{"$f":"CKY$1963","v":0},{"$f":"CKZ$1963","v":0},{"$f":"CLA$1963","v":0},{"$f":"CLB$1963","v":0},{"$f":"CLC$1963","v":0},{"$f":"CLD$1963","v":0},{"$f":"CLE$1963","v":0},{"$f":"CLF$1963","v":0},{"$f":"CLG$1963","v":0},{"$f":"CLH$1963","v":0},{"$f":"CLI$1963","v":0},{"$f":"CLJ$1963","v":0},{"$f":"CLK$1963","v":0},{"$f":"CLL$1963","v":0},{"$f":"CLM$1963","v":0},{"$f":"CLN$1963","v":0},{"$f":"CLO$1963","v":0},{"$f":"CLP$1963","v":0},{"$f":"CLQ$1963","v":0},{"$f":"CLR$1963","v":0},{"$f":"CLS$1963","v":0},{"$f":"CLT$1963","v":0},{"$f":"CLU$1963","v":0},{"$f":"CLV$1963","v":0},{"$f":"CLW$1963","v":0},{"$f":"CLX$1963","v":0},{"$f":"CLY$1963","v":0},{"$f":"CLZ$1963","v":0},{"$f":"CMA$1963","v":0},{"$f":"CMB$1963","v":0},{"$f":"CMC$1963","v":0},{"$f":"CMD$1963","v":0},{"$f":"CME$1963","v":0},{"$f":"CMF$1963","v":0},{"$f":"CMG$1963","v":0},{"$f":"CMH$1963","v":0},{"$f":"CMI$1963","v":0},{"$f":"CMJ$1963","v":0},{"$f":"CMK$1963","v":0},{"$f":"CML$1963","v":0},{"$f":"CMM$1963","v":0},{"$f":"CMN$1963","v":0},{"$f":"CMO$1963","v":0},{"$f":"CMP$1963","v":0},{"$f":"CMQ$1963","v":0},{"$f":"CMR$1963","v":0},{"$f":"CMS$1963","v":0},{"$f":"CMT$1963","v":0},{"$f":"CMU$1963","v":0},{"$f":"CMV$1963","v":0},{"$f":"CMW$1963","v":0},{"$f":"CMX$1963","v":0},{"$f":"CMY$1963","v":0},{"$f":"CMZ$1963","v":0},{"$f":"CNA$1963","v":0},{"$f":"CNB$1963","v":0},{"$f":"CNC$1963","v":0},{"$f":"CND$1963","v":0},{"$f":"CNE$1963","v":0},{"$f":"CNF$1963","v":0},{"$f":"CNG$1963","v":0},{"$f":"CNH$1963","v":0},{"$f":"CNI$1963","v":0},{"$f":"CNJ$1963","v":0},{"$f":"CNK$1963","v":0},{"$f":"CNL$1963","v":0},{"$f":"CNM$1963","v":0},{"$f":"CNN$1963","v":0},{"$f":"CNO$1963","v":0},{"$f":"CNP$1963","v":0},{"$f":"CNQ$1963","v":0},{"$f":"CNR$1963","v":0},{"$f":"CNS$1963","v":0},{"$f":"CNT$1963","v":0},{"$f":"CNU$1963","v":0},{"$f":"CNV$1963","v":0},{"$f":"CNW$1963","v":0},{"$f":"CNX$1963","v":0},{"$f":"CNY$1963","v":0},{"$f":"CNZ$1963","v":0},{"$f":"COA$1963","v":0},{"$f":"COB$1963","v":0},{"$f":"COC$1963","v":0},{"$f":"COD$1963","v":0},{"$f":"COE$1963","v":0},{"$f":"COF$1963","v":0},{"$f":"COG$1963","v":0},{"$f":"COH$1963","v":0},{"$f":"COI$1963","v":0},{"$f":"COJ$1963","v":0},{"$f":"COK$1963","v":0},{"$f":"COL$1963","v":0},{"$f":"COM$1963","v":0},{"$f":"CON$1963","v":0},{"$f":"COO$1963","v":0},{"$f":"COP$1963","v":0},{"$f":"COQ$1963","v":0},{"$f":"COR$1963","v":0},{"$f":"COS$1963","v":0},{"$f":"COT$1963","v":0},{"$f":"COU$1963","v":0},{"$f":"COV$1963","v":0},{"$f":"COW$1963","v":0},{"$f":"COX$1963","v":0},{"$f":"COY$1963","v":0},{"$f":"COZ$1963","v":0},{"$f":"CPA$1963","v":0},{"$f":"CPB$1963","v":0},{"$f":"CPC$1963","v":0},{"$f":"CPD$1963","v":0},{"$f":"CPE$1963","v":0},{"$f":"CPF$1963","v":0},{"$f":"CPG$1963","v":0},{"$f":"CPH$1963","v":0},{"$f":"CPI$1963","v":0},{"$f":"CPJ$1963","v":0},{"$f":"CPK$1963","v":0},{"$f":"CPL$1963","v":0},{"$f":"CPM$1963","v":0},{"$f":"CPN$1963","v":0},{"$f":"CPO$1963","v":0},{"$f":"CPP$1963","v":0},{"$f":"CPQ$1963","v":0},{"$f":"CPR$1963","v":0},{"$f":"CPS$1963","v":0},{"$f":"CPT$1963","v":0},{"$f":"CPU$1963","v":0},{"$f":"CPV$1963","v":0},{"$f":"CPW$1963","v":0},{"$f":"CPX$1963","v":0},{"$f":"CPY$1963","v":0},{"$f":"CPZ$1963","v":0},{"$f":"CQA$1963","v":0},{"$f":"CQB$1963","v":0},{"$f":"CQC$1963","v":0},{"$f":"CQD$1963","v":0},{"$f":"CQE$1963","v":0},{"$f":"CQF$1963","v":0},{"$f":"CQG$1963","v":0},{"$f":"CQH$1963","v":0},{"$f":"CQI$1963","v":0},{"$f":"CQJ$1963","v":0},{"$f":"CQK$1963","v":0},{"$f":"CQL$1963","v":0},{"$f":"CQM$1963","v":0},{"$f":"CQN$1963","v":0},{"$f":"CQO$1963","v":0},{"$f":"CQP$1963","v":0},{"$f":"CQQ$1963","v":0},{"$f":"CQR$1963","v":0},{"$f":"CQS$1963","v":0},{"$f":"CQT$1963","v":0},{"$f":"CQU$1963","v":0},{"$f":"CQV$1963","v":0},{"$f":"CQW$1963","v":0},{"$f":"CQX$1963","v":0},{"$f":"CQY$1963","v":0},{"$f":"CQZ$1963","v":0},{"$f":"CRA$1963","v":0},{"$f":"CRB$1963","v":0},{"$f":"CRC$1963","v":0},{"$f":"CRD$1963","v":0},{"$f":"CRE$1963","v":0},{"$f":"CRF$1963","v":0},{"$f":"CRG$1963","v":0},{"$f":"CRH$1963","v":0},{"$f":"CRI$1963","v":0},{"$f":"CRJ$1963","v":0},{"$f":"CRK$1963","v":0},{"$f":"CRL$1963","v":0},{"$f":"CRM$1963","v":0},{"$f":"CRN$1963","v":0},{"$f":"CRO$1963","v":0},{"$f":"CRP$1963","v":0},{"$f":"CRQ$1963","v":0},{"$f":"CRR$1963","v":0},{"$f":"CRS$1963","v":0},{"$f":"CRT$1963","v":0},{"$f":"CRU$1963","v":0},{"$f":"CRV$1963","v":0},{"$f":"CRW$1963","v":0},{"$f":"CRX$1963","v":0},{"$f":"CRY$1963","v":0},{"$f":"CRZ$1963","v":0},{"$f":"CSA$1963","v":0},{"$f":"CSB$1963","v":0},{"$f":"CSC$1963","v":0},{"$f":"CSD$1963","v":0},{"$f":"CSE$1963","v":0},{"$f":"CSF$1963","v":0},{"$f":"CSG$1963","v":0},{"$f":"CSH$1963","v":0},{"$f":"CSI$1963","v":0},{"$f":"CSJ$1963","v":0},{"$f":"CSK$1963","v":0},{"$f":"CSL$1963","v":0},{"$f":"CSM$1963","v":0},{"$f":"CSN$1963","v":0},{"$f":"CSO$1963","v":0},{"$f":"CSP$1963","v":0},{"$f":"CSQ$1963","v":0},{"$f":"CSR$1963","v":0},{"$f":"CSS$1963","v":0},{"$f":"CST$1963","v":0},{"$f":"CSU$1963","v":0},{"$f":"CSV$1963","v":0},{"$f":"CSW$1963","v":0},{"$f":"CSX$1963","v":0},{"$f":"CSY$1963","v":0},{"$f":"CSZ$1963","v":0},{"$f":"CTA$1963","v":0},{"$f":"CTB$1963","v":0},{"$f":"CTC$1963","v":0},{"$f":"CTD$1963","v":0},{"$f":"CTE$1963","v":0},{"$f":"CTF$1963","v":0},{"$f":"CTG$1963","v":0},{"$f":"CTH$1963","v":0},{"$f":"CTI$1963","v":0},{"$f":"CTJ$1963","v":0},{"$f":"CTK$1963","v":0},{"$f":"CTL$1963","v":0},{"$f":"CTM$1963","v":0},{"$f":"CTN$1963","v":0},{"$f":"CTO$1963","v":0},{"$f":"CTP$1963","v":0},{"$f":"CTQ$1963","v":0},{"$f":"CTR$1963","v":0},{"$f":"CTS$1963","v":0},{"$f":"CTT$1963","v":0},{"$f":"CTU$1963","v":0},{"$f":"CTV$1963","v":0},{"$f":"CTW$1963","v":0},{"$f":"CTX$1963","v":0},{"$f":"CTY$1963","v":0},{"$f":"CTZ$1963","v":0},{"$f":"CUA$1963","v":0},{"$f":"CUB$1963","v":0},{"$f":"CUC$1963","v":0},{"$f":"CUD$1963","v":0},{"$f":"CUE$1963","v":0},{"$f":"CUF$1963","v":0},{"$f":"CUG$1963","v":0},{"$f":"CUH$1963","v":0},{"$f":"CUI$1963","v":0},{"$f":"CUJ$1963","v":0},{"$f":"CUK$1963","v":0},{"$f":"CUL$1963","v":0},{"$f":"CUM$1963","v":0},{"$f":"CUN$1963","v":0},{"$f":"CUO$1963","v":0},{"$f":"CUP$1963","v":0},{"$f":"CUQ$1963","v":0},{"$f":"CUR$1963","v":0},{"$f":"CUS$1963","v":0},{"$f":"CUT$1963","v":0},{"$f":"CUU$1963","v":0},{"$f":"CUV$1963","v":0},{"$f":"CUW$1963","v":0},{"$f":"CUX$1963","v":0},{"$f":"CUY$1963","v":0},{"$f":"CUZ$1963","v":0},{"$f":"CVA$1963","v":0},{"$f":"CVB$1963","v":0},{"$f":"CVC$1963","v":0},{"$f":"CVD$1963","v":0},{"$f":"CVE$1963","v":0},{"$f":"CVF$1963","v":0},{"$f":"CVG$1963","v":0},{"$f":"CVH$1963","v":0},{"$f":"CVI$1963","v":0},{"$f":"CVJ$1963","v":0},{"$f":"CVK$1963","v":0},{"$f":"CVL$1963","v":0},{"$f":"CVM$1963","v":0},{"$f":"CVN$1963","v":0},{"$f":"CVO$1963","v":0},{"$f":"CVP$1963","v":0},{"$f":"CVQ$1963","v":0},{"$f":"CVR$1963","v":0},{"$f":"CVS$1963","v":0},{"$f":"CVT$1963","v":0},{"$f":"CVU$1963","v":0},{"$f":"CVV$1963","v":0},{"$f":"CVW$1963","v":0},{"$f":"CVX$1963","v":0},{"$f":"CVY$1963","v":0},{"$f":"CVZ$1963","v":0},{"$f":"CWA$1963","v":0},{"$f":"CWB$1963","v":0},{"$f":"CWC$1963","v":0},{"$f":"CWD$1963","v":0},{"$f":"CWE$1963","v":0},{"$f":"CWF$1963","v":0},{"$f":"CWG$1963","v":0},{"$f":"CWH$1963","v":0},{"$f":"CWI$1963","v":0},{"$f":"CWJ$1963","v":0},{"$f":"CWK$1963","v":0},{"$f":"CWL$1963","v":0},{"$f":"CWM$1963","v":0},{"$f":"CWN$1963","v":0},{"$f":"CWO$1963","v":0},{"$f":"CWP$1963","v":0},{"$f":"CWQ$1963","v":0},{"$f":"CWR$1963","v":0},{"$f":"CWS$1963","v":0},{"$f":"CWT$1963","v":0},{"$f":"CWU$1963","v":0},{"$f":"CWV$1963","v":0},{"$f":"CWW$1963","v":0},{"$f":"CWX$1963","v":0},{"$f":"CWY$1963","v":0},{"$f":"CWZ$1963","v":0},{"$f":"CXA$1963","v":0},{"$f":"CXB$1963","v":0},{"$f":"CXC$1963","v":0},{"$f":"CXD$1963","v":0},{"$f":"CXE$1963","v":0},{"$f":"CXF$1963","v":0},{"$f":"CXG$1963","v":0},{"$f":"CXH$1963","v":0},{"$f":"CXI$1963","v":0},{"$f":"CXJ$1963","v":0},{"$f":"CXK$1963","v":0},{"$f":"CXL$1963","v":0},{"$f":"CXM$1963","v":0},{"$f":"CXN$1963","v":0},{"$f":"CXO$1963","v":0},{"$f":"CXP$1963","v":0},{"$f":"CXQ$1963","v":0},{"$f":"CXR$1963","v":0},{"$f":"CXS$1963","v":0},{"$f":"CXT$1963","v":0},{"$f":"CXU$1963","v":0},{"$f":"CXV$1963","v":0},{"$f":"CXW$1963","v":0},{"$f":"CXX$1963","v":0},{"$f":"CXY$1963","v":0},{"$f":"CXZ$1963","v":0},{"$f":"CYA$1963","v":0},{"$f":"CYB$1963","v":0},{"$f":"CYC$1963","v":0},{"$f":"CYD$1963","v":0},{"$f":"CYE$1963","v":0},{"$f":"CYF$1963","v":0},{"$f":"CYG$1963","v":0},{"$f":"CYH$1963","v":0},{"$f":"CYI$1963","v":0},{"$f":"CYJ$1963","v":0},{"$f":"CYK$1963","v":0},{"$f":"CYL$1963","v":0},{"$f":"CYM$1963","v":0},{"$f":"CYN$1963","v":0},{"$f":"CYO$1963","v":0},{"$f":"CYP$1963","v":0},{"$f":"CYQ$1963","v":0},{"$f":"CYR$1963","v":0},{"$f":"CYS$1963","v":0},{"$f":"CYT$1963","v":0},{"$f":"CYU$1963","v":0},{"$f":"CYV$1963","v":0},{"$f":"CYW$1963","v":0},{"$f":"CYX$1963","v":0},{"$f":"CYY$1963","v":0},{"$f":"CYZ$1963","v":0},{"$f":"CZA$1963","v":0},{"$f":"CZB$1963","v":0},{"$f":"CZC$1963","v":0},{"$f":"CZD$1963","v":0},{"$f":"CZE$1963","v":0},{"$f":"CZF$1963","v":0},{"$f":"CZG$1963","v":0},{"$f":"CZH$1963","v":0},{"$f":"CZI$1963","v":0},{"$f":"CZJ$1963","v":0},{"$f":"CZK$1963","v":0},{"$f":"CZL$1963","v":0},{"$f":"CZM$1963","v":0},{"$f":"CZN$1963","v":0},{"$f":"CZO$1963","v":0},{"$f":"CZP$1963","v":0},{"$f":"CZQ$1963","v":0},{"$f":"CZR$1963","v":0},{"$f":"CZS$1963","v":0},{"$f":"CZT$1963","v":0},{"$f":"CZU$1963","v":0},{"$f":"CZV$1963","v":0},{"$f":"CZW$1963","v":0},{"$f":"CZX$1963","v":0},{"$f":"CZY$1963","v":0},{"$f":"CZZ$1963","v":0},{"$f":"DAA$1963","v":0},{"$f":"DAB$1963","v":0},{"$f":"DAC$1963","v":0},{"$f":"DAD$1963","v":0},{"$f":"DAE$1963","v":0},{"$f":"DAF$1963","v":0},{"$f":"DAG$1963","v":0},{"$f":"DAH$1963","v":0},{"$f":"DAI$1963","v":0},{"$f":"DAJ$1963","v":0},{"$f":"DAK$1963","v":0},{"$f":"DAL$1963","v":0},{"$f":"DAM$1963","v":0},{"$f":"DAN$1963","v":0},{"$f":"DAO$1963","v":0},{"$f":"DAP$1963","v":0},{"$f":"DAQ$1963","v":0},{"$f":"DAR$1963","v":0},{"$f":"DAS$1963","v":0},{"$f":"DAT$1963","v":0},{"$f":"DAU$1963","v":0},{"$f":"DAV$1963","v":0},{"$f":"DAW$1963","v":0},{"$f":"DAX$1963","v":0},{"$f":"DAY$1963","v":0},{"$f":"DAZ$1963","v":0},{"$f":"DBA$1963","v":0},{"$f":"DBB$1963","v":0},{"$f":"DBC$1963","v":0},{"$f":"DBD$1963","v":0},{"$f":"DBE$1963","v":0},{"$f":"DBF$1963","v":0},{"$f":"DBG$1963","v":0},{"$f":"DBH$1963","v":0},{"$f":"DBI$1963","v":0},{"$f":"DBJ$1963","v":0},{"$f":"DBK$1963","v":0},{"$f":"DBL$1963","v":0},{"$f":"DBM$1963","v":0},{"$f":"DBN$1963","v":0},{"$f":"DBO$1963","v":0},{"$f":"DBP$1963","v":0},{"$f":"DBQ$1963","v":0},{"$f":"DBR$1963","v":0},{"$f":"DBS$1963","v":0},{"$f":"DBT$1963","v":0},{"$f":"DBU$1963","v":0},{"$f":"DBV$1963","v":0},{"$f":"DBW$1963","v":0},{"$f":"DBX$1963","v":0},{"$f":"DBY$1963","v":0},{"$f":"DBZ$1963","v":0},{"$f":"DCA$1963","v":0},{"$f":"DCB$1963","v":0},{"$f":"DCC$1963","v":0},{"$f":"DCD$1963","v":0},{"$f":"DCE$1963","v":0},{"$f":"DCF$1963","v":0},{"$f":"DCG$1963","v":0},{"$f":"DCH$1963","v":0},{"$f":"DCI$1963","v":0},{"$f":"DCJ$1963","v":0},{"$f":"DCK$1963","v":0},{"$f":"DCL$1963","v":0},{"$f":"DCM$1963","v":0},{"$f":"DCN$1963","v":0},{"$f":"DCO$1963","v":0},{"$f":"DCP$1963","v":0},{"$f":"DCQ$1963","v":0},{"$f":"DCR$1963","v":0},{"$f":"DCS$1963","v":0},{"$f":"DCT$1963","v":0},{"$f":"DCU$1963","v":0},{"$f":"DCV$1963","v":0},{"$f":"DCW$1963","v":0},{"$f":"DCX$1963","v":0},{"$f":"DCY$1963","v":0},{"$f":"DCZ$1963","v":0},{"$f":"DDA$1963","v":0},{"$f":"DDB$1963","v":0},{"$f":"DDC$1963","v":0},{"$f":"DDD$1963","v":0},{"$f":"DDE$1963","v":0},{"$f":"DDF$1963","v":0},{"$f":"DDG$1963","v":0},{"$f":"DDH$1963","v":0},{"$f":"DDI$1963","v":0},{"$f":"DDJ$1963","v":0},{"$f":"DDK$1963","v":0},{"$f":"DDL$1963","v":0},{"$f":"DDM$1963","v":0},{"$f":"DDN$1963","v":0},{"$f":"DDO$1963","v":0},{"$f":"DDP$1963","v":0},{"$f":"DDQ$1963","v":0},{"$f":"DDR$1963","v":0},{"$f":"DDS$1963","v":0},{"$f":"DDT$1963","v":0},{"$f":"DDU$1963","v":0},{"$f":"DDV$1963","v":0},{"$f":"DDW$1963","v":0},{"$f":"DDX$1963","v":0},{"$f":"DDY$1963","v":0},{"$f":"DDZ$1963","v":0},{"$f":"DEA$1963","v":0},{"$f":"DEB$1963","v":0},{"$f":"DEC$1963","v":0},{"$f":"DED$1963","v":0},{"$f":"DEE$1963","v":0},{"$f":"DEF$1963","v":0},{"$f":"DEG$1963","v":0},{"$f":"DEH$1963","v":0},{"$f":"DEI$1963","v":0},{"$f":"DEJ$1963","v":0},{"$f":"DEK$1963","v":0},{"$f":"DEL$1963","v":0},{"$f":"DEM$1963","v":0},{"$f":"DEN$1963","v":0},{"$f":"DEO$1963","v":0},{"$f":"DEP$1963","v":0},{"$f":"DEQ$1963","v":0},{"$f":"DER$1963","v":0},{"$f":"DES$1963","v":0},{"$f":"DET$1963","v":0},{"$f":"DEU$1963","v":0},{"$f":"DEV$1963","v":0},{"$f":"DEW$1963","v":0},{"$f":"DEX$1963","v":0},{"$f":"DEY$1963","v":0},{"$f":"DEZ$1963","v":0},{"$f":"DFA$1963","v":0},{"$f":"DFB$1963","v":0},{"$f":"DFC$1963","v":0},{"$f":"DFD$1963","v":0},{"$f":"DFE$1963","v":0},{"$f":"DFF$1963","v":0},{"$f":"DFG$1963","v":0},{"$f":"DFH$1963","v":0},{"$f":"DFI$1963","v":0},{"$f":"DFJ$1963","v":0},{"$f":"DFK$1963","v":0},{"$f":"DFL$1963","v":0},{"$f":"DFM$1963","v":0},{"$f":"DFN$1963","v":0},{"$f":"DFO$1963","v":0},{"$f":"DFP$1963","v":0},{"$f":"DFQ$1963","v":0},{"$f":"DFR$1963","v":0},{"$f":"DFS$1963","v":0},{"$f":"DFT$1963","v":0},{"$f":"DFU$1963","v":0},{"$f":"DFV$1963","v":0},{"$f":"DFW$1963","v":0},{"$f":"DFX$1963","v":0},{"$f":"DFY$1963","v":0},{"$f":"DFZ$1963","v":0},{"$f":"DGA$1963","v":0},{"$f":"DGB$1963","v":0},{"$f":"DGC$1963","v":0},{"$f":"DGD$1963","v":0},{"$f":"DGE$1963","v":0},{"$f":"DGF$1963","v":0},{"$f":"DGG$1963","v":0},{"$f":"DGH$1963","v":0},{"$f":"DGI$1963","v":0},{"$f":"DGJ$1963","v":0},{"$f":"DGK$1963","v":0},{"$f":"DGL$1963","v":0},{"$f":"DGM$1963","v":0},{"$f":"DGN$1963","v":0},{"$f":"DGO$1963","v":0},{"$f":"DGP$1963","v":0},{"$f":"DGQ$1963","v":0},{"$f":"DGR$1963","v":0},{"$f":"DGS$1963","v":0},{"$f":"DGT$1963","v":0},{"$f":"DGU$1963","v":0},{"$f":"DGV$1963","v":0},{"$f":"DGW$1963","v":0},{"$f":"DGX$1963","v":0},{"$f":"DGY$1963","v":0},{"$f":"DGZ$1963","v":0},{"$f":"DHA$1963","v":0},{"$f":"DHB$1963","v":0},{"$f":"DHC$1963","v":0},{"$f":"DHD$1963","v":0},{"$f":"DHE$1963","v":0},{"$f":"DHF$1963","v":0},{"$f":"DHG$1963","v":0},{"$f":"DHH$1963","v":0},{"$f":"DHI$1963","v":0},{"$f":"DHJ$1963","v":0},{"$f":"DHK$1963","v":0},{"$f":"DHL$1963","v":0},{"$f":"DHM$1963","v":0},{"$f":"DHN$1963","v":0},{"$f":"DHO$1963","v":0},{"$f":"DHP$1963","v":0},{"$f":"DHQ$1963","v":0},{"$f":"DHR$1963","v":0},{"$f":"DHS$1963","v":0},{"$f":"DHT$1963","v":0},{"$f":"DHU$1963","v":0},{"$f":"DHV$1963","v":0},{"$f":"DHW$1963","v":0},{"$f":"DHX$1963","v":0},{"$f":"DHY$1963","v":0},{"$f":"DHZ$1963","v":0},{"$f":"DIA$1963","v":0},{"$f":"DIB$1963","v":0},{"$f":"DIC$1963","v":0},{"$f":"DID$1963","v":0},{"$f":"DIE$1963","v":0},{"$f":"DIF$1963","v":0},{"$f":"DIG$1963","v":0},{"$f":"DIH$1963","v":0},{"$f":"DII$1963","v":0},{"$f":"DIJ$1963","v":0},{"$f":"DIK$1963","v":0},{"$f":"DIL$1963","v":0},{"$f":"DIM$1963","v":0},{"$f":"DIN$1963","v":0},{"$f":"DIO$1963","v":0},{"$f":"DIP$1963","v":0},{"$f":"DIQ$1963","v":0},{"$f":"DIR$1963","v":0},{"$f":"DIS$1963","v":0},{"$f":"DIT$1963","v":0},{"$f":"DIU$1963","v":0},{"$f":"DIV$1963","v":0},{"$f":"DIW$1963","v":0},{"$f":"DIX$1963","v":0},{"$f":"DIY$1963","v":0},{"$f":"DIZ$1963","v":0},{"$f":"DJA$1963","v":0},{"$f":"DJB$1963","v":0},{"$f":"DJC$1963","v":0},{"$f":"DJD$1963","v":0},{"$f":"DJE$1963","v":0},{"$f":"DJF$1963","v":0},{"$f":"DJG$1963","v":0},{"$f":"DJH$1963","v":0},{"$f":"DJI$1963","v":0},{"$f":"DJJ$1963","v":0},{"$f":"DJK$1963","v":0},{"$f":"DJL$1963","v":0},{"$f":"DJM$1963","v":0},{"$f":"DJN$1963","v":0},{"$f":"DJO$1963","v":0},{"$f":"DJP$1963","v":0},{"$f":"DJQ$1963","v":0},{"$f":"DJR$1963","v":0},{"$f":"DJS$1963","v":0},{"$f":"DJT$1963","v":0},{"$f":"DJU$1963","v":0},{"$f":"DJV$1963","v":0},{"$f":"DJW$1963","v":0},{"$f":"DJX$1963","v":0},{"$f":"DJY$1963","v":0},{"$f":"DJZ$1963","v":0},{"$f":"DKA$1963","v":0},{"$f":"DKB$1963","v":0},{"$f":"DKC$1963","v":0},{"$f":"DKD$1963","v":0},{"$f":"DKE$1963","v":0},{"$f":"DKF$1963","v":0},{"$f":"DKG$1963","v":0},{"$f":"DKH$1963","v":0},{"$f":"DKI$1963","v":0},{"$f":"DKJ$1963","v":0},{"$f":"DKK$1963","v":0},{"$f":"DKL$1963","v":0},{"$f":"DKM$1963","v":0},{"$f":"DKN$1963","v":0},{"$f":"DKO$1963","v":0},{"$f":"DKP$1963","v":0},{"$f":"DKQ$1963","v":0},{"$f":"DKR$1963","v":0},{"$f":"DKS$1963","v":0},{"$f":"DKT$1963","v":0},{"$f":"DKU$1963","v":0},{"$f":"DKV$1963","v":0},{"$f":"DKW$1963","v":0},{"$f":"DKX$1963","v":0},{"$f":"DKY$1963","v":0},{"$f":"DKZ$1963","v":0},{"$f":"DLA$1963","v":0},{"$f":"DLB$1963","v":0},{"$f":"DLC$1963","v":0},{"$f":"DLD$1963","v":0},{"$f":"DLE$1963","v":0},{"$f":"DLF$1963","v":0},{"$f":"DLG$1963","v":0},{"$f":"DLH$1963","v":0},{"$f":"DLI$1963","v":0},{"$f":"DLJ$1963","v":0},{"$f":"DLK$1963","v":0},{"$f":"DLL$1963","v":0},{"$f":"DLM$1963","v":0},{"$f":"DLN$1963","v":0},{"$f":"DLO$1963","v":0},{"$f":"DLP$1963","v":0},{"$f":"DLQ$1963","v":0},{"$f":"DLR$1963","v":0},{"$f":"DLS$1963","v":0},{"$f":"DLT$1963","v":0},{"$f":"DLU$1963","v":0},{"$f":"DLV$1963","v":0},{"$f":"DLW$1963","v":0},{"$f":"DLX$1963","v":0},{"$f":"DLY$1963","v":0},{"$f":"DLZ$1963","v":0},{"$f":"DMA$1963","v":0},{"$f":"DMB$1963","v":0},{"$f":"DMC$1963","v":0},{"$f":"DMD$1963","v":0},{"$f":"DME$1963","v":0},{"$f":"DMF$1963","v":0},{"$f":"DMG$1963","v":0},{"$f":"DMH$1963","v":0},{"$f":"DMI$1963","v":0},{"$f":"DMJ$1963","v":0},{"$f":"DMK$1963","v":0},{"$f":"DML$1963","v":0},{"$f":"DMM$1963","v":0},{"$f":"DMN$1963","v":0},{"$f":"DMO$1963","v":0},{"$f":"DMP$1963","v":0},{"$f":"DMQ$1963","v":0},{"$f":"DMR$1963","v":0},{"$f":"DMS$1963","v":0},{"$f":"DMT$1963","v":0},{"$f":"DMU$1963","v":0},{"$f":"DMV$1963","v":0},{"$f":"DMW$1963","v":0},{"$f":"DMX$1963","v":0},{"$f":"DMY$1963","v":0},{"$f":"DMZ$1963","v":0},{"$f":"DNA$1963","v":0},{"$f":"DNB$1963","v":0},{"$f":"DNC$1963","v":0},{"$f":"DND$1963","v":0},{"$f":"DNE$1963","v":0},{"$f":"DNF$1963","v":0},{"$f":"DNG$1963","v":0},{"$f":"DNH$1963","v":0},{"$f":"DNI$1963","v":0},{"$f":"DNJ$1963","v":0},{"$f":"DNK$1963","v":0},{"$f":"DNL$1963","v":0},{"$f":"DNM$1963","v":0},{"$f":"DNN$1963","v":0},{"$f":"DNO$1963","v":0},{"$f":"DNP$1963","v":0},{"$f":"DNQ$1963","v":0},{"$f":"DNR$1963","v":0},{"$f":"DNS$1963","v":0},{"$f":"DNT$1963","v":0},{"$f":"DNU$1963","v":0},{"$f":"DNV$1963","v":0},{"$f":"DNW$1963","v":0},{"$f":"DNX$1963","v":0},{"$f":"DNY$1963","v":0},{"$f":"DNZ$1963","v":0},{"$f":"DOA$1963","v":0},{"$f":"DOB$1963","v":0},{"$f":"DOC$1963","v":0},{"$f":"DOD$1963","v":0},{"$f":"DOE$1963","v":0},{"$f":"DOF$1963","v":0},{"$f":"DOG$1963","v":0},{"$f":"DOH$1963","v":0},{"$f":"DOI$1963","v":0},{"$f":"DOJ$1963","v":0},{"$f":"DOK$1963","v":0},{"$f":"DOL$1963","v":0},{"$f":"DOM$1963","v":0},{"$f":"DON$1963","v":0},{"$f":"DOO$1963","v":0},{"$f":"DOP$1963","v":0},{"$f":"DOQ$1963","v":0},{"$f":"DOR$1963","v":0},{"$f":"DOS$1963","v":0},{"$f":"DOT$1963","v":0},{"$f":"DOU$1963","v":0},{"$f":"DOV$1963","v":0},{"$f":"DOW$1963","v":0},{"$f":"DOX$1963","v":0},{"$f":"DOY$1963","v":0},{"$f":"DOZ$1963","v":0},{"$f":"DPA$1963","v":0},{"$f":"DPB$1963","v":0},{"$f":"DPC$1963","v":0},{"$f":"DPD$1963","v":0},{"$f":"DPE$1963","v":0},{"$f":"DPF$1963","v":0},{"$f":"DPG$1963","v":0},{"$f":"DPH$1963","v":0},{"$f":"DPI$1963","v":0},{"$f":"DPJ$1963","v":0},{"$f":"DPK$1963","v":0},{"$f":"DPL$1963","v":0},{"$f":"DPM$1963","v":0},{"$f":"DPN$1963","v":0},{"$f":"DPO$1963","v":0},{"$f":"DPP$1963","v":0},{"$f":"DPQ$1963","v":0},{"$f":"DPR$1963","v":0},{"$f":"DPS$1963","v":0},{"$f":"DPT$1963","v":0},{"$f":"DPU$1963","v":0},{"$f":"DPV$1963","v":0},{"$f":"DPW$1963","v":0},{"$f":"DPX$1963","v":0},{"$f":"DPY$1963","v":0},{"$f":"DPZ$1963","v":0},{"$f":"DQA$1963","v":0},{"$f":"DQB$1963","v":0},{"$f":"DQC$1963","v":0},{"$f":"DQD$1963","v":0},{"$f":"DQE$1963","v":0},{"$f":"DQF$1963","v":0},{"$f":"DQG$1963","v":0},{"$f":"DQH$1963","v":0},{"$f":"DQI$1963","v":0},{"$f":"DQJ$1963","v":0},{"$f":"DQK$1963","v":0},{"$f":"DQL$1963","v":0},{"$f":"DQM$1963","v":0},{"$f":"DQN$1963","v":0},{"$f":"DQO$1963","v":0},{"$f":"DQP$1963","v":0},{"$f":"DQQ$1963","v":0},{"$f":"DQR$1963","v":0},{"$f":"DQS$1963","v":0},{"$f":"DQT$1963","v":0},{"$f":"DQU$1963","v":0},{"$f":"DQV$1963","v":0},{"$f":"DQW$1963","v":0},{"$f":"DQX$1963","v":0},{"$f":"DQY$1963","v":0},{"$f":"DQZ$1963","v":0},{"$f":"DRA$1963","v":0},{"$f":"DRB$1963","v":0},{"$f":"DRC$1963","v":0},{"$f":"DRD$1963","v":0},{"$f":"DRE$1963","v":0},{"$f":"DRF$1963","v":0},{"$f":"DRG$1963","v":0},{"$f":"DRH$1963","v":0},{"$f":"DRI$1963","v":0},{"$f":"DRJ$1963","v":0},{"$f":"DRK$1963","v":0},{"$f":"DRL$1963","v":0},{"$f":"DRM$1963","v":0},{"$f":"DRN$1963","v":0},{"$f":"DRO$1963","v":0},{"$f":"DRP$1963","v":0},{"$f":"DRQ$1963","v":0},{"$f":"DRR$1963","v":0},{"$f":"DRS$1963","v":0},{"$f":"DRT$1963","v":0},{"$f":"DRU$1963","v":0},{"$f":"DRV$1963","v":0},{"$f":"DRW$1963","v":0},{"$f":"DRX$1963","v":0},{"$f":"DRY$1963","v":0},{"$f":"DRZ$1963","v":0},{"$f":"DSA$1963","v":0},{"$f":"DSB$1963","v":0},{"$f":"DSC$1963","v":0},{"$f":"DSD$1963","v":0},{"$f":"DSE$1963","v":0},{"$f":"DSF$1963","v":0},{"$f":"DSG$1963","v":0},{"$f":"DSH$1963","v":0},{"$f":"DSI$1963","v":0},{"$f":"DSJ$1963","v":0},{"$f":"DSK$1963","v":0},{"$f":"DSL$1963","v":0},{"$f":"DSM$1963","v":0},{"$f":"DSN$1963","v":0},{"$f":"DSO$1963","v":0},{"$f":"DSP$1963","v":0},{"$f":"DSQ$1963","v":0},{"$f":"DSR$1963","v":0},{"$f":"DSS$1963","v":0},{"$f":"DST$1963","v":0},{"$f":"DSU$1963","v":0},{"$f":"DSV$1963","v":0},{"$f":"DSW$1963","v":0},{"$f":"DSX$1963","v":0},{"$f":"DSY$1963","v":0},{"$f":"DSZ$1963","v":0},{"$f":"DTA$1963","v":0},{"$f":"DTB$1963","v":0},{"$f":"DTC$1963","v":0},{"$f":"DTD$1963","v":0},{"$f":"DTE$1963","v":0},{"$f":"DTF$1963","v":0},{"$f":"DTG$1963","v":0},{"$f":"DTH$1963","v":0},{"$f":"DTI$1963","v":0},{"$f":"DTJ$1963","v":0},{"$f":"DTK$1963","v":0},{"$f":"DTL$1963","v":0},{"$f":"DTM$1963","v":0},{"$f":"DTN$1963","v":0},{"$f":"DTO$1963","v":0},{"$f":"DTP$1963","v":0},{"$f":"DTQ$1963","v":0},{"$f":"DTR$1963","v":0},{"$f":"DTS$1963","v":0},{"$f":"DTT$1963","v":0},{"$f":"DTU$1963","v":0},{"$f":"DTV$1963","v":0},{"$f":"DTW$1963","v":0},{"$f":"DTX$1963","v":0},{"$f":"DTY$1963","v":0},{"$f":"DTZ$1963","v":0},{"$f":"DUA$1963","v":0},{"$f":"DUB$1963","v":0},{"$f":"DUC$1963","v":0},{"$f":"DUD$1963","v":0},{"$f":"DUE$1963","v":0},{"$f":"DUF$1963","v":0},{"$f":"DUG$1963","v":0},{"$f":"DUH$1963","v":0},{"$f":"DUI$1963","v":0},{"$f":"DUJ$1963","v":0},{"$f":"DUK$1963","v":0},{"$f":"DUL$1963","v":0},{"$f":"DUM$1963","v":0},{"$f":"DUN$1963","v":0},{"$f":"DUO$1963","v":0},{"$f":"DUP$1963","v":0},{"$f":"DUQ$1963","v":0},{"$f":"DUR$1963","v":0},{"$f":"DUS$1963","v":0},{"$f":"DUT$1963","v":0},{"$f":"DUU$1963","v":0},{"$f":"DUV$1963","v":0},{"$f":"DUW$1963","v":0},{"$f":"DUX$1963","v":0},{"$f":"DUY$1963","v":0},{"$f":"DUZ$1963","v":0},{"$f":"DVA$1963","v":0},{"$f":"DVB$1963","v":0},{"$f":"DVC$1963","v":0},{"$f":"DVD$1963","v":0},{"$f":"DVE$1963","v":0},{"$f":"DVF$1963","v":0},{"$f":"DVG$1963","v":0},{"$f":"DVH$1963","v":0},{"$f":"DVI$1963","v":0},{"$f":"DVJ$1963","v":0},{"$f":"DVK$1963","v":0},{"$f":"DVL$1963","v":0},{"$f":"DVM$1963","v":0},{"$f":"DVN$1963","v":0},{"$f":"DVO$1963","v":0},{"$f":"DVP$1963","v":0},{"$f":"DVQ$1963","v":0},{"$f":"DVR$1963","v":0},{"$f":"DVS$1963","v":0},{"$f":"DVT$1963","v":0},{"$f":"DVU$1963","v":0},{"$f":"DVV$1963","v":0},{"$f":"DVW$1963","v":0},{"$f":"DVX$1963","v":0},{"$f":"DVY$1963","v":0},{"$f":"DVZ$1963","v":0},{"$f":"DWA$1963","v":0},{"$f":"DWB$1963","v":0},{"$f":"DWC$1963","v":0},{"$f":"DWD$1963","v":0},{"$f":"DWE$1963","v":0},{"$f":"DWF$1963","v":0},{"$f":"DWG$1963","v":0},{"$f":"DWH$1963","v":0},{"$f":"DWI$1963","v":0},{"$f":"DWJ$1963","v":0},{"$f":"DWK$1963","v":0},{"$f":"DWL$1963","v":0},{"$f":"DWM$1963","v":0},{"$f":"DWN$1963","v":0},{"$f":"DWO$1963","v":0},{"$f":"DWP$1963","v":0},{"$f":"DWQ$1963","v":0},{"$f":"DWR$1963","v":0},{"$f":"DWS$1963","v":0},{"$f":"DWT$1963","v":0},{"$f":"DWU$1963","v":0},{"$f":"DWV$1963","v":0},{"$f":"DWW$1963","v":0},{"$f":"DWX$1963","v":0},{"$f":"DWY$1963","v":0},{"$f":"DWZ$1963","v":0},{"$f":"DXA$1963","v":0},{"$f":"DXB$1963","v":0},{"$f":"DXC$1963","v":0},{"$f":"DXD$1963","v":0},{"$f":"DXE$1963","v":0},{"$f":"DXF$1963","v":0},{"$f":"DXG$1963","v":0},{"$f":"DXH$1963","v":0},{"$f":"DXI$1963","v":0},{"$f":"DXJ$1963","v":0},{"$f":"DXK$1963","v":0},{"$f":"DXL$1963","v":0},{"$f":"DXM$1963","v":0},{"$f":"DXN$1963","v":0},{"$f":"DXO$1963","v":0},{"$f":"DXP$1963","v":0},{"$f":"DXQ$1963","v":0},{"$f":"DXR$1963","v":0},{"$f":"DXS$1963","v":0},{"$f":"DXT$1963","v":0},{"$f":"DXU$1963","v":0},{"$f":"DXV$1963","v":0},{"$f":"DXW$1963","v":0},{"$f":"DXX$1963","v":0},{"$f":"DXY$1963","v":0},{"$f":"DXZ$1963","v":0},{"$f":"DYA$1963","v":0},{"$f":"DYB$1963","v":0},{"$f":"DYC$1963","v":0},{"$f":"DYD$1963","v":0},{"$f":"DYE$1963","v":0},{"$f":"DYF$1963","v":0},{"$f":"DYG$1963","v":0},{"$f":"DYH$1963","v":0},{"$f":"DYI$1963","v":0},{"$f":"DYJ$1963","v":0},{"$f":"DYK$1963","v":0},{"$f":"DYL$1963","v":0},{"$f":"DYM$1963","v":0},{"$f":"DYN$1963","v":0},{"$f":"DYO$1963","v":0},{"$f":"DYP$1963","v":0},{"$f":"DYQ$1963","v":0},{"$f":"DYR$1963","v":0},{"$f":"DYS$1963","v":0},{"$f":"DYT$1963","v":0},{"$f":"DYU$1963","v":0},{"$f":"DYV$1963","v":0},{"$f":"DYW$1963","v":0},{"$f":"DYX$1963","v":0},{"$f":"DYY$1963","v":0},{"$f":"DYZ$1963","v":0},{"$f":"DZA$1963","v":0},{"$f":"DZB$1963","v":0},{"$f":"DZC$1963","v":0},{"$f":"DZD$1963","v":0},{"$f":"DZE$1963","v":0},{"$f":"DZF$1963","v":0},{"$f":"DZG$1963","v":0},{"$f":"DZH$1963","v":0},{"$f":"DZI$1963","v":0},{"$f":"DZJ$1963","v":0},{"$f":"DZK$1963","v":0},{"$f":"DZL$1963","v":0},{"$f":"DZM$1963","v":0},{"$f":"DZN$1963","v":0},{"$f":"DZO$1963","v":0},{"$f":"DZP$1963","v":0},{"$f":"DZQ$1963","v":0},{"$f":"DZR$1963","v":0},{"$f":"DZS$1963","v":0},{"$f":"DZT$1963","v":0},{"$f":"DZU$1963","v":0},{"$f":"DZV$1963","v":0},{"$f":"DZW$1963","v":0},{"$f":"DZX$1963","v":0},{"$f":"DZY$1963","v":0},{"$f":"DZZ$1963","v":0},{"$f":"EAA$1963","v":0},{"$f":"EAB$1963","v":0},{"$f":"EAC$1963","v":0},{"$f":"EAD$1963","v":0},{"$f":"EAE$1963","v":0},{"$f":"EAF$1963","v":0},{"$f":"EAG$1963","v":0},{"$f":"EAH$1963","v":0},{"$f":"EAI$1963","v":0},{"$f":"EAJ$1963","v":0},{"$f":"EAK$1963","v":0},{"$f":"EAL$1963","v":0},{"$f":"EAM$1963","v":0},{"$f":"EAN$1963","v":0},{"$f":"EAO$1963","v":0},{"$f":"EAP$1963","v":0},{"$f":"EAQ$1963","v":0},{"$f":"EAR$1963","v":0},{"$f":"EAS$1963","v":0},{"$f":"EAT$1963","v":0},{"$f":"EAU$1963","v":0},{"$f":"EAV$1963","v":0},{"$f":"EAW$1963","v":0},{"$f":"EAX$1963","v":0},{"$f":"EAY$1963","v":0},{"$f":"EAZ$1963","v":0},{"$f":"EBA$1963","v":0},{"$f":"EBB$1963","v":0},{"$f":"EBC$1963","v":0},{"$f":"EBD$1963","v":0},{"$f":"EBE$1963","v":0},{"$f":"EBF$1963","v":0},{"$f":"EBG$1963","v":0},{"$f":"EBH$1963","v":0},{"$f":"EBI$1963","v":0},{"$f":"EBJ$1963","v":0},{"$f":"EBK$1963","v":0},{"$f":"EBL$1963","v":0},{"$f":"EBM$1963","v":0},{"$f":"EBN$1963","v":0},{"$f":"EBO$1963","v":0},{"$f":"EBP$1963","v":0},{"$f":"EBQ$1963","v":0},{"$f":"EBR$1963","v":0},{"$f":"EBS$1963","v":0},{"$f":"EBT$1963","v":0},{"$f":"EBU$1963","v":0},{"$f":"EBV$1963","v":0},{"$f":"EBW$1963","v":0},{"$f":"EBX$1963","v":0},{"$f":"EBY$1963","v":0},{"$f":"EBZ$1963","v":0},{"$f":"ECA$1963","v":0},{"$f":"ECB$1963","v":0},{"$f":"ECC$1963","v":0},{"$f":"ECD$1963","v":0},{"$f":"ECE$1963","v":0},{"$f":"ECF$1963","v":0},{"$f":"ECG$1963","v":0},{"$f":"ECH$1963","v":0},{"$f":"ECI$1963","v":0},{"$f":"ECJ$1963","v":0},{"$f":"ECK$1963","v":0},{"$f":"ECL$1963","v":0},{"$f":"ECM$1963","v":0},{"$f":"ECN$1963","v":0},{"$f":"ECO$1963","v":0},{"$f":"ECP$1963","v":0},{"$f":"ECQ$1963","v":0},{"$f":"ECR$1963","v":0},{"$f":"ECS$1963","v":0},{"$f":"ECT$1963","v":0},{"$f":"ECU$1963","v":0},{"$f":"ECV$1963","v":0},{"$f":"ECW$1963","v":0},{"$f":"ECX$1963","v":0},{"$f":"ECY$1963","v":0},{"$f":"ECZ$1963","v":0},{"$f":"EDA$1963","v":0},{"$f":"EDB$1963","v":0},{"$f":"EDC$1963","v":0},{"$f":"EDD$1963","v":0},{"$f":"EDE$1963","v":0},{"$f":"EDF$1963","v":0},{"$f":"EDG$1963","v":0},{"$f":"EDH$1963","v":0},{"$f":"EDI$1963","v":0},{"$f":"EDJ$1963","v":0},{"$f":"EDK$1963","v":0},{"$f":"EDL$1963","v":0},{"$f":"EDM$1963","v":0},{"$f":"EDN$1963","v":0},{"$f":"EDO$1963","v":0},{"$f":"EDP$1963","v":0},{"$f":"EDQ$1963","v":0},{"$f":"EDR$1963","v":0},{"$f":"EDS$1963","v":0},{"$f":"EDT$1963","v":0},{"$f":"EDU$1963","v":0},{"$f":"EDV$1963","v":0},{"$f":"EDW$1963","v":0},{"$f":"EDX$1963","v":0},{"$f":"EDY$1963","v":0},{"$f":"EDZ$1963","v":0},{"$f":"EEA$1963","v":0},{"$f":"EEB$1963","v":0},{"$f":"EEC$1963","v":0},{"$f":"EED$1963","v":0},{"$f":"EEE$1963","v":0},{"$f":"EEF$1963","v":0},{"$f":"EEG$1963","v":0},{"$f":"EEH$1963","v":0},{"$f":"EEI$1963","v":0},{"$f":"EEJ$1963","v":0},{"$f":"EEK$1963","v":0},{"$f":"EEL$1963","v":0},{"$f":"EEM$1963","v":0},{"$f":"EEN$1963","v":0},{"$f":"EEO$1963","v":0},{"$f":"EEP$1963","v":0},{"$f":"EEQ$1963","v":0},{"$f":"EER$1963","v":0},{"$f":"EES$1963","v":0},{"$f":"EET$1963","v":0},{"$f":"EEU$1963","v":0},{"$f":"EEV$1963","v":0},{"$f":"EEW$1963","v":0},{"$f":"EEX$1963","v":0},{"$f":"EEY$1963","v":0},{"$f":"EEZ$1963","v":0},{"$f":"EFA$1963","v":0},{"$f":"EFB$1963","v":0},{"$f":"EFC$1963","v":0},{"$f":"EFD$1963","v":0},{"$f":"EFE$1963","v":0},{"$f":"EFF$1963","v":0},{"$f":"EFG$1963","v":0},{"$f":"EFH$1963","v":0},{"$f":"EFI$1963","v":0},{"$f":"EFJ$1963","v":0},{"$f":"EFK$1963","v":0},{"$f":"EFL$1963","v":0},{"$f":"EFM$1963","v":0},{"$f":"EFN$1963","v":0},{"$f":"EFO$1963","v":0},{"$f":"EFP$1963","v":0},{"$f":"EFQ$1963","v":0},{"$f":"EFR$1963","v":0},{"$f":"EFS$1963","v":0},{"$f":"EFT$1963","v":0},{"$f":"EFU$1963","v":0},{"$f":"EFV$1963","v":0},{"$f":"EFW$1963","v":0},{"$f":"EFX$1963","v":0},{"$f":"EFY$1963","v":0},{"$f":"EFZ$1963","v":0},{"$f":"EGA$1963","v":0},{"$f":"EGB$1963","v":0},{"$f":"EGC$1963","v":0},{"$f":"EGD$1963","v":0},{"$f":"EGE$1963","v":0},{"$f":"EGF$1963","v":0},{"$f":"EGG$1963","v":0},{"$f":"EGH$1963","v":0},{"$f":"EGI$1963","v":0},{"$f":"EGJ$1963","v":0},{"$f":"EGK$1963","v":0},{"$f":"EGL$1963","v":0},{"$f":"EGM$1963","v":0},{"$f":"EGN$1963","v":0},{"$f":"EGO$1963","v":0},{"$f":"EGP$1963","v":0},{"$f":"EGQ$1963","v":0},{"$f":"EGR$1963","v":0},{"$f":"EGS$1963","v":0},{"$f":"EGT$1963","v":0},{"$f":"EGU$1963","v":0},{"$f":"EGV$1963","v":0},{"$f":"EGW$1963","v":0},{"$f":"EGX$1963","v":0},{"$f":"EGY$1963","v":0},{"$f":"EGZ$1963","v":0},{"$f":"EHA$1963","v":0},{"$f":"EHB$1963","v":0},{"$f":"EHC$1963","v":0},{"$f":"EHD$1963","v":0},{"$f":"EHE$1963","v":0},{"$f":"EHF$1963","v":0},{"$f":"EHG$1963","v":0},{"$f":"EHH$1963","v":0},{"$f":"EHI$1963","v":0},{"$f":"EHJ$1963","v":0},{"$f":"EHK$1963","v":0},{"$f":"EHL$1963","v":0},{"$f":"EHM$1963","v":0},{"$f":"EHN$1963","v":0},{"$f":"EHO$1963","v":0},{"$f":"EHP$1963","v":0},{"$f":"EHQ$1963","v":0},{"$f":"EHR$1963","v":0},{"$f":"EHS$1963","v":0},{"$f":"EHT$1963","v":0},{"$f":"EHU$1963","v":0},{"$f":"EHV$1963","v":0},{"$f":"EHW$1963","v":0},{"$f":"EHX$1963","v":0},{"$f":"EHY$1963","v":0},{"$f":"EHZ$1963","v":0},{"$f":"EIA$1963","v":0},{"$f":"EIB$1963","v":0},{"$f":"EIC$1963","v":0},{"$f":"EID$1963","v":0},{"$f":"EIE$1963","v":0},{"$f":"EIF$1963","v":0},{"$f":"EIG$1963","v":0},{"$f":"EIH$1963","v":0},{"$f":"EII$1963","v":0},{"$f":"EIJ$1963","v":0},{"$f":"EIK$1963","v":0},{"$f":"EIL$1963","v":0},{"$f":"EIM$1963","v":0},{"$f":"EIN$1963","v":0},{"$f":"EIO$1963","v":0},{"$f":"EIP$1963","v":0},{"$f":"EIQ$1963","v":0},{"$f":"EIR$1963","v":0},{"$f":"EIS$1963","v":0},{"$f":"EIT$1963","v":0},{"$f":"EIU$1963","v":0},{"$f":"EIV$1963","v":0},{"$f":"EIW$1963","v":0},{"$f":"EIX$1963","v":0},{"$f":"EIY$1963","v":0},{"$f":"EIZ$1963","v":0},{"$f":"EJA$1963","v":0},{"$f":"EJB$1963","v":0},{"$f":"EJC$1963","v":0},{"$f":"EJD$1963","v":0},{"$f":"EJE$1963","v":0},{"$f":"EJF$1963","v":0},{"$f":"EJG$1963","v":0},{"$f":"EJH$1963","v":0},{"$f":"EJI$1963","v":0},{"$f":"EJJ$1963","v":0},{"$f":"EJK$1963","v":0},{"$f":"EJL$1963","v":0},{"$f":"EJM$1963","v":0},{"$f":"EJN$1963","v":0},{"$f":"EJO$1963","v":0},{"$f":"EJP$1963","v":0},{"$f":"EJQ$1963","v":0},{"$f":"EJR$1963","v":0},{"$f":"EJS$1963","v":0},{"$f":"EJT$1963","v":0},{"$f":"EJU$1963","v":0},{"$f":"EJV$1963","v":0},{"$f":"EJW$1963","v":0},{"$f":"EJX$1963","v":0},{"$f":"EJY$1963","v":0},{"$f":"EJZ$1963","v":0},{"$f":"EKA$1963","v":0},{"$f":"EKB$1963","v":0},{"$f":"EKC$1963","v":0},{"$f":"EKD$1963","v":0},{"$f":"EKE$1963","v":0},{"$f":"EKF$1963","v":0},{"$f":"EKG$1963","v":0},{"$f":"EKH$1963","v":0},{"$f":"EKI$1963","v":0},{"$f":"EKJ$1963","v":0},{"$f":"EKK$1963","v":0},{"$f":"EKL$1963","v":0},{"$f":"EKM$1963","v":0},{"$f":"EKN$1963","v":0},{"$f":"EKO$1963","v":0},{"$f":"EKP$1963","v":0},{"$f":"EKQ$1963","v":0},{"$f":"EKR$1963","v":0},{"$f":"EKS$1963","v":0},{"$f":"EKT$1963","v":0},{"$f":"EKU$1963","v":0},{"$f":"EKV$1963","v":0},{"$f":"EKW$1963","v":0},{"$f":"EKX$1963","v":0},{"$f":"EKY$1963","v":0},{"$f":"EKZ$1963","v":0},{"$f":"ELA$1963","v":0},{"$f":"ELB$1963","v":0},{"$f":"ELC$1963","v":0},{"$f":"ELD$1963","v":0},{"$f":"ELE$1963","v":0},{"$f":"ELF$1963","v":0},{"$f":"ELG$1963","v":0},{"$f":"ELH$1963","v":0},{"$f":"ELI$1963","v":0},{"$f":"ELJ$1963","v":0},{"$f":"ELK$1963","v":0},{"$f":"ELL$1963","v":0},{"$f":"ELM$1963","v":0},{"$f":"ELN$1963","v":0},{"$f":"ELO$1963","v":0},{"$f":"ELP$1963","v":0},{"$f":"ELQ$1963","v":0},{"$f":"ELR$1963","v":0},{"$f":"ELS$1963","v":0},{"$f":"ELT$1963","v":0},{"$f":"ELU$1963","v":0},{"$f":"ELV$1963","v":0},{"$f":"ELW$1963","v":0},{"$f":"ELX$1963","v":0},{"$f":"ELY$1963","v":0},{"$f":"ELZ$1963","v":0},{"$f":"EMA$1963","v":0},{"$f":"EMB$1963","v":0},{"$f":"EMC$1963","v":0},{"$f":"EMD$1963","v":0},{"$f":"EME$1963","v":0},{"$f":"EMF$1963","v":0},{"$f":"EMG$1963","v":0},{"$f":"EMH$1963","v":0},{"$f":"EMI$1963","v":0},{"$f":"EMJ$1963","v":0},{"$f":"EMK$1963","v":0},{"$f":"EML$1963","v":0},{"$f":"EMM$1963","v":0},{"$f":"EMN$1963","v":0},{"$f":"EMO$1963","v":0},{"$f":"EMP$1963","v":0},{"$f":"EMQ$1963","v":0},{"$f":"EMR$1963","v":0},{"$f":"EMS$1963","v":0},{"$f":"EMT$1963","v":0},{"$f":"EMU$1963","v":0},{"$f":"EMV$1963","v":0},{"$f":"EMW$1963","v":0},{"$f":"EMX$1963","v":0},{"$f":"EMY$1963","v":0},{"$f":"EMZ$1963","v":0},{"$f":"ENA$1963","v":0},{"$f":"ENB$1963","v":0},{"$f":"ENC$1963","v":0},{"$f":"END$1963","v":0},{"$f":"ENE$1963","v":0},{"$f":"ENF$1963","v":0},{"$f":"ENG$1963","v":0},{"$f":"ENH$1963","v":0},{"$f":"ENI$1963","v":0},{"$f":"ENJ$1963","v":0},{"$f":"ENK$1963","v":0},{"$f":"ENL$1963","v":0},{"$f":"ENM$1963","v":0},{"$f":"ENN$1963","v":0},{"$f":"ENO$1963","v":0},{"$f":"ENP$1963","v":0},{"$f":"ENQ$1963","v":0},{"$f":"ENR$1963","v":0},{"$f":"ENS$1963","v":0},{"$f":"ENT$1963","v":0},{"$f":"ENU$1963","v":0},{"$f":"ENV$1963","v":0},{"$f":"ENW$1963","v":0},{"$f":"ENX$1963","v":0},{"$f":"ENY$1963","v":0},{"$f":"ENZ$1963","v":0},{"$f":"EOA$1963","v":0},{"$f":"EOB$1963","v":0},{"$f":"EOC$1963","v":0},{"$f":"EOD$1963","v":0},{"$f":"EOE$1963","v":0},{"$f":"EOF$1963","v":0},{"$f":"EOG$1963","v":0},{"$f":"EOH$1963","v":0},{"$f":"EOI$1963","v":0},{"$f":"EOJ$1963","v":0},{"$f":"EOK$1963","v":0},{"$f":"EOL$1963","v":0},{"$f":"EOM$1963","v":0},{"$f":"EON$1963","v":0},{"$f":"EOO$1963","v":0},{"$f":"EOP$1963","v":0},{"$f":"EOQ$1963","v":0},{"$f":"EOR$1963","v":0},{"$f":"EOS$1963","v":0},{"$f":"EOT$1963","v":0},{"$f":"EOU$1963","v":0},{"$f":"EOV$1963","v":0},{"$f":"EOW$1963","v":0},{"$f":"EOX$1963","v":0},{"$f":"EOY$1963","v":0},{"$f":"EOZ$1963","v":0},{"$f":"EPA$1963","v":0},{"$f":"EPB$1963","v":0},{"$f":"EPC$1963","v":0},{"$f":"EPD$1963","v":0},{"$f":"EPE$1963","v":0},{"$f":"EPF$1963","v":0},{"$f":"EPG$1963","v":0},{"$f":"EPH$1963","v":0},{"$f":"EPI$1963","v":0},{"$f":"EPJ$1963","v":0},{"$f":"EPK$1963","v":0},{"$f":"EPL$1963","v":0},{"$f":"EPM$1963","v":0},{"$f":"EPN$1963","v":0},{"$f":"EPO$1963","v":0},{"$f":"EPP$1963","v":0},{"$f":"EPQ$1963","v":0},{"$f":"EPR$1963","v":0},{"$f":"EPS$1963","v":0},{"$f":"EPT$1963","v":0},{"$f":"EPU$1963","v":0},{"$f":"EPV$1963","v":0},{"$f":"EPW$1963","v":0},{"$f":"EPX$1963","v":0},{"$f":"EPY$1963","v":0},{"$f":"EPZ$1963","v":0},{"$f":"EQA$1963","v":0},{"$f":"EQB$1963","v":0},{"$f":"EQC$1963","v":0},{"$f":"EQD$1963","v":0},{"$f":"EQE$1963","v":0},{"$f":"EQF$1963","v":0},{"$f":"EQG$1963","v":0},{"$f":"EQH$1963","v":0},{"$f":"EQI$1963","v":0},{"$f":"EQJ$1963","v":0},{"$f":"EQK$1963","v":0},{"$f":"EQL$1963","v":0},{"$f":"EQM$1963","v":0},{"$f":"EQN$1963","v":0},{"$f":"EQO$1963","v":0},{"$f":"EQP$1963","v":0},{"$f":"EQQ$1963","v":0},{"$f":"EQR$1963","v":0},{"$f":"EQS$1963","v":0},{"$f":"EQT$1963","v":0},{"$f":"EQU$1963","v":0},{"$f":"EQV$1963","v":0},{"$f":"EQW$1963","v":0},{"$f":"EQX$1963","v":0},{"$f":"EQY$1963","v":0},{"$f":"EQZ$1963","v":0},{"$f":"ERA$1963","v":0},{"$f":"ERB$1963","v":0},{"$f":"ERC$1963","v":0},{"$f":"ERD$1963","v":0},{"$f":"ERE$1963","v":0},{"$f":"ERF$1963","v":0},{"$f":"ERG$1963","v":0},{"$f":"ERH$1963","v":0},{"$f":"ERI$1963","v":0},{"$f":"ERJ$1963","v":0},{"$f":"ERK$1963","v":0},{"$f":"ERL$1963","v":0},{"$f":"ERM$1963","v":0},{"$f":"ERN$1963","v":0},{"$f":"ERO$1963","v":0},{"$f":"ERP$1963","v":0},{"$f":"ERQ$1963","v":0},{"$f":"ERR$1963","v":0},{"$f":"ERS$1963","v":0},{"$f":"ERT$1963","v":0},{"$f":"ERU$1963","v":0},{"$f":"ERV$1963","v":0},{"$f":"ERW$1963","v":0},{"$f":"ERX$1963","v":0},{"$f":"ERY$1963","v":0},{"$f":"ERZ$1963","v":0},{"$f":"ESA$1963","v":0},{"$f":"ESB$1963","v":0},{"$f":"ESC$1963","v":0},{"$f":"ESD$1963","v":0},{"$f":"ESE$1963","v":0},{"$f":"ESF$1963","v":0},{"$f":"ESG$1963","v":0},{"$f":"ESH$1963","v":0},{"$f":"ESI$1963","v":0},{"$f":"ESJ$1963","v":0},{"$f":"ESK$1963","v":0},{"$f":"ESL$1963","v":0},{"$f":"ESM$1963","v":0},{"$f":"ESN$1963","v":0},{"$f":"ESO$1963","v":0},{"$f":"ESP$1963","v":0},{"$f":"ESQ$1963","v":0},{"$f":"ESR$1963","v":0},{"$f":"ESS$1963","v":0},{"$f":"EST$1963","v":0},{"$f":"ESU$1963","v":0},{"$f":"ESV$1963","v":0},{"$f":"ESW$1963","v":0},{"$f":"ESX$1963","v":0},{"$f":"ESY$1963","v":0},{"$f":"ESZ$1963","v":0},{"$f":"ETA$1963","v":0},{"$f":"ETB$1963","v":0},{"$f":"ETC$1963","v":0},{"$f":"ETD$1963","v":0},{"$f":"ETE$1963","v":0},{"$f":"ETF$1963","v":0},{"$f":"ETG$1963","v":0},{"$f":"ETH$1963","v":0},{"$f":"ETI$1963","v":0},{"$f":"ETJ$1963","v":0},{"$f":"ETK$1963","v":0},{"$f":"ETL$1963","v":0},{"$f":"ETM$1963","v":0},{"$f":"ETN$1963","v":0},{"$f":"ETO$1963","v":0},{"$f":"ETP$1963","v":0},{"$f":"ETQ$1963","v":0},{"$f":"ETR$1963","v":0},{"$f":"ETS$1963","v":0},{"$f":"ETT$1963","v":0},{"$f":"ETU$1963","v":0},{"$f":"ETV$1963","v":0},{"$f":"ETW$1963","v":0},{"$f":"ETX$1963","v":0},{"$f":"ETY$1963","v":0},{"$f":"ETZ$1963","v":0},{"$f":"EUA$1963","v":0},{"$f":"EUB$1963","v":0},{"$f":"EUC$1963","v":0},{"$f":"EUD$1963","v":0},{"$f":"EUE$1963","v":0},{"$f":"EUF$1963","v":0},{"$f":"EUG$1963","v":0},{"$f":"EUH$1963","v":0},{"$f":"EUI$1963","v":0},{"$f":"EUJ$1963","v":0},{"$f":"EUK$1963","v":0},{"$f":"EUL$1963","v":0},{"$f":"EUM$1963","v":0},{"$f":"EUN$1963","v":0},{"$f":"EUO$1963","v":0},{"$f":"EUP$1963","v":0},{"$f":"EUQ$1963","v":0},{"$f":"EUR$1963","v":0},{"$f":"EUS$1963","v":0},{"$f":"EUT$1963","v":0},{"$f":"EUU$1963","v":0},{"$f":"EUV$1963","v":0},{"$f":"EUW$1963","v":0},{"$f":"EUX$1963","v":0},{"$f":"EUY$1963","v":0},{"$f":"EUZ$1963","v":0},{"$f":"EVA$1963","v":0},{"$f":"EVB$1963","v":0},{"$f":"EVC$1963","v":0},{"$f":"EVD$1963","v":0},{"$f":"EVE$1963","v":0},{"$f":"EVF$1963","v":0},{"$f":"EVG$1963","v":0},{"$f":"EVH$1963","v":0},{"$f":"EVI$1963","v":0},{"$f":"EVJ$1963","v":0},{"$f":"EVK$1963","v":0},{"$f":"EVL$1963","v":0},{"$f":"EVM$1963","v":0},{"$f":"EVN$1963","v":0},{"$f":"EVO$1963","v":0},{"$f":"EVP$1963","v":0},{"$f":"EVQ$1963","v":0},{"$f":"EVR$1963","v":0},{"$f":"EVS$1963","v":0},{"$f":"EVT$1963","v":0},{"$f":"EVU$1963","v":0},{"$f":"EVV$1963","v":0},{"$f":"EVW$1963","v":0},{"$f":"EVX$1963","v":0},{"$f":"EVY$1963","v":0},{"$f":"EVZ$1963","v":0},{"$f":"EWA$1963","v":0},{"$f":"EWB$1963","v":0},{"$f":"EWC$1963","v":0},{"$f":"EWD$1963","v":0},{"$f":"EWE$1963","v":0},{"$f":"EWF$1963","v":0},{"$f":"EWG$1963","v":0},{"$f":"EWH$1963","v":0},{"$f":"EWI$1963","v":0},{"$f":"EWJ$1963","v":0},{"$f":"EWK$1963","v":0},{"$f":"EWL$1963","v":0},{"$f":"EWM$1963","v":0},{"$f":"EWN$1963","v":0},{"$f":"EWO$1963","v":0},{"$f":"EWP$1963","v":0},{"$f":"EWQ$1963","v":0},{"$f":"EWR$1963","v":0},{"$f":"EWS$1963","v":0},{"$f":"EWT$1963","v":0},{"$f":"EWU$1963","v":0},{"$f":"EWV$1963","v":0},{"$f":"EWW$1963","v":0},{"$f":"EWX$1963","v":0},{"$f":"EWY$1963","v":0},{"$f":"EWZ$1963","v":0},{"$f":"EXA$1963","v":0},{"$f":"EXB$1963","v":0},{"$f":"EXC$1963","v":0},{"$f":"EXD$1963","v":0},{"$f":"EXE$1963","v":0},{"$f":"EXF$1963","v":0},{"$f":"EXG$1963","v":0},{"$f":"EXH$1963","v":0},{"$f":"EXI$1963","v":0},{"$f":"EXJ$1963","v":0},{"$f":"EXK$1963","v":0},{"$f":"EXL$1963","v":0},{"$f":"EXM$1963","v":0},{"$f":"EXN$1963","v":0},{"$f":"EXO$1963","v":0},{"$f":"EXP$1963","v":0},{"$f":"EXQ$1963","v":0},{"$f":"EXR$1963","v":0},{"$f":"EXS$1963","v":0},{"$f":"EXT$1963","v":0},{"$f":"EXU$1963","v":0},{"$f":"EXV$1963","v":0},{"$f":"EXW$1963","v":0},{"$f":"EXX$1963","v":0},{"$f":"EXY$1963","v":0},{"$f":"EXZ$1963","v":0},{"$f":"EYA$1963","v":0},{"$f":"EYB$1963","v":0},{"$f":"EYC$1963","v":0},{"$f":"EYD$1963","v":0},{"$f":"EYE$1963","v":0},{"$f":"EYF$1963","v":0},{"$f":"EYG$1963","v":0},{"$f":"EYH$1963","v":0},{"$f":"EYI$1963","v":0},{"$f":"EYJ$1963","v":0},{"$f":"EYK$1963","v":0},{"$f":"EYL$1963","v":0},{"$f":"EYM$1963","v":0},{"$f":"EYN$1963","v":0},{"$f":"EYO$1963","v":0},{"$f":"EYP$1963","v":0},{"$f":"EYQ$1963","v":0},{"$f":"EYR$1963","v":0},{"$f":"EYS$1963","v":0},{"$f":"EYT$1963","v":0},{"$f":"EYU$1963","v":0},{"$f":"EYV$1963","v":0},{"$f":"EYW$1963","v":0},{"$f":"EYX$1963","v":0},{"$f":"EYY$1963","v":0},{"$f":"EYZ$1963","v":0},{"$f":"EZA$1963","v":0},{"$f":"EZB$1963","v":0},{"$f":"EZC$1963","v":0},{"$f":"EZD$1963","v":0},{"$f":"EZE$1963","v":0},{"$f":"EZF$1963","v":0},{"$f":"EZG$1963","v":0},{"$f":"EZH$1963","v":0},{"$f":"EZI$1963","v":0},{"$f":"EZJ$1963","v":0},{"$f":"EZK$1963","v":0},{"$f":"EZL$1963","v":0},{"$f":"EZM$1963","v":0},{"$f":"EZN$1963","v":0},{"$f":"EZO$1963","v":0},{"$f":"EZP$1963","v":0},{"$f":"EZQ$1963","v":0},{"$f":"EZR$1963","v":0},{"$f":"EZS$1963","v":0},{"$f":"EZT$1963","v":0},{"$f":"EZU$1963","v":0},{"$f":"EZV$1963","v":0},{"$f":"EZW$1963","v":0},{"$f":"EZX$1963","v":0},{"$f":"EZY$1963","v":0},{"$f":"EZZ$1963","v":0},{"$f":"FAA$1963","v":0},{"$f":"FAB$1963","v":0},{"$f":"FAC$1963","v":0},{"$f":"FAD$1963","v":0},{"$f":"FAE$1963","v":0},{"$f":"FAF$1963","v":0},{"$f":"FAG$1963","v":0},{"$f":"FAH$1963","v":0},{"$f":"FAI$1963","v":0},{"$f":"FAJ$1963","v":0},{"$f":"FAK$1963","v":0},{"$f":"FAL$1963","v":0},{"$f":"FAM$1963","v":0},{"$f":"FAN$1963","v":0},{"$f":"FAO$1963","v":0},{"$f":"FAP$1963","v":0},{"$f":"FAQ$1963","v":0},{"$f":"FAR$1963","v":0},{"$f":"FAS$1963","v":0},{"$f":"FAT$1963","v":0},{"$f":"FAU$1963","v":0},{"$f":"FAV$1963","v":0},{"$f":"FAW$1963","v":0},{"$f":"FAX$1963","v":0},{"$f":"FAY$1963","v":0},{"$f":"FAZ$1963","v":0},{"$f":"FBA$1963","v":0},{"$f":"FBB$1963","v":0},{"$f":"FBC$1963","v":0},{"$f":"FBD$1963","v":0},{"$f":"FBE$1963","v":0},{"$f":"FBF$1963","v":0},{"$f":"FBG$1963","v":0},{"$f":"FBH$1963","v":0},{"$f":"FBI$1963","v":0},{"$f":"FBJ$1963","v":0},{"$f":"FBK$1963","v":0},{"$f":"FBL$1963","v":0},{"$f":"FBM$1963","v":0},{"$f":"FBN$1963","v":0},{"$f":"FBO$1963","v":0},{"$f":"FBP$1963","v":0},{"$f":"FBQ$1963","v":0},{"$f":"FBR$1963","v":0},{"$f":"FBS$1963","v":0},{"$f":"FBT$1963","v":0},{"$f":"FBU$1963","v":0},{"$f":"FBV$1963","v":0},{"$f":"FBW$1963","v":0},{"$f":"FBX$1963","v":0},{"$f":"FBY$1963","v":0},{"$f":"FBZ$1963","v":0},{"$f":"FCA$1963","v":0},{"$f":"FCB$1963","v":0},{"$f":"FCC$1963","v":0},{"$f":"FCD$1963","v":0},{"$f":"FCE$1963","v":0},{"$f":"FCF$1963","v":0},{"$f":"FCG$1963","v":0},{"$f":"FCH$1963","v":0},{"$f":"FCI$1963","v":0},{"$f":"FCJ$1963","v":0},{"$f":"FCK$1963","v":0},{"$f":"FCL$1963","v":0},{"$f":"FCM$1963","v":0},{"$f":"FCN$1963","v":0},{"$f":"FCO$1963","v":0},{"$f":"FCP$1963","v":0},{"$f":"FCQ$1963","v":0},{"$f":"FCR$1963","v":0},{"$f":"FCS$1963","v":0},{"$f":"FCT$1963","v":0},{"$f":"FCU$1963","v":0},{"$f":"FCV$1963","v":0},{"$f":"FCW$1963","v":0},{"$f":"FCX$1963","v":0},{"$f":"FCY$1963","v":0},{"$f":"FCZ$1963","v":0},{"$f":"FDA$1963","v":0},{"$f":"FDB$1963","v":0},{"$f":"FDC$1963","v":0},{"$f":"FDD$1963","v":0},{"$f":"FDE$1963","v":0},{"$f":"FDF$1963","v":0},{"$f":"FDG$1963","v":0},{"$f":"FDH$1963","v":0},{"$f":"FDI$1963","v":0},{"$f":"FDJ$1963","v":0},{"$f":"FDK$1963","v":0},{"$f":"FDL$1963","v":0},{"$f":"FDM$1963","v":0},{"$f":"FDN$1963","v":0},{"$f":"FDO$1963","v":0},{"$f":"FDP$1963","v":0},{"$f":"FDQ$1963","v":0},{"$f":"FDR$1963","v":0},{"$f":"FDS$1963","v":0},{"$f":"FDT$1963","v":0},{"$f":"FDU$1963","v":0},{"$f":"FDV$1963","v":0},{"$f":"FDW$1963","v":0},{"$f":"FDX$1963","v":0},{"$f":"FDY$1963","v":0},{"$f":"FDZ$1963","v":0},{"$f":"FEA$1963","v":0},{"$f":"FEB$1963","v":0},{"$f":"FEC$1963","v":0},{"$f":"FED$1963","v":0},{"$f":"FEE$1963","v":0},{"$f":"FEF$1963","v":0},{"$f":"FEG$1963","v":0},{"$f":"FEH$1963","v":0},{"$f":"FEI$1963","v":0},{"$f":"FEJ$1963","v":0},{"$f":"FEK$1963","v":0},{"$f":"FEL$1963","v":0},{"$f":"FEM$1963","v":0},{"$f":"FEN$1963","v":0},{"$f":"FEO$1963","v":0},{"$f":"FEP$1963","v":0},{"$f":"FEQ$1963","v":0},{"$f":"FER$1963","v":0},{"$f":"FES$1963","v":0},{"$f":"FET$1963","v":0},{"$f":"FEU$1963","v":0},{"$f":"FEV$1963","v":0},{"$f":"FEW$1963","v":0},{"$f":"FEX$1963","v":0},{"$f":"FEY$1963","v":0},{"$f":"FEZ$1963","v":0},{"$f":"FFA$1963","v":0},{"$f":"FFB$1963","v":0},{"$f":"FFC$1963","v":0},{"$f":"FFD$1963","v":0},{"$f":"FFE$1963","v":0},{"$f":"FFF$1963","v":0},{"$f":"FFG$1963","v":0},{"$f":"FFH$1963","v":0},{"$f":"FFI$1963","v":0},{"$f":"FFJ$1963","v":0},{"$f":"FFK$1963","v":0},{"$f":"FFL$1963","v":0},{"$f":"FFM$1963","v":0},{"$f":"FFN$1963","v":0},{"$f":"FFO$1963","v":0},{"$f":"FFP$1963","v":0},{"$f":"FFQ$1963","v":0},{"$f":"FFR$1963","v":0},{"$f":"FFS$1963","v":0},{"$f":"FFT$1963","v":0},{"$f":"FFU$1963","v":0},{"$f":"FFV$1963","v":0},{"$f":"FFW$1963","v":0},{"$f":"FFX$1963","v":0},{"$f":"FFY$1963","v":0},{"$f":"FFZ$1963","v":0},{"$f":"FGA$1963","v":0},{"$f":"FGB$1963","v":0},{"$f":"FGC$1963","v":0},{"$f":"FGD$1963","v":0},{"$f":"FGE$1963","v":0},{"$f":"FGF$1963","v":0},{"$f":"FGG$1963","v":0},{"$f":"FGH$1963","v":0},{"$f":"FGI$1963","v":0},{"$f":"FGJ$1963","v":0},{"$f":"FGK$1963","v":0},{"$f":"FGL$1963","v":0},{"$f":"FGM$1963","v":0},{"$f":"FGN$1963","v":0},{"$f":"FGO$1963","v":0},{"$f":"FGP$1963","v":0},{"$f":"FGQ$1963","v":0},{"$f":"FGR$1963","v":0},{"$f":"FGS$1963","v":0},{"$f":"FGT$1963","v":0},{"$f":"FGU$1963","v":0},{"$f":"FGV$1963","v":0},{"$f":"FGW$1963","v":0},{"$f":"FGX$1963","v":0},{"$f":"FGY$1963","v":0},{"$f":"FGZ$1963","v":0},{"$f":"FHA$1963","v":0},{"$f":"FHB$1963","v":0},{"$f":"FHC$1963","v":0},{"$f":"FHD$1963","v":0},{"$f":"FHE$1963","v":0},{"$f":"FHF$1963","v":0},{"$f":"FHG$1963","v":0},{"$f":"FHH$1963","v":0},{"$f":"FHI$1963","v":0},{"$f":"FHJ$1963","v":0},{"$f":"FHK$1963","v":0},{"$f":"FHL$1963","v":0},{"$f":"FHM$1963","v":0},{"$f":"FHN$1963","v":0},{"$f":"FHO$1963","v":0},{"$f":"FHP$1963","v":0},{"$f":"FHQ$1963","v":0},{"$f":"FHR$1963","v":0},{"$f":"FHS$1963","v":0},{"$f":"FHT$1963","v":0},{"$f":"FHU$1963","v":0},{"$f":"FHV$1963","v":0},{"$f":"FHW$1963","v":0},{"$f":"FHX$1963","v":0},{"$f":"FHY$1963","v":0},{"$f":"FHZ$1963","v":0},{"$f":"FIA$1963","v":0},{"$f":"FIB$1963","v":0},{"$f":"FIC$1963","v":0},{"$f":"FID$1963","v":0},{"$f":"FIE$1963","v":0},{"$f":"FIF$1963","v":0},{"$f":"FIG$1963","v":0},{"$f":"FIH$1963","v":0},{"$f":"FII$1963","v":0},{"$f":"FIJ$1963","v":0},{"$f":"FIK$1963","v":0},{"$f":"FIL$1963","v":0},{"$f":"FIM$1963","v":0},{"$f":"FIN$1963","v":0},{"$f":"FIO$1963","v":0},{"$f":"FIP$1963","v":0},{"$f":"FIQ$1963","v":0},{"$f":"FIR$1963","v":0},{"$f":"FIS$1963","v":0},{"$f":"FIT$1963","v":0},{"$f":"FIU$1963","v":0},{"$f":"FIV$1963","v":0},{"$f":"FIW$1963","v":0},{"$f":"FIX$1963","v":0},{"$f":"FIY$1963","v":0},{"$f":"FIZ$1963","v":0},{"$f":"FJA$1963","v":0},{"$f":"FJB$1963","v":0},{"$f":"FJC$1963","v":0},{"$f":"FJD$1963","v":0},{"$f":"FJE$1963","v":0},{"$f":"FJF$1963","v":0},{"$f":"FJG$1963","v":0},{"$f":"FJH$1963","v":0},{"$f":"FJI$1963","v":0},{"$f":"FJJ$1963","v":0},{"$f":"FJK$1963","v":0},{"$f":"FJL$1963","v":0},{"$f":"FJM$1963","v":0},{"$f":"FJN$1963","v":0},{"$f":"FJO$1963","v":0},{"$f":"FJP$1963","v":0},{"$f":"FJQ$1963","v":0},{"$f":"FJR$1963","v":0},{"$f":"FJS$1963","v":0},{"$f":"FJT$1963","v":0},{"$f":"FJU$1963","v":0},{"$f":"FJV$1963","v":0},{"$f":"FJW$1963","v":0},{"$f":"FJX$1963","v":0},{"$f":"FJY$1963","v":0},{"$f":"FJZ$1963","v":0},{"$f":"FKA$1963","v":0},{"$f":"FKB$1963","v":0},{"$f":"FKC$1963","v":0},{"$f":"FKD$1963","v":0},{"$f":"FKE$1963","v":0},{"$f":"FKF$1963","v":0},{"$f":"FKG$1963","v":0},{"$f":"FKH$1963","v":0},{"$f":"FKI$1963","v":0},{"$f":"FKJ$1963","v":0},{"$f":"FKK$1963","v":0},{"$f":"FKL$1963","v":0},{"$f":"FKM$1963","v":0},{"$f":"FKN$1963","v":0},{"$f":"FKO$1963","v":0},{"$f":"FKP$1963","v":0},{"$f":"FKQ$1963","v":0},{"$f":"FKR$1963","v":0},{"$f":"FKS$1963","v":0},{"$f":"FKT$1963","v":0},{"$f":"FKU$1963","v":0},{"$f":"FKV$1963","v":0},{"$f":"FKW$1963","v":0},{"$f":"FKX$1963","v":0},{"$f":"FKY$1963","v":0},{"$f":"FKZ$1963","v":0},{"$f":"FLA$1963","v":0},{"$f":"FLB$1963","v":0},{"$f":"FLC$1963","v":0},{"$f":"FLD$1963","v":0},{"$f":"FLE$1963","v":0},{"$f":"FLF$1963","v":0},{"$f":"FLG$1963","v":0},{"$f":"FLH$1963","v":0},{"$f":"FLI$1963","v":0},{"$f":"FLJ$1963","v":0},{"$f":"FLK$1963","v":0},{"$f":"FLL$1963","v":0},{"$f":"FLM$1963","v":0},{"$f":"FLN$1963","v":0},{"$f":"FLO$1963","v":0},{"$f":"FLP$1963","v":0},{"$f":"FLQ$1963","v":0},{"$f":"FLR$1963","v":0},{"$f":"FLS$1963","v":0},{"$f":"FLT$1963","v":0},{"$f":"FLU$1963","v":0},{"$f":"FLV$1963","v":0},{"$f":"FLW$1963","v":0},{"$f":"FLX$1963","v":0},{"$f":"FLY$1963","v":0},{"$f":"FLZ$1963","v":0},{"$f":"FMA$1963","v":0},{"$f":"FMB$1963","v":0},{"$f":"FMC$1963","v":0},{"$f":"FMD$1963","v":0},{"$f":"FME$1963","v":0},{"$f":"FMF$1963","v":0},{"$f":"FMG$1963","v":0},{"$f":"FMH$1963","v":0},{"$f":"FMI$1963","v":0},{"$f":"FMJ$1963","v":0},{"$f":"FMK$1963","v":0},{"$f":"FML$1963","v":0},{"$f":"FMM$1963","v":0},{"$f":"FMN$1963","v":0},{"$f":"FMO$1963","v":0},{"$f":"FMP$1963","v":0},{"$f":"FMQ$1963","v":0},{"$f":"FMR$1963","v":0},{"$f":"FMS$1963","v":0},{"$f":"FMT$1963","v":0},{"$f":"FMU$1963","v":0},{"$f":"FMV$1963","v":0},{"$f":"FMW$1963","v":0},{"$f":"FMX$1963","v":0},{"$f":"FMY$1963","v":0},{"$f":"FMZ$1963","v":0},{"$f":"FNA$1963","v":0},{"$f":"FNB$1963","v":0},{"$f":"FNC$1963","v":0},{"$f":"FND$1963","v":0},{"$f":"FNE$1963","v":0},{"$f":"FNF$1963","v":0},{"$f":"FNG$1963","v":0},{"$f":"FNH$1963","v":0},{"$f":"FNI$1963","v":0},{"$f":"FNJ$1963","v":0},{"$f":"FNK$1963","v":0},{"$f":"FNL$1963","v":0},{"$f":"FNM$1963","v":0},{"$f":"FNN$1963","v":0},{"$f":"FNO$1963","v":0},{"$f":"FNP$1963","v":0},{"$f":"FNQ$1963","v":0},{"$f":"FNR$1963","v":0},{"$f":"FNS$1963","v":0},{"$f":"FNT$1963","v":0},{"$f":"FNU$1963","v":0},{"$f":"FNV$1963","v":0},{"$f":"FNW$1963","v":0},{"$f":"FNX$1963","v":0},{"$f":"FNY$1963","v":0},{"$f":"FNZ$1963","v":0},{"$f":"FOA$1963","v":0},{"$f":"FOB$1963","v":0},{"$f":"FOC$1963","v":0},{"$f":"FOD$1963","v":0},{"$f":"FOE$1963","v":0},{"$f":"FOF$1963","v":0},{"$f":"FOG$1963","v":0},{"$f":"FOH$1963","v":0},{"$f":"FOI$1963","v":0},{"$f":"FOJ$1963","v":0},{"$f":"FOK$1963","v":0},{"$f":"FOL$1963","v":0},{"$f":"FOM$1963","v":0},{"$f":"FON$1963","v":0},{"$f":"FOO$1963","v":0},{"$f":"FOP$1963","v":0},{"$f":"FOQ$1963","v":0},{"$f":"FOR$1963","v":0},{"$f":"FOS$1963","v":0},{"$f":"FOT$1963","v":0},{"$f":"FOU$1963","v":0},{"$f":"FOV$1963","v":0},{"$f":"FOW$1963","v":0},{"$f":"FOX$1963","v":0},{"$f":"FOY$1963","v":0},{"$f":"FOZ$1963","v":0},{"$f":"FPA$1963","v":0},{"$f":"FPB$1963","v":0},{"$f":"FPC$1963","v":0},{"$f":"FPD$1963","v":0},{"$f":"FPE$1963","v":0},{"$f":"FPF$1963","v":0},{"$f":"FPG$1963","v":0},{"$f":"FPH$1963","v":0},{"$f":"FPI$1963","v":0},{"$f":"FPJ$1963","v":0},{"$f":"FPK$1963","v":0},{"$f":"FPL$1963","v":0},{"$f":"FPM$1963","v":0},{"$f":"FPN$1963","v":0},{"$f":"FPO$1963","v":0},{"$f":"FPP$1963","v":0},{"$f":"FPQ$1963","v":0},{"$f":"FPR$1963","v":0},{"$f":"FPS$1963","v":0},{"$f":"FPT$1963","v":0},{"$f":"FPU$1963","v":0},{"$f":"FPV$1963","v":0},{"$f":"FPW$1963","v":0},{"$f":"FPX$1963","v":0},{"$f":"FPY$1963","v":0},{"$f":"FPZ$1963","v":0},{"$f":"FQA$1963","v":0},{"$f":"FQB$1963","v":0},{"$f":"FQC$1963","v":0},{"$f":"FQD$1963","v":0},{"$f":"FQE$1963","v":0},{"$f":"FQF$1963","v":0},{"$f":"FQG$1963","v":0},{"$f":"FQH$1963","v":0},{"$f":"FQI$1963","v":0},{"$f":"FQJ$1963","v":0},{"$f":"FQK$1963","v":0},{"$f":"FQL$1963","v":0},{"$f":"FQM$1963","v":0},{"$f":"FQN$1963","v":0},{"$f":"FQO$1963","v":0},{"$f":"FQP$1963","v":0},{"$f":"FQQ$1963","v":0},{"$f":"FQR$1963","v":0},{"$f":"FQS$1963","v":0},{"$f":"FQT$1963","v":0},{"$f":"FQU$1963","v":0},{"$f":"FQV$1963","v":0},{"$f":"FQW$1963","v":0},{"$f":"FQX$1963","v":0},{"$f":"FQY$1963","v":0},{"$f":"FQZ$1963","v":0},{"$f":"FRA$1963","v":0},{"$f":"FRB$1963","v":0},{"$f":"FRC$1963","v":0},{"$f":"FRD$1963","v":0},{"$f":"FRE$1963","v":0},{"$f":"FRF$1963","v":0},{"$f":"FRG$1963","v":0},{"$f":"FRH$1963","v":0},{"$f":"FRI$1963","v":0},{"$f":"FRJ$1963","v":0},{"$f":"FRK$1963","v":0},{"$f":"FRL$1963","v":0},{"$f":"FRM$1963","v":0},{"$f":"FRN$1963","v":0},{"$f":"FRO$1963","v":0},{"$f":"FRP$1963","v":0},{"$f":"FRQ$1963","v":0},{"$f":"FRR$1963","v":0},{"$f":"FRS$1963","v":0},{"$f":"FRT$1963","v":0},{"$f":"FRU$1963","v":0},{"$f":"FRV$1963","v":0},{"$f":"FRW$1963","v":0},{"$f":"FRX$1963","v":0},{"$f":"FRY$1963","v":0},{"$f":"FRZ$1963","v":0},{"$f":"FSA$1963","v":0},{"$f":"FSB$1963","v":0},{"$f":"FSC$1963","v":0},{"$f":"FSD$1963","v":0},{"$f":"FSE$1963","v":0},{"$f":"FSF$1963","v":0},{"$f":"FSG$1963","v":0},{"$f":"FSH$1963","v":0},{"$f":"FSI$1963","v":0},{"$f":"FSJ$1963","v":0},{"$f":"FSK$1963","v":0},{"$f":"FSL$1963","v":0},{"$f":"FSM$1963","v":0},{"$f":"FSN$1963","v":0},{"$f":"FSO$1963","v":0},{"$f":"FSP$1963","v":0},{"$f":"FSQ$1963","v":0},{"$f":"FSR$1963","v":0},{"$f":"FSS$1963","v":0},{"$f":"FST$1963","v":0},{"$f":"FSU$1963","v":0},{"$f":"FSV$1963","v":0},{"$f":"FSW$1963","v":0},{"$f":"FSX$1963","v":0},{"$f":"FSY$1963","v":0},{"$f":"FSZ$1963","v":0},{"$f":"FTA$1963","v":0},{"$f":"FTB$1963","v":0},{"$f":"FTC$1963","v":0},{"$f":"FTD$1963","v":0},{"$f":"FTE$1963","v":0},{"$f":"FTF$1963","v":0},{"$f":"FTG$1963","v":0},{"$f":"FTH$1963","v":0},{"$f":"FTI$1963","v":0},{"$f":"FTJ$1963","v":0},{"$f":"FTK$1963","v":0},{"$f":"FTL$1963","v":0},{"$f":"FTM$1963","v":0},{"$f":"FTN$1963","v":0},{"$f":"FTO$1963","v":0},{"$f":"FTP$1963","v":0},{"$f":"FTQ$1963","v":0},{"$f":"FTR$1963","v":0},{"$f":"FTS$1963","v":0},{"$f":"FTT$1963","v":0},{"$f":"FTU$1963","v":0},{"$f":"FTV$1963","v":0},{"$f":"FTW$1963","v":0},{"$f":"FTX$1963","v":0},{"$f":"FTY$1963","v":0},{"$f":"FTZ$1963","v":0},{"$f":"FUA$1963","v":0},{"$f":"FUB$1963","v":0},{"$f":"FUC$1963","v":0},{"$f":"FUD$1963","v":0},{"$f":"FUE$1963","v":0},{"$f":"FUF$1963","v":0},{"$f":"FUG$1963","v":0},{"$f":"FUH$1963","v":0},{"$f":"FUI$1963","v":0},{"$f":"FUJ$1963","v":0},{"$f":"FUK$1963","v":0},{"$f":"FUL$1963","v":0},{"$f":"FUM$1963","v":0},{"$f":"FUN$1963","v":0},{"$f":"FUO$1963","v":0},{"$f":"FUP$1963","v":0},{"$f":"FUQ$1963","v":0},{"$f":"FUR$1963","v":0},{"$f":"FUS$1963","v":0},{"$f":"FUT$1963","v":0},{"$f":"FUU$1963","v":0},{"$f":"FUV$1963","v":0},{"$f":"FUW$1963","v":0},{"$f":"FUX$1963","v":0},{"$f":"FUY$1963","v":0},{"$f":"FUZ$1963","v":0},{"$f":"FVA$1963","v":0},{"$f":"FVB$1963","v":0},{"$f":"FVC$1963","v":0},{"$f":"FVD$1963","v":0},{"$f":"FVE$1963","v":0},{"$f":"FVF$1963","v":0},{"$f":"FVG$1963","v":0},{"$f":"FVH$1963","v":0},{"$f":"FVI$1963","v":0},{"$f":"FVJ$1963","v":0},{"$f":"FVK$1963","v":0},{"$f":"FVL$1963","v":0},{"$f":"FVM$1963","v":0},{"$f":"FVN$1963","v":0},{"$f":"FVO$1963","v":0},{"$f":"FVP$1963","v":0},{"$f":"FVQ$1963","v":0},{"$f":"FVR$1963","v":0},{"$f":"FVS$1963","v":0},{"$f":"FVT$1963","v":0},{"$f":"FVU$1963","v":0},{"$f":"FVV$1963","v":0},{"$f":"FVW$1963","v":0},{"$f":"FVX$1963","v":0},{"$f":"FVY$1963","v":0},{"$f":"FVZ$1963","v":0},{"$f":"FWA$1963","v":0},{"$f":"FWB$1963","v":0},{"$f":"FWC$1963","v":0},{"$f":"FWD$1963","v":0},{"$f":"FWE$1963","v":0},{"$f":"FWF$1963","v":0},{"$f":"FWG$1963","v":0},{"$f":"FWH$1963","v":0},{"$f":"FWI$1963","v":0},{"$f":"FWJ$1963","v":0},{"$f":"FWK$1963","v":0},{"$f":"FWL$1963","v":0},{"$f":"FWM$1963","v":0},{"$f":"FWN$1963","v":0},{"$f":"FWO$1963","v":0},{"$f":"FWP$1963","v":0},{"$f":"FWQ$1963","v":0},{"$f":"FWR$1963","v":0},{"$f":"FWS$1963","v":0},{"$f":"FWT$1963","v":0},{"$f":"FWU$1963","v":0},{"$f":"FWV$1963","v":0},{"$f":"FWW$1963","v":0},{"$f":"FWX$1963","v":0},{"$f":"FWY$1963","v":0},{"$f":"FWZ$1963","v":0},{"$f":"FXA$1963","v":0},{"$f":"FXB$1963","v":0},{"$f":"FXC$1963","v":0},{"$f":"FXD$1963","v":0},{"$f":"FXE$1963","v":0},{"$f":"FXF$1963","v":0},{"$f":"FXG$1963","v":0},{"$f":"FXH$1963","v":0},{"$f":"FXI$1963","v":0},{"$f":"FXJ$1963","v":0},{"$f":"FXK$1963","v":0},{"$f":"FXL$1963","v":0},{"$f":"FXM$1963","v":0},{"$f":"FXN$1963","v":0},{"$f":"FXO$1963","v":0},{"$f":"FXP$1963","v":0},{"$f":"FXQ$1963","v":0},{"$f":"FXR$1963","v":0},{"$f":"FXS$1963","v":0},{"$f":"FXT$1963","v":0},{"$f":"FXU$1963","v":0},{"$f":"FXV$1963","v":0},{"$f":"FXW$1963","v":0},{"$f":"FXX$1963","v":0},{"$f":"FXY$1963","v":0},{"$f":"FXZ$1963","v":0},{"$f":"FYA$1963","v":0},{"$f":"FYB$1963","v":0},{"$f":"FYC$1963","v":0},{"$f":"FYD$1963","v":0},{"$f":"FYE$1963","v":0},{"$f":"FYF$1963","v":0},{"$f":"FYG$1963","v":0},{"$f":"FYH$1963","v":0},{"$f":"FYI$1963","v":0},{"$f":"FYJ$1963","v":0},{"$f":"FYK$1963","v":0},{"$f":"FYL$1963","v":0},{"$f":"FYM$1963","v":0},{"$f":"FYN$1963","v":0},{"$f":"FYO$1963","v":0},{"$f":"FYP$1963","v":0},{"$f":"FYQ$1963","v":0},{"$f":"FYR$1963","v":0},{"$f":"FYS$1963","v":0},{"$f":"FYT$1963","v":0},{"$f":"FYU$1963","v":0},{"$f":"FYV$1963","v":0},{"$f":"FYW$1963","v":0},{"$f":"FYX$1963","v":0},{"$f":"FYY$1963","v":0},{"$f":"FYZ$1963","v":0},{"$f":"FZA$1963","v":0},{"$f":"FZB$1963","v":0},{"$f":"FZC$1963","v":0},{"$f":"FZD$1963","v":0},{"$f":"FZE$1963","v":0},{"$f":"FZF$1963","v":0},{"$f":"FZG$1963","v":0},{"$f":"FZH$1963","v":0},{"$f":"FZI$1963","v":0},{"$f":"FZJ$1963","v":0},{"$f":"FZK$1963","v":0},{"$f":"FZL$1963","v":0},{"$f":"FZM$1963","v":0},{"$f":"FZN$1963","v":0},{"$f":"FZO$1963","v":0},{"$f":"FZP$1963","v":0},{"$f":"FZQ$1963","v":0},{"$f":"FZR$1963","v":0},{"$f":"FZS$1963","v":0},{"$f":"FZT$1963","v":0},{"$f":"FZU$1963","v":0},{"$f":"FZV$1963","v":0},{"$f":"FZW$1963","v":0},{"$f":"FZX$1963","v":0},{"$f":"FZY$1963","v":0},{"$f":"FZZ$1963","v":0},{"$f":"GAA$1963","v":0},{"$f":"GAB$1963","v":0},{"$f":"GAC$1963","v":0},{"$f":"GAD$1963","v":0},{"$f":"GAE$1963","v":0},{"$f":"GAF$1963","v":0},{"$f":"GAG$1963","v":0},{"$f":"GAH$1963","v":0},{"$f":"GAI$1963","v":0},{"$f":"GAJ$1963","v":0},{"$f":"GAK$1963","v":0},{"$f":"GAL$1963","v":0},{"$f":"GAM$1963","v":0},{"$f":"GAN$1963","v":0},{"$f":"GAO$1963","v":0},{"$f":"GAP$1963","v":0},{"$f":"GAQ$1963","v":0},{"$f":"GAR$1963","v":0},{"$f":"GAS$1963","v":0},{"$f":"GAT$1963","v":0},{"$f":"GAU$1963","v":0},{"$f":"GAV$1963","v":0},{"$f":"GAW$1963","v":0},{"$f":"GAX$1963","v":0},{"$f":"GAY$1963","v":0},{"$f":"GAZ$1963","v":0},{"$f":"GBA$1963","v":0},{"$f":"GBB$1963","v":0},{"$f":"GBC$1963","v":0},{"$f":"GBD$1963","v":0},{"$f":"GBE$1963","v":0},{"$f":"GBF$1963","v":0},{"$f":"GBG$1963","v":0},{"$f":"GBH$1963","v":0},{"$f":"GBI$1963","v":0},{"$f":"GBJ$1963","v":0},{"$f":"GBK$1963","v":0},{"$f":"GBL$1963","v":0},{"$f":"GBM$1963","v":0},{"$f":"GBN$1963","v":0},{"$f":"GBO$1963","v":0},{"$f":"GBP$1963","v":0},{"$f":"GBQ$1963","v":0},{"$f":"GBR$1963","v":0},{"$f":"GBS$1963","v":0},{"$f":"GBT$1963","v":0},{"$f":"GBU$1963","v":0},{"$f":"GBV$1963","v":0},{"$f":"GBW$1963","v":0},{"$f":"GBX$1963","v":0},{"$f":"GBY$1963","v":0},{"$f":"GBZ$1963","v":0},{"$f":"GCA$1963","v":0},{"$f":"GCB$1963","v":0},{"$f":"GCC$1963","v":0},{"$f":"GCD$1963","v":0},{"$f":"GCE$1963","v":0},{"$f":"GCF$1963","v":0},{"$f":"GCG$1963","v":0},{"$f":"GCH$1963","v":0},{"$f":"GCI$1963","v":0},{"$f":"GCJ$1963","v":0},{"$f":"GCK$1963","v":0},{"$f":"GCL$1963","v":0},{"$f":"GCM$1963","v":0},{"$f":"GCN$1963","v":0},{"$f":"GCO$1963","v":0},{"$f":"GCP$1963","v":0},{"$f":"GCQ$1963","v":0},{"$f":"GCR$1963","v":0},{"$f":"GCS$1963","v":0},{"$f":"GCT$1963","v":0},{"$f":"GCU$1963","v":0},{"$f":"GCV$1963","v":0},{"$f":"GCW$1963","v":0},{"$f":"GCX$1963","v":0},{"$f":"GCY$1963","v":0},{"$f":"GCZ$1963","v":0},{"$f":"GDA$1963","v":0},{"$f":"GDB$1963","v":0},{"$f":"GDC$1963","v":0},{"$f":"GDD$1963","v":0},{"$f":"GDE$1963","v":0},{"$f":"GDF$1963","v":0},{"$f":"GDG$1963","v":0},{"$f":"GDH$1963","v":0},{"$f":"GDI$1963","v":0},{"$f":"GDJ$1963","v":0},{"$f":"GDK$1963","v":0},{"$f":"GDL$1963","v":0},{"$f":"GDM$1963","v":0},{"$f":"GDN$1963","v":0},{"$f":"GDO$1963","v":0},{"$f":"GDP$1963","v":0},{"$f":"GDQ$1963","v":0},{"$f":"GDR$1963","v":0},{"$f":"GDS$1963","v":0},{"$f":"GDT$1963","v":0},{"$f":"GDU$1963","v":0},{"$f":"GDV$1963","v":0},{"$f":"GDW$1963","v":0},{"$f":"GDX$1963","v":0},{"$f":"GDY$1963","v":0},{"$f":"GDZ$1963","v":0},{"$f":"GEA$1963","v":0},{"$f":"GEB$1963","v":0},{"$f":"GEC$1963","v":0},{"$f":"GED$1963","v":0},{"$f":"GEE$1963","v":0},{"$f":"GEF$1963","v":0},{"$f":"GEG$1963","v":0},{"$f":"GEH$1963","v":0},{"$f":"GEI$1963","v":0},{"$f":"GEJ$1963","v":0},{"$f":"GEK$1963","v":0},{"$f":"GEL$1963","v":0},{"$f":"GEM$1963","v":0},{"$f":"GEN$1963","v":0},{"$f":"GEO$1963","v":0},{"$f":"GEP$1963","v":0},{"$f":"GEQ$1963","v":0},{"$f":"GER$1963","v":0},{"$f":"GES$1963","v":0},{"$f":"GET$1963","v":0},{"$f":"GEU$1963","v":0},{"$f":"GEV$1963","v":0},{"$f":"GEW$1963","v":0},{"$f":"GEX$1963","v":0},{"$f":"GEY$1963","v":0},{"$f":"GEZ$1963","v":0},{"$f":"GFA$1963","v":0},{"$f":"GFB$1963","v":0},{"$f":"GFC$1963","v":0},{"$f":"GFD$1963","v":0},{"$f":"GFE$1963","v":0},{"$f":"GFF$1963","v":0},{"$f":"GFG$1963","v":0},{"$f":"GFH$1963","v":0},{"$f":"GFI$1963","v":0},{"$f":"GFJ$1963","v":0},{"$f":"GFK$1963","v":0},{"$f":"GFL$1963","v":0},{"$f":"GFM$1963","v":0},{"$f":"GFN$1963","v":0},{"$f":"GFO$1963","v":0},{"$f":"GFP$1963","v":0},{"$f":"GFQ$1963","v":0},{"$f":"GFR$1963","v":0},{"$f":"GFS$1963","v":0},{"$f":"GFT$1963","v":0},{"$f":"GFU$1963","v":0},{"$f":"GFV$1963","v":0},{"$f":"GFW$1963","v":0},{"$f":"GFX$1963","v":0},{"$f":"GFY$1963","v":0},{"$f":"GFZ$1963","v":0},{"$f":"GGA$1963","v":0},{"$f":"GGB$1963","v":0},{"$f":"GGC$1963","v":0},{"$f":"GGD$1963","v":0},{"$f":"GGE$1963","v":0},{"$f":"GGF$1963","v":0},{"$f":"GGG$1963","v":0},{"$f":"GGH$1963","v":0},{"$f":"GGI$1963","v":0},{"$f":"GGJ$1963","v":0},{"$f":"GGK$1963","v":0},{"$f":"GGL$1963","v":0},{"$f":"GGM$1963","v":0},{"$f":"GGN$1963","v":0},{"$f":"GGO$1963","v":0},{"$f":"GGP$1963","v":0},{"$f":"GGQ$1963","v":0},{"$f":"GGR$1963","v":0},{"$f":"GGS$1963","v":0},{"$f":"GGT$1963","v":0},{"$f":"GGU$1963","v":0},{"$f":"GGV$1963","v":0},{"$f":"GGW$1963","v":0},{"$f":"GGX$1963","v":0},{"$f":"GGY$1963","v":0},{"$f":"GGZ$1963","v":0},{"$f":"GHA$1963","v":0},{"$f":"GHB$1963","v":0},{"$f":"GHC$1963","v":0},{"$f":"GHD$1963","v":0},{"$f":"GHE$1963","v":0},{"$f":"GHF$1963","v":0},{"$f":"GHG$1963","v":0},{"$f":"GHH$1963","v":0},{"$f":"GHI$1963","v":0},{"$f":"GHJ$1963","v":0},{"$f":"GHK$1963","v":0},{"$f":"GHL$1963","v":0},{"$f":"GHM$1963","v":0},{"$f":"GHN$1963","v":0},{"$f":"GHO$1963","v":0},{"$f":"GHP$1963","v":0},{"$f":"GHQ$1963","v":0},{"$f":"GHR$1963","v":0},{"$f":"GHS$1963","v":0},{"$f":"GHT$1963","v":0},{"$f":"GHU$1963","v":0},{"$f":"GHV$1963","v":0},{"$f":"GHW$1963","v":0},{"$f":"GHX$1963","v":0},{"$f":"GHY$1963","v":0},{"$f":"GHZ$1963","v":0},{"$f":"GIA$1963","v":0},{"$f":"GIB$1963","v":0},{"$f":"GIC$1963","v":0},{"$f":"GID$1963","v":0},{"$f":"GIE$1963","v":0},{"$f":"GIF$1963","v":0},{"$f":"GIG$1963","v":0},{"$f":"GIH$1963","v":0},{"$f":"GII$1963","v":0},{"$f":"GIJ$1963","v":0},{"$f":"GIK$1963","v":0},{"$f":"GIL$1963","v":0},{"$f":"GIM$1963","v":0},{"$f":"GIN$1963","v":0},{"$f":"GIO$1963","v":0},{"$f":"GIP$1963","v":0},{"$f":"GIQ$1963","v":0},{"$f":"GIR$1963","v":0},{"$f":"GIS$1963","v":0},{"$f":"GIT$1963","v":0},{"$f":"GIU$1963","v":0},{"$f":"GIV$1963","v":0},{"$f":"GIW$1963","v":0},{"$f":"GIX$1963","v":0},{"$f":"GIY$1963","v":0},{"$f":"GIZ$1963","v":0},{"$f":"GJA$1963","v":0},{"$f":"GJB$1963","v":0},{"$f":"GJC$1963","v":0},{"$f":"GJD$1963","v":0},{"$f":"GJE$1963","v":0},{"$f":"GJF$1963","v":0},{"$f":"GJG$1963","v":0},{"$f":"GJH$1963","v":0},{"$f":"GJI$1963","v":0},{"$f":"GJJ$1963","v":0},{"$f":"GJK$1963","v":0},{"$f":"GJL$1963","v":0},{"$f":"GJM$1963","v":0},{"$f":"GJN$1963","v":0},{"$f":"GJO$1963","v":0},{"$f":"GJP$1963","v":0},{"$f":"GJQ$1963","v":0},{"$f":"GJR$1963","v":0},{"$f":"GJS$1963","v":0},{"$f":"GJT$1963","v":0},{"$f":"GJU$1963","v":0},{"$f":"GJV$1963","v":0},{"$f":"GJW$1963","v":0},{"$f":"GJX$1963","v":0},{"$f":"GJY$1963","v":0},{"$f":"GJZ$1963","v":0},{"$f":"GKA$1963","v":0},{"$f":"GKB$1963","v":0},{"$f":"GKC$1963","v":0},{"$f":"GKD$1963","v":0},{"$f":"GKE$1963","v":0},{"$f":"GKF$1963","v":0},{"$f":"GKG$1963","v":0},{"$f":"GKH$1963","v":0},{"$f":"GKI$1963","v":0},{"$f":"GKJ$1963","v":0},{"$f":"GKK$1963","v":0},{"$f":"GKL$1963","v":0},{"$f":"GKM$1963","v":0},{"$f":"GKN$1963","v":0},{"$f":"GKO$1963","v":0},{"$f":"GKP$1963","v":0},{"$f":"GKQ$1963","v":0},{"$f":"GKR$1963","v":0},{"$f":"GKS$1963","v":0},{"$f":"GKT$1963","v":0},{"$f":"GKU$1963","v":0},{"$f":"GKV$1963","v":0},{"$f":"GKW$1963","v":0},{"$f":"GKX$1963","v":0},{"$f":"GKY$1963","v":0},{"$f":"GKZ$1963","v":0},{"$f":"GLA$1963","v":0},{"$f":"GLB$1963","v":0},{"$f":"GLC$1963","v":0},{"$f":"GLD$1963","v":0},{"$f":"GLE$1963","v":0},{"$f":"GLF$1963","v":0},{"$f":"GLG$1963","v":0},{"$f":"GLH$1963","v":0},{"$f":"GLI$1963","v":0},{"$f":"GLJ$1963","v":0},{"$f":"GLK$1963","v":0},{"$f":"GLL$1963","v":0},{"$f":"GLM$1963","v":0},{"$f":"GLN$1963","v":0},{"$f":"GLO$1963","v":0},{"$f":"GLP$1963","v":0},{"$f":"GLQ$1963","v":0},{"$f":"GLR$1963","v":0},{"$f":"GLS$1963","v":0},{"$f":"GLT$1963","v":0},{"$f":"GLU$1963","v":0},{"$f":"GLV$1963","v":0},{"$f":"GLW$1963","v":0},{"$f":"GLX$1963","v":0},{"$f":"GLY$1963","v":0},{"$f":"GLZ$1963","v":0},{"$f":"GMA$1963","v":0},{"$f":"GMB$1963","v":0},{"$f":"GMC$1963","v":0},{"$f":"GMD$1963","v":0},{"$f":"GME$1963","v":0},{"$f":"GMF$1963","v":0},{"$f":"GMG$1963","v":0},{"$f":"GMH$1963","v":0},{"$f":"GMI$1963","v":0},{"$f":"GMJ$1963","v":0},{"$f":"GMK$1963","v":0},{"$f":"GML$1963","v":0},{"$f":"GMM$1963","v":0},{"$f":"GMN$1963","v":0},{"$f":"GMO$1963","v":0},{"$f":"GMP$1963","v":0},{"$f":"GMQ$1963","v":0},{"$f":"GMR$1963","v":0},{"$f":"GMS$1963","v":0},{"$f":"GMT$1963","v":0},{"$f":"GMU$1963","v":0},{"$f":"GMV$1963","v":0},{"$f":"GMW$1963","v":0},{"$f":"GMX$1963","v":0},{"$f":"GMY$1963","v":0},{"$f":"GMZ$1963","v":0},{"$f":"GNA$1963","v":0},{"$f":"GNB$1963","v":0},{"$f":"GNC$1963","v":0},{"$f":"GND$1963","v":0},{"$f":"GNE$1963","v":0},{"$f":"GNF$1963","v":0},{"$f":"GNG$1963","v":0},{"$f":"GNH$1963","v":0},{"$f":"GNI$1963","v":0},{"$f":"GNJ$1963","v":0},{"$f":"GNK$1963","v":0},{"$f":"GNL$1963","v":0},{"$f":"GNM$1963","v":0},{"$f":"GNN$1963","v":0},{"$f":"GNO$1963","v":0},{"$f":"GNP$1963","v":0},{"$f":"GNQ$1963","v":0},{"$f":"GNR$1963","v":0},{"$f":"GNS$1963","v":0},{"$f":"GNT$1963","v":0},{"$f":"GNU$1963","v":0},{"$f":"GNV$1963","v":0},{"$f":"GNW$1963","v":0},{"$f":"GNX$1963","v":0},{"$f":"GNY$1963","v":0},{"$f":"GNZ$1963","v":0},{"$f":"GOA$1963","v":0},{"$f":"GOB$1963","v":0},{"$f":"GOC$1963","v":0},{"$f":"GOD$1963","v":0},{"$f":"GOE$1963","v":0},{"$f":"GOF$1963","v":0},{"$f":"GOG$1963","v":0},{"$f":"GOH$1963","v":0},{"$f":"GOI$1963","v":0},{"$f":"GOJ$1963","v":0},{"$f":"GOK$1963","v":0},{"$f":"GOL$1963","v":0},{"$f":"GOM$1963","v":0},{"$f":"GON$1963","v":0},{"$f":"GOO$1963","v":0},{"$f":"GOP$1963","v":0},{"$f":"GOQ$1963","v":0},{"$f":"GOR$1963","v":0},{"$f":"GOS$1963","v":0},{"$f":"GOT$1963","v":0},{"$f":"GOU$1963","v":0},{"$f":"GOV$1963","v":0},{"$f":"GOW$1963","v":0},{"$f":"GOX$1963","v":0},{"$f":"GOY$1963","v":0},{"$f":"GOZ$1963","v":0},{"$f":"GPA$1963","v":0},{"$f":"GPB$1963","v":0},{"$f":"GPC$1963","v":0},{"$f":"GPD$1963","v":0},{"$f":"GPE$1963","v":0},{"$f":"GPF$1963","v":0},{"$f":"GPG$1963","v":0},{"$f":"GPH$1963","v":0},{"$f":"GPI$1963","v":0},{"$f":"GPJ$1963","v":0},{"$f":"GPK$1963","v":0},{"$f":"GPL$1963","v":0},{"$f":"GPM$1963","v":0},{"$f":"GPN$1963","v":0},{"$f":"GPO$1963","v":0},{"$f":"GPP$1963","v":0},{"$f":"GPQ$1963","v":0},{"$f":"GPR$1963","v":0},{"$f":"GPS$1963","v":0},{"$f":"GPT$1963","v":0},{"$f":"GPU$1963","v":0},{"$f":"GPV$1963","v":0},{"$f":"GPW$1963","v":0},{"$f":"GPX$1963","v":0},{"$f":"GPY$1963","v":0},{"$f":"GPZ$1963","v":0},{"$f":"GQA$1963","v":0},{"$f":"GQB$1963","v":0},{"$f":"GQC$1963","v":0},{"$f":"GQD$1963","v":0},{"$f":"GQE$1963","v":0},{"$f":"GQF$1963","v":0},{"$f":"GQG$1963","v":0},{"$f":"GQH$1963","v":0},{"$f":"GQI$1963","v":0},{"$f":"GQJ$1963","v":0},{"$f":"GQK$1963","v":0},{"$f":"GQL$1963","v":0},{"$f":"GQM$1963","v":0},{"$f":"GQN$1963","v":0},{"$f":"GQO$1963","v":0},{"$f":"GQP$1963","v":0},{"$f":"GQQ$1963","v":0},{"$f":"GQR$1963","v":0},{"$f":"GQS$1963","v":0},{"$f":"GQT$1963","v":0},{"$f":"GQU$1963","v":0},{"$f":"GQV$1963","v":0},{"$f":"GQW$1963","v":0},{"$f":"GQX$1963","v":0},{"$f":"GQY$1963","v":0},{"$f":"GQZ$1963","v":0},{"$f":"GRA$1963","v":0},{"$f":"GRB$1963","v":0},{"$f":"GRC$1963","v":0},{"$f":"GRD$1963","v":0},{"$f":"GRE$1963","v":0},{"$f":"GRF$1963","v":0},{"$f":"GRG$1963","v":0},{"$f":"GRH$1963","v":0},{"$f":"GRI$1963","v":0},{"$f":"GRJ$1963","v":0},{"$f":"GRK$1963","v":0},{"$f":"GRL$1963","v":0},{"$f":"GRM$1963","v":0},{"$f":"GRN$1963","v":0},{"$f":"GRO$1963","v":0},{"$f":"GRP$1963","v":0},{"$f":"GRQ$1963","v":0},{"$f":"GRR$1963","v":0},{"$f":"GRS$1963","v":0},{"$f":"GRT$1963","v":0},{"$f":"GRU$1963","v":0},{"$f":"GRV$1963","v":0},{"$f":"GRW$1963","v":0},{"$f":"GRX$1963","v":0},{"$f":"GRY$1963","v":0},{"$f":"GRZ$1963","v":0},{"$f":"GSA$1963","v":0},{"$f":"GSB$1963","v":0},{"$f":"GSC$1963","v":0},{"$f":"GSD$1963","v":0},{"$f":"GSE$1963","v":0},{"$f":"GSF$1963","v":0},{"$f":"GSG$1963","v":0},{"$f":"GSH$1963","v":0},{"$f":"GSI$1963","v":0},{"$f":"GSJ$1963","v":0},{"$f":"GSK$1963","v":0},{"$f":"GSL$1963","v":0},{"$f":"GSM$1963","v":0},{"$f":"GSN$1963","v":0},{"$f":"GSO$1963","v":0},{"$f":"GSP$1963","v":0},{"$f":"GSQ$1963","v":0},{"$f":"GSR$1963","v":0},{"$f":"GSS$1963","v":0},{"$f":"GST$1963","v":0},{"$f":"GSU$1963","v":0},{"$f":"GSV$1963","v":0},{"$f":"GSW$1963","v":0},{"$f":"GSX$1963","v":0},{"$f":"GSY$1963","v":0},{"$f":"GSZ$1963","v":0},{"$f":"GTA$1963","v":0},{"$f":"GTB$1963","v":0},{"$f":"GTC$1963","v":0},{"$f":"GTD$1963","v":0},{"$f":"GTE$1963","v":0},{"$f":"GTF$1963","v":0},{"$f":"GTG$1963","v":0},{"$f":"GTH$1963","v":0},{"$f":"GTI$1963","v":0},{"$f":"GTJ$1963","v":0},{"$f":"GTK$1963","v":0},{"$f":"GTL$1963","v":0},{"$f":"GTM$1963","v":0},{"$f":"GTN$1963","v":0},{"$f":"GTO$1963","v":0},{"$f":"GTP$1963","v":0},{"$f":"GTQ$1963","v":0},{"$f":"GTR$1963","v":0},{"$f":"GTS$1963","v":0},{"$f":"GTT$1963","v":0},{"$f":"GTU$1963","v":0},{"$f":"GTV$1963","v":0},{"$f":"GTW$1963","v":0},{"$f":"GTX$1963","v":0},{"$f":"GTY$1963","v":0},{"$f":"GTZ$1963","v":0},{"$f":"GUA$1963","v":0},{"$f":"GUB$1963","v":0},{"$f":"GUC$1963","v":0},{"$f":"GUD$1963","v":0},{"$f":"GUE$1963","v":0},{"$f":"GUF$1963","v":0},{"$f":"GUG$1963","v":0},{"$f":"GUH$1963","v":0},{"$f":"GUI$1963","v":0},{"$f":"GUJ$1963","v":0},{"$f":"GUK$1963","v":0},{"$f":"GUL$1963","v":0},{"$f":"GUM$1963","v":0},{"$f":"GUN$1963","v":0},{"$f":"GUO$1963","v":0},{"$f":"GUP$1963","v":0},{"$f":"GUQ$1963","v":0},{"$f":"GUR$1963","v":0},{"$f":"GUS$1963","v":0},{"$f":"GUT$1963","v":0},{"$f":"GUU$1963","v":0},{"$f":"GUV$1963","v":0},{"$f":"GUW$1963","v":0},{"$f":"GUX$1963","v":0},{"$f":"GUY$1963","v":0},{"$f":"GUZ$1963","v":0},{"$f":"GVA$1963","v":0},{"$f":"GVB$1963","v":0},{"$f":"GVC$1963","v":0},{"$f":"GVD$1963","v":0},{"$f":"GVE$1963","v":0},{"$f":"GVF$1963","v":0},{"$f":"GVG$1963","v":0},{"$f":"GVH$1963","v":0},{"$f":"GVI$1963","v":0},{"$f":"GVJ$1963","v":0},{"$f":"GVK$1963","v":0},{"$f":"GVL$1963","v":0},{"$f":"GVM$1963","v":0},{"$f":"GVN$1963","v":0},{"$f":"GVO$1963","v":0},{"$f":"GVP$1963","v":0},{"$f":"GVQ$1963","v":0},{"$f":"GVR$1963","v":0},{"$f":"GVS$1963","v":0},{"$f":"GVT$1963","v":0},{"$f":"GVU$1963","v":0},{"$f":"GVV$1963","v":0},{"$f":"GVW$1963","v":0},{"$f":"GVX$1963","v":0},{"$f":"GVY$1963","v":0},{"$f":"GVZ$1963","v":0},{"$f":"GWA$1963","v":0},{"$f":"GWB$1963","v":0},{"$f":"GWC$1963","v":0},{"$f":"GWD$1963","v":0},{"$f":"GWE$1963","v":0},{"$f":"GWF$1963","v":0},{"$f":"GWG$1963","v":0},{"$f":"GWH$1963","v":0},{"$f":"GWI$1963","v":0},{"$f":"GWJ$1963","v":0},{"$f":"GWK$1963","v":0},{"$f":"GWL$1963","v":0},{"$f":"GWM$1963","v":0},{"$f":"GWN$1963","v":0},{"$f":"GWO$1963","v":0},{"$f":"GWP$1963","v":0},{"$f":"GWQ$1963","v":0},{"$f":"GWR$1963","v":0},{"$f":"GWS$1963","v":0},{"$f":"GWT$1963","v":0},{"$f":"GWU$1963","v":0},{"$f":"GWV$1963","v":0},{"$f":"GWW$1963","v":0},{"$f":"GWX$1963","v":0},{"$f":"GWY$1963","v":0},{"$f":"GWZ$1963","v":0},{"$f":"GXA$1963","v":0},{"$f":"GXB$1963","v":0},{"$f":"GXC$1963","v":0},{"$f":"GXD$1963","v":0},{"$f":"GXE$1963","v":0},{"$f":"GXF$1963","v":0},{"$f":"GXG$1963","v":0},{"$f":"GXH$1963","v":0},{"$f":"GXI$1963","v":0},{"$f":"GXJ$1963","v":0},{"$f":"GXK$1963","v":0},{"$f":"GXL$1963","v":0},{"$f":"GXM$1963","v":0},{"$f":"GXN$1963","v":0},{"$f":"GXO$1963","v":0},{"$f":"GXP$1963","v":0},{"$f":"GXQ$1963","v":0},{"$f":"GXR$1963","v":0},{"$f":"GXS$1963","v":0},{"$f":"GXT$1963","v":0},{"$f":"GXU$1963","v":0},{"$f":"GXV$1963","v":0},{"$f":"GXW$1963","v":0},{"$f":"GXX$1963","v":0},{"$f":"GXY$1963","v":0},{"$f":"GXZ$1963","v":0},{"$f":"GYA$1963","v":0},{"$f":"GYB$1963","v":0},{"$f":"GYC$1963","v":0},{"$f":"GYD$1963","v":0},{"$f":"GYE$1963","v":0},{"$f":"GYF$1963","v":0},{"$f":"GYG$1963","v":0},{"$f":"GYH$1963","v":0},{"$f":"GYI$1963","v":0},{"$f":"GYJ$1963","v":0},{"$f":"GYK$1963","v":0},{"$f":"GYL$1963","v":0},{"$f":"GYM$1963","v":0},{"$f":"GYN$1963","v":0},{"$f":"GYO$1963","v":0},{"$f":"GYP$1963","v":0},{"$f":"GYQ$1963","v":0},{"$f":"GYR$1963","v":0},{"$f":"GYS$1963","v":0},{"$f":"GYT$1963","v":0},{"$f":"GYU$1963","v":0},{"$f":"GYV$1963","v":0},{"$f":"GYW$1963","v":0},{"$f":"GYX$1963","v":0},{"$f":"GYY$1963","v":0},{"$f":"GYZ$1963","v":0},{"$f":"GZA$1963","v":0},{"$f":"GZB$1963","v":0},{"$f":"GZC$1963","v":0},{"$f":"GZD$1963","v":0},{"$f":"GZE$1963","v":0},{"$f":"GZF$1963","v":0},{"$f":"GZG$1963","v":0},{"$f":"GZH$1963","v":0},{"$f":"GZI$1963","v":0},{"$f":"GZJ$1963","v":0},{"$f":"GZK$1963","v":0},{"$f":"GZL$1963","v":0},{"$f":"GZM$1963","v":0},{"$f":"GZN$1963","v":0},{"$f":"GZO$1963","v":0},{"$f":"GZP$1963","v":0},{"$f":"GZQ$1963","v":0},{"$f":"GZR$1963","v":0},{"$f":"GZS$1963","v":0},{"$f":"GZT$1963","v":0},{"$f":"GZU$1963","v":0},{"$f":"GZV$1963","v":0},{"$f":"GZW$1963","v":0},{"$f":"GZX$1963","v":0},{"$f":"GZY$1963","v":0},{"$f":"GZZ$1963","v":0},{"$f":"HAA$1963","v":0},{"$f":"HAB$1963","v":0},{"$f":"HAC$1963","v":0},{"$f":"HAD$1963","v":0},{"$f":"HAE$1963","v":0},{"$f":"HAF$1963","v":0},{"$f":"HAG$1963","v":0},{"$f":"HAH$1963","v":0},{"$f":"HAI$1963","v":0},{"$f":"HAJ$1963","v":0},{"$f":"HAK$1963","v":0},{"$f":"HAL$1963","v":0},{"$f":"HAM$1963","v":0},{"$f":"HAN$1963","v":0},{"$f":"HAO$1963","v":0},{"$f":"HAP$1963","v":0},{"$f":"HAQ$1963","v":0},{"$f":"HAR$1963","v":0},{"$f":"HAS$1963","v":0},{"$f":"HAT$1963","v":0},{"$f":"HAU$1963","v":0},{"$f":"HAV$1963","v":0},{"$f":"HAW$1963","v":0},{"$f":"HAX$1963","v":0},{"$f":"HAY$1963","v":0},{"$f":"HAZ$1963","v":0},{"$f":"HBA$1963","v":0},{"$f":"HBB$1963","v":0},{"$f":"HBC$1963","v":0},{"$f":"HBD$1963","v":0},{"$f":"HBE$1963","v":0},{"$f":"HBF$1963","v":0},{"$f":"HBG$1963","v":0},{"$f":"HBH$1963","v":0},{"$f":"HBI$1963","v":0},{"$f":"HBJ$1963","v":0},{"$f":"HBK$1963","v":0},{"$f":"HBL$1963","v":0},{"$f":"HBM$1963","v":0},{"$f":"HBN$1963","v":0},{"$f":"HBO$1963","v":0},{"$f":"HBP$1963","v":0},{"$f":"HBQ$1963","v":0},{"$f":"HBR$1963","v":0},{"$f":"HBS$1963","v":0},{"$f":"HBT$1963","v":0},{"$f":"HBU$1963","v":0},{"$f":"HBV$1963","v":0},{"$f":"HBW$1963","v":0},{"$f":"HBX$1963","v":0},{"$f":"HBY$1963","v":0},{"$f":"HBZ$1963","v":0},{"$f":"HCA$1963","v":0},{"$f":"HCB$1963","v":0},{"$f":"HCC$1963","v":0},{"$f":"HCD$1963","v":0},{"$f":"HCE$1963","v":0},{"$f":"HCF$1963","v":0},{"$f":"HCG$1963","v":0},{"$f":"HCH$1963","v":0},{"$f":"HCI$1963","v":0},{"$f":"HCJ$1963","v":0},{"$f":"HCK$1963","v":0},{"$f":"HCL$1963","v":0},{"$f":"HCM$1963","v":0},{"$f":"HCN$1963","v":0},{"$f":"HCO$1963","v":0},{"$f":"HCP$1963","v":0},{"$f":"HCQ$1963","v":0},{"$f":"HCR$1963","v":0},{"$f":"HCS$1963","v":0},{"$f":"HCT$1963","v":0},{"$f":"HCU$1963","v":0},{"$f":"HCV$1963","v":0},{"$f":"HCW$1963","v":0},{"$f":"HCX$1963","v":0},{"$f":"HCY$1963","v":0},{"$f":"HCZ$1963","v":0},{"$f":"HDA$1963","v":0},{"$f":"HDB$1963","v":0},{"$f":"HDC$1963","v":0},{"$f":"HDD$1963","v":0},{"$f":"HDE$1963","v":0},{"$f":"HDF$1963","v":0},{"$f":"HDG$1963","v":0},{"$f":"HDH$1963","v":0},{"$f":"HDI$1963","v":0},{"$f":"HDJ$1963","v":0},{"$f":"HDK$1963","v":0},{"$f":"HDL$1963","v":0},{"$f":"HDM$1963","v":0},{"$f":"HDN$1963","v":0},{"$f":"HDO$1963","v":0},{"$f":"HDP$1963","v":0},{"$f":"HDQ$1963","v":0},{"$f":"HDR$1963","v":0},{"$f":"HDS$1963","v":0},{"$f":"HDT$1963","v":0},{"$f":"HDU$1963","v":0},{"$f":"HDV$1963","v":0},{"$f":"HDW$1963","v":0},{"$f":"HDX$1963","v":0},{"$f":"HDY$1963","v":0},{"$f":"HDZ$1963","v":0},{"$f":"HEA$1963","v":0},{"$f":"HEB$1963","v":0},{"$f":"HEC$1963","v":0},{"$f":"HED$1963","v":0},{"$f":"HEE$1963","v":0},{"$f":"HEF$1963","v":0},{"$f":"HEG$1963","v":0},{"$f":"HEH$1963","v":0},{"$f":"HEI$1963","v":0},{"$f":"HEJ$1963","v":0},{"$f":"HEK$1963","v":0},{"$f":"HEL$1963","v":0},{"$f":"HEM$1963","v":0},{"$f":"HEN$1963","v":0},{"$f":"HEO$1963","v":0},{"$f":"HEP$1963","v":0},{"$f":"HEQ$1963","v":0},{"$f":"HER$1963","v":0},{"$f":"HES$1963","v":0},{"$f":"HET$1963","v":0},{"$f":"HEU$1963","v":0},{"$f":"HEV$1963","v":0},{"$f":"HEW$1963","v":0},{"$f":"HEX$1963","v":0},{"$f":"HEY$1963","v":0},{"$f":"HEZ$1963","v":0},{"$f":"HFA$1963","v":0},{"$f":"HFB$1963","v":0},{"$f":"HFC$1963","v":0},{"$f":"HFD$1963","v":0},{"$f":"HFE$1963","v":0},{"$f":"HFF$1963","v":0},{"$f":"HFG$1963","v":0},{"$f":"HFH$1963","v":0},{"$f":"HFI$1963","v":0},{"$f":"HFJ$1963","v":0},{"$f":"HFK$1963","v":0},{"$f":"HFL$1963","v":0},{"$f":"HFM$1963","v":0},{"$f":"HFN$1963","v":0},{"$f":"HFO$1963","v":0},{"$f":"HFP$1963","v":0},{"$f":"HFQ$1963","v":0},{"$f":"HFR$1963","v":0},{"$f":"HFS$1963","v":0},{"$f":"HFT$1963","v":0},{"$f":"HFU$1963","v":0},{"$f":"HFV$1963","v":0},{"$f":"HFW$1963","v":0},{"$f":"HFX$1963","v":0},{"$f":"HFY$1963","v":0},{"$f":"HFZ$1963","v":0},{"$f":"HGA$1963","v":0},{"$f":"HGB$1963","v":0},{"$f":"HGC$1963","v":0},{"$f":"HGD$1963","v":0},{"$f":"HGE$1963","v":0},{"$f":"HGF$1963","v":0},{"$f":"HGG$1963","v":0},{"$f":"HGH$1963","v":0},{"$f":"HGI$1963","v":0},{"$f":"HGJ$1963","v":0},{"$f":"HGK$1963","v":0},{"$f":"HGL$1963","v":0},{"$f":"HGM$1963","v":0},{"$f":"HGN$1963","v":0},{"$f":"HGO$1963","v":0},{"$f":"HGP$1963","v":0},{"$f":"HGQ$1963","v":0},{"$f":"HGR$1963","v":0},{"$f":"HGS$1963","v":0},{"$f":"HGT$1963","v":0},{"$f":"HGU$1963","v":0},{"$f":"HGV$1963","v":0},{"$f":"HGW$1963","v":0},{"$f":"HGX$1963","v":0},{"$f":"HGY$1963","v":0},{"$f":"HGZ$1963","v":0},{"$f":"HHA$1963","v":0},{"$f":"HHB$1963","v":0},{"$f":"HHC$1963","v":0},{"$f":"HHD$1963","v":0},{"$f":"HHE$1963","v":0},{"$f":"HHF$1963","v":0},{"$f":"HHG$1963","v":0},{"$f":"HHH$1963","v":0},{"$f":"HHI$1963","v":0},{"$f":"HHJ$1963","v":0},{"$f":"HHK$1963","v":0},{"$f":"HHL$1963","v":0},{"$f":"HHM$1963","v":0},{"$f":"HHN$1963","v":0},{"$f":"HHO$1963","v":0},{"$f":"HHP$1963","v":0},{"$f":"HHQ$1963","v":0},{"$f":"HHR$1963","v":0},{"$f":"HHS$1963","v":0},{"$f":"HHT$1963","v":0},{"$f":"HHU$1963","v":0},{"$f":"HHV$1963","v":0},{"$f":"HHW$1963","v":0},{"$f":"HHX$1963","v":0},{"$f":"HHY$1963","v":0},{"$f":"HHZ$1963","v":0},{"$f":"HIA$1963","v":0},{"$f":"HIB$1963","v":0},{"$f":"HIC$1963","v":0},{"$f":"HID$1963","v":0},{"$f":"HIE$1963","v":0},{"$f":"HIF$1963","v":0},{"$f":"HIG$1963","v":0},{"$f":"HIH$1963","v":0},{"$f":"HII$1963","v":0},{"$f":"HIJ$1963","v":0},{"$f":"HIK$1963","v":0},{"$f":"HIL$1963","v":0},{"$f":"HIM$1963","v":0},{"$f":"HIN$1963","v":0},{"$f":"HIO$1963","v":0},{"$f":"HIP$1963","v":0},{"$f":"HIQ$1963","v":0},{"$f":"HIR$1963","v":0},{"$f":"HIS$1963","v":0},{"$f":"HIT$1963","v":0},{"$f":"HIU$1963","v":0},{"$f":"HIV$1963","v":0},{"$f":"HIW$1963","v":0},{"$f":"HIX$1963","v":0},{"$f":"HIY$1963","v":0},{"$f":"HIZ$1963","v":0},{"$f":"HJA$1963","v":0},{"$f":"HJB$1963","v":0},{"$f":"HJC$1963","v":0},{"$f":"HJD$1963","v":0},{"$f":"HJE$1963","v":0},{"$f":"HJF$1963","v":0},{"$f":"HJG$1963","v":0},{"$f":"HJH$1963","v":0},{"$f":"HJI$1963","v":0},{"$f":"HJJ$1963","v":0},{"$f":"HJK$1963","v":0},{"$f":"HJL$1963","v":0},{"$f":"HJM$1963","v":0},{"$f":"HJN$1963","v":0},{"$f":"HJO$1963","v":0},{"$f":"HJP$1963","v":0},{"$f":"HJQ$1963","v":0},{"$f":"HJR$1963","v":0},{"$f":"HJS$1963","v":0},{"$f":"HJT$1963","v":0},{"$f":"HJU$1963","v":0},{"$f":"HJV$1963","v":0},{"$f":"HJW$1963","v":0},{"$f":"HJX$1963","v":0},{"$f":"HJY$1963","v":0},{"$f":"HJZ$1963","v":0},{"$f":"HKA$1963","v":0},{"$f":"HKB$1963","v":0},{"$f":"HKC$1963","v":0},{"$f":"HKD$1963","v":0},{"$f":"HKE$1963","v":0},{"$f":"HKF$1963","v":0},{"$f":"HKG$1963","v":0},{"$f":"HKH$1963","v":0},{"$f":"HKI$1963","v":0},{"$f":"HKJ$1963","v":0},{"$f":"HKK$1963","v":0},{"$f":"HKL$1963","v":0},{"$f":"HKM$1963","v":0},{"$f":"HKN$1963","v":0},{"$f":"HKO$1963","v":0},{"$f":"HKP$1963","v":0},{"$f":"HKQ$1963","v":0},{"$f":"HKR$1963","v":0},{"$f":"HKS$1963","v":0},{"$f":"HKT$1963","v":0},{"$f":"HKU$1963","v":0},{"$f":"HKV$1963","v":0},{"$f":"HKW$1963","v":0},{"$f":"HKX$1963","v":0},{"$f":"HKY$1963","v":0},{"$f":"HKZ$1963","v":0},{"$f":"HLA$1963","v":0},{"$f":"HLB$1963","v":0},{"$f":"HLC$1963","v":0},{"$f":"HLD$1963","v":0},{"$f":"HLE$1963","v":0},{"$f":"HLF$1963","v":0},{"$f":"HLG$1963","v":0},{"$f":"HLH$1963","v":0},{"$f":"HLI$1963","v":0},{"$f":"HLJ$1963","v":0},{"$f":"HLK$1963","v":0},{"$f":"HLL$1963","v":0},{"$f":"HLM$1963","v":0},{"$f":"HLN$1963","v":0},{"$f":"HLO$1963","v":0},{"$f":"HLP$1963","v":0},{"$f":"HLQ$1963","v":0},{"$f":"HLR$1963","v":0},{"$f":"HLS$1963","v":0},{"$f":"HLT$1963","v":0},{"$f":"HLU$1963","v":0},{"$f":"HLV$1963","v":0},{"$f":"HLW$1963","v":0},{"$f":"HLX$1963","v":0},{"$f":"HLY$1963","v":0},{"$f":"HLZ$1963","v":0},{"$f":"HMA$1963","v":0},{"$f":"HMB$1963","v":0},{"$f":"HMC$1963","v":0},{"$f":"HMD$1963","v":0},{"$f":"HME$1963","v":0},{"$f":"HMF$1963","v":0},{"$f":"HMG$1963","v":0},{"$f":"HMH$1963","v":0},{"$f":"HMI$1963","v":0},{"$f":"HMJ$1963","v":0},{"$f":"HMK$1963","v":0},{"$f":"HML$1963","v":0},{"$f":"HMM$1963","v":0},{"$f":"HMN$1963","v":0},{"$f":"HMO$1963","v":0},{"$f":"HMP$1963","v":0},{"$f":"HMQ$1963","v":0},{"$f":"HMR$1963","v":0},{"$f":"HMS$1963","v":0},{"$f":"HMT$1963","v":0},{"$f":"HMU$1963","v":0},{"$f":"HMV$1963","v":0},{"$f":"HMW$1963","v":0},{"$f":"HMX$1963","v":0},{"$f":"HMY$1963","v":0},{"$f":"HMZ$1963","v":0},{"$f":"HNA$1963","v":0},{"$f":"HNB$1963","v":0},{"$f":"HNC$1963","v":0},{"$f":"HND$1963","v":0},{"$f":"HNE$1963","v":0},{"$f":"HNF$1963","v":0},{"$f":"HNG$1963","v":0},{"$f":"HNH$1963","v":0},{"$f":"HNI$1963","v":0},{"$f":"HNJ$1963","v":0},{"$f":"HNK$1963","v":0},{"$f":"HNL$1963","v":0},{"$f":"HNM$1963","v":0},{"$f":"HNN$1963","v":0},{"$f":"HNO$1963","v":0},{"$f":"HNP$1963","v":0},{"$f":"HNQ$1963","v":0},{"$f":"HNR$1963","v":0},{"$f":"HNS$1963","v":0},{"$f":"HNT$1963","v":0},{"$f":"HNU$1963","v":0},{"$f":"HNV$1963","v":0},{"$f":"HNW$1963","v":0},{"$f":"HNX$1963","v":0},{"$f":"HNY$1963","v":0},{"$f":"HNZ$1963","v":0},{"$f":"HOA$1963","v":0},{"$f":"HOB$1963","v":0},{"$f":"HOC$1963","v":0},{"$f":"HOD$1963","v":0},{"$f":"HOE$1963","v":0},{"$f":"HOF$1963","v":0},{"$f":"HOG$1963","v":0},{"$f":"HOH$1963","v":0},{"$f":"HOI$1963","v":0},{"$f":"HOJ$1963","v":0},{"$f":"HOK$1963","v":0},{"$f":"HOL$1963","v":0},{"$f":"HOM$1963","v":0},{"$f":"HON$1963","v":0},{"$f":"HOO$1963","v":0},{"$f":"HOP$1963","v":0},{"$f":"HOQ$1963","v":0},{"$f":"HOR$1963","v":0},{"$f":"HOS$1963","v":0},{"$f":"HOT$1963","v":0},{"$f":"HOU$1963","v":0},{"$f":"HOV$1963","v":0},{"$f":"HOW$1963","v":0},{"$f":"HOX$1963","v":0},{"$f":"HOY$1963","v":0},{"$f":"HOZ$1963","v":0},{"$f":"HPA$1963","v":0},{"$f":"HPB$1963","v":0},{"$f":"HPC$1963","v":0},{"$f":"HPD$1963","v":0},{"$f":"HPE$1963","v":0},{"$f":"HPF$1963","v":0},{"$f":"HPG$1963","v":0},{"$f":"HPH$1963","v":0},{"$f":"HPI$1963","v":0},{"$f":"HPJ$1963","v":0},{"$f":"HPK$1963","v":0},{"$f":"HPL$1963","v":0},{"$f":"HPM$1963","v":0},{"$f":"HPN$1963","v":0},{"$f":"HPO$1963","v":0},{"$f":"HPP$1963","v":0},{"$f":"HPQ$1963","v":0},{"$f":"HPR$1963","v":0},{"$f":"HPS$1963","v":0},{"$f":"HPT$1963","v":0},{"$f":"HPU$1963","v":0},{"$f":"HPV$1963","v":0},{"$f":"HPW$1963","v":0},{"$f":"HPX$1963","v":0},{"$f":"HPY$1963","v":0},{"$f":"HPZ$1963","v":0},{"$f":"HQA$1963","v":0},{"$f":"HQB$1963","v":0},{"$f":"HQC$1963","v":0},{"$f":"HQD$1963","v":0},{"$f":"HQE$1963","v":0},{"$f":"HQF$1963","v":0},{"$f":"HQG$1963","v":0},{"$f":"HQH$1963","v":0},{"$f":"HQI$1963","v":0},{"$f":"HQJ$1963","v":0},{"$f":"HQK$1963","v":0},{"$f":"HQL$1963","v":0},{"$f":"HQM$1963","v":0},{"$f":"HQN$1963","v":0},{"$f":"HQO$1963","v":0},{"$f":"HQP$1963","v":0},{"$f":"HQQ$1963","v":0},{"$f":"HQR$1963","v":0},{"$f":"HQS$1963","v":0},{"$f":"HQT$1963","v":0},{"$f":"HQU$1963","v":0},{"$f":"HQV$1963","v":0},{"$f":"HQW$1963","v":0},{"$f":"HQX$1963","v":0},{"$f":"HQY$1963","v":0},{"$f":"HQZ$1963","v":0},{"$f":"HRA$1963","v":0},{"$f":"HRB$1963","v":0},{"$f":"HRC$1963","v":0},{"$f":"HRD$1963","v":0},{"$f":"HRE$1963","v":0},{"$f":"HRF$1963","v":0},{"$f":"HRG$1963","v":0},{"$f":"HRH$1963","v":0},{"$f":"HRI$1963","v":0},{"$f":"HRJ$1963","v":0},{"$f":"HRK$1963","v":0},{"$f":"HRL$1963","v":0},{"$f":"HRM$1963","v":0},{"$f":"HRN$1963","v":0},{"$f":"HRO$1963","v":0},{"$f":"HRP$1963","v":0},{"$f":"HRQ$1963","v":0},{"$f":"HRR$1963","v":0},{"$f":"HRS$1963","v":0},{"$f":"HRT$1963","v":0},{"$f":"HRU$1963","v":0},{"$f":"HRV$1963","v":0},{"$f":"HRW$1963","v":0},{"$f":"HRX$1963","v":0},{"$f":"HRY$1963","v":0},{"$f":"HRZ$1963","v":0},{"$f":"HSA$1963","v":0},{"$f":"HSB$1963","v":0},{"$f":"HSC$1963","v":0},{"$f":"HSD$1963","v":0},{"$f":"HSE$1963","v":0},{"$f":"HSF$1963","v":0},{"$f":"HSG$1963","v":0},{"$f":"HSH$1963","v":0},{"$f":"HSI$1963","v":0},{"$f":"HSJ$1963","v":0},{"$f":"HSK$1963","v":0},{"$f":"HSL$1963","v":0},{"$f":"HSM$1963","v":0},{"$f":"HSN$1963","v":0},{"$f":"HSO$1963","v":0},{"$f":"HSP$1963","v":0},{"$f":"HSQ$1963","v":0},{"$f":"HSR$1963","v":0},{"$f":"HSS$1963","v":0},{"$f":"HST$1963","v":0},{"$f":"HSU$1963","v":0},{"$f":"HSV$1963","v":0},{"$f":"HSW$1963","v":0},{"$f":"HSX$1963","v":0},{"$f":"HSY$1963","v":0},{"$f":"HSZ$1963","v":0},{"$f":"HTA$1963","v":0},{"$f":"HTB$1963","v":0},{"$f":"HTC$1963","v":0},{"$f":"HTD$1963","v":0},{"$f":"HTE$1963","v":0},{"$f":"HTF$1963","v":0},{"$f":"HTG$1963","v":0},{"$f":"HTH$1963","v":0},{"$f":"HTI$1963","v":0},{"$f":"HTJ$1963","v":0},{"$f":"HTK$1963","v":0},{"$f":"HTL$1963","v":0},{"$f":"HTM$1963","v":0},{"$f":"HTN$1963","v":0},{"$f":"HTO$1963","v":0},{"$f":"HTP$1963","v":0},{"$f":"HTQ$1963","v":0},{"$f":"HTR$1963","v":0},{"$f":"HTS$1963","v":0},{"$f":"HTT$1963","v":0},{"$f":"HTU$1963","v":0},{"$f":"HTV$1963","v":0},{"$f":"HTW$1963","v":0},{"$f":"HTX$1963","v":0},{"$f":"HTY$1963","v":0},{"$f":"HTZ$1963","v":0},{"$f":"HUA$1963","v":0},{"$f":"HUB$1963","v":0},{"$f":"HUC$1963","v":0},{"$f":"HUD$1963","v":0},{"$f":"HUE$1963","v":0},{"$f":"HUF$1963","v":0},{"$f":"HUG$1963","v":0},{"$f":"HUH$1963","v":0},{"$f":"HUI$1963","v":0},{"$f":"HUJ$1963","v":0},{"$f":"HUK$1963","v":0},{"$f":"HUL$1963","v":0},{"$f":"HUM$1963","v":0},{"$f":"HUN$1963","v":0},{"$f":"HUO$1963","v":0},{"$f":"HUP$1963","v":0},{"$f":"HUQ$1963","v":0},{"$f":"HUR$1963","v":0},{"$f":"HUS$1963","v":0},{"$f":"HUT$1963","v":0},{"$f":"HUU$1963","v":0},{"$f":"HUV$1963","v":0},{"$f":"HUW$1963","v":0},{"$f":"HUX$1963","v":0},{"$f":"HUY$1963","v":0},{"$f":"HUZ$1963","v":0},{"$f":"HVA$1963","v":0},{"$f":"HVB$1963","v":0},{"$f":"HVC$1963","v":0},{"$f":"HVD$1963","v":0},{"$f":"HVE$1963","v":0},{"$f":"HVF$1963","v":0},{"$f":"HVG$1963","v":0},{"$f":"HVH$1963","v":0},{"$f":"HVI$1963","v":0},{"$f":"HVJ$1963","v":0},{"$f":"HVK$1963","v":0},{"$f":"HVL$1963","v":0},{"$f":"HVM$1963","v":0},{"$f":"HVN$1963","v":0},{"$f":"HVO$1963","v":0},{"$f":"HVP$1963","v":0},{"$f":"HVQ$1963","v":0},{"$f":"HVR$1963","v":0},{"$f":"HVS$1963","v":0},{"$f":"HVT$1963","v":0},{"$f":"HVU$1963","v":0},{"$f":"HVV$1963","v":0},{"$f":"HVW$1963","v":0},{"$f":"HVX$1963","v":0},{"$f":"HVY$1963","v":0},{"$f":"HVZ$1963","v":0},{"$f":"HWA$1963","v":0},{"$f":"HWB$1963","v":0},{"$f":"HWC$1963","v":0},{"$f":"HWD$1963","v":0},{"$f":"HWE$1963","v":0},{"$f":"HWF$1963","v":0},{"$f":"HWG$1963","v":0},{"$f":"HWH$1963","v":0},{"$f":"HWI$1963","v":0},{"$f":"HWJ$1963","v":0},{"$f":"HWK$1963","v":0},{"$f":"HWL$1963","v":0},{"$f":"HWM$1963","v":0},{"$f":"HWN$1963","v":0},{"$f":"HWO$1963","v":0},{"$f":"HWP$1963","v":0},{"$f":"HWQ$1963","v":0},{"$f":"HWR$1963","v":0},{"$f":"HWS$1963","v":0},{"$f":"HWT$1963","v":0},{"$f":"HWU$1963","v":0},{"$f":"HWV$1963","v":0},{"$f":"HWW$1963","v":0},{"$f":"HWX$1963","v":0},{"$f":"HWY$1963","v":0},{"$f":"HWZ$1963","v":0},{"$f":"HXA$1963","v":0},{"$f":"HXB$1963","v":0},{"$f":"HXC$1963","v":0},{"$f":"HXD$1963","v":0},{"$f":"HXE$1963","v":0},{"$f":"HXF$1963","v":0},{"$f":"HXG$1963","v":0},{"$f":"HXH$1963","v":0},{"$f":"HXI$1963","v":0},{"$f":"HXJ$1963","v":0},{"$f":"HXK$1963","v":0},{"$f":"HXL$1963","v":0},{"$f":"HXM$1963","v":0},{"$f":"HXN$1963","v":0},{"$f":"HXO$1963","v":0},{"$f":"HXP$1963","v":0},{"$f":"HXQ$1963","v":0},{"$f":"HXR$1963","v":0},{"$f":"HXS$1963","v":0},{"$f":"HXT$1963","v":0},{"$f":"HXU$1963","v":0},{"$f":"HXV$1963","v":0},{"$f":"HXW$1963","v":0},{"$f":"HXX$1963","v":0},{"$f":"HXY$1963","v":0},{"$f":"HXZ$1963","v":0},{"$f":"HYA$1963","v":0},{"$f":"HYB$1963","v":0},{"$f":"HYC$1963","v":0},{"$f":"HYD$1963","v":0},{"$f":"HYE$1963","v":0},{"$f":"HYF$1963","v":0},{"$f":"HYG$1963","v":0},{"$f":"HYH$1963","v":0},{"$f":"HYI$1963","v":0},{"$f":"HYJ$1963","v":0},{"$f":"HYK$1963","v":0},{"$f":"HYL$1963","v":0},{"$f":"HYM$1963","v":0},{"$f":"HYN$1963","v":0},{"$f":"HYO$1963","v":0},{"$f":"HYP$1963","v":0},{"$f":"HYQ$1963","v":0},{"$f":"HYR$1963","v":0},{"$f":"HYS$1963","v":0},{"$f":"HYT$1963","v":0},{"$f":"HYU$1963","v":0},{"$f":"HYV$1963","v":0},{"$f":"HYW$1963","v":0},{"$f":"HYX$1963","v":0},{"$f":"HYY$1963","v":0},{"$f":"HYZ$1963","v":0},{"$f":"HZA$1963","v":0},{"$f":"HZB$1963","v":0},{"$f":"HZC$1963","v":0},{"$f":"HZD$1963","v":0},{"$f":"HZE$1963","v":0},{"$f":"HZF$1963","v":0},{"$f":"HZG$1963","v":0},{"$f":"HZH$1963","v":0},{"$f":"HZI$1963","v":0},{"$f":"HZJ$1963","v":0},{"$f":"HZK$1963","v":0},{"$f":"HZL$1963","v":0},{"$f":"HZM$1963","v":0},{"$f":"HZN$1963","v":0},{"$f":"HZO$1963","v":0},{"$f":"HZP$1963","v":0},{"$f":"HZQ$1963","v":0},{"$f":"HZR$1963","v":0},{"$f":"HZS$1963","v":0},{"$f":"HZT$1963","v":0},{"$f":"HZU$1963","v":0},{"$f":"HZV$1963","v":0},{"$f":"HZW$1963","v":0},{"$f":"HZX$1963","v":0},{"$f":"HZY$1963","v":0},{"$f":"HZZ$1963","v":0},{"$f":"IAA$1963","v":0},{"$f":"IAB$1963","v":0},{"$f":"IAC$1963","v":0},{"$f":"IAD$1963","v":0},{"$f":"IAE$1963","v":0},{"$f":"IAF$1963","v":0},{"$f":"IAG$1963","v":0},{"$f":"IAH$1963","v":0},{"$f":"IAI$1963","v":0},{"$f":"IAJ$1963","v":0},{"$f":"IAK$1963","v":0},{"$f":"IAL$1963","v":0},{"$f":"IAM$1963","v":0},{"$f":"IAN$1963","v":0},{"$f":"IAO$1963","v":0},{"$f":"IAP$1963","v":0},{"$f":"IAQ$1963","v":0},{"$f":"IAR$1963","v":0},{"$f":"IAS$1963","v":0},{"$f":"IAT$1963","v":0},{"$f":"IAU$1963","v":0},{"$f":"IAV$1963","v":0},{"$f":"IAW$1963","v":0},{"$f":"IAX$1963","v":0},{"$f":"IAY$1963","v":0},{"$f":"IAZ$1963","v":0},{"$f":"IBA$1963","v":0},{"$f":"IBB$1963","v":0},{"$f":"IBC$1963","v":0},{"$f":"IBD$1963","v":0},{"$f":"IBE$1963","v":0},{"$f":"IBF$1963","v":0},{"$f":"IBG$1963","v":0},{"$f":"IBH$1963","v":0},{"$f":"IBI$1963","v":0},{"$f":"IBJ$1963","v":0},{"$f":"IBK$1963","v":0},{"$f":"IBL$1963","v":0},{"$f":"IBM$1963","v":0},{"$f":"IBN$1963","v":0},{"$f":"IBO$1963","v":0},{"$f":"IBP$1963","v":0},{"$f":"IBQ$1963","v":0},{"$f":"IBR$1963","v":0},{"$f":"IBS$1963","v":0},{"$f":"IBT$1963","v":0},{"$f":"IBU$1963","v":0},{"$f":"IBV$1963","v":0},{"$f":"IBW$1963","v":0},{"$f":"IBX$1963","v":0},{"$f":"IBY$1963","v":0},{"$f":"IBZ$1963","v":0},{"$f":"ICA$1963","v":0},{"$f":"ICB$1963","v":0},{"$f":"ICC$1963","v":0},{"$f":"ICD$1963","v":0},{"$f":"ICE$1963","v":0},{"$f":"ICF$1963","v":0},{"$f":"ICG$1963","v":0},{"$f":"ICH$1963","v":0},{"$f":"ICI$1963","v":0},{"$f":"ICJ$1963","v":0},{"$f":"ICK$1963","v":0},{"$f":"ICL$1963","v":0},{"$f":"ICM$1963","v":0},{"$f":"ICN$1963","v":0},{"$f":"ICO$1963","v":0},{"$f":"ICP$1963","v":0},{"$f":"ICQ$1963","v":0},{"$f":"ICR$1963","v":0},{"$f":"ICS$1963","v":0},{"$f":"ICT$1963","v":0},{"$f":"ICU$1963","v":0},{"$f":"ICV$1963","v":0},{"$f":"ICW$1963","v":0},{"$f":"ICX$1963","v":0},{"$f":"ICY$1963","v":0},{"$f":"ICZ$1963","v":0},{"$f":"IDA$1963","v":0},{"$f":"IDB$1963","v":0},{"$f":"IDC$1963","v":0},{"$f":"IDD$1963","v":0},{"$f":"IDE$1963","v":0},{"$f":"IDF$1963","v":0},{"$f":"IDG$1963","v":0},{"$f":"IDH$1963","v":0},{"$f":"IDI$1963","v":0},{"$f":"IDJ$1963","v":0},{"$f":"IDK$1963","v":0},{"$f":"IDL$1963","v":0},{"$f":"IDM$1963","v":0},{"$f":"IDN$1963","v":0},{"$f":"IDO$1963","v":0},{"$f":"IDP$1963","v":0},{"$f":"IDQ$1963","v":0},{"$f":"IDR$1963","v":0},{"$f":"IDS$1963","v":0},{"$f":"IDT$1963","v":0},{"$f":"IDU$1963","v":0},{"$f":"IDV$1963","v":0},{"$f":"IDW$1963","v":0},{"$f":"IDX$1963","v":0},{"$f":"IDY$1963","v":0},{"$f":"IDZ$1963","v":0},{"$f":"IEA$1963","v":0},{"$f":"IEB$1963","v":0},{"$f":"IEC$1963","v":0},{"$f":"IED$1963","v":0},{"$f":"IEE$1963","v":0},{"$f":"IEF$1963","v":0},{"$f":"IEG$1963","v":0},{"$f":"IEH$1963","v":0},{"$f":"IEI$1963","v":0},{"$f":"IEJ$1963","v":0},{"$f":"IEK$1963","v":0},{"$f":"IEL$1963","v":0},{"$f":"IEM$1963","v":0},{"$f":"IEN$1963","v":0},{"$f":"IEO$1963","v":0},{"$f":"IEP$1963","v":0},{"$f":"IEQ$1963","v":0},{"$f":"IER$1963","v":0},{"$f":"IES$1963","v":0},{"$f":"IET$1963","v":0},{"$f":"IEU$1963","v":0},{"$f":"IEV$1963","v":0},{"$f":"IEW$1963","v":0},{"$f":"IEX$1963","v":0},{"$f":"IEY$1963","v":0},{"$f":"IEZ$1963","v":0},{"$f":"IFA$1963","v":0},{"$f":"IFB$1963","v":0},{"$f":"IFC$1963","v":0},{"$f":"IFD$1963","v":0},{"$f":"IFE$1963","v":0},{"$f":"IFF$1963","v":0},{"$f":"IFG$1963","v":0},{"$f":"IFH$1963","v":0},{"$f":"IFI$1963","v":0},{"$f":"IFJ$1963","v":0},{"$f":"IFK$1963","v":0},{"$f":"IFL$1963","v":0},{"$f":"IFM$1963","v":0},{"$f":"IFN$1963","v":0},{"$f":"IFO$1963","v":0},{"$f":"IFP$1963","v":0},{"$f":"IFQ$1963","v":0},{"$f":"IFR$1963","v":0},{"$f":"IFS$1963","v":0},{"$f":"IFT$1963","v":0},{"$f":"IFU$1963","v":0},{"$f":"IFV$1963","v":0},{"$f":"IFW$1963","v":0},{"$f":"IFX$1963","v":0},{"$f":"IFY$1963","v":0},{"$f":"IFZ$1963","v":0},{"$f":"IGA$1963","v":0},{"$f":"IGB$1963","v":0},{"$f":"IGC$1963","v":0},{"$f":"IGD$1963","v":0},{"$f":"IGE$1963","v":0},{"$f":"IGF$1963","v":0},{"$f":"IGG$1963","v":0},{"$f":"IGH$1963","v":0},{"$f":"IGI$1963","v":0},{"$f":"IGJ$1963","v":0},{"$f":"IGK$1963","v":0},{"$f":"IGL$1963","v":0},{"$f":"IGM$1963","v":0},{"$f":"IGN$1963","v":0},{"$f":"IGO$1963","v":0},{"$f":"IGP$1963","v":0},{"$f":"IGQ$1963","v":0},{"$f":"IGR$1963","v":0},{"$f":"IGS$1963","v":0},{"$f":"IGT$1963","v":0},{"$f":"IGU$1963","v":0},{"$f":"IGV$1963","v":0},{"$f":"IGW$1963","v":0},{"$f":"IGX$1963","v":0},{"$f":"IGY$1963","v":0},{"$f":"IGZ$1963","v":0},{"$f":"IHA$1963","v":0},{"$f":"IHB$1963","v":0},{"$f":"IHC$1963","v":0},{"$f":"IHD$1963","v":0},{"$f":"IHE$1963","v":0},{"$f":"IHF$1963","v":0},{"$f":"IHG$1963","v":0},{"$f":"IHH$1963","v":0},{"$f":"IHI$1963","v":0},{"$f":"IHJ$1963","v":0},{"$f":"IHK$1963","v":0},{"$f":"IHL$1963","v":0},{"$f":"IHM$1963","v":0},{"$f":"IHN$1963","v":0},{"$f":"IHO$1963","v":0},{"$f":"IHP$1963","v":0},{"$f":"IHQ$1963","v":0},{"$f":"IHR$1963","v":0},{"$f":"IHS$1963","v":0},{"$f":"IHT$1963","v":0},{"$f":"IHU$1963","v":0},{"$f":"IHV$1963","v":0},{"$f":"IHW$1963","v":0},{"$f":"IHX$1963","v":0},{"$f":"IHY$1963","v":0},{"$f":"IHZ$1963","v":0},{"$f":"IIA$1963","v":0},{"$f":"IIB$1963","v":0},{"$f":"IIC$1963","v":0},{"$f":"IID$1963","v":0},{"$f":"IIE$1963","v":0},{"$f":"IIF$1963","v":0},{"$f":"IIG$1963","v":0},{"$f":"IIH$1963","v":0},{"$f":"III$1963","v":0},{"$f":"IIJ$1963","v":0},{"$f":"IIK$1963","v":0},{"$f":"IIL$1963","v":0},{"$f":"IIM$1963","v":0},{"$f":"IIN$1963","v":0},{"$f":"IIO$1963","v":0},{"$f":"IIP$1963","v":0},{"$f":"IIQ$1963","v":0},{"$f":"IIR$1963","v":0},{"$f":"IIS$1963","v":0},{"$f":"IIT$1963","v":0},{"$f":"IIU$1963","v":0},{"$f":"IIV$1963","v":0},{"$f":"IIW$1963","v":0},{"$f":"IIX$1963","v":0},{"$f":"IIY$1963","v":0},{"$f":"IIZ$1963","v":0},{"$f":"IJA$1963","v":0},{"$f":"IJB$1963","v":0},{"$f":"IJC$1963","v":0},{"$f":"IJD$1963","v":0},{"$f":"IJE$1963","v":0},{"$f":"IJF$1963","v":0},{"$f":"IJG$1963","v":0},{"$f":"IJH$1963","v":0},{"$f":"IJI$1963","v":0},{"$f":"IJJ$1963","v":0},{"$f":"IJK$1963","v":0},{"$f":"IJL$1963","v":0},{"$f":"IJM$1963","v":0},{"$f":"IJN$1963","v":0},{"$f":"IJO$1963","v":0},{"$f":"IJP$1963","v":0},{"$f":"IJQ$1963","v":0},{"$f":"IJR$1963","v":0},{"$f":"IJS$1963","v":0},{"$f":"IJT$1963","v":0},{"$f":"IJU$1963","v":0},{"$f":"IJV$1963","v":0},{"$f":"IJW$1963","v":0},{"$f":"IJX$1963","v":0},{"$f":"IJY$1963","v":0},{"$f":"IJZ$1963","v":0},{"$f":"IKA$1963","v":0},{"$f":"IKB$1963","v":0},{"$f":"IKC$1963","v":0},{"$f":"IKD$1963","v":0},{"$f":"IKE$1963","v":0},{"$f":"IKF$1963","v":0},{"$f":"IKG$1963","v":0},{"$f":"IKH$1963","v":0},{"$f":"IKI$1963","v":0},{"$f":"IKJ$1963","v":0},{"$f":"IKK$1963","v":0},{"$f":"IKL$1963","v":0},{"$f":"IKM$1963","v":0},{"$f":"IKN$1963","v":0},{"$f":"IKO$1963","v":0},{"$f":"IKP$1963","v":0},{"$f":"IKQ$1963","v":0},{"$f":"IKR$1963","v":0},{"$f":"IKS$1963","v":0},{"$f":"IKT$1963","v":0},{"$f":"IKU$1963","v":0},{"$f":"IKV$1963","v":0},{"$f":"IKW$1963","v":0},{"$f":"IKX$1963","v":0},{"$f":"IKY$1963","v":0},{"$f":"IKZ$1963","v":0},{"$f":"ILA$1963","v":0},{"$f":"ILB$1963","v":0},{"$f":"ILC$1963","v":0},{"$f":"ILD$1963","v":0},{"$f":"ILE$1963","v":0},{"$f":"ILF$1963","v":0},{"$f":"ILG$1963","v":0},{"$f":"ILH$1963","v":0},{"$f":"ILI$1963","v":0},{"$f":"ILJ$1963","v":0},{"$f":"ILK$1963","v":0},{"$f":"ILL$1963","v":0},{"$f":"ILM$1963","v":0},{"$f":"ILN$1963","v":0},{"$f":"ILO$1963","v":0},{"$f":"ILP$1963","v":0},{"$f":"ILQ$1963","v":0},{"$f":"ILR$1963","v":0},{"$f":"ILS$1963","v":0},{"$f":"ILT$1963","v":0},{"$f":"ILU$1963","v":0},{"$f":"ILV$1963","v":0},{"$f":"ILW$1963","v":0},{"$f":"ILX$1963","v":0},{"$f":"ILY$1963","v":0},{"$f":"ILZ$1963","v":0},{"$f":"IMA$1963","v":0},{"$f":"IMB$1963","v":0},{"$f":"IMC$1963","v":0},{"$f":"IMD$1963","v":0},{"$f":"IME$1963","v":0},{"$f":"IMF$1963","v":0},{"$f":"IMG$1963","v":0},{"$f":"IMH$1963","v":0},{"$f":"IMI$1963","v":0},{"$f":"IMJ$1963","v":0},{"$f":"IMK$1963","v":0},{"$f":"IML$1963","v":0},{"$f":"IMM$1963","v":0},{"$f":"IMN$1963","v":0},{"$f":"IMO$1963","v":0},{"$f":"IMP$1963","v":0},{"$f":"IMQ$1963","v":0},{"$f":"IMR$1963","v":0},{"$f":"IMS$1963","v":0},{"$f":"IMT$1963","v":0},{"$f":"IMU$1963","v":0},{"$f":"IMV$1963","v":0},{"$f":"IMW$1963","v":0},{"$f":"IMX$1963","v":0},{"$f":"IMY$1963","v":0},{"$f":"IMZ$1963","v":0},{"$f":"INA$1963","v":0},{"$f":"INB$1963","v":0},{"$f":"INC$1963","v":0},{"$f":"IND$1963","v":0},{"$f":"INE$1963","v":0},{"$f":"INF$1963","v":0},{"$f":"ING$1963","v":0},{"$f":"INH$1963","v":0},{"$f":"INI$1963","v":0},{"$f":"INJ$1963","v":0},{"$f":"INK$1963","v":0},{"$f":"INL$1963","v":0},{"$f":"INM$1963","v":0},{"$f":"INN$1963","v":0},{"$f":"INO$1963","v":0},{"$f":"INP$1963","v":0},{"$f":"INQ$1963","v":0},{"$f":"INR$1963","v":0},{"$f":"INS$1963","v":0},{"$f":"INT$1963","v":0},{"$f":"INU$1963","v":0},{"$f":"INV$1963","v":0},{"$f":"INW$1963","v":0},{"$f":"INX$1963","v":0},{"$f":"INY$1963","v":0},{"$f":"INZ$1963","v":0},{"$f":"IOA$1963","v":0},{"$f":"IOB$1963","v":0},{"$f":"IOC$1963","v":0},{"$f":"IOD$1963","v":0},{"$f":"IOE$1963","v":0},{"$f":"IOF$1963","v":0},{"$f":"IOG$1963","v":0},{"$f":"IOH$1963","v":0},{"$f":"IOI$1963","v":0},{"$f":"IOJ$1963","v":0},{"$f":"IOK$1963","v":0},{"$f":"IOL$1963","v":0},{"$f":"IOM$1963","v":0},{"$f":"ION$1963","v":0},{"$f":"IOO$1963","v":0},{"$f":"IOP$1963","v":0},{"$f":"IOQ$1963","v":0},{"$f":"IOR$1963","v":0},{"$f":"IOS$1963","v":0},{"$f":"IOT$1963","v":0},{"$f":"IOU$1963","v":0},{"$f":"IOV$1963","v":0},{"$f":"IOW$1963","v":0},{"$f":"IOX$1963","v":0},{"$f":"IOY$1963","v":0},{"$f":"IOZ$1963","v":0},{"$f":"IPA$1963","v":0},{"$f":"IPB$1963","v":0},{"$f":"IPC$1963","v":0},{"$f":"IPD$1963","v":0},{"$f":"IPE$1963","v":0},{"$f":"IPF$1963","v":0},{"$f":"IPG$1963","v":0},{"$f":"IPH$1963","v":0},{"$f":"IPI$1963","v":0},{"$f":"IPJ$1963","v":0},{"$f":"IPK$1963","v":0},{"$f":"IPL$1963","v":0},{"$f":"IPM$1963","v":0},{"$f":"IPN$1963","v":0},{"$f":"IPO$1963","v":0},{"$f":"IPP$1963","v":0},{"$f":"IPQ$1963","v":0},{"$f":"IPR$1963","v":0},{"$f":"IPS$1963","v":0},{"$f":"IPT$1963","v":0},{"$f":"IPU$1963","v":0},{"$f":"IPV$1963","v":0},{"$f":"IPW$1963","v":0},{"$f":"IPX$1963","v":0},{"$f":"IPY$1963","v":0},{"$f":"IPZ$1963","v":0},{"$f":"IQA$1963","v":0},{"$f":"IQB$1963","v":0},{"$f":"IQC$1963","v":0},{"$f":"IQD$1963","v":0},{"$f":"IQE$1963","v":0},{"$f":"IQF$1963","v":0},{"$f":"IQG$1963","v":0},{"$f":"IQH$1963","v":0},{"$f":"IQI$1963","v":0},{"$f":"IQJ$1963","v":0},{"$f":"IQK$1963","v":0},{"$f":"IQL$1963","v":0},{"$f":"IQM$1963","v":0},{"$f":"IQN$1963","v":0},{"$f":"IQO$1963","v":0},{"$f":"IQP$1963","v":0},{"$f":"IQQ$1963","v":0},{"$f":"IQR$1963","v":0},{"$f":"IQS$1963","v":0},{"$f":"IQT$1963","v":0},{"$f":"IQU$1963","v":0},{"$f":"IQV$1963","v":0},{"$f":"IQW$1963","v":0},{"$f":"IQX$1963","v":0},{"$f":"IQY$1963","v":0},{"$f":"IQZ$1963","v":0},{"$f":"IRA$1963","v":0},{"$f":"IRB$1963","v":0},{"$f":"IRC$1963","v":0},{"$f":"IRD$1963","v":0},{"$f":"IRE$1963","v":0},{"$f":"IRF$1963","v":0},{"$f":"IRG$1963","v":0},{"$f":"IRH$1963","v":0},{"$f":"IRI$1963","v":0},{"$f":"IRJ$1963","v":0},{"$f":"IRK$1963","v":0},{"$f":"IRL$1963","v":0},{"$f":"IRM$1963","v":0},{"$f":"IRN$1963","v":0},{"$f":"IRO$1963","v":0},{"$f":"IRP$1963","v":0},{"$f":"IRQ$1963","v":0},{"$f":"IRR$1963","v":0},{"$f":"IRS$1963","v":0},{"$f":"IRT$1963","v":0},{"$f":"IRU$1963","v":0},{"$f":"IRV$1963","v":0},{"$f":"IRW$1963","v":0},{"$f":"IRX$1963","v":0},{"$f":"IRY$1963","v":0},{"$f":"IRZ$1963","v":0},{"$f":"ISA$1963","v":0},{"$f":"ISB$1963","v":0},{"$f":"ISC$1963","v":0},{"$f":"ISD$1963","v":0},{"$f":"ISE$1963","v":0},{"$f":"ISF$1963","v":0},{"$f":"ISG$1963","v":0},{"$f":"ISH$1963","v":0},{"$f":"ISI$1963","v":0},{"$f":"ISJ$1963","v":0},{"$f":"ISK$1963","v":0},{"$f":"ISL$1963","v":0},{"$f":"ISM$1963","v":0},{"$f":"ISN$1963","v":0},{"$f":"ISO$1963","v":0},{"$f":"ISP$1963","v":0},{"$f":"ISQ$1963","v":0},{"$f":"ISR$1963","v":0},{"$f":"ISS$1963","v":0},{"$f":"IST$1963","v":0},{"$f":"ISU$1963","v":0},{"$f":"ISV$1963","v":0},{"$f":"ISW$1963","v":0},{"$f":"ISX$1963","v":0},{"$f":"ISY$1963","v":0},{"$f":"ISZ$1963","v":0},{"$f":"ITA$1963","v":0},{"$f":"ITB$1963","v":0},{"$f":"ITC$1963","v":0},{"$f":"ITD$1963","v":0},{"$f":"ITE$1963","v":0},{"$f":"ITF$1963","v":0},{"$f":"ITG$1963","v":0},{"$f":"ITH$1963","v":0},{"$f":"ITI$1963","v":0},{"$f":"ITJ$1963","v":0},{"$f":"ITK$1963","v":0},{"$f":"ITL$1963","v":0},{"$f":"ITM$1963","v":0},{"$f":"ITN$1963","v":0},{"$f":"ITO$1963","v":0},{"$f":"ITP$1963","v":0},{"$f":"ITQ$1963","v":0},{"$f":"ITR$1963","v":0},{"$f":"ITS$1963","v":0},{"$f":"ITT$1963","v":0},{"$f":"ITU$1963","v":0},{"$f":"ITV$1963","v":0},{"$f":"ITW$1963","v":0},{"$f":"ITX$1963","v":0},{"$f":"ITY$1963","v":0},{"$f":"ITZ$1963","v":0},{"$f":"IUA$1963","v":0},{"$f":"IUB$1963","v":0},{"$f":"IUC$1963","v":0},{"$f":"IUD$1963","v":0},{"$f":"IUE$1963","v":0},{"$f":"IUF$1963","v":0},{"$f":"IUG$1963","v":0},{"$f":"IUH$1963","v":0},{"$f":"IUI$1963","v":0},{"$f":"IUJ$1963","v":0},{"$f":"IUK$1963","v":0},{"$f":"IUL$1963","v":0},{"$f":"IUM$1963","v":0},{"$f":"IUN$1963","v":0},{"$f":"IUO$1963","v":0},{"$f":"IUP$1963","v":0},{"$f":"IUQ$1963","v":0},{"$f":"IUR$1963","v":0},{"$f":"IUS$1963","v":0},{"$f":"IUT$1963","v":0},{"$f":"IUU$1963","v":0},{"$f":"IUV$1963","v":0},{"$f":"IUW$1963","v":0},{"$f":"IUX$1963","v":0},{"$f":"IUY$1963","v":0},{"$f":"IUZ$1963","v":0},{"$f":"IVA$1963","v":0},{"$f":"IVB$1963","v":0},{"$f":"IVC$1963","v":0},{"$f":"IVD$1963","v":0},{"$f":"IVE$1963","v":0},{"$f":"IVF$1963","v":0},{"$f":"IVG$1963","v":0},{"$f":"IVH$1963","v":0},{"$f":"IVI$1963","v":0},{"$f":"IVJ$1963","v":0},{"$f":"IVK$1963","v":0},{"$f":"IVL$1963","v":0},{"$f":"IVM$1963","v":0},{"$f":"IVN$1963","v":0},{"$f":"IVO$1963","v":0},{"$f":"IVP$1963","v":0},{"$f":"IVQ$1963","v":0},{"$f":"IVR$1963","v":0},{"$f":"IVS$1963","v":0},{"$f":"IVT$1963","v":0},{"$f":"IVU$1963","v":0},{"$f":"IVV$1963","v":0},{"$f":"IVW$1963","v":0},{"$f":"IVX$1963","v":0},{"$f":"IVY$1963","v":0},{"$f":"IVZ$1963","v":0},{"$f":"IWA$1963","v":0},{"$f":"IWB$1963","v":0},{"$f":"IWC$1963","v":0},{"$f":"IWD$1963","v":0},{"$f":"IWE$1963","v":0},{"$f":"IWF$1963","v":0},{"$f":"IWG$1963","v":0},{"$f":"IWH$1963","v":0},{"$f":"IWI$1963","v":0},{"$f":"IWJ$1963","v":0},{"$f":"IWK$1963","v":0},{"$f":"IWL$1963","v":0},{"$f":"IWM$1963","v":0},{"$f":"IWN$1963","v":0},{"$f":"IWO$1963","v":0},{"$f":"IWP$1963","v":0},{"$f":"IWQ$1963","v":0},{"$f":"IWR$1963","v":0},{"$f":"IWS$1963","v":0},{"$f":"IWT$1963","v":0},{"$f":"IWU$1963","v":0},{"$f":"IWV$1963","v":0},{"$f":"IWW$1963","v":0},{"$f":"IWX$1963","v":0},{"$f":"IWY$1963","v":0},{"$f":"IWZ$1963","v":0},{"$f":"IXA$1963","v":0},{"$f":"IXB$1963","v":0},{"$f":"IXC$1963","v":0},{"$f":"IXD$1963","v":0},{"$f":"IXE$1963","v":0},{"$f":"IXF$1963","v":0},{"$f":"IXG$1963","v":0},{"$f":"IXH$1963","v":0},{"$f":"IXI$1963","v":0},{"$f":"IXJ$1963","v":0},{"$f":"IXK$1963","v":0},{"$f":"IXL$1963","v":0},{"$f":"IXM$1963","v":0},{"$f":"IXN$1963","v":0},{"$f":"IXO$1963","v":0},{"$f":"IXP$1963","v":0},{"$f":"IXQ$1963","v":0},{"$f":"IXR$1963","v":0},{"$f":"IXS$1963","v":0},{"$f":"IXT$1963","v":0},{"$f":"IXU$1963","v":0},{"$f":"IXV$1963","v":0},{"$f":"IXW$1963","v":0},{"$f":"IXX$1963","v":0},{"$f":"IXY$1963","v":0},{"$f":"IXZ$1963","v":0},{"$f":"IYA$1963","v":0},{"$f":"IYB$1963","v":0},{"$f":"IYC$1963","v":0},{"$f":"IYD$1963","v":0},{"$f":"IYE$1963","v":0},{"$f":"IYF$1963","v":0},{"$f":"IYG$1963","v":0},{"$f":"IYH$1963","v":0},{"$f":"IYI$1963","v":0},{"$f":"IYJ$1963","v":0},{"$f":"IYK$1963","v":0},{"$f":"IYL$1963","v":0},{"$f":"IYM$1963","v":0},{"$f":"IYN$1963","v":0},{"$f":"IYO$1963","v":0},{"$f":"IYP$1963","v":0},{"$f":"IYQ$1963","v":0},{"$f":"IYR$1963","v":0},{"$f":"IYS$1963","v":0},{"$f":"IYT$1963","v":0},{"$f":"IYU$1963","v":0},{"$f":"IYV$1963","v":0},{"$f":"IYW$1963","v":0},{"$f":"IYX$1963","v":0},{"$f":"IYY$1963","v":0},{"$f":"IYZ$1963","v":0},{"$f":"IZA$1963","v":0},{"$f":"IZB$1963","v":0},{"$f":"IZC$1963","v":0},{"$f":"IZD$1963","v":0},{"$f":"IZE$1963","v":0},{"$f":"IZF$1963","v":0},{"$f":"IZG$1963","v":0},{"$f":"IZH$1963","v":0},{"$f":"IZI$1963","v":0},{"$f":"IZJ$1963","v":0},{"$f":"IZK$1963","v":0},{"$f":"IZL$1963","v":0},{"$f":"IZM$1963","v":0},{"$f":"IZN$1963","v":0},{"$f":"IZO$1963","v":0},{"$f":"IZP$1963","v":0},{"$f":"IZQ$1963","v":0},{"$f":"IZR$1963","v":0},{"$f":"IZS$1963","v":0},{"$f":"IZT$1963","v":0},{"$f":"IZU$1963","v":0},{"$f":"IZV$1963","v":0},{"$f":"IZW$1963","v":0},{"$f":"IZX$1963","v":0},{"$f":"IZY$1963","v":0},{"$f":"IZZ$1963","v":0},{"$f":"JAA$1963","v":0},{"$f":"JAB$1963","v":0},{"$f":"JAC$1963","v":0},{"$f":"JAD$1963","v":0},{"$f":"JAE$1963","v":0},{"$f":"JAF$1963","v":0},{"$f":"JAG$1963","v":0},{"$f":"JAH$1963","v":0},{"$f":"JAI$1963","v":0},{"$f":"JAJ$1963","v":0},{"$f":"JAK$1963","v":0},{"$f":"JAL$1963","v":0},{"$f":"JAM$1963","v":0},{"$f":"JAN$1963","v":0},{"$f":"JAO$1963","v":0},{"$f":"JAP$1963","v":0},{"$f":"JAQ$1963","v":0},{"$f":"JAR$1963","v":0},{"$f":"JAS$1963","v":0},{"$f":"JAT$1963","v":0},{"$f":"JAU$1963","v":0},{"$f":"JAV$1963","v":0},{"$f":"JAW$1963","v":0},{"$f":"JAX$1963","v":0},{"$f":"JAY$1963","v":0},{"$f":"JAZ$1963","v":0},{"$f":"JBA$1963","v":0},{"$f":"JBB$1963","v":0},{"$f":"JBC$1963","v":0},{"$f":"JBD$1963","v":0},{"$f":"JBE$1963","v":0},{"$f":"JBF$1963","v":0},{"$f":"JBG$1963","v":0},{"$f":"JBH$1963","v":0},{"$f":"JBI$1963","v":0},{"$f":"JBJ$1963","v":0},{"$f":"JBK$1963","v":0},{"$f":"JBL$1963","v":0},{"$f":"JBM$1963","v":0},{"$f":"JBN$1963","v":0},{"$f":"JBO$1963","v":0},{"$f":"JBP$1963","v":0},{"$f":"JBQ$1963","v":0},{"$f":"JBR$1963","v":0},{"$f":"JBS$1963","v":0},{"$f":"JBT$1963","v":0},{"$f":"JBU$1963","v":0},{"$f":"JBV$1963","v":0},{"$f":"JBW$1963","v":0},{"$f":"JBX$1963","v":0},{"$f":"JBY$1963","v":0},{"$f":"JBZ$1963","v":0},{"$f":"JCA$1963","v":0},{"$f":"JCB$1963","v":0},{"$f":"JCC$1963","v":0},{"$f":"JCD$1963","v":0},{"$f":"JCE$1963","v":0},{"$f":"JCF$1963","v":0},{"$f":"JCG$1963","v":0},{"$f":"JCH$1963","v":0},{"$f":"JCI$1963","v":0},{"$f":"JCJ$1963","v":0},{"$f":"JCK$1963","v":0},{"$f":"JCL$1963","v":0},{"$f":"JCM$1963","v":0},{"$f":"JCN$1963","v":0},{"$f":"JCO$1963","v":0},{"$f":"JCP$1963","v":0},{"$f":"JCQ$1963","v":0},{"$f":"JCR$1963","v":0},{"$f":"JCS$1963","v":0},{"$f":"JCT$1963","v":0},{"$f":"JCU$1963","v":0},{"$f":"JCV$1963","v":0},{"$f":"JCW$1963","v":0},{"$f":"JCX$1963","v":0},{"$f":"JCY$1963","v":0},{"$f":"JCZ$1963","v":0},{"$f":"JDA$1963","v":0},{"$f":"JDB$1963","v":0},{"$f":"JDC$1963","v":0},{"$f":"JDD$1963","v":0},{"$f":"JDE$1963","v":0},{"$f":"JDF$1963","v":0},{"$f":"JDG$1963","v":0},{"$f":"JDH$1963","v":0},{"$f":"JDI$1963","v":0},{"$f":"JDJ$1963","v":0},{"$f":"JDK$1963","v":0},{"$f":"JDL$1963","v":0},{"$f":"JDM$1963","v":0},{"$f":"JDN$1963","v":0},{"$f":"JDO$1963","v":0},{"$f":"JDP$1963","v":0},{"$f":"JDQ$1963","v":0},{"$f":"JDR$1963","v":0},{"$f":"JDS$1963","v":0},{"$f":"JDT$1963","v":0},{"$f":"JDU$1963","v":0},{"$f":"JDV$1963","v":0},{"$f":"JDW$1963","v":0},{"$f":"JDX$1963","v":0},{"$f":"JDY$1963","v":0},{"$f":"JDZ$1963","v":0},{"$f":"JEA$1963","v":0},{"$f":"JEB$1963","v":0},{"$f":"JEC$1963","v":0},{"$f":"JED$1963","v":0},{"$f":"JEE$1963","v":0},{"$f":"JEF$1963","v":0},{"$f":"JEG$1963","v":0},{"$f":"JEH$1963","v":0},{"$f":"JEI$1963","v":0},{"$f":"JEJ$1963","v":0},{"$f":"JEK$1963","v":0},{"$f":"JEL$1963","v":0},{"$f":"JEM$1963","v":0},{"$f":"JEN$1963","v":0},{"$f":"JEO$1963","v":0},{"$f":"JEP$1963","v":0},{"$f":"JEQ$1963","v":0},{"$f":"JER$1963","v":0},{"$f":"JES$1963","v":0},{"$f":"JET$1963","v":0},{"$f":"JEU$1963","v":0},{"$f":"JEV$1963","v":0},{"$f":"JEW$1963","v":0},{"$f":"JEX$1963","v":0},{"$f":"JEY$1963","v":0},{"$f":"JEZ$1963","v":0},{"$f":"JFA$1963","v":0},{"$f":"JFB$1963","v":0},{"$f":"JFC$1963","v":0},{"$f":"JFD$1963","v":0},{"$f":"JFE$1963","v":0},{"$f":"JFF$1963","v":0},{"$f":"JFG$1963","v":0},{"$f":"JFH$1963","v":0},{"$f":"JFI$1963","v":0},{"$f":"JFJ$1963","v":0},{"$f":"JFK$1963","v":0},{"$f":"JFL$1963","v":0},{"$f":"JFM$1963","v":0},{"$f":"JFN$1963","v":0},{"$f":"JFO$1963","v":0},{"$f":"JFP$1963","v":0},{"$f":"JFQ$1963","v":0},{"$f":"JFR$1963","v":0},{"$f":"JFS$1963","v":0},{"$f":"JFT$1963","v":0},{"$f":"JFU$1963","v":0},{"$f":"JFV$1963","v":0},{"$f":"JFW$1963","v":0},{"$f":"JFX$1963","v":0},{"$f":"JFY$1963","v":0},{"$f":"JFZ$1963","v":0},{"$f":"JGA$1963","v":0},{"$f":"JGB$1963","v":0},{"$f":"JGC$1963","v":0},{"$f":"JGD$1963","v":0},{"$f":"JGE$1963","v":0},{"$f":"JGF$1963","v":0},{"$f":"JGG$1963","v":0},{"$f":"JGH$1963","v":0},{"$f":"JGI$1963","v":0},{"$f":"JGJ$1963","v":0},{"$f":"JGK$1963","v":0},{"$f":"JGL$1963","v":0},{"$f":"JGM$1963","v":0},{"$f":"JGN$1963","v":0},{"$f":"JGO$1963","v":0},{"$f":"JGP$1963","v":0},{"$f":"JGQ$1963","v":0},{"$f":"JGR$1963","v":0},{"$f":"JGS$1963","v":0},{"$f":"JGT$1963","v":0},{"$f":"JGU$1963","v":0},{"$f":"JGV$1963","v":0},{"$f":"JGW$1963","v":0},{"$f":"JGX$1963","v":0},{"$f":"JGY$1963","v":0},{"$f":"JGZ$1963","v":0},{"$f":"JHA$1963","v":0},{"$f":"JHB$1963","v":0},{"$f":"JHC$1963","v":0},{"$f":"JHD$1963","v":0},{"$f":"JHE$1963","v":0},{"$f":"JHF$1963","v":0},{"$f":"JHG$1963","v":0},{"$f":"JHH$1963","v":0},{"$f":"JHI$1963","v":0},{"$f":"JHJ$1963","v":0},{"$f":"JHK$1963","v":0},{"$f":"JHL$1963","v":0},{"$f":"JHM$1963","v":0},{"$f":"JHN$1963","v":0},{"$f":"JHO$1963","v":0},{"$f":"JHP$1963","v":0},{"$f":"JHQ$1963","v":0},{"$f":"JHR$1963","v":0},{"$f":"JHS$1963","v":0},{"$f":"JHT$1963","v":0},{"$f":"JHU$1963","v":0},{"$f":"JHV$1963","v":0},{"$f":"JHW$1963","v":0},{"$f":"JHX$1963","v":0},{"$f":"JHY$1963","v":0},{"$f":"JHZ$1963","v":0},{"$f":"JIA$1963","v":0},{"$f":"JIB$1963","v":0},{"$f":"JIC$1963","v":0},{"$f":"JID$1963","v":0},{"$f":"JIE$1963","v":0},{"$f":"JIF$1963","v":0},{"$f":"JIG$1963","v":0},{"$f":"JIH$1963","v":0},{"$f":"JII$1963","v":0},{"$f":"JIJ$1963","v":0},{"$f":"JIK$1963","v":0},{"$f":"JIL$1963","v":0},{"$f":"JIM$1963","v":0},{"$f":"JIN$1963","v":0},{"$f":"JIO$1963","v":0},{"$f":"JIP$1963","v":0},{"$f":"JIQ$1963","v":0},{"$f":"JIR$1963","v":0},{"$f":"JIS$1963","v":0},{"$f":"JIT$1963","v":0},{"$f":"JIU$1963","v":0},{"$f":"JIV$1963","v":0},{"$f":"JIW$1963","v":0},{"$f":"JIX$1963","v":0},{"$f":"JIY$1963","v":0},{"$f":"JIZ$1963","v":0},{"$f":"JJA$1963","v":0},{"$f":"JJB$1963","v":0},{"$f":"JJC$1963","v":0},{"$f":"JJD$1963","v":0},{"$f":"JJE$1963","v":0},{"$f":"JJF$1963","v":0},{"$f":"JJG$1963","v":0},{"$f":"JJH$1963","v":0},{"$f":"JJI$1963","v":0},{"$f":"JJJ$1963","v":0},{"$f":"JJK$1963","v":0},{"$f":"JJL$1963","v":0},{"$f":"JJM$1963","v":0},{"$f":"JJN$1963","v":0},{"$f":"JJO$1963","v":0},{"$f":"JJP$1963","v":0},{"$f":"JJQ$1963","v":0},{"$f":"JJR$1963","v":0},{"$f":"JJS$1963","v":0},{"$f":"JJT$1963","v":0},{"$f":"JJU$1963","v":0},{"$f":"JJV$1963","v":0},{"$f":"JJW$1963","v":0},{"$f":"JJX$1963","v":0},{"$f":"JJY$1963","v":0},{"$f":"JJZ$1963","v":0},{"$f":"JKA$1963","v":0},{"$f":"JKB$1963","v":0},{"$f":"JKC$1963","v":0},{"$f":"JKD$1963","v":0},{"$f":"JKE$1963","v":0},{"$f":"JKF$1963","v":0},{"$f":"JKG$1963","v":0},{"$f":"JKH$1963","v":0},{"$f":"JKI$1963","v":0},{"$f":"JKJ$1963","v":0},{"$f":"JKK$1963","v":0},{"$f":"JKL$1963","v":0},{"$f":"JKM$1963","v":0},{"$f":"JKN$1963","v":0},{"$f":"JKO$1963","v":0},{"$f":"JKP$1963","v":0},{"$f":"JKQ$1963","v":0},{"$f":"JKR$1963","v":0},{"$f":"JKS$1963","v":0},{"$f":"JKT$1963","v":0},{"$f":"JKU$1963","v":0},{"$f":"JKV$1963","v":0},{"$f":"JKW$1963","v":0},{"$f":"JKX$1963","v":0},{"$f":"JKY$1963","v":0},{"$f":"JKZ$1963","v":0},{"$f":"JLA$1963","v":0},{"$f":"JLB$1963","v":0},{"$f":"JLC$1963","v":0},{"$f":"JLD$1963","v":0},{"$f":"JLE$1963","v":0},{"$f":"JLF$1963","v":0},{"$f":"JLG$1963","v":0},{"$f":"JLH$1963","v":0},{"$f":"JLI$1963","v":0},{"$f":"JLJ$1963","v":0},{"$f":"JLK$1963","v":0},{"$f":"JLL$1963","v":0},{"$f":"JLM$1963","v":0},{"$f":"JLN$1963","v":0},{"$f":"JLO$1963","v":0},{"$f":"JLP$1963","v":0},{"$f":"JLQ$1963","v":0},{"$f":"JLR$1963","v":0},{"$f":"JLS$1963","v":0},{"$f":"JLT$1963","v":0},{"$f":"JLU$1963","v":0},{"$f":"JLV$1963","v":0},{"$f":"JLW$1963","v":0},{"$f":"JLX$1963","v":0},{"$f":"JLY$1963","v":0},{"$f":"JLZ$1963","v":0},{"$f":"JMA$1963","v":0},{"$f":"JMB$1963","v":0},{"$f":"JMC$1963","v":0},{"$f":"JMD$1963","v":0},{"$f":"JME$1963","v":0},{"$f":"JMF$1963","v":0},{"$f":"JMG$1963","v":0},{"$f":"JMH$1963","v":0},{"$f":"JMI$1963","v":0},{"$f":"JMJ$1963","v":0},{"$f":"JMK$1963","v":0},{"$f":"JML$1963","v":0},{"$f":"JMM$1963","v":0},{"$f":"JMN$1963","v":0},{"$f":"JMO$1963","v":0},{"$f":"JMP$1963","v":0},{"$f":"JMQ$1963","v":0},{"$f":"JMR$1963","v":0},{"$f":"JMS$1963","v":0},{"$f":"JMT$1963","v":0},{"$f":"JMU$1963","v":0},{"$f":"JMV$1963","v":0},{"$f":"JMW$1963","v":0},{"$f":"JMX$1963","v":0},{"$f":"JMY$1963","v":0},{"$f":"JMZ$1963","v":0},{"$f":"JNA$1963","v":0},{"$f":"JNB$1963","v":0},{"$f":"JNC$1963","v":0},{"$f":"JND$1963","v":0},{"$f":"JNE$1963","v":0},{"$f":"JNF$1963","v":0},{"$f":"JNG$1963","v":0},{"$f":"JNH$1963","v":0},{"$f":"JNI$1963","v":0},{"$f":"JNJ$1963","v":0},{"$f":"JNK$1963","v":0},{"$f":"JNL$1963","v":0},{"$f":"JNM$1963","v":0},{"$f":"JNN$1963","v":0},{"$f":"JNO$1963","v":0},{"$f":"JNP$1963","v":0},{"$f":"JNQ$1963","v":0},{"$f":"JNR$1963","v":0},{"$f":"JNS$1963","v":0},{"$f":"JNT$1963","v":0},{"$f":"JNU$1963","v":0},{"$f":"JNV$1963","v":0},{"$f":"JNW$1963","v":0},{"$f":"JNX$1963","v":0},{"$f":"JNY$1963","v":0},{"$f":"JNZ$1963","v":0},{"$f":"JOA$1963","v":0},{"$f":"JOB$1963","v":0},{"$f":"JOC$1963","v":0},{"$f":"JOD$1963","v":0},{"$f":"JOE$1963","v":0},{"$f":"JOF$1963","v":0},{"$f":"JOG$1963","v":0},{"$f":"JOH$1963","v":0},{"$f":"JOI$1963","v":0},{"$f":"JOJ$1963","v":0},{"$f":"JOK$1963","v":0},{"$f":"JOL$1963","v":0},{"$f":"JOM$1963","v":0},{"$f":"JON$1963","v":0},{"$f":"JOO$1963","v":0},{"$f":"JOP$1963","v":0},{"$f":"JOQ$1963","v":0},{"$f":"JOR$1963","v":0},{"$f":"JOS$1963","v":0},{"$f":"JOT$1963","v":0},{"$f":"JOU$1963","v":0},{"$f":"JOV$1963","v":0},{"$f":"JOW$1963","v":0},{"$f":"JOX$1963","v":0},{"$f":"JOY$1963","v":0},{"$f":"JOZ$1963","v":0},{"$f":"JPA$1963","v":0},{"$f":"JPB$1963","v":0},{"$f":"JPC$1963","v":0},{"$f":"JPD$1963","v":0},{"$f":"JPE$1963","v":0},{"$f":"JPF$1963","v":0},{"$f":"JPG$1963","v":0},{"$f":"JPH$1963","v":0},{"$f":"JPI$1963","v":0},{"$f":"JPJ$1963","v":0},{"$f":"JPK$1963","v":0},{"$f":"JPL$1963","v":0},{"$f":"JPM$1963","v":0},{"$f":"JPN$1963","v":0},{"$f":"JPO$1963","v":0},{"$f":"JPP$1963","v":0},{"$f":"JPQ$1963","v":0},{"$f":"JPR$1963","v":0},{"$f":"JPS$1963","v":0},{"$f":"JPT$1963","v":0},{"$f":"JPU$1963","v":0},{"$f":"JPV$1963","v":0},{"$f":"JPW$1963","v":0},{"$f":"JPX$1963","v":0},{"$f":"JPY$1963","v":0},{"$f":"JPZ$1963","v":0},{"$f":"JQA$1963","v":0},{"$f":"JQB$1963","v":0},{"$f":"JQC$1963","v":0},{"$f":"JQD$1963","v":0},{"$f":"JQE$1963","v":0},{"$f":"JQF$1963","v":0},{"$f":"JQG$1963","v":0},{"$f":"JQH$1963","v":0},{"$f":"JQI$1963","v":0},{"$f":"JQJ$1963","v":0},{"$f":"JQK$1963","v":0},{"$f":"JQL$1963","v":0},{"$f":"JQM$1963","v":0},{"$f":"JQN$1963","v":0},{"$f":"JQO$1963","v":0},{"$f":"JQP$1963","v":0},{"$f":"JQQ$1963","v":0},{"$f":"JQR$1963","v":0},{"$f":"JQS$1963","v":0},{"$f":"JQT$1963","v":0},{"$f":"JQU$1963","v":0},{"$f":"JQV$1963","v":0},{"$f":"JQW$1963","v":0},{"$f":"JQX$1963","v":0},{"$f":"JQY$1963","v":0},{"$f":"JQZ$1963","v":0},{"$f":"JRA$1963","v":0},{"$f":"JRB$1963","v":0},{"$f":"JRC$1963","v":0},{"$f":"JRD$1963","v":0},{"$f":"JRE$1963","v":0},{"$f":"JRF$1963","v":0},{"$f":"JRG$1963","v":0},{"$f":"JRH$1963","v":0},{"$f":"JRI$1963","v":0},{"$f":"JRJ$1963","v":0},{"$f":"JRK$1963","v":0},{"$f":"JRL$1963","v":0},{"$f":"JRM$1963","v":0},{"$f":"JRN$1963","v":0},{"$f":"JRO$1963","v":0},{"$f":"JRP$1963","v":0},{"$f":"JRQ$1963","v":0},{"$f":"JRR$1963","v":0},{"$f":"JRS$1963","v":0},{"$f":"JRT$1963","v":0},{"$f":"JRU$1963","v":0},{"$f":"JRV$1963","v":0},{"$f":"JRW$1963","v":0},{"$f":"JRX$1963","v":0},{"$f":"JRY$1963","v":0},{"$f":"JRZ$1963","v":0},{"$f":"JSA$1963","v":0},{"$f":"JSB$1963","v":0},{"$f":"JSC$1963","v":0},{"$f":"JSD$1963","v":0},{"$f":"JSE$1963","v":0},{"$f":"JSF$1963","v":0},{"$f":"JSG$1963","v":0},{"$f":"JSH$1963","v":0},{"$f":"JSI$1963","v":0},{"$f":"JSJ$1963","v":0},{"$f":"JSK$1963","v":0},{"$f":"JSL$1963","v":0},{"$f":"JSM$1963","v":0},{"$f":"JSN$1963","v":0},{"$f":"JSO$1963","v":0},{"$f":"JSP$1963","v":0},{"$f":"JSQ$1963","v":0},{"$f":"JSR$1963","v":0},{"$f":"JSS$1963","v":0},{"$f":"JST$1963","v":0},{"$f":"JSU$1963","v":0},{"$f":"JSV$1963","v":0},{"$f":"JSW$1963","v":0},{"$f":"JSX$1963","v":0},{"$f":"JSY$1963","v":0},{"$f":"JSZ$1963","v":0},{"$f":"JTA$1963","v":0},{"$f":"JTB$1963","v":0},{"$f":"JTC$1963","v":0},{"$f":"JTD$1963","v":0},{"$f":"JTE$1963","v":0},{"$f":"JTF$1963","v":0},{"$f":"JTG$1963","v":0},{"$f":"JTH$1963","v":0},{"$f":"JTI$1963","v":0},{"$f":"JTJ$1963","v":0},{"$f":"JTK$1963","v":0},{"$f":"JTL$1963","v":0},{"$f":"JTM$1963","v":0},{"$f":"JTN$1963","v":0},{"$f":"JTO$1963","v":0},{"$f":"JTP$1963","v":0},{"$f":"JTQ$1963","v":0},{"$f":"JTR$1963","v":0},{"$f":"JTS$1963","v":0},{"$f":"JTT$1963","v":0},{"$f":"JTU$1963","v":0},{"$f":"JTV$1963","v":0},{"$f":"JTW$1963","v":0},{"$f":"JTX$1963","v":0},{"$f":"JTY$1963","v":0},{"$f":"JTZ$1963","v":0},{"$f":"JUA$1963","v":0},{"$f":"JUB$1963","v":0},{"$f":"JUC$1963","v":0},{"$f":"JUD$1963","v":0},{"$f":"JUE$1963","v":0},{"$f":"JUF$1963","v":0},{"$f":"JUG$1963","v":0},{"$f":"JUH$1963","v":0},{"$f":"JUI$1963","v":0},{"$f":"JUJ$1963","v":0},{"$f":"JUK$1963","v":0},{"$f":"JUL$1963","v":0},{"$f":"JUM$1963","v":0},{"$f":"JUN$1963","v":0},{"$f":"JUO$1963","v":0},{"$f":"JUP$1963","v":0},{"$f":"JUQ$1963","v":0},{"$f":"JUR$1963","v":0},{"$f":"JUS$1963","v":0},{"$f":"JUT$1963","v":0},{"$f":"JUU$1963","v":0},{"$f":"JUV$1963","v":0},{"$f":"JUW$1963","v":0},{"$f":"JUX$1963","v":0},{"$f":"JUY$1963","v":0},{"$f":"JUZ$1963","v":0},{"$f":"JVA$1963","v":0},{"$f":"JVB$1963","v":0},{"$f":"JVC$1963","v":0},{"$f":"JVD$1963","v":0},{"$f":"JVE$1963","v":0},{"$f":"JVF$1963","v":0},{"$f":"JVG$1963","v":0},{"$f":"JVH$1963","v":0},{"$f":"JVI$1963","v":0},{"$f":"JVJ$1963","v":0},{"$f":"JVK$1963","v":0},{"$f":"JVL$1963","v":0},{"$f":"JVM$1963","v":0},{"$f":"JVN$1963","v":0},{"$f":"JVO$1963","v":0},{"$f":"JVP$1963","v":0},{"$f":"JVQ$1963","v":0},{"$f":"JVR$1963","v":0},{"$f":"JVS$1963","v":0},{"$f":"JVT$1963","v":0},{"$f":"JVU$1963","v":0},{"$f":"JVV$1963","v":0},{"$f":"JVW$1963","v":0},{"$f":"JVX$1963","v":0},{"$f":"JVY$1963","v":0},{"$f":"JVZ$1963","v":0},{"$f":"JWA$1963","v":0},{"$f":"JWB$1963","v":0},{"$f":"JWC$1963","v":0},{"$f":"JWD$1963","v":0},{"$f":"JWE$1963","v":0},{"$f":"JWF$1963","v":0},{"$f":"JWG$1963","v":0},{"$f":"JWH$1963","v":0},{"$f":"JWI$1963","v":0},{"$f":"JWJ$1963","v":0},{"$f":"JWK$1963","v":0},{"$f":"JWL$1963","v":0},{"$f":"JWM$1963","v":0},{"$f":"JWN$1963","v":0},{"$f":"JWO$1963","v":0},{"$f":"JWP$1963","v":0},{"$f":"JWQ$1963","v":0},{"$f":"JWR$1963","v":0},{"$f":"JWS$1963","v":0},{"$f":"JWT$1963","v":0},{"$f":"JWU$1963","v":0},{"$f":"JWV$1963","v":0},{"$f":"JWW$1963","v":0},{"$f":"JWX$1963","v":0},{"$f":"JWY$1963","v":0},{"$f":"JWZ$1963","v":0},{"$f":"JXA$1963","v":0},{"$f":"JXB$1963","v":0},{"$f":"JXC$1963","v":0},{"$f":"JXD$1963","v":0},{"$f":"JXE$1963","v":0},{"$f":"JXF$1963","v":0},{"$f":"JXG$1963","v":0},{"$f":"JXH$1963","v":0},{"$f":"JXI$1963","v":0},{"$f":"JXJ$1963","v":0},{"$f":"JXK$1963","v":0},{"$f":"JXL$1963","v":0},{"$f":"JXM$1963","v":0},{"$f":"JXN$1963","v":0},{"$f":"JXO$1963","v":0},{"$f":"JXP$1963","v":0},{"$f":"JXQ$1963","v":0},{"$f":"JXR$1963","v":0},{"$f":"JXS$1963","v":0},{"$f":"JXT$1963","v":0},{"$f":"JXU$1963","v":0},{"$f":"JXV$1963","v":0},{"$f":"JXW$1963","v":0},{"$f":"JXX$1963","v":0},{"$f":"JXY$1963","v":0},{"$f":"JXZ$1963","v":0},{"$f":"JYA$1963","v":0},{"$f":"JYB$1963","v":0},{"$f":"JYC$1963","v":0},{"$f":"JYD$1963","v":0},{"$f":"JYE$1963","v":0},{"$f":"JYF$1963","v":0},{"$f":"JYG$1963","v":0},{"$f":"JYH$1963","v":0},{"$f":"JYI$1963","v":0},{"$f":"JYJ$1963","v":0},{"$f":"JYK$1963","v":0},{"$f":"JYL$1963","v":0},{"$f":"JYM$1963","v":0},{"$f":"JYN$1963","v":0},{"$f":"JYO$1963","v":0},{"$f":"JYP$1963","v":0},{"$f":"JYQ$1963","v":0},{"$f":"JYR$1963","v":0},{"$f":"JYS$1963","v":0},{"$f":"JYT$1963","v":0},{"$f":"JYU$1963","v":0},{"$f":"JYV$1963","v":0},{"$f":"JYW$1963","v":0},{"$f":"JYX$1963","v":0},{"$f":"JYY$1963","v":0},{"$f":"JYZ$1963","v":0},{"$f":"JZA$1963","v":0},{"$f":"JZB$1963","v":0},{"$f":"JZC$1963","v":0},{"$f":"JZD$1963","v":0},{"$f":"JZE$1963","v":0},{"$f":"JZF$1963","v":0},{"$f":"JZG$1963","v":0},{"$f":"JZH$1963","v":0},{"$f":"JZI$1963","v":0},{"$f":"JZJ$1963","v":0},{"$f":"JZK$1963","v":0},{"$f":"JZL$1963","v":0},{"$f":"JZM$1963","v":0},{"$f":"JZN$1963","v":0},{"$f":"JZO$1963","v":0},{"$f":"JZP$1963","v":0},{"$f":"JZQ$1963","v":0},{"$f":"JZR$1963","v":0},{"$f":"JZS$1963","v":0},{"$f":"JZT$1963","v":0},{"$f":"JZU$1963","v":0},{"$f":"JZV$1963","v":0},{"$f":"JZW$1963","v":0},{"$f":"JZX$1963","v":0},{"$f":"JZY$1963","v":0},{"$f":"JZZ$1963","v":0},{"$f":"KAA$1963","v":0},{"$f":"KAB$1963","v":0},{"$f":"KAC$1963","v":0},{"$f":"KAD$1963","v":0},{"$f":"KAE$1963","v":0},{"$f":"KAF$1963","v":0},{"$f":"KAG$1963","v":0},{"$f":"KAH$1963","v":0},{"$f":"KAI$1963","v":0},{"$f":"KAJ$1963","v":0},{"$f":"KAK$1963","v":0},{"$f":"KAL$1963","v":0},{"$f":"KAM$1963","v":0},{"$f":"KAN$1963","v":0},{"$f":"KAO$1963","v":0},{"$f":"KAP$1963","v":0},{"$f":"KAQ$1963","v":0},{"$f":"KAR$1963","v":0},{"$f":"KAS$1963","v":0},{"$f":"KAT$1963","v":0},{"$f":"KAU$1963","v":0},{"$f":"KAV$1963","v":0},{"$f":"KAW$1963","v":0},{"$f":"KAX$1963","v":0},{"$f":"KAY$1963","v":0},{"$f":"KAZ$1963","v":0},{"$f":"KBA$1963","v":0},{"$f":"KBB$1963","v":0},{"$f":"KBC$1963","v":0},{"$f":"KBD$1963","v":0},{"$f":"KBE$1963","v":0},{"$f":"KBF$1963","v":0},{"$f":"KBG$1963","v":0},{"$f":"KBH$1963","v":0},{"$f":"KBI$1963","v":0},{"$f":"KBJ$1963","v":0},{"$f":"KBK$1963","v":0},{"$f":"KBL$1963","v":0},{"$f":"KBM$1963","v":0},{"$f":"KBN$1963","v":0},{"$f":"KBO$1963","v":0},{"$f":"KBP$1963","v":0},{"$f":"KBQ$1963","v":0},{"$f":"KBR$1963","v":0},{"$f":"KBS$1963","v":0},{"$f":"KBT$1963","v":0},{"$f":"KBU$1963","v":0},{"$f":"KBV$1963","v":0},{"$f":"KBW$1963","v":0},{"$f":"KBX$1963","v":0},{"$f":"KBY$1963","v":0},{"$f":"KBZ$1963","v":0},{"$f":"KCA$1963","v":0},{"$f":"KCB$1963","v":0},{"$f":"KCC$1963","v":0},{"$f":"KCD$1963","v":0},{"$f":"KCE$1963","v":0},{"$f":"KCF$1963","v":0},{"$f":"KCG$1963","v":0},{"$f":"KCH$1963","v":0},{"$f":"KCI$1963","v":0},{"$f":"KCJ$1963","v":0},{"$f":"KCK$1963","v":0},{"$f":"KCL$1963","v":0},{"$f":"KCM$1963","v":0},{"$f":"KCN$1963","v":0},{"$f":"KCO$1963","v":0},{"$f":"KCP$1963","v":0},{"$f":"KCQ$1963","v":0},{"$f":"KCR$1963","v":0},{"$f":"KCS$1963","v":0},{"$f":"KCT$1963","v":0},{"$f":"KCU$1963","v":0},{"$f":"KCV$1963","v":0},{"$f":"KCW$1963","v":0},{"$f":"KCX$1963","v":0},{"$f":"KCY$1963","v":0},{"$f":"KCZ$1963","v":0},{"$f":"KDA$1963","v":0},{"$f":"KDB$1963","v":0},{"$f":"KDC$1963","v":0},{"$f":"KDD$1963","v":0},{"$f":"KDE$1963","v":0},{"$f":"KDF$1963","v":0},{"$f":"KDG$1963","v":0},{"$f":"KDH$1963","v":0},{"$f":"KDI$1963","v":0},{"$f":"KDJ$1963","v":0},{"$f":"KDK$1963","v":0},{"$f":"KDL$1963","v":0},{"$f":"KDM$1963","v":0},{"$f":"KDN$1963","v":0},{"$f":"KDO$1963","v":0},{"$f":"KDP$1963","v":0},{"$f":"KDQ$1963","v":0},{"$f":"KDR$1963","v":0},{"$f":"KDS$1963","v":0},{"$f":"KDT$1963","v":0},{"$f":"KDU$1963","v":0},{"$f":"KDV$1963","v":0},{"$f":"KDW$1963","v":0},{"$f":"KDX$1963","v":0},{"$f":"KDY$1963","v":0},{"$f":"KDZ$1963","v":0},{"$f":"KEA$1963","v":0},{"$f":"KEB$1963","v":0},{"$f":"KEC$1963","v":0},{"$f":"KED$1963","v":0},{"$f":"KEE$1963","v":0},{"$f":"KEF$1963","v":0},{"$f":"KEG$1963","v":0},{"$f":"KEH$1963","v":0},{"$f":"KEI$1963","v":0},{"$f":"KEJ$1963","v":0},{"$f":"KEK$1963","v":0},{"$f":"KEL$1963","v":0},{"$f":"KEM$1963","v":0},{"$f":"KEN$1963","v":0},{"$f":"KEO$1963","v":0},{"$f":"KEP$1963","v":0},{"$f":"KEQ$1963","v":0},{"$f":"KER$1963","v":0},{"$f":"KES$1963","v":0},{"$f":"KET$1963","v":0},{"$f":"KEU$1963","v":0},{"$f":"KEV$1963","v":0},{"$f":"KEW$1963","v":0},{"$f":"KEX$1963","v":0},{"$f":"KEY$1963","v":0},{"$f":"KEZ$1963","v":0},{"$f":"KFA$1963","v":0},{"$f":"KFB$1963","v":0},{"$f":"KFC$1963","v":0},{"$f":"KFD$1963","v":0},{"$f":"KFE$1963","v":0},{"$f":"KFF$1963","v":0},{"$f":"KFG$1963","v":0},{"$f":"KFH$1963","v":0},{"$f":"KFI$1963","v":0},{"$f":"KFJ$1963","v":0},{"$f":"KFK$1963","v":0},{"$f":"KFL$1963","v":0},{"$f":"KFM$1963","v":0},{"$f":"KFN$1963","v":0},{"$f":"KFO$1963","v":0},{"$f":"KFP$1963","v":0},{"$f":"KFQ$1963","v":0},{"$f":"KFR$1963","v":0},{"$f":"KFS$1963","v":0},{"$f":"KFT$1963","v":0},{"$f":"KFU$1963","v":0},{"$f":"KFV$1963","v":0},{"$f":"KFW$1963","v":0},{"$f":"KFX$1963","v":0},{"$f":"KFY$1963","v":0},{"$f":"KFZ$1963","v":0},{"$f":"KGA$1963","v":0},{"$f":"KGB$1963","v":0},{"$f":"KGC$1963","v":0},{"$f":"KGD$1963","v":0},{"$f":"KGE$1963","v":0},{"$f":"KGF$1963","v":0},{"$f":"KGG$1963","v":0},{"$f":"KGH$1963","v":0},{"$f":"KGI$1963","v":0},{"$f":"KGJ$1963","v":0},{"$f":"KGK$1963","v":0},{"$f":"KGL$1963","v":0},{"$f":"KGM$1963","v":0},{"$f":"KGN$1963","v":0},{"$f":"KGO$1963","v":0},{"$f":"KGP$1963","v":0},{"$f":"KGQ$1963","v":0},{"$f":"KGR$1963","v":0},{"$f":"KGS$1963","v":0},{"$f":"KGT$1963","v":0},{"$f":"KGU$1963","v":0},{"$f":"KGV$1963","v":0},{"$f":"KGW$1963","v":0},{"$f":"KGX$1963","v":0},{"$f":"KGY$1963","v":0},{"$f":"KGZ$1963","v":0},{"$f":"KHA$1963","v":0},{"$f":"KHB$1963","v":0},{"$f":"KHC$1963","v":0},{"$f":"KHD$1963","v":0},{"$f":"KHE$1963","v":0},{"$f":"KHF$1963","v":0},{"$f":"KHG$1963","v":0},{"$f":"KHH$1963","v":0},{"$f":"KHI$1963","v":0},{"$f":"KHJ$1963","v":0},{"$f":"KHK$1963","v":0},{"$f":"KHL$1963","v":0},{"$f":"KHM$1963","v":0},{"$f":"KHN$1963","v":0},{"$f":"KHO$1963","v":0},{"$f":"KHP$1963","v":0},{"$f":"KHQ$1963","v":0},{"$f":"KHR$1963","v":0},{"$f":"KHS$1963","v":0},{"$f":"KHT$1963","v":0},{"$f":"KHU$1963","v":0},{"$f":"KHV$1963","v":0},{"$f":"KHW$1963","v":0},{"$f":"KHX$1963","v":0},{"$f":"KHY$1963","v":0},{"$f":"KHZ$1963","v":0},{"$f":"KIA$1963","v":0},{"$f":"KIB$1963","v":0},{"$f":"KIC$1963","v":0},{"$f":"KID$1963","v":0},{"$f":"KIE$1963","v":0},{"$f":"KIF$1963","v":0},{"$f":"KIG$1963","v":0},{"$f":"KIH$1963","v":0},{"$f":"KII$1963","v":0},{"$f":"KIJ$1963","v":0},{"$f":"KIK$1963","v":0},{"$f":"KIL$1963","v":0},{"$f":"KIM$1963","v":0},{"$f":"KIN$1963","v":0},{"$f":"KIO$1963","v":0},{"$f":"KIP$1963","v":0},{"$f":"KIQ$1963","v":0},{"$f":"KIR$1963","v":0},{"$f":"KIS$1963","v":0},{"$f":"KIT$1963","v":0},{"$f":"KIU$1963","v":0},{"$f":"KIV$1963","v":0},{"$f":"KIW$1963","v":0},{"$f":"KIX$1963","v":0},{"$f":"KIY$1963","v":0},{"$f":"KIZ$1963","v":0},{"$f":"KJA$1963","v":0},{"$f":"KJB$1963","v":0},{"$f":"KJC$1963","v":0},{"$f":"KJD$1963","v":0},{"$f":"KJE$1963","v":0},{"$f":"KJF$1963","v":0},{"$f":"KJG$1963","v":0},{"$f":"KJH$1963","v":0},{"$f":"KJI$1963","v":0},{"$f":"KJJ$1963","v":0},{"$f":"KJK$1963","v":0},{"$f":"KJL$1963","v":0},{"$f":"KJM$1963","v":0},{"$f":"KJN$1963","v":0},{"$f":"KJO$1963","v":0},{"$f":"KJP$1963","v":0},{"$f":"KJQ$1963","v":0},{"$f":"KJR$1963","v":0},{"$f":"KJS$1963","v":0},{"$f":"KJT$1963","v":0},{"$f":"KJU$1963","v":0},{"$f":"KJV$1963","v":0},{"$f":"KJW$1963","v":0},{"$f":"KJX$1963","v":0},{"$f":"KJY$1963","v":0},{"$f":"KJZ$1963","v":0},{"$f":"KKA$1963","v":0},{"$f":"KKB$1963","v":0},{"$f":"KKC$1963","v":0},{"$f":"KKD$1963","v":0},{"$f":"KKE$1963","v":0},{"$f":"KKF$1963","v":0},{"$f":"KKG$1963","v":0},{"$f":"KKH$1963","v":0},{"$f":"KKI$1963","v":0},{"$f":"KKJ$1963","v":0},{"$f":"KKK$1963","v":0},{"$f":"KKL$1963","v":0},{"$f":"KKM$1963","v":0},{"$f":"KKN$1963","v":0},{"$f":"KKO$1963","v":0},{"$f":"KKP$1963","v":0},{"$f":"KKQ$1963","v":0},{"$f":"KKR$1963","v":0},{"$f":"KKS$1963","v":0},{"$f":"KKT$1963","v":0},{"$f":"KKU$1963","v":0},{"$f":"KKV$1963","v":0},{"$f":"KKW$1963","v":0},{"$f":"KKX$1963","v":0},{"$f":"KKY$1963","v":0},{"$f":"KKZ$1963","v":0},{"$f":"KLA$1963","v":0},{"$f":"KLB$1963","v":0},{"$f":"KLC$1963","v":0},{"$f":"KLD$1963","v":0},{"$f":"KLE$1963","v":0},{"$f":"KLF$1963","v":0},{"$f":"KLG$1963","v":0},{"$f":"KLH$1963","v":0},{"$f":"KLI$1963","v":0},{"$f":"KLJ$1963","v":0},{"$f":"KLK$1963","v":0},{"$f":"KLL$1963","v":0},{"$f":"KLM$1963","v":0},{"$f":"KLN$1963","v":0},{"$f":"KLO$1963","v":0},{"$f":"KLP$1963","v":0},{"$f":"KLQ$1963","v":0},{"$f":"KLR$1963","v":0},{"$f":"KLS$1963","v":0},{"$f":"KLT$1963","v":0},{"$f":"KLU$1963","v":0},{"$f":"KLV$1963","v":0},{"$f":"KLW$1963","v":0},{"$f":"KLX$1963","v":0},{"$f":"KLY$1963","v":0},{"$f":"KLZ$1963","v":0},{"$f":"KMA$1963","v":0},{"$f":"KMB$1963","v":0},{"$f":"KMC$1963","v":0},{"$f":"KMD$1963","v":0},{"$f":"KME$1963","v":0},{"$f":"KMF$1963","v":0},{"$f":"KMG$1963","v":0},{"$f":"KMH$1963","v":0},{"$f":"KMI$1963","v":0},{"$f":"KMJ$1963","v":0},{"$f":"KMK$1963","v":0},{"$f":"KML$1963","v":0},{"$f":"KMM$1963","v":0},{"$f":"KMN$1963","v":0},{"$f":"KMO$1963","v":0},{"$f":"KMP$1963","v":0},{"$f":"KMQ$1963","v":0},{"$f":"KMR$1963","v":0},{"$f":"KMS$1963","v":0},{"$f":"KMT$1963","v":0},{"$f":"KMU$1963","v":0},{"$f":"KMV$1963","v":0},{"$f":"KMW$1963","v":0},{"$f":"KMX$1963","v":0},{"$f":"KMY$1963","v":0},{"$f":"KMZ$1963","v":0},{"$f":"KNA$1963","v":0},{"$f":"KNB$1963","v":0},{"$f":"KNC$1963","v":0},{"$f":"KND$1963","v":0},{"$f":"KNE$1963","v":0},{"$f":"KNF$1963","v":0},{"$f":"KNG$1963","v":0},{"$f":"KNH$1963","v":0},{"$f":"KNI$1963","v":0},{"$f":"KNJ$1963","v":0},{"$f":"KNK$1963","v":0},{"$f":"KNL$1963","v":0},{"$f":"KNM$1963","v":0},{"$f":"KNN$1963","v":0},{"$f":"KNO$1963","v":0},{"$f":"KNP$1963","v":0},{"$f":"KNQ$1963","v":0},{"$f":"KNR$1963","v":0},{"$f":"KNS$1963","v":0},{"$f":"KNT$1963","v":0},{"$f":"KNU$1963","v":0},{"$f":"KNV$1963","v":0},{"$f":"KNW$1963","v":0},{"$f":"KNX$1963","v":0},{"$f":"KNY$1963","v":0},{"$f":"KNZ$1963","v":0},{"$f":"KOA$1963","v":0},{"$f":"KOB$1963","v":0},{"$f":"KOC$1963","v":0},{"$f":"KOD$1963","v":0},{"$f":"KOE$1963","v":0},{"$f":"KOF$1963","v":0},{"$f":"KOG$1963","v":0},{"$f":"KOH$1963","v":0},{"$f":"KOI$1963","v":0},{"$f":"KOJ$1963","v":0},{"$f":"KOK$1963","v":0},{"$f":"KOL$1963","v":0},{"$f":"KOM$1963","v":0},{"$f":"KON$1963","v":0},{"$f":"KOO$1963","v":0},{"$f":"KOP$1963","v":0},{"$f":"KOQ$1963","v":0},{"$f":"KOR$1963","v":0},{"$f":"KOS$1963","v":0},{"$f":"KOT$1963","v":0},{"$f":"KOU$1963","v":0},{"$f":"KOV$1963","v":0},{"$f":"KOW$1963","v":0},{"$f":"KOX$1963","v":0},{"$f":"KOY$1963","v":0},{"$f":"KOZ$1963","v":0},{"$f":"KPA$1963","v":0},{"$f":"KPB$1963","v":0},{"$f":"KPC$1963","v":0},{"$f":"KPD$1963","v":0},{"$f":"KPE$1963","v":0},{"$f":"KPF$1963","v":0},{"$f":"KPG$1963","v":0},{"$f":"KPH$1963","v":0},{"$f":"KPI$1963","v":0},{"$f":"KPJ$1963","v":0},{"$f":"KPK$1963","v":0},{"$f":"KPL$1963","v":0},{"$f":"KPM$1963","v":0},{"$f":"KPN$1963","v":0},{"$f":"KPO$1963","v":0},{"$f":"KPP$1963","v":0},{"$f":"KPQ$1963","v":0},{"$f":"KPR$1963","v":0},{"$f":"KPS$1963","v":0},{"$f":"KPT$1963","v":0},{"$f":"KPU$1963","v":0},{"$f":"KPV$1963","v":0},{"$f":"KPW$1963","v":0},{"$f":"KPX$1963","v":0},{"$f":"KPY$1963","v":0},{"$f":"KPZ$1963","v":0},{"$f":"KQA$1963","v":0},{"$f":"KQB$1963","v":0},{"$f":"KQC$1963","v":0},{"$f":"KQD$1963","v":0},{"$f":"KQE$1963","v":0},{"$f":"KQF$1963","v":0},{"$f":"KQG$1963","v":0},{"$f":"KQH$1963","v":0},{"$f":"KQI$1963","v":0},{"$f":"KQJ$1963","v":0},{"$f":"KQK$1963","v":0},{"$f":"KQL$1963","v":0},{"$f":"KQM$1963","v":0},{"$f":"KQN$1963","v":0},{"$f":"KQO$1963","v":0},{"$f":"KQP$1963","v":0},{"$f":"KQQ$1963","v":0},{"$f":"KQR$1963","v":0},{"$f":"KQS$1963","v":0},{"$f":"KQT$1963","v":0},{"$f":"KQU$1963","v":0},{"$f":"KQV$1963","v":0},{"$f":"KQW$1963","v":0},{"$f":"KQX$1963","v":0},{"$f":"KQY$1963","v":0},{"$f":"KQZ$1963","v":0},{"$f":"KRA$1963","v":0},{"$f":"KRB$1963","v":0},{"$f":"KRC$1963","v":0},{"$f":"KRD$1963","v":0},{"$f":"KRE$1963","v":0},{"$f":"KRF$1963","v":0},{"$f":"KRG$1963","v":0},{"$f":"KRH$1963","v":0},{"$f":"KRI$1963","v":0},{"$f":"KRJ$1963","v":0},{"$f":"KRK$1963","v":0},{"$f":"KRL$1963","v":0},{"$f":"KRM$1963","v":0},{"$f":"KRN$1963","v":0},{"$f":"KRO$1963","v":0},{"$f":"KRP$1963","v":0},{"$f":"KRQ$1963","v":0},{"$f":"KRR$1963","v":0},{"$f":"KRS$1963","v":0},{"$f":"KRT$1963","v":0},{"$f":"KRU$1963","v":0},{"$f":"KRV$1963","v":0},{"$f":"KRW$1963","v":0},{"$f":"KRX$1963","v":0},{"$f":"KRY$1963","v":0},{"$f":"KRZ$1963","v":0},{"$f":"KSA$1963","v":0},{"$f":"KSB$1963","v":0},{"$f":"KSC$1963","v":0},{"$f":"KSD$1963","v":0},{"$f":"KSE$1963","v":0},{"$f":"KSF$1963","v":0},{"$f":"KSG$1963","v":0},{"$f":"KSH$1963","v":0},{"$f":"KSI$1963","v":0},{"$f":"KSJ$1963","v":0},{"$f":"KSK$1963","v":0},{"$f":"KSL$1963","v":0},{"$f":"KSM$1963","v":0},{"$f":"KSN$1963","v":0},{"$f":"KSO$1963","v":0},{"$f":"KSP$1963","v":0},{"$f":"KSQ$1963","v":0},{"$f":"KSR$1963","v":0},{"$f":"KSS$1963","v":0},{"$f":"KST$1963","v":0},{"$f":"KSU$1963","v":0},{"$f":"KSV$1963","v":0},{"$f":"KSW$1963","v":0},{"$f":"KSX$1963","v":0},{"$f":"KSY$1963","v":0},{"$f":"KSZ$1963","v":0},{"$f":"KTA$1963","v":0},{"$f":"KTB$1963","v":0},{"$f":"KTC$1963","v":0},{"$f":"KTD$1963","v":0},{"$f":"KTE$1963","v":0},{"$f":"KTF$1963","v":0},{"$f":"KTG$1963","v":0},{"$f":"KTH$1963","v":0},{"$f":"KTI$1963","v":0},{"$f":"KTJ$1963","v":0},{"$f":"KTK$1963","v":0},{"$f":"KTL$1963","v":0},{"$f":"KTM$1963","v":0},{"$f":"KTN$1963","v":0},{"$f":"KTO$1963","v":0},{"$f":"KTP$1963","v":0},{"$f":"KTQ$1963","v":0},{"$f":"KTR$1963","v":0},{"$f":"KTS$1963","v":0},{"$f":"KTT$1963","v":0},{"$f":"KTU$1963","v":0},{"$f":"KTV$1963","v":0},{"$f":"KTW$1963","v":0},{"$f":"KTX$1963","v":0},{"$f":"KTY$1963","v":0},{"$f":"KTZ$1963","v":0},{"$f":"KUA$1963","v":0},{"$f":"KUB$1963","v":0},{"$f":"KUC$1963","v":0},{"$f":"KUD$1963","v":0},{"$f":"KUE$1963","v":0},{"$f":"KUF$1963","v":0},{"$f":"KUG$1963","v":0},{"$f":"KUH$1963","v":0},{"$f":"KUI$1963","v":0},{"$f":"KUJ$1963","v":0},{"$f":"KUK$1963","v":0},{"$f":"KUL$1963","v":0},{"$f":"KUM$1963","v":0},{"$f":"KUN$1963","v":0},{"$f":"KUO$1963","v":0},{"$f":"KUP$1963","v":0},{"$f":"KUQ$1963","v":0},{"$f":"KUR$1963","v":0},{"$f":"KUS$1963","v":0},{"$f":"KUT$1963","v":0},{"$f":"KUU$1963","v":0},{"$f":"KUV$1963","v":0},{"$f":"KUW$1963","v":0},{"$f":"KUX$1963","v":0},{"$f":"KUY$1963","v":0},{"$f":"KUZ$1963","v":0},{"$f":"KVA$1963","v":0},{"$f":"KVB$1963","v":0},{"$f":"KVC$1963","v":0},{"$f":"KVD$1963","v":0},{"$f":"KVE$1963","v":0},{"$f":"KVF$1963","v":0},{"$f":"KVG$1963","v":0},{"$f":"KVH$1963","v":0},{"$f":"KVI$1963","v":0},{"$f":"KVJ$1963","v":0},{"$f":"KVK$1963","v":0},{"$f":"KVL$1963","v":0},{"$f":"KVM$1963","v":0},{"$f":"KVN$1963","v":0},{"$f":"KVO$1963","v":0},{"$f":"KVP$1963","v":0},{"$f":"KVQ$1963","v":0},{"$f":"KVR$1963","v":0},{"$f":"KVS$1963","v":0},{"$f":"KVT$1963","v":0},{"$f":"KVU$1963","v":0},{"$f":"KVV$1963","v":0},{"$f":"KVW$1963","v":0},{"$f":"KVX$1963","v":0},{"$f":"KVY$1963","v":0},{"$f":"KVZ$1963","v":0},{"$f":"KWA$1963","v":0},{"$f":"KWB$1963","v":0},{"$f":"KWC$1963","v":0},{"$f":"KWD$1963","v":0},{"$f":"KWE$1963","v":0},{"$f":"KWF$1963","v":0},{"$f":"KWG$1963","v":0},{"$f":"KWH$1963","v":0},{"$f":"KWI$1963","v":0},{"$f":"KWJ$1963","v":0},{"$f":"KWK$1963","v":0},{"$f":"KWL$1963","v":0},{"$f":"KWM$1963","v":0},{"$f":"KWN$1963","v":0},{"$f":"KWO$1963","v":0},{"$f":"KWP$1963","v":0},{"$f":"KWQ$1963","v":0},{"$f":"KWR$1963","v":0},{"$f":"KWS$1963","v":0},{"$f":"KWT$1963","v":0},{"$f":"KWU$1963","v":0},{"$f":"KWV$1963","v":0},{"$f":"KWW$1963","v":0},{"$f":"KWX$1963","v":0},{"$f":"KWY$1963","v":0},{"$f":"KWZ$1963","v":0},{"$f":"KXA$1963","v":0},{"$f":"KXB$1963","v":0},{"$f":"KXC$1963","v":0},{"$f":"KXD$1963","v":0},{"$f":"KXE$1963","v":0},{"$f":"KXF$1963","v":0},{"$f":"KXG$1963","v":0},{"$f":"KXH$1963","v":0},{"$f":"KXI$1963","v":0},{"$f":"KXJ$1963","v":0},{"$f":"KXK$1963","v":0},{"$f":"KXL$1963","v":0},{"$f":"KXM$1963","v":0},{"$f":"KXN$1963","v":0},{"$f":"KXO$1963","v":0},{"$f":"KXP$1963","v":0},{"$f":"KXQ$1963","v":0},{"$f":"KXR$1963","v":0},{"$f":"KXS$1963","v":0},{"$f":"KXT$1963","v":0},{"$f":"KXU$1963","v":0},{"$f":"KXV$1963","v":0},{"$f":"KXW$1963","v":0},{"$f":"KXX$1963","v":0},{"$f":"KXY$1963","v":0},{"$f":"KXZ$1963","v":0},{"$f":"KYA$1963","v":0},{"$f":"KYB$1963","v":0},{"$f":"KYC$1963","v":0},{"$f":"KYD$1963","v":0},{"$f":"KYE$1963","v":0},{"$f":"KYF$1963","v":0},{"$f":"KYG$1963","v":0},{"$f":"KYH$1963","v":0},{"$f":"KYI$1963","v":0},{"$f":"KYJ$1963","v":0},{"$f":"KYK$1963","v":0},{"$f":"KYL$1963","v":0},{"$f":"KYM$1963","v":0},{"$f":"KYN$1963","v":0},{"$f":"KYO$1963","v":0},{"$f":"KYP$1963","v":0},{"$f":"KYQ$1963","v":0},{"$f":"KYR$1963","v":0},{"$f":"KYS$1963","v":0},{"$f":"KYT$1963","v":0},{"$f":"KYU$1963","v":0},{"$f":"KYV$1963","v":0},{"$f":"KYW$1963","v":0},{"$f":"KYX$1963","v":0},{"$f":"KYY$1963","v":0},{"$f":"KYZ$1963","v":0},{"$f":"KZA$1963","v":0},{"$f":"KZB$1963","v":0},{"$f":"KZC$1963","v":0},{"$f":"KZD$1963","v":0},{"$f":"KZE$1963","v":0},{"$f":"KZF$1963","v":0},{"$f":"KZG$1963","v":0},{"$f":"KZH$1963","v":0},{"$f":"KZI$1963","v":0},{"$f":"KZJ$1963","v":0},{"$f":"KZK$1963","v":0},{"$f":"KZL$1963","v":0},{"$f":"KZM$1963","v":0},{"$f":"KZN$1963","v":0},{"$f":"KZO$1963","v":0},{"$f":"KZP$1963","v":0},{"$f":"KZQ$1963","v":0},{"$f":"KZR$1963","v":0},{"$f":"KZS$1963","v":0},{"$f":"KZT$1963","v":0},{"$f":"KZU$1963","v":0},{"$f":"KZV$1963","v":0},{"$f":"KZW$1963","v":0},{"$f":"KZX$1963","v":0},{"$f":"KZY$1963","v":0},{"$f":"KZZ$1963","v":0},{"$f":"LAA$1963","v":0},{"$f":"LAB$1963","v":0},{"$f":"LAC$1963","v":0},{"$f":"LAD$1963","v":0},{"$f":"LAE$1963","v":0},{"$f":"LAF$1963","v":0},{"$f":"LAG$1963","v":0},{"$f":"LAH$1963","v":0},{"$f":"LAI$1963","v":0},{"$f":"LAJ$1963","v":0},{"$f":"LAK$1963","v":0},{"$f":"LAL$1963","v":0},{"$f":"LAM$1963","v":0},{"$f":"LAN$1963","v":0},{"$f":"LAO$1963","v":0},{"$f":"LAP$1963","v":0},{"$f":"LAQ$1963","v":0},{"$f":"LAR$1963","v":0},{"$f":"LAS$1963","v":0},{"$f":"LAT$1963","v":0},{"$f":"LAU$1963","v":0},{"$f":"LAV$1963","v":0},{"$f":"LAW$1963","v":0},{"$f":"LAX$1963","v":0},{"$f":"LAY$1963","v":0},{"$f":"LAZ$1963","v":0},{"$f":"LBA$1963","v":0},{"$f":"LBB$1963","v":0},{"$f":"LBC$1963","v":0},{"$f":"LBD$1963","v":0},{"$f":"LBE$1963","v":0},{"$f":"LBF$1963","v":0},{"$f":"LBG$1963","v":0},{"$f":"LBH$1963","v":0},{"$f":"LBI$1963","v":0},{"$f":"LBJ$1963","v":0},{"$f":"LBK$1963","v":0},{"$f":"LBL$1963","v":0},{"$f":"LBM$1963","v":0},{"$f":"LBN$1963","v":0},{"$f":"LBO$1963","v":0},{"$f":"LBP$1963","v":0},{"$f":"LBQ$1963","v":0},{"$f":"LBR$1963","v":0},{"$f":"LBS$1963","v":0},{"$f":"LBT$1963","v":0},{"$f":"LBU$1963","v":0},{"$f":"LBV$1963","v":0},{"$f":"LBW$1963","v":0},{"$f":"LBX$1963","v":0},{"$f":"LBY$1963","v":0},{"$f":"LBZ$1963","v":0},{"$f":"LCA$1963","v":0},{"$f":"LCB$1963","v":0},{"$f":"LCC$1963","v":0},{"$f":"LCD$1963","v":0},{"$f":"LCE$1963","v":0},{"$f":"LCF$1963","v":0},{"$f":"LCG$1963","v":0},{"$f":"LCH$1963","v":0},{"$f":"LCI$1963","v":0},{"$f":"LCJ$1963","v":0},{"$f":"LCK$1963","v":0},{"$f":"LCL$1963","v":0},{"$f":"LCM$1963","v":0},{"$f":"LCN$1963","v":0},{"$f":"LCO$1963","v":0},{"$f":"LCP$1963","v":0},{"$f":"LCQ$1963","v":0},{"$f":"LCR$1963","v":0},{"$f":"LCS$1963","v":0},{"$f":"LCT$1963","v":0},{"$f":"LCU$1963","v":0},{"$f":"LCV$1963","v":0},{"$f":"LCW$1963","v":0},{"$f":"LCX$1963","v":0},{"$f":"LCY$1963","v":0},{"$f":"LCZ$1963","v":0},{"$f":"LDA$1963","v":0},{"$f":"LDB$1963","v":0},{"$f":"LDC$1963","v":0},{"$f":"LDD$1963","v":0},{"$f":"LDE$1963","v":0},{"$f":"LDF$1963","v":0},{"$f":"LDG$1963","v":0},{"$f":"LDH$1963","v":0},{"$f":"LDI$1963","v":0},{"$f":"LDJ$1963","v":0},{"$f":"LDK$1963","v":0},{"$f":"LDL$1963","v":0},{"$f":"LDM$1963","v":0},{"$f":"LDN$1963","v":0},{"$f":"LDO$1963","v":0},{"$f":"LDP$1963","v":0},{"$f":"LDQ$1963","v":0},{"$f":"LDR$1963","v":0},{"$f":"LDS$1963","v":0},{"$f":"LDT$1963","v":0},{"$f":"LDU$1963","v":0},{"$f":"LDV$1963","v":0},{"$f":"LDW$1963","v":0},{"$f":"LDX$1963","v":0},{"$f":"LDY$1963","v":0},{"$f":"LDZ$1963","v":0},{"$f":"LEA$1963","v":0},{"$f":"LEB$1963","v":0},{"$f":"LEC$1963","v":0},{"$f":"LED$1963","v":0},{"$f":"LEE$1963","v":0},{"$f":"LEF$1963","v":0},{"$f":"LEG$1963","v":0},{"$f":"LEH$1963","v":0},{"$f":"LEI$1963","v":0},{"$f":"LEJ$1963","v":0},{"$f":"LEK$1963","v":0},{"$f":"LEL$1963","v":0},{"$f":"LEM$1963","v":0},{"$f":"LEN$1963","v":0},{"$f":"LEO$1963","v":0},{"$f":"LEP$1963","v":0},{"$f":"LEQ$1963","v":0},{"$f":"LER$1963","v":0},{"$f":"LES$1963","v":0},{"$f":"LET$1963","v":0},{"$f":"LEU$1963","v":0},{"$f":"LEV$1963","v":0},{"$f":"LEW$1963","v":0},{"$f":"LEX$1963","v":0},{"$f":"LEY$1963","v":0},{"$f":"LEZ$1963","v":0},{"$f":"LFA$1963","v":0},{"$f":"LFB$1963","v":0},{"$f":"LFC$1963","v":0},{"$f":"LFD$1963","v":0},{"$f":"LFE$1963","v":0},{"$f":"LFF$1963","v":0},{"$f":"LFG$1963","v":0},{"$f":"LFH$1963","v":0},{"$f":"LFI$1963","v":0},{"$f":"LFJ$1963","v":0},{"$f":"LFK$1963","v":0},{"$f":"LFL$1963","v":0},{"$f":"LFM$1963","v":0},{"$f":"LFN$1963","v":0},{"$f":"LFO$1963","v":0},{"$f":"LFP$1963","v":0},{"$f":"LFQ$1963","v":0},{"$f":"LFR$1963","v":0},{"$f":"LFS$1963","v":0},{"$f":"LFT$1963","v":0},{"$f":"LFU$1963","v":0},{"$f":"LFV$1963","v":0},{"$f":"LFW$1963","v":0},{"$f":"LFX$1963","v":0},{"$f":"LFY$1963","v":0},{"$f":"LFZ$1963","v":0},{"$f":"LGA$1963","v":0},{"$f":"LGB$1963","v":0},{"$f":"LGC$1963","v":0},{"$f":"LGD$1963","v":0},{"$f":"LGE$1963","v":0},{"$f":"LGF$1963","v":0},{"$f":"LGG$1963","v":0},{"$f":"LGH$1963","v":0},{"$f":"LGI$1963","v":0},{"$f":"LGJ$1963","v":0},{"$f":"LGK$1963","v":0},{"$f":"LGL$1963","v":0},{"$f":"LGM$1963","v":0},{"$f":"LGN$1963","v":0},{"$f":"LGO$1963","v":0},{"$f":"LGP$1963","v":0},{"$f":"LGQ$1963","v":0},{"$f":"LGR$1963","v":0},{"$f":"LGS$1963","v":0},{"$f":"LGT$1963","v":0},{"$f":"LGU$1963","v":0},{"$f":"LGV$1963","v":0},{"$f":"LGW$1963","v":0},{"$f":"LGX$1963","v":0},{"$f":"LGY$1963","v":0},{"$f":"LGZ$1963","v":0},{"$f":"LHA$1963","v":0},{"$f":"LHB$1963","v":0},{"$f":"LHC$1963","v":0},{"$f":"LHD$1963","v":0},{"$f":"LHE$1963","v":0},{"$f":"LHF$1963","v":0},{"$f":"LHG$1963","v":0},{"$f":"LHH$1963","v":0},{"$f":"LHI$1963","v":0},{"$f":"LHJ$1963","v":0},{"$f":"LHK$1963","v":0},{"$f":"LHL$1963","v":0},{"$f":"LHM$1963","v":0},{"$f":"LHN$1963","v":0},{"$f":"LHO$1963","v":0},{"$f":"LHP$1963","v":0},{"$f":"LHQ$1963","v":0},{"$f":"LHR$1963","v":0},{"$f":"LHS$1963","v":0},{"$f":"LHT$1963","v":0},{"$f":"LHU$1963","v":0},{"$f":"LHV$1963","v":0},{"$f":"LHW$1963","v":0},{"$f":"LHX$1963","v":0},{"$f":"LHY$1963","v":0},{"$f":"LHZ$1963","v":0},{"$f":"LIA$1963","v":0},{"$f":"LIB$1963","v":0},{"$f":"LIC$1963","v":0},{"$f":"LID$1963","v":0},{"$f":"LIE$1963","v":0},{"$f":"LIF$1963","v":0},{"$f":"LIG$1963","v":0},{"$f":"LIH$1963","v":0},{"$f":"LII$1963","v":0},{"$f":"LIJ$1963","v":0},{"$f":"LIK$1963","v":0},{"$f":"LIL$1963","v":0},{"$f":"LIM$1963","v":0},{"$f":"LIN$1963","v":0},{"$f":"LIO$1963","v":0},{"$f":"LIP$1963","v":0},{"$f":"LIQ$1963","v":0},{"$f":"LIR$1963","v":0},{"$f":"LIS$1963","v":0},{"$f":"LIT$1963","v":0},{"$f":"LIU$1963","v":0},{"$f":"LIV$1963","v":0},{"$f":"LIW$1963","v":0},{"$f":"LIX$1963","v":0},{"$f":"LIY$1963","v":0},{"$f":"LIZ$1963","v":0},{"$f":"LJA$1963","v":0},{"$f":"LJB$1963","v":0},{"$f":"LJC$1963","v":0},{"$f":"LJD$1963","v":0},{"$f":"LJE$1963","v":0},{"$f":"LJF$1963","v":0},{"$f":"LJG$1963","v":0},{"$f":"LJH$1963","v":0},{"$f":"LJI$1963","v":0},{"$f":"LJJ$1963","v":0},{"$f":"LJK$1963","v":0},{"$f":"LJL$1963","v":0},{"$f":"LJM$1963","v":0},{"$f":"LJN$1963","v":0},{"$f":"LJO$1963","v":0},{"$f":"LJP$1963","v":0},{"$f":"LJQ$1963","v":0},{"$f":"LJR$1963","v":0},{"$f":"LJS$1963","v":0},{"$f":"LJT$1963","v":0},{"$f":"LJU$1963","v":0},{"$f":"LJV$1963","v":0},{"$f":"LJW$1963","v":0},{"$f":"LJX$1963","v":0},{"$f":"LJY$1963","v":0},{"$f":"LJZ$1963","v":0},{"$f":"LKA$1963","v":0},{"$f":"LKB$1963","v":0},{"$f":"LKC$1963","v":0},{"$f":"LKD$1963","v":0},{"$f":"LKE$1963","v":0},{"$f":"LKF$1963","v":0},{"$f":"LKG$1963","v":0},{"$f":"LKH$1963","v":0},{"$f":"LKI$1963","v":0},{"$f":"LKJ$1963","v":0},{"$f":"LKK$1963","v":0},{"$f":"LKL$1963","v":0},{"$f":"LKM$1963","v":0},{"$f":"LKN$1963","v":0},{"$f":"LKO$1963","v":0},{"$f":"LKP$1963","v":0},{"$f":"LKQ$1963","v":0},{"$f":"LKR$1963","v":0},{"$f":"LKS$1963","v":0},{"$f":"LKT$1963","v":0},{"$f":"LKU$1963","v":0},{"$f":"LKV$1963","v":0},{"$f":"LKW$1963","v":0},{"$f":"LKX$1963","v":0},{"$f":"LKY$1963","v":0},{"$f":"LKZ$1963","v":0},{"$f":"LLA$1963","v":0},{"$f":"LLB$1963","v":0},{"$f":"LLC$1963","v":0},{"$f":"LLD$1963","v":0},{"$f":"LLE$1963","v":0},{"$f":"LLF$1963","v":0},{"$f":"LLG$1963","v":0},{"$f":"LLH$1963","v":0},{"$f":"LLI$1963","v":0},{"$f":"LLJ$1963","v":0},{"$f":"LLK$1963","v":0},{"$f":"LLL$1963","v":0},{"$f":"LLM$1963","v":0},{"$f":"LLN$1963","v":0},{"$f":"LLO$1963","v":0},{"$f":"LLP$1963","v":0},{"$f":"LLQ$1963","v":0},{"$f":"LLR$1963","v":0},{"$f":"LLS$1963","v":0},{"$f":"LLT$1963","v":0},{"$f":"LLU$1963","v":0},{"$f":"LLV$1963","v":0},{"$f":"LLW$1963","v":0},{"$f":"LLX$1963","v":0},{"$f":"LLY$1963","v":0},{"$f":"LLZ$1963","v":0},{"$f":"LMA$1963","v":0},{"$f":"LMB$1963","v":0},{"$f":"LMC$1963","v":0},{"$f":"LMD$1963","v":0},{"$f":"LME$1963","v":0},{"$f":"LMF$1963","v":0},{"$f":"LMG$1963","v":0},{"$f":"LMH$1963","v":0},{"$f":"LMI$1963","v":0},{"$f":"LMJ$1963","v":0},{"$f":"LMK$1963","v":0},{"$f":"LML$1963","v":0},{"$f":"LMM$1963","v":0},{"$f":"LMN$1963","v":0},{"$f":"LMO$1963","v":0},{"$f":"LMP$1963","v":0},{"$f":"LMQ$1963","v":0},{"$f":"LMR$1963","v":0},{"$f":"LMS$1963","v":0},{"$f":"LMT$1963","v":0},{"$f":"LMU$1963","v":0},{"$f":"LMV$1963","v":0},{"$f":"LMW$1963","v":0},{"$f":"LMX$1963","v":0},{"$f":"LMY$1963","v":0},{"$f":"LMZ$1963","v":0},{"$f":"LNA$1963","v":0},{"$f":"LNB$1963","v":0},{"$f":"LNC$1963","v":0},{"$f":"LND$1963","v":0},{"$f":"LNE$1963","v":0},{"$f":"LNF$1963","v":0},{"$f":"LNG$1963","v":0},{"$f":"LNH$1963","v":0},{"$f":"LNI$1963","v":0},{"$f":"LNJ$1963","v":0},{"$f":"LNK$1963","v":0},{"$f":"LNL$1963","v":0},{"$f":"LNM$1963","v":0},{"$f":"LNN$1963","v":0},{"$f":"LNO$1963","v":0},{"$f":"LNP$1963","v":0},{"$f":"LNQ$1963","v":0},{"$f":"LNR$1963","v":0},{"$f":"LNS$1963","v":0},{"$f":"LNT$1963","v":0},{"$f":"LNU$1963","v":0},{"$f":"LNV$1963","v":0},{"$f":"LNW$1963","v":0},{"$f":"LNX$1963","v":0},{"$f":"LNY$1963","v":0},{"$f":"LNZ$1963","v":0},{"$f":"LOA$1963","v":0},{"$f":"LOB$1963","v":0},{"$f":"LOC$1963","v":0},{"$f":"LOD$1963","v":0},{"$f":"LOE$1963","v":0},{"$f":"LOF$1963","v":0},{"$f":"LOG$1963","v":0},{"$f":"LOH$1963","v":0},{"$f":"LOI$1963","v":0},{"$f":"LOJ$1963","v":0},{"$f":"LOK$1963","v":0},{"$f":"LOL$1963","v":0},{"$f":"LOM$1963","v":0},{"$f":"LON$1963","v":0},{"$f":"LOO$1963","v":0},{"$f":"LOP$1963","v":0},{"$f":"LOQ$1963","v":0},{"$f":"LOR$1963","v":0},{"$f":"LOS$1963","v":0},{"$f":"LOT$1963","v":0},{"$f":"LOU$1963","v":0},{"$f":"LOV$1963","v":0},{"$f":"LOW$1963","v":0},{"$f":"LOX$1963","v":0},{"$f":"LOY$1963","v":0},{"$f":"LOZ$1963","v":0},{"$f":"LPA$1963","v":0},{"$f":"LPB$1963","v":0},{"$f":"LPC$1963","v":0},{"$f":"LPD$1963","v":0},{"$f":"LPE$1963","v":0},{"$f":"LPF$1963","v":0},{"$f":"LPG$1963","v":0},{"$f":"LPH$1963","v":0},{"$f":"LPI$1963","v":0},{"$f":"LPJ$1963","v":0},{"$f":"LPK$1963","v":0},{"$f":"LPL$1963","v":0},{"$f":"LPM$1963","v":0},{"$f":"LPN$1963","v":0},{"$f":"LPO$1963","v":0},{"$f":"LPP$1963","v":0},{"$f":"LPQ$1963","v":0},{"$f":"LPR$1963","v":0},{"$f":"LPS$1963","v":0},{"$f":"LPT$1963","v":0},{"$f":"LPU$1963","v":0},{"$f":"LPV$1963","v":0},{"$f":"LPW$1963","v":0},{"$f":"LPX$1963","v":0},{"$f":"LPY$1963","v":0},{"$f":"LPZ$1963","v":0},{"$f":"LQA$1963","v":0},{"$f":"LQB$1963","v":0},{"$f":"LQC$1963","v":0},{"$f":"LQD$1963","v":0},{"$f":"LQE$1963","v":0},{"$f":"LQF$1963","v":0},{"$f":"LQG$1963","v":0},{"$f":"LQH$1963","v":0},{"$f":"LQI$1963","v":0},{"$f":"LQJ$1963","v":0},{"$f":"LQK$1963","v":0},{"$f":"LQL$1963","v":0},{"$f":"LQM$1963","v":0},{"$f":"LQN$1963","v":0},{"$f":"LQO$1963","v":0},{"$f":"LQP$1963","v":0},{"$f":"LQQ$1963","v":0},{"$f":"LQR$1963","v":0},{"$f":"LQS$1963","v":0},{"$f":"LQT$1963","v":0},{"$f":"LQU$1963","v":0},{"$f":"LQV$1963","v":0},{"$f":"LQW$1963","v":0},{"$f":"LQX$1963","v":0},{"$f":"LQY$1963","v":0},{"$f":"LQZ$1963","v":0},{"$f":"LRA$1963","v":0},{"$f":"LRB$1963","v":0},{"$f":"LRC$1963","v":0},{"$f":"LRD$1963","v":0},{"$f":"LRE$1963","v":0},{"$f":"LRF$1963","v":0},{"$f":"LRG$1963","v":0},{"$f":"LRH$1963","v":0},{"$f":"LRI$1963","v":0},{"$f":"LRJ$1963","v":0},{"$f":"LRK$1963","v":0},{"$f":"LRL$1963","v":0},{"$f":"LRM$1963","v":0},{"$f":"LRN$1963","v":0},{"$f":"LRO$1963","v":0},{"$f":"LRP$1963","v":0},{"$f":"LRQ$1963","v":0},{"$f":"LRR$1963","v":0},{"$f":"LRS$1963","v":0},{"$f":"LRT$1963","v":0},{"$f":"LRU$1963","v":0},{"$f":"LRV$1963","v":0},{"$f":"LRW$1963","v":0},{"$f":"LRX$1963","v":0},{"$f":"LRY$1963","v":0},{"$f":"LRZ$1963","v":0},{"$f":"LSA$1963","v":0},{"$f":"LSB$1963","v":0},{"$f":"LSC$1963","v":0},{"$f":"LSD$1963","v":0},{"$f":"LSE$1963","v":0},{"$f":"LSF$1963","v":0},{"$f":"LSG$1963","v":0},{"$f":"LSH$1963","v":0},{"$f":"LSI$1963","v":0},{"$f":"LSJ$1963","v":0},{"$f":"LSK$1963","v":0},{"$f":"LSL$1963","v":0},{"$f":"LSM$1963","v":0},{"$f":"LSN$1963","v":0},{"$f":"LSO$1963","v":0},{"$f":"LSP$1963","v":0},{"$f":"LSQ$1963","v":0},{"$f":"LSR$1963","v":0},{"$f":"LSS$1963","v":0},{"$f":"LST$1963","v":0},{"$f":"LSU$1963","v":0},{"$f":"LSV$1963","v":0},{"$f":"LSW$1963","v":0},{"$f":"LSX$1963","v":0},{"$f":"LSY$1963","v":0},{"$f":"LSZ$1963","v":0},{"$f":"LTA$1963","v":0},{"$f":"LTB$1963","v":0},{"$f":"LTC$1963","v":0},{"$f":"LTD$1963","v":0},{"$f":"LTE$1963","v":0},{"$f":"LTF$1963","v":0},{"$f":"LTG$1963","v":0},{"$f":"LTH$1963","v":0},{"$f":"LTI$1963","v":0},{"$f":"LTJ$1963","v":0},{"$f":"LTK$1963","v":0},{"$f":"LTL$1963","v":0},{"$f":"LTM$1963","v":0},{"$f":"LTN$1963","v":0},{"$f":"LTO$1963","v":0},{"$f":"LTP$1963","v":0},{"$f":"LTQ$1963","v":0},{"$f":"LTR$1963","v":0},{"$f":"LTS$1963","v":0},{"$f":"LTT$1963","v":0},{"$f":"LTU$1963","v":0},{"$f":"LTV$1963","v":0},{"$f":"LTW$1963","v":0},{"$f":"LTX$1963","v":0},{"$f":"LTY$1963","v":0},{"$f":"LTZ$1963","v":0},{"$f":"LUA$1963","v":0},{"$f":"LUB$1963","v":0},{"$f":"LUC$1963","v":0},{"$f":"LUD$1963","v":0},{"$f":"LUE$1963","v":0},{"$f":"LUF$1963","v":0},{"$f":"LUG$1963","v":0},{"$f":"LUH$1963","v":0},{"$f":"LUI$1963","v":0},{"$f":"LUJ$1963","v":0},{"$f":"LUK$1963","v":0},{"$f":"LUL$1963","v":0},{"$f":"LUM$1963","v":0},{"$f":"LUN$1963","v":0},{"$f":"LUO$1963","v":0},{"$f":"LUP$1963","v":0},{"$f":"LUQ$1963","v":0},{"$f":"LUR$1963","v":0},{"$f":"LUS$1963","v":0},{"$f":"LUT$1963","v":0},{"$f":"LUU$1963","v":0},{"$f":"LUV$1963","v":0},{"$f":"LUW$1963","v":0},{"$f":"LUX$1963","v":0},{"$f":"LUY$1963","v":0},{"$f":"LUZ$1963","v":0},{"$f":"LVA$1963","v":0},{"$f":"LVB$1963","v":0},{"$f":"LVC$1963","v":0},{"$f":"LVD$1963","v":0},{"$f":"LVE$1963","v":0},{"$f":"LVF$1963","v":0},{"$f":"LVG$1963","v":0},{"$f":"LVH$1963","v":0},{"$f":"LVI$1963","v":0},{"$f":"LVJ$1963","v":0},{"$f":"LVK$1963","v":0},{"$f":"LVL$1963","v":0},{"$f":"LVM$1963","v":0},{"$f":"LVN$1963","v":0},{"$f":"LVO$1963","v":0},{"$f":"LVP$1963","v":0},{"$f":"LVQ$1963","v":0},{"$f":"LVR$1963","v":0},{"$f":"LVS$1963","v":0},{"$f":"LVT$1963","v":0},{"$f":"LVU$1963","v":0},{"$f":"LVV$1963","v":0},{"$f":"LVW$1963","v":0},{"$f":"LVX$1963","v":0},{"$f":"LVY$1963","v":0},{"$f":"LVZ$1963","v":0},{"$f":"LWA$1963","v":0},{"$f":"LWB$1963","v":0},{"$f":"LWC$1963","v":0},{"$f":"LWD$1963","v":0},{"$f":"LWE$1963","v":0},{"$f":"LWF$1963","v":0},{"$f":"LWG$1963","v":0},{"$f":"LWH$1963","v":0},{"$f":"LWI$1963","v":0},{"$f":"LWJ$1963","v":0},{"$f":"LWK$1963","v":0},{"$f":"LWL$1963","v":0},{"$f":"LWM$1963","v":0},{"$f":"LWN$1963","v":0},{"$f":"LWO$1963","v":0},{"$f":"LWP$1963","v":0},{"$f":"LWQ$1963","v":0},{"$f":"LWR$1963","v":0},{"$f":"LWS$1963","v":0},{"$f":"LWT$1963","v":0},{"$f":"LWU$1963","v":0},{"$f":"LWV$1963","v":0},{"$f":"LWW$1963","v":0},{"$f":"LWX$1963","v":0},{"$f":"LWY$1963","v":0},{"$f":"LWZ$1963","v":0},{"$f":"LXA$1963","v":0},{"$f":"LXB$1963","v":0},{"$f":"LXC$1963","v":0},{"$f":"LXD$1963","v":0},{"$f":"LXE$1963","v":0},{"$f":"LXF$1963","v":0},{"$f":"LXG$1963","v":0},{"$f":"LXH$1963","v":0},{"$f":"LXI$1963","v":0},{"$f":"LXJ$1963","v":0},{"$f":"LXK$1963","v":0},{"$f":"LXL$1963","v":0},{"$f":"LXM$1963","v":0},{"$f":"LXN$1963","v":0},{"$f":"LXO$1963","v":0},{"$f":"LXP$1963","v":0},{"$f":"LXQ$1963","v":0},{"$f":"LXR$1963","v":0},{"$f":"LXS$1963","v":0},{"$f":"LXT$1963","v":0},{"$f":"LXU$1963","v":0},{"$f":"LXV$1963","v":0},{"$f":"LXW$1963","v":0},{"$f":"LXX$1963","v":0},{"$f":"LXY$1963","v":0},{"$f":"LXZ$1963","v":0},{"$f":"LYA$1963","v":0},{"$f":"LYB$1963","v":0},{"$f":"LYC$1963","v":0},{"$f":"LYD$1963","v":0},{"$f":"LYE$1963","v":0},{"$f":"LYF$1963","v":0},{"$f":"LYG$1963","v":0},{"$f":"LYH$1963","v":0},{"$f":"LYI$1963","v":0},{"$f":"LYJ$1963","v":0},{"$f":"LYK$1963","v":0},{"$f":"LYL$1963","v":0},{"$f":"LYM$1963","v":0},{"$f":"LYN$1963","v":0},{"$f":"LYO$1963","v":0},{"$f":"LYP$1963","v":0},{"$f":"LYQ$1963","v":0},{"$f":"LYR$1963","v":0},{"$f":"LYS$1963","v":0},{"$f":"LYT$1963","v":0},{"$f":"LYU$1963","v":0},{"$f":"LYV$1963","v":0},{"$f":"LYW$1963","v":0},{"$f":"LYX$1963","v":0},{"$f":"LYY$1963","v":0},{"$f":"LYZ$1963","v":0},{"$f":"LZA$1963","v":0},{"$f":"LZB$1963","v":0},{"$f":"LZC$1963","v":0},{"$f":"LZD$1963","v":0},{"$f":"LZE$1963","v":0},{"$f":"LZF$1963","v":0},{"$f":"LZG$1963","v":0},{"$f":"LZH$1963","v":0},{"$f":"LZI$1963","v":0},{"$f":"LZJ$1963","v":0},{"$f":"LZK$1963","v":0},{"$f":"LZL$1963","v":0},{"$f":"LZM$1963","v":0},{"$f":"LZN$1963","v":0},{"$f":"LZO$1963","v":0},{"$f":"LZP$1963","v":0},{"$f":"LZQ$1963","v":0},{"$f":"LZR$1963","v":0},{"$f":"LZS$1963","v":0},{"$f":"LZT$1963","v":0},{"$f":"LZU$1963","v":0},{"$f":"LZV$1963","v":0},{"$f":"LZW$1963","v":0},{"$f":"LZX$1963","v":0},{"$f":"LZY$1963","v":0},{"$f":"LZZ$1963","v":0},{"$f":"MAA$1963","v":0},{"$f":"MAB$1963","v":0},{"$f":"MAC$1963","v":0},{"$f":"MAD$1963","v":0},{"$f":"MAE$1963","v":0},{"$f":"MAF$1963","v":0},{"$f":"MAG$1963","v":0},{"$f":"MAH$1963","v":0},{"$f":"MAI$1963","v":0},{"$f":"MAJ$1963","v":0},{"$f":"MAK$1963","v":0},{"$f":"MAL$1963","v":0},{"$f":"MAM$1963","v":0},{"$f":"MAN$1963","v":0},{"$f":"MAO$1963","v":0},{"$f":"MAP$1963","v":0},{"$f":"MAQ$1963","v":0},{"$f":"MAR$1963","v":0},{"$f":"MAS$1963","v":0},{"$f":"MAT$1963","v":0},{"$f":"MAU$1963","v":0},{"$f":"MAV$1963","v":0},{"$f":"MAW$1963","v":0},{"$f":"MAX$1963","v":0},{"$f":"MAY$1963","v":0},{"$f":"MAZ$1963","v":0},{"$f":"MBA$1963","v":0},{"$f":"MBB$1963","v":0},{"$f":"MBC$1963","v":0},{"$f":"MBD$1963","v":0},{"$f":"MBE$1963","v":0},{"$f":"MBF$1963","v":0},{"$f":"MBG$1963","v":0},{"$f":"MBH$1963","v":0},{"$f":"MBI$1963","v":0},{"$f":"MBJ$1963","v":0},{"$f":"MBK$1963","v":0},{"$f":"MBL$1963","v":0},{"$f":"MBM$1963","v":0},{"$f":"MBN$1963","v":0},{"$f":"MBO$1963","v":0},{"$f":"MBP$1963","v":0},{"$f":"MBQ$1963","v":0},{"$f":"MBR$1963","v":0},{"$f":"MBS$1963","v":0},{"$f":"MBT$1963","v":0},{"$f":"MBU$1963","v":0},{"$f":"MBV$1963","v":0},{"$f":"MBW$1963","v":0},{"$f":"MBX$1963","v":0},{"$f":"MBY$1963","v":0},{"$f":"MBZ$1963","v":0},{"$f":"MCA$1963","v":0},{"$f":"MCB$1963","v":0},{"$f":"MCC$1963","v":0},{"$f":"MCD$1963","v":0},{"$f":"MCE$1963","v":0},{"$f":"MCF$1963","v":0},{"$f":"MCG$1963","v":0},{"$f":"MCH$1963","v":0},{"$f":"MCI$1963","v":0},{"$f":"MCJ$1963","v":0},{"$f":"MCK$1963","v":0},{"$f":"MCL$1963","v":0},{"$f":"MCM$1963","v":0},{"$f":"MCN$1963","v":0},{"$f":"MCO$1963","v":0},{"$f":"MCP$1963","v":0},{"$f":"MCQ$1963","v":0},{"$f":"MCR$1963","v":0},{"$f":"MCS$1963","v":0},{"$f":"MCT$1963","v":0},{"$f":"MCU$1963","v":0},{"$f":"MCV$1963","v":0},{"$f":"MCW$1963","v":0},{"$f":"MCX$1963","v":0},{"$f":"MCY$1963","v":0},{"$f":"MCZ$1963","v":0},{"$f":"MDA$1963","v":0},{"$f":"MDB$1963","v":0},{"$f":"MDC$1963","v":0},{"$f":"MDD$1963","v":0},{"$f":"MDE$1963","v":0},{"$f":"MDF$1963","v":0},{"$f":"MDG$1963","v":0},{"$f":"MDH$1963","v":0},{"$f":"MDI$1963","v":0},{"$f":"MDJ$1963","v":0},{"$f":"MDK$1963","v":0},{"$f":"MDL$1963","v":0},{"$f":"MDM$1963","v":0},{"$f":"MDN$1963","v":0},{"$f":"MDO$1963","v":0},{"$f":"MDP$1963","v":0},{"$f":"MDQ$1963","v":0},{"$f":"MDR$1963","v":0},{"$f":"MDS$1963","v":0},{"$f":"MDT$1963","v":0},{"$f":"MDU$1963","v":0},{"$f":"MDV$1963","v":0},{"$f":"MDW$1963","v":0},{"$f":"MDX$1963","v":0},{"$f":"MDY$1963","v":0},{"$f":"MDZ$1963","v":0},{"$f":"MEA$1963","v":0},{"$f":"MEB$1963","v":0},{"$f":"MEC$1963","v":0},{"$f":"MED$1963","v":0},{"$f":"MEE$1963","v":0},{"$f":"MEF$1963","v":0},{"$f":"MEG$1963","v":0},{"$f":"MEH$1963","v":0},{"$f":"MEI$1963","v":0},{"$f":"MEJ$1963","v":0},{"$f":"MEK$1963","v":0},{"$f":"MEL$1963","v":0},{"$f":"MEM$1963","v":0},{"$f":"MEN$1963","v":0},{"$f":"MEO$1963","v":0},{"$f":"MEP$1963","v":0},{"$f":"MEQ$1963","v":0},{"$f":"MER$1963","v":0},{"$f":"MES$1963","v":0},{"$f":"MET$1963","v":0},{"$f":"MEU$1963","v":0},{"$f":"MEV$1963","v":0},{"$f":"MEW$1963","v":0},{"$f":"MEX$1963","v":0},{"$f":"MEY$1963","v":0},{"$f":"MEZ$1963","v":0},{"$f":"MFA$1963","v":0},{"$f":"MFB$1963","v":0},{"$f":"MFC$1963","v":0},{"$f":"MFD$1963","v":0},{"$f":"MFE$1963","v":0},{"$f":"MFF$1963","v":0},{"$f":"MFG$1963","v":0},{"$f":"MFH$1963","v":0},{"$f":"MFI$1963","v":0},{"$f":"MFJ$1963","v":0},{"$f":"MFK$1963","v":0},{"$f":"MFL$1963","v":0},{"$f":"MFM$1963","v":0},{"$f":"MFN$1963","v":0},{"$f":"MFO$1963","v":0},{"$f":"MFP$1963","v":0},{"$f":"MFQ$1963","v":0},{"$f":"MFR$1963","v":0},{"$f":"MFS$1963","v":0},{"$f":"MFT$1963","v":0},{"$f":"MFU$1963","v":0},{"$f":"MFV$1963","v":0},{"$f":"MFW$1963","v":0},{"$f":"MFX$1963","v":0},{"$f":"MFY$1963","v":0},{"$f":"MFZ$1963","v":0},{"$f":"MGA$1963","v":0},{"$f":"MGB$1963","v":0},{"$f":"MGC$1963","v":0},{"$f":"MGD$1963","v":0},{"$f":"MGE$1963","v":0},{"$f":"MGF$1963","v":0},{"$f":"MGG$1963","v":0},{"$f":"MGH$1963","v":0},{"$f":"MGI$1963","v":0},{"$f":"MGJ$1963","v":0},{"$f":"MGK$1963","v":0},{"$f":"MGL$1963","v":0},{"$f":"MGM$1963","v":0},{"$f":"MGN$1963","v":0},{"$f":"MGO$1963","v":0},{"$f":"MGP$1963","v":0},{"$f":"MGQ$1963","v":0},{"$f":"MGR$1963","v":0},{"$f":"MGS$1963","v":0},{"$f":"MGT$1963","v":0},{"$f":"MGU$1963","v":0},{"$f":"MGV$1963","v":0},{"$f":"MGW$1963","v":0},{"$f":"MGX$1963","v":0},{"$f":"MGY$1963","v":0},{"$f":"MGZ$1963","v":0},{"$f":"MHA$1963","v":0},{"$f":"MHB$1963","v":0},{"$f":"MHC$1963","v":0},{"$f":"MHD$1963","v":0},{"$f":"MHE$1963","v":0},{"$f":"MHF$1963","v":0},{"$f":"MHG$1963","v":0},{"$f":"MHH$1963","v":0},{"$f":"MHI$1963","v":0},{"$f":"MHJ$1963","v":0},{"$f":"MHK$1963","v":0},{"$f":"MHL$1963","v":0},{"$f":"MHM$1963","v":0},{"$f":"MHN$1963","v":0},{"$f":"MHO$1963","v":0},{"$f":"MHP$1963","v":0},{"$f":"MHQ$1963","v":0},{"$f":"MHR$1963","v":0},{"$f":"MHS$1963","v":0},{"$f":"MHT$1963","v":0},{"$f":"MHU$1963","v":0},{"$f":"MHV$1963","v":0},{"$f":"MHW$1963","v":0},{"$f":"MHX$1963","v":0},{"$f":"MHY$1963","v":0},{"$f":"MHZ$1963","v":0},{"$f":"MIA$1963","v":0},{"$f":"MIB$1963","v":0},{"$f":"MIC$1963","v":0},{"$f":"MID$1963","v":0},{"$f":"MIE$1963","v":0},{"$f":"MIF$1963","v":0},{"$f":"MIG$1963","v":0},{"$f":"MIH$1963","v":0},{"$f":"MII$1963","v":0},{"$f":"MIJ$1963","v":0},{"$f":"MIK$1963","v":0},{"$f":"MIL$1963","v":0},{"$f":"MIM$1963","v":0},{"$f":"MIN$1963","v":0},{"$f":"MIO$1963","v":0},{"$f":"MIP$1963","v":0},{"$f":"MIQ$1963","v":0},{"$f":"MIR$1963","v":0},{"$f":"MIS$1963","v":0},{"$f":"MIT$1963","v":0},{"$f":"MIU$1963","v":0},{"$f":"MIV$1963","v":0},{"$f":"MIW$1963","v":0},{"$f":"MIX$1963","v":0},{"$f":"MIY$1963","v":0},{"$f":"MIZ$1963","v":0},{"$f":"MJA$1963","v":0},{"$f":"MJB$1963","v":0},{"$f":"MJC$1963","v":0},{"$f":"MJD$1963","v":0},{"$f":"MJE$1963","v":0},{"$f":"MJF$1963","v":0},{"$f":"MJG$1963","v":0},{"$f":"MJH$1963","v":0},{"$f":"MJI$1963","v":0},{"$f":"MJJ$1963","v":0},{"$f":"MJK$1963","v":0},{"$f":"MJL$1963","v":0},{"$f":"MJM$1963","v":0},{"$f":"MJN$1963","v":0},{"$f":"MJO$1963","v":0},{"$f":"MJP$1963","v":0},{"$f":"MJQ$1963","v":0},{"$f":"MJR$1963","v":0},{"$f":"MJS$1963","v":0},{"$f":"MJT$1963","v":0},{"$f":"MJU$1963","v":0},{"$f":"MJV$1963","v":0},{"$f":"MJW$1963","v":0},{"$f":"MJX$1963","v":0},{"$f":"MJY$1963","v":0},{"$f":"MJZ$1963","v":0},{"$f":"MKA$1963","v":0},{"$f":"MKB$1963","v":0},{"$f":"MKC$1963","v":0},{"$f":"MKD$1963","v":0},{"$f":"MKE$1963","v":0},{"$f":"MKF$1963","v":0},{"$f":"MKG$1963","v":0},{"$f":"MKH$1963","v":0},{"$f":"MKI$1963","v":0},{"$f":"MKJ$1963","v":0},{"$f":"MKK$1963","v":0},{"$f":"MKL$1963","v":0},{"$f":"MKM$1963","v":0},{"$f":"MKN$1963","v":0},{"$f":"MKO$1963","v":0},{"$f":"MKP$1963","v":0},{"$f":"MKQ$1963","v":0},{"$f":"MKR$1963","v":0},{"$f":"MKS$1963","v":0},{"$f":"MKT$1963","v":0},{"$f":"MKU$1963","v":0},{"$f":"MKV$1963","v":0},{"$f":"MKW$1963","v":0},{"$f":"MKX$1963","v":0},{"$f":"MKY$1963","v":0},{"$f":"MKZ$1963","v":0},{"$f":"MLA$1963","v":0},{"$f":"MLB$1963","v":0},{"$f":"MLC$1963","v":0},{"$f":"MLD$1963","v":0},{"$f":"MLE$1963","v":0},{"$f":"MLF$1963","v":0},{"$f":"MLG$1963","v":0},{"$f":"MLH$1963","v":0},{"$f":"MLI$1963","v":0},{"$f":"MLJ$1963","v":0},{"$f":"MLK$1963","v":0},{"$f":"MLL$1963","v":0},{"$f":"MLM$1963","v":0},{"$f":"MLN$1963","v":0},{"$f":"MLO$1963","v":0},{"$f":"MLP$1963","v":0},{"$f":"MLQ$1963","v":0},{"$f":"MLR$1963","v":0},{"$f":"MLS$1963","v":0},{"$f":"MLT$1963","v":0},{"$f":"MLU$1963","v":0},{"$f":"MLV$1963","v":0},{"$f":"MLW$1963","v":0},{"$f":"MLX$1963","v":0},{"$f":"MLY$1963","v":0},{"$f":"MLZ$1963","v":0},{"$f":"MMA$1963","v":0},{"$f":"MMB$1963","v":0},{"$f":"MMC$1963","v":0},{"$f":"MMD$1963","v":0},{"$f":"MME$1963","v":0},{"$f":"MMF$1963","v":0},{"$f":"MMG$1963","v":0},{"$f":"MMH$1963","v":0},{"$f":"MMI$1963","v":0},{"$f":"MMJ$1963","v":0},{"$f":"MMK$1963","v":0},{"$f":"MML$1963","v":0},{"$f":"MMM$1963","v":0},{"$f":"MMN$1963","v":0},{"$f":"MMO$1963","v":0},{"$f":"MMP$1963","v":0},{"$f":"MMQ$1963","v":0},{"$f":"MMR$1963","v":0},{"$f":"MMS$1963","v":0},{"$f":"MMT$1963","v":0},{"$f":"MMU$1963","v":0},{"$f":"MMV$1963","v":0},{"$f":"MMW$1963","v":0},{"$f":"MMX$1963","v":0},{"$f":"MMY$1963","v":0},{"$f":"MMZ$1963","v":0},{"$f":"MNA$1963","v":0},{"$f":"MNB$1963","v":0},{"$f":"MNC$1963","v":0},{"$f":"MND$1963","v":0},{"$f":"MNE$1963","v":0},{"$f":"MNF$1963","v":0},{"$f":"MNG$1963","v":0},{"$f":"MNH$1963","v":0},{"$f":"MNI$1963","v":0},{"$f":"MNJ$1963","v":0},{"$f":"MNK$1963","v":0},{"$f":"MNL$1963","v":0},{"$f":"MNM$1963","v":0},{"$f":"MNN$1963","v":0},{"$f":"MNO$1963","v":0},{"$f":"MNP$1963","v":0},{"$f":"MNQ$1963","v":0},{"$f":"MNR$1963","v":0},{"$f":"MNS$1963","v":0},{"$f":"MNT$1963","v":0},{"$f":"MNU$1963","v":0},{"$f":"MNV$1963","v":0},{"$f":"MNW$1963","v":0},{"$f":"MNX$1963","v":0},{"$f":"MNY$1963","v":0},{"$f":"MNZ$1963","v":0},{"$f":"MOA$1963","v":0},{"$f":"MOB$1963","v":0},{"$f":"MOC$1963","v":0},{"$f":"MOD$1963","v":0},{"$f":"MOE$1963","v":0},{"$f":"MOF$1963","v":0},{"$f":"MOG$1963","v":0},{"$f":"MOH$1963","v":0},{"$f":"MOI$1963","v":0},{"$f":"MOJ$1963","v":0},{"$f":"MOK$1963","v":0},{"$f":"MOL$1963","v":0},{"$f":"MOM$1963","v":0},{"$f":"MON$1963","v":0},{"$f":"MOO$1963","v":0},{"$f":"MOP$1963","v":0},{"$f":"MOQ$1963","v":0},{"$f":"MOR$1963","v":0},{"$f":"MOS$1963","v":0},{"$f":"MOT$1963","v":0},{"$f":"MOU$1963","v":0},{"$f":"MOV$1963","v":0},{"$f":"MOW$1963","v":0},{"$f":"MOX$1963","v":0},{"$f":"MOY$1963","v":0},{"$f":"MOZ$1963","v":0},{"$f":"MPA$1963","v":0},{"$f":"MPB$1963","v":0},{"$f":"MPC$1963","v":0},{"$f":"MPD$1963","v":0},{"$f":"MPE$1963","v":0},{"$f":"MPF$1963","v":0},{"$f":"MPG$1963","v":0},{"$f":"MPH$1963","v":0},{"$f":"MPI$1963","v":0},{"$f":"MPJ$1963","v":0},{"$f":"MPK$1963","v":0},{"$f":"MPL$1963","v":0},{"$f":"MPM$1963","v":0},{"$f":"MPN$1963","v":0},{"$f":"MPO$1963","v":0},{"$f":"MPP$1963","v":0},{"$f":"MPQ$1963","v":0},{"$f":"MPR$1963","v":0},{"$f":"MPS$1963","v":0},{"$f":"MPT$1963","v":0},{"$f":"MPU$1963","v":0},{"$f":"MPV$1963","v":0},{"$f":"MPW$1963","v":0},{"$f":"MPX$1963","v":0},{"$f":"MPY$1963","v":0},{"$f":"MPZ$1963","v":0},{"$f":"MQA$1963","v":0},{"$f":"MQB$1963","v":0},{"$f":"MQC$1963","v":0},{"$f":"MQD$1963","v":0},{"$f":"MQE$1963","v":0},{"$f":"MQF$1963","v":0},{"$f":"MQG$1963","v":0},{"$f":"MQH$1963","v":0},{"$f":"MQI$1963","v":0},{"$f":"MQJ$1963","v":0},{"$f":"MQK$1963","v":0},{"$f":"MQL$1963","v":0},{"$f":"MQM$1963","v":0},{"$f":"MQN$1963","v":0},{"$f":"MQO$1963","v":0},{"$f":"MQP$1963","v":0},{"$f":"MQQ$1963","v":0},{"$f":"MQR$1963","v":0},{"$f":"MQS$1963","v":0},{"$f":"MQT$1963","v":0},{"$f":"MQU$1963","v":0},{"$f":"MQV$1963","v":0},{"$f":"MQW$1963","v":0},{"$f":"MQX$1963","v":0},{"$f":"MQY$1963","v":0},{"$f":"MQZ$1963","v":0},{"$f":"MRA$1963","v":0},{"$f":"MRB$1963","v":0},{"$f":"MRC$1963","v":0},{"$f":"MRD$1963","v":0},{"$f":"MRE$1963","v":0},{"$f":"MRF$1963","v":0},{"$f":"MRG$1963","v":0},{"$f":"MRH$1963","v":0},{"$f":"MRI$1963","v":0},{"$f":"MRJ$1963","v":0},{"$f":"MRK$1963","v":0},{"$f":"MRL$1963","v":0},{"$f":"MRM$1963","v":0},{"$f":"MRN$1963","v":0},{"$f":"MRO$1963","v":0},{"$f":"MRP$1963","v":0},{"$f":"MRQ$1963","v":0},{"$f":"MRR$1963","v":0},{"$f":"MRS$1963","v":0},{"$f":"MRT$1963","v":0},{"$f":"MRU$1963","v":0},{"$f":"MRV$1963","v":0},{"$f":"MRW$1963","v":0},{"$f":"MRX$1963","v":0},{"$f":"MRY$1963","v":0},{"$f":"MRZ$1963","v":0},{"$f":"MSA$1963","v":0},{"$f":"MSB$1963","v":0},{"$f":"MSC$1963","v":0},{"$f":"MSD$1963","v":0},{"$f":"MSE$1963","v":0},{"$f":"MSF$1963","v":0},{"$f":"MSG$1963","v":0},{"$f":"MSH$1963","v":0},{"$f":"MSI$1963","v":0},{"$f":"MSJ$1963","v":0},{"$f":"MSK$1963","v":0},{"$f":"MSL$1963","v":0},{"$f":"MSM$1963","v":0},{"$f":"MSN$1963","v":0},{"$f":"MSO$1963","v":0},{"$f":"MSP$1963","v":0},{"$f":"MSQ$1963","v":0},{"$f":"MSR$1963","v":0},{"$f":"MSS$1963","v":0},{"$f":"MST$1963","v":0},{"$f":"MSU$1963","v":0},{"$f":"MSV$1963","v":0},{"$f":"MSW$1963","v":0},{"$f":"MSX$1963","v":0},{"$f":"MSY$1963","v":0},{"$f":"MSZ$1963","v":0},{"$f":"MTA$1963","v":0},{"$f":"MTB$1963","v":0},{"$f":"MTC$1963","v":0},{"$f":"MTD$1963","v":0},{"$f":"MTE$1963","v":0},{"$f":"MTF$1963","v":0},{"$f":"MTG$1963","v":0},{"$f":"MTH$1963","v":0},{"$f":"MTI$1963","v":0},{"$f":"MTJ$1963","v":0},{"$f":"MTK$1963","v":0},{"$f":"MTL$1963","v":0},{"$f":"MTM$1963","v":0},{"$f":"MTN$1963","v":0},{"$f":"MTO$1963","v":0},{"$f":"MTP$1963","v":0},{"$f":"MTQ$1963","v":0},{"$f":"MTR$1963","v":0},{"$f":"MTS$1963","v":0},{"$f":"MTT$1963","v":0},{"$f":"MTU$1963","v":0},{"$f":"MTV$1963","v":0},{"$f":"MTW$1963","v":0},{"$f":"MTX$1963","v":0},{"$f":"MTY$1963","v":0},{"$f":"MTZ$1963","v":0},{"$f":"MUA$1963","v":0},{"$f":"MUB$1963","v":0},{"$f":"MUC$1963","v":0},{"$f":"MUD$1963","v":0},{"$f":"MUE$1963","v":0},{"$f":"MUF$1963","v":0},{"$f":"MUG$1963","v":0},{"$f":"MUH$1963","v":0},{"$f":"MUI$1963","v":0},{"$f":"MUJ$1963","v":0},{"$f":"MUK$1963","v":0},{"$f":"MUL$1963","v":0},{"$f":"MUM$1963","v":0},{"$f":"MUN$1963","v":0},{"$f":"MUO$1963","v":0},{"$f":"MUP$1963","v":0},{"$f":"MUQ$1963","v":0},{"$f":"MUR$1963","v":0},{"$f":"MUS$1963","v":0},{"$f":"MUT$1963","v":0},{"$f":"MUU$1963","v":0},{"$f":"MUV$1963","v":0},{"$f":"MUW$1963","v":0},{"$f":"MUX$1963","v":0},{"$f":"MUY$1963","v":0},{"$f":"MUZ$1963","v":0},{"$f":"MVA$1963","v":0},{"$f":"MVB$1963","v":0},{"$f":"MVC$1963","v":0},{"$f":"MVD$1963","v":0},{"$f":"MVE$1963","v":0},{"$f":"MVF$1963","v":0},{"$f":"MVG$1963","v":0},{"$f":"MVH$1963","v":0},{"$f":"MVI$1963","v":0},{"$f":"MVJ$1963","v":0},{"$f":"MVK$1963","v":0},{"$f":"MVL$1963","v":0},{"$f":"MVM$1963","v":0},{"$f":"MVN$1963","v":0},{"$f":"MVO$1963","v":0},{"$f":"MVP$1963","v":0},{"$f":"MVQ$1963","v":0},{"$f":"MVR$1963","v":0},{"$f":"MVS$1963","v":0},{"$f":"MVT$1963","v":0},{"$f":"MVU$1963","v":0},{"$f":"MVV$1963","v":0},{"$f":"MVW$1963","v":0},{"$f":"MVX$1963","v":0},{"$f":"MVY$1963","v":0},{"$f":"MVZ$1963","v":0},{"$f":"MWA$1963","v":0},{"$f":"MWB$1963","v":0},{"$f":"MWC$1963","v":0},{"$f":"MWD$1963","v":0},{"$f":"MWE$1963","v":0},{"$f":"MWF$1963","v":0},{"$f":"MWG$1963","v":0},{"$f":"MWH$1963","v":0},{"$f":"MWI$1963","v":0},{"$f":"MWJ$1963","v":0},{"$f":"MWK$1963","v":0},{"$f":"MWL$1963","v":0},{"$f":"MWM$1963","v":0},{"$f":"MWN$1963","v":0},{"$f":"MWO$1963","v":0},{"$f":"MWP$1963","v":0},{"$f":"MWQ$1963","v":0},{"$f":"MWR$1963","v":0},{"$f":"MWS$1963","v":0},{"$f":"MWT$1963","v":0},{"$f":"MWU$1963","v":0},{"$f":"MWV$1963","v":0},{"$f":"MWW$1963","v":0},{"$f":"MWX$1963","v":0},{"$f":"MWY$1963","v":0},{"$f":"MWZ$1963","v":0},{"$f":"MXA$1963","v":0},{"$f":"MXB$1963","v":0},{"$f":"MXC$1963","v":0},{"$f":"MXD$1963","v":0},{"$f":"MXE$1963","v":0},{"$f":"MXF$1963","v":0},{"$f":"MXG$1963","v":0},{"$f":"MXH$1963","v":0},{"$f":"MXI$1963","v":0},{"$f":"MXJ$1963","v":0},{"$f":"MXK$1963","v":0},{"$f":"MXL$1963","v":0},{"$f":"MXM$1963","v":0},{"$f":"MXN$1963","v":0},{"$f":"MXO$1963","v":0},{"$f":"MXP$1963","v":0},{"$f":"MXQ$1963","v":0},{"$f":"MXR$1963","v":0},{"$f":"MXS$1963","v":0},{"$f":"MXT$1963","v":0},{"$f":"MXU$1963","v":0},{"$f":"MXV$1963","v":0},{"$f":"MXW$1963","v":0},{"$f":"MXX$1963","v":0},{"$f":"MXY$1963","v":0},{"$f":"MXZ$1963","v":0},{"$f":"MYA$1963","v":0},{"$f":"MYB$1963","v":0},{"$f":"MYC$1963","v":0},{"$f":"MYD$1963","v":0},{"$f":"MYE$1963","v":0},{"$f":"MYF$1963","v":0},{"$f":"MYG$1963","v":0},{"$f":"MYH$1963","v":0},{"$f":"MYI$1963","v":0},{"$f":"MYJ$1963","v":0},{"$f":"MYK$1963","v":0},{"$f":"MYL$1963","v":0},{"$f":"MYM$1963","v":0},{"$f":"MYN$1963","v":0},{"$f":"MYO$1963","v":0},{"$f":"MYP$1963","v":0},{"$f":"MYQ$1963","v":0},{"$f":"MYR$1963","v":0},{"$f":"MYS$1963","v":0},{"$f":"MYT$1963","v":0},{"$f":"MYU$1963","v":0},{"$f":"MYV$1963","v":0},{"$f":"MYW$1963","v":0},{"$f":"MYX$1963","v":0},{"$f":"MYY$1963","v":0},{"$f":"MYZ$1963","v":0},{"$f":"MZA$1963","v":0},{"$f":"MZB$1963","v":0},{"$f":"MZC$1963","v":0},{"$f":"MZD$1963","v":0},{"$f":"MZE$1963","v":0},{"$f":"MZF$1963","v":0},{"$f":"MZG$1963","v":0},{"$f":"MZH$1963","v":0},{"$f":"MZI$1963","v":0},{"$f":"MZJ$1963","v":0},{"$f":"MZK$1963","v":0},{"$f":"MZL$1963","v":0},{"$f":"MZM$1963","v":0},{"$f":"MZN$1963","v":0},{"$f":"MZO$1963","v":0},{"$f":"MZP$1963","v":0},{"$f":"MZQ$1963","v":0},{"$f":"MZR$1963","v":0},{"$f":"MZS$1963","v":0},{"$f":"MZT$1963","v":0},{"$f":"MZU$1963","v":0},{"$f":"MZV$1963","v":0},{"$f":"MZW$1963","v":0},{"$f":"MZX$1963","v":0},{"$f":"MZY$1963","v":0},{"$f":"MZZ$1963","v":0},{"$f":"NAA$1963","v":0},{"$f":"NAB$1963","v":0},{"$f":"NAC$1963","v":0},{"$f":"NAD$1963","v":0},{"$f":"NAE$1963","v":0},{"$f":"NAF$1963","v":0},{"$f":"NAG$1963","v":0},{"$f":"NAH$1963","v":0},{"$f":"NAI$1963","v":0},{"$f":"NAJ$1963","v":0},{"$f":"NAK$1963","v":0},{"$f":"NAL$1963","v":0},{"$f":"NAM$1963","v":0},{"$f":"NAN$1963","v":0},{"$f":"NAO$1963","v":0},{"$f":"NAP$1963","v":0},{"$f":"NAQ$1963","v":0},{"$f":"NAR$1963","v":0},{"$f":"NAS$1963","v":0},{"$f":"NAT$1963","v":0},{"$f":"NAU$1963","v":0},{"$f":"NAV$1963","v":0},{"$f":"NAW$1963","v":0},{"$f":"NAX$1963","v":0},{"$f":"NAY$1963","v":0},{"$f":"NAZ$1963","v":0},{"$f":"NBA$1963","v":0},{"$f":"NBB$1963","v":0},{"$f":"NBC$1963","v":0},{"$f":"NBD$1963","v":0},{"$f":"NBE$1963","v":0},{"$f":"NBF$1963","v":0},{"$f":"NBG$1963","v":0},{"$f":"NBH$1963","v":0},{"$f":"NBI$1963","v":0},{"$f":"NBJ$1963","v":0},{"$f":"NBK$1963","v":0},{"$f":"NBL$1963","v":0},{"$f":"NBM$1963","v":0},{"$f":"NBN$1963","v":0},{"$f":"NBO$1963","v":0},{"$f":"NBP$1963","v":0},{"$f":"NBQ$1963","v":0},{"$f":"NBR$1963","v":0},{"$f":"NBS$1963","v":0},{"$f":"NBT$1963","v":0},{"$f":"NBU$1963","v":0},{"$f":"NBV$1963","v":0},{"$f":"NBW$1963","v":0},{"$f":"NBX$1963","v":0},{"$f":"NBY$1963","v":0},{"$f":"NBZ$1963","v":0},{"$f":"NCA$1963","v":0},{"$f":"NCB$1963","v":0},{"$f":"NCC$1963","v":0},{"$f":"NCD$1963","v":0},{"$f":"NCE$1963","v":0},{"$f":"NCF$1963","v":0},{"$f":"NCG$1963","v":0},{"$f":"NCH$1963","v":0},{"$f":"NCI$1963","v":0},{"$f":"NCJ$1963","v":0},{"$f":"NCK$1963","v":0},{"$f":"NCL$1963","v":0},{"$f":"NCM$1963","v":0},{"$f":"NCN$1963","v":0},{"$f":"NCO$1963","v":0},{"$f":"NCP$1963","v":0},{"$f":"NCQ$1963","v":0},{"$f":"NCR$1963","v":0},{"$f":"NCS$1963","v":0},{"$f":"NCT$1963","v":0},{"$f":"NCU$1963","v":0},{"$f":"NCV$1963","v":0},{"$f":"NCW$1963","v":0},{"$f":"NCX$1963","v":0},{"$f":"NCY$1963","v":0},{"$f":"NCZ$1963","v":0},{"$f":"NDA$1963","v":0},{"$f":"NDB$1963","v":0},{"$f":"NDC$1963","v":0},{"$f":"NDD$1963","v":0},{"$f":"NDE$1963","v":0},{"$f":"NDF$1963","v":0},{"$f":"NDG$1963","v":0},{"$f":"NDH$1963","v":0},{"$f":"NDI$1963","v":0},{"$f":"NDJ$1963","v":0},{"$f":"NDK$1963","v":0},{"$f":"NDL$1963","v":0},{"$f":"NDM$1963","v":0},{"$f":"NDN$1963","v":0},{"$f":"NDO$1963","v":0},{"$f":"NDP$1963","v":0},{"$f":"NDQ$1963","v":0},{"$f":"NDR$1963","v":0},{"$f":"NDS$1963","v":0},{"$f":"NDT$1963","v":0},{"$f":"NDU$1963","v":0},{"$f":"NDV$1963","v":0},{"$f":"NDW$1963","v":0},{"$f":"NDX$1963","v":0},{"$f":"NDY$1963","v":0},{"$f":"NDZ$1963","v":0},{"$f":"NEA$1963","v":0},{"$f":"NEB$1963","v":0},{"$f":"NEC$1963","v":0},{"$f":"NED$1963","v":0},{"$f":"NEE$1963","v":0},{"$f":"NEF$1963","v":0},{"$f":"NEG$1963","v":0},{"$f":"NEH$1963","v":0},{"$f":"NEI$1963","v":0},{"$f":"NEJ$1963","v":0},{"$f":"NEK$1963","v":0},{"$f":"NEL$1963","v":0},{"$f":"NEM$1963","v":0},{"$f":"NEN$1963","v":0},{"$f":"NEO$1963","v":0},{"$f":"NEP$1963","v":0},{"$f":"NEQ$1963","v":0},{"$f":"NER$1963","v":0},{"$f":"NES$1963","v":0},{"$f":"NET$1963","v":0},{"$f":"NEU$1963","v":0},{"$f":"NEV$1963","v":0},{"$f":"NEW$1963","v":0},{"$f":"NEX$1963","v":0},{"$f":"NEY$1963","v":0},{"$f":"NEZ$1963","v":0},{"$f":"NFA$1963","v":0},{"$f":"NFB$1963","v":0},{"$f":"NFC$1963","v":0},{"$f":"NFD$1963","v":0},{"$f":"NFE$1963","v":0},{"$f":"NFF$1963","v":0},{"$f":"NFG$1963","v":0},{"$f":"NFH$1963","v":0},{"$f":"NFI$1963","v":0},{"$f":"NFJ$1963","v":0},{"$f":"NFK$1963","v":0},{"$f":"NFL$1963","v":0},{"$f":"NFM$1963","v":0},{"$f":"NFN$1963","v":0},{"$f":"NFO$1963","v":0},{"$f":"NFP$1963","v":0},{"$f":"NFQ$1963","v":0},{"$f":"NFR$1963","v":0},{"$f":"NFS$1963","v":0},{"$f":"NFT$1963","v":0},{"$f":"NFU$1963","v":0},{"$f":"NFV$1963","v":0},{"$f":"NFW$1963","v":0},{"$f":"NFX$1963","v":0},{"$f":"NFY$1963","v":0},{"$f":"NFZ$1963","v":0},{"$f":"NGA$1963","v":0},{"$f":"NGB$1963","v":0},{"$f":"NGC$1963","v":0},{"$f":"NGD$1963","v":0},{"$f":"NGE$1963","v":0},{"$f":"NGF$1963","v":0},{"$f":"NGG$1963","v":0},{"$f":"NGH$1963","v":0},{"$f":"NGI$1963","v":0},{"$f":"NGJ$1963","v":0},{"$f":"NGK$1963","v":0},{"$f":"NGL$1963","v":0},{"$f":"NGM$1963","v":0},{"$f":"NGN$1963","v":0},{"$f":"NGO$1963","v":0},{"$f":"NGP$1963","v":0},{"$f":"NGQ$1963","v":0},{"$f":"NGR$1963","v":0},{"$f":"NGS$1963","v":0},{"$f":"NGT$1963","v":0},{"$f":"NGU$1963","v":0},{"$f":"NGV$1963","v":0},{"$f":"NGW$1963","v":0},{"$f":"NGX$1963","v":0},{"$f":"NGY$1963","v":0},{"$f":"NGZ$1963","v":0},{"$f":"NHA$1963","v":0},{"$f":"NHB$1963","v":0},{"$f":"NHC$1963","v":0},{"$f":"NHD$1963","v":0},{"$f":"NHE$1963","v":0},{"$f":"NHF$1963","v":0},{"$f":"NHG$1963","v":0},{"$f":"NHH$1963","v":0},{"$f":"NHI$1963","v":0},{"$f":"NHJ$1963","v":0},{"$f":"NHK$1963","v":0},{"$f":"NHL$1963","v":0},{"$f":"NHM$1963","v":0},{"$f":"NHN$1963","v":0},{"$f":"NHO$1963","v":0},{"$f":"NHP$1963","v":0},{"$f":"NHQ$1963","v":0},{"$f":"NHR$1963","v":0},{"$f":"NHS$1963","v":0},{"$f":"NHT$1963","v":0},{"$f":"NHU$1963","v":0},{"$f":"NHV$1963","v":0},{"$f":"NHW$1963","v":0},{"$f":"NHX$1963","v":0},{"$f":"NHY$1963","v":0},{"$f":"NHZ$1963","v":0},{"$f":"NIA$1963","v":0},{"$f":"NIB$1963","v":0},{"$f":"NIC$1963","v":0},{"$f":"NID$1963","v":0},{"$f":"NIE$1963","v":0},{"$f":"NIF$1963","v":0},{"$f":"NIG$1963","v":0},{"$f":"NIH$1963","v":0},{"$f":"NII$1963","v":0},{"$f":"NIJ$1963","v":0},{"$f":"NIK$1963","v":0},{"$f":"NIL$1963","v":0},{"$f":"NIM$1963","v":0},{"$f":"NIN$1963","v":0},{"$f":"NIO$1963","v":0},{"$f":"NIP$1963","v":0},{"$f":"NIQ$1963","v":0},{"$f":"NIR$1963","v":0},{"$f":"NIS$1963","v":0},{"$f":"NIT$1963","v":0},{"$f":"NIU$1963","v":0},{"$f":"NIV$1963","v":0},{"$f":"NIW$1963","v":0},{"$f":"NIX$1963","v":0},{"$f":"NIY$1963","v":0},{"$f":"NIZ$1963","v":0},{"$f":"NJA$1963","v":0},{"$f":"NJB$1963","v":0},{"$f":"NJC$1963","v":0},{"$f":"NJD$1963","v":0},{"$f":"NJE$1963","v":0},{"$f":"NJF$1963","v":0},{"$f":"NJG$1963","v":0},{"$f":"NJH$1963","v":0},{"$f":"NJI$1963","v":0},{"$f":"NJJ$1963","v":0},{"$f":"NJK$1963","v":0},{"$f":"NJL$1963","v":0},{"$f":"NJM$1963","v":0},{"$f":"NJN$1963","v":0},{"$f":"NJO$1963","v":0},{"$f":"NJP$1963","v":0},{"$f":"NJQ$1963","v":0},{"$f":"NJR$1963","v":0},{"$f":"NJS$1963","v":0},{"$f":"NJT$1963","v":0},{"$f":"NJU$1963","v":0},{"$f":"NJV$1963","v":0},{"$f":"NJW$1963","v":0},{"$f":"NJX$1963","v":0},{"$f":"NJY$1963","v":0},{"$f":"NJZ$1963","v":0},{"$f":"NKA$1963","v":0},{"$f":"NKB$1963","v":0},{"$f":"NKC$1963","v":0},{"$f":"NKD$1963","v":0},{"$f":"NKE$1963","v":0},{"$f":"NKF$1963","v":0},{"$f":"NKG$1963","v":0},{"$f":"NKH$1963","v":0},{"$f":"NKI$1963","v":0},{"$f":"NKJ$1963","v":0},{"$f":"NKK$1963","v":0},{"$f":"NKL$1963","v":0},{"$f":"NKM$1963","v":0},{"$f":"NKN$1963","v":0},{"$f":"NKO$1963","v":0},{"$f":"NKP$1963","v":0},{"$f":"NKQ$1963","v":0},{"$f":"NKR$1963","v":0},{"$f":"NKS$1963","v":0},{"$f":"NKT$1963","v":0},{"$f":"NKU$1963","v":0},{"$f":"NKV$1963","v":0},{"$f":"NKW$1963","v":0},{"$f":"NKX$1963","v":0},{"$f":"NKY$1963","v":0},{"$f":"NKZ$1963","v":0},{"$f":"NLA$1963","v":0},{"$f":"NLB$1963","v":0},{"$f":"NLC$1963","v":0},{"$f":"NLD$1963","v":0},{"$f":"NLE$1963","v":0},{"$f":"NLF$1963","v":0},{"$f":"NLG$1963","v":0},{"$f":"NLH$1963","v":0},{"$f":"NLI$1963","v":0},{"$f":"NLJ$1963","v":0},{"$f":"NLK$1963","v":0},{"$f":"NLL$1963","v":0},{"$f":"NLM$1963","v":0},{"$f":"NLN$1963","v":0},{"$f":"NLO$1963","v":0},{"$f":"NLP$1963","v":0},{"$f":"NLQ$1963","v":0},{"$f":"NLR$1963","v":0},{"$f":"NLS$1963","v":0},{"$f":"NLT$1963","v":0},{"$f":"NLU$1963","v":0},{"$f":"NLV$1963","v":0},{"$f":"NLW$1963","v":0},{"$f":"NLX$1963","v":0},{"$f":"NLY$1963","v":0},{"$f":"NLZ$1963","v":0},{"$f":"NMA$1963","v":0},{"$f":"NMB$1963","v":0},{"$f":"NMC$1963","v":0},{"$f":"NMD$1963","v":0},{"$f":"NME$1963","v":0},{"$f":"NMF$1963","v":0},{"$f":"NMG$1963","v":0},{"$f":"NMH$1963","v":0},{"$f":"NMI$1963","v":0},{"$f":"NMJ$1963","v":0},{"$f":"NMK$1963","v":0},{"$f":"NML$1963","v":0},{"$f":"NMM$1963","v":0},{"$f":"NMN$1963","v":0},{"$f":"NMO$1963","v":0},{"$f":"NMP$1963","v":0},{"$f":"NMQ$1963","v":0},{"$f":"NMR$1963","v":0},{"$f":"NMS$1963","v":0},{"$f":"NMT$1963","v":0},{"$f":"NMU$1963","v":0},{"$f":"NMV$1963","v":0},{"$f":"NMW$1963","v":0},{"$f":"NMX$1963","v":0},{"$f":"NMY$1963","v":0},{"$f":"NMZ$1963","v":0},{"$f":"NNA$1963","v":0},{"$f":"NNB$1963","v":0},{"$f":"NNC$1963","v":0},{"$f":"NND$1963","v":0},{"$f":"NNE$1963","v":0},{"$f":"NNF$1963","v":0},{"$f":"NNG$1963","v":0},{"$f":"NNH$1963","v":0},{"$f":"NNI$1963","v":0},{"$f":"NNJ$1963","v":0},{"$f":"NNK$1963","v":0},{"$f":"NNL$1963","v":0},{"$f":"NNM$1963","v":0},{"$f":"NNN$1963","v":0},{"$f":"NNO$1963","v":0},{"$f":"NNP$1963","v":0},{"$f":"NNQ$1963","v":0},{"$f":"NNR$1963","v":0},{"$f":"NNS$1963","v":0},{"$f":"NNT$1963","v":0},{"$f":"NNU$1963","v":0},{"$f":"NNV$1963","v":0},{"$f":"NNW$1963","v":0},{"$f":"NNX$1963","v":0},{"$f":"NNY$1963","v":0},{"$f":"NNZ$1963","v":0},{"$f":"NOA$1963","v":0},{"$f":"NOB$1963","v":0},{"$f":"NOC$1963","v":0},{"$f":"NOD$1963","v":0},{"$f":"NOE$1963","v":0},{"$f":"NOF$1963","v":0},{"$f":"NOG$1963","v":0},{"$f":"NOH$1963","v":0},{"$f":"NOI$1963","v":0},{"$f":"NOJ$1963","v":0},{"$f":"NOK$1963","v":0},{"$f":"NOL$1963","v":0},{"$f":"NOM$1963","v":0},{"$f":"NON$1963","v":0},{"$f":"NOO$1963","v":0},{"$f":"NOP$1963","v":0},{"$f":"NOQ$1963","v":0},{"$f":"NOR$1963","v":0},{"$f":"NOS$1963","v":0},{"$f":"NOT$1963","v":0},{"$f":"NOU$1963","v":0},{"$f":"NOV$1963","v":0},{"$f":"NOW$1963","v":0},{"$f":"NOX$1963","v":0},{"$f":"NOY$1963","v":0},{"$f":"NOZ$1963","v":0},{"$f":"NPA$1963","v":0},{"$f":"NPB$1963","v":0},{"$f":"NPC$1963","v":0},{"$f":"NPD$1963","v":0},{"$f":"NPE$1963","v":0},{"$f":"NPF$1963","v":0},{"$f":"NPG$1963","v":0},{"$f":"NPH$1963","v":0},{"$f":"NPI$1963","v":0},{"$f":"NPJ$1963","v":0},{"$f":"NPK$1963","v":0},{"$f":"NPL$1963","v":0},{"$f":"NPM$1963","v":0},{"$f":"NPN$1963","v":0},{"$f":"NPO$1963","v":0},{"$f":"NPP$1963","v":0},{"$f":"NPQ$1963","v":0},{"$f":"NPR$1963","v":0},{"$f":"NPS$1963","v":0},{"$f":"NPT$1963","v":0},{"$f":"NPU$1963","v":0},{"$f":"NPV$1963","v":0},{"$f":"NPW$1963","v":0},{"$f":"NPX$1963","v":0},{"$f":"NPY$1963","v":0},{"$f":"NPZ$1963","v":0},{"$f":"NQA$1963","v":0},{"$f":"NQB$1963","v":0},{"$f":"NQC$1963","v":0},{"$f":"NQD$1963","v":0},{"$f":"NQE$1963","v":0},{"$f":"NQF$1963","v":0},{"$f":"NQG$1963","v":0},{"$f":"NQH$1963","v":0},{"$f":"NQI$1963","v":0},{"$f":"NQJ$1963","v":0},{"$f":"NQK$1963","v":0},{"$f":"NQL$1963","v":0},{"$f":"NQM$1963","v":0},{"$f":"NQN$1963","v":0},{"$f":"NQO$1963","v":0},{"$f":"NQP$1963","v":0},{"$f":"NQQ$1963","v":0},{"$f":"NQR$1963","v":0},{"$f":"NQS$1963","v":0},{"$f":"NQT$1963","v":0},{"$f":"NQU$1963","v":0},{"$f":"NQV$1963","v":0},{"$f":"NQW$1963","v":0},{"$f":"NQX$1963","v":0},{"$f":"NQY$1963","v":0},{"$f":"NQZ$1963","v":0},{"$f":"NRA$1963","v":0},{"$f":"NRB$1963","v":0},{"$f":"NRC$1963","v":0},{"$f":"NRD$1963","v":0},{"$f":"NRE$1963","v":0},{"$f":"NRF$1963","v":0},{"$f":"NRG$1963","v":0},{"$f":"NRH$1963","v":0},{"$f":"NRI$1963","v":0},{"$f":"NRJ$1963","v":0},{"$f":"NRK$1963","v":0},{"$f":"NRL$1963","v":0},{"$f":"NRM$1963","v":0},{"$f":"NRN$1963","v":0},{"$f":"NRO$1963","v":0},{"$f":"NRP$1963","v":0},{"$f":"NRQ$1963","v":0},{"$f":"NRR$1963","v":0},{"$f":"NRS$1963","v":0},{"$f":"NRT$1963","v":0},{"$f":"NRU$1963","v":0},{"$f":"NRV$1963","v":0},{"$f":"NRW$1963","v":0},{"$f":"NRX$1963","v":0},{"$f":"NRY$1963","v":0},{"$f":"NRZ$1963","v":0},{"$f":"NSA$1963","v":0},{"$f":"NSB$1963","v":0},{"$f":"NSC$1963","v":0},{"$f":"NSD$1963","v":0},{"$f":"NSE$1963","v":0},{"$f":"NSF$1963","v":0},{"$f":"NSG$1963","v":0},{"$f":"NSH$1963","v":0},{"$f":"NSI$1963","v":0},{"$f":"NSJ$1963","v":0},{"$f":"NSK$1963","v":0},{"$f":"NSL$1963","v":0},{"$f":"NSM$1963","v":0},{"$f":"NSN$1963","v":0},{"$f":"NSO$1963","v":0},{"$f":"NSP$1963","v":0},{"$f":"NSQ$1963","v":0},{"$f":"NSR$1963","v":0},{"$f":"NSS$1963","v":0},{"$f":"NST$1963","v":0},{"$f":"NSU$1963","v":0},{"$f":"NSV$1963","v":0},{"$f":"NSW$1963","v":0},{"$f":"NSX$1963","v":0},{"$f":"NSY$1963","v":0},{"$f":"NSZ$1963","v":0},{"$f":"NTA$1963","v":0},{"$f":"NTB$1963","v":0},{"$f":"NTC$1963","v":0},{"$f":"NTD$1963","v":0},{"$f":"NTE$1963","v":0},{"$f":"NTF$1963","v":0},{"$f":"NTG$1963","v":0},{"$f":"NTH$1963","v":0},{"$f":"NTI$1963","v":0},{"$f":"NTJ$1963","v":0},{"$f":"NTK$1963","v":0},{"$f":"NTL$1963","v":0},{"$f":"NTM$1963","v":0},{"$f":"NTN$1963","v":0},{"$f":"NTO$1963","v":0},{"$f":"NTP$1963","v":0},{"$f":"NTQ$1963","v":0},{"$f":"NTR$1963","v":0},{"$f":"NTS$1963","v":0},{"$f":"NTT$1963","v":0},{"$f":"NTU$1963","v":0},{"$f":"NTV$1963","v":0},{"$f":"NTW$1963","v":0},{"$f":"NTX$1963","v":0},{"$f":"NTY$1963","v":0},{"$f":"NTZ$1963","v":0},{"$f":"NUA$1963","v":0},{"$f":"NUB$1963","v":0},{"$f":"NUC$1963","v":0},{"$f":"NUD$1963","v":0},{"$f":"NUE$1963","v":0},{"$f":"NUF$1963","v":0},{"$f":"NUG$1963","v":0},{"$f":"NUH$1963","v":0},{"$f":"NUI$1963","v":0},{"$f":"NUJ$1963","v":0},{"$f":"NUK$1963","v":0},{"$f":"NUL$1963","v":0},{"$f":"NUM$1963","v":0},{"$f":"NUN$1963","v":0},{"$f":"NUO$1963","v":0},{"$f":"NUP$1963","v":0},{"$f":"NUQ$1963","v":0},{"$f":"NUR$1963","v":0},{"$f":"NUS$1963","v":0},{"$f":"NUT$1963","v":0},{"$f":"NUU$1963","v":0},{"$f":"NUV$1963","v":0},{"$f":"NUW$1963","v":0},{"$f":"NUX$1963","v":0},{"$f":"NUY$1963","v":0},{"$f":"NUZ$1963","v":0},{"$f":"NVA$1963","v":0},{"$f":"NVB$1963","v":0},{"$f":"NVC$1963","v":0},{"$f":"NVD$1963","v":0},{"$f":"NVE$1963","v":0},{"$f":"NVF$1963","v":0},{"$f":"NVG$1963","v":0},{"$f":"NVH$1963","v":0},{"$f":"NVI$1963","v":0},{"$f":"NVJ$1963","v":0},{"$f":"NVK$1963","v":0},{"$f":"NVL$1963","v":0},{"$f":"NVM$1963","v":0},{"$f":"NVN$1963","v":0},{"$f":"NVO$1963","v":0},{"$f":"NVP$1963","v":0},{"$f":"NVQ$1963","v":0},{"$f":"NVR$1963","v":0},{"$f":"NVS$1963","v":0},{"$f":"NVT$1963","v":0},{"$f":"NVU$1963","v":0},{"$f":"NVV$1963","v":0},{"$f":"NVW$1963","v":0},{"$f":"NVX$1963","v":0},{"$f":"NVY$1963","v":0},{"$f":"NVZ$1963","v":0},{"$f":"NWA$1963","v":0},{"$f":"NWB$1963","v":0},{"$f":"NWC$1963","v":0},{"$f":"NWD$1963","v":0},{"$f":"NWE$1963","v":0},{"$f":"NWF$1963","v":0},{"$f":"NWG$1963","v":0},{"$f":"NWH$1963","v":0},{"$f":"NWI$1963","v":0},{"$f":"NWJ$1963","v":0},{"$f":"NWK$1963","v":0},{"$f":"NWL$1963","v":0},{"$f":"NWM$1963","v":0},{"$f":"NWN$1963","v":0},{"$f":"NWO$1963","v":0},{"$f":"NWP$1963","v":0},{"$f":"NWQ$1963","v":0},{"$f":"NWR$1963","v":0},{"$f":"NWS$1963","v":0},{"$f":"NWT$1963","v":0},{"$f":"NWU$1963","v":0},{"$f":"NWV$1963","v":0},{"$f":"NWW$1963","v":0},{"$f":"NWX$1963","v":0},{"$f":"NWY$1963","v":0},{"$f":"NWZ$1963","v":0},{"$f":"NXA$1963","v":0},{"$f":"NXB$1963","v":0},{"$f":"NXC$1963","v":0},{"$f":"NXD$1963","v":0},{"$f":"NXE$1963","v":0},{"$f":"NXF$1963","v":0},{"$f":"NXG$1963","v":0},{"$f":"NXH$1963","v":0},{"$f":"NXI$1963","v":0},{"$f":"NXJ$1963","v":0},{"$f":"NXK$1963","v":0},{"$f":"NXL$1963","v":0},{"$f":"NXM$1963","v":0},{"$f":"NXN$1963","v":0},{"$f":"NXO$1963","v":0},{"$f":"NXP$1963","v":0},{"$f":"NXQ$1963","v":0},{"$f":"NXR$1963","v":0},{"$f":"NXS$1963","v":0},{"$f":"NXT$1963","v":0},{"$f":"NXU$1963","v":0},{"$f":"NXV$1963","v":0},{"$f":"NXW$1963","v":0},{"$f":"NXX$1963","v":0},{"$f":"NXY$1963","v":0},{"$f":"NXZ$1963","v":0},{"$f":"NYA$1963","v":0},{"$f":"NYB$1963","v":0},{"$f":"NYC$1963","v":0},{"$f":"NYD$1963","v":0},{"$f":"NYE$1963","v":0},{"$f":"NYF$1963","v":0},{"$f":"NYG$1963","v":0},{"$f":"NYH$1963","v":0},{"$f":"NYI$1963","v":0},{"$f":"NYJ$1963","v":0},{"$f":"NYK$1963","v":0},{"$f":"NYL$1963","v":0},{"$f":"NYM$1963","v":0},{"$f":"NYN$1963","v":0},{"$f":"NYO$1963","v":0},{"$f":"NYP$1963","v":0},{"$f":"NYQ$1963","v":0},{"$f":"NYR$1963","v":0},{"$f":"NYS$1963","v":0},{"$f":"NYT$1963","v":0},{"$f":"NYU$1963","v":0},{"$f":"NYV$1963","v":0},{"$f":"NYW$1963","v":0},{"$f":"NYX$1963","v":0},{"$f":"NYY$1963","v":0},{"$f":"NYZ$1963","v":0},{"$f":"NZA$1963","v":0},{"$f":"NZB$1963","v":0},{"$f":"NZC$1963","v":0},{"$f":"NZD$1963","v":0},{"$f":"NZE$1963","v":0},{"$f":"NZF$1963","v":0},{"$f":"NZG$1963","v":0},{"$f":"NZH$1963","v":0},{"$f":"NZI$1963","v":0},{"$f":"NZJ$1963","v":0},{"$f":"NZK$1963","v":0},{"$f":"NZL$1963","v":0},{"$f":"NZM$1963","v":0},{"$f":"NZN$1963","v":0},{"$f":"NZO$1963","v":0},{"$f":"NZP$1963","v":0},{"$f":"NZQ$1963","v":0},{"$f":"NZR$1963","v":0},{"$f":"NZS$1963","v":0},{"$f":"NZT$1963","v":0},{"$f":"NZU$1963","v":0},{"$f":"NZV$1963","v":0},{"$f":"NZW$1963","v":0},{"$f":"NZX$1963","v":0},{"$f":"NZY$1963","v":0},{"$f":"NZZ$1963","v":0},{"$f":"OAA$1963","v":0},{"$f":"OAB$1963","v":0},{"$f":"OAC$1963","v":0},{"$f":"OAD$1963","v":0},{"$f":"OAE$1963","v":0},{"$f":"OAF$1963","v":0},{"$f":"OAG$1963","v":0},{"$f":"OAH$1963","v":0},{"$f":"OAI$1963","v":0},{"$f":"OAJ$1963","v":0},{"$f":"OAK$1963","v":0},{"$f":"OAL$1963","v":0},{"$f":"OAM$1963","v":0},{"$f":"OAN$1963","v":0},{"$f":"OAO$1963","v":0},{"$f":"OAP$1963","v":0},{"$f":"OAQ$1963","v":0},{"$f":"OAR$1963","v":0},{"$f":"OAS$1963","v":0},{"$f":"OAT$1963","v":0},{"$f":"OAU$1963","v":0},{"$f":"OAV$1963","v":0},{"$f":"OAW$1963","v":0},{"$f":"OAX$1963","v":0},{"$f":"OAY$1963","v":0},{"$f":"OAZ$1963","v":0},{"$f":"OBA$1963","v":0},{"$f":"OBB$1963","v":0},{"$f":"OBC$1963","v":0},{"$f":"OBD$1963","v":0},{"$f":"OBE$1963","v":0},{"$f":"OBF$1963","v":0},{"$f":"OBG$1963","v":0},{"$f":"OBH$1963","v":0},{"$f":"OBI$1963","v":0},{"$f":"OBJ$1963","v":0},{"$f":"OBK$1963","v":0},{"$f":"OBL$1963","v":0},{"$f":"OBM$1963","v":0},{"$f":"OBN$1963","v":0},{"$f":"OBO$1963","v":0},{"$f":"OBP$1963","v":0},{"$f":"OBQ$1963","v":0},{"$f":"OBR$1963","v":0},{"$f":"OBS$1963","v":0},{"$f":"OBT$1963","v":0},{"$f":"OBU$1963","v":0},{"$f":"OBV$1963","v":0},{"$f":"OBW$1963","v":0},{"$f":"OBX$1963","v":0},{"$f":"OBY$1963","v":0},{"$f":"OBZ$1963","v":0},{"$f":"OCA$1963","v":0},{"$f":"OCB$1963","v":0},{"$f":"OCC$1963","v":0},{"$f":"OCD$1963","v":0},{"$f":"OCE$1963","v":0},{"$f":"OCF$1963","v":0},{"$f":"OCG$1963","v":0},{"$f":"OCH$1963","v":0},{"$f":"OCI$1963","v":0},{"$f":"OCJ$1963","v":0},{"$f":"OCK$1963","v":0},{"$f":"OCL$1963","v":0},{"$f":"OCM$1963","v":0},{"$f":"OCN$1963","v":0},{"$f":"OCO$1963","v":0},{"$f":"OCP$1963","v":0},{"$f":"OCQ$1963","v":0},{"$f":"OCR$1963","v":0},{"$f":"OCS$1963","v":0},{"$f":"OCT$1963","v":0},{"$f":"OCU$1963","v":0},{"$f":"OCV$1963","v":0},{"$f":"OCW$1963","v":0},{"$f":"OCX$1963","v":0},{"$f":"OCY$1963","v":0},{"$f":"OCZ$1963","v":0},{"$f":"ODA$1963","v":0},{"$f":"ODB$1963","v":0},{"$f":"ODC$1963","v":0},{"$f":"ODD$1963","v":0},{"$f":"ODE$1963","v":0},{"$f":"ODF$1963","v":0},{"$f":"ODG$1963","v":0},{"$f":"ODH$1963","v":0},{"$f":"ODI$1963","v":0},{"$f":"ODJ$1963","v":0},{"$f":"ODK$1963","v":0},{"$f":"ODL$1963","v":0},{"$f":"ODM$1963","v":0},{"$f":"ODN$1963","v":0},{"$f":"ODO$1963","v":0},{"$f":"ODP$1963","v":0},{"$f":"ODQ$1963","v":0},{"$f":"ODR$1963","v":0},{"$f":"ODS$1963","v":0},{"$f":"ODT$1963","v":0},{"$f":"ODU$1963","v":0},{"$f":"ODV$1963","v":0},{"$f":"ODW$1963","v":0},{"$f":"ODX$1963","v":0},{"$f":"ODY$1963","v":0},{"$f":"ODZ$1963","v":0},{"$f":"OEA$1963","v":0},{"$f":"OEB$1963","v":0},{"$f":"OEC$1963","v":0},{"$f":"OED$1963","v":0},{"$f":"OEE$1963","v":0},{"$f":"OEF$1963","v":0},{"$f":"OEG$1963","v":0},{"$f":"OEH$1963","v":0},{"$f":"OEI$1963","v":0},{"$f":"OEJ$1963","v":0},{"$f":"OEK$1963","v":0},{"$f":"OEL$1963","v":0},{"$f":"OEM$1963","v":0},{"$f":"OEN$1963","v":0},{"$f":"OEO$1963","v":0},{"$f":"OEP$1963","v":0},{"$f":"OEQ$1963","v":0},{"$f":"OER$1963","v":0},{"$f":"OES$1963","v":0},{"$f":"OET$1963","v":0},{"$f":"OEU$1963","v":0},{"$f":"OEV$1963","v":0},{"$f":"OEW$1963","v":0},{"$f":"OEX$1963","v":0},{"$f":"OEY$1963","v":0},{"$f":"OEZ$1963","v":0},{"$f":"OFA$1963","v":0},{"$f":"OFB$1963","v":0},{"$f":"OFC$1963","v":0},{"$f":"OFD$1963","v":0},{"$f":"OFE$1963","v":0},{"$f":"OFF$1963","v":0},{"$f":"OFG$1963","v":0},{"$f":"OFH$1963","v":0},{"$f":"OFI$1963","v":0},{"$f":"OFJ$1963","v":0},{"$f":"OFK$1963","v":0},{"$f":"OFL$1963","v":0},{"$f":"OFM$1963","v":0},{"$f":"OFN$1963","v":0},{"$f":"OFO$1963","v":0},{"$f":"OFP$1963","v":0},{"$f":"OFQ$1963","v":0},{"$f":"OFR$1963","v":0},{"$f":"OFS$1963","v":0},{"$f":"OFT$1963","v":0},{"$f":"OFU$1963","v":0},{"$f":"OFV$1963","v":0},{"$f":"OFW$1963","v":0},{"$f":"OFX$1963","v":0},{"$f":"OFY$1963","v":0},{"$f":"OFZ$1963","v":0},{"$f":"OGA$1963","v":0},{"$f":"OGB$1963","v":0},{"$f":"OGC$1963","v":0},{"$f":"OGD$1963","v":0},{"$f":"OGE$1963","v":0},{"$f":"OGF$1963","v":0},{"$f":"OGG$1963","v":0},{"$f":"OGH$1963","v":0},{"$f":"OGI$1963","v":0},{"$f":"OGJ$1963","v":0},{"$f":"OGK$1963","v":0},{"$f":"OGL$1963","v":0},{"$f":"OGM$1963","v":0},{"$f":"OGN$1963","v":0},{"$f":"OGO$1963","v":0},{"$f":"OGP$1963","v":0},{"$f":"OGQ$1963","v":0},{"$f":"OGR$1963","v":0},{"$f":"OGS$1963","v":0},{"$f":"OGT$1963","v":0},{"$f":"OGU$1963","v":0},{"$f":"OGV$1963","v":0},{"$f":"OGW$1963","v":0},{"$f":"OGX$1963","v":0},{"$f":"OGY$1963","v":0},{"$f":"OGZ$1963","v":0},{"$f":"OHA$1963","v":0},{"$f":"OHB$1963","v":0},{"$f":"OHC$1963","v":0},{"$f":"OHD$1963","v":0},{"$f":"OHE$1963","v":0},{"$f":"OHF$1963","v":0},{"$f":"OHG$1963","v":0},{"$f":"OHH$1963","v":0},{"$f":"OHI$1963","v":0},{"$f":"OHJ$1963","v":0},{"$f":"OHK$1963","v":0},{"$f":"OHL$1963","v":0},{"$f":"OHM$1963","v":0},{"$f":"OHN$1963","v":0},{"$f":"OHO$1963","v":0},{"$f":"OHP$1963","v":0},{"$f":"OHQ$1963","v":0},{"$f":"OHR$1963","v":0},{"$f":"OHS$1963","v":0},{"$f":"OHT$1963","v":0},{"$f":"OHU$1963","v":0},{"$f":"OHV$1963","v":0},{"$f":"OHW$1963","v":0},{"$f":"OHX$1963","v":0},{"$f":"OHY$1963","v":0},{"$f":"OHZ$1963","v":0},{"$f":"OIA$1963","v":0},{"$f":"OIB$1963","v":0},{"$f":"OIC$1963","v":0},{"$f":"OID$1963","v":0},{"$f":"OIE$1963","v":0},{"$f":"OIF$1963","v":0},{"$f":"OIG$1963","v":0},{"$f":"OIH$1963","v":0},{"$f":"OII$1963","v":0},{"$f":"OIJ$1963","v":0},{"$f":"OIK$1963","v":0},{"$f":"OIL$1963","v":0},{"$f":"OIM$1963","v":0},{"$f":"OIN$1963","v":0},{"$f":"OIO$1963","v":0},{"$f":"OIP$1963","v":0},{"$f":"OIQ$1963","v":0},{"$f":"OIR$1963","v":0},{"$f":"OIS$1963","v":0},{"$f":"OIT$1963","v":0},{"$f":"OIU$1963","v":0},{"$f":"OIV$1963","v":0},{"$f":"OIW$1963","v":0},{"$f":"OIX$1963","v":0},{"$f":"OIY$1963","v":0},{"$f":"OIZ$1963","v":0},{"$f":"OJA$1963","v":0},{"$f":"OJB$1963","v":0},{"$f":"OJC$1963","v":0},{"$f":"OJD$1963","v":0},{"$f":"OJE$1963","v":0},{"$f":"OJF$1963","v":0},{"$f":"OJG$1963","v":0},{"$f":"OJH$1963","v":0},{"$f":"OJI$1963","v":0},{"$f":"OJJ$1963","v":0},{"$f":"OJK$1963","v":0},{"$f":"OJL$1963","v":0},{"$f":"OJM$1963","v":0},{"$f":"OJN$1963","v":0},{"$f":"OJO$1963","v":0},{"$f":"OJP$1963","v":0},{"$f":"OJQ$1963","v":0},{"$f":"OJR$1963","v":0},{"$f":"OJS$1963","v":0},{"$f":"OJT$1963","v":0},{"$f":"OJU$1963","v":0},{"$f":"OJV$1963","v":0},{"$f":"OJW$1963","v":0},{"$f":"OJX$1963","v":0},{"$f":"OJY$1963","v":0},{"$f":"OJZ$1963","v":0},{"$f":"OKA$1963","v":0},{"$f":"OKB$1963","v":0},{"$f":"OKC$1963","v":0},{"$f":"OKD$1963","v":0},{"$f":"OKE$1963","v":0},{"$f":"OKF$1963","v":0},{"$f":"OKG$1963","v":0},{"$f":"OKH$1963","v":0},{"$f":"OKI$1963","v":0},{"$f":"OKJ$1963","v":0},{"$f":"OKK$1963","v":0},{"$f":"OKL$1963","v":0},{"$f":"OKM$1963","v":0},{"$f":"OKN$1963","v":0},{"$f":"OKO$1963","v":0},{"$f":"OKP$1963","v":0},{"$f":"OKQ$1963","v":0},{"$f":"OKR$1963","v":0},{"$f":"OKS$1963","v":0},{"$f":"OKT$1963","v":0},{"$f":"OKU$1963","v":0},{"$f":"OKV$1963","v":0},{"$f":"OKW$1963","v":0},{"$f":"OKX$1963","v":0},{"$f":"OKY$1963","v":0},{"$f":"OKZ$1963","v":0},{"$f":"OLA$1963","v":0},{"$f":"OLB$1963","v":0},{"$f":"OLC$1963","v":0},{"$f":"OLD$1963","v":0},{"$f":"OLE$1963","v":0},{"$f":"OLF$1963","v":0},{"$f":"OLG$1963","v":0},{"$f":"OLH$1963","v":0},{"$f":"OLI$1963","v":0},{"$f":"OLJ$1963","v":0},{"$f":"OLK$1963","v":0},{"$f":"OLL$1963","v":0},{"$f":"OLM$1963","v":0},{"$f":"OLN$1963","v":0},{"$f":"OLO$1963","v":0},{"$f":"OLP$1963","v":0},{"$f":"OLQ$1963","v":0},{"$f":"OLR$1963","v":0},{"$f":"OLS$1963","v":0},{"$f":"OLT$1963","v":0},{"$f":"OLU$1963","v":0},{"$f":"OLV$1963","v":0},{"$f":"OLW$1963","v":0},{"$f":"OLX$1963","v":0},{"$f":"OLY$1963","v":0},{"$f":"OLZ$1963","v":0},{"$f":"OMA$1963","v":0},{"$f":"OMB$1963","v":0},{"$f":"OMC$1963","v":0},{"$f":"OMD$1963","v":0},{"$f":"OME$1963","v":0},{"$f":"OMF$1963","v":0},{"$f":"OMG$1963","v":0},{"$f":"OMH$1963","v":0},{"$f":"OMI$1963","v":0},{"$f":"OMJ$1963","v":0},{"$f":"OMK$1963","v":0},{"$f":"OML$1963","v":0},{"$f":"OMM$1963","v":0},{"$f":"OMN$1963","v":0},{"$f":"OMO$1963","v":0},{"$f":"OMP$1963","v":0},{"$f":"OMQ$1963","v":0},{"$f":"OMR$1963","v":0},{"$f":"OMS$1963","v":0},{"$f":"OMT$1963","v":0},{"$f":"OMU$1963","v":0},{"$f":"OMV$1963","v":0},{"$f":"OMW$1963","v":0},{"$f":"OMX$1963","v":0},{"$f":"OMY$1963","v":0},{"$f":"OMZ$1963","v":0},{"$f":"ONA$1963","v":0},{"$f":"ONB$1963","v":0},{"$f":"ONC$1963","v":0},{"$f":"OND$1963","v":0},{"$f":"ONE$1963","v":0},{"$f":"ONF$1963","v":0},{"$f":"ONG$1963","v":0},{"$f":"ONH$1963","v":0},{"$f":"ONI$1963","v":0},{"$f":"ONJ$1963","v":0},{"$f":"ONK$1963","v":0},{"$f":"ONL$1963","v":0},{"$f":"ONM$1963","v":0},{"$f":"ONN$1963","v":0},{"$f":"ONO$1963","v":0},{"$f":"ONP$1963","v":0},{"$f":"ONQ$1963","v":0},{"$f":"ONR$1963","v":0},{"$f":"ONS$1963","v":0},{"$f":"ONT$1963","v":0},{"$f":"ONU$1963","v":0},{"$f":"ONV$1963","v":0},{"$f":"ONW$1963","v":0},{"$f":"ONX$1963","v":0},{"$f":"ONY$1963","v":0},{"$f":"ONZ$1963","v":0},{"$f":"OOA$1963","v":0},{"$f":"OOB$1963","v":0},{"$f":"OOC$1963","v":0},{"$f":"OOD$1963","v":0},{"$f":"OOE$1963","v":0},{"$f":"OOF$1963","v":0},{"$f":"OOG$1963","v":0},{"$f":"OOH$1963","v":0},{"$f":"OOI$1963","v":0},{"$f":"OOJ$1963","v":0},{"$f":"OOK$1963","v":0},{"$f":"OOL$1963","v":0},{"$f":"OOM$1963","v":0},{"$f":"OON$1963","v":0},{"$f":"OOO$1963","v":0},{"$f":"OOP$1963","v":0},{"$f":"OOQ$1963","v":0},{"$f":"OOR$1963","v":0},{"$f":"OOS$1963","v":0},{"$f":"OOT$1963","v":0},{"$f":"OOU$1963","v":0},{"$f":"OOV$1963","v":0},{"$f":"OOW$1963","v":0},{"$f":"OOX$1963","v":0},{"$f":"OOY$1963","v":0},{"$f":"OOZ$1963","v":0},{"$f":"OPA$1963","v":0},{"$f":"OPB$1963","v":0},{"$f":"OPC$1963","v":0},{"$f":"OPD$1963","v":0},{"$f":"OPE$1963","v":0},{"$f":"OPF$1963","v":0},{"$f":"OPG$1963","v":0},{"$f":"OPH$1963","v":0},{"$f":"OPI$1963","v":0},{"$f":"OPJ$1963","v":0},{"$f":"OPK$1963","v":0},{"$f":"OPL$1963","v":0},{"$f":"OPM$1963","v":0},{"$f":"OPN$1963","v":0},{"$f":"OPO$1963","v":0},{"$f":"OPP$1963","v":0},{"$f":"OPQ$1963","v":0},{"$f":"OPR$1963","v":0},{"$f":"OPS$1963","v":0},{"$f":"OPT$1963","v":0},{"$f":"OPU$1963","v":0},{"$f":"OPV$1963","v":0},{"$f":"OPW$1963","v":0},{"$f":"OPX$1963","v":0},{"$f":"OPY$1963","v":0},{"$f":"OPZ$1963","v":0},{"$f":"OQA$1963","v":0},{"$f":"OQB$1963","v":0},{"$f":"OQC$1963","v":0},{"$f":"OQD$1963","v":0},{"$f":"OQE$1963","v":0},{"$f":"OQF$1963","v":0},{"$f":"OQG$1963","v":0},{"$f":"OQH$1963","v":0},{"$f":"OQI$1963","v":0},{"$f":"OQJ$1963","v":0},{"$f":"OQK$1963","v":0},{"$f":"OQL$1963","v":0},{"$f":"OQM$1963","v":0},{"$f":"OQN$1963","v":0},{"$f":"OQO$1963","v":0},{"$f":"OQP$1963","v":0},{"$f":"OQQ$1963","v":0},{"$f":"OQR$1963","v":0},{"$f":"OQS$1963","v":0},{"$f":"OQT$1963","v":0},{"$f":"OQU$1963","v":0},{"$f":"OQV$1963","v":0},{"$f":"OQW$1963","v":0},{"$f":"OQX$1963","v":0},{"$f":"OQY$1963","v":0},{"$f":"OQZ$1963","v":0},{"$f":"ORA$1963","v":0},{"$f":"ORB$1963","v":0},{"$f":"ORC$1963","v":0},{"$f":"ORD$1963","v":0},{"$f":"ORE$1963","v":0},{"$f":"ORF$1963","v":0},{"$f":"ORG$1963","v":0},{"$f":"ORH$1963","v":0},{"$f":"ORI$1963","v":0},{"$f":"ORJ$1963","v":0},{"$f":"ORK$1963","v":0},{"$f":"ORL$1963","v":0},{"$f":"ORM$1963","v":0},{"$f":"ORN$1963","v":0},{"$f":"ORO$1963","v":0},{"$f":"ORP$1963","v":0},{"$f":"ORQ$1963","v":0},{"$f":"ORR$1963","v":0},{"$f":"ORS$1963","v":0},{"$f":"ORT$1963","v":0},{"$f":"ORU$1963","v":0},{"$f":"ORV$1963","v":0},{"$f":"ORW$1963","v":0},{"$f":"ORX$1963","v":0},{"$f":"ORY$1963","v":0},{"$f":"ORZ$1963","v":0},{"$f":"OSA$1963","v":0},{"$f":"OSB$1963","v":0},{"$f":"OSC$1963","v":0},{"$f":"OSD$1963","v":0},{"$f":"OSE$1963","v":0},{"$f":"OSF$1963","v":0},{"$f":"OSG$1963","v":0},{"$f":"OSH$1963","v":0},{"$f":"OSI$1963","v":0},{"$f":"OSJ$1963","v":0},{"$f":"OSK$1963","v":0},{"$f":"OSL$1963","v":0},{"$f":"OSM$1963","v":0},{"$f":"OSN$1963","v":0},{"$f":"OSO$1963","v":0},{"$f":"OSP$1963","v":0},{"$f":"OSQ$1963","v":0},{"$f":"OSR$1963","v":0},{"$f":"OSS$1963","v":0},{"$f":"OST$1963","v":0},{"$f":"OSU$1963","v":0},{"$f":"OSV$1963","v":0},{"$f":"OSW$1963","v":0},{"$f":"OSX$1963","v":0},{"$f":"OSY$1963","v":0},{"$f":"OSZ$1963","v":0},{"$f":"OTA$1963","v":0},{"$f":"OTB$1963","v":0},{"$f":"OTC$1963","v":0},{"$f":"OTD$1963","v":0},{"$f":"OTE$1963","v":0},{"$f":"OTF$1963","v":0},{"$f":"OTG$1963","v":0},{"$f":"OTH$1963","v":0},{"$f":"OTI$1963","v":0},{"$f":"OTJ$1963","v":0},{"$f":"OTK$1963","v":0},{"$f":"OTL$1963","v":0},{"$f":"OTM$1963","v":0},{"$f":"OTN$1963","v":0},{"$f":"OTO$1963","v":0},{"$f":"OTP$1963","v":0},{"$f":"OTQ$1963","v":0},{"$f":"OTR$1963","v":0},{"$f":"OTS$1963","v":0},{"$f":"OTT$1963","v":0},{"$f":"OTU$1963","v":0},{"$f":"OTV$1963","v":0},{"$f":"OTW$1963","v":0},{"$f":"OTX$1963","v":0},{"$f":"OTY$1963","v":0},{"$f":"OTZ$1963","v":0},{"$f":"OUA$1963","v":0},{"$f":"OUB$1963","v":0},{"$f":"OUC$1963","v":0},{"$f":"OUD$1963","v":0},{"$f":"OUE$1963","v":0},{"$f":"OUF$1963","v":0},{"$f":"OUG$1963","v":0},{"$f":"OUH$1963","v":0},{"$f":"OUI$1963","v":0},{"$f":"OUJ$1963","v":0},{"$f":"OUK$1963","v":0},{"$f":"OUL$1963","v":0},{"$f":"OUM$1963","v":0},{"$f":"OUN$1963","v":0},{"$f":"OUO$1963","v":0},{"$f":"OUP$1963","v":0},{"$f":"OUQ$1963","v":0},{"$f":"OUR$1963","v":0},{"$f":"OUS$1963","v":0},{"$f":"OUT$1963","v":0},{"$f":"OUU$1963","v":0},{"$f":"OUV$1963","v":0},{"$f":"OUW$1963","v":0},{"$f":"OUX$1963","v":0},{"$f":"OUY$1963","v":0},{"$f":"OUZ$1963","v":0},{"$f":"OVA$1963","v":0},{"$f":"OVB$1963","v":0},{"$f":"OVC$1963","v":0},{"$f":"OVD$1963","v":0},{"$f":"OVE$1963","v":0},{"$f":"OVF$1963","v":0},{"$f":"OVG$1963","v":0},{"$f":"OVH$1963","v":0},{"$f":"OVI$1963","v":0},{"$f":"OVJ$1963","v":0},{"$f":"OVK$1963","v":0},{"$f":"OVL$1963","v":0},{"$f":"OVM$1963","v":0},{"$f":"OVN$1963","v":0},{"$f":"OVO$1963","v":0},{"$f":"OVP$1963","v":0},{"$f":"OVQ$1963","v":0},{"$f":"OVR$1963","v":0},{"$f":"OVS$1963","v":0},{"$f":"OVT$1963","v":0},{"$f":"OVU$1963","v":0},{"$f":"OVV$1963","v":0},{"$f":"OVW$1963","v":0},{"$f":"OVX$1963","v":0},{"$f":"OVY$1963","v":0},{"$f":"OVZ$1963","v":0},{"$f":"OWA$1963","v":0},{"$f":"OWB$1963","v":0},{"$f":"OWC$1963","v":0},{"$f":"OWD$1963","v":0},{"$f":"OWE$1963","v":0},{"$f":"OWF$1963","v":0},{"$f":"OWG$1963","v":0},{"$f":"OWH$1963","v":0},{"$f":"OWI$1963","v":0},{"$f":"OWJ$1963","v":0},{"$f":"OWK$1963","v":0},{"$f":"OWL$1963","v":0},{"$f":"OWM$1963","v":0},{"$f":"OWN$1963","v":0},{"$f":"OWO$1963","v":0},{"$f":"OWP$1963","v":0},{"$f":"OWQ$1963","v":0},{"$f":"OWR$1963","v":0},{"$f":"OWS$1963","v":0},{"$f":"OWT$1963","v":0},{"$f":"OWU$1963","v":0},{"$f":"OWV$1963","v":0},{"$f":"OWW$1963","v":0},{"$f":"OWX$1963","v":0},{"$f":"OWY$1963","v":0},{"$f":"OWZ$1963","v":0},{"$f":"OXA$1963","v":0},{"$f":"OXB$1963","v":0},{"$f":"OXC$1963","v":0},{"$f":"OXD$1963","v":0},{"$f":"OXE$1963","v":0},{"$f":"OXF$1963","v":0},{"$f":"OXG$1963","v":0},{"$f":"OXH$1963","v":0},{"$f":"OXI$1963","v":0},{"$f":"OXJ$1963","v":0},{"$f":"OXK$1963","v":0},{"$f":"OXL$1963","v":0},{"$f":"OXM$1963","v":0},{"$f":"OXN$1963","v":0},{"$f":"OXO$1963","v":0},{"$f":"OXP$1963","v":0},{"$f":"OXQ$1963","v":0},{"$f":"OXR$1963","v":0},{"$f":"OXS$1963","v":0},{"$f":"OXT$1963","v":0},{"$f":"OXU$1963","v":0},{"$f":"OXV$1963","v":0},{"$f":"OXW$1963","v":0},{"$f":"OXX$1963","v":0},{"$f":"OXY$1963","v":0},{"$f":"OXZ$1963","v":0},{"$f":"OYA$1963","v":0},{"$f":"OYB$1963","v":0},{"$f":"OYC$1963","v":0},{"$f":"OYD$1963","v":0},{"$f":"OYE$1963","v":0},{"$f":"OYF$1963","v":0},{"$f":"OYG$1963","v":0},{"$f":"OYH$1963","v":0},{"$f":"OYI$1963","v":0},{"$f":"OYJ$1963","v":0},{"$f":"OYK$1963","v":0},{"$f":"OYL$1963","v":0},{"$f":"OYM$1963","v":0},{"$f":"OYN$1963","v":0},{"$f":"OYO$1963","v":0},{"$f":"OYP$1963","v":0},{"$f":"OYQ$1963","v":0},{"$f":"OYR$1963","v":0},{"$f":"OYS$1963","v":0},{"$f":"OYT$1963","v":0},{"$f":"OYU$1963","v":0},{"$f":"OYV$1963","v":0},{"$f":"OYW$1963","v":0},{"$f":"OYX$1963","v":0},{"$f":"OYY$1963","v":0},{"$f":"OYZ$1963","v":0},{"$f":"OZA$1963","v":0},{"$f":"OZB$1963","v":0},{"$f":"OZC$1963","v":0},{"$f":"OZD$1963","v":0},{"$f":"OZE$1963","v":0},{"$f":"OZF$1963","v":0},{"$f":"OZG$1963","v":0},{"$f":"OZH$1963","v":0},{"$f":"OZI$1963","v":0},{"$f":"OZJ$1963","v":0},{"$f":"OZK$1963","v":0},{"$f":"OZL$1963","v":0},{"$f":"OZM$1963","v":0},{"$f":"OZN$1963","v":0},{"$f":"OZO$1963","v":0},{"$f":"OZP$1963","v":0},{"$f":"OZQ$1963","v":0},{"$f":"OZR$1963","v":0},{"$f":"OZS$1963","v":0},{"$f":"OZT$1963","v":0},{"$f":"OZU$1963","v":0},{"$f":"OZV$1963","v":0},{"$f":"OZW$1963","v":0},{"$f":"OZX$1963","v":0},{"$f":"OZY$1963","v":0},{"$f":"OZZ$1963","v":0},{"$f":"PAA$1963","v":0},{"$f":"PAB$1963","v":0},{"$f":"PAC$1963","v":0},{"$f":"PAD$1963","v":0},{"$f":"PAE$1963","v":0},{"$f":"PAF$1963","v":0},{"$f":"PAG$1963","v":0},{"$f":"PAH$1963","v":0},{"$f":"PAI$1963","v":0},{"$f":"PAJ$1963","v":0},{"$f":"PAK$1963","v":0},{"$f":"PAL$1963","v":0},{"$f":"PAM$1963","v":0},{"$f":"PAN$1963","v":0},{"$f":"PAO$1963","v":0},{"$f":"PAP$1963","v":0},{"$f":"PAQ$1963","v":0},{"$f":"PAR$1963","v":0},{"$f":"PAS$1963","v":0},{"$f":"PAT$1963","v":0},{"$f":"PAU$1963","v":0},{"$f":"PAV$1963","v":0},{"$f":"PAW$1963","v":0},{"$f":"PAX$1963","v":0},{"$f":"PAY$1963","v":0},{"$f":"PAZ$1963","v":0},{"$f":"PBA$1963","v":0},{"$f":"PBB$1963","v":0},{"$f":"PBC$1963","v":0},{"$f":"PBD$1963","v":0},{"$f":"PBE$1963","v":0},{"$f":"PBF$1963","v":0},{"$f":"PBG$1963","v":0},{"$f":"PBH$1963","v":0},{"$f":"PBI$1963","v":0},{"$f":"PBJ$1963","v":0},{"$f":"PBK$1963","v":0},{"$f":"PBL$1963","v":0},{"$f":"PBM$1963","v":0},{"$f":"PBN$1963","v":0},{"$f":"PBO$1963","v":0},{"$f":"PBP$1963","v":0},{"$f":"PBQ$1963","v":0},{"$f":"PBR$1963","v":0},{"$f":"PBS$1963","v":0},{"$f":"PBT$1963","v":0},{"$f":"PBU$1963","v":0},{"$f":"PBV$1963","v":0},{"$f":"PBW$1963","v":0},{"$f":"PBX$1963","v":0},{"$f":"PBY$1963","v":0},{"$f":"PBZ$1963","v":0},{"$f":"PCA$1963","v":0},{"$f":"PCB$1963","v":0},{"$f":"PCC$1963","v":0},{"$f":"PCD$1963","v":0},{"$f":"PCE$1963","v":0},{"$f":"PCF$1963","v":0},{"$f":"PCG$1963","v":0},{"$f":"PCH$1963","v":0},{"$f":"PCI$1963","v":0},{"$f":"PCJ$1963","v":0},{"$f":"PCK$1963","v":0},{"$f":"PCL$1963","v":0},{"$f":"PCM$1963","v":0},{"$f":"PCN$1963","v":0},{"$f":"PCO$1963","v":0},{"$f":"PCP$1963","v":0},{"$f":"PCQ$1963","v":0},{"$f":"PCR$1963","v":0},{"$f":"PCS$1963","v":0},{"$f":"PCT$1963","v":0},{"$f":"PCU$1963","v":0},{"$f":"PCV$1963","v":0},{"$f":"PCW$1963","v":0},{"$f":"PCX$1963","v":0},{"$f":"PCY$1963","v":0},{"$f":"PCZ$1963","v":0},{"$f":"PDA$1963","v":0},{"$f":"PDB$1963","v":0},{"$f":"PDC$1963","v":0},{"$f":"PDD$1963","v":0},{"$f":"PDE$1963","v":0},{"$f":"PDF$1963","v":0},{"$f":"PDG$1963","v":0},{"$f":"PDH$1963","v":0},{"$f":"PDI$1963","v":0},{"$f":"PDJ$1963","v":0},{"$f":"PDK$1963","v":0},{"$f":"PDL$1963","v":0},{"$f":"PDM$1963","v":0},{"$f":"PDN$1963","v":0},{"$f":"PDO$1963","v":0},{"$f":"PDP$1963","v":0},{"$f":"PDQ$1963","v":0},{"$f":"PDR$1963","v":0},{"$f":"PDS$1963","v":0},{"$f":"PDT$1963","v":0},{"$f":"PDU$1963","v":0},{"$f":"PDV$1963","v":0},{"$f":"PDW$1963","v":0},{"$f":"PDX$1963","v":0},{"$f":"PDY$1963","v":0},{"$f":"PDZ$1963","v":0},{"$f":"PEA$1963","v":0},{"$f":"PEB$1963","v":0},{"$f":"PEC$1963","v":0},{"$f":"PED$1963","v":0},{"$f":"PEE$1963","v":0},{"$f":"PEF$1963","v":0},{"$f":"PEG$1963","v":0},{"$f":"PEH$1963","v":0},{"$f":"PEI$1963","v":0},{"$f":"PEJ$1963","v":0},{"$f":"PEK$1963","v":0},{"$f":"PEL$1963","v":0},{"$f":"PEM$1963","v":0},{"$f":"PEN$1963","v":0},{"$f":"PEO$1963","v":0},{"$f":"PEP$1963","v":0},{"$f":"PEQ$1963","v":0},{"$f":"PER$1963","v":0},{"$f":"PES$1963","v":0},{"$f":"PET$1963","v":0},{"$f":"PEU$1963","v":0},{"$f":"PEV$1963","v":0},{"$f":"PEW$1963","v":0},{"$f":"PEX$1963","v":0},{"$f":"PEY$1963","v":0},{"$f":"PEZ$1963","v":0},{"$f":"PFA$1963","v":0},{"$f":"PFB$1963","v":0},{"$f":"PFC$1963","v":0},{"$f":"PFD$1963","v":0},{"$f":"PFE$1963","v":0},{"$f":"PFF$1963","v":0},{"$f":"PFG$1963","v":0},{"$f":"PFH$1963","v":0},{"$f":"PFI$1963","v":0},{"$f":"PFJ$1963","v":0},{"$f":"PFK$1963","v":0},{"$f":"PFL$1963","v":0},{"$f":"PFM$1963","v":0},{"$f":"PFN$1963","v":0},{"$f":"PFO$1963","v":0},{"$f":"PFP$1963","v":0},{"$f":"PFQ$1963","v":0},{"$f":"PFR$1963","v":0},{"$f":"PFS$1963","v":0},{"$f":"PFT$1963","v":0},{"$f":"PFU$1963","v":0},{"$f":"PFV$1963","v":0},{"$f":"PFW$1963","v":0},{"$f":"PFX$1963","v":0},{"$f":"PFY$1963","v":0},{"$f":"PFZ$1963","v":0},{"$f":"PGA$1963","v":0},{"$f":"PGB$1963","v":0},{"$f":"PGC$1963","v":0},{"$f":"PGD$1963","v":0},{"$f":"PGE$1963","v":0},{"$f":"PGF$1963","v":0},{"$f":"PGG$1963","v":0},{"$f":"PGH$1963","v":0},{"$f":"PGI$1963","v":0},{"$f":"PGJ$1963","v":0},{"$f":"PGK$1963","v":0},{"$f":"PGL$1963","v":0},{"$f":"PGM$1963","v":0},{"$f":"PGN$1963","v":0},{"$f":"PGO$1963","v":0},{"$f":"PGP$1963","v":0},{"$f":"PGQ$1963","v":0},{"$f":"PGR$1963","v":0},{"$f":"PGS$1963","v":0},{"$f":"PGT$1963","v":0},{"$f":"PGU$1963","v":0},{"$f":"PGV$1963","v":0},{"$f":"PGW$1963","v":0},{"$f":"PGX$1963","v":0},{"$f":"PGY$1963","v":0},{"$f":"PGZ$1963","v":0},{"$f":"PHA$1963","v":0},{"$f":"PHB$1963","v":0},{"$f":"PHC$1963","v":0},{"$f":"PHD$1963","v":0},{"$f":"PHE$1963","v":0},{"$f":"PHF$1963","v":0},{"$f":"PHG$1963","v":0},{"$f":"PHH$1963","v":0},{"$f":"PHI$1963","v":0},{"$f":"PHJ$1963","v":0},{"$f":"PHK$1963","v":0},{"$f":"PHL$1963","v":0},{"$f":"PHM$1963","v":0},{"$f":"PHN$1963","v":0},{"$f":"PHO$1963","v":0},{"$f":"PHP$1963","v":0},{"$f":"PHQ$1963","v":0},{"$f":"PHR$1963","v":0},{"$f":"PHS$1963","v":0},{"$f":"PHT$1963","v":0},{"$f":"PHU$1963","v":0},{"$f":"PHV$1963","v":0},{"$f":"PHW$1963","v":0},{"$f":"PHX$1963","v":0},{"$f":"PHY$1963","v":0},{"$f":"PHZ$1963","v":0},{"$f":"PIA$1963","v":0},{"$f":"PIB$1963","v":0},{"$f":"PIC$1963","v":0},{"$f":"PID$1963","v":0},{"$f":"PIE$1963","v":0},{"$f":"PIF$1963","v":0},{"$f":"PIG$1963","v":0},{"$f":"PIH$1963","v":0},{"$f":"PII$1963","v":0},{"$f":"PIJ$1963","v":0},{"$f":"PIK$1963","v":0},{"$f":"PIL$1963","v":0},{"$f":"PIM$1963","v":0},{"$f":"PIN$1963","v":0},{"$f":"PIO$1963","v":0},{"$f":"PIP$1963","v":0},{"$f":"PIQ$1963","v":0},{"$f":"PIR$1963","v":0},{"$f":"PIS$1963","v":0},{"$f":"PIT$1963","v":0},{"$f":"PIU$1963","v":0},{"$f":"PIV$1963","v":0},{"$f":"PIW$1963","v":0},{"$f":"PIX$1963","v":0},{"$f":"PIY$1963","v":0},{"$f":"PIZ$1963","v":0},{"$f":"PJA$1963","v":0},{"$f":"PJB$1963","v":0},{"$f":"PJC$1963","v":0},{"$f":"PJD$1963","v":0},{"$f":"PJE$1963","v":0},{"$f":"PJF$1963","v":0},{"$f":"PJG$1963","v":0},{"$f":"PJH$1963","v":0},{"$f":"PJI$1963","v":0},{"$f":"PJJ$1963","v":0},{"$f":"PJK$1963","v":0},{"$f":"PJL$1963","v":0},{"$f":"PJM$1963","v":0},{"$f":"PJN$1963","v":0},{"$f":"PJO$1963","v":0},{"$f":"PJP$1963","v":0},{"$f":"PJQ$1963","v":0},{"$f":"PJR$1963","v":0},{"$f":"PJS$1963","v":0},{"$f":"PJT$1963","v":0},{"$f":"PJU$1963","v":0},{"$f":"PJV$1963","v":0},{"$f":"PJW$1963","v":0},{"$f":"PJX$1963","v":0},{"$f":"PJY$1963","v":0},{"$f":"PJZ$1963","v":0},{"$f":"PKA$1963","v":0},{"$f":"PKB$1963","v":0},{"$f":"PKC$1963","v":0},{"$f":"PKD$1963","v":0},{"$f":"PKE$1963","v":0},{"$f":"PKF$1963","v":0},{"$f":"PKG$1963","v":0},{"$f":"PKH$1963","v":0},{"$f":"PKI$1963","v":0},{"$f":"PKJ$1963","v":0},{"$f":"PKK$1963","v":0},{"$f":"PKL$1963","v":0},{"$f":"PKM$1963","v":0},{"$f":"PKN$1963","v":0},{"$f":"PKO$1963","v":0},{"$f":"PKP$1963","v":0},{"$f":"PKQ$1963","v":0},{"$f":"PKR$1963","v":0},{"$f":"PKS$1963","v":0},{"$f":"PKT$1963","v":0},{"$f":"PKU$1963","v":0},{"$f":"PKV$1963","v":0},{"$f":"PKW$1963","v":0},{"$f":"PKX$1963","v":0},{"$f":"PKY$1963","v":0},{"$f":"PKZ$1963","v":0},{"$f":"PLA$1963","v":0},{"$f":"PLB$1963","v":0},{"$f":"PLC$1963","v":0},{"$f":"PLD$1963","v":0},{"$f":"PLE$1963","v":0},{"$f":"PLF$1963","v":0},{"$f":"PLG$1963","v":0},{"$f":"PLH$1963","v":0},{"$f":"PLI$1963","v":0},{"$f":"PLJ$1963","v":0},{"$f":"PLK$1963","v":0},{"$f":"PLL$1963","v":0},{"$f":"PLM$1963","v":0},{"$f":"PLN$1963","v":0},{"$f":"PLO$1963","v":0},{"$f":"PLP$1963","v":0},{"$f":"PLQ$1963","v":0},{"$f":"PLR$1963","v":0},{"$f":"PLS$1963","v":0},{"$f":"PLT$1963","v":0},{"$f":"PLU$1963","v":0},{"$f":"PLV$1963","v":0},{"$f":"PLW$1963","v":0},{"$f":"PLX$1963","v":0},{"$f":"PLY$1963","v":0},{"$f":"PLZ$1963","v":0},{"$f":"PMA$1963","v":0},{"$f":"PMB$1963","v":0},{"$f":"PMC$1963","v":0},{"$f":"PMD$1963","v":0},{"$f":"PME$1963","v":0},{"$f":"PMF$1963","v":0},{"$f":"PMG$1963","v":0},{"$f":"PMH$1963","v":0},{"$f":"PMI$1963","v":0},{"$f":"PMJ$1963","v":0},{"$f":"PMK$1963","v":0},{"$f":"PML$1963","v":0},{"$f":"PMM$1963","v":0},{"$f":"PMN$1963","v":0},{"$f":"PMO$1963","v":0},{"$f":"PMP$1963","v":0},{"$f":"PMQ$1963","v":0},{"$f":"PMR$1963","v":0},{"$f":"PMS$1963","v":0},{"$f":"PMT$1963","v":0},{"$f":"PMU$1963","v":0},{"$f":"PMV$1963","v":0},{"$f":"PMW$1963","v":0},{"$f":"PMX$1963","v":0},{"$f":"PMY$1963","v":0},{"$f":"PMZ$1963","v":0},{"$f":"PNA$1963","v":0},{"$f":"PNB$1963","v":0},{"$f":"PNC$1963","v":0},{"$f":"PND$1963","v":0},{"$f":"PNE$1963","v":0},{"$f":"PNF$1963","v":0},{"$f":"PNG$1963","v":0},{"$f":"PNH$1963","v":0},{"$f":"PNI$1963","v":0},{"$f":"PNJ$1963","v":0},{"$f":"PNK$1963","v":0},{"$f":"PNL$1963","v":0},{"$f":"PNM$1963","v":0},{"$f":"PNN$1963","v":0},{"$f":"PNO$1963","v":0},{"$f":"PNP$1963","v":0},{"$f":"PNQ$1963","v":0},{"$f":"PNR$1963","v":0},{"$f":"PNS$1963","v":0},{"$f":"PNT$1963","v":0},{"$f":"PNU$1963","v":0},{"$f":"PNV$1963","v":0},{"$f":"PNW$1963","v":0},{"$f":"PNX$1963","v":0},{"$f":"PNY$1963","v":0},{"$f":"PNZ$1963","v":0},{"$f":"POA$1963","v":0},{"$f":"POB$1963","v":0},{"$f":"POC$1963","v":0},{"$f":"POD$1963","v":0},{"$f":"POE$1963","v":0},{"$f":"POF$1963","v":0},{"$f":"POG$1963","v":0},{"$f":"POH$1963","v":0},{"$f":"POI$1963","v":0},{"$f":"POJ$1963","v":0},{"$f":"POK$1963","v":0},{"$f":"POL$1963","v":0},{"$f":"POM$1963","v":0},{"$f":"PON$1963","v":0},{"$f":"POO$1963","v":0},{"$f":"POP$1963","v":0},{"$f":"POQ$1963","v":0},{"$f":"POR$1963","v":0},{"$f":"POS$1963","v":0},{"$f":"POT$1963","v":0},{"$f":"POU$1963","v":0},{"$f":"POV$1963","v":0},{"$f":"POW$1963","v":0},{"$f":"POX$1963","v":0},{"$f":"POY$1963","v":0},{"$f":"POZ$1963","v":0},{"$f":"PPA$1963","v":0},{"$f":"PPB$1963","v":0},{"$f":"PPC$1963","v":0},{"$f":"PPD$1963","v":0},{"$f":"PPE$1963","v":0},{"$f":"PPF$1963","v":0},{"$f":"PPG$1963","v":0},{"$f":"PPH$1963","v":0},{"$f":"PPI$1963","v":0},{"$f":"PPJ$1963","v":0},{"$f":"PPK$1963","v":0},{"$f":"PPL$1963","v":0},{"$f":"PPM$1963","v":0},{"$f":"PPN$1963","v":0},{"$f":"PPO$1963","v":0},{"$f":"PPP$1963","v":0},{"$f":"PPQ$1963","v":0},{"$f":"PPR$1963","v":0},{"$f":"PPS$1963","v":0},{"$f":"PPT$1963","v":0},{"$f":"PPU$1963","v":0},{"$f":"PPV$1963","v":0},{"$f":"PPW$1963","v":0},{"$f":"PPX$1963","v":0},{"$f":"PPY$1963","v":0},{"$f":"PPZ$1963","v":0},{"$f":"PQA$1963","v":0},{"$f":"PQB$1963","v":0},{"$f":"PQC$1963","v":0},{"$f":"PQD$1963","v":0},{"$f":"PQE$1963","v":0},{"$f":"PQF$1963","v":0},{"$f":"PQG$1963","v":0},{"$f":"PQH$1963","v":0},{"$f":"PQI$1963","v":0},{"$f":"PQJ$1963","v":0},{"$f":"PQK$1963","v":0},{"$f":"PQL$1963","v":0},{"$f":"PQM$1963","v":0},{"$f":"PQN$1963","v":0},{"$f":"PQO$1963","v":0},{"$f":"PQP$1963","v":0},{"$f":"PQQ$1963","v":0},{"$f":"PQR$1963","v":0},{"$f":"PQS$1963","v":0},{"$f":"PQT$1963","v":0},{"$f":"PQU$1963","v":0},{"$f":"PQV$1963","v":0},{"$f":"PQW$1963","v":0},{"$f":"PQX$1963","v":0},{"$f":"PQY$1963","v":0},{"$f":"PQZ$1963","v":0},{"$f":"PRA$1963","v":0},{"$f":"PRB$1963","v":0},{"$f":"PRC$1963","v":0},{"$f":"PRD$1963","v":0},{"$f":"PRE$1963","v":0},{"$f":"PRF$1963","v":0},{"$f":"PRG$1963","v":0},{"$f":"PRH$1963","v":0},{"$f":"PRI$1963","v":0},{"$f":"PRJ$1963","v":0},{"$f":"PRK$1963","v":0},{"$f":"PRL$1963","v":0},{"$f":"PRM$1963","v":0},{"$f":"PRN$1963","v":0},{"$f":"PRO$1963","v":0},{"$f":"PRP$1963","v":0},{"$f":"PRQ$1963","v":0},{"$f":"PRR$1963","v":0},{"$f":"PRS$1963","v":0},{"$f":"PRT$1963","v":0},{"$f":"PRU$1963","v":0},{"$f":"PRV$1963","v":0},{"$f":"PRW$1963","v":0},{"$f":"PRX$1963","v":0},{"$f":"PRY$1963","v":0},{"$f":"PRZ$1963","v":0},{"$f":"PSA$1963","v":0},{"$f":"PSB$1963","v":0},{"$f":"PSC$1963","v":0},{"$f":"PSD$1963","v":0},{"$f":"PSE$1963","v":0},{"$f":"PSF$1963","v":0},{"$f":"PSG$1963","v":0},{"$f":"PSH$1963","v":0},{"$f":"PSI$1963","v":0},{"$f":"PSJ$1963","v":0},{"$f":"PSK$1963","v":0},{"$f":"PSL$1963","v":0},{"$f":"PSM$1963","v":0},{"$f":"PSN$1963","v":0},{"$f":"PSO$1963","v":0},{"$f":"PSP$1963","v":0},{"$f":"PSQ$1963","v":0},{"$f":"PSR$1963","v":0},{"$f":"PSS$1963","v":0},{"$f":"PST$1963","v":0},{"$f":"PSU$1963","v":0},{"$f":"PSV$1963","v":0},{"$f":"PSW$1963","v":0},{"$f":"PSX$1963","v":0},{"$f":"PSY$1963","v":0},{"$f":"PSZ$1963","v":0},{"$f":"PTA$1963","v":0},{"$f":"PTB$1963","v":0},{"$f":"PTC$1963","v":0},{"$f":"PTD$1963","v":0},{"$f":"PTE$1963","v":0},{"$f":"PTF$1963","v":0},{"$f":"PTG$1963","v":0},{"$f":"PTH$1963","v":0},{"$f":"PTI$1963","v":0},{"$f":"PTJ$1963","v":0},{"$f":"PTK$1963","v":0},{"$f":"PTL$1963","v":0},{"$f":"PTM$1963","v":0},{"$f":"PTN$1963","v":0},{"$f":"PTO$1963","v":0},{"$f":"PTP$1963","v":0},{"$f":"PTQ$1963","v":0},{"$f":"PTR$1963","v":0},{"$f":"PTS$1963","v":0},{"$f":"PTT$1963","v":0},{"$f":"PTU$1963","v":0},{"$f":"PTV$1963","v":0},{"$f":"PTW$1963","v":0},{"$f":"PTX$1963","v":0},{"$f":"PTY$1963","v":0},{"$f":"PTZ$1963","v":0},{"$f":"PUA$1963","v":0},{"$f":"PUB$1963","v":0},{"$f":"PUC$1963","v":0},{"$f":"PUD$1963","v":0},{"$f":"PUE$1963","v":0},{"$f":"PUF$1963","v":0},{"$f":"PUG$1963","v":0},{"$f":"PUH$1963","v":0},{"$f":"PUI$1963","v":0},{"$f":"PUJ$1963","v":0},{"$f":"PUK$1963","v":0},{"$f":"PUL$1963","v":0},{"$f":"PUM$1963","v":0},{"$f":"PUN$1963","v":0},{"$f":"PUO$1963","v":0},{"$f":"PUP$1963","v":0},{"$f":"PUQ$1963","v":0},{"$f":"PUR$1963","v":0},{"$f":"PUS$1963","v":0},{"$f":"PUT$1963","v":0},{"$f":"PUU$1963","v":0},{"$f":"PUV$1963","v":0},{"$f":"PUW$1963","v":0},{"$f":"PUX$1963","v":0},{"$f":"PUY$1963","v":0},{"$f":"PUZ$1963","v":0},{"$f":"PVA$1963","v":0},{"$f":"PVB$1963","v":0},{"$f":"PVC$1963","v":0},{"$f":"PVD$1963","v":0},{"$f":"PVE$1963","v":0},{"$f":"PVF$1963","v":0},{"$f":"PVG$1963","v":0},{"$f":"PVH$1963","v":0},{"$f":"PVI$1963","v":0},{"$f":"PVJ$1963","v":0},{"$f":"PVK$1963","v":0},{"$f":"PVL$1963","v":0},{"$f":"PVM$1963","v":0},{"$f":"PVN$1963","v":0},{"$f":"PVO$1963","v":0},{"$f":"PVP$1963","v":0},{"$f":"PVQ$1963","v":0},{"$f":"PVR$1963","v":0},{"$f":"PVS$1963","v":0},{"$f":"PVT$1963","v":0},{"$f":"PVU$1963","v":0},{"$f":"PVV$1963","v":0},{"$f":"PVW$1963","v":0},{"$f":"PVX$1963","v":0},{"$f":"PVY$1963","v":0},{"$f":"PVZ$1963","v":0},{"$f":"PWA$1963","v":0},{"$f":"PWB$1963","v":0},{"$f":"PWC$1963","v":0},{"$f":"PWD$1963","v":0},{"$f":"PWE$1963","v":0},{"$f":"PWF$1963","v":0},{"$f":"PWG$1963","v":0},{"$f":"PWH$1963","v":0},{"$f":"PWI$1963","v":0},{"$f":"PWJ$1963","v":0},{"$f":"PWK$1963","v":0},{"$f":"PWL$1963","v":0},{"$f":"PWM$1963","v":0},{"$f":"PWN$1963","v":0},{"$f":"PWO$1963","v":0},{"$f":"PWP$1963","v":0},{"$f":"PWQ$1963","v":0},{"$f":"PWR$1963","v":0},{"$f":"PWS$1963","v":0},{"$f":"PWT$1963","v":0},{"$f":"PWU$1963","v":0},{"$f":"PWV$1963","v":0},{"$f":"PWW$1963","v":0},{"$f":"PWX$1963","v":0},{"$f":"PWY$1963","v":0},{"$f":"PWZ$1963","v":0},{"$f":"PXA$1963","v":0},{"$f":"PXB$1963","v":0},{"$f":"PXC$1963","v":0},{"$f":"PXD$1963","v":0},{"$f":"PXE$1963","v":0},{"$f":"PXF$1963","v":0},{"$f":"PXG$1963","v":0},{"$f":"PXH$1963","v":0},{"$f":"PXI$1963","v":0},{"$f":"PXJ$1963","v":0},{"$f":"PXK$1963","v":0},{"$f":"PXL$1963","v":0},{"$f":"PXM$1963","v":0},{"$f":"PXN$1963","v":0},{"$f":"PXO$1963","v":0},{"$f":"PXP$1963","v":0},{"$f":"PXQ$1963","v":0},{"$f":"PXR$1963","v":0},{"$f":"PXS$1963","v":0},{"$f":"PXT$1963","v":0},{"$f":"PXU$1963","v":0},{"$f":"PXV$1963","v":0},{"$f":"PXW$1963","v":0},{"$f":"PXX$1963","v":0},{"$f":"PXY$1963","v":0},{"$f":"PXZ$1963","v":0},{"$f":"PYA$1963","v":0},{"$f":"PYB$1963","v":0},{"$f":"PYC$1963","v":0},{"$f":"PYD$1963","v":0},{"$f":"PYE$1963","v":0},{"$f":"PYF$1963","v":0},{"$f":"PYG$1963","v":0},{"$f":"PYH$1963","v":0},{"$f":"PYI$1963","v":0},{"$f":"PYJ$1963","v":0},{"$f":"PYK$1963","v":0},{"$f":"PYL$1963","v":0},{"$f":"PYM$1963","v":0},{"$f":"PYN$1963","v":0},{"$f":"PYO$1963","v":0},{"$f":"PYP$1963","v":0},{"$f":"PYQ$1963","v":0},{"$f":"PYR$1963","v":0},{"$f":"PYS$1963","v":0},{"$f":"PYT$1963","v":0},{"$f":"PYU$1963","v":0},{"$f":"PYV$1963","v":0},{"$f":"PYW$1963","v":0},{"$f":"PYX$1963","v":0},{"$f":"PYY$1963","v":0},{"$f":"PYZ$1963","v":0},{"$f":"PZA$1963","v":0},{"$f":"PZB$1963","v":0},{"$f":"PZC$1963","v":0},{"$f":"PZD$1963","v":0},{"$f":"PZE$1963","v":0},{"$f":"PZF$1963","v":0},{"$f":"PZG$1963","v":0},{"$f":"PZH$1963","v":0},{"$f":"PZI$1963","v":0},{"$f":"PZJ$1963","v":0},{"$f":"PZK$1963","v":0},{"$f":"PZL$1963","v":0},{"$f":"PZM$1963","v":0},{"$f":"PZN$1963","v":0},{"$f":"PZO$1963","v":0},{"$f":"PZP$1963","v":0},{"$f":"PZQ$1963","v":0},{"$f":"PZR$1963","v":0},{"$f":"PZS$1963","v":0},{"$f":"PZT$1963","v":0},{"$f":"PZU$1963","v":0},{"$f":"PZV$1963","v":0},{"$f":"PZW$1963","v":0},{"$f":"PZX$1963","v":0},{"$f":"PZY$1963","v":0},{"$f":"PZZ$1963","v":0},{"$f":"QAA$1963","v":0},{"$f":"QAB$1963","v":0},{"$f":"QAC$1963","v":0},{"$f":"QAD$1963","v":0},{"$f":"QAE$1963","v":0},{"$f":"QAF$1963","v":0},{"$f":"QAG$1963","v":0},{"$f":"QAH$1963","v":0},{"$f":"QAI$1963","v":0},{"$f":"QAJ$1963","v":0},{"$f":"QAK$1963","v":0},{"$f":"QAL$1963","v":0},{"$f":"QAM$1963","v":0},{"$f":"QAN$1963","v":0},{"$f":"QAO$1963","v":0},{"$f":"QAP$1963","v":0},{"$f":"QAQ$1963","v":0},{"$f":"QAR$1963","v":0},{"$f":"QAS$1963","v":0},{"$f":"QAT$1963","v":0},{"$f":"QAU$1963","v":0},{"$f":"QAV$1963","v":0},{"$f":"QAW$1963","v":0},{"$f":"QAX$1963","v":0},{"$f":"QAY$1963","v":0},{"$f":"QAZ$1963","v":0},{"$f":"QBA$1963","v":0},{"$f":"QBB$1963","v":0},{"$f":"QBC$1963","v":0},{"$f":"QBD$1963","v":0},{"$f":"QBE$1963","v":0},{"$f":"QBF$1963","v":0},{"$f":"QBG$1963","v":0},{"$f":"QBH$1963","v":0},{"$f":"QBI$1963","v":0},{"$f":"QBJ$1963","v":0},{"$f":"QBK$1963","v":0},{"$f":"QBL$1963","v":0},{"$f":"QBM$1963","v":0},{"$f":"QBN$1963","v":0},{"$f":"QBO$1963","v":0},{"$f":"QBP$1963","v":0},{"$f":"QBQ$1963","v":0},{"$f":"QBR$1963","v":0},{"$f":"QBS$1963","v":0},{"$f":"QBT$1963","v":0},{"$f":"QBU$1963","v":0},{"$f":"QBV$1963","v":0},{"$f":"QBW$1963","v":0},{"$f":"QBX$1963","v":0},{"$f":"QBY$1963","v":0},{"$f":"QBZ$1963","v":0},{"$f":"QCA$1963","v":0},{"$f":"QCB$1963","v":0},{"$f":"QCC$1963","v":0},{"$f":"QCD$1963","v":0},{"$f":"QCE$1963","v":0},{"$f":"QCF$1963","v":0},{"$f":"QCG$1963","v":0},{"$f":"QCH$1963","v":0},{"$f":"QCI$1963","v":0},{"$f":"QCJ$1963","v":0},{"$f":"QCK$1963","v":0},{"$f":"QCL$1963","v":0},{"$f":"QCM$1963","v":0},{"$f":"QCN$1963","v":0},{"$f":"QCO$1963","v":0},{"$f":"QCP$1963","v":0},{"$f":"QCQ$1963","v":0},{"$f":"QCR$1963","v":0},{"$f":"QCS$1963","v":0},{"$f":"QCT$1963","v":0},{"$f":"QCU$1963","v":0},{"$f":"QCV$1963","v":0},{"$f":"QCW$1963","v":0},{"$f":"QCX$1963","v":0},{"$f":"QCY$1963","v":0},{"$f":"QCZ$1963","v":0},{"$f":"QDA$1963","v":0},{"$f":"QDB$1963","v":0},{"$f":"QDC$1963","v":0},{"$f":"QDD$1963","v":0},{"$f":"QDE$1963","v":0},{"$f":"QDF$1963","v":0},{"$f":"QDG$1963","v":0},{"$f":"QDH$1963","v":0},{"$f":"QDI$1963","v":0},{"$f":"QDJ$1963","v":0},{"$f":"QDK$1963","v":0},{"$f":"QDL$1963","v":0},{"$f":"QDM$1963","v":0},{"$f":"QDN$1963","v":0},{"$f":"QDO$1963","v":0},{"$f":"QDP$1963","v":0},{"$f":"QDQ$1963","v":0},{"$f":"QDR$1963","v":0},{"$f":"QDS$1963","v":0},{"$f":"QDT$1963","v":0},{"$f":"QDU$1963","v":0},{"$f":"QDV$1963","v":0},{"$f":"QDW$1963","v":0},{"$f":"QDX$1963","v":0},{"$f":"QDY$1963","v":0},{"$f":"QDZ$1963","v":0},{"$f":"QEA$1963","v":0},{"$f":"QEB$1963","v":0},{"$f":"QEC$1963","v":0},{"$f":"QED$1963","v":0},{"$f":"QEE$1963","v":0},{"$f":"QEF$1963","v":0},{"$f":"QEG$1963","v":0},{"$f":"QEH$1963","v":0},{"$f":"QEI$1963","v":0},{"$f":"QEJ$1963","v":0},{"$f":"QEK$1963","v":0},{"$f":"QEL$1963","v":0},{"$f":"QEM$1963","v":0},{"$f":"QEN$1963","v":0},{"$f":"QEO$1963","v":0},{"$f":"QEP$1963","v":0},{"$f":"QEQ$1963","v":0},{"$f":"QER$1963","v":0},{"$f":"QES$1963","v":0},{"$f":"QET$1963","v":0},{"$f":"QEU$1963","v":0},{"$f":"QEV$1963","v":0},{"$f":"QEW$1963","v":0},{"$f":"QEX$1963","v":0},{"$f":"QEY$1963","v":0},{"$f":"QEZ$1963","v":0},{"$f":"QFA$1963","v":0},{"$f":"QFB$1963","v":0},{"$f":"QFC$1963","v":0},{"$f":"QFD$1963","v":0},{"$f":"QFE$1963","v":0},{"$f":"QFF$1963","v":0},{"$f":"QFG$1963","v":0},{"$f":"QFH$1963","v":0},{"$f":"QFI$1963","v":0},{"$f":"QFJ$1963","v":0},{"$f":"QFK$1963","v":0},{"$f":"QFL$1963","v":0},{"$f":"QFM$1963","v":0},{"$f":"QFN$1963","v":0},{"$f":"QFO$1963","v":0},{"$f":"QFP$1963","v":0},{"$f":"QFQ$1963","v":0},{"$f":"QFR$1963","v":0},{"$f":"QFS$1963","v":0},{"$f":"QFT$1963","v":0},{"$f":"QFU$1963","v":0},{"$f":"QFV$1963","v":0},{"$f":"QFW$1963","v":0},{"$f":"QFX$1963","v":0},{"$f":"QFY$1963","v":0},{"$f":"QFZ$1963","v":0},{"$f":"QGA$1963","v":0},{"$f":"QGB$1963","v":0},{"$f":"QGC$1963","v":0},{"$f":"QGD$1963","v":0},{"$f":"QGE$1963","v":0},{"$f":"QGF$1963","v":0},{"$f":"QGG$1963","v":0},{"$f":"QGH$1963","v":0},{"$f":"QGI$1963","v":0},{"$f":"QGJ$1963","v":0},{"$f":"QGK$1963","v":0},{"$f":"QGL$1963","v":0},{"$f":"QGM$1963","v":0},{"$f":"QGN$1963","v":0},{"$f":"QGO$1963","v":0},{"$f":"QGP$1963","v":0},{"$f":"QGQ$1963","v":0},{"$f":"QGR$1963","v":0},{"$f":"QGS$1963","v":0},{"$f":"QGT$1963","v":0},{"$f":"QGU$1963","v":0},{"$f":"QGV$1963","v":0},{"$f":"QGW$1963","v":0},{"$f":"QGX$1963","v":0},{"$f":"QGY$1963","v":0},{"$f":"QGZ$1963","v":0},{"$f":"QHA$1963","v":0},{"$f":"QHB$1963","v":0},{"$f":"QHC$1963","v":0},{"$f":"QHD$1963","v":0},{"$f":"QHE$1963","v":0},{"$f":"QHF$1963","v":0},{"$f":"QHG$1963","v":0},{"$f":"QHH$1963","v":0},{"$f":"QHI$1963","v":0},{"$f":"QHJ$1963","v":0},{"$f":"QHK$1963","v":0},{"$f":"QHL$1963","v":0},{"$f":"QHM$1963","v":0},{"$f":"QHN$1963","v":0},{"$f":"QHO$1963","v":0},{"$f":"QHP$1963","v":0},{"$f":"QHQ$1963","v":0},{"$f":"QHR$1963","v":0},{"$f":"QHS$1963","v":0},{"$f":"QHT$1963","v":0},{"$f":"QHU$1963","v":0},{"$f":"QHV$1963","v":0},{"$f":"QHW$1963","v":0},{"$f":"QHX$1963","v":0},{"$f":"QHY$1963","v":0},{"$f":"QHZ$1963","v":0},{"$f":"QIA$1963","v":0},{"$f":"QIB$1963","v":0},{"$f":"QIC$1963","v":0},{"$f":"QID$1963","v":0},{"$f":"QIE$1963","v":0},{"$f":"QIF$1963","v":0},{"$f":"QIG$1963","v":0},{"$f":"QIH$1963","v":0},{"$f":"QII$1963","v":0},{"$f":"QIJ$1963","v":0},{"$f":"QIK$1963","v":0},{"$f":"QIL$1963","v":0},{"$f":"QIM$1963","v":0},{"$f":"QIN$1963","v":0},{"$f":"QIO$1963","v":0},{"$f":"QIP$1963","v":0},{"$f":"QIQ$1963","v":0},{"$f":"QIR$1963","v":0},{"$f":"QIS$1963","v":0},{"$f":"QIT$1963","v":0},{"$f":"QIU$1963","v":0},{"$f":"QIV$1963","v":0},{"$f":"QIW$1963","v":0},{"$f":"QIX$1963","v":0},{"$f":"QIY$1963","v":0},{"$f":"QIZ$1963","v":0},{"$f":"QJA$1963","v":0},{"$f":"QJB$1963","v":0},{"$f":"QJC$1963","v":0},{"$f":"QJD$1963","v":0},{"$f":"QJE$1963","v":0},{"$f":"QJF$1963","v":0},{"$f":"QJG$1963","v":0},{"$f":"QJH$1963","v":0},{"$f":"QJI$1963","v":0},{"$f":"QJJ$1963","v":0},{"$f":"QJK$1963","v":0},{"$f":"QJL$1963","v":0},{"$f":"QJM$1963","v":0},{"$f":"QJN$1963","v":0},{"$f":"QJO$1963","v":0},{"$f":"QJP$1963","v":0},{"$f":"QJQ$1963","v":0},{"$f":"QJR$1963","v":0},{"$f":"QJS$1963","v":0},{"$f":"QJT$1963","v":0},{"$f":"QJU$1963","v":0},{"$f":"QJV$1963","v":0},{"$f":"QJW$1963","v":0},{"$f":"QJX$1963","v":0},{"$f":"QJY$1963","v":0},{"$f":"QJZ$1963","v":0},{"$f":"QKA$1963","v":0},{"$f":"QKB$1963","v":0},{"$f":"QKC$1963","v":0},{"$f":"QKD$1963","v":0},{"$f":"QKE$1963","v":0},{"$f":"QKF$1963","v":0},{"$f":"QKG$1963","v":0},{"$f":"QKH$1963","v":0},{"$f":"QKI$1963","v":0},{"$f":"QKJ$1963","v":0},{"$f":"QKK$1963","v":0},{"$f":"QKL$1963","v":0},{"$f":"QKM$1963","v":0},{"$f":"QKN$1963","v":0},{"$f":"QKO$1963","v":0},{"$f":"QKP$1963","v":0},{"$f":"QKQ$1963","v":0},{"$f":"QKR$1963","v":0},{"$f":"QKS$1963","v":0},{"$f":"QKT$1963","v":0},{"$f":"QKU$1963","v":0},{"$f":"QKV$1963","v":0},{"$f":"QKW$1963","v":0},{"$f":"QKX$1963","v":0},{"$f":"QKY$1963","v":0},{"$f":"QKZ$1963","v":0},{"$f":"QLA$1963","v":0},{"$f":"QLB$1963","v":0},{"$f":"QLC$1963","v":0},{"$f":"QLD$1963","v":0},{"$f":"QLE$1963","v":0},{"$f":"QLF$1963","v":0},{"$f":"QLG$1963","v":0},{"$f":"QLH$1963","v":0},{"$f":"QLI$1963","v":0},{"$f":"QLJ$1963","v":0},{"$f":"QLK$1963","v":0},{"$f":"QLL$1963","v":0},{"$f":"QLM$1963","v":0},{"$f":"QLN$1963","v":0},{"$f":"QLO$1963","v":0},{"$f":"QLP$1963","v":0},{"$f":"QLQ$1963","v":0},{"$f":"QLR$1963","v":0},{"$f":"QLS$1963","v":0},{"$f":"QLT$1963","v":0},{"$f":"QLU$1963","v":0},{"$f":"QLV$1963","v":0},{"$f":"QLW$1963","v":0},{"$f":"QLX$1963","v":0},{"$f":"QLY$1963","v":0},{"$f":"QLZ$1963","v":0},{"$f":"QMA$1963","v":0},{"$f":"QMB$1963","v":0},{"$f":"QMC$1963","v":0},{"$f":"QMD$1963","v":0},{"$f":"QME$1963","v":0},{"$f":"QMF$1963","v":0},{"$f":"QMG$1963","v":0},{"$f":"QMH$1963","v":0},{"$f":"QMI$1963","v":0},{"$f":"QMJ$1963","v":0},{"$f":"QMK$1963","v":0},{"$f":"QML$1963","v":0},{"$f":"QMM$1963","v":0},{"$f":"QMN$1963","v":0},{"$f":"QMO$1963","v":0},{"$f":"QMP$1963","v":0},{"$f":"QMQ$1963","v":0},{"$f":"QMR$1963","v":0},{"$f":"QMS$1963","v":0},{"$f":"QMT$1963","v":0},{"$f":"QMU$1963","v":0},{"$f":"QMV$1963","v":0},{"$f":"QMW$1963","v":0},{"$f":"QMX$1963","v":0},{"$f":"QMY$1963","v":0},{"$f":"QMZ$1963","v":0},{"$f":"QNA$1963","v":0},{"$f":"QNB$1963","v":0},{"$f":"QNC$1963","v":0},{"$f":"QND$1963","v":0},{"$f":"QNE$1963","v":0},{"$f":"QNF$1963","v":0},{"$f":"QNG$1963","v":0},{"$f":"QNH$1963","v":0},{"$f":"QNI$1963","v":0},{"$f":"QNJ$1963","v":0},{"$f":"QNK$1963","v":0},{"$f":"QNL$1963","v":0},{"$f":"QNM$1963","v":0},{"$f":"QNN$1963","v":0},{"$f":"QNO$1963","v":0},{"$f":"QNP$1963","v":0},{"$f":"QNQ$1963","v":0},{"$f":"QNR$1963","v":0},{"$f":"QNS$1963","v":0},{"$f":"QNT$1963","v":0},{"$f":"QNU$1963","v":0},{"$f":"QNV$1963","v":0},{"$f":"QNW$1963","v":0},{"$f":"QNX$1963","v":0},{"$f":"QNY$1963","v":0},{"$f":"QNZ$1963","v":0},{"$f":"QOA$1963","v":0},{"$f":"QOB$1963","v":0},{"$f":"QOC$1963","v":0},{"$f":"QOD$1963","v":0},{"$f":"QOE$1963","v":0},{"$f":"QOF$1963","v":0},{"$f":"QOG$1963","v":0},{"$f":"QOH$1963","v":0},{"$f":"QOI$1963","v":0},{"$f":"QOJ$1963","v":0},{"$f":"QOK$1963","v":0},{"$f":"QOL$1963","v":0},{"$f":"QOM$1963","v":0},{"$f":"QON$1963","v":0},{"$f":"QOO$1963","v":0},{"$f":"QOP$1963","v":0},{"$f":"QOQ$1963","v":0},{"$f":"QOR$1963","v":0},{"$f":"QOS$1963","v":0},{"$f":"QOT$1963","v":0},{"$f":"QOU$1963","v":0},{"$f":"QOV$1963","v":0},{"$f":"QOW$1963","v":0},{"$f":"QOX$1963","v":0},{"$f":"QOY$1963","v":0},{"$f":"QOZ$1963","v":0},{"$f":"QPA$1963","v":0},{"$f":"QPB$1963","v":0},{"$f":"QPC$1963","v":0},{"$f":"QPD$1963","v":0},{"$f":"QPE$1963","v":0},{"$f":"QPF$1963","v":0},{"$f":"QPG$1963","v":0},{"$f":"QPH$1963","v":0},{"$f":"QPI$1963","v":0},{"$f":"QPJ$1963","v":0},{"$f":"QPK$1963","v":0},{"$f":"QPL$1963","v":0},{"$f":"QPM$1963","v":0},{"$f":"QPN$1963","v":0},{"$f":"QPO$1963","v":0},{"$f":"QPP$1963","v":0},{"$f":"QPQ$1963","v":0},{"$f":"QPR$1963","v":0},{"$f":"QPS$1963","v":0},{"$f":"QPT$1963","v":0},{"$f":"QPU$1963","v":0},{"$f":"QPV$1963","v":0},{"$f":"QPW$1963","v":0},{"$f":"QPX$1963","v":0},{"$f":"QPY$1963","v":0},{"$f":"QPZ$1963","v":0},{"$f":"QQA$1963","v":0},{"$f":"QQB$1963","v":0},{"$f":"QQC$1963","v":0},{"$f":"QQD$1963","v":0},{"$f":"QQE$1963","v":0},{"$f":"QQF$1963","v":0},{"$f":"QQG$1963","v":0},{"$f":"QQH$1963","v":0},{"$f":"QQI$1963","v":0},{"$f":"QQJ$1963","v":0},{"$f":"QQK$1963","v":0},{"$f":"QQL$1963","v":0},{"$f":"QQM$1963","v":0},{"$f":"QQN$1963","v":0},{"$f":"QQO$1963","v":0},{"$f":"QQP$1963","v":0},{"$f":"QQQ$1963","v":0},{"$f":"QQR$1963","v":0},{"$f":"QQS$1963","v":0},{"$f":"QQT$1963","v":0},{"$f":"QQU$1963","v":0},{"$f":"QQV$1963","v":0},{"$f":"QQW$1963","v":0},{"$f":"QQX$1963","v":0},{"$f":"QQY$1963","v":0},{"$f":"QQZ$1963","v":0},{"$f":"QRA$1963","v":0},{"$f":"QRB$1963","v":0},{"$f":"QRC$1963","v":0},{"$f":"QRD$1963","v":0},{"$f":"QRE$1963","v":0},{"$f":"QRF$1963","v":0},{"$f":"QRG$1963","v":0},{"$f":"QRH$1963","v":0},{"$f":"QRI$1963","v":0},{"$f":"QRJ$1963","v":0},{"$f":"QRK$1963","v":0},{"$f":"QRL$1963","v":0},{"$f":"QRM$1963","v":0},{"$f":"QRN$1963","v":0},{"$f":"QRO$1963","v":0},{"$f":"QRP$1963","v":0},{"$f":"QRQ$1963","v":0},{"$f":"QRR$1963","v":0},{"$f":"QRS$1963","v":0},{"$f":"QRT$1963","v":0},{"$f":"QRU$1963","v":0},{"$f":"QRV$1963","v":0},{"$f":"QRW$1963","v":0},{"$f":"QRX$1963","v":0},{"$f":"QRY$1963","v":0},{"$f":"QRZ$1963","v":0},{"$f":"QSA$1963","v":0},{"$f":"QSB$1963","v":0},{"$f":"QSC$1963","v":0},{"$f":"QSD$1963","v":0},{"$f":"QSE$1963","v":0},{"$f":"QSF$1963","v":0},{"$f":"QSG$1963","v":0},{"$f":"QSH$1963","v":0},{"$f":"QSI$1963","v":0},{"$f":"QSJ$1963","v":0},{"$f":"QSK$1963","v":0},{"$f":"QSL$1963","v":0},{"$f":"QSM$1963","v":0},{"$f":"QSN$1963","v":0},{"$f":"QSO$1963","v":0},{"$f":"QSP$1963","v":0},{"$f":"QSQ$1963","v":0},{"$f":"QSR$1963","v":0},{"$f":"QSS$1963","v":0},{"$f":"QST$1963","v":0},{"$f":"QSU$1963","v":0},{"$f":"QSV$1963","v":0},{"$f":"QSW$1963","v":0},{"$f":"QSX$1963","v":0},{"$f":"QSY$1963","v":0},{"$f":"QSZ$1963","v":0},{"$f":"QTA$1963","v":0},{"$f":"QTB$1963","v":0},{"$f":"QTC$1963","v":0},{"$f":"QTD$1963","v":0},{"$f":"QTE$1963","v":0},{"$f":"QTF$1963","v":0},{"$f":"QTG$1963","v":0},{"$f":"QTH$1963","v":0},{"$f":"QTI$1963","v":0},{"$f":"QTJ$1963","v":0},{"$f":"QTK$1963","v":0},{"$f":"QTL$1963","v":0},{"$f":"QTM$1963","v":0},{"$f":"QTN$1963","v":0},{"$f":"QTO$1963","v":0},{"$f":"QTP$1963","v":0},{"$f":"QTQ$1963","v":0},{"$f":"QTR$1963","v":0},{"$f":"QTS$1963","v":0},{"$f":"QTT$1963","v":0},{"$f":"QTU$1963","v":0},{"$f":"QTV$1963","v":0},{"$f":"QTW$1963","v":0},{"$f":"QTX$1963","v":0},{"$f":"QTY$1963","v":0},{"$f":"QTZ$1963","v":0},{"$f":"QUA$1963","v":0},{"$f":"QUB$1963","v":0},{"$f":"QUC$1963","v":0},{"$f":"QUD$1963","v":0},{"$f":"QUE$1963","v":0},{"$f":"QUF$1963","v":0},{"$f":"QUG$1963","v":0},{"$f":"QUH$1963","v":0},{"$f":"QUI$1963","v":0},{"$f":"QUJ$1963","v":0},{"$f":"QUK$1963","v":0},{"$f":"QUL$1963","v":0},{"$f":"QUM$1963","v":0},{"$f":"QUN$1963","v":0},{"$f":"QUO$1963","v":0},{"$f":"QUP$1963","v":0},{"$f":"QUQ$1963","v":0},{"$f":"QUR$1963","v":0},{"$f":"QUS$1963","v":0},{"$f":"QUT$1963","v":0},{"$f":"QUU$1963","v":0},{"$f":"QUV$1963","v":0},{"$f":"QUW$1963","v":0},{"$f":"QUX$1963","v":0},{"$f":"QUY$1963","v":0},{"$f":"QUZ$1963","v":0},{"$f":"QVA$1963","v":0},{"$f":"QVB$1963","v":0},{"$f":"QVC$1963","v":0},{"$f":"QVD$1963","v":0},{"$f":"QVE$1963","v":0},{"$f":"QVF$1963","v":0},{"$f":"QVG$1963","v":0},{"$f":"QVH$1963","v":0},{"$f":"QVI$1963","v":0},{"$f":"QVJ$1963","v":0},{"$f":"QVK$1963","v":0},{"$f":"QVL$1963","v":0},{"$f":"QVM$1963","v":0},{"$f":"QVN$1963","v":0},{"$f":"QVO$1963","v":0},{"$f":"QVP$1963","v":0},{"$f":"QVQ$1963","v":0},{"$f":"QVR$1963","v":0},{"$f":"QVS$1963","v":0},{"$f":"QVT$1963","v":0},{"$f":"QVU$1963","v":0},{"$f":"QVV$1963","v":0},{"$f":"QVW$1963","v":0},{"$f":"QVX$1963","v":0},{"$f":"QVY$1963","v":0},{"$f":"QVZ$1963","v":0},{"$f":"QWA$1963","v":0},{"$f":"QWB$1963","v":0},{"$f":"QWC$1963","v":0},{"$f":"QWD$1963","v":0},{"$f":"QWE$1963","v":0},{"$f":"QWF$1963","v":0},{"$f":"QWG$1963","v":0},{"$f":"QWH$1963","v":0},{"$f":"QWI$1963","v":0},{"$f":"QWJ$1963","v":0},{"$f":"QWK$1963","v":0},{"$f":"QWL$1963","v":0},{"$f":"QWM$1963","v":0},{"$f":"QWN$1963","v":0},{"$f":"QWO$1963","v":0},{"$f":"QWP$1963","v":0},{"$f":"QWQ$1963","v":0},{"$f":"QWR$1963","v":0},{"$f":"QWS$1963","v":0},{"$f":"QWT$1963","v":0},{"$f":"QWU$1963","v":0},{"$f":"QWV$1963","v":0},{"$f":"QWW$1963","v":0},{"$f":"QWX$1963","v":0},{"$f":"QWY$1963","v":0},{"$f":"QWZ$1963","v":0},{"$f":"QXA$1963","v":0},{"$f":"QXB$1963","v":0},{"$f":"QXC$1963","v":0},{"$f":"QXD$1963","v":0},{"$f":"QXE$1963","v":0},{"$f":"QXF$1963","v":0},{"$f":"QXG$1963","v":0},{"$f":"QXH$1963","v":0},{"$f":"QXI$1963","v":0},{"$f":"QXJ$1963","v":0},{"$f":"QXK$1963","v":0},{"$f":"QXL$1963","v":0},{"$f":"QXM$1963","v":0},{"$f":"QXN$1963","v":0},{"$f":"QXO$1963","v":0},{"$f":"QXP$1963","v":0},{"$f":"QXQ$1963","v":0},{"$f":"QXR$1963","v":0},{"$f":"QXS$1963","v":0},{"$f":"QXT$1963","v":0},{"$f":"QXU$1963","v":0},{"$f":"QXV$1963","v":0},{"$f":"QXW$1963","v":0},{"$f":"QXX$1963","v":0},{"$f":"QXY$1963","v":0},{"$f":"QXZ$1963","v":0},{"$f":"QYA$1963","v":0},{"$f":"QYB$1963","v":0},{"$f":"QYC$1963","v":0},{"$f":"QYD$1963","v":0},{"$f":"QYE$1963","v":0},{"$f":"QYF$1963","v":0},{"$f":"QYG$1963","v":0},{"$f":"QYH$1963","v":0},{"$f":"QYI$1963","v":0},{"$f":"QYJ$1963","v":0},{"$f":"QYK$1963","v":0},{"$f":"QYL$1963","v":0},{"$f":"QYM$1963","v":0},{"$f":"QYN$1963","v":0},{"$f":"QYO$1963","v":0},{"$f":"QYP$1963","v":0},{"$f":"QYQ$1963","v":0},{"$f":"QYR$1963","v":0},{"$f":"QYS$1963","v":0},{"$f":"QYT$1963","v":0},{"$f":"QYU$1963","v":0},{"$f":"QYV$1963","v":0},{"$f":"QYW$1963","v":0},{"$f":"QYX$1963","v":0},{"$f":"QYY$1963","v":0},{"$f":"QYZ$1963","v":0},{"$f":"QZA$1963","v":0},{"$f":"QZB$1963","v":0},{"$f":"QZC$1963","v":0},{"$f":"QZD$1963","v":0},{"$f":"QZE$1963","v":0},{"$f":"QZF$1963","v":0},{"$f":"QZG$1963","v":0},{"$f":"QZH$1963","v":0},{"$f":"QZI$1963","v":0},{"$f":"QZJ$1963","v":0},{"$f":"QZK$1963","v":0},{"$f":"QZL$1963","v":0},{"$f":"QZM$1963","v":0},{"$f":"QZN$1963","v":0},{"$f":"QZO$1963","v":0},{"$f":"QZP$1963","v":0},{"$f":"QZQ$1963","v":0},{"$f":"QZR$1963","v":0},{"$f":"QZS$1963","v":0},{"$f":"QZT$1963","v":0},{"$f":"QZU$1963","v":0},{"$f":"QZV$1963","v":0},{"$f":"QZW$1963","v":0},{"$f":"QZX$1963","v":0},{"$f":"QZY$1963","v":0},{"$f":"QZZ$1963","v":0},{"$f":"RAA$1963","v":0},{"$f":"RAB$1963","v":0},{"$f":"RAC$1963","v":0},{"$f":"RAD$1963","v":0},{"$f":"RAE$1963","v":0},{"$f":"RAF$1963","v":0},{"$f":"RAG$1963","v":0},{"$f":"RAH$1963","v":0},{"$f":"RAI$1963","v":0},{"$f":"RAJ$1963","v":0},{"$f":"RAK$1963","v":0},{"$f":"RAL$1963","v":0},{"$f":"RAM$1963","v":0},{"$f":"RAN$1963","v":0},{"$f":"RAO$1963","v":0},{"$f":"RAP$1963","v":0},{"$f":"RAQ$1963","v":0},{"$f":"RAR$1963","v":0},{"$f":"RAS$1963","v":0},{"$f":"RAT$1963","v":0},{"$f":"RAU$1963","v":0},{"$f":"RAV$1963","v":0},{"$f":"RAW$1963","v":0},{"$f":"RAX$1963","v":0},{"$f":"RAY$1963","v":0},{"$f":"RAZ$1963","v":0},{"$f":"RBA$1963","v":0},{"$f":"RBB$1963","v":0},{"$f":"RBC$1963","v":0},{"$f":"RBD$1963","v":0},{"$f":"RBE$1963","v":0},{"$f":"RBF$1963","v":0},{"$f":"RBG$1963","v":0},{"$f":"RBH$1963","v":0},{"$f":"RBI$1963","v":0},{"$f":"RBJ$1963","v":0},{"$f":"RBK$1963","v":0},{"$f":"RBL$1963","v":0},{"$f":"RBM$1963","v":0},{"$f":"RBN$1963","v":0},{"$f":"RBO$1963","v":0},{"$f":"RBP$1963","v":0},{"$f":"RBQ$1963","v":0},{"$f":"RBR$1963","v":0},{"$f":"RBS$1963","v":0},{"$f":"RBT$1963","v":0},{"$f":"RBU$1963","v":0},{"$f":"RBV$1963","v":0},{"$f":"RBW$1963","v":0},{"$f":"RBX$1963","v":0},{"$f":"RBY$1963","v":0},{"$f":"RBZ$1963","v":0},{"$f":"RCA$1963","v":0},{"$f":"RCB$1963","v":0},{"$f":"RCC$1963","v":0},{"$f":"RCD$1963","v":0},{"$f":"RCE$1963","v":0},{"$f":"RCF$1963","v":0},{"$f":"RCG$1963","v":0},{"$f":"RCH$1963","v":0},{"$f":"RCI$1963","v":0},{"$f":"RCJ$1963","v":0},{"$f":"RCK$1963","v":0},{"$f":"RCL$1963","v":0},{"$f":"RCM$1963","v":0},{"$f":"RCN$1963","v":0},{"$f":"RCO$1963","v":0},{"$f":"RCP$1963","v":0},{"$f":"RCQ$1963","v":0},{"$f":"RCR$1963","v":0},{"$f":"RCS$1963","v":0},{"$f":"RCT$1963","v":0},{"$f":"RCU$1963","v":0},{"$f":"RCV$1963","v":0},{"$f":"RCW$1963","v":0},{"$f":"RCX$1963","v":0},{"$f":"RCY$1963","v":0},{"$f":"RCZ$1963","v":0},{"$f":"RDA$1963","v":0},{"$f":"RDB$1963","v":0},{"$f":"RDC$1963","v":0},{"$f":"RDD$1963","v":0},{"$f":"RDE$1963","v":0},{"$f":"RDF$1963","v":0},{"$f":"RDG$1963","v":0},{"$f":"RDH$1963","v":0},{"$f":"RDI$1963","v":0},{"$f":"RDJ$1963","v":0},{"$f":"RDK$1963","v":0},{"$f":"RDL$1963","v":0},{"$f":"RDM$1963","v":0},{"$f":"RDN$1963","v":0},{"$f":"RDO$1963","v":0},{"$f":"RDP$1963","v":0},{"$f":"RDQ$1963","v":0},{"$f":"RDR$1963","v":0},{"$f":"RDS$1963","v":0},{"$f":"RDT$1963","v":0},{"$f":"RDU$1963","v":0},{"$f":"RDV$1963","v":0},{"$f":"RDW$1963","v":0},{"$f":"RDX$1963","v":0},{"$f":"RDY$1963","v":0},{"$f":"RDZ$1963","v":0},{"$f":"REA$1963","v":0},{"$f":"REB$1963","v":0},{"$f":"REC$1963","v":0},{"$f":"RED$1963","v":0},{"$f":"REE$1963","v":0},{"$f":"REF$1963","v":0},{"$f":"REG$1963","v":0},{"$f":"REH$1963","v":0},{"$f":"REI$1963","v":0},{"$f":"REJ$1963","v":0},{"$f":"REK$1963","v":0},{"$f":"REL$1963","v":0},{"$f":"REM$1963","v":0},{"$f":"REN$1963","v":0},{"$f":"REO$1963","v":0},{"$f":"REP$1963","v":0},{"$f":"REQ$1963","v":0},{"$f":"RER$1963","v":0},{"$f":"RES$1963","v":0},{"$f":"RET$1963","v":0},{"$f":"REU$1963","v":0},{"$f":"REV$1963","v":0},{"$f":"REW$1963","v":0},{"$f":"REX$1963","v":0},{"$f":"REY$1963","v":0},{"$f":"REZ$1963","v":0},{"$f":"RFA$1963","v":0},{"$f":"RFB$1963","v":0},{"$f":"RFC$1963","v":0},{"$f":"RFD$1963","v":0},{"$f":"RFE$1963","v":0},{"$f":"RFF$1963","v":0},{"$f":"RFG$1963","v":0},{"$f":"RFH$1963","v":0},{"$f":"RFI$1963","v":0},{"$f":"RFJ$1963","v":0},{"$f":"RFK$1963","v":0},{"$f":"RFL$1963","v":0},{"$f":"RFM$1963","v":0},{"$f":"RFN$1963","v":0},{"$f":"RFO$1963","v":0},{"$f":"RFP$1963","v":0},{"$f":"RFQ$1963","v":0},{"$f":"RFR$1963","v":0},{"$f":"RFS$1963","v":0},{"$f":"RFT$1963","v":0},{"$f":"RFU$1963","v":0},{"$f":"RFV$1963","v":0},{"$f":"RFW$1963","v":0},{"$f":"RFX$1963","v":0},{"$f":"RFY$1963","v":0},{"$f":"RFZ$1963","v":0},{"$f":"RGA$1963","v":0},{"$f":"RGB$1963","v":0},{"$f":"RGC$1963","v":0},{"$f":"RGD$1963","v":0},{"$f":"RGE$1963","v":0},{"$f":"RGF$1963","v":0},{"$f":"RGG$1963","v":0},{"$f":"RGH$1963","v":0},{"$f":"RGI$1963","v":0},{"$f":"RGJ$1963","v":0},{"$f":"RGK$1963","v":0},{"$f":"RGL$1963","v":0},{"$f":"RGM$1963","v":0},{"$f":"RGN$1963","v":0},{"$f":"RGO$1963","v":0},{"$f":"RGP$1963","v":0},{"$f":"RGQ$1963","v":0},{"$f":"RGR$1963","v":0},{"$f":"RGS$1963","v":0},{"$f":"RGT$1963","v":0},{"$f":"RGU$1963","v":0},{"$f":"RGV$1963","v":0},{"$f":"RGW$1963","v":0},{"$f":"RGX$1963","v":0},{"$f":"RGY$1963","v":0},{"$f":"RGZ$1963","v":0},{"$f":"RHA$1963","v":0},{"$f":"RHB$1963","v":0},{"$f":"RHC$1963","v":0},{"$f":"RHD$1963","v":0},{"$f":"RHE$1963","v":0},{"$f":"RHF$1963","v":0},{"$f":"RHG$1963","v":0},{"$f":"RHH$1963","v":0},{"$f":"RHI$1963","v":0},{"$f":"RHJ$1963","v":0},{"$f":"RHK$1963","v":0},{"$f":"RHL$1963","v":0},{"$f":"RHM$1963","v":0},{"$f":"RHN$1963","v":0},{"$f":"RHO$1963","v":0},{"$f":"RHP$1963","v":0},{"$f":"RHQ$1963","v":0},{"$f":"RHR$1963","v":0},{"$f":"RHS$1963","v":0},{"$f":"RHT$1963","v":0},{"$f":"RHU$1963","v":0},{"$f":"RHV$1963","v":0},{"$f":"RHW$1963","v":0},{"$f":"RHX$1963","v":0},{"$f":"RHY$1963","v":0},{"$f":"RHZ$1963","v":0},{"$f":"RIA$1963","v":0},{"$f":"RIB$1963","v":0},{"$f":"RIC$1963","v":0},{"$f":"RID$1963","v":0},{"$f":"RIE$1963","v":0},{"$f":"RIF$1963","v":0},{"$f":"RIG$1963","v":0},{"$f":"RIH$1963","v":0},{"$f":"RII$1963","v":0},{"$f":"RIJ$1963","v":0},{"$f":"RIK$1963","v":0},{"$f":"RIL$1963","v":0},{"$f":"RIM$1963","v":0},{"$f":"RIN$1963","v":0},{"$f":"RIO$1963","v":0},{"$f":"RIP$1963","v":0},{"$f":"RIQ$1963","v":0},{"$f":"RIR$1963","v":0},{"$f":"RIS$1963","v":0},{"$f":"RIT$1963","v":0},{"$f":"RIU$1963","v":0},{"$f":"RIV$1963","v":0},{"$f":"RIW$1963","v":0},{"$f":"RIX$1963","v":0},{"$f":"RIY$1963","v":0},{"$f":"RIZ$1963","v":0},{"$f":"RJA$1963","v":0},{"$f":"RJB$1963","v":0},{"$f":"RJC$1963","v":0},{"$f":"RJD$1963","v":0},{"$f":"RJE$1963","v":0},{"$f":"RJF$1963","v":0},{"$f":"RJG$1963","v":0},{"$f":"RJH$1963","v":0},{"$f":"RJI$1963","v":0},{"$f":"RJJ$1963","v":0},{"$f":"RJK$1963","v":0},{"$f":"RJL$1963","v":0},{"$f":"RJM$1963","v":0},{"$f":"RJN$1963","v":0},{"$f":"RJO$1963","v":0},{"$f":"RJP$1963","v":0},{"$f":"RJQ$1963","v":0},{"$f":"RJR$1963","v":0},{"$f":"RJS$1963","v":0},{"$f":"RJT$1963","v":0},{"$f":"RJU$1963","v":0},{"$f":"RJV$1963","v":0},{"$f":"RJW$1963","v":0},{"$f":"RJX$1963","v":0},{"$f":"RJY$1963","v":0},{"$f":"RJZ$1963","v":0},{"$f":"RKA$1963","v":0},{"$f":"RKB$1963","v":0},{"$f":"RKC$1963","v":0},{"$f":"RKD$1963","v":0},{"$f":"RKE$1963","v":0},{"$f":"RKF$1963","v":0},{"$f":"RKG$1963","v":0},{"$f":"RKH$1963","v":0},{"$f":"RKI$1963","v":0},{"$f":"RKJ$1963","v":0},{"$f":"RKK$1963","v":0},{"$f":"RKL$1963","v":0},{"$f":"RKM$1963","v":0},{"$f":"RKN$1963","v":0},{"$f":"RKO$1963","v":0},{"$f":"RKP$1963","v":0},{"$f":"RKQ$1963","v":0},{"$f":"RKR$1963","v":0},{"$f":"RKS$1963","v":0},{"$f":"RKT$1963","v":0},{"$f":"RKU$1963","v":0},{"$f":"RKV$1963","v":0},{"$f":"RKW$1963","v":0},{"$f":"RKX$1963","v":0},{"$f":"RKY$1963","v":0},{"$f":"RKZ$1963","v":0},{"$f":"RLA$1963","v":0},{"$f":"RLB$1963","v":0},{"$f":"RLC$1963","v":0},{"$f":"RLD$1963","v":0},{"$f":"RLE$1963","v":0},{"$f":"RLF$1963","v":0},{"$f":"RLG$1963","v":0},{"$f":"RLH$1963","v":0},{"$f":"RLI$1963","v":0},{"$f":"RLJ$1963","v":0},{"$f":"RLK$1963","v":0},{"$f":"RLL$1963","v":0},{"$f":"RLM$1963","v":0},{"$f":"RLN$1963","v":0},{"$f":"RLO$1963","v":0},{"$f":"RLP$1963","v":0},{"$f":"RLQ$1963","v":0},{"$f":"RLR$1963","v":0},{"$f":"RLS$1963","v":0},{"$f":"RLT$1963","v":0},{"$f":"RLU$1963","v":0},{"$f":"RLV$1963","v":0},{"$f":"RLW$1963","v":0},{"$f":"RLX$1963","v":0},{"$f":"RLY$1963","v":0},{"$f":"RLZ$1963","v":0},{"$f":"RMA$1963","v":0},{"$f":"RMB$1963","v":0},{"$f":"RMC$1963","v":0},{"$f":"RMD$1963","v":0},{"$f":"RME$1963","v":0},{"$f":"RMF$1963","v":0},{"$f":"RMG$1963","v":0},{"$f":"RMH$1963","v":0},{"$f":"RMI$1963","v":0},{"$f":"RMJ$1963","v":0},{"$f":"RMK$1963","v":0},{"$f":"RML$1963","v":0},{"$f":"RMM$1963","v":0},{"$f":"RMN$1963","v":0},{"$f":"RMO$1963","v":0},{"$f":"RMP$1963","v":0},{"$f":"RMQ$1963","v":0},{"$f":"RMR$1963","v":0},{"$f":"RMS$1963","v":0},{"$f":"RMT$1963","v":0},{"$f":"RMU$1963","v":0},{"$f":"RMV$1963","v":0},{"$f":"RMW$1963","v":0},{"$f":"RMX$1963","v":0},{"$f":"RMY$1963","v":0},{"$f":"RMZ$1963","v":0},{"$f":"RNA$1963","v":0},{"$f":"RNB$1963","v":0},{"$f":"RNC$1963","v":0},{"$f":"RND$1963","v":0},{"$f":"RNE$1963","v":0},{"$f":"RNF$1963","v":0},{"$f":"RNG$1963","v":0},{"$f":"RNH$1963","v":0},{"$f":"RNI$1963","v":0},{"$f":"RNJ$1963","v":0},{"$f":"RNK$1963","v":0},{"$f":"RNL$1963","v":0},{"$f":"RNM$1963","v":0},{"$f":"RNN$1963","v":0},{"$f":"RNO$1963","v":0},{"$f":"RNP$1963","v":0},{"$f":"RNQ$1963","v":0},{"$f":"RNR$1963","v":0},{"$f":"RNS$1963","v":0},{"$f":"RNT$1963","v":0},{"$f":"RNU$1963","v":0},{"$f":"RNV$1963","v":0},{"$f":"RNW$1963","v":0},{"$f":"RNX$1963","v":0},{"$f":"RNY$1963","v":0},{"$f":"RNZ$1963","v":0},{"$f":"ROA$1963","v":0},{"$f":"ROB$1963","v":0},{"$f":"ROC$1963","v":0},{"$f":"ROD$1963","v":0},{"$f":"ROE$1963","v":0},{"$f":"ROF$1963","v":0},{"$f":"ROG$1963","v":0},{"$f":"ROH$1963","v":0},{"$f":"ROI$1963","v":0},{"$f":"ROJ$1963","v":0},{"$f":"ROK$1963","v":0},{"$f":"ROL$1963","v":0},{"$f":"ROM$1963","v":0},{"$f":"RON$1963","v":0},{"$f":"ROO$1963","v":0},{"$f":"ROP$1963","v":0},{"$f":"ROQ$1963","v":0},{"$f":"ROR$1963","v":0},{"$f":"ROS$1963","v":0},{"$f":"ROT$1963","v":0},{"$f":"ROU$1963","v":0},{"$f":"ROV$1963","v":0},{"$f":"ROW$1963","v":0},{"$f":"ROX$1963","v":0},{"$f":"ROY$1963","v":0},{"$f":"ROZ$1963","v":0},{"$f":"RPA$1963","v":0},{"$f":"RPB$1963","v":0},{"$f":"RPC$1963","v":0},{"$f":"RPD$1963","v":0},{"$f":"RPE$1963","v":0},{"$f":"RPF$1963","v":0},{"$f":"RPG$1963","v":0},{"$f":"RPH$1963","v":0},{"$f":"RPI$1963","v":0},{"$f":"RPJ$1963","v":0},{"$f":"RPK$1963","v":0},{"$f":"RPL$1963","v":0},{"$f":"RPM$1963","v":0},{"$f":"RPN$1963","v":0},{"$f":"RPO$1963","v":0},{"$f":"RPP$1963","v":0},{"$f":"RPQ$1963","v":0},{"$f":"RPR$1963","v":0},{"$f":"RPS$1963","v":0},{"$f":"RPT$1963","v":0},{"$f":"RPU$1963","v":0},{"$f":"RPV$1963","v":0},{"$f":"RPW$1963","v":0},{"$f":"RPX$1963","v":0},{"$f":"RPY$1963","v":0},{"$f":"RPZ$1963","v":0},{"$f":"RQA$1963","v":0},{"$f":"RQB$1963","v":0},{"$f":"RQC$1963","v":0},{"$f":"RQD$1963","v":0},{"$f":"RQE$1963","v":0},{"$f":"RQF$1963","v":0},{"$f":"RQG$1963","v":0},{"$f":"RQH$1963","v":0},{"$f":"RQI$1963","v":0},{"$f":"RQJ$1963","v":0},{"$f":"RQK$1963","v":0},{"$f":"RQL$1963","v":0},{"$f":"RQM$1963","v":0},{"$f":"RQN$1963","v":0},{"$f":"RQO$1963","v":0},{"$f":"RQP$1963","v":0},{"$f":"RQQ$1963","v":0},{"$f":"RQR$1963","v":0},{"$f":"RQS$1963","v":0},{"$f":"RQT$1963","v":0},{"$f":"RQU$1963","v":0},{"$f":"RQV$1963","v":0},{"$f":"RQW$1963","v":0},{"$f":"RQX$1963","v":0},{"$f":"RQY$1963","v":0},{"$f":"RQZ$1963","v":0},{"$f":"RRA$1963","v":0},{"$f":"RRB$1963","v":0},{"$f":"RRC$1963","v":0},{"$f":"RRD$1963","v":0},{"$f":"RRE$1963","v":0},{"$f":"RRF$1963","v":0},{"$f":"RRG$1963","v":0},{"$f":"RRH$1963","v":0},{"$f":"RRI$1963","v":0},{"$f":"RRJ$1963","v":0},{"$f":"RRK$1963","v":0},{"$f":"RRL$1963","v":0},{"$f":"RRM$1963","v":0},{"$f":"RRN$1963","v":0},{"$f":"RRO$1963","v":0},{"$f":"RRP$1963","v":0},{"$f":"RRQ$1963","v":0},{"$f":"RRR$1963","v":0},{"$f":"RRS$1963","v":0},{"$f":"RRT$1963","v":0},{"$f":"RRU$1963","v":0},{"$f":"RRV$1963","v":0},{"$f":"RRW$1963","v":0},{"$f":"RRX$1963","v":0},{"$f":"RRY$1963","v":0},{"$f":"RRZ$1963","v":0},{"$f":"RSA$1963","v":0},{"$f":"RSB$1963","v":0},{"$f":"RSC$1963","v":0},{"$f":"RSD$1963","v":0},{"$f":"RSE$1963","v":0},{"$f":"RSF$1963","v":0},{"$f":"RSG$1963","v":0},{"$f":"RSH$1963","v":0},{"$f":"RSI$1963","v":0},{"$f":"RSJ$1963","v":0},{"$f":"RSK$1963","v":0},{"$f":"RSL$1963","v":0},{"$f":"RSM$1963","v":0},{"$f":"RSN$1963","v":0},{"$f":"RSO$1963","v":0},{"$f":"RSP$1963","v":0},{"$f":"RSQ$1963","v":0},{"$f":"RSR$1963","v":0},{"$f":"RSS$1963","v":0},{"$f":"RST$1963","v":0},{"$f":"RSU$1963","v":0},{"$f":"RSV$1963","v":0},{"$f":"RSW$1963","v":0},{"$f":"RSX$1963","v":0},{"$f":"RSY$1963","v":0},{"$f":"RSZ$1963","v":0},{"$f":"RTA$1963","v":0},{"$f":"RTB$1963","v":0},{"$f":"RTC$1963","v":0},{"$f":"RTD$1963","v":0},{"$f":"RTE$1963","v":0},{"$f":"RTF$1963","v":0},{"$f":"RTG$1963","v":0},{"$f":"RTH$1963","v":0},{"$f":"RTI$1963","v":0},{"$f":"RTJ$1963","v":0},{"$f":"RTK$1963","v":0},{"$f":"RTL$1963","v":0},{"$f":"RTM$1963","v":0},{"$f":"RTN$1963","v":0},{"$f":"RTO$1963","v":0},{"$f":"RTP$1963","v":0},{"$f":"RTQ$1963","v":0},{"$f":"RTR$1963","v":0},{"$f":"RTS$1963","v":0},{"$f":"RTT$1963","v":0},{"$f":"RTU$1963","v":0},{"$f":"RTV$1963","v":0},{"$f":"RTW$1963","v":0},{"$f":"RTX$1963","v":0},{"$f":"RTY$1963","v":0},{"$f":"RTZ$1963","v":0},{"$f":"RUA$1963","v":0},{"$f":"RUB$1963","v":0},{"$f":"RUC$1963","v":0},{"$f":"RUD$1963","v":0},{"$f":"RUE$1963","v":0},{"$f":"RUF$1963","v":0},{"$f":"RUG$1963","v":0},{"$f":"RUH$1963","v":0},{"$f":"RUI$1963","v":0},{"$f":"RUJ$1963","v":0},{"$f":"RUK$1963","v":0},{"$f":"RUL$1963","v":0},{"$f":"RUM$1963","v":0},{"$f":"RUN$1963","v":0},{"$f":"RUO$1963","v":0},{"$f":"RUP$1963","v":0},{"$f":"RUQ$1963","v":0},{"$f":"RUR$1963","v":0},{"$f":"RUS$1963","v":0},{"$f":"RUT$1963","v":0},{"$f":"RUU$1963","v":0},{"$f":"RUV$1963","v":0},{"$f":"RUW$1963","v":0},{"$f":"RUX$1963","v":0},{"$f":"RUY$1963","v":0},{"$f":"RUZ$1963","v":0},{"$f":"RVA$1963","v":0},{"$f":"RVB$1963","v":0},{"$f":"RVC$1963","v":0},{"$f":"RVD$1963","v":0},{"$f":"RVE$1963","v":0},{"$f":"RVF$1963","v":0},{"$f":"RVG$1963","v":0},{"$f":"RVH$1963","v":0},{"$f":"RVI$1963","v":0},{"$f":"RVJ$1963","v":0},{"$f":"RVK$1963","v":0},{"$f":"RVL$1963","v":0},{"$f":"RVM$1963","v":0},{"$f":"RVN$1963","v":0},{"$f":"RVO$1963","v":0},{"$f":"RVP$1963","v":0},{"$f":"RVQ$1963","v":0},{"$f":"RVR$1963","v":0},{"$f":"RVS$1963","v":0},{"$f":"RVT$1963","v":0},{"$f":"RVU$1963","v":0},{"$f":"RVV$1963","v":0},{"$f":"RVW$1963","v":0},{"$f":"RVX$1963","v":0},{"$f":"RVY$1963","v":0},{"$f":"RVZ$1963","v":0},{"$f":"RWA$1963","v":0},{"$f":"RWB$1963","v":0},{"$f":"RWC$1963","v":0},{"$f":"RWD$1963","v":0},{"$f":"RWE$1963","v":0},{"$f":"RWF$1963","v":0},{"$f":"RWG$1963","v":0},{"$f":"RWH$1963","v":0},{"$f":"RWI$1963","v":0},{"$f":"RWJ$1963","v":0},{"$f":"RWK$1963","v":0},{"$f":"RWL$1963","v":0},{"$f":"RWM$1963","v":0},{"$f":"RWN$1963","v":0},{"$f":"RWO$1963","v":0},{"$f":"RWP$1963","v":0},{"$f":"RWQ$1963","v":0},{"$f":"RWR$1963","v":0},{"$f":"RWS$1963","v":0},{"$f":"RWT$1963","v":0},{"$f":"RWU$1963","v":0},{"$f":"RWV$1963","v":0},{"$f":"RWW$1963","v":0},{"$f":"RWX$1963","v":0},{"$f":"RWY$1963","v":0},{"$f":"RWZ$1963","v":0},{"$f":"RXA$1963","v":0},{"$f":"RXB$1963","v":0},{"$f":"RXC$1963","v":0},{"$f":"RXD$1963","v":0},{"$f":"RXE$1963","v":0},{"$f":"RXF$1963","v":0},{"$f":"RXG$1963","v":0},{"$f":"RXH$1963","v":0},{"$f":"RXI$1963","v":0},{"$f":"RXJ$1963","v":0},{"$f":"RXK$1963","v":0},{"$f":"RXL$1963","v":0},{"$f":"RXM$1963","v":0},{"$f":"RXN$1963","v":0},{"$f":"RXO$1963","v":0},{"$f":"RXP$1963","v":0},{"$f":"RXQ$1963","v":0},{"$f":"RXR$1963","v":0},{"$f":"RXS$1963","v":0},{"$f":"RXT$1963","v":0},{"$f":"RXU$1963","v":0},{"$f":"RXV$1963","v":0},{"$f":"RXW$1963","v":0},{"$f":"RXX$1963","v":0},{"$f":"RXY$1963","v":0},{"$f":"RXZ$1963","v":0},{"$f":"RYA$1963","v":0},{"$f":"RYB$1963","v":0},{"$f":"RYC$1963","v":0},{"$f":"RYD$1963","v":0},{"$f":"RYE$1963","v":0},{"$f":"RYF$1963","v":0},{"$f":"RYG$1963","v":0},{"$f":"RYH$1963","v":0},{"$f":"RYI$1963","v":0},{"$f":"RYJ$1963","v":0},{"$f":"RYK$1963","v":0},{"$f":"RYL$1963","v":0},{"$f":"RYM$1963","v":0},{"$f":"RYN$1963","v":0},{"$f":"RYO$1963","v":0},{"$f":"RYP$1963","v":0},{"$f":"RYQ$1963","v":0},{"$f":"RYR$1963","v":0},{"$f":"RYS$1963","v":0},{"$f":"RYT$1963","v":0},{"$f":"RYU$1963","v":0},{"$f":"RYV$1963","v":0},{"$f":"RYW$1963","v":0},{"$f":"RYX$1963","v":0},{"$f":"RYY$1963","v":0},{"$f":"RYZ$1963","v":0},{"$f":"RZA$1963","v":0},{"$f":"RZB$1963","v":0},{"$f":"RZC$1963","v":0},{"$f":"RZD$1963","v":0},{"$f":"RZE$1963","v":0},{"$f":"RZF$1963","v":0},{"$f":"RZG$1963","v":0},{"$f":"RZH$1963","v":0},{"$f":"RZI$1963","v":0},{"$f":"RZJ$1963","v":0},{"$f":"RZK$1963","v":0},{"$f":"RZL$1963","v":0},{"$f":"RZM$1963","v":0},{"$f":"RZN$1963","v":0},{"$f":"RZO$1963","v":0},{"$f":"RZP$1963","v":0},{"$f":"RZQ$1963","v":0},{"$f":"RZR$1963","v":0},{"$f":"RZS$1963","v":0},{"$f":"RZT$1963","v":0},{"$f":"RZU$1963","v":0},{"$f":"RZV$1963","v":0},{"$f":"RZW$1963","v":0},{"$f":"RZX$1963","v":0},{"$f":"RZY$1963","v":0},{"$f":"RZZ$1963","v":0},{"$f":"SAA$1963","v":0},{"$f":"SAB$1963","v":0},{"$f":"SAC$1963","v":0},{"$f":"SAD$1963","v":0},{"$f":"SAE$1963","v":0},{"$f":"SAF$1963","v":0},{"$f":"SAG$1963","v":0},{"$f":"SAH$1963","v":0},{"$f":"SAI$1963","v":0},{"$f":"SAJ$1963","v":0},{"$f":"SAK$1963","v":0},{"$f":"SAL$1963","v":0},{"$f":"SAM$1963","v":0},{"$f":"SAN$1963","v":0},{"$f":"SAO$1963","v":0},{"$f":"SAP$1963","v":0},{"$f":"SAQ$1963","v":0},{"$f":"SAR$1963","v":0},{"$f":"SAS$1963","v":0},{"$f":"SAT$1963","v":0},{"$f":"SAU$1963","v":0},{"$f":"SAV$1963","v":0},{"$f":"SAW$1963","v":0},{"$f":"SAX$1963","v":0},{"$f":"SAY$1963","v":0},{"$f":"SAZ$1963","v":0},{"$f":"SBA$1963","v":0},{"$f":"SBB$1963","v":0},{"$f":"SBC$1963","v":0},{"$f":"SBD$1963","v":0},{"$f":"SBE$1963","v":0},{"$f":"SBF$1963","v":0},{"$f":"SBG$1963","v":0},{"$f":"SBH$1963","v":0},{"$f":"SBI$1963","v":0},{"$f":"SBJ$1963","v":0},{"$f":"SBK$1963","v":0},{"$f":"SBL$1963","v":0},{"$f":"SBM$1963","v":0},{"$f":"SBN$1963","v":0},{"$f":"SBO$1963","v":0},{"$f":"SBP$1963","v":0},{"$f":"SBQ$1963","v":0},{"$f":"SBR$1963","v":0},{"$f":"SBS$1963","v":0},{"$f":"SBT$1963","v":0},{"$f":"SBU$1963","v":0},{"$f":"SBV$1963","v":0},{"$f":"SBW$1963","v":0},{"$f":"SBX$1963","v":0},{"$f":"SBY$1963","v":0},{"$f":"SBZ$1963","v":0},{"$f":"SCA$1963","v":0},{"$f":"SCB$1963","v":0},{"$f":"SCC$1963","v":0},{"$f":"SCD$1963","v":0},{"$f":"SCE$1963","v":0},{"$f":"SCF$1963","v":0},{"$f":"SCG$1963","v":0},{"$f":"SCH$1963","v":0},{"$f":"SCI$1963","v":0},{"$f":"SCJ$1963","v":0},{"$f":"SCK$1963","v":0},{"$f":"SCL$1963","v":0},{"$f":"SCM$1963","v":0},{"$f":"SCN$1963","v":0},{"$f":"SCO$1963","v":0},{"$f":"SCP$1963","v":0},{"$f":"SCQ$1963","v":0},{"$f":"SCR$1963","v":0},{"$f":"SCS$1963","v":0},{"$f":"SCT$1963","v":0},{"$f":"SCU$1963","v":0},{"$f":"SCV$1963","v":0},{"$f":"SCW$1963","v":0},{"$f":"SCX$1963","v":0},{"$f":"SCY$1963","v":0},{"$f":"SCZ$1963","v":0},{"$f":"SDA$1963","v":0},{"$f":"SDB$1963","v":0},{"$f":"SDC$1963","v":0},{"$f":"SDD$1963","v":0},{"$f":"SDE$1963","v":0},{"$f":"SDF$1963","v":0},{"$f":"SDG$1963","v":0},{"$f":"SDH$1963","v":0},{"$f":"SDI$1963","v":0},{"$f":"SDJ$1963","v":0},{"$f":"SDK$1963","v":0},{"$f":"SDL$1963","v":0},{"$f":"SDM$1963","v":0},{"$f":"SDN$1963","v":0},{"$f":"SDO$1963","v":0},{"$f":"SDP$1963","v":0},{"$f":"SDQ$1963","v":0},{"$f":"SDR$1963","v":0},{"$f":"SDS$1963","v":0},{"$f":"SDT$1963","v":0},{"$f":"SDU$1963","v":0},{"$f":"SDV$1963","v":0},{"$f":"SDW$1963","v":0},{"$f":"SDX$1963","v":0},{"$f":"SDY$1963","v":0},{"$f":"SDZ$1963","v":0},{"$f":"SEA$1963","v":0},{"$f":"SEB$1963","v":0},{"$f":"SEC$1963","v":0},{"$f":"SED$1963","v":0},{"$f":"SEE$1963","v":0},{"$f":"SEF$1963","v":0},{"$f":"SEG$1963","v":0},{"$f":"SEH$1963","v":0},{"$f":"SEI$1963","v":0},{"$f":"SEJ$1963","v":0},{"$f":"SEK$1963","v":0},{"$f":"SEL$1963","v":0},{"$f":"SEM$1963","v":0},{"$f":"SEN$1963","v":0},{"$f":"SEO$1963","v":0},{"$f":"SEP$1963","v":0},{"$f":"SEQ$1963","v":0},{"$f":"SER$1963","v":0},{"$f":"SES$1963","v":0},{"$f":"SET$1963","v":0},{"$f":"SEU$1963","v":0},{"$f":"SEV$1963","v":0},{"$f":"SEW$1963","v":0},{"$f":"SEX$1963","v":0},{"$f":"SEY$1963","v":0},{"$f":"SEZ$1963","v":0},{"$f":"SFA$1963","v":0},{"$f":"SFB$1963","v":0},{"$f":"SFC$1963","v":0},{"$f":"SFD$1963","v":0},{"$f":"SFE$1963","v":0},{"$f":"SFF$1963","v":0},{"$f":"SFG$1963","v":0},{"$f":"SFH$1963","v":0},{"$f":"SFI$1963","v":0},{"$f":"SFJ$1963","v":0},{"$f":"SFK$1963","v":0},{"$f":"SFL$1963","v":0},{"$f":"SFM$1963","v":0},{"$f":"SFN$1963","v":0},{"$f":"SFO$1963","v":0},{"$f":"SFP$1963","v":0},{"$f":"SFQ$1963","v":0},{"$f":"SFR$1963","v":0},{"$f":"SFS$1963","v":0},{"$f":"SFT$1963","v":0},{"$f":"SFU$1963","v":0},{"$f":"SFV$1963","v":0},{"$f":"SFW$1963","v":0},{"$f":"SFX$1963","v":0},{"$f":"SFY$1963","v":0},{"$f":"SFZ$1963","v":0},{"$f":"SGA$1963","v":0},{"$f":"SGB$1963","v":0},{"$f":"SGC$1963","v":0},{"$f":"SGD$1963","v":0},{"$f":"SGE$1963","v":0},{"$f":"SGF$1963","v":0},{"$f":"SGG$1963","v":0},{"$f":"SGH$1963","v":0},{"$f":"SGI$1963","v":0},{"$f":"SGJ$1963","v":0},{"$f":"SGK$1963","v":0},{"$f":"SGL$1963","v":0},{"$f":"SGM$1963","v":0},{"$f":"SGN$1963","v":0},{"$f":"SGO$1963","v":0},{"$f":"SGP$1963","v":0},{"$f":"SGQ$1963","v":0},{"$f":"SGR$1963","v":0},{"$f":"SGS$1963","v":0},{"$f":"SGT$1963","v":0},{"$f":"SGU$1963","v":0},{"$f":"SGV$1963","v":0},{"$f":"SGW$1963","v":0},{"$f":"SGX$1963","v":0},{"$f":"SGY$1963","v":0},{"$f":"SGZ$1963","v":0},{"$f":"SHA$1963","v":0},{"$f":"SHB$1963","v":0},{"$f":"SHC$1963","v":0},{"$f":"SHD$1963","v":0},{"$f":"SHE$1963","v":0},{"$f":"SHF$1963","v":0},{"$f":"SHG$1963","v":0},{"$f":"SHH$1963","v":0},{"$f":"SHI$1963","v":0},{"$f":"SHJ$1963","v":0},{"$f":"SHK$1963","v":0},{"$f":"SHL$1963","v":0},{"$f":"SHM$1963","v":0},{"$f":"SHN$1963","v":0},{"$f":"SHO$1963","v":0},{"$f":"SHP$1963","v":0},{"$f":"SHQ$1963","v":0},{"$f":"SHR$1963","v":0},{"$f":"SHS$1963","v":0},{"$f":"SHT$1963","v":0},{"$f":"SHU$1963","v":0},{"$f":"SHV$1963","v":0},{"$f":"SHW$1963","v":0},{"$f":"SHX$1963","v":0},{"$f":"SHY$1963","v":0},{"$f":"SHZ$1963","v":0},{"$f":"SIA$1963","v":0},{"$f":"SIB$1963","v":0},{"$f":"SIC$1963","v":0},{"$f":"SID$1963","v":0},{"$f":"SIE$1963","v":0},{"$f":"SIF$1963","v":0},{"$f":"SIG$1963","v":0},{"$f":"SIH$1963","v":0},{"$f":"SII$1963","v":0},{"$f":"SIJ$1963","v":0},{"$f":"SIK$1963","v":0},{"$f":"SIL$1963","v":0},{"$f":"SIM$1963","v":0},{"$f":"SIN$1963","v":0},{"$f":"SIO$1963","v":0},{"$f":"SIP$1963","v":0},{"$f":"SIQ$1963","v":0},{"$f":"SIR$1963","v":0},{"$f":"SIS$1963","v":0},{"$f":"SIT$1963","v":0},{"$f":"SIU$1963","v":0},{"$f":"SIV$1963","v":0},{"$f":"SIW$1963","v":0},{"$f":"SIX$1963","v":0},{"$f":"SIY$1963","v":0},{"$f":"SIZ$1963","v":0},{"$f":"SJA$1963","v":0},{"$f":"SJB$1963","v":0},{"$f":"SJC$1963","v":0},{"$f":"SJD$1963","v":0},{"$f":"SJE$1963","v":0},{"$f":"SJF$1963","v":0},{"$f":"SJG$1963","v":0},{"$f":"SJH$1963","v":0},{"$f":"SJI$1963","v":0},{"$f":"SJJ$1963","v":0},{"$f":"SJK$1963","v":0},{"$f":"SJL$1963","v":0},{"$f":"SJM$1963","v":0},{"$f":"SJN$1963","v":0},{"$f":"SJO$1963","v":0},{"$f":"SJP$1963","v":0},{"$f":"SJQ$1963","v":0},{"$f":"SJR$1963","v":0},{"$f":"SJS$1963","v":0},{"$f":"SJT$1963","v":0},{"$f":"SJU$1963","v":0},{"$f":"SJV$1963","v":0},{"$f":"SJW$1963","v":0},{"$f":"SJX$1963","v":0},{"$f":"SJY$1963","v":0},{"$f":"SJZ$1963","v":0},{"$f":"SKA$1963","v":0},{"$f":"SKB$1963","v":0},{"$f":"SKC$1963","v":0},{"$f":"SKD$1963","v":0},{"$f":"SKE$1963","v":0},{"$f":"SKF$1963","v":0},{"$f":"SKG$1963","v":0},{"$f":"SKH$1963","v":0},{"$f":"SKI$1963","v":0},{"$f":"SKJ$1963","v":0},{"$f":"SKK$1963","v":0},{"$f":"SKL$1963","v":0},{"$f":"SKM$1963","v":0},{"$f":"SKN$1963","v":0},{"$f":"SKO$1963","v":0},{"$f":"SKP$1963","v":0},{"$f":"SKQ$1963","v":0},{"$f":"SKR$1963","v":0},{"$f":"SKS$1963","v":0},{"$f":"SKT$1963","v":0},{"$f":"SKU$1963","v":0},{"$f":"SKV$1963","v":0},{"$f":"SKW$1963","v":0},{"$f":"SKX$1963","v":0},{"$f":"SKY$1963","v":0},{"$f":"SKZ$1963","v":0},{"$f":"SLA$1963","v":0},{"$f":"SLB$1963","v":0},{"$f":"SLC$1963","v":0},{"$f":"SLD$1963","v":0},{"$f":"SLE$1963","v":0},{"$f":"SLF$1963","v":0},{"$f":"SLG$1963","v":0},{"$f":"SLH$1963","v":0},{"$f":"SLI$1963","v":0},{"$f":"SLJ$1963","v":0},{"$f":"SLK$1963","v":0},{"$f":"SLL$1963","v":0},{"$f":"SLM$1963","v":0},{"$f":"SLN$1963","v":0},{"$f":"SLO$1963","v":0},{"$f":"SLP$1963","v":0},{"$f":"SLQ$1963","v":0},{"$f":"SLR$1963","v":0},{"$f":"SLS$1963","v":0},{"$f":"SLT$1963","v":0},{"$f":"SLU$1963","v":0},{"$f":"SLV$1963","v":0},{"$f":"SLW$1963","v":0},{"$f":"SLX$1963","v":0},{"$f":"SLY$1963","v":0},{"$f":"SLZ$1963","v":0},{"$f":"SMA$1963","v":0},{"$f":"SMB$1963","v":0},{"$f":"SMC$1963","v":0},{"$f":"SMD$1963","v":0},{"$f":"SME$1963","v":0},{"$f":"SMF$1963","v":0},{"$f":"SMG$1963","v":0},{"$f":"SMH$1963","v":0},{"$f":"SMI$1963","v":0},{"$f":"SMJ$1963","v":0},{"$f":"SMK$1963","v":0},{"$f":"SML$1963","v":0},{"$f":"SMM$1963","v":0},{"$f":"SMN$1963","v":0},{"$f":"SMO$1963","v":0},{"$f":"SMP$1963","v":0},{"$f":"SMQ$1963","v":0},{"$f":"SMR$1963","v":0},{"$f":"SMS$1963","v":0},{"$f":"SMT$1963","v":0},{"$f":"SMU$1963","v":0},{"$f":"SMV$1963","v":0},{"$f":"SMW$1963","v":0},{"$f":"SMX$1963","v":0},{"$f":"SMY$1963","v":0},{"$f":"SMZ$1963","v":0},{"$f":"SNA$1963","v":0},{"$f":"SNB$1963","v":0},{"$f":"SNC$1963","v":0},{"$f":"SND$1963","v":0},{"$f":"SNE$1963","v":0},{"$f":"SNF$1963","v":0},{"$f":"SNG$1963","v":0},{"$f":"SNH$1963","v":0},{"$f":"SNI$1963","v":0},{"$f":"SNJ$1963","v":0},{"$f":"SNK$1963","v":0},{"$f":"SNL$1963","v":0},{"$f":"SNM$1963","v":0},{"$f":"SNN$1963","v":0},{"$f":"SNO$1963","v":0},{"$f":"SNP$1963","v":0},{"$f":"SNQ$1963","v":0},{"$f":"SNR$1963","v":0},{"$f":"SNS$1963","v":0},{"$f":"SNT$1963","v":0},{"$f":"SNU$1963","v":0},{"$f":"SNV$1963","v":0},{"$f":"SNW$1963","v":0},{"$f":"SNX$1963","v":0},{"$f":"SNY$1963","v":0},{"$f":"SNZ$1963","v":0},{"$f":"SOA$1963","v":0},{"$f":"SOB$1963","v":0},{"$f":"SOC$1963","v":0},{"$f":"SOD$1963","v":0},{"$f":"SOE$1963","v":0},{"$f":"SOF$1963","v":0},{"$f":"SOG$1963","v":0},{"$f":"SOH$1963","v":0},{"$f":"SOI$1963","v":0},{"$f":"SOJ$1963","v":0},{"$f":"SOK$1963","v":0},{"$f":"SOL$1963","v":0},{"$f":"SOM$1963","v":0},{"$f":"SON$1963","v":0},{"$f":"SOO$1963","v":0},{"$f":"SOP$1963","v":0},{"$f":"SOQ$1963","v":0},{"$f":"SOR$1963","v":0},{"$f":"SOS$1963","v":0},{"$f":"SOT$1963","v":0},{"$f":"SOU$1963","v":0},{"$f":"SOV$1963","v":0},{"$f":"SOW$1963","v":0},{"$f":"SOX$1963","v":0},{"$f":"SOY$1963","v":0},{"$f":"SOZ$1963","v":0},{"$f":"SPA$1963","v":0},{"$f":"SPB$1963","v":0},{"$f":"SPC$1963","v":0},{"$f":"SPD$1963","v":0},{"$f":"SPE$1963","v":0},{"$f":"SPF$1963","v":0},{"$f":"SPG$1963","v":0},{"$f":"SPH$1963","v":0},{"$f":"SPI$1963","v":0},{"$f":"SPJ$1963","v":0},{"$f":"SPK$1963","v":0},{"$f":"SPL$1963","v":0},{"$f":"SPM$1963","v":0},{"$f":"SPN$1963","v":0},{"$f":"SPO$1963","v":0},{"$f":"SPP$1963","v":0},{"$f":"SPQ$1963","v":0},{"$f":"SPR$1963","v":0},{"$f":"SPS$1963","v":0},{"$f":"SPT$1963","v":0},{"$f":"SPU$1963","v":0},{"$f":"SPV$1963","v":0},{"$f":"SPW$1963","v":0},{"$f":"SPX$1963","v":0},{"$f":"SPY$1963","v":0},{"$f":"SPZ$1963","v":0},{"$f":"SQA$1963","v":0},{"$f":"SQB$1963","v":0},{"$f":"SQC$1963","v":0},{"$f":"SQD$1963","v":0},{"$f":"SQE$1963","v":0},{"$f":"SQF$1963","v":0},{"$f":"SQG$1963","v":0},{"$f":"SQH$1963","v":0},{"$f":"SQI$1963","v":0},{"$f":"SQJ$1963","v":0},{"$f":"SQK$1963","v":0},{"$f":"SQL$1963","v":0},{"$f":"SQM$1963","v":0},{"$f":"SQN$1963","v":0},{"$f":"SQO$1963","v":0},{"$f":"SQP$1963","v":0},{"$f":"SQQ$1963","v":0},{"$f":"SQR$1963","v":0},{"$f":"SQS$1963","v":0},{"$f":"SQT$1963","v":0},{"$f":"SQU$1963","v":0},{"$f":"SQV$1963","v":0},{"$f":"SQW$1963","v":0},{"$f":"SQX$1963","v":0},{"$f":"SQY$1963","v":0},{"$f":"SQZ$1963","v":0},{"$f":"SRA$1963","v":0},{"$f":"SRB$1963","v":0},{"$f":"SRC$1963","v":0},{"$f":"SRD$1963","v":0},{"$f":"SRE$1963","v":0},{"$f":"SRF$1963","v":0},{"$f":"SRG$1963","v":0},{"$f":"SRH$1963","v":0},{"$f":"SRI$1963","v":0},{"$f":"SRJ$1963","v":0},{"$f":"SRK$1963","v":0},{"$f":"SRL$1963","v":0},{"$f":"SRM$1963","v":0},{"$f":"SRN$1963","v":0},{"$f":"SRO$1963","v":0},{"$f":"SRP$1963","v":0},{"$f":"SRQ$1963","v":0},{"$f":"SRR$1963","v":0},{"$f":"SRS$1963","v":0},{"$f":"SRT$1963","v":0},{"$f":"SRU$1963","v":0},{"$f":"SRV$1963","v":0},{"$f":"SRW$1963","v":0},{"$f":"SRX$1963","v":0},{"$f":"SRY$1963","v":0},{"$f":"SRZ$1963","v":0},{"$f":"SSA$1963","v":0},{"$f":"SSB$1963","v":0},{"$f":"SSC$1963","v":0},{"$f":"SSD$1963","v":0},{"$f":"SSE$1963","v":0},{"$f":"SSF$1963","v":0},{"$f":"SSG$1963","v":0},{"$f":"SSH$1963","v":0},{"$f":"SSI$1963","v":0},{"$f":"SSJ$1963","v":0},{"$f":"SSK$1963","v":0},{"$f":"SSL$1963","v":0},{"$f":"SSM$1963","v":0},{"$f":"SSN$1963","v":0},{"$f":"SSO$1963","v":0},{"$f":"SSP$1963","v":0},{"$f":"SSQ$1963","v":0},{"$f":"SSR$1963","v":0},{"$f":"SSS$1963","v":0},{"$f":"SST$1963","v":0},{"$f":"SSU$1963","v":0},{"$f":"SSV$1963","v":0},{"$f":"SSW$1963","v":0},{"$f":"SSX$1963","v":0},{"$f":"SSY$1963","v":0},{"$f":"SSZ$1963","v":0},{"$f":"STA$1963","v":0},{"$f":"STB$1963","v":0},{"$f":"STC$1963","v":0},{"$f":"STD$1963","v":0},{"$f":"STE$1963","v":0},{"$f":"STF$1963","v":0},{"$f":"STG$1963","v":0},{"$f":"STH$1963","v":0},{"$f":"STI$1963","v":0},{"$f":"STJ$1963","v":0},{"$f":"STK$1963","v":0},{"$f":"STL$1963","v":0},{"$f":"STM$1963","v":0},{"$f":"STN$1963","v":0},{"$f":"STO$1963","v":0},{"$f":"STP$1963","v":0},{"$f":"STQ$1963","v":0},{"$f":"STR$1963","v":0},{"$f":"STS$1963","v":0},{"$f":"STT$1963","v":0},{"$f":"STU$1963","v":0},{"$f":"STV$1963","v":0},{"$f":"STW$1963","v":0},{"$f":"STX$1963","v":0},{"$f":"STY$1963","v":0},{"$f":"STZ$1963","v":0},{"$f":"SUA$1963","v":0},{"$f":"SUB$1963","v":0},{"$f":"SUC$1963","v":0},{"$f":"SUD$1963","v":0},{"$f":"SUE$1963","v":0},{"$f":"SUF$1963","v":0},{"$f":"SUG$1963","v":0},{"$f":"SUH$1963","v":0},{"$f":"SUI$1963","v":0},{"$f":"SUJ$1963","v":0},{"$f":"SUK$1963","v":0},{"$f":"SUL$1963","v":0},{"$f":"SUM$1963","v":0},{"$f":"SUN$1963","v":0},{"$f":"SUO$1963","v":0},{"$f":"SUP$1963","v":0},{"$f":"SUQ$1963","v":0},{"$f":"SUR$1963","v":0},{"$f":"SUS$1963","v":0},{"$f":"SUT$1963","v":0},{"$f":"SUU$1963","v":0},{"$f":"SUV$1963","v":0},{"$f":"SUW$1963","v":0},{"$f":"SUX$1963","v":0},{"$f":"SUY$1963","v":0},{"$f":"SUZ$1963","v":0},{"$f":"SVA$1963","v":0},{"$f":"SVB$1963","v":0},{"$f":"SVC$1963","v":0},{"$f":"SVD$1963","v":0},{"$f":"SVE$1963","v":0},{"$f":"SVF$1963","v":0},{"$f":"SVG$1963","v":0},{"$f":"SVH$1963","v":0},{"$f":"SVI$1963","v":0},{"$f":"SVJ$1963","v":0},{"$f":"SVK$1963","v":0},{"$f":"SVL$1963","v":0},{"$f":"SVM$1963","v":0},{"$f":"SVN$1963","v":0},{"$f":"SVO$1963","v":0},{"$f":"SVP$1963","v":0},{"$f":"SVQ$1963","v":0},{"$f":"SVR$1963","v":0},{"$f":"SVS$1963","v":0},{"$f":"SVT$1963","v":0},{"$f":"SVU$1963","v":0},{"$f":"SVV$1963","v":0},{"$f":"SVW$1963","v":0},{"$f":"SVX$1963","v":0},{"$f":"SVY$1963","v":0},{"$f":"SVZ$1963","v":0},{"$f":"SWA$1963","v":0},{"$f":"SWB$1963","v":0},{"$f":"SWC$1963","v":0},{"$f":"SWD$1963","v":0},{"$f":"SWE$1963","v":0},{"$f":"SWF$1963","v":0},{"$f":"SWG$1963","v":0},{"$f":"SWH$1963","v":0},{"$f":"SWI$1963","v":0},{"$f":"SWJ$1963","v":0},{"$f":"SWK$1963","v":0},{"$f":"SWL$1963","v":0},{"$f":"SWM$1963","v":0},{"$f":"SWN$1963","v":0},{"$f":"SWO$1963","v":0},{"$f":"SWP$1963","v":0},{"$f":"SWQ$1963","v":0},{"$f":"SWR$1963","v":0},{"$f":"SWS$1963","v":0},{"$f":"SWT$1963","v":0},{"$f":"SWU$1963","v":0},{"$f":"SWV$1963","v":0},{"$f":"SWW$1963","v":0},{"$f":"SWX$1963","v":0},{"$f":"SWY$1963","v":0},{"$f":"SWZ$1963","v":0},{"$f":"SXA$1963","v":0},{"$f":"SXB$1963","v":0},{"$f":"SXC$1963","v":0},{"$f":"SXD$1963","v":0},{"$f":"SXE$1963","v":0},{"$f":"SXF$1963","v":0},{"$f":"SXG$1963","v":0},{"$f":"SXH$1963","v":0},{"$f":"SXI$1963","v":0},{"$f":"SXJ$1963","v":0},{"$f":"SXK$1963","v":0},{"$f":"SXL$1963","v":0},{"$f":"SXM$1963","v":0},{"$f":"SXN$1963","v":0},{"$f":"SXO$1963","v":0},{"$f":"SXP$1963","v":0},{"$f":"SXQ$1963","v":0},{"$f":"SXR$1963","v":0},{"$f":"SXS$1963","v":0},{"$f":"SXT$1963","v":0},{"$f":"SXU$1963","v":0},{"$f":"SXV$1963","v":0},{"$f":"SXW$1963","v":0},{"$f":"SXX$1963","v":0},{"$f":"SXY$1963","v":0},{"$f":"SXZ$1963","v":0},{"$f":"SYA$1963","v":0},{"$f":"SYB$1963","v":0},{"$f":"SYC$1963","v":0},{"$f":"SYD$1963","v":0},{"$f":"SYE$1963","v":0},{"$f":"SYF$1963","v":0},{"$f":"SYG$1963","v":0},{"$f":"SYH$1963","v":0},{"$f":"SYI$1963","v":0},{"$f":"SYJ$1963","v":0},{"$f":"SYK$1963","v":0},{"$f":"SYL$1963","v":0},{"$f":"SYM$1963","v":0},{"$f":"SYN$1963","v":0},{"$f":"SYO$1963","v":0},{"$f":"SYP$1963","v":0},{"$f":"SYQ$1963","v":0},{"$f":"SYR$1963","v":0},{"$f":"SYS$1963","v":0},{"$f":"SYT$1963","v":0},{"$f":"SYU$1963","v":0},{"$f":"SYV$1963","v":0},{"$f":"SYW$1963","v":0},{"$f":"SYX$1963","v":0},{"$f":"SYY$1963","v":0},{"$f":"SYZ$1963","v":0},{"$f":"SZA$1963","v":0},{"$f":"SZB$1963","v":0},{"$f":"SZC$1963","v":0},{"$f":"SZD$1963","v":0},{"$f":"SZE$1963","v":0},{"$f":"SZF$1963","v":0},{"$f":"SZG$1963","v":0},{"$f":"SZH$1963","v":0},{"$f":"SZI$1963","v":0},{"$f":"SZJ$1963","v":0},{"$f":"SZK$1963","v":0},{"$f":"SZL$1963","v":0},{"$f":"SZM$1963","v":0},{"$f":"SZN$1963","v":0},{"$f":"SZO$1963","v":0},{"$f":"SZP$1963","v":0},{"$f":"SZQ$1963","v":0},{"$f":"SZR$1963","v":0},{"$f":"SZS$1963","v":0},{"$f":"SZT$1963","v":0},{"$f":"SZU$1963","v":0},{"$f":"SZV$1963","v":0},{"$f":"SZW$1963","v":0},{"$f":"SZX$1963","v":0},{"$f":"SZY$1963","v":0},{"$f":"SZZ$1963","v":0},{"$f":"TAA$1963","v":0},{"$f":"TAB$1963","v":0},{"$f":"TAC$1963","v":0},{"$f":"TAD$1963","v":0},{"$f":"TAE$1963","v":0},{"$f":"TAF$1963","v":0},{"$f":"TAG$1963","v":0},{"$f":"TAH$1963","v":0},{"$f":"TAI$1963","v":0},{"$f":"TAJ$1963","v":0},{"$f":"TAK$1963","v":0},{"$f":"TAL$1963","v":0},{"$f":"TAM$1963","v":0},{"$f":"TAN$1963","v":0},{"$f":"TAO$1963","v":0},{"$f":"TAP$1963","v":0},{"$f":"TAQ$1963","v":0},{"$f":"TAR$1963","v":0},{"$f":"TAS$1963","v":0},{"$f":"TAT$1963","v":0},{"$f":"TAU$1963","v":0},{"$f":"TAV$1963","v":0},{"$f":"TAW$1963","v":0},{"$f":"TAX$1963","v":0},{"$f":"TAY$1963","v":0},{"$f":"TAZ$1963","v":0},{"$f":"TBA$1963","v":0},{"$f":"TBB$1963","v":0},{"$f":"TBC$1963","v":0},{"$f":"TBD$1963","v":0},{"$f":"TBE$1963","v":0},{"$f":"TBF$1963","v":0},{"$f":"TBG$1963","v":0},{"$f":"TBH$1963","v":0},{"$f":"TBI$1963","v":0},{"$f":"TBJ$1963","v":0},{"$f":"TBK$1963","v":0},{"$f":"TBL$1963","v":0},{"$f":"TBM$1963","v":0},{"$f":"TBN$1963","v":0},{"$f":"TBO$1963","v":0},{"$f":"TBP$1963","v":0},{"$f":"TBQ$1963","v":0},{"$f":"TBR$1963","v":0},{"$f":"TBS$1963","v":0},{"$f":"TBT$1963","v":0},{"$f":"TBU$1963","v":0},{"$f":"TBV$1963","v":0},{"$f":"TBW$1963","v":0},{"$f":"TBX$1963","v":0},{"$f":"TBY$1963","v":0},{"$f":"TBZ$1963","v":0},{"$f":"TCA$1963","v":0},{"$f":"TCB$1963","v":0},{"$f":"TCC$1963","v":0},{"$f":"TCD$1963","v":0},{"$f":"TCE$1963","v":0},{"$f":"TCF$1963","v":0},{"$f":"TCG$1963","v":0},{"$f":"TCH$1963","v":0},{"$f":"TCI$1963","v":0},{"$f":"TCJ$1963","v":0},{"$f":"TCK$1963","v":0},{"$f":"TCL$1963","v":0},{"$f":"TCM$1963","v":0},{"$f":"TCN$1963","v":0},{"$f":"TCO$1963","v":0},{"$f":"TCP$1963","v":0},{"$f":"TCQ$1963","v":0},{"$f":"TCR$1963","v":0},{"$f":"TCS$1963","v":0},{"$f":"TCT$1963","v":0},{"$f":"TCU$1963","v":0},{"$f":"TCV$1963","v":0},{"$f":"TCW$1963","v":0},{"$f":"TCX$1963","v":0},{"$f":"TCY$1963","v":0},{"$f":"TCZ$1963","v":0},{"$f":"TDA$1963","v":0},{"$f":"TDB$1963","v":0},{"$f":"TDC$1963","v":0},{"$f":"TDD$1963","v":0},{"$f":"TDE$1963","v":0},{"$f":"TDF$1963","v":0},{"$f":"TDG$1963","v":0},{"$f":"TDH$1963","v":0},{"$f":"TDI$1963","v":0},{"$f":"TDJ$1963","v":0},{"$f":"TDK$1963","v":0},{"$f":"TDL$1963","v":0},{"$f":"TDM$1963","v":0},{"$f":"TDN$1963","v":0},{"$f":"TDO$1963","v":0},{"$f":"TDP$1963","v":0},{"$f":"TDQ$1963","v":0},{"$f":"TDR$1963","v":0},{"$f":"TDS$1963","v":0},{"$f":"TDT$1963","v":0},{"$f":"TDU$1963","v":0},{"$f":"TDV$1963","v":0},{"$f":"TDW$1963","v":0},{"$f":"TDX$1963","v":0},{"$f":"TDY$1963","v":0},{"$f":"TDZ$1963","v":0},{"$f":"TEA$1963","v":0},{"$f":"TEB$1963","v":0},{"$f":"TEC$1963","v":0},{"$f":"TED$1963","v":0},{"$f":"TEE$1963","v":0},{"$f":"TEF$1963","v":0},{"$f":"TEG$1963","v":0},{"$f":"TEH$1963","v":0},{"$f":"TEI$1963","v":0},{"$f":"TEJ$1963","v":0},{"$f":"TEK$1963","v":0},{"$f":"TEL$1963","v":0},{"$f":"TEM$1963","v":0},{"$f":"TEN$1963","v":0},{"$f":"TEO$1963","v":0},{"$f":"TEP$1963","v":0},{"$f":"TEQ$1963","v":0},{"$f":"TER$1963","v":0},{"$f":"TES$1963","v":0},{"$f":"TET$1963","v":0},{"$f":"TEU$1963","v":0},{"$f":"TEV$1963","v":0},{"$f":"TEW$1963","v":0},{"$f":"TEX$1963","v":0},{"$f":"TEY$1963","v":0},{"$f":"TEZ$1963","v":0},{"$f":"TFA$1963","v":0},{"$f":"TFB$1963","v":0},{"$f":"TFC$1963","v":0},{"$f":"TFD$1963","v":0},{"$f":"TFE$1963","v":0},{"$f":"TFF$1963","v":0},{"$f":"TFG$1963","v":0},{"$f":"TFH$1963","v":0},{"$f":"TFI$1963","v":0},{"$f":"TFJ$1963","v":0},{"$f":"TFK$1963","v":0},{"$f":"TFL$1963","v":0},{"$f":"TFM$1963","v":0},{"$f":"TFN$1963","v":0},{"$f":"TFO$1963","v":0},{"$f":"TFP$1963","v":0},{"$f":"TFQ$1963","v":0},{"$f":"TFR$1963","v":0},{"$f":"TFS$1963","v":0},{"$f":"TFT$1963","v":0},{"$f":"TFU$1963","v":0},{"$f":"TFV$1963","v":0},{"$f":"TFW$1963","v":0},{"$f":"TFX$1963","v":0},{"$f":"TFY$1963","v":0},{"$f":"TFZ$1963","v":0},{"$f":"TGA$1963","v":0},{"$f":"TGB$1963","v":0},{"$f":"TGC$1963","v":0},{"$f":"TGD$1963","v":0},{"$f":"TGE$1963","v":0},{"$f":"TGF$1963","v":0},{"$f":"TGG$1963","v":0},{"$f":"TGH$1963","v":0},{"$f":"TGI$1963","v":0},{"$f":"TGJ$1963","v":0},{"$f":"TGK$1963","v":0},{"$f":"TGL$1963","v":0},{"$f":"TGM$1963","v":0},{"$f":"TGN$1963","v":0},{"$f":"TGO$1963","v":0},{"$f":"TGP$1963","v":0},{"$f":"TGQ$1963","v":0},{"$f":"TGR$1963","v":0},{"$f":"TGS$1963","v":0},{"$f":"TGT$1963","v":0},{"$f":"TGU$1963","v":0},{"$f":"TGV$1963","v":0},{"$f":"TGW$1963","v":0},{"$f":"TGX$1963","v":0},{"$f":"TGY$1963","v":0},{"$f":"TGZ$1963","v":0},{"$f":"THA$1963","v":0},{"$f":"THB$1963","v":0},{"$f":"THC$1963","v":0},{"$f":"THD$1963","v":0},{"$f":"THE$1963","v":0},{"$f":"THF$1963","v":0},{"$f":"THG$1963","v":0},{"$f":"THH$1963","v":0},{"$f":"THI$1963","v":0},{"$f":"THJ$1963","v":0},{"$f":"THK$1963","v":0},{"$f":"THL$1963","v":0},{"$f":"THM$1963","v":0},{"$f":"THN$1963","v":0},{"$f":"THO$1963","v":0},{"$f":"THP$1963","v":0},{"$f":"THQ$1963","v":0},{"$f":"THR$1963","v":0},{"$f":"THS$1963","v":0},{"$f":"THT$1963","v":0},{"$f":"THU$1963","v":0},{"$f":"THV$1963","v":0},{"$f":"THW$1963","v":0},{"$f":"THX$1963","v":0},{"$f":"THY$1963","v":0},{"$f":"THZ$1963","v":0},{"$f":"TIA$1963","v":0},{"$f":"TIB$1963","v":0},{"$f":"TIC$1963","v":0},{"$f":"TID$1963","v":0},{"$f":"TIE$1963","v":0},{"$f":"TIF$1963","v":0},{"$f":"TIG$1963","v":0},{"$f":"TIH$1963","v":0},{"$f":"TII$1963","v":0},{"$f":"TIJ$1963","v":0},{"$f":"TIK$1963","v":0},{"$f":"TIL$1963","v":0},{"$f":"TIM$1963","v":0},{"$f":"TIN$1963","v":0},{"$f":"TIO$1963","v":0},{"$f":"TIP$1963","v":0},{"$f":"TIQ$1963","v":0},{"$f":"TIR$1963","v":0},{"$f":"TIS$1963","v":0},{"$f":"TIT$1963","v":0},{"$f":"TIU$1963","v":0},{"$f":"TIV$1963","v":0},{"$f":"TIW$1963","v":0},{"$f":"TIX$1963","v":0},{"$f":"TIY$1963","v":0},{"$f":"TIZ$1963","v":0},{"$f":"TJA$1963","v":0},{"$f":"TJB$1963","v":0},{"$f":"TJC$1963","v":0},{"$f":"TJD$1963","v":0},{"$f":"TJE$1963","v":0},{"$f":"TJF$1963","v":0},{"$f":"TJG$1963","v":0},{"$f":"TJH$1963","v":0},{"$f":"TJI$1963","v":0},{"$f":"TJJ$1963","v":0},{"$f":"TJK$1963","v":0},{"$f":"TJL$1963","v":0},{"$f":"TJM$1963","v":0},{"$f":"TJN$1963","v":0},{"$f":"TJO$1963","v":0},{"$f":"TJP$1963","v":0},{"$f":"TJQ$1963","v":0},{"$f":"TJR$1963","v":0},{"$f":"TJS$1963","v":0},{"$f":"TJT$1963","v":0},{"$f":"TJU$1963","v":0},{"$f":"TJV$1963","v":0},{"$f":"TJW$1963","v":0},{"$f":"TJX$1963","v":0},{"$f":"TJY$1963","v":0},{"$f":"TJZ$1963","v":0},{"$f":"TKA$1963","v":0},{"$f":"TKB$1963","v":0},{"$f":"TKC$1963","v":0},{"$f":"TKD$1963","v":0},{"$f":"TKE$1963","v":0},{"$f":"TKF$1963","v":0},{"$f":"TKG$1963","v":0},{"$f":"TKH$1963","v":0},{"$f":"TKI$1963","v":0},{"$f":"TKJ$1963","v":0},{"$f":"TKK$1963","v":0},{"$f":"TKL$1963","v":0},{"$f":"TKM$1963","v":0},{"$f":"TKN$1963","v":0},{"$f":"TKO$1963","v":0},{"$f":"TKP$1963","v":0},{"$f":"TKQ$1963","v":0},{"$f":"TKR$1963","v":0},{"$f":"TKS$1963","v":0},{"$f":"TKT$1963","v":0},{"$f":"TKU$1963","v":0},{"$f":"TKV$1963","v":0},{"$f":"TKW$1963","v":0},{"$f":"TKX$1963","v":0},{"$f":"TKY$1963","v":0},{"$f":"TKZ$1963","v":0},{"$f":"TLA$1963","v":0},{"$f":"TLB$1963","v":0},{"$f":"TLC$1963","v":0},{"$f":"TLD$1963","v":0},{"$f":"TLE$1963","v":0},{"$f":"TLF$1963","v":0},{"$f":"TLG$1963","v":0},{"$f":"TLH$1963","v":0},{"$f":"TLI$1963","v":0},{"$f":"TLJ$1963","v":0},{"$f":"TLK$1963","v":0},{"$f":"TLL$1963","v":0},{"$f":"TLM$1963","v":0},{"$f":"TLN$1963","v":0},{"$f":"TLO$1963","v":0},{"$f":"TLP$1963","v":0},{"$f":"TLQ$1963","v":0},{"$f":"TLR$1963","v":0},{"$f":"TLS$1963","v":0},{"$f":"TLT$1963","v":0},{"$f":"TLU$1963","v":0},{"$f":"TLV$1963","v":0},{"$f":"TLW$1963","v":0},{"$f":"TLX$1963","v":0},{"$f":"TLY$1963","v":0},{"$f":"TLZ$1963","v":0},{"$f":"TMA$1963","v":0},{"$f":"TMB$1963","v":0},{"$f":"TMC$1963","v":0},{"$f":"TMD$1963","v":0},{"$f":"TME$1963","v":0},{"$f":"TMF$1963","v":0},{"$f":"TMG$1963","v":0},{"$f":"TMH$1963","v":0},{"$f":"TMI$1963","v":0},{"$f":"TMJ$1963","v":0},{"$f":"TMK$1963","v":0},{"$f":"TML$1963","v":0},{"$f":"TMM$1963","v":0},{"$f":"TMN$1963","v":0},{"$f":"TMO$1963","v":0},{"$f":"TMP$1963","v":0},{"$f":"TMQ$1963","v":0},{"$f":"TMR$1963","v":0},{"$f":"TMS$1963","v":0},{"$f":"TMT$1963","v":0},{"$f":"TMU$1963","v":0},{"$f":"TMV$1963","v":0},{"$f":"TMW$1963","v":0},{"$f":"TMX$1963","v":0},{"$f":"TMY$1963","v":0},{"$f":"TMZ$1963","v":0},{"$f":"TNA$1963","v":0},{"$f":"TNB$1963","v":0},{"$f":"TNC$1963","v":0},{"$f":"TND$1963","v":0},{"$f":"TNE$1963","v":0},{"$f":"TNF$1963","v":0},{"$f":"TNG$1963","v":0},{"$f":"TNH$1963","v":0},{"$f":"TNI$1963","v":0},{"$f":"TNJ$1963","v":0},{"$f":"TNK$1963","v":0},{"$f":"TNL$1963","v":0},{"$f":"TNM$1963","v":0},{"$f":"TNN$1963","v":0},{"$f":"TNO$1963","v":0},{"$f":"TNP$1963","v":0},{"$f":"TNQ$1963","v":0},{"$f":"TNR$1963","v":0},{"$f":"TNS$1963","v":0},{"$f":"TNT$1963","v":0},{"$f":"TNU$1963","v":0},{"$f":"TNV$1963","v":0},{"$f":"TNW$1963","v":0},{"$f":"TNX$1963","v":0},{"$f":"TNY$1963","v":0},{"$f":"TNZ$1963","v":0},{"$f":"TOA$1963","v":0},{"$f":"TOB$1963","v":0},{"$f":"TOC$1963","v":0},{"$f":"TOD$1963","v":0},{"$f":"TOE$1963","v":0},{"$f":"TOF$1963","v":0},{"$f":"TOG$1963","v":0},{"$f":"TOH$1963","v":0},{"$f":"TOI$1963","v":0},{"$f":"TOJ$1963","v":0},{"$f":"TOK$1963","v":0},{"$f":"TOL$1963","v":0},{"$f":"TOM$1963","v":0},{"$f":"TON$1963","v":0},{"$f":"TOO$1963","v":0},{"$f":"TOP$1963","v":0},{"$f":"TOQ$1963","v":0},{"$f":"TOR$1963","v":0},{"$f":"TOS$1963","v":0},{"$f":"TOT$1963","v":0},{"$f":"TOU$1963","v":0},{"$f":"TOV$1963","v":0},{"$f":"TOW$1963","v":0},{"$f":"TOX$1963","v":0},{"$f":"TOY$1963","v":0},{"$f":"TOZ$1963","v":0},{"$f":"TPA$1963","v":0},{"$f":"TPB$1963","v":0},{"$f":"TPC$1963","v":0},{"$f":"TPD$1963","v":0},{"$f":"TPE$1963","v":0},{"$f":"TPF$1963","v":0},{"$f":"TPG$1963","v":0},{"$f":"TPH$1963","v":0},{"$f":"TPI$1963","v":0},{"$f":"TPJ$1963","v":0},{"$f":"TPK$1963","v":0},{"$f":"TPL$1963","v":0},{"$f":"TPM$1963","v":0},{"$f":"TPN$1963","v":0},{"$f":"TPO$1963","v":0},{"$f":"TPP$1963","v":0},{"$f":"TPQ$1963","v":0},{"$f":"TPR$1963","v":0},{"$f":"TPS$1963","v":0},{"$f":"TPT$1963","v":0},{"$f":"TPU$1963","v":0},{"$f":"TPV$1963","v":0},{"$f":"TPW$1963","v":0},{"$f":"TPX$1963","v":0},{"$f":"TPY$1963","v":0},{"$f":"TPZ$1963","v":0},{"$f":"TQA$1963","v":0},{"$f":"TQB$1963","v":0},{"$f":"TQC$1963","v":0},{"$f":"TQD$1963","v":0},{"$f":"TQE$1963","v":0},{"$f":"TQF$1963","v":0},{"$f":"TQG$1963","v":0},{"$f":"TQH$1963","v":0},{"$f":"TQI$1963","v":0},{"$f":"TQJ$1963","v":0},{"$f":"TQK$1963","v":0},{"$f":"TQL$1963","v":0},{"$f":"TQM$1963","v":0},{"$f":"TQN$1963","v":0},{"$f":"TQO$1963","v":0},{"$f":"TQP$1963","v":0},{"$f":"TQQ$1963","v":0},{"$f":"TQR$1963","v":0},{"$f":"TQS$1963","v":0},{"$f":"TQT$1963","v":0},{"$f":"TQU$1963","v":0},{"$f":"TQV$1963","v":0},{"$f":"TQW$1963","v":0},{"$f":"TQX$1963","v":0},{"$f":"TQY$1963","v":0},{"$f":"TQZ$1963","v":0},{"$f":"TRA$1963","v":0},{"$f":"TRB$1963","v":0},{"$f":"TRC$1963","v":0},{"$f":"TRD$1963","v":0},{"$f":"TRE$1963","v":0},{"$f":"TRF$1963","v":0},{"$f":"TRG$1963","v":0},{"$f":"TRH$1963","v":0},{"$f":"TRI$1963","v":0},{"$f":"TRJ$1963","v":0},{"$f":"TRK$1963","v":0},{"$f":"TRL$1963","v":0},{"$f":"TRM$1963","v":0},{"$f":"TRN$1963","v":0},{"$f":"TRO$1963","v":0},{"$f":"TRP$1963","v":0},{"$f":"TRQ$1963","v":0},{"$f":"TRR$1963","v":0},{"$f":"TRS$1963","v":0},{"$f":"TRT$1963","v":0},{"$f":"TRU$1963","v":0},{"$f":"TRV$1963","v":0},{"$f":"TRW$1963","v":0},{"$f":"TRX$1963","v":0},{"$f":"TRY$1963","v":0},{"$f":"TRZ$1963","v":0},{"$f":"TSA$1963","v":0},{"$f":"TSB$1963","v":0},{"$f":"TSC$1963","v":0},{"$f":"TSD$1963","v":0},{"$f":"TSE$1963","v":0},{"$f":"TSF$1963","v":0},{"$f":"TSG$1963","v":0},{"$f":"TSH$1963","v":0},{"$f":"TSI$1963","v":0},{"$f":"TSJ$1963","v":0},{"$f":"TSK$1963","v":0},{"$f":"TSL$1963","v":0},{"$f":"TSM$1963","v":0},{"$f":"TSN$1963","v":0},{"$f":"TSO$1963","v":0},{"$f":"TSP$1963","v":0},{"$f":"TSQ$1963","v":0},{"$f":"TSR$1963","v":0},{"$f":"TSS$1963","v":0},{"$f":"TST$1963","v":0},{"$f":"TSU$1963","v":0},{"$f":"TSV$1963","v":0},{"$f":"TSW$1963","v":0},{"$f":"TSX$1963","v":0},{"$f":"TSY$1963","v":0},{"$f":"TSZ$1963","v":0},{"$f":"TTA$1963","v":0},{"$f":"TTB$1963","v":0},{"$f":"TTC$1963","v":0},{"$f":"TTD$1963","v":0},{"$f":"TTE$1963","v":0},{"$f":"TTF$1963","v":0},{"$f":"TTG$1963","v":0},{"$f":"TTH$1963","v":0},{"$f":"TTI$1963","v":0},{"$f":"TTJ$1963","v":0},{"$f":"TTK$1963","v":0},{"$f":"TTL$1963","v":0},{"$f":"TTM$1963","v":0},{"$f":"TTN$1963","v":0},{"$f":"TTO$1963","v":0},{"$f":"TTP$1963","v":0},{"$f":"TTQ$1963","v":0},{"$f":"TTR$1963","v":0},{"$f":"TTS$1963","v":0},{"$f":"TTT$1963","v":0},{"$f":"TTU$1963","v":0},{"$f":"TTV$1963","v":0},{"$f":"TTW$1963","v":0},{"$f":"TTX$1963","v":0},{"$f":"TTY$1963","v":0},{"$f":"TTZ$1963","v":0},{"$f":"TUA$1963","v":0},{"$f":"TUB$1963","v":0},{"$f":"TUC$1963","v":0},{"$f":"TUD$1963","v":0},{"$f":"TUE$1963","v":0},{"$f":"TUF$1963","v":0},{"$f":"TUG$1963","v":0},{"$f":"TUH$1963","v":0},{"$f":"TUI$1963","v":0},{"$f":"TUJ$1963","v":0},{"$f":"TUK$1963","v":0},{"$f":"TUL$1963","v":0},{"$f":"TUM$1963","v":0},{"$f":"TUN$1963","v":0},{"$f":"TUO$1963","v":0},{"$f":"TUP$1963","v":0},{"$f":"TUQ$1963","v":0},{"$f":"TUR$1963","v":0},{"$f":"TUS$1963","v":0},{"$f":"TUT$1963","v":0},{"$f":"TUU$1963","v":0},{"$f":"TUV$1963","v":0},{"$f":"TUW$1963","v":0},{"$f":"TUX$1963","v":0},{"$f":"TUY$1963","v":0},{"$f":"TUZ$1963","v":0},{"$f":"TVA$1963","v":0},{"$f":"TVB$1963","v":0},{"$f":"TVC$1963","v":0},{"$f":"TVD$1963","v":0},{"$f":"TVE$1963","v":0},{"$f":"TVF$1963","v":0},{"$f":"TVG$1963","v":0},{"$f":"TVH$1963","v":0},{"$f":"TVI$1963","v":0},{"$f":"TVJ$1963","v":0},{"$f":"TVK$1963","v":0},{"$f":"TVL$1963","v":0},{"$f":"TVM$1963","v":0},{"$f":"TVN$1963","v":0},{"$f":"TVO$1963","v":0},{"$f":"TVP$1963","v":0},{"$f":"TVQ$1963","v":0},{"$f":"TVR$1963","v":0},{"$f":"TVS$1963","v":0},{"$f":"TVT$1963","v":0},{"$f":"TVU$1963","v":0},{"$f":"TVV$1963","v":0},{"$f":"TVW$1963","v":0},{"$f":"TVX$1963","v":0},{"$f":"TVY$1963","v":0},{"$f":"TVZ$1963","v":0},{"$f":"TWA$1963","v":0},{"$f":"TWB$1963","v":0},{"$f":"TWC$1963","v":0},{"$f":"TWD$1963","v":0},{"$f":"TWE$1963","v":0},{"$f":"TWF$1963","v":0},{"$f":"TWG$1963","v":0},{"$f":"TWH$1963","v":0},{"$f":"TWI$1963","v":0},{"$f":"TWJ$1963","v":0},{"$f":"TWK$1963","v":0},{"$f":"TWL$1963","v":0},{"$f":"TWM$1963","v":0},{"$f":"TWN$1963","v":0},{"$f":"TWO$1963","v":0},{"$f":"TWP$1963","v":0},{"$f":"TWQ$1963","v":0},{"$f":"TWR$1963","v":0},{"$f":"TWS$1963","v":0},{"$f":"TWT$1963","v":0},{"$f":"TWU$1963","v":0},{"$f":"TWV$1963","v":0},{"$f":"TWW$1963","v":0},{"$f":"TWX$1963","v":0},{"$f":"TWY$1963","v":0},{"$f":"TWZ$1963","v":0},{"$f":"TXA$1963","v":0},{"$f":"TXB$1963","v":0},{"$f":"TXC$1963","v":0},{"$f":"TXD$1963","v":0},{"$f":"TXE$1963","v":0},{"$f":"TXF$1963","v":0},{"$f":"TXG$1963","v":0},{"$f":"TXH$1963","v":0},{"$f":"TXI$1963","v":0},{"$f":"TXJ$1963","v":0},{"$f":"TXK$1963","v":0},{"$f":"TXL$1963","v":0},{"$f":"TXM$1963","v":0},{"$f":"TXN$1963","v":0},{"$f":"TXO$1963","v":0},{"$f":"TXP$1963","v":0},{"$f":"TXQ$1963","v":0},{"$f":"TXR$1963","v":0},{"$f":"TXS$1963","v":0},{"$f":"TXT$1963","v":0},{"$f":"TXU$1963","v":0},{"$f":"TXV$1963","v":0},{"$f":"TXW$1963","v":0},{"$f":"TXX$1963","v":0},{"$f":"TXY$1963","v":0},{"$f":"TXZ$1963","v":0},{"$f":"TYA$1963","v":0},{"$f":"TYB$1963","v":0},{"$f":"TYC$1963","v":0},{"$f":"TYD$1963","v":0},{"$f":"TYE$1963","v":0},{"$f":"TYF$1963","v":0},{"$f":"TYG$1963","v":0},{"$f":"TYH$1963","v":0},{"$f":"TYI$1963","v":0},{"$f":"TYJ$1963","v":0},{"$f":"TYK$1963","v":0},{"$f":"TYL$1963","v":0},{"$f":"TYM$1963","v":0},{"$f":"TYN$1963","v":0},{"$f":"TYO$1963","v":0},{"$f":"TYP$1963","v":0},{"$f":"TYQ$1963","v":0},{"$f":"TYR$1963","v":0},{"$f":"TYS$1963","v":0},{"$f":"TYT$1963","v":0},{"$f":"TYU$1963","v":0},{"$f":"TYV$1963","v":0},{"$f":"TYW$1963","v":0},{"$f":"TYX$1963","v":0},{"$f":"TYY$1963","v":0},{"$f":"TYZ$1963","v":0},{"$f":"TZA$1963","v":0},{"$f":"TZB$1963","v":0},{"$f":"TZC$1963","v":0},{"$f":"TZD$1963","v":0},{"$f":"TZE$1963","v":0},{"$f":"TZF$1963","v":0},{"$f":"TZG$1963","v":0},{"$f":"TZH$1963","v":0},{"$f":"TZI$1963","v":0},{"$f":"TZJ$1963","v":0},{"$f":"TZK$1963","v":0},{"$f":"TZL$1963","v":0},{"$f":"TZM$1963","v":0},{"$f":"TZN$1963","v":0},{"$f":"TZO$1963","v":0},{"$f":"TZP$1963","v":0},{"$f":"TZQ$1963","v":0},{"$f":"TZR$1963","v":0},{"$f":"TZS$1963","v":0},{"$f":"TZT$1963","v":0},{"$f":"TZU$1963","v":0},{"$f":"TZV$1963","v":0},{"$f":"TZW$1963","v":0},{"$f":"TZX$1963","v":0},{"$f":"TZY$1963","v":0},{"$f":"TZZ$1963","v":0},{"$f":"UAA$1963","v":0},{"$f":"UAB$1963","v":0},{"$f":"UAC$1963","v":0},{"$f":"UAD$1963","v":0},{"$f":"UAE$1963","v":0},{"$f":"UAF$1963","v":0},{"$f":"UAG$1963","v":0},{"$f":"UAH$1963","v":0},{"$f":"UAI$1963","v":0},{"$f":"UAJ$1963","v":0},{"$f":"UAK$1963","v":0},{"$f":"UAL$1963","v":0},{"$f":"UAM$1963","v":0},{"$f":"UAN$1963","v":0},{"$f":"UAO$1963","v":0},{"$f":"UAP$1963","v":0},{"$f":"UAQ$1963","v":0},{"$f":"UAR$1963","v":0},{"$f":"UAS$1963","v":0},{"$f":"UAT$1963","v":0},{"$f":"UAU$1963","v":0},{"$f":"UAV$1963","v":0},{"$f":"UAW$1963","v":0},{"$f":"UAX$1963","v":0},{"$f":"UAY$1963","v":0},{"$f":"UAZ$1963","v":0},{"$f":"UBA$1963","v":0},{"$f":"UBB$1963","v":0},{"$f":"UBC$1963","v":0},{"$f":"UBD$1963","v":0},{"$f":"UBE$1963","v":0},{"$f":"UBF$1963","v":0},{"$f":"UBG$1963","v":0},{"$f":"UBH$1963","v":0},{"$f":"UBI$1963","v":0},{"$f":"UBJ$1963","v":0},{"$f":"UBK$1963","v":0},{"$f":"UBL$1963","v":0},{"$f":"UBM$1963","v":0},{"$f":"UBN$1963","v":0},{"$f":"UBO$1963","v":0},{"$f":"UBP$1963","v":0},{"$f":"UBQ$1963","v":0},{"$f":"UBR$1963","v":0},{"$f":"UBS$1963","v":0},{"$f":"UBT$1963","v":0},{"$f":"UBU$1963","v":0},{"$f":"UBV$1963","v":0},{"$f":"UBW$1963","v":0},{"$f":"UBX$1963","v":0},{"$f":"UBY$1963","v":0},{"$f":"UBZ$1963","v":0},{"$f":"UCA$1963","v":0},{"$f":"UCB$1963","v":0},{"$f":"UCC$1963","v":0},{"$f":"UCD$1963","v":0},{"$f":"UCE$1963","v":0},{"$f":"UCF$1963","v":0},{"$f":"UCG$1963","v":0},{"$f":"UCH$1963","v":0},{"$f":"UCI$1963","v":0},{"$f":"UCJ$1963","v":0},{"$f":"UCK$1963","v":0},{"$f":"UCL$1963","v":0},{"$f":"UCM$1963","v":0},{"$f":"UCN$1963","v":0},{"$f":"UCO$1963","v":0},{"$f":"UCP$1963","v":0},{"$f":"UCQ$1963","v":0},{"$f":"UCR$1963","v":0},{"$f":"UCS$1963","v":0},{"$f":"UCT$1963","v":0},{"$f":"UCU$1963","v":0},{"$f":"UCV$1963","v":0},{"$f":"UCW$1963","v":0},{"$f":"UCX$1963","v":0},{"$f":"UCY$1963","v":0},{"$f":"UCZ$1963","v":0},{"$f":"UDA$1963","v":0},{"$f":"UDB$1963","v":0},{"$f":"UDC$1963","v":0},{"$f":"UDD$1963","v":0},{"$f":"UDE$1963","v":0},{"$f":"UDF$1963","v":0},{"$f":"UDG$1963","v":0},{"$f":"UDH$1963","v":0},{"$f":"UDI$1963","v":0},{"$f":"UDJ$1963","v":0},{"$f":"UDK$1963","v":0},{"$f":"UDL$1963","v":0},{"$f":"UDM$1963","v":0},{"$f":"UDN$1963","v":0},{"$f":"UDO$1963","v":0},{"$f":"UDP$1963","v":0},{"$f":"UDQ$1963","v":0},{"$f":"UDR$1963","v":0},{"$f":"UDS$1963","v":0},{"$f":"UDT$1963","v":0},{"$f":"UDU$1963","v":0},{"$f":"UDV$1963","v":0},{"$f":"UDW$1963","v":0},{"$f":"UDX$1963","v":0},{"$f":"UDY$1963","v":0},{"$f":"UDZ$1963","v":0},{"$f":"UEA$1963","v":0},{"$f":"UEB$1963","v":0},{"$f":"UEC$1963","v":0},{"$f":"UED$1963","v":0},{"$f":"UEE$1963","v":0},{"$f":"UEF$1963","v":0},{"$f":"UEG$1963","v":0},{"$f":"UEH$1963","v":0},{"$f":"UEI$1963","v":0},{"$f":"UEJ$1963","v":0},{"$f":"UEK$1963","v":0},{"$f":"UEL$1963","v":0},{"$f":"UEM$1963","v":0},{"$f":"UEN$1963","v":0},{"$f":"UEO$1963","v":0},{"$f":"UEP$1963","v":0},{"$f":"UEQ$1963","v":0},{"$f":"UER$1963","v":0},{"$f":"UES$1963","v":0},{"$f":"UET$1963","v":0},{"$f":"UEU$1963","v":0},{"$f":"UEV$1963","v":0},{"$f":"UEW$1963","v":0},{"$f":"UEX$1963","v":0},{"$f":"UEY$1963","v":0},{"$f":"UEZ$1963","v":0},{"$f":"UFA$1963","v":0},{"$f":"UFB$1963","v":0},{"$f":"UFC$1963","v":0},{"$f":"UFD$1963","v":0},{"$f":"UFE$1963","v":0},{"$f":"UFF$1963","v":0},{"$f":"UFG$1963","v":0},{"$f":"UFH$1963","v":0},{"$f":"UFI$1963","v":0},{"$f":"UFJ$1963","v":0},{"$f":"UFK$1963","v":0},{"$f":"UFL$1963","v":0},{"$f":"UFM$1963","v":0},{"$f":"UFN$1963","v":0},{"$f":"UFO$1963","v":0},{"$f":"UFP$1963","v":0},{"$f":"UFQ$1963","v":0},{"$f":"UFR$1963","v":0},{"$f":"UFS$1963","v":0},{"$f":"UFT$1963","v":0},{"$f":"UFU$1963","v":0},{"$f":"UFV$1963","v":0},{"$f":"UFW$1963","v":0},{"$f":"UFX$1963","v":0},{"$f":"UFY$1963","v":0},{"$f":"UFZ$1963","v":0},{"$f":"UGA$1963","v":0},{"$f":"UGB$1963","v":0},{"$f":"UGC$1963","v":0},{"$f":"UGD$1963","v":0},{"$f":"UGE$1963","v":0},{"$f":"UGF$1963","v":0},{"$f":"UGG$1963","v":0},{"$f":"UGH$1963","v":0},{"$f":"UGI$1963","v":0},{"$f":"UGJ$1963","v":0},{"$f":"UGK$1963","v":0},{"$f":"UGL$1963","v":0},{"$f":"UGM$1963","v":0},{"$f":"UGN$1963","v":0},{"$f":"UGO$1963","v":0},{"$f":"UGP$1963","v":0},{"$f":"UGQ$1963","v":0},{"$f":"UGR$1963","v":0},{"$f":"UGS$1963","v":0},{"$f":"UGT$1963","v":0},{"$f":"UGU$1963","v":0},{"$f":"UGV$1963","v":0},{"$f":"UGW$1963","v":0},{"$f":"UGX$1963","v":0},{"$f":"UGY$1963","v":0},{"$f":"UGZ$1963","v":0},{"$f":"UHA$1963","v":0},{"$f":"UHB$1963","v":0},{"$f":"UHC$1963","v":0},{"$f":"UHD$1963","v":0},{"$f":"UHE$1963","v":0},{"$f":"UHF$1963","v":0},{"$f":"UHG$1963","v":0},{"$f":"UHH$1963","v":0},{"$f":"UHI$1963","v":0},{"$f":"UHJ$1963","v":0},{"$f":"UHK$1963","v":0},{"$f":"UHL$1963","v":0},{"$f":"UHM$1963","v":0},{"$f":"UHN$1963","v":0},{"$f":"UHO$1963","v":0},{"$f":"UHP$1963","v":0},{"$f":"UHQ$1963","v":0},{"$f":"UHR$1963","v":0},{"$f":"UHS$1963","v":0},{"$f":"UHT$1963","v":0},{"$f":"UHU$1963","v":0},{"$f":"UHV$1963","v":0},{"$f":"UHW$1963","v":0},{"$f":"UHX$1963","v":0},{"$f":"UHY$1963","v":0},{"$f":"UHZ$1963","v":0},{"$f":"UIA$1963","v":0},{"$f":"UIB$1963","v":0},{"$f":"UIC$1963","v":0},{"$f":"UID$1963","v":0},{"$f":"UIE$1963","v":0},{"$f":"UIF$1963","v":0},{"$f":"UIG$1963","v":0},{"$f":"UIH$1963","v":0},{"$f":"UII$1963","v":0},{"$f":"UIJ$1963","v":0},{"$f":"UIK$1963","v":0},{"$f":"UIL$1963","v":0},{"$f":"UIM$1963","v":0},{"$f":"UIN$1963","v":0},{"$f":"UIO$1963","v":0},{"$f":"UIP$1963","v":0},{"$f":"UIQ$1963","v":0},{"$f":"UIR$1963","v":0},{"$f":"UIS$1963","v":0},{"$f":"UIT$1963","v":0},{"$f":"UIU$1963","v":0},{"$f":"UIV$1963","v":0},{"$f":"UIW$1963","v":0},{"$f":"UIX$1963","v":0},{"$f":"UIY$1963","v":0},{"$f":"UIZ$1963","v":0},{"$f":"UJA$1963","v":0},{"$f":"UJB$1963","v":0},{"$f":"UJC$1963","v":0},{"$f":"UJD$1963","v":0},{"$f":"UJE$1963","v":0},{"$f":"UJF$1963","v":0},{"$f":"UJG$1963","v":0},{"$f":"UJH$1963","v":0},{"$f":"UJI$1963","v":0},{"$f":"UJJ$1963","v":0},{"$f":"UJK$1963","v":0},{"$f":"UJL$1963","v":0},{"$f":"UJM$1963","v":0},{"$f":"UJN$1963","v":0},{"$f":"UJO$1963","v":0},{"$f":"UJP$1963","v":0},{"$f":"UJQ$1963","v":0},{"$f":"UJR$1963","v":0},{"$f":"UJS$1963","v":0},{"$f":"UJT$1963","v":0},{"$f":"UJU$1963","v":0},{"$f":"UJV$1963","v":0},{"$f":"UJW$1963","v":0},{"$f":"UJX$1963","v":0},{"$f":"UJY$1963","v":0},{"$f":"UJZ$1963","v":0},{"$f":"UKA$1963","v":0},{"$f":"UKB$1963","v":0},{"$f":"UKC$1963","v":0},{"$f":"UKD$1963","v":0},{"$f":"UKE$1963","v":0},{"$f":"UKF$1963","v":0},{"$f":"UKG$1963","v":0},{"$f":"UKH$1963","v":0},{"$f":"UKI$1963","v":0},{"$f":"UKJ$1963","v":0},{"$f":"UKK$1963","v":0},{"$f":"UKL$1963","v":0},{"$f":"UKM$1963","v":0},{"$f":"UKN$1963","v":0},{"$f":"UKO$1963","v":0},{"$f":"UKP$1963","v":0},{"$f":"UKQ$1963","v":0},{"$f":"UKR$1963","v":0},{"$f":"UKS$1963","v":0},{"$f":"UKT$1963","v":0},{"$f":"UKU$1963","v":0},{"$f":"UKV$1963","v":0},{"$f":"UKW$1963","v":0},{"$f":"UKX$1963","v":0},{"$f":"UKY$1963","v":0},{"$f":"UKZ$1963","v":0},{"$f":"ULA$1963","v":0},{"$f":"ULB$1963","v":0},{"$f":"ULC$1963","v":0},{"$f":"ULD$1963","v":0},{"$f":"ULE$1963","v":0},{"$f":"ULF$1963","v":0},{"$f":"ULG$1963","v":0},{"$f":"ULH$1963","v":0},{"$f":"ULI$1963","v":0},{"$f":"ULJ$1963","v":0},{"$f":"ULK$1963","v":0},{"$f":"ULL$1963","v":0},{"$f":"ULM$1963","v":0},{"$f":"ULN$1963","v":0},{"$f":"ULO$1963","v":0},{"$f":"ULP$1963","v":0},{"$f":"ULQ$1963","v":0},{"$f":"ULR$1963","v":0},{"$f":"ULS$1963","v":0},{"$f":"ULT$1963","v":0},{"$f":"ULU$1963","v":0},{"$f":"ULV$1963","v":0},{"$f":"ULW$1963","v":0},{"$f":"ULX$1963","v":0},{"$f":"ULY$1963","v":0},{"$f":"ULZ$1963","v":0},{"$f":"UMA$1963","v":0},{"$f":"UMB$1963","v":0},{"$f":"UMC$1963","v":0},{"$f":"UMD$1963","v":0},{"$f":"UME$1963","v":0},{"$f":"UMF$1963","v":0},{"$f":"UMG$1963","v":0},{"$f":"UMH$1963","v":0},{"$f":"UMI$1963","v":0},{"$f":"UMJ$1963","v":0},{"$f":"UMK$1963","v":0},{"$f":"UML$1963","v":0},{"$f":"UMM$1963","v":0},{"$f":"UMN$1963","v":0},{"$f":"UMO$1963","v":0},{"$f":"UMP$1963","v":0},{"$f":"UMQ$1963","v":0},{"$f":"UMR$1963","v":0},{"$f":"UMS$1963","v":0},{"$f":"UMT$1963","v":0},{"$f":"UMU$1963","v":0},{"$f":"UMV$1963","v":0},{"$f":"UMW$1963","v":0},{"$f":"UMX$1963","v":0},{"$f":"UMY$1963","v":0},{"$f":"UMZ$1963","v":0},{"$f":"UNA$1963","v":0},{"$f":"UNB$1963","v":0},{"$f":"UNC$1963","v":0},{"$f":"UND$1963","v":0},{"$f":"UNE$1963","v":0},{"$f":"UNF$1963","v":0},{"$f":"UNG$1963","v":0},{"$f":"UNH$1963","v":0},{"$f":"UNI$1963","v":0},{"$f":"UNJ$1963","v":0},{"$f":"UNK$1963","v":0},{"$f":"UNL$1963","v":0},{"$f":"UNM$1963","v":0},{"$f":"UNN$1963","v":0},{"$f":"UNO$1963","v":0},{"$f":"UNP$1963","v":0},{"$f":"UNQ$1963","v":0},{"$f":"UNR$1963","v":0},{"$f":"UNS$1963","v":0},{"$f":"UNT$1963","v":0},{"$f":"UNU$1963","v":0},{"$f":"UNV$1963","v":0},{"$f":"UNW$1963","v":0},{"$f":"UNX$1963","v":0},{"$f":"UNY$1963","v":0},{"$f":"UNZ$1963","v":0},{"$f":"UOA$1963","v":0},{"$f":"UOB$1963","v":0},{"$f":"UOC$1963","v":0},{"$f":"UOD$1963","v":0},{"$f":"UOE$1963","v":0},{"$f":"UOF$1963","v":0},{"$f":"UOG$1963","v":0},{"$f":"UOH$1963","v":0},{"$f":"UOI$1963","v":0},{"$f":"UOJ$1963","v":0},{"$f":"UOK$1963","v":0},{"$f":"UOL$1963","v":0},{"$f":"UOM$1963","v":0},{"$f":"UON$1963","v":0},{"$f":"UOO$1963","v":0},{"$f":"UOP$1963","v":0},{"$f":"UOQ$1963","v":0},{"$f":"UOR$1963","v":0},{"$f":"UOS$1963","v":0},{"$f":"UOT$1963","v":0},{"$f":"UOU$1963","v":0},{"$f":"UOV$1963","v":0},{"$f":"UOW$1963","v":0},{"$f":"UOX$1963","v":0},{"$f":"UOY$1963","v":0},{"$f":"UOZ$1963","v":0},{"$f":"UPA$1963","v":0},{"$f":"UPB$1963","v":0},{"$f":"UPC$1963","v":0},{"$f":"UPD$1963","v":0},{"$f":"UPE$1963","v":0},{"$f":"UPF$1963","v":0},{"$f":"UPG$1963","v":0},{"$f":"UPH$1963","v":0},{"$f":"UPI$1963","v":0},{"$f":"UPJ$1963","v":0},{"$f":"UPK$1963","v":0},{"$f":"UPL$1963","v":0},{"$f":"UPM$1963","v":0},{"$f":"UPN$1963","v":0},{"$f":"UPO$1963","v":0},{"$f":"UPP$1963","v":0},{"$f":"UPQ$1963","v":0},{"$f":"UPR$1963","v":0},{"$f":"UPS$1963","v":0},{"$f":"UPT$1963","v":0},{"$f":"UPU$1963","v":0},{"$f":"UPV$1963","v":0},{"$f":"UPW$1963","v":0},{"$f":"UPX$1963","v":0},{"$f":"UPY$1963","v":0},{"$f":"UPZ$1963","v":0},{"$f":"UQA$1963","v":0},{"$f":"UQB$1963","v":0},{"$f":"UQC$1963","v":0},{"$f":"UQD$1963","v":0},{"$f":"UQE$1963","v":0},{"$f":"UQF$1963","v":0},{"$f":"UQG$1963","v":0},{"$f":"UQH$1963","v":0},{"$f":"UQI$1963","v":0},{"$f":"UQJ$1963","v":0},{"$f":"UQK$1963","v":0},{"$f":"UQL$1963","v":0},{"$f":"UQM$1963","v":0},{"$f":"UQN$1963","v":0},{"$f":"UQO$1963","v":0},{"$f":"UQP$1963","v":0},{"$f":"UQQ$1963","v":0},{"$f":"UQR$1963","v":0},{"$f":"UQS$1963","v":0},{"$f":"UQT$1963","v":0},{"$f":"UQU$1963","v":0},{"$f":"UQV$1963","v":0},{"$f":"UQW$1963","v":0},{"$f":"UQX$1963","v":0},{"$f":"UQY$1963","v":0},{"$f":"UQZ$1963","v":0},{"$f":"URA$1963","v":0},{"$f":"URB$1963","v":0},{"$f":"URC$1963","v":0},{"$f":"URD$1963","v":0},{"$f":"URE$1963","v":0},{"$f":"URF$1963","v":0},{"$f":"URG$1963","v":0},{"$f":"URH$1963","v":0},{"$f":"URI$1963","v":0},{"$f":"URJ$1963","v":0},{"$f":"URK$1963","v":0},{"$f":"URL$1963","v":0},{"$f":"URM$1963","v":0},{"$f":"URN$1963","v":0},{"$f":"URO$1963","v":0},{"$f":"URP$1963","v":0},{"$f":"URQ$1963","v":0},{"$f":"URR$1963","v":0},{"$f":"URS$1963","v":0},{"$f":"URT$1963","v":0},{"$f":"URU$1963","v":0},{"$f":"URV$1963","v":0},{"$f":"URW$1963","v":0},{"$f":"URX$1963","v":0},{"$f":"URY$1963","v":0},{"$f":"URZ$1963","v":0},{"$f":"USA$1963","v":0},{"$f":"USB$1963","v":0},{"$f":"USC$1963","v":0},{"$f":"USD$1963","v":0},{"$f":"USE$1963","v":0},{"$f":"USF$1963","v":0},{"$f":"USG$1963","v":0},{"$f":"USH$1963","v":0},{"$f":"USI$1963","v":0},{"$f":"USJ$1963","v":0},{"$f":"USK$1963","v":0},{"$f":"USL$1963","v":0},{"$f":"USM$1963","v":0},{"$f":"USN$1963","v":0},{"$f":"USO$1963","v":0},{"$f":"USP$1963","v":0},{"$f":"USQ$1963","v":0},{"$f":"USR$1963","v":0},{"$f":"USS$1963","v":0},{"$f":"UST$1963","v":0},{"$f":"USU$1963","v":0},{"$f":"USV$1963","v":0},{"$f":"USW$1963","v":0},{"$f":"USX$1963","v":0},{"$f":"USY$1963","v":0},{"$f":"USZ$1963","v":0},{"$f":"UTA$1963","v":0},{"$f":"UTB$1963","v":0},{"$f":"UTC$1963","v":0},{"$f":"UTD$1963","v":0},{"$f":"UTE$1963","v":0},{"$f":"UTF$1963","v":0},{"$f":"UTG$1963","v":0},{"$f":"UTH$1963","v":0},{"$f":"UTI$1963","v":0},{"$f":"UTJ$1963","v":0},{"$f":"UTK$1963","v":0},{"$f":"UTL$1963","v":0},{"$f":"UTM$1963","v":0},{"$f":"UTN$1963","v":0},{"$f":"UTO$1963","v":0},{"$f":"UTP$1963","v":0},{"$f":"UTQ$1963","v":0},{"$f":"UTR$1963","v":0},{"$f":"UTS$1963","v":0},{"$f":"UTT$1963","v":0},{"$f":"UTU$1963","v":0},{"$f":"UTV$1963","v":0},{"$f":"UTW$1963","v":0},{"$f":"UTX$1963","v":0},{"$f":"UTY$1963","v":0},{"$f":"UTZ$1963","v":0},{"$f":"UUA$1963","v":0},{"$f":"UUB$1963","v":0},{"$f":"UUC$1963","v":0},{"$f":"UUD$1963","v":0},{"$f":"UUE$1963","v":0},{"$f":"UUF$1963","v":0},{"$f":"UUG$1963","v":0},{"$f":"UUH$1963","v":0},{"$f":"UUI$1963","v":0},{"$f":"UUJ$1963","v":0},{"$f":"UUK$1963","v":0},{"$f":"UUL$1963","v":0},{"$f":"UUM$1963","v":0},{"$f":"UUN$1963","v":0},{"$f":"UUO$1963","v":0},{"$f":"UUP$1963","v":0},{"$f":"UUQ$1963","v":0},{"$f":"UUR$1963","v":0},{"$f":"UUS$1963","v":0},{"$f":"UUT$1963","v":0},{"$f":"UUU$1963","v":0},{"$f":"UUV$1963","v":0},{"$f":"UUW$1963","v":0},{"$f":"UUX$1963","v":0},{"$f":"UUY$1963","v":0},{"$f":"UUZ$1963","v":0},{"$f":"UVA$1963","v":0},{"$f":"UVB$1963","v":0},{"$f":"UVC$1963","v":0},{"$f":"UVD$1963","v":0},{"$f":"UVE$1963","v":0},{"$f":"UVF$1963","v":0},{"$f":"UVG$1963","v":0},{"$f":"UVH$1963","v":0},{"$f":"UVI$1963","v":0},{"$f":"UVJ$1963","v":0},{"$f":"UVK$1963","v":0},{"$f":"UVL$1963","v":0},{"$f":"UVM$1963","v":0},{"$f":"UVN$1963","v":0},{"$f":"UVO$1963","v":0},{"$f":"UVP$1963","v":0},{"$f":"UVQ$1963","v":0},{"$f":"UVR$1963","v":0},{"$f":"UVS$1963","v":0},{"$f":"UVT$1963","v":0},{"$f":"UVU$1963","v":0},{"$f":"UVV$1963","v":0},{"$f":"UVW$1963","v":0},{"$f":"UVX$1963","v":0},{"$f":"UVY$1963","v":0},{"$f":"UVZ$1963","v":0},{"$f":"UWA$1963","v":0},{"$f":"UWB$1963","v":0},{"$f":"UWC$1963","v":0},{"$f":"UWD$1963","v":0},{"$f":"UWE$1963","v":0},{"$f":"UWF$1963","v":0},{"$f":"UWG$1963","v":0},{"$f":"UWH$1963","v":0},{"$f":"UWI$1963","v":0},{"$f":"UWJ$1963","v":0},{"$f":"UWK$1963","v":0},{"$f":"UWL$1963","v":0},{"$f":"UWM$1963","v":0},{"$f":"UWN$1963","v":0},{"$f":"UWO$1963","v":0},{"$f":"UWP$1963","v":0},{"$f":"UWQ$1963","v":0},{"$f":"UWR$1963","v":0},{"$f":"UWS$1963","v":0},{"$f":"UWT$1963","v":0},{"$f":"UWU$1963","v":0},{"$f":"UWV$1963","v":0},{"$f":"UWW$1963","v":0},{"$f":"UWX$1963","v":0},{"$f":"UWY$1963","v":0},{"$f":"UWZ$1963","v":0},{"$f":"UXA$1963","v":0},{"$f":"UXB$1963","v":0},{"$f":"UXC$1963","v":0},{"$f":"UXD$1963","v":0},{"$f":"UXE$1963","v":0},{"$f":"UXF$1963","v":0},{"$f":"UXG$1963","v":0},{"$f":"UXH$1963","v":0},{"$f":"UXI$1963","v":0},{"$f":"UXJ$1963","v":0},{"$f":"UXK$1963","v":0},{"$f":"UXL$1963","v":0},{"$f":"UXM$1963","v":0},{"$f":"UXN$1963","v":0},{"$f":"UXO$1963","v":0},{"$f":"UXP$1963","v":0},{"$f":"UXQ$1963","v":0},{"$f":"UXR$1963","v":0},{"$f":"UXS$1963","v":0},{"$f":"UXT$1963","v":0},{"$f":"UXU$1963","v":0},{"$f":"UXV$1963","v":0},{"$f":"UXW$1963","v":0},{"$f":"UXX$1963","v":0},{"$f":"UXY$1963","v":0},{"$f":"UXZ$1963","v":0},{"$f":"UYA$1963","v":0},{"$f":"UYB$1963","v":0},{"$f":"UYC$1963","v":0},{"$f":"UYD$1963","v":0},{"$f":"UYE$1963","v":0},{"$f":"UYF$1963","v":0},{"$f":"UYG$1963","v":0},{"$f":"UYH$1963","v":0},{"$f":"UYI$1963","v":0},{"$f":"UYJ$1963","v":0},{"$f":"UYK$1963","v":0},{"$f":"UYL$1963","v":0},{"$f":"UYM$1963","v":0},{"$f":"UYN$1963","v":0},{"$f":"UYO$1963","v":0},{"$f":"UYP$1963","v":0},{"$f":"UYQ$1963","v":0},{"$f":"UYR$1963","v":0},{"$f":"UYS$1963","v":0},{"$f":"UYT$1963","v":0},{"$f":"UYU$1963","v":0},{"$f":"UYV$1963","v":0},{"$f":"UYW$1963","v":0},{"$f":"UYX$1963","v":0},{"$f":"UYY$1963","v":0},{"$f":"UYZ$1963","v":0},{"$f":"UZA$1963","v":0},{"$f":"UZB$1963","v":0},{"$f":"UZC$1963","v":0},{"$f":"UZD$1963","v":0},{"$f":"UZE$1963","v":0},{"$f":"UZF$1963","v":0},{"$f":"UZG$1963","v":0},{"$f":"UZH$1963","v":0},{"$f":"UZI$1963","v":0},{"$f":"UZJ$1963","v":0},{"$f":"UZK$1963","v":0},{"$f":"UZL$1963","v":0},{"$f":"UZM$1963","v":0},{"$f":"UZN$1963","v":0},{"$f":"UZO$1963","v":0},{"$f":"UZP$1963","v":0},{"$f":"UZQ$1963","v":0},{"$f":"UZR$1963","v":0},{"$f":"UZS$1963","v":0},{"$f":"UZT$1963","v":0},{"$f":"UZU$1963","v":0},{"$f":"UZV$1963","v":0},{"$f":"UZW$1963","v":0},{"$f":"UZX$1963","v":0},{"$f":"UZY$1963","v":0},{"$f":"UZZ$1963","v":0},{"$f":"VAA$1963","v":0},{"$f":"VAB$1963","v":0},{"$f":"VAC$1963","v":0},{"$f":"VAD$1963","v":0},{"$f":"VAE$1963","v":0},{"$f":"VAF$1963","v":0},{"$f":"VAG$1963","v":0},{"$f":"VAH$1963","v":0},{"$f":"VAI$1963","v":0},{"$f":"VAJ$1963","v":0},{"$f":"VAK$1963","v":0},{"$f":"VAL$1963","v":0},{"$f":"VAM$1963","v":0},{"$f":"VAN$1963","v":0},{"$f":"VAO$1963","v":0},{"$f":"VAP$1963","v":0},{"$f":"VAQ$1963","v":0},{"$f":"VAR$1963","v":0},{"$f":"VAS$1963","v":0},{"$f":"VAT$1963","v":0},{"$f":"VAU$1963","v":0},{"$f":"VAV$1963","v":0},{"$f":"VAW$1963","v":0},{"$f":"VAX$1963","v":0},{"$f":"VAY$1963","v":0},{"$f":"VAZ$1963","v":0},{"$f":"VBA$1963","v":0},{"$f":"VBB$1963","v":0},{"$f":"VBC$1963","v":0},{"$f":"VBD$1963","v":0},{"$f":"VBE$1963","v":0},{"$f":"VBF$1963","v":0},{"$f":"VBG$1963","v":0},{"$f":"VBH$1963","v":0},{"$f":"VBI$1963","v":0},{"$f":"VBJ$1963","v":0},{"$f":"VBK$1963","v":0},{"$f":"VBL$1963","v":0},{"$f":"VBM$1963","v":0},{"$f":"VBN$1963","v":0},{"$f":"VBO$1963","v":0},{"$f":"VBP$1963","v":0},{"$f":"VBQ$1963","v":0},{"$f":"VBR$1963","v":0},{"$f":"VBS$1963","v":0},{"$f":"VBT$1963","v":0},{"$f":"VBU$1963","v":0},{"$f":"VBV$1963","v":0},{"$f":"VBW$1963","v":0},{"$f":"VBX$1963","v":0},{"$f":"VBY$1963","v":0},{"$f":"VBZ$1963","v":0},{"$f":"VCA$1963","v":0},{"$f":"VCB$1963","v":0},{"$f":"VCC$1963","v":0},{"$f":"VCD$1963","v":0},{"$f":"VCE$1963","v":0},{"$f":"VCF$1963","v":0},{"$f":"VCG$1963","v":0},{"$f":"VCH$1963","v":0},{"$f":"VCI$1963","v":0},{"$f":"VCJ$1963","v":0},{"$f":"VCK$1963","v":0},{"$f":"VCL$1963","v":0},{"$f":"VCM$1963","v":0},{"$f":"VCN$1963","v":0},{"$f":"VCO$1963","v":0},{"$f":"VCP$1963","v":0},{"$f":"VCQ$1963","v":0},{"$f":"VCR$1963","v":0},{"$f":"VCS$1963","v":0},{"$f":"VCT$1963","v":0},{"$f":"VCU$1963","v":0},{"$f":"VCV$1963","v":0},{"$f":"VCW$1963","v":0},{"$f":"VCX$1963","v":0},{"$f":"VCY$1963","v":0},{"$f":"VCZ$1963","v":0},{"$f":"VDA$1963","v":0},{"$f":"VDB$1963","v":0},{"$f":"VDC$1963","v":0},{"$f":"VDD$1963","v":0},{"$f":"VDE$1963","v":0},{"$f":"VDF$1963","v":0},{"$f":"VDG$1963","v":0},{"$f":"VDH$1963","v":0},{"$f":"VDI$1963","v":0},{"$f":"VDJ$1963","v":0},{"$f":"VDK$1963","v":0},{"$f":"VDL$1963","v":0},{"$f":"VDM$1963","v":0},{"$f":"VDN$1963","v":0},{"$f":"VDO$1963","v":0},{"$f":"VDP$1963","v":0},{"$f":"VDQ$1963","v":0},{"$f":"VDR$1963","v":0},{"$f":"VDS$1963","v":0},{"$f":"VDT$1963","v":0},{"$f":"VDU$1963","v":0},{"$f":"VDV$1963","v":0},{"$f":"VDW$1963","v":0},{"$f":"VDX$1963","v":0},{"$f":"VDY$1963","v":0},{"$f":"VDZ$1963","v":0},{"$f":"VEA$1963","v":0},{"$f":"VEB$1963","v":0},{"$f":"VEC$1963","v":0},{"$f":"VED$1963","v":0},{"$f":"VEE$1963","v":0},{"$f":"VEF$1963","v":0},{"$f":"VEG$1963","v":0},{"$f":"VEH$1963","v":0},{"$f":"VEI$1963","v":0},{"$f":"VEJ$1963","v":0},{"$f":"VEK$1963","v":0},{"$f":"VEL$1963","v":0},{"$f":"VEM$1963","v":0},{"$f":"VEN$1963","v":0},{"$f":"VEO$1963","v":0},{"$f":"VEP$1963","v":0},{"$f":"VEQ$1963","v":0},{"$f":"VER$1963","v":0},{"$f":"VES$1963","v":0},{"$f":"VET$1963","v":0},{"$f":"VEU$1963","v":0},{"$f":"VEV$1963","v":0},{"$f":"VEW$1963","v":0},{"$f":"VEX$1963","v":0},{"$f":"VEY$1963","v":0},{"$f":"VEZ$1963","v":0},{"$f":"VFA$1963","v":0},{"$f":"VFB$1963","v":0},{"$f":"VFC$1963","v":0},{"$f":"VFD$1963","v":0},{"$f":"VFE$1963","v":0},{"$f":"VFF$1963","v":0},{"$f":"VFG$1963","v":0},{"$f":"VFH$1963","v":0},{"$f":"VFI$1963","v":0},{"$f":"VFJ$1963","v":0},{"$f":"VFK$1963","v":0},{"$f":"VFL$1963","v":0},{"$f":"VFM$1963","v":0},{"$f":"VFN$1963","v":0},{"$f":"VFO$1963","v":0},{"$f":"VFP$1963","v":0},{"$f":"VFQ$1963","v":0},{"$f":"VFR$1963","v":0},{"$f":"VFS$1963","v":0},{"$f":"VFT$1963","v":0},{"$f":"VFU$1963","v":0},{"$f":"VFV$1963","v":0},{"$f":"VFW$1963","v":0},{"$f":"VFX$1963","v":0},{"$f":"VFY$1963","v":0},{"$f":"VFZ$1963","v":0},{"$f":"VGA$1963","v":0},{"$f":"VGB$1963","v":0},{"$f":"VGC$1963","v":0},{"$f":"VGD$1963","v":0},{"$f":"VGE$1963","v":0},{"$f":"VGF$1963","v":0},{"$f":"VGG$1963","v":0},{"$f":"VGH$1963","v":0},{"$f":"VGI$1963","v":0},{"$f":"VGJ$1963","v":0},{"$f":"VGK$1963","v":0},{"$f":"VGL$1963","v":0},{"$f":"VGM$1963","v":0},{"$f":"VGN$1963","v":0},{"$f":"VGO$1963","v":0},{"$f":"VGP$1963","v":0},{"$f":"VGQ$1963","v":0},{"$f":"VGR$1963","v":0},{"$f":"VGS$1963","v":0},{"$f":"VGT$1963","v":0},{"$f":"VGU$1963","v":0},{"$f":"VGV$1963","v":0},{"$f":"VGW$1963","v":0},{"$f":"VGX$1963","v":0},{"$f":"VGY$1963","v":0},{"$f":"VGZ$1963","v":0},{"$f":"VHA$1963","v":0},{"$f":"VHB$1963","v":0},{"$f":"VHC$1963","v":0},{"$f":"VHD$1963","v":0},{"$f":"VHE$1963","v":0},{"$f":"VHF$1963","v":0},{"$f":"VHG$1963","v":0},{"$f":"VHH$1963","v":0},{"$f":"VHI$1963","v":0},{"$f":"VHJ$1963","v":0},{"$f":"VHK$1963","v":0},{"$f":"VHL$1963","v":0},{"$f":"VHM$1963","v":0},{"$f":"VHN$1963","v":0},{"$f":"VHO$1963","v":0},{"$f":"VHP$1963","v":0},{"$f":"VHQ$1963","v":0},{"$f":"VHR$1963","v":0},{"$f":"VHS$1963","v":0},{"$f":"VHT$1963","v":0},{"$f":"VHU$1963","v":0},{"$f":"VHV$1963","v":0},{"$f":"VHW$1963","v":0},{"$f":"VHX$1963","v":0},{"$f":"VHY$1963","v":0},{"$f":"VHZ$1963","v":0},{"$f":"VIA$1963","v":0},{"$f":"VIB$1963","v":0},{"$f":"VIC$1963","v":0},{"$f":"VID$1963","v":0},{"$f":"VIE$1963","v":0},{"$f":"VIF$1963","v":0},{"$f":"VIG$1963","v":0},{"$f":"VIH$1963","v":0},{"$f":"VII$1963","v":0},{"$f":"VIJ$1963","v":0},{"$f":"VIK$1963","v":0},{"$f":"VIL$1963","v":0},{"$f":"VIM$1963","v":0},{"$f":"VIN$1963","v":0},{"$f":"VIO$1963","v":0},{"$f":"VIP$1963","v":0},{"$f":"VIQ$1963","v":0},{"$f":"VIR$1963","v":0},{"$f":"VIS$1963","v":0},{"$f":"VIT$1963","v":0},{"$f":"VIU$1963","v":0},{"$f":"VIV$1963","v":0},{"$f":"VIW$1963","v":0},{"$f":"VIX$1963","v":0},{"$f":"VIY$1963","v":0},{"$f":"VIZ$1963","v":0},{"$f":"VJA$1963","v":0},{"$f":"VJB$1963","v":0},{"$f":"VJC$1963","v":0},{"$f":"VJD$1963","v":0},{"$f":"VJE$1963","v":0},{"$f":"VJF$1963","v":0},{"$f":"VJG$1963","v":0},{"$f":"VJH$1963","v":0},{"$f":"VJI$1963","v":0},{"$f":"VJJ$1963","v":0},{"$f":"VJK$1963","v":0},{"$f":"VJL$1963","v":0},{"$f":"VJM$1963","v":0},{"$f":"VJN$1963","v":0},{"$f":"VJO$1963","v":0},{"$f":"VJP$1963","v":0},{"$f":"VJQ$1963","v":0},{"$f":"VJR$1963","v":0},{"$f":"VJS$1963","v":0},{"$f":"VJT$1963","v":0},{"$f":"VJU$1963","v":0},{"$f":"VJV$1963","v":0},{"$f":"VJW$1963","v":0},{"$f":"VJX$1963","v":0},{"$f":"VJY$1963","v":0},{"$f":"VJZ$1963","v":0},{"$f":"VKA$1963","v":0},{"$f":"VKB$1963","v":0},{"$f":"VKC$1963","v":0},{"$f":"VKD$1963","v":0},{"$f":"VKE$1963","v":0},{"$f":"VKF$1963","v":0},{"$f":"VKG$1963","v":0},{"$f":"VKH$1963","v":0},{"$f":"VKI$1963","v":0},{"$f":"VKJ$1963","v":0},{"$f":"VKK$1963","v":0},{"$f":"VKL$1963","v":0},{"$f":"VKM$1963","v":0},{"$f":"VKN$1963","v":0},{"$f":"VKO$1963","v":0},{"$f":"VKP$1963","v":0},{"$f":"VKQ$1963","v":0},{"$f":"VKR$1963","v":0},{"$f":"VKS$1963","v":0},{"$f":"VKT$1963","v":0},{"$f":"VKU$1963","v":0},{"$f":"VKV$1963","v":0},{"$f":"VKW$1963","v":0},{"$f":"VKX$1963","v":0},{"$f":"VKY$1963","v":0},{"$f":"VKZ$1963","v":0},{"$f":"VLA$1963","v":0},{"$f":"VLB$1963","v":0},{"$f":"VLC$1963","v":0},{"$f":"VLD$1963","v":0},{"$f":"VLE$1963","v":0},{"$f":"VLF$1963","v":0},{"$f":"VLG$1963","v":0},{"$f":"VLH$1963","v":0},{"$f":"VLI$1963","v":0},{"$f":"VLJ$1963","v":0},{"$f":"VLK$1963","v":0},{"$f":"VLL$1963","v":0},{"$f":"VLM$1963","v":0},{"$f":"VLN$1963","v":0},{"$f":"VLO$1963","v":0},{"$f":"VLP$1963","v":0},{"$f":"VLQ$1963","v":0},{"$f":"VLR$1963","v":0},{"$f":"VLS$1963","v":0},{"$f":"VLT$1963","v":0},{"$f":"VLU$1963","v":0},{"$f":"VLV$1963","v":0},{"$f":"VLW$1963","v":0},{"$f":"VLX$1963","v":0},{"$f":"VLY$1963","v":0},{"$f":"VLZ$1963","v":0},{"$f":"VMA$1963","v":0},{"$f":"VMB$1963","v":0},{"$f":"VMC$1963","v":0},{"$f":"VMD$1963","v":0},{"$f":"VME$1963","v":0},{"$f":"VMF$1963","v":0},{"$f":"VMG$1963","v":0},{"$f":"VMH$1963","v":0},{"$f":"VMI$1963","v":0},{"$f":"VMJ$1963","v":0},{"$f":"VMK$1963","v":0},{"$f":"VML$1963","v":0},{"$f":"VMM$1963","v":0},{"$f":"VMN$1963","v":0},{"$f":"VMO$1963","v":0},{"$f":"VMP$1963","v":0},{"$f":"VMQ$1963","v":0},{"$f":"VMR$1963","v":0},{"$f":"VMS$1963","v":0},{"$f":"VMT$1963","v":0},{"$f":"VMU$1963","v":0},{"$f":"VMV$1963","v":0},{"$f":"VMW$1963","v":0},{"$f":"VMX$1963","v":0},{"$f":"VMY$1963","v":0},{"$f":"VMZ$1963","v":0},{"$f":"VNA$1963","v":0},{"$f":"VNB$1963","v":0},{"$f":"VNC$1963","v":0},{"$f":"VND$1963","v":0},{"$f":"VNE$1963","v":0},{"$f":"VNF$1963","v":0},{"$f":"VNG$1963","v":0},{"$f":"VNH$1963","v":0},{"$f":"VNI$1963","v":0},{"$f":"VNJ$1963","v":0},{"$f":"VNK$1963","v":0},{"$f":"VNL$1963","v":0},{"$f":"VNM$1963","v":0},{"$f":"VNN$1963","v":0},{"$f":"VNO$1963","v":0},{"$f":"VNP$1963","v":0},{"$f":"VNQ$1963","v":0},{"$f":"VNR$1963","v":0},{"$f":"VNS$1963","v":0},{"$f":"VNT$1963","v":0},{"$f":"VNU$1963","v":0},{"$f":"VNV$1963","v":0},{"$f":"VNW$1963","v":0},{"$f":"VNX$1963","v":0},{"$f":"VNY$1963","v":0},{"$f":"VNZ$1963","v":0},{"$f":"VOA$1963","v":0},{"$f":"VOB$1963","v":0},{"$f":"VOC$1963","v":0},{"$f":"VOD$1963","v":0},{"$f":"VOE$1963","v":0},{"$f":"VOF$1963","v":0},{"$f":"VOG$1963","v":0},{"$f":"VOH$1963","v":0},{"$f":"VOI$1963","v":0},{"$f":"VOJ$1963","v":0},{"$f":"VOK$1963","v":0},{"$f":"VOL$1963","v":0},{"$f":"VOM$1963","v":0},{"$f":"VON$1963","v":0},{"$f":"VOO$1963","v":0},{"$f":"VOP$1963","v":0},{"$f":"VOQ$1963","v":0},{"$f":"VOR$1963","v":0},{"$f":"VOS$1963","v":0},{"$f":"VOT$1963","v":0},{"$f":"VOU$1963","v":0},{"$f":"VOV$1963","v":0},{"$f":"VOW$1963","v":0},{"$f":"VOX$1963","v":0},{"$f":"VOY$1963","v":0},{"$f":"VOZ$1963","v":0},{"$f":"VPA$1963","v":0},{"$f":"VPB$1963","v":0},{"$f":"VPC$1963","v":0},{"$f":"VPD$1963","v":0},{"$f":"VPE$1963","v":0},{"$f":"VPF$1963","v":0},{"$f":"VPG$1963","v":0},{"$f":"VPH$1963","v":0},{"$f":"VPI$1963","v":0},{"$f":"VPJ$1963","v":0},{"$f":"VPK$1963","v":0},{"$f":"VPL$1963","v":0},{"$f":"VPM$1963","v":0},{"$f":"VPN$1963","v":0},{"$f":"VPO$1963","v":0},{"$f":"VPP$1963","v":0},{"$f":"VPQ$1963","v":0},{"$f":"VPR$1963","v":0},{"$f":"VPS$1963","v":0},{"$f":"VPT$1963","v":0},{"$f":"VPU$1963","v":0},{"$f":"VPV$1963","v":0},{"$f":"VPW$1963","v":0},{"$f":"VPX$1963","v":0},{"$f":"VPY$1963","v":0},{"$f":"VPZ$1963","v":0},{"$f":"VQA$1963","v":0},{"$f":"VQB$1963","v":0},{"$f":"VQC$1963","v":0},{"$f":"VQD$1963","v":0},{"$f":"VQE$1963","v":0},{"$f":"VQF$1963","v":0},{"$f":"VQG$1963","v":0},{"$f":"VQH$1963","v":0},{"$f":"VQI$1963","v":0},{"$f":"VQJ$1963","v":0},{"$f":"VQK$1963","v":0},{"$f":"VQL$1963","v":0},{"$f":"VQM$1963","v":0},{"$f":"VQN$1963","v":0},{"$f":"VQO$1963","v":0},{"$f":"VQP$1963","v":0},{"$f":"VQQ$1963","v":0},{"$f":"VQR$1963","v":0},{"$f":"VQS$1963","v":0},{"$f":"VQT$1963","v":0},{"$f":"VQU$1963","v":0},{"$f":"VQV$1963","v":0},{"$f":"VQW$1963","v":0},{"$f":"VQX$1963","v":0},{"$f":"VQY$1963","v":0},{"$f":"VQZ$1963","v":0},{"$f":"VRA$1963","v":0},{"$f":"VRB$1963","v":0},{"$f":"VRC$1963","v":0},{"$f":"VRD$1963","v":0},{"$f":"VRE$1963","v":0},{"$f":"VRF$1963","v":0},{"$f":"VRG$1963","v":0},{"$f":"VRH$1963","v":0},{"$f":"VRI$1963","v":0},{"$f":"VRJ$1963","v":0},{"$f":"VRK$1963","v":0},{"$f":"VRL$1963","v":0},{"$f":"VRM$1963","v":0},{"$f":"VRN$1963","v":0},{"$f":"VRO$1963","v":0},{"$f":"VRP$1963","v":0},{"$f":"VRQ$1963","v":0},{"$f":"VRR$1963","v":0},{"$f":"VRS$1963","v":0},{"$f":"VRT$1963","v":0},{"$f":"VRU$1963","v":0},{"$f":"VRV$1963","v":0},{"$f":"VRW$1963","v":0},{"$f":"VRX$1963","v":0},{"$f":"VRY$1963","v":0},{"$f":"VRZ$1963","v":0},{"$f":"VSA$1963","v":0},{"$f":"VSB$1963","v":0},{"$f":"VSC$1963","v":0},{"$f":"VSD$1963","v":0},{"$f":"VSE$1963","v":0},{"$f":"VSF$1963","v":0},{"$f":"VSG$1963","v":0},{"$f":"VSH$1963","v":0},{"$f":"VSI$1963","v":0},{"$f":"VSJ$1963","v":0},{"$f":"VSK$1963","v":0},{"$f":"VSL$1963","v":0},{"$f":"VSM$1963","v":0},{"$f":"VSN$1963","v":0},{"$f":"VSO$1963","v":0},{"$f":"VSP$1963","v":0},{"$f":"VSQ$1963","v":0},{"$f":"VSR$1963","v":0},{"$f":"VSS$1963","v":0},{"$f":"VST$1963","v":0},{"$f":"VSU$1963","v":0},{"$f":"VSV$1963","v":0},{"$f":"VSW$1963","v":0},{"$f":"VSX$1963","v":0},{"$f":"VSY$1963","v":0},{"$f":"VSZ$1963","v":0},{"$f":"VTA$1963","v":0},{"$f":"VTB$1963","v":0},{"$f":"VTC$1963","v":0},{"$f":"VTD$1963","v":0},{"$f":"VTE$1963","v":0},{"$f":"VTF$1963","v":0},{"$f":"VTG$1963","v":0},{"$f":"VTH$1963","v":0},{"$f":"VTI$1963","v":0},{"$f":"VTJ$1963","v":0},{"$f":"VTK$1963","v":0},{"$f":"VTL$1963","v":0},{"$f":"VTM$1963","v":0},{"$f":"VTN$1963","v":0},{"$f":"VTO$1963","v":0},{"$f":"VTP$1963","v":0},{"$f":"VTQ$1963","v":0},{"$f":"VTR$1963","v":0},{"$f":"VTS$1963","v":0},{"$f":"VTT$1963","v":0},{"$f":"VTU$1963","v":0},{"$f":"VTV$1963","v":0},{"$f":"VTW$1963","v":0},{"$f":"VTX$1963","v":0},{"$f":"VTY$1963","v":0},{"$f":"VTZ$1963","v":0},{"$f":"VUA$1963","v":0},{"$f":"VUB$1963","v":0},{"$f":"VUC$1963","v":0},{"$f":"VUD$1963","v":0},{"$f":"VUE$1963","v":0},{"$f":"VUF$1963","v":0},{"$f":"VUG$1963","v":0},{"$f":"VUH$1963","v":0},{"$f":"VUI$1963","v":0},{"$f":"VUJ$1963","v":0},{"$f":"VUK$1963","v":0},{"$f":"VUL$1963","v":0},{"$f":"VUM$1963","v":0},{"$f":"VUN$1963","v":0},{"$f":"VUO$1963","v":0},{"$f":"VUP$1963","v":0},{"$f":"VUQ$1963","v":0},{"$f":"VUR$1963","v":0},{"$f":"VUS$1963","v":0},{"$f":"VUT$1963","v":0},{"$f":"VUU$1963","v":0},{"$f":"VUV$1963","v":0},{"$f":"VUW$1963","v":0},{"$f":"VUX$1963","v":0},{"$f":"VUY$1963","v":0},{"$f":"VUZ$1963","v":0},{"$f":"VVA$1963","v":0},{"$f":"VVB$1963","v":0},{"$f":"VVC$1963","v":0},{"$f":"VVD$1963","v":0},{"$f":"VVE$1963","v":0},{"$f":"VVF$1963","v":0},{"$f":"VVG$1963","v":0},{"$f":"VVH$1963","v":0},{"$f":"VVI$1963","v":0},{"$f":"VVJ$1963","v":0},{"$f":"VVK$1963","v":0},{"$f":"VVL$1963","v":0},{"$f":"VVM$1963","v":0},{"$f":"VVN$1963","v":0},{"$f":"VVO$1963","v":0},{"$f":"VVP$1963","v":0},{"$f":"VVQ$1963","v":0},{"$f":"VVR$1963","v":0},{"$f":"VVS$1963","v":0},{"$f":"VVT$1963","v":0},{"$f":"VVU$1963","v":0},{"$f":"VVV$1963","v":0},{"$f":"VVW$1963","v":0},{"$f":"VVX$1963","v":0},{"$f":"VVY$1963","v":0},{"$f":"VVZ$1963","v":0},{"$f":"VWA$1963","v":0},{"$f":"VWB$1963","v":0},{"$f":"VWC$1963","v":0},{"$f":"VWD$1963","v":0},{"$f":"VWE$1963","v":0},{"$f":"VWF$1963","v":0},{"$f":"VWG$1963","v":0},{"$f":"VWH$1963","v":0},{"$f":"VWI$1963","v":0},{"$f":"VWJ$1963","v":0},{"$f":"VWK$1963","v":0},{"$f":"VWL$1963","v":0},{"$f":"VWM$1963","v":0},{"$f":"VWN$1963","v":0},{"$f":"VWO$1963","v":0},{"$f":"VWP$1963","v":0},{"$f":"VWQ$1963","v":0},{"$f":"VWR$1963","v":0},{"$f":"VWS$1963","v":0},{"$f":"VWT$1963","v":0},{"$f":"VWU$1963","v":0},{"$f":"VWV$1963","v":0},{"$f":"VWW$1963","v":0},{"$f":"VWX$1963","v":0},{"$f":"VWY$1963","v":0},{"$f":"VWZ$1963","v":0},{"$f":"VXA$1963","v":0},{"$f":"VXB$1963","v":0},{"$f":"VXC$1963","v":0},{"$f":"VXD$1963","v":0},{"$f":"VXE$1963","v":0},{"$f":"VXF$1963","v":0},{"$f":"VXG$1963","v":0},{"$f":"VXH$1963","v":0},{"$f":"VXI$1963","v":0},{"$f":"VXJ$1963","v":0},{"$f":"VXK$1963","v":0},{"$f":"VXL$1963","v":0},{"$f":"VXM$1963","v":0},{"$f":"VXN$1963","v":0},{"$f":"VXO$1963","v":0},{"$f":"VXP$1963","v":0},{"$f":"VXQ$1963","v":0},{"$f":"VXR$1963","v":0},{"$f":"VXS$1963","v":0},{"$f":"VXT$1963","v":0},{"$f":"VXU$1963","v":0},{"$f":"VXV$1963","v":0},{"$f":"VXW$1963","v":0},{"$f":"VXX$1963","v":0},{"$f":"VXY$1963","v":0},{"$f":"VXZ$1963","v":0},{"$f":"VYA$1963","v":0},{"$f":"VYB$1963","v":0},{"$f":"VYC$1963","v":0},{"$f":"VYD$1963","v":0},{"$f":"VYE$1963","v":0},{"$f":"VYF$1963","v":0},{"$f":"VYG$1963","v":0},{"$f":"VYH$1963","v":0},{"$f":"VYI$1963","v":0},{"$f":"VYJ$1963","v":0},{"$f":"VYK$1963","v":0},{"$f":"VYL$1963","v":0},{"$f":"VYM$1963","v":0},{"$f":"VYN$1963","v":0},{"$f":"VYO$1963","v":0},{"$f":"VYP$1963","v":0},{"$f":"VYQ$1963","v":0},{"$f":"VYR$1963","v":0},{"$f":"VYS$1963","v":0},{"$f":"VYT$1963","v":0},{"$f":"VYU$1963","v":0},{"$f":"VYV$1963","v":0},{"$f":"VYW$1963","v":0},{"$f":"VYX$1963","v":0},{"$f":"VYY$1963","v":0},{"$f":"VYZ$1963","v":0},{"$f":"VZA$1963","v":0},{"$f":"VZB$1963","v":0},{"$f":"VZC$1963","v":0},{"$f":"VZD$1963","v":0},{"$f":"VZE$1963","v":0},{"$f":"VZF$1963","v":0},{"$f":"VZG$1963","v":0},{"$f":"VZH$1963","v":0},{"$f":"VZI$1963","v":0},{"$f":"VZJ$1963","v":0},{"$f":"VZK$1963","v":0},{"$f":"VZL$1963","v":0},{"$f":"VZM$1963","v":0},{"$f":"VZN$1963","v":0},{"$f":"VZO$1963","v":0},{"$f":"VZP$1963","v":0},{"$f":"VZQ$1963","v":0},{"$f":"VZR$1963","v":0},{"$f":"VZS$1963","v":0},{"$f":"VZT$1963","v":0},{"$f":"VZU$1963","v":0},{"$f":"VZV$1963","v":0},{"$f":"VZW$1963","v":0},{"$f":"VZX$1963","v":0},{"$f":"VZY$1963","v":0},{"$f":"VZZ$1963","v":0},{"$f":"WAA$1963","v":0},{"$f":"WAB$1963","v":0},{"$f":"WAC$1963","v":0},{"$f":"WAD$1963","v":0},{"$f":"WAE$1963","v":0},{"$f":"WAF$1963","v":0},{"$f":"WAG$1963","v":0},{"$f":"WAH$1963","v":0},{"$f":"WAI$1963","v":0},{"$f":"WAJ$1963","v":0},{"$f":"WAK$1963","v":0},{"$f":"WAL$1963","v":0},{"$f":"WAM$1963","v":0},{"$f":"WAN$1963","v":0},{"$f":"WAO$1963","v":0},{"$f":"WAP$1963","v":0},{"$f":"WAQ$1963","v":0},{"$f":"WAR$1963","v":0},{"$f":"WAS$1963","v":0},{"$f":"WAT$1963","v":0},{"$f":"WAU$1963","v":0},{"$f":"WAV$1963","v":0},{"$f":"WAW$1963","v":0},{"$f":"WAX$1963","v":0},{"$f":"WAY$1963","v":0},{"$f":"WAZ$1963","v":0},{"$f":"WBA$1963","v":0},{"$f":"WBB$1963","v":0},{"$f":"WBC$1963","v":0},{"$f":"WBD$1963","v":0},{"$f":"WBE$1963","v":0},{"$f":"WBF$1963","v":0},{"$f":"WBG$1963","v":0},{"$f":"WBH$1963","v":0},{"$f":"WBI$1963","v":0},{"$f":"WBJ$1963","v":0},{"$f":"WBK$1963","v":0},{"$f":"WBL$1963","v":0},{"$f":"WBM$1963","v":0},{"$f":"WBN$1963","v":0},{"$f":"WBO$1963","v":0},{"$f":"WBP$1963","v":0},{"$f":"WBQ$1963","v":0},{"$f":"WBR$1963","v":0},{"$f":"WBS$1963","v":0},{"$f":"WBT$1963","v":0},{"$f":"WBU$1963","v":0},{"$f":"WBV$1963","v":0},{"$f":"WBW$1963","v":0},{"$f":"WBX$1963","v":0},{"$f":"WBY$1963","v":0},{"$f":"WBZ$1963","v":0},{"$f":"WCA$1963","v":0},{"$f":"WCB$1963","v":0},{"$f":"WCC$1963","v":0},{"$f":"WCD$1963","v":0},{"$f":"WCE$1963","v":0},{"$f":"WCF$1963","v":0},{"$f":"WCG$1963","v":0},{"$f":"WCH$1963","v":0},{"$f":"WCI$1963","v":0},{"$f":"WCJ$1963","v":0},{"$f":"WCK$1963","v":0},{"$f":"WCL$1963","v":0},{"$f":"WCM$1963","v":0},{"$f":"WCN$1963","v":0},{"$f":"WCO$1963","v":0},{"$f":"WCP$1963","v":0},{"$f":"WCQ$1963","v":0},{"$f":"WCR$1963","v":0},{"$f":"WCS$1963","v":0},{"$f":"WCT$1963","v":0},{"$f":"WCU$1963","v":0},{"$f":"WCV$1963","v":0},{"$f":"WCW$1963","v":0},{"$f":"WCX$1963","v":0},{"$f":"WCY$1963","v":0},{"$f":"WCZ$1963","v":0},{"$f":"WDA$1963","v":0},{"$f":"WDB$1963","v":0},{"$f":"WDC$1963","v":0},{"$f":"WDD$1963","v":0},{"$f":"WDE$1963","v":0},{"$f":"WDF$1963","v":0},{"$f":"WDG$1963","v":0},{"$f":"WDH$1963","v":0},{"$f":"WDI$1963","v":0},{"$f":"WDJ$1963","v":0},{"$f":"WDK$1963","v":0},{"$f":"WDL$1963","v":0},{"$f":"WDM$1963","v":0},{"$f":"WDN$1963","v":0},{"$f":"WDO$1963","v":0},{"$f":"WDP$1963","v":0},{"$f":"WDQ$1963","v":0},{"$f":"WDR$1963","v":0},{"$f":"WDS$1963","v":0},{"$f":"WDT$1963","v":0},{"$f":"WDU$1963","v":0},{"$f":"WDV$1963","v":0},{"$f":"WDW$1963","v":0},{"$f":"WDX$1963","v":0},{"$f":"WDY$1963","v":0},{"$f":"WDZ$1963","v":0},{"$f":"WEA$1963","v":0},{"$f":"WEB$1963","v":0},{"$f":"WEC$1963","v":0},{"$f":"WED$1963","v":0},{"$f":"WEE$1963","v":0},{"$f":"WEF$1963","v":0},{"$f":"WEG$1963","v":0},{"$f":"WEH$1963","v":0},{"$f":"WEI$1963","v":0},{"$f":"WEJ$1963","v":0},{"$f":"WEK$1963","v":0},{"$f":"WEL$1963","v":0},{"$f":"WEM$1963","v":0},{"$f":"WEN$1963","v":0},{"$f":"WEO$1963","v":0},{"$f":"WEP$1963","v":0},{"$f":"WEQ$1963","v":0},{"$f":"WER$1963","v":0},{"$f":"WES$1963","v":0},{"$f":"WET$1963","v":0},{"$f":"WEU$1963","v":0},{"$f":"WEV$1963","v":0},{"$f":"WEW$1963","v":0},{"$f":"WEX$1963","v":0},{"$f":"WEY$1963","v":0},{"$f":"WEZ$1963","v":0},{"$f":"WFA$1963","v":0},{"$f":"WFB$1963","v":0},{"$f":"WFC$1963","v":0},{"$f":"WFD$1963","v":0},{"$f":"WFE$1963","v":0},{"$f":"WFF$1963","v":0},{"$f":"WFG$1963","v":0},{"$f":"WFH$1963","v":0},{"$f":"WFI$1963","v":0},{"$f":"WFJ$1963","v":0},{"$f":"WFK$1963","v":0},{"$f":"WFL$1963","v":0},{"$f":"WFM$1963","v":0},{"$f":"WFN$1963","v":0},{"$f":"WFO$1963","v":0},{"$f":"WFP$1963","v":0},{"$f":"WFQ$1963","v":0},{"$f":"WFR$1963","v":0},{"$f":"WFS$1963","v":0},{"$f":"WFT$1963","v":0},{"$f":"WFU$1963","v":0},{"$f":"WFV$1963","v":0},{"$f":"WFW$1963","v":0},{"$f":"WFX$1963","v":0},{"$f":"WFY$1963","v":0},{"$f":"WFZ$1963","v":0},{"$f":"WGA$1963","v":0},{"$f":"WGB$1963","v":0},{"$f":"WGC$1963","v":0},{"$f":"WGD$1963","v":0},{"$f":"WGE$1963","v":0},{"$f":"WGF$1963","v":0},{"$f":"WGG$1963","v":0},{"$f":"WGH$1963","v":0},{"$f":"WGI$1963","v":0},{"$f":"WGJ$1963","v":0},{"$f":"WGK$1963","v":0},{"$f":"WGL$1963","v":0},{"$f":"WGM$1963","v":0},{"$f":"WGN$1963","v":0},{"$f":"WGO$1963","v":0},{"$f":"WGP$1963","v":0},{"$f":"WGQ$1963","v":0},{"$f":"WGR$1963","v":0},{"$f":"WGS$1963","v":0},{"$f":"WGT$1963","v":0},{"$f":"WGU$1963","v":0},{"$f":"WGV$1963","v":0},{"$f":"WGW$1963","v":0},{"$f":"WGX$1963","v":0},{"$f":"WGY$1963","v":0},{"$f":"WGZ$1963","v":0},{"$f":"WHA$1963","v":0},{"$f":"WHB$1963","v":0},{"$f":"WHC$1963","v":0},{"$f":"WHD$1963","v":0},{"$f":"WHE$1963","v":0},{"$f":"WHF$1963","v":0},{"$f":"WHG$1963","v":0},{"$f":"WHH$1963","v":0},{"$f":"WHI$1963","v":0},{"$f":"WHJ$1963","v":0},{"$f":"WHK$1963","v":0},{"$f":"WHL$1963","v":0},{"$f":"WHM$1963","v":0},{"$f":"WHN$1963","v":0},{"$f":"WHO$1963","v":0},{"$f":"WHP$1963","v":0},{"$f":"WHQ$1963","v":0},{"$f":"WHR$1963","v":0},{"$f":"WHS$1963","v":0},{"$f":"WHT$1963","v":0},{"$f":"WHU$1963","v":0},{"$f":"WHV$1963","v":0},{"$f":"WHW$1963","v":0},{"$f":"WHX$1963","v":0},{"$f":"WHY$1963","v":0},{"$f":"WHZ$1963","v":0},{"$f":"WIA$1963","v":0},{"$f":"WIB$1963","v":0},{"$f":"WIC$1963","v":0},{"$f":"WID$1963","v":0},{"$f":"WIE$1963","v":0},{"$f":"WIF$1963","v":0},{"$f":"WIG$1963","v":0},{"$f":"WIH$1963","v":0},{"$f":"WII$1963","v":0},{"$f":"WIJ$1963","v":0},{"$f":"WIK$1963","v":0},{"$f":"WIL$1963","v":0},{"$f":"WIM$1963","v":0},{"$f":"WIN$1963","v":0},{"$f":"WIO$1963","v":0},{"$f":"WIP$1963","v":0},{"$f":"WIQ$1963","v":0},{"$f":"WIR$1963","v":0},{"$f":"WIS$1963","v":0},{"$f":"WIT$1963","v":0},{"$f":"WIU$1963","v":0},{"$f":"WIV$1963","v":0},{"$f":"WIW$1963","v":0},{"$f":"WIX$1963","v":0},{"$f":"WIY$1963","v":0},{"$f":"WIZ$1963","v":0},{"$f":"WJA$1963","v":0},{"$f":"WJB$1963","v":0},{"$f":"WJC$1963","v":0},{"$f":"WJD$1963","v":0},{"$f":"WJE$1963","v":0},{"$f":"WJF$1963","v":0},{"$f":"WJG$1963","v":0},{"$f":"WJH$1963","v":0},{"$f":"WJI$1963","v":0},{"$f":"WJJ$1963","v":0},{"$f":"WJK$1963","v":0},{"$f":"WJL$1963","v":0},{"$f":"WJM$1963","v":0},{"$f":"WJN$1963","v":0},{"$f":"WJO$1963","v":0},{"$f":"WJP$1963","v":0},{"$f":"WJQ$1963","v":0},{"$f":"WJR$1963","v":0},{"$f":"WJS$1963","v":0},{"$f":"WJT$1963","v":0},{"$f":"WJU$1963","v":0},{"$f":"WJV$1963","v":0},{"$f":"WJW$1963","v":0},{"$f":"WJX$1963","v":0},{"$f":"WJY$1963","v":0},{"$f":"WJZ$1963","v":0},{"$f":"WKA$1963","v":0},{"$f":"WKB$1963","v":0},{"$f":"WKC$1963","v":0},{"$f":"WKD$1963","v":0},{"$f":"WKE$1963","v":0},{"$f":"WKF$1963","v":0},{"$f":"WKG$1963","v":0},{"$f":"WKH$1963","v":0},{"$f":"WKI$1963","v":0},{"$f":"WKJ$1963","v":0},{"$f":"WKK$1963","v":0},{"$f":"WKL$1963","v":0},{"$f":"WKM$1963","v":0},{"$f":"WKN$1963","v":0},{"$f":"WKO$1963","v":0},{"$f":"WKP$1963","v":0},{"$f":"WKQ$1963","v":0},{"$f":"WKR$1963","v":0},{"$f":"WKS$1963","v":0},{"$f":"WKT$1963","v":0},{"$f":"WKU$1963","v":0},{"$f":"WKV$1963","v":0},{"$f":"WKW$1963","v":0},{"$f":"WKX$1963","v":0},{"$f":"WKY$1963","v":0},{"$f":"WKZ$1963","v":0},{"$f":"WLA$1963","v":0},{"$f":"WLB$1963","v":0},{"$f":"WLC$1963","v":0},{"$f":"WLD$1963","v":0},{"$f":"WLE$1963","v":0},{"$f":"WLF$1963","v":0},{"$f":"WLG$1963","v":0},{"$f":"WLH$1963","v":0},{"$f":"WLI$1963","v":0},{"$f":"WLJ$1963","v":0},{"$f":"WLK$1963","v":0},{"$f":"WLL$1963","v":0},{"$f":"WLM$1963","v":0},{"$f":"WLN$1963","v":0},{"$f":"WLO$1963","v":0},{"$f":"WLP$1963","v":0},{"$f":"WLQ$1963","v":0},{"$f":"WLR$1963","v":0},{"$f":"WLS$1963","v":0},{"$f":"WLT$1963","v":0},{"$f":"WLU$1963","v":0},{"$f":"WLV$1963","v":0},{"$f":"WLW$1963","v":0},{"$f":"WLX$1963","v":0},{"$f":"WLY$1963","v":0},{"$f":"WLZ$1963","v":0},{"$f":"WMA$1963","v":0},{"$f":"WMB$1963","v":0},{"$f":"WMC$1963","v":0},{"$f":"WMD$1963","v":0},{"$f":"WME$1963","v":0},{"$f":"WMF$1963","v":0},{"$f":"WMG$1963","v":0},{"$f":"WMH$1963","v":0},{"$f":"WMI$1963","v":0},{"$f":"WMJ$1963","v":0},{"$f":"WMK$1963","v":0},{"$f":"WML$1963","v":0},{"$f":"WMM$1963","v":0},{"$f":"WMN$1963","v":0},{"$f":"WMO$1963","v":0},{"$f":"WMP$1963","v":0},{"$f":"WMQ$1963","v":0},{"$f":"WMR$1963","v":0},{"$f":"WMS$1963","v":0},{"$f":"WMT$1963","v":0},{"$f":"WMU$1963","v":0},{"$f":"WMV$1963","v":0},{"$f":"WMW$1963","v":0},{"$f":"WMX$1963","v":0},{"$f":"WMY$1963","v":0},{"$f":"WMZ$1963","v":0},{"$f":"WNA$1963","v":0},{"$f":"WNB$1963","v":0},{"$f":"WNC$1963","v":0},{"$f":"WND$1963","v":0},{"$f":"WNE$1963","v":0},{"$f":"WNF$1963","v":0},{"$f":"WNG$1963","v":0},{"$f":"WNH$1963","v":0},{"$f":"WNI$1963","v":0},{"$f":"WNJ$1963","v":0},{"$f":"WNK$1963","v":0},{"$f":"WNL$1963","v":0},{"$f":"WNM$1963","v":0},{"$f":"WNN$1963","v":0},{"$f":"WNO$1963","v":0},{"$f":"WNP$1963","v":0},{"$f":"WNQ$1963","v":0},{"$f":"WNR$1963","v":0},{"$f":"WNS$1963","v":0},{"$f":"WNT$1963","v":0},{"$f":"WNU$1963","v":0},{"$f":"WNV$1963","v":0},{"$f":"WNW$1963","v":0},{"$f":"WNX$1963","v":0},{"$f":"WNY$1963","v":0},{"$f":"WNZ$1963","v":0},{"$f":"WOA$1963","v":0},{"$f":"WOB$1963","v":0},{"$f":"WOC$1963","v":0},{"$f":"WOD$1963","v":0},{"$f":"WOE$1963","v":0},{"$f":"WOF$1963","v":0},{"$f":"WOG$1963","v":0},{"$f":"WOH$1963","v":0},{"$f":"WOI$1963","v":0},{"$f":"WOJ$1963","v":0},{"$f":"WOK$1963","v":0},{"$f":"WOL$1963","v":0},{"$f":"WOM$1963","v":0},{"$f":"WON$1963","v":0},{"$f":"WOO$1963","v":0},{"$f":"WOP$1963","v":0},{"$f":"WOQ$1963","v":0},{"$f":"WOR$1963","v":0},{"$f":"WOS$1963","v":0},{"$f":"WOT$1963","v":0},{"$f":"WOU$1963","v":0},{"$f":"WOV$1963","v":0},{"$f":"WOW$1963","v":0},{"$f":"WOX$1963","v":0},{"$f":"WOY$1963","v":0},{"$f":"WOZ$1963","v":0},{"$f":"WPA$1963","v":0},{"$f":"WPB$1963","v":0},{"$f":"WPC$1963","v":0},{"$f":"WPD$1963","v":0},{"$f":"WPE$1963","v":0},{"$f":"WPF$1963","v":0},{"$f":"WPG$1963","v":0},{"$f":"WPH$1963","v":0},{"$f":"WPI$1963","v":0},{"$f":"WPJ$1963","v":0},{"$f":"WPK$1963","v":0},{"$f":"WPL$1963","v":0},{"$f":"WPM$1963","v":0},{"$f":"WPN$1963","v":0},{"$f":"WPO$1963","v":0},{"$f":"WPP$1963","v":0},{"$f":"WPQ$1963","v":0},{"$f":"WPR$1963","v":0},{"$f":"WPS$1963","v":0},{"$f":"WPT$1963","v":0},{"$f":"WPU$1963","v":0},{"$f":"WPV$1963","v":0},{"$f":"WPW$1963","v":0},{"$f":"WPX$1963","v":0},{"$f":"WPY$1963","v":0},{"$f":"WPZ$1963","v":0},{"$f":"WQA$1963","v":0},{"$f":"WQB$1963","v":0},{"$f":"WQC$1963","v":0},{"$f":"WQD$1963","v":0},{"$f":"WQE$1963","v":0},{"$f":"WQF$1963","v":0},{"$f":"WQG$1963","v":0},{"$f":"WQH$1963","v":0},{"$f":"WQI$1963","v":0},{"$f":"WQJ$1963","v":0},{"$f":"WQK$1963","v":0},{"$f":"WQL$1963","v":0},{"$f":"WQM$1963","v":0},{"$f":"WQN$1963","v":0},{"$f":"WQO$1963","v":0},{"$f":"WQP$1963","v":0},{"$f":"WQQ$1963","v":0},{"$f":"WQR$1963","v":0},{"$f":"WQS$1963","v":0},{"$f":"WQT$1963","v":0},{"$f":"WQU$1963","v":0},{"$f":"WQV$1963","v":0},{"$f":"WQW$1963","v":0},{"$f":"WQX$1963","v":0},{"$f":"WQY$1963","v":0},{"$f":"WQZ$1963","v":0},{"$f":"WRA$1963","v":0},{"$f":"WRB$1963","v":0},{"$f":"WRC$1963","v":0},{"$f":"WRD$1963","v":0},{"$f":"WRE$1963","v":0},{"$f":"WRF$1963","v":0},{"$f":"WRG$1963","v":0},{"$f":"WRH$1963","v":0},{"$f":"WRI$1963","v":0},{"$f":"WRJ$1963","v":0},{"$f":"WRK$1963","v":0},{"$f":"WRL$1963","v":0},{"$f":"WRM$1963","v":0},{"$f":"WRN$1963","v":0},{"$f":"WRO$1963","v":0},{"$f":"WRP$1963","v":0},{"$f":"WRQ$1963","v":0},{"$f":"WRR$1963","v":0},{"$f":"WRS$1963","v":0},{"$f":"WRT$1963","v":0},{"$f":"WRU$1963","v":0},{"$f":"WRV$1963","v":0},{"$f":"WRW$1963","v":0},{"$f":"WRX$1963","v":0},{"$f":"WRY$1963","v":0},{"$f":"WRZ$1963","v":0},{"$f":"WSA$1963","v":0},{"$f":"WSB$1963","v":0},{"$f":"WSC$1963","v":0},{"$f":"WSD$1963","v":0},{"$f":"WSE$1963","v":0},{"$f":"WSF$1963","v":0},{"$f":"WSG$1963","v":0},{"$f":"WSH$1963","v":0},{"$f":"WSI$1963","v":0},{"$f":"WSJ$1963","v":0},{"$f":"WSK$1963","v":0},{"$f":"WSL$1963","v":0},{"$f":"WSM$1963","v":0},{"$f":"WSN$1963","v":0},{"$f":"WSO$1963","v":0},{"$f":"WSP$1963","v":0},{"$f":"WSQ$1963","v":0},{"$f":"WSR$1963","v":0},{"$f":"WSS$1963","v":0},{"$f":"WST$1963","v":0},{"$f":"WSU$1963","v":0},{"$f":"WSV$1963","v":0},{"$f":"WSW$1963","v":0},{"$f":"WSX$1963","v":0},{"$f":"WSY$1963","v":0},{"$f":"WSZ$1963","v":0},{"$f":"WTA$1963","v":0},{"$f":"WTB$1963","v":0},{"$f":"WTC$1963","v":0},{"$f":"WTD$1963","v":0},{"$f":"WTE$1963","v":0},{"$f":"WTF$1963","v":0},{"$f":"WTG$1963","v":0},{"$f":"WTH$1963","v":0},{"$f":"WTI$1963","v":0},{"$f":"WTJ$1963","v":0},{"$f":"WTK$1963","v":0},{"$f":"WTL$1963","v":0},{"$f":"WTM$1963","v":0},{"$f":"WTN$1963","v":0},{"$f":"WTO$1963","v":0},{"$f":"WTP$1963","v":0},{"$f":"WTQ$1963","v":0},{"$f":"WTR$1963","v":0},{"$f":"WTS$1963","v":0},{"$f":"WTT$1963","v":0},{"$f":"WTU$1963","v":0},{"$f":"WTV$1963","v":0},{"$f":"WTW$1963","v":0},{"$f":"WTX$1963","v":0},{"$f":"WTY$1963","v":0},{"$f":"WTZ$1963","v":0},{"$f":"WUA$1963","v":0},{"$f":"WUB$1963","v":0},{"$f":"WUC$1963","v":0},{"$f":"WUD$1963","v":0},{"$f":"WUE$1963","v":0},{"$f":"WUF$1963","v":0},{"$f":"WUG$1963","v":0},{"$f":"WUH$1963","v":0},{"$f":"WUI$1963","v":0},{"$f":"WUJ$1963","v":0},{"$f":"WUK$1963","v":0},{"$f":"WUL$1963","v":0},{"$f":"WUM$1963","v":0},{"$f":"WUN$1963","v":0},{"$f":"WUO$1963","v":0},{"$f":"WUP$1963","v":0},{"$f":"WUQ$1963","v":0},{"$f":"WUR$1963","v":0},{"$f":"WUS$1963","v":0},{"$f":"WUT$1963","v":0},{"$f":"WUU$1963","v":0},{"$f":"WUV$1963","v":0},{"$f":"WUW$1963","v":0},{"$f":"WUX$1963","v":0},{"$f":"WUY$1963","v":0},{"$f":"WUZ$1963","v":0},{"$f":"WVA$1963","v":0},{"$f":"WVB$1963","v":0},{"$f":"WVC$1963","v":0},{"$f":"WVD$1963","v":0},{"$f":"WVE$1963","v":0},{"$f":"WVF$1963","v":0},{"$f":"WVG$1963","v":0},{"$f":"WVH$1963","v":0},{"$f":"WVI$1963","v":0},{"$f":"WVJ$1963","v":0},{"$f":"WVK$1963","v":0},{"$f":"WVL$1963","v":0},{"$f":"WVM$1963","v":0},{"$f":"WVN$1963","v":0},{"$f":"WVO$1963","v":0},{"$f":"WVP$1963","v":0},{"$f":"WVQ$1963","v":0},{"$f":"WVR$1963","v":0},{"$f":"WVS$1963","v":0},{"$f":"WVT$1963","v":0},{"$f":"WVU$1963","v":0},{"$f":"WVV$1963","v":0},{"$f":"WVW$1963","v":0},{"$f":"WVX$1963","v":0},{"$f":"WVY$1963","v":0},{"$f":"WVZ$1963","v":0},{"$f":"WWA$1963","v":0},{"$f":"WWB$1963","v":0},{"$f":"WWC$1963","v":0},{"$f":"WWD$1963","v":0},{"$f":"WWE$1963","v":0},{"$f":"WWF$1963","v":0},{"$f":"WWG$1963","v":0},{"$f":"WWH$1963","v":0},{"$f":"WWI$1963","v":0},{"$f":"WWJ$1963","v":0},{"$f":"WWK$1963","v":0},{"$f":"WWL$1963","v":0},{"$f":"WWM$1963","v":0},{"$f":"WWN$1963","v":0},{"$f":"WWO$1963","v":0},{"$f":"WWP$1963","v":0},{"$f":"WWQ$1963","v":0},{"$f":"WWR$1963","v":0},{"$f":"WWS$1963","v":0},{"$f":"WWT$1963","v":0},{"$f":"WWU$1963","v":0},{"$f":"WWV$1963","v":0},{"$f":"WWW$1963","v":0},{"$f":"WWX$1963","v":0},{"$f":"WWY$1963","v":0},{"$f":"WWZ$1963","v":0},{"$f":"WXA$1963","v":0},{"$f":"WXB$1963","v":0},{"$f":"WXC$1963","v":0},{"$f":"WXD$1963","v":0},{"$f":"WXE$1963","v":0},{"$f":"WXF$1963","v":0},{"$f":"WXG$1963","v":0},{"$f":"WXH$1963","v":0},{"$f":"WXI$1963","v":0},{"$f":"WXJ$1963","v":0},{"$f":"WXK$1963","v":0},{"$f":"WXL$1963","v":0},{"$f":"WXM$1963","v":0},{"$f":"WXN$1963","v":0},{"$f":"WXO$1963","v":0},{"$f":"WXP$1963","v":0},{"$f":"WXQ$1963","v":0},{"$f":"WXR$1963","v":0},{"$f":"WXS$1963","v":0},{"$f":"WXT$1963","v":0},{"$f":"WXU$1963","v":0},{"$f":"WXV$1963","v":0},{"$f":"WXW$1963","v":0},{"$f":"WXX$1963","v":0},{"$f":"WXY$1963","v":0},{"$f":"WXZ$1963","v":0},{"$f":"WYA$1963","v":0},{"$f":"WYB$1963","v":0},{"$f":"WYC$1963","v":0},{"$f":"WYD$1963","v":0},{"$f":"WYE$1963","v":0},{"$f":"WYF$1963","v":0},{"$f":"WYG$1963","v":0},{"$f":"WYH$1963","v":0},{"$f":"WYI$1963","v":0},{"$f":"WYJ$1963","v":0},{"$f":"WYK$1963","v":0},{"$f":"WYL$1963","v":0},{"$f":"WYM$1963","v":0},{"$f":"WYN$1963","v":0},{"$f":"WYO$1963","v":0},{"$f":"WYP$1963","v":0},{"$f":"WYQ$1963","v":0},{"$f":"WYR$1963","v":0},{"$f":"WYS$1963","v":0},{"$f":"WYT$1963","v":0},{"$f":"WYU$1963","v":0},{"$f":"WYV$1963","v":0},{"$f":"WYW$1963","v":0},{"$f":"WYX$1963","v":0},{"$f":"WYY$1963","v":0},{"$f":"WYZ$1963","v":0},{"$f":"WZA$1963","v":0},{"$f":"WZB$1963","v":0},{"$f":"WZC$1963","v":0},{"$f":"WZD$1963","v":0},{"$f":"WZE$1963","v":0},{"$f":"WZF$1963","v":0},{"$f":"WZG$1963","v":0},{"$f":"WZH$1963","v":0},{"$f":"WZI$1963","v":0},{"$f":"WZJ$1963","v":0},{"$f":"WZK$1963","v":0},{"$f":"WZL$1963","v":0},{"$f":"WZM$1963","v":0},{"$f":"WZN$1963","v":0},{"$f":"WZO$1963","v":0},{"$f":"WZP$1963","v":0},{"$f":"WZQ$1963","v":0},{"$f":"WZR$1963","v":0},{"$f":"WZS$1963","v":0},{"$f":"WZT$1963","v":0},{"$f":"WZU$1963","v":0},{"$f":"WZV$1963","v":0},{"$f":"WZW$1963","v":0},{"$f":"WZX$1963","v":0},{"$f":"WZY$1963","v":0},{"$f":"WZZ$1963","v":0},{"$f":"XAA$1963","v":0},{"$f":"XAB$1963","v":0},{"$f":"XAC$1963","v":0},{"$f":"XAD$1963","v":0},{"$f":"XAE$1963","v":0},{"$f":"XAF$1963","v":0},{"$f":"XAG$1963","v":0},{"$f":"XAH$1963","v":0},{"$f":"XAI$1963","v":0},{"$f":"XAJ$1963","v":0},{"$f":"XAK$1963","v":0},{"$f":"XAL$1963","v":0},{"$f":"XAM$1963","v":0},{"$f":"XAN$1963","v":0},{"$f":"XAO$1963","v":0},{"$f":"XAP$1963","v":0},{"$f":"XAQ$1963","v":0},{"$f":"XAR$1963","v":0},{"$f":"XAS$1963","v":0},{"$f":"XAT$1963","v":0},{"$f":"XAU$1963","v":0},{"$f":"XAV$1963","v":0},{"$f":"XAW$1963","v":0},{"$f":"XAX$1963","v":0},{"$f":"XAY$1963","v":0},{"$f":"XAZ$1963","v":0},{"$f":"XBA$1963","v":0},{"$f":"XBB$1963","v":0},{"$f":"XBC$1963","v":0},{"$f":"XBD$1963","v":0},{"$f":"XBE$1963","v":0},{"$f":"XBF$1963","v":0},{"$f":"XBG$1963","v":0},{"$f":"XBH$1963","v":0},{"$f":"XBI$1963","v":0},{"$f":"XBJ$1963","v":0},{"$f":"XBK$1963","v":0},{"$f":"XBL$1963","v":0},{"$f":"XBM$1963","v":0},{"$f":"XBN$1963","v":0},{"$f":"XBO$1963","v":0},{"$f":"XBP$1963","v":0},{"$f":"XBQ$1963","v":0},{"$f":"XBR$1963","v":0},{"$f":"XBS$1963","v":0},{"$f":"XBT$1963","v":0},{"$f":"XBU$1963","v":0},{"$f":"XBV$1963","v":0},{"$f":"XBW$1963","v":0},{"$f":"XBX$1963","v":0},{"$f":"XBY$1963","v":0},{"$f":"XBZ$1963","v":0},{"$f":"XCA$1963","v":0},{"$f":"XCB$1963","v":0},{"$f":"XCC$1963","v":0},{"$f":"XCD$1963","v":0},{"$f":"XCE$1963","v":0},{"$f":"XCF$1963","v":0},{"$f":"XCG$1963","v":0},{"$f":"XCH$1963","v":0},{"$f":"XCI$1963","v":0},{"$f":"XCJ$1963","v":0},{"$f":"XCK$1963","v":0},{"$f":"XCL$1963","v":0},{"$f":"XCM$1963","v":0},{"$f":"XCN$1963","v":0},{"$f":"XCO$1963","v":0},{"$f":"XCP$1963","v":0},{"$f":"XCQ$1963","v":0},{"$f":"XCR$1963","v":0},{"$f":"XCS$1963","v":0},{"$f":"XCT$1963","v":0},{"$f":"XCU$1963","v":0},{"$f":"XCV$1963","v":0},{"$f":"XCW$1963","v":0},{"$f":"XCX$1963","v":0},{"$f":"XCY$1963","v":0},{"$f":"XCZ$1963","v":0},{"$f":"XDA$1963","v":0},{"$f":"XDB$1963","v":0},{"$f":"XDC$1963","v":0},{"$f":"XDD$1963","v":0},{"$f":"XDE$1963","v":0},{"$f":"XDF$1963","v":0},{"$f":"XDG$1963","v":0},{"$f":"XDH$1963","v":0},{"$f":"XDI$1963","v":0},{"$f":"XDJ$1963","v":0},{"$f":"XDK$1963","v":0},{"$f":"XDL$1963","v":0},{"$f":"XDM$1963","v":0},{"$f":"XDN$1963","v":0},{"$f":"XDO$1963","v":0},{"$f":"XDP$1963","v":0},{"$f":"XDQ$1963","v":0},{"$f":"XDR$1963","v":0},{"$f":"XDS$1963","v":0},{"$f":"XDT$1963","v":0},{"$f":"XDU$1963","v":0},{"$f":"XDV$1963","v":0},{"$f":"XDW$1963","v":0},{"$f":"XDX$1963","v":0},{"$f":"XDY$1963","v":0},{"$f":"XDZ$1963","v":0},{"$f":"XEA$1963","v":0},{"$f":"XEB$1963","v":0},{"$f":"XEC$1963","v":0},{"$f":"XED$1963","v":0},{"$f":"XEE$1963","v":0},{"$f":"XEF$1963","v":0},{"$f":"XEG$1963","v":0},{"$f":"XEH$1963","v":0},{"$f":"XEI$1963","v":0},{"$f":"XEJ$1963","v":0},{"$f":"XEK$1963","v":0},{"$f":"XEL$1963","v":0},{"$f":"XEM$1963","v":0},{"$f":"XEN$1963","v":0},{"$f":"XEO$1963","v":0},{"$f":"XEP$1963","v":0},{"$f":"XEQ$1963","v":0},{"$f":"XER$1963","v":0},{"$f":"XES$1963","v":0},{"$f":"XET$1963","v":0},{"$f":"XEU$1963","v":0},{"$f":"XEV$1963","v":0},{"$f":"XEW$1963","v":0},{"$f":"XEX$1963","v":0},{"$f":"XEY$1963","v":0},{"$f":"XEZ$1963","v":0},{"$f":"XFA$1963","v":0},{"$f":"XFB$1963","v":0},{"$f":"XFC$1963","v":0},{"$f":"XFD$1963","v":0}]
[]
[null,null,"PRG, Equity LC, Equity Standby, Performance Bond LC"]
[null,null,null,null,"PRG_Rate","PRG Percentage Applied to Debt Balance","InputS",null,null,0,0,0,0,0,0,0,0,0,0,0,0,0,0,0,0,0,0,0,0,0,0,0,0,0,0,0,0,0,0,0,0,0,0,0,0,0,0,0,0,0,0,0,0,0,0,0,0,0,0,0,0,0,0,0,0,0,0,0,0,0,0,0,0]
[null,null,null,null,"WHT_Rate","Withholding Tax Rate on Facilities","InputC",0]
[]
[null,null,null,null,"LC_Fee","Periodic Fee Applied to Standby Equity","InputS",null,null,0,0,0,0,0,0,0,0,0,0,0,0,0,0,0,0,0,0,0,0,0,0,0,0,0,0,0,0,0,0,0,0,0,0,0,0,0,0,0,0,0,0,0,0,0,0,0,0,0,0,0,0,0,0,0,0,0,0,0,0,0,0,0,0]
[]
[null,null,null,null,"LC_Rate_Undrawn_Equity","Rate on Undrawn Equity","InputS",null,null,0,0,0,0,0,0,0,0,0,0,0,0,0,0,0,0,0,0,0,0,0,0,0,0,0,0,0,0,0,0,0,0,0,0,0,0,0,0,0,0,0,0,0,0,0,0,0,0,0,0,0,0,0,0,0,0,0,0,0,0,0,0,0,0]
[null,null,null,null,"Standby_Equity_Commitment","Standby Equity Commitment","InputC",0]
[null,null,null,null,"Standby_LC_Fee_Percent","Standby Equity Fee Percent per Period","InputS",null,null,0,0,0,0,0,0,0,0,0,0,0,0,0,0,0,0,0,0,0,0,0,0,0,0,0,0,0,0,0,0,0,0,0,0,0,0,0,0,0,0,0,0,0,0,0,0,0,0,0,0,0,0,0,0,0,0,0,0,0,0,0,0,0,0]
[]
[null,null,"Other Variables"]
[null,null,null,null,"Exchange_Rate","Alternative Currency/Base Model Currency","InputS",null,null,1,1,1,1,1,1,1,1,1,1,1,1,1,1,1,1,1,1,1,1,1,1,1,1,1,1,1,1,1,1,1,1,1,1,1,1,1,1,1,1,1,1,1,1,1,1,1,1,1,1,1,1,1,1,1,1,1,1,1,1,1,1,1,1,1,1,1,1,1,1,1,1,1,1,1,1,1,1,1,1,1,1,1,1,1,1,1,1,1,1,1,1,1,1,1,1,1,1,1,1,1,1,1,1,1,1,1,1,1,1,1,1,1,1,1,1,1,1,1,1,1,1,1,1,1,1,1,1,1,1,1,1,1,1,1,1,1,1,1,1,1,1,1,1,1,1,1,1,1,1,1,1,1,1,1,1,1,1,1,1,1,1,1,1,1,1,1,1,1,1,1,1,1,1,1,1,1,1,1,1,1,1,1,1,1]
[null,null,null,null,"Government_Grant","Amount of Government Grant Commitment","InputC"]
[null,null,null,null,"Government_Grant_Timing","Code for Timing of Government Grant","InputC"]
[]
[null,null,null,null,"MRA_Net_Flow","Net Contributions and Withdrawls from MRA","InputS",null,null,0,0,0,0,0,0,0,0,0,0,0,0,0,0,0,0,0,0,0,0,0,0,0,0,0,0,0,0,0,0,0,0,0,0,0,0,0,0,0,0,0,0,0,0,0,0,0,0,0,0,0,0,0,0,0,0,0,0,0,0,0,0,0,0,0,0,0,0,0,0,0,0,0,0,0,0,0,0,0,0,0,0,0,0,0,0,0,0,0,0,0,0,0,0,0,0,0,0,0,0,0,0,0,0,0,0,0,0,0,0,0,0,0,0,0,0,0,0,0,0,0,0,0,0,0,0,0,0,0,0,0,0,0,0,0,0,0,0,0,0,0,0,0,0,0,0,0,0,0,0,0,0,0,0,0,0,0,0,0,0,0,0,0,0,0,0,0,0,0,0,0,0,0,0,0,0,0,0,0,0,0,0,0,0,0]
[]
[null,"Flags for Report"]
[]
[null,null,"Report Output Flags"]
[null,null,null,null,"Working_Report","Call the Working Report with Selected Variables","InputC",0,"Switch (0:No Working Report; 1: Include Working Report)"]
[null,null,null,null,"Summary_Report","Call the Summary Report with DSCR and Debt Level","InputC",1,"Switch (0: No Summary Report; 1: Include Summary Report)"]
[null,null,null,null,"CFADS_Taxes_Report","Call the CFADS and Tax Report (Debt Size)","InputC",1,"Switch (0: No CFADS and Tax Report; 1: Include CFADS and Tax Report)"]
[null,null,null,null,"Debt_Sizing_Detail_Report","Call the Debt Size Report (Debt Size)","InputC",1,"Switch (0: No Sizing Report; 1: Include Debt Sizing Report) Problem"]
[null,null,null,null,"Repayment_Structure_Report","Call the Debt Repayment Report (Debt Size)","InputC",0,"Switch (0: No Debt Repayment Report; 1: Include Debt Repayment Report)"]
[null,null,null,null,"Debt_IRR_Report","Call the Weighted Average Rate and Debt IRR","InputC",0,"Switch (0: No Debt IRR Report; 1: Include Debt IRR Report)"]
[" `",null,null,null,"Funding_Detail_Report","Call the Report with Funding (Funding)","InputC",0,"Switch (0: Funding Sources and Funding Uses; 1: Include Funding Detail)"]
[null,null,null,null,"Sources_Detail_Report","Call the Report with Sources Details (Funding)","InputC",0,"Switch (0: No Funding Sources Report; 1: Include Funding Sources)"]
[null,null,null,null,"Sculpting_Detail_Report","Call the Curved Sculpting (when Debt is Fixed)","InputC",0,"Switch (0: No Curved Sculpting Report; 1: Include Sculpting Report)"]
[null,null,null,null,"Debt_Issue_Detail_Report","Call the Report with Issue by Issue Details","InputC",1,"Switch (0: No Issue by Issue Report; 1: Include Issue by Issue)"]
[null,null,null,null,"DSRA_Detail_Report","Call the Report with Details of DSRA","InputC",0,"Switch (0: No DSRA Detail Report; 1: Include DSRA Detail Report)"]
[null,null,null,null,"Development_Detail_Report","Call the Report with VAT, Dev, LD, Standby","InputC",0,"Switch (0: No Development, VAT LD Report; 1: Include Development Report)"]
[null,null,null,null,"Graph_Report","Call the Report to Make Quick Graphs","InputC"]
[]
[null,null,"Advanced Debt Structuring Options"]
[null,null,null,null,"Pro_Rata_Sculpting","Option for Sculpting Non-Capture Issues with Curved Sculpting",{"$f":"G280","v":"InputC"},1]
[null,null,null,null,"average_loan_life","Average Loan Life","InputC",13]
[null,null,null,null,"Adjusted_Curved_Sculpt_Flag","Flag for Adjusting the Shape of the Curved DSCR","InputC",0]
[null,null,null,null,"Ending_Sculpting_Constant","Input Flag for Adjusting the Shape of the Curved DSCR","InputC",50]
[null,null,null,null,"Interest_payment_Method","Interest payment method (Zero is Beginning; One is Average)",{"$f":"G194","v":"InputC"},0,"Switch(0 Beginning; 1 Average)"]
[null,null,null,null,"Target_minimum_DSCR","Target Minimum DSCR (REMOVE AND REPLACE)","InputC",{"$f":"H35","v":1.35}]
[]
[null,null,"Other Inputs"]
[null,null,null,null,"Catch_up_flag","Issue Debt to Balance after Equity Up-Front","InputC",0,"(1-debt catch up before pro-rata; 0 - all pro-rata)"]
[null,null,null,null,"finfee","Financial advisory fees ","InputC",0,"%s Debt (Senior + mezz)"]
[null,null,null,null,"PRI_pct","Political risk premium","InputC",0,"% p.p."]
[null,null,null,null,"WCMnth","Pre-financing of working capital =X months of ( Debt service + Opex)","InputC",0,"mns EUR"]
[null,null,null,null,"only_pre_COD_flag","Only Apply Pre-Calcualtions - No Sculpting or Re-financing",{"$f":"G32","v":"InputC"},0," Switch( 0: Do Make Detailed Sculpting Calculations"]
[]
[null,null,null,null,"dev_report_flag","Development Report Flag (Remove This)","InputC",0,"Switch( 1: OUI, 0:NON)"]
[null,null,null,null,"apply_flexible_debt_sizing","Run Debt Post COD (Sculpting; Sizing; DSRA) Remove",{"$f":"G293","v":"InputC"},0," Switch (0: Detailed Report; 1: Only Circular Reference)"]
[null,null,null,null,"sculpting_output_flag","Prints out the Details of the Sculpting Process (Remove This)","InputC",0,"Switch (0: Don’t show the details; 1: Show Sculpting Details)"]
[null,null,null,null,"only_circular_outputs","Only print items that will be linked to the model (Remove This)",{"$f":"G10","v":"InputC"},0,"Switch (0: Detailed Report; 1: Only Circular Reference)"]
[null,null,null,null,"Audit_Report_Flag","Only print items that will be linked to the model (Remove This)",{"$f":"G288","v":"InputC"},0,"Switch (0: Detailed Report; 1: Only Circular Reference)"]
[null,null,null,null,"Financial_Statement_Flag","Only print items that will be linked to the model (Remove This)",{"$f":"G291","v":"InputC"},0,"Switch (0: Detailed Report; 1: Only Circular Reference)"]
[]
[null,null,"Formating Inputs"]
[null,null,null,null,"Format_Column","Column Number for Formatting","InputC",8]
[null,null,null,null,"End_Test","End Test for Reading (Non Zero Number)","InputC",20]
["END"]
[]
[]
[]
[]
[]
[]
[]
[]
[]
[]
[]
[]
[]
[]
[]
[]
[]
[]
[]
[]
[]
[]
[]
[]
[]
[null,null,null,null,"Flag for Turning off UDF"]
[]
[null,null,null,null,null,null,null,null,"Simple PMT on Debt"]
[null,null,null,null,null,null,null,null,"Months of Forward DS"]
[null,null,null,null,null,null,null,null,"Percent of Debt Service"]
[null,null,null,null,null,null,null,null,"Fixed"]
[null,null,null,null,null,null,null,null,"No DSRA"]
[]
[]
[null,null,null,null,null,null,null,null,null,null,null,null,null,"Fixed","Min DSCR"]
[null,null,null,null,null,null,null,null,null,null,null,null,null,"Debt/Cap","Flat LLCR"]
[null,null,null,null,null,null,null,null,null,null,null,null,null,"Cash Flow","Curved DSCR"]
[null,null,null,null,null,null,null,null,null,null,null,null,null,"Minimum","Custom"]
[]
[null,null,null,null,null,null,null,null,null,null,null,null,null,{"$f":"INDEX(N335:N338,H37)","v":"Minimum"}]

{"sheet":"UDFOutput","index":5,"n_rows":389,"n_cols":206,"rows_kept":389,"cut":false,"hidden":false,"merged":[]}
[]
[]
[]
[null,null,null,{"$f":"Circular_resolution(UDFInputs!6:293)","v":""},"Label ","Constant 1","Constant 2","Fmt","Total ","Start Time ","17:50:13","End Time ","17:50:14","Duration","1900-01-01","","","","","","","","","","","","","","","","","","","","","","","","","","","","","","","","","","","","","","","","","","","","","","","","","","","","","","","","","","","","","","","","","","","","","","","","","","","","","","","","","","","","","","","","","","","","","","","","","","","","","","","","","","","","","","","","","","","","","","","","","","","","","","","","","","","","","","","","","","","","","","","","","","","","","","","","","","","","","","","","","","","","","","","","","","","","","","","","","","","","","","","","","","","","","","",""]
[null,null,null,"","Model Timing","","","T","","","","","","","","","","","","","","","","","","","","","","","","","","","","","","","","","","","","","","","","","","","","","","","","","","","","","","","","","","","","","","","","","","","","","","","","","","","","","","","","","","","","","","","","","","","","","","","","","","","","","","","","","","","","","","","","","","","","","","","","","","","","","","","","","","","","","","","","","","","","","","","","","","","","","","","","","","","","","","","","","","","","","","","","","","","","","","","","","","","","","","","","","","","","","","","","","","","","","",""]
[null,null,null,"","Period Number",0,"","I","",1,2,3,4,5,6,7,8,9,10,11,12,13,14,15,16,17,18,19,20,21,22,23,24,25,26,27,28,29,30,31,32,33,34,35,36,37,38,39,40,41,42,43,44,45,46,47,48,49,50,51,52,53,54,55,56,57,58,59,60,61,62,63,64,65,66,67,68,69,70,71,72,73,74,75,76,77,78,79,80,81,82,83,84,85,86,87,88,89,90,91,92,93,94,95,96,97,98,99,100,101,102,103,104,105,106,107,108,109,110,111,112,113,114,115,116,117,118,119,120,121,122,123,124,125,126,127,128,129,130,131,132,133,134,135,136,137,138,139,140,141,142,143,144,145,146,147,148,149,150,151,152,153,154,155,156,157,158,159,160,161,162,163,164,165,166,167,168,169,170,171,172,173,174,175,176,177,178,179,180,181,182,183,184,185,186,187,188,189,190,191,192,193,194,195,196,197]
[null,null,null,"","Construction flag",1,0,"I",1,1,0,0,0,0,0,0,0,0,0,0,0,0,0,0,0,0,0,0,0,0,0,0,0,0,0,0,0,0,0,0,0,0,0,0,0,0,0,0,0,0,0,0,0,0,0,0,0,0,0,0,0,0,0,0,0,0,0,0,0,0,0,0,0,0,0,0,0,0,0,0,0,0,0,0,0,0,0,0,0,0,0,0,0,0,0,0,0,0,0,0,0,0,0,0,0,0,0,0,0,0,0,0,0,0,0,0,0,0,0,0,0,0,0,0,0,0,0,0,0,0,0,0,0,0,0,0,0,0,0,0,0,0,0,0,0,0,0,0,0,0,0,0,0,0,0,0,0,0,0,0,0,0,0,0,0,0,0,0,0,0,0,0,0,0,0,0,0,0,0,0,0,0,0,0,0,0,0,0,0,0,0,0,0,0,0,0,0,0,0,0,0,0,0,0,0,0]
[null,null,null,"","Operation flag",2,50,"I",50,0,1,1,1,1,1,1,1,1,1,1,1,1,1,1,1,1,1,1,1,1,1,1,1,1,1,1,1,1,1,1,1,1,1,1,1,1,1,1,1,1,1,1,1,1,1,1,1,1,1,1,0,0,0,0,0,0,0,0,0,0,0,0,0,0,0,0,0,0,0,0,0,0,0,0,0,0,0,0,0,0,0,0,0,0,0,0,0,0,0,0,0,0,0,0,0,0,0,0,0,0,0,0,0,0,0,0,0,0,0,0,0,0,0,0,0,0,0,0,0,0,0,0,0,0,0,0,0,0,0,0,0,0,0,0,0,0,0,0,0,0,0,0,0,0,0,0,0,0,0,0,0,0,0,0,0,0,0,0,0,0,0,0,0,0,0,0,0,0,0,0,0,0,0,0,0,0,0,0,0,0,0,0,0,0,0,0,0,0,0,0,0,0,0,0,0,0]
[null,null,null,"","Period Label","","","I","","Cons","Ops","Ops","Ops","Ops","Ops","Ops","Ops","Ops","Ops","Ops","Ops","Ops","Ops","Ops","Ops","Ops","Ops","Ops","Ops","Ops","Ops","Ops","Ops","Ops","Ops","Ops","Ops","Ops","Ops","Ops","Ops","Ops","Ops","Ops","Ops","Ops","Ops","Ops","Ops","Ops","Ops","Ops","Ops","Ops","Ops","Ops","Ops","Ops","Ops","Ops",0,0,0,0,0,0,0,0,0,0,0,0,0,0,0,0,0,0,0,0,0,0,0,0,0,0,0,0,0,0,0,0,0,0,0,0,0,0,0,0,0,0,0,0,0,0,0,0,0,0,0,0,0,0,0,0,0,0,0,0,0,0,0,0,0,0,0,0,0,0,0,0,0,0,0,0,0,0,0,0,0,0,0,0,0,0,0,0,0,0,0,0,0,0,0,0,0,0,0,0,0,0,0,0,0,0,0,0,0,0,0,0,0,0,0,0,0,0,0,0,0,0,0,0,0,0,0,0,0,0,0,0,0,0,0,0,0,0,0,0,0,0,0,0,0,0]
[null,null,null,"","Milestones (FC, COD, DECOM)","","","I","","FC","COD","","","","","","","","","","","","","","","","","","","","","","","","","","","","","","","","","","","","","","","","","","","","","","","","","","","","","","","","","","","","","","","","","","","","","","","","","","","","","","","","","","","","","","","","","","","","","","","","","","","","","","","","","","","","","","","","","","","","","","","","","","","","","","","","","","","","","","","","","","","","","","","","","","","","","","","","","","","","","","","","","","","","","","","","","","","","","","","","","","","","","","","","","","","","","","","","","","",""]
[null,null,null,"","","","","","","","","","","","","","","","","","","","","","","","","","","","","","","","","","","","","","","","","","","","","","","","","","","","","","","","","","","","","","","","","","","","","","","","","","","","","","","","","","","","","","","","","","","","","","","","","","","","","","","","","","","","","","","","","","","","","","","","","","","","","","","","","","","","","","","","","","","","","","","","","","","","","","","","","","","","","","","","","","","","","","","","","","","","","","","","","","","","","","","","","","","","","","","","","","","","","","","","","","",""]
[null,null,null,"","SUMMARY REPORT: Summary Sources and Uses for Linking to Financial Model","","","T","","","","","","","","","","","","","","","","","","","","","","","","","","","","","","","","","","","","","","","","","","","","","","","","","","","","","","","","","","","","","","","","","","","","","","","","","","","","","","","","","","","","","","","","","","","","","","","","","","","","","","","","","","","","","","","","","","","","","","","","","","","","","","","","","","","","","","","","","","","","","","","","","","","","","","","","","","","","","","","","","","","","","","","","","","","","","","","","","","","","","","","","","","","","","","","","","","","","","",""]
[null,null,null,"","","","","","","","","","","","","","","","","","","","","","","","","","","","","","","","","","","","","","","","","","","","","","","","","","","","","","","","","","","","","","","","","","","","","","","","","","","","","","","","","","","","","","","","","","","","","","","","","","","","","","","","","","","","","","","","","","","","","","","","","","","","","","","","","","","","","","","","","","","","","","","","","","","","","","","","","","","","","","","","","","","","","","","","","","","","","","","","","","","","","","","","","","","","","","","","","","","","","","","","","","",""]
[null,null,null,"","Repayment Percent for you to Input Into Model ","","","B","","","","","","","","","","","","","","","","","","","","","","","","","","","","","","","","","","","","","","","","","","","","","","","","","","","","","","","","","","","","","","","","","","","","","","","","","","","","","","","","","","","","","","","","","","","","","","","","","","","","","","","","","","","","","","","","","","","","","","","","","","","","","","","","","","","","","","","","","","","","","","","","","","","","","","","","","","","","","","","","","","","","","","","","","","","","","","","","","","","","","","","","","","","","","","","","","","","","","",""]
[null,null,null,"","Repayment Perod Flag ","","","C","",false,true,true,true,true,true,true,true,true,true,true,true,true,true,true,true,true,true,true,true,true,true,true,true,true,true,true,true,true,true,true,true,true,true,true,true,true,true,true,true,true,false,false,false,false,false,false,false,false,false,false,false,false,false,false,false,false,false,false,false,false,false,false,false,false,false,false,false,false,false,false,false,false,false,false,false,false,false,false,false,false,false,false,false,false,false,false,false,false,false,false,false,false,false,false,false,false,false,false,false,false,false,false,false,false,false,false,false,false,false,false,false,false,false,false,false,false,false,false,false,false,false,false,false,false,false,false,false,false,false,false,false,false,false,false,false,false,false,false,false,false,false,false,false,false,false,false,false,false,false,false,false,false,false,false,false,false,false,false,false,false,false,false,false,false,false,false,false,false,false,false,false,false,false,false,false,false,false,false,false,false,false,false,false,false,false,false,false,false,false,false,false,false,false,false,false,false]
[null,null,null,"","Repayment Period Counter ","","","C",40,0,1,2,3,4,5,6,7,8,9,10,11,12,13,14,15,16,17,18,19,20,21,22,23,24,25,26,27,28,29,30,31,32,33,34,35,36,37,38,39,40,0,0,0,0,0,0,0,0,0,0,0,0,0,0,0,0,0,0,0,0,0,0,0,0,0,0,0,0,0,0,0,0,0,0,0,0,0,0,0,0,0,0,0,0,0,0,0,0,0,0,0,0,0,0,0,0,0,0,0,0,0,0,0,0,0,0,0,0,0,0,0,0,0,0,0,0,0,0,0,0,0,0,0,0,0,0,0,0,0,0,0,0,0,0,0,0,0,0,0,0,0,0,0,0,0,0,0,0,0,0,0,0,0,0,0,0,0,0,0,0,0,0,0,0,0,0,0,0,0,0,0,0,0,0,0,0,0,0,0,0,0,0,0,0,0,0,0,0,0,0,0,0,0,0,0,0]
[null,null,null,"","Repayment Percent for Issue # 1",1,true,"P",0.9999999998913216,0,1.0759459459096489E-2,1.3349066975748987E-2,1.3590810775972777E-2,1.4217476685930638E-2,1.4526241545213774E-2,1.5185161570488735E-2,1.5584679241373266E-2,1.6219385012357986E-2,1.6550816429641374E-2,1.7279049497056238E-2,1.7644142372212193E-2,1.8409579243803986E-2,1.8795388335963437E-2,1.9599839477625915E-2,2.0094569406768199E-2,2.0870571189150835E-2,2.1284334034074915E-2,2.2172608041377904E-2,2.2627094524061558E-2,2.3560351879754009E-2,2.4040079131668599E-2,2.5020503110934369E-2,2.5630967486614201E-2,2.6577926781708363E-2,2.7092035183058593E-2,2.817377969614715E-2,2.8737129160560777E-2,2.9873238398271308E-2,3.0467303134173795E-2,3.1660409879569341E-2,3.2411414862651505E-2,3.3565112516029658E-2,3.4201365875017486E-2,3.551689336971646E-2,3.6212659879906274E-2,3.7593864967825158E-2,3.8326968592931304E-2,3.9777026125917228E-2,4.069854953475132E-2,4.2102146506195676E-2,0,0,0,0,0,0,0,0,0,0,0,0,0,0,0,0,0,0,0,0,0,0,0,0,0,0,0,0,0,0,0,0,0,0,0,0,0,0,0,0,0,0,0,0,0,0,0,0,0,0,0,0,0,0,0,0,0,0,0,0,0,0,0,0,0,0,0,0,0,0,0,0,0,0,0,0,0,0,0,0,0,0,0,0,0,0,0,0,0,0,0,0,0,0,0,0,0,0,0,0,0,0,0,0,0,0,0,0,0,0,0,0,0,0,0,0,0,0,0,0,0,0,0,0,0,0,0,0,0,0,0,0,0,0,0,0,0,0,0,0,0,0,0,0,0,0,0,0,0,0,0,0,0,0,0,0]
[null,null,null,"","Total Funding Needs to Link ",216629231.00111878,"","C",216629231.00111878,216629231.00111878,0,0,0,0,0,0,0,0,0,0,0,0,0,0,0,0,0,0,0,0,0,0,0,0,0,0,0,0,0,0,0,0,0,0,0,0,0,0,0,0,0,0,0,0,0,0,0,0,0,0,0,0,0,0,0,0,0,0,0,0,0,0,0,0,0,0,0,0,0,0,0,0,0,0,0,0,0,0,0,0,0,0,0,0,0,0,0,0,0,0,0,0,0,0,0,0,0,0,0,0,0,0,0,0,0,0,0,0,0,0,0,0,0,0,0,0,0,0,0,0,0,0,0,0,0,0,0,0,0,0,0,0,0,0,0,0,0,0,0,0,0,0,0,0,0,0,0,0,0,0,0,0,0,0,0,0,0,0,0,0,0,0,0,0,0,0,0,0,0,0,0,0,0,0,0,0,0,0,0,0,0,0,0,0,0,0,0,0,0,0,0,0,0,0,0,0]
[null,null,null,"","Total Sources and Debt",157054968.27077457,"","C",216629231.00111878,216629231.00111878,0,0,0,0,0,0,0,0,0,0,0,0,0,0,0,0,0,0,0,0,0,0,0,0,0,0,0,0,0,0,0,0,0,0,0,0,0,0,0,0,0,0,0,0,0,0,0,0,0,0,0,0,0,0,0,0,0,0,0,0,0,0,0,0,0,0,0,0,0,0,0,0,0,0,0,0,0,0,0,0,0,0,0,0,0,0,0,0,0,0,0,0,0,0,0,0,0,0,0,0,0,0,0,0,0,0,0,0,0,0,0,0,0,0,0,0,0,0,0,0,0,0,0,0,0,0,0,0,0,0,0,0,0,0,0,0,0,0,0,0,0,0,0,0,0,0,0,0,0,0,0,0,0,0,0,0,0,0,0,0,0,0,0,0,0,0,0,0,0,0,0,0,0,0,0,0,0,0,0,0,0,0,0,0,0,0,0,0,0,0,0,0,0,0,0,0]
[null,null,null,"","","","","","","","","","","","","","","","","","","","","","","","","","","","","","","","","","","","","","","","","","","","","","","","","","","","","","","","","","","","","","","","","","","","","","","","","","","","","","","","","","","","","","","","","","","","","","","","","","","","","","","","","","","","","","","","","","","","","","","","","","","","","","","","","","","","","","","","","","","","","","","","","","","","","","","","","","","","","","","","","","","","","","","","","","","","","","","","","","","","","","","","","","","","","","","","","","","","","","","","","","",""]
[null,null,null,"","Funding Needs to Link to the Model","","","B","","","","","","","","","","","","","","","","","","","","","","","","","","","","","","","","","","","","","","","","","","","","","","","","","","","","","","","","","","","","","","","","","","","","","","","","","","","","","","","","","","","","","","","","","","","","","","","","","","","","","","","","","","","","","","","","","","","","","","","","","","","","","","","","","","","","","","","","","","","","","","","","","","","","","","","","","","","","","","","","","","","","","","","","","","","","","","","","","","","","","","","","","","","","","","","","","","","","","",""]
[null,null,null,"","Capital Expenditures","","","C",216629231.00111878,216629231.00111878,0,0,0,0,0,0,0,0,0,0,0,0,0,0,0,0,0,0,0,0,0,0,0,0,0,0,0,0,0,0,0,0,0,0,0,0,0,0,0,0,0,0,0,0,0,0,0,0,0,0,0,0,0,0,0,0,0,0,0,0,0,0,0,0,0,0,0,0,0,0,0,0,0,0,0,0,0,0,0,0,0,0,0,0,0,0,0,0,0,0,0,0,0,0,0,0,0,0,0,0,0,0,0,0,0,0,0,0,0,0,0,0,0,0,0,0,0,0,0,0,0,0,0,0,0,0,0,0,0,0,0,0,0,0,0,0,0,0,0,0,0,0,0,0,0,0,0,0,0,0,0,0,0,0,0,0,0,0,0,0,0,0,0,0,0,0,0,0,0,0,0,0,0,0,0,0,0,0,0,0,0,0,0,0,0,0,0,0,0,0,0,0,0,0,0,0]
[null,null,null,"","Pre Funding of DSRA","","","C",0,0,0,0,0,0,0,0,0,0,0,0,0,0,0,0,0,0,0,0,0,0,0,0,0,0,0,0,0,0,0,0,0,0,0,0,0,0,0,0,0,0,0,0,0,0,0,0,0,0,0,0,0,0,0,0,0,0,0,0,0,0,0,0,0,0,0,0,0,0,0,0,0,0,0,0,0,0,0,0,0,0,0,0,0,0,0,0,0,0,0,0,0,0,0,0,0,0,0,0,0,0,0,0,0,0,0,0,0,0,0,0,0,0,0,0,0,0,0,0,0,0,0,0,0,0,0,0,0,0,0,0,0,0,0,0,0,0,0,0,0,0,0,0,0,0,0,0,0,0,0,0,0,0,0,0,0,0,0,0,0,0,0,0,0,0,0,0,0,0,0,0,0,0,0,0,0,0,0,0,0,0,0,0,0,0,0,0,0,0,0,0,0,0,0,0,0,0]
[null,null,null,"","Total Funding Needs (Borrowing Base Cost) ","","","U",216629231.00111878,216629231.00111878,0,0,0,0,0,0,0,0,0,0,0,0,0,0,0,0,0,0,0,0,0,0,0,0,0,0,0,0,0,0,0,0,0,0,0,0,0,0,0,0,0,0,0,0,0,0,0,0,0,0,0,0,0,0,0,0,0,0,0,0,0,0,0,0,0,0,0,0,0,0,0,0,0,0,0,0,0,0,0,0,0,0,0,0,0,0,0,0,0,0,0,0,0,0,0,0,0,0,0,0,0,0,0,0,0,0,0,0,0,0,0,0,0,0,0,0,0,0,0,0,0,0,0,0,0,0,0,0,0,0,0,0,0,0,0,0,0,0,0,0,0,0,0,0,0,0,0,0,0,0,0,0,0,0,0,0,0,0,0,0,0,0,0,0,0,0,0,0,0,0,0,0,0,0,0,0,0,0,0,0,0,0,0,0,0,0,0,0,0,0,0,0,0,0,0,0]
[null,null,null,"","","","","","","","","","","","","","","","","","","","","","","","","","","","","","","","","","","","","","","","","","","","","","","","","","","","","","","","","","","","","","","","","","","","","","","","","","","","","","","","","","","","","","","","","","","","","","","","","","","","","","","","","","","","","","","","","","","","","","","","","","","","","","","","","","","","","","","","","","","","","","","","","","","","","","","","","","","","","","","","","","","","","","","","","","","","","","","","","","","","","","","","","","","","","","","","","","","","","","","","","","",""]
[null,null,null,"","Sources of Funds","     Percent","     Amount","B","","","","","","","","","","","","","","","","","","","","","","","","","","","","","","","","","","","","","","","","","","","","","","","","","","","","","","","","","","","","","","","","","","","","","","","","","","","","","","","","","","","","","","","","","","","","","","","","","","","","","","","","","","","","","","","","","","","","","","","","","","","","","","","","","","","","","","","","","","","","","","","","","","","","","","","","","","","","","","","","","","","","","","","","","","","","","","","","","","","","","","","","","","","","","","","","","","","","","",""]
[null,null,null,"","Debt Draws ",0.72499434884650205,157054968.27077457,"C",157054968.27077457,157054968.27077457,0,0,0,0,0,0,0,0,0,0,0,0,0,0,0,0,0,0,0,0,0,0,0,0,0,0,0,0,0,0,0,0,0,0,0,0,0,0,0,0,0,0,0,0,0,0,0,0,0,0,0,0,0,0,0,0,0,0,0,0,0,0,0,0,0,0,0,0,0,0,0,0,0,0,0,0,0,0,0,0,0,0,0,0,0,0,0,0,0,0,0,0,0,0,0,0,0,0,0,0,0,0,0,0,0,0,0,0,0,0,0,0,0,0,0,0,0,0,0,0,0,0,0,0,0,0,0,0,0,0,0,0,0,0,0,0,0,0,0,0,0,0,0,0,0,0,0,0,0,0,0,0,0,0,0,0,0,0,0,0,0,0,0,0,0,0,0,0,0,0,0,0,0,0,0,0,0,0,0,0,0,0,0,0,0,0,0,0,0,0,0,0,0,0,0,0]
[null,null,null,"","Equity Draws (Equity/Capital, Applied)",0.27500565115349801,59574262.730344206,"C",59574262.730344206,59574262.730344206,0,0,0,0,0,0,0,0,0,0,0,0,0,0,0,0,0,0,0,0,0,0,0,0,0,0,0,0,0,0,0,0,0,0,0,0,0,0,0,0,0,0,0,0,0,0,0,0,0,0,0,0,0,0,0,0,0,0,0,0,0,0,0,0,0,0,0,0,0,0,0,0,0,0,0,0,0,0,0,0,0,0,0,0,0,0,0,0,0,0,0,0,0,0,0,0,0,0,0,0,0,0,0,0,0,0,0,0,0,0,0,0,0,0,0,0,0,0,0,0,0,0,0,0,0,0,0,0,0,0,0,0,0,0,0,0,0,0,0,0,0,0,0,0,0,0,0,0,0,0,0,0,0,0,0,0,0,0,0,0,0,0,0,0,0,0,0,0,0,0,0,0,0,0,0,0,0,0,0,0,0,0,0,0,0,0,0,0,0,0,0,0,0,0,0,0]
[null,null,null,"","Total Sources",1,216629231.00111878,"U",216629231.00111878,216629231.00111878,0,0,0,0,0,0,0,0,0,0,0,0,0,0,0,0,0,0,0,0,0,0,0,0,0,0,0,0,0,0,0,0,0,0,0,0,0,0,0,0,0,0,0,0,0,0,0,0,0,0,0,0,0,0,0,0,0,0,0,0,0,0,0,0,0,0,0,0,0,0,0,0,0,0,0,0,0,0,0,0,0,0,0,0,0,0,0,0,0,0,0,0,0,0,0,0,0,0,0,0,0,0,0,0,0,0,0,0,0,0,0,0,0,0,0,0,0,0,0,0,0,0,0,0,0,0,0,0,0,0,0,0,0,0,0,0,0,0,0,0,0,0,0,0,0,0,0,0,0,0,0,0,0,0,0,0,0,0,0,0,0,0,0,0,0,0,0,0,0,0,0,0,0,0,0,0,0,0,0,0,0,0,0,0,0,0,0,0,0,0,0,0,0,0,0,0]
[null,null,null,"","","","","","","","","","","","","","","","","","","","","","","","","","","","","","","","","","","","","","","","","","","","","","","","","","","","","","","","","","","","","","","","","","","","","","","","","","","","","","","","","","","","","","","","","","","","","","","","","","","","","","","","","","","","","","","","","","","","","","","","","","","","","","","","","","","","","","","","","","","","","","","","","","","","","","","","","","","","","","","","","","","","","","","","","","","","","","","","","","","","","","","","","","","","","","","","","","","","","","","","","","",""]
[null,null,null,"","CFADS Period by Period ","","","C",367290039.78038651,0,5461628.9688279489,5976469.4614959611,5985270.1189466026,6074914.7484704042,6095163.6346270563,6188671.907870695,6225084.9976486592,6310093.046623867,6328780.996383762,6430546.429162574,6453001.305006492,6559177.6713772528,6582429.3916083369,6693216.3474682244,6735776.4620684488,6836399.5975351324,6857751.3420426436,6978395.0234575011,7004240.2150044776,7130150.989272723,7156934.3055979274,7288351.7417165069,7338210.6819481496,7457473.1923050042,7481949.1606884981,7625142.674228943,7654983.548234392,7804471.7032161932,7835420.0625480153,7991490.4874319369,8050030.1239985274,8191561.8861742718,8219713.7546255784,8389864.6664391663,8424427.3917690385,8602106.8979621679,8637980.4716341104,8823534.0934752524,8892413.9772015307,9060574.3467835821,6926772.1356166285,7169588.1202627439,7251664.5830024574,7505804.8277636357,7591824.4911123561,7857821.758657773,7985852.8113302663,8233759.4645948941,8320870.8665304175,8612282.8986378051,0,0,0,0,0,0,0,0,0,0,0,0,0,0,0,0,0,0,0,0,0,0,0,0,0,0,0,0,0,0,0,0,0,0,0,0,0,0,0,0,0,0,0,0,0,0,0,0,0,0,0,0,0,0,0,0,0,0,0,0,0,0,0,0,0,0,0,0,0,0,0,0,0,0,0,0,0,0,0,0,0,0,0,0,0,0,0,0,0,0,0,0,0,0,0,0,0,0,0,0,0,0,0,0,0,0,0,0,0,0,0,0,0,0,0,0,0,0,0,0,0,0,0,0,0,0,0,0,0,0,0,0,0,0,0,0,0,0,0,0,0,0,0,0,0,0]
[null,null,null,"","Total Interest Expense","","","C",57636733.837314263,0,2355824.5240616184,2330477.1256022323,2299029.0662474218,2267011.5009195041,2233517.6206725147,2199296.3445978574,2163522.768568262,2126807.9990118006,2088597.9740344905,2049607.1547962995,2008900.7462386598,1967334.2429321676,1923964.5046719583,1879685.8678908339,1833512.0853817717,1786172.8059728488,1737005.4025342732,1686863.2464384802,1634628.4726521964,1581323.0084641518,1525818.953710306,1469184.7457315393,1410240.83089844,1349858.7691180483,1287245.8374069857,1223421.7565159961,1157049.2753723033,1089349.641744728,1018973.5341129411,947197.9142074351,872611.54417130293,796255.93817833322,717182.422960183,636610.00647541264,552938.43805655313,467627.76582996763,379063.21678450413,288771.60424033721,195063.91059866169,99185.269510957951,0,0,0,0,0,0,0,0,0,0,0,0,0,0,0,0,0,0,0,0,0,0,0,0,0,0,0,0,0,0,0,0,0,0,0,0,0,0,0,0,0,0,0,0,0,0,0,0,0,0,0,0,0,0,0,0,0,0,0,0,0,0,0,0,0,0,0,0,0,0,0,0,0,0,0,0,0,0,0,0,0,0,0,0,0,0,0,0,0,0,0,0,0,0,0,0,0,0,0,0,0,0,0,0,0,0,0,0,0,0,0,0,0,0,0,0,0,0,0,0,0,0,0,0,0,0,0,0,0,0,0,0,0,0,0,0,0,0,0,0,0,0,0,0,0,0,0,0,0,0,0,0,0,0,0,0]
[null,null,null,"","Total Fees in Debt Service","","","C",0,0,0,0,0,0,0,0,0,0,0,0,0,0,0,0,0,0,0,0,0,0,0,0,0,0,0,0,0,0,0,0,0,0,0,0,0,0,0,0,0,0,0,0,0,0,0,0,0,0,0,0,0,0,0,0,0,0,0,0,0,0,0,0,0,0,0,0,0,0,0,0,0,0,0,0,0,0,0,0,0,0,0,0,0,0,0,0,0,0,0,0,0,0,0,0,0,0,0,0,0,0,0,0,0,0,0,0,0,0,0,0,0,0,0,0,0,0,0,0,0,0,0,0,0,0,0,0,0,0,0,0,0,0,0,0,0,0,0,0,0,0,0,0,0,0,0,0,0,0,0,0,0,0,0,0,0,0,0,0,0,0,0,0,0,0,0,0,0,0,0,0,0,0,0,0,0,0,0,0,0,0,0,0,0,0,0,0,0,0,0,0,0,0,0,0,0,0]
[null,null,null,"","Total Repayment","","","C",157054968.25370613,0,1689826.5639590845,2096537.2903207019,2134504.3551945058,2232925.3497993136,2281418.4049771568,2384905.0686396938,2447651.3037640774,2547334.9984873598,2599387.9492127406,2713760.5705093108,2771100.2204328151,2891315.8840139452,2951909.1187416241,3078252.1672708131,3155951.9605948571,3277826.8959050262,3342810.4063862031,3482318.2524189278,3553697.6125363051,3700270.3169230502,3775613.8652511216,3929594.3222066136,4025470.7853594483,4174195.4474041769,4254938.7260659756,4424832.0762461834,4513308.9085050235,4691740.5087857852,4785041.3270337358,4972424.6690754807,5090373.7328646434,5271567.6812100159,5371494.4323180234,5578104.5612573028,5687378.1484390311,5904303.2696975637,6019440.8362777997,6247179.5761117013,6391909.4058469161,6612351.2836620649,0,0,0,0,0,0,0,0,0,0,0,0,0,0,0,0,0,0,0,0,0,0,0,0,0,0,0,0,0,0,0,0,0,0,0,0,0,0,0,0,0,0,0,0,0,0,0,0,0,0,0,0,0,0,0,0,0,0,0,0,0,0,0,0,0,0,0,0,0,0,0,0,0,0,0,0,0,0,0,0,0,0,0,0,0,0,0,0,0,0,0,0,0,0,0,0,0,0,0,0,0,0,0,0,0,0,0,0,0,0,0,0,0,0,0,0,0,0,0,0,0,0,0,0,0,0,0,0,0,0,0,0,0,0,0,0,0,0,0,0,0,0,0,0,0,0,0,0,0,0,0,0,0,0,0,0]
[null,null,null,"","Total Debt Service ","","","C",214691702.09102041,0,4045651.0880207028,4427014.4159229342,4433533.4214419276,4499936.8507188177,4514936.0256496714,4584201.4132375512,4611174.0723323394,4674142.9974991605,4687985.9232472312,4763367.7253056103,4780000.9666714752,4858650.1269461131,4875873.6234135823,4957938.035161647,4989464.0459766285,5063999.7018778753,5079815.8089204766,5169181.4988574078,5188326.0851885015,5281593.3253872022,5301432.8189614275,5398779.0679381527,5435711.6162578883,5524054.2165222252,5542184.5634729611,5648253.8327621799,5670358.1838773265,5781090.1505305134,5804014.8611466773,5919622.5832829159,5962985.277035946,6067823.6193883494,6088676.8552782061,6214714.567732715,6240316.5864955839,6371931.0355275311,6398504.0530623039,6535951.1803520387,6586973.3164455779,6711536.5531730233,0,0,0,0,0,0,0,0,0,0,0,0,0,0,0,0,0,0,0,0,0,0,0,0,0,0,0,0,0,0,0,0,0,0,0,0,0,0,0,0,0,0,0,0,0,0,0,0,0,0,0,0,0,0,0,0,0,0,0,0,0,0,0,0,0,0,0,0,0,0,0,0,0,0,0,0,0,0,0,0,0,0,0,0,0,0,0,0,0,0,0,0,0,0,0,0,0,0,0,0,0,0,0,0,0,0,0,0,0,0,0,0,0,0,0,0,0,0,0,0,0,0,0,0,0,0,0,0,0,0,0,0,0,0,0,0,0,0,0,0,0,0,0,0,0,0,0,0,0,0,0,0,0,0,0,0]
[null,null,null,"","Computed DSCR (Minimum) ",1.3499999999999999,"","U",1.3499999999999999,"",1.35,1.35,1.35,1.35,1.3499999999999999,1.35,1.3500000000000003,1.35,1.35,1.35,1.35,1.35,1.35,1.35,1.35,1.35,1.35,1.35,1.35,1.35,1.35,1.35,1.35,1.35,1.35,1.35,1.35,1.35,1.35,1.35,1.35,1.35,1.35,1.35,1.35,1.35,1.35,1.35,1.35,1.35,"","","","","","","","","","","","","","","","","","","","","","","","","","","","","","","","","","","","","","","","","","","","","","","","","","","","","","","","","","","","","","","","","","","","","","","","","","","","","","","","","","","","","","","","","","","","","","","","","","","","","","","","","","","","","","","","","","","","","","","","","","","","","","","","","","","","","","","","","","","","","","","","","","","","","","","","","","","",""]
[null,null,null,"","","","","","","","","","","","","","","","","","","","","","","","","","","","","","","","","","","","","","","","","","","","","","","","","","","","","","","","","","","","","","","","","","","","","","","","","","","","","","","","","","","","","","","","","","","","","","","","","","","","","","","","","","","","","","","","","","","","","","","","","","","","","","","","","","","","","","","","","","","","","","","","","","","","","","","","","","","","","","","","","","","","","","","","","","","","","","","","","","","","","","","","","","","","","","","","","","","","","","","","","","",""]
[null,null,null,"","Weighted Average Interest Rate ",0,"","P","",1.4999999999999999E-2,1.4999999999999999E-2,1.5000000000000001E-2,1.5000000000000001E-2,1.4999999999999999E-2,1.4999999999999999E-2,1.4999999999999999E-2,1.4999999999999999E-2,1.4999999999999999E-2,1.4999999999999999E-2,1.4999999999999999E-2,1.4999999999999999E-2,1.4999999999999999E-2,1.4999999999999999E-2,1.4999999999999999E-2,1.4999999999999999E-2,1.4999999999999999E-2,1.4999999999999998E-2,1.4999999999999999E-2,1.4999999999999999E-2,1.4999999999999999E-2,1.4999999999999999E-2,1.4999999999999999E-2,1.5000000000000001E-2,1.5000000000000001E-2,1.4999999999999999E-2,1.5000000000000001E-2,1.4999999999999999E-2,1.5000000000000001E-2,1.4999999999999999E-2,1.4999999999999999E-2,1.4999999999999999E-2,1.4999999999999999E-2,1.5000000000000001E-2,1.4999999999999999E-2,1.5000000000000001E-2,1.4999999999999999E-2,1.5000000000000001E-2,1.4999999999999999E-2,1.4999999999999999E-2,1.4999999999999999E-2,0,1.4999999999999999E-2,1.4999999999999999E-2,1.4999999999999999E-2,1.4999999999999999E-2,1.4999999999999999E-2,1.4999999999999999E-2,1.4999999999999999E-2,1.4999999999999999E-2,1.4999999999999999E-2,1.4999999999999999E-2,1.4999999999999999E-2,1.4999999999999999E-2,1.4999999999999999E-2,1.4999999999999999E-2,1.4999999999999999E-2,1.4999999999999999E-2,1.4999999999999999E-2,1.4999999999999999E-2,1.4999999999999999E-2,1.4999999999999999E-2,1.4999999999999999E-2,1.4999999999999999E-2,1.4999999999999999E-2,1.4999999999999999E-2,1.4999999999999999E-2,1.4999999999999999E-2,1.4999999999999999E-2,1.4999999999999999E-2,1.4999999999999999E-2,1.4999999999999999E-2,1.4999999999999999E-2,1.4999999999999999E-2,1.4999999999999999E-2,1.4999999999999999E-2,1.4999999999999999E-2,1.4999999999999999E-2,1.4999999999999999E-2,1.4999999999999999E-2,1.4999999999999999E-2,1.4999999999999999E-2,1.4999999999999999E-2,1.4999999999999999E-2,1.4999999999999999E-2,1.4999999999999999E-2,1.4999999999999999E-2,1.4999999999999999E-2,1.4999999999999999E-2,1.4999999999999999E-2,1.4999999999999999E-2,1.4999999999999999E-2,1.4999999999999999E-2,1.4999999999999999E-2,1.4999999999999999E-2,1.4999999999999999E-2,1.4999999999999999E-2,1.4999999999999999E-2,1.4999999999999999E-2,1.4999999999999999E-2,1.4999999999999999E-2,1.4999999999999999E-2,1.4999999999999999E-2,1.4999999999999999E-2,1.4999999999999999E-2,1.4999999999999999E-2,1.4999999999999999E-2,1.4999999999999999E-2,1.4999999999999999E-2,1.4999999999999999E-2,1.4999999999999999E-2,1.4999999999999999E-2,1.4999999999999999E-2,1.4999999999999999E-2,1.4999999999999999E-2,1.4999999999999999E-2,1.4999999999999999E-2,1.4999999999999999E-2,1.4999999999999999E-2,1.4999999999999999E-2,1.4999999999999999E-2,1.4999999999999999E-2,1.4999999999999999E-2,1.4999999999999999E-2,1.4999999999999999E-2,1.4999999999999999E-2,1.4999999999999999E-2,1.4999999999999999E-2,1.4999999999999999E-2,1.4999999999999999E-2,1.4999999999999999E-2,1.4999999999999999E-2,1.4999999999999999E-2,1.4999999999999999E-2,1.4999999999999999E-2,1.4999999999999999E-2,1.4999999999999999E-2,1.4999999999999999E-2,1.4999999999999999E-2,1.4999999999999999E-2,1.4999999999999999E-2,1.4999999999999999E-2,1.4999999999999999E-2,1.4999999999999999E-2,1.4999999999999999E-2,1.4999999999999999E-2,1.4999999999999999E-2,1.4999999999999999E-2,1.4999999999999999E-2,1.4999999999999999E-2,1.4999999999999999E-2,1.4999999999999999E-2,1.4999999999999999E-2,1.4999999999999999E-2,1.4999999999999999E-2,1.4999999999999999E-2,1.4999999999999999E-2,1.4999999999999999E-2,1.4999999999999999E-2,1.4999999999999999E-2,1.4999999999999999E-2,1.4999999999999999E-2,1.4999999999999999E-2,1.4999999999999999E-2,1.4999999999999999E-2,1.4999999999999999E-2,1.4999999999999999E-2,1.4999999999999999E-2,1.4999999999999999E-2,1.4999999999999999E-2,1.4999999999999999E-2,1.4999999999999999E-2,1.4999999999999999E-2,1.4999999999999999E-2,1.4999999999999999E-2,1.4999999999999999E-2,1.4999999999999999E-2,1.4999999999999999E-2,1.4999999999999999E-2,1.4999999999999999E-2,1.4999999999999999E-2,1.4999999999999999E-2,1.4999999999999999E-2,1.4999999999999999E-2,1.4999999999999999E-2,1.4999999999999999E-2,1.4999999999999999E-2,1.4999999999999999E-2,1.4999999999999999E-2,1.4999999999999999E-2,1.4999999999999999E-2,1.4999999999999999E-2,1.4999999999999999E-2,1.4999999999999999E-2,1.4999999999999999E-2,1.4999999999999999E-2,1.4999999999999999E-2]
[null,null,null,"","","","","","","","","","","","","","","","","","","","","","","","","","","","","","","","","","","","","","","","","","","","","","","","","","","","","","","","","","","","","","","","","","","","","","","","","","","","","","","","","","","","","","","","","","","","","","","","","","","","","","","","","","","","","","","","","","","","","","","","","","","","","","","","","","","","","","","","","","","","","","","","","","","","","","","","","","","","","","","","","","","","","","","","","","","","","","","","","","","","","","","","","","","","","","","","","","","","","","","","","","",""]
[null,null,null,"","Debt Sizing from CFADS and DSCR ","","","B","","","","","","","","","","","","","","","","","","","","","","","","","","","","","","","","","","","","","","","","","","","","","","","","","","","","","","","","","","","","","","","","","","","","","","","","","","","","","","","","","","","","","","","","","","","","","","","","","","","","","","","","","","","","","","","","","","","","","","","","","","","","","","","","","","","","","","","","","","","","","","","","","","","","","","","","","","","","","","","","","","","","","","","","","","","","","","","","","","","","","","","","","","","","","","","","","","","","","",""]
[null,null,null,"","Debt Sizing Method: Minimum of Percent or DSCR","","","","","","","","","","","","","","","","","","","","","","","","","","","","","","","","","","","","","","","","","","","","","","","","","","","","","","","","","","","","","","","","","","","","","","","","","","","","","","","","","","","","","","","","","","","","","","","","","","","","","","","","","","","","","","","","","","","","","","","","","","","","","","","","","","","","","","","","","","","","","","","","","","","","","","","","","","","","","","","","","","","","","","","","","","","","","","","","","","","","","","","","","","","","","","","","","","","","","","","","",""]
[null,null,null,"","Sculpt Repay: Flat LLCR ","","","","","","","","","","","","","","","","","","","","","","","","","","","","","","","","","","","","","","","","","","","","","","","","","","","","","","","","","","","","","","","","","","","","","","","","","","","","","","","","","","","","","","","","","","","","","","","","","","","","","","","","","","","","","","","","","","","","","","","","","","","","","","","","","","","","","","","","","","","","","","","","","","","","","","","","","","","","","","","","","","","","","","","","","","","","","","","","","","","","","","","","","","","","","","","","","","","","","","","","",""]
[null,null,null,"","","","","","","","","","","","","","","","","","","","","","","","","","","","","","","","","","","","","","","","","","","","","","","","","","","","","","","","","","","","","","","","","","","","","","","","","","","","","","","","","","","","","","","","","","","","","","","","","","","","","","","","","","","","","","","","","","","","","","","","","","","","","","","","","","","","","","","","","","","","","","","","","","","","","","","","","","","","","","","","","","","","","","","","","","","","","","","","","","","","","","","","","","","","","","","","","","","","","","","","","","",""]
[null,null,null,"","Calculation Checks ","","","B","","","","","","","","","","","","","","","","","","","","","","","","","","","","","","","","","","","","","","","","","","","","","","","","","","","","","","","","","","","","","","","","","","","","","","","","","","","","","","","","","","","","","","","","","","","","","","","","","","","","","","","","","","","","","","","","","","","","","","","","","","","","","","","","","","","","","","","","","","","","","","","","","","","","","","","","","","","","","","","","","","","","","","","","","","","","","","","","","","","","","","","","","","","","","","","","","","","","","",""]
[null,null,null,"","Uses and Sources Check",true,"","C","","","","","","","","","","","","","","","","","","","","","","","","","","","","","","","","","","","","","","","","","","","","","","","","","","","","","","","","","","","","","","","","","","","","","","","","","","","","","","","","","","","","","","","","","","","","","","","","","","","","","","","","","","","","","","","","","","","","","","","","","","","","","","","","","","","","","","","","","","","","","","","","","","","","","","","","","","","","","","","","","","","","","","","","","","","","","","","","","","","","","","","","","","","","","","","","","","","","","",""]
[null,null,null,"","Repayment Test",true,"","C","","","","","","","","","","","","","","","","","","","","","","","","","","","","","","","","","","","","","","","","","","","","","","","","","","","","","","","","","","","","","","","","","","","","","","","","","","","","","","","","","","","","","","","","","","","","","","","","","","","","","","","","","","","","","","","","","","","","","","","","","","","","","","","","","","","","","","","","","","","","","","","","","","","","","","","","","","","","","","","","","","","","","","","","","","","","","","","","","","","","","","","","","","","","","","","","","","","","","",""]
[null,null,null,"","Test of Repayment and Issue # 1",true,"","C","","","","","","","","","","","","","","","","","","","","","","","","","","","","","","","","","","","","","","","","","","","","","","","","","","","","","","","","","","","","","","","","","","","","","","","","","","","","","","","","","","","","","","","","","","","","","","","","","","","","","","","","","","","","","","","","","","","","","","","","","","","","","","","","","","","","","","","","","","","","","","","","","","","","","","","","","","","","","","","","","","","","","","","","","","","","","","","","","","","","","","","","","","","","","","","","","","","","","",""]
[null,null,null,"","Debt Input Percent Test: Percentages do not add up to 1",true,"","C","","","","","","","","","","","","","","","","","","","","","","","","","","","","","","","","","","","","","","","","","","","","","","","","","","","","","","","","","","","","","","","","","","","","","","","","","","","","","","","","","","","","","","","","","","","","","","","","","","","","","","","","","","","","","","","","","","","","","","","","","","","","","","","","","","","","","","","","","","","","","","","","","","","","","","","","","","","","","","","","","","","","","","","","","","","","","","","","","","","","","","","","","","","","","","","","","","","","","",""]
[null,null,null,"","Test of Debt IRR ",0,"","C","","","","","","","","","","","","","","","","","","","","","","","","","","","","","","","","","","","","","","","","","","","","","","","","","","","","","","","","","","","","","","","","","","","","","","","","","","","","","","","","","","","","","","","","","","","","","","","","","","","","","","","","","","","","","","","","","","","","","","","","","","","","","","","","","","","","","","","","","","","","","","","","","","","","","","","","","","","","","","","","","","","","","","","","","","","","","","","","","","","","","","","","","","","","","","","","","","","","","",""]
[null,null,null,"","Test that Input Debt/Cap = Output Debt/Cap ",true,"","C","","","","","","","","","","","","","","","","","","","","","","","","","","","","","","","","","","","","","","","","","","","","","","","","","","","","","","","","","","","","","","","","","","","","","","","","","","","","","","","","","","","","","","","","","","","","","","","","","","","","","","","","","","","","","","","","","","","","","","","","","","","","","","","","","","","","","","","","","","","","","","","","","","","","","","","","","","","","","","","","","","","","","","","","","","","","","","","","","","","","","","","","","","","","","","","","","","","","","",""]
[null,null,null,"","Test that DSCR Input = Output DSCR ",true,"","C","","","","","","","","","","","","","","","","","","","","","","","","","","","","","","","","","","","","","","","","","","","","","","","","","","","","","","","","","","","","","","","","","","","","","","","","","","","","","","","","","","","","","","","","","","","","","","","","","","","","","","","","","","","","","","","","","","","","","","","","","","","","","","","","","","","","","","","","","","","","","","","","","","","","","","","","","","","","","","","","","","","","","","","","","","","","","","","","","","","","","","","","","","","","","","","","","","","","","",""]
[null,null,null,"","Test that Fixed Debt = Output Debt ",true,"","C","","","","","","","","","","","","","","","","","","","","","","","","","","","","","","","","","","","","","","","","","","","","","","","","","","","","","","","","","","","","","","","","","","","","","","","","","","","","","","","","","","","","","","","","","","","","","","","","","","","","","","","","","","","","","","","","","","","","","","","","","","","","","","","","","","","","","","","","","","","","","","","","","","","","","","","","","","","","","","","","","","","","","","","","","","","","","","","","","","","","","","","","","","","","","","","","","","","","","",""]
[null,null,null,"","Test that Maturity Less Than Operation ",true,"","C","","","","","","","","","","","","","","","","","","","","","","","","","","","","","","","","","","","","","","","","","","","","","","","","","","","","","","","","","","","","","","","","","","","","","","","","","","","","","","","","","","","","","","","","","","","","","","","","","","","","","","","","","","","","","","","","","","","","","","","","","","","","","","","","","","","","","","","","","","","","","","","","","","","","","","","","","","","","","","","","","","","","","","","","","","","","","","","","","","","","","","","","","","","","","","","","","","","","","",""]
[null,null,null,"","","","","","","","","","","","","","","","","","","","","","","","","","","","","","","","","","","","","","","","","","","","","","","","","","","","","","","","","","","","","","","","","","","","","","","","","","","","","","","","","","","","","","","","","","","","","","","","","","","","","","","","","","","","","","","","","","","","","","","","","","","","","","","","","","","","","","","","","","","","","","","","","","","","","","","","","","","","","","","","","","","","","","","","","","","","","","","","","","","","","","","","","","","","","","","","","","","","","","","","","","",""]
[null,null,null,"","Iteration Output Flag","","","C",1,"","","","","","","","","","","","","","","","","","","","","","","","","","","","","","","","","","","","","","","","","","","","","","","","","","","","","","","","","","","","","","","","","","","","","","","","","","","","","","","","","","","","","","","","","","","","","","","","","","","","","","","","","","","","","","","","","","","","","","","","","","","","","","","","","","","","","","","","","","","","","","","","","","","","","","","","","","","","","","","","","","","","","","","","","","","","","","","","","","","","","","","","","","","","","","","","","","","","",""]
[null,null,null,"","","","","T","","     Iteration","     Project Cost","     CFADS Sum","     Funding Needs Sum","     Total Debt Draw","     DSCR at COD-1","     PV of Debt Service","     Total Debt Applied","     Debt Difference","     Total Weighted Interest x 100","","","","","","","","","","","","","","","","","","","","","","","","","","","","","","","","","","","","","","","","","","","","","","","","","","","","","","","","","","","","","","","","","","","","","","","","","","","","","","","","","","","","","","","","","","","","","","","","","","","","","","","","","","","","","","","","","","","","","","","","","","","","","","","","","","","","","","","","","","","","","","","","","","","","","","","","","","","","","","","","","","","","","","","","","","","","","","","","","","","","","","","","","","",""]
[null,null,null,"","","","","","","","","","","","","","","","","","","","","","","","","","","","","","","","","","","","","","","","","","","","","","","","","","","","","","","","","","","","","","","","","","","","","","","","","","","","","","","","","","","","","","","","","","","","","","","","","","","","","","","","","","","","","","","","","","","","","","","","","","","","","","","","","","","","","","","","","","","","","","","","","","","","","","","","","","","","","","","","","","","","","","","","","","","","","","","","","","","","","","","","","","","","","","","","","","","","","","","","","","",""]
[null,null,null,"","Iteration in Do Loop 1","","","C","",1,0,0,0,0,0,0,0,0,0,"","","","","","","","","","","","","","","","","","","","","","","","","","","","","","","","","","","","","","","","","","","","","","","","","","","","","","","","","","","","","","","","","","","","","","","","","","","","","","","","","","","","","","","","","","","","","","","","","","","","","","","","","","","","","","","","","","","","","","","","","","","","","","","","","","","","","","","","","","","","","","","","","","","","","","","","","","","","","","","","","","","","","","","","","","","","","","","","","","","","","","","","","","",""]
[null,null,null,"","Iteration in Do Loop 2","","","C","",2,874974513.77753091,344235346.25368077,216629231.00111878,157054968.26136571,0,143298779.69779357,157054968.26136571,-13756188.563572139,0,"","","","","","","","","","","","","","","","","","","","","","","","","","","","","","","","","","","","","","","","","","","","","","","","","","","","","","","","","","","","","","","","","","","","","","","","","","","","","","","","","","","","","","","","","","","","","","","","","","","","","","","","","","","","","","","","","","","","","","","","","","","","","","","","","","","","","","","","","","","","","","","","","","","","","","","","","","","","","","","","","","","","","","","","","","","","","","","","","","","","","","","","","","",""]
[null,null,null,"","Iteration in Do Loop 3","","","C","",3,933241679.31776917,370440611.1963101,216629231.00111878,143298779.69779357,0,158630932.68907303,143298779.69779357,15332152.991279453,1498.5000000000189,"","","","","","","","","","","","","","","","","","","","","","","","","","","","","","","","","","","","","","","","","","","","","","","","","","","","","","","","","","","","","","","","","","","","","","","","","","","","","","","","","","","","","","","","","","","","","","","","","","","","","","","","","","","","","","","","","","","","","","","","","","","","","","","","","","","","","","","","","","","","","","","","","","","","","","","","","","","","","","","","","","","","","","","","","","","","","","","","","","","","","","","","","","",""]
[null,null,null,"","Iteration in Do Loop 4","","","C","",4,969822457.41203284,362600894.74444294,216629231.00111878,158630932.68907303,0,154546836.14738783,158630932.68907303,-4084096.5416851938,1498.5000000000189,"","","","","","","","","","","","","","","","","","","","","","","","","","","","","","","","","","","","","","","","","","","","","","","","","","","","","","","","","","","","","","","","","","","","","","","","","","","","","","","","","","","","","","","","","","","","","","","","","","","","","","","","","","","","","","","","","","","","","","","","","","","","","","","","","","","","","","","","","","","","","","","","","","","","","","","","","","","","","","","","","","","","","","","","","","","","","","","","","","","","","","","","","","",""]
[null,null,null,"","Iteration in Do Loop 5","","","C","",5,951954944.82421315,368233728.23127282,216629231.00111878,154546836.14738783,0,157541005.49658594,154546836.14738783,2994169.349198103,1498.5000000000189,"","","","","","","","","","","","","","","","","","","","","","","","","","","","","","","","","","","","","","","","","","","","","","","","","","","","","","","","","","","","","","","","","","","","","","","","","","","","","","","","","","","","","","","","","","","","","","","","","","","","","","","","","","","","","","","","","","","","","","","","","","","","","","","","","","","","","","","","","","","","","","","","","","","","","","","","","","","","","","","","","","","","","","","","","","","","","","","","","","","","","","","","","","",""]
[null,null,null,"","Iteration in Do Loop 6","","","C","",6,960193964.52976382,366400312.69674218,216629231.00111878,157541005.49658594,0,156580547.09831545,157541005.49658594,-960458.39827048779,1498.5000000000189,"","","","","","","","","","","","","","","","","","","","","","","","","","","","","","","","","","","","","","","","","","","","","","","","","","","","","","","","","","","","","","","","","","","","","","","","","","","","","","","","","","","","","","","","","","","","","","","","","","","","","","","","","","","","","","","","","","","","","","","","","","","","","","","","","","","","","","","","","","","","","","","","","","","","","","","","","","","","","","","","","","","","","","","","","","","","","","","","","","","","","","","","","","",""]
[null,null,null,"","Iteration in Do Loop 7","","","C","",7,956407483.42522824,367528917.73794568,216629231.00111878,156580547.09831545,0,157179381.13118464,156580547.09831545,598834.03286918998,1498.5000000000189,"","","","","","","","","","","","","","","","","","","","","","","","","","","","","","","","","","","","","","","","","","","","","","","","","","","","","","","","","","","","","","","","","","","","","","","","","","","","","","","","","","","","","","","","","","","","","","","","","","","","","","","","","","","","","","","","","","","","","","","","","","","","","","","","","","","","","","","","","","","","","","","","","","","","","","","","","","","","","","","","","","","","","","","","","","","","","","","","","","","","","","","","","","",""]
[null,null,null,"","Iteration in Do Loop 8","","","C","",8,958152760.67240119,367116068.52110982,216629231.00111878,157179381.13118464,0,156962456.20783064,157179381.13118464,-216924.92335399985,1498.5000000000189,"","","","","","","","","","","","","","","","","","","","","","","","","","","","","","","","","","","","","","","","","","","","","","","","","","","","","","","","","","","","","","","","","","","","","","","","","","","","","","","","","","","","","","","","","","","","","","","","","","","","","","","","","","","","","","","","","","","","","","","","","","","","","","","","","","","","","","","","","","","","","","","","","","","","","","","","","","","","","","","","","","","","","","","","","","","","","","","","","","","","","","","","","","",""]
[null,null,null,"","Iteration in Do Loop 9","","","C","",9,957350138.19124901,367346129.91953474,216629231.00111878,156962456.20783064,0,157084343.86452636,156962456.20783064,121887.65669572353,1498.5000000000189,"","","","","","","","","","","","","","","","","","","","","","","","","","","","","","","","","","","","","","","","","","","","","","","","","","","","","","","","","","","","","","","","","","","","","","","","","","","","","","","","","","","","","","","","","","","","","","","","","","","","","","","","","","","","","","","","","","","","","","","","","","","","","","","","","","","","","","","","","","","","","","","","","","","","","","","","","","","","","","","","","","","","","","","","","","","","","","","","","","","","","","","","","","",""]
[null,null,null,"","Iteration in Do Loop 10","","","C","",10,957719929.83469069,367255221.326231,216629231.00111878,157084343.86452636,0,157036491.52320555,157084343.86452636,-47852.341320812702,1498.5000000000189,"","","","","","","","","","","","","","","","","","","","","","","","","","","","","","","","","","","","","","","","","","","","","","","","","","","","","","","","","","","","","","","","","","","","","","","","","","","","","","","","","","","","","","","","","","","","","","","","","","","","","","","","","","","","","","","","","","","","","","","","","","","","","","","","","","","","","","","","","","","","","","","","","","","","","","","","","","","","","","","","","","","","","","","","","","","","","","","","","","","","","","","","","","",""]
[null,null,null,"","Iteration in Do Loop 11","","","C","",11,957549811.14561343,367302694.97649115,216629231.00111878,157036491.52320555,0,157061616.69130176,157036491.52320555,25125.168096214533,1498.5000000000189,"","","","","","","","","","","","","","","","","","","","","","","","","","","","","","","","","","","","","","","","","","","","","","","","","","","","","","","","","","","","","","","","","","","","","","","","","","","","","","","","","","","","","","","","","","","","","","","","","","","","","","","","","","","","","","","","","","","","","","","","","","","","","","","","","","","","","","","","","","","","","","","","","","","","","","","","","","","","","","","","","","","","","","","","","","","","","","","","","","","","","","","","","","",""]
[null,null,null,"","Iteration in Do Loop 12","","","C","",12,957628168.00819802,367282949.16156256,216629231.00111878,157061616.69130176,0,157051211.29531822,157061616.69130176,-10405.395983546972,1498.5000000000189,"","","","","","","","","","","","","","","","","","","","","","","","","","","","","","","","","","","","","","","","","","","","","","","","","","","","","","","","","","","","","","","","","","","","","","","","","","","","","","","","","","","","","","","","","","","","","","","","","","","","","","","","","","","","","","","","","","","","","","","","","","","","","","","","","","","","","","","","","","","","","","","","","","","","","","","","","","","","","","","","","","","","","","","","","","","","","","","","","","","","","","","","","","",""]
[null,null,null,"","Iteration in Do Loop 13","","","C","",13,957592112.60799015,367292829.72141784,216629231.00111878,157051211.29531822,0,157056436.68633607,157051211.29531822,5225.3910178542137,1498.5000000000189,"","","","","","","","","","","","","","","","","","","","","","","","","","","","","","","","","","","","","","","","","","","","","","","","","","","","","","","","","","","","","","","","","","","","","","","","","","","","","","","","","","","","","","","","","","","","","","","","","","","","","","","","","","","","","","","","","","","","","","","","","","","","","","","","","","","","","","","","","","","","","","","","","","","","","","","","","","","","","","","","","","","","","","","","","","","","","","","","","","","","","","","","","","",""]
[null,null,null,"","Iteration in Do Loop 14","","","C","",14,957608716.70354819,367288577.63895679,216629231.00111878,157056436.68633607,0,157054194.38465309,157056436.68633607,-2242.3016829788685,1498.5000000000189,"","","","","","","","","","","","","","","","","","","","","","","","","","","","","","","","","","","","","","","","","","","","","","","","","","","","","","","","","","","","","","","","","","","","","","","","","","","","","","","","","","","","","","","","","","","","","","","","","","","","","","","","","","","","","","","","","","","","","","","","","","","","","","","","","","","","","","","","","","","","","","","","","","","","","","","","","","","","","","","","","","","","","","","","","","","","","","","","","","","","","","","","","","",""]
[null,null,null,"","Iteration in Do Loop 15","","","C","",15,957601075.28928435,367290646.21907669,216629231.00111878,157054194.38465309,0,157055287.81538966,157054194.38465309,1093.4307365715504,1498.5000000000189,"","","","","","","","","","","","","","","","","","","","","","","","","","","","","","","","","","","","","","","","","","","","","","","","","","","","","","","","","","","","","","","","","","","","","","","","","","","","","","","","","","","","","","","","","","","","","","","","","","","","","","","","","","","","","","","","","","","","","","","","","","","","","","","","","","","","","","","","","","","","","","","","","","","","","","","","","","","","","","","","","","","","","","","","","","","","","","","","","","","","","","","","","","",""]
[null,null,null,"","Iteration in Do Loop 16","","","C","",16,957604593.85373557,367289735.62037182,216629231.00111878,157055287.81538966,0,157054807.39794293,157055287.81538966,-480.41744673252106,1498.5000000000189,"","","","","","","","","","","","","","","","","","","","","","","","","","","","","","","","","","","","","","","","","","","","","","","","","","","","","","","","","","","","","","","","","","","","","","","","","","","","","","","","","","","","","","","","","","","","","","","","","","","","","","","","","","","","","","","","","","","","","","","","","","","","","","","","","","","","","","","","","","","","","","","","","","","","","","","","","","","","","","","","","","","","","","","","","","","","","","","","","","","","","","","","","","",""]
[null,null,null,"","Iteration in Do Loop 17","","","C","",17,957602974.40461791,367290170.43688422,216629231.00111878,157054807.39794293,0,157055037.15936533,157054807.39794293,229.76142239570618,1498.5000000000189,"","","","","","","","","","","","","","","","","","","","","","","","","","","","","","","","","","","","","","","","","","","","","","","","","","","","","","","","","","","","","","","","","","","","","","","","","","","","","","","","","","","","","","","","","","","","","","","","","","","","","","","","","","","","","","","","","","","","","","","","","","","","","","","","","","","","","","","","","","","","","","","","","","","","","","","","","","","","","","","","","","","","","","","","","","","","","","","","","","","","","","","","","","",""]
[null,null,null,"","Iteration in Do Loop 18","","","C","",18,957603720.0353936,367289976.12736833,216629231.00111878,157055037.15936533,0,157054934.61406985,157055037.15936533,-102.54529547691345,1498.5000000000189,"","","","","","","","","","","","","","","","","","","","","","","","","","","","","","","","","","","","","","","","","","","","","","","","","","","","","","","","","","","","","","","","","","","","","","","","","","","","","","","","","","","","","","","","","","","","","","","","","","","","","","","","","","","","","","","","","","","","","","","","","","","","","","","","","","","","","","","","","","","","","","","","","","","","","","","","","","","","","","","","","","","","","","","","","","","","","","","","","","","","","","","","","","",""]
[null,null,null,"","Iteration in Do Loop 19","","","C","",19,957603376.82982278,367290067.77381092,216629231.00111878,157054934.61406985,0,157054983.02988514,157054934.61406985,48.41581529378891,1498.5000000000189,"","","","","","","","","","","","","","","","","","","","","","","","","","","","","","","","","","","","","","","","","","","","","","","","","","","","","","","","","","","","","","","","","","","","","","","","","","","","","","","","","","","","","","","","","","","","","","","","","","","","","","","","","","","","","","","","","","","","","","","","","","","","","","","","","","","","","","","","","","","","","","","","","","","","","","","","","","","","","","","","","","","","","","","","","","","","","","","","","","","","","","","","","","",""]
[null,null,null,"","Iteration in Do Loop 20","","","C","",20,957603534.84087503,367290026.40793699,216629231.00111878,157054983.02988514,0,157054961.19509315,157054983.02988514,-21.834791988134384,1498.5000000000189,"","","","","","","","","","","","","","","","","","","","","","","","","","","","","","","","","","","","","","","","","","","","","","","","","","","","","","","","","","","","","","","","","","","","","","","","","","","","","","","","","","","","","","","","","","","","","","","","","","","","","","","","","","","","","","","","","","","","","","","","","","","","","","","","","","","","","","","","","","","","","","","","","","","","","","","","","","","","","","","","","","","","","","","","","","","","","","","","","","","","","","","","","","",""]
[null,null,null,"","Iteration in Do Loop 21","","","C","",21,957603462.10695243,367290045.75941372,216629231.00111878,157054961.19509315,0,157054971.41669983,157054961.19509315,10.22160667181015,1498.5000000000189,"","","","","","","","","","","","","","","","","","","","","","","","","","","","","","","","","","","","","","","","","","","","","","","","","","","","","","","","","","","","","","","","","","","","","","","","","","","","","","","","","","","","","","","","","","","","","","","","","","","","","","","","","","","","","","","","","","","","","","","","","","","","","","","","","","","","","","","","","","","","","","","","","","","","","","","","","","","","","","","","","","","","","","","","","","","","","","","","","","","","","","","","","","",""]
[null,null,null,"","Iteration in Do Loop 22","","","C","",22,957603495.59228635,367290036.9667424,216629231.00111878,157054971.41669983,0,157054966.77492824,157054971.41669983,-4.6417715847492218,1498.5000000000189,"","","","","","","","","","","","","","","","","","","","","","","","","","","","","","","","","","","","","","","","","","","","","","","","","","","","","","","","","","","","","","","","","","","","","","","","","","","","","","","","","","","","","","","","","","","","","","","","","","","","","","","","","","","","","","","","","","","","","","","","","","","","","","","","","","","","","","","","","","","","","","","","","","","","","","","","","","","","","","","","","","","","","","","","","","","","","","","","","","","","","","","","","","",""]
[null,null,null,"","Iteration in Do Loop 23","","","C","",23,957603480.17823458,367290041.05784041,216629231.00111878,157054966.77492824,0,157054968.93565834,157054966.77492824,2.1607300937175751,1498.5000000000189,"","","","","","","","","","","","","","","","","","","","","","","","","","","","","","","","","","","","","","","","","","","","","","","","","","","","","","","","","","","","","","","","","","","","","","","","","","","","","","","","","","","","","","","","","","","","","","","","","","","","","","","","","","","","","","","","","","","","","","","","","","","","","","","","","","","","","","","","","","","","","","","","","","","","","","","","","","","","","","","","","","","","","","","","","","","","","","","","","","","","","","","","","","",""]
[null,null,null,"","Iteration in Do Loop 24","","","C","",24,957603487.27440703,367290039.190781,216629231.00111878,157054968.93565834,0,157054967.94992802,157054968.93565834,-0.98573032021522522,1498.5000000000189,"","","","","","","","","","","","","","","","","","","","","","","","","","","","","","","","","","","","","","","","","","","","","","","","","","","","","","","","","","","","","","","","","","","","","","","","","","","","","","","","","","","","","","","","","","","","","","","","","","","","","","","","","","","","","","","","","","","","","","","","","","","","","","","","","","","","","","","","","","","","","","","","","","","","","","","","","","","","","","","","","","","","","","","","","","","","","","","","","","","","","","","","","","",""]
[null,null,null,"","Iteration in Do Loop 25","","","C","",25,957603484.00781631,367290040.05638099,216629231.00111878,157054967.94992802,0,157054968.40706703,157054967.94992802,0.45713901519775391,1498.5000000000189,"","","","","","","","","","","","","","","","","","","","","","","","","","","","","","","","","","","","","","","","","","","","","","","","","","","","","","","","","","","","","","","","","","","","","","","","","","","","","","","","","","","","","","","","","","","","","","","","","","","","","","","","","","","","","","","","","","","","","","","","","","","","","","","","","","","","","","","","","","","","","","","","","","","","","","","","","","","","","","","","","","","","","","","","","","","","","","","","","","","","","","","","","","",""]
[null,null,null,"","Iteration in Do Loop 26","","","C","",26,957603485.51163423,367290039.66019052,216629231.00111878,157054968.40706703,0,157054968.19788307,157054968.40706703,-0.2091839611530304,1498.5000000000189,"","","","","","","","","","","","","","","","","","","","","","","","","","","","","","","","","","","","","","","","","","","","","","","","","","","","","","","","","","","","","","","","","","","","","","","","","","","","","","","","","","","","","","","","","","","","","","","","","","","","","","","","","","","","","","","","","","","","","","","","","","","","","","","","","","","","","","","","","","","","","","","","","","","","","","","","","","","","","","","","","","","","","","","","","","","","","","","","","","","","","","","","","","",""]
[null,null,null,"","Iteration in Do Loop 27","","","C","",27,957603484.81937075,367290039.8434341,216629231.00111878,157054968.19788307,0,157054968.29465288,157054968.19788307,9.6769809722900391E-2,1498.5000000000189,"","","","","","","","","","","","","","","","","","","","","","","","","","","","","","","","","","","","","","","","","","","","","","","","","","","","","","","","","","","","","","","","","","","","","","","","","","","","","","","","","","","","","","","","","","","","","","","","","","","","","","","","","","","","","","","","","","","","","","","","","","","","","","","","","","","","","","","","","","","","","","","","","","","","","","","","","","","","","","","","","","","","","","","","","","","","","","","","","","","","","","","","","","",""]
[null,null,null,"","Iteration in Do Loop 28","","","C","",28,957603485.13805985,367290039.75939971,216629231.00111878,157054968.29465288,0,157054968.25028202,157054968.29465288,-4.4370859861373901E-2,1498.5000000000189,"","","","","","","","","","","","","","","","","","","","","","","","","","","","","","","","","","","","","","","","","","","","","","","","","","","","","","","","","","","","","","","","","","","","","","","","","","","","","","","","","","","","","","","","","","","","","","","","","","","","","","","","","","","","","","","","","","","","","","","","","","","","","","","","","","","","","","","","","","","","","","","","","","","","","","","","","","","","","","","","","","","","","","","","","","","","","","","","","","","","","","","","","","",""]
[null,null,null,"","Iteration in Do Loop 29","","","C","",29,957603484.99135423,367290039.79820544,216629231.00111878,157054968.25028202,0,157054968.27077457,157054968.25028202,2.04925537109375E-2,1498.5000000000189,"","","","","","","","","","","","","","","","","","","","","","","","","","","","","","","","","","","","","","","","","","","","","","","","","","","","","","","","","","","","","","","","","","","","","","","","","","","","","","","","","","","","","","","","","","","","","","","","","","","","","","","","","","","","","","","","","","","","","","","","","","","","","","","","","","","","","","","","","","","","","","","","","","","","","","","","","","","","","","","","","","","","","","","","","","","","","","","","","","","","","","","","","","",""]
[null,null,null,"","Iteration in Do Loop 30","","","C","",30,957603485.0588913,367290039.78038651,216629231.00111878,157054968.27077457,0,157054968.26136571,157054968.27077457,-9.4088613986968994E-3,1498.5000000000189,"","","","","","","","","","","","","","","","","","","","","","","","","","","","","","","","","","","","","","","","","","","","","","","","","","","","","","","","","","","","","","","","","","","","","","","","","","","","","","","","","","","","","","","","","","","","","","","","","","","","","","","","","","","","","","","","","","","","","","","","","","","","","","","","","","","","","","","","","","","","","","","","","","","","","","","","","","","","","","","","","","","","","","","","","","","","","","","","","","","","","","","","","","",""]
[null,null,null,"","","","","","","","","","","","","","","","","","","","","","","","","","","","","","","","","","","","","","","","","","","","","","","","","","","","","","","","","","","","","","","","","","","","","","","","","","","","","","","","","","","","","","","","","","","","","","","","","","","","","","","","","","","","","","","","","","","","","","","","","","","","","","","","","","","","","","","","","","","","","","","","","","","","","","","","","","","","","","","","","","","","","","","","","","","","","","","","","","","","","","","","","","","","","","","","","","","","","","","","","","",""]
[null,null,null,"","Calculation Speed","","","C",""," Iterations ",31," Circular Resolution ",1.3757318258285522E-2,"","","","","","","","","","","","","","","","","","","","","","","","","","","","","","","","","","","","","","","","","","","","","","","","","","","","","","","","","","","","","","","","","","","","","","","","","","","","","","","","","","","","","","","","","","","","","","","","","","","","","","","","","","","","","","","","","","","","","","","","","","","","","","","","","","","","","","","","","","","","","","","","","","","","","","","","","","","","","","","","","","","","","","","","","","","","","","","","","","","","","","","","","","","","","","","","",""]
[null,null,null,"","Other Data","","","C",""," Dev Exp ",0," Cap Exp ",216629231.00111878," Dev Fee ",0," IDC ",0," Commitment Fee ",0," DSRA ",0," Up Front",0," Total Fees ",0,"","","","","","","","","","","","","","","","","","","","","","","","","","","","","","","","","","","","","","","","","","","","","","","","","","","","","","","","","","","","","","","","","","","","","","","","","","","","","","","","","","","","","","","","","","","","","","","","","","","","","","","","","","","","","","","","","","","","","","","","","","","","","","","","","","","","","","","","","","","","","","","","","","","","","","","","","","","","","","","","","","","","","","","","","","","","","","","","","","","","",""]
[null,null,null,"","","","","","","","","","","","","","","","","","","","","","","","","","","","","","","","","","","","","","","","","","","","","","","","","","","","","","","","","","","","","","","","","","","","","","","","","","","","","","","","","","","","","","","","","","","","","","","","","","","","","","","","","","","","","","","","","","","","","","","","","","","","","","","","","","","","","","","","","","","","","","","","","","","","","","","","","","","","","","","","","","","","","","","","","","","","","","","","","","","","","","","","","","","","","","","","","","","","","","","","","","",""]
[null,null,null,"","CFADS REPORT -- Part 1: Debt Sizing Summary","","","G","","","","","","","","","","","","","","","","","","","","","","","","","","","","","","","","","","","","","","","","","","","","","","","","","","","","","","","","","","","","","","","","","","","","","","","","","","","","","","","","","","","","","","","","","","","","","","","","","","","","","","","","","","","","","","","","","","","","","","","","","","","","","","","","","","","","","","","","","","","","","","","","","","","","","","","","","","","","","","","","","","","","","","","","","","","","","","","","","","","","","","","","","","","","","","","","","","","","","",""]
[null,null,null,"","","","","","","","","","","","","","","","","","","","","","","","","","","","","","","","","","","","","","","","","","","","","","","","","","","","","","","","","","","","","","","","","","","","","","","","","","","","","","","","","","","","","","","","","","","","","","","","","","","","","","","","","","","","","","","","","","","","","","","","","","","","","","","","","","","","","","","","","","","","","","","","","","","","","","","","","","","","","","","","","","","","","","","","","","","","","","","","","","","","","","","","","","","","","","","","","","","","","","","","","","",""]
[null,null,null,"","First, Calculate Income Taxes Deducted","","","T","","","","","","","","","","","","","","","","","","","","","","","","","","","","","","","","","","","","","","","","","","","","","","","","","","","","","","","","","","","","","","","","","","","","","","","","","","","","","","","","","","","","","","","","","","","","","","","","","","","","","","","","","","","","","","","","","","","","","","","","","","","","","","","","","","","","","","","","","","","","","","","","","","","","","","","","","","","","","","","","","","","","","","","","","","","","","","","","","","","","","","","","","","","","","","","","","","","","","",""]
[null,null,null,"","Computation of Taxes with Interest for CFADS","","","B","","","","","","","","","","","","","","","","","","","","","","","","","","","","","","","","","","","","","","","","","","","","","","","","","","","","","","","","","","","","","","","","","","","","","","","","","","","","","","","","","","","","","","","","","","","","","","","","","","","","","","","","","","","","","","","","","","","","","","","","","","","","","","","","","","","","","","","","","","","","","","","","","","","","","","","","","","","","","","","","","","","","","","","","","","","","","","","","","","","","","","","","","","","","","","","","","","","","","",""]
[null,null,null,"","EBITDA (Debt Sizing Program) ","","","C",431726431.71915704,0,4727500,4810000,4837201.4739180878,5035699.2,5064267.8157761907,5271948.1728000008,5332695.0446894588,5519242.4431921942,5550750.3887561178,5778101.0000333115,5811187.8831614098,6049067.4172544191,6083810.8635400068,6332711.0288914498,6405952.3265082994,6629628.1607602565,6667933.009864267,6940443.4215282714,6980661.2862378908,7265811.0560695315,7308035.9327359544,7606416.3641310204,7694716.6236204505,7962977.187486589,8009516.7328412021,8336245.4689101167,8385102.5760324579,8727008.886462871,8778297.3846698832,9136092.5667610969,9242545.5909096971,9564360.8810696546,9620876.2527074311,10012719.328255849,10072042.183732346,10482116.508835595,10544384.708232772,10973546.194551365,11101885.129447576,11488049.498139368,11556649.355709448,12026717.14817173,12098717.863725794,12590691.874099379,12666260.428896831,13181170.906872848,13335901.392832138,13799408.600782365,13882646.973116402,14446719.182435561,0,0,0,0,0,0,0,0,0,0,0,0,0,0,0,0,0,0,0,0,0,0,0,0,0,0,0,0,0,0,0,0,0,0,0,0,0,0,0,0,0,0,0,0,0,0,0,0,0,0,0,0,0,0,0,0,0,0,0,0,0,0,0,0,0,0,0,0,0,0,0,0,0,0,0,0,0,0,0,0,0,0,0,0,0,0,0,0,0,0,0,0,0,0,0,0,0,0,0,0,0,0,0,0,0,0,0,0,0,0,0,0,0,0,0,0,0,0,0,0,0,0,0,0,0,0,0,0,0,0,0,0,0,0,0,0,0,0,0,0,0,0,0,0,0,0]
[null,null,null,"","Base Depreciation ","","","C",216629231.00111869,0,5415730.7750279699,5415730.7750279699,5415730.7750279699,5415730.7750279699,5415730.7750279699,5415730.7750279699,5415730.7750279699,5415730.7750279699,5415730.7750279699,5415730.7750279699,5415730.7750279699,5415730.7750279699,5415730.7750279699,5415730.7750279699,5415730.7750279699,5415730.7750279699,5415730.7750279699,5415730.7750279699,5415730.7750279699,5415730.7750279699,5415730.7750279699,5415730.7750279699,5415730.7750279699,5415730.7750279699,5415730.7750279699,5415730.7750279699,5415730.7750279699,5415730.7750279699,5415730.7750279699,5415730.7750279699,5415730.7750279699,5415730.7750279699,5415730.7750279699,5415730.7750279699,5415730.7750279699,5415730.7750279699,5415730.7750279699,5415730.7750279699,5415730.7750279699,5415730.7750279699,0,0,0,0,0,0,0,0,0,0,0,0,0,0,0,0,0,0,0,0,0,0,0,0,0,0,0,0,0,0,0,0,0,0,0,0,0,0,0,0,0,0,0,0,0,0,0,0,0,0,0,0,0,0,0,0,0,0,0,0,0,0,0,0,0,0,0,0,0,0,0,0,0,0,0,0,0,0,0,0,0,0,0,0,0,0,0,0,0,0,0,0,0,0,0,0,0,0,0,0,0,0,0,0,0,0,0,0,0,0,0,0,0,0,0,0,0,0,0,0,0,0,0,0,0,0,0,0,0,0,0,0,0,0,0,0,0,0,0,0,0,0,0,0,0,0,0,0,0,0,0,0,0,0,0,0]
[null,null,null,"","Depreciation Rate - Base ","","","P",1.0000000000000007,0,2.5000000000000012E-2,2.5000000000000012E-2,2.5000000000000012E-2,2.5000000000000012E-2,2.5000000000000012E-2,2.5000000000000012E-2,2.5000000000000012E-2,2.5000000000000012E-2,2.5000000000000012E-2,2.5000000000000012E-2,2.5000000000000012E-2,2.5000000000000012E-2,2.5000000000000012E-2,2.5000000000000012E-2,2.5000000000000012E-2,2.5000000000000012E-2,2.5000000000000012E-2,2.5000000000000012E-2,2.5000000000000012E-2,2.5000000000000012E-2,2.5000000000000012E-2,2.5000000000000012E-2,2.5000000000000012E-2,2.5000000000000012E-2,2.5000000000000012E-2,2.5000000000000012E-2,2.5000000000000012E-2,2.5000000000000012E-2,2.5000000000000012E-2,2.5000000000000012E-2,2.5000000000000012E-2,2.5000000000000012E-2,2.5000000000000012E-2,2.5000000000000012E-2,2.5000000000000012E-2,2.5000000000000012E-2,2.5000000000000012E-2,2.5000000000000012E-2,2.5000000000000012E-2,2.5000000000000012E-2,0,0,0,0,0,0,0,0,0,0,0,0,0,0,0,0,0,0,0,0,0,0,0,0,0,0,0,0,0,0,0,0,0,0,0,0,0,0,0,0,0,0,0,0,0,0,0,0,0,0,0,0,0,0,0,0,0,0,0,0,0,0,0,0,0,0,0,0,0,0,0,0,0,0,0,0,0,0,0,0,0,0,0,0,0,0,0,0,0,0,0,0,0,0,0,0,0,0,0,0,0,0,0,0,0,0,0,0,0,0,0,0,0,0,0,0,0,0,0,0,0,0,0,0,0,0,0,0,0,0,0,0,0,0,0,0,0,0,0,0,0,0,0,0,0,0,0,0,0,0,0,0,0,0,0,0]
[null,null,null,"","","","","","","","","","","","","","","","","","","","","","","","","","","","","","","","","","","","","","","","","","","","","","","","","","","","","","","","","","","","","","","","","","","","","","","","","","","","","","","","","","","","","","","","","","","","","","","","","","","","","","","","","","","","","","","","","","","","","","","","","","","","","","","","","","","","","","","","","","","","","","","","","","","","","","","","","","","","","","","","","","","","","","","","","","","","","","","","","","","","","","","","","","","","","","","","","","","","","","","","","","",""]
[null,null,null,"","Financing Items - Base Currency ","","","C",0,0,0,0,0,0,0,0,0,0,0,0,0,0,0,0,0,0,0,0,0,0,0,0,0,0,0,0,0,0,0,0,0,0,0,0,0,0,0,0,0,0,0,0,0,0,0,0,0,0,0,0,0,0,0,0,0,0,0,0,0,0,0,0,0,0,0,0,0,0,0,0,0,0,0,0,0,0,0,0,0,0,0,0,0,0,0,0,0,0,0,0,0,0,0,0,0,0,0,0,0,0,0,0,0,0,0,0,0,0,0,0,0,0,0,0,0,0,0,0,0,0,0,0,0,0,0,0,0,0,0,0,0,0,0,0,0,0,0,0,0,0,0,0,0,0,0,0,0,0,0,0,0,0,0,0,0,0,0,0,0,0,0,0,0,0,0,0,0,0,0,0,0,0,0,0,0,0,0,0,0,0,0,0,0,0,0,0,0,0,0,0,0,0,0,0,0,0]
[null,null,null,"","Exchange Rate in Depreciation ","","","C","",1,1,1,1,1,1,1,1,1,1,1,1,1,1,1,1,1,1,1,1,1,1,1,1,1,1,1,1,1,1,1,1,1,1,1,1,1,1,1,1,1,1,1,1,1,1,1,1,1,1,1,1,1,1,1,1,1,1,1,1,1,1,1,1,1,1,1,1,1,1,1,1,1,1,1,1,1,1,1,1,1,1,1,1,1,1,1,1,1,1,1,0,0,0,0,0,0,0,0,0,0,0,0,0,0,0,0,0,0,0,0,0,0,0,0,0,0,0,0,0,0,0,0,0,0,0,0,0,0,0,0,0,0,0,0,0,0,0,0,0,0,0,0,0,0,0,0,0,0,0,0,0,0,0,0,0,0,0,0,0,0,0,0,0,0,0,0,0,0,0,0,0,0,0,0,0,0,0,0,0,0,0,0,0,0,0,0,0,0,0,0,0,0,0,0,0,0]
[null,null,null,"","Financing Items Alternative Currency ","","","C",0,0,0,0,0,0,0,0,0,0,0,0,0,0,0,0,0,0,0,0,0,0,0,0,0,0,0,0,0,0,0,0,0,0,0,0,0,0,0,0,0,0,0,0,0,0,0,0,0,0,0,0,0,0,0,0,0,0,0,0,0,0,0,0,0,0,0,0,0,0,0,0,0,0,0,0,0,0,0,0,0,0,0,0,0,0,0,0,0,0,0,0,0,0,0,0,0,0,0,0,0,0,0,0,0,0,0,0,0,0,0,0,0,0,0,0,0,0,0,0,0,0,0,0,0,0,0,0,0,0,0,0,0,0,0,0,0,0,0,0,0,0,0,0,0,0,0,0,0,0,0,0,0,0,0,0,0,0,0,0,0,0,0,0,0,0,0,0,0,0,0,0,0,0,0,0,0,0,0,0,0,0,0,0,0,0,0,0,0,0,0,0,0,0,0,0,0,0]
[null,null,null,"","Financing Items Base - Alternative Currency","","","C","",0,0,0,0,0,0,0,0,0,0,0,0,0,0,0,0,0,0,0,0,0,0,0,0,0,0,0,0,0,0,0,0,0,0,0,0,0,0,0,0,0,0,0,0,0,0,0,0,0,0,0,0,0,0,0,0,0,0,0,0,0,0,0,0,0,0,0,0,0,0,0,0,0,0,0,0,0,0,0,0,0,0,0,0,0,0,0,0,0,0,0,0,0,0,0,0,0,0,0,0,0,0,0,0,0,0,0,0,0,0,0,0,0,0,0,0,0,0,0,0,0,0,0,0,0,0,0,0,0,0,0,0,0,0,0,0,0,0,0,0,0,0,0,0,0,0,0,0,0,0,0,0,0,0,0,0,0,0,0,0,0,0,0,0,0,0,0,0,0,0,0,0,0,0,0,0,0,0,0,0,0,0,0,0,0,0,0,0,0,0,0,0,0,0,0,0,0]
[null,null,null,"","Depreciation Rate on Financing Items","","","P",1.0000000000000007,0,2.5000000000000012E-2,2.5000000000000012E-2,2.5000000000000012E-2,2.5000000000000012E-2,2.5000000000000012E-2,2.5000000000000012E-2,2.5000000000000012E-2,2.5000000000000012E-2,2.5000000000000012E-2,2.5000000000000012E-2,2.5000000000000012E-2,2.5000000000000012E-2,2.5000000000000012E-2,2.5000000000000012E-2,2.5000000000000012E-2,2.5000000000000012E-2,2.5000000000000012E-2,2.5000000000000012E-2,2.5000000000000012E-2,2.5000000000000012E-2,2.5000000000000012E-2,2.5000000000000012E-2,2.5000000000000012E-2,2.5000000000000012E-2,2.5000000000000012E-2,2.5000000000000012E-2,2.5000000000000012E-2,2.5000000000000012E-2,2.5000000000000012E-2,2.5000000000000012E-2,2.5000000000000012E-2,2.5000000000000012E-2,2.5000000000000012E-2,2.5000000000000012E-2,2.5000000000000012E-2,2.5000000000000012E-2,2.5000000000000012E-2,2.5000000000000012E-2,2.5000000000000012E-2,2.5000000000000012E-2,0,0,0,0,0,0,0,0,0,0,0,0,0,0,0,0,0,0,0,0,0,0,0,0,0,0,0,0,0,0,0,0,0,0,0,0,0,0,0,0,0,0,0,0,0,0,0,0,0,0,0,0,0,0,0,0,0,0,0,0,0,0,0,0,0,0,0,0,0,0,0,0,0,0,0,0,0,0,0,0,0,0,0,0,0,0,0,0,0,0,0,0,0,0,0,0,0,0,0,0,0,0,0,0,0,0,0,0,0,0,0,0,0,0,0,0,0,0,0,0,0,0,0,0,0,0,0,0,0,0,0,0,0,0,0,0,0,0,0,0,0,0,0,0,0,0,0,0,0,0,0,0,0,0,0,0]
[null,null,null,"","Depreciation on Financing - Base Currency","","","C",0,0,0,0,0,0,0,0,0,0,0,0,0,0,0,0,0,0,0,0,0,0,0,0,0,0,0,0,0,0,0,0,0,0,0,0,0,0,0,0,0,0,0,0,0,0,0,0,0,0,0,0,0,0,0,0,0,0,0,0,0,0,0,0,0,0,0,0,0,0,0,0,0,0,0,0,0,0,0,0,0,0,0,0,0,0,0,0,0,0,0,0,0,0,0,0,0,0,0,0,0,0,0,0,0,0,0,0,0,0,0,0,0,0,0,0,0,0,0,0,0,0,0,0,0,0,0,0,0,0,0,0,0,0,0,0,0,0,0,0,0,0,0,0,0,0,0,0,0,0,0,0,0,0,0,0,0,0,0,0,0,0,0,0,0,0,0,0,0,0,0,0,0,0,0,0,0,0,0,0,0,0,0,0,0,0,0,0,0,0,0,0,0,0,0,0,0,0]
[null,null,null,"","","","","","","","","","","","","","","","","","","","","","","","","","","","","","","","","","","","","","","","","","","","","","","","","","","","","","","","","","","","","","","","","","","","","","","","","","","","","","","","","","","","","","","","","","","","","","","","","","","","","","","","","","","","","","","","","","","","","","","","","","","","","","","","","","","","","","","","","","","","","","","","","","","","","","","","","","","","","","","","","","","","","","","","","","","","","","","","","","","","","","","","","","","","","","","","","","","","","","","","","","",""]
[null,null,null,"","Total Interest Expense ","","","C",57636733.837314263,0,2355824.5240616184,2330477.1256022323,2299029.0662474218,2267011.5009195041,2233517.6206725147,2199296.3445978574,2163522.768568262,2126807.9990118006,2088597.9740344905,2049607.1547962995,2008900.7462386598,1967334.2429321676,1923964.5046719583,1879685.8678908339,1833512.0853817717,1786172.8059728488,1737005.4025342732,1686863.2464384802,1634628.4726521964,1581323.0084641518,1525818.953710306,1469184.7457315393,1410240.83089844,1349858.7691180483,1287245.8374069857,1223421.7565159961,1157049.2753723033,1089349.641744728,1018973.5341129411,947197.9142074351,872611.54417130293,796255.93817833322,717182.422960183,636610.00647541264,552938.43805655313,467627.76582996763,379063.21678450413,288771.60424033721,195063.91059866169,99185.269510957951,0,0,0,0,0,0,0,0,0,0,0,0,0,0,0,0,0,0,0,0,0,0,0,0,0,0,0,0,0,0,0,0,0,0,0,0,0,0,0,0,0,0,0,0,0,0,0,0,0,0,0,0,0,0,0,0,0,0,0,0,0,0,0,0,0,0,0,0,0,0,0,0,0,0,0,0,0,0,0,0,0,0,0,0,0,0,0,0,0,0,0,0,0,0,0,0,0,0,0,0,0,0,0,0,0,0,0,0,0,0,0,0,0,0,0,0,0,0,0,0,0,0,0,0,0,0,0,0,0,0,0,0,0,0,0,0,0,0,0,0,0,0,0,0,0,0,0,0,0,0,0,0,0,0,0,0]
[null,null,null,"","Percentage Limit on Interest Expense ","","","P","",1,1,1,1,1,1,1,1,1,1,1,1,1,1,1,1,1,1,1,1,1,1,1,1,1,1,1,1,1,1,1,1,1,1,1,1,1,1,1,1,1,1,1,1,1,1,1,1,1,1,1,1,1,1,1,1,1,1,1,1,1,1,1,1,1,1,1,1,1,1,1,1,1,1,1,1,1,1,1,1,1,1,1,1,1,1,1,1,1,1,1,1,1,1,1,1,1,1,1,1,1,1,1,1,1,1,1,1,1,1,1,1,1,1,1,1,1,1,1,1,1,1,1,1,1,1,1,1,1,1,1,1,1,1,1,1,1,1,1,1,1,1,1,1,1,1,1,1,1,1,1,1,1,1,1,1,1,1,1,1,1,1,1,1,1,1,1,1,1,1,1,1,1,1,1,1,1,1,1,1,1,1,1,1,1,1,1,1,1,1,1,1,1,1,1,1,1]
[null,null,null,"","Interest Expense Deducted","","","C",57636733.837314263,0,2355824.5240616184,2330477.1256022323,2299029.0662474218,2267011.5009195041,2233517.6206725147,2199296.3445978574,2163522.768568262,2126807.9990118006,2088597.9740344905,2049607.1547962995,2008900.7462386598,1967334.2429321676,1923964.5046719583,1879685.8678908339,1833512.0853817717,1786172.8059728488,1737005.4025342732,1686863.2464384802,1634628.4726521964,1581323.0084641518,1525818.953710306,1469184.7457315393,1410240.83089844,1349858.7691180483,1287245.8374069857,1223421.7565159961,1157049.2753723033,1089349.641744728,1018973.5341129411,947197.9142074351,872611.54417130293,796255.93817833322,717182.422960183,636610.00647541264,552938.43805655313,467627.76582996763,379063.21678450413,288771.60424033721,195063.91059866169,99185.269510957951,0,0,0,0,0,0,0,0,0,0,0,0,0,0,0,0,0,0,0,0,0,0,0,0,0,0,0,0,0,0,0,0,0,0,0,0,0,0,0,0,0,0,0,0,0,0,0,0,0,0,0,0,0,0,0,0,0,0,0,0,0,0,0,0,0,0,0,0,0,0,0,0,0,0,0,0,0,0,0,0,0,0,0,0,0,0,0,0,0,0,0,0,0,0,0,0,0,0,0,0,0,0,0,0,0,0,0,0,0,0,0,0,0,0,0,0,0,0,0,0,0,0,0,0,0,0,0,0,0,0,0,0,0,0,0,0,0,0,0,0,0,0,0,0,0,0,0,0,0,0,0,0,0,0,0,0]
[null,null,null,"","Earnings Before Tax and NOL ","","","U",157460466.9012737,0,-3044055.2987822001,-2936207.9003152451,-2877558.3670345913,-2647043.0756168147,-2584980.5795854917,-2343078.9464786812,-2246558.4985510786,-2023296.3304831223,-1953578.359932913,-1687236.9294083314,-1613443.6377131699,-1333997.6003040127,-1255884.4157483219,-962705.61360561685,-843290.53346931725,-572275.4197977935,-484803.16724430141,-162150.59947332903,-69697.960965975188,268757.27306544292,366486.20449773339,721500.84388388461,868745.01821903582,1197387.6438784993,1306540.1209574272,1697092.9379309101,1812322.5262108576,2221928.4702831022,2343593.0761365094,2773163.8781481972,2954203.2723482666,3352374.1685169088,3487963.0553889377,3960378.5474386257,4103372.9713508883,4598757.9686980462,4749590.7171584358,5269043.8160393843,5491090.444595906,5973133.4543944979,11556649.355709448,12026717.14817173,12098717.863725794,12590691.874099379,12666260.428896831,13181170.906872848,13335901.392832138,13799408.600782365,13882646.973116402,14446719.182435561,0,0,0,0,0,0,0,0,0,0,0,0,0,0,0,0,0,0,0,0,0,0,0,0,0,0,0,0,0,0,0,0,0,0,0,0,0,0,0,0,0,0,0,0,0,0,0,0,0,0,0,0,0,0,0,0,0,0,0,0,0,0,0,0,0,0,0,0,0,0,0,0,0,0,0,0,0,0,0,0,0,0,0,0,0,0,0,0,0,0,0,0,0,0,0,0,0,0,0,0,0,0,0,0,0,0,0,0,0,0,0,0,0,0,0,0,0,0,0,0,0,0,0,0,0,0,0,0,0,0,0,0,0,0,0,0,0,0,0,0,0,0,0,0,0,0]
[null,null,null,"","","","","","","","","","","","","","","","","","","","","","","","","","","","","","","","","","","","","","","","","","","","","","","","","","","","","","","","","","","","","","","","","","","","","","","","","","","","","","","","","","","","","","","","","","","","","","","","","","","","","","","","","","","","","","","","","","","","","","","","","","","","","","","","","","","","","","","","","","","","","","","","","","","","","","","","","","","","","","","","","","","","","","","","","","","","","","","","","","","","","","","","","","","","","","","","","","","","","","","","","","",""]
[null,null,null,"","NOL Analysis ","","","T","","","","","","","","","","","","","","","","","","","","","","","","","","","","","","","","","","","","","","","","","","","","","","","","","","","","","","","","","","","","","","","","","","","","","","","","","","","","","","","","","","","","","","","","","","","","","","","","","","","","","","","","","","","","","","","","","","","","","","","","","","","","","","","","","","","","","","","","","","","","","","","","","","","","","","","","","","","","","","","","","","","","","","","","","","","","","","","","","","","","","","","","","","","","","","","","","","","","","",""]
[null,null,null,"","","","","","","","","","","","","","","","","","","","","","","","","","","","","","","","","","","","","","","","","","","","","","","","","","","","","","","","","","","","","","","","","","","","","","","","","","","","","","","","","","","","","","","","","","","","","","","","","","","","","","","","","","","","","","","","","","","","","","","","","","","","","","","","","","","","","","","","","","","","","","","","","","","","","","","","","","","","","","","","","","","","","","","","","","","","","","","","","","","","","","","","","","","","","","","","","","","","","","","","","","",""]
[null,null,null,"","Tax Loss ","","","C",0,0,0,0,0,0,0,0,0,0,0,0,0,0,0,0,0,0,0,0,0,0,0,0,0,0,0,0,0,0,0,0,0,0,0,0,0,0,0,0,0,0,0,0,0,0,0,0,0,0,0,0,0,0,0,0,0,0,0,0,0,0,0,0,0,0,0,0,0,0,0,0,0,0,0,0,0,0,0,0,0,0,0,0,0,0,0,0,0,0,0,0,0,0,0,0,0,0,0,0,0,0,0,0,0,0,0,0,0,0,0,0,0,0,0,0,0,0,0,0,0,0,0,0,0,0,0,0,0,0,0,0,0,0,0,0,0,0,0,0,0,0,0,0,0,0,0,0,0,0,0,0,0,0,0,0,0,0,0,0,0,0,0,0,0,0,0,0,0,0,0,0,0,0,0,0,0,0,0,0,0,0,0,0,0,0,0,0,0,0,0,0,0,0,0,0,0,0]
[null,null,null,"","Max Tax Loss Utilisation ","","","C","",1,1,1,1,1,1,1,1,1,1,1,1,1,1,1,1,1,1,1,1,1,1,1,1,1,1,1,1,1,1,1,1,1,1,1,1,1,1,1,1,1,1,1,1,1,1,1,1,1,1,1,1,1,1,1,1,1,1,1,1,1,1,1,1,1,1,1,1,1,1,1,1,1,1,1,1,1,1,1,1,1,1,1,1,1,1,1,1,1,1,1,1,1,1,1,1,1,1,1,1,1,1,1,1,1,1,1,1,1,1,1,1,1,1,1,1,1,1,1,1,1,1,1,1,1,1,1,1,1,1,1,1,1,1,1,1,1,1,1,1,1,1,1,1,1,1,1,1,1,1,1,1,1,1,1,1,1,1,1,1,1,1,1,1,1,1,1,1,1,1,1,1,1,1,1,1,1,1,1,1,1,1,1,1,1,1,1,1,1,1,1,1,1,1,1,1,1]
[null,null,null,"","NOL Created ","","","C",0,0,0,0,0,0,0,0,0,0,0,0,0,0,0,0,0,0,0,0,0,0,0,0,0,0,0,0,0,0,0,0,0,0,0,0,0,0,0,0,0,0,0,0,0,0,0,0,0,0,0,0,0,0,0,0,0,0,0,0,0,0,0,0,0,0,0,0,0,0,0,0,0,0,0,0,0,0,0,0,0,0,0,0,0,0,0,0,0,0,0,0,0,0,0,0,0,0,0,0,0,0,0,0,0,0,0,0,0,0,0,0,0,0,0,0,0,0,0,0,0,0,0,0,0,0,0,0,0,0,0,0,0,0,0,0,0,0,0,0,0,0,0,0,0,0,0,0,0,0,0,0,0,0,0,0,0,0,0,0,0,0,0,0,0,0,0,0,0,0,0,0,0,0,0,0,0,0,0,0,0,0,0,0,0,0,0,0,0,0,0,0,0,0,0,0,0,0]
[null,null,null,"","NOL Used ","","","C",0,0,0,0,0,0,0,0,0,0,0,0,0,0,0,0,0,0,0,0,0,0,0,0,0,0,0,0,0,0,0,0,0,0,0,0,0,0,0,0,0,0,0,0,0,0,0,0,0,0,0,0,0,0,0,0,0,0,0,0,0,0,0,0,0,0,0,0,0,0,0,0,0,0,0,0,0,0,0,0,0,0,0,0,0,0,0,0,0,0,0,0,0,0,0,0,0,0,0,0,0,0,0,0,0,0,0,0,0,0,0,0,0,0,0,0,0,0,0,0,0,0,0,0,0,0,0,0,0,0,0,0,0,0,0,0,0,0,0,0,0,0,0,0,0,0,0,0,0,0,0,0,0,0,0,0,0,0,0,0,0,0,0,0,0,0,0,0,0,0,0,0,0,0,0,0,0,0,0,0,0,0,0,0,0,0,0,0,0,0,0,0,0,0,0,0,0,0]
[null,null,null,"","NOL Expired ","","","C",0,0,0,0,0,0,0,0,0,0,0,0,0,0,0,0,0,0,0,0,0,0,0,0,0,0,0,0,0,0,0,0,0,0,0,0,0,0,0,0,0,0,0,0,0,0,0,0,0,0,0,0,0,0,0,0,0,0,0,0,0,0,0,0,0,0,0,0,0,0,0,0,0,0,0,0,0,0,0,0,0,0,0,0,0,0,0,0,0,0,0,0,0,0,0,0,0,0,0,0,0,0,0,0,0,0,0,0,0,0,0,0,0,0,0,0,0,0,0,0,0,0,0,0,0,0,0,0,0,0,0,0,0,0,0,0,0,0,0,0,0,0,0,0,0,0,0,0,0,0,0,0,0,0,0,0,0,0,0,0,0,0,0,0,0,0,0,0,0,0,0,0,0,0,0,0,0,0,0,0,0,0,0,0,0,0,0,0,0,0,0,0,0,0,0,0,0,0]
[null,null,null,"","NOL Closing Balance ","","","U","",0,0,0,0,0,0,0,0,0,0,0,0,0,0,0,0,0,0,0,0,0,0,0,0,0,0,0,0,0,0,0,0,0,0,0,0,0,0,0,0,0,0,0,0,0,0,0,0,0,0,0,0,0,0,0,0,0,0,0,0,0,0,0,0,0,0,0,0,0,0,0,0,0,0,0,0,0,0,0,0,0,0,0,0,0,0,0,0,0,0,0,0,0,0,0,0,0,0,0,0,0,0,0,0,0,0,0,0,0,0,0,0,0,0,0,0,0,0,0,0,0,0,0,0,0,0,0,0,0,0,0,0,0,0,0,0,0,0,0,0,0,0,0,0,0,0,0,0,0,0,0,0,0,0,0,0,0,0,0,0,0,0,0,0,0,0,0,0,0,0,0,0,0,0,0,0,0,0,0,0,0,0,0,0,0,0,0,0,0,0,0,0,0,0,0,0,0]
[null,null,null,"","","","","","","","","","","","","","","","","","","","","","","","","","","","","","","","","","","","","","","","","","","","","","","","","","","","","","","","","","","","","","","","","","","","","","","","","","","","","","","","","","","","","","","","","","","","","","","","","","","","","","","","","","","","","","","","","","","","","","","","","","","","","","","","","","","","","","","","","","","","","","","","","","","","","","","","","","","","","","","","","","","","","","","","","","","","","","","","","","","","","","","","","","","","","","","","","","","","","","","","","","",""]
[null,null,null,"","Adjusted EBT ","","","C",157460466.9012737,0,-3044055.2987822001,-2936207.9003152451,-2877558.3670345913,-2647043.0756168147,-2584980.5795854917,-2343078.9464786812,-2246558.4985510786,-2023296.3304831223,-1953578.359932913,-1687236.9294083314,-1613443.6377131699,-1333997.6003040127,-1255884.4157483219,-962705.61360561685,-843290.53346931725,-572275.4197977935,-484803.16724430141,-162150.59947332903,-69697.960965975188,268757.27306544292,366486.20449773339,721500.84388388461,868745.01821903582,1197387.6438784993,1306540.1209574272,1697092.9379309101,1812322.5262108576,2221928.4702831022,2343593.0761365094,2773163.8781481972,2954203.2723482666,3352374.1685169088,3487963.0553889377,3960378.5474386257,4103372.9713508883,4598757.9686980462,4749590.7171584358,5269043.8160393843,5491090.444595906,5973133.4543944979,11556649.355709448,12026717.14817173,12098717.863725794,12590691.874099379,12666260.428896831,13181170.906872848,13335901.392832138,13799408.600782365,13882646.973116402,14446719.182435561,0,0,0,0,0,0,0,0,0,0,0,0,0,0,0,0,0,0,0,0,0,0,0,0,0,0,0,0,0,0,0,0,0,0,0,0,0,0,0,0,0,0,0,0,0,0,0,0,0,0,0,0,0,0,0,0,0,0,0,0,0,0,0,0,0,0,0,0,0,0,0,0,0,0,0,0,0,0,0,0,0,0,0,0,0,0,0,0,0,0,0,0,0,0,0,0,0,0,0,0,0,0,0,0,0,0,0,0,0,0,0,0,0,0,0,0,0,0,0,0,0,0,0,0,0,0,0,0,0,0,0,0,0,0,0,0,0,0,0,0,0,0,0,0,0,0]
[null,null,null,"","Tax Rate ","","","P","",0.4,0.4,0.4,0.4,0.4,0.4,0.4,0.4,0.4,0.4,0.4,0.4,0.4,0.4,0.4,0.4,0.4,0.4,0.4,0.4,0.4,0.4,0.4,0.4,0.4,0.4,0.4,0.4,0.4,0.4,0.4,0.4,0.4,0.4,0.4,0.4,0.4,0.4,0.4,0.4,0.4,0.4,0.4,0.4,0.4,0.4,0.4,0.4,0.4,0.4,0.4,0.4,0.4,0.4,0.4,0.4,0.4,0.4,0.4,0.4,0.4,0.4,0.4,0.4,0.4,0.4,0.4,0.4,0.4,0.4,0.4,0.4,0.4,0.4,0.4,0.4,0.4,0.4,0.4,0.4,0.4,0.4,0.4,0.4,0.4,0.4,0.4,0.4,0.4,0.4,0.4,0,0,0,0,0,0,0,0,0,0,0,0,0,0,0,0,0,0,0,0,0,0,0,0,0,0,0,0,0,0,0,0,0,0,0,0,0,0,0,0,0,0,0,0,0,0,0,0,0,0,0,0,0,0,0,0,0,0,0,0,0,0,0,0,0,0,0,0,0,0,0,0,0,0,0,0,0,0,0,0,0,0,0,0,0,0,0,0,0,0,0,0,0,0,0,0,0,0,0,0,0,0,0,0,0,0]
[null,null,null,"","Taxed Paid ","","","U",62984186.760509476,0,-1217622.11951288,-1174483.1601260982,-1151023.3468138366,-1058817.230246726,-1033992.2318341967,-937231.57859147247,-898623.39942043147,-809318.53219324898,-781431.34397316526,-674894.77176333265,-645377.45508526801,-533599.04012160504,-502353.76629932877,-385082.24544224679,-337316.21338772692,-228910.1679191174,-193921.26689772058,-64860.239789331616,-27879.184386390076,107502.90922617717,146594.48179909337,288600.33755355387,347498.00728761434,478955.05755139975,522616.04838297091,678837.17517236411,724929.01048434305,888771.38811324094,937437.23045460379,1109265.551259279,1181681.3089393068,1340949.6674067636,1395185.2221555752,1584151.4189754503,1641349.1885403553,1839503.1874792185,1899836.2868633745,2107617.5264157536,2196436.1778383623,2389253.3817577991,4622659.7422837792,4810686.8592686923,4839487.1454903176,5036276.7496397523,5066504.1715587331,5272468.3627491398,5334360.5571328551,5519763.4403129462,5553058.789246561,5778687.6729742251,0,0,0,0,0,0,0,0,0,0,0,0,0,0,0,0,0,0,0,0,0,0,0,0,0,0,0,0,0,0,0,0,0,0,0,0,0,0,0,0,0,0,0,0,0,0,0,0,0,0,0,0,0,0,0,0,0,0,0,0,0,0,0,0,0,0,0,0,0,0,0,0,0,0,0,0,0,0,0,0,0,0,0,0,0,0,0,0,0,0,0,0,0,0,0,0,0,0,0,0,0,0,0,0,0,0,0,0,0,0,0,0,0,0,0,0,0,0,0,0,0,0,0,0,0,0,0,0,0,0,0,0,0,0,0,0,0,0,0,0,0,0,0,0,0,0]
[null,null,null,"","","","","","","","","","","","","","","","","","","","","","","","","","","","","","","","","","","","","","","","","","","","","","","","","","","","","","","","","","","","","","","","","","","","","","","","","","","","","","","","","","","","","","","","","","","","","","","","","","","","","","","","","","","","","","","","","","","","","","","","","","","","","","","","","","","","","","","","","","","","","","","","","","","","","","","","","","","","","","","","","","","","","","","","","","","","","","","","","","","","","","","","","","","","","","","","","","","","","","","","","","",""]
[null,null,null,"","NOL Expired Analysis ","","","T","","","","","","","","","","","","","","","","","","","","","","","","","","","","","","","","","","","","","","","","","","","","","","","","","","","","","","","","","","","","","","","","","","","","","","","","","","","","","","","","","","","","","","","","","","","","","","","","","","","","","","","","","","","","","","","","","","","","","","","","","","","","","","","","","","","","","","","","","","","","","","","","","","","","","","","","","","","","","","","","","","","","","","","","","","","","","","","","","","","","","","","","","","","","","","","","","","","","","",""]
[null,null,null,"","NOL Limit in Periods ","","","C","",1000,1000,1000,1000,1000,1000,1000,1000,1000,1000,1000,1000,1000,1000,1000,1000,1000,1000,1000,1000,1000,1000,1000,1000,1000,1000,1000,1000,1000,1000,1000,1000,1000,1000,1000,1000,1000,1000,1000,1000,1000,1000,1000,1000,1000,1000,1000,1000,1000,1000,1000,1000,1000,1000,1000,1000,1000,1000,1000,1000,1000,1000,1000,1000,1000,1000,1000,1000,1000,1000,1000,1000,1000,1000,1000,1000,1000,1000,1000,1000,1000,1000,1000,1000,1000,1000,1000,1000,1000,1000,1000,1000,1000,1000,1000,1000,1000,1000,1000,1000,1000,1000,1000,1000,1000,1000,1000,1000,1000,1000,1000,1000,1000,1000,1000,1000,1000,1000,1000,1000,1000,1000,1000,1000,1000,1000,1000,1000,1000,1000,1000,1000,1000,1000,1000,1000,1000,1000,1000,1000,1000,1000,1000,1000,1000,1000,1000,1000,1000,1000,1000,1000,1000,1000,1000,1000,1000,1000,1000,1000,1000,1000,1000,1000,1000,1000,1000,1000,1000,1000,1000,1000,1000,1000,1000,1000,1000,1000,1000,1000,1000,1000,1000,1000,1000,1000,1000,1000,1000,1000,1000,1000,1000,1000,1000,1000,1000]
[null,null,null,"","NOL Expired without Limit (Offset) ","","","C","",0,0,0,0,0,0,0,0,0,0,0,0,0,0,0,0,0,0,0,0,0,0,0,0,0,0,0,0,0,0,0,0,0,0,0,0,0,0,0,0,0,0,0,0,0,0,0,0,0,0,0,0,0,0,0,0,0,0,0,0,0,0,0,0,0,0,0,0,0,0,0,0,0,0,0,0,0,0,0,0,0,0,0,0,0,0,0,0,0,0,0,0,0,0,0,0,0,0,0,0,0,0,0,0,0,0,0,0,0,0,0,0,0,0,0,0,0,0,0,0,0,0,0,0,0,0,0,0,0,0,0,0,0,0,0,0,0,0,0,0,0,0,0,0,0,0,0,0,0,0,0,0,0,0,0,0,0,0,0,0,0,0,0,0,0,0,0,0,0,0,0,0,0,0,0,0,0,0,0,0,0,0,0,0,0,0,0,0,0,0,0,0,0,0,0,0,0]
[null,null,null,"","","","","","","","","","","","","","","","","","","","","","","","","","","","","","","","","","","","","","","","","","","","","","","","","","","","","","","","","","","","","","","","","","","","","","","","","","","","","","","","","","","","","","","","","","","","","","","","","","","","","","","","","","","","","","","","","","","","","","","","","","","","","","","","","","","","","","","","","","","","","","","","","","","","","","","","","","","","","","","","","","","","","","","","","","","","","","","","","","","","","","","","","","","","","","","","","","","","","","","","","","",""]
[null,null,null,"","Opening Balance of NOL Already Used ","","","C","",0,0,0,0,0,0,0,0,0,0,0,0,0,0,0,0,0,0,0,0,0,0,0,0,0,0,0,0,0,0,0,0,0,0,0,0,0,0,0,0,0,0,0,0,0,0,0,0,0,0,0,0,0,0,0,0,0,0,0,0,0,0,0,0,0,0,0,0,0,0,0,0,0,0,0,0,0,0,0,0,0,0,0,0,0,0,0,0,0,0,0,0,0,0,0,0,0,0,0,0,0,0,0,0,0,0,0,0,0,0,0,0,0,0,0,0,0,0,0,0,0,0,0,0,0,0,0,0,0,0,0,0,0,0,0,0,0,0,0,0,0,0,0,0,0,0,0,0,0,0,0,0,0,0,0,0,0,0,0,0,0,0,0,0,0,0,0,0,0,0,0,0,0,0,0,0,0,0,0,0,0,0,0,0,0,0,0,0,0,0,0,0,0,0,0,0,0]
[null,null,null,"","Add: NOL Used in Period ","","","C",0,0,0,0,0,0,0,0,0,0,0,0,0,0,0,0,0,0,0,0,0,0,0,0,0,0,0,0,0,0,0,0,0,0,0,0,0,0,0,0,0,0,0,0,0,0,0,0,0,0,0,0,0,0,0,0,0,0,0,0,0,0,0,0,0,0,0,0,0,0,0,0,0,0,0,0,0,0,0,0,0,0,0,0,0,0,0,0,0,0,0,0,0,0,0,0,0,0,0,0,0,0,0,0,0,0,0,0,0,0,0,0,0,0,0,0,0,0,0,0,0,0,0,0,0,0,0,0,0,0,0,0,0,0,0,0,0,0,0,0,0,0,0,0,0,0,0,0,0,0,0,0,0,0,0,0,0,0,0,0,0,0,0,0,0,0,0,0,0,0,0,0,0,0,0,0,0,0,0,0,0,0,0,0,0,0,0,0,0,0,0,0,0,0,0,0,0,0]
[null,null,null,"","Less: Reduction for NOL Not Usable (Min) ","","","C",0,0,0,0,0,0,0,0,0,0,0,0,0,0,0,0,0,0,0,0,0,0,0,0,0,0,0,0,0,0,0,0,0,0,0,0,0,0,0,0,0,0,0,0,0,0,0,0,0,0,0,0,0,0,0,0,0,0,0,0,0,0,0,0,0,0,0,0,0,0,0,0,0,0,0,0,0,0,0,0,0,0,0,0,0,0,0,0,0,0,0,0,0,0,0,0,0,0,0,0,0,0,0,0,0,0,0,0,0,0,0,0,0,0,0,0,0,0,0,0,0,0,0,0,0,0,0,0,0,0,0,0,0,0,0,0,0,0,0,0,0,0,0,0,0,0,0,0,0,0,0,0,0,0,0,0,0,0,0,0,0,0,0,0,0,0,0,0,0,0,0,0,0,0,0,0,0,0,0,0,0,0,0,0,0,0,0,0,0,0,0,0,0,0,0,0,0,0]
[null,null,null,"","Closing Balance of Already Used ","","","U","",0,0,0,0,0,0,0,0,0,0,0,0,0,0,0,0,0,0,0,0,0,0,0,0,0,0,0,0,0,0,0,0,0,0,0,0,0,0,0,0,0,0,0,0,0,0,0,0,0,0,0,0,0,0,0,0,0,0,0,0,0,0,0,0,0,0,0,0,0,0,0,0,0,0,0,0,0,0,0,0,0,0,0,0,0,0,0,0,0,0,0,0,0,0,0,0,0,0,0,0,0,0,0,0,0,0,0,0,0,0,0,0,0,0,0,0,0,0,0,0,0,0,0,0,0,0,0,0,0,0,0,0,0,0,0,0,0,0,0,0,0,0,0,0,0,0,0,0,0,0,0,0,0,0,0,0,0,0,0,0,0,0,0,0,0,0,0,0,0,0,0,0,0,0,0,0,0,0,0,0,0,0,0,0,0,0,0,0,0,0,0,0,0,0,0,0,0]
[null,null,null,"","NOL Expired without Limit (Offset) ","","","C",0,0,0,0,0,0,0,0,0,0,0,0,0,0,0,0,0,0,0,0,0,0,0,0,0,0,0,0,0,0,0,0,0,0,0,0,0,0,0,0,0,0,0,0,0,0,0,0,0,0,0,0,0,0,0,0,0,0,0,0,0,0,0,0,0,0,0,0,0,0,0,0,0,0,0,0,0,0,0,0,0,0,0,0,0,0,0,0,0,0,0,0,0,0,0,0,0,0,0,0,0,0,0,0,0,0,0,0,0,0,0,0,0,0,0,0,0,0,0,0,0,0,0,0,0,0,0,0,0,0,0,0,0,0,0,0,0,0,0,0,0,0,0,0,0,0,0,0,0,0,0,0,0,0,0,0,0,0,0,0,0,0,0,0,0,0,0,0,0,0,0,0,0,0,0,0,0,0,0,0,0,0,0,0,0,0,0,0,0,0,0,0,0,0,0,0,0,0]
[null,null,null,"","Less: NOL Usable ","","","C",0,0,0,0,0,0,0,0,0,0,0,0,0,0,0,0,0,0,0,0,0,0,0,0,0,0,0,0,0,0,0,0,0,0,0,0,0,0,0,0,0,0,0,0,0,0,0,0,0,0,0,0,0,0,0,0,0,0,0,0,0,0,0,0,0,0,0,0,0,0,0,0,0,0,0,0,0,0,0,0,0,0,0,0,0,0,0,0,0,0,0,0,0,0,0,0,0,0,0,0,0,0,0,0,0,0,0,0,0,0,0,0,0,0,0,0,0,0,0,0,0,0,0,0,0,0,0,0,0,0,0,0,0,0,0,0,0,0,0,0,0,0,0,0,0,0,0,0,0,0,0,0,0,0,0,0,0,0,0,0,0,0,0,0,0,0,0,0,0,0,0,0,0,0,0,0,0,0,0,0,0,0,0,0,0,0,0,0,0,0,0,0,0,0,0,0,0,0]
[null,null,null,"","NOL Expired ","","","U",0,0,0,0,0,0,0,0,0,0,0,0,0,0,0,0,0,0,0,0,0,0,0,0,0,0,0,0,0,0,0,0,0,0,0,0,0,0,0,0,0,0,0,0,0,0,0,0,0,0,0,0,0,0,0,0,0,0,0,0,0,0,0,0,0,0,0,0,0,0,0,0,0,0,0,0,0,0,0,0,0,0,0,0,0,0,0,0,0,0,0,0,0,0,0,0,0,0,0,0,0,0,0,0,0,0,0,0,0,0,0,0,0,0,0,0,0,0,0,0,0,0,0,0,0,0,0,0,0,0,0,0,0,0,0,0,0,0,0,0,0,0,0,0,0,0,0,0,0,0,0,0,0,0,0,0,0,0,0,0,0,0,0,0,0,0,0,0,0,0,0,0,0,0,0,0,0,0,0,0,0,0,0,0,0,0,0,0,0,0,0,0,0,0,0,0,0,0]
[null,null,null,"","","","","","","","","","","","","","","","","","","","","","","","","","","","","","","","","","","","","","","","","","","","","","","","","","","","","","","","","","","","","","","","","","","","","","","","","","","","","","","","","","","","","","","","","","","","","","","","","","","","","","","","","","","","","","","","","","","","","","","","","","","","","","","","","","","","","","","","","","","","","","","","","","","","","","","","","","","","","","","","","","","","","","","","","","","","","","","","","","","","","","","","","","","","","","","","","","","","","","","","","","",""]
[null,null,null,"","CFADS Calculation","","","B","","","","","","","","","","","","","","","","","","","","","","","","","","","","","","","","","","","","","","","","","","","","","","","","","","","","","","","","","","","","","","","","","","","","","","","","","","","","","","","","","","","","","","","","","","","","","","","","","","","","","","","","","","","","","","","","","","","","","","","","","","","","","","","","","","","","","","","","","","","","","","","","","","","","","","","","","","","","","","","","","","","","","","","","","","","","","","","","","","","","","","","","","","","","","","","","","","","","","",""]
[null,null,null,"","EBITDA (From Debt Sizing Program) ","","","C",431726431.71915704,0,4727500,4810000,4837201.4739180878,5035699.2,5064267.8157761907,5271948.1728000008,5332695.0446894588,5519242.4431921942,5550750.3887561178,5778101.0000333115,5811187.8831614098,6049067.4172544191,6083810.8635400068,6332711.0288914498,6405952.3265082994,6629628.1607602565,6667933.009864267,6940443.4215282714,6980661.2862378908,7265811.0560695315,7308035.9327359544,7606416.3641310204,7694716.6236204505,7962977.187486589,8009516.7328412021,8336245.4689101167,8385102.5760324579,8727008.886462871,8778297.3846698832,9136092.5667610969,9242545.5909096971,9564360.8810696546,9620876.2527074311,10012719.328255849,10072042.183732346,10482116.508835595,10544384.708232772,10973546.194551365,11101885.129447576,11488049.498139368,11556649.355709448,12026717.14817173,12098717.863725794,12590691.874099379,12666260.428896831,13181170.906872848,13335901.392832138,13799408.600782365,13882646.973116402,14446719.182435561,0,0,0,0,0,0,0,0,0,0,0,0,0,0,0,0,0,0,0,0,0,0,0,0,0,0,0,0,0,0,0,0,0,0,0,0,0,0,0,0,0,0,0,0,0,0,0,0,0,0,0,0,0,0,0,0,0,0,0,0,0,0,0,0,0,0,0,0,0,0,0,0,0,0,0,0,0,0,0,0,0,0,0,0,0,0,0,0,0,0,0,0,0,0,0,0,0,0,0,0,0,0,0,0,0,0,0,0,0,0,0,0,0,0,0,0,0,0,0,0,0,0,0,0,0,0,0,0,0,0,0,0,0,0,0,0,0,0,0,0,0,0,0,0,0,0]
[null,null,null,"","Net Funding of MRA Account ","","","C",0,0,0,0,0,0,0,0,0,0,0,0,0,0,0,0,0,0,0,0,0,0,0,0,0,0,0,0,0,0,0,0,0,0,0,0,0,0,0,0,0,0,0,0,0,0,0,0,0,0,0,0,0,0,0,0,0,0,0,0,0,0,0,0,0,0,0,0,0,0,0,0,0,0,0,0,0,0,0,0,0,0,0,0,0,0,0,0,0,0,0,0,0,0,0,0,0,0,0,0,0,0,0,0,0,0,0,0,0,0,0,0,0,0,0,0,0,0,0,0,0,0,0,0,0,0,0,0,0,0,0,0,0,0,0,0,0,0,0,0,0,0,0,0,0,0,0,0,0,0,0,0,0,0,0,0,0,0,0,0,0,0,0,0,0,0,0,0,0,0,0,0,0,0,0,0,0,0,0,0,0,0,0,0,0,0,0,0,0,0,0,0,0,0,0,0,0,0]
[null,null,null,"","Working Capital Change ","","","C",0,0,483493.15068493149,8013.6986301369616,2954.7017853225698,19601.68177632126,3096.4129833312472,20507.843520778406,6233.446461231797,18467.92876157607,3400.7363455214072,22449.342634069966,3564.0332401863998,23488.785998770501,3735.2382309987443,24576.926865472458,7492.077827577712,22138.731144241174,4102.934719344019,26908.637860101648,4300.2556198033271,28157.157570631127,4507.1453389336821,29464.284860959509,9007.9343846872216,26548.937630185159,4951.5237697332632,32265.61950880941,5190.0173137225211,33765.795133436797,5440.0916672636522,35336.528069880442,10834.157971862354,31849.327488618786,5977.2759262778563,38703.242841231986,6265.6034229531651,40506.423394207843,6567.9497352859471,42394.574660358718,13034.974407682428,38221.769597987179,7217.4778090412728,46442.168640294578,7566.1352330192458,48610.296695991186,7931.766225742409,50880.785465935245,15688.024369016755,45885.69587452407,8717.3173394231126,55748.610823530005,-1452205.1782609441,0,0,0,0,0,0,0,0,0,0,0,0,0,0,0,0,0,0,0,0,0,0,0,0,0,0,0,0,0,0,0,0,0,0,0,0,0,0,0,0,0,0,0,0,0,0,0,0,0,0,0,0,0,0,0,0,0,0,0,0,0,0,0,0,0,0,0,0,0,0,0,0,0,0,0,0,0,0,0,0,0,0,0,0,0,0,0,0,0,0,0,0,0,0,0,0,0,0,0,0,0,0,0,0,0,0,0,0,0,0,0,0,0,0,0,0,0,0,0,0,0,0,0,0,0,0,0,0,0,0,0,0,0,0,0,0,0,0,0,0,0,0,0,0,0]
[null,null,null,"","Add: Draws from WC Revolver Facility ","","","C",0,0,0,0,0,0,0,0,0,0,0,0,0,0,0,0,0,0,0,0,0,0,0,0,0,0,0,0,0,0,0,0,0,0,0,0,0,0,0,0,0,0,0,0,0,0,0,0,0,0,0,0,0,0,0,0,0,0,0,0,0,0,0,0,0,0,0,0,0,0,0,0,0,0,0,0,0,0,0,0,0,0,0,0,0,0,0,0,0,0,0,0,0,0,0,0,0,0,0,0,0,0,0,0,0,0,0,0,0,0,0,0,0,0,0,0,0,0,0,0,0,0,0,0,0,0,0,0,0,0,0,0,0,0,0,0,0,0,0,0,0,0,0,0,0,0,0,0,0,0,0,0,0,0,0,0,0,0,0,0,0,0,0,0,0,0,0,0,0,0,0,0,0,0,0,0,0,0,0,0,0,0,0,0,0,0,0,0,0,0,0,0,0,0,0,0,0,0]
[null,null,null,"","Less: Repayments of WC Revolver Facility ","","","C",0,0,0,0,0,0,0,0,0,0,0,0,0,0,0,0,0,0,0,0,0,0,0,0,0,0,0,0,0,0,0,0,0,0,0,0,0,0,0,0,0,0,0,0,0,0,0,0,0,0,0,0,0,0,0,0,0,0,0,0,0,0,0,0,0,0,0,0,0,0,0,0,0,0,0,0,0,0,0,0,0,0,0,0,0,0,0,0,0,0,0,0,0,0,0,0,0,0,0,0,0,0,0,0,0,0,0,0,0,0,0,0,0,0,0,0,0,0,0,0,0,0,0,0,0,0,0,0,0,0,0,0,0,0,0,0,0,0,0,0,0,0,0,0,0,0,0,0,0,0,0,0,0,0,0,0,0,0,0,0,0,0,0,0,0,0,0,0,0,0,0,0,0,0,0,0,0,0,0,0,0,0,0,0,0,0,0,0,0,0,0,0,0,0,0,0,0,0]
[null,null,null,"","Less: Interest and Fees on WC Revolver ","","","C",0,0,0,0,0,0,0,0,0,0,0,0,0,0,0,0,0,0,0,0,0,0,0,0,0,0,0,0,0,0,0,0,0,0,0,0,0,0,0,0,0,0,0,0,0,0,0,0,0,0,0,0,0,0,0,0,0,0,0,0,0,0,0,0,0,0,0,0,0,0,0,0,0,0,0,0,0,0,0,0,0,0,0,0,0,0,0,0,0,0,0,0,0,0,0,0,0,0,0,0,0,0,0,0,0,0,0,0,0,0,0,0,0,0,0,0,0,0,0,0,0,0,0,0,0,0,0,0,0,0,0,0,0,0,0,0,0,0,0,0,0,0,0,0,0,0,0,0,0,0,0,0,0,0,0,0,0,0,0,0,0,0,0,0,0,0,0,0,0,0,0,0,0,0,0,0,0,0,0,0,0,0,0,0,0,0,0,0,0,0,0,0,0,0,0,0,0,0]
[null,null,null,"","Less: Fees on Debt Service Reserve Letter of Credit ","","","C",0,0,0,0,0,0,0,0,0,0,0,0,0,0,0,0,0,0,0,0,0,0,0,0,0,0,0,0,0,0,0,0,0,0,0,0,0,0,0,0,0,0,0,0,0,0,0,0,0,0,0,0,0,0,0,0,0,0,0,0,0,0,0,0,0,0,0,0,0,0,0,0,0,0,0,0,0,0,0,0,0,0,0,0,0,0,0,0,0,0,0,0,0,0,0,0,0,0,0,0,0,0,0,0,0,0,0,0,0,0,0,0,0,0,0,0,0,0,0,0,0,0,0,0,0,0,0,0,0,0,0,0,0,0,0,0,0,0,0,0,0,0,0,0,0,0,0,0,0,0,0,0,0,0,0,0,0,0,0,0,0,0,0,0,0,0,0,0,0,0,0,0,0,0,0,0,0,0,0,0,0,0,0,0,0,0,0,0,0,0,0,0,0,0,0,0,0,0]
[null,null,null,"","Add: Interest Income on DSRA ","","","C",0,0,0,0,0,0,0,0,0,0,0,0,0,0,0,0,0,0,0,0,0,0,0,0,0,0,0,0,0,0,0,0,0,0,0,0,0,0,0,0,0,0,0,0,0,0,0,0,0,0,0,0,0,0,0,0,0,0,0,0,0,0,0,0,0,0,0,0,0,0,0,0,0,0,0,0,0,0,0,0,0,0,0,0,0,0,0,0,0,0,0,0,0,0,0,0,0,0,0,0,0,0,0,0,0,0,0,0,0,0,0,0,0,0,0,0,0,0,0,0,0,0,0,0,0,0,0,0,0,0,0,0,0,0,0,0,0,0,0,0,0,0,0,0,0,0,0,0,0,0,0,0,0,0,0,0,0,0,0,0,0,0,0,0,0,0,0,0,0,0,0,0,0,0,0,0,0,0,0,0,0,0,0,0,0,0,0,0,0,0,0,0,0,0,0,0,0,0]
[null,null,null,"","Add: Changes in DSRA Included in CFADS ","","","C",0,0,0,0,0,0,0,0,0,0,0,0,0,0,0,0,0,0,0,0,0,0,0,0,0,0,0,0,0,0,0,0,0,0,0,0,0,0,0,0,0,0,0,0,0,0,0,0,0,0,0,0,0,0,0,0,0,0,0,0,0,0,0,0,0,0,0,0,0,0,0,0,0,0,0,0,0,0,0,0,0,0,0,0,0,0,0,0,0,0,0,0,0,0,0,0,0,0,0,0,0,0,0,0,0,0,0,0,0,0,0,0,0,0,0,0,0,0,0,0,0,0,0,0,0,0,0,0,0,0,0,0,0,0,0,0,0,0,0,0,0,0,0,0,0,0,0,0,0,0,0,0,0,0,0,0,0,0,0,0,0,0,0,0,0,0,0,0,0,0,0,0,0,0,0,0,0,0,0,0,0,0,0,0,0,0,0,0,0,0,0,0,0,0,0,0,0,0]
[null,null,null,"","Taxed Paid ","","","C",62984186.760509476,0,-1217622.11951288,-1174483.1601260982,-1151023.3468138366,-1058817.230246726,-1033992.2318341967,-937231.57859147247,-898623.39942043147,-809318.53219324898,-781431.34397316526,-674894.77176333265,-645377.45508526801,-533599.04012160504,-502353.76629932877,-385082.24544224679,-337316.21338772692,-228910.1679191174,-193921.26689772058,-64860.239789331616,-27879.184386390076,107502.90922617717,146594.48179909337,288600.33755355387,347498.00728761434,478955.05755139975,522616.04838297091,678837.17517236411,724929.01048434305,888771.38811324094,937437.23045460379,1109265.551259279,1181681.3089393068,1340949.6674067636,1395185.2221555752,1584151.4189754503,1641349.1885403553,1839503.1874792185,1899836.2868633745,2107617.5264157536,2196436.1778383623,2389253.3817577991,4622659.7422837792,4810686.8592686923,4839487.1454903176,5036276.7496397523,5066504.1715587331,5272468.3627491398,5334360.5571328551,5519763.4403129462,5553058.789246561,5778687.6729742251,0,0,0,0,0,0,0,0,0,0,0,0,0,0,0,0,0,0,0,0,0,0,0,0,0,0,0,0,0,0,0,0,0,0,0,0,0,0,0,0,0,0,0,0,0,0,0,0,0,0,0,0,0,0,0,0,0,0,0,0,0,0,0,0,0,0,0,0,0,0,0,0,0,0,0,0,0,0,0,0,0,0,0,0,0,0,0,0,0,0,0,0,0,0,0,0,0,0,0,0,0,0,0,0,0,0,0,0,0,0,0,0,0,0,0,0,0,0,0,0,0,0,0,0,0,0,0,0,0,0,0,0,0,0,0,0,0,0,0,0,0,0,0,0,0,0]
[null,null,null,"","CFADS per Period (e.g. monthly)","","","C",367290039.78038651,0,5461628.9688279489,5976469.4614959611,5985270.1189466026,6074914.7484704042,6095163.6346270563,6188671.907870695,6225084.9976486592,6310093.046623867,6328780.996383762,6430546.429162574,6453001.305006492,6559177.6713772528,6582429.3916083369,6693216.3474682244,6735776.4620684488,6836399.5975351324,6857751.3420426436,6978395.0234575011,7004240.2150044776,7130150.989272723,7156934.3055979274,7288351.7417165069,7338210.6819481496,7457473.1923050042,7481949.1606884981,7625142.674228943,7654983.548234392,7804471.7032161932,7835420.0625480153,7991490.4874319369,8050030.1239985274,8191561.8861742718,8219713.7546255784,8389864.6664391663,8424427.3917690385,8602106.8979621679,8637980.4716341104,8823534.0934752524,8892413.9772015307,9060574.3467835821,6926772.1356166285,7169588.1202627439,7251664.5830024574,7505804.8277636357,7591824.4911123561,7857821.758657773,7985852.8113302663,8233759.4645948941,8320870.8665304175,8612282.8986378051,0,0,0,0,0,0,0,0,0,0,0,0,0,0,0,0,0,0,0,0,0,0,0,0,0,0,0,0,0,0,0,0,0,0,0,0,0,0,0,0,0,0,0,0,0,0,0,0,0,0,0,0,0,0,0,0,0,0,0,0,0,0,0,0,0,0,0,0,0,0,0,0,0,0,0,0,0,0,0,0,0,0,0,0,0,0,0,0,0,0,0,0,0,0,0,0,0,0,0,0,0,0,0,0,0,0,0,0,0,0,0,0,0,0,0,0,0,0,0,0,0,0,0,0,0,0,0,0,0,0,0,0,0,0,0,0,0,0,0,0,0,0,0,0,0,0]
[null,null,null,"","CFADS for Debt Service","","","U",367290039.78038651,0,5461628.9688279489,5976469.4614959611,5985270.1189466026,6074914.7484704042,6095163.6346270563,6188671.907870695,6225084.9976486592,6310093.046623867,6328780.996383762,6430546.429162574,6453001.305006492,6559177.6713772528,6582429.3916083369,6693216.3474682244,6735776.4620684488,6836399.5975351324,6857751.3420426436,6978395.0234575011,7004240.2150044776,7130150.989272723,7156934.3055979274,7288351.7417165069,7338210.6819481496,7457473.1923050042,7481949.1606884981,7625142.674228943,7654983.548234392,7804471.7032161932,7835420.0625480153,7991490.4874319369,8050030.1239985274,8191561.8861742718,8219713.7546255784,8389864.6664391663,8424427.3917690385,8602106.8979621679,8637980.4716341104,8823534.0934752524,8892413.9772015307,9060574.3467835821,6926772.1356166285,7169588.1202627439,7251664.5830024574,7505804.8277636357,7591824.4911123561,7857821.758657773,7985852.8113302663,8233759.4645948941,8320870.8665304175,8612282.8986378051,0,0,0,0,0,0,0,0,0,0,0,0,0,0,0,0,0,0,0,0,0,0,0,0,0,0,0,0,0,0,0,0,0,0,0,0,0,0,0,0,0,0,0,0,0,0,0,0,0,0,0,0,0,0,0,0,0,0,0,0,0,0,0,0,0,0,0,0,0,0,0,0,0,0,0,0,0,0,0,0,0,0,0,0,0,0,0,0,0,0,0,0,0,0,0,0,0,0,0,0,0,0,0,0,0,0,0,0,0,0,0,0,0,0,0,0,0,0,0,0,0,0,0,0,0,0,0,0,0,0,0,0,0,0,0,0,0,0,0,0,0,0,0,0,0,0]
[null,null,null,"","","","","","","","","","","","","","","","","","","","","","","","","","","","","","","","","","","","","","","","","","","","","","","","","","","","","","","","","","","","","","","","","","","","","","","","","","","","","","","","","","","","","","","","","","","","","","","","","","","","","","","","","","","","","","","","","","","","","","","","","","","","","","","","","","","","","","","","","","","","","","","","","","","","","","","","","","","","","","","","","","","","","","","","","","","","","","","","","","","","","","","","","","","","","","","","","","","","","","","","","","",""]
[null,null,null,"","DEBT SIZING REPORT -- Part 1: Debt Sizing Summary","","","G","","","","","","","","","","","","","","","","","","","","","","","","","","","","","","","","","","","","","","","","","","","","","","","","","","","","","","","","","","","","","","","","","","","","","","","","","","","","","","","","","","","","","","","","","","","","","","","","","","","","","","","","","","","","","","","","","","","","","","","","","","","","","","","","","","","","","","","","","","","","","","","","","","","","","","","","","","","","","","","","","","","","","","","","","","","","","","","","","","","","","","","","","","","","","","","","","","","","","",""]
[null,null,null,"","","","","","","","","","","","","","","","","","","","","","","","","","","","","","","","","","","","","","","","","","","","","","","","","","","","","","","","","","","","","","","","","","","","","","","","","","","","","","","","","","","","","","","","","","","","","","","","","","","","","","","","","","","","","","","","","","","","","","","","","","","","","","","","","","","","","","","","","","","","","","","","","","","","","","","","","","","","","","","","","","","","","","","","","","","","","","","","","","","","","","","","","","","","","","","","","","","","","","","","","","",""]
[null,null,null,"","Aggregate Debt Sizing Method Applied from Code Input in UDF Inputs","","","T","","","","","","","","","","","","","","","","","","","","","","","","","","","","","","","","","","","","","","","","","","","","","","","","","","","","","","","","","","","","","","","","","","","","","","","","","","","","","","","","","","","","","","","","","","","","","","","","","","","","","","","","","","","","","","","","","","","","","","","","","","","","","","","","","","","","","","","","","","","","","","","","","","","","","","","","","","","","","","","","","","","","","","","","","","","","","","","","","","","","","","","","","","","","","","","","","","","","","",""]
[null,null,null,"","","","","","","","","","","","","","","","","","","","","","","","","","","","","","","","","","","","","","","","","","","","","","","","","","","","","","","","","","","","","","","","","","","","","","","","","","","","","","","","","","","","","","","","","","","","","","","","","","","","","","","","","","","","","","","","","","","","","","","","","","","","","","","","","","","","","","","","","","","","","","","","","","","","","","","","","","","","","","","","","","","","","","","","","","","","","","","","","","","","","","","","","","","","","","","","","","","","","","","","","","",""]
[null,null,null,"","Debt Sizing Method: Minimum of Percent or DSCR",4,"","B","","","","","","","","","","","","","","","","","","","","","","","","","","","","","","","","","","","","","","","","","","","","","","","","","","","","","","","","","","","","","","","","","","","","","","","","","","","","","","","","","","","","","","","","","","","","","","","","","","","","","","","","","","","","","","","","","","","","","","","","","","","","","","","","","","","","","","","","","","","","","","","","","","","","","","","","","","","","","","","","","","","","","","","","","","","","","","","","","","","","","","","","","","","","","","","","","","","","","",""]
[null,null,null,"","Scupt Repay: Flat LLCR ",2,"","B","","","","","","","","","","","","","","","","","","","","","","","","","","","","","","","","","","","","","","","","","","","","","","","","","","","","","","","","","","","","","","","","","","","","","","","","","","","","","","","","","","","","","","","","","","","","","","","","","","","","","","","","","","","","","","","","","","","","","","","","","","","","","","","","","","","","","","","","","","","","","","","","","","","","","","","","","","","","","","","","","","","","","","","","","","","","","","","","","","","","","","","","","","","","","","","","","","","","","",""]
[null,null,null,"","","","","","","","","","","","","","","","","","","","","","","","","","","","","","","","","","","","","","","","","","","","","","","","","","","","","","","","","","","","","","","","","","","","","","","","","","","","","","","","","","","","","","","","","","","","","","","","","","","","","","","","","","","","","","","","","","","","","","","","","","","","","","","","","","","","","","","","","","","","","","","","","","","","","","","","","","","","","","","","","","","","","","","","","","","","","","","","","","","","","","","","","","","","","","","","","","","","","","","","","","",""]
[null,null,null,""," Debt Sizing Inputs","","","B","","","","","","","","","","","","","","","","","","","","","","","","","","","","","","","","","","","","","","","","","","","","","","","","","","","","","","","","","","","","","","","","","","","","","","","","","","","","","","","","","","","","","","","","","","","","","","","","","","","","","","","","","","","","","","","","","","","","","","","","","","","","","","","","","","","","","","","","","","","","","","","","","","","","","","","","","","","","","","","","","","","","","","","","","","","","","","","","","","","","","","","","","","","","","","","","","","","","","",""]
[null,null,null,"","Overall Sculpting Flag - False is Using Input Repayment ",true,"","C","","","","","","","","","","","","","","","","","","","","","","","","","","","","","","","","","","","","","","","","","","","","","","","","","","","","","","","","","","","","","","","","","","","","","","","","","","","","","","","","","","","","","","","","","","","","","","","","","","","","","","","","","","","","","","","","","","","","","","","","","","","","","","","","","","","","","","","","","","","","","","","","","","","","","","","","","","","","","","","","","","","","","","","","","","","","","","","","","","","","","","","","","","","","","","","","","","","","","",""]
[null,null,null,"","Maximum Debt Tenure ",40,"","C","","","","","","","","","","","","","","","","","","","","","","","","","","","","","","","","","","","","","","","","","","","","","","","","","","","","","","","","","","","","","","","","","","","","","","","","","","","","","","","","","","","","","","","","","","","","","","","","","","","","","","","","","","","","","","","","","","","","","","","","","","","","","","","","","","","","","","","","","","","","","","","","","","","","","","","","","","","","","","","","","","","","","","","","","","","","","","","","","","","","","","","","","","","","","","","","","","","","","",""]
[null,null,null,"","Project Cost - Debt Basis",216629231.00111878,"","C","","","","","","","","","","","","","","","","","","","","","","","","","","","","","","","","","","","","","","","","","","","","","","","","","","","","","","","","","","","","","","","","","","","","","","","","","","","","","","","","","","","","","","","","","","","","","","","","","","","","","","","","","","","","","","","","","","","","","","","","","","","","","","","","","","","","","","","","","","","","","","","","","","","","","","","","","","","","","","","","","","","","","","","","","","","","","","","","","","","","","","","","","","","","","","","","","","","","","",""]
[null,null,null,"","DSCR Target Input",1.35,"","C","","","","","","","","","","","","","","","","","","","","","","","","","","","","","","","","","","","","","","","","","","","","","","","","","","","","","","","","","","","","","","","","","","","","","","","","","","","","","","","","","","","","","","","","","","","","","","","","","","","","","","","","","","","","","","","","","","","","","","","","","","","","","","","","","","","","","","","","","","","","","","","","","","","","","","","","","","","","","","","","","","","","","","","","","","","","","","","","","","","","","","","","","","","","","","","","","","","","","",""]
[null,null,null,"","Debt to Capital Input/Result",0.8,"","P","","","","","","","","","","","","","","","","","","","","","","","","","","","","","","","","","","","","","","","","","","","","","","","","","","","","","","","","","","","","","","","","","","","","","","","","","","","","","","","","","","","","","","","","","","","","","","","","","","","","","","","","","","","","","","","","","","","","","","","","","","","","","","","","","","","","","","","","","","","","","","","","","","","","","","","","","","","","","","","","","","","","","","","","","","","","","","","","","","","","","","","","","","","","","","","","","","","","","",""]
[null,null,null,"","","","","","","","","","","","","","","","","","","","","","","","","","","","","","","","","","","","","","","","","","","","","","","","","","","","","","","","","","","","","","","","","","","","","","","","","","","","","","","","","","","","","","","","","","","","","","","","","","","","","","","","","","","","","","","","","","","","","","","","","","","","","","","","","","","","","","","","","","","","","","","","","","","","","","","","","","","","","","","","","","","","","","","","","","","","","","","","","","","","","","","","","","","","","","","","","","","","","","","","","","",""]
[null,null,null,"","Commercial Operation Date ",2,"","C","","","","","","","","","","","","","","","","","","","","","","","","","","","","","","","","","","","","","","","","","","","","","","","","","","","","","","","","","","","","","","","","","","","","","","","","","","","","","","","","","","","","","","","","","","","","","","","","","","","","","","","","","","","","","","","","","","","","","","","","","","","","","","","","","","","","","","","","","","","","","","","","","","","","","","","","","","","","","","","","","","","","","","","","","","","","","","","","","","","","","","","","","","","","","","","","","","","","","",""]
[null,null,null,"","Maximum Debt Tenure",40,"","C","","","","","","","","","","","","","","","","","","","","","","","","","","","","","","","","","","","","","","","","","","","","","","","","","","","","","","","","","","","","","","","","","","","","","","","","","","","","","","","","","","","","","","","","","","","","","","","","","","","","","","","","","","","","","","","","","","","","","","","","","","","","","","","","","","","","","","","","","","","","","","","","","","","","","","","","","","","","","","","","","","","","","","","","","","","","","","","","","","","","","","","","","","","","","","","","","","","","","",""]
[null,null,null,"","Total Periods for Debt Sizing Analysis ",41,"","C","","","","","","","","","","","","","","","","","","","","","","","","","","","","","","","","","","","","","","","","","","","","","","","","","","","","","","","","","","","","","","","","","","","","","","","","","","","","","","","","","","","","","","","","","","","","","","","","","","","","","","","","","","","","","","","","","","","","","","","","","","","","","","","","","","","","","","","","","","","","","","","","","","","","","","","","","","","","","","","","","","","","","","","","","","","","","","","","","","","","","","","","","","","","","","","","","","","","","",""]
[null,null,null,"","Grace Period to All Issues ",0,"","C","","","","","","","","","","","","","","","","","","","","","","","","","","","","","","","","","","","","","","","","","","","","","","","","","","","","","","","","","","","","","","","","","","","","","","","","","","","","","","","","","","","","","","","","","","","","","","","","","","","","","","","","","","","","","","","","","","","","","","","","","","","","","","","","","","","","","","","","","","","","","","","","","","","","","","","","","","","","","","","","","","","","","","","","","","","","","","","","","","","","","","","","","","","","","","","","","","","","","",""]
[null,null,null,"","","","","","","","","","","","","","","","","","","","","","","","","","","","","","","","","","","","","","","","","","","","","","","","","","","","","","","","","","","","","","","","","","","","","","","","","","","","","","","","","","","","","","","","","","","","","","","","","","","","","","","","","","","","","","","","","","","","","","","","","","","","","","","","","","","","","","","","","","","","","","","","","","","","","","","","","","","","","","","","","","","","","","","","","","","","","","","","","","","","","","","","","","","","","","","","","","","","","","","","","","",""]
[null,null,null,""," Discounting for Debt Sizing from Different Methods","","","T","","","","","","","","","","","","","","","","","","","","","","","","","","","","","","","","","","","","","","","","","","","","","","","","","","","","","","","","","","","","","","","","","","","","","","","","","","","","","","","","","","","","","","","","","","","","","","","","","","","","","","","","","","","","","","","","","","","","","","","","","","","","","","","","","","","","","","","","","","","","","","","","","","","","","","","","","","","","","","","","","","","","","","","","","","","","","","","","","","","","","","","","","","","","","","","","","","","","","",""]
[null,null,null,"","Weighted Average Interest Rate for Discounting","","","P","",1.4999999999999999E-2,1.4999999999999999E-2,1.5000000000000001E-2,1.5000000000000001E-2,1.4999999999999999E-2,1.4999999999999999E-2,1.4999999999999999E-2,1.4999999999999999E-2,1.4999999999999999E-2,1.4999999999999999E-2,1.4999999999999999E-2,1.4999999999999999E-2,1.4999999999999999E-2,1.4999999999999999E-2,1.4999999999999999E-2,1.4999999999999999E-2,1.4999999999999999E-2,1.4999999999999998E-2,1.4999999999999999E-2,1.4999999999999999E-2,1.4999999999999999E-2,1.4999999999999999E-2,1.4999999999999999E-2,1.5000000000000001E-2,1.5000000000000001E-2,1.4999999999999999E-2,1.5000000000000001E-2,1.4999999999999999E-2,1.5000000000000001E-2,1.4999999999999999E-2,1.4999999999999999E-2,1.4999999999999999E-2,1.4999999999999999E-2,1.5000000000000001E-2,1.4999999999999999E-2,1.5000000000000001E-2,1.4999999999999999E-2,1.5000000000000001E-2,1.4999999999999999E-2,1.4999999999999999E-2,1.4999999999999999E-2,0,1.4999999999999999E-2,1.4999999999999999E-2,1.4999999999999999E-2,1.4999999999999999E-2,1.4999999999999999E-2,1.4999999999999999E-2,1.4999999999999999E-2,1.4999999999999999E-2,1.4999999999999999E-2,1.4999999999999999E-2,1.4999999999999999E-2,1.4999999999999999E-2,1.4999999999999999E-2,1.4999999999999999E-2,1.4999999999999999E-2,1.4999999999999999E-2,1.4999999999999999E-2,1.4999999999999999E-2,1.4999999999999999E-2,1.4999999999999999E-2,1.4999999999999999E-2,1.4999999999999999E-2,1.4999999999999999E-2,1.4999999999999999E-2,1.4999999999999999E-2,1.4999999999999999E-2,1.4999999999999999E-2,1.4999999999999999E-2,1.4999999999999999E-2,1.4999999999999999E-2,1.4999999999999999E-2,1.4999999999999999E-2,1.4999999999999999E-2,1.4999999999999999E-2,1.4999999999999999E-2,1.4999999999999999E-2,1.4999999999999999E-2,1.4999999999999999E-2,1.4999999999999999E-2,1.4999999999999999E-2,1.4999999999999999E-2,1.4999999999999999E-2,1.4999999999999999E-2,1.4999999999999999E-2,1.4999999999999999E-2,1.4999999999999999E-2,1.4999999999999999E-2,1.4999999999999999E-2,1.4999999999999999E-2,1.4999999999999999E-2,1.4999999999999999E-2,1.4999999999999999E-2,1.4999999999999999E-2,1.4999999999999999E-2,1.4999999999999999E-2,1.4999999999999999E-2,1.4999999999999999E-2,1.4999999999999999E-2,1.4999999999999999E-2,1.4999999999999999E-2,1.4999999999999999E-2,1.4999999999999999E-2,1.4999999999999999E-2,1.4999999999999999E-2,1.4999999999999999E-2,1.4999999999999999E-2,1.4999999999999999E-2,1.4999999999999999E-2,1.4999999999999999E-2,1.4999999999999999E-2,1.4999999999999999E-2,1.4999999999999999E-2,1.4999999999999999E-2,1.4999999999999999E-2,1.4999999999999999E-2,1.4999999999999999E-2,1.4999999999999999E-2,1.4999999999999999E-2,1.4999999999999999E-2,1.4999999999999999E-2,1.4999999999999999E-2,1.4999999999999999E-2,1.4999999999999999E-2,1.4999999999999999E-2,1.4999999999999999E-2,1.4999999999999999E-2,1.4999999999999999E-2,1.4999999999999999E-2,1.4999999999999999E-2,1.4999999999999999E-2,1.4999999999999999E-2,1.4999999999999999E-2,1.4999999999999999E-2,1.4999999999999999E-2,1.4999999999999999E-2,1.4999999999999999E-2,1.4999999999999999E-2,1.4999999999999999E-2,1.4999999999999999E-2,1.4999999999999999E-2,1.4999999999999999E-2,1.4999999999999999E-2,1.4999999999999999E-2,1.4999999999999999E-2,1.4999999999999999E-2,1.4999999999999999E-2,1.4999999999999999E-2,1.4999999999999999E-2,1.4999999999999999E-2,1.4999999999999999E-2,1.4999999999999999E-2,1.4999999999999999E-2,1.4999999999999999E-2,1.4999999999999999E-2,1.4999999999999999E-2,1.4999999999999999E-2,1.4999999999999999E-2,1.4999999999999999E-2,1.4999999999999999E-2,1.4999999999999999E-2,1.4999999999999999E-2,1.4999999999999999E-2,1.4999999999999999E-2,1.4999999999999999E-2,1.4999999999999999E-2,1.4999999999999999E-2,1.4999999999999999E-2,1.4999999999999999E-2,1.4999999999999999E-2,1.4999999999999999E-2,1.4999999999999999E-2,1.4999999999999999E-2,1.4999999999999999E-2,1.4999999999999999E-2,1.4999999999999999E-2,1.4999999999999999E-2,1.4999999999999999E-2,1.4999999999999999E-2,1.4999999999999999E-2,1.4999999999999999E-2,1.4999999999999999E-2,1.4999999999999999E-2,1.4999999999999999E-2,1.4999999999999999E-2,1.4999999999999999E-2,1.4999999999999999E-2,1.4999999999999999E-2,1.4999999999999999E-2,1.4999999999999999E-2,1.4999999999999999E-2,1.4999999999999999E-2,1.4999999999999999E-2,1.4999999999999999E-2,1.4999999999999999E-2,1.4999999999999999E-2]
[null,null,null,"","Total Weighted Average Interest Rate for Verification ",14.98500000000019,"","P","","","","","","","","","","","","","","","","","","","","","","","","","","","","","","","","","","","","","","","","","","","","","","","","","","","","","","","","","","","","","","","","","","","","","","","","","","","","","","","","","","","","","","","","","","","","","","","","","","","","","","","","","","","","","","","","","","","","","","","","","","","","","","","","","","","","","","","","","","","","","","","","","","","","","","","","","","","","","","","","","","","","","","","","","","","","","","","","","","","","","","","","","","","","","","","","","","","","","",""]
[null,null,null,"","Interest Rate Index from Compunding After Repayment Start","","","P","",0,1.0149999999999999,1.0302249999999997,1.0456783749999996,1.0613635506249994,1.0772840038843743,1.0934432639426397,1.1098449129017791,1.1264925865953057,1.1433899753942351,1.1605408250251485,1.1779489374005256,1.1956181714615335,1.2135524440334564,1.2317557306939582,1.2502320666543674,1.2689855476541827,1.2880203308689953,1.3073406358320301,1.3269507453695104,1.3468550065500529,1.3670578316483035,1.387563699123028,1.4083771546098733,1.4295028119290214,1.4509453541079567,1.472709534419576,1.4948001774358695,1.5172221800974073,1.5399805127988682,1.5630802204908509,1.5865264237982135,1.6103243201551867,1.6344791849575142,1.6589963727318768,1.6838813183228549,1.7091395380976975,1.7347766311691628,1.7607982806367002,1.7872102548462505,1.8140184086689441,0,0,0,0,0,0,0,0,0,0,0,0,0,0,0,0,0,0,0,0,0,0,0,0,0,0,0,0,0,0,0,0,0,0,0,0,0,0,0,0,0,0,0,0,0,0,0,0,0,0,0,0,0,0,0,0,0,0,0,0,0,0,0,0,0,0,0,0,0,0,0,0,0,0,0,0,0,0,0,0,0,0,0,0,0,0,0,0,0,0,0,0,0,0,0,0,0,0,0,0,0,0,0,0,0,0,0,0,0,0,0,0,0,0,0,0,0,0,0,0,0,0,0,0,0,0,0,0,0,0,0,0,0,0,0,0,0,0,0,0,0,0,0,0,0,0,0,0,0,0,0,0,0,0,0,0]
[null,null,null,"","Discount Factor for Aggregate Sizing","","","P","",0,0.98522167487684742,0.9706617486471405,0.95631699374102519,0.94218423028672449,0.92826032540563996,0.91454219251787205,0.90102679065800217,0.88771112380098749,0.87459224019801729,0.86166723172218462,0.8489332332238273,0.83638742189539639,0.82402701664571076,0.81184927748345892,0.79985150490981194,0.78803103932001184,0.77638526041380485,0.76491158661458614,0.75360747449712928,0.7424704182237728,0.73149794898893883,0.72068763447186091,0.71003707829739993,0.69954391950482753,0.68920583202446073,0.67902052416203029,0.6689857380906703,0.6590992493504142,0.64935886635508788,0.63976242990649068,0.63030781271575442,0.62099291893177777,0.61181568367662842,0.60277407258781135,0.59386608136730179,0.58508973533724329,0.5764430890022102,0.56792422561794109,0.55953125676644444,0.55126232193738367,0,0,0,0,0,0,0,0,0,0,0,0,0,0,0,0,0,0,0,0,0,0,0,0,0,0,0,0,0,0,0,0,0,0,0,0,0,0,0,0,0,0,0,0,0,0,0,0,0,0,0,0,0,0,0,0,0,0,0,0,0,0,0,0,0,0,0,0,0,0,0,0,0,0,0,0,0,0,0,0,0,0,0,0,0,0,0,0,0,0,0,0,0,0,0,0,0,0,0,0,0,0,0,0,0,0,0,0,0,0,0,0,0,0,0,0,0,0,0,0,0,0,0,0,0,0,0,0,0,0,0,0,0,0,0,0,0,0,0,0,0,0,0,0,0,0,0,0,0,0,0,0,0,0,0,0]
[null,null,null,"","CFADS over Debt Life for LLCR Calculation","","","C",289833797.82287759,0,5461628.9688279489,5976469.4614959611,5985270.1189466026,6074914.7484704042,6095163.6346270563,6188671.907870695,6225084.9976486592,6310093.046623867,6328780.996383762,6430546.429162574,6453001.305006492,6559177.6713772528,6582429.3916083369,6693216.3474682244,6735776.4620684488,6836399.5975351324,6857751.3420426436,6978395.0234575011,7004240.2150044776,7130150.989272723,7156934.3055979274,7288351.7417165069,7338210.6819481496,7457473.1923050042,7481949.1606884981,7625142.674228943,7654983.548234392,7804471.7032161932,7835420.0625480153,7991490.4874319369,8050030.1239985274,8191561.8861742718,8219713.7546255784,8389864.6664391663,8424427.3917690385,8602106.8979621679,8637980.4716341104,8823534.0934752524,8892413.9772015307,9060574.3467835821,0,0,0,0,0,0,0,0,0,0,0,0,0,0,0,0,0,0,0,0,0,0,0,0,0,0,0,0,0,0,0,0,0,0,0,0,0,0,0,0,0,0,0,0,0,0,0,0,0,0,0,0,0,0,0,0,0,0,0,0,0,0,0,0,0,0,0,0,0,0,0,0,0,0,0,0,0,0,0,0,0,0,0,0,0,0,0,0,0,0,0,0,0,0,0,0,0,0,0,0,0,0,0,0,0,0,0,0,0,0,0,0,0,0,0,0,0,0,0,0,0,0,0,0,0,0,0,0,0,0,0,0,0,0,0,0,0,0,0,0,0,0,0,0,0,0,0,0,0,0,0,0,0,0,0,0]
[null,null,null,"","PV of CFADS using Debt IRR ",212024207.15284377,"","C","","","","","","","","","","","","","","","","","","","","","","","","","","","","","","","","","","","","","","","","","","","","","","","","","","","","","","","","","","","","","","","","","","","","","","","","","","","","","","","","","","","","","","","","","","","","","","","","","","","","","","","","","","","","","","","","","","","","","","","","","","","","","","","","","","","","","","","","","","","","","","","","","","","","","","","","","","","","","","","","","","","","","","","","","","","","","","","","","","","","","","","","","","","","","","","","","","","","","",""]
[null,null,null,"","Period by Period DSCR for Debt Size","","","C","",1.35,1.35,1.35,1.35,1.35,1.35,1.35,1.35,1.35,1.35,1.35,1.35,1.35,1.35,1.35,1.35,1.35,1.35,1.35,1.35,1.35,1.35,1.35,1.35,1.35,1.35,1.35,1.35,1.35,1.35,1.35,1.35,1.35,1.35,1.35,1.35,1.35,1.35,1.35,1.35,1.35,1.35,1.35,1.35,1.35,1.35,1.35,1.35,1.35,1.35,1.35,1.35,1.35,1.35,1.35,1.35,1.35,1.35,1.35,1.35,1.35,1.35,1.35,1.35,1.35,1.35,1.35,1.35,1.35,1.35,1.35,1.35,1.35,1.35,1.35,1.35,1.35,1.35,1.35,1.35,1.35,1.35,1.35,1.35,1.35,1.35,1.35,1.35,1.35,1.35,1.35,0,0,0,0,0,0,0,0,0,0,0,0,0,0,0,0,0,0,0,0,0,0,0,0,0,0,0,0,0,0,0,0,0,0,0,0,0,0,0,0,0,0,0,0,0,0,0,0,0,0,0,0,0,0,0,0,0,0,0,0,0,0,0,0,0,0,0,0,0,0,0,0,0,0,0,0,0,0,0,0,0,0,0,0,0,0,0,0,0,0,0,0,0,0,0,0,0,0,0,0,0,0,0,0,0,0]
[null,null,null,"","Debt Service from CFADS and Target DSCR","","","C",214691702.09102041,0,4045651.0880207028,4427014.4159229342,4433533.4214419276,4499936.8507188177,4514936.0256496714,4584201.4132375512,4611174.0723323394,4674142.9974991605,4687985.9232472312,4763367.7253056103,4780000.9666714752,4858650.1269461131,4875873.6234135823,4957938.035161647,4989464.0459766285,5063999.7018778753,5079815.8089204766,5169181.4988574078,5188326.0851885015,5281593.3253872022,5301432.8189614275,5398779.0679381527,5435711.6162578883,5524054.2165222252,5542184.5634729611,5648253.8327621799,5670358.1838773265,5781090.1505305134,5804014.8611466773,5919622.5832829159,5962985.277035946,6067823.6193883494,6088676.8552782061,6214714.567732715,6240316.5864955839,6371931.0355275311,6398504.0530623039,6535951.1803520387,6586973.3164455779,6711536.5531730233,0,0,0,0,0,0,0,0,0,0,0,0,0,0,0,0,0,0,0,0,0,0,0,0,0,0,0,0,0,0,0,0,0,0,0,0,0,0,0,0,0,0,0,0,0,0,0,0,0,0,0,0,0,0,0,0,0,0,0,0,0,0,0,0,0,0,0,0,0,0,0,0,0,0,0,0,0,0,0,0,0,0,0,0,0,0,0,0,0,0,0,0,0,0,0,0,0,0,0,0,0,0,0,0,0,0,0,0,0,0,0,0,0,0,0,0,0,0,0,0,0,0,0,0,0,0,0,0,0,0,0,0,0,0,0,0,0,0,0,0,0,0,0,0,0,0,0,0,0,0,0,0,0,0,0,0]
[null,null,null,"","PV of Debt Service for Sizing",157054968.27077457,"","C","","","","","","","","","","","","","","","","","","","","","","","","","","","","","","","","","","","","","","","","","","","","","","","","","","","","","","","","","","","","","","","","","","","","","","","","","","","","","","","","","","","","","","","","","","","","","","","","","","","","","","","","","","","","","","","","","","","","","","","","","","","","","","","","","","","","","","","","","","","","","","","","","","","","","","","","","","","","","","","","","","","","","","","","","","","","","","","","","","","","","","","","","","","","","","","","","","","","","",""]
[null,null,null,"","","","","","","","","","","","","","","","","","","","","","","","","","","","","","","","","","","","","","","","","","","","","","","","","","","","","","","","","","","","","","","","","","","","","","","","","","","","","","","","","","","","","","","","","","","","","","","","","","","","","","","","","","","","","","","","","","","","","","","","","","","","","","","","","","","","","","","","","","","","","","","","","","","","","","","","","","","","","","","","","","","","","","","","","","","","","","","","","","","","","","","","","","","","","","","","","","","","","","","","","","",""]
[null,null,null,"","Option 1: Debt Sizing from Fixed Debt Input","","","B","","","","","","","","","","","","","","","","","","","","","","","","","","","","","","","","","","","","","","","","","","","","","","","","","","","","","","","","","","","","","","","","","","","","","","","","","","","","","","","","","","","","","","","","","","","","","","","","","","","","","","","","","","","","","","","","","","","","","","","","","","","","","","","","","","","","","","","","","","","","","","","","","","","","","","","","","","","","","","","","","","","","","","","","","","","","","","","","","","","","","","","","","","","","","","","","","","","","","",""]
[null,null,null,"","Fixed Debt Input ",138403797.6404599,"","C","","","","","","","","","","","","","","","","","","","","","","","","","","","","","","","","","","","","","","","","","","","","","","","","","","","","","","","","","","","","","","","","","","","","","","","","","","","","","","","","","","","","","","","","","","","","","","","","","","","","","","","","","","","","","","","","","","","","","","","","","","","","","","","","","","","","","","","","","","","","","","","","","","","","","","","","","","","","","","","","","","","","","","","","","","","","","","","","","","","","","","","","","","","","","","","","","","","","","",""]
[null,null,null,"","Implied LLCR from Fixed Debt Input for Sculpting ",1.5319247792869974,"","C","","","","","","","","","","","","","","","","","","","","","","","","","","","","","","","","","","","","","","","","","","","","","","","","","","","","","","","","","","","","","","","","","","","","","","","","","","","","","","","","","","","","","","","","","","","","","","","","","","","","","","","","","","","","","","","","","","","","","","","","","","","","","","","","","","","","","","","","","","","","","","","","","","","","","","","","","","","","","","","","","","","","","","","","","","","","","","","","","","","","","","","","","","","","","","","","","","","","","",""]
[null,null,null,"","","","","","","","","","","","","","","","","","","","","","","","","","","","","","","","","","","","","","","","","","","","","","","","","","","","","","","","","","","","","","","","","","","","","","","","","","","","","","","","","","","","","","","","","","","","","","","","","","","","","","","","","","","","","","","","","","","","","","","","","","","","","","","","","","","","","","","","","","","","","","","","","","","","","","","","","","","","","","","","","","","","","","","","","","","","","","","","","","","","","","","","","","","","","","","","","","","","","","","","","","",""]
[null,null,null,"","Option 2: Debt Sizing from Fixed Debt/Capital Ratio Input","","","B","","","","","","","","","","","","","","","","","","","","","","","","","","","","","","","","","","","","","","","","","","","","","","","","","","","","","","","","","","","","","","","","","","","","","","","","","","","","","","","","","","","","","","","","","","","","","","","","","","","","","","","","","","","","","","","","","","","","","","","","","","","","","","","","","","","","","","","","","","","","","","","","","","","","","","","","","","","","","","","","","","","","","","","","","","","","","","","","","","","","","","","","","","","","","","","","","","","","","",""]
[null,null,null,"","Debt to Capital Input/Result",0.8,"","P","","","","","","","","","","","","","","","","","","","","","","","","","","","","","","","","","","","","","","","","","","","","","","","","","","","","","","","","","","","","","","","","","","","","","","","","","","","","","","","","","","","","","","","","","","","","","","","","","","","","","","","","","","","","","","","","","","","","","","","","","","","","","","","","","","","","","","","","","","","","","","","","","","","","","","","","","","","","","","","","","","","","","","","","","","","","","","","","","","","","","","","","","","","","","","","","","","","","","",""]
[null,null,null,"","Total Funding Needs",216629231.00111878,"","C","","","","","","","","","","","","","","","","","","","","","","","","","","","","","","","","","","","","","","","","","","","","","","","","","","","","","","","","","","","","","","","","","","","","","","","","","","","","","","","","","","","","","","","","","","","","","","","","","","","","","","","","","","","","","","","","","","","","","","","","","","","","","","","","","","","","","","","","","","","","","","","","","","","","","","","","","","","","","","","","","","","","","","","","","","","","","","","","","","","","","","","","","","","","","","","","","","","","","",""]
[null,null,null,"","Debt Size from Debt/Cap",173303384.80089504,"","C","","","","","","","","","","","","","","","","","","","","","","","","","","","","","","","","","","","","","","","","","","","","","","","","","","","","","","","","","","","","","","","","","","","","","","","","","","","","","","","","","","","","","","","","","","","","","","","","","","","","","","","","","","","","","","","","","","","","","","","","","","","","","","","","","","","","","","","","","","","","","","","","","","","","","","","","","","","","","","","","","","","","","","","","","","","","","","","","","","","","","","","","","","","","","","","","","","","","","",""]
[null,null,null,"","LLCR from Debt to Capital Input",1.2234279636051792,"","C","","","","","","","","","","","","","","","","","","","","","","","","","","","","","","","","","","","","","","","","","","","","","","","","","","","","","","","","","","","","","","","","","","","","","","","","","","","","","","","","","","","","","","","","","","","","","","","","","","","","","","","","","","","","","","","","","","","","","","","","","","","","","","","","","","","","","","","","","","","","","","","","","","","","","","","","","","","","","","","","","","","","","","","","","","","","","","","","","","","","","","","","","","","","","","","","","","","","","",""]
[null,null,null,"","","","","","","","","","","","","","","","","","","","","","","","","","","","","","","","","","","","","","","","","","","","","","","","","","","","","","","","","","","","","","","","","","","","","","","","","","","","","","","","","","","","","","","","","","","","","","","","","","","","","","","","","","","","","","","","","","","","","","","","","","","","","","","","","","","","","","","","","","","","","","","","","","","","","","","","","","","","","","","","","","","","","","","","","","","","","","","","","","","","","","","","","","","","","","","","","","","","","","","","","","",""]
[null,null,null,"","Option 3: Debt Sizing from Input DSCR and Cash Flow","","","B","","","","","","","","","","","","","","","","","","","","","","","","","","","","","","","","","","","","","","","","","","","","","","","","","","","","","","","","","","","","","","","","","","","","","","","","","","","","","","","","","","","","","","","","","","","","","","","","","","","","","","","","","","","","","","","","","","","","","","","","","","","","","","","","","","","","","","","","","","","","","","","","","","","","","","","","","","","","","","","","","","","","","","","","","","","","","","","","","","","","","","","","","","","","","","","","","","","","","",""]
[null,null,null,"","DSCR to Compute Debt Size",1.35,"","C","","","","","","","","","","","","","","","","","","","","","","","","","","","","","","","","","","","","","","","","","","","","","","","","","","","","","","","","","","","","","","","","","","","","","","","","","","","","","","","","","","","","","","","","","","","","","","","","","","","","","","","","","","","","","","","","","","","","","","","","","","","","","","","","","","","","","","","","","","","","","","","","","","","","","","","","","","","","","","","","","","","","","","","","","","","","","","","","","","","","","","","","","","","","","","","","","","","","","",""]
[null,null,null,"","PV Debt Service from DSCR Input ",157054968.27077457,"","C","","","","","","","","","","","","","","","","","","","","","","","","","","","","","","","","","","","","","","","","","","","","","","","","","","","","","","","","","","","","","","","","","","","","","","","","","","","","","","","","","","","","","","","","","","","","","","","","","","","","","","","","","","","","","","","","","","","","","","","","","","","","","","","","","","","","","","","","","","","","","","","","","","","","","","","","","","","","","","","","","","","","","","","","","","","","","","","","","","","","","","","","","","","","","","","","","","","","","",""]
[null,null,null,"","","","","","","","","","","","","","","","","","","","","","","","","","","","","","","","","","","","","","","","","","","","","","","","","","","","","","","","","","","","","","","","","","","","","","","","","","","","","","","","","","","","","","","","","","","","","","","","","","","","","","","","","","","","","","","","","","","","","","","","","","","","","","","","","","","","","","","","","","","","","","","","","","","","","","","","","","","","","","","","","","","","","","","","","","","","","","","","","","","","","","","","","","","","","","","","","","","","","","","","","","",""]
[null,null,null,"","Option 4: Debt Sizing from Minimum","","","B","","","","","","","","","","","","","","","","","","","","","","","","","","","","","","","","","","","","","","","","","","","","","","","","","","","","","","","","","","","","","","","","","","","","","","","","","","","","","","","","","","","","","","","","","","","","","","","","","","","","","","","","","","","","","","","","","","","","","","","","","","","","","","","","","","","","","","","","","","","","","","","","","","","","","","","","","","","","","","","","","","","","","","","","","","","","","","","","","","","","","","","","","","","","","","","","","","","","","",""]
[null,null,null,"","PV Debt Service from DSCR Input ",157054968.27077457,"","C","","","","","","","","","","","","","","","","","","","","","","","","","","","","","","","","","","","","","","","","","","","","","","","","","","","","","","","","","","","","","","","","","","","","","","","","","","","","","","","","","","","","","","","","","","","","","","","","","","","","","","","","","","","","","","","","","","","","","","","","","","","","","","","","","","","","","","","","","","","","","","","","","","","","","","","","","","","","","","","","","","","","","","","","","","","","","","","","","","","","","","","","","","","","","","","","","","","","","",""]
[null,null,null,"","LLCR from Debt to Capital Input",1.2234279636051792,"","C","","","","","","","","","","","","","","","","","","","","","","","","","","","","","","","","","","","","","","","","","","","","","","","","","","","","","","","","","","","","","","","","","","","","","","","","","","","","","","","","","","","","","","","","","","","","","","","","","","","","","","","","","","","","","","","","","","","","","","","","","","","","","","","","","","","","","","","","","","","","","","","","","","","","","","","","","","","","","","","","","","","","","","","","","","","","","","","","","","","","","","","","","","","","","","","","","","","","","",""]
[null,null,null,"","Debt Size from Minimum DSCR, Debt/Cap",157054968.27077457,"","C","","","","","","","","","","","","","","","","","","","","","","","","","","","","","","","","","","","","","","","","","","","","","","","","","","","","","","","","","","","","","","","","","","","","","","","","","","","","","","","","","","","","","","","","","","","","","","","","","","","","","","","","","","","","","","","","","","","","","","","","","","","","","","","","","","","","","","","","","","","","","","","","","","","","","","","","","","","","","","","","","","","","","","","","","","","","","","","","","","","","","","","","","","","","","","","","","","","","","",""]
[null,null,null,"","","","","","","","","","","","","","","","","","","","","","","","","","","","","","","","","","","","","","","","","","","","","","","","","","","","","","","","","","","","","","","","","","","","","","","","","","","","","","","","","","","","","","","","","","","","","","","","","","","","","","","","","","","","","","","","","","","","","","","","","","","","","","","","","","","","","","","","","","","","","","","","","","","","","","","","","","","","","","","","","","","","","","","","","","","","","","","","","","","","","","","","","","","","","","","","","","","","","","","","","","",""]
[null,null,null,"","Final Total Debt Applied ",157054968.27077457,"","B","","","","","","","","","","","","","","","","","","","","","","","","","","","","","","","","","","","","","","","","","","","","","","","","","","","","","","","","","","","","","","","","","","","","","","","","","","","","","","","","","","","","","","","","","","","","","","","","","","","","","","","","","","","","","","","","","","","","","","","","","","","","","","","","","","","","","","","","","","","","","","","","","","","","","","","","","","","","","","","","","","","","","","","","","","","","","","","","","","","","","","","","","","","","","","","","","","","","","",""]
[null,null,null,"","","","","","","","","","","","","","","","","","","","","","","","","","","","","","","","","","","","","","","","","","","","","","","","","","","","","","","","","","","","","","","","","","","","","","","","","","","","","","","","","","","","","","","","","","","","","","","","","","","","","","","","","","","","","","","","","","","","","","","","","","","","","","","","","","","","","","","","","","","","","","","","","","","","","","","","","","","","","","","","","","","","","","","","","","","","","","","","","","","","","","","","","","","","","","","","","","","","","","","","","","",""]
[null,null,null,""," Capture and Non-Capture Debt Issue","","","T","","","","","","","","","","","","","","","","","","","","","","","","","","","","","","","","","","","","","","","","","","","","","","","","","","","","","","","","","","","","","","","","","","","","","","","","","","","","","","","","","","","","","","","","","","","","","","","","","","","","","","","","","","","","","","","","","","","","","","","","","","","","","","","","","","","","","","","","","","","","","","","","","","","","","","","","","","","","","","","","","","","","","","","","","","","","","","","","","","","","","","","","","","","","","","","","","","","","","",""]
[null,null,null,"","Capture Debt Commitment ",157054968.27077457,"","C","","","","","","","","","","","","","","","","","","","","","","","","","","","","","","","","","","","","","","","","","","","","","","","","","","","","","","","","","","","","","","","","","","","","","","","","","","","","","","","","","","","","","","","","","","","","","","","","","","","","","","","","","","","","","","","","","","","","","","","","","","","","","","","","","","","","","","","","","","","","","","","","","","","","","","","","","","","","","","","","","","","","","","","","","","","","","","","","","","","","","","","","","","","","","","","","","","","","","",""]
[null,null,null,"","Non-Capture Debt Commitment ",0,"","C","","","","","","","","","","","","","","","","","","","","","","","","","","","","","","","","","","","","","","","","","","","","","","","","","","","","","","","","","","","","","","","","","","","","","","","","","","","","","","","","","","","","","","","","","","","","","","","","","","","","","","","","","","","","","","","","","","","","","","","","","","","","","","","","","","","","","","","","","","","","","","","","","","","","","","","","","","","","","","","","","","","","","","","","","","","","","","","","","","","","","","","","","","","","","","","","","","","","","",""]
[null,null,null,"","Capture Debt LLCR ",0,"","C","","","","","","","","","","","","","","","","","","","","","","","","","","","","","","","","","","","","","","","","","","","","","","","","","","","","","","","","","","","","","","","","","","","","","","","","","","","","","","","","","","","","","","","","","","","","","","","","","","","","","","","","","","","","","","","","","","","","","","","","","","","","","","","","","","","","","","","","","","","","","","","","","","","","","","","","","","","","","","","","","","","","","","","","","","","","","","","","","","","","","","","","","","","","","","","","","","","","","",""]
[null,null,null,"","","","","","","","","","","","","","","","","","","","","","","","","","","","","","","","","","","","","","","","","","","","","","","","","","","","","","","","","","","","","","","","","","","","","","","","","","","","","","","","","","","","","","","","","","","","","","","","","","","","","","","","","","","","","","","","","","","","","","","","","","","","","","","","","","","","","","","","","","","","","","","","","","","","","","","","","","","","","","","","","","","","","","","","","","","","","","","","","","","","","","","","","","","","","","","","","","","","","","","","","","",""]
[null,null,null,"","REPORT 5: DEBT ISSUE BY ISSUE REPORT","#issues",1,"G","","","","","","","","","","","","","","","","","","","","","","","","","","","","","","","","","","","","","","","","","","","","","","","","","","","","","","","","","","","","","","","","","","","","","","","","","","","","","","","","","","","","","","","","","","","","","","","","","","","","","","","","","","","","","","","","","","","","","","","","","","","","","","","","","","","","","","","","","","","","","","","","","","","","","","","","","","","","","","","","","","","","","","","","","","","","","","","","","","","","","","","","","","","","","","","","","","","","","",""]
[null,null,null,"","","","","","","","","","","","","","","","","","","","","","","","","","","","","","","","","","","","","","","","","","","","","","","","","","","","","","","","","","","","","","","","","","","","","","","","","","","","","","","","","","","","","","","","","","","","","","","","","","","","","","","","","","","","","","","","","","","","","","","","","","","","","","","","","","","","","","","","","","","","","","","","","","","","","","","","","","","","","","","","","","","","","","","","","","","","","","","","","","","","","","","","","","","","","","","","","","","","","","","","","","",""]
[null,null,null,"","1 Debt Issue(s) ","","","","","","","","","","","","","","","","","","","","","","","","","","","","","","","","","","","","","","","","","","","","","","","","","","","","","","","","","","","","","","","","","","","","","","","","","","","","","","","","","","","","","","","","","","","","","","","","","","","","","","","","","","","","","","","","","","","","","","","","","","","","","","","","","","","","","","","","","","","","","","","","","","","","","","","","","","","","","","","","","","","","","","","","","","","","","","","","","","","","","","","","","","","","","","","","","","","","","","","","",""]
[null,null,null,"","","","","","","","","","","","","","","","","","","","","","","","","","","","","","","","","","","","","","","","","","","","","","","","","","","","","","","","","","","","","","","","","","","","","","","","","","","","","","","","","","","","","","","","","","","","","","","","","","","","","","","","","","","","","","","","","","","","","","","","","","","","","","","","","","","","","","","","","","","","","","","","","","","","","","","","","","","","","","","","","","","","","","","","","","","","","","","","","","","","","","","","","","","","","","","","","","","","","","","","","","",""]
[null,null,null,"","Debt Sizing from CFADS and DSCR ","","","B","","","","","","","","","","","","","","","","","","","","","","","","","","","","","","","","","","","","","","","","","","","","","","","","","","","","","","","","","","","","","","","","","","","","","","","","","","","","","","","","","","","","","","","","","","","","","","","","","","","","","","","","","","","","","","","","","","","","","","","","","","","","","","","","","","","","","","","","","","","","","","","","","","","","","","","","","","","","","","","","","","","","","","","","","","","","","","","","","","","","","","","","","","","","","","","","","","","","","",""]
[null,null,null,"","Debt Sizing Method: Minimum of Percent or DSCR","","","","","","","","","","","","","","","","","","","","","","","","","","","","","","","","","","","","","","","","","","","","","","","","","","","","","","","","","","","","","","","","","","","","","","","","","","","","","","","","","","","","","","","","","","","","","","","","","","","","","","","","","","","","","","","","","","","","","","","","","","","","","","","","","","","","","","","","","","","","","","","","","","","","","","","","","","","","","","","","","","","","","","","","","","","","","","","","","","","","","","","","","","","","","","","","","","","","","","","","",""]
[null,null,null,"","Sculpt Repay: Flat LLCR ","","","","","","","","","","","","","","","","","","","","","","","","","","","","","","","","","","","","","","","","","","","","","","","","","","","","","","","","","","","","","","","","","","","","","","","","","","","","","","","","","","","","","","","","","","","","","","","","","","","","","","","","","","","","","","","","","","","","","","","","","","","","","","","","","","","","","","","","","","","","","","","","","","","","","","","","","","","","","","","","","","","","","","","","","","","","","","","","","","","","","","","","","","","","","","","","","","","","","","","","",""]
[null,null,null,"","Debt Drawdown B/4 Issue Allocation","","","C","",157054968.27077457,0,0,0,0,0,0,0,0,0,0,0,0,0,0,0,0,0,0,0,0,0,0,0,0,0,0,0,0,0,0,0,0,0,0,0,0,0,0,0,0,0,0,0,0,0,0,0,0,0,0,0,0,0,0,0,0,0,0,0,0,0,0,0,0,0,0,0,0,0,0,0,0,0,0,0,0,0,0,0,0,0,0,0,0,0,0,0,0,0,0,0,0,0,0,0,0,0,0,0,0,0,0,0,0,0,0,0,0,0,0,0,0,0,0,0,0,0,0,0,0,0,0,0,0,0,0,0,0,0,0,0,0,0,0,0,0,0,0,0,0,0,0,0,0,0,0,0,0,0,0,0,0,0,0,0,0,0,0,0,0,0,0,0,0,0,0,0,0,0,0,0,0,0,0,0,0,0,0,0,0,0,0,0,0,0,0,0,0,0,0,0,0,0,0,0,0]
[null,null,null,"","Debt Service for Issue 1","","","C",214691702.09102041,0,4045651.0880207028,4427014.4159229342,4433533.4214419276,4499936.8507188177,4514936.0256496714,4584201.4132375512,4611174.0723323394,4674142.9974991605,4687985.9232472312,4763367.7253056103,4780000.9666714752,4858650.1269461131,4875873.6234135823,4957938.035161647,4989464.0459766285,5063999.7018778753,5079815.8089204766,5169181.4988574078,5188326.0851885015,5281593.3253872022,5301432.8189614275,5398779.0679381527,5435711.6162578883,5524054.2165222252,5542184.5634729611,5648253.8327621799,5670358.1838773265,5781090.1505305134,5804014.8611466773,5919622.5832829159,5962985.277035946,6067823.6193883494,6088676.8552782061,6214714.567732715,6240316.5864955839,6371931.0355275311,6398504.0530623039,6535951.1803520387,6586973.3164455779,6711536.5531730233,0,0,0,0,0,0,0,0,0,0,0,0,0,0,0,0,0,0,0,0,0,0,0,0,0,0,0,0,0,0,0,0,0,0,0,0,0,0,0,0,0,0,0,0,0,0,0,0,0,0,0,0,0,0,0,0,0,0,0,0,0,0,0,0,0,0,0,0,0,0,0,0,0,0,0,0,0,0,0,0,0,0,0,0,0,0,0,0,0,0,0,0,0,0,0,0,0,0,0,0,0,0,0,0,0,0,0,0,0,0,0,0,0,0,0,0,0,0,0,0,0,0,0,0,0,0,0,0,0,0,0,0,0,0,0,0,0,0,0,0,0,0,0,0,0,0,0,0,0,0,0,0,0,0,0,0]
[null,null,null,"","Total Debt Service ","","","C",214691702.09102041,0,4045651.0880207028,4427014.4159229342,4433533.4214419276,4499936.8507188177,4514936.0256496714,4584201.4132375512,4611174.0723323394,4674142.9974991605,4687985.9232472312,4763367.7253056103,4780000.9666714752,4858650.1269461131,4875873.6234135823,4957938.035161647,4989464.0459766285,5063999.7018778753,5079815.8089204766,5169181.4988574078,5188326.0851885015,5281593.3253872022,5301432.8189614275,5398779.0679381527,5435711.6162578883,5524054.2165222252,5542184.5634729611,5648253.8327621799,5670358.1838773265,5781090.1505305134,5804014.8611466773,5919622.5832829159,5962985.277035946,6067823.6193883494,6088676.8552782061,6214714.567732715,6240316.5864955839,6371931.0355275311,6398504.0530623039,6535951.1803520387,6586973.3164455779,6711536.5531730233,0,0,0,0,0,0,0,0,0,0,0,0,0,0,0,0,0,0,0,0,0,0,0,0,0,0,0,0,0,0,0,0,0,0,0,0,0,0,0,0,0,0,0,0,0,0,0,0,0,0,0,0,0,0,0,0,0,0,0,0,0,0,0,0,0,0,0,0,0,0,0,0,0,0,0,0,0,0,0,0,0,0,0,0,0,0,0,0,0,0,0,0,0,0,0,0,0,0,0,0,0,0,0,0,0,0,0,0,0,0,0,0,0,0,0,0,0,0,0,0,0,0,0,0,0,0,0,0,0,0,0,0,0,0,0,0,0,0,0,0,0,0,0,0,0,0,0,0,0,0,0,0,0,0,0,0]
[null,null,null,"","","","","","","","","","","","","","","","","","","","","","","","","","","","","","","","","","","","","","","","","","","","","","","","","","","","","","","","","","","","","","","","","","","","","","","","","","","","","","","","","","","","","","","","","","","","","","","","","","","","","","","","","","","","","","","","","","","","","","","","","","","","","","","","","","","","","","","","","","","","","","","","","","","","","","","","","","","","","","","","","","","","","","","","","","","","","","","","","","","","","","","","","","","","","","","","","","","","","","","","","","",""]
[null,null,null,"","Interest Expense for Issue 1",157054968.27077457,"","C",57636733.837314263,0,2355824.5240616184,2330477.1256022323,2299029.0662474218,2267011.5009195041,2233517.6206725147,2199296.3445978574,2163522.768568262,2126807.9990118006,2088597.9740344905,2049607.1547962995,2008900.7462386598,1967334.2429321676,1923964.5046719583,1879685.8678908339,1833512.0853817717,1786172.8059728488,1737005.4025342732,1686863.2464384802,1634628.4726521964,1581323.0084641518,1525818.953710306,1469184.7457315393,1410240.83089844,1349858.7691180483,1287245.8374069857,1223421.7565159961,1157049.2753723033,1089349.641744728,1018973.5341129411,947197.9142074351,872611.54417130293,796255.93817833322,717182.422960183,636610.00647541264,552938.43805655313,467627.76582996763,379063.21678450413,288771.60424033721,195063.91059866169,99185.269510957951,0,0,0,0,0,0,0,0,0,0,0,0,0,0,0,0,0,0,0,0,0,0,0,0,0,0,0,0,0,0,0,0,0,0,0,0,0,0,0,0,0,0,0,0,0,0,0,0,0,0,0,0,0,0,0,0,0,0,0,0,0,0,0,0,0,0,0,0,0,0,0,0,0,0,0,0,0,0,0,0,0,0,0,0,0,0,0,0,0,0,0,0,0,0,0,0,0,0,0,0,0,0,0,0,0,0,0,0,0,0,0,0,0,0,0,0,0,0,0,0,0,0,0,0,0,0,0,0,0,0,0,0,0,0,0,0,0,0,0,0,0,0,0,0,0,0,0,0,0,0,0,0,0,0,0,0]
[null,null,null,"","Aggregate Interest Expense","","","C",57636733.837314263,0,2355824.5240616184,2330477.1256022323,2299029.0662474218,2267011.5009195041,2233517.6206725147,2199296.3445978574,2163522.768568262,2126807.9990118006,2088597.9740344905,2049607.1547962995,2008900.7462386598,1967334.2429321676,1923964.5046719583,1879685.8678908339,1833512.0853817717,1786172.8059728488,1737005.4025342732,1686863.2464384802,1634628.4726521964,1581323.0084641518,1525818.953710306,1469184.7457315393,1410240.83089844,1349858.7691180483,1287245.8374069857,1223421.7565159961,1157049.2753723033,1089349.641744728,1018973.5341129411,947197.9142074351,872611.54417130293,796255.93817833322,717182.422960183,636610.00647541264,552938.43805655313,467627.76582996763,379063.21678450413,288771.60424033721,195063.91059866169,99185.269510957951,0,0,0,0,0,0,0,0,0,0,0,0,0,0,0,0,0,0,0,0,0,0,0,0,0,0,0,0,0,0,0,0,0,0,0,0,0,0,0,0,0,0,0,0,0,0,0,0,0,0,0,0,0,0,0,0,0,0,0,0,0,0,0,0,0,0,0,0,0,0,0,0,0,0,0,0,0,0,0,0,0,0,0,0,0,0,0,0,0,0,0,0,0,0,0,0,0,0,0,0,0,0,0,0,0,0,0,0,0,0,0,0,0,0,0,0,0,0,0,0,0,0,0,0,0,0,0,0,0,0,0,0,0,0,0,0,0,0,0,0,0,0,0,0,0,0,0,0,0,0,0,0,0,0,0,0]
[null,null,null,"","","","","","","","","","","","","","","","","","","","","","","","","","","","","","","","","","","","","","","","","","","","","","","","","","","","","","","","","","","","","","","","","","","","","","","","","","","","","","","","","","","","","","","","","","","","","","","","","","","","","","","","","","","","","","","","","","","","","","","","","","","","","","","","","","","","","","","","","","","","","","","","","","","","","","","","","","","","","","","","","","","","","","","","","","","","","","","","","","","","","","","","","","","","","","","","","","","","","","","","","","",""]
[null,null,null,"","Repayment 1","","","C",157054968.25370613,0,1689826.5639590845,2096537.2903207019,2134504.3551945058,2232925.3497993136,2281418.4049771568,2384905.0686396938,2447651.3037640774,2547334.9984873598,2599387.9492127406,2713760.5705093108,2771100.2204328151,2891315.8840139452,2951909.1187416241,3078252.1672708131,3155951.9605948571,3277826.8959050262,3342810.4063862031,3482318.2524189278,3553697.6125363051,3700270.3169230502,3775613.8652511216,3929594.3222066136,4025470.7853594483,4174195.4474041769,4254938.7260659756,4424832.0762461834,4513308.9085050235,4691740.5087857852,4785041.3270337358,4972424.6690754807,5090373.7328646434,5271567.6812100159,5371494.4323180234,5578104.5612573028,5687378.1484390311,5904303.2696975637,6019440.8362777997,6247179.5761117013,6391909.4058469161,6612351.2836620649,0,0,0,0,0,0,0,0,0,0,0,0,0,0,0,0,0,0,0,0,0,0,0,0,0,0,0,0,0,0,0,0,0,0,0,0,0,0,0,0,0,0,0,0,0,0,0,0,0,0,0,0,0,0,0,0,0,0,0,0,0,0,0,0,0,0,0,0,0,0,0,0,0,0,0,0,0,0,0,0,0,0,0,0,0,0,0,0,0,0,0,0,0,0,0,0,0,0,0,0,0,0,0,0,0,0,0,0,0,0,0,0,0,0,0,0,0,0,0,0,0,0,0,0,0,0,0,0,0,0,0,0,0,0,0,0,0,0,0,0,0,0,0,0,0,0,0,0,0,0,0,0,0,0,0,0]
[null,null,null,"","Aggregate Repayment","","","C",157054968.25370613,0,1689826.5639590845,2096537.2903207019,2134504.3551945058,2232925.3497993136,2281418.4049771568,2384905.0686396938,2447651.3037640774,2547334.9984873598,2599387.9492127406,2713760.5705093108,2771100.2204328151,2891315.8840139452,2951909.1187416241,3078252.1672708131,3155951.9605948571,3277826.8959050262,3342810.4063862031,3482318.2524189278,3553697.6125363051,3700270.3169230502,3775613.8652511216,3929594.3222066136,4025470.7853594483,4174195.4474041769,4254938.7260659756,4424832.0762461834,4513308.9085050235,4691740.5087857852,4785041.3270337358,4972424.6690754807,5090373.7328646434,5271567.6812100159,5371494.4323180234,5578104.5612573028,5687378.1484390311,5904303.2696975637,6019440.8362777997,6247179.5761117013,6391909.4058469161,6612351.2836620649,0,0,0,0,0,0,0,0,0,0,0,0,0,0,0,0,0,0,0,0,0,0,0,0,0,0,0,0,0,0,0,0,0,0,0,0,0,0,0,0,0,0,0,0,0,0,0,0,0,0,0,0,0,0,0,0,0,0,0,0,0,0,0,0,0,0,0,0,0,0,0,0,0,0,0,0,0,0,0,0,0,0,0,0,0,0,0,0,0,0,0,0,0,0,0,0,0,0,0,0,0,0,0,0,0,0,0,0,0,0,0,0,0,0,0,0,0,0,0,0,0,0,0,0,0,0,0,0,0,0,0,0,0,0,0,0,0,0,0,0,0,0,0,0,0,0,0,0,0,0,0,0,0,0,0,0]
[null,null,null,"","","","","","","","","","","","","","","","","","","","","","","","","","","","","","","","","","","","","","","","","","","","","","","","","","","","","","","","","","","","","","","","","","","","","","","","","","","","","","","","","","","","","","","","","","","","","","","","","","","","","","","","","","","","","","","","","","","","","","","","","","","","","","","","","","","","","","","","","","","","","","","","","","","","","","","","","","","","","","","","","","","","","","","","","","","","","","","","","","","","","","","","","","","","","","","","","","","","","","","","","","",""]
[null,null,null,"","Issue Number 1","","","B","","","","","","","","","","","","","","","","","","","","","","","","","","","","","","","","","","","","","","","","","","","","","","","","","","","","","","","","","","","","","","","","","","","","","","","","","","","","","","","","","","","","","","","","","","","","","","","","","","","","","","","","","","","","","","","","","","","","","","","","","","","","","","","","","","","","","","","","","","","","","","","","","","","","","","","","","","","","","","","","","","","","","","","","","","","","","","","","","","","","","","","","","","","","","","","","","","","","","",""]
[null,null,null,"","Debt Type Code ",1,"","","","","","","","","","","","","","","","","","","","","","","","","","","","","","","","","","","","","","","","","","","","","","","","","","","","","","","","","","","","","","","","","","","","","","","","","","","","","","","","","","","","","","","","","","","","","","","","","","","","","","","","","","","","","","","","","","","","","","","","","","","","","","","","","","","","","","","","","","","","","","","","","","","","","","","","","","","","","","","","","","","","","","","","","","","","","","","","","","","","","","","","","","","","","","","","","","","","","","","",""]
[null,null,null,"","","","","","","","","","","","","","","","","","","","","","","","","","","","","","","","","","","","","","","","","","","","","","","","","","","","","","","","","","","","","","","","","","","","","","","","","","","","","","","","","","","","","","","","","","","","","","","","","","","","","","","","","","","","","","","","","","","","","","","","","","","","","","","","","","","","","","","","","","","","","","","","","","","","","","","","","","","","","","","","","","","","","","","","","","","","","","","","","","","","","","","","","","","","","","","","","","","","","","","","","","",""]
[null,null,null,"","Maximum Debt Commitment 1","","","C","",157054968.27077457,157054968.27077457,157054968.27077457,157054968.27077457,157054968.27077457,157054968.27077457,157054968.27077457,157054968.27077457,157054968.27077457,157054968.27077457,157054968.27077457,157054968.27077457,157054968.27077457,157054968.27077457,157054968.27077457,157054968.27077457,157054968.27077457,157054968.27077457,157054968.27077457,157054968.27077457,157054968.27077457,157054968.27077457,157054968.27077457,157054968.27077457,157054968.27077457,157054968.27077457,157054968.27077457,157054968.27077457,157054968.27077457,157054968.27077457,157054968.27077457,157054968.27077457,157054968.27077457,157054968.27077457,157054968.27077457,157054968.27077457,157054968.27077457,157054968.27077457,157054968.27077457,157054968.27077457,157054968.27077457,157054968.27077457,157054968.27077457,157054968.27077457,157054968.27077457,157054968.27077457,157054968.27077457,157054968.27077457,157054968.27077457,157054968.27077457,157054968.27077457,157054968.27077457,157054968.27077457,157054968.27077457,157054968.27077457,157054968.27077457,157054968.27077457,157054968.27077457,157054968.27077457,157054968.27077457,157054968.27077457,157054968.27077457,157054968.27077457,157054968.27077457,157054968.27077457,157054968.27077457,157054968.27077457,157054968.27077457,157054968.27077457,157054968.27077457,157054968.27077457,157054968.27077457,157054968.27077457,157054968.27077457,157054968.27077457,157054968.27077457,157054968.27077457,157054968.27077457,157054968.27077457,157054968.27077457,157054968.27077457,157054968.27077457,157054968.27077457,157054968.27077457,157054968.27077457,157054968.27077457,157054968.27077457,157054968.27077457,157054968.27077457,157054968.27077457,157054968.27077457,157054968.27077457,157054968.27077457,157054968.27077457,157054968.27077457,157054968.27077457,157054968.27077457,157054968.27077457,157054968.27077457,157054968.27077457,157054968.27077457,157054968.27077457,157054968.27077457,157054968.27077457,157054968.27077457,157054968.27077457,157054968.27077457,157054968.27077457,157054968.27077457,157054968.27077457,157054968.27077457,157054968.27077457,157054968.27077457,157054968.27077457,157054968.27077457,157054968.27077457,157054968.27077457,157054968.27077457,157054968.27077457,157054968.27077457,157054968.27077457,157054968.27077457,157054968.27077457,157054968.27077457,157054968.27077457,157054968.27077457,157054968.27077457,157054968.27077457,157054968.27077457,157054968.27077457,157054968.27077457,157054968.27077457,157054968.27077457,157054968.27077457,157054968.27077457,157054968.27077457,157054968.27077457,157054968.27077457,157054968.27077457,157054968.27077457,157054968.27077457,157054968.27077457,157054968.27077457,157054968.27077457,157054968.27077457,157054968.27077457,157054968.27077457,157054968.27077457,157054968.27077457,157054968.27077457,157054968.27077457,157054968.27077457,157054968.27077457,157054968.27077457,157054968.27077457,157054968.27077457,157054968.27077457,157054968.27077457,157054968.27077457,157054968.27077457,157054968.27077457,157054968.27077457,157054968.27077457,157054968.27077457,157054968.27077457,157054968.27077457,157054968.27077457,157054968.27077457,157054968.27077457,157054968.27077457,157054968.27077457,157054968.27077457,157054968.27077457,157054968.27077457,157054968.27077457,157054968.27077457,157054968.27077457,157054968.27077457,157054968.27077457,157054968.27077457,157054968.27077457,157054968.27077457,157054968.27077457,157054968.27077457,157054968.27077457,157054968.27077457,157054968.27077457,157054968.27077457,157054968.27077457,157054968.27077457,157054968.27077457,157054968.27077457,157054968.27077457,157054968.27077457,157054968.27077457,157054968.27077457,157054968.27077457]
[null,null,null,"","Debt Repayment Flag ","","","C",40,false,true,true,true,true,true,true,true,true,true,true,true,true,true,true,true,true,true,true,true,true,true,true,true,true,true,true,true,true,true,true,true,true,true,true,true,true,true,true,true,true,false,false,false,false,false,false,false,false,false,false,false,false,false,false,false,false,false,false,false,false,false,false,false,false,false,false,false,false,false,false,false,false,false,false,false,false,false,false,false,false,false,false,false,false,false,false,false,false,false,false,false,false,false,false,false,false,false,false,false,false,false,false,false,false,false,false,false,false,false,false,false,false,false,false,false,false,false,false,false,false,false,false,false,false,false,false,false,false,false,false,false,false,false,false,false,false,false,false,false,false,false,false,false,false,false,false,false,false,false,false,false,false,false,false,false,false,false,false,false,false,false,false,false,false,false,false,false,false,false,false,false,false,false,false,false,false,false,false,false,false,false,false,false,false,false,false,false,false,false,false,false,false,false,false,false,false]
[null,null,null,"","Input Repayment Percent ","","","P",1.0000000000000002,0,0,0,0,0,0,0,0,0,0,0,0,0,0,0,0,0,0,0,0,0,0,0,0,0,0,0,0,0,0,0,0,0,0,0,0,1.2832869966443537E-2,1.3025363015940188E-2,1.3220743461179291E-2,1.3419054613096981E-2,1.3620340432293435E-2,1.3824645538777837E-2,1.4032015221859505E-2,1.4242495450187399E-2,1.4456132881940207E-2,1.467297487516931E-2,1.489306949829685E-2,1.5116465540771304E-2,1.5343212523882873E-2,1.5573360711741115E-2,1.5806961122417234E-2,1.6044065539253489E-2,1.6284726522342294E-2,1.6528997420177428E-2,1.6776932381480088E-2,1.7028586367202291E-2,1.7284015162710324E-2,1.7543275390150978E-2,1.7806424521003245E-2,1.8073520888818296E-2,1.8344623702150568E-2,1.8619793057682823E-2,1.8899089953548071E-2,1.9182576302851289E-2,1.9470314947394058E-2,1.9762369671604968E-2,2.0058805216679045E-2,2.0359687294929232E-2,2.0665082604353169E-2,2.0975058843418465E-2,2.1289684726069742E-2,2.160902999696079E-2,2.1933165446915204E-2,2.2262162928618927E-2,2.2596095372548215E-2,2.2935036803136435E-2,2.3279062355183483E-2,2.3628248290511234E-2,2.3982672014868905E-2,2.4342412095091935E-2,2.4707548276518315E-2,2.5078161500666094E-2,2.545433392317608E-2,2.5836148932023725E-2,2.6223691166004079E-2,2.661704653349414E-2,2.701630223149655E-2,2.7421546764968999E-2,0,0,0,0,0,0,0,0,0,0,0,0,0,0,0,0,0,0,0,0,0,0,0,0,0,0,0,0,0,0,0,0,0,0,0,0,0,0,0,0,0,0,0,0,0,0,0,0,0,0,0,0,0,0,0,0,0,0,0,0,0,0,0,0,0,0,0,0,0,0,0,0,0,0,0,0,0,0,0,0,0,0,0,0,0,0,0,0,0,0,0,0,0,0,0,0,0,0,0,0,0,0,0,0,0,0,0,0,0]
[null,null,null,"","","","","","","","","","","","","","","","","","","","","","","","","","","","","","","","","","","","","","","","","","","","","","","","","","","","","","","","","","","","","","","","","","","","","","","","","","","","","","","","","","","","","","","","","","","","","","","","","","","","","","","","","","","","","","","","","","","","","","","","","","","","","","","","","","","","","","","","","","","","","","","","","","","","","","","","","","","","","","","","","","","","","","","","","","","","","","","","","","","","","","","","","","","","","","","","","","","","","","","","","","",""]
[null,null,null,"","Beginning Debt Balance ","","","C","",0,157054968.27077457,155365141.70681548,153268604.41649479,151134100.06130028,148901174.71150097,146619756.30652383,144234851.23788413,141787199.93412006,139239864.93563271,136640476.98641998,133926716.41591066,131155616.19547784,128264300.31146389,125312391.19272226,122234139.02545145,119078187.06485659,115800360.16895156,112457549.76256536,108975231.51014644,105421533.89761013,101721263.58068708,97945649.715435952,94016055.393229336,89990584.607869893,85816389.160465717,81561450.434399739,77136618.358153552,72623309.449648529,67931568.940862745,63146527.613829009,58174102.944753528,53083729.211888887,47812161.530678868,42440667.098360844,36862562.537103541,31175184.38866451,25270881.118966945,19251440.282689147,13004260.706577446,6612351.3007305302,1.7068465240299702E-2,0,0,0,0,0,0,0,0,0,0,0,0,0,0,0,0,0,0,0,0,0,0,0,0,0,0,0,0,0,0,0,0,0,0,0,0,0,0,0,0,0,0,0,0,0,0,0,0,0,0,0,0,0,0,0,0,0,0,0,0,0,0,0,0,0,0,0,0,0,0,0,0,0,0,0,0,0,0,0,0,0,0,0,0,0,0,0,0,0,0,0,0,0,0,0,0,0,0,0,0,0,0,0,0,0,0,0,0,0,0,0,0,0,0,0,0,0,0,0,0,0,0,0,0,0,0,0,0,0,0,0,0,0,0,0,0,0,0,0,0,0,0,0,0,0,0,0,0,0,0,0,0,0,0,0]
[null,null,null,"","Debt Drawdown ",1,"","C",157054968.27077457,157054968.27077457,0,0,0,0,0,0,0,0,0,0,0,0,0,0,0,0,0,0,0,0,0,0,0,0,0,0,0,0,0,0,0,0,0,0,0,0,0,0,0,0,0,0,0,0,0,0,0,0,0,0,0,0,0,0,0,0,0,0,0,0,0,0,0,0,0,0,0,0,0,0,0,0,0,0,0,0,0,0,0,0,0,0,0,0,0,0,0,0,0,0,0,0,0,0,0,0,0,0,0,0,0,0,0,0,0,0,0,0,0,0,0,0,0,0,0,0,0,0,0,0,0,0,0,0,0,0,0,0,0,0,0,0,0,0,0,0,0,0,0,0,0,0,0,0,0,0,0,0,0,0,0,0,0,0,0,0,0,0,0,0,0,0,0,0,0,0,0,0,0,0,0,0,0,0,0,0,0,0,0,0,0,0,0,0,0,0,0,0,0,0,0,0,0,0,0,0]
[null,null,null,"","Repayment ","","","C",157054968.25370613,0,1689826.5639590845,2096537.2903207019,2134504.3551945058,2232925.3497993136,2281418.4049771568,2384905.0686396938,2447651.3037640774,2547334.9984873598,2599387.9492127406,2713760.5705093108,2771100.2204328151,2891315.8840139452,2951909.1187416241,3078252.1672708131,3155951.9605948571,3277826.8959050262,3342810.4063862031,3482318.2524189278,3553697.6125363051,3700270.3169230502,3775613.8652511216,3929594.3222066136,4025470.7853594483,4174195.4474041769,4254938.7260659756,4424832.0762461834,4513308.9085050235,4691740.5087857852,4785041.3270337358,4972424.6690754807,5090373.7328646434,5271567.6812100159,5371494.4323180234,5578104.5612573028,5687378.1484390311,5904303.2696975637,6019440.8362777997,6247179.5761117013,6391909.4058469161,6612351.2836620649,0,0,0,0,0,0,0,0,0,0,0,0,0,0,0,0,0,0,0,0,0,0,0,0,0,0,0,0,0,0,0,0,0,0,0,0,0,0,0,0,0,0,0,0,0,0,0,0,0,0,0,0,0,0,0,0,0,0,0,0,0,0,0,0,0,0,0,0,0,0,0,0,0,0,0,0,0,0,0,0,0,0,0,0,0,0,0,0,0,0,0,0,0,0,0,0,0,0,0,0,0,0,0,0,0,0,0,0,0,0,0,0,0,0,0,0,0,0,0,0,0,0,0,0,0,0,0,0,0,0,0,0,0,0,0,0,0,0,0,0,0,0,0,0,0,0,0,0,0,0,0,0,0,0,0,0]
[null,null,null,"","Ending Debt Balance ","",1,"U","",157054968.27077457,155365141.70681548,153268604.41649479,151134100.06130028,148901174.71150097,146619756.30652383,144234851.23788413,141787199.93412006,139239864.93563271,136640476.98641998,133926716.41591066,131155616.19547784,128264300.31146389,125312391.19272226,122234139.02545145,119078187.06485659,115800360.16895156,112457549.76256536,108975231.51014644,105421533.89761013,101721263.58068708,97945649.715435952,94016055.393229336,89990584.607869893,85816389.160465717,81561450.434399739,77136618.358153552,72623309.449648529,67931568.940862745,63146527.613829009,58174102.944753528,53083729.211888887,47812161.530678868,42440667.098360844,36862562.537103541,31175184.38866451,25270881.118966945,19251440.282689147,13004260.706577446,6612351.3007305302,1.7068465240299702E-2,0,0,0,0,0,0,0,0,0,0,0,0,0,0,0,0,0,0,0,0,0,0,0,0,0,0,0,0,0,0,0,0,0,0,0,0,0,0,0,0,0,0,0,0,0,0,0,0,0,0,0,0,0,0,0,0,0,0,0,0,0,0,0,0,0,0,0,0,0,0,0,0,0,0,0,0,0,0,0,0,0,0,0,0,0,0,0,0,0,0,0,0,0,0,0,0,0,0,0,0,0,0,0,0,0,0,0,0,0,0,0,0,0,0,0,0,0,0,0,0,0,0,0,0,0,0,0,0,0,0,0,0,0,0,0,0,0,0,0,0,0,0,0,0,0,0,0,0,0,0,0,0,0,0,0,0]
[null,null,null,"","","","","","","","","","","","","","","","","","","","","","","","","","","","","","","","","","","","","","","","","","","","","","","","","","","","","","","","","","","","","","","","","","","","","","","","","","","","","","","","","","","","","","","","","","","","","","","","","","","","","","","","","","","","","","","","","","","","","","","","","","","","","","","","","","","","","","","","","","","","","","","","","","","","","","","","","","","","","","","","","","","","","","","","","","","","","","","","","","","","","","","","","","","","","","","","","","","","","","","","","","",""]
[null,null,null,"","Draws and Repayment Test ",true,"","C","","","","","","","","","","","","","","","","","","","","","","","","","","","","","","","","","","","","","","","","","","","","","","","","","","","","","","","","","","","","","","","","","","","","","","","","","","","","","","","","","","","","","","","","","","","","","","","","","","","","","","","","","","","","","","","","","","","","","","","","","","","","","","","","","","","","","","","","","","","","","","","","","","","","","","","","","","","","","","","","","","","","","","","","","","","","","","","","","","","","","","","","","","","","","","","","","","","","","",""]
[null,null,null,"","Positive Balance Test ",true,"","C","","","","","","","","","","","","","","","","","","","","","","","","","","","","","","","","","","","","","","","","","","","","","","","","","","","","","","","","","","","","","","","","","","","","","","","","","","","","","","","","","","","","","","","","","","","","","","","","","","","","","","","","","","","","","","","","","","","","","","","","","","","","","","","","","","","","","","","","","","","","","","","","","","","","","","","","","","","","","","","","","","","","","","","","","","","","","","","","","","","","","","","","","","","","","","","","","","","","","",""]
[null,null,null,"","Average Debt Balance  ","",1,"C","",78527484.12514101,0,0,0,0,0,0,0,0,0,0,0,0,0,0,0,0,0,0,0,0,0,0,0,0,0,0,0,0,0,0,0,0,0,0,0,0,0,0,0,0,0,0,0,0,0,0,0,0,0,0,0,0,0,0,0,0,0,0,0,0,0,0,0,0,0,0,0,0,0,0,0,0,0,0,0,0,0,0,0,0,0,0,0,0,0,0,0,0,0,0,0,0,0,0,0,0,0,0,0,0,0,0,0,0,0,0,0,0,0,0,0,0,0,0,0,0,0,0,0,0,0,0,0,0,0,0,0,0,0,0,0,0,0,0,0,0,0,0,0,0,0,0,0,0,0,0,0,0,0,0,0,0,0,0,0,0,0,0,0,0,0,0,0,0,0,0,0,0,0,0,0,0,0,0,0,0,0,0,0,0,0,0,0,0,0,0,0,0,0,0,0,0,0,0,0,0]
[null,null,null,"","Interest Rate - Issue  ","","","P","",1.4999999999999999E-2,1.4999999999999999E-2,1.4999999999999999E-2,1.4999999999999999E-2,1.4999999999999999E-2,1.4999999999999999E-2,1.4999999999999999E-2,1.4999999999999999E-2,1.4999999999999999E-2,1.4999999999999999E-2,1.4999999999999999E-2,1.4999999999999999E-2,1.4999999999999999E-2,1.4999999999999999E-2,1.4999999999999999E-2,1.4999999999999999E-2,1.4999999999999999E-2,1.4999999999999999E-2,1.4999999999999999E-2,1.4999999999999999E-2,1.4999999999999999E-2,1.4999999999999999E-2,1.4999999999999999E-2,1.4999999999999999E-2,1.4999999999999999E-2,1.4999999999999999E-2,1.4999999999999999E-2,1.4999999999999999E-2,1.4999999999999999E-2,1.4999999999999999E-2,1.4999999999999999E-2,1.4999999999999999E-2,1.4999999999999999E-2,1.4999999999999999E-2,1.4999999999999999E-2,1.4999999999999999E-2,1.4999999999999999E-2,1.4999999999999999E-2,1.4999999999999999E-2,1.4999999999999999E-2,1.4999999999999999E-2,1.4999999999999999E-2,1.4999999999999999E-2,1.4999999999999999E-2,1.4999999999999999E-2,1.4999999999999999E-2,1.4999999999999999E-2,1.4999999999999999E-2,1.4999999999999999E-2,1.4999999999999999E-2,1.4999999999999999E-2,1.4999999999999999E-2,1.4999999999999999E-2,1.4999999999999999E-2,1.4999999999999999E-2,1.4999999999999999E-2,1.4999999999999999E-2,1.4999999999999999E-2,1.4999999999999999E-2,1.4999999999999999E-2,1.4999999999999999E-2,1.4999999999999999E-2,1.4999999999999999E-2,1.4999999999999999E-2,1.4999999999999999E-2,1.4999999999999999E-2,1.4999999999999999E-2,1.4999999999999999E-2,1.4999999999999999E-2,1.4999999999999999E-2,1.4999999999999999E-2,1.4999999999999999E-2,1.4999999999999999E-2,1.4999999999999999E-2,1.4999999999999999E-2,1.4999999999999999E-2,1.4999999999999999E-2,1.4999999999999999E-2,1.4999999999999999E-2,1.4999999999999999E-2,1.4999999999999999E-2,1.4999999999999999E-2,1.4999999999999999E-2,1.4999999999999999E-2,1.4999999999999999E-2,1.4999999999999999E-2,1.4999999999999999E-2,1.4999999999999999E-2,1.4999999999999999E-2,1.4999999999999999E-2,1.4999999999999999E-2,0,0,0,0,0,0,0,0,0,0,0,0,0,0,0,0,0,0,0,0,0,0,0,0,0,0,0,0,0,0,0,0,0,0,0,0,0,0,0,0,0,0,0,0,0,0,0,0,0,0,0,0,0,0,0,0,0,0,0,0,0,0,0,0,0,0,0,0,0,0,0,0,0,0,0,0,0,0,0,0,0,0,0,0,0,0,0,0,0,0,0,0,0,0,0,0,0,0,0,0,0,0,0,0,0,0]
[null,null,null,"","Interest During Contruction ","","","C",0,0,0,0,0,0,0,0,0,0,0,0,0,0,0,0,0,0,0,0,0,0,0,0,0,0,0,0,0,0,0,0,0,0,0,0,0,0,0,0,0,0,0,0,0,0,0,0,0,0,0,0,0,0,0,0,0,0,0,0,0,0,0,0,0,0,0,0,0,0,0,0,0,0,0,0,0,0,0,0,0,0,0,0,0,0,0,0,0,0,0,0,0,0,0,0,0,0,0,0,0,0,0,0,0,0,0,0,0,0,0,0,0,0,0,0,0,0,0,0,0,0,0,0,0,0,0,0,0,0,0,0,0,0,0,0,0,0,0,0,0,0,0,0,0,0,0,0,0,0,0,0,0,0,0,0,0,0,0,0,0,0,0,0,0,0,0,0,0,0,0,0,0,0,0,0,0,0,0,0,0,0,0,0,0,0,0,0,0,0,0,0,0,0,0,0,0,0]
[null,null,null,"","Interest Expense for Issue",157054968.27077457,"","C",57636733.837314263,0,2355824.5240616184,2330477.1256022323,2299029.0662474218,2267011.5009195041,2233517.6206725147,2199296.3445978574,2163522.768568262,2126807.9990118006,2088597.9740344905,2049607.1547962995,2008900.7462386598,1967334.2429321676,1923964.5046719583,1879685.8678908339,1833512.0853817717,1786172.8059728488,1737005.4025342732,1686863.2464384802,1634628.4726521964,1581323.0084641518,1525818.953710306,1469184.7457315393,1410240.83089844,1349858.7691180483,1287245.8374069857,1223421.7565159961,1157049.2753723033,1089349.641744728,1018973.5341129411,947197.9142074351,872611.54417130293,796255.93817833322,717182.422960183,636610.00647541264,552938.43805655313,467627.76582996763,379063.21678450413,288771.60424033721,195063.91059866169,99185.269510957951,0,0,0,0,0,0,0,0,0,0,0,0,0,0,0,0,0,0,0,0,0,0,0,0,0,0,0,0,0,0,0,0,0,0,0,0,0,0,0,0,0,0,0,0,0,0,0,0,0,0,0,0,0,0,0,0,0,0,0,0,0,0,0,0,0,0,0,0,0,0,0,0,0,0,0,0,0,0,0,0,0,0,0,0,0,0,0,0,0,0,0,0,0,0,0,0,0,0,0,0,0,0,0,0,0,0,0,0,0,0,0,0,0,0,0,0,0,0,0,0,0,0,0,0,0,0,0,0,0,0,0,0,0,0,0,0,0,0,0,0,0,0,0,0,0,0,0,0,0,0,0,0,0,0,0,0]
[null,null,null,"","Debt Service for Issue 1","","","C",214691702.09102041,0,4045651.0880207028,4427014.4159229342,4433533.4214419276,4499936.8507188177,4514936.0256496714,4584201.4132375512,4611174.0723323394,4674142.9974991605,4687985.9232472312,4763367.7253056103,4780000.9666714752,4858650.1269461131,4875873.6234135823,4957938.035161647,4989464.0459766285,5063999.7018778753,5079815.8089204766,5169181.4988574078,5188326.0851885015,5281593.3253872022,5301432.8189614275,5398779.0679381527,5435711.6162578883,5524054.2165222252,5542184.5634729611,5648253.8327621799,5670358.1838773265,5781090.1505305134,5804014.8611466773,5919622.5832829159,5962985.277035946,6067823.6193883494,6088676.8552782061,6214714.567732715,6240316.5864955839,6371931.0355275311,6398504.0530623039,6535951.1803520387,6586973.3164455779,6711536.5531730233,0,0,0,0,0,0,0,0,0,0,0,0,0,0,0,0,0,0,0,0,0,0,0,0,0,0,0,0,0,0,0,0,0,0,0,0,0,0,0,0,0,0,0,0,0,0,0,0,0,0,0,0,0,0,0,0,0,0,0,0,0,0,0,0,0,0,0,0,0,0,0,0,0,0,0,0,0,0,0,0,0,0,0,0,0,0,0,0,0,0,0,0,0,0,0,0,0,0,0,0,0,0,0,0,0,0,0,0,0,0,0,0,0,0,0,0,0,0,0,0,0,0,0,0,0,0,0,0,0,0,0,0,0,0,0,0,0,0,0,0,0,0,0,0,0,0,0,0,0,0,0,0,0,0,0,0]
[null,null,null,"","","","","","","","","","","","","","","","","","","","","","","","","","","","","","","","","","","","","","","","","","","","","","","","","","","","","","","","","","","","","","","","","","","","","","","","","","","","","","","","","","","","","","","","","","","","","","","","","","","","","","","","","","","","","","","","","","","","","","","","","","","","","","","","","","","","","","","","","","","","","","","","","","","","","","","","","","","","","","","","","","","","","","","","","","","","","","","","","","","","","","","","","","","","","","","","","","","","","","","","","","",""]
[null,null,null,"","Up-front fee ","",0,"C",0,0,0,0,0,0,0,0,0,0,0,0,0,0,0,0,0,0,0,0,0,0,0,0,0,0,0,0,0,0,0,0,0,0,0,0,0,0,0,0,0,0,0,0,0,0,0,0,0,0,0,0,0,0,0,0,0,0,0,0,0,0,0,0,0,0,0,0,0,0,0,0,0,0,0,0,0,0,0,0,0,0,0,0,0,0,0,0,0,0,0,0,0,0,0,0,0,0,0,0,0,0,0,0,0,0,0,0,0,0,0,0,0,0,0,0,0,0,0,0,0,0,0,0,0,0,0,0,0,0,0,0,0,0,0,0,0,0,0,0,0,0,0,0,0,0,0,0,0,0,0,0,0,0,0,0,0,0,0,0,0,0,0,0,0,0,0,0,0,0,0,0,0,0,0,0,0,0,0,0,0,0,0,0,0,0,0,0,0,0,0,0,0,0,0,0,0,0]
[null,null,null,"","Maximum Debt Commitment ","","","C","",157054968.27077457,157054968.27077457,157054968.27077457,157054968.27077457,157054968.27077457,157054968.27077457,157054968.27077457,157054968.27077457,157054968.27077457,157054968.27077457,157054968.27077457,157054968.27077457,157054968.27077457,157054968.27077457,157054968.27077457,157054968.27077457,157054968.27077457,157054968.27077457,157054968.27077457,157054968.27077457,157054968.27077457,157054968.27077457,157054968.27077457,157054968.27077457,157054968.27077457,157054968.27077457,157054968.27077457,157054968.27077457,157054968.27077457,157054968.27077457,157054968.27077457,157054968.27077457,157054968.27077457,157054968.27077457,157054968.27077457,157054968.27077457,157054968.27077457,157054968.27077457,157054968.27077457,157054968.27077457,157054968.27077457,157054968.27077457,157054968.27077457,157054968.27077457,157054968.27077457,157054968.27077457,157054968.27077457,157054968.27077457,157054968.27077457,157054968.27077457,157054968.27077457,157054968.27077457,157054968.27077457,157054968.27077457,157054968.27077457,157054968.27077457,157054968.27077457,157054968.27077457,157054968.27077457,157054968.27077457,157054968.27077457,157054968.27077457,157054968.27077457,157054968.27077457,157054968.27077457,157054968.27077457,157054968.27077457,157054968.27077457,157054968.27077457,157054968.27077457,157054968.27077457,157054968.27077457,157054968.27077457,157054968.27077457,157054968.27077457,157054968.27077457,157054968.27077457,157054968.27077457,157054968.27077457,157054968.27077457,157054968.27077457,157054968.27077457,157054968.27077457,157054968.27077457,157054968.27077457,157054968.27077457,157054968.27077457,157054968.27077457,157054968.27077457,157054968.27077457,157054968.27077457,157054968.27077457,157054968.27077457,157054968.27077457,157054968.27077457,157054968.27077457,157054968.27077457,157054968.27077457,157054968.27077457,157054968.27077457,157054968.27077457,157054968.27077457,157054968.27077457,157054968.27077457,157054968.27077457,157054968.27077457,157054968.27077457,157054968.27077457,157054968.27077457,157054968.27077457,157054968.27077457,157054968.27077457,157054968.27077457,157054968.27077457,157054968.27077457,157054968.27077457,157054968.27077457,157054968.27077457,157054968.27077457,157054968.27077457,157054968.27077457,157054968.27077457,157054968.27077457,157054968.27077457,157054968.27077457,157054968.27077457,157054968.27077457,157054968.27077457,157054968.27077457,157054968.27077457,157054968.27077457,157054968.27077457,157054968.27077457,157054968.27077457,157054968.27077457,157054968.27077457,157054968.27077457,157054968.27077457,157054968.27077457,157054968.27077457,157054968.27077457,157054968.27077457,157054968.27077457,157054968.27077457,157054968.27077457,157054968.27077457,157054968.27077457,157054968.27077457,157054968.27077457,157054968.27077457,157054968.27077457,157054968.27077457,157054968.27077457,157054968.27077457,157054968.27077457,157054968.27077457,157054968.27077457,157054968.27077457,157054968.27077457,157054968.27077457,157054968.27077457,157054968.27077457,157054968.27077457,157054968.27077457,157054968.27077457,157054968.27077457,157054968.27077457,157054968.27077457,157054968.27077457,157054968.27077457,157054968.27077457,157054968.27077457,157054968.27077457,157054968.27077457,157054968.27077457,157054968.27077457,157054968.27077457,157054968.27077457,157054968.27077457,157054968.27077457,157054968.27077457,157054968.27077457,157054968.27077457,157054968.27077457,157054968.27077457,157054968.27077457,157054968.27077457,157054968.27077457,157054968.27077457,157054968.27077457,157054968.27077457,157054968.27077457,157054968.27077457,157054968.27077457,157054968.27077457,157054968.27077457,157054968.27077457]
[null,null,null,"","Undrawn Balance 1","","","C","",157054968.27077457,0,0,0,0,0,0,0,0,0,0,0,0,0,0,0,0,0,0,0,0,0,0,0,0,0,0,0,0,0,0,0,0,0,0,0,0,0,0,0,0,0,0,0,0,0,0,0,0,0,0,0,0,0,0,0,0,0,0,0,0,0,0,0,0,0,0,0,0,0,0,0,0,0,0,0,0,0,0,0,0,0,0,0,0,0,0,0,0,0,0,0,0,0,0,0,0,0,0,0,0,0,0,0,0,0,0,0,0,0,0,0,0,0,0,0,0,0,0,0,0,0,0,0,0,0,0,0,0,0,0,0,0,0,0,0,0,0,0,0,0,0,0,0,0,0,0,0,0,0,0,0,0,0,0,0,0,0,0,0,0,0,0,0,0,0,0,0,0,0,0,0,0,0,0,0,0,0,0,0,0,0,0,0,0,0,0,0,0,0,0,0,0,0,0,0,0]
[null,null,null,"","Commitment fee percent ","","","P","",0,0,0,0,0,0,0,0,0,0,0,0,0,0,0,0,0,0,0,0,0,0,0,0,0,0,0,0,0,0,0,0,0,0,0,0,0,0,0,0,0,0,0,0,0,0,0,0,0,0,0,0,0,0,0,0,0,0,0,0,0,0,0,0,0,0,0,0,0,0,0,0,0,0,0,0,0,0,0,0,0,0,0,0,0,0,0,0,0,0,0,0,0,0,0,0,0,0,0,0,0,0,0,0,0,0,0,0,0,0,0,0,0,0,0,0,0,0,0,0,0,0,0,0,0,0,0,0,0,0,0,0,0,0,0,0,0,0,0,0,0,0,0,0,0,0,0,0,0,0,0,0,0,0,0,0,0,0,0,0,0,0,0,0,0,0,0,0,0,0,0,0,0,0,0,0,0,0,0,0,0,0,0,0,0,0,0,0,0,0,0,0,0,0,0,0,0]
[null,null,null,"","Commitment fee for issue ","","","C",0,0,0,0,0,0,0,0,0,0,0,0,0,0,0,0,0,0,0,0,0,0,0,0,0,0,0,0,0,0,0,0,0,0,0,0,0,0,0,0,0,0,0,0,0,0,0,0,0,0,0,0,0,0,0,0,0,0,0,0,0,0,0,0,0,0,0,0,0,0,0,0,0,0,0,0,0,0,0,0,0,0,0,0,0,0,0,0,0,0,0,0,0,0,0,0,0,0,0,0,0,0,0,0,0,0,0,0,0,0,0,0,0,0,0,0,0,0,0,0,0,0,0,0,0,0,0,0,0,0,0,0,0,0,0,0,0,0,0,0,0,0,0,0,0,0,0,0,0,0,0,0,0,0,0,0,0,0,0,0,0,0,0,0,0,0,0,0,0,0,0,0,0,0,0,0,0,0,0,0,0,0,0,0,0,0,0,0,0,0,0,0,0,0,0,0,0,0]
[null,null,null,"","Other fees pre-COD ","","","C",0,0,0,0,0,0,0,0,0,0,0,0,0,0,0,0,0,0,0,0,0,0,0,0,0,0,0,0,0,0,0,0,0,0,0,0,0,0,0,0,0,0,0,0,0,0,0,0,0,0,0,0,0,0,0,0,0,0,0,0,0,0,0,0,0,0,0,0,0,0,0,0,0,0,0,0,0,0,0,0,0,0,0,0,0,0,0,0,0,0,0,0,0,0,0,0,0,0,0,0,0,0,0,0,0,0,0,0,0,0,0,0,0,0,0,0,0,0,0,0,0,0,0,0,0,0,0,0,0,0,0,0,0,0,0,0,0,0,0,0,0,0,0,0,0,0,0,0,0,0,0,0,0,0,0,0,0,0,0,0,0,0,0,0,0,0,0,0,0,0,0,0,0,0,0,0,0,0,0,0,0,0,0,0,0,0,0,0,0,0,0,0,0,0,0,0,0,0]
[null,null,null,"","Other fees post-COD ","","","C",0,0,0,0,0,0,0,0,0,0,0,0,0,0,0,0,0,0,0,0,0,0,0,0,0,0,0,0,0,0,0,0,0,0,0,0,0,0,0,0,0,0,0,0,0,0,0,0,0,0,0,0,0,0,0,0,0,0,0,0,0,0,0,0,0,0,0,0,0,0,0,0,0,0,0,0,0,0,0,0,0,0,0,0,0,0,0,0,0,0,0,0,0,0,0,0,0,0,0,0,0,0,0,0,0,0,0,0,0,0,0,0,0,0,0,0,0,0,0,0,0,0,0,0,0,0,0,0,0,0,0,0,0,0,0,0,0,0,0,0,0,0,0,0,0,0,0,0,0,0,0,0,0,0,0,0,0,0,0,0,0,0,0,0,0,0,0,0,0,0,0,0,0,0,0,0,0,0,0,0,0,0,0,0,0,0,0,0,0,0,0,0,0,0,0,0,0,0]
[null,null,null,"","Repayment Percent -- Issue # 1","","","P",0.9999999998913216,0,1.0759459459096489E-2,1.3349066975748987E-2,1.3590810775972777E-2,1.4217476685930638E-2,1.4526241545213774E-2,1.5185161570488735E-2,1.5584679241373266E-2,1.6219385012357986E-2,1.6550816429641374E-2,1.7279049497056238E-2,1.7644142372212193E-2,1.8409579243803986E-2,1.8795388335963437E-2,1.9599839477625915E-2,2.0094569406768199E-2,2.0870571189150835E-2,2.1284334034074915E-2,2.2172608041377904E-2,2.2627094524061558E-2,2.3560351879754009E-2,2.4040079131668599E-2,2.5020503110934369E-2,2.5630967486614201E-2,2.6577926781708363E-2,2.7092035183058593E-2,2.817377969614715E-2,2.8737129160560777E-2,2.9873238398271308E-2,3.0467303134173795E-2,3.1660409879569341E-2,3.2411414862651505E-2,3.3565112516029658E-2,3.4201365875017486E-2,3.551689336971646E-2,3.6212659879906274E-2,3.7593864967825158E-2,3.8326968592931304E-2,3.9777026125917228E-2,4.069854953475132E-2,4.2102146506195676E-2,0,0,0,0,0,0,0,0,0,0,0,0,0,0,0,0,0,0,0,0,0,0,0,0,0,0,0,0,0,0,0,0,0,0,0,0,0,0,0,0,0,0,0,0,0,0,0,0,0,0,0,0,0,0,0,0,0,0,0,0,0,0,0,0,0,0,0,0,0,0,0,0,0,0,0,0,0,0,0,0,0,0,0,0,0,0,0,0,0,0,0,0,0,0,0,0,0,0,0,0,0,0,0,0,0,0,0,0,0,0,0,0,0,0,0,0,0,0,0,0,0,0,0,0,0,0,0,0,0,0,0,0,0,0,0,0,0,0,0,0,0,0,0,0,0,0,0,0,0,0,0,0,0,0,0,0]
[null,null,null,"","","","","","","","","","","","","","","","","","","","","","","","","","","","","","","","","","","","","","","","","","","","","","","","","","","","","","","","","","","","","","","","","","","","","","","","","","","","","","","","","","","","","","","","","","","","","","","","","","","","","","","","","","","","","","","","","","","","","","","","","","","","","","","","","","","","","","","","","","","","","","","","","","","","","","","","","","","","","","","","","","","","","","","","","","","","","","","","","","","","","","","","","","","","","","","","","","","","","","","","","","",""]
[null,null,null,"","Total Accross Issues ","","","B","","","","","","","","","","","","","","","","","","","","","","","","","","","","","","","","","","","","","","","","","","","","","","","","","","","","","","","","","","","","","","","","","","","","","","","","","","","","","","","","","","","","","","","","","","","","","","","","","","","","","","","","","","","","","","","","","","","","","","","","","","","","","","","","","","","","","","","","","","","","","","","","","","","","","","","","","","","","","","","","","","","","","","","","","","","","","","","","","","","","","","","","","","","","","","","","","","","","","",""]
[null,null,null,"","Interest During Contruction Total","","","C",0,0,0,0,0,0,0,0,0,0,0,0,0,0,0,0,0,0,0,0,0,0,0,0,0,0,0,0,0,0,0,0,0,0,0,0,0,0,0,0,0,0,0,0,0,0,0,0,0,0,0,0,0,0,0,0,0,0,0,0,0,0,0,0,0,0,0,0,0,0,0,0,0,0,0,0,0,0,0,0,0,0,0,0,0,0,0,0,0,0,0,0,0,0,0,0,0,0,0,0,0,0,0,0,0,0,0,0,0,0,0,0,0,0,0,0,0,0,0,0,0,0,0,0,0,0,0,0,0,0,0,0,0,0,0,0,0,0,0,0,0,0,0,0,0,0,0,0,0,0,0,0,0,0,0,0,0,0,0,0,0,0,0,0,0,0,0,0,0,0,0,0,0,0,0,0,0,0,0,0,0,0,0,0,0,0,0,0,0,0,0,0,0,0,0,0,0,0]
[null,null,null,"","Aggregate Debt Service (DSCR Input) ",40,"","C",214691702.09102041,0,4045651.0880207028,4427014.4159229342,4433533.4214419276,4499936.8507188177,4514936.0256496714,4584201.4132375512,4611174.0723323394,4674142.9974991605,4687985.9232472312,4763367.7253056103,4780000.9666714752,4858650.1269461131,4875873.6234135823,4957938.035161647,4989464.0459766285,5063999.7018778753,5079815.8089204766,5169181.4988574078,5188326.0851885015,5281593.3253872022,5301432.8189614275,5398779.0679381527,5435711.6162578883,5524054.2165222252,5542184.5634729611,5648253.8327621799,5670358.1838773265,5781090.1505305134,5804014.8611466773,5919622.5832829159,5962985.277035946,6067823.6193883494,6088676.8552782061,6214714.567732715,6240316.5864955839,6371931.0355275311,6398504.0530623039,6535951.1803520387,6586973.3164455779,6711536.5531730233,0,0,0,0,0,0,0,0,0,0,0,0,0,0,0,0,0,0,0,0,0,0,0,0,0,0,0,0,0,0,0,0,0,0,0,0,0,0,0,0,0,0,0,0,0,0,0,0,0,0,0,0,0,0,0,0,0,0,0,0,0,0,0,0,0,0,0,0,0,0,0,0,0,0,0,0,0,0,0,0,0,0,0,0,0,0,0,0,0,0,0,0,0,0,0,0,0,0,0,0,0,0,0,0,0,0,0,0,0,0,0,0,0,0,0,0,0,0,0,0,0,0,0,0,0,0,0,0,0,0,0,0,0,0,0,0,0,0,0,0,0,0,0,0,0,0,0,0,0,0,0,0,0,0,0,0]
[null,null,null,"","Non-Capture Debt Service from Other Issues",1,"","C","",0,0,0,0,0,0,0,0,0,0,0,0,0,0,0,0,0,0,0,0,0,0,0,0,0,0,0,0,0,0,0,0,0,0,0,0,0,0,0,0,0,0,0,0,0,0,0,0,0,0,0,0,0,0,0,0,0,0,0,0,0,0,0,0,0,0,0,0,0,0,0,0,0,0,0,0,0,0,0,0,0,0,0,0,0,0,0,0,0,0,0,0,0,0,0,0,0,0,0,0,0,0,0,0,0,0,0,0,0,0,0,0,0,0,0,0,0,0,0,0,0,0,0,0,0,0,0,0,0,0,0,0,0,0,0,0,0,0,0,0,0,0,0,0,0,0,0,0,0,0,0,0,0,0,0,0,0,0,0,0,0,0,0,0,0,0,0,0,0,0,0,0,0,0,0,0,0,0,0,0,0,0,0,0,0,0,0,0,0,0,0,0,0,0,0,0,0]
[null,null,null,"","Total Interest Expense","","","C",57636733.837314263,0,2355824.5240616184,2330477.1256022323,2299029.0662474218,2267011.5009195041,2233517.6206725147,2199296.3445978574,2163522.768568262,2126807.9990118006,2088597.9740344905,2049607.1547962995,2008900.7462386598,1967334.2429321676,1923964.5046719583,1879685.8678908339,1833512.0853817717,1786172.8059728488,1737005.4025342732,1686863.2464384802,1634628.4726521964,1581323.0084641518,1525818.953710306,1469184.7457315393,1410240.83089844,1349858.7691180483,1287245.8374069857,1223421.7565159961,1157049.2753723033,1089349.641744728,1018973.5341129411,947197.9142074351,872611.54417130293,796255.93817833322,717182.422960183,636610.00647541264,552938.43805655313,467627.76582996763,379063.21678450413,288771.60424033721,195063.91059866169,99185.269510957951,0,0,0,0,0,0,0,0,0,0,0,0,0,0,0,0,0,0,0,0,0,0,0,0,0,0,0,0,0,0,0,0,0,0,0,0,0,0,0,0,0,0,0,0,0,0,0,0,0,0,0,0,0,0,0,0,0,0,0,0,0,0,0,0,0,0,0,0,0,0,0,0,0,0,0,0,0,0,0,0,0,0,0,0,0,0,0,0,0,0,0,0,0,0,0,0,0,0,0,0,0,0,0,0,0,0,0,0,0,0,0,0,0,0,0,0,0,0,0,0,0,0,0,0,0,0,0,0,0,0,0,0,0,0,0,0,0,0,0,0,0,0,0,0,0,0,0,0,0,0,0,0,0,0,0,0]
[null,null,null,"","Total Repayment","","","C",157054968.25370613,0,1689826.5639590845,2096537.2903207019,2134504.3551945058,2232925.3497993136,2281418.4049771568,2384905.0686396938,2447651.3037640774,2547334.9984873598,2599387.9492127406,2713760.5705093108,2771100.2204328151,2891315.8840139452,2951909.1187416241,3078252.1672708131,3155951.9605948571,3277826.8959050262,3342810.4063862031,3482318.2524189278,3553697.6125363051,3700270.3169230502,3775613.8652511216,3929594.3222066136,4025470.7853594483,4174195.4474041769,4254938.7260659756,4424832.0762461834,4513308.9085050235,4691740.5087857852,4785041.3270337358,4972424.6690754807,5090373.7328646434,5271567.6812100159,5371494.4323180234,5578104.5612573028,5687378.1484390311,5904303.2696975637,6019440.8362777997,6247179.5761117013,6391909.4058469161,6612351.2836620649,0,0,0,0,0,0,0,0,0,0,0,0,0,0,0,0,0,0,0,0,0,0,0,0,0,0,0,0,0,0,0,0,0,0,0,0,0,0,0,0,0,0,0,0,0,0,0,0,0,0,0,0,0,0,0,0,0,0,0,0,0,0,0,0,0,0,0,0,0,0,0,0,0,0,0,0,0,0,0,0,0,0,0,0,0,0,0,0,0,0,0,0,0,0,0,0,0,0,0,0,0,0,0,0,0,0,0,0,0,0,0,0,0,0,0,0,0,0,0,0,0,0,0,0,0,0,0,0,0,0,0,0,0,0,0,0,0,0,0,0,0,0,0,0,0,0,0,0,0,0,0,0,0,0,0,0]
[null,null,null,""," ","","","","","","","","","","","","","","","","","","","","","","","","","","","","","","","","","","","","","","","","","","","","","","","","","","","","","","","","","","","","","","","","","","","","","","","","","","","","","","","","","","","","","","","","","","","","","","","","","","","","","","","","","","","","","","","","","","","","","","","","","","","","","","","","","","","","","","","","","","","","","","","","","","","","","","","","","","","","","","","","","","","","","","","","","","","","","","","","","","","","","","","","","","","","","","","","","","","","","","","","",""]
[null,null,null,"","Repayment Percent for All Issues","","","P",0.9999999998913216,0,1.0759459459096489E-2,1.3349066975748987E-2,1.3590810775972777E-2,1.4217476685930638E-2,1.4526241545213774E-2,1.5185161570488735E-2,1.5584679241373266E-2,1.6219385012357986E-2,1.6550816429641374E-2,1.7279049497056238E-2,1.7644142372212193E-2,1.8409579243803986E-2,1.8795388335963437E-2,1.9599839477625915E-2,2.0094569406768199E-2,2.0870571189150835E-2,2.1284334034074915E-2,2.2172608041377904E-2,2.2627094524061558E-2,2.3560351879754009E-2,2.4040079131668599E-2,2.5020503110934369E-2,2.5630967486614201E-2,2.6577926781708363E-2,2.7092035183058593E-2,2.817377969614715E-2,2.8737129160560777E-2,2.9873238398271308E-2,3.0467303134173795E-2,3.1660409879569341E-2,3.2411414862651505E-2,3.3565112516029658E-2,3.4201365875017486E-2,3.551689336971646E-2,3.6212659879906274E-2,3.7593864967825158E-2,3.8326968592931304E-2,3.9777026125917228E-2,4.069854953475132E-2,4.2102146506195676E-2,0,0,0,0,0,0,0,0,0,0,0,0,0,0,0,0,0,0,0,0,0,0,0,0,0,0,0,0,0,0,0,0,0,0,0,0,0,0,0,0,0,0,0,0,0,0,0,0,0,0,0,0,0,0,0,0,0,0,0,0,0,0,0,0,0,0,0,0,0,0,0,0,0,0,0,0,0,0,0,0,0,0,0,0,0,0,0,0,0,0,0,0,0,0,0,0,0,0,0,0,0,0,0,0,0,0,0,0,0,0,0,0,0,0,0,0,0,0,0,0,0,0,0,0,0,0,0,0,0,0,0,0,0,0,0,0,0,0,0,0,0,0,0,0,0,0,0,0,0,0,0,0,0,0,0,0]
[null,null,null,"","","","","","","","","","","","","","","","","","","","","","","","","","","","","","","","","","","","","","","","","","","","","","","","","","","","","","","","","","","","","","","","","","","","","","","","","","","","","","","","","","","","","","","","","","","","","","","","","","","","","","","","","","","","","","","","","","","","","","","","","","","","","","","","","","","","","","","","","","","","","","","","","","","","","","","","","","","","","","","","","","","","","","","","","","","","","","","","","","","","","","","","","","","","","","","","","","","","","","","","","","",""]
[null,null,null,"","","","","","","","","","","","","","","","","","","","","","","","","","","","","","","","","","","","","","","","","","","","","","","","","","","","","","","","","","","","","","","","","","","","","","","","","","","","","","","","","","","","","","","","","","","","","","","","","","","","","","","","","","","","","","","","","","","","","","","","","","","","","","","","","","","","","","","","","","","","","","","","","","","","","","","","","","","","","","","","","","","","","","","","","","","","","","","","","","","","","","","","","","","","","","","","","","","","","","","","","","",""]
[null,null,null,"","","","","","","","","","","","","","","","","","","","","","","","","","","","","","","","","","","","","","","","","","","","","","","","","","","","","","","","","","","","","","","","","","","","","","","","","","","","","","","","","","","","","","","","","","","","","","","","","","","","","","","","","","","","","","","","","","","","","","","","","","","","","","","","","","","","","","","","","","","","","","","","","","","","","","","","","","","","","","","","","","","","","","","","","","","","","","","","","","","","","","","","","","","","","","","","","","","","","","","","","","",""]
[null,null,null,"","","","","","","","","","","","","","","","","","","","","","","","","","","","","","","","","","","","","","","","","","","","","","","","","","","","","","","","","","","","","","","","","","","","","","","","","","","","","","","","","","","","","","","","","","","","","","","","","","","","","","","","","","","","","","","","","","","","","","","","","","","","","","","","","","","","","","","","","","","","","","","","","","","","","","","","","","","","","","","","","","","","","","","","","","","","","","","","","","","","","","","","","","","","","","","","","","","","","","","","","","",""]
[null,null,null,"","","","","","","","","","","","","","","","","","","","","","","","","","","","","","","","","","","","","","","","","","","","","","","","","","","","","","","","","","","","","","","","","","","","","","","","","","","","","","","","","","","","","","","","","","","","","","","","","","","","","","","","","","","","","","","","","","","","","","","","","","","","","","","","","","","","","","","","","","","","","","","","","","","","","","","","","","","","","","","","","","","","","","","","","","","","","","","","","","","","","","","","","","","","","","","","","","","","","","","","","","",""]
[null,null,null,"","","","","","","","","","","","","","","","","","","","","","","","","","","","","","","","","","","","","","","","","","","","","","","","","","","","","","","","","","","","","","","","","","","","","","","","","","","","","","","","","","","","","","","","","","","","","","","","","","","","","","","","","","","","","","","","","","","","","","","","","","","","","","","","","","","","","","","","","","","","","","","","","","","","","","","","","","","","","","","","","","","","","","","","","","","","","","","","","","","","","","","","","","","","","","","","","","","","","","","","","","",""]
[null,null,null,"","","","","","","","","","","","","","","","","","","","","","","","","","","","","","","","","","","","","","","","","","","","","","","","","","","","","","","","","","","","","","","","","","","","","","","","","","","","","","","","","","","","","","","","","","","","","","","","","","","","","","","","","","","","","","","","","","","","","","","","","","","","","","","","","","","","","","","","","","","","","","","","","","","","","","","","","","","","","","","","","","","","","","","","","","","","","","","","","","","","","","","","","","","","","","","","","","","","","","","","","","",""]
[null,null,null,"","","","","","","","","","","","","","","","","","","","","","","","","","","","","","","","","","","","","","","","","","","","","","","","","","","","","","","","","","","","","","","","","","","","","","","","","","","","","","","","","","","","","","","","","","","","","","","","","","","","","","","","","","","","","","","","","","","","","","","","","","","","","","","","","","","","","","","","","","","","","","","","","","","","","","","","","","","","","","","","","","","","","","","","","","","","","","","","","","","","","","","","","","","","","","","","","","","","","","","","","","",""]
[null,null,null,"","","","","","","","","","","","","","","","","","","","","","","","","","","","","","","","","","","","","","","","","","","","","","","","","","","","","","","","","","","","","","","","","","","","","","","","","","","","","","","","","","","","","","","","","","","","","","","","","","","","","","","","","","","","","","","","","","","","","","","","","","","","","","","","","","","","","","","","","","","","","","","","","","","","","","","","","","","","","","","","","","","","","","","","","","","","","","","","","","","","","","","","","","","","","","","","","","","","","","","","","","",""]
[null,null,null,"","","","","","","","","","","","","","","","","","","","","","","","","","","","","","","","","","","","","","","","","","","","","","","","","","","","","","","","","","","","","","","","","","","","","","","","","","","","","","","","","","","","","","","","","","","","","","","","","","","","","","","","","","","","","","","","","","","","","","","","","","","","","","","","","","","","","","","","","","","","","","","","","","","","","","","","","","","","","","","","","","","","","","","","","","","","","","","","","","","","","","","","","","","","","","","","","","","","","","","","","","",""]
[null,null,null,"","","","","","","","","","","","","","","","","","","","","","","","","","","","","","","","","","","","","","","","","","","","","","","","","","","","","","","","","","","","","","","","","","","","","","","","","","","","","","","","","","","","","","","","","","","","","","","","","","","","","","","","","","","","","","","","","","","","","","","","","","","","","","","","","","","","","","","","","","","","","","","","","","","","","","","","","","","","","","","","","","","","","","","","","","","","","","","","","","","","","","","","","","","","","","","","","","","","","","","","","","",""]
[null,null,null,"","","","","","","","","","","","","","","","","","","","","","","","","","","","","","","","","","","","","","","","","","","","","","","","","","","","","","","","","","","","","","","","","","","","","","","","","","","","","","","","","","","","","","","","","","","","","","","","","","","","","","","","","","","","","","","","","","","","","","","","","","","","","","","","","","","","","","","","","","","","","","","","","","","","","","","","","","","","","","","","","","","","","","","","","","","","","","","","","","","","","","","","","","","","","","","","","","","","","","","","","","",""]
[null,null,null,"","","","","","","","","","","","","","","","","","","","","","","","","","","","","","","","","","","","","","","","","","","","","","","","","","","","","","","","","","","","","","","","","","","","","","","","","","","","","","","","","","","","","","","","","","","","","","","","","","","","","","","","","","","","","","","","","","","","","","","","","","","","","","","","","","","","","","","","","","","","","","","","","","","","","","","","","","","","","","","","","","","","","","","","","","","","","","","","","","","","","","","","","","","","","","","","","","","","","","","","","","",""]
[null,null,null,"","","","","","","","","","","","","","","","","","","","","","","","","","","","","","","","","","","","","","","","","","","","","","","","","","","","","","","","","","","","","","","","","","","","","","","","","","","","","","","","","","","","","","","","","","","","","","","","","","","","","","","","","","","","","","","","","","","","","","","","","","","","","","","","","","","","","","","","","","","","","","","","","","","","","","","","","","","","","","","","","","","","","","","","","","","","","","","","","","","","","","","","","","","","","","","","","","","","","","","","","","",""]
[null,null,null,"","","","","","","","","","","","","","","","","","","","","","","","","","","","","","","","","","","","","","","","","","","","","","","","","","","","","","","","","","","","","","","","","","","","","","","","","","","","","","","","","","","","","","","","","","","","","","","","","","","","","","","","","","","","","","","","","","","","","","","","","","","","","","","","","","","","","","","","","","","","","","","","","","","","","","","","","","","","","","","","","","","","","","","","","","","","","","","","","","","","","","","","","","","","","","","","","","","","","","","","","","",""]
[null,null,null,"","","","","","","","","","","","","","","","","","","","","","","","","","","","","","","","","","","","","","","","","","","","","","","","","","","","","","","","","","","","","","","","","","","","","","","","","","","","","","","","","","","","","","","","","","","","","","","","","","","","","","","","","","","","","","","","","","","","","","","","","","","","","","","","","","","","","","","","","","","","","","","","","","","","","","","","","","","","","","","","","","","","","","","","","","","","","","","","","","","","","","","","","","","","","","","","","","","","","","","","","","",""]
[null,null,null,"","","","","","","","","","","","","","","","","","","","","","","","","","","","","","","","","","","","","","","","","","","","","","","","","","","","","","","","","","","","","","","","","","","","","","","","","","","","","","","","","","","","","","","","","","","","","","","","","","","","","","","","","","","","","","","","","","","","","","","","","","","","","","","","","","","","","","","","","","","","","","","","","","","","","","","","","","","","","","","","","","","","","","","","","","","","","","","","","","","","","","","","","","","","","","","","","","","","","","","","","","",""]
[null,null,null,"","","","","","","","","","","","","","","","","","","","","","","","","","","","","","","","","","","","","","","","","","","","","","","","","","","","","","","","","","","","","","","","","","","","","","","","","","","","","","","","","","","","","","","","","","","","","","","","","","","","","","","","","","","","","","","","","","","","","","","","","","","","","","","","","","","","","","","","","","","","","","","","","","","","","","","","","","","","","","","","","","","","","","","","","","","","","","","","","","","","","","","","","","","","","","","","","","","","","","","","","","",""]
[null,null,null,"","","","","","","","","","","","","","","","","","","","","","","","","","","","","","","","","","","","","","","","","","","","","","","","","","","","","","","","","","","","","","","","","","","","","","","","","","","","","","","","","","","","","","","","","","","","","","","","","","","","","","","","","","","","","","","","","","","","","","","","","","","","","","","","","","","","","","","","","","","","","","","","","","","","","","","","","","","","","","","","","","","","","","","","","","","","","","","","","","","","","","","","","","","","","","","","","","","","","","","","","","",""]
[null,null,null,"","","","","","","","","","","","","","","","","","","","","","","","","","","","","","","","","","","","","","","","","","","","","","","","","","","","","","","","","","","","","","","","","","","","","","","","","","","","","","","","","","","","","","","","","","","","","","","","","","","","","","","","","","","","","","","","","","","","","","","","","","","","","","","","","","","","","","","","","","","","","","","","","","","","","","","","","","","","","","","","","","","","","","","","","","","","","","","","","","","","","","","","","","","","","","","","","","","","","","","","","","",""]
[null,null,null,"","","","","","","","","","","","","","","","","","","","","","","","","","","","","","","","","","","","","","","","","","","","","","","","","","","","","","","","","","","","","","","","","","","","","","","","","","","","","","","","","","","","","","","","","","","","","","","","","","","","","","","","","","","","","","","","","","","","","","","","","","","","","","","","","","","","","","","","","","","","","","","","","","","","","","","","","","","","","","","","","","","","","","","","","","","","","","","","","","","","","","","","","","","","","","","","","","","","","","","","","","",""]
[null,null,null,"","","","","","","","","","","","","","","","","","","","","","","","","","","","","","","","","","","","","","","","","","","","","","","","","","","","","","","","","","","","","","","","","","","","","","","","","","","","","","","","","","","","","","","","","","","","","","","","","","","","","","","","","","","","","","","","","","","","","","","","","","","","","","","","","","","","","","","","","","","","","","","","","","","","","","","","","","","","","","","","","","","","","","","","","","","","","","","","","","","","","","","","","","","","","","","","","","","","","","","","","","",""]
[null,null,null,"","","","","","","","","","","","","","","","","","","","","","","","","","","","","","","","","","","","","","","","","","","","","","","","","","","","","","","","","","","","","","","","","","","","","","","","","","","","","","","","","","","","","","","","","","","","","","","","","","","","","","","","","","","","","","","","","","","","","","","","","","","","","","","","","","","","","","","","","","","","","","","","","","","","","","","","","","","","","","","","","","","","","","","","","","","","","","","","","","","","","","","","","","","","","","","","","","","","","","","","","","",""]
[null,null,null,"","","","","","","","","","","","","","","","","","","","","","","","","","","","","","","","","","","","","","","","","","","","","","","","","","","","","","","","","","","","","","","","","","","","","","","","","","","","","","","","","","","","","","","","","","","","","","","","","","","","","","","","","","","","","","","","","","","","","","","","","","","","","","","","","","","","","","","","","","","","","","","","","","","","","","","","","","","","","","","","","","","","","","","","","","","","","","","","","","","","","","","","","","","","","","","","","","","","","","","","","","",""]
[null,null,null,"","","","","","","","","","","","","","","","","","","","","","","","","","","","","","","","","","","","","","","","","","","","","","","","","","","","","","","","","","","","","","","","","","","","","","","","","","","","","","","","","","","","","","","","","","","","","","","","","","","","","","","","","","","","","","","","","","","","","","","","","","","","","","","","","","","","","","","","","","","","","","","","","","","","","","","","","","","","","","","","","","","","","","","","","","","","","","","","","","","","","","","","","","","","","","","","","","","","","","","","","","",""]
[null,null,null,"","","","","","","","","","","","","","","","","","","","","","","","","","","","","","","","","","","","","","","","","","","","","","","","","","","","","","","","","","","","","","","","","","","","","","","","","","","","","","","","","","","","","","","","","","","","","","","","","","","","","","","","","","","","","","","","","","","","","","","","","","","","","","","","","","","","","","","","","","","","","","","","","","","","","","","","","","","","","","","","","","","","","","","","","","","","","","","","","","","","","","","","","","","","","","","","","","","","","","","","","","",""]
[null,null,null,"","","","","","","","","","","","","","","","","","","","","","","","","","","","","","","","","","","","","","","","","","","","","","","","","","","","","","","","","","","","","","","","","","","","","","","","","","","","","","","","","","","","","","","","","","","","","","","","","","","","","","","","","","","","","","","","","","","","","","","","","","","","","","","","","","","","","","","","","","","","","","","","","","","","","","","","","","","","","","","","","","","","","","","","","","","","","","","","","","","","","","","","","","","","","","","","","","","","","","","","","","",""]
[null,null,null,"","","","","","","","","","","","","","","","","","","","","","","","","","","","","","","","","","","","","","","","","","","","","","","","","","","","","","","","","","","","","","","","","","","","","","","","","","","","","","","","","","","","","","","","","","","","","","","","","","","","","","","","","","","","","","","","","","","","","","","","","","","","","","","","","","","","","","","","","","","","","","","","","","","","","","","","","","","","","","","","","","","","","","","","","","","","","","","","","","","","","","","","","","","","","","","","","","","","","","","","","","",""]
[null,null,null,"","","","","","","","","","","","","","","","","","","","","","","","","","","","","","","","","","","","","","","","","","","","","","","","","","","","","","","","","","","","","","","","","","","","","","","","","","","","","","","","","","","","","","","","","","","","","","","","","","","","","","","","","","","","","","","","","","","","","","","","","","","","","","","","","","","","","","","","","","","","","","","","","","","","","","","","","","","","","","","","","","","","","","","","","","","","","","","","","","","","","","","","","","","","","","","","","","","","","","","","","","",""]
[null,null,null,"","","","","","","","","","","","","","","","","","","","","","","","","","","","","","","","","","","","","","","","","","","","","","","","","","","","","","","","","","","","","","","","","","","","","","","","","","","","","","","","","","","","","","","","","","","","","","","","","","","","","","","","","","","","","","","","","","","","","","","","","","","","","","","","","","","","","","","","","","","","","","","","","","","","","","","","","","","","","","","","","","","","","","","","","","","","","","","","","","","","","","","","","","","","","","","","","","","","","","","","","","",""]
[null,null,null,"","","","","","","","","","","","","","","","","","","","","","","","","","","","","","","","","","","","","","","","","","","","","","","","","","","","","","","","","","","","","","","","","","","","","","","","","","","","","","","","","","","","","","","","","","","","","","","","","","","","","","","","","","","","","","","","","","","","","","","","","","","","","","","","","","","","","","","","","","","","","","","","","","","","","","","","","","","","","","","","","","","","","","","","","","","","","","","","","","","","","","","","","","","","","","","","","","","","","","","","","","",""]
[null,null,null,"","","","","","","","","","","","","","","","","","","","","","","","","","","","","","","","","","","","","","","","","","","","","","","","","","","","","","","","","","","","","","","","","","","","","","","","","","","","","","","","","","","","","","","","","","","","","","","","","","","","","","","","","","","","","","","","","","","","","","","","","","","","","","","","","","","","","","","","","","","","","","","","","","","","","","","","","","","","","","","","","","","","","","","","","","","","","","","","","","","","","","","","","","","","","","","","","","","","","","","","","","",""]
[null,null,null,"","","","","","","","","","","","","","","","","","","","","","","","","","","","","","","","","","","","","","","","","","","","","","","","","","","","","","","","","","","","","","","","","","","","","","","","","","","","","","","","","","","","","","","","","","","","","","","","","","","","","","","","","","","","","","","","","","","","","","","","","","","","","","","","","","","","","","","","","","","","","","","","","","","","","","","","","","","","","","","","","","","","","","","","","","","","","","","","","","","","","","","","","","","","","","","","","","","","","","","","","","",""]
[null,null,null,"","","","","","","","","","","","","","","","","","","","","","","","","","","","","","","","","","","","","","","","","","","","","","","","","","","","","","","","","","","","","","","","","","","","","","","","","","","","","","","","","","","","","","","","","","","","","","","","","","","","","","","","","","","","","","","","","","","","","","","","","","","","","","","","","","","","","","","","","","","","","","","","","","","","","","","","","","","","","","","","","","","","","","","","","","","","","","","","","","","","","","","","","","","","","","","","","","","","","","","","","","",""]
[null,null,null,"","","","","","","","","","","","","","","","","","","","","","","","","","","","","","","","","","","","","","","","","","","","","","","","","","","","","","","","","","","","","","","","","","","","","","","","","","","","","","","","","","","","","","","","","","","","","","","","","","","","","","","","","","","","","","","","","","","","","","","","","","","","","","","","","","","","","","","","","","","","","","","","","","","","","","","","","","","","","","","","","","","","","","","","","","","","","","","","","","","","","","","","","","","","","","","","","","","","","","","","","","",""]
[null,null,null,"","","","","","","","","","","","","","","","","","","","","","","","","","","","","","","","","","","","","","","","","","","","","","","","","","","","","","","","","","","","","","","","","","","","","","","","","","","","","","","","","","","","","","","","","","","","","","","","","","","","","","","","","","","","","","","","","","","","","","","","","","","","","","","","","","","","","","","","","","","","","","","","","","","","","","","","","","","","","","","","","","","","","","","","","","","","","","","","","","","","","","","","","","","","","","","","","","","","","","","","","","",""]
[null,null,null,"","","","","","","","","","","","","","","","","","","","","","","","","","","","","","","","","","","","","","","","","","","","","","","","","","","","","","","","","","","","","","","","","","","","","","","","","","","","","","","","","","","","","","","","","","","","","","","","","","","","","","","","","","","","","","","","","","","","","","","","","","","","","","","","","","","","","","","","","","","","","","","","","","","","","","","","","","","","","","","","","","","","","","","","","","","","","","","","","","","","","","","","","","","","","","","","","","","","","","","","","","",""]
[null,null,null,"","","","","","","","","","","","","","","","","","","","","","","","","","","","","","","","","","","","","","","","","","","","","","","","","","","","","","","","","","","","","","","","","","","","","","","","","","","","","","","","","","","","","","","","","","","","","","","","","","","","","","","","","","","","","","","","","","","","","","","","","","","","","","","","","","","","","","","","","","","","","","","","","","","","","","","","","","","","","","","","","","","","","","","","","","","","","","","","","","","","","","","","","","","","","","","","","","","","","","","","","","",""]
[null,null,null,"","","","","","","","","","","","","","","","","","","","","","","","","","","","","","","","","","","","","","","","","","","","","","","","","","","","","","","","","","","","","","","","","","","","","","","","","","","","","","","","","","","","","","","","","","","","","","","","","","","","","","","","","","","","","","","","","","","","","","","","","","","","","","","","","","","","","","","","","","","","","","","","","","","","","","","","","","","","","","","","","","","","","","","","","","","","","","","","","","","","","","","","","","","","","","","","","","","","","","","","","","",""]
[null,null,null,"","","","","","","","","","","","","","","","","","","","","","","","","","","","","","","","","","","","","","","","","","","","","","","","","","","","","","","","","","","","","","","","","","","","","","","","","","","","","","","","","","","","","","","","","","","","","","","","","","","","","","","","","","","","","","","","","","","","","","","","","","","","","","","","","","","","","","","","","","","","","","","","","","","","","","","","","","","","","","","","","","","","","","","","","","","","","","","","","","","","","","","","","","","","","","","","","","","","","","","","","","",""]
[null,null,null,"","","","","","","","","","","","","","","","","","","","","","","","","","","","","","","","","","","","","","","","","","","","","","","","","","","","","","","","","","","","","","","","","","","","","","","","","","","","","","","","","","","","","","","","","","","","","","","","","","","","","","","","","","","","","","","","","","","","","","","","","","","","","","","","","","","","","","","","","","","","","","","","","","","","","","","","","","","","","","","","","","","","","","","","","","","","","","","","","","","","","","","","","","","","","","","","","","","","","","","","","","",""]
[null,null,null,"","","","","","","","","","","","","","","","","","","","","","","","","","","","","","","","","","","","","","","","","","","","","","","","","","","","","","","","","","","","","","","","","","","","","","","","","","","","","","","","","","","","","","","","","","","","","","","","","","","","","","","","","","","","","","","","","","","","","","","","","","","","","","","","","","","","","","","","","","","","","","","","","","","","","","","","","","","","","","","","","","","","","","","","","","","","","","","","","","","","","","","","","","","","","","","","","","","","","","","","","","",""]
[null,null,null,"","","","","","","","","","","","","","","","","","","","","","","","","","","","","","","","","","","","","","","","","","","","","","","","","","","","","","","","","","","","","","","","","","","","","","","","","","","","","","","","","","","","","","","","","","","","","","","","","","","","","","","","","","","","","","","","","","","","","","","","","","","","","","","","","","","","","","","","","","","","","","","","","","","","","","","","","","","","","","","","","","","","","","","","","","","","","","","","","","","","","","","","","","","","","","","","","","","","","","","","","","",""]
[null,null,null,"","","","","","","","","","","","","","","","","","","","","","","","","","","","","","","","","","","","","","","","","","","","","","","","","","","","","","","","","","","","","","","","","","","","","","","","","","","","","","","","","","","","","","","","","","","","","","","","","","","","","","","","","","","","","","","","","","","","","","","","","","","","","","","","","","","","","","","","","","","","","","","","","","","","","","","","","","","","","","","","","","","","","","","","","","","","","","","","","","","","","","","","","","","","","","","","","","","","","","","","","","",""]
[null,null,null,"","","","","","","","","","","","","","","","","","","","","","","","","","","","","","","","","","","","","","","","","","","","","","","","","","","","","","","","","","","","","","","","","","","","","","","","","","","","","","","","","","","","","","","","","","","","","","","","","","","","","","","","","","","","","","","","","","","","","","","","","","","","","","","","","","","","","","","","","","","","","","","","","","","","","","","","","","","","","","","","","","","","","","","","","","","","","","","","","","","","","","","","","","","","","","","","","","","","","","","","","","",""]
[null,null,null,"","","","","","","","","","","","","","","","","","","","","","","","","","","","","","","","","","","","","","","","","","","","","","","","","","","","","","","","","","","","","","","","","","","","","","","","","","","","","","","","","","","","","","","","","","","","","","","","","","","","","","","","","","","","","","","","","","","","","","","","","","","","","","","","","","","","","","","","","","","","","","","","","","","","","","","","","","","","","","","","","","","","","","","","","","","","","","","","","","","","","","","","","","","","","","","","","","","","","","","","","","",""]
[null,null,null,"","","","","","","","","","","","","","","","","","","","","","","","","","","","","","","","","","","","","","","","","","","","","","","","","","","","","","","","","","","","","","","","","","","","","","","","","","","","","","","","","","","","","","","","","","","","","","","","","","","","","","","","","","","","","","","","","","","","","","","","","","","","","","","","","","","","","","","","","","","","","","","","","","","","","","","","","","","","","","","","","","","","","","","","","","","","","","","","","","","","","","","","","","","","","","","","","","","","","","","","","","",""]
[null,null,null,"","","","","","","","","","","","","","","","","","","","","","","","","","","","","","","","","","","","","","","","","","","","","","","","","","","","","","","","","","","","","","","","","","","","","","","","","","","","","","","","","","","","","","","","","","","","","","","","","","","","","","","","","","","","","","","","","","","","","","","","","","","","","","","","","","","","","","","","","","","","","","","","","","","","","","","","","","","","","","","","","","","","","","","","","","","","","","","","","","","","","","","","","","","","","","","","","","","","","","","","","","",""]
[null,null,null,"","","","","","","","","","","","","","","","","","","","","","","","","","","","","","","","","","","","","","","","","","","","","","","","","","","","","","","","","","","","","","","","","","","","","","","","","","","","","","","","","","","","","","","","","","","","","","","","","","","","","","","","","","","","","","","","","","","","","","","","","","","","","","","","","","","","","","","","","","","","","","","","","","","","","","","","","","","","","","","","","","","","","","","","","","","","","","","","","","","","","","","","","","","","","","","","","","","","","","","","","","",""]
[null,null,null,"","","","","","","","","","","","","","","","","","","","","","","","","","","","","","","","","","","","","","","","","","","","","","","","","","","","","","","","","","","","","","","","","","","","","","","","","","","","","","","","","","","","","","","","","","","","","","","","","","","","","","","","","","","","","","","","","","","","","","","","","","","","","","","","","","","","","","","","","","","","","","","","","","","","","","","","","","","","","","","","","","","","","","","","","","","","","","","","","","","","","","","","","","","","","","","","","","","","","","","","","","",""]
[null,null,null,"","","","","","","","","","","","","","","","","","","","","","","","","","","","","","","","","","","","","","","","","","","","","","","","","","","","","","","","","","","","","","","","","","","","","","","","","","","","","","","","","","","","","","","","","","","","","","","","","","","","","","","","","","","","","","","","","","","","","","","","","","","","","","","","","","","","","","","","","","","","","","","","","","","","","","","","","","","","","","","","","","","","","","","","","","","","","","","","","","","","","","","","","","","","","","","","","","","","","","","","","","",""]
[null,null,null,"","","","","","","","","","","","","","","","","","","","","","","","","","","","","","","","","","","","","","","","","","","","","","","","","","","","","","","","","","","","","","","","","","","","","","","","","","","","","","","","","","","","","","","","","","","","","","","","","","","","","","","","","","","","","","","","","","","","","","","","","","","","","","","","","","","","","","","","","","","","","","","","","","","","","","","","","","","","","","","","","","","","","","","","","","","","","","","","","","","","","","","","","","","","","","","","","","","","","","","","","","",""]
[null,null,null,"","","","","","","","","","","","","","","","","","","","","","","","","","","","","","","","","","","","","","","","","","","","","","","","","","","","","","","","","","","","","","","","","","","","","","","","","","","","","","","","","","","","","","","","","","","","","","","","","","","","","","","","","","","","","","","","","","","","","","","","","","","","","","","","","","","","","","","","","","","","","","","","","","","","","","","","","","","","","","","","","","","","","","","","","","","","","","","","","","","","","","","","","","","","","","","","","","","","","","","","","","",""]
[null,null,null,"","","","","","","","","","","","","","","","","","","","","","","","","","","","","","","","","","","","","","","","","","","","","","","","","","","","","","","","","","","","","","","","","","","","","","","","","","","","","","","","","","","","","","","","","","","","","","","","","","","","","","","","","","","","","","","","","","","","","","","","","","","","","","","","","","","","","","","","","","","","","","","","","","","","","","","","","","","","","","","","","","","","","","","","","","","","","","","","","","","","","","","","","","","","","","","","","","","","","","","","","","",""]
[null,null,null,"","","","","","","","","","","","","","","","","","","","","","","","","","","","","","","","","","","","","","","","","","","","","","","","","","","","","","","","","","","","","","","","","","","","","","","","","","","","","","","","","","","","","","","","","","","","","","","","","","","","","","","","","","","","","","","","","","","","","","","","","","","","","","","","","","","","","","","","","","","","","","","","","","","","","","","","","","","","","","","","","","","","","","","","","","","","","","","","","","","","","","","","","","","","","","","","","","","","","","","","","","",""]
[null,null,null,"","","","","","","","","","","","","","","","","","","","","","","","","","","","","","","","","","","","","","","","","","","","","","","","","","","","","","","","","","","","","","","","","","","","","","","","","","","","","","","","","","","","","","","","","","","","","","","","","","","","","","","","","","","","","","","","","","","","","","","","","","","","","","","","","","","","","","","","","","","","","","","","","","","","","","","","","","","","","","","","","","","","","","","","","","","","","","","","","","","","","","","","","","","","","","","","","","","","","","","","","","",""]
[null,null,null,"","","","","","","","","","","","","","","","","","","","","","","","","","","","","","","","","","","","","","","","","","","","","","","","","","","","","","","","","","","","","","","","","","","","","","","","","","","","","","","","","","","","","","","","","","","","","","","","","","","","","","","","","","","","","","","","","","","","","","","","","","","","","","","","","","","","","","","","","","","","","","","","","","","","","","","","","","","","","","","","","","","","","","","","","","","","","","","","","","","","","","","","","","","","","","","","","","","","","","","","","","",""]
[null,null,null,"","","","","","","","","","","","","","","","","","","","","","","","","","","","","","","","","","","","","","","","","","","","","","","","","","","","","","","","","","","","","","","","","","","","","","","","","","","","","","","","","","","","","","","","","","","","","","","","","","","","","","","","","","","","","","","","","","","","","","","","","","","","","","","","","","","","","","","","","","","","","","","","","","","","","","","","","","","","","","","","","","","","","","","","","","","","","","","","","","","","","","","","","","","","","","","","","","","","","","","","","","",""]
[null,null,null,"","","","","","","","","","","","","","","","","","","","","","","","","","","","","","","","","","","","","","","","","","","","","","","","","","","","","","","","","","","","","","","","","","","","","","","","","","","","","","","","","","","","","","","","","","","","","","","","","","","","","","","","","","","","","","","","","","","","","","","","","","","","","","","","","","","","","","","","","","","","","","","","","","","","","","","","","","","","","","","","","","","","","","","","","","","","","","","","","","","","","","","","","","","","","","","","","","","","","","","","","","",""]
[null,null,null,"","","","","","","","","","","","","","","","","","","","","","","","","","","","","","","","","","","","","","","","","","","","","","","","","","","","","","","","","","","","","","","","","","","","","","","","","","","","","","","","","","","","","","","","","","","","","","","","","","","","","","","","","","","","","","","","","","","","","","","","","","","","","","","","","","","","","","","","","","","","","","","","","","","","","","","","","","","","","","","","","","","","","","","","","","","","","","","","","","","","","","","","","","","","","","","","","","","","","","","","","","",""]
[null,null,null,"","","","","","","","","","","","","","","","","","","","","","","","","","","","","","","","","","","","","","","","","","","","","","","","","","","","","","","","","","","","","","","","","","","","","","","","","","","","","","","","","","","","","","","","","","","","","","","","","","","","","","","","","","","","","","","","","","","","","","","","","","","","","","","","","","","","","","","","","","","","","","","","","","","","","","","","","","","","","","","","","","","","","","","","","","","","","","","","","","","","","","","","","","","","","","","","","","","","","","","","","","",""]
[null,null,null,"","","","","","","","","","","","","","","","","","","","","","","","","","","","","","","","","","","","","","","","","","","","","","","","","","","","","","","","","","","","","","","","","","","","","","","","","","","","","","","","","","","","","","","","","","","","","","","","","","","","","","","","","","","","","","","","","","","","","","","","","","","","","","","","","","","","","","","","","","","","","","","","","","","","","","","","","","","","","","","","","","","","","","","","","","","","","","","","","","","","","","","","","","","","","","","","","","","","","","","","","","",""]
[null,null,null,"","","","","","","","","","","","","","","","","","","","","","","","","","","","","","","","","","","","","","","","","","","","","","","","","","","","","","","","","","","","","","","","","","","","","","","","","","","","","","","","","","","","","","","","","","","","","","","","","","","","","","","","","","","","","","","","","","","","","","","","","","","","","","","","","","","","","","","","","","","","","","","","","","","","","","","","","","","","","","","","","","","","","","","","","","","","","","","","","","","","","","","","","","","","","","","","","","","","","","","","","","",""]
[null,null,null,"","","","","","","","","","","","","","","","","","","","","","","","","","","","","","","","","","","","","","","","","","","","","","","","","","","","","","","","","","","","","","","","","","","","","","","","","","","","","","","","","","","","","","","","","","","","","","","","","","","","","","","","","","","","","","","","","","","","","","","","","","","","","","","","","","","","","","","","","","","","","","","","","","","","","","","","","","","","","","","","","","","","","","","","","","","","","","","","","","","","","","","","","","","","","","","","","","","","","","","","","","",""]
[null,null,null,"","","","","","","","","","","","","","","","","","","","","","","","","","","","","","","","","","","","","","","","","","","","","","","","","","","","","","","","","","","","","","","","","","","","","","","","","","","","","","","","","","","","","","","","","","","","","","","","","","","","","","","","","","","","","","","","","","","","","","","","","","","","","","","","","","","","","","","","","","","","","","","","","","","","","","","","","","","","","","","","","","","","","","","","","","","","","","","","","","","","","","","","","","","","","","","","","","","","","","","","","","",""]
[null,null,null,"","","","","","","","","","","","","","","","","","","","","","","","","","","","","","","","","","","","","","","","","","","","","","","","","","","","","","","","","","","","","","","","","","","","","","","","","","","","","","","","","","","","","","","","","","","","","","","","","","","","","","","","","","","","","","","","","","","","","","","","","","","","","","","","","","","","","","","","","","","","","","","","","","","","","","","","","","","","","","","","","","","","","","","","","","","","","","","","","","","","","","","","","","","","","","","","","","","","","","","","","","",""]
[null,null,null,"","","","","","","","","","","","","","","","","","","","","","","","","","","","","","","","","","","","","","","","","","","","","","","","","","","","","","","","","","","","","","","","","","","","","","","","","","","","","","","","","","","","","","","","","","","","","","","","","","","","","","","","","","","","","","","","","","","","","","","","","","","","","","","","","","","","","","","","","","","","","","","","","","","","","","","","","","","","","","","","","","","","","","","","","","","","","","","","","","","","","","","","","","","","","","","","","","","","","","","","","","",""]
[null,null,null,"","","","","","","","","","","","","","","","","","","","","","","","","","","","","","","","","","","","","","","","","","","","","","","","","","","","","","","","","","","","","","","","","","","","","","","","","","","","","","","","","","","","","","","","","","","","","","","","","","","","","","","","","","","","","","","","","","","","","","","","","","","","","","","","","","","","","","","","","","","","","","","","","","","","","","","","","","","","","","","","","","","","","","","","","","","","","","","","","","","","","","","","","","","","","","","","","","","","","","","","","","",""]
[null,null,null,"","","","","","","","","","","","","","","","","","","","","","","","","","","","","","","","","","","","","","","","","","","","","","","","","","","","","","","","","","","","","","","","","","","","","","","","","","","","","","","","","","","","","","","","","","","","","","","","","","","","","","","","","","","","","","","","","","","","","","","","","","","","","","","","","","","","","","","","","","","","","","","","","","","","","","","","","","","","","","","","","","","","","","","","","","","","","","","","","","","","","","","","","","","","","","","","","","","","","","","","","","",""]
[null,null,null,"","","","","","","","","","","","","","","","","","","","","","","","","","","","","","","","","","","","","","","","","","","","","","","","","","","","","","","","","","","","","","","","","","","","","","","","","","","","","","","","","","","","","","","","","","","","","","","","","","","","","","","","","","","","","","","","","","","","","","","","","","","","","","","","","","","","","","","","","","","","","","","","","","","","","","","","","","","","","","","","","","","","","","","","","","","","","","","","","","","","","","","","","","","","","","","","","","","","","","","","","","",""]
[null,null,null,"","","","","","","","","","","","","","","","","","","","","","","","","","","","","","","","","","","","","","","","","","","","","","","","","","","","","","","","","","","","","","","","","","","","","","","","","","","","","","","","","","","","","","","","","","","","","","","","","","","","","","","","","","","","","","","","","","","","","","","","","","","","","","","","","","","","","","","","","","","","","","","","","","","","","","","","","","","","","","","","","","","","","","","","","","","","","","","","","","","","","","","","","","","","","","","","","","","","","","","","","","",""]
[null,null,null,"","","","","","","","","","","","","","","","","","","","","","","","","","","","","","","","","","","","","","","","","","","","","","","","","","","","","","","","","","","","","","","","","","","","","","","","","","","","","","","","","","","","","","","","","","","","","","","","","","","","","","","","","","","","","","","","","","","","","","","","","","","","","","","","","","","","","","","","","","","","","","","","","","","","","","","","","","","","","","","","","","","","","","","","","","","","","","","","","","","","","","","","","","","","","","","","","","","","","","","","","","",""]
[null,null,null,"","","","","","","","","","","","","","","","","","","","","","","","","","","","","","","","","","","","","","","","","","","","","","","","","","","","","","","","","","","","","","","","","","","","","","","","","","","","","","","","","","","","","","","","","","","","","","","","","","","","","","","","","","","","","","","","","","","","","","","","","","","","","","","","","","","","","","","","","","","","","","","","","","","","","","","","","","","","","","","","","","","","","","","","","","","","","","","","","","","","","","","","","","","","","","","","","","","","","","","","","","",""]
[null,null,null,"","","","","","","","","","","","","","","","","","","","","","","","","","","","","","","","","","","","","","","","","","","","","","","","","","","","","","","","","","","","","","","","","","","","","","","","","","","","","","","","","","","","","","","","","","","","","","","","","","","","","","","","","","","","","","","","","","","","","","","","","","","","","","","","","","","","","","","","","","","","","","","","","","","","","","","","","","","","","","","","","","","","","","","","","","","","","","","","","","","","","","","","","","","","","","","","","","","","","","","","","","",""]
[null,null,null,"","","","","","","","","","","","","","","","","","","","","","","","","","","","","","","","","","","","","","","","","","","","","","","","","","","","","","","","","","","","","","","","","","","","","","","","","","","","","","","","","","","","","","","","","","","","","","","","","","","","","","","","","","","","","","","","","","","","","","","","","","","","","","","","","","","","","","","","","","","","","","","","","","","","","","","","","","","","","","","","","","","","","","","","","","","","","","","","","","","","","","","","","","","","","","","","","","","","","","","","","","",""]
[null,null,null,"","","","","","","","","","","","","","","","","","","","","","","","","","","","","","","","","","","","","","","","","","","","","","","","","","","","","","","","","","","","","","","","","","","","","","","","","","","","","","","","","","","","","","","","","","","","","","","","","","","","","","","","","","","","","","","","","","","","","","","","","","","","","","","","","","","","","","","","","","","","","","","","","","","","","","","","","","","","","","","","","","","","","","","","","","","","","","","","","","","","","","","","","","","","","","","","","","","","","","","","","","",""]
[null,null,null,"","","","","","","","","","","","","","","","","","","","","","","","","","","","","","","","","","","","","","","","","","","","","","","","","","","","","","","","","","","","","","","","","","","","","","","","","","","","","","","","","","","","","","","","","","","","","","","","","","","","","","","","","","","","","","","","","","","","","","","","","","","","","","","","","","","","","","","","","","","","","","","","","","","","","","","","","","","","","","","","","","","","","","","","","","","","","","","","","","","","","","","","","","","","","","","","","","","","","","","","","","",""]
[null,null,null,"","","","","","","","","","","","","","","","","","","","","","","","","","","","","","","","","","","","","","","","","","","","","","","","","","","","","","","","","","","","","","","","","","","","","","","","","","","","","","","","","","","","","","","","","","","","","","","","","","","","","","","","","","","","","","","","","","","","","","","","","","","","","","","","","","","","","","","","","","","","","","","","","","","","","","","","","","","","","","","","","","","","","","","","","","","","","","","","","","","","","","","","","","","","","","","","","","","","","","","","","","",""]
[null,null,null,"","","","","","","","","","","","","","","","","","","","","","","","","","","","","","","","","","","","","","","","","","","","","","","","","","","","","","","","","","","","","","","","","","","","","","","","","","","","","","","","","","","","","","","","","","","","","","","","","","","","","","","","","","","","","","","","","","","","","","","","","","","","","","","","","","","","","","","","","","","","","","","","","","","","","","","","","","","","","","","","","","","","","","","","","","","","","","","","","","","","","","","","","","","","","","","","","","","","","","","","","","",""]
[null,null,null,"","","","","","","","","","","","","","","","","","","","","","","","","","","","","","","","","","","","","","","","","","","","","","","","","","","","","","","","","","","","","","","","","","","","","","","","","","","","","","","","","","","","","","","","","","","","","","","","","","","","","","","","","","","","","","","","","","","","","","","","","","","","","","","","","","","","","","","","","","","","","","","","","","","","","","","","","","","","","","","","","","","","","","","","","","","","","","","","","","","","","","","","","","","","","","","","","","","","","","","","","","",""]
[null,null,null,"","","","","","","","","","","","","","","","","","","","","","","","","","","","","","","","","","","","","","","","","","","","","","","","","","","","","","","","","","","","","","","","","","","","","","","","","","","","","","","","","","","","","","","","","","","","","","","","","","","","","","","","","","","","","","","","","","","","","","","","","","","","","","","","","","","","","","","","","","","","","","","","","","","","","","","","","","","","","","","","","","","","","","","","","","","","","","","","","","","","","","","","","","","","","","","","","","","","","","","","","","",""]
[null,null,null,"","","","","","","","","","","","","","","","","","","","","","","","","","","","","","","","","","","","","","","","","","","","","","","","","","","","","","","","","","","","","","","","","","","","","","","","","","","","","","","","","","","","","","","","","","","","","","","","","","","","","","","","","","","","","","","","","","","","","","","","","","","","","","","","","","","","","","","","","","","","","","","","","","","","","","","","","","","","","","","","","","","","","","","","","","","","","","","","","","","","","","","","","","","","","","","","","","","","","","","","","","",""]
[null,null,null,"","","","","","","","","","","","","","","","","","","","","","","","","","","","","","","","","","","","","","","","","","","","","","","","","","","","","","","","","","","","","","","","","","","","","","","","","","","","","","","","","","","","","","","","","","","","","","","","","","","","","","","","","","","","","","","","","","","","","","","","","","","","","","","","","","","","","","","","","","","","","","","","","","","","","","","","","","","","","","","","","","","","","","","","","","","","","","","","","","","","","","","","","","","","","","","","","","","","","","","","","","",""]
[null,null,null,"","","","","","","","","","","","","","","","","","","","","","","","","","","","","","","","","","","","","","","","","","","","","","","","","","","","","","","","","","","","","","","","","","","","","","","","","","","","","","","","","","","","","","","","","","","","","","","","","","","","","","","","","","","","","","","","","","","","","","","","","","","","","","","","","","","","","","","","","","","","","","","","","","","","","","","","","","","","","","","","","","","","","","","","","","","","","","","","","","","","","","","","","","","","","","","","","","","","","","","","","","",""]
[null,null,null,"","","","","","","","","","","","","","","","","","","","","","","","","","","","","","","","","","","","","","","","","","","","","","","","","","","","","","","","","","","","","","","","","","","","","","","","","","","","","","","","","","","","","","","","","","","","","","","","","","","","","","","","","","","","","","","","","","","","","","","","","","","","","","","","","","","","","","","","","","","","","","","","","","","","","","","","","","","","","","","","","","","","","","","","","","","","","","","","","","","","","","","","","","","","","","","","","","","","","","","","","","",""]
[null,null,null,"","","","","","","","","","","","","","","","","","","","","","","","","","","","","","","","","","","","","","","","","","","","","","","","","","","","","","","","","","","","","","","","","","","","","","","","","","","","","","","","","","","","","","","","","","","","","","","","","","","","","","","","","","","","","","","","","","","","","","","","","","","","","","","","","","","","","","","","","","","","","","","","","","","","","","","","","","","","","","","","","","","","","","","","","","","","","","","","","","","","","","","","","","","","","","","","","","","","","","","","","","",""]
[null,null,null,"","","","","","","","","","","","","","","","","","","","","","","","","","","","","","","","","","","","","","","","","","","","","","","","","","","","","","","","","","","","","","","","","","","","","","","","","","","","","","","","","","","","","","","","","","","","","","","","","","","","","","","","","","","","","","","","","","","","","","","","","","","","","","","","","","","","","","","","","","","","","","","","","","","","","","","","","","","","","","","","","","","","","","","","","","","","","","","","","","","","","","","","","","","","","","","","","","","","","","","","","","",""]
[null,null,null,"","","","","","","","","","","","","","","","","","","","","","","","","","","","","","","","","","","","","","","","","","","","","","","","","","","","","","","","","","","","","","","","","","","","","","","","","","","","","","","","","","","","","","","","","","","","","","","","","","","","","","","","","","","","","","","","","","","","","","","","","","","","","","","","","","","","","","","","","","","","","","","","","","","","","","","","","","","","","","","","","","","","","","","","","","","","","","","","","","","","","","","","","","","","","","","","","","","","","","","","","","",""]
[null,null,null,"","","","","","","","","","","","","","","","","","","","","","","","","","","","","","","","","","","","","","","","","","","","","","","","","","","","","","","","","","","","","","","","","","","","","","","","","","","","","","","","","","","","","","","","","","","","","","","","","","","","","","","","","","","","","","","","","","","","","","","","","","","","","","","","","","","","","","","","","","","","","","","","","","","","","","","","","","","","","","","","","","","","","","","","","","","","","","","","","","","","","","","","","","","","","","","","","","","","","","","","","","",""]
[null,null,null,"","","","","","","","","","","","","","","","","","","","","","","","","","","","","","","","","","","","","","","","","","","","","","","","","","","","","","","","","","","","","","","","","","","","","","","","","","","","","","","","","","","","","","","","","","","","","","","","","","","","","","","","","","","","","","","","","","","","","","","","","","","","","","","","","","","","","","","","","","","","","","","","","","","","","","","","","","","","","","","","","","","","","","","","","","","","","","","","","","","","","","","","","","","","","","","","","","","","","","","","","","",""]
[null,null,null,"","","","","","","","","","","","","","","","","","","","","","","","","","","","","","","","","","","","","","","","","","","","","","","","","","","","","","","","","","","","","","","","","","","","","","","","","","","","","","","","","","","","","","","","","","","","","","","","","","","","","","","","","","","","","","","","","","","","","","","","","","","","","","","","","","","","","","","","","","","","","","","","","","","","","","","","","","","","","","","","","","","","","","","","","","","","","","","","","","","","","","","","","","","","","","","","","","","","","","","","","","",""]
[null,null,null,"","","","","","","","","","","","","","","","","","","","","","","","","","","","","","","","","","","","","","","","","","","","","","","","","","","","","","","","","","","","","","","","","","","","","","","","","","","","","","","","","","","","","","","","","","","","","","","","","","","","","","","","","","","","","","","","","","","","","","","","","","","","","","","","","","","","","","","","","","","","","","","","","","","","","","","","","","","","","","","","","","","","","","","","","","","","","","","","","","","","","","","","","","","","","","","","","","","","","","","","","","",""]
[null,null,null,"","","","","","","","","","","","","","","","","","","","","","","","","","","","","","","","","","","","","","","","","","","","","","","","","","","","","","","","","","","","","","","","","","","","","","","","","","","","","","","","","","","","","","","","","","","","","","","","","","","","","","","","","","","","","","","","","","","","","","","","","","","","","","","","","","","","","","","","","","","","","","","","","","","","","","","","","","","","","","","","","","","","","","","","","","","","","","","","","","","","","","","","","","","","","","","","","","","","","","","","","","",""]
[null,null,null,"","","","","","","","","","","","","","","","","","","","","","","","","","","","","","","","","","","","","","","","","","","","","","","","","","","","","","","","","","","","","","","","","","","","","","","","","","","","","","","","","","","","","","","","","","","","","","","","","","","","","","","","","","","","","","","","","","","","","","","","","","","","","","","","","","","","","","","","","","","","","","","","","","","","","","","","","","","","","","","","","","","","","","","","","","","","","","","","","","","","","","","","","","","","","","","","","","","","","","","","","","",""]
[null,null,null,"","","","","","","","","","","","","","","","","","","","","","","","","","","","","","","","","","","","","","","","","","","","","","","","","","","","","","","","","","","","","","","","","","","","","","","","","","","","","","","","","","","","","","","","","","","","","","","","","","","","","","","","","","","","","","","","","","","","","","","","","","","","","","","","","","","","","","","","","","","","","","","","","","","","","","","","","","","","","","","","","","","","","","","","","","","","","","","","","","","","","","","","","","","","","","","","","","","","","","","","","","",""]
[null,null,null,"","","","","","","","","","","","","","","","","","","","","","","","","","","","","","","","","","","","","","","","","","","","","","","","","","","","","","","","","","","","","","","","","","","","","","","","","","","","","","","","","","","","","","","","","","","","","","","","","","","","","","","","","","","","","","","","","","","","","","","","","","","","","","","","","","","","","","","","","","","","","","","","","","","","","","","","","","","","","","","","","","","","","","","","","","","","","","","","","","","","","","","","","","","","","","","","","","","","","","","","","","",""]
[null,null,null,"","","","","","","","","","","","","","","","","","","","","","","","","","","","","","","","","","","","","","","","","","","","","","","","","","","","","","","","","","","","","","","","","","","","","","","","","","","","","","","","","","","","","","","","","","","","","","","","","","","","","","","","","","","","","","","","","","","","","","","","","","","","","","","","","","","","","","","","","","","","","","","","","","","","","","","","","","","","","","","","","","","","","","","","","","","","","","","","","","","","","","","","","","","","","","","","","","","","","","","","","","",""]
[null,null,null,"","","","","","","","","","","","","","","","","","","","","","","","","","","","","","","","","","","","","","","","","","","","","","","","","","","","","","","","","","","","","","","","","","","","","","","","","","","","","","","","","","","","","","","","","","","","","","","","","","","","","","","","","","","","","","","","","","","","","","","","","","","","","","","","","","","","","","","","","","","","","","","","","","","","","","","","","","","","","","","","","","","","","","","","","","","","","","","","","","","","","","","","","","","","","","","","","","","","","","","","","","",""]
[null,null,null,"","","","","","","","","","","","","","","","","","","","","","","","","","","","","","","","","","","","","","","","","","","","","","","","","","","","","","","","","","","","","","","","","","","","","","","","","","","","","","","","","","","","","","","","","","","","","","","","","","","","","","","","","","","","","","","","","","","","","","","","","","","","","","","","","","","","","","","","","","","","","","","","","","","","","","","","","","","","","","","","","","","","","","","","","","","","","","","","","","","","","","","","","","","","","","","","","","","","","","","","","","",""]
[null,null,null,"","","","","","","","","","","","","","","","","","","","","","","","","","","","","","","","","","","","","","","","","","","","","","","","","","","","","","","","","","","","","","","","","","","","","","","","","","","","","","","","","","","","","","","","","","","","","","","","","","","","","","","","","","","","","","","","","","","","","","","","","","","","","","","","","","","","","","","","","","","","","","","","","","","","","","","","","","","","","","","","","","","","","","","","","","","","","","","","","","","","","","","","","","","","","","","","","","","","","","","","","","",""]
[null,null,null,"","","","","","","","","","","","","","","","","","","","","","","","","","","","","","","","","","","","","","","","","","","","","","","","","","","","","","","","","","","","","","","","","","","","","","","","","","","","","","","","","","","","","","","","","","","","","","","","","","","","","","","","","","","","","","","","","","","","","","","","","","","","","","","","","","","","","","","","","","","","","","","","","","","","","","","","","","","","","","","","","","","","","","","","","","","","","","","","","","","","","","","","","","","","","","","","","","","","","","","","","","",""]
[null,null,null,"","","","","","","","","","","","","","","","","","","","","","","","","","","","","","","","","","","","","","","","","","","","","","","","","","","","","","","","","","","","","","","","","","","","","","","","","","","","","","","","","","","","","","","","","","","","","","","","","","","","","","","","","","","","","","","","","","","","","","","","","","","","","","","","","","","","","","","","","","","","","","","","","","","","","","","","","","","","","","","","","","","","","","","","","","","","","","","","","","","","","","","","","","","","","","","","","","","","","","","","","","",""]
[null,null,null,"","","","","","","","","","","","","","","","","","","","","","","","","","","","","","","","","","","","","","","","","","","","","","","","","","","","","","","","","","","","","","","","","","","","","","","","","","","","","","","","","","","","","","","","","","","","","","","","","","","","","","","","","","","","","","","","","","","","","","","","","","","","","","","","","","","","","","","","","","","","","","","","","","","","","","","","","","","","","","","","","","","","","","","","","","","","","","","","","","","","","","","","","","","","","","","","","","","","","","","","","","",""]
[null,null,null,"","","","","","","","","","","","","","","","","","","","","","","","","","","","","","","","","","","","","","","","","","","","","","","","","","","","","","","","","","","","","","","","","","","","","","","","","","","","","","","","","","","","","","","","","","","","","","","","","","","","","","","","","","","","","","","","","","","","","","","","","","","","","","","","","","","","","","","","","","","","","","","","","","","","","","","","","","","","","","","","","","","","","","","","","","","","","","","","","","","","","","","","","","","","","","","","","","","","","","","","","","",""]
[null,null,null,"","","","","","","","","","","","","","","","","","","","","","","","","","","","","","","","","","","","","","","","","","","","","","","","","","","","","","","","","","","","","","","","","","","","","","","","","","","","","","","","","","","","","","","","","","","","","","","","","","","","","","","","","","","","","","","","","","","","","","","","","","","","","","","","","","","","","","","","","","","","","","","","","","","","","","","","","","","","","","","","","","","","","","","","","","","","","","","","","","","","","","","","","","","","","","","","","","","","","","","","","","",""]
[null,null,null,"","","","","","","","","","","","","","","","","","","","","","","","","","","","","","","","","","","","","","","","","","","","","","","","","","","","","","","","","","","","","","","","","","","","","","","","","","","","","","","","","","","","","","","","","","","","","","","","","","","","","","","","","","","","","","","","","","","","","","","","","","","","","","","","","","","","","","","","","","","","","","","","","","","","","","","","","","","","","","","","","","","","","","","","","","","","","","","","","","","","","","","","","","","","","","","","","","","","","","","","","","",""]
[null,null,null,"","","","","","","","","","","","","","","","","","","","","","","","","","","","","","","","","","","","","","","","","","","","","","","","","","","","","","","","","","","","","","","","","","","","","","","","","","","","","","","","","","","","","","","","","","","","","","","","","","","","","","","","","","","","","","","","","","","","","","","","","","","","","","","","","","","","","","","","","","","","","","","","","","","","","","","","","","","","","","","","","","","","","","","","","","","","","","","","","","","","","","","","","","","","","","","","","","","","","","","","","","",""]
[null,null,null,"","","","","","","","","","","","","","","","","","","","","","","","","","","","","","","","","","","","","","","","","","","","","","","","","","","","","","","","","","","","","","","","","","","","","","","","","","","","","","","","","","","","","","","","","","","","","","","","","","","","","","","","","","","","","","","","","","","","","","","","","","","","","","","","","","","","","","","","","","","","","","","","","","","","","","","","","","","","","","","","","","","","","","","","","","","","","","","","","","","","","","","","","","","","","","","","","","","","","","","","","","",""]
[null,null,null,"","","","","","","","","","","","","","","","","","","","","","","","","","","","","","","","","","","","","","","","","","","","","","","","","","","","","","","","","","","","","","","","","","","","","","","","","","","","","","","","","","","","","","","","","","","","","","","","","","","","","","","","","","","","","","","","","","","","","","","","","","","","","","","","","","","","","","","","","","","","","","","","","","","","","","","","","","","","","","","","","","","","","","","","","","","","","","","","","","","","","","","","","","","","","","","","","","","","","","","","","","",""]
[null,null,null,"","","","","","","","","","","","","","","","","","","","","","","","","","","","","","","","","","","","","","","","","","","","","","","","","","","","","","","","","","","","","","","","","","","","","","","","","","","","","","","","","","","","","","","","","","","","","","","","","","","","","","","","","","","","","","","","","","","","","","","","","","","","","","","","","","","","","","","","","","","","","","","","","","","","","","","","","","","","","","","","","","","","","","","","","","","","","","","","","","","","","","","","","","","","","","","","","","","","","","","","","","",""]
[null,null,null,"","","","","","","","","","","","","","","","","","","","","","","","","","","","","","","","","","","","","","","","","","","","","","","","","","","","","","","","","","","","","","","","","","","","","","","","","","","","","","","","","","","","","","","","","","","","","","","","","","","","","","","","","","","","","","","","","","","","","","","","","","","","","","","","","","","","","","","","","","","","","","","","","","","","","","","","","","","","","","","","","","","","","","","","","","","","","","","","","","","","","","","","","","","","","","","","","","","","","","","","","","",""]
[null,null,null,"","","","","","","","","","","","","","","","","","","","","","","","","","","","","","","","","","","","","","","","","","","","","","","","","","","","","","","","","","","","","","","","","","","","","","","","","","","","","","","","","","","","","","","","","","","","","","","","","","","","","","","","","","","","","","","","","","","","","","","","","","","","","","","","","","","","","","","","","","","","","","","","","","","","","","","","","","","","","","","","","","","","","","","","","","","","","","","","","","","","","","","","","","","","","","","","","","","","","","","","","","",""]
[null,null,null,"","","","","","","","","","","","","","","","","","","","","","","","","","","","","","","","","","","","","","","","","","","","","","","","","","","","","","","","","","","","","","","","","","","","","","","","","","","","","","","","","","","","","","","","","","","","","","","","","","","","","","","","","","","","","","","","","","","","","","","","","","","","","","","","","","","","","","","","","","","","","","","","","","","","","","","","","","","","","","","","","","","","","","","","","","","","","","","","","","","","","","","","","","","","","","","","","","","","","","","","","","",""]
[null,null,null,"","","","","","","","","","","","","","","","","","","","","","","","","","","","","","","","","","","","","","","","","","","","","","","","","","","","","","","","","","","","","","","","","","","","","","","","","","","","","","","","","","","","","","","","","","","","","","","","","","","","","","","","","","","","","","","","","","","","","","","","","","","","","","","","","","","","","","","","","","","","","","","","","","","","","","","","","","","","","","","","","","","","","","","","","","","","","","","","","","","","","","","","","","","","","","","","","","","","","","","","","","",""]
[null,null,null,"","","","","","","","","","","","","","","","","","","","","","","","","","","","","","","","","","","","","","","","","","","","","","","","","","","","","","","","","","","","","","","","","","","","","","","","","","","","","","","","","","","","","","","","","","","","","","","","","","","","","","","","","","","","","","","","","","","","","","","","","","","","","","","","","","","","","","","","","","","","","","","","","","","","","","","","","","","","","","","","","","","","","","","","","","","","","","","","","","","","","","","","","","","","","","","","","","","","","","","","","","",""]
[null,null,null,"","","","","","","","","","","","","","","","","","","","","","","","","","","","","","","","","","","","","","","","","","","","","","","","","","","","","","","","","","","","","","","","","","","","","","","","","","","","","","","","","","","","","","","","","","","","","","","","","","","","","","","","","","","","","","","","","","","","","","","","","","","","","","","","","","","","","","","","","","","","","","","","","","","","","","","","","","","","","","","","","","","","","","","","","","","","","","","","","","","","","","","","","","","","","","","","","","","","","","","","","","",""]
[null,null,null,"","","","","","","","","","","","","","","","","","","","","","","","","","","","","","","","","","","","","","","","","","","","","","","","","","","","","","","","","","","","","","","","","","","","","","","","","","","","","","","","","","","","","","","","","","","","","","","","","","","","","","","","","","","","","","","","","","","","","","","","","","","","","","","","","","","","","","","","","","","","","","","","","","","","","","","","","","","","","","","","","","","","","","","","","","","","","","","","","","","","","","","","","","","","","","","","","","","","","","","","","","",""]
[null,null,null,"","","","","","","","","","","","","","","","","","","","","","","","","","","","","","","","","","","","","","","","","","","","","","","","","","","","","","","","","","","","","","","","","","","","","","","","","","","","","","","","","","","","","","","","","","","","","","","","","","","","","","","","","","","","","","","","","","","","","","","","","","","","","","","","","","","","","","","","","","","","","","","","","","","","","","","","","","","","","","","","","","","","","","","","","","","","","","","","","","","","","","","","","","","","","","","","","","","","","","","","","","",""]
[null,null,null,"","","","","","","","","","","","","","","","","","","","","","","","","","","","","","","","","","","","","","","","","","","","","","","","","","","","","","","","","","","","","","","","","","","","","","","","","","","","","","","","","","","","","","","","","","","","","","","","","","","","","","","","","","","","","","","","","","","","","","","","","","","","","","","","","","","","","","","","","","","","","","","","","","","","","","","","","","","","","","","","","","","","","","","","","","","","","","","","","","","","","","","","","","","","","","","","","","","","","","","","","","",""]
[null,null,null,"","","","","","","","","","","","","","","","","","","","","","","","","","","","","","","","","","","","","","","","","","","","","","","","","","","","","","","","","","","","","","","","","","","","","","","","","","","","","","","","","","","","","","","","","","","","","","","","","","","","","","","","","","","","","","","","","","","","","","","","","","","","","","","","","","","","","","","","","","","","","","","","","","","","","","","","","","","","","","","","","","","","","","","","","","","","","","","","","","","","","","","","","","","","","","","","","","","","","","","","","","",""]
[null,null,null,"","","","","","","","","","","","","","","","","","","","","","","","","","","","","","","","","","","","","","","","","","","","","","","","","","","","","","","","","","","","","","","","","","","","","","","","","","","","","","","","","","","","","","","","","","","","","","","","","","","","","","","","","","","","","","","","","","","","","","","","","","","","","","","","","","","","","","","","","","","","","","","","","","","","","","","","","","","","","","","","","","","","","","","","","","","","","","","","","","","","","","","","","","","","","","","","","","","","","","","","","","",""]
[null,null,null,"","","","","","","","","","","","","","","","","","","","","","","","","","","","","","","","","","","","","","","","","","","","","","","","","","","","","","","","","","","","","","","","","","","","","","","","","","","","","","","","","","","","","","","","","","","","","","","","","","","","","","","","","","","","","","","","","","","","","","","","","","","","","","","","","","","","","","","","","","","","","","","","","","","","","","","","","","","","","","","","","","","","","","","","","","","","","","","","","","","","","","","","","","","","","","","","","","","","","","","","","","",""]
[null,null,null,"","","","","","","","","","","","","","","","","","","","","","","","","","","","","","","","","","","","","","","","","","","","","","","","","","","","","","","","","","","","","","","","","","","","","","","","","","","","","","","","","","","","","","","","","","","","","","","","","","","","","","","","","","","","","","","","","","","","","","","","","","","","","","","","","","","","","","","","","","","","","","","","","","","","","","","","","","","","","","","","","","","","","","","","","","","","","","","","","","","","","","","","","","","","","","","","","","","","","","","","","","",""]
[null,null,null,"","","","","","","","","","","","","","","","","","","","","","","","","","","","","","","","","","","","","","","","","","","","","","","","","","","","","","","","","","","","","","","","","","","","","","","","","","","","","","","","","","","","","","","","","","","","","","","","","","","","","","","","","","","","","","","","","","","","","","","","","","","","","","","","","","","","","","","","","","","","","","","","","","","","","","","","","","","","","","","","","","","","","","","","","","","","","","","","","","","","","","","","","","","","","","","","","","","","","","","","","","",""]
[null,null,null,"","","","","","","","","","","","","","","","","","","","","","","","","","","","","","","","","","","","","","","","","","","","","","","","","","","","","","","","","","","","","","","","","","","","","","","","","","","","","","","","","","","","","","","","","","","","","","","","","","","","","","","","","","","","","","","","","","","","","","","","","","","","","","","","","","","","","","","","","","","","","","","","","","","","","","","","","","","","","","","","","","","","","","","","","","","","","","","","","","","","","","","","","","","","","","","","","","","","","","","","","","",""]
[null,null,null,"","","","","","","","","","","","","","","","","","","","","","","","","","","","","","","","","","","","","","","","","","","","","","","","","","","","","","","","","","","","","","","","","","","","","","","","","","","","","","","","","","","","","","","","","","","","","","","","","","","","","","","","","","","","","","","","","","","","","","","","","","","","","","","","","","","","","","","","","","","","","","","","","","","","","","","","","","","","","","","","","","","","","","","","","","","","","","","","","","","","","","","","","","","","","","","","","","","","","","","","","","",""]
[null,null,null,"","","","","","","","","","","","","","","","","","","","","","","","","","","","","","","","","","","","","","","","","","","","","","","","","","","","","","","","","","","","","","","","","","","","","","","","","","","","","","","","","","","","","","","","","","","","","","","","","","","","","","","","","","","","","","","","","","","","","","","","","","","","","","","","","","","","","","","","","","","","","","","","","","","","","","","","","","","","","","","","","","","","","","","","","","","","","","","","","","","","","","","","","","","","","","","","","","","","","","","","","","",""]
[null,null,null,"","","","","","","","","","","","","","","","","","","","","","","","","","","","","","","","","","","","","","","","","","","","","","","","","","","","","","","","","","","","","","","","","","","","","","","","","","","","","","","","","","","","","","","","","","","","","","","","","","","","","","","","","","","","","","","","","","","","","","","","","","","","","","","","","","","","","","","","","","","","","","","","","","","","","","","","","","","","","","","","","","","","","","","","","","","","","","","","","","","","","","","","","","","","","","","","","","","","","","","","","","",""]
[null,null,null,"","","","","","","","","","","","","","","","","","","","","","","","","","","","","","","","","","","","","","","","","","","","","","","","","","","","","","","","","","","","","","","","","","","","","","","","","","","","","","","","","","","","","","","","","","","","","","","","","","","","","","","","","","","","","","","","","","","","","","","","","","","","","","","","","","","","","","","","","","","","","","","","","","","","","","","","","","","","","","","","","","","","","","","","","","","","","","","","","","","","","","","","","","","","","","","","","","","","","","","","","","",""]