{"text_format":"1","workbook":"xlsx","n_sheets":19,"sheets":["Table of Contents","Download Data","Monthly Historic Chart","Prices for Graph","Monthly Prices","Annual Real","Offset Chart","Annual Nominal","Scatter","Distribution Chart","Distribution Chart 1","Distributions","regression","Misc","Description","Inflation Retrieve","US CPI Rate","US Implicit Deflator","BREAK"],"not_rendered":{"charts":14,"images":2,"macros":1,"external_links":0,"defined_names":31,"comments":2,"pivot_tables":0},"unopened":[{"sheet":"Offset Chart","index":6,"reason":"not_a_worksheet"},{"sheet":"Scatter","index":8,"reason":"not_a_worksheet"},{"sheet":"Distribution Chart","index":9,"reason":"not_a_worksheet"},{"sheet":"Distribution Chart 1","index":10,"reason":"not_a_worksheet"}],"bounds":{"document_bytes":16777216,"sheet_cells":100000,"rows_first":2000,"rows_last":500,"rows_between":2000,"halvings":0,"cell_chars":16384,"cell_head_chars":4096},"cells_cut":0,"cells_raw":0,"read":"whole","date_system":"1900"}

{"sheet":"Table of Contents","index":0,"n_rows":30,"n_cols":5,"rows_kept":30,"cut":false,"hidden":false,"merged":[]}
[]
[]
[null,null,"Sheet Tab","Description","Author"]
[null,1,"Table of Contents"]
[null,2,"Monthly Prices"]
[null,3,"Base Sheet"]
[null,4,"Offset Chart"]
[null,5,"Scatter"]
[null,6,"Distribution Chart"]
[null,7,"Distribution Chart 1"]
[null,8,"12 Month Moving Volatility"]
[null,9,"Chart6"]
[null,10,"Volatility"]
[null,11,"Distributions"]
[null,12,"regression"]
[null,13,"Offset"]
[null,14,"Misc"]
[null,15,"Chart with NA Method"]
[]
[null," File Name: ",null,"C:\\Users\\Monika\\Documents\\Courses\\Chapter 1. Models and Analysis\\8. Data Retrivial\\Commodity Price Analysis.xlsm"]
[]
[null," Colour Codes "]
[]
[null," Last Save Date "]
[null," Last Save By"]
[]
[]
[null,"General Page",null,"http://www.worldbank.org/en/research/commodity-markets"]
[null,"Current Download",null,"https://thedocs.worldbank.org/en/doc/5d903e848db1d1b83e0ec8f744e55570-0350012021/related/CMO-Historical-Data-Monthly.xlsx"]
[null,null,null,"https://thedocs.worldbank.org/en/doc/5d903e848db1d1b83e0ec8f744e55570-0350012021/related/CMO-Historical-Data-Monthly.xlsx"]

{"sheet":"Download Data","index":1,"n_rows":26,"n_cols":17,"rows_kept":26,"cut":false,"hidden":false,"merged":[]}
[]
[null,null,null,null,null,null,null,null,null,null,null,null,null,"Forecast URL",null,2,{"$f":"Q10","v":"http://pubdocs.worldbank.org/en/497071555972921166/CMO-April-2019-forecasts.xlsx"}]
[null,"The monthly link is the primary page -- find the link and right click and then copy it to the monthly section below"]
[null,null,null,null,null,null,null,null,null,null,null,null,null,null,null,null,"http://pubdocs.worldbank.org/en/991591476804663190/CMO-October-2016-Forecasts.xlsx"]
[null,null,null,null,null,null,null,null,null,null,null,null,null,null,null,null,"http://pubdocs.worldbank.org/en/975201485188874357/CMO-January-2017-Forecasts.xlsx"]
[null,"Monthly","https://thedocs.worldbank.org/en/doc/18675f1d1639c7a34d463f59263ba0a2-0050012025/related/CMO-Historical-Data-Monthly.xlsx",null,null,null,null,null,null,null,null,null,null,null,null,null,"http://pubdocs.worldbank.org/en/224591469470606338/CMO-2016-Jan-Forecasts.xlsx"]
[null,"Annual","https://thedocs.worldbank.org/en/doc/5d903e848db1d1b83e0ec8f744e55570-0350012021/related/CMO-Historical-Data-Annual.xlsx",null,null,null,null,null,null,null,null,null,null,null,null,null,"http://pubdocs.worldbank.org/en/590041469470605429/CMO-2015-Oct-Forecasts.xlsx"]
[null,"Forecast",null,null,null,null,null,null,null,null,null,null,null,null,null,null,"http://pubdocs.worldbank.org/en/406591469470604511/CMO-2015-July-Forecasts.xlsx"]
[null,null,null,null,null,null,null,null,null,null,null,null,null,null,null,null,"http://pubdocs.worldbank.org/en/524241493046966255/CMO-April-2017-Forecasts.xlsx"]
[null,"Supplements",null,null,null,null,null,null,null,null,null,null,null,null,null,null,"http://pubdocs.worldbank.org/en/497071555972921166/CMO-April-2019-forecasts.xlsx"]
[]
[null,"Website where you can find the link above"]
[null,null,"https://www.worldbank.org/en/research/commodity-markets#1"]
[null,null,"h+C42ttp://www.worldbank.org/en/research/commodity-markets"]
[]
[]
[null,null,null,null,null,"http://www.worldbank.org/en/research/commodity-markets#3","Forecast Achive"]
[null,null,null,null,null,"http://www.worldbank.org/en/research/commodity-markets","Pink Data Sheet"]
[null,null,null,null,null,"http://www.worldbank.org/en/research/commodity-markets","General Page"]
[]
[]
[null,"To Find Forecasts in PDF, Go to Website and get PDF"]
[]
[null,"Website","h+C42ttp://www.worldbank.org/en/research/commodity-markets"]
[]
[null,"Use PDF to Excel to Convert"]

{"sheet":"Monthly Historic Chart","index":2,"n_rows":6,"n_cols":13,"rows_kept":6,"cut":false,"hidden":false,"merged":[]}
[null,null,null,null,null,null,null,null,null,null,null,null,"Series 1"]
[null,null,null,null,null,null,null,null,null,null,null,null,"Series 2"]
[]
[null,null,null,null,null,null,null,null,null,null,null,null,"Start"]
[]
[null,null,null,null,null,null,null,null,null,null,null,null,"End"]

{"sheet":"Prices for Graph","index":3,"n_rows":815,"n_cols":43,"rows_kept":815,"cut":false,"hidden":false,"merged":[]}
[]
[]
[null,null,null,null,null,null,"Index Num",null,null,null,null,null,null,null,null,null,null,null,null,"Offset Parameters"]
[null,null,"First Series",null,null,null,7,null,{"$f":"INDEX('Monthly Prices'!B5:CB5,$G$4)&\" \"&INDEX('Monthly Prices'!B6:CE6,G4)","v":"Natural gas, US ($/mmbtu)"},null,"Begin",null,747,{"$f":"INDEX($D$20:$D$766,M4)","v":"2022-03-01"},null,null,null,null,null,null,{"$f":"INDEX('Monthly Prices'!$B$5:$CB$5,G4)","v":"Natural gas, US"},{"$f":"INDEX('Monthly Prices'!$B$5:$CB$5,G5)","v":"Natural gas, Europe"}]
[null,null,"Second Series",null,null,null,8,null,{"$f":"INDEX('Monthly Prices'!B5:CB5,$G$5)&\" \"&INDEX('Monthly Prices'!B6:CE6,G5)","v":"Natural gas, Europe ($/mmbtu)"},null,"End",null,782,{"$f":"INDEX($D$20:$D$1000,M5)","v":"2025-02-01"},null,null,null,null,null,null,"First","Second"]
[null,null,null,null,null,null,null,null,null,null,null,null,null,null,null,null,null,null,null,"Row",{"$f":"M4","v":747},{"$f":"U6","v":747}]
[null,null,null,null,null,null,null,null,null,null,null,null,null,null,null,null,null,null,null,"Column",{"$f":"G4","v":7},{"$f":"G5","v":8}]
[null,null,"Correlation",null,{"$f":"CORREL(First,Second)","v":0.89673826319998384},null,null,null,null,null,null,null,null,null,null,null,null,null,null,"Height",{"$f":"M5-M4+1","v":36},{"$f":"U8","v":36}]
[null,null,null,null,null,null,null,null,null,null,null,null,null,null,null,null,null,null,null,"Width",1,1]
[null,null,"Number Analysed",null,{"$f":"COUNTIF(H20:H664,TRUE)","v":0}]
[]
[null,null,"Last Row",null,{"$f":"MATCH(N5,D20:D815,0)","v":782},null,null,null,null,null,{"$f":"INDEX(B$3:B$16,K13)","v":{"$error":"#N/A"}},null,null,{"$f":"INDEX(B$3:B$16,N13)","v":{"$error":"#N/A"}},null,null,null,null,null,"Graph Titles"]
[null,null,{"$f":"\"Last Value of \"&J18","v":"Last Value of Natural gas, US"},null,{"$f":"INDEX(K20:K815,E12)","v":4.1280999999999999},null,null,null,null,null,{"$f":"MATCH(TRUE,J$3:J$16,0)","v":{"$error":"#N/A"}},null,null,{"$f":"MATCH(TRUE,M$3:M$16)","v":{"$error":"#N/A"}}]
[null,null,{"$f":"\"Last Value of \"&M18","v":"Last Value of Natural gas, Europe"},null,{"$f":"INDEX(N20:N815,E12-1)","v":15.376143974262041},null,null,null,null,null,null,null,null,null,null,null,null,null,null,{"$f":"I4","v":"Natural gas, US ($/mmbtu)"},null,"Volatility",{"$f":"V17","v":0.72569781072966666},"US CPI Rate",null,{"$f":"CHAR(13)","v":"\r"},null,null,null,{"$f":"I5","v":"Natural gas, Europe ($/mmbtu)"},null,"Volatility",{"$f":"W17","v":0.6746129059802034}," \n","Correlation",null,{"$f":"E8","v":0.89673826319998384},{"$f":"CHAR(13)","v":"\r"},{"$f":"C13","v":"Last Value of Natural gas, US"},null,{"$f":"E13","v":4.1280999999999999},{"$f":"C14","v":"Last Value of Natural gas, Europe"},{"$f":"E14","v":15.376143974262041}]
[]
[null,null,null,null,null,null,null,null,null,null,null,null,null,null,null,null,null,null,null,null,null,null,null,null,null,null,null,{"$f":"MAX(AB20:AB815)","v":"2025-02-01"},{"$f":"MATCH(AB16,AB20:AB815,0)","v":782}]
[null,null,"Apply Real",null,true,null,null,null,null,null,null,null,null,null,null,null,null,null,null,null,null,{"$f":"_xlfn.STDEV.S(V21:V815)*(12^0.5)","v":0.72569781072966666},{"$f":"_xlfn.STDEV.S(W21:W815)*(12^0.5)","v":0.6746129059802034},null,null,null,null,"Last infl",{"$f":"INDEX(Z20:Z815,AC16)","v":10.812738036073258}]
[null,null,"Date","Date","Number","First Date Switch","Last Date Switch","Combined Date Switch","Date NA",{"$f":"U4","v":"Natural gas, US"},{"$f":"I4& \" N/A\"","v":"Natural gas, US ($/mmbtu) N/A"},"Number Test",{"$f":"V4","v":"Natural gas, Europe"},{"$f":"I5","v":"Natural gas, Europe ($/mmbtu)"},"Number Test","Year","Nominal Oil Price","Nominal Annual","Real Oil Price","Inflation Index","Inflation Rate Applied",{"$f":"K18& \" Pct Change\"","v":"Natural gas, US ($/mmbtu) N/A Pct Change"},{"$f":"N18&\" Pct Change\"","v":"Natural gas, Europe ($/mmbtu) Pct Change"},"US CPI from Sheet","US CPI Monthly","Deflator Index","Date Text Length","Date without Blanks","Inflation Recripricoal"]
[null,null,null,null,null,null,null,null,null,null,null,null,null,null,null,null,null,null,null,null,{"$f":"E17","v":true},null,null,null,null,1]
[null,null,{"$f":"'Monthly Prices'!A8","v":"1960M02"},"1960-01-01",1,{"$f":"AND(E20>=$M$4,L20)","v":false},{"$f":"AND(E20<=$M$5,O20)","v":true},{"$f":"AND(F20:G20)","v":false},{"$f":"IF(H20,D20,NA)","v":{"$error":"#N/A"}},{"$f":"INDEX('Monthly Prices'!B8:CB8,$G$4)","v":0.14000000000000001},{"$f":"IF(H20,INDEX('Monthly Prices'!B8:CB8,$G$4)*U20,FALSE)","v":false},{"$f":"AND(ISNUMBER(J20),J20>0)","v":true},{"$f":"INDEX('Monthly Prices'!B8:CB8,$G$5)","v":0.40477399635},{"$f":"IF(H20,INDEX('Monthly Prices'!B8:CB8,$G$5)*U20,FALSE)","v":false},{"$f":"AND(ISNUMBER(M20),M20>0)","v":true},{"$f":"YEAR(D20)","v":1960},{"$f":"'Monthly Prices'!B8","v":1.63000011444},{"$f":"AVERAGEIF(P:P,P20,Q:Q)","v":1.6250001049033334},{"$f":"_xlfn.XLOOKUP(P20,'Annual Real'!A:A,'Annual Real'!B:B,0,0)","v":8.51497812263902},{"$f":"AC20","v":10.803468567337008},{"$f":"IF($U$19,T20,1)","v":10.803468567337008},null,null,{"$f":"LOOKUP(D20,INDIRECT(\"'\"&$X$14&\"'!A:A\"),INDIRECT(\"'\"&$X$14&\"'!B:B\"))/100","v":1.0344830000000001E-2},{"$f":"(1+X20)^(1/12)-1","v":8.5800858108431299E-4},{"$f":"Z19*(1+Y20)","v":1.0008580085810843},{"$f":"LEN(C20)","v":7},{"$f":"IF(AA20>2,D20,0)","v":"1960-01-01"},{"$f":"$AC$17/Z20","v":10.803468567337008},null,"12 Month Rolling Volatility",null,null,{"$f":"T14","v":"Natural gas, US ($/mmbtu)"},null," \n","Volatility over Period",null,{"$f":"#REF!","v":{"$error":"#REF!"}},"Annual Volatilty",null,{"$f":"#REF!","v":{"$error":"#REF!"}}]
[null,null,{"$f":"'Monthly Prices'!A9","v":"1960M03"},{"$f":"EDATE(D20,1)","v":"1960-02-01"},{"$f":"E20+1","v":2},false,true,false,{"$error":"#N/A"},{"$f":"INDEX('Monthly Prices'!B9:CB9,$G$4)","v":0.14000000000000001},{"$f":"IF(H21,INDEX('Monthly Prices'!B9:CB9,$G$4)*U21,FALSE)","v":false},{"$f":"ISNUMBER(J21)","v":true},{"$f":"INDEX('Monthly Prices'!B9:CB9,$G$5)","v":0.40477399635},{"$f":"IF(H21,INDEX('Monthly Prices'!B9:CB9,$G$5)*U21,FALSE)","v":false},true,{"$f":"YEAR(D21)","v":1960},{"$f":"'Monthly Prices'!B9","v":1.63000011444},{"$f":"AVERAGEIF(P:P,P21,Q:Q)","v":1.6250001049033334},{"$f":"_xlfn.XLOOKUP(P21,'Annual Real'!A:A,'Annual Real'!B:B,0,0)","v":8.51497812263902},{"$f":"AC21","v":10.788036868111456},{"$f":"IF($U$19,T21,1)","v":10.788036868111456},{"$f":"IF(AND($H20,$H21),LN(K21/K20))","v":false},{"$f":"IF(AND($H20,$H21),LN(N21/N20))","v":false},{"$f":"LOOKUP(D21,INDIRECT(\"'\"&$X$14&\"'!A:A\"),INDIRECT(\"'\"&$X$14&\"'!B:B\"))/100","v":1.730104E-2},{"$f":"(1+X21)^(1/12)-1","v":1.4304455402045502E-3},{"$f":"Z20*(1+Y21)","v":1.0022896814558371},{"$f":"LEN(C21)","v":7},{"$f":"IF(AA21>2,D21,0)","v":"1960-02-01"},{"$f":"$AC$17/Z21","v":10.788036868111456},null,"12 Month Rolling Volatility",null,null,{"$f":"I5","v":"Natural gas, Europe ($/mmbtu)"},null," \n","Volatility over Period",null,{"$f":"#REF!","v":{"$error":"#REF!"}},"Annual Volatilty",null,{"$f":"#REF!","v":{"$error":"#REF!"}}]
[null,null,{"$f":"'Monthly Prices'!A10","v":"1960M04"},"1960-03-01",3,false,true,false,{"$error":"#N/A"},{"$f":"INDEX('Monthly Prices'!B10:CB10,$G$4)","v":0.14000000000000001},{"$f":"IF(H22,INDEX('Monthly Prices'!B10:CB10,$G$4)*U22,FALSE)","v":false},true,{"$f":"INDEX('Monthly Prices'!B10:CB10,$G$5)","v":0.40477399635},{"$f":"IF(H22,INDEX('Monthly Prices'!B10:CB10,$G$5)*U22,FALSE)","v":false},true,1960,{"$f":"'Monthly Prices'!B10","v":1.63000011444},1.6250001049033334,{"$f":"_xlfn.XLOOKUP(P22,'Annual Real'!A:A,'Annual Real'!B:B,0,0)","v":8.51497812263902},10.772627211560392,10.772627211560392,{"$f":"IF(AND(H21,H22),LN(K22/K21))","v":false},{"$f":"IF(AND($H21,$H22),LN(N22/N21))","v":false},1.730104E-2,1.4304455402045502E-3,1.0037234022606687,7,"1960-03-01",10.772627211560392]
[null,null,{"$f":"'Monthly Prices'!A11","v":"1960M05"},"1960-04-01",4,false,true,false,{"$error":"#N/A"},{"$f":"INDEX('Monthly Prices'!B11:CB11,$G$4)","v":0.14000000000000001},{"$f":"IF(H23,INDEX('Monthly Prices'!B11:CB11,$G$4)*U23,FALSE)","v":false},true,{"$f":"INDEX('Monthly Prices'!B11:CB11,$G$5)","v":0.40477399635},{"$f":"IF(H23,INDEX('Monthly Prices'!B11:CB11,$G$5)*U23,FALSE)","v":false},true,1960,{"$f":"'Monthly Prices'!B11","v":1.63000011444},1.6250001049033334,{"$f":"_xlfn.XLOOKUP(P23,'Annual Real'!A:A,'Annual Real'!B:B,0,0)","v":8.51497812263902},10.757292139729589,10.757292139729589,false,false,1.7241380000000001E-2,1.4255513033960554E-3,1.0051542614650104,7,"1960-04-01",10.757292139729589,null,"Distribution Analysis",null,null,{"$f":"AH20","v":"Natural gas, US ($/mmbtu)"}]
[null,null,{"$f":"'Monthly Prices'!A12","v":"1960M06"},"1960-05-01",5,false,true,false,{"$error":"#N/A"},{"$f":"INDEX('Monthly Prices'!B12:CB12,$G$4)","v":0.14000000000000001},{"$f":"IF(H24,INDEX('Monthly Prices'!B12:CB12,$G$4)*U24,FALSE)","v":false},true,{"$f":"INDEX('Monthly Prices'!B12:CB12,$G$5)","v":0.40477399635},{"$f":"IF(H24,INDEX('Monthly Prices'!B12:CB12,$G$5)*U24,FALSE)","v":false},true,1960,{"$f":"'Monthly Prices'!B12","v":1.63000011444},1.6250001049033334,{"$f":"_xlfn.XLOOKUP(P24,'Annual Real'!A:A,'Annual Real'!B:B,0,0)","v":8.51497812263902},10.741978897710904,10.741978897710904,false,false,1.7241380000000001E-2,1.4255513033960554E-3,1.006587160432556,7,"1960-05-01",10.741978897710904]
[null,null,{"$f":"'Monthly Prices'!A13","v":"1960M07"},"1960-06-01",6,false,true,false,{"$error":"#N/A"},{"$f":"INDEX('Monthly Prices'!B13:CB13,$G$4)","v":0.14000000000000001},{"$f":"IF(H25,INDEX('Monthly Prices'!B13:CB13,$G$4)*U25,FALSE)","v":false},true,{"$f":"INDEX('Monthly Prices'!B13:CB13,$G$5)","v":0.40477399635},{"$f":"IF(H25,INDEX('Monthly Prices'!B13:CB13,$G$5)*U25,FALSE)","v":false},true,1960,{"$f":"'Monthly Prices'!B13","v":1.63000011444},1.6250001049033334,{"$f":"_xlfn.XLOOKUP(P25,'Annual Real'!A:A,'Annual Real'!B:B,0,0)","v":8.51497812263902},10.726739521412817,10.726739521412817,false,false,1.718213E-2,1.4206904407128018E-3,1.0080172091891269,7,"1960-06-01",10.726739521412817]
[null,null,{"$f":"'Monthly Prices'!A14","v":"1960M08"},"1960-07-01",7,false,true,false,{"$error":"#N/A"},{"$f":"INDEX('Monthly Prices'!B14:CB14,$G$4)","v":0.14000000000000001},{"$f":"IF(H26,INDEX('Monthly Prices'!B14:CB14,$G$4)*U26,FALSE)","v":false},true,{"$f":"INDEX('Monthly Prices'!B14:CB14,$G$5)","v":0.40477399635},{"$f":"IF(H26,INDEX('Monthly Prices'!B14:CB14,$G$5)*U26,FALSE)","v":false},true,1960,{"$f":"'Monthly Prices'!B14","v":1.63000011444},1.6250001049033334,{"$f":"_xlfn.XLOOKUP(P26,'Annual Real'!A:A,'Annual Real'!B:B,0,0)","v":8.51497812263902},10.714584389804372,10.714584389804372,false,false,1.3698629999999901E-2,1.1344473258347865E-3,1.0091607516164869,7,"1960-07-01",10.714584389804372]
[null,null,{"$f":"'Monthly Prices'!A15","v":"1960M09"},"1960-08-01",8,false,true,false,{"$error":"#N/A"},{"$f":"INDEX('Monthly Prices'!B15:CB15,$G$4)","v":0.14000000000000001},{"$f":"IF(H27,INDEX('Monthly Prices'!B15:CB15,$G$4)*U27,FALSE)","v":false},true,{"$f":"INDEX('Monthly Prices'!B15:CB15,$G$5)","v":0.40477399635},{"$f":"IF(H27,INDEX('Monthly Prices'!B15:CB15,$G$5)*U27,FALSE)","v":false},true,1960,{"$f":"'Monthly Prices'!B15","v":1.63000011444},1.6250001049033334,{"$f":"_xlfn.XLOOKUP(P27,'Annual Real'!A:A,'Annual Real'!B:B,0,0)","v":8.51497812263902},10.702443031926903,10.702443031926903,false,false,1.3698629999999901E-2,1.1344473258347865E-3,1.0103055913324956,7,"1960-08-01",10.702443031926903,null,{"$f":"AE23","v":"Distribution Analysis"},null,null,{"$f":"AH21","v":"Natural gas, Europe ($/mmbtu)"}]
[null,null,{"$f":"'Monthly Prices'!A16","v":"1960M10"},"1960-09-01",9,false,true,false,{"$error":"#N/A"},{"$f":"INDEX('Monthly Prices'!B16:CB16,$G$4)","v":0.14000000000000001},{"$f":"IF(H28,INDEX('Monthly Prices'!B16:CB16,$G$4)*U28,FALSE)","v":false},true,{"$f":"INDEX('Monthly Prices'!B16:CB16,$G$5)","v":0.40477399635},{"$f":"IF(H28,INDEX('Monthly Prices'!B16:CB16,$G$5)*U28,FALSE)","v":false},true,1960,{"$f":"'Monthly Prices'!B16","v":1.63000011444},1.6250001049033334,{"$f":"_xlfn.XLOOKUP(P28,'Annual Real'!A:A,'Annual Real'!B:B,0,0)","v":8.51497812263902},10.693361540933077,10.693361540933077,false,false,1.02389099999999E-2,8.492643738886585E-4,1.0111636078779549,7,"1960-09-01",10.693361540933077]
[null,null,{"$f":"'Monthly Prices'!A17","v":"1960M11"},"1960-10-01",10,false,true,false,{"$error":"#N/A"},{"$f":"INDEX('Monthly Prices'!B17:CB17,$G$4)","v":0.14000000000000001},{"$f":"IF(H29,INDEX('Monthly Prices'!B17:CB17,$G$4)*U29,FALSE)","v":false},true,{"$f":"INDEX('Monthly Prices'!B17:CB17,$G$5)","v":0.40477399635},{"$f":"IF(H29,INDEX('Monthly Prices'!B17:CB17,$G$5)*U29,FALSE)","v":false},true,1960,{"$f":"'Monthly Prices'!B17","v":1.63000011444},1.6250001049033334,{"$f":"_xlfn.XLOOKUP(P29,'Annual Real'!A:A,'Annual Real'!B:B,0,0)","v":8.51497812263902},10.681326063885749,10.681326063885749,false,false,1.360544E-2,1.1267774221423998E-3,1.0123029642014039,7,"1960-10-01",10.681326063885749]
[null,null,{"$f":"'Monthly Prices'!A18","v":"1960M12"},"1960-11-01",11,false,true,false,{"$error":"#N/A"},{"$f":"INDEX('Monthly Prices'!B18:CB18,$G$4)","v":0.14000000000000001},{"$f":"IF(H30,INDEX('Monthly Prices'!B18:CB18,$G$4)*U30,FALSE)","v":false},true,{"$f":"INDEX('Monthly Prices'!B18:CB18,$G$5)","v":0.40477399635},{"$f":"IF(H30,INDEX('Monthly Prices'!B18:CB18,$G$5)*U30,FALSE)","v":false},true,1960,{"$f":"'Monthly Prices'!B18","v":1.63000011444},1.6250001049033334,{"$f":"_xlfn.XLOOKUP(P30,'Annual Real'!A:A,'Annual Real'!B:B,0,0)","v":8.51497812263902},10.66930413287885,10.66930413287885,false,false,1.360544E-2,1.1267774221423998E-3,1.0134436043258339,7,"1960-11-01",10.66930413287885]
[null,null,{"$f":"'Monthly Prices'!A19","v":"1961M01"},"1960-12-01",12,false,true,false,{"$error":"#N/A"},{"$f":"INDEX('Monthly Prices'!B19:CB19,$G$4)","v":0.15},{"$f":"IF(H31,INDEX('Monthly Prices'!B19:CB19,$G$4)*U31,FALSE)","v":false},true,{"$f":"INDEX('Monthly Prices'!B19:CB19,$G$5)","v":0.40477399635},{"$f":"IF(H31,INDEX('Monthly Prices'!B19:CB19,$G$5)*U31,FALSE)","v":false},true,1960,{"$f":"'Monthly Prices'!B19","v":1.57},1.6250001049033334,{"$f":"_xlfn.XLOOKUP(P31,'Annual Real'!A:A,'Annual Real'!B:B,0,0)","v":8.51497812263902},10.657295732666189,10.657295732666189,false,false,1.360544E-2,1.1267774221423998E-3,1.0145855296978028,7,"1960-12-01",10.657295732666189]
[null,null,{"$f":"'Monthly Prices'!A20","v":"1961M02"},"1961-01-01",13,false,true,false,{"$error":"#N/A"},{"$f":"INDEX('Monthly Prices'!B20:CB20,$G$4)","v":0.15},{"$f":"IF(H32,INDEX('Monthly Prices'!B20:CB20,$G$4)*U32,FALSE)","v":false},true,{"$f":"INDEX('Monthly Prices'!B20:CB20,$G$5)","v":0.40477399635},{"$f":"IF(H32,INDEX('Monthly Prices'!B20:CB20,$G$5)*U32,FALSE)","v":false},true,1961,{"$f":"'Monthly Prices'!B20","v":1.57},1.5658333333333332,{"$f":"_xlfn.XLOOKUP(P32,'Annual Real'!A:A,'Annual Real'!B:B,0,0)","v":8.0450247775147492},10.642278753259431,10.642278753259431,false,false,1.7064849999999899E-2,1.4110680386150154E-3,1.0160171789112007,7,"1961-01-01",10.642278753259431]
[null,null,{"$f":"'Monthly Prices'!A21","v":"1961M03"},"1961-02-01",14,false,true,false,{"$error":"#N/A"},{"$f":"INDEX('Monthly Prices'!B21:CB21,$G$4)","v":0.15},{"$f":"IF(H33,INDEX('Monthly Prices'!B21:CB21,$G$4)*U33,FALSE)","v":false},true,{"$f":"INDEX('Monthly Prices'!B21:CB21,$G$5)","v":0.40477399635},{"$f":"IF(H33,INDEX('Monthly Prices'!B21:CB21,$G$5)*U33,FALSE)","v":false},true,1961,{"$f":"'Monthly Prices'!B21","v":1.57},1.5658333333333332,{"$f":"_xlfn.XLOOKUP(P33,'Annual Real'!A:A,'Annual Real'!B:B,0,0)","v":8.0450247775147492},10.630300770360806,10.630300770360806,false,false,1.360544E-2,1.1267774221423998E-3,1.0171620041289067,7,"1961-02-01",10.630300770360806]
[null,null,{"$f":"'Monthly Prices'!A22","v":"1961M04"},"1961-03-01",15,false,true,false,{"$error":"#N/A"},{"$f":"INDEX('Monthly Prices'!B22:CB22,$G$4)","v":0.15},{"$f":"IF(H34,INDEX('Monthly Prices'!B22:CB22,$G$4)*U34,FALSE)","v":false},true,{"$f":"INDEX('Monthly Prices'!B22:CB22,$G$5)","v":0.40477399635},{"$f":"IF(H34,INDEX('Monthly Prices'!B22:CB22,$G$5)*U34,FALSE)","v":false},true,1961,{"$f":"'Monthly Prices'!B22","v":1.57},1.5658333333333332,{"$f":"_xlfn.XLOOKUP(P34,'Annual Real'!A:A,'Annual Real'!B:B,0,0)","v":8.0450247775147492},10.618336268792415,10.618336268792415,false,false,1.360544E-2,1.1267774221423998E-3,1.0183081193098202,7,"1961-03-01",10.618336268792415]
[null,null,{"$f":"'Monthly Prices'!A23","v":"1961M05"},"1961-04-01",16,false,true,false,{"$error":"#N/A"},{"$f":"INDEX('Monthly Prices'!B23:CB23,$G$4)","v":0.15},{"$f":"IF(H35,INDEX('Monthly Prices'!B23:CB23,$G$4)*U35,FALSE)","v":false},true,{"$f":"INDEX('Monthly Prices'!B23:CB23,$G$5)","v":0.40477399635},{"$f":"IF(H35,INDEX('Monthly Prices'!B23:CB23,$G$5)*U35,FALSE)","v":false},true,1961,{"$f":"'Monthly Prices'!B23","v":1.57},1.5658333333333332,{"$f":"_xlfn.XLOOKUP(P35,'Annual Real'!A:A,'Annual Real'!B:B,0,0)","v":8.0450247775147492},10.609386901235206,10.609386901235206,false,false,1.0169489999999901E-2,8.4353296194383809E-4,1.0191670957738732,7,"1961-04-01",10.609386901235206]
[null,null,{"$f":"'Monthly Prices'!A24","v":"1961M06"},"1961-05-01",17,false,true,false,{"$error":"#N/A"},{"$f":"INDEX('Monthly Prices'!B24:CB24,$G$4)","v":0.15},{"$f":"IF(H36,INDEX('Monthly Prices'!B24:CB24,$G$4)*U36,FALSE)","v":false},true,{"$f":"INDEX('Monthly Prices'!B24:CB24,$G$5)","v":0.40477399635},{"$f":"IF(H36,INDEX('Monthly Prices'!B24:CB24,$G$5)*U36,FALSE)","v":false},true,1961,{"$f":"'Monthly Prices'!B24","v":1.57},1.5658333333333332,{"$f":"_xlfn.XLOOKUP(P36,'Annual Real'!A:A,'Annual Real'!B:B,0,0)","v":8.0450247775147492},10.600445076401986,10.600445076401986,false,false,1.0169489999999901E-2,8.4353296194383809E-4,1.0200267968128871,7,"1961-05-01",10.600445076401986]
[null,null,{"$f":"'Monthly Prices'!A25","v":"1961M07"},"1961-06-01",18,false,true,false,{"$error":"#N/A"},{"$f":"INDEX('Monthly Prices'!B25:CB25,$G$4)","v":0.15},{"$f":"IF(H37,INDEX('Monthly Prices'!B25:CB25,$G$4)*U37,FALSE)","v":false},true,{"$f":"INDEX('Monthly Prices'!B25:CB25,$G$5)","v":0.40477399635},{"$f":"IF(H37,INDEX('Monthly Prices'!B25:CB25,$G$5)*U37,FALSE)","v":false},true,1961,{"$f":"'Monthly Prices'!B25","v":1.57},1.5658333333333332,{"$f":"_xlfn.XLOOKUP(P37,'Annual Real'!A:A,'Annual Real'!B:B,0,0)","v":8.0450247775147492},10.594498100118326,10.594498100118326,false,false,6.7567569999999995E-3,5.6132685356691248E-4,1.020599365245296,7,"1961-06-01",10.594498100118326]
[null,null,{"$f":"'Monthly Prices'!A26","v":"1961M08"},"1961-07-01",19,false,true,false,{"$error":"#N/A"},{"$f":"INDEX('Monthly Prices'!B26:CB26,$G$4)","v":0.15},{"$f":"IF(H38,INDEX('Monthly Prices'!B26:CB26,$G$4)*U38,FALSE)","v":false},true,{"$f":"INDEX('Monthly Prices'!B26:CB26,$G$5)","v":0.40477399635},{"$f":"IF(H38,INDEX('Monthly Prices'!B26:CB26,$G$5)*U38,FALSE)","v":false},true,1961,{"$f":"'Monthly Prices'!B26","v":1.57},1.5658333333333332,{"$f":"_xlfn.XLOOKUP(P38,'Annual Real'!A:A,'Annual Real'!B:B,0,0)","v":8.0450247775147492},10.582653881844291,10.582653881844291,false,false,1.3513509999999999E-2,1.1192105880317715E-3,1.021741630861017,7,"1961-07-01",10.582653881844291]
[null,null,{"$f":"'Monthly Prices'!A27","v":"1961M09"},"1961-08-01",20,false,true,false,{"$error":"#N/A"},{"$f":"INDEX('Monthly Prices'!B27:CB27,$G$4)","v":0.15},{"$f":"IF(H39,INDEX('Monthly Prices'!B27:CB27,$G$4)*U39,FALSE)","v":false},true,{"$f":"INDEX('Monthly Prices'!B27:CB27,$G$5)","v":0.40477399635},{"$f":"IF(H39,INDEX('Monthly Prices'!B27:CB27,$G$5)*U39,FALSE)","v":false},true,1961,{"$f":"'Monthly Prices'!B27","v":1.57},1.5658333333333332,{"$f":"_xlfn.XLOOKUP(P39,'Annual Real'!A:A,'Annual Real'!B:B,0,0)","v":8.0450247775147492},10.573764551350989,10.573764551350989,false,false,1.0135140000000001E-2,8.4069684454690652E-4,1.022600605826024,7,"1961-08-01",10.573764551350989]
[null,null,{"$f":"'Monthly Prices'!A28","v":"1961M10"},"1961-09-01",21,false,true,false,{"$error":"#N/A"},{"$f":"INDEX('Monthly Prices'!B28:CB28,$G$4)","v":0.15},{"$f":"IF(H40,INDEX('Monthly Prices'!B28:CB28,$G$4)*U40,FALSE)","v":false},true,{"$f":"INDEX('Monthly Prices'!B28:CB28,$G$5)","v":0.40477399635},{"$f":"IF(H40,INDEX('Monthly Prices'!B28:CB28,$G$5)*U40,FALSE)","v":false},true,1961,{"$f":"'Monthly Prices'!B28","v":1.57},1.5658333333333332,{"$f":"_xlfn.XLOOKUP(P40,'Annual Real'!A:A,'Annual Real'!B:B,0,0)","v":8.0450247775147492},10.561943512341781,10.561943512341781,false,false,1.3513509999999999E-2,1.1192105880317715E-3,1.0237451112513922,7,"1961-09-01",10.561943512341781]
[null,null,{"$f":"'Monthly Prices'!A29","v":"1961M11"},"1961-10-01",22,false,true,false,{"$error":"#N/A"},{"$f":"INDEX('Monthly Prices'!B29:CB29,$G$4)","v":0.15},{"$f":"IF(H41,INDEX('Monthly Prices'!B29:CB29,$G$4)*U41,FALSE)","v":false},true,{"$f":"INDEX('Monthly Prices'!B29:CB29,$G$5)","v":0.40477399635},{"$f":"IF(H41,INDEX('Monthly Prices'!B29:CB29,$G$5)*U41,FALSE)","v":false},true,1961,{"$f":"'Monthly Prices'!B29","v":1.57},1.5658333333333332,{"$f":"_xlfn.XLOOKUP(P41,'Annual Real'!A:A,'Annual Real'!B:B,0,0)","v":8.0450247775147492},10.556057759454747,10.556057759454747,false,false,6.7114100000000001E-3,5.5757111425069894E-4,1.0243159219537814,7,"1961-10-01",10.556057759454747]
[null,null,{"$f":"'Monthly Prices'!A30","v":"1961M12"},"1961-11-01",23,false,true,false,{"$error":"#N/A"},{"$f":"INDEX('Monthly Prices'!B30:CB30,$G$4)","v":0.15},{"$f":"IF(H42,INDEX('Monthly Prices'!B30:CB30,$G$4)*U42,FALSE)","v":false},true,{"$f":"INDEX('Monthly Prices'!B30:CB30,$G$5)","v":0.40477399635},{"$f":"IF(H42,INDEX('Monthly Prices'!B30:CB30,$G$5)*U42,FALSE)","v":false},true,1961,{"$f":"'Monthly Prices'!B30","v":1.57},1.5658333333333332,{"$f":"_xlfn.XLOOKUP(P42,'Annual Real'!A:A,'Annual Real'!B:B,0,0)","v":8.0450247775147492},10.550175286464732,10.550175286464732,false,false,6.7114100000000001E-3,5.5757111425069894E-4,1.02488705092373,7,"1961-11-01",10.550175286464732]
[null,null,{"$f":"'Monthly Prices'!A31","v":"1962M01"},"1961-12-01",24,false,true,false,{"$error":"#N/A"},{"$f":"INDEX('Monthly Prices'!B31:CB31,$G$4)","v":0.16},{"$f":"IF(H43,INDEX('Monthly Prices'!B31:CB31,$G$4)*U43,FALSE)","v":false},true,{"$f":"INDEX('Monthly Prices'!B31:CB31,$G$5)","v":0.40477399635},{"$f":"IF(H43,INDEX('Monthly Prices'!B31:CB31,$G$5)*U43,FALSE)","v":false},true,1961,{"$f":"'Monthly Prices'!B31","v":1.52},1.5658333333333332,{"$f":"_xlfn.XLOOKUP(P43,'Annual Real'!A:A,'Annual Real'!B:B,0,0)","v":8.0450247775147492},10.544296091543981,10.544296091543981,false,false,6.7114100000000001E-3,5.5757111425069894E-4,1.0254584983386947,7,"1961-12-01",10.544296091543981]
[null,null,{"$f":"'Monthly Prices'!A32","v":"1962M02"},"1962-01-01",25,false,true,false,{"$error":"#N/A"},{"$f":"INDEX('Monthly Prices'!B32:CB32,$G$4)","v":0.16},{"$f":"IF(H44,INDEX('Monthly Prices'!B32:CB32,$G$4)*U44,FALSE)","v":false},true,{"$f":"INDEX('Monthly Prices'!B32:CB32,$G$5)","v":0.40477399635},{"$f":"IF(H44,INDEX('Monthly Prices'!B32:CB32,$G$5)*U44,FALSE)","v":false},true,1962,{"$f":"'Monthly Prices'!B32","v":1.52},1.5183333333333333,{"$f":"_xlfn.XLOOKUP(P44,'Annual Real'!A:A,'Annual Real'!B:B,0,0)","v":7.64613777440701},10.538420172865752,10.538420172865752,false,false,6.7114100000000001E-3,5.5757111425069894E-4,1.0260302643762313,7,"1962-01-01",10.538420172865752]
[null,null,{"$f":"'Monthly Prices'!A33","v":"1962M03"},"1962-02-01",26,false,true,false,{"$error":"#N/A"},{"$f":"INDEX('Monthly Prices'!B33:CB33,$G$4)","v":0.16},{"$f":"IF(H45,INDEX('Monthly Prices'!B33:CB33,$G$4)*U45,FALSE)","v":false},true,{"$f":"INDEX('Monthly Prices'!B33:CB33,$G$5)","v":0.40477399635},{"$f":"IF(H45,INDEX('Monthly Prices'!B33:CB33,$G$5)*U45,FALSE)","v":false},true,1962,{"$f":"'Monthly Prices'!B33","v":1.52},1.5183333333333333,{"$f":"_xlfn.XLOOKUP(P45,'Annual Real'!A:A,'Annual Real'!B:B,0,0)","v":7.64613777440701},10.529627095371451,10.529627095371451,false,false,1.0067109999999999E-2,8.3507966755691498E-4,1.02688708138831,7,"1962-02-01",10.529627095371451]
[null,null,{"$f":"'Monthly Prices'!A34","v":"1962M04"},"1962-03-01",27,false,true,false,{"$error":"#N/A"},{"$f":"INDEX('Monthly Prices'!B34:CB34,$G$4)","v":0.16},{"$f":"IF(H46,INDEX('Monthly Prices'!B34:CB34,$G$4)*U46,FALSE)","v":false},true,{"$f":"INDEX('Monthly Prices'!B34:CB34,$G$5)","v":0.40477399635},{"$f":"IF(H46,INDEX('Monthly Prices'!B34:CB34,$G$5)*U46,FALSE)","v":false},true,1962,{"$f":"'Monthly Prices'!B34","v":1.52},1.5183333333333333,{"$f":"_xlfn.XLOOKUP(P46,'Annual Real'!A:A,'Annual Real'!B:B,0,0)","v":7.64613777440701},10.520841354670575,10.520841354670575,false,false,1.0067109999999999E-2,8.3507966755691498E-4,1.0277446139108541,7,"1962-03-01",10.520841354670575]
[null,null,{"$f":"'Monthly Prices'!A35","v":"1962M05"},"1962-04-01",28,false,true,false,{"$error":"#N/A"},{"$f":"INDEX('Monthly Prices'!B35:CB35,$G$4)","v":0.16},{"$f":"IF(H47,INDEX('Monthly Prices'!B35:CB35,$G$4)*U47,FALSE)","v":false},true,{"$f":"INDEX('Monthly Prices'!B35:CB35,$G$5)","v":0.40477399635},{"$f":"IF(H47,INDEX('Monthly Prices'!B35:CB35,$G$5)*U47,FALSE)","v":false},true,1962,{"$f":"'Monthly Prices'!B35","v":1.52},1.5183333333333333,{"$f":"_xlfn.XLOOKUP(P47,'Annual Real'!A:A,'Annual Real'!B:B,0,0)","v":7.64613777440701},10.509157848846208,10.509157848846208,false,false,1.342282E-2,1.1117452028421848E-3,1.0288872040551165,7,"1962-04-01",10.509157848846208]
[null,null,{"$f":"'Monthly Prices'!A36","v":"1962M06"},"1962-05-01",29,false,true,false,{"$error":"#N/A"},{"$f":"INDEX('Monthly Prices'!B36:CB36,$G$4)","v":0.16},{"$f":"IF(H48,INDEX('Monthly Prices'!B36:CB36,$G$4)*U48,FALSE)","v":false},true,{"$f":"INDEX('Monthly Prices'!B36:CB36,$G$5)","v":0.40477399635},{"$f":"IF(H48,INDEX('Monthly Prices'!B36:CB36,$G$5)*U48,FALSE)","v":false},true,1962,{"$f":"'Monthly Prices'!B36","v":1.52},1.5183333333333333,{"$f":"_xlfn.XLOOKUP(P48,'Annual Real'!A:A,'Annual Real'!B:B,0,0)","v":7.64613777440701},10.497487317678882,10.497487317678882,false,false,1.342282E-2,1.1117452028421848E-3,1.0300310644684905,7,"1962-05-01",10.497487317678882]
[null,null,{"$f":"'Monthly Prices'!A37","v":"1962M07"},"1962-06-01",30,false,true,false,{"$error":"#N/A"},{"$f":"INDEX('Monthly Prices'!B37:CB37,$G$4)","v":0.16},{"$f":"IF(H49,INDEX('Monthly Prices'!B37:CB37,$G$4)*U49,FALSE)","v":false},true,{"$f":"INDEX('Monthly Prices'!B37:CB37,$G$5)","v":0.40477399635},{"$f":"IF(H49,INDEX('Monthly Prices'!B37:CB37,$G$5)*U49,FALSE)","v":false},true,1962,{"$f":"'Monthly Prices'!B37","v":1.52},1.5183333333333333,{"$f":"_xlfn.XLOOKUP(P49,'Annual Real'!A:A,'Annual Real'!B:B,0,0)","v":7.64613777440701},10.485829746760102,10.485829746760102,false,false,1.342282E-2,1.1117452028421848E-3,1.0311761965631918,7,"1962-06-01",10.485829746760102]
[null,null,{"$f":"'Monthly Prices'!A38","v":"1962M08"},"1962-07-01",31,false,true,false,{"$error":"#N/A"},{"$f":"INDEX('Monthly Prices'!B38:CB38,$G$4)","v":0.16},{"$f":"IF(H50,INDEX('Monthly Prices'!B38:CB38,$G$4)*U50,FALSE)","v":false},true,{"$f":"INDEX('Monthly Prices'!B38:CB38,$G$5)","v":0.40477399635},{"$f":"IF(H50,INDEX('Monthly Prices'!B38:CB38,$G$5)*U50,FALSE)","v":false},true,1962,{"$f":"'Monthly Prices'!B38","v":1.52},1.5183333333333333,{"$f":"_xlfn.XLOOKUP(P50,'Annual Real'!A:A,'Annual Real'!B:B,0,0)","v":7.64613777440701},10.47713856099447,10.47713856099447,false,false,0.01,8.295381143461622E-4,1.0320315965208475,7,"1962-07-01",10.47713856099447]
[null,null,{"$f":"'Monthly Prices'!A39","v":"1962M09"},"1962-08-01",32,false,true,false,{"$error":"#N/A"},{"$f":"INDEX('Monthly Prices'!B39:CB39,$G$4)","v":0.16},{"$f":"IF(H51,INDEX('Monthly Prices'!B39:CB39,$G$4)*U51,FALSE)","v":false},true,{"$f":"INDEX('Monthly Prices'!B39:CB39,$G$5)","v":0.40477399635},{"$f":"IF(H51,INDEX('Monthly Prices'!B39:CB39,$G$5)*U51,FALSE)","v":false},true,1962,{"$f":"'Monthly Prices'!B39","v":1.52},1.5183333333333333,{"$f":"_xlfn.XLOOKUP(P51,'Annual Real'!A:A,'Annual Real'!B:B,0,0)","v":7.64613777440701},10.465542219678053,10.465542219678053,false,false,1.337793E-2,1.1080497381790178E-3,1.033175138861165,7,"1962-08-01",10.465542219678053]
[null,null,{"$f":"'Monthly Prices'!A40","v":"1962M10"},"1962-09-01",33,false,true,false,{"$error":"#N/A"},{"$f":"INDEX('Monthly Prices'!B40:CB40,$G$4)","v":0.16},{"$f":"IF(H52,INDEX('Monthly Prices'!B40:CB40,$G$4)*U52,FALSE)","v":false},true,{"$f":"INDEX('Monthly Prices'!B40:CB40,$G$5)","v":0.40477399635},{"$f":"IF(H52,INDEX('Monthly Prices'!B40:CB40,$G$5)*U52,FALSE)","v":false},true,1962,{"$f":"'Monthly Prices'!B40","v":1.52},1.5183333333333333,{"$f":"_xlfn.XLOOKUP(P52,'Annual Real'!A:A,'Annual Real'!B:B,0,0)","v":7.64613777440701},10.453997055333963,10.453997055333963,false,false,1.3333330000000001E-2,1.1043779984805102E-3,1.0343161547531003,7,"1962-09-01",10.453997055333963]
[null,null,{"$f":"'Monthly Prices'!A41","v":"1962M11"},"1962-10-01",34,false,true,false,{"$error":"#N/A"},{"$f":"INDEX('Monthly Prices'!B41:CB41,$G$4)","v":0.16},{"$f":"IF(H53,INDEX('Monthly Prices'!B41:CB41,$G$4)*U53,FALSE)","v":false},true,{"$f":"INDEX('Monthly Prices'!B41:CB41,$G$5)","v":0.40477399635},{"$f":"IF(H53,INDEX('Monthly Prices'!B41:CB41,$G$5)*U53,FALSE)","v":false},true,1962,{"$f":"'Monthly Prices'!B41","v":1.52},1.5183333333333333,{"$f":"_xlfn.XLOOKUP(P53,'Annual Real'!A:A,'Annual Real'!B:B,0,0)","v":7.64613777440701},10.442464627149826,10.442464627149826,false,false,1.3333330000000001E-2,1.1043779984805102E-3,1.0354584307578827,7,"1962-10-01",10.442464627149826]
[null,null,{"$f":"'Monthly Prices'!A42","v":"1962M12"},"1962-11-01",35,false,true,false,{"$error":"#N/A"},{"$f":"INDEX('Monthly Prices'!B42:CB42,$G$4)","v":0.16},{"$f":"IF(H54,INDEX('Monthly Prices'!B42:CB42,$G$4)*U54,FALSE)","v":false},true,{"$f":"INDEX('Monthly Prices'!B42:CB42,$G$5)","v":0.40477399635},{"$f":"IF(H54,INDEX('Monthly Prices'!B42:CB42,$G$5)*U54,FALSE)","v":false},true,1962,{"$f":"'Monthly Prices'!B42","v":1.52},1.5183333333333333,{"$f":"_xlfn.XLOOKUP(P54,'Annual Real'!A:A,'Annual Real'!B:B,0,0)","v":7.64613777440701},10.430944921075628,10.430944921075628,false,false,1.3333330000000001E-2,1.1043779984805102E-3,1.0366019682671528,7,"1962-11-01",10.430944921075628]
[null,null,{"$f":"'Monthly Prices'!A43","v":"1963M01"},"1962-12-01",36,false,true,false,{"$error":"#N/A"},{"$f":"INDEX('Monthly Prices'!B43:CB43,$G$4)","v":0.16},{"$f":"IF(H55,INDEX('Monthly Prices'!B43:CB43,$G$4)*U55,FALSE)","v":false},true,{"$f":"INDEX('Monthly Prices'!B43:CB43,$G$5)","v":0.39135113794999998},{"$f":"IF(H55,INDEX('Monthly Prices'!B43:CB43,$G$5)*U55,FALSE)","v":false},true,1962,{"$f":"'Monthly Prices'!B43","v":1.5},1.5183333333333333,{"$f":"_xlfn.XLOOKUP(P55,'Annual Real'!A:A,'Annual Real'!B:B,0,0)","v":7.64613777440701},10.419437923076849,10.419437923076849,false,false,1.3333330000000001E-2,1.1043779984805102E-3,1.0377467686740887,7,"1962-12-01",10.419437923076849]
[null,null,{"$f":"'Monthly Prices'!A44","v":"1963M02"},"1963-01-01",37,false,true,false,{"$error":"#N/A"},{"$f":"INDEX('Monthly Prices'!B44:CB44,$G$4)","v":0.16},{"$f":"IF(H56,INDEX('Monthly Prices'!B44:CB44,$G$4)*U56,FALSE)","v":false},true,{"$f":"INDEX('Monthly Prices'!B44:CB44,$G$5)","v":0.39135113794999998},{"$f":"IF(H56,INDEX('Monthly Prices'!B44:CB44,$G$5)*U56,FALSE)","v":false},true,1963,{"$f":"'Monthly Prices'!B44","v":1.5},1.4958333333333333,{"$f":"_xlfn.XLOOKUP(P56,'Annual Real'!A:A,'Annual Real'!B:B,0,0)","v":7.6863294052688698},10.40794361913445,10.40794361913445,false,false,1.3333330000000001E-2,1.1043779984805102E-3,1.0388928333734067,7,"1963-01-01",10.40794361913445]
[null,null,{"$f":"'Monthly Prices'!A45","v":"1963M03"},"1963-02-01",38,false,true,false,{"$error":"#N/A"},{"$f":"INDEX('Monthly Prices'!B45:CB45,$G$4)","v":0.16},{"$f":"IF(H57,INDEX('Monthly Prices'!B45:CB45,$G$4)*U57,FALSE)","v":false},true,{"$f":"INDEX('Monthly Prices'!B45:CB45,$G$5)","v":0.39135113794999998},{"$f":"IF(H57,INDEX('Monthly Prices'!B45:CB45,$G$5)*U57,FALSE)","v":false},true,1963,{"$f":"'Monthly Prices'!B45","v":1.5},1.4958333333333333,{"$f":"_xlfn.XLOOKUP(P57,'Annual Real'!A:A,'Annual Real'!B:B,0,0)","v":7.6863294052688698},10.399345495291069,10.399345495291069,false,false,9.9667779999999991E-3,8.2679471003954674E-4,1.0397517844723378,7,"1963-02-01",10.399345495291069]
[null,null,{"$f":"'Monthly Prices'!A46","v":"1963M04"},"1963-03-01",39,false,true,false,{"$error":"#N/A"},{"$f":"INDEX('Monthly Prices'!B46:CB46,$G$4)","v":0.16},{"$f":"IF(H58,INDEX('Monthly Prices'!B46:CB46,$G$4)*U58,FALSE)","v":false},true,{"$f":"INDEX('Monthly Prices'!B46:CB46,$G$5)","v":0.39135113794999998},{"$f":"IF(H58,INDEX('Monthly Prices'!B46:CB46,$G$5)*U58,FALSE)","v":false},true,1963,{"$f":"'Monthly Prices'!B46","v":1.5},1.4958333333333333,{"$f":"_xlfn.XLOOKUP(P58,'Annual Real'!A:A,'Annual Real'!B:B,0,0)","v":7.6863294052688698},10.387911192837796,10.387911192837796,false,false,1.328904E-2,1.1007316332427575E-3,1.0408962721522272,7,"1963-03-01",10.387911192837796]
[null,null,{"$f":"'Monthly Prices'!A47","v":"1963M05"},"1963-04-01",40,false,true,false,{"$error":"#N/A"},{"$f":"INDEX('Monthly Prices'!B47:CB47,$G$4)","v":0.16},{"$f":"IF(H59,INDEX('Monthly Prices'!B47:CB47,$G$4)*U59,FALSE)","v":false},true,{"$f":"INDEX('Monthly Prices'!B47:CB47,$G$5)","v":0.39135113794999998},{"$f":"IF(H59,INDEX('Monthly Prices'!B47:CB47,$G$5)*U59,FALSE)","v":false},true,1963,{"$f":"'Monthly Prices'!B47","v":1.5},1.4958333333333333,{"$f":"_xlfn.XLOOKUP(P59,'Annual Real'!A:A,'Annual Real'!B:B,0,0)","v":7.6863294052688698},10.379357882565925,10.379357882565925,false,false,9.9337749999999902E-3,8.2406930839495907E-4,1.0417540428233307,7,"1963-04-01",10.379357882565925]
[null,null,{"$f":"'Monthly Prices'!A48","v":"1963M06"},"1963-05-01",41,false,true,false,{"$error":"#N/A"},{"$f":"INDEX('Monthly Prices'!B48:CB48,$G$4)","v":0.16},{"$f":"IF(H60,INDEX('Monthly Prices'!B48:CB48,$G$4)*U60,FALSE)","v":false},true,{"$f":"INDEX('Monthly Prices'!B48:CB48,$G$5)","v":0.39135113794999998},{"$f":"IF(H60,INDEX('Monthly Prices'!B48:CB48,$G$5)*U60,FALSE)","v":false},true,1963,{"$f":"'Monthly Prices'!B48","v":1.5},1.4958333333333333,{"$f":"_xlfn.XLOOKUP(P60,'Annual Real'!A:A,'Annual Real'!B:B,0,0)","v":7.6863294052688698},10.370811615010847,10.370811615010847,false,false,9.9337749999999902E-3,8.2406930839495907E-4,1.0426125203569179,7,"1963-05-01",10.370811615010847]
[null,null,{"$f":"'Monthly Prices'!A49","v":"1963M07"},"1963-06-01",42,false,true,false,{"$error":"#N/A"},{"$f":"INDEX('Monthly Prices'!B49:CB49,$G$4)","v":0.16},{"$f":"IF(H61,INDEX('Monthly Prices'!B49:CB49,$G$4)*U61,FALSE)","v":false},true,{"$f":"INDEX('Monthly Prices'!B49:CB49,$G$5)","v":0.39135113794999998},{"$f":"IF(H61,INDEX('Monthly Prices'!B49:CB49,$G$5)*U61,FALSE)","v":false},true,1963,{"$f":"'Monthly Prices'!B49","v":1.5},1.4958333333333333,{"$f":"_xlfn.XLOOKUP(P61,'Annual Real'!A:A,'Annual Real'!B:B,0,0)","v":7.6863294052688698},10.359446181911082,10.359446181911082,false,false,1.324503E-2,1.0971081754942436E-3,1.043756379076874,7,"1963-06-01",10.359446181911082]
[null,null,{"$f":"'Monthly Prices'!A50","v":"1963M08"},"1963-07-01",43,false,true,false,{"$error":"#N/A"},{"$f":"INDEX('Monthly Prices'!B50:CB50,$G$4)","v":0.16},{"$f":"IF(H62,INDEX('Monthly Prices'!B50:CB50,$G$4)*U62,FALSE)","v":false},true,{"$f":"INDEX('Monthly Prices'!B50:CB50,$G$5)","v":0.39135113794999998},{"$f":"IF(H62,INDEX('Monthly Prices'!B50:CB50,$G$5)*U62,FALSE)","v":false},true,1963,{"$f":"'Monthly Prices'!B50","v":1.5},1.4958333333333333,{"$f":"_xlfn.XLOOKUP(P62,'Annual Real'!A:A,'Annual Real'!B:B,0,0)","v":7.6863294052688698},10.34813040533677,10.34813040533677,false,false,1.32013199999999E-2,1.0935092747261788E-3,1.0448977363579492,7,"1963-07-01",10.34813040533677]
[null,null,{"$f":"'Monthly Prices'!A51","v":"1963M09"},"1963-08-01",44,false,true,false,{"$error":"#N/A"},{"$f":"INDEX('Monthly Prices'!B51:CB51,$G$4)","v":0.16},{"$f":"IF(H63,INDEX('Monthly Prices'!B51:CB51,$G$4)*U63,FALSE)","v":false},true,{"$f":"INDEX('Monthly Prices'!B51:CB51,$G$5)","v":0.39135113794999998},{"$f":"IF(H63,INDEX('Monthly Prices'!B51:CB51,$G$5)*U63,FALSE)","v":false},true,1963,{"$f":"'Monthly Prices'!B51","v":1.5},1.4958333333333333,{"$f":"_xlfn.XLOOKUP(P63,'Annual Real'!A:A,'Annual Real'!B:B,0,0)","v":7.6863294052688698},10.33682698915289,10.33682698915289,false,false,1.32013199999999E-2,1.0935092747261788E-3,1.0460403417237971,7,"1963-08-01",10.33682698915289]
[null,null,{"$f":"'Monthly Prices'!A52","v":"1963M10"},"1963-09-01",45,false,true,false,{"$error":"#N/A"},{"$f":"INDEX('Monthly Prices'!B52:CB52,$G$4)","v":0.16},{"$f":"IF(H64,INDEX('Monthly Prices'!B52:CB52,$G$4)*U64,FALSE)","v":false},true,{"$f":"INDEX('Monthly Prices'!B52:CB52,$G$5)","v":0.39135113794999998},{"$f":"IF(H64,INDEX('Monthly Prices'!B52:CB52,$G$5)*U64,FALSE)","v":false},true,1963,{"$f":"'Monthly Prices'!B52","v":1.5},1.4958333333333333,{"$f":"_xlfn.XLOOKUP(P64,'Annual Real'!A:A,'Annual Real'!B:B,0,0)","v":7.6863294052688698},10.328371439548434,10.328371439548434,false,false,9.8684210000000005E-3,8.1867210662833756E-4,1.0468967057739744,7,"1963-09-01",10.328371439548434]
[null,null,{"$f":"'Monthly Prices'!A53","v":"1963M11"},"1963-10-01",46,false,true,false,{"$error":"#N/A"},{"$f":"INDEX('Monthly Prices'!B53:CB53,$G$4)","v":0.16},{"$f":"IF(H65,INDEX('Monthly Prices'!B53:CB53,$G$4)*U65,FALSE)","v":false},true,{"$f":"INDEX('Monthly Prices'!B53:CB53,$G$5)","v":0.39135113794999998},{"$f":"IF(H65,INDEX('Monthly Prices'!B53:CB53,$G$5)*U65,FALSE)","v":false},true,1963,{"$f":"'Monthly Prices'!B53","v":1.5},1.4958333333333333,{"$f":"_xlfn.XLOOKUP(P65,'Annual Real'!A:A,'Annual Real'!B:B,0,0)","v":7.6863294052688698},10.317126459993057,10.317126459993057,false,false,1.3157889999999901E-2,1.0899332870428768E-3,1.0480377533416929,7,"1963-10-01",10.317126459993057]
[null,null,{"$f":"'Monthly Prices'!A54","v":"1963M12"},"1963-11-01",47,false,true,false,{"$error":"#N/A"},{"$f":"INDEX('Monthly Prices'!B54:CB54,$G$4)","v":0.16},{"$f":"IF(H66,INDEX('Monthly Prices'!B54:CB54,$G$4)*U66,FALSE)","v":false},true,{"$f":"INDEX('Monthly Prices'!B54:CB54,$G$5)","v":0.39135113794999998},{"$f":"IF(H66,INDEX('Monthly Prices'!B54:CB54,$G$5)*U66,FALSE)","v":false},true,1963,{"$f":"'Monthly Prices'!B54","v":1.5},1.4958333333333333,{"$f":"_xlfn.XLOOKUP(P66,'Annual Real'!A:A,'Annual Real'!B:B,0,0)","v":7.6863294052688698},10.305893723371231,10.305893723371231,false,false,1.3157889999999901E-2,1.0899332870428768E-3,1.0491800445751376,7,"1963-11-01",10.305893723371231]
[null,null,{"$f":"'Monthly Prices'!A55","v":"1964M01"},"1963-12-01",48,false,true,false,{"$error":"#N/A"},{"$f":"INDEX('Monthly Prices'!B55:CB55,$G$4)","v":0.15},{"$f":"IF(H67,INDEX('Monthly Prices'!B55:CB55,$G$4)*U67,FALSE)","v":false},true,{"$f":"INDEX('Monthly Prices'!B55:CB55,$G$5)","v":0.38414980236000001},{"$f":"IF(H67,INDEX('Monthly Prices'!B55:CB55,$G$5)*U67,FALSE)","v":false},true,1963,{"$f":"'Monthly Prices'!B55","v":1.45},1.4958333333333333,{"$f":"_xlfn.XLOOKUP(P67,'Annual Real'!A:A,'Annual Real'!B:B,0,0)","v":7.6863294052688698},10.291892743174348,10.291892743174348,false,false,1.6447369999999999E-2,1.3603892448419419E-3,1.0506073378236804,7,"1963-12-01",10.291892743174348]
[null,null,{"$f":"'Monthly Prices'!A56","v":"1964M02"},"1964-01-01",49,false,true,false,{"$error":"#N/A"},{"$f":"INDEX('Monthly Prices'!B56:CB56,$G$4)","v":0.15},{"$f":"IF(H68,INDEX('Monthly Prices'!B56:CB56,$G$4)*U68,FALSE)","v":false},true,{"$f":"INDEX('Monthly Prices'!B56:CB56,$G$5)","v":0.38414980236000001},{"$f":"IF(H68,INDEX('Monthly Prices'!B56:CB56,$G$5)*U68,FALSE)","v":false},true,1964,{"$f":"'Monthly Prices'!B56","v":1.45},1.4474999999999998,{"$f":"_xlfn.XLOOKUP(P68,'Annual Real'!A:A,'Annual Real'!B:B,0,0)","v":7.3275697391760097},10.277910783884506,10.277910783884506,false,false,1.6447369999999999E-2,1.3603892448419419E-3,1.0520365727466079,7,"1964-01-01",10.277910783884506]
[null,null,{"$f":"'Monthly Prices'!A57","v":"1964M03"},"1964-02-01",50,false,true,false,{"$error":"#N/A"},{"$f":"INDEX('Monthly Prices'!B57:CB57,$G$4)","v":0.15},{"$f":"IF(H69,INDEX('Monthly Prices'!B57:CB57,$G$4)*U69,FALSE)","v":false},true,{"$f":"INDEX('Monthly Prices'!B57:CB57,$G$5)","v":0.38414980236000001},{"$f":"IF(H69,INDEX('Monthly Prices'!B57:CB57,$G$5)*U69,FALSE)","v":false},true,1964,{"$f":"'Monthly Prices'!B57","v":1.45},1.4474999999999998,{"$f":"_xlfn.XLOOKUP(P69,'Annual Real'!A:A,'Annual Real'!B:B,0,0)","v":7.3275697391760097},10.26394781966102,10.26394781966102,false,false,1.6447369999999999E-2,1.3603892448419419E-3,1.0534677519853528,7,"1964-02-01",10.26394781966102]
[null,null,{"$f":"'Monthly Prices'!A58","v":"1964M04"},"1964-03-01",51,false,true,false,{"$error":"#N/A"},{"$f":"INDEX('Monthly Prices'!B58:CB58,$G$4)","v":0.15},{"$f":"IF(H70,INDEX('Monthly Prices'!B58:CB58,$G$4)*U70,FALSE)","v":false},true,{"$f":"INDEX('Monthly Prices'!B58:CB58,$G$5)","v":0.38414980236000001},{"$f":"IF(H70,INDEX('Monthly Prices'!B58:CB58,$G$5)*U70,FALSE)","v":false},true,1964,{"$f":"'Monthly Prices'!B58","v":1.45},1.4474999999999998,{"$f":"_xlfn.XLOOKUP(P70,'Annual Real'!A:A,'Annual Real'!B:B,0,0)","v":7.3275697391760097},10.252809361977892,10.252809361977892,false,false,1.311475E-2,1.0863810385897121E-3,1.0546122193758753,7,"1964-03-01",10.252809361977892]
[null,null,{"$f":"'Monthly Prices'!A59","v":"1964M05"},"1964-04-01",52,false,true,false,{"$error":"#N/A"},{"$f":"INDEX('Monthly Prices'!B59:CB59,$G$4)","v":0.15},{"$f":"IF(H71,INDEX('Monthly Prices'!B59:CB59,$G$4)*U71,FALSE)","v":false},true,{"$f":"INDEX('Monthly Prices'!B59:CB59,$G$5)","v":0.38414980236000001},{"$f":"IF(H71,INDEX('Monthly Prices'!B59:CB59,$G$5)*U71,FALSE)","v":false},true,1964,{"$f":"'Monthly Prices'!B59","v":1.45},1.4474999999999998,{"$f":"_xlfn.XLOOKUP(P71,'Annual Real'!A:A,'Annual Real'!B:B,0,0)","v":7.3275697391760097},10.241682991772384,10.241682991772384,false,false,1.311475E-2,1.0863810385897121E-3,1.0557579300940703,7,"1964-04-01",10.241682991772384]
[null,null,{"$f":"'Monthly Prices'!A60","v":"1964M06"},"1964-05-01",53,false,true,false,{"$error":"#N/A"},{"$f":"INDEX('Monthly Prices'!B60:CB60,$G$4)","v":0.15},{"$f":"IF(H72,INDEX('Monthly Prices'!B60:CB60,$G$4)*U72,FALSE)","v":false},true,{"$f":"INDEX('Monthly Prices'!B60:CB60,$G$5)","v":0.38414980236000001},{"$f":"IF(H72,INDEX('Monthly Prices'!B60:CB60,$G$5)*U72,FALSE)","v":false},true,1964,{"$f":"'Monthly Prices'!B60","v":1.45},1.4474999999999998,{"$f":"_xlfn.XLOOKUP(P72,'Annual Real'!A:A,'Annual Real'!B:B,0,0)","v":7.3275697391760097},10.230568695927142,10.230568695927142,false,false,1.311475E-2,1.0863810385897121E-3,1.0569048854906651,7,"1964-05-01",10.230568695927142]
[null,null,{"$f":"'Monthly Prices'!A61","v":"1964M07"},"1964-06-01",54,false,true,false,{"$error":"#N/A"},{"$f":"INDEX('Monthly Prices'!B61:CB61,$G$4)","v":0.15},{"$f":"IF(H73,INDEX('Monthly Prices'!B61:CB61,$G$4)*U73,FALSE)","v":false},true,{"$f":"INDEX('Monthly Prices'!B61:CB61,$G$5)","v":0.38414980236000001},{"$f":"IF(H73,INDEX('Monthly Prices'!B61:CB61,$G$5)*U73,FALSE)","v":false},true,1964,{"$f":"'Monthly Prices'!B61","v":1.45},1.4474999999999998,{"$f":"_xlfn.XLOOKUP(P73,'Annual Real'!A:A,'Annual Real'!B:B,0,0)","v":7.3275697391760097},10.219502481787408,10.219502481787408,false,false,1.3071900000000001E-2,1.0828525321515681E-3,1.0580493576221619,7,"1964-06-01",10.219502481787408]
[null,null,{"$f":"'Monthly Prices'!A62","v":"1964M08"},"1964-07-01",55,false,true,false,{"$error":"#N/A"},{"$f":"INDEX('Monthly Prices'!B62:CB62,$G$4)","v":0.15},{"$f":"IF(H74,INDEX('Monthly Prices'!B62:CB62,$G$4)*U74,FALSE)","v":false},true,{"$f":"INDEX('Monthly Prices'!B62:CB62,$G$5)","v":0.38414980236000001},{"$f":"IF(H74,INDEX('Monthly Prices'!B62:CB62,$G$5)*U74,FALSE)","v":false},true,1964,{"$f":"'Monthly Prices'!B62","v":1.45},1.4474999999999998,{"$f":"_xlfn.XLOOKUP(P74,'Annual Real'!A:A,'Annual Real'!B:B,0,0)","v":7.3275697391760097},10.208483994161611,10.208483994161611,false,false,1.302932E-2,1.0793461234890334E-3,1.0591913590947715,7,"1964-07-01",10.208483994161611]
[null,null,{"$f":"'Monthly Prices'!A63","v":"1964M09"},"1964-08-01",56,false,true,false,{"$error":"#N/A"},{"$f":"INDEX('Monthly Prices'!B63:CB63,$G$4)","v":0.15},{"$f":"IF(H75,INDEX('Monthly Prices'!B63:CB63,$G$4)*U75,FALSE)","v":false},true,{"$f":"INDEX('Monthly Prices'!B63:CB63,$G$5)","v":0.38414980236000001},{"$f":"IF(H75,INDEX('Monthly Prices'!B63:CB63,$G$5)*U75,FALSE)","v":false},true,1964,{"$f":"'Monthly Prices'!B63","v":1.45},1.4474999999999998,{"$f":"_xlfn.XLOOKUP(P75,'Annual Real'!A:A,'Annual Real'!B:B,0,0)","v":7.3275697391760097},10.200214602600521,10.200214602600521,false,false,9.7719869999999889E-3,8.1070760599311065E-4,1.0600500535857917,7,"1964-08-01",10.200214602600521]
[null,null,{"$f":"'Monthly Prices'!A64","v":"1964M10"},"1964-09-01",57,false,true,false,{"$error":"#N/A"},{"$f":"INDEX('Monthly Prices'!B64:CB64,$G$4)","v":0.15},{"$f":"IF(H76,INDEX('Monthly Prices'!B64:CB64,$G$4)*U76,FALSE)","v":false},true,{"$f":"INDEX('Monthly Prices'!B64:CB64,$G$5)","v":0.38414980236000001},{"$f":"IF(H76,INDEX('Monthly Prices'!B64:CB64,$G$5)*U76,FALSE)","v":false},true,1964,{"$f":"'Monthly Prices'!B64","v":1.45},1.4474999999999998,{"$f":"_xlfn.XLOOKUP(P76,'Annual Real'!A:A,'Annual Real'!B:B,0,0)","v":7.3275697391760097},10.189216910826433,10.189216910826433,false,false,1.302932E-2,1.0793461234890334E-3,1.0611942145018338,7,"1964-09-01",10.189216910826433]
[null,null,{"$f":"'Monthly Prices'!A65","v":"1964M11"},"1964-10-01",58,false,true,false,{"$error":"#N/A"},{"$f":"INDEX('Monthly Prices'!B65:CB65,$G$4)","v":0.15},{"$f":"IF(H77,INDEX('Monthly Prices'!B65:CB65,$G$4)*U77,FALSE)","v":false},true,{"$f":"INDEX('Monthly Prices'!B65:CB65,$G$5)","v":0.38414980236000001},{"$f":"IF(H77,INDEX('Monthly Prices'!B65:CB65,$G$5)*U77,FALSE)","v":false},true,1964,{"$f":"'Monthly Prices'!B65","v":1.45},1.4474999999999998,{"$f":"_xlfn.XLOOKUP(P77,'Annual Real'!A:A,'Annual Real'!B:B,0,0)","v":7.3275697391760097},10.180989784162081,10.180989784162081,false,false,9.7402599999999988E-3,8.0808711517899035E-4,1.0620517518732753,7,"1964-10-01",10.180989784162081]
[null,null,{"$f":"'Monthly Prices'!A66","v":"1964M12"},"1964-11-01",59,false,true,false,{"$error":"#N/A"},{"$f":"INDEX('Monthly Prices'!B66:CB66,$G$4)","v":0.15},{"$f":"IF(H78,INDEX('Monthly Prices'!B66:CB66,$G$4)*U78,FALSE)","v":false},true,{"$f":"INDEX('Monthly Prices'!B66:CB66,$G$5)","v":0.38414980236000001},{"$f":"IF(H78,INDEX('Monthly Prices'!B66:CB66,$G$5)*U78,FALSE)","v":false},true,1964,{"$f":"'Monthly Prices'!B66","v":1.45},1.4474999999999998,{"$f":"_xlfn.XLOOKUP(P78,'Annual Real'!A:A,'Annual Real'!B:B,0,0)","v":7.3275697391760097},10.170048217626395,10.170048217626395,false,false,1.298701E-2,1.075861815160728E-3,1.0631943727988402,7,"1964-11-01",10.170048217626395]
[null,null,{"$f":"'Monthly Prices'!A67","v":"1965M01"},"1964-12-01",60,false,true,false,{"$error":"#N/A"},{"$f":"INDEX('Monthly Prices'!B67:CB67,$G$4)","v":0.16},{"$f":"IF(H79,INDEX('Monthly Prices'!B67:CB67,$G$4)*U79,FALSE)","v":false},true,{"$f":"INDEX('Monthly Prices'!B67:CB67,$G$5)","v":0.41076610522000001},{"$f":"IF(H79,INDEX('Monthly Prices'!B67:CB67,$G$5)*U79,FALSE)","v":false},true,1964,{"$f":"'Monthly Prices'!B67","v":1.42},1.4474999999999998,{"$f":"_xlfn.XLOOKUP(P79,'Annual Real'!A:A,'Annual Real'!B:B,0,0)","v":7.3275697391760097},10.161863004833849,10.161863004833849,false,false,9.7087379999999997E-3,8.0548348158715477E-4,1.0640507583038461,7,"1964-12-01",10.161863004833849]
[null,null,{"$f":"'Monthly Prices'!A68","v":"1965M02"},"1965-01-01",61,false,true,false,{"$error":"#N/A"},{"$f":"INDEX('Monthly Prices'!B68:CB68,$G$4)","v":0.16},{"$f":"IF(H80,INDEX('Monthly Prices'!B68:CB68,$G$4)*U80,FALSE)","v":false},true,{"$f":"INDEX('Monthly Prices'!B68:CB68,$G$5)","v":0.41076610522000001},{"$f":"IF(H80,INDEX('Monthly Prices'!B68:CB68,$G$5)*U80,FALSE)","v":false},true,1965,{"$f":"'Monthly Prices'!B68","v":1.42},1.415,{"$f":"_xlfn.XLOOKUP(P80,'Annual Real'!A:A,'Annual Real'!B:B,0,0)","v":7.1075940147544996},10.153684379788681,10.153684379788681,false,false,9.7087379999999997E-3,8.0548348158715477E-4,1.06490783361323,7,"1965-01-01",10.153684379788681]
[null,null,{"$f":"'Monthly Prices'!A69","v":"1965M03"},"1965-02-01",62,false,true,false,{"$error":"#N/A"},{"$f":"INDEX('Monthly Prices'!B69:CB69,$G$4)","v":0.16},{"$f":"IF(H81,INDEX('Monthly Prices'!B69:CB69,$G$4)*U81,FALSE)","v":false},true,{"$f":"INDEX('Monthly Prices'!B69:CB69,$G$5)","v":0.41076610522000001},{"$f":"IF(H81,INDEX('Monthly Prices'!B69:CB69,$G$5)*U81,FALSE)","v":false},true,1965,{"$f":"'Monthly Prices'!B69","v":1.42},1.415,{"$f":"_xlfn.XLOOKUP(P81,'Annual Real'!A:A,'Annual Real'!B:B,0,0)","v":7.1075940147544996},10.145512337188837,10.145512337188837,false,false,9.7087379999999997E-3,8.0548348158715477E-4,1.0657655992826183,7,"1965-02-01",10.145512337188837]
[null,null,{"$f":"'Monthly Prices'!A70","v":"1965M04"},"1965-03-01",63,false,true,false,{"$error":"#N/A"},{"$f":"INDEX('Monthly Prices'!B70:CB70,$G$4)","v":0.16},{"$f":"IF(H82,INDEX('Monthly Prices'!B70:CB70,$G$4)*U82,FALSE)","v":false},true,{"$f":"INDEX('Monthly Prices'!B70:CB70,$G$5)","v":0.41076610522000001},{"$f":"IF(H82,INDEX('Monthly Prices'!B70:CB70,$G$5)*U82,FALSE)","v":false},true,1965,{"$f":"'Monthly Prices'!B70","v":1.42},1.415,{"$f":"_xlfn.XLOOKUP(P82,'Annual Real'!A:A,'Annual Real'!B:B,0,0)","v":7.1075940147544996},10.134643940635799,10.134643940635799,false,false,1.294498E-2,1.0724004332762771E-3,1.0669085267730598,7,"1965-03-01",10.134643940635799]
[null,null,{"$f":"'Monthly Prices'!A71","v":"1965M05"},"1965-04-01",64,false,true,false,{"$error":"#N/A"},{"$f":"INDEX('Monthly Prices'!B71:CB71,$G$4)","v":0.16},{"$f":"IF(H83,INDEX('Monthly Prices'!B71:CB71,$G$4)*U83,FALSE)","v":false},true,{"$f":"INDEX('Monthly Prices'!B71:CB71,$G$5)","v":0.41076610522000001},{"$f":"IF(H83,INDEX('Monthly Prices'!B71:CB71,$G$5)*U83,FALSE)","v":false},true,1965,{"$f":"'Monthly Prices'!B71","v":1.42},1.415,{"$f":"_xlfn.XLOOKUP(P83,'Annual Real'!A:A,'Annual Real'!B:B,0,0)","v":7.1075940147544996},10.121096473679218,10.121096473679218,false,false,1.6181230000000001E-2,1.3385374788010829E-3,1.068336623822598,7,"1965-04-01",10.121096473679218]
[null,null,{"$f":"'Monthly Prices'!A72","v":"1965M06"},"1965-05-01",65,{"$f":"AND(E84>=$M$4,L84)","v":false},{"$f":"AND(E84<=$M$5,O84)","v":true},{"$f":"AND(F84:G84)","v":false},{"$f":"IF(H84,D84,NA)","v":{"$error":"#N/A"}},{"$f":"INDEX('Monthly Prices'!B72:CB72,$G$4)","v":0.16},{"$f":"IF(H84,INDEX('Monthly Prices'!B72:CB72,$G$4)*U84,FALSE)","v":false},true,{"$f":"INDEX('Monthly Prices'!B72:CB72,$G$5)","v":0.41076610522000001},{"$f":"IF(H84,INDEX('Monthly Prices'!B72:CB72,$G$5)*U84,FALSE)","v":false},{"$f":"AND(ISNUMBER(M84),M84>0)","v":true},1965,{"$f":"'Monthly Prices'!B72","v":1.42},1.415,{"$f":"_xlfn.XLOOKUP(P84,'Annual Real'!A:A,'Annual Real'!B:B,0,0)","v":7.1075940147544996},10.107567116274586,10.107567116274586,false,false,1.6181230000000001E-2,1.3385374788010829E-3,1.0697666324335604,7,"1965-05-01",10.107567116274586]
[null,null,{"$f":"'Monthly Prices'!A73","v":"1965M07"},{"$f":"EDATE(D84,1)","v":"1965-06-01"},{"$f":"E84+1","v":66},false,true,false,{"$error":"#N/A"},{"$f":"INDEX('Monthly Prices'!B73:CB73,$G$4)","v":0.16},{"$f":"IF(H85,INDEX('Monthly Prices'!B73:CB73,$G$4)*U85,FALSE)","v":false},{"$f":"ISNUMBER(J85)","v":true},{"$f":"INDEX('Monthly Prices'!B73:CB73,$G$5)","v":0.41076610522000001},{"$f":"IF(H85,INDEX('Monthly Prices'!B73:CB73,$G$5)*U85,FALSE)","v":false},true,{"$f":"YEAR(D85)","v":1965},{"$f":"'Monthly Prices'!B73","v":1.42},{"$f":"AVERAGEIF(P:P,P85,Q:Q)","v":1.415},{"$f":"_xlfn.XLOOKUP(P85,'Annual Real'!A:A,'Annual Real'!B:B,0,0)","v":7.1075940147544996},{"$f":"AC85","v":10.091433237713449},{"$f":"IF($U$19,T85,1)","v":10.091433237713449},false,false,{"$f":"LOOKUP(D85,INDIRECT(\"'\"&$X$14&\"'!A:A\"),INDIRECT(\"'\"&$X$14&\"'!B:B\"))/100","v":1.9354839999999998E-2},{"$f":"(1+X85)^(1/12)-1","v":1.5987697863215633E-3},{"$f":"Z84*(1+Y85)","v":1.0714769430039102},{"$f":"LEN(C85)","v":7},{"$f":"IF(AA85>2,D85,0)","v":"1965-06-01"},{"$f":"$AC$17/Z85","v":10.091433237713449}]
[null,null,{"$f":"'Monthly Prices'!A74","v":"1965M08"},"1965-07-01",67,false,true,false,{"$error":"#N/A"},{"$f":"INDEX('Monthly Prices'!B74:CB74,$G$4)","v":0.16},{"$f":"IF(H86,INDEX('Monthly Prices'!B74:CB74,$G$4)*U86,FALSE)","v":false},true,{"$f":"INDEX('Monthly Prices'!B74:CB74,$G$5)","v":0.41076610522000001},{"$f":"IF(H86,INDEX('Monthly Prices'!B74:CB74,$G$5)*U86,FALSE)","v":false},true,1965,{"$f":"'Monthly Prices'!B74","v":1.42},1.415,{"$f":"_xlfn.XLOOKUP(P86,'Annual Real'!A:A,'Annual Real'!B:B,0,0)","v":7.1075940147544996},10.078029538322102,10.078029538322102,{"$f":"IF(AND(H85,H86),LN(K86/K85))","v":false},{"$f":"IF(AND($H85,$H86),LN(N86/N85))","v":false},1.6077170000000002E-2,1.3299920723965908E-3,1.0729019988438611,7,"1965-07-01",10.078029538322102]
[null,null,{"$f":"'Monthly Prices'!A75","v":"1965M09"},"1965-08-01",68,false,true,false,{"$error":"#N/A"},{"$f":"INDEX('Monthly Prices'!B75:CB75,$G$4)","v":0.16},{"$f":"IF(H87,INDEX('Monthly Prices'!B75:CB75,$G$4)*U87,FALSE)","v":false},true,{"$f":"INDEX('Monthly Prices'!B75:CB75,$G$5)","v":0.41076610522000001},{"$f":"IF(H87,INDEX('Monthly Prices'!B75:CB75,$G$5)*U87,FALSE)","v":false},true,1965,{"$f":"'Monthly Prices'!B75","v":1.42},1.415,{"$f":"_xlfn.XLOOKUP(P87,'Annual Real'!A:A,'Annual Real'!B:B,0,0)","v":7.1075940147544996},10.061942808168707,10.061942808168707,false,false,1.9354839999999998E-2,1.5987697863215633E-3,1.0746173221432966,7,"1965-08-01",10.061942808168707]
[null,null,{"$f":"'Monthly Prices'!A76","v":"1965M10"},"1965-09-01",69,false,true,false,{"$error":"#N/A"},{"$f":"INDEX('Monthly Prices'!B76:CB76,$G$4)","v":0.16},{"$f":"IF(H88,INDEX('Monthly Prices'!B76:CB76,$G$4)*U88,FALSE)","v":false},true,{"$f":"INDEX('Monthly Prices'!B76:CB76,$G$5)","v":0.41076610522000001},{"$f":"IF(H88,INDEX('Monthly Prices'!B76:CB76,$G$5)*U88,FALSE)","v":false},true,1965,{"$f":"'Monthly Prices'!B76","v":1.42},1.415,{"$f":"_xlfn.XLOOKUP(P88,'Annual Real'!A:A,'Annual Real'!B:B,0,0)","v":7.1075940147544996},10.048578278719154,10.048578278719154,false,false,1.6077170000000002E-2,1.3299920723965908E-3,1.0760465546626072,7,"1965-09-01",10.048578278719154]
[null,null,{"$f":"'Monthly Prices'!A77","v":"1965M11"},"1965-10-01",70,false,true,false,{"$error":"#N/A"},{"$f":"INDEX('Monthly Prices'!B77:CB77,$G$4)","v":0.16},{"$f":"IF(H89,INDEX('Monthly Prices'!B77:CB77,$G$4)*U89,FALSE)","v":false},true,{"$f":"INDEX('Monthly Prices'!B77:CB77,$G$5)","v":0.41076610522000001},{"$f":"IF(H89,INDEX('Monthly Prices'!B77:CB77,$G$5)*U89,FALSE)","v":false},true,1965,{"$f":"'Monthly Prices'!B77","v":1.42},1.415,{"$f":"_xlfn.XLOOKUP(P89,'Annual Real'!A:A,'Annual Real'!B:B,0,0)","v":7.1075940147544996},10.032589608297691,10.032589608297691,false,false,1.9292599999999899E-2,1.5936733232104761E-3,1.0777614213513056,7,"1965-10-01",10.032589608297691]
[null,null,{"$f":"'Monthly Prices'!A78","v":"1965M12"},"1965-11-01",71,false,true,false,{"$error":"#N/A"},{"$f":"INDEX('Monthly Prices'!B78:CB78,$G$4)","v":0.16},{"$f":"IF(H90,INDEX('Monthly Prices'!B78:CB78,$G$4)*U90,FALSE)","v":false},true,{"$f":"INDEX('Monthly Prices'!B78:CB78,$G$5)","v":0.41076610522000001},{"$f":"IF(H90,INDEX('Monthly Prices'!B78:CB78,$G$5)*U90,FALSE)","v":false},true,1965,{"$f":"'Monthly Prices'!B78","v":1.42},1.415,{"$f":"_xlfn.XLOOKUP(P90,'Annual Real'!A:A,'Annual Real'!B:B,0,0)","v":7.1075940147544996},10.019306411305347,10.019306411305347,false,false,1.60256399999999E-2,1.3257601321938761E-3,1.0791902744757498,7,"1965-11-01",10.019306411305347]
[null,null,{"$f":"'Monthly Prices'!A79","v":"1966M01"},"1965-12-01",72,false,true,false,{"$error":"#N/A"},{"$f":"INDEX('Monthly Prices'!B79:CB79,$G$4)","v":0.16},{"$f":"IF(H91,INDEX('Monthly Prices'!B79:CB79,$G$4)*U91,FALSE)","v":false},true,{"$f":"INDEX('Monthly Prices'!B79:CB79,$G$5)","v":0.42492866513999999},{"$f":"IF(H91,INDEX('Monthly Prices'!B79:CB79,$G$5)*U91,FALSE)","v":false},true,1965,{"$f":"'Monthly Prices'!B79","v":1.36},1.415,{"$f":"_xlfn.XLOOKUP(P91,'Annual Real'!A:A,'Annual Real'!B:B,0,0)","v":7.1075940147544996},10.003414884883595,10.003414884883595,false,false,1.9230769999999998E-2,1.5886101500965921E-3,1.0809046870996675,7,"1965-12-01",10.003414884883595]
[null,null,{"$f":"'Monthly Prices'!A80","v":"1966M02"},"1966-01-01",73,false,true,false,{"$error":"#N/A"},{"$f":"INDEX('Monthly Prices'!B80:CB80,$G$4)","v":0.16},{"$f":"IF(H92,INDEX('Monthly Prices'!B80:CB80,$G$4)*U92,FALSE)","v":false},true,{"$f":"INDEX('Monthly Prices'!B80:CB80,$G$5)","v":0.42492866513999999},{"$f":"IF(H92,INDEX('Monthly Prices'!B80:CB80,$G$5)*U92,FALSE)","v":false},true,1966,{"$f":"'Monthly Prices'!B80","v":1.36},1.3574999999999999,{"$f":"_xlfn.XLOOKUP(P92,'Annual Real'!A:A,'Annual Real'!B:B,0,0)","v":6.5652246752346803},9.9875485638604626,9.9875485638604626,false,false,1.9230769999999998E-2,1.5886101500965921E-3,1.0826218232568809,7,"1966-01-01",9.9875485638604626]
[null,null,{"$f":"'Monthly Prices'!A81","v":"1966M03"},"1966-02-01",74,false,true,false,{"$error":"#N/A"},{"$f":"INDEX('Monthly Prices'!B81:CB81,$G$4)","v":0.16},{"$f":"IF(H93,INDEX('Monthly Prices'!B81:CB81,$G$4)*U93,FALSE)","v":false},true,{"$f":"INDEX('Monthly Prices'!B81:CB81,$G$5)","v":0.42492866513999999},{"$f":"IF(H93,INDEX('Monthly Prices'!B81:CB81,$G$5)*U93,FALSE)","v":false},true,1966,{"$f":"'Monthly Prices'!B81","v":1.36},1.3574999999999999,{"$f":"_xlfn.XLOOKUP(P93,'Annual Real'!A:A,'Annual Real'!B:B,0,0)","v":6.5652246752346803},9.9664988705745952,9.9664988705745952,false,false,2.5641029999999999E-2,2.1120449176006417E-3,1.0849083691763741,7,"1966-02-01",9.9664988705745952]
[null,null,{"$f":"'Monthly Prices'!A82","v":"1966M04"},"1966-03-01",75,false,true,false,{"$error":"#N/A"},{"$f":"INDEX('Monthly Prices'!B82:CB82,$G$4)","v":0.16},{"$f":"IF(H94,INDEX('Monthly Prices'!B82:CB82,$G$4)*U94,FALSE)","v":false},true,{"$f":"INDEX('Monthly Prices'!B82:CB82,$G$5)","v":0.42492866513999999},{"$f":"IF(H94,INDEX('Monthly Prices'!B82:CB82,$G$5)*U94,FALSE)","v":false},true,1966,{"$f":"'Monthly Prices'!B82","v":1.36},1.3574999999999999,{"$f":"_xlfn.XLOOKUP(P94,'Annual Real'!A:A,'Annual Real'!B:B,0,0)","v":6.5652246752346803},9.9455597415561119,9.9455597415561119,false,false,2.5559109999999999E-2,2.1053746156680653E-3,1.0871925077171638,7,"1966-03-01",9.9455597415561119]
[null,null,{"$f":"'Monthly Prices'!A83","v":"1966M05"},"1966-04-01",76,false,true,false,{"$error":"#N/A"},{"$f":"INDEX('Monthly Prices'!B83:CB83,$G$4)","v":0.16},{"$f":"IF(H95,INDEX('Monthly Prices'!B83:CB83,$G$4)*U95,FALSE)","v":false},true,{"$f":"INDEX('Monthly Prices'!B83:CB83,$G$5)","v":0.42492866513999999},{"$f":"IF(H95,INDEX('Monthly Prices'!B83:CB83,$G$5)*U95,FALSE)","v":false},true,1966,{"$f":"'Monthly Prices'!B83","v":1.36},1.3574999999999999,{"$f":"_xlfn.XLOOKUP(P95,'Annual Real'!A:A,'Annual Real'!B:B,0,0)","v":6.5652246752346803},9.9221660541362127,9.9221660541362127,false,false,2.86624199999999E-2,2.3577198055606541E-3,1.0897558030250658,7,"1966-04-01",9.9221660541362127]
[null,null,{"$f":"'Monthly Prices'!A84","v":"1966M06"},"1966-05-01",77,false,true,false,{"$error":"#N/A"},{"$f":"INDEX('Monthly Prices'!B84:CB84,$G$4)","v":0.16},{"$f":"IF(H96,INDEX('Monthly Prices'!B84:CB84,$G$4)*U96,FALSE)","v":false},true,{"$f":"INDEX('Monthly Prices'!B84:CB84,$G$5)","v":0.42492866513999999},{"$f":"IF(H96,INDEX('Monthly Prices'!B84:CB84,$G$5)*U96,FALSE)","v":false},true,1966,{"$f":"'Monthly Prices'!B84","v":1.36},1.3574999999999999,{"$f":"_xlfn.XLOOKUP(P96,'Annual Real'!A:A,'Annual Real'!B:B,0,0)","v":6.5652246752346803},9.8988273927405235,9.8988273927405235,false,false,2.86624199999999E-2,2.3577198055606541E-3,1.0923251418650826,7,"1966-05-01",9.8988273927405235]
[null,null,{"$f":"'Monthly Prices'!A85","v":"1966M07"},"1966-06-01",78,false,true,false,{"$error":"#N/A"},{"$f":"INDEX('Monthly Prices'!B85:CB85,$G$4)","v":0.16},{"$f":"IF(H97,INDEX('Monthly Prices'!B85:CB85,$G$4)*U97,FALSE)","v":false},true,{"$f":"INDEX('Monthly Prices'!B85:CB85,$G$5)","v":0.42492866513999999},{"$f":"IF(H97,INDEX('Monthly Prices'!B85:CB85,$G$5)*U97,FALSE)","v":false},true,1966,{"$f":"'Monthly Prices'!B85","v":1.36},1.3574999999999999,{"$f":"_xlfn.XLOOKUP(P97,'Annual Real'!A:A,'Annual Real'!B:B,0,0)","v":6.5652246752346803},9.8782252271804829,9.8782252271804829,false,false,2.5316459999999999E-2,2.08561407400909E-3,1.0946033105543505,7,"1966-06-01",9.8782252271804829]
[null,null,{"$f":"'Monthly Prices'!A86","v":"1966M08"},"1966-07-01",79,false,true,false,{"$error":"#N/A"},{"$f":"INDEX('Monthly Prices'!B86:CB86,$G$4)","v":0.16},{"$f":"IF(H98,INDEX('Monthly Prices'!B86:CB86,$G$4)*U98,FALSE)","v":false},true,{"$f":"INDEX('Monthly Prices'!B86:CB86,$G$5)","v":0.42492866513999999},{"$f":"IF(H98,INDEX('Monthly Prices'!B86:CB86,$G$5)*U98,FALSE)","v":false},true,1966,{"$f":"'Monthly Prices'!B86","v":1.36},1.3574999999999999,{"$f":"_xlfn.XLOOKUP(P98,'Annual Real'!A:A,'Annual Real'!B:B,0,0)","v":6.5652246752346803},9.8551347676804077,9.8551347676804077,false,false,2.84810099999999E-2,2.3429876956932993E-3,1.0971679526426446,7,"1966-07-01",9.8551347676804077]
[null,null,{"$f":"'Monthly Prices'!A87","v":"1966M09"},"1966-08-01",80,false,true,false,{"$error":"#N/A"},{"$f":"INDEX('Monthly Prices'!B87:CB87,$G$4)","v":0.16},{"$f":"IF(H99,INDEX('Monthly Prices'!B87:CB87,$G$4)*U99,FALSE)","v":false},true,{"$f":"INDEX('Monthly Prices'!B87:CB87,$G$5)","v":0.42492866513999999},{"$f":"IF(H99,INDEX('Monthly Prices'!B87:CB87,$G$5)*U99,FALSE)","v":false},true,1966,{"$f":"'Monthly Prices'!B87","v":1.36},1.3574999999999999,{"$f":"_xlfn.XLOOKUP(P99,'Annual Real'!A:A,'Annual Real'!B:B,0,0)","v":6.5652246752346803},9.8270729113971704,9.8270729113971704,false,false,3.4810130000000002E-2,2.855566101549023E-3,1.1003009882559169,7,"1966-08-01",9.8270729113971704]
[null,null,{"$f":"'Monthly Prices'!A88","v":"1966M10"},"1966-09-01",81,false,true,false,{"$error":"#N/A"},{"$f":"INDEX('Monthly Prices'!B88:CB88,$G$4)","v":0.16},{"$f":"IF(H100,INDEX('Monthly Prices'!B88:CB88,$G$4)*U100,FALSE)","v":false},true,{"$f":"INDEX('Monthly Prices'!B88:CB88,$G$5)","v":0.42492866513999999},{"$f":"IF(H100,INDEX('Monthly Prices'!B88:CB88,$G$5)*U100,FALSE)","v":false},true,1966,{"$f":"'Monthly Prices'!B88","v":1.36},1.3574999999999999,{"$f":"_xlfn.XLOOKUP(P100,'Annual Real'!A:A,'Annual Real'!B:B,0,0)","v":6.5652246752346803},9.7990909594274331,9.7990909594274331,false,false,3.4810130000000002E-2,2.855566101549023E-3,1.1034429704594815,7,"1966-09-01",9.7990909594274331]
[null,null,{"$f":"'Monthly Prices'!A89","v":"1966M11"},"1966-10-01",82,false,true,false,{"$error":"#N/A"},{"$f":"INDEX('Monthly Prices'!B89:CB89,$G$4)","v":0.16},{"$f":"IF(H101,INDEX('Monthly Prices'!B89:CB89,$G$4)*U101,FALSE)","v":false},true,{"$f":"INDEX('Monthly Prices'!B89:CB89,$G$5)","v":0.42492866513999999},{"$f":"IF(H101,INDEX('Monthly Prices'!B89:CB89,$G$5)*U101,FALSE)","v":false},true,1966,{"$f":"'Monthly Prices'!B89","v":1.36},1.3574999999999999,{"$f":"_xlfn.XLOOKUP(P101,'Annual Real'!A:A,'Annual Real'!B:B,0,0)","v":6.5652246752346803},9.7687966508171105,9.7687966508171105,false,false,3.7854890000000002E-2,3.1011300258552144E-3,1.1068648905869922,7,"1966-10-01",9.7687966508171105]
[null,null,{"$f":"'Monthly Prices'!A90","v":"1966M12"},"1966-11-01",83,false,true,false,{"$error":"#N/A"},{"$f":"INDEX('Monthly Prices'!B90:CB90,$G$4)","v":0.16},{"$f":"IF(H102,INDEX('Monthly Prices'!B90:CB90,$G$4)*U102,FALSE)","v":false},true,{"$f":"INDEX('Monthly Prices'!B90:CB90,$G$5)","v":0.42492866513999999},{"$f":"IF(H102,INDEX('Monthly Prices'!B90:CB90,$G$5)*U102,FALSE)","v":false},true,1966,{"$f":"'Monthly Prices'!B90","v":1.36},1.3574999999999999,{"$f":"_xlfn.XLOOKUP(P102,'Annual Real'!A:A,'Annual Real'!B:B,0,0)","v":6.5652246752346803},9.7385959983569332,9.7385959983569332,false,false,3.7854890000000002E-2,3.1011300258552144E-3,1.1102974225337565,7,"1966-11-01",9.7385959983569332]
[null,null,{"$f":"'Monthly Prices'!A91","v":"1967M01"},"1966-12-01",84,false,true,false,{"$error":"#N/A"},{"$f":"INDEX('Monthly Prices'!B91:CB91,$G$4)","v":0.16},{"$f":"IF(H103,INDEX('Monthly Prices'!B91:CB91,$G$4)*U103,FALSE)","v":false},true,{"$f":"INDEX('Monthly Prices'!B91:CB91,$G$5)","v":0.45664737628000002},{"$f":"IF(H103,INDEX('Monthly Prices'!B91:CB91,$G$5)*U103,FALSE)","v":false},true,1966,{"$f":"'Monthly Prices'!B91","v":1.33},1.3574999999999999,{"$f":"_xlfn.XLOOKUP(P103,'Annual Real'!A:A,'Annual Real'!B:B,0,0)","v":6.5652246752346803},9.7110372051966234,9.7110372051966234,false,false,3.4591199999999905E-2,2.8378835934808055E-3,1.1134483173730492,7,"1966-12-01",9.7110372051966234]
[null,null,{"$f":"'Monthly Prices'!A92","v":"1967M02"},"1967-01-01",85,false,true,false,{"$error":"#N/A"},{"$f":"INDEX('Monthly Prices'!B92:CB92,$G$4)","v":0.16},{"$f":"IF(H104,INDEX('Monthly Prices'!B92:CB92,$G$4)*U104,FALSE)","v":false},true,{"$f":"INDEX('Monthly Prices'!B92:CB92,$G$5)","v":0.45664737628000002},{"$f":"IF(H104,INDEX('Monthly Prices'!B92:CB92,$G$5)*U104,FALSE)","v":false},true,1967,{"$f":"'Monthly Prices'!B92","v":1.33},1.3291666666666668,{"$f":"_xlfn.XLOOKUP(P104,'Annual Real'!A:A,'Annual Real'!B:B,0,0)","v":6.3644633930138399},9.6835563993643206,9.6835563993643206,false,false,3.4591199999999905E-2,2.8378835934808055E-3,1.1166081540851109,7,"1967-01-01",9.6835563993643206]
[null,null,{"$f":"'Monthly Prices'!A93","v":"1967M03"},"1967-02-01",86,false,true,false,{"$error":"#N/A"},{"$f":"INDEX('Monthly Prices'!B93:CB93,$G$4)","v":0.16},{"$f":"IF(H105,INDEX('Monthly Prices'!B93:CB93,$G$4)*U105,FALSE)","v":false},true,{"$f":"INDEX('Monthly Prices'!B93:CB93,$G$5)","v":0.45664737628000002},{"$f":"IF(H105,INDEX('Monthly Prices'!B93:CB93,$G$5)*U105,FALSE)","v":false},true,1967,{"$f":"'Monthly Prices'!B93","v":1.33},1.3291666666666668,{"$f":"_xlfn.XLOOKUP(P105,'Annual Real'!A:A,'Annual Real'!B:B,0,0)","v":6.3644633930138399},9.6611997109753904,9.6611997109753904,false,false,2.8125000000000001E-2,2.3140695832559732E-3,1.1191920630508949,7,"1967-02-01",9.6611997109753904]
[null,null,{"$f":"'Monthly Prices'!A94","v":"1967M04"},"1967-03-01",87,false,true,false,{"$error":"#N/A"},{"$f":"INDEX('Monthly Prices'!B94:CB94,$G$4)","v":0.16},{"$f":"IF(H106,INDEX('Monthly Prices'!B94:CB94,$G$4)*U106,FALSE)","v":false},true,{"$f":"INDEX('Monthly Prices'!B94:CB94,$G$5)","v":0.45664737628000002},{"$f":"IF(H106,INDEX('Monthly Prices'!B94:CB94,$G$5)*U106,FALSE)","v":false},true,1967,{"$f":"'Monthly Prices'!B94","v":1.33},1.3291666666666668,{"$f":"_xlfn.XLOOKUP(P106,'Annual Real'!A:A,'Annual Real'!B:B,0,0)","v":6.3644633930138399},9.6389630959444812,9.6389630959444812,false,false,2.8037380000000001E-2,2.3069509458195636E-3,1.121773984239304,7,"1967-03-01",9.6389630959444812]
[null,null,{"$f":"'Monthly Prices'!A95","v":"1967M05"},"1967-04-01",88,false,true,false,{"$error":"#N/A"},{"$f":"INDEX('Monthly Prices'!B95:CB95,$G$4)","v":0.16},{"$f":"IF(H107,INDEX('Monthly Prices'!B95:CB95,$G$4)*U107,FALSE)","v":false},true,{"$f":"INDEX('Monthly Prices'!B95:CB95,$G$5)","v":0.45664737628000002},{"$f":"IF(H107,INDEX('Monthly Prices'!B95:CB95,$G$5)*U107,FALSE)","v":false},true,1967,{"$f":"'Monthly Prices'!B95","v":1.33},1.3291666666666668,{"$f":"_xlfn.XLOOKUP(P107,'Annual Real'!A:A,'Annual Real'!B:B,0,0)","v":6.3644633930138399},9.6193308365431989,9.6193308365431989,false,false,2.4767799999999899E-2,2.0409173709570183E-3,1.1240634322500256,7,"1967-04-01",9.6193308365431989]
[null,null,{"$f":"'Monthly Prices'!A96","v":"1967M06"},"1967-05-01",89,false,true,false,{"$error":"#N/A"},{"$f":"INDEX('Monthly Prices'!B96:CB96,$G$4)","v":0.16},{"$f":"IF(H108,INDEX('Monthly Prices'!B96:CB96,$G$4)*U108,FALSE)","v":false},true,{"$f":"INDEX('Monthly Prices'!B96:CB96,$G$5)","v":0.45664737628000002},{"$f":"IF(H108,INDEX('Monthly Prices'!B96:CB96,$G$5)*U108,FALSE)","v":false},true,1967,{"$f":"'Monthly Prices'!B96","v":1.33},1.3291666666666668,{"$f":"_xlfn.XLOOKUP(P108,'Annual Real'!A:A,'Annual Real'!B:B,0,0)","v":6.3644633930138399},9.5973256538217768,9.5973256538217768,false,false,2.7863780000000001E-2,2.2928452691046708E-3,1.1266407357728336,7,"1967-05-01",9.5973256538217768]
[null,null,{"$f":"'Monthly Prices'!A97","v":"1967M07"},"1967-06-01",90,false,true,false,{"$error":"#N/A"},{"$f":"INDEX('Monthly Prices'!B97:CB97,$G$4)","v":0.16},{"$f":"IF(H109,INDEX('Monthly Prices'!B97:CB97,$G$4)*U109,FALSE)","v":false},true,{"$f":"INDEX('Monthly Prices'!B97:CB97,$G$5)","v":0.45664737628000002},{"$f":"IF(H109,INDEX('Monthly Prices'!B97:CB97,$G$5)*U109,FALSE)","v":false},true,1967,{"$f":"'Monthly Prices'!B97","v":1.33},1.3291666666666668,{"$f":"_xlfn.XLOOKUP(P109,'Annual Real'!A:A,'Annual Real'!B:B,0,0)","v":6.3644633930138399},9.5754375764009616,9.5754375764009616,false,false,2.7777780000000002E-2,2.2858566249503998E-3,1.129216074962639,7,"1967-06-01",9.5754375764009616]
[null,null,{"$f":"'Monthly Prices'!A98","v":"1967M08"},"1967-07-01",91,false,true,false,{"$error":"#N/A"},{"$f":"INDEX('Monthly Prices'!B98:CB98,$G$4)","v":0.16},{"$f":"IF(H110,INDEX('Monthly Prices'!B98:CB98,$G$4)*U110,FALSE)","v":false},true,{"$f":"INDEX('Monthly Prices'!B98:CB98,$G$5)","v":0.45664737628000002},{"$f":"IF(H110,INDEX('Monthly Prices'!B98:CB98,$G$5)*U110,FALSE)","v":false},true,1967,{"$f":"'Monthly Prices'!B98","v":1.33},1.3291666666666668,{"$f":"_xlfn.XLOOKUP(P110,'Annual Real'!A:A,'Annual Real'!B:B,0,0)","v":6.3644633930138399},9.5536656273057421,9.5536656273057421,false,false,2.7692310000000001E-2,2.278910519224242E-3,1.1317894573543485,7,"1967-07-01",9.5536656273057421]
[null,null,{"$f":"'Monthly Prices'!A99","v":"1967M09"},"1967-08-01",92,false,true,false,{"$error":"#N/A"},{"$f":"INDEX('Monthly Prices'!B99:CB99,$G$4)","v":0.16},{"$f":"IF(H111,INDEX('Monthly Prices'!B99:CB99,$G$4)*U111,FALSE)","v":false},true,{"$f":"INDEX('Monthly Prices'!B99:CB99,$G$5)","v":0.45664737628000002},{"$f":"IF(H111,INDEX('Monthly Prices'!B99:CB99,$G$5)*U111,FALSE)","v":false},true,1967,{"$f":"'Monthly Prices'!B99","v":1.33},1.3291666666666668,{"$f":"_xlfn.XLOOKUP(P111,'Annual Real'!A:A,'Annual Real'!B:B,0,0)","v":6.3644633930138399},9.5344420330564805,9.5344420330564805,false,false,2.4464830000000003E-2,2.0162264537990637E-3,1.1340714011983972,7,"1967-08-01",9.5344420330564805]
[null,null,{"$f":"'Monthly Prices'!A100","v":"1967M10"},"1967-09-01",93,false,true,false,{"$error":"#N/A"},{"$f":"INDEX('Monthly Prices'!B100:CB100,$G$4)","v":0.16},{"$f":"IF(H112,INDEX('Monthly Prices'!B100:CB100,$G$4)*U112,FALSE)","v":false},true,{"$f":"INDEX('Monthly Prices'!B100:CB100,$G$5)","v":0.45664737628000002},{"$f":"IF(H112,INDEX('Monthly Prices'!B100:CB100,$G$5)*U112,FALSE)","v":false},true,1967,{"$f":"'Monthly Prices'!B100","v":1.33},1.3291666666666668,{"$f":"_xlfn.XLOOKUP(P112,'Annual Real'!A:A,'Annual Real'!B:B,0,0)","v":6.3644633930138399},9.51289395519143,9.51289395519143,false,false,2.7522939999999999E-2,2.2651443363659318E-3,1.1366402366098562,7,"1967-09-01",9.51289395519143]
[null,null,{"$f":"'Monthly Prices'!A101","v":"1967M11"},"1967-10-01",94,false,true,false,{"$error":"#N/A"},{"$f":"INDEX('Monthly Prices'!B101:CB101,$G$4)","v":0.16},{"$f":"IF(H113,INDEX('Monthly Prices'!B101:CB101,$G$4)*U113,FALSE)","v":false},true,{"$f":"INDEX('Monthly Prices'!B101:CB101,$G$5)","v":0.45664737628000002},{"$f":"IF(H113,INDEX('Monthly Prices'!B101:CB101,$G$5)*U113,FALSE)","v":false},true,1967,{"$f":"'Monthly Prices'!B101","v":1.33},1.3291666666666668,{"$f":"_xlfn.XLOOKUP(P113,'Annual Real'!A:A,'Annual Real'!B:B,0,0)","v":6.3644633930138399},9.4938672589531095,9.4938672589531095,false,false,2.4316110000000002E-2,2.0041038829965441E-3,1.1389181817216161,7,"1967-10-01",9.4938672589531095]
[null,null,{"$f":"'Monthly Prices'!A102","v":"1967M12"},"1967-11-01",95,false,true,false,{"$error":"#N/A"},{"$f":"INDEX('Monthly Prices'!B102:CB102,$G$4)","v":0.16},{"$f":"IF(H114,INDEX('Monthly Prices'!B102:CB102,$G$4)*U114,FALSE)","v":false},true,{"$f":"INDEX('Monthly Prices'!B102:CB102,$G$5)","v":0.45664737628000002},{"$f":"IF(H114,INDEX('Monthly Prices'!B102:CB102,$G$5)*U114,FALSE)","v":false},true,1967,{"$f":"'Monthly Prices'!B102","v":1.33},1.3291666666666668,{"$f":"_xlfn.XLOOKUP(P114,'Annual Real'!A:A,'Annual Real'!B:B,0,0)","v":6.3644633930138399},9.4725394316385714,9.4725394316385714,false,false,2.7355619999999997E-2,2.2515427323852588E-3,1.1414825046764527,7,"1967-11-01",9.4725394316385714]
[null,null,{"$f":"'Monthly Prices'!A103","v":"1968M01"},"1967-12-01",96,false,true,false,{"$error":"#N/A"},{"$f":"INDEX('Monthly Prices'!B103:CB103,$G$4)","v":0.16},{"$f":"IF(H115,INDEX('Monthly Prices'!B103:CB103,$G$4)*U115,FALSE)","v":false},true,{"$f":"INDEX('Monthly Prices'!B103:CB103,$G$5)","v":0.45180187736999999},{"$f":"IF(H115,INDEX('Monthly Prices'!B103:CB103,$G$5)*U115,FALSE)","v":false},true,1967,{"$f":"'Monthly Prices'!B103","v":1.32},1.3291666666666668,{"$f":"_xlfn.XLOOKUP(P115,'Annual Real'!A:A,'Annual Real'!B:B,0,0)","v":6.3644633930138399},9.4489330465618142,9.4489330465618142,false,false,3.0395140000000001E-2,2.4983122391100121E-3,1.144334284388616,7,"1967-12-01",9.4489330465618142]
[null,null,{"$f":"'Monthly Prices'!A104","v":"1968M02"},"1968-01-01",97,false,true,false,{"$error":"#N/A"},{"$f":"INDEX('Monthly Prices'!B104:CB104,$G$4)","v":0.16},{"$f":"IF(H116,INDEX('Monthly Prices'!B104:CB104,$G$4)*U116,FALSE)","v":false},true,{"$f":"INDEX('Monthly Prices'!B104:CB104,$G$5)","v":0.45180187736999999},{"$f":"IF(H116,INDEX('Monthly Prices'!B104:CB104,$G$5)*U116,FALSE)","v":false},true,1968,{"$f":"'Monthly Prices'!B104","v":1.32},1.3158333333333334,{"$f":"_xlfn.XLOOKUP(P116,'Annual Real'!A:A,'Annual Real'!B:B,0,0)","v":6.37212983184543},9.4207663281349472,9.4207663281349472,false,false,3.6474160000000005E-2,2.9898542693651553E-3,1.1477556771343762,7,"1968-01-01",9.4207663281349472]
[null,null,{"$f":"'Monthly Prices'!A105","v":"1968M03"},"1968-02-01",98,false,true,false,{"$error":"#N/A"},{"$f":"INDEX('Monthly Prices'!B105:CB105,$G$4)","v":0.16},{"$f":"IF(H117,INDEX('Monthly Prices'!B105:CB105,$G$4)*U117,FALSE)","v":false},true,{"$f":"INDEX('Monthly Prices'!B105:CB105,$G$5)","v":0.45180187736999999},{"$f":"IF(H117,INDEX('Monthly Prices'!B105:CB105,$G$5)*U117,FALSE)","v":false},true,1968,{"$f":"'Monthly Prices'!B105","v":1.32},1.3158333333333334,{"$f":"_xlfn.XLOOKUP(P117,'Annual Real'!A:A,'Annual Real'!B:B,0,0)","v":6.37212983184543},9.3903918297860898,9.3903918297860898,false,false,3.9513680000000002E-2,3.2346358809556275E-3,1.1514682488302055,7,"1968-02-01",9.3903918297860898]
[null,null,{"$f":"'Monthly Prices'!A106","v":"1968M04"},"1968-03-01",99,false,true,false,{"$error":"#N/A"},{"$f":"INDEX('Monthly Prices'!B106:CB106,$G$4)","v":0.16},{"$f":"IF(H118,INDEX('Monthly Prices'!B106:CB106,$G$4)*U118,FALSE)","v":false},true,{"$f":"INDEX('Monthly Prices'!B106:CB106,$G$5)","v":0.45180187736999999},{"$f":"IF(H118,INDEX('Monthly Prices'!B106:CB106,$G$5)*U118,FALSE)","v":false},true,1968,{"$f":"'Monthly Prices'!B106","v":1.32},1.3158333333333334,{"$f":"_xlfn.XLOOKUP(P118,'Annual Real'!A:A,'Annual Real'!B:B,0,0)","v":6.37212983184543},9.360205118826407,9.360205118826407,false,false,3.9393940000000002E-2,3.2250052831606091E-3,1.1551817400160747,7,"1968-03-01",9.360205118826407]
[null,null,{"$f":"'Monthly Prices'!A107","v":"1968M05"},"1968-04-01",100,false,true,false,{"$error":"#N/A"},{"$f":"INDEX('Monthly Prices'!B107:CB107,$G$4)","v":0.16},{"$f":"IF(H119,INDEX('Monthly Prices'!B107:CB107,$G$4)*U119,FALSE)","v":false},true,{"$f":"INDEX('Monthly Prices'!B107:CB107,$G$5)","v":0.45180187736999999},{"$f":"IF(H119,INDEX('Monthly Prices'!B107:CB107,$G$5)*U119,FALSE)","v":false},true,1968,{"$f":"'Monthly Prices'!B107","v":1.32},1.3158333333333334,{"$f":"_xlfn.XLOOKUP(P119,'Annual Real'!A:A,'Annual Real'!B:B,0,0)","v":6.37212983184543},9.3302044846179033,9.3302044846179033,false,false,3.9274919999999998E-2,3.215431586517159E-3,1.1588961478710902,7,"1968-04-01",9.3302044846179033]
[null,null,{"$f":"'Monthly Prices'!A108","v":"1968M06"},"1968-05-01",101,false,true,false,{"$error":"#N/A"},{"$f":"INDEX('Monthly Prices'!B108:CB108,$G$4)","v":0.16},{"$f":"IF(H120,INDEX('Monthly Prices'!B108:CB108,$G$4)*U120,FALSE)","v":false},true,{"$f":"INDEX('Monthly Prices'!B108:CB108,$G$5)","v":0.45180187736999999},{"$f":"IF(H120,INDEX('Monthly Prices'!B108:CB108,$G$5)*U120,FALSE)","v":false},true,1968,{"$f":"'Monthly Prices'!B108","v":1.32},1.3158333333333334,{"$f":"_xlfn.XLOOKUP(P120,'Annual Real'!A:A,'Annual Real'!B:B,0,0)","v":6.37212983184543},9.3003882247959861,9.3003882247959861,false,false,3.9156629999999998E-2,3.2059156135464395E-3,1.1626114711260289,7,"1968-05-01",9.3003882247959861]
[null,null,{"$f":"'Monthly Prices'!A109","v":"1968M07"},"1968-06-01",102,false,true,false,{"$error":"#N/A"},{"$f":"INDEX('Monthly Prices'!B109:CB109,$G$4)","v":0.16},{"$f":"IF(H121,INDEX('Monthly Prices'!B109:CB109,$G$4)*U121,FALSE)","v":false},true,{"$f":"INDEX('Monthly Prices'!B109:CB109,$G$5)","v":0.45180187736999999},{"$f":"IF(H121,INDEX('Monthly Prices'!B109:CB109,$G$5)*U121,FALSE)","v":false},true,1968,{"$f":"'Monthly Prices'!B109","v":1.32},1.3158333333333334,{"$f":"_xlfn.XLOOKUP(P121,'Annual Real'!A:A,'Annual Real'!B:B,0,0)","v":6.37212983184543},9.2685253249943003,9.2685253249943003,false,false,4.2042039999999996E-2,3.4377528985933825E-3,1.1666082420808304,7,"1968-06-01",9.2685253249943003]
[null,null,{"$f":"'Monthly Prices'!A110","v":"1968M08"},"1968-07-01",103,false,true,false,{"$error":"#N/A"},{"$f":"INDEX('Monthly Prices'!B110:CB110,$G$4)","v":0.16},{"$f":"IF(H122,INDEX('Monthly Prices'!B110:CB110,$G$4)*U122,FALSE)","v":false},true,{"$f":"INDEX('Monthly Prices'!B110:CB110,$G$5)","v":0.45180187736999999},{"$f":"IF(H122,INDEX('Monthly Prices'!B110:CB110,$G$5)*U122,FALSE)","v":false},true,1968,{"$f":"'Monthly Prices'!B110","v":1.32},1.3158333333333334,{"$f":"_xlfn.XLOOKUP(P122,'Annual Real'!A:A,'Annual Real'!B:B,0,0)","v":6.37212983184543},9.2346561144617425,9.2346561144617425,false,false,4.4910180000000001E-2,3.6676201163048372E-3,1.1708869179373331,7,"1968-07-01",9.2346561144617425]
[null,null,{"$f":"'Monthly Prices'!A111","v":"1968M09"},"1968-08-01",104,false,true,false,{"$error":"#N/A"},{"$f":"INDEX('Monthly Prices'!B111:CB111,$G$4)","v":0.16},{"$f":"IF(H123,INDEX('Monthly Prices'!B111:CB111,$G$4)*U123,FALSE)","v":false},true,{"$f":"INDEX('Monthly Prices'!B111:CB111,$G$5)","v":0.45180187736999999},{"$f":"IF(H123,INDEX('Monthly Prices'!B111:CB111,$G$5)*U123,FALSE)","v":false},true,1968,{"$f":"'Monthly Prices'!B111","v":1.32},1.3158333333333334,{"$f":"_xlfn.XLOOKUP(P123,'Annual Real'!A:A,'Annual Real'!B:B,0,0)","v":6.37212983184543},9.2010090478591167,9.2010090478591167,false,false,4.4776119999999996E-2,3.6568887637877801E-3,1.1751687211512043,7,"1968-08-01",9.2010090478591167]
[null,null,{"$f":"'Monthly Prices'!A112","v":"1968M10"},"1968-09-01",105,false,true,false,{"$error":"#N/A"},{"$f":"INDEX('Monthly Prices'!B112:CB112,$G$4)","v":0.16},{"$f":"IF(H124,INDEX('Monthly Prices'!B112:CB112,$G$4)*U124,FALSE)","v":false},true,{"$f":"INDEX('Monthly Prices'!B112:CB112,$G$5)","v":0.45180187736999999},{"$f":"IF(H124,INDEX('Monthly Prices'!B112:CB112,$G$5)*U124,FALSE)","v":false},true,1968,{"$f":"'Monthly Prices'!B112","v":1.32},1.3158333333333334,{"$f":"_xlfn.XLOOKUP(P124,'Annual Real'!A:A,'Annual Real'!B:B,0,0)","v":6.37212983184543},9.1675820251001277,9.1675820251001277,false,false,4.4642860000000006E-2,3.6462201993359145E-3,1.1794536450798936,7,"1968-09-01",9.1675820251001277]
[null,null,{"$f":"'Monthly Prices'!A113","v":"1968M11"},"1968-10-01",106,false,true,false,{"$error":"#N/A"},{"$f":"INDEX('Monthly Prices'!B113:CB113,$G$4)","v":0.16},{"$f":"IF(H125,INDEX('Monthly Prices'!B113:CB113,$G$4)*U125,FALSE)","v":false},true,{"$f":"INDEX('Monthly Prices'!B113:CB113,$G$5)","v":0.45180187736999999},{"$f":"IF(H125,INDEX('Monthly Prices'!B113:CB113,$G$5)*U125,FALSE)","v":false},true,1968,{"$f":"'Monthly Prices'!B113","v":1.32},1.3158333333333334,{"$f":"_xlfn.XLOOKUP(P125,'Annual Real'!A:A,'Annual Real'!B:B,0,0)","v":6.37212983184543},9.1322138009498186,9.1322138009498186,false,false,4.7477749999999999E-2,3.8729080287882578E-3,1.184021560571507,7,"1968-10-01",9.1322138009498186]
[null,null,{"$f":"'Monthly Prices'!A114","v":"1968M12"},"1968-11-01",107,false,true,false,{"$error":"#N/A"},{"$f":"INDEX('Monthly Prices'!B114:CB114,$G$4)","v":0.16},{"$f":"IF(H126,INDEX('Monthly Prices'!B114:CB114,$G$4)*U126,FALSE)","v":false},true,{"$f":"INDEX('Monthly Prices'!B114:CB114,$G$5)","v":0.45180187736999999},{"$f":"IF(H126,INDEX('Monthly Prices'!B114:CB114,$G$5)*U126,FALSE)","v":false},true,1968,{"$f":"'Monthly Prices'!B114","v":1.32},1.3158333333333334,{"$f":"_xlfn.XLOOKUP(P126,'Annual Real'!A:A,'Annual Real'!B:B,0,0)","v":6.37212983184543},9.0970836947224445,9.0970836947224445,false,false,4.7337280000000002E-2,3.8616888011873129E-3,1.1885938833723304,7,"1968-11-01",9.0970836947224445]
[null,null,{"$f":"'Monthly Prices'!A115","v":"1969M01"},"1968-12-01",108,false,true,false,{"$error":"#N/A"},{"$f":"INDEX('Monthly Prices'!B115:CB115,$G$4)","v":0.17},{"$f":"IF(H127,INDEX('Monthly Prices'!B115:CB115,$G$4)*U127,FALSE)","v":false},true,{"$f":"INDEX('Monthly Prices'!B115:CB115,$G$5)","v":0.45181991824000001},{"$f":"IF(H127,INDEX('Monthly Prices'!B115:CB115,$G$5)*U127,FALSE)","v":false},true,1968,{"$f":"'Monthly Prices'!B115","v":1.27},1.3158333333333334,{"$f":"_xlfn.XLOOKUP(P127,'Annual Real'!A:A,'Annual Real'!B:B,0,0)","v":6.37212983184543},9.0621894217284211,9.0621894217284211,false,false,4.7197639999999999E-2,3.8505344978065903E-3,1.1931706051241375,7,"1968-12-01",9.0621894217284211]
[null,null,{"$f":"'Monthly Prices'!A116","v":"1969M02"},"1969-01-01",109,false,true,false,{"$error":"#N/A"},{"$f":"INDEX('Monthly Prices'!B116:CB116,$G$4)","v":0.17},{"$f":"IF(H128,INDEX('Monthly Prices'!B116:CB116,$G$4)*U128,FALSE)","v":false},true,{"$f":"INDEX('Monthly Prices'!B116:CB116,$G$5)","v":0.45181991824000001},{"$f":"IF(H128,INDEX('Monthly Prices'!B116:CB116,$G$5)*U128,FALSE)","v":false},true,1969,{"$f":"'Monthly Prices'!B116","v":1.27},1.2649999999999997,{"$f":"_xlfn.XLOOKUP(P128,'Annual Real'!A:A,'Annual Real'!B:B,0,0)","v":5.8192246787466697},9.0297383774048523,9.0297383774048523,false,false,4.3988269999999996E-2,3.5937967377628333E-3,1.1974586177524271,7,"1969-01-01",9.0297383774048523]
[null,null,{"$f":"'Monthly Prices'!A117","v":"1969M03"},"1969-02-01",110,false,true,false,{"$error":"#N/A"},{"$f":"INDEX('Monthly Prices'!B117:CB117,$G$4)","v":0.17},{"$f":"IF(H129,INDEX('Monthly Prices'!B117:CB117,$G$4)*U129,FALSE)","v":false},true,{"$f":"INDEX('Monthly Prices'!B117:CB117,$G$5)","v":0.45181991824000001},{"$f":"IF(H129,INDEX('Monthly Prices'!B117:CB117,$G$5)*U129,FALSE)","v":false},true,1969,{"$f":"'Monthly Prices'!B117","v":1.27},1.2649999999999997,{"$f":"_xlfn.XLOOKUP(P129,'Annual Real'!A:A,'Annual Real'!B:B,0,0)","v":5.8192246787466697},8.9953988472879374,8.9953988472879374,false,false,4.6783619999999998E-2,3.8174549789160572E-3,1.202029862114812,7,"1969-02-01",8.9953988472879374]
[null,null,{"$f":"'Monthly Prices'!A118","v":"1969M04"},"1969-03-01",111,false,true,false,{"$error":"#N/A"},{"$f":"INDEX('Monthly Prices'!B118:CB118,$G$4)","v":0.17},{"$f":"IF(H130,INDEX('Monthly Prices'!B118:CB118,$G$4)*U130,FALSE)","v":false},true,{"$f":"INDEX('Monthly Prices'!B118:CB118,$G$5)","v":0.45181991824000001},{"$f":"IF(H130,INDEX('Monthly Prices'!B118:CB118,$G$5)*U130,FALSE)","v":false},true,1969,{"$f":"'Monthly Prices'!B118","v":1.27},1.2649999999999997,{"$f":"_xlfn.XLOOKUP(P130,'Annual Real'!A:A,'Annual Real'!B:B,0,0)","v":5.8192246787466697},8.9571394226467191,8.9571394226467191,false,false,5.2478129999999998E-2,4.2713887588357036E-3,1.2071641989556341,7,"1969-03-01",8.9571394226467191]
[null,null,{"$f":"'Monthly Prices'!A119","v":"1969M05"},"1969-04-01",112,false,true,false,{"$error":"#N/A"},{"$f":"INDEX('Monthly Prices'!B119:CB119,$G$4)","v":0.17},{"$f":"IF(H131,INDEX('Monthly Prices'!B119:CB119,$G$4)*U131,FALSE)","v":false},true,{"$f":"INDEX('Monthly Prices'!B119:CB119,$G$5)","v":0.45181991824000001},{"$f":"IF(H131,INDEX('Monthly Prices'!B119:CB119,$G$5)*U131,FALSE)","v":false},true,1969,{"$f":"'Monthly Prices'!B119","v":1.27},1.2649999999999997,{"$f":"_xlfn.XLOOKUP(P131,'Annual Real'!A:A,'Annual Real'!B:B,0,0)","v":5.8192246787466697},8.917100314789776,8.917100314789776,false,false,5.523256E-2,4.4901488649324861E-3,1.212584545913362,7,"1969-04-01",8.917100314789776]
[null,null,{"$f":"'Monthly Prices'!A120","v":"1969M06"},"1969-05-01",113,false,true,false,{"$error":"#N/A"},{"$f":"INDEX('Monthly Prices'!B120:CB120,$G$4)","v":0.17},{"$f":"IF(H132,INDEX('Monthly Prices'!B120:CB120,$G$4)*U132,FALSE)","v":false},true,{"$f":"INDEX('Monthly Prices'!B120:CB120,$G$5)","v":0.45181991824000001},{"$f":"IF(H132,INDEX('Monthly Prices'!B120:CB120,$G$5)*U132,FALSE)","v":false},true,1969,{"$f":"'Monthly Prices'!B120","v":1.27},1.2649999999999997,{"$f":"_xlfn.XLOOKUP(P132,'Annual Real'!A:A,'Annual Real'!B:B,0,0)","v":5.8192246787466697},8.8773524320629793,8.8773524320629793,false,false,5.5072460000000004E-2,4.4774478687177321E-3,1.2180138300041019,7,"1969-05-01",8.8773524320629793]
[null,null,{"$f":"'Monthly Prices'!A121","v":"1969M07"},"1969-06-01",114,false,true,false,{"$error":"#N/A"},{"$f":"INDEX('Monthly Prices'!B121:CB121,$G$4)","v":0.17},{"$f":"IF(H133,INDEX('Monthly Prices'!B121:CB121,$G$4)*U133,FALSE)","v":false},true,{"$f":"INDEX('Monthly Prices'!B121:CB121,$G$5)","v":0.45181991824000001},{"$f":"IF(H133,INDEX('Monthly Prices'!B121:CB121,$G$5)*U133,FALSE)","v":false},true,1969,{"$f":"'Monthly Prices'!B121","v":1.27},1.2649999999999997,{"$f":"_xlfn.XLOOKUP(P133,'Annual Real'!A:A,'Annual Real'!B:B,0,0)","v":5.8192246787466697},8.8380033327938889,8.8380033327938889,false,false,5.4755039999999998E-2,4.4522611937791723E-3,1.2234367457129156,7,"1969-06-01",8.8380033327938889]
[null,null,{"$f":"'Monthly Prices'!A122","v":"1969M08"},"1969-07-01",115,false,true,false,{"$error":"#N/A"},{"$f":"INDEX('Monthly Prices'!B122:CB122,$G$4)","v":0.17},{"$f":"IF(H134,INDEX('Monthly Prices'!B122:CB122,$G$4)*U134,FALSE)","v":false},true,{"$f":"INDEX('Monthly Prices'!B122:CB122,$G$5)","v":0.45181991824000001},{"$f":"IF(H134,INDEX('Monthly Prices'!B122:CB122,$G$5)*U134,FALSE)","v":false},true,1969,{"$f":"'Monthly Prices'!B122","v":1.27},1.2649999999999997,{"$f":"_xlfn.XLOOKUP(P134,'Annual Real'!A:A,'Annual Real'!B:B,0,0)","v":5.8192246787466697},8.7990468155406454,8.7990468155406454,false,false,5.4441259999999998E-2,4.427356515985359E-3,1.2288533363609435,7,"1969-07-01",8.7990468155406454]
[null,null,{"$f":"'Monthly Prices'!A123","v":"1969M09"},"1969-08-01",116,false,true,false,{"$error":"#N/A"},{"$f":"INDEX('Monthly Prices'!B123:CB123,$G$4)","v":0.17},{"$f":"IF(H135,INDEX('Monthly Prices'!B123:CB123,$G$4)*U135,FALSE)","v":false},true,{"$f":"INDEX('Monthly Prices'!B123:CB123,$G$5)","v":0.45181991824000001},{"$f":"IF(H135,INDEX('Monthly Prices'!B123:CB123,$G$5)*U135,FALSE)","v":false},true,1969,{"$f":"'Monthly Prices'!B123","v":1.27},1.2649999999999997,{"$f":"_xlfn.XLOOKUP(P135,'Annual Real'!A:A,'Annual Real'!B:B,0,0)","v":5.8192246787466697},8.7583942035409503,8.7583942035409503,false,false,5.7142860000000004E-2,4.6415599771998384E-3,1.234557132824845,7,"1969-08-01",8.7583942035409503]
[null,null,{"$f":"'Monthly Prices'!A124","v":"1969M10"},"1969-09-01",117,false,true,false,{"$error":"#N/A"},{"$f":"INDEX('Monthly Prices'!B124:CB124,$G$4)","v":0.17},{"$f":"IF(H136,INDEX('Monthly Prices'!B124:CB124,$G$4)*U136,FALSE)","v":false},true,{"$f":"INDEX('Monthly Prices'!B124:CB124,$G$5)","v":0.45181991824000001},{"$f":"IF(H136,INDEX('Monthly Prices'!B124:CB124,$G$5)*U136,FALSE)","v":false},true,1969,{"$f":"'Monthly Prices'!B124","v":1.27},1.2649999999999997,{"$f":"_xlfn.XLOOKUP(P136,'Annual Real'!A:A,'Annual Real'!B:B,0,0)","v":5.8192246787466697},8.7180413007288724,8.7180413007288724,false,false,5.6980059999999895E-2,4.6286661671015583E-3,1.2402714856569053,7,"1969-09-01",8.7180413007288724]
[null,null,{"$f":"'Monthly Prices'!A125","v":"1969M11"},"1969-10-01",118,false,true,false,{"$error":"#N/A"},{"$f":"INDEX('Monthly Prices'!B125:CB125,$G$4)","v":0.17},{"$f":"IF(H137,INDEX('Monthly Prices'!B125:CB125,$G$4)*U137,FALSE)","v":false},true,{"$f":"INDEX('Monthly Prices'!B125:CB125,$G$5)","v":0.45181991824000001},{"$f":"IF(H137,INDEX('Monthly Prices'!B125:CB125,$G$5)*U137,FALSE)","v":false},true,1969,{"$f":"'Monthly Prices'!B125","v":1.27},1.2649999999999997,{"$f":"_xlfn.XLOOKUP(P137,'Annual Real'!A:A,'Annual Real'!B:B,0,0)","v":5.8192246787466697},8.6780952321221765,8.6780952321221765,false,false,5.6657219999999994E-2,4.6030917543788963E-3,1.2459805691057237,7,"1969-10-01",8.6780952321221765]
[null,null,{"$f":"'Monthly Prices'!A126","v":"1969M12"},"1969-11-01",119,false,true,false,{"$error":"#N/A"},{"$f":"INDEX('Monthly Prices'!B126:CB126,$G$4)","v":0.17},{"$f":"IF(H138,INDEX('Monthly Prices'!B126:CB126,$G$4)*U138,FALSE)","v":false},true,{"$f":"INDEX('Monthly Prices'!B126:CB126,$G$5)","v":0.45181991824000001},{"$f":"IF(H138,INDEX('Monthly Prices'!B126:CB126,$G$5)*U138,FALSE)","v":false},true,1969,{"$f":"'Monthly Prices'!B126","v":1.27},1.2649999999999997,{"$f":"_xlfn.XLOOKUP(P138,'Annual Real'!A:A,'Annual Real'!B:B,0,0)","v":5.8192246787466697},8.6365192367274943,8.6365192367274943,false,false,5.9322029999999894E-2,4.8139758918011033E-3,1.2519786895270513,7,"1969-11-01",8.6365192367274943]
[null,null,{"$f":"'Monthly Prices'!A127","v":"1970M01"},"1969-12-01",120,false,true,false,{"$error":"#N/A"},{"$f":"INDEX('Monthly Prices'!B127:CB127,$G$4)","v":0.17},{"$f":"IF(H139,INDEX('Monthly Prices'!B127:CB127,$G$4)*U139,FALSE)","v":false},true,{"$f":"INDEX('Monthly Prices'!B127:CB127,$G$5)","v":0.44721801014000001},{"$f":"IF(H139,INDEX('Monthly Prices'!B127:CB127,$G$5)*U139,FALSE)","v":false},true,1969,{"$f":"'Monthly Prices'!B127","v":1.21},1.2649999999999997,{"$f":"_xlfn.XLOOKUP(P139,'Annual Real'!A:A,'Annual Real'!B:B,0,0)","v":5.8192246787466697},8.5933531861975929,8.5933531861975929,false,false,6.1971829999999999E-2,5.0231905514175335E-3,1.2582676170508598,7,"1969-12-01",8.5933531861975929]
[null,null,{"$f":"'Monthly Prices'!A128","v":"1970M02"},"1970-01-01",121,false,true,false,{"$error":"#N/A"},{"$f":"INDEX('Monthly Prices'!B128:CB128,$G$4)","v":0.17},{"$f":"IF(H140,INDEX('Monthly Prices'!B128:CB128,$G$4)*U140,FALSE)","v":false},true,{"$f":"INDEX('Monthly Prices'!B128:CB128,$G$5)","v":0.44721801014000001},{"$f":"IF(H140,INDEX('Monthly Prices'!B128:CB128,$G$5)*U140,FALSE)","v":false},true,1970,{"$f":"'Monthly Prices'!B128","v":1.21},1.2458333333333336,{"$f":"_xlfn.XLOOKUP(P140,'Annual Real'!A:A,'Annual Real'!B:B,0,0)","v":5.2122356108199703},8.5505196931575771,8.5505196931575771,false,false,6.1797750000000005E-2,5.009460778657937E-3,1.2645708593275313,7,"1970-01-01",8.5505196931575771]
[null,null,{"$f":"'Monthly Prices'!A129","v":"1970M03"},"1970-02-01",122,false,true,false,{"$error":"#N/A"},{"$f":"INDEX('Monthly Prices'!B129:CB129,$G$4)","v":0.17},{"$f":"IF(H141,INDEX('Monthly Prices'!B129:CB129,$G$4)*U141,FALSE)","v":false},true,{"$f":"INDEX('Monthly Prices'!B129:CB129,$G$5)","v":0.44721801014000001},{"$f":"IF(H141,INDEX('Monthly Prices'!B129:CB129,$G$5)*U141,FALSE)","v":false},true,1970,{"$f":"'Monthly Prices'!B129","v":1.21},1.2458333333333336,{"$f":"_xlfn.XLOOKUP(P141,'Annual Real'!A:A,'Annual Real'!B:B,0,0)","v":5.2122356108199703},8.5081302701646084,8.5081302701646084,false,false,6.1452510000000002E-2,4.9822254299063395E-3,1.2708712364207915,7,"1970-02-01",8.5081302701646084]
[null,null,{"$f":"'Monthly Prices'!A130","v":"1970M04"},"1970-03-01",123,false,true,false,{"$error":"#N/A"},{"$f":"INDEX('Monthly Prices'!B130:CB130,$G$4)","v":0.17},{"$f":"IF(H142,INDEX('Monthly Prices'!B130:CB130,$G$4)*U142,FALSE)","v":false},true,{"$f":"INDEX('Monthly Prices'!B130:CB130,$G$5)","v":0.44721801014000001},{"$f":"IF(H142,INDEX('Monthly Prices'!B130:CB130,$G$5)*U142,FALSE)","v":false},true,1970,{"$f":"'Monthly Prices'!B130","v":1.21},1.2458333333333336,{"$f":"_xlfn.XLOOKUP(P142,'Annual Real'!A:A,'Annual Real'!B:B,0,0)","v":5.2122356108199703},8.46813522083038,8.46813522083038,false,false,5.817174E-2,4.7230055131672888E-3,1.2768735682769325,7,"1970-03-01",8.46813522083038]
[null,null,{"$f":"'Monthly Prices'!A131","v":"1970M05"},"1970-04-01",124,false,true,false,{"$error":"#N/A"},{"$f":"INDEX('Monthly Prices'!B131:CB131,$G$4)","v":0.17},{"$f":"IF(H143,INDEX('Monthly Prices'!B131:CB131,$G$4)*U143,FALSE)","v":false},true,{"$f":"INDEX('Monthly Prices'!B131:CB131,$G$5)","v":0.44721801014000001},{"$f":"IF(H143,INDEX('Monthly Prices'!B131:CB131,$G$5)*U143,FALSE)","v":false},true,1970,{"$f":"'Monthly Prices'!B131","v":1.21},1.2458333333333336,{"$f":"_xlfn.XLOOKUP(P143,'Annual Real'!A:A,'Annual Real'!B:B,0,0)","v":5.2122356108199703},8.4267144125462696,8.4267144125462696,false,false,6.0606059999999996E-2,4.9154161700839527E-3,1.2831499332615939,7,"1970-04-01",8.4267144125462696]
[null,null,{"$f":"'Monthly Prices'!A132","v":"1970M06"},"1970-05-01",125,false,true,false,{"$error":"#N/A"},{"$f":"INDEX('Monthly Prices'!B132:CB132,$G$4)","v":0.17},{"$f":"IF(H144,INDEX('Monthly Prices'!B132:CB132,$G$4)*U144,FALSE)","v":false},true,{"$f":"INDEX('Monthly Prices'!B132:CB132,$G$5)","v":0.44721801014000001},{"$f":"IF(H144,INDEX('Monthly Prices'!B132:CB132,$G$5)*U144,FALSE)","v":false},true,1970,{"$f":"'Monthly Prices'!B132","v":1.21},1.2458333333333336,{"$f":"_xlfn.XLOOKUP(P144,'Annual Real'!A:A,'Annual Real'!B:B,0,0)","v":5.2122356108199703},8.3856059184755836,8.3856059184755836,false,false,6.0439559999999996E-2,4.9022687770376994E-3,1.2894402791156803,7,"1970-05-01",8.3856059184755836]
[null,null,{"$f":"'Monthly Prices'!A133","v":"1970M07"},"1970-06-01",126,false,true,false,{"$error":"#N/A"},{"$f":"INDEX('Monthly Prices'!B133:CB133,$G$4)","v":0.17},{"$f":"IF(H145,INDEX('Monthly Prices'!B133:CB133,$G$4)*U145,FALSE)","v":false},true,{"$f":"INDEX('Monthly Prices'!B133:CB133,$G$5)","v":0.44721801014000001},{"$f":"IF(H145,INDEX('Monthly Prices'!B133:CB133,$G$5)*U145,FALSE)","v":false},true,1970,{"$f":"'Monthly Prices'!B133","v":1.21},1.2458333333333336,{"$f":"_xlfn.XLOOKUP(P145,'Annual Real'!A:A,'Annual Real'!B:B,0,0)","v":5.2122356108199703},8.3449145798503555,8.3449145798503555,false,false,6.0109290000000003E-2,4.876183960406566E-3,1.2957278271226063,7,"1970-06-01",8.3449145798503555]
[null,null,{"$f":"'Monthly Prices'!A134","v":"1970M08"},"1970-07-01",127,false,true,false,{"$error":"#N/A"},{"$f":"INDEX('Monthly Prices'!B134:CB134,$G$4)","v":0.17},{"$f":"IF(H146,INDEX('Monthly Prices'!B134:CB134,$G$4)*U146,FALSE)","v":false},true,{"$f":"INDEX('Monthly Prices'!B134:CB134,$G$5)","v":0.44721801014000001},{"$f":"IF(H146,INDEX('Monthly Prices'!B134:CB134,$G$5)*U146,FALSE)","v":false},true,1970,{"$f":"'Monthly Prices'!B134","v":1.21},1.2458333333333336,{"$f":"_xlfn.XLOOKUP(P146,'Annual Real'!A:A,'Annual Real'!B:B,0,0)","v":5.2122356108199703},8.3046339878348707,8.3046339878348707,false,false,5.978261E-2,4.8503753536266458E-3,1.30201259344029,7,"1970-07-01",8.3046339878348707]
[null,null,{"$f":"'Monthly Prices'!A135","v":"1970M09"},"1970-08-01",128,false,true,false,{"$error":"#N/A"},{"$f":"INDEX('Monthly Prices'!B135:CB135,$G$4)","v":0.17},{"$f":"IF(H147,INDEX('Monthly Prices'!B135:CB135,$G$4)*U147,FALSE)","v":false},true,{"$f":"INDEX('Monthly Prices'!B135:CB135,$G$5)","v":0.44721801014000001},{"$f":"IF(H147,INDEX('Monthly Prices'!B135:CB135,$G$5)*U147,FALSE)","v":false},true,1970,{"$f":"'Monthly Prices'!B135","v":1.21},1.2458333333333336,{"$f":"_xlfn.XLOOKUP(P147,'Annual Real'!A:A,'Annual Real'!B:B,0,0)","v":5.2122356108199703},8.268281536078284,8.268281536078284,false,false,5.4054060000000001E-2,4.3966151367687001E-3,1.307737041716873,7,"1970-08-01",8.268281536078284]
[null,null,{"$f":"'Monthly Prices'!A136","v":"1970M10"},"1970-09-01",129,{"$f":"AND(E148>=$M$4,L148)","v":false},{"$f":"AND(E148<=$M$5,O148)","v":true},{"$f":"AND(F148:G148)","v":false},{"$f":"IF(H148,D148,NA)","v":{"$error":"#N/A"}},{"$f":"INDEX('Monthly Prices'!B136:CB136,$G$4)","v":0.17},{"$f":"IF(H148,INDEX('Monthly Prices'!B136:CB136,$G$4)*U148,FALSE)","v":false},true,{"$f":"INDEX('Monthly Prices'!B136:CB136,$G$5)","v":0.44721801014000001},{"$f":"IF(H148,INDEX('Monthly Prices'!B136:CB136,$G$5)*U148,FALSE)","v":false},{"$f":"AND(ISNUMBER(M148),M148>0)","v":true},1970,{"$f":"'Monthly Prices'!B136","v":1.21},1.2458333333333336,{"$f":"_xlfn.XLOOKUP(P148,'Annual Real'!A:A,'Annual Real'!B:B,0,0)","v":5.2122356108199703},8.2304309552432322,8.2304309552432322,false,false,5.6603779999999999E-2,4.5988577075588566E-3,1.3137511382906328,7,"1970-09-01",8.2304309552432322]
[null,null,{"$f":"'Monthly Prices'!A137","v":"1970M11"},{"$f":"EDATE(D148,1)","v":"1970-10-01"},{"$f":"E148+1","v":130},false,true,false,{"$error":"#N/A"},{"$f":"INDEX('Monthly Prices'!B137:CB137,$G$4)","v":0.17},{"$f":"IF(H149,INDEX('Monthly Prices'!B137:CB137,$G$4)*U149,FALSE)","v":false},{"$f":"ISNUMBER(J149)","v":true},{"$f":"INDEX('Monthly Prices'!B137:CB137,$G$5)","v":0.44721801014000001},{"$f":"IF(H149,INDEX('Monthly Prices'!B137:CB137,$G$5)*U149,FALSE)","v":false},true,{"$f":"YEAR(D149)","v":1970},{"$f":"'Monthly Prices'!B137","v":1.21},{"$f":"AVERAGEIF(P:P,P149,Q:Q)","v":1.2458333333333336},{"$f":"_xlfn.XLOOKUP(P149,'Annual Real'!A:A,'Annual Real'!B:B,0,0)","v":5.2122356108199703},{"$f":"AC149","v":8.1929497919129552},{"$f":"IF($U$19,T149,1)","v":8.1929497919129552},false,false,{"$f":"LOOKUP(D149,INDIRECT(\"'\"&$X$14&\"'!A:A\"),INDIRECT(\"'\"&$X$14&\"'!B:B\"))/100","v":5.6300269999999999E-2},{"$f":"(1+X149)^(1/12)-1","v":4.5748069110924661E-3},{"$f":"Z148*(1+Y149)","v":1.3197612960775404},{"$f":"LEN(C149)","v":7},{"$f":"IF(AA149>2,D149,0)","v":"1970-10-01"},{"$f":"$AC$17/Z149","v":8.1929497919129552}]
[null,null,{"$f":"'Monthly Prices'!A138","v":"1970M12"},"1970-11-01",131,false,true,false,{"$error":"#N/A"},{"$f":"INDEX('Monthly Prices'!B138:CB138,$G$4)","v":0.17},{"$f":"IF(H150,INDEX('Monthly Prices'!B138:CB138,$G$4)*U150,FALSE)","v":false},true,{"$f":"INDEX('Monthly Prices'!B138:CB138,$G$5)","v":0.44721801014000001},{"$f":"IF(H150,INDEX('Monthly Prices'!B138:CB138,$G$5)*U150,FALSE)","v":false},true,1970,{"$f":"'Monthly Prices'!B138","v":1.21},1.2458333333333336,{"$f":"_xlfn.XLOOKUP(P150,'Annual Real'!A:A,'Annual Real'!B:B,0,0)","v":5.2122356108199703},8.1558325439739683,8.1558325439739683,{"$f":"IF(AND(H149,H150),LN(K150/K149))","v":false},{"$f":"IF(AND($H149,$H150),LN(N150/N149))","v":false},5.5999999999999994E-2,4.5510066248739545E-3,1.3257675384792416,7,"1970-11-01",8.1558325439739683]
[null,null,{"$f":"'Monthly Prices'!A139","v":"1971M01"},"1970-12-01",132,false,true,false,{"$error":"#N/A"},{"$f":"INDEX('Monthly Prices'!B139:CB139,$G$4)","v":0.18},{"$f":"IF(H151,INDEX('Monthly Prices'!B139:CB139,$G$4)*U151,FALSE)","v":false},true,{"$f":"INDEX('Monthly Prices'!B139:CB139,$G$5)","v":0.50224354379000002},{"$f":"IF(H151,INDEX('Monthly Prices'!B139:CB139,$G$5)*U151,FALSE)","v":false},true,1970,{"$f":"'Monthly Prices'!B139","v":1.64},1.2458333333333336,{"$f":"_xlfn.XLOOKUP(P151,'Annual Real'!A:A,'Annual Real'!B:B,0,0)","v":5.2122356108199703},8.1190738181958526,8.1190738181958526,false,false,5.5702920000000003E-2,4.5274530816228342E-3,1.331769888806845,7,"1970-12-01",8.1190738181958526]
[null,null,{"$f":"'Monthly Prices'!A140","v":"1971M02"},"1971-01-01",133,false,true,false,{"$error":"#N/A"},{"$f":"INDEX('Monthly Prices'!B140:CB140,$G$4)","v":0.18},{"$f":"IF(H152,INDEX('Monthly Prices'!B140:CB140,$G$4)*U152,FALSE)","v":false},true,{"$f":"INDEX('Monthly Prices'!B140:CB140,$G$5)","v":0.50224354379000002},{"$f":"IF(H152,INDEX('Monthly Prices'!B140:CB140,$G$5)*U152,FALSE)","v":false},true,1971,{"$f":"'Monthly Prices'!B140","v":1.64},1.700833333333333,{"$f":"_xlfn.XLOOKUP(P152,'Annual Real'!A:A,'Annual Real'!B:B,0,0)","v":6.9220737641998999},8.0842651791101776,8.0842651791101776,false,false,5.291005E-2,4.3057270283044513E-3,1.3375041264125627,7,"1971-01-01",8.0842651791101776]
[null,null,{"$f":"'Monthly Prices'!A141","v":"1971M03"},"1971-02-01",134,false,true,false,{"$error":"#N/A"},{"$f":"INDEX('Monthly Prices'!B141:CB141,$G$4)","v":0.18},{"$f":"IF(H153,INDEX('Monthly Prices'!B141:CB141,$G$4)*U153,FALSE)","v":false},true,{"$f":"INDEX('Monthly Prices'!B141:CB141,$G$5)","v":0.50224354379000002},{"$f":"IF(H153,INDEX('Monthly Prices'!B141:CB141,$G$5)*U153,FALSE)","v":false},true,1971,{"$f":"'Monthly Prices'!B141","v":1.64},1.700833333333333,{"$f":"_xlfn.XLOOKUP(P153,'Annual Real'!A:A,'Annual Real'!B:B,0,0)","v":6.9220737641998999},8.0514625241473965,8.0514625241473965,false,false,0.05,4.0741237836483535E-3,1.3429532837847078,7,"1971-02-01",8.0514625241473965]
[null,null,{"$f":"'Monthly Prices'!A142","v":"1971M04"},"1971-03-01",135,false,true,false,{"$error":"#N/A"},{"$f":"INDEX('Monthly Prices'!B142:CB142,$G$4)","v":0.18},{"$f":"IF(H154,INDEX('Monthly Prices'!B142:CB142,$G$4)*U154,FALSE)","v":false},true,{"$f":"INDEX('Monthly Prices'!B142:CB142,$G$5)","v":0.50224354379000002},{"$f":"IF(H154,INDEX('Monthly Prices'!B142:CB142,$G$5)*U154,FALSE)","v":false},true,1971,{"$f":"'Monthly Prices'!B142","v":1.64},1.700833333333333,{"$f":"_xlfn.XLOOKUP(P154,'Annual Real'!A:A,'Annual Real'!B:B,0,0)","v":6.9220737641998999},8.0206282961855511,8.0206282961855511,false,false,4.7120419999999899E-2,3.844365656055615E-3,1.3481160872665769,7,"1971-03-01",8.0206282961855511]
[null,null,{"$f":"'Monthly Prices'!A143","v":"1971M05"},"1971-04-01",136,false,true,false,{"$error":"#N/A"},{"$f":"INDEX('Monthly Prices'!B143:CB143,$G$4)","v":0.18},{"$f":"IF(H155,INDEX('Monthly Prices'!B143:CB143,$G$4)*U155,FALSE)","v":false},true,{"$f":"INDEX('Monthly Prices'!B143:CB143,$G$5)","v":0.50224354379000002},{"$f":"IF(H155,INDEX('Monthly Prices'!B143:CB143,$G$5)*U155,FALSE)","v":false},true,1971,{"$f":"'Monthly Prices'!B143","v":1.64},1.700833333333333,{"$f":"_xlfn.XLOOKUP(P155,'Annual Real'!A:A,'Annual Real'!B:B,0,0)","v":6.9220737641998999},7.9934590275329231,7.9934590275329231,false,false,4.1558440000000002E-2,3.3989376262575366E-3,1.3526982497601503,7,"1971-04-01",7.9934590275329231]
[null,null,{"$f":"'Monthly Prices'!A144","v":"1971M06"},"1971-05-01",137,false,true,false,{"$error":"#N/A"},{"$f":"INDEX('Monthly Prices'!B144:CB144,$G$4)","v":0.18},{"$f":"IF(H156,INDEX('Monthly Prices'!B144:CB144,$G$4)*U156,FALSE)","v":false},true,{"$f":"INDEX('Monthly Prices'!B144:CB144,$G$5)","v":0.50224354379000002},{"$f":"IF(H156,INDEX('Monthly Prices'!B144:CB144,$G$5)*U156,FALSE)","v":false},true,1971,{"$f":"'Monthly Prices'!B144","v":1.64},1.700833333333333,{"$f":"_xlfn.XLOOKUP(P156,'Annual Real'!A:A,'Annual Real'!B:B,0,0)","v":6.9220737641998999},7.9648012200804121,7.9648012200804121,false,false,4.4041449999999996E-2,3.5980568328886076E-3,1.3575653349405363,7,"1971-05-01",7.9648012200804121]
[null,null,{"$f":"'Monthly Prices'!A145","v":"1971M07"},"1971-06-01",138,false,true,false,{"$error":"#N/A"},{"$f":"INDEX('Monthly Prices'!B145:CB145,$G$4)","v":0.18},{"$f":"IF(H157,INDEX('Monthly Prices'!B145:CB145,$G$4)*U157,FALSE)","v":false},true,{"$f":"INDEX('Monthly Prices'!B145:CB145,$G$5)","v":0.50224354379000002},{"$f":"IF(H157,INDEX('Monthly Prices'!B145:CB145,$G$5)*U157,FALSE)","v":false},true,1971,{"$f":"'Monthly Prices'!B145","v":1.74},1.700833333333333,{"$f":"_xlfn.XLOOKUP(P157,'Annual Real'!A:A,'Annual Real'!B:B,0,0)","v":6.9220737641998999},7.9347591573917446,7.9347591573917446,false,false,4.6391749999999995E-2,3.786134158928034E-3,1.3627052594281313,7,"1971-06-01",7.9347591573917446]
[null,null,{"$f":"'Monthly Prices'!A146","v":"1971M08"},"1971-07-01",139,false,true,false,{"$error":"#N/A"},{"$f":"INDEX('Monthly Prices'!B146:CB146,$G$4)","v":0.18},{"$f":"IF(H158,INDEX('Monthly Prices'!B146:CB146,$G$4)*U158,FALSE)","v":false},true,{"$f":"INDEX('Monthly Prices'!B146:CB146,$G$5)","v":0.50224354379000002},{"$f":"IF(H158,INDEX('Monthly Prices'!B146:CB146,$G$5)*U158,FALSE)","v":false},true,1971,{"$f":"'Monthly Prices'!B146","v":1.74},1.700833333333333,{"$f":"_xlfn.XLOOKUP(P158,'Annual Real'!A:A,'Annual Real'!B:B,0,0)","v":6.9220737641998999},7.9065969239614278,7.9065969239614278,false,false,4.3589740000000002E-2,3.5618653260254263E-3,1.3675590320412807,7,"1971-07-01",7.9065969239614278]
[null,null,{"$f":"'Monthly Prices'!A147","v":"1971M09"},"1971-08-01",140,false,true,false,{"$error":"#N/A"},{"$f":"INDEX('Monthly Prices'!B147:CB147,$G$4)","v":0.18},{"$f":"IF(H159,INDEX('Monthly Prices'!B147:CB147,$G$4)*U159,FALSE)","v":false},true,{"$f":"INDEX('Monthly Prices'!B147:CB147,$G$5)","v":0.50224354379000002},{"$f":"IF(H159,INDEX('Monthly Prices'!B147:CB147,$G$5)*U159,FALSE)","v":false},true,1971,{"$f":"'Monthly Prices'!B147","v":1.74},1.700833333333333,{"$f":"_xlfn.XLOOKUP(P159,'Annual Real'!A:A,'Annual Real'!B:B,0,0)","v":6.9220737641998999},7.8769236515606105,7.8769236515606105,false,false,4.6153849999999996E-2,3.7671143854414169E-3,1.3727107833438237,7,"1971-08-01",7.8769236515606105]
[null,null,{"$f":"'Monthly Prices'!A148","v":"1971M10"},"1971-09-01",141,false,true,false,{"$error":"#N/A"},{"$f":"INDEX('Monthly Prices'!B148:CB148,$G$4)","v":0.18},{"$f":"IF(H160,INDEX('Monthly Prices'!B148:CB148,$G$4)*U160,FALSE)","v":false},true,{"$f":"INDEX('Monthly Prices'!B148:CB148,$G$5)","v":0.50224354379000002},{"$f":"IF(H160,INDEX('Monthly Prices'!B148:CB148,$G$5)*U160,FALSE)","v":false},true,1971,{"$f":"'Monthly Prices'!B148","v":1.74},1.700833333333333,{"$f":"_xlfn.XLOOKUP(P160,'Annual Real'!A:A,'Annual Real'!B:B,0,0)","v":6.9220737641998999},7.8507074592707102,7.8507074592707102,false,false,4.0816329999999998E-2,3.3393413811315664E-3,1.3772947332669692,7,"1971-09-01",7.8507074592707102]
[null,null,{"$f":"'Monthly Prices'!A149","v":"1971M11"},"1971-10-01",142,false,true,false,{"$error":"#N/A"},{"$f":"INDEX('Monthly Prices'!B149:CB149,$G$4)","v":0.18},{"$f":"IF(H161,INDEX('Monthly Prices'!B149:CB149,$G$4)*U161,FALSE)","v":false},true,{"$f":"INDEX('Monthly Prices'!B149:CB149,$G$5)","v":0.50224354379000002},{"$f":"IF(H161,INDEX('Monthly Prices'!B149:CB149,$G$5)*U161,FALSE)","v":false},true,1971,{"$f":"'Monthly Prices'!B149","v":1.74},1.700833333333333,{"$f":"_xlfn.XLOOKUP(P161,'Annual Real'!A:A,'Annual Real'!B:B,0,0)","v":6.9220737641998999},7.8263008325069725,7.8263008325069725,false,false,3.80710599999999E-2,3.1185393056145649E-3,1.3815898810280782,7,"1971-10-01",7.8263008325069725]
[null,null,{"$f":"'Monthly Prices'!A150","v":"1971M12"},"1971-11-01",143,false,true,false,{"$error":"#N/A"},{"$f":"INDEX('Monthly Prices'!B150:CB150,$G$4)","v":0.18},{"$f":"IF(H162,INDEX('Monthly Prices'!B150:CB150,$G$4)*U162,FALSE)","v":false},true,{"$f":"INDEX('Monthly Prices'!B150:CB150,$G$5)","v":0.50224354379000002},{"$f":"IF(H162,INDEX('Monthly Prices'!B150:CB150,$G$5)*U162,FALSE)","v":false},true,1971,{"$f":"'Monthly Prices'!B150","v":1.74},1.700833333333333,{"$f":"_xlfn.XLOOKUP(P162,'Annual Real'!A:A,'Annual Real'!B:B,0,0)","v":6.9220737641998999},7.8052627523136096,7.8052627523136096,false,false,3.2828280000000001E-2,2.6953711695518745E-3,1.3853137785615459,7,"1971-11-01",7.8052627523136096]
[null,null,{"$f":"'Monthly Prices'!A151","v":"1972M01"},"1971-12-01",144,false,true,false,{"$error":"#N/A"},{"$f":"INDEX('Monthly Prices'!B151:CB151,$G$4)","v":0.19},{"$f":"IF(H163,INDEX('Monthly Prices'!B151:CB151,$G$4)*U163,FALSE)","v":false},true,{"$f":"INDEX('Monthly Prices'!B151:CB151,$G$5)","v":0.54216598655000003},{"$f":"IF(H163,INDEX('Monthly Prices'!B151:CB151,$G$5)*U163,FALSE)","v":false},true,1971,{"$f":"'Monthly Prices'!B151","v":1.77},1.700833333333333,{"$f":"_xlfn.XLOOKUP(P163,'Annual Real'!A:A,'Annual Real'!B:B,0,0)","v":6.9220737641998999},7.7843848407778911,7.7843848407778911,false,false,3.2663319999999996E-2,2.6820245867535952E-3,1.3890292241760165,7,"1971-12-01",7.7843848407778911]
[null,null,{"$f":"'Monthly Prices'!A152","v":"1972M02"},"1972-01-01",145,false,true,false,{"$error":"#N/A"},{"$f":"INDEX('Monthly Prices'!B152:CB152,$G$4)","v":0.19},{"$f":"IF(H164,INDEX('Monthly Prices'!B152:CB152,$G$4)*U164,FALSE)","v":false},true,{"$f":"INDEX('Monthly Prices'!B152:CB152,$G$5)","v":0.54216598655000003},{"$f":"IF(H164,INDEX('Monthly Prices'!B152:CB152,$G$5)*U164,FALSE)","v":false},true,1972,{"$f":"'Monthly Prices'!B152","v":1.77},1.8458333333333339,{"$f":"_xlfn.XLOOKUP(P164,'Annual Real'!A:A,'Annual Real'!B:B,0,0)","v":6.8337153143724203},7.7635627745357807,7.7635627745357807,false,false,3.2663319999999996E-2,2.6820245867535952E-3,1.3927546347069759,7,"1972-01-01",7.7635627745357807]
[null,null,{"$f":"'Monthly Prices'!A153","v":"1972M03"},"1972-02-01",146,false,true,false,{"$error":"#N/A"},{"$f":"INDEX('Monthly Prices'!B153:CB153,$G$4)","v":0.19},{"$f":"IF(H165,INDEX('Monthly Prices'!B153:CB153,$G$4)*U165,FALSE)","v":false},true,{"$f":"INDEX('Monthly Prices'!B153:CB153,$G$5)","v":0.54216598655000003},{"$f":"IF(H165,INDEX('Monthly Prices'!B153:CB153,$G$5)*U165,FALSE)","v":false},true,1972,{"$f":"'Monthly Prices'!B153","v":1.77},1.8458333333333339,{"$f":"_xlfn.XLOOKUP(P165,'Annual Real'!A:A,'Annual Real'!B:B,0,0)","v":6.8337153143724203},7.7412835036520864,7.7412835036520864,false,false,3.5087720000000003E-2,2.8779815224677652E-3,1.3967629568109938,7,"1972-02-01",7.7412835036520864]
[null,null,{"$f":"'Monthly Prices'!A154","v":"1972M04"},"1972-03-01",147,false,true,false,{"$error":"#N/A"},{"$f":"INDEX('Monthly Prices'!B154:CB154,$G$4)","v":0.19},{"$f":"IF(H166,INDEX('Monthly Prices'!B154:CB154,$G$4)*U166,FALSE)","v":false},true,{"$f":"INDEX('Monthly Prices'!B154:CB154,$G$5)","v":0.54216598655000003},{"$f":"IF(H166,INDEX('Monthly Prices'!B154:CB154,$G$5)*U166,FALSE)","v":false},true,1972,{"$f":"'Monthly Prices'!B154","v":1.77},1.8458333333333339,{"$f":"_xlfn.XLOOKUP(P166,'Annual Real'!A:A,'Annual Real'!B:B,0,0)","v":6.8337153143724203},7.7191226842255478,7.7191226842255478,false,false,3.5000000000000003E-2,2.8708987190766422E-3,1.4007729217945561,7,"1972-03-01",7.7191226842255478]
[null,null,{"$f":"'Monthly Prices'!A155","v":"1972M05"},"1972-04-01",148,false,true,false,{"$error":"#N/A"},{"$f":"INDEX('Monthly Prices'!B155:CB155,$G$4)","v":0.19},{"$f":"IF(H167,INDEX('Monthly Prices'!B155:CB155,$G$4)*U167,FALSE)","v":false},true,{"$f":"INDEX('Monthly Prices'!B155:CB155,$G$5)","v":0.54216598655000003},{"$f":"IF(H167,INDEX('Monthly Prices'!B155:CB155,$G$5)*U167,FALSE)","v":false},true,1972,{"$f":"'Monthly Prices'!B155","v":1.77},1.8458333333333339,{"$f":"_xlfn.XLOOKUP(P167,'Annual Real'!A:A,'Annual Real'!B:B,0,0)","v":6.8337153143724203},7.6970793964948001,7.6970793964948001,false,false,3.4912720000000001E-2,2.8638508965863618E-3,1.4047845265825514,7,"1972-04-01",7.6970793964948001]
[null,null,{"$f":"'Monthly Prices'!A156","v":"1972M06"},"1972-05-01",149,false,true,false,{"$error":"#N/A"},{"$f":"INDEX('Monthly Prices'!B156:CB156,$G$4)","v":0.19},{"$f":"IF(H168,INDEX('Monthly Prices'!B156:CB156,$G$4)*U168,FALSE)","v":false},true,{"$f":"INDEX('Monthly Prices'!B156:CB156,$G$5)","v":0.54216598655000003},{"$f":"IF(H168,INDEX('Monthly Prices'!B156:CB156,$G$5)*U168,FALSE)","v":false},true,1972,{"$f":"'Monthly Prices'!B156","v":1.77},1.8458333333333339,{"$f":"_xlfn.XLOOKUP(P168,'Annual Real'!A:A,'Annual Real'!B:B,0,0)","v":6.8337153143724203},7.6767419604853728,7.6767419604853728,false,false,3.2258059999999998E-2,2.6492275126752673E-3,1.4085061203997544,7,"1972-05-01",7.6767419604853728]
[null,null,{"$f":"'Monthly Prices'!A157","v":"1972M07"},"1972-06-01",150,false,true,false,{"$error":"#N/A"},{"$f":"INDEX('Monthly Prices'!B157:CB157,$G$4)","v":0.19},{"$f":"IF(H169,INDEX('Monthly Prices'!B157:CB157,$G$4)*U169,FALSE)","v":false},true,{"$f":"INDEX('Monthly Prices'!B157:CB157,$G$5)","v":0.54216598655000003},{"$f":"IF(H169,INDEX('Monthly Prices'!B157:CB157,$G$5)*U169,FALSE)","v":false},true,1972,{"$f":"'Monthly Prices'!B157","v":1.87},1.8458333333333339,{"$f":"_xlfn.XLOOKUP(P169,'Annual Real'!A:A,'Annual Real'!B:B,0,0)","v":6.8337153143724203},7.6596590916316556,7.6596590916316556,false,false,2.7093599999999898E-2,2.2302387938362145E-3,1.4116474253908258,7,"1972-06-01",7.6596590916316556]
[null,null,{"$f":"'Monthly Prices'!A158","v":"1972M08"},"1972-07-01",151,false,true,false,{"$error":"#N/A"},{"$f":"INDEX('Monthly Prices'!B158:CB158,$G$4)","v":0.19},{"$f":"IF(H170,INDEX('Monthly Prices'!B158:CB158,$G$4)*U170,FALSE)","v":false},true,{"$f":"INDEX('Monthly Prices'!B158:CB158,$G$5)","v":0.54216598655000003},{"$f":"IF(H170,INDEX('Monthly Prices'!B158:CB158,$G$5)*U170,FALSE)","v":false},true,1972,{"$f":"'Monthly Prices'!B158","v":1.87},1.8458333333333339,{"$f":"_xlfn.XLOOKUP(P170,'Annual Real'!A:A,'Annual Real'!B:B,0,0)","v":6.8337153143724203},7.6411338346067375,7.6411338346067375,false,false,2.9484029999999998E-2,2.4244120605527719E-3,1.4150698404341915,7,"1972-07-01",7.6411338346067375]
[null,null,{"$f":"'Monthly Prices'!A159","v":"1972M09"},"1972-08-01",152,false,true,false,{"$error":"#N/A"},{"$f":"INDEX('Monthly Prices'!B159:CB159,$G$4)","v":0.19},{"$f":"IF(H171,INDEX('Monthly Prices'!B159:CB159,$G$4)*U171,FALSE)","v":false},true,{"$f":"INDEX('Monthly Prices'!B159:CB159,$G$5)","v":0.54216598655000003},{"$f":"IF(H171,INDEX('Monthly Prices'!B159:CB159,$G$5)*U171,FALSE)","v":false},true,1972,{"$f":"'Monthly Prices'!B159","v":1.87},1.8458333333333339,{"$f":"_xlfn.XLOOKUP(P171,'Annual Real'!A:A,'Annual Real'!B:B,0,0)","v":6.8337153143724203},7.6226979761688822,7.6226979761688822,false,false,2.9411759999999999E-2,2.41854767111227E-3,1.4184922543012348,7,"1972-08-01",7.6226979761688822]
[null,null,{"$f":"'Monthly Prices'!A160","v":"1972M10"},"1972-09-01",153,false,true,false,{"$error":"#N/A"},{"$f":"INDEX('Monthly Prices'!B160:CB160,$G$4)","v":0.19},{"$f":"IF(H172,INDEX('Monthly Prices'!B160:CB160,$G$4)*U172,FALSE)","v":false},true,{"$f":"INDEX('Monthly Prices'!B160:CB160,$G$5)","v":0.54216598655000003},{"$f":"IF(H172,INDEX('Monthly Prices'!B160:CB160,$G$5)*U172,FALSE)","v":false},true,1972,{"$f":"'Monthly Prices'!B160","v":1.87},1.8458333333333339,{"$f":"_xlfn.XLOOKUP(P172,'Annual Real'!A:A,'Annual Real'!B:B,0,0)","v":6.8337153143724203},7.6027997439075969,7.6027997439075969,false,false,3.1862750000000002E-2,2.6172243030904152E-3,1.4222047667029376,7,"1972-09-01",7.6027997439075969]
[null,null,{"$f":"'Monthly Prices'!A161","v":"1972M11"},"1972-10-01",154,false,true,false,{"$error":"#N/A"},{"$f":"INDEX('Monthly Prices'!B161:CB161,$G$4)","v":0.19},{"$f":"IF(H173,INDEX('Monthly Prices'!B161:CB161,$G$4)*U173,FALSE)","v":false},true,{"$f":"INDEX('Monthly Prices'!B161:CB161,$G$5)","v":0.54216598655000003},{"$f":"IF(H173,INDEX('Monthly Prices'!B161:CB161,$G$5)*U173,FALSE)","v":false},true,1972,{"$f":"'Monthly Prices'!B161","v":1.87},1.8458333333333339,{"$f":"_xlfn.XLOOKUP(P173,'Annual Real'!A:A,'Annual Real'!B:B,0,0)","v":6.8337153143724203},7.5815056523301463,7.5815056523301463,false,false,3.4229829999999996E-2,2.8086890063725445E-3,1.4261992975959867,7,"1972-10-01",7.5815056523301463]
[null,null,{"$f":"'Monthly Prices'!A162","v":"1972M12"},"1972-11-01",155,false,true,false,{"$error":"#N/A"},{"$f":"INDEX('Monthly Prices'!B162:CB162,$G$4)","v":0.19},{"$f":"IF(H174,INDEX('Monthly Prices'!B162:CB162,$G$4)*U174,FALSE)","v":false},true,{"$f":"INDEX('Monthly Prices'!B162:CB162,$G$5)","v":0.54216598655000003},{"$f":"IF(H174,INDEX('Monthly Prices'!B162:CB162,$G$5)*U174,FALSE)","v":false},true,1972,{"$f":"'Monthly Prices'!B162","v":1.87},1.8458333333333339,{"$f":"_xlfn.XLOOKUP(P174,'Annual Real'!A:A,'Annual Real'!B:B,0,0)","v":6.8337153143724203},7.558783689364077,7.558783689364077,false,false,3.6674820000000004E-2,3.0060342906810256E-3,1.4304865015899055,7,"1972-11-01",7.558783689364077]
[null,null,{"$f":"'Monthly Prices'!A163","v":"1973M01"},"1972-12-01",156,false,true,false,{"$error":"#N/A"},{"$f":"INDEX('Monthly Prices'!B163:CB163,$G$4)","v":0.21},{"$f":"IF(H175,INDEX('Monthly Prices'!B163:CB163,$G$4)*U175,FALSE)","v":false},true,{"$f":"INDEX('Monthly Prices'!B163:CB163,$G$5)","v":0.69350672431000004},{"$f":"IF(H175,INDEX('Monthly Prices'!B163:CB163,$G$5)*U175,FALSE)","v":false},true,1972,{"$f":"'Monthly Prices'!B163","v":2.08},1.8458333333333339,{"$f":"_xlfn.XLOOKUP(P175,'Annual Real'!A:A,'Annual Real'!B:B,0,0)","v":6.8337153143724203},7.537714053234521,7.537714053234521,false,false,3.4063259999999998E-2,2.7952288957571181E-3,1.4344850387941401,7,"1972-12-01",7.537714053234521]
[null,null,{"$f":"'Monthly Prices'!A164","v":"1973M02"},"1973-01-01",157,false,true,false,{"$error":"#N/A"},{"$f":"INDEX('Monthly Prices'!B164:CB164,$G$4)","v":0.21},{"$f":"IF(H176,INDEX('Monthly Prices'!B164:CB164,$G$4)*U176,FALSE)","v":false},true,{"$f":"INDEX('Monthly Prices'!B164:CB164,$G$5)","v":0.69350672431000004},{"$f":"IF(H176,INDEX('Monthly Prices'!B164:CB164,$G$5)*U176,FALSE)","v":false},true,1973,{"$f":"'Monthly Prices'!B164","v":2.08},3.7174999999999998,{"$f":"_xlfn.XLOOKUP(P176,'Annual Real'!A:A,'Annual Real'!B:B,0,0)","v":9.0897023938691195},7.5152311594375671,7.5152311594375671,false,false,3.6496349999999997E-2,2.9916436793457901E-3,1.4387765068935647,7,"1973-01-01",7.5152311594375671]
[null,null,{"$f":"'Monthly Prices'!A165","v":"1973M03"},"1973-02-01",158,false,true,false,{"$error":"#N/A"},{"$f":"INDEX('Monthly Prices'!B165:CB165,$G$4)","v":0.21},{"$f":"IF(H177,INDEX('Monthly Prices'!B165:CB165,$G$4)*U177,FALSE)","v":false},true,{"$f":"INDEX('Monthly Prices'!B165:CB165,$G$5)","v":0.69350672431000004},{"$f":"IF(H177,INDEX('Monthly Prices'!B165:CB165,$G$5)*U177,FALSE)","v":false},true,1973,{"$f":"'Monthly Prices'!B165","v":2.08},3.7174999999999998,{"$f":"_xlfn.XLOOKUP(P177,'Annual Real'!A:A,'Annual Real'!B:B,0,0)","v":9.0897023938691195},7.4914647461841337,7.4914647461841337,false,false,3.8740919999999901E-2,3.1724654735296731E-3,1.4433409756858102,7,"1973-02-01",7.4914647461841337]
[null,null,{"$f":"'Monthly Prices'!A166","v":"1973M04"},"1973-03-01",159,false,true,false,{"$error":"#N/A"},{"$f":"INDEX('Monthly Prices'!B166:CB166,$G$4)","v":0.21},{"$f":"IF(H178,INDEX('Monthly Prices'!B166:CB166,$G$4)*U178,FALSE)","v":false},true,{"$f":"INDEX('Monthly Prices'!B166:CB166,$G$5)","v":0.69350672431000004},{"$f":"IF(H178,INDEX('Monthly Prices'!B166:CB166,$G$5)*U178,FALSE)","v":false},true,1973,{"$f":"'Monthly Prices'!B166","v":2.35},3.7174999999999998,{"$f":"_xlfn.XLOOKUP(P178,'Annual Real'!A:A,'Annual Real'!B:B,0,0)","v":9.0897023938691195},7.4635041250273435,7.4635041250273435,false,false,4.5893719999999999E-2,3.7463128161248083E-3,1.44874818248106,7,"1973-03-01",7.4635041250273435]
[null,null,{"$f":"'Monthly Prices'!A167","v":"1973M05"},"1973-04-01",160,false,true,false,{"$error":"#N/A"},{"$f":"INDEX('Monthly Prices'!B167:CB167,$G$4)","v":0.21},{"$f":"IF(H179,INDEX('Monthly Prices'!B167:CB167,$G$4)*U179,FALSE)","v":false},true,{"$f":"INDEX('Monthly Prices'!B167:CB167,$G$5)","v":0.69350672431000004},{"$f":"IF(H179,INDEX('Monthly Prices'!B167:CB167,$G$5)*U179,FALSE)","v":false},true,1973,{"$f":"'Monthly Prices'!B167","v":2.35},3.7174999999999998,{"$f":"_xlfn.XLOOKUP(P179,'Annual Real'!A:A,'Annual Real'!B:B,0,0)","v":9.0897023938691195},7.4328649913315568,7.4328649913315568,false,false,5.0602410000000007E-2,4.1221162676194911E-3,1.4547200909317493,7,"1973-04-01",7.4328649913315568]
[null,null,{"$f":"'Monthly Prices'!A168","v":"1973M06"},"1973-05-01",161,false,true,false,{"$error":"#N/A"},{"$f":"INDEX('Monthly Prices'!B168:CB168,$G$4)","v":0.21},{"$f":"IF(H180,INDEX('Monthly Prices'!B168:CB168,$G$4)*U180,FALSE)","v":false},true,{"$f":"INDEX('Monthly Prices'!B168:CB168,$G$5)","v":0.69350672431000004},{"$f":"IF(H180,INDEX('Monthly Prices'!B168:CB168,$G$5)*U180,FALSE)","v":false},true,1973,{"$f":"'Monthly Prices'!B168","v":2.35},3.7174999999999998,{"$f":"_xlfn.XLOOKUP(P180,'Annual Real'!A:A,'Annual Real'!B:B,0,0)","v":9.0897023938691195},7.3996068435562252,7.3996068435562252,false,false,5.5288459999999998E-2,4.4945830877884951E-3,1.4612584512499172,7,"1973-05-01",7.3996068435562252]
[null,null,{"$f":"'Monthly Prices'!A169","v":"1973M07"},"1973-06-01",162,false,true,false,{"$error":"#N/A"},{"$f":"INDEX('Monthly Prices'!B169:CB169,$G$4)","v":0.21},{"$f":"IF(H181,INDEX('Monthly Prices'!B169:CB169,$G$4)*U181,FALSE)","v":false},true,{"$f":"INDEX('Monthly Prices'!B169:CB169,$G$5)","v":0.69350672431000004},{"$f":"IF(H181,INDEX('Monthly Prices'!B169:CB169,$G$5)*U181,FALSE)","v":false},true,1973,{"$f":"'Monthly Prices'!B169","v":2.7},3.7174999999999998,{"$f":"_xlfn.XLOOKUP(P181,'Annual Real'!A:A,'Annual Real'!B:B,0,0)","v":9.0897023938691195},7.3637911183940918,7.3637911183940918,false,false,5.9952040000000005E-2,4.863761693710833E-3,1.4683656641297178,7,"1973-06-01",7.3637911183940918]
[null,null,{"$f":"'Monthly Prices'!A170","v":"1973M08"},"1973-07-01",163,false,true,false,{"$error":"#N/A"},{"$f":"INDEX('Monthly Prices'!B170:CB170,$G$4)","v":0.21},{"$f":"IF(H182,INDEX('Monthly Prices'!B170:CB170,$G$4)*U182,FALSE)","v":false},true,{"$f":"INDEX('Monthly Prices'!B170:CB170,$G$5)","v":0.69350672431000004},{"$f":"IF(H182,INDEX('Monthly Prices'!B170:CB170,$G$5)*U182,FALSE)","v":false},true,1973,{"$f":"'Monthly Prices'!B170","v":2.7},3.7174999999999998,{"$f":"_xlfn.XLOOKUP(P182,'Annual Real'!A:A,'Annual Real'!B:B,0,0)","v":9.0897023938691195},7.3296907647010974,7.3296907647010974,false,false,5.7279229999999993E-2,4.6523591223270877E-3,1.4751970285221436,7,"1973-07-01",7.3296907647010974]
[null,null,{"$f":"'Monthly Prices'!A171","v":"1973M09"},"1973-08-01",164,false,true,false,{"$error":"#N/A"},{"$f":"INDEX('Monthly Prices'!B171:CB171,$G$4)","v":0.21},{"$f":"IF(H183,INDEX('Monthly Prices'!B171:CB171,$G$4)*U183,FALSE)","v":false},true,{"$f":"INDEX('Monthly Prices'!B171:CB171,$G$5)","v":0.69350672431000004},{"$f":"IF(H183,INDEX('Monthly Prices'!B171:CB171,$G$5)*U183,FALSE)","v":false},true,1973,{"$f":"'Monthly Prices'!B171","v":2.7},3.7174999999999998,{"$f":"_xlfn.XLOOKUP(P183,'Annual Real'!A:A,'Annual Real'!B:B,0,0)","v":9.0897023938691195},7.286322364590391,7.286322364590391,false,false,7.3809520000000003E-2,5.9520287383201254E-3,1.4839774436305919,7,"1973-08-01",7.286322364590391]
[null,null,{"$f":"'Monthly Prices'!A172","v":"1973M10"},"1973-09-01",165,false,true,false,{"$error":"#N/A"},{"$f":"INDEX('Monthly Prices'!B172:CB172,$G$4)","v":0.21},{"$f":"IF(H184,INDEX('Monthly Prices'!B172:CB172,$G$4)*U184,FALSE)","v":false},true,{"$f":"INDEX('Monthly Prices'!B172:CB172,$G$5)","v":0.69350672431000004},{"$f":"IF(H184,INDEX('Monthly Prices'!B172:CB172,$G$5)*U184,FALSE)","v":false},true,1973,{"$f":"'Monthly Prices'!B172","v":4.0999999999999996},3.7174999999999998,{"$f":"_xlfn.XLOOKUP(P184,'Annual Real'!A:A,'Annual Real'!B:B,0,0)","v":9.0897023938691195},7.2433091252744664,7.2433091252744664,false,false,7.3634199999999997E-2,5.9383409670914489E-3,1.492789807678343,7,"1973-09-01",7.2433091252744664]
[null,null,{"$f":"'Monthly Prices'!A173","v":"1973M11"},"1973-10-01",166,false,true,false,{"$error":"#N/A"},{"$f":"INDEX('Monthly Prices'!B173:CB173,$G$4)","v":0.21},{"$f":"IF(H185,INDEX('Monthly Prices'!B173:CB173,$G$4)*U185,FALSE)","v":false},true,{"$f":"INDEX('Monthly Prices'!B173:CB173,$G$5)","v":0.69350672431000004},{"$f":"IF(H185,INDEX('Monthly Prices'!B173:CB173,$G$5)*U185,FALSE)","v":false},true,1973,{"$f":"'Monthly Prices'!B173","v":4.0999999999999996},3.7174999999999998,{"$f":"_xlfn.XLOOKUP(P185,'Annual Real'!A:A,'Annual Real'!B:B,0,0)","v":9.0897023938691195},7.1981072626807956,7.1981072626807956,false,false,7.8014179999999905E-2,6.279687276685042E-3,1.5021640608403859,7,"1973-10-01",7.1981072626807956]
[null,null,{"$f":"'Monthly Prices'!A174","v":"1973M12"},"1973-11-01",167,false,true,false,{"$error":"#N/A"},{"$f":"INDEX('Monthly Prices'!B174:CB174,$G$4)","v":0.21},{"$f":"IF(H186,INDEX('Monthly Prices'!B174:CB174,$G$4)*U186,FALSE)","v":false},true,{"$f":"INDEX('Monthly Prices'!B174:CB174,$G$5)","v":0.69350672431000004},{"$f":"IF(H186,INDEX('Monthly Prices'!B174:CB174,$G$5)*U186,FALSE)","v":false},true,1973,{"$f":"'Monthly Prices'!B174","v":4.0999999999999996},3.7174999999999998,{"$f":"_xlfn.XLOOKUP(P186,'Annual Real'!A:A,'Annual Real'!B:B,0,0)","v":9.0897023938691195},7.1506866116456624,7.1506866116456624,false,false,8.2547169999999989E-2,6.6316220540141302E-3,1.5121258451550024,7,"1973-11-01",7.1506866116456624]
[null,null,{"$f":"'Monthly Prices'!A175","v":"1974M01"},"1973-12-01",168,false,true,false,{"$error":"#N/A"},{"$f":"INDEX('Monthly Prices'!B175:CB175,$G$4)","v":0.28999999999999998},{"$f":"IF(H187,INDEX('Monthly Prices'!B175:CB175,$G$4)*U187,FALSE)","v":false},true,{"$f":"INDEX('Monthly Prices'!B175:CB175,$G$5)","v":1.73},{"$f":"IF(H187,INDEX('Monthly Prices'!B175:CB175,$G$5)*U187,FALSE)","v":false},true,1973,{"$f":"'Monthly Prices'!B175","v":13},3.7174999999999998,{"$f":"_xlfn.XLOOKUP(P187,'Annual Real'!A:A,'Annual Real'!B:B,0,0)","v":9.0897023938691195},7.1011168307813026,7.1011168307813026,false,false,8.7058820000000009E-2,6.9805612336202305E-3,1.5226813322100465,7,"1973-12-01",7.1011168307813026]
[null,null,{"$f":"'Monthly Prices'!A176","v":"1974M02"},"1974-01-01",169,false,true,false,{"$error":"#N/A"},{"$f":"INDEX('Monthly Prices'!B176:CB176,$G$4)","v":0.28999999999999998},{"$f":"IF(H188,INDEX('Monthly Prices'!B176:CB176,$G$4)*U188,FALSE)","v":false},true,{"$f":"INDEX('Monthly Prices'!B176:CB176,$G$5)","v":1.73},{"$f":"IF(H188,INDEX('Monthly Prices'!B176:CB176,$G$5)*U188,FALSE)","v":false},true,1974,{"$f":"'Monthly Prices'!B176","v":13},10.759999434152499,{"$f":"_xlfn.XLOOKUP(P188,'Annual Real'!A:A,'Annual Real'!B:B,0,0)","v":29.157855852327501},7.0482066934336256,7.0482066934336256,false,false,9.3896709999999994E-2,7.5068935473998621E-3,1.5341119388775604,7,"1974-01-01",7.0482066934336256]
[null,null,{"$f":"'Monthly Prices'!A177","v":"1974M03"},"1974-02-01",170,false,true,false,{"$error":"#N/A"},{"$f":"INDEX('Monthly Prices'!B177:CB177,$G$4)","v":0.28999999999999998},{"$f":"IF(H189,INDEX('Monthly Prices'!B177:CB177,$G$4)*U189,FALSE)","v":false},true,{"$f":"INDEX('Monthly Prices'!B177:CB177,$G$5)","v":1.73},{"$f":"IF(H189,INDEX('Monthly Prices'!B177:CB177,$G$5)*U189,FALSE)","v":false},true,1974,{"$f":"'Monthly Prices'!B177","v":13},10.759999434152499,{"$f":"_xlfn.XLOOKUP(P189,'Annual Real'!A:A,'Annual Real'!B:B,0,0)","v":29.157855852327501},6.9923244655823567,6.9923244655823567,false,false,0.10023310000000001,7.9919386073017407E-3,1.5463724673097985,7,"1974-02-01",6.9923244655823567]
[null,null,{"$f":"'Monthly Prices'!A178","v":"1974M04"},"1974-03-01",171,false,true,false,{"$error":"#N/A"},{"$f":"INDEX('Monthly Prices'!B178:CB178,$G$4)","v":0.28999999999999998},{"$f":"IF(H190,INDEX('Monthly Prices'!B178:CB178,$G$4)*U190,FALSE)","v":false},true,{"$f":"INDEX('Monthly Prices'!B178:CB178,$G$5)","v":1.73},{"$f":"IF(H190,INDEX('Monthly Prices'!B178:CB178,$G$5)*U190,FALSE)","v":false},true,1974,{"$f":"'Monthly Prices'!B178","v":10.59999847412},10.759999434152499,{"$f":"_xlfn.XLOOKUP(P190,'Annual Real'!A:A,'Annual Real'!B:B,0,0)","v":29.157855852327501},6.9349484835646305,6.9349484835646305,false,false,0.10392609999999999,8.2734546844440704E-3,1.5591663098433581,7,"1974-03-01",6.9349484835646305]
[null,null,{"$f":"'Monthly Prices'!A179","v":"1974M05"},"1974-04-01",172,false,true,false,{"$error":"#N/A"},{"$f":"INDEX('Monthly Prices'!B179:CB179,$G$4)","v":0.28999999999999998},{"$f":"IF(H191,INDEX('Monthly Prices'!B179:CB179,$G$4)*U191,FALSE)","v":false},true,{"$f":"INDEX('Monthly Prices'!B179:CB179,$G$5)","v":1.73},{"$f":"IF(H191,INDEX('Monthly Prices'!B179:CB179,$G$5)*U191,FALSE)","v":false},true,1974,{"$f":"'Monthly Prices'!B179","v":10.59999847412},10.759999434152499,{"$f":"_xlfn.XLOOKUP(P191,'Annual Real'!A:A,'Annual Real'!B:B,0,0)","v":29.157855852327501},6.8796077638482753,6.8796077638482753,false,false,0.10091739999999999,8.0441678677041217E-3,1.5717085053734068,7,"1974-04-01",6.8796077638482753]
[null,null,{"$f":"'Monthly Prices'!A180","v":"1974M06"},"1974-05-01",173,false,true,false,{"$error":"#N/A"},{"$f":"INDEX('Monthly Prices'!B180:CB180,$G$4)","v":0.28999999999999998},{"$f":"IF(H192,INDEX('Monthly Prices'!B180:CB180,$G$4)*U192,FALSE)","v":false},true,{"$f":"INDEX('Monthly Prices'!B180:CB180,$G$5)","v":1.73},{"$f":"IF(H192,INDEX('Monthly Prices'!B180:CB180,$G$5)*U192,FALSE)","v":false},true,1974,{"$f":"'Monthly Prices'!B180","v":10.59999847412},10.759999434152499,{"$f":"_xlfn.XLOOKUP(P192,'Annual Real'!A:A,'Annual Real'!B:B,0,0)","v":29.157855852327501},6.82154422337618,6.82154422337618,false,false,0.10706149999999999,8.511788323987135E-3,1.5850865554781555,7,"1974-05-01",6.82154422337618]
[null,null,{"$f":"'Monthly Prices'!A181","v":"1974M07"},"1974-06-01",174,false,true,false,{"$error":"#N/A"},{"$f":"INDEX('Monthly Prices'!B181:CB181,$G$4)","v":0.28999999999999998},{"$f":"IF(H193,INDEX('Monthly Prices'!B181:CB181,$G$4)*U193,FALSE)","v":false},true,{"$f":"INDEX('Monthly Prices'!B181:CB181,$G$5)","v":1.73},{"$f":"IF(H193,INDEX('Monthly Prices'!B181:CB181,$G$5)*U193,FALSE)","v":false},true,1974,{"$f":"'Monthly Prices'!B181","v":10},10.759999434152499,{"$f":"_xlfn.XLOOKUP(P193,'Annual Real'!A:A,'Annual Real'!B:B,0,0)","v":29.157855852327501},6.7631893653373938,6.7631893653373938,false,false,0.10859730000000001,8.628304618803817E-3,1.5987631651259915,7,"1974-06-01",6.7631893653373938]
[null,null,{"$f":"'Monthly Prices'!A182","v":"1974M08"},"1974-07-01",175,false,true,false,{"$error":"#N/A"},{"$f":"INDEX('Monthly Prices'!B182:CB182,$G$4)","v":0.28999999999999998},{"$f":"IF(H194,INDEX('Monthly Prices'!B182:CB182,$G$4)*U194,FALSE)","v":false},true,{"$f":"INDEX('Monthly Prices'!B182:CB182,$G$5)","v":1.73},{"$f":"IF(H194,INDEX('Monthly Prices'!B182:CB182,$G$5)*U194,FALSE)","v":false},true,1974,{"$f":"'Monthly Prices'!B182","v":10},10.759999434152499,{"$f":"_xlfn.XLOOKUP(P194,'Annual Real'!A:A,'Annual Real'!B:B,0,0)","v":29.157855852327501},6.7020543812730153,6.7020543812730153,false,false,0.11512409999999999,9.1218275153366335E-3,1.6133468069561445,7,"1974-07-01",6.7020543812730153]
[null,null,{"$f":"'Monthly Prices'!A183","v":"1974M09"},"1974-08-01",176,false,true,false,{"$error":"#N/A"},{"$f":"INDEX('Monthly Prices'!B183:CB183,$G$4)","v":0.28999999999999998},{"$f":"IF(H195,INDEX('Monthly Prices'!B183:CB183,$G$4)*U195,FALSE)","v":false},true,{"$f":"INDEX('Monthly Prices'!B183:CB183,$G$5)","v":1.73},{"$f":"IF(H195,INDEX('Monthly Prices'!B183:CB183,$G$5)*U195,FALSE)","v":false},true,1974,{"$f":"'Monthly Prices'!B183","v":10},10.759999434152499,{"$f":"_xlfn.XLOOKUP(P195,'Annual Real'!A:A,'Annual Real'!B:B,0,0)","v":29.157855852327501},6.64469662486185,6.64469662486185,false,false,0.10864750000000001,8.6321106364066758E-3,1.6272733950886833,7,"1974-08-01",6.64469662486185]
[null,null,{"$f":"'Monthly Prices'!A184","v":"1974M10"},"1974-09-01",177,false,true,false,{"$error":"#N/A"},{"$f":"INDEX('Monthly Prices'!B184:CB184,$G$4)","v":0.28999999999999998},{"$f":"IF(H196,INDEX('Monthly Prices'!B184:CB184,$G$4)*U196,FALSE)","v":false},true,{"$f":"INDEX('Monthly Prices'!B184:CB184,$G$5)","v":1.73},{"$f":"IF(H196,INDEX('Monthly Prices'!B184:CB184,$G$5)*U196,FALSE)","v":false},true,1974,{"$f":"'Monthly Prices'!B184","v":10.29999923706},10.759999434152499,{"$f":"_xlfn.XLOOKUP(P196,'Annual Real'!A:A,'Annual Real'!B:B,0,0)","v":29.157855852327501},6.5824992448207222,6.5824992448207222,false,false,0.11946899999999999,9.4489004446245417E-3,1.6426493393950625,7,"1974-09-01",6.5824992448207222]
[null,null,{"$f":"'Monthly Prices'!A185","v":"1974M11"},"1974-10-01",178,false,true,false,{"$error":"#N/A"},{"$f":"INDEX('Monthly Prices'!B185:CB185,$G$4)","v":0.28999999999999998},{"$f":"IF(H197,INDEX('Monthly Prices'!B185:CB185,$G$4)*U197,FALSE)","v":false},true,{"$f":"INDEX('Monthly Prices'!B185:CB185,$G$5)","v":1.73},{"$f":"IF(H197,INDEX('Monthly Prices'!B185:CB185,$G$5)*U197,FALSE)","v":false},true,1974,{"$f":"'Monthly Prices'!B185","v":10.29999923706},10.759999434152499,{"$f":"_xlfn.XLOOKUP(P197,'Annual Real'!A:A,'Annual Real'!B:B,0,0)","v":29.157855852327501},6.5203285680933138,6.5203285680933138,false,false,0.12061400000000001,9.5348993655988146E-3,1.6583118355391617,7,"1974-10-01",6.5203285680933138]
[null,null,{"$f":"'Monthly Prices'!A186","v":"1974M12"},"1974-11-01",179,false,true,false,{"$error":"#N/A"},{"$f":"INDEX('Monthly Prices'!B186:CB186,$G$4)","v":0.28999999999999998},{"$f":"IF(H198,INDEX('Monthly Prices'!B186:CB186,$G$4)*U198,FALSE)","v":false},true,{"$f":"INDEX('Monthly Prices'!B186:CB186,$G$5)","v":1.73},{"$f":"IF(H198,INDEX('Monthly Prices'!B186:CB186,$G$5)*U198,FALSE)","v":false},true,1974,{"$f":"'Monthly Prices'!B186","v":10.29999923706},10.759999434152499,{"$f":"_xlfn.XLOOKUP(P198,'Annual Real'!A:A,'Annual Real'!B:B,0,0)","v":29.157855852327501},6.4580777256641211,6.4580777256641211,false,false,0.12200439999999899,9.6392216188123658E-3,1.6742966708350233,7,"1974-11-01",6.4580777256641211]
[null,null,{"$f":"'Monthly Prices'!A187","v":"1975M01"},"1974-12-01",180,false,true,false,{"$error":"#N/A"},{"$f":"INDEX('Monthly Prices'!B187:CB187,$G$4)","v":0.43},{"$f":"IF(H199,INDEX('Monthly Prices'!B187:CB187,$G$4)*U199,FALSE)","v":false},true,{"$f":"INDEX('Monthly Prices'!B187:CB187,$G$5)","v":1.6820935907700001},{"$f":"IF(H199,INDEX('Monthly Prices'!B187:CB187,$G$5)*U199,FALSE)","v":false},true,1974,{"$f":"'Monthly Prices'!B187","v":10.42000007629},10.759999434152499,{"$f":"_xlfn.XLOOKUP(P199,'Annual Real'!A:A,'Annual Real'!B:B,0,0)","v":29.157855852327501},6.3957697390738995,6.3957697390738995,false,false,0.1233766,9.7420621961359366E-3,1.6906077731370814,7,"1974-12-01",6.3957697390738995]
[null,null,{"$f":"'Monthly Prices'!A188","v":"1975M02"},"1975-01-01",181,false,true,false,{"$error":"#N/A"},{"$f":"INDEX('Monthly Prices'!B188:CB188,$G$4)","v":0.43},{"$f":"IF(H200,INDEX('Monthly Prices'!B188:CB188,$G$4)*U200,FALSE)","v":false},true,{"$f":"INDEX('Monthly Prices'!B188:CB188,$G$5)","v":1.6820935907700001},{"$f":"IF(H200,INDEX('Monthly Prices'!B188:CB188,$G$5)*U200,FALSE)","v":false},true,1975,{"$f":"'Monthly Prices'!B188","v":10.42000007629},10.523333470026667,{"$f":"_xlfn.XLOOKUP(P200,'Annual Real'!A:A,'Annual Real'!B:B,0,0)","v":24.956436002412499},6.3365835815061882,6.3365835815061882,false,false,0.11802580000000001,9.3403893133281457E-3,1.7063987079143206,7,"1975-01-01",6.3365835815061882]
[null,null,{"$f":"'Monthly Prices'!A189","v":"1975M03"},"1975-02-01",182,false,true,false,{"$error":"#N/A"},{"$f":"INDEX('Monthly Prices'!B189:CB189,$G$4)","v":0.43},{"$f":"IF(H201,INDEX('Monthly Prices'!B189:CB189,$G$4)*U201,FALSE)","v":false},true,{"$f":"INDEX('Monthly Prices'!B189:CB189,$G$5)","v":1.6820935907700001},{"$f":"IF(H201,INDEX('Monthly Prices'!B189:CB189,$G$5)*U201,FALSE)","v":false},true,1975,{"$f":"'Monthly Prices'!B189","v":10.42000007629},10.523333470026667,{"$f":"_xlfn.XLOOKUP(P201,'Annual Real'!A:A,'Annual Real'!B:B,0,0)","v":24.956436002412499},6.2806374840070269,6.2806374840070269,false,false,0.11228809999999999,8.9077100281018673E-3,1.721598812796749,7,"1975-02-01",6.2806374840070269]
[null,null,{"$f":"'Monthly Prices'!A190","v":"1975M04"},"1975-03-01",183,false,true,false,{"$error":"#N/A"},{"$f":"INDEX('Monthly Prices'!B190:CB190,$G$4)","v":0.43},{"$f":"IF(H202,INDEX('Monthly Prices'!B190:CB190,$G$4)*U202,FALSE)","v":false},true,{"$f":"INDEX('Monthly Prices'!B190:CB190,$G$5)","v":1.6820935907700001},{"$f":"IF(H202,INDEX('Monthly Prices'!B190:CB190,$G$5)*U202,FALSE)","v":false},true,1975,{"$f":"'Monthly Prices'!B190","v":10.42000007629},10.523333470026667,{"$f":"_xlfn.XLOOKUP(P202,'Annual Real'!A:A,'Annual Real'!B:B,0,0)","v":24.956436002412499},6.2297674075777927,6.2297674075777927,false,false,0.10251049999999999,8.1656461792387613E-3,1.7356567795646447,7,"1975-03-01",6.2297674075777927]
[null,null,{"$f":"'Monthly Prices'!A191","v":"1975M05"},"1975-04-01",184,false,true,false,{"$error":"#N/A"},{"$f":"INDEX('Monthly Prices'!B191:CB191,$G$4)","v":0.43},{"$f":"IF(H203,INDEX('Monthly Prices'!B191:CB191,$G$4)*U203,FALSE)","v":false},true,{"$f":"INDEX('Monthly Prices'!B191:CB191,$G$5)","v":1.6820935907700001},{"$f":"IF(H203,INDEX('Monthly Prices'!B191:CB191,$G$5)*U203,FALSE)","v":false},true,1975,{"$f":"'Monthly Prices'!B191","v":10.42000007629},10.523333470026667,{"$f":"_xlfn.XLOOKUP(P203,'Annual Real'!A:A,'Annual Real'!B:B,0,0)","v":24.956436002412499},6.1795089251924349,6.1795089251924349,false,false,0.1020833,8.1330867863085299E-3,1.7497730267840887,7,"1975-04-01",6.1795089251924349]
[null,null,{"$f":"'Monthly Prices'!A192","v":"1975M06"},"1975-05-01",185,false,true,false,{"$error":"#N/A"},{"$f":"INDEX('Monthly Prices'!B192:CB192,$G$4)","v":0.43},{"$f":"IF(H204,INDEX('Monthly Prices'!B192:CB192,$G$4)*U204,FALSE)","v":false},true,{"$f":"INDEX('Monthly Prices'!B192:CB192,$G$5)","v":1.6820935907700001},{"$f":"IF(H204,INDEX('Monthly Prices'!B192:CB192,$G$5)*U204,FALSE)","v":false},true,1975,{"$f":"'Monthly Prices'!B192","v":10.42000007629},10.523333470026667,{"$f":"_xlfn.XLOOKUP(P204,'Annual Real'!A:A,'Annual Real'!B:B,0,0)","v":24.956436002412499},6.1331137153214881,6.1331137153214881,false,false,9.4650199999999907E-2,7.5647072636275681E-3,1.763009547509502,7,"1975-05-01",6.1331137153214881]
[null,null,{"$f":"'Monthly Prices'!A193","v":"1975M07"},"1975-06-01",186,false,true,false,{"$error":"#N/A"},{"$f":"INDEX('Monthly Prices'!B193:CB193,$G$4)","v":0.43},{"$f":"IF(H205,INDEX('Monthly Prices'!B193:CB193,$G$4)*U205,FALSE)","v":false},true,{"$f":"INDEX('Monthly Prices'!B193:CB193,$G$5)","v":1.6820935907700001},{"$f":"IF(H205,INDEX('Monthly Prices'!B193:CB193,$G$5)*U205,FALSE)","v":false},true,1975,{"$f":"'Monthly Prices'!B193","v":10.43000030518},10.523333470026667,{"$f":"_xlfn.XLOOKUP(P205,'Annual Real'!A:A,'Annual Real'!B:B,0,0)","v":24.956436002412499},6.0874250158119816,6.0874250158119816,false,false,9.3877550000000004E-2,7.505422964690478E-3,1.7762416798543483,7,"1975-06-01",6.0874250158119816]
[null,null,{"$f":"'Monthly Prices'!A194","v":"1975M08"},"1975-07-01",187,false,true,false,{"$error":"#N/A"},{"$f":"INDEX('Monthly Prices'!B194:CB194,$G$4)","v":0.43},{"$f":"IF(H206,INDEX('Monthly Prices'!B194:CB194,$G$4)*U206,FALSE)","v":false},true,{"$f":"INDEX('Monthly Prices'!B194:CB194,$G$5)","v":1.6820935907700001},{"$f":"IF(H206,INDEX('Monthly Prices'!B194:CB194,$G$5)*U206,FALSE)","v":false},true,1975,{"$f":"'Monthly Prices'!B194","v":10.43000030518},10.523333470026667,{"$f":"_xlfn.XLOOKUP(P206,'Annual Real'!A:A,'Annual Real'!B:B,0,0)","v":24.956436002412499},6.0405654818786383,6.0405654818786383,false,false,9.7165990000000008E-2,7.7574747056248228E-3,1.7900208297568949,7,"1975-07-01",6.0405654818786383]
[null,null,{"$f":"'Monthly Prices'!A195","v":"1975M09"},"1975-08-01",188,false,true,false,{"$error":"#N/A"},{"$f":"INDEX('Monthly Prices'!B195:CB195,$G$4)","v":0.43},{"$f":"IF(H207,INDEX('Monthly Prices'!B195:CB195,$G$4)*U207,FALSE)","v":false},true,{"$f":"INDEX('Monthly Prices'!B195:CB195,$G$5)","v":1.6820935907700001},{"$f":"IF(H207,INDEX('Monthly Prices'!B195:CB195,$G$5)*U207,FALSE)","v":false},true,1975,{"$f":"'Monthly Prices'!B195","v":10.43000030518},10.523333470026667,{"$f":"_xlfn.XLOOKUP(P207,'Annual Real'!A:A,'Annual Real'!B:B,0,0)","v":24.956436002412499},5.9991784124832526,5.9991784124832526,false,false,8.5999999999999993E-2,6.8987895591279269E-3,1.8023698067678433,7,"1975-08-01",5.9991784124832526]
[null,null,{"$f":"'Monthly Prices'!A196","v":"1975M10"},"1975-09-01",189,false,true,false,{"$error":"#N/A"},{"$f":"INDEX('Monthly Prices'!B196:CB196,$G$4)","v":0.43},{"$f":"IF(H208,INDEX('Monthly Prices'!B196:CB196,$G$4)*U208,FALSE)","v":false},true,{"$f":"INDEX('Monthly Prices'!B196:CB196,$G$5)","v":1.6820935907700001},{"$f":"IF(H208,INDEX('Monthly Prices'!B196:CB196,$G$5)*U208,FALSE)","v":false},true,1975,{"$f":"'Monthly Prices'!B196","v":10.46000003815},10.523333470026667,{"$f":"_xlfn.XLOOKUP(P208,'Annual Real'!A:A,'Annual Real'!B:B,0,0)","v":24.956436002412499},5.9612627930157238,5.9612627930157238,false,false,7.9051380000000004E-2,6.3603335038260322E-3,1.8138334798361133,7,"1975-09-01",5.9612627930157238]
[null,null,{"$f":"'Monthly Prices'!A197","v":"1975M11"},"1975-10-01",190,false,true,false,{"$error":"#N/A"},{"$f":"INDEX('Monthly Prices'!B197:CB197,$G$4)","v":0.43},{"$f":"IF(H209,INDEX('Monthly Prices'!B197:CB197,$G$4)*U209,FALSE)","v":false},true,{"$f":"INDEX('Monthly Prices'!B197:CB197,$G$5)","v":1.6820935907700001},{"$f":"IF(H209,INDEX('Monthly Prices'!B197:CB197,$G$5)*U209,FALSE)","v":false},true,1975,{"$f":"'Monthly Prices'!B197","v":10.46000003815},10.523333470026667,{"$f":"_xlfn.XLOOKUP(P209,'Annual Real'!A:A,'Annual Real'!B:B,0,0)","v":24.956436002412499},5.9257362004923602,5.9257362004923602,false,false,7.4363989999999991E-2,5.9953044349849716E-3,1.8247079637420991,7,"1975-10-01",5.9257362004923602]
[null,null,{"$f":"'Monthly Prices'!A198","v":"1975M12"},"1975-11-01",191,false,true,false,{"$error":"#N/A"},{"$f":"INDEX('Monthly Prices'!B198:CB198,$G$4)","v":0.43},{"$f":"IF(H210,INDEX('Monthly Prices'!B198:CB198,$G$4)*U210,FALSE)","v":false},true,{"$f":"INDEX('Monthly Prices'!B198:CB198,$G$5)","v":1.6820935907700001},{"$f":"IF(H210,INDEX('Monthly Prices'!B198:CB198,$G$5)*U210,FALSE)","v":false},true,1975,{"$f":"'Monthly Prices'!B198","v":10.46000003815},10.523333470026667,{"$f":"_xlfn.XLOOKUP(P210,'Annual Real'!A:A,'Annual Real'!B:B,0,0)","v":24.956436002412499},5.8906852999871679,5.8906852999871679,false,false,7.3786409999999997E-2,5.9502245868181536E-3,1.8355653859317203,7,"1975-11-01",5.8906852999871679]
[null,null,{"$f":"'Monthly Prices'!A199","v":"1976M01"},"1975-12-01",192,false,true,false,{"$error":"#N/A"},{"$f":"INDEX('Monthly Prices'!B199:CB199,$G$4)","v":0.54},{"$f":"IF(H211,INDEX('Monthly Prices'!B199:CB199,$G$4)*U211,FALSE)","v":false},true,{"$f":"INDEX('Monthly Prices'!B199:CB199,$G$5)","v":1.7351132997100001},{"$f":"IF(H211,INDEX('Monthly Prices'!B199:CB199,$G$5)*U211,FALSE)","v":false},true,1975,{"$f":"'Monthly Prices'!B199","v":11.510000228879999},10.523333470026667,{"$f":"_xlfn.XLOOKUP(P211,'Annual Real'!A:A,'Annual Real'!B:B,0,0)","v":24.956436002412499},5.8578559330218019,5.8578559330218019,false,false,6.9364160000000008E-2,5.6043315746809874E-3,1.845852502981489,7,"1975-12-01",5.8578559330218019]
[null,null,{"$f":"'Monthly Prices'!A200","v":"1976M02"},"1976-01-01",193,{"$f":"AND(E212>=$M$4,L212)","v":false},{"$f":"AND(E212<=$M$5,O212)","v":true},{"$f":"AND(F212:G212)","v":false},{"$f":"IF(H212,D212,NA)","v":{"$error":"#N/A"}},{"$f":"INDEX('Monthly Prices'!B200:CB200,$G$4)","v":0.54},{"$f":"IF(H212,INDEX('Monthly Prices'!B200:CB200,$G$4)*U212,FALSE)","v":false},true,{"$f":"INDEX('Monthly Prices'!B200:CB200,$G$5)","v":1.7351132997100001},{"$f":"IF(H212,INDEX('Monthly Prices'!B200:CB200,$G$5)*U212,FALSE)","v":false},{"$f":"AND(ISNUMBER(M212),M212>0)","v":true},1976,{"$f":"'Monthly Prices'!B200","v":11.510000228879999},11.712500095366666,{"$f":"_xlfn.XLOOKUP(P212,'Annual Real'!A:A,'Annual Real'!B:B,0,0)","v":27.483716535984801},5.8262028000670991,5.8262028000670991,false,false,6.7178500000000002E-2,5.4328924070987661E-3,1.8558808210295614,7,"1976-01-01",5.8262028000670991]
[null,null,{"$f":"'Monthly Prices'!A201","v":"1976M03"},{"$f":"EDATE(D212,1)","v":"1976-02-01"},{"$f":"E212+1","v":194},false,true,false,{"$error":"#N/A"},{"$f":"INDEX('Monthly Prices'!B201:CB201,$G$4)","v":0.54},{"$f":"IF(H213,INDEX('Monthly Prices'!B201:CB201,$G$4)*U213,FALSE)","v":false},{"$f":"ISNUMBER(J213)","v":true},{"$f":"INDEX('Monthly Prices'!B201:CB201,$G$5)","v":1.7351132997100001},{"$f":"IF(H213,INDEX('Monthly Prices'!B201:CB201,$G$5)*U213,FALSE)","v":false},true,{"$f":"YEAR(D213)","v":1976},{"$f":"'Monthly Prices'!B201","v":11.510000228879999},{"$f":"AVERAGEIF(P:P,P213,Q:Q)","v":11.712500095366666},{"$f":"_xlfn.XLOOKUP(P213,'Annual Real'!A:A,'Annual Real'!B:B,0,0)","v":27.483716535984801},{"$f":"AC213","v":5.7966804026255225},{"$f":"IF($U$19,T213,1)","v":5.7966804026255225},false,false,{"$f":"LOOKUP(D213,INDIRECT(\"'\"&$X$14&\"'!A:A\"),INDIRECT(\"'\"&$X$14&\"'!B:B\"))/100","v":6.2857139999999992E-2},{"$f":"(1+X213)^(1/12)-1","v":5.0929834648474337E-3},{"$f":"Z212*(1+Y213)","v":1.8653327913637925},{"$f":"LEN(C213)","v":7},{"$f":"IF(AA213>2,D213,0)","v":"1976-02-01"},{"$f":"$AC$17/Z213","v":5.7966804026255225}]
[null,null,{"$f":"'Monthly Prices'!A202","v":"1976M04"},"1976-03-01",195,false,true,false,{"$error":"#N/A"},{"$f":"INDEX('Monthly Prices'!B202:CB202,$G$4)","v":0.55000000000000004},{"$f":"IF(H214,INDEX('Monthly Prices'!B202:CB202,$G$4)*U214,FALSE)","v":false},true,{"$f":"INDEX('Monthly Prices'!B202:CB202,$G$5)","v":1.7351132997100001},{"$f":"IF(H214,INDEX('Monthly Prices'!B202:CB202,$G$5)*U214,FALSE)","v":false},true,1976,{"$f":"'Monthly Prices'!B202","v":11.510000228879999},11.712500095366666,{"$f":"_xlfn.XLOOKUP(P214,'Annual Real'!A:A,'Annual Real'!B:B,0,0)","v":27.483716535984801},5.7682745585151487,5.7682745585151487,{"$f":"IF(AND(H213,H214),LN(K214/K213))","v":false},{"$f":"IF(AND($H213,$H214),LN(N214/N213))","v":false},6.072106E-2,4.9244958474523592E-3,1.8745186149489803,7,"1976-03-01",5.7682745585151487]
[null,null,{"$f":"'Monthly Prices'!A203","v":"1976M05"},"1976-04-01",196,false,true,false,{"$error":"#N/A"},{"$f":"INDEX('Monthly Prices'!B203:CB203,$G$4)","v":0.55000000000000004},{"$f":"IF(H215,INDEX('Monthly Prices'!B203:CB203,$G$4)*U215,FALSE)","v":false},true,{"$f":"INDEX('Monthly Prices'!B203:CB203,$G$5)","v":1.7351132997100001},{"$f":"IF(H215,INDEX('Monthly Prices'!B203:CB203,$G$5)*U215,FALSE)","v":false},true,1976,{"$f":"'Monthly Prices'!B203","v":11.510000228879999},11.712500095366666,{"$f":"_xlfn.XLOOKUP(P215,'Annual Real'!A:A,'Annual Real'!B:B,0,0)","v":27.483716535984801},5.7401114459967788,5.7401114459967788,false,false,6.0491500000000004E-2,4.9063703350240573E-3,1.8837156974738163,7,"1976-04-01",5.7401114459967788]
[null,null,{"$f":"'Monthly Prices'!A204","v":"1976M06"},"1976-05-01",197,false,true,false,{"$error":"#N/A"},{"$f":"INDEX('Monthly Prices'!B204:CB204,$G$4)","v":0.57999999999999996},{"$f":"IF(H216,INDEX('Monthly Prices'!B204:CB204,$G$4)*U216,FALSE)","v":false},true,{"$f":"INDEX('Monthly Prices'!B204:CB204,$G$5)","v":1.7351132997100001},{"$f":"IF(H216,INDEX('Monthly Prices'!B204:CB204,$G$5)*U216,FALSE)","v":false},true,1976,{"$f":"'Monthly Prices'!B204","v":11.510000228879999},11.712500095366666,{"$f":"_xlfn.XLOOKUP(P216,'Annual Real'!A:A,'Annual Real'!B:B,0,0)","v":27.483716535984801},5.7113957799854553,5.7113957799854553,false,false,6.2030079999999994E-2,5.027784296082638E-3,1.8931866136758595,7,"1976-05-01",5.7113957799854553]
[null,null,{"$f":"'Monthly Prices'!A205","v":"1976M07"},"1976-06-01",198,false,true,false,{"$error":"#N/A"},{"$f":"INDEX('Monthly Prices'!B205:CB205,$G$4)","v":0.57999999999999996},{"$f":"IF(H217,INDEX('Monthly Prices'!B205:CB205,$G$4)*U217,FALSE)","v":false},true,{"$f":"INDEX('Monthly Prices'!B205:CB205,$G$5)","v":1.7351132997100001},{"$f":"IF(H217,INDEX('Monthly Prices'!B205:CB205,$G$5)*U217,FALSE)","v":false},true,1976,{"$f":"'Monthly Prices'!B205","v":11.60000038147},11.712500095366666,{"$f":"_xlfn.XLOOKUP(P217,'Annual Real'!A:A,'Annual Real'!B:B,0,0)","v":27.483716535984801},5.6838633419188289,5.6838633419188289,false,false,5.9701490000000003E-2,4.8439655231631296E-3,1.9023571443614193,7,"1976-06-01",5.6838633419188289]
[null,null,{"$f":"'Monthly Prices'!A206","v":"1976M08"},"1976-07-01",199,false,true,false,{"$error":"#N/A"},{"$f":"INDEX('Monthly Prices'!B206:CB206,$G$4)","v":0.6},{"$f":"IF(H218,INDEX('Monthly Prices'!B206:CB206,$G$4)*U218,FALSE)","v":false},true,{"$f":"INDEX('Monthly Prices'!B206:CB206,$G$5)","v":1.7351132997100001},{"$f":"IF(H218,INDEX('Monthly Prices'!B206:CB206,$G$5)*U218,FALSE)","v":false},true,1976,{"$f":"'Monthly Prices'!B206","v":11.60000038147},11.712500095366666,{"$f":"_xlfn.XLOOKUP(P218,'Annual Real'!A:A,'Annual Real'!B:B,0,0)","v":27.483716535984801},5.6592284478002677,5.6592284478002677,false,false,5.3505539999999997E-2,4.3530481841809188E-3,1.9106381966743453,7,"1976-07-01",5.6592284478002677]
[null,null,{"$f":"'Monthly Prices'!A207","v":"1976M09"},"1976-08-01",200,false,true,false,{"$error":"#N/A"},{"$f":"INDEX('Monthly Prices'!B207:CB207,$G$4)","v":0.6},{"$f":"IF(H219,INDEX('Monthly Prices'!B207:CB207,$G$4)*U219,FALSE)","v":false},true,{"$f":"INDEX('Monthly Prices'!B207:CB207,$G$5)","v":1.7351132997100001},{"$f":"IF(H219,INDEX('Monthly Prices'!B207:CB207,$G$5)*U219,FALSE)","v":false},true,1976,{"$f":"'Monthly Prices'!B207","v":11.60000038147},11.712500095366666,{"$f":"_xlfn.XLOOKUP(P219,'Annual Real'!A:A,'Annual Real'!B:B,0,0)","v":27.483716535984801},5.6331055256047966,5.6331055256047966,false,false,5.7090239999999896E-2,4.6373926560991929E-3,1.9194985762160655,7,"1976-08-01",5.6331055256047966]
[null,null,{"$f":"'Monthly Prices'!A208","v":"1976M10"},"1976-09-01",201,false,true,false,{"$error":"#N/A"},{"$f":"INDEX('Monthly Prices'!B208:CB208,$G$4)","v":0.62},{"$f":"IF(H220,INDEX('Monthly Prices'!B208:CB208,$G$4)*U220,FALSE)","v":false},true,{"$f":"INDEX('Monthly Prices'!B208:CB208,$G$5)","v":1.7351132997100001},{"$f":"IF(H220,INDEX('Monthly Prices'!B208:CB208,$G$5)*U220,FALSE)","v":false},true,1976,{"$f":"'Monthly Prices'!B208","v":11.89999961853},11.712500095366666,{"$f":"_xlfn.XLOOKUP(P220,'Annual Real'!A:A,'Annual Real'!B:B,0,0)","v":27.483716535984801},5.6080524543773889,5.6080524543773889,false,false,5.4945050000000002E-2,4.4673389614700021E-3,1.9280736269920817,7,"1976-09-01",5.6080524543773889]
[null,null,{"$f":"'Monthly Prices'!A209","v":"1976M11"},"1976-10-01",202,false,true,false,{"$error":"#N/A"},{"$f":"INDEX('Monthly Prices'!B209:CB209,$G$4)","v":0.63},{"$f":"IF(H221,INDEX('Monthly Prices'!B209:CB209,$G$4)*U221,FALSE)","v":false},true,{"$f":"INDEX('Monthly Prices'!B209:CB209,$G$5)","v":1.7351132997100001},{"$f":"IF(H221,INDEX('Monthly Prices'!B209:CB209,$G$5)*U221,FALSE)","v":false},true,1976,{"$f":"'Monthly Prices'!B209","v":11.89999961853},11.712500095366666,{"$f":"_xlfn.XLOOKUP(P221,'Annual Real'!A:A,'Annual Real'!B:B,0,0)","v":27.483716535984801},5.5832432403064178,5.5832432403064178,false,false,5.4644810000000002E-2,4.4435130269568912E-3,1.9366410472705531,7,"1976-10-01",5.5832432403064178]
[null,null,{"$f":"'Monthly Prices'!A210","v":"1976M12"},"1976-11-01",203,false,true,false,{"$error":"#N/A"},{"$f":"INDEX('Monthly Prices'!B210:CB210,$G$4)","v":0.64},{"$f":"IF(H222,INDEX('Monthly Prices'!B210:CB210,$G$4)*U222,FALSE)","v":false},true,{"$f":"INDEX('Monthly Prices'!B210:CB210,$G$5)","v":1.7351132997100001},{"$f":"IF(H222,INDEX('Monthly Prices'!B210:CB210,$G$5)*U222,FALSE)","v":false},true,1976,{"$f":"'Monthly Prices'!B210","v":11.89999961853},11.712500095366666,{"$f":"_xlfn.XLOOKUP(P222,'Annual Real'!A:A,'Annual Real'!B:B,0,0)","v":27.483716535984801},5.5611077562622802,5.5611077562622802,false,false,4.8824590000000001E-2,3.9804091224830973E-3,1.944349670962084,7,"1976-11-01",5.5611077562622802]
[null,null,{"$f":"'Monthly Prices'!A211","v":"1977M01"},"1976-12-01",204,false,true,false,{"$error":"#N/A"},{"$f":"INDEX('Monthly Prices'!B211:CB211,$G$4)","v":0.67},{"$f":"IF(H223,INDEX('Monthly Prices'!B211:CB211,$G$4)*U223,FALSE)","v":false},true,{"$f":"INDEX('Monthly Prices'!B211:CB211,$G$5)","v":1.7916226068200001},{"$f":"IF(H223,INDEX('Monthly Prices'!B211:CB211,$G$5)*U223,FALSE)","v":false},true,1976,{"$f":"'Monthly Prices'!B211","v":12.5},11.712500095366666,{"$f":"_xlfn.XLOOKUP(P223,'Annual Real'!A:A,'Annual Real'!B:B,0,0)","v":27.483716535984801},5.5391374695210756,5.5391374695210756,false,false,4.8648650000000002E-2,3.9663732597530199E-3,1.9520616875045975,7,"1976-12-01",5.5391374695210756]
[null,null,{"$f":"'Monthly Prices'!A212","v":"1977M02"},"1977-01-01",205,false,true,false,{"$error":"#N/A"},{"$f":"INDEX('Monthly Prices'!B212:CB212,$G$4)","v":0.71},{"$f":"IF(H224,INDEX('Monthly Prices'!B212:CB212,$G$4)*U224,FALSE)","v":false},true,{"$f":"INDEX('Monthly Prices'!B212:CB212,$G$5)","v":1.7916226068200001},{"$f":"IF(H224,INDEX('Monthly Prices'!B212:CB212,$G$5)*U224,FALSE)","v":false},true,1977,{"$f":"'Monthly Prices'!B212","v":12.5},12.578333377839998,{"$f":"_xlfn.XLOOKUP(P224,'Annual Real'!A:A,'Annual Real'!B:B,0,0)","v":27.469108493496101},5.5157180006283761,5.5157180006283761,false,false,5.215827E-2,4.2459510964902858E-3,1.9603500459670744,7,"1977-01-01",5.5157180006283761]
[null,null,{"$f":"'Monthly Prices'!A213","v":"1977M03"},"1977-02-01",206,false,true,false,{"$error":"#N/A"},{"$f":"INDEX('Monthly Prices'!B213:CB213,$G$4)","v":0.75},{"$f":"IF(H225,INDEX('Monthly Prices'!B213:CB213,$G$4)*U225,FALSE)","v":false},true,{"$f":"INDEX('Monthly Prices'!B213:CB213,$G$5)","v":1.7916226068200001},{"$f":"IF(H225,INDEX('Monthly Prices'!B213:CB213,$G$5)*U225,FALSE)","v":false},true,1977,{"$f":"'Monthly Prices'!B213","v":12.5},12.578333377839998,{"$f":"_xlfn.XLOOKUP(P225,'Annual Real'!A:A,'Annual Real'!B:B,0,0)","v":27.469108493496101},5.4893713810187128,5.4893713810187128,false,false,5.9139790000000005E-2,4.7995695282643247E-3,1.9697588823124295,7,"1977-02-01",5.4893713810187128]
[null,null,{"$f":"'Monthly Prices'!A214","v":"1977M04"},"1977-03-01",207,false,true,false,{"$error":"#N/A"},{"$f":"INDEX('Monthly Prices'!B214:CB214,$G$4)","v":0.77},{"$f":"IF(H226,INDEX('Monthly Prices'!B214:CB214,$G$4)*U226,FALSE)","v":false},true,{"$f":"INDEX('Monthly Prices'!B214:CB214,$G$5)","v":1.7916226068200001},{"$f":"IF(H226,INDEX('Monthly Prices'!B214:CB214,$G$5)*U226,FALSE)","v":false},true,1977,{"$f":"'Monthly Prices'!B214","v":12.44999980927},12.578333377839998,{"$f":"_xlfn.XLOOKUP(P226,'Annual Real'!A:A,'Annual Real'!B:B,0,0)","v":27.469108493496101},5.460895305636523,5.460895305636523,false,false,6.4400719999999995E-2,5.2145433648578265E-3,1.9800302754225616,7,"1977-03-01",5.460895305636523]
[null,null,{"$f":"'Monthly Prices'!A215","v":"1977M05"},"1977-04-01",208,false,true,false,{"$error":"#N/A"},{"$f":"INDEX('Monthly Prices'!B215:CB215,$G$4)","v":0.77},{"$f":"IF(H227,INDEX('Monthly Prices'!B215:CB215,$G$4)*U227,FALSE)","v":false},true,{"$f":"INDEX('Monthly Prices'!B215:CB215,$G$5)","v":1.7916226068200001},{"$f":"IF(H227,INDEX('Monthly Prices'!B215:CB215,$G$5)*U227,FALSE)","v":false},true,1977,{"$f":"'Monthly Prices'!B215","v":12.44999980927},12.578333377839998,{"$f":"_xlfn.XLOOKUP(P227,'Annual Real'!A:A,'Annual Real'!B:B,0,0)","v":27.469108493496101},5.4303957981756765,5.4303957981756765,false,false,6.9518719999999992E-2,5.616442814553535E-3,1.9911510022355572,7,"1977-04-01",5.4303957981756765]
[null,null,{"$f":"'Monthly Prices'!A216","v":"1977M06"},"1977-05-01",209,false,true,false,{"$error":"#N/A"},{"$f":"INDEX('Monthly Prices'!B216:CB216,$G$4)","v":0.82},{"$f":"IF(H228,INDEX('Monthly Prices'!B216:CB216,$G$4)*U228,FALSE)","v":false},true,{"$f":"INDEX('Monthly Prices'!B216:CB216,$G$5)","v":1.7916226068200001},{"$f":"IF(H228,INDEX('Monthly Prices'!B216:CB216,$G$5)*U228,FALSE)","v":false},true,1977,{"$f":"'Monthly Prices'!B216","v":12.44999980927},12.578333377839998,{"$f":"_xlfn.XLOOKUP(P228,'Annual Real'!A:A,'Annual Real'!B:B,0,0)","v":27.469108493496101},5.4010195066517683,5.4010195066517683,false,false,6.7256640000000006E-2,5.4390271110351662E-3,2.0019809265188813,7,"1977-05-01",5.4010195066517683]
[null,null,{"$f":"'Monthly Prices'!A217","v":"1977M07"},"1977-06-01",210,false,true,false,{"$error":"#N/A"},{"$f":"INDEX('Monthly Prices'!B217:CB217,$G$4)","v":0.83},{"$f":"IF(H229,INDEX('Monthly Prices'!B217:CB217,$G$4)*U229,FALSE)","v":false},true,{"$f":"INDEX('Monthly Prices'!B217:CB217,$G$5)","v":1.7916226068200001},{"$f":"IF(H229,INDEX('Monthly Prices'!B217:CB217,$G$5)*U229,FALSE)","v":false},true,1977,{"$f":"'Monthly Prices'!B217","v":12.63000011444},12.578333377839998,{"$f":"_xlfn.XLOOKUP(P229,'Annual Real'!A:A,'Annual Real'!B:B,0,0)","v":27.469108493496101},5.3712130975937447,5.3712130975937447,false,false,6.8661970000000003E-2,5.5492881247583004E-3,2.0130904955004052,7,"1977-06-01",5.3712130975937447]
[null,null,{"$f":"'Monthly Prices'!A218","v":"1977M08"},"1977-07-01",211,false,true,false,{"$error":"#N/A"},{"$f":"INDEX('Monthly Prices'!B218:CB218,$G$4)","v":0.82},{"$f":"IF(H230,INDEX('Monthly Prices'!B218:CB218,$G$4)*U230,FALSE)","v":false},true,{"$f":"INDEX('Monthly Prices'!B218:CB218,$G$5)","v":1.7916226068200001},{"$f":"IF(H230,INDEX('Monthly Prices'!B218:CB218,$G$5)*U230,FALSE)","v":false},true,1977,{"$f":"'Monthly Prices'!B218","v":12.63000011444},12.578333377839998,{"$f":"_xlfn.XLOOKUP(P230,'Annual Real'!A:A,'Annual Real'!B:B,0,0)","v":27.469108493496101},5.3417214711484577,5.3417214711484577,false,false,6.8301219999999996E-2,5.5209966683167355E-3,2.024204761419083,7,"1977-07-01",5.3417214711484577]
[null,null,{"$f":"'Monthly Prices'!A219","v":"1977M09"},"1977-08-01",212,false,true,false,{"$error":"#N/A"},{"$f":"INDEX('Monthly Prices'!B219:CB219,$G$4)","v":0.83},{"$f":"IF(H231,INDEX('Monthly Prices'!B219:CB219,$G$4)*U231,FALSE)","v":false},true,{"$f":"INDEX('Monthly Prices'!B219:CB219,$G$5)","v":1.7916226068200001},{"$f":"IF(H231,INDEX('Monthly Prices'!B219:CB219,$G$5)*U231,FALSE)","v":false},true,1977,{"$f":"'Monthly Prices'!B219","v":12.63000011444},12.578333377839998,{"$f":"_xlfn.XLOOKUP(P231,'Annual Real'!A:A,'Annual Real'!B:B,0,0)","v":27.469108493496101},5.3132625711764812,5.3132625711764812,false,false,6.6202090000000005E-2,5.3562005624117059E-3,2.0350468081006325,7,"1977-08-01",5.3132625711764812]
[null,null,{"$f":"'Monthly Prices'!A220","v":"1977M10"},"1977-09-01",213,false,true,false,{"$error":"#N/A"},{"$f":"INDEX('Monthly Prices'!B220:CB220,$G$4)","v":0.84},{"$f":"IF(H232,INDEX('Monthly Prices'!B220:CB220,$G$4)*U232,FALSE)","v":false},true,{"$f":"INDEX('Monthly Prices'!B220:CB220,$G$5)","v":1.7916226068200001},{"$f":"IF(H232,INDEX('Monthly Prices'!B220:CB220,$G$5)*U232,FALSE)","v":false},true,1977,{"$f":"'Monthly Prices'!B220","v":12.68000030518},12.578333377839998,{"$f":"_xlfn.XLOOKUP(P232,'Annual Real'!A:A,'Annual Real'!B:B,0,0)","v":27.469108493496101},5.2850502534869106,5.2850502534869106,false,false,6.5972219999999998E-2,5.3381361267013094E-3,2.0459101649864828,7,"1977-09-01",5.2850502534869106]
[null,null,{"$f":"'Monthly Prices'!A221","v":"1977M11"},"1977-10-01",214,false,true,false,{"$error":"#N/A"},{"$f":"INDEX('Monthly Prices'!B221:CB221,$G$4)","v":0.83},{"$f":"IF(H233,INDEX('Monthly Prices'!B221:CB221,$G$4)*U233,FALSE)","v":false},true,{"$f":"INDEX('Monthly Prices'!B221:CB221,$G$5)","v":1.7916226068200001},{"$f":"IF(H233,INDEX('Monthly Prices'!B221:CB221,$G$5)*U233,FALSE)","v":false},true,1977,{"$f":"'Monthly Prices'!B221","v":12.68000030518},12.578333377839998,{"$f":"_xlfn.XLOOKUP(P233,'Annual Real'!A:A,'Annual Real'!B:B,0,0)","v":27.469108493496101},5.2578389041467188,5.2578389041467188,false,false,6.3903280000000007E-2,5.1753866628987399E-3,2.0564985411678429,7,"1977-10-01",5.2578389041467188]
[null,null,{"$f":"'Monthly Prices'!A222","v":"1977M12"},"1977-11-01",215,false,true,false,{"$error":"#N/A"},{"$f":"INDEX('Monthly Prices'!B222:CB222,$G$4)","v":0.84},{"$f":"IF(H234,INDEX('Monthly Prices'!B222:CB222,$G$4)*U234,FALSE)","v":false},true,{"$f":"INDEX('Monthly Prices'!B222:CB222,$G$5)","v":1.7916226068200001},{"$f":"IF(H234,INDEX('Monthly Prices'!B222:CB222,$G$5)*U234,FALSE)","v":false},true,1977,{"$f":"'Monthly Prices'!B222","v":12.68000030518},12.578333377839998,{"$f":"_xlfn.XLOOKUP(P234,'Annual Real'!A:A,'Annual Real'!B:B,0,0)","v":27.469108493496101},5.229402308131526,5.229402308131526,false,false,6.7241380000000003E-2,5.4378290939627316E-3,2.0676814287666971,7,"1977-11-01",5.229402308131526]
[null,null,{"$f":"'Monthly Prices'!A223","v":"1978M01"},"1977-12-01",216,false,true,false,{"$error":"#N/A"},{"$f":"INDEX('Monthly Prices'!B223:CB223,$G$4)","v":0.87},{"$f":"IF(H235,INDEX('Monthly Prices'!B223:CB223,$G$4)*U235,FALSE)","v":false},true,{"$f":"INDEX('Monthly Prices'!B223:CB223,$G$5)","v":2.3022180992700001},{"$f":"IF(H235,INDEX('Monthly Prices'!B223:CB223,$G$5)*U235,FALSE)","v":false},true,1977,{"$f":"'Monthly Prices'!B223","v":12.659999847410001},12.578333377839998,{"$f":"_xlfn.XLOOKUP(P235,'Annual Real'!A:A,'Annual Real'!B:B,0,0)","v":27.469108493496101},5.2012133619865466,5.2012133619865466,false,false,6.7010309999999892E-2,5.4196865583329146E-3,2.0788876140130985,7,"1977-12-01",5.2012133619865466]
[null,null,{"$f":"'Monthly Prices'!A224","v":"1978M02"},"1978-01-01",217,false,true,false,{"$error":"#N/A"},{"$f":"INDEX('Monthly Prices'!B224:CB224,$G$4)","v":0.88},{"$f":"IF(H236,INDEX('Monthly Prices'!B224:CB224,$G$4)*U236,FALSE)","v":false},true,{"$f":"INDEX('Monthly Prices'!B224:CB224,$G$5)","v":2.3022180992700001},{"$f":"IF(H236,INDEX('Monthly Prices'!B224:CB224,$G$5)*U236,FALSE)","v":false},true,1978,{"$f":"'Monthly Prices'!B224","v":12.659999847410001},13.315833369890832,{"$f":"_xlfn.XLOOKUP(P236,'Annual Real'!A:A,'Annual Real'!B:B,0,0)","v":24.298757367894201},5.172624949654006,5.172624949654006,false,false,6.8376069999999997E-2,5.5268674243340588E-3,2.0903773502458391,7,"1978-01-01",5.172624949654006]
[null,null,{"$f":"'Monthly Prices'!A225","v":"1978M03"},"1978-02-01",218,false,true,false,{"$error":"#N/A"},{"$f":"INDEX('Monthly Prices'!B225:CB225,$G$4)","v":0.89},{"$f":"IF(H237,INDEX('Monthly Prices'!B225:CB225,$G$4)*U237,FALSE)","v":false},true,{"$f":"INDEX('Monthly Prices'!B225:CB225,$G$5)","v":2.3022180992700001},{"$f":"IF(H237,INDEX('Monthly Prices'!B225:CB225,$G$5)*U237,FALSE)","v":false},true,1978,{"$f":"'Monthly Prices'!B225","v":12.659999847410001},13.315833369890832,{"$f":"_xlfn.XLOOKUP(P237,'Annual Real'!A:A,'Annual Real'!B:B,0,0)","v":24.298757367894201},5.1458334597913895,5.1458334597913895,false,false,6.4297800000000002E-2,5.2064432461640386E-3,2.1012607812829609,7,"1978-02-01",5.1458334597913895]
[null,null,{"$f":"'Monthly Prices'!A226","v":"1978M04"},"1978-03-01",219,false,true,false,{"$error":"#N/A"},{"$f":"INDEX('Monthly Prices'!B226:CB226,$G$4)","v":0.88},{"$f":"IF(H238,INDEX('Monthly Prices'!B226:CB226,$G$4)*U238,FALSE)","v":false},true,{"$f":"INDEX('Monthly Prices'!B226:CB226,$G$5)","v":2.3022180992700001},{"$f":"IF(H238,INDEX('Monthly Prices'!B226:CB226,$G$5)*U238,FALSE)","v":false},true,1978,{"$f":"'Monthly Prices'!B226","v":12.68000030518},13.315833369890832,{"$f":"_xlfn.XLOOKUP(P238,'Annual Real'!A:A,'Annual Real'!B:B,0,0)","v":24.298757367894201},5.1186806541175605,5.1186806541175605,false,false,6.5546220000000002E-2,5.3046492853556781E-3,2.1124072327847396,7,"1978-03-01",5.1186806541175605]
[null,null,{"$f":"'Monthly Prices'!A227","v":"1978M05"},"1978-04-01",220,false,true,false,{"$error":"#N/A"},{"$f":"INDEX('Monthly Prices'!B227:CB227,$G$4)","v":0.91},{"$f":"IF(H239,INDEX('Monthly Prices'!B227:CB227,$G$4)*U239,FALSE)","v":false},true,{"$f":"INDEX('Monthly Prices'!B227:CB227,$G$5)","v":2.3022180992700001},{"$f":"IF(H239,INDEX('Monthly Prices'!B227:CB227,$G$5)*U239,FALSE)","v":false},true,1978,{"$f":"'Monthly Prices'!B227","v":12.69999980927},13.315833369890832,{"$f":"_xlfn.XLOOKUP(P239,'Annual Real'!A:A,'Annual Real'!B:B,0,0)","v":24.298757367894201},5.0918886925257523,5.0918886925257523,false,false,6.5000000000000002E-2,5.2616942768477504E-3,2.1235220738318548,7,"1978-04-01",5.0918886925257523]
[null,null,{"$f":"'Monthly Prices'!A228","v":"1978M06"},"1978-05-01",221,false,true,false,{"$error":"#N/A"},{"$f":"INDEX('Monthly Prices'!B228:CB228,$G$4)","v":0.91},{"$f":"IF(H240,INDEX('Monthly Prices'!B228:CB228,$G$4)*U240,FALSE)","v":false},true,{"$f":"INDEX('Monthly Prices'!B228:CB228,$G$5)","v":2.3022180992700001},{"$f":"IF(H240,INDEX('Monthly Prices'!B228:CB228,$G$5)*U240,FALSE)","v":false},true,1978,{"$f":"'Monthly Prices'!B228","v":12.72999954224},13.315833369890832,{"$f":"_xlfn.XLOOKUP(P240,'Annual Real'!A:A,'Annual Real'!B:B,0,0)","v":24.298757367894201},5.0633976380465109,5.0633976380465109,false,false,6.9651740000000004E-2,5.6268649069073362E-3,2.1354708456681424,7,"1978-05-01",5.0633976380465109]
[null,null,{"$f":"'Monthly Prices'!A229","v":"1978M07"},"1978-06-01",222,false,true,false,{"$error":"#N/A"},{"$f":"INDEX('Monthly Prices'!B229:CB229,$G$4)","v":0.89},{"$f":"IF(H241,INDEX('Monthly Prices'!B229:CB229,$G$4)*U241,FALSE)","v":false},true,{"$f":"INDEX('Monthly Prices'!B229:CB229,$G$5)","v":2.3022180992700001},{"$f":"IF(H241,INDEX('Monthly Prices'!B229:CB229,$G$5)*U241,FALSE)","v":false},true,1978,{"$f":"'Monthly Prices'!B229","v":12.77000045776},13.315833369890832,{"$f":"_xlfn.XLOOKUP(P241,'Annual Real'!A:A,'Annual Real'!B:B,0,0)","v":24.298757367894201},5.0333113138377241,5.0333113138377241,false,false,7.4135089999999904E-2,5.977441555437446E-3,2.1482354978414642,7,"1978-06-01",5.0333113138377241]
[null,null,{"$f":"'Monthly Prices'!A230","v":"1978M08"},"1978-07-01",223,false,true,false,{"$error":"#N/A"},{"$f":"INDEX('Monthly Prices'!B230:CB230,$G$4)","v":0.91},{"$f":"IF(H242,INDEX('Monthly Prices'!B230:CB230,$G$4)*U242,FALSE)","v":false},true,{"$f":"INDEX('Monthly Prices'!B230:CB230,$G$5)","v":2.3022180992700001},{"$f":"IF(H242,INDEX('Monthly Prices'!B230:CB230,$G$5)*U242,FALSE)","v":false},true,1978,{"$f":"'Monthly Prices'!B230","v":12.78999996185},13.315833369890832,{"$f":"_xlfn.XLOOKUP(P242,'Annual Real'!A:A,'Annual Real'!B:B,0,0)","v":24.298757367894201},5.002274248182708,5.002274248182708,false,false,7.7049179999999898E-2,6.2045909750534367E-3,2.1615644204236606,7,"1978-07-01",5.002274248182708]
[null,null,{"$f":"'Monthly Prices'!A231","v":"1978M09"},"1978-08-01",224,false,true,false,{"$error":"#N/A"},{"$f":"INDEX('Monthly Prices'!B231:CB231,$G$4)","v":0.92},{"$f":"IF(H243,INDEX('Monthly Prices'!B231:CB231,$G$4)*U243,FALSE)","v":false},true,{"$f":"INDEX('Monthly Prices'!B231:CB231,$G$5)","v":2.3022180992700001},{"$f":"IF(H243,INDEX('Monthly Prices'!B231:CB231,$G$5)*U243,FALSE)","v":false},true,1978,{"$f":"'Monthly Prices'!B231","v":12.80000019073},13.315833369890832,{"$f":"_xlfn.XLOOKUP(P243,'Annual Real'!A:A,'Annual Real'!B:B,0,0)","v":24.298757367894201},4.9708972788259933,4.9708972788259933,false,false,7.843137E-2,6.3121339260756582E-3,2.175208504535215,7,"1978-08-01",4.9708972788259933]
[null,null,{"$f":"'Monthly Prices'!A232","v":"1978M10"},"1978-09-01",225,false,true,false,{"$error":"#N/A"},{"$f":"INDEX('Monthly Prices'!B232:CB232,$G$4)","v":0.92},{"$f":"IF(H244,INDEX('Monthly Prices'!B232:CB232,$G$4)*U244,FALSE)","v":false},true,{"$f":"INDEX('Monthly Prices'!B232:CB232,$G$5)","v":2.3022180992700001},{"$f":"IF(H244,INDEX('Monthly Prices'!B232:CB232,$G$5)*U244,FALSE)","v":false},true,1978,{"$f":"'Monthly Prices'!B232","v":12.85000038147},13.315833369890832,{"$f":"_xlfn.XLOOKUP(P244,'Annual Real'!A:A,'Annual Real'!B:B,0,0)","v":24.298757367894201},4.9379537268253744,4.9379537268253744,false,false,8.3061889999999999E-2,6.6714987266187631E-3,2.1897204053033521,7,"1978-09-01",4.9379537268253744]
[null,null,{"$f":"'Monthly Prices'!A233","v":"1978M11"},"1978-10-01",226,false,true,false,{"$error":"#N/A"},{"$f":"INDEX('Monthly Prices'!B233:CB233,$G$4)","v":0.93},{"$f":"IF(H245,INDEX('Monthly Prices'!B233:CB233,$G$4)*U245,FALSE)","v":false},true,{"$f":"INDEX('Monthly Prices'!B233:CB233,$G$5)","v":2.3022180992700001},{"$f":"IF(H245,INDEX('Monthly Prices'!B233:CB233,$G$5)*U245,FALSE)","v":false},true,1978,{"$f":"'Monthly Prices'!B233","v":13.19999980927},13.315833369890832,{"$f":"_xlfn.XLOOKUP(P245,'Annual Real'!A:A,'Annual Real'!B:B,0,0)","v":24.298757367894201},4.9028867868845296,4.9028867868845296,false,false,8.9285720000000013E-2,7.1523046452246497E-3,2.2053819527299465,7,"1978-10-01",4.9028867868845296]
[null,null,{"$f":"'Monthly Prices'!A234","v":"1978M12"},"1978-11-01",227,false,true,false,{"$error":"#N/A"},{"$f":"INDEX('Monthly Prices'!B234:CB234,$G$4)","v":0.96},{"$f":"IF(H246,INDEX('Monthly Prices'!B234:CB234,$G$4)*U246,FALSE)","v":false},true,{"$f":"INDEX('Monthly Prices'!B234:CB234,$G$5)","v":2.3022180992700001},{"$f":"IF(H246,INDEX('Monthly Prices'!B234:CB234,$G$5)*U246,FALSE)","v":false},true,1978,{"$f":"'Monthly Prices'!B234","v":14.5},13.315833369890832,{"$f":"_xlfn.XLOOKUP(P246,'Annual Real'!A:A,'Annual Real'!B:B,0,0)","v":24.298757367894201},4.8682300674949319,4.8682300674949319,false,false,8.8852989999999993E-2,7.1189567684977195E-3,2.2210819715094563,7,"1978-11-01",4.8682300674949319]
[null,null,{"$f":"'Monthly Prices'!A235","v":"1979M01"},"1978-12-01",228,false,true,false,{"$error":"#N/A"},{"$f":"INDEX('Monthly Prices'!B235:CB235,$G$4)","v":1.02},{"$f":"IF(H247,INDEX('Monthly Prices'!B235:CB235,$G$4)*U247,FALSE)","v":false},true,{"$f":"INDEX('Monthly Prices'!B235:CB235,$G$5)","v":3.2594885748500002},{"$f":"IF(H247,INDEX('Monthly Prices'!B235:CB235,$G$5)*U247,FALSE)","v":false},true,1978,{"$f":"'Monthly Prices'!B235","v":17.4500002861},13.315833369890832,{"$f":"_xlfn.XLOOKUP(P247,'Annual Real'!A:A,'Annual Real'!B:B,0,0)","v":24.298757367894201},4.8333287805516534,4.8333287805516534,false,false,9.0177140000000003E-2,7.2209627211197169E-3,2.2371203216262772,7,"1978-12-01",4.8333287805516534]
[null,null,{"$f":"'Monthly Prices'!A236","v":"1979M02"},"1979-01-01",229,false,true,false,{"$error":"#N/A"},{"$f":"INDEX('Monthly Prices'!B236:CB236,$G$4)","v":1.05},{"$f":"IF(H248,INDEX('Monthly Prices'!B236:CB236,$G$4)*U248,FALSE)","v":false},true,{"$f":"INDEX('Monthly Prices'!B236:CB236,$G$5)","v":3.2594885748500002},{"$f":"IF(H248,INDEX('Monthly Prices'!B236:CB236,$G$5)*U248,FALSE)","v":false},true,1979,{"$f":"'Monthly Prices'!B236","v":20.75},32.760416587193333,{"$f":"_xlfn.XLOOKUP(P248,'Annual Real'!A:A,'Annual Real'!B:B,0,0)","v":52.2180415234808},4.7977168634979925,4.7977168634979925,false,false,9.2799999999999994E-2,7.4226800094445711E-3,2.2537257499163346,7,"1979-01-01",4.7977168634979925]
[null,null,{"$f":"'Monthly Prices'!A237","v":"1979M03"},"1979-02-01",230,false,true,false,{"$error":"#N/A"},{"$f":"INDEX('Monthly Prices'!B237:CB237,$G$4)","v":1.1000000000000001},{"$f":"IF(H249,INDEX('Monthly Prices'!B237:CB237,$G$4)*U249,FALSE)","v":false},true,{"$f":"INDEX('Monthly Prices'!B237:CB237,$G$5)","v":3.2594885748500002},{"$f":"IF(H249,INDEX('Monthly Prices'!B237:CB237,$G$5)*U249,FALSE)","v":false},true,1979,{"$f":"'Monthly Prices'!B237","v":22.02499961853},32.760416587193333,{"$f":"_xlfn.XLOOKUP(P249,'Annual Real'!A:A,'Annual Real'!B:B,0,0)","v":52.2180415234808},4.7602781652904786,4.7602781652904786,false,false,9.8569149999999897E-2,7.8648131280432132E-3,2.2714508817812855,7,"1979-02-01",4.7602781652904786]
[null,null,{"$f":"'Monthly Prices'!A238","v":"1979M04"},"1979-03-01",231,false,true,false,{"$error":"#N/A"},{"$f":"INDEX('Monthly Prices'!B238:CB238,$G$4)","v":1.1100000000000001},{"$f":"IF(H250,INDEX('Monthly Prices'!B238:CB238,$G$4)*U250,FALSE)","v":false},true,{"$f":"INDEX('Monthly Prices'!B238:CB238,$G$5)","v":3.2594885748500002},{"$f":"IF(H250,INDEX('Monthly Prices'!B238:CB238,$G$5)*U250,FALSE)","v":false},true,1979,{"$f":"'Monthly Prices'!B238","v":22.42500019073},32.760416587193333,{"$f":"_xlfn.XLOOKUP(P250,'Annual Real'!A:A,'Annual Real'!B:B,0,0)","v":52.2180415234808},4.7222808957238991,4.7222808957238991,false,false,0.10094640000000001,8.0463806380062231E-3,2.2897278401766328,7,"1979-03-01",4.7222808957238991]
[null,null,{"$f":"'Monthly Prices'!A239","v":"1979M05"},"1979-04-01",232,false,true,false,{"$error":"#N/A"},{"$f":"INDEX('Monthly Prices'!B239:CB239,$G$4)","v":1.1499999999999999},{"$f":"IF(H251,INDEX('Monthly Prices'!B239:CB239,$G$4)*U251,FALSE)","v":false},true,{"$f":"INDEX('Monthly Prices'!B239:CB239,$G$5)","v":3.2594885748500002},{"$f":"IF(H251,INDEX('Monthly Prices'!B239:CB239,$G$5)*U251,FALSE)","v":false},true,1979,{"$f":"'Monthly Prices'!B239","v":33.5},32.760416587193333,{"$f":"_xlfn.XLOOKUP(P251,'Annual Real'!A:A,'Annual Real'!B:B,0,0)","v":52.2180415234808},4.6832049496302721,4.6832049496302721,false,false,0.10485129999999999,8.3438471119465785E-3,2.3088329792030344,7,"1979-04-01",4.6832049496302721]
[null,null,{"$f":"'Monthly Prices'!A240","v":"1979M06"},"1979-05-01",233,false,true,false,{"$error":"#N/A"},{"$f":"INDEX('Monthly Prices'!B240:CB240,$G$4)","v":1.17},{"$f":"IF(H252,INDEX('Monthly Prices'!B240:CB240,$G$4)*U252,FALSE)","v":false},true,{"$f":"INDEX('Monthly Prices'!B240:CB240,$G$5)","v":3.2594885748500002},{"$f":"IF(H252,INDEX('Monthly Prices'!B240:CB240,$G$5)*U252,FALSE)","v":false},true,1979,{"$f":"'Monthly Prices'!B240","v":34.67499923706},32.760416587193333,{"$f":"_xlfn.XLOOKUP(P252,'Annual Real'!A:A,'Annual Real'!B:B,0,0)","v":52.2180415234808},4.6431670041555924,4.6431670041555924,false,false,0.1085271,8.6229819945837782E-3,2.3287420044112035,7,"1979-05-01",4.6431670041555924]
[null,null,{"$f":"'Monthly Prices'!A241","v":"1979M07"},"1979-06-01",234,false,true,false,{"$error":"#N/A"},{"$f":"INDEX('Monthly Prices'!B241:CB241,$G$4)","v":1.2},{"$f":"IF(H253,INDEX('Monthly Prices'!B241:CB241,$G$4)*U253,FALSE)","v":false},true,{"$f":"INDEX('Monthly Prices'!B241:CB241,$G$5)","v":3.2594885748500002},{"$f":"IF(H253,INDEX('Monthly Prices'!B241:CB241,$G$5)*U253,FALSE)","v":false},true,1979,{"$f":"'Monthly Prices'!B241","v":33.5},32.760416587193333,{"$f":"_xlfn.XLOOKUP(P253,'Annual Real'!A:A,'Annual Real'!B:B,0,0)","v":52.2180415234808},4.6033438169113898,4.6033438169113898,false,false,0.108895699999999,8.6509261154692485E-3,2.3488877794333547,7,"1979-06-01",4.6033438169113898]
[null,null,{"$f":"'Monthly Prices'!A242","v":"1979M08"},"1979-07-01",235,false,true,false,{"$error":"#N/A"},{"$f":"INDEX('Monthly Prices'!B242:CB242,$G$4)","v":1.24},{"$f":"IF(H254,INDEX('Monthly Prices'!B242:CB242,$G$4)*U254,FALSE)","v":false},true,{"$f":"INDEX('Monthly Prices'!B242:CB242,$G$5)","v":3.2594885748500002},{"$f":"IF(H254,INDEX('Monthly Prices'!B242:CB242,$G$5)*U254,FALSE)","v":false},true,1979,{"$f":"'Monthly Prices'!B242","v":34},32.760416587193333,{"$f":"_xlfn.XLOOKUP(P254,'Annual Real'!A:A,'Annual Real'!B:B,0,0)","v":52.2180415234808},4.5625826536814467,4.5625826536814467,false,false,0.1126332,8.9337917411871359E-3,2.3698722536782317,7,"1979-07-01",4.5625826536814467]
[null,null,{"$f":"'Monthly Prices'!A243","v":"1979M09"},"1979-08-01",236,false,true,false,{"$error":"#N/A"},{"$f":"INDEX('Monthly Prices'!B243:CB243,$G$4)","v":1.24},{"$f":"IF(H255,INDEX('Monthly Prices'!B243:CB243,$G$4)*U255,FALSE)","v":false},true,{"$f":"INDEX('Monthly Prices'!B243:CB243,$G$5)","v":3.2594885748500002},{"$f":"IF(H255,INDEX('Monthly Prices'!B243:CB243,$G$5)*U255,FALSE)","v":false},true,1979,{"$f":"'Monthly Prices'!B243","v":35.5},32.760416587193333,{"$f":"_xlfn.XLOOKUP(P255,'Annual Real'!A:A,'Annual Real'!B:B,0,0)","v":52.2180415234808},4.5203081675273991,4.5203081675273991,false,false,0.1181818,9.3521248081569475E-3,2.3920355947740188,7,"1979-08-01",4.5203081675273991]
[null,null,{"$f":"'Monthly Prices'!A244","v":"1979M10"},"1979-09-01",237,false,true,false,{"$error":"#N/A"},{"$f":"INDEX('Monthly Prices'!B244:CB244,$G$4)","v":1.28},{"$f":"IF(H256,INDEX('Monthly Prices'!B244:CB244,$G$4)*U256,FALSE)","v":false},true,{"$f":"INDEX('Monthly Prices'!B244:CB244,$G$5)","v":3.2594885748500002},{"$f":"IF(H256,INDEX('Monthly Prices'!B244:CB244,$G$5)*U256,FALSE)","v":false},true,1979,{"$f":"'Monthly Prices'!B244","v":37.25},32.760416587193333,{"$f":"_xlfn.XLOOKUP(P256,'Annual Real'!A:A,'Annual Real'!B:B,0,0)","v":52.2180415234808},4.4772183864912041,4.4772183864912041,false,false,0.12180450000000001,9.6242303404736607E-3,2.4150570963207358,7,"1979-09-01",4.4772183864912041]
[null,null,{"$f":"'Monthly Prices'!A245","v":"1979M11"},"1979-10-01",238,false,true,false,{"$error":"#N/A"},{"$f":"INDEX('Monthly Prices'!B245:CB245,$G$4)","v":1.29},{"$f":"IF(H257,INDEX('Monthly Prices'!B245:CB245,$G$4)*U257,FALSE)","v":false},true,{"$f":"INDEX('Monthly Prices'!B245:CB245,$G$5)","v":3.2594885748500002},{"$f":"IF(H257,INDEX('Monthly Prices'!B245:CB245,$G$5)*U257,FALSE)","v":false},true,1979,{"$f":"'Monthly Prices'!B245","v":40.75},32.760416587193333,{"$f":"_xlfn.XLOOKUP(P257,'Annual Real'!A:A,'Annual Real'!B:B,0,0)","v":52.2180415234808},4.4348983184767476,4.4348983184767476,false,false,0.12071539999999899,9.5425114569462899E-3,2.438102806331556,7,"1979-10-01",4.4348983184767476]
[null,null,{"$f":"'Monthly Prices'!A246","v":"1979M12"},"1979-11-01",239,false,true,false,{"$error":"#N/A"},{"$f":"INDEX('Monthly Prices'!B246:CB246,$G$4)","v":1.31},{"$f":"IF(H258,INDEX('Monthly Prices'!B246:CB246,$G$4)*U258,FALSE)","v":false},true,{"$f":"INDEX('Monthly Prices'!B246:CB246,$G$5)","v":3.2594885748500002},{"$f":"IF(H258,INDEX('Monthly Prices'!B246:CB246,$G$5)*U258,FALSE)","v":false},true,1979,{"$f":"'Monthly Prices'!B246","v":39.75},32.760416587193333,{"$f":"_xlfn.XLOOKUP(P258,'Annual Real'!A:A,'Annual Real'!B:B,0,0)","v":52.2180415234808},4.3912197969901037,4.3912197969901037,false,false,0.1261128,9.9467855188171139E-3,2.4623540920189622,7,"1979-11-01",4.3912197969901037]
[null,null,{"$f":"'Monthly Prices'!A247","v":"1980M01"},"1979-12-01",240,false,true,false,{"$error":"#N/A"},{"$f":"INDEX('Monthly Prices'!B247:CB247,$G$4)","v":1.37},{"$f":"IF(H259,INDEX('Monthly Prices'!B247:CB247,$G$4)*U259,FALSE)","v":false},true,{"$f":"INDEX('Monthly Prices'!B247:CB247,$G$5)","v":4.22},{"$f":"IF(H259,INDEX('Monthly Prices'!B247:CB247,$G$5)*U259,FALSE)","v":false},true,1979,{"$f":"'Monthly Prices'!B247","v":39},32.760416587193333,{"$f":"_xlfn.XLOOKUP(P259,'Annual Real'!A:A,'Annual Real'!B:B,0,0)","v":52.2180415234808},4.3457821559100172,4.3457821559100172,false,false,0.13293939999999999,1.0455572656419054E-2,2.488099414133897,7,"1979-12-01",4.3457821559100172]
[null,null,{"$f":"'Monthly Prices'!A248","v":"1980M02"},"1980-01-01",241,false,true,false,{"$error":"#N/A"},{"$f":"INDEX('Monthly Prices'!B248:CB248,$G$4)","v":1.42},{"$f":"IF(H260,INDEX('Monthly Prices'!B248:CB248,$G$4)*U260,FALSE)","v":false},true,{"$f":"INDEX('Monthly Prices'!B248:CB248,$G$5)","v":4.22},{"$f":"IF(H260,INDEX('Monthly Prices'!B248:CB248,$G$5)*U260,FALSE)","v":false},true,1980,{"$f":"'Monthly Prices'!B248","v":37.25},36.933333237965833,{"$f":"_xlfn.XLOOKUP(P260,'Annual Real'!A:A,'Annual Real'!B:B,0,0)","v":56.526047563165299},4.2988739641442297,4.2988739641442297,false,false,0.1390922,1.0911739250100583E-2,2.515248906169254,7,"1980-01-01",4.2988739641442297]
[null,null,{"$f":"'Monthly Prices'!A249","v":"1980M03"},"1980-02-01",242,false,true,false,{"$error":"#N/A"},{"$f":"INDEX('Monthly Prices'!B249:CB249,$G$4)","v":1.46},{"$f":"IF(H261,INDEX('Monthly Prices'!B249:CB249,$G$4)*U261,FALSE)","v":false},true,{"$f":"INDEX('Monthly Prices'!B249:CB249,$G$5)","v":4.22},{"$f":"IF(H261,INDEX('Monthly Prices'!B249:CB249,$G$5)*U261,FALSE)","v":false},true,1980,{"$f":"'Monthly Prices'!B249","v":37},36.933333237965833,{"$f":"_xlfn.XLOOKUP(P261,'Annual Real'!A:A,'Annual Real'!B:B,0,0)","v":56.526047563165299},4.2516235202012256,4.2516235202012256,false,false,0.14182339999999999,1.1113506103844095E-2,2.5432021402406533,7,"1980-02-01",4.2516235202012256]
[null,null,{"$f":"'Monthly Prices'!A250","v":"1980M04"},"1980-03-01",243,false,true,false,{"$error":"#N/A"},{"$f":"INDEX('Monthly Prices'!B250:CB250,$G$4)","v":1.51},{"$f":"IF(H262,INDEX('Monthly Prices'!B250:CB250,$G$4)*U262,FALSE)","v":false},true,{"$f":"INDEX('Monthly Prices'!B250:CB250,$G$5)","v":4.22},{"$f":"IF(H262,INDEX('Monthly Prices'!B250:CB250,$G$5)*U262,FALSE)","v":false},true,1980,{"$f":"'Monthly Prices'!B250","v":36.57500076294},36.933333237965833,{"$f":"_xlfn.XLOOKUP(P262,'Annual Real'!A:A,'Annual Real'!B:B,0,0)","v":56.526047563165299},4.203135350734347,4.203135350734347,false,false,0.14756449999999999,1.1536190348570896E-2,2.5725410042253625,7,"1980-03-01",4.203135350734347]
[null,null,{"$f":"'Monthly Prices'!A251","v":"1980M05"},"1980-04-01",244,false,true,false,{"$error":"#N/A"},{"$f":"INDEX('Monthly Prices'!B251:CB251,$G$4)","v":1.56},{"$f":"IF(H263,INDEX('Monthly Prices'!B251:CB251,$G$4)*U263,FALSE)","v":false},true,{"$f":"INDEX('Monthly Prices'!B251:CB251,$G$5)","v":4.22},{"$f":"IF(H263,INDEX('Monthly Prices'!B251:CB251,$G$5)*U263,FALSE)","v":false},true,1980,{"$f":"'Monthly Prices'!B251","v":37.04999923706},36.933333237965833,{"$f":"_xlfn.XLOOKUP(P263,'Annual Real'!A:A,'Annual Real'!B:B,0,0)","v":56.526047563165299},4.1552773349878516,4.1552773349878516,false,false,0.14730879999999899,1.1517405912603307E-2,2.6021700031978421,7,"1980-04-01",4.1552773349878516]
[null,null,{"$f":"'Monthly Prices'!A252","v":"1980M06"},"1980-05-01",245,false,true,false,{"$error":"#N/A"},{"$f":"INDEX('Monthly Prices'!B252:CB252,$G$4)","v":1.57},{"$f":"IF(H264,INDEX('Monthly Prices'!B252:CB252,$G$4)*U264,FALSE)","v":false},true,{"$f":"INDEX('Monthly Prices'!B252:CB252,$G$5)","v":4.22},{"$f":"IF(H264,INDEX('Monthly Prices'!B252:CB252,$G$5)*U264,FALSE)","v":false},true,1980,{"$f":"'Monthly Prices'!B252","v":37},36.933333237965833,{"$f":"_xlfn.XLOOKUP(P264,'Annual Real'!A:A,'Annual Real'!B:B,0,0)","v":56.526047563165299},4.1089363268189567,4.1089363268189567,false,false,0.14405590000000001,1.1278103256657346E-2,2.6315175451852837,7,"1980-05-01",4.1089363268189567]
[null,null,{"$f":"'Monthly Prices'!A253","v":"1980M07"},"1980-06-01",246,false,true,false,{"$error":"#N/A"},{"$f":"INDEX('Monthly Prices'!B253:CB253,$G$4)","v":1.64},{"$f":"IF(H265,INDEX('Monthly Prices'!B253:CB253,$G$4)*U265,FALSE)","v":false},true,{"$f":"INDEX('Monthly Prices'!B253:CB253,$G$5)","v":4.22},{"$f":"IF(H265,INDEX('Monthly Prices'!B253:CB253,$G$5)*U265,FALSE)","v":false},true,1980,{"$f":"'Monthly Prices'!B253","v":35.375},36.933333237965833,{"$f":"_xlfn.XLOOKUP(P265,'Annual Real'!A:A,'Annual Real'!B:B,0,0)","v":56.526047563165299},4.0631745228955225,4.0631745228955225,false,false,0.1438451,1.1262574045385554E-2,2.661155206389664,7,"1980-06-01",4.0631745228955225]
[null,null,{"$f":"'Monthly Prices'!A254","v":"1980M08"},"1980-07-01",247,false,true,false,{"$error":"#N/A"},{"$f":"INDEX('Monthly Prices'!B254:CB254,$G$4)","v":1.64},{"$f":"IF(H266,INDEX('Monthly Prices'!B254:CB254,$G$4)*U266,FALSE)","v":false},true,{"$f":"INDEX('Monthly Prices'!B254:CB254,$G$5)","v":4.22},{"$f":"IF(H266,INDEX('Monthly Prices'!B254:CB254,$G$5)*U266,FALSE)","v":false},true,1980,{"$f":"'Monthly Prices'!B254","v":32.949998855590003},36.933333237965833,{"$f":"_xlfn.XLOOKUP(P266,'Annual Real'!A:A,'Annual Real'!B:B,0,0)","v":56.526047563165299},4.0216085668790846,4.0216085668790846,false,false,0.131327,1.0335654334627131E-2,2.6886599867337009,7,"1980-07-01",4.0216085668790846]
[null,null,{"$f":"'Monthly Prices'!A255","v":"1980M09"},"1980-08-01",248,false,true,false,{"$error":"#N/A"},{"$f":"INDEX('Monthly Prices'!B255:CB255,$G$4)","v":1.69},{"$f":"IF(H267,INDEX('Monthly Prices'!B255:CB255,$G$4)*U267,FALSE)","v":false},true,{"$f":"INDEX('Monthly Prices'!B255:CB255,$G$5)","v":4.22},{"$f":"IF(H267,INDEX('Monthly Prices'!B255:CB255,$G$5)*U267,FALSE)","v":false},true,1980,{"$f":"'Monthly Prices'!B255","v":32.82500076294},36.933333237965833,{"$f":"_xlfn.XLOOKUP(P267,'Annual Real'!A:A,'Annual Real'!B:B,0,0)","v":56.526047563165299},3.98123130489539,3.98123130489539,false,false,0.12872629999999999,1.0141903067537372E-2,2.7159281157007205,7,"1980-08-01",3.98123130489539]
[null,null,{"$f":"'Monthly Prices'!A256","v":"1980M10"},"1980-09-01",249,false,true,false,{"$error":"#N/A"},{"$f":"INDEX('Monthly Prices'!B256:CB256,$G$4)","v":1.71},{"$f":"IF(H268,INDEX('Monthly Prices'!B256:CB256,$G$4)*U268,FALSE)","v":false},true,{"$f":"INDEX('Monthly Prices'!B256:CB256,$G$5)","v":4.22},{"$f":"IF(H268,INDEX('Monthly Prices'!B256:CB256,$G$5)*U268,FALSE)","v":false},true,1980,{"$f":"'Monthly Prices'!B256","v":37.350000381469997},36.933333237965833,{"$f":"_xlfn.XLOOKUP(P268,'Annual Real'!A:A,'Annual Real'!B:B,0,0)","v":56.526047563165299},3.9420522003971272,3.9420522003971272,false,false,0.12600539999999899,9.9387584198697976E-3,2.7429210691284021,7,"1980-09-01",3.9420522003971272]
[null,null,{"$f":"'Monthly Prices'!A257","v":"1980M11"},"1980-10-01",250,false,true,false,{"$error":"#N/A"},{"$f":"INDEX('Monthly Prices'!B257:CB257,$G$4)","v":1.76},{"$f":"IF(H269,INDEX('Monthly Prices'!B257:CB257,$G$4)*U269,FALSE)","v":false},true,{"$f":"INDEX('Monthly Prices'!B257:CB257,$G$5)","v":4.22},{"$f":"IF(H269,INDEX('Monthly Prices'!B257:CB257,$G$5)*U269,FALSE)","v":false},true,1980,{"$f":"'Monthly Prices'!B257","v":40.29999923706},36.933333237965833,{"$f":"_xlfn.XLOOKUP(P269,'Annual Real'!A:A,'Annual Real'!B:B,0,0)","v":56.526047563165299},3.9027811831925283,3.9027811831925283,false,false,0.12765959999999998,1.0062315913000885E-2,2.7705212074503982,7,"1980-10-01",3.9027811831925283]
[null,null,{"$f":"'Monthly Prices'!A258","v":"1980M12"},"1980-11-01",251,false,true,false,{"$error":"#N/A"},{"$f":"INDEX('Monthly Prices'!B258:CB258,$G$4)","v":1.74},{"$f":"IF(H270,INDEX('Monthly Prices'!B258:CB258,$G$4)*U270,FALSE)","v":false},true,{"$f":"INDEX('Monthly Prices'!B258:CB258,$G$5)","v":4.22},{"$f":"IF(H270,INDEX('Monthly Prices'!B258:CB258,$G$5)*U270,FALSE)","v":false},true,1980,{"$f":"'Monthly Prices'!B258","v":39.75},36.933333237965833,{"$f":"_xlfn.XLOOKUP(P270,'Annual Real'!A:A,'Annual Real'!B:B,0,0)","v":56.526047563165299},3.8642377717078937,3.8642377717078937,false,false,0.12648219999999999,9.9743891969668041E-3,2.798155464251959,7,"1980-11-01",3.8642377717078937]
[null,null,{"$f":"'Monthly Prices'!A259","v":"1981M01"},"1980-12-01",252,false,true,false,{"$error":"#N/A"},{"$f":"INDEX('Monthly Prices'!B259:CB259,$G$4)","v":1.77},{"$f":"IF(H271,INDEX('Monthly Prices'!B259:CB259,$G$4)*U271,FALSE)","v":false},true,{"$f":"INDEX('Monthly Prices'!B259:CB259,$G$5)","v":4.5999999999999996},{"$f":"IF(H271,INDEX('Monthly Prices'!B259:CB259,$G$5)*U271,FALSE)","v":false},true,1980,{"$f":"'Monthly Prices'!B259","v":39.774999618530003},36.933333237965833,{"$f":"_xlfn.XLOOKUP(P271,'Annual Real'!A:A,'Annual Real'!B:B,0,0)","v":56.526047563165299},3.8264486339425292,3.8264486339425292,false,false,0.125163,9.8757729112461945E-3,2.825789412187274,7,"1980-12-01",3.8264486339425292]
[null,null,{"$f":"'Monthly Prices'!A260","v":"1981M02"},"1981-01-01",253,false,true,false,{"$error":"#N/A"},{"$f":"INDEX('Monthly Prices'!B260:CB260,$G$4)","v":1.81},{"$f":"IF(H272,INDEX('Monthly Prices'!B260:CB260,$G$4)*U272,FALSE)","v":false},true,{"$f":"INDEX('Monthly Prices'!B260:CB260,$G$5)","v":4.5999999999999996},{"$f":"IF(H272,INDEX('Monthly Prices'!B260:CB260,$G$5)*U272,FALSE)","v":false},true,1981,{"$f":"'Monthly Prices'!B260","v":37.899999618530003},35.09124964607917,{"$f":"_xlfn.XLOOKUP(P272,'Annual Real'!A:A,'Annual Real'!B:B,0,0)","v":54.342465271827599},3.790974973184754,3.790974973184754,false,false,0.11825189999999999,9.357397769359288E-3,2.8522314477295541,7,"1981-01-01",3.790974973184754]
[null,null,{"$f":"'Monthly Prices'!A261","v":"1981M03"},"1981-02-01",254,false,true,false,{"$error":"#N/A"},{"$f":"INDEX('Monthly Prices'!B261:CB261,$G$4)","v":1.86},{"$f":"IF(H273,INDEX('Monthly Prices'!B261:CB261,$G$4)*U273,FALSE)","v":false},true,{"$f":"INDEX('Monthly Prices'!B261:CB261,$G$5)","v":4.5999999999999996},{"$f":"IF(H273,INDEX('Monthly Prices'!B261:CB261,$G$5)*U273,FALSE)","v":false},true,1981,{"$f":"'Monthly Prices'!B261","v":37.59999847412},35.09124964607917,{"$f":"_xlfn.XLOOKUP(P273,'Annual Real'!A:A,'Annual Real'!B:B,0,0)","v":54.342465271827599},3.7570034687751996,3.7570034687751996,false,false,0.114068399999999,9.0421807410865362E-3,2.8780218399953355,7,"1981-02-01",3.7570034687751996]
[null,null,{"$f":"'Monthly Prices'!A262","v":"1981M04"},"1981-03-01",255,false,true,false,{"$error":"#N/A"},{"$f":"INDEX('Monthly Prices'!B262:CB262,$G$4)","v":1.93},{"$f":"IF(H274,INDEX('Monthly Prices'!B262:CB262,$G$4)*U274,FALSE)","v":false},true,{"$f":"INDEX('Monthly Prices'!B262:CB262,$G$5)","v":4.5999999999999996},{"$f":"IF(H274,INDEX('Monthly Prices'!B262:CB262,$G$5)*U274,FALSE)","v":false},true,1981,{"$f":"'Monthly Prices'!B262","v":36.369998931879998},35.09124964607917,{"$f":"_xlfn.XLOOKUP(P274,'Annual Real'!A:A,'Annual Real'!B:B,0,0)","v":54.342465271827599},3.7259100576023174,3.7259100576023174,false,false,0.10486889999999899,8.3451856572434036E-3,2.9020394665756979,7,"1981-03-01",3.7259100576023174]
[null,null,{"$f":"'Monthly Prices'!A263","v":"1981M05"},"1981-04-01",256,false,true,false,{"$error":"#N/A"},{"$f":"INDEX('Monthly Prices'!B263:CB263,$G$4)","v":1.95},{"$f":"IF(H275,INDEX('Monthly Prices'!B263:CB263,$G$4)*U275,FALSE)","v":false},true,{"$f":"INDEX('Monthly Prices'!B263:CB263,$G$5)","v":4.5999999999999996},{"$f":"IF(H275,INDEX('Monthly Prices'!B263:CB263,$G$5)*U275,FALSE)","v":false},true,1981,{"$f":"'Monthly Prices'!B263","v":34.284999847409999},35.09124964607917,{"$f":"_xlfn.XLOOKUP(P275,'Annual Real'!A:A,'Annual Real'!B:B,0,0)","v":54.342465271827599},3.6964341724252003,3.6964341724252003,false,false,0.1,7.9741404289037643E-3,2.9251807368123934,7,"1981-04-01",3.6964341724252003]
[null,null,{"$f":"'Monthly Prices'!A264","v":"1981M06"},"1981-05-01",257,{"$f":"AND(E276>=$M$4,L276)","v":false},{"$f":"AND(E276<=$M$5,O276)","v":true},{"$f":"AND(F276:G276)","v":false},{"$f":"IF(H276,D276,NA)","v":{"$error":"#N/A"}},{"$f":"INDEX('Monthly Prices'!B264:CB264,$G$4)","v":1.95},{"$f":"IF(H276,INDEX('Monthly Prices'!B264:CB264,$G$4)*U276,FALSE)","v":false},true,{"$f":"INDEX('Monthly Prices'!B264:CB264,$G$5)","v":4.5999999999999996},{"$f":"IF(H276,INDEX('Monthly Prices'!B264:CB264,$G$5)*U276,FALSE)","v":false},{"$f":"AND(ISNUMBER(M276),M276>0)","v":true},1981,{"$f":"'Monthly Prices'!B264","v":32.709999084469999},35.09124964607917,{"$f":"_xlfn.XLOOKUP(P276,'Annual Real'!A:A,'Annual Real'!B:B,0,0)","v":54.342465271827599},3.6678034707004752,3.6678034707004752,false,false,9.7799509999999895E-2,7.805953059763393E-3,2.9480145603352752,7,"1981-05-01",3.6678034707004752]
[null,null,{"$f":"'Monthly Prices'!A265","v":"1981M07"},{"$f":"EDATE(D276,1)","v":"1981-06-01"},{"$f":"E276+1","v":258},false,true,false,{"$error":"#N/A"},{"$f":"INDEX('Monthly Prices'!B265:CB265,$G$4)","v":2.0099999999999998},{"$f":"IF(H277,INDEX('Monthly Prices'!B265:CB265,$G$4)*U277,FALSE)","v":false},{"$f":"ISNUMBER(J277)","v":true},{"$f":"INDEX('Monthly Prices'!B265:CB265,$G$5)","v":4.5999999999999996},{"$f":"IF(H277,INDEX('Monthly Prices'!B265:CB265,$G$5)*U277,FALSE)","v":false},true,{"$f":"YEAR(D277)","v":1981},{"$f":"'Monthly Prices'!B265","v":33.510000228880003},{"$f":"AVERAGEIF(P:P,P277,Q:Q)","v":35.09124964607917},{"$f":"_xlfn.XLOOKUP(P277,'Annual Real'!A:A,'Annual Real'!B:B,0,0)","v":54.342465271827599},{"$f":"AC277","v":3.6400233232223091},{"$f":"IF($U$19,T277,1)","v":3.6400233232223091},false,false,{"$f":"LOOKUP(D277,INDIRECT(\"'\"&$X$14&\"'!A:A\"),INDIRECT(\"'\"&$X$14&\"'!B:B\"))/100","v":9.5526E-2},{"$f":"(1+X277)^(1/12)-1","v":7.6318597468694183E-3},{"$f":"Z276*(1+Y277)","v":2.970513393991483},{"$f":"LEN(C277)","v":7},{"$f":"IF(AA277>2,D277,0)","v":"1981-06-01"},{"$f":"$AC$17/Z277","v":3.6400233232223091}]
[null,null,{"$f":"'Monthly Prices'!A266","v":"1981M08"},"1981-07-01",259,false,true,false,{"$error":"#N/A"},{"$f":"INDEX('Monthly Prices'!B266:CB266,$G$4)","v":2.02},{"$f":"IF(H278,INDEX('Monthly Prices'!B266:CB266,$G$4)*U278,FALSE)","v":false},true,{"$f":"INDEX('Monthly Prices'!B266:CB266,$G$5)","v":4.5999999999999996},{"$f":"IF(H278,INDEX('Monthly Prices'!B266:CB266,$G$5)*U278,FALSE)","v":false},true,1981,{"$f":"'Monthly Prices'!B266","v":33.984998703000002},35.09124964607917,{"$f":"_xlfn.XLOOKUP(P278,'Annual Real'!A:A,'Annual Real'!B:B,0,0)","v":54.342465271827599},3.6091505850876975,3.6091505850876975,{"$f":"IF(AND(H277,H278),LN(K278/K277))","v":false},{"$f":"IF(AND($H277,$H278),LN(N278/N277))","v":false},0.10761789999999999,8.5540177409531015E-3,2.995923218263425,7,"1981-07-01",3.6091505850876975]
[null,null,{"$f":"'Monthly Prices'!A267","v":"1981M09"},"1981-08-01",260,false,true,false,{"$error":"#N/A"},{"$f":"INDEX('Monthly Prices'!B267:CB267,$G$4)","v":2.08},{"$f":"IF(H279,INDEX('Monthly Prices'!B267:CB267,$G$4)*U279,FALSE)","v":false},true,{"$f":"INDEX('Monthly Prices'!B267:CB267,$G$5)","v":4.5999999999999996},{"$f":"IF(H279,INDEX('Monthly Prices'!B267:CB267,$G$5)*U279,FALSE)","v":false},true,1981,{"$f":"'Monthly Prices'!B267","v":33.985000610349999},35.09124964607917,{"$f":"_xlfn.XLOOKUP(P279,'Annual Real'!A:A,'Annual Real'!B:B,0,0)","v":54.342465271827599},3.578425210410491,3.578425210410491,false,false,0.10804320000000001,8.5862838736490144E-3,3.0216470654790908,7,"1981-08-01",3.578425210410491]
[null,null,{"$f":"'Monthly Prices'!A268","v":"1981M10"},"1981-09-01",261,false,true,false,{"$error":"#N/A"},{"$f":"INDEX('Monthly Prices'!B268:CB268,$G$4)","v":2.11},{"$f":"IF(H280,INDEX('Monthly Prices'!B268:CB268,$G$4)*U280,FALSE)","v":false},true,{"$f":"INDEX('Monthly Prices'!B268:CB268,$G$5)","v":4.5999999999999996},{"$f":"IF(H280,INDEX('Monthly Prices'!B268:CB268,$G$5)*U280,FALSE)","v":false},true,1981,{"$f":"'Monthly Prices'!B268","v":34.610000610349999},35.09124964607917,{"$f":"_xlfn.XLOOKUP(P280,'Annual Real'!A:A,'Annual Real'!B:B,0,0)","v":54.342465271827599},3.5475666180650189,3.5475666180650189,false,false,0.1095238,8.6985237115302372E-3,3.0479309341260366,7,"1981-09-01",3.5475666180650189]
[null,null,{"$f":"'Monthly Prices'!A269","v":"1981M11"},"1981-10-01",262,false,true,false,{"$error":"#N/A"},{"$f":"INDEX('Monthly Prices'!B269:CB269,$G$4)","v":2.15},{"$f":"IF(H281,INDEX('Monthly Prices'!B269:CB269,$G$4)*U281,FALSE)","v":false},true,{"$f":"INDEX('Monthly Prices'!B269:CB269,$G$5)","v":4.5999999999999996},{"$f":"IF(H281,INDEX('Monthly Prices'!B269:CB269,$G$5)*U281,FALSE)","v":false},true,1981,{"$f":"'Monthly Prices'!B269","v":35.680000305180002},35.09124964607917,{"$f":"_xlfn.XLOOKUP(P281,'Annual Real'!A:A,'Annual Real'!B:B,0,0)","v":54.342465271827599},3.5191245740364785,3.5191245740364785,false,false,0.10141510000000001,8.08213617624709E-3,3.0725647269914393,7,"1981-10-01",3.5191245740364785]
[null,null,{"$f":"'Monthly Prices'!A270","v":"1981M12"},"1981-11-01",263,false,true,false,{"$error":"#N/A"},{"$f":"INDEX('Monthly Prices'!B270:CB270,$G$4)","v":2.16},{"$f":"IF(H282,INDEX('Monthly Prices'!B270:CB270,$G$4)*U282,FALSE)","v":false},true,{"$f":"INDEX('Monthly Prices'!B270:CB270,$G$5)","v":4.5999999999999996},{"$f":"IF(H282,INDEX('Monthly Prices'!B270:CB270,$G$5)*U282,FALSE)","v":false},true,1981,{"$f":"'Monthly Prices'!B270","v":35.409999847409999},35.09124964607917,{"$f":"_xlfn.XLOOKUP(P282,'Annual Real'!A:A,'Annual Real'!B:B,0,0)","v":54.342465271827599},3.4923694821466493,3.4923694821466493,false,false,9.5906430000000001E-2,7.6610141127975151E-3,3.0961036887274047,7,"1981-11-01",3.4923694821466493]
[null,null,{"$f":"'Monthly Prices'!A271","v":"1982M01"},"1981-12-01",264,false,true,false,{"$error":"#N/A"},{"$f":"INDEX('Monthly Prices'!B271:CB271,$G$4)","v":2.23},{"$f":"IF(H283,INDEX('Monthly Prices'!B271:CB271,$G$4)*U283,FALSE)","v":false},true,{"$f":"INDEX('Monthly Prices'!B271:CB271,$G$5)","v":4.45},{"$f":"IF(H283,INDEX('Monthly Prices'!B271:CB271,$G$5)*U283,FALSE)","v":false},true,1981,{"$f":"'Monthly Prices'!B271","v":35.049999491370002},35.09124964607917,{"$f":"_xlfn.XLOOKUP(P283,'Annual Real'!A:A,'Annual Real'!B:B,0,0)","v":54.342465271827599},3.4675848457328837,3.4675848457328837,false,false,8.9223639999999993E-2,7.1475212623175466E-3,3.1182331556729235,7,"1981-12-01",3.4675848457328837]
[null,null,{"$f":"'Monthly Prices'!A272","v":"1982M02"},"1982-01-01",265,false,true,false,{"$error":"#N/A"},{"$f":"INDEX('Monthly Prices'!B272:CB272,$G$4)","v":2.2999999999999998},{"$f":"IF(H284,INDEX('Monthly Prices'!B272:CB272,$G$4)*U284,FALSE)","v":false},true,{"$f":"INDEX('Monthly Prices'!B272:CB272,$G$5)","v":4.45},{"$f":"IF(H284,INDEX('Monthly Prices'!B272:CB272,$G$5)*U284,FALSE)","v":false},true,1982,{"$f":"'Monthly Prices'!B272","v":32.273333485919999},32.280833254919166,{"$f":"_xlfn.XLOOKUP(P284,'Annual Real'!A:A,'Annual Real'!B:B,0,0)","v":51.531474983439502},3.444380008050119,3.444380008050119,false,false,8.3908039999999989E-2,6.737014391133167E-3,3.1392407373176003,7,"1982-01-01",3.444380008050119]
[null,null,{"$f":"'Monthly Prices'!A273","v":"1982M03"},"1982-02-01",266,false,true,false,{"$error":"#N/A"},{"$f":"INDEX('Monthly Prices'!B273:CB273,$G$4)","v":2.35},{"$f":"IF(H285,INDEX('Monthly Prices'!B273:CB273,$G$4)*U285,FALSE)","v":false},true,{"$f":"INDEX('Monthly Prices'!B273:CB273,$G$5)","v":4.45},{"$f":"IF(H285,INDEX('Monthly Prices'!B273:CB273,$G$5)*U285,FALSE)","v":false},true,1982,{"$f":"'Monthly Prices'!B273","v":30.16666653951},32.280833254919166,{"$f":"_xlfn.XLOOKUP(P285,'Annual Real'!A:A,'Annual Real'!B:B,0,0)","v":51.531474983439502},3.4233597334919867,3.4233597334919867,false,false,7.6222979999999996E-2,6.1402470656188868E-3,3.158516451043186,7,"1982-02-01",3.4233597334919867]
[null,null,{"$f":"'Monthly Prices'!A274","v":"1982M04"},"1982-03-01",267,false,true,false,{"$error":"#N/A"},{"$f":"INDEX('Monthly Prices'!B274:CB274,$G$4)","v":2.4},{"$f":"IF(H286,INDEX('Monthly Prices'!B274:CB274,$G$4)*U286,FALSE)","v":false},true,{"$f":"INDEX('Monthly Prices'!B274:CB274,$G$5)","v":4.45},{"$f":"IF(H286,INDEX('Monthly Prices'!B274:CB274,$G$5)*U286,FALSE)","v":false},true,1982,{"$f":"'Monthly Prices'!B274","v":31.56666603088},32.280833254919166,{"$f":"_xlfn.XLOOKUP(P286,'Annual Real'!A:A,'Annual Real'!B:B,0,0)","v":51.531474983439502},3.4046971975376508,3.4046971975376508,false,false,6.7796609999999993E-2,5.4814084400320873E-3,3.1758295697759142,7,"1982-03-01",3.4046971975376508]
[null,null,{"$f":"'Monthly Prices'!A275","v":"1982M05"},"1982-04-01",268,false,true,false,{"$error":"#N/A"},{"$f":"INDEX('Monthly Prices'!B275:CB275,$G$4)","v":2.4500000000000002},{"$f":"IF(H287,INDEX('Monthly Prices'!B275:CB275,$G$4)*U287,FALSE)","v":false},true,{"$f":"INDEX('Monthly Prices'!B275:CB275,$G$5)","v":4.45},{"$f":"IF(H287,INDEX('Monthly Prices'!B275:CB275,$G$5)*U287,FALSE)","v":false},true,1982,{"$f":"'Monthly Prices'!B275","v":33.043332926429997},32.280833254919166,{"$f":"_xlfn.XLOOKUP(P287,'Annual Real'!A:A,'Annual Real'!B:B,0,0)","v":51.531474983439502},3.3868512078088147,3.3868512078088147,false,false,6.5095399999999998E-2,5.2691980349446332E-3,3.1925636447042964,7,"1982-04-01",3.3868512078088147]
[null,null,{"$f":"'Monthly Prices'!A276","v":"1982M06"},"1982-05-01",269,false,true,false,{"$error":"#N/A"},{"$f":"INDEX('Monthly Prices'!B276:CB276,$G$4)","v":2.4500000000000002},{"$f":"IF(H288,INDEX('Monthly Prices'!B276:CB276,$G$4)*U288,FALSE)","v":false},true,{"$f":"INDEX('Monthly Prices'!B276:CB276,$G$5)","v":4.45},{"$f":"IF(H288,INDEX('Monthly Prices'!B276:CB276,$G$5)*U288,FALSE)","v":false},true,1982,{"$f":"'Monthly Prices'!B276","v":32.766666666669998},32.280833254919166,{"$f":"_xlfn.XLOOKUP(P288,'Annual Real'!A:A,'Annual Real'!B:B,0,0)","v":51.531474983439502},3.368645833293082,3.368645833293082,false,false,6.6815139999999995E-2,5.4043599169153467E-3,3.2098174076979373,7,"1982-05-01",3.368645833293082]
[null,null,{"$f":"'Monthly Prices'!A277","v":"1982M07"},"1982-06-01",270,false,true,false,{"$error":"#N/A"},{"$f":"INDEX('Monthly Prices'!B277:CB277,$G$4)","v":2.4700000000000002},{"$f":"IF(H289,INDEX('Monthly Prices'!B277:CB277,$G$4)*U289,FALSE)","v":false},true,{"$f":"INDEX('Monthly Prices'!B277:CB277,$G$5)","v":4.45},{"$f":"IF(H289,INDEX('Monthly Prices'!B277:CB277,$G$5)*U289,FALSE)","v":false},true,1982,{"$f":"'Monthly Prices'!B277","v":32.916667175290002},32.280833254919166,{"$f":"_xlfn.XLOOKUP(P289,'Annual Real'!A:A,'Annual Real'!B:B,0,0)","v":51.531474983439502},3.3495391515528761,3.3495391515528761,false,false,7.06401799999999E-2,5.7042718044801877E-3,3.2281270786341985,7,"1982-06-01",3.3495391515528761]
[null,null,{"$f":"'Monthly Prices'!A278","v":"1982M08"},"1982-07-01",271,false,true,false,{"$error":"#N/A"},{"$f":"INDEX('Monthly Prices'!B278:CB278,$G$4)","v":2.5299999999999998},{"$f":"IF(H290,INDEX('Monthly Prices'!B278:CB278,$G$4)*U290,FALSE)","v":false},true,{"$f":"INDEX('Monthly Prices'!B278:CB278,$G$5)","v":4.45},{"$f":"IF(H290,INDEX('Monthly Prices'!B278:CB278,$G$5)*U290,FALSE)","v":false},true,1982,{"$f":"'Monthly Prices'!B278","v":32.416666412349997},32.280833254919166,{"$f":"_xlfn.XLOOKUP(P290,'Annual Real'!A:A,'Annual Real'!B:B,0,0)","v":51.531474983439502},3.3321608946211736,3.3321608946211736,false,false,6.4410480000000006E-2,5.215311469429551E-3,3.2449627668121757,7,"1982-07-01",3.3321608946211736]
[null,null,{"$f":"'Monthly Prices'!A279","v":"1982M09"},"1982-08-01",272,false,true,false,{"$error":"#N/A"},{"$f":"INDEX('Monthly Prices'!B279:CB279,$G$4)","v":2.56},{"$f":"IF(H291,INDEX('Monthly Prices'!B279:CB279,$G$4)*U291,FALSE)","v":false},true,{"$f":"INDEX('Monthly Prices'!B279:CB279,$G$5)","v":4.45},{"$f":"IF(H291,INDEX('Monthly Prices'!B279:CB279,$G$5)*U291,FALSE)","v":false},true,1982,{"$f":"'Monthly Prices'!B279","v":33.466666412350001},32.280833254919166,{"$f":"_xlfn.XLOOKUP(P291,'Annual Real'!A:A,'Annual Real'!B:B,0,0)","v":51.531474983439502},3.3164100655887792,3.3164100655887792,false,false,5.8504879999999898E-2,4.7493611226867571E-3,3.2603742668214393,7,"1982-08-01",3.3164100655887792]
[null,null,{"$f":"'Monthly Prices'!A280","v":"1982M10"},"1982-09-01",273,false,true,false,{"$error":"#N/A"},{"$f":"INDEX('Monthly Prices'!B280:CB280,$G$4)","v":2.6},{"$f":"IF(H292,INDEX('Monthly Prices'!B280:CB280,$G$4)*U292,FALSE)","v":false},true,{"$f":"INDEX('Monthly Prices'!B280:CB280,$G$5)","v":4.45},{"$f":"IF(H292,INDEX('Monthly Prices'!B280:CB280,$G$5)*U292,FALSE)","v":false},true,1982,{"$f":"'Monthly Prices'!B280","v":33.783333841960001},32.280833254919166,{"$f":"_xlfn.XLOOKUP(P292,'Annual Real'!A:A,'Annual Real'!B:B,0,0)","v":51.531474983439502},3.302840941882371,3.302840941882371,false,false,5.0429190000000006E-2,4.1083188519137614E-3,3.2737689238861165,7,"1982-09-01",3.302840941882371]
[null,null,{"$f":"'Monthly Prices'!A281","v":"1982M11"},"1982-10-01",274,false,true,false,{"$error":"#N/A"},{"$f":"INDEX('Monthly Prices'!B281:CB281,$G$4)","v":2.62},{"$f":"IF(H293,INDEX('Monthly Prices'!B281:CB281,$G$4)*U293,FALSE)","v":false},true,{"$f":"INDEX('Monthly Prices'!B281:CB281,$G$5)","v":4.45},{"$f":"IF(H293,INDEX('Monthly Prices'!B281:CB281,$G$5)*U293,FALSE)","v":false},true,1982,{"$f":"'Monthly Prices'!B281","v":32.849999745689999},32.280833254919166,{"$f":"_xlfn.XLOOKUP(P293,'Annual Real'!A:A,'Annual Real'!B:B,0,0)","v":51.531474983439502},3.2890762512429483,3.2890762512429483,false,false,5.1391859999999998E-2,4.1849715810695631E-3,3.2874695537955687,7,"1982-10-01",3.2890762512429483]
[null,null,{"$f":"'Monthly Prices'!A282","v":"1982M12"},"1982-11-01",275,false,true,false,{"$error":"#N/A"},{"$f":"INDEX('Monthly Prices'!B282:CB282,$G$4)","v":2.62},{"$f":"IF(H294,INDEX('Monthly Prices'!B282:CB282,$G$4)*U294,FALSE)","v":false},true,{"$f":"INDEX('Monthly Prices'!B282:CB282,$G$5)","v":4.45},{"$f":"IF(H294,INDEX('Monthly Prices'!B282:CB282,$G$5)*U294,FALSE)","v":false},true,1982,{"$f":"'Monthly Prices'!B282","v":31.46666679382},32.280833254919166,{"$f":"_xlfn.XLOOKUP(P294,'Annual Real'!A:A,'Annual Real'!B:B,0,0)","v":51.531474983439502},3.2768010057617327,3.2768010057617327,false,false,4.5891140000000004E-2,3.746106479957767E-3,3.299784764793706,7,"1982-11-01",3.2768010057617327]
[null,null,{"$f":"'Monthly Prices'!A283","v":"1983M01"},"1982-12-01",276,false,true,false,{"$error":"#N/A"},{"$f":"INDEX('Monthly Prices'!B283:CB283,$G$4)","v":2.66},{"$f":"IF(H295,INDEX('Monthly Prices'!B283:CB283,$G$4)*U295,FALSE)","v":false},true,{"$f":"INDEX('Monthly Prices'!B283:CB283,$G$5)","v":4.05},{"$f":"IF(H295,INDEX('Monthly Prices'!B283:CB283,$G$5)*U295,FALSE)","v":false},true,1982,{"$f":"'Monthly Prices'!B283","v":30.653333028159999},32.280833254919166,{"$f":"_xlfn.XLOOKUP(P295,'Annual Real'!A:A,'Annual Real'!B:B,0,0)","v":51.531474983439502},3.2665544714665047,3.2665544714665047,false,false,3.8297869999999998E-2,3.1368019069424324E-3,3.3101355359364106,7,"1982-12-01",3.2665544714665047]
[null,null,{"$f":"'Monthly Prices'!A284","v":"1983M02"},"1983-01-01",277,false,true,false,{"$error":"#N/A"},{"$f":"INDEX('Monthly Prices'!B284:CB284,$G$4)","v":2.66},{"$f":"IF(H296,INDEX('Monthly Prices'!B284:CB284,$G$4)*U296,FALSE)","v":false},true,{"$f":"INDEX('Monthly Prices'!B284:CB284,$G$5)","v":4.05},{"$f":"IF(H296,INDEX('Monthly Prices'!B284:CB284,$G$5)*U296,FALSE)","v":false},true,1983,{"$f":"'Monthly Prices'!B284","v":29.113333384200001},29.52361117469,{"$f":"_xlfn.XLOOKUP(P296,'Annual Real'!A:A,'Annual Real'!B:B,0,0)","v":48.088064310766597},3.256649160488148,3.256649160488148,false,false,3.7115589999999997E-2,3.0415652685389372E-3,3.3202035292166712,7,"1983-01-01",3.256649160488148]
[null,null,{"$f":"'Monthly Prices'!A285","v":"1983M03"},"1983-02-01",278,false,true,false,{"$error":"#N/A"},{"$f":"INDEX('Monthly Prices'!B285:CB285,$G$4)","v":2.58},{"$f":"IF(H297,INDEX('Monthly Prices'!B285:CB285,$G$4)*U297,FALSE)","v":false},true,{"$f":"INDEX('Monthly Prices'!B285:CB285,$G$5)","v":4.05},{"$f":"IF(H297,INDEX('Monthly Prices'!B285:CB285,$G$5)*U297,FALSE)","v":false},true,1983,{"$f":"'Monthly Prices'!B285","v":28.32000033061},29.52361117469,{"$f":"_xlfn.XLOOKUP(P297,'Annual Real'!A:A,'Annual Real'!B:B,0,0)","v":48.088064310766597},3.2473568195977753,3.2473568195977753,false,false,3.488372E-2,2.8615090384565001E-3,3.3297043216250399,7,"1983-02-01",3.2473568195977753]
[null,null,{"$f":"'Monthly Prices'!A286","v":"1983M04"},"1983-03-01",279,false,true,false,{"$error":"#N/A"},{"$f":"INDEX('Monthly Prices'!B286:CB286,$G$4)","v":2.5299999999999998},{"$f":"IF(H298,INDEX('Monthly Prices'!B286:CB286,$G$4)*U298,FALSE)","v":false},true,{"$f":"INDEX('Monthly Prices'!B286:CB286,$G$5)","v":4.05},{"$f":"IF(H298,INDEX('Monthly Prices'!B286:CB286,$G$5)*U298,FALSE)","v":false},true,1983,{"$f":"'Monthly Prices'!B286","v":29.693333307900001},29.52361117469,{"$f":"_xlfn.XLOOKUP(P298,'Annual Real'!A:A,'Annual Real'!B:B,0,0)","v":48.088064310766597},3.2378056092738601,3.2378056092738601,false,false,3.5978839999999901E-2,2.949902334024701E-3,3.3395266241750137,7,"1983-03-01",3.2378056092738601]
[null,null,{"$f":"'Monthly Prices'!A287","v":"1983M05"},"1983-04-01",280,false,true,false,{"$error":"#N/A"},{"$f":"INDEX('Monthly Prices'!B287:CB287,$G$4)","v":2.5299999999999998},{"$f":"IF(H299,INDEX('Monthly Prices'!B287:CB287,$G$4)*U299,FALSE)","v":false},true,{"$f":"INDEX('Monthly Prices'!B287:CB287,$G$5)","v":4.05},{"$f":"IF(H299,INDEX('Monthly Prices'!B287:CB287,$G$5)*U299,FALSE)","v":false},true,1983,{"$f":"'Monthly Prices'!B287","v":29.359999974570002},29.52361117469,{"$f":"_xlfn.XLOOKUP(P299,'Annual Real'!A:A,'Annual Real'!B:B,0,0)","v":48.088064310766597},3.2275021917765216,3.2275021917765216,false,false,3.8988410000000001E-2,3.1923812549503605E-3,3.3501876663704375,7,"1983-04-01",3.2275021917765216]
[null,null,{"$f":"'Monthly Prices'!A288","v":"1983M06"},"1983-05-01",281,false,true,false,{"$error":"#N/A"},{"$f":"INDEX('Monthly Prices'!B288:CB288,$G$4)","v":2.59},{"$f":"IF(H300,INDEX('Monthly Prices'!B288:CB288,$G$4)*U300,FALSE)","v":false},true,{"$f":"INDEX('Monthly Prices'!B288:CB288,$G$5)","v":4.05},{"$f":"IF(H300,INDEX('Monthly Prices'!B288:CB288,$G$5)*U300,FALSE)","v":false},true,1983,{"$f":"'Monthly Prices'!B288","v":29.966667175289999},29.52361117469,{"$f":"_xlfn.XLOOKUP(P300,'Annual Real'!A:A,'Annual Real'!B:B,0,0)","v":48.088064310766597},3.218135791046365,3.218135791046365,false,false,3.5490609999999999E-2,2.9105051303977003E-3,3.3599384047612038,7,"1983-05-01",3.218135791046365]
[null,null,{"$f":"'Monthly Prices'!A289","v":"1983M07"},"1983-06-01",282,false,true,false,{"$error":"#N/A"},{"$f":"INDEX('Monthly Prices'!B289:CB289,$G$4)","v":2.52},{"$f":"IF(H301,INDEX('Monthly Prices'!B289:CB289,$G$4)*U301,FALSE)","v":false},true,{"$f":"INDEX('Monthly Prices'!B289:CB289,$G$5)","v":4.05},{"$f":"IF(H301,INDEX('Monthly Prices'!B289:CB289,$G$5)*U301,FALSE)","v":false},true,1983,{"$f":"'Monthly Prices'!B289","v":30.466666539510001},29.52361117469,{"$f":"_xlfn.XLOOKUP(P301,'Annual Real'!A:A,'Annual Real'!B:B,0,0)","v":48.088064310766597},3.2113187849831113,3.2113187849831113,false,false,2.57732E-2,2.1228057753504004E-3,3.3670709014116524,7,"1983-06-01",3.2113187849831113]
[null,null,{"$f":"'Monthly Prices'!A290","v":"1983M08"},"1983-07-01",283,false,true,false,{"$error":"#N/A"},{"$f":"INDEX('Monthly Prices'!B290:CB290,$G$4)","v":2.58},{"$f":"IF(H302,INDEX('Monthly Prices'!B290:CB290,$G$4)*U302,FALSE)","v":false},true,{"$f":"INDEX('Monthly Prices'!B290:CB290,$G$5)","v":4.05},{"$f":"IF(H302,INDEX('Monthly Prices'!B290:CB290,$G$5)*U302,FALSE)","v":false},true,1983,{"$f":"'Monthly Prices'!B290","v":30.653333028159999},29.52361117469,{"$f":"_xlfn.XLOOKUP(P302,'Annual Real'!A:A,'Annual Real'!B:B,0,0)","v":48.088064310766597},3.2048178204793447,3.2048178204793447,false,false,2.4615390000000001E-2,2.0284973648811988E-3,3.3739009958625341,7,"1983-07-01",3.2048178204793447]
[null,null,{"$f":"'Monthly Prices'!A291","v":"1983M09"},"1983-08-01",284,false,true,false,{"$error":"#N/A"},{"$f":"INDEX('Monthly Prices'!B291:CB291,$G$4)","v":2.67},{"$f":"IF(H303,INDEX('Monthly Prices'!B291:CB291,$G$4)*U303,FALSE)","v":false},true,{"$f":"INDEX('Monthly Prices'!B291:CB291,$G$5)","v":4.05},{"$f":"IF(H303,INDEX('Monthly Prices'!B291:CB291,$G$5)*U303,FALSE)","v":false},true,1983,{"$f":"'Monthly Prices'!B291","v":30.07000033061},29.52361117469,{"$f":"_xlfn.XLOOKUP(P303,'Annual Real'!A:A,'Annual Real'!B:B,0,0)","v":48.088064310766597},3.1980770065175839,3.1980770065175839,false,false,2.5588540000000003E-2,2.1077709973911229E-3,3.381012406529682,7,"1983-08-01",3.1980770065175839]
[null,null,{"$f":"'Monthly Prices'!A292","v":"1983M10"},"1983-09-01",285,false,true,false,{"$error":"#N/A"},{"$f":"INDEX('Monthly Prices'!B292:CB292,$G$4)","v":2.58},{"$f":"IF(H304,INDEX('Monthly Prices'!B292:CB292,$G$4)*U304,FALSE)","v":false},true,{"$f":"INDEX('Monthly Prices'!B292:CB292,$G$5)","v":4.05},{"$f":"IF(H304,INDEX('Monthly Prices'!B292:CB292,$G$5)*U304,FALSE)","v":false},true,1983,{"$f":"'Monthly Prices'!B292","v":29.616666793819999},29.52361117469,{"$f":"_xlfn.XLOOKUP(P304,'Annual Real'!A:A,'Annual Real'!B:B,0,0)","v":48.088064310766597},3.190570549431675,3.190570549431675,false,false,2.8600609999999999E-2,2.3527005498267251E-3,3.3889669162774956,7,"1983-09-01",3.190570549431675]
[null,null,{"$f":"'Monthly Prices'!A293","v":"1983M11"},"1983-10-01",286,false,true,false,{"$error":"#N/A"},{"$f":"INDEX('Monthly Prices'!B293:CB293,$G$4)","v":2.6},{"$f":"IF(H305,INDEX('Monthly Prices'!B293:CB293,$G$4)*U305,FALSE)","v":false},true,{"$f":"INDEX('Monthly Prices'!B293:CB293,$G$5)","v":4.05},{"$f":"IF(H305,INDEX('Monthly Prices'!B293:CB293,$G$5)*U305,FALSE)","v":false},true,1983,{"$f":"'Monthly Prices'!B293","v":29.16666666667},29.52361117469,{"$f":"_xlfn.XLOOKUP(P305,'Annual Real'!A:A,'Annual Real'!B:B,0,0)","v":48.088064310766597},3.1831042434606305,3.1831042434606305,false,false,2.8513239999999999E-2,2.3456052331252142E-3,3.3969160948112043,7,"1983-10-01",3.1831042434606305]
[null,null,{"$f":"'Monthly Prices'!A294","v":"1983M12"},"1983-11-01",287,false,true,false,{"$error":"#N/A"},{"$f":"INDEX('Monthly Prices'!B294:CB294,$G$4)","v":2.61},{"$f":"IF(H306,INDEX('Monthly Prices'!B294:CB294,$G$4)*U306,FALSE)","v":false},true,{"$f":"INDEX('Monthly Prices'!B294:CB294,$G$5)","v":4.05},{"$f":"IF(H306,INDEX('Monthly Prices'!B294:CB294,$G$5)*U306,FALSE)","v":false},true,1983,{"$f":"'Monthly Prices'!B294","v":28.813333511349999},29.52361117469,{"$f":"_xlfn.XLOOKUP(P306,'Annual Real'!A:A,'Annual Real'!B:B,0,0)","v":48.088064310766597},3.1745925436906095,3.1745925436906095,false,false,3.2653059999999998E-2,2.6811944061726489E-3,3.4060238872428501,7,"1983-11-01",3.1745925436906095]
[null,null,{"$f":"'Monthly Prices'!A295","v":"1984M01"},"1983-12-01",288,false,true,false,{"$error":"#N/A"},{"$f":"INDEX('Monthly Prices'!B295:CB295,$G$4)","v":2.67},{"$f":"IF(H307,INDEX('Monthly Prices'!B295:CB295,$G$4)*U307,FALSE)","v":false},true,{"$f":"INDEX('Monthly Prices'!B295:CB295,$G$5)","v":3.76},{"$f":"IF(H307,INDEX('Monthly Prices'!B295:CB295,$G$5)*U307,FALSE)","v":false},true,1983,{"$f":"'Monthly Prices'!B295","v":29.043333053590001},29.52361117469,{"$f":"_xlfn.XLOOKUP(P307,'Annual Real'!A:A,'Annual Real'!B:B,0,0)","v":48.088064310766597},3.1647641920676697,3.1647641920676697,false,false,3.7909839999999903E-2,3.1055557464831907E-3,3.4166014842985359,7,"1983-12-01",3.1647641920676697]
[null,null,{"$f":"'Monthly Prices'!A296","v":"1984M02"},"1984-01-01",289,false,true,false,{"$error":"#N/A"},{"$f":"INDEX('Monthly Prices'!B296:CB296,$G$4)","v":2.71},{"$f":"IF(H308,INDEX('Monthly Prices'!B296:CB296,$G$4)*U308,FALSE)","v":false},true,{"$f":"INDEX('Monthly Prices'!B296:CB296,$G$5)","v":3.76},{"$f":"IF(H308,INDEX('Monthly Prices'!B296:CB296,$G$5)*U308,FALSE)","v":false},true,1984,{"$f":"'Monthly Prices'!B296","v":29.203332901},28.356666681499991,{"$f":"_xlfn.XLOOKUP(P308,'Annual Real'!A:A,'Annual Real'!B:B,0,0)","v":47.346006754578703},3.1539519938648475,3.1539519938648475,false,false,4.1922290000000001E-2,3.4281429215963222E-3,3.4283140824928493,7,"1984-01-01",3.1539519938648475]
[null,null,{"$f":"'Monthly Prices'!A297","v":"1984M03"},"1984-02-01",290,false,true,false,{"$error":"#N/A"},{"$f":"INDEX('Monthly Prices'!B297:CB297,$G$4)","v":2.67},{"$f":"IF(H309,INDEX('Monthly Prices'!B297:CB297,$G$4)*U309,FALSE)","v":false},true,{"$f":"INDEX('Monthly Prices'!B297:CB297,$G$5)","v":3.76},{"$f":"IF(H309,INDEX('Monthly Prices'!B297:CB297,$G$5)*U309,FALSE)","v":false},true,1984,{"$f":"'Monthly Prices'!B297","v":29.533333460489999},28.356666681499991,{"$f":"_xlfn.XLOOKUP(P309,'Annual Real'!A:A,'Annual Real'!B:B,0,0)","v":47.346006754578703},3.1421624906641203,3.1421624906641203,false,false,4.5965270000000003E-2,3.7520348599908715E-3,3.44117723644136,7,"1984-02-01",3.1421624906641203]
[null,null,{"$f":"'Monthly Prices'!A298","v":"1984M04"},"1984-03-01",291,false,true,false,{"$error":"#N/A"},{"$f":"INDEX('Monthly Prices'!B298:CB298,$G$4)","v":2.64},{"$f":"IF(H310,INDEX('Monthly Prices'!B298:CB298,$G$4)*U310,FALSE)","v":false},true,{"$f":"INDEX('Monthly Prices'!B298:CB298,$G$5)","v":3.76},{"$f":"IF(H310,INDEX('Monthly Prices'!B298:CB298,$G$5)*U310,FALSE)","v":false},true,1984,{"$f":"'Monthly Prices'!B298","v":29.573332468669999},28.356666681499991,{"$f":"_xlfn.XLOOKUP(P310,'Annual Real'!A:A,'Annual Real'!B:B,0,0)","v":47.346006754578703},3.1299080872851333,3.1299080872851333,false,false,4.8008169999999899E-2,3.9152598214524659E-3,3.4546503394136958,7,"1984-03-01",3.1299080872851333]
[null,null,{"$f":"'Monthly Prices'!A299","v":"1984M05"},"1984-04-01",292,false,true,false,{"$error":"#N/A"},{"$f":"INDEX('Monthly Prices'!B299:CB299,$G$4)","v":2.67},{"$f":"IF(H311,INDEX('Monthly Prices'!B299:CB299,$G$4)*U311,FALSE)","v":false},true,{"$f":"INDEX('Monthly Prices'!B299:CB299,$G$5)","v":3.76},{"$f":"IF(H311,INDEX('Monthly Prices'!B299:CB299,$G$5)*U311,FALSE)","v":false},true,1984,{"$f":"'Monthly Prices'!B299","v":29.460000356039998},28.356666681499991,{"$f":"_xlfn.XLOOKUP(P311,'Annual Real'!A:A,'Annual Real'!B:B,0,0)","v":47.346006754578703},3.1182895423055479,3.1182895423055479,false,false,4.5638949999999998E-2,3.7259352673821855E-3,3.4675221429497913,7,"1984-04-01",3.1182895423055479]
[null,null,{"$f":"'Monthly Prices'!A300","v":"1984M06"},"1984-05-01",293,false,true,false,{"$error":"#N/A"},{"$f":"INDEX('Monthly Prices'!B300:CB300,$G$4)","v":2.7},{"$f":"IF(H312,INDEX('Monthly Prices'!B300:CB300,$G$4)*U312,FALSE)","v":false},true,{"$f":"INDEX('Monthly Prices'!B300:CB300,$G$5)","v":3.76},{"$f":"IF(H312,INDEX('Monthly Prices'!B300:CB300,$G$5)*U312,FALSE)","v":false},true,1984,{"$f":"'Monthly Prices'!B300","v":29.050000508629999},28.356666681499991,{"$f":"_xlfn.XLOOKUP(P312,'Annual Real'!A:A,'Annual Real'!B:B,0,0)","v":47.346006754578703},3.1075326427851944,3.1075326427851944,false,false,4.2338709999999995E-2,3.4615564040263447E-3,3.4795251664298221,7,"1984-05-01",3.1075326427851944]
[null,null,{"$f":"'Monthly Prices'!A301","v":"1984M07"},"1984-06-01",294,false,true,false,{"$error":"#N/A"},{"$f":"INDEX('Monthly Prices'!B301:CB301,$G$4)","v":2.68},{"$f":"IF(H313,INDEX('Monthly Prices'!B301:CB301,$G$4)*U313,FALSE)","v":false},true,{"$f":"INDEX('Monthly Prices'!B301:CB301,$G$5)","v":3.76},{"$f":"IF(H313,INDEX('Monthly Prices'!B301:CB301,$G$5)*U313,FALSE)","v":false},true,1984,{"$f":"'Monthly Prices'!B301","v":27.98666699727},28.356666681499991,{"$f":"_xlfn.XLOOKUP(P313,'Annual Real'!A:A,'Annual Real'!B:B,0,0)","v":47.346006754578703},3.0968444567903401,3.0968444567903401,false,false,4.2211059999999995E-2,3.4513150866903874E-3,3.4915341041312402,7,"1984-06-01",3.0968444567903401]
[null,null,{"$f":"'Monthly Prices'!A302","v":"1984M08"},"1984-07-01",295,false,true,false,{"$error":"#N/A"},{"$f":"INDEX('Monthly Prices'!B302:CB302,$G$4)","v":2.69},{"$f":"IF(H314,INDEX('Monthly Prices'!B302:CB302,$G$4)*U314,FALSE)","v":false},true,{"$f":"INDEX('Monthly Prices'!B302:CB302,$G$5)","v":3.76},{"$f":"IF(H314,INDEX('Monthly Prices'!B302:CB302,$G$5)*U314,FALSE)","v":false},true,1984,{"$f":"'Monthly Prices'!B302","v":28.170000076289998},28.356666681499991,{"$f":"_xlfn.XLOOKUP(P314,'Annual Real'!A:A,'Annual Real'!B:B,0,0)","v":47.346006754578703},3.086234744352204,3.086234744352204,false,false,4.2042039999999996E-2,3.4377528985933825E-3,3.503537135618255,7,"1984-07-01",3.086234744352204]
[null,null,{"$f":"'Monthly Prices'!A303","v":"1984M09"},"1984-08-01",296,false,true,false,{"$error":"#N/A"},{"$f":"INDEX('Monthly Prices'!B303:CB303,$G$4)","v":2.62},{"$f":"IF(H315,INDEX('Monthly Prices'!B303:CB303,$G$4)*U315,FALSE)","v":false},true,{"$f":"INDEX('Monthly Prices'!B303:CB303,$G$5)","v":3.76},{"$f":"IF(H315,INDEX('Monthly Prices'!B303:CB303,$G$5)*U315,FALSE)","v":false},true,1984,{"$f":"'Monthly Prices'!B303","v":28.353333155310001},28.356666681499991,{"$f":"_xlfn.XLOOKUP(P315,'Annual Real'!A:A,'Annual Real'!B:B,0,0)","v":47.346006754578703},3.0754469648945881,3.0754469648945881,false,false,4.2914170000000001E-2,3.5077111004531147E-3,3.5158265317197128,7,"1984-08-01",3.0754469648945881]
[null,null,{"$f":"'Monthly Prices'!A304","v":"1984M10"},"1984-09-01",297,false,true,false,{"$error":"#N/A"},{"$f":"INDEX('Monthly Prices'!B304:CB304,$G$4)","v":2.63},{"$f":"IF(H316,INDEX('Monthly Prices'!B304:CB304,$G$4)*U316,FALSE)","v":false},true,{"$f":"INDEX('Monthly Prices'!B304:CB304,$G$5)","v":3.76},{"$f":"IF(H316,INDEX('Monthly Prices'!B304:CB304,$G$5)*U316,FALSE)","v":false},true,1984,{"$f":"'Monthly Prices'!B304","v":27.853333155310001},28.356666681499991,{"$f":"_xlfn.XLOOKUP(P316,'Annual Real'!A:A,'Annual Real'!B:B,0,0)","v":47.346006754578703},3.0647490789156513,3.0647490789156513,false,false,4.2701089999999997E-2,3.4906237683647312E-3,3.5280989593767811,7,"1984-09-01",3.0647490789156513]
[null,null,{"$f":"'Monthly Prices'!A305","v":"1984M11"},"1984-10-01",298,false,true,false,{"$error":"#N/A"},{"$f":"INDEX('Monthly Prices'!B305:CB305,$G$4)","v":2.61},{"$f":"IF(H317,INDEX('Monthly Prices'!B305:CB305,$G$4)*U317,FALSE)","v":false},true,{"$f":"INDEX('Monthly Prices'!B305:CB305,$G$5)","v":3.76},{"$f":"IF(H317,INDEX('Monthly Prices'!B305:CB305,$G$5)*U317,FALSE)","v":false},true,1984,{"$f":"'Monthly Prices'!B305","v":27.650000254310001},28.356666681499991,{"$f":"_xlfn.XLOOKUP(P317,'Annual Real'!A:A,'Annual Real'!B:B,0,0)","v":47.346006754578703},3.0541193646377209,3.0541193646377209,false,false,4.2574259999999996E-2,3.4804514849704482E-3,3.5403783366390669,7,"1984-10-01",3.0541193646377209]
[null,null,{"$f":"'Monthly Prices'!A306","v":"1984M12"},"1984-11-01",299,false,true,false,{"$error":"#N/A"},{"$f":"INDEX('Monthly Prices'!B306:CB306,$G$4)","v":2.57},{"$f":"IF(H318,INDEX('Monthly Prices'!B306:CB306,$G$4)*U318,FALSE)","v":false},true,{"$f":"INDEX('Monthly Prices'!B306:CB306,$G$5)","v":3.76},{"$f":"IF(H318,INDEX('Monthly Prices'!B306:CB306,$G$5)*U318,FALSE)","v":false},true,1984,{"$f":"'Monthly Prices'!B306","v":26.813333511349999},28.356666681499991,{"$f":"_xlfn.XLOOKUP(P318,'Annual Real'!A:A,'Annual Real'!B:B,0,0)","v":47.346006754578703},3.044028296700672,3.044028296700672,false,false,4.0513830000000001E-2,3.3150374942263472E-3,3.5521148235687723,7,"1984-11-01",3.044028296700672]
[null,null,{"$f":"'Monthly Prices'!A307","v":"1985M01"},"1984-12-01",300,false,true,false,{"$error":"#N/A"},{"$f":"INDEX('Monthly Prices'!B307:CB307,$G$4)","v":2.64},{"$f":"IF(H319,INDEX('Monthly Prices'!B307:CB307,$G$4)*U319,FALSE)","v":false},true,{"$f":"INDEX('Monthly Prices'!B307:CB307,$G$5)","v":3.65},{"$f":"IF(H319,INDEX('Monthly Prices'!B307:CB307,$G$5)*U319,FALSE)","v":false},true,1984,{"$f":"'Monthly Prices'!B307","v":26.63333333333},28.356666681499991,{"$f":"_xlfn.XLOOKUP(P319,'Annual Real'!A:A,'Annual Real'!B:B,0,0)","v":47.346006754578703},3.0342202901316506,3.0342202901316506,false,false,3.9486670000000001E-2,3.2324635758715914E-3,3.5635969053532719,7,"1984-12-01",3.0342202901316506]
[null,null,{"$f":"'Monthly Prices'!A308","v":"1985M02"},"1985-01-01",301,false,true,false,{"$error":"#N/A"},{"$f":"INDEX('Monthly Prices'!B308:CB308,$G$4)","v":2.71},{"$f":"IF(H320,INDEX('Monthly Prices'!B308:CB308,$G$4)*U320,FALSE)","v":false},true,{"$f":"INDEX('Monthly Prices'!B308:CB308,$G$5)","v":3.65},{"$f":"IF(H320,INDEX('Monthly Prices'!B308:CB308,$G$5)*U320,FALSE)","v":false},true,1985,{"$f":"'Monthly Prices'!B308","v":27.6},27.020833333333332,{"$f":"_xlfn.XLOOKUP(P320,'Annual Real'!A:A,'Annual Real'!B:B,0,0)","v":45.542674072633098},3.0254542173063768,3.0254542173063768,false,false,3.5328749999999999E-2,2.8974402505017594E-3,3.5739222144634062,7,"1985-01-01",3.0254542173063768]
[null,null,{"$f":"'Monthly Prices'!A309","v":"1985M03"},"1985-02-01",302,false,true,false,{"$error":"#N/A"},{"$f":"INDEX('Monthly Prices'!B309:CB309,$G$4)","v":2.62},{"$f":"IF(H321,INDEX('Monthly Prices'!B309:CB309,$G$4)*U321,FALSE)","v":false},true,{"$f":"INDEX('Monthly Prices'!B309:CB309,$G$5)","v":3.65},{"$f":"IF(H321,INDEX('Monthly Prices'!B309:CB309,$G$5)*U321,FALSE)","v":false},true,1985,{"$f":"'Monthly Prices'!B309","v":27.85},27.020833333333332,{"$f":"_xlfn.XLOOKUP(P321,'Annual Real'!A:A,'Annual Real'!B:B,0,0)","v":45.542674072633098},3.0167553595479313,3.0167553595479313,false,false,3.515625E-2,2.8835144788634803E-3,3.5842276709151433,7,"1985-02-01",3.0167553595479313]
[null,null,{"$f":"'Monthly Prices'!A310","v":"1985M04"},"1985-03-01",303,false,true,false,{"$error":"#N/A"},{"$f":"INDEX('Monthly Prices'!B310:CB310,$G$4)","v":2.64},{"$f":"IF(H322,INDEX('Monthly Prices'!B310:CB310,$G$4)*U322,FALSE)","v":false},true,{"$f":"INDEX('Monthly Prices'!B310:CB310,$G$5)","v":3.65},{"$f":"IF(H322,INDEX('Monthly Prices'!B310:CB310,$G$5)*U322,FALSE)","v":false},true,1985,{"$f":"'Monthly Prices'!B310","v":27.8},27.020833333333332,{"$f":"_xlfn.XLOOKUP(P322,'Annual Real'!A:A,'Annual Real'!B:B,0,0)","v":45.542674072633098},3.0076265084793574,3.0076265084793574,false,false,3.703704E-2,3.0352342762098861E-3,3.595106641595645,7,"1985-03-01",3.0076265084793574]
[null,null,{"$f":"'Monthly Prices'!A311","v":"1985M05"},"1985-04-01",304,false,true,false,{"$error":"#N/A"},{"$f":"INDEX('Monthly Prices'!B311:CB311,$G$4)","v":2.5299999999999998},{"$f":"IF(H323,INDEX('Monthly Prices'!B311:CB311,$G$4)*U323,FALSE)","v":false},true,{"$f":"INDEX('Monthly Prices'!B311:CB311,$G$5)","v":3.65},{"$f":"IF(H323,INDEX('Monthly Prices'!B311:CB311,$G$5)*U323,FALSE)","v":false},true,1985,{"$f":"'Monthly Prices'!B311","v":26.65},27.020833333333332,{"$f":"_xlfn.XLOOKUP(P323,'Annual Real'!A:A,'Annual Real'!B:B,0,0)","v":45.542674072633098},2.9985685657912087,2.9985685657912087,false,false,3.6857420000000002E-2,3.0207555670012098E-3,3.605966579997208,7,"1985-04-01",2.9985685657912087]
[null,null,{"$f":"'Monthly Prices'!A312","v":"1985M06"},"1985-05-01",305,false,true,false,{"$error":"#N/A"},{"$f":"INDEX('Monthly Prices'!B312:CB312,$G$4)","v":2.58},{"$f":"IF(H324,INDEX('Monthly Prices'!B312:CB312,$G$4)*U324,FALSE)","v":false},true,{"$f":"INDEX('Monthly Prices'!B312:CB312,$G$5)","v":3.65},{"$f":"IF(H324,INDEX('Monthly Prices'!B312:CB312,$G$5)*U324,FALSE)","v":false},true,1985,{"$f":"'Monthly Prices'!B312","v":26.36666666667},27.020833333333332,{"$f":"_xlfn.XLOOKUP(P324,'Annual Real'!A:A,'Annual Real'!B:B,0,0)","v":45.542674072633098},2.9893313178887881,2.9893313178887881,false,false,3.7717599999999997E-2,3.0900716314523624E-3,3.6171092750300229,7,"1985-05-01",2.9893313178887881]
[null,null,{"$f":"'Monthly Prices'!A313","v":"1985M07"},"1985-06-01",306,false,true,false,{"$error":"#N/A"},{"$f":"INDEX('Monthly Prices'!B313:CB313,$G$4)","v":2.5099999999999998},{"$f":"IF(H325,INDEX('Monthly Prices'!B313:CB313,$G$4)*U325,FALSE)","v":false},true,{"$f":"INDEX('Monthly Prices'!B313:CB313,$G$5)","v":3.65},{"$f":"IF(H325,INDEX('Monthly Prices'!B313:CB313,$G$5)*U325,FALSE)","v":false},true,1985,{"$f":"'Monthly Prices'!B313","v":26.38333333333},27.020833333333332,{"$f":"_xlfn.XLOOKUP(P325,'Annual Real'!A:A,'Annual Real'!B:B,0,0)","v":45.542674072633098},2.9801486391871617,2.9801486391871617,false,false,3.7608490000000001E-2,3.0812821148851199E-3,3.628254609146758,7,"1985-06-01",2.9801486391871617]
[null,null,{"$f":"'Monthly Prices'!A314","v":"1985M08"},"1985-07-01",307,false,true,false,{"$error":"#N/A"},{"$f":"INDEX('Monthly Prices'!B314:CB314,$G$4)","v":2.4700000000000002},{"$f":"IF(H326,INDEX('Monthly Prices'!B314:CB314,$G$4)*U326,FALSE)","v":false},true,{"$f":"INDEX('Monthly Prices'!B314:CB314,$G$5)","v":3.65},{"$f":"IF(H326,INDEX('Monthly Prices'!B314:CB314,$G$5)*U326,FALSE)","v":false},true,1985,{"$f":"'Monthly Prices'!B314","v":27.016666666670002},27.020833333333332,{"$f":"_xlfn.XLOOKUP(P326,'Annual Real'!A:A,'Annual Real'!B:B,0,0)","v":45.542674072633098},2.9714876046719438,2.9714876046719438,false,false,3.5542749999999998E-2,2.9147133245988055E-3,3.6388299312010752,7,"1985-07-01",2.9714876046719438]
[null,null,{"$f":"'Monthly Prices'!A315","v":"1985M09"},"1985-08-01",308,false,true,false,{"$error":"#N/A"},{"$f":"INDEX('Monthly Prices'!B315:CB315,$G$4)","v":2.42},{"$f":"IF(H327,INDEX('Monthly Prices'!B315:CB315,$G$4)*U327,FALSE)","v":false},true,{"$f":"INDEX('Monthly Prices'!B315:CB315,$G$5)","v":3.65},{"$f":"IF(H327,INDEX('Monthly Prices'!B315:CB315,$G$5)*U327,FALSE)","v":false},true,1985,{"$f":"'Monthly Prices'!B315","v":26.983333333329998},27.020833333333332,{"$f":"_xlfn.XLOOKUP(P327,'Annual Real'!A:A,'Annual Real'!B:B,0,0)","v":45.542674072633098},2.9633410305514816,2.9633410305514816,false,false,3.349282E-2,2.7491179842187297E-3,3.6488335040064537,7,"1985-08-01",2.9633410305514816]
[null,null,{"$f":"'Monthly Prices'!A316","v":"1985M10"},"1985-09-01",309,false,true,false,{"$error":"#N/A"},{"$f":"INDEX('Monthly Prices'!B316:CB316,$G$4)","v":2.37},{"$f":"IF(H328,INDEX('Monthly Prices'!B316:CB316,$G$4)*U328,FALSE)","v":false},true,{"$f":"INDEX('Monthly Prices'!B316:CB316,$G$5)","v":3.65},{"$f":"IF(H328,INDEX('Monthly Prices'!B316:CB316,$G$5)*U328,FALSE)","v":false},true,1985,{"$f":"'Monthly Prices'!B316","v":27.816666666669999},27.020833333333332,{"$f":"_xlfn.XLOOKUP(P328,'Annual Real'!A:A,'Annual Real'!B:B,0,0)","v":45.542674072633098},2.9557092080968759,2.9557092080968759,false,false,3.1428569999999996E-2,2.5820613319127439E-3,3.6582550159037366,7,"1985-09-01",2.9557092080968759]
[null,null,{"$f":"'Monthly Prices'!A317","v":"1985M11"},"1985-10-01",310,false,true,false,{"$error":"#N/A"},{"$f":"INDEX('Monthly Prices'!B317:CB317,$G$4)","v":2.36},{"$f":"IF(H329,INDEX('Monthly Prices'!B317:CB317,$G$4)*U329,FALSE)","v":false},true,{"$f":"INDEX('Monthly Prices'!B317:CB317,$G$5)","v":3.65},{"$f":"IF(H329,INDEX('Monthly Prices'!B317:CB317,$G$5)*U329,FALSE)","v":false},true,1985,{"$f":"'Monthly Prices'!B317","v":28.6},27.020833333333332,{"$f":"_xlfn.XLOOKUP(P329,'Annual Real'!A:A,'Annual Real'!B:B,0,0)","v":45.542674072633098},2.9478922598652706,2.9478922598652706,false,false,3.2288700000000004E-2,2.6517075735876805E-3,3.6679556384355236,7,"1985-10-01",2.9478922598652706]
[null,null,{"$f":"'Monthly Prices'!A318","v":"1985M12"},"1985-11-01",311,false,true,false,{"$error":"#N/A"},{"$f":"INDEX('Monthly Prices'!B318:CB318,$G$4)","v":2.2799999999999998},{"$f":"IF(H330,INDEX('Monthly Prices'!B318:CB318,$G$4)*U330,FALSE)","v":false},true,{"$f":"INDEX('Monthly Prices'!B318:CB318,$G$5)","v":3.65},{"$f":"IF(H330,INDEX('Monthly Prices'!B318:CB318,$G$5)*U330,FALSE)","v":false},true,1985,{"$f":"'Monthly Prices'!B318","v":26.5},27.020833333333332,{"$f":"_xlfn.XLOOKUP(P330,'Annual Real'!A:A,'Annual Real'!B:B,0,0)","v":45.542674072633098},2.9394207996584893,2.9394207996584893,false,false,3.5137699999999897E-2,2.8820168271810331E-3,3.6785267483068482,7,"1985-11-01",2.9394207996584893]
[null,null,{"$f":"'Monthly Prices'!A319","v":"1986M01"},"1985-12-01",312,false,true,false,{"$error":"#N/A"},{"$f":"INDEX('Monthly Prices'!B319:CB319,$G$4)","v":2.2799999999999998},{"$f":"IF(H331,INDEX('Monthly Prices'!B319:CB319,$G$4)*U331,FALSE)","v":false},true,{"$f":"INDEX('Monthly Prices'!B319:CB319,$G$5)","v":3.65},{"$f":"IF(H331,INDEX('Monthly Prices'!B319:CB319,$G$5)*U331,FALSE)","v":false},true,1985,{"$f":"'Monthly Prices'!B319","v":24.683333333330001},27.020833333333332,{"$f":"_xlfn.XLOOKUP(P331,'Annual Real'!A:A,'Annual Real'!B:B,0,0)","v":45.542674072633098},2.930302441110189,2.930302441110189,false,false,3.798671E-2,3.1117465625307705E-3,3.6899733912710695,7,"1985-12-01",2.930302441110189]
[null,null,{"$f":"'Monthly Prices'!A320","v":"1986M02"},"1986-01-01",313,false,true,false,{"$error":"#N/A"},{"$f":"INDEX('Monthly Prices'!B320:CB320,$G$4)","v":2.2599999999999998},{"$f":"IF(H332,INDEX('Monthly Prices'!B320:CB320,$G$4)*U332,FALSE)","v":false},true,{"$f":"INDEX('Monthly Prices'!B320:CB320,$G$5)","v":3.65},{"$f":"IF(H332,INDEX('Monthly Prices'!B320:CB320,$G$5)*U332,FALSE)","v":false},true,1986,{"$f":"'Monthly Prices'!B320","v":15.91666666667},13.798611111111667,{"$f":"_xlfn.XLOOKUP(P332,'Annual Real'!A:A,'Annual Real'!B:B,0,0)","v":20.902924169974199},2.9210070532233336,2.9210070532233336,false,false,3.8862559999999997E-2,3.1822545161601656E-3,3.7017158257599525,7,"1986-01-01",2.9210070532233336]
[null,null,{"$f":"'Monthly Prices'!A321","v":"1986M03"},"1986-02-01",314,false,true,false,{"$error":"#N/A"},{"$f":"INDEX('Monthly Prices'!B321:CB321,$G$4)","v":2.16},{"$f":"IF(H333,INDEX('Monthly Prices'!B321:CB321,$G$4)*U333,FALSE)","v":false},true,{"$f":"INDEX('Monthly Prices'!B321:CB321,$G$5)","v":3.65},{"$f":"IF(H333,INDEX('Monthly Prices'!B321:CB321,$G$5)*U333,FALSE)","v":false},true,1986,{"$f":"'Monthly Prices'!B321","v":12.65},13.798611111111667,{"$f":"_xlfn.XLOOKUP(P333,'Annual Real'!A:A,'Annual Real'!B:B,0,0)","v":20.902924169974199},2.9135540605145378,2.9135540605145378,false,false,3.1132080000000003E-2,2.5580416748742785E-3,3.7111849691107883,7,"1986-02-01",2.9135540605145378]
[null,null,{"$f":"'Monthly Prices'!A322","v":"1986M04"},"1986-03-01",315,false,true,false,{"$error":"#N/A"},{"$f":"INDEX('Monthly Prices'!B322:CB322,$G$4)","v":2.1},{"$f":"IF(H334,INDEX('Monthly Prices'!B322:CB322,$G$4)*U334,FALSE)","v":false},true,{"$f":"INDEX('Monthly Prices'!B322:CB322,$G$5)","v":3.65},{"$f":"IF(H334,INDEX('Monthly Prices'!B322:CB322,$G$5)*U334,FALSE)","v":false},true,1986,{"$f":"'Monthly Prices'!B322","v":11.9},13.798611111111667,{"$f":"_xlfn.XLOOKUP(P334,'Annual Real'!A:A,'Annual Real'!B:B,0,0)","v":20.902924169974199},2.9081433385332955,2.9081433385332955,false,false,2.2556389999999999E-2,1.8605417104273769E-3,3.7180897835409299,7,"1986-03-01",2.9081433385332955]
[null,null,{"$f":"'Monthly Prices'!A323","v":"1986M05"},"1986-04-01",316,false,true,false,{"$error":"#N/A"},{"$f":"INDEX('Monthly Prices'!B323:CB323,$G$4)","v":1.96},{"$f":"IF(H335,INDEX('Monthly Prices'!B323:CB323,$G$4)*U335,FALSE)","v":false},true,{"$f":"INDEX('Monthly Prices'!B323:CB323,$G$5)","v":3.65},{"$f":"IF(H335,INDEX('Monthly Prices'!B323:CB323,$G$5)*U335,FALSE)","v":false},true,1986,{"$f":"'Monthly Prices'!B323","v":13.716666666669999},13.798611111111667,{"$f":"_xlfn.XLOOKUP(P335,'Annual Real'!A:A,'Annual Real'!B:B,0,0)","v":20.902924169974199},2.9043222274424383,2.9043222274424383,false,false,1.590271E-2,1.3156636184346038E-3,3.7229815389992083,7,"1986-04-01",2.9043222274424383]
[null,null,{"$f":"'Monthly Prices'!A324","v":"1986M06"},"1986-05-01",317,false,true,false,{"$error":"#N/A"},{"$f":"INDEX('Monthly Prices'!B324:CB324,$G$4)","v":1.85},{"$f":"IF(H336,INDEX('Monthly Prices'!B324:CB324,$G$4)*U336,FALSE)","v":false},true,{"$f":"INDEX('Monthly Prices'!B324:CB324,$G$5)","v":3.65},{"$f":"IF(H336,INDEX('Monthly Prices'!B324:CB324,$G$5)*U336,FALSE)","v":false},true,1986,{"$f":"'Monthly Prices'!B324","v":11.85},13.798611111111667,{"$f":"_xlfn.XLOOKUP(P336,'Annual Real'!A:A,'Annual Real'!B:B,0,0)","v":20.902924169974199},2.9007421051198956,2.9007421051198956,false,false,1.4911459999999901E-2,1.2342091067742977E-3,3.7275764767189936,7,"1986-05-01",2.9007421051198956]
[null,null,{"$f":"'Monthly Prices'!A325","v":"1986M07"},"1986-06-01",318,false,true,false,{"$error":"#N/A"},{"$f":"INDEX('Monthly Prices'!B325:CB325,$G$4)","v":1.8},{"$f":"IF(H337,INDEX('Monthly Prices'!B325:CB325,$G$4)*U337,FALSE)","v":false},true,{"$f":"INDEX('Monthly Prices'!B325:CB325,$G$5)","v":3.65},{"$f":"IF(H337,INDEX('Monthly Prices'!B325:CB325,$G$5)*U337,FALSE)","v":false},true,1986,{"$f":"'Monthly Prices'!B325","v":9.6166666666699996},13.798611111111667,{"$f":"_xlfn.XLOOKUP(P337,'Annual Real'!A:A,'Annual Real'!B:B,0,0)","v":20.902924169974199},2.8965139981463621,2.8965139981463621,false,false,1.7657989999999998E-2,1.459722610088976E-3,3.7330177043828963,7,"1986-06-01",2.8965139981463621]
[null,null,{"$f":"'Monthly Prices'!A326","v":"1986M08"},"1986-07-01",319,false,true,false,{"$error":"#N/A"},{"$f":"INDEX('Monthly Prices'!B326:CB326,$G$4)","v":1.77},{"$f":"IF(H338,INDEX('Monthly Prices'!B326:CB326,$G$4)*U338,FALSE)","v":false},true,{"$f":"INDEX('Monthly Prices'!B326:CB326,$G$5)","v":3.65},{"$f":"IF(H338,INDEX('Monthly Prices'!B326:CB326,$G$5)*U338,FALSE)","v":false},true,1986,{"$f":"'Monthly Prices'!B326","v":13.7},13.798611111111667,{"$f":"_xlfn.XLOOKUP(P338,'Annual Real'!A:A,'Annual Real'!B:B,0,0)","v":20.902924169974199},2.8927396738823448,2.8927396738823448,false,false,1.576994E-2,1.3047576655773607E-3,3.7378883878484257,7,"1986-07-01",2.8927396738823448]
[null,null,{"$f":"'Monthly Prices'!A327","v":"1986M09"},"1986-08-01",320,false,true,false,{"$error":"#N/A"},{"$f":"INDEX('Monthly Prices'!B327:CB327,$G$4)","v":1.78},{"$f":"IF(H339,INDEX('Monthly Prices'!B327:CB327,$G$4)*U339,FALSE)","v":false},true,{"$f":"INDEX('Monthly Prices'!B327:CB327,$G$5)","v":3.65},{"$f":"IF(H339,INDEX('Monthly Prices'!B327:CB327,$G$5)*U339,FALSE)","v":false},true,1986,{"$f":"'Monthly Prices'!B327","v":14.08333333333},13.798611111111667,{"$f":"_xlfn.XLOOKUP(P339,'Annual Real'!A:A,'Annual Real'!B:B,0,0)","v":20.902924169974199},2.8889771885764035,2.8889771885764035,false,false,1.574074E-2,1.302358952787408E-3,3.74275646025486,7,"1986-08-01",2.8889771885764035]
[null,null,{"$f":"'Monthly Prices'!A328","v":"1986M10"},"1986-09-01",321,{"$f":"AND(E340>=$M$4,L340)","v":false},{"$f":"AND(E340<=$M$5,O340)","v":true},{"$f":"AND(F340:G340)","v":false},{"$f":"IF(H340,D340,NA)","v":{"$error":"#N/A"}},{"$f":"INDEX('Monthly Prices'!B328:CB328,$G$4)","v":1.73},{"$f":"IF(H340,INDEX('Monthly Prices'!B328:CB328,$G$4)*U340,FALSE)","v":false},true,{"$f":"INDEX('Monthly Prices'!B328:CB328,$G$5)","v":3.65},{"$f":"IF(H340,INDEX('Monthly Prices'!B328:CB328,$G$5)*U340,FALSE)","v":false},{"$f":"AND(ISNUMBER(M340),M340>0)","v":true},1986,{"$f":"'Monthly Prices'!B328","v":13.95},13.798611111111667,{"$f":"_xlfn.XLOOKUP(P340,'Annual Real'!A:A,'Annual Real'!B:B,0,0)","v":20.902924169974199},2.8847931921866707,2.8847931921866707,false,false,1.7543860000000001E-2,1.4503626814792447E-3,3.7481848145506791,7,"1986-09-01",2.8847931921866707]
[null,null,{"$f":"'Monthly Prices'!A329","v":"1986M11"},{"$f":"EDATE(D340,1)","v":"1986-10-01"},{"$f":"E340+1","v":322},false,true,false,{"$error":"#N/A"},{"$f":"INDEX('Monthly Prices'!B329:CB329,$G$4)","v":1.77},{"$f":"IF(H341,INDEX('Monthly Prices'!B329:CB329,$G$4)*U341,FALSE)","v":false},{"$f":"ISNUMBER(J341)","v":true},{"$f":"INDEX('Monthly Prices'!B329:CB329,$G$5)","v":3.65},{"$f":"IF(H341,INDEX('Monthly Prices'!B329:CB329,$G$5)*U341,FALSE)","v":false},true,{"$f":"YEAR(D341)","v":1986},{"$f":"'Monthly Prices'!B329","v":14.45},{"$f":"AVERAGEIF(P:P,P341,Q:Q)","v":13.798611111111667},{"$f":"_xlfn.XLOOKUP(P341,'Annual Real'!A:A,'Annual Real'!B:B,0,0)","v":20.902924169974199},{"$f":"AC341","v":2.881282582031075},{"$f":"IF($U$19,T341,1)","v":2.881282582031075},false,false,{"$f":"LOOKUP(D341,INDIRECT(\"'\"&$X$14&\"'!A:A\"),INDIRECT(\"'\"&$X$14&\"'!B:B\"))/100","v":1.4719409999999999E-2},{"$f":"(1+X341)^(1/12)-1","v":1.2184192475563904E-3},{"$f":"Z340*(1+Y341)","v":3.7527516750721261},{"$f":"LEN(C341)","v":7},{"$f":"IF(AA341>2,D341,0)","v":"1986-10-01"},{"$f":"$AC$17/Z341","v":2.881282582031075}]
[null,null,{"$f":"'Monthly Prices'!A330","v":"1986M12"},"1986-11-01",323,false,true,false,{"$error":"#N/A"},{"$f":"INDEX('Monthly Prices'!B330:CB330,$G$4)","v":1.76},{"$f":"IF(H342,INDEX('Monthly Prices'!B330:CB330,$G$4)*U342,FALSE)","v":false},true,{"$f":"INDEX('Monthly Prices'!B330:CB330,$G$5)","v":3.65},{"$f":"IF(H342,INDEX('Monthly Prices'!B330:CB330,$G$5)*U342,FALSE)","v":false},true,1986,{"$f":"'Monthly Prices'!B330","v":15.683333333329999},13.798611111111667,{"$f":"_xlfn.XLOOKUP(P342,'Annual Real'!A:A,'Annual Real'!B:B,0,0)","v":20.902924169974199},2.8782199057072475,2.8782199057072475,{"$f":"IF(AND(H341,H342),LN(K342/K341))","v":false},{"$f":"IF(AND($H341,$H342),LN(N342/N341))","v":false},1.2844040000000001E-2,1.064086978814327E-3,3.7567449292642943,7,"1986-11-01",2.8782199057072475]
[null,null,{"$f":"'Monthly Prices'!A331","v":"1987M01"},"1986-12-01",324,false,true,false,{"$error":"#N/A"},{"$f":"INDEX('Monthly Prices'!B331:CB331,$G$4)","v":1.74},{"$f":"IF(H343,INDEX('Monthly Prices'!B331:CB331,$G$4)*U343,FALSE)","v":false},true,{"$f":"INDEX('Monthly Prices'!B331:CB331,$G$5)","v":2.59},{"$f":"IF(H343,INDEX('Monthly Prices'!B331:CB331,$G$5)*U343,FALSE)","v":false},true,1986,{"$f":"'Monthly Prices'!B331","v":18.066666666669999},13.798611111111667,{"$f":"_xlfn.XLOOKUP(P343,'Annual Real'!A:A,'Annual Real'!B:B,0,0)","v":20.902924169974199},2.87560212574081,2.87560212574081,false,false,1.0978959999999999E-2,9.1034150482949272E-4,3.7601648500964613,7,"1986-12-01",2.87560212574081]
[null,null,{"$f":"'Monthly Prices'!A332","v":"1987M02"},"1987-01-01",325,false,true,false,{"$error":"#N/A"},{"$f":"INDEX('Monthly Prices'!B332:CB332,$G$4)","v":1.73},{"$f":"IF(H344,INDEX('Monthly Prices'!B332:CB332,$G$4)*U344,FALSE)","v":false},true,{"$f":"INDEX('Monthly Prices'!B332:CB332,$G$5)","v":2.59},{"$f":"IF(H344,INDEX('Monthly Prices'!B332:CB332,$G$5)*U344,FALSE)","v":false},true,1987,{"$f":"'Monthly Prices'!B332","v":17.25},18.012500000000831,{"$f":"_xlfn.XLOOKUP(P344,'Annual Real'!A:A,'Annual Real'!B:B,0,0)","v":24.1204035057916},2.872131211978977,2.872131211978977,false,false,1.459854E-2,1.2084802210137191E-3,3.764708934945554,7,"1987-01-01",2.872131211978977]
[null,null,{"$f":"'Monthly Prices'!A333","v":"1987M03"},"1987-02-01",326,false,true,false,{"$error":"#N/A"},{"$f":"INDEX('Monthly Prices'!B333:CB333,$G$4)","v":1.73},{"$f":"IF(H345,INDEX('Monthly Prices'!B333:CB333,$G$4)*U345,FALSE)","v":false},true,{"$f":"INDEX('Monthly Prices'!B333:CB333,$G$5)","v":2.59},{"$f":"IF(H345,INDEX('Monthly Prices'!B333:CB333,$G$5)*U345,FALSE)","v":false},true,1987,{"$f":"'Monthly Prices'!B333","v":17.75},18.012500000000831,{"$f":"_xlfn.XLOOKUP(P345,'Annual Real'!A:A,'Annual Real'!B:B,0,0)","v":24.1204035057916},2.8671512727621304,2.8671512727621304,false,false,2.1042999999999999E-2,1.7368944792539587E-3,3.7712478371106588,7,"1987-02-01",2.8671512727621304]
[null,null,{"$f":"'Monthly Prices'!A334","v":"1987M04"},"1987-03-01",327,false,true,false,{"$error":"#N/A"},{"$f":"INDEX('Monthly Prices'!B334:CB334,$G$4)","v":1.69},{"$f":"IF(H346,INDEX('Monthly Prices'!B334:CB334,$G$4)*U346,FALSE)","v":false},true,{"$f":"INDEX('Monthly Prices'!B334:CB334,$G$5)","v":2.59},{"$f":"IF(H346,INDEX('Monthly Prices'!B334:CB334,$G$5)*U346,FALSE)","v":false},true,1987,{"$f":"'Monthly Prices'!B334","v":17.899999999999999},18.012500000000831,{"$f":"_xlfn.XLOOKUP(P346,'Annual Real'!A:A,'Annual Real'!B:B,0,0)","v":24.1204035057916},2.8600209486120893,2.8600209486120893,false,false,3.0330879999999998E-2,2.4931020709835217E-3,3.7806499429035516,7,"1987-03-01",2.8600209486120893]
[null,null,{"$f":"'Monthly Prices'!A335","v":"1987M05"},"1987-04-01",328,false,true,false,{"$error":"#N/A"},{"$f":"INDEX('Monthly Prices'!B335:CB335,$G$4)","v":1.65},{"$f":"IF(H347,INDEX('Monthly Prices'!B335:CB335,$G$4)*U347,FALSE)","v":false},true,{"$f":"INDEX('Monthly Prices'!B335:CB335,$G$5)","v":2.59},{"$f":"IF(H347,INDEX('Monthly Prices'!B335:CB335,$G$5)*U347,FALSE)","v":false},true,1987,{"$f":"'Monthly Prices'!B335","v":18.399999999999999},18.012500000000831,{"$f":"_xlfn.XLOOKUP(P347,'Annual Real'!A:A,'Annual Real'!B:B,0,0)","v":24.1204035057916},2.8512023483415989,2.8512023483415989,false,false,3.7753220000000004E-2,3.0929408695317129E-3,3.7923432696253507,7,"1987-04-01",2.8512023483415989]
[null,null,{"$f":"'Monthly Prices'!A336","v":"1987M06"},"1987-05-01",329,false,true,false,{"$error":"#N/A"},{"$f":"INDEX('Monthly Prices'!B336:CB336,$G$4)","v":1.65},{"$f":"IF(H348,INDEX('Monthly Prices'!B336:CB336,$G$4)*U348,FALSE)","v":false},true,{"$f":"INDEX('Monthly Prices'!B336:CB336,$G$5)","v":2.59},{"$f":"IF(H348,INDEX('Monthly Prices'!B336:CB336,$G$5)*U348,FALSE)","v":false},true,1987,{"$f":"'Monthly Prices'!B336","v":18.716666666670001},18.012500000000831,{"$f":"_xlfn.XLOOKUP(P348,'Annual Real'!A:A,'Annual Real'!B:B,0,0)","v":24.1204035057916},2.8422251608828519,2.8422251608828519,false,false,3.8567489999999899E-2,3.1585067862669458E-3,3.8043214115783162,7,"1987-05-01",2.8422251608828519]
[null,null,{"$f":"'Monthly Prices'!A337","v":"1987M07"},"1987-06-01",330,false,true,false,{"$error":"#N/A"},{"$f":"INDEX('Monthly Prices'!B337:CB337,$G$4)","v":1.66},{"$f":"IF(H349,INDEX('Monthly Prices'!B337:CB337,$G$4)*U349,FALSE)","v":false},true,{"$f":"INDEX('Monthly Prices'!B337:CB337,$G$5)","v":2.59},{"$f":"IF(H349,INDEX('Monthly Prices'!B337:CB337,$G$5)*U349,FALSE)","v":false},true,1987,{"$f":"'Monthly Prices'!B337","v":19.61666666667},18.012500000000831,{"$f":"_xlfn.XLOOKUP(P349,'Annual Real'!A:A,'Annual Real'!B:B,0,0)","v":24.1204035057916},2.8337400043298793,2.8337400043298793,false,false,3.6529680000000002E-2,2.9943313571489938E-3,3.8157128104736784,7,"1987-06-01",2.8337400043298793]
[null,null,{"$f":"'Monthly Prices'!A338","v":"1987M08"},"1987-07-01",331,false,true,false,{"$error":"#N/A"},{"$f":"INDEX('Monthly Prices'!B338:CB338,$G$4)","v":1.63},{"$f":"IF(H350,INDEX('Monthly Prices'!B338:CB338,$G$4)*U350,FALSE)","v":false},true,{"$f":"INDEX('Monthly Prices'!B338:CB338,$G$5)","v":2.59},{"$f":"IF(H350,INDEX('Monthly Prices'!B338:CB338,$G$5)*U350,FALSE)","v":false},true,1987,{"$f":"'Monthly Prices'!B338","v":18.816666666669999},18.012500000000831,{"$f":"_xlfn.XLOOKUP(P350,'Annual Real'!A:A,'Annual Real'!B:B,0,0)","v":24.1204035057916},2.824658759324862,2.824658759324862,false,false,3.9269409999999998E-2,3.2149883503760357E-3,3.8279802827077321,7,"1987-07-01",2.824658759324862]
[null,null,{"$f":"'Monthly Prices'!A339","v":"1987M09"},"1987-08-01",332,false,true,false,{"$error":"#N/A"},{"$f":"INDEX('Monthly Prices'!B339:CB339,$G$4)","v":1.56},{"$f":"IF(H351,INDEX('Monthly Prices'!B339:CB339,$G$4)*U351,FALSE)","v":false},true,{"$f":"INDEX('Monthly Prices'!B339:CB339,$G$5)","v":2.59},{"$f":"IF(H351,INDEX('Monthly Prices'!B339:CB339,$G$5)*U351,FALSE)","v":false},true,1987,{"$f":"'Monthly Prices'!B339","v":18.283333333329999},18.012500000000831,{"$f":"_xlfn.XLOOKUP(P351,'Annual Real'!A:A,'Annual Real'!B:B,0,0)","v":24.1204035057916},2.8148010614244243,2.8148010614244243,false,false,4.2844119999999999E-2,3.5020939971683873E-3,3.8413862294770817,7,"1987-08-01",2.8148010614244243]
[null,null,{"$f":"'Monthly Prices'!A340","v":"1987M10"},"1987-09-01",333,false,true,false,{"$error":"#N/A"},{"$f":"INDEX('Monthly Prices'!B340:CB340,$G$4)","v":1.57},{"$f":"IF(H352,INDEX('Monthly Prices'!B340:CB340,$G$4)*U352,FALSE)","v":false},true,{"$f":"INDEX('Monthly Prices'!B340:CB340,$G$5)","v":2.59},{"$f":"IF(H352,INDEX('Monthly Prices'!B340:CB340,$G$5)*U352,FALSE)","v":false},true,1987,{"$f":"'Monthly Prices'!B340","v":18.566666666669999},18.012500000000831,{"$f":"_xlfn.XLOOKUP(P352,'Annual Real'!A:A,'Annual Real'!B:B,0,0)","v":24.1204035057916},2.8048179983046881,2.8048179983046881,false,false,4.3557169999999895E-2,3.5592552264605004E-3,3.8550587034912014,7,"1987-09-01",2.8048179983046881]
[null,null,{"$f":"'Monthly Prices'!A341","v":"1987M11"},"1987-10-01",334,false,true,false,{"$error":"#N/A"},{"$f":"INDEX('Monthly Prices'!B341:CB341,$G$4)","v":1.64},{"$f":"IF(H353,INDEX('Monthly Prices'!B341:CB341,$G$4)*U353,FALSE)","v":false},true,{"$f":"INDEX('Monthly Prices'!B341:CB341,$G$5)","v":2.59},{"$f":"IF(H353,INDEX('Monthly Prices'!B341:CB341,$G$5)*U353,FALSE)","v":false},true,1987,{"$f":"'Monthly Prices'!B341","v":17.75},18.012500000000831,{"$f":"_xlfn.XLOOKUP(P353,'Annual Real'!A:A,'Annual Real'!B:B,0,0)","v":24.1204035057916},2.7944748318405499,2.7944748318405499,false,false,4.5330919999999997E-2,3.7012916868268686E-3,3.8693274002226627,7,"1987-10-01",2.7944748318405499]
[null,null,{"$f":"'Monthly Prices'!A342","v":"1987M12"},"1987-11-01",335,false,true,false,{"$error":"#N/A"},{"$f":"INDEX('Monthly Prices'!B342:CB342,$G$4)","v":1.7},{"$f":"IF(H354,INDEX('Monthly Prices'!B342:CB342,$G$4)*U354,FALSE)","v":false},true,{"$f":"INDEX('Monthly Prices'!B342:CB342,$G$5)","v":2.59},{"$f":"IF(H354,INDEX('Monthly Prices'!B342:CB342,$G$5)*U354,FALSE)","v":false},true,1987,{"$f":"'Monthly Prices'!B342","v":16.63333333333},18.012500000000831,{"$f":"_xlfn.XLOOKUP(P354,'Annual Real'!A:A,'Annual Real'!B:B,0,0)","v":24.1204035057916},2.7841789208550503,2.7841789208550503,false,false,4.5289859999999994E-2,3.6980062266751546E-3,3.883636197041731,7,"1987-11-01",2.7841789208550503]
[null,null,{"$f":"'Monthly Prices'!A343","v":"1988M01"},"1987-12-01",336,false,true,false,{"$error":"#N/A"},{"$f":"INDEX('Monthly Prices'!B343:CB343,$G$4)","v":1.96},{"$f":"IF(H355,INDEX('Monthly Prices'!B343:CB343,$G$4)*U355,FALSE)","v":false},true,{"$f":"INDEX('Monthly Prices'!B343:CB343,$G$5)","v":2.36},{"$f":"IF(H355,INDEX('Monthly Prices'!B343:CB343,$G$5)*U355,FALSE)","v":false},true,1987,{"$f":"'Monthly Prices'!B343","v":16.466666666670001},18.012500000000831,{"$f":"_xlfn.XLOOKUP(P355,'Annual Real'!A:A,'Annual Real'!B:B,0,0)","v":24.1204035057916},2.7741302425845782,2.7741302425845782,false,false,4.4343890000000004E-2,3.6222806399710539E-3,3.8977038172509659,7,"1987-12-01",2.7741302425845782]
[null,null,{"$f":"'Monthly Prices'!A344","v":"1988M02"},"1988-01-01",337,false,true,false,{"$error":"#N/A"},{"$f":"INDEX('Monthly Prices'!B344:CB344,$G$4)","v":1.84},{"$f":"IF(H356,INDEX('Monthly Prices'!B344:CB344,$G$4)*U356,FALSE)","v":false},true,{"$f":"INDEX('Monthly Prices'!B344:CB344,$G$5)","v":2.36},{"$f":"IF(H356,INDEX('Monthly Prices'!B344:CB344,$G$5)*U356,FALSE)","v":false},true,1988,{"$f":"'Monthly Prices'!B344","v":15.85},14.719444444443333,{"$f":"_xlfn.XLOOKUP(P356,'Annual Real'!A:A,'Annual Real'!B:B,0,0)","v":18.371584512224601},2.7649745154095484,2.7649745154095484,false,false,4.0467620000000003E-2,3.3113242541671362E-3,3.9106103784365889,7,"1988-01-01",2.7649745154095484]
[null,null,{"$f":"'Monthly Prices'!A345","v":"1988M03"},"1988-02-01",338,false,true,false,{"$error":"#N/A"},{"$f":"INDEX('Monthly Prices'!B345:CB345,$G$4)","v":1.7},{"$f":"IF(H357,INDEX('Monthly Prices'!B345:CB345,$G$4)*U357,FALSE)","v":false},true,{"$f":"INDEX('Monthly Prices'!B345:CB345,$G$5)","v":2.36},{"$f":"IF(H357,INDEX('Monthly Prices'!B345:CB345,$G$5)*U357,FALSE)","v":false},true,1988,{"$f":"'Monthly Prices'!B345","v":14.783333333330001},14.719444444443333,{"$f":"_xlfn.XLOOKUP(P357,'Annual Real'!A:A,'Annual Real'!B:B,0,0)","v":18.371584512224601},2.756078924053782,2.756078924053782,false,false,3.942652E-2,3.2276257686707499E-3,3.9232323652652621,7,"1988-02-01",2.756078924053782]
[null,null,{"$f":"'Monthly Prices'!A346","v":"1988M04"},"1988-03-01",339,false,true,false,{"$error":"#N/A"},{"$f":"INDEX('Monthly Prices'!B346:CB346,$G$4)","v":1.59},{"$f":"IF(H358,INDEX('Monthly Prices'!B346:CB346,$G$4)*U358,FALSE)","v":false},true,{"$f":"INDEX('Monthly Prices'!B346:CB346,$G$5)","v":2.36},{"$f":"IF(H358,INDEX('Monthly Prices'!B346:CB346,$G$5)*U358,FALSE)","v":false},true,1988,{"$f":"'Monthly Prices'!B346","v":16.466666666670001},14.719444444443333,{"$f":"_xlfn.XLOOKUP(P358,'Annual Real'!A:A,'Annual Real'!B:B,0,0)","v":18.371584512224601},2.7472506865858013,2.7472506865858013,false,false,3.9250670000000001E-2,3.2134808487216393E-3,3.9358395973361269,7,"1988-03-01",2.7472506865858013]
[null,null,{"$f":"'Monthly Prices'!A347","v":"1988M05"},"1988-04-01",340,false,true,false,{"$error":"#N/A"},{"$f":"INDEX('Monthly Prices'!B347:CB347,$G$4)","v":1.52},{"$f":"IF(H359,INDEX('Monthly Prices'!B347:CB347,$G$4)*U359,FALSE)","v":false},true,{"$f":"INDEX('Monthly Prices'!B347:CB347,$G$5)","v":2.36},{"$f":"IF(H359,INDEX('Monthly Prices'!B347:CB347,$G$5)*U359,FALSE)","v":false},true,1988,{"$f":"'Monthly Prices'!B347","v":16.216666666670001},14.719444444443333,{"$f":"_xlfn.XLOOKUP(P359,'Annual Real'!A:A,'Annual Real'!B:B,0,0)","v":18.371584512224601},2.7384966193676146,2.7384966193676146,false,false,3.9041699999999901E-2,3.1966689884788124E-3,3.9484211737205581,7,"1988-04-01",2.7384966193676146]
[null,null,{"$f":"'Monthly Prices'!A348","v":"1988M06"},"1988-05-01",341,false,true,false,{"$error":"#N/A"},{"$f":"INDEX('Monthly Prices'!B348:CB348,$G$4)","v":1.53},{"$f":"IF(H360,INDEX('Monthly Prices'!B348:CB348,$G$4)*U360,FALSE)","v":false},true,{"$f":"INDEX('Monthly Prices'!B348:CB348,$G$5)","v":2.36},{"$f":"IF(H360,INDEX('Monthly Prices'!B348:CB348,$G$5)*U360,FALSE)","v":false},true,1988,{"$f":"'Monthly Prices'!B348","v":15.33333333333},14.719444444443333,{"$f":"_xlfn.XLOOKUP(P360,'Annual Real'!A:A,'Annual Real'!B:B,0,0)","v":18.371584512224601},2.7298006771368657,2.7298006771368657,false,false,3.8903629999999995E-2,3.1855594086340755E-3,3.9609991039397539,7,"1988-05-01",2.7298006771368657]
[null,null,{"$f":"'Monthly Prices'!A349","v":"1988M07"},"1988-06-01",342,false,true,false,{"$error":"#N/A"},{"$f":"INDEX('Monthly Prices'!B349:CB349,$G$4)","v":1.56},{"$f":"IF(H361,INDEX('Monthly Prices'!B349:CB349,$G$4)*U361,FALSE)","v":false},true,{"$f":"INDEX('Monthly Prices'!B349:CB349,$G$5)","v":2.36},{"$f":"IF(H361,INDEX('Monthly Prices'!B349:CB349,$G$5)*U361,FALSE)","v":false},true,1988,{"$f":"'Monthly Prices'!B349","v":14.48333333333},14.719444444443333,{"$f":"_xlfn.XLOOKUP(P361,'Annual Real'!A:A,'Annual Real'!B:B,0,0)","v":18.371584512224601},2.7209700297034916,2.7209700297034916,false,false,3.9647579999999995E-2,3.2454041525538102E-3,3.9738541468799418,7,"1988-06-01",2.7209700297034916]
[null,null,{"$f":"'Monthly Prices'!A350","v":"1988M08"},"1988-07-01",343,false,true,false,{"$error":"#N/A"},{"$f":"INDEX('Monthly Prices'!B350:CB350,$G$4)","v":1.62},{"$f":"IF(H362,INDEX('Monthly Prices'!B350:CB350,$G$4)*U362,FALSE)","v":false},true,{"$f":"INDEX('Monthly Prices'!B350:CB350,$G$5)","v":2.36},{"$f":"IF(H362,INDEX('Monthly Prices'!B350:CB350,$G$5)*U362,FALSE)","v":false},true,1988,{"$f":"'Monthly Prices'!B350","v":14.55},14.719444444443333,{"$f":"_xlfn.XLOOKUP(P362,'Annual Real'!A:A,'Annual Real'!B:B,0,0)","v":18.371584512224601},2.7118089149433842,2.7118089149433842,false,false,4.1300530000000002E-2,3.3782301952121063E-3,3.9872787409503005,7,"1988-07-01",2.7118089149433842]
[null,null,{"$f":"'Monthly Prices'!A351","v":"1988M09"},"1988-08-01",344,false,true,false,{"$error":"#N/A"},{"$f":"INDEX('Monthly Prices'!B351:CB351,$G$4)","v":1.53},{"$f":"IF(H363,INDEX('Monthly Prices'!B351:CB351,$G$4)*U363,FALSE)","v":false},true,{"$f":"INDEX('Monthly Prices'!B351:CB351,$G$5)","v":2.36},{"$f":"IF(H363,INDEX('Monthly Prices'!B351:CB351,$G$5)*U363,FALSE)","v":false},true,1988,{"$f":"'Monthly Prices'!B351","v":13.1},14.719444444443333,{"$f":"_xlfn.XLOOKUP(P363,'Annual Real'!A:A,'Annual Real'!B:B,0,0)","v":18.371584512224601},2.702914694790806,2.702914694790806,false,false,4.0209789999999995E-2,3.2906033511599375E-3,4.0003992937372805,7,"1988-08-01",2.702914694790806]
[null,null,{"$f":"'Monthly Prices'!A352","v":"1988M10"},"1988-09-01",345,false,true,false,{"$error":"#N/A"},{"$f":"INDEX('Monthly Prices'!B352:CB352,$G$4)","v":1.68},{"$f":"IF(H364,INDEX('Monthly Prices'!B352:CB352,$G$4)*U364,FALSE)","v":false},true,{"$f":"INDEX('Monthly Prices'!B352:CB352,$G$5)","v":2.36},{"$f":"IF(H364,INDEX('Monthly Prices'!B352:CB352,$G$5)*U364,FALSE)","v":false},true,1988,{"$f":"'Monthly Prices'!B352","v":12.183333333329999},14.719444444443333,{"$f":"_xlfn.XLOOKUP(P364,'Annual Real'!A:A,'Annual Real'!B:B,0,0)","v":18.371584512224601},2.6937198375195464,2.6937198375195464,false,false,4.1739129999999999E-2,3.4134423124441149E-3,4.0140544259531952,7,"1988-09-01",2.6937198375195464]
[null,null,{"$f":"'Monthly Prices'!A353","v":"1988M11"},"1988-10-01",346,false,true,false,{"$error":"#N/A"},{"$f":"INDEX('Monthly Prices'!B353:CB353,$G$4)","v":1.76},{"$f":"IF(H365,INDEX('Monthly Prices'!B353:CB353,$G$4)*U365,FALSE)","v":false},true,{"$f":"INDEX('Monthly Prices'!B353:CB353,$G$5)","v":2.36},{"$f":"IF(H365,INDEX('Monthly Prices'!B353:CB353,$G$5)*U365,FALSE)","v":false},true,1988,{"$f":"'Monthly Prices'!B353","v":12.533333333330001},14.719444444443333,{"$f":"_xlfn.XLOOKUP(P365,'Annual Real'!A:A,'Annual Real'!B:B,0,0)","v":18.371584512224601},2.6843933933434387,2.6843933933434387,false,false,4.249783E-2,3.474320939410358E-3,4.0280005392972171,7,"1988-10-01",2.6843933933434387]
[null,null,{"$f":"'Monthly Prices'!A354","v":"1988M12"},"1988-11-01",347,false,true,false,{"$error":"#N/A"},{"$f":"INDEX('Monthly Prices'!B354:CB354,$G$4)","v":1.89},{"$f":"IF(H366,INDEX('Monthly Prices'!B354:CB354,$G$4)*U366,FALSE)","v":false},true,{"$f":"INDEX('Monthly Prices'!B354:CB354,$G$5)","v":2.36},{"$f":"IF(H366,INDEX('Monthly Prices'!B354:CB354,$G$5)*U366,FALSE)","v":false},true,1988,{"$f":"'Monthly Prices'!B354","v":14.65},14.719444444443333,{"$f":"_xlfn.XLOOKUP(P366,'Annual Real'!A:A,'Annual Real'!B:B,0,0)","v":18.371584512224601},2.6751071158177906,2.6751071158177906,false,false,4.2460999999999999E-2,3.4713666121026776E-3,4.0419832058828646,7,"1988-11-01",2.6751071158177906]
[null,null,{"$f":"'Monthly Prices'!A355","v":"1989M01"},"1988-12-01",348,false,true,false,{"$error":"#N/A"},{"$f":"INDEX('Monthly Prices'!B355:CB355,$G$4)","v":1.78},{"$f":"IF(H367,INDEX('Monthly Prices'!B355:CB355,$G$4)*U367,FALSE)","v":false},true,{"$f":"INDEX('Monthly Prices'!B355:CB355,$G$5)","v":2.09},{"$f":"IF(H367,INDEX('Monthly Prices'!B355:CB355,$G$5)*U367,FALSE)","v":false},true,1988,{"$f":"'Monthly Prices'!B355","v":16.483333333329998},14.719444444443333,{"$f":"_xlfn.XLOOKUP(P367,'Annual Real'!A:A,'Annual Real'!B:B,0,0)","v":18.371584512224601},2.6654839593906487,2.6654839593906487,false,false,4.4194110000000002E-2,3.6102848765002804E-3,4.0565759167221316,7,"1988-12-01",2.6654839593906487]
[null,null,{"$f":"'Monthly Prices'!A356","v":"1989M02"},"1989-01-01",349,false,true,false,{"$error":"#N/A"},{"$f":"INDEX('Monthly Prices'!B356:CB356,$G$4)","v":1.71},{"$f":"IF(H368,INDEX('Monthly Prices'!B356:CB356,$G$4)*U368,FALSE)","v":false},true,{"$f":"INDEX('Monthly Prices'!B356:CB356,$G$5)","v":2.09},{"$f":"IF(H368,INDEX('Monthly Prices'!B356:CB356,$G$5)*U368,FALSE)","v":false},true,1989,{"$f":"'Monthly Prices'!B356","v":16.350000000000001},18.161111111111669,{"$f":"_xlfn.XLOOKUP(P368,'Annual Real'!A:A,'Annual Real'!B:B,0,0)","v":22.401339204335201},2.655370796392849,2.655370796392849,false,false,4.6672430000000001E-2,3.8085690373403924E-3,4.07202566615618,7,"1989-01-01",2.655370796392849]
[null,null,{"$f":"'Monthly Prices'!A357","v":"1989M03"},"1989-02-01",350,false,true,false,{"$error":"#N/A"},{"$f":"INDEX('Monthly Prices'!B357:CB357,$G$4)","v":1.49},{"$f":"IF(H369,INDEX('Monthly Prices'!B357:CB357,$G$4)*U369,FALSE)","v":false},true,{"$f":"INDEX('Monthly Prices'!B357:CB357,$G$5)","v":2.09},{"$f":"IF(H369,INDEX('Monthly Prices'!B357:CB357,$G$5)*U369,FALSE)","v":false},true,1989,{"$f":"'Monthly Prices'!B357","v":18.033333333329999},18.161111111111669,{"$f":"_xlfn.XLOOKUP(P369,'Annual Real'!A:A,'Annual Real'!B:B,0,0)","v":22.401339204335201},2.6449585829379068,2.6449585829379068,false,false,4.8275860000000004E-2,3.936626275401478E-3,4.0880557093876799,7,"1989-02-01",2.6449585829379068]
[null,null,{"$f":"'Monthly Prices'!A358","v":"1989M04"},"1989-03-01",351,false,true,false,{"$error":"#N/A"},{"$f":"INDEX('Monthly Prices'!B358:CB358,$G$4)","v":1.53},{"$f":"IF(H370,INDEX('Monthly Prices'!B358:CB358,$G$4)*U370,FALSE)","v":false},true,{"$f":"INDEX('Monthly Prices'!B358:CB358,$G$5)","v":2.09},{"$f":"IF(H370,INDEX('Monthly Prices'!B358:CB358,$G$5)*U370,FALSE)","v":false},true,1989,{"$f":"'Monthly Prices'!B358","v":19.2},18.161111111111669,{"$f":"_xlfn.XLOOKUP(P370,'Annual Real'!A:A,'Annual Real'!B:B,0,0)","v":22.401339204335201},2.6342712867868743,2.6342712867868743,false,false,4.9785410000000002E-2,4.0570218430571181E-3,4.1046410406963005,7,"1989-03-01",2.6342712867868743]
[null,null,{"$f":"'Monthly Prices'!A359","v":"1989M05"},"1989-04-01",352,false,true,false,{"$error":"#N/A"},{"$f":"INDEX('Monthly Prices'!B359:CB359,$G$4)","v":1.66},{"$f":"IF(H371,INDEX('Monthly Prices'!B359:CB359,$G$4)*U371,FALSE)","v":false},true,{"$f":"INDEX('Monthly Prices'!B359:CB359,$G$5)","v":2.09},{"$f":"IF(H371,INDEX('Monthly Prices'!B359:CB359,$G$5)*U371,FALSE)","v":false},true,1989,{"$f":"'Monthly Prices'!B359","v":18.016666666670002},18.161111111111669,{"$f":"_xlfn.XLOOKUP(P371,'Annual Real'!A:A,'Annual Real'!B:B,0,0)","v":22.401339204335201},2.6233248200146431,2.6233248200146431,false,false,5.1238260000000001E-2,4.1727454750228876E-3,4.1217686630254589,7,"1989-04-01",2.6233248200146431]
[null,null,{"$f":"'Monthly Prices'!A360","v":"1989M06"},"1989-05-01",353,false,true,false,{"$error":"#N/A"},{"$f":"INDEX('Monthly Prices'!B360:CB360,$G$4)","v":1.7},{"$f":"IF(H372,INDEX('Monthly Prices'!B360:CB360,$G$4)*U372,FALSE)","v":false},true,{"$f":"INDEX('Monthly Prices'!B360:CB360,$G$5)","v":2.09},{"$f":"IF(H372,INDEX('Monthly Prices'!B360:CB360,$G$5)*U372,FALSE)","v":false},true,1989,{"$f":"'Monthly Prices'!B360","v":17.63333333333},18.161111111111669,{"$f":"_xlfn.XLOOKUP(P372,'Annual Real'!A:A,'Annual Real'!B:B,0,0)","v":22.401339204335201},2.6119318233130371,2.6119318233130371,false,false,5.3617019999999904E-2,4.3619043192155704E-3,4.1397474235595171,7,"1989-05-01",2.6119318233130371]
[null,null,{"$f":"'Monthly Prices'!A361","v":"1989M07"},"1989-06-01",354,false,true,false,{"$error":"#N/A"},{"$f":"INDEX('Monthly Prices'!B361:CB361,$G$4)","v":1.64},{"$f":"IF(H373,INDEX('Monthly Prices'!B361:CB361,$G$4)*U373,FALSE)","v":false},true,{"$f":"INDEX('Monthly Prices'!B361:CB361,$G$5)","v":2.09},{"$f":"IF(H373,INDEX('Monthly Prices'!B361:CB361,$G$5)*U373,FALSE)","v":false},true,1989,{"$f":"'Monthly Prices'!B361","v":17.66666666667},18.161111111111669,{"$f":"_xlfn.XLOOKUP(P373,'Annual Real'!A:A,'Annual Real'!B:B,0,0)","v":22.401339204335201},2.6009840508286626,2.6009840508286626,false,false,5.1694909999999997E-2,4.2090886643024739E-3,4.157171987513097,7,"1989-06-01",2.6009840508286626]
[null,null,{"$f":"'Monthly Prices'!A362","v":"1989M08"},"1989-07-01",355,false,true,false,{"$error":"#N/A"},{"$f":"INDEX('Monthly Prices'!B362:CB362,$G$4)","v":1.58},{"$f":"IF(H374,INDEX('Monthly Prices'!B362:CB362,$G$4)*U374,FALSE)","v":false},true,{"$f":"INDEX('Monthly Prices'!B362:CB362,$G$5)","v":2.09},{"$f":"IF(H374,INDEX('Monthly Prices'!B362:CB362,$G$5)*U374,FALSE)","v":false},true,1989,{"$f":"'Monthly Prices'!B362","v":16.88333333333},18.161111111111669,{"$f":"_xlfn.XLOOKUP(P374,'Annual Real'!A:A,'Annual Real'!B:B,0,0)","v":22.401339204335201},2.5904736950457949,2.5904736950457949,false,false,4.9789029999999998E-2,4.0573103687437939E-3,4.1740389245226854,7,"1989-07-01",2.5904736950457949]
[null,null,{"$f":"'Monthly Prices'!A363","v":"1989M09"},"1989-08-01",356,false,true,false,{"$error":"#N/A"},{"$f":"INDEX('Monthly Prices'!B363:CB363,$G$4)","v":1.53},{"$f":"IF(H375,INDEX('Monthly Prices'!B363:CB363,$G$4)*U375,FALSE)","v":false},true,{"$f":"INDEX('Monthly Prices'!B363:CB363,$G$5)","v":2.09},{"$f":"IF(H375,INDEX('Monthly Prices'!B363:CB363,$G$5)*U375,FALSE)","v":false},true,1989,{"$f":"'Monthly Prices'!B363","v":17.66666666667},18.161111111111669,{"$f":"_xlfn.XLOOKUP(P375,'Annual Real'!A:A,'Annual Real'!B:B,0,0)","v":22.401339204335201},2.5805657543949039,2.5805657543949039,false,false,4.7058830000000003E-2,3.8394451426078113E-3,4.1900649179964997,7,"1989-08-01",2.5805657543949039]
[null,null,{"$f":"'Monthly Prices'!A364","v":"1989M10"},"1989-09-01",357,false,true,false,{"$error":"#N/A"},{"$f":"INDEX('Monthly Prices'!B364:CB364,$G$4)","v":1.6},{"$f":"IF(H376,INDEX('Monthly Prices'!B364:CB364,$G$4)*U376,FALSE)","v":false},true,{"$f":"INDEX('Monthly Prices'!B364:CB364,$G$5)","v":2.09},{"$f":"IF(H376,INDEX('Monthly Prices'!B364:CB364,$G$5)*U376,FALSE)","v":false},true,1989,{"$f":"'Monthly Prices'!B364","v":18.41666666667},18.161111111111669,{"$f":"_xlfn.XLOOKUP(P376,'Annual Real'!A:A,'Annual Real'!B:B,0,0)","v":22.401339204335201},2.5714445471418448,2.5714445471418448,false,false,4.3405680000000002E-2,3.5471141165368536E-3,4.2049275564163313,7,"1989-09-01",2.5714445471418448]
[null,null,{"$f":"'Monthly Prices'!A365","v":"1989M11"},"1989-10-01",358,false,true,false,{"$error":"#N/A"},{"$f":"INDEX('Monthly Prices'!B365:CB365,$G$4)","v":1.9},{"$f":"IF(H377,INDEX('Monthly Prices'!B365:CB365,$G$4)*U377,FALSE)","v":false},true,{"$f":"INDEX('Monthly Prices'!B365:CB365,$G$5)","v":2.09},{"$f":"IF(H377,INDEX('Monthly Prices'!B365:CB365,$G$5)*U377,FALSE)","v":false},true,1989,{"$f":"'Monthly Prices'!B365","v":18.36666666667},18.161111111111669,{"$f":"_xlfn.XLOOKUP(P377,'Annual Real'!A:A,'Annual Real'!B:B,0,0)","v":22.401339204335201},2.5620448739458861,2.5620448739458861,false,false,4.4925130000000001E-2,3.6688167688030404E-3,4.2203546651469139,7,"1989-10-01",2.5620448739458861]
[null,null,{"$f":"'Monthly Prices'!A366","v":"1989M12"},"1989-11-01",359,false,true,false,{"$error":"#N/A"},{"$f":"INDEX('Monthly Prices'!B366:CB366,$G$4)","v":2.2400000000000002},{"$f":"IF(H378,INDEX('Monthly Prices'!B366:CB366,$G$4)*U378,FALSE)","v":false},true,{"$f":"INDEX('Monthly Prices'!B366:CB366,$G$5)","v":2.09},{"$f":"IF(H378,INDEX('Monthly Prices'!B366:CB366,$G$5)*U378,FALSE)","v":false},true,1989,{"$f":"'Monthly Prices'!B366","v":19.350000000000001},18.161111111111669,{"$f":"_xlfn.XLOOKUP(P378,'Annual Real'!A:A,'Annual Real'!B:B,0,0)","v":22.401339204335201},2.5523489927000562,2.5523489927000562,false,false,4.6550290000000001E-2,3.798807010154448E-3,4.2363869780342123,7,"1989-11-01",2.5523489927000562]
[null,null,{"$f":"'Monthly Prices'!A367","v":"1990M01"},"1989-12-01",360,false,true,false,{"$error":"#N/A"},{"$f":"INDEX('Monthly Prices'!B367:CB367,$G$4)","v":2.39},{"$f":"IF(H379,INDEX('Monthly Prices'!B367:CB367,$G$4)*U379,FALSE)","v":false},true,{"$f":"INDEX('Monthly Prices'!B367:CB367,$G$5)","v":2.82},{"$f":"IF(H379,INDEX('Monthly Prices'!B367:CB367,$G$5)*U379,FALSE)","v":false},true,1989,{"$f":"'Monthly Prices'!B367","v":20.350000000000001},18.161111111111669,{"$f":"_xlfn.XLOOKUP(P379,'Annual Real'!A:A,'Annual Real'!B:B,0,0)","v":22.401339204335201},2.5427054479909592,2.5427054479909592,false,false,4.6473029999999999E-2,3.7926314731879796E-3,4.2524540326197089,7,"1989-12-01",2.5427054479909592]
[null,null,{"$f":"'Monthly Prices'!A368","v":"1990M02"},"1990-01-01",361,false,true,false,{"$error":"#N/A"},{"$f":"INDEX('Monthly Prices'!B368:CB368,$G$4)","v":1.9},{"$f":"IF(H380,INDEX('Monthly Prices'!B368:CB368,$G$4)*U380,FALSE)","v":false},true,{"$f":"INDEX('Monthly Prices'!B368:CB368,$G$5)","v":2.82},{"$f":"IF(H380,INDEX('Monthly Prices'!B368:CB368,$G$5)*U380,FALSE)","v":false},true,1990,{"$f":"'Monthly Prices'!B368","v":19.600000000000001},23.065277777777499,{"$f":"_xlfn.XLOOKUP(P380,'Annual Real'!A:A,'Annual Real'!B:B,0,0)","v":27.6745064632835},2.5319819957510181,2.5319819957510181,false,false,5.2023119999999999E-2,4.2352008260468921E-3,4.2704640294513867,7,"1990-01-01",2.5319819957510181]
[null,null,{"$f":"'Monthly Prices'!A369","v":"1990M03"},"1990-02-01",362,false,true,false,{"$error":"#N/A"},{"$f":"INDEX('Monthly Prices'!B369:CB369,$G$4)","v":1.55},{"$f":"IF(H381,INDEX('Monthly Prices'!B369:CB369,$G$4)*U381,FALSE)","v":false},true,{"$f":"INDEX('Monthly Prices'!B369:CB369,$G$5)","v":2.82},{"$f":"IF(H381,INDEX('Monthly Prices'!B369:CB369,$G$5)*U381,FALSE)","v":false},true,1990,{"$f":"'Monthly Prices'!B369","v":18.216666666670001},23.065277777777499,{"$f":"_xlfn.XLOOKUP(P381,'Annual Real'!A:A,'Annual Real'!B:B,0,0)","v":27.6745064632835},2.521182285189997,2.521182285189997,false,false,5.2631579999999997E-2,4.2835897366331199E-3,4.2887569453386059,7,"1990-02-01",2.521182285189997]
[null,null,{"$f":"'Monthly Prices'!A370","v":"1990M04"},"1990-03-01",363,false,true,false,{"$error":"#N/A"},{"$f":"INDEX('Monthly Prices'!B370:CB370,$G$4)","v":1.49},{"$f":"IF(H382,INDEX('Monthly Prices'!B370:CB370,$G$4)*U382,FALSE)","v":false},true,{"$f":"INDEX('Monthly Prices'!B370:CB370,$G$5)","v":2.82},{"$f":"IF(H382,INDEX('Monthly Prices'!B370:CB370,$G$5)*U382,FALSE)","v":false},true,1990,{"$f":"'Monthly Prices'!B370","v":16.55},23.065277777777499,{"$f":"_xlfn.XLOOKUP(P382,'Annual Real'!A:A,'Annual Real'!B:B,0,0)","v":27.6745064632835},2.5104885172409865,2.5104885172409865,false,false,5.2330340000000003E-2,4.2596362722118197E-3,4.3070254899856701,7,"1990-03-01",2.5104885172409865]
[null,null,{"$f":"'Monthly Prices'!A371","v":"1990M05"},"1990-04-01",364,false,true,false,{"$error":"#N/A"},{"$f":"INDEX('Monthly Prices'!B371:CB371,$G$4)","v":1.47},{"$f":"IF(H383,INDEX('Monthly Prices'!B371:CB371,$G$4)*U383,FALSE)","v":false},true,{"$f":"INDEX('Monthly Prices'!B371:CB371,$G$5)","v":2.82},{"$f":"IF(H383,INDEX('Monthly Prices'!B371:CB371,$G$5)*U383,FALSE)","v":false},true,1990,{"$f":"'Monthly Prices'!B371","v":16.58333333333},23.065277777777499,{"$f":"_xlfn.XLOOKUP(P383,'Annual Real'!A:A,'Annual Real'!B:B,0,0)","v":27.6745064632835},2.5008750880646504,2.5008750880646504,false,false,4.7116169999999895E-2,3.8440261259811148E-3,4.323581808494442,7,"1990-04-01",2.5008750880646504]
[null,null,{"$f":"'Monthly Prices'!A372","v":"1990M06"},"1990-05-01",365,false,true,false,{"$error":"#N/A"},{"$f":"INDEX('Monthly Prices'!B372:CB372,$G$4)","v":1.47},{"$f":"IF(H384,INDEX('Monthly Prices'!B372:CB372,$G$4)*U384,FALSE)","v":false},true,{"$f":"INDEX('Monthly Prices'!B372:CB372,$G$5)","v":2.82},{"$f":"IF(H384,INDEX('Monthly Prices'!B372:CB372,$G$5)*U384,FALSE)","v":false},true,1990,{"$f":"'Monthly Prices'!B372","v":15.26666666667},23.065277777777499,{"$f":"_xlfn.XLOOKUP(P384,'Annual Real'!A:A,'Annual Real'!B:B,0,0)","v":27.6745064632835},2.4919931528096133,2.4919931528096133,false,false,4.3618739999999899E-2,3.5641892695503774E-3,4.3389918723823007,7,"1990-05-01",2.4919931528096133]
[null,null,{"$f":"'Monthly Prices'!A373","v":"1990M07"},"1990-06-01",366,false,true,false,{"$error":"#N/A"},{"$f":"INDEX('Monthly Prices'!B373:CB373,$G$4)","v":1.41},{"$f":"IF(H385,INDEX('Monthly Prices'!B373:CB373,$G$4)*U385,FALSE)","v":false},true,{"$f":"INDEX('Monthly Prices'!B373:CB373,$G$5)","v":2.82},{"$f":"IF(H385,INDEX('Monthly Prices'!B373:CB373,$G$5)*U385,FALSE)","v":false},true,1990,{"$f":"'Monthly Prices'!B373","v":17.16666666667},23.065277777777499,{"$f":"_xlfn.XLOOKUP(P385,'Annual Real'!A:A,'Annual Real'!B:B,0,0)","v":27.6745064632835},2.4825255713329177,2.4825255713329177,false,false,4.67365E-2,3.8136894080864625E-3,4.355539439727778,7,"1990-06-01",2.4825255713329177]
[null,null,{"$f":"'Monthly Prices'!A374","v":"1990M08"},"1990-07-01",367,false,true,false,{"$error":"#N/A"},{"$f":"INDEX('Monthly Prices'!B374:CB374,$G$4)","v":1.36},{"$f":"IF(H386,INDEX('Monthly Prices'!B374:CB374,$G$4)*U386,FALSE)","v":false},true,{"$f":"INDEX('Monthly Prices'!B374:CB374,$G$5)","v":2.82},{"$f":"IF(H386,INDEX('Monthly Prices'!B374:CB374,$G$5)*U386,FALSE)","v":false},true,1990,{"$f":"'Monthly Prices'!B374","v":26.4},23.065277777777499,{"$f":"_xlfn.XLOOKUP(P386,'Annual Real'!A:A,'Annual Real'!B:B,0,0)","v":27.6745064632835},2.472799835196303,2.472799835196303,false,false,4.8231510000000005E-2,3.9330866971860612E-3,4.372670153957241,7,"1990-07-01",2.472799835196303]
[null,null,{"$f":"'Monthly Prices'!A375","v":"1990M09"},"1990-08-01",368,false,true,false,{"$error":"#N/A"},{"$f":"INDEX('Monthly Prices'!B375:CB375,$G$4)","v":1.44},{"$f":"IF(H387,INDEX('Monthly Prices'!B375:CB375,$G$4)*U387,FALSE)","v":false},true,{"$f":"INDEX('Monthly Prices'!B375:CB375,$G$5)","v":2.82},{"$f":"IF(H387,INDEX('Monthly Prices'!B375:CB375,$G$5)*U387,FALSE)","v":false},true,1990,{"$f":"'Monthly Prices'!B375","v":32.700000000000003},23.065277777777499,{"$f":"_xlfn.XLOOKUP(P387,'Annual Real'!A:A,'Annual Real'!B:B,0,0)","v":27.6745064632835},2.4615621706179454,2.4615621706179454,false,false,5.6179779999999999E-2,4.5652572632510768E-3,4.3926325181373951,7,"1990-08-01",2.4615621706179454]
[null,null,{"$f":"'Monthly Prices'!A376","v":"1990M10"},"1990-09-01",369,false,true,false,{"$error":"#N/A"},{"$f":"INDEX('Monthly Prices'!B376:CB376,$G$4)","v":1.69},{"$f":"IF(H388,INDEX('Monthly Prices'!B376:CB376,$G$4)*U388,FALSE)","v":false},true,{"$f":"INDEX('Monthly Prices'!B376:CB376,$G$5)","v":2.82},{"$f":"IF(H388,INDEX('Monthly Prices'!B376:CB376,$G$5)*U388,FALSE)","v":false},true,1990,{"$f":"'Monthly Prices'!B376","v":34.5},23.065277777777499,{"$f":"_xlfn.XLOOKUP(P388,'Annual Real'!A:A,'Annual Real'!B:B,0,0)","v":27.6745064632835},2.4493305527314981,2.4493305527314981,false,false,6.1600000000000002E-2,4.9938616381550727E-3,4.4145687171602344,7,"1990-09-01",2.4493305527314981]
[null,null,{"$f":"'Monthly Prices'!A377","v":"1990M11"},"1990-10-01",370,false,true,false,{"$error":"#N/A"},{"$f":"INDEX('Monthly Prices'!B377:CB377,$G$4)","v":2.1},{"$f":"IF(H389,INDEX('Monthly Prices'!B377:CB377,$G$4)*U389,FALSE)","v":false},true,{"$f":"INDEX('Monthly Prices'!B377:CB377,$G$5)","v":2.82},{"$f":"IF(H389,INDEX('Monthly Prices'!B377:CB377,$G$5)*U389,FALSE)","v":false},true,1990,{"$f":"'Monthly Prices'!B377","v":31.08333333333},23.065277777777499,{"$f":"_xlfn.XLOOKUP(P389,'Annual Real'!A:A,'Annual Real'!B:B,0,0)","v":27.6745064632835},2.436911538693677,2.436911538693677,false,false,6.2898090000000004E-2,5.0962104453240453E-3,4.4370662883682268,7,"1990-10-01",2.436911538693677]
[null,null,{"$f":"'Monthly Prices'!A378","v":"1990M12"},"1990-11-01",371,false,true,false,{"$error":"#N/A"},{"$f":"INDEX('Monthly Prices'!B378:CB378,$G$4)","v":2.11},{"$f":"IF(H390,INDEX('Monthly Prices'!B378:CB378,$G$4)*U390,FALSE)","v":false},true,{"$f":"INDEX('Monthly Prices'!B378:CB378,$G$5)","v":2.82},{"$f":"IF(H390,INDEX('Monthly Prices'!B378:CB378,$G$5)*U390,FALSE)","v":false},true,1990,{"$f":"'Monthly Prices'!B378","v":26.13333333333},23.065277777777499,{"$f":"_xlfn.XLOOKUP(P390,'Annual Real'!A:A,'Annual Real'!B:B,0,0)","v":27.6745064632835},2.424583986526208,2.424583986526208,false,false,6.2748209999999999E-2,5.0843989055338046E-3,4.4596261033485876,7,"1990-11-01",2.424583986526208]
[null,null,{"$f":"'Monthly Prices'!A379","v":"1991M01"},"1990-12-01",372,false,true,false,{"$error":"#N/A"},{"$f":"INDEX('Monthly Prices'!B379:CB379,$G$4)","v":1.67},{"$f":"IF(H391,INDEX('Monthly Prices'!B379:CB379,$G$4)*U391,FALSE)","v":false},true,{"$f":"INDEX('Monthly Prices'!B379:CB379,$G$5)","v":3.44},{"$f":"IF(H391,INDEX('Monthly Prices'!B379:CB379,$G$5)*U391,FALSE)","v":false},true,1990,{"$f":"'Monthly Prices'!B379","v":22.58333333333},23.065277777777499,{"$f":"_xlfn.XLOOKUP(P391,'Annual Real'!A:A,'Annual Real'!B:B,0,0)","v":27.6745064632835},2.4126379056517888,2.4126379056517888,false,false,6.1062649999999996E-2,4.9514603274840585E-3,4.4817077650747308,7,"1990-12-01",2.4126379056517888]
[null,null,{"$f":"'Monthly Prices'!A380","v":"1991M02"},"1991-01-01",373,false,true,false,{"$error":"#N/A"},{"$f":"INDEX('Monthly Prices'!B380:CB380,$G$4)","v":1.36},{"$f":"IF(H392,INDEX('Monthly Prices'!B380:CB380,$G$4)*U392,FALSE)","v":false},true,{"$f":"INDEX('Monthly Prices'!B380:CB380,$G$5)","v":3.41},{"$f":"IF(H392,INDEX('Monthly Prices'!B380:CB380,$G$5)*U392,FALSE)","v":false},true,1991,{"$f":"'Monthly Prices'!B380","v":18.13333333333},18.937500000000835,{"$f":"_xlfn.XLOOKUP(P392,'Annual Real'!A:A,'Annual Real'!B:B,0,0)","v":23.6483093945284},2.4016101534590422,2.4016101534590422,false,false,5.6514910000000002E-2,4.5918161100639843E-3,4.5022869429909997,7,"1991-01-01",2.4016101534590422]
[null,null,{"$f":"'Monthly Prices'!A381","v":"1991M03"},"1991-02-01",374,false,true,false,{"$error":"#N/A"},{"$f":"INDEX('Monthly Prices'!B381:CB381,$G$4)","v":1.34},{"$f":"IF(H393,INDEX('Monthly Prices'!B381:CB381,$G$4)*U393,FALSE)","v":false},true,{"$f":"INDEX('Monthly Prices'!B381:CB381,$G$5)","v":3.33},{"$f":"IF(H393,INDEX('Monthly Prices'!B381:CB381,$G$5)*U393,FALSE)","v":false},true,1991,{"$f":"'Monthly Prices'!B381","v":18.066666666669999},18.937500000000835,{"$f":"_xlfn.XLOOKUP(P393,'Annual Real'!A:A,'Annual Real'!B:B,0,0)","v":23.6483093945284},2.3912731315307676,2.3912731315307676,false,false,5.3124999999999999E-2,4.3228110549033971E-3,4.5217494787605084,7,"1991-02-01",2.3912731315307676]
[null,null,{"$f":"'Monthly Prices'!A382","v":"1991M04"},"1991-03-01",375,false,true,false,{"$error":"#N/A"},{"$f":"INDEX('Monthly Prices'!B382:CB382,$G$4)","v":1.33},{"$f":"IF(H394,INDEX('Monthly Prices'!B382:CB382,$G$4)*U394,FALSE)","v":false},true,{"$f":"INDEX('Monthly Prices'!B382:CB382,$G$5)","v":3.47},{"$f":"IF(H394,INDEX('Monthly Prices'!B382:CB382,$G$5)*U394,FALSE)","v":false},true,1991,{"$f":"'Monthly Prices'!B382","v":18.466666666670001},18.937500000000835,{"$f":"_xlfn.XLOOKUP(P394,'Annual Real'!A:A,'Annual Real'!B:B,0,0)","v":23.6483093945284},2.3817686923407853,2.3817686923407853,false,false,4.8951050000000003E-2,3.9904963150059203E-3,4.5397935033928825,7,"1991-03-01",2.3817686923407853]
[null,null,{"$f":"'Monthly Prices'!A383","v":"1991M05"},"1991-04-01",376,false,true,false,{"$error":"#N/A"},{"$f":"INDEX('Monthly Prices'!B383:CB383,$G$4)","v":1.31},{"$f":"IF(H395,INDEX('Monthly Prices'!B383:CB383,$G$4)*U395,FALSE)","v":false},true,{"$f":"INDEX('Monthly Prices'!B383:CB383,$G$5)","v":3.37},{"$f":"IF(H395,INDEX('Monthly Prices'!B383:CB383,$G$5)*U395,FALSE)","v":false},true,1991,{"$f":"'Monthly Prices'!B383","v":18.816666666669999},18.937500000000835,{"$f":"_xlfn.XLOOKUP(P395,'Annual Real'!A:A,'Annual Real'!B:B,0,0)","v":23.6483093945284},2.3723163444032296,2.3723163444032296,false,false,4.8875099999999998E-2,3.9844382305318504E-3,4.557882030186521,7,"1991-04-01",2.3723163444032296]
[null,null,{"$f":"'Monthly Prices'!A384","v":"1991M06"},"1991-05-01",377,false,true,false,{"$error":"#N/A"},{"$f":"INDEX('Monthly Prices'!B384:CB384,$G$4)","v":1.2},{"$f":"IF(H396,INDEX('Monthly Prices'!B384:CB384,$G$4)*U396,FALSE)","v":false},true,{"$f":"INDEX('Monthly Prices'!B384:CB384,$G$5)","v":3.29},{"$f":"IF(H396,INDEX('Monthly Prices'!B384:CB384,$G$5)*U396,FALSE)","v":false},true,1991,{"$f":"'Monthly Prices'!B384","v":17.933333333330001},18.937500000000835,{"$f":"_xlfn.XLOOKUP(P396,'Annual Real'!A:A,'Annual Real'!B:B,0,0)","v":23.6483093945284},2.3627775539314904,2.3627775539314904,false,false,4.9535599999999895E-2,4.037108976199244E-3,4.5762826966430445,7,"1991-05-01",2.3627775539314904]
[null,null,{"$f":"'Monthly Prices'!A385","v":"1991M07"},"1991-06-01",378,false,true,false,{"$error":"#N/A"},{"$f":"INDEX('Monthly Prices'!B385:CB385,$G$4)","v":1.19},{"$f":"IF(H397,INDEX('Monthly Prices'!B385:CB385,$G$4)*U397,FALSE)","v":false},true,{"$f":"INDEX('Monthly Prices'!B385:CB385,$G$5)","v":3},{"$f":"IF(H397,INDEX('Monthly Prices'!B385:CB385,$G$5)*U397,FALSE)","v":false},true,1991,{"$f":"'Monthly Prices'!B385","v":19.05},18.937500000000835,{"$f":"_xlfn.XLOOKUP(P397,'Annual Real'!A:A,'Annual Real'!B:B,0,0)","v":23.6483093945284},2.3537591610189179,2.3537591610189179,false,false,4.69592E-2,3.8314849972453935E-3,4.5938166551383857,7,"1991-06-01",2.3537591610189179]
[null,null,{"$f":"'Monthly Prices'!A386","v":"1991M08"},"1991-07-01",379,false,true,false,{"$error":"#N/A"},{"$f":"INDEX('Monthly Prices'!B386:CB386,$G$4)","v":1.31},{"$f":"IF(H398,INDEX('Monthly Prices'!B386:CB386,$G$4)*U398,FALSE)","v":false},true,{"$f":"INDEX('Monthly Prices'!B386:CB386,$G$5)","v":2.98},{"$f":"IF(H398,INDEX('Monthly Prices'!B386:CB386,$G$5)*U398,FALSE)","v":false},true,1991,{"$f":"'Monthly Prices'!B386","v":19.36666666667},18.937500000000835,{"$f":"_xlfn.XLOOKUP(P398,'Annual Real'!A:A,'Annual Real'!B:B,0,0)","v":23.6483093945284},2.3452387620033917,2.3452387620033917,false,false,4.4478530000000002E-2,3.6330625067135802E-3,4.6105062781908854,7,"1991-07-01",2.3452387620033917]
[null,null,{"$f":"'Monthly Prices'!A387","v":"1991M09"},"1991-08-01",380,false,true,false,{"$error":"#N/A"},{"$f":"INDEX('Monthly Prices'!B387:CB387,$G$4)","v":1.63},{"$f":"IF(H399,INDEX('Monthly Prices'!B387:CB387,$G$4)*U399,FALSE)","v":false},true,{"$f":"INDEX('Monthly Prices'!B387:CB387,$G$5)","v":2.97},{"$f":"IF(H399,INDEX('Monthly Prices'!B387:CB387,$G$5)*U399,FALSE)","v":false},true,1991,{"$f":"'Monthly Prices'!B387","v":20.05},18.937500000000835,{"$f":"_xlfn.XLOOKUP(P399,'Annual Real'!A:A,'Annual Real'!B:B,0,0)","v":23.6483093945284},2.3379622584578748,2.3379622584578748,false,false,3.7993919999999896E-2,3.1123272068200869E-3,4.6248556823177136,7,"1991-08-01",2.3379622584578748]
[null,null,{"$f":"'Monthly Prices'!A388","v":"1991M10"},"1991-09-01",381,false,true,false,{"$error":"#N/A"},{"$f":"INDEX('Monthly Prices'!B388:CB388,$G$4)","v":1.77},{"$f":"IF(H400,INDEX('Monthly Prices'!B388:CB388,$G$4)*U400,FALSE)","v":false},true,{"$f":"INDEX('Monthly Prices'!B388:CB388,$G$5)","v":2.71},{"$f":"IF(H400,INDEX('Monthly Prices'!B388:CB388,$G$5)*U400,FALSE)","v":false},true,1991,{"$f":"'Monthly Prices'!B388","v":21.466666666670001},18.937500000000835,{"$f":"_xlfn.XLOOKUP(P400,'Annual Real'!A:A,'Annual Real'!B:B,0,0)","v":23.6483093945284},2.3314739300214651,2.3314739300214651,false,false,3.3911080000000003E-2,2.7829298680384085E-3,4.637726331331403,7,"1991-09-01",2.3314739300214651]
[null,null,{"$f":"'Monthly Prices'!A389","v":"1991M11"},"1991-10-01",382,false,true,false,{"$error":"#N/A"},{"$f":"INDEX('Monthly Prices'!B389:CB389,$G$4)","v":1.81},{"$f":"IF(H401,INDEX('Monthly Prices'!B389:CB389,$G$4)*U401,FALSE)","v":false},true,{"$f":"INDEX('Monthly Prices'!B389:CB389,$G$5)","v":2.7},{"$f":"IF(H401,INDEX('Monthly Prices'!B389:CB389,$G$5)*U401,FALSE)","v":false},true,1991,{"$f":"'Monthly Prices'!B389","v":20.766666666670002},18.937500000000835,{"$f":"_xlfn.XLOOKUP(P401,'Annual Real'!A:A,'Annual Real'!B:B,0,0)","v":23.6483093945284},2.3258860905821321,2.3258860905821321,false,false,2.921348E-2,2.4024561916247134E-3,4.6488682656711715,7,"1991-10-01",2.3258860905821321]
[null,null,{"$f":"'Monthly Prices'!A390","v":"1991M12"},"1991-11-01",383,false,true,false,{"$error":"#N/A"},{"$f":"INDEX('Monthly Prices'!B390:CB390,$G$4)","v":1.92},{"$f":"IF(H402,INDEX('Monthly Prices'!B390:CB390,$G$4)*U402,FALSE)","v":false},true,{"$f":"INDEX('Monthly Prices'!B390:CB390,$G$5)","v":2.7},{"$f":"IF(H402,INDEX('Monthly Prices'!B390:CB390,$G$5)*U402,FALSE)","v":false},true,1991,{"$f":"'Monthly Prices'!B390","v":17.75},18.937500000000835,{"$f":"_xlfn.XLOOKUP(P402,'Annual Real'!A:A,'Annual Real'!B:B,0,0)","v":23.6483093945284},2.3201835821457597,2.3201835821457597,false,false,2.9895369999999998E-2,2.4577832893286633E-3,4.6602941764088284,7,"1991-11-01",2.3201835821457597]
[null,null,{"$f":"'Monthly Prices'!A391","v":"1992M01"},"1991-12-01",384,false,true,false,{"$error":"#N/A"},{"$f":"INDEX('Monthly Prices'!B391:CB391,$G$4)","v":1.28},{"$f":"IF(H403,INDEX('Monthly Prices'!B391:CB391,$G$4)*U403,FALSE)","v":false},true,{"$f":"INDEX('Monthly Prices'!B391:CB391,$G$5)","v":2.57},{"$f":"IF(H403,INDEX('Monthly Prices'!B391:CB391,$G$5)*U403,FALSE)","v":false},true,1991,{"$f":"'Monthly Prices'!B391","v":17.38333333333},18.937500000000835,{"$f":"_xlfn.XLOOKUP(P403,'Annual Real'!A:A,'Annual Real'!B:B,0,0)","v":23.6483093945284},2.3143551436006256,2.3143551436006256,false,false,3.064275E-2,2.5183855473738248E-3,4.6720305939092066,7,"1991-12-01",2.3143551436006256]
[null,null,{"$f":"'Monthly Prices'!A392","v":"1992M02"},"1992-01-01",385,{"$f":"AND(E404>=$M$4,L404)","v":false},{"$f":"AND(E404<=$M$5,O404)","v":true},{"$f":"AND(F404:G404)","v":false},{"$f":"IF(H404,D404,NA)","v":{"$error":"#N/A"}},{"$f":"INDEX('Monthly Prices'!B392:CB392,$G$4)","v":1.21},{"$f":"IF(H404,INDEX('Monthly Prices'!B392:CB392,$G$4)*U404,FALSE)","v":false},true,{"$f":"INDEX('Monthly Prices'!B392:CB392,$G$5)","v":2.5},{"$f":"IF(H404,INDEX('Monthly Prices'!B392:CB392,$G$5)*U404,FALSE)","v":false},{"$f":"AND(ISNUMBER(M404),M404>0)","v":true},1992,{"$f":"'Monthly Prices'!B392","v":17.61666666667},19.006944444444169,{"$f":"_xlfn.XLOOKUP(P404,'Annual Real'!A:A,'Annual Real'!B:B,0,0)","v":22.794962095071899},2.3094095202791634,2.3094095202791634,false,false,2.600297E-2,2.1415098872825666E-3,4.6820357936197494,7,"1992-01-01",2.3094095202791634]
[null,null,{"$f":"'Monthly Prices'!A393","v":"1992M03"},{"$f":"EDATE(D404,1)","v":"1992-02-01"},{"$f":"E404+1","v":386},false,true,false,{"$error":"#N/A"},{"$f":"INDEX('Monthly Prices'!B393:CB393,$G$4)","v":1.28},{"$f":"IF(H405,INDEX('Monthly Prices'!B393:CB393,$G$4)*U405,FALSE)","v":false},{"$f":"ISNUMBER(J405)","v":true},{"$f":"INDEX('Monthly Prices'!B393:CB393,$G$5)","v":2.58},{"$f":"IF(H405,INDEX('Monthly Prices'!B393:CB393,$G$5)*U405,FALSE)","v":false},true,{"$f":"YEAR(D405)","v":1992},{"$f":"'Monthly Prices'!B393","v":17.45},{"$f":"AVERAGEIF(P:P,P405,Q:Q)","v":19.006944444444169},{"$f":"_xlfn.XLOOKUP(P405,'Annual Real'!A:A,'Annual Real'!B:B,0,0)","v":22.794962095071899},{"$f":"AC405","v":2.3040656023114492},{"$f":"IF($U$19,T405,1)","v":2.3040656023114492},false,false,{"$f":"LOOKUP(D405,INDIRECT(\"'\"&$X$14&\"'!A:A\"),INDIRECT(\"'\"&$X$14&\"'!B:B\"))/100","v":2.8189909999999999E-2},{"$f":"(1+X405)^(1/12)-1","v":2.3193428009833372E-3},{"$f":"Z404*(1+Y405)","v":4.6928950396316278},{"$f":"LEN(C405)","v":7},{"$f":"IF(AA405>2,D405,0)","v":"1992-02-01"},{"$f":"$AC$17/Z405","v":2.3040656023114492}]
[null,null,{"$f":"'Monthly Prices'!A394","v":"1992M04"},"1992-03-01",387,false,true,false,{"$error":"#N/A"},{"$f":"INDEX('Monthly Prices'!B394:CB394,$G$4)","v":1.47},{"$f":"IF(H406,INDEX('Monthly Prices'!B394:CB394,$G$4)*U406,FALSE)","v":false},true,{"$f":"INDEX('Monthly Prices'!B394:CB394,$G$5)","v":2.4700000000000002},{"$f":"IF(H406,INDEX('Monthly Prices'!B394:CB394,$G$5)*U406,FALSE)","v":false},true,1992,{"$f":"'Monthly Prices'!B394","v":18.63333333333},19.006944444444169,{"$f":"_xlfn.XLOOKUP(P406,'Annual Real'!A:A,'Annual Real'!B:B,0,0)","v":22.794962095071899},2.2980531101079484,2.2980531101079484,{"$f":"IF(AND(H405,H406),LN(K406/K405))","v":false},{"$f":"IF(AND($H405,$H406),LN(N406/N405))","v":false},3.1851849999999897E-2,2.6163417098823416E-3,4.7051732566639162,7,"1992-03-01",2.2980531101079484]
[null,null,{"$f":"'Monthly Prices'!A395","v":"1992M05"},"1992-04-01",388,false,true,false,{"$error":"#N/A"},{"$f":"INDEX('Monthly Prices'!B395:CB395,$G$4)","v":1.59},{"$f":"IF(H407,INDEX('Monthly Prices'!B395:CB395,$G$4)*U407,FALSE)","v":false},true,{"$f":"INDEX('Monthly Prices'!B395:CB395,$G$5)","v":2.4900000000000002},{"$f":"IF(H407,INDEX('Monthly Prices'!B395:CB395,$G$5)*U407,FALSE)","v":false},true,1992,{"$f":"'Monthly Prices'!B395","v":19.5},19.006944444444169,{"$f":"_xlfn.XLOOKUP(P407,'Annual Real'!A:A,'Annual Real'!B:B,0,0)","v":22.794962095071899},2.292065030123863,2.292065030123863,false,false,3.1804730000000003E-2,2.6125262177931763E-3,4.71746564515621,7,"1992-04-01",2.292065030123863]
[null,null,{"$f":"'Monthly Prices'!A396","v":"1992M06"},"1992-05-01",389,false,true,false,{"$error":"#N/A"},{"$f":"INDEX('Monthly Prices'!B396:CB396,$G$4)","v":1.56},{"$f":"IF(H408,INDEX('Monthly Prices'!B396:CB396,$G$4)*U408,FALSE)","v":false},true,{"$f":"INDEX('Monthly Prices'!B396:CB396,$G$5)","v":2.5},{"$f":"IF(H408,INDEX('Monthly Prices'!B396:CB396,$G$5)*U408,FALSE)","v":false},true,1992,{"$f":"'Monthly Prices'!B396","v":20.83333333333},19.006944444444169,{"$f":"_xlfn.XLOOKUP(P408,'Annual Real'!A:A,'Annual Real'!B:B,0,0)","v":22.794962095071899},2.2863824371673718,2.2863824371673718,false,false,3.0235990000000001E-2,2.4854078933231882E-3,4.7291904715071622,7,"1992-05-01",2.2863824371673718]
[null,null,{"$f":"'Monthly Prices'!A397","v":"1992M07"},"1992-06-01",390,false,true,false,{"$error":"#N/A"},{"$f":"INDEX('Monthly Prices'!B397:CB397,$G$4)","v":1.75},{"$f":"IF(H409,INDEX('Monthly Prices'!B397:CB397,$G$4)*U409,FALSE)","v":false},true,{"$f":"INDEX('Monthly Prices'!B397:CB397,$G$5)","v":2.5499999999999998},{"$f":"IF(H409,INDEX('Monthly Prices'!B397:CB397,$G$5)*U409,FALSE)","v":false},true,1992,{"$f":"'Monthly Prices'!B397","v":20.16666666667},19.006944444444169,{"$f":"_xlfn.XLOOKUP(P409,'Annual Real'!A:A,'Annual Real'!B:B,0,0)","v":22.794962095071899},2.2805947317905524,2.2805947317905524,false,false,3.0882349999999999E-2,2.5378052909361681E-3,4.7411922361075982,7,"1992-06-01",2.2805947317905524]
[null,null,{"$f":"'Monthly Prices'!A398","v":"1992M08"},"1992-07-01",391,false,true,false,{"$error":"#N/A"},{"$f":"INDEX('Monthly Prices'!B398:CB398,$G$4)","v":1.97},{"$f":"IF(H410,INDEX('Monthly Prices'!B398:CB398,$G$4)*U410,FALSE)","v":false},true,{"$f":"INDEX('Monthly Prices'!B398:CB398,$G$5)","v":2.56},{"$f":"IF(H410,INDEX('Monthly Prices'!B398:CB398,$G$5)*U410,FALSE)","v":false},true,1992,{"$f":"'Monthly Prices'!B398","v":19.61666666667},19.006944444444169,{"$f":"_xlfn.XLOOKUP(P410,'Annual Real'!A:A,'Annual Real'!B:B,0,0)","v":22.794962095071899},2.2746950471502432,2.2746950471502432,false,false,3.1571220000000004E-2,2.5936156355113038E-3,4.7534890664221319,7,"1992-07-01",2.2746950471502432]
[null,null,{"$f":"'Monthly Prices'!A399","v":"1992M09"},"1992-08-01",392,false,true,false,{"$error":"#N/A"},{"$f":"INDEX('Monthly Prices'!B399:CB399,$G$4)","v":2.33},{"$f":"IF(H411,INDEX('Monthly Prices'!B399:CB399,$G$4)*U411,FALSE)","v":false},true,{"$f":"INDEX('Monthly Prices'!B399:CB399,$G$5)","v":2.57},{"$f":"IF(H411,INDEX('Monthly Prices'!B399:CB399,$G$5)*U411,FALSE)","v":false},true,1992,{"$f":"'Monthly Prices'!B399","v":20.149999999999999},19.006944444444169,{"$f":"_xlfn.XLOOKUP(P411,'Annual Real'!A:A,'Annual Real'!B:B,0,0)","v":22.794962095071899},2.2688275696049329,2.2688275696049329,false,false,3.1478769999999996E-2,2.5861275770429071E-3,4.7657821955839781,7,"1992-08-01",2.2688275696049329]
[null,null,{"$f":"'Monthly Prices'!A400","v":"1992M10"},"1992-09-01",393,false,true,false,{"$error":"#N/A"},{"$f":"INDEX('Monthly Prices'!B400:CB400,$G$4)","v":2.42},{"$f":"IF(H412,INDEX('Monthly Prices'!B400:CB400,$G$4)*U412,FALSE)","v":false},true,{"$f":"INDEX('Monthly Prices'!B400:CB400,$G$5)","v":2.63},{"$f":"IF(H412,INDEX('Monthly Prices'!B400:CB400,$G$5)*U412,FALSE)","v":false},true,1992,{"$f":"'Monthly Prices'!B400","v":20.08333333333},19.006944444444169,{"$f":"_xlfn.XLOOKUP(P412,'Annual Real'!A:A,'Annual Real'!B:B,0,0)","v":22.794962095071899},2.2632671505700448,2.2632671505700448,false,false,2.9883380000000001E-2,2.4568107364115743E-3,4.7774908204494881,7,"1992-09-01",2.2632671505700448]
[null,null,{"$f":"'Monthly Prices'!A401","v":"1992M11"},"1992-10-01",394,false,true,false,{"$error":"#N/A"},{"$f":"INDEX('Monthly Prices'!B401:CB401,$G$4)","v":2.2400000000000002},{"$f":"IF(H413,INDEX('Monthly Prices'!B401:CB401,$G$4)*U413,FALSE)","v":false},true,{"$f":"INDEX('Monthly Prices'!B401:CB401,$G$5)","v":2.64},{"$f":"IF(H413,INDEX('Monthly Prices'!B401:CB401,$G$5)*U413,FALSE)","v":false},true,1992,{"$f":"'Monthly Prices'!B401","v":18.88333333333},19.006944444444169,{"$f":"_xlfn.XLOOKUP(P413,'Annual Real'!A:A,'Annual Real'!B:B,0,0)","v":22.794962095071899},2.2573298706758869,2.2573298706758869,false,false,3.2023290000000003E-2,2.6302225347241137E-3,4.7900566844648722,7,"1992-10-01",2.2573298706758869]
[null,null,{"$f":"'Monthly Prices'!A402","v":"1992M12"},"1992-11-01",395,false,true,false,{"$error":"#N/A"},{"$f":"INDEX('Monthly Prices'!B402:CB402,$G$4)","v":2.16},{"$f":"IF(H414,INDEX('Monthly Prices'!B402:CB402,$G$4)*U414,FALSE)","v":false},true,{"$f":"INDEX('Monthly Prices'!B402:CB402,$G$5)","v":2.64},{"$f":"IF(H414,INDEX('Monthly Prices'!B402:CB402,$G$5)*U414,FALSE)","v":false},true,1992,{"$f":"'Monthly Prices'!B402","v":17.933333333330001},19.006944444444169,{"$f":"_xlfn.XLOOKUP(P414,'Annual Real'!A:A,'Annual Real'!B:B,0,0)","v":22.794962095071899},2.2516891482851387,2.2516891482851387,false,false,3.0478950000000001E-2,2.505107063754286E-3,4.8020562893009089,7,"1992-11-01",2.2516891482851387]
[null,null,{"$f":"'Monthly Prices'!A403","v":"1993M01"},"1992-12-01",396,false,true,false,{"$error":"#N/A"},{"$f":"INDEX('Monthly Prices'!B403:CB403,$G$4)","v":1.88},{"$f":"IF(H415,INDEX('Monthly Prices'!B403:CB403,$G$4)*U415,FALSE)","v":false},true,{"$f":"INDEX('Monthly Prices'!B403:CB403,$G$5)","v":2.76},{"$f":"IF(H415,INDEX('Monthly Prices'!B403:CB403,$G$5)*U415,FALSE)","v":false},true,1992,{"$f":"'Monthly Prices'!B403","v":17.216666666670001},19.006944444444169,{"$f":"_xlfn.XLOOKUP(P415,'Annual Real'!A:A,'Annual Real'!B:B,0,0)","v":22.794962095071899},2.2463301725938236,2.2463301725938236,false,false,2.9006529999999899E-2,2.3856580642938052E-3,4.8135123536126727,7,"1992-12-01",2.2463301725938236]
[null,null,{"$f":"'Monthly Prices'!A404","v":"1993M02"},"1993-01-01",397,false,true,false,{"$error":"#N/A"},{"$f":"INDEX('Monthly Prices'!B404:CB404,$G$4)","v":1.69},{"$f":"IF(H416,INDEX('Monthly Prices'!B404:CB404,$G$4)*U416,FALSE)","v":false},true,{"$f":"INDEX('Monthly Prices'!B404:CB404,$G$5)","v":2.74},{"$f":"IF(H416,INDEX('Monthly Prices'!B404:CB404,$G$5)*U416,FALSE)","v":false},true,1993,{"$f":"'Monthly Prices'!B404","v":18.16666666667},16.584722222223331,{"$f":"_xlfn.XLOOKUP(P416,'Annual Real'!A:A,'Annual Real'!B:B,0,0)","v":19.510145387289},2.240335720505835,2.240335720505835,false,false,3.2585080000000002E-2,2.675693661946088E-3,4.8263918381089335,7,"1993-01-01",2.240335720505835]
[null,null,{"$f":"'Monthly Prices'!A405","v":"1993M03"},"1993-02-01",398,false,true,false,{"$error":"#N/A"},{"$f":"INDEX('Monthly Prices'!B405:CB405,$G$4)","v":2.1800000000000002},{"$f":"IF(H417,INDEX('Monthly Prices'!B405:CB405,$G$4)*U417,FALSE)","v":false},true,{"$f":"INDEX('Monthly Prices'!B405:CB405,$G$5)","v":2.75},{"$f":"IF(H417,INDEX('Monthly Prices'!B405:CB405,$G$5)*U417,FALSE)","v":false},true,1993,{"$f":"'Monthly Prices'!B405","v":18.466666666670001},16.584722222223331,{"$f":"_xlfn.XLOOKUP(P417,'Annual Real'!A:A,'Annual Real'!B:B,0,0)","v":19.510145387289},2.234378462936057,2.234378462936057,false,false,3.2467530000000001E-2,2.6661810738854985E-3,4.8392598726828551,7,"1993-02-01",2.234378462936057]
[null,null,{"$f":"'Monthly Prices'!A406","v":"1993M04"},"1993-03-01",399,false,true,false,{"$error":"#N/A"},{"$f":"INDEX('Monthly Prices'!B406:CB406,$G$4)","v":2.35},{"$f":"IF(H418,INDEX('Monthly Prices'!B406:CB406,$G$4)*U418,FALSE)","v":false},true,{"$f":"INDEX('Monthly Prices'!B406:CB406,$G$5)","v":2.68},{"$f":"IF(H418,INDEX('Monthly Prices'!B406:CB406,$G$5)*U418,FALSE)","v":false},true,1993,{"$f":"'Monthly Prices'!B406","v":18.433333333330001},16.584722222223331,{"$f":"_xlfn.XLOOKUP(P418,'Annual Real'!A:A,'Annual Real'!B:B,0,0)","v":19.510145387289},2.2287248712930436,2.2287248712930436,false,false,3.0868630000000001E-2,2.5366933872521535E-3,4.8515355912010847,7,"1993-03-01",2.2287248712930436]
[null,null,{"$f":"'Monthly Prices'!A407","v":"1993M05"},"1993-04-01",400,false,true,false,{"$error":"#N/A"},{"$f":"INDEX('Monthly Prices'!B407:CB407,$G$4)","v":2.17},{"$f":"IF(H419,INDEX('Monthly Prices'!B407:CB407,$G$4)*U419,FALSE)","v":false},true,{"$f":"INDEX('Monthly Prices'!B407:CB407,$G$5)","v":2.68},{"$f":"IF(H419,INDEX('Monthly Prices'!B407:CB407,$G$5)*U419,FALSE)","v":false},true,1993,{"$f":"'Monthly Prices'!B407","v":18.16666666667},16.584722222223331,{"$f":"_xlfn.XLOOKUP(P419,'Annual Real'!A:A,'Annual Real'!B:B,0,0)","v":19.510145387289},2.2228360728127807,2.2228360728127807,false,false,3.2258059999999998E-2,2.6492275126752673E-3,4.8643884127680179,7,"1993-04-01",2.2228360728127807]
[null,null,{"$f":"'Monthly Prices'!A408","v":"1993M06"},"1993-05-01",401,false,true,false,{"$error":"#N/A"},{"$f":"INDEX('Monthly Prices'!B408:CB408,$G$4)","v":1.97},{"$f":"IF(H420,INDEX('Monthly Prices'!B408:CB408,$G$4)*U420,FALSE)","v":false},true,{"$f":"INDEX('Monthly Prices'!B408:CB408,$G$5)","v":2.68},{"$f":"IF(H420,INDEX('Monthly Prices'!B408:CB408,$G$5)*U420,FALSE)","v":false},true,1993,{"$f":"'Monthly Prices'!B408","v":17.466666666670001},16.584722222223331,{"$f":"_xlfn.XLOOKUP(P420,'Annual Real'!A:A,'Annual Real'!B:B,0,0)","v":19.510145387289},2.2169710990781129,2.2169710990781129,false,false,3.2211879999999998E-2,2.6454894865823864E-3,4.8772571011726491,7,"1993-05-01",2.2169710990781129]
[null,null,{"$f":"'Monthly Prices'!A409","v":"1993M07"},"1993-06-01",402,false,true,false,{"$error":"#N/A"},{"$f":"INDEX('Monthly Prices'!B409:CB409,$G$4)","v":2.06},{"$f":"IF(H421,INDEX('Monthly Prices'!B409:CB409,$G$4)*U421,FALSE)","v":false},true,{"$f":"INDEX('Monthly Prices'!B409:CB409,$G$5)","v":2.66},{"$f":"IF(H421,INDEX('Monthly Prices'!B409:CB409,$G$5)*U421,FALSE)","v":false},true,1993,{"$f":"'Monthly Prices'!B409","v":16.316666666669999},16.584722222223331,{"$f":"_xlfn.XLOOKUP(P421,'Annual Real'!A:A,'Annual Real'!B:B,0,0)","v":19.510145387289},2.2115245599681668,2.2115245599681668,false,false,2.99572E-2,2.4627983828604538E-3,4.8892688020742119,7,"1993-06-01",2.2115245599681668]
[null,null,{"$f":"'Monthly Prices'!A410","v":"1993M08"},"1993-07-01",403,false,true,false,{"$error":"#N/A"},{"$f":"INDEX('Monthly Prices'!B410:CB410,$G$4)","v":2.2599999999999998},{"$f":"IF(H422,INDEX('Monthly Prices'!B410:CB410,$G$4)*U422,FALSE)","v":false},true,{"$f":"INDEX('Monthly Prices'!B410:CB410,$G$5)","v":2.65},{"$f":"IF(H422,INDEX('Monthly Prices'!B410:CB410,$G$5)*U422,FALSE)","v":false},true,1993,{"$f":"'Monthly Prices'!B410","v":16.483333333329998},16.584722222223331,{"$f":"_xlfn.XLOOKUP(P422,'Annual Real'!A:A,'Annual Real'!B:B,0,0)","v":19.510145387289},2.2064843980400854,2.2064843980400854,false,false,2.775801E-2,2.2842499736495103E-3,4.9004371142065155,7,"1993-07-01",2.2064843980400854]
[null,null,{"$f":"'Monthly Prices'!A411","v":"1993M09"},"1993-08-01",404,false,true,false,{"$error":"#N/A"},{"$f":"INDEX('Monthly Prices'!B411:CB411,$G$4)","v":2.27},{"$f":"IF(H423,INDEX('Monthly Prices'!B411:CB411,$G$4)*U423,FALSE)","v":false},true,{"$f":"INDEX('Monthly Prices'!B411:CB411,$G$5)","v":2.62},{"$f":"IF(H423,INDEX('Monthly Prices'!B411:CB411,$G$5)*U423,FALSE)","v":false},true,1993,{"$f":"'Monthly Prices'!B411","v":15.9},16.584722222223331,{"$f":"_xlfn.XLOOKUP(P423,'Annual Real'!A:A,'Annual Real'!B:B,0,0)","v":19.510145387289},2.2014697910201217,2.2014697910201217,false,false,2.7679200000000001E-2,2.2778450289977492E-3,4.9115995505270265,7,"1993-08-01",2.2014697910201217]
[null,null,{"$f":"'Monthly Prices'!A412","v":"1993M10"},"1993-09-01",405,false,true,false,{"$error":"#N/A"},{"$f":"INDEX('Monthly Prices'!B412:CB412,$G$4)","v":2.02},{"$f":"IF(H424,INDEX('Monthly Prices'!B412:CB412,$G$4)*U424,FALSE)","v":false},true,{"$f":"INDEX('Monthly Prices'!B412:CB412,$G$5)","v":2.62},{"$f":"IF(H424,INDEX('Monthly Prices'!B412:CB412,$G$5)*U424,FALSE)","v":false},true,1993,{"$f":"'Monthly Prices'!B412","v":16.516666666670002},16.584722222223331,{"$f":"_xlfn.XLOOKUP(P424,'Annual Real'!A:A,'Annual Real'!B:B,0,0)","v":19.510145387289},2.1966066446928787,2.1966066446928787,false,false,2.6893129999999998E-2,2.2139359083670485E-3,4.9224735171394576,7,"1993-09-01",2.1966066446928787]
[null,null,{"$f":"'Monthly Prices'!A413","v":"1993M11"},"1993-10-01",406,false,true,false,{"$error":"#N/A"},{"$f":"INDEX('Monthly Prices'!B413:CB413,$G$4)","v":2.2599999999999998},{"$f":"IF(H425,INDEX('Monthly Prices'!B413:CB413,$G$4)*U425,FALSE)","v":false},true,{"$f":"INDEX('Monthly Prices'!B413:CB413,$G$5)","v":2.62},{"$f":"IF(H425,INDEX('Monthly Prices'!B413:CB413,$G$5)*U425,FALSE)","v":false},true,1993,{"$f":"'Monthly Prices'!B413","v":15.2},16.584722222223331,{"$f":"_xlfn.XLOOKUP(P425,'Annual Real'!A:A,'Annual Real'!B:B,0,0)","v":19.510145387289},2.1916457087051553,2.1916457087051553,false,false,2.7503530000000002E-2,2.2635665828736329E-3,4.933615863697935,7,"1993-10-01",2.1916457087051553]
[null,null,{"$f":"'Monthly Prices'!A414","v":"1993M12"},"1993-11-01",407,false,true,false,{"$error":"#N/A"},{"$f":"INDEX('Monthly Prices'!B414:CB414,$G$4)","v":2.34},{"$f":"IF(H426,INDEX('Monthly Prices'!B414:CB414,$G$4)*U426,FALSE)","v":false},true,{"$f":"INDEX('Monthly Prices'!B414:CB414,$G$5)","v":2.6},{"$f":"IF(H426,INDEX('Monthly Prices'!B414:CB414,$G$5)*U426,FALSE)","v":false},true,1993,{"$f":"'Monthly Prices'!B414","v":13.76666666667},16.584722222223331,{"$f":"_xlfn.XLOOKUP(P426,'Annual Real'!A:A,'Annual Real'!B:B,0,0)","v":19.510145387289},2.1868277918967935,2.1868277918967935,false,false,2.6760559999999999E-2,2.203153273528935E-3,4.9444853756383758,7,"1993-11-01",2.1868277918967935]
[null,null,{"$f":"'Monthly Prices'!A415","v":"1994M01"},"1993-12-01",408,false,true,false,{"$error":"#N/A"},{"$f":"INDEX('Monthly Prices'!B415:CB415,$G$4)","v":2.34},{"$f":"IF(H427,INDEX('Monthly Prices'!B415:CB415,$G$4)*U427,FALSE)","v":false},true,{"$f":"INDEX('Monthly Prices'!B415:CB415,$G$5)","v":2.4700000000000002},{"$f":"IF(H427,INDEX('Monthly Prices'!B415:CB415,$G$5)*U427,FALSE)","v":false},true,1993,{"$f":"'Monthly Prices'!B415","v":14.13333333333},16.584722222223331,{"$f":"_xlfn.XLOOKUP(P427,'Annual Real'!A:A,'Annual Real'!B:B,0,0)","v":19.510145387289},2.1818923722362742,2.1818923722362742,false,false,2.7484140000000001E-2,2.2619904278142755E-3,4.9556697542285377,7,"1993-12-01",2.1818923722362742]
[null,null,{"$f":"'Monthly Prices'!A416","v":"1994M02"},"1994-01-01",409,false,true,false,{"$error":"#N/A"},{"$f":"INDEX('Monthly Prices'!B416:CB416,$G$4)","v":2.71},{"$f":"IF(H428,INDEX('Monthly Prices'!B416:CB416,$G$4)*U428,FALSE)","v":false},true,{"$f":"INDEX('Monthly Prices'!B416:CB416,$G$5)","v":2.36},{"$f":"IF(H428,INDEX('Monthly Prices'!B416:CB416,$G$5)*U428,FALSE)","v":false},true,1994,{"$f":"'Monthly Prices'!B416","v":13.783333333330001},16.117222222221667,{"$f":"_xlfn.XLOOKUP(P428,'Annual Real'!A:A,'Annual Real'!B:B,0,0)","v":18.973704773054401},2.1773638263909572,2.1773638263909572,false,false,2.52454399999999E-2,2.0798296501614022E-3,4.9659767031197903,7,"1994-01-01",2.1773638263909572]
[null,null,{"$f":"'Monthly Prices'!A417","v":"1994M03"},"1994-02-01",410,false,true,false,{"$error":"#N/A"},{"$f":"INDEX('Monthly Prices'!B417:CB417,$G$4)","v":2.21},{"$f":"IF(H429,INDEX('Monthly Prices'!B417:CB417,$G$4)*U429,FALSE)","v":false},true,{"$f":"INDEX('Monthly Prices'!B417:CB417,$G$5)","v":2.36},{"$f":"IF(H429,INDEX('Monthly Prices'!B417:CB417,$G$5)*U429,FALSE)","v":false},true,1994,{"$f":"'Monthly Prices'!B417","v":13.61666666667},16.117222222221667,{"$f":"_xlfn.XLOOKUP(P429,'Annual Real'!A:A,'Annual Real'!B:B,0,0)","v":18.973704773054401},2.1728602592495592,2.1728602592495592,false,false,2.5157229999999999E-2,2.0726446269276888E-3,4.9762694080509595,7,"1994-02-01",2.1728602592495592]
[null,null,{"$f":"'Monthly Prices'!A418","v":"1994M04"},"1994-03-01",411,false,true,false,{"$error":"#N/A"},{"$f":"INDEX('Monthly Prices'!B418:CB418,$G$4)","v":2.04},{"$f":"IF(H430,INDEX('Monthly Prices'!B418:CB418,$G$4)*U430,FALSE)","v":false},true,{"$f":"INDEX('Monthly Prices'!B418:CB418,$G$5)","v":2.36},{"$f":"IF(H430,INDEX('Monthly Prices'!B418:CB418,$G$5)*U430,FALSE)","v":false},true,1994,{"$f":"'Monthly Prices'!B418","v":15.08333333333},16.117222222221667,{"$f":"_xlfn.XLOOKUP(P430,'Annual Real'!A:A,'Annual Real'!B:B,0,0)","v":18.973704773054401},2.1683814466760798,2.1683814466760798,false,false,2.5069640000000001E-2,2.0655095441555194E-3,4.9865479400075783,7,"1994-03-01",2.1683814466760798]
[null,null,{"$f":"'Monthly Prices'!A419","v":"1994M05"},"1994-04-01",412,false,true,false,{"$error":"#N/A"},{"$f":"INDEX('Monthly Prices'!B419:CB419,$G$4)","v":1.92},{"$f":"IF(H431,INDEX('Monthly Prices'!B419:CB419,$G$4)*U431,FALSE)","v":false},true,{"$f":"INDEX('Monthly Prices'!B419:CB419,$G$5)","v":2.36},{"$f":"IF(H431,INDEX('Monthly Prices'!B419:CB419,$G$5)*U431,FALSE)","v":false},true,1994,{"$f":"'Monthly Prices'!B419","v":16.283333333329999},16.117222222221667,{"$f":"_xlfn.XLOOKUP(P431,'Annual Real'!A:A,'Annual Real'!B:B,0,0)","v":18.973704773054401},2.1641686425417261,2.1641686425417261,false,false,2.3611110000000001E-2,1.9466154584910633E-3,4.996254831312104,7,"1994-04-01",2.1641686425417261]
[null,null,{"$f":"'Monthly Prices'!A420","v":"1994M06"},"1994-05-01",413,false,true,false,{"$error":"#N/A"},{"$f":"INDEX('Monthly Prices'!B420:CB420,$G$4)","v":1.9},{"$f":"IF(H432,INDEX('Monthly Prices'!B420:CB420,$G$4)*U432,FALSE)","v":false},true,{"$f":"INDEX('Monthly Prices'!B420:CB420,$G$5)","v":2.36},{"$f":"IF(H432,INDEX('Monthly Prices'!B420:CB420,$G$5)*U432,FALSE)","v":false},true,1994,{"$f":"'Monthly Prices'!B420","v":17.16666666667},16.117222222221667,{"$f":"_xlfn.XLOOKUP(P432,'Annual Real'!A:A,'Annual Real'!B:B,0,0)","v":18.973704773054401},2.1600917762751153,2.1600917762751153,false,false,2.288488E-2,1.8873578944138547E-3,5.005684552310484,7,"1994-05-01",2.1600917762751153]
[null,null,{"$f":"'Monthly Prices'!A421","v":"1994M07"},"1994-06-01",414,false,true,false,{"$error":"#N/A"},{"$f":"INDEX('Monthly Prices'!B421:CB421,$G$4)","v":1.96},{"$f":"IF(H433,INDEX('Monthly Prices'!B421:CB421,$G$4)*U433,FALSE)","v":false},true,{"$f":"INDEX('Monthly Prices'!B421:CB421,$G$5)","v":2.42},{"$f":"IF(H433,INDEX('Monthly Prices'!B421:CB421,$G$5)*U433,FALSE)","v":false},true,1994,{"$f":"'Monthly Prices'!B421","v":17.88333333333},16.117222222221667,{"$f":"_xlfn.XLOOKUP(P433,'Annual Real'!A:A,'Annual Real'!B:B,0,0)","v":18.973704773054401},2.1556636240940201,2.1556636240940201,false,false,2.4930750000000002E-2,2.0541944167917769E-3,5.0159672015700609,7,"1994-06-01",2.1556636240940201]
[null,null,{"$f":"'Monthly Prices'!A422","v":"1994M08"},"1994-07-01",415,false,true,false,{"$error":"#N/A"},{"$f":"INDEX('Monthly Prices'!B422:CB422,$G$4)","v":1.66},{"$f":"IF(H434,INDEX('Monthly Prices'!B422:CB422,$G$4)*U434,FALSE)","v":false},true,{"$f":"INDEX('Monthly Prices'!B422:CB422,$G$5)","v":2.46},{"$f":"IF(H434,INDEX('Monthly Prices'!B422:CB422,$G$5)*U434,FALSE)","v":false},true,1994,{"$f":"'Monthly Prices'!B422","v":17},16.117222222221667,{"$f":"_xlfn.XLOOKUP(P434,'Annual Real'!A:A,'Annual Real'!B:B,0,0)","v":18.973704773054401},2.1507607435383425,2.1507607435383425,false,false,2.7700829999999999E-2,2.2796029592819789E-3,5.0274016152464212,7,"1994-07-01",2.1507607435383425]
[null,null,{"$f":"'Monthly Prices'!A423","v":"1994M09"},"1994-08-01",416,false,true,false,{"$error":"#N/A"},{"$f":"INDEX('Monthly Prices'!B423:CB423,$G$4)","v":1.49},{"$f":"IF(H435,INDEX('Monthly Prices'!B423:CB423,$G$4)*U435,FALSE)","v":false},true,{"$f":"INDEX('Monthly Prices'!B423:CB423,$G$5)","v":2.48},{"$f":"IF(H435,INDEX('Monthly Prices'!B423:CB423,$G$5)*U435,FALSE)","v":false},true,1994,{"$f":"'Monthly Prices'!B423","v":16.2},16.117222222221667,{"$f":"_xlfn.XLOOKUP(P435,'Annual Real'!A:A,'Annual Real'!B:B,0,0)","v":18.973704773054401},2.1456421492198285,2.1456421492198285,false,false,2.9005529999999998E-2,2.3855768867959704E-3,5.039394868340394,7,"1994-08-01",2.1456421492198285]
[null,null,{"$f":"'Monthly Prices'!A424","v":"1994M10"},"1994-09-01",417,false,true,false,{"$error":"#N/A"},{"$f":"INDEX('Monthly Prices'!B424:CB424,$G$4)","v":1.51},{"$f":"IF(H436,INDEX('Monthly Prices'!B424:CB424,$G$4)*U436,FALSE)","v":false},true,{"$f":"INDEX('Monthly Prices'!B424:CB424,$G$5)","v":2.56},{"$f":"IF(H436,INDEX('Monthly Prices'!B424:CB424,$G$5)*U436,FALSE)","v":false},true,1994,{"$f":"'Monthly Prices'!B424","v":16.466666666670001},16.117222222221667,{"$f":"_xlfn.XLOOKUP(P436,'Annual Real'!A:A,'Annual Real'!B:B,0,0)","v":18.973704773054401},2.1404266992789172,2.1404266992789172,false,false,2.9634740000000003E-2,2.4366402935771525E-3,5.0516740609318385,7,"1994-09-01",2.1404266992789172]
[null,null,{"$f":"'Monthly Prices'!A425","v":"1994M11"},"1994-10-01",418,false,true,false,{"$error":"#N/A"},{"$f":"INDEX('Monthly Prices'!B425:CB425,$G$4)","v":1.58},{"$f":"IF(H437,INDEX('Monthly Prices'!B425:CB425,$G$4)*U437,FALSE)","v":false},true,{"$f":"INDEX('Monthly Prices'!B425:CB425,$G$5)","v":2.57},{"$f":"IF(H437,INDEX('Monthly Prices'!B425:CB425,$G$5)*U437,FALSE)","v":false},true,1994,{"$f":"'Monthly Prices'!B425","v":17.08333333333},16.117222222221667,{"$f":"_xlfn.XLOOKUP(P437,'Annual Real'!A:A,'Annual Real'!B:B,0,0)","v":18.973704773054401},2.1358392153943111,2.1358392153943111,false,false,2.6080990000000002E-2,2.147860125210288E-3,5.0625243502128727,7,"1994-10-01",2.1358392153943111]
[null,null,{"$f":"'Monthly Prices'!A426","v":"1994M12"},"1994-11-01",419,false,true,false,{"$error":"#N/A"},{"$f":"INDEX('Monthly Prices'!B426:CB426,$G$4)","v":1.72},{"$f":"IF(H438,INDEX('Monthly Prices'!B426:CB426,$G$4)*U438,FALSE)","v":false},true,{"$f":"INDEX('Monthly Prices'!B426:CB426,$G$5)","v":2.56},{"$f":"IF(H438,INDEX('Monthly Prices'!B426:CB426,$G$5)*U438,FALSE)","v":false},true,1994,{"$f":"'Monthly Prices'!B426","v":15.94},16.117222222221667,{"$f":"_xlfn.XLOOKUP(P438,'Annual Real'!A:A,'Annual Real'!B:B,0,0)","v":18.973704773054401},2.1311459832572806,2.1311459832572806,false,false,2.674897E-2,2.2022105355061772E-3,5.0736730946731683,7,"1994-11-01",2.1311459832572806]
[null,null,{"$f":"'Monthly Prices'!A427","v":"1995M01"},"1994-12-01",420,false,true,false,{"$error":"#N/A"},{"$f":"INDEX('Monthly Prices'!B427:CB427,$G$4)","v":1.51},{"$f":"IF(H439,INDEX('Monthly Prices'!B427:CB427,$G$4)*U439,FALSE)","v":false},true,{"$f":"INDEX('Monthly Prices'!B427:CB427,$G$5)","v":2.66},{"$f":"IF(H439,INDEX('Monthly Prices'!B427:CB427,$G$5)*U439,FALSE)","v":false},true,1994,{"$f":"'Monthly Prices'!B427","v":16.899999999999999},16.117222222221667,{"$f":"_xlfn.XLOOKUP(P439,'Annual Real'!A:A,'Annual Real'!B:B,0,0)","v":18.973704773054401},2.1264630638946072,2.1264630638946072,false,false,2.674897E-2,2.2022105355061772E-3,5.0848463910159714,7,"1994-12-01",2.1264630638946072]
[null,null,{"$f":"'Monthly Prices'!A428","v":"1995M02"},"1995-01-01",421,false,true,false,{"$error":"#N/A"},{"$f":"INDEX('Monthly Prices'!B428:CB428,$G$4)","v":1.58},{"$f":"IF(H440,INDEX('Monthly Prices'!B428:CB428,$G$4)*U440,FALSE)","v":false},true,{"$f":"INDEX('Monthly Prices'!B428:CB428,$G$5)","v":2.66},{"$f":"IF(H440,INDEX('Monthly Prices'!B428:CB428,$G$5)*U440,FALSE)","v":false},true,1995,{"$f":"'Monthly Prices'!B428","v":17.41666666667},17.258333333333333,{"$f":"_xlfn.XLOOKUP(P440,'Annual Real'!A:A,'Annual Real'!B:B,0,0)","v":18.693784194409002},2.1215676083144408,2.1215676083144408,false,false,2.8043779999999997E-2,2.3074709290342721E-3,5.0965795262418458,7,"1995-01-01",2.1215676083144408]
[null,null,{"$f":"'Monthly Prices'!A429","v":"1995M03"},"1995-02-01",422,false,true,false,{"$error":"#N/A"},{"$f":"INDEX('Monthly Prices'!B429:CB429,$G$4)","v":1.54},{"$f":"IF(H441,INDEX('Monthly Prices'!B429:CB429,$G$4)*U441,FALSE)","v":false},true,{"$f":"INDEX('Monthly Prices'!B429:CB429,$G$5)","v":2.65},{"$f":"IF(H441,INDEX('Monthly Prices'!B429:CB429,$G$5)*U441,FALSE)","v":false},true,1995,{"$f":"'Monthly Prices'!B429","v":17.34666666667},17.258333333333333,{"$f":"_xlfn.XLOOKUP(P441,'Annual Real'!A:A,'Annual Real'!B:B,0,0)","v":18.693784194409002},2.1165828951201728,2.1165828951201728,false,false,2.8629859999999997E-2,2.3550758185564291E-3,5.1085823574414482,7,"1995-02-01",2.1165828951201728]
[null,null,{"$f":"'Monthly Prices'!A430","v":"1995M04"},"1995-03-01",423,false,true,false,{"$error":"#N/A"},{"$f":"INDEX('Monthly Prices'!B430:CB430,$G$4)","v":1.62},{"$f":"IF(H442,INDEX('Monthly Prices'!B430:CB430,$G$4)*U442,FALSE)","v":false},true,{"$f":"INDEX('Monthly Prices'!B430:CB430,$G$5)","v":2.71},{"$f":"IF(H442,INDEX('Monthly Prices'!B430:CB430,$G$5)*U442,FALSE)","v":false},true,1995,{"$f":"'Monthly Prices'!B430","v":18.646666666670001},17.258333333333333,{"$f":"_xlfn.XLOOKUP(P442,'Annual Real'!A:A,'Annual Real'!B:B,0,0)","v":18.693784194409002},2.1116265311100682,2.1116265311100682,false,false,2.853261E-2,2.3471783182695827E-3,5.1205731111879293,7,"1995-03-01",2.1116265311100682]
[null,null,{"$f":"'Monthly Prices'!A431","v":"1995M05"},"1995-04-01",424,false,true,false,{"$error":"#N/A"},{"$f":"INDEX('Monthly Prices'!B431:CB431,$G$4)","v":1.64},{"$f":"IF(H443,INDEX('Monthly Prices'!B431:CB431,$G$4)*U443,FALSE)","v":false},true,{"$f":"INDEX('Monthly Prices'!B431:CB431,$G$5)","v":2.71},{"$f":"IF(H443,INDEX('Monthly Prices'!B431:CB431,$G$5)*U443,FALSE)","v":false},true,1995,{"$f":"'Monthly Prices'!B431","v":18.42333333333},17.258333333333333,{"$f":"_xlfn.XLOOKUP(P443,'Annual Real'!A:A,'Annual Real'!B:B,0,0)","v":18.693784194409002},2.1063413449780874,2.1063413449780874,false,false,3.0529169999999998E-2,2.5091783649320298E-3,5.1334215424545748,7,"1995-04-01",2.1063413449780874]
[null,null,{"$f":"'Monthly Prices'!A432","v":"1995M06"},"1995-05-01",425,false,true,false,{"$error":"#N/A"},{"$f":"INDEX('Monthly Prices'!B432:CB432,$G$4)","v":1.62},{"$f":"IF(H444,INDEX('Monthly Prices'!B432:CB432,$G$4)*U444,FALSE)","v":false},true,{"$f":"INDEX('Monthly Prices'!B432:CB432,$G$5)","v":2.73},{"$f":"IF(H444,INDEX('Monthly Prices'!B432:CB432,$G$5)*U444,FALSE)","v":false},true,1995,{"$f":"'Monthly Prices'!B432","v":17.363333333330001},17.258333333333333,{"$f":"_xlfn.XLOOKUP(P444,'Annual Real'!A:A,'Annual Real'!B:B,0,0)","v":18.693784194409002},2.1008426860635763,2.1008426860635763,false,false,3.1864409999999996E-2,2.6173587156181899E-3,5.1468575480696606,7,"1995-05-01",2.1008426860635763]
[null,null,{"$f":"'Monthly Prices'!A433","v":"1995M07"},"1995-06-01",426,false,true,false,{"$error":"#N/A"},{"$f":"INDEX('Monthly Prices'!B433:CB433,$G$4)","v":1.44},{"$f":"IF(H445,INDEX('Monthly Prices'!B433:CB433,$G$4)*U445,FALSE)","v":false},true,{"$f":"INDEX('Monthly Prices'!B433:CB433,$G$5)","v":2.8},{"$f":"IF(H445,INDEX('Monthly Prices'!B433:CB433,$G$5)*U445,FALSE)","v":false},true,1995,{"$f":"'Monthly Prices'!B433","v":16.08333333333},17.258333333333333,{"$f":"_xlfn.XLOOKUP(P445,'Annual Real'!A:A,'Annual Real'!B:B,0,0)","v":18.693784194409002},2.0956054660541534,2.0956054660541534,false,false,3.0405399999999999E-2,2.4991440871187098E-3,5.1597202866781613,7,"1995-06-01",2.0956054660541534]
[null,null,{"$f":"'Monthly Prices'!A434","v":"1995M08"},"1995-07-01",427,false,true,false,{"$error":"#N/A"},{"$f":"INDEX('Monthly Prices'!B434:CB434,$G$4)","v":1.56},{"$f":"IF(H446,INDEX('Monthly Prices'!B434:CB434,$G$4)*U446,FALSE)","v":false},true,{"$f":"INDEX('Monthly Prices'!B434:CB434,$G$5)","v":2.8},{"$f":"IF(H446,INDEX('Monthly Prices'!B434:CB434,$G$5)*U446,FALSE)","v":false},true,1995,{"$f":"'Monthly Prices'!B434","v":16.466666666670001},17.258333333333333,{"$f":"_xlfn.XLOOKUP(P446,'Annual Real'!A:A,'Annual Real'!B:B,0,0)","v":18.693784194409002},2.0908515258652791,2.0908515258652791,false,false,2.7628029999999998E-2,2.2736861656911245E-3,5.1714518713128177,7,"1995-07-01",2.0908515258652791]
[null,null,{"$f":"'Monthly Prices'!A435","v":"1995M09"},"1995-08-01",428,false,true,false,{"$error":"#N/A"},{"$f":"INDEX('Monthly Prices'!B435:CB435,$G$4)","v":1.64},{"$f":"IF(H447,INDEX('Monthly Prices'!B435:CB435,$G$4)*U447,FALSE)","v":false},true,{"$f":"INDEX('Monthly Prices'!B435:CB435,$G$5)","v":2.78},{"$f":"IF(H447,INDEX('Monthly Prices'!B435:CB435,$G$5)*U447,FALSE)","v":false},true,1995,{"$f":"'Monthly Prices'!B435","v":16.82},17.258333333333333,{"$f":"_xlfn.XLOOKUP(P447,'Annual Real'!A:A,'Annual Real'!B:B,0,0)","v":18.693784194409002},2.0863544502931903,2.0863544502931903,false,false,2.61745E-2,2.1554705488593395E-3,5.1825987835162763,7,"1995-08-01",2.0863544502931903]
[null,null,{"$f":"'Monthly Prices'!A436","v":"1995M10"},"1995-09-01",429,false,true,false,{"$error":"#N/A"},{"$f":"INDEX('Monthly Prices'!B436:CB436,$G$4)","v":1.77},{"$f":"IF(H448,INDEX('Monthly Prices'!B436:CB436,$G$4)*U448,FALSE)","v":false},true,{"$f":"INDEX('Monthly Prices'!B436:CB436,$G$5)","v":2.75},{"$f":"IF(H448,INDEX('Monthly Prices'!B436:CB436,$G$5)*U448,FALSE)","v":false},true,1995,{"$f":"'Monthly Prices'!B436","v":16.123333333329999},17.258333333333333,{"$f":"_xlfn.XLOOKUP(P448,'Annual Real'!A:A,'Annual Real'!B:B,0,0)","v":18.693784194409002},2.0819921068204783,2.0819921068204783,false,false,2.5435070000000001E-2,2.0952737805399746E-3,5.1934577468624363,7,"1995-09-01",2.0819921068204783]
[null,null,{"$f":"'Monthly Prices'!A437","v":"1995M11"},"1995-10-01",430,false,true,false,{"$error":"#N/A"},{"$f":"INDEX('Monthly Prices'!B437:CB437,$G$4)","v":2.04},{"$f":"IF(H449,INDEX('Monthly Prices'!B437:CB437,$G$4)*U449,FALSE)","v":false},true,{"$f":"INDEX('Monthly Prices'!B437:CB437,$G$5)","v":2.75},{"$f":"IF(H449,INDEX('Monthly Prices'!B437:CB437,$G$5)*U449,FALSE)","v":false},true,1995,{"$f":"'Monthly Prices'!B437","v":16.74333333333},17.258333333333333,{"$f":"_xlfn.XLOOKUP(P449,'Annual Real'!A:A,'Annual Real'!B:B,0,0)","v":18.693784194409002},2.0771906336554484,2.0771906336554484,false,false,2.8093650000000001E-2,2.311522634097507E-3,5.2054625419935379,7,"1995-10-01",2.0771906336554484]
[null,null,{"$f":"'Monthly Prices'!A438","v":"1995M12"},"1995-11-01",431,false,true,false,{"$error":"#N/A"},{"$f":"INDEX('Monthly Prices'!B438:CB438,$G$4)","v":2.71},{"$f":"IF(H450,INDEX('Monthly Prices'!B438:CB438,$G$4)*U450,FALSE)","v":false},true,{"$f":"INDEX('Monthly Prices'!B438:CB438,$G$5)","v":2.73},{"$f":"IF(H450,INDEX('Monthly Prices'!B438:CB438,$G$5)*U450,FALSE)","v":false},true,1995,{"$f":"'Monthly Prices'!B438","v":17.86666666667},17.258333333333333,{"$f":"_xlfn.XLOOKUP(P450,'Annual Real'!A:A,'Annual Real'!B:B,0,0)","v":18.693784194409002},2.0727435442461863,2.0727435442461863,false,false,2.6052100000000002E-2,2.1455087493129632E-3,5.2166309074216057,7,"1995-11-01",2.0727435442461863]
[null,null,{"$f":"'Monthly Prices'!A439","v":"1996M01"},"1995-12-01",432,false,true,false,{"$error":"#N/A"},{"$f":"INDEX('Monthly Prices'!B439:CB439,$G$4)","v":2.93},{"$f":"IF(H451,INDEX('Monthly Prices'!B439:CB439,$G$4)*U451,FALSE)","v":false},true,{"$f":"INDEX('Monthly Prices'!B439:CB439,$G$5)","v":2.75},{"$f":"IF(H451,INDEX('Monthly Prices'!B439:CB439,$G$5)*U451,FALSE)","v":false},true,1995,{"$f":"'Monthly Prices'!B439","v":17.8},17.258333333333333,{"$f":"_xlfn.XLOOKUP(P451,'Annual Real'!A:A,'Annual Real'!B:B,0,0)","v":18.693784194409002},2.0684182276006653,2.0684182276006653,false,false,2.53841E-2,2.0911228627771283E-3,5.2275395235787849,7,"1995-12-01",2.0684182276006653]
[null,null,{"$f":"'Monthly Prices'!A440","v":"1996M02"},"1996-01-01",433,false,true,false,{"$error":"#N/A"},{"$f":"INDEX('Monthly Prices'!B440:CB440,$G$4)","v":4.4000000000000004},{"$f":"IF(H452,INDEX('Monthly Prices'!B440:CB440,$G$4)*U452,FALSE)","v":false},true,{"$f":"INDEX('Monthly Prices'!B440:CB440,$G$5)","v":2.77},{"$f":"IF(H452,INDEX('Monthly Prices'!B440:CB440,$G$5)*U452,FALSE)","v":false},true,1996,{"$f":"'Monthly Prices'!B440","v":17.696666666670001},20.872222222222501,{"$f":"_xlfn.XLOOKUP(P452,'Annual Real'!A:A,'Annual Real'!B:B,0,0)","v":22.646459037869501},2.0637844214077603,2.0637844214077603,false,false,2.7278779999999999E-2,2.2452956543514979E-3,5.2392768953540267,7,"1996-01-01",2.0637844214077603]
[null,null,{"$f":"'Monthly Prices'!A441","v":"1996M03"},"1996-02-01",434,false,true,false,{"$error":"#N/A"},{"$f":"INDEX('Monthly Prices'!B441:CB441,$G$4)","v":2.95},{"$f":"IF(H453,INDEX('Monthly Prices'!B441:CB441,$G$4)*U453,FALSE)","v":false},true,{"$f":"INDEX('Monthly Prices'!B441:CB441,$G$5)","v":2.67},{"$f":"IF(H453,INDEX('Monthly Prices'!B441:CB441,$G$5)*U453,FALSE)","v":false},true,1996,{"$f":"'Monthly Prices'!B441","v":19.399999999999999},20.872222222222501,{"$f":"_xlfn.XLOOKUP(P453,'Annual Real'!A:A,'Annual Real'!B:B,0,0)","v":22.646459037869501},2.0592898632204957,2.0592898632204957,false,false,2.6507619999999999E-2,2.1825767549963349E-3,5.2507120193188159,7,"1996-02-01",2.0592898632204957]
[null,null,{"$f":"'Monthly Prices'!A442","v":"1996M04"},"1996-03-01",435,false,true,false,{"$error":"#N/A"},{"$f":"INDEX('Monthly Prices'!B442:CB442,$G$4)","v":2.23},{"$f":"IF(H454,INDEX('Monthly Prices'!B442:CB442,$G$4)*U454,FALSE)","v":false},true,{"$f":"INDEX('Monthly Prices'!B442:CB442,$G$5)","v":3.1},{"$f":"IF(H454,INDEX('Monthly Prices'!B442:CB442,$G$5)*U454,FALSE)","v":false},true,1996,{"$f":"'Monthly Prices'!B442","v":20.66},20.872222222222501,{"$f":"_xlfn.XLOOKUP(P454,'Annual Real'!A:A,'Annual Real'!B:B,0,0)","v":22.646459037869501},2.054489473532557,2.054489473532557,false,false,2.8401580000000003E-2,2.3365365214964573E-3,5.2629804997158152,7,"1996-03-01",2.054489473532557]
[null,null,{"$f":"'Monthly Prices'!A443","v":"1996M05"},"1996-04-01",436,false,true,false,{"$error":"#N/A"},{"$f":"INDEX('Monthly Prices'!B443:CB443,$G$4)","v":2.2400000000000002},{"$f":"IF(H455,INDEX('Monthly Prices'!B443:CB443,$G$4)*U455,FALSE)","v":false},true,{"$f":"INDEX('Monthly Prices'!B443:CB443,$G$5)","v":2.81},{"$f":"IF(H455,INDEX('Monthly Prices'!B443:CB443,$G$5)*U455,FALSE)","v":false},true,1996,{"$f":"'Monthly Prices'!B443","v":19.06333333333},20.872222222222501,{"$f":"_xlfn.XLOOKUP(P455,'Annual Real'!A:A,'Annual Real'!B:B,0,0)","v":22.646459037869501},2.0496064869835724,2.0496064869835724,false,false,2.896642E-2,2.3824019781331085E-3,5.2755190348692143,7,"1996-04-01",2.0496064869835724]
[null,null,{"$f":"'Monthly Prices'!A444","v":"1996M06"},"1996-05-01",437,false,true,false,{"$error":"#N/A"},{"$f":"INDEX('Monthly Prices'!B444:CB444,$G$4)","v":2.4900000000000002},{"$f":"IF(H456,INDEX('Monthly Prices'!B444:CB444,$G$4)*U456,FALSE)","v":false},true,{"$f":"INDEX('Monthly Prices'!B444:CB444,$G$5)","v":2.81},{"$f":"IF(H456,INDEX('Monthly Prices'!B444:CB444,$G$5)*U456,FALSE)","v":false},true,1996,{"$f":"'Monthly Prices'!B444","v":18.513333333329999},20.872222222222501,{"$f":"_xlfn.XLOOKUP(P456,'Annual Real'!A:A,'Annual Real'!B:B,0,0)","v":22.646459037869501},2.0447445602856913,2.0447445602856913,false,false,2.890933E-2,2.3777672733860111E-3,5.2880629913804515,7,"1996-05-01",2.0447445602856913]
[null,null,{"$f":"'Monthly Prices'!A445","v":"1996M07"},"1996-06-01",438,false,true,false,{"$error":"#N/A"},{"$f":"INDEX('Monthly Prices'!B445:CB445,$G$4)","v":2.48},{"$f":"IF(H457,INDEX('Monthly Prices'!B445:CB445,$G$4)*U457,FALSE)","v":false},true,{"$f":"INDEX('Monthly Prices'!B445:CB445,$G$5)","v":2.78},{"$f":"IF(H457,INDEX('Monthly Prices'!B445:CB445,$G$5)*U457,FALSE)","v":false},true,1996,{"$f":"'Monthly Prices'!B445","v":19.586666666669998},20.872222222222501,{"$f":"_xlfn.XLOOKUP(P457,'Annual Real'!A:A,'Annual Real'!B:B,0,0)","v":22.646459037869501},2.0401204015459129,2.0401204015459129,false,false,2.754098E-2,2.2666107040909544E-3,5.3000489715606216,7,"1996-06-01",2.0401204015459129]
[null,null,{"$f":"'Monthly Prices'!A446","v":"1996M08"},"1996-07-01",439,false,true,false,{"$error":"#N/A"},{"$f":"INDEX('Monthly Prices'!B446:CB446,$G$4)","v":2.0299999999999998},{"$f":"IF(H458,INDEX('Monthly Prices'!B446:CB446,$G$4)*U458,FALSE)","v":false},true,{"$f":"INDEX('Monthly Prices'!B446:CB446,$G$5)","v":2.79},{"$f":"IF(H458,INDEX('Monthly Prices'!B446:CB446,$G$5)*U458,FALSE)","v":false},true,1996,{"$f":"'Monthly Prices'!B446","v":20.440000000000001},20.872222222222501,{"$f":"_xlfn.XLOOKUP(P458,'Annual Real'!A:A,'Annual Real'!B:B,0,0)","v":22.646459037869501},2.0351822896499869,2.0351822896499869,false,false,2.9508200000000002E-2,2.4263732644682623E-3,5.3129088686855885,7,"1996-07-01",2.0351822896499869]
[null,null,{"$f":"'Monthly Prices'!A447","v":"1996M09"},"1996-08-01",440,false,true,false,{"$error":"#N/A"},{"$f":"INDEX('Monthly Prices'!B447:CB447,$G$4)","v":1.84},{"$f":"IF(H459,INDEX('Monthly Prices'!B447:CB447,$G$4)*U459,FALSE)","v":false},true,{"$f":"INDEX('Monthly Prices'!B447:CB447,$G$5)","v":2.79},{"$f":"IF(H459,INDEX('Monthly Prices'!B447:CB447,$G$5)*U459,FALSE)","v":false},true,1996,{"$f":"'Monthly Prices'!B447","v":22.25666666667},20.872222222222501,{"$f":"_xlfn.XLOOKUP(P459,'Annual Real'!A:A,'Annual Real'!B:B,0,0)","v":22.646459037869501},2.0303763444334404,2.0303763444334404,false,false,2.8776980000000001E-2,2.3670218724340941E-3,5.3254846401840163,7,"1996-08-01",2.0303763444334404]
[null,null,{"$f":"'Monthly Prices'!A448","v":"1996M10"},"1996-09-01",441,false,true,false,{"$error":"#N/A"},{"$f":"INDEX('Monthly Prices'!B448:CB448,$G$4)","v":2.37},{"$f":"IF(H460,INDEX('Monthly Prices'!B448:CB448,$G$4)*U460,FALSE)","v":false},true,{"$f":"INDEX('Monthly Prices'!B448:CB448,$G$5)","v":2.94},{"$f":"IF(H460,INDEX('Monthly Prices'!B448:CB448,$G$5)*U460,FALSE)","v":false},true,1996,{"$f":"'Monthly Prices'!B448","v":23.61},20.872222222222501,{"$f":"_xlfn.XLOOKUP(P460,'Annual Real'!A:A,'Annual Real'!B:B,0,0)","v":22.646459037869501},2.0253769295056792,2.0253769295056792,false,false,3.0026109999999998E-2,2.4683874171418374E-3,5.3386299994600286,7,"1996-09-01",2.0253769295056792]
[null,null,{"$f":"'Monthly Prices'!A449","v":"1996M11"},"1996-10-01",442,false,true,false,{"$error":"#N/A"},{"$f":"INDEX('Monthly Prices'!B449:CB449,$G$4)","v":3.03},{"$f":"IF(H461,INDEX('Monthly Prices'!B449:CB449,$G$4)*U461,FALSE)","v":false},true,{"$f":"INDEX('Monthly Prices'!B449:CB449,$G$5)","v":2.96},{"$f":"IF(H461,INDEX('Monthly Prices'!B449:CB449,$G$5)*U461,FALSE)","v":false},true,1996,{"$f":"'Monthly Prices'!B449","v":22.39},20.872222222222501,{"$f":"_xlfn.XLOOKUP(P461,'Annual Real'!A:A,'Annual Real'!B:B,0,0)","v":22.646459037869501},2.0204057920644254,2.0204057920644254,false,false,2.9928430000000002E-2,2.4604648535353491E-3,5.3517655109397291,7,"1996-10-01",2.0204057920644254]
[null,null,{"$f":"'Monthly Prices'!A450","v":"1996M12"},"1996-11-01",443,false,true,false,{"$error":"#N/A"},{"$f":"INDEX('Monthly Prices'!B450:CB450,$G$4)","v":3.82},{"$f":"IF(H462,INDEX('Monthly Prices'!B450:CB450,$G$4)*U462,FALSE)","v":false},true,{"$f":"INDEX('Monthly Prices'!B450:CB450,$G$5)","v":2.96},{"$f":"IF(H462,INDEX('Monthly Prices'!B450:CB450,$G$5)*U462,FALSE)","v":false},true,1996,{"$f":"'Monthly Prices'!B450","v":23.623333333329999},20.872222222222501,{"$f":"_xlfn.XLOOKUP(P462,'Annual Real'!A:A,'Annual Real'!B:B,0,0)","v":22.646459037869501},2.0150195977738066,2.0150195977738066,false,false,3.2552080000000004E-2,2.6730232780709517E-3,5.3660709047292485,7,"1996-11-01",2.0150195977738066]
[null,null,{"$f":"'Monthly Prices'!A451","v":"1997M01"},"1996-12-01",444,false,true,false,{"$error":"#N/A"},{"$f":"INDEX('Monthly Prices'!B451:CB451,$G$4)","v":3.31},{"$f":"IF(H463,INDEX('Monthly Prices'!B451:CB451,$G$4)*U463,FALSE)","v":false},true,{"$f":"INDEX('Monthly Prices'!B451:CB451,$G$5)","v":2.89},{"$f":"IF(H463,INDEX('Monthly Prices'!B451:CB451,$G$5)*U463,FALSE)","v":false},true,1996,{"$f":"'Monthly Prices'!B451","v":23.226666666669999},20.872222222222501,{"$f":"_xlfn.XLOOKUP(P463,'Annual Real'!A:A,'Annual Real'!B:B,0,0)","v":22.646459037869501},2.0095386983697554,2.0095386983697554,false,false,3.3224759999999999E-2,2.7274415807456709E-3,5.3807065496400366,7,"1996-12-01",2.0095386983697554]
[null,null,{"$f":"'Monthly Prices'!A452","v":"1997M02"},"1997-01-01",445,false,true,false,{"$error":"#N/A"},{"$f":"INDEX('Monthly Prices'!B452:CB452,$G$4)","v":2.2200000000000002},{"$f":"IF(H464,INDEX('Monthly Prices'!B452:CB452,$G$4)*U464,FALSE)","v":false},true,{"$f":"INDEX('Monthly Prices'!B452:CB452,$G$5)","v":2.89},{"$f":"IF(H464,INDEX('Monthly Prices'!B452:CB452,$G$5)*U464,FALSE)","v":false},true,1997,{"$f":"'Monthly Prices'!B452","v":20.420000000000002},18.485487169312499,{"$f":"_xlfn.XLOOKUP(P464,'Annual Real'!A:A,'Annual Real'!B:B,0,0)","v":22.312112752439901},2.0045234158047043,2.0045234158047043,false,false,3.0440410000000001E-2,2.5019825288685738E-3,5.3941689834202045,7,"1997-01-01",2.0045234158047043]
[null,null,{"$f":"'Monthly Prices'!A453","v":"1997M03"},"1997-02-01",446,false,true,false,{"$error":"#N/A"},{"$f":"INDEX('Monthly Prices'!B453:CB453,$G$4)","v":1.89},{"$f":"IF(H465,INDEX('Monthly Prices'!B453:CB453,$G$4)*U465,FALSE)","v":false},true,{"$f":"INDEX('Monthly Prices'!B453:CB453,$G$5)","v":2.83},{"$f":"IF(H465,INDEX('Monthly Prices'!B453:CB453,$G$5)*U465,FALSE)","v":false},true,1997,{"$f":"'Monthly Prices'!B453","v":19.329999999999998},18.485487169312499,{"$f":"_xlfn.XLOOKUP(P465,'Annual Real'!A:A,'Annual Real'!B:B,0,0)","v":22.312112752439901},1.9995365383473869,1.9995365383473869,false,false,3.0342159999999996E-2,2.494016669202237E-3,5.4076221307813483,7,"1997-02-01",1.9995365383473869]
[null,null,{"$f":"'Monthly Prices'!A454","v":"1997M04"},"1997-03-01",447,false,true,false,{"$error":"#N/A"},{"$f":"INDEX('Monthly Prices'!B454:CB454,$G$4)","v":2.0310000000000001},{"$f":"IF(H466,INDEX('Monthly Prices'!B454:CB454,$G$4)*U466,FALSE)","v":false},true,{"$f":"INDEX('Monthly Prices'!B454:CB454,$G$5)","v":2.77},{"$f":"IF(H466,INDEX('Monthly Prices'!B454:CB454,$G$5)*U466,FALSE)","v":false},true,1997,{"$f":"'Monthly Prices'!B454","v":17.88},18.485487169312499,{"$f":"_xlfn.XLOOKUP(P466,'Annual Real'!A:A,'Annual Real'!B:B,0,0)","v":22.312112752439901},1.9950022837080281,1.9950022837080281,false,false,2.761721E-2,2.2728067413191333E-3,5.4199126108146949,7,"1997-03-01",1.9950022837080281]
[null,null,{"$f":"'Monthly Prices'!A455","v":"1997M05"},"1997-04-01",448,false,true,false,{"$error":"#N/A"},{"$f":"INDEX('Monthly Prices'!B455:CB455,$G$4)","v":2.2400000000000002},{"$f":"IF(H467,INDEX('Monthly Prices'!B455:CB455,$G$4)*U467,FALSE)","v":false},true,{"$f":"INDEX('Monthly Prices'!B455:CB455,$G$5)","v":2.74},{"$f":"IF(H467,INDEX('Monthly Prices'!B455:CB455,$G$5)*U467,FALSE)","v":false},true,1997,{"$f":"'Monthly Prices'!B455","v":19.367433333329998},18.485487169312499,{"$f":"_xlfn.XLOOKUP(P467,'Annual Real'!A:A,'Annual Real'!B:B,0,0)","v":22.312112752439901},1.9909091192224766,1.9909091192224766,false,false,2.4952019999999998E-2,2.055927337933916E-3,5.431055557320482,7,"1997-04-01",1.9909091192224766]
[null,null,{"$f":"'Monthly Prices'!A456","v":"1997M06"},"1997-05-01",449,{"$f":"AND(E468>=$M$4,L468)","v":false},{"$f":"AND(E468<=$M$5,O468)","v":true},{"$f":"AND(F468:G468)","v":false},{"$f":"IF(H468,D468,NA)","v":{"$error":"#N/A"}},{"$f":"INDEX('Monthly Prices'!B456:CB456,$G$4)","v":2.2000000000000002},{"$f":"IF(H468,INDEX('Monthly Prices'!B456:CB456,$G$4)*U468,FALSE)","v":false},true,{"$f":"INDEX('Monthly Prices'!B456:CB456,$G$5)","v":2.76},{"$f":"IF(H468,INDEX('Monthly Prices'!B456:CB456,$G$5)*U468,FALSE)","v":false},{"$f":"AND(ISNUMBER(M468),M468>0)","v":true},1997,{"$f":"'Monthly Prices'!B456","v":17.920000000000002},18.485487169312499,{"$f":"_xlfn.XLOOKUP(P468,'Annual Real'!A:A,'Annual Real'!B:B,0,0)","v":22.312112752439901},1.9872452665538984,1.9872452665538984,false,false,2.2349939999999999E-2,1.8436841844549079E-3,5.4410687085564096,7,"1997-05-01",1.9872452665538984]
[null,null,{"$f":"'Monthly Prices'!A457","v":"1997M07"},{"$f":"EDATE(D468,1)","v":"1997-06-01"},{"$f":"E468+1","v":450},false,true,false,{"$error":"#N/A"},{"$f":"INDEX('Monthly Prices'!B457:CB457,$G$4)","v":2.19},{"$f":"IF(H469,INDEX('Monthly Prices'!B457:CB457,$G$4)*U469,FALSE)","v":false},{"$f":"ISNUMBER(J469)","v":true},{"$f":"INDEX('Monthly Prices'!B457:CB457,$G$5)","v":2.67},{"$f":"IF(H469,INDEX('Monthly Prices'!B457:CB457,$G$5)*U469,FALSE)","v":false},true,{"$f":"YEAR(D469)","v":1997},{"$f":"'Monthly Prices'!B457","v":18.329999999999998},{"$f":"AVERAGEIF(P:P,P469,Q:Q)","v":18.485487169312499},{"$f":"_xlfn.XLOOKUP(P469,'Annual Real'!A:A,'Annual Real'!B:B,0,0)","v":22.312112752439901},{"$f":"AC469","v":1.9834873142794429},{"$f":"IF($U$19,T469,1)","v":1.9834873142794429},false,false,{"$f":"LOOKUP(D469,INDIRECT(\"'\"&$X$14&\"'!A:A\"),INDIRECT(\"'\"&$X$14&\"'!B:B\"))/100","v":2.2973840000000002E-2},{"$f":"(1+X469)^(1/12)-1","v":1.8946187592938646E-3},{"$f":"Z468*(1+Y469)","v":5.4513774594022477},{"$f":"LEN(C469)","v":7},{"$f":"IF(AA469>2,D469,0)","v":"1997-06-01"},{"$f":"$AC$17/Z469","v":1.9834873142794429}]
[null,null,{"$f":"'Monthly Prices'!A458","v":"1997M08"},"1997-07-01",451,false,true,false,{"$error":"#N/A"},{"$f":"INDEX('Monthly Prices'!B458:CB458,$G$4)","v":2.4700000000000002},{"$f":"IF(H470,INDEX('Monthly Prices'!B458:CB458,$G$4)*U470,FALSE)","v":false},true,{"$f":"INDEX('Monthly Prices'!B458:CB458,$G$5)","v":2.67},{"$f":"IF(H470,INDEX('Monthly Prices'!B458:CB458,$G$5)*U470,FALSE)","v":false},true,1997,{"$f":"'Monthly Prices'!B458","v":18.7},18.485487169312499,{"$f":"_xlfn.XLOOKUP(P470,'Annual Real'!A:A,'Annual Real'!B:B,0,0)","v":22.312112752439901},1.9798463107393682,1.9798463107393682,{"$f":"IF(AND(H469,H470),LN(K470/K469))","v":false},{"$f":"IF(AND($H469,$H470),LN(N470/N469))","v":false},2.2292990000000002E-2,1.8390334241222828E-3,5.4614027247575949,7,"1997-07-01",1.9798463107393682]
[null,null,{"$f":"'Monthly Prices'!A459","v":"1997M09"},"1997-08-01",452,false,true,false,{"$error":"#N/A"},{"$f":"INDEX('Monthly Prices'!B459:CB459,$G$4)","v":2.84},{"$f":"IF(H471,INDEX('Monthly Prices'!B459:CB459,$G$4)*U471,FALSE)","v":false},true,{"$f":"INDEX('Monthly Prices'!B459:CB459,$G$5)","v":2.7},{"$f":"IF(H471,INDEX('Monthly Prices'!B459:CB459,$G$5)*U471,FALSE)","v":false},true,1997,{"$f":"'Monthly Prices'!B459","v":18.661746031749999},18.485487169312499,{"$f":"_xlfn.XLOOKUP(P471,'Annual Real'!A:A,'Annual Real'!B:B,0,0)","v":22.312112752439901},1.976218839056409,1.976218839056409,false,false,2.2250480000000003E-2,1.8355617360126253E-3,5.4714274666241147,7,"1997-08-01",1.976218839056409]
[null,null,{"$f":"'Monthly Prices'!A460","v":"1997M10"},"1997-09-01",453,false,true,false,{"$error":"#N/A"},{"$f":"INDEX('Monthly Prices'!B460:CB460,$G$4)","v":3.04},{"$f":"IF(H472,INDEX('Monthly Prices'!B460:CB460,$G$4)*U472,FALSE)","v":false},true,{"$f":"INDEX('Monthly Prices'!B460:CB460,$G$5)","v":2.63},{"$f":"IF(H472,INDEX('Monthly Prices'!B460:CB460,$G$5)*U472,FALSE)","v":false},true,1997,{"$f":"'Monthly Prices'!B460","v":20.04},18.485487169312499,{"$f":"_xlfn.XLOOKUP(P472,'Annual Real'!A:A,'Annual Real'!B:B,0,0)","v":22.312112752439901},1.9727112981192643,1.9727112981192643,false,false,2.1546259999999998E-2,1.7780305412600228E-3,5.4811558317640614,7,"1997-09-01",1.9727112981192643]
[null,null,{"$f":"'Monthly Prices'!A461","v":"1997M11"},"1997-10-01",454,false,true,false,{"$error":"#N/A"},{"$f":"INDEX('Monthly Prices'!B461:CB461,$G$4)","v":3.02},{"$f":"IF(H473,INDEX('Monthly Prices'!B461:CB461,$G$4)*U473,FALSE)","v":false},true,{"$f":"INDEX('Monthly Prices'!B461:CB461,$G$5)","v":2.66},{"$f":"IF(H473,INDEX('Monthly Prices'!B461:CB461,$G$5)*U473,FALSE)","v":false},true,1997,{"$f":"'Monthly Prices'!B461","v":19.086666666669998},18.485487169312499,{"$f":"_xlfn.XLOOKUP(P473,'Annual Real'!A:A,'Annual Real'!B:B,0,0)","v":22.312112752439901},1.9693224351642482,1.9693224351642482,false,false,2.0846490000000002E-2,1.7208268663904125E-3,5.4905879519782337,7,"1997-10-01",1.9693224351642482]
[null,null,{"$f":"'Monthly Prices'!A462","v":"1997M12"},"1997-11-01",455,false,true,false,{"$error":"#N/A"},{"$f":"INDEX('Monthly Prices'!B462:CB462,$G$4)","v":2.33},{"$f":"IF(H474,INDEX('Monthly Prices'!B462:CB462,$G$4)*U474,FALSE)","v":false},true,{"$f":"INDEX('Monthly Prices'!B462:CB462,$G$5)","v":2.65},{"$f":"IF(H474,INDEX('Monthly Prices'!B462:CB462,$G$5)*U474,FALSE)","v":false},true,1997,{"$f":"'Monthly Prices'!B462","v":17.09},18.485487169312499,{"$f":"_xlfn.XLOOKUP(P474,'Annual Real'!A:A,'Annual Real'!B:B,0,0)","v":22.312112752439901},1.9663510301674976,1.9663510301674976,false,false,1.8284990000000001E-2,1.5111264220699638E-3,5.498884924505167,7,"1997-11-01",1.9663510301674976]
[null,null,{"$f":"'Monthly Prices'!A463","v":"1998M01"},"1997-12-01",456,false,true,false,{"$error":"#N/A"},{"$f":"INDEX('Monthly Prices'!B463:CB463,$G$4)","v":2.1},{"$f":"IF(H475,INDEX('Monthly Prices'!B463:CB463,$G$4)*U475,FALSE)","v":false},true,{"$f":"INDEX('Monthly Prices'!B463:CB463,$G$5)","v":2.65},{"$f":"IF(H475,INDEX('Monthly Prices'!B463:CB463,$G$5)*U475,FALSE)","v":false},true,1997,{"$f":"'Monthly Prices'!B463","v":15},18.485487169312499,{"$f":"_xlfn.XLOOKUP(P475,'Annual Real'!A:A,'Annual Real'!B:B,0,0)","v":22.312112752439901},1.9635868635660261,1.9635868635660261,false,false,1.7023960000000001E-2,1.4077129220815277E-3,5.5066257758704324,7,"1997-12-01",1.9635868635660261]
[null,null,{"$f":"'Monthly Prices'!A464","v":"1998M02"},"1998-01-01",457,false,true,false,{"$error":"#N/A"},{"$f":"INDEX('Monthly Prices'!B464:CB464,$G$4)","v":2.2200000000000002},{"$f":"IF(H476,INDEX('Monthly Prices'!B464:CB464,$G$4)*U476,FALSE)","v":false},true,{"$f":"INDEX('Monthly Prices'!B464:CB464,$G$5)","v":2.63},{"$f":"IF(H476,INDEX('Monthly Prices'!B464:CB464,$G$5)*U476,FALSE)","v":false},true,1998,{"$f":"'Monthly Prices'!B464","v":14.1},12.7680527777775,{"$f":"_xlfn.XLOOKUP(P476,'Annual Real'!A:A,'Annual Real'!B:B,0,0)","v":15.899104081414},1.961037295140424,1.961037295140424,false,false,1.5713390000000001E-2,1.3001121559086393E-3,5.5137850069796812,7,"1998-01-01",1.961037295140424]
[null,null,{"$f":"'Monthly Prices'!A465","v":"1998M03"},"1998-02-01",458,false,true,false,{"$error":"#N/A"},{"$f":"INDEX('Monthly Prices'!B465:CB465,$G$4)","v":2.23},{"$f":"IF(H477,INDEX('Monthly Prices'!B465:CB465,$G$4)*U477,FALSE)","v":false},true,{"$f":"INDEX('Monthly Prices'!B465:CB465,$G$5)","v":2.61},{"$f":"IF(H477,INDEX('Monthly Prices'!B465:CB465,$G$5)*U477,FALSE)","v":false},true,1998,{"$f":"'Monthly Prices'!B465","v":13.123333333330001},12.7680527777775,{"$f":"_xlfn.XLOOKUP(P477,'Annual Real'!A:A,'Annual Real'!B:B,0,0)","v":15.899104081414},1.9587004493500304,1.9587004493500304,false,false,1.441103E-2,1.193059301726862E-3,5.5203632794699802,7,"1998-02-01",1.9587004493500304]
[null,null,{"$f":"'Monthly Prices'!A466","v":"1998M04"},"1998-03-01",459,false,true,false,{"$error":"#N/A"},{"$f":"INDEX('Monthly Prices'!B466:CB466,$G$4)","v":2.42},{"$f":"IF(H478,INDEX('Monthly Prices'!B466:CB466,$G$4)*U478,FALSE)","v":false},true,{"$f":"INDEX('Monthly Prices'!B466:CB466,$G$5)","v":2.54},{"$f":"IF(H478,INDEX('Monthly Prices'!B466:CB466,$G$5)*U478,FALSE)","v":false},true,1998,{"$f":"'Monthly Prices'!B466","v":13.5},12.7680527777775,{"$f":"_xlfn.XLOOKUP(P478,'Annual Real'!A:A,'Annual Real'!B:B,0,0)","v":15.899104081414},1.9564726628355309,1.9564726628355309,false,false,1.375E-2,1.1386750026298742E-3,5.5266491791417485,7,"1998-03-01",1.9564726628355309]
[null,null,{"$f":"'Monthly Prices'!A467","v":"1998M05"},"1998-04-01",460,false,true,false,{"$error":"#N/A"},{"$f":"INDEX('Monthly Prices'!B467:CB467,$G$4)","v":2.14},{"$f":"IF(H479,INDEX('Monthly Prices'!B467:CB467,$G$4)*U479,FALSE)","v":false},true,{"$f":"INDEX('Monthly Prices'!B467:CB467,$G$5)","v":2.5099999999999998},{"$f":"IF(H479,INDEX('Monthly Prices'!B467:CB467,$G$5)*U479,FALSE)","v":false},true,1998,{"$f":"'Monthly Prices'!B467","v":14.02666666667},12.7680527777775,{"$f":"_xlfn.XLOOKUP(P479,'Annual Real'!A:A,'Annual Real'!B:B,0,0)","v":15.899104081414},1.9541499221824092,1.9541499221824092,false,false,1.435705E-2,1.1886194742558587E-3,5.5332182619834569,7,"1998-04-01",1.9541499221824092]
[null,null,{"$f":"'Monthly Prices'!A468","v":"1998M06"},"1998-05-01",461,false,true,false,{"$error":"#N/A"},{"$f":"INDEX('Monthly Prices'!B468:CB468,$G$4)","v":2.17},{"$f":"IF(H480,INDEX('Monthly Prices'!B468:CB468,$G$4)*U480,FALSE)","v":false},true,{"$f":"INDEX('Monthly Prices'!B468:CB468,$G$5)","v":2.5},{"$f":"IF(H480,INDEX('Monthly Prices'!B468:CB468,$G$5)*U480,FALSE)","v":false},true,1998,{"$f":"'Monthly Prices'!B468","v":12.478999999999999},12.7680527777775,{"$f":"_xlfn.XLOOKUP(P480,'Annual Real'!A:A,'Annual Real'!B:B,0,0)","v":15.899104081414},1.9514284124916212,1.9514284124916212,false,false,1.6864459999999998E-2,1.3946244060847324E-3,5.5409350232158125,7,"1998-05-01",1.9514284124916212]
[null,null,{"$f":"'Monthly Prices'!A469","v":"1998M07"},"1998-06-01",462,false,true,false,{"$error":"#N/A"},{"$f":"INDEX('Monthly Prices'!B469:CB469,$G$4)","v":2.17},{"$f":"IF(H481,INDEX('Monthly Prices'!B469:CB469,$G$4)*U481,FALSE)","v":false},true,{"$f":"INDEX('Monthly Prices'!B469:CB469,$G$5)","v":2.4},{"$f":"IF(H481,INDEX('Monthly Prices'!B469:CB469,$G$5)*U481,FALSE)","v":false},true,1998,{"$f":"'Monthly Prices'!B469","v":12.69966666667},12.7680527777775,{"$f":"_xlfn.XLOOKUP(P481,'Annual Real'!A:A,'Annual Real'!B:B,0,0)","v":15.899104081414},1.9487140531100149,1.9487140531100149,false,false,1.6843419999999901E-2,1.3928977303132584E-3,5.5486529790334629,7,"1998-06-01",1.9487140531100149]
[null,null,{"$f":"'Monthly Prices'!A470","v":"1998M08"},"1998-07-01",463,false,true,false,{"$error":"#N/A"},{"$f":"INDEX('Monthly Prices'!B470:CB470,$G$4)","v":1.85},{"$f":"IF(H482,INDEX('Monthly Prices'!B470:CB470,$G$4)*U482,FALSE)","v":false},true,{"$f":"INDEX('Monthly Prices'!B470:CB470,$G$5)","v":2.37},{"$f":"IF(H482,INDEX('Monthly Prices'!B470:CB470,$G$5)*U482,FALSE)","v":false},true,1998,{"$f":"'Monthly Prices'!B470","v":12.487966666669999},12.7680527777775,{"$f":"_xlfn.XLOOKUP(P482,'Annual Real'!A:A,'Annual Real'!B:B,0,0)","v":15.899104081414},1.9460068168329183,1.9460068168329183,false,false,1.6822429999999999E-2,1.3911751252251303E-3,5.5563721270364006,7,"1998-07-01",1.9460068168329183]
[null,null,{"$f":"'Monthly Prices'!A471","v":"1998M09"},"1998-08-01",464,false,true,false,{"$error":"#N/A"},{"$f":"INDEX('Monthly Prices'!B471:CB471,$G$4)","v":2.0099999999999998},{"$f":"IF(H483,INDEX('Monthly Prices'!B471:CB471,$G$4)*U483,FALSE)","v":false},true,{"$f":"INDEX('Monthly Prices'!B471:CB471,$G$5)","v":2.33},{"$f":"IF(H483,INDEX('Monthly Prices'!B471:CB471,$G$5)*U483,FALSE)","v":false},true,1998,{"$f":"'Monthly Prices'!B471","v":13.80333333333},12.7680527777775,{"$f":"_xlfn.XLOOKUP(P483,'Annual Real'!A:A,'Annual Real'!B:B,0,0)","v":15.899104081414},1.9434074209620369,1.9434074209620369,false,false,1.61691499999999E-2,1.3375455104491785E-3,5.5638040276293035,7,"1998-08-01",1.9434074209620369]
[null,null,{"$f":"'Monthly Prices'!A472","v":"1998M10"},"1998-09-01",465,false,true,false,{"$error":"#N/A"},{"$f":"INDEX('Monthly Prices'!B472:CB472,$G$4)","v":1.89},{"$f":"IF(H484,INDEX('Monthly Prices'!B472:CB472,$G$4)*U484,FALSE)","v":false},true,{"$f":"INDEX('Monthly Prices'!B472:CB472,$G$5)","v":2.17},{"$f":"IF(H484,INDEX('Monthly Prices'!B472:CB472,$G$5)*U484,FALSE)","v":false},true,1998,{"$f":"'Monthly Prices'!B472","v":13.263333333329999},12.7680527777775,{"$f":"_xlfn.XLOOKUP(P484,'Annual Real'!A:A,'Annual Real'!B:B,0,0)","v":15.899104081414},1.9410154912974737,1.9410154912974737,false,false,1.488834E-2,1.2323083845993121E-3,5.5706603499828189,7,"1998-09-01",1.9410154912974737]
[null,null,{"$f":"'Monthly Prices'!A473","v":"1998M11"},"1998-10-01",466,false,true,false,{"$error":"#N/A"},{"$f":"INDEX('Monthly Prices'!B473:CB473,$G$4)","v":2.1030000000000002},{"$f":"IF(H485,INDEX('Monthly Prices'!B473:CB473,$G$4)*U485,FALSE)","v":false},true,{"$f":"INDEX('Monthly Prices'!B473:CB473,$G$5)","v":2.15},{"$f":"IF(H485,INDEX('Monthly Prices'!B473:CB473,$G$5)*U485,FALSE)","v":false},true,1998,{"$f":"'Monthly Prices'!B473","v":11.88},12.7680527777775,{"$f":"_xlfn.XLOOKUP(P485,'Annual Real'!A:A,'Annual Real'!B:B,0,0)","v":15.899104081414},1.9386323715812754,1.9386323715812754,false,false,1.485149E-2,1.2292788210559458E-3,5.5775082447703488,7,"1998-10-01",1.9386323715812754]
[null,null,{"$f":"'Monthly Prices'!A474","v":"1998M12"},"1998-11-01",467,false,true,false,{"$error":"#N/A"},{"$f":"INDEX('Monthly Prices'!B474:CB474,$G$4)","v":1.74},{"$f":"IF(H486,INDEX('Monthly Prices'!B474:CB474,$G$4)*U486,FALSE)","v":false},true,{"$f":"INDEX('Monthly Prices'!B474:CB474,$G$5)","v":2.13},{"$f":"IF(H486,INDEX('Monthly Prices'!B474:CB474,$G$5)*U486,FALSE)","v":false},true,1998,{"$f":"'Monthly Prices'!B474","v":10.41},12.7680527777775,{"$f":"_xlfn.XLOOKUP(P486,'Annual Real'!A:A,'Annual Real'!B:B,0,0)","v":15.899104081414},1.9361523016302302,1.9361523016302302,false,false,1.547988E-2,1.2809270990494781E-3,5.584652626226247,7,"1998-11-01",1.9361523016302302]
[null,null,{"$f":"'Monthly Prices'!A475","v":"1999M01"},"1998-12-01",468,false,true,false,{"$error":"#N/A"},{"$f":"INDEX('Monthly Prices'!B475:CB475,$G$4)","v":1.86},{"$f":"IF(H487,INDEX('Monthly Prices'!B475:CB475,$G$4)*U487,FALSE)","v":false},true,{"$f":"INDEX('Monthly Prices'!B475:CB475,$G$5)","v":2.02},{"$f":"IF(H487,INDEX('Monthly Prices'!B475:CB475,$G$5)*U487,FALSE)","v":false},true,1998,{"$f":"'Monthly Prices'!B475","v":11.443333333329999},12.7680527777775,{"$f":"_xlfn.XLOOKUP(P487,'Annual Real'!A:A,'Annual Real'!B:B,0,0)","v":15.899104081414},1.933574016586703,1.933574016586703,false,false,1.6119029999999999E-2,1.3334297117202354E-3,5.5920993679676938,7,"1998-12-01",1.933574016586703]
[null,null,{"$f":"'Monthly Prices'!A476","v":"1999M02"},"1999-01-01",469,false,true,false,{"$error":"#N/A"},{"$f":"INDEX('Monthly Prices'!B476:CB476,$G$4)","v":1.77},{"$f":"IF(H488,INDEX('Monthly Prices'!B476:CB476,$G$4)*U488,FALSE)","v":false},true,{"$f":"INDEX('Monthly Prices'!B476:CB476,$G$5)","v":2.0099999999999998},{"$f":"IF(H488,INDEX('Monthly Prices'!B476:CB476,$G$5)*U488,FALSE)","v":false},true,1999,{"$f":"'Monthly Prices'!B476","v":10.75333333333},19.226944444444165,{"$f":"_xlfn.XLOOKUP(P488,'Annual Real'!A:A,'Annual Real'!B:B,0,0)","v":22.423473941765899},1.9309059352597915,1.9309059352597915,false,false,1.67079199999999E-2,1.3817769567074922E-3,5.5998264020139699,7,"1999-01-01",1.9309059352597915]
[null,null,{"$f":"'Monthly Prices'!A477","v":"1999M03"},"1999-02-01",470,false,true,false,{"$error":"#N/A"},{"$f":"INDEX('Monthly Prices'!B477:CB477,$G$4)","v":1.79},{"$f":"IF(H489,INDEX('Monthly Prices'!B477:CB477,$G$4)*U489,FALSE)","v":false},true,{"$f":"INDEX('Monthly Prices'!B477:CB477,$G$5)","v":1.95},{"$f":"IF(H489,INDEX('Monthly Prices'!B477:CB477,$G$5)*U489,FALSE)","v":false},true,1999,{"$f":"'Monthly Prices'!B477","v":13.16666666667},19.226944444444165,{"$f":"_xlfn.XLOOKUP(P489,'Annual Real'!A:A,'Annual Real'!B:B,0,0)","v":22.423473941765899},1.9283440828869352,1.9283440828869352,false,false,1.6059299999999901E-2,1.3285245074214913E-3,5.607265908626351,7,"1999-02-01",1.9283440828869352]
[null,null,{"$f":"'Monthly Prices'!A478","v":"1999M04"},"1999-03-01",471,false,true,false,{"$error":"#N/A"},{"$f":"INDEX('Monthly Prices'!B478:CB478,$G$4)","v":2.15},{"$f":"IF(H490,INDEX('Monthly Prices'!B478:CB478,$G$4)*U490,FALSE)","v":false},true,{"$f":"INDEX('Monthly Prices'!B478:CB478,$G$5)","v":1.87},{"$f":"IF(H490,INDEX('Monthly Prices'!B478:CB478,$G$5)*U490,FALSE)","v":false},true,1999,{"$f":"'Monthly Prices'!B478","v":15.86666666667},19.226944444444165,{"$f":"_xlfn.XLOOKUP(P490,'Annual Real'!A:A,'Annual Real'!B:B,0,0)","v":22.423473941765899},1.9255956890025476,1.9255956890025476,false,false,1.7262639999999999E-2,1.4272954079010969E-3,5.6152691335086136,7,"1999-03-01",1.9255956890025476]
[null,null,{"$f":"'Monthly Prices'!A479","v":"1999M05"},"1999-04-01",472,false,true,false,{"$error":"#N/A"},{"$f":"INDEX('Monthly Prices'!B479:CB479,$G$4)","v":2.25},{"$f":"IF(H491,INDEX('Monthly Prices'!B479:CB479,$G$4)*U491,FALSE)","v":false},true,{"$f":"INDEX('Monthly Prices'!B479:CB479,$G$5)","v":1.89},{"$f":"IF(H491,INDEX('Monthly Prices'!B479:CB479,$G$5)*U491,FALSE)","v":false},true,1999,{"$f":"'Monthly Prices'!B479","v":16.06333333333},19.226944444444165,{"$f":"_xlfn.XLOOKUP(P491,'Annual Real'!A:A,'Annual Real'!B:B,0,0)","v":22.423473941765899},1.9219863567245752,1.9219863567245752,false,false,2.2769230000000001E-2,1.8779177413743575E-3,5.6258141470370209,7,"1999-04-01",1.9219863567245752]
[null,null,{"$f":"'Monthly Prices'!A480","v":"1999M06"},"1999-05-01",473,false,true,false,{"$error":"#N/A"},{"$f":"INDEX('Monthly Prices'!B480:CB480,$G$4)","v":2.2999999999999998},{"$f":"IF(H492,INDEX('Monthly Prices'!B480:CB480,$G$4)*U492,FALSE)","v":false},true,{"$f":"INDEX('Monthly Prices'!B480:CB480,$G$5)","v":1.91},{"$f":"IF(H492,INDEX('Monthly Prices'!B480:CB480,$G$5)*U492,FALSE)","v":false},true,1999,{"$f":"'Monthly Prices'!B480","v":16.393333333329998},19.226944444444165,{"$f":"_xlfn.XLOOKUP(P492,'Annual Real'!A:A,'Annual Real'!B:B,0,0)","v":22.423473941765899},1.9186786763206585,1.9186786763206585,false,false,2.0884520000000004E-2,1.7239366052994587E-3,5.6355126939797096,7,"1999-05-01",1.9186786763206585]
[null,null,{"$f":"'Monthly Prices'!A481","v":"1999M07"},"1999-06-01",474,false,true,false,{"$error":"#N/A"},{"$f":"INDEX('Monthly Prices'!B481:CB481,$G$4)","v":2.31},{"$f":"IF(H493,INDEX('Monthly Prices'!B481:CB481,$G$4)*U493,FALSE)","v":false},true,{"$f":"INDEX('Monthly Prices'!B481:CB481,$G$5)","v":2},{"$f":"IF(H493,INDEX('Monthly Prices'!B481:CB481,$G$5)*U493,FALSE)","v":false},true,1999,{"$f":"'Monthly Prices'!B481","v":18.986666666670001},19.226944444444165,{"$f":"_xlfn.XLOOKUP(P493,'Annual Real'!A:A,'Annual Real'!B:B,0,0)","v":22.423473941765899},1.9155726650463889,1.9155726650463889,false,false,1.9631900000000001E-2,1.6214531199705284E-3,5.6446504136199964,7,"1999-06-01",1.9155726650463889]
[null,null,{"$f":"'Monthly Prices'!A482","v":"1999M08"},"1999-07-01",475,false,true,false,{"$error":"#N/A"},{"$f":"INDEX('Monthly Prices'!B482:CB482,$G$4)","v":2.79},{"$f":"IF(H494,INDEX('Monthly Prices'!B482:CB482,$G$4)*U494,FALSE)","v":false},true,{"$f":"INDEX('Monthly Prices'!B482:CB482,$G$5)","v":2.08},{"$f":"IF(H494,INDEX('Monthly Prices'!B482:CB482,$G$5)*U494,FALSE)","v":false},true,1999,{"$f":"'Monthly Prices'!B482","v":20.27},19.226944444444165,{"$f":"_xlfn.XLOOKUP(P494,'Annual Real'!A:A,'Annual Real'!B:B,0,0)","v":22.423473941765899},1.9121883910603545,1.9121883910603545,false,false,2.1446079999999999E-2,1.7698433908792666E-3,5.6546405608483656,7,"1999-07-01",1.9121883910603545]
[null,null,{"$f":"'Monthly Prices'!A483","v":"1999M09"},"1999-08-01",476,false,true,false,{"$error":"#N/A"},{"$f":"INDEX('Monthly Prices'!B483:CB483,$G$4)","v":2.54},{"$f":"IF(H495,INDEX('Monthly Prices'!B483:CB483,$G$4)*U495,FALSE)","v":false},true,{"$f":"INDEX('Monthly Prices'!B483:CB483,$G$5)","v":2.2000000000000002},{"$f":"IF(H495,INDEX('Monthly Prices'!B483:CB483,$G$5)*U495,FALSE)","v":false},true,1999,{"$f":"'Monthly Prices'!B483","v":22.7},19.226944444444165,{"$f":"_xlfn.XLOOKUP(P495,'Annual Real'!A:A,'Annual Real'!B:B,0,0)","v":22.423473941765899},1.9086236931358067,1.9086236931358067,false,false,2.2643819999999999E-2,1.8676798037078335E-3,5.6652016188210892,7,"1999-08-01",1.9086236931358067]
[null,null,{"$f":"'Monthly Prices'!A484","v":"1999M10"},"1999-09-01",477,false,true,false,{"$error":"#N/A"},{"$f":"INDEX('Monthly Prices'!B484:CB484,$G$4)","v":2.72},{"$f":"IF(H496,INDEX('Monthly Prices'!B484:CB484,$G$4)*U496,FALSE)","v":false},true,{"$f":"INDEX('Monthly Prices'!B484:CB484,$G$5)","v":2.4700000000000002},{"$f":"IF(H496,INDEX('Monthly Prices'!B484:CB484,$G$5)*U496,FALSE)","v":false},true,1999,{"$f":"'Monthly Prices'!B484","v":21.95},19.226944444444165,{"$f":"_xlfn.XLOOKUP(P496,'Annual Real'!A:A,'Annual Real'!B:B,0,0)","v":22.423473941765899},1.9045016837597672,1.9045016837597672,false,false,2.6283620000000001E-2,2.1643506073998342E-3,5.6774631013858272,7,"1999-09-01",1.9045016837597672]
[null,null,{"$f":"'Monthly Prices'!A485","v":"1999M11"},"1999-10-01",478,false,true,false,{"$error":"#N/A"},{"$f":"INDEX('Monthly Prices'!B485:CB485,$G$4)","v":2.36},{"$f":"IF(H497,INDEX('Monthly Prices'!B485:CB485,$G$4)*U497,FALSE)","v":false},true,{"$f":"INDEX('Monthly Prices'!B485:CB485,$G$5)","v":2.5099999999999998},{"$f":"IF(H497,INDEX('Monthly Prices'!B485:CB485,$G$5)*U497,FALSE)","v":false},true,1999,{"$f":"'Monthly Prices'!B485","v":24.163333333330002},19.226944444444165,{"$f":"_xlfn.XLOOKUP(P497,'Annual Real'!A:A,'Annual Real'!B:B,0,0)","v":22.423473941765899},1.9004925968531579,1.9004925968531579,false,false,2.5609759999999898E-2,2.1094988284866556E-3,5.6894397031469772,7,"1999-10-01",1.9004925968531579]
[null,null,{"$f":"'Monthly Prices'!A486","v":"1999M12"},"1999-11-01",479,false,true,false,{"$error":"#N/A"},{"$f":"INDEX('Monthly Prices'!B486:CB486,$G$4)","v":2.36},{"$f":"IF(H498,INDEX('Monthly Prices'!B486:CB486,$G$4)*U498,FALSE)","v":false},true,{"$f":"INDEX('Monthly Prices'!B486:CB486,$G$5)","v":2.66},{"$f":"IF(H498,INDEX('Monthly Prices'!B486:CB486,$G$5)*U498,FALSE)","v":false},true,1999,{"$f":"'Monthly Prices'!B486","v":25.1},19.226944444444165,{"$f":"_xlfn.XLOOKUP(P498,'Annual Real'!A:A,'Annual Real'!B:B,0,0)","v":22.423473941765899},1.8963980203294419,1.8963980203294419,false,false,2.6219509999999901E-2,2.1591335151280866E-3,5.7017239630923422,7,"1999-11-01",1.8963980203294419]
[null,null,{"$f":"'Monthly Prices'!A487","v":"2000M01"},"1999-12-01",480,false,true,false,{"$error":"#N/A"},{"$f":"INDEX('Monthly Prices'!B487:CB487,$G$4)","v":2.42},{"$f":"IF(H499,INDEX('Monthly Prices'!B487:CB487,$G$4)*U499,FALSE)","v":false},true,{"$f":"INDEX('Monthly Prices'!B487:CB487,$G$5)","v":3.36},{"$f":"IF(H499,INDEX('Monthly Prices'!B487:CB487,$G$5)*U499,FALSE)","v":false},true,1999,{"$f":"'Monthly Prices'!B487","v":25.31},19.226944444444165,{"$f":"_xlfn.XLOOKUP(P499,'Annual Real'!A:A,'Annual Real'!B:B,0,0)","v":22.423473941765899},1.8922160838262723,1.8922160838262723,false,false,2.684564E-2,2.2100734365988473E-3,5.7143251917659921,7,"1999-12-01",1.8922160838262723]
[null,null,{"$f":"'Monthly Prices'!A488","v":"2000M02"},"2000-01-01",481,false,true,false,{"$error":"#N/A"},{"$f":"INDEX('Monthly Prices'!B488:CB488,$G$4)","v":2.65},{"$f":"IF(H500,INDEX('Monthly Prices'!B488:CB488,$G$4)*U500,FALSE)","v":false},true,{"$f":"INDEX('Monthly Prices'!B488:CB488,$G$5)","v":3.46},{"$f":"IF(H500,INDEX('Monthly Prices'!B488:CB488,$G$5)*U500,FALSE)","v":false},true,2000,{"$f":"'Monthly Prices'!B488","v":27.220966666670002},28.283658838384998,{"$f":"_xlfn.XLOOKUP(P500,'Annual Real'!A:A,'Annual Real'!B:B,0,0)","v":35.482467945725197},1.88796014987872,1.88796014987872,false,false,2.7388919999999997E-2,2.2542498833069136E-3,5.7272067086627088,7,"2000-01-01",1.88796014987872]
[null,null,{"$f":"'Monthly Prices'!A489","v":"2000M03"},"2000-02-01",482,false,true,false,{"$error":"#N/A"},{"$f":"INDEX('Monthly Prices'!B489:CB489,$G$4)","v":2.79},{"$f":"IF(H501,INDEX('Monthly Prices'!B489:CB489,$G$4)*U501,FALSE)","v":false},true,{"$f":"INDEX('Monthly Prices'!B489:CB489,$G$5)","v":3.51},{"$f":"IF(H501,INDEX('Monthly Prices'!B489:CB489,$G$5)*U501,FALSE)","v":false},true,2000,{"$f":"'Monthly Prices'!B489","v":27.49},28.283658838384998,{"$f":"_xlfn.XLOOKUP(P501,'Annual Real'!A:A,'Annual Real'!B:B,0,0)","v":35.482467945725197},1.8829776913515819,1.8829776913515819,false,false,3.2218839999999999E-2,2.6460528714822296E-3,5.7423612004197384,7,"2000-02-01",1.8829776913515819]
[null,null,{"$f":"'Monthly Prices'!A490","v":"2000M04"},"2000-03-01",483,false,true,false,{"$error":"#N/A"},{"$f":"INDEX('Monthly Prices'!B490:CB490,$G$4)","v":3.03},{"$f":"IF(H502,INDEX('Monthly Prices'!B490:CB490,$G$4)*U502,FALSE)","v":false},true,{"$f":"INDEX('Monthly Prices'!B490:CB490,$G$5)","v":3.68},{"$f":"IF(H502,INDEX('Monthly Prices'!B490:CB490,$G$5)*U502,FALSE)","v":false},true,2000,{"$f":"'Monthly Prices'!B490","v":23.47},28.283658838384998,{"$f":"_xlfn.XLOOKUP(P502,'Annual Real'!A:A,'Annual Real'!B:B,0,0)","v":35.482467945725197},1.8771984630578098,1.8771984630578098,false,false,3.757576E-2,3.078645336390462E-3,5.7600398939492798,7,"2000-03-01",1.8771984630578098]
[null,null,{"$f":"'Monthly Prices'!A491","v":"2000M05"},"2000-04-01",484,false,true,false,{"$error":"#N/A"},{"$f":"INDEX('Monthly Prices'!B491:CB491,$G$4)","v":3.58},{"$f":"IF(H503,INDEX('Monthly Prices'!B491:CB491,$G$4)*U503,FALSE)","v":false},true,{"$f":"INDEX('Monthly Prices'!B491:CB491,$G$5)","v":3.55},{"$f":"IF(H503,INDEX('Monthly Prices'!B491:CB491,$G$5)*U503,FALSE)","v":false},true,2000,{"$f":"'Monthly Prices'!B491","v":27.18666666667},28.283658838384998,{"$f":"_xlfn.XLOOKUP(P503,'Annual Real'!A:A,'Annual Real'!B:B,0,0)","v":35.482467945725197},1.8724762935342452,1.8724762935342452,false,false,3.0685919999999901E-2,2.521884810969599E-3,5.7745660510684091,7,"2000-04-01",1.8724762935342452]
[null,null,{"$f":"'Monthly Prices'!A492","v":"2000M06"},"2000-05-01",485,false,true,false,{"$error":"#N/A"},{"$f":"INDEX('Monthly Prices'!B492:CB492,$G$4)","v":4.28},{"$f":"IF(H504,INDEX('Monthly Prices'!B492:CB492,$G$4)*U504,FALSE)","v":false},true,{"$f":"INDEX('Monthly Prices'!B492:CB492,$G$5)","v":3.6},{"$f":"IF(H504,INDEX('Monthly Prices'!B492:CB492,$G$5)*U504,FALSE)","v":false},true,2000,{"$f":"'Monthly Prices'!B492","v":29.620766666670001},28.283658838384998,{"$f":"_xlfn.XLOOKUP(P504,'Annual Real'!A:A,'Annual Real'!B:B,0,0)","v":35.482467945725197},1.867584392913987,1.867584392913987,false,false,3.1889290000000001E-2,2.61937326035655E-3,5.7896917949727404,7,"2000-05-01",1.867584392913987]
[null,null,{"$f":"'Monthly Prices'!A493","v":"2000M07"},"2000-06-01",486,false,true,false,{"$error":"#N/A"},{"$f":"INDEX('Monthly Prices'!B493:CB493,$G$4)","v":3.96},{"$f":"IF(H505,INDEX('Monthly Prices'!B493:CB493,$G$4)*U505,FALSE)","v":false},true,{"$f":"INDEX('Monthly Prices'!B493:CB493,$G$5)","v":3.96},{"$f":"IF(H505,INDEX('Monthly Prices'!B493:CB493,$G$5)*U505,FALSE)","v":false},true,2000,{"$f":"'Monthly Prices'!B493","v":28.176666666669998},28.283658838384998,{"$f":"_xlfn.XLOOKUP(P505,'Annual Real'!A:A,'Annual Real'!B:B,0,0)","v":35.482467945725197},1.8618929858886011,1.8618929858886011,false,false,3.7304449999999899E-2,3.0567852548570862E-3,5.8073896394817801,7,"2000-06-01",1.8618929858886011]
[null,null,{"$f":"'Monthly Prices'!A494","v":"2000M08"},"2000-07-01",487,false,true,false,{"$error":"#N/A"},{"$f":"INDEX('Monthly Prices'!B494:CB494,$G$4)","v":4.41},{"$f":"IF(H506,INDEX('Monthly Prices'!B494:CB494,$G$4)*U506,FALSE)","v":false},true,{"$f":"INDEX('Monthly Prices'!B494:CB494,$G$5)","v":4.01},{"$f":"IF(H506,INDEX('Monthly Prices'!B494:CB494,$G$5)*U506,FALSE)","v":false},true,2000,{"$f":"'Monthly Prices'!B494","v":29.262899999999998},28.283658838384998,{"$f":"_xlfn.XLOOKUP(P506,'Annual Real'!A:A,'Annual Real'!B:B,0,0)","v":35.482467945725197},1.8563251032862618,1.8563251032862618,false,false,3.6592680000000002E-2,2.9994113598326155E-3,5.8248083899374157,7,"2000-07-01",1.8563251032862618]
[null,null,{"$f":"'Monthly Prices'!A495","v":"2000M09"},"2000-08-01",488,false,true,false,{"$error":"#N/A"},{"$f":"INDEX('Monthly Prices'!B495:CB495,$G$4)","v":5.0599999999999996},{"$f":"IF(H507,INDEX('Monthly Prices'!B495:CB495,$G$4)*U507,FALSE)","v":false},true,{"$f":"INDEX('Monthly Prices'!B495:CB495,$G$5)","v":4.03},{"$f":"IF(H507,INDEX('Monthly Prices'!B495:CB495,$G$5)*U507,FALSE)","v":false},true,2000,{"$f":"'Monthly Prices'!B495","v":32.082833333330001},28.283658838384998,{"$f":"_xlfn.XLOOKUP(P507,'Annual Real'!A:A,'Annual Real'!B:B,0,0)","v":35.482467945725197},1.8511435453568228,1.8511435453568228,false,false,3.4111309999999902E-2,2.7991119016328447E-3,5.84111268042642,7,"2000-08-01",1.8511435453568228]
[null,null,{"$f":"'Monthly Prices'!A496","v":"2000M10"},"2000-09-01",489,false,true,false,{"$error":"#N/A"},{"$f":"INDEX('Monthly Prices'!B496:CB496,$G$4)","v":5.0199999999999996},{"$f":"IF(H508,INDEX('Monthly Prices'!B496:CB496,$G$4)*U508,FALSE)","v":false},true,{"$f":"INDEX('Monthly Prices'!B496:CB496,$G$5)","v":4.3099999999999996},{"$f":"IF(H508,INDEX('Monthly Prices'!B496:CB496,$G$5)*U508,FALSE)","v":false},true,2000,{"$f":"'Monthly Prices'!B496","v":31.40016666667},28.283658838384998,{"$f":"_xlfn.XLOOKUP(P508,'Annual Real'!A:A,'Annual Real'!B:B,0,0)","v":35.482467945725197},1.8459120445745261,1.8459120445745261,false,false,3.4544369999999998E-2,2.8341007891861114E-3,5.8576669824837415,7,"2000-09-01",1.8459120445745261]
[null,null,{"$f":"'Monthly Prices'!A497","v":"2000M11"},"2000-10-01",490,false,true,false,{"$error":"#N/A"},{"$f":"INDEX('Monthly Prices'!B497:CB497,$G$4)","v":5.55},{"$f":"IF(H509,INDEX('Monthly Prices'!B497:CB497,$G$4)*U509,FALSE)","v":false},true,{"$f":"INDEX('Monthly Prices'!B497:CB497,$G$5)","v":4.3899999999999997},{"$f":"IF(H509,INDEX('Monthly Prices'!B497:CB497,$G$5)*U509,FALSE)","v":false},true,2000,{"$f":"'Monthly Prices'!B497","v":32.331000000000003},28.283658838384998,{"$f":"_xlfn.XLOOKUP(P509,'Annual Real'!A:A,'Annual Real'!B:B,0,0)","v":35.482467945725197},1.8407044636640737,1.8407044636640737,false,false,3.4482760000000001E-2,2.8291238562470067E-3,5.8742390478858368,7,"2000-10-01",1.8407044636640737]
[null,null,{"$f":"'Monthly Prices'!A498","v":"2000M12"},"2000-11-01",491,false,true,false,{"$error":"#N/A"},{"$f":"INDEX('Monthly Prices'!B498:CB498,$G$4)","v":8.9499999999999993},{"$f":"IF(H510,INDEX('Monthly Prices'!B498:CB498,$G$4)*U510,FALSE)","v":false},true,{"$f":"INDEX('Monthly Prices'!B498:CB498,$G$5)","v":4.4400000000000004},{"$f":"IF(H510,INDEX('Monthly Prices'!B498:CB498,$G$5)*U510,FALSE)","v":false},true,2000,{"$f":"'Monthly Prices'!B498","v":25.204666666670001},28.283658838384998,{"$f":"_xlfn.XLOOKUP(P510,'Annual Real'!A:A,'Annual Real'!B:B,0,0)","v":35.482467945725197},1.8355146037787358,1.8355146037787358,false,false,3.4462269999999899E-2,2.8274685881841677E-3,5.8908482742732193,7,"2000-11-01",1.8355146037787358]
[null,null,{"$f":"'Monthly Prices'!A499","v":"2001M01"},"2000-12-01",492,false,true,false,{"$error":"#N/A"},{"$f":"INDEX('Monthly Prices'!B499:CB499,$G$4)","v":8.17},{"$f":"IF(H511,INDEX('Monthly Prices'!B499:CB499,$G$4)*U511,FALSE)","v":false},true,{"$f":"INDEX('Monthly Prices'!B499:CB499,$G$5)","v":4.6500000000000004},{"$f":"IF(H511,INDEX('Monthly Prices'!B499:CB499,$G$5)*U511,FALSE)","v":false},true,2000,{"$f":"'Monthly Prices'!B499","v":25.957272727269999},28.283658838384998,{"$f":"_xlfn.XLOOKUP(P511,'Annual Real'!A:A,'Annual Real'!B:B,0,0)","v":35.482467945725197},1.8304270139682901,1.8304270139682901,false,false,3.3868089999999899E-2,2.7794551608020246E-3,5.90722162291065,7,"2000-12-01",1.8304270139682901]
[null,null,{"$f":"'Monthly Prices'!A500","v":"2001M02"},"2001-01-01",493,false,true,false,{"$error":"#N/A"},{"$f":"INDEX('Monthly Prices'!B500:CB500,$G$4)","v":5.63},{"$f":"IF(H512,INDEX('Monthly Prices'!B500:CB500,$G$4)*U512,FALSE)","v":false},true,{"$f":"INDEX('Monthly Prices'!B500:CB500,$G$5)","v":4.59},{"$f":"IF(H512,INDEX('Monthly Prices'!B500:CB500,$G$5)*U512,FALSE)","v":false},true,2001,{"$f":"'Monthly Prices'!B500","v":27.23883333333},23.784953311170838,{"$f":"_xlfn.XLOOKUP(P512,'Annual Real'!A:A,'Annual Real'!B:B,0,0)","v":31.800493397500201},1.8248462290464698,1.8248462290464698,false,false,3.7322279999999999E-2,3.0582220205679356E-3,5.9252872181582106,7,"2001-01-01",1.8248462290464698]
[null,null,{"$f":"'Monthly Prices'!A501","v":"2001M03"},"2001-02-01",494,false,true,false,{"$error":"#N/A"},{"$f":"INDEX('Monthly Prices'!B501:CB501,$G$4)","v":5.16},{"$f":"IF(H513,INDEX('Monthly Prices'!B501:CB501,$G$4)*U513,FALSE)","v":false},true,{"$f":"INDEX('Monthly Prices'!B501:CB501,$G$5)","v":4.57},{"$f":"IF(H513,INDEX('Monthly Prices'!B501:CB501,$G$5)*U513,FALSE)","v":false},true,2001,{"$f":"'Monthly Prices'!B501","v":25.02257575758},23.784953311170838,{"$f":"_xlfn.XLOOKUP(P513,'Annual Real'!A:A,'Annual Real'!B:B,0,0)","v":31.800493397500201},1.8195731053392301,1.8195731053392301,false,false,3.5335690000000003E-2,2.8980004660250636E-3,5.9424587032777652,7,"2001-02-01",1.8195731053392301]
[null,null,{"$f":"'Monthly Prices'!A502","v":"2001M04"},"2001-03-01",495,false,true,false,{"$error":"#N/A"},{"$f":"INDEX('Monthly Prices'!B502:CB502,$G$4)","v":5.17},{"$f":"IF(H514,INDEX('Monthly Prices'!B502:CB502,$G$4)*U514,FALSE)","v":false},true,{"$f":"INDEX('Monthly Prices'!B502:CB502,$G$5)","v":4.4800000000000004},{"$f":"IF(H514,INDEX('Monthly Prices'!B502:CB502,$G$5)*U514,FALSE)","v":false},true,2001,{"$f":"'Monthly Prices'!B502","v":25.718},23.784953311170838,{"$f":"_xlfn.XLOOKUP(P514,'Annual Real'!A:A,'Annual Real'!B:B,0,0)","v":31.800493397500201},1.8152132943905008,1.8152132943905008,false,false,2.9205610000000003E-2,2.4018174405191495E-3,5.9567314042308626,7,"2001-03-01",1.8152132943905008]
[null,null,{"$f":"'Monthly Prices'!A503","v":"2001M05"},"2001-04-01",496,false,true,false,{"$error":"#N/A"},{"$f":"INDEX('Monthly Prices'!B503:CB503,$G$4)","v":4.21},{"$f":"IF(H515,INDEX('Monthly Prices'!B503:CB503,$G$4)*U515,FALSE)","v":false},true,{"$f":"INDEX('Monthly Prices'!B503:CB503,$G$5)","v":4.3600000000000003},{"$f":"IF(H515,INDEX('Monthly Prices'!B503:CB503,$G$5)*U515,FALSE)","v":false},true,2001,{"$f":"'Monthly Prices'!B503","v":27.546825396829998},23.784953311170838,{"$f":"_xlfn.XLOOKUP(P515,'Annual Real'!A:A,'Annual Real'!B:B,0,0)","v":31.800493397500201},1.8103537985663518,1.8103537985663518,false,false,3.2691190000000002E-2,2.6842796297592564E-3,5.9727209369991865,7,"2001-04-01",1.8103537985663518]
[null,null,{"$f":"'Monthly Prices'!A504","v":"2001M06"},"2001-05-01",497,false,true,false,{"$error":"#N/A"},{"$f":"INDEX('Monthly Prices'!B504:CB504,$G$4)","v":3.71},{"$f":"IF(H516,INDEX('Monthly Prices'!B504:CB504,$G$4)*U516,FALSE)","v":false},true,{"$f":"INDEX('Monthly Prices'!B504:CB504,$G$5)","v":4.33},{"$f":"IF(H516,INDEX('Monthly Prices'!B504:CB504,$G$5)*U516,FALSE)","v":false},true,2001,{"$f":"'Monthly Prices'!B504","v":26.966031746030001},23.784953311170838,{"$f":"_xlfn.XLOOKUP(P516,'Annual Real'!A:A,'Annual Real'!B:B,0,0)","v":31.800493397500201},1.8050040572493136,1.8050040572493136,false,false,3.6151599999999999E-2,2.9638389429389456E-3,5.9904231199075717,7,"2001-05-01",1.8050040572493136]
[null,null,{"$f":"'Monthly Prices'!A505","v":"2001M07"},"2001-06-01",498,false,true,false,{"$error":"#N/A"},{"$f":"INDEX('Monthly Prices'!B505:CB505,$G$4)","v":3.1},{"$f":"IF(H517,INDEX('Monthly Prices'!B505:CB505,$G$4)*U517,FALSE)","v":false},true,{"$f":"INDEX('Monthly Prices'!B505:CB505,$G$5)","v":3.75},{"$f":"IF(H517,INDEX('Monthly Prices'!B505:CB505,$G$5)*U517,FALSE)","v":false},true,2001,{"$f":"'Monthly Prices'!B505","v":24.80367965368},23.784953311170838,{"$f":"_xlfn.XLOOKUP(P517,'Annual Real'!A:A,'Annual Real'!B:B,0,0)","v":31.800493397500201},1.800202196738816,1.800202196738816,false,false,3.2482599999999896E-2,2.6674006504359138E-3,6.0064019784339999,7,"2001-06-01",1.800202196738816]
[null,null,{"$f":"'Monthly Prices'!A506","v":"2001M08"},"2001-07-01",499,false,true,false,{"$error":"#N/A"},{"$f":"INDEX('Monthly Prices'!B506:CB506,$G$4)","v":2.95},{"$f":"IF(H518,INDEX('Monthly Prices'!B506:CB506,$G$4)*U518,FALSE)","v":false},true,{"$f":"INDEX('Monthly Prices'!B506:CB506,$G$5)","v":3.79},{"$f":"IF(H518,INDEX('Monthly Prices'!B506:CB506,$G$5)*U518,FALSE)","v":false},true,2001,{"$f":"'Monthly Prices'!B506","v":25.821159420290002},23.784953311170838,{"$f":"_xlfn.XLOOKUP(P518,'Annual Real'!A:A,'Annual Real'!B:B,0,0)","v":31.800493397500201},1.7961808789553249,1.7961808789553249,false,false,2.719908E-2,2.2388156062713715E-3,6.019849204920857,7,"2001-07-01",1.7961808789553249]
[null,null,{"$f":"'Monthly Prices'!A507","v":"2001M09"},"2001-08-01",500,false,true,false,{"$error":"#N/A"},{"$f":"INDEX('Monthly Prices'!B507:CB507,$G$4)","v":2.15},{"$f":"IF(H519,INDEX('Monthly Prices'!B507:CB507,$G$4)*U519,FALSE)","v":false},true,{"$f":"INDEX('Monthly Prices'!B507:CB507,$G$5)","v":3.79},{"$f":"IF(H519,INDEX('Monthly Prices'!B507:CB507,$G$5)*U519,FALSE)","v":false},true,2001,{"$f":"'Monthly Prices'!B507","v":25.207666666670001},23.784953311170838,{"$f":"_xlfn.XLOOKUP(P519,'Annual Real'!A:A,'Annual Real'!B:B,0,0)","v":31.800493397500201},1.7921685440498374,1.7921685440498374,false,false,2.719908E-2,2.2388156062713715E-3,6.0333265372682341,7,"2001-08-01",1.7921685440498374]
[null,null,{"$f":"'Monthly Prices'!A508","v":"2001M10"},"2001-09-01",501,false,true,false,{"$error":"#N/A"},{"$f":"INDEX('Monthly Prices'!B508:CB508,$G$4)","v":2.4500000000000002},{"$f":"IF(H520,INDEX('Monthly Prices'!B508:CB508,$G$4)*U520,FALSE)","v":false},true,{"$f":"INDEX('Monthly Prices'!B508:CB508,$G$5)","v":3.52},{"$f":"IF(H520,INDEX('Monthly Prices'!B508:CB508,$G$5)*U520,FALSE)","v":false},true,2001,{"$f":"'Monthly Prices'!B508","v":20.731884057969999},23.784953311170838,{"$f":"_xlfn.XLOOKUP(P520,'Annual Real'!A:A,'Annual Real'!B:B,0,0)","v":31.800493397500201},1.7882691728276812,1.7882691728276812,false,false,2.6482439999999999E-2,2.1805281226150441E-3,6.0464823754556667,7,"2001-09-01",1.7882691728276812]
[null,null,{"$f":"'Monthly Prices'!A509","v":"2001M11"},"2001-10-01",502,false,true,false,{"$error":"#N/A"},{"$f":"INDEX('Monthly Prices'!B509:CB509,$G$4)","v":2.36},{"$f":"IF(H521,INDEX('Monthly Prices'!B509:CB509,$G$4)*U521,FALSE)","v":false},true,{"$f":"INDEX('Monthly Prices'!B509:CB509,$G$5)","v":3.46},{"$f":"IF(H521,INDEX('Monthly Prices'!B509:CB509,$G$5)*U521,FALSE)","v":false},true,2001,{"$f":"'Monthly Prices'!B509","v":18.688181818179999},23.784953311170838,{"$f":"_xlfn.XLOOKUP(P521,'Annual Real'!A:A,'Annual Real'!B:B,0,0)","v":31.800493397500201},1.7851362740694754,1.7851362740694754,false,false,2.1264369999999901E-2,1.754991371646808E-3,6.0570938998534061,7,"2001-10-01",1.7851362740694754]
[null,null,{"$f":"'Monthly Prices'!A510","v":"2001M12"},"2001-11-01",503,false,true,false,{"$error":"#N/A"},{"$f":"INDEX('Monthly Prices'!B510:CB510,$G$4)","v":2.41},{"$f":"IF(H522,INDEX('Monthly Prices'!B510:CB510,$G$4)*U522,FALSE)","v":false},true,{"$f":"INDEX('Monthly Prices'!B510:CB510,$G$5)","v":3.4},{"$f":"IF(H522,INDEX('Monthly Prices'!B510:CB510,$G$5)*U522,FALSE)","v":false},true,2001,{"$f":"'Monthly Prices'!B510","v":18.51978947368},23.784953311170838,{"$f":"_xlfn.XLOOKUP(P522,'Annual Real'!A:A,'Annual Real'!B:B,0,0)","v":31.800493397500201},1.7823451337609661,1.7823451337609661,false,false,1.8954619999999998E-2,1.5659931713785102E-3,6.0665792675389749,7,"2001-11-01",1.7823451337609661]
[null,null,{"$f":"'Monthly Prices'!A511","v":"2002M01"},"2001-12-01",504,false,true,false,{"$error":"#N/A"},{"$f":"INDEX('Monthly Prices'!B511:CB511,$G$4)","v":2.25},{"$f":"IF(H523,INDEX('Monthly Prices'!B511:CB511,$G$4)*U523,FALSE)","v":false},true,{"$f":"INDEX('Monthly Prices'!B511:CB511,$G$5)","v":3.06},{"$f":"IF(H523,INDEX('Monthly Prices'!B511:CB511,$G$5)*U523,FALSE)","v":false},true,2001,{"$f":"'Monthly Prices'!B511","v":19.154812409809999},23.784953311170838,{"$f":"_xlfn.XLOOKUP(P523,'Annual Real'!A:A,'Annual Real'!B:B,0,0)","v":31.800493397500201},1.7800595429178596,1.7800595429178596,false,false,1.5517239999999899E-2,1.2839968484199549E-3,6.0743687361991849,7,"2001-12-01",1.7800595429178596]
[null,null,{"$f":"'Monthly Prices'!A512","v":"2002M02"},"2002-01-01",505,false,true,false,{"$error":"#N/A"},{"$f":"INDEX('Monthly Prices'!B512:CB512,$G$4)","v":2.31},{"$f":"IF(H524,INDEX('Monthly Prices'!B512:CB512,$G$4)*U524,FALSE)","v":false},true,{"$f":"INDEX('Monthly Prices'!B512:CB512,$G$5)","v":3.03},{"$f":"IF(H524,INDEX('Monthly Prices'!B512:CB512,$G$5)*U524,FALSE)","v":false},true,2002,{"$f":"'Monthly Prices'!B512","v":19.97523684211},25.894040469347502,{"$f":"_xlfn.XLOOKUP(P524,'Annual Real'!A:A,'Annual Real'!B:B,0,0)","v":32.937134394780102},1.7783756172430878,1.7783756172430878,false,false,1.142204E-2,9.46889767518444E-4,6.080120493799626,7,"2002-01-01",1.7783756172430878]
[null,null,{"$f":"'Monthly Prices'!A513","v":"2002M03"},"2002-02-01",506,false,true,false,{"$error":"#N/A"},{"$f":"INDEX('Monthly Prices'!B513:CB513,$G$4)","v":3.03},{"$f":"IF(H525,INDEX('Monthly Prices'!B513:CB513,$G$4)*U525,FALSE)","v":false},true,{"$f":"INDEX('Monthly Prices'!B513:CB513,$G$5)","v":2.97},{"$f":"IF(H525,INDEX('Monthly Prices'!B513:CB513,$G$5)*U525,FALSE)","v":false},true,2002,{"$f":"'Monthly Prices'!B513","v":23.64066666667},25.894040469347502,{"$f":"_xlfn.XLOOKUP(P525,'Annual Real'!A:A,'Annual Real'!B:B,0,0)","v":32.937134394780102},1.7766999423379923,1.7766999423379923,false,false,1.1376560000000001E-2,9.4313894269082432E-4,6.0858548922135807,7,"2002-02-01",1.7766999423379923]
[null,null,{"$f":"'Monthly Prices'!A514","v":"2002M04"},"2002-03-01",507,false,true,false,{"$error":"#N/A"},{"$f":"INDEX('Monthly Prices'!B514:CB514,$G$4)","v":3.42},{"$f":"IF(H526,INDEX('Monthly Prices'!B514:CB514,$G$4)*U526,FALSE)","v":false},true,{"$f":"INDEX('Monthly Prices'!B514:CB514,$G$5)","v":2.81},{"$f":"IF(H526,INDEX('Monthly Prices'!B514:CB514,$G$5)*U526,FALSE)","v":false},true,2002,{"$f":"'Monthly Prices'!B514","v":25.434242424240001},25.894040469347502,{"$f":"_xlfn.XLOOKUP(P526,'Annual Real'!A:A,'Annual Real'!B:B,0,0)","v":32.937134394780102},1.7745324848742452,1.7745324848742452,false,false,1.4755959999999999E-2,1.2214245060162554E-3,6.093288304518989,7,"2002-03-01",1.7745324848742452]
[null,null,{"$f":"'Monthly Prices'!A515","v":"2002M05"},"2002-04-01",508,false,true,false,{"$error":"#N/A"},{"$f":"INDEX('Monthly Prices'!B515:CB515,$G$4)","v":3.49},{"$f":"IF(H527,INDEX('Monthly Prices'!B515:CB515,$G$4)*U527,FALSE)","v":false},true,{"$f":"INDEX('Monthly Prices'!B515:CB515,$G$5)","v":2.83},{"$f":"IF(H527,INDEX('Monthly Prices'!B515:CB515,$G$5)*U527,FALSE)","v":false},true,2002,{"$f":"'Monthly Prices'!B515","v":25.672345191040002},25.894040469347502,{"$f":"_xlfn.XLOOKUP(P527,'Annual Real'!A:A,'Annual Real'!B:B,0,0)","v":32.937134394780102},1.7721295451247867,1.7721295451247867,false,false,1.6393439999999999E-2,1.3559616767684357E-3,6.1015505699454184,7,"2002-04-01",1.7721295451247867]
[null,null,{"$f":"'Monthly Prices'!A516","v":"2002M06"},"2002-05-01",509,false,true,false,{"$error":"#N/A"},{"$f":"INDEX('Monthly Prices'!B516:CB516,$G$4)","v":3.22},{"$f":"IF(H528,INDEX('Monthly Prices'!B516:CB516,$G$4)*U528,FALSE)","v":false},true,{"$f":"INDEX('Monthly Prices'!B516:CB516,$G$5)","v":2.9},{"$f":"IF(H528,INDEX('Monthly Prices'!B516:CB516,$G$5)*U528,FALSE)","v":false},true,2002,{"$f":"'Monthly Prices'!B516","v":24.48805750487},25.894040469347502,{"$f":"_xlfn.XLOOKUP(P528,'Annual Real'!A:A,'Annual Real'!B:B,0,0)","v":32.937134394780102},1.7703954222203966,1.7703954222203966,false,false,1.1817670000000001E-2,9.7951162922416124E-4,6.1075271096849795,7,"2002-05-01",1.7703954222203966]
[null,null,{"$f":"'Monthly Prices'!A517","v":"2002M07"},"2002-06-01",510,false,true,false,{"$error":"#N/A"},{"$f":"INDEX('Monthly Prices'!B517:CB517,$G$4)","v":2.98},{"$f":"IF(H529,INDEX('Monthly Prices'!B517:CB517,$G$4)*U529,FALSE)","v":false},true,{"$f":"INDEX('Monthly Prices'!B517:CB517,$G$5)","v":2.95},{"$f":"IF(H529,INDEX('Monthly Prices'!B517:CB517,$G$5)*U529,FALSE)","v":false},true,2002,{"$f":"'Monthly Prices'!B517","v":25.754748102139999},25.894040469347502,{"$f":"_xlfn.XLOOKUP(P529,'Annual Real'!A:A,'Annual Real'!B:B,0,0)","v":32.937134394780102},1.7688296701249249,1.7688296701249249,false,false,1.0674159999999999E-2,8.8519099488038044E-4,6.1129334376834601,7,"2002-06-01",1.7688296701249249]
[null,null,{"$f":"'Monthly Prices'!A518","v":"2002M08"},"2002-07-01",511,false,true,false,{"$error":"#N/A"},{"$f":"INDEX('Monthly Prices'!B518:CB518,$G$4)","v":3.09},{"$f":"IF(H530,INDEX('Monthly Prices'!B518:CB518,$G$4)*U530,FALSE)","v":false},true,{"$f":"INDEX('Monthly Prices'!B518:CB518,$G$5)","v":3.01},{"$f":"IF(H530,INDEX('Monthly Prices'!B518:CB518,$G$5)*U530,FALSE)","v":false},true,2002,{"$f":"'Monthly Prices'!B518","v":26.775800865800001},25.894040469347502,{"$f":"_xlfn.XLOOKUP(P530,'Annual Real'!A:A,'Annual Real'!B:B,0,0)","v":32.937134394780102},1.7666874937752153,1.7666874937752153,false,false,1.4647889999999998E-2,1.2125383562500147E-3,6.1203456039458546,7,"2002-07-01",1.7666874937752153]
[null,null,{"$f":"'Monthly Prices'!A519","v":"2002M09"},"2002-08-01",512,false,true,false,{"$error":"#N/A"},{"$f":"INDEX('Monthly Prices'!B519:CB519,$G$4)","v":3.57},{"$f":"IF(H531,INDEX('Monthly Prices'!B519:CB519,$G$4)*U531,FALSE)","v":false},true,{"$f":"INDEX('Monthly Prices'!B519:CB519,$G$5)","v":3.08},{"$f":"IF(H531,INDEX('Monthly Prices'!B519:CB519,$G$5)*U531,FALSE)","v":false},true,2002,{"$f":"'Monthly Prices'!B519","v":28.280793650789999},25.894040469347502,{"$f":"_xlfn.XLOOKUP(P531,'Annual Real'!A:A,'Annual Real'!B:B,0,0)","v":32.937134394780102},1.7640589139285501,1.7640589139285501,false,false,1.802817E-2,1.4900748642296957E-3,6.1294653770906926,7,"2002-08-01",1.7640589139285501]
[null,null,{"$f":"'Monthly Prices'!A520","v":"2002M10"},"2002-09-01",513,{"$f":"AND(E532>=$M$4,L532)","v":false},{"$f":"AND(E532<=$M$5,O532)","v":true},{"$f":"AND(F532:G532)","v":false},{"$f":"IF(H532,D532,NA)","v":{"$error":"#N/A"}},{"$f":"INDEX('Monthly Prices'!B520:CB520,$G$4)","v":4.12},{"$f":"IF(H532,INDEX('Monthly Prices'!B520:CB520,$G$4)*U532,FALSE)","v":false},true,{"$f":"INDEX('Monthly Prices'!B520:CB520,$G$5)","v":3.28},{"$f":"IF(H532,INDEX('Monthly Prices'!B520:CB520,$G$5)*U532,FALSE)","v":false},{"$f":"AND(ISNUMBER(M532),M532>0)","v":true},2002,{"$f":"'Monthly Prices'!B520","v":27.526811594200002},25.894040469347502,{"$f":"_xlfn.XLOOKUP(P532,'Annual Real'!A:A,'Annual Real'!B:B,0,0)","v":32.937134394780102},1.7618508853438437,1.7618508853438437,false,false,1.514302E-2,1.2532437353660608E-3,6.1371470911756747,7,"2002-09-01",1.7618508853438437]
[null,null,{"$f":"'Monthly Prices'!A521","v":"2002M11"},{"$f":"EDATE(D532,1)","v":"2002-10-01"},{"$f":"E532+1","v":514},false,true,false,{"$error":"#N/A"},{"$f":"INDEX('Monthly Prices'!B521:CB521,$G$4)","v":4.04},{"$f":"IF(H533,INDEX('Monthly Prices'!B521:CB521,$G$4)*U533,FALSE)","v":false},{"$f":"ISNUMBER(J533)","v":true},{"$f":"INDEX('Monthly Prices'!B521:CB521,$G$5)","v":3.34},{"$f":"IF(H533,INDEX('Monthly Prices'!B521:CB521,$G$5)*U533,FALSE)","v":false},true,{"$f":"YEAR(D533)","v":2002},{"$f":"'Monthly Prices'!B521","v":24.542481203009999},{"$f":"AVERAGEIF(P:P,P533,Q:Q)","v":25.894040469347502},{"$f":"_xlfn.XLOOKUP(P533,'Annual Real'!A:A,'Annual Real'!B:B,0,0)","v":32.937134394780102},{"$f":"AC533","v":1.7589086489854571},{"$f":"IF($U$19,T533,1)","v":1.7589086489854571},false,false,{"$f":"LOOKUP(D533,INDIRECT(\"'\"&$X$14&\"'!A:A\"),INDIRECT(\"'\"&$X$14&\"'!B:B\"))/100","v":2.025886E-2},{"$f":"(1+X533)^(1/12)-1","v":1.6727624598831259E-3},{"$f":"Z532*(1+Y533)","v":6.1474130804405744},{"$f":"LEN(C533)","v":7},{"$f":"IF(AA533>2,D533,0)","v":"2002-10-01"},{"$f":"$AC$17/Z533","v":1.7589086489854571}]
[null,null,{"$f":"'Monthly Prices'!A522","v":"2002M12"},"2002-11-01",515,false,true,false,{"$error":"#N/A"},{"$f":"INDEX('Monthly Prices'!B522:CB522,$G$4)","v":4.74},{"$f":"IF(H534,INDEX('Monthly Prices'!B522:CB522,$G$4)*U534,FALSE)","v":false},true,{"$f":"INDEX('Monthly Prices'!B522:CB522,$G$5)","v":3.36},{"$f":"IF(H534,INDEX('Monthly Prices'!B522:CB522,$G$5)*U534,FALSE)","v":false},true,2002,{"$f":"'Monthly Prices'!B522","v":27.88698412698},25.894040469347502,{"$f":"_xlfn.XLOOKUP(P534,'Annual Real'!A:A,'Annual Real'!B:B,0,0)","v":32.937134394780102},1.7557240921876573,1.7557240921876573,{"$f":"IF(AND(H533,H534),LN(K534/K533))","v":false},{"$f":"IF(AND($H533,$H534),LN(N534/N533))","v":false},2.1984219999999999E-2,1.8138139198349279E-3,6.1585633438568532,7,"2002-11-01",1.7557240921876573]
[null,null,{"$f":"'Monthly Prices'!A523","v":"2003M01"},"2002-12-01",516,false,true,false,{"$error":"#N/A"},{"$f":"INDEX('Monthly Prices'!B523:CB523,$G$4)","v":5.405869},{"$f":"IF(H535,INDEX('Monthly Prices'!B523:CB523,$G$4)*U535,FALSE)","v":false},true,{"$f":"INDEX('Monthly Prices'!B523:CB523,$G$5)","v":3.61},{"$f":"IF(H535,INDEX('Monthly Prices'!B523:CB523,$G$5)*U535,FALSE)","v":false},true,2002,{"$f":"'Monthly Prices'!B523","v":30.750317460320002},25.894040469347502,{"$f":"_xlfn.XLOOKUP(P535,'Annual Real'!A:A,'Annual Real'!B:B,0,0)","v":32.937134394780102},1.7522904759713207,1.7522904759713207,false,false,2.3769099999999897E-2,1.959501728406865E-3,6.170631059373644,7,"2002-12-01",1.7522904759713207]
[null,null,{"$f":"'Monthly Prices'!A524","v":"2003M02"},"2003-01-01",517,false,true,false,{"$error":"#N/A"},{"$f":"INDEX('Monthly Prices'!B524:CB524,$G$4)","v":7.7736840000000003},{"$f":"IF(H536,INDEX('Monthly Prices'!B524:CB524,$G$4)*U536,FALSE)","v":false},true,{"$f":"INDEX('Monthly Prices'!B524:CB524,$G$5)","v":3.67},{"$f":"IF(H536,INDEX('Monthly Prices'!B524:CB524,$G$5)*U536,FALSE)","v":false},true,2003,{"$f":"'Monthly Prices'!B524","v":32.883377192979999},28.950353342641666,{"$f":"_xlfn.XLOOKUP(P536,'Annual Real'!A:A,'Annual Real'!B:B,0,0)","v":36.296960712154601},1.7485500576359134,1.7485500576359134,false,false,2.5974029999999999E-2,2.1391542776101335E-3,6.1838309911998568,7,"2003-01-01",1.7485500576359134]
[null,null,{"$f":"'Monthly Prices'!A525","v":"2003M03"},"2003-02-01",518,false,true,false,{"$error":"#N/A"},{"$f":"INDEX('Monthly Prices'!B525:CB525,$G$4)","v":5.9468569999999996},{"$f":"IF(H537,INDEX('Monthly Prices'!B525:CB525,$G$4)*U537,FALSE)","v":false},true,{"$f":"INDEX('Monthly Prices'!B525:CB525,$G$5)","v":3.74},{"$f":"IF(H537,INDEX('Monthly Prices'!B525:CB525,$G$5)*U537,FALSE)","v":false},true,2003,{"$f":"'Monthly Prices'!B525","v":30.359206349210002},28.950353342641666,{"$f":"_xlfn.XLOOKUP(P537,'Annual Real'!A:A,'Annual Real'!B:B,0,0)","v":36.296960712154601},1.7442752600204459,1.7442752600204459,false,false,2.9808769999999998E-2,2.4507586121571556E-3,6.1989860682576641,7,"2003-02-01",1.7442752600204459]
[null,null,{"$f":"'Monthly Prices'!A526","v":"2003M04"},"2003-03-01",519,false,true,false,{"$error":"#N/A"},{"$f":"INDEX('Monthly Prices'!B526:CB526,$G$4)","v":5.2893179999999997},{"$f":"IF(H538,INDEX('Monthly Prices'!B526:CB526,$G$4)*U538,FALSE)","v":false},true,{"$f":"INDEX('Monthly Prices'!B526:CB526,$G$5)","v":4.03},{"$f":"IF(H538,INDEX('Monthly Prices'!B526:CB526,$G$5)*U538,FALSE)","v":false},true,2003,{"$f":"'Monthly Prices'!B526","v":25.555968253970001},28.950353342641666,{"$f":"_xlfn.XLOOKUP(P538,'Annual Real'!A:A,'Annual Real'!B:B,0,0)","v":36.296960712154601},1.7399556493822812,1.7399556493822812,false,false,3.020134E-2,2.4825981281177967E-3,6.214375659466949,7,"2003-03-01",1.7399556493822812]
[null,null,{"$f":"'Monthly Prices'!A527","v":"2003M05"},"2003-04-01",520,false,true,false,{"$error":"#N/A"},{"$f":"INDEX('Monthly Prices'!B527:CB527,$G$4)","v":5.838044},{"$f":"IF(H539,INDEX('Monthly Prices'!B527:CB527,$G$4)*U539,FALSE)","v":false},true,{"$f":"INDEX('Monthly Prices'!B527:CB527,$G$5)","v":4.04},{"$f":"IF(H539,INDEX('Monthly Prices'!B527:CB527,$G$5)*U539,FALSE)","v":false},true,2003,{"$f":"'Monthly Prices'!B527","v":26.064912698410001},28.950353342641666,{"$f":"_xlfn.XLOOKUP(P539,'Annual Real'!A:A,'Annual Real'!B:B,0,0)","v":36.296960712154601},1.7367682062341612,1.7367682062341612,false,false,2.224694E-2,1.8352726268702213E-3,6.2257807330078574,7,"2003-04-01",1.7367682062341612]
[null,null,{"$f":"'Monthly Prices'!A528","v":"2003M06"},"2003-05-01",521,false,true,false,{"$error":"#N/A"},{"$f":"INDEX('Monthly Prices'!B528:CB528,$G$4)","v":5.7719050000000003},{"$f":"IF(H540,INDEX('Monthly Prices'!B528:CB528,$G$4)*U540,FALSE)","v":false},true,{"$f":"INDEX('Monthly Prices'!B528:CB528,$G$5)","v":4.05},{"$f":"IF(H540,INDEX('Monthly Prices'!B528:CB528,$G$5)*U540,FALSE)","v":false},true,2003,{"$f":"'Monthly Prices'!B528","v":27.91714285714},28.950353342641666,{"$f":"_xlfn.XLOOKUP(P540,'Annual Real'!A:A,'Annual Real'!B:B,0,0)","v":36.296960712154601},1.7338226087839093,1.7338226087839093,false,false,2.057842E-2,1.6989035875578651E-3,6.2363577342305128,7,"2003-05-01",1.7338226087839093]
[null,null,{"$f":"'Monthly Prices'!A529","v":"2003M07"},"2003-06-01",522,false,true,false,{"$error":"#N/A"},{"$f":"INDEX('Monthly Prices'!B529:CB529,$G$4)","v":5.0049999999999999},{"$f":"IF(H541,INDEX('Monthly Prices'!B529:CB529,$G$4)*U541,FALSE)","v":false},true,{"$f":"INDEX('Monthly Prices'!B529:CB529,$G$5)","v":4.04},{"$f":"IF(H541,INDEX('Monthly Prices'!B529:CB529,$G$5)*U541,FALSE)","v":false},true,2003,{"$f":"'Monthly Prices'!B529","v":28.591587615280002},28.950353342641666,{"$f":"_xlfn.XLOOKUP(P541,'Annual Real'!A:A,'Annual Real'!B:B,0,0)","v":36.296960712154601},1.7308050840953766,1.7308050840953766,false,false,2.1122849999999999E-2,1.7434225934862546E-3,6.2472303412054329,7,"2003-06-01",1.7308050840953766]
[null,null,{"$f":"'Monthly Prices'!A530","v":"2003M08"},"2003-07-01",523,false,true,false,{"$error":"#N/A"},{"$f":"INDEX('Monthly Prices'!B530:CB530,$G$4)","v":4.9707140000000001},{"$f":"IF(H542,INDEX('Monthly Prices'!B530:CB530,$G$4)*U542,FALSE)","v":false},true,{"$f":"INDEX('Monthly Prices'!B530:CB530,$G$5)","v":3.98},{"$f":"IF(H542,INDEX('Monthly Prices'!B530:CB530,$G$5)*U542,FALSE)","v":false},true,2003,{"$f":"'Monthly Prices'!B530","v":29.675555555559999},28.950353342641666,{"$f":"_xlfn.XLOOKUP(P542,'Annual Real'!A:A,'Annual Real'!B:B,0,0)","v":36.296960712154601},1.7277961190742319,1.7277961190742319,false,false,2.1099389999999999E-2,1.7415046763484821E-3,6.2581099220588685,7,"2003-07-01",1.7277961190742319]
[null,null,{"$f":"'Monthly Prices'!A531","v":"2003M09"},"2003-08-01",524,false,true,false,{"$error":"#N/A"},{"$f":"INDEX('Monthly Prices'!B531:CB531,$G$4)","v":4.6127269999999996},{"$f":"IF(H543,INDEX('Monthly Prices'!B531:CB531,$G$4)*U543,FALSE)","v":false},true,{"$f":"INDEX('Monthly Prices'!B531:CB531,$G$5)","v":3.97},{"$f":"IF(H543,INDEX('Monthly Prices'!B531:CB531,$G$5)*U543,FALSE)","v":false},true,2003,{"$f":"'Monthly Prices'!B531","v":26.882330447329998},28.950353342641666,{"$f":"_xlfn.XLOOKUP(P543,'Annual Real'!A:A,'Annual Real'!B:B,0,0)","v":36.296960712154601},1.7247243662691483,1.7247243662691483,false,false,2.1582729999999998E-2,1.7810108473903519E-3,6.2692556837142162,7,"2003-08-01",1.7247243662691483]
[null,null,{"$f":"'Monthly Prices'!A532","v":"2003M10"},"2003-09-01",525,false,true,false,{"$error":"#N/A"},{"$f":"INDEX('Monthly Prices'!B532:CB532,$G$4)","v":4.6356520000000003},{"$f":"IF(H544,INDEX('Monthly Prices'!B532:CB532,$G$4)*U544,FALSE)","v":false},true,{"$f":"INDEX('Monthly Prices'!B532:CB532,$G$5)","v":3.88},{"$f":"IF(H544,INDEX('Monthly Prices'!B532:CB532,$G$5)*U544,FALSE)","v":false},true,2003,{"$f":"'Monthly Prices'!B532","v":29.014492753620001},28.950353342641666,{"$f":"_xlfn.XLOOKUP(P544,'Annual Real'!A:A,'Annual Real'!B:B,0,0)","v":36.296960712154601},1.7214305193580495,1.7214305193580495,false,false,2.320442E-2,1.9134358744419266E-3,6.2812515024454836,7,"2003-09-01",1.7214305193580495]
[null,null,{"$f":"'Monthly Prices'!A533","v":"2003M11"},"2003-10-01",526,false,true,false,{"$error":"#N/A"},{"$f":"INDEX('Monthly Prices'!B533:CB533,$G$4)","v":4.5274999999999999},{"$f":"IF(H545,INDEX('Monthly Prices'!B533:CB533,$G$4)*U545,FALSE)","v":false},true,{"$f":"INDEX('Monthly Prices'!B533:CB533,$G$5)","v":3.9},{"$f":"IF(H545,INDEX('Monthly Prices'!B533:CB533,$G$5)*U545,FALSE)","v":false},true,2003,{"$f":"'Monthly Prices'!B533","v":29.122740740739999},28.950353342641666,{"$f":"_xlfn.XLOOKUP(P545,'Annual Real'!A:A,'Annual Real'!B:B,0,0)","v":36.296960712154601},1.7185348282881288,1.7185348282881288,false,false,2.0408159999999998E-2,1.6849766570079527E-3,6.2918352646039004,7,"2003-10-01",1.7185348282881288]
[null,null,{"$f":"'Monthly Prices'!A534","v":"2003M12"},"2003-11-01",527,false,true,false,{"$error":"#N/A"},{"$f":"INDEX('Monthly Prices'!B534:CB534,$G$4)","v":6.1265219999999996},{"$f":"IF(H546,INDEX('Monthly Prices'!B534:CB534,$G$4)*U546,FALSE)","v":false},true,{"$f":"INDEX('Monthly Prices'!B534:CB534,$G$5)","v":3.97},{"$f":"IF(H546,INDEX('Monthly Prices'!B534:CB534,$G$5)*U546,FALSE)","v":false},true,2003,{"$f":"'Monthly Prices'!B534","v":29.969206349210001},28.950353342641666,{"$f":"_xlfn.XLOOKUP(P546,'Annual Real'!A:A,'Annual Real'!B:B,0,0)","v":36.296960712154601},1.7160309812547947,1.7160309812547947,false,false,1.76502999999999E-2,1.4590919748449505E-3,6.3010156309455301,7,"2003-11-01",1.7160309812547947]
[null,null,{"$f":"'Monthly Prices'!A535","v":"2004M01"},"2003-12-01",528,false,true,false,{"$error":"#N/A"},{"$f":"INDEX('Monthly Prices'!B535:CB535,$G$4)","v":6.0947727272699996},{"$f":"IF(H547,INDEX('Monthly Prices'!B535:CB535,$G$4)*U547,FALSE)","v":false},true,{"$f":"INDEX('Monthly Prices'!B535:CB535,$G$5)","v":3.87},{"$f":"IF(H547,INDEX('Monthly Prices'!B535:CB535,$G$5)*U547,FALSE)","v":false},true,2003,{"$f":"'Monthly Prices'!B535","v":31.367719298250002},28.950353342641666,{"$f":"_xlfn.XLOOKUP(P547,'Annual Real'!A:A,'Annual Real'!B:B,0,0)","v":36.296960712154601},1.7133702711051149,1.7133702711051149,false,false,1.8794910000000001E-2,1.5529101879208085E-3,6.310800542313074,7,"2003-12-01",1.7133702711051149]
[null,null,{"$f":"'Monthly Prices'!A536","v":"2004M02"},"2004-01-01",529,false,true,false,{"$error":"#N/A"},{"$f":"INDEX('Monthly Prices'!B536:CB536,$G$4)","v":5.3795000000000002},{"$f":"IF(H548,INDEX('Monthly Prices'!B536:CB536,$G$4)*U548,FALSE)","v":false},true,{"$f":"INDEX('Monthly Prices'!B536:CB536,$G$5)","v":3.89},{"$f":"IF(H548,INDEX('Monthly Prices'!B536:CB536,$G$5)*U548,FALSE)","v":false},true,2004,{"$f":"'Monthly Prices'!B536","v":31.331333333330001},38.700434242996664,{"$f":"_xlfn.XLOOKUP(P548,'Annual Real'!A:A,'Annual Real'!B:B,0,0)","v":44.378607463438499},1.7106482702164933,1.7106482702164933,false,false,1.9262520000000002E-2,1.5912101488151364E-3,6.3208423521831509,7,"2004-01-01",1.7106482702164933]
[null,null,{"$f":"'Monthly Prices'!A537","v":"2004M03"},"2004-02-01",530,false,true,false,{"$error":"#N/A"},{"$f":"INDEX('Monthly Prices'!B537:CB537,$G$4)","v":5.3968695652200003},{"$f":"IF(H549,INDEX('Monthly Prices'!B537:CB537,$G$4)*U549,FALSE)","v":false},true,{"$f":"INDEX('Monthly Prices'!B537:CB537,$G$5)","v":3.86},{"$f":"IF(H549,INDEX('Monthly Prices'!B537:CB537,$G$5)*U549,FALSE)","v":false},true,2004,{"$f":"'Monthly Prices'!B537","v":33.665072463770002},38.700434242996664,{"$f":"_xlfn.XLOOKUP(P549,'Annual Real'!A:A,'Annual Real'!B:B,0,0)","v":44.378607463438499},1.7082566164136566,1.7082566164136566,false,false,1.693064E-2,1.4000553428896723E-3,6.3296918812898886,7,"2004-02-01",1.7082566164136566]
[null,null,{"$f":"'Monthly Prices'!A538","v":"2004M04"},"2004-03-01",531,false,true,false,{"$error":"#N/A"},{"$f":"INDEX('Monthly Prices'!B538:CB538,$G$4)","v":5.7165217391300001},{"$f":"IF(H550,INDEX('Monthly Prices'!B538:CB538,$G$4)*U550,FALSE)","v":false},true,{"$f":"INDEX('Monthly Prices'!B538:CB538,$G$5)","v":3.92},{"$f":"IF(H550,INDEX('Monthly Prices'!B538:CB538,$G$5)*U550,FALSE)","v":false},true,2004,{"$f":"'Monthly Prices'!B538","v":33.711392496389998},38.700434242996664,{"$f":"_xlfn.XLOOKUP(P550,'Annual Real'!A:A,'Annual Real'!B:B,0,0)","v":44.378607463438499},1.7058065649311351,1.7058065649311351,false,false,1.7372419999999899E-2,1.4363008871527416E-3,6.3387832233543886,7,"2004-03-01",1.7058065649311351]
[null,null,{"$f":"'Monthly Prices'!A539","v":"2004M05"},"2004-04-01",532,false,true,false,{"$error":"#N/A"},{"$f":"INDEX('Monthly Prices'!B539:CB539,$G$4)","v":6.3359523809500002},{"$f":"IF(H551,INDEX('Monthly Prices'!B539:CB539,$G$4)*U551,FALSE)","v":false},true,{"$f":"INDEX('Monthly Prices'!B539:CB539,$G$5)","v":3.95},{"$f":"IF(H551,INDEX('Monthly Prices'!B539:CB539,$G$5)*U551,FALSE)","v":false},true,2004,{"$f":"'Monthly Prices'!B539","v":37.557898913949998},38.700434242996664,{"$f":"_xlfn.XLOOKUP(P551,'Annual Real'!A:A,'Annual Real'!B:B,0,0)","v":44.378607463438499},1.70259787152144,1.70259787152144,false,false,2.2850929999999998E-2,1.8845867620096435E-3,6.3507292103043707,7,"2004-04-01",1.70259787152144]
[null,null,{"$f":"'Monthly Prices'!A540","v":"2004M06"},"2004-05-01",533,false,true,false,{"$error":"#N/A"},{"$f":"INDEX('Monthly Prices'!B540:CB540,$G$4)","v":6.2715909090900004},{"$f":"IF(H552,INDEX('Monthly Prices'!B540:CB540,$G$4)*U552,FALSE)","v":false},true,{"$f":"INDEX('Monthly Prices'!B540:CB540,$G$5)","v":4.01},{"$f":"IF(H552,INDEX('Monthly Prices'!B540:CB540,$G$5)*U552,FALSE)","v":false},true,2004,{"$f":"'Monthly Prices'!B540","v":35.542741702740003},38.700434242996664,{"$f":"_xlfn.XLOOKUP(P552,'Annual Real'!A:A,'Annual Real'!B:B,0,0)","v":44.378607463438499},1.6983380163356991,1.6983380163356991,false,false,3.051771E-2,2.5082493265573547E-3,6.3666584225692651,7,"2004-05-01",1.6983380163356991]
[null,null,{"$f":"'Monthly Prices'!A541","v":"2004M07"},"2004-06-01",534,false,true,false,{"$error":"#N/A"},{"$f":"INDEX('Monthly Prices'!B541:CB541,$G$4)","v":5.9286363636399999},{"$f":"IF(H553,INDEX('Monthly Prices'!B541:CB541,$G$4)*U553,FALSE)","v":false},true,{"$f":"INDEX('Monthly Prices'!B541:CB541,$G$5)","v":4.28},{"$f":"IF(H553,INDEX('Monthly Prices'!B541:CB541,$G$5)*U553,FALSE)","v":false},true,2004,{"$f":"'Monthly Prices'!B541","v":37.891998557000001},38.700434242996664,{"$f":"_xlfn.XLOOKUP(P553,'Annual Real'!A:A,'Annual Real'!B:B,0,0)","v":44.378607463438499},1.6937954031802767,1.6937954031802767,false,false,3.2661950000000002E-2,2.6819137346183464E-3,6.3837332512363769,7,"2004-06-01",1.6937954031802767]
[null,null,{"$f":"'Monthly Prices'!A542","v":"2004M08"},"2004-07-01",535,false,true,false,{"$error":"#N/A"},{"$f":"INDEX('Monthly Prices'!B542:CB542,$G$4)","v":5.3956818181799999},{"$f":"IF(H554,INDEX('Monthly Prices'!B542:CB542,$G$4)*U554,FALSE)","v":false},true,{"$f":"INDEX('Monthly Prices'!B542:CB542,$G$5)","v":4.34},{"$f":"IF(H554,INDEX('Monthly Prices'!B542:CB542,$G$5)*U554,FALSE)","v":false},true,2004,{"$f":"'Monthly Prices'!B542","v":42.084069264070003},38.700434242996664,{"$f":"_xlfn.XLOOKUP(P554,'Annual Real'!A:A,'Annual Real'!B:B,0,0)","v":44.378607463438499},1.6896409612030026,1.6896409612030026,false,false,2.9907560000000003E-2,2.4587720543400859E-3,6.3994293961568784,7,"2004-07-01",1.6896409612030026]
[null,null,{"$f":"'Monthly Prices'!A543","v":"2004M09"},"2004-08-01",536,false,true,false,{"$error":"#N/A"},{"$f":"INDEX('Monthly Prices'!B543:CB543,$G$4)","v":5.13886363636},{"$f":"IF(H555,INDEX('Monthly Prices'!B543:CB543,$G$4)*U555,FALSE)","v":false},true,{"$f":"INDEX('Monthly Prices'!B543:CB543,$G$5)","v":4.41},{"$f":"IF(H555,INDEX('Monthly Prices'!B543:CB543,$G$5)*U555,FALSE)","v":false},true,2004,{"$f":"'Monthly Prices'!B543","v":41.596825396829999},38.700434242996664,{"$f":"_xlfn.XLOOKUP(P555,'Annual Real'!A:A,'Annual Real'!B:B,0,0)","v":44.378607463438499},1.6859562586669996,1.6859562586669996,false,false,2.6543879999999999E-2,2.1855267697847847E-3,6.413415520413527,7,"2004-08-01",1.6859562586669996]
[null,null,{"$f":"'Monthly Prices'!A544","v":"2004M10"},"2004-09-01",537,false,true,false,{"$error":"#N/A"},{"$f":"INDEX('Monthly Prices'!B544:CB544,$G$4)","v":6.4116666666700004},{"$f":"IF(H556,INDEX('Monthly Prices'!B544:CB544,$G$4)*U556,FALSE)","v":false},true,{"$f":"INDEX('Monthly Prices'!B544:CB544,$G$5)","v":4.83},{"$f":"IF(H556,INDEX('Monthly Prices'!B544:CB544,$G$5)*U556,FALSE)","v":false},true,2004,{"$f":"'Monthly Prices'!B544","v":46.881111111110002},38.700434242996664,{"$f":"_xlfn.XLOOKUP(P556,'Annual Real'!A:A,'Annual Real'!B:B,0,0)","v":44.378607463438499},1.6824389121173569,1.6824389121173569,false,false,2.537797E-2,2.0906236323410265E-3,6.4268235584645259,7,"2004-09-01",1.6824389121173569]
[null,null,{"$f":"'Monthly Prices'!A545","v":"2004M11"},"2004-10-01",538,false,true,false,{"$error":"#N/A"},{"$f":"INDEX('Monthly Prices'!B545:CB545,$G$4)","v":6.0870454545500001},{"$f":"IF(H557,INDEX('Monthly Prices'!B545:CB545,$G$4)*U557,FALSE)","v":false},true,{"$f":"INDEX('Monthly Prices'!B545:CB545,$G$5)","v":4.96},{"$f":"IF(H557,INDEX('Monthly Prices'!B545:CB545,$G$5)*U557,FALSE)","v":false},true,2004,{"$f":"'Monthly Prices'!B545","v":42.12554545455},38.700434242996664,{"$f":"_xlfn.XLOOKUP(P557,'Annual Real'!A:A,'Annual Real'!B:B,0,0)","v":44.378607463438499},1.6780431375305456,1.6780431375305456,false,false,3.1891889999999999E-2,2.6195837809510625E-3,6.4436591612213139,7,"2004-10-01",1.6780431375305456]
[null,null,{"$f":"'Monthly Prices'!A546","v":"2004M12"},"2004-11-01",539,false,true,false,{"$error":"#N/A"},{"$f":"INDEX('Monthly Prices'!B546:CB546,$G$4)","v":6.5813043478299997},{"$f":"IF(H558,INDEX('Monthly Prices'!B546:CB546,$G$4)*U558,FALSE)","v":false},true,{"$f":"INDEX('Monthly Prices'!B546:CB546,$G$5)","v":5.01},{"$f":"IF(H558,INDEX('Monthly Prices'!B546:CB546,$G$5)*U558,FALSE)","v":false},true,2004,{"$f":"'Monthly Prices'!B546","v":39.044944444439999},38.700434242996664,{"$f":"_xlfn.XLOOKUP(P558,'Annual Real'!A:A,'Annual Real'!B:B,0,0)","v":44.378607463438499},1.6732084072479689,1.6732084072479689,false,false,3.5230349999999896E-2,2.8894967665915594E-3,6.4622780935326807,7,"2004-11-01",1.6732084072479689]
[null,null,{"$f":"'Monthly Prices'!A547","v":"2005M01"},"2004-12-01",540,false,true,false,{"$error":"#N/A"},{"$f":"INDEX('Monthly Prices'!B547:CB547,$G$4)","v":6.1545238095199997},{"$f":"IF(H559,INDEX('Monthly Prices'!B547:CB547,$G$4)*U559,FALSE)","v":false},true,{"$f":"INDEX('Monthly Prices'!B547:CB547,$G$5)","v":5.46},{"$f":"IF(H559,INDEX('Monthly Prices'!B547:CB547,$G$5)*U559,FALSE)","v":false},true,2004,{"$f":"'Monthly Prices'!B547","v":42.97227777778},38.700434242996664,{"$f":"_xlfn.XLOOKUP(P559,'Annual Real'!A:A,'Annual Real'!B:B,0,0)","v":44.378607463438499},1.6687473287584342,1.6687473287584342,false,false,3.255562E-2,2.6733097411779649E-3,6.4795537645103227,7,"2004-12-01",1.6687473287584342]
[null,null,{"$f":"'Monthly Prices'!A548","v":"2005M02"},"2005-01-01",541,false,true,false,{"$error":"#N/A"},{"$f":"INDEX('Monthly Prices'!B548:CB548,$G$4)","v":6.1447500000000002},{"$f":"IF(H560,INDEX('Monthly Prices'!B548:CB548,$G$4)*U560,FALSE)","v":false},true,{"$f":"INDEX('Monthly Prices'!B548:CB548,$G$5)","v":5.49},{"$f":"IF(H560,INDEX('Monthly Prices'!B548:CB548,$G$5)*U560,FALSE)","v":false},true,2005,{"$f":"'Monthly Prices'!B548","v":44.818210526320001},55.014754755521672,{"$f":"_xlfn.XLOOKUP(P560,'Annual Real'!A:A,'Annual Real'!B:B,0,0)","v":60.876160060699704},1.6646826037698301,1.6646826037698301,false,false,2.9697619999999997E-2,2.4417417346700443E-3,6.4953751613591661,7,"2005-01-01",1.6646826037698301]
[null,null,{"$f":"'Monthly Prices'!A549","v":"2005M03"},"2005-02-01",542,false,true,false,{"$error":"#N/A"},{"$f":"INDEX('Monthly Prices'!B549:CB549,$G$4)","v":6.9680434782600003},{"$f":"IF(H561,INDEX('Monthly Prices'!B549:CB549,$G$4)*U561,FALSE)","v":false},true,{"$f":"INDEX('Monthly Prices'!B549:CB549,$G$5)","v":5.52},{"$f":"IF(H561,INDEX('Monthly Prices'!B549:CB549,$G$5)*U561,FALSE)","v":false},true,2005,{"$f":"'Monthly Prices'!B549","v":50.942878787879998},55.014754755521672,{"$f":"_xlfn.XLOOKUP(P561,'Annual Real'!A:A,'Annual Real'!B:B,0,0)","v":60.876160060699704},1.6605770463770075,1.6605770463770075,false,false,3.0075189999999998E-2,2.4723679047473635E-3,6.5114341184374034,7,"2005-02-01",1.6605770463770075]
[null,null,{"$f":"'Monthly Prices'!A550","v":"2005M04"},"2005-03-01",543,false,true,false,{"$error":"#N/A"},{"$f":"INDEX('Monthly Prices'!B550:CB550,$G$4)","v":7.15261904762},{"$f":"IF(H562,INDEX('Monthly Prices'!B550:CB550,$G$4)*U562,FALSE)","v":false},true,{"$f":"INDEX('Monthly Prices'!B550:CB550,$G$5)","v":5.86},{"$f":"IF(H562,INDEX('Monthly Prices'!B550:CB550,$G$5)*U562,FALSE)","v":false},true,2005,{"$f":"'Monthly Prices'!B550","v":50.640476190480001},55.014754755521672,{"$f":"_xlfn.XLOOKUP(P562,'Annual Real'!A:A,'Annual Real'!B:B,0,0)","v":60.876160060699704},1.6562930320902582,1.6562930320902582,false,false,3.1483459999999998E-2,2.5865074619935147E-3,6.5282759913730208,7,"2005-03-01",1.6562930320902582]
[null,null,{"$f":"'Monthly Prices'!A551","v":"2005M05"},"2005-04-01",544,false,true,false,{"$error":"#N/A"},{"$f":"INDEX('Monthly Prices'!B551:CB551,$G$4)","v":6.4693181818200003},{"$f":"IF(H563,INDEX('Monthly Prices'!B551:CB551,$G$4)*U563,FALSE)","v":false},true,{"$f":"INDEX('Monthly Prices'!B551:CB551,$G$5)","v":5.89},{"$f":"IF(H563,INDEX('Monthly Prices'!B551:CB551,$G$5)*U563,FALSE)","v":false},true,2005,{"$f":"'Monthly Prices'!B551","v":47.826572871570001},55.014754755521672,{"$f":"_xlfn.XLOOKUP(P563,'Annual Real'!A:A,'Annual Real'!B:B,0,0)","v":60.876160060699704},1.6515374496215114,1.6515374496215114,false,false,3.5106379999999902E-2,2.8794881217115709E-3,6.547074084545434,7,"2005-04-01",1.6515374496215114]
[null,null,{"$f":"'Monthly Prices'!A552","v":"2005M06"},"2005-05-01",545,false,true,false,{"$error":"#N/A"},{"$f":"INDEX('Monthly Prices'!B552:CB552,$G$4)","v":7.1861363636400002},{"$f":"IF(H564,INDEX('Monthly Prices'!B552:CB552,$G$4)*U564,FALSE)","v":false},true,{"$f":"INDEX('Monthly Prices'!B552:CB552,$G$5)","v":5.91},{"$f":"IF(H564,INDEX('Monthly Prices'!B552:CB552,$G$5)*U564,FALSE)","v":false},true,2005,{"$f":"'Monthly Prices'!B552","v":53.890303030299997},55.014754755521672,{"$f":"_xlfn.XLOOKUP(P564,'Annual Real'!A:A,'Annual Real'!B:B,0,0)","v":60.876160060699704},1.6477375226733182,1.6477375226733182,false,false,2.80275E-2,2.306148215905246E-3,6.5621726077649081,7,"2005-05-01",1.6477375226733182]
[null,null,{"$f":"'Monthly Prices'!A553","v":"2005M07"},"2005-06-01",546,false,true,false,{"$error":"#N/A"},{"$f":"INDEX('Monthly Prices'!B553:CB553,$G$4)","v":7.6261904761899997},{"$f":"IF(H565,INDEX('Monthly Prices'!B553:CB553,$G$4)*U565,FALSE)","v":false},true,{"$f":"INDEX('Monthly Prices'!B553:CB553,$G$5)","v":6.42},{"$f":"IF(H565,INDEX('Monthly Prices'!B553:CB553,$G$5)*U565,FALSE)","v":false},true,2005,{"$f":"'Monthly Prices'!B553","v":56.36580952381},55.014754755521672,{"$f":"_xlfn.XLOOKUP(P565,'Annual Real'!A:A,'Annual Real'!B:B,0,0)","v":60.876160060699704},1.6443099146319986,1.6443099146319986,false,false,2.5303110000000004E-2,2.0845267737052975E-3,6.5758516322594698,7,"2005-06-01",1.6443099146319986]
[null,null,{"$f":"'Monthly Prices'!A554","v":"2005M08"},"2005-07-01",547,false,true,false,{"$error":"#N/A"},{"$f":"INDEX('Monthly Prices'!B554:CB554,$G$4)","v":9.6297826086999994},{"$f":"IF(H566,INDEX('Monthly Prices'!B554:CB554,$G$4)*U566,FALSE)","v":false},true,{"$f":"INDEX('Monthly Prices'!B554:CB554,$G$5)","v":6.56},{"$f":"IF(H566,INDEX('Monthly Prices'!B554:CB554,$G$5)*U566,FALSE)","v":false},true,2005,{"$f":"'Monthly Prices'!B554","v":61.890520421609999},55.014754755521672,{"$f":"_xlfn.XLOOKUP(P566,'Annual Real'!A:A,'Annual Real'!B:B,0,0)","v":60.876160060699704},1.640041961646268,1.640041961646268,false,false,3.1678989999999997E-2,2.6023437726230281E-3,6.5929642588043729,7,"2005-07-01",1.640041961646268]
[null,null,{"$f":"'Monthly Prices'!A555","v":"2005M09"},"2005-08-01",548,false,true,false,{"$error":"#N/A"},{"$f":"INDEX('Monthly Prices'!B555:CB555,$G$4)","v":12.87568181818},{"$f":"IF(H567,INDEX('Monthly Prices'!B555:CB555,$G$4)*U567,FALSE)","v":false},true,{"$f":"INDEX('Monthly Prices'!B555:CB555,$G$5)","v":6.58},{"$f":"IF(H567,INDEX('Monthly Prices'!B555:CB555,$G$5)*U567,FALSE)","v":false},true,2005,{"$f":"'Monthly Prices'!B555","v":61.687698412700001},55.014754755521672,{"$f":"_xlfn.XLOOKUP(P567,'Annual Real'!A:A,'Annual Real'!B:B,0,0)","v":60.876160060699704},1.6351613157589526,1.6351613157589526,false,false,3.6411609999999997E-2,2.9848100247222842E-3,6.6126430046166877,7,"2005-08-01",1.6351613157589526]
[null,null,{"$f":"'Monthly Prices'!A556","v":"2005M10"},"2005-09-01",549,false,true,false,{"$error":"#N/A"},{"$f":"INDEX('Monthly Prices'!B556:CB556,$G$4)","v":13.522619047619999},{"$f":"IF(H568,INDEX('Monthly Prices'!B556:CB556,$G$4)*U568,FALSE)","v":false},true,{"$f":"INDEX('Monthly Prices'!B556:CB556,$G$5)","v":7.28},{"$f":"IF(H568,INDEX('Monthly Prices'!B556:CB556,$G$5)*U568,FALSE)","v":false},true,2005,{"$f":"'Monthly Prices'!B556","v":58.18507936508},55.014754755521672,{"$f":"_xlfn.XLOOKUP(P568,'Annual Real'!A:A,'Annual Real'!B:B,0,0)","v":60.876160060699704},1.6289321172802325,1.6289321172802325,false,false,4.6866769999999898E-2,3.8240994898675051E-3,6.6379304093573186,7,"2005-09-01",1.6289321172802325]
[null,null,{"$f":"'Monthly Prices'!A557","v":"2005M11"},"2005-10-01",550,false,true,false,{"$error":"#N/A"},{"$f":"INDEX('Monthly Prices'!B557:CB557,$G$4)","v":10.430909090909999},{"$f":"IF(H569,INDEX('Monthly Prices'!B557:CB557,$G$4)*U569,FALSE)","v":false},true,{"$f":"INDEX('Monthly Prices'!B557:CB557,$G$5)","v":7.46},{"$f":"IF(H569,INDEX('Monthly Prices'!B557:CB557,$G$5)*U569,FALSE)","v":false},true,2005,{"$f":"'Monthly Prices'!B557","v":55.042825396829997},55.014754755521672,{"$f":"_xlfn.XLOOKUP(P569,'Annual Real'!A:A,'Annual Real'!B:B,0,0)","v":60.876160060699704},1.623165123246167,1.623165123246167,false,false,4.3478260000000005E-2,3.5529312153603776E-3,6.6615145195141139,7,"2005-10-01",1.623165123246167]
[null,null,{"$f":"'Monthly Prices'!A558","v":"2005M12"},"2005-11-01",551,false,true,false,{"$error":"#N/A"},{"$f":"INDEX('Monthly Prices'!B558:CB558,$G$4)","v":12.827500000000001},{"$f":"IF(H570,INDEX('Monthly Prices'!B558:CB558,$G$4)*U570,FALSE)","v":false},true,{"$f":"INDEX('Monthly Prices'!B558:CB558,$G$5)","v":7.49},{"$f":"IF(H570,INDEX('Monthly Prices'!B558:CB558,$G$5)*U570,FALSE)","v":false},true,2005,{"$f":"'Monthly Prices'!B558","v":56.429642857140003},55.014754755521672,{"$f":"_xlfn.XLOOKUP(P570,'Annual Real'!A:A,'Annual Real'!B:B,0,0)","v":60.876160060699704},1.6185765283174744,1.6185765283174744,false,false,3.4554969999999997E-2,2.8349570430645787E-3,6.6803996270186872,7,"2005-11-01",1.6185765283174744]
[null,null,{"$f":"'Monthly Prices'!A559","v":"2006M01"},"2005-12-01",552,false,true,false,{"$error":"#N/A"},{"$f":"INDEX('Monthly Prices'!B559:CB559,$G$4)","v":8.6609090909099997},{"$f":"IF(H571,INDEX('Monthly Prices'!B559:CB559,$G$4)*U571,FALSE)","v":false},true,{"$f":"INDEX('Monthly Prices'!B559:CB559,$G$5)","v":7.96},{"$f":"IF(H571,INDEX('Monthly Prices'!B559:CB559,$G$5)*U571,FALSE)","v":false},true,2005,{"$f":"'Monthly Prices'!B559","v":62.45703968254},55.014754755521672,{"$f":"_xlfn.XLOOKUP(P571,'Annual Real'!A:A,'Annual Real'!B:B,0,0)","v":60.876160060699704},1.6140527083433125,1.6140527083433125,false,false,3.4156590000000001E-2,2.8027709075282292E-3,6.6991232567439578,7,"2005-12-01",1.6140527083433125]
[null,null,{"$f":"'Monthly Prices'!A560","v":"2006M02"},"2006-01-01",553,false,true,false,{"$error":"#N/A"},{"$f":"INDEX('Monthly Prices'!B560:CB560,$G$4)","v":7.4878571428600003},{"$f":"IF(H572,INDEX('Monthly Prices'!B560:CB560,$G$4)*U572,FALSE)","v":false},true,{"$f":"INDEX('Monthly Prices'!B560:CB560,$G$5)","v":7.95},{"$f":"IF(H572,INDEX('Monthly Prices'!B560:CB560,$G$5)*U572,FALSE)","v":false},true,2006,{"$f":"'Monthly Prices'!B560","v":59.704921052629999},63.543253308070007,{"$f":"_xlfn.XLOOKUP(P572,'Annual Real'!A:A,'Annual Real'!B:B,0,0)","v":71.490056507315799},1.6088048909147292,1.6088048909147292,false,false,3.9853169999999903E-2,3.2619352776828148E-3,6.7209753632246763,7,"2006-01-01",1.6088048909147292]
[null,null,{"$f":"'Monthly Prices'!A561","v":"2006M03"},"2006-02-01",554,false,true,false,{"$error":"#N/A"},{"$f":"INDEX('Monthly Prices'!B561:CB561,$G$4)","v":6.8989130434800003},{"$f":"IF(H573,INDEX('Monthly Prices'!B561:CB561,$G$4)*U573,FALSE)","v":false},true,{"$f":"INDEX('Monthly Prices'!B561:CB561,$G$5)","v":7.99},{"$f":"IF(H573,INDEX('Monthly Prices'!B561:CB561,$G$5)*U573,FALSE)","v":false},true,2006,{"$f":"'Monthly Prices'!B561","v":60.929275362319999},63.543253308070007,{"$f":"_xlfn.XLOOKUP(P573,'Annual Real'!A:A,'Annual Real'!B:B,0,0)","v":71.490056507315799},1.604073531481909,1.604073531481909,false,false,3.5974970000000002E-2,2.9495901153915316E-3,6.7407994857218334,7,"2006-02-01",1.604073531481909]
[null,null,{"$f":"'Monthly Prices'!A562","v":"2006M04"},"2006-03-01",555,false,true,false,{"$error":"#N/A"},{"$f":"INDEX('Monthly Prices'!B562:CB562,$G$4)","v":7.0940000000000003},{"$f":"IF(H574,INDEX('Monthly Prices'!B562:CB562,$G$4)*U574,FALSE)","v":false},true,{"$f":"INDEX('Monthly Prices'!B562:CB562,$G$5)","v":8.24},{"$f":"IF(H574,INDEX('Monthly Prices'!B562:CB562,$G$5)*U574,FALSE)","v":false},true,2006,{"$f":"'Monthly Prices'!B562","v":67.970575048729998},63.543253308070007,{"$f":"_xlfn.XLOOKUP(P574,'Annual Real'!A:A,'Annual Real'!B:B,0,0)","v":71.490056507315799},1.5996585934995027,1.5996585934995027,false,false,3.3626489999999898E-2,2.7599251492458343E-3,6.7594035877485004,7,"2006-03-01",1.5996585934995027]
[null,null,{"$f":"'Monthly Prices'!A563","v":"2006M05"},"2006-04-01",556,false,true,false,{"$error":"#N/A"},{"$f":"INDEX('Monthly Prices'!B563:CB563,$G$4)","v":6.1980434782599998},{"$f":"IF(H575,INDEX('Monthly Prices'!B563:CB563,$G$4)*U575,FALSE)","v":false},true,{"$f":"INDEX('Monthly Prices'!B563:CB563,$G$5)","v":8.2799999999999994},{"$f":"IF(H575,INDEX('Monthly Prices'!B563:CB563,$G$5)*U575,FALSE)","v":false},true,2006,{"$f":"'Monthly Prices'!B563","v":68.675948616599996},63.543253308070007,{"$f":"_xlfn.XLOOKUP(P575,'Annual Real'!A:A,'Annual Real'!B:B,0,0)","v":71.490056507315799},1.5950205598097751,1.5950205598097751,false,false,3.5457349999999901E-2,2.9078206304002929E-3,6.7790587209501574,7,"2006-04-01",1.5950205598097751]
[null,null,{"$f":"'Monthly Prices'!A564","v":"2006M06"},"2006-05-01",557,false,true,false,{"$error":"#N/A"},{"$f":"INDEX('Monthly Prices'!B564:CB564,$G$4)","v":6.1931818181800002},{"$f":"IF(H576,INDEX('Monthly Prices'!B564:CB564,$G$4)*U576,FALSE)","v":false},true,{"$f":"INDEX('Monthly Prices'!B564:CB564,$G$5)","v":8.2899999999999991},{"$f":"IF(H576,INDEX('Monthly Prices'!B564:CB564,$G$5)*U576,FALSE)","v":false},true,2006,{"$f":"'Monthly Prices'!B564","v":68.290151515150001},63.543253308070007,{"$f":"_xlfn.XLOOKUP(P576,'Annual Real'!A:A,'Annual Real'!B:B,0,0)","v":71.490056507315799},1.5896037847113993,1.5896037847113993,false,false,4.1666669999999899E-2,3.4076259445741108E-3,6.8021592173274588,7,"2006-05-01",1.5896037847113993]
[null,null,{"$f":"'Monthly Prices'!A565","v":"2006M07"},"2006-06-01",558,false,true,false,{"$error":"#N/A"},{"$f":"INDEX('Monthly Prices'!B565:CB565,$G$4)","v":6.25},{"$f":"IF(H577,INDEX('Monthly Prices'!B565:CB565,$G$4)*U577,FALSE)","v":false},true,{"$f":"INDEX('Monthly Prices'!B565:CB565,$G$5)","v":8.58},{"$f":"IF(H577,INDEX('Monthly Prices'!B565:CB565,$G$5)*U577,FALSE)","v":false},true,2006,{"$f":"'Monthly Prices'!B565","v":72.450133667499998},63.543253308070007,{"$f":"_xlfn.XLOOKUP(P577,'Annual Real'!A:A,'Annual Real'!B:B,0,0)","v":71.490056507315799},1.5840127927312804,1.5840127927312804,false,false,4.3187660000000003E-2,3.5296381479839045E-3,6.8261683779895979,7,"2006-06-01",1.5840127927312804]
[null,null,{"$f":"'Monthly Prices'!A566","v":"2006M08"},"2006-07-01",559,false,true,false,{"$error":"#N/A"},{"$f":"INDEX('Monthly Prices'!B566:CB566,$G$4)","v":6.9950000000000001},{"$f":"IF(H578,INDEX('Monthly Prices'!B566:CB566,$G$4)*U578,FALSE)","v":false},true,{"$f":"INDEX('Monthly Prices'!B566:CB566,$G$5)","v":8.7100000000000009},{"$f":"IF(H578,INDEX('Monthly Prices'!B566:CB566,$G$5)*U578,FALSE)","v":false},true,2006,{"$f":"'Monthly Prices'!B566","v":71.811884057970005},63.543253308070007,{"$f":"_xlfn.XLOOKUP(P578,'Annual Real'!A:A,'Annual Real'!B:B,0,0)","v":71.490056507315799},1.5786603338078284,1.5786603338078284,false,false,4.1453430000000006E-2,3.3905070070023857E-3,6.8493125497061493,7,"2006-07-01",1.5786603338078284]
[null,null,{"$f":"'Monthly Prices'!A567","v":"2006M09"},"2006-08-01",560,false,true,false,{"$error":"#N/A"},{"$f":"INDEX('Monthly Prices'!B567:CB567,$G$4)","v":4.8623809523799997},{"$f":"IF(H579,INDEX('Monthly Prices'!B567:CB567,$G$4)*U579,FALSE)","v":false},true,{"$f":"INDEX('Monthly Prices'!B567:CB567,$G$5)","v":8.77},{"$f":"IF(H579,INDEX('Monthly Prices'!B567:CB567,$G$5)*U579,FALSE)","v":false},true,2006,{"$f":"'Monthly Prices'!B567","v":62.121253968250002},63.543253308070007,{"$f":"_xlfn.XLOOKUP(P579,'Annual Real'!A:A,'Annual Real'!B:B,0,0)","v":71.490056507315799},1.5737378314203829,1.5737378314203829,false,false,3.8187369999999998E-2,3.1279049719499241E-3,6.870736548484814,7,"2006-08-01",1.5737378314203829]
[null,null,{"$f":"'Monthly Prices'!A568","v":"2006M10"},"2006-09-01",561,false,true,false,{"$error":"#N/A"},{"$f":"INDEX('Monthly Prices'!B568:CB568,$G$4)","v":5.9625000000000004},{"$f":"IF(H580,INDEX('Monthly Prices'!B568:CB568,$G$4)*U580,FALSE)","v":false},true,{"$f":"INDEX('Monthly Prices'!B568:CB568,$G$5)","v":8.9700000000000006},{"$f":"IF(H580,INDEX('Monthly Prices'!B568:CB568,$G$5)*U580,FALSE)","v":false},true,2006,{"$f":"'Monthly Prices'!B568","v":57.910468975470003},63.543253308070007,{"$f":"_xlfn.XLOOKUP(P580,'Annual Real'!A:A,'Annual Real'!B:B,0,0)","v":71.490056507315799},1.5710629234816129,1.5710629234816129,false,false,2.0623740000000002E-2,1.7026103148320981E-3,6.8824347354027582,7,"2006-09-01",1.5710629234816129]
[null,null,{"$f":"'Monthly Prices'!A569","v":"2006M11"},"2006-10-01",562,false,true,false,{"$error":"#N/A"},{"$f":"INDEX('Monthly Prices'!B569:CB569,$G$4)","v":7.4536363636400003},{"$f":"IF(H581,INDEX('Monthly Prices'!B569:CB569,$G$4)*U581,FALSE)","v":false},true,{"$f":"INDEX('Monthly Prices'!B569:CB569,$G$5)","v":8.99},{"$f":"IF(H581,INDEX('Monthly Prices'!B569:CB569,$G$5)*U581,FALSE)","v":false},true,2006,{"$f":"'Monthly Prices'!B569","v":58.143045454549998},63.543253308070007,{"$f":"_xlfn.XLOOKUP(P581,'Annual Real'!A:A,'Annual Real'!B:B,0,0)","v":71.490056507315799},1.5693660760688486,1.5693660760688486,false,false,1.305221E-2,1.0812311025703014E-3,6.8898762379000855,7,"2006-10-01",1.5693660760688486]
[null,null,{"$f":"'Monthly Prices'!A570","v":"2006M12"},"2006-11-01",563,false,true,false,{"$error":"#N/A"},{"$f":"INDEX('Monthly Prices'!B570:CB570,$G$4)","v":6.5780952381000004},{"$f":"IF(H582,INDEX('Monthly Prices'!B570:CB570,$G$4)*U582,FALSE)","v":false},true,{"$f":"INDEX('Monthly Prices'!B570:CB570,$G$5)","v":8.92},{"$f":"IF(H582,INDEX('Monthly Prices'!B570:CB570,$G$5)*U582,FALSE)","v":false},true,2006,{"$f":"'Monthly Prices'!B570","v":60.994412280699997},63.543253308070007,{"$f":"_xlfn.XLOOKUP(P582,'Annual Real'!A:A,'Annual Real'!B:B,0,0)","v":71.490056507315799},1.5668121045801389,1.5668121045801389,false,false,1.9736839999999999E-2,1.6300432459284142E-3,6.9011070341269569,7,"2006-11-01",1.5668121045801389]
[null,null,{"$f":"'Monthly Prices'!A571","v":"2007M01"},"2006-12-01",564,false,true,false,{"$error":"#N/A"},{"$f":"INDEX('Monthly Prices'!B571:CB571,$G$4)","v":6.5843478260900001},{"$f":"IF(H583,INDEX('Monthly Prices'!B571:CB571,$G$4)*U583,FALSE)","v":false},true,{"$f":"INDEX('Monthly Prices'!B571:CB571,$G$5)","v":8.59},{"$f":"IF(H583,INDEX('Monthly Prices'!B571:CB571,$G$5)*U583,FALSE)","v":false},true,2006,{"$f":"'Monthly Prices'!B571","v":53.516969696970001},63.543253308070007,{"$f":"_xlfn.XLOOKUP(P583,'Annual Real'!A:A,'Annual Real'!B:B,0,0)","v":71.490056507315799},1.5635396986905565,1.5635396986905565,false,false,2.5406499999999999E-2,2.0929471073378725E-3,6.9155506861314624,7,"2006-12-01",1.5635396986905565]
[null,null,{"$f":"'Monthly Prices'!A572","v":"2007M02"},"2007-01-01",565,false,true,false,{"$error":"#N/A"},{"$f":"INDEX('Monthly Prices'!B572:CB572,$G$4)","v":7.9725000000000001},{"$f":"IF(H584,INDEX('Monthly Prices'!B572:CB572,$G$4)*U584,FALSE)","v":false},true,{"$f":"INDEX('Monthly Prices'!B572:CB572,$G$5)","v":8.56},{"$f":"IF(H584,INDEX('Monthly Prices'!B572:CB572,$G$5)*U584,FALSE)","v":false},true,2007,{"$f":"'Monthly Prices'!B572","v":57.5625},74.21430612406165,{"$f":"_xlfn.XLOOKUP(P584,'Annual Real'!A:A,'Annual Real'!B:B,0,0)","v":74.522447633877803},1.5608652151832267,1.5608652151832267,false,false,2.0756429999999999E-2,1.7134621755381385E-3,6.9274002206551657,7,"2007-01-01",1.5608652151832267]
[null,null,{"$f":"'Monthly Prices'!A573","v":"2007M03"},"2007-02-01",566,false,true,false,{"$error":"#N/A"},{"$f":"INDEX('Monthly Prices'!B573:CB573,$G$4)","v":7.12318181818},{"$f":"IF(H585,INDEX('Monthly Prices'!B573:CB573,$G$4)*U585,FALSE)","v":false},true,{"$f":"INDEX('Monthly Prices'!B573:CB573,$G$5)","v":8.3699999999999992},{"$f":"IF(H585,INDEX('Monthly Prices'!B573:CB573,$G$5)*U585,FALSE)","v":false},true,2007,{"$f":"'Monthly Prices'!B573","v":60.59984848485},74.21430612406165,{"$f":"_xlfn.XLOOKUP(P585,'Annual Real'!A:A,'Annual Real'!B:B,0,0)","v":74.522447633877803},1.5577641365066357,1.5577641365066357,false,false,2.4151989999999998E-2,1.9907241436083467E-3,6.9411907635268619,7,"2007-02-01",1.5577641365066357]
[null,null,{"$f":"'Monthly Prices'!A574","v":"2007M04"},"2007-03-01",567,false,true,false,{"$error":"#N/A"},{"$f":"INDEX('Monthly Prices'!B574:CB574,$G$4)","v":7.5873809523800002},{"$f":"IF(H586,INDEX('Monthly Prices'!B574:CB574,$G$4)*U586,FALSE)","v":false},true,{"$f":"INDEX('Monthly Prices'!B574:CB574,$G$5)","v":8},{"$f":"IF(H586,INDEX('Monthly Prices'!B574:CB574,$G$5)*U586,FALSE)","v":false},true,2007,{"$f":"'Monthly Prices'!B574","v":65.057640350880007},74.21430612406165,{"$f":"_xlfn.XLOOKUP(P586,'Annual Real'!A:A,'Annual Real'!B:B,0,0)","v":74.522447633877803},1.5542101705832607,1.5542101705832607,false,false,2.778779E-2,2.2866700981896138E-3,6.957062976891649,7,"2007-03-01",1.5542101705832607]
[null,null,{"$f":"'Monthly Prices'!A575","v":"2007M05"},"2007-04-01",568,false,true,false,{"$error":"#N/A"},{"$f":"INDEX('Monthly Prices'!B575:CB575,$G$4)","v":7.61347826087},{"$f":"IF(H587,INDEX('Monthly Prices'!B575:CB575,$G$4)*U587,FALSE)","v":false},true,{"$f":"INDEX('Monthly Prices'!B575:CB575,$G$5)","v":7.98},{"$f":"IF(H587,INDEX('Monthly Prices'!B575:CB575,$G$5)*U587,FALSE)","v":false},true,2007,{"$f":"'Monthly Prices'!B575","v":65.157259552040003},74.21430612406165,{"$f":"_xlfn.XLOOKUP(P587,'Annual Real'!A:A,'Annual Real'!B:B,0,0)","v":74.522447633877803},1.5509224380816333,1.5509224380816333,false,false,2.5736970000000001E-2,2.1198561713338115E-3,6.9718109497775709,7,"2007-04-01",1.5509224380816333]
[null,null,{"$f":"'Monthly Prices'!A576","v":"2007M06"},"2007-05-01",569,false,true,false,{"$error":"#N/A"},{"$f":"INDEX('Monthly Prices'!B576:CB576,$G$4)","v":7.3041428571400004},{"$f":"IF(H588,INDEX('Monthly Prices'!B576:CB576,$G$4)*U588,FALSE)","v":false},true,{"$f":"INDEX('Monthly Prices'!B576:CB576,$G$5)","v":8.0299999999999994},{"$f":"IF(H588,INDEX('Monthly Prices'!B576:CB576,$G$5)*U588,FALSE)","v":false},true,2007,{"$f":"'Monthly Prices'!B576","v":68.188095238100004},74.21430612406165,{"$f":"_xlfn.XLOOKUP(P588,'Annual Real'!A:A,'Annual Real'!B:B,0,0)","v":74.522447633877803},1.5474944325354354,1.5474944325354354,false,false,2.6908639999999998E-2,2.215197337144037E-3,6.9872548868285902,7,"2007-05-01",1.5474944325354354]
[null,null,{"$f":"'Monthly Prices'!A577","v":"2007M07"},"2007-06-01",570,false,true,false,{"$error":"#N/A"},{"$f":"INDEX('Monthly Prices'!B577:CB577,$G$4)","v":6.2209090909100002},{"$f":"IF(H589,INDEX('Monthly Prices'!B577:CB577,$G$4)*U589,FALSE)","v":false},true,{"$f":"INDEX('Monthly Prices'!B577:CB577,$G$5)","v":8.1300000000000008},{"$f":"IF(H589,INDEX('Monthly Prices'!B577:CB577,$G$5)*U589,FALSE)","v":false},true,2007,{"$f":"'Monthly Prices'!B577","v":73.601695526699999},74.21430612406165,{"$f":"_xlfn.XLOOKUP(P589,'Annual Real'!A:A,'Annual Real'!B:B,0,0)","v":74.522447633877803},1.5440787980323678,1.5440787980323678,false,false,2.6870379999999999E-2,2.2120856185710025E-3,7.0027112928770334,7,"2007-06-01",1.5440787980323678]
[null,null,{"$f":"'Monthly Prices'!A578","v":"2007M08"},"2007-07-01",571,false,true,false,{"$error":"#N/A"},{"$f":"INDEX('Monthly Prices'!B578:CB578,$G$4)","v":6.1954347826099996},{"$f":"IF(H590,INDEX('Monthly Prices'!B578:CB578,$G$4)*U590,FALSE)","v":false},true,{"$f":"INDEX('Monthly Prices'!B578:CB578,$G$5)","v":8.34},{"$f":"IF(H590,INDEX('Monthly Prices'!B578:CB578,$G$5)*U590,FALSE)","v":false},true,2007,{"$f":"'Monthly Prices'!B578","v":70.126811594200007},74.21430612406165,{"$f":"_xlfn.XLOOKUP(P590,'Annual Real'!A:A,'Annual Real'!B:B,0,0)","v":74.522447633877803},1.5410825233343972,1.5410825233343972,false,false,2.3582309999999999E-2,1.944266223646185E-3,7.0163264279177202,7,"2007-07-01",1.5410825233343972]
[null,null,{"$f":"'Monthly Prices'!A579","v":"2007M09"},"2007-08-01",572,false,true,false,{"$error":"#N/A"},{"$f":"INDEX('Monthly Prices'!B579:CB579,$G$4)","v":6.0964999999999998},{"$f":"IF(H591,INDEX('Monthly Prices'!B579:CB579,$G$4)*U591,FALSE)","v":false},true,{"$f":"INDEX('Monthly Prices'!B579:CB579,$G$5)","v":8.5399999999999991},{"$f":"IF(H591,INDEX('Monthly Prices'!B579:CB579,$G$5)*U591,FALSE)","v":false},true,2007,{"$f":"'Monthly Prices'!B579","v":76.76243859649},74.21430612406165,{"$f":"_xlfn.XLOOKUP(P591,'Annual Real'!A:A,'Annual Real'!B:B,0,0)","v":74.522447633877803},1.5385791079626314,1.5385791079626314,false,false,1.9700829999999999E-2,1.6270956487123289E-3,7.0277426621185306,7,"2007-08-01",1.5385791079626314]
[null,null,{"$f":"'Monthly Prices'!A580","v":"2007M10"},"2007-09-01",573,false,true,false,{"$error":"#N/A"},{"$f":"INDEX('Monthly Prices'!B580:CB580,$G$4)","v":6.7980434782600003},{"$f":"IF(H592,INDEX('Monthly Prices'!B580:CB580,$G$4)*U592,FALSE)","v":false},true,{"$f":"INDEX('Monthly Prices'!B580:CB580,$G$5)","v":9.16},{"$f":"IF(H592,INDEX('Monthly Prices'!B580:CB580,$G$5)*U592,FALSE)","v":false},true,2007,{"$f":"'Monthly Prices'!B580","v":81.967246376809996},74.21430612406165,{"$f":"_xlfn.XLOOKUP(P592,'Annual Real'!A:A,'Annual Real'!B:B,0,0)","v":74.522447633877803},1.5350984470107958,1.5350984470107958,false,false,2.7550520000000002E-2,2.2673861462196854E-3,7.043677268469815,7,"2007-09-01",1.5350984470107958]
[null,null,{"$f":"'Monthly Prices'!A581","v":"2007M11"},"2007-10-01",574,false,true,false,{"$error":"#N/A"},{"$f":"INDEX('Monthly Prices'!B581:CB581,$G$4)","v":7.1377272727300003},{"$f":"IF(H593,INDEX('Monthly Prices'!B581:CB581,$G$4)*U593,FALSE)","v":false},true,{"$f":"INDEX('Monthly Prices'!B581:CB581,$G$5)","v":9.4700000000000006},{"$f":"IF(H593,INDEX('Monthly Prices'!B581:CB581,$G$5)*U593,FALSE)","v":false},true,2007,{"$f":"'Monthly Prices'!B581","v":91.338261183260002},74.21430612406165,{"$f":"_xlfn.XLOOKUP(P593,'Annual Real'!A:A,'Annual Real'!B:B,0,0)","v":74.522447633877803},1.5306593755278779,1.5306593755278779,false,false,3.5361749999999997E-2,2.900104068801701E-3,7.0641046655754307,7,"2007-10-01",1.5306593755278779]
[null,null,{"$f":"'Monthly Prices'!A582","v":"2007M12"},"2007-11-01",575,false,true,false,{"$error":"#N/A"},{"$f":"INDEX('Monthly Prices'!B582:CB582,$G$4)","v":7.1497619047600001},{"$f":"IF(H594,INDEX('Monthly Prices'!B582:CB582,$G$4)*U594,FALSE)","v":false},true,{"$f":"INDEX('Monthly Prices'!B582:CB582,$G$5)","v":9.49},{"$f":"IF(H594,INDEX('Monthly Prices'!B582:CB582,$G$5)*U594,FALSE)","v":false},true,2007,{"$f":"'Monthly Prices'!B582","v":89.519941520469999},74.21430612406165,{"$f":"_xlfn.XLOOKUP(P594,'Annual Real'!A:A,'Annual Real'!B:B,0,0)","v":74.522447633877803},1.5252910124946548,1.5252910124946548,false,false,4.3062030000000001E-2,3.5195664232250401E-3,7.0889672511665376,7,"2007-11-01",1.5252910124946548]
[null,null,{"$f":"'Monthly Prices'!A583","v":"2008M01"},"2007-12-01",576,false,true,false,{"$error":"#N/A"},{"$f":"INDEX('Monthly Prices'!B583:CB583,$G$4)","v":8},{"$f":"IF(H595,INDEX('Monthly Prices'!B583:CB583,$G$4)*U595,FALSE)","v":false},true,{"$f":"INDEX('Monthly Prices'!B583:CB583,$G$5)","v":10.7},{"$f":"IF(H595,INDEX('Monthly Prices'!B583:CB583,$G$5)*U595,FALSE)","v":false},true,2007,{"$f":"'Monthly Prices'!B583","v":90.689935064940002},74.21430612406165,{"$f":"_xlfn.XLOOKUP(P595,'Annual Real'!A:A,'Annual Real'!B:B,0,0)","v":74.522447633877803},1.5202149403645442,1.5202149403645442,false,false,4.0812689999999999E-2,3.3390489695446224E-3,7.1126376599616812,7,"2007-12-01",1.5202149403645442]
[null,null,{"$f":"'Monthly Prices'!A584","v":"2008M02"},"2008-01-01",577,{"$f":"AND(E596>=$M$4,L596)","v":false},{"$f":"AND(E596<=$M$5,O596)","v":true},{"$f":"AND(F596:G596)","v":false},{"$f":"IF(H596,D596,NA)","v":{"$error":"#N/A"}},{"$f":"INDEX('Monthly Prices'!B584:CB584,$G$4)","v":8.5500000000000007},{"$f":"IF(H596,INDEX('Monthly Prices'!B584:CB584,$G$4)*U596,FALSE)","v":false},true,{"$f":"INDEX('Monthly Prices'!B584:CB584,$G$5)","v":10.84},{"$f":"IF(H596,INDEX('Monthly Prices'!B584:CB584,$G$5)*U596,FALSE)","v":false},{"$f":"AND(ISNUMBER(M596),M596>0)","v":true},2008,{"$f":"'Monthly Prices'!B584","v":93.387590643270002},93.087560360194985,{"$f":"_xlfn.XLOOKUP(P596,'Annual Real'!A:A,'Annual Real'!B:B,0,0)","v":94.317583667592203},1.5149145697919082,1.5149145697919082,false,false,4.2802939999999998E-2,3.4987917327669038E-3,7.1375232978045213,7,"2008-01-01",1.5149145697919082]
[null,null,{"$f":"'Monthly Prices'!A585","v":"2008M03"},{"$f":"EDATE(D596,1)","v":"2008-02-01"},{"$f":"E596+1","v":578},false,true,false,{"$error":"#N/A"},{"$f":"INDEX('Monthly Prices'!B585:CB585,$G$4)","v":9.4014285714299994},{"$f":"IF(H597,INDEX('Monthly Prices'!B585:CB585,$G$4)*U597,FALSE)","v":false},{"$f":"ISNUMBER(J597)","v":true},{"$f":"INDEX('Monthly Prices'!B585:CB585,$G$5)","v":11.04},{"$f":"IF(H597,INDEX('Monthly Prices'!B585:CB585,$G$5)*U597,FALSE)","v":false},true,{"$f":"YEAR(D597)","v":2008},{"$f":"'Monthly Prices'!B585","v":101.84283333333001},{"$f":"AVERAGEIF(P:P,P597,Q:Q)","v":93.087560360194985},{"$f":"_xlfn.XLOOKUP(P597,'Annual Real'!A:A,'Annual Real'!B:B,0,0)","v":94.317583667592203},{"$f":"AC597","v":1.5099391906186126},{"$f":"IF($U$19,T597,1)","v":1.5099391906186126},false,false,{"$f":"LOOKUP(D597,INDIRECT(\"'\"&$X$14&\"'!A:A\"),INDIRECT(\"'\"&$X$14&\"'!B:B\"))/100","v":4.0265559999999895E-2},{"$f":"(1+X597)^(1/12)-1","v":3.2950857916715925E-3},{"$f":"Z596*(1+Y597)","v":7.1610420494108418},{"$f":"LEN(C597)","v":7},{"$f":"IF(AA597>2,D597,0)","v":"2008-02-01"},{"$f":"$AC$17/Z597","v":1.5099391906186126}]
[null,null,{"$f":"'Monthly Prices'!A586","v":"2008M04"},"2008-03-01",579,false,true,false,{"$error":"#N/A"},{"$f":"INDEX('Monthly Prices'!B586:CB586,$G$4)","v":10.132272727269999},{"$f":"IF(H598,INDEX('Monthly Prices'!B586:CB586,$G$4)*U598,FALSE)","v":false},true,{"$f":"INDEX('Monthly Prices'!B586:CB586,$G$5)","v":12.19},{"$f":"IF(H598,INDEX('Monthly Prices'!B586:CB586,$G$5)*U598,FALSE)","v":false},true,2008,{"$f":"'Monthly Prices'!B586","v":108.75818181818001},93.087560360194985,{"$f":"_xlfn.XLOOKUP(P598,'Annual Real'!A:A,'Annual Real'!B:B,0,0)","v":94.317583667592203},1.5050345374945768,1.5050345374945768,{"$f":"IF(AND(H597,H598),LN(K598/K597))","v":false},{"$f":"IF(AND($H597,$H598),LN(N598/N597))","v":false},3.9814559999999902E-2,3.258830944969926E-3,7.1843786748396923,7,"2008-03-01",1.5050345374945768]
[null,null,{"$f":"'Monthly Prices'!A587","v":"2008M05"},"2008-04-01",580,false,true,false,{"$error":"#N/A"},{"$f":"INDEX('Monthly Prices'!B587:CB587,$G$4)","v":11.23045454545},{"$f":"IF(H599,INDEX('Monthly Prices'!B587:CB587,$G$4)*U599,FALSE)","v":false},true,{"$f":"INDEX('Monthly Prices'!B587:CB587,$G$5)","v":12.38},{"$f":"IF(H599,INDEX('Monthly Prices'!B587:CB587,$G$5)*U599,FALSE)","v":false},true,2008,{"$f":"'Monthly Prices'!B587","v":122.63260894661001},93.087560360194985,{"$f":"_xlfn.XLOOKUP(P599,'Annual Real'!A:A,'Annual Real'!B:B,0,0)","v":94.317583667592203},1.5001994079949259,1.5001994079949259,false,false,3.9368899999999998E-2,3.2229912062913257E-3,7.2075338641313671,7,"2008-04-01",1.5001994079949259]
[null,null,{"$f":"'Monthly Prices'!A588","v":"2008M06"},"2008-05-01",581,false,true,false,{"$error":"#N/A"},{"$f":"INDEX('Monthly Prices'!B588:CB588,$G$4)","v":12.67619047619},{"$f":"IF(H600,INDEX('Monthly Prices'!B588:CB588,$G$4)*U600,FALSE)","v":false},true,{"$f":"INDEX('Monthly Prices'!B588:CB588,$G$5)","v":12.63},{"$f":"IF(H600,INDEX('Monthly Prices'!B588:CB588,$G$5)*U600,FALSE)","v":false},true,2008,{"$f":"'Monthly Prices'!B588","v":131.52111111111},93.087560360194985,{"$f":"_xlfn.XLOOKUP(P600,'Annual Real'!A:A,'Annual Real'!B:B,0,0)","v":94.317583667592203},1.4950940346486017,1.4950940346486017,false,false,4.1755430000000003E-2,3.4147506631743152E-3,7.2321457951737607,7,"2008-05-01",1.4950940346486017]
[null,null,{"$f":"'Monthly Prices'!A589","v":"2008M07"},"2008-06-01",582,false,true,false,{"$error":"#N/A"},{"$f":"INDEX('Monthly Prices'!B589:CB589,$G$4)","v":11.148782608699999},{"$f":"IF(H601,INDEX('Monthly Prices'!B589:CB589,$G$4)*U601,FALSE)","v":false},true,{"$f":"INDEX('Monthly Prices'!B589:CB589,$G$5)","v":14.37},{"$f":"IF(H601,INDEX('Monthly Prices'!B589:CB589,$G$5)*U601,FALSE)","v":false},true,2008,{"$f":"'Monthly Prices'!B589","v":132.82518445323001},93.087560360194985,{"$f":"_xlfn.XLOOKUP(P601,'Annual Real'!A:A,'Annual Real'!B:B,0,0)","v":94.317583667592203},1.4890018042558291,1.4890018042558291,false,false,5.0217900000000003E-2,4.0914862395464713E-3,7.261736020177108,7,"2008-06-01",1.4890018042558291]
[null,null,{"$f":"'Monthly Prices'!A590","v":"2008M08"},"2008-07-01",583,false,true,false,{"$error":"#N/A"},{"$f":"INDEX('Monthly Prices'!B590:CB590,$G$4)","v":8.25},{"$f":"IF(H602,INDEX('Monthly Prices'!B590:CB590,$G$4)*U602,FALSE)","v":false},true,{"$f":"INDEX('Monthly Prices'!B590:CB590,$G$5)","v":14.64},{"$f":"IF(H602,INDEX('Monthly Prices'!B590:CB590,$G$5)*U602,FALSE)","v":false},true,2008,{"$f":"'Monthly Prices'!B590","v":114.56682539683},93.087560360194985,{"$f":"_xlfn.XLOOKUP(P602,'Annual Real'!A:A,'Annual Real'!B:B,0,0)","v":94.317583667592203},1.4822559032912257,1.4822559032912257,false,false,5.6001229999999999E-2,4.5511041309564959E-3,7.2947849369764519,7,"2008-07-01",1.4822559032912257]
[null,null,{"$f":"'Monthly Prices'!A591","v":"2008M09"},"2008-08-01",584,false,true,false,{"$error":"#N/A"},{"$f":"INDEX('Monthly Prices'!B591:CB591,$G$4)","v":7.6944999999999997},{"$f":"IF(H603,INDEX('Monthly Prices'!B591:CB591,$G$4)*U603,FALSE)","v":false},true,{"$f":"INDEX('Monthly Prices'!B591:CB591,$G$5)","v":14.85},{"$f":"IF(H603,INDEX('Monthly Prices'!B591:CB591,$G$5)*U603,FALSE)","v":false},true,2008,{"$f":"'Monthly Prices'!B591","v":99.656767676770002},93.087560360194985,{"$f":"_xlfn.XLOOKUP(P603,'Annual Real'!A:A,'Annual Real'!B:B,0,0)","v":94.317583667592203},1.4758066734880619,1.4758066734880619,false,false,5.3718550000000004E-2,4.3699692642811261E-3,7.3266629229405797,7,"2008-08-01",1.4758066734880619]
[null,null,{"$f":"'Monthly Prices'!A592","v":"2008M10"},"2008-09-01",585,false,true,false,{"$error":"#N/A"},{"$f":"INDEX('Monthly Prices'!B592:CB592,$G$4)","v":6.7335000000000003},{"$f":"IF(H604,INDEX('Monthly Prices'!B592:CB592,$G$4)*U604,FALSE)","v":false},true,{"$f":"INDEX('Monthly Prices'!B592:CB592,$G$5)","v":15.93},{"$f":"IF(H604,INDEX('Monthly Prices'!B592:CB592,$G$5)*U604,FALSE)","v":false},true,2008,{"$f":"'Monthly Prices'!B592","v":72.692753623190001},93.087560360194985,{"$f":"_xlfn.XLOOKUP(P604,'Annual Real'!A:A,'Annual Real'!B:B,0,0)","v":94.317583667592203},1.4698920512071023,1.4698920512071023,false,false,4.936927E-2,4.0238480615650829E-3,7.3561443013407946,7,"2008-09-01",1.4698920512071023]
[null,null,{"$f":"'Monthly Prices'!A593","v":"2008M11"},"2008-10-01",586,false,true,false,{"$error":"#N/A"},{"$f":"INDEX('Monthly Prices'!B593:CB593,$G$4)","v":6.6745000000000001},{"$f":"IF(H605,INDEX('Monthly Prices'!B593:CB593,$G$4)*U605,FALSE)","v":false},true,{"$f":"INDEX('Monthly Prices'!B593:CB593,$G$5)","v":15.81},{"$f":"IF(H605,INDEX('Monthly Prices'!B593:CB593,$G$5)*U605,FALSE)","v":false},true,2008,{"$f":"'Monthly Prices'!B593","v":53.972728070179997},93.087560360194985,{"$f":"_xlfn.XLOOKUP(P605,'Annual Real'!A:A,'Annual Real'!B:B,0,0)","v":94.317583667592203},1.4655012338366238,1.4655012338366238,false,false,3.6551859999999999E-2,2.9961198729144822E-3,7.3781841914700683,7,"2008-10-01",1.4655012338366238]
[null,null,{"$f":"'Monthly Prices'!A594","v":"2008M12"},"2008-11-01",587,false,true,false,{"$error":"#N/A"},{"$f":"INDEX('Monthly Prices'!B594:CB594,$G$4)","v":5.7948000000000004},{"$f":"IF(H606,INDEX('Monthly Prices'!B594:CB594,$G$4)*U606,FALSE)","v":false},true,{"$f":"INDEX('Monthly Prices'!B594:CB594,$G$5)","v":15.5},{"$f":"IF(H606,INDEX('Monthly Prices'!B594:CB594,$G$5)*U606,FALSE)","v":false},true,2008,{"$f":"'Monthly Prices'!B594","v":41.338924963929998},93.087560360194985,{"$f":"_xlfn.XLOOKUP(P606,'Annual Real'!A:A,'Annual Real'!B:B,0,0)","v":94.317583667592203},1.4642025261421283,1.4642025261421283,false,false,1.0695749999999999E-2,8.8697271812332446E-4,7.3847284395571915,7,"2008-11-01",1.4642025261421283]
[null,null,{"$f":"'Monthly Prices'!A595","v":"2009M01"},"2008-12-01",588,false,true,false,{"$error":"#N/A"},{"$f":"INDEX('Monthly Prices'!B595:CB595,$G$4)","v":5.2413999999999996},{"$f":"IF(H607,INDEX('Monthly Prices'!B595:CB595,$G$4)*U607,FALSE)","v":false},true,{"$f":"INDEX('Monthly Prices'!B595:CB595,$G$5)","v":13.89},{"$f":"IF(H607,INDEX('Monthly Prices'!B595:CB595,$G$5)*U607,FALSE)","v":false},true,2008,{"$f":"'Monthly Prices'!B595","v":43.855214285709998},93.087560360194985,{"$f":"_xlfn.XLOOKUP(P607,'Annual Real'!A:A,'Annual Real'!B:B,0,0)","v":94.317583667592203},1.4640910421701505,1.4640910421701505,false,false,9.1412899999999899E-4,7.6145518800974088E-5,7.3852907535354255,7,"2008-12-01",1.4640910421701505]
[null,null,{"$f":"'Monthly Prices'!A596","v":"2009M02"},"2009-01-01",589,false,true,false,{"$error":"#N/A"},{"$f":"INDEX('Monthly Prices'!B596:CB596,$G$4)","v":4.5190000000000001},{"$f":"IF(H608,INDEX('Monthly Prices'!B596:CB596,$G$4)*U608,FALSE)","v":false},true,{"$f":"INDEX('Monthly Prices'!B596:CB596,$G$5)","v":11.04},{"$f":"IF(H608,INDEX('Monthly Prices'!B596:CB596,$G$5)*U608,FALSE)","v":false},true,2009,{"$f":"'Monthly Prices'!B596","v":41.843675438600002},64.529078334974173,{"$f":"_xlfn.XLOOKUP(P608,'Annual Real'!A:A,'Annual Real'!B:B,0,0)","v":64.021949640347799},1.464054633061681,1.464054633061681,false,false,2.9846499999999901E-4,2.4868681569145679E-5,7.3854744159794707,7,"2009-01-01",1.464054633061681]
[null,null,{"$f":"'Monthly Prices'!A597","v":"2009M03"},"2009-02-01",590,false,true,false,{"$error":"#N/A"},{"$f":"INDEX('Monthly Prices'!B597:CB597,$G$4)","v":3.9502000000000002},{"$f":"IF(H609,INDEX('Monthly Prices'!B597:CB597,$G$4)*U609,FALSE)","v":false},true,{"$f":"INDEX('Monthly Prices'!B597:CB597,$G$5)","v":10.9},{"$f":"IF(H609,INDEX('Monthly Prices'!B597:CB597,$G$5)*U609,FALSE)","v":false},true,2009,{"$f":"'Monthly Prices'!B597","v":46.645303030299999},64.529078334974173,{"$f":"_xlfn.XLOOKUP(P609,'Annual Real'!A:A,'Annual Real'!B:B,0,0)","v":64.021949640347799},1.4637668372306811,1.4637668372306811,false,false,2.361911E-3,1.9661316521180083E-4,7.386926497480987,7,"2009-02-01",1.4637668372306811]
[null,null,{"$f":"'Monthly Prices'!A598","v":"2009M04"},"2009-03-01",591,false,true,false,{"$error":"#N/A"},{"$f":"INDEX('Monthly Prices'!B598:CB598,$G$4)","v":3.4998},{"$f":"IF(H610,INDEX('Monthly Prices'!B598:CB598,$G$4)*U610,FALSE)","v":false},true,{"$f":"INDEX('Monthly Prices'!B598:CB598,$G$5)","v":8.51},{"$f":"IF(H610,INDEX('Monthly Prices'!B598:CB598,$G$5)*U610,FALSE)","v":false},true,2009,{"$f":"'Monthly Prices'!B598","v":50.278095238100001},64.529078334974173,{"$f":"_xlfn.XLOOKUP(P610,'Annual Real'!A:A,'Annual Real'!B:B,0,0)","v":64.021949640347799},1.4642356758980892,1.4642356758980892,false,false,-3.8355620000000003E-3,-3.2019344640032976E-4,7.3845612520274528,7,"2009-03-01",1.4642356758980892]
[null,null,{"$f":"'Monthly Prices'!A599","v":"2009M05"},"2009-04-01",592,false,true,false,{"$error":"#N/A"},{"$f":"INDEX('Monthly Prices'!B599:CB599,$G$4)","v":3.81},{"$f":"IF(H611,INDEX('Monthly Prices'!B599:CB599,$G$4)*U611,FALSE)","v":false},true,{"$f":"INDEX('Monthly Prices'!B599:CB599,$G$5)","v":8.09},{"$f":"IF(H611,INDEX('Monthly Prices'!B599:CB599,$G$5)*U611,FALSE)","v":false},true,2009,{"$f":"'Monthly Prices'!B599","v":58.153888888890002},64.529078334974173,{"$f":"_xlfn.XLOOKUP(P611,'Annual Real'!A:A,'Annual Real'!B:B,0,0)","v":64.021949640347799},1.465138428550431,1.465138428550431,false,false,-7.3688569999999995E-3,-6.1615519376889694E-4,7.3800112162583114,7,"2009-04-01",1.465138428550431]
[null,null,{"$f":"'Monthly Prices'!A600","v":"2009M06"},"2009-05-01",593,false,true,false,{"$error":"#N/A"},{"$f":"INDEX('Monthly Prices'!B600:CB600,$G$4)","v":3.8043},{"$f":"IF(H612,INDEX('Monthly Prices'!B600:CB600,$G$4)*U612,FALSE)","v":false},true,{"$f":"INDEX('Monthly Prices'!B600:CB600,$G$5)","v":7.95},{"$f":"IF(H612,INDEX('Monthly Prices'!B600:CB600,$G$5)*U612,FALSE)","v":false},true,2009,{"$f":"'Monthly Prices'!B600","v":69.149696969700003},64.529078334974173,{"$f":"_xlfn.XLOOKUP(P612,'Annual Real'!A:A,'Annual Real'!B:B,0,0)","v":64.021949640347799},1.4667139535998817,1.4667139535998817,false,false,-1.281436E-2,-1.0741869916650604E-3,7.3720837042114642,7,"2009-05-01",1.4667139535998817]
[null,null,{"$f":"'Monthly Prices'!A601","v":"2009M07"},"2009-06-01",594,false,true,false,{"$error":"#N/A"},{"$f":"INDEX('Monthly Prices'!B601:CB601,$G$4)","v":3.3902000000000001},{"$f":"IF(H613,INDEX('Monthly Prices'!B601:CB601,$G$4)*U613,FALSE)","v":false},true,{"$f":"INDEX('Monthly Prices'!B601:CB601,$G$5)","v":6.67},{"$f":"IF(H613,INDEX('Monthly Prices'!B601:CB601,$G$5)*U613,FALSE)","v":false},true,2009,{"$f":"'Monthly Prices'!B601","v":64.666673254279999},64.529078334974173,{"$f":"_xlfn.XLOOKUP(P613,'Annual Real'!A:A,'Annual Real'!B:B,0,0)","v":64.021949640347799},1.4684714596339148,1.4684714596339148,false,false,-1.4267760000000001E-2,-1.1968268245888813E-3,7.3632605966811493,7,"2009-06-01",1.4684714596339148]
[null,null,{"$f":"'Monthly Prices'!A602","v":"2009M08"},"2009-07-01",595,false,true,false,{"$error":"#N/A"},{"$f":"INDEX('Monthly Prices'!B602:CB602,$G$4)","v":3.1478999999999999},{"$f":"IF(H614,INDEX('Monthly Prices'!B602:CB602,$G$4)*U614,FALSE)","v":false},true,{"$f":"INDEX('Monthly Prices'!B602:CB602,$G$5)","v":6.92},{"$f":"IF(H614,INDEX('Monthly Prices'!B602:CB602,$G$5)*U614,FALSE)","v":false},true,2009,{"$f":"'Monthly Prices'!B602","v":71.629682539680005},64.529078334974173,{"$f":"_xlfn.XLOOKUP(P614,'Annual Real'!A:A,'Annual Real'!B:B,0,0)","v":64.021949640347799},1.4710673948588631,1.4710673948588631,false,false,-2.0971609999999998E-2,-1.7646609761188259E-3,7.3502669380491925,7,"2009-07-01",1.4710673948588631]
[null,null,{"$f":"'Monthly Prices'!A603","v":"2009M09"},"2009-08-01",596,false,true,false,{"$error":"#N/A"},{"$f":"INDEX('Monthly Prices'!B603:CB603,$G$4)","v":2.9615999999999998},{"$f":"IF(H615,INDEX('Monthly Prices'!B603:CB603,$G$4)*U615,FALSE)","v":false},true,{"$f":"INDEX('Monthly Prices'!B603:CB603,$G$5)","v":7.13},{"$f":"IF(H615,INDEX('Monthly Prices'!B603:CB603,$G$5)*U615,FALSE)","v":false},true,2009,{"$f":"'Monthly Prices'!B603","v":68.346111111110005},64.529078334974173,{"$f":"_xlfn.XLOOKUP(P615,'Annual Real'!A:A,'Annual Real'!B:B,0,0)","v":64.021949640347799},1.472901825638111,1.472901825638111,false,false,-1.4843489999999999E-2,-1.245453530789975E-3,7.3411125221389506,7,"2009-08-01",1.472901825638111]
[null,null,{"$f":"'Monthly Prices'!A604","v":"2009M10"},"2009-09-01",597,false,true,false,{"$error":"#N/A"},{"$f":"INDEX('Monthly Prices'!B604:CB604,$G$4)","v":4.0232000000000001},{"$f":"IF(H616,INDEX('Monthly Prices'!B604:CB604,$G$4)*U616,FALSE)","v":false},true,{"$f":"INDEX('Monthly Prices'!B604:CB604,$G$5)","v":7.6},{"$f":"IF(H616,INDEX('Monthly Prices'!B604:CB604,$G$5)*U616,FALSE)","v":false},true,2009,{"$f":"'Monthly Prices'!B604","v":74.080606060609995},64.529078334974173,{"$f":"_xlfn.XLOOKUP(P616,'Annual Real'!A:A,'Annual Real'!B:B,0,0)","v":64.021949640347799},1.4744916363123453,1.4744916363123453,false,false,-1.286206E-2,-1.0782093537067272E-3,7.3331972659509672,7,"2009-09-01",1.4744916363123453]
[null,null,{"$f":"'Monthly Prices'!A605","v":"2009M11"},"2009-10-01",598,false,true,false,{"$error":"#N/A"},{"$f":"INDEX('Monthly Prices'!B605:CB605,$G$4)","v":3.6907000000000001},{"$f":"IF(H617,INDEX('Monthly Prices'!B605:CB605,$G$4)*U617,FALSE)","v":false},true,{"$f":"INDEX('Monthly Prices'!B605:CB605,$G$5)","v":7.81},{"$f":"IF(H617,INDEX('Monthly Prices'!B605:CB605,$G$5)*U617,FALSE)","v":false},true,2009,{"$f":"'Monthly Prices'!B605","v":77.552301587299993},64.529078334974173,{"$f":"_xlfn.XLOOKUP(P617,'Annual Real'!A:A,'Annual Real'!B:B,0,0)","v":64.021949640347799},1.4747165326925837,1.4747165326925837,false,false,-1.8284829999999999E-3,-1.525014301072547E-4,7.332078942880651,7,"2009-10-01",1.4747165326925837]
[null,null,{"$f":"'Monthly Prices'!A606","v":"2009M12"},"2009-11-01",599,false,true,false,{"$error":"#N/A"},{"$f":"INDEX('Monthly Prices'!B606:CB606,$G$4)","v":5.3651999999999997},{"$f":"IF(H618,INDEX('Monthly Prices'!B606:CB606,$G$4)*U618,FALSE)","v":false},true,{"$f":"INDEX('Monthly Prices'!B606:CB606,$G$5)","v":8.01},{"$f":"IF(H618,INDEX('Monthly Prices'!B606:CB606,$G$5)*U618,FALSE)","v":false},true,2009,{"$f":"'Monthly Prices'!B606","v":74.881818181819995},64.529078334974173,{"$f":"_xlfn.XLOOKUP(P618,'Annual Real'!A:A,'Annual Real'!B:B,0,0)","v":64.021949640347799},1.4724796068323938,1.4724796068323938,false,false,1.838296E-2,1.5191557491256447E-3,7.3432175127597716,7,"2009-11-01",1.4724796068323938]
[null,null,{"$f":"'Monthly Prices'!A607","v":"2010M01"},"2009-12-01",600,false,true,false,{"$error":"#N/A"},{"$f":"INDEX('Monthly Prices'!B607:CB607,$G$4)","v":5.8068999999999997},{"$f":"IF(H619,INDEX('Monthly Prices'!B607:CB607,$G$4)*U619,FALSE)","v":false},true,{"$f":"INDEX('Monthly Prices'!B607:CB607,$G$5)","v":8.8000000000000007},{"$f":"IF(H619,INDEX('Monthly Prices'!B607:CB607,$G$5)*U619,FALSE)","v":false},true,2009,{"$f":"'Monthly Prices'!B607","v":77.121087719299993},64.529078334974173,{"$f":"_xlfn.XLOOKUP(P619,'Annual Real'!A:A,'Annual Real'!B:B,0,0)","v":64.021949640347799},1.4691886644543894,1.4691886644543894,false,false,2.7213310000000001E-2,2.2399726172857015E-3,7.3596661189111261,7,"2009-12-01",1.4691886644543894]
[null,null,{"$f":"'Monthly Prices'!A608","v":"2010M02"},"2010-01-01",601,false,true,false,{"$error":"#N/A"},{"$f":"INDEX('Monthly Prices'!B608:CB608,$G$4)","v":5.3357000000000001},{"$f":"IF(H620,INDEX('Monthly Prices'!B608:CB608,$G$4)*U620,FALSE)","v":false},true,{"$f":"INDEX('Monthly Prices'!B608:CB608,$G$5)","v":8.8000000000000007},{"$f":"IF(H620,INDEX('Monthly Prices'!B608:CB608,$G$5)*U620,FALSE)","v":false},true,2010,{"$f":"'Monthly Prices'!B608","v":74.763015594539993},80.338230744617491,{"$f":"_xlfn.XLOOKUP(P620,'Annual Real'!A:A,'Annual Real'!B:B,0,0)","v":79.040771784717293},1.4660188506538938,1.4660188506538938,false,false,2.625709E-2,2.1621917065266505E-3,7.3755791279562413,7,"2010-01-01",1.4660188506538938]
[null,null,{"$f":"'Monthly Prices'!A609","v":"2010M03"},"2010-02-01",602,false,true,false,{"$error":"#N/A"},{"$f":"INDEX('Monthly Prices'!B609:CB609,$G$4)","v":4.2923999999999998},{"$f":"IF(H621,INDEX('Monthly Prices'!B609:CB609,$G$4)*U621,FALSE)","v":false},true,{"$f":"INDEX('Monthly Prices'!B609:CB609,$G$5)","v":8.93},{"$f":"IF(H621,INDEX('Monthly Prices'!B609:CB609,$G$5)*U621,FALSE)","v":false},true,2010,{"$f":"'Monthly Prices'!B609","v":79.297681159419994},80.338230744617491,{"$f":"_xlfn.XLOOKUP(P621,'Annual Real'!A:A,'Annual Real'!B:B,0,0)","v":79.040771784717293},1.4634303342961084,1.4634303342961084,false,false,2.1433319999999999E-2,1.7688005346907509E-3,7.3886250562614242,7,"2010-02-01",1.4634303342961084]
[null,null,{"$f":"'Monthly Prices'!A610","v":"2010M04"},"2010-03-01",603,false,true,false,{"$error":"#N/A"},{"$f":"INDEX('Monthly Prices'!B610:CB610,$G$4)","v":4.0058999999999996},{"$f":"IF(H622,INDEX('Monthly Prices'!B610:CB610,$G$4)*U622,FALSE)","v":false},true,{"$f":"INDEX('Monthly Prices'!B610:CB610,$G$5)","v":7.52},{"$f":"IF(H622,INDEX('Monthly Prices'!B610:CB610,$G$5)*U622,FALSE)","v":false},true,2010,{"$f":"'Monthly Prices'!B610","v":84.182857142860001},80.338230744617491,{"$f":"_xlfn.XLOOKUP(P622,'Annual Real'!A:A,'Annual Real'!B:B,0,0)","v":79.040771784717293},1.4606432143197736,1.4606432143197736,false,false,2.3139590000000002E-2,1.908145636805969E-3,7.4027236289245248,7,"2010-03-01",1.4606432143197736]
[null,null,{"$f":"'Monthly Prices'!A611","v":"2010M05"},"2010-04-01",604,false,true,false,{"$error":"#N/A"},{"$f":"INDEX('Monthly Prices'!B611:CB611,$G$4)","v":4.1559999999999997},{"$f":"IF(H623,INDEX('Monthly Prices'!B611:CB611,$G$4)*U623,FALSE)","v":false},true,{"$f":"INDEX('Monthly Prices'!B611:CB611,$G$5)","v":7.27},{"$f":"IF(H623,INDEX('Monthly Prices'!B611:CB611,$G$5)*U623,FALSE)","v":false},true,2010,{"$f":"'Monthly Prices'!B611","v":75.61831746032},80.338230744617491,{"$f":"_xlfn.XLOOKUP(P623,'Annual Real'!A:A,'Annual Real'!B:B,0,0)","v":79.040771784717293},1.4579534786312438,1.4579534786312438,false,false,2.2364470000000001E-2,1.844870723210601E-3,7.4163806970195472,7,"2010-04-01",1.4579534786312438]
[null,null,{"$f":"'Monthly Prices'!A612","v":"2010M06"},"2010-05-01",605,false,true,false,{"$error":"#N/A"},{"$f":"INDEX('Monthly Prices'!B612:CB612,$G$4)","v":4.7948000000000004},{"$f":"IF(H624,INDEX('Monthly Prices'!B612:CB612,$G$4)*U624,FALSE)","v":false},true,{"$f":"INDEX('Monthly Prices'!B612:CB612,$G$5)","v":7.74},{"$f":"IF(H624,INDEX('Monthly Prices'!B612:CB612,$G$5)*U624,FALSE)","v":false},true,2010,{"$f":"'Monthly Prices'!B612","v":74.724999999999994},80.338230744617491,{"$f":"_xlfn.XLOOKUP(P624,'Annual Real'!A:A,'Annual Real'!B:B,0,0)","v":79.040771784717293},1.455524567025501,1.455524567025501,false,false,2.0209860000000003E-2,1.6687534245516389E-3,7.4287568077054775,7,"2010-05-01",1.455524567025501]
[null,null,{"$f":"'Monthly Prices'!A613","v":"2010M07"},"2010-06-01",606,false,true,false,{"$error":"#N/A"},{"$f":"INDEX('Monthly Prices'!B613:CB613,$G$4)","v":4.6265999999999998},{"$f":"IF(H625,INDEX('Monthly Prices'!B613:CB613,$G$4)*U625,FALSE)","v":false},true,{"$f":"INDEX('Monthly Prices'!B613:CB613,$G$5)","v":8.0399999999999991},{"$f":"IF(H625,INDEX('Monthly Prices'!B613:CB613,$G$5)*U625,FALSE)","v":false},true,2010,{"$f":"'Monthly Prices'!B613","v":74.579401154400003},80.338230744617491,{"$f":"_xlfn.XLOOKUP(P625,'Annual Real'!A:A,'Annual Real'!B:B,0,0)","v":79.040771784717293},1.4542541577972559,1.4542541577972559,false,false,1.0533489999999901E-2,8.7358129349923708E-4,7.4352464306866439,7,"2010-06-01",1.4542541577972559]
[null,null,{"$f":"'Monthly Prices'!A614","v":"2010M08"},"2010-07-01",607,false,true,false,{"$error":"#N/A"},{"$f":"INDEX('Monthly Prices'!B614:CB614,$G$4)","v":4.3049999999999997},{"$f":"IF(H626,INDEX('Monthly Prices'!B614:CB614,$G$4)*U626,FALSE)","v":false},true,{"$f":"INDEX('Monthly Prices'!B614:CB614,$G$5)","v":8.4499999999999993},{"$f":"IF(H626,INDEX('Monthly Prices'!B614:CB614,$G$5)*U626,FALSE)","v":false},true,2010,{"$f":"'Monthly Prices'!B614","v":75.826269841270005},80.338230744617491,{"$f":"_xlfn.XLOOKUP(P626,'Annual Real'!A:A,'Annual Real'!B:B,0,0)","v":79.040771784717293},1.4527671841301011,1.4527671841301011,false,false,1.2351930000000001E-2,1.0235457431846395E-3,7.4428567455203023,7,"2010-07-01",1.4527671841301011]
[null,null,{"$f":"'Monthly Prices'!A615","v":"2010M09"},"2010-08-01",608,false,true,false,{"$error":"#N/A"},{"$f":"INDEX('Monthly Prices'!B615:CB615,$G$4)","v":3.9039000000000001},{"$f":"IF(H627,INDEX('Monthly Prices'!B615:CB615,$G$4)*U627,FALSE)","v":false},true,{"$f":"INDEX('Monthly Prices'!B615:CB615,$G$5)","v":8.2799999999999994},{"$f":"IF(H627,INDEX('Monthly Prices'!B615:CB615,$G$5)*U627,FALSE)","v":false},true,2010,{"$f":"'Monthly Prices'!B615","v":76.116240981239997},80.338230744617491,{"$f":"_xlfn.XLOOKUP(P627,'Annual Real'!A:A,'Annual Real'!B:B,0,0)","v":79.040771784717293},1.4513858186676218,1.4513858186676218,false,false,1.148105E-2,9.5175620755849621E-4,7.4499405306298199,7,"2010-08-01",1.4513858186676218]
[null,null,{"$f":"'Monthly Prices'!A616","v":"2010M10"},"2010-09-01",609,false,true,false,{"$error":"#N/A"},{"$f":"INDEX('Monthly Prices'!B616:CB616,$G$4)","v":3.4315000000000002},{"$f":"IF(H628,INDEX('Monthly Prices'!B616:CB616,$G$4)*U628,FALSE)","v":false},true,{"$f":"INDEX('Monthly Prices'!B616:CB616,$G$5)","v":8.2899999999999991},{"$f":"IF(H628,INDEX('Monthly Prices'!B616:CB616,$G$5)*U628,FALSE)","v":false},true,2010,{"$f":"'Monthly Prices'!B616","v":81.719365079369993},80.338230744617491,{"$f":"_xlfn.XLOOKUP(P628,'Annual Real'!A:A,'Annual Real'!B:B,0,0)","v":79.040771784717293},1.4500110494245018,1.4500110494245018,false,false,1.143683E-2,9.4810949452117654E-4,7.4570038899805278,7,"2010-09-01",1.4500110494245018]
[null,null,{"$f":"'Monthly Prices'!A617","v":"2010M11"},"2010-10-01",610,false,true,false,{"$error":"#N/A"},{"$f":"INDEX('Monthly Prices'!B617:CB617,$G$4)","v":3.7272500000000002},{"$f":"IF(H629,INDEX('Monthly Prices'!B617:CB617,$G$4)*U629,FALSE)","v":false},true,{"$f":"INDEX('Monthly Prices'!B617:CB617,$G$5)","v":8.59},{"$f":"IF(H629,INDEX('Monthly Prices'!B617:CB617,$G$5)*U629,FALSE)","v":false},true,2010,{"$f":"'Monthly Prices'!B617","v":84.53406349206},80.338230744617491,{"$f":"_xlfn.XLOOKUP(P629,'Annual Real'!A:A,'Annual Real'!B:B,0,0)","v":79.040771784717293},1.4486035654972962,1.4486035654972962,false,false,1.172188E-2,9.7161429167313962E-4,7.4642492215330947,7,"2010-10-01",1.4486035654972962]
[null,null,{"$f":"'Monthly Prices'!A618","v":"2010M12"},"2010-11-01",611,false,true,false,{"$error":"#N/A"},{"$f":"INDEX('Monthly Prices'!B618:CB618,$G$4)","v":4.2370952381000002},{"$f":"IF(H630,INDEX('Monthly Prices'!B618:CB618,$G$4)*U630,FALSE)","v":false},true,{"$f":"INDEX('Monthly Prices'!B618:CB618,$G$5)","v":8.74},{"$f":"IF(H630,INDEX('Monthly Prices'!B618:CB618,$G$5)*U630,FALSE)","v":false},true,2010,{"$f":"'Monthly Prices'!B618","v":90.005961791830003},80.338230744617491,{"$f":"_xlfn.XLOOKUP(P630,'Annual Real'!A:A,'Annual Real'!B:B,0,0)","v":79.040771784717293},1.4472320540650125,1.4472320540650125,false,false,1.1431610000000002E-2,9.4767900450465348E-4,7.471322933804732,7,"2010-11-01",1.4472320540650125]
[null,null,{"$f":"'Monthly Prices'!A619","v":"2011M01"},"2010-12-01",612,false,true,false,{"$error":"#N/A"},{"$f":"INDEX('Monthly Prices'!B619:CB619,$G$4)","v":4.4934000000000003},{"$f":"IF(H631,INDEX('Monthly Prices'!B619:CB619,$G$4)*U631,FALSE)","v":false},true,{"$f":"INDEX('Monthly Prices'!B619:CB619,$G$5)","v":9.61},{"$f":"IF(H631,INDEX('Monthly Prices'!B619:CB619,$G$5)*U631,FALSE)","v":false},true,2010,{"$f":"'Monthly Prices'!B619","v":92.690595238100002},80.338230744617491,{"$f":"_xlfn.XLOOKUP(P631,'Annual Real'!A:A,'Annual Real'!B:B,0,0)","v":79.040771784717293},1.4454426368495694,1.4454426368495694,false,false,1.4957229999999998E-2,1.237971794815218E-3,7.4805722208667387,7,"2010-12-01",1.4454426368495694]
[null,null,{"$f":"'Monthly Prices'!A620","v":"2011M02"},"2011-01-01",613,false,true,false,{"$error":"#N/A"},{"$f":"INDEX('Monthly Prices'!B620:CB620,$G$4)","v":4.0749000000000004},{"$f":"IF(H632,INDEX('Monthly Prices'!B620:CB620,$G$4)*U632,FALSE)","v":false},true,{"$f":"INDEX('Monthly Prices'!B620:CB620,$G$5)","v":9.36},{"$f":"IF(H632,INDEX('Monthly Prices'!B620:CB620,$G$5)*U632,FALSE)","v":false},true,2011,{"$f":"'Monthly Prices'!B620","v":97.914192007799997},105.20806227768333,{"$f":"_xlfn.XLOOKUP(P632,'Annual Real'!A:A,'Annual Real'!B:B,0,0)","v":93.705751267612797},1.4434941991411314,1.4434941991411314,false,false,1.6318469999999901E-2,1.3498064000514454E-3,7.4906695451265115,7,"2011-01-01",1.4434941991411314]
[null,null,{"$f":"'Monthly Prices'!A621","v":"2011M03"},"2011-02-01",614,false,true,false,{"$error":"#N/A"},{"$f":"INDEX('Monthly Prices'!B621:CB621,$G$4)","v":3.9712999999999998},{"$f":"IF(H633,INDEX('Monthly Prices'!B621:CB621,$G$4)*U633,FALSE)","v":false},true,{"$f":"INDEX('Monthly Prices'!B621:CB621,$G$5)","v":9.3699999999999992},{"$f":"IF(H633,INDEX('Monthly Prices'!B621:CB621,$G$5)*U633,FALSE)","v":false},true,2011,{"$f":"'Monthly Prices'!B621","v":108.64521739129999},105.20806227768333,{"$f":"_xlfn.XLOOKUP(P633,'Annual Real'!A:A,'Annual Real'!B:B,0,0)","v":93.705751267612797},1.4409874858733849,1.4409874858733849,false,false,2.1075849999999997E-2,1.7395801783992582E-3,7.5037001653901525,7,"2011-02-01",1.4409874858733849]
[null,null,{"$f":"'Monthly Prices'!A622","v":"2011M04"},"2011-03-01",615,false,true,false,{"$error":"#N/A"},{"$f":"INDEX('Monthly Prices'!B622:CB622,$G$4)","v":4.2423999999999999},{"$f":"IF(H634,INDEX('Monthly Prices'!B622:CB622,$G$4)*U634,FALSE)","v":false},true,{"$f":"INDEX('Monthly Prices'!B622:CB622,$G$5)","v":10.36},{"$f":"IF(H634,INDEX('Monthly Prices'!B622:CB622,$G$5)*U634,FALSE)","v":false},true,2011,{"$f":"'Monthly Prices'!B622","v":116.24316666667001},105.20806227768333,{"$f":"_xlfn.XLOOKUP(P634,'Annual Real'!A:A,'Annual Real'!B:B,0,0)","v":93.705751267612797},1.4378132756788971,1.4378132756788971,false,false,2.6816030000000001E-2,2.2076651037938877E-3,7.5202658223946166,7,"2011-03-01",1.4378132756788971]
[null,null,{"$f":"'Monthly Prices'!A623","v":"2011M05"},"2011-04-01",616,false,true,false,{"$error":"#N/A"},{"$f":"INDEX('Monthly Prices'!B623:CB623,$G$4)","v":4.3089545454499998},{"$f":"IF(H635,INDEX('Monthly Prices'!B623:CB623,$G$4)*U635,FALSE)","v":false},true,{"$f":"INDEX('Monthly Prices'!B623:CB623,$G$5)","v":10.3},{"$f":"IF(H635,INDEX('Monthly Prices'!B623:CB623,$G$5)*U635,FALSE)","v":false},true,2011,{"$f":"'Monthly Prices'!B623","v":108.06851298701},105.20806227768333,{"$f":"_xlfn.XLOOKUP(P635,'Annual Real'!A:A,'Annual Real'!B:B,0,0)","v":93.705751267612797},1.434086247171495,1.434086247171495,false,false,3.1636310000000001E-2,2.5988872808402341E-3,7.5398101455889757,7,"2011-04-01",1.434086247171495]
[null,null,{"$f":"'Monthly Prices'!A624","v":"2011M06"},"2011-05-01",617,false,true,false,{"$error":"#N/A"},{"$f":"INDEX('Monthly Prices'!B624:CB624,$G$4)","v":4.5490000000000004},{"$f":"IF(H636,INDEX('Monthly Prices'!B624:CB624,$G$4)*U636,FALSE)","v":false},true,{"$f":"INDEX('Monthly Prices'!B624:CB624,$G$5)","v":10.26},{"$f":"IF(H636,INDEX('Monthly Prices'!B624:CB624,$G$5)*U636,FALSE)","v":false},true,2011,{"$f":"'Monthly Prices'!B624","v":105.84545454546},105.20806227768333,{"$f":"_xlfn.XLOOKUP(P636,'Annual Real'!A:A,'Annual Real'!B:B,0,0)","v":93.705751267612797},1.4299019093652265,1.4299019093652265,false,false,3.5686459999999899E-2,2.9263110839021778E-3,7.5618739755885311,7,"2011-05-01",1.4299019093652265]
[null,null,{"$f":"'Monthly Prices'!A625","v":"2011M07"},"2011-06-01",618,false,true,false,{"$error":"#N/A"},{"$f":"INDEX('Monthly Prices'!B625:CB625,$G$4)","v":4.4131},{"$f":"IF(H637,INDEX('Monthly Prices'!B625:CB625,$G$4)*U637,FALSE)","v":false},true,{"$f":"INDEX('Monthly Prices'!B625:CB625,$G$5)","v":10.99},{"$f":"IF(H637,INDEX('Monthly Prices'!B625:CB625,$G$5)*U637,FALSE)","v":false},true,2011,{"$f":"'Monthly Prices'!B625","v":107.91661111111},105.20806227768333,{"$f":"_xlfn.XLOOKUP(P637,'Annual Real'!A:A,'Annual Real'!B:B,0,0)","v":93.705751267612797},1.425741043996603,1.425741043996603,false,false,3.558828E-2,2.9183878700440591E-3,7.5839424568736904,7,"2011-06-01",1.425741043996603]
[null,null,{"$f":"'Monthly Prices'!A626","v":"2011M08"},"2011-07-01",619,false,true,false,{"$error":"#N/A"},{"$f":"INDEX('Monthly Prices'!B626:CB626,$G$4)","v":4.0538999999999996},{"$f":"IF(H638,INDEX('Monthly Prices'!B626:CB626,$G$4)*U638,FALSE)","v":false},true,{"$f":"INDEX('Monthly Prices'!B626:CB626,$G$5)","v":10.81},{"$f":"IF(H638,INDEX('Monthly Prices'!B626:CB626,$G$5)*U638,FALSE)","v":false},true,2011,{"$f":"'Monthly Prices'!B626","v":100.48642512076999},105.20806227768333,{"$f":"_xlfn.XLOOKUP(P638,'Annual Real'!A:A,'Annual Real'!B:B,0,0)","v":93.705751267612797},1.4215123672117047,1.4215123672117047,false,false,3.6287159999999999E-2,2.9747731236364761E-3,7.6065029650656042,7,"2011-07-01",1.4215123672117047]
[null,null,{"$f":"'Monthly Prices'!A627","v":"2011M09"},"2011-08-01",620,false,true,false,{"$error":"#N/A"},{"$f":"INDEX('Monthly Prices'!B627:CB627,$G$4)","v":3.9013},{"$f":"IF(H639,INDEX('Monthly Prices'!B627:CB627,$G$4)*U639,FALSE)","v":false},true,{"$f":"INDEX('Monthly Prices'!B627:CB627,$G$5)","v":10.85},{"$f":"IF(H639,INDEX('Monthly Prices'!B627:CB627,$G$5)*U639,FALSE)","v":false},true,2011,{"$f":"'Monthly Prices'!B627","v":100.81935064935},105.20806227768333,{"$f":"_xlfn.XLOOKUP(P639,'Annual Real'!A:A,'Annual Real'!B:B,0,0)","v":93.705751267612797},1.417133951919471,1.417133951919471,false,false,3.7712080000000002E-2,3.089626980077087E-3,7.6300042218505073,7,"2011-08-01",1.417133951919471]
[null,null,{"$f":"'Monthly Prices'!A628","v":"2011M10"},"2011-09-01",621,false,true,false,{"$error":"#N/A"},{"$f":"INDEX('Monthly Prices'!B628:CB628,$G$4)","v":3.5680000000000001},{"$f":"IF(H640,INDEX('Monthly Prices'!B628:CB628,$G$4)*U640,FALSE)","v":false},true,{"$f":"INDEX('Monthly Prices'!B628:CB628,$G$5)","v":11.42},{"$f":"IF(H640,INDEX('Monthly Prices'!B628:CB628,$G$5)*U640,FALSE)","v":false},true,2011,{"$f":"'Monthly Prices'!B628","v":99.847753968250004},105.20806227768333,{"$f":"_xlfn.XLOOKUP(P640,'Annual Real'!A:A,'Annual Real'!B:B,0,0)","v":93.705751267612797},1.4126588607765325,1.4126588607765325,false,false,3.868357E-2,3.1678498377722963E-3,7.6541749294868984,7,"2011-09-01",1.4126588607765325]
[null,null,{"$f":"'Monthly Prices'!A629","v":"2011M11"},"2011-10-01",622,false,true,false,{"$error":"#N/A"},{"$f":"INDEX('Monthly Prices'!B629:CB629,$G$4)","v":3.2424499999999998},{"$f":"IF(H641,INDEX('Monthly Prices'!B629:CB629,$G$4)*U641,FALSE)","v":false},true,{"$f":"INDEX('Monthly Prices'!B629:CB629,$G$5)","v":11.32},{"$f":"IF(H641,INDEX('Monthly Prices'!B629:CB629,$G$5)*U641,FALSE)","v":false},true,2011,{"$f":"'Monthly Prices'!B629","v":105.40501443001},105.20806227768333,{"$f":"_xlfn.XLOOKUP(P641,'Annual Real'!A:A,'Annual Real'!B:B,0,0)","v":93.705751267612797},1.408586293327265,1.408586293327265,false,false,3.5251999999999999E-2,2.8912445538906706E-3,7.6763050210663035,7,"2011-10-01",1.408586293327265]
[null,null,{"$f":"'Monthly Prices'!A630","v":"2011M12"},"2011-11-01",623,false,true,false,{"$error":"#N/A"},{"$f":"INDEX('Monthly Prices'!B630:CB630,$G$4)","v":3.16423809524},{"$f":"IF(H642,INDEX('Monthly Prices'!B630:CB630,$G$4)*U642,FALSE)","v":false},true,{"$f":"INDEX('Monthly Prices'!B630:CB630,$G$5)","v":11.53},{"$f":"IF(H642,INDEX('Monthly Prices'!B630:CB630,$G$5)*U642,FALSE)","v":false},true,2011,{"$f":"'Monthly Prices'!B630","v":104.23047619048},105.20806227768333,{"$f":"_xlfn.XLOOKUP(P642,'Annual Real'!A:A,'Annual Real'!B:B,0,0)","v":93.705751267612797},1.4046734731249897,1.4046734731249897,false,false,3.3943779999999896E-2,2.7855727876533454E-3,7.6976879274427121,7,"2011-11-01",1.4046734731249897]
[null,null,{"$f":"'Monthly Prices'!A631","v":"2012M01"},"2011-12-01",624,false,true,false,{"$error":"#N/A"},{"$f":"INDEX('Monthly Prices'!B631:CB631,$G$4)","v":2.6797},{"$f":"IF(H643,INDEX('Monthly Prices'!B631:CB631,$G$4)*U643,FALSE)","v":false},true,{"$f":"INDEX('Monthly Prices'!B631:CB631,$G$5)","v":11.45},{"$f":"IF(H643,INDEX('Monthly Prices'!B631:CB631,$G$5)*U643,FALSE)","v":false},true,2011,{"$f":"'Monthly Prices'!B631","v":107.07457226399001},105.20806227768333,{"$f":"_xlfn.XLOOKUP(P643,'Annual Real'!A:A,'Annual Real'!B:B,0,0)","v":93.705751267612797},1.4012603052084254,1.4012603052084254,false,false,2.9624189999999898E-2,2.4357843463327367E-3,7.7164378351993319,7,"2011-12-01",1.4012603052084254]
[null,null,{"$f":"'Monthly Prices'!A632","v":"2012M02"},"2012-01-01",625,false,true,false,{"$error":"#N/A"},{"$f":"INDEX('Monthly Prices'!B632:CB632,$G$4)","v":2.5192000000000001},{"$f":"IF(H644,INDEX('Monthly Prices'!B632:CB632,$G$4)*U644,FALSE)","v":false},true,{"$f":"INDEX('Monthly Prices'!B632:CB632,$G$5)","v":11.12},{"$f":"IF(H644,INDEX('Monthly Prices'!B632:CB632,$G$5)*U644,FALSE)","v":false},true,2012,{"$f":"'Monthly Prices'!B632","v":112.68752380952},104.84509923372916,{"$f":"_xlfn.XLOOKUP(P644,'Annual Real'!A:A,'Annual Real'!B:B,0,0)","v":95.3115227885189},1.3978975280667092,1.3978975280667092,false,false,2.9252170000000001E-2,2.405596314607461E-3,7.7350004696175851,7,"2012-01-01",1.3978975280667092]
[null,null,{"$f":"'Monthly Prices'!A633","v":"2012M03"},"2012-02-01",626,false,true,false,{"$error":"#N/A"},{"$f":"INDEX('Monthly Prices'!B633:CB633,$G$4)","v":2.1661000000000001},{"$f":"IF(H645,INDEX('Monthly Prices'!B633:CB633,$G$4)*U645,FALSE)","v":false},true,{"$f":"INDEX('Monthly Prices'!B633:CB633,$G$5)","v":11.97},{"$f":"IF(H645,INDEX('Monthly Prices'!B633:CB633,$G$5)*U645,FALSE)","v":false},true,2012,{"$f":"'Monthly Prices'!B633","v":117.785},104.84509923372916,{"$f":"_xlfn.XLOOKUP(P645,'Annual Real'!A:A,'Annual Real'!B:B,0,0)","v":95.3115227885189},1.3946039425338865,1.3946039425338865,false,false,2.8710990000000002E-2,2.3616637185455147E-3,7.7532679395896134,7,"2012-02-01",1.3946039425338865]
[null,null,{"$f":"'Monthly Prices'!A634","v":"2012M04"},"2012-03-01",627,false,true,false,{"$error":"#N/A"},{"$f":"INDEX('Monthly Prices'!B634:CB634,$G$4)","v":1.9467000000000001},{"$f":"IF(H646,INDEX('Monthly Prices'!B634:CB634,$G$4)*U646,FALSE)","v":false},true,{"$f":"INDEX('Monthly Prices'!B634:CB634,$G$5)","v":11.42},{"$f":"IF(H646,INDEX('Monthly Prices'!B634:CB634,$G$5)*U646,FALSE)","v":false},true,2012,{"$f":"'Monthly Prices'!B634","v":113.66549999999999},104.84509923372916,{"$f":"_xlfn.XLOOKUP(P646,'Annual Real'!A:A,'Annual Real'!B:B,0,0)","v":95.3115227885189},1.3915660228286415,1.3915660228286415,false,false,2.6513979999999999E-2,2.1830941941725079E-3,7.7701940538143957,7,"2012-03-01",1.3915660228286415]
[null,null,{"$f":"'Monthly Prices'!A635","v":"2012M05"},"2012-04-01",628,false,true,false,{"$error":"#N/A"},{"$f":"INDEX('Monthly Prices'!B635:CB635,$G$4)","v":2.4373999999999998},{"$f":"IF(H647,INDEX('Monthly Prices'!B635:CB635,$G$4)*U647,FALSE)","v":false},true,{"$f":"INDEX('Monthly Prices'!B635:CB635,$G$5)","v":11.64},{"$f":"IF(H647,INDEX('Monthly Prices'!B635:CB635,$G$5)*U647,FALSE)","v":false},true,2012,{"$f":"'Monthly Prices'!B635","v":104.0860342556},104.84509923372916,{"$f":"_xlfn.XLOOKUP(P647,'Annual Real'!A:A,'Annual Real'!B:B,0,0)","v":95.3115227885189},1.3889284615457558,1.3889284615457558,false,false,2.30274E-2,1.8989900170598428E-3,7.7849495747532069,7,"2012-04-01",1.3889284615457558]
[null,null,{"$f":"'Monthly Prices'!A636","v":"2012M06"},"2012-05-01",629,false,true,false,{"$error":"#N/A"},{"$f":"INDEX('Monthly Prices'!B636:CB636,$G$4)","v":2.4552},{"$f":"IF(H648,INDEX('Monthly Prices'!B636:CB636,$G$4)*U648,FALSE)","v":false},true,{"$f":"INDEX('Monthly Prices'!B636:CB636,$G$5)","v":11.49},{"$f":"IF(H648,INDEX('Monthly Prices'!B636:CB636,$G$5)*U648,FALSE)","v":false},true,2012,{"$f":"'Monthly Prices'!B636","v":90.728253968250002},104.84509923372916,{"$f":"_xlfn.XLOOKUP(P648,'Annual Real'!A:A,'Annual Real'!B:B,0,0)","v":95.3115227885189},1.3869738859781811,1.3869738859781811,false,false,1.7042539999999998E-2,1.4092374682284081E-3,7.7959204173822183,7,"2012-05-01",1.3869738859781811]
[null,null,{"$f":"'Monthly Prices'!A637","v":"2012M07"},"2012-06-01",630,false,true,false,{"$error":"#N/A"},{"$f":"INDEX('Monthly Prices'!B637:CB637,$G$4)","v":2.9455},{"$f":"IF(H649,INDEX('Monthly Prices'!B637:CB637,$G$4)*U649,FALSE)","v":false},true,{"$f":"INDEX('Monthly Prices'!B637:CB637,$G$5)","v":11.13},{"$f":"IF(H649,INDEX('Monthly Prices'!B637:CB637,$G$5)*U649,FALSE)","v":false},true,2012,{"$f":"'Monthly Prices'!B637","v":96.754112554109994},104.84509923372916,{"$f":"_xlfn.XLOOKUP(P649,'Annual Real'!A:A,'Annual Real'!B:B,0,0)","v":95.3115227885189},1.3850677596311565,1.3850677596311565,false,false,1.6639939999999999E-2,1.3761971815242635E-3,7.8066491410880072,7,"2012-06-01",1.3850677596311565]
[null,null,{"$f":"'Monthly Prices'!A638","v":"2012M08"},"2012-07-01",631,false,true,false,{"$error":"#N/A"},{"$f":"INDEX('Monthly Prices'!B638:CB638,$G$4)","v":2.8382999999999998},{"$f":"IF(H650,INDEX('Monthly Prices'!B638:CB638,$G$4)*U650,FALSE)","v":false},true,{"$f":"INDEX('Monthly Prices'!B638:CB638,$G$5)","v":11.18},{"$f":"IF(H650,INDEX('Monthly Prices'!B638:CB638,$G$5)*U650,FALSE)","v":false},true,2012,{"$f":"'Monthly Prices'!B638","v":105.27363699103},104.84509923372916,{"$f":"_xlfn.XLOOKUP(P650,'Annual Real'!A:A,'Annual Real'!B:B,0,0)","v":95.3115227885189},1.3834543752902013,1.3834543752902013,false,false,1.408451E-2,1.1661998904854975E-3,7.815753254461403,7,"2012-07-01",1.3834543752902013]
[null,null,{"$f":"'Monthly Prices'!A639","v":"2012M09"},"2012-08-01",632,false,true,false,{"$error":"#N/A"},{"$f":"INDEX('Monthly Prices'!B639:CB639,$G$4)","v":2.8414999999999999},{"$f":"IF(H651,INDEX('Monthly Prices'!B639:CB639,$G$4)*U651,FALSE)","v":false},true,{"$f":"INDEX('Monthly Prices'!B639:CB639,$G$5)","v":11.08},{"$f":"IF(H651,INDEX('Monthly Prices'!B639:CB639,$G$5)*U651,FALSE)","v":false},true,2012,{"$f":"'Monthly Prices'!B639","v":106.28496491228},104.84509923372916,{"$f":"_xlfn.XLOOKUP(P651,'Annual Real'!A:A,'Annual Real'!B:B,0,0)","v":95.3115227885189},1.3815209460851321,1.3815209460851321,false,false,1.6923790000000001E-2,1.3994932255989578E-3,7.8266913481939744,7,"2012-08-01",1.3815209460851321]
[null,null,{"$f":"'Monthly Prices'!A640","v":"2012M10"},"2012-09-01",633,false,true,false,{"$error":"#N/A"},{"$f":"INDEX('Monthly Prices'!B640:CB640,$G$4)","v":3.3174000000000001},{"$f":"IF(H652,INDEX('Monthly Prices'!B640:CB640,$G$4)*U652,FALSE)","v":false},true,{"$f":"INDEX('Monthly Prices'!B640:CB640,$G$5)","v":11.58},{"$f":"IF(H652,INDEX('Monthly Prices'!B640:CB640,$G$5)*U652,FALSE)","v":false},true,2012,{"$f":"'Monthly Prices'!B640","v":103.40786561265},104.84509923372916,{"$f":"_xlfn.XLOOKUP(P652,'Annual Real'!A:A,'Annual Real'!B:B,0,0)","v":95.3115227885189},1.3792528382930302,1.3792528382930302,false,false,1.9912820000000001E-2,1.6444467099367976E-3,7.8395619250312025,7,"2012-09-01",1.3792528382930302]
[null,null,{"$f":"'Monthly Prices'!A641","v":"2012M11"},"2012-10-01",634,false,true,false,{"$error":"#N/A"},{"$f":"INDEX('Monthly Prices'!B641:CB641,$G$4)","v":3.5379999999999998},{"$f":"IF(H653,INDEX('Monthly Prices'!B641:CB641,$G$4)*U653,FALSE)","v":false},true,{"$f":"INDEX('Monthly Prices'!B641:CB641,$G$5)","v":11.83},{"$f":"IF(H653,INDEX('Monthly Prices'!B641:CB641,$G$5)*U653,FALSE)","v":false},true,2012,{"$f":"'Monthly Prices'!B641","v":101.17441558442},104.84509923372916,{"$f":"_xlfn.XLOOKUP(P653,'Annual Real'!A:A,'Annual Real'!B:B,0,0)","v":95.3115227885189},1.3767961692191459,1.3767961692191459,false,false,2.1623440000000001E-2,1.7843375285373497E-3,7.8535503495813286,7,"2012-10-01",1.3767961692191459]
[null,null,{"$f":"'Monthly Prices'!A642","v":"2012M12"},"2012-11-01",635,false,true,false,{"$error":"#N/A"},{"$f":"INDEX('Monthly Prices'!B642:CB642,$G$4)","v":3.3395000000000001},{"$f":"IF(H654,INDEX('Monthly Prices'!B642:CB642,$G$4)*U654,FALSE)","v":false},true,{"$f":"INDEX('Monthly Prices'!B642:CB642,$G$5)","v":11.79},{"$f":"IF(H654,INDEX('Monthly Prices'!B642:CB642,$G$5)*U654,FALSE)","v":false},true,2012,{"$f":"'Monthly Prices'!B642","v":101.19366666667},104.84509923372916,{"$f":"_xlfn.XLOOKUP(P654,'Annual Real'!A:A,'Annual Real'!B:B,0,0)","v":95.3115227885189},1.3747912325473306,1.3747912325473306,false,false,1.7641340000000002E-2,1.4583571849671184E-3,7.8650036311611418,7,"2012-11-01",1.3747912325473306]
[null,null,{"$f":"'Monthly Prices'!A643","v":"2013M01"},"2012-12-01",636,false,true,false,{"$error":"#N/A"},{"$f":"INDEX('Monthly Prices'!B643:CB643,$G$4)","v":3.3279999999999998},{"$f":"IF(H655,INDEX('Monthly Prices'!B643:CB643,$G$4)*U655,FALSE)","v":false},true,{"$f":"INDEX('Monthly Prices'!B643:CB643,$G$5)","v":11.87},{"$f":"IF(H655,INDEX('Monthly Prices'!B643:CB643,$G$5)*U655,FALSE)","v":false},true,2012,{"$f":"'Monthly Prices'!B643","v":105.10021645022},104.84509923372916,{"$f":"_xlfn.XLOOKUP(P655,'Annual Real'!A:A,'Annual Real'!B:B,0,0)","v":95.3115227885189},1.3728152002987368,1.3728152002987368,false,false,1.7410220000000001E-2,1.4394014927601173E-3,7.8763245291283992,7,"2012-12-01",1.3728152002987368]
[null,null,{"$f":"'Monthly Prices'!A644","v":"2013M02"},"2013-01-01",637,false,true,false,{"$error":"#N/A"},{"$f":"INDEX('Monthly Prices'!B644:CB644,$G$4)","v":3.3292000000000002},{"$f":"IF(H656,INDEX('Monthly Prices'!B644:CB644,$G$4)*U656,FALSE)","v":false},true,{"$f":"INDEX('Monthly Prices'!B644:CB644,$G$5)","v":11.77},{"$f":"IF(H656,INDEX('Monthly Prices'!B644:CB644,$G$5)*U656,FALSE)","v":false},true,2013,{"$f":"'Monthly Prices'!B644","v":107.63743567252},103.82720168229167,{"$f":"_xlfn.XLOOKUP(P656,'Annual Real'!A:A,'Annual Real'!B:B,0,0)","v":94.8794037284284},1.3710062440651727,1.3710062440651727,false,false,1.5948649999999998E-2,1.3194369036573228E-3,7.8867168423773126,7,"2013-01-01",1.3710062440651727]
[null,null,{"$f":"'Monthly Prices'!A645","v":"2013M03"},"2013-02-01",638,false,true,false,{"$error":"#N/A"},{"$f":"INDEX('Monthly Prices'!B645:CB645,$G$4)","v":3.8069000000000002},{"$f":"IF(H657,INDEX('Monthly Prices'!B645:CB645,$G$4)*U657,FALSE)","v":false},true,{"$f":"INDEX('Monthly Prices'!B645:CB645,$G$5)","v":11.87},{"$f":"IF(H657,INDEX('Monthly Prices'!B645:CB645,$G$5)*U657,FALSE)","v":false},true,2013,{"$f":"'Monthly Prices'!B645","v":102.52249999999999},103.82720168229167,{"$f":"_xlfn.XLOOKUP(P657,'Annual Real'!A:A,'Annual Real'!B:B,0,0)","v":94.8794037284284},1.3687703388631338,1.3687703388631338,false,false,1.977924E-2,1.6335137740461914E-3,7.899599902971338,7,"2013-02-01",1.3687703388631338]
[null,null,{"$f":"'Monthly Prices'!A646","v":"2013M04"},"2013-03-01",639,false,true,false,{"$error":"#N/A"},{"$f":"INDEX('Monthly Prices'!B646:CB646,$G$4)","v":4.1669},{"$f":"IF(H658,INDEX('Monthly Prices'!B646:CB646,$G$4)*U658,FALSE)","v":false},true,{"$f":"INDEX('Monthly Prices'!B646:CB646,$G$5)","v":12.88},{"$f":"IF(H658,INDEX('Monthly Prices'!B646:CB646,$G$5)*U658,FALSE)","v":false},true,2013,{"$f":"'Monthly Prices'!B646","v":98.851969696970002},103.82720168229167,{"$f":"_xlfn.XLOOKUP(P658,'Annual Real'!A:A,'Annual Real'!B:B,0,0)","v":94.8794037284284},1.3671024373554881,1.3671024373554881,false,false,1.4738959999999902E-2,1.2200267237267859E-3,7.9092376259597126,7,"2013-03-01",1.3671024373554881]
[null,null,{"$f":"'Monthly Prices'!A647","v":"2013M05"},"2013-04-01",640,false,true,false,{"$error":"#N/A"},{"$f":"INDEX('Monthly Prices'!B647:CB647,$G$4)","v":4.0403000000000002},{"$f":"IF(H659,INDEX('Monthly Prices'!B647:CB647,$G$4)*U659,FALSE)","v":false},true,{"$f":"INDEX('Monthly Prices'!B647:CB647,$G$5)","v":12.29},{"$f":"IF(H659,INDEX('Monthly Prices'!B647:CB647,$G$5)*U659,FALSE)","v":false},true,2013,{"$f":"'Monthly Prices'!B647","v":99.366633414890003},103.82720168229167,{"$f":"_xlfn.XLOOKUP(P659,'Annual Real'!A:A,'Annual Real'!B:B,0,0)","v":94.8794037284284},1.3658982386374572,1.3658982386374572,false,false,1.0630850000000001E-2,8.8161671489683791E-4,7.9162105420528492,7,"2013-04-01",1.3658982386374572]
[null,null,{"$f":"'Monthly Prices'!A648","v":"2013M06"},"2013-05-01",641,{"$f":"AND(E660>=$M$4,L660)","v":false},{"$f":"AND(E660<=$M$5,O660)","v":true},{"$f":"AND(F660:G660)","v":false},{"$f":"IF(H660,D660,NA)","v":{"$error":"#N/A"}},{"$f":"INDEX('Monthly Prices'!B648:CB648,$G$4)","v":3.8254000000000001},{"$f":"IF(H660,INDEX('Monthly Prices'!B648:CB648,$G$4)*U660,FALSE)","v":false},true,{"$f":"INDEX('Monthly Prices'!B648:CB648,$G$5)","v":11.92},{"$f":"IF(H660,INDEX('Monthly Prices'!B648:CB648,$G$5)*U660,FALSE)","v":false},{"$f":"AND(ISNUMBER(M660),M660>0)","v":true},2013,{"$f":"'Monthly Prices'!B648","v":99.742666666670004},103.82720168229167,{"$f":"_xlfn.XLOOKUP(P660,'Annual Real'!A:A,'Annual Real'!B:B,0,0)","v":94.8794037284284},1.3643593136388634,1.3643593136388634,false,false,1.3619649999999902E-2,1.1279470028240368E-3,7.9251396080074814,7,"2013-05-01",1.3643593136388634]
[null,null,{"$f":"'Monthly Prices'!A649","v":"2013M07"},{"$f":"EDATE(D660,1)","v":"2013-06-01"},{"$f":"E660+1","v":642},false,true,false,{"$error":"#N/A"},{"$f":"INDEX('Monthly Prices'!B649:CB649,$G$4)","v":3.6227},{"$f":"IF(H661,INDEX('Monthly Prices'!B649:CB649,$G$4)*U661,FALSE)","v":false},{"$f":"ISNUMBER(J661)","v":true},{"$f":"INDEX('Monthly Prices'!B649:CB649,$G$5)","v":11.6},{"$f":"IF(H661,INDEX('Monthly Prices'!B649:CB649,$G$5)*U661,FALSE)","v":false},true,{"$f":"YEAR(D661)","v":2013},{"$f":"'Monthly Prices'!B649","v":105.25790513834001},{"$f":"AVERAGEIF(P:P,P661,Q:Q)","v":103.82720168229167},{"$f":"_xlfn.XLOOKUP(P661,'Annual Real'!A:A,'Annual Real'!B:B,0,0)","v":94.8794037284284},{"$f":"AC661","v":1.3623833290622673},{"$f":"IF($U$19,T661,1)","v":1.3623833290622673},false,false,{"$f":"LOOKUP(D661,INDIRECT(\"'\"&$X$14&\"'!A:A\"),INDIRECT(\"'\"&$X$14&\"'!B:B\"))/100","v":1.7544169999999998E-2},{"$f":"(1+X661)^(1/12)-1","v":1.4503881062284396E-3},{"$f":"Z660*(1+Y661)","v":7.9366341362351358},{"$f":"LEN(C661)","v":7},{"$f":"IF(AA661>2,D661,0)","v":"2013-06-01"},{"$f":"$AC$17/Z661","v":1.3623833290622673}]
[null,null,{"$f":"'Monthly Prices'!A650","v":"2013M08"},"2013-07-01",643,false,true,false,{"$error":"#N/A"},{"$f":"INDEX('Monthly Prices'!B650:CB650,$G$4)","v":3.4251},{"$f":"IF(H662,INDEX('Monthly Prices'!B650:CB650,$G$4)*U662,FALSE)","v":false},true,{"$f":"INDEX('Monthly Prices'!B650:CB650,$G$5)","v":11.64},{"$f":"IF(H662,INDEX('Monthly Prices'!B650:CB650,$G$5)*U662,FALSE)","v":false},true,2013,{"$f":"'Monthly Prices'!B650","v":108.15763636363999},103.82720168229167,{"$f":"_xlfn.XLOOKUP(P662,'Annual Real'!A:A,'Annual Real'!B:B,0,0)","v":94.8794037284284},1.3601806524947029,1.3601806524947029,{"$f":"IF(AND(H661,H662),LN(K662/K661))","v":false},{"$f":"IF(AND($H661,$H662),LN(N662/N661))","v":false},1.960682E-2,1.6194000139060361E-3,7.9494867216657221,7,"2013-07-01",1.3601806524947029]
[null,null,{"$f":"'Monthly Prices'!A651","v":"2013M09"},"2013-08-01",644,false,true,false,{"$error":"#N/A"},{"$f":"INDEX('Monthly Prices'!B651:CB651,$G$4)","v":3.6154000000000002},{"$f":"IF(H663,INDEX('Monthly Prices'!B651:CB651,$G$4)*U663,FALSE)","v":false},true,{"$f":"INDEX('Monthly Prices'!B651:CB651,$G$5)","v":11.25},{"$f":"IF(H663,INDEX('Monthly Prices'!B651:CB651,$G$5)*U663,FALSE)","v":false},true,2013,{"$f":"'Monthly Prices'!B651","v":108.75773015873},103.82720168229167,{"$f":"_xlfn.XLOOKUP(P663,'Annual Real'!A:A,'Annual Real'!B:B,0,0)","v":94.8794037284284},1.358473614050538,1.358473614050538,false,false,1.518368E-2,1.2565856462054548E-3,7.9594759325748683,7,"2013-08-01",1.358473614050538]
[null,null,{"$f":"'Monthly Prices'!A652","v":"2013M10"},"2013-09-01",645,false,true,false,{"$error":"#N/A"},{"$f":"INDEX('Monthly Prices'!B652:CB652,$G$4)","v":3.6739000000000002},{"$f":"IF(H664,INDEX('Monthly Prices'!B652:CB652,$G$4)*U664,FALSE)","v":false},true,{"$f":"INDEX('Monthly Prices'!B652:CB652,$G$5)","v":11.37},{"$f":"IF(H664,INDEX('Monthly Prices'!B652:CB652,$G$5)*U664,FALSE)","v":false},true,2013,{"$f":"'Monthly Prices'!B652","v":105.42713438734999},103.82720168229167,{"$f":"_xlfn.XLOOKUP(P664,'Annual Real'!A:A,'Annual Real'!B:B,0,0)","v":94.8794037284284},1.3571407456729696,1.3571407456729696,false,false,1.184925E-2,9.8211506936030091E-4,7.9672930538324609,7,"2013-09-01",1.3571407456729696]
[null,null,{"$f":"'Monthly Prices'!A653","v":"2013M11"},"2013-10-01",646,false,true,false,{"$error":"#N/A"},{"$f":"INDEX('Monthly Prices'!B653:CB653,$G$4)","v":3.6173999999999999},{"$f":"IF(H665,INDEX('Monthly Prices'!B653:CB653,$G$4)*U665,FALSE)","v":false},true,{"$f":"INDEX('Monthly Prices'!B653:CB653,$G$5)","v":11.42},{"$f":"IF(H665,INDEX('Monthly Prices'!B653:CB653,$G$5)*U665,FALSE)","v":false},true,2013,{"$f":"'Monthly Prices'!B653","v":102.62649122806999},103.82720168229167,{"$f":"_xlfn.XLOOKUP(P665,'Annual Real'!A:A,'Annual Real'!B:B,0,0)","v":94.8794037284284},1.3560565977847159,1.3560565977847159,false,false,9.6361269999999995E-3,7.9948572207455548E-4,7.9736627908725835,7,"2013-10-01",1.3560565977847159]
[null,null,{"$f":"'Monthly Prices'!A654","v":"2013M12"},"2013-11-01",647,false,true,false,{"$error":"#N/A"},{"$f":"INDEX('Monthly Prices'!B654:CB654,$G$4)","v":4.2366000000000001},{"$f":"IF(H666,INDEX('Monthly Prices'!B654:CB654,$G$4)*U666,FALSE)","v":false},true,{"$f":"INDEX('Monthly Prices'!B654:CB654,$G$5)","v":11.55},{"$f":"IF(H666,INDEX('Monthly Prices'!B654:CB654,$G$5)*U666,FALSE)","v":false},true,2013,{"$f":"'Monthly Prices'!B654","v":105.48165079365},103.82720168229167,{"$f":"_xlfn.XLOOKUP(P666,'Annual Real'!A:A,'Annual Real'!B:B,0,0)","v":94.8794037284284},1.3546679357556775,1.3546679357556775,false,false,1.237072E-2,1.0250940414144871E-3,7.9818365450877558,7,"2013-11-01",1.3546679357556775]
[null,null,{"$f":"'Monthly Prices'!A655","v":"2014M01"},"2013-12-01",648,false,true,false,{"$error":"#N/A"},{"$f":"INDEX('Monthly Prices'!B655:CB655,$G$4)","v":4.7008000000000001},{"$f":"IF(H667,INDEX('Monthly Prices'!B655:CB655,$G$4)*U667,FALSE)","v":false},true,{"$f":"INDEX('Monthly Prices'!B655:CB655,$G$5)","v":11.59},{"$f":"IF(H667,INDEX('Monthly Prices'!B655:CB655,$G$5)*U667,FALSE)","v":false},true,2013,{"$f":"'Monthly Prices'!B655","v":102.09666666667},103.82720168229167,{"$f":"_xlfn.XLOOKUP(P667,'Annual Real'!A:A,'Annual Real'!B:B,0,0)","v":94.8794037284284},1.3529862891240123,1.3529862891240123,false,false,1.501736E-2,1.2429147620955927E-3,7.9917572875582792,7,"2013-12-01",1.3529862891240123]
[null,null,{"$f":"'Monthly Prices'!A656","v":"2014M02"},"2014-01-01",649,false,true,false,{"$error":"#N/A"},{"$f":"INDEX('Monthly Prices'!B656:CB656,$G$4)","v":5.9733000000000001},{"$f":"IF(H668,INDEX('Monthly Prices'!B656:CB656,$G$4)*U668,FALSE)","v":false},true,{"$f":"INDEX('Monthly Prices'!B656:CB656,$G$5)","v":11.3},{"$f":"IF(H668,INDEX('Monthly Prices'!B656:CB656,$G$5)*U668,FALSE)","v":false},true,2014,{"$f":"'Monthly Prices'!B656","v":104.82666666666999},91.652500000000018,{"$f":"_xlfn.XLOOKUP(P668,'Annual Real'!A:A,'Annual Real'!B:B,0,0)","v":88.927426008728204},1.3512211052524967,1.3512211052524967,false,false,1.5789469999999903E-2,1.306361974849013E-3,8.0021974153909685,7,"2014-01-01",1.3512211052524967]
[null,null,{"$f":"'Monthly Prices'!A657","v":"2014M03"},"2014-02-01",650,false,true,false,{"$error":"#N/A"},{"$f":"INDEX('Monthly Prices'!B657:CB657,$G$4)","v":4.8783000000000003},{"$f":"IF(H669,INDEX('Monthly Prices'!B657:CB657,$G$4)*U669,FALSE)","v":false},true,{"$f":"INDEX('Monthly Prices'!B657:CB657,$G$5)","v":10.88},{"$f":"IF(H669,INDEX('Monthly Prices'!B657:CB657,$G$5)*U669,FALSE)","v":false},true,2014,{"$f":"'Monthly Prices'!B657","v":104.04},91.652500000000018,{"$f":"_xlfn.XLOOKUP(P669,'Annual Real'!A:A,'Annual Real'!B:B,0,0)","v":88.927426008728204},1.3499604943667203,1.3499604943667203,false,false,1.1263490000000001E-2,9.338131678942041E-4,8.0096699727095491,7,"2014-02-01",1.3499604943667203]
[null,null,{"$f":"'Monthly Prices'!A658","v":"2014M04"},"2014-03-01",651,false,true,false,{"$error":"#N/A"},{"$f":"INDEX('Monthly Prices'!B658:CB658,$G$4)","v":4.6338999999999997},{"$f":"IF(H670,INDEX('Monthly Prices'!B658:CB658,$G$4)*U670,FALSE)","v":false},true,{"$f":"INDEX('Monthly Prices'!B658:CB658,$G$5)","v":10.73},{"$f":"IF(H670,INDEX('Monthly Prices'!B658:CB658,$G$5)*U670,FALSE)","v":false},true,2014,{"$f":"'Monthly Prices'!B658","v":104.86666666667},91.652500000000018,{"$f":"_xlfn.XLOOKUP(P670,'Annual Real'!A:A,'Annual Real'!B:B,0,0)","v":88.927426008728204},1.3482731056515442,1.3482731056515442,false,false,1.512203E-2,1.2515184854633432E-3,8.0196942227428565,7,"2014-03-01",1.3482731056515442]
[null,null,{"$f":"'Monthly Prices'!A659","v":"2014M05"},"2014-04-01",652,false,true,false,{"$error":"#N/A"},{"$f":"INDEX('Monthly Prices'!B659:CB659,$G$4)","v":4.5625},{"$f":"IF(H671,INDEX('Monthly Prices'!B659:CB659,$G$4)*U671,FALSE)","v":false},true,{"$f":"INDEX('Monthly Prices'!B659:CB659,$G$5)","v":10.199999999999999},{"$f":"IF(H671,INDEX('Monthly Prices'!B659:CB659,$G$5)*U671,FALSE)","v":false},true,2014,{"$f":"'Monthly Prices'!B659","v":105.71333333333},91.652500000000018,{"$f":"_xlfn.XLOOKUP(P671,'Annual Real'!A:A,'Annual Real'!B:B,0,0)","v":88.927426008728204},1.346101850351342,1.346101850351342,false,false,1.952858E-2,1.6129948113772219E-3,8.032629947912973,7,"2014-04-01",1.346101850351342]
[null,null,{"$f":"'Monthly Prices'!A660","v":"2014M06"},"2014-05-01",653,false,true,false,{"$error":"#N/A"},{"$f":"INDEX('Monthly Prices'!B660:CB660,$G$4)","v":4.5692000000000004},{"$f":"IF(H672,INDEX('Monthly Prices'!B660:CB660,$G$4)*U672,FALSE)","v":false},true,{"$f":"INDEX('Monthly Prices'!B660:CB660,$G$5)","v":9.77},{"$f":"IF(H672,INDEX('Monthly Prices'!B660:CB660,$G$5)*U672,FALSE)","v":false},true,2014,{"$f":"'Monthly Prices'!B660","v":108.37333333333},91.652500000000018,{"$f":"_xlfn.XLOOKUP(P672,'Annual Real'!A:A,'Annual Real'!B:B,0,0)","v":88.927426008728204},1.343742852923256,1.343742852923256,false,false,2.1271110000000003E-2,1.7555423070376719E-3,8.0467315696233115,7,"2014-05-01",1.343742852923256]
[null,null,{"$f":"'Monthly Prices'!A661","v":"2014M07"},"2014-06-01",654,false,true,false,{"$error":"#N/A"},{"$f":"INDEX('Monthly Prices'!B661:CB661,$G$4)","v":4.0099},{"$f":"IF(H673,INDEX('Monthly Prices'!B661:CB661,$G$4)*U673,FALSE)","v":false},true,{"$f":"INDEX('Monthly Prices'!B661:CB661,$G$5)","v":9.27},{"$f":"IF(H673,INDEX('Monthly Prices'!B661:CB661,$G$5)*U673,FALSE)","v":false},true,2014,{"$f":"'Monthly Prices'!B661","v":105.22666666667},91.652500000000018,{"$f":"_xlfn.XLOOKUP(P673,'Annual Real'!A:A,'Annual Real'!B:B,0,0)","v":88.927426008728204},1.3414479550008389,1.3414479550008389,false,false,2.0723409999999901E-2,1.7107618032154992E-3,8.0604976106333517,7,"2014-06-01",1.3414479550008389]
[null,null,{"$f":"'Monthly Prices'!A662","v":"2014M08"},"2014-07-01",655,false,true,false,{"$error":"#N/A"},{"$f":"INDEX('Monthly Prices'!B662:CB662,$G$4)","v":3.8839999999999999},{"$f":"IF(H674,INDEX('Monthly Prices'!B662:CB662,$G$4)*U674,FALSE)","v":false},true,{"$f":"INDEX('Monthly Prices'!B662:CB662,$G$5)","v":9.14},{"$f":"IF(H674,INDEX('Monthly Prices'!B662:CB662,$G$5)*U674,FALSE)","v":false},true,2014,{"$f":"'Monthly Prices'!B662","v":100.05},91.652500000000018,{"$f":"_xlfn.XLOOKUP(P674,'Annual Real'!A:A,'Annual Real'!B:B,0,0)","v":88.927426008728204},1.3392444912476442,1.3392444912476442,false,false,1.992329E-2,1.6453035779462333E-3,8.0737595761921543,7,"2014-07-01",1.3392444912476442]
[null,null,{"$f":"'Monthly Prices'!A663","v":"2014M09"},"2014-08-01",656,false,true,false,{"$error":"#N/A"},{"$f":"INDEX('Monthly Prices'!B663:CB663,$G$4)","v":3.9169999999999998},{"$f":"IF(H675,INDEX('Monthly Prices'!B663:CB663,$G$4)*U675,FALSE)","v":false},true,{"$f":"INDEX('Monthly Prices'!B663:CB663,$G$5)","v":9.24},{"$f":"IF(H675,INDEX('Monthly Prices'!B663:CB663,$G$5)*U675,FALSE)","v":false},true,2014,{"$f":"'Monthly Prices'!B663","v":95.85},91.652500000000018,{"$f":"_xlfn.XLOOKUP(P675,'Annual Real'!A:A,'Annual Real'!B:B,0,0)","v":88.927426008728204},1.3373649215471006,1.3373649215471006,false,false,1.6996109999999998E-2,1.4054276961066314E-3,8.0851066615122402,7,"2014-08-01",1.3373649215471006]
[null,null,{"$f":"'Monthly Prices'!A664","v":"2014M10"},"2014-09-01",657,false,true,false,{"$error":"#N/A"},{"$f":"INDEX('Monthly Prices'!B664:CB664,$G$4)","v":3.7719},{"$f":"IF(H676,INDEX('Monthly Prices'!B664:CB664,$G$4)*U676,FALSE)","v":false},true,{"$f":"INDEX('Monthly Prices'!B664:CB664,$G$5)","v":9.77},{"$f":"IF(H676,INDEX('Monthly Prices'!B664:CB664,$G$5)*U676,FALSE)","v":false},true,2014,{"$f":"'Monthly Prices'!B664","v":86.08},91.652500000000018,{"$f":"_xlfn.XLOOKUP(P676,'Annual Real'!A:A,'Annual Real'!B:B,0,0)","v":88.927426008728204},1.3355336237484912,1.3355336237484912,false,false,1.6579190000000001E-2,1.371210552879587E-3,8.0961930450876629,7,"2014-09-01",1.3355336237484912]
[null,null,{"$f":"'Monthly Prices'!A665","v":"2014M11"},"2014-10-01",658,false,true,false,{"$error":"#N/A"},{"$f":"INDEX('Monthly Prices'!B665:CB665,$G$4)","v":4.1002999999999998},{"$f":"IF(H677,INDEX('Monthly Prices'!B665:CB665,$G$4)*U677,FALSE)","v":false},true,{"$f":"INDEX('Monthly Prices'!B665:CB665,$G$5)","v":8.9},{"$f":"IF(H677,INDEX('Monthly Prices'!B665:CB665,$G$5)*U677,FALSE)","v":false},true,2014,{"$f":"'Monthly Prices'!B665","v":76.99333333333},91.652500000000018,{"$f":"_xlfn.XLOOKUP(P677,'Annual Real'!A:A,'Annual Real'!B:B,0,0)","v":88.927426008728204},1.3336978138007807,1.3336978138007807,false,false,1.6643399999999999E-2,1.3764811854033443E-3,8.1073373024876201,7,"2014-10-01",1.3336978138007807]
[null,null,{"$f":"'Monthly Prices'!A666","v":"2014M12"},"2014-11-01",659,false,true,false,{"$error":"#N/A"},{"$f":"INDEX('Monthly Prices'!B666:CB666,$G$4)","v":3.4327999999999999},{"$f":"IF(H678,INDEX('Monthly Prices'!B666:CB666,$G$4)*U678,FALSE)","v":false},true,{"$f":"INDEX('Monthly Prices'!B666:CB666,$G$5)","v":9.83},{"$f":"IF(H678,INDEX('Monthly Prices'!B666:CB666,$G$5)*U678,FALSE)","v":false},true,2014,{"$f":"'Monthly Prices'!B666","v":60.703333333330001},91.652500000000018,{"$f":"_xlfn.XLOOKUP(P678,'Annual Real'!A:A,'Annual Real'!B:B,0,0)","v":88.927426008728204},1.3322385601241238,1.3322385601241238,false,false,1.3223549999999999E-2,1.0953396188448927E-3,8.1162175902383744,7,"2014-11-01",1.3322385601241238]
[null,null,{"$f":"'Monthly Prices'!A667","v":"2015M01"},"2014-12-01",660,false,true,false,{"$error":"#N/A"},{"$f":"INDEX('Monthly Prices'!B667:CB667,$G$4)","v":2.9742999999999999},{"$f":"IF(H679,INDEX('Monthly Prices'!B667:CB667,$G$4)*U679,FALSE)","v":false},true,{"$f":"INDEX('Monthly Prices'!B667:CB667,$G$5)","v":9.25},{"$f":"IF(H679,INDEX('Monthly Prices'!B667:CB667,$G$5)*U679,FALSE)","v":false},true,2014,{"$f":"'Monthly Prices'!B667","v":47.106666666670002},91.652500000000018,{"$f":"_xlfn.XLOOKUP(P679,'Annual Real'!A:A,'Annual Real'!B:B,0,0)","v":88.927426008728204},1.3314021256579467,1.3314021256579467,false,false,7.5649330000000002E-3,6.2823578996740181E-4,8.1213164886077251,7,"2014-12-01",1.3314021256579467]
[null,null,{"$f":"'Monthly Prices'!A668","v":"2015M02"},"2015-01-01",661,false,true,false,{"$error":"#N/A"},{"$f":"INDEX('Monthly Prices'!B668:CB668,$G$4)","v":2.8477999999999999},{"$f":"IF(H680,INDEX('Monthly Prices'!B668:CB668,$G$4)*U680,FALSE)","v":false},true,{"$f":"INDEX('Monthly Prices'!B668:CB668,$G$5)","v":8.27},{"$f":"IF(H680,INDEX('Monthly Prices'!B668:CB668,$G$5)*U680,FALSE)","v":false},true,2015,{"$f":"'Monthly Prices'!B668","v":54.79},49.308888888889165,{"$f":"_xlfn.XLOOKUP(P680,'Annual Real'!A:A,'Annual Real'!B:B,0,0)","v":51.863717988552999},1.3315013057840239,1.3315013057840239,false,false,-8.934832E-4,-7.4487441842130409E-5,8.1207115525180988,7,"2015-01-01",1.3315013057840239]
[null,null,{"$f":"'Monthly Prices'!A669","v":"2015M03"},"2015-02-01",662,false,true,false,{"$error":"#N/A"},{"$f":"INDEX('Monthly Prices'!B669:CB669,$G$4)","v":2.8006000000000002},{"$f":"IF(H681,INDEX('Monthly Prices'!B669:CB669,$G$4)*U681,FALSE)","v":false},true,{"$f":"INDEX('Monthly Prices'!B669:CB669,$G$5)","v":8.27},{"$f":"IF(H681,INDEX('Monthly Prices'!B669:CB669,$G$5)*U681,FALSE)","v":false},true,2015,{"$f":"'Monthly Prices'!B669","v":52.82666666667},49.308888888889165,{"$f":"_xlfn.XLOOKUP(P681,'Annual Real'!A:A,'Annual Real'!B:B,0,0)","v":51.863717988552999},1.3315291932147948,1.3315291932147948,false,false,-2.5129800000000001E-4,-2.0943912392601405E-5,8.120541473046778,7,"2015-02-01",1.3315291932147948]
[null,null,{"$f":"'Monthly Prices'!A670","v":"2015M04"},"2015-03-01",663,false,true,false,{"$error":"#N/A"},{"$f":"INDEX('Monthly Prices'!B670:CB670,$G$4)","v":2.5796999999999999},{"$f":"IF(H682,INDEX('Monthly Prices'!B670:CB670,$G$4)*U682,FALSE)","v":false},true,{"$f":"INDEX('Monthly Prices'!B670:CB670,$G$5)","v":6.7744456667500002},{"$f":"IF(H682,INDEX('Monthly Prices'!B670:CB670,$G$5)*U682,FALSE)","v":false},true,2015,{"$f":"'Monthly Prices'!B670","v":57.543333333329997},49.308888888889165,{"$f":"_xlfn.XLOOKUP(P682,'Annual Real'!A:A,'Annual Real'!B:B,0,0)","v":51.863717988552999},1.3316109344345997,1.3316109344345997,false,false,-7.363739E-4,-6.1385212220099739E-5,8.1200429918851125,7,"2015-03-01",1.3316109344345997]
[null,null,{"$f":"'Monthly Prices'!A671","v":"2015M05"},"2015-04-01",664,false,true,false,{"$error":"#N/A"},{"$f":"INDEX('Monthly Prices'!B671:CB671,$G$4)","v":2.8382999999999998},{"$f":"IF(H683,INDEX('Monthly Prices'!B671:CB671,$G$4)*U683,FALSE)","v":false},true,{"$f":"INDEX('Monthly Prices'!B671:CB671,$G$5)","v":6.6839973110799997},{"$f":"IF(H683,INDEX('Monthly Prices'!B671:CB671,$G$5)*U683,FALSE)","v":false},true,2015,{"$f":"'Monthly Prices'!B671","v":62.50666666667},49.308888888889165,{"$f":"_xlfn.XLOOKUP(P683,'Annual Real'!A:A,'Annual Real'!B:B,0,0)","v":51.863717988552999},1.3318325736636756,1.3318325736636756,false,false,-1.9951740000000002E-3,-1.6641673545048086E-4,8.1186916808386851,7,"2015-04-01",1.3318325736636756]
[null,null,{"$f":"'Monthly Prices'!A672","v":"2015M06"},"2015-05-01",665,false,true,false,{"$error":"#N/A"},{"$f":"INDEX('Monthly Prices'!B672:CB672,$G$4)","v":2.7692000000000001},{"$f":"IF(H684,INDEX('Monthly Prices'!B672:CB672,$G$4)*U684,FALSE)","v":false},true,{"$f":"INDEX('Monthly Prices'!B672:CB672,$G$5)","v":6.6667259295400001},{"$f":"IF(H684,INDEX('Monthly Prices'!B672:CB672,$G$5)*U684,FALSE)","v":false},true,2015,{"$f":"'Monthly Prices'!B672","v":61.306666666669997},49.308888888889165,{"$f":"_xlfn.XLOOKUP(P684,'Annual Real'!A:A,'Annual Real'!B:B,0,0)","v":51.863717988552999},1.3318769030338145,1.3318769030338145,false,false,-3.9932750000000006E-4,-3.3283383800708499E-5,8.1184214633075129,7,"2015-05-01",1.3318769030338145]
[null,null,{"$f":"'Monthly Prices'!A673","v":"2015M07"},"2015-06-01",666,false,true,false,{"$error":"#N/A"},{"$f":"INDEX('Monthly Prices'!B673:CB673,$G$4)","v":2.83},{"$f":"IF(H685,INDEX('Monthly Prices'!B673:CB673,$G$4)*U685,FALSE)","v":false},true,{"$f":"INDEX('Monthly Prices'!B673:CB673,$G$5)","v":6.6940371346500003},{"$f":"IF(H685,INDEX('Monthly Prices'!B673:CB673,$G$5)*U685,FALSE)","v":false},true,2015,{"$f":"'Monthly Prices'!B673","v":54.34},49.308888888889165,{"$f":"_xlfn.XLOOKUP(P685,'Annual Real'!A:A,'Annual Real'!B:B,0,0)","v":51.863717988552999},1.3317396217181172,1.3317396217181172,false,false,1.237712E-3,1.0308420164006904E-4,8.1192583443026347,7,"2015-06-01",1.3317396217181172]
[null,null,{"$f":"'Monthly Prices'!A674","v":"2015M08"},"2015-07-01",667,false,true,false,{"$error":"#N/A"},{"$f":"INDEX('Monthly Prices'!B674:CB674,$G$4)","v":2.7629999999999999},{"$f":"IF(H686,INDEX('Monthly Prices'!B674:CB674,$G$4)*U686,FALSE)","v":false},true,{"$f":"INDEX('Monthly Prices'!B674:CB674,$G$5)","v":6.34573758328},{"$f":"IF(H686,INDEX('Monthly Prices'!B674:CB674,$G$5)*U686,FALSE)","v":false},true,2015,{"$f":"'Monthly Prices'!B674","v":45.69},49.308888888889165,{"$f":"_xlfn.XLOOKUP(P686,'Annual Real'!A:A,'Annual Real'!B:B,0,0)","v":51.863717988552999},1.3315516086795505,1.3315516086795505,false,false,1.6956979999999998E-3,1.4119846151006143E-4,8.1204047710894525,7,"2015-07-01",1.3315516086795505]
[null,null,{"$f":"'Monthly Prices'!A675","v":"2015M09"},"2015-08-01",668,false,true,false,{"$error":"#N/A"},{"$f":"INDEX('Monthly Prices'!B675:CB675,$G$4)","v":2.6461000000000001},{"$f":"IF(H687,INDEX('Monthly Prices'!B675:CB675,$G$4)*U687,FALSE)","v":false},true,{"$f":"INDEX('Monthly Prices'!B675:CB675,$G$5)","v":6.2786986603399999},{"$f":"IF(H687,INDEX('Monthly Prices'!B675:CB675,$G$5)*U687,FALSE)","v":false},true,2015,{"$f":"'Monthly Prices'!B675","v":46.28},49.308888888889165,{"$f":"_xlfn.XLOOKUP(P687,'Annual Real'!A:A,'Annual Real'!B:B,0,0)","v":51.863717988552999},1.3313353719746404,1.3313353719746404,false,false,1.9507929999999902E-3,1.6242091171170259E-4,8.1217236946358415,7,"2015-08-01",1.3313353719746404]
[null,null,{"$f":"'Monthly Prices'!A676","v":"2015M10"},"2015-09-01",669,false,true,false,{"$error":"#N/A"},{"$f":"INDEX('Monthly Prices'!B676:CB676,$G$4)","v":2.3151999999999999},{"$f":"IF(H688,INDEX('Monthly Prices'!B676:CB676,$G$4)*U688,FALSE)","v":false},true,{"$f":"INDEX('Monthly Prices'!B676:CB676,$G$5)","v":6.0269578205999998},{"$f":"IF(H688,INDEX('Monthly Prices'!B676:CB676,$G$5)*U688,FALSE)","v":false},true,2015,{"$f":"'Monthly Prices'!B676","v":46.956666666670003},49.308888888889165,{"$f":"_xlfn.XLOOKUP(P688,'Annual Real'!A:A,'Annual Real'!B:B,0,0)","v":51.863717988552999},1.3313754638329593,1.3313754638329593,false,false,-3.6129750000000001E-4,-3.0113111896712397E-5,8.1214791242614304,7,"2015-09-01",1.3313754638329593]
[null,null,{"$f":"'Monthly Prices'!A677","v":"2015M11"},"2015-10-01",670,false,true,false,{"$error":"#N/A"},{"$f":"INDEX('Monthly Prices'!B677:CB677,$G$4)","v":2.0775000000000001},{"$f":"IF(H689,INDEX('Monthly Prices'!B677:CB677,$G$4)*U689,FALSE)","v":false},true,{"$f":"INDEX('Monthly Prices'!B677:CB677,$G$5)","v":5.5008338512300003},{"$f":"IF(H689,INDEX('Monthly Prices'!B677:CB677,$G$5)*U689,FALSE)","v":false},true,2015,{"$f":"'Monthly Prices'!B677","v":43.113333333329997},49.308888888889165,{"$f":"_xlfn.XLOOKUP(P689,'Annual Real'!A:A,'Annual Real'!B:B,0,0)","v":51.863717988552999},1.331186389672437,1.331186389672437,false,false,1.7057439999999999E-3,1.4203432516235459E-4,8.1226326530681643,7,"2015-10-01",1.331186389672437]
[null,null,{"$f":"'Monthly Prices'!A678","v":"2015M12"},"2015-11-01",671,false,true,false,{"$error":"#N/A"},{"$f":"INDEX('Monthly Prices'!B678:CB678,$G$4)","v":1.9228000000000001},{"$f":"IF(H690,INDEX('Monthly Prices'!B678:CB678,$G$4)*U690,FALSE)","v":false},true,{"$f":"INDEX('Monthly Prices'!B678:CB678,$G$5)","v":5.09276298262},{"$f":"IF(H690,INDEX('Monthly Prices'!B678:CB678,$G$5)*U690,FALSE)","v":false},true,2015,{"$f":"'Monthly Prices'!B678","v":36.573333333329998},49.308888888889165,{"$f":"_xlfn.XLOOKUP(P690,'Annual Real'!A:A,'Annual Real'!B:B,0,0)","v":51.863717988552999},1.3306312423351312,1.3306312423351312,false,false,5.0179759999999995E-3,4.1720599941075243E-4,8.1260214641420347,7,"2015-11-01",1.3306312423351312]
[null,null,{"$f":"'Monthly Prices'!A679","v":"2016M01"},"2015-12-01",672,false,true,false,{"$error":"#N/A"},{"$f":"INDEX('Monthly Prices'!B679:CB679,$G$4)","v":2.2744},{"$f":"IF(H691,INDEX('Monthly Prices'!B679:CB679,$G$4)*U691,FALSE)","v":false},true,{"$f":"INDEX('Monthly Prices'!B679:CB679,$G$5)","v":4.3981862754099996},{"$f":"IF(H691,INDEX('Monthly Prices'!B679:CB679,$G$5)*U691,FALSE)","v":false},true,2015,{"$f":"'Monthly Prices'!B679","v":29.78},49.308888888889165,{"$f":"_xlfn.XLOOKUP(P691,'Annual Real'!A:A,'Annual Real'!B:B,0,0)","v":51.863717988552999},1.3298254879258906,1.3298254879258906,false,false,7.2951980000000001E-3,6.059098855875078E-4,8.1309451008776552,7,"2015-12-01",1.3298254879258906]
[null,null,{"$f":"'Monthly Prices'!A680","v":"2016M02"},"2016-01-01",673,false,true,false,{"$error":"#N/A"},{"$f":"INDEX('Monthly Prices'!B680:CB680,$G$4)","v":1.9572000000000001},{"$f":"IF(H692,INDEX('Monthly Prices'!B680:CB680,$G$4)*U692,FALSE)","v":false},true,{"$f":"INDEX('Monthly Prices'!B680:CB680,$G$5)","v":3.9683785892799999},{"$f":"IF(H692,INDEX('Monthly Prices'!B680:CB680,$G$5)*U692,FALSE)","v":false},true,2016,{"$f":"'Monthly Prices'!B680","v":31.03},44.796111111111664,{"$f":"_xlfn.XLOOKUP(P692,'Annual Real'!A:A,'Annual Real'!B:B,0,0)","v":45.528322217026698},1.328315060002162,1.328315060002162,false,false,1.3730869999999999E-2,1.1371006542122419E-3,8.1401908038712278,7,"2016-01-01",1.328315060002162]
[null,null,{"$f":"'Monthly Prices'!A681","v":"2016M03"},"2016-02-01",674,false,true,false,{"$error":"#N/A"},{"$f":"INDEX('Monthly Prices'!B681:CB681,$G$4)","v":1.7017},{"$f":"IF(H693,INDEX('Monthly Prices'!B681:CB681,$G$4)*U693,FALSE)","v":false},true,{"$f":"INDEX('Monthly Prices'!B681:CB681,$G$5)","v":3.9101802431000001},{"$f":"IF(H693,INDEX('Monthly Prices'!B681:CB681,$G$5)*U693,FALSE)","v":false},true,2016,{"$f":"'Monthly Prices'!B681","v":37.340000000000003},44.796111111111664,{"$f":"_xlfn.XLOOKUP(P693,'Annual Real'!A:A,'Annual Real'!B:B,0,0)","v":45.528322217026698},1.3271945951049564,1.3271945951049564,false,false,1.0178E-2,8.4423557882029598E-4,8.1470630425662414,7,"2016-02-01",1.3271945951049564]
[null,null,{"$f":"'Monthly Prices'!A682","v":"2016M04"},"2016-03-01",675,false,true,false,{"$error":"#N/A"},{"$f":"INDEX('Monthly Prices'!B682:CB682,$G$4)","v":1.9047000000000001},{"$f":"IF(H694,INDEX('Monthly Prices'!B682:CB682,$G$4)*U694,FALSE)","v":false},true,{"$f":"INDEX('Monthly Prices'!B682:CB682,$G$5)","v":3.9700750897899999},{"$f":"IF(H694,INDEX('Monthly Prices'!B682:CB682,$G$5)*U694,FALSE)","v":false},true,2016,{"$f":"'Monthly Prices'!B682","v":40.75},44.796111111111664,{"$f":"_xlfn.XLOOKUP(P694,'Annual Real'!A:A,'Annual Real'!B:B,0,0)","v":45.528322217026698},1.3262560225247613,1.3262560225247613,false,false,8.5253619999999999E-3,7.0768581952118659E-4,8.1528286035522104,7,"2016-03-01",1.3262560225247613]
[null,null,{"$f":"'Monthly Prices'!A683","v":"2016M05"},"2016-04-01",676,false,true,false,{"$error":"#N/A"},{"$f":"INDEX('Monthly Prices'!B683:CB683,$G$4)","v":1.9219999999999999},{"$f":"IF(H695,INDEX('Monthly Prices'!B683:CB683,$G$4)*U695,FALSE)","v":false},true,{"$f":"INDEX('Monthly Prices'!B683:CB683,$G$5)","v":4.3291918650600003},{"$f":"IF(H695,INDEX('Monthly Prices'!B683:CB683,$G$5)*U695,FALSE)","v":false},true,2016,{"$f":"'Monthly Prices'!B683","v":45.93666666667},44.796111111111664,{"$f":"_xlfn.XLOOKUP(P695,'Annual Real'!A:A,'Annual Real'!B:B,0,0)","v":45.528322217026698},1.3250200554655986,1.3250200554655986,false,false,1.12511E-2,9.3279120875511268E-4,8.1604334904000915,7,"2016-04-01",1.3250200554655986]
[null,null,{"$f":"'Monthly Prices'!A684","v":"2016M06"},"2016-05-01",677,false,true,false,{"$error":"#N/A"},{"$f":"INDEX('Monthly Prices'!B684:CB684,$G$4)","v":2.5666000000000002},{"$f":"IF(H696,INDEX('Monthly Prices'!B684:CB684,$G$4)*U696,FALSE)","v":false},true,{"$f":"INDEX('Monthly Prices'!B684:CB684,$G$5)","v":4.7557204668899997},{"$f":"IF(H696,INDEX('Monthly Prices'!B684:CB684,$G$5)*U696,FALSE)","v":false},true,2016,{"$f":"'Monthly Prices'!B684","v":47.68666666667},44.796111111111664,{"$f":"_xlfn.XLOOKUP(P696,'Annual Real'!A:A,'Annual Real'!B:B,0,0)","v":45.528322217026698},1.3239007066721071,1.3239007066721071,false,false,1.0193229999999999E-2,8.4549301005010236E-4,8.1673330798752026,7,"2016-05-01",1.3239007066721071]
[null,null,{"$f":"'Monthly Prices'!A685","v":"2016M07"},"2016-06-01",678,false,true,false,{"$error":"#N/A"},{"$f":"INDEX('Monthly Prices'!B685:CB685,$G$4)","v":2.7879},{"$f":"IF(H697,INDEX('Monthly Prices'!B685:CB685,$G$4)*U697,FALSE)","v":false},true,{"$f":"INDEX('Monthly Prices'!B685:CB685,$G$5)","v":4.6747376913499998},{"$f":"IF(H697,INDEX('Monthly Prices'!B685:CB685,$G$5)*U697,FALSE)","v":false},true,2016,{"$f":"'Monthly Prices'!B685","v":44.126666666669998},44.796111111111664,{"$f":"_xlfn.XLOOKUP(P697,'Annual Real'!A:A,'Annual Real'!B:B,0,0)","v":45.528322217026698},1.3228063088000113,1.3228063088000113,false,false,9.9732649999999898E-3,8.2733039963245325E-4,8.1740901628161069,7,"2016-06-01",1.3228063088000113]
[null,null,{"$f":"'Monthly Prices'!A686","v":"2016M08"},"2016-07-01",679,false,true,false,{"$error":"#N/A"},{"$f":"INDEX('Monthly Prices'!B686:CB686,$G$4)","v":2.7913000000000001},{"$f":"IF(H698,INDEX('Monthly Prices'!B686:CB686,$G$4)*U698,FALSE)","v":false},true,{"$f":"INDEX('Monthly Prices'!B686:CB686,$G$5)","v":4.0474899302000003},{"$f":"IF(H698,INDEX('Monthly Prices'!B686:CB686,$G$5)*U698,FALSE)","v":false},true,2016,{"$f":"'Monthly Prices'!B686","v":44.876666666669998},44.796111111111664,{"$f":"_xlfn.XLOOKUP(P698,'Annual Real'!A:A,'Annual Real'!B:B,0,0)","v":45.528322217026698},1.321898583576026,1.321898583576026,false,false,8.2713879999999993E-3,6.8668295379348265E-4,8.1797031711936832,7,"2016-07-01",1.321898583576026]
[null,null,{"$f":"'Monthly Prices'!A687","v":"2016M09"},"2016-08-01",680,false,true,false,{"$error":"#N/A"},{"$f":"INDEX('Monthly Prices'!B687:CB687,$G$4)","v":2.9689000000000001},{"$f":"IF(H699,INDEX('Monthly Prices'!B687:CB687,$G$4)*U699,FALSE)","v":false},true,{"$f":"INDEX('Monthly Prices'!B687:CB687,$G$5)","v":4.2536141699499996},{"$f":"IF(H699,INDEX('Monthly Prices'!B687:CB687,$G$5)*U699,FALSE)","v":false},true,2016,{"$f":"'Monthly Prices'!B687","v":45.043333333329997},44.796111111111664,{"$f":"_xlfn.XLOOKUP(P699,'Annual Real'!A:A,'Annual Real'!B:B,0,0)","v":45.528322217026698},1.3207344309249029,1.3207344309249029,false,false,1.0628749999999999E-2,8.8144340290097212E-4,8.1869131165916205,7,"2016-08-01",1.3207344309249029]
[null,null,{"$f":"'Monthly Prices'!A688","v":"2016M10"},"2016-09-01",681,false,true,false,{"$error":"#N/A"},{"$f":"INDEX('Monthly Prices'!B688:CB688,$G$4)","v":2.9491999999999998},{"$f":"IF(H700,INDEX('Monthly Prices'!B688:CB688,$G$4)*U700,FALSE)","v":false},true,{"$f":"INDEX('Monthly Prices'!B688:CB688,$G$5)","v":5.3368188834500003},{"$f":"IF(H700,INDEX('Monthly Prices'!B688:CB688,$G$5)*U700,FALSE)","v":false},true,2016,{"$f":"'Monthly Prices'!B688","v":49.293333333329997},44.796111111111664,{"$f":"_xlfn.XLOOKUP(P700,'Annual Real'!A:A,'Annual Real'!B:B,0,0)","v":45.528322217026698},1.3191360180584815,1.3191360180584815,false,false,1.4637839999999999E-2,1.2117119421650724E-3,8.1968332969844617,7,"2016-09-01",1.3191360180584815]
[null,null,{"$f":"'Monthly Prices'!A689","v":"2016M11"},"2016-10-01",682,false,true,false,{"$error":"#N/A"},{"$f":"INDEX('Monthly Prices'!B689:CB689,$G$4)","v":2.5009000000000001},{"$f":"IF(H701,INDEX('Monthly Prices'!B689:CB689,$G$4)*U701,FALSE)","v":false},true,{"$f":"INDEX('Monthly Prices'!B689:CB689,$G$5)","v":5.6931795011500004},{"$f":"IF(H701,INDEX('Monthly Prices'!B689:CB689,$G$5)*U701,FALSE)","v":false},true,2016,{"$f":"'Monthly Prices'!B689","v":45.26},44.796111111111664,{"$f":"_xlfn.XLOOKUP(P701,'Annual Real'!A:A,'Annual Real'!B:B,0,0)","v":45.528322217026698},1.3173533671235955,1.3173533671235955,false,false,1.635988E-2,1.353206344914426E-3,8.2079253038101463,7,"2016-10-01",1.3173533671235955]
[null,null,{"$f":"'Monthly Prices'!A690","v":"2016M12"},"2016-11-01",683,false,true,false,{"$error":"#N/A"},{"$f":"INDEX('Monthly Prices'!B690:CB690,$G$4)","v":3.5817999999999999},{"$f":"IF(H702,INDEX('Monthly Prices'!B690:CB690,$G$4)*U702,FALSE)","v":false},true,{"$f":"INDEX('Monthly Prices'!B690:CB690,$G$5)","v":5.4235014224000002},{"$f":"IF(H702,INDEX('Monthly Prices'!B690:CB690,$G$5)*U702,FALSE)","v":false},true,2016,{"$f":"'Monthly Prices'!B690","v":52.62},44.796111111111664,{"$f":"_xlfn.XLOOKUP(P702,'Annual Real'!A:A,'Annual Real'!B:B,0,0)","v":45.528322217026698},1.3155121462219868,1.3155121462219868,false,false,1.6925369999999999E-2,1.3996228821577805E-3,8.2194133038804011,7,"2016-11-01",1.3155121462219868]
[null,null,{"$f":"'Monthly Prices'!A691","v":"2017M01"},"2016-12-01",684,false,true,false,{"$error":"#N/A"},{"$f":"INDEX('Monthly Prices'!B691:CB691,$G$4)","v":3.2608000000000001},{"$f":"IF(H703,INDEX('Monthly Prices'!B691:CB691,$G$4)*U703,FALSE)","v":false},true,{"$f":"INDEX('Monthly Prices'!B691:CB691,$G$5)","v":6.1443492547999998},{"$f":"IF(H703,INDEX('Monthly Prices'!B691:CB691,$G$5)*U703,FALSE)","v":false},true,2016,{"$f":"'Monthly Prices'!B691","v":53.59},44.796111111111664,{"$f":"_xlfn.XLOOKUP(P703,'Annual Real'!A:A,'Annual Real'!B:B,0,0)","v":45.528322217026698},1.3132630162447678,1.3132630162447678,false,false,2.0746220000000003E-2,1.7126272113032748E-3,8.2334900947655747,7,"2016-12-01",1.3132630162447678]
[null,null,{"$f":"'Monthly Prices'!A692","v":"2017M02"},"2017-01-01",685,false,true,false,{"$error":"#N/A"},{"$f":"INDEX('Monthly Prices'!B692:CB692,$G$4)","v":2.8233000000000001},{"$f":"IF(H704,INDEX('Monthly Prices'!B692:CB692,$G$4)*U704,FALSE)","v":false},true,{"$f":"INDEX('Monthly Prices'!B692:CB692,$G$5)","v":6.0515836448},{"$f":"IF(H704,INDEX('Monthly Prices'!B692:CB692,$G$5)*U704,FALSE)","v":false},true,2017,{"$f":"'Monthly Prices'!B692","v":54.353333333329999},53.858055555555005,{"$f":"_xlfn.XLOOKUP(P704,'Annual Real'!A:A,'Annual Real'!B:B,0,0)","v":54.258413950768002},1.310563425324238,1.310563425324238,false,false,2.5000419999999898E-2,2.0598704865137929E-3,8.2504500180127867,7,"2017-01-01",1.310563425324238]
[null,null,{"$f":"'Monthly Prices'!A693","v":"2017M03"},"2017-02-01",686,false,true,false,{"$error":"#N/A"},{"$f":"INDEX('Monthly Prices'!B693:CB693,$G$4)","v":2.8875000000000002},{"$f":"IF(H705,INDEX('Monthly Prices'!B693:CB693,$G$4)*U705,FALSE)","v":false},true,{"$f":"INDEX('Monthly Prices'!B693:CB693,$G$5)","v":5.0009450765399999},{"$f":"IF(H705,INDEX('Monthly Prices'!B693:CB693,$G$5)*U705,FALSE)","v":false},true,2017,{"$f":"'Monthly Prices'!B693","v":50.903333333330004},53.858055555555005,{"$f":"_xlfn.XLOOKUP(P705,'Annual Real'!A:A,'Annual Real'!B:B,0,0)","v":54.258413950768002},1.3076167233449039,1.3076167233449039,false,false,2.7379580000000001E-2,2.2534905884319389E-3,8.2690423294787063,7,"2017-02-01",1.3076167233449039]
[null,null,{"$f":"'Monthly Prices'!A694","v":"2017M04"},"2017-03-01",687,false,true,false,{"$error":"#N/A"},{"$f":"INDEX('Monthly Prices'!B694:CB694,$G$4)","v":3.0819999999999999},{"$f":"IF(H706,INDEX('Monthly Prices'!B694:CB694,$G$4)*U706,FALSE)","v":false},true,{"$f":"INDEX('Monthly Prices'!B694:CB694,$G$5)","v":5.0109139183},{"$f":"IF(H706,INDEX('Monthly Prices'!B694:CB694,$G$5)*U706,FALSE)","v":false},true,2017,{"$f":"'Monthly Prices'!B694","v":52.163333333330002},53.858055555555005,{"$f":"_xlfn.XLOOKUP(P706,'Annual Real'!A:A,'Annual Real'!B:B,0,0)","v":54.258413950768002},1.3050555245268307,1.3050555245268307,false,false,2.3806119999999899E-2,1.962520957874192E-3,8.2852704983518564,7,"2017-03-01",1.3050555245268307]
[null,null,{"$f":"'Monthly Prices'!A695","v":"2017M05"},"2017-04-01",688,false,true,false,{"$error":"#N/A"},{"$f":"INDEX('Monthly Prices'!B695:CB695,$G$4)","v":3.1248},{"$f":"IF(H707,INDEX('Monthly Prices'!B695:CB695,$G$4)*U707,FALSE)","v":false},true,{"$f":"INDEX('Monthly Prices'!B695:CB695,$G$5)","v":5.0584359784700004},{"$f":"IF(H707,INDEX('Monthly Prices'!B695:CB695,$G$5)*U707,FALSE)","v":false},true,2017,{"$f":"'Monthly Prices'!B695","v":49.893333333329998},53.858055555555005,{"$f":"_xlfn.XLOOKUP(P707,'Annual Real'!A:A,'Annual Real'!B:B,0,0)","v":54.258413950768002},1.3026913355139085,1.3026913355139085,false,false,2.19969E-2,1.8148497256946783E-3,8.3003070192430961,7,"2017-04-01",1.3026913355139085]
[null,null,{"$f":"'Monthly Prices'!A696","v":"2017M06"},"2017-05-01",689,false,true,false,{"$error":"#N/A"},{"$f":"INDEX('Monthly Prices'!B696:CB696,$G$4)","v":2.9409999999999998},{"$f":"IF(H708,INDEX('Monthly Prices'!B696:CB696,$G$4)*U708,FALSE)","v":false},true,{"$f":"INDEX('Monthly Prices'!B696:CB696,$G$5)","v":4.8867667856299999},{"$f":"IF(H708,INDEX('Monthly Prices'!B696:CB696,$G$5)*U708,FALSE)","v":false},true,2017,{"$f":"'Monthly Prices'!B696","v":46.166666666669997},53.858055555555005,{"$f":"_xlfn.XLOOKUP(P708,'Annual Real'!A:A,'Annual Real'!B:B,0,0)","v":54.258413950768002},1.3006764173532834,1.3006764173532834,false,false,1.8748779999999899E-2,1.5491310011794823E-3,8.3131652821659134,7,"2017-05-01",1.3006764173532834]
[null,null,{"$f":"'Monthly Prices'!A697","v":"2017M07"},"2017-06-01",690,false,true,false,{"$error":"#N/A"},{"$f":"INDEX('Monthly Prices'!B697:CB697,$G$4)","v":2.9613999999999998},{"$f":"IF(H709,INDEX('Monthly Prices'!B697:CB697,$G$4)*U709,FALSE)","v":false},true,{"$f":"INDEX('Monthly Prices'!B697:CB697,$G$5)","v":5.0039208322600004},{"$f":"IF(H709,INDEX('Monthly Prices'!B697:CB697,$G$5)*U709,FALSE)","v":false},true,2017,{"$f":"'Monthly Prices'!B697","v":47.656666666669999},53.858055555555005,{"$f":"_xlfn.XLOOKUP(P709,'Annual Real'!A:A,'Annual Real'!B:B,0,0)","v":54.258413950768002},1.2989213748678408,1.2989213748678408,false,false,1.6334879999999899E-2,1.3511537491028847E-3,8.3243976466038241,7,"2017-06-01",1.2989213748678408]
[null,null,{"$f":"'Monthly Prices'!A698","v":"2017M08"},"2017-07-01",691,false,true,false,{"$error":"#N/A"},{"$f":"INDEX('Monthly Prices'!B698:CB698,$G$4)","v":2.8757000000000001},{"$f":"IF(H710,INDEX('Monthly Prices'!B698:CB698,$G$4)*U710,FALSE)","v":false},true,{"$f":"INDEX('Monthly Prices'!B698:CB698,$G$5)","v":5.4766011818699996},{"$f":"IF(H710,INDEX('Monthly Prices'!B698:CB698,$G$5)*U710,FALSE)","v":false},true,2017,{"$f":"'Monthly Prices'!B698","v":49.943333333330003},53.858055555555005,{"$f":"_xlfn.XLOOKUP(P710,'Annual Real'!A:A,'Annual Real'!B:B,0,0)","v":54.258413950768002},1.2970682515164222,1.2970682515164222,false,false,1.7279779999999901E-2,1.4287014960485678E-3,8.3362907259752301,7,"2017-07-01",1.2970682515164222]
[null,null,{"$f":"'Monthly Prices'!A699","v":"2017M09"},"2017-08-01",692,false,true,false,{"$error":"#N/A"},{"$f":"INDEX('Monthly Prices'!B699:CB699,$G$4)","v":2.9630000000000001},{"$f":"IF(H711,INDEX('Monthly Prices'!B699:CB699,$G$4)*U711,FALSE)","v":false},true,{"$f":"INDEX('Monthly Prices'!B699:CB699,$G$5)","v":5.9611499719900003},{"$f":"IF(H711,INDEX('Monthly Prices'!B699:CB699,$G$5)*U711,FALSE)","v":false},true,2017,{"$f":"'Monthly Prices'!B699","v":52.95},53.858055555555005,{"$f":"_xlfn.XLOOKUP(P711,'Annual Real'!A:A,'Annual Real'!B:B,0,0)","v":54.258413950768002},1.2949941533784182,1.2949941533784182,false,false,1.9389739999999999E-2,1.6016274147594434E-3,8.3496423577393575,7,"2017-08-01",1.2949941533784182]
[null,null,{"$f":"'Monthly Prices'!A700","v":"2017M10"},"2017-09-01",693,false,true,false,{"$error":"#N/A"},{"$f":"INDEX('Monthly Prices'!B700:CB700,$G$4)","v":2.8637999999999999},{"$f":"IF(H712,INDEX('Monthly Prices'!B700:CB700,$G$4)*U712,FALSE)","v":false},true,{"$f":"INDEX('Monthly Prices'!B700:CB700,$G$5)","v":6.17632034854},{"$f":"IF(H712,INDEX('Monthly Prices'!B700:CB700,$G$5)*U712,FALSE)","v":false},true,2017,{"$f":"'Monthly Prices'!B700","v":54.92},53.858055555555005,{"$f":"_xlfn.XLOOKUP(P712,'Annual Real'!A:A,'Annual Real'!B:B,0,0)","v":54.258413950768002},1.2926131258315892,1.2926131258315892,false,false,2.2329639999999998E-2,1.8420264340863746E-3,8.3650226196774806,7,"2017-09-01",1.2926131258315892]
[null,null,{"$f":"'Monthly Prices'!A701","v":"2017M11"},"2017-10-01",694,false,true,false,{"$error":"#N/A"},{"$f":"INDEX('Monthly Prices'!B701:CB701,$G$4)","v":2.9912999999999998},{"$f":"IF(H713,INDEX('Monthly Prices'!B701:CB701,$G$4)*U713,FALSE)","v":false},true,{"$f":"INDEX('Monthly Prices'!B701:CB701,$G$5)","v":6.6945990398199999},{"$f":"IF(H713,INDEX('Monthly Prices'!B701:CB701,$G$5)*U713,FALSE)","v":false},true,2017,{"$f":"'Monthly Prices'!B701","v":59.933333333329998},53.858055555555005,{"$f":"_xlfn.XLOOKUP(P713,'Annual Real'!A:A,'Annual Real'!B:B,0,0)","v":54.258413950768002},1.2904384367754065,1.2904384367754065,false,false,2.0411290000000002E-2,1.6852327040235426E-3,8.3791196293660573,7,"2017-10-01",1.2904384367754065]
[null,null,{"$f":"'Monthly Prices'!A702","v":"2017M12"},"2017-11-01",695,false,true,false,{"$error":"#N/A"},{"$f":"INDEX('Monthly Prices'!B702:CB702,$G$4)","v":2.7583000000000002},{"$f":"IF(H714,INDEX('Monthly Prices'!B702:CB702,$G$4)*U714,FALSE)","v":false},true,{"$f":"INDEX('Monthly Prices'!B702:CB702,$G$5)","v":7.1389336141299999},{"$f":"IF(H714,INDEX('Monthly Prices'!B702:CB702,$G$5)*U714,FALSE)","v":false},true,2017,{"$f":"'Monthly Prices'!B702","v":61.18666666667},53.858055555555005,{"$f":"_xlfn.XLOOKUP(P714,'Annual Real'!A:A,'Annual Real'!B:B,0,0)","v":54.258413950768002},1.2880976890126545,1.2880976890126545,false,false,2.2025830000000003E-2,1.8172129200435538E-3,8.3943462738151311,7,"2017-11-01",1.2880976890126545]
[null,null,{"$f":"'Monthly Prices'!A703","v":"2018M01"},"2017-12-01",696,false,true,false,{"$error":"#N/A"},{"$f":"INDEX('Monthly Prices'!B703:CB703,$G$4)","v":3.8555999999999999},{"$f":"IF(H715,INDEX('Monthly Prices'!B703:CB703,$G$4)*U715,FALSE)","v":false},true,{"$f":"INDEX('Monthly Prices'!B703:CB703,$G$5)","v":6.6622550131400002},{"$f":"IF(H715,INDEX('Monthly Prices'!B703:CB703,$G$5)*U715,FALSE)","v":false},true,2017,{"$f":"'Monthly Prices'!B703","v":66.226666666669999},53.858055555555005,{"$f":"_xlfn.XLOOKUP(P715,'Annual Real'!A:A,'Annual Real'!B:B,0,0)","v":54.258413950768002},1.2858592600101437,1.2858592600101437,false,false,2.109082E-2,1.7408040460766827E-3,8.4089591857727566,7,"2017-12-01",1.2858592600101437]
[null,null,{"$f":"'Monthly Prices'!A704","v":"2018M02"},"2018-01-01",697,false,true,false,{"$error":"#N/A"},{"$f":"INDEX('Monthly Prices'!B704:CB704,$G$4)","v":2.6707999999999998},{"$f":"IF(H716,INDEX('Monthly Prices'!B704:CB704,$G$4)*U716,FALSE)","v":false},true,{"$f":"INDEX('Monthly Prices'!B704:CB704,$G$5)","v":6.7187497665000002},{"$f":"IF(H716,INDEX('Monthly Prices'!B704:CB704,$G$5)*U716,FALSE)","v":false},true,2018,{"$f":"'Monthly Prices'!B704","v":63.46},67.543888888889171,{"$f":"_xlfn.XLOOKUP(P716,'Annual Real'!A:A,'Annual Real'!B:B,0,0)","v":67.152391380753798},1.2836651390134493,1.2836651390134493,false,false,2.0705079999999997E-2,1.7092627430708163E-3,8.4233323064170005,7,"2018-01-01",1.2836651390134493]
[null,null,{"$f":"'Monthly Prices'!A705","v":"2018M03"},"2018-02-01",698,false,true,false,{"$error":"#N/A"},{"$f":"INDEX('Monthly Prices'!B705:CB705,$G$4)","v":2.6989000000000001},{"$f":"IF(H717,INDEX('Monthly Prices'!B705:CB705,$G$4)*U717,FALSE)","v":false},true,{"$f":"INDEX('Monthly Prices'!B705:CB705,$G$5)","v":6.6973876403599997},{"$f":"IF(H717,INDEX('Monthly Prices'!B705:CB705,$G$5)*U717,FALSE)","v":false},true,2018,{"$f":"'Monthly Prices'!B705","v":64.166666666669997},67.543888888889171,{"$f":"_xlfn.XLOOKUP(P717,'Annual Real'!A:A,'Annual Real'!B:B,0,0)","v":67.152391380753798},1.2813270535091628,1.2813270535091628,false,false,2.2117950000000001E-2,1.8247374843787245E-3,8.4387026766198971,7,"2018-02-01",1.2813270535091628]
[null,null,{"$f":"'Monthly Prices'!A706","v":"2018M04"},"2018-03-01",699,false,true,false,{"$error":"#N/A"},{"$f":"INDEX('Monthly Prices'!B706:CB706,$G$4)","v":2.7791000000000001},{"$f":"IF(H718,INDEX('Monthly Prices'!B706:CB706,$G$4)*U718,FALSE)","v":false},true,{"$f":"INDEX('Monthly Prices'!B706:CB706,$G$5)","v":6.9278582024200004},{"$f":"IF(H718,INDEX('Monthly Prices'!B706:CB706,$G$5)*U718,FALSE)","v":false},true,2018,{"$f":"'Monthly Prices'!B706","v":68.793333333329997},67.543888888889171,{"$f":"_xlfn.XLOOKUP(P718,'Annual Real'!A:A,'Annual Real'!B:B,0,0)","v":67.152391380753798},1.2788391059473221,1.2788391059473221,false,false,2.3597109999999998E-2,1.9454734768982185E-3,8.4551199488566908,7,"2018-03-01",1.2788391059473221]
[null,null,{"$f":"'Monthly Prices'!A707","v":"2018M05"},"2018-04-01",700,false,true,false,{"$error":"#N/A"},{"$f":"INDEX('Monthly Prices'!B707:CB707,$G$4)","v":2.7972000000000001},{"$f":"IF(H719,INDEX('Monthly Prices'!B707:CB707,$G$4)*U719,FALSE)","v":false},true,{"$f":"INDEX('Monthly Prices'!B707:CB707,$G$5)","v":7.4873540573200001},{"$f":"IF(H719,INDEX('Monthly Prices'!B707:CB707,$G$5)*U719,FALSE)","v":false},true,2018,{"$f":"'Monthly Prices'!B707","v":73.430000000000007},67.543888888889171,{"$f":"_xlfn.XLOOKUP(P719,'Annual Real'!A:A,'Annual Real'!B:B,0,0)","v":67.152391380753798},1.2762489849357093,1.2762489849357093,false,false,2.4627439999999997E-2,2.0294793901389774E-3,8.4722794405340487,7,"2018-04-01",1.2762489849357093]
[null,null,{"$f":"'Monthly Prices'!A708","v":"2018M06"},"2018-05-01",701,false,true,false,{"$error":"#N/A"},{"$f":"INDEX('Monthly Prices'!B708:CB708,$G$4)","v":2.9523000000000001},{"$f":"IF(H720,INDEX('Monthly Prices'!B708:CB708,$G$4)*U720,FALSE)","v":false},true,{"$f":"INDEX('Monthly Prices'!B708:CB708,$G$5)","v":7.4489428440400003},{"$f":"IF(H720,INDEX('Monthly Prices'!B708:CB708,$G$5)*U720,FALSE)","v":false},true,2018,{"$f":"'Monthly Prices'!B708","v":71.976666666669999},67.543888888889171,{"$f":"_xlfn.XLOOKUP(P720,'Annual Real'!A:A,'Annual Real'!B:B,0,0)","v":67.152391380753798},1.2733143314178865,1.2733143314178865,false,false,2.8010119999999999E-2,2.3047361090759999E-3,8.4918058088868289,7,"2018-05-01",1.2733143314178865]
[null,null,{"$f":"'Monthly Prices'!A709","v":"2018M07"},"2018-06-01",702,false,true,false,{"$error":"#N/A"},{"$f":"INDEX('Monthly Prices'!B709:CB709,$G$4)","v":2.8250999999999999},{"$f":"IF(H721,INDEX('Monthly Prices'!B709:CB709,$G$4)*U721,FALSE)","v":false},true,{"$f":"INDEX('Monthly Prices'!B709:CB709,$G$5)","v":7.5988392302500003},{"$f":"IF(H721,INDEX('Monthly Prices'!B709:CB709,$G$5)*U721,FALSE)","v":false},true,2018,{"$f":"'Monthly Prices'!B709","v":72.666666666669997},67.543888888889171,{"$f":"_xlfn.XLOOKUP(P721,'Annual Real'!A:A,'Annual Real'!B:B,0,0)","v":67.152391380753798},1.2703138142380057,1.2703138142380057,false,false,2.8715479999999901E-2,2.362028300605834E-3,8.5118636945306694,7,"2018-06-01",1.2703138142380057]
[null,null,{"$f":"'Monthly Prices'!A710","v":"2018M08"},"2018-07-01",703,false,true,false,{"$error":"#N/A"},{"$f":"INDEX('Monthly Prices'!B710:CB710,$G$4)","v":2.9571999999999998},{"$f":"IF(H722,INDEX('Monthly Prices'!B710:CB710,$G$4)*U722,FALSE)","v":false},true,{"$f":"INDEX('Monthly Prices'!B710:CB710,$G$5)","v":8.0849099384399992},{"$f":"IF(H722,INDEX('Monthly Prices'!B710:CB710,$G$5)*U722,FALSE)","v":false},true,2018,{"$f":"'Monthly Prices'!B710","v":71.083333333330003},67.543888888889171,{"$f":"_xlfn.XLOOKUP(P722,'Annual Real'!A:A,'Annual Real'!B:B,0,0)","v":67.152391380753798},1.2672403579930314,1.2672403579930314,false,false,2.9495149999999998E-2,2.4253143656518539E-3,8.5325076398274859,7,"2018-07-01",1.2672403579930314]
[null,null,{"$f":"'Monthly Prices'!A711","v":"2018M09"},"2018-08-01",704,false,true,false,{"$error":"#N/A"},{"$f":"INDEX('Monthly Prices'!B711:CB711,$G$4)","v":2.9847000000000001},{"$f":"IF(H723,INDEX('Monthly Prices'!B711:CB711,$G$4)*U723,FALSE)","v":false},true,{"$f":"INDEX('Monthly Prices'!B711:CB711,$G$5)","v":9.5215770312100005},{"$f":"IF(H723,INDEX('Monthly Prices'!B711:CB711,$G$5)*U723,FALSE)","v":false},true,2018,{"$f":"'Monthly Prices'!B711","v":75.363333333330004},67.543888888889171,{"$f":"_xlfn.XLOOKUP(P723,'Annual Real'!A:A,'Annual Real'!B:B,0,0)","v":67.152391380753798},1.264430842675593,1.264430842675593,false,false,2.69918E-2,2.2219604446640506E-3,8.551466534296976,7,"2018-08-01",1.264430842675593]
[null,null,{"$f":"'Monthly Prices'!A712","v":"2018M10"},"2018-09-01",705,{"$f":"AND(E724>=$M$4,L724)","v":false},{"$f":"AND(E724<=$M$5,O724)","v":true},{"$f":"AND(F724:G724)","v":false},{"$f":"IF(H724,D724,NA)","v":{"$error":"#N/A"}},{"$f":"INDEX('Monthly Prices'!B712:CB712,$G$4)","v":3.2839999999999998},{"$f":"IF(H724,INDEX('Monthly Prices'!B712:CB712,$G$4)*U724,FALSE)","v":false},true,{"$f":"INDEX('Monthly Prices'!B712:CB712,$G$5)","v":8.7909607297400001},{"$f":"IF(H724,INDEX('Monthly Prices'!B712:CB712,$G$5)*U724,FALSE)","v":false},{"$f":"AND(ISNUMBER(M724),M724>0)","v":true},2018,{"$f":"'Monthly Prices'!B712","v":76.726666666669999},67.543888888889171,{"$f":"_xlfn.XLOOKUP(P724,'Annual Real'!A:A,'Annual Real'!B:B,0,0)","v":67.152391380753798},1.262060745928633,1.262060745928633,false,false,2.2769720000000004E-2,1.8779577406282666E-3,8.5675258270687831,7,"2018-09-01",1.262060745928633]
[null,null,{"$f":"'Monthly Prices'!A713","v":"2018M11"},{"$f":"EDATE(D724,1)","v":"2018-10-01"},{"$f":"E724+1","v":706},false,true,false,{"$error":"#N/A"},{"$f":"INDEX('Monthly Prices'!B713:CB713,$G$4)","v":4.1292999999999997},{"$f":"IF(H725,INDEX('Monthly Prices'!B713:CB713,$G$4)*U725,FALSE)","v":false},{"$f":"ISNUMBER(J725)","v":true},{"$f":"INDEX('Monthly Prices'!B713:CB713,$G$5)","v":8.2650790129100002},{"$f":"IF(H725,INDEX('Monthly Prices'!B713:CB713,$G$5)*U725,FALSE)","v":false},true,{"$f":"YEAR(D725)","v":2018},{"$f":"'Monthly Prices'!B713","v":62.316666666670002},{"$f":"AVERAGEIF(P:P,P725,Q:Q)","v":67.543888888889171},{"$f":"_xlfn.XLOOKUP(P725,'Annual Real'!A:A,'Annual Real'!B:B,0,0)","v":67.152391380753798},{"$f":"AC725","v":1.2594434456816186},{"$f":"IF($U$19,T725,1)","v":1.2594434456816186},false,false,{"$f":"LOOKUP(D725,INDIRECT(\"'\"&$X$14&\"'!A:A\"),INDIRECT(\"'\"&$X$14&\"'!B:B\"))/100","v":2.5224700000000003E-2},{"$f":"(1+X725)^(1/12)-1","v":2.0781403531764386E-3},{"$f":"Z724*(1+Y725)","v":8.5853303482168961},{"$f":"LEN(C725)","v":7},{"$f":"IF(AA725>2,D725,0)","v":"2018-10-01"},{"$f":"$AC$17/Z725","v":1.2594434456816186}]
[null,null,{"$f":"'Monthly Prices'!A714","v":"2018M12"},"2018-11-01",707,false,true,false,{"$error":"#N/A"},{"$f":"INDEX('Monthly Prices'!B714:CB714,$G$4)","v":3.9824999999999999},{"$f":"IF(H726,INDEX('Monthly Prices'!B714:CB714,$G$4)*U726,FALSE)","v":false},true,{"$f":"INDEX('Monthly Prices'!B714:CB714,$G$5)","v":7.9762423800900004},{"$f":"IF(H726,INDEX('Monthly Prices'!B714:CB714,$G$5)*U726,FALSE)","v":false},true,2018,{"$f":"'Monthly Prices'!B714","v":53.96},67.543888888889171,{"$f":"_xlfn.XLOOKUP(P726,'Annual Real'!A:A,'Annual Real'!B:B,0,0)","v":67.152391380753798},1.2571855568898387,1.2571855568898387,{"$f":"IF(AND(H725,H726),LN(K726/K725))","v":false},{"$f":"IF(AND($H725,$H726),LN(N726/N725))","v":false},2.1766009999999999E-2,1.7959869005859108E-3,8.6007494890594955,7,"2018-11-01",1.2571855568898387]
[null,null,{"$f":"'Monthly Prices'!A715","v":"2019M01"},"2018-12-01",708,false,true,false,{"$error":"#N/A"},{"$f":"INDEX('Monthly Prices'!B715:CB715,$G$4)","v":3.0794999999999999},{"$f":"IF(H727,INDEX('Monthly Prices'!B715:CB715,$G$4)*U727,FALSE)","v":false},true,{"$f":"INDEX('Monthly Prices'!B715:CB715,$G$5)","v":7.2623432334500002},{"$f":"IF(H727,INDEX('Monthly Prices'!B715:CB715,$G$5)*U727,FALSE)","v":false},true,2018,{"$f":"'Monthly Prices'!B715","v":56.583333333330003},67.543888888889171,{"$f":"_xlfn.XLOOKUP(P727,'Annual Real'!A:A,'Annual Real'!B:B,0,0)","v":67.152391380753798},1.2552048049594116,1.2552048049594116,false,false,1.9101589999999998E-2,1.5780308700230616E-3,8.6143217372585656,7,"2018-12-01",1.2552048049594116]
[null,null,{"$f":"'Monthly Prices'!A716","v":"2019M02"},"2019-01-01",709,false,true,false,{"$error":"#N/A"},{"$f":"INDEX('Monthly Prices'!B716:CB716,$G$4)","v":2.7170999999999998},{"$f":"IF(H728,INDEX('Monthly Prices'!B716:CB716,$G$4)*U728,FALSE)","v":false},true,{"$f":"INDEX('Monthly Prices'!B716:CB716,$G$5)","v":6.0057971221999997},{"$f":"IF(H728,INDEX('Monthly Prices'!B716:CB716,$G$5)*U728,FALSE)","v":false},true,2019,{"$f":"'Monthly Prices'!B716","v":61.13333333333},61.827777777777499,{"$f":"_xlfn.XLOOKUP(P728,'Annual Real'!A:A,'Annual Real'!B:B,0,0)","v":61.729715344227401},1.2535956957184611,1.2535956957184611,false,false,1.5512349999999999E-2,1.2835950589542566E-3,8.625379038076753,7,"2019-01-01",1.2535956957184611]
[null,null,{"$f":"'Monthly Prices'!A717","v":"2019M03"},"2019-02-01",710,false,true,false,{"$error":"#N/A"},{"$f":"INDEX('Monthly Prices'!B717:CB717,$G$4)","v":2.9350000000000001},{"$f":"IF(H729,INDEX('Monthly Prices'!B717:CB717,$G$4)*U729,FALSE)","v":false},true,{"$f":"INDEX('Monthly Prices'!B717:CB717,$G$5)","v":5.1787356741300004},{"$f":"IF(H729,INDEX('Monthly Prices'!B717:CB717,$G$5)*U729,FALSE)","v":false},true,2019,{"$f":"'Monthly Prices'!B717","v":63.786666666670001},61.827777777777499,{"$f":"_xlfn.XLOOKUP(P729,'Annual Real'!A:A,'Annual Real'!B:B,0,0)","v":61.729715344227401},1.2520206063019623,1.2520206063019623,false,false,1.5201350000000001E-2,1.2580379336974978E-3,8.6362300920991721,7,"2019-02-01",1.2520206063019623]
[null,null,{"$f":"'Monthly Prices'!A718","v":"2019M04"},"2019-03-01",711,false,true,false,{"$error":"#N/A"},{"$f":"INDEX('Monthly Prices'!B718:CB718,$G$4)","v":2.6459999999999999},{"$f":"IF(H730,INDEX('Monthly Prices'!B718:CB718,$G$4)*U730,FALSE)","v":false},true,{"$f":"INDEX('Monthly Prices'!B718:CB718,$G$5)","v":4.9221808196800003},{"$f":"IF(H730,INDEX('Monthly Prices'!B718:CB718,$G$5)*U730,FALSE)","v":false},true,2019,{"$f":"'Monthly Prices'!B718","v":68.576666666669993},61.827777777777499,{"$f":"_xlfn.XLOOKUP(P730,'Annual Real'!A:A,'Annual Real'!B:B,0,0)","v":61.729715344227401},1.2500966969459586,1.2500966969459586,false,false,1.862523E-2,1.5390084308710694E-3,8.6495213230218546,7,"2019-03-01",1.2500966969459586]
[null,null,{"$f":"'Monthly Prices'!A719","v":"2019M05"},"2019-04-01",712,false,true,false,{"$error":"#N/A"},{"$f":"INDEX('Monthly Prices'!B719:CB719,$G$4)","v":2.6278999999999999},{"$f":"IF(H731,INDEX('Monthly Prices'!B719:CB719,$G$4)*U731,FALSE)","v":false},true,{"$f":"INDEX('Monthly Prices'!B719:CB719,$G$5)","v":4.3410552940500002},{"$f":"IF(H731,INDEX('Monthly Prices'!B719:CB719,$G$5)*U731,FALSE)","v":false},true,2019,{"$f":"'Monthly Prices'!B719","v":66.833333333330003},61.827777777777499,{"$f":"_xlfn.XLOOKUP(P731,'Annual Real'!A:A,'Annual Real'!B:B,0,0)","v":61.729715344227401},1.2480390948836804,1.2480390948836804,false,false,1.99644E-2,1.6486679549649885E-3,8.6637815116529069,7,"2019-04-01",1.2480390948836804]
[null,null,{"$f":"'Monthly Prices'!A720","v":"2019M06"},"2019-05-01",713,false,true,false,{"$error":"#N/A"},{"$f":"INDEX('Monthly Prices'!B720:CB720,$G$4)","v":2.3965000000000001},{"$f":"IF(H732,INDEX('Monthly Prices'!B720:CB720,$G$4)*U732,FALSE)","v":false},true,{"$f":"INDEX('Monthly Prices'!B720:CB720,$G$5)","v":3.5880065122699998},{"$f":"IF(H732,INDEX('Monthly Prices'!B720:CB720,$G$5)*U732,FALSE)","v":false},true,2019,{"$f":"'Monthly Prices'!B720","v":59.76},61.827777777777499,{"$f":"_xlfn.XLOOKUP(P732,'Annual Real'!A:A,'Annual Real'!B:B,0,0)","v":61.729715344227401},1.2461950329585867,1.2461950329585867,false,false,1.790228E-2,1.4797538718442915E-3,8.6766017758895888,7,"2019-05-01",1.2461950329585867]
[null,null,{"$f":"'Monthly Prices'!A721","v":"2019M07"},"2019-06-01",714,false,true,false,{"$error":"#N/A"},{"$f":"INDEX('Monthly Prices'!B721:CB721,$G$4)","v":2.36},{"$f":"IF(H733,INDEX('Monthly Prices'!B721:CB721,$G$4)*U733,FALSE)","v":false},true,{"$f":"INDEX('Monthly Prices'!B721:CB721,$G$5)","v":3.6203714056099998},{"$f":"IF(H733,INDEX('Monthly Prices'!B721:CB721,$G$5)*U733,FALSE)","v":false},true,2019,{"$f":"'Monthly Prices'!B721","v":61.476666666669999},61.827777777777499,{"$f":"_xlfn.XLOOKUP(P733,'Annual Real'!A:A,'Annual Real'!B:B,0,0)","v":61.729715344227401},1.2444982017655977,1.2444982017655977,false,false,1.6484849999999898E-2,1.3634661669914561E-3,8.6884320288554715,7,"2019-06-01",1.2444982017655977]
[null,null,{"$f":"'Monthly Prices'!A722","v":"2019M08"},"2019-07-01",715,false,true,false,{"$error":"#N/A"},{"$f":"INDEX('Monthly Prices'!B722:CB722,$G$4)","v":2.2242999999999999},{"$f":"IF(H734,INDEX('Monthly Prices'!B722:CB722,$G$4)*U734,FALSE)","v":false},true,{"$f":"INDEX('Monthly Prices'!B722:CB722,$G$5)","v":3.6767751604100001},{"$f":"IF(H734,INDEX('Monthly Prices'!B722:CB722,$G$5)*U734,FALSE)","v":false},true,2019,{"$f":"'Monthly Prices'!B722","v":57.67},61.827777777777499,{"$f":"_xlfn.XLOOKUP(P734,'Annual Real'!A:A,'Annual Real'!B:B,0,0)","v":61.729715344227401},1.2426377690079196,1.2426377690079196,false,false,1.811465E-2,1.4971641809691238E-3,8.7014400380778589,7,"2019-07-01",1.2426377690079196]
[null,null,{"$f":"'Monthly Prices'!A723","v":"2019M09"},"2019-08-01",716,false,true,false,{"$error":"#N/A"},{"$f":"INDEX('Monthly Prices'!B723:CB723,$G$4)","v":2.58},{"$f":"IF(H735,INDEX('Monthly Prices'!B723:CB723,$G$4)*U735,FALSE)","v":false},true,{"$f":"INDEX('Monthly Prices'!B723:CB723,$G$5)","v":4.20525568494},{"$f":"IF(H735,INDEX('Monthly Prices'!B723:CB723,$G$5)*U735,FALSE)","v":false},true,2019,{"$f":"'Monthly Prices'!B723","v":60.04},61.827777777777499,{"$f":"_xlfn.XLOOKUP(P735,'Annual Real'!A:A,'Annual Real'!B:B,0,0)","v":61.729715344227401},1.2408427844771517,1.2408427844771517,false,false,1.7497799999999997E-2,1.4465849769389472E-3,8.714027410514678,7,"2019-08-01",1.2408427844771517]
[null,null,{"$f":"'Monthly Prices'!A724","v":"2019M10"},"2019-09-01",717,false,true,false,{"$error":"#N/A"},{"$f":"INDEX('Monthly Prices'!B724:CB724,$G$4)","v":2.3313000000000001},{"$f":"IF(H736,INDEX('Monthly Prices'!B724:CB724,$G$4)*U736,FALSE)","v":false},true,{"$f":"INDEX('Monthly Prices'!B724:CB724,$G$5)","v":5.0572178578700004},{"$f":"IF(H736,INDEX('Monthly Prices'!B724:CB724,$G$5)*U736,FALSE)","v":false},true,2019,{"$f":"'Monthly Prices'!B724","v":57.273333333330001},61.827777777777499,{"$f":"_xlfn.XLOOKUP(P736,'Annual Real'!A:A,'Annual Real'!B:B,0,0)","v":61.729715344227401},1.2390894446637899,1.2390894446637899,false,false,1.7113049999999901E-2,1.4150227983240615E-3,8.7263579579657762,7,"2019-09-01",1.2390894446637899]
[null,null,{"$f":"'Monthly Prices'!A725","v":"2019M11"},"2019-10-01",718,false,true,false,{"$error":"#N/A"},{"$f":"INDEX('Monthly Prices'!B725:CB725,$G$4)","v":2.6505000000000001},{"$f":"IF(H737,INDEX('Monthly Prices'!B725:CB725,$G$4)*U737,FALSE)","v":false},true,{"$f":"INDEX('Monthly Prices'!B725:CB725,$G$5)","v":5.1500042173100002},{"$f":"IF(H737,INDEX('Monthly Prices'!B725:CB725,$G$5)*U737,FALSE)","v":false},true,2019,{"$f":"'Monthly Prices'!B725","v":60.403333333330004},61.827777777777499,{"$f":"_xlfn.XLOOKUP(P737,'Annual Real'!A:A,'Annual Real'!B:B,0,0)","v":61.729715344227401},1.2372851333351458,1.2372851333351458,false,false,1.7640429999999999E-2,1.4582825575384373E-3,8.7390834535667139,7,"2019-10-01",1.2372851333351458]
[null,null,{"$f":"'Monthly Prices'!A726","v":"2019M12"},"2019-11-01",719,false,true,false,{"$error":"#N/A"},{"$f":"INDEX('Monthly Prices'!B726:CB726,$G$4)","v":2.2425000000000002},{"$f":"IF(H738,INDEX('Monthly Prices'!B726:CB726,$G$4)*U738,FALSE)","v":false},true,{"$f":"INDEX('Monthly Prices'!B726:CB726,$G$5)","v":4.6204722123900002},{"$f":"IF(H738,INDEX('Monthly Prices'!B726:CB726,$G$5)*U738,FALSE)","v":false},true,2019,{"$f":"'Monthly Prices'!B726","v":63.353333333329999},61.827777777777499,{"$f":"_xlfn.XLOOKUP(P738,'Annual Real'!A:A,'Annual Real'!B:B,0,0)","v":61.729715344227401},1.2351932907374352,1.2351932907374352,false,false,2.0512779999999998E-2,1.6935346179396404E-3,8.7538833939243919,7,"2019-11-01",1.2351932907374352]
[null,null,{"$f":"'Monthly Prices'!A727","v":"2020M01"},"2019-12-01",720,false,true,false,{"$error":"#N/A"},{"$f":"INDEX('Monthly Prices'!B727:CB727,$G$4)","v":2.0305},{"$f":"IF(H739,INDEX('Monthly Prices'!B727:CB727,$G$4)*U739,FALSE)","v":false},true,{"$f":"INDEX('Monthly Prices'!B727:CB727,$G$5)","v":3.6333843472699998},{"$f":"IF(H739,INDEX('Monthly Prices'!B727:CB727,$G$5)*U739,FALSE)","v":false},true,2019,{"$f":"'Monthly Prices'!B727","v":61.626666666669998},61.827777777777499,{"$f":"_xlfn.XLOOKUP(P739,'Annual Real'!A:A,'Annual Real'!B:B,0,0)","v":61.729715344227401},1.2328698033923997,1.2328698033923997,false,false,2.2851300000000001E-2,1.8846169633177645E-3,8.7703811110634877,7,"2019-12-01",1.2328698033923997]
[null,null,{"$f":"'Monthly Prices'!A728","v":"2020M02"},"2020-01-01",721,false,true,false,{"$error":"#N/A"},{"$f":"INDEX('Monthly Prices'!B728:CB728,$G$4)","v":1.9157999999999999},{"$f":"IF(H740,INDEX('Monthly Prices'!B728:CB728,$G$4)*U740,FALSE)","v":false},true,{"$f":"INDEX('Monthly Prices'!B728:CB728,$G$5)","v":2.9077736410599999},{"$f":"IF(H740,INDEX('Monthly Prices'!B728:CB728,$G$5)*U740,FALSE)","v":false},true,2020,{"$f":"'Monthly Prices'!B728","v":53.346666666669996},40.589166666666664,{"$f":"_xlfn.XLOOKUP(P740,'Annual Real'!A:A,'Annual Real'!B:B,0,0)","v":41.6789328183458},1.2303489462932895,1.2303489462932895,false,false,2.4865719999999997E-2,2.0488960523799005E-3,8.7883507102998131,7,"2020-01-01",1.2303489462932895]
[null,null,{"$f":"'Monthly Prices'!A729","v":"2020M03"},"2020-02-01",722,false,true,false,{"$error":"#N/A"},{"$f":"INDEX('Monthly Prices'!B729:CB729,$G$4)","v":1.7927},{"$f":"IF(H741,INDEX('Monthly Prices'!B729:CB729,$G$4)*U741,FALSE)","v":false},true,{"$f":"INDEX('Monthly Prices'!B729:CB729,$G$5)","v":2.7188683817500001},{"$f":"IF(H741,INDEX('Monthly Prices'!B729:CB729,$G$5)*U741,FALSE)","v":false},true,2020,{"$f":"'Monthly Prices'!B729","v":32.203333333330001},40.589166666666664,{"$f":"_xlfn.XLOOKUP(P741,'Annual Real'!A:A,'Annual Real'!B:B,0,0)","v":41.6789328183458},1.2279848157706559,1.2279848157706559,false,false,2.334874E-2,1.9252115272696546E-3,8.8052701443929706,7,"2020-02-01",1.2279848157706559]
[null,null,{"$f":"'Monthly Prices'!A730","v":"2020M04"},"2020-03-01",723,false,true,false,{"$error":"#N/A"},{"$f":"INDEX('Monthly Prices'!B730:CB730,$G$4)","v":1.7385999999999999},{"$f":"IF(H742,INDEX('Monthly Prices'!B730:CB730,$G$4)*U742,FALSE)","v":false},true,{"$f":"INDEX('Monthly Prices'!B730:CB730,$G$5)","v":2.1203186673199999},{"$f":"IF(H742,INDEX('Monthly Prices'!B730:CB730,$G$5)*U742,FALSE)","v":false},true,2020,{"$f":"'Monthly Prices'!B730","v":21.043333333330001},40.589166666666664,{"$f":"_xlfn.XLOOKUP(P742,'Annual Real'!A:A,'Annual Real'!B:B,0,0)","v":41.6789328183458},1.226422586122411,1.226422586122411,false,false,1.5393269999999999E-2,1.2738102395717377E-3,8.8164863876650941,7,"2020-03-01",1.226422586122411]
[null,null,{"$f":"'Monthly Prices'!A731","v":"2020M05"},"2020-04-01",724,false,true,false,{"$error":"#N/A"},{"$f":"INDEX('Monthly Prices'!B731:CB731,$G$4)","v":1.7524999999999999},{"$f":"IF(H743,INDEX('Monthly Prices'!B731:CB731,$G$4)*U743,FALSE)","v":false},true,{"$f":"INDEX('Monthly Prices'!B731:CB731,$G$5)","v":1.5751649779200001},{"$f":"IF(H743,INDEX('Monthly Prices'!B731:CB731,$G$5)*U743,FALSE)","v":false},true,2020,{"$f":"'Monthly Prices'!B731","v":30.38},40.589166666666664,{"$f":"_xlfn.XLOOKUP(P743,'Annual Real'!A:A,'Annual Real'!B:B,0,0)","v":41.6789328183458},1.2260868413015147,1.2260868413015147,false,false,3.2909670000000001E-3,2.7383445412398899E-4,8.8189006454023513,7,"2020-04-01",1.2260868413015147]
[null,null,{"$f":"'Monthly Prices'!A732","v":"2020M06"},"2020-05-01",725,false,true,false,{"$error":"#N/A"},{"$f":"INDEX('Monthly Prices'!B732:CB732,$G$4)","v":1.6128},{"$f":"IF(H744,INDEX('Monthly Prices'!B732:CB732,$G$4)*U744,FALSE)","v":false},true,{"$f":"INDEX('Monthly Prices'!B732:CB732,$G$5)","v":1.7521711121800001},{"$f":"IF(H744,INDEX('Monthly Prices'!B732:CB732,$G$5)*U744,FALSE)","v":false},true,2020,{"$f":"'Monthly Prices'!B732","v":39.456666666670003},40.589166666666664,{"$f":"_xlfn.XLOOKUP(P744,'Annual Real'!A:A,'Annual Real'!B:B,0,0)","v":41.6789328183458},1.2259664281976344,1.2259664281976344,false,false,1.17926399999999E-3,9.8218924361015425E-5,8.819766828337789,7,"2020-05-01",1.2259664281976344]
[null,null,{"$f":"'Monthly Prices'!A733","v":"2020M07"},"2020-06-01",726,false,true,false,{"$error":"#N/A"},{"$f":"INDEX('Monthly Prices'!B733:CB733,$G$4)","v":1.7352000000000001},{"$f":"IF(H745,INDEX('Monthly Prices'!B733:CB733,$G$4)*U745,FALSE)","v":false},true,{"$f":"INDEX('Monthly Prices'!B733:CB733,$G$5)","v":1.8010354964699999},{"$f":"IF(H745,INDEX('Monthly Prices'!B733:CB733,$G$5)*U745,FALSE)","v":false},true,2020,{"$f":"'Monthly Prices'!B733","v":42.066666666670002},40.589166666666664,{"$f":"_xlfn.XLOOKUP(P745,'Annual Real'!A:A,'Annual Real'!B:B,0,0)","v":41.6789328183458},1.225309019450328,1.225309019450328,false,false,6.4573309999999993E-3,5.3652485770583347E-4,8.824498852480362,7,"2020-06-01",1.225309019450328]
[null,null,{"$f":"'Monthly Prices'!A734","v":"2020M08"},"2020-07-01",727,false,true,false,{"$error":"#N/A"},{"$f":"INDEX('Monthly Prices'!B734:CB734,$G$4)","v":2.3016999999999999},{"$f":"IF(H746,INDEX('Monthly Prices'!B734:CB734,$G$4)*U746,FALSE)","v":false},true,{"$f":"INDEX('Monthly Prices'!B734:CB734,$G$5)","v":2.8618966767299998},{"$f":"IF(H746,INDEX('Monthly Prices'!B734:CB734,$G$5)*U746,FALSE)","v":false},true,2020,{"$f":"'Monthly Prices'!B734","v":43.443333333330003},40.589166666666664,{"$f":"_xlfn.XLOOKUP(P746,'Annual Real'!A:A,'Annual Real'!B:B,0,0)","v":41.6789328183458},1.2243074818171971,1.2243074818171971,false,false,9.8608180000000004E-3,8.1804419886788438E-4,8.8317176825745491,7,"2020-07-01",1.2243074818171971]
[null,null,{"$f":"'Monthly Prices'!A735","v":"2020M09"},"2020-08-01",728,false,true,false,{"$error":"#N/A"},{"$f":"INDEX('Monthly Prices'!B735:CB735,$G$4)","v":1.9186000000000001},{"$f":"IF(H747,INDEX('Monthly Prices'!B735:CB735,$G$4)*U747,FALSE)","v":false},true,{"$f":"INDEX('Monthly Prices'!B735:CB735,$G$5)","v":3.9521394626699999},{"$f":"IF(H747,INDEX('Monthly Prices'!B735:CB735,$G$5)*U747,FALSE)","v":false},true,2020,{"$f":"'Monthly Prices'!B735","v":40.596666666669996},40.589166666666664,{"$f":"_xlfn.XLOOKUP(P747,'Annual Real'!A:A,'Annual Real'!B:B,0,0)","v":41.6789328183458},1.2229807016900918,1.2229807016900918,false,false,1.3096449999999999E-2,1.0848741319235966E-3,8.8412989846288266,7,"2020-08-01",1.2229807016900918]
[null,null,{"$f":"'Monthly Prices'!A736","v":"2020M10"},"2020-09-01",729,false,true,false,{"$error":"#N/A"},{"$f":"INDEX('Monthly Prices'!B736:CB736,$G$4)","v":2.2473000000000001},{"$f":"IF(H748,INDEX('Monthly Prices'!B736:CB736,$G$4)*U748,FALSE)","v":false},true,{"$f":"INDEX('Monthly Prices'!B736:CB736,$G$5)","v":4.8895904081600001},{"$f":"IF(H748,INDEX('Monthly Prices'!B736:CB736,$G$5)*U748,FALSE)","v":false},true,2020,{"$f":"'Monthly Prices'!B736","v":39.9},40.589166666666664,{"$f":"_xlfn.XLOOKUP(P748,'Annual Real'!A:A,'Annual Real'!B:B,0,0)","v":41.6789328183458},1.2215933984743728,1.2215933984743728,false,false,1.371325E-2,1.1356505507080783E-3,8.8513396106896955,7,"2020-09-01",1.2215933984743728]
[null,null,{"$f":"'Monthly Prices'!A737","v":"2020M11"},"2020-10-01",730,false,true,false,{"$error":"#N/A"},{"$f":"INDEX('Monthly Prices'!B737:CB737,$G$4)","v":2.5880999999999998},{"$f":"IF(H749,INDEX('Monthly Prices'!B737:CB737,$G$4)*U749,FALSE)","v":false},true,{"$f":"INDEX('Monthly Prices'!B737:CB737,$G$5)","v":4.8358390051600004},{"$f":"IF(H749,INDEX('Monthly Prices'!B737:CB737,$G$5)*U749,FALSE)","v":false},true,2020,{"$f":"'Monthly Prices'!B737","v":42.303333333330002},40.589166666666664,{"$f":"_xlfn.XLOOKUP(P749,'Annual Real'!A:A,'Annual Real'!B:B,0,0)","v":41.6789328183458},1.2203977039062985,1.2203977039062985,false,false,1.182066E-2,9.7975812659023553E-4,8.8600117826044791,7,"2020-10-01",1.2203977039062985]
[null,null,{"$f":"'Monthly Prices'!A738","v":"2020M12"},"2020-11-01",731,false,true,false,{"$error":"#N/A"},{"$f":"INDEX('Monthly Prices'!B738:CB738,$G$4)","v":2.5387},{"$f":"IF(H750,INDEX('Monthly Prices'!B738:CB738,$G$4)*U750,FALSE)","v":false},true,{"$f":"INDEX('Monthly Prices'!B738:CB738,$G$5)","v":5.8561062960400001},{"$f":"IF(H750,INDEX('Monthly Prices'!B738:CB738,$G$5)*U750,FALSE)","v":false},true,2020,{"$f":"'Monthly Prices'!B738","v":48.726666666669999},40.589166666666664,{"$f":"_xlfn.XLOOKUP(P750,'Annual Real'!A:A,'Annual Real'!B:B,0,0)","v":41.6789328183458},1.2192107411103461,1.2192107411103461,false,false,1.174536E-2,9.7355014677091845E-4,8.868637448375825,7,"2020-11-01",1.2192107411103461]
[null,null,{"$f":"'Monthly Prices'!A739","v":"2021M01"},"2020-12-01",732,false,true,false,{"$error":"#N/A"},{"$f":"INDEX('Monthly Prices'!B739:CB739,$G$4)","v":2.6655000000000002},{"$f":"IF(H751,INDEX('Monthly Prices'!B739:CB739,$G$4)*U751,FALSE)","v":false},true,{"$f":"INDEX('Monthly Prices'!B739:CB739,$G$5)","v":7.2683017492999999},{"$f":"IF(H751,INDEX('Monthly Prices'!B739:CB739,$G$5)*U751,FALSE)","v":false},true,2020,{"$f":"'Monthly Prices'!B739","v":53.603333333329999},40.589166666666664,{"$f":"_xlfn.XLOOKUP(P751,'Annual Real'!A:A,'Annual Real'!B:B,0,0)","v":41.6789328183458},1.2178370453708127,1.2178370453708127,false,false,1.362005E-2,1.1279799253562928E-3,8.8786410933828552,7,"2020-12-01",1.2178370453708127]
[null,null,{"$f":"'Monthly Prices'!A740","v":"2021M02"},"2021-01-01",733,false,true,false,{"$error":"#N/A"},{"$f":"INDEX('Monthly Prices'!B740:CB740,$G$4)","v":5.0651000000000002},{"$f":"IF(H752,INDEX('Monthly Prices'!B740:CB740,$G$4)*U752,FALSE)","v":false},true,{"$f":"INDEX('Monthly Prices'!B740:CB740,$G$5)","v":6.1585071665199997},{"$f":"IF(H752,INDEX('Monthly Prices'!B740:CB740,$G$5)*U752,FALSE)","v":false},true,2021,{"$f":"'Monthly Prices'!B740","v":60.463333333329999},71.596944444444162,{"$f":"_xlfn.XLOOKUP(P752,'Annual Real'!A:A,'Annual Real'!B:B,0,0)","v":68.678530223994798},1.2164271362551113,1.2164271362551113,false,false,1.39977E-2,1.1590575988313923E-3,8.8889319498094377,7,"2021-01-01",1.2164271362551113]
[null,null,{"$f":"'Monthly Prices'!A741","v":"2021M03"},"2021-02-01",734,false,true,false,{"$error":"#N/A"},{"$f":"INDEX('Monthly Prices'!B741:CB741,$G$4)","v":2.5644999999999998},{"$f":"IF(H753,INDEX('Monthly Prices'!B741:CB741,$G$4)*U753,FALSE)","v":false},true,{"$f":"INDEX('Monthly Prices'!B741:CB741,$G$5)","v":6.1270695793499996},{"$f":"IF(H753,INDEX('Monthly Prices'!B741:CB741,$G$5)*U753,FALSE)","v":false},true,2021,{"$f":"'Monthly Prices'!B741","v":63.83},71.596944444444162,{"$f":"_xlfn.XLOOKUP(P753,'Annual Real'!A:A,'Annual Real'!B:B,0,0)","v":68.678530223994798},1.2147432253153321,1.2147432253153321,false,false,1.676215E-2,1.3862278913654436E-3,8.9012540352027134,7,"2021-02-01",1.2147432253153321]
[null,null,{"$f":"'Monthly Prices'!A742","v":"2021M04"},"2021-03-01",735,false,true,false,{"$error":"#N/A"},{"$f":"INDEX('Monthly Prices'!B742:CB742,$G$4)","v":2.61},{"$f":"IF(H754,INDEX('Monthly Prices'!B742:CB742,$G$4)*U754,FALSE)","v":false},true,{"$f":"INDEX('Monthly Prices'!B742:CB742,$G$5)","v":7.1468162880900001},{"$f":"IF(H754,INDEX('Monthly Prices'!B742:CB742,$G$5)*U754,FALSE)","v":false},true,2021,{"$f":"'Monthly Prices'!B742","v":62.95},71.596944444444162,{"$f":"_xlfn.XLOOKUP(P754,'Annual Real'!A:A,'Annual Real'!B:B,0,0)","v":68.678530223994798},1.2121282379160299,1.2121282379160299,false,false,2.6197619999999901E-2,2.1573520998059426E-3,8.9204571742864633,7,"2021-03-01",1.2121282379160299]
[null,null,{"$f":"'Monthly Prices'!A743","v":"2021M05"},"2021-04-01",736,false,true,false,{"$error":"#N/A"},{"$f":"INDEX('Monthly Prices'!B743:CB743,$G$4)","v":2.8883999999999999},{"$f":"IF(H755,INDEX('Monthly Prices'!B743:CB743,$G$4)*U755,FALSE)","v":false},true,{"$f":"INDEX('Monthly Prices'!B743:CB743,$G$5)","v":8.9087569243899996},{"$f":"IF(H755,INDEX('Monthly Prices'!B743:CB743,$G$5)*U755,FALSE)","v":false},true,2021,{"$f":"'Monthly Prices'!B743","v":66.400000000000006},71.596944444444162,{"$f":"_xlfn.XLOOKUP(P755,'Annual Real'!A:A,'Annual Real'!B:B,0,0)","v":68.678530223994798},1.2080185236648207,1.2080185236648207,false,false,4.1596950000000001E-2,3.4020291665242119E-3,8.9508048297721157,7,"2021-04-01",1.2080185236648207]
[null,null,{"$f":"'Monthly Prices'!A744","v":"2021M06"},"2021-05-01",737,false,true,false,{"$error":"#N/A"},{"$f":"INDEX('Monthly Prices'!B744:CB744,$G$4)","v":3.2317999999999998},{"$f":"IF(H756,INDEX('Monthly Prices'!B744:CB744,$G$4)*U756,FALSE)","v":false},true,{"$f":"INDEX('Monthly Prices'!B744:CB744,$G$5)","v":10.30105100564},{"$f":"IF(H756,INDEX('Monthly Prices'!B744:CB744,$G$5)*U756,FALSE)","v":false},true,2021,{"$f":"'Monthly Prices'!B744","v":71.803333333330002},71.596944444444162,{"$f":"_xlfn.XLOOKUP(P756,'Annual Real'!A:A,'Annual Real'!B:B,0,0)","v":68.678530223994798},1.2031238406004949,1.2031238406004949,false,false,4.9927070000000004E-2,4.0683119219735442E-3,8.9872194957723366,7,"2021-05-01",1.2031238406004949]
[null,null,{"$f":"'Monthly Prices'!A745","v":"2021M07"},"2021-06-01",738,false,true,false,{"$error":"#N/A"},{"$f":"INDEX('Monthly Prices'!B745:CB745,$G$4)","v":3.8035999999999999},{"$f":"IF(H757,INDEX('Monthly Prices'!B745:CB745,$G$4)*U757,FALSE)","v":false},true,{"$f":"INDEX('Monthly Prices'!B745:CB745,$G$5)","v":12.50994243239},{"$f":"IF(H757,INDEX('Monthly Prices'!B745:CB745,$G$5)*U757,FALSE)","v":false},true,2021,{"$f":"'Monthly Prices'!B745","v":73.283333333330006},71.596944444444162,{"$f":"_xlfn.XLOOKUP(P757,'Annual Real'!A:A,'Annual Real'!B:B,0,0)","v":68.678530223994798},1.1978705396296712,1.1978705396296712,false,false,5.3914509999999999E-2,4.3855331582391965E-3,9.0266332448714195,7,"2021-06-01",1.1978705396296712]
[null,null,{"$f":"'Monthly Prices'!A746","v":"2021M08"},"2021-07-01",739,false,true,false,{"$error":"#N/A"},{"$f":"INDEX('Monthly Prices'!B746:CB746,$G$4)","v":4.0486000000000004},{"$f":"IF(H758,INDEX('Monthly Prices'!B746:CB746,$G$4)*U758,FALSE)","v":false},true,{"$f":"INDEX('Monthly Prices'!B746:CB746,$G$5)","v":15.42647593843},{"$f":"IF(H758,INDEX('Monthly Prices'!B746:CB746,$G$5)*U758,FALSE)","v":false},true,2021,{"$f":"'Monthly Prices'!B746","v":68.86666666667},71.596944444444162,{"$f":"_xlfn.XLOOKUP(P758,'Annual Real'!A:A,'Annual Real'!B:B,0,0)","v":68.678530223994798},1.1926646758550983,1.1926646758550983,false,false,5.3654750000000001E-2,4.3649014513158502E-3,9.0660336094224547,7,"2021-07-01",1.1926646758550983]
[null,null,{"$f":"'Monthly Prices'!A747","v":"2021M09"},"2021-08-01",740,false,true,false,{"$error":"#N/A"},{"$f":"INDEX('Monthly Prices'!B747:CB747,$G$4)","v":5.1111000000000004},{"$f":"IF(H759,INDEX('Monthly Prices'!B747:CB747,$G$4)*U759,FALSE)","v":false},true,{"$f":"INDEX('Monthly Prices'!B747:CB747,$G$5)","v":22.840596077920001},{"$f":"IF(H759,INDEX('Monthly Prices'!B747:CB747,$G$5)*U759,FALSE)","v":false},true,2021,{"$f":"'Monthly Prices'!B747","v":72.8},71.596944444444162,{"$f":"_xlfn.XLOOKUP(P759,'Annual Real'!A:A,'Annual Real'!B:B,0,0)","v":68.678530223994798},1.1875887562105469,1.1875887562105469,false,false,5.2512719999999999E-2,4.2741391900238401E-3,9.1047830989705609,7,"2021-08-01",1.1875887562105469]
[null,null,{"$f":"'Monthly Prices'!A748","v":"2021M10"},"2021-09-01",741,false,true,false,{"$error":"#N/A"},{"$f":"INDEX('Monthly Prices'!B748:CB748,$G$4)","v":5.4779999999999998},{"$f":"IF(H760,INDEX('Monthly Prices'!B748:CB748,$G$4)*U760,FALSE)","v":false},true,{"$f":"INDEX('Monthly Prices'!B748:CB748,$G$5)","v":31.052466367539999},{"$f":"IF(H760,INDEX('Monthly Prices'!B748:CB748,$G$5)*U760,FALSE)","v":false},true,2021,{"$f":"'Monthly Prices'!B748","v":82.063333333329993},71.596944444444162,{"$f":"_xlfn.XLOOKUP(P760,'Annual Real'!A:A,'Annual Real'!B:B,0,0)","v":68.678530223994798},1.1824043176857642,1.1824043176857642,false,false,5.3903489999999998E-2,4.3846579780171258E-3,9.1447044588235773,7,"2021-09-01",1.1824043176857642]
[null,null,{"$f":"'Monthly Prices'!A749","v":"2021M11"},"2021-10-01",742,false,true,false,{"$error":"#N/A"},{"$f":"INDEX('Monthly Prices'!B749:CB749,$G$4)","v":5.0175999999999998},{"$f":"IF(H761,INDEX('Monthly Prices'!B749:CB749,$G$4)*U761,FALSE)","v":false},true,{"$f":"INDEX('Monthly Prices'!B749:CB749,$G$5)","v":27.623432007750001},{"$f":"IF(H761,INDEX('Monthly Prices'!B749:CB749,$G$5)*U761,FALSE)","v":false},true,2021,{"$f":"'Monthly Prices'!B749","v":79.916666666669997},71.596944444444162,{"$f":"_xlfn.XLOOKUP(P761,'Annual Real'!A:A,'Annual Real'!B:B,0,0)","v":68.678530223994798},1.1764717740814639,1.1764717740814639,false,false,6.221869E-2,5.0426569808121879E-3,9.190818066600329,7,"2021-10-01",1.1764717740814639]
[null,null,{"$f":"'Monthly Prices'!A750","v":"2021M12"},"2021-11-01",743,false,true,false,{"$error":"#N/A"},{"$f":"INDEX('Monthly Prices'!B750:CB750,$G$4)","v":3.7326999999999999},{"$f":"IF(H762,INDEX('Monthly Prices'!B750:CB750,$G$4)*U762,FALSE)","v":false},true,{"$f":"INDEX('Monthly Prices'!B750:CB750,$G$5)","v":38.027119843180003},{"$f":"IF(H762,INDEX('Monthly Prices'!B750:CB750,$G$5)*U762,FALSE)","v":false},true,2021,{"$f":"'Monthly Prices'!B750","v":72.86666666667},71.596944444444162,{"$f":"_xlfn.XLOOKUP(P762,'Annual Real'!A:A,'Annual Real'!B:B,0,0)","v":68.678530223994798},1.1700314177633793,1.1700314177633793,false,false,6.8090029999999996E-2,5.5044302403399747E-3,9.2414082834995863,7,"2021-11-01",1.1700314177633793]
[null,null,{"$f":"'Monthly Prices'!A751","v":"2022M01"},"2021-12-01",744,false,true,false,{"$error":"#N/A"},{"$f":"INDEX('Monthly Prices'!B751:CB751,$G$4)","v":4.3324999999999996},{"$f":"IF(H763,INDEX('Monthly Prices'!B751:CB751,$G$4)*U763,FALSE)","v":false},true,{"$f":"INDEX('Monthly Prices'!B751:CB751,$G$5)","v":28.260673316550001},{"$f":"IF(H763,INDEX('Monthly Prices'!B751:CB751,$G$5)*U763,FALSE)","v":false},true,2021,{"$f":"'Monthly Prices'!B751","v":83.92},71.596944444444162,{"$f":"_xlfn.XLOOKUP(P763,'Annual Real'!A:A,'Annual Real'!B:B,0,0)","v":68.678530223994798},1.1634201056025624,1.1634201056025624,false,false,7.0364029999999994E-2,5.6826524906861131E-3,9.2939239952992629,7,"2021-12-01",1.1634201056025624]
[null,null,{"$f":"'Monthly Prices'!A752","v":"2022M02"},"2022-01-01",745,false,true,false,{"$error":"#N/A"},{"$f":"INDEX('Monthly Prices'!B752:CB752,$G$4)","v":4.6577000000000002},{"$f":"IF(H764,INDEX('Monthly Prices'!B752:CB752,$G$4)*U764,FALSE)","v":false},true,{"$f":"INDEX('Monthly Prices'!B752:CB752,$G$5)","v":27.229715906700001},{"$f":"IF(H764,INDEX('Monthly Prices'!B752:CB752,$G$5)*U764,FALSE)","v":false},true,2022,{"$f":"'Monthly Prices'!B752","v":93.543333333329997},96.808888888889172,{"$f":"_xlfn.XLOOKUP(P764,'Annual Real'!A:A,'Annual Real'!B:B,0,0)","v":0},1.1564476272404678,1.1564476272404678,false,false,7.4798729999999897E-2,6.0292210367818289E-3,9.3499591173659731,7,"2022-01-01",1.1564476272404678]
[null,null,{"$f":"'Monthly Prices'!A753","v":"2022M03"},"2022-02-01",746,false,true,false,{"$error":"#N/A"},{"$f":"INDEX('Monthly Prices'!B753:CB753,$G$4)","v":4.8838999999999997},{"$f":"IF(H765,INDEX('Monthly Prices'!B753:CB753,$G$4)*U765,FALSE)","v":false},true,{"$f":"INDEX('Monthly Prices'!B753:CB753,$G$5)","v":42.392970796119997},{"$f":"IF(H765,INDEX('Monthly Prices'!B753:CB753,$G$5)*U765,FALSE)","v":false},true,2022,{"$f":"'Monthly Prices'!B753","v":112.39666666667},96.808888888889172,{"$f":"_xlfn.XLOOKUP(P765,'Annual Real'!A:A,'Annual Real'!B:B,0,0)","v":0},1.1491689662345699,1.1491689662345699,false,false,7.8710639999999998E-2,6.3338475191752064E-3,9.4091803327258905,7,"2022-02-01",1.1491689662345699]
[null,null,{"$f":"'Monthly Prices'!A754","v":"2022M04"},"2022-03-01",747,true,true,true,"2022-03-01",{"$f":"INDEX('Monthly Prices'!B754:CB754,$G$4)","v":6.5305999999999997},{"$f":"IF(H766,INDEX('Monthly Prices'!B754:CB754,$G$4)*U766,FALSE)","v":7.4536730042750872},true,{"$f":"INDEX('Monthly Prices'!B754:CB754,$G$5)","v":32.204187228709998},{"$f":"IF(H766,INDEX('Monthly Prices'!B754:CB754,$G$5)*U766,FALSE)","v":36.756114441438193},true,2022,{"$f":"'Monthly Prices'!B754","v":103.41333333333},96.808888888889172,{"$f":"_xlfn.XLOOKUP(P766,'Annual Real'!A:A,'Annual Real'!B:B,0,0)","v":0},1.141345818803033,1.141345818803033,false,false,8.5424559999999997E-2,6.8543182115841095E-3,9.4736738488365724,7,"2022-03-01",1.141345818803033]
[null,null,{"$f":"'Monthly Prices'!A755","v":"2022M05"},{"$f":"EDATE(D766,1)","v":"2022-04-01"},{"$f":"E766+1","v":748},true,true,{"$f":"AND(F767:G767)","v":true},"2022-04-01",{"$f":"INDEX('Monthly Prices'!B755:CB755,$G$4)","v":8.1372999999999998},{"$f":"IF(H767,INDEX('Monthly Prices'!B755:CB755,$G$4)*U767,FALSE)","v":9.2262602851144884},{"$f":"ISNUMBER(J767)","v":true},{"$f":"INDEX('Monthly Prices'!B755:CB755,$G$5)","v":29.170722673810001},{"$f":"IF(H767,INDEX('Monthly Prices'!B755:CB755,$G$5)*U767,FALSE)","v":33.074444851911807},{"$f":"AND(ISNUMBER(M767),M767>0)","v":true},{"$f":"YEAR(D767)","v":2022},{"$f":"'Monthly Prices'!B755","v":110.09666666667},96.808888888889172,{"$f":"_xlfn.XLOOKUP(P767,'Annual Real'!A:A,'Annual Real'!B:B,0,0)","v":0},1.1338232933669017,1.1338232933669017,0.21334686526325544,-0.10554366584073656,8.2586300000000001E-2,6.6346541653707902E-3,9.5365283984991205,7,"2022-04-01",1.1338232933669017]
[null,null,{"$f":"'Monthly Prices'!A756","v":"2022M06"},"2022-05-01",749,true,true,true,"2022-05-01",{"$f":"INDEX('Monthly Prices'!B756:CB756,$G$4)","v":7.6740000000000004},{"$f":"IF(H768,INDEX('Monthly Prices'!B756:CB756,$G$4)*U768,FALSE)","v":8.6414677411225451},true,{"$f":"INDEX('Monthly Prices'!B756:CB756,$G$5)","v":33.55773104275},{"$f":"IF(H768,INDEX('Monthly Prices'!B756:CB756,$G$5)*U768,FALSE)","v":37.78838288652473},true,2022,{"$f":"'Monthly Prices'!B756","v":116.8},96.808888888889172,{"$f":"_xlfn.XLOOKUP(P768,'Annual Real'!A:A,'Annual Real'!B:B,0,0)","v":0},1.1260708549807852,1.1260708549807852,-6.5481351034847007E-2,0.13324079900789806,8.5815110000000014E-2,6.8845031836373138E-3,9.6021826586194354,7,"2022-05-01",1.1260708549807852]
[null,null,{"$f":"'Monthly Prices'!A757","v":"2022M07"},"2022-06-01",750,true,true,true,"2022-06-01",{"$f":"INDEX('Monthly Prices'!B757:CB757,$G$4)","v":7.2561},{"$f":"IF(H769,INDEX('Monthly Prices'!B757:CB757,$G$4)*U769,FALSE)","v":8.112043422542822},true,{"$f":"INDEX('Monthly Prices'!B757:CB757,$G$5)","v":51.330030472979999},{"$f":"IF(H769,INDEX('Monthly Prices'!B757:CB757,$G$5)*U769,FALSE)","v":57.385018960221053},true,2022,{"$f":"'Monthly Prices'!B757","v":105.08333333333},96.808888888889172,{"$f":"_xlfn.XLOOKUP(P769,'Annual Real'!A:A,'Annual Real'!B:B,0,0)","v":0},1.1179619110187045,1.1179619110187045,-6.3222646121096543E-2,0.41778155119100058,9.0597580000000011E-2,7.2533275795523267E-3,9.6718304349210982,7,"2022-06-01",1.1179619110187045]
[null,null,{"$f":"'Monthly Prices'!A758","v":"2022M08"},"2022-07-01",751,true,true,true,"2022-07-01",{"$f":"INDEX('Monthly Prices'!B758:CB758,$G$4)","v":8.7853999999999992},{"$f":"IF(H770,INDEX('Monthly Prices'!B758:CB758,$G$4)*U770,FALSE)","v":9.7550116549963821},true,{"$f":"INDEX('Monthly Prices'!B758:CB758,$G$5)","v":70.043639803389993},{"$f":"IF(H770,INDEX('Monthly Prices'!B758:CB758,$G$5)*U770,FALSE)","v":77.774093682750689},true,2022,{"$f":"'Monthly Prices'!B758","v":95.973333333330004},96.808888888889172,{"$f":"_xlfn.XLOOKUP(P770,'Annual Real'!A:A,'Annual Real'!B:B,0,0)","v":0},1.110366250255695,1.110366250255695,0.18443136913383415,0.30402511411291444,8.5248150000000009E-2,6.840680506328578E-3,9.7379923368377792,7,"2022-07-01",1.110366250255695]
[null,null,{"$f":"'Monthly Prices'!A759","v":"2022M09"},"2022-08-01",752,true,true,true,"2022-08-01",{"$f":"INDEX('Monthly Prices'!B759:CB759,$G$4)","v":7.7629000000000001},{"$f":"IF(H771,INDEX('Monthly Prices'!B759:CB759,$G$4)*U771,FALSE)","v":8.5628238380988293},true,{"$f":"INDEX('Monthly Prices'!B759:CB759,$G$5)","v":59.102622250380001},{"$f":"IF(H771,INDEX('Monthly Prices'!B759:CB759,$G$5)*U771,FALSE)","v":65.192820041441223},true,2022,{"$f":"'Monthly Prices'!B759","v":88.22},96.808888888889172,{"$f":"_xlfn.XLOOKUP(P771,'Annual Real'!A:A,'Annual Real'!B:B,0,0)","v":0},1.1030444599439422,1.1030444599439422,-0.13035114546484297,-0.17645904884433122,8.2626919999999993E-2,6.6378016278010321E-3,9.8026311982227554,7,"2022-08-01",1.1030444599439422]
[null,null,{"$f":"'Monthly Prices'!A760","v":"2022M10"},"2022-09-01",753,true,true,true,"2022-09-01",{"$f":"INDEX('Monthly Prices'!B760:CB760,$G$4)","v":5.6195000000000004},{"$f":"IF(H772,INDEX('Monthly Prices'!B760:CB760,$G$4)*U772,FALSE)","v":6.1579741707858107},true,{"$f":"INDEX('Monthly Prices'!B760:CB760,$G$5)","v":39.022049938450003},{"$f":"IF(H772,INDEX('Monthly Prices'!B760:CB760,$G$5)*U772,FALSE)","v":42.761237763517954},true,2022,{"$f":"'Monthly Prices'!B760","v":90.326666666669993},96.808888888889172,{"$f":"_xlfn.XLOOKUP(P772,'Annual Real'!A:A,'Annual Real'!B:B,0,0)","v":0},1.0958224345201193,1.0958224345201193,-0.32968216830362168,-0.42171730830563625,8.2016699999999998E-2,6.5905069985043863E-3,9.8672355077383997,7,"2022-09-01",1.0958224345201193]
[null,null,{"$f":"'Monthly Prices'!A761","v":"2022M11"},"2022-10-01",754,true,true,true,"2022-10-01",{"$f":"INDEX('Monthly Prices'!B761:CB761,$G$4)","v":5.2769000000000004},{"$f":"IF(H773,INDEX('Monthly Prices'!B761:CB761,$G$4)*U773,FALSE)","v":5.746708227735442},true,{"$f":"INDEX('Monthly Prices'!B761:CB761,$G$5)","v":35.72328224044},{"$f":"IF(H773,INDEX('Monthly Prices'!B761:CB761,$G$5)*U773,FALSE)","v":38.903765463217404},true,2022,{"$f":"'Monthly Prices'!B761","v":87.376666666670005},96.808888888889172,{"$f":"_xlfn.XLOOKUP(P773,'Annual Real'!A:A,'Annual Real'!B:B,0,0)","v":0},1.0890311030596451,1.0890311030596451,-6.9120646331608818E-2,-9.4540988019289202E-2,7.7454270000000006E-2,6.2361225876779169E-3,9.9287687979661445,7,"2022-10-01",1.0890311030596451]
[null,null,{"$f":"'Monthly Prices'!A762","v":"2022M12"},"2022-11-01",755,true,true,true,"2022-11-01",{"$f":"INDEX('Monthly Prices'!B762:CB762,$G$4)","v":5.5030000000000001},{"$f":"IF(H774,INDEX('Monthly Prices'!B762:CB762,$G$4)*U774,FALSE)","v":5.9587319892427946},true,{"$f":"INDEX('Monthly Prices'!B762:CB762,$G$5)","v":36.044260036140003},{"$f":"IF(H774,INDEX('Monthly Prices'!B762:CB762,$G$5)*U774,FALSE)","v":39.029272270749239},true,2022,{"$f":"'Monthly Prices'!B762","v":78.066666666670002},96.808888888889172,{"$f":"_xlfn.XLOOKUP(P774,'Annual Real'!A:A,'Annual Real'!B:B,0,0)","v":0},1.0828151897588214,1.0828151897588214,3.6230496213444749E-2,3.2208911569017317E-3,7.1103229999999906E-2,5.7405117323927612E-3,9.985765011739085,7,"2022-11-01",1.0828151897588214]
[null,null,{"$f":"'Monthly Prices'!A763","v":"2023M01"},"2022-12-01",756,true,true,true,"2022-12-01",{"$f":"INDEX('Monthly Prices'!B763:CB763,$G$4)","v":3.2728000000000002},{"$f":"IF(H775,INDEX('Monthly Prices'!B763:CB763,$G$4)*U775,FALSE)","v":3.5254143737553316},true,{"$f":"INDEX('Monthly Prices'!B763:CB763,$G$5)","v":20.183970921349999},{"$f":"IF(H775,INDEX('Monthly Prices'!B763:CB763,$G$5)*U775,FALSE)","v":21.741891104127024},true,2022,{"$f":"'Monthly Prices'!B763","v":80.41},96.808888888889172,{"$f":"_xlfn.XLOOKUP(P775,'Annual Real'!A:A,'Annual Real'!B:B,0,0)","v":0},1.0771860100694608,1.0771860100694608,-0.52485972276544257,-0.58507107041668183,6.4544009999999999E-2,5.2258195304613064E-3,10.037948817564029,7,"2022-12-01",1.0771860100694608]
[null,null,{"$f":"'Monthly Prices'!A764","v":"2023M02"},"2023-01-01",757,true,true,true,"2023-01-01",{"$f":"INDEX('Monthly Prices'!B764:CB764,$G$4)","v":2.3835999999999999},{"$f":"IF(H776,INDEX('Monthly Prices'!B764:CB764,$G$4)*U776,FALSE)","v":2.5543211195328897},true,{"$f":"INDEX('Monthly Prices'!B764:CB764,$G$5)","v":16.537137278909999},{"$f":"IF(H776,INDEX('Monthly Prices'!B764:CB764,$G$5)*U776,FALSE)","v":17.721580386027217},true,2023,{"$f":"'Monthly Prices'!B764","v":80.253333333330005},80.527555555553334,{"$f":"_xlfn.XLOOKUP(P776,'Annual Real'!A:A,'Annual Real'!B:B,0,0)","v":0},1.0716232251774165,1.0716232251774165,-0.32221150048517405,-0.20445773744980347,6.4101470000000008E-2,5.1909894833823689E-3,10.090055704310734,7,"2023-01-01",1.0716232251774165]
[null,null,{"$f":"'Monthly Prices'!A765","v":"2023M03"},"2023-02-01",758,true,true,true,"2023-02-01",{"$f":"INDEX('Monthly Prices'!B765:CB765,$G$4)","v":2.3048999999999999},{"$f":"IF(H777,INDEX('Monthly Prices'!B765:CB765,$G$4)*U777,FALSE)","v":2.4579510296325653},true,{"$f":"INDEX('Monthly Prices'!B765:CB765,$G$5)","v":13.812076862290001},{"$f":"IF(H777,INDEX('Monthly Prices'!B765:CB765,$G$5)*U777,FALSE)","v":14.729232741129698},true,2023,{"$f":"'Monthly Prices'!B765","v":76.473333333330004},80.527555555553334,{"$f":"_xlfn.XLOOKUP(P777,'Annual Real'!A:A,'Annual Real'!B:B,0,0)","v":0},1.0664024598171571,1.0664024598171571,-3.8458393614144465E-2,-0.184948986831099,6.0356129999999994E-2,4.8956801554589369E-3,10.139453389789804,7,"2023-02-01",1.0664024598171571]
[null,null,{"$f":"'Monthly Prices'!A766","v":"2023M04"},"2023-03-01",759,true,true,true,"2023-03-01",{"$f":"INDEX('Monthly Prices'!B766:CB766,$G$4)","v":2.1610999999999998},{"$f":"IF(H778,INDEX('Monthly Prices'!B766:CB766,$G$4)*U778,FALSE)","v":2.2952785922363299},true,{"$f":"INDEX('Monthly Prices'!B766:CB766,$G$5)","v":13.52052961513},{"$f":"IF(H778,INDEX('Monthly Prices'!B766:CB766,$G$5)*U778,FALSE)","v":14.359993605712459},true,2023,{"$f":"'Monthly Prices'!B766","v":82.46},80.527555555553334,{"$f":"_xlfn.XLOOKUP(P778,'Annual Real'!A:A,'Annual Real'!B:B,0,0)","v":0},1.0620880996882744,1.0620880996882744,-6.8473860996639838E-2,-2.5388022604003621E-2,4.9849740000000003E-2,4.0621490158385676E-3,10.18064136039828,7,"2023-03-01",1.0620880996882744]
[null,null,{"$f":"'Monthly Prices'!A767","v":"2023M05"},"2023-04-01",760,true,true,true,"2023-04-01",{"$f":"INDEX('Monthly Prices'!B767:CB767,$G$4)","v":2.1463999999999999},{"$f":"IF(H779,INDEX('Monthly Prices'!B767:CB767,$G$4)*U779,FALSE)","v":2.2705415443437196},true,{"$f":"INDEX('Monthly Prices'!B767:CB767,$G$5)","v":10.10875599841},{"$f":"IF(H779,INDEX('Monthly Prices'!B767:CB767,$G$5)*U779,FALSE)","v":10.693417096544763},true,2023,{"$f":"'Monthly Prices'!B767","v":74.123333333329995},80.527555555553334,{"$f":"_xlfn.XLOOKUP(P779,'Annual Real'!A:A,'Annual Real'!B:B,0,0)","v":0},1.0578370966938686,1.0578370966938686,-1.0835858266669111E-2,-0.2948177908177802,4.9303199999999998E-2,4.0185799946814704E-3,10.221553082102202,7,"2023-04-01",1.0578370966938686]
[null,null,{"$f":"'Monthly Prices'!A768","v":"2023M06"},"2023-05-01",761,true,true,true,"2023-05-01",{"$f":"INDEX('Monthly Prices'!B768:CB768,$G$4)","v":2.1833999999999998},{"$f":"IF(H780,INDEX('Monthly Prices'!B768:CB768,$G$4)*U780,FALSE)","v":2.3020570925993336},true,{"$f":"INDEX('Monthly Prices'!B768:CB768,$G$5)","v":10.35062473915},{"$f":"IF(H780,INDEX('Monthly Prices'!B768:CB768,$G$5)*U780,FALSE)","v":10.913130481631578},true,2023,{"$f":"'Monthly Prices'!B768","v":73.263333333329996},80.527555555553334,{"$f":"_xlfn.XLOOKUP(P780,'Annual Real'!A:A,'Annual Real'!B:B,0,0)","v":0},1.0543451005767766,1.0543451005767766,1.3784742463865676E-2,2.0338368073726971E-2,4.0476089999999992E-2,3.3120048788406464E-3,10.255406915779453,7,"2023-05-01",1.0543451005767766]
[null,null,{"$f":"'Monthly Prices'!A769","v":"2023M07"},"2023-06-01",762,true,true,true,"2023-06-01",{"$f":"INDEX('Monthly Prices'!B769:CB769,$G$4)","v":2.5539999999999998},{"$f":"IF(H781,INDEX('Monthly Prices'!B769:CB769,$G$4)*U781,FALSE)","v":2.6862395563415649},true,{"$f":"INDEX('Monthly Prices'!B769:CB769,$G$5)","v":9.5452839896799997},{"$f":"IF(H781,INDEX('Monthly Prices'!B769:CB769,$G$5)*U781,FALSE)","v":10.039514263740113},true,2023,{"$f":"'Monthly Prices'!B769","v":78.983333333329995},80.527555555553334,{"$f":"_xlfn.XLOOKUP(P781,'Annual Real'!A:A,'Annual Real'!B:B,0,0)","v":0},1.0517774300475979,1.0517774300475979,0.15433916985122709,-8.3437962603616467E-2,2.9691779999999997E-2,2.4412679487355593E-3,10.280443111984185,7,"2023-06-01",1.0517774300475979]
[null,null,{"$f":"'Monthly Prices'!A770","v":"2023M08"},"2023-07-01",763,true,true,true,"2023-07-01",{"$f":"INDEX('Monthly Prices'!B770:CB770,$G$4)","v":2.5844999999999998},{"$f":"IF(H782,INDEX('Monthly Prices'!B770:CB770,$G$4)*U782,FALSE)","v":2.7112414908845071},true,{"$f":"INDEX('Monthly Prices'!B770:CB770,$G$5)","v":11.191944563690001},{"$f":"IF(H782,INDEX('Monthly Prices'!B770:CB770,$G$5)*U782,FALSE)","v":11.740787179243814},true,2023,{"$f":"'Monthly Prices'!B770","v":84.724333333329994},80.527555555553334,{"$f":"_xlfn.XLOOKUP(P782,'Annual Real'!A:A,'Annual Real'!B:B,0,0)","v":0},1.0490390755985712,1.0490390755985712,9.2643635603338447E-3,0.15654013020738239,3.1777799999999995E-2,2.6103455178392299E-3,10.307278620582954,7,"2023-07-01",1.0490390755985712]
[null,null,{"$f":"'Monthly Prices'!A771","v":"2023M09"},"2023-08-01",764,true,true,true,"2023-08-01",{"$f":"INDEX('Monthly Prices'!B771:CB771,$G$4)","v":2.6395},{"$f":"IF(H783,INDEX('Monthly Prices'!B771:CB771,$G$4)*U783,FALSE)","v":2.7606453207963026},true,{"$f":"INDEX('Monthly Prices'!B771:CB771,$G$5)","v":11.54929514615},{"$f":"IF(H783,INDEX('Monthly Prices'!B771:CB771,$G$5)*U783,FALSE)","v":12.079373973750501},true,2023,{"$f":"'Monthly Prices'!B771","v":92.22},80.527555555553334,{"$f":"_xlfn.XLOOKUP(P783,'Annual Real'!A:A,'Annual Real'!B:B,0,0)","v":0},1.0458970717167277,1.0458970717167277,1.8057819575408925E-2,2.8430504603723147E-2,3.6651120000000002E-2,3.0041234140623096E-3,10.338242957622311,7,"2023-08-01",1.0458970717167277]
[null,null,{"$f":"'Monthly Prices'!A772","v":"2023M10"},"2023-09-01",765,true,true,true,"2023-09-01",{"$f":"INDEX('Monthly Prices'!B772:CB772,$G$4)","v":2.9885999999999999},{"$f":"IF(H784,INDEX('Monthly Prices'!B772:CB772,$G$4)*U784,FALSE)","v":3.1163192917951203},true,{"$f":"INDEX('Monthly Prices'!B772:CB772,$G$5)","v":14.56950705657},{"$f":"IF(H784,INDEX('Monthly Prices'!B772:CB772,$G$5)*U784,FALSE)","v":15.192142110799114},true,2023,{"$f":"'Monthly Prices'!B772","v":89.083666666669998},80.527555555553334,{"$f":"_xlfn.XLOOKUP(P784,'Annual Real'!A:A,'Annual Real'!B:B,0,0)","v":0},1.0427354921351537,1.0427354921351537,0.12118812696059814,0.22927895998547015,3.6996979999999999E-2,3.032005341162991E-3,10.369588565488064,7,"2023-09-01",1.0427354921351537]
[null,null,{"$f":"'Monthly Prices'!A773","v":"2023M11"},"2023-10-01",766,true,true,true,"2023-10-01",{"$f":"INDEX('Monthly Prices'!B773:CB773,$G$4)","v":2.7084000000000001},{"$f":"IF(H785,INDEX('Monthly Prices'!B773:CB773,$G$4)*U785,FALSE)","v":2.8166478970932327},true,{"$f":"INDEX('Monthly Prices'!B773:CB773,$G$5)","v":14.48505487638},{"$f":"IF(H785,INDEX('Monthly Prices'!B773:CB773,$G$5)*U785,FALSE)","v":15.06398587979464},true,2023,{"$f":"'Monthly Prices'!B773","v":81.354333333330004},80.527555555553334,{"$f":"_xlfn.XLOOKUP(P785,'Annual Real'!A:A,'Annual Real'!B:B,0,0)","v":0},1.039967470496689,1.039967470496689,-0.10110510231774887,-8.4714737774992336E-3,3.2411450000000001E-2,2.6616425195900018E-3,10.397188703324622,7,"2023-10-01",1.039967470496689]
[null,null,{"$f":"'Monthly Prices'!A774","v":"2023M12"},"2023-11-01",767,true,true,true,"2023-11-01",{"$f":"INDEX('Monthly Prices'!B774:CB774,$G$4)","v":2.5265},{"$f":"IF(H786,INDEX('Monthly Prices'!B774:CB774,$G$4)*U786,FALSE)","v":2.6207228057616034},true,{"$f":"INDEX('Monthly Prices'!B774:CB774,$G$5)","v":11.506657906659999},{"$f":"IF(H786,INDEX('Monthly Prices'!B774:CB774,$G$5)*U786,FALSE)","v":11.935784996667694},true,2023,{"$f":"'Monthly Prices'!B774","v":75.719333333329999},80.527555555553334,{"$f":"_xlfn.XLOOKUP(P786,'Annual Real'!A:A,'Annual Real'!B:B,0,0)","v":0},1.0372938079404723,1.0372938079404723,-7.2097329138108388E-2,-0.23276582372133478,3.1372709999999901E-2,2.5775364084408281E-3,10.42398783575287,7,"2023-11-01",1.0372938079404723]
[null,null,{"$f":"'Monthly Prices'!A775","v":"2024M01"},"2023-12-01",768,true,true,true,"2023-12-01",{"$f":"INDEX('Monthly Prices'!B775:CB775,$G$4)","v":3.1806000000000001},{"$f":"IF(H787,INDEX('Monthly Prices'!B775:CB775,$G$4)*U787,FALSE)","v":3.2901640786437181},true,{"$f":"INDEX('Monthly Prices'!B775:CB775,$G$5)","v":9.5596135531200002},{"$f":"IF(H787,INDEX('Monthly Prices'!B775:CB775,$G$5)*U787,FALSE)","v":9.8889194234393081},true,2023,{"$f":"'Monthly Prices'!B775","v":77.672333333330002},80.527555555553334,{"$f":"_xlfn.XLOOKUP(P787,'Annual Real'!A:A,'Annual Real'!B:B,0,0)","v":0},1.0344476132313771,1.0344476132313771,0.22748727567511945,-0.18812615013072428,3.3521229999999999E-2,2.7514150283594052E-3,10.452668552539595,7,"2023-12-01",1.0344476132313771]
[null,null,{"$f":"'Monthly Prices'!A776","v":"2024M02"},"2024-01-01",769,{"$f":"AND(E788>=$M$4,L788)","v":true},{"$f":"AND(E788<=$M$5,O788)","v":true},true,{"$f":"IF(H788,D788,NA)","v":"2024-01-01"},{"$f":"INDEX('Monthly Prices'!B776:CB776,$G$4)","v":1.7211000000000001},{"$f":"IF(H788,INDEX('Monthly Prices'!B776:CB776,$G$4)*U788,FALSE)","v":1.7758771428691247},true,{"$f":"INDEX('Monthly Prices'!B776:CB776,$G$5)","v":8.1483808676400002},{"$f":"IF(H788,INDEX('Monthly Prices'!B776:CB776,$G$5)*U788,FALSE)","v":8.4077179328533855},true,2024,{"$f":"'Monthly Prices'!B776","v":80.548000000000002},78.774527777778346,{"$f":"_xlfn.XLOOKUP(P788,'Annual Real'!A:A,'Annual Real'!B:B,0,0)","v":0},1.0318268217239699,1.0318268217239699,-0.61664296959714193,-0.16226479461500032,3.0908849999999898E-2,2.5399528799110449E-3,10.479217838132374,7,"2024-01-01",1.0318268217239699]
[null,null,{"$f":"'Monthly Prices'!A777","v":"2024M03"},"2024-02-01",770,true,true,true,"2024-02-01",{"$f":"INDEX('Monthly Prices'!B777:CB777,$G$4)","v":1.4999},{"$f":"IF(H789,INDEX('Monthly Prices'!B777:CB777,$G$4)*U789,FALSE)","v":1.5436383849997406},true,{"$f":"INDEX('Monthly Prices'!B777:CB777,$G$5)","v":8.5537263218300001},{"$f":"IF(H789,INDEX('Monthly Prices'!B777:CB777,$G$5)*U789,FALSE)","v":8.8031604007996744},true,2024,{"$f":"'Monthly Prices'!B777","v":83.545666666670002},{"$f":"AVERAGEIF(P:P,P789,Q:Q)","v":78.774527777778346},{"$f":"_xlfn.XLOOKUP(P789,'Annual Real'!A:A,'Annual Real'!B:B,0,0)","v":0},{"$f":"AC789","v":1.0291608673909864},{"$f":"IF($U$19,T789,1)","v":1.0291608673909864},-0.14015224829920858,4.5960707924930511E-2,{"$f":"LOOKUP(D789,INDIRECT(\"'\"&$X$14&\"'!A:A\"),INDIRECT(\"'\"&$X$14&\"'!B:B\"))/100","v":3.1531709999999998E-2},{"$f":"(1+X789)^(1/12)-1","v":2.5904155681140129E-3},{"$f":"Z788*(1+Y789)","v":10.506363367161931},{"$f":"LEN(C789)","v":7},{"$f":"IF(AA789>2,D789,0)","v":"2024-02-01"},{"$f":"$AC$17/Z789","v":1.0291608673909864}]
[null,null,{"$f":"'Monthly Prices'!A778","v":"2024M04"},"2024-03-01",771,true,true,true,"2024-03-01",{"$f":"INDEX('Monthly Prices'!B778:CB778,$G$4)","v":1.5967},{"$f":"IF(H790,INDEX('Monthly Prices'!B778:CB778,$G$4)*U790,FALSE)","v":1.6385868649510693},true,{"$f":"INDEX('Monthly Prices'!B778:CB778,$G$5)","v":9.0851190056700002},{"$f":"IF(H790,INDEX('Monthly Prices'!B778:CB778,$G$5)*U790,FALSE)","v":9.3234525391170422},true,2024,{"$f":"'Monthly Prices'!B778","v":88.011333333330001},78.774527777778346,{"$f":"_xlfn.XLOOKUP(P790,'Annual Real'!A:A,'Annual Real'!B:B,0,0)","v":0},1.0262333969756807,1.0262333969756807,{"$f":"IF(AND(H789,H790),LN(K790/K789))","v":5.9691985108779946E-2},{"$f":"IF(AND($H789,$H790),LN(N790/N789))","v":5.7422210746682183E-2},3.4773850000000002E-2,2.8526360805767315E-3,10.536334198378746,7,"2024-03-01",1.0262333969756807]
[null,null,{"$f":"'Monthly Prices'!A779","v":"2024M05"},"2024-04-01",772,true,true,true,"2024-04-01",{"$f":"INDEX('Monthly Prices'!B779:CB779,$G$4)","v":2.1314000000000002},{"$f":"IF(H791,INDEX('Monthly Prices'!B779:CB779,$G$4)*U791,FALSE)","v":2.1813029496026659},true,{"$f":"INDEX('Monthly Prices'!B779:CB779,$G$5)","v":10.12306554509},{"$f":"IF(H791,INDEX('Monthly Prices'!B779:CB779,$G$5)*U791,FALSE)","v":10.360079165114916},true,2024,{"$f":"'Monthly Prices'!B779","v":81.444999999999993},78.774527777778346,{"$f":"_xlfn.XLOOKUP(P791,'Annual Real'!A:A,'Annual Real'!B:B,0,0)","v":0},1.0234132258621871,1.0234132258621871,0.28608817888911581,0.10542687401120908,3.3573640000000002E-2,2.7556524014216155E-3,10.565368673014689,7,"2024-04-01",1.0234132258621871]
[null,null,{"$f":"'Monthly Prices'!A780","v":"2024M06"},"2024-05-01",773,true,true,true,"2024-05-01",{"$f":"INDEX('Monthly Prices'!B780:CB780,$G$4)","v":2.5123000000000002},{"$f":"IF(H792,INDEX('Monthly Prices'!B780:CB780,$G$4)*U792,FALSE)","v":2.5642381019603806},true,{"$f":"INDEX('Monthly Prices'!B780:CB780,$G$5)","v":10.868977899780001},{"$f":"IF(H792,INDEX('Monthly Prices'!B780:CB780,$G$5)*U792,FALSE)","v":11.093678008192171},true,2024,{"$f":"'Monthly Prices'!B780","v":81.204999999999998},78.774527777778346,{"$f":"_xlfn.XLOOKUP(P792,'Annual Real'!A:A,'Annual Real'!B:B,0,0)","v":0},1.0206735270311589,1.0206735270311589,0.16173901666252111,6.8415519029736929E-2,3.2690290000000004E-2,2.684206809005163E-3,10.593728307546444,7,"2024-05-01",1.0206735270311589]
[null,null,{"$f":"'Monthly Prices'!A781","v":"2024M07"},"2024-06-01",774,true,true,true,"2024-06-01",{"$f":"INDEX('Monthly Prices'!B781:CB781,$G$4)","v":2.0750999999999999},{"$f":"IF(H793,INDEX('Monthly Prices'!B781:CB781,$G$4)*U793,FALSE)","v":2.1128378291149517},true,{"$f":"INDEX('Monthly Prices'!B781:CB781,$G$5)","v":10.34681932853},{"$f":"IF(H793,INDEX('Monthly Prices'!B781:CB781,$G$5)*U793,FALSE)","v":10.534986886577007},true,2024,{"$f":"'Monthly Prices'!B781","v":83.258666666669995},78.774527777778346,{"$f":"_xlfn.XLOOKUP(P793,'Annual Real'!A:A,'Annual Real'!B:B,0,0)","v":0},1.0181860291624267,1.0181860291624267,-0.19362941165480135,-5.1673594745126505E-2,2.9713969999999999E-2,2.4430681599298953E-3,10.619609507869558,7,"2024-06-01",1.0181860291624267]
[null,null,{"$f":"'Monthly Prices'!A782","v":"2024M08"},"2024-07-01",775,true,true,true,"2024-07-01",{"$f":"INDEX('Monthly Prices'!B782:CB782,$G$4)","v":1.9903},{"$f":"IF(H794,INDEX('Monthly Prices'!B782:CB782,$G$4)*U794,FALSE)","v":2.0216822942149935},true,{"$f":"INDEX('Monthly Prices'!B782:CB782,$G$5)","v":12.37459819711},{"$f":"IF(H794,INDEX('Monthly Prices'!B782:CB782,$G$5)*U794,FALSE)","v":12.569716159936727},true,2024,{"$f":"'Monthly Prices'!B782","v":78.120999999999995},78.774527777778346,{"$f":"_xlfn.XLOOKUP(P794,'Annual Real'!A:A,'Annual Real'!B:B,0,0)","v":0},1.0157676200648111,1.0157676200648111,-4.410200284098819E-2,0.17658863908725045,2.8947529999999898E-2,2.3808684681849712E-3,10.644893401291283,7,"2024-07-01",1.0157676200648111]
[null,null,{"$f":"'Monthly Prices'!A783","v":"2024M09"},"2024-08-01",776,true,true,true,"2024-08-01",{"$f":"INDEX('Monthly Prices'!B783:CB783,$G$4)","v":2.2507999999999999},{"$f":"IF(H795,INDEX('Monthly Prices'!B783:CB783,$G$4)*U795,FALSE)","v":2.2815330638915325},true,{"$f":"INDEX('Monthly Prices'!B783:CB783,$G$5)","v":11.7842591911},{"$f":"IF(H795,INDEX('Monthly Prices'!B783:CB783,$G$5)*U795,FALSE)","v":11.945164820491531},true,2024,{"$f":"'Monthly Prices'!B783","v":72.424333333329997},78.774527777778346,{"$f":"_xlfn.XLOOKUP(P795,'Annual Real'!A:A,'Annual Real'!B:B,0,0)","v":0},1.0136542846505832,1.0136542846505832,0.12091762972262249,-5.096386262869191E-2,2.5307300000000001E-2,2.084868032651066E-3,10.667086599254613,7,"2024-08-01",1.0136542846505832]
[null,null,{"$f":"'Monthly Prices'!A784","v":"2024M10"},"2024-09-01",777,true,true,true,"2024-09-01",{"$f":"INDEX('Monthly Prices'!B784:CB784,$G$4)","v":2.2077},{"$f":"IF(H796,INDEX('Monthly Prices'!B784:CB784,$G$4)*U796,FALSE)","v":2.2333522695929631},true,{"$f":"INDEX('Monthly Prices'!B784:CB784,$G$5)","v":12.92013302544},{"$f":"IF(H796,INDEX('Monthly Prices'!B784:CB784,$G$5)*U796,FALSE)","v":13.070257922638682},true,2024,{"$f":"'Monthly Prices'!B784","v":73.970666666669999},78.774527777778346,{"$f":"_xlfn.XLOOKUP(P796,'Annual Real'!A:A,'Annual Real'!B:B,0,0)","v":0},1.011619454451675,1.011619454451675,-2.1343896837711034E-2,9.0012682419030682E-2,2.440633E-2,2.0114581525236819E-3,10.688542997558359,7,"2024-09-01",1.011619454451675]
[null,null,{"$f":"'Monthly Prices'!A785","v":"2024M11"},"2024-10-01",778,true,true,true,"2024-10-01",{"$f":"INDEX('Monthly Prices'!B785:CB785,$G$4)","v":2.1044999999999998},{"$f":"IF(H797,INDEX('Monthly Prices'!B785:CB785,$G$4)*U797,FALSE)","v":2.1244078377174884},true,{"$f":"INDEX('Monthly Prices'!B785:CB785,$G$5)","v":13.926400457830001},{"$f":"IF(H797,INDEX('Monthly Prices'!B785:CB785,$G$5)*U797,FALSE)","v":14.058139360326194},true,2024,{"$f":"'Monthly Prices'!B785","v":72.291666666669997},78.774527777778346,{"$f":"_xlfn.XLOOKUP(P797,'Annual Real'!A:A,'Annual Real'!B:B,0,0)","v":0},1.0094596520396715,1.0094596520396715,-5.0010617676437115E-2,7.2862280559755299E-2,2.597905E-2,2.1395628915326093E-3,10.711411807520486,7,"2024-10-01",1.0094596520396715]
[null,null,{"$f":"'Monthly Prices'!A786","v":"2024M12"},"2024-11-01",779,true,true,true,"2024-11-01",{"$f":"INDEX('Monthly Prices'!B786:CB786,$G$4)","v":3.0228999999999999},{"$f":"IF(H798,INDEX('Monthly Prices'!B786:CB786,$G$4)*U798,FALSE)","v":3.0446063210618566},true,{"$f":"INDEX('Monthly Prices'!B786:CB786,$G$5)","v":13.856620998009999},{"$f":"IF(H798,INDEX('Monthly Prices'!B786:CB786,$G$5)*U798,FALSE)","v":13.956120241853748},true,2024,{"$f":"'Monthly Prices'!B786","v":72.311000000000007},78.774527777778346,{"$f":"_xlfn.XLOOKUP(P798,'Annual Real'!A:A,'Annual Real'!B:B,0,0)","v":0},1.0071806282251667,1.0071806282251667,0.35987850685732425,-7.2834028750318417E-3,2.7493799999999999E-2,2.2627756637068064E-3,10.735649329482484,7,"2024-11-01",1.0071806282251667]
[null,null,{"$f":"'Monthly Prices'!A787","v":"2025M01"},"2024-12-01",780,true,true,true,"2024-12-01",{"$f":"INDEX('Monthly Prices'!B787:CB787,$G$4)","v":4.0991},{"$f":"IF(H799,INDEX('Monthly Prices'!B787:CB787,$G$4)*U799,FALSE)","v":4.1187503003395101},true,{"$f":"INDEX('Monthly Prices'!B787:CB787,$G$5)","v":14.66351159521},{"$f":"IF(H799,INDEX('Monthly Prices'!B787:CB787,$G$5)*U799,FALSE)","v":14.733805661438627},true,2024,{"$f":"'Monthly Prices'!B787","v":78.162000000000006},78.774527777778346,{"$f":"_xlfn.XLOOKUP(P799,'Annual Real'!A:A,'Annual Real'!B:B,0,0)","v":0},1.0047938084797907,1.0047938084797907,0.30217818639276639,5.4226419300942894E-2,2.8880569999999998E-2,2.3754323775013741E-3,10.761151138493238,7,"2024-12-01",1.0047938084797907]
[null,null,{"$f":"'Monthly Prices'!A788","v":"2025M02"},"2025-01-01",781,true,true,true,"2025-01-01",{"$f":"INDEX('Monthly Prices'!B788:CB788,$G$4)","v":4.2225999999999999},{"$f":"IF(H800,INDEX('Monthly Prices'!B788:CB788,$G$4)*U800,FALSE)","v":4.2324024315060056},true,{"$f":"INDEX('Monthly Prices'!B788:CB788,$G$5)","v":15.34053214373},{"$f":"IF(H800,INDEX('Monthly Prices'!B788:CB788,$G$5)*U800,FALSE)","v":15.376143974262041},true,2025,{"$f":"'Monthly Prices'!B788","v":73.819000000000003},12.043361111110833,{"$f":"_xlfn.XLOOKUP(P800,'Annual Real'!A:A,'Annual Real'!B:B,0,0)","v":0},1.0023214208085081,1.0023214208085081,2.7219990357122199E-2,4.2672657384364911E-2,3.000483E-2,2.4666615119215418E-3,10.787695255830529,7,"2025-01-01",1.0023214208085081]
[null,null,{"$f":"'Monthly Prices'!A789","v":"2025M03"},"2025-02-01",782,{"$f":"AND(E801>='Prices for Graph'!$M$4,L801)","v":true},{"$f":"AND(E801<='Prices for Graph'!$M$5,O801)","v":true},true,"2025-02-01",{"$f":"INDEX('Monthly Prices'!B789:CB789,'Prices for Graph'!$G$4)","v":4.1280999999999999},{"$f":"IF(H801,INDEX('Monthly Prices'!B789:CB789,$G$4)*U801,FALSE)","v":4.1280999999999999},true,{"$f":"INDEX('Monthly Prices'!B789:CB789,'Prices for Graph'!$G$5)","v":13.235406896140001},{"$f":"IF(H801,INDEX('Monthly Prices'!B789:CB789,$G$5)*U801,FALSE)","v":13.235406896140001},true,2025,{"$f":"'Monthly Prices'!B789","v":70.701333333329998},12.043361111110833,{"$f":"_xlfn.XLOOKUP(P801,'Annual Real'!A:A,'Annual Real'!B:B,0,0)","v":0},1,1,-2.4952529853815644E-2,-0.14992163660114186,2.8215489999999999E-2,2.3214208085080568E-3,10.812738036073258,7,"2025-02-01",1]
[null,null,{"$f":"'Monthly Prices'!A790","v":0},"2025-03-01",783,{"$f":"AND(E802>='Prices for Graph'!$M$4,L802)","v":true},{"$f":"AND(E802<='Prices for Graph'!$M$5,O802)","v":false},false,{"$error":"#N/A"},{"$f":"INDEX('Monthly Prices'!B790:CB790,'Prices for Graph'!$G$4)","v":0},{"$f":"IF(H802,INDEX('Monthly Prices'!B790:CB790,$G$4)*U802,FALSE)","v":false},true,{"$f":"INDEX('Monthly Prices'!B790:CB790,'Prices for Graph'!$G$5)","v":0},{"$f":"IF(H802,INDEX('Monthly Prices'!B790:CB790,$G$5)*U802,FALSE)","v":false},false,2025,{"$f":"'Monthly Prices'!B790","v":0},12.043361111110833,{"$f":"_xlfn.XLOOKUP(P802,'Annual Real'!A:A,'Annual Real'!B:B,0,0)","v":0},0.99803310801028089,0.99803310801028089,false,false,2.3907250000000001E-2,1.9707682780587543E-3,10.834047437193711,1,"00:00:00",0.99803310801028089]
[null,null,{"$f":"'Monthly Prices'!A791","v":0},"2025-04-01",784,{"$f":"AND(E803>='Prices for Graph'!$M$4,L803)","v":true},{"$f":"AND(E803<='Prices for Graph'!$M$5,O803)","v":false},false,{"$error":"#N/A"},{"$f":"INDEX('Monthly Prices'!B791:CB791,'Prices for Graph'!$G$4)","v":0},{"$f":"IF(H803,INDEX('Monthly Prices'!B791:CB791,$G$4)*U803,FALSE)","v":false},true,{"$f":"INDEX('Monthly Prices'!B791:CB791,'Prices for Graph'!$G$5)","v":0},{"$f":"IF(H803,INDEX('Monthly Prices'!B791:CB791,$G$5)*U803,FALSE)","v":false},false,2025,{"$f":"'Monthly Prices'!B791","v":0},12.043361111110833,{"$f":"_xlfn.XLOOKUP(P803,'Annual Real'!A:A,'Annual Real'!B:B,0,0)","v":0},0.99607008468466107,0.99607008468466107,false,false,2.3907250000000001E-2,1.9707682780587543E-3,10.855398834205916,1,"00:00:00",0.99607008468466107]
[null,null,{"$f":"'Monthly Prices'!A792","v":0},"2025-05-01",785,{"$f":"AND(E804>='Prices for Graph'!$M$4,L804)","v":true},{"$f":"AND(E804<='Prices for Graph'!$M$5,O804)","v":false},false,{"$error":"#N/A"},{"$f":"INDEX('Monthly Prices'!B792:CB792,'Prices for Graph'!$G$4)","v":0},{"$f":"IF(H804,INDEX('Monthly Prices'!B792:CB792,$G$4)*U804,FALSE)","v":false},true,{"$f":"INDEX('Monthly Prices'!B792:CB792,'Prices for Graph'!$G$5)","v":0},{"$f":"IF(H804,INDEX('Monthly Prices'!B792:CB792,$G$5)*U804,FALSE)","v":false},false,2025,{"$f":"'Monthly Prices'!B792","v":0},12.043361111110833,{"$f":"_xlfn.XLOOKUP(P804,'Annual Real'!A:A,'Annual Real'!B:B,0,0)","v":0},0.99411092241389609,0.99411092241389609,false,false,2.3907250000000001E-2,1.9707682780587543E-3,10.876792309874045,1,"00:00:00",0.99411092241389609]
[null,null,{"$f":"'Monthly Prices'!A793","v":0},"2025-06-01",786,{"$f":"AND(E805>='Prices for Graph'!$M$4,L805)","v":true},{"$f":"AND(E805<='Prices for Graph'!$M$5,O805)","v":false},false,{"$error":"#N/A"},{"$f":"INDEX('Monthly Prices'!B793:CB793,'Prices for Graph'!$G$4)","v":0},{"$f":"IF(H805,INDEX('Monthly Prices'!B793:CB793,$G$4)*U805,FALSE)","v":false},true,{"$f":"INDEX('Monthly Prices'!B793:CB793,'Prices for Graph'!$G$5)","v":0},{"$f":"IF(H805,INDEX('Monthly Prices'!B793:CB793,$G$5)*U805,FALSE)","v":false},false,2025,{"$f":"'Monthly Prices'!B793","v":0},12.043361111110833,{"$f":"_xlfn.XLOOKUP(P805,'Annual Real'!A:A,'Annual Real'!B:B,0,0)","v":0},0.99215561360370796,0.99215561360370796,false,false,2.3907250000000001E-2,1.9707682780587543E-3,10.898227947125378,1,"00:00:00",0.99215561360370796]
[null,null,{"$f":"'Monthly Prices'!A794","v":0},"2025-07-01",787,{"$f":"AND(E806>='Prices for Graph'!$M$4,L806)","v":true},{"$f":"AND(E806<='Prices for Graph'!$M$5,O806)","v":false},false,{"$error":"#N/A"},{"$f":"INDEX('Monthly Prices'!B794:CB794,'Prices for Graph'!$G$4)","v":0},{"$f":"IF(H806,INDEX('Monthly Prices'!B794:CB794,$G$4)*U806,FALSE)","v":false},true,{"$f":"INDEX('Monthly Prices'!B794:CB794,'Prices for Graph'!$G$5)","v":0},{"$f":"IF(H806,INDEX('Monthly Prices'!B794:CB794,$G$5)*U806,FALSE)","v":false},false,2025,{"$f":"'Monthly Prices'!B794","v":0},12.043361111110833,{"$f":"_xlfn.XLOOKUP(P806,'Annual Real'!A:A,'Annual Real'!B:B,0,0)","v":0},0.99020415067475598,0.99020415067475598,false,false,2.3907250000000001E-2,1.9707682780587543E-3,10.919705829050626,1,"00:00:00",0.99020415067475598]
[null,null,{"$f":"'Monthly Prices'!A795","v":0},"2025-08-01",788,{"$f":"AND(E807>='Prices for Graph'!$M$4,L807)","v":true},{"$f":"AND(E807<='Prices for Graph'!$M$5,O807)","v":false},false,{"$error":"#N/A"},{"$f":"INDEX('Monthly Prices'!B795:CB795,'Prices for Graph'!$G$4)","v":0},{"$f":"IF(H807,INDEX('Monthly Prices'!B795:CB795,$G$4)*U807,FALSE)","v":false},true,{"$f":"INDEX('Monthly Prices'!B795:CB795,'Prices for Graph'!$G$5)","v":0},{"$f":"IF(H807,INDEX('Monthly Prices'!B795:CB795,$G$5)*U807,FALSE)","v":false},false,2025,{"$f":"'Monthly Prices'!B795","v":0},12.043361111110833,{"$f":"_xlfn.XLOOKUP(P807,'Annual Real'!A:A,'Annual Real'!B:B,0,0)","v":0},0.98825652606260728,0.98825652606260728,false,false,2.3907250000000001E-2,1.9707682780587543E-3,10.941226038904253,1,"00:00:00",0.98825652606260728]
[null,null,{"$f":"'Monthly Prices'!A796","v":0},"2025-09-01",789,{"$f":"AND(E808>='Prices for Graph'!$M$4,L808)","v":true},{"$f":"AND(E808<='Prices for Graph'!$M$5,O808)","v":false},false,{"$error":"#N/A"},{"$f":"INDEX('Monthly Prices'!B796:CB796,'Prices for Graph'!$G$4)","v":0},{"$f":"IF(H808,INDEX('Monthly Prices'!B796:CB796,$G$4)*U808,FALSE)","v":false},true,{"$f":"INDEX('Monthly Prices'!B796:CB796,'Prices for Graph'!$G$5)","v":0},{"$f":"IF(H808,INDEX('Monthly Prices'!B796:CB796,$G$5)*U808,FALSE)","v":false},false,2025,{"$f":"'Monthly Prices'!B796","v":0},12.043361111110833,{"$f":"_xlfn.XLOOKUP(P808,'Annual Real'!A:A,'Annual Real'!B:B,0,0)","v":0},0.9863127322177071,0.9863127322177071,false,false,2.3907250000000001E-2,1.9707682780587543E-3,10.962788660104795,1,"00:00:00",0.9863127322177071]
[null,null,{"$f":"'Monthly Prices'!A797","v":0},"2025-10-01",790,{"$f":"AND(E809>='Prices for Graph'!$M$4,L809)","v":true},{"$f":"AND(E809<='Prices for Graph'!$M$5,O809)","v":false},false,{"$error":"#N/A"},{"$f":"INDEX('Monthly Prices'!B797:CB797,'Prices for Graph'!$G$4)","v":0},{"$f":"IF(H809,INDEX('Monthly Prices'!B797:CB797,$G$4)*U809,FALSE)","v":false},true,{"$f":"INDEX('Monthly Prices'!B797:CB797,'Prices for Graph'!$G$5)","v":0},{"$f":"IF(H809,INDEX('Monthly Prices'!B797:CB797,$G$5)*U809,FALSE)","v":false},false,2025,{"$f":"'Monthly Prices'!B797","v":0},12.043361111110833,{"$f":"_xlfn.XLOOKUP(P809,'Annual Real'!A:A,'Annual Real'!B:B,0,0)","v":0},0.98437276160535025,0.98437276160535025,false,false,2.3907250000000001E-2,1.9707682780587543E-3,10.984393776235192,1,"00:00:00",0.98437276160535025]
[null,null,{"$f":"'Monthly Prices'!A798","v":0},"2025-11-01",791,{"$f":"AND(E810>='Prices for Graph'!$M$4,L810)","v":true},{"$f":"AND(E810<='Prices for Graph'!$M$5,O810)","v":false},false,{"$error":"#N/A"},{"$f":"INDEX('Monthly Prices'!B798:CB798,'Prices for Graph'!$G$4)","v":0},{"$f":"IF(H810,INDEX('Monthly Prices'!B798:CB798,$G$4)*U810,FALSE)","v":false},true,{"$f":"INDEX('Monthly Prices'!B798:CB798,'Prices for Graph'!$G$5)","v":0},{"$f":"IF(H810,INDEX('Monthly Prices'!B798:CB798,$G$5)*U810,FALSE)","v":false},false,2025,{"$f":"'Monthly Prices'!B798","v":0},12.043361111110833,{"$f":"_xlfn.XLOOKUP(P810,'Annual Real'!A:A,'Annual Real'!B:B,0,0)","v":0},0.98243660670565103,0.98243660670565103,false,false,2.3907250000000001E-2,1.9707682780587543E-3,11.006041471043103,1,"00:00:00",0.98243660670565103]
[null,null,{"$f":"'Monthly Prices'!A799","v":0},"2025-12-01",792,{"$f":"AND(E811>='Prices for Graph'!$M$4,L811)","v":true},{"$f":"AND(E811<='Prices for Graph'!$M$5,O811)","v":false},false,{"$error":"#N/A"},{"$f":"INDEX('Monthly Prices'!B799:CB799,'Prices for Graph'!$G$4)","v":0},{"$f":"IF(H811,INDEX('Monthly Prices'!B799:CB799,$G$4)*U811,FALSE)","v":false},true,{"$f":"INDEX('Monthly Prices'!B799:CB799,'Prices for Graph'!$G$5)","v":0},{"$f":"IF(H811,INDEX('Monthly Prices'!B799:CB799,$G$5)*U811,FALSE)","v":false},false,2025,{"$f":"'Monthly Prices'!B799","v":0},12.043361111110833,{"$f":"_xlfn.XLOOKUP(P811,'Annual Real'!A:A,'Annual Real'!B:B,0,0)","v":0},0.98050426001351498,0.98050426001351498,false,false,2.3907250000000001E-2,1.9707682780587543E-3,11.027731828441233,1,"00:00:00",0.98050426001351498]
[null,null,{"$f":"'Monthly Prices'!A800","v":0},"2026-01-01",793,{"$f":"AND(E812>='Prices for Graph'!$M$4,L812)","v":true},{"$f":"AND(E812<='Prices for Graph'!$M$5,O812)","v":false},false,{"$error":"#N/A"},{"$f":"INDEX('Monthly Prices'!B800:CB800,'Prices for Graph'!$G$4)","v":0},{"$f":"IF(H812,INDEX('Monthly Prices'!B800:CB800,$G$4)*U812,FALSE)","v":false},true,{"$f":"INDEX('Monthly Prices'!B800:CB800,'Prices for Graph'!$G$5)","v":0},{"$f":"IF(H812,INDEX('Monthly Prices'!B800:CB800,$G$5)*U812,FALSE)","v":false},false,2026,{"$f":"'Monthly Prices'!B800","v":0},0,{"$f":"_xlfn.XLOOKUP(P812,'Annual Real'!A:A,'Annual Real'!B:B,0,0)","v":0},0.97857571403860899,0.97857571403860899,false,false,2.3907250000000001E-2,1.9707682780587543E-3,11.049464932507664,1,"00:00:00",0.97857571403860899]
[null,null,{"$f":"'Monthly Prices'!A801","v":0},"2026-02-01",794,{"$f":"AND(E813>='Prices for Graph'!$M$4,L813)","v":true},{"$f":"AND(E813<='Prices for Graph'!$M$5,O813)","v":false},false,{"$error":"#N/A"},{"$f":"INDEX('Monthly Prices'!B801:CB801,'Prices for Graph'!$G$4)","v":0},{"$f":"IF(H813,INDEX('Monthly Prices'!B801:CB801,$G$4)*U813,FALSE)","v":false},true,{"$f":"INDEX('Monthly Prices'!B801:CB801,'Prices for Graph'!$G$5)","v":0},{"$f":"IF(H813,INDEX('Monthly Prices'!B801:CB801,$G$5)*U813,FALSE)","v":false},false,2026,{"$f":"'Monthly Prices'!B801","v":0},0,{"$f":"_xlfn.XLOOKUP(P813,'Annual Real'!A:A,'Annual Real'!B:B,0,0)","v":0},0.9766509613053328,0.9766509613053328,false,false,2.3907250000000001E-2,1.9707682780587543E-3,11.071240867486173,1,"00:00:00",0.9766509613053328]
[null,null,{"$f":"'Monthly Prices'!A802","v":0},"2026-03-01",795,{"$f":"AND(E814>='Prices for Graph'!$M$4,L814)","v":true},{"$f":"AND(E814<='Prices for Graph'!$M$5,O814)","v":false},false,{"$error":"#N/A"},{"$f":"INDEX('Monthly Prices'!B802:CB802,'Prices for Graph'!$G$4)","v":0},{"$f":"IF(H814,INDEX('Monthly Prices'!B802:CB802,$G$4)*U814,FALSE)","v":false},true,{"$f":"INDEX('Monthly Prices'!B802:CB802,'Prices for Graph'!$G$5)","v":0},{"$f":"IF(H814,INDEX('Monthly Prices'!B802:CB802,$G$5)*U814,FALSE)","v":false},false,2026,{"$f":"'Monthly Prices'!B802","v":0},0,{"$f":"_xlfn.XLOOKUP(P814,'Annual Real'!A:A,'Annual Real'!B:B,0,0)","v":0},0.97472999435278995,0.97472999435278995,false,false,2.3907250000000001E-2,1.9707682780587543E-3,11.093059717786563,1,"00:00:00",0.97472999435278995]
[null,null,{"$f":"'Monthly Prices'!A803","v":0},"2026-04-01",796,{"$f":"AND(E815>='Prices for Graph'!$M$4,L815)","v":true},{"$f":"AND(E815<='Prices for Graph'!$M$5,O815)","v":false},false,{"$error":"#N/A"},{"$f":"INDEX('Monthly Prices'!B803:CB803,'Prices for Graph'!$G$4)","v":0},{"$f":"IF(H815,INDEX('Monthly Prices'!B803:CB803,$G$4)*U815,FALSE)","v":false},true,{"$f":"INDEX('Monthly Prices'!B803:CB803,'Prices for Graph'!$G$5)","v":0},{"$f":"IF(H815,INDEX('Monthly Prices'!B803:CB803,$G$5)*U815,FALSE)","v":false},false,2026,{"$f":"'Monthly Prices'!B803","v":0},0,{"$f":"_xlfn.XLOOKUP(P815,'Annual Real'!A:A,'Annual Real'!B:B,0,0)","v":0},0.97281280573475859,0.97281280573475859,false,false,2.3907250000000001E-2,1.9707682780587543E-3,11.114921567984988,1,"00:00:00",0.97281280573475859]

{"sheet":"Monthly Prices","index":4,"n_rows":789,"n_cols":72,"rows_kept":789,"cut":false,"hidden":false,"merged":[]}
["World Bank Commodity Price Data (The Pink Sheet)"]
["monthly prices in nominal US dollars, 1960 to present"]
["(monthly series are available only in nominal US dollars)"]
["Updated on April 02, 2025"]
[null,"Crude oil, average","Crude oil, Brent","Crude oil, Dubai","Crude oil, WTI","Coal, Australian","Coal, South African **","Natural gas, US","Natural gas, Europe","Liquefied natural gas, Japan","Natural gas index","Cocoa","Coffee, Arabica","Coffee, Robusta","Tea, avg 3 auctions","Tea, Colombo","Tea, Kolkata","Tea, Mombasa","Coconut oil","Groundnuts","Fish meal","Groundnut oil **","Palm oil","Palm kernel oil","Soybeans","Soybean oil","Soybean meal","Rapeseed oil","Sunflower oil","Barley","Maize","Sorghum","Rice, Thai 5% ","Rice, Thai 25% ","Rice, Thai A.1","Rice, Viet Namese 5%","Wheat, US SRW","Wheat, US HRW","Banana, Europe","Banana, US","Orange","Beef **","Chicken **","Lamb **","Shrimps, Mexican","Sugar, EU","Sugar, US","Sugar, world","Tobacco, US import u.v.","Logs, Cameroon","Logs, Malaysian","Sawnwood, Cameroon","Sawnwood, Malaysian","Plywood","Cotton, A Index","Rubber, TSR20 **","Rubber, RSS3","Phosphate rock","DAP","TSP","Urea ","Potassium chloride **","Aluminum","Iron ore, cfr spot","Copper","Lead","Tin","Nickel","Zinc","Gold","Platinum","Silver"]
[null,"($/bbl)","($/bbl)","($/bbl)","($/bbl)","($/mt)","($/mt)","($/mmbtu)","($/mmbtu)","($/mmbtu)","(2010=100)","($/kg)","($/kg)","($/kg)","($/kg)","($/kg)","($/kg)","($/kg)","($/mt)","($/mt)","($/mt)","($/mt)","($/mt)","($/mt)","($/mt)","($/mt)","($/mt)","($/mt)","($/mt)","($/mt)","($/mt)","($/mt)","($/mt)","($/mt)","($/mt)","($/mt)","($/mt)","($/mt)","($/kg)","($/kg)","($/kg)","($/kg)","($/kg)","($/kg)","($/kg)","($/kg)","($/kg)","($/kg)","($/mt)","($/cubic meter)","($/cubic meter)","($/cubic meter)","($/cubic meter)","(cents/sheet)","($/kg)","($/kg)","($/kg)","($/mt)","($/mt)","($/mt)","($/mt)","($/mt)","($/mt)","($/dmtu)","($/mt)","($/mt)","($/mt)","($/mt)","($/mt)","($/troy oz)","($/troy oz)","($/troy oz)"]
["1960M01",1.63000011444,1.63000011444,1.63000011444,"…","…","…",0.14000000000000001,0.40477399635,"…","…",0.63400000000000001,0.94089999999999996,0.69686429999999999,1.0297000000000001,0.93030089999999999,1.1214010000000001,1.0374000000000001,390,"…","…",334,233,"…",94,204,91.9,"…","…",20.364800394620001,45,39,104.45,"…","…","…","…",59.89,"…",0.14308000000000001,0.11509999999999999,0.70550000000000002,0.29736879193999999,"…",1.433003,0.12235641,0.11684485999999999,6.6600000000000006E-2,1736.87,"…",31.94,"…",149.17497836621001,"…",0.64859999999999995,"…",0.82230000000000003,13,"...",53,42.25,28.5,511.47183227539,11.42,715.4,206.1,2180.4,1631,260.8,35.270000000000003,83.5,0.91369999999999996]
["1960M02",1.63000011444,1.63000011444,1.63000011444,"…","…","…",0.14000000000000001,0.40477399635,"…","…",0.60799999999999998,0.94689999999999996,0.68870739999999997,1.0297000000000001,0.93030089999999999,1.1214010000000001,1.0374000000000001,379,"…","…",341,229,"…",91,201,86.7,"…","…",20.41046354993,44,39,103.54,"…","…","…","…",60.99,"…",0.14308000000000001,0.10920000000000001,0.71209999999999996,0.29742454679000002,"…",1.4991416,0.12235641,0.11904948,6.7900000000000002E-2,1736.87,"…",31.94,"…",149.17497836621001,"…",0.64529999999999998,"…",0.82889999999999997,13,"...",53,42.25,28.5,511.47183227539,11.42,728.19,203.7,2180.4,1631,244.9,35.270000000000003,83.5,0.91369999999999996]
["1960M03",1.63000011444,1.63000011444,1.63000011444,"…","…","…",0.14000000000000001,0.40477399635,"…","…",0.57889999999999997,0.92810000000000004,0.68870739999999997,1.0297000000000001,0.93030089999999999,1.1214010000000001,1.0374000000000001,361,"…","…",338,225,"…",92,201,84.1,"…","…",20.718174862910001,45,35,103.79,"…","…","…","…",61.73,"…",0.14308000000000001,0.13189999999999999,0.76939999999999997,0.29783404399000002,"…",1.4991416,0.12235641,0.1212541,6.83E-2,1736.87,"…",31.94,"…",149.17497836621001,"…",0.64639999999999997,"…",0.85760000000000003,13,"...",53,42.25,28.5,511.47183227539,11.42,684.94,210.3,2173.8000000000002,1631,248.7,35.270000000000003,83.5,0.91369999999999996]
["1960M04",1.63000011444,1.63000011444,1.63000011444,"…","…","…",0.14000000000000001,0.40477399635,"…","…",0.59830000000000005,0.93030000000000002,0.68451870000000004,1.0297000000000001,0.93030089999999999,1.1214010000000001,1.0374000000000001,338,"…","…",333,225,"…",93,207,86.7,"…","…",20.638036355250001,45,35,100.97,"…","…","…","…",60.99,"…",0.14308000000000001,0.1363,0.83779999999999999,0.29902148269000001,"…",1.6755112000000001,0.12235641,0.12345871999999999,6.8099999999999994E-2,1736.87,"…",31.94,"…",149.17497836621001,"…",0.64349999999999996,"…",0.86419999999999997,13,"...",53,42.25,28.5,511.47183227539,11.42,723.11,213.6,2178.1999999999998,1631,254.6,35.270000000000003,83.5,0.91369999999999996]
["1960M05",1.63000011444,1.63000011444,1.63000011444,"…","…","…",0.14000000000000001,0.40477399635,"…","…",0.60009999999999997,0.92,0.69069150000000001,1.0297000000000001,0.93030089999999999,1.1214010000000001,1.0374000000000001,321,"…","…",335,225,"…",93,209,81.5,"…","…",20.606055828519999,48,35,102.15,"…","…","…","…",57.69,"…",0.14899999999999999,0.1444,0.75619999999999998,0.29903147753999998,"…",1.7636959999999999,0.12235641,0.1212541,6.83E-2,1736.87,"…",31.94,"…",149.17497836621001,"…",0.64680000000000004,"…",0.92810000000000004,13,"...",53,42.25,28.5,511.47183227539,11.42,684.75,213.4,2162.6999999999998,1631,253.8,35.270000000000003,83.5,0.91369999999999996]
["1960M06",1.63000011444,1.63000011444,1.63000011444,"…","…","…",0.14000000000000001,0.40477399635,"…","…",0.59440000000000004,0.9123,0.69686429999999999,1.0297000000000001,0.93030089999999999,1.1214010000000001,1.0374000000000001,287,"…","…",334,219,"…",91,218,80.3,"…","…",20.126535821000001,47,36,103.13,"…","…","…","…",55.48,"…",0.14899999999999999,0.13850000000000001,0.7077,0.29964312136999999,"…",1.7636959999999999,0.12235641,0.12566334000000001,6.6600000000000006E-2,1736.87,"…",31.94,"…",149.17497836621001,"…",0.65590000000000004,"…",0.89290000000000003,13,"...",53,42.25,28.5,511.47183227539,11.42,691.59,202.4,2184.8000000000002,1631,249.8,35.270000000000003,83.5,0.91369999999999996]
["1960M07",1.63000011444,1.63000011444,1.63000011444,"…","…","…",0.14000000000000001,0.40477399635,"…","…",0.60450000000000004,0.91600000000000004,0.69069150000000001,1.0297000000000001,0.93030089999999999,1.1214010000000001,1.0374000000000001,298,"…","…",336,221,"…",92,224,77.7,"…","…",20.037785748379999,47,39.9,102.05,"…","…","…","…",54.75,"…",0.14899999999999999,0.12920000000000001,0.74739999999999995,0.30002403052999999,"…",1.7416498,0.12235641,0.13227720000000001,7.2800000000000004E-2,1736.87,"…",31.94,"…",149.17497836621001,"…",0.65720000000000001,"…",0.78700000000000003,13,"...",53,42.25,28.5,511.47183227539,11.42,702.39,196.2,2248.6999999999998,1631,248.7,35.270000000000003,83.5,0.91369999999999996]
["1960M08",1.63000011444,1.63000011444,1.63000011444,"…","…","…",0.14000000000000001,0.40477399635,"…","…",0.58819999999999995,0.92920000000000003,0.69884840000000004,1.0297000000000001,0.93030089999999999,1.1214010000000001,1.0374000000000001,292,"…","…",336,225,"…",93,237,77.7,"…","…",20.133178932290001,47,39,109.71,"…","…","…","…",55.12,"…",0.12698999999999999,0.12920000000000001,0.78259999999999996,0.30082839881000001,"…",1.5873264,0.12235641,0.12786796,7.4099999999999999E-2,1736.87,"…",31.94,"…",149.17497836621001,"…",0.65339999999999998,"…",0.72089999999999999,13,"...",53,42.25,28.5,511.47183227539,11.42,675.94,195.3,2204.6,1631,241,35.270000000000003,83.5,0.91369999999999996]
["1960M09",1.63000011444,1.63000011444,1.63000011444,"…","…","…",0.14000000000000001,0.40477399635,"…","…",0.5827,0.92259999999999998,0.70281660000000001,1.0297000000000001,0.93030089999999999,1.1214010000000001,1.0374000000000001,276,"…","…",323,224,"…",92,231,82.8,"…","…",20.260414622950002,46,35,116.1,"…","…","…","…",56.59,"…",0.13800000000000001,0.12920000000000001,0.80910000000000004,0.30245576462000001,"…",1.5211878000000001,0.12235641,0.13227720000000001,7.2499999999999995E-2,1736.87,"…",31.94,"…",149.17497836621001,"…",0.66180000000000005,"…",0.72750000000000004,13,"...",53,42.25,28.5,511.47183227539,11.42,647.05999999999995,192.7,2226.6999999999998,1631,240.1,35.270000000000003,83.5,0.91369999999999996]
["1960M10",1.63000011444,1.63000011444,1.63000011444,"…","…","…",0.14000000000000001,0.40477399635,"…","…",0.58579999999999999,0.92369999999999997,0.70678490000000005,1.0297000000000001,0.93030089999999999,1.1214010000000001,1.0374000000000001,280,"…","…",310,222,"…",88,237,75.099999999999994,"…","…",19.722910320699999,42,35,115.21,"…","…","…","…",56.95,"…",0.15409999999999999,0.12920000000000001,0.70989999999999998,0.30200390083,"…",1.6314188000000001,0.12235641,0.13007257999999999,5.3800000000000001E-2,1736.87,"…",31.94,"…",149.17497836621001,"…",0.66559999999999997,"…",0.68559999999999999,13,"...",53,42.25,28.5,511.47183227539,11.42,612.66,185.2,2226.6999999999998,1631,242.3,35.270000000000003,83.5,0.91369999999999996]
["1960M11",1.63000011444,1.63000011444,1.63000011444,"…","…","…",0.14000000000000001,0.40477399635,"…","…",0.56950000000000001,0.91159999999999997,0.70898950000000005,1.0297000000000001,0.93030089999999999,1.1214010000000001,1.0374000000000001,274,"…","…",303,222,"…",90,259,68.599999999999994,"…","…",19.19704754548,38,35,114.43,"…","…","…","…",57.69,"…",0.127,0.14879999999999999,0.63490000000000002,0.30164398589000002,"…",1.6314188000000001,0.12235641,0.13007257999999999,5.1999999999999998E-2,1736.87,"…",31.94,"…",149.17497836621001,"…",0.66510000000000002,"…",0.62829999999999997,13,"...",53,42.25,28.5,511.47183227539,11.42,642.13,188.1,2204.6,1631,241.4,35.270000000000003,83.5,0.91369999999999996]
["1960M12",1.63000011444,1.63000011444,1.63000011444,"…","…","…",0.14000000000000001,0.40477399635,"…","…",0.52380000000000004,0.90059999999999996,0.69686429999999999,1.0297000000000001,0.93030089999999999,1.1214010000000001,1.0374000000000001,252,"…","…",301,223,"…",93,259,79,"…","…",19.62896467785,40,36,112.66,"…","…","…","…",58.05,"…",0.14899999999999999,0.1188,0.66579999999999995,0.30428324670000001,"…",1.5211878000000001,0.12235641,0.13007257999999999,6.3500000000000001E-2,1736.87,"…",31.94,"…",149.17497836621001,"…",0.66490000000000005,"…",0.61950000000000005,13,"...",53,42.25,28.5,511.47183227539,11.42,636.91,179.2,2189.1999999999998,1631,228.2,35.270000000000003,83.5,0.91369999999999996]
["1961M01",1.57,1.57,1.57,"…","…","…",0.15,0.40477399635,"…","…",0.48499999999999999,0.91449999999999998,0.67658229999999997,0.95179999999999998,0.89250090000000004,0.97860100000000005,0.98419959999999995,269,"…","…",331,223,"…",102,278,85.4,"…","…",20.276955512939999,43,38,113.47,"…","…","…","…",58.79,"…",0.127,0.1143,0.6371,0.30611670552999998,"…",1.5211878000000001,0.124340568,0.12786796,6.4600000000000005E-2,1563.19,"…",33.06,"…",151.97728078764999,"…",0.66359999999999997,"…",0.59970000000000001,13,"...",52,42.25,30,511.47183227539,11.02,606.71,175.9,2162.6999999999998,1711,218,35.25,83.5,0.91369999999999996]
["1961M02",1.57,1.57,1.57,"…","…","…",0.15,0.40477399635,"…","…",0.48809999999999998,0.91669999999999996,0.67658229999999997,0.95179999999999998,0.89250090000000004,0.97860100000000005,0.98419959999999995,281,"…","…",349,228,"…",114,303,94.6,"…","…",20.531742813849998,44,39,109.52,"…","…","…","…",59.16,"…",0.127,0.1116,0.63929999999999998,0.30827661225000003,"…",1.543234,0.124340568,0.12566334000000001,6.2600000000000003E-2,1563.19,"…",33.06,"…",151.97728078764999,"…",0.6784,"…",0.57540000000000002,13,"...",52,42.25,30,511.47183227539,11.02,616.63,179.9,2187,1711,228.2,35.25,83.5,0.91369999999999996]
["1961M03",1.57,1.57,1.57,"…","…","…",0.15,0.40477399635,"…","…",0.45810000000000001,0.91049999999999998,0.66842539999999995,0.95179999999999998,0.89250090000000004,0.97860100000000005,0.98419959999999995,276,"…","…",373,231,"…",121,311,98.5,"…","…",20.387849192800001,44,39,117.65,"…","…","…","…",58.05,"…",0.14308000000000001,0.12379999999999999,0.78259999999999996,0.30963119519999999,"…",1.5211878000000001,0.124340568,0.12345871999999999,6.2600000000000003E-2,1563.19,"…",33.06,"…",151.97728078764999,"…",0.67479999999999996,"…",0.61509999999999998,13,"...",52,42.25,30,511.47183227539,11.02,621.26,181.7,2248.6999999999998,1711,233.2,35.25,83.5,0.91369999999999996]
["1961M04",1.57,1.57,1.57,"…","…","…",0.15,0.40477399635,"…","…",0.43540000000000001,0.90169999999999995,0.66445719999999997,0.95179999999999998,0.89250090000000004,0.97860100000000005,0.98419959999999995,269,"…","…",369,233,"…",129,322,110.7,"…","…",20.142683211790001,43,38,115.17,"…","…","…","…",57.32,"…",0.14308000000000001,0.1293,0.70989999999999998,0.31200864933,"…",1.5211878000000001,0.124340568,0.12345871999999999,6.6799999999999998E-2,1563.19,"…",33.06,"…",151.97728078764999,"…",0.67259999999999998,"…",0.63929999999999998,13,"...",52,42.25,30,511.47183227539,11.02,631.84,185,2308.1999999999998,1711,231.3,35.25,83.5,0.91369999999999996]
["1961M05",1.57,1.57,1.57,"…","…","…",0.15,0.40477399635,"…","…",0.48480000000000001,0.89290000000000003,0.66225259999999997,0.95179999999999998,0.89250090000000004,0.97860100000000005,0.98419959999999995,258,"…","…",352,234,"…",122,314,109.1,"…","…",20.25290293794,45,42,119.42,"…","…","…","…",55.85,"…",0.129,0.1293,0.6371,0.31264425820000002,"…",1.4991416,0.124340568,0.13007257999999999,7.0300000000000001E-2,1563.19,"…",33.06,"…",151.97728078764999,"…",0.67810000000000004,"…",0.64370000000000005,13,"...",52,42.25,30,511.47183227539,11.02,668.44,183.6,2376.6,1711,227.1,35.25,83.5,0.91369999999999996]
["1961M06",1.57,1.57,1.57,"…","…","…",0.15,0.40477399635,"…","…",0.49070000000000003,0.8891,0.66644119999999996,0.95179999999999998,0.89250090000000004,0.97860100000000005,0.98419959999999995,243,"…","…",330,233,"…",114,295,98.5,"…","…",19.884612191519999,44,45,121.4,"…","…","…","…",54.38,"…",0.121,0.19320000000000001,0.67679999999999996,0.31210954492999998,"…",1.5211878000000001,0.124340568,0.13007257999999999,6.5500000000000003E-2,1563.19,"…",33.06,"…",151.97728078764999,"…",0.6764,"…",0.60629999999999995,13,"...",52,42.25,30,511.47183227539,11.02,652.12,178.4,2467,1711,217.8,35.25,83.5,0.91369999999999996]
["1961M07",1.57,1.57,1.57,"…","…","…",0.15,0.40477399635,"…","…",0.4753,0.89290000000000003,0.66842539999999995,0.95179999999999998,0.89250090000000004,0.97860100000000005,0.98419959999999995,245,"…","…",328,229,"…",112,282,99.9,"…","…",20.443309274600001,45,45,123.41,"…","…","…","…",56.59,"…",0.13200000000000001,0.13300000000000001,0.66800000000000004,0.31312891829,"…",1.5652801999999999,0.124340568,0.12786796,6.0900000000000003E-2,1563.19,"…",33.06,"…",151.97728078764999,"…",0.67569999999999997,"…",0.60850000000000004,13,"...",52,42.25,30,511.47183227539,11.02,633.39,178.8,2519.9,1711,214.7,35.25,83.5,0.91369999999999996]
["1961M08",1.57,1.57,1.57,"…","…","…",0.15,0.40477399635,"…","…",0.47949999999999998,0.89349999999999996,0.66842539999999995,0.95179999999999998,0.89250090000000004,0.97860100000000005,0.98419959999999995,248,"…","…",321,226,"…",101,276,102.5,"…","…",20.67747910456,44,44,119.63,"…","…","…","…",58.79,"…",0.13200000000000001,0.13300000000000001,0.69450000000000001,0.31430717108,"…",1.8077884,0.124340568,0.1212541,5.3600000000000002E-2,1563.19,"…",33.06,"…",151.97728078764999,"…",0.67169999999999996,"…",0.61509999999999998,13,"...",52,42.25,30,511.47183227539,11.02,636.47,178.4,2605.9,1711,210.8,35.25,83.5,0.91369999999999996]
["1961M09",1.57,1.57,1.57,"…","…","…",0.15,0.40477399635,"…","…",0.46500000000000002,0.8891,0.67239360000000004,0.95179999999999998,0.89250090000000004,0.97860100000000005,0.98419959999999995,243,"…","…",301,226,"…",98,267,92,"…","…",20.72334962931,43,45,118.99,"…","…","…","…",59.89,"…",0.1459,0.13300000000000001,0.70550000000000002,0.31369094446000001,"…",1.8959732,0.124340568,0.1212541,5.4199999999999998E-2,1563.19,"…",33.06,"…",151.97728078764999,"…",0.67369999999999997,"…",0.61729999999999996,13,"...",52,42.25,30,511.47183227539,11.02,632.72,176.4,2630.1,1711,203.7,35.25,83.5,0.91369999999999996]
["1961M10",1.57,1.57,1.57,"…","…","…",0.15,0.40477399635,"…","…",0.46029999999999999,0.88519999999999999,0.67239360000000004,0.95179999999999998,0.89250090000000004,0.97860100000000005,0.98419959999999995,236,"…","…",293,226,"…",98,270,86.7,"…","…",21.567326153780002,47.64,40,120.32,"…","…","…","…",60.26,"…",0.13200000000000001,0.13300000000000001,0.67459999999999998,0.31372890514000001,"…",1.9400656000000001,0.124340568,0.12345871999999999,5.2699999999999997E-2,1563.19,"…",33.06,"…",151.97728078764999,"…",0.6764,"…",0.59299999999999997,13,"...",52,42.25,30,511.47183227539,11.02,630.29999999999995,172.5,2605.9,1711,198.2,35.25,83.5,0.91369999999999996]
["1961M11",1.57,1.57,1.57,"…","…","…",0.15,0.40477399635,"…","…",0.48080000000000001,0.88300000000000001,0.67040949999999999,0.95179999999999998,0.89250090000000004,0.97860100000000005,0.98419959999999995,236,"…","…",297,226,"…",100,265,92,"…","…",21.96639030907,48.42,41,128.32,"…","…","…","…",61.73,"…",0.14899999999999999,0.1565,0.6371,0.31536261584000003,"…",1.9621118,0.124340568,0.12566334000000001,5.0900000000000001E-2,1563.19,"…",33.06,"…",151.97728078764999,"…",0.6643,"…",0.5423,13,"...",52,42.25,30,511.47183227539,11.02,632.28,166.4,2667.6,1711,191.8,35.25,83.5,0.92310000000000003]
["1961M12",1.57,1.57,1.57,"…","…","…",0.15,0.40477399635,"…","…",0.53969999999999996,0.87739999999999996,0.66644119999999996,0.95179999999999998,0.89250090000000004,0.97860100000000005,0.98419959999999995,237,"…","…",319,226,"…",101,265,93,"…","…",22.121876896629999,48.42,41,120.1,"…","…","…","…",62.46,"…",0.13800000000000001,0.1061,0.72089999999999999,0.31634795408999999,"…",2.0282504000000001,0.124340568,0.12786796,4.87E-2,1563.19,"…",33.06,"…",151.97728078764999,"…",0.66049999999999998,"…",0.56000000000000005,13,"...",52,42.25,30,511.47183227539,11.02,634.85,166.7,2619.1,1711,196.9,35.25,83.5,1.0331999999999999]
["1962M01",1.52,1.52,1.52,"…","…","…",0.16,0.40477399635,"…","…",0.45879999999999999,0.87739999999999996,0.66842539999999995,0.97299999999999998,0.86100089999999996,1.1046009999999999,0.95339960000000001,246.9,"…","…",327.94,235.89,"…",101.41,265,80.2,"…","…",21.797246652470001,48.03,44.53,117.79,"…","…","…","…",60.63,"…",0.13100000000000001,0.10100000000000001,0.76280000000000003,0.31518829480999999,"…",2.0282504000000001,0.126324726,0.12786796,4.65E-2,1404.9,"…",36.39,"…",160.06096878503001,"…",0.65980000000000005,"…",0.57540000000000002,11.5,"...",51,42.25,30,511.47183227539,11.01,635.37,162.9,2610.3000000000002,1761,193.6,35.229999999999997,83.5,1.0427999999999999]
["1962M02",1.52,1.52,1.52,"…","…","…",0.16,0.40477399635,"…","…",0.4945,0.877,0.66842539999999995,0.97299999999999998,0.86100089999999996,1.1046009999999999,0.95339960000000001,248.6,"…","…",299.27999999999997,237,"…",100.59,259,77.900000000000006,"…","…",21.95367181692,48.03,44.53,119.18,"…","…","…","…",61.36,"…",0.13600000000000001,0.1031,0.75839999999999996,0.31533553019999999,"…",2.0723427999999999,0.126324726,0.12786796,4.9799999999999997E-2,1404.9,"…",36.39,"…",160.06096878503001,"…",0.66310000000000002,"…",0.59519999999999995,11.5,"...",51,42.25,30,504.85797119141,11.01,647.94000000000005,161.9,2623.5,1761,189.6,35.229999999999997,83.5,1.0246999999999999]
["1962M03",1.52,1.52,1.52,"…","…","…",0.16,0.40477399635,"…","…",0.44140000000000001,0.8609,0.67040949999999999,0.97299999999999998,0.86100089999999996,1.1046009999999999,0.95339960000000001,250.8,"…","…",290.73,223.22,"…",102.79,256,82.5,"…","…",22.17561032843,48.82,45.64,123.75,"…","…","…","…",61.73,"…",0.14899999999999999,0.1072,0.70550000000000002,0.31665114792999999,"…",2.0723427999999999,0.126324726,0.12786796,5.5800000000000002E-2,1404.9,"…",36.39,"…",160.06096878503001,"…",0.66339999999999999,"…",0.57540000000000002,11.5,"...",51,42.25,30,496.03948974609,11.01,647.5,167.1,2652.2,1761,191.4,35.229999999999997,83.5,1.0149999999999999]
["1962M04",1.52,1.52,1.52,"…","…","…",0.16,0.40477399635,"…","…",0.4647,0.84660000000000002,0.67437769999999997,0.97299999999999998,0.86100089999999996,1.1046009999999999,0.95339960000000001,260.7,"…","…",281.64,220.46,"…",104.44,254,83.7,"…","…",22.27341882951,48.82,46.52,130.84,"…","…","…","…",62.1,"…",0.1459,0.1024,0.65480000000000005,0.31738923354999998,"…",2.0943890000000001,0.126324726,0.12786796,5.7099999999999998E-2,1404.9,"…",36.39,"…",160.06096878503001,"…",0.65980000000000005,"…",0.56659999999999999,11.5,"...",51,42.25,30,496.03948974609,11.01,645.95000000000005,166.7,2614.6999999999998,1761,191.4,35.229999999999997,83.5,1.0149999999999999]
["1962M05",1.52,1.52,1.52,"…","…","…",0.16,0.40477399635,"…","…",0.46539999999999998,0.8256,0.67239360000000004,0.97299999999999998,0.86100089999999996,1.1046009999999999,0.95339960000000001,253.3,"…","…",270.33999999999997,219.08,"…",103.62,234,85.9,"…","…",22.675147729230002,49.6,47.18,149.13999999999999,"…","…","…","…",63.57,"…",0.13689999999999999,0.1017,0.72970000000000002,0.31828552760000001,"…",2.1605276,0.126324726,0.12786796,5.5300000000000002E-2,1404.9,"…",36.39,"…",160.06096878503001,"…",0.65980000000000005,"…",0.56440000000000001,11.5,"...",51,42.25,30,496.03948974609,11.01,645.73,164.9,2533.1,1761,188.5,35.229999999999997,83.5,1.0149999999999999]
["1962M06",1.52,1.52,1.52,"…","…","…",0.16,0.40477399635,"…","…",0.47289999999999999,0.80469999999999997,0.67239360000000004,0.97299999999999998,0.86100089999999996,1.1046009999999999,0.95339960000000001,239.5,"…","…",264.58999999999997,216.33,"…",102.24,215,89.4,"…","…",22.832105960450001,49.6,47.18,144.11000000000001,"…","…","…","…",64.3,"…",0.1239,0.1038,0.7893,0.31937532361999998,"…",2.2707586000000002,0.126324726,0.12786796,5.62E-2,1404.9,"…",36.39,"…",160.06096878503001,"…",0.65720000000000001,"…",0.54010000000000002,11.5,"...",51,42.25,30,496.03948974609,11.01,645.51,159,2414.1,1761,184.7,35.229999999999997,83.5,1.0226999999999999]
["1962M07",1.52,1.52,1.52,"…","…","…",0.16,0.40477399635,"…","…",0.46100000000000002,0.81310000000000004,0.67658229999999997,0.97299999999999998,0.86100089999999996,1.1046009999999999,0.95339960000000001,240.3,"…","…",266.76,212.75,"…",100.86,198,91.7,"…","…",22.922736732760001,48.82,44.34,144.22,"…","…","…","…",65.400000000000006,"…",0.11508,0.108,0.75619999999999998,0.32026978996,"…",2.2707586000000002,0.126324726,0.12786796,6.2100000000000002E-2,1404.9,"…",36.39,"…",160.06096878503001,"…",0.64900000000000002,"…",0.54669999999999996,11.5,"...",51,42.25,30,496.03948974609,11.01,645.51,148.4,2376.6,1761,182.1,35.229999999999997,83.5,1.0355000000000001]
["1962M08",1.52,1.52,1.52,"…","…","…",0.16,0.40477399635,"…","…",0.45879999999999999,0.81899999999999995,0.68451870000000004,0.97299999999999998,0.86100089999999996,1.1046009999999999,0.95339960000000001,244.7,"…","…",265.10000000000002,209.16,"…",95.35,198,94,"…","…",22.87706753977,47.24,42.55,142.91999999999999,"…","…","…","…",66.510000000000005,"…",0.11509999999999999,0.108,0.74519999999999997,0.32115812178999997,"…",2.3809895999999999,0.126324726,0.13007257999999999,6.4600000000000005E-2,1404.9,"…",36.39,"…",160.06096878503001,"…",0.63870000000000005,"…",0.53129999999999999,11.5,"...",51,42.25,30,496.03948974609,11.01,645.51,140.69999999999999,2350.1,1761,178.1,35.229999999999997,83.5,1.083]
["1962M09",1.52,1.52,1.52,"…","…","…",0.16,0.40477399635,"…","…",0.45,0.8256,0.69465969999999999,0.97299999999999998,0.86100089999999996,1.1046009999999999,0.95339960000000001,246.6,"…","…",268.69,205.3,"…",95.35,198,102,"…","…",22.864260300200002,47.64,42.55,140.63999999999999,"…","…","…","…",65.77,"…",0.11899999999999999,0.108,0.80030000000000001,0.322833288,"…",2.5353129999999999,0.126324726,0.12786796,6.2600000000000003E-2,1404.9,"…",36.39,"…",160.06096878503001,"…",0.627,"…",0.54010000000000002,11.5,"...",51,42.25,30,496.03948974609,11.01,645.51,143.1,2350.1,1761,176.6,35.229999999999997,83.5,1.1546000000000001]
["1962M10",1.52,1.52,1.52,"…","…","…",0.16,0.40477399635,"…","…",0.4365,0.81089999999999995,0.69465969999999999,0.97299999999999998,0.86100089999999996,1.1046009999999999,0.95339960000000001,253.5,"…","…",251.6,196.76,"…",97,212,92.8,"…","…",22.66588606885,47.64,42.77,142.94999999999999,"…","…","…","…",64.3,"…",0.1239,0.108,0.67679999999999996,0.32208198892000001,"…",2.4912206000000001,0.126324726,0.13007257999999999,6.6600000000000006E-2,1404.9,"…",36.39,"…",160.06096878503001,"…",0.62660000000000005,"…",0.56879999999999997,11.5,"...",51,42.25,30,496.03948974609,11.01,645.95000000000005,146.19999999999999,2358.9,1761,181.9,35.229999999999997,83.5,1.206]
["1962M11",1.52,1.52,1.52,"…","…","…",0.16,0.40477399635,"…","…",0.43830000000000002,0.81240000000000001,0.69267570000000001,0.97299999999999998,0.86100089999999996,1.1046009999999999,0.95339960000000001,257.39999999999998,"…","…",251.05,208.06,"…",100.59,220,94,"…","…",23.537040897090002,48.42,43.43,142.5,"…","…","…","…",68.709999999999994,"…",0.14990000000000001,0.14460000000000001,0.58860000000000001,0.32281075629,"…",2.3809895999999999,0.126324726,0.12786796,7.5399999999999995E-2,1404.9,"…",36.39,"…",160.06096878503001,"…",0.63449999999999995,"…",0.5776,11.5,"...",51,42.25,30,496.03948974609,11.01,645.51,149.69999999999999,2407.4,1761,188.5,35.229999999999997,83.5,1.1917]
["1962M12",1.52,1.52,1.52,"…","…","…",0.16,0.40477399635,"…","…",0.45329999999999998,0.81789999999999996,0.7169259,0.97299999999999998,0.86100089999999996,1.1046009999999999,0.95339960000000001,272.3,"…","…",254.36,210.82,"…",102.24,215,94,"…","…",23.85507759379,51.18,45.19,121.07,"…","…","…","…",67.61,"…",0.13100000000000001,0.1003,0.60189999999999999,0.32336352213000003,"…",2.2707586000000002,0.126324726,0.13007257999999999,8.8200000000000001E-2,1404.9,"…",36.39,"…",160.06096878503001,"…",0.65300000000000002,"…",0.58199999999999996,11.5,"...",51,42.25,30,496.03948974609,11.01,645.73,152.80000000000001,2365.6,1761,184.7,35.229999999999997,83.5,1.1987000000000001]
["1963M01",1.5,1.5,1.5,"…","…","…",0.16,0.39135113794999998,"…","…",0.49909999999999999,0.82669999999999999,0.65211160000000001,0.95289999999999997,0.81480079999999999,1.083601,0.96039960000000002,278.89999999999998,"…","…",261.25,217.71,"…",107.47,223,92.3,"…","…",24.08490904168,52.75,46.52,121.77,"…","…","…","…",67.239999999999995,"…",0.13100000000000001,8.0100000000000005E-2,0.57099999999999995,0.32366461983,"…",2.2928047999999999,0.12676565000000001,0.13448182,0.1157,1343.61,"…",36.67,"…",160.72484756487,"…",0.65810000000000002,"…",0.57320000000000004,11.5,"...",52,42.25,30,496.03948974609,11.02,645.51,149.4,2350.1,1741,186.3,35.090000000000003,83.5,1.2438]
["1963M02",1.5,1.5,1.5,"…","…","…",0.16,0.39135113794999998,"…","…",0.54390000000000005,0.80310000000000004,0.61375210000000002,0.95289999999999997,0.81480079999999999,1.083601,0.96039960000000002,272.5,"…","…",264.83,217.71,"…",109.96,231,92.3,"…","…",24.368774699269999,53.15,47.18,123.35,"…","…","…","…",68.34,"…",0.13100000000000001,8.0600000000000005E-2,0.55559999999999998,0.32448775452,"…",2.2928047999999999,0.12676565000000001,0.13668643999999999,0.1305,1343.61,"…",36.67,"…",160.72484756487,"…",0.65459999999999996,"…",0.56440000000000001,11.5,"...",52,42.25,30,496.03948974609,11.02,645.51,150.6,2350.1,1742,191.6,35.090000000000003,83.5,1.2564]
["1963M03",1.5,1.5,1.5,"…","…","…",0.16,0.39135113794999998,"…","…",0.53180000000000005,0.81089999999999995,0.61573619999999996,0.95289999999999997,0.81480079999999999,1.083601,0.96039960000000002,272.5,"…","…",264.27999999999997,217.71,"…",109.13,229,90.1,"…","…",24.463360895099999,52.36,47.18,123.28,"…","…","…","…",69.45,"…",0.13100000000000001,8.4699999999999998E-2,0.56220000000000003,0.32497767592999999,"…",2.2928047999999999,0.12676565000000001,0.14109568,0.1431,1343.61,"…",36.94,"…",161.36281156287001,"…",0.64949999999999997,"…",0.54449999999999998,11.5,"...",52,42.25,30,496.03948974609,11.02,645.51,153.69999999999999,2358.9,1742,197.5,35.090000000000003,83.5,1.2714000000000001]
["1963M04",1.5,1.5,1.5,"…","…","…",0.16,0.39135113794999998,"…","…",0.56310000000000004,0.80800000000000005,0.61573619999999996,0.95289999999999997,0.81480079999999999,1.083601,0.96039960000000002,278.3,"…","…",261.52,217.71,"…",107.2,229,86.8,"…","…",24.676750106379998,51.97,46.3,122.38,"…","…","…","…",70.92,"…",0.13100000000000001,9.69E-2,0.65039999999999998,0.32528488073,"…",2.2928047999999999,0.12676565000000001,0.16314187999999999,0.16470000000000001,1343.61,"…",36.94,"…",161.36281156287001,"…",0.64219999999999999,"…",0.54900000000000004,11.5,"...",52,42.25,30,496.03948974609,11.02,645.73,159.4,2427.3000000000002,1741,204.4,35.090000000000003,78.5,1.2728999999999999]
["1963M05",1.5,1.5,1.5,"…","…","…",0.16,0.39135113794999998,"…","…",0.60760000000000003,0.79700000000000004,0.61176790000000003,0.95289999999999997,0.81480079999999999,1.083601,0.96039960000000002,279.7,"…","…",268.69,217.71,"…",109.13,231,86.8,"…","…",24.244075698789999,52.36,46.52,123.17,"…","…","…","…",67.61,"…",0.13100000000000001,0.1143,0.69,0.32611213603,"…",2.2266661999999999,0.12676565000000001,0.22487124,0.21909999999999999,1343.61,"…",37.78,"…",163.33399554735999,"…",0.6391,"…",0.54010000000000002,11.5,"...",52,42.25,30,496.03948974609,11.02,645.51,167.1,2495.6,1742,209.4,35.090000000000003,78.5,1.2786999999999999]
["1963M06",1.5,1.5,1.5,"…","…","…",0.16,0.39135113794999998,"…","…",0.56220000000000003,0.79920000000000002,0.61176790000000003,0.95289999999999997,0.81480079999999999,1.083601,0.96039960000000002,282.5,"…","…",274.47000000000003,219.91,"…",108.3,231,90.1,"…","…",23.173049503649999,55.51,48.28,128.13,"…","…","…","…",58.42,"…",0.13100000000000001,0.12039999999999999,0.69,0.32746340893999998,"…",2.2046199999999998,0.12676565000000001,0.17857422000000001,0.21540000000000001,1343.61,"…",37.5,"…",162.67919539459999,"…",0.63890000000000002,"…",0.53129999999999999,11.5,"...",52,42.25,30,496.03948974609,11.02,645.73,179,2500,1742,209.2,35.090000000000003,78.5,1.2767999999999999]
["1963M07",1.5,1.5,1.5,"…","…","…",0.16,0.39135113794999998,"…","…",0.52490000000000003,0.80640000000000001,0.61573619999999996,0.95289999999999997,0.81480079999999999,1.083601,0.96039960000000002,286.3,"…","…",274.47000000000003,221.84,"…",108.58,229,91,"…","…",23.246436737829999,56.69,48.38,130.63,"…","…","…","…",57.69,"…",0.13100000000000001,9.4E-2,0.75619999999999998,0.32843572303000002,"…",2.0282504000000001,0.12676565000000001,0.16314187999999999,0.19750000000000001,1343.61,"…",36.11,"…",159.39473605820001,"…",0.63849999999999996,"…",0.52029999999999998,11.5,"...",52,42.25,30,496.03948974609,11.02,645.51,179.5,2482.4,1741,204.8,35.090000000000003,78.5,1.2899]
["1963M08",1.5,1.5,1.5,"…","…","…",0.16,0.39135113794999998,"…","…",0.52100000000000002,0.80469999999999997,0.61176790000000003,0.95289999999999997,0.81480079999999999,1.083601,0.96039960000000002,291.8,"…","…",264.55,224.6,"…",105.82,207,91,"…","…",23.250049880550002,55.51,47.84,129.86000000000001,"…","…","…","…",58.42,"…",0.16800000000000001,9.4E-2,0.83330000000000004,0.32927099146,"…",1.7196035999999999,0.12676565000000001,0.13227720000000001,0.14130000000000001,1343.61,"…",34.72,"…",156.05158283118001,"…",0.64329999999999998,"…",0.49159999999999998,11.5,"...",52,42.25,30,496.03948974609,11.02,645.51,184.7,2495.6,1742,210.3,35.090000000000003,78.95,1.2878000000000001]
["1963M09",1.5,1.5,1.5,"…","…","…",0.16,0.39135113794999998,"…","…",0.55089999999999995,0.80200000000000005,0.62389309999999998,0.95289999999999997,0.81480079999999999,1.083601,0.96039960000000002,297.60000000000002,"…","…",265.66000000000003,224.6,"…",108.58,204,91,"…","…",23.7462806576,55.9,48.94,130.29,"…","…","…","…",60.63,"…",0.15609999999999999,9.4E-2,0.69669999999999999,0.33010838411999999,"…",1.6755112000000001,0.12676565000000001,0.14991415999999999,0.16070000000000001,1343.61,"…",33.89,"…",154.02590822862999,"…",0.64990000000000003,"…",0.48060000000000003,11.5,"...",52,42.25,30,496.03948974609,11.02,645.51,187,2572.8000000000002,1742,211.2,35.090000000000003,80.75,1.2926]
["1963M10",1.5,1.5,1.5,"…","…","…",0.16,0.39135113794999998,"…","…",0.58069999999999999,0.80420000000000003,0.62587720000000002,0.95289999999999997,0.81480079999999999,1.083601,0.96039960000000002,303.7,"…","…",275.58,227.35,"…",116.84,234,91,"…","…",24.13976486436,53.15,48.98,128.72,"…","…","…","…",65.040000000000006,"…",0.1759,9.4E-2,0.66800000000000004,0.33094790640999999,"…",1.5873264,0.12676565000000001,0.19400655999999999,0.23039999999999999,1343.61,"…",32.78,"…",151.28085269523999,"…",0.64529999999999998,"…",0.496,11.5,"...",52,42.25,30,507.06259155273,11.02,645.51,192,2590.4,1741,220.9,35.090000000000003,80.5,1.2929999999999999]
["1963M11",1.5,1.5,1.5,"…","…","…",0.16,0.39135113794999998,"…","…",0.5706,0.80689999999999995,0.63182950000000004,0.95289999999999997,0.81480079999999999,1.083601,0.96039960000000002,303.39999999999998,"…","…",274.47000000000003,230.11,"…",116.02,223,91,"…","…",24.05495380584,52.36,48.98,124.84,"…","…","…","…",65.040000000000006,"…",0.153,9.4E-2,0.63270000000000004,0.33178956376000002,"…",1.653465,0.12676565000000001,0.19180194,0.25419999999999998,1343.61,"…",32.5,"…",150.5816827559,"…",0.64349999999999996,"…",0.496,11.5,"...",52,42.25,30,507.06259155273,11.02,645.73,190.5,2687.4,1742,231.5,35.090000000000003,82.97,1.2929999999999999]
["1963M12",1.5,1.5,1.5,"…","…","…",0.16,0.39135113794999998,"…","…",0.57230000000000003,0.79979999999999996,0.65211160000000001,0.95289999999999997,0.81480079999999999,1.083601,0.96039960000000002,288.8,"…","…",272.27,231.76,"…",114.09,212,98.8,"…","…",24.281283312949999,53.54,48.98,121.54,"…","…","…","…",65.040000000000006,"…",0.159,8.1100000000000005E-2,0.69,0.33380479678000002,"…",1.6975574,0.12676565000000001,0.18077884,0.22620000000000001,1343.61,"…",33.33,"…",152.64627140931,"…",0.64419999999999999,"…",0.46960000000000002,11.5,"...",52,42.25,30,507.06259155273,11.02,650.14,204.8,2782.2,1742,261,35.090000000000003,83.5,1.2929999999999999]
["1964M01",1.45,1.45,1.45,"…","…","…",0.15,0.38414980236000001,"…","…",0.55489999999999995,0.92589999999999995,0.70083260000000003,0.92700000000000005,0.81900079999999997,1.039501,0.92259959999999996,286.89999999999998,"…","…",269.79000000000002,232.86,"…",116.84,215,98.8,"…","…",24.393359444910001,55.12,49.6,124.01,"…","…","…","…",64.040000000000006,"…",0.15190000000000001,7.6600000000000001E-2,0.72970000000000002,0.33465371969000002,"…",1.7636959999999999,0.12676565000000001,0.19180194,0.23100000000000001,1488.3,"…",32.78,"…",151.28085269523999,"…",0.65590000000000004,"…",0.45190000000000002,12.5,"...",53,60.5,32.5,507.06259155273,10.24,655.65,217.6,2872.6,1741,264.10000000000002,35.1,88.27,1.2929999999999999]
["1964M02",1.45,1.45,1.45,"…","…","…",0.15,0.38414980236000001,"…","…",0.50770000000000004,0.94140000000000001,0.72111449999999999,0.92700000000000005,0.81900079999999997,1.039501,0.92259959999999996,271.39999999999998,"…","…",258.49,232.59,"…",112.71,209,95.5,"…","…",24.4243118055,52.75,49.9,119.06,"…","…","…","…",66.14,"…",0.16009999999999999,8.0500000000000002E-2,0.79149999999999998,0.33498084706999998,"…",1.6975574,0.12676565000000001,0.16314187999999999,0.1991,1488.3,"…",32.78,"…",151.28085269523999,"…",0.65559999999999996,"…",0.4718,12.5,"...",53,60.5,32.5,507.06259155273,10.24,693.79,223.1,3060,1742,270.5,35.1,88.5,1.2929999999999999]
["1964M03",1.45,1.45,1.45,"…","…","…",0.15,0.38414980236000001,"…","…",0.50839999999999996,1.0350999999999999,0.77975609999999995,0.92700000000000005,0.81900079999999997,1.039501,0.92259959999999996,280.5,"…","…",265.10000000000002,232.86,"…",110.51,209,94.4,"…","…",24.8406099752,54.33,48.98,115.11,"…","…","…","…",66.87,"…",0.16489999999999999,8.7099999999999997E-2,0.81569999999999998,0.33562932596,"…",1.6314188000000001,0.12676565000000001,0.14770954,0.16120000000000001,1488.3,"…",31.94,"…",149.17497836621001,"…",0.65480000000000005,"…",0.496,12.5,"...",53,60.5,32.5,524.69946289063,10.24,745.16,223.8,2958.6,1742,277.10000000000002,35.1,88.5,1.2929999999999999]
["1964M04",1.45,1.45,1.45,"…","…","…",0.15,0.38414980236000001,"…","…",0.47839999999999999,1.0042,0.81613150000000001,0.92700000000000005,0.81900079999999997,1.039501,0.92259959999999996,280.3,"…","…",273.10000000000002,232.86,"…",106.65,204,90,"…","…",25.19431726534,55.51,48.06,116.89,"…","…","…","…",67.61,"…",0.20100000000000001,8.5800000000000001E-2,0.82889999999999997,0.33575985011999998,"…",1.6093725999999999,0.12676565000000001,0.14991415999999999,0.1711,1488.3,"…",30.56,"…",145.65920662297,"…",0.65210000000000001,"…",0.49819999999999998,12.5,"...",53,60.5,32.5,529.10888671875,10.24,861.56,226.8,2879.2,1741,298.7,35.1,88.5,1.2929999999999999]
["1964M05",1.45,1.45,1.45,"…","…","…",0.15,0.38414980236000001,"…","…",0.47660000000000002,1.0203,0.82847709999999997,0.92700000000000005,0.81900079999999997,1.039501,0.92259959999999996,282.5,"…","…",292.39,232.86,"…",104.72,215,84.5,"…","…",25.610940160159998,55.9,48.06,117.02,"…","…","…","…",69.45,"…",0.20499999999999999,7.9200000000000007E-2,0.87080000000000002,0.33567042602000002,"…",1.6314188000000001,0.12676565000000001,0.13227720000000001,0.1545,1488.3,"…",29.44,"…",142.75178459014001,"…",0.65590000000000004,"…",0.496,12.5,"...",53,60.5,32.5,529.10888671875,10.24,828.28,243.8,2910.1,1742,343,35.1,88.5,1.2929999999999999]
["1964M06",1.45,1.45,1.45,"…","…","…",0.15,0.38414980236000001,"…","…",0.49540000000000001,1.0053000000000001,0.84655449999999999,0.92700000000000005,0.81900079999999997,1.039501,0.92259959999999996,294.89999999999998,"…","…",317.19,233.96,"…",104.44,212,85.6,"…","…",24.954118393009999,56.3,47.4,119.18,"…","…","…","…",65.040000000000006,"…",0.20699999999999999,8.7099999999999997E-2,0.85540000000000005,0.33667293363,"…",1.8077884,0.12676565000000001,0.12786796,0.11550000000000001,1488.3,"…",29.44,"…",142.75178459014001,"…",0.65939999999999999,"…",0.4894,12.5,"...",53,60.5,32.5,529.10888671875,10.24,808.43,246.3,3265,1742,357.1,35.1,88.5,1.2929999999999999]
["1964M07",1.45,1.45,1.45,"…","…","…",0.15,0.38414980236000001,"…","…",0.50770000000000004,1.0214000000000001,0.81833610000000001,0.92700000000000005,0.81900079999999997,1.039501,0.92259959999999996,303.7,"…","…",335.1,235.34,"…",102.24,209,84.5,"…","…",25.570036869679999,55.9,47.4,122.61,"…","…","…","…",68.709999999999994,"…",0.16800000000000001,8.4000000000000005E-2,0.94140000000000001,0.33730524234999998,"…",1.8298346000000001,0.12676565000000001,0.12345871999999999,0.10340000000000001,1488.3,"…",29.17,"…",142.04331617563,"…",0.64880000000000004,"…",0.47839999999999999,12.5,"...",53,60.5,32.5,529.10888671875,10.24,854.95,270.89999999999998,3452.4,1741,385.1,35.1,88.5,1.2929999999999999]
["1964M08",1.45,1.45,1.45,"…","…","…",0.15,0.38414980236000001,"…","…",0.4985,1.0489999999999999,0.81833610000000001,0.92700000000000005,0.81900079999999997,1.039501,0.92259959999999996,303.10000000000002,"…","…",323.52999999999997,235.62,"…",104.44,223,82.5,"…","…",25.424226990680001,54.72,47.62,122.92,"…","…","…","…",68.709999999999994,"…",0.15609999999999999,8.4000000000000005E-2,0.89949999999999997,0.33777958624999999,"…",1.7636959999999999,0.12676565000000001,0.12345871999999999,9.3299999999999994E-2,1488.3,"…",29.17,"…",142.04331617563,"…",0.64370000000000005,"…",0.47839999999999999,12.5,"...",53,60.5,32.5,529.10888671875,10.24,999.33,300.89999999999998,3512,1742,345.2,35.1,88.5,1.2929999999999999]
["1964M09",1.45,1.45,1.45,"…","…","…",0.15,0.38414980236000001,"…","…",0.51039999999999996,1.0373000000000001,0.78989719999999997,0.92700000000000005,0.81900079999999997,1.039501,0.92259959999999996,302.60000000000002,"…","…",346.68,237.55,"…",109.96,243,92.2,"…","…",25.59364599721,55.12,48.5,123.44,"…","…","…","…",69.08,"…",0.1759,8.4000000000000005E-2,0.81789999999999996,0.34021397486999999,"…",1.8959732,0.12676565000000001,0.12345871999999999,7.8299999999999995E-2,1488.3,"…",28.89,"…",141.30541463610001,"…",0.6482,"…",0.49819999999999998,12.5,"...",53,60.5,32.5,529.10888671875,10.24,1162.05,300.89999999999998,3933,1742,355.1,35.1,88.5,1.2929999999999999]
["1964M10",1.45,1.45,1.45,"…","…","…",0.15,0.38414980236000001,"…","…",0.50900000000000001,1.0379,0.77380380000000004,0.92700000000000005,0.81900079999999997,1.039501,0.92259959999999996,311.39999999999998,"…","…",370.65,250.77,"…",114.09,270,88.9,"…","…",25.195592894899999,52.8,47.4,121.48,"…","…","…","…",68.709999999999994,"…",0.16400000000000001,8.4000000000000005E-2,0.84440000000000004,0.34051048536,"…",1.9180193999999999,0.12676565000000001,0.12566334000000001,7.6899999999999996E-2,1488.3,"…",28.89,"…",141.30541463610001,"…",0.64600000000000002,"…",0.5181,12.5,"...",53,60.5,32.5,529.10888671875,10.24,1358.27,331.8,4371.8,1741,334.4,35.1,88.5,1.2929999999999999]
["1964M11",1.45,1.45,1.45,"…","…","…",0.15,0.38414980236000001,"…","…",0.52010000000000001,1.034,0.78791299999999997,0.92700000000000005,0.81900079999999997,1.039501,0.92259959999999996,314.39999999999998,"…","…",359.63,254.91,"…",117.67,270,84.5,"…","…",25.11402177958,52.8,47.18,120.97,"…","…","…","…",67.98,"…",0.16489999999999999,8.4000000000000005E-2,0.83560000000000001,0.34059879992999997,"…",2.0943890000000001,0.12676565000000001,0.12345871999999999,7.2499999999999995E-2,1488.3,"…",29.44,"…",142.75178459014001,"…",0.64129999999999998,"…",0.50929999999999997,12.5,"...",53,60.5,32.5,529.10888671875,10.24,1400.37,365.1,4105,1742,344.6,35.1,88.5,1.2929999999999999]
["1964M12",1.45,1.45,1.45,"…","…","…",0.15,0.38414980236000001,"…","…",0.50180000000000002,1.0053000000000001,0.76366279999999997,0.92700000000000005,0.81900079999999997,1.039501,0.92259959999999996,326,"…","…",372.86,261.25,"…",121.8,317,86.7,"…","…",25.405418292450001,54.33,48.72,119.08,"…","…","…","…",67.98,"…",0.12609999999999999,9.1700000000000004E-2,0.85980000000000001,0.34180254245000002,"…",2.1164352000000002,0.12456103,0.13227720000000001,5.91E-2,1488.3,"…",30.56,"…",145.65920662297,"…",0.64259999999999995,"…",0.50039999999999996,12.5,"...",53,60.5,32.5,540.1318359375,10.24,1269.2,383.6,3633.2,1742,343,35.1,88.5,1.2929999999999999]
["1965M01",1.42,1.42,1.42,"…","…","…",0.16,0.41076610522000001,"…","…",0.47,1.0119,0.62830220000000003,1.0003,0.84630090000000002,1.142401,1.0122,337.6,"…","…",361.28,266.20999999999998,"…",123.46,284,92.4,"…","…",25.37793498764,55.9,49.82,114.61,"…","…","…","…",66.14,"…",0.127,7.5899999999999995E-2,0.85250000000000004,0.34356775693000002,"…",2.0943890000000001,0.12456103,0.13889106000000001,5.1299999999999998E-2,1265.4100000000001,"…",30.56,"…",145.65920662297,"…",0.64239999999999997,"…",0.51370000000000005,14,"...",54,65.75,29.5,540.1318359375,10.24,1000.68,347.9,3456.8,1735,322.3,35.119999999999997,93,1.2929999999999999]
["1965M02",1.42,1.42,1.42,"…","…","…",0.16,0.41076610522000001,"…","…",0.41909999999999997,1.0384,0.63712049999999998,1.0003,0.84630090000000002,1.142401,1.0122,356.9,"…","…",373.13,283.02,"…",128.41999999999999,303,96,"…","…",24.67937518051,56.69,49.82,115.94,"…","…","…","…",61.36,"…",0.15809999999999999,7.6999999999999999E-2,0.85189999999999999,0.34520181425000002,"…",2.0062042,0.12456103,0.13889106000000001,4.7600000000000003E-2,1265.4100000000001,"…",33.33,"…",152.64627140931,"…",0.67369999999999997,"…",0.5181,14,"...",54,65.75,29.5,540.1318359375,10.24,1179.9100000000001,389.6,3390.7,1735,320.3,35.119999999999997,98.5,1.2929999999999999]
["1965M03",1.42,1.42,1.42,"…","…","…",0.16,0.41076610522000001,"…","…",0.35299999999999998,0.9899,0.57980169999999998,1.0003,0.84630090000000002,1.142401,1.0122,356.9,"…","…",344.2,292.11,"…",124.84,300,93.6,"…","…",24.710340438079999,57.08,48.94,115.56,"…","…","…","…",60.99,"…",0.15190000000000001,7.8E-2,0.85140000000000005,0.34590283672,"…",2.0282504000000001,0.12456103,0.13227720000000001,5.3400000000000003E-2,1265.4100000000001,"…",34.17,"…",154.71179313920999,"…",0.64639999999999997,"…",0.52029999999999998,14,"...",54,65.75,29.5,540.1318359375,10.24,1237.23,395.3,3584.7,1735,315.89999999999998,35.119999999999997,98.5,1.2929999999999999]
["1965M04",1.42,1.42,1.42,"…","…","…",0.16,0.41076610522000001,"…","…",0.34570000000000001,0.97440000000000004,0.54695360000000004,1.0003,0.84630090000000002,1.142401,1.0122,356.9,"…","…",325.73,297.62,"…",123.46,295,94.8,"…","…",24.604843525650001,57.48,47.84,113.29,"…","…","…","…",59.89,"…",0.16200000000000001,9.2100000000000001E-2,0.85270000000000001,0.34716961774999999,"…",2.0723427999999999,0.12456103,0.13227720000000001,5.1200000000000002E-2,1265.4100000000001,"…",35.56,"…",158.07910827788999,"…",0.64929999999999999,"…",0.53349999999999997,14,"...",54,65.75,29.5,540.1318359375,10.24,1348.34,353,3944.1,1735,315.89999999999998,35.119999999999997,98.5,1.2929999999999999]
["1965M05",1.42,1.42,1.42,"…","…","…",0.16,0.41076610522000001,"…","…",0.3276,0.96120000000000005,0.48720980000000003,1.0003,0.84630090000000002,1.142401,1.0122,356.9,"…","…",293.76,303.13,"…",118.5,256,93.6,"…","…",24.68019173743,58.66,47.84,111.77,"…","…","…","…",59.16,"…",0.14990000000000001,0.14630000000000001,0.84040000000000004,0.34806174503999998,"…",2.0502965999999998,0.12456103,0.13668643999999999,4.9599999999999998E-2,1265.4100000000001,"…",35.56,"…",158.07910827788999,"…",0.65039999999999998,"…",0.53129999999999999,14,"...",54,65.75,29.5,540.1318359375,15.3,1378.55,302,4215.2,1735,323.39999999999998,35.119999999999997,98.5,1.2929999999999999]
["1965M06",1.42,1.42,1.42,"…","…","…",0.16,0.41076610522000001,"…","…",0.29060000000000002,0.98109999999999997,0.61309060000000004,1.0003,0.84630090000000002,1.142401,1.0122,420.5,"…","…",296.52,294.87,"…",122.08,256,93.6,"…","…",24.449309547799999,58.26,47.84,110.88,"…","…","…","…",58.05,"…",0.16600000000000001,0.11,0.86180000000000001,0.34914624691000001,"…",1.9621118,0.12456103,0.13668643999999999,4.1200000000000001E-2,1265.4100000000001,"…",35.56,"…",158.07910827788999,"…",0.629,"…",0.52249999999999996,14,"...",54,65.75,29.5,540.1318359375,10.24,1308.8800000000001,278.7,4131.5,1735,314.39999999999998,35.119999999999997,98.5,1.2929999999999999]
["1965M07",1.42,1.42,1.42,"…","…","…",0.16,0.41076610522000001,"…","…",0.25900000000000001,0.98109999999999997,0.71626449999999997,1.0003,0.84630090000000002,1.142401,1.0122,372.6,"…","…",301.76,279.99,"…",119.88,248,101.8,"…","…",24.119177946930002,56.69,47.84,112.04,"…","…","…","…",57.32,"…",0.17699999999999999,9.6000000000000002E-2,0.88070000000000004,0.35149371578999999,"…",1.9400656000000001,0.12456103,0.13448182,4.0800000000000003E-2,1265.4100000000001,"…",35.56,"…",158.07910827788999,"…",0.63490000000000002,"…",0.49380000000000002,14,"...",54,65.75,29.5,540.1318359375,10.24,1134.06,271.60000000000002,3966.1,1735,310.39999999999998,35.119999999999997,98.5,1.2929999999999999]
["1965M08",1.42,1.42,1.42,"…","…","…",0.16,0.41076610522000001,"…","…",0.32579999999999998,1.0008999999999999,0.79496770000000005,1.0003,0.84630090000000002,1.142401,1.0122,334.8,"…","…",299.27999999999997,257.66000000000003,"…",110.78,234,96,"…","…",23.99647841614,55.12,47.4,116.92,"…","…","…","…",57.69,"…",0.17,9.6000000000000002E-2,0.89419999999999999,0.35170583883000001,"…",1.8739269999999999,0.12456103,0.13668643999999999,3.7699999999999997E-2,1265.4100000000001,"…",35.56,"…",158.07910827788999,"…",0.63119999999999998,"…",0.48280000000000001,14,"...",54,65.75,29.5,540.1318359375,10.24,1209.9000000000001,272,4091.8,1735,303.60000000000002,35.119999999999997,98.5,1.2929999999999999]
["1965M09",1.42,1.42,1.42,"…","…","…",0.16,0.41076610522000001,"…","…",0.3649,0.99870000000000003,0.77755160000000001,1.0003,0.84630090000000002,1.142401,1.0122,312,"…","…",308.92,246.64,"…",106.1,248,105.3,"…","…",23.993643982830001,53.93,47.4,126.55,"…","…","…","…",58.42,"…",0.18210000000000001,9.6000000000000002E-2,0.91320000000000001,0.3541989753,"…",1.8959732,0.12456103,0.13668643999999999,3.9E-2,1265.4100000000001,"…",36.11,"…",159.39473605820001,"…",0.63100000000000001,"…",0.47620000000000001,14,"...",54,65.75,29.5,540.1318359375,10.24,1327.84,289.2,4208.6000000000004,1735,299.60000000000002,35.119999999999997,98.5,1.2929999999999999]
["1965M10",1.42,1.42,1.42,"…","…","…",0.16,0.41076610522000001,"…","…",0.37059999999999998,1.0097,0.80731319999999995,1.0003,0.84630090000000002,1.142401,1.0122,331,"…","…",324.08,250.22,"…",104.44,284,97.1,"…","…",23.595577371520001,51.57,46.52,126.65,"…","…","…","…",58.05,"…",0.18890000000000001,9.6000000000000002E-2,0.92920000000000003,0.35407337028000002,"…",1.9180193999999999,0.12456103,0.13889106000000001,4.2799999999999998E-2,1265.4100000000001,"…",36.11,"…",159.39473605820001,"…",0.62450000000000006,"…",0.4718,14,"...",54,65.75,29.5,540.1318359375,10.24,1401.92,306.89999999999998,4010.2,1735,307.8,35.119999999999997,98.5,1.2929999999999999]
["1965M11",1.42,1.42,1.42,"…","…","…",0.16,0.41076610522000001,"…","…",0.39860000000000001,1.0250999999999999,0.75682859999999996,1.0003,0.84630090000000002,1.142401,1.0122,334.8,"…","…",336.2,250.22,"…",107.47,276,103,"…","…",23.634747044929998,51.57,46.3,129.19999999999999,"…","…","…","…",58.05,"…",0.15190000000000001,9.6000000000000002E-2,0.90939999999999999,0.35607334770999999,"…",2.0062042,0.12456103,0.13668643999999999,3.7699999999999997E-2,1265.4100000000001,"…",36.11,"…",159.39473605820001,"…",0.62280000000000002,"…",0.4894,14,"...",54,65.75,29.5,540.1318359375,10.24,1469.16,299.2,3820.6,1735,298.7,35.119999999999997,98.5,1.2929999999999999]
["1965M12",1.42,1.42,1.42,"…","…","…",0.16,0.41076610522000001,"…","…",0.45879999999999999,1.0318000000000001,0.79364489999999999,1.0003,0.84630090000000002,1.142401,1.0122,330.7,"…","…",322.14999999999998,248.57,"…",112.99,256,97.1,"…","…",24.296005810560001,55.12,47.62,132.06,"…","…","…","…",58.42,"…",0.12809999999999999,9.2700000000000005E-2,0.94199999999999995,0.35628327393999998,"…",2.0062042,0.12456103,0.13448182,3.8300000000000001E-2,1265.4100000000001,"…",36.11,"…",159.39473605820001,"…",0.61950000000000005,"…",0.50490000000000002,14,"...",54,65.75,29.5,540.1318359375,10.24,1517.66,300.7,3869.1,1735,302.7,35.119999999999997,98.5,1.2929999999999999]
["1966M01",1.36,1.36,1.36,"…","…","…",0.16,0.42492866513999999,"…","…",0.47310000000000002,1.0119,0.80158130000000005,0.95989999999999998,0.76020080000000001,1.2054009999999999,0.9141996,355.5,"…","…",307.27,246.92,"…",119.6,267,101.93,"…","…",24.632156512150001,57.08,47.62,125.51,"…","…","…","…",58.42,"…",0.129,9.1399999999999995E-2,0.96760000000000002,0.35813582505000002,"…",2.314851,0.13095442800000001,0.13889106000000001,5.3100000000000001E-2,1581.22,"…",36.11,"…",159.39473605820001,"…",0.61950000000000005,"…",0.50509999999999999,13,"...",50,59.25,27.5,540.1318359375,9.52,1679.04,301.2,3926.4,1739,302.7,35.130000000000003,98.5,1.2929999999999999]
["1966M02",1.36,1.36,1.36,"…","…","…",0.16,0.42492866513999999,"…","…",0.4718,0.97219999999999995,0.75771029999999995,0.95989999999999998,0.76020080000000001,1.2054009999999999,0.9141996,348.6,"…","…",299.69,248.02,"…",121.8,273,99.1,"…","…",24.744632186930001,57.08,48.5,124.79,"…","…","…","…",58.79,"…",0.14299999999999999,7.2800000000000004E-2,0.96409999999999996,0.35856747324999999,"…",2.314851,0.13095442800000001,0.13889106000000001,4.8899999999999999E-2,1581.22,"…",36.94,"…",161.36281156287001,"…",0.61950000000000005,"…",0.50660000000000005,13,"...",50,59.25,27.5,540.1318359375,9.52,1874.37,291.5,3877.9,1739,299.8,35.130000000000003,98.5,1.2929999999999999]
["1966M03",1.36,1.36,1.36,"…","…","…",0.16,0.42492866513999999,"…","…",0.48959999999999998,0.9546,0.74382159999999997,0.95989999999999998,0.76020080000000001,1.2054009999999999,0.9141996,338.4,"…","…",292.8,245.26,"…",119.88,265,92.5,"…","…",24.547821105659999,55.51,47.4,131.72999999999999,"…","…","…","…",58.79,"…",0.1731,8.5000000000000006E-2,1.0672999999999999,0.35837460202999999,"…",2.314851,0.13095442800000001,0.13668643999999999,4.7199999999999999E-2,1581.22,"…",36.94,"…",161.36281156287001,"…",0.63900000000000001,"…",0.50309999999999999,13,"...",50,59.25,27.5,540.1318359375,9.52,1874.81,292.8,3772.1,1739,300.7,35.130000000000003,99.65,1.2929999999999999]
["1966M04",1.36,1.36,1.36,"…","…","…",0.16,0.42492866513999999,"…","…",0.5333,0.9546,0.76057629999999998,0.95989999999999998,0.76020080000000001,1.2054009999999999,0.9141996,331.2,"…","…",285.77,233.69,"…",122.08,267,96.9,"…","…",24.648170335820001,55.9,46.96,143.04,"…","…","…","…",58.79,"…",0.18920000000000001,9.1399999999999995E-2,1.0713999999999999,0.35995302555999997,"…",2.314851,0.13095442800000001,0.13889106000000001,4.5199999999999997E-2,1581.22,"…",36.39,"…",160.06096878503001,"…",0.61839999999999995,"…",0.48480000000000001,13,"...",50,59.25,27.5,540.1318359375,9.52,1907.44,280.39999999999998,3763.3,1739,278.7,35.130000000000003,100,1.2929999999999999]
["1966M05",1.36,1.36,1.36,"…","…","…",0.16,0.42492866513999999,"…","…",0.51300000000000001,0.94579999999999997,0.76520589999999999,0.95989999999999998,0.76020080000000001,1.2054009999999999,0.9141996,330.7,"…","…",288.31,225.7,"…",124.84,256,102.4,"…","…",24.56941687658,55.12,46.96,140.86000000000001,"…","…","…","…",58.79,"…",0.18410000000000001,8.77E-2,1.0429999999999999,0.3616734465,"…",2.314851,0.13095442800000001,0.13889106000000001,4.4999999999999998E-2,1581.22,"…",36.94,"…",161.36281156287001,"…",0.62280000000000002,"…",0.49490000000000001,13,"...",50,59.25,27.5,540.1318359375,9.52,1663.61,261.89999999999998,3688.3,1739,270,35.130000000000003,100,1.2929999999999999]
["1966M06",1.36,1.36,1.36,"…","…","…",0.16,0.42492866513999999,"…","…",0.52669999999999995,0.92369999999999997,0.74095569999999999,0.81320000000000003,0.76020080000000001,0.76533329999999999,0.9141996,332.1,"…","…",288.31,225.42,"…",130.62,256,117.8,"…","…",25.543382021140001,57.08,46.74,144.44999999999999,"…","…","…","…",62.1,"…",0.18099999999999999,8.4000000000000005E-2,0.99229999999999996,0.36472329579000001,"…",2.314851,0.13095442800000001,0.13889106000000001,3.6999999999999998E-2,1581.22,"…",36.94,"…",161.36281156287001,"…",0.61819999999999997,"…",0.4733,13,"...",50,59.25,27.5,540.1318359375,9.52,1695.79,259.3,3516.4,1739,272.10000000000002,35.130000000000003,100,1.2929999999999999]
["1966M07",1.36,1.36,1.36,"…","…","…",0.16,0.42492866513999999,"…","…",0.57609999999999995,0.91710000000000003,0.729051,0.81320000000000003,0.76020080000000001,0.76533329999999999,0.9141996,330.4,"…","…",294.58999999999997,235.34,"…",138.88999999999999,267,123.3,"…","…",26.510184373169999,59.05,47.18,153.30000000000001,"…","…","…","…",65.400000000000006,"…",0.14399999999999999,8.4000000000000005E-2,0.96689999999999998,0.36631654723000001,"…",2.314851,0.13095442800000001,0.14109568,3.7900000000000003E-2,1581.22,"…",36.94,"…",161.36281156287001,"…",0.61509999999999998,"…",0.46560000000000001,13,"...",50,59.25,27.5,540.1318359375,9.52,1567.93,263.39999999999998,3514.2,1739,264.60000000000002,35.130000000000003,100,1.2929999999999999]
["1966M08",1.36,1.36,1.36,"…","…","…",0.16,0.42492866513999999,"…","…",0.57299999999999995,0.91710000000000003,0.7189101,0.81320000000000003,0.76020080000000001,0.76533329999999999,0.9141996,319.10000000000002,"…","…",304.83999999999997,239.75,"…",140.27000000000001,276,124.4,"…","…",27.51208083445,62.6,50.49,150.38999999999999,"…","…","…","…",67.61,"…",0.157,8.4000000000000005E-2,1,0.36733921340999998,"…",2.314851,0.13095442800000001,0.14330029999999999,3.5900000000000001E-2,1581.22,"…",36.94,"…",161.36281156287001,"…",0.61950000000000005,"…",0.45810000000000001,13,"...",50,59.25,27.5,540.1318359375,9.52,1195.3399999999999,242.5,3428.2,1739,264.60000000000002,35.130000000000003,100,1.2929999999999999]
["1966M09",1.36,1.36,1.36,"…","…","…",0.16,0.42492866513999999,"…","…",0.50219999999999998,0.89949999999999997,0.69950970000000001,0.81320000000000003,0.76020080000000001,0.76533329999999999,0.9141996,317.2,"…","…",298.73,239.75,"…",127.59,267,112.3,"…","…",27.24653073432,61.02,51.59,155.38999999999999,"…","…","…","…",67.239999999999995,"…",0.13900000000000001,8.4000000000000005E-2,1.0528999999999999,0.36661768145000001,"…",2.314851,0.13095442800000001,0.14330029999999999,3.2899999999999999E-2,1581.22,"…",36.94,"…",161.36281156287001,"…",0.60719999999999996,"…",0.4299,13,"...",50,59.25,27.5,540.1318359375,9.52,1128.32,254.2,3377.5,1739,270.5,35.130000000000003,100,1.2929999999999999]
["1966M10",1.36,1.36,1.36,"…","…","…",0.16,0.42492866513999999,"…","…",0.50839999999999996,0.88849999999999996,0.71714639999999996,0.81320000000000003,0.76020080000000001,0.76533329999999999,0.9141996,303.10000000000002,"…","…",291.83999999999997,230.93,"…",120.15,251,104.6,"…","…",26.71904876764,58.66,48.72,164.26,"…","…","…","…",66.14,"…",0.12809999999999999,8.4000000000000005E-2,1.0528999999999999,0.36638743869000001,"…",2.314851,0.13095442800000001,0.14550492000000001,3.3700000000000001E-2,1581.22,"…",36.94,"…",161.36281156287001,"…",0.63160000000000005,"…",0.45150000000000001,13,"...",50,59.25,27.5,540.1318359375,9.52,1275.3699999999999,233.7,3362,1739,276,35.130000000000003,100,1.2929999999999999]
["1966M11",1.36,1.36,1.36,"…","…","…",0.16,0.42492866513999999,"…","…",0.49519999999999997,0.88690000000000002,0.72001230000000005,0.81320000000000003,0.76020080000000001,0.76533329999999999,0.9141996,277.8,"…","…",292.66000000000003,225.97,"…",121.25,248,101.3,"…","…",26.755831733210002,59.05,49.38,166.11,"…","…","…","…",65.77,"…",0.13800000000000001,8.4000000000000005E-2,1.0310999999999999,0.36676787628000002,"…",2.314851,0.13095442800000001,0.14330029999999999,3.1099999999999999E-2,1581.22,"…",36.94,"…",161.36281156287001,"…",0.63139999999999996,"…",0.45169999999999999,13,"...",50,59.25,27.5,540.1318359375,9.52,1301.6099999999999,222.7,3320.2,1739,288.10000000000002,35.130000000000003,100,1.2929999999999999]
["1966M12",1.36,1.36,1.36,"…","…","…",0.16,0.42492866513999999,"…","…",0.54920000000000002,0.87280000000000002,0.71516219999999997,0.81320000000000003,0.76020080000000001,0.76533329999999999,0.9141996,300.39999999999998,"…","…",310.85000000000002,230.93,"…",120.98,245,107.9,"…","…",27.512030130140001,61.41,51.37,142.6,"…","…","…","…",67.61,"…",0.14000000000000001,7.5999999999999998E-2,1.0587,0.36864552075000001,"…",2.314851,0.13095442800000001,0.14330029999999999,2.98E-2,1581.22,"…",36.94,"…",161.36281156287001,"…",0.63139999999999996,"…",0.43409999999999999,13,"...",50,59.25,27.5,540.1318359375,9.52,1214.53,224.2,3335.6,1739,285.5,35.130000000000003,100,1.2929999999999999]
["1967M01",1.33,1.33,1.33,"…","…","…",0.16,0.45664737628000002,"…","…",0.57389999999999997,0.85009999999999997,0.70568260000000005,0.84019999999999995,0.73080069999999997,0.79866669999999995,0.99119959999999996,310,"…","…",303.41000000000003,234.24,"…",117.4,231,104.6,"…","…",27.30459229629,60.23,52.91,142.27000000000001,"…","…","…","…",67.239999999999995,"…",0.157,0.1764,1.0783,0.36904401261999997,"…",2.2928047999999999,0.12941119400000001,0.14330029999999999,2.87E-2,1299.43,"…",36.94,"…",161.36281156287001,"…",0.64490000000000003,"…",0.4264,12,68.5,46.5,49.25,25.5,540.1318359375,8.86,1243.8499999999999,220.2,3302.5,1935.7,279.5,34.950000000000003,102.93,1.2929999999999999]
["1967M02",1.33,1.33,1.33,"…","…","…",0.16,0.45664737628000002,"…","…",0.60780000000000001,0.84409999999999996,0.72861010000000004,0.84019999999999995,0.73080069999999997,0.79866669999999995,0.99119959999999996,316.89999999999998,"…","…",297.07,230.66,"…",116.84,225,101.3,"…","…",27.300211619540001,59.05,52.91,151.44999999999999,"…","…","…","…",67.98,"…",0.14299999999999999,0.1474,1.0642,0.36926172679000002,"…",2.2928047999999999,0.12941119400000001,0.14550492000000001,3.6999999999999998E-2,1299.43,"…",37.5,"…",162.67919539459999,"…",0.65959999999999996,"…",0.40849999999999997,12,68.5,46.5,49.25,25.5,540.1318359375,8.86,1220.48,221.8,3309.1,1935.7,282.2,34.950000000000003,110.5,1.2929999999999999]
["1967M03",1.33,1.33,1.33,"…","…","…",0.16,0.45664737628000002,"…","…",0.59519999999999995,0.82279999999999998,0.7257441,0.84019999999999995,0.73080069999999997,0.79866669999999995,0.99119959999999996,314.2,"…","…",300.64999999999998,223.22,"…",115.74,231,98,"…","…",27.68090394903,59.05,54.89,163.53,"…","…","…","…",69.81,"…",0.16200000000000001,0.15920000000000001,1.0448,0.36946279927999998,"…",2.2928047999999999,0.12941119400000001,0.14550492000000001,3.4599999999999999E-2,1299.43,"…",38.33,"…",164.61374432967,"…",0.66359999999999997,"…",0.4083,12,68.5,46.5,49.25,25.5,540.1318359375,8.86,1098.3399999999999,228.4,3318,1935.7,279.3,34.950000000000003,110.5,1.2929999999999999]
["1967M04",1.33,1.33,1.33,"…","…","…",0.16,0.45664737628000002,"…","…",0.57540000000000002,0.8508,0.74712840000000003,0.84019999999999995,0.73080069999999997,0.79866669999999995,0.99119959999999996,305.10000000000002,"…","…",292.39,223.22,"…",116.29,227,95.8,"…","…",27.266413170269999,57.87,54.23,168.53,"…","…","…","…",68.34,"…",0.16400000000000001,0.157,1.0569,0.36982858624999998,"…",2.2928047999999999,0.12941119400000001,0.14550492000000001,4.5199999999999997E-2,1299.43,"…",38.33,"…",164.61374432967,"…",0.66139999999999999,"…",0.41139999999999999,12,68.5,46.5,49.25,25.5,540.1318359375,8.86,994.72,226.6,3351,1935.7,272.10000000000002,34.950000000000003,110.5,1.2929999999999999]
["1967M05",1.33,1.33,1.33,"…","…","…",0.16,0.45664737628000002,"…","…",0.56879999999999997,0.8891,0.77027650000000003,0.84019999999999995,0.73080069999999997,0.79866669999999995,0.99119959999999996,283.8,"…","…",288.8,223.77,"…",116.29,224,94.7,"…","…",27.182174198889999,57.08,54.45,175.8,"…","…","…","…",68.34,"…",0.14990000000000001,0.1474,1.0350999999999999,0.37037132382999999,"…",2.2928047999999999,0.12941119400000001,0.14770954,5.6000000000000001E-2,1299.43,"…",38.89,"…",165.90811172856999,"…",0.66139999999999999,"…",0.40389999999999998,12,68.5,46.5,49.25,25.5,540.1318359375,8.86,1036.17,226.2,3357.6,1935.7,275.10000000000002,34.950000000000003,110.5,1.2959000000000001]
["1967M06",1.33,1.33,1.33,"…","…","…",0.16,0.45664737628000002,"…","…",0.57920000000000005,0.90920000000000001,0.78240160000000003,0.84019999999999995,0.73080069999999997,0.79866669999999995,0.99119959999999996,319.7,"…","…",293.76,229.28,"…",117.4,226,98.9,"…","…",26.890272563949999,57.08,52.91,184.54,"…","…","…","…",66.510000000000005,"…",0.16089999999999999,0.159,1.0362,0.37178706541000001,"…",2.2928047999999999,0.12941119400000001,0.14770954,5.4699999999999999E-2,1299.43,"…",38.89,"…",165.90811172856999,"…",0.66669999999999996,"…",0.41120000000000001,12,68.5,46.5,49.25,25.5,540.1318359375,8.86,1015.22,228.2,3366.5,1935.7,274.3,34.950000000000003,110.5,1.3009999999999999]
["1967M07",1.33,1.33,1.33,"…","…","…",0.16,0.45664737628000002,"…","…",0.56859999999999999,0.90259999999999996,0.74073520000000004,0.84019999999999995,0.73080069999999997,0.79866669999999995,0.99119959999999996,318.3,"…","…",294.58999999999997,228.73,"…",115.19,212,98.9,"…","…",26.27104018448,55.12,52.03,206.24,"…","…","…","…",64.67,"…",0.159,0.159,1.0353000000000001,0.37251653689999997,"…",2.2928047999999999,0.12941119400000001,0.14770954,3.6999999999999998E-2,1299.43,"…",38.89,"…",165.90811172856999,"…",0.66800000000000004,"…",0.39879999999999999,12,68.5,43.5,49.25,25.5,540.1318359375,8.86,997.37,231.3,3362,1935.7,267.2,34.950000000000003,110.5,1.5929]
["1967M08",1.33,1.33,1.33,"…","…","…",0.16,0.45664737628000002,"…","…",0.58550000000000002,0.87609999999999999,0.71758719999999998,0.84019999999999995,0.73080069999999997,0.79866669999999995,0.99119959999999996,310,"…","…",291.56,228.73,"…",111.13,210,98.9,"…","…",25.648796559369998,51.97,50.26,207.22,"…","…","…","…",63.93,"…",0.14990000000000001,0.159,1.0285,0.37324743966000001,"…",2.2928047999999999,0.12941119400000001,0.14770954,3.6200000000000003E-2,1299.43,"…",38.89,"…",165.90811172856999,"…",0.67749999999999999,"…",0.37480000000000002,12,68.5,43.5,49.25,25.5,540.1318359375,8.86,1044.55,232.3,3291.5,1935.7,268.7,34.950000000000003,110.5,1.7498]
["1967M09",1.33,1.33,1.33,"…","…","…",0.16,0.45664737628000002,"…","…",0.62390000000000001,0.86070000000000002,0.72398050000000003,0.84019999999999995,0.73080069999999997,0.79866669999999995,0.99119959999999996,324.89999999999998,"…","…",275.3,225.15,"…",111.06,206,98.9,"…","…",25.078624937979999,49.21,49.6,221.64,"…","…","…","…",63.2,"…",0.1799,0.159,1.0384,0.37397977650000003,"…",2.2928047999999999,0.12941119400000001,0.14770954,3.6999999999999998E-2,1299.43,"…",40.28,"…",169.08436100495001,"…",0.69089999999999996,"…",0.3649,12,68.5,43.5,49.25,25.5,540.1318359375,8.86,1060.2,226.9,3267.2,1935.7,264.60000000000002,34.950000000000003,110.5,1.6795]
["1967M10",1.33,1.33,1.33,"…","…","…",0.16,0.45664737628000002,"…","…",0.60780000000000001,0.84719999999999995,0.72949200000000003,0.84019999999999995,0.73080069999999997,0.79866669999999995,0.99119959999999996,350.5,"…","…",259.04000000000002,221.56,"…",109.96,203,98.9,"…","…",24.97713143451,48.03,49.38,224.12,"…","…","…","…",63.57,"…",0.17899999999999999,0.159,1.0431999999999999,0.37471355023000003,"…",2.2928047999999999,0.12941119400000001,0.14991415999999999,4.2799999999999998E-2,1299.43,"…",41.67,"…",172.21057681803001,"…",0.70240000000000002,"…",0.36180000000000001,12,68.5,43.5,49.25,25.5,540.1318359375,8.86,1138.47,225.7,3280.5,1935.7,263.89999999999998,34.950000000000003,110.5,1.7859]
["1967M11",1.33,1.33,1.33,"…","…","…",0.16,0.45664737628000002,"…","…",0.64419999999999999,0.86660000000000004,0.74778979999999995,0.84019999999999995,0.73080069999999997,0.79866669999999995,0.99119959999999996,376.2,"…","…",248.02,217.98,"…",116.02,211,98.9,"…","…",24.81447247034,47.64,48.94,213.57,"…","…","…","…",62.83,"…",0.16489999999999999,0.159,1.0125999999999999,0.37544876368000002,"…",2.2928047999999999,0.12941119400000001,0.14991415999999999,4.8500000000000001E-2,1299.43,"…",41.67,"…",172.21057681803001,"…",0.70550000000000002,"…",0.35410000000000003,12,68.5,43.5,49.25,25.5,540.1318359375,8.86,1443.81,242.1,3298.1,1935.7,287,34.950000000000003,110.5,1.9532]
["1967M12",1.33,1.33,1.33,"…","…","…",0.16,0.45664737628000002,"…","…",0.64710000000000001,0.85119999999999996,0.74999439999999995,0.79149999999999998,0.58464110000000002,0.79866669999999995,0.99119959999999996,386.7,"…","…",250.85,194.87,"…",113.38,196,98.9,"…","…",24.589256001460001,46.9,50.26,213.57,"…","…","…","…",62.1,"…",0.13400000000000001,0.16669999999999999,1.0201,0.37618541967000002,"…",2.2928047999999999,0.12941119400000001,0.14770954,4.7E-2,1299.43,"…",41.67,"…",172.21057681803001,"…",0.71650000000000003,"…",0.3574,12,68.5,43.5,49.25,25.5,540.1318359375,8.86,1324.09,222.4,3192.3,1935.7,266.10000000000002,34.950000000000003,115.05,2.06]
["1968M01",1.32,1.32,1.32,"…","…","…",0.16,0.45180187736999999,"…","…",0.65429999999999999,0.86599999999999999,0.75969450000000005,0.74870000000000003,0.67704129999999996,0.73333340000000002,0.83579970000000003,398,"…","…",251.33,191.33,"…",114.09,196,97,"…","…",25.451915863069999,51.57,55.6,198.78,"…","…","…","…",62.1,"…",0.114,0.1628,1.026,0.37661109172000001,"…",2.5794054000000002,0.112215158,0.14991415999999999,4.6699999999999998E-2,1253.81,"…",41.67,"…",172.21057681803001,"…",0.71650000000000003,"…",0.34699999999999998,11.5,60.5,39,35.5,24,540.1318359375,8.77,1408.75,218,3126.2,2074.5,262.8,35.5,114,1.9899]
["1968M02",1.32,1.32,1.32,"…","…","…",0.16,0.45180187736999999,"…","…",0.6321,0.86909999999999998,0.75660819999999995,0.74870000000000003,0.67704129999999996,0.73333340000000002,0.83579970000000003,412.2,"…","…",255.34,191.33,"…",114.56,193,97,"…","…",25.564062734339998,51.18,58.1,207.03,"…","…","…","…",62.83,"…",0.16600000000000001,0.1706,1.0226,0.37793880405000002,"…",2.5794054000000002,0.112215158,0.14991415999999999,4.6100000000000002E-2,1248.52,"…",41.67,"…",172.21057681803001,"…",0.71279999999999999,"…",0.32690000000000002,11.5,60.5,39,35.5,24,540.1318359375,8.77,1719.82,227.5,3110.7,2074.5,259.7,36,111.5,1.8547]
["1968M03",1.32,1.32,1.32,"…","…","…",0.16,0.45180187736999999,"…","…",0.62350000000000005,0.8821,0.75484450000000003,0.74870000000000003,0.67704129999999996,0.73333340000000002,0.83579970000000003,423,"…","…",256.52,191.33,"…",115.51,191,96,"…","…",25.53764357387,50,57,209.78,"…","…","…","…",63.57,"…",0.16200000000000001,0.1807,1.0250999999999999,0.37910322157999998,"…",2.5794054000000002,0.112215158,0.14991415999999999,4.1700000000000001E-2,1234.74,"…",41.67,"…",172.21057681803001,"…",0.70989999999999998,"…",0.35630000000000001,11.5,60.5,39,35.5,24,540.1318359375,8.77,1701.08,233.9,3112.9,2074.5,257.5,37,111.5,2.1804999999999999]
["1968M04",1.32,1.32,1.32,"…","…","…",0.16,0.45180187736999999,"…","…",0.62880000000000003,0.88600000000000001,0.75330129999999995,0.74870000000000003,0.67704129999999996,0.73333340000000002,0.83579970000000003,435.8,"…","…",259.58999999999997,188.97,"…",113.14,190,95,"…","…",24.889212957800002,48.03,57,197.01,"…","…","…","…",61.73,"…",0.1744,0.18179999999999999,1.0459000000000001,0.38026946268,"…",2.5794054000000002,0.112215158,0.14991415999999999,3.8800000000000001E-2,1210.46,"…",41.67,"…",172.21057681803001,"…",0.71099999999999997,"…",0.35870000000000002,11.5,60.5,39,35.5,24,540.1318359375,8.77,1255.0899999999999,235,3106.3,2074.5,258.2,37.86,111.5,2.2027999999999999]
["1968M05",1.32,1.32,1.32,"…","…","…",0.16,0.45180187736999999,"…","…",0.62429999999999997,0.88160000000000005,0.75506490000000004,0.74870000000000003,0.67704129999999996,0.73333340000000002,0.83579970000000003,439.8,"…","…",271.64,186.13,"…",114.32,189,96,"…","…",24.72536841798,48.42,53.1,187.09,"…","…","…","…",60.26,"…",0.183,0.1918,1.0785,0.38178092955999998,"…",2.5794054000000002,0.112215158,0.15211878000000001,4.1399999999999999E-2,1200.8800000000001,"…",41.67,"…",172.21057681803001,"…",0.7097,"…",0.37040000000000001,11.5,60.5,39,35.5,24,540.1318359375,8.77,1096.58,237.7,3084.3,2074.5,261.5,40.700000000000003,111.5,2.3767999999999998]
["1968M06",1.32,1.32,1.32,"…","…","…",0.16,0.45180187736999999,"…","…",0.61329999999999996,0.88800000000000001,0.75660819999999995,0.74870000000000003,0.67704129999999996,0.73333340000000002,0.83579970000000003,406.8,"…","…",279.2,174.79,"…",111.96,178,96,"…","…",24.901613950809999,47.64,51.3,179.34,"…","…","…","…",61.73,"…",0.15229999999999999,0.15870000000000001,1.1062000000000001,0.38312686772999999,"…",2.5794054000000002,0.112215158,0.1543234,3.8399999999999997E-2,1205.4100000000001,"…",38.89,"…",165.90811172856999,"…",0.7,"…",0.39860000000000001,11.5,60.5,39,35.5,24,562.17797851563,8.77,1136.7,238.5,3084.3,2074.5,262.10000000000002,41.14,111.5,2.4641000000000002]
["1968M07",1.32,1.32,1.32,"…","…","…",0.16,0.45180187736999999,"…","…",0.62570000000000003,0.88139999999999996,0.74977400000000005,0.74870000000000003,0.67704129999999996,0.73333340000000002,0.83579970000000003,377.9,"…","…",261.25,172.43,"…",110.78,162,96,"…","…",25.20781032751,47.24,49.8,181.69,"…","…","…","…",63.57,"…",0.1585,0.15870000000000001,1.0992,0.38447755091000002,"…",2.5794054000000002,0.112215158,0.1543234,3.5900000000000001E-2,1173.9000000000001,"…",38.89,"…",165.90811172856999,"…",0.69179999999999997,"…",0.39129999999999998,11.5,60.5,36,35.5,24,562.17797851563,8.77,1054.25,247.1,3075.4,2074.5,265.7,39.46,122.5,2.3138000000000001]
["1968M08",1.32,1.32,1.32,"…","…","…",0.16,0.45180187736999999,"…","…",0.65259999999999996,0.86619999999999997,0.74756940000000005,0.74870000000000003,0.67704129999999996,0.73333340000000002,0.83579970000000003,385.5,"…","…",266.68,150.22999999999999,"…",105.82,157,96,"…","…",24.870512294089998,44.88,46.9,177.69,"…","…","…","…",63.93,"…",0.13780000000000001,0.15870000000000001,1.0968,0.38583299581000002,"…",2.5794054000000002,0.112215158,0.1543234,3.3700000000000001E-2,1180.58,"…",38.89,"…",165.90811172856999,"…",0.68369999999999997,"…",0.39789999999999998,11.5,60.5,36,35.5,24,562.17797851563,8.77,1056.45,250.2,3062.2,2074.5,269,39.19,122.5,2.1945999999999999]
["1968M09",1.32,1.32,1.32,"…","…","…",0.16,0.45180187736999999,"…","…",0.77470000000000006,0.8538,0.74933300000000003,0.74870000000000003,0.67704129999999996,0.73333340000000002,0.83579970000000003,375.6,"…","…",272.82,141.72999999999999,"…",105.35,161,99,"…","…",24.695209685409999,44.09,47.3,175.8,"…","…","…","…",63.57,"…",0.16470000000000001,0.15870000000000001,1.1587000000000001,0.38770287871999998,"…",2.5794054000000002,0.112215158,0.1543234,3.04E-2,1228.75,"…",38.89,"…",165.90811172856999,"…",0.66339999999999999,"…",0.39419999999999999,11.5,60.5,36,35.5,24,562.17797851563,8.77,1110.03,251.5,3071,2074.5,263,40.18,122.5,2.2084999999999999]
["1968M10",1.32,1.32,1.32,"…","…","…",0.16,0.45180187736999999,"…","…",0.83050000000000002,0.85450000000000004,0.74007389999999995,0.74870000000000003,0.67704129999999996,0.73333340000000002,0.83579970000000003,373.7,"…","…",269.75,141.72999999999999,"…",104.17,166,98,"…","…",24.888574381630001,44.88,48.8,163.72,"…","…","…","…",63.57,"…",0.1532,0.15870000000000001,1.1704000000000001,0.38890087713999999,"…",2.5794054000000002,0.112215158,0.15652801999999999,3.9E-2,1183.73,"…",38.89,"…",165.90811172856999,"…",0.65629999999999999,"…",0.4103,11.5,60.5,36,35.5,24,562.17797851563,8.77,1079.82,247.8,3110.7,2074.5,262.10000000000002,39.21,122.5,1.9728000000000001]
["1968M11",1.32,1.32,1.32,"…","…","…",0.16,0.45180187736999999,"…","…",0.96609999999999996,0.84860000000000002,0.72331909999999999,0.74870000000000003,0.67704129999999996,0.73333340000000002,0.83579970000000003,376,"…","…",284.63,143.13999999999999,"…",108.89,173,97,"…","…",25.66779826758,49.21,52,157.13999999999999,"…","…","…","…",63.2,"…",0.13730000000000001,0.15870000000000001,1.1033999999999999,0.39010084091000002,"…",2.5794054000000002,0.112215158,0.1543234,5.0900000000000001E-2,1167.22,"…",38.89,"…",165.90811172856999,"…",0.63449999999999995,"…",0.41760000000000003,11.5,60.5,36,35.5,24,562.17797851563,8.77,1099.8800000000001,248.5,3320.2,2074.5,264.10000000000002,39.78,122.5,2.0177999999999998]
["1968M12",1.32,1.32,1.32,"…","…","…",0.16,0.45180187736999999,"…","…",1.0246999999999999,0.82669999999999999,0.70943029999999996,0.74870000000000003,0.67704129999999996,0.73333340000000002,0.83579970000000003,386.9,"…","…",320.06,152.83000000000001,"…",111.02,181,94,"…","…",25.56693042645,48.42,53.9,159.88999999999999,"…","…","…","…",63.2,"…",0.1338,0.1762,1.0896999999999999,0.39095071872999998,"…",2.5794054000000002,0.112215158,0.1543234,6.0199999999999997E-2,1165.6300000000001,"…",38.89,"…",165.90811172856999,"…",0.62460000000000004,"…",0.41620000000000001,11.5,60.5,36,35.5,24,562.17797851563,8.77,1184.98,250.2,3258.4,2074.5,269,41.08,122.5,1.9593]
["1969M01",1.27,1.27,1.27,"…","…","…",0.17,0.45181991824000001,"…","…",0.93779999999999997,0.82609999999999995,0.70656439999999998,0.72619999999999996,0.59640110000000002,0.86266670000000001,0.71959969999999995,398.7,"…","…",319.58999999999997,158.26,"…",111.49,181,95,"…","…",25.964967781759999,50.39,53.2,162.35,"…","…","…","…",63.2,"…",0.14180000000000001,0.14499999999999999,1.0872999999999999,0.39250649992999997,"…",2.8660060000000001,0.112215158,0.15652801999999999,6.3500000000000001E-2,1135.81,"…",38.89,"…",165.90811172856999,"…",0.625,"…",0.42620000000000002,11.25,58,38.5,26.6,22,573.201171875,9.84,1255.53,254.2,3227.6,2363.4,269.39999999999998,42.3,122.5,1.9789000000000001]
["1969M02",1.27,1.27,1.27,"…","…","…",0.17,0.45181991824000001,"…","…",0.91049999999999998,0.84189999999999998,0.70810759999999995,0.72619999999999996,0.59640110000000002,0.86266670000000001,0.71959969999999995,396.4,"…","…",346.05,158.26,"…",109.36,185,95,"…","…",25.93808894104,50.39,54.1,160.47999999999999,"…","…","…","…",62.83,"…",0.14130000000000001,0.14929999999999999,1.0911,0.39398716029000003,"…",2.8660060000000001,0.112215158,0.15652801999999999,6.88E-2,1097.9100000000001,"…",38.89,"…",165.90811172856999,"…",0.62829999999999997,"…",0.47070000000000001,11.25,58,38.5,26.6,22,584.22436523438,9.84,1285.29,258.39999999999998,3245.2,2363.4,267.39999999999998,42.6,122.5,1.8396999999999999]
["1969M03",1.27,1.27,1.27,"…","…","…",0.17,0.45181991824000001,"…","…",0.89839999999999998,0.82940000000000003,0.6871642,0.72619999999999996,0.59640110000000002,0.86266670000000001,0.71959969999999995,388.1,"…","…",347.82,179.52,"…",110.55,178,94,"…","…",25.84218776746,50.39,53.1,166.96,"…","…","…","…",62.1,"…",0.15210000000000001,0.16639999999999999,1.125,0.39529454870000003,"…",2.8660060000000001,0.112215158,0.15873264000000001,7.7399999999999997E-2,1098.6500000000001,"…",38.89,"…",165.90811172856999,"…",0.62829999999999997,"…",0.50900000000000001,11.25,58,38.5,26.6,22,584.22436523438,9.84,1278.46,261.2,3243,2363.4,271.60000000000002,43.16,122.5,1.8257000000000001]
["1969M04",1.27,1.27,1.27,"…","…","…",0.17,0.45181991824000001,"…","…",0.87590000000000001,0.8135,0.65894569999999997,0.72619999999999996,0.59640110000000002,0.86266670000000001,0.71959969999999995,376.3,"…","…",340.14,170.07,"…",110.07,167,95,"…","…",26.0931028205,51.57,51.9,165.2,"…","…","…","…",62.1,"…",0.1512,0.1845,1.1632,0.39696525865999999,"…",2.8660060000000001,0.112215158,0.15873264000000001,8.0500000000000002E-2,1110.75,"…",38.89,"…",165.90811172856999,"…",0.62719999999999998,"…",0.51919999999999999,11.25,58,38.5,26.6,22,584.22436523438,9.84,1388.03,268.3,3304.7,2363.4,272.7,43.31,122.5,1.7781]
["1969M05",1.27,1.27,1.27,"…","…","…",0.17,0.45181991824000001,"…","…",0.80889999999999995,0.80930000000000002,0.64968649999999994,0.72619999999999996,0.59640110000000002,0.86266670000000001,0.71959969999999995,353.1,"…","…",345.17,166.29,"…",112.44,170,96,"…","…",26.61187885367,54.33,49.9,171.09,"…","…","…","…",62.1,"…",0.1739,0.17599999999999999,1.2410000000000001,0.39864114155000002,"…",2.8660060000000001,0.112215158,0.15873264000000001,8.0500000000000002E-2,1114.6300000000001,"…",38.89,"…",165.90811172856999,"…",0.63270000000000004,"…",0.49709999999999999,11.25,58,38.5,26.6,22,584.22436523438,9.84,1392.44,278.2,3355.4,2363.4,278.89999999999998,43.46,122.5,1.7609999999999999]
["1969M06",1.27,1.27,1.27,"…","…","…",0.17,0.45181991824000001,"…","…",0.89290000000000003,0.79500000000000004,0.6772437,0.72619999999999996,0.59640110000000002,0.86266670000000001,0.71959969999999995,339,"…","…",315.10000000000002,165.35,"…",109.6,173,99,"…","…",26.583057777699999,54.33,49,178.75,"…","…","…","…",61.73,"…",0.16089999999999999,0.17599999999999999,1.3120000000000001,0.4006716515,"…",2.8660060000000001,0.112215158,0.15873264000000001,8.0299999999999996E-2,1125.81,"…",38.89,"…",165.90811172856999,"…",0.62480000000000002,"…",0.51259999999999994,11.25,58,38.5,26.6,22,584.22436523438,9.84,1483.04,285.5,3379.7,2363.4,281.3,41.44,122.5,1.6455]
["1969M07",1.27,1.27,1.27,"…","…","…",0.17,0.45181991824000001,"…","…",0.93120000000000003,0.77759999999999996,0.6871642,0.72619999999999996,0.59640110000000002,0.86266670000000001,0.71959969999999995,326.89999999999998,"…","…",323.37,161.80000000000001,"…",101.57,180,95,"…","…",26.26711375995,53.93,51.5,180.51,"…","…","…","…",60.26,"…",0.15390000000000001,0.17599999999999999,1.3013999999999999,0.40147466759,"…",2.8660060000000001,0.112215158,0.14991415999999999,7.6499999999999999E-2,1149.6099999999999,"…",38.89,"…",165.90811172856999,"…",0.61380000000000001,"…",0.54369999999999996,11.25,58,40,26.6,22,584.22436523438,9.84,1453.95,311.10000000000002,3439.2,2363.4,283.7,41.76,122.5,1.6183000000000001]
["1969M08",1.27,1.27,1.27,"…","…","…",0.17,0.45181991824000001,"…","…",0.9143,0.81259999999999999,0.72464200000000001,0.72619999999999996,0.59640110000000002,0.86266670000000001,0.71959969999999995,330.7,"…","…",309.91000000000003,171.49,"…",99.21,181,96,"…","…",25.422180310440002,53.54,54.2,171.58,"…","…","…","…",56.22,"…",0.16869999999999999,0.17599999999999999,1.3748,0.40316958802000002,"…",2.8660060000000001,0.112215158,0.15873264000000001,6.5000000000000002E-2,1121.04,"…",38.89,"…",165.90811172856999,"…",0.59989999999999999,"…",0.57869999999999999,11.25,58,40,26.6,22,584.22436523438,9.84,1606.73,315.89999999999998,3470.1,2363.4,293.89999999999998,41.09,122.5,1.6526000000000001]
["1969M09",1.27,1.27,1.27,"…","…","…",0.17,0.45181991824000001,"…","…",0.90080000000000005,0.90259999999999996,0.76300140000000005,0.72619999999999996,0.59640110000000002,0.86266670000000001,0.71959969999999995,332.6,"…","…",318.88,180.94,"…",100.86,200,92,"…","…",24.537951386700001,51.18,56.8,167.55,"…","…","…","…",53.65,"…",0.1792,0.17599999999999999,1.3203,0.40395487341000003,"…",2.8660060000000001,0.112215158,0.15873264000000001,6.0400000000000002E-2,1096.94,"…",38.89,"…",165.90811172856999,"…",0.61309999999999998,"…",0.54259999999999997,11.25,58,40,26.6,22,584.22436523438,9.84,1578.95,302.5,3470.1,2363.4,299.39999999999998,40.869999999999997,122.5,1.7855000000000001]
["1969M10",1.27,1.27,1.27,"…","…","…",0.17,0.45181991824000001,"…","…",0.91859999999999997,1.0401,0.84501139999999997,0.72619999999999996,0.59640110000000002,0.86266670000000001,0.71959969999999995,336.6,"…","…",331.09,203.14,"…",102.99,240,92,"…","…",24.379960128099999,51.87,57.4,167.36,"…","…","…","…",52.18,"…",0.1704,0.17599999999999999,1.2323999999999999,0.40547872070000002,"…",2.8660060000000001,0.112215158,0.16093726,6.5000000000000002E-2,1139.1400000000001,"…",38.89,"…",165.90811172856999,"…",0.62719999999999998,"…",0.50270000000000004,11.25,58,40,26.6,22,601.861328125,9.84,1554.48,293.7,3534,2363.4,298.89999999999998,40.44,122.75,1.8725000000000001]
["1969M11",1.27,1.27,1.27,"…","…","…",0.17,0.45181991824000001,"…","…",0.93210000000000004,1.0246999999999999,0.82076110000000002,0.72619999999999996,0.59640110000000002,0.86266670000000001,0.71959969999999995,357.4,"…","…",346.64,203.14,"…",106.53,260,91,"…","…",24.628753134709999,53.16,57.5,167.55,"…","…","…","…",52.18,"…",0.16420000000000001,0.17599999999999999,1.2114,0.40681820822999998,"…",2.8660060000000001,0.112215158,0.15873264000000001,6.7000000000000004E-2,1096.3800000000001,"…",38.89,"…",165.90811172856999,"…",0.64770000000000005,"…",0.45369999999999999,11.25,58,40,26.6,22,606.2705078125,9.84,1631.42,315.7,3642,2363.4,309.5,37.4,132.5,1.9231]
["1969M12",1.27,1.27,1.27,"…","…","…",0.17,0.45181991824000001,"…","…",0.85119999999999996,1.0479000000000001,0.82847709999999997,0.72619999999999996,0.59640110000000002,0.86266670000000001,0.71959969999999995,399.4,"…","…",334.54,255.11,"…",106.29,251,96,"…","…",24.540627623150002,52.36,56.5,161.07,"…","…","…","…",52.18,"…",0.1565,0.16320000000000001,1.2144999999999999,0.40928763806000001,"…",2.8660060000000001,0.112215158,0.1543234,6.2199999999999998E-2,1061.92,"…",38.89,"…",165.90811172856999,"…",0.65590000000000004,"…",0.47020000000000001,11.25,58,40,26.6,22,606.2705078125,9.84,1699.76,334,3818.4,2363.4,310.2,35.17,132.5,1.8070999999999999]
["1970M01",1.21,1.21,1.21,"…",7.8,"…",0.17,0.44721801014000001,"…","…",0.67500000000000004,1.1369,0.86198649999999999,0.83499999999999996,0.62664120000000001,0.99066670000000001,0.88759960000000004,405.8,"…","…",349.83,255.34,"…",107,252,101,"…","…",25.527059572439999,58.4,51.8,140.44999999999999,"…","…","…","…",52.18,"…",0.1656,0.1696,1.2957000000000001,0.41172424583,"…",2.7337288000000002,0.112215158,0.16534650000000001,7.9100000000000004E-2,1078.1099999999999,42.99,38.89,175,165.90811172856999,"…",0.64480000000000004,"…",0.50419999999999998,11,54,44,18.25,31.5,606.2705078125,9.84,1626.3,324.7,3842.7,2846.2,302.39999999999998,34.94,132.5,1.8765000000000001]
["1970M02",1.21,1.21,1.21,"…",7.8,"…",0.17,0.44721801014000001,"…","…",0.67500000000000004,1.1453,0.84743639999999998,0.83499999999999996,0.62664120000000001,0.99066670000000001,0.88759960000000004,406.28,"…","…",346.99,256.29000000000002,"…",110,257,102,"…","…",25.569435589379999,58.4,51.8,133.38,"…","…","…","…",52.18,"…",0.1744,0.1696,1.3338000000000001,0.41333127903,"…",2.7337288000000002,0.112215158,0.16314187999999999,6.9000000000000006E-2,1114.27,42.99,40.630000000000003,175,169.87615213162999,"…",0.65159999999999996,"…",0.47970000000000002,11,54,44,18.25,31.5,606.2705078125,9.84,1657.2,341,3767.7,2846.2,298,34.99,132.5,1.8957999999999999]
["1970M03",1.21,1.21,1.21,"…",7.8,"…",0.17,0.44721801014000001,"…","…",0.67500000000000004,1.1711,0.86793880000000001,0.83499999999999996,0.62664120000000001,0.99066670000000001,0.88759960000000004,406.28,"…","…",343.45,258.88,"…",111,268,97,"…","…",25.611881952329998,58.4,51.8,126.31,"…","…","…","…",52.18,"…",0.19359999999999999,0.159,1.3461000000000001,0.41387964614,"…",2.7337288000000002,0.112215158,0.16093726,7.4499999999999997E-2,1111.53,42.99,41.67,175,172.21057681803001,"…",0.65700000000000003,"…",0.44330000000000003,11,54,44,18.25,31.5,606.2705078125,9.84,1754,335.5,3796.4,2846.2,296,35.090000000000003,132.5,1.8885000000000001]
["1970M04",1.21,1.21,1.21,"…",7.8,"…",0.17,0.44721801014000001,"…","…",0.67500000000000004,1.2028000000000001,0.9129121,0.83499999999999996,0.62664120000000001,0.99066670000000001,0.88759960000000004,406.28,"…","…",358.57,267.62,"…",112,298,97,"…","…",25.65439877807,58.4,51.8,121.59,"…","…","…","…",52.18,"…",0.17130000000000001,0.16159999999999999,1.3622000000000001,0.41532013670000001,"…",2.7337288000000002,0.112215158,0.16093726,7.8700000000000006E-2,1119.96,42.99,41.81,175,172.52276965825001,"…",0.66180000000000005,"…",0.42020000000000002,11,54,44,18.25,31.5,612.88427734375,9.84,1741.6,321.2,3849.3,2846.2,293.39999999999998,35.619999999999997,132.5,1.8529]
["1970M05",1.21,1.21,1.21,"…",7.8,"…",0.17,0.44721801014000001,"…","…",0.67500000000000004,1.2170000000000001,0.94002819999999998,0.83499999999999996,0.62664120000000001,0.99066670000000001,0.88759960000000004,399.19,"…","…",383.84,278.73,"…",115,292,98,"…","…",25.696986183570001,58.4,51.8,121.59,"…","…","…","…",52.18,"…",0.18920000000000001,0.159,1.3349,0.41694840965000002,"…",2.7337288000000002,0.112215158,0.16755112,8.0500000000000002E-2,1074.77,42.99,43.5,175,176.25414124668001,"…",0.66449999999999998,"…",0.41489999999999999,11,54,44,18.25,31.5,617.29370117188,9.84,1597.9,291.60000000000002,3736.8,2846.2,291.7,35.950000000000003,132.5,1.67]
["1970M06",1.21,1.21,1.21,"…",7.8,"…",0.17,0.44721801014000001,"…","…",0.67500000000000004,1.2060999999999999,0.92988729999999997,0.83499999999999996,0.62664120000000001,0.99066670000000001,0.88759960000000004,389.74,"…","…",383.37,277.07,"…",118,288,102,"…","…",25.73964428599,58.4,51.8,123.95,"…","…","…","…",52.18,"…",0.18190000000000001,0.15629999999999999,1.2979000000000001,0.41911571831,"…",2.7337288000000002,0.112215158,0.16755112,8.4199999999999997E-2,1047.3399999999999,42.99,44.44,175,178.30072878273,"…",0.66600000000000004,"…",0.41199999999999998,11,54,44,18.25,31.5,617.29370117188,9.84,1458,308.2,3542.8,2846.2,293.2,35.42,132.5,1.6394]
["1970M07",1.21,1.21,1.21,"…",7.8,"…",0.17,0.44721801014000001,"…","…",0.67500000000000004,1.2121,0.9424534,0.83499999999999996,0.62664120000000001,0.99066670000000001,0.88759960000000004,389.74,"…","…",385.73,261.01,"…",122,290,106,"…","…",25.863846571130001,58.4,51.8,124.93,"…","…","…","…",52.54,"…",0.1479,0.1696,1.2927999999999999,0.42126657604000001,"…",2.7337288000000002,0.112215158,0.16755112,8.4199999999999997E-2,1065.43,42.99,44.44,175,178.30072878273,"…",0.67210000000000003,"…",0.38290000000000002,11,54,41,18.25,31.5,617.29370117188,9.84,1366.6,300.7,3498.7,2846.2,298.10000000000002,35.32,132.5,1.6866000000000001]
["1970M08",1.21,1.21,1.21,"…",7.8,"…",0.17,0.44721801014000001,"…","…",0.67500000000000004,1.1828000000000001,0.94465779999999999,0.83499999999999996,0.62664120000000001,0.99066670000000001,0.88759960000000004,377.93,"…","…",392.11,240.22,"…",120,270,107,"…","…",26.236915759319999,58.4,51.8,128.08000000000001,"…","…","…","…",54.01,"…",0.1598,0.1696,1.2468999999999999,0.42290249237999999,"…",2.7337288000000002,0.112215158,0.16755112,8.4099999999999994E-2,1082.5999999999999,42.99,44.44,175,178.30072878273,"…",0.68259999999999998,"…",0.37130000000000002,11,54,41,18.25,31.5,617.29370117188,9.84,1266.5,285.39999999999998,3620,2846.2,298.10000000000002,35.380000000000003,132.5,1.7977000000000001]
["1970M09",1.21,1.21,1.21,"…",7.8,"…",0.17,0.44721801014000001,"…","…",0.67500000000000004,1.1603000000000001,0.93870549999999997,0.83499999999999996,0.62664120000000001,0.99066670000000001,0.88759960000000004,381,"…","…",364.47,226.29,"…",119,276,106,"…","…",26.768581567679998,58.4,51.8,125.72,"…","…","…","…",56.22,"…",0.1618,0.1696,1.28,0.42420408000999998,"…",2.7337288000000002,0.112215158,0.16755112,8.5300000000000001E-2,1071.75,42.99,44.44,175,178.30072878273,"…",0.69179999999999997,"…",0.3649,11,54,41,18.25,31.5,617.29370117188,9.84,1246.9000000000001,284.8,3646.4,2846.2,300,36.19,132.5,1.8016000000000001]
["1970M10",1.21,1.21,1.21,"…",7.8,"…",0.17,0.44721801014000001,"…","…",0.67500000000000004,1.1196999999999999,0.94157150000000001,0.83499999999999996,0.62664120000000001,0.99066670000000001,0.88759960000000004,398.48,"…","…",390.22,257.47000000000003,"…",123,304,104,"…","…",27.368679832400002,58.4,51.8,124.44,"…","…","…","…",58.79,"…",0.16930000000000001,0.1696,1.284,0.42533402559,"…",2.7337288000000002,0.112215158,0.16755112,8.6599999999999996E-2,1025.76,42.99,44.44,175,178.30072878273,"…",0.69769999999999999,"…",0.34810000000000002,11,54,41,18.25,31.5,617.29370117188,9.84,1142.4000000000001,285.2,3668.5,2846.2,296.5,37.520000000000003,132.5,1.7458]
["1970M11",1.21,1.21,1.21,"…",7.8,"…",0.17,0.44721801014000001,"…","…",0.67500000000000004,1.0278,0.91599850000000005,0.83499999999999996,0.62664120000000001,0.99066670000000001,0.88759960000000004,401.56,"…","…",406.28,269.99,"…",125,330,105,"…","…",27.880192790190002,58.4,51.8,124.84,"…","…","…","…",60.99,"…",0.1497,0.1696,1.2703,0.4269890174,"…",2.7337288000000002,0.112215158,0.16314187999999999,9.01E-2,1057.02,42.99,44.44,175,178.30072878273,"…",0.70899999999999996,"…",0.37409999999999999,11,54,41,18.25,31.5,617.29370117188,9.84,1085.3,279.89999999999998,3615.6,2846.2,293.2,37.44,132.5,1.7604]
["1970M12",1.21,1.21,1.21,"…",7.8,"…",0.17,0.44721801014000001,"…","…",0.67500000000000004,0.97750000000000004,0.91908489999999998,0.83499999999999996,0.62664120000000001,0.99066670000000001,0.88759960000000004,403.92,"…","…",437.69,271.64,"…",121,311,106,"…","…",28.38636321121,58.4,51.8,120.42,"…","…","…","…",63.2,"…",0.1285,0.19339999999999999,1.3069,0.42864878674000001,"…",2.7337288000000002,0.112215158,0.16534650000000001,9.06E-2,1063.19,42.99,44.44,175,178.30072878273,"…",0.71650000000000003,"…",0.37040000000000001,11,54,41,18.25,31.5,617.29370117188,9.84,1045.7,276.7,3496.5,2846.2,289.2,37.44,132.5,1.6348]
["1971M01",1.64,1.64,1.64,"…",8.68,"…",0.18,0.50224354379000002,"…","…",0.53800000000000003,1.0031000000000001,0.92988729999999997,0.77969999999999995,0.63839950000000001,0.7991994,0.90159959999999995,409.82,"…","…",448.32,273.29000000000002,"…",125,309,105,"…","…",28.50975184959,58.4,55.77,121.4,"…","…","…","…",63.57,"…",0.13800000000000001,0.13189999999999999,1.3358000000000001,0.42996642411000002,0.80259999999999998,3.3069299999999999,0.112215158,0.16975573999999999,0.104,1045.9100000000001,44.43,44.44,"…",178.30072878273,"…",0.72750000000000004,"…",0.35339999999999999,11.25,57.5,40,16,32.5,617.29370117188,10.33,1010,262.5,3465.7,2932.1,284.60000000000002,37.880000000000003,129,1.6395999999999999]
["1971M02",1.64,1.64,1.64,"…",8.68,"…",0.18,0.50224354379000002,"…","…",0.53800000000000003,0.98329999999999995,0.92966680000000002,0.77810000000000001,0.66959950000000001,0.76319939999999997,0.90159959999999995,393.4,"…","…",479.5,273.29000000000002,"…",125,297,101,"…","…",28.55707926401,58.4,55.77,105.1,"…","…","…","…",63.57,"…",0.13500000000000001,0.1462,1.3716999999999999,0.43115038508999998,0.7913,3.3069299999999999,0.112215158,0.17416498,0.10630000000000001,1018.55,44.43,44.44,"…",178.30072878273,"…",0.74029999999999996,"…",0.33329999999999999,11.25,57.5,40,16,32.5,617.29370117188,10.33,1020.2,266.10000000000002,3463.5,2932.1,272.10000000000002,38.74,122.5,1.6003000000000001]
["1971M03",1.64,1.64,1.64,"…",8.68,"…",0.18,0.50224354379000002,"…","…",0.53800000000000003,1.0143,0.94068960000000001,0.75649999999999995,0.70319940000000003,0.66479949999999999,0.90159959999999995,401.56,"…","…",481.87,278.02,"…",124,300,100,"…","…",28.451203500919998,58.4,55.77,98.91,"…","…","…","…",62.83,"…",0.13700000000000001,0.15240000000000001,1.3812,0.43287185936,0.78459999999999996,3.3069299999999999,0.112215158,0.17196036000000001,0.10340000000000001,1020.68,44.43,44.44,"…",178.30072878273,"…",0.72750000000000004,"…",0.33529999999999999,11.25,57.5,40,16,32.5,617.29370117188,10.33,1144.0999999999999,267.39999999999998,3527.4,2932.1,283.7,38.869999999999997,122.5,1.669]
["1971M04",1.64,1.64,1.64,"…",8.68,"…",0.18,0.50224354379000002,"…","…",0.53800000000000003,0.98939999999999995,0.94002819999999998,1.0293000000000001,0.64559949999999999,1.540799,0.90159959999999995,388.8,"…","…",462.97,269.27999999999997,"…",119,292,98,"…","…",28.421298617390001,58.4,55.77,95.67,"…","…","…","…",62.46,"…",0.13800000000000001,0.1711,1.4020999999999999,0.43440977716000001,0.81910000000000005,3.3069299999999999,0.112215158,0.16975573999999999,0.10050000000000001,1012.52,44.43,44.44,"…",178.30072878273,"…",0.72550000000000003,"…",0.35599999999999998,11.25,57.5,40,16,32.5,617.29370117188,10.33,1251.5,268,3562.7,2932.1,283.5,39.01,122.5,1.726]
["1971M05",1.64,1.64,1.64,"…",8.68,"…",0.18,0.50224354379000002,"…","…",0.53800000000000003,1.0183,0.94002819999999998,0.91410000000000002,0.65519950000000005,1.1855990000000001,0.90159959999999995,359.04,"…","…",453.52,242.82,"…",122,293,101,"…","…",28.622759685889999,58.4,55.77,105.98,"…","…","…","…",63.2,"…",0.13900000000000001,0.1542,1.4038999999999999,0.43689260567999999,0.78979999999999995,3.3069299999999999,0.112215158,0.17416498,9.6100000000000005E-2,1038.8,44.43,44.31,"…",178.01888484413999,"…",0.75349999999999995,"…",0.37609999999999999,11.25,57.5,40,16,32.5,617.29370117188,10.33,1114.4000000000001,264.5,3520.8,2932.1,287.7,40.520000000000003,122.5,1.6667000000000001]
["1971M06",1.64,1.64,1.64,"…",8.68,"…",0.18,0.50224354379000002,"…","…",0.53800000000000003,1.0022,0.93407589999999996,0.85329999999999995,0.63599950000000005,1.0223990000000001,0.90159959999999995,354.31,"…","…",441.24,240.93,"…",127,310,104,"…","…",28.284179171270001,58.4,55.77,109.22,"…","…","…","…",61.36,"…",0.13700000000000001,0.1542,1.3711,0.43937304593999998,0.75819999999999999,3.3069299999999999,0.112215158,0.17636959999999999,9.1499999999999998E-2,1035.0899999999999,44.43,43.26,"…",175.72835731123001,"…",0.7923,"…",0.34239999999999998,11.25,57.5,40,16,32.5,617.29370117188,10.33,1074.2,273.3,3448,2932.1,308.60000000000002,40.1,122.5,1.6081000000000001]
["1971M07",1.74,1.74,1.74,"…",8.68,"…",0.18,0.50224354379000002,"…","…",0.53800000000000003,0.99270000000000003,0.92834399999999995,0.90769999999999995,0.63359949999999998,1.187999,0.90159959999999995,351.01,"…","…",439.58,263.37,"…",134,336,107,"…","…",28.331132125340002,58.4,55.77,111.48,"…","…","…","…",61.36,"…",0.13600000000000001,0.1542,1.3479000000000001,0.44185184502000002,0.75239999999999996,3.3069299999999999,0.112215158,0.17636959999999999,9.1999999999999998E-2,1011.61,44.43,41.94,"…",172.81223271447999,"…",0.79649999999999999,"…",0.33139999999999997,11.25,66,46.5,16,32.5,617.29370117188,10.33,1115.3,261.89999999999998,3456.8,2932.1,317.60000000000002,40.950000000000003,122.5,1.5808]
["1971M08",1.74,1.74,1.74,"…",8.68,"…",0.18,0.50224354379000002,"…","…",0.53800000000000003,1.0051000000000001,0.92988729999999997,0.86260000000000003,0.71286939999999999,0.97320050000000002,0.90159959999999995,355.49,"…","…",439.64,282.56,"…",131,335,108,"…","…",28.299510307239998,58.4,55.77,113.35,"…","…","…","…",60.99,"…",0.14499999999999999,0.1542,1.3241000000000001,0.44398130064000002,0.75019999999999998,3.3069299999999999,0.113758392,0.17857422000000001,9.3700000000000006E-2,1001.25,44.43,42.19,"…",173.36773483105,"…",0.82889999999999997,"…",0.31569999999999998,11.25,66,46.5,16,32.5,628.31665039063,10.33,1097.9000000000001,258.3,3478.9,2932.1,322.5,42.71,122.5,1.5866]
["1971M09",1.74,1.74,1.74,"…",8.68,"…",0.18,0.50224354379000002,"…","…",0.53800000000000003,0.96450000000000002,0.92437579999999997,0.85460000000000003,0.72609270000000004,0.9360174,0.90159959999999995,356.72,"…","…",429.75,272.24,"…",124,296,99,"…","…",28.34648871165,58.4,55.77,120.61,"…","…","…","…",60.99,"…",0.14699999999999999,0.1542,1.2968,0.44428801614000002,0.79010000000000002,3.3069299999999999,0.115522088,0.17416498,8.7900000000000006E-2,1042.75,44.43,43.12,"…",175.42103026599,"…",0.82669999999999999,"…",0.32319999999999999,11.25,66,46.5,16,32.5,639.33984375,10.33,1056.4000000000001,239.2,3525.2,2932.1,311.2,42.03,122.5,1.4214]
["1971M10",1.74,1.74,1.74,"…",8.68,"…",0.18,0.50224354379000002,"…","…",0.53800000000000003,0.94310000000000005,0.91908489999999998,0.84770000000000001,0.70495339999999995,0.93661640000000002,0.90159959999999995,357.94,"…","…",404.03,253.99,"…",125,305,101,"…","…",28.237086453309999,58.4,55.77,121.69,"…","…","…","…",60.26,"…",0.14299999999999999,0.1542,1.3129,0.4466334247,0.79790000000000005,3.3069299999999999,0.116403936,0.17416498,9.2799999999999994E-2,1081.58,44.43,43.58,"…",176.42910586900001,"…",0.81850000000000001,"…",0.31569999999999998,11.25,66,46.5,16,32.5,639.33984375,10.33,1041.2,229.5,3489.9,2932.1,336.6,42.5,122.5,1.3358000000000001]
["1971M11",1.74,1.74,1.74,"…",8.68,"…",0.18,0.50224354379000002,"…","…",0.53800000000000003,0.96579999999999999,0.92547809999999997,0.82069999999999999,0.69305430000000001,0.86756429999999995,0.90159959999999995,358.23,"…","…",396.01,247.82,"…",125,301,102,"…","…",28.283961231439999,58.4,55.77,118.06,"…","…","…","…",60.26,"…",0.14299999999999999,0.1542,1.2862,0.44879647447999998,0.84789999999999999,3.3069299999999999,0.116624398,0.17636959999999999,9.35E-2,1102.4000000000001,44.43,41.57,"…",171.98728644139999,"…",0.81569999999999998,"…",0.31530000000000002,11.25,66,46.5,16,32.5,641.54443359375,10.33,1013.9,221.8,3534,2932.1,344.4,42.86,122.5,1.3199000000000001]
["1971M12",1.74,1.74,1.74,"…",8.68,"…",0.18,0.50224354379000002,"…","…",0.53800000000000003,1.0206999999999999,0.93738279999999996,0.80400000000000005,0.70222770000000001,0.80831960000000003,0.90159959999999995,300,"…","…",410.95,233.69,"…",126,271,101,"…","…",28.25095631656,58.4,55.77,116.98,"…","…","…","…",59.89,"…",0.14399999999999999,0.15509999999999999,1.3166,0.45059029344000001,0.877,3.3069299999999999,0.11816763199999999,0.18298345999999999,0.1275,1100.6199999999999,44.43,41.45,"…",171.71901157872,"…",0.84550000000000003,"…",0.2928,11.25,66,46.5,16,32.5,665.79516601563,10.33,1037.9000000000001,231,3670.7,2932.1,358.9,43.48,122.5,1.3935]
["1972M01",1.77,1.77,1.77,"…",9.6,"…",0.19,0.54216598655000003,"…","…",0.64400000000000002,0.99050000000000005,0.92966680000000002,0.78690000000000004,0.74601410000000001,0.80410809999999999,0.81059970000000003,300,"…","…",426.69,218.34,"…",125,249,105,"…","…",27.06295183816,51.33,53.08,113.84,"…","…","…","…",59.89,"…",0.13100000000000001,0.1885,1.3857999999999999,0.45333391136000001,0.92,4.1226393999999997,0.1543234,0.19180194,0.1741,1106.83,52.48,40.35,"…",169.24297163932999,"…",0.88839999999999997,"…",0.31609999999999999,11.5,83,60,29.25,33.5,670.20458984375,10.33,1078,251.9,3626.6,3079.9,379.8,45.75,122.5,1.4731000000000001]
["1972M02",1.77,1.77,1.77,"…",9.6,"…",0.19,0.54216598655000003,"…","…",0.64400000000000002,0.99960000000000004,0.93076899999999996,0.7923,0.78249400000000002,0.78392609999999996,0.81059970000000003,250,"…","…",437.61,185.17,"…",127,246,107,"…","…",27.178920096150001,51.72,53.46,112.56,"…","…","…","…",59.89,"…",0.14000000000000001,0.19120000000000001,1.4041999999999999,0.45641986358999997,0.88849999999999996,4.1226393999999997,0.15608709600000001,0.1873927,0.18099999999999999,1115.1600000000001,52.48,42.13,"…",173.23455272171,"…",0.89639999999999997,"…",0.3135,11.5,83,60,29.25,33.5,670.20458984375,10.33,1112.4000000000001,294.3,3631,3079.9,389.7,48.26,122.5,1.5036]
["1972M03",1.77,1.77,1.77,"…",9.6,"…",0.19,0.54216598655000003,"…","…",0.64400000000000002,1.0192000000000001,0.94950800000000002,0.79600000000000004,0.82444589999999995,0.75308070000000005,0.81059970000000003,210,"…","…",434.41,216.68,"…",135,258,114,"…","…",27.367115362260002,52.51,53.57,113.05,"…","…","…","…",59.89,"…",0.13300000000000001,0.1648,1.4548000000000001,0.46040182827999998,0.91759999999999997,4.1226393999999997,0.157189406,0.18959732000000001,0.185,1088.67,52.48,43.98,"…",177.30172162124001,"…",0.87070000000000003,"…",0.30969999999999998,11.5,83,60,29.25,33.5,670.20458984375,10.33,1108.2,320.5,3789.7,3079.9,397.4,48.33,122.5,1.5364]
["1972M04",1.77,1.77,1.77,"…",9.6,"…",0.19,0.54216598655000003,"…","…",0.64400000000000002,1.0115000000000001,0.96273529999999996,0.81399999999999995,0.80985399999999996,0.82147219999999999,0.81059970000000003,200,"…","…",439.9,227.34,"…",140,272,117,"…","…",27.700405945970001,53.68,53.68,111.58,"…","…","…","…",60.26,"…",0.13500000000000001,0.1542,1.4991000000000001,0.46367674180000001,0.93069999999999997,4.1226393999999997,0.15652801999999999,0.18518808,0.156,1066.04,52.48,43.57,"…",176.40724337569,"…",0.86509999999999998,"…",0.30640000000000001,11.5,83,60,29.25,33.5,670.20458984375,10.33,1133,315.89999999999998,3844.9,3079.9,395,49.03,122.5,1.5720000000000001]
["1972M05",1.77,1.77,1.77,"…",9.6,"…",0.19,0.54216598655000003,"…","…",0.64400000000000002,1.0377000000000001,0.96471949999999995,0.85770000000000002,0.80255799999999999,0.95983830000000003,0.81059970000000003,220,"…","…",441.52,227.51,"…",140,252,117,"…","…",27.888683322049999,54.48,51.53,114.13,"…","…","…","…",60.26,"…",0.1411,0.1331,1.5055000000000001,0.46645670906999998,0.98470000000000002,4.1226393999999997,0.15652801999999999,0.17857422000000001,0.1462,1060.8699999999999,52.48,42.54,"…",174.14290035315,"…",0.85980000000000001,"…",0.32629999999999998,11.5,83,60,29.25,33.5,599.65673828125,10.33,1106.4000000000001,317.89999999999998,3765.5,3079.9,386.2,54.62,122.5,1.583]
["1972M06",1.77,1.77,1.77,"…",9.6,"…",0.19,0.54216598655000003,"…","…",0.64400000000000002,1.0697000000000001,0.96251489999999995,0.86650000000000005,0.73507009999999995,1.053885,0.81059970000000003,248.46,"…","…",422.12,216.13,"…",138,234,119,"…","…",27.574097412130001,52.9,49.82,118.35,"…","…","…","…",59.89,"…",0.13700000000000001,0.1331,1.5350999999999999,0.46959346886999997,1.2290000000000001,4.1226393999999997,0.154543862,0.18077884,0.13950000000000001,1072.21,52.48,40.75,"…",170.14690053573,"…",0.83130000000000004,"…",0.32669999999999999,11.5,83,60,29.25,33.5,566.58740234375,10.33,1063.2,311.89999999999998,3741.2,3079.9,371,62.09,122.5,1.569]
["1972M07",1.87,1.87,1.87,"…",9.6,"…",0.19,0.54216598655000003,"…","…",0.64400000000000002,1.2361,1.043863,0.78779999999999994,0.54557230000000001,1.007215,0.81059970000000003,222.41,"…","…",403.2,214.6,"…",141,226,127,"…","…",27.9083578784,54.07,51.92,119.33,"…","…","…","…",60.26,"…",0.13109999999999999,0.1331,1.5065999999999999,0.47372466781,1.1514,4.1226393999999997,0.146386768,0.1873927,0.1225,1062.48,52.48,39.020000000000003,"…",166.20736113845001,"…",0.78149999999999997,"…",0.3241,11.5,99,75,29.25,33.5,537.92724609375,10.33,1034.5999999999999,303.7,3732.4,3079.9,363.7,65.66,128,1.7358]
["1972M08",1.87,1.87,1.87,"…",9.6,"…",0.19,0.54216598655000003,"…","…",0.64400000000000002,1.2009000000000001,1.040557,0.77200000000000002,0.63593750000000004,0.86931360000000002,0.81059970000000003,217.02,"…","…",413.54,220.64,"…",141,223,126,"…","…",28.6286672552,55.66,54.94,135.55000000000001,"…","…","…","…",62.1,"…",0.14199999999999999,0.1331,1.4916,0.47640385862000001,1.2221,4.1226393999999997,0.14682769200000001,0.19400655999999999,0.13780000000000001,1081.81,52.48,39.270000000000003,"…",166.78155467369999,"…",0.74150000000000005,"…",0.317,11.5,99,75,29.25,33.5,540.1318359375,10.33,1046.7,297.8,3754.5,3079.9,363.5,67.03,132.5,1.8461000000000001]
["1972M09",1.87,1.87,1.87,"…",9.6,"…",0.19,0.54216598655000003,"…","…",0.64400000000000002,1.1687000000000001,1.0346040000000001,0.75629999999999997,0.69374999999999998,0.76441870000000001,0.81059970000000003,226,"…","…",412.33,224.87,"…",135,225,138,"…","…",32.15085873956,59.2,58.2,144.80000000000001,"…","…","…","…",76.06,"…",0.13300000000000001,0.1331,1.4577,0.48112753612999998,1.2,4.1226393999999997,0.146386768,0.19400655999999999,0.15579999999999999,1062.8399999999999,52.48,39.380000000000003,"…",167.03366698553,"…",0.73299999999999998,"…",0.308,11.5,99,75,29.25,33.5,537.92724609375,10.33,1060.5999999999999,302.39999999999998,3803,3079.9,368.4,65.459999999999994,132.5,1.7766999999999999]
["1972M10",1.87,1.87,1.87,"…",9.6,"…",0.19,0.54216598655000003,"…","…",0.64400000000000002,1.1778999999999999,1.0368090000000001,0.74009999999999998,0.63293100000000002,0.77686829999999996,0.81059970000000003,232,"…","…",401.48,224.02,"…",136,228,135,"…","…",33.932380115139999,57.22,56.88,148.69999999999999,"…","…","…","…",87.45,"…",0.13500000000000001,0.1331,1.4686999999999999,0.48355758726999998,1.1093,4.1226393999999997,0.143741224,0.19400655999999999,0.1633,1061.76,52.48,39.46,"…",167.21681798073001,"…",0.77990000000000004,"…",0.36020000000000002,11.5,99,75,29.25,33.5,537.92724609375,10.33,917.5,297.2,3758.9,3079.9,363.7,64.86,132.5,1.8106]
["1972M11",1.87,1.87,1.87,"…",9.6,"…",0.19,0.54216598655000003,"…","…",0.64400000000000002,1.1859,1.0443039999999999,0.70989999999999998,0.5837871,0.73531970000000002,0.81059970000000003,234.96,"…","…",422.59,218.54,"…",148,240,155,"…","…",34.65496025254,59.2,61.95,156,"…","…","…","…",88.92,"…",0.14099999999999999,0.1331,1.4845999999999999,0.48933809322999999,1.1214,4.1226393999999997,0.14109568,0.18518808,0.16039999999999999,1048.8599999999999,52.48,39.46,"…",167.21681798073001,"…",0.81430000000000002,"…",0.37209999999999999,11.5,99,75,29.25,33.5,540.1318359375,10.33,1007.1,298,3701.6,3079.9,378.9,62.91,132.5,1.8325]
["1972M12",1.87,1.87,1.87,"…",9.6,"…",0.19,0.54216598655000003,"…","…",0.64400000000000002,1.2174,1.052902,0.70740000000000003,0.60316510000000001,0.70840000000000003,0.81059970000000003,247.87,"…","…",455.82,213.26,"…",174,234,198,"…","…",38.749758890309998,67.06,75.83,165.5,"…","…","…","…",102.88,"…",0.13400000000000001,0.22939999999999999,1.5694999999999999,0.49745133572,1.1425000000000001,4.1226393999999997,0.14065475599999999,0.18959732000000001,0.20169999999999999,1056.18,52.48,43.48,"…",176.21037696933001,"…",0.86199999999999999,"…",0.4012,11.5,99,75,29.25,33.5,540.1318359375,10.33,1024.4000000000001,308.39999999999998,3730.2,3079.9,375,63.91,132.5,1.976]
["1973M01",2.08,2.08,2.08,"…",11.48,"…",0.21,0.69350672431000004,"…","…",1.131,1.278,1.0540050000000001,0.71609999999999996,0.60239160000000003,0.72538650000000005,0.82039969999999995,231,"…","…",445.79,211.77,"…",214,239,215,"…","…",42.096023126120002,79.13,81.349999999999994,160.88,"…","…","…","…",108.39,"…",0.13500000000000001,0.14879999999999999,1.7009000000000001,0.50219902931000004,1.1688000000000001,5.0044874000000004,0.14131614200000001,0.20679335600000001,0.2072,1041.72,133.47,48.85,"…",187.64716089258999,"…",0.88580000000000003,"…",0.44219999999999998,13.75,105,84,64.75,42.5,542.33642578125,10.33,1119,318.3,3789.7,3373.1,387,65.14,132.5,2.0165999999999999]
["1973M02",2.08,2.08,2.08,"…",11.48,"…",0.21,0.69350672431000004,"…","…",1.131,1.4541999999999999,1.091923,0.72919999999999996,0.65741309999999997,0.70984480000000005,0.82039969999999995,299,"…","…",460.54,258.66000000000003,"…",259,291,247,"…","…",40.763645642930001,81.099999999999994,78.48,173.53,"…","…","…","…",98.84,"…",0.14199999999999999,0.18229999999999999,1.8744000000000001,0.50886058293000003,1.1846000000000001,5.0044874000000004,0.14550492000000001,0.20150226800000001,0.19789999999999999,1039.48,133.47,63.34,"…",215.90429558033,"…",0.90680000000000005,"…",0.46250000000000002,13.75,105,84,64.75,42.5,557.76879882813,10.33,1243.5999999999999,339.9,4027.8,3373.1,422,74.2,141.97,2.2362000000000002]
["1973M03",2.08,2.08,2.08,"…",11.48,"…",0.21,0.69350672431000004,"…","…",1.131,1.4193,1.10978,0.73399999999999999,0.69585609999999998,0.68559780000000003,0.82039969999999995,315,"…","…",462.7,280.36,"…",258,311,238,"…","…",40.555044765280002,79.92,76.28,185.87,"…","…","…","…",98.47,"…",0.14199999999999999,0.17810000000000001,1.9795,0.51174867349999997,1.2307999999999999,5.0044874000000004,0.14859138799999999,0.20811612800000001,0.1933,1046.8599999999999,133.47,74.099999999999994,"…",234.99410265012,"…",0.95799999999999996,"…",0.5454,13.75,105,84,64.75,42.5,570.99658203125,10.33,1509.5,372.1,4288,3373.1,474,84.37,152.5,2.3092000000000001]
["1973M04",2.35,2.35,2.35,"…",11.48,"…",0.21,0.69350672431000004,"…","…",1.131,1.2909999999999999,1.077593,0.80410000000000004,0.69264749999999997,0.89935120000000002,0.82039969999999995,360,"…","…",473.56,290.2,"…",260,333,256,"…","…",40.721553010720001,77.77,74.510000000000005,185.87,"…","…","…","…",101.05,"…",0.14699999999999999,0.14879999999999999,1.8532,0.51707943782999999,1.2693000000000001,5.0044874000000004,0.14881185,0.21274583,0.19819999999999999,1066.55,133.47,70.97,"…",229.58077942838,"…",1.0306999999999999,"…",0.54369999999999996,13.75,105,84,64.75,42.5,570.99658203125,10.33,1588.4,387.1,4270.3,3373.1,513,90.5,152.5,2.2071999999999998]
["1973M05",2.35,2.35,2.35,"…",11.48,"…",0.21,0.69350672431000004,"…","…",1.131,1.4151,1.0745070000000001,0.80710000000000004,0.63614459999999995,0.96477179999999996,0.82039969999999995,416,"…","…",493.84,323.83,"…",358,373,364,"…","…",42.944456676900003,88.97,78.48,185.87,"…","…","…","…",102.15,"…",0.157,0.154,1.8479000000000001,0.52873590114000002,1.2408999999999999,5.0044874000000004,0.151677856,0.22178477199999999,0.2001,1087.3599999999999,133.47,61.74,"…",212.94189212805,"…",1.1497999999999999,"…",0.55069999999999997,13.75,105,84,64.75,42.5,582.01977539063,10.33,1552.2,396.4,4347.5,3373.1,549,101.96,152.5,2.4011999999999998]
["1973M06",2.35,2.35,2.35,"…",11.48,"…",0.21,0.69350672431000004,"…","…",1.131,1.4147000000000001,1.077593,0.84370000000000001,0.60471980000000003,1.076973,0.84927540000000001,457,"…","…",524.80999999999995,371.41,"…",470,455,497,"…","…",46.210613849799998,101.17,87.3,185.87,"…","…","…","…",108.39,"…",0.16,0.154,1.7996000000000001,0.53971898260999995,1.2883,5.0044874000000004,0.154543862,0.22597355,0.20669999999999999,1116.3,133.47,55.72,"…",201.46570566532,"…",1.2237,"…",0.66949999999999998,13.75,105,84,64.75,42.5,601.861328125,10.33,1748.7,425.3,4530.5,3373.1,656,120.12,152.5,2.6208999999999998]
["1973M07",2.7,2.7,2.7,"…",11.48,"…",0.21,0.69350672431000004,"…","…",1.131,1.3567,1.0581929999999999,0.87180000000000002,0.63099689999999997,1.1351500000000001,0.84927540000000001,552,"…","…",593.55999999999995,472.85,"…",330,550,582,"…","…",48.801615768029997,109.44,99.65,332.53,"…","…","…","…",114.64,"…",0.154,0.154,1.9575,0.54732563547000002,1.4375,5.0044874000000004,0.15233924200000001,0.22597355,0.20979999999999999,1135.95,133.47,56.35,"…",202.69257881953999,"…",1.4550000000000001,"…",0.84860000000000002,13.75,132.5,115,64.75,42.5,634.9306640625,10.33,2021.2,469.8,4962.6000000000004,3373.1,842,120.17,152.5,2.7056]
["1973M08",2.7,2.7,2.7,"…",11.48,"…",0.21,0.69350672431000004,"…","…",1.131,1.3307,1.0449660000000001,0.85289999999999999,0.73660709999999996,0.97289599999999998,0.84927540000000001,573,"…","…",597.88,536.33000000000004,"…",331,548,330,"…","…",64.466196250950006,122.43,113.32,377.7,"…","…","…","…",192.54,"…",0.14599999999999999,0.154,2.4590000000000001,0.53809543567999996,1.4748000000000001,5.0044874000000004,0.14859138799999999,0.23699665,0.19769999999999999,1150.06,133.47,63.55,"…",216.29054293146001,"…",1.6719999999999999,"…",0.82410000000000005,13.75,132.5,115,64.75,42.5,619.49829101563,10.33,2123,447.5,5004.5,3373.1,914,106.76,152.5,2.6364999999999998]
["1973M09",2.7,2.7,2.7,"…",11.48,"…",0.21,0.69350672431000004,"…","…",1.131,1.3271999999999999,1.1044890000000001,0.81,0.7370892,0.84370089999999998,0.84927540000000001,550,"…","…",533.73,424.13,"…",266,508,218,"…","…",61.216465074749998,107.08,105.82,377.7,"…","…","…","…",189.6,"…",0.14199999999999999,0.154,2.2624,0.53248726374999999,1.5645,5.0044874000000004,0.14528445800000001,0.24184681399999999,0.19769999999999999,1179.2,133.47,70.27,"…",228.35520024168,"…",1.9112,"…",0.73409999999999997,13.75,132.5,115,64.75,42.5,604.06591796875,10.33,1936.1,444.7,5011.1000000000004,3373.1,976,102.97,155.24,2.6751]
["1973M10",4.0999999999999996,4.0999999999999996,4.0999999999999996,"…",11.48,"…",0.21,0.69350672431000004,"…","…",1.131,1.3778999999999999,1.1463760000000001,0.79049999999999998,0.66965669999999999,0.85254649999999998,0.84927540000000001,617,"…","…",560.67999999999995,434.92,"…",245,531,207,"…","…",60.081170373920003,106.39,109.24,337.7,"…","…","…","…",182.25,"…",0.14799999999999999,0.154,2.1839,0.53517399087999995,1.5986,5.0044874000000004,0.14550492000000001,0.24581512999999999,0.20960000000000001,1202.69,133.47,78,"…",241.59404019581001,"…",1.9252,"…",0.7097,13.75,132.5,115,64.75,42.5,621.70288085938,10.33,2065.3000000000002,471.6,5359.4,3373.1,1163,100.08,160.5,2.8856000000000002]
["1973M11",4.0999999999999996,4.0999999999999996,4.0999999999999996,"…",11.48,"…",0.21,0.69350672431000004,"…","…",1.131,1.3931,1.1684220000000001,0.75739999999999996,0.63024570000000002,0.79253980000000002,0.84927540000000001,718,"…","…",617.23,429.29,"…",239,490,223,"…","…",60.412720288540001,107.87,106.7,475.9,"…","…","…","…",181.88,"…",0.13900000000000001,0.154,2.1429,0.54078451437999997,1.6149,5.0044874000000004,0.14330029999999999,0.24471282,0.2235,1222.18,133.47,77.03,"…",239.96697452255,"…",1.7527999999999999,"…",0.79810000000000003,13.75,132.5,115,64.75,42.5,650.36279296875,10.33,2273,490,5573.3,3373.1,1625,94.92,160.5,2.8599000000000001]
["1973M12",4.0999999999999996,4.0999999999999996,4.0999999999999996,"…",11.48,"…",0.21,0.69350672431000004,"…","…",1.131,1.4235,1.1904669999999999,0.74229999999999996,0.64535410000000004,0.73233740000000003,0.84927540000000001,1068,"…","…",789.7,496.71,"…",254,603,243,"…","…",64.080791319460005,112.59,109.57,495.54,"…","…","…","…",199.52,"…",0.129,0.22,2.0693000000000001,0.54672108039,1.6195999999999999,5.0044874000000004,0.13911152199999999,0.250003908,0.26119999999999999,1247.9000000000001,133.47,96.43,"…",270.91290996890001,"…",1.8159000000000001,"…",1.0075000000000001,13.75,132.5,115,64.75,42.5,632.72583007813,10.33,2244.3000000000002,593.5,6461.7,3373.1,1623,106.72,160.5,3.1366999999999998]
["1974M01",13,13,13,"…",16.89,"…",0.28999999999999998,1.73,"…","…",1.5609999999999999,1.5304,1.2266220000000001,0.84130000000000005,0.67642749999999996,0.71053540000000004,1.1368,1191,"…","…",958.77,578.77,"…",261,665,221,"…","…",66.147272088890006,112.28,115.79,512.23,"…","…","…","…",213.48,"…",0.16908999999999999,0.13950000000000001,2.0371000000000001,0.54846764849999996,1.6008,4.6517482000000001,0.18188114999999999,0.27844350600000001,0.3342,1280.6300000000001,120.43,95.43,"…",269.39218328268998,"…",1.9886999999999999,"…",1.0803,42,215,180,285.75,53,604.06591796875,13.38,2032.4,565.70000000000005,6503.6,3571.5,1330,129.19,162.68,3.6369500000000001]
["1974M02",13,13,13,"…",16.89,"…",0.28999999999999998,1.73,"…","…",1.5609999999999999,1.6466000000000001,1.334867,0.87470000000000003,0.69211719999999999,0.79520239999999998,1.1368,1160,"…","…",1093.4000000000001,667.24,"…",271,780,203,"…","…",70.943976089109995,131.1,121.31,539.73,"…","…","…","…",220.46,"…",0.1618,0.16750000000000001,1.9825999999999999,0.54914694708,1.4649000000000001,4.6517482000000001,0.186069928,0.376769558,0.46500000000000002,1310.72,120.43,97.86,"…",273.07500188848002,"…",1.8436999999999999,"…",0.97889999999999999,42,232.5,220,285.75,55,619.49829101563,13.38,2291.6999999999998,649.20000000000005,7418.5,3571.5,1516,150.13,172.5,5.3589500000000001]
["1974M03",13,13,13,"…",16.89,"…",0.28999999999999998,1.73,"…","…",1.5609999999999999,1.5753999999999999,1.382706,0.94350000000000001,0.86261030000000005,0.8311096,1.1368,1266,"…","…",1123.83,632.88,"…",265,711,200,"…","…",65.647393558589997,126.37,113.54,570.16999999999996,"…","…","…","…",190.7,"…",0.14352000000000001,0.17299999999999999,1.7427999999999999,0.55147643732999996,1.4476,4.6517482000000001,0.19114055399999999,0.39925668199999997,0.4652,1341.7,120.43,99.71,"…",275.85066670152003,"…",1.6949000000000001,"…",0.93740000000000001,42,262.5,242,285.75,55,687.84155273438,13.38,2743.4,708.3,8218.7999999999993,3571.5,1630,168.42,172.5,5.32552]
["1974M04",10.59999847412,10.59999847412,10.59999847412,"…",16.89,"…",0.28999999999999998,1.73,"…","…",1.5609999999999999,1.5498000000000001,1.411586,1.1544000000000001,0.86222770000000004,1.4642170000000001,1.1368,1150,"…","…",1113.3599999999999,613.85,"…",235,660,172,"…","…",58.916282058749999,114.17,103.07,603.55999999999995,"…","…","…","…",162.04,"…",0.15961,0.16750000000000001,1.6182000000000001,0.55060696299,1.4476,4.6517482000000001,0.19532933199999999,0.42416888800000002,0.47620000000000001,1401.16,120.43,94.68,"…",268.24682218934998,"…",1.6093999999999999,"…",0.84150000000000003,42,293.8,281,285.75,55,751.775390625,13.38,3031.8,702,9206.5,3571.5,1743,172.24,172.5,5.0359499999999997]
["1974M05",10.59999847412,10.59999847412,10.59999847412,"…",16.89,"…",0.28999999999999998,1.73,"…","…",1.5609999999999999,1.5657000000000001,1.4226080000000001,1.0914999999999999,0.84067380000000003,1.2968820000000001,1.1368,996,"…","…",1102.24,591.5,"…",229,775,157,"…","…",55.369076521330001,113.7,95.9,598.65,"…","…","…","…",141.46,"…",0.20943999999999999,0.1983,1.5448,0.55114065192999995,1.4216,4.6517482000000001,0.19731349000000001,0.50794444800000005,0.52100000000000002,1427.35,120.43,87.12,"…",256.45949290384999,"…",1.4681999999999999,"…",0.85670000000000002,42,301.3,294,285.75,55,765.00317382813,13.38,2875.7,668.7,9305.7000000000007,3571.5,1782,163.27000000000001,174.55,5.4318200000000001]
["1974M06",10.59999847412,10.59999847412,10.59999847412,"…",16.89,"…",0.28999999999999998,1.73,"…","…",1.5609999999999999,1.5898000000000001,1.3624240000000001,1.1900999999999999,0.90769230000000001,1.52586,1.1368,1039,"…","…",1070.19,603.30999999999995,"…",228,788,142,"…","…",58.48418559425,116.63,93.7,570.41999999999996,"…","…","…","…",155.79,"…",0.19026000000000001,0.1983,1.4451000000000001,0.55145864266,1.3918999999999999,4.6517482000000001,0.195549794,0.57871275,0.51829999999999998,1502.41,120.43,79.489999999999995,"…",244.07532683238,"…",1.3973,"…",0.73899999999999999,63,339.5,336,285.75,57,756.1845703125,13.38,2440,570.1,9041.1,3571.5,1410,154.1,195,4.8960999999999997]
["1974M07",10,10,10,"…",16.89,"…",0.28999999999999998,1.73,"…","…",1.5609999999999999,1.5232000000000001,1.3035620000000001,1.3055000000000001,0.92635129999999999,1.853248,1.1368,1007,"…","…",1010.85,609.64,"…",276,872,163,"…","…",63.520145895570003,132.28,116.02,494.56,"…","…","…","…",169.02,"…",0.22178,0.1983,1.6409,0.55742740877999997,1.3101,4.6517482000000001,0.19532933199999999,0.62500977000000002,0.55179999999999996,1530.14,120.43,83.19,"…",250.14598598167001,"…",1.3228,"…",0.66930000000000001,63,358.1,341,285.75,58,760.59399414063,13.38,1919.1,548.5,8547.2999999999993,4079,1097,142.97999999999999,195,4.4154499999999999]
["1974M08",10,10,10,"…",16.89,"…",0.28999999999999998,1.73,"…","…",1.5609999999999999,1.379,1.2347790000000001,1.1838,0.96637379999999995,1.4482930000000001,1.1368,1053,"…","…",1085.19,727.84,"…",320,922,197,"…","…",65.542893643010004,145.82,127.87,496.52,"…","…","…","…",167.55,"…",0.19184999999999999,0.1983,1.6057999999999999,0.56470334966000002,1.2987,4.6517482000000001,0.19180194,0.71892658200000004,0.67530000000000001,1554.54,120.43,80.069999999999993,"…",245.03540428884,"…",1.3349,"…",0.67659999999999998,63,365,337,285.75,62,848.77880859375,13.38,1802.9,549.6,8787.6,4079,1066,154.63999999999999,195,4.4313599999999997]
["1974M09",10,10,10,"…",16.89,"…",0.28999999999999998,1.73,"…","…",1.5609999999999999,1.2039,1.188704,1.1204000000000001,0.96062049999999999,1.2637350000000001,1.1368,826,"…","…",1057.69,706.65,"…",303,933,184,"…","…",65.48202529852,141.43,128.69999999999999,491.86,"…","…","…","…",170.49,"…",0.22355,0.1983,1.3971,0.56580626510999998,1.3515999999999999,4.6517482000000001,0.31900851400000002,0.74317740200000004,0.75290000000000001,1576.75,120.43,71.42,"…",230.36571700988,"…",1.3172999999999999,"…",0.59570000000000001,63,405,361,285.75,66,837.75561523438,13.38,1460.5,539.29999999999995,9166.7999999999993,4079,911,151.75,195,4.0487500000000001]
["1974M10",10.29999923706,10.29999923706,10.29999923706,"…",16.89,"…",0.28999999999999998,1.73,"…","…",1.5609999999999999,1.2518,1.21119,1.1081000000000001,0.9605361,1.227041,1.1368,875,"…","…",1139.17,840.17,"…",335,1045,210,"…","…",70.97357056253,151.57,149.25,478.36,"…","…","…","…",192.17,"…",0.19267999999999999,0.1983,1.3852,0.57178972684999996,1.4274,4.6517482000000001,0.32143359599999999,0.85583348400000003,0.87080000000000002,1590.67,120.43,65.11,"…",219.14162949108001,"…",1.2621,"…",0.57850000000000001,63,405,355,285.75,70,844.36938476563,13.38,1398.8,537.29999999999995,7409.7,4079,825,158.78,195,4.8297699999999999]
["1974M11",10.29999923706,10.29999923706,10.29999923706,"…",16.89,"…",0.28999999999999998,1.73,"…","…",1.5609999999999999,1.3069,1.227063,1.1334,0.99805770000000005,1.2652369999999999,1.1368,748,"…","…",1085.08,767.53,"…",312,943,179,"…","…",69.055303759699996,144.09,146.16999999999999,436.62,"…","…","…","…",187.39,"…",0.16975999999999999,0.1983,1.3231999999999999,0.57067109715999997,1.4415,4.6517482000000001,0.32077221,1.26324726,1.2377,1624.69,120.43,59.98,"…",209.64215740367999,"…",1.1742999999999999,"…",0.50270000000000004,65,405,355,285.75,70,842.16479492188,13.38,1416.7,534.20000000000005,7403.1,4079,794,181.66,195,4.6938899999999997]
["1974M12",10.29999923706,10.29999923706,10.29999923706,"…",16.89,"…",0.28999999999999998,1.73,"…","…",1.5609999999999999,1.2959000000000001,1.2164809999999999,1.1786000000000001,1.0249509999999999,1.3741810000000001,1.1368,660,"…","…",1082.8800000000001,689.26,"…",288,892,184,"…","…",69.115057229360005,145.27000000000001,139.99,413.3,"…","…","…","…",185.92,"…",0.17460999999999999,0.1721,1.2639,0.57413251938999998,1.4794,4.6517482000000001,0.32077221,1.0282347679999999,0.98939999999999995,1644.11,120.43,65.900000000000006,"…",220.57345963898999,"…",1.0912999999999999,"…",0.56259999999999999,64.25,408.75,341,285.75,70,859.8017578125,13.38,1289,534.20000000000005,7202.5,4079,771,183.78,195,4.3912500000000003]
["1975M01",10.42000007629,10.42000007629,10.42000007629,"…",26.84,"…",0.43,1.6820935907700001,"…","…",1.246,1.2311000000000001,1.197522,1.1428,1.018491,1.2857510000000001,1.1242000000000001,548,"…","…",1078,589.4,"…",256,775,156,"…","…",63.225253591680001,131.72999999999999,118.83,376.72,"…","…","…","…",164.24,"…",0.221,0.15409999999999999,1.1455,0.57287807653,1.5407,5.8863354000000001,0.60472726600000004,0.88515493000000001,0.84450000000000003,1677.78,126.57,68.42,"…",225.08885339700001,"…",1.0538000000000001,"…",0.5474,68,396,335,168,70,895.07568359375,17.3,1211.2,538.4,7676.5,4431,799,176.27,195,4.1924999999999999]
["1975M02",10.42000007629,10.42000007629,10.42000007629,"…",26.84,"…",0.43,1.6820935907700001,"…","…",1.246,1.1788000000000001,1.1549739999999999,1.1274,1.0641240000000001,1.1939960000000001,1.1242000000000001,467,"…","…",1078,497.67,"…",231,661,141,"…","…",59.477257500450001,120.47,109.13,381.38,"…","…","…","…",153.22,"…",0.23699999999999999,0.1686,1.1468,0.57183342660000003,1.4562999999999999,5.8863354000000001,0.33003161399999997,0.79520643400000002,0.74909999999999999,1732.73,126.57,61.61,"…",212.6996542327,"…",1.0582,"…",0.57830000000000004,68,383,320,168,70,908.30346679688,17.3,1266.5,541.20000000000005,7557.4,4431,794,179.6,180.53,4.37]
["1975M03",10.42000007629,10.42000007629,10.42000007629,"…",26.84,"…",0.43,1.6820935907700001,"…","…",1.246,1.1033999999999999,1.0943480000000001,1.0960000000000001,1.032988,1.130917,1.1242000000000001,450,"…","…",965,478.26,"…",226,622,144,"…","…",58.465304159710001,120.17,111.06,374.02,"…","…","…","…",147.34,"…",0.254,0.18579999999999999,1.1431,0.57377894463000001,1.5662,5.8863354000000001,0.33399993,0.62875762400000001,0.58199999999999996,1809.61,126.57,68.05,"…",224.43072949755,"…",1.0899000000000001,"…",0.57250000000000001,68,363,297,168,88,917.12182617188,17.3,1344.2,542.79999999999995,7383.3,4431,803,178.16,175,4.3315000000000001]
["1975M04",10.42000007629,10.42000007629,10.42000007629,"…",26.84,"…",0.43,1.6820935907700001,"…","…",1.246,1.0503,1.0809,1.3713,0.95774210000000004,2.0319310000000002,1.1242000000000001,428,"…","…",882,451.1,"…",229,624,153,"…","…",57.188385776040001,119.66,111.61,377.7,"…","…","…","…",140.36000000000001,"…",0.252,0.2697,1.2808999999999999,0.57670580702999996,1.581,5.8863354000000001,0.32892930399999998,0.57474443399999997,0.52800000000000002,1843.91,126.57,67.099999999999994,"…",222.73337203853001,"…",1.1616,"…",0.53259999999999996,68,307,249,168,88,897.2802734375,17.3,1329.2,479.5,7129.7,4431,783,169.84,163.06,4.2091799999999999]
["1975M05",10.42000007629,10.42000007629,10.42000007629,"…",26.84,"…",0.43,1.6820935907700001,"…","…",1.246,1.121,1.0476110000000001,1.1746000000000001,0.90037449999999997,1.4991890000000001,1.1242000000000001,355,"…","…",727,391.74,"…",208,516,148,"…","…",54.764735226729996,114.52,110.12,365.43,"…","…","…","…",131.54,"…",0.245,0.27379999999999999,1.3694999999999999,0.57732676327999999,1.5235000000000001,5.8863354000000001,0.332456696,0.42483027400000001,0.39090000000000003,1859.52,126.57,67.25,"…",223.00210731544999,"…",1.2224999999999999,"…",0.5262,68,242,206,168,89,903.89428710938,17.3,1253.8,356.9,6898.3,4431,747,167.39,160,4.5381]
["1975M06",10.42000007629,10.42000007629,10.42000007629,"…",26.84,"…",0.43,1.6820935907700001,"…","…",1.246,1.2330000000000001,1.087734,1.2236,0.84589490000000001,1.7008529999999999,1.1242000000000001,333,"…","…",660,356,"…",207,525,150,"…","…",54.74118956297,119.1,105.82,324.92,"…","…","…","…",127.13,"…",0.23599999999999999,0.27379999999999999,1.3327,0.57910204643999996,1.5348999999999999,5.8863354000000001,0.332456696,0.35185735200000001,0.3009,1852.98,126.57,66.760000000000005,"…",222.12321371215,"…",1.2319,"…",0.53900000000000003,68,194,172,168,88,903.89428710938,17.3,1193,353.4,6926.9,4431,751,164.24,160,4.4891399999999999]
["1975M07",10.43000030518,10.43000030518,10.43000030518,"…",26.84,"…",0.43,1.6820935907700001,"…","…",1.246,1.4478,1.293641,1.2274,0.82522879999999998,1.732839,1.1242000000000001,372,"…","…",813,401.98,"…",224,578,157,"…","…",58.39066894314,119.82,103.39,307.73,"…","…","…","…",145.13999999999999,"…",0.16500000000000001,0.27379999999999999,1.3466,0.58168260491000001,1.4391,5.8863354000000001,0.316583432,0.43849891800000002,0.36799999999999999,1864.54,126.57,66.17,"…",221.06100691521999,"…",1.2544,"…",0.5706,68,181,158,168,85,864.2109375,17.3,1222.4000000000001,359.3,6810.1,4431,707,165.17,162.72999999999999,4.7045500000000002]
["1975M08",10.43000030518,10.43000030518,10.43000030518,"…",26.84,"…",0.43,1.6820935907700001,"…","…",1.246,1.8404,1.69862,1.1726000000000001,0.85859980000000002,1.534951,1.1242000000000001,388,"…","…",908,472.61,"…",243,599,170,"…","…",63.671833615600001,131.56,122.36,323.69,"…","…","…","…",162.77000000000001,"…",0.19600000000000001,0.27379999999999999,1.2991999999999999,0.58512303589000003,1.3460000000000001,5.8863354000000001,0.30511940799999998,0.46539528200000002,0.41020000000000001,1885.59,126.57,69.48,"…",226.96528122116001,"…",1.3130999999999999,"…",0.58640000000000003,68,185,158,168,85,837.75561523438,17.3,1277.0999999999999,383.6,6774.8,4431,737,163,175,4.9250999999999996]
["1975M09",10.43000030518,10.43000030518,10.43000030518,"…",26.84,"…",0.43,1.6820935907700001,"…","…",1.246,1.7830999999999999,1.6776770000000001,1.1065,0.79550019999999999,1.399848,1.1242000000000001,368,"…","…",871,412.35,"…",227,551,169,"…","…",62.702812825279999,122.31,118.17,336.21,"…","…","…","…",165.71,"…",0.22,0.27379999999999999,1.4165000000000001,0.58643768995000001,1.3875999999999999,5.8863354000000001,0.29982831999999998,0.38272203199999999,0.3417,1879.64,126.57,68.239999999999995,"…",224.76889005311,"…",1.327,"…",0.55510000000000004,68,192,158,168,84,826.732421875,17.3,1210.0999999999999,370,6558.7,4852,724,144.16999999999999,175,4.5159500000000001]
["1975M10",10.46000003815,10.46000003815,10.46000003815,"…",26.84,"…",0.43,1.6820935907700001,"…","…",1.246,1.7723,1.6108789999999999,1.0791999999999999,0.75238850000000002,1.3996189999999999,1.08548,347,"…","…",840,412.19,"…",211,495,163,"…","…",61.13024393768,116.87,114.84,332.53,"…","…","…","…",161.66999999999999,"…",0.192,0.27379999999999999,1.5330999999999999,0.58699577704000006,1.4112,5.8863354000000001,0.301812478,0.34061379000000003,0.31009999999999999,1898.57,126.57,67.13,"…",222.78714118401999,"…",1.3162,"…",0.53400000000000003,68,162,131,168,78,815.70947265625,17.3,1178.8,344.6,6347.1,4852,706,142.79,172.17,4.3288599999999997]
["1975M11",10.46000003815,10.46000003815,10.46000003815,"…",26.84,"…",0.43,1.6820935907700001,"…","…",1.246,1.7090000000000001,1.5742830000000001,1.0014000000000001,0.75677810000000001,1.2667440000000001,0.9805777,327,"…","…",755,378.8,"…",192,423,152,"…","…",57.442739873950003,110.26,108.85,309.45,"…","…","…","…",146.97,"…",0.20300000000000001,0.13550000000000001,1.4662999999999999,0.58670803845999997,1.4535,5.8863354000000001,0.30137155399999999,0.331354386,0.2969,1893.61,126.57,69.25,"…",226.55925668309001,"…",1.2998000000000001,"…",0.56859999999999999,68,150,123,168,76,813.5048828125,17.3,1179.7,337.3,6281,4852,705,142.41999999999999,160,4.3324400000000001]
["1975M12",10.46000003815,10.46000003815,10.46000003815,"…",26.84,"…",0.43,1.6820935907700001,"…","…",1.246,1.8352999999999999,1.6320429999999999,0.98299999999999998,0.76883049999999997,1.2063600000000001,0.97381969999999995,339,"…","…",713,367.93,"…",185,391,157,"…","…",56.542956433480001,109.15,108.3,287.36,"…","…","…","…",142.57,"…",0.191,0.17960000000000001,1.4449000000000001,0.58898890623,1.4911000000000001,5.8863354000000001,0.29762369999999999,0.32628375999999998,0.2908,1905.39,126.57,70.66,"…",229.03871214220001,"…",1.3461000000000001,"…",0.62019999999999997,58,155,123,168,75,837.75561523438,17.3,1151,333.1,6175.1,4852,686,139.30000000000001,160,4.0848599999999999]
["1976M01",11.510000228879999,11.510000228879999,11.510000228879999,"…",27.16,"…",0.54,1.7351132997100001,"…","…",1.4046000000000001,2.0470000000000002,1.7444759999999999,1.1020000000000001,0.85829120000000003,1.2140029999999999,1.233625,332,"…","…",720,353.88,"…",189,385,160,"…","…",57.036130707049999,110.26,108.58,259.86,"…","…","…","…",143.66999999999999,"…",0.24299999999999999,0.216,1.4861,0.59093909828000002,1.46,8.3114173999999998,0.29740323800000001,0.33995240399999999,0.30909999999999999,1977.71,145.74,73.2,"…",233.44851460571999,"…",1.4743999999999999,"…",0.63849999999999996,40,130,105,82,70,853.18798828125,22.72,1193,337,6241.3,4850,692,131.05000000000001,160,4.0626499999999997]
["1976M02",11.510000228879999,11.510000228879999,11.510000228879999,"…",27.16,"…",0.54,1.7351132997100001,"…","…",1.4340999999999999,2.1873999999999998,1.8222970000000001,1.0791999999999999,0.81809929999999997,1.1882600000000001,1.2312350000000001,336,"…","…",734,365.84,"…",191,390,164,"…","…",59.322428982840002,113.24,110.07,233.35,"…","…","…","…",152.85,"…",0.26100000000000001,0.216,1.5871,0.59403950554999996,1.36,8.3114173999999998,0.29563954199999998,0.33157484799999998,0.29759999999999998,2052.2600000000002,145.43,77.510000000000005,"…",240.77329107945999,"…",1.5169999999999999,"…",0.7077,40,125,98,82,56,850.9833984375,22.72,1219,348,6508,4850,690,131.06,160,4.0864200000000004]
["1976M03",11.510000228879999,11.510000228879999,11.510000228879999,"…",27.16,"…",0.54,1.7351132997100001,"…","…",1.4151,2.1958000000000002,1.815904,1.0711999999999999,0.84592909999999999,1.1485700000000001,1.219025,349,"…","…",669,375.79,"…",190,399,162,"…","…",59.324002671179997,113.06,110.51,228.44,"…","…","…","…",152.49,"…",0.27100000000000002,0.216,1.7070000000000001,0.59621336881999998,1.5196000000000001,8.3114173999999998,0.288584758,0.35869167400000002,0.3261,2110.0100000000002,140.59,79.64,"…",244.32393079246,"…",1.5431999999999999,"…",0.73880000000000001,35,126,98,82,56,815.70947265625,22.72,1329,384,6902.7,4850,728,132.76,160,4.1891299999999996]
["1976M04",11.510000228879999,11.510000228879999,11.510000228879999,"…",27.16,"…",0.55000000000000004,1.7351132997100001,"…","…",1.6389,2.7002000000000002,2.3763049999999999,1.2695000000000001,0.88701810000000003,1.7090110000000001,1.2125189999999999,347,"…","…",701,348.4,"…",190,384,163,"…","…",57.806047704370002,111.1,107.8,226.47,"…","…","…","…",145.5,"…",0.27100000000000002,0.216,1.8070999999999999,0.59886666139,1.4899,8.3114173999999998,0.29762369999999999,0.343479796,0.30969999999999998,2107.46,143.47,83.04,"…",249.90232406204001,"…",1.5565,"…",0.74709999999999999,35,113,90,82,55,820.11865234375,22.72,1510,454,7123.1,4850,789,127.94,160,4.3555200000000003]
["1976M05",11.510000228879999,11.510000228879999,11.510000228879999,"…",27.16,"…",0.55000000000000004,1.7351132997100001,"…","…",1.7685,2.9864000000000002,2.681638,1.1373,0.86450249999999995,1.338079,1.209206,355,"…","…",643,344.8,"…",210,370,189,"…","…",58.46623896386,118.2,107.8,226.47,"…","…","…","…",141.83000000000001,"…",0.28000000000000003,0.216,1.7758,0.60519023137000005,1.5590999999999999,8.3114173999999998,0.29563954199999998,0.35207781399999999,0.3206,2174.4299999999998,142.55000000000001,83.06,"…",249.93482400916,"…",1.6137999999999999,"…",0.81200000000000006,35,104,80,82,53,824.52783203125,22.72,1512,483,7449.4,4850,774,126.92,160,4.4884500000000003]
["1976M06",11.510000228879999,11.510000228879999,11.510000228879999,"…",27.16,"…",0.57999999999999996,1.7351132997100001,"…","…",1.9241999999999999,3.2976999999999999,2.8672629999999999,1.2145999999999999,0.85786859999999998,1.5818270000000001,1.203978,380,"…","…",671,394.8,"…",248,408,244,"…","…",60.01133589877,121.8,109.5,222.84,"…","…","…","…",146.24,"…",0.26500000000000001,0.216,1.6006,0.61439551869999998,1.5347,8.3114173999999998,0.29321446000000001,0.31746528000000002,0.28639999999999999,2198.62,141.43,86.57,"…",255.58392577031,"…",1.8011999999999999,"…",0.85140000000000005,35,100,80,82,53,804.68627929688,22.72,1550,476,7766.9,4850,750,125.71,163.54,4.8117299999999998]
["1976M07",11.60000038147,11.60000038147,11.60000038147,"…",27.16,"…",0.57999999999999996,1.7351132997100001,"…","…",1.9570000000000001,3.0255999999999998,2.7841499999999999,1.2606999999999999,0.94700459999999997,1.629308,1.2058850000000001,455,"…","…",420,450.5,"…",264,457,231,"…","…",59.258800179449999,121.3,113,222.74,"…","…","…","…",142.19999999999999,"…",0.25800000000000001,0.216,1.5302,0.61552509375999997,1.5457000000000001,8.3114173999999998,0.29299399799999998,0.32165405800000002,0.29120000000000001,2212.9499999999998,138.30000000000001,94.04,"…",267.26614296423998,"…",2.0017999999999998,"…",0.79210000000000003,35,120,85,82,55,903.89428710938,22.72,1647,509,8496.6,4850,776,117.73,171.12,4.7606000000000002]
["1976M08",11.60000038147,11.60000038147,11.60000038147,"…",27.16,"…",0.6,1.7351132997100001,"…","…",2.1219000000000001,3.3847999999999998,2.9157630000000001,1.2365999999999999,1.0311060000000001,1.469708,1.208915,451,"…","…",748,431,"…",248,456,212,"…","…",55.388592817830002,116.1,101.3,223.53,"…","…","…","…",126.4,"…",0.26500000000000001,0.216,1.5785,0.61583797033999998,1.605,8.3114173999999998,0.293875846,0.24956298399999999,0.22090000000000001,2231.33,135.02000000000001,100.91,"…",277.63844446133999,"…",1.9157999999999999,"…",0.78310000000000002,35,125,93,82,53,939.16821289063,22.72,1539,483,8084.3,4850,741,109.93,156.15,4.2766000000000002]
["1976M09",11.60000038147,11.60000038147,11.60000038147,"…",27.16,"…",0.6,1.7351132997100001,"…","…",2.3904999999999998,3.5133000000000001,3.022024,1.2104999999999999,1.0050539999999999,1.4120619999999999,1.2143630000000001,484,"…","…",808,456.5,"…",261,505,218,"…","…",53.949854285180002,115,105.9,244.93,"…","…","…","…",119.78,"…",0.25800000000000001,0.216,1.5615000000000001,0.61915413003999997,1.6248,8.3114173999999998,0.29563954199999998,0.21605276000000001,0.1792,2280.46,136.31,105.12,"…",283.83452526645999,"…",1.8761000000000001,"…",0.76900000000000002,35,140,100,82,53,996.48828125,22.72,1459,481,7960.9,4938,712,114.15,158.24,4.3034999999999997]
["1976M10",11.89999961853,11.89999961853,11.89999961853,"…",27.16,"…",0.62,1.7351132997100001,"…","…",2.5935000000000001,3.8214999999999999,3.3487399999999998,1.2196,1.023298,1.4192929999999999,1.2160709999999999,481,"…","…",829,443.6,"…",254,495,211,"…","…",50.836539608940001,106.2,98.1,250.04,"…","…","…","…",111.33,"…",0.26500000000000001,0.216,1.4283999999999999,0.62087910073999997,1.6458999999999999,8.3114173999999998,0.29586000400000001,0.23479203000000001,0.17699999999999999,2276.0300000000002,134.53,107.04,"…",286.62233214916,"…",1.9201999999999999,"…",0.82869999999999999,35,128,93,82,55,947.98657226563,22.72,1285,465,7971.9,5313,639,116.15,157.9,4.2195]
["1976M11",11.89999961853,11.89999961853,11.89999961853,"…",27.16,"…",0.63,1.7351132997100001,"…","…",2.9253,4.0342000000000002,3.8857729999999999,1.2096,0.98394499999999996,1.4295789999999999,1.2152959999999999,499,"…","…",834,456.5,"…",260,506,215,"…","…",48.659850092470002,98.7,93.5,239.24,"…","…","…","…",106.56,"…",0.23100000000000001,0.216,1.4125000000000001,0.62397885565,1.6947000000000001,8.3114173999999998,0.29652139,0.23060325200000001,0.17369999999999999,2292.6999999999998,148.31,107.04,"…",286.62233214916,"…",1.907,"…",0.83069999999999999,35,115,86,82,54,947.98657226563,22.72,1279,459,8121.8,5313,604,130.46,156.83000000000001,4.3532999999999999]
["1976M12",11.89999961853,11.89999961853,11.89999961853,"…",27.16,"…",0.64,1.7351132997100001,"…","…",2.9754,4.5659999999999998,4.4964389999999996,1.2345999999999999,1.0086919999999999,1.4789049999999999,1.216245,553,"…","…",777,456.8,"…",269,505,231,"…","…",49.46854338168,103.5,96.5,238.26,"…","…","…","…",106.19,"…",0.23499999999999999,0.216,1.4972000000000001,0.62851646310999998,1.7536,8.3114173999999998,0.299607858,0.22531216400000001,0.16639999999999999,2326.62,156.38999999999999,107.04,"…",286.62233214916,"…",1.8431,"…",0.78569999999999995,35,113,83,82,53,974.44213867188,22.72,1287,478,8399.6,5313,642,133.93,151.99,4.3601000000000001]
["1977M01",12.5,12.5,12.5,"…",28.68,"…",0.67,1.7916226068200001,2.7711628728200002,18.530830763960001,3.45,4.8272000000000004,4.767601,1.5964,1.1550739999999999,1.5512159999999999,2.082884,546,"…","…",933,462,"…",287,502,251,"…","…",51.419833102790001,111.6,99.7,239.53,"…","…","…","…",108.76,"…",0.24099999999999999,0.254,1.5773999999999999,0.63339175275000004,1.7942,7.9145858000000002,0.29938739599999997,0.24140589000000001,0.18390000000000001,2323.42,156.96,92,"…",264.11955563443001,"…",1.7514000000000001,"…",0.82169999999999999,140,130,95,115,54.5,1058.21752929688,23.06,1396,560,9486.5,5313,692,132.26,154.55000000000001,4.4192]
["1977M02",12.5,12.5,12.5,"…",28.68,"…",0.71,1.7916226068200001,2.7711628728200002,19.016565682909999,3.8176999999999999,5.4119000000000002,5.4313969999999996,1.893,1.695557,1.90513,2.0784250000000002,576,"…","…",856,507,"…",293,553,248,"…","…",51.741940393759997,110.6,99.5,235.11,"…","…","…","…",110.6,"…",0.3,0.254,1.6383000000000001,0.63689532489,1.6501999999999999,7.9145858000000002,0.29828508599999998,0.24383097200000001,0.18940000000000001,2269.89,156.66,95.2,"…",269.04138082950999,"…",1.8629,"…",0.81659999999999999,142.5,133,95,100.5,54.5,1078.05908203125,23.06,1426,648,10227.200000000001,5313,703,136.24,161.27000000000001,4.5324999999999998]
["1977M03",12.5,12.5,12.5,"…",28.68,"…",0.75,1.7916226068200001,2.7711628728200002,19.502300601849999,4.0342000000000002,6.7058,6.7479659999999999,2.1875,2.4231060000000002,2.0574849999999998,2.0820110000000001,735,"…","…",871,598,"…",328,630,272,"…","…",50.611217801999999,108,98,242.48,"…","…","…","…",106.92,"…",0.32800000000000001,0.254,1.6222000000000001,0.64328271278000004,1.5915999999999999,7.9145858000000002,0.299166934,0.25727915400000001,0.19800000000000001,2240.98,156.58000000000001,96.6,"…",271.17071075373002,"…",1.9169,"…",0.81859999999999999,123.5,137,99,100.5,54.5,1082.46850585938,23.06,1515,703,10372.700000000001,5313,719,148.22999999999999,162.99,4.8653000000000004]
["1977M04",12.44999980927,12.44999980927,12.44999980927,"…",28.68,"…",0.77,1.7916226068200001,2.7711628728200002,19.745168061329998,3.5878000000000001,7.0035999999999996,6.8835470000000001,2.8752,3.5588799999999998,2.9788489999999999,2.087888,793,"…","…",881,647,"…",384,782,316,"…","…",49.292532772210002,105.8,93.6,232.56,"…","…","…","…",102.15,"…",0.3,0.254,1.5505,0.65133503758,1.5737000000000001,7.9145858000000002,0.30048970600000002,0.27712073399999998,0.2213,2260.9299999999998,157.11000000000001,94.7,"…",268.27741919971999,"…",1.8905000000000001,"…",0.79339999999999999,44,134,98,109.5,54.5,1082.46850585938,23.06,1429,648,9596.7000000000007,5187,655,149.16999999999999,160.74,4.79]
["1977M05",12.44999980927,12.44999980927,12.44999980927,"…",28.677777777780001,"…",0.77,1.7916226068200001,2.7711628728200002,19.745168061329998,3.7831000000000001,6.2888999999999999,5.9426360000000003,2.1995,2.2605,2.248183,2.0899220000000001,718,"…","…",897,659,"…",371,741,298,"…","…",46.935191091969998,100.9,91.7,237.67,"…","…","…","…",94.8,"…",0.31900000000000001,0.254,1.498,0.65363380170999996,1.6044,7.9145858000000002,0.30776495199999998,0.250003908,0.1986,2264.9699999999998,157.47999999999999,91.1,"…",262.72116104627003,"…",1.7802,"…",0.7833,44,129,92,116.1,54.3,1082.46850585938,23.06,1371,661,9843.6,5282,611,146.61000000000001,156.55000000000001,4.6997999999999998]
["1977M06",12.44999980927,12.44999980927,12.44999980927,"…",28.677777777780001,"…",0.82,1.7916226068200001,2.7711628728200002,20.35233671001,4.2535999999999996,5.7781000000000002,4.9386760000000001,2.0911,1.6318969999999999,2.5508060000000001,2.0907010000000001,620,"…","…",848,619,"…",326,666,253,"…","…",45.54828176326,94.5,84.2,244.64,"…","…","…","…",92.96,"…",0.28499999999999998,0.254,1.4612000000000001,0.65300151780000004,1.6180000000000001,7.9145858000000002,0.30776495199999998,0.22663493600000001,0.17349999999999999,2246.77,157.88999999999999,90.8,"…",262.25361861125998,"…",1.605,"…",0.76680000000000004,40.75,133,96,120,55,1102.31005859375,23.06,1312,567,9627.6,5313,542,140.78,150.36000000000001,4.4814999999999996]
["1977M07",12.63000011444,12.63000011444,12.63000011444,"…",28.677777777780001,"…",0.83,1.7916226068200001,2.7711628728200002,20.473770439750002,4.3628999999999998,4.8487999999999998,4.3317579999999998,2.0543,1.6181719999999999,2.4343840000000001,2.1102219999999998,513,"…","…",804,520,"…",252,548,193,"…","…",44.773282760039997,85,80.3,251.22,"…","…","…","…",96.64,"…",0.23400000000000001,0.254,1.4177999999999999,0.64939282676999999,1.5881000000000001,7.9145858000000002,0.31305603999999998,0.22376893,0.16289999999999999,2222.4,160.80000000000001,91.5,"…",263.34345066778002,"…",1.5721000000000001,"…",0.77029999999999998,37.5,133,95,123.125,55,1170.6533203125,23.06,1248,562,10416.799999999999,5313,542,143.38999999999999,149.57,4.5323000000000002]
["1977M08",12.63000011444,12.63000011444,12.63000011444,"…",28.677777777780001,"…",0.82,1.7916226068200001,2.7711628728200002,20.35233671001,3.9701,4.3959999999999999,4.482551,1.9267000000000001,1.5506629999999999,2.1302810000000001,2.099059,451,"…","…",807,493,"…",230,498,174,"…","…",43.092125591859997,76.900000000000006,75.7,254.95,"…","…","…","…",95.53,"…",0.24299999999999999,0.254,1.3891,0.65043270612000004,1.5936999999999999,7.9145858000000002,0.31151280599999998,0.24713790199999999,0.1678,2206.8200000000002,159.35,90.9,"…",262.40954493408998,"…",1.506,"…",0.79630000000000001,31.2,143,104,129.6,55.1,1183.880859375,23.06,1160,551,11309.7,5313,520,144.94,148.86000000000001,4.4732000000000003]
["1977M09",12.63000011444,12.63000011444,12.63000011444,"…",28.677777777780001,"…",0.83,1.7916226068200001,2.7711628728200002,20.473770439750002,3.8515000000000001,4.1778000000000004,4.4422069999999998,1.8091999999999999,1.349386,1.989215,2.089118,463,"…","…",773,459.5,"…",205,512,174,"…","…",44.342642061749999,78.3,76.8,254.95,"…","…","…","…",99.94,"…",0.253,0.254,1.4149,0.65436680415000004,1.6822999999999999,7.9145858000000002,0.310190034,0.22950094200000001,0.16120000000000001,2224.09,158.47,90.9,"…",262.40954493408998,"…",1.4286000000000001,"…",0.85980000000000001,34.5,148,108,132.5,56.625,1183.880859375,23.06,1195,582,11157.6,5313,518,149.53,150.33000000000001,4.5380000000000003]
["1977M10",12.68000030518,12.68000030518,12.68000030518,"…",28.677777777780001,"…",0.84,1.7916226068200001,2.7711628728200002,20.595204169479999,3.6934,3.7703000000000002,3.8344070000000001,1.7714000000000001,1.358385,1.849116,2.1067429999999998,479,"…","…",794,450,"…",209,490,179,"…","…",46.19074401964,83.2,81,256.91000000000003,"…","…","…","…",103.98,"…",0.25800000000000001,0.254,1.4632000000000001,0.65912245922000001,1.855,7.9145858000000002,0.31459927399999998,0.22575308799999999,0.15629999999999999,2255.52,160.52000000000001,92.3,"…",264.58428746390001,"…",1.3944000000000001,"…",0.86750000000000005,34.5,138,107,131,57.5,1203.72241210938,23.06,1210,615,12153.8,4586,511,158.94999999999999,157.62,4.7586000000000004]
["1977M11",12.68000030518,12.68000030518,12.68000030518,"…",28.677777777780001,"…",0.83,1.7916226068200001,2.7711628728200002,20.473770439750002,3.4817999999999998,4.3465999999999996,3.6752370000000001,1.5442,0.96895430000000005,1.5364359999999999,2.1270609999999999,505,"…","…",852,444.8,"…",236,500,200,"…","…",49.763932459199999,93.4,90,274.10000000000002,"…","…","…","…",111.7,"…",0.26200000000000001,0.254,1.4601,0.66626111558000001,1.9164000000000001,7.9145858000000002,0.31790620400000003,0.22972140399999999,0.15590000000000001,2261.85,160.69999999999999,93.1,"…",265.82018681835001,"…",1.4137999999999999,"…",0.85540000000000005,34.5,123,93,137,56,1236.79174804688,23.06,1182,633,12676.6,4586,525,162.1,169.67,4.8258000000000001]
["1977M12",12.68000030518,12.68000030518,12.68000030518,"…",28.677777777780001,"…",0.84,1.7916226068200001,2.7711628728200002,20.595204169479999,3.1947000000000001,4.4714,3.7162419999999998,1.5047999999999999,0.77943510000000005,1.577477,2.157524,539,"…","…",917,501,"…",241,541,200,"…","…",50.925569640859997,96,89.9,302.58,"…","…","…","…",114.64,"…",0.26200000000000001,0.254,1.5849,0.67029095067,1.9399,7.9145858000000002,0.32694514600000002,0.25904284999999999,0.1784,2269.4699999999998,162.72,91.7,"…",263.65412618261001,"…",1.4207000000000001,"…",0.82650000000000001,34.5,128,93,134.33333333332999,56,1261.04272460938,23.06,1261,686,12784.6,4586,538,160.44999999999999,177.35,4.7168000000000001]
["1978M01",12.659999847410001,12.659999847410001,12.659999847410001,"…",27.868888888890002,"…",0.87,2.3022180992700001,3.0360808420400001,23.566342590360001,2.9790999999999999,4.5449999999999999,3.9049529999999999,1.3594999999999999,0.7810781,1.7368749999999999,1.560419,541,"…","…",956,514,"…",239,522,200,"…","…",50.897776394520001,95.8,88.4,317.31,"…","…","…","…",114.27,"…",0.25700000000000001,0.26939999999999997,1.7154,0.67434515993999999,1.9975000000000001,8.0689092000000002,0.33399993,0.292773536,0.1933,2212.4699999999998,165.36,93.9,"…",267.05121055379999,"…",1.4605999999999999,"…",0.84499999999999997,28,138,98,133,56,1316.158203125,21.45,1261,664,12121,4586,518,173.18,201.73,4.9238]
["1978M02",12.659999847410001,12.659999847410001,12.659999847410001,"…",27.06,"…",0.88,2.3022180992700001,3.0360808420400001,23.687776320099999,2.8258999999999999,4.3560999999999996,3.8482959999999999,1.4025000000000001,0.91662319999999997,1.7254750000000001,1.5652980000000001,561,"…","…",910,558,"…",239,534,187.5,"…","…",52.22811274979,101,89.9,341.07,"…","…","…","…",115.74,"…",0.30299999999999999,0.25009999999999999,1.9136,0.67584648048999996,1.9591000000000001,8.0689092000000002,0.33642501200000002,0.32518144999999998,0.187,2230.98,161.19,96.6,"…",271.17071075373002,"…",1.5335000000000001,"…",0.86329999999999996,28,138,93,134.75,56,1320.5673828125,21.45,1217,582,12149.7,4586,478,178.14,224.41,4.9607000000000001]
["1978M03",12.659999847410001,12.659999847410001,12.659999847410001,"…",27.06,"…",0.89,2.3022180992700001,3.0360808420400001,23.809210049840001,3.3818999999999999,3.8576000000000001,3.4752830000000001,1.3586,0.84892829999999997,1.6463300000000001,1.580495,650,"…","…",1020,598,"…",273,629,215,"…","…",54.962402221479998,106.1,95.6,373.77,"…","…","…","…",124.19,"…",0.35299999999999998,0.27960000000000002,1.9996,0.68320787104000003,1.917,8.0689092000000002,0.343479796,0.3086468,0.1706,2207,165.48,96,"…",270.25989083201,"…",1.5840000000000001,"…",0.87150000000000005,28,137,97,134.5,56,1298.52124023438,21.45,1254,582,11422.1,4586,507,183.61,226.78,5.2731000000000003]
["1978M04",12.68000030518,12.68000030518,12.68000030518,"…",27.06,"…",0.88,2.3022180992700001,3.0360808420400001,23.687776320099999,3.4424999999999999,3.9367999999999999,3.1922160000000002,1.7924,0.7104277,3.0812409999999999,1.5854980000000001,600,"…","…",1127,603,"…",290,624,224,"…","…",57.357579760969998,111.5,101.1,388.5,"…","…","…","…",130.81,"…",0.36399999999999999,0.2959,2.2376999999999998,0.68782533404000001,1.8965000000000001,8.0689092000000002,0.343479796,0.30710356599999999,0.1673,2231.6799999999998,170.13,100.4,"…",276.87984048182,"…",1.5956999999999999,"…",0.86470000000000002,31.375,131,97,134,56,1258.83813476563,21.45,1285,573,11005.5,4696,553,175.28,214.09,5.1672000000000002]
["1978M05",12.69999980927,12.69999980927,12.69999980927,"…",28.605,"…",0.91,2.3022180992700001,3.0360808420400001,24.052077509309999,3.1356000000000002,3.7397,3.0001980000000001,1.3593999999999999,0.67086219999999996,1.843189,1.5642510000000001,596,"…","…",1128,624,"…",290,657,221,"…","…",56.383036728759997,112.69,101.8,386.54,"…","…","…","…",124.56,"…",0.35799999999999998,0.2959,2.2509000000000001,0.69086283439999996,2.0022000000000002,8.0689092000000002,0.33267715799999997,0.30026924399999999,0.16159999999999999,2211.87,193.5,93.8,"…",266.89759714117997,"…",1.6301000000000001,"…",0.91269999999999996,32.5,128,93,130.80000000000001,56,1236.79174804688,21.45,1303,545,11704.3,4696,562,176.31,232.73,5.1337000000000002]
["1978M06",12.72999954224,12.72999954224,12.72999954224,"…",30.15,"…",0.91,2.3022180992700001,3.0360808420400001,24.052077509309999,2.9921000000000002,3.7147999999999999,3.331985,1.3512,0.61728400000000005,1.8566720000000001,1.579556,646,"…","…",1106,654,"…",278,631,208,"…","…",55.76703939627,106.55,97.05,381.14,"…","…","…","…",126.4,"…",0.255,0.3105,1.9885999999999999,0.69251678512000003,2.1122999999999998,8.0689092000000002,0.33642501200000002,0.299166934,0.15939999999999999,2234.8000000000002,196.51,92.4,"…",264.73904361904999,"…",1.6006,"…",0.98,32.5,130,92,132.5,56,1247.81494140625,21.45,1333,570,12356.9,4645,578,183.75,244.96,5.3288000000000002]
["1978M07",12.77000045776,12.77000045776,12.77000045776,"…",30.15,"…",0.89,2.3022180992700001,3.0360808420400001,23.809210049840001,3.1636000000000002,2.9498000000000002,2.7897259999999999,1.4278999999999999,0.66061270000000005,2.0176419999999999,1.605483,644,"…","…",1042,622,"…",266,586,207,"…","…",54.26825712438,97.26,90.61,362.23,"…","…","…","…",127.13,"…",0.23899999999999999,0.31480000000000002,1.9509000000000001,0.69583267216,2.2831999999999999,8.0689092000000002,0.349873194,0.27844350600000001,0.14180000000000001,2286.81,202.73,94.3,"…",267.66491302933002,"…",1.5461,"…",0.97840000000000005,32.5,137,95,142,57,1289.70263671875,21.45,1337,582,12414.2,4586,584,188.73,245.64,5.3613]
["1978M08",12.78999996185,12.78999996185,12.78999996185,"…",30.15,"…",0.91,2.3022180992700001,3.0360808420400001,24.052077509309999,3.3612000000000002,3.0472000000000001,2.8318349999999999,1.3958999999999999,0.73431500000000005,1.8201160000000001,1.6333470000000001,657,"…","…",1044,585,"…",262,587,202,"…","…",53.398439469240003,92.02,88.02,344.31,"…","…","…","…",127.5,"…",0.25,0.30599999999999999,2.0251999999999999,0.69857792917999995,2.3184999999999998,8.0689092000000002,0.35758936400000002,0.29299399799999998,0.15609999999999999,2311.11,206.4,100.4,"…",276.87984048182,"…",1.5894999999999999,"…",1.0344,32.5,143,102,142.5,58.5,1320.5673828125,21.45,1426,639,12994.5,4586,618,206.3,267.35000000000002,5.5361000000000002]
["1978M09",12.80000019073,12.80000019073,12.80000019073,"…",30.15,"…",0.92,2.3022180992700001,3.0360808420400001,24.173511239050001,3.7505000000000002,3.4243999999999999,3.2385869999999999,1.3633,0.72845570000000004,1.724461,1.6369009999999999,777.5,"…","…",1210,615,"…",264,630,208,"…","…",53.909617578979997,90.99,87.25,347.01,"…","…","…","…",130.81,"…",0.252,0.30599999999999999,2.2418999999999998,0.70294647135999999,2.4079000000000002,8.0689092000000002,0.36133721800000002,0.31768574199999999,0.18010000000000001,2309.2399999999998,206.34,99.3,"…",275.23757660878999,"…",1.6258999999999999,"…",1.0944,32.5,151.5,105.5,134.625,63.125,1382.29663085938,21.45,1442,693,13889.1,4586,634,212.08,269.33999999999997,5.5884]
["1978M10",12.85000038147,12.85000038147,12.85000038147,"…",30.15,"…",0.92,2.3022180992700001,3.0360808420400001,24.173511239050001,3.8273999999999999,3.3963999999999999,3.3095759999999999,1.4083000000000001,0.81758189999999997,1.7302789999999999,1.6770160000000001,805,"…","…",1194,623,"…",271,637,223,"…","…",56.255630228199998,95.94,93.81,338.42,"…","…","…","…",137.41999999999999,"…",0.25600000000000001,0.30599999999999999,2.3462000000000001,0.70856387004999999,2.5428999999999999,8.0689092000000002,0.37985602600000001,0.34634580199999998,0.19750000000000001,2305.41,213.08,101.6,"…",278.66198952046,"…",1.67,"…",1.1620999999999999,32.5,151.5,105.5,132,63.5,1424.62548828125,21.45,1506,830,15256,4586,713,227.44,331.83,5.9447000000000001]
["1978M11",13.19999980927,13.19999980927,13.19999980927,"…",30.15,"…",0.93,2.3022180992700001,3.0360808420400001,24.294944968780001,4.0303000000000004,3.2223000000000002,3.1803849999999998,1.3691,0.75812040000000003,1.69279,1.6562650000000001,835,"…","…",1191,604,"…",270,620,227,"…","…",57.339669778100003,100.54,96.47,294.23,"…","…","…","…",137.79,"…",0.26700000000000002,0.32469999999999999,2.4196,0.71264467510999996,2.4807999999999999,8.0689092000000002,0.36795107799999999,0.313937888,0.17660000000000001,2328.9899999999998,206.32,97.8,"…",272.98457803699,"…",1.7317,"…",1.1449,32.5,151.5,101,140.75,65,1394.42211914063,21.45,1481,824,15035.5,4586,695,206.2,328.51,5.8723999999999998]
["1978M12",14.5,14.5,14.5,"…",30.15,"…",0.96,2.3022180992700001,3.0360808420400001,24.659246157990001,3.9478,2.8898000000000001,2.9118620000000002,1.3257000000000001,0.70359190000000005,1.6243529999999999,1.6490499999999999,886,"…","…",1022,604,"…",278,627,237,"…","…",56.753164858440002,98.52,96.05,273.36,"…","…","…","…",136.32,"…",0.29299999999999998,0.34289999999999998,2.5697000000000001,0.71752556122,2.4117999999999999,8.0689092000000002,0.37125800799999997,0.31415834999999998,0.1764,2345.85,208.33,101.8,"…",278.95807103613998,"…",1.7122999999999999,"…",1.0761000000000001,32.5,141.5,97.5,141,65,1408.75219726563,21.45,1533,859,14153.7,4586,687,207.85,340.44,5.9349999999999996]
["1979M01",17.4500002861,18.95000076294,15.94999980927,"…",30.15,"…",1.02,3.2594885748500002,3.6924229155699999,30.383353821939998,3.6555,2.8349000000000002,2.9377,1.3112999999999999,0.70779349999999996,1.593796,1.6323570000000001,966,"…",381,976,636,"…",284,616,235,"…","…",58.478917517089997,105.41,97.06,278.52,"…","…","…",140.36000000000001,137.79,"…",0.27400000000000002,0.32729999999999998,2.7978999999999998,0.72084854698,2.3426999999999998,11.9710866,0.37765140600000002,0.32253590599999998,0.16689999999999999,2380.71,212.2,116.2,"…",299.61699248246998,270,1.6755,"…",1.0668,32.5,153,109.5,143,65,1264.75634765625,23.5,1659,992,13853.8,4586,720,227.28,358.47,6.2027000000000001]
["1979M02",20.75,22,19.5,"…",30.15,"…",1.05,3.2594885748500002,3.6924229155699999,30.747655011150002,3.5028999999999999,2.7119,2.9211,1.2827,0.69534929999999995,1.528214,1.6245689999999999,981,"…",382,969,694,"…",298,653,238,"…","…",59.383369616960003,107.01,97.83,279.5,"…","…","…",144.77000000000001,140.36000000000001,"…",0.31,0.28399999999999997,2.9285999999999999,0.72458113308000005,2.1673,11.9710866,0.37588770999999999,0.33752732200000002,0.18140000000000001,2364.48,191.8,127.8,"…",315.41460001492999,238,1.6737,"…",1.1281000000000001,32.5,157.5,116.5,143,64.5,1441.91015625,23.5,1944,1055,14526.2,4546,793,245.67,410.41,7.3494000000000002]
["1979M03",22.02499961853,23.25,20.79999923706,"…",30.15,"…",1.1000000000000001,3.2594885748500002,3.6924229155699999,31.35482365983,3.3961999999999999,2.8734999999999999,2.9809000000000001,1.2626999999999999,0.66645140000000003,1.4974419999999999,1.6241209999999999,986,"…",381,972,688,"…",310,669,241,"…","…",59.888147720159999,109.52,99.21,293,"…","…","…",144.04,139.99,"…",0.316,0.30980000000000002,3.0122,0.72832809938999998,2.1787999999999998,11.9710866,0.37588770999999999,0.34237748600000001,0.1865,2398.7399999999998,199.4,131.69999999999999,"…",320.57632771531001,206.6,1.6868000000000001,"…",1.159,32.5,162.5,132,131.875,65.5,1541.69091796875,23.5,2050,1177,15022.3,4819,795,242.05,397.76,7.4158999999999997]
["1979M04",22.42500019073,23.64999961853,21.20000076294,"…",30.15,"…",1.1100000000000001,3.2594885748500002,3.6924229155699999,31.476257389570002,3.2477999999999998,3.0562999999999998,3.1261999999999999,2.0665,0.6247182,3.9570379999999998,1.617747,1062,"…",365.5,970,666,"…",300,648,238,"…","…",60.358503611080003,111.49,98.27,295.45999999999998,"…","…","…",142.19999999999999,139.99,"…",0.36699999999999999,0.36709999999999998,3.1526000000000001,0.73131082877999998,2.2568000000000001,11.9710866,0.37191939400000001,0.31504019799999999,0.1724,2350.83,204.6,133.1,"…",322.41206197192002,225.4,1.6424000000000001,"…",1.2446999999999999,32.5,164,134.19999999999999,135,70,1569.18627929688,23.5,2100,1161,15136.9,5379,789,239.11,391.16,7.4371]
["1979M05",33.5,32.75,34.25,"…",30.15,"…",1.1499999999999999,3.2594885748500002,3.6924229155699999,31.961992308519999,3.3586999999999998,3.3022999999999998,3.2557999999999998,1.4376,0.52219660000000001,2.1867260000000002,1.603823,1056,"…",368,925,665,"…",300,636,240,"…","…",61.314589436790001,112.57,100.49,296.77999999999997,"…","…","…",141.43,143.30000000000001,"…",0.36709999999999998,0.41270000000000001,3.036,0.73496194719999997,2.3542000000000001,11.9710866,0.36773061600000001,0.31592204600000001,0.1731,2362.0700000000002,201.9,148.4,"…",341.92388365385,256,1.6798999999999999,"…",1.2796000000000001,32.5,162,130.5,141.75,70,1576.08227539063,23.5,1926,1239,15361.8,5968,778,257.58999999999997,430.39,8.3759999999999994]
["1979M06",34.67499923706,36.5,32.84999847412,"…",30.15,"…",1.17,3.2594885748500002,3.6924229155699999,32.204859767990001,3.4807000000000001,4.2588999999999997,4.1620999999999997,1.3341000000000001,0.43419790000000003,1.9580420000000001,1.6101399999999999,1062,"…",393,893,675,"…",322,673,261,"…","…",67.595387991999999,120.35,109.46,303.31,"…","…","…",163.88,167.92,"…",0.37809999999999999,0.48909999999999998,2.7749999999999999,0.74101947772999999,2.3950999999999998,11.9710866,0.37213985599999999,0.32209498199999997,0.17949999999999999,2342.29,203.9,180.5,"…",380.06057627950997,285,1.6976,"…",1.3756999999999999,32.5,175.5,131.5,148.5,71.25,1596.5595703125,23.5,1877.9,1382,16135.6,6519,754,279.07,430.29,8.5595999999999997]
["1979M07",33.5,35,32,"…",30.15,"…",1.2,3.2594885748500002,3.6924229155699999,32.569160957199998,3.2519999999999998,4.4898999999999996,4.3240999999999996,1.4221999999999999,0.65406790000000004,1.9691190000000001,1.6433979999999999,1095,"…",415,913,678,"…",322,690,246,"…","…",70.876565127449993,130.51,118.9,304.05,"…","…","…",168.29,174.53,"…",0.33510000000000001,0.51880000000000004,2.4752999999999998,0.74257147188999995,2.5304000000000002,11.9710866,0.473552376,0.34370025799999998,0.18779999999999999,2335.4499999999998,209.7,208,"…",410.30738336194997,333,1.7031000000000001,"…",1.3325,35.75,187.5,141.5,155.4,77,1534.46801757813,23.5,1814,1272,15780.7,6614,722,294.74,411.79,9.0545000000000009]
["1979M08",34,35.75,32.25,"…",31.26,"…",1.24,3.2594885748500002,3.6924229155699999,33.054895876149999,3.1354000000000002,4.3529999999999998,4.0110999999999999,1.5622,0.9279077,2.1179730000000001,1.6406499999999999,1002,"…",400,867,652,"…",302,682.2,236,"…","…",67.729138250250003,118.85,111.38,328.43,"…","…","…",162.77000000000001,169.02,"…",0.29809999999999998,0.48259999999999997,2.5607000000000002,0.74468961965000002,2.4152,11.9710866,0.47200914199999999,0.348770884,0.1956,2340.27,209,222.5,"…",425.51349628016999,281,1.7119,"…",1.3069,39,207.5,151.5,160,79,1561.89428710938,23.5,1976.4,1213,14793,6614,665,300.82,394.34,9.3066999999999993]
["1979M09",35.5,36.5,34.5,"…",31.26,"…",1.24,3.2594885748500002,3.6924229155699999,33.054895876149999,3.2225000000000001,4.5716999999999999,4.2293000000000003,1.5602,0.96173540000000002,2.0737920000000001,1.645043,905,"…",394,872,640,"…",292,691,238,"…","…",68.602088674279997,117.96,112.6,338.17,"…","…","…",164.98,174.16,"…",0.30199999999999999,0.43909999999999999,2.8847,0.74840979188000001,2.3774000000000002,11.9710866,0.47707976800000002,0.34656626400000001,0.21820000000000001,2339.9299999999998,212.5,218.5,"…",421.36543724530998,283,1.7182999999999999,"…",1.2957000000000001,39,215,153,163.75,80.125,1615.60888671875,23.5,2095.9,1231,15399.3,6614,724,354.95,462.93,13.7593]
["1979M10",37.25,38.5,36,"…",32.369999999999997,"…",1.28,3.2594885748500002,3.6924229155699999,33.540630795090003,3.0590999999999999,4.6207000000000003,4.0640000000000001,1.5702,0.96416270000000004,2.1050499999999999,1.6413040000000001,907,"…",394,812,602,"…",283,671,238,"…","…",69.676025685940004,119.1,116.2,340.38,"…","…","…",163.1,178.21,"…",0.307,0.44550000000000001,2.8593999999999999,0.75187726389999998,2.4083999999999999,11.9710866,0.47509561,0.35075504200000002,0.26200000000000001,2328.3200000000002,226.4,191.4,"…",392.28687258078003,258,1.7150000000000001,"…",1.3033999999999999,39,247.5,177.5,167.5,83.5,1786.22021484375,23.5,2075.9,1319,16012.2,6614,707,391.66,519.87,16.633099999999999]
["1979M11",40.75,42,39.5,"…",32.369999999999997,"…",1.29,3.2594885748500002,3.6924229155699999,33.662064524830001,3.0164,4.5574000000000003,3.9089999999999998,1.5841000000000001,0.92235809999999996,2.1981670000000002,1.631778,907,"…",415,775,620,"…",281,670,251,"…","…",69.608873587310001,118.2,117.7,342.35,"…","…","…",166.8,178.21,"…",0.312,0.35549999999999998,3.0283000000000002,0.75708001870999997,2.4209999999999998,11.9710866,0.47685930599999998,0.35913259800000003,0.30299999999999999,2295.14,229.5,179.7,"…",379.15002835272003,252,1.7649999999999999,"…",1.31,39,242,187,170,83.5,1832.54736328125,23.5,2090,1225,16360.5,6614,702,391.99,505.64,16.650200000000002]
["1979M12",39.75,40.5,39,"…",32.369999999999997,"…",1.31,3.2594885748500002,3.6924229155699999,33.904931984299999,3.1867999999999999,4.2831000000000001,3.9020000000000001,1.6709000000000001,1.313053,2.0446810000000002,1.6550720000000001,885,"…",450,720,630,"…",279,647,254.3,"…","…",69.452935566350007,115.3,118.2,356.88,"…","…","…",173.1,180.04,"…",0.34100000000000003,0.35,3.0975000000000001,0.76101246349999996,2.6042999999999998,11.9710866,0.48788240599999999,0.40344545999999998,0.32900000000000001,2294.9699999999998,237.4,182.7,"…",382.55505651419998,262,1.819,"…",1.3428,39,246,190,176.25,108.25,1913.49438476563,23.5,2214,1233,16986.599999999999,6945,751,455.08,600.53,22.450399999999998]
["1980M01",39,40,38,"…",32.369999999999997,"…",1.37,4.22,5.69622732832,40.557344803079999,3.1675,3.8077999999999999,3.5712999999999999,1.6861999999999999,1.1859470000000001,2.0300210000000001,1.842562,885,869,491,744,662,"…",268,609,244,"…","…",66.584538050000006,105.4,111.5,372.79,"…","…","…",169.71,175.63,"…",0.40179999999999999,0.34699999999999998,3.0062000000000002,0.74736617999999999,2.5990000000000002,10.141252,0.49273256999999998,0.43342829199999999,0.38100000000000001,2286.27,245.2,200.1,396,401.81723331356,285.8,1.9296,"…",1.5172000000000001,39,257,197.5,187.5,106.5,2054.86010742188,28.09,2601,1118,17013,6584.8,774,675.31,806.79,38.875599999999999]
["1980M02",37.25,38.5,36,"…",32.369999999999997,"…",1.42,4.22,5.69622732832,41.164513451760001,3.2368000000000001,3.7101999999999999,3.5520999999999998,1.6798999999999999,1.174774,2.031631,1.8331809999999999,840,887,518.29999999999995,778,672,"…",271,610,238,"…","…",66.58,113.9,118.3,376.52,"…","…","…",170.49,172.7,"…",0.37219999999999998,0.35,2.9662999999999999,0.71760380999999995,2.6949999999999998,10.141252,0.48810286800000002,0.54432067799999995,0.5,2300.11,249,213.6,396,416.23615900690999,306.89999999999998,2.0988000000000002,"…",1.6603000000000001,39,257.5,195,187.5,106.5,2131.00854492188,28.09,2918,1168,17100.400000000001,6978.9,870,665.32,882.31,35.243499999999997]
["1980M03",37,38.25,35.75,"…",32.369999999999997,"…",1.46,4.22,5.69622732832,41.650248370710003,3.0910000000000002,4.1173000000000002,3.7225000000000001,1.6375,1.141416,1.9855579999999999,1.785539,760,895,478,720,637,"…",264,580,242,"…","…",69.900000000000006,110.4,114.6,392.72,"…","…","…",162.4,163.51,"…",0.42270000000000002,0.33800000000000002,2.6015000000000001,0.70173054599999996,2.629,10.141252,0.46341112400000001,0.46693851600000003,0.433,2292.46,243.4,209.3,396,411.69018618054997,310.10000000000002,2.0331000000000001,"…",1.4628000000000001,42,260.5,200,187.5,106.5,1978.37890625,28.09,2306,1121,17470.3,6733.8,743,553.58000000000004,746.54,24.73]
["1980M04",36.57500076294,38.15000152588,35,"…",39.54,"…",1.51,4.22,5.69622732832,42.257417019389997,2.9106999999999998,4.0528000000000004,3.6463999999999999,1.6335999999999999,1.1296679999999999,2.0010240000000001,1.7700720000000001,660,900,470,708,611,"…",252,552,242,"…","…",69.900000000000006,108.2,114.5,395.97,"…","…","…",155.80000000000001,156.53,"…",0.39560000000000001,0.377,2.5245000000000002,0.68321173800000001,2.9239999999999999,10.141252,0.45966327000000001,0.49978735400000002,0.46800000000000003,2323.69,241.8,206.8,396,409.02741711325001,285.3,2.0015999999999998,"…",1.3349,54,202.5,182.5,196.25,106.5,1932.45556640625,28.09,2070,969,17017.2,6233.3,708,517.41,589.05999999999995,14.948700000000001]
["1980M05",37.04999923706,38.5,35.59999847412,"…",40.14,"…",1.56,4.22,5.69622732832,42.864585668079997,2.5857999999999999,4.2314999999999996,3.8847999999999998,1.6701999999999999,1.1450530000000001,2.0446810000000002,1.8207409999999999,618,918,505,733,584,"…",260,562,224,"…","…",68.239999999999995,110,116.5,410.4,"…","…","…",156.19999999999999,161.30000000000001,"…",0.44419999999999998,0.44219999999999998,2.4361000000000002,0.67593649200000006,3.1349999999999998,10.141252,0.47862300200000002,0.70305331800000004,0.68159999999999998,2305.8000000000002,251.1,216.73,396,419.51878082343001,291.10000000000002,1.958,"…",1.3313999999999999,54,211,171,205,106.5,1775.8037109375,28.09,2037,772,17041.7,6000.8,691.5,513.79999999999995,559.65,12.6761]
["1980M06",37,38,36,"…",40.74,"…",1.57,4.22,5.69622732832,42.986019397809997,2.4981,4.0503,3.7612999999999999,1.6807000000000001,1.142911,2.0569250000000001,1.842414,630,925,484,713,555,"…",262,570,218,"…","…",64.930000000000007,113.6,119.4,418.94,"…","…","…",146.19999999999999,157.63,"…",0.34229999999999999,0.48,2.5108000000000001,0.68960513599999995,2.9820000000000002,10.141252,0.485677786,0.70768302000000005,0.67900000000000005,2297.7199999999998,255.3,218.42,396,421.28212136410002,264.60000000000002,1.8909,"…",1.3640000000000001,44,212.5,170,205,106.5,1668.96044921875,28.09,2006,739,17223.900000000001,6294.9,678.1,600.72,641.84,15.7834]
["1980M07",35.375,37.40000152588,33.34999847412,"…",40.74,"…",1.64,4.22,5.69622732832,43.836055505970002,2.4647999999999999,3.5164,3.2808999999999999,1.6907000000000001,1.139642,2.0791580000000001,1.8531530000000001,648,880,479,860,545,"…",303,635,248,"…","…",86.53,128.9,133,418.94,"…","…","…",160.5,168.65,"…",0.35139999999999999,0.41499999999999998,2.7549000000000001,0.75706650799999997,3.2,10.141252,0.51698339000000004,0.63382824999999998,0.60899999999999999,2297.52,259.89999999999998,195.13,396,396.39677748016999,276.5,1.9821,"…",1.3461000000000001,44,215,173,205,106.5,1758.07495117188,28.09,2176,811,17090.8,6622.2,714,643.27,670.35,16.321999999999999]
["1980M08",32.949998855590003,33.59999847412,32.29999923706,"…",44.24,"…",1.64,4.22,5.69622732832,43.836055505970002,2.3121999999999998,3.1000999999999999,2.9496000000000002,1.6717,1.1088260000000001,2.074163,1.8321369999999999,620,940,490,914,518,"…",309,636,260,"…","…",81.56,143.44999999999999,143.02000000000001,418.94,"…","…","…",165.28,171.23,"…",0.3422,0.40429999999999999,2.9213,0.80270214200000001,3.0720000000000001,10.141252,0.50706260000000003,0.73061106799999997,0.70279999999999998,2263.02,253,188.51,396,389.07712994392,257.5,2.1219000000000001,"…",1.401,44,215,167.5,205,106.5,1783.62719726563,28.09,2082.1,853,17018.400000000001,6584.5,769,627.15,644.24,15.941800000000001]
["1980M09",32.82500076294,33.40000152588,32.25,"…",44.61,"…",1.69,4.22,5.69622732832,44.443224154649997,2.3860000000000001,2.8559000000000001,2.7566999999999999,1.6686000000000001,1.0807150000000001,2.0852780000000002,1.8398509999999999,590,1200,501,928,509,"…",335,615,292,"…","…",78.239999999999995,140.80000000000001,141.80000000000001,418.94,"…","…","…",175.6,179.68,"…",0.35270000000000001,0.50549999999999995,2.8473000000000002,0.83709421399999995,2.9950000000000001,10.141252,0.50772398600000002,0.77227838599999998,0.76490000000000002,2226.88,252.5,213.12,396,415.73080209665,242.5,2.1999,"…",1.4570000000000001,44,205,165,207,106.5,1655.06567382813,28.09,2060,883,17308.3,6655.3,796,673.63,695.88,19.886800000000001]
["1980M10",37.350000381469997,37.90000152588,36.79999923706,"…",44.61,"…",1.71,4.22,5.69622732832,44.68609161413,2.3050000000000002,2.8372999999999999,2.7242000000000002,1.6563000000000001,1.0525409999999999,2.089467,1.8268949999999999,580,1700,511.8,934,507,"…",340,592,310,"…","…",88.18,140.4,142.9,418.94,"…","…","…",187.04,188.13,"…",0.35270000000000001,0.505,2.8622999999999998,0.84767638999999995,2.9159999999999999,10.141252,0.49714181000000002,0.91932654000000003,0.89400000000000002,2224.33,258.89999999999998,159.05000000000001,396,354.96318685761997,241,2.1701999999999999,"…",1.4226000000000001,44,202.5,164.5,207,106.5,1626.15209960938,28.09,2040,879,16692.099999999999,6691.9,805,661.15,675.6,20.200399999999998]
["1980M11",40.29999923706,40.84999847412,39.75,"…",44.98,"…",1.76,4.22,5.69622732832,45.293260262810001,2.1739999999999999,2.5985999999999998,2.5183,1.6282000000000001,1.020829,2.0736789999999998,1.7900780000000001,650,2400,568,1093,585,"…",367,639,336,"…","…",103.22,146.6,148.4,439.37,"…","…","…",193.3,195.11,"…",0.37959999999999999,0.3165,2.9377,0.81637078600000001,2.6949999999999998,10.141252,0.47928438800000001,0.86597473599999997,0.83299999999999996,2258.46,258.39999999999998,161.97,396,358.4675152794,259.60000000000002,2.1560999999999999,"…",1.4157999999999999,44,214,175.5,207,106.5,1503.91015625,28.09,2010,813,15615.5,6452.7,802,624.77,632.6,18.5823]
["1980M12",39.75,40.15000152588,39.34999847412,"…",44.98,"…",1.74,4.22,5.69622732832,45.050392803340003,2.11,2.7172000000000001,2.5505,1.6079000000000001,1.014052,2.040654,1.7689010000000001,605,2325,557,1180,619.29999999999995,"…",323.75,571.29999999999995,295,"…","…",94.88,141.5,142.41,446.44,"…","…","…",177.1,182.62,"…",0.36980000000000002,0.3216,2.7507000000000001,0.80909553999999995,2.7109999999999999,10.141252,0.46627712999999998,0.66777939799999997,0.63300000000000001,2234.06,251.8,163.43,396,360.20877859705001,264.5,2.1999,"…",1.3814,44,214,201.5,207,106.5,1430.65673828125,28.09,1879,743,14707,6391,784,538.26,604.34,16.4618]
["1981M01",39.774999618530003,40.29999923706,39.25,"…",44.98,"…",1.77,4.5999999999999996,6.0303414353400004,47.447563833190003,2.093,2.8894000000000002,2.6282999999999999,1.6580999999999999,1.0880449999999999,1.971751,1.914596,613,2000,541,1110,625,"…",323,545,287,"…","…",92.52,148.81,146.66,446.44,"…","…","…",177.5,189.6,"…",0.38800000000000001,0.3488,2.6837,0.79145858000000002,2.9180000000000001,10.1632982,0.46164742800000003,0.65190613399999997,0.61599999999999999,2271.12,247.98,166.34,"…",363.65816889176,258.89999999999998,2.1779999999999999,"…",1.3708,44,227.5,202.5,207,115,1430.82958984375,28.09,1869.1,705.3,14332.7,6403.8,777.4,557.39,536.01,14.788500000000001]
["1981M02",37.899999618530003,38.70000076294,37.09999847412,"…",44.98,"…",1.81,4.5999999999999996,6.0303414353400004,47.933298752139997,2.0409999999999999,2.8517000000000001,2.4885999999999999,1.6373,1.2260200000000001,1.913808,1.7720229999999999,603,1500,518,1100,640,"…",306,516,270,"…","…",94.17,143.30000000000001,142.66999999999999,456.26,"…","…","…",176.4,181.51,"…",0.43519999999999998,0.32519999999999999,2.5739000000000001,0.80909553999999995,2.97,10.1632982,0.43298736799999998,0.57474443399999997,0.53200000000000003,2288.69,231.48,163.11000000000001,"…",359.82774613642999,259.39999999999998,2.1246,"…",1.3186,44,226,204.5,242.5,115,1452.38110351563,28.09,1801,689.3,13633.4,6370.7,731,499.76,479.69,13.0646]
["1981M03",37.59999847412,38.34999847412,36.84999847412,"…",44.98,"…",1.86,4.5999999999999996,6.0303414353400004,48.540467400819999,2.1160000000000001,2.8574000000000002,2.4723000000000002,1.6049,1.224591,1.907233,1.682747,574,1400,507,1115,620,"…",305,535,265,"…","…",89.2,142.13,141.04,480.56,"…","…","…",167.92,175.27,"…",0.45910000000000001,0.38650000000000001,2.4977999999999998,0.79388366200000005,2.7250000000000001,10.1632982,0.43276690600000001,0.52492002199999999,0.49659999999999999,2286.29,231.39,160.77000000000001,"…",357.03092699114001,244.3,2.0384000000000002,"…",1.2627999999999999,44,207.5,187.5,242.5,115,1442.95190429688,28.09,1818,729.7,13633,6292.4,751,499.11,490.88,12.3407]
["1981M04",36.369998931879998,37.18999862671,35.54999923706,"…",56.5,"…",1.93,4.5999999999999996,6.0303414353400004,49.390503508979997,2.11,2.8887,2.4506999999999999,1.5747,1.0858589999999999,1.897991,1.740367,552,1410,501,1105,588,"…",316,531.20000000000005,273,"…","…",82.58,145.5,140.6,490.63,"…","…","…",172.07,180.41,"…",0.42509999999999998,0.40300000000000002,2.5308999999999999,0.77470346800000001,2.9740000000000002,10.1632982,0.42152334400000002,0.43893984200000002,0.3931,2292.4499999999998,225.25,156.28,"…",351.61141711912001,259.39999999999998,1.9766999999999999,"…",1.149,47.5,193,177.5,135,70,1369.23461914063,28.09,1821,758.7,13365,6307,824,495.8,481.17,11.473599999999999]
["1981M05",34.284999847409999,35.18999862671,33.380001068120002,"…",56.5,"…",1.95,4.5999999999999996,6.0303414353400004,49.633370968450002,1.9330000000000001,2.8329,2.3477000000000001,1.5152000000000001,0.98641279999999998,1.8662030000000001,1.69309,563,1408,504,1185,599,"…",306,511,267,"…","…",82.58,141.30000000000001,139.80000000000001,494.36,"…","…","…",142.93,171.59,"…",0.45,0.373,2.4901,0.74405924999999995,3.22,10.1632982,0.39727252400000002,0.38426526599999999,0.33050000000000002,2296.2399999999998,209.45,158.55000000000001,"…",354.36017231398,256.5,1.9481999999999999,"…",1.1649,51,195.5,161,215,115,1296.99584960938,28.09,1742,696.9,12663.5,6352.2,851,479.7,461.92,10.850199999999999]
["1981M06",32.709999084469999,33.25,32.169998168950002,"…",56.5,"…",1.95,4.5999999999999996,6.0303414353400004,49.633370968450002,1.663,2.5104000000000002,1.8583000000000001,1.4614,0.89918260000000005,1.823763,1.6611659999999999,570,1226,485,1185,640,"…",291,512,247,"…","…",70.92,136.1,127.04,510.27,"…","…","…",132.83000000000001,168.65,"…",0.38779999999999998,0.37880000000000003,2.4357000000000002,0.75772789399999996,2.9929999999999999,10.1632982,0.38250157000000001,0.41777549000000003,0.36099999999999999,2298.17,203.14,156.41999999999999,"…",351.78147309935002,231.9,1.9276,"…",1.1385000000000001,51,190,157.5,215,115,1232.40673828125,28.09,1700,712.1,12603.5,6169.4,840,461.09,443.42,9.9981000000000009]
["1981M07",33.510000228880003,35.06000137329,31.959999084469999,"…",56.5,"…",2.0099999999999998,4.5999999999999996,6.0303414353400004,50.361973346870002,2.0482999999999998,2.6690999999999998,1.9357,1.4142999999999999,0.84569499999999997,1.7655080000000001,1.6317120000000001,585,1175,470,1160,600,"…",294,530,247,"…","…",77.540000000000006,137.56,123.61,498.49,"…","…","…",138.57,167.92,"…",0.3296,0.38178000000000001,2.4140999999999999,0.80909553999999995,2.4891000000000001,10.1632982,0.40234314999999998,0.42108242000000001,0.36020000000000002,2283.3200000000002,198.3,145.61000000000001,"…",338.43742352508002,224.18,1.8879999999999999,"…",1.0333000000000001,51,177.5,146.5,180,116.5,1175.31127929688,28.09,1681.9,784.3,13358,6150.2,865.1,409.07,406.71,8.5812000000000008]
["1981M08",33.984998703000002,35.79999923706,32.169998168950002,"…",56.5,"…",2.02,4.5999999999999996,6.0303414353400004,50.48340707661,2.2469000000000001,2.782,1.9785999999999999,1.3917999999999999,0.82339150000000005,1.7415480000000001,1.6103130000000001,565,1094,438.8,1160,531,"…",283,506,243,"…","…",75.89,127.11,116.04,473.94,"…","…","…",140.30000000000001,170.12,"…",0.30530000000000002,0.44424999999999998,2.4140999999999999,0.787490264,2.1812,10.1632982,0.39220189799999999,0.38404480400000002,0.33,2313.73,192.26,142.83000000000001,"…",334.93275880483998,215.24,1.772,"…",1.0679000000000001,51,179.5,137.5,160,116.5,1230.82885742188,28.09,1787,824,14485,5999.2,955,410.16,417.6,8.9159000000000006]
["1981M09",33.985000610349999,35.909999847409999,32.06000137329,"…",56.5,"…",2.08,4.5999999999999996,6.0303414353400004,51.21200945503,2.3565,2.8037999999999998,1.9702999999999999,1.4307000000000001,1.0311269999999999,1.7225999999999999,1.5382830000000001,535,1046,434,1005,509,"…",264,485,235,"…","…",70.92,115.5,109.1,463.13,"…","…","…",147.07,171.23,"…",0.435,0.52127000000000001,2.4881000000000002,0.77139653799999996,2.4722,10.1632982,0.41160255400000001,0.34149563799999999,0.25679999999999997,2309.46,203.75,142.19,"…",334.12149844906003,236.94,1.6976,"…",1.0606,51,130,139,160,116.5,1168.9111328125,28.09,1710.4,763.6,14935.1,5579,939.2,443.75,435.61,10.0502]
["1981M10",34.610000610349999,36.540000915530001,32.680000305180002,"…",56.5,"…",2.11,4.5999999999999996,6.0303414353400004,51.576310644240003,2.1726999999999999,3.0225,2.1656,1.2848999999999999,0.73793299999999995,1.710229,1.4066149999999999,564,978,405,863,513,"…",260,486,231,"…","…",73.59,112.67,105.9,431.71,"…","…","…",149.66,168.65,"…",0.38890000000000002,0.50563000000000002,2.4335,0.75860974199999998,2.6421999999999999,10.1632982,0.42284611599999999,0.34524349199999999,0.26550000000000001,2378.4,204.46,146.24,"…",339.22735606470002,231.37,1.6689000000000001,"…",1.0189999999999999,51,122.5,133.5,160,116.5,1140.181640625,28.09,1666.3,716.5,15112.6,5216.8,891.7,437.76,420.25,9.2281999999999993]
["1981M11",35.680000305180002,37.119998931879998,34.240001678470001,"…",56.5,"…",2.15,4.5999999999999996,6.0303414353400004,52.062045563189997,2.0636999999999999,3.1804000000000001,2.3134999999999999,1.3243,0.83428789999999997,1.7188410000000001,1.419635,570,948,407,805,500,"…",257,470,230,"…","…",77.540000000000006,111.76,112.14,405.2,"…","…","…",156.80000000000001,178.57,"…",0.39550000000000002,0.45889999999999997,2.3706,0.74648433199999997,2.6547999999999998,10.1632982,0.42769627999999998,0.35891213599999999,0.26219999999999999,2405.27,204.82,156.41999999999999,"…",351.78147309935002,250.88,1.6479999999999999,"…",0.98740000000000006,51,145,146.5,136.5,116.5,1081.84643554688,28.09,1651.4,666,15836.2,5100.2,876.9,413.37,397.07,8.5388999999999999]
["1981M12",35.409999847409999,36.70000076294,34.119998931879998,"…",56.5,"…",2.16,4.5999999999999996,6.0303414353400004,52.183479292919998,2.1105,3.1343000000000001,2.2730000000000001,1.3448,0.89672989999999997,1.717589,1.419967,545,904,399,720,483,"…",256,455,236,"…","…",69.260000000000005,107.63,111.86,356.88,"…","…","…",152.99,176,"…",0.4158,0.34160000000000001,2.3597999999999999,0.74339786399999996,2.6244000000000001,10.1632982,0.42196426799999998,0.376328634,0.28510000000000002,2437.1,201.2,160,"…",356.10651712509002,267.32,1.5847,"…",0.9012,51,137.5,142.5,136.5,94.5,1130.88427734375,28.09,1655.3,674.3,15951.5,5496.1,845.5,410.09,399.45,8.4481000000000002]
["1982M01",35.049999491370002,35.84999847412,34,35.299999999999997,55.61,"…",2.23,4.45,6.0516223988900002,52.334837269639998,2.1922000000000001,3.1785999999999999,2.3075999999999999,1.5295000000000001,0.95013840000000005,1.91252,1.725786,536,898,390,685,502,"…",262,455,242,"…","…",72.569999999999993,115.35,116.04,321.24,"…","…","…",148.41999999999999,173.06,"…",0.42459999999999998,0.31519999999999998,2.3809999999999998,0.75530281200000005,2.9613999999999998,10.029999999999999,0.41557086999999998,0.40035899200000002,0.28620000000000001,2471.1,197.42,163.27000000000001,"…",360.01830530786998,255.47,1.5454000000000001,"…",0.90849999999999997,51,135,155,112.5,94.5,1113.3,32.5,1610.6,648.20000000000005,16133.1,5628.8,818.5,384.14,369.59,7.9881000000000002]
["1982M02",32.273333485919999,31.620000839229998,30.39999961853,34.799999999999997,55.61,"…",2.2999999999999998,4.45,6.0516223988900002,53.184873377800002,2.0871,3.4045999999999998,2.5167999999999999,1.5270999999999999,0.98571770000000003,1.899607,1.6959930000000001,526,868,369,685,528,"…",254,454,235,"…","…",75.89,112.59,112.73,302.82,"…","…","…",153.74,170.86,"…",0.38319999999999999,0.30199999999999999,2.3809999999999998,0.76742822200000005,2.7618,11.46,0.40212268800000001,0.39176097399999998,0.28839999999999999,2535.7399999999998,191.11,154.81,"…",349.82157993750002,235.29,1.5421,"…",0.87939999999999996,51,190,157.5,130,94.5,1087.7,32.5,1598,618,15992.6,5716.8,822.9,374.13,359.63,8.2848000000000006]
["1982M03",30.16666653951,29.29999923706,28.60000038147,32.6,55.61,"…",2.35,4.45,6.0516223988900002,53.792042026479997,1.946,3.2195999999999998,2.4685000000000001,1.528,1.02176,1.881284,1.680917,480,855,357,644,507,"…",254.25,452,226.35,"…","…",70.92,114.17,112,305.27999999999997,"…","…","…",141.83000000000001,168.65,"…",0.42149999999999999,0.32440000000000002,2.3809999999999998,0.762578058,2.6564999999999999,12.79,0.39440651799999998,0.37765140600000002,0.24840000000000001,2566.2600000000002,187.23,151.18,"…",345.36798383453998,240.94,1.5528999999999999,"…",0.877,51,190,140,130,94.5,1029.2,32.5,1510.4,612.5,12766.3,5653.3,789.7,330.25,317.62,7.2327000000000004]
["1982M04",31.56666603088,33.119998931879998,30.879999160770002,30.7,55.61,"…",2.4,4.45,6.0516223988900002,54.399210675170004,1.7408999999999999,3.1223999999999998,2.3454999999999999,1.5287999999999999,1.054616,1.8647069999999999,1.667133,502,838,357,679,509,"…",265,482,230,"…","…",70.22,117.76,114.6,291.27999999999997,"…","…","…",148.58000000000001,169.76,"…",0.47639999999999999,0.34649999999999997,2.403,0.75949158999999999,2.5499999999999998,13.45,0.38867450599999998,0.39440651799999998,0.21029999999999999,2610.86,184.19,148.88999999999999,"…",342.53307813825,235.85,1.5767,"…",0.88670000000000004,51,168.5,135.5,122.5,94.5,996.2,32.5,1521.7,574.70000000000005,12618.1,5394,742.5,350.3,337.93,7.3087]
["1982M05",33.043332926429997,35.180000305180002,33.34999847412,30.6,55.61,"…",2.4500000000000002,4.45,6.0516223988900002,55.006379323849998,1.7190000000000001,3.0333000000000001,2.2822,1.5471999999999999,1.0638300000000001,1.881284,1.6964920000000001,493,802,362,645,511,"…",269,509,234,"…","…",76.209999999999994,118.11,116.73,278.52,"…","…","…",128.26,167.55,"…",0.43809999999999999,0.3725,2.4140999999999999,0.76985330399999996,2.5398000000000001,13.89,0.40234314999999998,0.43144413399999998,0.1792,2652.52,191.1,152.71,"…",347.25105097004001,233.8,1.6887000000000001,"…",0.89710000000000001,48.4,166,138.5,122.5,90,973.3,32.5,1527.7,574.70000000000005,12735.9,5211.8999999999996,750.2,333.71,310.39,6.6833999999999998]
["1982M06",32.766666666669998,34.59999847412,32.65000152588,31.05,55.61,"…",2.4500000000000002,4.45,6.0516223988900002,55.006379323849998,1.5488,3.1004,2.2408000000000001,1.4964999999999999,0.98981710000000001,1.850921,1.648676,497,770,348,599,494,"…",254,475,222,"…","…",71.87,114.95,110.45,270.66000000000003,"…","…","…",125.7,155.79,"…",0.3997,0.40899999999999997,2.3809999999999998,0.77867178400000003,2.4270999999999998,13.89,0.38073787399999998,0.46363158599999998,0.151,2635.91,174.8,140.38999999999999,"…",331.83077789316002,207.5,1.6675,"…",0.84299999999999997,44.5,167,133,122.5,75,918.8,32.5,1300,520.70000000000005,11087,5186.6000000000004,691.9,314.98,276.26,5.5616000000000003]
["1982M07",32.916667175290002,33.70000076294,31.70000076294,33.35,55.61,"…",2.4700000000000002,4.45,6.0516223988900002,55.249246783319997,1.5565,2.9434,2.1678000000000002,1.5182,1.0929329999999999,1.8298080000000001,1.6319779999999999,465,798,335,570,421,"…",249,464,212,"…","…",58.56,114.95,102.69,261.82,"…","…","…",127.52,151.75,"…",0.32719999999999999,0.43219999999999997,2.2267000000000001,0.78660841599999998,2.3769999999999998,12.68,0.408516086,0.48832333,0.1726,2597.12,168,140.59,"…",332.08596693516,225.4,1.73,"…",0.83030000000000004,37.375,168,133.5,122.5,77.5,957.8,32.5,1440.9,552.4,11316.6,5068.6000000000004,726.9,338.97,287.97000000000003,6.4626000000000001]
["1982M08",32.416666412349997,32.84999847412,31.20000076294,33.200000000000003,55.61,"…",2.5299999999999998,4.45,6.0516223988900002,55.977849161739996,1.5463,2.9308000000000001,2.2477999999999998,1.5741000000000001,1.272562,1.8264910000000001,1.6233059999999999,412,770,320,572,396,"…",234,432,203,"…","…",59.26,102.28,100.31,266.73,"…","…","…",123.8,152.49,"…",0.30270000000000002,0.52690000000000003,2.2421000000000002,0.75772789399999996,2.2677999999999998,13.12,0.405870542,0.49493719000000003,0.14899999999999999,2554.87,166.3,140.11000000000001,"…",331.47323211807998,230.3,1.6568000000000001,"…",0.84330000000000005,35,165.5,135.5,125,77.5,958.9,32.5,1451.5,522.9,12195.7,4953.1000000000004,715.5,364.23,296.81,7.1078000000000001]
["1982M09",33.466666412350001,34.25,33.04999923706,33.1,55.61,"…",2.56,4.45,6.0516223988900002,56.34215035095,1.6851,3.0042,2.4091999999999998,1.6328,1.4686049999999999,1.814103,1.6157760000000001,411,750,319,530,380,"…",217,426,196,"…","…",54.92,100.88,97.08,252,"…","…","…",120.45,152.85,"…",0.34789999999999999,0.4728,2.4249999999999998,0.76191667200000002,2.1835,14.55,0.40124083999999999,0.460324656,0.13,2585.79,162.79,140.59,"…",332.08596693516,239.1,1.6039000000000001,"…",0.85319999999999996,35,167,135,125,77,959.5,32.5,1426.5,515.29999999999995,12675.7,4310.3,749.5,437.31,334.13,8.7818000000000005]
["1982M10",33.783333841960001,35,33.40000152588,32.950000000000003,55.61,"…",2.6,4.45,6.0516223988900002,56.827885269900001,1.6335,3.0954999999999999,2.5855999999999999,1.5694999999999999,1.3008710000000001,1.805377,1.6021730000000001,406,851,326,470,355,"…",214,416,192,"…","…",50.27,91.73,97.94,235.06,"…","…","…",112.86,146.61000000000001,"…",0.2944,0.4304,2.4802,0.75287773000000002,2.0989,14.22,0.39661113799999997,0.45062432800000002,0.13020000000000001,2516.15,160.97,136.66,"…",327.04046830703999,217.39,1.5479000000000001,"…",0.85099999999999998,35,163.5,134,127.5,79,951.5,32.5,1461,497.4,12413.8,3916.5,751.3,422.15,334.54,9.3874999999999993]
["1982M11",32.849999745689999,33.79999923706,31.75,33,55.61,"…",2.62,4.45,6.0516223988900002,57.07075272937,1.5405,3.0449999999999999,2.6943000000000001,1.5611999999999999,1.3013699999999999,1.788799,1.5934729999999999,416,868,353,474,362,"…",231,403,213,"…","…",50.27,102.87,110.23,238.26,"…","…","…",131.59,155.06,"…",0.3327,0.3916,2.4802,0.74009093400000003,1.8782000000000001,14.44,0.39043820200000001,0.45834049799999999,0.14330000000000001,2485,159.4,140.78,"…",332.32824189399003,221.6,1.5198,"…",0.82669999999999999,35,160.5,131.5,127.5,72.5,965.2,32.5,1443.8,462.4,11981.9,3433.7,710,414.89,345.91,9.7905999999999995]
["1982M12",31.46666679382,31.75,30.10000038147,32.549999999999997,45.5,"…",2.62,4.45,6.0516223988900002,57.07075272937,1.6315,2.9729000000000001,2.8176999999999999,1.5066999999999999,1.237425,1.801887,1.480788,429,862,399,466,376,"…",232,399,217,"…","…",53.59,105.51,111.55,246.11,"…","…","…",127.87,159.83000000000001,"…",0.34279999999999999,0.2913,2.4802,0.72487905600000002,1.821,14.88,0.406972852,0.459222346,0.1391,2556.16,167.7,147.47,"…",340.76510712684001,246.72,1.5355000000000001,"…",0.79590000000000005,41.25,158.5,132,120,72.5,987.4,32.5,1473.2,448,11992.9,3576.3,668.5,444.5,368.72,10.569100000000001]
["1983M01",30.653333028159999,30.85000038147,30.04999923706,31.059999465939999,43,"…",2.66,4.05,5.5458157477299999,55.312217676099998,1.7784,2.8651,2.7450000000000001,1.7617,1.3767,1.9151260000000001,1.99333,435,840,439,461,372,"…",235,397,216,"…","…",53.59,107.84,114.64,239.97,"…","…","…",131.15,164.98,"…",0.33800000000000002,0.28944999999999999,2.2839999999999998,0.73061106799999997,1.7765,14.64,0.41005932,0.46804082600000002,0.13270000000000001,2572.2399999999998,169.88,145.53,"…",338.33700223046998,244.7,1.5846,"…",0.82010000000000005,47.5,150.5,137.5,124.5,75,1076.5,29,1571.9,475.3,12082.6,3797,699.1,481.29,452.85,12.339]
["1983M02",29.113333384200001,29.10000038147,29,29.239999771120001,43,"…",2.66,4.05,5.5458157477299999,55.312217676099998,1.9439,2.7982999999999998,2.6846000000000001,1.8217000000000001,1.500712,1.9911289999999999,1.973322,451,820,423,452,367,"…",239,395,211,"…","…",57.92,117.32,121.03,249.55,"…","…","…",133.38,164.24,"…",0.38030000000000003,0.28889999999999999,2.3809999999999998,0.74494109799999997,1.6675,14.37,0.40234314999999998,0.47972531200000001,0.14169999999999999,2598.64,167.1,127.51,"…",315.02790413060001,234.9,1.6387,"…",0.94379999999999997,47.5,164,134.5,124.5,75.5,1230.4000000000001,29,1647.4,454.5,13034.2,4228.2,681.4,491.09,464.51,13.9756]
["1983M03",28.32000033061,28.20000076294,28.10000038147,28.659999847409999,43,"…",2.58,4.05,5.5458157477299999,54.34074783821,1.8680000000000001,2.7566999999999999,2.6726999999999999,1.8802000000000001,1.7030719999999999,1.9710909999999999,1.9663569999999999,482.2,815,403.2,445,377.6,"…",242,394,211.4,"…","…",56.9,125.19,124.34,261.82,"…","…","…",133.01,166.08,"…",0.40679999999999999,0.32790000000000002,2.4933999999999998,0.74582294599999999,1.8159000000000001,13.78,0.40035899200000002,0.48192993200000001,0.13669999999999999,2601.79,164.03,125.49,"…",312.32306327506001,243.3,1.7392000000000001,"…",1.0592999999999999,47.5,179.5,145,120,75.5,1301.8,29,1597.7,443.3,13426,4831.8999999999996,678.4,419.7,401.06,10.6403]
["1983M04",29.693333307900001,29.75,28.70000076294,30.629999160770002,43,"…",2.5299999999999998,4.05,5.5458157477299999,53.73357918952,1.8772,2.7505000000000002,2.6726999999999999,2.0491999999999999,1.7831790000000001,2.404277,1.9600900000000001,576.29999999999995,836,440,495,418.5,"…",252.5,434,219,"…","…",66.900000000000006,133.43,132.06,261.82,"…","…","…",137.05000000000001,167.18,"…",0.4793,0.40570000000000001,2.5440999999999998,0.72179258800000001,2.1168,13.4,0.39418605600000001,0.49449626600000002,0.1479,2619.7600000000002,157.18,127.11,"…",314.49386602833999,237.68,1.7686999999999999,"…",1.1343000000000001,47.5,180.5,136,109,75.5,1363.6,29,1674.9,457.6,13792.8,4817.8,697.5,432.88,413.68,11.6129]
["1983M05",29.359999974570002,29.60000038147,28.5,29.979999542240002,43,"…",2.5299999999999998,4.05,5.5458157477299999,53.73357918952,2.0703,2.8323,2.7151999999999998,2.1284000000000001,1.954458,2.4694820000000002,1.961328,622,825,437,548,432,"…",252,434,217,"…","…",63.59,133.85,133.43,259.86,"…","…","…",135.69999999999999,160.19999999999999,"…",0.55420000000000003,0.4506,2.5375000000000001,0.73369753599999998,2.1017000000000001,13.45,0.39220189799999999,0.49824412000000001,0.2036,2613,154.78,131.86000000000001,"…",320.78657873952,240.63,1.8069999999999999,"…",1.0525,43,171.5,132.5,101.5,75.5,1453.4,29,1765.7,433.1,13522.9,5031.6000000000004,735.6,438.01,448.52,12.9162]
["1983M06",29.966667175289999,30.20000076294,28.75,30.95000076294,43,"…",2.59,4.05,5.5458157477299999,54.46218156794,2.2976999999999999,2.8071000000000002,2.6511,2.1964999999999999,2.0148350000000002,2.643176,1.931627,694,831,430,593,394,"…",243,425,210,"…","…",66.58,135.03,127.4,249.06,"…","…","…",132.28,151.75,"…",0.50460000000000005,0.38769999999999999,2.4670000000000001,0.75133449600000002,2.0388000000000002,13.76,0.38029695000000002,0.49692134799999998,0.23680000000000001,2637.52,150.07,129.77000000000001,"…",318.03085416984999,231.63,1.8982000000000001,"…",1.0803,41.125,158.5,127.5,120,73,1465.6,29,1701.2,408.1,13354,4883.2,718.4,412.84,422.37,11.739000000000001]
["1983M07",30.466666539510001,30.79999923706,29,31.60000038147,34.75,"…",2.52,4.05,5.5458157477299999,53.612145459780002,2.3027000000000002,2.8294000000000001,2.6469,2.0154000000000001,1.6543749999999999,2.5037929999999999,1.8880520000000001,846,832,433,635,425,"…",263,477,226,"…","…",64.930000000000007,140.59,125.11,241.45,"…","…","…",135.33000000000001,147.34,"…",0.50309999999999999,0.33750000000000002,2.4582000000000002,0.77712855000000003,1.9735,13.12,0.38911542999999998,0.48700055799999997,0.2321,2668.06,147.82,129.22999999999999,"…",317.31553680390999,215.39,1.9497,"…",1.1332,37.25,157.5,128,109,73,1520.2,29,1704.3,403.3,13193,4804.1000000000004,739.8,402.91,433.27,12.029299999999999]
["1983M08",30.653333028159999,31.10000038147,28.89999961853,31.959999084469999,34.75,"…",2.58,4.05,5.5458157477299999,54.34074783821,2.3037999999999998,2.8559000000000001,2.6526000000000001,2.1145999999999998,1.8442959999999999,2.6411530000000001,1.8583400000000001,985,950,452,969,559,"…",339,651,279,"…","…",76.59,152.75,136.30000000000001,254.95,"…","…","…",145.13999999999999,152.49,"…",0.46410000000000001,0.34984999999999999,2.4802,0.790576732,1.9300999999999999,12.74,0.37809232999999998,0.49714181000000002,0.23280000000000001,2692.84,143.03,134.5,"…",324.23893534118002,214.47,2.0017999999999998,"…",1.1315999999999999,34,154.5,122.5,110.5,73,1603.6,29,1639.8,398,12826,4852.8,808.9,416.2,435.56,12.0626]
["1983M09",30.07000033061,30.35000038147,28.60000038147,31.260000228879999,34.75,"…",2.67,4.05,5.5458157477299999,55.433651405840003,2.145,2.9169,2.6877,2.1558999999999999,1.908979,2.7030470000000002,1.8555630000000001,954,1300,502.8,1052,645,"…",349.8,732.6,276.60000000000002,"…","…",87.36,147.75,135.54,278.27,"…","…","…",141.83000000000001,156.53,"…",0.41889999999999999,0.437,2.4653999999999998,0.81945725400000002,1.9471000000000001,12.61,0.37765140600000002,0.48942564,0.2079,2678.49,156.63999999999999,138.54,"…",329.46230318466002,218.32,1.9809000000000001,"…",1.0871,34,160,124.5,110.5,73,1613.7,29,1560.7,404.7,12755.3,4910.6000000000004,837.8,411.8,431.11,11.956200000000001]
["1983M10",29.616666793819999,29.85000038147,28.60000038147,30.39999961853,34.75,"…",2.58,4.05,5.5458157477299999,54.34074783821,2.0977000000000001,3.1025999999999998,2.8725999999999998,2.2252000000000001,1.926339,2.8687680000000002,1.8805909999999999,860,1275,510,1054,671,"…",328.75,687,267,"…","…",88.18,148.15,132.06,269.68,"…","…","…",141.46,152.85,"…",0.41149999999999998,0.4587,2.452,0.77867178400000003,1.9763999999999999,12.32,0.38404480400000002,0.48369362799999999,0.2147,2741.07,168.27,152.84,"…",347.41064924672003,227.46,1.9428000000000001,"…",1.0919000000000001,34,174,145,114,73,1566.3,29,1435.2,419.4,12750.8,4674.2,859,393.6,395.87,9.8866999999999994]
["1983M11",29.16666666667,29.20000076294,28.29999923706,30,32,"…",2.6,4.05,5.5458157477299999,54.583615297679998,2.2151999999999998,3.1869999999999998,2.8515000000000001,2.3950999999999998,2.2266499999999998,3.099577,1.859032,884,1140,479,951,661,"…",324,652,265,"…","…",89.91,147.02000000000001,132.28,264.18,"…","…","…",139.63999999999999,151.75,"…",0.34250000000000003,0.40600000000000003,2.4068000000000001,0.81152062199999997,1.9438,12.24,0.37390355199999997,0.48060715999999998,0.18360000000000001,2745.91,177.43,152.91999999999999,"…",347.50883253457999,225.24,1.9650000000000001,"…",1.1083000000000001,32.75,188.5,140.5,115.5,75.5,1516.8,29,1389.1,404.7,12772.5,4585.2,859.1,381.7,387.67,8.8122000000000007]
["1983M12",28.813333511349999,28.95000076294,28.25,29.239999771120001,29.25,"…",2.61,4.05,5.5458157477299999,54.705049027420003,2.5385,3.2332999999999998,2.9270999999999998,2.4211999999999998,2.3922629999999998,3.0298980000000002,1.8415649999999999,969,1120,482,876,695,"…",311,644,256,"…","…",78.239999999999995,143.28,130.87,251.02,"…","…","…",141.68,153.59,"…",0.34239999999999998,0.33910000000000001,2.3090999999999999,0.85803810400000002,1.8843000000000001,12.06,0.364644148,0.47333191400000002,0.17019999999999999,2709.22,172.99,157.16999999999999,"…",352.69129757554998,223.98,1.9701,"…",1.1276999999999999,31.5,190,142.5,115.5,75.5,1549.3,29,1415.2,402.1,12345.5,4657,857,388.34,393.22,9.1454000000000004]
["1984M01",29.043333053590001,29.559999465939999,27.729999542240002,29.840000152590001,29.25,29.34,2.67,3.76,5.23768078193,53.846239794870002,2.6219999999999999,3.1682999999999999,2.9306000000000001,3.0710999999999999,2.8414239999999999,3.4692539999999998,2.9025590000000001,1069,1080,480,983,875,"…",305,692,237,"…","…",84.87,141.91999999999999,129.47,237.77,"…","…","…",139.94999999999999,152.85,"…",0.3417,0.26795000000000002,2.2618999999999998,0.894193872,1.8496999999999999,11.93,0.356707516,0.47421376199999998,0.15359999999999999,2675.78,168.69,160.6,"…",356.82701199245002,222.32,1.9308000000000001,"…",1.1354,31.5,191.5,142.5,116.5,82.5,1548.9,26.15,1375.7,397.5,12117.8,4670.5,957.8,370.89,376.25,8.2538]
["1984M02",29.203332901,29.879999160770002,27.64999961853,30.079999923710002,29.25,29.34,2.71,3.76,5.23768078193,54.331974713820003,2.5005000000000002,3.2168000000000001,3.0049000000000001,2.7067999999999999,2.6451030000000002,2.5446260000000001,2.9306390000000002,1158,960,466,1024,875,"…",293,669,221,"…","…",84.87,137,125.66,227.85,"…","…","…",133.27000000000001,150.65,"…",0.41652,0.24562999999999999,2.339,0.922192546,1.8706,12.08,0.36773061600000001,0.48237085600000001,0.1462,2630.46,174.21,158.63,"…",354.45671336298,225.74,1.9277,"…",1.1387,31.5,204,142.5,118,82.5,1491.2,26.15,1429.8,404.5,12297.7,4639.8,998.4,385.96,391.23,9.1181999999999999]
["1984M03",29.533333460489999,30.079999923710002,27.790000915530001,30.729999542240002,29.25,29.34,2.67,3.76,5.23768078193,53.846239794870002,2.5347,3.2698999999999998,3.0432999999999999,2.7898000000000001,2.665368,2.6262910000000002,3.0777079999999999,1123,975,428,1086,845,"…",314,720,229,"…","…",87.55,147.08000000000001,130.82,234.08,"…","…","…",142.66,153.96,"…",0.41364000000000001,0.25784000000000001,2.3809999999999998,0.90940575000000001,1.9560999999999999,12.48,0.38139926000000002,0.485677786,0.14149999999999999,2632.91,190.58,169.74,"…",367.65340963518003,254,1.9495,"…",1.1233,31.5,201,132.5,141,82.5,1455.8,26.15,1501.2,459.5,12406.1,4780.7,1040.5999999999999,394.26,398.43,9.6479999999999997]
["1984M04",29.573332468669999,30.129999160770002,27.959999084469999,30.629999160770002,29.25,29.34,2.64,3.76,5.23768078193,53.481938605659998,2.5358000000000001,3.3115999999999999,3.0325000000000002,3.0051000000000001,2.7269830000000002,3.3508719999999999,2.9373499999999999,1150,950,402,1159,841,"…",315,772,220,"…","…",92.52,148.02000000000001,129.52000000000001,235.31,"…","…","…",148.1,157.26,"…",0.41449999999999998,0.24179,2.4691999999999998,0.90367373799999995,2.0746000000000002,12.54,0.37456493800000001,0.48589824799999998,0.13250000000000001,2627.55,190.76,181.83,"…",381.57026360761,255.61,1.9619,"…",1.0731999999999999,31.5,198.5,125,127.5,81,1370.3,26.15,1532.6,481.7,12445,4911.5,1004.1,381.37,391.62,9.2471999999999994]
["1984M05",29.460000356039998,29.89999961853,28.030000686649998,30.45000076294,29.25,29.34,2.67,3.76,5.23768078193,53.846239794870002,2.6825999999999999,3.3123999999999998,3.2292999999999998,2.8134000000000001,2.5274329999999998,3.0555810000000001,2.8570419999999999,1314,910,382,1171,951,"…",338,914,219,"…","…",93.22,146.06,131.91999999999999,234.33,"…","…","…",144.33000000000001,153.96,"…",0.42621999999999999,0.24057999999999999,2.3950999999999998,0.87236813400000002,2.0754999999999999,12.02,0.36111675599999998,0.48523686199999999,0.1241,2687.46,183.43,184.41,"…",384.48441795784998,244.95,1.972,"…",0.97729999999999995,31.5,171.5,116,147.5,81,1289.0999999999999,26.15,1420.9,453.1,12582.8,4811.3999999999996,1001.3,377.4,387.86,8.9675999999999991]
["1984M06",29.050000508629999,29.20000076294,27.909999847409999,30.040000915530001,31.75,34.31,2.7,3.76,5.23768078193,54.210540984079998,2.4849999999999999,3.2473999999999998,3.165,2.7050000000000001,2.196615,3.0884749999999999,2.8299110000000001,1431,923,372,1155,783,"…",308,844,202,"…","…",89.91,146.97,128.32,235.31,"…","…","…",136.32,149.91,"…",0.45889000000000002,0.31769999999999998,2.3331,0.87479321600000004,2.048,11.79,0.36155767999999999,0.48633917199999999,0.1217,2759.88,184.09,175.13,"…",373.91236475996999,232.62,1.8454999999999999,"…",0.87939999999999996,31.5,156,120,155,81,1275,26.15,1366.5,484.3,12662.2,4773.2,941.5,377.7,381.55,8.7721]
["1984M07",27.98666699727,27.909999847409999,27.260000228879999,28.790000915530001,31.75,35.799999999999997,2.68,3.76,5.23768078193,53.967673524609999,2.2145000000000001,3.1770999999999998,3.0402,2.6983000000000001,2.1369929999999999,3.1948850000000002,2.763153,1273,840,341,1054,580,"…",270,697,186,"…","…",72.89,142.59,111.39,248.81,"…","…","…",133.66,146.97,"…",0.36663000000000001,0.4088,2.2336999999999998,0.89176878999999998,1.9575,11.46,0.35692797799999998,0.48259131799999999,0.10009999999999999,2840.07,177.35,157.9,"…",353.57494408388999,218.25,1.7414000000000001,"…",0.88959999999999995,33.799999999999997,163.5,132.5,162.5,86.5,1162.8,26.15,1330.8,493.6,12438.7,4640.3,853.6,347.71,343.32,7.4553000000000003]
["1984M08",28.170000076289998,28.110000610349999,27.229999542240002,29.170000076289998,31.75,35.799999999999997,2.69,3.76,5.23768078193,54.089107254349997,2.2136,3.2121,3.0990000000000002,2.7004999999999999,2.26003,3.0965959999999999,2.7448899999999998,1079,700,333,984,562,"…",261,679,180,"…","…",66.58,138.75,107.23,252,"…","…","…",137.47,152.49,"…",0.33961999999999998,0.50790000000000002,2.2544,0.85473117399999998,1.9468000000000001,11,0.355164282,0.478843464,8.8999999999999996E-2,2907.89,174.9,147.54,"…",340.85244363665998,222.86,1.6649,"…",0.9052,33.5,170.5,137.5,165,86.5,1135.8,26.15,1337.5,467.4,12302.2,4736,834.1,347.7,339.78,7.5974000000000004]
["1984M09",28.353333155310001,28.360000610349999,27.39999961853,29.29999923706,31.75,35.799999999999997,2.62,3.76,5.23768078193,53.23907114619,2.3108,3.1356000000000002,3.1189,2.6547999999999998,2.5340940000000001,2.7131259999999999,2.717114,1170,630,318,931,611,"…",245,694,168,"…","…",68.88,130.41,104.78,236.54,"…","…","…",140.78,155.06,"…",0.37892999999999999,0.5615,2.1846000000000001,0.86134503399999995,1.8616999999999999,10.47,0.340393328,0.47840253999999999,9.0399999999999994E-2,2953.76,167.04,142.78,"…",334.86943938505999,216.12,1.6129,"…",0.92259999999999998,33.5,168,137.5,165,86.5,1012.1,26.15,1293.5999999999999,401.6,12091.1,4705.5,873.3,340.2,326.7,7.2533000000000003]
["1984M10",27.853333155310001,27.809999465939999,27.110000610349999,28.639999389650001,31.75,35.799999999999997,2.63,3.76,5.23768078193,53.360504875929998,2.2572999999999999,3.0175000000000001,2.9786999999999999,2.6659999999999999,2.5083039999999999,2.7980130000000001,2.6915960000000001,1175,655,319,836,615,"…",245,679,170,"…","…",70.599999999999994,121.19,101.34,231.63,"…","…","…",141.28,152.85,"…",0.30886999999999998,0.49991999999999998,2.105,0.83643282799999996,1.8007,11.13,0.44004215200000002,0.47509561,0.10249999999999999,2932.06,164.5,135.87,"…",326.01821245997002,211.92,1.6233,"…",0.85299999999999998,35,166,137.5,172,86.5,1027.9000000000001,26.15,1273,412,11744.9,4750.3,843.7,341,324.33999999999997,7.2903000000000002]
["1984M11",27.650000254310001,27.70000076294,27.090000152590001,28.159999847409999,32.75,35.305,2.61,3.76,5.23768078193,53.117637416450002,2.2551000000000001,3.0911,2.9998,2.5293000000000001,2.5111279999999998,2.4058600000000001,2.6710470000000002,993,720,323,905,616,"…",250,698,169,"…","…",71.239999999999995,117.37,106.7,211.74,"…","…","…",143.52000000000001,152.49,"…",0.26900000000000002,0.36181000000000002,2.1013999999999999,0.84194437799999999,1.8428,11.79,0.33576362599999998,0.47156821799999998,9.6100000000000005E-2,2933.26,168.95,136.11000000000001,"…",326.32905966201997,211.66,1.6013999999999999,"…",0.80510000000000004,36,160.5,127.5,166,86.5,1151.8,26.15,1345.1,440.5,11991.2,4748.3,855.1,342,328.49,7.4896000000000003]
["1984M12",26.813333511349999,26.979999542240002,26.760000228879999,26.70000076294,33.75,34.935000000000002,2.57,3.76,5.23768078193,52.631902497509998,2.14,3.1040999999999999,2.7991999999999999,2.5585,2.4506700000000001,2.6315789999999999,2.593127,920,696,314,912,592,"…",241,630,165,"…","…",61.55,113.95,111.11,204.62,"…","…","…",141.38999999999999,149.55000000000001,"…",0.29921999999999999,0.31730000000000003,2.2193999999999998,0.82276418399999995,1.7690999999999999,12.13,0.32099267199999998,0.46517481999999999,7.8299999999999995E-2,2854.79,163.21,130.58000000000001,"…",319.10126794818001,207.71,1.5869,"…",0.78900000000000003,36,156.5,124,166,86.5,1095.2,26.15,1321.1,415.6,11722.2,4859,859.7,319.54000000000002,304.13,6.6355000000000004]
["1985M01",26.63333333333,26.95,27.3,25.65,33.75,35.06,2.64,3.65,5.23,52.953797958439999,2.2198000000000002,3.2052999999999998,2.7675000000000001,2.1032000000000002,2.313555,2.3612869999999999,1.6348450000000001,856,682,307,890,583,"…",243,630,166,"…","…",66.58,119.01,114.7,206.83,"…","…","…",147.57,149.18,"…",0.37626999999999999,0.23716000000000001,2.2692000000000001,0.83797606199999997,1.726,11.07,0.30511940799999998,0.45679726399999998,7.9600000000000004E-2,2796.84,159.82,120.44,307,305.47194802338998,202.61,1.5679000000000001,"…",0.76390000000000002,36,158.5,117.5,168.5,86.5,1075.4000000000001,26.56,1359.1,420.5,11073.4,4947.2,867.1,302.79000000000002,274.39,6.0991999999999997]
["1985M02",27.6,28.2,27.25,27.35,33.75,35.06,2.71,3.65,5.23,53.803834066599997,2.2740999999999998,3.1764000000000001,2.7010999999999998,1.9359999999999999,2.1254909999999998,2.086103,1.596549,756,665,292,873,595,"…",239,664,151,"…","…",68.239999999999995,119.78,112.55,200.94,"…","…","…",140.5,147.34,"…",0.44235999999999998,0.28010000000000002,2.3149000000000002,0.84679454200000004,1.6909000000000001,11.16,0.29563954199999998,0.45150617599999998,8.1600000000000006E-2,2730.48,153.91,116.49,307,300.02054774157,196.9,1.5141,"…",0.73570000000000002,36,156,113.5,168.5,87,1098.2,26.56,1388.5,368.2,10946,5050.8,886.6,299.10000000000002,269.39999999999998,6.0628000000000002]
["1985M03",27.85,28.1,27.15,28.3,33.75,35.06,2.62,3.65,5.23,52.710930498970001,2.2320000000000002,3.2602000000000002,2.7079,1.7219,1.728791,1.8543099999999999,1.5826610000000001,843,680,280,944,651,"…",241,667,154,"…","…",64.930000000000007,120.19,117.34,199.96,"…","…","…",140.88,145.13999999999999,"…",0.45369999999999999,0.3644,2.25,0.84370807400000003,1.7071000000000001,10.69,0.30291478799999999,0.46120650400000002,8.4400000000000003E-2,2689.7,153.29,116.83,307,300.49309342906002,197.19,1.482,"…",0.74160000000000004,36,179.5,114,105,75.5,1095.3,26.56,1389.9,352,11210.6,5211.7,920.9,313.5,260.76,5.9939999999999998]
["1985M04",27.8,27.9,26.65,28.85,33.75,35.06,2.64,3.65,5.23,52.953797958439999,2.2395,3.1189,2.702,1.8212999999999999,1.606155,2.2338809999999998,1.6237440000000001,769,739,271,1020,653,"…",243,693,151,"…","…",68.239999999999995,120.05,118.39,202.9,"…","…","…",139.13999999999999,143.66999999999999,"…",0.48441000000000001,0.43369999999999997,2.1318999999999999,0.84040114399999999,1.8574999999999999,10.210000000000001,0.33576362599999998,0.46230881400000001,7.5399999999999995E-2,2675.23,164.7,121.11,307,306.38841037007001,202.65,1.4581,"…",0.78700000000000003,36,179.5,116,107.5,75.5,1106.3,26.56,1501.8,389.6,11806.4,5489.5,931.3,326.8,282.72000000000003,6.4446000000000003]
["1985M05",26.65,26.65,25.65,27.65,33.75,35.06,2.5299999999999998,3.65,5.23,51.618026931339998,2.129,3.1457999999999999,2.6684999999999999,1.7715000000000001,1.3986419999999999,2.3027259999999998,1.6130530000000001,662,768,276,1026,610,"…",231,652,144,"…","…",68.239999999999995,116.73,115.24,202.9,"…","…","…",122.65,136.32,"…",0.45750999999999997,0.43540000000000001,2.0916999999999999,0.81791402000000002,1.8371,10.210000000000001,0.33752732200000002,0.46495435800000001,6.2199999999999998E-2,2634.51,163.66,120.49,307,305.54042158062998,200.4,1.4345000000000001,"…",0.77470000000000006,36,154,116,127.5,87,1105.2,26.56,1530.6,376,11909.8,5604.1,881.3,316,272.38,6.2687999999999997]
["1985M06",26.36666666667,26.45,25.45,27.2,33.75,35.06,2.58,3.65,5.23,52.225195580019999,2.0922000000000001,3.1280999999999999,2.6497000000000002,1.7112000000000001,1.1560900000000001,2.3607770000000001,1.616601,575,760,256,974,556,"…",227,630,141,"…","…",64.930000000000007,116.04,105.3,202.9,"…","…","…",123.15,134.11000000000001,"…",0.3805,0.43630000000000002,2.0939000000000001,0.83555098000000005,1.8638999999999999,10.210000000000001,0.34634580199999998,0.46892267399999998,6.13E-2,2611.25,165.96,117.96,307,302.05908580879998,196.8,1.3855999999999999,"…",0.81020000000000003,36,151.5,112,112.5,87,1032.2,26.56,1432.4,389.4,12385.8,5553.4,808,316.5,267.8,6.1771000000000003]
["1985M07",26.38333333333,26.6,25.7,26.85,33.75,35.06,2.5099999999999998,3.65,5.23,51.375159471869999,2.2111000000000001,2.9777999999999998,2.3433000000000002,1.8069999999999999,1.2473920000000001,2.5735420000000002,1.599966,520,665,254,880,487,"…",223,568,144,"…","…",59.89,114.91,99.01,191.12,"…","…","…",117.77,128.6,"…",0.32050000000000001,0.44919999999999999,2.0514000000000001,0.82827573399999999,1.9825999999999999,10.119999999999999,0.37324216599999999,0.46804082600000002,7.0800000000000002E-2,2582.5100000000002,174.6,120.79,307,305.95098874175,208.1,1.3445,"…",0.78039999999999998,36,151,114.5,109.5,87,1011.6,26.56,1474.6,403.1,12755.8,5090.5,766.8,317.2,268.91000000000003,5.9996999999999998]
["1985M08",27.016666666670002,27.15,26.3,27.6,33.75,35.06,2.4700000000000002,3.65,5.23,50.889424552919998,2.2721,2.9426999999999999,2.3466,1.7330000000000001,1.2706010000000001,2.3921239999999999,1.536405,456,615,259,896,404,"…",211,518,150,"…","…",48.3,105.53,89.13,191.12,"…","…","…",111.81,123.09,"…",0.4219,0.50870000000000004,2.0661999999999998,0.83246451200000005,1.9619,10.210000000000001,0.374124014,0.453931258,9.6799999999999997E-2,2568.5700000000002,181.84,118.28,307,302.50129745581,212.89,1.256,"…",0.75729999999999997,36,155.5,122.5,97.5,87,1019.3,26.56,1420.2,413.6,12647.2,4907.5,735.1,330.4,307.8,6.1510999999999996]
["1985M09",26.983333333329998,27.15,26.15,27.65,33.75,35.06,2.42,3.65,5.23,50.282255904240003,2.3468,2.9426999999999999,2.2940999999999998,1.6376999999999999,1.243525,2.158344,1.5113510000000001,427,585,265,810,360,"…",207,469,160,"…","…",46.58,101.91,81.62,191.12,"…","…","…",111.19,125.3,"…",0.36149999999999999,0.50863999999999998,2.0790000000000002,0.83797606199999997,1.8083,10.25,0.36883292600000001,0.43012136200000001,0.1129,2532.65,179.01,115.69,307,298.90616637431998,210.17,1.1778,"…",0.73280000000000001,36,154,126,87.5,81.5,985.1,26.56,1366.4,400.4,12325.2,4570.2,689.5,323.35000000000002,311.14999999999998,6.0548999999999999]
["1985M10",27.816666666669999,27.9,26.7,28.85,33.75,34.49,2.37,3.65,5.23,49.675087255549997,2.3635999999999999,3.0979000000000001,2.4544000000000001,1.5639000000000001,1.1525129999999999,1.9728969999999999,1.566252,430,622,287,808,356,"…",205,448,170,"…","…",48.3,98.58,87.57,191.12,"…","…","…",121.03,127.5,"…",0.27829999999999999,0.4516,2.1362999999999999,0.82276418399999995,1.8728,10.36,0.38470619,0.41182301599999999,0.1105,2502.7399999999998,192.13,122.19,307,307.86079756646001,225.87,1.0767,"…",0.74980000000000002,36,151,132.5,80.5,81.5,970.5,26.56,1384.7,393.4,12391.1,4239.5,631.9,325.85000000000002,323.45999999999998,6.1765999999999996]
["1985M11",28.6,29.05,26.9,29.85,33.75,34.49,2.36,3.65,5.23,49.553653525820003,2.2978999999999998,3.4315000000000002,2.7816000000000001,1.5671999999999999,1.0997699999999999,2.0147279999999999,1.587215,393,644,308,911,362,"…",210,455,177,"…","…",48.3,106.2,95.68,191.12,"…","…","…",131.65,132.63999999999999,"…",0.27500000000000002,0.35770000000000002,2.1385000000000001,0.84679454200000004,1.9067000000000001,10.54,0.38933589200000002,0.416452718,0.1208,2465.83,196.34,130.9,307,319.52330544746002,237.83,1.0585,"…",0.73629999999999995,36,149,135,87.5,81.5,950.4,26.56,1369.5,394.2,9903.2000000000007,4034.5,597.5,321.5,334.4,6.1017999999999999]
["1985M12",26.5,25.85,26.3,27.35,33.75,34.49,2.2799999999999998,3.65,5.23,48.582183687920001,2.3753000000000002,4.3422000000000001,3.3668999999999998,1.6197999999999999,1.137707,2.1282890000000001,1.5934090000000001,395,684,306,827,390,"…",213,470,178,"…","…",53.27,107.87,99.58,191.12,"…","…","…",136.58000000000001,137.05000000000001,"…",0.28489999999999999,0.318,2.2267000000000001,0.86531334999999998,1.9215,10.87,0.391099588,0.43849891800000002,0.1173,2551.4899999999998,201.34,139.63999999999999,307,330.87232625655997,239.13,1.0637000000000001,"…",0.73480000000000001,36,146.5,137,87.5,81.5,1039.2,26.56,1390.9,389.9,9114,4089.6,685.3,321.89999999999998,336.82,5.8521999999999998]
["1986M01",24.683333333330001,25.75,25.4,22.9,33.75,33.83,2.2799999999999998,3.65,4.0999999999999996,47.816615367319997,2.3237000000000001,5.2441000000000004,3.7515999999999998,1.5328999999999999,1.0961639999999999,1.8061100000000001,1.696566,380,702,292,701,342,"…",221,457,186,"…","…",53.27,107.79,98.33,220.58,83.26352,98,"…",135.4,132.28,"…",0.32900000000000001,0.31874999999999998,2.1825999999999999,0.84194437799999999,1.8766,11.22,0.395288366,0.45282894800000001,0.1067,2646.02,206.72,144.99,"…",337.65849318711003,242.42,1.1424000000000001,"…",0.74319999999999997,36,145.5,133,82.5,81.5,1119.24,26.26,1418.3,368.4,7910,4034.5,644,347.48,363.76,6.0164]
["1986M02",15.91666666667,17.55,14.8,15.4,33.75,33.83,2.2599999999999998,3.65,4.0999999999999996,47.573747907849999,2.2290999999999999,5.0307000000000004,3.5720999999999998,1.5207999999999999,1.1362479999999999,1.710037,1.71618,318,693,292,580,283,"…",216,394,185,"…","…",53.27,103.19,95.18,211.99,115.1003,97,"…",136.06,129.71,"…",0.38640000000000002,0.32222000000000001,2.1604999999999999,0.84679454200000004,1.8794999999999999,11.9,0.396390676,0.45679726399999998,0.1235,2680.73,216.42,148.69999999999999,"…",342.29696950002,258.61,1.2018,"…",0.79169999999999996,36,143,134.5,77,80,1114.8499999999999,26.26,1405.5,367.3,7922.9,3988.2,608.70000000000005,338.89,376.04,5.8587999999999996]
["1986M03",12.65,13.85,11.45,12.65,30.75,31.64,2.16,3.65,4.0999999999999996,46.359410610479998,2.1065,5.2823000000000002,3.7229000000000001,1.4829000000000001,1.1412949999999999,1.595866,1.7115560000000001,293,700,321,541,243,"…",217,369,194,"…","…",54.35,100.88,94.47,197.26,101.41840000000001,100,"…",139.47999999999999,134.47999999999999,"…",0.49990000000000001,0.33809,2.1913999999999998,0.85010147199999997,2.1113,12.41,0.40675239000000002,0.45701772600000001,0.15329999999999999,2695.37,192.13,142.12,"…",334.03266503573002,257.64,1.1540999999999999,"…",0.7762,36,148,139,77,80,1168.01,26.26,1445.1,367.2,7313.6,4122.6000000000004,625.70000000000005,345.7,413.64,5.6226000000000003]
["1986M04",11.9,12.5,10.3,12.9,30.75,31.64,2.1,3.65,4.0999999999999996,45.630808232059998,1.9897,4.9832999999999998,3.4702999999999999,1.5139,1.0503009999999999,1.7939210000000001,1.6975640000000001,266,726,333,578,242,"…",213,349,187,"…","…",49.64,101.33,98.71,186.21,91.135059999999996,97,"…",139.66999999999999,132.63999999999999,"…",0.5776,0.36429,2.0640000000000001,0.83312589800000003,2.3226,12.85,0.41579133200000001,0.45282894800000001,0.1837,2655.77,215.39,136.47,"…",326.79485811351998,256.95,1.0691999999999999,"…",0.74519999999999997,36,149,140,72.5,75,1164.44,26.26,1434.6,369.5,5686.1,3999.2,659.9,340.44,418.39,5.1879999999999997]
["1986M05",13.716666666669999,14.2,11.5,15.45,30.75,29.46,1.96,3.65,4.0999999999999996,43.93073601575,1.9058999999999999,4.6592000000000002,3.1415999999999999,1.6707000000000001,0.97811680000000001,2.3333870000000001,1.7007330000000001,233,898,317,578,238,"…",215,345,184,"…","…",49.95,105.55,105.95,181.3,94.819159999999997,98,"…",119.2,119.42,"…",0.38750000000000001,0.37354999999999999,2.0653000000000001,0.85076285799999996,2.5590000000000002,13.89,0.42306657800000003,0.46054511799999998,0.1691,2638.78,217.86,145.21,"…",337.93506288164002,269.74,1.0013000000000001,"…",0.76739999999999997,36,148,127,72.5,75,1164.3,26.26,1418.74,376.5,5474.2,4043.3,707.3,342.4,413.62,5.0728]
["1986M06",11.85,11.85,10.199999999999999,13.5,30.75,29.46,1.85,3.65,4.0999999999999996,42.594964988640001,1.9058999999999999,3.9039000000000001,2.7602000000000002,1.6254,0.89510040000000002,2.2962259999999999,1.684884,254,898,317,560,243,"…",213,351,180,"…","…",43.26,103.54,85.76,181.3,86.363849999999999,101,"…",99.61,105.82,"…",0.34499999999999997,0.39937,2.0171999999999999,0.88052522799999999,2.5733000000000001,14.2,0.41865733799999999,0.46208835199999998,0.1401,2604.64,217.42,136.69,"…",327.07923450136002,267.94,0.90469999999999995,"…",0.7833,36,140.5,118.5,72.5,75,1183.04,26.26,1413.14,418.4,5378.3,4087.4,804.2,342.7,432.49,5.1321000000000003]
["1986M07",9.6166666666699996,9.4499999999999993,7.85,11.55,30.75,29.46,1.8,3.65,4.0999999999999996,41.987796339959999,2.0223,3.7988,2.7761,1.7057,0.91408199999999995,2.4854150000000002,1.7175309999999999,229,898,319,548,221,"…",209,336,184,"…","…",39.950000000000003,83.03,73.41,181.25,88.320920000000001,107,"…",100.09,101.78,"…",0.33069999999999999,0.42608000000000001,1.9277,0.97752850800000002,2.3734000000000002,13.71,0.42505073599999998,0.46230881400000001,0.12239999999999999,2599.2600000000002,223.77,135.96,"…",326.13480973658,280.58,0.82540000000000002,"…",0.80710000000000004,36,135.5,110.5,67.5,72.5,1123.06,26.26,1344.3,379.8,5386.6,3911,807.1,348.34,438.8,5.0259]
["1986M08",13.7,13.65,12.15,15.3,30.75,29.46,1.77,3.65,4.0999999999999996,41.623495150750003,2.0722999999999998,3.8344999999999998,2.9750999999999999,1.7150000000000001,1.055938,2.3630439999999999,1.726126,211,1326,326,561,197,"…",202,271,187,"…","…",36.64,72.31,62.53,185.75,99.404319999999998,122,"…",100.26,102.15,"…",0.32079999999999997,0.49719000000000002,1.9983,1.060863144,2.1160000000000001,13.45,0.41865733799999999,0.46208835199999998,0.12280000000000001,2568.8200000000002,230.44,132.55000000000001,"…",321.69194496197002,280.02999999999997,0.81930000000000003,"…",0.84350000000000003,36,135.5,108,71,72.5,1129.23,26.26,1303.0999999999999,392.2,5404.3,3807.4,816,376.66,540.33000000000004,5.1822999999999997]
["1986M09",14.08333333333,14.2,13.1,14.95,30.75,29.46,1.78,3.65,4.0999999999999996,41.744928880480003,2.2063999999999999,4.4010999999999996,3.6061999999999999,1.7013,1.028959,2.3559549999999998,1.718885,240,1326,339,534,207,"…",195,276,189,"…","…",39.950000000000003,65.7,64.459999999999994,173.5,106.1545,113,"…",102.29,103.62,"…",0.42380000000000001,0.49719000000000002,2.0922000000000001,1.0064090299999999,2.0651000000000002,12.99,0.41468902200000002,0.46010419400000002,0.1032,2607.02,232.04,126.18,"…",313.24923107656002,274.69,0.95899999999999996,"…",0.85960000000000003,36,129.5,111,65,66.5,1205.82,26.26,1347,407.2,5397.2,3723.6,871.1,417.73,604.48,5.6299000000000001]
["1986M10",13.95,13.8,13.15,14.9,30.75,29.46,1.73,3.65,4.0999999999999996,41.137760231800002,2.073,3.9152,3.2808000000000002,1.7616000000000001,1.0914280000000001,2.4778280000000001,1.715457,341,1625,353,572,272,"…",197,319,185,"…","…",48.3,65.31,69,174.8,96.470550000000003,113,"…",114.79,104.72,"…",0.37480000000000002,0.44305,2.1076000000000001,1.0015588660000001,1.9849000000000001,12.28,0.40212268800000001,0.46473389599999998,0.1188,2654.09,236.67,123.94,"…",310.23396019922001,278.13,1.1294,"…",0.88139999999999996,36,134.5,116,62.5,66.5,1161.94,26.26,1316.8,434.6,5542.8,3644.2,886.2,423.51,581.25,5.6398000000000001]
["1986M11",14.45,14.55,13.55,15.25,30.75,29.46,1.77,3.65,4.0999999999999996,41.623495150750003,2.0245000000000002,3.4544999999999999,3.1337000000000002,1.843,1.405932,2.4289640000000001,1.694221,388,1225,328,551,303,"…",204,322,182,"…","…",55.56,72.430000000000007,72.42,174,146,105,"…",118.13,105.09,"…",0.29380000000000001,0.38092999999999999,2.1164000000000001,0.98634698799999998,1.9726999999999999,12.81,0.40102037800000001,0.46693851600000003,0.13100000000000001,2753.28,233.97,134.11000000000001,"…",323.73090319076999,285.14,1.1642999999999999,"…",0.8417,36,127,108,64.5,65.5,1131.81,26.26,1303.2,473.4,6092.3,3642,820,397.56,517.07000000000005,5.5513000000000003]
["1986M12",15.683333333329999,15.9,14.9,16.25,29.25,27.28,1.76,3.65,4.0999999999999996,41.502061421009998,1.9761,3.0034000000000001,2.7465000000000002,1.8415999999999999,1.5087660000000001,2.3088600000000001,1.707252,405,906,310,529,293,"…",199,320,174,"…","…",46.58,69.64,68.739999999999995,167,141,100,"…",115.69,107.29,"…",0.31140000000000001,0.36405999999999999,2.1825999999999999,0.97025326199999995,2.0049999999999999,12.92,0.40454776999999997,0.46539528200000002,0.12590000000000001,2806.36,236.9,156,"…",351.27109479308001,332.74,1.3044,"…",0.83819999999999995,36,122,108.5,64.5,65.5,1133.48,26.26,1335.6,518.4,6428.1,3571.5,798.2,390.92,480.61,5.3503999999999996]
["1987M01",18.066666666669999,18.399999999999999,17.2,18.600000000000001,29.25,27.28,1.74,2.59,3.35,35.711862661710001,1.9651000000000001,2.7233999999999998,2.4996,1.6722999999999999,1.5015400000000001,2.1710120000000002,1.344455,425,836,317,520,350,"…",200,315,182,"…","…",46.45,67.91,68.2,172,148,107,"…",117.44,109.13,"…",0.42159999999999997,0.36501,2.1825999999999999,0.95834831399999998,2.1061999999999999,12.9,0.42425134259000002,0.47399330000000001,0.1431,2777.67,250.23,169.99,"…",367.94571792388001,373.83,1.4479,"…",0.88249999999999995,36,140,113.5,64,63,1171.4000000000001,25.3,1346,464.1,6712.7,3525.2,759.7,408.26,515.97,5.5069999999999997]
["1987M02",17.25,17.3,16.7,17.75,29.25,27.28,1.73,2.59,3.35,35.590428931970003,1.9585999999999999,2.6644999999999999,2.4268999999999998,1.5857000000000001,1.348832,2.0821860000000001,1.325942,403,775,322,500,330,"…",198,307,183,"…","…",46.32,66.14,67.680000000000007,186,164,120,"…",115.67,112.07,"…",0.46189999999999998,0.36133999999999999,2.2772999999999999,0.95195491600000004,2.0922000000000001,12.35,0.42992087364999998,0.47972527500000001,0.16259999999999999,2769.11,254.75,167.42,"…",364.93128256233001,376.27,1.4517,"…",0.90059999999999996,36,161,126.5,68,61.5,1283.44,25.3,1379.83,460.4,6688.4,3717,740.4,401.12,517.86,5.4842000000000004]
["1987M03",17.75,17.899999999999999,16.899999999999999,18.45,29.25,27.28,1.73,2.59,3.35,35.590428931970003,2.0097,2.2877000000000001,2.157,1.6232,1.425492,2.1117720000000002,1.332319,344,711,332,484,313,"…",199,305,175,"…","…",46.45,71.599999999999994,73.8,198.25,178,131,"…",116.53,115.38,"…",0.44919999999999999,0.34965000000000002,2.3271999999999999,0.92373578000000001,2.2199,11.9,0.44845314095,0.47972527500000001,0.16650000000000001,2775.51,253.91,171.29,"…",369.46254391270998,339.84,1.3908,"…",0.8962,36,165,131,70.5,61.5,1367.26,25.3,1465.72,487,6631.5,3772.1,731.6,408.91,532.63,5.6643999999999997]
["1987M04",17.899999999999999,18.100000000000001,16.95,18.649999999999999,24.75,26.18,1.69,2.59,3.35,35.104694013020001,2.0697000000000001,2.3712,2.2290000000000001,1.7302,1.373472,2.4767779999999999,1.3403659999999999,389,690,341,507,339,"…",207,333,185,"…","…",58.94,74.88,72.069999999999993,199.4,176,133,"…",113.1,113.17,"…",0.35049999999999998,0.39767999999999998,2.3963999999999999,0.90698066799999999,2.1709999999999998,11.75,0.45920640745000002,0.48192994546000001,0.1472,2797.14,256.98,174.26,"…",372.90816658795001,323.47000000000003,1.4597,"…",0.92589999999999995,34.5,157.5,132.5,77.5,61.5,1400.97,25.3,1484.24,555.6,6699.8,3897.8,761.9,438.35,585.65,7.3494999999999999]
["1987M05",18.399999999999999,18.75,17.05,19.399999999999999,24.75,26.18,1.65,2.59,3.35,34.61895909407,2.0684,2.5859999999999999,2.3281000000000001,1.6697,1.145697,2.5258020000000001,1.3376619999999999,405,690,355,525,341,"…",221,351,201,"…","…",63.91,81.84,77.69,197.5,175,136,"…",115.83,119.05,"…",0.45469999999999999,0.50046000000000002,2.403,0.90543743399999999,2.2240000000000002,12.08,0.46963008769999998,0.48523682499999998,0.1484,2737,259.64999999999998,159.56,"…",355.57736402126,329.09,1.6887000000000001,"…",0.94669999999999999,34.5,151.5,132.5,87.5,61.5,1411.6,25.3,1520.44,693.3,6747.4,4435.7,838.7,460.23,606.73,8.4602000000000004]
["1987M06",18.716666666670001,18.850000000000001,17.25,20.05,24.75,26.18,1.65,2.59,3.35,34.61895909407,1.9952000000000001,2.3176000000000001,2.1615000000000002,1.6526000000000001,1.1920280000000001,2.447041,1.3187850000000001,451,670,393,513,342,"…",228,351,214,"…","…",56.58,80.7,76.42,192.75,174,142,"…",102.15,108.76,"…",0.38250000000000001,0.57093000000000005,2.3170999999999999,0.89485525799999999,2.1591,11.75,0.45916133006999998,0.48633920227999999,0.14199999999999999,2766.86,255.14,160.43,"…",356.62299767844002,352.3,1.7483,"…",0.98060000000000003,34.5,149,139.5,87.5,61.5,1472.33,25.3,1571.87,629.29999999999995,6610.4,4435.7,878.4,449.59,569,7.4164000000000003]
["1987M07",19.61666666667,19.8,17.75,21.3,27,26.18,1.66,2.59,3.35,34.740392823809998,2.1177999999999999,2.2023000000000001,2.0388000000000002,1.7172000000000001,1.3170170000000001,2.5331999999999999,1.301399,443,642,403,499,300,"…",222,318,204,"…","…",54.92,76.37,72.2,190.8,170,148,"…",100.6,104.72,"…",0.43540000000000001,0.51480999999999999,2.3315999999999999,0.88118661399999998,2.0981000000000001,10.98,0.47451639938000001,0.48655962727000002,0.13450000000000001,2744.43,252.79,166.81,"…",364.21267499110002,384.46,1.8351,"…",1.0206999999999999,34.5,159.5,146.5,87.5,70,1653.09,25.3,1694.62,663.6,6404.9,4753.2,829.8,450.52,572.35,7.6086999999999998]
["1987M08",18.816666666669999,18.95,17.3,20.2,27,26.18,1.63,2.59,3.35,34.376091634600002,2.0213999999999999,2.2530999999999999,2.0844999999999998,1.6950000000000001,1.444868,2.3419850000000002,1.298138,479,630,413,467,308,"…",215,322,194,"…","…",50.59,71.650000000000006,67.19,204,186,168,"…",101.74,106.92,"…",0.33839999999999998,0.52098,2.3052000000000001,0.91337406600000004,2.0625,10.76,0.47019254568000002,0.48237087955000002,0.12379999999999999,2765.26,251.53,199.64,"…",401.31816168076,454.05,1.9092,"…",1.0293000000000001,34.5,167,152.5,85,70,1810.37,25.3,1756.31,659.3,6556.1,5306.5,804.1,461.15,609.91999999999996,7.8423999999999996]
["1987M09",18.283333333329999,18.350000000000001,17,19.5,27,26.18,1.56,2.59,3.35,33.526055526439997,1.9870000000000001,2.4365000000000001,2.1898,1.6412,1.3586480000000001,2.2694109999999998,1.2955319999999999,480,645,400,469,335,"…",214,330,207,"…","…",57.6,73.569999999999993,68.7,258,231,195,"…",110.1,112.07,"…",0.35439999999999999,0.50992999999999999,2.5066999999999999,0.91888561599999996,2.1034999999999999,10.69,0.48468790703999998,0.48237087955000002,0.1283,2743.91,257.75,254.45,"…",457.48879010796003,479.02,1.8432999999999999,"…",1.056,33.25,167.5,149.5,85,70,1746.28,25.3,1811.01,646.79999999999995,6406.3,5333,756.7,460.38,590,7.6063999999999998]
["1987M10",18.566666666669999,18.8,17.05,19.850000000000001,27,26.18,1.57,2.59,3.35,33.647489256180002,1.9107000000000001,2.6318999999999999,2.2822,1.6428,1.386792,2.2712310000000002,1.2702549999999999,482,845,406,502,353,"…",217,348,214,"…","…",60.6,78.849999999999994,74.099999999999994,266.75,232,210,"…",113.46,113.91,"…",0.27010000000000001,0.47294000000000003,2.5133000000000001,0.90609881999999997,2.0868000000000002,10.56,0.48956589287000002,0.47818204772,0.14660000000000001,2726.68,259.14,259.75,"…",462.61012257213002,472.87,1.6797,"…",1.0474000000000001,32,163,145.5,92.5,73,1962.66,25.3,1967.2,601.4,6763.8,5692.3,769.9,465.35,568.04999999999995,7.6074000000000002]
["1987M11",17.75,17.8,16.600000000000001,18.850000000000001,29,26.34,1.64,2.59,3.35,34.497525364339999,1.9297,2.7884000000000002,2.3111000000000002,1.6161000000000001,1.3402400000000001,2.2389899999999998,1.269088,477,925,445,481,368,"…",228,338,239,"…","…",59.42,81.69,78.12,254.25,231,189,"…",113.72,115.01,"…",0.41010000000000002,0.46450999999999998,2.5583,0.87567506399999995,2.2307000000000001,10.58,0.52322540371000004,0.47950484999999998,0.16159999999999999,2711.86,273.37,275.67,"…",477.71124514357001,470.24,1.6717,"…",1.0429999999999999,32,165,144,92.5,73,1681,25.3,2523.9,642.20000000000005,6927.3,5937,848,467.57,500.3,6.7619999999999996]
["1987M12",16.63333333333,17.100000000000001,15.5,17.3,31,26.5,1.7,2.59,3.35,35.226127742759999,1.8973,2.7972000000000001,2.2715999999999998,1.5687,1.3528610000000001,2.0649989999999998,1.2881590000000001,529,1043,474,530,432,"…",240,393,241,"…","…",58.24,83.16,76.989999999999995,255.6,227,168,"…",124.88,124.56,"…",0.38800000000000001,0.44357000000000002,2.5125999999999999,0.86354965400000006,2.3955000000000002,10.98,0.53871406519999998,0.47972527500000001,0.18290000000000001,2631.12,281.75,262,"…",464.76972287934001,437.44,1.6551,"…",1.0869,32,174,142.5,92.5,81,1823.93,25.3,2868.9,659.1,6829.4,7661.1,866.3,486.24,500.22,6.8125]
["1988M01",16.466666666670001,16.850000000000001,15.4,17.149999999999999,31,26.5,1.96,2.36,3.34,37.283216125400003,1.9734,2.8222999999999998,2.2511000000000001,1.5863,1.4873730000000001,1.8458950000000001,1.425529,566,1006,473,540,486,"…",254,433,225,"…","…",56.9,85.92,80.47,291.5,265,207,"…",126.17,128.6,"…",0.4481,0.39269999999999999,2.4912000000000001,0.86531334999999998,2.4710000000000001,11.42,0.53147225046000002,0.48126858636999997,0.21310000000000001,2608.79,279.81,238.71,"…",441.98269129788002,414.51,1.5914999999999999,"…",1.1012,32,189,154.5,92.5,82,2002.46,24.3,2663.2,666.8,6808.1,8073.3,878.5,476.58,494.07,6.7446000000000002]
["1988M02",15.85,15.75,15.05,16.75,31,26,1.84,2.36,3.34,35.826011368560003,1.7991999999999999,3.0543999999999998,2.2702,1.5969,1.574425,1.816721,1.3995029999999999,530,1044,473,503,403,"…",254,406,216,"…","…",56.9,87.99,84.08,306.25,278,214,"…",125.25,131.54,"…",0.48559999999999998,0.38527,2.6139999999999999,0.87810014599999997,2.4504000000000001,11.86,0.51768425066000001,0.48722098636,0.18579999999999999,2536.19,271.92,196.79,"…",398.21422062198002,353.82,1.4878,"…",1.0889,32,194.5,153.5,97.5,83,2138.02,24.3,2330.1999999999998,655.7,6690.1,8666.9,876.4,442.07,458.51,6.3414000000000001]
["1988M03",14.783333333330001,14.75,13.4,16.2,33,26.5,1.7,2.36,3.34,34.125939152240001,1.6852,3.0104000000000002,2.1817000000000002,1.5548999999999999,1.504356,1.749231,1.4111309999999999,516,1058,487,501,381,"…",257,396,227,"…","…",62.25,90.23,84.75,294,270,213,"…",118.2,124.93,"…",0.52580000000000005,0.41403000000000001,2.5903999999999998,0.88449354400000002,2.5367000000000002,12.83,0.53953050391000001,0.48854378863999998,0.18779999999999999,2453.13,273.95999999999998,199.48,"…",401.14444757955999,373.19,1.4624999999999999,"…",1.1166,32,189,154,105,83,2526.41,24.3,2359.3000000000002,648.70000000000005,6772.9,15496.8,981.9,443.61,496.38,6.4104999999999999]
["1988M04",16.466666666670001,16.600000000000001,14.95,17.850000000000001,33,27,1.59,2.36,3.34,32.790168125139999,1.6491,3.0074999999999998,2.1204000000000001,1.5568,1.479805,1.7798989999999999,1.410569,509,1070,520,515,403,"…",270,409,237,"…","…",67.92,89.52,81.739999999999995,288,267,220,"…",122.91,126.77,"…",0.48230000000000001,0.46826000000000001,2.4912000000000001,0.89485525799999999,2.5838000000000001,13.56,0.55288526473999999,0.48854378863999998,0.1883,2359.59,274.64,212.62,"…",415.20383158843998,376.21,1.4495,"…",1.1884999999999999,32,194.5,154,97.5,83,2508.35,24.3,2286.3000000000002,649.4,6752.6,18011.8,1069.2,451.55,526.98,6.4802999999999997]
["1988M05",16.216666666670001,16.399999999999999,14.85,17.399999999999999,33,27.5,1.52,2.36,3.34,31.940132016980002,1.7073,3.0567000000000002,2.0737000000000001,1.6766000000000001,1.343664,2.2848130000000002,1.4014720000000001,533,1094,541,541,422,"…",285,437,255,"…","…",65.25,89.32,81.41,257,241,211,"…",124.42,128.97,"…",0.55830000000000002,0.44890000000000002,2.4251,0.94137274000000004,2.5488,13.34,0.55142626318999999,0.48788242955,0.19620000000000001,2379.98,272.07,210.65,"…",413.12199841976002,372.69,1.4457,"…",1.3007,32,175.5,154,110,84.5,2988.16,24.3,2447.9899999999998,668.3,6777.6,17025,1176.7,451.07,548.84,6.5404]
["1988M06",15.33333333333,15.55,13.8,16.649999999999999,36,27.5,1.53,2.36,3.34,32.061565746719999,1.6241000000000001,3.1718000000000002,2.0608,1.6653,1.335542,2.2892000000000001,1.37104,614,1150,606,637,496,"…",353,544,317,"…","…",79.900000000000006,120.27,114.6,271.5,253,226,"…",139.63,149.91,"…",0.59519999999999995,0.43955,2.4228999999999998,1.0094954979999999,2.4245000000000001,13.37,0.52520018797000001,0.49692136817999999,0.23300000000000001,2340.16,263.43,198.44,"…",400.01373999039998,350.01,1.5163,"…",1.4621,32,166.5,157.5,110,84.5,3577.86,24.3,2540.27,677.5,7035.8,15589.8,1365.3,451.33,579.63,7.0155000000000003]
["1988M07",14.48333333333,14.9,13.05,15.5,36,27.5,1.56,2.36,3.34,32.425866935930003,1.6095999999999999,3.1299000000000001,1.881,1.6453,1.2353289999999999,2.372436,1.328036,666,799,609,769,517,"…",351,600,293,"…","…",78.239999999999995,125.49,116.9,271.75,260,232,"…",138.94,149.55000000000001,"…",0.41670000000000001,0.39562999999999998,2.4426999999999999,1.1018690760000001,2.3047,12.51,0.50262588467000002,0.51654247272999998,0.30919999999999997,2374,264.87,188.28,"…",388.82071411353002,312.81,1.3983000000000001,"…",1.3231999999999999,32,177,157.5,110,84.5,2582.0500000000002,24.3,2213.5100000000002,619.29999999999995,7148.8,14591.3,1237.4000000000001,437.63,548.64,7.0411999999999999]
["1988M08",14.55,14.95,13.15,15.55,36,28.5,1.62,2.36,3.34,33.154469314350003,1.4478,2.9228000000000001,1.8001,1.5627,1.2298640000000001,2.147821,1.310352,576,802,577,696,450,"…",342,534,283,"…","…",66.58,119.92,109.79,271.60000000000002,"…",217,"…",145.87,149.91,"…",0.35830000000000001,0.40333999999999998,2.5110999999999999,1.1234743519999999,2.2656999999999998,11.82,0.50036520389000005,0.48281181363999998,0.2457,2409.75,262.08,175.28,"…",374.08527024513,310.56,1.2728999999999999,"…",1.2907999999999999,31.2,176.5,161.5,130,93,2701.14,24.3,2200.6799999999998,601.6,7322.7,14187,1309.2,431.28,532.88,6.7130999999999998]
["1988M09",13.1,13.3,11.55,14.45,37,29.25,1.53,2.36,3.34,32.061565746719999,1.2392000000000001,3.0390999999999999,1.9789000000000001,1.5006999999999999,1.206661,1.9888209999999999,1.3066230000000001,567,803,582,649,428,"…",337,478,297,"…","…",88.38,121.37,109.79,273.25,251,221,"…",153.26,159.47,"…",0.53459999999999996,0.53297000000000005,2.5110999999999999,1.13868623,2.2565,11.64,0.49619466371999998,0.47994578408999999,0.224,2437.6799999999998,263.77,178.1,"…",377.32332052806998,319.85000000000002,1.2511000000000001,"…",1.1874,31,173.5,162,130,90,2387.12,24.3,2435.5300000000002,609.79999999999995,7408.5,11878.4,1330.3,413.46,512.57000000000005,6.3780999999999999]
["1988M10",12.183333333329999,12.45,10.3,13.8,37,30,1.68,2.36,3.34,33.883071692770002,1.3043,2.9502000000000002,2.0743999999999998,1.5374000000000001,1.290978,2.006786,1.3143899999999999,564,803,575,606,431,"…",313,449,290,"…","…",76.59,121.35,108.69,273,257,226,"…",162.87,162.04,"…",0.42049999999999998,0.58545000000000003,2.5684,1.0906255140000001,2.3096000000000001,11.88,0.51156541759999996,0.47928442500000001,0.2266,2510.2600000000002,269.39999999999998,199.25,"…",400.89462123047002,336.38,1.2706999999999999,"…",1.0604,31,174.5,164,130,91.5,2309.4899999999998,24.3,2939.51,655.20000000000005,7252.7,11557.5,1519.9,406.78,525.73,6.2812000000000001]
["1988M11",12.533333333330001,13,10.6,14,37.5,30,1.76,2.36,3.34,34.854541530660001,1.4729000000000001,2.9847999999999999,2.0428000000000002,1.5334000000000001,1.3386709999999999,1.9377880000000001,1.3235939999999999,570,800,556,564,418,"…",313,431,283,"…","…",74.87,114.43,101.04,271.8,255,227,"…",162.29,163.88,"…",0.41060000000000002,0.53347,2.5684,1.05601298,2.3862999999999999,12.35,0.53286636917999997,0.47840255681999999,0.23899999999999999,2563,280.56,208.69,"…",411.04182602573002,393.7,1.2922,"…",1.0282,31,173,164,130,91.5,2381.7600000000002,24.3,3304.66,691.4,7312.4,13342,1559,420.17,575.78,6.2946999999999997]
["1988M12",14.65,15.15,12.5,16.3,38,31,1.89,2.36,3.34,36.433180017239998,1.5031000000000001,3.2545999999999999,2.2151000000000001,1.5199,1.315231,1.932868,1.31165,567,800,534,563,411,"…",313,444,287,"…","…",70.22,116.88,108.25,260,242,223,"…",168.86,166.82,"…",0.50160000000000005,0.44130999999999998,2.5684,1.05050143,2.3914,12.7,0.53867870132999995,0.48479597499999999,0.24729999999999999,2642.22,279.33,204.04,"…",406.07046348717,392.3,1.3543000000000001,"…",1.0713999999999999,31,178.5,164,120,91.5,2502.65,24.3,3498.91,731,7337.4,16920,1594.3,419.05,564.11,6.1245000000000003]
["1989M01",16.483333333329998,17,14.45,18,38,31,1.78,2.09,3.28,33.773186799580003,1.4348000000000001,3.3563000000000001,2.2342,1.615,1.264194,1.920201,1.660717,537,826,481,592,383,"…",318,423,288,"…","…",73.209999999999994,118.2,110.07,264.8,248,231,"…",172.56,173.8,"…",0.42709999999999998,0.42338999999999999,2.4361000000000002,1.072106706,2.2957999999999998,12.64,0.53856663863999998,0.48237087955000002,0.2127,2724.49,270.39,199.36,"…",401.01411993867998,363.51,1.3916999999999999,"…",1.1169,31,181,164,120,91.5,2397.5500000000002,27.83,3394.06,675.7,7409.6,17725,1734,404.01,526.92999999999995,5.9950000000000001]
["1989M02",16.350000000000001,16.649999999999999,14.6,17.8,38,31,1.71,2.09,3.28,32.923150691419998,1.4817,3.0853999999999999,2.1191,1.6500999999999999,1.3450960000000001,1.9558089999999999,1.6495280000000001,538,826,464,630,401,"…",307,412,270,"…","…",75.569999999999993,117.42,110.12,269.25,256,235,"…",164.24,171.96,"…",0.49270000000000003,0.37261,2.4889999999999999,1.0681383900000001,2.2961999999999998,12.68,0.53185894033000003,0.48655962727000002,0.2324,2870.53,277.45999999999998,195.97,"…",404.54926424101001,352.2,1.3880999999999999,"…",1.1246,31,178.5,164,120,101.5,2183.0500000000002,27.83,3096.92,621.6,7873.7,18523.8,1932.4,387.51,531.94000000000005,5.8846999999999996]
["1989M03",18.033333333329999,18.7,15.95,19.45,38,31,1.49,2.09,3.28,30.251608637219999,1.4088000000000001,3.0966,2.081,1.6819,1.4457180000000001,1.9794560000000001,1.6206309999999999,545,820,437,746,399,"…",313,437,277,"…","…",82.9,118.38,110.05,278.5,259,233,"…",168.58,178.21,"…",0.7,0.41698000000000002,2.4396,1.0873185839999999,2.2574999999999998,12.76,0.52009012935999999,0.48766192045000001,0.25440000000000002,3033.02,276.69,187.5,"…",402.44044918615998,345.2,1.4555,"…",1.0891,31,176.5,158,120,100.5,2073.71,27.83,3264.14,589.20000000000005,8760.5,17157.099999999999,1961.6,390.15,538.03,5.9592000000000001]
["1989M04",19.2,19.75,16.899999999999999,20.95,38,31,1.53,2.09,3.28,30.737343556159999,1.2907999999999999,3.1720000000000002,2.0110000000000001,1.7757000000000001,1.4747060000000001,2.2476479999999999,1.604711,549,823,400,753,391,"…",297,440,264,"…","…",84.23,115.74,108.19,293,274,239,"…",161.35,174.53,"…",0.72089999999999999,0.44822000000000001,2.4458000000000002,1.1067192400000001,2.3915999999999999,12.71,0.51559908570000001,0.49163024317999998,0.2681,3161.72,276.69,184.82,"…",393.64704925515002,342.6,1.6258999999999999,"…",1.0996999999999999,31,167.5,156.5,113.5,98.5,2125.75,27.83,3117.91,608.1,10195.9,15261.3,1656.4,384.4,537.66999999999996,5.7926000000000002]
["1989M05",18.016666666670002,18.350000000000001,15.65,20.05,38,31,1.66,2.09,3.28,32.315982042740004,1.2072000000000001,3.0992999999999999,2.0133000000000001,1.8622000000000001,1.5293570000000001,2.5200019999999999,1.5372079999999999,589,842,399,792,406,"…",297,460,256,"…","…",83.21,117.64,111.55,310.25,288,246,"…",162.63999999999999,176.37,"…",0.65859999999999996,0.45427000000000001,2.4298999999999999,1.1459614760000001,2.339,11.68,0.49462687936999999,0.49493720681999998,0.2641,3181.6,264.49,180.18,"…",414.83430561653,346.22,1.7050000000000001,"…",1.0199,31,152.5,149,113.5,98.5,2259.31,27.83,2738.98,643.4,10143.700000000001,13454.2,1628.4,371.05,516.75,5.4531000000000001]
["1989M06",17.63333333333,17.5,15.4,20,38,31,1.7,2.09,3.28,32.801716961689998,1.2522,2.7627999999999999,1.8464,1.7176,1.4089069999999999,2.2662369999999998,1.4775069999999999,559,870,371,802,373,"…",291,464,256,"…","…",67.92,112.99,104.63,327.2,"…",244,"…",151.9,168.65,"…",0.52690000000000003,0.4541,2.4361000000000002,1.1602915060000001,2.2332999999999998,11.13,0.47090125283000001,0.50684217499999995,0.2787,3237.67,260.38,198.12,"…",526.39612509275003,342.51,1.7377,"…",0.94579999999999997,31,142.5,140.5,113.5,98.5,1914.16,27.83,2546.0100000000002,666.1,9935.5,12142.6,1539,367.6,497.35,5.2706999999999997]
["1989M07",17.66666666667,17.75,15.5,19.75,38,31,1.64,2.09,3.28,32.073114583269998,1.3459000000000001,1.9419999999999999,1.4382999999999999,1.7748999999999999,1.3438680000000001,2.4911810000000001,1.489687,540,810,380,806,331,"…",272,447,256,"…","…",74.87,108.7,102.96,350.5,297,246,"…",152.38999999999999,166.82,"…",0.4481,0.43030000000000002,2.4927999999999999,1.136261148,2.3494999999999999,10.89,0.50085537828000004,0.51940850228000002,0.309,3257.04,272.43,204.59,"…",532.01049360950003,371.66,1.8301000000000001,"…",0.94510000000000005,31,137.5,140.5,113.5,98.5,1755.93,27.83,2505,691.6,9605.2000000000007,12275,1616.9,375.04,501.91,5.2167000000000003]
["1989M08",16.88333333333,17.100000000000001,15,18.55,38,31,1.58,2.09,3.28,31.344512204849998,1.2855000000000001,1.7307999999999999,1.3140000000000001,1.7765,1.4004080000000001,2.4631219999999998,1.4659329999999999,481,763,359,820,309,"…",236,404,214,"…","…",73.209999999999994,100.92,100.09,332.2,298,221,"…",153.37,164.24,"…",0.51039999999999996,0.49109999999999998,2.5480999999999998,1.1289859019999999,2.3090000000000002,10.41,0.49337438434999997,0.51962892726999999,0.30859999999999999,3229.12,269.14999999999998,197.75,"…",537.16618585567005,370.28,1.8291999999999999,"…",0.90390000000000004,31,144,136.5,82.5,98.5,1798.32,27.83,2762.2,702.3,8715.6,12909.7,1730.4,365.14,484.64,5.1822999999999997]
["1989M09",17.66666666667,17.8,15.6,19.600000000000001,38,31,1.53,2.09,3.28,30.737343556159999,1.1409,1.7289000000000001,1.3233999999999999,2.1547999999999998,1.7927729999999999,3.2396799999999999,1.4319109999999999,503,754,360,798,323,"…",237,410,216,"…","…",71.55,103.37,102.85,319.75,268,205,"…",157.26,163.51,"…",0.51700000000000002,0.50231000000000003,2.6476999999999999,1.1155377200000001,2.2985000000000002,9.81,0.48492700215000001,0.51808569999999998,0.3115,3304.64,265.44,188.68,"…",538.88500883282995,353.32,1.7957000000000001,"…",0.87080000000000002,31,156,136.5,82.5,98.5,1717.93,27.83,2884.4,728.1,8269.7000000000007,11222.1,1628.9,361.75,477.67,5.1337999999999999]
["1989M10",18.41666666667,19,16.149999999999999,20.100000000000001,38,31,1.6,2.09,3.28,31.58737966432,1.0634999999999999,1.5135000000000001,1.1806000000000001,2.0733999999999999,1.8325,2.9663029999999999,1.4215169999999999,480,790,393,813,321,"…",238,419,222,"…","…",71.87,107.28,102.68,304,244,183,"…",160.47999999999999,164.61,"…",0.55120000000000002,0.47399999999999998,2.7448000000000001,1.0818070339999999,2.3540000000000001,9.7799999999999994,0.49027762759999999,0.51014905454000004,0.31840000000000002,3339.52,276.33,187.17,"…",555.10843565532002,352.99,1.81,"…",0.85209999999999997,31,148,130.5,72.5,98.5,1820.02,27.83,2861.4,751.8,7922.4,10424.9,1584.6,366.88,485.82,5.1448999999999998]
["1989M11",18.36666666667,19.149999999999999,16.149999999999999,19.8,38,31,1.9,2.09,3.28,35.230391556420003,1.0107999999999999,1.5624,1.1744000000000001,1.913,1.73075,2.5851790000000001,1.4230449999999999,456,826,419,868,301,"…",246,433,226,"…","…",69.900000000000006,108.48,103.84,268.5,216,166,"…",163.92,163.51,"…",0.51259999999999994,0.43634000000000001,2.8418000000000001,1.0456512659999999,2.339,9.85,0.48564020863000001,0.51235372499999998,0.33119999999999999,3333.87,281.35000000000002,184.26,"…",545.76772590708003,336.19,1.8107,"…",0.83560000000000001,31,142,126,86,98.5,1736.09,27.83,2591.3000000000002,692.8,6837.3,9793.2000000000007,1437.6,394.26,510.19,5.4832999999999998]
["1989M12",19.350000000000001,19.850000000000001,17.100000000000001,21.1,38,31,2.2400000000000002,2.09,3.28,39.359138367470003,0.97030000000000005,1.5976999999999999,1.1316999999999999,1.903,1.78325,2.494983,1.430844,425,860,438,877,267,"…",248,429,226,"…","…",73.209999999999994,109.17,104.22,272,227,174,"…",166.45,164.61,"…",0.496,0.44148999999999999,2.8769999999999998,1.0456512659999999,2.3889,9.52,0.49257779314,0.50353521136000001,0.29559999999999997,3337.65,294.33999999999997,178.66,"…",571.52779735649005,327.16000000000003,1.7111000000000001,"…",0.83530000000000004,31,137.5,126,98,98.5,1633.26,27.83,2418.6,711,6744.1,8809.2000000000007,1455,409.39,506.81,5.5688000000000004]
["1990M01",20.350000000000001,20.95,17.45,22.65,38,31,2.39,2.82,3.64,44.894942030039999,0.99450000000000005,1.6760999999999999,1.0907,2.09,1.891,2.6424989999999999,1.7364919999999999,433,923,430,903,279,"…",242,417,221,"…","…",75.569999999999993,105.6,101.91,276.2,248,170,"…",163,167.92,"…",0.5897,0.45654,2.7847,1.0544697460000001,2.4586000000000001,9.76,0.50989553635999996,0.50816489318000002,0.313,3342.65,303.83,176.16,533,571.44326745487001,317.04000000000002,1.6551,"…",0.83179999999999998,31,138.5,109.5,104.5,98.5,1528.25,32.5,2366.64,707.8,6592,7055.9,1297,410.11,497.66,5.2462]
["1990M02",19.600000000000001,19.899999999999999,16.8,22.1,38,31,1.9,2.82,3.64,38.944689272940003,1.0265,1.8508,1.1035999999999999,2.133,2.0129999999999999,2.7673209999999999,1.618635,393,900,426,933,271,"…",240,428,209,"…","…",73.86,106.07,100.81,300,256,176,"…",155.52000000000001,160.94,"…",0.64490000000000003,0.40971000000000002,2.4573,1.07144532,2.5566,9.98,0.52362252192000003,0.50441707955000004,0.32290000000000002,3384.92,324.97000000000003,174.83,533,584.67450829282996,314.37,1.6801999999999999,"…",0.85270000000000001,31,139.75,112,106.25,98.5,1454.28,32.5,2360.16,779.8,6156.1,6976.9,1396.8,416.81,516.1,5.2892999999999999]
["1990M03",18.216666666670001,18.45,15.8,20.399999999999999,38,31,1.55,2.82,3.64,34.694508732149998,1.1314,2.0884999999999998,1.2292000000000001,2.4239000000000002,3.01675,2.6068920000000002,1.648115,372,880,385,971,286,"…",242,442,197,"…","…",70.040000000000006,109.7,103.44,289.25,259,169,"…",153.26,156.53,"…",0.53849999999999998,0.44369999999999998,2.4839000000000002,1.1098057079999999,2.5066000000000002,10.67,0.50174145145000004,0.51984943637000003,0.33860000000000001,3361.05,321.47000000000003,160.26,533,581.70476033948,314.38,1.7392000000000001,"…",0.82850000000000001,31,146,112,111,97.375,1567.39,32.5,2625.61,1062.3,6270.5,9266.7999999999993,1607.4,393.06,497.06,5.0766]
["1990M04",16.55,16.75,14.3,18.600000000000001,38,31,1.49,2.82,3.64,33.965906353729999,1.3338000000000001,2.0880000000000001,1.2335,2.1149,1.889,2.8657409999999999,1.589882,343,875,381,938,267,"…",247,440,198,"…","…",68.77,118.82,109.9,275.75,274,164,"…",150.69,159.47,"…",0.58420000000000005,0.49504999999999999,2.472,1.0818070339999999,2.6333000000000002,10.8,0.50531366515999998,0.52447911818000004,0.33600000000000002,3354.45,326.31,161.19999999999999,533,565.30108962796999,312.36,1.8263,"…",0.83799999999999997,31,155.19999999999999,127.5,111,93.2,1525.55,32.5,2686.15,836.1,6390.9,8939.5,1685.6,374.24,478.15,5.0655000000000001]
["1990M05",16.58333333333,16.7,14.6,18.45,40.5,32.5,1.47,2.82,3.64,33.72303889426,1.4404999999999999,2.0495999999999999,1.1820999999999999,2.1515,1.79,3.3036949999999998,1.3609020000000001,353,883,374,919,281,"…",259,449,198,"…","…",71.03,121.04,111.03,260,288,151,"…",133.49,149.18,"…",0.49440000000000001,0.58475999999999995,2.48,1.080925186,2.7077,11.02,0.51820087436999995,0.52006986136,0.32250000000000001,3406.65,337.58,172.86,533,507.41951138694998,350.12,1.8866000000000001,"…",0.85429999999999995,31,149.125,127.5,107,93.5,1526.93,32.5,2741.95,825.6,6324.6,8698,1774.6,369.05,488.55,5.0791000000000004]
["1990M06",15.26666666667,15.7,13.25,16.850000000000001,40.5,34,1.47,2.82,3.64,33.72303889426,1.3201000000000001,1.9654,1.1171,1.9382999999999999,1.6005,3.0921919999999998,1.1223069999999999,317,905,354,931,272,"…",249,435,184,"…","…",80.23,120.86,110.95,255,"…",140,"…",130.49,135.58000000000001,"…",0.52910000000000001,0.59985999999999995,2.504,1.108262474,2.7225000000000001,11.35,0.52735835136999998,0.51389695227999999,0.28599999999999998,3420.22,335.4,181.67,533,510.87618447119002,373.94,1.9861,"…",0.85250000000000004,31.5,152.75,130,107,93.5,1565.79,32.5,2584.56,838,6096,8422.1,1714.8,352.33,481.11,4.9181999999999997]
["1990M07",17.16666666667,17.55,15.3,18.649999999999999,40.5,34,1.41,2.82,3.64,32.99443651584,1.3456999999999999,1.9103000000000001,1.1039000000000001,1.9932000000000001,1.5945,3.0684429999999998,1.3165610000000001,297,860,383,925,279,"…",252,437,186,"…","…",77.989999999999995,114.91,109.24,256.39999999999998,297,142,"…",119.55,124.93,"…",0.62560000000000004,0.56727000000000005,2.5589,1.10341231,2.7740999999999998,10.95,0.61888640397000005,0.51632196363000005,0.26429999999999998,3446.4,345.42,187.96,533,501.36939485737003,378.48,2.0125000000000002,"…",0.86,31.5,160.69999999999999,131,107,93.5,1570.96,32.5,2769.49,875.4,5924.4,9318.2000000000007,1637,362.53,478.79,4.8749000000000002]
["1990M08",26.4,27.05,25,27.15,40.5,34,1.36,2.82,3.64,32.387267867159999,1.2857000000000001,2.0817999999999999,1.1856,1.9603999999999999,1.738076,2.8802439999999998,1.2627820000000001,294,1400,407,963,291,"…",250,460,189,"…","…",83.78,110.05,104.76,259.5,298,149,"…",115.12,116.84,"…",0.5464,0.59141999999999995,2.6541000000000001,1.0961370640000001,2.6564000000000001,10.01,0.65019070610999996,0.51279457500000003,0.24099999999999999,3483.54,360.32,186.13,533,503.07985520991002,364.6,1.7919,"…",0.88360000000000005,31.5,160.5,135.6,114.875,93.5,1782.02,32.5,2957.03,876.1,5905.2,10957.4,1615.1,394.73,492.73,5.008]
["1990M09",32.700000000000003,34.1,30.3,33.700000000000003,40.5,34,1.44,2.82,3.64,33.358737705049997,1.3714999999999999,2.1030000000000002,1.228,2.0253000000000001,1.7942100000000001,2.802619,1.4789870000000001,284,2050,417,991,284,"…",250,461,197,"…","…",88.39,101.52,98.27,260.75,268,150,"…",108.46,114.27,"…",0.52359999999999995,0.62622999999999995,2.6968999999999999,1.0930505960000001,2.7021999999999999,10.28,0.64389488548999996,0.51213321591000005,0.24299999999999999,3430.39,361.39,185.33,533,503.32249222548,384.92,1.7918000000000001,"…",0.89549999999999996,31.5,165.875,144.25,90.625,93.5,2066.5300000000002,32.5,3031.37,838.5,5707,10844,1537.5,389.32,461.66,4.8037999999999998]
["1990M10",34.5,36.049999999999997,31.55,35.9,40.5,34,1.69,2.82,3.64,36.394580948470001,1.3069,2.0190000000000001,1.2392000000000001,2.0796999999999999,1.8211839999999999,2.8136939999999999,1.604366,284,2120,435,1012,290,"…",247,468,211,"…","…",88.16,100.34,97.83,281.39999999999998,244,163,"…",104.77,114.64,"…",0.49070000000000003,0.64407000000000003,2.5851000000000002,1.0729885539999999,2.7730000000000001,11.19,0.66624880585000001,0.51345601817999997,0.21640000000000001,3287.27,369.74,189.76,533,520.84593718941005,409.31,1.7937000000000001,"…",0.8962,31.5,165.7,149.5,136.5,93.5,1945.7,32.5,2743.56,760.9,6061.4,9145.4,1352.6,380.74,424.95,4.3891]
["1990M11",31.08333333333,33,27.95,32.299999999999997,40.5,34,2.1,2.82,3.64,41.373363867670001,1.347,1.8677999999999999,1.2231000000000001,1.8418000000000001,1.69526,2.2546580000000001,1.5755170000000001,343,2110,473,1040,331,"…",239,455,204,"…","…",91.47,100.39,98.16,272.25,216,153,"…",106.37,112.8,"…",0.42709999999999998,0.52000999999999997,2.5341999999999998,1.0657133080000001,2.7366999999999999,11.75,0.67271930130000002,0.51036956363999997,0.22170000000000001,3400.25,369.96,179.02,533,529.42408469303996,375.74,1.8199000000000001,"…",0.8982,31.5,163.375,152.5,144.5,93.5,1617.5,32.5,2585.89,701.2,5981.3,8587.4,1277.7,381.73,422.24,4.1729000000000003]
["1990M12",26.13333333333,28,23.25,27.15,40.5,34,2.11,2.82,3.64,41.494797597409999,1.2964,1.9661,1.2446999999999999,1.9380999999999999,1.683902,2.6086960000000001,1.5216670000000001,325,2000,481,1038,346,"…",244,476,208,"…","…",89.81,102.01,100.97,263.75,227,147,"…",108.35,113.17,"…",0.496,0.43411,2.5476999999999999,1.0471945,2.6516999999999999,11.75,0.66014136828000003,0.49559856591000001,0.2147,3388.44,365.15,171.13,533,517.52594315860995,363.16,1.8464,"…",0.88490000000000002,31.5,158.625,150.5,147.5,93.5,1522.44,32.5,2485.38,624.79999999999995,5615.2,8157.6,1265.4000000000001,376.95,420.07,4.0750999999999999]
["1991M01",22.58333333333,23.65,19.399999999999999,24.7,40.5,34,1.67,3.44,3.99,39.336299301750003,1.2417,1.8945000000000001,1.1647000000000001,1.9187000000000001,1.6788339999999999,2.5227780000000002,1.5544150000000001,340,1850,480,1013,349,"…",239,455,198,"…","…",93.88,105.67,105.07,303.39999999999998,239,165,"…",107.07,111.33,"…",0.59669000000000005,0.51121000000000005,2.5931000000000002,1.0513832780000001,2.6341000000000001,12.015000000000001,0.66236786258000002,0.48060714317999997,0.19409999999999999,3429.54,360.57,169.19,"…",515.08631141536,362.26,1.8466,"…",0.86819999999999997,31.5,157.375,152.5,151,93.5,1515.18,34.76,2448.52,600.4,5623.2,8568.7999999999993,1206.2,383.64,407.84,4.0517000000000003]
["1991M02",18.13333333333,19.399999999999999,14.45,20.55,40.5,34,1.36,3.41,3.99,35.429234508230003,1.2146999999999999,1.9666999999999999,1.1435,1.7684,1.6423430000000001,2.1815000000000002,1.481395,330,1788,476,1027,338,"…",241,445,192,"…","…",92.04,106.1,106.37,327.25,265,187,"…",106.37,113.91,"…",0.69377,0.50148000000000004,2.7269000000000001,1.075413636,2.6595,12.648999999999999,0.67333238723,0.47222956363000002,0.18759999999999999,3375.34,367.11,176.93,"…",513.30036061993997,371.7,1.8712,"…",0.84860000000000002,31.5,160.625,152.5,151,95.625,1504.6,34.76,2449.38,593.79999999999995,5583.7,8672.2999999999993,1188.0999999999999,363.83,386.79,3.7376]
["1991M03",18.066666666669999,19.45,14.85,19.899999999999999,39.5,31,1.34,3.33,3.99,34.80604925758,1.2102999999999999,2.0628000000000002,1.1324000000000001,1.7615000000000001,1.740283,2.06454,1.4797750000000001,343,1700,455,1022,348,"…",244,453,187,"…","…",88.09,109.54,109.9,311.5,248,175,"…",116.16,119.42,"…",0.83723000000000003,0.52210000000000001,2.5918000000000001,1.069681624,2.4537,13.14,0.62716890894999999,0.47245007273,0.20150000000000001,3400.39,338.84,162.57,"…",523.01320974856003,364.43,1.857,"…",0.83250000000000002,31.5,163.625,147.5,145,95.625,1496,34.76,2409.63,603,5517.4,8700.7999999999993,1198.5999999999999,363.34,399.99,3.9428000000000001]
["1991M04",18.466666666670001,19.25,15.35,20.8,39.5,31,1.33,3.47,3.99,35.350171662400001,1.1457999999999999,2.0272999999999999,1.1229,1.7611000000000001,1.6344829999999999,2.173848,1.4749399999999999,323,1500,459,986,319,"…",245,460,188,"…","…",85.15,110.33,109.02,285.8,234,176,"…",117.05,120.89,"…",0.77912999999999999,0.50087000000000004,2.6112000000000002,1.05601298,2.2949999999999999,13.337999999999999,0.59940297044000002,0.46782039090999999,0.1875,3396.7,303.85000000000002,175.59,"…",551.3355760805,368.34,1.8262,"…",0.82299999999999995,31.5,166,143.25,143.5,108,1391.86,34.76,2472.04,600.9,5560,9021,1252.9000000000001,358.38,396.88,3.9754999999999998]
["1991M05",18.816666666669999,19.3,15.9,21.25,39.5,31,1.31,3.37,3.99,34.631906963959999,1.0622,1.9375,1.0375000000000001,1.9039999999999999,1.5862560000000001,2.6475909999999998,1.4781500000000001,335,1256,471,937,318,"…",241,444,200,"…","…",85.3,105.7,101.99,288.25,234,173,"…",115.63,121.99,"…",0.63263000000000003,0.48845,2.6259000000000001,1.06483146,2.3052999999999999,13.2,0.59131915071999996,0.46914310909000001,0.1671,3439.41,300.79000000000002,174.04,"…",540.19139855524998,365.84,1.8152999999999999,"…",0.82079999999999997,31.5,165.25,130.6,138.5,112,1296.05,34.76,2305.88,555.20000000000005,5701.7,8452.4,1090.9000000000001,356.95,389.64,4.0461999999999998]
["1991M06",17.933333333330001,18.2,15.4,20.2,39.5,31,1.2,3.29,3.99,32.915818145679999,1.0407999999999999,1.891,1.0004999999999999,1.7916000000000001,1.515269,2.4824350000000002,1.376949,369,1103,482,919,311,"…",241,440,201,"…","…",71.28,104.21,98,293.25,230,163,"…",118.18,120.15,"…",0.63383,0.39648,2.7029000000000001,1.0471945,2.1964999999999999,13.117000000000001,0.56439244191000004,0.47178871364000002,0.20280000000000001,3466.27,288.87,200.15,"…",558.25861632515,361.26,1.7848999999999999,"…",0.83640000000000003,31.5,159.25,129.5,135.5,112,1275.1500000000001,34.76,2219.2800000000002,549.4,5710.6,8280,1061.5999999999999,366.72,376.05,4.3898000000000001]
["1991M07",19.05,19.45,16.25,21.45,39.5,31,1.19,3,3.99,31.415732422929999,1.0322,1.8351,1.0004999999999999,1.5989,1.2301420000000001,2.2097980000000002,1.356797,465,1180,471,930,341,"…",229,431,187,"…","…",72.27,105.11,99.43,303.39999999999998,240,174,"…",116.23,118.31,"…",0.40189999999999998,0.51736000000000004,2.6873999999999998,1.07144532,2.1488999999999998,10.619,0.57598006033000004,0.46840530347999998,0.2273,3489.62,288.20999999999998,207.82,"…",556.99676597969994,365.92,1.6992,"…",0.82250000000000001,31.5,163.5,131,132.5,110.4,1296.78,34.76,2236.2800000000002,548.1,5669.6,8541.2999999999993,1063.0999999999999,367.69,376.03,4.3475000000000001]
["1991M08",19.36666666667,19.75,16.649999999999999,21.7,39.5,31,1.31,2.98,3.99,32.777857731979999,1.1389,1.8027,0.99,1.5308999999999999,1.232421,2.0113120000000002,1.3490869999999999,459,928,452,929,338,"…",241,457,195,"…","…",67.06,110.43,105.47,298.25,245,184,"…",127.06,125.3,"…",0.47849999999999998,0.57201999999999997,2.6410999999999998,1.0471945,2.1778,9.9429999999999996,0.58836317667000004,0.47993695364,0.20860000000000001,3531.14,295.08999999999997,210.57,"…",568.58312827972998,363.6,1.6196999999999999,"…",0.81679999999999997,31.5,161.875,127,132.5,110,1256.45,34.76,2233.19,540.20000000000005,5638.8,8144.7,1046.3,356.31,346.35,3.9573]
["1991M09",20.05,20.5,17.8,21.85,39.5,31,1.63,2.97,3.99,36.616197359659999,1.2728999999999999,1.9193,1.0286999999999999,1.5487,1.236162,2.0285929999999999,1.381346,455,930,478,844,323,"…",246,468,209,"…","…",67.430000000000007,108.85,106.21,291.5,241,193,"…",137.56,135.22,"…",0.36686000000000002,0.55920999999999998,2.7448000000000001,1.0471945,2.2334999999999998,10.307,0.60243787193999998,0.48620270865999998,0.20480000000000001,3541.1,302.77,210.68,"…",589.13276826632,375.24,1.5487,"…",0.81110000000000004,31.5,159.5,122.5,132.5,110,1211.81,34.76,2324.5700000000002,539.79999999999995,5570.3,7680.7,1023.2,348.74,349.34,4.0374999999999996]
["1991M10",21.466666666670001,22.2,18.95,23.25,39.5,31,1.77,2.71,3.99,37.08023675466,1.3008,1.7585999999999999,1.0115000000000001,1.5281,1.249466,1.924474,1.4104030000000001,546,965,498,799,345,"…",237,485,207,"…","…",68.209999999999994,109.7,107.01,276.60000000000002,236,191,"…",147.19999999999999,146.97,"…",0.44811000000000001,0.49304999999999999,2.7198000000000002,1.0617449919999999,2.2151000000000001,10.169,0.60201846733999997,0.48011616984,0.2011,3681.13,303.66000000000003,214.44,"…",573.05626764009003,386.32,1.4978,"…",0.82699999999999996,31.5,155,121.1,132.5,110,1150.03,34.76,2363.64,522.29999999999995,5549.6,7443,991.7,358.69,362.48,4.1154000000000002]
["1991M11",20.766666666670002,21.25,18.45,22.6,39.5,31,1.81,2.7,3.99,37.518431949709999,1.3140000000000001,1.724,1.1112,1.5005999999999999,1.2092529999999999,1.9079809999999999,1.384587,595,854,512,718,362,"…",237,466,202,"…","…",73.3,106.49,105.45,271.75,232,185,"…",147.04,149.55000000000001,"…",0.44091999999999998,0.59972000000000003,2.7073,1.039257868,2.2824,10.119,0.62123446421999995,0.47962090742000002,0.1903,3585.13,316.06,195.5,"…",573.89232740978002,389.42,1.3991,"…",0.81479999999999997,31.5,143.5,120,134.375,110,1134.8,34.76,2379.84,506.2,5505.5,7244.6,1093.3,360.17,365.11,4.0723000000000003]
["1991M12",17.75,18.399999999999999,15.3,19.55,39.5,31,1.92,2.7,3.99,38.854202976810001,1.3664000000000001,1.6612,1.1196999999999999,1.4756,1.2029259999999999,1.802899,1.4209830000000001,636,800,500,614,376,"…",234,442,199,"…","…",75.430000000000007,106.91,107.42,268.39999999999998,230,184,"…",157.81,160.94,"…",0.40397,0.58945999999999998,2.6080999999999999,1.04168295,2.3723000000000001,9.9209999999999994,0.63720703467999995,0.47348937532000002,0.19839999999999999,3665.05,326.73,200.33,"…",567.39157670279997,394.19,1.3632,"…",0.78749999999999998,31.5,143.5,120,131.875,110,1097.55,34.76,2223.14,532.1,5510.1,7117.8,1188,361.73,353.3,3.9426999999999999]
["1992M01",17.38333333333,18.149999999999999,15.2,18.8,39.5,31,1.28,2.57,3.595243,30.196982328899999,1.2815000000000001,1.6184000000000001,1.0765,1.4138999999999999,1.2670870000000001,1.519852,1.4547079999999999,738,812,500,619,383,"…",236,429,210,"…","…",73.42,109.31,111.64,277.25,238,188,"…",167.26,170.12,"…",0.56972999999999996,0.50473999999999997,2.5714999999999999,1.0538083600000001,2.4377,10.031000000000001,0.63332045674000004,0.47124753284999998,0.18329999999999999,3632.64,325.27,202.85,"…",577.77865606835996,403.71,1.3144,"…",0.8014,31.5,145.25,120,122.5,110,1177.07,33.1,2139.23,514.9,5476.9,7517.3,1153.7,354.45,341.19,4.1100000000000003]
["1992M02",17.61666666667,18.100000000000001,15.75,19,39.5,31,1.21,2.5,3.5089700000000001,28.955718705919999,1.1929000000000001,1.5091000000000001,0.9385,1.3448,1.2299469999999999,1.416288,1.388091,702,779,494,605,382,"…",237,414,204,"…","…",71.28,113.62,116.73,278.25,238,189,"…",170.12,177.1,"…",0.60626999999999998,0.43912000000000001,2.5240999999999998,1.025589224,2.5188000000000001,10.169,0.62103876449999995,0.47576805341,0.17280000000000001,3634.89,317.54000000000002,214.04,"…",599.19098418717999,396,1.2412000000000001,"…",0.81130000000000002,31.5,147.875,120,120.625,110,1266.83,33.1,2205.9699999999998,505,5615.7,7861.9,1130.7,353.91,362.12,4.1456999999999997]
["1992M03",17.45,17.600000000000001,15.8,18.95,39.5,31,1.28,2.58,3.5922489999999998,30.24249363549,1.1282000000000001,1.5513999999999999,0.93889999999999996,1.3789,1.3411580000000001,1.4016999999999999,1.393904,644,766,488,595,396,"…",240,434,200,"…","…",72.64,117,120.15,277.2,236,186,"…",161.44,169.39,"…",0.60629999999999995,0.43258999999999997,2.4493,1.039257868,2.4780000000000002,10.472,0.60272099317000005,0.47083670641000003,0.1812,3611.67,310.3,201.96,"…",602.24275977136006,380.56,1.2197,"…",0.82699999999999996,31.5,144.80000000000001,120,120,110,1280.47,33.1,2227.33,521.20000000000005,5632,7417.7,1214.5999999999999,344.34,356.94,4.1101000000000001]
["1992M04",18.63333333333,18.95,16.7,20.25,39.5,31,1.47,2.4700000000000002,3.5298240000000001,31.98450496912,1.0443,1.4533,0.91180000000000005,1.5203,1.5437799999999999,1.4843569999999999,1.5326200000000001,647,788,489,616,402,"…",235,425,192,"…","…",75.23,108.52,109.35,278,238,186,"…",153.07,159.83000000000001,"…",0.41898999999999997,0.50985999999999998,2.3847,1.036832786,2.548,10.637,0.61396817650000002,0.47099086093999998,0.20860000000000001,3631.04,313.95999999999998,199.67,"…",616.38288637890003,361.72,1.2838000000000001,"…",0.85829999999999995,31.5,142.75,120.2,120,110,1317.05,33.1,2215.33,532.79999999999995,5838.9,7420.6,1304.3,338.62,347.3,4.0505000000000004]
["1992M05",19.5,19.899999999999999,17.600000000000001,21,39.5,31,1.59,2.4900000000000002,3.4715530000000001,33.497310915690001,0.99229999999999996,1.3416999999999999,0.83069999999999999,1.7287999999999999,1.572503,1.98146,1.632439,638,788,495,651,390,"…",247,439,196,"…","…",84.78,109.64,108.03,274,228,178,"…",139.72,149.55000000000001,"…",0.42582999999999999,0.48647000000000001,2.3765999999999998,1.0377146340000001,2.7835999999999999,10.714,0.63283116538999995,0.46355814016000002,0.2114,3597.63,321.14,200.75,"…",628.68385452407006,338.52,1.3357000000000001,"…",0.86639999999999995,31.5,140.5,120.5,120,110,1306.79,33.1,2216.52,520.29999999999995,6121.1,7326.8,1372.9,337.24,358.59,4.0715000000000003]
["1992M06",20.83333333333,21.15,19,22.35,39.5,29,1.56,2.5,3.488016,33.191703035560003,0.97060000000000002,1.3027,0.81950000000000001,1.6859,1.4022950000000001,1.9718039999999999,1.683557,589,828,491,665,404,"…",253,456,204,"…","…",84.89,110.9,104.66,268.8,225,171,"…",140.36000000000001,148.81,"…",0.40444999999999998,0.47223999999999999,2.3347000000000002,1.0480763479999999,2.7261000000000002,10.775,0.64767133502999996,0.46048497334999999,0.22839999999999999,3565.88,330.28,205.11,"…",610.79690627471996,346.98,1.4085000000000001,"…",0.879,31.5,143.5,120.5,120,110,1275.55,33.1,2299.1999999999998,548.1,6618.8,7192.8,1385.2,340.81,369.13,4.0639000000000003]
["1992M07",20.16666666667,20.25,18.5,21.75,39.5,27,1.75,2.5499999999999998,3.60554,35.816264335370001,1.1021000000000001,1.2830999999999999,0.86399999999999999,1.6996,1.307172,2.0293549999999998,1.762384,528,830,485,644,382,"…",237,429,205,"…","…",77.37,102.75,95.86,278.5,236,173,"…",129.93,136.32,"…",0.43253999999999998,0.55215999999999998,2.3456999999999999,1.06483146,2.8344,11.000999999999999,0.67070742912000003,0.46492686080000001,0.2273,3512.73,347.83,201.08,"…",609.62494857875004,350.18,1.4394,"…",0.88449999999999995,31.5,146,120.5,120,110,1313.05,33.1,2520.3200000000002,626.1,6989.4,7497.9,1320.2,352.72,383.12,3.9674999999999998]
["1992M08",19.61666666667,19.75,17.8,21.3,39.5,27,1.97,2.56,3.6497280000000001,38.565283222280001,1.1761999999999999,1.1669,0.85650000000000004,1.7295,1.5878300000000001,1.8049440000000001,1.795825,494,796.25,493,600,382,"…",229,409,205,"…","…",77.040000000000006,96.96,93.7,270.8,231,182,"…",118.8,128.24,"…",0.62070999999999998,0.57260999999999995,2.4453999999999998,1.0769568700000001,2.9062999999999999,11.74,0.67770813035999999,0.46925866190999999,0.2162,3426.62,355.34,197.25,"…",607.43576959568998,348.35,1.3172999999999999,"…",0.87849999999999995,31.5,131.4,120.75,120,113.6,1305.05,33.1,2521.64,654.5,6780.4,7268,1360.4,343.06,359.55,3.8123]
["1992M09",20.149999999999999,20.25,18.3,21.9,39.5,27,2.33,2.57,3.6339510000000002,42.973748392449998,1.125,1.1735,0.90339999999999998,1.7042999999999999,1.541156,1.6527620000000001,1.918955,501,758.75,481,562,391,"…",227,421,209,"…","…",83.57,98.05,93.75,257,222,176,"…",131.47,138.88999999999999,"…",0.51170000000000004,0.56025999999999998,2.4403000000000001,1.077838718,2.7978000000000001,12.208,0.65429695215000006,0.47511661807,0.20530000000000001,3368.12,355.41,205.53,"…",606.17401917551001,358.54,1.2488999999999999,"…",0.87409999999999999,31.5,131.25,121.5,120,114.5,1269.6099999999999,33.1,2414.06,621.1,6643.2,6917.5,1366.9,345.43,362.14,3.7719]
["1992M10",20.08333333333,20.3,18.25,21.7,37.25,27,2.42,2.63,3.7041529999999998,44.399451743500002,1.071,1.3573999999999999,0.97419999999999995,1.7186999999999999,1.600387,1.662418,1.8934139999999999,493,799,469,565,396,"…",221,418,207,"…","…",82.21,95.11,91.01,250,214,172,"…",137.41999999999999,140.72999999999999,"…",0.3896,0.49775999999999998,2.5003000000000002,1.05601298,2.5158,11.728999999999999,0.59695331790999995,0.47679919835000001,0.192,3244.52,347.86,220.2,"…",600.25147755912997,421.35,1.1739999999999999,"…",0.89,31.5,130.125,121.5,116.875,114.5,1173.78,33.1,2249.15,537.4,6016.7,6305.3,1163.5999999999999,344.38,358.07,3.7524999999999999]
["1992M11",18.88333333333,19.2,17.100000000000001,20.350000000000001,35,27,2.2400000000000002,2.64,3.6527029999999998,42.226327261260003,1.0763,1.4839,1.0508999999999999,1.6616,1.536286,1.6307450000000001,1.8177749999999999,496,816.25,455,575,413,"…",229,437,206,"…","…",82.12,94.48,92.37,252.6,216,172,"…",145.84,147.71,"…",0.38002999999999998,0.41869000000000001,2.5406,1.0866571979999999,2.5535000000000001,11.051,0.56998203632,0.47137099103000002,0.18890000000000001,3097.86,325.92,220.08,"…",623.68820122856005,419.79,1.1616,"…",0.88490000000000002,31.5,126.4,121.5,107.5,114.5,1159.05,33.1,2158.3200000000002,460.4,5723,5564.88,1046.9000000000001,335.02,356.11,3.7709999999999999]
["1992M12",17.933333333330001,18.149999999999999,16.25,19.399999999999999,35,27,2.16,2.64,3.7094209999999999,41.293283533100002,1.0344,1.7016,1.1202000000000001,1.6645000000000001,1.402072,1.728475,1.8628659999999999,461,828.33,438,622,401,"…",235,436,215,"…","…",79.55,94.61,95.75,256.25,218,162,"…",146.27000000000001,147.71,"…",0.31085000000000002,0.42438999999999999,2.5417000000000001,1.08577535,2.7168999999999999,10.913,0.61196534503,0.46471383656999998,0.1797,2950.87,324.49,245.58,"…",604.35276632615,443.44,1.1951000000000001,"…",0.88360000000000005,31.5,124.625,121.88,103.75,114,1207.0999999999999,33.1,2206.8200000000002,454.6,5756.2,5724.07,1057.9000000000001,334.82,361.97,3.7252000000000001]
["1993M01",17.216666666670001,17.399999999999999,15.2,19.05,35,27,1.88,2.76,3.6421939999999999,38.418069892109997,1.0355000000000001,1.5298,1.034,1.7614000000000001,1.5036449999999999,1.870611,1.91,444,846.25,418,621,410,"…",239,444,216,"…","…",75.08,94.21,95.18,259.75,219,166,"…",156.91999999999999,155.79,"…",0.52492000000000005,0.42605999999999999,2.3544999999999998,1.1128921759999999,2.6892999999999998,11.243600000000001,0.63219999999999998,0.45760000000000001,0.1817,2861.41,319.27,249.97,"…",605.35572255287002,511.96,1.2609999999999999,"…",0.90590000000000004,31.5,123.75,121.88,102.5,113,1206.76,29.09,2256.85,436.5,5900.9,5930.93,1061.0999999999999,329.01,359.14,3.6835]
["1993M02",18.16666666667,18.45,16,20.05,31,27,1.69,2.74,3.6114980000000001,35.99495322077,0.99760000000000004,1.4914000000000001,1.0361,1.8460000000000001,1.590484,2.167557,1.78,439,852.5,391,611,425,"…",236,433,201,"…","…",74.83,94.38,94.47,254.25,216,172,"…",149.43,148.81,"…",0.58560999999999996,0.41241,2.3875999999999999,1.1254585100000001,2.5867,11.5467,0.61170000000000002,0.46410000000000001,0.18870000000000001,2847.42,314.52999999999997,286.7,"…",618.11458860302002,611.77,1.3324,"…",0.89439999999999997,31.5,120.25,121.5,102.5,112.5,1201.8499999999999,29.09,2212.6,414,5790.9,6038.68,1072.0999999999999,329.31,359.02,3.6555]
["1993M03",18.466666666670001,18.75,16.3,20.350000000000001,31,27,2.1800000000000002,2.75,3.5899909999999999,41.978174836389996,0.97509999999999997,1.4026000000000001,1.0119,1.6074999999999999,1.5457540000000001,1.6967369999999999,1.58,427,860,377,602,408,"…",238,438,193,"…","…",75.16,97.14,95.4,230.2,197,161,"…",145.46,148.08000000000001,"…",0.65900000000000003,0.36446000000000001,2.5263,1.1503707160000001,2.7039,11.6569,0.62939999999999996,0.47549999999999998,0.2341,2805.46,312.77999999999997,345.34,"…",616.81467272359998,700.44,1.3574999999999999,"…",0.84809999999999997,31.5,115.1,111,86.2,112.5,1151.33,29.09,2152.59,405.9,5659.4,5971.3,996.1,330.08,350.46,3.6469999999999998]
["1993M04",18.433333333330001,18.649999999999999,16.350000000000001,20.3,31,27,2.35,2.68,3.6245319999999999,43.733171497969998,1.0117,1.2758,0.98939999999999995,1.5736000000000001,1.491452,1.769253,1.46,402,870,361,623,392,"…",244,448,194,"…","…",77.45,100.55,95.06,206.25,182,153,"…",156.34,141.83000000000001,"…",0.56369999999999998,0.38062000000000001,2.5922000000000001,1.179692162,2.9127999999999998,11.64,0.66369999999999996,0.4783,0.24579999999999999,2774.73,324.24,463.41,"…",645.42230389324004,738.14,1.3459000000000001,"…",0.82430000000000003,31.5,112.75,109.6,81,112.5,1108.53,29.09,1949.88,420.7,5590.9,5972.33,1004.6,342.15,368.01,3.9516]
["1993M05",18.16666666667,18.5,16,20,31,27,2.17,2.68,3.566033,41.507731635989998,0.99580000000000002,1.3708,1.0179,1.5314000000000001,1.320317,1.853755,1.42,418,1051.25,348,685,371,"…",246,448,195,"…","…",77.459999999999994,98.59,93.15,184.75,165,145,"…",140.09,136.69,"…",0.46160000000000001,0.39362000000000003,2.6762000000000001,1.2418624460000001,3.0316999999999998,11.6029,0.65590000000000004,0.47089999999999999,0.26079999999999998,2694.58,323.33,520.80999999999995,"…",776.64435838019006,751.81,1.3271999999999999,"…",0.81440000000000001,31.5,115.1,107.5,81,112.5,1123.96,29.09,1794.5,407.2,5503.5,5762.55,980.4,367.18,385.16,4.4640000000000004]
["1993M06",17.466666666670001,17.649999999999999,15.6,19.149999999999999,31,27,1.97,2.68,3.5350790000000001,39.058085889220003,0.98719999999999997,1.3778999999999999,1.0266999999999999,1.6032,1.348695,1.9810209999999999,1.48,436,1026.25,348,712,356,"…",245,461,197,"…","…",75.3,92.76,88.52,189,169,147,"…",112.25,121.99,"…",0.38956000000000002,0.37670999999999999,2.7425000000000002,1.2330439660000001,3.0165999999999999,11.243600000000001,0.63719999999999999,0.47170000000000001,0.2291,2665.12,314.45,493.82,"…",803.58189683099999,745.3,1.2992999999999999,"…",0.81089999999999995,31.5,113.875,105.5,81,112.5,1165.3,29.09,1853.42,393.9,5112.7,5532.43,926,371.89,383.02,4.3757000000000001]
["1993M07",16.316666666669999,16.8,14.25,17.899999999999999,31,27,2.06,2.66,3.539228,40.058720932040004,1.0604,1.5831,1.0891,1.6238999999999999,1.3278589999999999,1.9537770000000001,1.59,460,1000,356,773,362,"…",287,505,227,"…","…",74.03,101.25,96.17,200.75,177,149,"…",116.77,127.5,"…",0.35072999999999999,0.40436,2.8197000000000001,1.25001954,3.0259999999999998,10.957000000000001,0.6129,0.48249999999999998,0.21340000000000001,2648.22,299.97000000000003,467.02,"…",829.75535445005005,696.18,1.2748999999999999,"…",0.80869999999999997,31.5,112.875,105.1,81,112.5,1202.1300000000001,29.09,1927.16,388.2,4972.6000000000004,5036.2,927.6,392.19,403.65,5.0194000000000001]
["1993M08",16.483333333329998,16.7,14.75,18,31,27,2.2599999999999998,2.65,3.4930219999999998,42.408551510999999,1.0966,1.6958,1.2887999999999999,1.5792999999999999,1.386884,1.8410740000000001,1.51,455,1061,361,858,356,"…",274,483,223,"…","…",69.69,100.31,98.49,209,187,156,"…",119.55,129.71,"…",0.31691000000000003,0.44342999999999999,2.8043,1.2771363659999999,2.8797999999999999,10.8026,0.59570000000000001,0.48380000000000001,0.2059,2625.52,295.23,450.47,"…",835.60671444226,703.88,1.2236,"…",0.82320000000000004,31.5,113.1,107.5,81,112.5,1172.1400000000001,29.09,1947.45,388.4,4809.3,4721.8100000000004,884,378.84,391.9,4.8376999999999999]
["1993M09",15.9,16,14.2,17.5,31,27,2.27,2.62,3.4808539999999999,42.379122320969998,1.2677,1.7806999999999999,1.3778999999999999,1.5643,1.5241640000000001,1.718812,1.45,424,1501,353,845,352,"…",260,489,214,"…","…",64.41,100.9,97.22,206,185,158,"…",115.71,131.16999999999999,"…",0.35076000000000002,0.60489000000000004,2.7336999999999998,1.269420196,3.1061999999999999,11.1884,0.60860000000000003,0.48409999999999997,0.21029999999999999,2605.88,308.36,384,"…",851.10576151250996,664.86,1.2166999999999999,"…",0.82299999999999995,31.5,116.875,107.5,81,112.5,1115.3800000000001,29.09,1861.86,375.7,4493.6000000000004,4352.8900000000003,874.2,355.28,362.46,4.2184999999999997]
["1993M10",16.516666666670002,16.600000000000001,14.8,18.149999999999999,31,27,2.02,2.62,3.3912589999999998,39.282578994639998,1.2923,1.6896,1.2989999999999999,1.5717000000000001,1.4865619999999999,1.6885559999999999,1.54,419,1423.75,339,807,333,"…",249,491,207,"…","…",60.95,106.53,100.92,256.75,217,162,"…",127.87,135.94999999999999,"…",0.33068999999999998,0.62141999999999997,2.6698,1.2273119539999999,2.9826000000000001,11.6844,0.60040000000000004,0.48220000000000002,0.22689999999999999,2591.58,304.38,378.13,"…",851.33972869483,617.28,1.2081,"…",0.79810000000000003,31.5,129.5,111.25,81,112.5,1087.0999999999999,29.09,1646.4,384.3,4681.1000000000004,4448.8999999999996,914.9,364.18,367.91,4.343]
["1993M11",15.2,15.15,13.7,16.75,31,27,2.2599999999999998,2.62,3.3554949999999999,42.172758609719999,1.321,1.7327999999999999,1.355,1.5436000000000001,1.40598,1.764743,1.46,464,1303.75,358,808,357,"…",267,536,216,"…","…",63.85,116.67,113.81,307.75,263,167,"…",136.41,146.61000000000001,"…",0.36826999999999999,0.44079000000000002,2.6410999999999998,1.2143046959999999,2.9706000000000001,11.5191,0.59119999999999995,0.48209999999999997,0.22309999999999999,2629.38,299.54000000000002,333.36,"…",835.18135273468999,602.97,1.2105999999999999,"…",0.80910000000000004,31.5,140.4,112.5,82.8,112.5,1039.81,29.09,1630.02,400.3,4640.8999999999996,4633.8900000000003,928.4,373.83,374.41,4.5331999999999999]
["1993M12",13.76666666667,13.6,12.15,15.55,31,26.5,2.34,2.6,3.25,42.977676760900003,1.3622000000000001,1.7921,1.3627,1.5722,1.376271,1.8303879999999999,1.51,615,1310,367,924,411,"…",276,589,215,"…","…",68.31,121.79,119.93,320.5,252,155,"…",140.49,158.72999999999999,"…",0.41455999999999998,0.32116,2.4626000000000001,1.1832195539999999,2.9807000000000001,11.596299999999999,0.59489999999999998,0.4849,0.2319,2594.7399999999998,307.76,304.66000000000003,"…",830.07827928152005,592.53,1.306,"…",0.81530000000000002,31.5,150.375,122.5,85.5,112.5,1094.3,29.09,1724.19,461.2,4777.8999999999996,5119.12,974.4,383.3,383.17,4.9717000000000002]
["1994M01",14.13333333333,14.25,13.15,15,31,27,2.34,2.4700000000000002,3.12,42.271586118670001,1.2641,1.7404999999999999,1.3092999999999999,1.5414000000000001,1.3834759999999999,1.7408349999999999,1.5,595,1196.25,366,993,404,"…",282,602,215,"…","…",74.62,127.23,121.92,356,263,151,"…",152.71,153.22,"…",0.53264,0.30401,2.4216000000000002,1.1640393600000001,3.0234000000000001,11.712,0.59599999999999997,0.48509999999999998,0.2271,2634.14,304.02999999999997,294.83999999999997,"…",773.48405120348002,564.97,1.5257000000000001,"…",0.80910000000000004,31.5,150,125,85.5,112.5,1174.5899999999999,26.47,1805.35,490.1,4942.8,5577.95,996.7,386.88,387.8,5.1458000000000004]
["1994M02",13.783333333330001,13.8,12.8,14.75,31,27,2.71,2.36,3.19,46.289121742299997,1.2289000000000001,1.8503000000000001,1.3404,1.4830000000000001,1.4138999999999999,1.4252469999999999,1.61,573,1170,364,1011,387,"…",273,577,207,"…","…",72.290000000000006,123.22,119.21,343.75,259,155,"…",144.19,146.97,"…",0.66690000000000005,0.34010000000000001,2.4935999999999998,1.182337706,2.9599000000000002,11.712,0.59040000000000004,0.48349999999999999,0.23849999999999999,2553.7199999999998,304.74,303.35000000000002,"…",758.98874573249998,600.26,1.7781,"…",0.85360000000000003,31.5,151.75,125.63,85.5,112.5,1269.93,26.47,1866.4,485.4,5443.4,5824.95,968.9,381.91,394.02,5.2473000000000001]
["1994M03",13.61666666667,13.95,12.25,14.65,29.5,27,2.21,2.36,3.15,40.190335491900001,1.3072999999999999,1.9180999999999999,1.4265000000000001,1.474,1.3990830000000001,1.362973,1.66,539,1180,352,1013,395,"…",274,586,200,"…","…",68.290000000000006,119.4,114.33,269.75,222,155.25,"…",133.49,141.1,"…",0.50561999999999996,0.46444000000000002,2.6903000000000001,1.2224617900000001,2.9580000000000002,12.291,0.59530000000000005,0.4839,0.2586,2595.42,311.57,310.48,"…",771.97556376185003,617.1,1.8039000000000001,"…",0.91269999999999996,31.5,155.875,127.5,98.625,112.5,1289.03,26.47,1914.87,451.5,5405.4,5587.54,935.9,384.13,400.28,5.4349999999999996]
["1994M04",15.08333333333,15.15,13.8,16.3,29.5,27,2.04,2.36,3.07,38.071762559249997,1.2436,1.9966999999999999,1.5832999999999999,1.3454999999999999,1.27765,1.178814,1.58,560,988,351,1030,434,"…",261,584,193,"…","…",66.89,113.23,107.75,269.25,221,156.75,"…",129.97999999999999,140.36000000000001,"…",0.49603999999999998,0.35815000000000002,2.6276999999999999,1.2345872,2.9344999999999999,12.731999999999999,0.59199999999999997,0.4859,0.2427,2651.55,309.58999999999997,326.24,"…",819.92735490329005,647.04999999999995,1.8507,"…",0.9486,31.5,162.25,130,103.5,112.5,1278.72,26.47,1881.82,439.9,5385.7,5407.97,923.6,377.27,397.9,5.3520000000000003]
["1994M05",16.283333333329999,16.2,14.8,17.850000000000001,31.4,27,1.92,2.36,3.06,36.60778286152,1.3788,2.6869999999999998,2.0933000000000002,1.5230999999999999,1.178077,1.851132,1.54,599,908,362,1020,488,"…",256,594,196,"…","…",68.55,109.59,106.21,233,201,160.19999999999999,"…",125.25,139.99,"…",0.37576999999999999,0.41578999999999999,2.3906999999999998,1.299403028,2.9788000000000001,12.787000000000001,0.60009999999999997,0.48899999999999999,0.25530000000000003,2674.01,318.06,343.5,"…",851.58009674169,637.21,1.8980999999999999,"…",0.97929999999999995,31.5,159.19999999999999,132.5,103.5,112.5,1322.59,26.47,2150.6,473.5,5504.4,6086.65,955.6,381.43,398.01,5.4195000000000002]
["1994M06",17.16666666667,16.75,15.7,19.05,33.6,28.5,1.9,2.36,3.1,36.392015165609997,1.4590000000000001,3.1621000000000001,2.4775999999999998,1.4761,1.2244809999999999,1.6337060000000001,1.57,608,919,365,1014,508,"…",265,571,203,"…","…",67.78,112.16,105.73,213.75,193,166.25,"…",120.15,139.26,"…",0.25051000000000001,0.43664999999999998,2.2324000000000002,1.3084419700000001,2.9579,13.282999999999999,0.60880000000000001,0.495,0.26569999999999999,2641.3,331.2,344.6,"…",876.93310365878995,629.58000000000004,1.8852,"…",1.0505,31.5,157.625,132.5,103.5,112.5,1400.58,26.47,2364.1999999999998,525.1,5509.2,6281.84,966.2,385.64,401.09,5.3875999999999999]
["1994M07",17.88333333333,17.600000000000001,16.399999999999999,19.649999999999999,33.1,28.5,1.96,2.42,3.14,37.432955650970001,1.5523,4.8255999999999997,3.6154999999999999,1.5923,1.216221,1.8507830000000001,1.71,579,920,376,1017,494,"…",237,560,193,"…","…",64.319999999999993,97.83,93.75,226.25,204,177.75,"…",119.51,137.41999999999999,"…",0.44617000000000001,0.53729000000000005,2.1911999999999998,1.278238676,2.9581,13.867000000000001,0.62960000000000005,0.50070000000000003,0.2596,2632.1,343.77,331.98,"…",875.75043339722004,649.70000000000005,1.8010999999999999,"…",1.2511000000000001,31.5,158.625,132.5,106.5,112.5,1492.42,26.47,2458.19,580.1,5311.2,6226.76,964,385.49,411.95,5.2823000000000002]
["1994M08",17,16.8,15.85,18.350000000000001,33.1,28.5,1.66,2.46,3.24,34.047852063359997,1.5509999999999999,4.4188999999999998,3.585,1.5801000000000001,1.349189,1.731222,1.66,596,903,378,1018,575,"…",232,600,189,"…","…",66.16,95.99,95.02,252.6,228,199.6,"…",128.15,145.87,"…",0.40738000000000002,0.54396999999999995,2.1995,1.232162118,2.9651000000000001,14.137,0.63449999999999995,0.48280000000000001,0.26679999999999998,2608.14,344.81,316.74,"…",885.12969768761002,630.99,1.6902999999999999,"…",1.2609999999999999,31.5,161.1,132.5,88,112.5,1455.36,26.47,2406.23,570.79999999999995,5161.5,5859.5,944.9,380.36,412.19,5.1971999999999996]
["1994M09",16.2,15.9,15.25,17.45,33.1,29,1.49,2.48,3.28,32.105657869189997,1.4861,4.8943000000000003,4.0297000000000001,1.5378000000000001,1.4210989999999999,1.6222300000000001,1.57,622,825,392,1018,614,"…",233,672,184,"…","…",72.27,97.51,91.78,259.75,239,210,"…",142.12,158.72999999999999,"…",0.43841000000000002,0.53922000000000003,2.2081,1.2374532060000001,2.9659,13.625,0.64659999999999995,0.48020000000000002,0.2777,2634.62,347.76,299.92,"…",861.97839974740998,566.5,1.6557999999999999,"…",1.2665999999999999,31.5,164,132.5,88,112.5,1569.22,26.47,2505.9299999999998,613.5,5321.1,6364.75,992.4,391.58,417.28,5.5236999999999998]
["1994M10",16.466666666670001,16.399999999999999,15.35,17.649999999999999,33.1,30.75,1.51,2.56,3.26,32.715293238059999,1.4478,4.45,3.7351999999999999,1.5037,1.430328,1.4806900000000001,1.6,621,800,398,1029,616,"…",227,642,177,"…","…",80.14,96.48,92.37,262,243,215.8,"…",157.38,167.18,"…",0.32379999999999998,0.43486999999999998,2.1248,1.197770046,3.0350000000000001,13.917,0.66420000000000001,0.47449999999999998,0.28110000000000002,2699.88,354.51,291.55,"…",805.96790340074995,567.91,1.6329,"…",1.3680000000000001,31.5,167.125,136.63,88,112.5,1698.05,26.47,2547.67,641.79999999999995,5473.6,6748.29,1058.5,389.77,419.4,5.4541000000000004]
["1994M11",17.08333333333,17.2,15.95,18.100000000000001,33.1,30.5,1.58,2.57,3.26,33.612869070110001,1.4352,4.0324999999999998,3.3803000000000001,1.4266000000000001,1.3499380000000001,1.4698530000000001,1.46,706,815,394,1048,707,"…",239,706,174,"…","…",83.98,95.47,97.74,264.5,242,216.5,"…",152.38999999999999,162.04,"…",0.29687000000000002,0.32921,2.1886999999999999,1.1391271540000001,3.0259,13.614000000000001,0.65739999999999998,0.47560000000000002,0.30730000000000002,2693.64,351.43,279.43,"…",792.71004143764003,562.70000000000005,1.7097,"…",1.3436999999999999,33.5,165.875,139,88,112.5,1892.59,26.47,2802.45,667.2,6161.1,7556.14,1151.7,384.39,412.37,5.1924000000000001]
["1994M12",15.94,15.96,14.7,17.16,36.1,32,1.72,2.56,3.29,35.2857263852,1.3975,3.7157,2.8601000000000001,1.4227000000000001,1.3279719999999999,1.5502689999999999,1.39,692,833.33,418,1062,719,"…",243,693,178,"…","…",86.49,102.49,100.62,260.5,244,223.5,"…",157.34,164.61,"…",0.53737999999999997,0.23238,2.2256,1.1298677500000001,2.9398,13.228,0.64510000000000001,0.4919,0.32340000000000002,2681.41,341.65,247.96,"…",778.00690827384994,539.99,1.9218,"…",1.4654,33.5,171.66666666667001,139,88,112.5,1878.31,26.47,2985.3,634.29999999999995,5946.8,8555.5,1114.3,379.29,410.85,4.7794999999999996]
["1995M01",16.899999999999999,16.63,16.079999999999998,17.989999999999998,37.1,34,1.51,2.66,3.36,33.258439885930002,1.4686999999999999,3.8056000000000001,2.8999000000000001,1.4621999999999999,1.3642620000000001,1.642469,1.38,622,878,435,1054,655,"…",243,674,183,"…","…",85.45,106.96,101.74,276.8,258,232.2,"…",152.99,156.16,"…",0.35825000000000001,0.35110000000000002,2.1278992240000001,1.1298677500000001,2.7543000000000002,13.4482,0.65129999999999999,0.4995,0.32540000000000002,2595.13,341,248.42,632.75598284948001,793.78967186796001,551.01,2.1080000000000001,"…",1.6442000000000001,33.5,188.2,142.38,159.6,112.5,2060.5500000000002,28.38,3008.93,666.6,6199.3,9592.5499999999993,1156.5,378.55,413.9,4.7731000000000003]
["1995M02",17.41666666667,17.079999999999998,16.64,18.53,37.6,34.5,1.58,2.66,3.4,34.135575757650003,1.5102,3.7431000000000001,2.9693999999999998,1.4104000000000001,1.377246,1.4965949999999999,1.3574999999999999,636,885,437,1025,661,"…",238,663,185,"…","…",85.77,106.69,102.07,280.5,262,221,"…",149.71,154.32,"…",0.58008999999999999,0.41837999999999997,2.1616299099999998,1.1340565279999999,2.7069000000000001,13.696199999999999,0.65039999999999998,0.49980000000000002,0.31769999999999998,2673.19,334.12,251.8,621.5456405745,753.20105401508999,599.11,2.2254,"…",1.7703,31.5,198.625,147.5,177.5,112.5,1916.15,28.38,2877.65,579.9,5478.3,8505.4500000000007,1032.2,376.64,413.97,4.7214999999999998]
["1995M03",17.34666666667,17.010000000000002,16.489999999999998,18.54,38.35,34.75,1.54,2.65,3.46,33.642950760150001,1.4850000000000001,3.9558,3.2193999999999998,1.3474999999999999,1.3630960000000001,1.344409,1.335,632,855,447,990,687,"…",246,652,175,"…","…",90.83,109.7,102.74,286.25,259,223.5,"…",143.08000000000001,150.28,"…",0.39778999999999998,0.44861000000000001,2.0441236639999998,1.14309547,2.7298,14.0434,0.67989999999999995,0.49519999999999997,0.32169999999999999,2586.7600000000002,346.84,283.10000000000002,642.14476351012001,713.57749117421997,656.48,2.4361999999999999,"…",1.8033999999999999,31.5,205.625,147.5,191.25,112.5,1805.07,28.38,2924.04,585.6,5532.4,7531.91,1022.2,382.12,416.89,4.6485000000000003]
["1995M04",18.646666666670001,18.670000000000002,17.399999999999999,19.87,37.1,35,1.62,2.71,3.45,34.892884000530003,1.4612000000000001,3.8449,3.1918000000000002,1.3688,1.361928,1.3945920000000001,1.35,619,823,447,981,625,"…",249,610,181,"…","…",93.4,109.3,103.29,281.5,260,226.25,"…",140.68,148.81,"…",0.38580999999999999,0.55642000000000003,1.923310488,1.1327337559999999,2.6324000000000001,14.412699999999999,0.70079999999999998,0.50229999999999997,0.30199999999999999,2501.1,350.64,300.91000000000003,639.70284770945,730.81622126847003,665.11,2.5078999999999998,"…",1.84,31.5,204.5,147.5,205,112.5,1849,28.38,2903.5,608.5,5872.1,7397.83,1061.4000000000001,391.03,448.29,5.4776999999999996]
["1995M05",18.42333333333,18.38,17.25,19.64,38.770000000000003,35,1.64,2.71,3.53,35.189950987129997,1.4453,3.7700999999999998,3.1063000000000001,1.4943,1.3087310000000001,1.872288,1.302,616,822,436,973,611,"…",250,595,181,"…","…",100.79,111.97,108.06,291,268,238.6,"…",143.28,158.72999999999999,"…",0.39300000000000002,0.56189999999999996,1.7520115140000001,1.153677646,2.5337000000000001,14.8812,0.70660000000000001,0.50929999999999997,0.29809999999999998,2518.9299999999998,340.95,285.43,635.24590163933999,750.76812042567997,635.41,2.5335000000000001,"…",1.7224999999999999,31.5,197.8,147.5,159,112.5,1762.69,28.38,2773.31,596.5,5926.5,7232.19,1036.2,385.22,437.35,5.5598000000000001]
["1995M06",17.363333333330001,17.350000000000001,16.239999999999998,18.5,40.770000000000003,34.89,1.62,2.73,3.56,35.062487798120003,1.4372,3.4058999999999999,2.84,1.4919,1.2041459999999999,1.9791859999999999,1.2925,668,841,467,965,631,"…",252,611,180,"…","…",105.77,119.86,112.83,326,303,275.75,"…",153.47999999999999,170.12,"…",0.36890000000000001,0.65486999999999995,1.6605197840000001,1.192919882,2.5331999999999999,14.8812,0.70240000000000002,0.51870000000000005,0.30909999999999999,2587.4699999999998,345.78,274.22000000000003,625.45765194043997,759.11308092203001,627,1.9996,"…",1.5417000000000001,31.5,185.625,147.5,90,112.5,1780.05,28.38,2994.64,611.79999999999995,6670.7,7871.57,1009.6,387.56,438.53,5.3636999999999997]
["1995M07",16.08333333333,15.86,14.97,17.420000000000002,41.05,36.15,1.44,2.8,3.48,33.155259203009997,1.3640000000000001,3.2111999999999998,2.6402999999999999,1.5698000000000001,1.222782,2.2046869999999998,1.282,693,876,502,969,655,"…",261,626,193,"…","…",112.97,126.99,119.1,345.6,327,296,"…",173.36,190.7,"…",0.53541000000000005,0.68669999999999998,1.6331824960000001,1.24340568,2.5400999999999998,14.551,0.70479999999999998,0.54020000000000001,0.29959999999999998,2642.87,351.79,259.57,615.63612283751002,752.31998638686002,584.72,1.9258,"…",1.3340000000000001,33.5,180.8,147.5,90,112.5,1860.1,28.38,3075.67,621.9,6668.9,8596.57,1026.8,386.23,433.63,5.1647999999999996]
["1995M08",16.466666666670001,16.07,15.37,17.96,40.880000000000003,35.700000000000003,1.56,2.8,3.46,34.598914078070003,1.4129,3.3776999999999999,2.87,1.5047999999999999,1.398069,1.8762270000000001,1.24,686,885,493,980,616,"…",257,616,190,"…","…",104.87,126.44,118.7,339.5,318,286,"…",168.47,184.45,"…",0.52,0.60838999999999999,1.6865342999999999,1.311087514,2.5192000000000001,13.448,0.69369999999999998,0.51680000000000004,0.28620000000000001,2691.66,341.96,235.66,583.33668584301995,741.71674429781001,560.55999999999995,1.8753,"…",1.2979000000000001,33.5,185.25,147.5,90,112.5,1888.32,28.38,3036.84,623.6,6992.3,8944.66,1014.4,383.67,425.34,5.3982000000000001]
["1995M09",16.82,16.78,15.65,18.03,40.93,35.93,1.64,2.78,3.46,35.475304468170002,1.3971,2.9643000000000002,2.5364,1.5497000000000001,1.566794,1.777377,1.3049999999999999,677,970,505,981,586,"…",266,614,206,"…","…",104.82,130.47999999999999,127.26,359.75,332,284.75,"…",185.61,193.64,"…",0.52,0.53754999999999997,1.76479831,1.336661106,2.5598000000000001,12.2136,0.68830000000000002,0.51170000000000004,0.25769999999999998,2689.09,337.09,221.73,565.65656565657002,728.69897473166998,527.42999999999995,2.0102000000000002,"…",1.3471,33.5,192,147.5,90,112.5,1760.83,28.38,2915.52,592.70000000000005,6328.1,8405.2099999999991,986.2,383.06,429.65,5.4295]
["1995M10",16.123333333329999,16.12,14.92,17.329999999999998,40.97,35.75,1.77,2.75,3.45,36.904548842170001,1.3946000000000001,2.8058000000000001,2.4859,1.5572999999999999,1.6167609999999999,1.7872749999999999,1.268,718,1055,522,990,615,"…",271,638,214,"…","…",112.7,140.86000000000001,137.07,382.6,351,294.39999999999998,"…",194.04,203.73,"…",0.43320999999999998,0.54620999999999997,1.8223388920000001,1.2945528639999999,2.6714000000000002,12.2356,0.69779999999999998,0.50619999999999998,0.26040000000000002,2689.44,344.06,233.86,546.44808743169006,723.49069347963996,526.54999999999995,2.0093000000000001,"…",1.4100999999999999,33.5,204.8,150,90,112.5,1674.32,28.38,2813.55,639.1,6220.7,8061.73,979.1,383.14,412.66,5.3741000000000003]
["1995M11",16.74333333333,16.88,15.56,17.79,39.590000000000003,36.07,2.04,2.75,3.41,40.156159781500001,1.4350000000000001,2.7612999999999999,2.4411999999999998,1.6267,1.8022339999999999,1.8427439999999999,1.2350000000000001,750,1016,602,995,607,"…",282,623,225,"…","…",125.76,143.94999999999999,141.80000000000001,340.5,322,298.25,"…",198.27,203.93,"…",0.44091999999999998,0.56423999999999996,1.937640518,1.3150558299999999,2.6545999999999998,12.4285,0.69530000000000003,0.49819999999999998,0.2641,2744.74,337.67,230.96,521.84590197482999,716.07334023150997,539.65,1.9662999999999999,"…",1.6133,33.5,224.875,160.69999999999999,90,112.5,1654.07,28.38,2977.36,713.6,6386.9,8505.91,1030.7,385.31,413.12,5.3151000000000002]
["1995M12",17.86666666667,17.96,16.809999999999999,18.829999999999998,39.35,35.01,2.71,2.73,3.37,48.170040462499998,1.3778999999999999,2.3422000000000001,2.0478999999999998,1.4802,1.4797480000000001,1.6908609999999999,1.27,718,1013,647,988,590,"…",296,579,250,"…","…",125,148.65,153,341.5,312,277.75,"…",205.33,208.92,"…",0.40784999999999999,0.44323000000000001,1.909862306,1.291245934,2.6156999999999999,12.2081,0.6845,0.50039999999999996,0.27139999999999997,2800.9,302.2,241.78,523.81336127005,715.84779644152002,540.20000000000005,1.9373,"…",1.6359999999999999,33.5,229.16666666667001,162.5,90,112.5,1656.74,28.38,2926.26,731.6,6289.5,8090.89,1018.1,387.44,408.71,5.1768999999999998]
["1996M01",17.8,17.940000000000001,16.57,18.89,39.369999999999997,34.75,2.93,2.75,3.43,50.977311609840001,1.349,2.4394,1.9839,1.5205,1.7156469999999999,1.475975,1.37,711,986,649,959,535,686,305,554,260,"…","…",124.93,156.13,154.30000000000001,369.2,331,271.60000000000002,"…",196.98,206.88,"…",0.41337000000000002,0.41753000000000001,1.8629039000000001,1.28860039,2.6082999999999998,11.978400000000001,0.6865,0.49380000000000002,0.2762,2869.95,279.69,234.29,519.41825155825995,719.34948924819003,529.12,1.9003000000000001,"…",1.5498000000000001,33.5,226.3,162.5,90,112.5,1589.34,30,2616.41,709.5,6271.6,7862.05,1019.1,399.45,415.48,5.4604999999999997]
["1996M02",17.696666666670001,17.97,16.05,19.07,39.28,34.25,4.4000000000000004,2.77,3.48,68.957024033389999,1.3702000000000001,2.7357,2.1360999999999999,1.5156000000000001,1.783177,1.423616,1.34,738,980,641,925,518,716,299,548,253,"…","…",123.31,164.81,159.81,368,320,256.25,"…",203.96,218.89,"…",0.59084000000000003,0.43447000000000002,1.8124181020000001,1.2528855459999999,2.6313,12.097899999999999,0.68920000000000003,0.4975,0.28239999999999998,2890.78,272.77999999999997,246.43,505.89215569574998,713.65616759500995,548.59,1.8749,"…",1.5578000000000001,33.5,225.875,169.1,90,112.5,1591.55,30,2537.71,769.7,6195.5,8215.5499999999993,1035.8,404.76,420.21,5.6566999999999998]
["1996M03",19.399999999999999,19.989999999999998,17.05,21.16,39.01,32.92,2.95,2.67,3.47,50.866961041700002,1.3392999999999999,2.6640999999999999,2.0049000000000001,1.5666,1.921497,1.4115169999999999,1.3667,723,988,616,911,519,715,295,538,246,"…","…",124.47,184.86,165.84,359.5,313,259.5,"…",205.51,215.32,"…",0.5,0.47438999999999998,1.720044524,1.215186544,2.6387999999999998,12.015000000000001,0.68500000000000005,0.49759999999999999,0.28460000000000002,2965.09,271.79000000000002,253.01,504.04222094839002,728.66736912034003,529.22,1.8345,"…",1.4763999999999999,33.5,221,173.5,90,112.5,1612.48,30,2561.02,817.9,6196.4,8021.74,1063.9000000000001,396.21,411.19,5.5240999999999998]
["1996M04",20.66,21.01,17.77,23.2,39.33,33.67,2.23,3.1,3.56,44.228915096240002,1.4563999999999999,2.7227000000000001,1.9988999999999999,1.6972,1.931025,1.7456449999999999,1.415,756,1015,583,895,562,755,316,582,270,"…","…",132.69,190.37,188.66,327.2,281,244.8,"…",247.52,257.61,"…",0.60516999999999999,0.52878999999999998,1.7151943599999999,1.2350281240000001,3.0922000000000001,12.897,0.67969999999999997,0.498,0.2641,2981.05,270.27,252.48,489.62005483745003,751.36769792347002,521.11,1.825,"…",1.4573,33.5,210.75,173.5,160.4,112.5,1587.23,30,2595.7800000000002,815,6480.9,8042.85,1045.4000000000001,392.85,404.39,5.4208999999999996]
["1996M05",19.06333333333,19.12,16.989999999999998,21.08,38.200000000000003,33.28,2.2400000000000002,2.81,3.6,42.998796596529999,1.5241,2.8498999999999999,2.0106000000000002,1.7266999999999999,1.839466,1.9155139999999999,1.425,778,1015,564,897,552,775,322,591,271,"…","…",137.79,204.02,185.76,332.25,279,244.5,"…",213.43,262.11,"…",0.53571999999999997,0.52009000000000005,1.7015257159999999,1.329826784,3.3439000000000001,13.933199999999999,0.67969999999999997,0.498,0.25109999999999999,2987.62,279.31,261.64999999999998,481.56566629425998,753.09737591143005,535.48,1.8288,"…",1.4843999999999999,33.5,186.125,173.5,169.5,112.5,1589.26,30,2658.26,840.2,6412.4,8026.55,1035.8,391.93,401.42,5.3651999999999997]
["1996M06",18.513333333329999,18.27,17,20.27,38.200000000000003,32.4,2.4900000000000002,2.81,3.6,46.034639839950003,1.5375000000000001,2.7658999999999998,1.8984000000000001,1.6628000000000001,1.741527,1.8494120000000001,1.3975,816,950,563,904,508,762,308,563,266,"…","…",138.13999999999999,197.55,174.88,341.5,285,240.25,"…",180.6,227.34,"…",0.48458000000000001,0.55905000000000005,1.6541263859999999,1.425066368,3.5337999999999998,14.1464,0.68079999999999996,0.49580000000000002,0.26829999999999998,2996.06,280.10000000000002,255.85,502.24076649668001,747.90020714315006,523.62,1.8291999999999999,"…",1.4711000000000001,33.5,182.125,174.63,172.125,112.5,1482.48,30,2173.4,796.5,6191.9,7709.48,1008.5,385.27,392.25,5.1615000000000002]
["1996M07",19.586666666669998,19.61,17.79,21.36,38.4,32.1,2.48,2.78,3.61,45.777361879410002,1.4950000000000001,2.7,1.7077,1.7901,1.8553919999999999,2.1408499999999999,1.3740000000000001,775,993,547,902,476,734,312,549,265,"…","…",133.09,197.8,163.63999999999999,358,293,229.2,"…",181.08,202.6,"…",0.42504999999999998,0.52744999999999997,1.6841092179999999,1.4607812120000001,3.5449999999999999,13.558400000000001,0.69689999999999996,0.48060000000000003,0.28239999999999998,3050.38,284.68,259.69,520.28114815251001,743.96678033917999,521.39,1.758,"…",1.3513999999999999,32.9,188,175.63,184.5,112.5,1458.7,30,1985.57,783.7,6250.2,7203.65,1000.1,383.47,393.66,5.0652999999999997]
["1996M08",20.440000000000001,20.58,18.77,21.97,38.35,32.03,2.0299999999999998,2.79,3.68,40.407808351390003,1.5008999999999999,2.7827000000000002,1.7464999999999999,1.7371000000000001,1.954701,1.8214490000000001,1.4350000000000001,742,970,539,885,513,725,317,565,270,"…","…",115.01,185.5,152.47,335.5,276,213,"…",174.99,191.63,"…",0.40565000000000001,0.52725,1.755318444,1.47048154,3.5133000000000001,13.1175,0.67659999999999998,0.49270000000000003,0.2727,3140.87,286.56,263.48,513.83399209486004,743.42955556098002,538.27,1.6830000000000001,"…",1.3033999999999999,32.5,189.875,178.6,187,112.5,1463.36,30,2008.57,815.7,6110.2,7054.36,1006.9,387.35,400.03,5.1353999999999997]
["1996M09",22.25666666667,22.59,20.260000000000002,23.92,38.1,33.380000000000003,1.84,2.79,3.68,38.100567486389998,1.476,2.6168999999999998,1.6389,1.7435,2.1046170000000002,1.6786540000000001,1.4472,721,929,566,879,545,707,319,569,286,"…","…",103.4,145.38999999999999,130.35,328.4,274,214.4,"…",169.71,178.71,"…",0.39639000000000002,0.52842,1.745397654,1.47048154,3.4718,13.0899,0.68079999999999996,0.49320000000000003,0.26279999999999998,3149.7,282.74,258.69,506.99062067352003,755.30517965912998,537.61,1.6612,"…",1.3048999999999999,32.5,186.7,181.5,181.4,112.5,1407.38,30,1941.45,796.4,6101.9,7318.05,1000.3,383.14,389.86,5.0388000000000002]
["1996M10",23.61,24.18,21.71,24.94,37.6,34.25,2.37,2.94,3.79,45.324175370680003,1.4770000000000001,2.7381000000000002,1.6075999999999999,1.7265999999999999,2.1416059999999999,1.546468,1.4918750000000001,722,917,581,874,532,693,290,528,270,"…","…",102.41,127.85,113.32,312.75,260,208,"…",158.44,178,"…",0.37545000000000001,0.47370000000000001,1.793899294,1.447994416,3.5926,13.1175,0.69230000000000003,0.49299999999999999,0.2452,3157.84,300,252.67,503.22255985445003,758.92666564173999,525.09,1.6616,"…",1.2412000000000001,32.5,183.75,182.5,172.25,112.5,1336.34,30,1961.17,741.9,5941.9,7031.39,1003.1,381.07,384.18,4.9276]
["1996M11",22.39,22.64,20.87,23.66,35.700000000000003,34.14,3.03,2.96,4.03,53.596479562459997,1.4676,2.7353000000000001,1.5476000000000001,1.6061000000000001,1.8560110000000001,1.4623949999999999,1.5,760,904,600,868,550,721,286,517,274,"…","…",99.99,117.74,105.55,315,258,205.75,"…",158.21,176.41,"…",0.42659000000000002,0.47499000000000002,1.767223392,1.4513013459999999,3.7719999999999998,13.646599999999999,0.7046,0.48770000000000002,0.23630000000000001,3213.38,303.54000000000002,253.21,558.12313958953996,753.66427692286004,526.22,1.677,"…",1.2703,32.5,188.25,182.5,172.625,112.5,1449.52,30,2230.86,716.6,5991.7,6943.38,1046.5,377.85,381.98,4.8331999999999997]
["1996M12",23.623333333329999,23.9,21.65,25.32,35.35,35.04,3.82,2.96,4.08,63.223618916109999,1.4738,2.5798000000000001,1.3902000000000001,1.6337999999999999,1.824765,1.5634110000000001,1.5131250000000001,777,897,583,868,561,747,289,514,279,"…","…",100.76,117.69,105.77,319.2,263,205.2,"…",158.6,175.7,"…",0.47620000000000001,0.43387999999999999,1.787285434,1.4371917780000001,3.7919,13.834,0.64549999999999996,0.48709999999999998,0.23680000000000001,3261.76,300.38,233.76,543.65450279458003,726.85184544222,518.62,1.7464999999999999,"…",1.2571000000000001,32.5,188.5,182.5,174.5,112.5,1500.29,30,2268.08,688.8,5836.3,6580.75,1036.3,369,370.7,4.8263999999999996]
["1997M01",23.226666666669999,23.47,21.28,24.93,35.229999999999997,34.57,3.31,2.89,4.13,56.731595336719998,1.4278999999999999,2.9291,1.4813000000000001,1.6523000000000001,1.7656210000000001,1.6187929999999999,1.5725,768,893,576,874,567,754,301,534,280,"…","…",98.97,118.36,105.65,356,291,217.5,"…",154.01,175.73,0.93589999999999995,0.66690000000000005,0.42459999999999998,1.765239234,1.4153660400000001,3.7930000000000001,13.889099999999999,0.68959999999999999,0.4824,0.23569999999999999,3333.84,286.14,240.56,516.90081042662996,743.81747336711999,499.93,1.7609999999999999,"…",1.2313000000000001,32.5,188,181.9,173.5,112.5,1575.61,30.15,2434.9299999999998,692.3,5877.7,7071.55,1086.5,355.11,360.1,4.7747000000000002]
["1997M02",20.420000000000002,20.83,18.600000000000001,21.83,34.6,33.799999999999997,2.2200000000000002,2.89,4.22,43.55629326343,1.3726,3.7119,1.6623000000000001,1.6758,1.817979,1.5968899999999999,1.6125,768,870,558,886,580,757,308,527,282,"…","…",97.73,121.67,111.22,347,283,225.75,"…",143.58000000000001,172.35,0.97304999999999997,0.78539999999999999,0.40672999999999998,1.8386530800000001,1.3787693480000001,3.6739000000000002,13.889099999999999,0.65410000000000001,0.4824,0.23830000000000001,3353.29,282.95,235.18,530.52274174153001,753.28368325589997,487.78,1.7730999999999999,"…",1.2206999999999999,32.5,187.375,181,160.375,112.5,1580.01,30.15,2405.85,660.2,5883.2,7734.53,1179.4000000000001,346.58,365.01,5.0721999999999996]
["1997M03",19.329999999999998,19.21,18.09,20.69,34.5,33.4,1.89,2.83,4.25,39.284066661399997,1.5236000000000001,4.2923999999999998,1.7687999999999999,1.7381,1.784457,1.6374299999999999,1.7925,737,908,554,896,559,730,332,541,300,"…","…",99.75,127.6,119.66,323.39999999999998,273,231.6,"…",153.80000000000001,176.61,1.10937,0.76473000000000002,0.41961999999999999,2.04037581,1.362896084,3.4992999999999999,13.9994,0.64570000000000005,0.48080000000000001,0.24490000000000001,3402.27,279.74,242.04,542.00542005420004,756.64171913515997,497.39,1.7771999999999999,"…",1.2266999999999999,32.5,187.4,181,148,112.5,1631.57,30.15,2421.29,694.6,5909.2,7895.87,1254.8,351.81,378.9,5.1962000000000002]
["1997M04",17.88,17.47,16.77,19.399999999999999,35.4,32.99,2.0310000000000001,2.77,4.07,40.589094971290002,1.571,4.5632999999999999,1.7061999999999999,1.8831,1.917767,1.749072,1.9824999999999999,710,920,547,938,562,705,338,541,301,"…","…",97.87,124.4,118,304.5,262,217.25,"…",158.62,183.49,1.02335,0.58974000000000004,0.45118999999999998,1.997606182,1.35143206,3.3109999999999999,14.412699999999999,0.63360000000000005,0.47910000000000003,0.24909999999999999,3451.87,277.66000000000003,240.16,555.31453362256002,749.83030892449005,486.03,1.7392000000000001,"…",1.1506000000000001,32.5,188.5,177.63,135,112.5,1561.44,30.15,2391.1799999999998,642.5,5713.3,7315.52,1240.4000000000001,344.47,371.08,4.7725999999999997]
["1997M05",19.367433333329998,19.142499999999998,18.454999999999998,20.504799999999999,35.729999999999997,32.53,2.2400000000000002,2.74,4.03,42.957340987530003,1.5691999999999999,5.8922999999999996,2.0634999999999999,2.0609000000000002,1.982243,2.2103769999999998,1.99,654,953,548,981,553,668,298,541,300,"…","…",100.07,118.77,114.2,324.5,267,215.5,"…",152.65,172.59,0.97484000000000004,0.38580999999999999,0.47014,1.8975164339999999,1.3423931179999999,3.3391000000000002,14.6387,0.63490000000000002,0.47839999999999999,0.2447,3557.14,278.60000000000002,252.18,600.72086503804996,747.55718951969004,512.65,1.7493000000000001,"…",1.1067,32.5,188.5,170,113.125,112.5,1625.25,30.15,2514.33,618.6,5711.2,7482.85,1310.5,343.84,387.5,4.7496]
["1997M06",17.920000000000002,17.55,17.34,18.87,34.5,32.28,2.2000000000000002,2.76,4.03,42.566685516379998,1.6882999999999999,4.8947000000000003,1.9563999999999999,2.0823999999999998,2.0195729999999998,2.2956949999999998,1.9319999999999999,637,969,558,1047,533,635,278,550,274,"…","…",94.94,112.05,104.28,323.2,266,220.6,"…",131.59,148.38999999999999,0.79871999999999999,0.46778999999999998,0.43974999999999997,1.7564207540000001,1.3423931179999999,3.3344,14.8812,0.63929999999999998,0.47689999999999999,0.252,3604.59,283.07,264.32,591.86824498198996,744.94231422445,525.38,1.7765,"…",1.1120000000000001,32.5,187,170,108.5,112.5,1567.55,30.15,2612.62,614.9,5566.1,7062.48,1354.2,340.76,430.76,4.7568999999999999]
["1997M07",18.329999999999998,18.399999999999999,17.29,19.3,35,31.27,2.19,2.67,3.89,41.922545099110003,1.6775,4.1978,1.756,2.1856,1.9539139999999999,2.595415,2.0074999999999998,597,987,581,1096,498,594,306,535,248,"…","…",91.66,106.06,96.21,320,267,215.75,"…",127.78,136.21,0.9153,0.43817,0.51549999999999996,1.8022768499999999,1.35143206,3.3530000000000002,14.917999999999999,0.63290000000000002,0.4859,0.24740000000000001,3582.17,283.77,254.34,570.85181017935997,705.70634147718999,512.34,1.7936000000000001,"…",0.93869999999999998,32.5,186.875,168.2,112.5,112.5,1591.99,30.15,2450.46,634.29999999999995,5442.7,6835.5,1518,324.10000000000002,415.52,4.3723999999999998]
["1997M08",18.7,18.71,17.77,19.62,36.93,31.03,2.4700000000000002,2.67,3.69,45.187190713930001,1.653,4.2064000000000004,1.6413,2.2448000000000001,2.0958399999999999,2.431108,2.2075,567,924,621,1093,504,556,265,544,258,"…","…",91.3,112.92,104.06,285,246,209.25,"…",140.91,150.61000000000001,0.92198999999999998,0.41887999999999997,0.57150999999999996,1.8386530800000001,1.3825172020000001,3.2166999999999999,15.4544,0.59899999999999998,0.49070000000000003,0.25790000000000002,3576.49,285.70999999999998,244.23,556.00322320708995,649.00887436919004,500.42,1.7895000000000001,"…",0.91579999999999995,32.5,186.625,163.5,102.5,112.5,1710.58,30.15,2251.1999999999998,608.1,5428.4,6761.3,1653.5,324.01,424.55,4.4964000000000004]
["1997M09",18.661746031749999,18.45,17.95,19.585238095240001,37.15,29.88,2.84,2.7,3.69,49.822857885879998,1.7655000000000001,4.1859000000000002,1.6568000000000001,2.2113,2.1778909999999998,2.374009,2.0819999999999999,615,964,637,1083,525,603,269,555,266,"…","…",92.51,112.24,106.79,270.60000000000002,239,202.8,"…",143.22,151.74,1.07942,0.44850000000000001,0.54713000000000001,1.7888286680000001,1.39001291,3.2115,15.5756,0.58279999999999998,0.4914,0.24979999999999999,3635.2,283.77,232.74,581.88831069511002,595.33682165190999,479.11,1.7558,"…",0.86860000000000004,32.5,186.6,163.5,88.3,112.5,1610.6,30.15,2107.3000000000002,634.29999999999995,5496.3,6503.84,1640.9,322.82,424.73,4.7319000000000004]
["1997M10",20.04,19.850000000000001,19.059999999999999,21.21,37.15,29,3.04,2.63,3.62,51.871329827099999,1.7410000000000001,3.6962999999999999,1.6429,2.2801,2.2389209999999999,2.3765160000000001,2.2250000000000001,627,1054.04,658,1083,547,619,278,611,260,"…","…",102.71,120.36,112.83,265.75,233,192.25,"…",143.65,151.59,1.0515399999999999,0.38030000000000003,0.49347000000000002,1.7645778480000001,1.3146149060000001,3.2725,15.256,0.59440000000000004,0.49049999999999999,0.25090000000000001,3621.51,295.98,227.39,585.46022264457997,533.26371042330004,454.33,1.7141,"…",0.873,32.5,186,164.3,87.5,112.5,1607.86,30.15,2052.2600000000002,600.29999999999995,5561.3,6380.33,1280.0999999999999,324.87,423.12,5.0347999999999997]
["1997M11",19.086666666669998,19,18.38,19.88,33.6,27.69,3.02,2.66,3.68,51.811731184659997,1.6963999999999999,3.5333000000000001,1.6763999999999999,2.3323,2.2256260000000001,2.3887969999999998,2.3824999999999998,616,1199,716,1090,556,611,288,676,276,"…","…",102.27,117.22,112.33,252.5,221,180.66666666667001,"…",138.22999999999999,149.88,0.97497,0.43403000000000003,0.41498000000000002,1.8346847639999999,1.2689792719999999,3.3860999999999999,15.138500000000001,0.6149,0.48280000000000001,0.26479999999999998,3628.68,293.52,214.79,576.77077235631998,519.40097693091002,439.04,1.7025999999999999,"…",0.84060000000000001,32.5,185.5,169.38,90.625,112.5,1598.99,30.15,1917.45,563.4,5658,6139.5,1173,306.04000000000002,392.29,5.0778999999999996]
["1997M12",17.09,17,16.18,18.09,31.4,27.75,2.33,2.65,3.6,43.331064581809997,1.7387999999999999,3.9119000000000002,1.821,2.3746,2.2615970000000001,2.465579,2.3966669999999999,586,1220,721,1058,566,590,284,622,264,"…","…",97.08,113.45,110.23,269.67,237,195.66666666667001,"…",135.74,144.62,0.85777000000000003,0.42438999999999999,0.35293999999999998,1.85298311,1.2341462759999999,3.3302999999999998,15.101599999999999,0.60560000000000003,0.4824,0.27229999999999999,3631.5,286.14,211.1,554.60320661490005,475.52447552448001,425.1,1.6391,"…",0.72550000000000003,32.5,185.5,172.5,90,112.5,1530.51,30.15,1762.33,526.6,5513.8,5945.36,1102.2,288.74,365.42,5.8368000000000002]
["1998M01",15,15.09,13.4,16.510000000000002,31.4,27.5,2.1,2.65,3.54,40.497439152520002,1.6707000000000001,3.9198,1.8389,2.4775,2.3775439999999999,2.5049860000000002,2.5499999999999998,558,1146,703,1055,621,590,273,625,231,"…","…",95.77,114.71,111.44,288,247,184.75,"…",130.21,137.1,1.0164200000000001,0.45815,0.36163000000000001,1.815063646,1.2235640999999999,3.2326999999999999,15.322100000000001,0.59570000000000001,0.48170000000000002,0.254,3583.29,287.66000000000003,197.1,534.22315734104995,413.36406006179999,409.42,1.5904,"…",0.67620000000000002,32.5,184,172.5,86.25,112.5,1485.79,31,1688.45,531.6,5206.3,5491.75,1097.2,289.10000000000002,373.86,5.8871000000000002]
["1998M02",14.1,14.06,12.43,15.81,33.44,26.76,2.2200000000000002,2.63,3.43,41.785040111779999,1.6432,3.9281999999999999,1.8378000000000001,2.5139,2.3634360000000001,2.3706499999999999,2.8075000000000001,559,1079,699,1029,659,620,273,634,214,"…","…",91.49,113.38,111.73,297.25,246,186.75,"…",127.32,140.05000000000001,0.96841999999999995,0.43747999999999998,0.3947,1.794119756,1.2303984219999999,3.1036999999999999,15.3956,0.59730000000000005,0.48039999999999999,0.23630000000000001,3497.56,287.8,202.54,526.26385554057003,504.14914748378999,412.69,1.5176000000000001,"…",0.82240000000000002,32.5,183.5,172.5,77.5,112.5,1465.56,31,1664.8,516.4,5242.5,5386.88,1044,297.49,386.08,6.8068999999999997]
["1998M03",13.123333333330001,13.08,11.53,14.76,31.88,26.74,2.23,2.61,3.44,41.818169334609998,1.7211000000000001,3.4756,1.8120000000000001,2.2342,2.3381989999999999,2.0795309999999998,2.2850000000000001,578,992.5,682,949,671,605,265,652,184,"…","…",93.04,114.21,110.47,296,245,193.2,"…",129.85,138.91999999999999,1.02965,0.45469999999999999,0.40836,1.7910332879999999,1.2548697040000001,3.0394999999999999,15.46,0.60519999999999996,0.4793,0.21690000000000001,3451.77,287.63,190.94,530.86359255810999,506.12837102584001,388.53,1.5085999999999999,"…",0.74490000000000001,32.5,183.5,172.5,84.5,112.5,1437.7,31,1747.98,559.79999999999995,5476.8,5395.8,1047.5999999999999,295.94,398.99,6.2428999999999997]
["1998M04",13.5,13.39,11.79,15.32,31.18,27.35,2.42,2.54,3.19,43.623258610070003,1.7202,3.3146,1.9615,2.1989999999999998,2.200361,2.4433669999999998,1.953333,618,940,684,928,688,643,259,662,165,"…","…",91.85,107.12,103.9,311.5,259,196.75,"…",118.33,130.15,1.0388500000000001,0.77437,0.44383,1.794119756,1.2703020439999999,2.9662000000000002,15.7906,0.60909999999999997,0.48809999999999998,0.21340000000000001,3493.49,287.67,166.49,534.24072064964002,505.97917464676999,372.14,1.4483999999999999,"…",0.77229999999999999,32.5,185,173.7,100,112.5,1418.16,31,1800.9,572.70000000000005,5714.8,5393.88,1097,308.29000000000002,413.75,6.3410000000000002]
["1998M05",14.02666666667,14.39,12.79,14.9,30.28,27.63,2.14,2.5099999999999998,3,39.951771128840001,1.7814000000000001,3.0362,2.0005000000000002,2.0272000000000001,2.2145670000000002,2.3095270000000001,1.5575000000000001,723,930,685,900,705,776,247,671,162,"…","…",93.01,106.1,100.81,318.25,258.75,197,"…",112.29,128.91999999999999,1.10259,0.65793999999999997,0.44874999999999998,1.7782464920000001,1.302489496,2.6282999999999999,15.917400000000001,0.59109999999999996,0.4919,0.20349999999999999,3391.41,285.85000000000002,146.68,520.84208404038998,472.68616002405003,362.69,1.4189000000000001,"…",0.78239999999999998,32.5,186.5,176.34,95,112.5,1364.72,31,1732.53,543.5,5874.7,5020,1061.0999999999999,299.10000000000002,388.9,5.5750000000000002]
["1998M06",12.478999999999999,12.058,11.673,13.706,30,27.33,2.17,2.5,3,40.268532594150003,1.7234,2.7542,1.8239000000000001,1.911,2.0430000000000001,2.1321870000000001,1.5580000000000001,652,989,675,891,633,700,242,629,159,"…","…",91.57,104.23,96.51,325.5,268.33,205.5,"…",107.18,120.64,1.10362,0.65793999999999997,0.45759,1.701305254,1.3787693480000001,2.5737000000000001,15.278,0.58740000000000003,0.4945,0.17860000000000001,3329.61,274.49,137.41,515.7125983597,451.42137368224002,348.59,1.5199,"…",0.70299999999999996,32.5,189.2,177.5,88.4,112.5,1307.24,31,1660.52,528.29999999999995,5970,4475.7,1009.8,292.32,355.43,5.2629999999999999]
["1998M07",12.69966666667,12.01,11.977,14.112,30,26.55,2.17,2.4,2.84,39.684736300940003,1.7166999999999999,2.5926,1.6983999999999999,1.9812000000000001,1.9786999999999999,2.2823829999999998,1.6825000000000001,667,1034,660,874,661,694,238,612,157,"…","…",85.2,100.51,95.44,324.25,266.25,211,"…",96.78,118.9,1.0223599999999999,0.45607999999999999,0.54293000000000002,1.6717633460000001,1.484591108,2.4251,14.2639,0.58350000000000002,0.49980000000000002,0.19009999999999999,3283.3,273.82,134.96,510.29721701323001,437.53623346933,348.53,1.5401,"…",0.70279999999999998,32.5,190.5,177.5,86,112.5,1309.21,31,1651.04,546.20000000000005,5653.7,4325.43,1040.3,292.87,378.43,5.4551999999999996]
["1998M08",12.487966666669999,11.8805,12.180999999999999,13.4024,26.2,26.3,1.85,2.37,2.79,35.622363073220001,1.6825000000000001,2.7162999999999999,1.748,1.9522999999999999,2.0287000000000002,2.1263700000000001,1.702,667,1087.5,670,862,674,692,219,592,145,"…","…",73.2,87.86,91,321.39999999999998,274.8,228.8,"…",92.85,107.95,0.96675999999999995,0.35308,0.50680000000000003,1.657212854,1.56197327,2.4514999999999998,13.7789,0.57830000000000004,0.48980000000000001,0.18820000000000001,3237.58,275.22000000000003,136.94,512.91032826261005,455.57320103554002,335.25,1.5031000000000001,"…",0.65349999999999997,32.5,190.5,175,85.5,112.5,1310.9,31,1620.93,536.70000000000005,5691.5,4080.63,1029.8,284.11,369.18,5.1791999999999998]
["1998M09",13.80333333333,13.36,13.07,14.98,27.09,26.43,2.0099999999999998,2.33,2.74,37.341269148969999,1.6859,2.4659,1.7593000000000001,1.8964000000000001,1.9104000000000001,2.0263,1.7524999999999999,652,965,681,852,703,697,216,615,145,"…","…",73.12,86.31,85.04,321.25,280,237,"…",96.34,107.93,1.07839,0.35446,0.49906,1.636489426,1.5666029720000001,2.6556000000000002,13.1175,0.59589999999999999,0.48349999999999999,0.15939999999999999,3209.48,289.13,150.19,534.45012966986997,503.4965034965,349.2,1.4636,"…",0.68279999999999996,32.5,190.5,172.5,83.625,112.5,1342.27,31,1647.64,520.20000000000005,5485.7,4102.16,1000,288.98,361.15,4.9992000000000001]
["1998M10",13.263333333329999,12.56,12.81,14.42,27.1,26.08,1.89,2.17,2.76,35.136978691560003,1.6475,2.4188999999999998,1.7703,1.8593,1.8387,2.0017,1.7375,695,955,662,850,694,714,223,614,151,"…","…",74.739999999999995,95.53,87.7,298.75,271,251.75,"…",107.64,126.54,0.90868000000000004,0.33289999999999997,0.433,1.637150812,1.52449473,2.7534000000000001,12.412000000000001,0.60780000000000001,0.47749999999999998,0.16450000000000001,3269.39,300.27,162.94999999999999,555.05004549591001,510.48951048951,379.23,1.355,"…",0.7288,32.5,189.625,171.55,75.625,112.5,1304.06,31,1586.39,492.8,5432.1,3871.93,940.5,295.93,342.6,5.0091999999999999]
["1998M11",11.88,10.92,11.76,12.96,26.1,26.7,2.1030000000000002,2.15,2.78,37.641987568940003,1.5999000000000001,2.5655000000000001,1.7672000000000001,1.7975000000000001,1.8761000000000001,1.9283999999999999,1.5880000000000001,752,890,601,862,681,746,234,614,163,"…","…",79.260000000000005,98.12,92.21,270,250.67,231,"…",115.28,130.21,0.96079999999999999,0.56011,0.42824000000000001,1.6598583979999999,1.4793000199999999,2.6328999999999998,12.015000000000001,0.60760000000000003,0.48130000000000001,0.1777,3183.02,292.64999999999998,159.44999999999999,523.21662942073999,513.98601398600999,389.78,1.2363999999999999,"…",0.71870000000000001,32.5,186.7,167.5,70.7,112.5,1294.96,31,1573.95,494.2,5478.3,4131.91,967.1,294.12,347.18,4.9733000000000001]
["1998M12",10.41,9.8000000000000007,10.119999999999999,11.31,26.1,26.7,1.74,2.13,2.72,33.098214086360002,1.5241,2.5880000000000001,1.8532,1.7032,1.726,1.7703,1.6133,774,857,541,861,663,763,230,591,168,"…","…",78.39,95.76,90.2,277.75,251.5,232.75,"…",104.11,126.21,0.86294999999999999,0.37685000000000002,0.38391999999999998,1.656992392,1.4307983799999999,2.5409999999999999,12.125,0.6109,0.48920000000000002,0.17810000000000001,3103.56,294.64,163.46,517.84789557328997,534.96503496503999,416.59,1.2345999999999999,"…",0.67110000000000003,32.5,182.83333333332999,167.5,65.5,112.5,1249.06,31,1473.57,501.3,5257.6,3878.21,959.2,291.68,351.79,4.8775000000000004]
["1999M01",11.443333333329999,11.06,10.78,12.49,26.1,26.5,1.86,2.02,2.77,34.06635658479,1.4558,2.4903,1.8142,1.7612000000000001,1.7988,1.7347999999999999,1.75,763,880,444.26,952.71,632,744,221,541.63,166.24,"…","…",77.709999999999994,97.44,91.13,299.75,258.75,233.5,"…",103.18,125.29,1.10873,0.48859999999999998,0.41737000000000002,1.706155418,1.3873673660000001,2.496,12.12541,0.60360000000000003,0.49409999999999998,0.17879999999999999,3111.44,291.19,176.22,508.91948358065002,538.46153846154004,441.77,1.2297,0.59789999999999999,0.7147,32.5,181.75,166.38,64.5,112.5,1218.46,27.59,1431.18,492.3,5109.8,4268.75,932.8,287.08,355.11,5.1393000000000004]
["1999M02",10.75333333333,10.199999999999999,10.050000000000001,12.01,26.1,26.38,1.77,2.0099999999999998,2.78,32.93268823415,1.4111,2.3254000000000001,1.7466999999999999,1.6569,1.5386,1.6620999999999999,1.77,745,857.5,426.97,889.57,561,709,205,482.36,159.25,"…","…",75.31,94.19,90.09,280,239.5,212,"…",94.96,117.03,1.0657799999999999,0.44678000000000001,0.40397,1.7925765220000001,1.35032975,2.4592000000000001,12.015179,0.59550000000000003,0.49249999999999999,0.15040000000000001,3173,281.83999999999997,177.12,444.11041268105998,538.46153846154004,420.02,1.2387999999999999,0.55869999999999997,0.68700000000000006,41.125,181.625,163,64,112.5,1186.8499999999999,27.59,1410.78,513.70000000000005,5268.5,4626.38,1017.3,287.33,364.07,5.5305999999999997]
["1999M03",13.16666666667,12.47,12.37,14.66,26.1,25.05,1.79,1.95,2.78,32.890317350250001,1.3139000000000001,2.3233999999999999,1.6186,1.6099000000000001,1.4709000000000001,1.4709000000000001,1.8879999999999999,700,837.83,407.39,752.45,497,661,205,444.36,162.63,"…","…",75.2,96.18,91.41,256.2,220.6,197.2,"…",100.24,117.34,1.1040000000000001,0.44780999999999999,0.43963999999999998,1.7575230639999999,1.3007257999999999,2.4557000000000002,12.235640999999999,0.59240000000000004,0.49690000000000001,0.13289999999999999,3058.83,273.74,172.52,431.34197123281001,555.94405594405998,417.44,1.2483,0.52239999999999998,0.63670000000000004,44,181.75,163,75.5,112.5,1181.5899999999999,27.59,1378.35,507.8,5360.2,5011.3,1030,285.95999999999998,369.93,5.1942000000000004]
["1999M04",15.86666666667,15.3,14.96,17.34,26.1,25.05,2.15,1.87,2.76,36.868063947810001,1.1778999999999999,2.2511000000000001,1.5282,1.7161,1.4741,1.8076000000000001,1.8667,827,854.5,390.98,663.89,509,776,207,442.68,165.3,"…","…",79.73,94.13,89.53,235.5,204.5,184,"…",99.65,113.87,0.86121000000000003,0.4214,0.44713999999999998,1.723571916,1.2722862020000001,2.5417000000000001,12.235640999999999,0.58889999999999998,0.49819999999999998,0.1195,3006.36,269.25,175.18,424.27506078556002,559.44055944056004,434.04,1.2728999999999999,0.52359999999999995,0.59150000000000003,44,180.5,163,64.5,112.5,1278.2,27.59,1466,519.29999999999995,5393,5102.63,1019,282.62,357.15,5.0602999999999998]
["1999M05",16.06333333333,15.14,15.3,17.75,26.1,25.05,2.25,1.89,2.88,38.258779983659998,1.0676000000000001,2.4487000000000001,1.4978,1.9231,1.458,2.6012,1.71,874,858.42,374.92,762.17,475,755,199,421.5,147.29,"…","…",81.53,92.49,87.19,244.25,207,184.25,"…",96.59,113,0.89471000000000001,0.33068999999999998,0.44424999999999998,1.727981156,1.3139535200000001,2.6747000000000001,12.235640999999999,0.59079999999999999,0.49930000000000002,0.1263,3041.54,251.31,176.52,429.65773302852,580.41958041958003,425.69,1.3206,0.55049999999999999,0.59699999999999998,44,180.5,163,64.900000000000006,112.5,1323.46,27.59,1511.16,541.5,5649.2,5399.34,1040.3,276.44,356.01,5.2618999999999998]
["1999M06",16.393333333329998,15.77,15.52,17.89,26.1,25.25,2.2999999999999998,1.91,2.93,38.994902784590003,1.1629,2.3635999999999999,1.446,1.8042,1.4434,2.2917999999999998,1.6775,796,868.18,424.17,836.25,392,656,194,405.88,146.09,"…","…",80.540000000000006,93.65,85.98,253.8,223.2,200.2,"…",92.94,111.41,0.71648000000000001,0.28660000000000002,0.48443999999999998,1.721146834,1.3439363520000001,2.6793999999999998,12.345872,0.58360000000000001,0.49890000000000001,0.13320000000000001,3041.54,245.21,183.55,419.23083007704003,608.39160839161002,430.1,1.2897000000000001,0.55400000000000005,0.60360000000000003,44,180.5,161.75,63.75,112.5,1315.31,27.59,1422.48,496.1,5265.9,5195,1000.5,261.31,356.78,5.0269000000000004]
["1999M07",18.986666666670001,19.010000000000002,17.88,20.07,26.1,23.78,2.31,2,2.99,39.58484367474,1.1132,2.0911,1.3572,1.8938999999999999,1.6031,2.4138000000000002,1.665,656,875.91,429.73,859.8,319,571,183,391.4,144.18,"…","…",76.86,83.99,76.88,259,231,216,"…",85.3,103.02,0.71606000000000003,0.35481000000000001,0.46027000000000001,1.7800101880000001,1.3476842060000001,2.6396999999999999,12.345872,0.57540000000000002,0.49819999999999998,0.1186,3044.28,243.83,186.53,424.74200855777002,625.87412587412996,423.55,1.1995,0.51090000000000002,0.56610000000000005,44,177,153.88,62.75,112.5,1403.76,27.59,1640,495.8,5230,5700.11,1072.0999999999999,256.08,349.06,5.1797000000000004]
["1999M08",20.27,20.22,19.34,21.25,26.1,23.14,2.79,2.08,3.17,45.9159294293,0.99839999999999995,2.0144000000000002,1.3905000000000001,1.8222,1.6779999999999999,2.1246999999999998,1.6639999999999999,684,820,407.3,849.78,354,689,199,412.37,160,"…","…",75.150000000000006,85.65,81.63,244.5,220.25,202.75,"…",92.78,111.3,0.75793999999999995,0.35136000000000001,0.49236000000000002,1.9248537219999999,1.3318109419999999,2.6922000000000001,12.345872,0.58750000000000002,0.46850000000000003,0.1263,3007.82,250.46,198.44,444.37262664619999,629.37062937063001,441.76,1.1236999999999999,0.53920000000000001,0.56169999999999998,44,172.4,151.25,65.7,112.5,1431.32,27.59,1647.62,503.1,5230.2,6448.69,1130.5999999999999,256.69,350.06,5.2603]
["1999M09",22.7,22.4,21.84,23.86,26.1,22.5,2.54,2.2000000000000002,3.35,43.572511808670001,1.0606,1.8587,1.3132999999999999,2.0083000000000002,1.8387,2.2096,1.9775,704,826.82,395.19,848.78,388,710,207,413.93,176.55,"…","…",71.44,86.47,80.03,229.25,202.5,184.5,"…",102.06,113.19,0.76336000000000004,0.34860999999999998,0.47184999999999999,1.8701791459999999,1.3430545039999999,2.68,11.904947999999999,0.59350000000000003,0.44359999999999999,0.14699999999999999,3034.31,247.15,202.78,456.17517126577002,643.35664335664001,455.51,1.0908,0.59670000000000001,0.54149999999999998,44,164.375,147.5,67.5,112.5,1492.48,27.59,1750.34,507.3,5342.5,7028.41,1193.8,264.74,370.93,5.2088999999999999]
["1999M10",21.95,21.95,21.26,22.64,25.6,22.5,2.72,2.4700000000000002,3.57,47.190940188730004,1.0215000000000001,2.0768,1.2901,2.0558000000000001,1.8664000000000001,2.306,1.9950000000000001,690,854.76,379.2,888.15,381,684,203,399.53,187.62,"…","…",72.290000000000006,85.8,78.430000000000007,217,190.25,169.75,"…",98.67,108.1,0.76549,0.32724999999999999,0.51798999999999995,1.8527626479999999,1.2934505540000001,2.7218,12.12541,0.60609999999999997,0.4284,0.14879999999999999,2929.71,269.27999999999997,198.38,481.44400561412999,643.35664335664001,462.38,1.0457000000000001,0.67930000000000001,0.64729999999999999,44,157,145.13,65.375,112.5,1474.41,27.59,1724.12,497.1,5430.7,7321.19,1148.7,310.72000000000003,421.14,5.4123000000000001]
["1999M11",24.163333333330002,24.59,23.05,24.85,25.1,23.5,2.36,2.5099999999999998,3.73,43.117883868040003,0.92210000000000003,2.4996,1.39,1.9539,1.8395999999999999,2.21,1.8120000000000001,703,916.36,376.36,924.94,370,693,198,387.31,183.36,"…","…",73.14,85.43,79.37,228,199.2,172,"…",96.91,108.8,0.72504999999999997,0.33241999999999999,0.34037000000000001,1.927058342,1.2897027000000001,2.6656,12.676565,0.59350000000000003,0.3836,0.14349999999999999,2961.74,307.48,198.59,504.58860260493998,643.35664335664001,466.86,1.0187999999999999,0.76390000000000002,0.74050000000000005,44,148.30000000000001,138,66,112.5,1472.76,27.59,1727.55,478.3,5842.1,7949.55,1147.2,293.18,434.02,5.1538000000000004]
["1999M12",25.1,25.59,23.63,26.08,25.1,22.58,2.36,2.66,3.94,43.97325348519,0.91879999999999995,2.7439,1.4724999999999999,1.8636999999999999,1.7823,1.9823,1.8267,703,913.33,438.08,765.61,354,681,199,374.67,183.5,"…","…",72.36,87.18,81,233.75,198.75,155.25,"…",92.06,102.16,0.72648000000000001,0.34964000000000001,0.33906999999999998,1.9391837519999999,1.2897027000000001,2.6139000000000001,13.558413,0.59,0.3896,0.1318,3083.62,300.54000000000002,199.49,493.19544410709,643.35664335664001,467.47,0.97440000000000004,0.69579999999999997,0.65410000000000001,44,147.5,138,66.833333333330003,112.5,1554.48,27.59,1764.75,479.1,5721.3,8083.38,1183.8,283.07,439.13,5.1573000000000002]
["2000M01",25.31,25.38,23.28,27.27,25.1,22.78,2.42,3.36,4.1500000000000004,48.171910295080004,0.91849999999999998,2.4496000000000002,1.1724000000000001,1.8548,1.8272999999999999,1.8612,1.8759999999999999,654,875,444.26,676.08,348,628,208,369.79,195.1,"…","…",73.13,93.29,89.34,241.4,201.6,158.19999999999999,"…",98.56,105.83,0.88546000000000002,0.48226000000000002,0.34889999999999999,1.9493250040000001,1.283750226,2.7269000000000001,13.999337000000001,0.60009999999999997,0.39,0.1241,3038.81,301.32,193.08,509.92814648845001,643.35664335664001,456.44,1.0457000000000001,0.70689999999999997,0.64470000000000005,44,147.19999999999999,138,77.400000000000006,112.5,1680.28,28.79,1843.98,472.1,5927.8,8309.5,1178.8,284.32,441,5.1882000000000001]
["2000M02",27.220966666670002,27.704799999999999,24.677099999999999,29.280999999999999,25.1,23.62,2.65,3.46,4.21,51.480932963329998,0.8569,2.2805,1.0771999999999999,1.8122,1.8080000000000001,1.5236000000000001,2.105,591,880,426.97,687.63,332,580,214,357.94,203.33,"…","…",73.36,95.15,89.89,241,199,156.66666666667001,"…",100.06,107.93,0.91962999999999995,0.57870999999999995,0.32358999999999999,1.9616708759999999,1.2705225060000001,2.6978,14.109567999999999,0.58509999999999995,0.3765,0.1173,2985.46,292.31,184.11,494.68587446970997,643.35664335664001,439.12,1.1845000000000001,0.73040000000000005,0.7369,44,144.5,138,90.125,112.5,1670.27,28.79,1800.83,452.4,5642.1,9653.33,1094.9000000000001,299.86,519.71,5.2466999999999997]
["2000M03",27.49,27.47,25.08,29.92,25.1,24.4,2.79,3.51,4.46,53.588077321390003,0.92589999999999995,2.2206999999999999,1.0196000000000001,1.7514000000000001,1.8245,1.3671,2.0625,552,880,407.39,733.28,349,556,221,363.49,204.74,"…","…",74.400000000000006,95.05,91.73,225.75,187.5,151.5,"…",97.19,105.7,0.86436000000000002,0.48226000000000002,0.29918,1.983717076,1.2621449499999999,2.6998000000000002,14.440261,0.57779999999999998,0.40539999999999998,0.11269999999999999,3030.14,286.74,190.87,499.96323799721,636.36363636364001,448.84,1.2632000000000001,0.65549999999999997,0.68220000000000003,44,143,138,88.75,112.5,1577.05,28.79,1739.39,441.3,5457.8,10280.11,1116.4000000000001,286.39,479.33,5.0648999999999997]
["2000M04",23.47,22.54,22.03,25.84,25.1,24.94,3.03,3.68,4.6399999999999997,57.432611077339999,0.91200000000000003,2.0857999999999999,0.98,1.7887999999999999,1.8110999999999999,1.5254000000000001,2.0299999999999998,550,866.67,390.98,789.81,372,557,229,366.24,198.65,"…","…",76.95,95.2,90.58,214.75,179.75,148,"…",95.19,105.11,0.83696000000000004,0.47709000000000001,0.33749000000000001,1.9771032159999999,1.2621449499999999,2.7042999999999999,14.660723000000001,0.57940000000000003,0.4279,0.13250000000000001,3048.4,281.41000000000003,194.19,490.67005325213,636.36363636364001,455.05,1.2939000000000001,0.64410000000000001,0.7036,44,143,138,83.25,112.5,1457.14,28.79,1678.75,421.1,5384.4,9727.5,1127.5999999999999,279.69,497.55,5.0644999999999998]
["2000M05",27.18666666667,27.34,25.39,28.83,25.6,26.05,3.58,3.55,4.53,63.418925452410001,0.92159999999999997,2.0756000000000001,0.97709999999999997,1.9766999999999999,1.7101999999999999,2.2002999999999999,2.0099999999999998,481,853.33,374.92,793.66,324,483,229,337.97,202.14,"…","…",78.260000000000005,96.35,95.02,198.6,168.8,143.6,"…",104.28,112.14,0.70333000000000001,0.41509000000000001,0.41102,1.986142158,1.2733885119999999,2.5644999999999998,14.881185,0.55469999999999997,0.42149999999999999,0.15260000000000001,2985.18,269.19,189.5,469.35394809498001,629.37062937063001,444.04,1.3335999999999999,0.61709999999999998,0.68769999999999998,44,143,138,91,112.5,1466.79,28.79,1785.62,412.1,5451.2,10130.24,1156.9000000000001,275.19,525.89,4.9795999999999996]
["2000M06",29.620766666670001,29.677299999999999,27.324100000000001,31.860900000000001,25.6,27,4.28,3.6,4.74,72.299258912159999,0.94820000000000004,1.9056999999999999,0.94089999999999996,1.8638999999999999,1.5749,1.9693000000000001,2.0474999999999999,437,837.27,424.17,783.14,315,436,211,330.17,198.5,"…","…",78.48,84.33,79.760000000000005,196,166.75,139.5,"…",99.28,113.51,0.62180999999999997,0.39215,0.42648999999999998,1.9325698920000001,1.3033713440000001,2.5728,14.660723000000001,0.5514,0.42030000000000001,0.1845,2969.94,282.14,194.18,506.40237285683003,629.37062937063001,450,1.3110999999999999,0.59570000000000001,0.66979999999999995,44,142,138,105.125,112.5,1506.31,28.79,1753.18,419.6,5456.8,8410.91,1117.9000000000001,285.73,559.73,4.9976000000000003]
["2000M07",28.176666666669998,28.53,26.027100000000001,29.972899999999999,25.6,27,3.96,3.96,4.8600000000000003,70.206108911550004,0.96709999999999996,1.9257,0.89990000000000003,2.0482999999999998,1.6748000000000001,2.3601999999999999,2.11,400,860,429.73,771.62,312,401,197,339.3,190,"…","…",78.680000000000007,75.27,73.72,189,165.6,142.80000000000001,"…",91.17,108.98,0.63543000000000005,0.30658000000000002,0.40178000000000003,1.8999415159999999,1.3174809119999999,2.5764999999999998,14.770954,0.55149999999999999,0.41510000000000002,0.21249999999999999,2934.73,279.3,191.07,501.31056905910998,604.89510489510997,443.83,1.2873000000000001,0.57899999999999996,0.64829999999999999,44,140.30000000000001,140.25,121.7,112.5,1563.5,28.79,1799.36,452.1,5343.8,8164.41,1136.2,281.58999999999997,560.29,4.9691999999999998]
["2000M08",29.262899999999998,29.43,27.0504,31.308299999999999,25.6,27,4.41,4.01,4.84,75.894775487410001,0.88649999999999995,1.6958,0.84330000000000005,1.9513,1.7564,1.9974000000000001,2.1,371,864.55,407.3,754.36,306,366,198,328.92,190.26,"…","…",75.13,75.58,76.81,186.5,164.25,143.75,"…",90.87,108.36,0.62136999999999998,0.33413999999999999,0.39232,1.8858319480000001,1.3265198540000001,2.5808,14.109567999999999,0.55069999999999997,0.4163,0.23019999999999999,2970.09,278.19,191.08,506.45191203429999,604.89510489510997,443.86,1.3424,0.60729999999999995,0.66080000000000005,44,148.625,142.5,133.375,112.5,1527.63,28.79,1855.86,473.1,5304.8,8006.71,1169.8,274.47000000000003,577.61,4.8864000000000001]
["2000M09",32.082833333330001,32.621000000000002,29.741499999999998,33.886000000000003,27.15,27,5.0599999999999996,4.03,4.9000000000000004,83.923697013430001,0.88270000000000004,1.6707000000000001,0.85609999999999997,1.9611000000000001,1.8755999999999999,1.9003000000000001,2.1074999999999999,332,880,395.19,760.59,288,326,209,312.49,206.52,"…","…",73.209999999999994,80.430000000000007,82.7,179,161,143.66666666667001,"…",97.88,117.49,0.57616000000000001,0.42163,0.36470999999999998,1.8117567160000001,1.36025054,2.4817,13.558413,0.52449999999999997,0.43140000000000001,0.22109999999999999,2938.45,259.19,193.57,471.85736350029998,541.95804195803998,459.01,1.3591,0.60489999999999999,0.65720000000000001,44,157.5,142.5,113.875,112.5,1601.21,28.79,1960.41,487.1,5474.3,8637.98,1224.4000000000001,273.68,591.9,4.8903999999999996]
["2000M10",31.40016666667,30.932300000000001,30.222300000000001,33.045900000000003,27.15,28.18,5.0199999999999996,4.3099999999999996,5.04,84.863923536049995,0.87770000000000004,1.6900999999999999,0.79669999999999996,1.8917999999999999,1.9144000000000001,1.7950999999999999,1.966,340,871.82,379.2,754.58,255,318,203,314.02,205.32,"…","…",76.150000000000006,85.03,89.92,187.5,163.25,136.75,"…",104.33,128.18,0.56006999999999996,0.38235999999999998,0.37984000000000001,1.8199138100000001,1.356502686,2.5352000000000001,13.007258,0.53069999999999995,0.47599999999999998,0.23699999999999999,2970.72,254.12,189.44,462.62510425354998,538.46153846154004,452,1.3425,0.60560000000000003,0.66339999999999999,44,155.9,141.25,111.1,112.5,1500.24,28.79,1898.59,486.1,5282.3,7678.07,1095.9000000000001,270,579.72,4.8301999999999996]
["2000M11",32.331000000000003,32.524090909089999,30.100909090910001,34.368000000000002,27.15,26.17,5.55,4.3899999999999997,5.13,91.741203471290007,0.87960000000000005,1.5771999999999999,0.72330000000000005,1.8187,1.8724000000000001,1.5786,2.0049999999999999,367,899.52,376.36,769.61,257,354,206,316.77999999999997,214.64,"…","…",82.46,89.17,96.12,185,158,127.75,"…",103.21,127.73,0.61048999999999998,0.3679,0.36420999999999998,1.96762335,1.3558413,2.5920999999999998,13.007258,0.52129999999999999,0.47989999999999999,0.21890000000000001,2948.7,254.56,188.11,469.94934990339999,517.48251748252005,449.99,1.4105000000000001,0.60150000000000003,0.63370000000000004,44,153.5,129,99.375,112.5,1473.86,28.79,1795.11,468,5269.5,7339.77,1059,266.01,593.34,4.6814]
["2000M12",25.204666666670001,25.125499999999999,22.085999999999999,28.4025,30.75,34.700000000000003,8.9499999999999993,4.4400000000000004,5.05,133.21217067412999,0.89280000000000004,1.4585999999999999,0.66979999999999995,1.7959000000000001,1.8705000000000001,1.5936999999999999,1.9233,329,880,438.08,806.79,265,317,217,320.57,235.15,"…","…",86.6,97.56,100.45,184.25,158.25,129.5,"…",104.95,128.09,0.71403000000000005,0.44780999999999999,0.30902000000000002,1.93014481,1.3558413,2.6892999999999998,13.007258,0.53469751170000002,0.4708,0.22090000000000001,2893.94,266.63,180.16,485.41034265868001,510.48951048951,436.7,1.452,0.60260000000000002,0.6179,44,153.5,129,96,112.5,1565.41,28.79,1850.55,462.3,5233.7,7314.34,1059.8,271.45,609.5,4.6398000000000001]
["2001M01",25.957272727269999,25.636363636359999,22.68545454545,29.55,32.1,34.950000000000003,8.17,4.6500000000000004,4.88,124.62349996137,0.996,1.4545999999999999,0.71430000000000005,1.8451,1.8511,1.8123,1.8720000000000001,319,907.27,485.75,815.71,254,304,210,304.81,223.35,"…","…",85.75,95.15,101.08,184.4,158.19999999999999,134.19999999999999,"…",110.37,132.84,0.80764999999999998,0.53461999999999998,0.34893000000000002,1.9255151079999999,1.3567231479999999,2.7774000000000001,13.778874999999999,0.53021110999999999,0.47310000000000002,0.22750000000000001,2909.81,278.89,171.87,507.71585074583999,496.5034965035,427,1.4148000000000001,0.59860000000000002,0.60880000000000001,44,154.5,129,121,112.5,1615.65,30.03,1787.5,478.1,5170.5,6994.77,1033.0999999999999,265.49,620.47,4.6570999999999998]
["2001M02",27.23883333333,27.405999999999999,24.742000000000001,29.5685,32.1,34.35,5.63,4.59,4.8,93.439894737740005,0.89259999999999995,1.4813000000000001,0.69620000000000004,1.7043999999999999,1.7850999999999999,1.6054999999999999,1.7224999999999999,285,983.33,460.29,811.08,240,269,200,303.77999999999997,202.2,"…","…",82.31,91.97,97.69,184.5,156.25,134.25,"…",106.74,128.11000000000001,0.91783000000000003,0.68722000000000005,0.40716999999999998,1.9219877160000001,1.3617937739999999,2.8584000000000001,13.999337000000001,0.53153388199999996,0.47489999999999999,0.21759999999999999,2975.29,274,173.43,492.13290400595997,500,439.51,1.3325,0.57110000000000005,0.60189999999999999,44,159,129,105.25,112.5,1604.36,30.03,1765.65,501.8,5121.8,6524.13,1020.9,261.87,600.91999999999996,4.5574000000000003]
["2001M03",25.02257575758,24.395454545450001,23.433636363640002,27.238636363640001,32.6,35.5,5.16,4.57,4.87,87.684854578550002,1.1244000000000001,1.4661,0.67290000000000005,1.5774999999999999,1.7584,1.3017000000000001,1.6725000000000001,289,954.76,431.31,780.64,254,278,195,327.63,205.27,"…","…",83.07,90.25,95.6,175,146.25,125.5,"…",103.49,130.19999999999999,1.0052000000000001,0.54081999999999997,0.55481000000000003,1.9817329180000001,1.3668644000000001,2.9390999999999998,13.889106,0.52839229850000002,0.47510000000000002,0.2044,3032.72,268.45999999999998,166.15,481.85472768324001,500,421.06,1.2029000000000001,0.51819999999999999,0.57430000000000003,44,159.125,129,98.875,112.5,1509.17,30.03,1738.77,498.4,5046.3999999999996,6133.52,1004.7,263.02999999999997,584.23,4.4039999999999999]
["2001M04",25.718,25.640999999999998,24.092500000000001,27.420500000000001,33.5,35.53,5.17,4.4800000000000004,4.7300000000000004,87.283581620749999,1.0843,1.4579,0.62809999999999999,1.5975999999999999,1.6529,1.7048000000000001,1.4350000000000001,293,950,419.93,744.85,251,281,186,326.01,198.19,"…","…",84.72,87.99,94.3,163.75,139,120.75,"…",101.09,129.66999999999999,0.91424000000000005,0.55115999999999998,0.62971999999999995,1.9771032159999999,1.3681871720000001,3.0045000000000002,14.770954,0.56029976376000001,0.47410000000000002,0.19389999999999999,3032.72,265.14,162.52000000000001,469.10055068326,500,411.86,1.1274,0.51200000000000001,0.57850000000000001,44,151.30000000000001,129,95.3,112.5,1496.91,30.03,1664.16,477.5,4949.2,6329.87,969.4,260.48,594.86,4.3650000000000002]
["2001M05",27.546825396829998,28.45047619048,25.58,28.61,33.799999999999997,34.75,4.21,4.3600000000000003,4.66,75.008042293030002,1.0773999999999999,1.526,0.6512,1.5940000000000001,1.4877,1.8317000000000001,1.4624999999999999,295,949,407.18,727.53,234,292,184,295.17,196.96,"…","…",89.73,84.09,94.84,164.33,141.66999999999999,123,"…",102.55,134.86000000000001,0.75485999999999998,0.63658000000000003,0.73433999999999999,2.0077474340000001,1.3897924479999999,2.919,15.211878,0.52123830660000003,0.47070000000000001,0.21129999999999999,3060.66,259.8,165.05,452.98906164648002,482.51748251748,410.07,1.1013999999999999,0.51400000000000001,0.60819999999999996,44,142,125.5,85,112.5,1538.77,30.03,1682.21,466.7,4945,7060.83,938,272.36,610.70000000000005,4.4333]
["2001M06",26.966031746030001,27.724285714290001,25.613809523810001,27.56,33.9,34.75,3.71,4.33,4.6900000000000004,68.814061457180003,0.97330000000000005,1.4088000000000001,0.6431,1.6087,1.4448000000000001,1.9563999999999999,1.425,317,930,415.87,727.53,255,312,188,286.89,206.88,"…","…",95.06,83.31,89.54,168,148.5,129.75,"…",97.42,127.23,0.83545000000000003,0.60972000000000004,0.83055809616999998,2.0529421440000002,1.400815548,2.8142,14.219799,0.51205826891999995,0.46389999999999998,0.1993,3050.33,253.62,164.75,455.20757465404,475.52447552448001,409.32,1.0465,0.51400000000000001,0.62029999999999996,44,133.125,122.5,87.5,112.5,1466.13,30.03,1608.45,444.1,4828.3,6641.19,894.9,270.23,579.72,4.3738000000000001]
["2001M07",24.80367965368,24.53818181818,23.43,26.442857142859999,34,34.35,3.1,3.75,4.66,58.628975134549997,0.96640000000000004,1.2946,0.60470000000000002,1.6841999999999999,1.4357,2.0809000000000002,1.536,358,930,443.35,723.02,330,352,208,421.36,209.09,"…","…",101.98,91.73,94.47,169.4,152.4,137.19999999999999,"…",107.98,123.79,0.63499000000000005,0.69755999999999996,0.96294125248999995,2.1228285979999999,1.416909274,2.7582,15.983495,0.51693929760000001,0.4632,0.1938,3065.2,255.79,159.29,459.11875434523,465.03496503497001,393.1,1.0035000000000001,0.504,0.6048,44,135,123.75,87.5,112.5,1416.39,30.03,1525.21,461.6,4350.8999999999996,5937.05,852.4,267.52999999999997,530.84,4.2542999999999997]
["2001M08",25.821159420290002,25.697826086959999,24.32043478261,27.445217391300002,33.799999999999997,34.15,2.95,3.79,4.54,56.916328793410003,1.0322,1.3166,0.56920000000000004,1.5808,1.518,1.7493000000000001,1.4750000000000001,363,847.5,492.13,738.07,362,350,212,427.49,202.57,"…","…",99.39,93.14,95.13,168.25,153,140.75,"…",105.91,121.92,0.69635999999999998,0.68342999999999998,0.78457564731999996,2.209690626,1.4457897959999999,2.7684000000000002,14.219799,0.52536094600000005,0.46939999999999998,0.17879999999999999,3047.8,267.62,158.99,480.34035545185998,475.52447552448001,402.94,0.95499999999999996,0.52929999999999999,0.58560000000000001,44,135,125,88.75,112.5,1377.08,30.03,1464.43,483,3895.7,5520.8,828.1,272.39,451.7,4.2207999999999997]
["2001M09",25.207666666670001,25.544,23.963999999999999,26.114999999999998,32.799999999999997,33.06,2.15,3.79,4.54,47.201630414470003,1.0243,1.2802,0.53510000000000002,1.5274000000000001,1.5811999999999999,1.6135999999999999,1.3875,322,807,498.98,749.57,310,316,202,385.09,204.25,"…","…",99.61,90.08,94.63,173,161,148.33333333332999,"…",107.57,122.03,0.72677000000000003,0.57181999999999999,0.57753841367000003,2.3591638619999999,1.4656313759999999,2.9903,13.007258,0.53478128725999996,0.47089999999999999,0.16619999999999999,3049.57,270.79000000000002,156.31,486.03685548041,489.51048951049,411.85,0.90969999999999995,0.49349999999999999,0.57969999999999999,44,135,124.38,94.5,112.5,1344.56,30.03,1426.33,464.8,3694.5,5027,798.6,283.42,457.9,4.3529999999999998]
["2001M10",20.731884057969999,20.478260869570001,19.541739130429999,22.175652173909999,32.4,33.03,2.4500000000000002,3.52,4.59,49.594944465810002,1.0849,1.2434000000000001,0.51239999999999997,1.4541999999999999,1.6073999999999999,1.3734,1.3819999999999999,307,713.91,491.98,761.6,277,281.64999999999998,187,373.03,203.7,"…","…",101.79,86.56,94.96,170.6,158.19999999999999,146.19999999999999,"…",115.01,123.34,0.68661000000000005,0.48364000000000001,0.42363003261999999,2.2714199860000002,1.4484353400000001,3.0076999999999998,11.904947999999999,0.53065203400000005,0.46639999999999998,0.1497,2992.43,269.26,149.63999999999999,469.47708537579001,461.53846153846001,404.02,0.82010000000000005,0.48209999999999997,0.53790000000000004,44,135.9,124.38,96.1,112.5,1282.5,30.03,1377.28,468.1,3750.7,4825.33,761.5,283.06,431.39,4.4012000000000002]
["2001M11",18.688181818179999,18.942272727270002,17.532272727270001,19.59,29.4,31.5,2.36,3.46,4.38,48.074528796099997,1.2316,1.2974000000000001,0.52210000000000001,1.4948999999999999,1.6678999999999999,1.4141999999999999,1.4025000000000001,330,714.29,503.93,759.59,323,318.77,189,390.69,207.77,"…","…",100.97,89.54,94.69,173.5,159.25,135,"…",116.36,125.27,0.65076999999999996,0.49603999999999998,0.46599531073,2.2831044720000002,1.418232046,3.0272000000000001,11.684486,0.52611272141999998,0.47020000000000001,0.16950000000000001,2965.41,264.05,142.5,453.61606477907998,461.53846153846001,400.63,0.83779999999999999,0.46700000000000003,0.51380000000000003,44,140.5,130,96.5,112.5,1327.46,30.03,1427.73,486.5,4041.8,5078.41,772.9,276.16000000000003,429.89,4.1226000000000003]
["2001M12",18.51978947368,18.60473684211,17.641999999999999,19.31263157895,27.35,30.45,2.41,3.4,4.2699999999999996,48.321934751610002,1.3373999999999999,1.2504999999999999,0.53680000000000005,1.5088999999999999,1.6091,1.49,1.4275,339,710,533.19000000000005,771.62,359.5,309.19,189,396.87,195.38,"…","…",102.86,91.88,95.87,179.33,163,134.33333333332999,"…",118.2,122.44,0.69608999999999999,0.50636999999999999,0.42575876385,2.1633936060000001,1.393981226,3.0771999999999999,11.464024,0.52622956627999995,0.47239999999999999,0.17269999999999999,2873.44,265.20999999999998,138.13,455.61494417017002,468.53146853147001,386.33,0.94530000000000003,0.47939999999999999,0.48770000000000002,44,141.66666666667001,131,101.16666666667,112.5,1344.63,30.03,1471.74,483.3,4018.5,5263.82,754.7,275.85000000000002,461.73,4.3695000000000004]
["2002M01",19.154812409809999,19.484999999999999,18.291818181819998,19.68761904762,27.35,29.7,2.25,3.06,4.21,44.721994817990002,1.3859999999999999,1.2842,0.50290000000000001,1.4679,1.6556999999999999,1.2904,1.4575,362,685.91,587.55999999999995,684.39,373.8,328.57,188,389.18,206.39,"…","…",99.27,91.98,95.42,191.75,173.5,142.5,"…",121.68,125.31,0.75443000000000005,0.42852000000000001,0.44370590128999998,2.207706468,1.387587828,3.1181999999999999,11.794717,0.52403817399999997,0.46739999999999998,0.17130000000000001,2840.58,262.52,133.28,450.38041707615997,468.53146853147001,369.35,0.95650000000000002,0.53879999999999995,0.56720000000000004,44,146,131,104.125,112.5,1368.59,29.31,1503.96,513.1,3861.9,6043.18,793.2,281.51,472.11,4.5148999999999999]
["2002M02",19.97523684211,20.291499999999999,18.911052631579999,20.723157894740002,28.1,28.95,2.31,3.03,4.12,45.247003556709998,1.4905999999999999,1.3033999999999999,0.5373,1.4547000000000001,1.7023999999999999,1.1568000000000001,1.5049999999999999,376,651,621.95000000000005,617.29,352.98,356,187,364.92,197.15,423.45,578,99.01,90.82,92.87,195.33,172.33,143.75,"…",113.38,123.28,0.86912999999999996,0.51671,0.45461764374000002,2.2328391359999999,1.387146904,3.1095999999999999,11.904947999999999,0.52006985800000005,0.46039999999999998,0.14369999999999999,2785.51,220.53761915829,134.58000000000001,443.70798185580003,486.01398601399001,366.99,0.94359999999999999,0.58309999999999995,0.62439999999999996,44,150.25,138,99.625,112.5,1369.34,29.31,1561.9,480,3730.8,6029.25,771.3,295.5,471.15,4.4231999999999996]
["2002M03",23.64066666667,23.6905,22.854500000000002,24.376999999999999,27.8,28.35,3.03,2.97,3.99,53.616919522800004,1.5927,1.4213,0.64149999999999996,1.4218999999999999,1.7,1.0256000000000001,1.54,366,640,623.36,598.91999999999996,359,353.24,191,359.21,189.95,415.85,557,98.95,89.61,91.66,189,171.5,151.25,"…",116.62,122.54,0.91105999999999998,0.57181999999999999,0.59033406731000004,2.3481407619999999,1.3829581259999999,3.1036999999999999,11.904947999999999,0.52006985800000005,0.4456,0.1477,2756.25,221.05557967547,143.81,446.64151784760998,486.01398601399001,373.49,0.92679999999999996,0.68140000000000001,0.67059999999999997,44,149.75,138,90.25,112.5,1405,29.31,1604.88,480.2,3842.8,6537.5,819.3,294.06,512.04999999999995,4.5392999999999999]
["2002M04",25.434242424240001,25.654090909090002,24.405454545449999,26.243181818179998,27.087499999999999,26.83,3.42,2.81,3.96,57.571874577510002,1.5681,1.4424999999999999,0.64680000000000004,1.4778,1.5976999999999999,1.3456999999999999,1.49,411,631,642.16999999999996,590.24,360.07,405,195,370.86,185.59,410.77,552,95.82,87.13,88.9,190.2,171.6,148.4,"…",112.99,123.72,0.86348000000000003,0.54427000000000003,0.57916412250000004,2.2537830259999998,1.3778874999999999,3.1478000000000002,11.243562000000001,0.52690418000000006,0.43440000000000001,0.15190000000000001,2733.82,223.56202639986,143.94,451.74271824994997,503.4965034965,373.84,0.91269999999999996,0.64219999999999999,0.67400000000000004,44,147.80000000000001,132,84.7,112.5,1369.99,29.31,1590.33,472.4,4023.6,6958.21,808.2,302.68,539.20000000000005,4.5757000000000003]
["2002M05",25.672345191040002,25.387272727269998,24.585217391299999,27.044545454550001,26.875,25.75,3.49,2.83,4.01,58.550864837909998,1.6021000000000001,1.3535999999999999,0.62429999999999997,1.4614,1.4779,1.5164,1.39,420,618.17999999999995,676.43,599.55999999999995,384.91,418.3,197,399.89,187.17,414.82,574,97.55,90.27,89.84,197.5,177,148,"…",110.91,121.46,0.84397,0.62556,0.63550864900000004,2.1164352000000002,1.3966267699999999,3.1842000000000001,11.023099999999999,0.53367236340000002,0.43709999999999999,0.13400000000000001,2766.3,225.66296809171001,153.43,472.21759301971002,503.4965034965,391.35,0.87849999999999995,0.68140000000000001,0.7046,44,143.875,136.1,85.5,112.5,1343.3,29.31,1595.68,451.9,4149.8,6761.36,769.5,314.49,533.85,4.6992000000000003]
["2002M06",24.48805750487,24.127894736839998,23.82777777778,25.508500000000002,24.9,24.38,3.22,2.9,4.0599999999999996,55.638806906749998,1.6591,1.2911999999999999,0.62660000000000005,1.5378000000000001,1.4256,1.7354000000000001,1.4524999999999999,446,700.56,674.16,645.95000000000005,426.13,439,200,456.81,187.35,451.04,595,104.11,94.09,88.74,202.67,182.33,149,"…",115.44,132.03,0.66457999999999995,0.64761000000000002,0.63547215496999998,2.0569104600000001,1.4065475599999999,3.2433000000000001,10.141252,0.54264296217999997,0.44069999999999998,0.1268,2775.45,236.96869950569999,163.55000000000001,496.64046825177002,524.47552447552005,404.54,0.95679999999999998,0.83140000000000003,0.84119999999999995,44,149.5,128.88,92.75,112.5,1353.97,29.31,1647.53,440,4286.1000000000004,7119.86,767.1,321.18,554.70000000000005,4.9043999999999999]
["2002M07",25.754748102139999,25.76782608696,24.57260869565,26.92380952381,23.15,22.73,2.98,2.95,4.5599999999999996,53.300843057069997,1.8711,1.2452000000000001,0.63049999999999995,1.5774999999999999,1.3913,1.8611,1.48,445,728.7,657.82,704.52,422.22,432.61,218,489.63,190.96,477.29,"…",114.23,98.69,100.81,199.6,181,152.4,"…",123.5,149.31,0.65066000000000002,0.53681999999999996,0.65346502594,2.1267969139999998,1.415586502,3.39,10.031021000000001,0.56803797996000005,0.45700000000000002,0.1409,2770.95,242.61191217238999,178.82,515.86104473549005,541.95804195803998,431.96,1.0267999999999999,0.81279999999999997,0.83069999999999999,44,160.5,127.38,94.2,112.5,1338.09,29.31,1589.46,446.1,4331.3,7142.72,794.9,313.29000000000002,526.20000000000005,4.9185999999999996]
["2002M08",26.775800865800001,26.632857142860001,25.32409090909,28.370454545449999,22.25,21.25,3.09,3.01,4.3499999999999996,54.779578668859997,1.9587000000000001,1.1963999999999999,0.61460000000000004,1.5177,1.5012000000000001,1.5569,1.4950000000000001,443,730.95,649.12,758.59,446.09,433.36,227,502.75,189.82,521.14,610,120.99,108.93,113.78,190.33,175,148.33333333332999,"…",130.05000000000001,161.26,0.79147000000000001,0.42026000000000002,0.63759621852000004,2.0954913099999999,1.4133818819999999,3.3654999999999999,9.259404,0.56173717599999995,0.46100000000000002,0.13869999999999999,2722.29,236.82934250994001,181.94,508.41800566402998,559.44055944056004,432.75,1.0889,0.8306,0.8629,44,162.5,133.30000000000001,105,112.5,1291.5999999999999,29.31,1479.55,423.2,3834,6717.14,747.6,310.26,544.84,4.5403000000000002]
["2002M09",28.280793650789999,28.342380952380001,26.83,29.67,22.7,23.08,3.57,3.08,4.46,61.015700113290002,2.1608999999999998,1.3374999999999999,0.70720000000000005,1.5771999999999999,1.6096999999999999,1.5595000000000001,1.5625,410,742.86,646.16,794.71,424.76,414.57,236,505.67,202.1,525.01,"…",119.75,114.14,117.01,186.6,172.2,148.80000000000001,"…",151.84,187.84,0.67896000000000001,0.48570999999999998,0.62668446167000003,2.0372893419999998,1.411838648,3.4352999999999998,9.1491729999999993,0.56859354419999997,0.47439999999999999,0.15340000000000001,2670.53,235.65223080313001,181.95,509.91529756477001,566.43356643357004,427.45,1.0806,0.89549999999999996,0.88939999999999997,44,160.9,135.5,93,112.5,1301.25,29.31,1478.71,421.3,3957.4,6640.24,756.2,319.14,556.33000000000004,4.5536000000000003]
["2002M10",27.526811594200002,27.54869565217,26.18086956522,28.850869565219998,24.5,27.35,4.12,3.28,4.54,68.699549253870003,2.2014999999999998,1.4491000000000001,0.73480000000000001,1.5753999999999999,1.6113,1.5699000000000001,1.5449999999999999,434,778.46,637.64,816.19,427.24,423.09,229,528.57000000000005,201.83,539.30999999999995,"…",120.61,109.7,113.56,186.25,174,157.25,"…",156.82,190.32,0.68383000000000005,0.54427000000000003,0.61427933462999995,1.90479168,1.3889106,3.4662999999999999,9.4798659999999995,0.56936516120000003,0.48130000000000001,0.1656,2687.8,237.33366348394,179.88,505.11798172819999,566.43356643357004,415.78,1.0928,0.83130000000000004,0.82650000000000001,44,156.25,133.1,92.25,112.5,1310.58,29.31,1483.76,418.2,4241.5,6804.46,754.7,316.56,580.20000000000005,4.4013]
["2002M11",24.542481203009999,24.184761904759998,23.15952380952,26.28315789474,24.5,26.98,4.04,3.34,4.5599999999999996,68.026867641129996,1.8118000000000001,1.5404,0.83579999999999999,1.5224,1.5367,1.5154000000000001,1.5149999999999999,457,826.67,626.9,870.83,465.02,456.48,243,582,205.71,593.04,"…",120.13,108.93,115.05,186.75,175.25,158.25,"…",160.02000000000001,177.38,0.64905999999999997,0.39613999999999999,0.47679760845000002,1.912728312,1.36465978,3.5108999999999999,9.4798659999999995,0.57511921939999999,0.49159999999999998,0.1726,2706.18,243.71723688208999,183.47,515.87846649563005,552.44755244755004,424.07,1.1484000000000001,0.84030000000000005,0.83989999999999998,44,151.5,132,92.25,112.5,1372.2,29.31,1582.29,442.2,4230,7313.93,765.3,319.07,588.1,4.5107999999999997]
["2002M12",27.88698412698,28.52095238095,25.704285714289998,29.435714285709999,24.5,26.94,4.74,3.36,4.5599999999999996,76.622308170500006,2.0316999999999998,1.4145000000000001,0.83909999999999996,1.4802999999999999,1.5347,1.4336,1.4724999999999999,482,945.88,622.73,952,488.52,489.95,241,591.03,204.43,616.49,"…",117.19,106.96,113.26,186.5,174,154.25,"…",146.24,162.47999999999999,0.75246000000000002,0.62522,0.42675972763999998,2.0101725159999999,1.3556208380000001,3.5661999999999998,9.259404,0.57981506000000005,0.48559999999999998,0.17530000000000001,2718.02,245.85784664094001,182.22,519.60944416659004,563,421.19,1.2182999999999999,0.84960000000000002,0.84740000000000004,44,147.5,131.5,99.375,112.5,1375.07,29.31,1595.68,443.6,4236.8,7193.16,797.7,331.92,595.44000000000005,4.6313000000000004]
["2003M01",30.750317460320002,31.246666666669999,28.054761904759999,32.949523809520002,24.9,27.462499999999999,5.405869,3.61,4.6900000000000004,85.984771118099999,2.1784349999999999,1.4455690000000001,0.90786250000000002,1.5180579999999999,1.5926800000000001,1.4539949999999999,1.5075000000000001,494,960,639.75,970.03,486.11,491.65,244,540.72,206.2,623.72,612,113.7,106.1361,110.7822,200.75,185.25,152,"…",137.5316,149.608,0.89289039999999997,0.56080019999999997,0.5471338,2.0394939619999999,1.372816874,3.5962670000000001,9.5900970000000001,0.58995631199999998,0.4859927,0.18055840000000001,2655.74,260.18159613444999,187.77950000000001,536.29433525449997,552.44755244755004,421.39080000000001,1.2501150000000001,0.90310000000000001,0.90642460000000002,44,149.75,128.6,112,112.5,1378.2840000000001,31.95,1647.66,444.65899999999999,4435.68,8026.02,781.40899999999999,356.85899999999998,627.91,4.8061999999999996]
["2003M02",32.883377192979999,32.648499999999999,30.199000000000002,35.802631578949999,25.15,27,7.7736840000000003,3.67,4.8,115.09779448892,2.282,1.4640880000000001,0.89661900000000005,1.473034,1.4886200000000001,1.500481,1.43,477,977,629.46,1016.45,476.95,472.75,243,522.42999999999995,214.05,585.76,595,114.15,105.8507,109.2114,198.75,182,150.25,"…",140.77420000000001,150.8382,0.98959470000000005,0.46159230000000001,0.50506269999999998,1.9923150940000001,1.3917766060000001,3.5818050000000001,10.141252,0.58979537473999999,0.4890215,0.19863629999999999,2651.2,263.93183017872002,186.8075,544.01846742539999,548.95104895104998,419.20949999999999,1.2928519999999999,0.94,0.98630839999999997,44,155.25,136,132.125,112.5,1422.16,31.95,1683.8,475.82499999999999,4570.75,8623,785.15,358.97,681.7,4.6551]
["2003M03",30.359206349210002,30.33904761905,27.42285714286,33.315714285710001,24.4,25.75,5.9468569999999996,3.74,4.78,93.233181055049997,1.946807,1.361353,0.8194572,1.394671,1.465689,1.2108239999999999,1.5075000000000001,441,1022.38,620.42999999999995,1039.32,453.55,429.14,241,522.52,213.19,551.91999999999996,565,113.65,105.60469999999999,106.7863,197,180.25,147,"…",129.36070000000001,141.80869999999999,1.0073240000000001,0.48570540000000001,0.63315849999999996,2.01502268,1.4078703319999999,3.5219529999999999,10.141252,0.57875243316000002,0.49052800000000002,0.1814402,2660.52,264.69603172030997,184.1771,545.59546240632994,559.44055944056004,421.81099999999998,1.3495029999999999,0.94579999999999997,1.0636699999999999,44,177.2,143.75,138.9,112.5,1389.2739999999999,31.95,1658.9760000000001,456.66699999999997,4604.5240000000003,8378.81,790.952,340.55,674.33,4.5282999999999998]
["2003M04",25.555968253970001,25.015999999999998,23.43047619048,28.22142857143,23.45,23.824999999999999,5.2893179999999997,4.03,4.78,86.627091726320003,1.9242269999999999,1.426169,0.82496879999999995,1.4410179999999999,1.4336089999999999,1.3869450000000001,1.5024999999999999,421,1050,601.91999999999996,1064.23,443.02,395.23,251,540.9,217.55,557.22,578,114.59,105.45699999999999,106.8138,195,178.6,141.4,"…",125.80110000000001,138.6155,0.89217740000000001,0.38443060000000001,0.67375589999999996,1.9691665840000001,1.400595086,3.5025949999999999,11.464024,0.57575855919999996,0.48187980000000002,0.17085810000000001,2617.6370000000002,265.72379909111999,180.00059999999999,542.29249338624004,559.44055944056004,417.39890000000003,1.339858,0.878,0.99802919999999995,44,181.5,145,118.625,112.5,1332.0129999999999,31.95,1587.4749999999999,437.375,4565.75,7910.125,754.65,328.18,624.91,4.4931999999999999]
["2003M05",26.064912698410001,25.8095,24.252857142860002,28.13238095238,23.3,23.65,5.838044,4.04,4.74,93.310916165009999,1.7355499999999999,1.4607810000000001,0.83334629999999998,1.4623980000000001,1.4444410000000001,1.4202520000000001,1.5225,440,1050,630.08610051993003,1147.4100000000001,453.82,409.23,250,549.24,222.05,607.16999999999996,595,115.5,107.4943,104.962,198,180.75,142.5,"…",129.154,141.96180000000001,0.89256670000000005,0.2962458,0.68479860000000004,1.87613162,1.4241845200000001,3.74403,11.904947999999999,0.59338153417999995,0.48164649999999998,0.1580713,2589.7399999999998,283.39753154966002,183.876,578.36372293150998,552.44755244755004,426.3854,1.275874,0.83699999999999997,0.99965400000000004,44,178.4375,146,128.125,112.5,1398.4880000000001,31.95,1648.2750000000001,463.5,4736.75,8330.625,775.65,355.68299999999999,650.36,4.7412999999999998]
["2003M06",27.91714285714,27.545714285710002,25.495714285710001,30.71,24.1,26.75,5.7719050000000003,4.05,4.7699999999999996,92.575630166470006,1.5710949999999999,1.3456999999999999,0.75420050000000005,1.49152,1.431108,1.540951,1.5024999999999999,459,1037.6199999999999,657.20901213171999,1234.5899999999999,466.21,435.14,239,545.85,219,612.27,609,111.48,107.327,97.581990000000005,203.4,186.2,151.19999999999999,"…",126.2834,131.3528,0.69174599999999997,0.30830229999999997,0.71944280000000005,1.872383766,1.454828738,4.0269550000000001,12.015179,0.60715234799999995,0.47673330000000003,0.1483709,2589.77,285.70429022891,182.33750000000001,572.08267478285995,552.44755244755004,422.81799999999998,1.2850060000000001,0.84430000000000005,1.0305690000000001,44,171.3,148.25,133.9,112.5,1409.845,31.95,1686.5,468.024,4694.7619999999997,8874.7620000000006,790.69,356.35199999999998,661.67,4.5262000000000002]
["2003M07",28.591587615280002,28.398260869569999,26.626956521739999,30.749545454549999,24.35,29.5,5.0049999999999999,4.04,4.75,83.201727110419995,1.5601739999999999,1.3878079999999999,0.77933319999999995,1.6270089999999999,1.4943,1.8407249999999999,1.546,439,1023.18,643.64755632582001,1261.43,457.72,414.65,230,531.41,210.98,582.55999999999995,575,96.62,96.805909999999997,89.772130000000004,198.5,182.25,150.25,"…",128.95189999999999,131.6174,0.63269710000000001,0.2962458,0.74964810000000004,1.91030323,1.4881184999999999,3.9406249999999998,12.015179,0.59414509000000004,0.4706864,0.15079600000000001,2625.1,278.58637314654999,181.6653,556.93604449681004,552.44755244755004,421.25909999999999,1.327469,0.87519999999999998,1.0045580000000001,44,176.375,150.9,142.75,112.5,1436.087,31.95,1710,514.78300000000002,4739.348,8797.3909999999996,827.54300000000001,351.02,681.52,4.7969999999999997]
["2003M08",29.675555555559999,29.825714285709999,27.617142857139999,31.58380952381,25.324999999999999,30.1875,4.9707140000000001,3.98,4.67,82.445941554140006,1.5522739999999999,1.4085319999999999,0.80027700000000002,1.533023,1.5542,1.4948680000000001,1.55,421,1020,622.78377816291004,1299.68,439.36,401.48,237,515.69000000000005,212.6,553.48,543,88.07,100.6591,104.0856,195,178.5,150,"…",144.173,148.71719999999999,0.48523480000000002,0.28591169999999999,0.79319589999999995,2.1098213399999999,1.5101647,3.9185439999999998,11.49158175,0.58283538940000001,0.4685762,0.1505755,2674.65,272.81635561889999,181.459,534.50245301917005,559.44055944056004,420.78089999999997,1.3349499009500001,0.94769999999999999,1.050699,44,175.625,150,141.5,112.5,1456.3130000000001,31.95,1760.2750000000001,496.52499999999998,4822.5,9351.375,817.875,359.76799999999997,692.19,4.9893000000000001]
["2003M09",26.882330447329998,27.098181818179999,25.265000000000001,28.28380952381,26.7,34.137500000000003,4.6127269999999996,3.97,4.7,78.071556992189997,1.6378630000000001,1.464099,0.82342559999999998,1.5275829999999999,1.6101639999999999,1.397586,1.575,431,1014.54545454545,627.47812824956998,1329.79,440.91,429.27,264,558.02,229.82,564.09,545,90.63,104.0791,109.12869999999999,197.6,180,154.6,"…",138.3629,145.62299999999999,0.71866419999999998,0.311747,0.78299439999999998,2.2681130559999998,1.5266993499999999,3.9770650000000001,10.618919666669999,0.58841307799999998,0.4666341,0.13183629999999999,2687.01,274.80847531771002,187.18790000000001,532.78770027871997,545.45454545455004,434.06549999999999,1.413111,1.0869,1.1128739999999999,44,171.3,153.625,146.80000000000001,112.5,1415.568,31.95,1789.5229999999999,521.27300000000002,4911.5910000000003,9965.3410000000003,818.18200000000002,378.94499999999999,705.25,5.1707999999999998]
["2003M10",29.014492753620001,29.59043478261,27.13130434783,30.32173913043,27.5,36.6875,4.6356520000000003,3.88,4.62,77.867886775420004,1.4828349999999999,1.4175709999999999,0.79101770000000005,1.600061,1.6755949999999999,1.454588,1.67,487,920,650.94987868283999,1359.2,515.07000000000005,500.7,310,608.26,277.04000000000002,615.82000000000005,615,95.702830000000006,105.38809999999999,108.2689,195.75,181.5,157,"…",142.82259999999999,147.45580000000001,0.68626580000000004,0.32794319999999999,0.83614929999999998,2.3287401060000001,1.51228452692,4.1609119999999997,10.2073906,0.61266389799999998,0.463507,0.1320567,2685.64,292.28826637983002,196.77199999999999,549.50501737812999,545.45454545455004,456.28969999999998,1.5994520000000001,1.2938000000000001,1.2996190000000001,44,166.375,164,150.625,112.5,1474.25,31.95,1920.5429999999999,587.32600000000002,5236.7389999999996,11047.17,897.95699999999999,378.92,732.48,5.0022000000000002]
["2003M11",29.122740740739999,28.771999999999998,27.504000000000001,31.092222222219998,29.912500000000001,39.1875,4.5274999999999999,3.9,4.72,76.717385558260005,1.5056689999999999,1.3730370000000001,0.75199579999999999,1.5648599999999999,1.672971,1.3991100000000001,1.6225000000000001,515,931.5,675.98641247833996,1388.91,548,521.75,327,630.62,292.89999999999998,620.32000000000005,628,101.6431,108.4834,114.2269,193.4,179.8,158.4,"…",160.93729999999999,160.5453,0.75361579999999995,0.40820659999999998,0.66098210000000002,2.5906489619999999,1.50694962917,4.2165879999999998,10.003463249999999,0.61332528399999997,0.45958979999999999,0.13404089999999999,2642.11,298.32586543748999,197.46289999999999,549.85783588079005,545.45454545455004,457.89179999999999,1.6970609999999999,1.2621,1.281393,44,169.375,163,153.5,112.5,1508.338,31.95,2055.4250000000002,622.32500000000005,5362.75,12086.5,914.52499999999998,389.91,760.38,5.1776999999999997]
["2003M12",29.969206349210001,29.926666666669998,27.857619047619998,32.123333333330002,34,38.6875,6.1265219999999996,3.97,4.75,96.488008987320001,1.633597,1.4299170000000001,0.79145860000000001,1.566468,1.6296809999999999,1.4822219999999999,1.5874999999999999,583,960,684.33192374350006,1402.33,539.72,583.48,332,637.36,276.3,648.66999999999996,660,101.15,111.1555,116.7953,198.25,185.5,163,197,158.76939999999999,165.5735,0.84201720000000002,0.37031399999999998,0.58295399999999997,2.5478793340000001,1.5207638346200001,4.4180099999999998,9.7370716666699995,0.63956026200000005,0.44974249999999999,0.13838300000000001,2674.11,313.36405529953998,196.43960000000001,577.31880828432998,538.46153846154004,463.2396,1.6240859999999999,1.2350000000000001,1.2587250000000001,44,187.5,162.875,159.375,112.5,1554.905,31.95,2201.2860000000001,692.07100000000003,6057.6189999999997,14162.5,977.76199999999994,406.95299999999997,807.87,5.6276000000000002]
["2004M01",31.367719298250002,31.175238095240001,28.684761904759998,34.243157894740001,37.75,41.25,6.0947727272699996,3.87,4.75,95.627068487979997,1.6286777272699999,1.6034201260000001,0.878320608,1.54076168667,1.6407151684800001,1.3515698915300001,1.63,584,992.38,682,1433,527.23,569.45000000000005,350,656.97,293.45,675.49,689,98.548308980000002,115.520475,121.66746625,212.75,198,171,198.8175,155.88501997500001,166.32713871052999,0.94188143658000001,0.42715287499999999,0.71826741462999999,2.5406040879999998,1.5322108999999999,4.3905380000000003,10.196367499999999,0.66557477799999998,0.45123930094999998,0.12808842200000001,2768.31,315.30224873563998,199.06499052487001,592.77021726590999,538.46153846154004,469.43067447799001,1.6735070000000001,1.21,1.2419,44,204.25,171.625,160.25,112.5,1606.4880000000001,37.9,2423.5709999999999,758.38099999999997,6485,15326.548000000001,1017,413.78800000000001,849.93,6.3005000000000004]
["2004M02",31.331333333330001,30.866,28.398,34.729999999999997,41.75,42.25,5.3795000000000002,3.89,4.8099999999999996,87.076974075950005,1.5688465,1.680140902,0.81681170999999997,1.5642991722099999,1.6625247727200001,1.3828727438999999,1.6475,642,1000,685,1433,564.13,614,368,682.08,298.85000000000002,704.51,731,95.567376609999997,123.54170499999999,126.18693725,213.25,200,181.75,204.07,157.49255553750001,161.39146718750001,0.97138530563000003,0.4960485,0.83105370364999998,2.392674086,1.5783075,4.7341125000000002,10.3065985,0.68278985588999996,0.45516120388999998,0.12874980799999999,2779.65,325.61139070837999,198.99698419484,594.32430504683998,552.44755244755004,469.27030344895002,1.6295448729999999,1.2462,1.2763,44,211.5,177.125,134.5,112.5,1685.625,37.9,2759.5250000000001,888.47500000000002,6672.75,15145.125,1087.675,404.87799999999999,846.32,6.4405999999999999]
["2004M03",33.665072463770002,33.799130434779997,30.464782608699998,36.731304347829997,48.9375,42.5,5.3968695652200003,3.86,4.88,87.192704599310005,1.5040169565199999,1.7209263720000001,0.80909553999999995,1.51311921301,1.7202056801100001,1.22715195891,1.5920000000000001,685,980.43,663,1356.32,583.52,678.7,413,689.43,329.09,687.6,712,103.0294701,127.84757999999999,130.17056311111,237.8,225.6,207.4,225.80199999999999,156.50506940624999,166.27980421800001,1.0601109795400001,0.50810523437999999,0.93472322607000002,2.3384404339999998,1.6093725999999999,4.6332195,10.520446639999999,0.66826711690999996,0.46581703539000002,0.142418452,2773.99,315.71848945561999,195.19632371399001,539.47865420561004,552.44755244755004,460.30766964639002,1.58737432652,1.2705,1.33,44,205.3,177.5,130.5,112.5,1655.989,37.9,3008.7170000000001,886.47799999999995,7619.7830000000004,13715,1105.7829999999999,406.66699999999997,899.76,7.2253999999999996]
["2004M04",33.711392496389998,33.362272727270003,31.066666666669999,36.705238095239999,53.25,47.25,5.7165217391300001,3.92,4.91,91.379923335040004,1.4377704545500001,1.6631653280000001,0.80182029399999999,1.6738649165399999,1.72282557679,1.7587691728399999,1.54,736,970,652,1322.77,575.04999999999995,737.05,358,672.46,332,644.98,696,112.5311284,133.49688800000001,128.59548459999999,240.75,229.25,215,240.71,157.24453576499999,166.58442673929,0.88026416742000002,0.52911839999999999,0.85892470104999996,2.4290503160000001,1.6471660857099999,4.5741540000000001,10.692406999999999,0.65974445740999998,0.46398852448,0.145063996,2765.33,308.71968252826002,197.95914618825,527.37370267505003,552.44755244755004,466.82289672944,1.52900418,1.2718,1.3708,44,199.375,177.5,128.375,112.5,1729.7380000000001,37.9,2948.7249999999999,753.67499999999995,8955.75,12848.125,1032.7249999999999,403.26,880.64,7.1486000000000001]
["2004M05",37.557898913949998,37.916315789469998,34.47238095238,40.284999999999997,56.4375,52.5625,6.3359523809500002,3.95,4.91,99.044519821690002,1.4195747619000001,1.6973369380000001,0.80600907200000005,1.6686323783100001,1.71572338035,1.7676737546000001,1.5225,716,982,643,1322.77,537.16999999999996,724.29,316,627.96,294.29000000000002,700.61,684,111.55951829999999,128.216655,118.55344049999999,232,222,212.8,236.14250000000001,148.30663803749999,163.73438647875,0.91759307847000005,0.55633217187999995,0.87275104317999996,2.6750859079999998,1.6885384999999999,4.4881174799999997,10.59540372,0.65361912373999997,0.45755785789999998,0.139772908,2769.73,319.40545598503002,188.43297750395001,563.93999147596003,587.41258741259003,444.35849563675998,1.5415017985699999,1.2390000000000001,1.3473999999999999,44,191.1,177.5,135.9,112.5,1623.2239999999999,37.9,2733.5,808.89499999999998,9459.4740000000002,11118.289000000001,1028.289,383.779,809.83,5.8673999999999999]
["2004M06",35.542741702740003,35.191363636360002,33.405909090910001,38.030952380949998,59.55,62.55,6.2715909090900004,4.01,5.04,98.636267038699998,1.4047940909100001,1.8124181020000001,0.87898199399999999,1.6730369971400001,1.5322760721899999,1.98183491923,1.5049999999999999,658,1017.27,645,1264.6500000000001,471.2,639.45000000000005,295,581.74,254.23,699.96,632,114.0480505,123.32026,115.85278099999999,229,219.75,212.5,230.74199999999999,137.21464265624999,154.74334165714001,0.85126968218999999,0.60352567499999998,0.92082175495999996,2.762829784,1.7554286750000001,4.5523024999999997,10.39919254,0.66819166194000001,0.44158538600000002,0.152780166,2768.78,323.16599504781999,198.6160623056,570.47127287529997,590.90909090908997,456.75949237576998,1.4226312649999999,1.196,1.3676999999999999,44,190.625,177.5,158.25,112.5,1677.7159999999999,37.9,2686.7049999999999,870.31799999999998,9204.7729999999992,13533.522999999999,1021.455,392.37299999999999,807.55,5.8617999999999997]
["2004M07",37.891998557000001,38.370454545450002,34.483636363640002,40.821904761900001,61.375,68.5,5.9286363636399999,4.28,5.07,95.775539448109996,1.56356590909,1.652142228,0.79410412399999997,1.71424358542,1.6297166348600001,1.9805141213999999,1.5325,669,1039.0899999999999,638,1247.1099999999999,454.77,637.73,279,605.08000000000004,227.55,650.91999999999996,624,103.9693504,104.84682599999999,96.727702500000007,230.75,221,210,228.96250000000001,131.63419777499999,150.60093028929001,0.72329842283000001,0.60352567499999998,0.99418147587000005,2.8135360440000001,1.7843643124999999,4.5871765,10.496195820000001,0.67328674098999997,0.44888162838000001,0.174385442,2732.03,326.54688170724,200.44612204402,588.69822750728997,594.40559440559002,457.18967336540999,1.2562826650000001,1.1457999999999999,1.2764,44,201.5,191.5,185,112.5,1709.2729999999999,37.9,2808.4319999999998,939.59100000000001,9044.3179999999993,15023.295,988.31799999999998,398.09100000000001,809.52,6.3140999999999998]
["2004M08",42.084069264070003,43.03,38.29857142857,44.92363636364,59.25,63.625,5.3956818181799999,4.34,5.16,89.649886436040006,1.7283118181799999,1.622820782,0.74758664200000002,1.77239706663,1.8181290537899999,1.9250621461099999,1.5740000000000001,627,1001.36,624,1234.5899999999999,458.14,640.67999999999995,265,604.65,217.41,667.68,632,87.772291980000006,104.054545,103.065985,239,228.2,212.4,232.715,129.13103525624999,141.29480849743001,0.59770201151000002,0.54772021874999999,0.93559182502000005,2.919798728,1.7659924791699999,4.5323745000000004,9.7863081800000007,0.66526790091999999,0.44312861999999997,0.166969902,2723.65,331.79599999999999,198.64573061482,584.39318460225002,594.40559440559002,453.08323138960998,1.1949541450000001,1.1388,1.2339,44,208.1,195,196.2,125.9,1692.19,37.9,2846.0949999999998,921.81,9021.9050000000007,13679.523999999999,975.81,400.51,848.68,6.66]
["2004M09",41.596825396829999,43.38136363636,35.47863636364,45.93047619048,55.375,61,5.13886363636,4.41,5.43,87.046948939109996,1.5452627272699999,1.774057714,0.75486188799999998,1.8049141720599999,1.8885582808100001,1.8911842353599999,1.635,657,1000,625,1213.5899999999999,468.09,669.09,260,601.6,220.55,657.92,657,85.371468809999996,97.868848,99.670870199999996,235.25,224.5,206.25,224.172,138.19294287,151.03485553499999,0.79540872683999997,0.53876378749999998,0.90129637544999996,2.9332469099999998,1.7231109499999999,4.51294298,9.4071135399999992,0.65547411345999995,0.45366880323999997,0.16953527800000001,2675.17,339.28537499999999,199.27141631781001,610.86308692332,594.40559440559002,454.51033329243,1.2409505350000001,1.145,1.2438,44,208.5,195,218.125,143.5,1723.6020000000001,37.9,2894.864,935.45500000000004,9019.5450000000001,13270.909,975.18200000000002,405.27499999999998,847.89,6.4034000000000004]
["2004M10",46.881111111110002,49.8180952381,37.579047619050002,53.246190476190002,56.625,59.6875,6.4116666666700004,4.83,5.55,104.58103855245,1.4803352380999999,1.77582141,0.69820315399999999,1.79067220847,1.99650553739,1.8655110880100001,1.51,642,960,629,1212.54,451.26,657.05,249,583.49,214.86,668.92,701,87.888384439999996,93.794259999999994,93.779023249999995,244,230.25,201.25,222.14500000000001,141.44016470624999,150.14600866071001,0.77469636266999997,0.4960485,0.92119898145000001,2.7932535399999998,1.6755112000000001,4.5782100000000003,9.4115227800000003,0.6603098717,0.47150522886000001,0.18629039,2705.79,346.96935000000002,197.95618905283999,624.35228722088004,601.39860139860002,459.03565788991,1.15858030095,1.2129000000000001,1.2655000000000001,44,211.75,195,242.125,146,1819.57,37.9,3012.2379999999998,932.76199999999994,9045.2379999999994,14404.286,1064.952,420.464,841.43,7.0949999999999998]
["2004M11",42.12554545455,43.053636363640003,34.8765,48.4465,52.825000000000003,60.75,6.0870454545500001,4.96,5.45,101.18930910025,1.65912545455,1.990110474,0.72113120200000003,1.78179003826,2.0355573955100001,1.8573127192600001,1.4524999999999999,659,956.36,643,1225.57,454.61,664.91,260,561.19000000000005,214.36,684.68,727,95.533337709999998,93.745050000000006,92.346020249999995,259.2,244.8,211.6,233.07,140.82011527500001,156.56866837624,1.0873207871799999,0.49260371874999997,0.71534033093000005,2.765475328,1.6470348583300001,4.7145676500000002,9.7863081800000007,0.678582036,0.45064532437999999,0.17989699200000001,2711.83,360.913725,202.12980610298999,610.50188715112995,608.39160839161002,476.65805504447002,1.0830696799999999,1.2162999999999999,1.2284999999999999,44,213.8,198.5,224.5,151.19999999999999,1813.8979999999999,37.9,3122.7950000000001,967.79499999999996,9070.4549999999999,14045.455,1095.636,439.375,854.41,7.4926000000000004]
["2004M12",39.044944444439999,39.64428571429,34.261499999999998,43.22904761905,52.25,54.287500000000001,6.5813043478299997,5.01,5.57,107.51027709708001,1.6579017391299999,2.2954503439999998,0.80953646400000001,1.72949901677,2.0085007322499999,1.6699963180599999,1.51,654,958.82,654,1233.6300000000001,446.2,657,265,552.05999999999995,222,709.72,724,92.043884910000003,95.388664000000006,90.692555249999998,278.25,261.75,219.75,238.512,139.46059948499999,153.87432469999999,1.10297976328,0.4960485,0.68612775677000004,2.713005372,1.623151475,4.8890010000000004,9.8105589999999996,0.70514239333999995,0.45296542447999999,0.18188114999999999,2708.32,362.21039999999999,190.35106839772001,629.64584184298997,608.39160839161002,510.41929500501999,1.07125361391,1.1869000000000001,1.1822999999999999,44,211.125,202,185.25,152.5,1849.1790000000001,37.9,3145.4520000000002,974.90499999999997,8553.81,13768.81,1180.2139999999999,442.07900000000001,848.24,7.085]
["2005M01",42.97227777778,44.283333333329999,37.813499999999998,46.82,53.045000000000002,51.417499999999997,6.1545238095199997,5.46,5.42,104.36538530458,1.55230857143,2.3624707919999999,0.81482755200000001,1.6165425333800001,1.9525863539699999,1.3890412461599999,1.508,646,945.5,711.45483535529002,1234.5899999999999,418.86,641.19000000000005,261.5,519.98,231.81,683.88,699,90.714802680000005,96.254760000000005,89.976053750000005,287,268.60000000000002,226.2,255.32249999999999,142.47358042499999,153.59313355875,1.1534024226899999,0.58905759375,0.64012466938000001,2.692502406,1.6183915,4.7614904999999998,9.7973312799999999,0.68673678712999997,0.45465878259999998,0.19224286400000001,2695.5755321975898,353.97269999999997,191.43493508715,603.43216542676998,636.36363636364001,513.32564313408,1.12955280429,1.1875,1.1833,44,208.6,202,184.6,152.5,1834.425,65,3170,953.15,7735.75,14505,1246.375,424.03,859.07,6.6189999999999998]
["2005M02",44.818210526320001,45.557000000000002,40.935000000000002,47.962631578950003,49.897500000000001,46.625,6.1447500000000002,5.49,5.58,104.49771651608999,1.633594,2.664503732,0.90918528799999998,1.5911781143499999,1.9111318772300001,1.3799024658300001,1.4824999999999999,646,912,714.58440207972001,1234.5899999999999,422.63,649.4,261,495.73,236.9,647.24,695,87.375633620000002,94.138729999999995,92.290904749999996,290,270.5,231.75,265.64249999999998,141.62388305625001,151.16867984890001,1.31046465419,0.89047595313000005,0.74235825838000002,2.6991162659999999,1.62590725,4.7851166999999997,9.7003280000000007,0.69016270152000003,0.44886063199999998,0.20062041999999999,2734.0313352263702,351.43740000000003,191.02458315934001,598.57452320778998,636.36363636364001,514.86898729561005,1.1556066885,1.2162999999999999,1.2586999999999999,44,207.125,202,185.75,152.5,1882.85,65,3253.7,977.55,8088.75,15349.5,1326.175,423.35,864.32,7.03]
["2005M03",50.942878787879998,53.084090909090001,45.57636363636,54.168181818180003,50.924999999999997,45.3,6.9680434782600003,5.52,5.59,114.64467040197999,1.75514869565,2.9768983859999998,1.091507362,1.58881973252,1.9413533380900001,1.33760585946,1.4875,710,907.39,691.63424610052004,1234.5899999999999,458.13,722.61,290,543.69000000000005,254.65,663.64,714,94.168641980000004,99.876615999999999,96.430078800000004,292.75,272.5,230,262.916,152.15553747000001,150.985863975,1.3895049101500001,0.79229968750000002,1.1090619290199999,2.7487202160000002,1.628663025,4.7974091799999998,9.7003280000000007,0.69675992173000001,0.45418178300000001,0.195770256,2769.4137539717399,355.87889999999999,193.65402770198,593.49495335371,646.85314685314995,517.50643559609,1.24311812087,1.2225999999999999,1.3183,44,210.625,202,217.125,152.5,1979.85,65,3379.49,1004,8407.39,16190.65,1372.15,433.85,866.83,7.2282000000000002]
["2005M04",50.640476190480001,51.857142857139998,47.101428571429999,52.962857142860003,51.25,46.25,7.15261904762,5.86,5.67,118.55659052214,1.58567904762,2.855644286,1.11884465,1.7286086707499999,1.88550020958,1.8328258026799999,1.4675,679,900,680.15916811091995,1223.04,457.86,684.33,283,545.88,242.86,651.70000000000005,695,93.327237550000007,96.279364999999999,93.007406250000003,297.25,276.25,225.5,259.92500000000001,132.13942323750001,140.87698047857,1.33273013459,0.59250237500000003,1.1749660453199999,2.742988204,1.6314188000000001,4.7196977000000002,9.6187570600000001,0.69274436836999997,0.46769438570999999,0.18937685800000001,2787.2089793068599,323.49,194.14621533426001,569.24989152301998,643.35664335664001,507.64021814557998,1.2572632914299999,1.2095,1.3126,44,214.75,202,242.125,152.5,1894.2860000000001,65,3394.4760000000001,985.76199999999994,8143.81,16141.905000000001,1300.143,429.233,864.86,7.1188000000000002]
["2005M05",47.826572871570001,48.665909090909999,45,49.813809523810001,51.3125,45.875,6.4693181818200003,5.89,5.74,110.44905701341,1.50822772727,2.8300706940000002,1.2361304340000001,1.6077449474800001,1.76026437012,1.6529704723200001,1.41,647,888.57,670.77046793760996,1212.54,450,648.09,283,537.98,234.32,652.57000000000005,700,88.894833449999993,95.418189999999996,96.231662999999998,293.8,272.60000000000002,220.4,256.14499999999998,133.12690936875001,143.33005787571,1.4733977901399999,0.61833823438000002,1.09567832289,2.7734119599999998,1.6377782807700001,4.5381820833299997,9.4798659999999995,0.67915527359000005,0.48262281257,0.18937685800000001,2795.5995825803898,342.45179999999999,202.52077260111,571.12578360808004,657.34265734266,519.11561406233,1.2281236550000001,1.2060999999999999,1.3593999999999999,44,217.2,201.625,256,152.5,1743.7,65,3249.1,988.07500000000005,8125,16931.5,1243.625,421.87299999999999,866.23,7.0224000000000002]
["2005M06",53.890303030299997,54.306818181819999,50.975000000000001,56.389090909090001,51,49.125,7.1861363636400002,5.91,5.68,119.20807735199,1.53954636364,2.6711175919999999,1.3232129239999999,1.6432615183399999,1.64917395044,1.88811060458,1.3925000000000001,638.75,870,672.85684575389996,1198.51,451.7,644,306,560.15,241.45,642.01,706,93.443528150000006,97.101172000000005,97.069418600000006,285,262.5,210.75,241.488,131.06467089,141.93077620909,1.23199248326,0.48571415624999997,0.93469437570000002,2.782671364,1.6420179346199999,4.3896737999999997,9.5900970000000001,0.66501196280999997,0.48259131799999999,0.19951811,2817.6427991023302,328.28219999999999,203.12005755441999,547.39109874825999,657.34265734266,510.90012316834998,1.1930501549999999,1.2668999999999999,1.4553,44,224.25,201.5,217.5,152.5,1731.2950000000001,65,3524.0680000000002,986.06799999999998,7618.8639999999996,16159.545,1275.7270000000001,430.65699999999998,880.09,7.3105000000000002]
["2005M07",56.36580952381,57.579047619050002,52.852380952380003,58.665999999999997,50.9,51.3125,7.6261904761899997,6.42,6.03,127.21346741923,1.4874842857099999,2.4235387660000001,1.2760340560000001,1.6929398362100001,1.64326527438,1.9830542342599999,1.4524999999999999,606,848.57,665.55452339687997,1178.95,454.52,614.52,298,561.26,244.52,645.33000000000004,708,96.805338689999999,107.52385,105.601298,276.75,256.5,207.25,237.285,130.85339478750001,143.869839885,0.90749248180999997,0.40131701563,0.74868880654000003,2.8093472660000001,1.6479534499999999,4.2253144499999999,9.9075622800000005,0.64011217640999996,0.48359442009999998,0.21252536799999999,2791.8627521017402,328.294375,205.52787579156001,541.30797161247995,657.34265734266,495.95506200331999,1.21275096381,1.4523999999999999,1.6918,44,228.25,201.25,221.875,152.5,1778.7860000000001,65,3614.2139999999999,854.476,7169.2860000000001,14580.714,1194.4290000000001,424.47899999999998,873.67,7.0145]
["2005M08",61.890520421609999,64.09,56.62590909091,64.955652173909996,49.125,49.5,9.6297826086999994,6.56,6.2,152.32456410104001,1.4808673912999999,2.3853988400000001,1.1457410139999999,1.6528570091200001,1.7558325990500001,1.70673842832,1.496,550,816.36,650.94987868283999,1165.0999999999999,448.48,555.22,274,550.08000000000004,238,654.16999999999996,682,98.003967880000005,101.66786,100.089748,282.8,261.39999999999998,212.8,255.654,131.7719865375,149.35902467283,1.0027137590899999,0.40483069249999998,0.75739682969,2.757318234,1.6479534499999999,4.3281295499999999,9.6275755400000005,0.65569016511,0.45169788209,0.21891876599999999,2746.67708144165,334.95699999999999,211.94435385391,553.13529466879004,664.33566433566,510.28840778275998,1.1891528573900001,1.4393,1.5996999999999999,44,231.5,201.375,208.5,152.5,1867.8409999999999,65,3797.75,887.02300000000002,7188.8639999999996,14892.727000000001,1298.386,437.93,898.43,7.0334000000000003]
["2005M09",61.687698412700001,62.981818181820003,56.543181818180003,65.538095238099999,45.25,46.625,12.87568181818,6.58,6.39,191.96453216148001,1.50483545455,2.193376438,1.0333053940000001,1.6584840431600001,1.8853180967300001,1.56763403277,1.5225,559,806.36,651.99306759098999,1168.45,453.64,576.14,263,545.16,233.77,687.82,683,97.892251470000005,96.353179999999995,97.370716666670006,285.25,264.25,215.5,256.9975,128.23540829999999,159.70865813437999,1.1017525028399999,0.59422476563000004,0.74902874045000001,2.7524680699999999,1.6575986625000001,4.322076,9.6385986399999997,0.66119948217000002,0.46661307210000003,0.227296322,2760.72854089986,330.9228,216.80451653997,545.30840938174003,671.32867132867,513.24764198725995,1.2111032043500001,1.5940000000000001,1.6960999999999999,44,240.75,201,210.375,152.5,1839.9090000000001,65,3857.8409999999999,933.06799999999998,6783.8639999999996,14228.182000000001,1397.5229999999999,456.048,914.64,7.1536]
["2005M10",58.18507936508,58.521904761899997,53.669523809520001,62.363809523809998,42.458333333330003,43.25,13.522619047619999,7.28,6.48,203.20928736988,1.4573280952400001,2.3159533099999998,1.047855886,1.6904870601799999,1.9617537791199999,1.5737074014200001,1.536,587,862.38,656.16582322356999,1129.08,467.5,623.33000000000004,257,578.62,224.67,734.38,646,98.525588330000005,101.938515,97.3890885,286.39999999999998,265.2,217.4,269.35750000000002,135.2626351875,167.82671272499999,1.0636485494400001,0.63039496875000001,0.81513578450000002,2.699336728,1.6410640125,4.1976060000000004,9.8524467799999993,0.64485608500000002,0.47885396218999998,0.24515374400000001,2770.5633191430602,324.40499999999997,211.27056471115,534.62676056338,671.32867132867,496.44216448783999,1.2827214033300001,1.6295999999999999,1.7014,44,246.375,201,215.5,152.5,1928.7139999999999,65,4059.7620000000002,1004.7619999999999,6422.857,12402.857,1488.3810000000001,469.89800000000002,931,7.6704999999999997]
["2005M11",55.042825396829997,55.534999999999997,51.310476190480003,58.283000000000001,38.0625,38.083333333330003,10.430909090909999,7.46,6.61,166.60928950086,1.44330818182,2.3752575880000002,1.13427699,1.64828688364,1.8777125565299999,1.6021480943799999,1.4650000000000001,582,850,670.77046793760996,1036.17,466.7,620.23,255.75,558.92999999999995,222.05,727.47,598,98.759818109999998,95.368979999999993,92.566482250000007,277.75,257.25,209.5,272,132.34610638125,161.11635164431999,1.08695347375,0.58905759375,0.87953358367000001,2.7046278159999999,1.6038610499999999,4.0953315999999997,9.7488296400000003,0.63447555506999997,0.47700260630000002,0.25088575600000002,2860.4276876087301,318.21390000000002,205.47202751156999,524.42148522767002,685.31468531469,498.28135160928002,1.2517832360000001,1.5808,1.599,44,246.125,201,235,167.5,2050.5909999999999,65,4269.3410000000003,1018.409,6160,12115.682000000001,1610.932,476.666,962.61,7.8724999999999996]
["2005M12",56.429642857140003,56.747500000000002,53.127142857140001,59.414285714290003,38.225000000000001,41,12.827500000000001,7.49,6.49,195.77330665626999,1.5091072727299999,2.3318265739999999,1.243185218,1.64575562673,1.8911393000600001,1.5361275801400001,1.51,553,883.53,682.24554592720995,1036.17,456.75,590.79999999999995,264,537.66,236.14,711.64,602,103.0139082,102.140276,96.562355999999994,280.5,257,206.75,"…",137.58667231499999,164.44104598928999,1.0169022940300001,0.64589648438000002,0.84942023996000005,2.652819246,1.5698731583300001,4.1016665000000003,9.8105589999999996,0.63816006666000002,0.48281178000000002,0.29343492199999999,2946.0871956323999,320.11739999999998,210.52337161222999,527.56918564090995,685.31468531469,505.73772087779003,1.2493781960000001,1.6313,1.6803999999999999,44,245.875,201,213.875,167.5,2247.4499999999998,65,4576.7749999999996,1124.075,6713.5,13429.25,1821.825,510.09699999999998,976.59,8.6270000000000007]
["2006M01",62.45703968254,63.574285714289999,58.31333333333,65.483500000000006,43.1875,44.662500000000001,8.6609090909099997,7.96,6.53,147.43830600518001,1.5731036363599999,2.7381380399999999,1.397508618,1.6957843904100001,1.89495973453,1.51239343672,1.68,569,853.33,655.12263431541999,1029.1600000000001,459.05,606.02,257,535.83000000000004,231.14,728.91,591,103.60208369999999,102.65206000000001,100.64090299999999,291.25,266.25,211,263.85666666666998,144.16149276562999,167.16073370625,0.94910899868999998,0.68551146875000002,0.84975109600999998,2.6219545659999999,1.5402277,4.0183324999999996,9.76205736,0.64580671224999997,0.51542913290000003,0.34722765,2917.2121956323999,323.757925,221.00285787816,586.9541822489,713.28671328670998,519.69600209125997,1.2863957699999999,1.7615000000000001,1.8754,44,244.3,201,202.3,167.5,2377.857,67.2,4734.3329999999996,1256.3330000000001,7051.4290000000001,14555.237999999999,2090.31,549.86400000000003,1026.05,9.1390999999999991]
["2006M02",59.704921052629999,59.923000000000002,57.576500000000003,61.615263157889999,47.7,49.4,7.4878571428600003,7.95,7.04,133.49148094399999,1.5461039999999999,2.6261433439999999,1.3884696759999999,1.91830763042,1.94633285956,1.4560900317000001,2.3525,591,848,668.42329289428005,993.18,473.9,621.13,257,533.27,229.6,716.23,595,101.1340387,107.13017000000001,106.06977975,301.5,274.75,216.75,264.28750000000002,149.24819458125,179.84092587632,1.00339819363,0.85430574999999997,0.82145759749000002,2.6455440000000001,1.5251961999999999,3.9770639999999999,9.8105589999999996,0.63917068980000002,0.53197480600000002,0.39771344800000002,2895.3739883594799,316.36759999999998,222.53879280040999,578.99064010540997,713.28671328670998,530.17546687252002,1.3150558299999999,1.9258999999999999,2.0583999999999998,44,238.125,201,213.875,167.5,2455.3249999999998,65.2,4982.3999999999996,1277.05,7826.25,14978.75,2219.375,554.995,1041.5,9.5349000000000004]
["2006M03",60.929275362319999,62.253043478259997,57.645217391300001,62.88956521739,49.75,54.5,6.8989130434800003,7.99,6.88,126.42147292593999,1.5450552173900001,2.5057710919999998,1.3139535200000001,1.7479933248599999,1.9403188577999999,1.3436611167900001,1.96,575,808.26,681.20235701905995,961.89,472.52,590,257,540.6,217.78,738.57,606,100.3758447,105.250348,103.6612324,303.5,274.5,216.5,244.85599999999999,142.65729877499999,174.43598036624999,0.99811618855999995,0.8253695875,0.80886459757999996,2.6186476359999999,1.50634901154,3.8790650000000002,9.8105589999999996,0.63744326654000005,0.508385372,0.38007648799999999,2828.38,306.51,225.15783085826999,582.93934035731002,713.28671328670998,537.03037546095004,1.2698611200000001,1.9127000000000001,2.0709,44,233.625,200.6,243.125,167.5,2429.13,66.7,5102.848,1192.087,7939.5649999999996,14897.391,2416.913,557.09299999999996,1041.0899999999999,10.383800000000001]
["2006M04",67.970575048729998,70.442105263160002,64.056842105260003,69.412777777779993,52.875,54.875,7.0940000000000003,8.24,6.93,130.01285440315999,1.5480175,2.5445724040000002,1.33489741,1.9003512580599999,1.8880850730900001,1.8496353677699999,1.96333333333,578,753,683.02793760832003,936.96,475.9,573.75,258,540.44000000000005,209.6,773.72,659,102.1245618,107.72069,109.35466355,302.25,271.5,218.5,244.25,140.82011527500001,180.34605464494999,0.96852244712000002,0.73029362499999995,0.80033404079000003,2.6007902139999999,1.4894963875,3.930685,9.9075622800000005,0.64590118851,0.51997703189,0.38558803800000002,2824.88,312.91050000000001,229.39044284075001,588.50016821801,720.27972027971998,545.55466713493001,1.24009875,1.9409000000000001,2.1433,44,231.75,200.5,247.5,167.5,2621.1109999999999,67.3,6387.7780000000002,1170.4169999999999,8853.0560000000005,17942.222000000002,3084.7779999999998,610.65300000000002,1098.75,12.6144]
["2006M05",68.675948616599996,70.187272727269999,64.90739130435,70.933181818180003,52.6,50.4,6.1980434782599998,8.2799999999999994,6.92,119.31630414618,1.5964169565199999,2.4109724319999999,1.3245356960000001,1.8896593080899999,1.7460009102,1.8529770140699999,2.0699999999999998,583,780,722.92991334489,936.96,483.72,558.26,266,588.29,212.83,828.42,679,107.4755681,110.648685,113.758392,308,276,219.4,256.22800000000001,150.92462452500001,193.16672228570999,1.05096415024,0.92595720000000004,0.80019413668999995,2.6151202439999999,1.4950079375000001,4.1973642499999997,10.33746318,0.68359074272999998,0.51664267600000002,0.37081708400000002,2831.11,325.62479999999999,244.17192270505001,643.19519066147996,759.89510489510997,576.63424402804003,1.1982109700000001,2.1543000000000001,2.4466999999999999,44,232.9,200.5,229.5,167.5,2861.4760000000001,67.3,8045.857,1166.857,8837.3809999999994,21077.143,3565.69,675.39300000000003,1260.83,13.3772]
["2006M06",68.290151515150001,68.857727272730003,65.080909090909998,70.931818181820006,52.375,52.375,6.1931818181800002,8.2899999999999991,7.1,119.42675585449,1.607,2.2740655300000001,1.327842626,1.97923213842,1.7410631992100001,2.0716332160499999,2.125,575,795.91,733.36180242633998,957.01,478.16,534.77,267,600.54999999999995,215.91,829.91,666,106.8823855,109.403672,111.88446500000001,312.5,280.5,216.5,259.42750000000001,140.14035738000001,195.164003205,0.95436690825000003,0.65450843749999998,0.66583920377000005,2.57499616,1.5207638346200001,4.1939624999999996,10.48517272,0.67401633079000001,0.51416748899999998,0.33951147999999998,2854.88,309.92500000000001,238.46360007977,621.56715890070996,749.26677499752998,611.17436280707,1.21584793,2.3492000000000002,2.7031000000000001,44,232.375,200.5,210,167.5,2477.3409999999999,69.3,7197.6139999999996,963.86400000000003,7896.3639999999996,20754.544999999998,3225.6819999999998,596.14499999999998,1188.55,10.7964]
["2006M07",72.450133667499998,73.897142857139997,69.04904761905,74.40421052632,52.75,51.68,6.25,8.58,6.86,121.33277363964,1.6790833333299999,2.314851,1.421759438,2.0049564280699999,1.8326320301500001,2.03223725407,2.15,583.25,851.43,759.44152512998005,990.51,499.21,555.71,271.75,630.01,215.38,820.58,647,112.0984874,113.99108,119.98644349999999,315.39999999999998,286.60000000000002,218.6,257.43,143.85146804999999,202.42861353947001,0.75000462589000005,0.55977695312999998,0.73440007405999996,2.620852256,1.5395596333299999,4.1406106500000002,10.44548956,0.63012455999999994,0.49171844479999999,0.35384151000000003,2955.27,312.33611250000001,236.11673167315001,621.87794248015996,749.62037526562995,635.41738709454,1.2213594800000001,2.3081,2.4832999999999998,44,230.3,202,205.5,172.5,2512.7139999999999,70.5,7712.0950000000003,1052.3810000000001,8418.5709999999999,26586.19,3339.857,633.71,1228.83,11.2324]
["2006M08",71.811884057970005,73.612173913039996,68.781739130429997,73.041739130430003,50.9375,53.587499999999999,6.9950000000000001,8.7100000000000009,7.23,131.24827572862,1.6207134782599999,2.4632219260000001,1.622379858,1.9545238950299999,1.89781232897,1.8782593561100001,2.0874999999999999,606,880,777.17573656846002,1041.92,534.26,566.85,262,632.17999999999995,222.65,809.12,666,114.5306653,116.58833199999999,114.4418242,312.66666666666998,284.33333333333002,220,263.62799999999999,148.3617535425,189.91466889546001,0.75785438251000004,0.54151961250000002,0.83083657723000004,2.663842346,1.55256123846,4.1168399999999998,9.6452124999999995,0.63646559999999996,0.47150112087000001,0.29797835626000002,3038.08,317.07225,240.03379448072999,637.42489104215997,769.30412352335998,638.58944221801005,1.32056738,2.1356999999999999,2.1756000000000002,44,228.25,202,210.5,192.5,2459.9319999999998,69.8,7695.6589999999997,1174.136,8502.0450000000001,30743.635999999999,3347.2950000000001,632.59299999999996,1233.52,12.1874]
["2006M09",62.121253968250002,62.771904761899997,59.772857142859998,63.819000000000003,47.1,48.75,4.8623809523799997,8.77,7.65,105.9208730834,1.5687619047600001,2.421334146,1.699982482,1.90713642501,1.99604264885,1.8578666261900001,1.8674999999999999,609,913.47826086957002,802.21227036394998,1079.22,511.24,543.57000000000005,258,602.35,232.05,785.73,669,115.44458849999999,121.74554000000001,119.5455195,309.2,282.8,224.4,267.70999999999998,166.88515618125001,195.9815498625,0.79618066241999996,0.54427543749999996,0.87862546213000003,2.6759677559999999,1.5589207192300001,3.9989560000000002,9.1227175599999999,0.63229865142999997,0.46653066129999998,0.266318096,3119.58,314.99324999999999,246.47282603335,639.49926034058001,766.66228243983005,640.97907416983003,1.29741887,1.8115000000000001,1.8089999999999999,44,225.125,202,215.125,192.5,2472.8809999999999,70,7602.357,1342.3810000000001,9039.2860000000001,30130.714,3403.0239999999999,598.18600000000004,1183.5999999999999,11.6769]
["2006M10",57.910468975470003,58.38,56.500952380949997,58.850454545449999,44.05,49.212499999999999,5.9625000000000004,8.9700000000000006,7.2,119.92595113195,1.53022636364,2.4389711059999999,1.657212854,1.85270565144,1.98287255601,1.83924439831,1.736,626,937.39130434782999,859.58766031196001,1102.31,514.17999999999995,557.61,273,614.71,243.98,784.4,666,136.5974641,142.16768999999999,138.22967399999999,301,274.75,223.5,283.21249999999998,197.772803775,212.09408658213999,0.78628438544000001,0.54944260938,1.03599630919,2.6900773240000002,1.53542597083,3.9750000000000001,8.6839981799999997,0.62651673817999998,0.44794872099999999,0.25661776800000002,3152.8,316.85137500000002,245.31882419775999,642.02498238349006,762.06954332538999,632.07076495731997,1.25773571,1.7926,1.8202,44,218.5,202,209.2,192.5,2654.5909999999999,71.7,7500.3860000000004,1531.136,9768.1820000000007,32702.955000000002,3822.9549999999999,585.78,1082.45,11.5586]
["2006M11",58.143045454549998,58.48318181818,56.815454545450002,59.130499999999998,46,48.2,7.4536363636400003,8.99,7.21,138.13523053887999,1.58116636364,2.6955888739999998,1.6929276980000001,1.78585838118,1.92753785838,1.7075372851499999,1.7224999999999999,656,1044.52173913043,848.83,1102.31,571.57000000000005,594.42999999999995,300,675.67,248.32,822.39,722,148.14787559999999,164.538556,167.0881498,296.25,273.25,220.75,"…",192.94101117,209.68065367105001,0.85896492276000003,0.598014025,0.93111678649999996,2.77230965,1.5211878000000001,3.9476605,8.5980179999999997,0.63994840364000005,0.43561086580000002,0.25970423599999998,3149.23,328.46550000000002,256.02106610911,656.75191952834996,776.98578452007996,639.13010132343004,1.2654518800000001,1.615,1.6243000000000001,44,219.375,202,227.375,192.5,2702.7950000000001,73.5,7029.1819999999998,1624.5229999999999,10079.091,32113.864000000001,4382.2269999999999,627.827,1183,12.931100000000001]
["2006M12",60.994412280699997,62.314736842110001,58.669499999999999,61.999000000000002,49.75,50.6875,6.5780952381000004,8.92,7.35,127.26527920283,1.70717809524,2.8316139279999999,1.6902821539999999,1.82841654409,2.1229676157599999,1.64894868319,1.71333333333,731.66666666667004,1037.8260869565199,872.91,1102.31,625.88,640.71,297,698.12,249.1,854.31,730,150.96757869999999,160.37539000000001,170.61003024999999,305,280.25,228.25,"…",189.84994993124999,204.30628759688,0.89054303957000003,0.65795321875000001,0.79280186613000003,2.698013956,1.5289958291700001,4.0553296000000003,8.6399057799999994,0.65641138104999996,0.43186301179999997,0.25507453400000002,3063.55,336.9264,268.46107522045003,674.66427245202999,798.17741438088001,640.31418082472999,1.3106465899999999,1.6454,1.7347999999999999,44,223.83333333332999,205.5,251.66666666667001,192.5,2813.6320000000001,73.5,6675.1049999999996,1725.5,11158.683999999999,34570.262999999999,4405.3950000000004,629.79100000000005,1121.19,13.278600000000001]
["2007M01",53.516969696970001,54.299090909089998,52.011818181819997,54.24,51.287500000000001,50.137500000000003,6.5843478260900001,8.59,7.11,125.60979724089999,1.69852217391,2.7454132859999998,1.7445158059999999,1.78778022688,2.09345272302,1.56988795761,1.7,731,1050,908.36,1071.6400000000001,637.59,649.13,306,697.33,263.87,823.02,719,152.13268619999999,164.774764,175.05123724000001,313,286.60000000000002,243.8,"…",175.98013309800001,196.06615699737,0.98503544847000002,0.63935140000000001,0.79708632003000002,2.686990856,1.5702906999999999,3.9774805,8.7567506399999999,0.64573415999999995,0.43903904989999998,0.24140589000000001,3095.78,358.74203999999997,262.27355254260999,721.83452171614999,796.35251184778997,622.00184742841998,1.30182811,1.9395,2.0775999999999999,44,249.2,207.5,265,192.5,2809.3409999999999,78.2,5669.6589999999997,1666.0909999999999,11361.817999999999,36811.135999999999,3786.6819999999998,631.16600000000005,1146.6500000000001,12.8413]
["2007M02",57.5625,57.756999999999998,55.680500000000002,59.25,52.9,51.637500000000003,7.9725000000000001,8.56,6.89,142.17497896166,1.815393,2.6902977859999999,1.7434134960000001,1.77864031727,2.2775688073399998,1.40835214447,1.65,763,1050,916.75,1016.33,645.20000000000005,676.75,325,715.04,283.45,790.39,709,151.0319169,177.3489032,180.63994894000001,315,291.75,257.5,303,176.461475175,199.98225866842,1.06883832492,0.65450843749999998,0.84181642324999995,2.7114621379999999,1.6264083,3.9431535000000002,8.8184799999999992,0.64952625600000002,0.45692489989000001,0.233028334,3182.84,375.22379999999998,262.56124574499,720.93192923486004,795.35674097785,622.68413392523996,1.2753726700000001,2.1173999999999999,2.2787999999999999,44,317.625,215,299.375,192.5,2832.2,82.66,5676.45,1779.6,12933.25,41184.25,3309.5,664.745,1204.55,13.91]
["2007M03",60.59984848485,62.143636363639999,59.05409090909,60.601818181820001,55.38,53.475000000000001,7.12318181818,8.3699999999999992,6.86,130.93781192981001,1.92399818182,2.581169096,1.6975574,1.77221736896,2.42113553127,1.26551657562,1.63,769,1050,936.76,1055.21,660.93,701.14,322,719.03,279.08999999999997,771.51,713,157.0577883,170.50674480000001,169.96076966000001,318.66666666666998,299.33333333333002,262.33333333333002,304.93,168.54321429000001,199.09820044285999,1.0551475380399999,0.64761887500000004,0.81134080288999999,2.6891954760000001,1.6835665423099999,3.9043364999999999,9.0257142800000008,0.65785578545000001,0.45916222000000001,0.230162328,3298.14,380.04539999999997,269.65970421302001,717.39524032860004,791.45494491602005,643.78213048398004,1.28749808,2.0525000000000002,2.2349000000000001,44,387,254.5,318.125,192.5,2761.7269999999999,88.55,6452.4769999999999,1914.0450000000001,13892.955,46324.773000000001,3271.2950000000001,654.89499999999998,1218.77,13.1843]
["2007M04",65.057640350880007,67.398421052629999,63.838000000000001,63.936500000000002,56.12,51.36,7.5873809523800002,8,7.09,134.97160900674001,1.9779780952399999,2.52649452,1.7544365959999999,1.9807797714099999,2.34303556928,2.0118037449599999,1.5874999999999999,827.5,1050,978.16,1078.17,743.45,797.26,319.75,753.7,264.76,808.43,755,157.1170037,152.74784,149.5173284,316.5,296,258.5,302.25,175.2673059,198.30779161020001,1.11985616985,0.64761887500000004,0.85583967140999995,2.6942661019999998,1.7217234269199999,3.9998999999999998,9.4247505,0.67148272420999999,0.46089785719999998,0.214289064,3361.26,387.9092,266.04299296184001,733.12613785956,808.80980864934997,635.14764027930005,1.2599403300000001,2.165,2.3184,44,404.6,300,291,192.5,2814.7890000000002,91.26,7766.4740000000002,2000.9469999999999,14052.895,50266.841999999997,3557.4740000000002,679.36800000000005,1275.81,13.7233]
["2007M05",65.157259552040003,67.476086956520007,64.544782608700004,63.450909090910002,56,50.25,7.61347826087,7.98,7.22,135.28151314111,2.00386304348,2.496511688,1.849896642,1.9413833954499999,2.2767814212299999,1.9973687651200001,1.55,894,1080.5633802816899,1200.17,1169.4100000000001,816.09,866.85,334,788.7,268.26,844.71,831,161.68943419999999,160.22775999999999,150.00895865999999,317.60000000000002,295.8,255.4,300.35500000000002,180.7788564,195.72128219999999,1.03756976509,0.68895625000000005,0.88683983232999997,2.699336728,1.7530587085,3.9870561000000002,9.6782818000000006,0.67124228727000002,0.46321070399999997,0.20789566600000001,3397.24,373.587445,261.94534536608001,724.04713333111999,806.21267564569996,641.10263026021005,1.22466641,2.2191999999999998,2.3689,44,392,338.125,293.125,192.5,2792.75,102.02,7681.42,2101.25,14140,52179.048000000003,3831.26,667.31,1300.6500000000001,13.1478]
["2007M06",68.188095238100004,71.316190476190002,65.75619047619,67.491904761900003,61.6,56.78,7.3041428571400004,8.0299999999999994,7.11,131.68831222938999,2.0169833333299998,2.6307730459999998,2.0432418160000001,2.07378019691,2.3133990029699998,2.2504415877500001,1.6575,979,1107.1830985915501,1354.38,1268.18,833.19,968.33,361,835.55,278.14,867.68,916,184.44876289999999,165.24717999999999,154.78637019999999,323.25,300.5,257,302.48599999999999,205.02967860000001,223.03918018749999,0.97681993892999996,0.77852056250000001,0.93534291432000005,2.6790542240000002,1.78023065,3.9912570000000001,9.9340177199999999,0.66663462857,0.47010896951999998,0.204809198,3409.32,356.94540000000001,257.91078620019999,718.07803283791998,807.06212916332004,642.64574316515996,1.33599972,2.1097999999999999,2.2342,44,387.875,355,291.875,192.5,2676.93,103.21,7474.38,2425.1999999999998,14099.76,41718.571000000004,3602.85,655.66,1286.24,13.144299999999999]
["2007M07",73.601695526699999,77.204090909089999,69.459090909089994,74.141904761899994,67.31,58.06,6.2209090909100002,8.1300000000000008,7.26,119.11122194066,2.1584677272700001,2.5932945059999999,2.0394939619999999,2.1296823164499998,2.4856505459,2.2673964034399998,1.6359999999999999,929,1186.0563380281701,1382.65,1404.95,854.52,919.55,375.5,887.12,301.41000000000003,925.81,999,177.9077053,146.84263999999999,138.47218219999999,328.8,306.8,260.39999999999998,302.71249999999998,225.60613380000001,238.40670983625,0.95436986192999995,0.73373840624999997,1.1424840065799999,2.673322212,1.7894165666699999,4.0869330000000001,10.189753639999999,0.68139055636000001,0.46557375124,0.22443031599999999,3364.03,364.84559999999999,263.05015633851002,744.48250741374,826.40853463655003,645.61973737669996,1.49583467,2.0400999999999998,2.0760000000000001,44,398.5,355,269.5,192.5,2732.44,106.09,7972.57,3082.76,14737.84,33425.682000000001,3545.58,665.38,1303.02,12.9093]
["2007M08",70.126811594200007,70.79652173913,67.205652173909996,72.378260869569999,69.349999999999994,60.18,6.1954347826099996,8.34,7.7,120.09830951473,1.9052273913,2.7158713780000001,1.927719728,2.0686367617900001,2.5460704123600002,2.0473398729999999,1.6125,910,1303.38028169014,1360.33,1472.3,830.65,904.02,385,921.79,316.74,958.29,1114,158.88335710000001,151.17312000000001,150.28453615999999,327.5,306.5,264.5,310,253.8987597,259.72730786209002,0.93596854456,0.69722372499999996,1.23112627922,2.692502406,1.7908297846200001,4.1114369999999996,10.068499539999999,0.67667321454999996,0.48060715999999998,0.21627322199999999,3307.6,371.1995,270.93356373415003,744.85181656971997,816.73533189993998,646.82332641961,1.4682769200000001,2.0684999999999998,2.1133999999999999,44,401.625,377.5,260.625,192.5,2515.7730000000001,121.89,7513.5,3119.4549999999999,15174.317999999999,27652.273000000001,3252.5230000000001,665.41099999999994,1263.6099999999999,12.334300000000001]
["2007M09",76.76243859649,77.126999999999995,73.254000000000005,79.90631578947,68.44,62.81,6.0964999999999998,8.5399999999999991,8.09,120.1119247221,1.93431,2.8227954479999999,2.0454464360000002,2.1325659095399998,2.6080653756699999,2.0246323529399999,1.7649999999999999,930,1417.25352112676,1220.96,1523.39,851.63,926.63,426,977.48,363.75,1044.75,1279,184.65565799999999,159.44040000000001,163.30502188,325,306.25,272.25,315.25,322.9768593,326.54486304474,1.1071666040000001,0.66485182812999999,1.0322203731699999,2.6920614820000002,1.7981431875,4.2953580000000002,9.9207900000000002,0.69037563599999996,0.46307462936999999,0.21517091199999999,3302.92,378.666,274.96005367452,779.38832506981998,819.62103523733003,647.74159892188004,1.5024485299999999,2.1111,2.1623000000000001,57.75,399.625,392.5,305,197.5,2391.25,148.65,7648.9750000000004,3226.55,15023,29537.5,2881.4,712.65300000000002,1307.6500000000001,12.833500000000001]
["2007M10",81.967246376809996,82.857826086960003,77.14,85.903913043480003,74.81,73.12,6.7980434782600003,9.16,8.5500000000000007,131.89013899842001,1.91149782609,2.9605841979999998,2.0084088200000001,2.2487123634000001,2.9005072269399998,2.0956298632500001,1.75,1010,1395.0704225352099,1215.1199999999999,1633.34,926.2,999.67,450,1007.69,401.91,1146.97,1358,197.10726639999999,164.16455999999999,163.19038164,329.2,313.39999999999998,293.2,323,325.54891620000001,335.14620304891002,1.1042907291499999,0.65865113750000004,0.97450733665,2.6702357440000002,1.7603042769199999,4.3930305000000001,9.9207900000000002,0.70682111999999997,0.44707776538999999,0.22046199999999999,3280.16,387.69878260870001,271.68201359109003,801.24117730584999,812.95099860546998,647.99653295935002,1.52008549,2.2627999999999999,2.3317000000000001,71.5,406,402.9,323.75,202.5,2442.37,168.11,8008.4350000000004,3719.7170000000001,16071.304,31055.435000000001,2975.326,754.60400000000004,1410.7,13.670400000000001]
["2007M11",91.338261183260002,92.528181818180002,86.731363636360001,94.755238095240003,84.6,89.75,7.1377272727300003,9.4700000000000006,9.14,137.88849896107001,1.96833909091,2.8880522000000002,2.0412576580000001,2.2063212515099999,2.91316303297,1.9983007215599999,1.7075,1131,1605.0704225352099,1241.4000000000001,1829.84,998.57,1115,489,1141.52,408.59,1252.43,1401,187.60857279999999,171.2508,170.09745609999999,342,327.75,311.25,320,307.65107454299999,321.81330974999997,1.0450027266699999,0.65107251563000001,1.04569953201,2.7213829280000001,1.7145513458299999,4.4321111999999996,10.117001180000001,0.72930003429000001,0.44175073250000002,0.22266662000000001,3348.08,422.05,279.40619632255999,865.97753520875006,806.26766707363004,647.15901685759002,1.5366201399999999,2.3732000000000002,2.4826999999999999,71.5,447,423.75,366.25,202.5,2506.886,195.09,6966.7049999999999,3328.1819999999998,16691.817999999999,30610.226999999999,2541.3180000000002,806.24800000000005,1448.73,14.701599999999999]
["2007M12",89.519941520469999,91.45,85.753157894739999,91.356666666669994,91,94.25,7.1497619047600001,9.49,9.18,138.15681919782,2.1126499999999999,3.0331161959999999,2.0148022179999998,2.31271599986,3.08663577527,2.1181788909799999,1.7333333333300001,1153,1676.0563380281701,1282.8399999999999,1978.91,1002.22,1136.53,503.99,1187.73,433.28,1336.75,1469,198.9344557,180.25426160000001,187.00909612000001,360.66666666666998,347.33333333333002,331.66666666666998,"…",345.30966192599999,368.62006231324,1.0540338950199999,0.64762768749999999,0.92586666736000001,2.7346106479999999,1.6945511,4.31325,10.29998464,0.72391942588000002,0.44551889221000002,0.23523295399999999,3433.31,418.94499999999999,275.34225348266,846.71017478693,788.32880710744996,645.90850371954002,1.53331321,2.4087999999999998,2.4777999999999998,71.5,512.5,446.875,401.66666666666998,202.5,2381.694,190.12,6587.6670000000004,2596.0279999999998,16263.056,25991.944,2353.0830000000001,803.20299999999997,1492.9,14.303599999999999]
["2008M01",90.689935064940002,91.920454545449999,87.17363636364,92.975714285709998,91.75,100.62,8,10.7,9.94,154.74877960389,2.20146,3.0833815320000002,2.187203502,2.3771791213200002,3.0526702872899998,1.9363670766800001,2.1425000000000001,1285,1750,1229.94,1984.16,1122.1500000000001,1278.18,528.5,1280.2,447.9,1390.42,1709,205.48559940404999,206.662316,212.67307754000001,375.6,364.4,358,"…",343.81052018999998,370.6609570425,1.1694385624200001,0.68896562500000003,1.0296482380600001,2.7652548659999998,1.70306895,4.293946,10.471945,0.73118572364000001,0.44618359343000003,0.26389301399999998,3438.78,483.85424999999998,287.07700063685002,954.91651440531996,812.61574921680995,640.92560804334005,1.61488415,2.5345,2.6236000000000002,71.5,593.875,539.20000000000005,376.625,230.625,2445.5230000000001,193.37,7061.0230000000001,2608.136,16337.272999999999,27689.544999999998,2340.114,889.59500000000003,1583.3,15.908899999999999]
["2008M02",93.387590643270002,94.816666666670002,89.962105263159998,95.384,132,115,8.5500000000000007,10.84,10.46,162.44548780026,2.5034999999999998,3.4676467980000001,2.5452337900000002,2.39684047172,3.0425644300100001,1.7312903184699999,2.4166666666699999,1382,1721.43,1255.48,1984.16,1268.6300000000001,1391.67,574.01,1414.17,458.05,1429.55,1839,216.38691209000001,220.06711999999999,218.49547896000001,464.75,"…",432.75,"…",388.7480286,424.99565905499998,1.4510740387800001,0.79231046875,1.04903404216,2.8931228259999999,1.7448648708300001,4.5190796874999997,10.471945,0.73269956570999994,0.44401046799999999,0.29784416200000002,3387.51,545.69079999999997,288.39714122430001,1082.9640675342901,855.83776287721003,639.20719644657004,1.65456731,2.7212999999999998,2.79,71.5,692.5,729.375,328.125,240,2776.9290000000001,186.12,7887.69,3079.8809999999999,17210,27955.475999999999,2438.143,922.298,1999.67,17.568999999999999]
["2008M03",101.84283333333001,103.2775,96.778499999999994,105.4725,118.25,111,9.4014285714299994,11.04,10.96,174.07424402601001,2.7264900000000001,3.3045049180000001,2.6878727040000001,2.2625991784499999,3.0610970010799998,1.6317005342599999,2.0950000000000002,1471,1700,1271.44,2075.4899999999998,1377.22,1456.39,558.86,1488.74,465.95,1510.12,1863,228.62588944442999,234.35770400000001,224.93296935999999,594,"…",537.6,"…",419.61271140000002,439.71609184875001,1.6429097635300001,1.0265587812500001,1.2307682279200001,3.010629072,1.7908297846200001,4.7936369250000004,10.471945,0.77139999999999997,0.45525402999999998,0.29100984000000002,3348.3,562.83562500000005,304.85272754597003,1068.7182267599501,912.45484122925996,640.93660085325996,1.7681052399999999,2.6960999999999999,2.7919999999999998,71.5,862.2,875.625,371,240,3005.2890000000002,197.12,8439.2890000000007,3008.5790000000002,19803.947,31225.262999999999,2511.4740000000002,968.43399999999997,2025.19,19.317399999999999]
["2008M04",108.75818181818001,110.18772727273,103.46863636364,112.61818181818001,123,108.75,10.132272727269999,12.19,11.42,188.72787272514,2.6074999999999999,3.1019003399999998,2.453521598,2.4878840074099999,2.9162492579400001,2.3524027642899998,2.1949999999999998,1443,1700,1288.71,2126.46,1320.11,1425.91,549.11,1422.23,516.14,1471.49,1838,237.77293359887,246.44368,240.28373841999999,907,"…",762.66666666667004,"…",323.42780434090997,362.22924711170998,1.4404226894400001,0.96730773749999999,1.2337172406800001,3.164952472,1.80863633077,4.8931440999999998,10.471945,0.78220450285999998,0.451576323,0.276900272,3410.54,558.94394999999997,291.75731683686001,1020.85467527063,940.97487459694003,646.56118194894998,1.6622834799999999,2.7039,2.835,160.375,953.5,1029,462.5,393,2959.2730000000001,195.95,8684.9320000000007,2822.75,21658.635999999999,28763.182000000001,2263.7950000000001,909.70500000000004,1988.41,17.5]
["2008M05",122.63260894661001,123.93619047619001,118.94863636364001,125.01300000000001,133.19999999999999,120.7,11.23045454545,12.38,11.63,203.10903264896001,2.6842299999999999,3.12945809,2.4003902560000001,2.4837585927400001,2.93651906909,2.3722567091200002,2.1425000000000001,1502,1700,1265.54,2253.2199999999998,1326.45,1432.5,566.12,1437.87,504.35,1524.95,1962,238.41479700855001,243.45564880000001,238.24068557142999,901.8,"…",727.4,"…",255.10027770900001,328.76171271686002,1.24676206296,0.92321393750000003,1.31769130901,3.512621046,1.8399391083300001,4.9529844000000001,10.471945,0.77287176000000002,0.45928533513999997,0.26609763400000003,3485.76,552.27350000000001,282.97231647983,1048.3744906193699,933.58398750853996,648.17526659209,1.6336234199999999,2.9603000000000002,3.0485000000000002,190,997.5,1037,633.75,546,2902.9,192.95,8382.75,2234.625,24062.25,25735,2182.1,888.66300000000001,2052.4499999999998,17.059999999999999]
["2008M06",131.52111111111,133.04857142857,127.58761904762,133.92714285714001,159.75,142.38,12.67619047619,12.63,12.07,222.15173377391,3.0011800000000002,3.2220521299999998,2.4546239079999999,2.6692371082099999,3.1012610677299999,2.5964502568899999,2.31,1551,1700,1233.45,2332.6999999999998,1293.21,1396.67,634.85,1535.16,534.37,1591.88,2045,241.00849152487001,287.11082399999998,262.19325198000001,757,"…",591,780,254.74386411,348.55307816786001,1.10180884127,0.86809668750000002,1.41442612393,3.6570236559999998,1.88961371923,4.9492799999999999,10.734294780000001,0.77266121142999999,0.47946285723999998,0.267420406,3565.33,552.13149999999996,272.28845584228998,1087.5408792899,932.88574817563995,647.30489182898998,1.69865971,3.1709999999999998,3.2225000000000001,190,1004.1,1043.125,642,546,2957.857,183.93,8260.5949999999993,1863.048,22229.286,22549.047999999999,1894.4760000000001,889.48800000000006,2039.24,16.969000000000001]
["2008M07",132.82518445323001,133.87304347826,131.2247826087,133.37772727273,180,167.75,11.148782608699999,14.37,12.35,212.06546065897999,2.9671599999999998,3.2487280319999998,2.5403836260000001,2.7591517808099999,3.1203618026200002,2.7445935398199999,2.4125000000000001,1436,1700,1148.55,2425.08,1213.48,1253.48,637.25,1506.98,521.57000000000005,1549.44,1692,248.14718443813999,265.34032000000002,218.818556,731.75,700,546.5,698,245.44771560000001,328.18360435568002,1.1034223940000001,0.72203597500000005,1.4316917420499999,3.92642822,1.9455771500000001,5.0132880000000002,11.1884465,0.78317064000000003,0.52379766999999999,0.31371742600000002,3654.88,559.62199999999996,275.76173439204001,1056.6423145931701,932.77336587189995,647.86837262018003,1.7041712600000001,3.1960000000000002,3.1951999999999998,240,1075.75,1112.5,733.75,546,3071.239,180.5,8414.0429999999997,1944.913,23139.348000000002,20160.217000000001,1852.37,939.77200000000005,1904.43,18.033899999999999]
["2008M08",114.56682539683,113.84904761905,113.21095238095,116.64047619048,158.4,156.9,8.25,14.64,13.25,178.75777949734001,2.8157800000000002,3.2282250659999998,2.481520272,2.7420665187800002,2.9964193684099998,2.6297801879199998,2.6,1193,1620,1104.21,2427.1799999999998,963.57,1064.29,557.28,1329.64,441.67,1352.83,1319,212.25341426404,235.02696,209.33969210000001,693.5,657.5,468.75,607.5,255.3685065,329.34415053552999,1.1584417810500001,0.79920012500000004,1.1318525629,3.83824342,1.94924021092,4.7637071999999998,11.230334279999999,0.74397692570999996,0.51267913190000003,0.32209498199999997,3704.49,554.08979999999997,272.94851080369,957.04103651996002,879.39373032903995,649.25260455986995,1.7206009281000001,2.9138000000000002,2.9264999999999999,290,1065,1131.5,785,546,2764.375,178.74,7634.7,1923.575,20026.25,18927.75,1723.2750000000001,839.02499999999998,1485.55,14.635]
["2008M09",99.656767676770002,99.064090909089998,95.969545454550001,103.93666666667001,150,147.75,7.6944999999999997,14.85,14.39,173.78281327379,2.6957200000000001,3.1585590739999998,2.3232285560000001,2.6686575287699998,2.98045665267,2.4535159336299999,2.5720000000000001,1110,1616.36,1122.6099999999999,2313.85,826.02,994.09,525.48,1201.02,413.14,1238.29,1176,189.45928555680001,233.84592000000001,216.01087222000001,683.8,651,420.4,561.78499999999997,223.7689503,295.55033419286002,1.1068470999,0.80264495312999995,0.92397093374000006,3.5578157560000001,1.9489688730800001,4.5418922249999998,10.59540372,0.71387676,0.50924622362000005,0.29828508599999998,3748.63,531.67150000000004,284.47124764633998,909.77018780338994,888.75544555624003,648.81777644546003,1.6226003200000001,2.8073000000000001,2.8313000000000001,278,980,1079.25,744.5,546,2525.8180000000002,139.63999999999999,6990.8639999999996,1868.364,18368.864000000001,17794.544999999998,1735.4770000000001,829.93200000000002,1223.18,12.372999999999999]
["2008M10",72.692753623190001,72.84260869565,68.620869565220005,76.614782608699997,108,109.7,6.7335000000000003,15.93,15.01,167.66736836214,2.27393,2.7246898580000001,1.957041174,2.3049551821800001,2.3671224688499999,2.3227430776800002,2.2250000000000001,856,1489.13,1154.02,2119.44,635.75,750.65,399.87,942.53,350.96,1040.68,950,143.36741545013001,183.06120000000001,163.62593786957001,609.25,487.5,348.25,478.572,185.92297020000001,237.38407758586999,0.94203309070999997,0.80746771250000005,0.90982506563999999,3.1140257500000001,1.92982986429,4.3146509999999996,10.361713999999999,0.52608921390999996,0.47192287426000001,0.26234977999999998,3804.36,492.91770000000002,304.44857531829001,822.20852382447003,861.69599039057005,643.85210936316003,1.37347826,1.8623000000000001,1.9160999999999999,450,910,965,575,546,2121.413,88.67,4925.6959999999999,1480.1089999999999,14401.739,12139.782999999999,1302.1089999999999,806.62,912.57,10.4413]
["2008M11",53.972728070179997,53.241,51.383499999999998,57.293684210530003,92.25,89.38,6.6745000000000001,15.81,15.06,166.41430737438,2.0545900000000001,2.6872113180000001,2.0009131120000001,1.96734080153,1.97986455161,2.1946578529699998,1.7275,719,1265,1187.5899999999999,1933.45,581.25,514.5,371.76,825.64,333.7,974.82,835,130.08774094130001,163.77088000000001,150.75412022,552,440.25,307,431.07,182.98347659999999,226.8462326625,0.88292644682999999,0.90254496875000001,0.85333830754999995,2.7282172500000001,1.916365935,4.0542480000000003,9.9626777799999999,0.50279260349999999,0.43362554746999998,0.26697948199999999,3740.82,451.98599999999999,315.96597694114001,756.66021691458002,872.32760116585996,646.48729833474999,1.21143869,1.6161000000000001,1.6513,450,710,606,287.5,546,1852.425,64.95,3717,1291.0999999999999,13643.5,10701.5,1152.5999999999999,760.86300000000006,840.3,9.8651999999999997]
["2008M12",41.338924963929998,41.580909090909998,40.996818181819997,41.439047619050001,78.650000000000006,77.25,5.7948000000000004,15.5,13.78,153.39085829468999,2.39385588235,2.622836414,1.8190319619999999,1.92601276103,1.9164806479000001,2.0890576352000001,1.7725,740,1250,1180.83,1761.69,587.24,540.24,359.35,745.55,317.86,838.02,759,115.17666870908,158.25935999999999,138.60005016,531.79999999999995,422,287,413,179.3091096,220.1354096,1.00643896098,0.83020357813000001,0.76172000244000004,2.6565671000000002,1.91847869583,3.9309599999999998,9.7135557200000004,0.5301947145,0.43594356299999998,0.25904284999999999,3775.49,476.62299999999999,326.62278045521998,733.65049357675002,845.80048065115,646.06910749384997,1.2224617900000001,1.1773,1.2031000000000001,450,495,405,240,546,1490.4290000000001,69.98,3071.9760000000001,962.88099999999997,11240,9686.4290000000001,1100.5709999999999,816.09199999999998,839.7,10.2857]
["2009M01",43.855214285709998,44.86,44.967142857139997,41.738500000000002,79.400000000000006,76.400000000000006,5.2413999999999996,13.89,12.71,138.29190146841,2.6259228819999998,2.8285274600000001,1.8241025879999999,2.1858171945899998,2.4594367732200002,1.9055148105399999,2.1924999999999999,734,1195.45,1192.2,1619.87,658.55,556,400.92,789.89,382.67,831.74,817,121.39498219577,172.82552000000001,153.25636392000001,580,464,318.60000000000002,386.79,195.1088877,239.11426721842,1.0277110227499999,0.81986909375000006,0.78288590259000002,2.6360641340000002,1.92353095,3.8074080000000001,9.7378065399999993,0.5230983615,0.44417581449999999,0.27756165799999999,3828.99166666667,470.233,329.65248684648998,697.55312275643996,818.44849999999997,574.69867001466002,1.2720657399999999,1.4079470000000001,1.487368,450,308.875,350,273.75,546,1413.1189999999999,72.510000000000005,3220.69,1132.7380000000001,11372.857,11306.905000000001,1187.405,858.69,947.41,11.2682]
["2009M02",41.843675438600002,43.2425,43.137999999999998,39.150526315790003,75.38,69.06,4.5190000000000001,11.04,10.52,114.48699546667,2.6475281580000001,2.8545419760000001,1.768546164,2.1351868488100001,2.54270987133,1.7453506751000001,2.1175000000000002,673,1110,1192.07,1543.24,655.66,565.25,374.45,747.64,396,802.4,805,112.53437575821,163.37719999999999,144.12923712,590.75,472.75,319.5,418.09333333333001,183.3509133,224.68754204999999,1.0671496649200001,0.94388290625000004,0.76646124725999998,2.5359743859999999,1.9114055400000001,3.8027880000000001,9.9207900000000002,0.504867803,0.43494831947000001,0.29255307400000002,4097.5,421.89510000000001,322.45407424049,690.19541757658999,806.65200000000004,572.95990329302003,1.2169502400000001,1.2977000000000001,1.46315,450,313.75,320,281.25,580.125,1330.2,75.59,3314.7249999999999,1100.5250000000001,11039.25,10408.75,1112.075,943,1033.25,13.4125]
["2009M03",46.645303030299999,46.839090909089997,45.575909090910002,47.520909090910003,61,58.56,3.9502000000000002,10.9,9.48,106.20969493210001,2.5099598699999999,2.8333776240000002,1.6823455220000001,2.21858600382,2.8473854739000002,1.67037253755,2.1379999999999999,625,1100,1253.7,1535.22,660.48,586.25,372.75,730.71,366.91,776.9,757,114.84506035755,164.55824000000001,138.58902706000001,588.25,471.5,332,"…",183.71834999999999,230.98173272099999,1.3309435726700001,0.90943462500000005,0.84705326174999995,2.6129156240000002,1.89003768462,3.7458431999999999,10.031021000000001,0.51533731999999999,0.43548259700000003,0.29541908,4203.6000000000004,388.23155000000003,288.56913615090002,679.86009517238995,815.85599999999999,570.78559738134004,1.1353793000000001,1.2775000000000001,1.4308179999999999,450,317.8,295,268.5,682.5,1335.8409999999999,64.069999999999993,3749.75,1238.9090000000001,10675.909,9696.3639999999996,1216.75,924.27300000000002,1081.77,13.1168]
["2009M04",50.278095238100001,50.845238095239999,50.18,49.809047619049998,63.56,62.88,3.4998,8.51,8.1199999999999992,88.456933772349998,2.55515458,2.9735914559999999,1.665149486,2.5089199608000001,2.8729398820899998,2.4438200003200001,2.21,747,1100,1274.23,1433,799.7,713.5,387.55,809.08,395.57,830.19,843,111.2902032696,168.49503999999999,154.14482577999999,549.66666666667004,446,335.66666666666998,430,182.6160399,233.47312851685999,1.29158948728,0.8901435875,0.90452286280000005,2.6373869060000001,1.8824063076899999,4.0435121250000003,10.031021000000001,0.52088494699999999,0.468261288,0.30093062999999998,4191.1750000000002,382.51,283.13029886185001,684.28014264979004,815.68349999999998,567.71685761048002,1.2522241599999999,1.4830000000000001,1.62381,315,300.625,278,245.625,682.5,1420.85,59.78,4406.55,1383.1,11743.5,11166,1378.85,890.2,1165.45,12.4793]
["2009M05",58.153888888890002,57.940952380950002,57.39571428571,59.125,64.5,58.03,3.81,8.09,7.5,89.807093329910003,2.480858886,3.3287557379999999,1.667133644,2.69362024588,2.9646676565100001,2.8936930811399999,2.2225000000000001,842.5,1100,1258.71,1406.55,872.61,826.84,425.72,889.62,447.37,947.07,941,128.70362325137,179.91175999999999,160.08407206000001,533,454,322.39999999999998,405.17750000000001,202.4576217,261.48173459625002,1.2867547096900001,0.83020357813000001,0.88823791277999997,2.7244693959999999,1.9171714692299999,4.2771074999999996,9.8789022200000005,0.53835024571000001,0.47676009809999997,0.35362104799999999,4226.7250000000004,395.35700000000003,291.06493490753002,717.61650940063998,855.42150000000004,565.91391462903005,1.36576209,1.56165,1.6932499999999999,270,267.875,245,236.25,682.5,1460.4469999999999,62.69,4568.6319999999996,1440.1579999999999,13793.421,12634.736999999999,1483.789,928.64499999999998,1128.67,13.9838]
["2009M06",69.149696969700003,68.616818181819994,69.210909090909993,69.621363636360002,71.38,60.2,3.8043,7.95,7.18,88.855521860920007,2.7004390379999998,3.302300298,1.6267890979999999,2.7815371531599999,3.13644330803,2.80066815145,2.4075000000000002,747,1100,1263.68,1338.81,788.57,732.62,442.09,892.92,460.14,917.18,907,148.58836815359001,179.51808,153.04251578,574.5,476,320.75,404.28500000000003,201.72274830000001,256.64493149079999,1.2842793347999999,0.85431737500000005,0.81611932533999998,2.7447518999999998,1.9438812884600001,4.539345,9.5526184599999997,0.55350979,0.49153005,0.36221906599999998,4245.0916666666699,406.464,279.2527859823,761.61492641119003,817.9,563.62952548402995,1.3536366799999999,1.526818,1.674636,198,256.10000000000002,220,239.7,682.5,1573.7270000000001,71.66,5013.9549999999999,1674.4549999999999,14985.682000000001,14960.455,1557.2729999999999,945.67,1217.8599999999999,14.654299999999999]
["2009M07",64.666673254279999,64.91,64.969565217389999,64.120454545450002,73.8,61.1,3.3902000000000001,6.67,7.55,77.992539266669993,2.7912693819999999,3.10630958,1.5802716160000001,2.9589417034399998,3.4603277655600002,2.7439973447499999,2.6724999999999999,685,1100,1278.56,1322.77,698.48,663.91,430.61,846.3,440.22,851.56,804,140.30670078052,151.5668,133.80059241999999,572,463.5,320.25,410.22800000000001,175.63474260000001,224.85038331477,1.1465831788400001,0.82675874999999999,0.71535925366999997,2.7923716920000001,1.9524665875,4.5371249999999996,9.0521697200000002,0.55632310129999996,0.50739329300000002,0.40631146600000001,4238.8583333333299,408.55200000000002,281.42337662145002,776.02385989481002,760.27499999999998,561.92914189928001,1.42859376,1.595478,1.749217,90,263.25,224,243.75,615.625,1667.9570000000001,83.95,5215.5429999999997,1678.6089999999999,14038.913,15984.565000000001,1578.6089999999999,934.22799999999995,1162.26,13.361700000000001]
["2009M08",71.629682539680005,72.504761904760002,71.324285714289999,71.06,72.5,64.25,3.1478999999999999,6.92,7.76,76.380966851270003,2.9566158819999999,3.301638912,1.5950425699999999,2.99231843422,3.4576370938499998,2.7053182088200001,2.8140000000000001,747,1119.05,1217.04,1310.18,746.05,726.19,497.53,903.15,453.19,884.24,820,122.24774857563,151.96047999999999,142.37215498,526.25,432.75,305.5,395.71749999999997,161.67214799999999,210.37290809743001,1.0763685120399999,0.83364840625000003,0.83629003698000004,2.7956786220000001,1.9130088999999999,4.5600759999999996,8.3356682200000005,0.56344331999999997,0.57464995028999999,0.49471672799999999,4272.5583333333298,413.77199999999999,276.61863311555999,785.61143296506998,769.66800000000001,562.01041564519005,1.4164683499999999,1.8388500000000001,2.0588000000000002,90,276.39999999999998,225,251.5,530,1933.75,97.67,6165.3,1900.1,14869.75,19641.75,1821.675,949.375,1244.57,14.3567]
["2009M09",68.346111111110005,67.686818181820001,67.908181818179997,69.443333333330003,67.64,61.13,2.9615999999999998,7.13,8.42,75.564136766870007,3.1429062719999998,3.2745220860000002,1.6274504839999999,3.1570423919200001,3.7644601822300001,2.74166699354,2.9649999999999999,701,1150,1161.6400000000001,1232.58,703.85,700.68,425.01,858.18,440.95,855.36,809,103.46648361803,150.38576,141.82981846000001,518.75,428,303.25,392.858,158.36521769999999,191.09332947857001,1.13031694133,0.81849116249999998,1.0309466943800001,2.8137565059999998,1.8711712250000001,4.5013945,7.81317328,0.54300342000000001,0.63736614019000004,0.508385372,4300.3500000000004,422.298,280.83979017966999,775.50176433158003,784.27200000000005,560.69740702040997,1.41205911,2.0666000000000002,2.1718999999999999,90,280.625,225,232.25,425,1834.114,80.709999999999994,6196.4319999999998,2204.5450000000001,14869.091,17473.182000000001,1884.0229999999999,996.59100000000001,1288.7,16.389500000000002]
["2009M10",74.080606060609995,73.194090909089994,73.275454545450003,75.772272727270007,71.069999999999993,64.349999999999994,4.0232000000000001,7.6,9.1,91.150604519400005,3.372627676,3.4076811340000002,1.6206161619999999,3.0266804250699999,3.5239033899600001,2.9436378852399998,2.6124999999999998,706,1150,1079.3800000000001,1155.42,724.66,727.05,430.08,897,429.5,894.11,846,130.65072284964,167.31399999999999,159.04790066000001,493,412.8,298.39999999999998,414.10750000000002,175.63474260000001,198.84886839642999,1.08028217183,0.80953460937999999,1.15261406736,2.7465155960000001,1.82661952917,4.4584165000000002,7.6191667199999999,0.48781481818,0.67778035599999997,0.49912596799999998,4329.45,444.48,276.62496826472,790.04314283686995,805.10424999999998,559.31508821673003,1.4726861600000001,2.2636820000000002,2.352182,90,271.625,246.5,234.875,425,1878.568,86.79,6287.9769999999999,2240.7730000000001,15008.864,18525.226999999999,2071.5909999999999,1043.1590000000001,1332.77,17.2361]
["2009M11",77.552301587299993,77.036666666670001,77.625238095239993,77.995000000000005,78.8,66.44,3.6907000000000001,7.81,9.1300000000000008,88.131592030159993,3.3840916999999999,3.3556521020000001,1.5317699760000001,3.0559291266000002,3.34950667805,2.9122807017499999,2.9060000000000001,729,1150,1028.92,1151.6500000000001,763.33,754.52,447.41,932.38,439.57,933.77,921,155.25198187996,171.64447999999999,166.00788600000001,542.75,460.25,337,491.60500000000002,204.6622419,211.03834934118001,1.02749070875,0.83364840625000003,1.15440641492,2.833157162,1.81075615769,4.5697184999999996,7.4957079999999996,0.49634818182000001,0.70245807059999998,0.49074841200000002,4427.3999999999996,451.14850000000001,271.97349973866,821.01290238313004,821.05650000000003,558.60821705600995,1.58291716,2.4888499999999998,2.5418500000000002,90,273.2,228.5,243.5,425,1949.2860000000001,99.26,6675.5950000000003,2308.7620000000002,14942.380999999999,16991.189999999999,2193.3809999999999,1127.0360000000001,1400.62,17.821300000000001]
["2009M12",74.881818181819995,74.669545454550004,75.488636363639998,74.487272727269996,83.1,73.8,5.3651999999999997,8.01,9.76,109.8432858286,3.49762963,3.4868159688999998,1.5407207331999999,2.97358010567,3.2670953102200002,2.6769783401199998,2.9766666666699999,768,1185.6896551724101,1093.1199999999999,1181.8699999999999,821.81,835.45,449.35,939.91,430.82,938.29,986,150.58598335049001,164.55824000000001,166.34519286,591,515.25,403,529.91399999999999,206.49942540000001,206.25140562749999,0.98936456162999997,0.79575529688000002,1.0135766724599999,2.88364296,1.81100347083,4.4752219999999996,7.5508234999999999,0.48924128260999999,0.73420860700000001,0.51874708599999997,4460.6833333333298,452.72399999999999,264.8295343959,807.70669801336999,795.95600000000002,557.21747370279002,1.6755112000000001,2.7941500000000001,2.80125,90,331.5,232,262,425,2180.0949999999998,105.07,6981.7139999999999,2328.5239999999999,15546.905000000001,17066.429,2375.9520000000002,1134.7239999999999,1437.48,17.642199999999999]
["2010M01",77.121087719299993,76.373000000000005,76.635000000000005,78.355263157889993,97,86.94,5.8068999999999997,8.8000000000000007,10.02,119.13880032206001,3.5251873800000002,3.5031411800000001,1.544997696,2.8977470991200001,3.41052368679,2.43771761059,2.8450000000000002,784,1202.5431034482799,1075.52,1275.53,830.88,879.5,435.88,920.55,423.05,914.09,968,146.53767234931999,167.31399999999999,161.79485718000001,568.79999999999995,510.6,420.2,485.28399999999999,198.78325469999999,201.19093202368001,0.94131466662999996,0.78542081249999995,1.08926182595,3.0225340200000002,1.8298346000000001,4.4878132500000003,7.71617,0.47811534999999999,0.86769201895000003,0.58356291400000004,4465.5333333333301,442.43509999999998,258.21614989233001,804.14153116729995,792.44269999999995,557.21747370279002,1.70637588,3.0371999999999999,3.0920000000000001,90,383,296.25,266.5,389.375,2235.15,125.72,7386.25,2368.375,17714.75,18439.25,2434.4499999999998,1117.963,1557.9,17.748999999999999]
["2010M02",74.763015594539993,74.311999999999998,73.563888888890006,76.413157894739996,94.19,83.36,5.3357000000000001,8.8000000000000007,10.52,113.75559002138,3.2765062440000001,3.4802131319999998,1.496496056,2.8512152253599998,3.3214200588299998,2.2947256172600001,2.9375,798,1200,1034.0999999999999,1287.5,830,894,411.86,909.19,404.85,900.93,948,137.37599107534001,161.80248,154.05664098,535,474.66666666666998,405,421.78500000000003,191.80195739999999,194,0.97588951081999997,0.71996907813,0.98159241609000003,3.2116904160000002,1.8353461499999999,4.5141799999999996,7.9785197800000001,0.45847094999999999,0.88740596304999997,0.55975301799999999,4389.2916666666697,424.26600000000002,252.75851306509,804.92218834280004,781,557.21747370279002,1.76479831,3.0808,3.1274000000000002,90,413.625,300,297.5,374.375,2048.9250000000002,127.49,6848.1750000000002,2123.6750000000002,16361.75,18976,2156.9,1095.413,1520.35,15.872999999999999]
["2010M03",79.297681159419994,79.274782608699994,77.367826086959994,81.25043478261,94.375,82.962500000000006,4.2923999999999998,8.93,10.42,101.63667599970999,3.0897749299999999,3.6265999,1.4826069500000001,2.6213984645399999,3.3219593005300001,1.7422360931,2.8,921,1200,1061.33,1317.02,862.83,996.96,409.36,911.07,371.38,910.08,949,146.98247256850999,159.04671999999999,154.70259464,502.2,445.6,377,392.572,189.96477390000001,191.07507175435001,1.12470048816,0.83778220000000003,0.95472186969999995,3.3995240400000002,1.85109343571,4.4274674220000003,8.21882336,0.45471589130000001,0.77412834974,0.41138209199999998,4206.9333333333298,427.568715,249.83986763524001,803.26287371638,790.10213624999994,557.21747370279002,1.89156396,3.1763479999999999,3.3386086956500001,90,424.5,354.375,278.7,340,2205.63,139.69,7462.826,2172.087,17549.348000000002,22461.304,2275.0650000000001,1113.337,1599.43,17.106100000000001]
["2010M04",84.182857142860001,84.978571428570007,83.092380952379997,84.477619047619996,100.15,88.7,4.0058999999999996,7.52,10.98,91.833895263160002,3.2211702820000001,3.731098888,1.576744224,2.7743578700199998,3.2663938744699998,2.4533464022599998,2.6033333333300002,940,1200,1072.3699999999999,1361.62,862.71,1021.05,402.6,902.83,376.95,909.13,924,151.70521637143,157.07831999999999,149.4070974,466,408.66666666666998,343,371.17,187.76015369999999,192.87,1.05142997001,0.82503633594000003,0.99472843658999999,3.6572441179999999,1.8794385499999999,4.5609999999999999,8.4877870000000009,0.44978851135999998,0.68384162943000004,0.36265998999999999,4179.7916666666697,429.64864,246.03528154253999,818.06995592042995,820.20849999999996,564.66326304025995,1.9418292960000001,3.2806000000000002,3.9481818181800001,90,417.5,372.5,253.75,340,2316.7249999999999,172.47,7745.0749999999998,2264.85,18683.5,26030.75,2366.6750000000002,1148.6880000000001,1710.5,18.0623]
["2010M05",75.61831746032,76.250952380949997,76.873999999999995,73.73,100.13,90.9375,4.1559999999999997,7.27,11.39,92.745895025590002,3.1784006539999998,3.8201655360000002,1.5566821820000001,2.7988500318099998,3.2185628084600002,2.84798728698,2.33,932,1200,1108.04,1366.87,855.31,1031.05,402.87,859.49,371,862.49,910,143.03590335932,163.37719999999999,147.34577770000001,451.33333333333002,396.66666666666998,329,368.82249999999999,190.3322106,181.60558897499999,0.99899255053000002,0.79920012500000004,1.0547115513100001,3.58360981,1.9056184125,4.8427499999999997,10.031021000000001,0.42097695237999999,0.68106223349999995,0.33510224,4244.5749999999998,403.488,253.65874816397999,772.90032713123003,836.47132350000004,566.78886205066999,1.985701234,2.8869500000000001,3.6677499999999998,90,410,352.75,234,334.5,2040.5260000000001,161.35,6837.6840000000002,1882.684,17566.053,22008.157999999999,1968.3679999999999,1205.434,1624.86,18.433299999999999]
["2010M06",74.724999999999994,74.838181818180004,73.98318181818,75.353636363640007,98.1875,92.8125,4.7948000000000004,7.74,10.48,102.1209290833,3.2308706100000002,4.2086195799999997,1.695793704,2.7180479741300001,3.00076145372,2.91838246866,2.2349999999999999,993,1200,1136.71,1366.87,825.68,1050,401.33,860.28,351.18,876.07,889,145.93266868949999,152.74784,130.97867882,440,392,329.5,358.21499999999997,182.6160399,157.67209847046001,1.03652854844,0.96207159875000003,1.2012702857099999,3.3250078840000001,1.92183508846,5.2014899999999997,12.39437364,0.40909210226999998,0.72373666199999998,0.35009365599999998,4337.8083333333298,390.78399999999999,260.83782247764998,770.40421310511999,841.09199999999998,567.49575788166999,2.0511784479999999,2.9000909090899998,3.5657727272700002,90,392.5,346.8,226.25,312.5,1931.386,143.63,6499.2950000000001,1703.9549999999999,17319.773000000001,19388.635999999999,1742.8409999999999,1232.92,1553.23,18.454799999999999]
["2010M07",74.579401154400003,74.735454545449997,72.652272727270002,76.350476190479995,95.98,90.61,4.6265999999999998,8.0399999999999991,11.32,102.07370050082,3.2295478379999998,4.4800083019999999,1.879879474,2.8640997545800002,3.0446446425200002,3.23265462124,2.3149999999999999,1031,1200,1139.5899999999999,1366.87,844.43,1063.8599999999999,427.53,910.82,369.32,946.76,937,156.36196489269,163.75682,132.40286334000001,441.8,395.6,349.8,357.85599999999999,222.28170651428999,195.81769059128999,0.95885934492000002,0.98522084374999996,1.30241177536,3.26945146,1.93655825,5.3875782750000001,12.68979272,0.42774931818,0.73277369524000002,0.38492665199999998,4381.8500000000004,421.36511999999999,274.90743387152003,794.51176102272996,871.18286999999998,569.66985219141998,1.85538815,2.92640909091,3.2741818181800002,98.75,418.125,360,259.375,312.5,1988.2729999999999,126.36,6735.25,1836.9770000000001,18191.364000000001,19517.5,1843.886,1192.9659999999999,1525.59,17.9605]
["2010M08",75.826269841270005,76.693181818179994,74.183809523809998,76.601818181819993,89.78,87.9,4.3049999999999997,8.4499999999999993,11.3,100.10397055048,3.0716970460000002,4.6647554580000001,1.8227798159999999,2.99338321328,3.26955247269,3.20259716716,2.508,1170,1231.82,1155.8699999999999,1383.9,943.73,1171.1400000000001,449.84,997.62,398.91,1012.94,1074,161.23269214493001,175.58127999999999,143.39509866,452.75,412,369,422.85750000000002,261.61493039999999,246.24722445585999,0.86485336522,0.89910014062999999,1.13932707033,3.410106216,1.93540198077,6.8494000000000002,11.96667736,0.43205787499999998,0.77172723099999996,0.40807516199999999,4350.0916666666699,425.60924999999997,294.67195436259999,813.66528381833996,892.1847252,571.81858994626998,1.9917691880999999,3.1425909090899999,3.3160909090900001,125,459.9,380.75,263.5,312.5,2118.143,145.34,7283.9520000000002,2075.2379999999998,20754.761999999999,21413.332999999999,2044.5709999999999,1215.81,1540.59,18.387699999999999]
["2010M09",76.116240981239997,77.786818181819996,75.270476190479997,75.291428571430004,94.9,85.82,3.9039000000000001,8.2799999999999994,11.03,94.242164940449996,2.8750449420000002,4.9099092019999997,1.7919151360000001,2.9960260725999999,3.3488085507299998,3.1817696670800002,2.4575,1275,1250,1182.1400000000001,1426.71,948.88,1259.6600000000001,468.26,1035.26,409.73,1032.57,1114,168.11980413513001,205.89464000000001,184.90462885714001,476.5,448,412,457.678,276.31239840000001,271.67359754743001,0.97408516714000004,0.88049806875000003,1.0468508990600001,3.3909260219999999,1.93455405,7.2438000000000002,11.732987639999999,0.43901111905000001,0.84150345400000004,0.496259962,4358.3500000000004,432.01949999999999,310.91209847739998,827.12243754222004,875.96437500000002,575.35057104861005,2.3088985260000001,3.3625240000000001,3.5333809999999999,125,506,428,308.75,312.5,2162.3409999999999,140.62727272727,7709.2950000000001,2184.2269999999999,22701.135999999999,22643.409,2151.4090000000001,1270.9770000000001,1591.75,20.549800000000001]
["2010M10",81.719365079369993,82.918095238099994,80.340476190480004,81.899523809520005,97.45,90.99,3.4315000000000002,8.2899999999999991,11.13,88.620924680490006,2.9275148980000001,4.7981349680000003,1.879879474,3.03472973501,3.3724139968700002,3.2467752081699999,2.4849999999999999,1412,1280.95,1197.99,1471.32,1025.83,1420.95,495.79,1146.75,417.77,1149.51,1284,174.62422634836,235.81432000000001,201.03929780000001,486,457,428.25,477.68,267.49391759999997,270.23219586429002,1.0033432303100001,0.91632428124999998,1.08632365351,3.3743913719999998,1.9120485541700001,7.6478999999999999,11.75723846,0.45409956304999999,0.84287871695000005,0.54255698200000002,4357.4916666666704,458.88150000000002,316.36162135653001,867.41951343101005,880.17449999999997,578.23195983995004,2.7899466099999999,3.8479523809499998,3.92476190476,125,557.25,455,332.5,312.5,2346.5700000000002,148.48095238094999,8292.4050000000007,2379.6669999999999,26342.618999999999,23807.381000000001,2372.143,1342.0239999999999,1688.69,23.3933]
["2010M11",84.53406349206,85.67,83.695999999999998,84.236190476190004,107.16,103.2,3.7272500000000002,8.59,10.84,93.442045668540004,2.910318862,5.147346776,2.0291322479999998,3.0270648023,3.39794202704,3.1657523798499998,2.5175000000000001,1512,1350,1202.67,1543.24,1131.3599999999999,1631.14,514.15,1231.69,436.82,1242.32,1441,179.09046833727999,238.1764,203.24832703999999,514.5,477.5,427.75,508.03,278.51701859999997,274.08076079558998,1.0347555517,0.90943462500000005,0.82334876000000001,3.501597946,1.8840315083300001,8.0579000000000001,12.198162460000001,0.44547608181999998,0.85621141885999996,0.58091736999999999,4372.1750000000002,450.16950000000003,313.32446030098998,843.81640927425997,901.45185000000004,580.99853360545001,3.4097072847600001,4.2383499999999996,4.3122499999999997,125,554.1,463.75,365.4,322.5,2333.0680000000002,156.1,8469.8860000000004,2376.7269999999999,25519.091,22909.317999999999,2291.6819999999998,1369.886,1692.77,26.540900000000001]
["2010M12",90.005961791830003,91.79652173913,89.074545454550005,89.146818181819995,118.29,115.24,4.2370952381000002,8.74,10.75,100.28540794401999,3.0600125600000001,5.4712054539999997,2.0743269579999999,3.04230296836,3.5027627627600002,2.93747947564,2.6866666666699999,1715,1372.5752508361199,1301.1849082568799,1644.45,1234.6400000000001,1829.55,545.75,1324.72,449.19,1382.99,1454,189.64090120531,250.38048000000001,221.57092385999999,532,479.8,413.4,528.28599999999994,308.64682800000003,306.52010438040003,1.0621423563800001,0.89978910624999997,0.72389052499999995,3.8807925860000001,1.8817350291699999,8.2306000000000008,12.456103000000001,0.43194375164999999,0.84685466799999998,0.61687271799999999,4354.8083333333298,436.49430000000001,306.53989014485001,832.08761155163995,896.98850000000004,582.38416766671003,3.7034088608000002,4.6894347826100002,4.7460000000000004,125,540.625,472.5,380.625,322.5,2350.6669999999999,163.1,9147.2620000000006,2412.9290000000001,26163.332999999999,24111.19,2280.9290000000001,1390.5530000000001,1711.39,29.3248]
["2011M01",92.690595238100002,96.294285714289998,92.369,89.408500000000004,132.47999999999999,122.62,4.4934000000000003,9.61,11.45,108.0080141041,3.164952472,5.8151261740000004,2.2286503579999999,3.0208513756299999,3.5588023511200002,2.6117517757800002,2.8919999999999999,2038,1426.7558528428101,1324.8284862385301,1653.47,1303.57,2139.0500000000002,567.62,1365.73,462.26,1440.75,1492,195.20185783871,264.94664,246.31778335999999,516.79999999999995,467.6,405,493.858,320.40480239999999,326.55656760728999,1.1967726621300001,0.89218215624999997,0.73461162499999999,4.1942895499999997,1.8739269999999999,8.2673000000000005,12.52444622,0.43668458475999999,0.84793166179000001,0.65278798199999999,4370.7749999999996,441.28458000000001,315.32101589552002,827.82763721783999,907.78240000000005,584.49450084018997,3.9446714505,5.3319999999999999,5.5194999999999999,125,547.4,475,378.5,322.5,2439.5250000000001,179.18,9555.7000000000007,2601.65,27465.25,25646.25,2371.5500000000002,1360.46,1785.43,28.508600000000001]
["2011M02",97.914192007799997,103.9555,100.25444444444,89.532631578950003,128.36000000000001,117.74,4.0749000000000004,9.36,12.02,102.12369104794,3.4722765,6.3468805179999999,2.4107519700000002,2.8821079657499999,3.5593969631600002,2.2994269341,2.7875000000000001,2256,1426.7558528428101,1282.2700458715599,1653.47,1327.21,2307.63,566.04999999999995,1359.86,468.74,1403.14,1704.74,196.45768564745001,292.89792,253.15210536000001,524,473,420.5,478.57,338.77663740000003,348.12034854950002,1.31099588448,1.00241315625,0.88495694759999999,4.0765628420000004,1.8754301499999999,8.3995999999999995,12.566333999999999,0.44613484240000001,0.87391136800000002,0.64970151399999998,4317.0666666666702,450.83609999999999,328.62873281807998,831.50214127155004,927.80849999999998,588.68760283643996,4.6998089160000003,5.5811000000000002,6.2591999999999999,140,413.625,490,297.5,374.375,2508.1750000000002,187.18,9867.6,2586.6750000000002,31526,28252.25,2465.125,1374.68,1825.9,30.778500000000001]
["2011M03",108.64521739129999,114.44130434783,108.57826086957,102.91608695652,126.13,121,3.9712999999999998,9.3699999999999992,12.5,101.23837449449999,3.3929101799999999,6.4390336340000003,2.604317606,2.7577365014000002,3.5709233358699999,1.9647861683300001,2.7374999999999998,1925,1486.35451505017,1317.73541284404,1637.17,1241.74,1975.22,552.75,1306.53,437.96,1411.8,1636.96,202.57443163401999,290.53584000000001,266.14172639999998,492.75,455.5,408.25,464,303.13527749999997,316.74657066378001,1.2463036897299999,0.99621266249999996,0.85244409418,4.1850301459999999,1.89766906154,8.9671000000000003,12.6545188,0.45777464764999998,0.87509036042999999,0.57849228799999997,4537.6750000000002,462.59730000000002,334.76410728956,840.06961645649005,929.21725000000004,592.22113053434998,5.063350754,4.83947826087,5.4185652173900003,145,424.5,494,278.7,340,2555.5,169.36,9503.36,2624.02,30590.93,26710.35,2341.48,1423.26,1770.17,35.813499999999998]
["2011M04",116.24316666667001,123.07,115.7,109.95950000000001,122.5,124.03,4.2423999999999999,10.36,12.99,109.56884767707,3.134308254,6.6165055439999998,2.5875624940000002,3.0216695541599998,3.3723450053900001,3.0259969904099999,2.6666666666699999,2089,1598.3277591973199,1476.93550458716,1631.42,1219.6099999999999,1906.32,556.58000000000004,1310.45,412.37,1447.42,1634.05,208.92135991091999,319.27447999999998,289.60990629999998,484.25,448.25,409,484.28750000000002,314.8932519,336.12429558104998,1.2940009970899999,1.0265261875,0.88096929647,4.3320783,1.9048764730800001,10.174300000000001,12.786796000000001,0.47256886362,0.84277111049999998,0.53704543199999999,4606.9916666666704,477.54696000000001,343.49831515304999,883.40806851265995,946.20891749999998,596.33140977547998,4.77557435667,4.97065,5.8531000000000004,145,417.5,535.625,253.75,340,2678.11,179.33,9492.7900000000009,2701.17,32363.31,26408.33,2362.2199999999998,1480.89,1797.9,42.6952]
["2011M05",108.06851298701,114.45818181817999,108.4645,101.28285714286,119.12,120.46,4.3089545454499998,10.3,13.61,110.51185233744,3.070815198,6.4174283580000004,2.6891954760000001,2.9509178807500001,3.1002959792400002,3.1364576630099998,2.6160000000000001,2097,1710.30100334448,1435.16518348624,1632.47,1230.1199999999999,1985.48,556.79999999999995,1296.03,404.36,1406.76,1644.09,209.36910764967001,307.85775999999998,261.31581322,481.4,448.4,421.2,479.64499999999998,308.64682800000003,355.27788556363998,1.27040437511,1.01102495313,0.83641069670000001,4.1621020980000001,1.9079148916699999,10.282999999999999,12.63908646,0.46787650742999998,0.78175825200000004,0.48391409000000002,4431.1499999999996,487.23700000000002,385.24920138391002,862.51103538352004,958.12596250000001,605.63473782629001,3.649087024,4.5225999999999997,5.1163499999999997,147,410,547.5,234,334.5,2596.4499999999998,177.05,8959.9,2428.3200000000002,28676.45,24236.73,2167.35,1512.58,1786.55,37.335900000000002]
["2011M06",105.84545454546,113.75772727272999,107.52454545454999,96.254090909089996,120.09,119.01,4.5490000000000004,10.26,14.52,113.85317454804,3.0156996980000002,6.0622640759999999,2.60034929,3.0179147207799999,3.1177716979199999,3.2284724644299998,2.7075,1803,1736.48829431438,1376.84435779817,1700.57,1192.3800000000001,1761.75,556.22,1319.38,402.45,1401.82,1699.32,210.06429381464,310.61351999999999,260.43176060000002,513.75,473.75,427.5,475.28199999999998,282.19138559999999,326.42992919659002,1.1860559078599999,0.97554434999999995,0.91639999999999999,3.939435478,1.9167475038499999,10.091200000000001,12.700815820000001,0.47025827491,0.78393280899999995,0.55578470199999996,4389.7083333333303,504.01400000000001,417.56132438566999,870.63023163334003,973.15800000000002,607.74822246490999,3.1775188060000001,4.5247272727299999,4.9340000000000002,155,575.875,549.5,478.75,355,2557.7600000000002,170.88,9066.85,2524.9899999999998,25519.68,22420.93,2234.4699999999998,1529.36,1768.5,35.795000000000002]
["2011M07",107.91661111111,116.46,109.98333333332999,97.3065,120.75,116.27,4.4131,10.99,16.22,116.82502995674,3.1671570920000001,5.9088225239999996,2.4852681259999998,3.1010114608500001,3.0957398542900001,3.4122945282599999,2.7949999999999999,1662,1867.4247491638801,1351.6245412844,1945.58,1183.45,1372.62,556.5,1337.36,410.41,1392.95,1672.38,215.53213093132001,300.77152000000001,271.16825999999998,538.25,506.75,449.25,519.46500000000003,266.39160750000002,303.88392977625,1.07581479417,0.96107653125000003,0.97156140074999997,3.935908086,1.92553515,9.8381000000000007,12.773568279999999,0.46669544876000002,0.83620134290000003,0.62214376400000004,4458.5666666666702,521.63244999999995,430.48876613092,832.59460928646001,969.42,612.70994011318999,2.6896363999999999,4.56176190476,4.7320000000000002,161.875,597.625,555,483.75,442.5,2525.4299999999998,172.98,9650.4599999999991,2681.02,27398.1,23847.95,2397.75,1572.75,1759.76,37.917099999999998]
["2011M08",100.48642512076999,110.08130434783,105.05666666667,86.321304347829994,120.13,118.27,4.0538999999999996,10.81,16.55,111.83098840383001,3.0644217999999999,5.9621743279999997,2.4707176340000001,3.0219635338100002,3.1567114566400001,3.11417914479,2.7949999999999999,1454,2054.3478260869601,1283.8462844036701,2076.1799999999998,1205.48,1377.83,552.96,1328.39,409.21,1350.5,1671.3,206.09369421562999,310.21983999999998,302.52658317391001,566,533.75,465.25,553.428,277.61839623587002,327.06658952609001,1.02250180679,0.95074237500000003,0.94883461569000005,3.929073764,1.9428213750000001,9.5638000000000005,11.794717,0.46817274399999997,0.88025683948,0.61178204999999997,4569.3583333333299,523.28224999999998,450.03070651744002,839.51181046080001,973.59849999999994,619.18098569347001,2.5154714199999999,4.6175714285699998,4.6762857142899996,182.5,597.4,560,475.5,442.5,2379.35,177.5,9000.76,2397.2800000000002,24042.43,21845.09,2200.17,1759.01,1804.7,40.331299999999999]
["2011M09",100.81935064935,110.87909090909,106.00181818182,85.577142857140004,123.09,115.62,3.9013,10.85,16.27,109.97837023871,2.8739426319999999,6.0600594560000003,2.3382199720000001,2.8872209924400001,3.1378545632599999,2.8563084140699999,2.6675,1305,2131.10367892977,1657.72,2113.4299999999998,1137.25,1264.32,531.95000000000005,1307.8499999999999,404.09,1309.99,1591.59,209.57357284058,295.26,288.80522000000002,598.75,555.5,514,561.42999999999995,267.49391759999997,315.91622907613998,0.99134458595999997,0.94729765624999995,1.19493784609,3.8292044779999999,1.9616525041699999,9.5900999999999996,11.243562000000001,0.44907937455000002,0.88525991189999997,0.58775169199999999,4595.3,500.42959999999999,453.62805761751002,797.22030691891996,952.68140000000005,631.09467172566997,2.576318932,4.5162272727300001,4.5514999999999999,182.5,587.875,560,508.75,442.5,2293.46,177.23,8300.14,2287.67,22526.6,20377.59,2075.2199999999998,1772.14,1748.11,38.154499999999999]
["2011M10",99.847753968250004,109.46857142857,103.66849999999999,86.406190476190005,119.39,110.88,3.5680000000000001,11.42,16.48,108.7830220474,2.680156534,5.4634892839999996,2.1627322200000001,2.90292978025,3.2341789139400001,2.7826104268199998,2.6920000000000002,1208,2167.2240802675601,1684.88,2116.44,1044.75,1082.6199999999999,491.42,1223.0999999999999,381,1270.51,1483.81,208.84605202521999,274.78863999999999,263.672552,599.4,560.20000000000005,489,580.53750000000002,253.53132299999999,289.01083578214002,0.99208336331000002,0.95418709374999999,1.0326995968099999,3.9178302020000002,1.9621118,9.5900999999999996,11.133331,0.44822303810000003,0.82840801119999996,0.56107578999999996,4582.7583333333296,500.98439999999999,435.85795661484002,798.47080489824998,954.17574999999999,619.88841412458999,2.438530182,4.0848500000000003,4.0610499999999998,188.75,571.4,592.5,493.5,435,2180.65,150.43,7394.19,1960.38,21868.639999999999,19039.05,1871.42,1666.43,1535.19,31.974799999999998]
["2011M11",105.40501443001,110.50409090909,108.58761904762,97.123333333329995,113.78,105.47,3.2424499999999998,11.32,16.78,104.55759796356,2.5273763680000001,5.4033031579999999,2.1437724880000002,2.7871594902700001,3.1550110500300002,2.5489674207699999,2.6575000000000002,1479,2472.4414715719099,1597.19,2116.44,1113.3800000000001,1294.32,478.35,1213.96,359.59,1273.54,1502.5,211.45547127680001,274.39496000000003,265.43624799999998,615.25,584.25,549.75,568.74749999999995,253.1638863,281.00640224249997,0.97059896478999996,0.95625392499999995,0.68164967499999995,4.2048717260000004,1.9671223,9.6783000000000001,11.17080954,0.44259641636000002,0.83607588952,0.529549724,4522.5749999999998,481.14215000000002,403.25939883984,771.38927860416004,892.75085000000001,617.46927324894,2.3077962159999998,3.33028571429,3.3718571428600002,195,563.5,570,481.25,435,2079.98,135.54,7581.02,1994.22,21291.7,17873,1935.32,1739,1596.98,33.081800000000001]
["2011M12",104.23047619048,107.90904761905,106.21857142857,98.563809523809994,111.56,104.19,3.16423809524,11.53,16.48,104.40292760817999,2.1969038300000001,5.2185560019999997,2.1695665420000001,2.6951030182300002,3.1106053673299998,2.36137035401,2.61333333333,1445,2528.4280936454902,1515.66,2116.44,1121.5,1376.58,483.03,1203.28,351.62,1244.6600000000001,1439.77,212.27336667709,258.64776000000001,256.39730600000001,585.75,565.5,544,504.42599999999999,244.71284220000001,269.03000713749998,0.93996398782000001,0.94247504999999998,0.75773020000000002,4.2218473000000003,1.9801496000000001,9.9680999999999997,11.353793,0.42934179126999999,0.79828240381000004,0.50794444800000005,4438.6833333333298,466.73270000000002,387.85881936204999,753.88167405044999,888.43619999999999,615.03255126901001,2.1043097899999998,3.3468571428599998,3.38447619048,195,488.75,530,423.125,450,2022.25,136.38999999999999,7565.48,2022.35,19375.009999999998,18266.759999999998,1904.73,1639.97,1454.59,30.3032]
["2012M01",107.07457226399001,111.15619047619001,109.78052631579,100.28700000000001,116.46,106.26,2.6797,11.45,16.71,98.29450664705,2.30762,5.229508955,2.1323084639999998,2.65663881539,3.0575740386799999,2.2803424074800001,2.6320000000000001,1451,2528.4280936454902,1616.04,2116.44,1123.5,1362.05,503.18,1216.28,385.86,1252.78,1451.82,210.55817656619001,272.84484500000002,265.65670999999998,542,534,516.25,451.43,253.8987597,274.89317414624998,0.96192371197000004,0.945230825,0.73058219061999996,4.2571212200000002,1.9919660291700001,9.9077000000000002,11.353793,0.42159415526999999,0.76484881660000004,0.51940847199999995,4414.5833333333303,458.31209999999999,387.74674783950002,750.76198354859002,876.99865,615.03255126901001,2.2290912820000002,3.5037894736799999,3.6260526315799999,195,451.4,435,368,495,2144.1999999999998,140.26,8040.47,2096.16,21438.63,19854.77,1981.86,1654.05,1499.32,30.6509]
["2012M02",112.68752380952,119.70238095238,116.14619047619,102.214,117.02,105.3,2.5192000000000001,11.12,16.03,94.315988415649997,2.3562400000000001,4.9418761919999996,2.2471691659999999,2.5671632921800001,2.9699496252399999,2.0940402513,2.6375000000000002,1411,2528.4280936454902,1760.57,2116.44,1146.25,1365.48,522.96,1249.1199999999999,406.19,1287.68,1485,213.40087266162001,279.45866899999999,269.184102,537.5,529,518.25,430.43,263.08467719999999,277.77295928249998,1.24455195609,1.0678628125,0.77864096152999995,4.3095911759999996,2.0098785666699999,9.5350000000000001,11.422136220000001,0.43228146743000001,0.74144677530000003,0.53175434399999999,4417.5249999999996,466.61835000000002,374.97851200127002,757.29116149220999,885.06880000000001,612.29603598256006,2.2211546499999999,3.7787619047600001,4.0025238095200004,190,435.5,445,375,495,2207.92,140.4,8441.49,2121.2600000000002,24293.31,20393.669999999998,2057.79,1744.82,1657.76,34.140500000000003]
["2012M03",117.785,124.92863636364,122.27590909091001,106.15045454545999,107.46,103.43,2.1661000000000001,11.97,16.34,94.279063117470002,2.3592499999999998,4.4370182119999999,2.2833249339999999,2.4242339288400001,2.7542335824499999,1.78596820409,2.7324999999999999,1338,2528.4280936454902,1766.55,2138.48,1195.3399999999999,1366.43,547.46,1285.3800000000001,440.73,1289.1199999999999,1500.68,222.78858648900999,280.69384000000002,274.034266,548,544.4,526.75,428.7475,259.77774690000001,283.87825408636002,1.2210655536299999,1.1436466249999999,0.80257294212999997,4.347069716,2.0456329807700002,9.5350000000000001,11.561027279999999,0.43150005600000002,0.76353005299999999,0.53131342000000004,4379.0083333333296,465.77587499999998,357.05200619994002,758.54654140408002,886.53599999999994,610.96493061843,2.1935969000000002,3.7814545454499999,3.9290454545500002,160,442.875,441.25,393.125,495,2184.16,144.66,8470.7800000000007,2056.69,22985.43,18660.810000000001,2035.92,1675.95,1655.41,32.953200000000002]
["2012M04",113.66549999999999,120.4635,117.25,103.283,103.59,101.33,1.9467000000000001,11.42,16.850000000000001,89.345644258129994,2.2667799999999998,4.22074499,2.2443031599999999,2.7914173879600002,3.2041783132399999,2.3880738506500001,2.782,1348,2528.4280936454902,1734.07,2274.96,1233.6099999999999,1394.72,583.83000000000004,1308.8900000000001,482.37,1303.5899999999999,1551.9,237.17206304446,274.00128000000001,254.854072,547.75,550.66666666667004,533.25,440.71499999999997,254.6336331,266.32392179211001,1.25723456083,1.02997090625,0.82289048765999995,4.2868835900000004,2.0558081499999998,9.5350000000000001,11.768261559999999,0.42987269867,0.70255727850000005,0.50155105,4354.0749999999998,464.02042499999999,353.69889957437999,766.97004478218003,896.38080000000002,611.58491903131005,2.2032972279999998,3.6648999999999998,3.8449499999999999,185,478,441.25,494.375,477.5,2049.67,147.63999999999999,8289.48,2071.0700000000002,22200.62,17939.79,2002.14,1649.2,1585.81,31.525500000000001]
["2012M05",104.0860342556,110.52173913044,107.05454545455,94.681818181820006,95.83,93.77,2.4373999999999998,11.64,17.12,96.533194706070006,2.31393,4.0708308300000002,2.3562978559999999,3.00160249213,3.0241860465100001,3.1831214298899999,2.7974999999999999,1155,2400,1607.08,2408.0500000000002,1125,1236.75,577.48,1220.55,502.8,1234.8800000000001,1522.17,239.45847566667001,269.27712000000002,259.35389539456003,600.5,553.25,561.75,433.28800000000001,251.32670279999999,264.35872401848002,1.20712201878,0.95349815000000004,0.75583243959000002,4.2174380600000001,2.0737206874999998,9.5150000000000006,11.794717,0.4182515168,0.66579524000000001,0.45878142199999999,4355.2333333333299,451.47494999999998,367.02541036256002,763.35723389077998,892.15840000000003,611.58491903131005,1.9518402749999999,3.3764090909100002,3.72813636364,195,490.5,485,513.125,477.5,2007.63095238095,136.61000000000001,7955.6428571428596,2012.82142857143,20405.238095238099,17068.190476190499,1936,1589.04,1470.7,28.7196]
["2012M06",90.728253968250002,95.589047619050007,94.236190476190004,82.359523809519999,87.19,85.31,2.4552,11.49,17.2,96.090450413680003,2.2642099999999998,3.7189734780000001,2.3302833399999998,2.9724366847999999,2.9123178735700002,3.1249921808200001,2.88,1058,2400,1558.48,2425.08,1027.74,1089.05,578.01,1181.93,514.95000000000005,1183.3699999999999,1430.48,236.75781616667001,267.30871999999999,263.93316978796997,600,578,541.20000000000005,411.96249999999998,249.48951930000001,276.18991949999997,1.04930648003,0.95418709374999999,0.95276366103999999,4.1241826340000003,2.0833659,9.1964000000000006,11.794717,0.40975427009999998,0.63063680010000001,0.451285714,4282.9666666666699,442.30290000000002,362.31127081427002,751.69465867898998,862.84,606.67897337240004,1.8117567160000001,2.8629523809499999,3.1987142857099999,193.125,501.625,485,456.875,477.5,1890.17857142857,134.66,7423.0238095238101,1854.1523809523801,19271.071428571398,16549.142857142899,1858.7023809523801,1598.76,1443.86,27.983599999999999]
["2012M07",96.754112554109994,103.14090909091,99.22,87.901428571430003,88.24,87.33,2.9455,11.13,18.11,100.9494357434,2.3498186363600002,4.1986987899999999,2.3602661720000002,3.0293613227899998,2.9898372306300001,3.1102467377299998,2.988,1070,2400,1502.97,2450.2800000000002,1052.8399999999999,1063.18,670.19,1239.49,608.67999999999995,1214.67,1472.27,253.379732375,333.05327999999997,268.59329800443999,573.75,555,518.75,409.28500000000003,322.9768593,345.68794675714003,0.85025370560000002,0.96452125,1.0151581055800001,4.0318090560000002,2.0884181541700002,8.7502999999999993,11.794717,0.40143723927000002,0.63230601237999995,0.50441705599999997,4191.4166666666697,430.25150000000002,357.19175146739002,747.40624256783997,857.91750000000002,606.67897337240004,1.851219414,2.89286363636,3.0783636363600002,188.5,436.875,485,307.5,279.5,1876.25,127.94,7584.2613636363603,1881.47727272727,18546.090909090901,16128.409090909099,1847.75,1594.29,1425.82,27.431799999999999]
["2012M08",105.27363699103,113.34,108.37047619048001,94.11043478261,91,89.11,2.8382999999999998,11.18,17.739999999999998,99.634691967159995,2.5122599999999999,3.85421253704,2.3483803946099999,3.1172910099500002,3.06582246362,3.2035505662200001,3.0825,1001,2400,1431.13,2469.1799999999998,1022.38,1007.61,684.02,1250.27,651.35,1230.73,1525.43,265.69345366667,331.99205565217,273.33570763712999,567.75,545,509,436.428,333.73237052935002,349.40035068261,0.98487190125000001,0.95074237500000003,0.97038912808,4.09508165,2.09478268214,7.9462000000000002,11.75723846,0.40505721496000002,0.63361737330000001,0.460324656,4207.9333333333298,431.03205000000003,354.70767584685001,749.60345123362004,856.65824999999995,606.67897337240004,1.86069928,2.5950952380999999,2.7930952380999998,182.5,504.5,485,382.5,477.5,1845.3760869565201,107.5,7515.5326086956502,1900.6195652173899,18772.619565217399,15735.206521739099,1818.1630434782601,1630.31,1453.26,28.8002]
["2012M09",106.28496491228,113.38249999999999,110.9645,94.507894736840001,88.96,85.82,2.8414999999999999,11.08,16.829999999999998,98.581633900699998,2.6202800000000002,3.9458288760000002,2.3137486900000002,3.1040471012399999,3.1879764922599998,3.0891648114599999,3.0350000000000001,967,2400,1354.36,2469.1799999999998,1001.38,980,677.32,1280.95,647.17999999999995,1268.69,1572.25,256.23655245832998,320.8492,278.16185148541001,563.25,543.75,512,455.17750000000001,343.5533145,353.42092377236997,1.1118808410200001,0.96452125,1.000894425,4.0622328120000004,2.1086271708300002,7.1447000000000003,11.367020719999999,0.42040517999999999,0.57904924462999996,0.44065712494999998,4191.4666666666699,447.36455000000001,353.34306287826001,768.45024220779999,878.19664999999998,608.08291845994995,1.8551877299999999,2.76275,3.0384500000000001,182.5,527.375,485,384.375,477.5,2064.12,99.47,8087.74,2177.67,20771.259999999998,17287.96,2009.85,1744.81,1623.65,33.608499999999999]
["2012M10",103.40786561265,111.97347826087,108.73272727273,89.517391304349999,81.849999999999994,82.8,3.3174000000000001,11.58,15.3,105.70108533749,2.4635400000000001,3.8210473839999999,2.3031665139999999,3.00924948795,3.1589819346299999,2.9887665292299999,2.88,898,2400,1359.81,2469.1799999999998,886,863.04,625.76,1177.95,595.41,1214.2,1302.6099999999999,252.91125062500001,321.24288000000001,283.07320800000002,558.25,532.5,520.25,453.74400000000003,340.24638420000002,358.19566699500001,1.11732749176,0.95625392499999995,0.98084851102000004,4.0736968359999999,2.1128920607100001,7.1098999999999997,10.92609672,0.42354051096000001,0.52540103000000005,0.44778707791,4223.95,450.70055000000002,350.23312941109998,766.48067624819998,873.36249999999995,610.15249444234996,1.8066860899999999,2.9537727272700001,3.2039545454499998,182.5,533.5,474,349,477.5,1974.3,113.95,8062.03,2141.9699999999998,21233.7,17168.740000000002,1903.96,1746.58,1635.83,33.187399999999997]
["2012M11",101.17441558442,109.71181818182001,107.13333333333,86.678095238099999,85.89,85.74,3.5379999999999998,11.83,15,109.3651582862,2.4781599999999999,3.5254078419999999,2.1532523540000001,3.01698104943,3.11612345158,2.89231969671,3.0425,848,2400,1339.11,2469.1799999999998,863.18,806.7,584.59,1137.78,567.61,1184.6099999999999,1285.23,252.06614629167001,321.63655999999997,289.02568200000002,559.25,530,523,448.32249999999999,346.49280809999999,360.82283940000002,1.06778975002,0.93351878124999998,0.84683615000000001,4.293056526,2.1304645999999998,7.1595000000000004,10.96137064,0.41925182945,0.49645942762,0.42635251161999999,4268.7749999999996,449.34511363636,353.03499444638999,761.32091633885,870.04914772727,611.51192384026001,1.782876194,2.8003333333299998,2.9741428571399999,182.5,487.875,447.5,383.5,477.5,1948.82954545455,120.35,7711.2272727272702,2181.9659090909099,20713.068181818198,16335.3636363636,1912.39772727273,1721.64,1576.36,32.773200000000003]
["2012M12",101.19366666667,109.6765,105.68899999999999,88.215500000000006,92.88,88.84,3.3395000000000001,11.79,15.41,107.04231243184,2.4103400000000001,3.3673365880000001,2.1294424580000002,3.0830124090500002,3.3101364160100002,2.8622341444699999,3.07666666667,785,2400,1303.0899999999999,2502.25,843.55,753.53,591.29,1158.6400000000001,577.22,1188.18,1271.9000000000001,242.94453104166999,308.64512000000002,283.95505600000001,557.79999999999995,530,520.4,413.75,325.18147950000002,347.96255489999999,1.1233965702499999,0.94385293749999999,0.75808699999999996,4.3746274659999997,2.15271957083,7.2201000000000004,11.071601640000001,0.42867686705000002,0.49202709160000002,0.42571212200000003,4341.3083333333298,459.44666666667001,354.80016941861999,769.97357305721005,879.93753571428999,612.85907467239997,1.8379916940000001,2.8960499999999998,3.1097000000000001,182.5,472.83333333333002,435,375.83333333333002,477.5,2086.7631578947398,128.51111111111001,7966.4868421052597,2279.8026315789498,22880.8947368421,17448.5,2040.42894736842,1684.7619999999999,1582.25,31.874500000000001]
["2013M01",105.10021645022,112.97363636364,107.58272727273,94.744285714290001,92.77,86.13,3.3279999999999998,11.87,15.89,107.60817859655,2.2754400000000001,3.4676467980000001,2.1977856779999998,3.0033695177299999,3.33770742452,2.6204011286800002,3.052,828.64,2400,1926.47,2270.7600000000002,884.52,801.36,595.29999999999995,1192.3499999999999,526.20000000000005,1210.92,1298.48,233.32228333333001,303.1336,291.00984,564.20000000000005,540,530,401.245,309.01426470000001,335.46970709999999,1.0955721301300001,0.92869617500000001,0.75002570307000005,4.3596360499999998,2.2166451999999999,7.0197000000000003,11.243562000000001,0.43439011199999999,0.47559952313999998,0.41610198300000001,4416.9333333333298,465.57,334.12429369001001,761.79738470915004,870.59366304347998,612.85907467239997,1.8851705620000001,3.0432000000000001,3.3035999999999999,182.5,462.25,428,380,395,2037.75,150.49090909091001,8047.36,2333.6799999999998,24545.9,17472.5,2032.2,1671.8478260869599,1638.8913043478301,31.061739130429999]
["2013M02",107.63743567252,116.51949999999999,111.09333333332999,95.29947368421,94.94,85.13,3.3292000000000002,11.77,16.47,107.54029997678001,2.1977000000000002,3.2950250520000002,2.2934661859999999,2.9251479794600002,3.3316051451400002,2.5313387932500002,2.9125000000000001,853.25,1635,1901.12,1821.71,919.58,836,610.73,1173.48,518.9,1216.99,1285.75,236.99664999999999,302.73991999999998,288.14383400000003,563,538.75,535,401.64499999999998,297.99116370000002,318.9350556,1.11242362363,0.92318462499999998,0.81957741644000004,4.3547858860000002,2.18918766,6.9996999999999998,11.574255000000001,0.43559675120000002,0.45716470066999998,0.40283306555999998,4390.5916666666699,466.86324999999999,319.68583597454,737.55118592758004,842.88473750000003,586.37569707217006,1.9777646019999999,3.0442999999999998,3.1859000000000002,182.5,464.5,419,415.625,395,2053.5949999999998,154.63888888888999,8060.9250000000002,2365.7874999999999,24211.737499999999,17690.099999999999,2128.6875,1627.57,1674.55,30.328800000000001]
["2013M03",102.52249999999999,109.24,105.41500000000001,92.912499999999994,90.98,82.77,3.8069000000000002,11.87,16.27,113.68108766747,2.1533600000000002,3.3020798359999999,2.3426292119999998,2.8962722107199999,3.4825023334599998,2.5513142987099999,2.6549999999999998,818.75,1500,1801.47,1763.7,891.5,832.75,584.70000000000005,1117.43,513.95000000000005,1161.6600000000001,1249.76,239.75242499999999,309.03879999999998,296.74185199999999,559,535,532.5,401.61,285.86575260000001,309.74913809999998,1.07918368383,0.93696349999999995,0.90809637424,4.29239514,2.30933945,6.9996999999999998,11.904947999999999,0.42310513143,0.45945441125999997,0.40773866736999997,4377.3583333333299,436.19416666667001,313.7840182914,722.68881147866,822.00403571429001,575.55043655540999,2.0822635900000002,2.8001999999999998,2.9773000000000001,160,467.625,415,395.625,395,1909.56666666667,139.87,7645.5833333333303,2169.4166666666702,23296.523809523798,16724.928571428602,1926.07142857143,1593.08619047619,1582.9523809523801,28.790952380949999]
["2013M04",98.851969696970002,102.87545454546,101.66136363635999,92.019090909089996,87.76,82.02,4.1669,12.88,16.2,122.80678946534,2.2944886363600001,3.3027412219999999,2.2416576159999999,2.8891408436399999,3.3911991591800001,2.9087233717399998,2.3675000000000002,791.43,1500,1850.72,1763.7,874.17,830.71,563.88,1094.52,495.55,1131.82,1221.1400000000001,229.64791666667,279.90647999999999,269.184102,557,535.6,530.6,390.75567567567998,278.14958189999999,308.27939129999999,1.1033332364799999,0.90251631249999997,0.98048854403999997,4.2696875539999999,2.2928047999999999,6.9996999999999998,12.370122820000001,0.42536072800000002,0.44805895200000001,0.39251254899999999,4366.8999999999996,455.89249999999998,304.53375040575997,733.55873132624004,834.36775,558.58336554642995,2.0344233360000001,2.4986000000000002,2.8668,111.5,461.125,409,365.625,395,1861.67045454545,137.39090909090999,7234.2795454545403,2027.3863636363601,21662.25,15672.9545454545,1856.00454545455,1487.8572727272699,1493.0681818181799,25.355]
["2013M05",99.366633414890003,103.02695652174,100.31476190476,94.758181818180006,87.71,81.790000000000006,4.0403000000000002,12.29,16.22,118.47814461874,2.3428599999999999,3.2448939102600001,2.1864366776500002,2.9544746952800001,3.29168896974,3.18423511609,2.3875000000000002,822.5,1500,1823.4,1780.73,879.47,827.5,498.01,1073.2,514.78,1116.6600000000001,1227.73,231.48509999999999,295.5375444,273.59334200000001,543.5,508.75,510.75,386.84811891892002,279.251892,319.66992900000002,1.0539977015099999,0.90940575000000001,1.0570108606599999,4.1030182819999999,2.3769811999999999,6.9946999999999999,12.80002372,0.42381737704,0.43019150900000003,0.38851416999999999,4342.7166666666699,454.23836956522001,294.78031103607998,732.53271969897003,833.20073913043996,540.69336490936996,2.043021354,2.5129000000000001,3.0379999999999998,157.5,421.25,410,358.125,395,1832.02173913043,124.00952380952,7249.4130434782601,2032.97826086957,20775.826086956498,14947.956521739099,1831.55434782609,1414.02695652174,1475.1739130434801,23.038260869569999]
["2013M06",99.742666666670004,103.11,100.32850000000001,95.789500000000004,82.754319462010002,77.289426335420004,3.8254000000000001,11.92,16.61,114.37378667724001,2.2835800000000002,3.0480965889,2.0014752901000001,2.8352073606200001,3.1727341935200002,3.0253878883500001,2.3075000000000001,890.63,1500,1785.85,1807.79,876.88,853.5,524.66,1037.75,545.20000000000005,1147.3399999999999,1245.25,229.64791666667,298.40944000000002,236.77618799999999,524.25,483.75,492,385.93153153153003,268.228791,313.4235051,1.05997061651,0.90975022187999999,1.1576469735499999,3.933923928,2.3986265599999999,6.8288000000000002,13.71053178,0.43108287560000003,0.4225925847,0.37683569659999999,4493.375,462.025375,306.01237122058001,742.55721787008997,844.60284999999999,561.29548855416999,2.0520602960000001,2.3258000000000001,2.8102,125.625,424.125,410,329.375,395,1814.5374999999999,114.815,7000.2375000000002,2099.6875,20267.400000000001,14280.275,1839.0125,1343.35,1430.23,21.109000000000002]
["2013M07",105.25790513834001,107.71608695652,103.36217391304,104.69545454546,77.259210828830007,72.643286929810003,3.6227,11.6,16.170000000000002,110.0929564116,2.3086600000000002,3.0509161061699999,2.0989516048699999,2.83184987414,3.1733412842400002,3.0382083382,2.2839999999999998,860.43,1433.48,1719.92,1816.31,827.09,835.54,511.3,990.31,569.26,1008.78,1210.8699999999999,214.03185833333001,279.51280000000003,220.02107599999999,509,454,461.8,387.74058558559,260.88005700000002,304.60502430000003,0.99815795329000001,0.92318462499999998,1.1212294726100001,3.9376717819999998,2.2156430999999999,6.5035999999999996,14.612221359999999,0.42762819025999999,0.42366783800000002,0.37118786100000001,4635.3583333333299,458.32271739129999,298.76375053638998,727.69952787099999,827.70334782608995,547.99988853627997,2.0419190440000001,2.2425999999999999,2.5630999999999999,115,409.625,410,312.5,395,1769.6086956521699,127.19130434783,6906.6413043478296,2047.72826086957,19563.826086956498,13750.3152173913,1837.6195652173899,1285.51565217391,1401.47826086957,19.710217391299999]
["2013M08",108.15763636363999,110.96454545455001,106.962,106.54636363636,76.959999999999994,72.912000000000006,3.4251,11.64,15.6,107.49741317685,2.4836100000000001,2.979634119,2.0725833040000001,2.7822372630199999,3.3603737275299999,2.7063380615299999,2.2799999999999998,892.61,1343.1,1714.4,1807.79,819.29,868.64,511.71,994.65,539.39,993.85,1111.67,185.09622083332999,238.73560454546001,220.61582235,478.75,425,428.25,399.43913513514002,252.4290129,305.33989769999999,0.97737992238000004,0.94040821875000002,1.1908050457399999,3.9491358060000001,2.0412777000000002,6.5035999999999996,15.652801999999999,0.43495417017999999,0.45056420200000002,0.37548686999999997,4675.55,466.17454545455001,304.38587740247999,742.94685608353996,845.04603409090998,558.31213321262999,2.0447850500000002,2.3795999999999999,2.569,115,400.375,360,310.625,395,1817.61590909091,137.05500000000001,7192.9204545454504,2174.1818181818198,21644.431818181802,14314.9318181818,1898.8181818181799,1351.74181818182,1496.0909090909099,21.893863636359999]
["2013M09",108.75773015873,111.62142857143,108.40476190475999,106.247,77.612499999999997,73.097499999999997,3.6154000000000002,11.25,14.96,107.52065160478,2.6160514285700001,2.9163028305699998,1.9351419486699999,2.7533613780400001,3.5911242380199999,2.5489598961,2.12,985.24,1325,1668.63,1797.87,826.25,909.76,560.17999999999995,1019.72,576.80999999999995,983.52,1005.71,159.83494999999999,207.40538699999999,216.934608,444,428,431.47619047619003,362,259.79611873499999,307.50777423,0.97394214897999998,0.93696349999999995,1.1197156476200001,3.9872757320000001,1.98195338,6.3714000000000004,16.08049828,0.43634169676000001,0.4641717179,0.3835928569,4709.9666666666699,467.66166666666999,300.11634772285998,760.60689774798004,865.13300000000004,550.48085587616004,1.986142158,2.4224000000000001,2.6381000000000001,97.5,374.8,344,301,395,1761.30476190476,134.18571428570999,7159.2690476190501,2084.9190476190502,22735.071428571398,13801.392857142901,1846.88095238095,1348.6,1456.86,22.563800000000001]
["2013M10",105.42713438734999,109.47869565217,106.30227272726999,100.50043478261,79.412499999999994,80.647499999999994,3.6739000000000002,11.37,15.3,109.03186360077,2.7307000000000001,2.8373459400000001,1.8452669399999999,2.7977780721499999,3.7745898512,2.61874436523,2,985.65,1335.87,1650.81,1764.66,859.66,912.17,540.85,990.96,584.87,1010.85,1008.48,155.70128750000001,201.72521090909001,205.24731611999999,439,423,420.4347826087,376.31578947368001,287.71963776818001,325.68670496250002,0.95769166793000005,0.93145195000000003,0.99726336074999999,4.0393047639999997,1.95540208696,6.8103999999999996,16.457488300000001,0.445395184,0.47967738548,0.41145877443000001,4770.0416666666697,477.36500000000001,304.31135047213002,771.00138508662997,876.95594565217004,558.17543406671996,1.9702688939999999,2.3187000000000002,2.5345,84.375,370,324,296.875,395,1814.5826086956499,132.57272727272999,7203.0217391304304,2115.4282608695698,23101.5869565217,14117.652173913,1884.8369565217399,1316.58,1413.48,21.917000000000002]
["2013M11",102.62649122806999,108.07619047619001,105.85380952381,93.949473684210005,82.25,83.817999999999998,3.6173999999999999,11.42,15.4,108.65121105615,2.7551700000000001,2.6900353312399998,1.7572186164800001,2.7788119174700001,3.7230305561099999,2.5234051963000002,2.09,1274.5,1357.14,1614.74,1754.88,904.05,1108.0999999999999,551.32000000000005,989.83,567.19000000000005,1021.7,1004.05,158.91635833333001,199.13473999999999,195.23082029579001,438,405,414.3,395.88235294117999,274.42686796579,306.75162817895,0.88063411719999996,0.92318462499999998,0.76599798809999997,4.137410354,2.0340520315799999,7.3216999999999999,16.82345522,0.44078291275999998,0.45940973870000001,0.38937788476000001,5051.8916666666701,472.42166666666998,297.36411957050001,772.13736373239999,878.24803571429004,545.43265067050004,1.8657699059999999,2.3024,2.4895999999999998,87.5,334.375,320,305,395,1747.9642857142901,136.32380952381001,7070.6547619047597,2089.5595238095202,22826.880952381001,13684.011904761899,1866.4166666666699,1275.8599999999999,1420.1,20.7576]
["2013M12",105.48165079365,110.67400000000001,107.91952380952,97.851428571430006,84.337500000000006,84.614999999999995,4.2366000000000001,11.55,16.38,117.45234821935,2.8245399999999998,2.777159814,1.937640518,2.8962898942500002,3.8067580644899999,2.5521116182500001,2.33,1270,1342,1552.25,1697.56,886.25,1147,564.03,990.52,569.45000000000005,1007.11,996,161.67213333333001,197.39115200000001,205.896296122,451,398.66666666666998,400.76190476190999,419.41176470587999,267.04840060125002,291.55664720356998,0.97146151745999998,0.92318462499999998,0.73998040908999996,4.1755502800000004,2.0723427999999999,7.7713000000000001,16.865342999999999,0.44749630073000002,0.43545444276,0.36489610456999999,4835.1499999999996,479.61693181817998,287.34816346819002,784.95983058031004,892.83262500000001,527.06113532503002,1.9287669224999999,2.3125,2.5585,96.875,341.625,320,305,395,1739.81,135.79047619048001,7214.9,2136.7275,22762.125,13924.55,1974.9749999999999,1221.5119047619,1355.6666666666699,19.670000000000002]
["2014M01",102.09666666667,107.42,104.01,94.86,81.61,82.9,4.7008000000000001,11.59,16.670000000000002,123.47593413513,2.8194300000000001,2.9261921260000001,1.934113126,2.8744001254899998,3.89903534357,2.1616650329099998,2.5625,1269.0899999999999,1298.6400000000001,1536.47,1560.64,862.63,1158.6400000000001,565.5,942.1,539.52,948.01,951.82,167.64297916666999,198.06434479999999,210.21051700000001,450,377,405,402,246.54635133299999,275.57752499999998,0.99254824857000001,0.9259404,0.75383950318000004,4.1808413680000003,2.1144310000000002,8.1921999999999997,16.92707236,0.4448457113,0.44687647400000002,0.344582106,4924.3333333333303,476.77608695651998,286.59503651867999,789.30814077123,897.77850000000001,525.67973117661995,2.0053223519999999,2.1442000000000001,2.3445999999999998,97.5,403.375,333,330,395,1727.41,128.119,7291.47,2143.17,22063.86,14101.25,2036.93,1244.27,1420.95,19.875]
["2014M02",104.82666666666999,108.81,104.94,100.73,76.290000000000006,77.599999999999994,5.9733000000000001,11.3,16.760000000000002,137.61069871914,2.9928400000000002,3.828102168,2.1142305800000001,2.5756930305500001,3.6535768877999999,1.85150220385,2.222,1364,1250,1557.26,1409.8,904.34,1292,490.73,970.96,570.75,971.77,953,169.93945833333001,209.3235928,221.12338600000001,459,382,449.85,393.16,258.67176243300003,292.11217649999998,1.0456354891899999,0.95418709374999999,0.77092533290999998,4.2809311159999996,2.0238411599999999,8.2040000000000006,16.975574000000002,0.44611361599999999,0.47730022999999999,0.36618738200000001,5051.8916666666701,478.13499999999999,291.83593789742002,793.18927713998005,902.19299999999998,535.29272259950994,2.0734451100000002,1.9011,2.1657999999999999,97.5,450.125,367,353.125,307.625,1695.17,121.37,7149.21,2108.0300000000002,22820.67,14203.55,2034.53,1299.58,1409.53,20.844999999999999]
["2014M03",104.04,107.4,104.15,100.57,73.34,74.599999999999994,4.8783000000000003,10.88,16.55,122.1747631506,3.0416699999999999,4.7198709579999996,2.323008094,2.4955235466299999,3.5937380387400002,1.80283260114,2.09,1389.05,1235.71,1651.2,1366.87,953.81,1376.9,530.80999999999995,996.67,601.52,1009.95,984.76,177.74748750000001,222.33078,234.35110599999999,422,366,425.1,378.57,286.91662156199999,323.71173270000003,1.1213649784699999,0.96452125,0.80641942501999997,4.4711898220000004,2.2571109523800001,8.0469000000000008,17.085805000000001,0.45140388799999998,0.485677786,0.39462698000000002,5083.5916666666699,483.80500000000001,290.92332673620001,796.30376928775001,905.7355,533.61878855052998,2.13737909,1.929,2.2852999999999999,106.6,486.5,384,327.5,278.5,1705.37,111.833,6650.04,2053.08,23024.31,15678.1,2007.9,1336.08,1451.62,20.716000000000001]
["2014M04",104.86666666667,107.79,104.73,102.08,72.819999999999993,75.06,4.6338999999999997,10.73,16.79,118.65642551875,3.0506099999999998,4.9268847759999996,2.3269764099999999,2.6708579531800001,3.5478605327600001,2.3780466601199999,2.0866666666699998,1356.13,1197,1629.2,1366.87,926.63,1291.75,516.17999999999995,1001.69,584.36,1011.42,952.25,181.42185416666999,222.3583376,232.36694800000001,395,352,399.29,370.91,277.091364204,324.81404279999998,1.2259495332899999,0.93007406250000002,0.84688586385999998,4.3514789560000002,2.3767903238099999,8.2777999999999992,17.661210820000001,0.45114263999999998,0.536384046,0.39132004999999997,5089.1000000000004,483.52499999999998,290.32752121041,802.24526200040998,912.49350000000004,532.52594726328005,2.0767520400000001,1.7757000000000001,2.1541999999999999,111.5,409,383,260,299,1810.67,114.581,6673.56,2087.09,23405.200000000001,17373.599999999999,2027.21,1298.45,1430.33,19.736000000000001]
["2014M05",105.71333333333,109.68,105.6,101.86,73.69,75.78,4.5625,10.199999999999999,16.32,114.95136110006,3.0299900000000002,4.7222960399999998,2.270538138,2.86976530451,3.6651399003399998,2.9816560131799998,1.9624999999999999,1413.25,1180,1632.73,1366.87,898.42,1255.25,519.41999999999996,961.81,568,954.94,951.5,181.88114999999999,217.29561279999999,220.68246199999999,388,346,391.55,390.48,277.21261831499999,334.73483370000002,1.1203114112400001,0.91491730000000004,0.84080267370999995,4.3821231740000002,2.5647079333299998,8.2357999999999993,17.967652999999999,0.44869344,0.54365929199999996,0.40278407399999999,5117.5583333333298,480.9,292.49542174214997,807.13261890921001,918.05250000000001,536.50236424029004,2.0439032020000001,1.6931,2.0215000000000001,112.625,413.5625,385,265,300.875,1751.05,100.56,6891.13,2097.3200000000002,23271.25,19401.080000000002,2058.9699999999998,1288.74,1456.27,19.341999999999999]
["2014M06",108.37333333333,111.87,108.01,105.24,71.48,74.09,4.5692000000000004,9.77,16.13,112.85978969451,3.1743299999999999,4.362722518,2.1805896420000002,2.8475067078,3.57636224098,3.0611578823999999,1.905,1393.25,1180,1720.67,1366.87,861.88,1233.75,511.14,925.82,543.86,948.33,942.38,160.29424583333,202.39482480000001,204.69896700000001,397,356,402.57,404.5,236.64760663499999,306.44220780000001,1.0711769075199999,0.92662934374999995,0.83456079163999997,4.5439422819999997,2.5510602857100002,7.8998999999999997,18.14622722,0.44382769599999999,0.56548503000000006,0.400579454,4996.0749999999998,475.685,291.72154850481002,810.00753473790996,921.32249999999999,535.08290673568001,2.0039995799999999,1.7113,2.0394000000000001,111.4,421.375,389,288.75,301.5,1838.95,92.742999999999995,6821.14,2106.94,22762,18628.810000000001,2128.1,1279.0999999999999,1452.76,19.891999999999999]
["2014M07",105.22666666667,106.98,105.76,102.94,68.75,71.44,4.0099,9.27,15.20882662987,103.06692548226,3.19604,4.3408967799999996,2.2440826980000002,2.9643729030700001,3.5096506717899998,3.2884680374299999,2.0950000000000002,1255.22,1181.74,1734.13,1373.38,853.69,1106.3,471.74,897.43,503.35,892.08,908.04,138.70734166667,182.726572,193.01448099999999,422,375,435.39,420.87,218.308840938,280.35420210000001,1.0226080266099999,0.93007406250000002,0.78965097912000004,5.1702748239999998,2.4511365999999999,7.7462,18.981778200000001,0.44226020799999999,0.54630483600000002,0.40256361200000002,4991.2583333333296,474.005,292.69672623061001,818.15312958591005,930.58749999999998,536.87160193074999,1.8483534079999999,1.7003999999999999,1.9985999999999999,111,440.625,390,305,279.5,1948.3,96.05,7113.38,2193.2399999999998,22424.01,19117.650000000001,2310.62,1310.5899999999999,1492.18,20.922999999999998]
["2014M08",100.05,101.92,101.85,96.38,68.94,71.19,3.8839999999999999,9.14,15.74,101.27992523272999,3.27027,4.6951792140000004,2.2101315499999998,2.7922872494900002,3.4865591397800002,2.8603026086900001,2.0299999999999998,1187.6199999999999,1200,1729.32,1388.91,778.69,938.81,458.57,861.77,502.12,851.75,853.75,118.49832499999999,176.42375519999999,191.36101600000001,445,414,460.57,442.62,220.362812091,263.45211389999997,0.98893702380000004,0.95763181249999996,0.76817467301999998,5.793300436,2.2707586000000002,7.7161999999999997,19.248537219999999,0.43487995200000001,0.56526456800000002,0.37963556399999998,4919.9666666666699,466.09500000000003,289.17128727455997,800.32865144794005,910.31349999999998,530.40515427271998,1.6314188000000001,1.6660999999999999,1.86,111,446.5,391,311.25,279.5,2030.49,92.614000000000004,7001.84,2236.84,22231.05,18600.2,2326.9899999999998,1295.1300000000001,1446.33,19.736000000000001]
["2014M09",95.85,97.34,96.99,93.22,65.94,67.86,3.9169999999999998,9.24,15.16,101.76310720818999,3.2148300000000001,4.641386486,2.2160840240000002,2.63503948919,3.3678692047899998,2.6452492627700002,1.8919999999999999,1193.4100000000001,1213.6400000000001,1678.85,1388.91,760.75,904.55,430.17,839.82,459.73,836.46,834.09,105.63804166667001,163.0583192,180.558378,432,411,449.91,442.05,202.83240713399999,243.6105321,0.96690945972999998,0.92318462499999998,0.76880944068000001,6.1746996960000002,2.3599932190500001,7.7161999999999997,18.34684764,0.42155630399999999,0.55909163200000001,0.35340058600000002,4923.7666666666701,451.815,277.55159448924002,781.59378329753997,889.00400000000002,509.09202528786,1.6177501560000001,1.5319,1.6704000000000001,111.375,438.1,398,317.5,279.5,1990.43,82.379545454549998,6872.22,2117.2399999999998,21090.52,18034.8,2294.59,1236.55,1359.48,18.369]
["2014M10",86.08,87.27,86.57,84.4,63.71,65.739999999999995,3.7719,9.77,15.89,103.01527984123,3.1008300000000002,4.9667883980000003,2.3082371400000001,2.6490140385699998,3.4227324913900001,2.6118096243300002,1.9125000000000001,1148.7,1338.7,1696.44,1388.91,764.4,936.09,425.81,833.03,453.13,859.11,888.26,112.06818333333,163.121308,195.21910099999999,428,409,437.57,436.96,220.14235007100001,245.44771560000001,1.0087932989699999,0.89783149500000003,0.73215160785,5.9529149239999999,2.3608604608700001,7.7424999999999997,17.502478180000001,0.413784176,0.58224014199999996,0.36927385000000001,4943.2250000000004,443.48500000000001,275.64985208255001,769.95037419128005,875.76049999999998,505.60380215163002,1.550729708,1.5061,1.6332,116,418.75,398,317.5,279.5,1946.19,81.06,6737.48,2034.26,19830.41,15812.37,2276.83,1222.49,1259.76,17.163]
["2014M11",76.99333333333,78.44,76.73,75.81,62.55,65.66,4.1002999999999998,8.9,15.59,102.66395932005,2.90909,4.616033356,2.2720813720000002,2.6467940938800001,3.3327291460000001,2.7051531356299998,1.9025000000000001,1191.6300000000001,1397,1806.34,1388.91,764.75,970,449.9,825.98,473.6,841.33,922.75,113.90536666667001,178.74253039999999,213.84814,418,400,423.8,422,236.026638612,258.6754368,0.99774997158000001,0.89907159375000001,0.72114896826999997,5.8400383800000002,2.314851,7.8693,17.306266999999998,0.40735094399999999,0.534840812,0.35692797799999998,4922.2749999999996,436.59,256.13167017909001,756.00703242204997,859.90099999999995,469.80306833327001,1.488559424,1.5369999999999999,1.6369,119.5,408.75,385,317.5,279.5,2055.5500000000002,73.73,6712.85,2030.18,20033.47,15807.05,2253.2199999999998,1175.33,1208.32,15.965999999999999]
["2014M12",60.703333333330001,62.33,60.52,59.26,62.44,66.14,3.4327999999999999,9.83,15.62,98.999777005200002,2.9469500000000002,4.3391330840000002,2.197344754,2.6244805863799998,3.3696273433899999,2.6238144157500001,1.88,1212.1400000000001,1427.38,1795.13,1372.88,719.64,972.26,448.32,814.55,469.67,814.81,900.95,123.09128333333,178.73465680000001,227.296322,418,398,421.18,382.39,261.780276915,269.6985378,0.94885756268999999,0.90940575000000001,0.76923261912999996,5.4637097460000001,2.2235167428599998,8.2121999999999993,17.3834287,0.40228926399999998,0.546966222,0.33796824600000003,4926.2250000000004,431.16500000000002,249.39418635265,749.20306496078001,852.16200000000003,457.44500822967001,1.50575546,1.4711000000000001,1.6080000000000001,119.5,418.375,381,308.125,279.5,1909.46,68.39,6446.45,1938.11,19829.71,15962.05,2175.7600000000002,1200.6199999999999,1215.32,16.295000000000002]
["2015M01",47.106666666670002,48.07,45.98,47.27,61.44,59.29,2.9742999999999999,9.25,16.18733797094,91.059104632559993,2.9159099999999998,4.1887780000000001,2.1607480620000001,2.6145454779100001,3.24,2.2836364337199999,2.3199999999999998,1145.71,1392.86,1712.65,1350.33,719.64,1010.48,433.21,796.58,442.64,777.72,870.71,128.14353750000001,174.70731040000001,215.06068099999999,420,400,418.55,374.42,231.47042353200001,248.3872092,0.88835515638999996,0.90940575000000001,0.75791259571000003,5.2979223219999998,2.2224669238099999,7.9287999999999998,17.416498000000001,0.38031177599999999,0.55644608799999995,0.338188708,4922.8583333333299,407.61,251.47984477880999,726.82663676069001,826.71050000000002,461.27057469484998,1.48481157,1.4198,1.6633,119.5,440.25,381.5,305,279.5,1814.72,68.23,5830.54,1843.13,19454.12,14849.19,2113.0500000000002,1250.75,1242.45,17.236000000000001]
["2015M02",54.79,57.93,55.83,50.61,69.05,63.48,2.8477999999999999,8.27,14.20383414428,83.520262891369995,2.9617,3.9438447179999998,2.1684642319999998,2.4544432411099999,3.11,1.8358297233200001,2.4175,1160.5,1350,1677.34,1344.82,723.04,1052.3699999999999,423.55,762.61,418.25,762.51,825,125.38776249999999,173.6955528,217.70622499999999,420,400,417,353.5,219.84840071100001,236.99667149999999,0.93813766682999999,1.00241315625,0.70416893314999995,4.8834537620000003,2.0293527099999999,7.7051999999999996,17.48484122,0.37087419199999999,0.54277744400000005,0.32165405800000002,4910.9666666666699,397.495,250.88643203199001,734.30141791532003,835.21249999999998,460.18212230218001,1.5397066079999999,1.4293,1.8166,121.25,444.125,382.5,305,279.5,1817.82,62.75,5729.27,1795.66,18233.91,14573.84,2097.7600000000002,1227.08,1197.1600000000001,16.786999999999999]
["2015M03",52.82666666667,55.79,54.91,47.78,64.760000000000005,59.92,2.8006000000000002,8.27,13.041319324390001,82.159498768130007,2.8769999999999998,3.5437061879999998,2.0317777920000002,2.4093500140200002,3.08,1.42405004206,2.7240000000000002,1090.68,1350,1570.53,1344.82,698.86,1020.8,409.79,749.93,412.36,751.16,804.55,126.30635416667,174.22702079999999,227.737246,410,392,411,360.74,218.797531749,230.75024759999999,0.92852366349000004,1.0385827031299999,0.63381551660000002,4.7159026419999996,2.1525107999999999,7.5808999999999997,17.453976539999999,0.35379510400000003,0.53065203400000005,0.290127992,4961.5666666666702,379.19,247.32228981404,717.91439769169995,816.57349999999997,453.64468416031002,1.52890397,1.4297,1.7441,123,428.8,383,295.5,283.39999999999998,1773.86,58.05,5939.67,1792.47,17421.91,13755.5,2028.73,1178.6300000000001,1138.6400000000001,16.239999999999998]
["2015M04",57.543333333329997,59.39,58.8,54.44,56.24,58.95,2.5796999999999999,6.7744456667500002,10.936659480139999,70.941309066789998,2.8682699999999999,3.6155767999999999,2.0295731720000001,2.63454324852,3.01,2.1261297455700001,2.7675000000000001,1077.5,1339.5,1569.57,1344.82,682.75,979.75,394.73,747.74,398.09,747.72,833.5,129.06212916666999,172.0539072,224.20985400000001,399,384,400.26,354.02,209.69979905700001,223.40151359999999,0.91489712772999998,1.0320377375000001,0.61212762126999998,4.8159923899999999,2.30540262857,7.7713000000000001,16.92707236,0.35245620799999999,0.53770681799999998,0.28836429600000002,4986.7083333333303,377.755,249.06035325789,715.85404134779003,814.23,456.83268327931,1.5807125399999999,1.4071,1.7002999999999999,114.125,409,380,260,299,1819.19,52.28,6042.09,2005.36,15900.88,12830.92,2212.7199999999998,1198.93,1151.29,16.341000000000001]
["2015M05",62.50666666667,64.56,63.69,59.27,61.19,61.63,2.8382999999999998,6.6839973110799997,9.3369001638700002,72.567768851620002,3.0960000000000001,3.4938817759999998,1.930365272,2.8860533852699999,2.97,2.5956601558000001,3.0924999999999998,1131.94,1270,1619.84,1344.82,697.35,962.06,388.2,785.13,386.12,769.95,916.05,126.76564999999999,166.2943688,217.37553199999999,381,368,386.53,351,200.771087247,215.31790620000001,0.94074890143000001,0.94385293749999999,0.61466669195000001,4.4974248000000001,2.3534318500000002,7.4847000000000001,15.860036279999999,0.36460424000000002,0.54255698200000002,0.29409630799999997,5018.0083333333296,390.77499999999998,246.50313840288001,740.67414800229005,842.46100000000001,452.14217630517999,1.6062861319999999,1.5501,1.8391,110.5,413.5625,380,265,300.875,1804.04,60.3,6294.78,1991.78,15803.59,13511.34,2281.8000000000002,1198.6300000000001,1140.4000000000001,16.832999999999998]
["2015M06",61.306666666669997,62.34,61.78,59.8,58.96,60.71,2.7692000000000001,6.6667259295400001,9.1891221165600001,71.546435354639996,3.2395100000000001,3.522100912,1.9896695499999999,2.9967368028700001,3.01,2.7122104086099998,3.2679999999999998,1123.6400000000001,1250,1547.16,1365.86,705.91,914.43,391.48,788.21,387,841.79,927.95,118.95762083333,166.7195432,221.12338600000001,376,365,375.95,349,204.98926056299999,209.80635570000001,0.8999944339,0.92318462499999998,0.62990111597999998,4.4387819080000002,2.2847879999999998,7.2752999999999997,13.792102720000001,0.36617172799999997,0.54586391199999995,0.27469565200000001,4947.2333333333299,392.45499999999998,240.58658497587999,745.32192859202996,847.74749999999995,441.28988712119002,1.5950425699999999,1.5829,1.8241000000000001,118.9,421.375,380,288.75,301.5,1687.73,62.63,5833.01,1829.5,15064.94,12825.23,2082.09,1181.5,1088.82,16.074999999999999]
["2015M07",54.34,55.87,56.25,50.9,59.9,57.9,2.83,6.6940371346500003,9.4950832584500002,72.621876011560005,3.3259599999999998,3.4050355899999998,1.9206649440000001,3.0964765503099998,3.04,2.8569296509300002,3.3925000000000001,1103.04,1269.1300000000001,1440.43,1388.91,680,869.13,405.87,752.32,407.09,809.98,917.39,124.00987499999999,179.59681599999999,222.88708199999999,392,376,389.86,345.78,207.377599113,197.31350789999999,0.88798698485000005,0.93834138749999996,0.64233198281000004,4.6462366499999996,2.0693364999999999,7.2752999999999997,12.25989182,0.359346624,0.54387975399999999,0.28285274599999999,4878.0833333333303,385.14,241.26901714009,745.60942017490004,848.07449999999994,442.54162113927998,1.5950425699999999,1.4531000000000001,1.6425000000000001,121,431.5,380,283.75,301.5,1639.5,52.39,5456.75,1763.04,15071.53,11413.1,2000.68,1128.31,1009.27,15.053000000000001]
["2015M08",45.69,46.99,47.22,42.86,59.14,55.02,2.7629999999999999,6.34573758328,9.8158396579599998,70.36977413644,3.1539100000000002,3.4594897040000001,1.891123036,2.9590963930999998,2.91,2.7972891792999999,3.17,1032.3800000000001,1233.5,1466.01,1392.06,601.38,735.48,378.78,728.33,385.86,753.56,894.75,110.69029583333,162.5937768,183.534615,373,362,377.5,340.13,187.86671034299999,179.67654630000001,0.90198803042999998,0.95763181249999996,0.68427954620999998,4.7666089019999998,1.81933640952,7.2752999999999997,10.390374059999999,0.36368987200000003,0.5401319,0.25353130000000001,4925.5833333333303,389.79500000000002,241.69995960799,747.28645440830996,849.98199999999997,443.33206651275998,1.5833580840000001,1.3140000000000001,1.4489000000000001,121,434.625,378.8,274.625,301.5,1548.13,56.19,5127.3,1703.6,15163.77,10386,1807.64,1117.93,984.1,14.941000000000001]
["2015M09",46.28,47.24,46.15,45.45,57.65,51.38,2.6461000000000001,6.2786986603399999,10.306943949140001,68.964232901490007,3.2784499999999999,3.2220521299999998,1.7967652999999999,2.7815537048399999,2.65,2.5921611145300001,3.1025,1051.5899999999999,1280,1471.88,1399.94,599.5,799.66,367.49,720.4,374.45,771.69,896.82,109.77170416667001,165.62117599999999,173.61382499999999,357,347,360,326.43,193.973508297,172.69524899999999,0.90682796361999995,0.94729765624999995,0.63169962437000005,4.5818617460000004,1.69230830476,7.2752999999999997,8.7699783599999996,0.36669422400000001,0.53373850199999995,0.26146793200000001,4887.3583333333299,393.01499999999999,247.77514793936999,735.64304530205004,836.73850000000004,454.47532777675002,1.5154557879999999,1.2393000000000001,1.3466,124,428,379,279.375,301.5,1589.6,56.95,5217.25,1684.25,15453.34,9937.5499999999993,1720.23,1124.77,964.38,14.75]
["2015M10",46.956666666670003,48.12,46.55,46.2,54.26,50.11,2.3151999999999999,6.0269578205999998,10.10742681042,63.614050100889997,3.1973400000000001,3.3785801499999999,1.824984436,2.8623742092,2.81,2.5371226275900001,3.24,1104.0899999999999,1280,1520.37,1399.94,636.66999999999996,857.73,375.95,743.3,372.68,809.13,961.59,118.03902916667001,171.388588,177.47191000000001,373,362,369.27,342.4,206.337753252,172.709946468,0.92603083351000004,0.93007406250000002,0.66068734788000005,4.2359568679999997,1.6093725999999999,7.2752999999999997,8.7082490000000004,0.366955472,0.55203684799999997,0.30666264199999999,4858.4333333333298,393.29500000000002,248.08486687429999,734.82848581725,835.81200000000001,455.04342193647,1.5218491860000001,1.2423999999999999,1.3275999999999999,123.5,423.75,380,250.625,301.5,1516.49,53.12,5216.09,1720.11,15794.61,10316.83,1724.34,1159.25,976.91,15.813000000000001]
["2015M11",43.113333333329997,44.42,42.22,42.7,52.47,53.34,2.0775000000000001,5.5008338512300003,9.5155859138499999,57.82542281205,3.36084,3.2623966759999998,1.802056388,2.8215518526799999,2.92,2.4896555580399999,3.0550000000000002,1071.07,1307.8260869565199,1517.92,1413.16,608.21,788.75,368,727.34,350.57,799.62,915.24,119.41691666667001,166.1565808,169.09435400000001,368,359,366.24,353.61,203.40560838600001,177.10448940000001,0.84749967592999997,0.93007406250000002,0.76780439188000005,4.0291635120000002,1.6163345578899999,7.5247000000000002,9.6319847799999998,0.35069278399999998,0.56614641600000004,0.32077221,4813.0916666666699,375.86500000000001,242.90293754011,728.50367099410005,828.61800000000005,445.53859850176002,1.5260379639999999,1.161,1.2366999999999999,123.5,383.875,366.4,263.625,301.5,1467.89,46.86,4799.8999999999996,1618.35,14745.29,9244.33,1583.31,1086.44,885.2,14.452]
["2015M12",36.573333333329998,37.72,34.770000000000003,37.229999999999997,52.21,48.77,1.9228000000000001,5.09276298262,9.0801962921099992,53.711911475459999,3.34565,3.2773880919999998,1.747822736,2.8090698931999998,2.95,2.4505430129299999,3.0266666666700002,1150,1335.6521739130401,1536.52,1446.03,607.38,849.55,368.42,765.7,338.35,820.94,898.18,119.41691666667001,163.948036,169.75574,363,356,360.24,371,191.98200138300001,189.22990050000001,0.85975801074000002,0.93007406250000002,0.76870364606999997,3.8005444179999999,1.7366393,7.6059999999999999,9.8877206999999991,0.35506868800000002,0.56945334599999997,0.32275636800000002,4789.6499999999996,380.55500000000001,244.61942501985001,718.15397401075995,816.846,448.68702245174001,1.551832018,1.1611,1.2661,123.5,340.625,360,264,301.5,1497.2,40.5,4638.83,1706.58,14691.69,8707.7900000000009,1527.79,1075.74,859.82,14.127000000000001]
["2016M01",29.78,30.8,27,31.54,49.02,49.09,2.2744,4.3981862754099996,8.4023022052700007,54.220253687570001,2.95242,3.1973603860000002,1.647071602,2.5522033511200002,2.85,2.0841100533699999,2.7225000000000001,1152,1307.8260869565199,1498.6,1359.9,611.63,895.63,373.08,736.03,336.48,781.35,885.35,118.49832499999999,161.0269304,164.905576,369,361,366.19,364.91,191.72847006000001,193.27170419999999,0.85580658075000005,1.0403050625000001,0.69284890973000002,3.6332137599999998,1.8507784899999999,7.6059999999999999,10.471945,0.35474212799999999,0.56791011199999997,0.30974910999999999,4730.9583333333303,380.20499999999998,251.75631310711,690.69852784660998,785.61749999999995,461.77767976640001,1.5156762500000001,1.0829,1.2338,122.6,327.125,334,233.875,301.5,1481.1,41.88,4471.79,1646.2,13808.08,8507.2900000000009,1520.36,1097.9100000000001,855.25,14.106]
["2016M02",31.03,33.200000000000003,29.5,30.39,50.27,50.33,1.9572000000000001,3.9683785892799999,8.5618581322799994,48.433180105040002,2.9163700000000001,3.2562237399999998,1.632300648,2.35173727427,2.83,1.7452118228,2.48,1218.93,1280,1511.99,1317.26,679.17,986.9,373.75,767.24,323.29000000000002,779.88,898.19,114.82395833333,159.67660799999999,164.905576,384,374,377.38,360.13,188.43256286100001,187.02528029999999,0.9309895654,1.0540839375,0.69136778517999997,3.8631556260000002,1.7668454571400001,7.585,10.802638,0.36241628799999998,0.56217810000000001,0.292773536,4670.3333333333303,388.43,259.34475150201001,685.85908620163002,780.11300000000006,475.69658186581,1.4676155340000001,1.0963000000000001,1.2696000000000001,114.5,326,286.25,191.875,301.5,1531.26,46.83,4598.62,1765.75,15610.14,8298.5,1709.85,1199.5,919.35,15.167]
["2016M03",37.340000000000003,39.07,35.18,37.770000000000003,52.21,52.57,1.7017,3.9101802431000001,7.7366980955100004,44.494833931949998,3.0735199999999998,3.4722765,1.6666927199999999,2.3128862265099999,2.87,1.7661586795299999,2.3025000000000002,1440.48,1280,1443.58,1300.73,715.95,1210.5999999999999,380.97,765.61,319.13,766.26,859.19,112.98677499999999,159.13726639999999,160.49633600000001,384,375,374.9,360.2,189.68919637499999,191.06708399999999,0.93921695233000002,1.0127473124999999,0.68200496207000005,4.0333522899999998,1.8548871,7.3855000000000004,10.670360799999999,0.36284081600000001,0.580255984,0.340393328,4569.6750000000002,388.88499999999999,263.61625807948002,681.40296666713004,775.04449999999997,483.53148527740001,1.443144252,1.2835000000000001,1.4562999999999999,114.5,338.125,291.25,201.75,301.5,1531.01,56.2,4953.8,1802.19,16897.599999999999,8717.25,1801.69,1245.1400000000001,967.73,15.465]
["2016M04",40.75,42.25,39.04,40.96,50.69,52.35,1.9047000000000001,3.9700750897899999,6.8249795642500004,46.626993177279999,3.0785,3.399964964,1.7676643160000001,2.5375545113400002,2.99,2.5101635340100001,2.1124999999999998,1580.95,1294.46956521739,1474.33,1314.38,775,1299.05,395.14,794.13,346.19,808.51,875.95,112.52747916667001,164.4125784,162.260032,395,386,383.53,371,192.76096718700001,187.392717,0.93965644332999998,0.99345688750000005,0.71379624277999998,3.9630249119999998,1.93376668571,7.3855000000000004,10.527060499999999,0.37015576,0.61508898000000001,0.33576362599999998,4625,396.72500000000002,271.70013712617998,685.76325567399999,780.00400000000002,498.35913692047001,1.5273607360000001,1.4885999999999999,1.7074,114.125,330.5,295,196.25,301.5,1571.23,60.92,4872.74,1732.27,17032.71,8878.86,1855.37,1242.26,994.19,16.36]
["2016M05",45.93666666667,47.13,43.95,46.73,51.31,54.24,1.9219999999999999,4.3291918650600003,6.2688925069200003,48.16755906969,3.0986600000000002,3.4213497780000002,1.8503375660000001,2.57487716258,3.08,2.4326314877400002,2.2120000000000002,1439.5,1200,1500.81,1322.77,753.42,1218.25,422.55,795.64,421.64,805.59,881,112.06818333333,168.9556456,158.51217800000001,433,415,414.38,377.31,189.850868523,171.96037559999999,0.92890044681999995,0.9851895625,0.76362550473000002,4.041729846,2.0555456952400002,7.3855000000000004,10.471945,0.36930670399999999,0.60097941200000005,0.37500586200000002,4680.3583333333299,395.815,273.27137896929997,696.35252897639998,792.04849999999999,501.24114771779,1.549406936,1.3583000000000001,1.6287,110.5,313.5,295,198.375,301.5,1550.63,55.13,4694.54,1707.8,16706.95,8660.35,1869.03,1260.95,1035.8599999999999,16.946999999999999]
["2016M06",47.68666666667,48.48,45.83,48.75,52.85,58.59,2.5666000000000002,4.7557204668899997,6.4018011694899997,58.112927318339999,3.1208,3.6475437899999998,1.8946504280000001,2.6481127368999999,2.96,2.5768382107100001,2.4075000000000002,1547.95,1195,1517.12,1365.86,718.18,1337.27,457.4,799.91,467.73,793.48,860.23,108.39381666667001,179.87239199999999,166.66927200000001,441,422,426.79,372.46,187.01425719900001,173.0626857,0.94227349262000004,0.99345688750000005,0.87545040893000003,4.1050024399999998,2.154515,7.3353999999999999,10.471945,0.36682484799999998,0.61001835400000004,0.42879858999999998,4809.95,393.15499999999997,282.26210320389998,681.11547508425997,774.71749999999997,517.73215731844004,1.6336234199999999,1.2641,1.4944,110.5,306.625,285,142.625,301.5,1593.51,51.98,4641.97,1712.77,16966.689999999999,8928.35,2026.19,1276.4000000000001,984.14,17.286000000000001]
["2016M07",44.126666666669998,45.07,42.62,44.69,61.24,62.39,2.7879,4.6747376913499998,6.7571186470500004,60.655991369200002,3.0499800000000001,3.7866553120000002,2.0022358840000001,2.7724328782300001,3.18,2.7047986346999999,2.4325000000000001,1515,1327.7777777777801,1493.28,1415.37,678.16,1290,431.08,796.67,439.9,767.83,832.86,107.01592916667001,161.75917519999999,145.174227,442,424,417.89,361.57,166.514963706,151.75135710000001,0.92840991887000002,1.00930259375,0.96775620733000001,4.2555779859999996,1.9621118,7.1485000000000003,10.471945,0.36140395199999997,0.62060053000000004,0.43210552000000002,4856.5833333333303,387.34500000000003,285.97679178593,630.42112597140999,717.05650000000003,524.54573133887004,1.787064972,1.2816000000000001,1.5931999999999999,110.5,305.2,281,181,282.5,1629.05,57.26,4864.8999999999996,1834.79,17826.23,10262.86,2183.25,1336.66,1087.5,19.992000000000001]
["2016M08",44.876666666669998,46.14,43.74,44.75,67.39,66.34,2.7913000000000001,4.0474899302000003,7.1386747240500004,57.973862286150002,3.0324900000000001,3.6936203480000001,2.0236206980000002,2.7752354889799999,3.46,2.5557064669299998,2.31,1575,1565.63,1539.99,1433,771.02,1423.7,412.17,824.42,398.7,817.52,830.35,95.533533333329999,150.15348879999999,152.66993500000001,415,403,393.78,347.46,159.280135083,149.1793002,0.90134392314,1.0430608374999999,0.95923974110999999,4.2394842600000002,1.7416498,6.8342999999999998,10.84011654,0.36604110400000001,0.62919854799999997,0.44379000600000001,4889.7083333333303,392.315,294.02650888805999,628.45660015512999,714.822,539.31072229507004,1.7694280120000001,1.2972999999999999,1.5519000000000001,109.75,318.0625,281.25,186.25,206.5,1639.28,60.89,4751.67,1835.52,18427.02,10335.99,2279.14,1340.17,1121.6500000000001,19.587]
["2016M09",45.043333333329997,46.19,43.74,45.2,72.72,68.33,2.9689000000000001,4.2536141699499996,7.5397929008100002,61.382189464619998,2.8811900000000001,3.88674506,2.1358358559999999,2.7907128300299999,3.6,2.4421384901000001,2.33,1557.39,1550,1536.8,1433,797.85,1443.86,403.53,837.21,368.05,849.65,865.73,89.562687499999996,148.42523360000001,145.394689,384,378,365.27,342.73,157.56053132700001,150.649047,0.90870264846000004,0.99896843749999997,1.05064628532,4.1180096979999998,1.70490613333,6.9077999999999999,11.88069718,0.36613907200000001,0.61619128999999995,0.47465468599999999,4957.0166666666701,392.42,292.15097178524002,630.03780386092001,716.62049999999999,535.87056557777998,1.7165171319999999,1.3576999999999999,1.5727,109,320,287,187.3,206.5,1592.36,57.79,4722.2,1947.64,19499.52,10191.780000000001,2292.31,1326.61,1046.71,19.356999999999999]
["2016M10",49.293333333329997,49.73,48.26,49.89,94.2,83.79,2.9491999999999998,5.3368188834500003,7.6528666460099997,66.369097111390005,2.7113499999999999,3.9453879519999999,2.2850886300000002,2.8882686298800002,3.88,2.3908058896300002,2.3940000000000001,1473.57,1550,1487.98,1433,749.75,1331.19,401.87,861.26,361.88,914.14,873,91.859166666670006,152.25967679999999,148.70161899999999,369,365,349.9,336.39,164.36913337799999,151.75135710000001,0.89723924451000003,0.96796596874999996,1.06466407133,4.0366592199999998,1.5873264,7.2752999999999997,12.290756500000001,0.360163024,0.62985993399999995,0.489866564,4906.0333333333301,386.01499999999999,286.85858570933999,591.60976228387995,672.91150000000005,526.16313964516996,1.731067624,1.4765999999999999,1.6576,109,310,285,187.5,206.5,1665.9,59.09,4731.26,2024.49,20099.759999999998,10259.74,2311.5,1266.55,959.14,17.655000000000001]
["2016M11",45.26,46.44,43.77,45.57,103.43,89.15,2.5009000000000001,5.6931795011500004,7.5925887519600002,62.578513627669999,2.4785499999999998,4.0591463440000002,2.2866318639999998,3.03436186364,4.01,2.4130855909100002,2.68,1553.41,1563.64,1459.81,1433,766.93,1512.95,397.76,885.11,357,918.26,873,91.859166666670006,151.80300800000001,144.29237900000001,365,357,339.59,338,167.27555767499999,150.649047,0.85847031974999999,0.95763181249999996,1.1377681477699999,4.2985680759999996,1.75597983,7.3634000000000004,12.493581539999999,0.35297870399999998,0.63404871200000001,0.44621508799999998,4878.2833333333301,378.315,275.14033294746002,595.49089865262999,677.32600000000002,504.66922950439999,1.739886104,1.6586000000000001,1.8706,103,298,285,205,206.5,1737.11,73.099999999999994,5450.93,2180.58,21126.09,11128.91,2566.1999999999998,1238.3499999999999,955.14,17.407]
["2016M12",52.62,54.07,51.78,52.01,88.15,80.19,3.5817999999999999,5.4235014224000002,7.5917541522900001,74.4216778981,2.2953100000000002,3.5666342360000001,2.2454054700000001,2.9808206027200002,3.91,2.3591284748299999,2.67333333333,1727.14,1600,1423.35,1439.3,811.38,1666.43,416.07,916.7,355.95,930.43,873,91.859166666670006,152.44864319999999,153.110859,373,364,354.42,341,161.16875972099999,141.83056619999999,0.83229172491000003,0.95763181249999996,1.0769891435500001,4.1431423660000002,1.8623789904800001,7.5010000000000003,13.203469180000001,0.34452080000000002,0.64463088800000001,0.40763423799999998,4912.0583333333298,369.25,256.41846705353998,598.07832289846999,680.26900000000001,470.32911828059002,1.7526729000000001,1.9279999999999999,2.226,97.5,296.625,277.5,217.75,206.5,1727.74,80.02,5660.35,2209.84,21204.35,10972.27,2664.81,1157.3599999999999,918.38,16.431999999999999]
["2017M01",53.59,54.89,53.37,52.51,83.73,86.49,3.2608000000000001,6.1443492547999998,8.0422768605100003,74.255772337750003,2.1940900000000001,3.7172097819999999,2.3880443840000001,3.0441348482900001,3.95,2.13640454486,3.0459999999999998,1818.64,1643.64,1397.52,1427.78,825,1737.27,412,876.85,371.05,890.82,873,91.859166666670006,159.98761519999999,156.197327,377,369,355.91,336.55,173.606492016,153.2211039,0.83396158676999999,1.00241315625,0.93501277512000003,4.0747991460000001,1.9400656000000001,7.5167000000000002,13.410703460000001,0.34670875200000001,0.64904012799999999,0.448199246,4904.8833333333296,371.59500000000003,258.60132057778998,590.65145700765004,671.82150000000001,474.33296240772,1.815063646,2.1623000000000001,2.5583999999999998,96.875,308,270,233.75,206.5,1791.24,80.41,5754.56,2242.62,20691.79,9971.4599999999991,2714.8,1192.0999999999999,971.15,16.902000000000001]
["2017M02",54.353333333329999,55.49,54.17,53.4,79.98,83.6,2.8233000000000001,6.0515836448,8.4149873154599995,68.754550643249999,2.0340799999999999,3.6673853699999999,2.347699838,2.9601471321799999,3.97,1.8504413965299999,3.06,1688.25,1653.5,1350.87,1359.9,808.61,1566.5,394.53120000000001,839.6,373.6,874.38,873,91.859166666670006,162.8575424,157.07917499999999,367,361,348.75,335.34,181.00299278700001,155.05828740000001,0.83208504177999998,1.0540839375,0.90258672673999996,4.2262565399999996,1.9411679100000001,7.3689999999999998,13.642188559999999,0.34749249599999998,0.67439325800000005,0.44731739799999998,4870.4916666666704,372.435,263.45295597270001,598.26998395372004,680.48699999999997,483.2319524989,1.8772339300000001,2.2328999999999999,2.7088999999999999,95,326,278.75,191.875,301.5,1860.75,89.44,5940.91,2311.5,19446.47,10643.3,2845.55,1234.2,1007.63,17.933]
["2017M03",50.903333333330004,51.97,51.16,49.58,80.900000000000006,79.11,2.8875000000000002,5.0009450765399999,8.2459830610699996,64.424949059750006,2.0638000000000001,3.5306989299999998,2.3529909259999999,2.8743858089400001,4.01,1.6906574268300001,2.9224999999999999,1542.39,1641.3,1305.67,1398.98,778.7,1229.57,383.68159200000002,814.94,360.7,847.32,835.17,93.696349999999995,158.96404720000001,151.126701,370,364,358.43,343.56,176.53863688199999,154.32341400000001,0.84993557435,1.0678628125,0.92125947563999999,4.3461878680000003,2.12602050435,7.3975,13.778874999999999,0.34899467200000001,0.66028368999999998,0.39859529599999999,4864.7083333333303,374.04500000000002,263.47627245698999,591.22644017338996,672.47550000000001,483.27472017325999,1.9131692360000001,1.966,2.3496999999999999,97.5,325.625,288,223.5,206.5,1901.47,87.65,5824.63,2280.92,19875.2,10204.66,2776.88,1231.42,962.87,17.631]
["2017M04",52.163333333330002,52.98,52.45,51.06,83.65,78.89,3.0819999999999999,5.0109139183,8.7631187546899998,67.184583077260001,1.96116,3.4259794800000001,2.2835453960000001,3.0341561189099999,4.05,2.1799683567399999,2.8725000000000001,1589.72,1600,1297.58,1421.4,752.06,1085.56,387.44,794.04,345.7,839.33,797.67,94.155645833329999,156.44055839999999,149.80392900000001,380,369,358.53,344.65,172.19186072100001,166.08138840000001,0.86942916885999999,1.0644180937500001,0.84937203722999999,4.4103423099999999,2.1605276,8.4384999999999994,13.778874999999999,0.34984372800000002,0.633166864,0.36288045200000002,4708.6166666666704,374.95499999999998,270.34311682633,605.26561247023005,688.44399999999996,495.87005659622002,1.9189012480000001,1.6543000000000001,2.2094999999999998,95.625,313.125,285,207.875,206.5,1921.22,70.22,5683.9,2220.61,19910.32,9609.2800000000007,2614.92,1266.8800000000001,960.84,18.033000000000001]
["2017M05",49.893333333329998,50.87,50.31,48.5,74.42,74.41,3.1248,5.0584359784700004,9.0968085204900007,68.156310846389999,1.9834799999999999,3.3069299999999999,2.1684642319999998,3.19804977706,4.0199999999999996,2.6341493311700002,2.94,1719.29,1593.04,1330.3,1453.05,762.75,1098.57,389.72,825.06,344.35,842.05,795,94.155645833329999,158.5900512,159.94518099999999,421,399,394.95,345,174.97335654,180.41141970000001,0.91497765146999999,1.0850864062500001,0.75680175230000002,4.6041284080000002,2.3348930000000001,8.5730000000000004,14.29255146,0.36084880000000003,0.62655300400000002,0.354061972,4582.0583333333298,386.75,265.28412069965998,619.40061529470995,704.52149999999995,486.59072030276002,1.9541751679999999,1.5306,2.0971000000000002,92.5,309.25,275,178.75,206.5,1913.02,62.43,5599.56,2125.11,20200.330000000002,9155.1200000000008,2590.21,1246.04,930.27,16.745000000000001]
["2017M06",46.166666666669997,46.89,46.44,45.17,81.09,79.2,2.9409999999999998,4.8867667856299999,8.8827097046999999,64.963197608740003,1.9982500000000001,3.157456764,2.2476100899999998,3.2376042981199999,3.95,2.6253128943499999,3.1375000000000002,1869.76,1592.27,1332.77,1463.07,735.14,1030.83,378.59,832.95,330.32,847.47,794.36,94.155645833329999,157.93260559999999,165.015807,458,430,440.86,357.18,183.36193640100001,189.5973372,0.93177443079,1.0954205625,0.72268299014000004,4.6784241020000001,2.4341008999999998,9.1918000000000006,14.85693418,0.36662891199999997,0.613545746,0.30644218000000001,4517.45,392.94499999999999,268.39329268765999,613.17163099918002,697.43650000000002,492.29364075348002,1.868635912,1.4397,1.7195,92.5,310.3,275,191,206.5,1885.29,57.48,5719.76,2132.9299999999998,19658.84,8931.76,2573.4,1260.26,930.73,16.931000000000001]
["2017M07",47.656666666669999,48.69,47.63,46.65,87.49,81.69,2.9613999999999998,5.0039208322600004,8.8584823273400009,65.751455615490002,1.98858,3.2994342919999999,2.313528228,3.2258837908600002,3.86,2.8316513725900001,2.9860000000000002,1644.05,1485.71,1355.22,1496.94,720.48,1033.57,410.23,835.6,340.86,905.99,793,94.155645833329999,157.511368,163.69303500000001,417,399,397.43,385.87,201.77051507100001,202.4576217,0.93605395646,1.0954205625,0.69692200227000001,4.6660782300000001,2.3457156800000001,9.3696999999999999,14.72906622,0.37577259200000002,0.589294926,0.32231544400000001,4515.0083333333296,402.745,264.62385799924999,622.32344638721997,707.846,485.37965006556999,1.853864958,1.5165999999999999,1.7493000000000001,92.5,313.75,275.75,181,207.25,1902.96,67.739999999999995,5985.12,2269.86,20223.48,9491.39,2787.19,1236.8399999999999,918.9,16.152000000000001]
["2017M08",49.943333333330003,51.37,50.43,48.03,98.58,87.84,2.8757000000000001,5.4766011818699996,8.9154154071599994,66.996449707880004,1.9885600000000001,3.304284456,2.3042688240000002,3.26449979065,4.13,2.7668327052800001,2.8966666666699998,1845,1432.61,1386.11,1510.17,717.95,1174.3499999999999,392.87,861.72,330.17,875.36,815.74,96.452124999999995,148.49609599999999,169.865971,393,381,376.14,390.37,172.68422589900001,171.22550219999999,0.93543700733000001,1.0954205625,0.71697008112000005,4.4738353660000003,2.1921591043499999,8.8903999999999996,12.8419115,0.38556939200000001,0.55358008199999997,0.31680389399999997,4432.1916666666702,413.245,270.95825998830998,621.22139531954997,706.59249999999997,496.99836745586998,1.749145508,1.5462,1.8368,88.75,320.75,280.5,192.625,215.5,2030.01,76.069999999999993,6485.63,2348.4699999999998,20521,10889.98,2980.73,1283.04,972.7,16.952000000000002]
["2017M09",52.95,55.16,53.86,49.83,97.82,92.26,2.9630000000000001,5.9611499719900003,8.6420299979399999,70.174880739399995,1.9983,3.2310910719999999,2.186542116,3.2817630230899999,4.2699999999999996,2.6177890692700001,2.9575,1600.95,1382.14,1406.1,1504.65,754.25,1336.05,393.95,889.44,342.07,872.87,822.24,96.452124999999995,147.2914352,169.75574,402,388,384.81,382,176.898724848,178.5742362,0.92601960097000002,1.0952001005000001,0.78901621145,4.3012136200000004,2.1142305800000001,8.5539000000000005,12.12541,0.38925952000000003,0.59414509000000004,0.31724481799999998,4395.3583333333299,417.2,268.92668495858999,637.65633080699001,725.28599999999994,493.27200209914997,1.7769237200000001,1.6082000000000001,1.8582000000000001,85,325.89999999999998,283.2,219,215.5,2096.4899999999998,71.53,6577.17,2374.39,20796.62,11215.79,3116.86,1314.07,964.1,17.431999999999999]
["2017M10",54.92,57.62,55.58,51.56,97.11,91.43,2.8637999999999999,6.17632034854,8.3138988925999993,69.770865285300005,2.0970499999999999,3.102120802,2.1691256179999998,3.29433559267,4.1900000000000004,2.6350067780000002,3.0579999999999998,1484.77,1325,1379.14,1481.11,746.79,1418.86,396.52,880.6,353.27,897.25,804.82,96.452124999999995,148.62207359999999,170.96828099999999,394,379,375.68,376.19,177.00528149100001,175.63474260000001,0.92183663766000001,1.0816416874999999,0.82186543828000003,4.2509482839999997,1.9771433,8.2423000000000002,11.953449640000001,0.38400190400000001,0.59723155800000005,0.31614250799999999,4513.1416666666701,411.565,263.61625807948002,632.52939757912998,719.45450000000005,483.53148527740001,1.7328313200000001,1.4569000000000001,1.6372,80,322.375,283.5,252.5,215.5,2131.4899999999998,61.66,6807.6,2498.2199999999998,20376.09,11335.77,3264.6,1279.51,921,16.940999999999999]
["2017M11",59.933333333329998,62.57,60.58,56.65,96.64,91.39,2.9912999999999998,6.6945990398199999,8.4506656764100008,73.87568661553,2.1278999999999999,3.10630958,2.0134794459999998,3.23464256332,4.1100000000000003,2.6139276899700001,2.98,1554.32,1259.55,1385.62,1502.29,728.86,1444.77,393.85,886.77,350.91,962.98,809.86,108.39381666667001,148.7047464,167.661351,402,386,378.82,379.01,175.664137536,179.67654630000001,0.92527722275000002,1.0781969687499999,0.85847037380000002,4.3314169140000001,1.9621118,7.5536000000000003,12.17391164,0.383348784,0.60164079800000003,0.33047253799999998,4594.4833333333299,410.86500000000001,263.84989829758001,633.43978759155004,720.49,483.96003396592999,1.772734942,1.4286000000000001,1.5688,80,344,295,280,215.5,2097.44,64.239999999999995,6826.55,2461.4299999999998,19557.52,11972,3229.31,1281.9000000000001,934.05,16.977]
["2017M12",61.18666666667,64.209999999999994,61.41,57.94,100.81,95.48,2.7583000000000002,7.1389336141299999,8.6471138152999991,73.291727463640001,1.9176800000000001,3.0295888039999999,1.931026658,3.1321481661299999,4.1100000000000003,2.4964444983899998,2.79,1450.66,1231.43,1476.7,1510.17,679.17,1305.6600000000001,387.15454999999997,867.19,359.9,901.97,800.76,119.87621249999999,148.98032240000001,175.157059,406,391,388.5,383.24,172.49315881499999,184.0857867,0.91247520109000002,1.0954205625,0.77346440358000002,4.2833561979999999,1.9655927789500001,7.9366000000000003,12.235640999999999,0.38658172800000001,0.59370416599999998,0.31702435600000001,4629.9833333333299,414.33,263.61625807948002,642.20828086911001,730.46349999999995,483.53148527740001,1.8831864039999999,1.46,1.6518999999999999,80,357.25,308.75,214.625,215.5,2080.4699999999998,72.25,6833.89,2509.92,19476.37,11495.11,3195.95,1264.45,907.2,16.164999999999999]
["2018M01",66.226666666669999,68.989999999999995,66.02,63.67,106.45,97.48,3.8555999999999999,6.6622550131400002,9.3424638758499992,84.821629275619998,1.95183,3.0602330219999998,1.9543956300000001,3.10220474156,4.16,2.1886142246800002,2.9580000000000002,1393.86,1180.22,1596.54,1433,703.45,1265,389.53,870.5,375.74,848.38,799.04,121.71339583333,155.83822799999999,178.463989,442,422,410.83,380.94,178.34275107900001,192.16939410000001,0.97835499248000002,1.1340014125,0.75648436846,4.2959225319999996,2.0701381799999998,7.7161999999999997,12.35909972,0.398109296,0.58620845799999999,0.31063095800000001,4649.4416666666702,426.685,268.29653951799003,661.08689481093995,751.93650000000002,492.1161736876,2.007526972,1.5021,1.7223999999999999,80,360.375,320,219.625,215.5,2209.73,76.34,7065.85,2584.09,20696.91,12864.88,3441.52,1331.3,990.12,17.126999999999999]
["2018M02",63.46,65.42,62.79,62.17,105.95,92.68,2.6707999999999998,6.7187497665000002,9.8256931101900005,71.030120423979994,2.1227999999999998,3.0044561359999999,1.9674028880000001,2.99959870594,4.0999999999999996,1.9112961178100001,2.9874999999999998,1244.25,1160,1605.89,1433,709.44,1145.3800000000001,416.28,843.56,421.13,827.48,806,129.06212916666999,163.357516,187.39269999999999,425,411,407.8,395.43,190.56002135400001,192.16939410000001,1.0742119114199999,1.2676565,0.77753749612,4.3536835759999999,1.9841580000000001,7.8677999999999999,12.7316805,0.40356284799999997,0.56945334599999997,0.29894647200000002,4628.1666666666697,432.53,275.80307601367002,670.09496440755004,762.1825,505.88484929012998,1.9460180739999999,1.4618,1.72,82.5,370,320,232.5,215.5,2181.79,77.459999999999994,7006.52,2581.06,21651.55,13595.88,3532.9,1330.73,987.26,16.582000000000001]
["2018M03",64.166666666669997,66.45,63.29,62.76,96.66,89.5,2.6989000000000001,6.6973876403599997,10.110069091050001,71.462457292739998,2.5039500000000001,2.9768983859999998,1.944033916,2.8355024763899999,3.95,1.7515074291699999,2.8050000000000002,1118.6300000000001,1227.05,1604.08,1435.63,706.19,1016.19,430.11,836.68,445.36,800.24,800.91,130.89931250000001,171.99879200000001,181.219764,430,418,403.5,409.92,198.860416407,192.16939410000001,1.1122749168499999,1.1643149374999999,0.73516675427,4.4394432940000002,2.2010374924999998,8.0520999999999994,12.786796000000001,0.402779104,0.54520252599999997,0.27513657600000002,4741.4916666666704,431.69,280.71837835846998,669.37623545038002,761.36500000000001,514.90061888143998,2.0313368679999999,1.4404999999999999,1.7579,84.7,378,324,232.5,215.5,2069.2399999999998,70.349999999999994,6799.18,2390,21211.94,13392.5,3269.18,1324.66,954.57,16.472999999999999]
["2018M04",68.793333333329997,71.63,68.430000000000007,66.319999999999993,93.69,92.32,2.7791000000000001,6.9278582024200004,10.09046974822,73.518728054999997,2.6247400000000001,2.9616865080000001,1.9468999220000001,2.9478436449799998,3.88,2.27853093494,2.6850000000000001,1131.18,1379.76,1577.89,1444.03,701.18,1006.71,439.07,831.85,461.62,793.31,799.33,130.89931250000001,175.6049008,178.57422,451,436,430.24,413.43,198.79427780099999,213.84815939999999,1.1131894896800001,1.1574255,0.75833577415999998,4.37837532,2.3624707919999999,8.3827999999999996,12.82868378,0.400950368,0.54939130400000002,0.26521578600000001,4842.1000000000004,429.73,276.70028836245001,674.35942288679996,767.03300000000002,507.53053845503001,2.033541488,1.3914,1.7318,88,384.75,325,230.625,215.5,2254.69,65.75,6851.51,2352.41,21291.1,13938.1,3188.05,1334.76,924.05,16.648]
["2018M05",73.430000000000007,76.650000000000006,73.66,69.98,105.29,101.89,2.7972000000000001,7.4873540573200001,10.25151696204,76.507459487579993,2.6599400000000002,2.9896851820000001,1.956379788,3.0204523658700002,3.76,2.6863570976100002,2.6150000000000002,1027.75,1450,1513.28,1444.03,687.15,935.25,430.32,793.25,459.17,811.49,801.32,130.89931250000001,179.08503200000001,178.57422,451,436,431.76,419,209.94965601300001,213.84815939999999,0.96277169113000005,1.1505360625000001,0.87851845264999995,4.3199528899999997,2.6499532399999999,8.1872000000000007,12.897027,0.38615719999999998,0.54233651999999999,0.27227056999999999,4906.8583333333299,413.875,271.37815884153002,645.80192565498999,734.55100000000004,497.76855635712002,2.0829249760000002,1.4392,1.6959,88,384.375,326,221.875,215.5,2299.67,66.099999999999994,6825.27,2360.9299999999998,20858.830000000002,14366.49,3059.87,1303.45,904.73,16.489999999999998]
["2018M06",71.976666666669999,75.19,73.22,67.52,114.33,103.88,2.9523000000000001,7.4489428440400003,10.44298762979,78.338011034039994,2.4107599999999998,2.9548521860000001,1.8975164339999999,2.8678030204299998,3.39,2.6900757279700001,2.5233333333300001,931.19,1503.33,1494.49,1461.87,656.5,865.71,394.44,788.57,421.33,838.02,775,130.89931250000001,165.07002399999999,161.929339,427,415,408.6,443.1,206.003385855,219.35970990000001,0.91772205890000003,1.1574255,0.84201931174,4.2438935000000004,2.7227057000000001,7.8263999999999996,12.53987856,0.38142208,0.56702826399999995,0.27557749999999998,4932.7916666666697,408.8,270.58883861947999,636.79385605838002,724.30499999999995,496.32076560966999,2.1541342019999998,1.3806,1.5603,86.8,391.6,335.2,224,215.5,2237.62,65.040000000000006,6965.86,2436.29,20660.52,15105.65,3088.57,1281.57,884.9,16.541]
["2018M07",72.666666666669997,74.44,72.72,70.84,119.57,106.02,2.8250999999999999,7.5988392302500003,10.44079690313,77.504493068749994,2.3570500000000001,2.8792337200000002,1.861140204,2.8885424474299999,3.41,2.76362734228,2.492,916.25,1450.91,1496.33,1477.1,616.14,877.16,377.17,780.45,406.64,848.61,780.05,130.89931250000001,156.4602424,147.48907800000001,398,390,382.73,440.65,206.933000706,218.2573998,0.87657654689999998,1.1367571875,0.88772258384000002,4.1883370759999998,2.53200607,7.8263999999999996,12.235640999999999,0.38145473600000002,0.56305994800000003,0.25838146400000001,4927.6000000000004,408.83499999999998,267.02111422473001,631.04402440095998,717.76499999999999,489.77675695019002,2.1204035160000001,1.3111999999999999,1.4653,86.88,400.75,344.25,252.5,215.5,2082.2399999999998,64.56,6250.75,2207.02,19729.8,13793.86,2656.13,1237.71,832,15.723000000000001]
["2018M08",71.083333333330003,73.13,72.13,67.989999999999995,117.34,98.48,2.9571999999999998,8.0849099384399992,10.875000000069999,81.71356939636,2.1716099999999998,2.7604047020000002,1.7800101880000001,2.7741047282300002,3.34,2.5873141846799999,2.395,915.22,1405.45,1475.4,1477.1,614.75,900.22,376.77,761.82,388.04,853.67,763.23,127.68424166667,162.37331599999999,165.56696199999999,405,393,393.5,401.56,217.43801595900001,236.62923480000001,0.84337054668,1.1091994375000001,0.84313015516000001,4.1144823060000002,2.2211546499999999,7.8263999999999996,12.015179,0.37704617600000001,0.56438272,0.24449235799999999,4983.9166666666697,404.11,268.10324229931001,617.00485210412,701.79650000000004,491.76162313019,2.0844682099999998,1.3399000000000001,1.4738,87.5,409,357.6,260,215.5,2051.5100000000002,67.150000000000006,6051.05,2053.5300000000002,19228.77,13411.35,2512,1201.71,804.91,14.987]
["2018M09",75.363333333330004,78.86,77.02,70.209999999999994,114.16,102.14,2.9847000000000001,9.5215770312100005,11.30331690113,89.167570014020001,2.19489,2.6715585160000002,1.6909435399999999,2.67161271274,3.25,2.3523381382199999,2.4125000000000001,897.13,1380,1492.69,1442.29,605.15,865.63,356.87,754.05,377.15,821.47,733.95,119.41691666667001,154.8028496,163.58280400000001,405,393,395.35,384.65,202.049766963,212.37841259999999,0.88528441698000004,1.11264415625,0.79996595373000001,4.010424242,2.0282504000000001,7.8263999999999996,11.532367219999999,0.38073630400000003,0.55997348000000002,0.25066529399999998,4973.9583333333303,408.065,265.85268820250002,625.48585379880001,711.44299999999998,487.63360093210002,1.9920946319999999,1.3341000000000001,1.4418,87.5,421.63,376.25,267.5,215.5,2026.46,68.44,6050.76,2022.91,18967.13,12510.35,2434.6799999999998,1198.3900000000001,804.79,14.272]
["2018M10",76.726666666669999,80.47,78.959999999999994,70.75,108.73,100.34,3.2839999999999998,8.7909607297400001,11.66058023421,89.570795616780003,2.1341999999999999,3.027825108,1.880981784,2.7366844304,3.48,2.31405329121,2.4159999999999999,830.25,1265.22,1485.36,1431.7,589.79999999999995,794.49,367.96,751.58,379.31,850.29,718.04,119.41691666667001,160.25531760000001,158.953102,409,397,390.39,389.8,209.104551603,213.4807227,0.90741905669,1.1229783124999999,0.74955482141999996,3.864257936,2.0282504000000001,7.8263999999999996,11.464024,0.37511947200000001,0.55578470199999996,0.292773536,4940.2250000000004,402.04500000000002,263.84989829758001,623.52132798252001,709.20849999999996,483.96003396592999,1.9136101599999999,1.3171999999999999,1.4253,91.25,420.75,385,270,215.5,2029.86,73.41,6219.59,1987.55,19121.48,12314.91,2673.67,1215.3900000000001,829.87,14.597]
["2018M11",62.316666666670002,65.17,65.11,56.67,100.73,91.58,4.1292999999999997,8.2650790129100002,11.700294621619999,97.362467892140003,2.1850399999999999,3.0227544819999999,1.841298624,2.7017389015600002,3.36,2.3877167046799999,2.3574999999999999,759.26,1223.8599999999999,1479.22,1438.26,539.1,707.62,374.04,729.22,366.2,840.39,706.09,119.41691666667001,160.6883656,157.52009899999999,401,391,378.81,395.73,210.84620156099999,203.55993179999999,0.86011716538000005,1.1229783124999999,0.73135814827000001,3.9464902620000002,2.0282504000000001,7.4599000000000002,11.660235180000001,0.37103747199999998,0.55203684799999997,0.28439597999999999,4941.375,397.67,262.70900127881998,617.86732685273,702.77750000000003,481.86737232948002,1.912948774,1.2345999999999999,1.3529,92.5,410.2,379.2,305.60000000000002,215.5,1938.51,73.260000000000005,6195.92,1937.11,19064.86,11239.72,2595.69,1220.6500000000001,846.19,14.353]
["2018M12",53.96,56.46,56.47,48.95,101.37,95.41,3.9824999999999999,7.9762423800900004,11.995320796110001,94.406577851349994,2.2084100000000002,2.8020720200000002,1.710123734,2.6235660911199998,3.18,2.39403160669,2.2966666666700002,796.27,1212.6300000000001,1480.06,1434.58,535.02,738.36,380.53,727.88,361.02,827.02,703,119.41691666667001,167.43997759999999,163.80326600000001,404,395,379.33,399.52,217.809127026,211.27610250000001,0.83952839006000002,1.1298677500000001,0.71845120567999998,4.1852506079999996,2.0879074171999998,7.4405999999999999,11.794717,0.37185387199999997,0.55622562600000003,0.27888443000000002,4923.5583333333298,398.54500000000002,265.42603445895003,607.46971460557995,690.95100000000002,486.85102204330002,1.8959732,1.2614000000000001,1.4365000000000001,99.17,389.67,368.33,276.67,215.5,1920.38,69.16,6075.32,1972.32,19259.580000000002,10835.08,2616.29,1250.4000000000001,791.16,14.772]
["2019M01",56.583333333330003,59.27,58.96,51.52,98.56,91.29,3.0794999999999999,7.2623432334500002,12.007292617259999,80.055366062069993,2.2633399999999999,2.8320548520000002,1.724894688,2.5371243350400001,3.23,2.1193730051299999,2.262,773.07,1235.22,1486.35,1379.77,584.58000000000004,765,381.96,747.79,362.01,859.73,688.13,119.41691666667001,166.74316400000001,162.92141799999999,410,402,387.35,396.31,220.15704753899999,209.80635570000001,0.84844252301,1.1367571875,0.63841758219,4.2413581870000003,2.1495044999999999,7.9917999999999996,11.794717,0.37296417599999998,0.56372133400000002,0.28197089800000003,4806.1083333333299,399.73500000000001,273.24629669495999,617.24442842318001,702.06899999999996,501.19514118747998,1.8155045700000001,1.3562000000000001,1.5925,102.5,382.13,355,260,215.5,1853.72,76.16,5939.1,1997.14,20457.75,11523.09,2569.6999999999998,1291.75,806.77,15.624000000000001]
["2019M02",61.13333333333,64.13,64.319999999999993,54.95,95.42,84.16,2.7170999999999998,6.0057971221999997,11.806581648330001,69.545041682090002,2.2557999999999998,2.83183439,1.7339336299999999,2.3819713903899999,3.27,1.72091417117,2.1549999999999998,710.43,1367.5,1472.28,1370.06,602.97,694.67,380.33,772.82,353.34,829.7,700,119.41691666667001,169.52254479999999,170.417126,408,401,386.25,367.95,217.24694887499999,218.9922732,0.87170654132000003,1.1574255,0.62762653183999995,4.2791674200000003,2.0855705200000001,8.0192999999999994,11.794717,0.370710912,0.57099657999999998,0.28615967599999997,4782.9083333333301,397.32,269.70632383508001,623.13800587202002,708.77250000000004,494.70203508223,1.78904913,1.3987000000000001,1.6528,102.5,357.38,343.75,250.63,215.5,1862.99,88.22,6300.49,2062.79,21263.95,12685.23,2707.19,1320.07,818.15,15.815]
["2019M03",63.786666666670001,66.41,66.8,58.15,93.12,78.81,2.9350000000000001,5.1787356741300004,11.2941866074,67.912110752890001,2.2004899999999998,2.7313037179999999,1.6966755520000001,2.38102230847,3.38,1.6305669253999999,2.1324999999999998,678.56,1383.33,1476.02,1370.38,573.02,654.72,369.53,750.33,344.63,808.68,711.71,119.41691666667001,166.22350639999999,169.31481600000001,406,399,382.43,342.62,200.388953079,205.76455200000001,0.93803205176000004,1.1780938125,0.65084844903000005,4.4764809100000003,2.06903587,8.0054999999999996,11.794717,0.369241392,0.57827182600000004,0.28020720199999999,4732.5916666666699,395.745,267.74155971684002,631.37943124765002,718.14649999999995,491.09821595806,1.8476920219999999,1.4704999999999999,1.7224999999999999,98.5,335.03,321,247.5,245.5,1871.21,86.47,6439.46,2046.46,21393.4,13026.27,2850.6,1300.9000000000001,842.81,15.295999999999999]
["2019M04",68.576666666669993,71.2,70.66,63.87,86.77,72.489999999999995,2.6459999999999999,4.9221808196800003,10.26546106987,62.486065798120002,2.3311299999999999,2.6704562059999999,1.6155455359999999,2.64702430568,3.34,2.34507291703,2.2559999999999998,668.63,1318.5,1505.38,1377.61,588.45000000000005,636.23,359.84,733.77,341.53,805.96,713,136.41086250000001,161.48753600000001,165.45673099999999,413,404,391.3,341.11,197.331879735,199.51812810000001,0.93417878935999998,1.1643149374999999,0.57361838273999999,4.6989270679999997,2.0943890000000001,8.0469000000000008,11.794717,0.36708609599999997,0.59414509000000004,0.28241182199999998,4673.1416666666701,393.435,266.66234346932998,624.76712484161999,710.62549999999999,489.11869072354,1.92353095,1.5036,1.7165999999999999,97.5,323.75,310,247.5,265.5,1845.42,93.7,6438.36,1938.99,20604.3,12772.79,2932.65,1285.9100000000001,887.29,15.055]
["2019M05",66.833333333330003,70.53,69.13,60.84,82.32,68.930000000000007,2.6278999999999999,4.3410552940500002,10.145488494269999,59.422335332700001,2.31508,2.65766941,1.5679257440000001,2.7300252655500001,3.09,2.70757579665,2.3925000000000001,661.17,1312.86,1511.52,1392.89,564.4,573.36,339.81,742.53,339.18,815.84,721.57,149.27114583333,171.08151760000001,165.45673099999999,409,401,386.76,350.94,200.32281447299999,199.51812810000001,0.91854739972999999,1.1229783124999999,0.52193771509999998,4.6006010159999997,2.0866728299999999,8.0469000000000008,11.794717,0.36525735999999998,0.58113783200000002,0.27337287999999998,4650.8500000000004,391.47500000000002,270.58883861947999,615.51947892595001,700.10699999999997,496.32076560966999,1.7667824679999999,1.4958,1.7688999999999999,97.5,313.39999999999998,305,247.5,265.5,1781.26,100.15,6017.9,1815.19,19523.900000000001,12016.31,2742.81,1283.7,833.55,14.662000000000001]
["2019M06",59.76,63.3,61.3,54.68,72.489999999999995,62.94,2.3965000000000001,3.5880065122699998,10.04237787692,52.962528876139999,2.4077299999999999,2.8600535260000002,1.6318597239999999,2.56195490104,2.78,2.75086470312,2.1549999999999998,635.6,1315,1522.28,1391.97,552.19000000000005,542.24,358.95,742.89,362.6,840.01,725,149.27114583333,195.08025040000001,157.74056100000001,420,411,394.2,358.82,222.40943451000001,206.13198869999999,0.88604597539999996,1.1264230312500001,0.54341402120000004,4.6291508449999998,2.0723427999999999,8.0469000000000008,11.97329122,0.36875155199999998,0.584003838,0.284836904,4607.0416666666697,395.22,275.39485684472999,607.51762986939002,691.00549999999998,505.13608355575002,1.71188743,1.5012000000000001,1.9273,97.5,314.88,293.75,247.5,265.5,1755.95,108.94,5882.23,1899.7,19193.2,11943.94,2601.2199999999998,1359.04,808.2,15.036]
["2019M07",61.476666666669999,64,62.91,57.52,72.08,65.790000000000006,2.36,3.6203714056099998,10.127811224269999,52.731038159759997,2.4165299999999998,2.9865987139999999,1.6298755659999999,2.5795162508199998,2.84,2.9018820858100001,1.9966666666699999,657.31,1260,1496.12,1437.71,543.88,555.03,369.58,748.17,348.73,845.27,753.83,149.27114583333,189.41913199999999,159.504257,416,409,391.7,360.16,203.96043780299999,196.21119780000001,0.86360873093000001,1.1264230312500001,0.54277925353000001,4.629702,1.9885672400000001,8.0469000000000008,12.945528639999999,0.36640032,0.56570549199999998,0.28285274599999999,4542.6333333333296,392.7,275.11490643116002,597.74291605178996,679.88750000000005,504.62259155693999,1.6653699479999999,1.4112,1.6681999999999999,80,307.5,283.75,263.5,265.5,1796.99,120.24,5941.2,1975.64,17977.849999999999,13546.3,2446.5100000000002,1412.89,843.95,15.791]
["2019M08",57.67,59.25,58.92,54.84,65.55,60.43,2.2242999999999999,3.6767751604100001,10.86099863824,51.848054479319998,2.1947000000000001,2.7828918260000002,1.5602095739999999,2.6269387064999998,3.06,2.71081611951,2.11,719.28,1252.3800000000001,1436.95,1457.89,586.12,619.33000000000004,360.93,793.21,337.36,877.48,776,135.03297499999999,163.5858504,147.930002,430,421,407.52,362.39,197.522946819,181.14629310000001,0.83382134537999997,1.1229783124999999,0.52542893726999995,4.595861083,1.90038244,8.0469000000000008,13.05575964,0.36333065599999997,0.56879195999999999,0.271609184,4523.1333333333296,389.41,280.18996729332002,581.97879425771998,661.95699999999999,513.93139418707005,1.5604300360000001,1.3102,1.5004,78,292.89999999999998,275,262.5,265.5,1740.68,93.07,5709.44,2044.55,16608.990000000002,15748.64,2273.0100000000002,1500.41,859.14,17.224]
["2019M09",60.04,62.33,60.84,56.95,65.95,61.37,2.58,4.20525568494,10.141700406329999,58.192513767820003,2.3054199999999998,2.8415347180000001,1.5573435680000001,2.5433320525499998,2.88,2.5259961576399999,2.2240000000000002,724.03,1321.43,1385.38,1458.25,580.29999999999995,613.15,366.07,779.25,333.13,903.07,776,114.82395833333,157.25941280000001,149.69369800000001,427,421,401.71,350.85,201.90646665,189.5973372,0.84632254663999995,1.1505360625000001,0.53383960887000004,4.6545039749999999,1.85298311,8.1020000000000003,13.22772,0.35947724800000003,0.56526456800000002,0.26190885600000002,4544.5,385.28,277.0608099108,591.60976228387995,672.91150000000005,508.19181602956002,1.5721145219999999,1.335,1.4991000000000001,77.5,285.75,270,237.75,265.5,1753.51,93.08,5759.25,2071.85,16830.62,17656.88,2331.56,1510.58,944.7,18.16]
["2019M10",57.273333333330001,59.37,58.47,53.98,69.2,67.44,2.3313000000000001,5.0572178578700004,9.9835240858399992,59.115498034280002,2.43527,2.799646938,1.5130307059999999,2.5817884204600001,2.94,2.46203192803,2.3433333333299999,719.52,1358.7,1360.05,1458.53,591.35,593.74,381.65,770.8,341.76,908.67,776,114.82395833333,167.1486544,163.80326600000001,424,418,397.04,325.79000000000002,212.84873157600001,199.51812810000001,0.85602809683000003,1.1340014125,0.52072107707000004,4.8583210939999999,1.8518808,8.2673000000000005,13.404089600000001,0.36094676799999997,0.57474443399999997,0.27712073399999998,4447.3916666666701,386.85500000000002,275.34391439989002,605.36144299785997,688.553,505.04264365867999,1.6287732559999999,1.2978000000000001,1.4349000000000001,77.5,277.38,270,237,265.5,1725.96,88.53,5757.3,2184.09,16603.39,17046.22,2451.65,1494.81,897.26,17.645]
["2019M11",60.403333333330004,62.74,61.41,57.06,66.989999999999995,73.62,2.6505000000000001,5.1500042173100002,10.03950330791,63.47069207042,2.51966,3.1080732759999998,1.6155455359999999,2.6149636116199999,3.19,2.3573908348599999,2.2974999999999999,848.92,1400,1360.93,1388.47,685.41,767.44,375.51,770.2,347.32,891.17,776,114.82395833333,166.3337368,161.929339,421,415,394.76,328.24,223.53746517900001,203.1924951,0.85366710038000004,1.1298677500000001,0.52521734804999998,5.9362700430000004,1.8518808,8.2673000000000005,13.68187172,0.36097942399999999,0.60053848799999998,0.28219136,4320.9750000000004,386.89,273.39685944453998,617.53192000604997,702.39599999999996,501.47130712072999,1.650378532,1.3856999999999999,1.544,74,248,264,224.5,265.5,1774.79,84.98,5859.95,2021.15,16335.48,15171.81,2425.48,1470.79,901.8,17.164999999999999]
["2019M12",63.353333333329999,65.849999999999994,64.41,59.8,66.180000000000007,76.03,2.2425000000000002,4.6204722123900002,10.05669681144,56.010463863330003,2.4447100000000002,3.4550804639999999,1.6144432259999999,2.56810384994,3.21,2.28431154983,2.21,1031.29,1528.75,1362.61,1404.96,763.73,969.77,383.2,833.52,352.68,900.66,776,114.82395833333,166.95575120000001,163.91349700000001,432,423,400.9,337.43,237.67642939500001,210.90866579999999,0.85824292698000004,1.1367571875,0.51622480607999999,5.5635790319999998,1.97754414,8.35,13.950835359999999,0.36287347199999997,0.573421662,0.29563954199999998,4321.0249999999996,388.92,272.79560180441001,627.92953225320002,714.22249999999997,500.36846543000001,1.6717633460000001,1.4594,1.6575,72.5,238.16,243.33,217.5,265.5,1771.38,92.65,6077.06,1900.54,17141.05,13829.42,2272.54,1479.13,924.25,17.138000000000002]
["2020M01",61.626666666669998,63.6,63.76,57.52,69.66,82.09,2.0305,3.6333843472699998,9.8869500632699996,48.628477917429997,2.6030700000000002,3.1347491779999999,1.5553594100000001,2.50762380872,3.27,1.9653714261699999,2.2875000000000001,1003.72,1671.59,1374.37,1371.35,810.07,970.53,387.23,875.64,355.53,945.39,806.91,114.82395833333,171.78620480000001,166.22834800000001,451,440,426,348.68,247.994051931,224.5038237,0.87031262898999995,1.1698264875,0.51241620007999999,5.0390999340000002,2.0712404900000001,6.6238702500000004,13.999337000000001,0.36264488,0.57099657999999998,0.31195372999999998,4424.3083333333298,388.67500000000001,272.39623044117002,626.49207433884999,712.58749999999998,499.63592856049002,1.7431930339999999,1.466,1.6834,72.5,264.89999999999998,239,215.4,268.7,1773.09,95.76,6031.21,1923.93,17029.18,13506.86,2354.31,1560.67,987.36,17.972000000000001]
["2020M02",53.346666666669996,55,54.51,50.53,67.64,79.989999999999995,1.9157999999999999,2.9077736410599999,9.8944305055299999,43.791167729800001,2.7162099999999998,2.9872600999999999,1.5006848340000001,2.3591170788200002,3.35,1.5998512364599999,2.1274999999999999,844.12,1718.75,1364.56,1393.46,728.81,801.84,375.63,800.41,354.14,902.34,823,114.82395833333,168.71156400000001,164.133959,450,442,426.45,357.42,238.977155313,215.31790620000001,0.89920797016999998,1.1849832499999999,0.51648929260999998,4.7173356450000004,1.87613162,6.1289689999999997,13.999337000000001,0.35624430400000001,0.58885400200000004,0.32584283600000002,4443.2916666666697,381.815,270.56424634114001,621.07764952811999,706.42899999999997,496.27565784219001,1.688077534,1.3411999999999999,1.6126,72.5,279.38,245,214.38,243.38,1688.1,87.68,5687.75,1872.54,16480.3,12715.55,2113.2399999999998,1597.1,961.1,17.88]
["2020M03",32.203333333330001,32.979999999999997,33.75,29.88,66.739999999999995,67.89,1.7927,2.7188683817500001,10.21299199713,41.614091657240003,2.33847,3.270112846,1.487236652,2.1339190966400001,3.08,1.3277572899100001,1.994,837.72,1868.18,1400.08,1412.91,636.25,691.04,372.61,747.8,377.25,796.67,730,114.82395833333,162.4205576,164.354421,494,477,469.64,372.58,228.12307519500001,209.07148230000001,0.90768886773000002,1.19531740625,0.55378189311000003,4.4736149039999997,1.7769237200000001,6.3241160000000001,13.999337000000001,0.36130598400000002,0.59723155800000005,0.26080654599999997,4402.4666666666699,387.24,276.93194441781998,593.67011862778998,675.255,507.95544774302999,1.492307278,1.2095,1.4985999999999999,71.88,276.22000000000003,245,231.13,235,1610.89,88.99,5182.63,1734.44,15290.91,11846.23,1903.63,1591.93,759,14.884]
["2020M04",21.043333333330001,23.34,23.27,16.52,58.55,56.58,1.7385999999999999,2.1203186673199999,10.00988126196,37.97404004066,2.2702399999999998,3.4065788239999999,1.410074952,2.355843643,3.66,1.2975309290099999,2.11,834.51,2050,1390.91,1527.27,608.88,720.69,361.26,679.98,363.83,758.96,732.1,114.82395833333,146.90956560000001,166.66927200000001,564,536,543.70000000000005,407.14,221.68558421099999,218.9922732,0.90264914086000003,1.281435375,0.58192325973000003,4.4452855370000002,1.2676565,6.2831264999999998,13.889106,0.35490540799999998,0.57364212400000003,0.225091702,4345.3416666666699,380.38,276.23813700394999,594.96383075070003,676.72649999999999,506.68284895959999,1.400595086,1.1067,1.3342000000000001,70.75,282,245,235,220.38,1459.93,84.73,5057.97,1657.55,14952.8,11804.01,1903.37,1683.17,753.86,15.065]
["2020M05",30.38,31.02,31.56,28.56,52.49,57.42,1.7524999999999999,1.5751649779200001,10.07552703066,35.595661957700003,2.3159900000000002,3.3034026079999999,1.4226412859999999,2.5072032288999999,3.76,1.78910968669,1.9724999999999999,832.33,2050,1394.65,1588.02,576.55999999999995,684.95,359.17,684.78,339.1,799.83,738.26,80.376770833329999,143.90578719999999,175.928676,510,494,492.89,438.42,209.927609811,205.76455200000001,0.90864427425000005,1.2952142499999999,0.64502974540000002,5.0810979449999998,1.5178808699999999,6.0441663999999999,12.55310628,0.35601571199999998,0.56989427000000004,0.24162635199999999,4392.7166666666699,381.57,277.7328484459,589.45357541235001,670.45899999999995,509.42448579508999,1.4484353400000001,1.1177999999999999,1.3468,72.900000000000006,263,243,201.9,222.2,1466.37,93.65,5239.83,1626.34,15401.92,12179.61,1975.32,1715.91,790.22,16.256]
["2020M06",39.456666666670003,39.93,40.14,38.299999999999997,52.21,56.81,1.6128,1.7521711121800001,8.9708190918700002,33.992281929710003,2.2286299999999999,3.119978224,1.4246254439999999,2.8358473702899998,3.3,3.3515421108800001,1.8560000000000001,916.38,2050,1451.36,1712.82,656.49,724.62,369.58,755.71,345.17,850.98,788.36,80.376770833329999,147.98824880000001,170.85804999999999,520,501,493.64,449.46,200.49550972200001,198.415818,0.90074283349999995,1.2952142499999999,0.64952601638999996,5.0981837499999996,1.5652801999999999,5.7654059999999996,12.12541,0.36754328000000003,0.57209889000000003,0.26675902000000001,4401.8166666666702,393.92500000000001,276.67457272226,599.94701818712997,682.39449999999999,507.48337018937002,1.49473236,1.1731,1.4009,75,273,240,202,226.25,1568.57,103.3,5754.6,1744.84,16837.84,12727.15,2025.71,1732.22,820.77,17.713000000000001]
["2020M07",42.066666666670002,42.81,42.64,40.75,51.56,56.6,1.7352000000000001,1.8010354964699999,7.7864455010600002,34.908524608450001,2.1017399999999999,3.2359412359999999,1.492307278,3.0401407819099999,3.32,3.9904223457199999,1.81,888.31,1984.78,1486.92,1876.87,694.16,683.93,381.07,821.11,355.24,890.21,833.17,80.376770833329999,152.55493680000001,174.93659700000001,480,467,459.7,444.19,212.742174933,222.13,0.86138446914,1.270412275,0.66079314249999999,4.6988168369999999,1.52339242,5.6130325000000001,12.51783236,0.37427041599999999,0.58686984399999997,0.27072733599999999,4383.6666666666697,401.13499999999999,278.85148018842,606.84681617601996,690.24249999999995,511.47630790911001,1.5106056240000001,1.2002999999999999,1.4838,75,305.10000000000002,262.2,214.4,237.5,1643.81,108.52,6372.46,1817.93,17469.919999999998,13402.3,2177.1999999999998,1846.51,864.64,20.646999999999998]
["2020M08",43.443333333330003,44.26,43.71,42.36,50.14,57.38,2.3016999999999999,2.8618966767299998,6.3435648953200001,45.85350707672,2.3486799999999999,3.5990421499999998,1.602317816,3.1485037179400002,3.37,4.0730111538099996,2.0024999999999999,981.3,1929.76,1479.92,1876.96,760.3,739.17,384.55236292427998,866.94,374.95,921.55,877.14,80.376770833329999,149.34250800000001,189.487089,505,486,480.85,448.91,208.93920508799999,223,0.89531834531999999,1.2504329062499999,0.61657099495000001,4.6323475439999999,1.496496056,6.1455310000000001,12.566333999999999,0.38625516799999998,0.60384541800000002,0.28880521999999997,4353.3666666666704,413.98,280.77132910416998,629.12741384849005,715.58500000000004,514.99774245380002,1.541911228,1.3213999999999999,1.7032,76.88,341.88,276.25,249.5,240.38,1737.26,121.07,6498.94,1935.73,17650.03,14537.75,2410.0500000000002,1968.63,940.33,27.003]
["2020M09",40.596666666669996,41.09,41.1,39.6,54.6,57.47,1.9186000000000001,3.9521394626699999,5.8838474311300004,46.072909128329997,2.4579,3.6720150720000002,1.604301974,3.0796132040500002,3.35,3.8568396121599999,2.032,1034.18,1663.64,1470.95,1880.71,796.22,767.84,423.41,905.86,408.43,938.14,982.38482384823999,"...",166.0817816,"...",507,488,483,462.66,219.683054196,247.68,0.91014050850999995,1.24009875,0.60514517692000003,4.599057782,1.47158385,6.3060359999999998,11.85644636,0.38514486399999998,0.59194047000000005,0.28130951199999998,4220.3666666666704,412.79,282.02144775403002,621.89220901292003,707.35550000000001,517.29074111761997,1.5610914220000001,1.3705000000000001,1.8575999999999999,79.38,358.38,282.5,250.5,247.75,1743.77,123.75,6704.9,1872.91,17951.259999999998,14857.49,2442.46,1921.92,907.62,25.742000000000001]
["2020M10",39.9,40.47,39.700000000000003,39.53,58.4,61.04,2.2473000000000001,4.8895904081600001,6.1792051617599997,54.721154852959998,2.2920500000000001,3.3523451720000002,1.507078232,2.9974193484799998,3.51,3.50475804543,1.9775,1118.3599999999999,1532.73,1438.22,1877.59,819.27,805.91,454.25,914.77,465.55,927.71,981.40243902438999,"...",186.74604479999999,"...",471,463,454.5,459.17,245.19785864400001,272.36,0.90325182884999999,1.1326235250000001,0.60990593443999996,4.4247825709999997,1.5013462200000001,6.7040040000000003,11.353793,0.38436112,0.60737280999999999,0.30269432600000001,4245.3999999999996,411.95,282.98654016080002,621.65263269386003,707.08299999999997,519.06093757012002,1.649496684,1.5285,2.1865000000000001,80,357.1,290,245,255,1806.1,119.78,6713.81,1776.27,18176.59,15239.36,2440.65,1900.27,876.27,24.23]
["2020M11",42.303333333330002,43.23,42.58,41.1,64.400000000000006,69.430000000000007,2.5880999999999998,4.8358390051600004,6.8555053474400003,59.062273054830001,2.35819,3.3230237260000002,1.5957039559999999,2.7794276016500001,3.47,2.8832828049499999,1.9850000000000001,1368.95,1607.14,1442.77,1878.61,917.81,1073.48,499.98,973.88,495.98,1047.78,1109.1124661246599,"...",190.37577440000001,"...",489,480,468.48,469.5,247.94628516,273,0.88583047379000002,1.1298677500000001,0.64656376726999998,4.395902049,1.7046121839999999,7.2918487499999998,11.532367219999999,0.38651641599999997,0.64661504599999997,0.31151280599999998,4222.2333333333299,414.26,285.20965726112001,632.96063495343003,719.94500000000005,523.13863414807997,1.7134306640000001,1.5591999999999999,2.3016999999999999,82.5,359.63,292.5,245,250,1935.28,124.36,7068.91,1915.62,18522.48,15807.73,2671.6,1866.3,911.55,24.079000000000001]
["2020M12",48.726666666669999,49.87,49.26,47.05,83.03,85.18,2.5387,5.8561062960400001,7.6610025630500003,63.858432563169998,2.4072,3.479110822,1.5882082479999999,2.6469430764499999,3.41,2.59582922936,1.9350000000000001,1464.9645697758499,1937.5,1497.6851211072701,1977.1738914549701,1016.37389145497,1224.8682051282101,510.93573705179,1026.1958677686,494.97802020201999,1097.6258446601901,1170.02032520325,"...",198.76903200000001,"...",520,508,496.55,477.39,251.15400755100001,268.55,0.92024241631000003,1.1505360625000001,0.63767701991000003,4.4021852160000003,1.8077884,7.0889040000000003,11.684486,0.39732555200000003,0.62655300400000002,0.31041049599999998,4200.3999999999996,425.84500000000003,286.85858570933999,643.93323036633001,732.42550000000006,526.16313964516996,1.7861831239999999,1.5724,2.327,83.33,388.5,320,245,246.33,2014.67,155.43,7772.24,2020.47,19731.96,16823.04,2779.85,1858.42,1028,24.968]
["2021M01",53.603333333329999,54.55,54.16,52.1,86.83,86.85,2.6655000000000002,7.2683017492999999,9.0037875279499993,73.021479326420007,2.39141,3.5423834159999998,1.559327726,2.6795255398700002,3.39,2.6210766196200002,2.0274999999999999,1463.07,1892.86,1495.98,1988.94048883757,990.27,1368.31,576.37,1098.67,562.38,1141.24,1276.1178861788601,"...",234.46795014720001,"...",545,528,517.75,490.98,276.448349979,289.3,0.93904568091999996,1.2366540312500001,0.63418579773999995,4.4566393299999998,1.8077884,7.2832055999999996,11.752829220000001,0.39758680000000002,0.634710098,0.335543164,4157.3999999999996,426.125,286.99685746569003,653.75585944774002,743.59799999999996,526.41676113348001,1.9230900259999999,1.5943000000000001,2.2972999999999999,85,421.3,337.6,265,255.5,2003.98,169.63,7972.15,2014.73,21920.240000000002,17863.18,2705.34,1866.98,1090.95,25.88]
["2021M02",60.463333333329999,61.96,60.37,59.06,86.74,82.76,5.0651000000000002,6.1585071665199997,9.8794278121599994,97.478025425929999,2.40544,3.6691490660000001,1.6175296939999999,2.5554176964000002,3.32,2.3262530891900002,2.02,1444.5,1875,1479.18,1993.2059724793701,1019.86,1359.5,578.26,1123.5,548.44000000000005,1272.1300000000001,1362.56775067751,"...",245.23508240000001,"...",557,542,531,500.48,276.62839396200002,289.39999999999998,0.94597281741999995,1.22287515625,0.58382756274000003,4.6616689899999999,1.8077884,7.4514825,11.932505750000001,0.39503963199999997,0.65521306400000001,0.35692797799999998,4185.4333333333298,423.39499999999998,282.52998030668999,664.00972590345998,755.26099999999997,518.22350415085998,2.0450055119999999,1.6802999999999999,2.3460999999999999,88.13,528.88,453.75,335,290.63,2078.59,163.80000000000001,8470.94,2080.11,26315.75,18584.38,2744.5,1808.17,1206.7,27.292999999999999]
["2021M03",63.83,65.19,63.95,62.35,94.92,90.66,2.5644999999999998,6.1270695793499996,7.8950515719499998,65.618450373450003,2.4613200000000002,3.6828177100000001,1.628332332,2.4297147142600002,3.27,2.0231441427800001,1.996,1540.65,1623.04,1476.34,2006.0389818224601,1030.48,1478.59,585.71,1284.81,483.9,1321.88,1611.1111111111099,"...",245.17209360000001,"...",525,515,504.13,498.38,272.57556716099998,273.13,0.95066422672999995,1.2263198749999999,0.59900908946999998,4.7190993409999997,1.8862728719999999,7.9896229999999999,12.284142640000001,0.38870436800000002,0.67196817600000003,0.34259794799999999,4202.1666666666697,416.60500000000002,273.84954488929998,664.24930222251999,755.5335,502.30163400216998,2.0161249899999998,1.7435,2.3690000000000002,96.25,534.13,458,352.88,320.88,2190.48,168.18,8988.25,1948,27061,16406.66,2791.94,1718.23,1181,25.648]
["2021M04",62.95,64.77,62.37,61.71,92.22,89.13,2.61,7.1468162880900001,8.2767941960999991,71.277449912950004,2.3683299999999998,3.71809163,1.641560052,2.6668015724599998,3.21,2.8754047173899999,1.915,1659.64,1426.82,1487.25,2020.63680170152,1078.05,1487.14,597.13,1386.35,464.2,1312.33,1572.7981029810301,"...",268.23386799999997,"...",495,484,477.38,488.17,281.379350493,280.95,0.96138807160999995,1.2263198749999999,0.58684270916000003,5.1724794440000004,2.2641447399999999,8.3670550000000006,12.493581539999999,0.390500448,0.689164212,0.35626659199999999,4218.7749999999996,418.53,272.89562769195999,663.24308168247001,754.38900000000001,500.55193539624003,2.0002517260000001,1.6424000000000001,2.1535000000000002,95,543.4,478,328.1,345.5,2319.39,179.83,9324.82,2011.92,28328.42,16521.25,2829.01,1760.04,1208.81,25.687000000000001]
["2021M05",66.400000000000006,68.040000000000006,65.98,65.180000000000007,107.04,99.31,2.8883999999999999,8.9087569243899996,8.9156945129699992,83.467233274210002,2.4128599999999998,4.110734452,1.756641216,2.7118637156599998,3.08,3.13892448031,1.9166666666700001,1715.24,1450,1514.29,2072.0399166727998,1136.46,1530.5,646.79999999999995,1574.67,482.38,1531.38,1584.58672086721,"...",305.31065039999999,"...",493,483,462.75,477.7,270.98456625,297.25,0.96928708729000002,1.2263198749999999,0.60927116677000004,5.48399225,2.3748166639999999,8.8027131999999995,12.64900725,0.39670508799999998,0.71297410800000005,0.380517412,4168.0083333333296,425.18,272.74561635287,674.59899920585997,767.30550000000005,500.27678087381003,2.0037791180000002,1.6913,2.2902999999999998,102.5,574.63,527.5,331.63,378.13,2433.5300000000002,207.72,10161.969999999999,2181.81,32246.21,17577.060000000001,2965.73,1850.26,1214,27.504000000000001]
["2021M06",71.803333333330002,73.069999999999993,70.959999999999994,71.38,129.97,112.92,3.2317999999999998,10.30105100564,9.6160122963700001,94.730656332630005,2.3662299999999998,4.2430116519999999,1.8701791459999999,2.6985050645099999,2.93,3.3415151935199998,1.8240000000000001,1670.68,1450,1502.27,2078.8257589914201,1004.42,1400.45,614.67999999999995,1518.16,467.15,1527.59,1296.74796747967,"...",292.55935520000003,"...",466,455,438.59,474,263.47783446900002,285.55,0.95067186160999995,1.2263198749999999,0.63577271691000004,5.6774476549999999,2.3809895999999999,8.8592167499999999,13.39968036,0.39350479999999999,0.72862691000000002,0.38382434199999999,4138.9666666666699,421.75,270.39222547607,672.29906654290005,764.68949999999995,495.96013290078002,2.0833659,1.6380999999999999,2.1217999999999999,125,604.75,550,393.25,462.5,2446.65,214.43,9631.5,2191.0300000000002,32502.55,17979.57,2951.85,1834.57,1124,26.995000000000001]
["2021M07",73.283333333330006,74.39,73,72.459999999999994,151.97,122.33,3.8035999999999999,12.50994243239,10.35918836698,112.6787432485,2.3271000000000002,4.5038181980000003,2.0804998939999999,2.6525720552699998,2.99,3.2043828324799999,1.7633333333300001,1584.09,1456.82,1504.13,2092.1928941281099,1062.99,1274.0899999999999,600.44000000000005,1468.34,470.02,1410.08,1282.0121951219501,"...",278.43411680000003,"...",414,407,397,436.17,254.67037676999999,294.27,0.84793984208999995,1.2345872,0.69364236932000001,5.5856252319999999,2.3809895999999999,8.9927074000000005,15.860036279999999,0.38605923199999997,0.79674966800000002,0.39021773999999998,4078.11666666667,413.77,269.95088887301,661.47021692144006,752.37249999999995,495.15062234653999,2.1539137400000001,1.6312,1.867,125,613,555,441.5,633,2497.64,214.14,9450.82,2337.5100000000002,34020.18,18818.509999999998,2947.52,1807.84,1086.48,25.677]
["2021M08",68.86666666667,70.02,68.849999999999994,67.73,169.58,137.91999999999999,4.0486000000000004,15.42647593843,10.80139654747,129.81858281674999,2.4843099999999998,4.7672702879999997,2.098357316,2.7152308005000001,2.99,2.9996924015099999,2.1560000000000001,1493.64,1443.18,1504.12,2102.2883548599998,1141.82,1341.14,585.79999999999995,1433.94,470.26,1519.19,1355.6910569105701,"...",256.61243439999998,"...",403,392,381,384.46,276.18379555500002,324.52,0.89173992325999996,1.2297645937499999,0.71823961646000001,5.60965559,2.3809895999999999,9.0452324999999991,15.763033,0.38442643199999998,0.75971205200000003,0.42945997600000002,3973.24166666667,412.02,271.03226533972997,661.23064060238005,752.1,497.13410990874002,2.2332800599999998,1.7063999999999999,1.9004000000000001,136.88,603.13,555,446.88,695,2602.9899999999998,162.16,9370.14,2414.4699999999998,35024,19141.3,2987.95,1785.28,1008.73,23.986000000000001]
["2021M09",72.8,74.599999999999994,72.239999999999995,71.56,185.69,146.05275137829,5.1111000000000004,22.840596077920001,11.43899050402,178.39940517491999,2.55809,4.9722999479999999,2.30603252,2.7273601252100002,2.98,2.9845803756399998,2.2174999999999998,1485,1476.14,1483.27,2109.0202199738901,1181.3800000000001,1427.27,557.54999999999995,1398.75,467.83,1629.14,1309.5189701897,"...",235.61748,"...",400,391,381.27,387.3,263.59908858,337.55,0.91410285826000004,1.1849832499999999,0.73670077613999996,5.7678370750000001,1.832465,9.0767345000000006,14.673950720000001,0.38442643199999998,0.78793118799999995,0.43166459600000001,4089.2249999999999,412.02,270.24495302211,658.21197898224,748.66650000000004,495.69000210944,2.2857500160000002,1.6254999999999999,1.7875000000000001,147.5,643.75,573.75,418.75,736.25,2834.56,124.52,9324.7099999999991,2248.3000000000002,34887.300000000003,19376.88,3036.02,1775.14,973.19,23.184999999999999]
["2021M10",82.063333333329993,83.65,81.22,81.319999999999993,224.51,199.65,5.4779999999999998,31.052466367539999,12.3769153834,222.52925190517001,2.5675699999999999,5.3144569720000003,2.3201420879999999,2.7801812408500002,3.05,2.8755437225599998,2.415,1922.86,1539.29,1461.66,2133.66533688546,1310.25,1818.33,551.95000000000005,1483.52,450.85,1795.17,1420.5284552845501,"...",239.64876319999999,"...",401,395,382.71,404.46,"...",354.67,0.92557798114000001,1.1505360625000001,0.66364959700000004,5.5335961999999999,1.75807,9.2967975999999997,14.467818749999999,0.37884225599999999,0.817032172,0.42416888800000002,4241.7462215804499,406.03500000000003,263.17347971106,656.24745316594999,746.43200000000002,482.71933020134998,2.5877829559999999,1.7317,1.8694,147.5,672.9,618,695,782,2934.39,122.91,9829.2199999999993,2344.83,37722.92,19362.39,3359.91,1776.85,1017.1,23.413]
["2021M11",79.916666666669997,80.77,79.8,79.180000000000007,157.47999999999999,128,5.0175999999999998,27.623432007750001,15.25400265088,202.58611793577001,2.3933300000000002,5.7090839520000003,2.41185428,2.83076375558,3.11,2.9072912667500002,2.4750000000000001,1960.68,1552.27,1439.66,2150.2094498390102,1340.65,2050.23,551.04,1442.96,442.63,1825.34,1415.6165311653101,"...",248.71915039999999,"...",400,394,378.55,411.41,334.499674212,379.45,0.90364638692999999,1.1436466249999999,0.66195688322000001,5.6934311500000003,1.551674,9.3676147499999995,14.488762639999999,0.37280089599999999,0.81835494399999997,0.42813720399999999,4221.6499999999996,399.56,261.16487433034001,644.89153564256003,733.51549999999997,479.03509634507998,2.7897261480000002,1.7447999999999999,1.9289000000000001,153.13,726.69,665,900.5,806.88,2636.45,96.24,9728.9,2329.98,39158.69,19932.86,3311.27,1821.76,1038.05,24.175000000000001]
["2021M12",72.86666666667,74.31,72.760000000000005,71.53,169.65,142.5,3.7326999999999999,38.027119843180003,15.322526915879999,236.48836750686999,2.38239,5.9101452959999996,2.4837248920000001,2.8189078472600002,3.19,2.6726834531499999,2.6150000000000002,1695.71,1475,1422.52,2154.0602220204401,1270.29,1861.43,554.14,1411.21,461.66,1742.5,1361.8309620596201,"...",264.53721280000002,"...",400,393,380.95,402.66,327.81967500600001,376.81,0.88509689337999997,1.1574255,0.70797753915999995,5.7474443400000004,1.471808,9.4394899999999993,14.62324446,0.36911076799999998,0.80931600199999998,0.415350408,4182.1499999999996,395.60500000000002,261.23362605225998,637.89590712605002,725.55849999999998,479.16120246029999,2.6464258479999998,1.7222,1.921,176.67,745,686.67,890,807.5,2695.53,116.96,9551.18,2301.69,39422.519999999997,20015.55,3399.21,1790.43,944.59,22.532]
["2022M01",83.92,85.53,83.11,83.12,196.95,168.5,4.3324999999999996,28.260673316550001,14.68575980736,196.91113953145,2.4673600000000002,5.976283896,2.4250820000000002,2.86190204087,3.51,2.39820612261,2.6775000000000002,2016.14,1479.55,1428.56,2489.88,1344.79,2195.79,606.22,1469.56,526.49,1865.36,1411.73,"...",276.62318879999998,"...",427,419,403.15,395.94,325.15943329800001,374.24,0.91152966024000004,1.1574255,0.79319509860000004,5.8064179249999999,1.3574999999999999,9.1124837999999997,14.784181719999999,0.36966591999999998,0.782199176,0.401681764,4184.6000000000004,396.2,259.05137508628002,649.68306202374004,738.96550000000002,475.15846356052998,2.9112007100000001,1.7790999999999999,1.9735,173.13,699.38,674.38,846.38,785.63,3005.98,132.53,9782.34,2331.85,41791.699999999997,22355.4,3599.14,1816.02,994.15,23.158000000000001]
["2022M02",93.543333333329997,95.76,93.13,91.74,219.78,196.4,4.6577000000000002,27.229715906700001,16.995238319599999,197.52367940190001,2.5509400000000002,6.1691881459999998,2.412515666,2.78835909895,3.61,2.0701106272900001,2.73,2147.89,1496.25,1445.25,2473.1,1522.36,2442.63,661.63,1595.74,569.46,1744.2,1499.12,"...",292.622344,"...",427,422,405.95,384.21,339.34616428499999,390.5,0.96250546948000004,1.24354346875,0.73278637552000003,5.9938106250000001,1.4483520000000001,8.9468505,14.881185,0.37041700799999999,0.77999455600000001,0.393745132,4219.55,397.005,258.46660900257001,648.82058727513004,737.98450000000003,474.08587109199999,3.0514145419999998,1.7905,2.1120999999999999,172.5,747.13,680,744.17,791.88,3245.79,142.84,9943.17,2296.86,43983.35,24015.55,3620.04,1856.3,1049.4000000000001,23.542000000000002]
["2022M03",112.39666666667,115.59,113.11,108.49,314.04000000000002,294.42,4.8838999999999997,42.392970796119997,15.11138495446,271.07990593108002,2.4590100000000001,5.6985017759999996,2.2888364839999999,2.6136485446400002,3.35,1.9559456339200001,2.5350000000000001,2230.2199999999998,1491.3,1514.62,2153.15,1776.96,2441.48,720.6,1956.88,601.42999999999995,2162.3000000000002,2361.13,"...",335.52952720000002,"...",422,419,407.13,391.67,446.65605252,486.3,0.97017463973999996,1.3889106,0.76669354846000004,6.0682165499999998,1.756807,9.1336650000000006,14.9583467,0.35983646400000002,0.80093844599999997,0.41998011000000002,4258,385.66500000000002,250.94987798125001,631.23568545621004,717.98299999999995,460.29849643746002,3.1113802060000002,1.7454000000000001,2.1217000000000001,178.75,938.13,792.5,872.5,977.5,3498.37,152.07,10230.89,2344.84,43949.67,33924.18,3962.21,1947.83,1043.26,25.314]
["2022M04",103.41333333333,105.78,102.68,101.78,310.85000000000002,302,6.5305999999999997,32.204187228709998,16.287523919009999,243.43602963927,2.4553500000000001,5.8541479479999996,2.2910411040000001,3.24066791571,4.09,3.1070037471399998,2.5249999999999999,2094.61,1443.75,1643.39,2145.25,1682.74,2064.31,720.79,1947.51,579.45000000000005,2266.17,2275.7600000000002,"...",348.16665519999998,"...",431,429,409.06,402.38,427.30683589799997,495.28,0.96240781171000001,1.45711603125,0.90703010040999998,5.9745201999999997,1.868574,9.0030819999999991,14.991415999999999,0.353468544,0.81350478000000004,0.43342829199999999,4263.3416666666699,378.84,235.71008729149,620.50266636237995,705.77499999999998,432.34529400140002,3.4242157839999998,1.7027000000000001,2.0943999999999998,249.5,954,856,925,1202,3244.41,151.25,10161.379999999999,2380.41,42991.11,33132.74,4360.43,1936.86,965,24.545000000000002]
["2022M05",110.09666666667,112.37,108.32,109.6,371.86,280,8.1372999999999998,29.170722673810001,16.679091287910001,248.79106483488999,2.3666200000000002,5.7412714039999999,2.2729632199999998,2.9852499358100002,3.71,2.8690831407499999,2.3766666666699998,1813.33,1482.95,1634.21,2146.29,1716.92,1811.19,724.09,1962.88,529.83000000000004,2218.4499999999998,2079.3000000000002,"...",344.84005919999998,"...",464,458,442.86,406.45,438.381378036,522.29,0.96246988554000001,1.46056075,0.92178844869999998,5.9414509000000004,1.8956980000000001,8.7075975000000003,15.12589782,0.34546782399999998,0.80204075600000002,0.42879858999999998,4277.0666666666702,370.26499999999999,231.13496913754,596.78461077555005,678.79750000000001,423.95349869857,3.6100652499999999,1.6173999999999999,2.0579999999999998,255,842.5,827.5,707.5,1170,2830.32,131.21,9377.15,2142.48,35769.39,28062.55,3751.48,1848.5,958.38,21.905000000000001]
["2022M06",116.8,120.08,115.73,114.59,374.08,291.35680000000002,7.6740000000000004,33.55773104275,15.53392071335,263.24491050026,2.3222900000000002,6.0338244779999997,2.2886160219999998,2.96427731058,3.51,3.2728319317299999,2.11,1700.5,1607.14,1608.06,2146.19,1501.1,1554.5,737.06,1751.76,528.14,2000.53,1884.59,"...",335.71455680000003,"...",444,441,427.55,411.92,379.89280413,459.59,0.95185945594999999,1.4385145500000001,0.93866268920999996,5.8119294750000003,1.8483860000000001,8.4611197499999999,14.85693418,0.34530454399999999,0.79300181400000003,0.41777549000000003,4206.0583333333298,370.09,222.29826780850999,590.65145700764003,671.82150000000001,407.74500173518999,3.3988626540000002,1.6362000000000001,2.0301999999999998,287.5,783.75,730.13,690,1101.8800000000001,2563.44,130.74,9024.4599999999991,2066.38,31559.31,25658.63,3629.73,1836.57,956.59,21.556000000000001]
["2022M07",105.08333333333,108.92,106.48,99.85,402.2,269.08655771317001,7.2561,51.330030472979999,18.880754361280001,344.92667574040001,2.2391299999999998,5.6391974979999997,2.2121157079999998,3.3085736350000001,4.01,3.5507209049899999,2.3650000000000002,1540.53,1621.09,1581.28,2146.19,1056.6400000000001,1301.05,678.2,1533.4,535.54,1737.34,1556.87,"...",322.96719839999997,"...",418,412,405.67,411.09,316.68634299600001,382.5,0.89148039815000002,1.52601040625,0.84180772252000002,5.7342166199999998,1.7232749999999999,8.458164,14.04122478,0.33260136000000001,0.767869146,0.40278407399999999,4268.3916666666701,356.47500000000002,217.76156846548,574.59984363069998,653.56399999999996,399.42367516915999,2.8887135860000002,1.5561,1.7790999999999999,320,784,736,601,1013,2408.42,108.57,7544.81,1985.2,25395.77,21481.89,3105.36,1732.74,869.25,19.074999999999999]
["2022M08",95.973333333330004,98.6,97.75,91.57,406.97,274.61946388545999,8.7853999999999992,70.043639803389993,21.210847976659998,454.04014274839,2.3232200000000001,5.9178614659999997,2.41736583,3.3693845046500002,4.21,3.5381535139600002,2.36,1384.57,1625,1623.3,2146.11,1025.95,1173.04,671.11,1598.78,535.41999999999996,1638.85,1496.22,"...",289.8350896,"...",431,421,412.55,395.8,"...",382.86,0.87670059121999999,1.67068859375,0.93284398558000003,5.5666655,1.8351360000000001,8.5333375,12.628063360000001,0.33077262400000002,0.782199176,0.39352467000000002,4356.6000000000004,354.51499999999999,220.19366882334,574.45609783927,653.40049999999997,403.88469402645001,2.742988204,1.4622999999999999,1.6093999999999999,320,749.38,703.75,591.25,888.75,2430.79,108.85,7981.84,2072.7199999999998,24647.48,22057.39,3587.57,1764.56,908.65,19.724]
["2022M09",88.22,90.16,90.63,83.87,430.81,234.98445322436999,7.7629000000000001,59.102622250380001,23.733790735749999,391.31952732705003,2.2984599999999999,5.8971380379999996,2.4550648320000001,3.3343993531599998,4.49,3.1531980594900002,2.36,1248.0999999999999,1641.67,1623.2,2146.13,909.32,1249.29,664.45,1548.32,536.54999999999995,1402.02,1304.75,"...",312.6567192,"...",439,428,423.36,392.24,"...",419.14,0.90106243450000001,1.6190178125000001,0.93416641822000002,5.4432067799999997,1.74956,8.4936284999999998,11.51252564,0.32362096000000001,0.77095561400000001,0.39065866399999999,4146.9576487579598,346.85,208.21222566034001,542.97576951494,617.59400000000005,381.90803351781,2.5926331199999999,1.3227,1.48,320,752,708,678,731,2224.7600000000002,99.81,7746.01,1870.1,21124.04,22773.97,3124.97,1680.78,881.24,18.943999999999999]
["2022M10",90.326666666669993,93.13,90.59,87.26,389.79,191.21987979183999,5.6195000000000004,39.022049938450003,21.84177616254,268.54710666569002,2.3090199999999999,5.2928516959999996,2.2709790619999999,3.14687079089,4.1500000000000004,2.83311237266,2.4575,1108.0999999999999,1619.05,1621.79,2146.1,888.99,1038.81,626,1575.9,542.15,1408.01,1359.15,"...",343.55666239999999,"...",431,420,411.62,409.08,"...",437.95,0.95008123013000001,1.5707917499999999,1.0687900611700001,5.3324246249999998,1.62792,7.6957974,11.464024,0.320943168,0.762578058,0.38691080999999999,4325.1583333333301,343.98,202.13324297200001,540.62792158816001,614.92349999999999,370.75781255008002,2.1975652160000001,1.2885,1.496,317.5,725,675,636.25,622.5,2255.54,92.56,7651.08,1999.86,19391.169999999998,22032.89,2967.21,1664.45,914.67,19.425999999999998]
["2022M11",87.376666666670005,91.07,86.28,84.78,342.16,169.09656696556999,5.2769000000000004,35.72328224044,19.586267422630002,247.17644268952,2.4120400000000002,4.7154617180000002,2.0412576580000001,3.0466595502299998,3.8,2.8499786506999998,2.4900000000000002,1173.25,1639.29,1677.21,2146.14,945.74,1061.58,648.91999999999996,1651.6,518.67999999999995,1377.58,1347.28,"...",320.92006240000001,"...",440,430,417.5,421.21,"...",422.68,0.96972615114000005,1.653465,1.0889968319400001,5.0733817749999996,1.539822,6.5371424999999999,11.464024,0.33299323199999997,0.79234042800000004,0.40741377600000001,4333.3249999999998,356.89499999999998,209.22189911389,562.42936662250997,639.721,383.76000163312,2.2255638900000001,1.27,1.4323999999999999,300,665.63,625,588.75,563.13,2350.7199999999998,93.34,8049.86,2099.9899999999998,21249.5,25562.7,2938.92,1725.07,989.05,21.018000000000001]
["2022M12",78.066666666670002,80.900000000000006,76.78,76.52,379.23,215,5.5030000000000001,36.044260036140003,20.576742402939999,252.11901984184999,2.5123099999999998,4.6294815380000003,2.0454464360000002,2.94939406624,4.04,2.4215155320499999,2.38666666667,1158.4100000000001,1670.45,1745.96,2146.1,940.39,1067.05,645.66999999999996,1409.24,571.15,1259.95,1233.8,"...",302.24781999999999,"...",467,457,446.39,432.35,"...",386.33,1.01413735297,1.6810227499999999,1.10465443442,4.7134775600000003,1.5468599999999999,6.0988493999999998,11.464024,0.34572907200000003,0.80512722400000003,0.41733456600000002,4399.3249999999998,370.54500000000002,220.74880635411,583.41625217207002,663.59199999999998,404.90294106760001,2.2238001939999998,1.3461000000000001,1.5355000000000001,300,625,584.38,519.38,513.75,2401.69,111.84,8375.4,2216.48,24172.37,28946.81,3129.48,1797.55,1010.95,23.326000000000001]
["2023M01",80.41,83.09,80.03,78.11,317.99,172,3.2728000000000002,20.183970921349999,20.19478822332,149.37872119292999,2.6246800000000001,4.5582723119999997,2.1159942759999999,2.7695719741199998,4.04,1.9412159223600001,2.3275000000000001,1078.5,1681.25,1779.84,1970.67,941.97,1060,626.59,1351.77,605.12,1223.58,1218.3399999999999,"...",302.77535119999999,"...",517,507,484.64,440.66,"...",380.36,1.0721073191599999,1.6810227499999999,1.0913243133899999,4.6517482000000001,1.5446519999999999,6.1135999999999999,11.464024,0.35186840000000003,0.80468629999999997,0.41601179399999999,4475.6166666666704,377.125,228.22894836642001,585.23703219692004,665.66300000000001,418.62320325342,2.211013398,1.4117,1.63,300,631,569.38,443.75,508.75,2501.8200000000002,122.23,9037.9500000000007,2201.2600000000002,28154.14,28194.61,3309.81,1897.71,1053.25,23.652999999999999]
["2023M02",80.253333333330005,82.71,81.209999999999994,76.84,207.48,144.66999999999999,2.3835999999999999,16.537137278909999,18.415329793600002,120.03831493101001,2.6526999999999998,5.064673526,2.2912615660000002,2.7027579769300001,3.96,1.85827393078,2.29,1086.67,1750,1762.2,2042.62,949.98,1036.67,651.12,1243.01,605.27,1188.57,1158.5999999999999,"...",298.1771688,"...",492,482,468.95,448.28,311.88027096000002,394.75,1.0981034128,1.6603544374999999,1.30137951422,4.6517482000000001,1.532076,6.6186524999999996,11.064987779999999,0.35000700800000001,0.81306385599999997,0.44599462600000001,4492.3416666666699,375.13,224.02125084593001,579.53511580331997,659.17750000000001,410.90533999832002,2.1909513559999998,1.4012,1.6173,322.5,612.5,547.5,357.5,496.88,2416.1799999999998,127.6,8936.59,2093.06,26862.9,26727.95,3133.84,1854.54,958.85,21.920999999999999]
["2023M03",76.473333333330004,78.53,77.52,73.37,187.23,136.84,2.3048999999999999,13.812076862290001,16.033125947769999,104.51384047273,2.7476400000000001,4.9021930319999996,2.347699838,2.6877732537100001,3.82,1.84581976113,2.3975,1114.75,1750,1720.35,2100.41,972.06,1051.75,628.38,1113.19,580.70000000000005,1053.74,1075.05,"...",282.48902079999999,"...",476,468,460.91,444.64,284.68260642600001,369.86,1.1059515844300001,1.6017942187500001,1.2895834150600001,4.8363851249999996,1.522224,6.9906337499999998,10.998849180000001,0.34958247999999997,0.83511005599999999,0.452388024,4525.6583333333301,374.67500000000001,222.59745794015001,581.45172635579002,661.35749999999996,408.29378370252999,2.1029870179999999,1.3573999999999999,1.5807,345,606,537.5,313.5,453,2296.42,128.37,8856.31,2115.1799999999998,23999.96,23288.61,2967.46,1912.73,970.61,21.975999999999999]
["2023M04",82.46,84.11,83.83,79.44,194.28,133.74510000000001,2.1610999999999998,13.52052961513,14.366062552300001,100.25219027939001,2.8832399999999998,5.0609256719999998,2.5507453400000002,2.9580387730200002,3.9,2.62661631905,2.3475000000000001,1073.95,1737.5,1755.34,2088.2600000000002,1005.24,1016.84,614.92999999999995,1029.97,546.73,1026.1400000000001,1034.83,"...",291.11454959999998,"...",501,490,482.88,455.1,277.16485154399999,378.18,1.1427169987500001,1.653465,1.46155255581,5.30431572,1.5708519999999999,7.2222299999999997,10.912869000000001,0.35810569599999997,0.91116944600000005,0.53219526800000005,4586.5833333333303,383.81,223.11462208585999,596.40128866505995,678.36149999999998,409.24237901803002,2.0979163920000001,1.3581000000000001,1.5412999999999999,345,637,550,313.38,407.5,2343.23,117.39,8809.42,2149.4299999999998,25793.75,23894.560000000001,2767.56,1999.77,1050.74,25.01]
["2023M05",74.123333333329995,75.7,75.08,71.59,160.47999999999999,103,2.1463999999999999,10.10875599841,13.4302962772,83.220229002829996,2.9648400000000001,4.8528095440000003,2.7017618099999998,2.7122365637899999,3.43,2.47270969137,2.234,1047.69,1773.08,1787.31,2016.88,934.06,992.5,595,988.32,519.19000000000005,967.27,961.79,"...",268.135448,"...",510,495,492.68,470.53,260.50894593300001,367.74,1.11147560431,1.6121283749999999,1.4054814117900001,5.3103784249999997,1.5429120000000001,7.0623224999999996,10.912869000000001,0.355036032,0.93828627200000003,0.55997348000000002,4786.75,380.52,217.20548682997,598.17415342609002,680.37800000000004,398.40369642767001,2.0734451100000002,1.3505,1.5568,345,510,485.63,329.25,372.5,2268.6,105.15,8217.4699999999993,2083.6,25533.8,21970.39,2475.6999999999998,1992.13,1062.73,24.266999999999999]
["2023M06",73.263333333329996,74.89,74.67,70.23,139.41999999999999,98.58,2.1833999999999998,10.35062473915,12.679231002430001,84.310528834129997,3.1728700000000001,4.5721614180000003,2.912964406,2.6945068102900001,3.2340862423000001,2.7644341885700001,2.085,1012.73,1850,1810.35,1971.27,816.97,927.95,591.89,1007.12,491.56,990.58,910.95,"...",266.86779840000003,"...",514,496,495.75,508.24,256.999925448,345.5,1.1008424395800001,1.5928379500000001,1.4049524387300001,5.0133058799999999,1.4675039999999999,6.272526,10.361713999999999,0.35395838400000001,0.90918528799999998,0.54211605799999996,5064.7416666666704,379.36500000000001,210.73252654432,604.88229035973995,688.00800000000004,386.53083196981999,2.0388325759999999,1.3188,1.534,344.5,454.55,390,287.5,328,2184.75,113.45,8396.52,2122.89,27216.68,21233.279999999999,2375.4499999999998,1942.9,970.64,23.417000000000002]
["2023M07",78.983333333329995,80.099999999999994,80.459999999999994,76.39,140.63,96.75,2.5539999999999998,9.5452839896799997,12.988910097730001,85.192100927490003,3.3874599999999999,4.265719238,2.812654196,2.4667046747399999,2.4752341865299998,2.8623798376899998,2.0625,1047.3800000000001,1960.48,1879.02,2159.21,878.5,998.1,633.85,1135.74,517.23,1107.99,1038.8,"...",242.38483919999999,"...",547,524,533.45000000000005,502.76,249.85328163299999,345.5,1.11815780753,1.5501234374999999,1.51291583962,4.7840254,1.3720380000000001,5.4329337999999998,9.7973312799999999,0.36114270399999998,0.85120378200000002,0.52117216799999999,5098.1750000000002,387.065,211.0462499994,617.29234368698997,702.12350000000004,387.10627131984,2.0542649160000002,1.2991999999999999,1.4924999999999999,342.5,458.75,392.25,334.63,341.25,2159.73,114.43,8476.68,2109.12,28743.14,21091.26,2404.65,1951.02,950.42,24.256]
["2023M08",84.724333333329994,86.162999999999997,86.61,81.400000000000006,152.61000000000001,97.604600000000005,2.5844999999999998,11.191944563690001,12.5440734797,93.089278527909997,3.4596100000000001,4.1166869259999999,2.7473974440000002,2.83496393834,3.5785446888200001,2.6783471261999998,2.2480000000000002,1099.0899999999999,2000,1882.62,2173.94,860.82,998.41,583.92999999999995,1126.53,514.55999999999995,1066.77,989.42,"...",207.607148,"...",635,600,626,541.15,230.805363105,315.82,1.0742535098399999,1.5570128750000001,1.65885950598,4.7261541249999999,1.4245620000000001,5.6663815,9.0499650999999997,0.356309616,0.89287110000000003,0.52800648999999999,5295.7916666666697,381.88499999999999,205.60939308595999,608.71551146468005,692.36800000000005,377.13385339026001,2.1148919660000001,1.2924,1.4697,346.25,528.75,450.63,385.63,353.13,2136.5700000000002,110.2,8349.1299999999992,2153.84,26074.87,20438.650000000001,2406.7199999999998,1918.7,925,23.437000000000001]
["2023M09",92.22,94,93.08,89.58,162.47,99.85,2.6395,11.54929514615,12.21064536834,95.230103269370005,3.6082200000000002,4.0459186239999996,2.7313037179999999,2.84695076117,3.6354613233899999,2.6528909601100001,2.2524999999999999,1071.67,2050,1851.82,2106.2199999999998,829.6,957.64,619.04,1111.6300000000001,509.31,1047.44,894.81,"...",223.80708000000001,"...",620,587,609.9,594.37,230.55183178199999,314.68,1.0431175720200001,1.5639023125,1.76930908023,4.9030748800000001,1.53748,5.9759549999999999,8.7082490000000004,0.34896201599999999,0.94049089200000002,0.57959459800000002,5437.4166666666697,374.01,201.54481094656001,594.24510179353001,675.90899999999999,369.67849592021997,2.1594252900000002,1.4181999999999999,1.5544,347.5,527.9,461.5,380,352,2184.67,120.98,8276.7099999999991,2252.1,25573.93,19644.64,2495.5,1915.95,920.9,23.100999999999999]
["2023M10",89.083666666669998,91.061000000000007,90.62,85.57,142.12,128.4,2.9885999999999999,14.56950705657,12.61988140399,114.10461380273,3.6301399999999999,4.0476823199999998,2.6199704079999999,2.75596128806,3.49014314802,2.6152407161500002,2.1625000000000001,1046.43,2050,1832.74,1954.4,804.26,912.38,529.57000000000005,1133.8699999999999,511.73,1060.31,910.17,"...",230.69648000000001,"...",590,563,574.71,616.15,236.64760663499999,298.10000000000002,1.0530950620899999,1.5707917499999999,2.0345890681899998,4.9796854250000004,1.58395,5.5598074999999998,8.5980179999999997,0.34491267199999998,0.975103426,0.56702826399999995,5488.1750000000002,369.67,198.99855631628,582.84126900632998,662.93799999999999,365.00809246240999,2.1062939479999998,1.4480999999999999,1.6073,347.5,534.75,468.13,411.38,341.88,2192.21,118.97,7937.18,2133.7199999999998,24536.07,18281.23,2448.56,1916.25,891.9,22.379000000000001]
["2023M11",81.354333333330004,83.183000000000007,83.45,77.430000000000007,126.82,109,2.7084000000000001,14.48505487638,12.723406594049999,110.370695067,4.0277099999999999,4.347069716,2.7035255060000001,2.7412037104000002,3.4276824165400002,2.6184287146499998,2.1775000000000002,1114.55,2050,1869.68,1891.89,830.47,967.5,553.04999999999995,1118.3900000000001,571.61,1039.32,943.6,"...",211.26049839999999,"...",598,573,574.59,629.41,241.03112646599999,283.55,1.0766935901500001,1.5501234374999999,2.0619898725299999,4.8832332999999997,1.667497,5.2491250000000003,"…",0.35281542399999999,0.98590606400000003,0.574964896,5475.2666666666701,378.14,198.70634110877,594.82008495927005,676.56299999999999,364.47210407405998,1.994299252,1.4801,1.6747000000000001,"…",535.63,462.63,385.5,331.88,2202.2600000000002,131.07,8189.59,2188.46,24167.86,17027.36,2543.61,1984.11,905.75,23.488]
["2023M12",75.719333333329999,77.858000000000004,77.22,72.08,141.82,108.82940000000001,2.5265,11.506657906659999,14.439545219759999,95.165272338380007,4.2088900000000002,4.6464571120000002,2.9865987139999999,2.7140202037300001,3.6698974531999999,2.2821631579999999,2.19,1108.81,2050,1847.44,1940.09,813.51,966.19,547.42999999999995,1062.48,524.08000000000004,1009.98,944.03,"...",206.54803944445001,"...",644,610,629.59,632.9,255.034139103,291.12,1.0834627862899999,1.5652801999999999,1.8975850464899999,4.7913741333299997,1.6335999999999999,5.3111699999999997,"…",0.35644024000000002,0.882068462,0.47818207800000001,5461.7749999999996,382.02499999999998,206.70867952309001,606.60723985695995,689.97,379.15019186485,1.9954015620000001,1.4568000000000001,1.6618999999999999,152.5,563.75,447.5,354,311.88,2182.4299999999998,137.05000000000001,8399.94,2026.91,24600.26,16460.84,2502.39,2026.18,935.47,23.878]
["2024M01",77.672333333330002,80.227000000000004,78.86,73.930000000000007,124.9,106.75,3.1806000000000001,9.5596135531200002,14.3441541813,93.787430637560007,4.3976300000000004,4.4731739800000003,3.2639399099999999,2.6577972535300001,4.0084537820400001,1.76243797855,2.2025000000000001,1130.57,2056,1787.36,1896.09,844.9,977.5,547.38,971.46,493.64,972.06,943.36,"...",198.62480884614999,"...",660,620,648.86,625.51,247.86177471900001,283.91000000000003,1.08631628107,1.6052389375,1.6677991506300001,4.9963839999999999,1.5661799999999999,5.2912879999999998,"…",0.35614633600000001,0.882068462,0.484575476,5533.8416666666699,381.71,203.71003164716001,608.61968093706002,692.25900000000001,373.64999748444001,2.0300140959999999,1.5299,1.8043,152.5,596.25,450.63,335.38,296.25,2192.8200000000002,135.82,8338.8799999999992,2086.12,25099.84,16103.83,2515.42,2034.04,925.86,22.916]
["2024M02",80.548000000000002,83.763999999999996,81.180000000000007,76.7,124.22,105.193,1.7211000000000001,8.1483808676400002,13.64499251382,68.881538663279997,5.5557100000000004,4.6028056360000003,3.3781392260000001,2.7083573978,4.2727600808400004,1.6248121125499999,2.2275,1171.58,2025,1731.46,1809.43,856.93,1034.17,519.75,911.9,457.08,962.71,925.08,"...",189.128793,"...",624,594,619.9,614.26,246.16054279799999,278.5,1.0679953652800001,1.5742364687499999,1.95418516356,5.3755649999999999,1.51528,5.2025055,"…",0.35242355199999997,0.91646053400000005,0.50155105,5534.9583333333303,377.72,199.13166571849999,605.21769720641998,688.3895,365.25224503262001,2.196021982,1.5589,2.0245000000000002,152.5,583.80999999999995,454.38,351.25,289.38,2179.46,124.39,8304.9500000000007,2079.83,26104.1,16338.46,2360.09,2023.24,894.29,22.657]
["2024M03",83.545666666670002,85.447000000000003,84.7,80.489999999999995,131.49,104.84,1.4999,8.5537263218300001,13.18562895162,67.811209560910001,7.08887,4.6050102559999999,3.6563622699999998,2.6865584884199998,4.3335385069900001,1.5736369582700001,2.1524999999999999,1287.8599999999999,1950,1725.23,1821.63,942.92,1176.9000000000001,487.49,964.95,441.29,1029.01,950.93,"...",190.56700445999999,"...",613,584,607.72,585.42999999999995,228.490511895,274.83,1.0835458177899999,1.6396861250000001,1.9219178071,5.7297919999999998,1.5280879999999999,5.1886720000000004,"…",0.354938064,0.88118661399999998,0.47509561,5608.2416666666704,380.41500000000002,198.78595102106999,609.00300304755001,692.69500000000005,364.61812655166,2.1988879880000001,1.6497999999999999,2.3904000000000001,152.5,617.5,449,330,300.5,2226.16,109.79,8689.1299999999992,2056.1999999999998,27450.46,17438.830000000002,2461.04,2158.0100000000002,908.75,24.518000000000001]
["2024M04",88.011333333330001,90.054000000000002,89.39,84.59,134.97,104.89,1.5967,9.0851190056700002,11.87776966329,70.626847274689993,9.7400300000000009,5.274332888,4.2335317860000004,3.0338852710099999,4.11638954869,2.6618835571799999,2.3075000000000001,1425.23,1850,1701.83,1820.32,935.69,1290.23,477.3,958.56,428.86,1058.58,971.27,"...",191.65107888889,"...",592,564,577.95000000000005,571.5,227.810754,272.3,1.0742903132199999,1.62590725,1.9518047848,6.0502799999999999,1.439838,5.1808500000000004,"…",0.35043153599999999,0.87192720999999995,0.45106525200000003,5674.4916666666704,375.58499999999998,193.69020185370999,600.23450977000005,682.72149999999999,355.27137691851999,1.9885672400000001,1.6294,2.2765,152.5,545,442.5,320,305,2506.1,112.75,9464.43,2129.46,31774.5,18163.95,2732.74,2331.4499999999998,940.18,27.494]
["2024M05",81.444999999999993,81.995000000000005,83.53,78.81,142.01,105.63,2.1314000000000002,10.12306554509,12.162896101819999,82.247449470830006,7.53803,5.0831923339999996,4.0421707700000002,3.1955415362799999,4.2830484710899999,3.1302428044299999,2.17333333333,1401.74,1800,1718.56,1837.96,859.15,1196.0899999999999,490.22,988,478.8,1104.1099999999999,1005.73,"...",197.79344374999999,"...",628,593,606.47,567.97,253.1638863,289.42,1.07825696197,1.4219799,2.2392487438400002,5.8763092500000003,1.5147660000000001,5.1707879999999999,"…",0.35291339199999999,0.83003943000000002,0.41777549000000003,5629.8666666666704,378.245,190.8834574565,605.21769720641998,688.3895,350.12317666309002,1.9069963000000001,1.6934,2.1539000000000001,152.5,522,434.9,284.8,307,2564.54,118.88,10139.33,2220.81,32977.51,19586.98,2959.13,2351.13,1014.68,29.36]
["2024M06",81.204999999999998,82.555000000000007,82.17,78.89,135.1,105.3,2.5123000000000002,10.868977899780001,12.130971465489999,90.397278223409998,8.2716899999999995,5.4760556180000002,4.5042591219999997,3.22211974447,4.15887542797,3.3649838054400001,2.1425000000000001,1397.89,1812.5,1730,1809.62,873.67,1155.53,479.72,1010.68,480.7,1099.1199999999999,1043.05,"...",192.506708,"...",632,595,613.29999999999995,561.63,230.606947287,265.55,1.06454165581,1.088531125,2.2644278613500002,5.8516947999999998,1.400868,5.0217020000000003,"…",0.35137856000000001,0.82849619600000002,0.42527119800000002,5754.6083333333299,376.6,188.65769344053001,609.09883357518004,692.80399999999997,346.04062504673999,1.833802916,1.7532000000000001,2.2612999999999999,152.5,543,473.75,336.25,310,2497.61,107.45,9648.17,2147.1,32032.7,17498.009999999998,2809.19,2326.44,985.08,29.577000000000002]
["2024M07",83.258666666669995,85.296000000000006,83.94,80.540000000000006,137.55000000000001,105.31,2.0750999999999999,10.34681932853,12.49096428544,82.849761136149993,7.0891700000000002,5.6680780200000003,4.7337600640000002,3.2955404242099999,4.0973716320899998,3.5892496405399998,2.2000000000000002,1474.35,1840,1739.14,1850.74,896.09,1365,469.63,1079.02,472.46,1118.33,1068.51,"...",177.42921392,"...",590,557,570.87,552.42999999999995,218.837949786,260.26,1.0793915972100001,1.0265261875,2.30172046185,6.1882875000000004,1.3349599999999999,5.1059025,"…",0.35415432000000002,0.83466913200000004,0.425932584,6015.5333333333301,379.57499999999999,188.58598774177,616.1423773555,700.81550000000004,345.90910067386,1.792796984,1.6503000000000001,2.0594999999999999,152.5,539.4,505.75,342.5,300.63,2349.13,106.85,9385.31,2106.94,31860.47,16334.88,2777.27,2398.1999999999998,978.8,29.773]
["2024M08",78.120999999999995,80.863,77.95,75.55,145.76,106.21,1.9903,12.37459819711,13.319636577760001,92.021428441379996,6.8780999999999999,5.7637585280000003,4.7328782159999996,3.22486988042,4.0213412603299998,3.4582683809299999,2.1949999999999998,1618.64,1687.5,1733.37,1757.94,932.63,1480,400.13,1031.3800000000001,436.03,1080.0899999999999,1048.56,"...",170.32475727273001,"...",589,560,566.70000000000005,535.25,205.76822636700001,250.85,1.0698740046499999,1.0141252000000001,2.40598105133,6.3351727999999996,1.383168,5.2368975999999998,"…",0.35957521599999998,0.78550610600000004,0.40565008000000002,5998.6,385.38499999999999,203.54289638258001,619.64019161375995,704.79399999999998,373.34343383274,1.7612709179999999,1.7374000000000001,2.387,152.5,546,507.2,342.5,294,2343.67,99.91,8971.9599999999991,1994.63,31491.65,16292.12,2714.08,2470.15,945.36,28.53]
["2024M09",72.424333333329997,74.293000000000006,73.430000000000007,69.55,139.19999999999999,106.07,2.2507999999999999,11.7842591911,12.969226284079999,92.14092086318,6.5237600000000002,6.1246548220000001,5.330330236,3.2684684134999999,4.0947235429099997,3.61318169759,2.0975000000000001,1735.75,1525,1684.97,1770.68,982.83,1515,391.31,1043.81,435.74,1082.78,1068,"...",184.96715420690001,"...",580,556,564.25,540.46,219.20538648600001,269.69,1.0659262605099999,1.0334156249999999,2.5466878844299998,6.2960425000000004,1.453025,5.485106,"…",0.36271019199999999,0.80071798400000005,0.44797878400000002,6078.9250000000002,388.745,207.89234654270999,633.20021127249004,720.21749999999997,381.32130329872001,1.818370576,1.9068000000000001,2.6511999999999998,152.5,554.75,504.38,337.5,286.88,2449.92,92.83,9237.48,2000.31,31471.69,16076.74,2837.02,2570.5500000000002,966.7,30.131]
["2024M10",73.970666666669999,75.662000000000006,74.650000000000006,71.599999999999994,146.63,106.81,2.2077,12.92013302544,12.54097969411,96.727319801289994,6.6574400000000002,6.1017267740000003,4.8922722419999998,3.1455552474399999,4.0563194870699997,3.3143462552599998,2.0659999999999998,1728.38,1575,1638.57,1750.37,1077.25,1636.19,442.1,1094.8900000000001,421.63,1142.1400000000001,1205.71,"...",190.33572173913001,"...",515,499,504.81,529.84,233.34067633500001,272.85000000000002,1.0498333956899999,1.0334156249999999,2.6022300553900002,6.0597659999999998,1.4801280000000001,5.5993575,"…",0.35614633600000001,0.83621236600000004,0.46164742800000003,6166.2583333333296,381.71,198.98525516286,625.72543011786001,711.71550000000002,364.98369515657998,1.843723706,2.0093000000000001,2.6339000000000001,152.5,573.44000000000005,503.75,374.75,278.13,2595.58,101.39,9533.99,2034,32012.43,16765.8,3105.77,2690.08,998.91,32.415999999999997]
["2024M11",72.291666666669997,74.394999999999996,72.790000000000006,69.69,142.12,106.82,2.1044999999999998,13.926400457830001,12.822731389639999,100.44877640894001,7.8948099999999997,6.7236500760000002,4.9848662819999996,3.0891678413200001,3.9578119107199998,3.0721916132499998,2.2374999999999998,1878.6739130434801,1541.7253499999999,1600.5982300000001,1733.86,1168.58791,2015.3135400000001,435.64075000000003,1145.17057,384.87774999999999,1242.9170588235299,1267,"...",201.33106000000001,"...",511,487,489.6,509.69,229.02329510999999,253.75,1.0399699878199999,0.90940575000000001,2.5655193252499999,6.1830420000000004,1.5196860000000001,5.8296239999999999,"…",0.347067968,0.84128299200000001,0.45040386599999999,6338.6333333333296,371.98,193.81630224553999,610.58420675334003,694.49350000000004,355.50267338787,1.797206224,1.9320999999999999,2.2907000000000002,152.5,574.5,491,352.3,281,2582.19,100.5,9075.73,1987.53,29654.89,15723.06,3004.2,2651.13,965.53,31.094000000000001]
["2024M12",72.311000000000007,73.832999999999998,73.31,69.790000000000006,129.81,105.47,3.0228999999999999,13.856620998009999,12.640616371189999,111.14613867406,10.320510000000001,7.5693423080000004,5.218996926,2.9556557423799998,4.1122312519299999,2.56140264188,2.19333333333,1973.24251841871,1515.40897943038,1597.91547579091,1687.54438377867,1189.73,2098.8462154650001,409.26716703135997,1063.6310060149301,376.39279078483003,1180.8221033868101,1222.5,"...",202.59756999999999,"...",527,500,501.94,495.67,230.27625425700001,252.17,1.03719386142,0.82673249999999998,2.6966517460200001,6.2332504999999996,1.4176420000000001,5.8402659999999997,"…",0.34194097600000001,0.80843415399999996,0.43629429800000002,6458.25,366.48500000000001,193.31288327867,605.9364261636,689.20699999999999,354.57928982062998,1.762373228,1.9937,2.3849,152.5,568.33000000000004,477.5,352,292.5,2541.02,102.21,8916.32,1990.43,28864.99,15444.89,3034.16,2648.01,937.88,30.763999999999999]
["2025M01",78.162000000000006,79.206000000000003,80.14,75.14,118.6,103.28,4.0991,14.66351159521,13.1931057641,128.42508058688,10.74511,7.8147165139999997,5.4077123980000001,2.7754707008200001,4.0802699597899998,2.00364214267,2.2425000000000002,1978.4,1481.4,1580.81,1660.81,1070.31,1961.53,410.82956521738998,1047.6199999999999,368,1149.1290426032699,1207,"...",214.43704863636,"...",478,459,464.17,447.27,230.57755235100001,254.09,1.01546621523,1.1078215499999999,2.5695395204799998,6.4641279999999997,1.5449269999999999,5.8347519999999999,"…",0.338087568,0.79608828200000004,0.39617021400000002,6519.4,362.35500000000002,190.21266388674999,591.84933860293995,673.18399999999997,348.89279044390997,1.723571916,1.9328000000000001,2.3714,152.5,582.70000000000005,478,380.5,302,2573.4,99.58,8991.41,1921.36,29612.36,15394.14,2818.96,2709.69,949.23,30.411000000000001]
["2025M02",73.819000000000003,75.156999999999996,74.97,71.33,106.93,100.41,4.2225999999999999,15.34053214373,12.78178132457,132.86465426757999,9.8558500000000002,9.0493037140000006,5.8124806299999996,2.6858823032800001,4.0038366837600003,1.80381022607,2.25,1990,1434.0898203592801,1592.38181094844,1664.06,1067.27,1947.45838521927,412.15,1068.51,358.125,1159.09702139809,1220,"...",220.87520000000001,"...",437,424,419.06,401.7,243.507649824,264.61,1.0294927792899999,1.2469881875,1.9121318055500001,6.6232810000000004,1.628226,5.6484750000000004,"…",0.34004692800000003,0.82408695600000004,0.42284611599999999,5312.56631724615,364.45499999999998,196.08868413197001,600.56991661667996,683.10299999999995,359.67073265956998,1.721146834,2.0051000000000001,2.4077999999999999,152.5,603.75,480.63,436.5,318.75,2657.6,105.08,9330.6,1956.55,31832.959999999999,15288.09,2800.14,2894.73,978.25,32.152000000000001]
["2025M03",70.701333333329998,72.573999999999998,71.709999999999994,67.819999999999993,103.97,97.99,4.1280999999999999,13.235406896140001,12.7,121.65399185369,8.0838599999999996,8.919451596,5.6899037579999998,2.6874102202799999,4.07260218398,1.76712847686,2.2225000000000001,2277,1312.7437583076901,1644.6899932722699,1672.96694662086,1069.0047017004799,2063.5936678971102,401.09866666667,1005.28890315789,368.33333333333002,1192.06802818097,1228.3333333333301,"...",207.41311999999999,"...",425,410,404.11,378.42,227.54252520899999,255.37,1.08306266843,1.1849832499999999,1.43870091976,6.7705321999999999,1.6278349999999999,5.6086910000000003,"…",0.35297870399999998,0.82474834200000002,0.416452718,5335.2355924278099,378.315,199.65249832282001,618.63397107371998,703.64949999999999,366.20756912599001,1.712548816,1.9816,2.3637000000000001,152.5,615.13,478.5,394.5,336.25,2658.29,100.1,9739.68,2033.21,34047.870000000003,16065.69,2889.29,2983.25,980.05,33.188000000000002]

{"sheet":"Annual Real","index":5,"n_rows":70,"n_cols":71,"rows_kept":70,"cut":false,"hidden":false,"merged":[]}
["World Bank Commodity Price Data (The Pink Sheet)"]
["annual prices, 1960 to present, real 2010 US dollars"]
["(annual series are available in nominal and real dollars)"]
["Updated on March 02, 2022"]
[]
[]
[null,"Crude oil, average","Crude oil, Brent","Crude oil, Dubai","Crude oil, WTI","Coal, Australian","Coal, South Afican","Natural gas, US","Natural gas, Europe","Liquefied natural gas, Japan","Natural gas index","Cocoa","Coffee, Arabica","Coffee, Robusta","Tea, avg 3 auctions","Tea, Colombo","Tea, Kolkata","Tea, Mombasa","Coconut oil","Groundnuts","Fish meal","Groundnut oil","Palm oil","Palm kernel oil","Soybeans","Soybean oil","Soybean meal","Barley","Maize","Sorghum","Rice, Thai 5% ","Rice, Thai 25% ","Rice, Thai A.1","Rice, Viet Namese 5%","Wheat, US SRW","Wheat, US HRW","Banana, Europe","Banana, US","Orange","Beef","Meat, chicken","Meat, sheep","Shrimps, Mexican","Sugar, EU","Sugar, US","Sugar, world","Tobacco, US import u.v.","Logs, Cameroon","Logs, Malaysian","Sawnwood, Cameroon","Sawnwood, Malaysian","Plywood","Cotton, A Index","Rubber, TSR20","Rubber, SGP/MYS","Phosphate rock","DAP","TSP","Urea ","Potassium chloride","Aluminum","Iron ore, cfr spot","Copper","Lead","Tin","Nickel","Zinc","Gold","Platinum","Silver","MUV Index"]
[null,"($/bbl)","($/bbl)","($/bbl)","($/bbl)","($/mt)","($/mt)","($/mmbtu)","($/mmbtu)","($/mmbtu)","(2010=100)","($/kg)","($/kg)","($/kg)","($/kg)","($/kg)","($/kg)","($/kg)","($/mt)","($/mt)","($/mt)","($/mt)","($/mt)","($/mt)","($/mt)","($/mt)","($/mt)","($/mt)","($/mt)","($/mt)","($/mt)","($/mt)","($/mt)","($/mt)","($/mt)","($/mt)","($/kg)","($/kg)","($/kg)","($/kg)","($/kg)","($/kg)","($/kg)","($/kg)","($/kg)","($/kg)","($/mt)","($/cubic meter)","($/cubic meter)","($/cubic meter)","($/cubic meter)","(¢/sheet)","($/kg)","($/kg)","($/kg)","($/mt)","($/mt)","($/mt)","($/mt)","($/mt)","($/mt)","($/dmtu)","($/mt)","($/mt)","($/mt)","($/mt)","($/mt)","($/troy oz)","($/troy oz)","($/troy oz)","(2010=100)"]
[1960,8.51497812263902,"..",8.51497812263902,"..","..","..",0.73134776286708703,2.1145039764340701,"..",18.933322179791901,3.0769715818435399,4.8243703438366898,3.63555967964448,5.3790627958874202,4.85981058577313,5.8581008044779601,5.4192869228451199,1631.6020328725201,"..","..",1708.21941755384,1172.33305083397,"..",479.72930635686299,1169.72109453801,423.18045254946202,105.28115356036101,232.464110339896,191.064603049026,560.78266348080501,"..","..","..","..",302.95210424670398,"..",0.74632733222438197,0.67902157173814404,3.8475857543598,1.56785410151423,"..",8.3880272199140506,0.63917919089962905,0.65741403268205101,0.34586654618922702,9073.2570635068405,"..",166.85176818553401,"..",779.27704788478695,"..",3.4192684544283001,"..",4.0758707346261698,67.910863694800895,5.2239125919077605E-10,276.86736737111198,220.710307008103,148.881508869371,2671.8841450295499,59.657081799586699,3545.7611445808502,1038.77501890086,11475.542921063499,8520.2014374015598,1286.0837475227599,184.247397116587,436.196701424298,4.7730889352261201,19.142739898616899]
[1961,8.0450247775147492,"..",8.0450247775147492,"..","..","..",0.76863294052688702,2.0741508471128101,"..",19.194252335874001,2.4522379930909701,4.5889521640956596,3.4303360923549602,4.8772322186232699,4.5733706079326204,5.0145664282170097,5.0432548840892402,1298.5626511901501,"..","..",1692.27352406003,1170.45716110233,"..",560.24800998404203,1472.3590994092799,496.57958141039802,106.317512119113,230.36783264191399,212.22809524547901,609.52592183782099,"..","..","..","..",300.30916004685798,"..",0.69136824927192297,0.68156390909720199,3.4944615586154,1.6001885112062999,"..",8.6798286454640206,0.63714837605748897,0.64392655027086598,0.30463485542882301,8010.1288420148303,"..",169.40670009212599,"..",778.76496150062201,"..",3.4444150138211,"..",3.08123594942214,66.614854845663501,5.1242196035125803E-10,266.459419382654,216.498278248406,153.726588105377,2620.8939895900598,56.468900030708603,3244.0622975067599,906.85876433163901,12553.7829048154,8767.5397416100204,1098.16296286277,180.62874102381801,427.87233689329997,4.7370421106371703,19.515166744893499]
[1962,7.64613777440701,"..",7.64613777440701,"..","..","..",0.80485660783231705,2.0361564102797698,"..",19.453505334772299,2.3037343614600401,4.1882306533924298,3.4317271477033202,4.8945342463802799,4.3311391482160699,5.5565338366761603,4.7959372997793004,1263.70871352672,"..","..",1380.0272612044901,1087.7427456778801,"..",505.75177094663201,1141.8903123621001,447.74340772171797,114.201301295934,244.74348016501,224.86100677465299,678.72467828509502,"..","..","..","..",323.61523577107801,"..",0.66093818564430096,0.543320129901805,3.5923014066765799,1.60750930229977,"..",11.3303023284108,0.63545806533566795,0.64599358299830101,0.31028899016535499,7067.1440521476397,"..",183.05457474386299,"..",805.16330239172498,"..",3.2663344805044998,"..",2.8352750795492998,57.849068687947799,5.0303537989519802E-10,256.548043746551,212.53244800572099,150.91061396855901,2505.4199837168298,55.384195326461302,3245.29921770188,781.13010574726002,12431.9325394999,8858.4530399544401,935.26853007014699,177.21936433707799,420.03454221249001,5.45152017076924,19.879317439030601]
[1963,7.6863294052688698,"..",7.6863294052688698,"..","..","..",0.81987513656201205,2.00536917292421,"..",19.489519254309901,2.83031999617014,4.1287972437002303,3.1949882441895401,4.8828688601871404,4.1752182323177296,5.5526094865858298,4.9212984575256398,1467.2348798057701,"..","..",1375.8700442751399,1139.59227835717,"..",564.14241688271102,1145.6900996853501,466.389387579703,122.865842827645,275.533558263874,245.14266583204201,643.92651610940197,"..","..","..","..",330.44384149851402,"..",0.73831464120610402,0.48171934456021198,3.4144810309705802,1.6808925646553301,"..",10.2331602360297,0.64957502878201401,0.85009601592776596,0.93892783868362095,6884.9527014755304,"..",181.837202813647,"..",808.84505879319397,"..",3.3081534741976899,"..",2.6716826976113999,58.928525440394601,5.1242196035125803E-10,266.459419382654,216.498278248406,153.726588105377,2555.9364760655899,56.468900030708603,3309.9939230719501,895.75628852402804,12850.176307048599,8924.6824761177395,1083.8151479729399,179.80886588725599,414.707362695276,6.5544319966829701,19.515166744893499]
[1964,7.3275697391760097,"..",7.3275697391760097,"..","..","..",0.75802445577682898,1.94129963246585,"..",18.433858542501401,2.5557636775911101,5.1028100739407902,3.9774449876084299,4.6845911367008002,4.1388175713385804,5.2531145320297998,4.6623537312661298,1498.2353368429001,"..","..",1593.75062951776,1210.0723399793401,"..",558.44082781776603,1177.4646546400099,449.80328956401701,127.061996395596,276.08092928787403,243.75539749596899,607.16495533630996,"..","..","..","..",341.245765002822,"..",0.86115789423224298,0.424493695235024,4.2494008741453699,1.7062194481205899,"..",9.1635047183926801,0.63968133241869796,0.70095704786083801,0.63838292917338602,7521.1186502176997,"..",152.893532730186,"..",731.91805662786305,"..",3.2865834778994998,"..",2.47878208286,63.168704648069102,5.0534963718455302E-10,267.835307707813,305.73653049665398,164.23863208498,2658.0664794526301,51.747802847698203,4900.64495158511,1404.2824167963399,17246.277630546101,8801.5061809642903,1649.9244529378,177.37772265177799,447.13757022786899,6.5341708087962704,19.788279765496299]
[1965,7.1075940147544996,"..",7.1075940147544996,"..","..","..",0.80085566363431004,2.0560272611935999,"..",19.4993858537328,1.82849529826757,5.0070997694786401,3.3948976084175002,5.0068495020837496,4.2360304306488397,5.7181144436968703,5.0664131420665601,1752.5391439197499,"..","..",1621.31977765792,1364.0657513316401,"..",584.96666655938998,1351.4439323828999,485.64387977574398,121.854204341046,278.66023083550698,239.91466698394899,594.58110564624997,"..","..","..","..",297.626328244597,"..",0.797894166128162,0.48051339818058603,4.4127981290900102,1.7530724384790299,"..",9.94979255750372,0.62347128964764498,0.68140446257950604,0.22131979954393999,6333.8172832468299,"..",175.31231011744799,"..",784.58484462380397,"..",3.1930365576494801,"..",2.5269915973936201,70.074870568002197,5.0053478977144396E-10,270.28878647658001,329.10162427472397,147.657762982576,2703.5477494984102,53.365350836132102,6471.1348316973799,1587.5712194575799,19474.724177962398,8684.2786025345504,1557.91453316362,175.78781816773099,490.73265013842001,6.4719148317447699,19.978631264704401]
[1966,6.5652246752346803,"..",6.5652246752346803,"..","..","..",0.77237937355702202,2.0512883511608999,"..",19.131058994965201,2.4988081858264599,4.48330021066716,3.5680880987179902,4.2206912236577701,3.66977136050967,4.5797020468954903,4.4131807147130004,1562.66024821992,"..","..",1430.37418926133,1137.5217224061,"..",606.61951893505795,1262.35753865726,516.70168686346096,125.085747600735,281.41964300289101,234.493573250064,700.94634993070895,"..","..","..","..",303.90312383002703,"..",0.74240944473931403,0.40561985539455497,4.9352628284751301,1.7553535935181801,"..",11.174644782861501,0.63216561914473801,0.68023432924244398,0.192169597264682,7633.1357065989596,"..",177.767940195233,"..",777.64274494234098,"..",3.0064867115707101,"..",2.2763870630974599,62.755824101507997,4.8273710847313799E-10,241.368554236569,286.021736770335,132.752704830113,2607.4168067475598,45.956572726642797,7393.1831812139098,1258.2542732352399,17250.650799380001,8394.7983163478802,1357.01424001036,169.585546206614,481.38946737865098,6.2417908125576798,20.715208805118099]
[1967,6.3644633930138399,"..",6.3644633930138399,"..","..","..",0.76564973149038595,2.1851996314605202,"..",19.685948970581901,2.8621741577078601,4.1355054898026298,3.5369119161639699,4.0011977660703604,3.4388235720005702,3.8218684025332101,4.7431981724586096,1561.7260642894801,"..","..",1354.0196480686,1069.2816908935599,"..",548.99478403271598,1037.6148965302,473.22736268731302,125.61596006609901,258.89727873724098,248.34566837514001,906.210261363163,"..","..","..","..",314.44277410145799,"..",0.75906992911039095,0.76090429825875305,4.98214660695223,1.7808721651363899,"..",10.9717836217492,0.61927278711218903,0.70419861226130598,0.201262197647499,6218.1764411909598,"..",188.20228686296201,"..",798.59581250122005,"..",3.2374222813185201,"..",1.86686938436054,57.423729861779002,327.79379129432198,215.33898698167101,235.67655797438499,122.02542595628,2584.6987197184799,42.397853881280099,5430.2391245479603,1089.4956413567099,15829.9278313343,9262.9261577871293,1307.9849579627401,167.24661322243099,527.57254258705802,7.4133237699752996,20.8972841521866]
[1968,6.37212983184543,"..",6.37212983184543,"..","..","..",0.77237937355702202,2.1810153188563501,"..",19.747777417586398,3.4799713587981098,4.1853307304621099,3.6026756091187102,3.6142527311383899,3.2683295947889501,3.5400724506277599,4.03471530440717,1927.40836176375,"..","..",1306.9342878155101,815.00908304443703,"..",534.87673899747494,859.67433400591403,465.43902875285102,121.475424055717,231.53680846066601,253.75880668738,882.99053634516702,"..","..","..","..",303.02212860706402,"..",0.73899005688762998,0.81103857032724602,5.2387033292428704,1.85322624666366,"..",12.451747043759999,0.54170420899776395,0.73788130629688897,0.20242776081973601,5814.4196276171797,"..",193.328166325018,"..",813.57682867062704,"..",3.3044159636833799,"..",1.8446189476606101,55.514767474411002,292.055950626249,181.026415677427,171.371673507964,115.856906033553,2669.4980049542801,42.336044413094299,5995.3655871098599,1160.9425177855301,15094.626188661799,10014.381315275299,1269.0756300835101,187.90541947316899,565.80811922289104,10.3529409406844,20.715208805118099]
[1969,5.8192246787466697,"..",5.8192246787466697,"..","..","..",0.77895133495034197,2.0702689909809502,"..",19.301098210975798,4.11339762298336,4.0172124066725798,3.3436750667094,3.3274968202408099,2.7327496059461902,3.9527963387188598,3.29725380555803,1655.3479545474099,"..","..",1519.0696548200699,829.87718766716898,"..",489.12034412646602,903.43081298652396,433.76897867822998,117.151940213031,239.58099294178601,246.32426773356201,771.48638465706802,"..","..","..","..",267.56596516654599,"..",0.73087781873943602,0.779104070506215,5.6032566027427899,1.8359768247583099,"..",13.1322305863276,0.51417733603390303,0.72143087259504801,0.32345572344923301,5097.0107844141103,"..",178.19657303658099,"..",760.20203005919097,"..",2.8729176220749402,"..",2.30111388477683,51.548250107007902,265.75986721835199,179.846117040005,121.882973586348,100.805466875927,2696.3165389739602,45.087536093596299,6723.4497166237297,1328.30294553517,15704.804429267901,10829.2563824802,1312.34207994649,188.24657261299899,569.035405347915,8.2049540614769398,21.824213191808401]
[1970,5.2122356108199703,"..",5.2122356108199703,"..",33.599535342475797,"..",0.732297565156525,1.92645094068987,"..",18.050857043520299,2.9076520969450201,4.9392034892228898,3.93525974740521,3.5968733347394002,2.6993401469809601,4.2674283075979398,3.8234530936112101,1710.9199289456001,"..","..",1630.6364238244,1120.1819445829401,"..",503.63406074245302,1233.4188401361901,441.891324856707,113.54345042438,251.565751794947,223.13537573592899,544.089911523404,"..","..","..","..",236.499806300036,"..",0.71542600360635,0.723861784381437,5.6184094809055596,1.8090852840437499,"..",11.775899670813301,0.483381688100322,0.71225199621854896,0.35426689561420299,4634.91590243062,185.18513132987599,185.79537930084001,753.83572883759905,755.58636982932501,"..",2.91318022562317,"..",1.7539244624288099,47.383960098363403,232.612167755602,183.074391289131,78.614297435921003,135.69043119076801,2645.6207396815898,42.387106124354098,6098.3156646593598,1304.81785273895,15823.8734748484,12260.384293814701,1274.2695572512901,154.823499927455,570.76133754846796,7.6280996370471303,23.214606751241]
[1971,6.9220737641998999,"..",6.9220737641998999,"..",35.552426197192403,"..",0.737262294411823,2.0571401524895299,"..",18.7324385071054,2.2035950799642299,4.0626224348318196,3.8156494305002999,3.4843493889093602,2.7718310847960801,3.9886274118457998,3.6928632763154599,1497.16127186318,"..","..",1804.7156991792499,1068.7913993017301,"..",514.37698040676696,1244.1301218199501,418.80594224227201,116.25377379811,239.20065552028001,228.428434218597,456.84662868310397,"..","..","..","..",252.83318146417301,"..",0.57410887925957699,0.62670708276368003,5.5125033488144801,1.8024716406041801,3.2634437606948499,13.544859995884901,0.46624418074724,0.71637259533791497,0.40590385209006502,4270.5781873750302,181.98090967065201,177.209184265153,"..",719.74772716392397,"..",3.2079101610185599,"..",1.3620920889258401,46.078893400738998,252.921925999612,177.147745740619,65.534426169939806,133.11680315768999,2572.0186488218701,42.310663895967402,4429.3762937880701,1038.82305233444,14384.6700142473,12009.593185805001,1266.7941108703901,167.12985299016199,503.96656374956302,6.3307962305843404,24.4146488114656]
[1972,6.8337153143724203,"..",6.8337153143724203,"..",36.045970888997402,"..",0.71340984051140599,2.0357186841682702,"..",18.340952194109601,2.41808388047024,4.16628217868133,3.7400675160813202,2.9371521192528598,2.62696874856662,3.1408324122434701,3.0436305405031199,878.84582773736702,"..","..",1599.2927679474999,815.75912070056404,"..",525.67040879787805,903.33956559492503,487.49672434946098,112.893088732141,209.33885333216901,211.16305481031901,486.05425971579501,"..","..","..","..",262.13118153001301,"..",0.51102673312422298,0.58192965850136602,5.5580884556895702,1.7746024730716099,4.0104897402643802,15.479639562316001,0.56330987819016198,0.70637927414490098,0.60179874835771396,4031.3006562698301,197.051307526519,154.381263688563,"..",641.80066629375006,"..",3.1051789106364698,"..",1.2457449991351099,43.180069294111398,341.68576571862098,253.44823281326299,109.827567552414,125.785419248064,2215.7132095981501,38.786966592014899,3971.3460687521101,1132.6632814330001,14042.7530426455,11564.3735146899,1418.1523772587,218.37537797864701,477.32750513164501,6.3251917736710404,26.6326575848462]
[1973,9.0897023938691195,"..",9.0897023938691195,"..",37.168222077156699,"..",0.67990650141140396,2.24533205063064,"..",18.930604808224999,3.66178215760142,4.4467504017309203,3.5609601175671202,2.5521045982145298,2.1420083076432199,2.8035609219119402,2.71070258356001,1660.9144534478601,"..","..",1768.3019080874501,1222.3369874540899,"..",939.99771861798797,1411.61540293034,976.69108536082604,165.21466170310001,316.71231974079001,302.36953021101601,937.55868894625803,"..","..","..","..",452.655847439659,"..",0.46972905514176699,0.52773695109551799,6.5105094572650302,1.7129679138505101,4.5037330418492099,16.202778664244999,0.47609045678640599,0.73447838085938799,0.67529285015182605,3652.1366586230602,432.12914639704798,220.254631915555,"..",723.70817812482699,"..",4.5021951580960096,"..",2.19515368497354,44.517687592413303,384.47093829811502,322.14617566873699,209.637837935183,137.60012528564101,1939.6938907951701,33.444924569427599,5780.3654199160101,1391.1642470545601,15547.8428622754,10920.917237670499,2736.8934723481302,315.106984945791,492.71906823115802,8.2804787551059391,30.886599784538799]
[1974,29.157855852327501,"..",29.157855852327501,"..",44.872547701329403,"..",0.77045819025373197,4.5961816177205401,"..",31.206081673470699,4.1471904654692198,3.8563646382516099,3.43664027022042,2.9058893346371599,2.3642083426449898,3.3332371207856699,3.0201961057946298,2650.3318952664999,"..","..",2861.0234288167799,1777.5090358042301,"..",735.69901327964101,2210.8607723775199,489.72802208081998,172.511164059013,348.63454505012999,321.31427474055801,1373.97934469852,"..","..","..","..",477.433900441513,"..",0.48883136815250799,0.48877601914458702,4.2035800347386596,1.4848650285354099,3.7821305488285999,12.3585431023726,0.62354023749135001,1.7268281849085301,1.7396857377516599,3937.49964198215,319.95268914571301,216.959255207197,"..",655.77589768852499,"..",3.8755153949921102,"..",1.99681508894726,144.848353728018,883.69119065754501,806.54574341791499,759.16699263794396,160.73351900121,2031.93586142251,35.547346846879101,5468.9247746113997,1573.4837367678999,21743.569946737702,10162.7420423037,3293.2659712713398,423.07453278260499,491.43941340572297,12.507937070864701,37.639939930354402]
[1975,24.956436002412499,"..",24.956436002412499,"..",64.206157138233706,"..",1.0286381359702099,4.0238735249687396,"..",31.620520177295401,2.9806584126020601,3.4498250507815,3.2195241356524198,2.73223034185669,2.1084969490938001,3.46527415897169,2.6229629369056999,941.323503498322,"..","..",2051.2958176615298,1038.6115402226501,"..",526.08062806693601,1347.59569751136,370.78816529158797,141.08756446445801,286.18865906231702,267.62134201110302,816.75861480794504,"..","..","..","..",356.56664501637198,"..",0.52069821921592896,0.54543736508296503,3.17464441456187,1.3889726898533501,3.53466776215144,14.081183891980199,0.81432664274188704,1.18521025967204,1.0790932352364999,4406.37279738913,302.77843923197599,161.496187347323,"..",534.50473950033597,"..",2.9253392105222602,"..",1.3417946568608301,160.67487162635501,580.10406505296896,484.41679659062299,401.88652754185,194.564112540102,2077.45806635487,41.384743609964403,2953.7463683470201,984.80140610590001,16450.016953161299,10935.4599974384,1782.57407206311,385.21102752752699,406.36987476626302,10.569890775247501,41.802844456512702]
[1976,27.483716535984801,"..",27.483716535984801,"..",64.183812018236793,"..",1.3726103637920699,4.1003750316288796,"..",36.161189282751899,4.8344636758581796,7.43610187600461,6.6485488575066096,2.8053635116733902,2.19200329515406,3.35149406029893,2.8725097595169502,988.98841419853204,"..","..",1684.54936181885,960.71106525492996,"..",546.28710891810601,1035.8580363768001,472.63484549511702,131.851014785475,265.55382656514399,248.637437720131,554.59169701582596,"..","..","..","..",314.11311831605502,"..",0.61107746898806103,0.51044563313472602,3.7361784536389,1.4422326269907899,3.70092777141239,19.6413273934721,0.69764918188705505,0.69343784511170803,0.602195872516466,5167.5885308342704,336.37225022701801,217.45338447673501,"..",622.80923464808097,"..",4.12966665563214,"..",1.8284666722721099,84.680409817875102,283.383976111447,214.851923514655,193.780286652998,131.156169624895,2103.0635173400601,53.691318448245298,3310.2162991364198,1054.9603613822201,17925.956568108799,11752.2623644217,1681.2015316632601,294.96156051422099,377.274857480908,10.293100744548299,42.315965889160502]
[1977,27.469108493496101,"..",27.469108493496101,"..",62.695848231630599,"..",1.7270669009978801,3.9167748143179102,6.0582071834434403,43.697056410055403,8.2856945475637698,11.2999728299636,10.7840070387892,4.2727234334571396,3.7073657879468098,4.5196280511206997,4.5912211682888602,1263.96520665858,"..","..",1864.2484807923399,1158.71979012836,"..",612.48933767456595,1268.5197079797699,502.452585754447,104.687452490783,208.45041646854199,193.18372803989001,551.40436595467202,"..","..","..","..",225.65185705843899,"..",0.59846147360527902,0.55528480108033196,3.2933781233628001,1.42490434243015,3.71783942849307,17.302555911756802,0.67535394070610499,0.53036269919858003,0.39117700947496398,4927.4439291823701,347.09672388789102,202.36560270342301,"..",579.29704059139999,"..",3.5602536827796598,"..",1.78102863265142,135.077400184059,293.12770503223601,214.06156209625701,264.00774175160899,120.881019565888,2500.5968671898399,50.412864224064798,2861.1377299759201,1351.0472719198599,23620.263263907102,11189.134485811001,1289.10605395158,322.94147068079099,346.11659520356898,10.135222880085999,45.742292874905203]
[1978,24.298757367894201,"..",24.298757367894201,"..",54.664975415175697,"..",1.7040483392839301,4.3309191485610201,5.7114574242618099,45.151443247962199,6.4020014420279097,6.7534712098912504,6.1162170156785098,2.65151175721993,1.4027251084236501,3.5271485186749501,3.02458061212451,1285.2474985850299,"..","..",2030.12198654342,1129.34353598909,"..",504.787088545931,1141.8848301144601,401.24302892338801,103.390542627077,189.516198513684,176.528120785103,650.24885612073899,"..","..","..","..",240.31314270670799,"..",0.54037301062665299,0.56464041475923399,4.0225103543871397,1.30753896603621,4.1276063991576999,15.1791845322092,0.66066778578713903,0.57951859343370704,0.32414542328770801,4266.5811823461599,359.83637870673101,183.14992408329499,"..",512.21549491021199,"..",3.0224518842129,"..",1.85415195334689,58.8461035288598,263.05364427952497,184.43540673114501,255.90902578248199,111.010048781549,2492.4345502118499,40.351613848360998,2567.5164398153001,1245.19374047215,24220.7661950521,8670.8939921006095,1117.2725403934301,363.52038385605698,490.33481472821302,10.1937519845083,53.157725191879102]
[1979,52.2180415234808,54.153864918642299,50.282218128319201,"..",52.092265805555201,"..",1.98992792653141,5.4967350349987001,6.2268266747980396,54.514401857948201,5.5529669554351697,6.4523131954514401,6.1585599225115697,2.5386617948031001,1.32015299614649,3.5456187276486202,2.7502043433669101,1660.24071497472,"..",665.90914405855005,1498.62933676066,1102.6111943195899,"..",502.11952552942898,1116.6924639691999,409.83240198753799,110.031285958551,194.81478719722401,182.31168778878501,527.95345566602998,"..","..","..",263.59799508146102,270.31540714983697,"..",0.54911330368141398,0.67195200428742397,4.86354686913731,1.2488611528354701,3.9983498159958302,20.187796217174501,0.71723063601533099,0.57728546180879803,0.35911453555496903,3953.6045439755198,356.71144462674198,286.75479760503799,"..",617.10007895283297,442.67464467330001,2.8792402079350801,"..",2.1283796915892301,59.831342847510399,326.03338909271599,246.59085682801299,258.01959190041202,128.955339942329,2703.0442742980199,39.629920570752603,3347.89915159254,2037.5681501962499,26050.194266978,10094.66827815,1250.73153574361,517.15781560133098,746.72607569623995,18.7180968348558,59.298630079373197]
[1980,56.526047563165299,58.094353009096302,54.957742117234197,"..",61.542706442118799,"..",2.4364620645045698,6.46997582309971,8.7332827244312199,66.261701434012295,3.9915943457286498,5.3144003229099797,4.97240128493066,2.5439755845507501,1.7039102951780301,3.1420061565144102,2.7859639235786,1033.1007998733101,1895.8920070888,773.36908875996903,1316.6094166082601,894.89833447348497,"..",454.16956076547598,916.23494510653495,402.329262775296,119.937884384882,192.048660317779,197.565515689845,629.73792524159501,"..","..","..",258.03500339353502,264.81927899003199,"..",0.57841379435894602,0.61353615521538496,4.2314970630081596,1.16079587658554,4.4146341748729103,15.5482595393274,0.74648546070879396,1.01508727767804,0.96836271240165095,3489.2794257724399,385.88601853293898,299.75510420860201,607.13517202546996,607.44386142738097,419.75629086121199,3.16115301762866,"..",2.1840640147705002,68.481576642603599,340.68306738339999,276.35382514543198,307.49633318019801,163.28256520382001,2721.2424584206201,43.0667348035239,3345.5166651944701,1388.66838904563,25718.741611844802,9994.2345138967994,1167.0742723871799,931.95887726587296,1041.17549323863,31.896623068302102,65.224355011240803]
[1981,54.342465271827599,56.166132281361499,52.518798262293799,"..",82.114781346125696,"..",3.03731784787671,7.0445355127224598,9.2349900858851601,76.629461987384502,3.18466604901782,4.3929570315260902,3.4307143183752302,2.2514948066966398,1.4904903149817199,2.7766016304452101,2.4873481527937402,872.78221687516202,1925.63399187444,715.913683320117,1596.8890012807301,873.93078244788796,"..",441.68727191182001,776.20061404856096,386.81136121488697,122.093796564795,200.28048365219701,193.52819426853401,702.90554011700499,"..","..","..",236.73723111450499,267.93737680563498,"..",0.61452086692776198,0.62133951787784802,3.7892837283407501,1.18524344126715,4.1940382361695603,15.5642858904974,0.63903041473403599,0.66612442650654002,0.572878983996578,3555.4791679885998,325.87102429395901,236.701497963354,"..",535.088232704186,374.72972757377403,2.8653775816395601,"..",1.71953028076852,74.975808219645799,272.01861314072301,247.06921653316499,279.48428936344601,168.71152079382401,1933.7713783071999,43.017609250516102,2667.6583992145402,1112.9217544528799,21683.578019907902,9116.6754243180203,1295.0459687682101,704.07707700118601,685.28271567947104,16.115421456207802,65.298840380496102]
[1982,51.531474983439502,52.748622190799097,50.125792491475799,51.720010268043801,86.446866602902006,"..",3.89083902270787,7.0240298787221196,9.5520846167447697,87.111434406735199,2.7395558032977001,4.8735060641867003,3.8255707900145799,2.4359966992880602,1.80725989527792,2.9144183694477799,2.5863281699270599,733.05090850408897,1306.15387070619,557.05555311588398,923.25216701780096,702.53452401226298,"..",386.091455084627,705.95446365358805,344.93379686267701,100.565955875974,172.46361002783701,171.30609199538901,430.09424001588002,"..","..","..",209.224015087884,253.109732854491,"..",0.59075511219694399,0.60701297910724406,3.7718645840317602,1.19927108532547,3.7518053226739898,20.966860724125599,0.63051918000366702,0.69333040862381801,0.29302305919155902,4047.0355582955999,277.67410700901098,231.16818933258801,"..",535.69431539597497,366.90164761259001,2.5211795035850701,"..",1.3537831070186499,67.810168599779402,263.006512031927,218.481528624671,195.66000832582699,131.404603910925,1565.1222232385501,51.299094619880698,2336.7789888476,861.19341614175005,20244.674700789699,7635.65977634515,1175.5910980915901,593.17011572828005,518.18662373081997,12.5168080902688,63.353944627718299]
[1983,48.088064310766597,48.365960225437298,46.582384619310801,49.315848087551799,61.918427126320999,"..",4.2035619594104698,6.5667988179797003,8.9921620486240794,88.355937595847294,3.4372192397385799,4.7204068597943003,4.4291706834100699,3.4002911303362402,3.0112499171206499,4.0860780100966103,3.1035822162457398,1183.4425400673899,1565.22217093574,733.83301194337002,1152.7028953947499,813.02644377912895,"..",456.57492892786701,854.30539519667605,385.63053140975501,114.94465198492099,220.54174960301401,208.76745229851301,416.387741593638,"..","..","..",222.62934305440899,255.23768788451201,"..",0.695283470734119,0.60511835033827799,3.9561179537444899,1.25169033137481,3.1310388668673399,21.4150605897449,0.62788568991927995,0.78782108555343,0.30276185414500301,4307.4065594839203,260.67488921034601,223.280618163517,"..",532.04944791423395,372.618541159313,3.0059589148960701,"..",1.72548719311693,64.536363897892102,274.15709468479099,218.35281666368701,185.721501549652,120.661550297446,2332.3215587841801,47.021522400348502,2581.1978292129202,689.66250713683598,21059.1022604016,7576.6265473223602,1239.31437774712,685.10358137307799,686.36424460294904,18.526939231415898,61.673885743403901]
[1984,47.346006754578703,47.750815048014204,45.581705205053098,48.705500010668999,51.326392700537497,54.497161778538398,4.4017735435777201,6.2337734553115798,8.6836477196204793,88.970684776624296,3.9723588433017101,5.2865355522317499,5.0347391842728602,4.5452663873429398,4.1453688530655901,4.8321633762351199,4.6582170570140802,1914.20503597832,1386.98696183229,618.67990986004497,1685.55044669329,1208.3462464573399,"..",467.671169021048,1200.33297384191,326.886258760354,130.51686852313301,225.38158190124801,195.94662102682199,385.46466317785399,"..","..","..",232.485762554443,252.55624725863399,"..",0.61256495389523802,0.58423941679842994,3.7686973749844501,1.44869104602438,3.1850133608741902,19.455673270766301,0.60132161453709598,0.79461444028182304,0.19010798480737401,4619.4955421376098,291.20094524589501,259.89529969538398,"..",582.98624437291096,376.31433481027199,2.9591357850300199,"..",1.58770562486147,54.821837479335898,291.17193167263201,217.60179947065001,248.96409056895999,139.472391470236,2074.5948321722799,43.354568046914302,2283.4787436768302,733.80853176410403,20282.131813149499,7878.7739793733599,1528.49030343092,597.64230604709599,593.21704532516196,13.5021294852111,60.316596792529197]
[1985,45.542674072633098,45.787001723237402,44.328016609629103,46.513003885032902,56.5443991398419,58.5004165026794,4.20662406440354,6.1151720551236401,8.7622876296703094,86.090362157744195,3.7770820930612299,5.4128347714866596,4.43749275185451,2.93105222770888,2.4405165809013201,3.6913032622554902,2.6613635065877101,988.75909804533399,1132.1445249999399,469.248704960515,1516.0879759494901,838.67211267414802,"..",375.985350329862,958.32285357006106,263.31539945121398,98.540831883704698,188.034559905035,172.58048696481501,329.93307858596899,"..","..","..",215.555626469098,227.56537761480001,"..",0.633415943796522,0.66748917987079004,3.6090265541856099,1.4039671627744501,3.0905772411834098,17.577629263471799,0.58703575139618902,0.75177019673345902,0.14989152325070201,4375.8104912619601,291.32232900047899,203.95215730240099,514.34460847204298,514.56637264504002,353.30336740576598,2.20863819198226,"..",1.2711320542436799,60.314025749164699,263.31539945121398,203.35041320291299,187.01536456251401,139.406376644771,1743.6198457722101,44.498347886050396,2374.6693017528801,654.83998835950695,19332.390450111601,8207.8034785990003,1312.5700237861599,532.61892057923797,490.05006305395898,10.245398353578199,59.687609229928697]
[1986,20.902924169974199,21.515930947316701,19.2217075628073,21.971133999798699,45.338224027208902,44.238453452412301,2.8186173009686502,5.31677165298996,5.9722640485640603,63.549480387273498,3.0147066372298399,6.2527905163736399,4.7264764732793401,2.4174073998850298,1.61473634991032,3.1506864711045099,2.4868598538831201,431.89665619493798,1447.3029319314901,466.97763810621802,829.44065536256596,374.358990361211,"..",303.59008913534001,498.78115803962902,269.11604462736801,69.278262963343096,127.54182593142799,120.047362875364,271.29373603044201,151.66765811771401,151.85573830800101,"..",172.45155215189999,167.39333583272,"..",0.55603963266783296,0.57352792700678901,3.0475298120007999,1.3481553582730199,3.1365796678143498,18.770146134745101,0.59747338128120997,0.67050504201382799,0.19428066279932499,3873.4915021676002,322.85792394079903,201.85766934223901,"..",479.736582387618,398.71053285678897,1.5386227336334199,"..",1.17484873158592,52.439391645928303,201.26044293738201,176.49739688236099,103.057971081929,106.274739319468,1675.0525508989101,38.251622906168798,2001.1187459536,591.50905451723202,8974.9533252083693,5653.6097730785796,1098.36248002088,535.60162254879401,677.40040808395895,7.9229972790445302,68.650681996985398]
[1987,24.1204035057916,24.380715552811601,22.514222790136099,25.466272174427001,36.554457666641703,35.218558395551703,2.2098831225742499,3.44276528569462,4.4529975702999902,46.2191256303187,2.6508184989010202,3.32975662596278,2.9886149190659399,2.19489579493092,1.79310547960852,3.0500161062351001,1.74155405721426,587.86214192990201,1008.23840509628,509.65775674005602,664.29418977833404,455.37992565928499,"..",286.78633605738003,444.302817275454,270.17067348163403,73.1111307549602,100.62002171536599,96.720879564257203,285.26877220879499,253.88732415740199,204.59419184935501,"..",149.011477400969,150.067125829948,"..",0.52248504824853204,0.60611832425729295,3.17152013269975,1.2074139196637399,2.87445424006218,15.2066543893229,0.628241015164275,0.63977649268815195,0.19800331236097601,3649.5250522330098,344.164649774785,268.20670216517999,"..",533.424666462196,530.91251230695002,2.1911849636223399,"..",1.3088489724166801,45.388451602746798,212.68048096955201,183.436914836238,109.663372999925,89.447650199433895,2080.76059327645,33.630101053310398,2369.3979141447699,793.35357955834695,8859.2497432202108,6476.4086503408298,1061.7962241321,593.47491274798904,738.69691137084897,9.3181854206706998,75.230222947871894]
[1988,18.371584512224601,18.6871104517571,16.4974991241228,19.930143960793998,43.532177701421197,35.080590035374698,2.0991143273946999,2.94583338710693,4.1691031834479402,42.319281542171296,1.97795236661425,3.7867793623211199,2.5953083395125498,1.9697348229143401,1.6998768249621901,2.5123089637331102,1.69696323763264,705.044445544165,1168.0354203327599,679.55965812039403,736.87442493875301,545.68650949021696,"..",378.839166519895,578.45266474935102,333.90272502165402,87.792492186378794,133.4248244106,122.900127302285,346.34866304309998,"..",274.299528312181,"..",175.654677464896,181.24260718083499,"..",0.59682251560256805,0.56595783754386797,3.1418998190051601,1.25185437834614,3.0092228950907902,15.5280370066145,0.65537459083252503,0.60873940764250001,0.280436681201987,3080.5126871760199,338.67098075841199,250.72141906587001,"..",502.19772303334599,447.91126200155497,1.74677933979552,"..",1.4790954542594701,39.4442097595674,224.89024657221699,197.68913673010999,141.72662393831899,108.388361206406,3183.5669263453201,30.332098011312901,3247.4962957444,819.12267561620502,8802.0919097328206,17198.570023219701,1549.6935164003401,545.5388017427,661.992838119878,8.1515433014593199,80.113152710164997]
[1989,22.401339204335201,22.875736920278801,19.720643287404101,24.607637405322802,47.718829074323502,38.928518455369201,2.1306038595465502,2.6245355990877899,4.11888840431003,41.1402096467015,1.5584383554966099,2.9978831133168802,2.07905496655968,2.2915607257729,1.9204240793110401,3.0483333221229398,1.9059527165149199,649.01793403279498,1026.5827044278799,512.87276599399001,972.89902171926701,440.03876372265398,"..",345.33363145892002,541.85986172554203,310.90491486801602,94.354566304525903,140.04743807429,133.03193302792499,375.67590007756098,"..",274.48791373234798,"..",202.50573441861101,212.51831679982001,"..",0.68663837055082,0.55934734752951198,3.2261172497447301,1.3807516694302799,2.9146472434797799,14.0079878506337,0.629898518730579,0.63134974170454605,0.35419719466636601,3977.70659757967,343.77858365180498,239.33295004983,"..",609.39319791848902,439.91737371886899,2.1024225422884002,"..",1.2179603241891199,38.928518455369201,195.00885521930201,180.82924701848901,129.29081868712001,123.482934885311,2450.3074567579201,34.947763503642697,3576.9155243051,845.722063442896,10717.188565251099,16711.856003057499,2083.01060633821,478.98611855792097,639.98798280291896,6.9155780510078397,79.633135886075195]
[1990,27.6745064632835,28.6472217696783,24.7513205684184,29.624977051753799,47.980568481234499,39.7654081215274,2.0542940874948701,3.41105554076676,4.4029227547485803,44.1450773033202,1.5321526069637901,2.3855616090426199,1.4294076627349599,2.4887500711313599,2.27074914864271,3.39761836080466,1.7978815951520699,407.028435981565,1603.3170635767201,498.55439434492803,1165.6455754558699,350.47990884296701,"..",298.46735981709099,541.09178909089701,242.120431705725,96.676813509142903,132.17941019984801,125.72420934787699,327.62361913053002,"..",188.898288516457,"..",156.14550255719701,163.927225008356,"..",0.65420900327081599,0.64236808440633997,3.1004720794130201,1.3089030336412499,3.21342801437115,13.0545450084132,0.705416554441753,0.62007337329746004,0.33466446515661102,4103.1681851426101,415.44922734904901,214.33101379691999,644.71368908818499,644.81318112194504,429.24666477281198,2.2004231423840399,"..",1.04591591318274,37.850217362822598,187.09397722272999,159.44971061353101,139.884525020658,114.465407674533,1983.0631032029601,39.311810310255197,3219.3136979711899,980.42646918640196,7360.8441620058002,10721.963623727201,1830.6703665376899,463.83904185556497,570.43150351911697,5.8462407503625604,82.672356585730199]
[1991,23.6483093945284,24.4977969550546,20.219838641267,26.227292587263602,48.425877701852002,38.455844057353097,1.8149530634475599,3.80183833974414,4.8710735805980603,43.413610034400698,1.4589516478129201,2.28707485052947,1.3086279568628001,2.0436636005516302,1.7455532870088,2.6408125598516201,1.74463655258869,528.61525323282206,1511.1722424019099,583.34870324037797,1092.43082933296,413.85813128389498,"..",292.48823191769901,554.04901253001299,240.60336295142901,95.573963336613204,131.14053233780501,128.322471807677,358.04120313028,292.38649688050998,218.73032995584401,"..",153.96173587998899,157.07686271870901,"..",0.68300224156825995,0.63598742883221604,3.2514823090640799,1.2892919523444999,2.84594610382223,14.094066847019899,0.74726671788462395,0.580073894261253,0.24122394667828001,4272.9549846586197,385.83521529025001,233.76778580271599,"..",674.52754073537596,454.60504837873901,2.0478143900689298,"..",1.0081128305109099,38.455844057353097,193.19483562146399,162.51663515719201,168.956463011241,129.93090274563099,1589.73814222131,42.435718712177597,2855.2334953671898,680.74982784490101,6830.5412643722602,9956.54357856772,1363.6462649744799,442.159801279438,458.80467071389199,4.9459810884801501,81.912127459797404]
[1992,22.794962095071899,23.1445014919295,20.597857314824001,24.642527478462199,46.214101684532402,34.554466089353298,2.1232021649122799,3.0659598524368401,4.3084576594751001,43.277278870512902,1.31774355247341,1.69207028598819,1.12702487070798,1.9225465774361901,1.7308864362724301,2.0257465863324202,2.01100381352015,692.18787417718897,957.69600266225495,577.03961001237894,730.93681302883397,471.57858056048002,"..",282.22809586275201,514.022650178905,244.97718299764,94.285755592365405,124.930373856868,123.137736092984,321.441422770222,273.63941353996501,213.21903208314799,"..",173.940790716262,181.20122333098999,"..",0.56695290170305901,0.58631638560498001,2.9416137087147201,1.2672652495108601,3.1775028673940602,13.126702377990201,0.752325039063934,0.56276566279250295,0.23919480268962401,4122.0152426908298,397.01084168684798,251.07914218278299,"..",727.70139943973095,456.31269707372098,1.53194129486776,"..",1.0325393783174099,37.750254860622903,165.22976960457399,144.692332671207,140.939278232947,133.93351003593,1503.1592222465099,39.667728123384698,2733.7865714990899,648.78506792738301,7311.5951955883202,8390.4185834696309,1485.7721339628199,411.93717261666001,431.05498025678997,4.7289784211262003,83.4431452616694]
[1993,19.510145387289,19.7177001254516,17.3090997918897,21.503636244525499,36.2979449065841,31.229747811914699,2.45686887732065,3.0949790258114001,4.0622019650105301,47.300237779790898,1.29389623770595,1.80740596733784,1.3407553399869501,1.8707053356230801,1.67087037873794,2.1369723858204699,1.8042781657022799,521.58988385711098,1265.19093473262,422.54283206414499,856.18742919280305,437.60261771687601,"..",295.50002489110102,556.53630953845004,241.149644618742,82.685946200498407,118.26565517595201,114.716951838808,272.71244538259202,234.488585580034,182.55163249561301,"..",156.12846627119501,162.458403099718,"..",0.51322108374021802,0.50102072661975505,3.0322781874687701,1.3963831262248001,3.3678797185146498,13.1948339275247,0.71763740118767205,0.55197010529887203,0.25598739497018302,3122.3994201498699,359.48866798120702,451.57056890978498,"..",878.39103018968603,766.22644807698498,1.4831185829490201,"..",0.96299606282217698,36.4910190816191,141.32546927126,129.68116577489801,99.095320336724797,130.373336692398,1319.52586907097,33.699166510612699,2216.1941951724898,470.74379986163802,5978.8990171832602,6132.1352323124302,1114.40483088464,416.77377571409801,433.28837527571898,4.9910446543253197,86.322609761991799]
[1994,18.973704773054401,18.9060268500284,17.5166389008476,20.498448568287301,38.576416124821101,34.112658995826699,2.2930872742927702,2.9181127987093798,3.7979257980473999,44.291513986699101,1.6672257284740799,3.9503703196634699,3.1287304762205901,1.78214881335368,1.58957665780649,1.88082461849459,1.8760718368237299,725.54714538169799,1140.33120191803,449.46102997856599,1221.4869842619401,631.09663221746803,"..",300.76865203614398,735.20120204864202,229.80635921623301,86.765087846482402,128.44871684905601,124.052637643088,319.58908621881602,274.59322004226402,217.723859428944,"..",165.47849338001799,178.823982642602,"..",0.52524935586837496,0.49127006219145303,2.7861607540801501,1.4556615557021799,3.5533198694871002,15.616183106463,0.74246662613819803,0.58004956351153203,0.31886254380986001,3154.9785624553701,394.43489750413102,367.310979324313,"..",980.57669825683195,717.97916116567205,2.1053108958028299,"..",1.3445612778118801,38.019068523430498,191.597361227448,157.775153317941,112.128882395837,134.360582478092,1763.74539460847,31.613552161734201,2755.7863050679398,654.20665240369999,6525.5650539815397,7571.75029338896,1191.59921913737,458.63138854858897,484.01060968334002,6.3116032908619903,83.729913881806397]
[1995,18.693784194409002,18.565955699190201,17.531542131497702,19.983854752539202,42.832518334095496,38.325883938828397,1.87391134480327,2.96725294220664,3.7523556149689199,39.404041689062197,1.5583381469258799,3.6252433219573699,3.0142593782143998,1.61948731006424,1.54715968100676,1.8955524370682899,1.41581390768228,728.44110573267096,989.90024063410499,538.51153304941704,1078.0203096785499,683.47448613797201,"..",282.038616046588,680.02946286257202,214.22605262555101,113.15360265066801,134.34230896452499,129.42952445679001,349.17124066327102,323.832187887629,285.97772818648701,"..",182.06948010490601,192.539631106906,"..",0.48422793866490499,0.57818369582086904,2.0329128952049502,1.33071820281326,2.8513097772879599,14.7272659877697,0.74845850413289206,0.552862774746677,0.318519599362933,2875.8038927760599,369.35182437653702,278.08953147089301,648.53374673055498,804.99434370016797,635.80896278251896,2.3149468508603102,"..",1.71893062666388,35.538134840971601,217.332617473894,162.78460244324401,138.013978508044,122.38898478395799,1964.3785626003601,30.874661228166602,3193.65171260029,686.41182177278699,6760.01505385571,8951.3009810753792,1121.75397357469,417.93299865518901,461.63674524393099,5.65735376190732,91.920036920467595]
[1996,22.646459037869501,22.901536686190202,20.5614765211606,24.4763639062576,42.225516935244002,37.172022076483401,3.03228175413197,3.1542754120245098,4.0673794574626001,54.573092060160903,1.6142718361192401,2.9879666337081301,2.0028493623383201,1.84160516921323,2.0950960682064501,1.8516147488433099,1.5780988681653501,833.530909494551,1066.8899899329299,649.89348659116195,995.08008676436805,588.80423820709495,807.37620859789399,338.070303462808,611.63183934304698,296.666395329583,132.713388482657,183.887879579821,166.38733483850899,375.82364380303699,317.27592995839802,258.07665907728801,"..",207.85408818943699,230.23530344082801,"..",0.52078445618260305,0.545275607198908,1.9407570325622401,1.5235183130307901,3.6537932313755599,14.5497584474292,0.75761758328778495,0.54666097457148999,0.292313439809327,3388.5106287332101,315.32033465460597,279.58820741900598,568.27650208096304,822.18019540593104,587.26453037339002,1.9666856363281999,"..",1.54572433910493,36.635065142880599,219.704108503817,195.00131697495601,170.44916912970399,124.76624102645999,1669.82793276238,33.270997607056003,2545.0723555067798,858.75217406945603,6837.2731857440403,8318.6551122544297,1136.9161979519999,429.96757143663098,440.41096790773503,5.7684146617860197,90.168621795811902]
[1997,22.312112752439901,22.218034089944901,21.062191014778001,23.656113152596799,40.849972295325401,36.485555397275498,2.8883711031294301,3.1869942059982201,4.5486922781898,53.3071621843443,1.88395389691644,4.8508360106896804,2.0205213510085298,2.3976457658169199,2.3511044968994899,2.4964155268180899,2.34545383784807,764.45186645398599,1150.36718676546,705.58073185140199,1175.967886419,635.26512627170905,758.632643923253,343.81906452415399,657.28118484631602,320.930122569937,113.17030003685601,136.27649296555401,127.582574504639,353.23844606056798,299.20502512186602,244.85187023411501,"..",167.18432356712199,185.614771192376,1.12662281909923,0.60176968138480902,0.53416195402275002,2.1509607577879999,1.5648813083912101,3.9493899471580201,17.181671566271199,0.73000206907204601,0.56288369669360605,0.29171762546565599,4110.1702163300697,331.40957247736497,277.28886320070302,655.91465309146804,773.40511748109702,564.41609196003196,2.0339152615334402,"..",1.1842311824126399,37.824946449765903,217.62679926915001,200.07553918124799,136.744455444067,130.932506941497,1861.37143401551,35.089911860321301,2649.8023767778,726.44264462408103,6571.9583624919896,8062.3999440830803,1531.7648506522501,385.34406663304401,459.61965314490101,5.7098599419723,85.922130896238599]
[1998,15.899104081414,15.4757183408632,14.7589705394494,17.4626233639293,35.573204994967703,32.662605504259901,2.5397262385294601,2.9400097294640801,3.6742515522070902,47.306851752969699,2.0401172722917198,3.6281890334377702,2.2180390753055801,2.49000265210806,2.5247885754359101,2.6343157526612599,2.3109483520728502,800.66839648564701,1203.2844235974901,805.53629807289303,1106.7377087837699,816.69190587699995,835.65643914398095,296.02926527442702,761.72518378767495,207.29147592358001,103.507814083485,124.115264136161,119.309225464919,370.15320840189497,316.24119832314,259.24111317497602,"..",135.71101137544801,153.49305021519399,1.2230085523413201,0.59571554161627305,0.53839092969562596,2.0884672403281099,1.6944509875039699,3.3470474338509999,17.329323992131901,0.72712251667166405,0.59195711593245304,0.23940948493776601,4059.97798910352,348.54479608534098,197.668242973292,640.52642694168799,589.19608113254105,457.64765455566697,1.7581846386970299,"..",0.87813902195434601,39.551700396377697,227.40791020851501,210.59657827208699,101.272635938007,136.90973214130801,1652.0065777637101,37.726237301160303,2012.9482965579,643.34390206282399,6742.4493568019898,5634.0159956320003,1246.75072818695,357.986496872271,453.05357243270299,6.7551768911603096,82.170929882388705]
[1999,22.423473941765899,22.097067408681799,21.298801800843599,23.874552615772298,32.127088647063403,30.119016353770899,2.8125420379791599,2.64399632026202,3.8930958724233502,49.360781917839901,1.40873199327281,2.8422184925710701,1.8472920868640199,2.2820056156091799,2.04652760152499,2.5659069177957798,2.2337374309279698,914.59317374726595,1071.6209114051901,506.107633529076,1033.4127346237999,541.00073318775503,861.23759685030802,250.23351955549799,529.17358030893001,204.94435458437701,94.226362409150198,111.94330920280299,104.712387705895,308.24219908881798,268.380619837312,239.00403185974301,"..",119.464791108781,139.02540056924099,1.0552502623076601,0.46385952963652,0.54376364213094597,2.2462080260068,1.6403742579759,3.2385490946802702,15.319095880372,0.73423891556185195,0.57820487382249397,0.17134791952703199,3773.5824822425898,334.121721929459,232.17120914394701,564.78877430405998,745.50875183990797,546.64546369706704,1.4531019119675499,0.73342203754346902,0.779828981170125,53.109996480038397,212.305562955103,191.696454367249,81.823086489088993,139.59307909087701,1688.87772462046,34.234427129931603,1951.6487707239401,623.660516465716,6704.9554553491798,7458.8956074733896,1335.55419914495,345.90337780472902,467.72884298435798,6.4714834455126597,80.591388006249801]
[2000,35.482467945725197,35.536762398604999,32.785620212047597,38.125021226522797,32.994121156899602,33.396335205288501,5.41522559940225,4.8496120938554004,5.9232303219767397,92.826979716054893,1.1385066663965699,2.4128653173661601,1.1475983797820299,2.3582836140808898,2.2540850371701402,2.2700164842430501,2.5497437857084901,566.032478513922,1094.3741489100701,512.67103399524797,951.189089980885,389.95908910202297,557.44353268895202,266.25732057409101,425.01455725691602,256.02914301545297,97.077083902940103,111.280267486672,110.61305303661,254.39514844387301,217.21129761625599,180.33469363115799,"..",124.32708568128599,143.39873514239201,0.89546044819825499,0.53293151925041904,0.45652865640763401,2.4201701500115398,1.64737647178428,3.2912107198595302,17.6191231843483,0.69778874170119998,0.53744804783545297,0.22669579815834201,3740.8587927154299,346.18688836720298,238.74755555616099,614.69705534444904,747.48586170753799,563.40132828071205,1.6366969472174,0.79087432129297197,0.83859534224244303,55.304431653469798,185.607642993826,173.088207021513,126.851921524102,141.40337638671301,1947.1443940609699,36.186695165986301,2279.38367235435,570.56786088247395,6832.2445456597598,10856.9376223504,1417.9721097576,350.72017587091898,684.556788601265,6.2258230731201296,79.559627835429396]
[2001,31.800493397500201,31.891573803881201,29.6627666325783,33.847139756041003,42.196157484114202,44.222443628161102,5.1658326132067103,5.2985967966512399,6.0516526568448503,92.019973920917494,1.39563450806516,1.79312176745001,0.79289599753708395,2.0869767875773002,2.1110919867996798,2.16925793438255,1.98058044154965,415.37777721950698,1131.4403123966099,607.65622647058797,991.46659849862601,375.38528753436998,398.68540172888601,255.73428778250999,461.28153776096201,267.22709549855699,122.669752578705,117.05992171266701,124.363040033129,225.70564124178401,199.87756640676301,175.12538929877999,"..",140.674534669606,165.59611307176399,1.0149734765853899,0.76165070872511997,0.77764634614419403,2.75068122991126,1.8318361894468,3.8024532723324902,17.8615664279952,0.69035302118900199,0.61423023001311605,0.24862813927519201,3923.6582659692599,347.431897533224,207.703035612907,616.287501252266,628.58658446169795,535.15827646177604,1.38171603342372,0.67287499924119898,0.75104263282170003,57.458597425176798,187.40607626740001,165.68425978372301,125.95639160629899,146.91118659846299,1885.20896390297,39.215492742683097,2061.0507719512102,621.80431785552605,5856.1301909474696,7763.08309869802,1156.70250710547,353.878578047367,691.50007300884795,5.7145186893766704,76.576877911608094]
[2002,32.937134394780102,32.992271521349601,31.342124287439798,34.477007375550897,33.441379183341297,34.385836293091799,4.4329750205253902,4.0321794647699898,5.65738342162431,76.832982730477795,2.34909138053639,1.79249205791453,0.87441698529558798,1.9898838691240699,2.0638989165358201,1.9342459585957099,1.9714957213737501,556.26899661436403,955.76196681355998,844.09305780794,950.58906153625503,542.91721939158901,545.056630833437,280.99732370543501,610.05928367415197,258.58470409719001,143.97919688497799,131.16695214110501,134.43167418180499,253.52300857573999,231.19627372944299,198.43600842210299,"..",171.71336847389799,195.655397496825,1.00343021186785,0.69840937872430997,0.74591850746566102,2.78608902895642,1.8375763760028301,4.3648177543131403,13.7273866316543,0.72562334590711597,0.60961664682411398,0.20060698434911101,3626.2836754589398,311.86178844920403,215.90878610277301,642.60861049950904,696.07851679644205,532.12877198694196,1.3467060999389,0.99300402198475402,1.0106654525185901,58.1373773183658,201.09421521016,175.81711857362501,124.75587487905599,148.646703370822,1783.64812960731,38.727421118211403,2060.5439053864102,598.13231263035402,5365.1550136641899,8947.5416659876901,1028.96551333358,409.56681234097101,712.862242638721,6.0793859070606198,75.682808598419896]
[2003,36.296960712154601,36.237284979653303,33.5830477471536,39.070549409656799,32.769769301323201,37.975618786289999,6.89791850496231,4.90676499331986,5.94191656720922,111.116235800422,2.1990979835331999,1.7777209570797801,1.0230063047993101,1.9048990095823,1.93560344739406,1.84030345804183,1.93878970464506,586.96966899611198,1252.46280210189,804.26073171799396,1519.0634780524399,598.73836899288904,574.04021763892797,331.58343640864598,701.581567523952,292.19534335646699,131.553837071678,132.34459030097099,133.80723226158901,248.206111458164,228.23574540173399,190.24180997990999,"..",174.05221729731099,183.55542161141,0.99274009510935801,0.47073176609865403,0.85504944514173498,2.6710908587803601,1.83344839928182,4.8780182375139596,13.5365544556486,0.75001279943285803,0.594980611779937,0.196314936457435,3323.4987770592802,351.03303122102898,235.077259973232,692.84558066407601,692.04311278072305,542.43828561930195,1.7572809421213,1.26111605648489,1.3598817835464201,55.263906068107602,215.61165852552199,187.56234786751699,173.56058833293099,141.29975983323001,1797.7018944515801,40.129131792637203,2234.6021125202801,646.87584784042997,6147.98007763036,12094.5915648596,1039.5836763561299,456.566737308244,868.79151665104496,6.12454912345589,79.617969721094497]
[2004,44.378607463438499,45.045805125056702,39.347772321431599,48.742244943827203,62.272564240708697,64.314829922181502,6.9330110683683399,5.0308097146969599,6.03050305367824,112.19209988792601,1.82279216074602,2.0864002527723802,0.93270042782904306,1.98245368121409,2.0945769176016502,2.02481545296809,1.82796867307253,777.114557331622,1162.16408848742,762.80522130306701,1519.0967544386101,587.20908631100497,773.23339495675395,360.47765693854302,727.10146772880296,305.65525830201699,116.42140196018001,131.49316929140599,129.10831979348899,279.52209831123599,265.12455404688802,241.26912672257001,266.179181514937,169.881958114013,184.510083049006,1.04908120117407,0.61696694384364603,1.0085414668335,3.1438395855232799,1.9631418683711801,5.4088032348298398,11.8991364871763,0.78762604369317601,0.534752073643329,0.18580897332840399,3222.7937445606799,389.64959008078398,231.99420880786499,689.67203359353198,683.66523079241995,546.67992847387097,1.6062381001480399,1.4190940974291899,1.5058615987037101,51.748831664913197,240.80113302711499,219.12395908111699,205.718757469434,147.660586716588,2017.66460052856,44.574561820459301,3370.59536644539,1042.6742720084201,10011.909286076499,16257.6490598936,1232.2728763776299,481.27775775566499,994.22442836214395,7.8303823041084097,85.026074182526798]
[2005,60.876160060699704,62.065503719135897,56.204935765095101,64.358040697868105,54.297098091451097,52.6735084324323,10.1656023677445,7.2136314213727397,6.8297658926273996,162.365231681795,1.7537557126082399,2.8871682762433601,1.27075707079081,1.87799235518806,2.1012867175176599,1.84805276768641,1.6846375803600999,703.47633872482095,996.78285836325199,771.44992317835397,1335.1470196814701,513.73084773624203,719.25948302677398,313.197215130399,620.942399557974,269.95438325235699,108.406433057435,112.505047391411,109.70432274039101,326.40446970851798,302.58390335791,248.353395800633,"..",154.74723627797999,173.709330369529,1.3369689990250699,0.68735774161791596,0.997298567021212,3.11798840289251,1.8578027954735501,5.0607248399736999,11.066755704693,0.75871064946831002,0.53505376420169404,0.24847884039497301,3180.7457404492802,381.24531157947303,231.596648935941,637.52439491128098,751.82414625657202,579.91338575967598,1.38757930498538,1.5807183405609,1.6966096240783901,50.168564152855701,258.57951647667699,229.72546587228601,247.82368037420801,176.73016917483301,2164.4407013771101,74.112651589445903,4194.6351709084001,1113.24975014143,8414.4402335074392,16810.983401850699,1574.95760215934,507.20712908819098,1022.21680012923,8.3329604993013398,87.704323898804304]
[2006,71.490056507315799,72.716754211097495,68.312508071720103,73.4409072391297,54.588771470186401,56.373105883730403,7.4722899938009402,9.4197659380290304,7.8675664352057497,140.850341303687,1.77023273658268,2.8046385918408201,1.65615072331623,2.0817937909367399,2.1236522373281002,1.95071943086664,2.1710097046154901,674.89788830467796,973.31224829028099,839.96929792461799,1133.6838892936901,565.24063077169205,643.38067045949197,298.74048640158497,666.47461900269104,252.831521882559,129.678729135993,135.50119821138699,136.71134520426,339.02971648183097,308.1679747252,244.10306390220501,"..",176.775991229917,213.55673034162601,0.99751372720788001,0.753111252815858,0.92207301735793101,2.9466877620032501,1.6971047178634899,4.48802222897306,10.679940197629,0.71796819021124803,0.54227357647131402,0.36237776440146402,3301.8152616246798,354.15546470817799,266.25084397485602,692.64145446616601,833.28753161266798,662.28099934740806,1.40843805422095,2.16407191340486,2.3116189013687598,48.929035074071102,255.62254648111801,224.22100997201201,247.023670130901,198.31086185324301,2857.78786535367,77.100297692475607,7475.1716982527996,1434.2012966186501,9764.4843344081492,26971.4736566846,3642.2014753083099,672.03566331101501,1268.5741961772501,12.8541393908191,89.926155162043798]
[2007,74.522447633877803,76.177709335418399,71.643359998011206,75.746273568203904,68.881192141628404,65.6512844728814,7.3163277539934297,8.9647129779944397,8.0513007653525008,136.91760337067501,2.04576652634394,2.85414013179847,2.0006164309655401,2.13361355433792,2.6429106825779001,2.0132486164672998,1.7446813639685399,962.88143046810603,1307.3001669678099,1222.3551188428701,1440.9968362320401,855.79913028891701,930.95217220516099,401.45078015736601,928.49137333783301,337.35561476950198,180.63683644852,171.50309558874099,170.48527089423899,342.06530552812097,321.180242986037,285.35835836246099,"..",250.014027265035,267.42834960071599,1.08667232325354,0.70817736934294495,1.0024978610533399,2.8244540249599801,1.8061350788549499,4.3169034196824603,10.143138203628,0.71352302512319998,0.47966773770105797,0.23279144221206299,3473.8201662716101,399.58362654026399,280.814688351472,796.22863277995702,844.91163969769502,671.40275984445805,1.4619733808786,2.2588963456405802,2.3714399077489001,54.512196342421902,410.73422684244798,355.29202666975499,321.81552729263001,204.775491266286,2764.5258928920198,128.87757304279299,7459.1295151955001,2703.54514878177,15233.027340865799,39012.803242542403,3397.63940462969,730.08732521408899,1367.43571636517,14.0333386421364,95.429714492810206]
[2008,94.317583667592203,94.945810736869404,91.192816293241194,96.814123972666195,123.601420650503,117.274875552857,8.6131149722985096,13.037204756107499,12.1814558611268,174.823643364551,2.5060959614738798,2.9966765184474302,2.2569537936355801,2.3537699977751898,2.7123890398886501,2.1924364393131301,2.1564845141237901,1190.2689175640601,1556.8730407630301,1170.36384170477,2085.6350966146601,1014.18237505635,1093.88128421587,507.48826798133803,1226.0653152326099,429.95385247569101,194.989705974891,216.96815770954399,202.10328867730999,632.26958483552596,"..",468.985780530623,"..",264.037750670653,317.04528613640599,1.15497946455744,0.82094767412013403,1.07679173535396,3.1462468276401601,1.81404288449206,4.4587124818797603,10.222483900738901,0.67772100354956299,0.45566907573825699,0.27436111302827199,3489.8420482921701,512.36665458853497,284.24184018346699,931.87016007636896,864.58997859316798,627.66734252403899,1.5305323894629801,2.4602699693867902,2.5149860350961601,236.05014796088099,837.87419682630798,855.14719653891598,500.78733274213801,443.40312949798903,2501.8880527196702,151.694457527677,6764.1891829471897,2033.0487597603101,17999.988625630202,20528.876123244299,1823.04530671675,847.68467719791397,1531.1090022988999,14.5832577597059,102.833904333566]
[2009,64.021949640347799,64.131095787980499,64.019873738237294,63.914879394825597,74.479158858261002,67.055691259766107,4.0951745176917296,9.02945226806332,9.2635683764296797,98.931011155256698,2.99469956556571,3.2874492653032599,1.70446358412668,2.82392055859837,3.25227129418758,2.6075263602960801,2.6119640213114401,751.97921227858001,1171.46082316557,1234.7896922167599,1402.2051710227599,768.32846449567705,724.65933105726106,439.15948833842202,884.35243387548098,439.11111010200699,133.028594139587,171.579946508381,156.594268326102,575.34825536687799,474.866946298225,338.32945281561001,"..",192.77371576381299,232.287979547503,1.1868938443991599,0.87821079921466405,0.94237985228495702,2.8298404383856601,1.95702571509764,4.4333432561341901,9.24532880164187,0.54358327159025999,0.56887748633832902,0.41469993475259098,4390.5308501487798,436.93021488492502,297.73638497534102,776.38603379335302,835.06825019113796,585.33192906564602,1.4327088542189601,1.8662099074001599,1.9911299433390499,230.91968917463899,299.04877255486701,266.857807654493,260.28787036989502,578.96222481336997,1725.8896101852699,82.912522141922807,5338.6129427339101,1782.32316852242,14071.719140253501,15192.1099398855,1715.8182116504199,1008.65089586615,1247.53735751217,15.180606804721901,96.462108015198098]
[2010,79.040771784717293,79.635629979923493,78.061154819415805,79.425530554812696,98.966041666666797,91.622708333333406,4.3852537698412704,8.2875000000000103,10.848333333333301,100,3.13300385383334,4.3200998646666697,1.73593615983334,2.8849352675938702,3.2896454696163402,2.8051186664986001,2.5600416666666699,1123.5833333333301,1240.65736285703,1138.9595756880699,1400.99166666667,933.02333333333399,1187.405,447.10166666666697,1000.85583333333,398.34583333333399,158.38666512309399,185.91420833333399,165.40389885642901,488.906944444445,441.50833333333401,383.65833333333399,429.18633333333401,229.677099142857,223.58210540486201,1.00224122918895,0.86832060132812605,1.03320325571745,3.4189063241666702,1.8922913007593101,5.3143171406666703,10.635638034999999,0.44179145550575699,0.79248467005961098,0.46934689633333398,4333.2250000000004,428.56080208333401,278.17198677422601,812.693675501955,848.271956662501,569.08783153161403,2.2833804789714298,3.3807708393876701,3.6538649060951198,105.3125,456.427083333334,381.88958333333397,288.90416666666698,332.145833333334,2173.1170000000002,145.863185425686,7534.7795833333403,2148.4492500000001,20405.623250000001,21808.852416666701,2160.74325,1224.66425,1609.75416666667,20.152958333333402,99.999999999999901]
[2011,93.705751267612797,99.949709344721896,95.529731767481593,85.637812690634604,109.417106395665,104.77578737291201,3.6024610877696599,9.4733360448235704,13.2039595039081,97.7276111228486,2.6848566945488499,5.3841134860359503,2.1690849466258801,2.6312259391397701,2.9407761109528301,2.5032958116933002,2.4496058947731898,1558.6933715849,1697.2086785679801,1299.20143062793,1681.22659628006,1075.14931391451,1489.82736888657,484.270061470933,1169.1078698930801,368.18678367393801,186.67104501626901,262.78851598760099,242.124539673774,489.23421568938102,455.90711258035299,413.13144915082199,462.75621141291799,257.58946354999802,284.93356221128499,1.0133151887692,0.87210069837449,0.80282401157405103,3.67343162527788,1.7354987821002901,5.9738567546769401,10.9119631120855,0.409580752543239,0.75602596922837195,0.51638416583873303,4040.7410752773699,436.782467453555,351.82627691762798,743.94872363878699,846.38106649085205,547.35532012988301,2.9987691525654099,4.0713353907276097,4.3453530449029198,147.349866500015,465.14170073626701,484.93787985830602,359.40378940223297,353.90808328017698,2163.49432875816,151.135672254177,7953.6269000676102,2162.9766662757602,23472.678885175399,20640.752031393,1976.5626149274201,1413.7576366471001,1549.14195446949,31.7346546900052,111.037828003177]
[2012,95.3115227885189,101.625041232306,98.8466397523094,85.462887380941595,87.464507443558503,84.338424881193305,2.4978783832768001,10.413719989993799,15.024559404505901,90.018256344104699,2.1709693118235802,3.7312918948733298,2.0574769234442098,2.6301628049809098,2.7797641587696802,2.49623863157889,2.6144856245941601,1008.242936277,2217.20505909437,1386.67516083494,2141.1888079658502,947.03510196916602,1005.1070208878,540.509734771171,1112.4126601426301,482.59135922542799,218.08965288171001,270.85683074902698,246.816132531509,510.98931949738602,493.57513104811102,476.578207429928,394.317534496186,268.08780728544201,284.31295334919901,0.99816236314297802,0.89310862200715802,0.787798219961383,3.8176170097380902,1.8870160245040299,5.5285924528591499,10.405603917239601,0.38133389220719099,0.57693545260141299,0.43108209361528599,3905.0120009616298,409.69948162962902,327.215573268654,689.19468715704295,795.40793777345198,553.97440601466803,1.7854445041259099,2.86431246627872,3.06535569110466,167.84824500868001,435.88606206664502,419.33224596546802,361.78814814888398,422.39554971034602,1836.4239945433201,116.628755878638,7226.9889112739202,1873.9597425391501,19174.914900620399,15926.952155220901,1770.28414930383,1515.33028753758,1407.6092491675199,28.2617302380099,110.227853812633]
[2013,94.8794037284284,99.235936270671004,96.115431704248195,89.286843210366101,77.088788486688998,73.147287921243603,3.3948675425200801,10.7442325766454,14.5456990132949,102.15755288500399,2.2233078580428098,2.8041419586927701,1.89239594239649,2.6090595331451998,3.1478827543688199,2.4924650527927699,2.1868307922740202,856.441368189542,1380.46941417976,1596.08260414448,1659.7199423669499,793.77338871470397,817.65182457337096,502.65885146653699,962.12046382021197,495.43272262053199,185.067381570756,236.465090208004,221.782223743765,461.18230009928101,431.16079374456598,432.09947723947801,357.72262227348801,252.276490815188,284.65222684120602,0.93165922508915899,0.84240725115161297,0.88183065114196801,3.7634666285414502,1.98158320522305,4.7160124828968799,12.9218902784707,0.39548860175544398,0.41068653453495602,0.35557358805691702,4183.2717270743597,422.56339623061803,278.44071782086002,682.96017959836399,777.42972398297502,510.72287737667602,1.8165870837309199,2.2944934268467598,2.5475750672754902,115.158831627818,374.65221800486302,347.10032272285099,309.60034530896002,360.09094543802001,1683.46525255753,123.398324955966,6684.1088429973297,1950.6810765058499,20313.502045248599,13703.326915690501,1741.43305935478,1286.72099920298,1355.16821013186,21.741913980782801,109.746792348043]
[2014,88.927426008728204,91.424712534301904,89.315533442859902,86.042032049022794,64.8047008468032,66.845345093725996,4.03769571240458,9.2883965684459895,14.8180670945034,103.22717868807,2.8297097835607401,4.0878713737771601,2.0481459268496098,2.5138992970929102,3.2669467629934501,2.3849862132293902,1.8897649150559099,1183.8424122122301,1162.7675624953299,1553.02575865786,1289.0572595291301,773.87621295101803,1034.66823754444,448.04000058218901,837.17468732726297,482.794097243365,134.82388047255299,178.23484572685399,194.41801626505901,390.72561920324102,353.14696288255101,392.86483041756202,376.28786864265498,226.59157013624099,263.25319994001001,0.96340292721498599,0.85733769932288195,0.72405152563136099,4.6669491361593796,2.14606918649736,5.9043963677849201,16.443194028453402,0.40105573303393999,0.492071795445576,0.34651293485732798,4611.7995273869501,429.84292798223601,260.62446915925699,729.50510967685602,829.75706099786396,478.04387176383199,1.6928390230414201,1.5837709519418699,1.80330577018912,102.07071506777601,396.96594781305203,352.99295199599101,285.01639694047998,274.100875355526,1725.6180586815501,89.590407872895696,6342.2276027405796,1936.34037399982,20235.987840309001,15610.582734518501,1996.87820323448,1169.47627671389,1278.5098239630499,17.6233117381977,108.24711509111199]
[2015,51.863717988552999,53.516339991340701,52.299440210174197,49.7753737641439,60.2293007855572,57.949636185009503,2.6709204469136401,6.9704936559801096,11.174039523689601,73.141863280718994,3.2036687819009502,3.6032522367510502,1.9836586185189999,2.8379392838692801,3.0401205169799201,2.4441221469855798,3.02957518764231,1127.66670875968,1333.4350314943599,1588.20494308654,1408.1216585357599,677.91196073716901,923.12280187564704,400.70576719981898,772.17272825103601,397.97987762703099,123.986486148678,173.46592803593001,206.04441925275501,394.44925027033599,380.73890284081898,394.48331324531699,359.53725563878902,210.894070053706,208.92436658086999,0.92317035794889102,0.97786029552827203,0.69046493461803204,4.6589506224841601,2.0345202319901698,5.3346757683295598,13.5044985564366,0.37049113448161902,0.55875116225972599,0.30274918495398001,5015.7340353374602,397.08444717224,251.40093504390899,748.61201744354798,851.48972801135506,461.12583650002699,1.5864012234039,1.3957133683248599,1.60572012482134,122.94817925497701,425.74354406539697,385.86538057533397,284.02134325650701,302.54521483790899,1701.1194472739201,57.076772451142702,5631.0764269788697,1826.9531862969,16418.318174316901,12122.299176115701,1973.9613221419299,1186.0693825119199,1076.25716377086,16.064780260146499,97.867946024006002]
[2016,45.528322217026698,46.842272615223798,43.814987615061,45.927706420795197,70.318796894881999,68.004022767122905,2.6503454796799901,4.8529677488449403,7.8402186212767404,60.566710127461697,3.0741777866085198,3.8401950715170101,2.07705211390219,2.8552901534796602,3.5111543239593002,2.4796776206064401,2.5750385158732501,1575.79400817022,1481.2377386727801,1585.21616687096,1468.23056645629,782.38302069195402,1383.8866488317301,431.17276408788098,866.70478312769501,398.43359846697598,110.509034994114,169.25949640509199,165.463163291076,421.30307057300598,409.78237238737501,404.466899486035,378.69066660701498,187.490093514428,177.205222245372,0.96271396250942998,1.0646721283024101,0.94612913308345803,4.3185709781390402,1.9701006605295199,4.9920729898104499,11.928039963687301,0.38439546821042397,0.64790287177455097,0.42331920640308801,5094.4490451546499,411.98681367481799,291.78583958296099,690.82416429340503,785.76040198582803,535.20083102735998,1.73993239698313,1.46875608753507,1.7070307122405,117.46459559692001,335.85161505940999,308.68824580846098,206.44648044874799,276.85123947624601,1705.96549076211,62.131125315109202,5176.7610365620403,1985.0907388186899,19071.6420456655,10203.984296882099,2222.5819560475002,1328.2354731422699,1049.71639105176,18.234695225951299,94.0323089848156]
[2017,54.258413950768002,55.889608575270302,54.577802714515698,52.307830562517999,90.954727246133203,87.492827053554393,3.0425761403138001,5.8744001923879603,8.8430006449271694,70.864953859381998,2.08526868802524,3.41467598066304,2.2867829403356801,3.2351385296080499,4.1631854405932804,2.4899125079110802,3.0523176403197998,1696.0827760218799,1527.6022061994599,1404.59129356882,1500.9996053627001,771.47884934676597,1323.9272209144301,404.205519004346,873.80313156620196,359.88177886198099,100.326062025615,158.78489125221901,167.50952154624201,409.89651797861097,395.25429851457397,390.35728956049098,373.24473073073801,183.08693888302901,178.99020576771699,0.923852385243636,1.1054948831949301,0.83438595717974395,4.5080043132706598,2.1829518796843601,5.5686607046453602,13.6848681416033,0.37890392971564502,0.63249073301479997,0.362844482294508,4754.7289662650001,406.10110056490601,272.73422532953902,634.27049637067898,721.43486860471501,500.25588717601602,1.8937155759771001,1.7127372303245401,2.0503645481414701,92.156074258299498,331.91813663117603,290.99912712020199,219.76173248216099,224.23574398506099,2021.8122201865999,73.735134648368799,6339.76249543417,2378.3742396999201,20613.3362556838,10696.1515937203,2970.4353806737399,1292.1724426206399,974.55872688165402,17.5358987889934,97.285144477110606]
[2018,67.152391380753798,69.828923897472094,67.942496574584695,63.685753670204598,105.151129251936,95.935964530105807,3.10447477750543,7.5473595753779303,10.4833048353729,80.681111206388593,2.25366002936142,2.8748087984187198,1.83657509546358,2.79768096450585,3.5419638015672499,2.3175433338875102,2.53353575806279,979.34070970545997,1296.79023887325,1498.4349094812001,1420.76388449926,627.48844475074395,910.27650938419401,387.52735667036302,775.319173421149,398.14014788532302,123.684131091552,161.539631960245,165.64121796946799,413.31098636873497,400.94768229946402,394.05698249502802,399.04242345382198,200.32574123893599,206.25806742257899,0.93099946890232099,1.1270899771998899,0.77604255161136904,4.1216892445231101,2.2038025692059802,5.7669105554745803,12.0231354508912,0.37910548441852798,0.54947793997804995,0.27079491657799398,4780.8719437467398,406.31712257007803,264.98795735556303,628.80144393738601,715.21423380271597,486.04749014428302,1.9793552441192199,1.3439157151854999,1.5379540881243401,86.363000875939207,386.54566120155198,340.67289053340397,245.08776545983301,211.73181670949799,2071.6066925130399,68.532005112986994,6415.6197859086797,2201.2592703923201,19792.951411036898,12884.754665676401,2871.2791186650702,1247.03326194652,864.16629777696699,15.438982992199,101.858304838056]
[2019,61.729715344227401,64.367651448923695,63.509002827992099,57.312491755766203,78.2945132274494,72.319156531736695,2.5793469490398402,4.8275500003268403,10.619734544414801,61.466818822939501,2.3531043464549599,2.8948771159600901,1.63028330267738,2.57626129243822,3.1171039204748299,2.3888690463899498,2.2228109104498599,739.51091535089904,1344.8255225748201,1455.5870061451501,1414.7588924993299,604.52213737475404,668.88141176396095,370.88259106029199,769.45639071913695,348.84338465239802,128.73897693662099,170.96247404507599,162.35423974893101,420.19331537494702,412.57019103301701,395.55805816093903,353.73056129094999,212.38439547113501,202.75044064822799,0.88031538558539402,1.1465310142661,0.56294458792305702,4.7886559385576097,2.0088820872130499,"..",12.667176601227901,0.367587003495005,0.57975478264115998,0.28149281336061899,4603.3869865388097,393.97186190363698,274.53654271829299,615.02030773475997,699.53923040518396,503.561742475968,1.72594875164786,1.4178424881809399,1.6489990739954601,88.419865306669905,307.96249553036301,296.09387732415797,246.56870028076401,256.84065090502099,1803.90431144736,94.341608820197607,6041.6812283113804,2006.9835062104,18759.074852865899,13986.9169196326,2563.79242455842,1399.8050031995699,868.52266121938806,16.302679684695701,99.478022306711495]
[2020,41.6789328183458,42.731793935000098,42.595415869250097,39.709588650787097,61.405486863805699,66.326882989574202,2.0349375273715302,3.27511827857357,8.3982093453300397,45.9705644321539,2.39405548992768,3.3575572606766699,1.53135226625371,2.7268543342095102,3.4389160406713,2.7136967058555901,2.0279502561016201,1020.7178086082901,1857.4414747979099,1447.3244396458999,1689.4872949727101,759.440107205152,832.48439399510005,410.79077824529202,846.30805042240002,398.20273932490397,98.596658802739299,167.15505993357499,173.325966411065,501.82077156527902,486.75183713981602,479.46150350157501,432.32857050644498,230.063531253528,233.92928400797001,0.90627549705765298,1.22874636082049,0.60914041291966503,4.7149525419029796,1.6483505414711199,"..",12.802439756935099,0.37651568748540998,0.60072972275333103,0.28601846754052102,4380.5455512814297,403.54143379438301,281.783771810519,621.44767135837003,706.84987193400502,516.85479000133398,1.60202635128351,1.34413211395306,1.74566449679736,76.8279940523242,315.61335958189397,267.74297482382002,231.439470457135,220.01486101088,1721.38078269474,110.03016018306499,6236.7920343242004,1843.5090242536901,17299.405267363501,13927.9955273985,2289.5848405237002,1788.32473433984,892.41091923292799,20.746218608249599,98.989525373877598]
[2021,68.678530223994798,70.043516495548801,68.414481888178202,67.577592288257406,137.26646645829501,119.160049351878,3.8295488069880399,16.024408691392399,10.7005688863996,129.932808133745,2.4127593454001501,4.4863300355428199,1.9699371243652699,2.67364220523327,3.1080919696068201,2.8148070995841699,2.0997642922369102,1627.0260723307599,1546.20905229247,1472.4840501608301,"..",1124.1598268274599,1524.3803199951301,580.01172314827204,1377.54348236942,478.245119194339,"..",258.07257042933998,"..",455.64909999647801,445.70585722514198,433.61487401519702,443.81415528789501,280.06197903982599,313.44829931290701,0.91851812368374797,1.1986373599837701,0.64888573399634697,5.3553269937080197,2.2431558839914598,"..",13.621297376329199,0.38428206762248202,0.73594518564238598,0.38734534009385602,4131.1588102981004,411.86527335824599,269.81071619163703,655.59973826428597,745.69527313401602,494.893514134344,2.2180471229105798,1.66977704462612,2.0592621500149999,122.514008599889,597.552432000473,535.13455410697395,480.46494814303998,209.01524908912799,2458.8131315027199,160.79217885527601,9264.1690062677208,2187.8763380550999,32200.344882129299,18360.163804526001,2985.4793571827799,1789.4149702544,1084.9403629230601,25.021756132285201,100.57081205768699]

{"sheet":"Annual Nominal","index":7,"n_rows":71,"n_cols":70,"rows_kept":71,"cut":false,"hidden":false,"merged":[]}
["World Bank Commodity Price Data (The Pink Sheet)"]
["annual prices, 1960 to present, nominal US dollars"]
["(annual series are available in nominal and real dollars)"]
["Updated on March 02, 2022"]
[]
[]
[null,"Crude oil, average","Crude oil, Brent","Crude oil, Dubai","Crude oil, WTI","Coal, Australian","Coal, South Afican","Natural gas, US","Natural gas, Europe","Liquefied natural gas, Japan","Natural gas index","Cocoa","Coffee, Arabica","Coffee, Robusta","Tea, avg 3 auctions","Tea, Colombo","Tea, Kolkata","Tea, Mombasa","Coconut oil","Groundnuts","Fish meal","Groundnut oil","Palm oil","Palm kernel oil","Soybeans","Soybean oil","Soybean meal","Barley","Maize","Sorghum","Rice, Thai 5% ","Rice, Thai 25% ","Rice, Thai A.1","Rice, Viet Namese 5%","Wheat, US SRW","Wheat, US HRW","Banana, Europe","Banana, US","Orange","Beef","Meat, chicken","Meat, sheep","Shrimps, Mexican","Sugar, EU","Sugar, US","Sugar, world","Tobacco, US import u.v.","Logs, Cameroon","Logs, Malaysian","Sawnwood, Cameroon","Sawnwood, Malaysian","Plywood","Cotton, A Index","Rubber, TSR20","Rubber, SGP/MYS","Phosphate rock","DAP","TSP","Urea ","Potassium chloride","Aluminum","Iron ore, cfr spot","Copper","Lead","Tin","Nickel","Zinc","Gold","Platinum","Silver"]
[null,"($/bbl)","($/bbl)","($/bbl)","($/bbl)","($/mt)","($/mt)","($/mmbtu)","($/mmbtu)","($/mmbtu)","(2010=100)","($/kg)","($/kg)","($/kg)","($/kg)","($/kg)","($/kg)","($/kg)","($/mt)","($/mt)","($/mt)","($/mt)","($/mt)","($/mt)","($/mt)","($/mt)","($/mt)","($/mt)","($/mt)","($/mt)","($/mt)","($/mt)","($/mt)","($/mt)","($/mt)","($/mt)","($/kg)","($/kg)","($/kg)","($/kg)","($/kg)","($/kg)","($/kg)","($/kg)","($/kg)","($/kg)","($/mt)","($/cubic meter)","($/cubic meter)","($/cubic meter)","($/cubic meter)","(¢/sheet)","($/kg)","($/kg)","($/kg)","($/mt)","($/mt)","($/mt)","($/mt)","($/mt)","($/mt)","($/dmtu)","($/mt)","($/mt)","($/mt)","($/mt)","($/mt)","($/troy oz)","($/troy oz)","($/troy oz)"]
[null,"CRUDE_PETRO","CRUDE_BRENT","CRUDE_DUBAI","CRUDE_WTI","COAL_AUS","COAL_SAFRICA","NGAS_US","NGAS_EUR","NGAS_JP","iNATGAS","COCOA","COFFEE_ARABIC","COFFEE_ROBUS","TEA_AVG","TEA_COLOMBO","TEA_KOLKATA","TEA_MOMBASA","COCONUT_OIL","GRNUT","FISH_MEAL","GRNUT_OIL","PALM_OIL","PLMKRNL_OIL","SOYBEANS","SOYBEAN_OIL","SOYBEAN_MEAL","BARLEY","MAIZE","SORGHUM","RICE_05","RICE_25","RICE_A1","RICE_05_VNM","WHEAT_US_SRW","WHEAT_US_HRW","BANANA_EU","BANANA_US","ORANGE","BEEF","CHICKEN","LAMB","SHRIMP_MEX","SUGAR_EU","SUGAR_US","SUGAR_WLD","TOBAC_US","LOGS_CMR","LOGS_MYS","SAWNWD_CMR","SAWNWD_MYS","PLYWOOD","COTTON_A_INDX","RUBBER_TSR20","RUBBER1_MYSG","PHOSROCK","DAP","TSP","UREA_EE_BULK","POTASH","ALUMINUM","IRON_ORE","COPPER","LEAD","Tin","NICKEL","Zinc","GOLD","PLATINUM","SILVER"]
[1960,1.63000011444092,"..",1.63000011444092,"..","..","..",0.14000000000000001,0.40477399635468603,"..",3.6243566190447098,0.58901666666666697,0.92351666666666699,0.69594573333333298,1.0297000000000001,0.93030089999999999,1.1214010000000001,1.0374000000000001,312.33333333333297,"..","..",327,224.416666666667,"..",91.8333333333333,223.916666666667,81.008333333333297,20.153697388323401,44.5,36.575000000000003,107.349166666667,"..","..","..","..",57.993333333333297,"..",0.14286750000000001,0.12998333333333301,0.73653333333333304,0.30013023264266597,"..",1.6056982333333301,0.12235641,0.12584705833333301,6.62083333333333E-2,1736.87,"..",31.94,"..",149.17497836620501,"..",0.65454166666666702,"..",0.780233333333333,13,1E-10,53,42.25,28.5,511.47183227539102,11.42,678.75583333333304,198.85,2196.7333333333299,1631,246.191666666667,35.270000000000003,83.5,0.91369999999999996]
[1961,1.57,"..",1.57,"..","..","..",0.15,0.40477399635468603,"..",3.7457903487814201,0.47855833333333297,0.89554166666666701,0.66943580833333305,0.95179999999999998,0.89250090000000004,0.97860100000000005,0.98419959999999995,253.416666666667,"..","..",330.25,228.416666666667,"..",109.333333333333,287.33333333333297,96.908333333333303,20.748039769067301,44.956666666666699,41.4166666666667,118.95,"..","..","..","..",58.605833333333301,"..",0.134921666666667,0.13300833333333301,0.68194999999999995,0.31227945619453801,"..",1.6938830333333299,0.124340568,0.12566334000000001,5.9450000000000003E-2,1563.19,"..",33.06,"..",151.97728078765201,"..",0.67218333333333302,"..",0.601308333333333,13,1E-10,52,42.25,30,511.47183227539102,11.02,633.08416666666699,176.97499999999999,2449.8916666666701,1711,214.308333333333,35.25,83.5,0.92444166666666605]
[1962,1.52,"..",1.52,"..","..","..",0.16,0.40477399635468603,"..",3.86722407851813,0.45796666666666702,0.83259166666666595,0.68220393333333296,0.97299999999999998,0.86100089999999996,1.1046009999999999,0.95339960000000001,251.21666666666701,"..","..",274.33999999999997,216.23583333333301,"..",100.54,227,89.008333333333397,22.702439204122498,48.6533333333333,44.7008333333333,134.925833333333,"..","..","..","..",64.332499999999996,"..",0.13139000000000001,0.108008333333333,0.71412500000000001,0.31956187706611699,"..",2.2523867666666701,0.126324726,0.128419115,6.1683333333333298E-2,1404.9,"..",36.39,"..",160.060968785033,"..",0.64932500000000004,"..",0.56363333333333299,11.5,1E-10,51,42.25,30,498.06039174397802,11.01,645.14333333333298,155.28333333333299,2471.38333333333,1761,185.92500000000001,35.229999999999997,83.5,1.083725]
[1963,1.5,"..",1.5,"..","..","..",0.16,0.391351137946851,"..",3.8034121802566898,0.55234166666666695,0.80574166666666702,0.62350728333333305,0.95289999999999997,0.81480079999999999,1.083601,0.96039960000000002,286.33333333333297,"..","..",268.50333333333299,222.393333333333,"..",110.09333333333301,223.583333333333,91.016666666666694,23.977474100333801,53.7708333333333,47.84,125.663333333333,"..","..","..","..",64.486666666666693,"..",0.14408333333333301,9.4008333333333305E-2,0.66634166666666705,0.32802898679500397,"..",1.9970182833333301,0.12676565000000001,0.165897655,0.183233333333333,1343.61,"..",35.485833333333296,"..",157.84746193132401,"..",0.64559166666666701,"..",0.52138333333333298,11.5,1E-10,52,42.25,30,498.79526519775402,11.02,645.95083333333298,174.808333333333,2507.7333333333299,1741.6666666666699,211.50833333333301,35.090000000000003,80.930833333333396,1.27910833333333]
[1964,1.45,"..",1.45,"..","..","..",0.15,0.38414980235889501,"..",3.6477434999660199,0.50574166666666698,1.00975833333333,0.78706794166666605,0.92700000000000005,0.81900079999999997,1.039501,0.92259959999999996,296.47500000000002,"..","..",315.37583333333299,239.45249999999999,"..",110.505833333333,233,89.008333333333397,25.1433833223854,54.631666666666703,48.234999999999999,120.14749999999999,"..","..","..","..",67.526666666666699,"..",0.170408333333333,8.4000000000000005E-2,0.84088333333333298,0.33763147780740999,"..",1.81329995,0.12658193166666701,0.13870734166666701,0.12632499999999999,1488.3,"..",30.254999999999999,"..",144.83399269970599,"..",0.65035833333333304,"..",0.49050833333333299,12.5,1E-10,53,60.5,32.5,525.98563130696596,10.24,969.75333333333299,277.88333333333298,3412.74166666667,1741.6666666666699,326.49166666666702,35.1,88.480833333333393,1.2929999999999999]
[1965,1.42,"..",1.42,"..","..","..",0.16,0.41076610521566898,"..",3.8957103985992001,0.36530833333333301,1.0003500000000001,0.67825407500000001,1.0003,0.84630090000000002,1.142401,1.0122,350.13333333333298,"..","..",323.91750000000002,272.52166666666699,"..",116.868333333333,270,97.025000000000006,24.344802165836899,55.672499999999999,47.9316666666667,118.789166666667,"..","..","..","..",59.461666666666702,"..",0.15940833333333301,9.6000000000000002E-2,0.88161666666666705,0.35023987828688802,"..",1.98783236666667,0.12456103,0.13613528499999999,4.4216666666666703E-2,1265.4100000000001,"..",35.024999999999999,"..",156.749313066144,"..",0.63792499999999996,"..",0.50485833333333296,14,1E-10,54,65.75,29.5,540.1318359375,10.661666666666701,1292.8441666666699,317.17500000000001,3890.7833333333301,1735,311.25,35.119999999999997,98.0416666666667,1.2929999999999999]
[1966,1.36,"..",1.36,"..","..","..",0.16,0.424928665138044,"..",3.9630388174373699,0.51763333333333295,0.92872500000000002,0.73913689999999999,0.87432500000000002,0.76020080000000001,0.94869484166666596,0.9141996,323.70833333333297,"..","..",296.30500000000001,235.64,"..",125.66249999999999,261.5,107.035833333333,25.911773800935201,58.296666666666702,48.5758333333333,145.20249999999999,"..","..","..","..",62.954166666666701,"..",0.15379166666666699,8.4025000000000002E-2,1.0223500000000001,0.363625162165436,"..",2.314851,0.13095442800000001,0.140911961666667,3.98083333333333E-2,1581.22,"..",36.825000000000003,"..",161.090318372658,"..",0.62280000000000002,"..",0.47155833333333302,13,1E-10,50,59.25,27.5,540.1318359375,9.52,1531.5133333333299,260.64999999999998,3573.50833333333,1739,281.10833333333301,35.130000000000003,99.720833333333303,1.2929999999999999]
[1967,1.33,"..",1.33,"..","..","..",0.16,0.45664737627884,"..",4.1138286944369602,0.59811666666666696,0.86420833333333302,0.73911853333333299,0.83614166666666601,0.71862073333333298,0.79866669999999995,0.99119959999999996,326.35833333333301,"..","..",282.95333333333298,223.45083333333301,"..",114.72499999999999,216.833333333333,98.891666666666694,26.250324115509901,54.102499999999999,51.897500000000001,189.37333333333299,"..","..","..","..",65.709999999999994,"..",0.15862499999999999,0.159008333333333,1.0411333333333299,0.37215391673575099,"..",2.2928047999999999,0.12941119400000001,0.147158385,4.2058333333333302E-2,1299.43,"..",39.329166666666701,"..",166.88483616584401,"..",0.67653333333333299,"..",0.390125,12,68.5,45,49.25,25.5,540.1318359375,8.86,1134.7725,227.67500000000001,3308.0250000000001,1935.7,273.33333333333297,34.950000000000003,110.24833333333299,1.54918333333333]
[1968,1.32,"..",1.32,"..","..","..",0.16,0.451801877372704,"..",4.0907933264229603,0.72088333333333299,0.86699999999999999,0.74630177499999995,0.74870000000000003,0.67704129999999996,0.73333340000000002,0.83579970000000003,399.26666666666699,"..","..",270.73416666666702,168.830833333333,"..",110.800833333333,178.083333333333,96.4166666666667,25.163887740044501,47.963333333333303,52.566666666666698,182.91333333333299,"..","..","..","..",62.771666666666697,"..",0.15308333333333299,0.16800833333333301,1.08520833333333,0.38389968662763002,"..",2.5794054000000002,0.112215158,0.15285365333333301,4.1933333333333302E-2,1204.4691666666699,"..",40.048333333333296,"..",168.53413884917799,"..",0.684516666666667,"..",0.38211666666666699,11.5,60.5,37.5,35.5,24,552.99208577473996,8.77,1241.9525000000001,240.49166666666699,3126.88333333333,2074.5,262.89166666666699,38.924999999999997,117.208333333333,2.1446333333333301]
[1969,1.27,"..",1.27,"..","..","..",0.17,0.45181991823558199,"..",4.2123128219236801,0.89771666666666705,0.87672499999999998,0.72973077500000005,0.72619999999999996,0.59640110000000002,0.86266670000000001,0.71959969999999995,361.26666666666699,"..","..",331.52499999999998,181.11416666666699,"..",106.746666666667,197.166666666667,94.6666666666667,25.5674891904318,52.286666666666697,53.758333333333297,168.370833333333,"..","..","..","..",58.394166666666699,"..",0.159508333333333,0.17003333333333301,1.2228666666666701,0.40068749638744799,"..",2.8660060000000001,0.112215158,0.15744661166666701,7.0591666666666594E-2,1112.3824999999999,"..",38.89,"..",165.908111728573,"..",0.62699166666666695,"..",0.50219999999999998,11.25,58,39.25,26.6,22,588.44986979166697,9.84,1467.34,289.89166666666699,3427.45,2363.4,286.40833333333302,41.0833333333333,124.1875,1.79066666666667]
[1970,1.21,"..",1.21,"..",7.8,"..",0.17,0.44721801013673601,"..",4.1904354778819197,0.67500000000000004,1.1466166666666699,0.91355507499999999,0.83499999999999996,0.62664120000000001,0.99066670000000001,0.88759960000000004,397.183333333333,"..","..",378.54583333333301,260.04583333333301,"..",116.916666666667,286.33333333333297,102.583333333333,26.358665507809999,58.4,51.8,126.308333333333,"..","..","..","..",54.902500000000003,"..",0.166083333333333,0.16804166666666701,1.30429166666667,0.41997203448532899,"..",2.7337288000000002,0.112215158,0.16534650000000001,8.2241666666666699E-2,1075.9775,42.99,43.131666666666703,175,175.406404421855,"..",0.67628333333333301,"..",0.40716666666666701,11,54,42.5,18.25,31.5,614.17045084635402,9.84,1415.7,302.90833333333302,3673.45,2846.2,295.816666666667,35.941666666666698,132.5,1.7708333333333299]
[1971,1.69,"..",1.69,"..",8.68,"..",0.18,0.50224354378996605,"..",4.5734590753335196,0.53800000000000003,0.99187499999999995,0.93157740833333302,0.85069166666666596,0.67673282499999998,0.97380937499999998,0.90159959999999995,365.52666666666698,"..","..",440.61500000000001,260.941666666667,"..",125.583333333333,303.75,102.25,28.3829506028842,58.4,55.77,111.53749999999999,"..","..","..","..",61.728333333333303,"..",0.14016666666666699,0.153008333333333,1.34585833333333,0.44006712097977302,0.79675833333333301,3.3069299999999999,0.113831879333333,0.17489985333333299,9.9099999999999994E-2,1042.6466666666699,44.43,43.265000000000001,"..",175.72387991557801,"..",0.78320000000000001,"..",0.33255000000000001,11.25,61.75,43.25,16,32.5,627.94932047526004,10.33,1081.4166666666699,253.625,3511.9666666666699,2932.1,309.28333333333302,40.804166666666703,123.041666666667,1.5456416666666699]
[1972,1.82,"..",1.82,"..",9.6,"..",0.19,0.54216598654527204,"..",4.8846829956575499,0.64400000000000002,1.1095916666666701,0.99607937499999999,0.78224166666666695,0.699631591666667,0.83648714166666704,0.81059970000000003,234.06,"..","..",425.93416666666701,217.25833333333301,"..",140,240.583333333333,129.833333333333,30.066429758987599,55.752499999999998,56.238333333333301,129.449166666667,"..","..","..","..",69.8125,"..",0.1361,0.154983333333333,1.48026666666667,0.47262380014537397,1.0681,4.1226393999999997,0.15002439100000001,0.18812757333333299,0.160275,1073.6424999999999,52.48,41.115833333333299,"..",170.928573831276,"..",0.82699166666666701,"..",0.33177499999999999,11.5,91,67.5,29.25,33.5,590.10331217447902,10.33,1057.675,301.65833333333302,3739.9583333333298,3079.9,377.691666666667,58.1591666666667,127.125,1.6845666666666701]
[1973,2.8075000000000001,"..",2.8075000000000001,"..",11.48,"..",0.21,0.69350672431226301,"..",5.8470201439091101,1.131,1.3734500000000001,1.0998595,0.78825833333333295,0.66159353333333304,0.86592464166666705,0.83724385833333403,513,"..","..",546.16833333333295,377.53833333333301,"..",290.33333333333297,436,301.66666666666703,51.029191345616198,97.821666666666701,93.391666666666694,289.58,"..","..","..","..",139.81,"..",0.14508333333333301,0.16300000000000001,2.010875,0.52907754398856999,1.3910499999999999,5.0044874000000004,0.14704815399999999,0.22685539800000001,0.20857500000000001,1128.0208333333301,133.47,68.029166666666697,"..",223.52884858539201,"..",1.3905749999999999,"..",0.67800833333333299,13.75,118.75,99.5,64.75,42.5,599.10548909505201,10.33,1785.3583333333299,429.683333333333,4802.2,3373.1,845.33333333333303,97.325833333333307,152.18416666666701,2.55755833333333]
[1974,10.974999427795399,"..",10.974999427795399,"..",16.89,"..",0.28999999999999998,1.73,"..",11.7459503965117,1.5609999999999999,1.45153333333333,1.2935493333333301,1.0937749999999999,0.88988659999999997,1.25462845,1.1368,997.58333333333405,"..","..",1076.8875,669.05333333333294,"..",276.91666666666703,832.16666666666595,184.333333333333,64.933098524967605,131.22583333333299,120.9425,517.16499999999996,"..","..","..","..",179.705833333333,"..",0.183995833333333,0.183975,1.582225,0.55890230478756697,1.4235916666666699,4.6517482000000001,0.234700170833333,0.64997709150000005,0.65481666666666705,1482.0725,120.43,81.663333333333298,"..",246.83365396770299,"..",1.4587416666666699,"..",0.75160000000000005,54.5208333333333,332.620833333333,303.58333333333297,285.75,60.5,764.81943766276004,13.38,2058.5,592.25833333333298,8184.2666666666701,3825.25,1239.5833333333301,159.245,184.97749999999999,4.7079800000000001]
[1975,10.432500123977601,"..",10.432500123977601,"..",26.84,"..",0.43,1.6820935907694801,"..",13.218276866055,1.246,1.4421250000000001,1.3458526666666699,1.14215,0.88141170000000002,1.44858316666667,1.0964731166666699,393.5,"..","..",857.5,434.16916666666702,"..",219.916666666667,563.33333333333303,155,58.978615120559297,119.63500000000001,111.87333333333299,341.428333333333,"..","..","..","..",149.05500000000001,"..",0.21766666666666701,0.22800833333333301,1.3270916666666699,0.58063009308283897,1.47759166666667,5.8863354000000001,0.34041169983333303,0.49545160133333299,0.451091666666667,1841.9891666666699,126.57,67.510000000000005,"..",223.43818486601401,"..",1.2228749999999999,"..",0.56090833333333301,67.1666666666667,242.5,202.5,168,81.3333333333333,868.43656412760402,17.3,1234.75,411.67500000000001,6876.5749999999998,4571.3333333333303,745.16666666666595,161.02916666666701,169.87416666666701,4.4185150000000002]
[1976,11.6300001144409,"..",11.6300001144409,"..",27.16,"..",0.58083333333333298,1.73511329971173,"..",15.301956522004099,2.04575,3.1466583333333298,2.81339766666667,1.1871166666666699,0.92756736666666595,1.4182170833333301,1.21553025,418.5,"..","..",712.83333333333405,406.53416666666698,"..",231.166666666667,438.33333333333297,200,55.7940304411336,112.371666666667,105.213333333333,234.680833333333,"..","..","..","..",132.91999999999999,"..",0.258583333333333,0.216,1.581,0.61029466647976505,1.5660833333333299,8.3114173999999998,0.295216989833333,0.29343492199999999,0.25482500000000002,2186.7150000000001,142.33916666666701,92.017499999999998,"..",263.54774328822401,"..",1.7475083333333301,"..",0.77373333333333405,35.8333333333333,119.916666666667,90.9166666666667,82,55.5,889.931640625,22.72,1400.75,446.41666666666703,7585.5416666666697,4973.0833333333303,711.41666666666595,124.815833333333,159.64750000000001,4.3556249999999999]
[1977,12.5650000572204,"..",12.5650000572204,"..",28.678518518518501,"..",0.79,1.7916226068158201,2.7711628728192399,19.9880355208001,3.7900666666666698,5.1688666666666698,4.93285208333333,1.95444166666667,1.6958341166666699,2.0673815000000002,2.1001298333333298,578.16666666666697,"..","..",852.75,530.02499999999998,"..",280.16666666666703,580.25,229.833333333333,47.886441121611099,95.35,88.366666666666703,252.22499999999999,"..","..","..","..",103.21833333333301,"..",0.27374999999999999,0.254,1.50646666666667,0.651783917501643,1.7006250000000001,7.9145858000000002,0.30892237750000001,0.24260005916666699,0.178933333333333,2253.92583333333,158.77000000000001,92.566666666666606,"..",264.98374892297602,"..",1.6285416666666701,"..",0.81468333333333298,61.787500000000001,134.083333333333,97.9166666666667,120.763194444444,55.293750000000003,1143.83034261068,23.06,1308.75,618,10804.45,5118.1666666666697,589.66666666666697,147.72083333333299,158.321666666667,4.63608333333333]
[1978,12.9166666666667,"..",12.9166666666667,"..",29.058657407407399,"..",0.90583333333333405,2.30221809927454,3.0360808420402701,24.001480121918998,3.4031583333333302,3.5899916666666698,3.2512418333333302,1.4094833333333301,0.745656758333333,1.8749519166666699,1.6077982500000001,683.20833333333303,"..","..",1079.1666666666699,600.33333333333303,"..",268.33333333333297,607,213.291666666667,54.960060524094303,100.74250000000001,93.838333333333395,345.65750000000003,"..","..","..","..",127.745,"..",0.28725000000000001,0.30014999999999997,2.1382750000000001,0.69505797034226702,2.19414166666667,8.0689092000000002,0.35119596600000003,0.30805890133333302,0.17230833333333301,2268.0174999999999,191.28083333333299,97.358333333333306,"..",272.28210517459399,"..",1.60666666666667,"..",0.98562499999999997,31.28125,139.833333333333,98.0416666666667,136.035416666667,59.0104166666667,1324.92150878906,21.45,1364.8333333333301,661.91666666666697,12875.208333333299,4609.25,593.91666666666697,193.23916666666699,260.65083333333303,5.4187666666666701]
[1979,30.9645832777023,32.112500031789203,29.816666523615499,"..",30.89,"..",1.18,3.2594885748471798,3.6924229155722199,32.326293497727598,3.2928333333333302,3.8261333333333298,3.6519416666666702,1.50539166666667,0.782832641666667,2.1025033333333298,1.6308335,984.5,"..",394.875,888.66666666666595,653.83333333333303,"..",297.75,662.18333333333305,243.02500000000001,65.247045232138404,115.52249999999999,108.10833333333299,313.069166666667,"..","..","..",156.31,160.29333333333301,"..",0.325616666666667,0.39845833333333303,2.8840166666666698,0.74055755522489897,2.37096666666667,11.9710866,0.42530794166666702,0.34232237049999997,0.21295,2344.4333333333302,211.52500000000001,170.041666666667,"..",365.93189303776001,262.5,1.7073499999999999,"..",1.2621,35.4791666666667,193.333333333333,146.22499999999999,153.00208333333299,76.46875,1602.8682250976599,23.5,1985.25833333333,1208.25,15447.4083333333,5986,741.66666666666595,306.66750000000002,442.79833333333301,11.099575]
[1980,36.8687499364217,37.891667048136398,35.845832824707003,"..",40.140833333333298,"..",1.5891666666666699,4.22,5.69622732831838,43.218767379808597,2.6034916666666699,3.4662833333333301,3.2432166666666702,1.6592916666666699,1.1113645000000001,2.0493532499999998,1.8171269999999999,673.83333333333303,1236.5833333333301,504.42500000000001,858.75,583.69166666666695,"..",296.22916666666703,597.60833333333301,262.41666666666703,78.228711504166696,125.2625,128.86083333333301,410.74250000000001,"..","..","..",168.30166666666699,172.726666666667,"..",0.37726666666666703,0.400175,2.7599666666666698,0.75712162350000001,2.8794166666666698,10.141252,0.48689032700000001,0.66208412966666697,0.63160833333333299,2275.86,251.691666666667,195.51333333333301,396,396.201340671384,273.78333333333302,2.0618416666666701,"..",1.4245416666666699,44.6666666666667,222.208333333333,180.25,200.5625,106.5,1774.91284179688,28.09,2182.0916666666699,905.75,16774.883333333299,6518.6750000000002,761.21666666666704,607.86416666666696,679.1,20.804366666666699]
[1981,35.484999656677203,36.675833066304499,34.294166247050001,"..",53.62,"..",1.9833333333333301,4.5999999999999996,6.0303414353367897,50.038150067575103,2.0795499999999998,2.8685499999999999,2.2402166666666701,1.4702,0.97327289166666597,1.8130886666666699,1.6242095000000001,569.91666666666697,1257.4166666666699,467.48333333333301,1042.75,570.66666666666697,"..",288.41666666666703,506.85,252.583333333333,79.725833333333398,130.78083333333299,126.371666666667,458.98916666666702,"..","..","..",154.58666666666701,174.96,"..",0.40127499999999999,0.40572750000000002,2.4743583333333299,0.77395022283333303,2.7386583333333299,10.1632982,0.41727945049999998,0.434971526,0.37408333333333299,2321.6866666666701,212.79,154.56333333333299,"..",349.406410968324,244.694166666667,1.8710583333333299,"..",1.12283333333333,48.9583333333333,177.625,161.333333333333,182.5,110.166666666667,1262.7302856445301,28.09,1741.95,726.72500000000002,14159.125,5953.0833333333303,845.65,459.754166666667,447.48166666666702,10.5231833333333]
[1982,32.6472221268548,33.4183328946432,31.756666819254601,32.766666666666701,54.767499999999998,"..",2.4649999999999999,4.45,6.0516223988852804,55.188529918454101,1.7356166666666699,3.0875583333333299,2.4236499999999999,1.5432999999999999,1.1449704333333299,1.8463989999999999,1.63854091666667,464.41666666666703,827.5,352.91666666666703,584.91666666666697,445.08333333333297,"..",244.604166666667,447.25,218.52916666666701,63.712499999999999,109.2625,108.529166666667,272.48166666666702,"..","..","..",132.55166666666699,160.35499999999999,"..",0.37426666666666702,0.384566666666667,2.3896250000000001,0.75978553933333404,2.3769166666666699,13.283333333333299,0.39945877216666698,0.43925216316666699,0.18564166666666701,2563.9566666666701,175.91749999999999,146.45416666666699,"..",339.38347994980103,232.446666666667,1.5972666666666699,"..",0.85767499999999997,42.960416666666703,166.625,138.416666666667,123.958333333333,83.25,991.56666666666604,32.5,1480.44166666667,545.6,12825.8,4837.4916666666704,744.78333333333296,375.79666666666702,328.29166666666703,7.9298916666666699]
[1983,29.6577778392368,29.829167048136402,28.7291666666667,30.4149998029073,38.1875,"..",2.5924999999999998,4.05,5.5458157477301402,54.492540000376103,2.1198666666666699,2.91125833333333,2.7316416666666701,2.0970916666666701,1.8571548333333301,2.5200430833333298,1.9140997500000001,729.875,965.33333333333405,452.58333333333297,710.91666666666697,501.42500000000001,"..",281.58749999999998,526.88333333333298,237.833333333333,70.890833333333305,136.01666666666699,128.755,256.80250000000001,"..","..","..",137.30416666666699,157.41499999999999,"..",0.42880833333333301,0.37319999999999998,2.4398916666666701,0.77196606483333297,1.93103333333333,13.2075,0.38724150299999999,0.485879876166667,0.186725,2656.5450000000001,160.768333333333,137.705833333333,"..",328.13556860503599,229.808333333333,1.85389166666667,"..",1.0641750000000001,39.8020833333333,169.083333333333,134.666666666667,114.541666666667,74.4166666666667,1438.43333333333,29,1591.925,425.34166666666698,12987.9666666667,4672.8,764.33333333333405,422.53,423.3075,11.4262833333333]
[1984,28.557499991522899,28.801666577657102,27.493333339691201,29.377500057220399,30.9583333333333,32.870833333333302,2.6549999999999998,3.76,5.23768078192714,53.664089200268599,2.3959916666666699,3.18865833333333,3.0367833333333301,2.7415500000000002,2.5003454166666699,2.9145965,2.8096779999999999,1154.5833333333301,836.58333333333405,373.16666666666703,1016.66666666667,728.83333333333405,"..",282.08333333333297,724,197.166666666667,78.723333333333301,135.9425,118.18833333333301,232.49916666666701,"..","..","..",140.22749999999999,152.333333333333,"..",0.36947833333333302,0.352393333333333,2.2731499999999998,0.87380113699999995,1.92109166666667,11.734999999999999,0.36269673366666699,0.47928438800000001,0.114666666666667,2786.3225000000002,175.64250000000001,156.76,"..",351.63746237431701,226.98,1.78485,"..",0.95765,33.066666666666698,175.625,131.25,150.166666666667,84.125,1251.325,26.15,1377.31666666667,442.60833333333301,12233.4916666667,4752.2083333333303,921.93333333333305,360.47750000000002,357.808333333333,8.1440249999999992]
[1985,27.183333333333302,27.329166666666701,26.4583333333333,27.762499999999999,33.75,34.917499999999997,2.5108333333333301,3.65,5.23,51.385278949344801,2.2544499999999998,3.2307916666666698,2.6486333333333301,1.7494749999999999,1.4566859999999999,2.20325066666667,1.58850425,590.16666666666697,675.75,280.08333333333297,904.91666666666595,500.58333333333297,"..",224.416666666667,572,157.166666666667,58.816666666666698,112.23333333333299,103.009166666667,196.92916666666699,"..","..","..",128.66,135.82833333333301,"..",0.37807083333333302,0.39840833333333298,2.15414166666667,0.83799443383333405,1.8446916666666699,10.491666666666699,0.35038760533333302,0.44871365733333302,8.9466666666666694E-2,2611.8166666666698,173.88333333333301,121.73416666666699,307,307.13236573299002,210.87833333333299,1.3182833333333299,"..",0.75870833333333298,36,157.166666666667,121.375,111.625,83.2083333333333,1040.7249999999999,26.56,1417.38333333333,390.85833333333301,11539.041666666701,4899.0416666666697,783.44166666666604,317.90750000000003,292.49916666666701,6.1152333333333297]
[1986,14.35,14.7708333333333,13.195833333333301,15.0833333333333,31.125,30.37,1.9350000000000001,3.65,4.0999999999999996,43.627151691403697,2.0696166666666702,4.2925833333333303,3.2447583333333299,1.65956666666667,1.1085275166666699,2.16296775,1.7072462500000001,296.5,993.58333333333303,320.58333333333297,569.41666666666697,257,"..",208.416666666667,342.41666666666703,184.75,47.56,87.558333333333394,82.413333333333298,186.245,104.120881666667,104.25,"..",118.38916666666699,114.916666666667,"..",0.38172499999999998,0.39373083333333297,2.0921500000000002,0.92551784783333302,2.1532833333333299,12.8858333333333,0.41016955100000002,0.46030628416666702,0.13337499999999999,2659.1783333333301,221.64416666666699,138.57666666666699,"..",329.34243559812899,273.71749999999997,1.0562750000000001,"..",0.80654166666666705,36,138.166666666667,121.166666666667,70.75,72.9583333333333,1149.9349999999999,26.26,1373.7816666666699,406.07499999999999,6161.3666666666704,3881.24166666667,754.03333333333296,367.694166666667,465.04,5.4391916666666704]
[1987,18.1458333333333,18.341666666666701,16.9375,19.158333333333299,27.5,26.495000000000001,1.6625000000000001,2.59,3.35,34.770751256245802,1.9942166666666701,2.50498333333333,2.2483416666666698,1.6512249999999999,1.34895725,2.2945339166666701,1.3101750000000001,442.25,758.5,383.41666666666703,499.75,342.58333333333297,"..",215.75,334.25,203.25,55.001666666666701,75.696666666666601,72.763333333333307,214.60833333333301,191,153.916666666667,"..",112.101666666667,112.895833333333,"..",0.39306666666666701,0.45598416666666702,2.3859416666666702,0.90834018366666702,2.1624583333333298,11.44,0.47262711635805799,0.48130528181737198,0.148958333333333,2745.5458333333299,258.91583333333301,201.77250000000001,"..",401.29656583845201,399.40666666666698,1.6484333333333301,"..",0.98465000000000003,34.1458333333333,160,138,82.5,67.2916666666667,1565.36083333333,25.3,1782.5033333333299,596.84166666666704,6664.8333333333303,4872.2166666666699,798.79166666666595,446.47250000000003,555.72333333333302,7.0100916666666704]
[1988,14.718055555555599,14.970833333333299,13.216666666666701,15.966666666666701,34.875,28.1041666666667,1.68166666666667,2.36,3.34,33.903310647724297,1.5846,3.0337083333333301,2.0791833333333298,1.57801666666667,1.36182491666667,2.0126899166666701,1.35949075,564.83333333333303,935.75,544.41666666666697,590.33333333333303,437.16666666666703,"..",303.5,463.41666666666703,267.5,70.3333333333333,106.89083333333301,98.459166666666604,277.47083333333302,"..",219.75,"..",140.7225,145.199166666667,"..",0.47813333333333302,0.45340666666666701,2.5170750000000002,1.0029000098333301,2.4107833333333302,12.44,0.52504124677728004,0.48768033125158999,0.22466666666666699,2467.8958333333298,271.32,200.86083333333301,"..",402.32642876067598,358.83583333333303,1.3994,"..",1.1849499999999999,31.6,180.166666666667,158.375,113.541666666667,86.8333333333333,2550.4558333333298,24.3,2601.6716666666698,656.22500000000002,7051.6333333333296,13778.3166666667,1241.50833333333,437.04833333333301,530.34333333333302,6.5304583333333301]
[1989,17.838888888888899,18.216666666666701,15.704166666666699,19.595833333333299,38,31,1.6966666666666701,2.09,3.28,32.761239051773998,1.2410333333333301,2.3873083333333298,1.6556166666666701,1.82484166666667,1.5292939166666699,2.4274834166666701,1.51776991666667,516.83333333333303,817.5,408.41666666666703,774.75,350.41666666666703,"..",275,431.5,247.583333333333,75.137500000000003,111.524166666667,105.9375,299.16250000000002,"..",218.583333333333,"..",161.261666666667,169.23500000000001,"..",0.54679166666666701,0.44542583333333302,2.5690583333333299,1.0995358531666699,2.3210250000000001,11.154999999999999,0.50160794336509695,0.50276359772796597,0.28205833333333302,3167.5725000000002,273.761666666667,190.588333333333,"..",485.27891337892999,350.32,1.6742250000000001,"..",0.96989999999999998,31,155.291666666667,144,102.958333333333,98.3333333333333,1951.2566666666701,27.83,2848.41,673.47500000000002,8534.4333333333398,13308.174999999999,1658.7666666666701,381.43166666666701,509.64249999999998,5.5070916666666703]
[1990,22.879166666666698,23.683333333333302,20.462499999999999,24.491666666666699,39.6666666666667,32.875,1.6983333333333299,2.82,3.64,36.4957757232471,1.2666666666666699,1.9722,1.1817249999999999,2.0575083333333302,1.8772818333333301,2.8088911666666698,1.48635108333333,336.5,1325.5,412.16666666666703,963.66666666666595,289.75,"..",246.75,447.33333333333297,200.166666666667,79.924999999999997,109.275833333333,103.93916666666701,270.85416666666703,"..",156.166666666667,"..",129.08916666666701,135.52250000000001,"..",0.54085000000000005,0.53106083333333298,2.5632333333333301,1.0821009833333299,2.65661666666667,10.7925,0.58318448930285804,0.51262927026564198,0.276675,3392.1858333333298,343.46166666666699,177.1925,533,533.08225240892398,354.868333333333,1.81914166666667,"..",0.86468333333333303,31.2916666666667,154.67500000000001,131.82083333333301,115.645833333333,94.631249999999994,1639.4449999999999,32.5,2661.4825000000001,810.54166666666595,6085.3833333333296,8864.1,1513.4583333333301,383.46666666666698,471.58916666666698,4.8332249999999997]
[1991,19.370833333333302,20.066666666666698,16.5625,21.483333333333299,39.6666666666667,31.5,1.4866666666666699,3.1141666666666699,3.99,35.561011586277701,1.19505833333333,1.8733916666666699,1.071925,1.67400833333333,1.4298198333333301,2.16314575,1.4290689166666699,433,1237.8333333333301,477.83333333333297,894.83333333333405,339,"..",239.583333333333,453.83333333333297,197.083333333333,78.286666666666605,107.42,105.11166666666701,293.27916666666698,239.5,179.166666666667,"..",126.113333333333,128.66499999999999,"..",0.55946166666666697,0.52095083333333303,2.6633583333333299,1.0560864673333299,2.331175,11.544750000000001,0.61210206641829801,0.47515086762828801,0.197591666666667,3500.06833333333,316.04583333333301,191.48416666666699,"..",552.51985891859795,372.37666666666701,1.6774083333333301,"..",0.82576666666666698,31.5,158.25,133.120833333333,138.395833333333,106.429166666667,1302.1883333333301,34.76,2338.7824999999998,557.61666666666702,5595.0416666666697,8155.6166666666704,1116.99166666667,362.1825,375.816666666667,4.0513583333333303]
[1992,19.0208333333333,19.3125,17.1875,20.5625,38.5625,28.8333333333333,1.7716666666666701,2.55833333333333,3.5951125833333299,36.111922673219802,1.0995666666666699,1.41191666666667,0.94042499999999996,1.6042333333333301,1.4443060833333301,1.69034666666667,1.67804483333333,577.58333333333303,799.131666666667,481.5,609.91666666666697,393.5,"..",235.5,428.91666666666703,204.416666666667,78.674999999999997,104.245833333333,102.75,268.22083333333302,228.333333333333,177.916666666667,"..",145.14166666666699,151.19999999999999,"..",0.47308333333333302,0.48924083333333301,2.4545750000000002,1.057445983,2.6514083333333298,10.953333333333299,0.62776367518603005,0.46958936948674501,0.199591666666667,3439.5391666666701,331.27833333333302,209.50833333333301,"..",607.21693580569604,380.761666666667,1.2783,"..",0.86158333333333403,31.5,137.87291666666701,120.73583333333301,117.604166666667,111.758333333333,1254.2833333333299,33.1,2281.1574999999998,541.36666666666702,6101.0249999999996,7001.2291666666697,1239.7750000000001,343.73333333333301,359.68583333333299,3.9460083333333298]
[1993,16.841666666666701,17.0208333333333,14.9416666666667,18.5625,31.3333333333333,26.9583333333333,2.12083333333333,2.67166666666667,3.5065987500000002,40.830799675143098,1.1169249999999999,1.5602,1.157375,1.6148416666666701,1.44233891666667,1.84469033333333,1.5575000000000001,450.25,1092.1458333333301,364.75,739.08333333333405,377.75,"..",255.083333333333,480.41666666666703,208.166666666667,71.376666666666694,102.09,99.026666666666699,235.41249999999999,202.416666666667,157.583333333333,"..",134.77416666666701,140.238333333333,"..",0.44302583333333301,0.43249416666666701,2.61754166666667,1.2053943568333301,2.9072416666666698,11.390124999999999,0.61948333333333305,0.47647499999999998,0.220975,2695.3366666666702,310.32,389.8075,"..",758.25006117498197,661.42666666666696,1.28026666666667,"..",0.83128333333333404,31.5,121.995833333333,111.944166666667,85.5416666666667,112.541666666667,1139.0491666666701,29.09,1913.07666666667,406.35833333333301,5161.1416666666701,5293.4191666666702,961.98333333333301,359.77,374.02583333333303,4.3083999999999998]
[1994,15.8866666666667,15.83,14.6666666666667,17.163333333333298,32.299999999999997,28.5625,1.92,2.4433333333333298,3.18,37.085246518011402,1.3959666666666699,3.3076416666666701,2.61968333333333,1.4921916666666699,1.33095116666667,1.57481283333333,1.57083333333333,607.5,954.79833333333295,376.33333333333297,1022.75,528.41666666666697,"..",251.833333333333,615.58333333333303,192.416666666667,72.648333333333397,107.55,103.869166666667,267.59166666666698,229.916666666667,182.3,"..",138.55500000000001,149.729166666667,"..",0.43979083333333302,0.41133999999999998,2.3328500000000001,1.218824167,2.97519166666667,13.075416666666699,0.62166666666666703,0.48567500000000002,0.26698333333333302,2641.6608333333302,330.26,307.54916666666702,"..",821.03602499550595,601.16333333333296,1.762775,"..",1.1257999999999999,31.8333333333333,160.424305555556,132.10499999999999,93.8854166666667,112.5,1476.7825,26.47,2307.4175,547.76666666666699,5463.85,6339.82,997.72500000000002,384.011666666667,405.261666666667,5.2847]
[1995,17.183333333333302,17.065833333333298,16.114999999999998,18.3691666666667,39.371666666666698,35.2291666666667,1.7224999999999999,2.7275,3.4491666666666698,36.220209668742399,1.4324250000000001,3.332325,2.7707083333333302,1.4886333333333299,1.42214975,1.7423925,1.30141666666667,669.58333333333303,909.91666666666595,495,990.91666666666595,628.25,"..",259.25,625.08333333333303,196.916666666667,104.010833333333,123.4875,118.97166666666701,320.95833333333297,297.66666666666703,262.870833333333,"..",167.35833333333301,176.98249999999999,"..",0.44510250000000001,0.53146666666666698,1.86865428383333,1.22319666333333,2.6209250000000002,13.5373083333333,0.68798333333333295,0.50819166666666704,0.29278333333333301,2643.44,339.50833333333298,255.62,596.132459436418,739.95109793687004,584.43583333333299,2.1278999999999999,"..",1.5800416666666699,32.6666666666667,199.77222222222201,149.631666666667,126.8625,112.5,1805.6575,28.38,2935.6058333333299,630.95000000000005,6213.8083333333298,8228.0391666666601,1031.11666666667,384.16416666666697,424.33666666666699,5.2002416666666704]
[1996,20.420000000000002,20.65,18.54,22.07,38.074166666666699,33.517499999999998,2.73416666666667,2.8441666666666698,3.6675,49.207804982006799,1.45556666666667,2.69420833333333,1.8059416666666701,1.66055,1.88911925,1.6695755000000001,1.4229499999999999,751.58333333333405,962,586,897.25,530.91666666666697,728,304.83333333333297,551.5,267.5,119.665833333333,165.80916666666701,150.02916666666701,338.875,286.08333333333297,232.70416666666699,"..",187.419166666667,207.6,"..",0.46958416666666702,0.49166749999999998,1.74995386866667,1.37373546566667,3.294575,13.1193166666667,0.68313333333333304,0.492916666666667,0.263575,3055.3733333333298,284.32,252.10083333333299,512.407089915852,741.34855087564097,529.52833333333297,1.7733333333333301,"..",1.3937583333333301,33.033333333333303,198.104166666667,175.83,153.691666666667,112.5,1505.6608333333299,30,2294.8566666666702,774.32500000000005,6165.0749999999998,7500.8166666666702,1025.1416666666701,387.69583333333298,397.11250000000001,5.2012999999999998]
[1997,19.1710427248677,19.090208333333301,18.097083333333298,20.325836507936501,35.099166666666697,31.349166666666701,2.4817499999999999,2.7383333333333302,3.9083333333333301,45.8026496691025,1.61873333333333,4.1679416666666702,1.736075,2.0601083333333299,2.0201190833333298,2.1449734166666699,2.0152639166666702,656.83333333333303,988.42,606.25,1010.41666666667,545.83333333333303,651.83333333333303,295.41666666666703,564.75,275.75,97.238333333333301,117.091666666667,109.621666666667,303.51,257.08333333333297,210.381944444444,"..",143.648333333333,159.48416666666699,0.96801833333333298,0.51705333333333303,0.458963333333333,1.84815131783333,1.3445793661666701,3.3934000000000002,14.7628583333333,0.62723333333333298,0.48364166666666702,0.25064999999999998,3531.5458333333299,284.754166666667,238.2525,563.57584679685999,664.52615740031604,484.95833333333297,1.7475833333333299,"..",1.01751666666667,32.5,186.989583333333,171.90916666666701,117.49375000000001,112.5,1599.33,30.15,2276.7666666666701,624.17499999999995,5646.7666666666701,6927.3858333333301,1316.125,331.09583333333302,394.91500000000002,4.9060333333333297]
[1998,13.064441666666699,12.7165416666667,12.1275833333333,14.3492,29.230833333333301,26.839166666666699,2.0869166666666699,2.4158333333333299,3.0191666666666701,38.872479983498302,1.67638333333333,2.9813166666666699,1.8225833333333299,2.0460583333333302,2.0746422500000001,2.1646417499999999,1.8989277499999999,657.91666666666697,988.75,661.91666666666697,909.41666666666595,671.08333333333303,686.66666666666697,243.25,625.91666666666697,170.333333333333,85.053333333333299,101.98666666666701,98.037499999999994,304.15833333333302,259.85833333333301,213.020833333333,"..",111.515,126.12666666666701,1.0049574999999999,0.48950500000000002,0.44240083333333302,1.71611295166667,1.39234613283333,2.7503000000000002,14.2396666666667,0.59748333333333303,0.486416666666667,0.19672500000000001,3336.1216666666701,286.40249999999997,162.425833333333,526.32652116042505,484.14789869720198,376.053333333333,1.44471666666667,"..",0.72157499999999997,32.5,186.86319444444399,173.04916666666699,83.216666666666697,112.5,1357.4691666666699,31,1654.05833333333,528.64166666666699,5540.3333333333303,4629.5233333333299,1024.4666666666701,294.16083333333302,372.27833333333302,5.5507916666666697]
[1999,18.071388888888901,17.808333333333302,17.164999999999999,19.240833333333299,25.891666666666701,24.273333333333301,2.2666666666666702,2.1308333333333298,3.1375000000000002,39.780539278325101,1.1353166666666701,2.2905833333333301,1.4887583333333301,1.8391,1.6493249999999999,2.0678999999999998,1.8002,737.08333333333405,863.63416666666706,407.879166666667,832.84166666666704,436,694.08333333333303,201.666666666667,426.46833333333302,165.16749999999999,75.938333333333304,90.216666666666697,84.389166666666696,248.416666666667,216.291666666667,192.61666666666699,"..",96.278333333333407,112.0425,0.85044083333333298,0.373830833333333,0.43822666666666699,1.8102502256666699,1.322000383,2.6099916666666698,12.345872,0.591733333333333,0.46598333333333303,0.138091666666667,3041.1824999999999,269.27333333333303,187.11,455.17111251512699,600.81585081585001,440.54916666666702,1.1710750000000001,0.59107500000000002,0.62847500000000001,42.8020833333333,171.1,154.490833333333,65.942361111111097,112.5,1361.09,27.59,1572.86083333333,502.61666666666702,5403.6166666666704,6011.2275,1076.3416666666701,278.76833333333298,376.949166666667,5.2154583333333298]
[2000,28.229719444444498,28.272915909090901,26.0841174242424,30.332125000000001,26.25,26.57,4.30833333333333,3.8583333333333298,4.7125000000000004,73.852799592962796,0.90579166666666699,1.91966666666667,0.91302499999999998,1.8762416666666699,1.7933416666666699,1.8060166666666699,2.02856666666667,450.33333333333297,870.68,407.879166666667,756.76250000000005,310.25,443.5,211.833333333333,338.14,203.69583333333301,77.234166666666695,88.534166666666593,88.003333333333302,202.395833333333,172.8125,143.47361111111101,"..",98.914166666666603,114.08750000000001,0.71242499999999997,0.42399833333333298,0.36321249999999999,1.92547836433333,1.3106465899999999,2.6184750000000001,14.0177088333333,0.55515812597500003,0.42759166666666698,0.18035833333333301,2976.21333333333,275.42500000000001,189.946666666667,489.05068954738698,594.69696969696997,448.24,1.3021499999999999,0.62921666666666698,0.66718333333333302,44,147.66874999999999,137.708333333333,100.92291666666701,112.5,1549.14083333333,28.79,1813.4691666666699,453.941666666667,5435.7083333333303,8637.7391666666608,1128.13333333333,279.03166666666698,544.63083333333304,4.9532416666666697]
[2001,24.351825004292699,24.4215715358885,22.714820589434702,25.919082887554801,32.3125,33.864166666666698,3.95583333333333,4.0575000000000001,4.6341666666666699,70.466023083714603,1.06873333333333,1.3731166666666701,0.60717500000000002,1.5981416666666699,1.6166083333333301,1.6611499999999999,1.5166666666666699,318.08333333333297,866.42166666666606,465.324166666667,759.23416666666606,287.45833333333297,305.300833333333,195.833333333333,353.23500000000001,204.634166666667,93.936666666666696,89.640833333333305,95.233333333333306,172.838333333333,153.06,134.10555555555601,"..",107.724166666667,126.808333333333,0.77723500000000001,0.58324833333333304,0.59549729307092103,2.1063858071666699,1.40276296233333,2.9117999999999999,13.677829916666701,0.52865079019500005,0.47035833333333299,0.19039166666666699,3004.6149999999998,266.05250000000001,159.05250000000001,471.93372741844797,481.35198135198198,409.8075,1.0580750000000001,0.51526666666666698,0.575125,44,143.509722222222,126.87583333333301,96.453472222222203,112.5,1443.6341666666699,30.03,1578.28833333333,476.15833333333302,4484.4416666666702,5944.7266666666701,885.76666666666699,270.98916666666702,529.52916666666704,4.3760000000000003]
[2002,24.927748381805799,24.969477707774001,23.720599935142001,26.093167502501299,25.309374999999999,26.024166666666702,3.355,3.0516666666666699,4.2816666666666698,58.149359260364498,1.77785833333333,1.3566083333333301,0.66178333333333295,1.506,1.5620166666666699,1.4638916666666699,1.4920833333333301,421,723.34749999999997,638.83333333333303,719.4325,410.89499999999998,412.51416666666699,212.666666666667,461.71,195.70416666666699,108.9675,99.2708333333333,101.741666666667,191.87333333333299,174.97583333333299,150.18194444444401,"..",129.95750000000001,148.07749999999999,0.75942416666666701,0.52857583333333302,0.56453207630542701,2.10859042716667,1.3907294115,3.3034166666666702,10.389271750000001,0.54917212802833304,0.46137499999999998,0.15182499999999999,2744.4733333333302,236.02576044362101,163.40583333333299,486.344244721309,526.81177156177205,402.73,1.019225,0.75153333333333405,0.76490000000000002,44,152.19374999999999,133.06333333333299,94.418750000000003,112.5,1349.915,29.31,1559.4775,452.683333333333,4060.5,6771.7508333333299,778.75,309.97166666666698,539.51416666666705,4.6010499999999999]
[2003,28.898903189480802,28.851390582847099,26.738140786749501,31.107178198845801,26.090624999999999,30.235416666666701,5.4919826666666696,3.9066666666666698,4.7308333333333303,88.468490974799806,1.75087716666667,1.4153853333333299,0.81449685000000005,1.51664191666667,1.54108816666667,1.46521225,1.543625,467.33333333333297,997.18545454545404,640.33606585788596,1209.4475,476.70333333333298,457.03916666666697,264,558.58500000000004,232.64,104.74049416666701,105.370075833333,106.534601666667,197.61666666666699,181.71666666666701,151.46666666666701,"..",138.57684166666701,146.1431,0.79039950833333406,0.37478707500000003,0.68077300833333299,2.1266683111666702,1.4597543913920901,3.8837790833333301,10.7775298277778,0.59714496355678603,0.47371148333333302,0.15630196666666701,2646.1022499999999,279.48537250859903,187.16374166666699,551.62958462706604,550.99067599067598,431.87835000000001,1.3991114084127001,1.0040750000000001,1.0827102666666699,44,171.66562500000001,149.333333333333,138.18541666666701,112.5,1431.29375,31.95,1779.1448333333301,515.02941666666698,4894.8969166666702,9629.4682499999999,827.69541666666703,363.509166666667,691.71416666666698,4.8762416666666697]
[2004,37.733387703035604,38.300679681747198,33.455866083192198,41.4436173441674,52.9479166666667,54.684375000000003,5.8948671340736603,4.2774999999999999,5.1275000000000004,95.392538077642797,1.5498486147892001,1.7739842266666701,0.79303855766666698,1.6856025376233299,1.7809365237700601,1.72162108909992,1.5542499999999999,660.75,988.14250000000004,648.58333333333303,1291.6283333333299,499.28083333333302,657.45,306.5,618.22583333333296,259.886666666667,98.988547595,111.803479666667,109.775735763426,237.666666666667,225.42500000000001,205.14166666666699,226.32170833333299,144.44395972875,156.881680087489,0.89199256034521002,0.52458277135416698,0.85752321575139501,2.6730833781666701,1.6691824613095201,4.5988930508333299,10.117368616666701,0.66968750419146095,0.45467869482857798,0.15798607549999999,2740.2150000000001,331.30374951399898,197.25556808014201,586.40105489937798,581.29370629370601,464.82048152517802,1.3657211985798801,1.2065999999999999,1.280375,44,204.74375000000001,186.3125,174.91458333333301,125.55,1715.5409999999999,37.9,2865.8849166666701,886.54499999999996,8512.7334166666606,13823.240750000001,1047.75325,409.21158333333301,845.35,6.6578666666666697]
[2005,53.391024596790601,54.434130411255403,49.294158910533902,56.444784468582498,47.6209027777778,46.196944444444398,8.9156728268711891,6.3266666666666698,5.99,142.401328693246,1.53811959057971,2.5321714165000002,1.1145088973333299,1.64708049798892,1.8429193087742399,1.62082218519251,1.4775,616.97916666666697,874.22166666666703,676.59493934142097,1170.98166666667,450.56416666666701,630.82166666666706,274.6875,544.59333333333302,236.761666666667,95.077129175833306,98.671791166666694,96.215434547222202,286.27083333333297,265.379166666667,217.816666666667,"..",135.72001732968801,152.350593749735,1.17257962133155,0.60284246005208297,0.87467396545841802,2.7346106479999999,1.6293733811431601,4.4384745052777799,9.7060232683333307,0.66542204546440897,0.46926528638819898,0.21792668700000001,2789.6515466010601,334.36862291666699,203.12027512155399,559.13646024688205,659.38228438228396,508.60911417918902,1.2169670479971499,1.38635833333333,1.488,44,226.785416666667,201.479166666667,217.35208333333301,155,1898.3080833333299,65,3678.8764166666701,976.36816666666596,7379.8279166666698,14743.9593333333,1381.3059166666701,444.84258333333298,896.52833333333297,7.3083666666666698]
[2006,64.288259140201603,65.391381220673594,61.430812003658701,66.042584196272401,49.089583333333302,50.694166666666703,6.7195430939833098,8.4708333333333297,7.0750000000000002,126.661296467022,1.59190223742863,2.52210365183333,1.48931266916667,1.87207711459157,1.9097188060418799,1.7542069821772699,1.95230555555556,606.90972222222194,875.26228260869505,755.35209416522196,1019.4783333333301,508.29916666666702,578.5675,268.64583333333297,599.33500000000004,227.36166666666699,116.61509517499999,121.85101775,122.9392564125,304.87638888888898,277.12361111111102,219.51249999999999,"..",158.96785216265599,192.04335668599799,0.89702574209164398,0.67724399375,0.82918481229663199,2.649843009,1.52614102184829,4.03590583333333,9.6040595933333393,0.64564118874348397,0.487645777780358,0.32587239068840601,2969.1955153326599,318.47839270833299,239.42914707308,622.86582905988098,749.34343862397202,595.56383908188502,1.2665541899999999,1.9460666666666699,2.0787499999999999,44,229.871527777778,201.63333333333301,222.138888888889,178.333333333333,2569.8987499999998,69.3333333333333,6722.1345000000001,1289.7220833333299,8780.8253333333396,24254.409250000001,3275.2917499999999,604.33583333333297,1140.78,11.559233333333299]
[2007,71.116559010063597,72.696170525952596,68.369053899158303,72.284452605079906,65.733125000000001,62.650833333333303,6.9819506869941703,8.5549999999999997,7.68333333333333,130.66007798703299,1.9522691552795,2.7236977790000001,1.90918254816667,2.0361013232845702,2.5221221186840799,1.9212374067251901,1.6649444444444399,918.875,1247.5528169014101,1166.49,1375.13916666667,816.68666666666695,888.40499999999997,383.10333333333301,886.05666666666605,321.9375,172.38121729166701,163.664914466667,162.69360726666699,326.43194444444401,306.50138888888898,272.316666666667,"..",238.587672411,255.206110496798,1.03700829555324,0.67581164166666696,0.95668084659972696,2.6953684120000001,1.72358954910577,4.1196086083333299,9.6795678283333295,0.68091298571553205,0.45774555260224098,0.22215220866666699,3315.05666666667,381.32151396739101,267.98065534768398,759.838710971919,806.29676548003204,640.71773681641503,1.3951570233333299,2.1556583333333301,2.2630583333333298,52.0208333333333,391.96249999999998,339.05416666666702,307.10763888888903,195.416666666667,2638.17916666667,122.9875,7118.2259999999997,2579.9854166666701,14536.834500000001,37229.806750000003,3242.3575833333298,696.72024999999996,1304.94,13.391975]
[2008,96.990453758462905,97.636484181880903,93.777133466076194,99.557743627431606,127.104166666667,120.598333333333,8.8572024107534997,13.4066666666667,12.526666666666699,179.77797816995701,2.5771163235294101,3.0815994641666702,2.3209137050000002,2.4204735877443202,2.7892555504332202,2.25456799057751,2.2175972222222202,1224,1600.9933333333299,1203.5308333333301,2144.7399999999998,1042.92333333333,1124.88083333333,521.87,1260.81083333333,442.13833333333298,200.51552770252101,223.116827733333,207.830702533416,650.1875,"..",482.27638888888902,"..",271.52032792915901,326.03004623959299,1.18771047765533,0.84421254583333405,1.1073069830056299,3.23540845283333,1.86545112440842,4.5850681281250001,10.512179314999999,0.69692696843864099,0.46858230142232399,0.28213624450000002,3588.7408333333301,526.88663541666699,292.29698201023399,958.278468925982,889.09163146409696,645.45483454420605,1.5739062131746,2.5299916666666702,2.5862583333333302,242.739583333333,861.61874999999998,879.38125000000002,514.97916666666697,455.96875,2572.7891666666701,155.993333333333,6955.8798333333298,2090.6634166666699,18510.0910833333,21110.644833333299,1874.7086666666701,871.70725000000004,1574.4991666666699,14.9965333333333]
[2009,61.756922215507998,61.862206890331898,61.754919756571901,61.653639999620303,71.844166666666695,64.683333333333294,3.9502916666666699,8.7100000000000009,8.9358333333333295,95.430938841111399,2.8887503296666699,3.1711428612416701,1.6441615035999999,2.72401329949854,3.1372094487465101,2.5152748941935701,2.5195555555555602,725.375,1130.0158045977,1191.1041666666699,1352.59666666667,741.14583333333405,699.02166666666699,423.6225,853.06500000000005,423.57583333333298,128.322186170028,165.509633333333,151.054132258333,554.993055555556,458.066666666667,326.35972222222199,"..",185.95358992499999,224.06988173743301,1.1449028222100599,0.84714064973958403,0.90903947102457905,2.7297237403333301,1.88778825918269,4.2764963604166697,8.9182390550000008,0.52435188259394405,0.54875121534582305,0.40002829899999998,4235.19861111111,421.47209583333301,287.20279327545899,748.91833453265599,805.52443749999998,564.62351766274605,1.3820211625000001,1.80018541666667,1.9206859166666701,222.75,288.46875,257.41666666666703,251.07916666666699,558.47916666666697,1664.8295000000001,79.9791666666667,5149.7385833333301,1719.2665,13573.876916666701,14654.629499999999,1655.11441666667,972.965916666667,1203.40083333333,14.6435333333333]
[2010,79.040771784717293,79.635629979923394,78.061154819415705,79.425530554812596,98.966041666666698,91.622708333333307,4.3852537698412704,8.2874999999999996,10.848333333333301,100,3.1330038538333298,4.3200998646666697,1.7359361598333301,2.8849352675938702,3.2896454696163402,2.8051186664985899,2.5600416666666699,1123.5833333333301,1240.65736285703,1138.9595756880699,1400.99166666667,933.02333333333297,1187.405,447.10166666666697,1000.85583333333,398.34583333333302,158.38666512309399,185.91420833333299,165.40389885642901,488.90694444444398,441.50833333333298,383.65833333333302,429.18633333333298,229.677099142857,223.58210540486201,1.00224122918895,0.86832060132812505,1.03320325571745,3.4189063241666702,1.8922913007593101,5.3143171406666703,10.635638034999999,0.44179145550575599,0.79248467005960999,0.46934689633333299,4333.2250000000004,428.56080208333299,278.17198677422601,812.69367550195398,848.27195666249997,569.08783153161301,2.2833804789714298,3.3807708393876701,3.6538649060951101,105.3125,456.42708333333297,381.88958333333301,288.90416666666698,332.14583333333297,2173.1170000000002,145.863185425685,7534.7795833333303,2148.4492500000001,20405.623250000001,21808.852416666701,2160.74325,1224.66425,1609.75416666667,20.152958333333299]
[2011,104.009397525526,110.939925363887,106.03393828554699,95.054328927143303,121.448333333333,116.29666666666699,3.9985785533910501,10.515000000000001,14.6558333333333,108.473490868959,2.9800767131666701,5.97613692133333,2.4075920146666698,2.9205488561944,3.2641363781838502,2.7785518570660201,2.71895833333333,1730.0833333333301,1883.8294314381301,1442.05831804281,1866.09,1193.3699999999999,1653.645,537.51916666666705,1297.6600000000001,408.67166666666702,207.19691870517099,291.684073333333,268.747938701159,543.02916666666704,506.03750000000002,458.558333333333,513.63970833333303,285.913346302989,316.26413255853799,1.1247367516040201,0.96799467473958301,0.89110049952401504,4.0773528308333304,1.92632981744124,6.6307268609722199,12.111814843333301,0.45461721115081299,0.83915666337838402,0.57316445633333302,4485.0506944444396,484.8099575,390.51220016736499,825.75143455786997,939.4469775,607.54112003770899,3.3285061872638901,4.51900908306669,4.8231570220842004,163.552083333333,516.28750000000002,538.26041666666697,398.92291666666699,392.82291666666703,2401.38666666667,167.754166666667,8828.1875,2400.8120833333301,26053.674999999999,22910.356666666699,2193.90041666667,1569.2108333333299,1719.48166666667,35.224116666666703]
[2012,105.009628884877,111.965558339607,108.90444988418,94.158878430843302,96.364166666666605,92.92,2.7520416666666701,11.473333333333301,16.553333333333299,99.177763768735304,2.3918690530303,4.1109570561702897,2.2668286252173901,2.89778624847574,3.0626097890343198,2.7502350675040002,2.8805138888888902,1110.8333333333301,2442.8093645485001,1527.7716666666699,2359.0583333333302,1043.3975,1107.3783333333299,595.50750000000005,1225.6025,531.69583333333298,240.28063808774601,298.41696413768102,271.93008485912497,562.98333333333301,543.79722222222199,525.07083333333298,434.44,295.36618792744599,313.24226961106802,1.09972704510311,0.98398391093750004,0.867958000187114,4.2060658951666703,2.0790230460660899,6.0911359376623402,11.4643914366667,0.42013525049592798,0.63563959525259695,0.47494541420662201,4302.3534722222203,451.38708585858598,360.51030252170801,759.321393787528,876.34201945346297,610.34222395539996,1.9671164544166699,3.1557610275689201,3.37726073517126,184.927083333333,480.23819444444399,462,398.600694444444,465.375,2023.28319284294,128.495925925926,7962.3470628192699,2064.6382656781898,21125.994409731498,17547.546048528799,1950.4135082559801,1669.51766666667,1550.8358333333299,31.137408333333301]
[2013,104.077497497587,108.85637454514099,105.433352335466,97.942765612152996,84.562169190903205,80.2385594387693,3.7239833333333299,11.785833333333301,15.955833333333301,112.061227589301,2.4388466720779198,3.0759897956786899,2.0758544659803801,2.8619950838773298,3.4530545789291498,2.73409733936951,2.39883333333333,939.46916666666596,1514.2991666666701,1750.8150000000001,1820.6216666666701,870.72583333333296,896.91916666666702,551.38916666666705,1055.39333333333,543.46249999999998,203.00875833333299,259.38922323787898,243.28292474064901,505.89166666666699,472.95972222222201,473.989406487233,392.40207949729898,276.73346173918497,312.24786689791802,1.0219790266111,0.92407451067708302,0.96731981632410002,4.1283162965000004,2.1736879973779599,5.1732068088474001,14.17460429,0.43382928583048502,0.450500583801071,0.39004470693267401,4588.8194444444398,463.52884910243802,305.43418248257598,749.16982600937695,852.79773030597096,560.23496041643796,1.9926963095416701,2.5169333333333301,2.7945500000000001,126.322916666667,410.972916666667,380.75,339.61458333333297,395,1846.66896845003,135.36118854173199,7332.1004774844696,2139.79005854351,22282.796636591102,15031.797384167799,1910.2564703714199,1411.46230174415,1486.5451347324199,23.849686117385001]
[2014,96.234999999999999,98.9375,96.655000000000001,93.112499999999997,70.13,72.338333333333395,4.3694916666666703,10.0516666666667,16.035735552489399,111.70982886732099,3.0622400000000001,4.4237904920000002,2.2164514606666699,2.7204779190616799,3.5354067451116502,2.5809714565178501,2.0450555555555598,1281.1241666666699,1258.3175000000001,1680.645,1394.9849999999999,837.46916666666596,1119.69166666667,484.85750000000002,905.96916666666596,522.46749999999997,145.90297638888899,192.881219533333,210.394235333333,422.83333333333297,382.16666666666703,425.14833333333303,407.20916666666699,245.21163752025001,284.88592139999997,1.04257015930535,0.92778906572916597,0.78355015653208104,5.0504537269999998,2.3224215231677001,6.38958766666667,17.794406611666702,0.43401231994202899,0.53250758916666696,0.37498749016666699,4990.7722222222201,465.16509057971001,282.04117576819698,789.45188656266396,897.94200000000001,517.32692673098404,1.8319473608333301,1.7139166666666701,1.95149166666667,110.458333333333,429.58645833333298,382,308.4375,296.625,1867.42,96.952462121212093,6863.3975,2095.4583333333298,21898.871666666699,16893.375833333299,2160.9708333333301,1265.5775000000001,1383.57083333333,19.0715]
[2015,50.752777777777801,52.37,51.179166666666703,48.709166666666697,58.939166666666701,56.7083333333333,2.6137083333333302,6.8211830783410203,10.9346874235105,71.575137250249995,3.1350449999999999,3.5260692279999999,1.9411679100000001,2.7771495644186799,2.9750000000000001,2.3917681377004798,2.9646805555555602,1103.51166666667,1304.8723550724601,1554.1849999999999,1377.9591666666699,663.39083333333303,903.34916666666595,392.1225,755.63250000000005,389.45499999999998,121.33064930555599,169.75022306666699,201.63087083333301,386,372.58333333333297,386.03333333333302,351.83583333333303,206.37664030274999,204.44912861399999,0.90339570407105896,0.95691416276041597,0.67567491782504496,4.5591541600000003,1.9909400487134501,5.2204050208333301,13.2152271533333,0.36255507599999998,0.54678250366666703,0.29626418433333301,4908.2951388888896,388.57875000000001,246.01583311526599,732.57646841809799,833.25049999999999,451.24834884848002,1.5524199166666699,1.36581666666667,1.5713250000000001,120.314583333333,416.62395833333301,377.6,277.9375,296.06458333333302,1664.6808333333299,55.8541666666667,5510.4566666666697,1787.8191666666701,16066.631666666701,11862.635,1931.6783333333301,1160.66333333333,1053.20333333333,15.7206666666667]
[2016,42.8119444444444,44.047499999999999,41.2008333333333,43.1875,66.123333333333306,63.946666666666701,2.4922166666666699,4.5634228440012699,7.3724439579912797,56.953089920584397,2.8907616666666698,3.6110757008333301,1.9531279735,2.6849336296830502,3.3016666666666699,2.33173144460469,2.42140277777778,1481.7766666666701,1392.8619524959699,1490.63666666667,1380.63083333333,735.70333333333394,1301.3191666666701,405.44749999999999,814.99416666666605,374.66166666666697,103.915682291667,159.16088719999999,155.59105650000001,396.16666666666703,385.33333333333297,380.33499999999998,356.09666666666698,176.30378359125001,166.63254344999999,0.90527510507362496,1.0011500927083301,0.88967978415183302,4.0609100400000004,1.85255761515873,4.6942285833333299,11.216371686666699,0.36146109999999998,0.60924673699999998,0.39806251283333299,4790.4965277777801,387.40625,274.37688334646299,649.60719618937298,738.87920833333305,503.268891292349,1.6361219893333301,1.3811249999999999,1.6051833333333301,110.45625,315.81354166666699,290.27083333333297,194.129166666667,260.33333333333297,1604.18166666667,58.4241666666667,4867.8975,1866.65333333333,17933.761666666702,9595.1791666666704,2089.9749999999999,1248.98833333333,987.08666666666704,17.146750000000001]
[2017,52.805,54.392499999999998,53.115833333333299,50.906666666666702,88.518333333333302,85.149166666666702,2.9610750000000001,5.7170433039289996,8.6061241944719598,68.966702416698595,2.0294108333333298,3.3232074443333302,2.2255271463333299,3.14847924251821,4.0516666666666703,2.4232155053323998,2.9705555555555598,1650.65,1486.6824999999999,1366.9666666666701,1460.7925,750.81333333333305,1288.46333333333,393.37811183333298,850.39666666666699,350.24166666666702,97.638639236111104,154.531538466667,163.02246308333301,398.91666666666703,384.66666666666703,379.90083333333303,363.24666666666701,178.18260991725001,174.19561552499999,0.89910525668986496,1.07588211775,0.81203535563819595,4.3872489154999998,2.1244773964702501,5.4194936250000003,13.318293138333299,0.36875427333333299,0.61554827583333305,0.3531250085,4627.3645833333303,395.222916666667,265.428524718652,617.28036487103395,702.10987499999999,486.85558973947099,1.8429888326666699,1.66685833333333,1.9954416666666701,89.6875,323.027083333333,283.20416666666699,213.875,218.229166666667,1967.6541666666701,71.760000000000005,6169.94,2314.665,20061.169166666699,10409.635,2890.86666666667,1257.5591666666701,948.45333333333394,17.0661666666667]
[2018,68.347499999999997,71.071666666666701,69.151666666666699,64.819166666666703,107.02249999999999,97.643333333333302,3.1597249999999999,7.6816796538683798,10.669875822784199,82.116989950697203,2.2937683333333299,2.925971664,1.86926055433333,2.8474711888870501,3.605,2.3587885666611501,2.5786250000000002,996.77,1319.86916666667,1525.1025,1446.0491666666701,638.65583333333302,926.47666666666703,394.42416666666702,789.11749999999995,405.22583333333301,125.885332986111,164.41454680000001,168.58912858333301,420.66666666666703,408.08333333333297,401.07,406.14416666666699,203.89093102724999,209.92883459999999,0.947568431926886,1.14714875572917,0.78985375212504705,4.1950427951666702,2.2430235618083301,5.8740773333333296,12.2371107466667,0.38585241066666698,0.5592569785,0.27561424366666698,4865.9569444444396,413.54833333333301,269.70393820628902,639.99219991781104,727.94287499999996,494.69765930267999,2.0145817560000001,1.3678333333333299,1.5653250000000001,87.9,393.42500000000001,346.73583333333301,249.44958333333301,215.5,2108.4749999999999,69.751666666666694,6529.7983333333304,2240.4349999999999,20145.205833333301,13114.0641666667,2922.3791666666698,1269.2266666666701,879.54583333333301,15.713749999999999]
[2019,61.407499999999999,64.031666666666695,63.177500000000002,57.0133333333333,77.885833333333395,71.941666666666606,2.5658833333333302,4.8023512661927796,10.5643018990065,61.145975739909701,2.3408216666666699,2.8797665031666702,1.6217735874999999,2.5628137831708599,3.10083333333333,2.37639968284592,2.2112083333333299,735.65083333333405,1337.8058333333299,1447.9891666666699,1407.3741666666699,601.36666666666702,665.39,368.946666666667,765.44,347.02249999999998,128.06698819444401,170.07008806666701,161.506786833333,418,410.41666666666703,393.493333333333,351.884166666667,211.27579630275,201.692128575,0.87572033564205198,1.140546378125,0.56000614274852401,4.7636602227499996,1.99839617083333,"..",12.601056764999999,0.36566828133333301,0.57672859200000004,0.28002348366666702,4579.3583333333299,391.915416666667,273.103523205378,611.81003891919102,695.887791666667,500.93326250830802,1.71693968416667,1.4104416666666699,1.64039166666667,87.9583333333333,306.35500000000002,294.54833333333301,245.28166666666701,255.5,1794.48833333333,93.849166666666605,6010.1450000000004,1996.5074999999999,18661.156666666699,13913.9083333333,2550.41,1392.49833333333,863.98916666666605,16.217583333333302]
[2020,41.257777777777797,42.3,42.164999999999999,39.308333333333302,60.784999999999997,65.656666666666695,2.0143749999999998,3.2420240393930899,8.3133475708468403,45.506043543081702,2.36986416666667,3.3236299964999998,1.51587834016667,2.6993001630709998,3.4041666666666699,2.6862754892130001,2.00745833333333,1010.4037141479899,1838.6724999999999,1432.6995934256099,1672.4154545454501,751.766157621248,824.07235042735101,406.63984166467299,837.75632231404995,394.17900168350201,97.600364583333103,165.466000466667,171.57455150000001,496.75,481.83333333333297,474.61666666666702,427.96,227.73879764624999,231.56548795,0.89711781311712102,1.2163301906249999,0.60298520360965502,4.6673091428333304,1.6316943774999999,"..",12.673074351666701,0.37271109200000002,0.59465950133333301,0.2831283235,4336.28125,399.46375,278.93641829584402,615.16810032466503,699.70733333333305,511.63210349447297,1.5858382815000001,1.3305499999999999,1.7280249999999999,76.051666666666605,312.42416666666702,265.03750000000002,229.10083333333299,217.791666666667,1703.9866666666701,108.918333333333,6173.7708333333303,1824.88083333333,17124.5991666667,13787.256666666701,2266.44916666667,1770.25416666667,883.39333333333298,20.536583333333301]
[2021,69.0705555555556,70.4433333333333,68.805000000000007,67.963333333333296,138.05000000000001,119.840229281524,3.85140833333333,16.1158779483759,10.761649023844299,130.674480269464,2.4265316666666701,4.5119385483333296,1.9811817629999999,2.68890367732015,3.1258333333333299,2.8308743579092299,2.1117499999999998,1636.3133333333301,1555.0350000000001,1480.88916666667,"..",1130.57666666667,1533.0816666666699,583.32249999999999,1385.4066666666699,480.97500000000002,"..",259.54567977893299,"..",458.25,448.25,436.09,446.34750000000003,281.66060658518199,315.23750000000001,0.92376113588577502,1.2054793265624999,0.65258965200660901,5.3858958459166697,2.2559600882500002,"..",13.699049384166701,0.38647559599999998,0.74014604949999996,0.38955635399999999,4154.7399629094798,414.21625,271.35082829258999,659.341980620463,749.95179166666605,497.71842598573397,2.23070800333333,1.6793083333333301,2.0710166666666701,123.213333333333,600.96333333333303,538.18916666666701,483.20749999999998,210.208333333333,2472.8483333333302,161.71,9317.0499999999993,2200.3649999999998,32384.148333333302,18464.965833333299,3002.5208333333298,1799.62916666667,1091.13333333333,25.164583333333301]

{"sheet":"Distributions","index":11,"n_rows":62,"n_cols":27,"rows_kept":62,"cut":false,"hidden":false,"merged":[]}
[]
[null,null,null,null,null,null,null,null,null,"Start Period",null,null,{"$f":"'Prices for Graph'!K12","v":{"$error":"#N/A"}},null,null,null,null,null,null,null,null,null,null,"Start Period",null,{"$f":"'Prices for Graph'!N12","v":{"$error":"#N/A"}}]
[]
[null,null,null,null,null,null,null,null,null,null,null,"Std Dev",3,null,null,null,null,null,null,null,null,null,null,"Std Dev",null,3]
[]
[]
[null,null,{"$f":"'Prices for Graph'!U4","v":"Natural gas, US"},null,null,null,null,null,null,null,null,null,{"$f":"C7","v":"Natural gas, US"},null,null,null,null,null,null,null,null,null,null,null,null,"second"]
[null,"Mean",{"$f":"AVERAGE(First)","v":3.6595138888888892},null,null,null,null,null,null,null,null,"Mean",{"$f":"AVERAGE(LN_First)","v":-4.6701896757310978E-3},null,null,null,null,null,null,null,null,null,null,"Mean",null,{"$f":"AVERAGE(LN_second)","v":-3.2335749617511289E-2}]
[null,"stdev",{"$f":"STDEV(First)","v":2.1125189986165482},null,null,null,null,null,null,null,null,"stdev",{"$f":"STDEV(LN_First)","v":0.21224551132115185},null,null,null,null,null,null,null,null,null,null,"stdev",null,{"$f":"STDEV(LN_second)","v":0.19625794676035171}]
[null,"avg+4*stdev",{"$f":"C8+4*C9","v":12.109589883355081},null,null,null,null,null,null,null,null,"Low Range",{"$f":"M8+M4*M9","v":0.63206634428772446},null,null,null,null,null,null,null,null,null,null,"Low Range",null,{"$f":"Z8-Z4*Z9","v":-0.62110958989856646}]
[null,"avg-4*stdev",{"$f":"MAX(C9-4*C10,0)","v":0},null,null,null,null,null,null,null,null,"High Range",{"$f":"M8-M4*M9","v":-0.6414067236391866},null,null,null,null,null,null,null,null,null,null,"High Range",null,{"$f":"Z8+Z9*Z4","v":0.55643809066354388}]
[]
[null,"bins",40,null,null,null,null,null,null,null,null,"bins",40,null,null,null,null,null,null,null,null,null,null,"bins",null,40]
[null,"increment",{"$f":"(C10-C11)/C13","v":0.30273974708387702},null,null,null,null,null,null,null,null,"increment",{"$f":"(M10-M11)/M13","v":3.1836826698172775E-2},null,null,null,null,null,null,null,null,null,null,"increment",null,{"$f":"(Z11-Z10)/Z13","v":2.9438692014052758E-2}]
[]
[]
[]
[]
[]
[]
[null,null,null,"Frequency","Probability","normdist",null,null,null,null,null,null,null,"Frequency","Probability","normdist",null,null,null,null,null,null,null,null,"Frequency","Probability","normdist"]
[null,1,{"$f":"C11","v":0},{"$f":"FREQUENCY(First,C22:C61)","v":0},{"$f":"D22/SUM($D$22:$D$61)","v":0},{"$f":"NORMDIST(C22,$C$8,$C$9,FALSE)*$C$14","v":1.2751189195539157E-2},null,null,null,null,null,null,{"$f":"M11","v":-0.6414067236391866},{"$f":"FREQUENCY(LN_First,M22:M61)","v":0},{"$f":"N22/(SUM($N$22:$N$61))","v":0},{"$f":"NORMDIST(M22,$M$8,$M$9,FALSE)*$M$14","v":6.6477726179070106E-4},null,null,null,null,null,null,null,{"$f":"Z10","v":-0.62110958989856646},{"$f":"FREQUENCY(LN_second,X22:X61)","v":0},{"$f":"Y22/SUM(Y:Y)","v":0},{"$f":"NORMDIST(X22,$Z$8,$Z$9,0)*$Z$14","v":6.6477726179070117E-4}]
[null,{"$f":"B22+1","v":2},{"$f":"C22+$C$14","v":0.30273974708387702},0,{"$f":"D23/SUM($D$22:$D$61)","v":0},{"$f":"NORMDIST(C23,$C$8,$C$9,FALSE)*$C$14","v":1.6177273060535537E-2},null,null,null,null,null,null,{"$f":"M22+$M$14","v":-0.60956989694101382},1,{"$f":"N23/(SUM($N$22:$N$61))","v":2.7777777777777776E-2},{"$f":"NORMDIST(M23,$M$8,$M$9,FALSE)*$M$14","v":1.0309150035920965E-3},null,null,null,null,null,null,null,{"$f":"X22+$Z$14","v":-0.59167089788451366},0,{"$f":"Y23/SUM(Y:Y)","v":0},{"$f":"NORMDIST(X23,$Z$8,$Z$9,0)*$Z$14","v":1.0309150035920955E-3}]
[null,{"$f":"B23+1","v":3},{"$f":"C23+$C$14","v":0.60547949416775404},0,0,2.0106701186614388E-2,null,null,null,null,null,null,{"$f":"M23+$M$14","v":-0.57773307024284104},0,0,1.5631402221633905E-3,null,null,null,null,null,null,null,{"$f":"X23+$Z$14","v":-0.56223220587046085},1,2.7777777777777776E-2,1.5631402221633907E-3]
[null,4,0.908219241251631,0,0,2.4482581703578775E-2,null,null,null,null,null,null,-0.54589624354466826,0,0,2.3174020701592756E-3,null,null,null,null,null,null,null,-0.53279351385640805,0,0,2.3174020701592795E-3]
[null,5,1.2109589883355081,0,0,2.9204816539028965E-2,null,null,null,null,null,null,-0.51405941684649548,1,2.7777777777777776E-2,3.3591795442264346E-3,null,null,null,null,null,null,null,-0.50335482184235525,0,0,3.3591795442264425E-3]
[null,6,1.5136987354193852,1,2.7777777777777776E-2,3.4129712775904167E-2,null,null,null,null,null,null,-0.48222259014832269,0,0,4.7609477753501172E-3,null,null,null,null,null,null,null,-0.4739161298283025,0,0,4.7609477753501215E-3]
[null,7,1.8164384825032622,2,5.5555555555555552E-2,3.9074341298251165E-2,null,null,null,null,null,null,-0.45038576345014991,0,0,6.5975393970640842E-3,null,null,null,null,null,null,null,-0.44447743781424975,0,0,6.5975393970640903E-3]
[null,8,2.1191782295871393,3,8.3333333333333329E-2,4.3825974211532871E-2,null,null,null,null,null,null,-0.41854893675197713,0,0,8.9392059103224168E-3,null,null,null,null,null,null,null,-0.41503874580019701,1,2.7777777777777776E-2,8.9392059103224238E-3]
[null,9,2.4219179766710162,8,0.22222222222222221,4.8156218160112181E-2,null,null,null,null,null,null,-0.38671211005380435,0,0,1.1842523745134125E-2,null,null,null,null,null,null,null,-0.38560005378614426,0,0,1.1842523745134139E-2]
[null,10,2.724657723754893,6,0.16666666666666666,5.1838693666175044E-2,null,null,null,null,null,null,-0.35487528335563157,0,0,1.533973868459671E-2,null,null,null,null,null,null,null,-0.35616136177209151,0,{"$f":"Y31/SUM(Y:Y)","v":0},1.5339738684596715E-2]
[null,11,3.0273974708387699,2,5.5555555555555552E-2,5.4668430467088171E-2,null,null,null,null,null,null,-0.32303845665745878,1,2.7777777777777776E-2,1.9427639349883768E-2,null,null,null,null,null,null,null,-0.32672266975803876,0,0,1.9427639349883771E-2]
[null,12,3.3301372179226467,2,5.5555555555555552E-2,5.6480696449660819E-2,null,null,null,null,null,null,-0.291201629959286,1,2.7777777777777776E-2,2.405749910128795E-2,null,null,null,null,null,null,null,-0.29728397774398602,0,0,2.4057499101287953E-2]
[null,13,3.6328769650065236,0,0,5.7166863129696432E-2,null,null,null,null,null,null,-0.25936480326111322,0,0,2.9127908247481949E-2,null,null,null,null,null,null,null,-0.26784528572993327,2,5.5555555555555552E-2,2.9127908247481963E-2]
[null,14,3.9356167120904004,0,0,5.6685184202026895E-2,null,null,null,null,null,null,-0.22752797656294044,0,0,3.4482321102634973E-2,null,null,null,null,null,null,null,-0.23840659371588052,0,0,3.4482321102634973E-2]
[null,15,4.2383564591742777,3,8.3333333333333329E-2,5.5064999983554581E-2,null,null,null,null,null,null,-0.19569114986476766,0,0,3.9912787484813236E-2,null,null,null,null,null,null,null,-0.20896790170182777,1,2.7777777777777776E-2,3.9912787484813236E-2]
[null,16,4.541096206258155,0,0,5.2403778916140557E-2,null,null,null,null,null,null,-0.16385432316659487,1,2.7777777777777776E-2,4.5170614823220677E-2,null,null,null,null,null,null,null,-0.17952920968777503,3,8.3333333333333329E-2,4.517061482322067E-2]
[null,17,4.8438359533420323,0,0,4.8857410957333938E-2,null,null,null,null,null,null,-0.13201749646842209,1,2.7777777777777776E-2,4.9983690433769962E-2,null,null,null,null,null,null,null,-0.15009051767372228,2,5.5555555555555552E-2,4.9983690433769962E-2]
[null,18,5.1465757004259096,0,0,4.4625097066028872E-2,null,null,null,null,null,null,-0.10018066977024931,1,2.7777777777777776E-2,5.4079044369247202E-2,null,null,null,null,null,null,null,-0.12065182565966952,1,2.7777777777777776E-2,5.4079044369247202E-2]
[null,19,5.4493154475097869,1,2.7777777777777776E-2,3.9930870636915E-2,null,null,null,null,null,null,-6.8343843072076527E-2,2,5.5555555555555552E-2,5.7208172319078619E-2,null,null,null,null,null,null,null,-9.1213133645616756E-2,1,2.7777777777777776E-2,5.7208172319078626E-2]
[null,20,5.7520551945936642,2,5.5555555555555552E-2,3.5004128246565222E-2,null,null,null,null,null,null,-3.6507016373903751E-2,6,0.16666666666666666,5.9171899636183335E-2,null,null,null,null,null,null,null,-6.1774441631563995E-2,2,{"$f":"Y41/SUM(Y:Y)","v":5.5555555555555552E-2},5.9171899636183342E-2]
[null,21,6.0547949416775415,0,0,3.0061499113846299E-2,null,null,null,null,null,null,-4.6701896757309763E-3,4,0.1111111111111111,5.9841342060214894E-2,null,null,null,null,null,null,null,-3.2335749617511234E-2,2,5.5555555555555552E-2,5.9841342060214908E-2]
[null,22,6.3575346887614188,0,0,2.5291983125642403E-2,null,null,null,null,null,null,2.7166637022441799E-2,3,8.3333333333333329E-2,5.9171899636183328E-2,null,null,null,null,null,null,null,-2.8970576034584757E-3,3,8.3333333333333329E-2,5.9171899636183342E-2]
[null,23,6.6602744358452961,1,2.7777777777777776E-2,2.0846637454533072E-2,null,null,null,null,null,null,5.9003463720614574E-2,2,5.5555555555555552E-2,5.7208172319078605E-2,null,null,null,null,null,null,null,2.6541634410594282E-2,2,5.5555555555555552E-2,5.7208172319078612E-2]
[null,24,6.9630141829291734,0,0,1.6833329518390405E-2,null,null,null,null,null,null,9.0840290418787356E-2,1,2.7777777777777776E-2,5.4079044369247174E-2,null,null,null,null,null,null,null,5.5980326424647037E-2,3,8.3333333333333329E-2,5.4079044369247188E-2]
[null,25,7.2657539300130507,1,2.7777777777777776E-2,1.3316341293792132E-2,null,null,null,null,null,null,0.12267711711696014,0,0,4.998369043376992E-2,null,null,null,null,null,null,null,8.5419018438699798E-2,4,0.1111111111111111,4.9983690433769941E-2]
[null,26,7.568493677096928,0,0,1.032002361515371E-2,null,null,null,null,null,null,0.15451394381513292,2,5.5555555555555552E-2,4.5170614823220635E-2,null,null,null,null,null,null,null,0.11485771045275256,2,5.5555555555555552E-2,4.5170614823220649E-2]
[null,27,7.8712334241808053,2,5.5555555555555552E-2,7.835330965091836E-3,null,null,null,null,null,null,0.1863507705133057,2,5.5555555555555552E-2,3.9912787484813188E-2,null,null,null,null,null,null,null,0.14429640246680531,1,2.7777777777777776E-2,3.9912787484813222E-2]
[null,28,8.1739731712646826,1,2.7777777777777776E-2,5.8279374469867879E-3,null,null,null,null,null,null,0.21818759721147848,1,2.7777777777777776E-2,3.4482321102634918E-2,null,null,null,null,null,null,null,0.17373509448085805,1,2.7777777777777776E-2,3.4482321102634945E-2]
[null,29,8.476712918348559,0,0,4.2467167850923594E-3,null,null,null,null,null,null,0.25002442390965124,2,5.5555555555555552E-2,2.9127908247481925E-2,null,null,null,null,null,null,null,0.2031737864949108,1,2.7777777777777776E-2,2.9127908247481939E-2]
[null,30,8.7794526654324354,0,0,3.0316048756349593E-3,null,null,null,null,null,null,0.28186125060782402,0,0,2.4057499101287922E-2,null,null,null,null,null,null,null,0.23261247850896355,1,2.7777777777777776E-2,2.4057499101287939E-2]
[null,31,9.0821924125163118,1,2.7777777777777776E-2,2.1201802084673703E-3,null,null,null,null,null,null,0.3136980773059968,3,8.3333333333333329E-2,1.9427639349883747E-2,null,null,null,null,null,null,null,0.2620511705230163,0,0,1.9427639349883761E-2]
[null,32,9.3849321596001882,0,0,1.4526260781263492E-3,null,null,null,null,null,null,0.34553490400416959,0,0,1.5339738684596687E-2,null,null,null,null,null,null,null,0.29148986253706904,0,0,1.5339738684596704E-2]
[null,33,9.6876719066840646,0,0,9.7502506003645966E-4,null,null,null,null,null,null,0.37737173070234237,1,2.7777777777777776E-2,1.1842523745134113E-2,null,null,null,null,null,null,null,0.32092855455112179,1,2.7777777777777776E-2,1.1842523745134123E-2]
[null,34,9.990411653767941,0,0,6.4114845594967767E-4,null,null,null,null,null,null,0.40920855740051515,0,0,8.9392059103223995E-3,null,null,null,null,null,null,null,0.35036724656517454,0,0,8.9392059103224099E-3]
[null,35,10.293151400851817,0,0,4.1303067255055235E-4,null,null,null,null,null,null,0.44104538409868793,0,0,6.5975393970640729E-3,null,null,null,null,null,null,null,0.37980593857922729,0,0,6.597539397064079E-3]
[null,36,10.595891147935694,0,0,2.6066750160411004E-4,null,null,null,null,null,null,0.47288221079686071,0,0,4.7609477753501077E-3,null,null,null,null,null,null,null,0.40924463059328003,0,0,4.7609477753501129E-3]
[null,37,10.89863089501957,0,0,1.6116560227003097E-4,null,null,null,null,null,null,0.50471903749503344,0,0,3.359179544226432E-3,null,null,null,null,null,null,null,0.43868332260733278,1,2.7777777777777776E-2,3.3591795442264351E-3]
[null,38,11.201370642103447,0,0,9.7619977371047839E-5,null,null,null,null,null,null,0.53655586419320622,0,0,2.3174020701592739E-3,null,null,null,null,null,null,null,0.46812201462138553,0,0,2.3174020701592795E-3]
[null,39,11.504110389187323,0,0,5.792765273338716E-5,null,null,null,null,null,null,0.568392690891379,0,0,1.5631402221633886E-3,null,null,null,null,null,null,null,0.49756070663543828,0,0,1.5631402221633907E-3]
[null,40,11.8068501362712,0,0,3.3675499048380018E-5,null,null,null,null,null,null,0.60022951758955179,0,0,1.0309150035920946E-3,null,null,null,null,null,null,null,0.52699939864949108,0,0,1.0309150035920955E-3]
[null,null,null,null,{"$f":"SUM(E22:E61)","v":1},{"$f":"SUM(F22:F61)","v":0.96445943275460422}]

{"sheet":"regression","index":12,"n_rows":18,"n_cols":19,"rows_kept":18,"cut":false,"hidden":false,"merged":[]}
["SUMMARY OUTPUT"]
[]
["Regression Statistics"]
["Multiple R",0.40537779536082336]
["R Square",0.16433115697160158]
["Adjusted R Square",0.16015281275645957,null,null,null,null,null,null,null,null,null,"coeff",{"$f":"LINEST(Second,First,,TRUE)","v":6.4543950298115398},-3.6658779874249063,{"$error":"#N/A"},null,{"$f":"SLOPE(Second,First)","v":6.4543950298115442}]
["Standard Error",72.631360977982183,null,null,null,null,null,null,null,null,null,"stdev",0.54629068812177006,2.3003193297450029,{"$error":"#N/A"},null,{"$f":"INTERCEPT(Second,First)","v":-3.6658779874249241}]
["Observations",202,null,null,null,null,null,null,null,null,null,"rsq",0.80413951268692296,6.8274486637664493,{"$error":"#N/A"}]
[]
["ANOVA"]
[null,"df","SS","MS","F","Significance F"]
["Regression",1,207474.18272938696,207474.18272938696,39.329253051023983,2.1682996709420371E-9,null,null,null,null,null,null,{"$f":"'Prices for Graph'!U4","v":"Natural gas, US"},"=",{"$f":"ROUND(Q7,3)","v":-3.6659999999999999},"+",{"$f":"ROUND(Q6,3)","v":6.4539999999999997},"*",{"$f":"M13","v":"Natural gas, Europe"}]
["Residual",200,1055062.9195027906,5275.3145975139523,null,null,null,null,null,null,null,null,{"$f":"'Prices for Graph'!V4","v":"Natural gas, Europe"},"=",0.56999999999999995]
["Total",201,1262537.1022321775]
[]
[null,"Coefficients","Standard Error","t Stat","P-value","Lower 95%","Upper 95%","Lower 95.0%","Upper 95.0%"]
["Intercept",363.64747508917117,28.571659623266481,12.727558702716928,1.4325920242394797E-27,307.30712737509856,419.98782280324377,307.30712737509856,419.98782280324377]
["X Variable 1",-3.158831016954263,0.50369604941148916,-6.2713039354686098,2.1682996709419577E-9,-4.1520673546480973,-2.1655946792604284,-4.1520673546480973,-2.1655946792604284,null,null,null,{"$f":"addtext(M12:S12)","v":" Natural gas, US = -3.666 + 6.454 * Natural gas, Europe"}]

{"sheet":"Misc","index":13,"n_rows":84,"n_cols":8,"rows_kept":84,"cut":false,"hidden":false,"merged":[]}
[]
[]
[]
[]
[null,null,{"$f":"TRANSPOSE('Monthly Prices'!B5:CE5)","v":"Crude oil, average"},null,null,null,"NA",{"$f":"MATCH(TRUE,FALSE)","v":{"$error":"#N/A"}}]
[null,null,"Crude oil, Brent"]
[null,null,"Crude oil, Dubai"]
[null,null,"Crude oil, WTI"]
[null,null,"Coal, Australian"]
[null,null,"Coal, South African **"]
[null,null,"Natural gas, US"]
[null,null,"Natural gas, Europe"]
[null,null,"Liquefied natural gas, Japan"]
[null,null,"Natural gas index"]
[null,null,"Cocoa"]
[null,null,"Coffee, Arabica"]
[null,null,"Coffee, Robusta"]
[null,null,"Tea, avg 3 auctions"]
[null,null,"Tea, Colombo"]
[null,null,"Tea, Kolkata"]
[null,null,"Tea, Mombasa"]
[null,null,"Coconut oil"]
[null,null,"Groundnuts"]
[null,null,"Fish meal"]
[null,null,"Groundnut oil **"]
[null,null,"Palm oil"]
[null,null,"Palm kernel oil"]
[null,null,"Soybeans"]
[null,null,"Soybean oil"]
[null,null,"Soybean meal"]
[null,null,"Rapeseed oil"]
[null,null,"Sunflower oil"]
[null,null,"Barley"]
[null,null,"Maize"]
[null,null,"Sorghum"]
[null,null,"Rice, Thai 5% "]
[null,null,"Rice, Thai 25% "]
[null,null,"Rice, Thai A.1"]
[null,null,"Rice, Viet Namese 5%"]
[null,null,"Wheat, US SRW"]
[null,null,"Wheat, US HRW"]
[null,null,"Banana, Europe"]
[null,null,"Banana, US"]
[null,null,"Orange"]
[null,null,"Beef **"]
[null,null,"Chicken **"]
[null,null,"Lamb **"]
[null,null,"Shrimps, Mexican"]
[null,null,"Sugar, EU"]
[null,null,"Sugar, US"]
[null,null,"Sugar, world"]
[null,null,"Tobacco, US import u.v."]
[null,null,"Logs, Cameroon"]
[null,null,"Logs, Malaysian"]
[null,null,"Sawnwood, Cameroon"]
[null,null,"Sawnwood, Malaysian"]
[null,null,"Plywood"]
[null,null,"Cotton, A Index"]
[null,null,"Rubber, TSR20 **"]
[null,null,"Rubber, RSS3"]
[null,null,"Phosphate rock"]
[null,null,"DAP"]
[null,null,"TSP"]
[null,null,"Urea "]
[null,null,"Potassium chloride **"]
[null,null,"Aluminum"]
[null,null,"Iron ore, cfr spot"]
[null,null,"Copper"]
[null,null,"Lead"]
[null,null,"Tin"]
[null,null,"Nickel"]
[null,null,"Zinc"]
[null,null,"Gold"]
[null,null,"Platinum"]
[null,null,"Silver"]
[null,null,0]
[null,null,0]
[null,null,0]
[null,null,0]
[null,null,0]
[null,null,0]
[null,null,0]
[null,null,0]
[null,null,0]

{"sheet":"Description","index":14,"n_rows":113,"n_cols":20,"rows_kept":113,"cut":false,"hidden":false,"merged":[]}
["World Bank Commodity Price Data (The Pink Sheet)"]
["Series Description",null,null,null,null,null,null,null,null,null,null,null,null,null,null,null,null,null,null,"Sources"]
["Energy"]
["   *","Coal (Australia), from January 2015, port thermal, fo.b. Newcastle, 6000 kcal/kg spot price. 2002-2014, thermal GAR, f.o.b. piers, Newcastle/Port Kembla , 6,300 kcal/kg (11,340 btu/lb), less than 0.8%, sulfur 13% ash; previously 6,667 kcal/kg (12,000 btu/lb), less than 1.0% sulfur, 14%  ash",null,null,null,null,null,null,null,null,null,null,null,null,null,null,null,null,null,"Bloomberg; Coal Week International; Coal Week; IHS McCloskey Coal Report; International Coal Report World Bank."]
[null,"Coal (Colombia), thermal GAR, f.o.b. Bolivar,  6,450 kcal/kg, (11,200 btu/lb), less than 1.0%, sulfur 16% ash from August 2005 onwards; during years 2002-July 2005 11,600 btu/lb, less than .8% sulfur, 9% ash , 180 days forward delivery",null,null,null,null,null,null,null,null,null,null,null,null,null,null,null,null,null,"Coal Week; Coal Week International; International Coal Report; World Bank."]
[null,"Coal (South Africa), from January 2015, f.o.b. Richards Bay, NAR, 6,000 kcal/kg, sulfur less than 1%, forward month 1;  from February 13, 2017 to December 2017, thermal NAR netback assessment f.o.b. Richards Bay 6,000 kcal/kg; during 2006-February 10, 2017 thermal NAR; during 2002-2005 6,200 kcal/kg (11,200 btu/lb), less than 1.0%, sulfur 16% ash; years 1990-2001 6390 kcal/kg (11,500 btu/lb)",null,null,null,null,null,null,null,null,null,null,null,null,null,null,null,null,null,"Bloomberg; Coal Week; Coal Week International; International Coal Report; World Bank."]
["   *","Crude oil, average spot price of Brent, Dubai and West Texas  Intermediate, equally weighed",null,null,null,null,null,null,null,null,null,null,null,null,null,null,null,null,null,"World Bank."]
[null,"Crude oil, UK Brent 38` API.",null,null,null,null,null,null,null,null,null,null,null,null,null,null,null,null,null,"Bloomberg; Energy Intelligence Group (EIG); Organization of Petroleum Exporting Countries (OPEC); World Bank."]
[null,"Crude oil, Dubai Fateh 32` API for years 1985-present; 1960-84 refer to Saudi Arabian Light, 34` API.",null,null,null,null,null,null,null,null,null,null,null,null,null,null,null,null,null,"Bloomberg; Energy Intelligence Group (EIG); Organization of Petroleum Exporting Countries (OPEC); World Bank."]
[null,"Crude oil, US, West Texas Intermediate (WTI) 40` API.",null,null,null,null,null,null,null,null,null,null,null,null,null,null,null,null,null,"Bloomberg; Energy Intelligence Group (EIG); Organization of Petroleum Exporting Countries (OPEC); World Bank."]
["   *","Natural gas index (Laspeyres), average of Europe, US and Japan (LNG), weights based on 5-year average consumption volumes, updated every 5 years, except the 11-year period 1960-70.",null,null,null,null,null,null,null,null,null,null,null,null,null,null,null,null,null,"World Bank."]
["   *","Natural Gas (Europe), from April 2015, Netherlands Title Transfer Facility (TTF); April 2010 to March 2015, average import border price and a spot price component, including UK; during June 2000 - March 2010 prices excludes UK.  ",null,null,null,null,null,null,null,null,null,null,null,null,null,null,null,null,null,"Bloomberg; World Gas Intelligence; World Bank."]
["   *","Natural Gas (U.S.), spot price at Henry Hub, Louisiana",null,null,null,null,null,null,null,null,null,null,null,null,null,null,null,null,null,"Bloomberg; Thomson Reuters Datastream; The Wall Street Journal; World Bank."]
["   *","Liquefied natural gas (Japan), LNG, import price, cif; recent two months' averages are estimates.",null,null,null,null,null,null,null,null,null,null,null,null,null,null,null,null,null,"Official Statistics of Japan; World Gas Intelligence; World Bank."]
[]
[]
["Beverages"]
["   *","Cocoa (ICCO), International Cocoa Organization daily price, average of  the first three positions on the terminal markets of New York and London, nearest three future trading months.",null,null,null,null,null,null,null,null,null,null,null,null,null,null,null,null,null,"Bloomberg; International Cocoa Organization Secretariat; World Bank."]
["   *","Coffee (ICO), International Coffee Organization indicator price, other mild Arabicas, average New York and Bremen/Hamburg markets, ex-dock",null,null,null,null,null,null,null,null,null,null,null,null,null,null,null,null,null,"Bloomberg; Complete Coffee Coverage; International Coffee Organization; Thomson Reuters Datastream; World Bank."]
["   *","Coffee (ICO), International Coffee Organization indicator price, Robustas, average New York and Le Havre/Marseilles markets, ex-dock",null,null,null,null,null,null,null,null,null,null,null,null,null,null,null,null,null,"Bloomberg; Complete Coffee Coverage; International Coffee Organization; Thomson Reuters Datastream; World Bank."]
["   *","Tea , average three auctions, arithmetic average of quotations at Kolkata, Colombo and Mombasa/Nairobi.",null,null,null,null,null,null,null,null,null,null,null,null,null,null,null,null,null,"World Bank."]
[null,"Tea (Colombo auctions), Sri Lankan origin, all tea, arithmetic average of weekly quotes.",null,null,null,null,null,null,null,null,null,null,null,null,null,null,null,null,null,"International Tea Committee; Tea Broker's Association of London; Tea Exporters Association Sri Lanka; World Bank."]
[null,"Tea (Kolkata auctions), leaf, include excise duty, arithmetic average of weekly quotes.",null,null,null,null,null,null,null,null,null,null,null,null,null,null,null,null,null,"International Tea Committee; Tea Board India; Tea Broker's Association of London; World Bank."]
[null,"Tea (Mombasa/Nairobi auctions), African origin, all tea, arithmetic average of weekly quotes.",null,null,null,null,null,null,null,null,null,null,null,null,null,null,null,null,null,"African Tea Brokers Limited; International Tea Committee; Tea Broker's Association of London; World Bank."]
[]
["Oils and Meals"]
["   *","Coconut oil (Philippines/Indonesia), from January 2021, crude, CIF Rotterdam; January 1999 to December 2020, crude, CIF NW Europe; previously, bulk, c.i.f. Rotterdam",null,null,null,null,null,null,null,null,null,null,null,null,null,null,null,null,null,"Markit Group Limited (formerly IHS Markit Agribusiness UK Ltd); Bloomberg; ISTA Mielke GmbH, Oil World; US Department of Agriculture; World Bank."]
[null,"Copra (Philippines/Indonesia), bulk, c.i.f. N.W. Europe",null,null,null,null,null,null,null,null,null,null,null,null,null,null,null,null,null,"Bloomberg; ISTA Mielke GmbH, Oil World; US Department of Agriculture; World Bank."]
[null,"Fishmeal, from January 2021, German Fishmeal, Danish 64% Pro, FOB Bremen; January 1999 to December 2020, German, 64% protein, EXW Hamburg",null,null,null,null,null,null,null,null,null,null,null,null,null,null,null,null,null,"Markit Group Limited (formerly IHS Markit Agribusiness UK Ltd); Bloomberg; ISTA Mielke GmbH, Oil World; US Department of Agriculture; World Bank."]
[null,"Groundnuts (U.S.), Runners 40/50, CFR N.W. Europe. Europe beginning January 1999; previously (US), Runners 40/50 shelled basis, c.i.f. Rotterdam",null,null,null,null,null,null,null,null,null,null,null,null,null,null,null,null,null,"Markit Group Limited (formerly IHS Markit Agribusiness UK Ltd); Bloomberg; ISTA Mielke GmbH, Oil World; US Department of Agriculture; World Bank."]
["   *","Groundnut oil, U.S. crude, FOB South-East beginning January 1999; previously any origin, c.i.f. Rotterdam.",null,null,null,null,null,null,null,null,null,null,null,null,null,null,null,null,null,"Markit Group Limited (formerly IHS Markit Agribusiness UK Ltd); Bloomberg; ISTA Mielke GmbH, Oil World; US Department of Agriculture; World Bank."]
["   *","Palm oil (Malaysia), from January 2021, RBD, FOB Malaysia Ports; December 2001 to December 2020, RBD, CIF Rotterdam; previously Malaysia 5%,  c.i.f. N.W. Europe, bulk, nearest forward .",null,null,null,null,null,null,null,null,null,null,null,null,null,null,null,null,null,"Markit Group Limited (formerly IHS Markit Agribusiness UK Ltd); Bloomberg; ISTA Mielke GmbH, Oil World; US Department of Agriculture; World Bank."]
[null,"Palmkernel oil (Malaysia/Indonesia), from January 2021, crude CIF Rotterdam; August 2001 to December 2020, crude, CIF NW Europe; previously Malaysian, nearest forward.",null,null,null,null,null,null,null,null,null,null,null,null,null,null,null,null,null,"Markit Group Limited (formerly IHS Markit Agribusiness UK Ltd); Bloomberg; ISTA Mielke GmbH, Oil World; US Department of Agriculture; World Bank."]
["   *","Soybean meal, from January 2021, Soybean Pellets 48% Pro, Brazil, CIF Rotterdam; January 1999 to December 2020, Brazilian pellets 48% protein, CIF Rotterdam; during 1990 - 1998, 45/46% c.i.f. Rotterdam, nearest forward; previously US origin 44%.",null,null,null,null,null,null,null,null,null,null,null,null,null,null,null,null,null,"Markit Group Limited (formerly IHS Markit Agribusiness UK Ltd); Bloomberg; ISTA Mielke GmbH, Oil World; US Department of Agriculture; World Bank."]
["   *","Soybean oil, from January 2021, Dutch Soyoil Crude Degummed, EXW Dutch Mills; January 1999 to December 2020, Dutch crude degummed, FOB NW Europe; previously crude, f.o.b. ex-mill Netherlands, nearest forward.",null,null,null,null,null,null,null,null,null,null,null,null,null,null,null,null,null,"Markit Group Limited (formerly IHS Markit Agribusiness UK Ltd); Bloomberg; ISTA Mielke GmbH, Oil World; US Department of Agriculture; World Bank."]
["   *","Soybeans, from January 2021, U.S Gulf Yellow Soybean #2, CIF Rotterdam; December 2007 to December 2020, U.S. No. 2 yellow meal, CIF Rotterdam; previously US origin, nearest forward.",null,null,null,null,null,null,null,null,null,null,null,null,null,null,null,null,null,"Markit Group Limited (formerly IHS Markit Agribusiness UK Ltd); Bloomberg; ISTA Mielke GmbH, Oil World; US Department of Agriculture; World Bank."]
[]
["Grains"]
["   *","Barley (U.S.) feed, No. 2, spot, 20 days To-Arrive, delivered Minneapolis from May 2012 onwards; during 1980 - 2012 April Canadian, feed, Western No. 1, Winnipeg Commodity Exchange, spot, wholesale farmers' price",null,null,null,null,null,null,null,null,null,null,null,null,null,null,null,null,null,"Bloomberg; US Department of Agriculture; World Bank."]
["   *","Maize (U.S.), no. 2, yellow, f.o.b. US Gulf ports",null,null,null,null,null,null,null,null,null,null,null,null,null,null,null,null,null,"Bloomberg; US Department of Agriculture; World Bank."]
["   *","Rice (Thailand), 5% broken, white rice (WR), milled, indicative price based on  weekly surveys of export transactions, government standard, f.o.b. Bangkok",null,null,null,null,null,null,null,null,null,null,null,null,null,null,null,null,null,"Bloomberg; US Department of Agricuture; World Bank."]
[null,"Rice (Thailand), 25% broken, WR, milled indicative survey price, government standard, f.o.b. Bangkok",null,null,null,null,null,null,null,null,null,null,null,null,null,null,null,null,null,"Bloomberg; US Department of Agricuture; World Bank."]
[null,"Rice (Thailand), 100% broken, A.1 Super from 2006 onwards, government standard, f.o.b. Bangkok; prior to 2006, A1 Special, a slightly lower grade than A1 Super.",null,null,null,null,null,null,null,null,null,null,null,null,null,null,null,null,null,"Bloomberg; US Department of Agricuture; World Bank."]
[null,"Rice (Vietnam), 5% broken, WR, milled, weekly indicative survey price, Minimum Export Price, f.o.b. Hanoi",null,null,null,null,null,null,null,null,null,null,null,null,null,null,null,null,null,"Bloomberg; US Department of Agricuture; World Bank."]
[null,"Sorghum (US), no. 2 milo yellow, Texas export bids for grain delivered to export elevators, rail-truck, f.o.b. Gulf ports",null,null,null,null,null,null,null,null,null,null,null,null,null,null,null,null,null,"US Department of Agriculture; World Bank."]
[null,"Wheat (Canada), no. 1, Western Red Spring (CWRS), in store, St. Lawrence, export price",null,null,null,null,null,null,null,null,null,null,null,null,null,null,null,null,null,"Canadian Grain Commission; Thomson Reuters Datastream; World Bank."]
["   *","Wheat (U.S.), no. 2 hard red winter Gulf export price; June 2020 backwards, no. 1, hard red winter, ordinary protein, export price delivered at the US Gulf port for prompt or 30 days shipment",null,null,null,null,null,null,null,null,null,null,null,null,null,null,null,null,null,"Bloomberg; US Department of Agriculture; World Bank."]
[null,"Wheat (U.S.), no. 2, soft red winter, export price delivered at the US Gulf port for prompt or 30 days shipment",null,null,null,null,null,null,null,null,null,null,null,null,null,null,null,null,null,"Bloomberg; US Department of Agriculture; World Bank."]
[]
["Other food"]
[null,"Bananas (Central & South America), major brands, free on truck (f.o.t.) Southern Europe, including duties; prior to October 2006, f.o.t. Hamburg. ",null,null,null,null,null,null,null,null,null,null,null,null,null,null,null,null,null,"Food and Agricultural Organization;  Nova Media Publishing, Inc.; Union of Banana-Exporting Countries (UPEB); US Bureau of Labor Statistics; World Bank."]
["   *","Bananas (Central & South America), major brands, US import price, free on truck (f.o.t.) US Gulf ports. ",null,null,null,null,null,null,null,null,null,null,null,null,null,null,null,null,null,"Food and Agricultural Organization;  Nova Media Publishing, Inc.; Union of Banana-Exporting Countries (UPEB); US Bureau of Labor Statistics; World Bank."]
["   *","Meat, beef (Australia/New Zealand), mixed trimmings 85%, East Coast, 7-45 day deferred delivery, FOB port of entry, beginning January 1995; previously cow forequarters",null,null,null,null,null,null,null,null,null,null,null,null,null,null,null,null,null,"Meat & Livestock Australia, Meat and Livestock Weekly; The National Provisioner; Urner Barry; US Department of Agriculture; World Bank."]
["   *","Meat, chicken (US), Urner Barry North East weighted average for broiler/fryer, whole birds, 2.5 to 3.5 pounds, USDA grade \"A\" from 2013 onwards; 1980-2012, Georgia Dock weighted average, 2.5 to 3 pounds,wholesale; previously World Bank estimates.",null,null,null,null,null,null,null,null,null,null,null,null,null,null,null,null,null,"Bloomberg; Urner Barry; US Department of Agriculture; World Bank."]
[null,"Meat, sheep (New Zealand), frozen whole carcasses Prime Medium (PM) wholesale, Smithfield, London  beginning January 2006; previously Prime Light (PL)",null,null,null,null,null,null,null,null,null,null,null,null,null,null,null,null,null,"Meat Trade Journal; World Bank."]
["   *","Oranges (Mediterranean exporters) navel, European Union indicative import price, c.i.f. Paris",null,null,null,null,null,null,null,null,null,null,null,null,null,null,null,null,null,"Bloomberg; INTERFEL, Fel Actualite hebdo; FRuiTrop; Marche Europeens Des Fruits et Legumes; World Bank."]
["   *","Shrimp , (U.S.), brown, shell-on, headless, in frozen blocks, source Gulf of Mexico, 26 to 30 count per pound, wholesale US beginning 2004; previously New York.",null,null,null,null,null,null,null,null,null,null,null,null,null,null,null,null,null,"Fishery Market News; Urner Barry; US Bureau of Labor Statistics; US Nationational Ocearnic and Atmospheric Administration (NOAA); World Bank."]
[null,"Sugar (EU), European Union negotiated import price for raw unpackaged sugar from African, Caribbean and Pacific (ACP) under Lome Conventions, c.I.f. European ports",null,null,null,null,null,null,null,null,null,null,null,null,null,null,null,null,null,"International Monetary Fund; World Bank."]
[null,"Sugar (U.S.), nearby futures contract, c.i.f. ",null,null,null,null,null,null,null,null,null,null,null,null,null,null,null,null,null,"Bloomberg, World Bank."]
["   *","Sugar (World), International Sugar Agreement (ISA) daily price, raw,  f.o.b. and stowed at greater Caribbean ports",null,null,null,null,null,null,null,null,null,null,null,null,null,null,null,null,null,"Bloomberg; International Sugar Organization; Thomson Reuters Datastream; World Bank."]
[]
[]
["Raw Materials"]
["Timber"]
["   *","Logs (Africa), sapele, high quality (loyal and marchand), 80 centimeter or more, f.o.b. Douala, Cameroon beginning January 1996; previously of unspecified dimension",null,null,null,null,null,null,null,null,null,null,null,null,null,null,null,null,null,"International Tropical Timber Organization; Marches Tropicaux et Mediterraneens; World Bank."]
["   *","Logs (Southeast Asia), meranti, Sarawak, sale price charged by importers, Tokyo beginning February 1993; previously average of Sabah and Sarawak weighted by Japanese import volumes",null,null,null,null,null,null,null,null,null,null,null,null,null,null,null,null,null,"International Tropical Timber Organization; Mokuzai Shikyo Geppo; World Bank."]
[null,"Plywood (Africa and Southeast Asia), Lauan, 3-ply, extra, 91 cm x 182 cm x 4 mm,  wholesale price, spot Tokyo",null,null,null,null,null,null,null,null,null,null,null,null,null,null,null,null,null,"International Tropical Timber Organization; Japan Lumber Journal; Nikkei Newsletter on Commodities; World Bank."]
[null,"Sawnwood (Africa), sapele, width 6 inches or more, length 6 feet or more, f.a.s. Cameroonian ports",null,null,null,null,null,null,null,null,null,null,null,null,null,null,null,null,null,"International Tropical Timber Organization; Marches Tropicaux et Mediterraneens; World Bank."]
["   *","Sawnwood (Southeast Asia), dark red seraya/meranti, select and better quality, average 7 to 8 inches; length average 12 to 14 inches; thickness 1 to 2 inch(es);  kiln dry, c. & f. UK ports, with 5% agents commission including premium for products of certified sustainable forest beginning January 2005; previously excluding the premium",null,null,null,null,null,null,null,null,null,null,null,null,null,null,null,null,null,"International Tropical Timber Organization; Tropical Timbers; World Bank."]
[null,"Woodpulp (Sweden), softwood, sulphate, bleached, air-dry weight, c.i.f.  North Sea ports",null,null,null,null,null,null,null,null,null,null,null,null,null,null,null,null,null,"Statistisches Bundesamt, Germany; Allman Manadsstatistik, Sweden; World Bank."]
[]
["Other Raw Materials"]
["   *","Cotton (Cotton Outlook \"CotlookA index\"), middling 1-3/32 inch, traded in Far East, C/F beginning 2006; previously Northern Europe, c.i.f.",null,null,null,null,null,null,null,null,null,null,null,null,null,null,null,null,null,"Bloomberg; Cotton Outlook; International Cotton Advisory Committee; Liverpool Cotton Services Ltd.; World Bank."]
[null,"Cotton (US), Memphis/Eastern, middling 1-3/32 inch, Far East , C/F beginning October 2008; previously c.i.f. Northern Europe",null,null,null,null,null,null,null,null,null,null,null,null,null,null,null,null,null,"Cotton Outlook; International Cotton Advisory Committee; Liverpool Cotton Services Ltd.; World Bank."]
["   *","Rubber (Asia), RSS3 grade, Singapore Commodity Exchange Ltd (SICOM) nearby contract beginning 2004; during 2000 to 2003, Singapore RSS1; previously Malaysia RSS1",null,null,null,null,null,null,null,null,null,null,null,null,null,null,null,null,null,"Asian Wall Street Journal; Bloomberg; International Rubber Study Group; Rubber Association of Singapore Commodity Exchange (RASCE); Singapore Exchange Ltd (SGX previously SICOM); World Bank."]
[null,"Rubber (any origin), Ribbed Smoked Sheet (RSS) no. 1, in bales, Rubber Traders Association (RTA), spot, New York",null,null,null,null,null,null,null,null,null,null,null,null,null,null,null,null,null,"International Rubber Study Group; The Wall Street Journal; World Bank."]
[null,"Rubber (Asia), TSR 20, Technically Specified Rubber, SGX/SICOM nearby futures contract",null,null,null,null,null,null,null,null,null,null,null,null,null,null,null,null,null,"Asian Wall Street Journal; Bloomberg; International Rubber Study Group; Rubber Association of Singapore Commodity Exchange (RASCE); Singapore Exchange Ltd (SGX previously SICOM); World Bank."]
["   *","Tobacco (any origin), unmanufactured, general import , cif, US",null,null,null,null,null,null,null,null,null,null,null,null,null,null,null,null,null,"US Department of Agriculture, World Bank."]
[]
["Fertilizers"]
["   *","DAP (diammonium phosphate), spot, f.o.b. US Gulf",null,null,null,null,null,null,null,null,null,null,null,null,null,null,null,null,null,"Bloomberg; Bloomberg L.P. - Green Markets (formerly Kennedy Information LLC)"]
["   *","Phosphate rock , f.o.b. North Africa",null,null,null,null,null,null,null,null,null,null,null,null,null,null,null,null,null,"Bloomberg; Bloomberg L.P. - Green Markets (formerly Kennedy Information LLC)"]
["   *","Potassium chloride (muriate of potash), f.o.b. Vancouver",null,null,null,null,null,null,null,null,null,null,null,null,null,null,null,null,null,"Bloomberg; Bloomberg L.P. - Green Markets (formerly Kennedy Information LLC)"]
["   *","TSP (triple superphosphate), spot, import US Gulf",null,null,null,null,null,null,null,null,null,null,null,null,null,null,null,null,null,"Bloomberg; Bloomberg L.P. - Green Markets (formerly Kennedy Information LLC)"]
["   *","Urea, (Ukraine), f.o.b. Black Sea",null,null,null,null,null,null,null,null,null,null,null,null,null,null,null,null,null,"Bloomberg; Bloomberg L.P. - Green Markets (formerly Kennedy Information LLC)"]
[]
["Metals and Minerals"]
["   *","Aluminum (LME) London Metal Exchange, unalloyed primary ingots, high grade, minimum 99.7% purity, settlement price beginning 2005; previously cash price",null,null,null,null,null,null,null,null,null,null,null,null,null,null,null,null,null,"Bloomberg; Engineering and Mining Journal; Platts Metals Week; Thomson Reuters Datastream; World Bank."]
["   *","Copper (LME), grade A, minimum 99.9935% purity, cathodes and wire bar shapes, settlement price",null,null,null,null,null,null,null,null,null,null,null,null,null,null,null,null,null,"Bloomberg; Engineering and Mining Journal; Platts Metals Week; Thomson Reuters Datastream; World Bank."]
[null,"Iron ore, spot in US dollar/dry ton and contract in US cents/dmtu. For years 2008 (December) to present, spot, (any origin) fines, 62% Fe, c.f.r. China; during 2006 to 2008 (November) spot, 63.5%Fe.  Earlier data refer to annual contract prices (Brazil for Europe,) VALE Carajas mines sinter feed, f.o.b. Ponta da Madeira during years 1987-2009; Itabira mines f.o.b. Tubarão for years 1960-86.  Unit dmtu denotes dry metric ton unit , i.e. 1% Fe-unit. ",null,null,null,null,null,null,null,null,null,null,null,null,null,null,null,null,null,"VALE; CVRD; UNCTAD; World Bank."]
["   *","Iron ore (any origin) fines, spot price, c.f.r. China, 62% Fe beginning December 2008; previously 63.5%",null,null,null,null,null,null,null,null,null,null,null,null,null,null,null,null,null,"Bloomberg; Thomson Reuters Datastream, World Bank."]
["   *","Lead (LME), refined, 99.97% purity, settlement price",null,null,null,null,null,null,null,null,null,null,null,null,null,null,null,null,null,"Bloomberg; Engineering and Mining Journal; Platts Metals Week; Thomson Reuters Datastream; World Bank."]
["   *","Nickel (LME), cathodes, minimum 99.8% purity, settlement price beginning 2005; previously cash price",null,null,null,null,null,null,null,null,null,null,null,null,null,null,null,null,null,"Bloomberg; Platts Metals Week, Thomson Reuters Datastream; World Bank."]
[null,"Steel products index",null,null,null,null,null,null,null,null,null,null,null,null,null,null,null,null,null,"World Bank."]
[null,"Steel, Cold-rolled coil/sheet (Japan) producers' export contracts (3 to 12 months terms) fob mainly to Asia",null,null,null,null,null,null,null,null,null,null,null,null,null,null,null,null,null,"Japan Metal Bulletin, World Bank."]
[null,"Steel, Hot-rolled coil/sheet (Japan) producers' export contracts (3 to 12 months terms) fob mainly to Asia",null,null,null,null,null,null,null,null,null,null,null,null,null,null,null,null,null,"Japan Metal Bulletin, World Bank."]
[null,"Steel, Rebar (concrete Reinforcing bars) (Japan) producers' export contracts (3 to 12 months terms) fob mainly to Asia",null,null,null,null,null,null,null,null,null,null,null,null,null,null,null,null,null,"Japan Metal Bulletin, World Bank."]
[null,"Steel, Wire ord (Japan) producers' export contracts (3 to 12 months terms) fob mainly to Asia",null,null,null,null,null,null,null,null,null,null,null,null,null,null,null,null,null,"Japan Metal Bulletin, World Bank."]
["   *","Tin (LME), refined, 99.85% purity, settlement price",null,null,null,null,null,null,null,null,null,null,null,null,null,null,null,null,null,"Bloomberg; Engineering and Mining Journal; Platts Metals Week; Thomson Reuters Datastream; World Bank."]
["   *","Zinc (LME), high grade, minimum 99.95% purity, settlement price beginning April 1990; previously special high grade, minimum 99.995%, cash prices ",null,null,null,null,null,null,null,null,null,null,null,null,null,null,null,null,null,"Bloomberg; Engineering and Mining Journal; Platts Metals Week; Thomson Reuters Datastream; World Bank."]
[]
["Precious Metals"]
["   *","Gold (UK), 99.5% fine, London afternoon fixing, average of daily rates",null,null,null,null,null,null,null,null,null,null,null,null,null,null,null,null,null,"Bloomberg; Kitco.com; International Monetary Fund, International Financial Statistics; London Bullion Market; Metals Week; Platts Metals Week; Shearson Lehman Brothers, Metal Market Weekly Review; Thomson Reuters Datastream; World Bank."]
[null,"Platinum (UK), 99.9% refined, London afternoon fixing",null,null,null,null,null,null,null,null,null,null,null,null,null,null,null,null,null,"Bloomberg; London Platinum & Palladium Market; Platts Metals Week, CRB Commodity Yearbook; Thomson Reuters Datastream; World Bank."]
["   *","Silver (UK), 99.9% refined, London afternoon fixing; prior to July 1976 Handy & Harman.  Grade prior to 1962 unrefined silver.",null,null,null,null,null,null,null,null,null,null,null,null,null,null,null,null,null,"American Metal Market; Australian Mineral Economics Pty. Ltd.; Bloomberg; London Bullion Market; Metals Week; Metals Statistics; Platts Metasl Week; The Silver Institute, Silver World Supply & Demand; Thomson Reuters Datastream; World Bank."]
[]
[]
["   *","denotes forecast series"]
[]
[]
[]
[]
["Updated as of : February 2, 2021"]

{"sheet":"Inflation Retrieve","index":15,"n_rows":16,"n_cols":17,"rows_kept":16,"cut":false,"hidden":false,"merged":[]}
[]
[null,null,null,"code",1,null,{"$f":"COUNTA(D4:D5)","v":2},"total to read"]
[]
[null,null,null,"US CPI Rate",null,"https://research.stlouisfed.org/fred2/data/CPALTT01USM659N.txt",null,null,null,null,null,null,null,null,null,"Start","04:19:03"]
[null,null,null,"US Implicit Deflator",null,"https://research.stlouisfed.org/fred2/data/PRS85006141.txt",null,null,null,null,null,null,null,null,null,"End","17:14:52"]
[null,null,null,"US CPI Month",null,"https://research.stlouisfed.org/fred2/data/CPALTT01USM659N.txt"]
[]
[null,null,null,{"$f":"INDEX(D4:D6,code)","v":"US CPI Rate"},null,{"$f":"INDEX(F4:F6,$E$2)","v":"https://research.stlouisfed.org/fred2/data/CPALTT01USM659N.txt"}]
[]
[]
[null,null,null,null,1,"CPALTT01USM659N"]
[null,null,null,null,2,"PRS85006141"]
[]
[]
[]
[null,null,null,null,null,{"$f":"INDEX(F11:F14,code)","v":"CPALTT01USM659N"},{"$f":"INDEX(D4:D6,code)","v":"US CPI Rate"}]

{"sheet":"US CPI Rate","index":16,"n_rows":834,"n_cols":26,"rows_kept":834,"cut":false,"hidden":false,"merged":[]}
["observation_end","units","lin","output_type",1,"file_type","json","order_by","observation_date","sort_order","asc","count",831,"offset",0,"limit",100000,"observations","[{\"realtime_start\"","2025-04-15","realtime_end","2025-04-15","date","1956-01-01","value",0.37453179999999903]
["1956-02-01",0.37453179999999903]
["1956-03-01",0.37453179999999903]
["1956-04-01",0.7490637]
["1956-05-01",1.1235949999999999]
["1956-06-01",1.8726590000000001]
["1956-07-01",2.2388059999999999]
["1956-08-01",1.865672]
["1956-09-01",1.8587359999999999]
["1956-10-01",2.230483]
["1956-11-01",2.230483]
["1956-12-01",2.9850750000000001]
["1957-01-01",2.9850750000000001]
["1957-02-01",3.3582089999999898]
["1957-03-01",3.7313429999999999]
["1957-04-01",3.7174719999999999]
["1957-05-01",3.7037040000000001]
["1957-06-01",3.308824]
["1957-07-01",3.284672]
["1957-08-01",3.6630039999999999]
["1957-09-01",3.284672]
["1957-10-01",2.9090910000000001]
["1957-11-01",3.2727270000000002]
["1957-12-01",2.8985509999999999]
["1958-01-01",3.6231879999999999]
["1958-02-01",3.249098]
["1958-03-01",3.5971220000000002]
["1958-04-01",3.5842290000000001]
["1958-05-01",3.214286]
["1958-06-01",2.846975]
["1958-07-01",2.47349799999999]
["1958-08-01",2.1201409999999998]
["1958-09-01",2.1201409999999998]
["1958-10-01",2.1201409999999998]
["1958-11-01",2.112676]
["1958-12-01",1.7605630000000001]
["1959-01-01",1.398601]
["1959-02-01",1.048951]
["1959-03-01",0.34722219999999998]
["1959-04-01",0.34602080000000002]
["1959-05-01",0.34602080000000002]
["1959-06-01",0.69204149999999998]
["1959-07-01",0.68965519999999902]
["1959-08-01",1.038062]
["1959-09-01",1.384083]
["1959-10-01",1.7301040000000001]
["1959-11-01",1.37931]
["1959-12-01",1.7301040000000001]
["1960-01-01",1.034483]
["1960-02-01",1.7301040000000001]
["1960-03-01",1.7301040000000001]
["1960-04-01",1.7241379999999999]
["1960-05-01",1.7241379999999999]
["1960-06-01",1.718213]
["1960-07-01",1.3698629999999901]
["1960-08-01",1.3698629999999901]
["1960-09-01",1.0238909999999899]
["1960-10-01",1.360544]
["1960-11-01",1.360544]
["1960-12-01",1.360544]
["1961-01-01",1.70648499999999]
["1961-02-01",1.360544]
["1961-03-01",1.360544]
["1961-04-01",1.0169489999999901]
["1961-05-01",1.0169489999999901]
["1961-06-01",0.67567569999999999]
["1961-07-01",1.351351]
["1961-08-01",1.013514]
["1961-09-01",1.351351]
["1961-10-01",0.67114099999999999]
["1961-11-01",0.67114099999999999]
["1961-12-01",0.67114099999999999]
["1962-01-01",0.67114099999999999]
["1962-02-01",1.0067109999999999]
["1962-03-01",1.0067109999999999]
["1962-04-01",1.342282]
["1962-05-01",1.342282]
["1962-06-01",1.342282]
["1962-07-01",1]
["1962-08-01",1.337793]
["1962-09-01",1.3333330000000001]
["1962-10-01",1.3333330000000001]
["1962-11-01",1.3333330000000001]
["1962-12-01",1.3333330000000001]
["1963-01-01",1.3333330000000001]
["1963-02-01",0.99667779999999995]
["1963-03-01",1.3289040000000001]
["1963-04-01",0.99337749999999903]
["1963-05-01",0.99337749999999903]
["1963-06-01",1.324503]
["1963-07-01",1.3201319999999901]
["1963-08-01",1.3201319999999901]
["1963-09-01",0.98684210000000006]
["1963-10-01",1.3157889999999901]
["1963-11-01",1.3157889999999901]
["1963-12-01",1.6447369999999999]
["1964-01-01",1.6447369999999999]
["1964-02-01",1.6447369999999999]
["1964-03-01",1.3114749999999999]
["1964-04-01",1.3114749999999999]
["1964-05-01",1.3114749999999999]
["1964-06-01",1.3071900000000001]
["1964-07-01",1.302932]
["1964-08-01",0.97719869999999898]
["1964-09-01",1.302932]
["1964-10-01",0.97402599999999995]
["1964-11-01",1.2987010000000001]
["1964-12-01",0.97087380000000001]
["1965-01-01",0.97087380000000001]
["1965-02-01",0.97087380000000001]
["1965-03-01",1.2944979999999999]
["1965-04-01",1.618123]
["1965-05-01",1.618123]
["1965-06-01",1.935484]
["1965-07-01",1.6077170000000001]
["1965-08-01",1.935484]
["1965-09-01",1.6077170000000001]
["1965-10-01",1.92925999999999]
["1965-11-01",1.6025639999999901]
["1965-12-01",1.9230769999999999]
["1966-01-01",1.9230769999999999]
["1966-02-01",2.5641029999999998]
["1966-03-01",2.555911]
["1966-04-01",2.86624199999999]
["1966-05-01",2.86624199999999]
["1966-06-01",2.5316459999999998]
["1966-07-01",2.84810099999999]
["1966-08-01",3.4810129999999999]
["1966-09-01",3.4810129999999999]
["1966-10-01",3.7854890000000001]
["1966-11-01",3.7854890000000001]
["1966-12-01",3.4591199999999902]
["1967-01-01",3.4591199999999902]
["1967-02-01",2.8125]
["1967-03-01",2.8037380000000001]
["1967-04-01",2.47677999999999]
["1967-05-01",2.786378]
["1967-06-01",2.7777780000000001]
["1967-07-01",2.769231]
["1967-08-01",2.4464830000000002]
["1967-09-01",2.752294]
["1967-10-01",2.4316110000000002]
["1967-11-01",2.7355619999999998]
["1967-12-01",3.039514]
["1968-01-01",3.6474160000000002]
["1968-02-01",3.951368]
["1968-03-01",3.9393940000000001]
["1968-04-01",3.927492]
["1968-05-01",3.9156629999999999]
["1968-06-01",4.2042039999999998]
["1968-07-01",4.4910180000000004]
["1968-08-01",4.4776119999999997]
["1968-09-01",4.4642860000000004]
["1968-10-01",4.7477749999999999]
["1968-11-01",4.7337280000000002]
["1968-12-01",4.7197639999999996]
["1969-01-01",4.3988269999999998]
["1969-02-01",4.6783619999999999]
["1969-03-01",5.2478129999999998]
["1969-04-01",5.5232559999999999]
["1969-05-01",5.5072460000000003]
["1969-06-01",5.4755039999999999]
["1969-07-01",5.4441259999999998]
["1969-08-01",5.7142860000000004]
["1969-09-01",5.6980059999999897]
["1969-10-01",5.6657219999999997]
["1969-11-01",5.9322029999999897]
["1969-12-01",6.1971829999999999]
["1970-01-01",6.1797750000000002]
["1970-02-01",6.145251]
["1970-03-01",5.8171739999999996]
["1970-04-01",6.0606059999999999]
["1970-05-01",6.0439559999999997]
["1970-06-01",6.010929]
["1970-07-01",5.9782609999999998]
["1970-08-01",5.4054060000000002]
["1970-09-01",5.6603779999999997]
["1970-10-01",5.6300270000000001]
["1970-11-01",5.6]
["1970-12-01",5.5702920000000002]
["1971-01-01",5.2910050000000002]
["1971-02-01",5]
["1971-03-01",4.7120419999999896]
["1971-04-01",4.1558440000000001]
["1971-05-01",4.4041449999999998]
["1971-06-01",4.6391749999999998]
["1971-07-01",4.3589739999999999]
["1971-08-01",4.6153849999999998]
["1971-09-01",4.0816330000000001]
["1971-10-01",3.8071059999999899]
["1971-11-01",3.2828279999999999]
["1971-12-01",3.2663319999999998]
["1972-01-01",3.2663319999999998]
["1972-02-01",3.508772]
["1972-03-01",3.5]
["1972-04-01",3.4912719999999999]
["1972-05-01",3.225806]
["1972-06-01",2.70935999999999]
["1972-07-01",2.9484029999999999]
["1972-08-01",2.941176]
["1972-09-01",3.1862750000000002]
["1972-10-01",3.4229829999999999]
["1972-11-01",3.6674820000000001]
["1972-12-01",3.406326]
["1973-01-01",3.649635]
["1973-02-01",3.8740919999999899]
["1973-03-01",4.589372]
["1973-04-01",5.0602410000000004]
["1973-05-01",5.5288459999999997]
["1973-06-01",5.9952040000000002]
["1973-07-01",5.7279229999999997]
["1973-08-01",7.3809519999999997]
["1973-09-01",7.3634199999999996]
["1973-10-01",7.8014179999999902]
["1973-11-01",8.2547169999999994]
["1973-12-01",8.7058820000000008]
["1974-01-01",9.3896709999999999]
["1974-02-01",10.02331]
["1974-03-01",10.392609999999999]
["1974-04-01",10.09174]
["1974-05-01",10.706149999999999]
["1974-06-01",10.859730000000001]
["1974-07-01",11.512409999999999]
["1974-08-01",10.864750000000001]
["1974-09-01",11.946899999999999]
["1974-10-01",12.061400000000001]
["1974-11-01",12.200439999999899]
["1974-12-01",12.33766]
["1975-01-01",11.802580000000001]
["1975-02-01",11.228809999999999]
["1975-03-01",10.251049999999999]
["1975-04-01",10.20833]
["1975-05-01",9.4650199999999902]
["1975-06-01",9.3877550000000003]
["1975-07-01",9.7165990000000004]
["1975-08-01",8.6]
["1975-09-01",7.905138]
["1975-10-01",7.4363989999999998]
["1975-11-01",7.378641]
["1975-12-01",6.9364160000000004]
["1976-01-01",6.7178500000000003]
["1976-02-01",6.2857139999999996]
["1976-03-01",6.0721059999999998]
["1976-04-01",6.04915]
["1976-05-01",6.2030079999999996]
["1976-06-01",5.9701490000000002]
["1976-07-01",5.3505539999999998]
["1976-08-01",5.7090239999999897]
["1976-09-01",5.4945050000000002]
["1976-10-01",5.4644810000000001]
["1976-11-01",4.8824589999999999]
["1976-12-01",4.864865]
["1977-01-01",5.215827]
["1977-02-01",5.9139790000000003]
["1977-03-01",6.4400719999999998]
["1977-04-01",6.9518719999999998]
["1977-05-01",6.7256640000000001]
["1977-06-01",6.8661969999999997]
["1977-07-01",6.8301220000000002]
["1977-08-01",6.620209]
["1977-09-01",6.5972220000000004]
["1977-10-01",6.3903280000000002]
["1977-11-01",6.7241379999999999]
["1977-12-01",6.7010309999999897]
["1978-01-01",6.8376070000000002]
["1978-02-01",6.4297800000000001]
["1978-03-01",6.5546220000000002]
["1978-04-01",6.5]
["1978-05-01",6.9651740000000002]
["1978-06-01",7.4135089999999897]
["1978-07-01",7.7049179999999904]
["1978-08-01",7.8431369999999996]
["1978-09-01",8.3061889999999998]
["1978-10-01",8.9285720000000008]
["1978-11-01",8.8852989999999998]
["1978-12-01",9.0177139999999998]
["1979-01-01",9.2799999999999994]
["1979-02-01",9.8569149999999901]
["1979-03-01",10.09464]
["1979-04-01",10.48513]
["1979-05-01",10.85271]
["1979-06-01",10.8895699999999]
["1979-07-01",11.26332]
["1979-08-01",11.81818]
["1979-09-01",12.18045]
["1979-10-01",12.071539999999899]
["1979-11-01",12.611280000000001]
["1979-12-01",13.293939999999999]
["1980-01-01",13.909219999999999]
["1980-02-01",14.18234]
["1980-03-01",14.756449999999999]
["1980-04-01",14.7308799999999]
["1980-05-01",14.40559]
["1980-06-01",14.384510000000001]
["1980-07-01",13.1327]
["1980-08-01",12.872629999999999]
["1980-09-01",12.600539999999899]
["1980-10-01",12.76596]
["1980-11-01",12.64822]
["1980-12-01",12.516299999999999]
["1981-01-01",11.825189999999999]
["1981-02-01",11.4068399999999]
["1981-03-01",10.486889999999899]
["1981-04-01",10]
["1981-05-01",9.7799509999999898]
["1981-06-01",9.5526]
["1981-07-01",10.76179]
["1981-08-01",10.804320000000001]
["1981-09-01",10.95238]
["1981-10-01",10.14151]
["1981-11-01",9.590643]
["1981-12-01",8.922364]
["1982-01-01",8.3908039999999993]
["1982-02-01",7.6222979999999998]
["1982-03-01",6.7796609999999999]
["1982-04-01",6.5095400000000003]
["1982-05-01",6.681514]
["1982-06-01",7.0640179999999901]
["1982-07-01",6.4410480000000003]
["1982-08-01",5.8504879999999897]
["1982-09-01",5.0429190000000004]
["1982-10-01",5.1391859999999996]
["1982-11-01",4.5891140000000004]
["1982-12-01",3.8297870000000001]
["1983-01-01",3.7115589999999998]
["1983-02-01",3.488372]
["1983-03-01",3.5978839999999899]
["1983-04-01",3.898841]
["1983-05-01",3.549061]
["1983-06-01",2.5773199999999998]
["1983-07-01",2.4615390000000001]
["1983-08-01",2.5588540000000002]
["1983-09-01",2.860061]
["1983-10-01",2.851324]
["1983-11-01",3.2653059999999998]
["1983-12-01",3.7909839999999901]
["1984-01-01",4.1922290000000002]
["1984-02-01",4.596527]
["1984-03-01",4.8008169999999897]
["1984-04-01",4.5638949999999996]
["1984-05-01",4.2338709999999997]
["1984-06-01",4.2211059999999998]
["1984-07-01",4.2042039999999998]
["1984-08-01",4.291417]
["1984-09-01",4.2701089999999997]
["1984-10-01",4.2574259999999997]
["1984-11-01",4.0513830000000004]
["1984-12-01",3.9486669999999999]
["1985-01-01",3.5328750000000002]
["1985-02-01",3.515625]
["1985-03-01",3.7037040000000001]
["1985-04-01",3.6857419999999999]
["1985-05-01",3.77176]
["1985-06-01",3.7608489999999999]
["1985-07-01",3.5542750000000001]
["1985-08-01",3.3492820000000001]
["1985-09-01",3.1428569999999998]
["1985-10-01",3.2288700000000001]
["1985-11-01",3.5137699999999898]
["1985-12-01",3.7986710000000001]
["1986-01-01",3.8862559999999999]
["1986-02-01",3.1132080000000002]
["1986-03-01",2.2556389999999999]
["1986-04-01",1.590271]
["1986-05-01",1.4911459999999901]
["1986-06-01",1.7657989999999999]
["1986-07-01",1.576994]
["1986-08-01",1.574074]
["1986-09-01",1.754386]
["1986-10-01",1.4719409999999999]
["1986-11-01",1.2844040000000001]
["1986-12-01",1.097896]
["1987-01-01",1.459854]
["1987-02-01",2.1042999999999998]
["1987-03-01",3.0330879999999998]
["1987-04-01",3.7753220000000001]
["1987-05-01",3.85674899999999]
["1987-06-01",3.652968]
["1987-07-01",3.9269409999999998]
["1987-08-01",4.2844119999999997]
["1987-09-01",4.3557169999999896]
["1987-10-01",4.5330919999999999]
["1987-11-01",4.5289859999999997]
["1987-12-01",4.4343890000000004]
["1988-01-01",4.0467620000000002]
["1988-02-01",3.9426519999999998]
["1988-03-01",3.9250669999999999]
["1988-04-01",3.9041699999999899]
["1988-05-01",3.8903629999999998]
["1988-06-01",3.9647579999999998]
["1988-07-01",4.1300530000000002]
["1988-08-01",4.0209789999999996]
["1988-09-01",4.1739129999999998]
["1988-10-01",4.2497829999999999]
["1988-11-01",4.2461000000000002]
["1988-12-01",4.4194110000000002]
["1989-01-01",4.667243]
["1989-02-01",4.8275860000000002]
["1989-03-01",4.9785409999999999]
["1989-04-01",5.1238260000000002]
["1989-05-01",5.3617019999999904]
["1989-06-01",5.1694909999999998]
["1989-07-01",4.9789029999999999]
["1989-08-01",4.705883]
["1989-09-01",4.3405680000000002]
["1989-10-01",4.4925129999999998]
["1989-11-01",4.6550289999999999]
["1989-12-01",4.647303]
["1990-01-01",5.202312]
["1990-02-01",5.2631579999999998]
["1990-03-01",5.233034]
["1990-04-01",4.7116169999999897]
["1990-05-01",4.3618739999999896]
["1990-06-01",4.6736500000000003]
["1990-07-01",4.8231510000000002]
["1990-08-01",5.6179779999999999]
["1990-09-01",6.16]
["1990-10-01",6.289809]
["1990-11-01",6.2748210000000002]
["1990-12-01",6.1062649999999996]
["1991-01-01",5.651491]
["1991-02-01",5.3125]
["1991-03-01",4.895105]
["1991-04-01",4.8875099999999998]
["1991-05-01",4.9535599999999897]
["1991-06-01",4.6959200000000001]
["1991-07-01",4.4478530000000003]
["1991-08-01",3.7993919999999899]
["1991-09-01",3.391108]
["1991-10-01",2.9213480000000001]
["1991-11-01",2.9895369999999999]
["1991-12-01",3.0642749999999999]
["1992-01-01",2.6002969999999999]
["1992-02-01",2.818991]
["1992-03-01",3.1851849999999899]
["1992-04-01",3.1804730000000001]
["1992-05-01",3.0235989999999999]
["1992-06-01",3.0882350000000001]
["1992-07-01",3.1571220000000002]
["1992-08-01",3.1478769999999998]
["1992-09-01",2.9883380000000002]
["1992-10-01",3.2023290000000002]
["1992-11-01",3.047895]
["1992-12-01",2.9006529999999899]
["1993-01-01",3.258508]
["1993-02-01",3.246753]
["1993-03-01",3.0868630000000001]
["1993-04-01",3.225806]
["1993-05-01",3.2211880000000002]
["1993-06-01",2.9957199999999999]
["1993-07-01",2.775801]
["1993-08-01",2.7679200000000002]
["1993-09-01",2.6893129999999998]
["1993-10-01",2.750353]
["1993-11-01",2.676056]
["1993-12-01",2.7484139999999999]
["1994-01-01",2.5245439999999899]
["1994-02-01",2.5157229999999999]
["1994-03-01",2.506964]
["1994-04-01",2.3611110000000002]
["1994-05-01",2.2884880000000001]
["1994-06-01",2.4930750000000002]
["1994-07-01",2.7700830000000001]
["1994-08-01",2.9005529999999999]
["1994-09-01",2.9634740000000002]
["1994-10-01",2.6080990000000002]
["1994-11-01",2.6748970000000001]
["1994-12-01",2.6748970000000001]
["1995-01-01",2.8043779999999998]
["1995-02-01",2.8629859999999998]
["1995-03-01",2.8532609999999998]
["1995-04-01",3.0529169999999999]
["1995-05-01",3.1864409999999999]
["1995-06-01",3.04054]
["1995-07-01",2.7628029999999999]
["1995-08-01",2.6174499999999998]
["1995-09-01",2.543507]
["1995-10-01",2.8093650000000001]
["1995-11-01",2.60521]
["1995-12-01",2.5384099999999998]
["1996-01-01",2.727878]
["1996-02-01",2.6507619999999998]
["1996-03-01",2.8401580000000002]
["1996-04-01",2.8966419999999999]
["1996-05-01",2.890933]
["1996-06-01",2.7540979999999999]
["1996-07-01",2.9508200000000002]
["1996-08-01",2.8776980000000001]
["1996-09-01",3.0026109999999999]
["1996-10-01",2.9928430000000001]
["1996-11-01",3.2552080000000001]
["1996-12-01",3.322476]
["1997-01-01",3.044041]
["1997-02-01",3.0342159999999998]
["1997-03-01",2.7617210000000001]
["1997-04-01",2.4952019999999999]
["1997-05-01",2.2349939999999999]
["1997-06-01",2.2973840000000001]
["1997-07-01",2.2292990000000001]
["1997-08-01",2.2250480000000001]
["1997-09-01",2.1546259999999999]
["1997-10-01",2.0846490000000002]
["1997-11-01",1.8284990000000001]
["1997-12-01",1.702396]
["1998-01-01",1.571339]
["1998-02-01",1.441103]
["1998-03-01",1.375]
["1998-04-01",1.435705]
["1998-05-01",1.6864459999999999]
["1998-06-01",1.68434199999999]
["1998-07-01",1.6822429999999999]
["1998-08-01",1.6169149999999901]
["1998-09-01",1.488834]
["1998-10-01",1.4851490000000001]
["1998-11-01",1.5479879999999999]
["1998-12-01",1.6119030000000001]
["1999-01-01",1.6707919999999901]
["1999-02-01",1.6059299999999901]
["1999-03-01",1.726264]
["1999-04-01",2.276923]
["1999-05-01",2.0884520000000002]
["1999-06-01",1.96319]
["1999-07-01",2.1446079999999998]
["1999-08-01",2.2643819999999999]
["1999-09-01",2.6283620000000001]
["1999-10-01",2.5609759999999899]
["1999-11-01",2.6219509999999899]
["1999-12-01",2.684564]
["2000-01-01",2.7388919999999999]
["2000-02-01",3.2218840000000002]
["2000-03-01",3.7575759999999998]
["2000-04-01",3.06859199999999]
["2000-05-01",3.1889289999999999]
["2000-06-01",3.7304449999999898]
["2000-07-01",3.659268]
["2000-08-01",3.4111309999999899]
["2000-09-01",3.454437]
["2000-10-01",3.4482759999999999]
["2000-11-01",3.4462269999999902]
["2000-12-01",3.3868089999999902]
["2001-01-01",3.7322280000000001]
["2001-02-01",3.533569]
["2001-03-01",2.9205610000000002]
["2001-04-01",3.2691189999999999]
["2001-05-01",3.6151599999999999]
["2001-06-01",3.2482599999999899]
["2001-07-01",2.7199080000000002]
["2001-08-01",2.7199080000000002]
["2001-09-01",2.648244]
["2001-10-01",2.1264369999999899]
["2001-11-01",1.895462]
["2001-12-01",1.5517239999999899]
["2002-01-01",1.142204]
["2002-02-01",1.137656]
["2002-03-01",1.4755959999999999]
["2002-04-01",1.6393439999999999]
["2002-05-01",1.181767]
["2002-06-01",1.0674159999999999]
["2002-07-01",1.4647889999999999]
["2002-08-01",1.8028169999999999]
["2002-09-01",1.514302]
["2002-10-01",2.0258859999999999]
["2002-11-01",2.1984219999999999]
["2002-12-01",2.3769099999999899]
["2003-01-01",2.5974029999999999]
["2003-02-01",2.980877]
["2003-03-01",3.0201340000000001]
["2003-04-01",2.2246939999999999]
["2003-05-01",2.0578419999999999]
["2003-06-01",2.112285]
["2003-07-01",2.1099389999999998]
["2003-08-01",2.1582729999999999]
["2003-09-01",2.3204419999999999]
["2003-10-01",2.040816]
["2003-11-01",1.7650299999999901]
["2003-12-01",1.879491]
["2004-01-01",1.9262520000000001]
["2004-02-01",1.6930639999999999]
["2004-03-01",1.73724199999999]
["2004-04-01",2.2850929999999998]
["2004-05-01",3.051771]
["2004-06-01",3.2661950000000002]
["2004-07-01",2.9907560000000002]
["2004-08-01",2.654388]
["2004-09-01",2.5377969999999999]
["2004-10-01",3.1891889999999998]
["2004-11-01",3.5230349999999899]
["2004-12-01",3.2555619999999998]
["2005-01-01",2.9697619999999998]
["2005-02-01",3.0075189999999998]
["2005-03-01",3.1483460000000001]
["2005-04-01",3.5106379999999899]
["2005-05-01",2.8027500000000001]
["2005-06-01",2.5303110000000002]
["2005-07-01",3.1678989999999998]
["2005-08-01",3.6411609999999999]
["2005-09-01",4.6866769999999898]
["2005-10-01",4.3478260000000004]
["2005-11-01",3.4554969999999998]
["2005-12-01",3.4156589999999998]
["2006-01-01",3.98531699999999]
["2006-02-01",3.5974970000000002]
["2006-03-01",3.36264899999999]
["2006-04-01",3.5457349999999899]
["2006-05-01",4.1666669999999897]
["2006-06-01",4.3187660000000001]
["2006-07-01",4.1453430000000004]
["2006-08-01",3.818737]
["2006-09-01",2.0623740000000002]
["2006-10-01",1.305221]
["2006-11-01",1.973684]
["2006-12-01",2.5406499999999999]
["2007-01-01",2.0756429999999999]
["2007-02-01",2.4151989999999999]
["2007-03-01",2.7787790000000001]
["2007-04-01",2.5736970000000001]
["2007-05-01",2.6908639999999999]
["2007-06-01",2.6870379999999998]
["2007-07-01",2.358231]
["2007-08-01",1.970083]
["2007-09-01",2.7550520000000001]
["2007-10-01",3.5361750000000001]
["2007-11-01",4.306203]
["2007-12-01",4.0812689999999998]
["2008-01-01",4.2802939999999996]
["2008-02-01",4.0265559999999896]
["2008-03-01",3.9814559999999899]
["2008-04-01",3.93689]
["2008-05-01",4.1755430000000002]
["2008-06-01",5.0217900000000002]
["2008-07-01",5.600123]
["2008-08-01",5.371855]
["2008-09-01",4.9369269999999998]
["2008-10-01",3.655186]
["2008-11-01",1.0695749999999999]
["2008-12-01",9.1412899999999894E-2]
["2009-01-01",2.9846499999999901E-2]
["2009-02-01",0.23619109999999999]
["2009-03-01",-0.38355620000000001]
["2009-04-01",-0.73688569999999998]
["2009-05-01",-1.281436]
["2009-06-01",-1.426776]
["2009-07-01",-2.0971609999999998]
["2009-08-01",-1.4843489999999999]
["2009-09-01",-1.286206]
["2009-10-01",-0.18284829999999999]
["2009-11-01",1.8382959999999999]
["2009-12-01",2.7213310000000002]
["2010-01-01",2.6257090000000001]
["2010-02-01",2.143332]
["2010-03-01",2.3139590000000001]
["2010-04-01",2.2364470000000001]
["2010-05-01",2.0209860000000002]
["2010-06-01",1.0533489999999901]
["2010-07-01",1.235193]
["2010-08-01",1.1481049999999999]
["2010-09-01",1.143683]
["2010-10-01",1.172188]
["2010-11-01",1.1431610000000001]
["2010-12-01",1.4957229999999999]
["2011-01-01",1.6318469999999901]
["2011-02-01",2.1075849999999998]
["2011-03-01",2.681603]
["2011-04-01",3.1636310000000001]
["2011-05-01",3.56864599999999]
["2011-06-01",3.5588280000000001]
["2011-07-01",3.6287159999999998]
["2011-08-01",3.7712080000000001]
["2011-09-01",3.868357]
["2011-10-01",3.5251999999999999]
["2011-11-01",3.3943779999999899]
["2011-12-01",2.9624189999999899]
["2012-01-01",2.925217]
["2012-02-01",2.8710990000000001]
["2012-03-01",2.6513979999999999]
["2012-04-01",2.30274]
["2012-05-01",1.7042539999999999]
["2012-06-01",1.663994]
["2012-07-01",1.4084509999999999]
["2012-08-01",1.6923790000000001]
["2012-09-01",1.991282]
["2012-10-01",2.162344]
["2012-11-01",1.7641340000000001]
["2012-12-01",1.7410220000000001]
["2013-01-01",1.594865]
["2013-02-01",1.977924]
["2013-03-01",1.4738959999999901]
["2013-04-01",1.0630850000000001]
["2013-05-01",1.3619649999999901]
["2013-06-01",1.7544169999999999]
["2013-07-01",1.960682]
["2013-08-01",1.5183679999999999]
["2013-09-01",1.184925]
["2013-10-01",0.96361269999999999]
["2013-11-01",1.2370719999999999]
["2013-12-01",1.501736]
["2014-01-01",1.5789469999999901]
["2014-02-01",1.126349]
["2014-03-01",1.512203]
["2014-04-01",1.952858]
["2014-05-01",2.1271110000000002]
["2014-06-01",2.07234099999999]
["2014-07-01",1.992329]
["2014-08-01",1.699611]
["2014-09-01",1.6579189999999999]
["2014-10-01",1.6643399999999999]
["2014-11-01",1.3223549999999999]
["2014-12-01",0.75649330000000004]
["2015-01-01",-8.9348319999999995E-2]
["2015-02-01",-2.5129800000000001E-2]
["2015-03-01",-7.3637389999999997E-2]
["2015-04-01",-0.19951740000000001]
["2015-05-01",-3.9932750000000003E-2]
["2015-06-01",0.1237712]
["2015-07-01",0.16956979999999999]
["2015-08-01",0.19507929999999901]
["2015-09-01",-3.6129750000000002E-2]
["2015-10-01",0.17057439999999999]
["2015-11-01",0.50179759999999995]
["2015-12-01",0.72951980000000005]
["2016-01-01",1.3730869999999999]
["2016-02-01",1.0178]
["2016-03-01",0.85253619999999997]
["2016-04-01",1.1251100000000001]
["2016-05-01",1.019323]
["2016-06-01",0.99732649999999901]
["2016-07-01",0.82713879999999995]
["2016-08-01",1.062875]
["2016-09-01",1.463784]
["2016-10-01",1.635988]
["2016-11-01",1.692537]
["2016-12-01",2.0746220000000002]
["2017-01-01",2.5000419999999899]
["2017-02-01",2.7379579999999999]
["2017-03-01",2.38061199999999]
["2017-04-01",2.1996899999999999]
["2017-05-01",1.8748779999999901]
["2017-06-01",1.6334879999999901]
["2017-07-01",1.72797799999999]
["2017-08-01",1.938974]
["2017-09-01",2.2329639999999999]
["2017-10-01",2.0411290000000002]
["2017-11-01",2.2025830000000002]
["2017-12-01",2.1090819999999999]
["2018-01-01",2.0705079999999998]
["2018-02-01",2.211795]
["2018-03-01",2.3597109999999999]
["2018-04-01",2.4627439999999998]
["2018-05-01",2.8010120000000001]
["2018-06-01",2.87154799999999]
["2018-07-01",2.9495149999999999]
["2018-08-01",2.6991800000000001]
["2018-09-01",2.2769720000000002]
["2018-10-01",2.5224700000000002]
["2018-11-01",2.1766009999999998]
["2018-12-01",1.9101589999999999]
["2019-01-01",1.5512349999999999]
["2019-02-01",1.520135]
["2019-03-01",1.8625229999999999]
["2019-04-01",1.99644]
["2019-05-01",1.7902279999999999]
["2019-06-01",1.64848499999999]
["2019-07-01",1.8114650000000001]
["2019-08-01",1.7497799999999999]
["2019-09-01",1.7113049999999901]
["2019-10-01",1.764043]
["2019-11-01",2.0512779999999999]
["2019-12-01",2.2851300000000001]
["2020-01-01",2.4865719999999998]
["2020-02-01",2.3348740000000001]
["2020-03-01",1.5393269999999999]
["2020-04-01",0.32909670000000002]
["2020-05-01",0.117926399999999]
["2020-06-01",0.64573309999999995]
["2020-07-01",0.98608180000000001]
["2020-08-01",1.3096449999999999]
["2020-09-01",1.3713249999999999]
["2020-10-01",1.1820660000000001]
["2020-11-01",1.174536]
["2020-12-01",1.3620049999999999]
["2021-01-01",1.39977]
["2021-02-01",1.676215]
["2021-03-01",2.6197619999999899]
["2021-04-01",4.1596950000000001]
["2021-05-01",4.9927070000000002]
["2021-06-01",5.391451]
["2021-07-01",5.365475]
["2021-08-01",5.2512720000000002]
["2021-09-01",5.3903489999999996]
["2021-10-01",6.2218689999999999]
["2021-11-01",6.8090029999999997]
["2021-12-01",7.036403]
["2022-01-01",7.4798729999999898]
["2022-02-01",7.8710639999999996]
["2022-03-01",8.5424559999999996]
["2022-04-01",8.2586300000000001]
["2022-05-01",8.5815110000000008]
["2022-06-01",9.0597580000000004]
["2022-07-01",8.5248150000000003]
["2022-08-01",8.2626919999999995]
["2022-09-01",8.20167]
["2022-10-01",7.7454270000000003]
["2022-11-01",7.1103229999999904]
["2022-12-01",6.4544009999999998]
["2023-01-01",6.4101470000000003]
["2023-02-01",6.0356129999999997]
["2023-03-01",4.9849740000000002]
["2023-04-01",4.93032]
["2023-05-01",4.0476089999999996]
["2023-06-01",2.9691779999999999]
["2023-07-01",3.1777799999999998]
["2023-08-01",3.6651120000000001]
["2023-09-01",3.6996980000000002]
["2023-10-01",3.2411449999999999]
["2023-11-01",3.1372709999999899]
["2023-12-01",3.3521230000000002]
["2024-01-01",3.0908849999999899]
["2024-02-01",3.1531709999999999]
["2024-03-01",3.4773849999999999]
["2024-04-01",3.357364]
["2024-05-01",3.2690290000000002]
["2024-06-01",2.9713970000000001]
["2024-07-01",2.8947529999999899]
["2024-08-01",2.5307300000000001]
["2024-09-01",2.4406330000000001]
["2024-10-01",2.5979049999999999]
["2024-11-01",2.7493799999999999]
["2024-12-01",2.8880569999999999]
["2025-01-01",3.000483]
["2025-02-01",2.8215490000000001]
["2025-03-01",2.3907250000000002]
[]
[]
[null,null,null,null,null,null,"US CPI Rate"]

{"sheet":"US Implicit Deflator","index":17,"n_rows":308,"n_cols":26,"rows_kept":308,"cut":false,"hidden":false,"merged":[]}
["observation_end","units","lin","output_type",1,"file_type","json","order_by","observation_date","sort_order","asc","count",308,"offset",0,"limit",100000,"observations","[{\"realtime_start\"","2025-04-04","realtime_end","2025-04-04","date","1948-01-01","value",7.4]
["1948-04-01",7.7]
["1948-07-01",5]
["1948-10-01",6.9]
["1949-01-01",4.3]
["1949-04-01",1.6]
["1949-07-01",-0.6]
["1949-10-01",-2.2000000000000002]
["1950-01-01",-1.2]
["1950-04-01",0.1]
["1950-07-01",1.5]
["1950-10-01",3.9]
["1951-01-01",6.4]
["1951-04-01",7.5]
["1951-07-01",7]
["1951-10-01",5.5]
["1952-01-01",2.7]
["1952-04-01",1.5]
["1952-07-01",2]
["1952-10-01",2]
["1953-01-01",2]
["1953-04-01",2.6]
["1953-07-01",1.8]
["1953-10-01",1.2]
["1954-01-01",1.5]
["1954-04-01",1]
["1954-07-01",0.5]
["1954-10-01",0.8]
["1955-01-01",0.9]
["1955-04-01",1.1000000000000001]
["1955-07-01",2.2000000000000002]
["1955-10-01",2.8]
["1956-01-01",3.3]
["1956-04-01",3.6]
["1956-07-01",3.8]
["1956-10-01",3.5]
["1957-01-01",3.7]
["1957-04-01",3.7]
["1957-07-01",2.9]
["1957-10-01",2.6]
["1958-01-01",1.7]
["1958-04-01",1.3]
["1958-07-01",1.3]
["1958-10-01",1.5]
["1959-01-01",1.6]
["1959-04-01",1.6]
["1959-07-01",1.5]
["1959-10-01",1.6]
["1960-01-01",1.2]
["1960-04-01",1.2]
["1960-07-01",1.2]
["1960-10-01",1]
["1961-01-01",1]
["1961-04-01",1]
["1961-07-01",0.7]
["1961-10-01",0.4]
["1962-01-01",0.8]
["1962-04-01",0.9]
["1962-07-01",1]
["1962-10-01",0.9]
["1963-01-01",0.9]
["1963-04-01",0.6]
["1963-07-01",0.5]
["1963-10-01",1.2]
["1964-01-01",0.9]
["1964-04-01",1.1000000000000001]
["1964-07-01",1.7]
["1964-10-01",1.4]
["1965-01-01",1.5]
["1965-04-01",1.3]
["1965-07-01",1.2]
["1965-10-01",1.3]
["1966-01-01",1.2]
["1966-04-01",2.1]
["1966-07-01",2.5]
["1966-10-01",3.3]
["1967-01-01",3.5]
["1967-04-01",3]
["1967-07-01",3.1]
["1967-10-01",2.9]
["1968-01-01",3.5]
["1968-04-01",4]
["1968-07-01",3.8]
["1968-10-01",4.2]
["1969-01-01",4.4000000000000004]
["1969-04-01",4.4000000000000004]
["1969-07-01",4.8]
["1969-10-01",4.4000000000000004]
["1970-01-01",4.3]
["1970-04-01",4.5999999999999996]
["1970-07-01",4.0999999999999996]
["1970-10-01",4.5999999999999996]
["1971-01-01",4.5]
["1971-04-01",4.3]
["1971-07-01",4.7]
["1971-10-01",3.6]
["1972-01-01",3.8]
["1972-04-01",3]
["1972-07-01",2.6]
["1972-10-01",2.9]
["1973-01-01",2.2000000000000002]
["1973-04-01",3]
["1973-07-01",3.6]
["1973-10-01",5.4]
["1974-01-01",7.2]
["1974-04-01",9.9]
["1974-07-01",11.8]
["1974-10-01",12.6]
["1975-01-01",13.7]
["1975-04-01",11.4]
["1975-07-01",9.6999999999999993]
["1975-10-01",8]
["1976-01-01",5.8]
["1976-04-01",5.3]
["1976-07-01",5.2]
["1976-10-01",5.6]
["1977-01-01",5.9]
["1977-04-01",6.4]
["1977-07-01",6.3]
["1977-10-01",6.2]
["1978-01-01",6]
["1978-04-01",6.1]
["1978-07-01",6.8]
["1978-10-01",7]
["1979-01-01",7.5]
["1979-04-01",8.6]
["1979-07-01",8.8000000000000007]
["1979-10-01",8.6999999999999993]
["1980-01-01",9.6999999999999993]
["1980-04-01",9.6999999999999993]
["1980-07-01",9.1999999999999993]
["1980-10-01",9.5]
["1981-01-01",10]
["1981-04-01",9.1999999999999993]
["1981-07-01",9.6999999999999993]
["1981-10-01",9.4]
["1982-01-01",7.4]
["1982-04-01",6.6]
["1982-07-01",5.7]
["1982-10-01",4.9000000000000004]
["1983-01-01",4]
["1983-04-01",3.2]
["1983-07-01",3.6]
["1983-10-01",3]
["1984-01-01",2.9]
["1984-04-01",3.3]
["1984-07-01",2.5]
["1984-10-01",2.5]
["1985-01-01",3.4]
["1985-04-01",3.1]
["1985-07-01",3]
["1985-10-01",2.7]
["1986-01-01",2.1]
["1986-04-01",1.5]
["1986-07-01",1]
["1986-10-01",1.1000000000000001]
["1987-01-01",1.2]
["1987-04-01",1.7]
["1987-07-01",2.2999999999999998]
["1987-10-01",2.2000000000000002]
["1988-01-01",2.2999999999999998]
["1988-04-01",2.7]
["1988-07-01",3.1]
["1988-10-01",4.0999999999999996]
["1989-01-01",3.8]
["1989-04-01",4.2]
["1989-07-01",3.7]
["1989-10-01",2.9]
["1990-01-01",3.5]
["1990-04-01",3.2]
["1990-07-01",3.3]
["1990-10-01",3.7]
["1991-01-01",3.7]
["1991-04-01",3.2]
["1991-07-01",3]
["1991-10-01",2.5]
["1992-01-01",1.7]
["1992-04-01",1.6]
["1992-07-01",1.5]
["1992-10-01",1.9]
["1993-01-01",2.4]
["1993-04-01",2.5]
["1993-07-01",2.2999999999999998]
["1993-10-01",2.1]
["1994-01-01",1.8]
["1994-04-01",1.7]
["1994-07-01",2]
["1994-10-01",2]
["1995-01-01",2]
["1995-04-01",2]
["1995-07-01",1.7]
["1995-10-01",1.4]
["1996-01-01",1.3]
["1996-04-01",1.3]
["1996-07-01",1.3]
["1996-10-01",1.6]
["1997-01-01",1.9]
["1997-04-01",1.8]
["1997-07-01",1.8]
["1997-10-01",1.5]
["1998-01-01",0.7]
["1998-04-01",0.4]
["1998-07-01",0.3]
["1998-10-01",0]
["1999-01-01",0.4]
["1999-04-01",0.6]
["1999-07-01",0.6]
["1999-10-01",1.2]
["2000-01-01",1.8]
["2000-04-01",1.9]
["2000-07-01",2.2000000000000002]
["2000-10-01",2]
["2001-01-01",1.9]
["2001-04-01",1.9]
["2001-07-01",1.4]
["2001-10-01",1.3]
["2002-01-01",0.7]
["2002-04-01",0.7]
["2002-07-01",0.9]
["2002-10-01",1.1000000000000001]
["2003-01-01",1.6]
["2003-04-01",1.3]
["2003-07-01",1.3]
["2003-10-01",1.3]
["2004-01-01",1.8]
["2004-04-01",2.1]
["2004-07-01",2.4]
["2004-10-01",3.1]
["2005-01-01",3]
["2005-04-01",3.3]
["2005-07-01",3.6]
["2005-10-01",3.6]
["2006-01-01",3.3]
["2006-04-01",3.4]
["2006-07-01",2.9]
["2006-10-01",2.1]
["2007-01-01",2.2000000000000002]
["2007-04-01",2]
["2007-07-01",1.9]
["2007-10-01",2]
["2008-01-01",1.5]
["2008-04-01",1.2]
["2008-07-01",1.7]
["2008-10-01",1.5]
["2009-01-01",1.4]
["2009-04-01",0.4]
["2009-07-01",-0.3]
["2009-10-01",-0.2]
["2010-01-01",0.2]
["2010-04-01",1.2]
["2010-07-01",1.3]
["2010-10-01",1.7]
["2011-01-01",1.7]
["2011-04-01",1.8]
["2011-07-01",2.2000000000000002]
["2011-10-01",2]
["2012-01-01",1.9]
["2012-04-01",1.8]
["2012-07-01",1.7]
["2012-10-01",1.7]
["2013-01-01",1.5]
["2013-04-01",1.2]
["2013-07-01",1.2]
["2013-10-01",1.5]
["2014-01-01",1.6]
["2014-04-01",1.9]
["2014-07-01",1.8]
["2014-10-01",1.1000000000000001]
["2015-01-01",0.8]
["2015-04-01",0.8]
["2015-07-01",0.6]
["2015-10-01",0.6]
["2016-01-01",0.5]
["2016-04-01",0.8]
["2016-07-01",0.8]
["2016-10-01",1.3]
["2017-01-01",1.8]
["2017-04-01",1.2]
["2017-07-01",1.5]
["2017-10-01",1.6]
["2018-01-01",1.8]
["2018-04-01",2.4]
["2018-07-01",2.2999999999999998]
["2018-10-01",2.1]
["2019-01-01",1.7]
["2019-04-01",1.5]
["2019-07-01",1.3]
["2019-10-01",1.1000000000000001]
["2020-01-01",1]
["2020-04-01",-0.6]
["2020-07-01",0.3]
["2020-10-01",0.7]
["2021-01-01",2.1]
["2021-04-01",4.8]
["2021-07-01",5.3]
["2021-10-01",6.9]
["2022-01-01",7.6]
["2022-04-01",8.6]
["2022-07-01",8]
["2022-10-01",6.8]
["2023-01-01",5.5]
["2023-04-01",3.4]
["2023-07-01",3.1]
["2023-10-01",2.5]
["2024-01-01",2.2000000000000002]
["2024-04-01",2.2999999999999998]
["2024-07-01",1.8]
["2024-10-01",2]

{"sheet":"BREAK","index":18,"n_rows":0,"n_cols":0,"rows_kept":0,"cut":false,"hidden":false,"merged":[]}