{"text_format":"1","workbook":"xlsx","n_sheets":14,"sheets":["Review Video","Summary","InputC","Financial Model","Sensitivity","Time Series","Simple Rp","Volatility","Time Line Video","InputC Partial Month","InputS","Complex Time Line","FM with Complex Timeline","CFADS and DS"],"not_rendered":{"charts":9,"images":0,"macros":1,"external_links":0,"defined_names":24,"comments":0,"pivot_tables":0},"unopened":[{"sheet":"CFADS and DS","index":13,"reason":"not_a_worksheet"}],"bounds":{"document_bytes":16777216,"sheet_cells":100000,"rows_first":2000,"rows_last":500,"rows_between":2000,"halvings":0,"cell_chars":16384,"cell_head_chars":4096},"cells_cut":0,"cells_raw":0,"read":"whole","date_system":"1900"}

{"sheet":"Review Video","index":0,"n_rows":14,"n_cols":12,"rows_kept":14,"cut":false,"hidden":false,"merged":[]}
[]
[]
[]
[null,"1. Fix formatting and new generic macros"]
[null,"2. Add a button"]
[null,"3. Clean up Units and Formatting"]
[null,"4. Investment Account"]
[null,"5. Addition of Growth",null,null,null,null,null,null,null,"annual",null,"(1+J8)^(1/6)-1"]
[null,"6. Proof that method works with different time periods"]
[null,"7. Implications of Risk Premium Method"]
[]
[null,"Themes"]
[null,"Put flag for Pre-COD and Post-COD"]
[null,"Use periods in year variable"]

{"sheet":"Summary","index":1,"n_rows":24,"n_cols":11,"rows_kept":24,"cut":false,"hidden":false,"merged":[]}
[]
[]
[]
[]
[]
[]
[]
[]
[]
[]
[]
[]
[]
[]
[]
[]
[]
[]
[]
[null,"Project IRR Pre-tax",null,{"$f":"'Financial Model'!F29","v":9.300350844860078E-2},null,null,null,null,null,"EBITDA",{"$f":"InputC!F20","v":100000}]
[null,"Project IRR Post-tax",null,null,null,null,null,null,null,"Cap Exp",{"$f":"InputC!F19","v":1000000}]
[null,"Debt IRR Pre-tax",null,{"$f":"'Financial Model'!F92","v":0},null,null,null,null,null,"Growth",{"$f":"InputC!F21","v":0}]
[null,"Debt IRR Post-tax"]
[null,"Equity IRR",null,{"$f":"'Financial Model'!F90","v":0}]

{"sheet":"InputC","index":2,"n_rows":131,"n_cols":20,"rows_kept":131,"cut":false,"hidden":false,"merged":[]}
[]
[null,null,null,"Scenario",null,"Project IRR",{"$f":"'Financial Model'!F29","v":9.300350844860078E-2}]
[null,null,null,null,null,"Rf + Premium",{"$f":"'Financial Model'!G158","v":7.6470846632045175E-2}]
[null,null,null,null,null,null,null,null,1,2,3,4,5,6,7,8,9,10,11,12]
[null,null,null,null,null,{"$f":"INDEX(I5:XFD5,Sensitivity!G50)","v":"Base Case - Annual"},null,null,"Base Case - Annual","Base Case Alternative Timing","Longer-Construction","Shorter-Life","Higher Capital Expenditure","Lower Base EBITDA","Lower Growth Rate","Base Case Default Analysis","Break-Even DSCR Case","Break-Even LLCR Case","Break-Even PLCR Case","Loss Case"]
[null,"Timeline"]
[null,null,null,"Start Date","Date","2026-01-01",null,null,"2026-01-01","2026-01-01",null,null,null,null,null,"2026-01-01","2026-01-01","2026-01-01","2026-01-01","2026-01-01"]
[null,null,null,"Construction months","months",12,null,null,12,12,null,null,null,null,null,12,12,12,12,12]
[]
[null,null,null,"Commercial Operation Date","date","2027-01-01",null,null,{"$f":"EDATE(I7,I8)","v":"2027-01-01"},{"$f":"EDATE(J7,J8)","v":"2027-01-01"},null,null,null,null,null,{"$f":"EDATE(P7,P8)","v":"2027-01-01"},{"$f":"EDATE(Q7,Q8)","v":"2027-01-01"},{"$f":"EDATE(R7,R8)","v":"2027-01-01"},{"$f":"EDATE(S7,S8)","v":"2027-01-01"},{"$f":"EDATE(T7,T8)","v":"2027-01-01"}]
[null,null,null,"Months in period - construction","months",12,null,null,12,1,null,null,null,null,null,12,12,12,12,12]
[null,null,null,"Months in period - operations","months",12,null,null,12,6,null,null,null,null,null,12,12,12,12,12]
[]
[null,null,null,"Operations Period","years",30,null,null,30,30,null,null,null,null,null,30,30,30,30,30]
[null,null,null,"Operations End Date","date","2057-01-01",null,null,{"$f":"EDATE(I10,I14*12)","v":"2057-01-01"},{"$f":"EDATE(J10,J14*12)","v":"2057-01-01"},null,null,null,null,null,{"$f":"EDATE(P10,P14*12)","v":"2057-01-01"},{"$f":"EDATE(Q10,Q14*12)","v":"2057-01-01"},{"$f":"EDATE(R10,R14*12)","v":"2057-01-01"},{"$f":"EDATE(S10,S14*12)","v":"2057-01-01"},{"$f":"EDATE(T10,T14*12)","v":"2057-01-01"}]
[]
[null,"Operations"]
[]
[null,null,null,"Capex","EUR",1000000,null,null,1000000,1000000,null,null,null,null,null,1000000,1000000,1000000,1000000,1000000]
[null,null,null,"EBITDA","EUR p.a.",100000,null,null,100000,100000,null,null,null,null,null,70000,60891.995504196479,56112.507642527649,43308.419110386763,40000]
[null,null,null,"EBITDA Growth","% p.a.",0,null,null,0,0.01,null,null,null,null,null,0.01,0.01,0.01,0.01,0.01]
[]
[null,null,null,"Volatility ","% p.a.",0,0,null,0.3,0.2,null,null,null,null,null,0.2,0.2,0.2,0.2,0.2]
[null,null,null,"Mean Reversion","%",0.1,10,null,0,0,null,null,null,null,null,0,0,0,0,0]
[]
[null,"Valuation"]
[null,null,null,"Risk Free Rate","% p.a.",3.5000000000000003E-2,null,null,3.5000000000000003E-2,3.5000000000000003E-2,null,null,null,null,null,3.5000000000000003E-2,3.5000000000000003E-2,3.5000000000000003E-2,3.5000000000000003E-2,3.5000000000000003E-2]
[null,null,null,"Valuation Discount Rate","% p.a.",0.06,null,null,0.06,0.06,null,null,null,null,null,0.06,0.06,0.06,0.06,0.06]
[]
[null,"Debt Structuring"]
[null,null,"Max Debt to Capital",null,"%",0.8,null,null,0.8,0.8,null,null,null,null,null,0.8,0.8,0.8,0.8,0.8]
[null,null,"Min DSCR",null,"x",1.4,null,null,1.4,1.4,null,null,null,null,null,1.4,1.4,1.4,1.4,1.4]
[]
[null,null,"Debt Tenure",null,"Years",20,null,null,20,20,null,null,null,null,null,20,20,20,20,20]
[]
[null,null,"Base SOFR Swap Rate",null,"% p.a.",3.5000000000000003E-2,null,null,3.5000000000000003E-2,3.5000000000000003E-2,null,null,null,null,null,3.5000000000000003E-2,3.5000000000000003E-2,3.5000000000000003E-2,3.5000000000000003E-2,3.5000000000000003E-2]
[null,null,"Credit Spread",null,"% p.a.",0.01,null,null,0.01,0.01,null,null,null,null,null,0.01,0.01,0.01,0.01,0.01]
[]
[null,null,"Pro-Rata Funding",null,"Flag",true,null,null,true,true,null,null,null,null,null,true,true,true,true,true]
[null,null,"Equity Up-front",null,"Flag",false,null,null,{"$f":"NOT(I39)","v":false},{"$f":"NOT(J39)","v":false},null,null,null,null,null,{"$f":"NOT(P39)","v":false},{"$f":"NOT(Q39)","v":false},{"$f":"NOT(R39)","v":false},{"$f":"NOT(S39)","v":false},{"$f":"NOT(T39)","v":false}]
[]
[null,"Constants"]
[null,null,null,"Months in a year",null,12,"months"]
[null,null,null,"One Range Name",null,1,"One"]
[]
[]
[]
[]
[]
[]
[]
[]
[]
[]
[]
[]
[]
[]
[]
[]
[]
[]
[]
[]
[]
[]
[]
[]
[]
[]
[]
[]
[]
[]
[]
[]
[]
[]
[]
[]
[]
[]
[]
[]
[]
[]
[]
[]
[]
[]
[]
[]
[]
[]
[]
[]
[]
[]
[]
[]
[null,null,null,{"$f":"TRANSPOSE(I5:AK5)","v":"Base Case - Annual"}]
[null,null,null,"Base Case Alternative Timing"]
[null,null,null,"Longer-Construction"]
[null,null,null,"Shorter-Life"]
[null,null,null,"Higher Capital Expenditure"]
[null,null,null,"Lower Base EBITDA"]
[null,null,null,"Lower Growth Rate"]
[null,null,null,"Base Case Default Analysis"]
[null,null,null,"Break-Even DSCR Case"]
[null,null,null,"Break-Even LLCR Case"]
[null,null,null,"Break-Even PLCR Case"]
[null,null,null,"Loss Case"]
[null,null,null,0]
[null,null,null,0]
[null,null,null,0]
[null,null,null,0]
[null,null,null,0]
[null,null,null,0]
[null,null,null,0]
[null,null,null,0]
[null,null,null,0]
[null,null,null,0]
[null,null,null,0]
[null,null,null,0]
[null,null,null,0]
[null,null,null,0]
[null,null,null,0]
[null,null,null,0]
[null,null,null,0]
[null,null,null,{"$error":"#N/A"}]
[null,null,null,{"$error":"#N/A"}]

{"sheet":"Financial Model","index":3,"n_rows":158,"n_cols":260,"rows_kept":158,"cut":false,"hidden":false,"merged":[]}
[]
[null,"Timeline",null,null,"Input Units","Constants","Constants","Sum","Model Units","Initial"]
[null,null,null,"Time Period",null,null,null,null,"Period",null,1,2,3,4,5,6,7,8,9,10,11,12,13,14,15,16,17,18,19,20,21,22,23,24,25,26,27,28,29,30,31,32,33,34,35,36,37,38,39,40,41,42,43,44,45,46,47,48,49,50,51,52,53,54,55,56,57,58,59,60,61,62,63,64,65,66,67,68,69,70,71,72,73,74,75,76,77,78,79,80,81,82,83,84,85,86,87,88,89,90,91,92,93,94,95,96,97,98,99,100,101,102,103,104,105,106,107,108,109,110,111,112,113,114,115,116,117,118,119,120,121,122,123,124,125,126,127,128,129,130,131,132,133,134,135,136,137,138,139,140,141,142,143,144,145,146,147,148,149,150,151,152,153,154,155,156,157,158,159,160,161,162,163,164,165,166,167,168,169,170,171,172,173,174,175,176,177,178,179,180,181,182,183,184,185,186,187,188,189,190,191,192,193,194,195,196,197,198,199,200,201,202,203,204,205,206,207,208,209,210,211,212,213,214,215,216,217,218,219,220,221,222,223,224,225,226,227,228,229,230,231,232,233,234,235,236,237,238,239,240,241,242,243,244,245,246,247,248,249,250]
[null,null,null,"Construction Periods","Months",{"$f":"InputC!F8","v":12}]
[null,null,null,"Construction in Periods","Periods",{"$f":"F4/F6","v":1},null,{"$f":"SUM(K5:XFD5)","v":1},"Flag",null,{"$f":"(K3<=$F$5)*1","v":1},{"$f":"(L3<=$F$5)*1","v":0},0,0,0,0,0,0,0,0,0,0,0,0,0,0,0,0,0,0,0,0,0,0,0,0,0,0,0,0,0,0,0,0,0,0,0,0,0,0,0,0,0,0,0,0,0,0,0,0,0,0,0,0,0,0,0,0,0,0,0,0,0,0,0,{"$f":"(BX3<=$F$5)*1","v":0},0,0,0,0,0,0,0,0,0,0,0,0,0,0,0,0,0,0,0,0,0,0,0,0,0,0,0,0,0,0,0,0,0,0,0,0,0,0,0,0,0,0,0,0,0,0,0,0,0,0,0,0,0,0,0,0,0,0,0,0,0,0,0,{"$f":"(EJ3<=$F$5)*1","v":0},0,0,0,0,0,0,0,0,0,0,0,0,0,0,0,0,0,0,0,0,0,0,0,0,0,0,0,0,0,0,0,0,0,0,0,0,0,0,0,0,0,0,0,0,0,0,0,0,0,0,0,0,0,0,0,0,0,0,0,0,0,0,0,{"$f":"(GV3<=$F$5)*1","v":0},0,0,0,0,0,0,0,0,0,0,0,0,0,0,0,0,0,0,0,0,0,0,0,0,0,0,0,0,0,0,0,0,0,0,0,0,0,0,0,0,0,0,0,0,0,0,0,0,0,0,0,0,0,0,0,0]
[null,null,null,"Months in period","Months/Per",{"$f":"InputC!F11","v":12},{"$f":"InputC!F12","v":12},null,"Months/Per",null,{"$f":"IF(K5,$F$6,$G$6)","v":12},12,12,12,12,12,12,12,12,12,12,12,12,12,12,12,12,12,12,12,12,12,12,12,12,12,12,12,12,12,12,12,12,12,12,12,12,12,12,12,12,12,12,12,12,12,12,12,12,12,12,12,12,12,12,12,12,12,12,12,12,12,12,12,{"$f":"IF(BW5,$F$6,$G$6)","v":12},12,12,12,12,12,12,12,12,12,12,12,12,12,12,12,12,12,12,12,12,12,12,12,12,12,12,12,12,12,12,12,12,12,12,12,12,12,12,12,12,12,12,12,12,12,12,12,12,12,12,12,12,12,12,12,12,12,12,12,12,12,12,12,{"$f":"IF(EI5,$F$6,$G$6)","v":12},12,12,12,12,12,12,12,12,12,12,12,12,12,12,12,12,12,12,12,12,12,12,12,12,12,12,12,12,12,12,12,12,12,12,12,12,12,12,12,12,12,12,12,12,12,12,12,12,12,12,12,12,12,12,12,12,12,12,12,12,12,12,12,{"$f":"IF(GU5,$F$6,$G$6)","v":12},12,12,12,12,12,12,12,12,12,12,12,12,12,12,12,12,12,12,12,12,12,12,12,12,12,12,12,12,12,12,12,12,12,12,12,12,12,12,12,12,12,12,12,12,12,12,12,12,12,12,12,12,12,12,12,12,12]
[null,null,null,"Start of period","Data",null,null,null,"Date",null,{"$f":"J8+1","v":"2026-01-01"},{"$f":"K8+1","v":"2027-01-01"},"2028-01-01","2029-01-01","2030-01-01","2031-01-01","2032-01-01","2033-01-01","2034-01-01","2035-01-01","2036-01-01","2037-01-01","2038-01-01","2039-01-01","2040-01-01","2041-01-01","2042-01-01","2043-01-01","2044-01-01","2045-01-01","2046-01-01","2047-01-01","2048-01-01","2049-01-01","2050-01-01","2051-01-01","2052-01-01","2053-01-01","2054-01-01","2055-01-01","2056-01-01","2057-01-01","2058-01-01","2059-01-01","2060-01-01","2061-01-01","2062-01-01","2063-01-01","2064-01-01","2065-01-01","2066-01-01","2067-01-01","2068-01-01","2069-01-01","2070-01-01","2071-01-01","2072-01-01","2073-01-01","2074-01-01","2075-01-01","2076-01-01","2077-01-01","2078-01-01","2079-01-01","2080-01-01","2081-01-01","2082-01-01","2083-01-01","2084-01-01","2085-01-01","2086-01-01","2087-01-01","2088-01-01","2089-01-01","2090-01-01",{"$f":"BW8+1","v":"2091-01-01"},"2092-01-01","2093-01-01","2094-01-01","2095-01-01","2096-01-01","2097-01-01","2098-01-01","2099-01-01","2100-01-01","2101-01-01","2102-01-01","2103-01-01","2104-01-01","2105-01-01","2106-01-01","2107-01-01","2108-01-01","2109-01-01","2110-01-01","2111-01-01","2112-01-01","2113-01-01","2114-01-01","2115-01-01","2116-01-01","2117-01-01","2118-01-01","2119-01-01","2120-01-01","2121-01-01","2122-01-01","2123-01-01","2124-01-01","2125-01-01","2126-01-01","2127-01-01","2128-01-01","2129-01-01","2130-01-01","2131-01-01","2132-01-01","2133-01-01","2134-01-01","2135-01-01","2136-01-01","2137-01-01","2138-01-01","2139-01-01","2140-01-01","2141-01-01","2142-01-01","2143-01-01","2144-01-01","2145-01-01","2146-01-01","2147-01-01","2148-01-01","2149-01-01","2150-01-01","2151-01-01","2152-01-01","2153-01-01","2154-01-01",{"$f":"EI8+1","v":"2155-01-01"},"2156-01-01","2157-01-01","2158-01-01","2159-01-01","2160-01-01","2161-01-01","2162-01-01","2163-01-01","2164-01-01","2165-01-01","2166-01-01","2167-01-01","2168-01-01","2169-01-01","2170-01-01","2171-01-01","2172-01-01","2173-01-01","2174-01-01","2175-01-01","2176-01-01","2177-01-01","2178-01-01","2179-01-01","2180-01-01","2181-01-01","2182-01-01","2183-01-01","2184-01-01","2185-01-01","2186-01-01","2187-01-01","2188-01-01","2189-01-01","2190-01-01","2191-01-01","2192-01-01","2193-01-01","2194-01-01","2195-01-01","2196-01-01","2197-01-01","2198-01-01","2199-01-01","2200-01-01","2201-01-01","2202-01-01","2203-01-01","2204-01-01","2205-01-01","2206-01-01","2207-01-01","2208-01-01","2209-01-01","2210-01-01","2211-01-01","2212-01-01","2213-01-01","2214-01-01","2215-01-01","2216-01-01","2217-01-01","2218-01-01",{"$f":"GU8+1","v":"2219-01-01"},"2220-01-01","2221-01-01","2222-01-01","2223-01-01","2224-01-01","2225-01-01","2226-01-01","2227-01-01","2228-01-01","2229-01-01","2230-01-01","2231-01-01","2232-01-01","2233-01-01","2234-01-01","2235-01-01","2236-01-01","2237-01-01","2238-01-01","2239-01-01","2240-01-01","2241-01-01","2242-01-01","2243-01-01","2244-01-01","2245-01-01","2246-01-01","2247-01-01","2248-01-01","2249-01-01","2250-01-01","2251-01-01","2252-01-01","2253-01-01","2254-01-01","2255-01-01","2256-01-01","2257-01-01","2258-01-01","2259-01-01","2260-01-01","2261-01-01","2262-01-01","2263-01-01","2264-01-01","2265-01-01","2266-01-01","2267-01-01","2268-01-01","2269-01-01","2270-01-01","2271-01-01","2272-01-01","2273-01-01","2274-01-01","2275-01-01"]
[null,null,null,"End of period","Date",null,null,null,"Date",{"$f":"InputC!F7-1","v":"2025-12-31"},{"$f":"EDATE(K7,K6)-1","v":"2026-12-31"},{"$f":"EDATE(L7,L6)-1","v":"2027-12-31"},"2028-12-31","2029-12-31","2030-12-31","2031-12-31","2032-12-31","2033-12-31","2034-12-31","2035-12-31","2036-12-31","2037-12-31","2038-12-31","2039-12-31","2040-12-31","2041-12-31","2042-12-31","2043-12-31","2044-12-31","2045-12-31","2046-12-31","2047-12-31","2048-12-31","2049-12-31","2050-12-31","2051-12-31","2052-12-31","2053-12-31","2054-12-31","2055-12-31","2056-12-31","2057-12-31","2058-12-31","2059-12-31","2060-12-31","2061-12-31","2062-12-31","2063-12-31","2064-12-31","2065-12-31","2066-12-31","2067-12-31","2068-12-31","2069-12-31","2070-12-31","2071-12-31","2072-12-31","2073-12-31","2074-12-31","2075-12-31","2076-12-31","2077-12-31","2078-12-31","2079-12-31","2080-12-31","2081-12-31","2082-12-31","2083-12-31","2084-12-31","2085-12-31","2086-12-31","2087-12-31","2088-12-31","2089-12-31","2090-12-31",{"$f":"EDATE(BX7,BX6)-1","v":"2091-12-31"},"2092-12-31","2093-12-31","2094-12-31","2095-12-31","2096-12-31","2097-12-31","2098-12-31","2099-12-31","2100-12-31","2101-12-31","2102-12-31","2103-12-31","2104-12-31","2105-12-31","2106-12-31","2107-12-31","2108-12-31","2109-12-31","2110-12-31","2111-12-31","2112-12-31","2113-12-31","2114-12-31","2115-12-31","2116-12-31","2117-12-31","2118-12-31","2119-12-31","2120-12-31","2121-12-31","2122-12-31","2123-12-31","2124-12-31","2125-12-31","2126-12-31","2127-12-31","2128-12-31","2129-12-31","2130-12-31","2131-12-31","2132-12-31","2133-12-31","2134-12-31","2135-12-31","2136-12-31","2137-12-31","2138-12-31","2139-12-31","2140-12-31","2141-12-31","2142-12-31","2143-12-31","2144-12-31","2145-12-31","2146-12-31","2147-12-31","2148-12-31","2149-12-31","2150-12-31","2151-12-31","2152-12-31","2153-12-31","2154-12-31",{"$f":"EDATE(EJ7,EJ6)-1","v":"2155-12-31"},"2156-12-31","2157-12-31","2158-12-31","2159-12-31","2160-12-31","2161-12-31","2162-12-31","2163-12-31","2164-12-31","2165-12-31","2166-12-31","2167-12-31","2168-12-31","2169-12-31","2170-12-31","2171-12-31","2172-12-31","2173-12-31","2174-12-31","2175-12-31","2176-12-31","2177-12-31","2178-12-31","2179-12-31","2180-12-31","2181-12-31","2182-12-31","2183-12-31","2184-12-31","2185-12-31","2186-12-31","2187-12-31","2188-12-31","2189-12-31","2190-12-31","2191-12-31","2192-12-31","2193-12-31","2194-12-31","2195-12-31","2196-12-31","2197-12-31","2198-12-31","2199-12-31","2200-12-31","2201-12-31","2202-12-31","2203-12-31","2204-12-31","2205-12-31","2206-12-31","2207-12-31","2208-12-31","2209-12-31","2210-12-31","2211-12-31","2212-12-31","2213-12-31","2214-12-31","2215-12-31","2216-12-31","2217-12-31","2218-12-31",{"$f":"EDATE(GV7,GV6)-1","v":"2219-12-31"},"2220-12-31","2221-12-31","2222-12-31","2223-12-31","2224-12-31","2225-12-31","2226-12-31","2227-12-31","2228-12-31","2229-12-31","2230-12-31","2231-12-31","2232-12-31","2233-12-31","2234-12-31","2235-12-31","2236-12-31","2237-12-31","2238-12-31","2239-12-31","2240-12-31","2241-12-31","2242-12-31","2243-12-31","2244-12-31","2245-12-31","2246-12-31","2247-12-31","2248-12-31","2249-12-31","2250-12-31","2251-12-31","2252-12-31","2253-12-31","2254-12-31","2255-12-31","2256-12-31","2257-12-31","2258-12-31","2259-12-31","2260-12-31","2261-12-31","2262-12-31","2263-12-31","2264-12-31","2265-12-31","2266-12-31","2267-12-31","2268-12-31","2269-12-31","2270-12-31","2271-12-31","2272-12-31","2273-12-31","2274-12-31","2275-12-31"]
[null,null,null,"Operation period","Flag",{"$f":"InputC!F10","v":"2027-01-01"},{"$f":"InputC!F15","v":"2057-01-01"},{"$f":"SUM(K9:XFD9)","v":30},"Flag",null,{"$f":"(AND(K7>=$F$9,K7<$G$9))*1","v":0},{"$f":"(AND(L7>=$F$9,L7<$G$9))*1","v":1},1,1,1,1,1,1,1,1,1,1,1,1,1,1,1,1,1,1,1,1,1,1,1,1,1,1,1,1,1,0,0,0,0,0,0,0,0,0,0,0,0,0,0,0,0,0,0,0,0,0,0,0,0,0,0,0,0,0,0,0,0,0,0,{"$f":"(AND(BX7>=$F$9,BX7<$G$9))*1","v":0},0,0,0,0,0,0,0,0,0,0,0,0,0,0,0,0,0,0,0,0,0,0,0,0,0,0,0,0,0,0,0,0,0,0,0,0,0,0,0,0,0,0,0,0,0,0,0,0,0,0,0,0,0,0,0,0,0,0,0,0,0,0,0,{"$f":"(AND(EJ7>=$F$9,EJ7<$G$9))*1","v":0},0,0,0,0,0,0,0,0,0,0,0,0,0,0,0,0,0,0,0,0,0,0,0,0,0,0,0,0,0,0,0,0,0,0,0,0,0,0,0,0,0,0,0,0,0,0,0,0,0,0,0,0,0,0,0,0,0,0,0,0,0,0,0,{"$f":"(AND(GV7>=$F$9,GV7<$G$9))*1","v":0},0,0,0,0,0,0,0,0,0,0,0,0,0,0,0,0,0,0,0,0,0,0,0,0,0,0,0,0,0,0,0,0,0,0,0,0,0,0,0,0,0,0,0,0,0,0,0,0,0,0,0,0,0,0,0,0]
[null,null,null,"Operating Life in Periods",null,null,null,null,"Counter",null,{"$f":"J10+K9","v":0},{"$f":"K10+L9","v":1},2,3,4,5,6,7,8,9,10,11,12,13,14,15,16,17,18,19,20,21,22,23,24,25,26,27,28,29,30,30,30,30,30,30,30,30,30,30,30,30,30,30,30,30,30,30,30,30,30,30,30,30,30,30,30,30,30,30,30,30,30,30,30,{"$f":"BW10+BX9","v":30},30,30,30,30,30,30,30,30,30,30,30,30,30,30,30,30,30,30,30,30,30,30,30,30,30,30,30,30,30,30,30,30,30,30,30,30,30,30,30,30,30,30,30,30,30,30,30,30,30,30,30,30,30,30,30,30,30,30,30,30,30,30,30,{"$f":"EI10+EJ9","v":30},30,30,30,30,30,30,30,30,30,30,30,30,30,30,30,30,30,30,30,30,30,30,30,30,30,30,30,30,30,30,30,30,30,30,30,30,30,30,30,30,30,30,30,30,30,30,30,30,30,30,30,30,30,30,30,30,30,30,30,30,30,30,30,{"$f":"GU10+GV9","v":30},30,30,30,30,30,30,30,30,30,30,30,30,30,30,30,30,30,30,30,30,30,30,30,30,30,30,30,30,30,30,30,30,30,30,30,30,30,30,30,30,30,30,30,30,30,30,30,30,30,30,30,30,30,30,30,30]
[null,"Operations"]
[]
[null,null,"Capital Expenditures"]
[null,null,null,"Total Cost","EUR",{"$f":"InputC!F19","v":1000000},null,null,"EUR",null,{"$f":"$F$14","v":1000000},1000000,1000000,1000000,1000000,1000000,1000000,1000000,1000000,1000000,1000000,1000000,1000000,1000000,1000000,1000000,1000000,1000000,1000000,1000000,1000000,1000000,1000000,1000000,1000000,1000000,1000000,1000000,1000000,1000000,1000000,1000000,1000000,1000000,1000000,1000000,1000000,1000000,1000000,1000000,1000000,1000000,1000000,1000000,1000000,1000000,1000000,1000000,1000000,1000000,1000000,1000000,1000000,1000000,1000000,1000000,1000000,1000000,1000000,1000000,1000000,1000000,1000000,1000000,{"$f":"$F$14","v":1000000},1000000,1000000,1000000,1000000,1000000,1000000,1000000,1000000,1000000,1000000,1000000,1000000,1000000,1000000,1000000,1000000,1000000,1000000,1000000,1000000,1000000,1000000,1000000,1000000,1000000,1000000,1000000,1000000,1000000,1000000,1000000,1000000,1000000,1000000,1000000,1000000,1000000,1000000,1000000,1000000,1000000,1000000,1000000,1000000,1000000,1000000,1000000,1000000,1000000,1000000,1000000,1000000,1000000,1000000,1000000,1000000,1000000,1000000,1000000,1000000,1000000,1000000,1000000,{"$f":"$F$14","v":1000000},1000000,1000000,1000000,1000000,1000000,1000000,1000000,1000000,1000000,1000000,1000000,1000000,1000000,1000000,1000000,1000000,1000000,1000000,1000000,1000000,1000000,1000000,1000000,1000000,1000000,1000000,1000000,1000000,1000000,1000000,1000000,1000000,1000000,1000000,1000000,1000000,1000000,1000000,1000000,1000000,1000000,1000000,1000000,1000000,1000000,1000000,1000000,1000000,1000000,1000000,1000000,1000000,1000000,1000000,1000000,1000000,1000000,1000000,1000000,1000000,1000000,1000000,1000000,{"$f":"$F$14","v":1000000},1000000,1000000,1000000,1000000,1000000,1000000,1000000,1000000,1000000,1000000,1000000,1000000,1000000,1000000,1000000,1000000,1000000,1000000,1000000,1000000,1000000,1000000,1000000,1000000,1000000,1000000,1000000,1000000,1000000,1000000,1000000,1000000,1000000,1000000,1000000,1000000,1000000,1000000,1000000,1000000,1000000,1000000,1000000,1000000,1000000,1000000,1000000,1000000,1000000,1000000,1000000,1000000,1000000,1000000,1000000,1000000,1000000]
[null,null,null,"Percent Spent","Months/Per",{"$f":"F6/F4","v":1},null,null,"%",null,{"$f":"$F$15*K5","v":1},{"$f":"$F$15*L5","v":0},0,0,0,0,0,0,0,0,0,0,0,0,0,0,0,0,0,0,0,0,0,0,0,0,0,0,0,0,0,0,0,0,0,0,0,0,0,0,0,0,0,0,0,0,0,0,0,0,0,0,0,0,0,0,0,0,0,0,0,0,0,0,0,{"$f":"$F$15*BX5","v":0},0,0,0,0,0,0,0,0,0,0,0,0,0,0,0,0,0,0,0,0,0,0,0,0,0,0,0,0,0,0,0,0,0,0,0,0,0,0,0,0,0,0,0,0,0,0,0,0,0,0,0,0,0,0,0,0,0,0,0,0,0,0,0,{"$f":"$F$15*EJ5","v":0},0,0,0,0,0,0,0,0,0,0,0,0,0,0,0,0,0,0,0,0,0,0,0,0,0,0,0,0,0,0,0,0,0,0,0,0,0,0,0,0,0,0,0,0,0,0,0,0,0,0,0,0,0,0,0,0,0,0,0,0,0,0,0,{"$f":"$F$15*GV5","v":0},0,0,0,0,0,0,0,0,0,0,0,0,0,0,0,0,0,0,0,0,0,0,0,0,0,0,0,0,0,0,0,0,0,0,0,0,0,0,0,0,0,0,0,0,0,0,0,0,0,0,0,0,0,0,0,0]
[null,null,null,"Capital Expenditues",null,null,null,{"$f":"SUM(K16:XFD16)","v":1000000},"EUR",null,{"$f":"K14*K15","v":1000000},{"$f":"L14*L15","v":0},0,0,0,0,0,0,0,0,0,0,0,0,0,0,0,0,0,0,0,0,0,0,0,0,0,0,0,0,0,0,0,0,0,0,0,0,0,0,0,0,0,0,0,0,0,0,0,0,0,0,0,0,0,0,0,0,0,0,0,0,0,0,0,{"$f":"BX14*BX15","v":0},0,0,0,0,0,0,0,0,0,0,0,0,0,0,0,0,0,0,0,0,0,0,0,0,0,0,0,0,0,0,0,0,0,0,0,0,0,0,0,0,0,0,0,0,0,0,0,0,0,0,0,0,0,0,0,0,0,0,0,0,0,0,0,{"$f":"EJ14*EJ15","v":0},0,0,0,0,0,0,0,0,0,0,0,0,0,0,0,0,0,0,0,0,0,0,0,0,0,0,0,0,0,0,0,0,0,0,0,0,0,0,0,0,0,0,0,0,0,0,0,0,0,0,0,0,0,0,0,0,0,0,0,0,0,0,0,{"$f":"GV14*GV15","v":0},0,0,0,0,0,0,0,0,0,0,0,0,0,0,0,0,0,0,0,0,0,0,0,0,0,0,0,0,0,0,0,0,0,0,0,0,0,0,0,0,0,0,0,0,0,0,0,0,0,0,0,0,0,0,0,0]
[]
[null,null,"EBITDA"]
[null,null,null,"Base EBITDA","EUR/yr",{"$f":"InputC!F20","v":100000},{"$f":"F19*G6/months","v":100000},null,"EUR/period",null,{"$f":"$G$19*K9","v":0},{"$f":"$G$19*L9","v":100000},100000,100000,100000,100000,100000,100000,100000,100000,100000,100000,100000,100000,100000,100000,100000,100000,100000,100000,100000,100000,100000,100000,100000,100000,100000,100000,100000,100000,100000,0,0,0,0,0,0,0,0,0,0,0,0,0,0,0,0,0,0,0,0,0,0,0,0,0,0,0,0,0,0,0,0,0,0,{"$f":"$G$19*BX9","v":0},0,0,0,0,0,0,0,0,0,0,0,0,0,0,0,0,0,0,0,0,0,0,0,0,0,0,0,0,0,0,0,0,0,0,0,0,0,0,0,0,0,0,0,0,0,0,0,0,0,0,0,0,0,0,0,0,0,0,0,0,0,0,0,{"$f":"$G$19*EJ9","v":0},0,0,0,0,0,0,0,0,0,0,0,0,0,0,0,0,0,0,0,0,0,0,0,0,0,0,0,0,0,0,0,0,0,0,0,0,0,0,0,0,0,0,0,0,0,0,0,0,0,0,0,0,0,0,0,0,0,0,0,0,0,0,0,{"$f":"$G$19*GV9","v":0},0,0,0,0,0,0,0,0,0,0,0,0,0,0,0,0,0,0,0,0,0,0,0,0,0,0,0,0,0,0,0,0,0,0,0,0,0,0,0,0,0,0,0,0,0,0,0,0,0,0,0,0,0,0,0,0]
[null,null,null,"Growth Rate","% p.a.",{"$f":"InputC!F21","v":0},{"$f":"G6","v":12},null,"% p.p.",null,{"$f":"(1+$F$20)^($G$20/months)-1","v":0},{"$f":"(1+$F$20)^($G$20/months)-1","v":0},0,0,0,0,0,0,0,0,0,0,0,0,0,0,0,0,0,0,0,0,0,0,0,0,0,0,0,0,0,0,0,0,0,0,0,0,0,0,0,0,0,0,0,0,0,0,0,0,0,0,0,0,0,0,0,0,0,0,0,0,0,0,{"$f":"(1+$F$20)^($G$20/months)-1","v":0},0,0,0,0,0,0,0,0,0,0,0,0,0,0,0,0,0,0,0,0,0,0,0,0,0,0,0,0,0,0,0,0,0,0,0,0,0,0,0,0,0,0,0,0,0,0,0,0,0,0,0,0,0,0,0,0,0,0,0,0,0,0,0,{"$f":"(1+$F$20)^($G$20/months)-1","v":0},0,0,0,0,0,0,0,0,0,0,0,0,0,0,0,0,0,0,0,0,0,0,0,0,0,0,0,0,0,0,0,0,0,0,0,0,0,0,0,0,0,0,0,0,0,0,0,0,0,0,0,0,0,0,0,0,0,0,0,0,0,0,0,{"$f":"(1+$F$20)^($G$20/months)-1","v":0},0,0,0,0,0,0,0,0,0,0,0,0,0,0,0,0,0,0,0,0,0,0,0,0,0,0,0,0,0,0,0,0,0,0,0,0,0,0,0,0,0,0,0,0,0,0,0,0,0,0,0,0,0,0,0,0,0]
[null,null,null,"Inflation Index",null,null,null,null,"Index",{"$f":"One","v":1},{"$f":"J21*(1+K20*K9)","v":1},{"$f":"K21*(1+L20*L9)","v":1},1,1,1,1,1,1,1,1,1,1,1,1,1,1,1,1,1,1,1,1,1,1,1,1,1,1,1,1,1,1,1,1,1,1,1,1,1,1,1,1,1,1,1,1,1,1,1,1,1,1,1,1,1,1,1,1,1,1,1,1,1,1,1,{"$f":"BW21*(1+BX20*BX9)","v":1},1,1,1,1,1,1,1,1,1,1,1,1,1,1,1,1,1,1,1,1,1,1,1,1,1,1,1,1,1,1,1,1,1,1,1,1,1,1,1,1,1,1,1,1,1,1,1,1,1,1,1,1,1,1,1,1,1,1,1,1,1,1,1,{"$f":"EI21*(1+EJ20*EJ9)","v":1},1,1,1,1,1,1,1,1,1,1,1,1,1,1,1,1,1,1,1,1,1,1,1,1,1,1,1,1,1,1,1,1,1,1,1,1,1,1,1,1,1,1,1,1,1,1,1,1,1,1,1,1,1,1,1,1,1,1,1,1,1,1,1,{"$f":"GU21*(1+GV20*GV9)","v":1},1,1,1,1,1,1,1,1,1,1,1,1,1,1,1,1,1,1,1,1,1,1,1,1,1,1,1,1,1,1,1,1,1,1,1,1,1,1,1,1,1,1,1,1,1,1,1,1,1,1,1,1,1,1,1,1]
[null,null,null,"Volatility Parameter","% p.a."]
[null,null,null,"Mean Reversion Parameter","% p.a."]
[null,null,null,"Volatility Index",null,{"$f":"InputC!$F$23","v":0},{"$f":"InputC!$F$24","v":0.1},null,"Index",{"$f":"One","v":1},{"$f":"J24","v":1},{"$f":"K24","v":1},1,1,1,1,1,1,1,1,1,1,1,1,1,1,1,1,1,1,1,1,1,1,1,1,1,1,1,1,1,1,1,1,1,1,1,1,1,1,1,1,1,1,1,1,1,1,1,1,1,1,1,1,1,1,1,1,1,1,1,1,1,1,1,{"$f":"BW24","v":1},1,1,1,1,1,1,1,1,1,1,1,1,1,1,1,1,1,1,1,1,1,1,1,1,1,1,1,1,1,1,1,1,1,1,1,1,1,1,1,1,1,1,1,1,1,1,1,1,1,1,1,1,1,1,1,1,1,1,1,1,1,1,1,{"$f":"EI24","v":1},1,1,1,1,1,1,1,1,1,1,1,1,1,1,1,1,1,1,1,1,1,1,1,1,1,1,1,1,1,1,1,1,1,1,1,1,1,1,1,1,1,1,1,1,1,1,1,1,1,1,1,1,1,1,1,1,1,1,1,1,1,1,1,{"$f":"GU24","v":1},1,1,1,1,1,1,1,1,1,1,1,1,1,1,1,1,1,1,1,1,1,1,1,1,1,1,1,1,1,1,1,1,1,1,1,1,1,1,1,1,1,1,1,1,1,1,1,1,1,1,1,1,1,1,1,1]
[null,null,null,"EBITDA with Inflation",null,null,null,{"$f":"SUM(K25:XFD25)","v":3000000},"EUR",null,{"$f":"K21*K19*K24","v":0},{"$f":"L21*L19*L24","v":100000},100000,100000,100000,100000,100000,100000,100000,100000,100000,100000,100000,100000,100000,100000,100000,100000,100000,100000,100000,100000,100000,100000,100000,100000,100000,100000,100000,100000,100000,0,0,0,0,0,0,0,0,0,0,0,0,0,0,0,0,0,0,0,0,0,0,0,0,0,0,0,0,0,0,0,0,0,0,{"$f":"BX21*BX19*BX24","v":0},0,0,0,0,0,0,0,0,0,0,0,0,0,0,0,0,0,0,0,0,0,0,0,0,0,0,0,0,0,0,0,0,0,0,0,0,0,0,0,0,0,0,0,0,0,0,0,0,0,0,0,0,0,0,0,0,0,0,0,0,0,0,0,{"$f":"EJ21*EJ19*EJ24","v":0},0,0,0,0,0,0,0,0,0,0,0,0,0,0,0,0,0,0,0,0,0,0,0,0,0,0,0,0,0,0,0,0,0,0,0,0,0,0,0,0,0,0,0,0,0,0,0,0,0,0,0,0,0,0,0,0,0,0,0,0,0,0,0,{"$f":"GV21*GV19*GV24","v":0},0,0,0,0,0,0,0,0,0,0,0,0,0,0,0,0,0,0,0,0,0,0,0,0,0,0,0,0,0,0,0,0,0,0,0,0,0,0,0,0,0,0,0,0,0,0,0,0,0,0,0,0,0,0,0,0]
[]
[null,null,null,"Pre tax free cashflow",null,null,null,null,"EUR",null,{"$f":"K25-K16","v":-1000000},{"$f":"L25-L16","v":100000},{"$f":"M25-M16","v":100000},{"$f":"N25-N16","v":100000},{"$f":"O25-O16","v":100000},{"$f":"P25-P16","v":100000},{"$f":"Q25-Q16","v":100000},{"$f":"R25-R16","v":100000},{"$f":"S25-S16","v":100000},{"$f":"T25-T16","v":100000},{"$f":"U25-U16","v":100000},{"$f":"V25-V16","v":100000},{"$f":"W25-W16","v":100000},{"$f":"X25-X16","v":100000},{"$f":"Y25-Y16","v":100000},{"$f":"Z25-Z16","v":100000},{"$f":"AA25-AA16","v":100000},{"$f":"AB25-AB16","v":100000},{"$f":"AC25-AC16","v":100000},{"$f":"AD25-AD16","v":100000},{"$f":"AE25-AE16","v":100000},{"$f":"AF25-AF16","v":100000},{"$f":"AG25-AG16","v":100000},{"$f":"AH25-AH16","v":100000},{"$f":"AI25-AI16","v":100000},{"$f":"AJ25-AJ16","v":100000},{"$f":"AK25-AK16","v":100000},{"$f":"AL25-AL16","v":100000},{"$f":"AM25-AM16","v":100000},{"$f":"AN25-AN16","v":100000},{"$f":"AO25-AO16","v":100000},{"$f":"AP25-AP16","v":0},{"$f":"AQ25-AQ16","v":0},{"$f":"AR25-AR16","v":0},{"$f":"AS25-AS16","v":0},{"$f":"AT25-AT16","v":0},{"$f":"AU25-AU16","v":0},{"$f":"AV25-AV16","v":0},{"$f":"AW25-AW16","v":0},{"$f":"AX25-AX16","v":0},{"$f":"AY25-AY16","v":0},{"$f":"AZ25-AZ16","v":0},{"$f":"BA25-BA16","v":0},{"$f":"BB25-BB16","v":0},{"$f":"BC25-BC16","v":0},{"$f":"BD25-BD16","v":0},{"$f":"BE25-BE16","v":0},{"$f":"BF25-BF16","v":0},{"$f":"BG25-BG16","v":0},{"$f":"BH25-BH16","v":0},{"$f":"BI25-BI16","v":0},{"$f":"BJ25-BJ16","v":0},{"$f":"BK25-BK16","v":0},{"$f":"BL25-BL16","v":0},{"$f":"BM25-BM16","v":0},{"$f":"BN25-BN16","v":0},{"$f":"BO25-BO16","v":0},{"$f":"BP25-BP16","v":0},{"$f":"BQ25-BQ16","v":0},{"$f":"BR25-BR16","v":0},{"$f":"BS25-BS16","v":0},{"$f":"BT25-BT16","v":0},{"$f":"BU25-BU16","v":0},{"$f":"BV25-BV16","v":0},{"$f":"BW25-BW16","v":0},{"$f":"BX25-BX16","v":0},{"$f":"BY25-BY16","v":0},{"$f":"BZ25-BZ16","v":0},{"$f":"CA25-CA16","v":0},{"$f":"CB25-CB16","v":0},{"$f":"CC25-CC16","v":0},{"$f":"CD25-CD16","v":0},{"$f":"CE25-CE16","v":0},{"$f":"CF25-CF16","v":0},{"$f":"CG25-CG16","v":0},{"$f":"CH25-CH16","v":0},{"$f":"CI25-CI16","v":0},{"$f":"CJ25-CJ16","v":0},{"$f":"CK25-CK16","v":0},{"$f":"CL25-CL16","v":0},{"$f":"CM25-CM16","v":0},{"$f":"CN25-CN16","v":0},{"$f":"CO25-CO16","v":0},{"$f":"CP25-CP16","v":0},{"$f":"CQ25-CQ16","v":0},{"$f":"CR25-CR16","v":0},{"$f":"CS25-CS16","v":0},{"$f":"CT25-CT16","v":0},{"$f":"CU25-CU16","v":0},{"$f":"CV25-CV16","v":0},{"$f":"CW25-CW16","v":0},{"$f":"CX25-CX16","v":0},{"$f":"CY25-CY16","v":0},{"$f":"CZ25-CZ16","v":0},{"$f":"DA25-DA16","v":0},{"$f":"DB25-DB16","v":0},{"$f":"DC25-DC16","v":0},{"$f":"DD25-DD16","v":0},{"$f":"DE25-DE16","v":0},{"$f":"DF25-DF16","v":0},{"$f":"DG25-DG16","v":0},{"$f":"DH25-DH16","v":0},{"$f":"DI25-DI16","v":0},{"$f":"DJ25-DJ16","v":0},{"$f":"DK25-DK16","v":0},{"$f":"DL25-DL16","v":0},{"$f":"DM25-DM16","v":0},{"$f":"DN25-DN16","v":0},{"$f":"DO25-DO16","v":0},{"$f":"DP25-DP16","v":0},{"$f":"DQ25-DQ16","v":0},{"$f":"DR25-DR16","v":0},{"$f":"DS25-DS16","v":0},{"$f":"DT25-DT16","v":0},{"$f":"DU25-DU16","v":0},{"$f":"DV25-DV16","v":0},{"$f":"DW25-DW16","v":0},{"$f":"DX25-DX16","v":0},{"$f":"DY25-DY16","v":0},{"$f":"DZ25-DZ16","v":0},{"$f":"EA25-EA16","v":0},{"$f":"EB25-EB16","v":0},{"$f":"EC25-EC16","v":0},{"$f":"ED25-ED16","v":0},{"$f":"EE25-EE16","v":0},{"$f":"EF25-EF16","v":0},{"$f":"EG25-EG16","v":0},{"$f":"EH25-EH16","v":0},{"$f":"EI25-EI16","v":0},{"$f":"EJ25-EJ16","v":0},{"$f":"EK25-EK16","v":0},{"$f":"EL25-EL16","v":0},{"$f":"EM25-EM16","v":0},{"$f":"EN25-EN16","v":0},{"$f":"EO25-EO16","v":0},{"$f":"EP25-EP16","v":0},{"$f":"EQ25-EQ16","v":0},{"$f":"ER25-ER16","v":0},{"$f":"ES25-ES16","v":0},{"$f":"ET25-ET16","v":0},{"$f":"EU25-EU16","v":0},{"$f":"EV25-EV16","v":0},{"$f":"EW25-EW16","v":0},{"$f":"EX25-EX16","v":0},{"$f":"EY25-EY16","v":0},{"$f":"EZ25-EZ16","v":0},{"$f":"FA25-FA16","v":0},{"$f":"FB25-FB16","v":0},{"$f":"FC25-FC16","v":0},{"$f":"FD25-FD16","v":0},{"$f":"FE25-FE16","v":0},{"$f":"FF25-FF16","v":0},{"$f":"FG25-FG16","v":0},{"$f":"FH25-FH16","v":0},{"$f":"FI25-FI16","v":0},{"$f":"FJ25-FJ16","v":0},{"$f":"FK25-FK16","v":0},{"$f":"FL25-FL16","v":0},{"$f":"FM25-FM16","v":0},{"$f":"FN25-FN16","v":0},{"$f":"FO25-FO16","v":0},{"$f":"FP25-FP16","v":0},{"$f":"FQ25-FQ16","v":0},{"$f":"FR25-FR16","v":0},{"$f":"FS25-FS16","v":0},{"$f":"FT25-FT16","v":0},{"$f":"FU25-FU16","v":0},{"$f":"FV25-FV16","v":0},{"$f":"FW25-FW16","v":0},{"$f":"FX25-FX16","v":0},{"$f":"FY25-FY16","v":0},{"$f":"FZ25-FZ16","v":0},{"$f":"GA25-GA16","v":0},{"$f":"GB25-GB16","v":0},{"$f":"GC25-GC16","v":0},{"$f":"GD25-GD16","v":0},{"$f":"GE25-GE16","v":0},{"$f":"GF25-GF16","v":0},{"$f":"GG25-GG16","v":0},{"$f":"GH25-GH16","v":0},{"$f":"GI25-GI16","v":0},{"$f":"GJ25-GJ16","v":0},{"$f":"GK25-GK16","v":0},{"$f":"GL25-GL16","v":0},{"$f":"GM25-GM16","v":0},{"$f":"GN25-GN16","v":0},{"$f":"GO25-GO16","v":0},{"$f":"GP25-GP16","v":0},{"$f":"GQ25-GQ16","v":0},{"$f":"GR25-GR16","v":0},{"$f":"GS25-GS16","v":0},{"$f":"GT25-GT16","v":0},{"$f":"GU25-GU16","v":0},{"$f":"GV25-GV16","v":0},{"$f":"GW25-GW16","v":0},{"$f":"GX25-GX16","v":0},{"$f":"GY25-GY16","v":0},{"$f":"GZ25-GZ16","v":0},{"$f":"HA25-HA16","v":0},{"$f":"HB25-HB16","v":0},{"$f":"HC25-HC16","v":0},{"$f":"HD25-HD16","v":0},{"$f":"HE25-HE16","v":0},{"$f":"HF25-HF16","v":0},{"$f":"HG25-HG16","v":0},{"$f":"HH25-HH16","v":0},{"$f":"HI25-HI16","v":0},{"$f":"HJ25-HJ16","v":0},{"$f":"HK25-HK16","v":0},{"$f":"HL25-HL16","v":0},{"$f":"HM25-HM16","v":0},{"$f":"HN25-HN16","v":0},{"$f":"HO25-HO16","v":0},{"$f":"HP25-HP16","v":0},{"$f":"HQ25-HQ16","v":0},{"$f":"HR25-HR16","v":0},{"$f":"HS25-HS16","v":0},{"$f":"HT25-HT16","v":0},{"$f":"HU25-HU16","v":0},{"$f":"HV25-HV16","v":0},{"$f":"HW25-HW16","v":0},{"$f":"HX25-HX16","v":0},{"$f":"HY25-HY16","v":0},{"$f":"HZ25-HZ16","v":0},{"$f":"IA25-IA16","v":0},{"$f":"IB25-IB16","v":0},{"$f":"IC25-IC16","v":0},{"$f":"ID25-ID16","v":0},{"$f":"IE25-IE16","v":0},{"$f":"IF25-IF16","v":0},{"$f":"IG25-IG16","v":0},{"$f":"IH25-IH16","v":0},{"$f":"II25-II16","v":0},{"$f":"IJ25-IJ16","v":0},{"$f":"IK25-IK16","v":0},{"$f":"IL25-IL16","v":0},{"$f":"IM25-IM16","v":0},{"$f":"IN25-IN16","v":0},{"$f":"IO25-IO16","v":0},{"$f":"IP25-IP16","v":0},{"$f":"IQ25-IQ16","v":0},{"$f":"IR25-IR16","v":0},{"$f":"IS25-IS16","v":0},{"$f":"IT25-IT16","v":0},{"$f":"IU25-IU16","v":0},{"$f":"IV25-IV16","v":0},{"$f":"IW25-IW16","v":0},{"$f":"IX25-IX16","v":0},{"$f":"IY25-IY16","v":0},{"$f":"IZ25-IZ16","v":0}]
[null,null,null,"Pre tax IRR","%",{"$f":"IRR(K27:IZ27,0.0001)","v":9.3073397717584161E-2},{"$f":"(1+F28)^(months/G6)-1","v":9.3073397717584161E-2},null,"%"]
[null,null,null,"Pre tax XIRR","%",{"$f":"IFERROR(XIRR(K27:IZ27,K8:IZ8),FALSE)","v":9.300350844860078E-2},null,null,"%"]
[]
[null,"Debt Sizing"]
[null,null,"Total Funding Requirements"]
[null,null,null,"Capital Expenditures",null,null,null,null,"EUR"]
[null,null,null,"IDC",null,null,null,null,"EUR"]
[null,null,null,"Up-Front Fees",null,null,null,null,"EUR"]
[null,null,null,"Commitment Fees",null,null,null,null,"EUR"]
[null,null,null,"Total Requirements",null,null,null,null,"EUR"]
[]
[null,null,"Total Funding Sources"]
[null,null,null,"Debt","%",null,null,null,"EUR"]
[null,null,null,"Equity",null,null,null,null,"EUR"]
[null,null,null,"Total Sources",null,null,null,null,"EUR"]
[]
[null,"Debt Repayment"]
[]
[null,null,"Debt Flags"]
[null,null,null,"Life Counter - Periods",null,null,null,null,"Period"]
[null,null,null,"Life Counter - Periods","Monts/Per",null,null,null,"Year"]
[null,null,null,"Debt Repayment Periods","Years",null,null,null,"Flag"]
[]
[null,null,"Debt Repayment"]
[null,null,null,"Periodic Interest Rate","% p.a",null,null,null,"% p.p."]
[null,null,null,"Level Debt Service with PMT","EUR",null,null,null,"EUR"]
[]
[null,null,"Scheduled Debt"]
[null,null,null,"Opening Balance",null,null,null,null,"EUR"]
[null,null,null,"Add Debt Issued",null,null,null,null,"EUR"]
[null,null,null,"Less: Debt Repaid",null,null,null,null,"EUR"]
[null,null,null,"Closing Balance",null,null,null,null,"EUR"]
[null,null,null,"Periodic Interest Rate",null,null,null,null,"%"]
[null,null,null,"Interest Cost",null,null,null,null,"EUR"]
[]
[null,null,null,"Test of Closing Balance","Periods"]
[]
[null,null,null,"Debt Service =Interest + Repayment",null,null,null,null,"EUR"]
[null,null,null,"PV of Debt Service =Debt",null,null,null,null,"EUR"]
[]
[null,null,"Defaulted Debt"]
[null,null,null,"Opening Balance",null,null,null,null,"EUR"]
[null,null,null,"Add: Defaulted Debt",null,null,null,null,"EUR"]
[null,null,null,"Less: Repayment of Default",null,null,null,null,"EUR"]
[null,null,null,"Closing Balance",null,null,null,null,"EUR"]
[null,null,null,"Interest on Default",null,null,null,null,"EUR"]
[]
[null,null,null,"Default at Maturity",null,null,null,null,"EUR"]
[]
[null,"Cash Waterfall"]
[]
[null,null,null,"EBITDA",null,null,null,null,"EUR"]
[null,null,null,"Less: Debt Service",null,null,null,null,"EUR"]
[null,null,null,"Less: Interest on Default",null,null,null,null,"EUR"]
[null,null,null,"Cash Flow After Debt Service",null,null,null,null,"EUR"]
[null,null,null,"Add: Default",null,null,null,null,"EUR"]
[null,null,null,"Less: Repayment of Default",null,null,null,null,"EUR"]
[null,null,null,"Dividends",null,null,null,null,"EUR"]
[]
[null,"Ratios"]
[]
[null,null,null,"Equity Cash Flow",null,null,null,null,"EUR"]
[null,null,null,"Equity IRR","%",null,null,null,"%"]
[]
[null,null,null,"Debt Cash Flow","%",null,null,null,"EUR"]
[]
[null,null,null,"CFADS =EBITDA",null,null,null,null,"EUR"]
[null,null,null,"Debt Service",null,null,null,null,"EUR"]
[null,null,null,"Discount Rate","%"]
[null,null,null,"DSCR =CFADS/Debt Service","x",null,null,null,"x"]
[null,null,null,"Break-Even Percent Reduction DSCR","%"]
[]
[null,null,null,"PV of CFADS over Life","EUR"]
[null,null,null,"PV of Debt Service =Debt","EUR"]
[null,null,null,"PLCR=PV of CFADS/PV of Debt Service","x"]
[null,null,null,"Break-Even Percent Reduction PLCR","%"]
[]
[null,null,null,"CFADS for Loan Life",null,null,null,null,"EUR"]
[null,null,null,"PV of CFADS over Loan Life",null,null,null,null,"EUR"]
[null,null,null,"PV of Debt Service =Debt",null,null,null,null,"EUR"]
[null,null,null,"LLCR =PV of CFADS LL/Loan Amount","x"]
[null,null,null,"Break-Even Percent Reduction LLCR","%"]
[]
[null,"Graphts"]
[]
[null,null,null,"CFADS"]
[null,null,null,"Debt Service"]
[]
[null,null,null,{"$f":"InputC!F5","v":"Base Case - Annual"},": EBITDA",{"$f":"InputC!F20","v":100000},"\nDSCR",{"$f":"F97","v":0},"LLCR",{"$f":"F108","v":0}]
[]
[]
[null,null,null,"Accumulated Default"]
[]
[null,null,null,"Case"]
[]
[]
[null,"Investment Account"]
[]
[null,null,"Cash Before COD"]
[null,null,null,"Opening Balance",null,null,null,null,"EUR",null,{"$f":"J130","v":0},{"$f":"K130","v":1000000},1000000,1000000,1000000,1000000,1000000,1000000,1000000,1000000,1000000,1000000,1000000,1000000,1000000,1000000,1000000,1000000,1000000,1000000,1000000,1000000,1000000,1000000,1000000,1000000,1000000,1000000,1000000,1000000,1000000,1000000,1000000,1000000,1000000,1000000,1000000,1000000,1000000,1000000,1000000,1000000,1000000,1000000,1000000,1000000,1000000,1000000,1000000,1000000,1000000,1000000,1000000,1000000,1000000,1000000,1000000,1000000,1000000,1000000,1000000,1000000,1000000,1000000,1000000,{"$f":"BW130","v":1000000},1000000,1000000,1000000,1000000,1000000,1000000,1000000,1000000,1000000,1000000,1000000,1000000,1000000,1000000,1000000,1000000,1000000,1000000,1000000,1000000,1000000,1000000,1000000,1000000,1000000,1000000,1000000,1000000,1000000,1000000,1000000,1000000,1000000,1000000,1000000,1000000,1000000,1000000,1000000,1000000,1000000,1000000,1000000,1000000,1000000,1000000,1000000,1000000,1000000,1000000,1000000,1000000,1000000,1000000,1000000,1000000,1000000,1000000,1000000,1000000,1000000,1000000,1000000,{"$f":"EI130","v":1000000},1000000,1000000,1000000,1000000,1000000,1000000,1000000,1000000,1000000,1000000,1000000,1000000,1000000,1000000,1000000,1000000,1000000,1000000,1000000,1000000,1000000,1000000,1000000,1000000,1000000,1000000,1000000,1000000,1000000,1000000,1000000,1000000,1000000,1000000,1000000,1000000,1000000,1000000,1000000,1000000,1000000,1000000,1000000,1000000,1000000,1000000,1000000,1000000,1000000,1000000,1000000,1000000,1000000,1000000,1000000,1000000,1000000,1000000,1000000,1000000,1000000,1000000,1000000,{"$f":"GU130","v":1000000},1000000,1000000,1000000,1000000,1000000,1000000,1000000,1000000,1000000,1000000,1000000,1000000,1000000,1000000,1000000,1000000,1000000,1000000,1000000,1000000,1000000,1000000,1000000,1000000,1000000,1000000,1000000,1000000,1000000,1000000,1000000,1000000,1000000,1000000,1000000,1000000,1000000,1000000,1000000,1000000,1000000,1000000,1000000,1000000,1000000,1000000,1000000,1000000,1000000,1000000,1000000,1000000,1000000,1000000,1000000,1000000]
[null,null,null,"Financing Cost",null,{"$f":"F28","v":9.3073397717584161E-2},null,null,"EUR",null,{"$f":"K127*$F$128*K5","v":0},{"$f":"L127*$F$128*L5","v":0},{"$f":"M127*$F$128*M5","v":0},{"$f":"N127*$F$128*N5","v":0},{"$f":"O127*$F$128*O5","v":0},{"$f":"P127*$F$128*P5","v":0},{"$f":"Q127*$F$128*Q5","v":0},{"$f":"R127*$F$128*R5","v":0},{"$f":"S127*$F$128*S5","v":0},{"$f":"T127*$F$128*T5","v":0},{"$f":"U127*$F$128*U5","v":0},{"$f":"V127*$F$128*V5","v":0},{"$f":"W127*$F$128*W5","v":0},{"$f":"X127*$F$128*X5","v":0},{"$f":"Y127*$F$128*Y5","v":0},{"$f":"Z127*$F$128*Z5","v":0},{"$f":"AA127*$F$128*AA5","v":0},{"$f":"AB127*$F$128*AB5","v":0},{"$f":"AC127*$F$128*AC5","v":0},{"$f":"AD127*$F$128*AD5","v":0},{"$f":"AE127*$F$128*AE5","v":0},{"$f":"AF127*$F$128*AF5","v":0},{"$f":"AG127*$F$128*AG5","v":0},{"$f":"AH127*$F$128*AH5","v":0},{"$f":"AI127*$F$128*AI5","v":0},{"$f":"AJ127*$F$128*AJ5","v":0},{"$f":"AK127*$F$128*AK5","v":0},{"$f":"AL127*$F$128*AL5","v":0},{"$f":"AM127*$F$128*AM5","v":0},{"$f":"AN127*$F$128*AN5","v":0},{"$f":"AO127*$F$128*AO5","v":0},{"$f":"AP127*$F$128*AP5","v":0},{"$f":"AQ127*$F$128*AQ5","v":0},{"$f":"AR127*$F$128*AR5","v":0},{"$f":"AS127*$F$128*AS5","v":0},{"$f":"AT127*$F$128*AT5","v":0},{"$f":"AU127*$F$128*AU5","v":0},{"$f":"AV127*$F$128*AV5","v":0},{"$f":"AW127*$F$128*AW5","v":0},{"$f":"AX127*$F$128*AX5","v":0},{"$f":"AY127*$F$128*AY5","v":0},{"$f":"AZ127*$F$128*AZ5","v":0},{"$f":"BA127*$F$128*BA5","v":0},{"$f":"BB127*$F$128*BB5","v":0},{"$f":"BC127*$F$128*BC5","v":0},{"$f":"BD127*$F$128*BD5","v":0},{"$f":"BE127*$F$128*BE5","v":0},{"$f":"BF127*$F$128*BF5","v":0},{"$f":"BG127*$F$128*BG5","v":0},{"$f":"BH127*$F$128*BH5","v":0},{"$f":"BI127*$F$128*BI5","v":0},{"$f":"BJ127*$F$128*BJ5","v":0},{"$f":"BK127*$F$128*BK5","v":0},{"$f":"BL127*$F$128*BL5","v":0},{"$f":"BM127*$F$128*BM5","v":0},{"$f":"BN127*$F$128*BN5","v":0},{"$f":"BO127*$F$128*BO5","v":0},{"$f":"BP127*$F$128*BP5","v":0},{"$f":"BQ127*$F$128*BQ5","v":0},{"$f":"BR127*$F$128*BR5","v":0},{"$f":"BS127*$F$128*BS5","v":0},{"$f":"BT127*$F$128*BT5","v":0},{"$f":"BU127*$F$128*BU5","v":0},{"$f":"BV127*$F$128*BV5","v":0},{"$f":"BW127*$F$128*BW5","v":0},{"$f":"BX127*$F$128*BX5","v":0},{"$f":"BY127*$F$128*BY5","v":0},{"$f":"BZ127*$F$128*BZ5","v":0},{"$f":"CA127*$F$128*CA5","v":0},{"$f":"CB127*$F$128*CB5","v":0},{"$f":"CC127*$F$128*CC5","v":0},{"$f":"CD127*$F$128*CD5","v":0},{"$f":"CE127*$F$128*CE5","v":0},{"$f":"CF127*$F$128*CF5","v":0},{"$f":"CG127*$F$128*CG5","v":0},{"$f":"CH127*$F$128*CH5","v":0},{"$f":"CI127*$F$128*CI5","v":0},{"$f":"CJ127*$F$128*CJ5","v":0},{"$f":"CK127*$F$128*CK5","v":0},{"$f":"CL127*$F$128*CL5","v":0},{"$f":"CM127*$F$128*CM5","v":0},{"$f":"CN127*$F$128*CN5","v":0},{"$f":"CO127*$F$128*CO5","v":0},{"$f":"CP127*$F$128*CP5","v":0},{"$f":"CQ127*$F$128*CQ5","v":0},{"$f":"CR127*$F$128*CR5","v":0},{"$f":"CS127*$F$128*CS5","v":0},{"$f":"CT127*$F$128*CT5","v":0},{"$f":"CU127*$F$128*CU5","v":0},{"$f":"CV127*$F$128*CV5","v":0},{"$f":"CW127*$F$128*CW5","v":0},{"$f":"CX127*$F$128*CX5","v":0},{"$f":"CY127*$F$128*CY5","v":0},{"$f":"CZ127*$F$128*CZ5","v":0},{"$f":"DA127*$F$128*DA5","v":0},{"$f":"DB127*$F$128*DB5","v":0},{"$f":"DC127*$F$128*DC5","v":0},{"$f":"DD127*$F$128*DD5","v":0},{"$f":"DE127*$F$128*DE5","v":0},{"$f":"DF127*$F$128*DF5","v":0},{"$f":"DG127*$F$128*DG5","v":0},{"$f":"DH127*$F$128*DH5","v":0},{"$f":"DI127*$F$128*DI5","v":0},{"$f":"DJ127*$F$128*DJ5","v":0},{"$f":"DK127*$F$128*DK5","v":0},{"$f":"DL127*$F$128*DL5","v":0},{"$f":"DM127*$F$128*DM5","v":0},{"$f":"DN127*$F$128*DN5","v":0},{"$f":"DO127*$F$128*DO5","v":0},{"$f":"DP127*$F$128*DP5","v":0},{"$f":"DQ127*$F$128*DQ5","v":0},{"$f":"DR127*$F$128*DR5","v":0},{"$f":"DS127*$F$128*DS5","v":0},{"$f":"DT127*$F$128*DT5","v":0},{"$f":"DU127*$F$128*DU5","v":0},{"$f":"DV127*$F$128*DV5","v":0},{"$f":"DW127*$F$128*DW5","v":0},{"$f":"DX127*$F$128*DX5","v":0},{"$f":"DY127*$F$128*DY5","v":0},{"$f":"DZ127*$F$128*DZ5","v":0},{"$f":"EA127*$F$128*EA5","v":0},{"$f":"EB127*$F$128*EB5","v":0},{"$f":"EC127*$F$128*EC5","v":0},{"$f":"ED127*$F$128*ED5","v":0},{"$f":"EE127*$F$128*EE5","v":0},{"$f":"EF127*$F$128*EF5","v":0},{"$f":"EG127*$F$128*EG5","v":0},{"$f":"EH127*$F$128*EH5","v":0},{"$f":"EI127*$F$128*EI5","v":0},{"$f":"EJ127*$F$128*EJ5","v":0},{"$f":"EK127*$F$128*EK5","v":0},{"$f":"EL127*$F$128*EL5","v":0},{"$f":"EM127*$F$128*EM5","v":0},{"$f":"EN127*$F$128*EN5","v":0},{"$f":"EO127*$F$128*EO5","v":0},{"$f":"EP127*$F$128*EP5","v":0},{"$f":"EQ127*$F$128*EQ5","v":0},{"$f":"ER127*$F$128*ER5","v":0},{"$f":"ES127*$F$128*ES5","v":0},{"$f":"ET127*$F$128*ET5","v":0},{"$f":"EU127*$F$128*EU5","v":0},{"$f":"EV127*$F$128*EV5","v":0},{"$f":"EW127*$F$128*EW5","v":0},{"$f":"EX127*$F$128*EX5","v":0},{"$f":"EY127*$F$128*EY5","v":0},{"$f":"EZ127*$F$128*EZ5","v":0},{"$f":"FA127*$F$128*FA5","v":0},{"$f":"FB127*$F$128*FB5","v":0},{"$f":"FC127*$F$128*FC5","v":0},{"$f":"FD127*$F$128*FD5","v":0},{"$f":"FE127*$F$128*FE5","v":0},{"$f":"FF127*$F$128*FF5","v":0},{"$f":"FG127*$F$128*FG5","v":0},{"$f":"FH127*$F$128*FH5","v":0},{"$f":"FI127*$F$128*FI5","v":0},{"$f":"FJ127*$F$128*FJ5","v":0},{"$f":"FK127*$F$128*FK5","v":0},{"$f":"FL127*$F$128*FL5","v":0},{"$f":"FM127*$F$128*FM5","v":0},{"$f":"FN127*$F$128*FN5","v":0},{"$f":"FO127*$F$128*FO5","v":0},{"$f":"FP127*$F$128*FP5","v":0},{"$f":"FQ127*$F$128*FQ5","v":0},{"$f":"FR127*$F$128*FR5","v":0},{"$f":"FS127*$F$128*FS5","v":0},{"$f":"FT127*$F$128*FT5","v":0},{"$f":"FU127*$F$128*FU5","v":0},{"$f":"FV127*$F$128*FV5","v":0},{"$f":"FW127*$F$128*FW5","v":0},{"$f":"FX127*$F$128*FX5","v":0},{"$f":"FY127*$F$128*FY5","v":0},{"$f":"FZ127*$F$128*FZ5","v":0},{"$f":"GA127*$F$128*GA5","v":0},{"$f":"GB127*$F$128*GB5","v":0},{"$f":"GC127*$F$128*GC5","v":0},{"$f":"GD127*$F$128*GD5","v":0},{"$f":"GE127*$F$128*GE5","v":0},{"$f":"GF127*$F$128*GF5","v":0},{"$f":"GG127*$F$128*GG5","v":0},{"$f":"GH127*$F$128*GH5","v":0},{"$f":"GI127*$F$128*GI5","v":0},{"$f":"GJ127*$F$128*GJ5","v":0},{"$f":"GK127*$F$128*GK5","v":0},{"$f":"GL127*$F$128*GL5","v":0},{"$f":"GM127*$F$128*GM5","v":0},{"$f":"GN127*$F$128*GN5","v":0},{"$f":"GO127*$F$128*GO5","v":0},{"$f":"GP127*$F$128*GP5","v":0},{"$f":"GQ127*$F$128*GQ5","v":0},{"$f":"GR127*$F$128*GR5","v":0},{"$f":"GS127*$F$128*GS5","v":0},{"$f":"GT127*$F$128*GT5","v":0},{"$f":"GU127*$F$128*GU5","v":0},{"$f":"GV127*$F$128*GV5","v":0},{"$f":"GW127*$F$128*GW5","v":0},{"$f":"GX127*$F$128*GX5","v":0},{"$f":"GY127*$F$128*GY5","v":0},{"$f":"GZ127*$F$128*GZ5","v":0},{"$f":"HA127*$F$128*HA5","v":0},{"$f":"HB127*$F$128*HB5","v":0},{"$f":"HC127*$F$128*HC5","v":0},{"$f":"HD127*$F$128*HD5","v":0},{"$f":"HE127*$F$128*HE5","v":0},{"$f":"HF127*$F$128*HF5","v":0},{"$f":"HG127*$F$128*HG5","v":0},{"$f":"HH127*$F$128*HH5","v":0},{"$f":"HI127*$F$128*HI5","v":0},{"$f":"HJ127*$F$128*HJ5","v":0},{"$f":"HK127*$F$128*HK5","v":0},{"$f":"HL127*$F$128*HL5","v":0},{"$f":"HM127*$F$128*HM5","v":0},{"$f":"HN127*$F$128*HN5","v":0},{"$f":"HO127*$F$128*HO5","v":0},{"$f":"HP127*$F$128*HP5","v":0},{"$f":"HQ127*$F$128*HQ5","v":0},{"$f":"HR127*$F$128*HR5","v":0},{"$f":"HS127*$F$128*HS5","v":0},{"$f":"HT127*$F$128*HT5","v":0},{"$f":"HU127*$F$128*HU5","v":0},{"$f":"HV127*$F$128*HV5","v":0},{"$f":"HW127*$F$128*HW5","v":0},{"$f":"HX127*$F$128*HX5","v":0},{"$f":"HY127*$F$128*HY5","v":0},{"$f":"HZ127*$F$128*HZ5","v":0},{"$f":"IA127*$F$128*IA5","v":0},{"$f":"IB127*$F$128*IB5","v":0},{"$f":"IC127*$F$128*IC5","v":0},{"$f":"ID127*$F$128*ID5","v":0},{"$f":"IE127*$F$128*IE5","v":0},{"$f":"IF127*$F$128*IF5","v":0},{"$f":"IG127*$F$128*IG5","v":0},{"$f":"IH127*$F$128*IH5","v":0},{"$f":"II127*$F$128*II5","v":0},{"$f":"IJ127*$F$128*IJ5","v":0},{"$f":"IK127*$F$128*IK5","v":0},{"$f":"IL127*$F$128*IL5","v":0},{"$f":"IM127*$F$128*IM5","v":0},{"$f":"IN127*$F$128*IN5","v":0},{"$f":"IO127*$F$128*IO5","v":0},{"$f":"IP127*$F$128*IP5","v":0},{"$f":"IQ127*$F$128*IQ5","v":0},{"$f":"IR127*$F$128*IR5","v":0},{"$f":"IS127*$F$128*IS5","v":0},{"$f":"IT127*$F$128*IT5","v":0},{"$f":"IU127*$F$128*IU5","v":0},{"$f":"IV127*$F$128*IV5","v":0},{"$f":"IW127*$F$128*IW5","v":0},{"$f":"IX127*$F$128*IX5","v":0},{"$f":"IY127*$F$128*IY5","v":0},{"$f":"IZ127*$F$128*IZ5","v":0}]
[null,null,null,"Payments",null,null,null,null,"EUR",null,{"$f":"K16","v":1000000},{"$f":"L16","v":0},{"$f":"M16","v":0},{"$f":"N16","v":0},{"$f":"O16","v":0},{"$f":"P16","v":0},{"$f":"Q16","v":0},{"$f":"R16","v":0},{"$f":"S16","v":0},{"$f":"T16","v":0},{"$f":"U16","v":0},{"$f":"V16","v":0},{"$f":"W16","v":0},{"$f":"X16","v":0},{"$f":"Y16","v":0},{"$f":"Z16","v":0},{"$f":"AA16","v":0},{"$f":"AB16","v":0},{"$f":"AC16","v":0},{"$f":"AD16","v":0},{"$f":"AE16","v":0},{"$f":"AF16","v":0},{"$f":"AG16","v":0},{"$f":"AH16","v":0},{"$f":"AI16","v":0},{"$f":"AJ16","v":0},{"$f":"AK16","v":0},{"$f":"AL16","v":0},{"$f":"AM16","v":0},{"$f":"AN16","v":0},{"$f":"AO16","v":0},{"$f":"AP16","v":0},{"$f":"AQ16","v":0},{"$f":"AR16","v":0},{"$f":"AS16","v":0},{"$f":"AT16","v":0},{"$f":"AU16","v":0},{"$f":"AV16","v":0},{"$f":"AW16","v":0},{"$f":"AX16","v":0},{"$f":"AY16","v":0},{"$f":"AZ16","v":0},{"$f":"BA16","v":0},{"$f":"BB16","v":0},{"$f":"BC16","v":0},{"$f":"BD16","v":0},{"$f":"BE16","v":0},{"$f":"BF16","v":0},{"$f":"BG16","v":0},{"$f":"BH16","v":0},{"$f":"BI16","v":0},{"$f":"BJ16","v":0},{"$f":"BK16","v":0},{"$f":"BL16","v":0},{"$f":"BM16","v":0},{"$f":"BN16","v":0},{"$f":"BO16","v":0},{"$f":"BP16","v":0},{"$f":"BQ16","v":0},{"$f":"BR16","v":0},{"$f":"BS16","v":0},{"$f":"BT16","v":0},{"$f":"BU16","v":0},{"$f":"BV16","v":0},{"$f":"BW16","v":0},{"$f":"BX16","v":0},{"$f":"BY16","v":0},{"$f":"BZ16","v":0},{"$f":"CA16","v":0},{"$f":"CB16","v":0},{"$f":"CC16","v":0},{"$f":"CD16","v":0},{"$f":"CE16","v":0},{"$f":"CF16","v":0},{"$f":"CG16","v":0},{"$f":"CH16","v":0},{"$f":"CI16","v":0},{"$f":"CJ16","v":0},{"$f":"CK16","v":0},{"$f":"CL16","v":0},{"$f":"CM16","v":0},{"$f":"CN16","v":0},{"$f":"CO16","v":0},{"$f":"CP16","v":0},{"$f":"CQ16","v":0},{"$f":"CR16","v":0},{"$f":"CS16","v":0},{"$f":"CT16","v":0},{"$f":"CU16","v":0},{"$f":"CV16","v":0},{"$f":"CW16","v":0},{"$f":"CX16","v":0},{"$f":"CY16","v":0},{"$f":"CZ16","v":0},{"$f":"DA16","v":0},{"$f":"DB16","v":0},{"$f":"DC16","v":0},{"$f":"DD16","v":0},{"$f":"DE16","v":0},{"$f":"DF16","v":0},{"$f":"DG16","v":0},{"$f":"DH16","v":0},{"$f":"DI16","v":0},{"$f":"DJ16","v":0},{"$f":"DK16","v":0},{"$f":"DL16","v":0},{"$f":"DM16","v":0},{"$f":"DN16","v":0},{"$f":"DO16","v":0},{"$f":"DP16","v":0},{"$f":"DQ16","v":0},{"$f":"DR16","v":0},{"$f":"DS16","v":0},{"$f":"DT16","v":0},{"$f":"DU16","v":0},{"$f":"DV16","v":0},{"$f":"DW16","v":0},{"$f":"DX16","v":0},{"$f":"DY16","v":0},{"$f":"DZ16","v":0},{"$f":"EA16","v":0},{"$f":"EB16","v":0},{"$f":"EC16","v":0},{"$f":"ED16","v":0},{"$f":"EE16","v":0},{"$f":"EF16","v":0},{"$f":"EG16","v":0},{"$f":"EH16","v":0},{"$f":"EI16","v":0},{"$f":"EJ16","v":0},{"$f":"EK16","v":0},{"$f":"EL16","v":0},{"$f":"EM16","v":0},{"$f":"EN16","v":0},{"$f":"EO16","v":0},{"$f":"EP16","v":0},{"$f":"EQ16","v":0},{"$f":"ER16","v":0},{"$f":"ES16","v":0},{"$f":"ET16","v":0},{"$f":"EU16","v":0},{"$f":"EV16","v":0},{"$f":"EW16","v":0},{"$f":"EX16","v":0},{"$f":"EY16","v":0},{"$f":"EZ16","v":0},{"$f":"FA16","v":0},{"$f":"FB16","v":0},{"$f":"FC16","v":0},{"$f":"FD16","v":0},{"$f":"FE16","v":0},{"$f":"FF16","v":0},{"$f":"FG16","v":0},{"$f":"FH16","v":0},{"$f":"FI16","v":0},{"$f":"FJ16","v":0},{"$f":"FK16","v":0},{"$f":"FL16","v":0},{"$f":"FM16","v":0},{"$f":"FN16","v":0},{"$f":"FO16","v":0},{"$f":"FP16","v":0},{"$f":"FQ16","v":0},{"$f":"FR16","v":0},{"$f":"FS16","v":0},{"$f":"FT16","v":0},{"$f":"FU16","v":0},{"$f":"FV16","v":0},{"$f":"FW16","v":0},{"$f":"FX16","v":0},{"$f":"FY16","v":0},{"$f":"FZ16","v":0},{"$f":"GA16","v":0},{"$f":"GB16","v":0},{"$f":"GC16","v":0},{"$f":"GD16","v":0},{"$f":"GE16","v":0},{"$f":"GF16","v":0},{"$f":"GG16","v":0},{"$f":"GH16","v":0},{"$f":"GI16","v":0},{"$f":"GJ16","v":0},{"$f":"GK16","v":0},{"$f":"GL16","v":0},{"$f":"GM16","v":0},{"$f":"GN16","v":0},{"$f":"GO16","v":0},{"$f":"GP16","v":0},{"$f":"GQ16","v":0},{"$f":"GR16","v":0},{"$f":"GS16","v":0},{"$f":"GT16","v":0},{"$f":"GU16","v":0},{"$f":"GV16","v":0},{"$f":"GW16","v":0},{"$f":"GX16","v":0},{"$f":"GY16","v":0},{"$f":"GZ16","v":0},{"$f":"HA16","v":0},{"$f":"HB16","v":0},{"$f":"HC16","v":0},{"$f":"HD16","v":0},{"$f":"HE16","v":0},{"$f":"HF16","v":0},{"$f":"HG16","v":0},{"$f":"HH16","v":0},{"$f":"HI16","v":0},{"$f":"HJ16","v":0},{"$f":"HK16","v":0},{"$f":"HL16","v":0},{"$f":"HM16","v":0},{"$f":"HN16","v":0},{"$f":"HO16","v":0},{"$f":"HP16","v":0},{"$f":"HQ16","v":0},{"$f":"HR16","v":0},{"$f":"HS16","v":0},{"$f":"HT16","v":0},{"$f":"HU16","v":0},{"$f":"HV16","v":0},{"$f":"HW16","v":0},{"$f":"HX16","v":0},{"$f":"HY16","v":0},{"$f":"HZ16","v":0},{"$f":"IA16","v":0},{"$f":"IB16","v":0},{"$f":"IC16","v":0},{"$f":"ID16","v":0},{"$f":"IE16","v":0},{"$f":"IF16","v":0},{"$f":"IG16","v":0},{"$f":"IH16","v":0},{"$f":"II16","v":0},{"$f":"IJ16","v":0},{"$f":"IK16","v":0},{"$f":"IL16","v":0},{"$f":"IM16","v":0},{"$f":"IN16","v":0},{"$f":"IO16","v":0},{"$f":"IP16","v":0},{"$f":"IQ16","v":0},{"$f":"IR16","v":0},{"$f":"IS16","v":0},{"$f":"IT16","v":0},{"$f":"IU16","v":0},{"$f":"IV16","v":0},{"$f":"IW16","v":0},{"$f":"IX16","v":0},{"$f":"IY16","v":0},{"$f":"IZ16","v":0}]
[null,null,null,"Closing Balance",null,null,null,null,"EUR",null,{"$f":"SUM(K127:K129)","v":1000000},{"$f":"SUM(L127:L129)","v":1000000},1000000,1000000,1000000,1000000,1000000,1000000,1000000,1000000,1000000,1000000,1000000,1000000,1000000,1000000,1000000,1000000,1000000,1000000,1000000,1000000,1000000,1000000,1000000,1000000,1000000,1000000,1000000,1000000,1000000,1000000,1000000,1000000,1000000,1000000,1000000,1000000,1000000,1000000,1000000,1000000,1000000,1000000,1000000,1000000,1000000,1000000,1000000,1000000,1000000,1000000,1000000,1000000,1000000,1000000,1000000,1000000,1000000,1000000,1000000,1000000,1000000,1000000,1000000,{"$f":"SUM(BX127:BX129)","v":1000000},1000000,1000000,1000000,1000000,1000000,1000000,1000000,1000000,1000000,1000000,1000000,1000000,1000000,1000000,1000000,1000000,1000000,1000000,1000000,1000000,1000000,1000000,1000000,1000000,1000000,1000000,1000000,1000000,1000000,1000000,1000000,1000000,1000000,1000000,1000000,1000000,1000000,1000000,1000000,1000000,1000000,1000000,1000000,1000000,1000000,1000000,1000000,1000000,1000000,1000000,1000000,1000000,1000000,1000000,1000000,1000000,1000000,1000000,1000000,1000000,1000000,1000000,1000000,{"$f":"SUM(EJ127:EJ129)","v":1000000},1000000,1000000,1000000,1000000,1000000,1000000,1000000,1000000,1000000,1000000,1000000,1000000,1000000,1000000,1000000,1000000,1000000,1000000,1000000,1000000,1000000,1000000,1000000,1000000,1000000,1000000,1000000,1000000,1000000,1000000,1000000,1000000,1000000,1000000,1000000,1000000,1000000,1000000,1000000,1000000,1000000,1000000,1000000,1000000,1000000,1000000,1000000,1000000,1000000,1000000,1000000,1000000,1000000,1000000,1000000,1000000,1000000,1000000,1000000,1000000,1000000,1000000,1000000,{"$f":"SUM(GV127:GV129)","v":1000000},1000000,1000000,1000000,1000000,1000000,1000000,1000000,1000000,1000000,1000000,1000000,1000000,1000000,1000000,1000000,1000000,1000000,1000000,1000000,1000000,1000000,1000000,1000000,1000000,1000000,1000000,1000000,1000000,1000000,1000000,1000000,1000000,1000000,1000000,1000000,1000000,1000000,1000000,1000000,1000000,1000000,1000000,1000000,1000000,1000000,1000000,1000000,1000000,1000000,1000000,1000000,1000000,1000000,1000000,1000000,1000000]
[]
[null,null,null,"Cash in Final Construction Period","Period",{"$f":"H5","v":1},{"$f":"LOOKUP(F132,3:3,130:130)","v":1000000}]
[]
[null,null,"Cash After COD"]
[null,null,null,"Opening Balance","EUR",null,null,null,"EUR",null,{"$f":"J138","v":0},0,100000,209307.33977175842,328788.28505154478,459389.72787102964,602146.6907205428,758190.52915030299,928757.89781561471,1115200.5510223547,1318996.0554425274,1541759.4998986544,1785256.2950175856,2051416.164191578,2342348.4367256616,2660358.7643701904,3007967.393717878,3387929.1392749073,3803255.2154936334,4257237.1007867493,4753472.622646329,5295894.4705935381,5888801.3629254457,6536892.114256857,7245302.8738440247,8019647.8298056647,8866063.7018241286,9791258.3749334421,10802564.059819249,11907995.400928486,13116312.992898267,14437092.808674604,14437092.808674604,14437092.808674604,14437092.808674604,14437092.808674604,14437092.808674604,14437092.808674604,14437092.808674604,14437092.808674604,14437092.808674604,14437092.808674604,14437092.808674604,14437092.808674604,14437092.808674604,14437092.808674604,14437092.808674604,14437092.808674604,14437092.808674604,14437092.808674604,14437092.808674604,14437092.808674604,14437092.808674604,14437092.808674604,14437092.808674604,14437092.808674604,14437092.808674604,14437092.808674604,14437092.808674604,14437092.808674604,14437092.808674604,14437092.808674604,14437092.808674604,14437092.808674604,{"$f":"BV138","v":14437092.808674604},14437092.808674604,14437092.808674604,14437092.808674604,14437092.808674604,14437092.808674604,14437092.808674604,14437092.808674604,14437092.808674604,14437092.808674604,14437092.808674604,14437092.808674604,14437092.808674604,14437092.808674604,14437092.808674604,14437092.808674604,14437092.808674604,14437092.808674604,14437092.808674604,14437092.808674604,14437092.808674604,14437092.808674604,14437092.808674604,14437092.808674604,14437092.808674604,14437092.808674604,14437092.808674604,14437092.808674604,14437092.808674604,14437092.808674604,14437092.808674604,14437092.808674604,14437092.808674604,14437092.808674604,14437092.808674604,14437092.808674604,14437092.808674604,14437092.808674604,14437092.808674604,14437092.808674604,14437092.808674604,14437092.808674604,14437092.808674604,14437092.808674604,14437092.808674604,14437092.808674604,14437092.808674604,14437092.808674604,14437092.808674604,14437092.808674604,14437092.808674604,14437092.808674604,14437092.808674604,14437092.808674604,14437092.808674604,14437092.808674604,14437092.808674604,14437092.808674604,14437092.808674604,14437092.808674604,14437092.808674604,14437092.808674604,14437092.808674604,14437092.808674604,{"$f":"EH138","v":14437092.808674604},14437092.808674604,14437092.808674604,14437092.808674604,14437092.808674604,14437092.808674604,14437092.808674604,14437092.808674604,14437092.808674604,14437092.808674604,14437092.808674604,14437092.808674604,14437092.808674604,14437092.808674604,14437092.808674604,14437092.808674604,14437092.808674604,14437092.808674604,14437092.808674604,14437092.808674604,14437092.808674604,14437092.808674604,14437092.808674604,14437092.808674604,14437092.808674604,14437092.808674604,14437092.808674604,14437092.808674604,14437092.808674604,14437092.808674604,14437092.808674604,14437092.808674604,14437092.808674604,14437092.808674604,14437092.808674604,14437092.808674604,14437092.808674604,14437092.808674604,14437092.808674604,14437092.808674604,14437092.808674604,14437092.808674604,14437092.808674604,14437092.808674604,14437092.808674604,14437092.808674604,14437092.808674604,14437092.808674604,14437092.808674604,14437092.808674604,14437092.808674604,14437092.808674604,14437092.808674604,14437092.808674604,14437092.808674604,14437092.808674604,14437092.808674604,14437092.808674604,14437092.808674604,14437092.808674604,14437092.808674604,14437092.808674604,14437092.808674604,14437092.808674604,{"$f":"GT138","v":14437092.808674604},14437092.808674604,14437092.808674604,14437092.808674604,14437092.808674604,14437092.808674604,14437092.808674604,14437092.808674604,14437092.808674604,14437092.808674604,14437092.808674604,14437092.808674604,14437092.808674604,14437092.808674604,14437092.808674604,14437092.808674604,14437092.808674604,14437092.808674604,14437092.808674604,14437092.808674604,14437092.808674604,14437092.808674604,14437092.808674604,14437092.808674604,14437092.808674604,14437092.808674604,14437092.808674604,14437092.808674604,14437092.808674604,14437092.808674604,14437092.808674604,14437092.808674604,14437092.808674604,14437092.808674604,14437092.808674604,14437092.808674604,14437092.808674604,14437092.808674604,14437092.808674604,14437092.808674604,14437092.808674604,14437092.808674604,14437092.808674604,14437092.808674604,14437092.808674604,14437092.808674604,14437092.808674604,14437092.808674604,14437092.808674604,14437092.808674604,14437092.808674604,14437092.808674604,14437092.808674604,14437092.808674604,14437092.808674604,14437092.808674604,14437092.808674604,14437092.808674604]
[null,null,null,"Reinvestment income","EUR",{"$f":"F28","v":9.3073397717584161E-2},null,null,"EUR",null,{"$f":"K135*$F$136*K9","v":0},{"$f":"L135*$F$136*L9","v":0},{"$f":"M135*$F$136*M9","v":9307.3397717584157},{"$f":"N135*$F$136*N9","v":19480.945279786392},{"$f":"O135*$F$136*O9","v":30601.442819484859},{"$f":"P135*$F$136*P9","v":42756.962849513096},{"$f":"Q135*$F$136*Q9","v":56043.838429760224},{"$f":"R135*$F$136*R9","v":70567.368665311733},{"$f":"S135*$F$136*S9","v":86442.653206740099},{"$f":"T135*$F$136*T9","v":103795.50442017263},{"$f":"U135*$F$136*U9","v":122763.44445612704},{"$f":"V135*$F$136*V9","v":143496.79511893113},{"$f":"W135*$F$136*W9","v":166159.86917399251},{"$f":"X135*$F$136*X9","v":190932.27253408366},{"$f":"Y135*$F$136*Y9","v":218010.32764452902},{"$f":"Z135*$F$136*Z9","v":247608.6293476875},{"$f":"AA135*$F$136*AA9","v":279961.74555702915},{"$f":"AB135*$F$136*AB9","v":315326.07621872606},{"$f":"AC135*$F$136*AC9","v":353981.88529311522},{"$f":"AD135*$F$136*AD9","v":396235.52185958007},{"$f":"AE135*$F$136*AE9","v":442421.84794720961},{"$f":"AF135*$F$136*AF9","v":492906.89233190718},{"$f":"AG135*$F$136*AG9","v":548090.75133141165},{"$f":"AH135*$F$136*AH9","v":608410.759587168},{"$f":"AI135*$F$136*AI9","v":674344.95596164046},{"$f":"AJ135*$F$136*AJ9","v":746415.87201846333},{"$f":"AK135*$F$136*AK9","v":825194.67310931359},{"$f":"AL135*$F$136*AL9","v":911305.68488580699},{"$f":"AM135*$F$136*AM9","v":1005431.3411092376},{"$f":"AN135*$F$136*AN9","v":1108317.5919697802},{"$f":"AO135*$F$136*AO9","v":1220779.8157763369},{"$f":"AP135*$F$136*AP9","v":0},{"$f":"AQ135*$F$136*AQ9","v":0},{"$f":"AR135*$F$136*AR9","v":0},{"$f":"AS135*$F$136*AS9","v":0},{"$f":"AT135*$F$136*AT9","v":0},{"$f":"AU135*$F$136*AU9","v":0},{"$f":"AV135*$F$136*AV9","v":0},{"$f":"AW135*$F$136*AW9","v":0},{"$f":"AX135*$F$136*AX9","v":0},{"$f":"AY135*$F$136*AY9","v":0},{"$f":"AZ135*$F$136*AZ9","v":0},{"$f":"BA135*$F$136*BA9","v":0},{"$f":"BB135*$F$136*BB9","v":0},{"$f":"BC135*$F$136*BC9","v":0},{"$f":"BD135*$F$136*BD9","v":0},{"$f":"BE135*$F$136*BE9","v":0},{"$f":"BF135*$F$136*BF9","v":0},{"$f":"BG135*$F$136*BG9","v":0},{"$f":"BH135*$F$136*BH9","v":0},{"$f":"BI135*$F$136*BI9","v":0},{"$f":"BJ135*$F$136*BJ9","v":0},{"$f":"BK135*$F$136*BK9","v":0},{"$f":"BL135*$F$136*BL9","v":0},{"$f":"BM135*$F$136*BM9","v":0},{"$f":"BN135*$F$136*BN9","v":0},{"$f":"BO135*$F$136*BO9","v":0},{"$f":"BP135*$F$136*BP9","v":0},{"$f":"BQ135*$F$136*BQ9","v":0},{"$f":"BR135*$F$136*BR9","v":0},{"$f":"BS135*$F$136*BS9","v":0},{"$f":"BT135*$F$136*BT9","v":0},{"$f":"BU135*$F$136*BU9","v":0},{"$f":"BV135*$F$136*BV9","v":0},{"$f":"BW135*$F$136*BW9","v":0},{"$f":"BX135*$F$136*BX9","v":0},{"$f":"BY135*$F$136*BY9","v":0},{"$f":"BZ135*$F$136*BZ9","v":0},{"$f":"CA135*$F$136*CA9","v":0},{"$f":"CB135*$F$136*CB9","v":0},{"$f":"CC135*$F$136*CC9","v":0},{"$f":"CD135*$F$136*CD9","v":0},{"$f":"CE135*$F$136*CE9","v":0},{"$f":"CF135*$F$136*CF9","v":0},{"$f":"CG135*$F$136*CG9","v":0},{"$f":"CH135*$F$136*CH9","v":0},{"$f":"CI135*$F$136*CI9","v":0},{"$f":"CJ135*$F$136*CJ9","v":0},{"$f":"CK135*$F$136*CK9","v":0},{"$f":"CL135*$F$136*CL9","v":0},{"$f":"CM135*$F$136*CM9","v":0},{"$f":"CN135*$F$136*CN9","v":0},{"$f":"CO135*$F$136*CO9","v":0},{"$f":"CP135*$F$136*CP9","v":0},{"$f":"CQ135*$F$136*CQ9","v":0},{"$f":"CR135*$F$136*CR9","v":0},{"$f":"CS135*$F$136*CS9","v":0},{"$f":"CT135*$F$136*CT9","v":0},{"$f":"CU135*$F$136*CU9","v":0},{"$f":"CV135*$F$136*CV9","v":0},{"$f":"CW135*$F$136*CW9","v":0},{"$f":"CX135*$F$136*CX9","v":0},{"$f":"CY135*$F$136*CY9","v":0},{"$f":"CZ135*$F$136*CZ9","v":0},{"$f":"DA135*$F$136*DA9","v":0},{"$f":"DB135*$F$136*DB9","v":0},{"$f":"DC135*$F$136*DC9","v":0},{"$f":"DD135*$F$136*DD9","v":0},{"$f":"DE135*$F$136*DE9","v":0},{"$f":"DF135*$F$136*DF9","v":0},{"$f":"DG135*$F$136*DG9","v":0},{"$f":"DH135*$F$136*DH9","v":0},{"$f":"DI135*$F$136*DI9","v":0},{"$f":"DJ135*$F$136*DJ9","v":0},{"$f":"DK135*$F$136*DK9","v":0},{"$f":"DL135*$F$136*DL9","v":0},{"$f":"DM135*$F$136*DM9","v":0},{"$f":"DN135*$F$136*DN9","v":0},{"$f":"DO135*$F$136*DO9","v":0},{"$f":"DP135*$F$136*DP9","v":0},{"$f":"DQ135*$F$136*DQ9","v":0},{"$f":"DR135*$F$136*DR9","v":0},{"$f":"DS135*$F$136*DS9","v":0},{"$f":"DT135*$F$136*DT9","v":0},{"$f":"DU135*$F$136*DU9","v":0},{"$f":"DV135*$F$136*DV9","v":0},{"$f":"DW135*$F$136*DW9","v":0},{"$f":"DX135*$F$136*DX9","v":0},{"$f":"DY135*$F$136*DY9","v":0},{"$f":"DZ135*$F$136*DZ9","v":0},{"$f":"EA135*$F$136*EA9","v":0},{"$f":"EB135*$F$136*EB9","v":0},{"$f":"EC135*$F$136*EC9","v":0},{"$f":"ED135*$F$136*ED9","v":0},{"$f":"EE135*$F$136*EE9","v":0},{"$f":"EF135*$F$136*EF9","v":0},{"$f":"EG135*$F$136*EG9","v":0},{"$f":"EH135*$F$136*EH9","v":0},{"$f":"EI135*$F$136*EI9","v":0},{"$f":"EJ135*$F$136*EJ9","v":0},{"$f":"EK135*$F$136*EK9","v":0},{"$f":"EL135*$F$136*EL9","v":0},{"$f":"EM135*$F$136*EM9","v":0},{"$f":"EN135*$F$136*EN9","v":0},{"$f":"EO135*$F$136*EO9","v":0},{"$f":"EP135*$F$136*EP9","v":0},{"$f":"EQ135*$F$136*EQ9","v":0},{"$f":"ER135*$F$136*ER9","v":0},{"$f":"ES135*$F$136*ES9","v":0},{"$f":"ET135*$F$136*ET9","v":0},{"$f":"EU135*$F$136*EU9","v":0},{"$f":"EV135*$F$136*EV9","v":0},{"$f":"EW135*$F$136*EW9","v":0},{"$f":"EX135*$F$136*EX9","v":0},{"$f":"EY135*$F$136*EY9","v":0},{"$f":"EZ135*$F$136*EZ9","v":0},{"$f":"FA135*$F$136*FA9","v":0},{"$f":"FB135*$F$136*FB9","v":0},{"$f":"FC135*$F$136*FC9","v":0},{"$f":"FD135*$F$136*FD9","v":0},{"$f":"FE135*$F$136*FE9","v":0},{"$f":"FF135*$F$136*FF9","v":0},{"$f":"FG135*$F$136*FG9","v":0},{"$f":"FH135*$F$136*FH9","v":0},{"$f":"FI135*$F$136*FI9","v":0},{"$f":"FJ135*$F$136*FJ9","v":0},{"$f":"FK135*$F$136*FK9","v":0},{"$f":"FL135*$F$136*FL9","v":0},{"$f":"FM135*$F$136*FM9","v":0},{"$f":"FN135*$F$136*FN9","v":0},{"$f":"FO135*$F$136*FO9","v":0},{"$f":"FP135*$F$136*FP9","v":0},{"$f":"FQ135*$F$136*FQ9","v":0},{"$f":"FR135*$F$136*FR9","v":0},{"$f":"FS135*$F$136*FS9","v":0},{"$f":"FT135*$F$136*FT9","v":0},{"$f":"FU135*$F$136*FU9","v":0},{"$f":"FV135*$F$136*FV9","v":0},{"$f":"FW135*$F$136*FW9","v":0},{"$f":"FX135*$F$136*FX9","v":0},{"$f":"FY135*$F$136*FY9","v":0},{"$f":"FZ135*$F$136*FZ9","v":0},{"$f":"GA135*$F$136*GA9","v":0},{"$f":"GB135*$F$136*GB9","v":0},{"$f":"GC135*$F$136*GC9","v":0},{"$f":"GD135*$F$136*GD9","v":0},{"$f":"GE135*$F$136*GE9","v":0},{"$f":"GF135*$F$136*GF9","v":0},{"$f":"GG135*$F$136*GG9","v":0},{"$f":"GH135*$F$136*GH9","v":0},{"$f":"GI135*$F$136*GI9","v":0},{"$f":"GJ135*$F$136*GJ9","v":0},{"$f":"GK135*$F$136*GK9","v":0},{"$f":"GL135*$F$136*GL9","v":0},{"$f":"GM135*$F$136*GM9","v":0},{"$f":"GN135*$F$136*GN9","v":0},{"$f":"GO135*$F$136*GO9","v":0},{"$f":"GP135*$F$136*GP9","v":0},{"$f":"GQ135*$F$136*GQ9","v":0},{"$f":"GR135*$F$136*GR9","v":0},{"$f":"GS135*$F$136*GS9","v":0},{"$f":"GT135*$F$136*GT9","v":0},{"$f":"GU135*$F$136*GU9","v":0},{"$f":"GV135*$F$136*GV9","v":0},{"$f":"GW135*$F$136*GW9","v":0},{"$f":"GX135*$F$136*GX9","v":0},{"$f":"GY135*$F$136*GY9","v":0},{"$f":"GZ135*$F$136*GZ9","v":0},{"$f":"HA135*$F$136*HA9","v":0},{"$f":"HB135*$F$136*HB9","v":0},{"$f":"HC135*$F$136*HC9","v":0},{"$f":"HD135*$F$136*HD9","v":0},{"$f":"HE135*$F$136*HE9","v":0},{"$f":"HF135*$F$136*HF9","v":0},{"$f":"HG135*$F$136*HG9","v":0},{"$f":"HH135*$F$136*HH9","v":0},{"$f":"HI135*$F$136*HI9","v":0},{"$f":"HJ135*$F$136*HJ9","v":0},{"$f":"HK135*$F$136*HK9","v":0},{"$f":"HL135*$F$136*HL9","v":0},{"$f":"HM135*$F$136*HM9","v":0},{"$f":"HN135*$F$136*HN9","v":0},{"$f":"HO135*$F$136*HO9","v":0},{"$f":"HP135*$F$136*HP9","v":0},{"$f":"HQ135*$F$136*HQ9","v":0},{"$f":"HR135*$F$136*HR9","v":0},{"$f":"HS135*$F$136*HS9","v":0},{"$f":"HT135*$F$136*HT9","v":0},{"$f":"HU135*$F$136*HU9","v":0},{"$f":"HV135*$F$136*HV9","v":0},{"$f":"HW135*$F$136*HW9","v":0},{"$f":"HX135*$F$136*HX9","v":0},{"$f":"HY135*$F$136*HY9","v":0},{"$f":"HZ135*$F$136*HZ9","v":0},{"$f":"IA135*$F$136*IA9","v":0},{"$f":"IB135*$F$136*IB9","v":0},{"$f":"IC135*$F$136*IC9","v":0},{"$f":"ID135*$F$136*ID9","v":0},{"$f":"IE135*$F$136*IE9","v":0},{"$f":"IF135*$F$136*IF9","v":0},{"$f":"IG135*$F$136*IG9","v":0},{"$f":"IH135*$F$136*IH9","v":0},{"$f":"II135*$F$136*II9","v":0},{"$f":"IJ135*$F$136*IJ9","v":0},{"$f":"IK135*$F$136*IK9","v":0},{"$f":"IL135*$F$136*IL9","v":0},{"$f":"IM135*$F$136*IM9","v":0},{"$f":"IN135*$F$136*IN9","v":0},{"$f":"IO135*$F$136*IO9","v":0},{"$f":"IP135*$F$136*IP9","v":0},{"$f":"IQ135*$F$136*IQ9","v":0},{"$f":"IR135*$F$136*IR9","v":0},{"$f":"IS135*$F$136*IS9","v":0},{"$f":"IT135*$F$136*IT9","v":0},{"$f":"IU135*$F$136*IU9","v":0},{"$f":"IV135*$F$136*IV9","v":0},{"$f":"IW135*$F$136*IW9","v":0},{"$f":"IX135*$F$136*IX9","v":0},{"$f":"IY135*$F$136*IY9","v":0},{"$f":"IZ135*$F$136*IZ9","v":0}]
[null,null,null,"Dividends","EUR",null,null,null,"EUR",null,{"$f":"K25","v":0},{"$f":"L25","v":100000},{"$f":"M25","v":100000},{"$f":"N25","v":100000},{"$f":"O25","v":100000},{"$f":"P25","v":100000},{"$f":"Q25","v":100000},{"$f":"R25","v":100000},{"$f":"S25","v":100000},{"$f":"T25","v":100000},{"$f":"U25","v":100000},{"$f":"V25","v":100000},{"$f":"W25","v":100000},{"$f":"X25","v":100000},{"$f":"Y25","v":100000},{"$f":"Z25","v":100000},{"$f":"AA25","v":100000},{"$f":"AB25","v":100000},{"$f":"AC25","v":100000},{"$f":"AD25","v":100000},{"$f":"AE25","v":100000},{"$f":"AF25","v":100000},{"$f":"AG25","v":100000},{"$f":"AH25","v":100000},{"$f":"AI25","v":100000},{"$f":"AJ25","v":100000},{"$f":"AK25","v":100000},{"$f":"AL25","v":100000},{"$f":"AM25","v":100000},{"$f":"AN25","v":100000},{"$f":"AO25","v":100000},{"$f":"AP25","v":0},{"$f":"AQ25","v":0},{"$f":"AR25","v":0},{"$f":"AS25","v":0},{"$f":"AT25","v":0},{"$f":"AU25","v":0},{"$f":"AV25","v":0},{"$f":"AW25","v":0},{"$f":"AX25","v":0},{"$f":"AY25","v":0},{"$f":"AZ25","v":0},{"$f":"BA25","v":0},{"$f":"BB25","v":0},{"$f":"BC25","v":0},{"$f":"BD25","v":0},{"$f":"BE25","v":0},{"$f":"BF25","v":0},{"$f":"BG25","v":0},{"$f":"BH25","v":0},{"$f":"BI25","v":0},{"$f":"BJ25","v":0},{"$f":"BK25","v":0},{"$f":"BL25","v":0},{"$f":"BM25","v":0},{"$f":"BN25","v":0},{"$f":"BO25","v":0},{"$f":"BP25","v":0},{"$f":"BQ25","v":0},{"$f":"BR25","v":0},{"$f":"BS25","v":0},{"$f":"BT25","v":0},{"$f":"BU25","v":0},{"$f":"BV25","v":0},{"$f":"BW25","v":0},{"$f":"BX25","v":0},{"$f":"BY25","v":0},{"$f":"BZ25","v":0},{"$f":"CA25","v":0},{"$f":"CB25","v":0},{"$f":"CC25","v":0},{"$f":"CD25","v":0},{"$f":"CE25","v":0},{"$f":"CF25","v":0},{"$f":"CG25","v":0},{"$f":"CH25","v":0},{"$f":"CI25","v":0},{"$f":"CJ25","v":0},{"$f":"CK25","v":0},{"$f":"CL25","v":0},{"$f":"CM25","v":0},{"$f":"CN25","v":0},{"$f":"CO25","v":0},{"$f":"CP25","v":0},{"$f":"CQ25","v":0},{"$f":"CR25","v":0},{"$f":"CS25","v":0},{"$f":"CT25","v":0},{"$f":"CU25","v":0},{"$f":"CV25","v":0},{"$f":"CW25","v":0},{"$f":"CX25","v":0},{"$f":"CY25","v":0},{"$f":"CZ25","v":0},{"$f":"DA25","v":0},{"$f":"DB25","v":0},{"$f":"DC25","v":0},{"$f":"DD25","v":0},{"$f":"DE25","v":0},{"$f":"DF25","v":0},{"$f":"DG25","v":0},{"$f":"DH25","v":0},{"$f":"DI25","v":0},{"$f":"DJ25","v":0},{"$f":"DK25","v":0},{"$f":"DL25","v":0},{"$f":"DM25","v":0},{"$f":"DN25","v":0},{"$f":"DO25","v":0},{"$f":"DP25","v":0},{"$f":"DQ25","v":0},{"$f":"DR25","v":0},{"$f":"DS25","v":0},{"$f":"DT25","v":0},{"$f":"DU25","v":0},{"$f":"DV25","v":0},{"$f":"DW25","v":0},{"$f":"DX25","v":0},{"$f":"DY25","v":0},{"$f":"DZ25","v":0},{"$f":"EA25","v":0},{"$f":"EB25","v":0},{"$f":"EC25","v":0},{"$f":"ED25","v":0},{"$f":"EE25","v":0},{"$f":"EF25","v":0},{"$f":"EG25","v":0},{"$f":"EH25","v":0},{"$f":"EI25","v":0},{"$f":"EJ25","v":0},{"$f":"EK25","v":0},{"$f":"EL25","v":0},{"$f":"EM25","v":0},{"$f":"EN25","v":0},{"$f":"EO25","v":0},{"$f":"EP25","v":0},{"$f":"EQ25","v":0},{"$f":"ER25","v":0},{"$f":"ES25","v":0},{"$f":"ET25","v":0},{"$f":"EU25","v":0},{"$f":"EV25","v":0},{"$f":"EW25","v":0},{"$f":"EX25","v":0},{"$f":"EY25","v":0},{"$f":"EZ25","v":0},{"$f":"FA25","v":0},{"$f":"FB25","v":0},{"$f":"FC25","v":0},{"$f":"FD25","v":0},{"$f":"FE25","v":0},{"$f":"FF25","v":0},{"$f":"FG25","v":0},{"$f":"FH25","v":0},{"$f":"FI25","v":0},{"$f":"FJ25","v":0},{"$f":"FK25","v":0},{"$f":"FL25","v":0},{"$f":"FM25","v":0},{"$f":"FN25","v":0},{"$f":"FO25","v":0},{"$f":"FP25","v":0},{"$f":"FQ25","v":0},{"$f":"FR25","v":0},{"$f":"FS25","v":0},{"$f":"FT25","v":0},{"$f":"FU25","v":0},{"$f":"FV25","v":0},{"$f":"FW25","v":0},{"$f":"FX25","v":0},{"$f":"FY25","v":0},{"$f":"FZ25","v":0},{"$f":"GA25","v":0},{"$f":"GB25","v":0},{"$f":"GC25","v":0},{"$f":"GD25","v":0},{"$f":"GE25","v":0},{"$f":"GF25","v":0},{"$f":"GG25","v":0},{"$f":"GH25","v":0},{"$f":"GI25","v":0},{"$f":"GJ25","v":0},{"$f":"GK25","v":0},{"$f":"GL25","v":0},{"$f":"GM25","v":0},{"$f":"GN25","v":0},{"$f":"GO25","v":0},{"$f":"GP25","v":0},{"$f":"GQ25","v":0},{"$f":"GR25","v":0},{"$f":"GS25","v":0},{"$f":"GT25","v":0},{"$f":"GU25","v":0},{"$f":"GV25","v":0},{"$f":"GW25","v":0},{"$f":"GX25","v":0},{"$f":"GY25","v":0},{"$f":"GZ25","v":0},{"$f":"HA25","v":0},{"$f":"HB25","v":0},{"$f":"HC25","v":0},{"$f":"HD25","v":0},{"$f":"HE25","v":0},{"$f":"HF25","v":0},{"$f":"HG25","v":0},{"$f":"HH25","v":0},{"$f":"HI25","v":0},{"$f":"HJ25","v":0},{"$f":"HK25","v":0},{"$f":"HL25","v":0},{"$f":"HM25","v":0},{"$f":"HN25","v":0},{"$f":"HO25","v":0},{"$f":"HP25","v":0},{"$f":"HQ25","v":0},{"$f":"HR25","v":0},{"$f":"HS25","v":0},{"$f":"HT25","v":0},{"$f":"HU25","v":0},{"$f":"HV25","v":0},{"$f":"HW25","v":0},{"$f":"HX25","v":0},{"$f":"HY25","v":0},{"$f":"HZ25","v":0},{"$f":"IA25","v":0},{"$f":"IB25","v":0},{"$f":"IC25","v":0},{"$f":"ID25","v":0},{"$f":"IE25","v":0},{"$f":"IF25","v":0},{"$f":"IG25","v":0},{"$f":"IH25","v":0},{"$f":"II25","v":0},{"$f":"IJ25","v":0},{"$f":"IK25","v":0},{"$f":"IL25","v":0},{"$f":"IM25","v":0},{"$f":"IN25","v":0},{"$f":"IO25","v":0},{"$f":"IP25","v":0},{"$f":"IQ25","v":0},{"$f":"IR25","v":0},{"$f":"IS25","v":0},{"$f":"IT25","v":0},{"$f":"IU25","v":0},{"$f":"IV25","v":0},{"$f":"IW25","v":0},{"$f":"IX25","v":0},{"$f":"IY25","v":0},{"$f":"IZ25","v":0}]
[null,null,null,"Closing Balance","EUR",null,null,null,"EUR",null,{"$f":"SUM(K135:K137)","v":0},100000,209307.33977175842,328788.28505154478,459389.72787102964,602146.6907205428,758190.52915030299,928757.89781561471,1115200.5510223547,1318996.0554425274,1541759.4998986544,1785256.2950175856,2051416.164191578,2342348.4367256616,2660358.7643701904,3007967.393717878,3387929.1392749073,3803255.2154936334,4257237.1007867493,4753472.622646329,5295894.4705935381,5888801.3629254457,6536892.114256857,7245302.8738440247,8019647.8298056647,8866063.7018241286,9791258.3749334421,10802564.059819249,11907995.400928486,13116312.992898267,14437092.808674604,14437092.808674604,14437092.808674604,14437092.808674604,14437092.808674604,14437092.808674604,14437092.808674604,14437092.808674604,14437092.808674604,14437092.808674604,14437092.808674604,14437092.808674604,14437092.808674604,14437092.808674604,14437092.808674604,14437092.808674604,14437092.808674604,14437092.808674604,14437092.808674604,14437092.808674604,14437092.808674604,14437092.808674604,14437092.808674604,14437092.808674604,14437092.808674604,14437092.808674604,14437092.808674604,14437092.808674604,14437092.808674604,14437092.808674604,14437092.808674604,14437092.808674604,14437092.808674604,14437092.808674604,{"$f":"SUM(BW135:BW137)","v":14437092.808674604},14437092.808674604,14437092.808674604,14437092.808674604,14437092.808674604,14437092.808674604,14437092.808674604,14437092.808674604,14437092.808674604,14437092.808674604,14437092.808674604,14437092.808674604,14437092.808674604,14437092.808674604,14437092.808674604,14437092.808674604,14437092.808674604,14437092.808674604,14437092.808674604,14437092.808674604,14437092.808674604,14437092.808674604,14437092.808674604,14437092.808674604,14437092.808674604,14437092.808674604,14437092.808674604,14437092.808674604,14437092.808674604,14437092.808674604,14437092.808674604,14437092.808674604,14437092.808674604,14437092.808674604,14437092.808674604,14437092.808674604,14437092.808674604,14437092.808674604,14437092.808674604,14437092.808674604,14437092.808674604,14437092.808674604,14437092.808674604,14437092.808674604,14437092.808674604,14437092.808674604,14437092.808674604,14437092.808674604,14437092.808674604,14437092.808674604,14437092.808674604,14437092.808674604,14437092.808674604,14437092.808674604,14437092.808674604,14437092.808674604,14437092.808674604,14437092.808674604,14437092.808674604,14437092.808674604,14437092.808674604,14437092.808674604,14437092.808674604,14437092.808674604,{"$f":"SUM(EI135:EI137)","v":14437092.808674604},14437092.808674604,14437092.808674604,14437092.808674604,14437092.808674604,14437092.808674604,14437092.808674604,14437092.808674604,14437092.808674604,14437092.808674604,14437092.808674604,14437092.808674604,14437092.808674604,14437092.808674604,14437092.808674604,14437092.808674604,14437092.808674604,14437092.808674604,14437092.808674604,14437092.808674604,14437092.808674604,14437092.808674604,14437092.808674604,14437092.808674604,14437092.808674604,14437092.808674604,14437092.808674604,14437092.808674604,14437092.808674604,14437092.808674604,14437092.808674604,14437092.808674604,14437092.808674604,14437092.808674604,14437092.808674604,14437092.808674604,14437092.808674604,14437092.808674604,14437092.808674604,14437092.808674604,14437092.808674604,14437092.808674604,14437092.808674604,14437092.808674604,14437092.808674604,14437092.808674604,14437092.808674604,14437092.808674604,14437092.808674604,14437092.808674604,14437092.808674604,14437092.808674604,14437092.808674604,14437092.808674604,14437092.808674604,14437092.808674604,14437092.808674604,14437092.808674604,14437092.808674604,14437092.808674604,14437092.808674604,14437092.808674604,14437092.808674604,14437092.808674604,{"$f":"SUM(GU135:GU137)","v":14437092.808674604},14437092.808674604,14437092.808674604,14437092.808674604,14437092.808674604,14437092.808674604,14437092.808674604,14437092.808674604,14437092.808674604,14437092.808674604,14437092.808674604,14437092.808674604,14437092.808674604,14437092.808674604,14437092.808674604,14437092.808674604,14437092.808674604,14437092.808674604,14437092.808674604,14437092.808674604,14437092.808674604,14437092.808674604,14437092.808674604,14437092.808674604,14437092.808674604,14437092.808674604,14437092.808674604,14437092.808674604,14437092.808674604,14437092.808674604,14437092.808674604,14437092.808674604,14437092.808674604,14437092.808674604,14437092.808674604,14437092.808674604,14437092.808674604,14437092.808674604,14437092.808674604,14437092.808674604,14437092.808674604,14437092.808674604,14437092.808674604,14437092.808674604,14437092.808674604,14437092.808674604,14437092.808674604,14437092.808674604,14437092.808674604,14437092.808674604,14437092.808674604,14437092.808674604,14437092.808674604,14437092.808674604,14437092.808674604,14437092.808674604,14437092.808674604,14437092.808674604]
[]
[null,null,null,"Cash accumulated in final period","EUR",{"$f":"H9+H5","v":31},{"$f":"LOOKUP(F140,3:3,138:138)","v":14437092.808674604}]
[null,null,null,"Investment","EUR",null,{"$f":"G132","v":1000000}]
[null,null,null,"Ratio of accumulated cash / initial cash","EUR",null,{"$f":"G140/G141","v":14.437092808674604}]
[null,null,null,"Number of periods","Period",null,{"$f":"H9","v":30}]
[null,null,null,"Compound Periodic Growth Rate (CAGR)","% p.p.",null,{"$f":"G142^(1/(G143))-1","v":9.3073397717584605E-2}]
[null,null,null,"Compound Annual Growth Rate (CAGR)","% p.a.",null,{"$f":"(1+G144)^(months/G6)-1","v":9.3073397717584605E-2}]
[]
[null,null,"MIRR",null,"% p.a.",null,{"$f":"MIRR(K27:IZ27,F136,F136)","v":9.3073397717584161E-2}]
[]
[null,null,"Risk Premium Method"]
[null,null,null,"Future Cash Flow with for Discounting","EUR",null,null,null,null,null,{"$f":"IF(K9,K25)","v":false},{"$f":"IF(L9,L25)","v":100000},{"$f":"IF(M9,M25)","v":100000},{"$f":"IF(N9,N25)","v":100000},{"$f":"IF(O9,O25)","v":100000},{"$f":"IF(P9,P25)","v":100000},{"$f":"IF(Q9,Q25)","v":100000},{"$f":"IF(R9,R25)","v":100000},{"$f":"IF(S9,S25)","v":100000},{"$f":"IF(T9,T25)","v":100000},{"$f":"IF(U9,U25)","v":100000},{"$f":"IF(V9,V25)","v":100000},{"$f":"IF(W9,W25)","v":100000},{"$f":"IF(X9,X25)","v":100000},{"$f":"IF(Y9,Y25)","v":100000},{"$f":"IF(Z9,Z25)","v":100000},{"$f":"IF(AA9,AA25)","v":100000},{"$f":"IF(AB9,AB25)","v":100000},{"$f":"IF(AC9,AC25)","v":100000},{"$f":"IF(AD9,AD25)","v":100000},{"$f":"IF(AE9,AE25)","v":100000},{"$f":"IF(AF9,AF25)","v":100000},{"$f":"IF(AG9,AG25)","v":100000},{"$f":"IF(AH9,AH25)","v":100000},{"$f":"IF(AI9,AI25)","v":100000},{"$f":"IF(AJ9,AJ25)","v":100000},{"$f":"IF(AK9,AK25)","v":100000},{"$f":"IF(AL9,AL25)","v":100000},{"$f":"IF(AM9,AM25)","v":100000},{"$f":"IF(AN9,AN25)","v":100000},{"$f":"IF(AO9,AO25)","v":100000},{"$f":"IF(AP9,AP25)","v":false},{"$f":"IF(AQ9,AQ25)","v":false},{"$f":"IF(AR9,AR25)","v":false},{"$f":"IF(AS9,AS25)","v":false},{"$f":"IF(AT9,AT25)","v":false},{"$f":"IF(AU9,AU25)","v":false},{"$f":"IF(AV9,AV25)","v":false},{"$f":"IF(AW9,AW25)","v":false},{"$f":"IF(AX9,AX25)","v":false},{"$f":"IF(AY9,AY25)","v":false},{"$f":"IF(AZ9,AZ25)","v":false},{"$f":"IF(BA9,BA25)","v":false},{"$f":"IF(BB9,BB25)","v":false},{"$f":"IF(BC9,BC25)","v":false},{"$f":"IF(BD9,BD25)","v":false},{"$f":"IF(BE9,BE25)","v":false},{"$f":"IF(BF9,BF25)","v":false},{"$f":"IF(BG9,BG25)","v":false},{"$f":"IF(BH9,BH25)","v":false},{"$f":"IF(BI9,BI25)","v":false},{"$f":"IF(BJ9,BJ25)","v":false},{"$f":"IF(BK9,BK25)","v":false},{"$f":"IF(BL9,BL25)","v":false},{"$f":"IF(BM9,BM25)","v":false},{"$f":"IF(BN9,BN25)","v":false},{"$f":"IF(BO9,BO25)","v":false},{"$f":"IF(BP9,BP25)","v":false},{"$f":"IF(BQ9,BQ25)","v":false},{"$f":"IF(BR9,BR25)","v":false},{"$f":"IF(BS9,BS25)","v":false},{"$f":"IF(BT9,BT25)","v":false},{"$f":"IF(BU9,BU25)","v":false},{"$f":"IF(BV9,BV25)","v":false},{"$f":"IF(BW9,BW25)","v":false},{"$f":"IF(BX9,BX25)","v":false},{"$f":"IF(BY9,BY25)","v":false},{"$f":"IF(BZ9,BZ25)","v":false},{"$f":"IF(CA9,CA25)","v":false},{"$f":"IF(CB9,CB25)","v":false},{"$f":"IF(CC9,CC25)","v":false},{"$f":"IF(CD9,CD25)","v":false},{"$f":"IF(CE9,CE25)","v":false},{"$f":"IF(CF9,CF25)","v":false},{"$f":"IF(CG9,CG25)","v":false},{"$f":"IF(CH9,CH25)","v":false},{"$f":"IF(CI9,CI25)","v":false},{"$f":"IF(CJ9,CJ25)","v":false},{"$f":"IF(CK9,CK25)","v":false},{"$f":"IF(CL9,CL25)","v":false},{"$f":"IF(CM9,CM25)","v":false},{"$f":"IF(CN9,CN25)","v":false},{"$f":"IF(CO9,CO25)","v":false},{"$f":"IF(CP9,CP25)","v":false},{"$f":"IF(CQ9,CQ25)","v":false},{"$f":"IF(CR9,CR25)","v":false},{"$f":"IF(CS9,CS25)","v":false},{"$f":"IF(CT9,CT25)","v":false},{"$f":"IF(CU9,CU25)","v":false},{"$f":"IF(CV9,CV25)","v":false},{"$f":"IF(CW9,CW25)","v":false},{"$f":"IF(CX9,CX25)","v":false},{"$f":"IF(CY9,CY25)","v":false},{"$f":"IF(CZ9,CZ25)","v":false},{"$f":"IF(DA9,DA25)","v":false},{"$f":"IF(DB9,DB25)","v":false},{"$f":"IF(DC9,DC25)","v":false},{"$f":"IF(DD9,DD25)","v":false},{"$f":"IF(DE9,DE25)","v":false},{"$f":"IF(DF9,DF25)","v":false},{"$f":"IF(DG9,DG25)","v":false},{"$f":"IF(DH9,DH25)","v":false},{"$f":"IF(DI9,DI25)","v":false},{"$f":"IF(DJ9,DJ25)","v":false},{"$f":"IF(DK9,DK25)","v":false},{"$f":"IF(DL9,DL25)","v":false},{"$f":"IF(DM9,DM25)","v":false},{"$f":"IF(DN9,DN25)","v":false},{"$f":"IF(DO9,DO25)","v":false},{"$f":"IF(DP9,DP25)","v":false},{"$f":"IF(DQ9,DQ25)","v":false},{"$f":"IF(DR9,DR25)","v":false},{"$f":"IF(DS9,DS25)","v":false},{"$f":"IF(DT9,DT25)","v":false},{"$f":"IF(DU9,DU25)","v":false},{"$f":"IF(DV9,DV25)","v":false},{"$f":"IF(DW9,DW25)","v":false},{"$f":"IF(DX9,DX25)","v":false},{"$f":"IF(DY9,DY25)","v":false},{"$f":"IF(DZ9,DZ25)","v":false},{"$f":"IF(EA9,EA25)","v":false},{"$f":"IF(EB9,EB25)","v":false},{"$f":"IF(EC9,EC25)","v":false},{"$f":"IF(ED9,ED25)","v":false},{"$f":"IF(EE9,EE25)","v":false},{"$f":"IF(EF9,EF25)","v":false},{"$f":"IF(EG9,EG25)","v":false},{"$f":"IF(EH9,EH25)","v":false},{"$f":"IF(EI9,EI25)","v":false},{"$f":"IF(EJ9,EJ25)","v":false},{"$f":"IF(EK9,EK25)","v":false},{"$f":"IF(EL9,EL25)","v":false},{"$f":"IF(EM9,EM25)","v":false},{"$f":"IF(EN9,EN25)","v":false},{"$f":"IF(EO9,EO25)","v":false},{"$f":"IF(EP9,EP25)","v":false},{"$f":"IF(EQ9,EQ25)","v":false},{"$f":"IF(ER9,ER25)","v":false},{"$f":"IF(ES9,ES25)","v":false},{"$f":"IF(ET9,ET25)","v":false},{"$f":"IF(EU9,EU25)","v":false},{"$f":"IF(EV9,EV25)","v":false},{"$f":"IF(EW9,EW25)","v":false},{"$f":"IF(EX9,EX25)","v":false},{"$f":"IF(EY9,EY25)","v":false},{"$f":"IF(EZ9,EZ25)","v":false},{"$f":"IF(FA9,FA25)","v":false},{"$f":"IF(FB9,FB25)","v":false},{"$f":"IF(FC9,FC25)","v":false},{"$f":"IF(FD9,FD25)","v":false},{"$f":"IF(FE9,FE25)","v":false},{"$f":"IF(FF9,FF25)","v":false},{"$f":"IF(FG9,FG25)","v":false},{"$f":"IF(FH9,FH25)","v":false},{"$f":"IF(FI9,FI25)","v":false},{"$f":"IF(FJ9,FJ25)","v":false},{"$f":"IF(FK9,FK25)","v":false},{"$f":"IF(FL9,FL25)","v":false},{"$f":"IF(FM9,FM25)","v":false},{"$f":"IF(FN9,FN25)","v":false},{"$f":"IF(FO9,FO25)","v":false},{"$f":"IF(FP9,FP25)","v":false},{"$f":"IF(FQ9,FQ25)","v":false},{"$f":"IF(FR9,FR25)","v":false},{"$f":"IF(FS9,FS25)","v":false},{"$f":"IF(FT9,FT25)","v":false},{"$f":"IF(FU9,FU25)","v":false},{"$f":"IF(FV9,FV25)","v":false},{"$f":"IF(FW9,FW25)","v":false},{"$f":"IF(FX9,FX25)","v":false},{"$f":"IF(FY9,FY25)","v":false},{"$f":"IF(FZ9,FZ25)","v":false},{"$f":"IF(GA9,GA25)","v":false},{"$f":"IF(GB9,GB25)","v":false},{"$f":"IF(GC9,GC25)","v":false},{"$f":"IF(GD9,GD25)","v":false},{"$f":"IF(GE9,GE25)","v":false},{"$f":"IF(GF9,GF25)","v":false},{"$f":"IF(GG9,GG25)","v":false},{"$f":"IF(GH9,GH25)","v":false},{"$f":"IF(GI9,GI25)","v":false},{"$f":"IF(GJ9,GJ25)","v":false},{"$f":"IF(GK9,GK25)","v":false},{"$f":"IF(GL9,GL25)","v":false},{"$f":"IF(GM9,GM25)","v":false},{"$f":"IF(GN9,GN25)","v":false},{"$f":"IF(GO9,GO25)","v":false},{"$f":"IF(GP9,GP25)","v":false},{"$f":"IF(GQ9,GQ25)","v":false},{"$f":"IF(GR9,GR25)","v":false},{"$f":"IF(GS9,GS25)","v":false},{"$f":"IF(GT9,GT25)","v":false},{"$f":"IF(GU9,GU25)","v":false},{"$f":"IF(GV9,GV25)","v":false},{"$f":"IF(GW9,GW25)","v":false},{"$f":"IF(GX9,GX25)","v":false},{"$f":"IF(GY9,GY25)","v":false},{"$f":"IF(GZ9,GZ25)","v":false},{"$f":"IF(HA9,HA25)","v":false},{"$f":"IF(HB9,HB25)","v":false},{"$f":"IF(HC9,HC25)","v":false},{"$f":"IF(HD9,HD25)","v":false},{"$f":"IF(HE9,HE25)","v":false},{"$f":"IF(HF9,HF25)","v":false},{"$f":"IF(HG9,HG25)","v":false},{"$f":"IF(HH9,HH25)","v":false},{"$f":"IF(HI9,HI25)","v":false},{"$f":"IF(HJ9,HJ25)","v":false},{"$f":"IF(HK9,HK25)","v":false},{"$f":"IF(HL9,HL25)","v":false},{"$f":"IF(HM9,HM25)","v":false},{"$f":"IF(HN9,HN25)","v":false},{"$f":"IF(HO9,HO25)","v":false},{"$f":"IF(HP9,HP25)","v":false},{"$f":"IF(HQ9,HQ25)","v":false},{"$f":"IF(HR9,HR25)","v":false},{"$f":"IF(HS9,HS25)","v":false},{"$f":"IF(HT9,HT25)","v":false},{"$f":"IF(HU9,HU25)","v":false},{"$f":"IF(HV9,HV25)","v":false},{"$f":"IF(HW9,HW25)","v":false},{"$f":"IF(HX9,HX25)","v":false},{"$f":"IF(HY9,HY25)","v":false},{"$f":"IF(HZ9,HZ25)","v":false},{"$f":"IF(IA9,IA25)","v":false},{"$f":"IF(IB9,IB25)","v":false},{"$f":"IF(IC9,IC25)","v":false},{"$f":"IF(ID9,ID25)","v":false},{"$f":"IF(IE9,IE25)","v":false},{"$f":"IF(IF9,IF25)","v":false},{"$f":"IF(IG9,IG25)","v":false},{"$f":"IF(IH9,IH25)","v":false},{"$f":"IF(II9,II25)","v":false},{"$f":"IF(IJ9,IJ25)","v":false},{"$f":"IF(IK9,IK25)","v":false},{"$f":"IF(IL9,IL25)","v":false},{"$f":"IF(IM9,IM25)","v":false},{"$f":"IF(IN9,IN25)","v":false},{"$f":"IF(IO9,IO25)","v":false},{"$f":"IF(IP9,IP25)","v":false},{"$f":"IF(IQ9,IQ25)","v":false},{"$f":"IF(IR9,IR25)","v":false},{"$f":"IF(IS9,IS25)","v":false},{"$f":"IF(IT9,IT25)","v":false},{"$f":"IF(IU9,IU25)","v":false},{"$f":"IF(IV9,IV25)","v":false},{"$f":"IF(IW9,IW25)","v":false},{"$f":"IF(IX9,IX25)","v":false},{"$f":"IF(IY9,IY25)","v":false},{"$f":"IF(IZ9,IZ25)","v":false}]
[null,null,null,"Rf Discount Rate","%",{"$f":"InputC!F27","v":3.5000000000000003E-2},{"$f":"(1+F151)^(G6/months)-1","v":3.499999999999992E-2}]
[null,null,null,"NPV of cashflow at the risk free rate","EUR",{"$f":"G151","v":3.499999999999992E-2},{"$f":"K27:IZ27=NPV(F152,G10)","v":false},false,false,false,false,false,false,false,false,false,false,false,false,false,false,false,false,false,false,false,false,false,false,false,false,false,false,false,false,false,false,true,true,true,true,true,true,true,true,true,true,true,true,true,true,true,true,true,true,true,true,true,true,true,true,true,true,true,true,true,true,true,true,true,true,true,true,true,true,true,true,true,true,true,true,true,true,true,true,true,true,true,true,true,true,true,true,true,true,true,true,true,true,true,true,true,true,true,true,true,true,true,true,true,true,true,true,true,true,true,true,true,true,true,true,true,true,true,true,true,true,true,true,true,true,true,true,true,true,true,true,true,true,true,true,true,true,true,true,true,true,true,true,true,true,true,true,true,true,true,true,true,true,true,true,true,true,true,true,true,true,true,true,true,true,true,true,true,true,true,true,true,true,true,true,true,true,true,true,true,true,true,true,true,true,true,true,true,true,true,true,true,true,true,true,true,true,true,true,true,true,true,true,true,true,true,true,true,true,true,true,true,true,true,true,true,true,true,true,true,true,true,true,true,true,true,true,true,true,true,true,true,true,true,true,true,true,true,true,true,true,true,true,true,true,true,true,true,true,true]
[null,null,null,"Initial Investment","EUR",null,{"$f":"NPV(F152,K25:IZ25)","v":1777009.2184891633}]
[null,null,null,"Premium earned above riskfree rate","Ratio",null,{"$f":"G153/G132-1","v":0.77700921848916327}]
[null,null,null,"Periods for Annualisation","Periods",null,{"$f":"H9","v":30}]
[null,null,null,"Annualised premium earned","% p.p.",null,{"$f":"PMT(F152,F140,-G154)","v":4.1470846632045207E-2}]
[null,null,null,"Total Return - Rp + Rf","% p.p.",null,{"$f":"G156+F152","v":7.647084663204512E-2}]
[null,null,null,"Annual Return","% p.a.",null,{"$f":"(1+G157)^(months/G6)-1","v":7.6470846632045175E-2}]

{"sheet":"Sensitivity","index":4,"n_rows":57,"n_cols":19,"rows_kept":57,"cut":false,"hidden":false,"merged":[]}
[]
[]
[null,"Data Tables"]
[null,null,null,null,null,"Growth",{"$f":"I4/1000","v":0.02},null,20]
[null,null,null,null,null,null,null,null,null,null,null,null,null,null,"IRR Table - Life Sensitivity"]
[]
[null,null,null,null,null,"IRR Table",null,null,null,null,null,null,null,null,null,"EBITDA Sensitivity"]
[null,null,null,null,null,null,{"$f":"'Financial Model'!F29","v":9.300350844860078E-2},50000,70000,100000,125000,150000,null,null,50000,70000,100000,125000,150000]
[null,null,null,null,null,null,15,null,null,null,null,null,null,15,-2.4300788342952725E-2,1.6211369633674623E-2,6.6070535778999337E-2,0.10211679339408875,0.13516836762428286]
[null,null,null,null,null,"Life",30,null,null,null,null,null,"Life",30,3.8702812790870678E-2,6.7082533240318307E-2,0.10392565131187442,0.13203814625740051,0.15893865227699286]
[null,null,null,null,null,null,50,null,null,null,null,null,null,50,5.4669931530952454E-2,7.7919921278953544E-2,0.11002133488655089,0.13579064011573794,0.16123334765434266]
[null,null,null,null,null,null,100,null,null,null,null,null,null,100,6.0058072209358215E-2,8.0558833479881312E-2,0.11090922951698301,0.13614458441734315,0.16137380003929142]
[]
[null,null,null,null,null,null,null,null,null,null,null,null,null,null,"Risk Premium Table - Life Sensitivity"]
[]
[null,null,null,null,null,null,null,null,null,null,null,null,null,null,null,"EBITDA Sensitivity"]
[null,null,null,null,null,"Rf + Rp Table",{"$f":"'Financial Model'!G158","v":7.6470846632045175E-2},50000,70000,100000,125000,150000,null,null,50000,70000,100000,125000,150000]
[null,null,null,null,null,null,15,null,null,null,null,null,null,15,1.8619661892183004E-3,2.1680684920172277E-2,5.1408763016603354E-2,7.6182161430295769E-2,0.10095555984398819]
[null,null,null,null,null,null,30,null,null,null,null,null,"Life",30,3.5772320388224754E-2,5.7430208450416353E-2,8.991704054370353E-2,0.11698940062144292,0.14406176069918231]
[null,null,null,null,null,"Life",50,null,null,null,null,null,null,50,5.0953663873777977E-2,7.4263755074466919E-2,0.10922889187550022,0.13836650587636123,0.16750411987722247]
[null,null,null,null,null,null,100,null,null,null,null,null,null,100,6.3261049807442626E-2,8.9012995607005818E-2,0.12764091430635105,0.15983084655580493,0.19202077880525925]
[]
[null,null,null,null,null,null,null,null,null,null,null,null,null,null,"Total EBITDA - Life Sensitvity"]
[]
[null,null,null,null,null,null,null,null,null,null,null,null,null,null,50000,70000,100000,125000,150000]
[null,null,null,null,null,null,null,null,null,null,null,null,null,15,881964.26272653043,1234749.9678171428,1763928.5254530609,2204910.6568163261,2204910.6568163261]
[null,null,null,null,null,null,null,null,null,null,null,null,"Life",30,2068972.0394635524,2896560.8552489732,4137944.0789271048,5172430.0986588802,5172430.0986588802]
[null,null,null,null,null,null,null,null,null,null,null,null,null,50,4313549.4741376955,6038969.2637927718,8627098.948275391,10783873.685344238,10783873.685344238]
[null,null,null,null,null,null,null,null,null,null,null,null,null,100,15923847.601543469,22293386.642160866,31847695.203086939,39809619.003858671,39809619.003858671]
[]
[]
[null,null,null,null,null,null,null,null,null,null,null,null,null,null,"IRR - Construction Period Sensitivity"]
[]
[null,null,null,null,null,null,null,null,null,null,null,null,null,null,null,"Life of Project"]
[null,null,null,null,null,null,null,null,null,null,null,null,null,null,15,30,50,75,100]
[null,null,null,null,null,null,null,null,null,null,null,null,null,12,6.6070535778999337E-2,0.10392565131187442,0.11002133488655089,0.1108367383480072,0.11090922951698301]
[null,null,null,null,null,null,null,null,null,null,null,null,"Constr Months",24,6.1491462588310244E-2,9.843768477439882E-2,0.10480744242668152,0.10573461651802066,0.10582649111747741]
[null,null,null,null,null,null,null,null,null,null,null,null,null,36,5.7522478699684146E-2,9.3571284413337702E-2,0.10017780661582948,0.1012141406536102,0.10132716298103334]
[null,null,null,null,null,null,null,null,null,null,null,null,null,48,5.4037150740623471E-2,8.9207068085670499E-2,9.6018430590629603E-2,9.7161000967025762E-2,9.7296756505966198E-2]
[]
[]
[null,null,null,null,null,null,null,null,null,null,null,null,null,null,"Risk Preium + Rf - Construction Sensitivity"]
[null,null,null,null,null,null,null,null,null,null,null,null,null,null,null,"Life of Project"]
[null,null,null,null,null,null,null,null,null,null,null,null,null,null,15,30,50,75,100]
[null,null,null,null,null,null,null,null,null,null,null,null,null,12,5.1408763016603354E-2,8.991704054370353E-2,0.10922889187550022,0.12108876438411342,0.12764091430635105]
[null,null,null,null,null,null,null,null,null,null,null,null,"Constr Months",24,4.4750434344639212E-2,8.0534994612604827E-2,9.9221779730870319E-2,0.11068515001472012,0.11694159154105521]
[null,null,null,null,null,null,null,null,null,null,null,null,null,36,3.9303886639241892E-2,7.2506075733571151E-2,9.0493931667732674E-2,0.1015456870882363,0.10752093395997897]
[null,null,null,null,null,null,null,null,null,null,null,null,null,48,3.4788496612099484E-2,6.5575938507926201E-2,8.2823636121662991E-2,9.3455776785552391E-2,9.916270859255949E-2]
[]
[null,null,null,null,"Scenario Input",null,1]
[null,null,null,null,null,null,null,{"$f":"LOOKUP(H52,InputC!4:4,InputC!5:5)","v":"Base Case - Annual"},{"$f":"LOOKUP(I52,InputC!4:4,InputC!5:5)","v":"Longer-Construction"},{"$f":"LOOKUP(J52,InputC!4:4,InputC!5:5)","v":"Shorter-Life"},{"$f":"LOOKUP(K52,InputC!4:4,InputC!5:5)","v":"Higher Capital Expenditure"},{"$f":"LOOKUP(L52,InputC!4:4,InputC!5:5)","v":"Lower Base EBITDA"},{"$f":"LOOKUP(M52,InputC!4:4,InputC!5:5)","v":"Lower Growth Rate"}]
[null,null,null,null,null,null,null,1,3,4,5,6,7]
[null,null,null,null,null,"Project IRR"]
[null,null,null,null,null,"EBITDA"]
[null,null,null,null,null,"DSCR"]
[null,null,null,null,null,"LLCR"]
[null,null,null,null,null,"PLCR"]

{"sheet":"Time Series","index":5,"n_rows":23,"n_cols":37,"rows_kept":23,"cut":false,"hidden":false,"merged":[]}
[]
[null,"Time Period"]
[null,null,"Period",null,null,null,0,1,2,3,4,5,6,7,8,9,10,11,12,13,14,15,16,17,18,19,20,21,22,23,24,25,26,27,28,29,30]
[null,null,"Volatility",null,{"$f":"InputC!F23","v":0},{"$f":"E5","v":0.1},"EBITDA"]
[null,null,"Mean Reversion",null,{"$f":"InputC!F24","v":0.1}]
[]
[]
[null,null,null,null,null,null,null,null,null,null,null,null,null,null,null,"Default Count"]
[null,null,null,null,null,null,null,null,null,null,null,null,null,null,null,"Total Loss"]
[null,null,null,null,null,null,null,null,null,null,null,null,null,null,null,"Average Loss"]
[null,null,null,null,null,null,null,null,null,null,null,null,null,null,null,"Loss Percent"]
[]
[]
[]
[]
[]
[null,"Simulatons",null,null,200]
[]
[]
[null,"Simulation"]
[null,null,null,null,null,"DSCR","LLCR","PLCR","Project IRR","Default"]
[null,null,null,"Current"]
[null,null,null,"Average"]

{"sheet":"Simple Rp","index":6,"n_rows":32,"n_cols":8,"rows_kept":32,"cut":false,"hidden":false,"merged":[]}
[]
[null,"Examples"]
[]
[]
[null,null,null,null,null,{"$f":"_xlfn.SEQUENCE(,2,0)","v":0},1]
[null,null,null,null,"Cap Exp",1000]
[null,null,null,null,"EBITDA",0,1100]
[null,null,null,null,"FCF",{"$f":"F7-F6","v":-1000},{"$f":"G7-G6","v":1100}]
[null,null,null,null,"IRR",{"$f":"IRR(F8:G8)","v":0.10000000000000009}]
[null,null,null,null,"RF",0.05]
[null,null,null,null,"RP",{"$f":"(1+F9)/(1+F10)-1","v":4.7619047619047672E-2}]
[]
[]
[null,null,null,null,"Gross NPV at Rf",{"$f":"NPV(F10,G7)","v":1047.6190476190475}]
[null,null,null,null,"NPV at Rf",{"$f":"NPV(F10,F8:G8)","v":45.351473922902358}]
[null,null,null,null,"Outlay",{"$f":"F6","v":1000}]
[null,null,null,null,"Rp",{"$f":"F14/F16-1","v":4.761904761904745E-2}]
[]
[]
[null,null,null,null,null,{"$f":"_xlfn.SEQUENCE(,3,0)","v":0},1,2]
[null,null,null,null,"Cap Exp",1000]
[null,null,null,null,"EBITDA",0,576.19047619047626,{"$f":"G22","v":576.19047619047626}]
[null,null,null,null,"FCF",{"$f":"F22-F21","v":-1000},{"$f":"G22-G21","v":576.19047619047626},576.19047619047626]
[]
[null,null,null,null,"NPV at Target",{"$f":"NPV(F9,F23:H23)","v":0}]
[null,null,null,null,"IRR",{"$f":"IRR(F23:H23)","v":0.10000000000000009}]
[]
[null,null,null,null,"Gross at Rf",{"$f":"NPV(F10,F22:H22)","v":1020.3567443606316}]
[null,null,null,null,"NPV at Rf",{"$f":"NPV(F10,F23:H23)","v":67.975791979679343}]
[null,null,null,null,"Outlay",{"$f":"F21","v":1000}]
[null,null,null,null,"Total Rp",{"$f":"F29/F30","v":6.7975791979679345E-2}]
[null,null,null,null,"Level Rp",{"$f":"PMT(F10,H20,-F31)","v":3.6557712515900717E-2}]

{"sheet":"Volatility","index":7,"n_rows":637,"n_cols":67,"rows_kept":637,"cut":false,"hidden":false,"merged":[]}
[]
[null,null,null,null,null,null,null,null,null,null,"Monthly","Monthly",null,null,null,"Annual","Annual",null,null,null,"5-yr","5-yr",null,null,null,null,null,null,null,null,null,null,"Monthly","Monthly",null,null,null,"Annual","Annual",null,null,null,"5-yr","5-yr",null,null,null,null,null,null,null,null,null,null,"Monthly","Monthly",null,null,null,null,"Annual","Annual",null,null,null,"5-Year","5-Year"]
[null,null,null,null,null,null,null,null,null,null,{"$f":"_xlfn.STDEV.S(K9:K637)","v":0.12384048259580208},{"$f":"_xlfn.STDEV.S(L9:L637)","v":0.10016574282624846},null,null,null,{"$f":"_xlfn.STDEV.S(P10:P60)","v":0.30471388820911366},{"$f":"_xlfn.STDEV.S(Q10:Q60)","v":0.2762739759982874},null,null,null,{"$f":"_xlfn.STDEV.S(U10:U60)","v":0.52578898650245032},{"$f":"_xlfn.STDEV.S(V10:V60)","v":0.50196754148506428},null,null,null,null,null,null,null,null,null,null,{"$f":"_xlfn.STDEV.S(AG9:AG637)","v":0.1205384154671419},{"$f":"_xlfn.STDEV.S(AH9:AH637)","v":0.12306165111577611},null,null,null,{"$f":"_xlfn.STDEV.S(AL9:AL637)","v":0.46548738826958985},{"$f":"_xlfn.STDEV.S(AM9:AM637)","v":0.36272569371943281},null,null,null,{"$f":"_xlfn.STDEV.S(AQ9:AQ16)","v":2.333338398917761},{"$f":"_xlfn.STDEV.S(AR9:AR16)","v":0.74466749783824637},null,null,null,null,null,null,null,null,null,null,{"$f":"_xlfn.STDEV.S(BC9:BC637)","v":0.19979022174333694},{"$f":"_xlfn.STDEV.S(BD9:BD637)","v":0.19259990298079022},null,null,null,null,{"$f":"_xlfn.STDEV.S(BI9:BI48)","v":0.82028540485021173},{"$f":"_xlfn.STDEV.S(BJ9:BJ48)","v":0.56192960726811447},null,null,null,{"$f":"_xlfn.STDEV.S(BN9:BN13)","v":2.5429714642199661},{"$f":"_xlfn.STDEV.S(BO9:BO13)","v":1.1523591572494469}]
[null,null,null,null,null,null,null,null,null,null,12,12,null,null,null,1,1,null,null,null,{"$f":"1/5","v":0.2},{"$f":"1/5","v":0.2},null,null,null,null,null,null,null,null,null,null,12,12,null,null,null,1,1,null,null,null,{"$f":"1/5","v":0.2},{"$f":"1/5","v":0.2},null,null,null,null,null,null,null,null,null,null,12,12,null,null,null,null,1,1,null,null,null,0.2,0.2]
[null,null,null,null,null,null,null,null,null,null,{"$f":"K3*(K4^0.5)","v":0.42899601577955693},{"$f":"L3*(L4^0.5)","v":0.34698431150588022},null,null,null,{"$f":"P3*(P4^0.5)","v":0.30471388820911366},{"$f":"Q3*(Q4^0.5)","v":0.2762739759982874},null,null,null,{"$f":"U3*(U4^0.5)","v":0.23513998312803966},{"$f":"V3*(V4^0.5)","v":0.2244867090518099},null,null,null,null,null,null,null,null,null,null,{"$f":"AG3*(AG4^0.5)","v":0.41755731970587195},{"$f":"AH3*(AH4^0.5)","v":0.42629806439167883},null,null,null,{"$f":"AL3*(AL4^0.5)","v":0.46548738826958985},{"$f":"AM3*(AM4^0.5)","v":0.36272569371943281},null,null,null,{"$f":"AQ3*(AQ4^0.5)","v":1.0435006548981269},{"$f":"AR3*(AR4^0.5)","v":0.33302542916019928},null,null,null,null,null,null,null,null,null,null,{"$f":"BC3*(BC4^0.5)","v":0.69209362982982359},{"$f":"BD3*(BD4^0.5)","v":0.66718563499113015},null,null,null,null,{"$f":"BI3*(BI4^0.5)","v":0.82028540485021173},{"$f":"BJ3*(BJ4^0.5)","v":0.56192960726811447},null,null,null,{"$f":"BN3*(BN4^0.5)","v":1.1372514117676036},{"$f":"BO3*(BO4^0.5)","v":0.51535068202082657}]
[]
[null,null,null,"Year","5-Year","Month 1","Flag","Counter","Nominal","Real","Change","LN Change",null,"Year","Average","Change","LN Change",null,"5-yr","Average","Change","LN Change",null,null,null,"Date","AAPL","Year","5-Year","Month 1","Flag","Counter","Change","LN Change",null,"Year","Average","Change","LN Change",null,null,"Average","Change","LN Change",null,null,null,"Date","BB","Year","5-Year","Month 1","Flag",null,"Change","LN Change",null,null,"Year","Average","Change","LN Change",null,null,"Average","Change","LN Change"]
[null,null,"1973-01-01",{"$f":"YEAR(C8)","v":1973},{"$f":"MOD(D8,5)=0","v":false},{"$f":"MONTH(C8)=1","v":true},{"$f":"AND(F8,E8)","v":false},1,2.08,15.75221457372311,null,null,null,null,null,null,null,null,null,null,null,null,null,null,null,"1985-01-01",9.9341191351413727E-2,{"$f":"YEAR(Z8)","v":1985},{"$f":"MOD(AB8,5)=0","v":true},{"$f":"MONTH(Z8)=1","v":true},{"$f":"AND(AD8,AC8)","v":true},1,null,null,null,1985,{"$f":"AVERAGEIF(AB:AB,AJ8,AA:AA)","v":6.8475597848494843E-2},null,null,null,1,{"$f":"AVERAGEIF(AF:AF,AO8,AA:AA)","v":0.20574217004080614},null,null,null,null,null,"1999-02-01",1.479166984558105,{"$f":"YEAR(AV8)","v":1999},{"$f":"MOD(AX8,5)=0","v":false},{"$f":"MONTH(AV8)=1","v":false},{"$f":"AND(AZ8,AY8)","v":false},{"$f":"BA8+BB7","v":0},null,null,null,null,1999,{"$f":"AVERAGEIF(AX:AX,BG8,AW:AW)","v":4.2140151804143731},null,null,null,1,{"$f":"AVERAGEIF(BB:BB,BL8,AW:AW)","v":9.2176945368448902}]
[null,null,"1973-02-01",1973,false,false,false,{"$f":"H8+G9","v":1},2.08,15.702399254237465,{"$f":"J9/J8-1","v":-3.1624327647710171E-3},{"$f":"LN(J9/J8)","v":-3.1674438228118554E-3},null,1974,{"$f":"AVERAGEIF(D:D,N9,J:J)","v":73.100200565126556},null,null,null,1,{"$f":"AVERAGEIF(H:H,S9,J:J)","v":50.145676898187254},null,null,null,null,null,"1985-02-01",8.4782689809799194E-2,{"$f":"YEAR(Z9)","v":1985},{"$f":"MOD(AB9,5)=0","v":true},{"$f":"MONTH(Z9)=1","v":false},{"$f":"AND(AD9,AC9)","v":false},{"$f":"AF8+AE9","v":1},{"$f":"AA9/AA8-1","v":-0.14655050280315918},{"$f":"LN(AA9/AA8)","v":-0.15846890991387408},null,1986,{"$f":"AVERAGEIF(AB:AB,AJ9,AA:AA)","v":0.11315084435045719},{"$f":"AK9/AK8-1","v":0.65242579700885894},{"$f":"LN(AK9/AK8)","v":0.50224438826129769},null,2,{"$f":"AVERAGEIF(AF:AF,AO9,AA:AA)","v":0.31660672873258588},{"$f":"AP9/AP8-1","v":0.53885189735187144},{"$f":"LN(AP9/AP8)","v":0.43103661718632647},null,null,null,"1999-03-01",1.75,{"$f":"YEAR(AV9)","v":1999},{"$f":"MOD(AX9,5)=0","v":false},{"$f":"MONTH(AV9)=1","v":false},{"$f":"AND(AZ9,AY9)","v":false},{"$f":"BA9+BB8","v":0},{"$f":"AW9/AW8-1","v":0.18309833728664859},{"$f":"LN(AW9/AW8)","v":0.1681367068894995},null,null,2000,{"$f":"AVERAGEIF(AX:AX,BG9,AW:AW)","v":12.510416666666664},{"$f":"BH9/BH8-1","v":1.968764024584384},{"$f":"LN(BH9/BH8)","v":1.0881457128601852},null,2,{"$f":"AVERAGEIF(BB:BB,BL9,AW:AW)","v":57.275111134847002},{"$f":"BM9/BM8-1","v":5.2136048125599537},{"$f":"LN(BM9/BM8)","v":1.8267412126433999}]
[null,null,"1973-03-01",1973,false,false,false,1,2.35,17.674477344131432,{"$f":"J10/J9-1","v":0.12559087678029712},{"$f":"LN(J10/J9)","v":0.11830812157934656},null,1975,64.420270727642858,{"$f":"O10/O9-1","v":-0.11874016446439928},{"$f":"LN(O10/O9)","v":-0.12640276402647913},null,2,{"$f":"AVERAGEIF(H:H,S10,J:J)","v":84.487579725687482},{"$f":"T10/T9-1","v":0.68484274122425237},{"$f":"LN(T10/T9)","v":0.52167223079864022},null,null,null,"1985-03-01",7.5790375471115112E-2,1985,true,false,false,{"$f":"AF9+AE10","v":1},{"$f":"AA10/AA9-1","v":-0.10606309329012054},{"$f":"LN(AA10/AA9)","v":-0.11212008044911838},null,1987,0.2744893568257491,{"$f":"AK10/AK9-1","v":1.4258710432207216},{"$f":"LN(AK10/AK9)","v":0.88619065297576527},null,3,0.25577482345203556,{"$f":"AP10/AP9-1","v":-0.19213712078725431},{"$f":"LN(AP10/AP9)","v":-0.2133629388070071},null,null,null,"1999-04-01",2.03125,1999,false,false,false,0,{"$f":"AW10/AW9-1","v":0.16071428571428581},{"$f":"LN(AW10/AW9)","v":0.14903557916048796},null,null,2001,{"$f":"AVERAGEIF(AX:AX,BG10,AW:AW)","v":4.770833432674408},{"$f":"BH10/BH9-1","v":-0.61865111612261181},{"$f":"LN(BH10/BH9)","v":-0.96404061714321521},null,3,25.368499922752381,{"$f":"BM10/BM9-1","v":-0.55707637366210505},{"$f":"LN(BM10/BM9)","v":-0.81435792484289604}]
[null,null,"1973-04-01",1973,false,false,false,1,2.35,17.601920182605376,-4.1051941799087333E-3,-4.1136436218642833E-3,null,1976,66.97043086768754,{"$f":"O11/O10-1","v":3.9586299642022427E-2},{"$f":"LN(O11/O10)","v":3.8822845208578885E-2},null,3,116.78269495809435,{"$f":"T11/T10-1","v":0.38224689755893082},{"$f":"LN(T11/T10)","v":0.32371036174717255},null,null,null,"1985-04-01",7.279321551322937E-2,1985,true,false,false,1,-3.9545390021560323E-2,-4.0348554549771952E-2,null,1988,0.28634638835986453,4.3196689559233059E-2,4.2289738833254188E-2,null,4,0.41668486222624779,0.62910819994911282,{"$f":"LN(AP11/AP10)","v":0.48803274850013695},null,null,null,"1999-05-01",2.34375,1999,false,false,false,0,0.15384615384615374,0.14310084364067324,null,null,2002,2.6823611855506897,-0.43775836582770278,-0.57582356744896679,null,4,8.6756667057673145,-0.65801420138420075,{"$f":"LN(BM11/BM10)","v":-1.0729860672969054}]
[null,null,"1973-05-01",1973,false,false,false,1,2.35,17.52316088006922,-4.4744722007084015E-3,-4.4845126130040585E-3,null,1977,67.907432756283853,1.3991277590068574E-2,{"$f":"LN(O12/O11)","v":1.3894303149813266E-2},null,4,52.887901261151363,-0.54712552848579699,-0.79214029672489816,null,null,null,"1985-05-01",5.9519227594137192E-2,1985,true,false,false,1,-0.18235199290900639,-0.2013233441686676,null,1989,0.28624866281946498,-3.4128434781144357E-4,-3.4134259856823216E-4,null,5,3.2568374017874402,6.8160684417162054,2.0561816713188525,null,null,null,"1999-06-01",3.375,1999,false,false,false,0,0.43999999999999995,0.36464311358790924,null,null,2003,4.7523611386617022,0.77170813694354923,0.57194413034585756,null,5,5.6788333217302958,-0.34542975032049317,-0.42377636603904301]
[null,null,"1973-06-01",1973,false,false,false,1,2.7,20.03554523414644,0.14337506636344344,0.13398447303610267,null,1978,67.759677870200605,-2.1758278893200256E-3,{"$f":"LN(O13/O12)","v":-2.1781984420560442E-3},null,5,44.445681256427548,-0.15962478758681653,-0.17390680543297005,null,null,null,"1985-06-01",6.1660062521696091E-2,1985,true,false,false,1,3.5968795532047126E-2,3.533702324085905E-2,null,1990,0.26568115130066872,-7.1851904271664879E-2,-7.4563973014259655E-2,null,6,14.315735038121542,3.395594029430109,1.4806026822837008,null,null,null,"1999-07-01",3.895833015441895,1999,false,false,false,0,0.15432089346426525,0.14351220002439694,null,null,2004,21.372500260670979,3.4972382437016609,1.5034634847489892,null,6,4.0305875241756439,-0.29024373567147488,-0.34283365756229994]
[null,null,"1973-07-01",1973,false,false,false,1,2.7,19.942764332579344,-4.6308149083444938E-3,-4.6415703488503169E-3,null,1979,155.38008640662247,1.2931054469335903,{"$f":"LN(O14/O13)","v":0.82990698927005413},null,6,35.436943518517197,-0.2026909585643385,-0.22651291947068133,null,null,null,"1985-07-01",5.4381228983402252E-2,1985,true,false,false,1,-0.1180477806965029,-0.12561739756804924,null,1991,0.37520593156417209,0.41224143951241499,0.34517811560983014,null,7,36.265765889485678,1.5332800441551298,0.92951492320101026,null,null,null,"1999-08-01",4.9583330154418954,1999,false,false,false,0,0.27272729498122072,0.24116207430213277,null,null,2005,23.353610992431641,9.2694383324268381E-2,8.864655740039494E-2]
[null,null,"1973-08-01",1973,false,false,false,1,2.7,19.824766751146029,-5.9168117050126812E-3,-5.9343853897993138E-3,null,1980,154.75482505841222,-4.0240764609562607E-3,{"$f":"LN(O15/O14)","v":-4.0321948432847469E-3},null,7,51.98986879555617,0.46710928295464926,0.38329399056123981,null,null,null,"1985-08-01",5.1383260637521737E-2,1985,true,false,false,1,-5.5128734710933602E-2,-5.6706587975500232E-2,null,1992,0.3990832194685936,6.3637820982416216E-2,6.1694939158809636E-2,null,8,153.05754464467367,3.2204415346167758,1.4399397516307906,null,null,null,"1999-09-01",5.15625,1999,false,false,false,0,3.9916033058232658E-2,3.9139972449831362E-2,null,null,2006,29.697222391764324,0.27163299934166507,0.2403019007571599]
[null,null,"1973-09-01",1973,false,false,false,1,4.0999999999999996,29.926561311882921,0.50955427055165359,0.41181442218601605,null,1981,132.63652480622446,-0.14292478598867087,{"$f":"LN(O16/O15)","v":-0.15422959992815022},null,8,109.94219470905047,1.1146849810563046,0.74890585627777162,null,null,null,"1985-09-01",5.3953040391206741E-2,1985,true,false,false,1,5.0012002387572752E-2,4.8801594949407771E-2,null,1993,0.29054496934016544,-0.27196896495160638,-0.31741160113312739,null,9,219.1406421661377,0.43175328387030731,0.35889976589514122,null,null,null,"1999-10-01",5.125,1999,false,false,false,0,-6.0606060606060996E-3,-6.0790460763822263E-3,null,null,2007,75.655556360880539,1.5475633836335296,0.93513736652495971]
[null,null,"1973-10-01",1973,false,false,false,1,4.0999999999999996,29.739804639079793,-6.2404988951728635E-3,-6.2600521990967212E-3,null,1982,111.28434189549058,-0.16098267759901264,{"$f":"LN(O17/O16)","v":-0.17552392624298035},null,9,142.46065569143926,0.29577780458581171,0.25911113615250347,null,null,null,"1985-10-01",6.3800938427448273E-2,1985,true,false,false,1,0.18252721190197363,0.16765385329843374,null,1994,0.25251837198932964,-0.13088024699651524,-0.14027435768345409,null,null,null,null,null,null,null,null,"1999-11-01",8.5416669845581055,1999,false,false,false,0,0.66666672869426447,0.51082566098254867,null,null,2008,94.459166844685868,0.24854235945488568,0.2219767584399818]
[null,null,"1973-11-01",1973,false,false,false,1,4.0999999999999996,29.543880787687002,-6.5879333697886899E-3,-6.6097295835734126E-3,null,1983,96.124749566519071,-0.13622394732951915,{"$f":"LN(O18/O17)","v":-0.14644174207382063},null,10,74.574773500123626,-0.47652372412459021,-0.64726356798802087,null,null,null,"1985-11-01",6.8939723074436188E-2,1985,true,false,false,1,8.0544029189030253E-2,7.7464645036977656E-2,null,1995,0.29389754931132001,0.16386600703943577,0.15174722845580604,null,null,null,null,null,null,null,null,"1999-12-01",7.6979169845581046,1999,false,false,false,0,-9.8780484128608514E-2,-0.1040064152308805,null,null,2009,63.209999084472656,-0.33082197105967004,-0.40170514223700099]
[null,null,"1973-12-01",1973,false,false,false,1,13,93.026343483687228,2.1487516535897275,1.1470060738420607,null,1984,89.113033463825204,-7.2943920627243974E-2,{"$f":"LN(O19/O18)","v":-7.574121969832262E-2},null,11,84.221114373319097,0.12935125941990933,0.12164336115384616,null,null,null,"1985-12-01",7.5362220406532288E-2,1985,true,false,false,1,9.3161054986564906E-2,8.9073549653594958E-2,null,1996,0.17988629142443344,-0.38792857631526778,-0.49090629791214302,null,null,null,null,null,null,null,null,"2000-01-01",10.958333015441889,2000,true,true,true,1,0.42354523144691303,0.35315040204457326,null,null,2010,59.569999694824219,-5.7585816205819151E-2,-5.9310415482688526E-2]
[null,null,"1974-01-01",1974,false,true,false,1,13,92.333207920934825,-7.4509599839742702E-3,-7.4788570459629194E-3,null,1985,81.702132019672476,-8.3162935387685266E-2,{"$f":"LN(O20/O19)","v":-8.6825505596807698E-2},null,null,null,null,null,null,null,null,"1986-01-01",7.9216517508029938E-2,1986,false,true,false,1,5.1143624493892537E-2,4.9878737642937584E-2,null,1997,0.12998946569859982,-0.27737981216203045,-0.32487152288142152,null,null,null,null,null,null,null,null,"2000-02-01",22.541667938232418,2000,true,false,false,1,1.0570343962414648,0.72126533208739219,null,null,2011,36.045833428700767,-0.3948995532421895,-0.50236080703350827]
[null,null,"1974-02-01",1974,false,false,false,1,13,91.601137255628828,-7.9285739312000558E-3,-7.9601722038061817E-3,null,1986,41.305427737716897,-0.49443880206490498,{"$f":"LN(O21/O20)","v":-0.6820861836849037},null,null,null,null,null,null,null,null,"1986-02-01",8.5639059543609619E-2,1986,false,false,false,1,8.1075793756379744E-2,7.7956650682403247E-2,null,1998,0.22894244392712912,0.7612384411054256,0.56601722131662691,null,null,null,null,null,null,null,null,"2000-03-01",17.75,2000,true,false,false,1,-0.21256936049995567,-0.2389799889866808,null,null,2012,10.854999939600626,-0.6988556260996992,-1.2001654817180534]
[null,null,"1974-03-01",1974,false,false,false,1,10.59999847412,74.077272362219503,-0.1913061935520074,-0.21233491756185516,null,1987,51.890808337690608,0.25627093531603751,{"$f":"LN(O22/O21)","v":0.2281477576145795},null,null,null,null,null,null,null,null,"1986-03-01",9.6772179007530212E-2,1986,false,false,false,1,0.13000048719885027,0.12221806387358126,null,1999,0.44615836689869565,0.94877961135378164,0.66720333632445394,null,null,null,null,null,null,null,null,"2000-04-01",7.0833330154418954,2000,true,false,false,1,-0.60093898504552701,-0.91864095409790092,null,null,2013,10.842499971389771,-1.1515401455926E-3,-1.1522036773839648E-3]
[null,null,"1974-04-01",1974,false,false,false,1,10.59999847412,73.486137535931292,-7.9799756043622549E-3,-8.0119860182971073E-3,null,1988,41.019912651309248,-0.20949559343220603,{"$f":"LN(O23/O22)","v":-0.23508404794233581},null,null,null,null,null,null,null,null,"1986-04-01",0.1036236435174942,1986,false,false,false,1,7.0799940439812303E-2,6.840597704191867E-2,null,2000,0.65285941710074746,0.46329076296127192,0.38068784662537897,null,null,null,null,null,null,null,null,"2000-05-01",5.3645830154418954,2000,true,false,false,1,-0.24264706971323657,-0.27792591188505883,null,null,2014,9.529166579246521,-0.12112828181773183,-0.12911633258183788]
[null,null,"1974-05-01",1974,false,false,false,1,10.59999847412,72.86591826363825,-8.4399492624004369E-3,-8.4757673115751705E-3,null,1989,48.521225559367657,0.1828700361169342,{"$f":"LN(O24/O23)","v":0.16794371938130678},null,null,null,null,null,null,null,null,"1986-05-01",0.12674626708030701,1986,false,false,false,1,0.22314042218472219,0.20142166792650315,null,2001,0.30551096424460411,-0.53204172867516664,-0.75937615087564769,null,null,null,null,null,null,null,null,"2000-06-01",7.5416669845581046,2000,true,false,false,1,0.40582538528148349,0.34062459313076515,null,null,2015,8.6666667064030971,-9.0511574718596499E-2,-9.4873007568489778E-2]
[null,null,"1974-06-01",1974,false,false,false,1,10,68.153393975556043,-6.4673916151467226E-2,-6.6860057714385385E-2,null,1990,59.446741444240494,0.22516982534798169,{"$f":"LN(O25/O24)","v":0.20307946732516063},null,null,null,null,null,null,null,null,"1986-06-01",0.12289199233055111,1986,false,false,false,1,-3.0409374875820294E-2,-3.0881332521400705E-2,null,2002,0.28242689991990727,-7.5558873580114261E-2,-7.8565911718801604E-2,null,null,null,null,null,null,null,null,"2000-07-01",9.03125,2000,true,false,false,1,0.19751376167787327,0.18024754224347539,null,null,2016,7.4066666762034101,-0.14538461820261017,-0.15710375710738175]
[null,null,"1974-07-01",1974,false,false,false,1,10,67.537330099541663,-9.0393719238008874E-3,-9.0804749305898429E-3,null,1991,46.492994247242621,-0.21790508415247878,{"$f":"LN(O26/O25)","v":-0.2457791700381744},null,null,null,null,null,null,null,null,"1986-07-01",0.1070489808917046,1986,false,false,false,1,-0.12891817553280815,-0.13801936341090956,null,2003,0.28058813636501628,-6.5105822264537316E-3,-6.5318685079426321E-3,null,null,null,null,null,null,null,null,"2000-08-01",12.59375,2000,true,false,false,1,0.39446366782006925,0.33250987383425085,null,null,2017,9.5316667159398403,0.28690369536457738,0.25223909703762487]
[null,null,"1974-08-01",1974,false,false,false,1,10,66.959329756940122,-8.5582350049911993E-3,-8.5950669932926618E-3,null,1992,44.18471569409305,-4.9647879008921203E-2,{"$f":"LN(O27/O26)","v":-5.0922709387834816E-2},null,null,null,null,null,null,null,null,"1986-08-01",0.12674626708030701,1986,false,false,false,1,0.18400255681582833,0.16890069593231027,null,2004,0.56203889350096381,1.0030743308755188,0.6946831657682303,null,null,null,null,null,null,null,null,"2000-09-01",16.427082061767582,2000,true,false,false,1,0.3043836872867558,0.26573065894157677,null,null,2018,10.43833339214325,9.5121525250897232E-2,9.0865339074711268E-2]
[null,null,"1974-09-01",1974,false,false,false,1,10.29999923706,68.322531740512417,2.0358656344390935E-2,2.0154189358045405E-2,null,1993,37.350119779543228,-0.15468235581435519,{"$f":"LN(O28/O27)","v":-0.16804281198266102},null,null,null,null,null,null,null,null,"1986-09-01",0.11475677043199541,1986,false,false,false,1,-9.459447543898869E-2,-9.9372342208513292E-2,null,2005,1.4461191892623901,1.57298775224336,0.94506777318076118,null,null,null,null,null,null,null,null,"2000-10-01",16.666667938232418,2000,true,false,false,1,1.4584810349395516E-2,1.4479474965445365E-2,null,null,2019,7.3350000381469727,-0.29730161295021496,-0.35282751614767666]
[null,null,"1974-10-01",1974,false,false,false,1,10.29999923706,67.677236104910236,-9.4448437310988842E-3,-9.4897291148469173E-3,null,1994,34.75383511701834,-6.9512083973205407E-2,{"$f":"LN(O29/O28)","v":-7.2046189521723675E-2},null,null,null,null,null,null,null,null,"1986-10-01",0.1186103373765945,1986,false,false,false,1,3.3580301450559791E-2,3.3028795670472816E-2,null,2006,2.1627493997414908,0.49555404270973424,0.4024967353187518,null,null,null,null,null,null,null,null,"2000-11-01",10.833333015441889,2000,true,false,false,1,-0.35000006866454569,-0.43078302173022243,null,null,2020,5.0624999602635699,-0.30981595992704325,-0.37079699221213691]
[null,null,"1974-11-01",1974,false,false,false,1,10.29999923706,67.031108395729163,-9.5471940990538018E-3,-9.5930607217869328E-3,null,1995,36.246653850150231,4.2954071920565884E-2,{"$f":"LN(O30/O29)","v":4.205714045710527E-2},null,null,null,null,null,null,null,null,"1986-11-01",0.13702233135700231,1986,false,false,false,1,0.15523093844635727,0.14430027069388104,null,2007,4.0032824675242109,0.8510154102933587,0.61573435894479678,null,null,null,null,null,null,null,null,"2000-12-01",13.333333015441889,2000,true,false,false,1,0.23076923754088297,0.2076393702802119,null,null,2021,10.389166752497355,1.0521811030209789,0.71890318024695365]
[null,null,"1974-12-01",1974,false,false,false,1,10.42000007629,67.157803369976278,1.8900921867373022E-3,1.8883082100666555E-3,null,1996,43.311215629695049,0.19490245385824867,{"$f":"LN(O31/O30)","v":0.1780645534811777},null,null,null,null,null,null,null,null,"1986-12-01",0.13873578608036041,1986,false,false,false,1,1.2504930447386764E-2,1.2427389564366738E-2,null,2008,4.1572107672691345,3.8450521788965686E-2,3.7729719278912256E-2,null,null,null,null,null,null,null,null,"2001-01-01",10.96875,2001,false,true,false,1,-0.17734373038634577,-0.19521682093782874,null,null,2022,5.7733332514762878,-0.44429294581411061,-0.5875140045427325]
[null,null,"1975-01-01",1975,true,true,true,2,10.42000007629,66.536328161468802,-9.2539537823137508E-3,-9.297037615809611E-3,null,1997,36.751165594852459,-0.15146307808421078,{"$f":"LN(O32/O31)","v":-0.16424168091658184},null,null,null,null,null,null,null,null,"1987-01-01",0.19011902809143069,1987,false,true,false,1,0.37036761359687964,0.31507903493829759,null,2009,4.5148251851399737,8.6022681526382039E-2,8.2522106677055992E-2,null,null,null,null,null,null,null,null,"2001-02-01",6.4479169845581046,2001,false,false,false,1,-0.41215571650752325,-0.53129319014796217,null,null,2023,4.4700000087420149,-0.22575056487532574,-0.25586118970652177]
[null,null,"1975-02-01",1975,true,false,false,2,10.42000007629,65.948874708882457,-8.8290632924727941E-3,-8.8682704171722526E-3,null,1998,24.305637580599111,-0.3386430828195699,{"$f":"LN(O33/O32)","v":-0.41346161938215098},null,null,null,null,null,null,null,null,"1987-02-01",0.23978960514068601,1987,false,false,false,1,0.26126041957971768,0.23211155396352365,null,2010,7.8051557540893555,0.72878360379912954,0.54741804201420474,null,null,null,null,null,null,null,null,"2001-03-01",3.661667108535767,2001,false,false,false,1,-0.43211627610824266,-0.56583859267541003,null,null,2024,2.6991666356722512,-0.39615959051600236,-0.50444533866890517]
[null,null,"1975-03-01",1975,true,false,false,2,10.42000007629,65.414721240320475,-8.0995084589371436E-3,-8.1324876752529481E-3,null,1999,36.570044937289182,0.50459105695213635,{"$f":"LN(O34/O33)","v":0.40852113832207693},null,null,null,null,null,null,null,null,"1987-03-01",0.2209487110376358,1987,false,false,false,1,-7.8572605730745204E-2,-8.1831295785691094E-2,null,2011,11.065615018208822,0.41773147991456994,0.3490580448145606,null,null,null,null,null,null,null,null,"2001-04-01",5.6533331871032706,2001,false,false,false,1,0.54392330584194859,0.43432677798671315,null,null,2025,4.0305875241756439,0.493271097422183,0.40096908105696283]
[null,null,"1975-04-01",1975,true,false,false,2,10.42000007629,64.886989721612295,-8.0674733256050901E-3,-8.1001914758846629E-3,null,2000,52.997885850516575,0.44921577048642081,{"$f":"LN(O35/O34)","v":0.37102256218107921},null,null,null,null,null,null,null,null,"1987-04-01",0.2714763879776001,1987,false,false,false,1,0.22868509484700072,0.20594456898603655,null,2012,17.543528715769451,0.58540927792093034,0.46084259350479806,null,null,null,null,null,null,null,null,"2001-05-01",5.4366669654846191,2001,false,false,false,1,-3.8325393966328392E-2,-3.9079132901219719E-2,null,null,2012,10.854999939600626,1.6931557432984277,0.99071364479681356]
[null,null,"1975-05-01",1975,true,false,false,2,10.42000007629,64.399823905934724,-7.5079121063819088E-3,-7.5362383481662031E-3,null,2001,43.405742873848588,-0.18099104941135102,{"$f":"LN(O36/O35)","v":-0.19966026650911614},null,null,null,null,null,null,null,null,"1987-05-01",0.27062007784843439,1987,false,false,false,1,-3.1542711156019587E-3,-3.1592563146103378E-3,null,2013,14.520611921946207,-0.1723095075568245,-0.18911599587516564,null,null,null,null,null,null,null,null,"2001-06-01",5.375,2001,false,false,false,1,-1.1342788858710651E-2,-1.1407608914534071E-2,null,null,2013,10.842499971389771,-1.1515401455926E-3,-1.1522036773839648E-3]
[null,null,"1975-06-01",1975,true,false,false,2,10.43000030518,63.981421741713916,-6.4969457809689324E-3,-6.5181427936510843E-3,null,2002,46.181574004469773,6.3950780399926854E-2,{"$f":"LN(O37/O36)","v":6.1989130826845922E-2},null,null,null,null,null,null,null,null,"1987-06-01",0.27789312601089478,1987,false,false,false,1,2.6875493571226317E-2,2.6520690462939187E-2,null,2014,20.643763780593872,0.42168690214723226,0.35184412580652086,null,null,null,null,null,null,null,null,"2001-07-01",3.921667098999023,2001,false,false,false,1,-0.27038751646529802,-0.3152417302605216,null,null,2014,9.529166579246521,-0.12112828181773183,-0.12911633258183788]
[null,null,"1975-07-01",1975,true,false,false,2,10.43000030518,63.488908142709128,-7.6977595307745617E-3,-7.7275402097834985E-3,null,2003,50.275811500736459,8.8655217682065413E-2,{"$f":"LN(O38/O37)","v":8.4943189305022759E-2},null,null,null,null,null,null,null,null,"1987-07-01",0.28303968906402588,1987,false,false,false,1,1.851993652023376E-2,1.8350530887093271E-2,null,2015,26.794684251149494,0.29795537945157968,0.26079024130548495,null,null,null,null,null,null,null,null,"2001-08-01",2.809999942779541,2001,false,false,false,1,-0.28346800688493601,-0.33333238077070337,null,null,2015,8.6666667064030971,-9.0511574718596499E-2,-9.4873007568489778E-2]
[null,null,"1975-08-01",1975,true,false,false,2,10.43000030518,63.053912469700975,-6.8515223482876753E-3,-6.8751017926455956E-3,null,2004,67.088329748209432,0.33440570615606457,{"$f":"LN(O39/O38)","v":0.28848602880929392},null,null,null,null,null,null,null,null,"1987-08-01",0.37052446603775019,1987,false,false,false,1,0.30909013948900488,0.26933234589306809,null,2016,23.865541140238445,-0.10931806784718456,-0.11576789374745701,null,null,null,null,null,null,null,null,"2001-09-01",2.6800000667572021,2001,false,false,false,1,-4.6263302017632069E-2,-4.736764355033269E-2,null,null,2016,7.4066666762034101,-0.14538461820261017,-0.15710375710738175]
[null,null,"1975-09-01",1975,true,false,false,2,10.46000003815,62.835618483720722,-3.4620212676754747E-3,-3.4680279307750276E-3,null,2005,92.578596242203886,0.37995082885000242,{"$f":"LN(O40/O39)","v":0.32204786726619045},null,null,null,null,null,null,null,null,"1987-09-01",0.38817906379699713,1987,false,false,false,1,4.7647589774674204E-2,4.6547260048676729E-2,null,2017,35.261190255482994,0.47749384974267106,0.39034730767873921,null,null,null,null,null,null,null,null,"2001-10-01",2.7100000381469731,2001,false,false,false,1,1.1194018896451441E-2,1.1131829535814592E-2,null,null,2017,9.5316667159398403,0.28690369536457738,0.25223909703762487]
[null,null,"1975-10-01",1975,true,false,false,2,10.46000003815,62.461144904659577,-5.959574968744219E-3,-5.9774041069972726E-3,null,2006,103.15906250511182,0.11428631122497634,{"$f":"LN(O41/O40)","v":0.10821412035481161},null,null,null,null,null,null,null,null,"1987-10-01",0.26537036895751948,1987,false,false,false,1,-0.31637124794474214,-0.38034026886032896,null,2018,44.263127644856773,0.25529306651734496,0.22736906445972407,null,null,null,null,null,null,null,null,"2001-11-01",3.631666898727417,2001,false,false,false,1,0.34009846775155594,0.29274309465973103,null,null,2018,10.43833339214325,9.5121525250897232E-2,9.0865339074711268E-2]
[null,null,"1975-11-01",1975,true,false,false,2,10.46000003815,62.091685431368866,-5.9150288368017279E-3,-5.932591911513815E-3,null,2007,117.71306996260527,0.14108316907952001,{"$f":"LN(O42/O41)","v":0.13197795961658387},null,null,null,null,null,null,null,null,"1987-11-01",0.2267242968082428,1987,false,false,false,1,-0.14563069833717246,-0.15739174112344065,null,2019,51.144286155700684,0.1554602866307726,0.14449878115056125,null,null,null,null,null,null,null,null,"2001-12-01",3.953332901000977,2001,false,false,false,1,8.8572551184767478E-2,8.4867251914805944E-2,null,null,2019,7.3350000381469727,-0.29730161295021496,-0.35282751614767666]
[null,null,"1975-12-01",1975,true,false,false,2,11.510000228879999,67.943819819622433,9.4249887848865788E-2,9.0069094597535745E-2,null,2008,140.76166763240755,0.19580321605004691,{"$f":"LN(O43/O42)","v":0.17881810691584796},null,null,null,null,null,null,null,null,"1987-12-01",0.28918746113777161,1987,false,false,false,1,0.27550273706376704,0.24334040447258701,null,2020,94.25673770904541,0.84295734272437972,0.61137153285518964,null,null,null,null,null,null,null,null,"2002-01-01",4.2683329582214364,2002,false,true,false,1,7.967961846590299E-2,7.6664347558332957E-2,null,null,2020,5.0624999602635699,-0.30981595992704325,-0.37079699221213691]
[null,null,"1976-01-01",1976,false,true,false,2,11.510000228879999,67.576682971807969,-5.4035355796765439E-3,-5.4181874832811604E-3,null,2009,95.498577202923727,-0.32155835598428861,{"$f":"LN(O44/O43)","v":-0.38795681075209781},null,null,null,null,null,null,null,null,"1988-01-01",0.28574490547180181,1988,false,true,false,1,-1.1904235586236989E-2,-1.1975658387145592E-2,null,2021,138.48230107625326,0.46920320437701424,0.38472021599626371,null,null,null,null,null,null,null,null,"2002-02-01",3.815000057220459,2002,false,false,false,1,-0.10620842034541655,-0.11228266336562343,null,null,2021,10.389166752497355,1.0521811030209789,0.71890318024695365]
[null,null,"1976-02-01",{"$f":"YEAR(C45)","v":1976},{"$f":"MOD(D45,5)=0","v":false},{"$f":"MONTH(C45)=1","v":false},{"$f":"AND(F45,E45)","v":false},2,11.510000228879999,67.234259997370103,-5.0671764191314583E-3,-5.0800580917930698E-3,null,2010,119.12415203227771,0.24739190385163856,{"$f":"LN(O45/O44)","v":0.22105489467006215},null,null,null,null,null,null,null,null,"1988-02-01",0.29607304930686951,1988,false,false,false,1,3.6144629833433362E-2,3.5506738179873328E-2,null,2022,151.25894037882486,9.2261893420851893E-2,8.8250677708276715E-2,null,null,null,null,null,null,null,null,"2002-03-01",4.6283330917358398,2002,false,false,false,1,0.21319345276968638,0.19325610015574737,null,null,2022,5.7733332514762878,-0.44429294581411061,-0.5875140045427325]
[null,null,"1976-03-01",1976,false,false,false,{"$f":"H45+G46","v":2},11.510000228879999,66.904787648420779,-4.900364025159365E-3,-4.912410178753465E-3,null,2011,160.89875122555722,0.35068118832829409,{"$f":"LN(O46/O45)","v":0.30060904913754988},null,null,null,null,null,null,null,null,"1988-03-01",0.27595987915992742,1988,false,false,false,1,-6.7933134049278032E-2,-7.035072228774561E-2,null,2023,173.55985005696616,0.14743531603678517,0.13752929189689117,null,null,null,null,null,null,null,null,"2002-04-01",2.9500000476837158,2002,false,false,false,1,-0.36262149045601022,-0.45039159337527757,null,null,2023,4.4700000087420149,-0.22575056487532574,-0.25586118970652177]
[null,null,"1976-04-01",1976,false,false,false,2,11.510000228879999,66.578130683075983,-4.8824153969571071E-3,-4.8943733252711768E-3,null,2012,156.44205430755119,-2.7698766361202942E-2,{"$f":"LN(O47/O46)","v":-2.8089611383213468E-2},null,null,null,null,null,null,null,null,"1988-04-01",0.28285825252532959,1988,false,false,false,1,2.4997740201952778E-2,2.4690407906919509E-2,null,2024,207.72989400227866,0.19687758392333898,0.17971615227610596,null,null,null,null,null,null,null,null,"2002-05-01",2.5199999809265141,2002,false,false,false,1,-0.14576273213786206,-0.15754629256121153,null,null,2024,2.6991666356722512,-0.39615959051600236,-0.50444533866890517]
[null,null,"1976-05-01",1976,false,false,false,2,11.510000228879999,66.245064786648683,-5.0026321407663499E-3,-5.0151871946476452E-3,null,2013,148.72427388940051,-4.9333156946265944E-2,{"$f":"LN(O48/O47)","v":-5.0591600575683932E-2},null,null,null,null,null,null,null,null,"1988-05-01",0.28630855679512018,1988,false,false,false,1,1.2197997544659334E-2,1.2124201476045053E-2,null,2025,219.1406421661377,5.4930698437336556E-2,5.347507608544462E-2,null,null,null,null,null,null,null,null,"2002-06-01",1.896667003631592,2002,false,false,false,1,-0.24735435794159999,-0.2841607568227264,null,null,2025,4.0305875241756439,0.493271097422183,0.40096908105696283]
[null,null,"1976-06-01",1976,false,false,false,2,11.60000038147,66.44121590745641,2.9609922103550623E-3,2.9566171072233573E-3,null,2014,127.11404700240958,-0.14530396633882026,{"$f":"LN(O49/O48)","v":-0.15700938944199277},null,null,null,null,null,null,null,null,"1988-06-01",0.31970950961112982,1988,false,false,false,1,0.11666068660291939,0.1103427018735581,null,null,null,null,null,null,null,null,null,null,null,null,null,"2002-07-01",1.956666946411133,2002,false,false,false,1,3.1634410608007535E-2,3.1144351010037988E-2]
[null,null,"1976-07-01",1976,false,false,false,2,11.60000038147,66.15324763297005,-4.3341812842115912E-3,-4.3436010758235877E-3,null,2015,68.333703592008376,-0.46242209100058751,{"$f":"LN(O50/O49)","v":-0.62068158250846595},null,null,null,null,null,null,null,null,"1988-07-01",0.3067481517791748,1988,false,false,false,1,-4.054104567524508E-2,-4.1385742641417374E-2,null,null,null,null,null,null,null,null,null,null,null,null,null,"2002-08-01",1.7666670083999629,2002,false,false,false,1,-9.7103872664514035E-2,-0.10214776281791084]
[null,null,"1976-08-01",1976,false,false,false,2,11.60000038147,65.847885134029838,-4.6159865141378598E-3,-4.6266730785935071E-3,null,2016,61.321561491439802,-0.10261615764945375,{"$f":"LN(O51/O50)","v":-0.10827159056050636},null,null,null,null,null,null,null,null,"1988-08-01",0.27564173936843872,1988,false,false,false,1,-0.10140700842145356,-0.10692508164363365,null,null,null,null,null,null,null,null,null,null,null,null,null,"2002-09-01",1.570000052452087,2002,false,false,false,1,-0.11132089692782199,-0.11801907255470026]
[null,null,"1976-09-01",1976,false,false,false,2,11.89999961853,67.250412903995425,2.1299511246425151E-2,2.1075847041560004E-2,null,2017,72.641552447112375,0.18460050071055001,{"$f":"LN(O52/O51)","v":0.16940558754386481},null,null,null,null,null,null,null,null,"1988-09-01",0.29953563213348389,1988,false,false,false,1,8.6684595808282916E-2,8.3131405784472423E-2,null,null,null,null,null,null,null,null,null,null,null,null,null,"2002-10-01",2.083333015441895,2002,false,false,false,1,0.32696365977062536,0.28289336972310974]
[null,null,"1976-10-01",1976,false,false,false,2,11.89999961853,66.95290679047929,-4.4238555671152202E-3,-4.4336697712647512E-3,null,2018,89.875288028267107,0.23724349219686602,{"$f":"LN(O53/O52)","v":0.21288591494260503},null,null,null,null,null,null,null,null,"1988-10-01",0.26750418543815607,1988,false,false,false,1,-0.10693701603104588,-0.11309816983250817,null,null,null,null,null,null,null,null,null,null,null,null,null,"2002-11-01",2.546667098999023,2002,false,false,false,1,0.22240039404302836,0.20081646178202087]
[null,null,"1976-11-01",1976,false,false,false,2,11.89999961853,66.687463402795544,-3.9646282799105093E-3,-3.9725082529477509E-3,null,2019,80.701761941790451,-0.10206950417328786,{"$f":"LN(O54/O53)","v":-0.10766261253205152},null,null,null,null,null,null,null,null,"1988-11-01",0.26057875156402588,1988,false,false,false,1,-2.5889067353420114E-2,-2.6230087937359328E-2,null,null,null,null,null,null,null,null,null,null,null,null,null,"2002-12-01",2.1866669654846191,2002,false,false,false,1,-0.14136128497356537,-0.15240703333188924]
[null,null,"1976-12-01",1976,false,false,false,2,12.5,69.773112553200264,4.6270303186781048E-2,4.5231748307603056E-2,null,2020,51.234138280394404,-0.36514225900855568,{"$f":"LN(O55/O54)","v":-0.45435433512263318},null,null,null,null,null,null,null,null,"1988-12-01",0.27949404716491699,1988,false,false,false,1,7.2589554932469325E-2,7.0075869436547478E-2,null,null,null,null,null,null,null,null,null,null,null,null,null,"2003-01-01",2.1266670227050781,2003,false,true,false,1,-2.7438994472687606E-2,-2.782247483767435E-2]
[null,null,"1977-01-01",1977,false,true,false,2,12.5,69.478111887847987,-4.2279992185720872E-3,-4.2369624806331682E-3,null,2021,87.735717840095148,0.71244644264210599,{"$f":"LN(O56/O55)","v":0.5379230162956169},null,null,null,null,null,null,null,null,"1989-01-01",0.26213452219963068,1989,false,true,false,1,-6.2110535595927163E-2,-6.4123178706503983E-2,null,null,null,null,null,null,null,null,null,null,null,null,null,"2003-02-01",2.1166670322418208,2003,false,false,false,1,-4.70218908578246E-3,-4.7132791556088131E-3]
[null,null,"1977-02-01",1977,false,false,false,2,12.5,69.146239702776469,-4.7766436947398461E-3,-4.788088316363545E-3,null,2022,112.18911308057564,0.27871653463927437,{"$f":"LN(O57/O56)","v":0.24585686757118017},null,null,null,null,null,null,null,null,"1989-02-01",0.25171846151351929,1989,false,false,false,1,-3.9735554854461119E-2,-4.0546568760142641E-2,null,null,null,null,null,null,null,null,null,null,null,null,null,"2003-03-01",2.1766669750213619,2003,false,false,false,1,2.8346424763838973E-2,2.7952099334792143E-2]
[null,null,"1977-03-01",1977,false,false,false,2,12.44999980927,68.512392845381967,-9.1667581652896679E-3,-9.2090314304340455E-3,null,2023,87.243525063900975,-0.22235301921638717,{"$f":"LN(O58/O57)","v":-0.25148260998658267},null,null,null,null,null,null,null,null,"1989-03-01",0.248060017824173,1989,false,false,false,1,-1.4533871164431056E-2,-1.4640522502515144E-2,null,null,null,null,null,null,null,null,null,null,null,null,null,"2003-04-01",2.601666927337646,2003,false,false,false,1,0.19525263037176988,0.17835756920918389]
[null,null,"1977-04-01",1977,false,false,false,2,12.44999980927,68.129746022874428,-5.5850745626574438E-3,-5.6007294077876739E-3,null,2024,82.703077601629275,-5.2043374668161113E-2,{"$f":"LN(O59/O58)","v":-5.3446531643223723E-2},null,null,null,null,null,null,null,null,"1989-04-01",0.27156054973602289,1989,false,false,false,1,9.4737282202838724E-2,9.0514409552959474E-2,null,null,null,null,null,null,null,null,null,null,null,null,null,"2003-05-01",3.1700000762939449,2003,false,false,false,1,0.21844961896713233,0.19757924646355657]
[null,null,"1977-05-01",1977,false,false,false,2,12.44999980927,67.761191067581819,-5.409604127525558E-3,-5.4242890195120401E-3,null,2025,70.694535244377107,-0.14520067094837585,{"$f":"LN(O60/O59)","v":-0.15688854045600176},null,null,null,null,null,null,null,null,"1989-05-01",0.33248758316040039,1989,false,false,false,1,0.22435892652155509,0.20241738172569204,null,null,null,null,null,null,null,null,null,null,null,null,null,"2003-06-01",3.6033329963684082,2003,false,false,false,1,0.13669807875243767,0.12812763751154299]
[null,null,"1977-06-01",1977,false,false,false,2,12.63000011444,68.361514871717077,8.8594045452436987E-3,8.820390280244117E-3,null,null,null,null,null,null,null,null,null,null,null,null,null,"1989-06-01",0.28785726428031921,1989,false,false,false,1,-0.134231535673771,-0.14413776837724662,null,null,null,null,null,null,null,null,null,null,null,null,null,"2003-07-01",4.0133328437805176,2003,false,false,false,1,0.11378350205915599,0.10776277976273677]
[null,null,"1977-07-01",1977,false,false,false,2,12.63000011444,67.986163489599363,-5.490682627821708E-3,-5.505811830863511E-3,null,null,null,null,null,null,null,null,null,null,null,null,null,"1989-07-01",0.2773897647857666,1989,false,false,false,1,-3.6363506478541474E-2,-3.7041136893938946E-2,null,null,null,null,null,null,null,null,null,null,null,null,null,"2003-08-01",4.7466669082641602,2003,false,false,false,1,0.18272445696102535,0.16782063898310784]
[null,null,"1977-08-01",1977,false,false,false,2,12.63000011444,67.623956018341417,-5.3276645226989494E-3,-5.3419071364338285E-3,null,null,null,null,null,null,null,null,null,null,null,null,null,"1989-08-01",0.31053629517555242,1989,false,false,false,1,0.11949442480469852,0.1128771769680758,null,null,null,null,null,null,null,null,null,null,null,null,null,"2003-09-01",6.3666667938232422,2003,false,false,false,1,0.3412920933505128,0.29363339814264416]
[null,null,"1977-09-01",1977,false,false,false,2,12.68000030518,67.531178039204377,-1.3719691156766078E-3,-1.3729111270093435E-3,null,null,null,null,null,null,null,null,null,null,null,null,null,"1989-09-01",0.31127318739891052,1989,false,false,false,1,2.3729664931486649E-3,2.3701554542822851E-3,null,null,null,null,null,null,null,null,null,null,null,null,null,"2003-10-01",7.3533329963684082,2003,false,false,false,1,0.15497374599569147,0.14407761297574861]
[null,null,"1977-10-01",1977,false,false,false,2,12.68000030518,67.183477565445003,-5.1487399428679081E-3,-5.1620403776630091E-3,null,null,null,null,null,null,null,null,null,null,null,null,null,"1989-10-01",0.32526358962059021,1989,false,false,false,1,4.4945735090733629E-2,4.3964955925623009E-2,null,null,null,null,null,null,null,null,null,null,null,null,null,"2003-11-01",7.6149997711181641,2003,false,false,false,1,3.5584785141511421E-2,3.4966276957956288E-2]
[null,null,"1977-11-01",1977,false,false,false,2,12.68000030518,66.820121166503696,-5.4084190355784267E-3,-5.4230974825275596E-3,null,null,null,null,null,null,null,null,null,null,null,null,null,"1989-11-01",0.30952474474906921,1989,false,false,false,1,-4.8387970168686456E-2,-4.9597858944175663E-2,null,null,null,null,null,null,null,null,null,null,null,null,null,"2003-12-01",11.138333320617679,2003,false,false,false,1,0.46268334279702272,0.38027265486289574]
[null,null,"1977-12-01",1977,false,false,false,2,12.659999847410001,66.355100398132549,-6.959292504310155E-3,-6.9836213203261829E-3,null,null,null,null,null,null,null,null,null,null,null,null,null,"1989-12-01",0.24717797338962549,1989,false,false,false,1,-0.20142742193354546,-0.22492942245013189,null,null,null,null,null,null,null,null,null,null,null,null,null,"2004-01-01",14.50333309173584,2004,false,true,false,1,0.30210981071013188,0.26398588025310049]
[null,null,"1978-01-01",1978,false,true,false,2,12.659999847410001,65.990380314850981,-5.4964890580111447E-3,-5.5116503353787125E-3,null,null,null,null,null,null,null,null,null,null,null,null,null,"1990-01-01",0.2384125143289566,1990,true,true,true,2,-3.5462136615433515E-2,-3.6106190398526083E-2,null,null,null,null,null,null,null,null,null,null,null,null,null,"2004-02-01",16.483333587646481,2004,false,false,false,1,0.13652037661872818,0.12797129342270139]
[null,null,"1978-02-01",1978,false,false,false,2,12.659999847410001,65.648584684500136,-5.1794765952262178E-3,-5.1929365813647823E-3,null,null,null,null,null,null,null,null,null,null,null,null,null,"1990-02-01",0.2384125143289566,1990,true,false,false,2,0,0,null,null,null,null,null,null,null,null,null,null,null,null,null,"2004-03-01",15.555000305175779,2004,false,false,false,1,-5.6319510706647646E-2,-5.7967634860369849E-2]
[null,null,"1978-03-01",1978,false,false,false,2,12.68000030518,65.405344887871507,-3.705179598274877E-3,-3.7120607788009904E-3,null,null,null,null,null,null,null,null,null,null,null,null,null,"1990-03-01",0.2831481397151947,1990,true,false,false,2,0.18763958558195815,0.17196779577192642,null,null,null,null,null,null,null,null,null,null,null,null,null,"2004-04-01",14.51666736602783,2004,false,false,false,1,-6.675235736269669E-2,-6.908468716191371E-2]
[null,null,"1978-04-01",1978,false,false,false,2,12.69999980927,65.165623742472405,-3.6651613994249654E-3,-3.6718945605832723E-3,null,null,null,null,null,null,null,null,null,null,null,null,null,"1990-04-01",0.27699294686317438,1990,true,false,false,2,-2.1738418829844841E-2,-2.1978179300658981E-2,null,null,null,null,null,null,null,null,null,null,null,null,null,"2004-05-01",19.988332748413089,2004,false,false,false,1,0.37692297029483157,0.31985127794566176]
[null,null,"1978-05-01",1978,false,false,false,2,12.72999954224,64.954069146644272,-3.2464140397731045E-3,-3.251695074546348E-3,null,null,null,null,null,null,null,null,null,null,null,null,null,"1990-05-01",0.29018312692642212,1990,true,false,false,2,4.7619191075515932E-2,4.6520152570603233E-2,null,null,null,null,null,null,null,null,null,null,null,null,null,"2004-06-01",22.816667556762699,2004,false,false,false,1,0.14149928580582372,0.13234256132463851]
[null,null,"1978-06-01",1978,false,false,false,2,12.77000045776,64.771006544234865,-2.8183392482480363E-3,-2.8223182441725601E-3,null,null,null,null,null,null,null,null,null,null,null,null,null,"1990-06-01",0.31567814946174622,{"$f":"YEAR(Z73)","v":1990},{"$f":"MOD(AB73,5)=0","v":true},{"$f":"MONTH(Z73)=1","v":false},{"$f":"AND(AD73,AC73)","v":false},2,8.7858390683716481E-2,8.4210984341188816E-2,null,null,null,null,null,null,null,null,null,null,null,null,null,"2004-07-01",20.556667327880859,{"$f":"YEAR(AV73)","v":2004},{"$f":"MOD(AX73,5)=0","v":false},{"$f":"MONTH(AV73)=1","v":false},{"$f":"AND(AZ73,AY73)","v":false},{"$f":"BA73+BB72","v":1},-9.9050407920414751E-2,-0.10430596957640088]
[null,null,"1978-07-01",1978,false,false,false,2,12.78999996185,64.472421474338432,{"$f":"J74/J73-1","v":-4.6098568762015235E-3},{"$f":"LN(J74/J73)","v":-4.6205150340800161E-3},null,null,null,null,null,null,null,null,null,null,null,null,null,"1990-07-01",0.29627862572669977,1990,true,false,false,{"$f":"AF73+AE74","v":2},{"$f":"AA74/AA73-1","v":-6.1453489156991115E-2},{"$f":"LN(AA74/AA73)","v":-6.3422865480306165E-2},null,null,null,null,null,null,null,null,null,null,null,null,null,"2004-08-01",20.073333740234379,2004,false,false,false,1,{"$f":"AW74/AW73-1","v":-2.3512254196522364E-2},{"$f":"LN(AW74/AW73)","v":-2.3793077844525373E-2}]
[null,null,"1978-08-01",1978,false,false,false,2,12.80000019073,64.118108998042175,-5.4955664483190558E-3,-5.5107226269754924E-3,null,null,null,null,null,null,null,null,null,null,null,null,null,"1990-08-01",0.26100721955299377,1990,true,false,false,2,-0.1190480956471085,-0.12675224664411608,null,null,null,null,null,null,null,null,null,null,null,null,null,"2004-09-01",25.4466667175293,2004,false,false,false,1,0.26768513127068561,0.23719250599156341]
[null,null,"1978-09-01",1978,false,false,false,2,12.85000038147,63.941982458494373,-2.7469078907673694E-3,-2.7506875654464275E-3,null,null,null,null,null,null,null,null,null,null,null,null,null,"1990-09-01",0.2051919549703598,1990,true,false,false,2,-0.21384567322782999,-0.24060216133213294,null,null,null,null,null,null,null,null,null,null,null,null,null,"2004-10-01",29.39999961853027,2004,false,false,false,1,0.15535759338875055,0.14440990072170737]
[null,null,"1978-10-01",1978,false,false,false,2,13.19999980927,65.217137143724244,1.9942370195631609E-2,1.9746125891801122E-2,null,null,null,null,null,null,null,null,null,null,null,null,null,"1990-10-01",0.217574268579483,1990,true,false,false,2,6.034502478867565E-2,5.8594350245599586E-2,null,null,null,null,null,null,null,null,null,null,null,null,null,"2004-11-01",29.656667709350589,2004,false,false,false,1,8.7302072840349521E-3,8.6923193775909242E-3]
[null,null,"1978-11-01",1978,false,false,false,2,14.5,71.133640735899064,9.0720075294567826E-2,8.6838097664321753E-2,null,null,null,null,null,null,null,null,null,null,null,null,null,"1990-11-01",0.26002725958824158,1990,true,false,false,2,0.19511953911613356,0.17824621311369993,null,null,null,null,null,null,null,null,null,null,null,null,null,"2004-12-01",27.473333358764648,2004,false,false,false,1,-7.3620353169265407E-2,-7.6471142578831572E-2]
[null,null,"1978-12-01",1978,false,false,false,2,17.4500002861,92.297834311334796,0.29752720873676286,0.26046030596270936,null,null,null,null,null,null,null,null,null,null,null,null,null,"1990-12-01",0.3052670955657959,1990,true,false,false,2,0.17398112816784095,0.16040064646225796,null,null,null,null,null,null,null,null,null,null,null,null,null,"2005-01-01",23.763332366943359,2005,true,true,true,2,-0.13504007480176083,-0.14507210237408116]
[null,null,"1979-01-01",1979,false,true,false,2,20.75,106.36365090786401,0.15239595491572477,0.1418432140829963,null,null,null,null,null,null,null,null,null,null,null,null,null,"1991-01-01",0.3940073549747467,1991,false,true,false,2,0.29069710000835691,0.25518246002015704,null,null,null,null,null,null,null,null,null,null,null,null,null,"2005-02-01",22.036666870117191,2005,true,false,false,2,-7.2660915992914132E-2,-7.5435993884412328E-2]
[null,null,"1979-02-01",1979,false,false,false,2,22.02499961853,111.52987851130786,4.857136398899109E-2,4.7428631980228578E-2,null,null,null,null,null,null,null,null,null,null,null,null,null,"1991-02-01",0.40643101930618292,1991,false,false,false,2,3.1531554359518266E-2,3.1044643812147971E-2,null,null,null,null,null,null,null,null,null,null,null,null,null,"2005-03-01",25.473333358764648,2005,true,false,false,2,0.15595219135919991,0.14492441243925383]
[null,null,"1979-03-01",1979,false,false,false,2,22.42500019073,112.54310562416369,9.0848042370377247E-3,9.0437856464296203E-3,null,null,null,null,null,null,null,null,null,null,null,null,null,"1991-03-01",0.48376351594924932,1991,false,false,false,2,0.19027213221835404,0.17418196351600443,null,null,null,null,null,null,null,null,null,null,null,null,null,"2005-04-01",21.469999313354489,2005,true,false,false,2,-0.15715783988799126,-0.17097557443993167]
[null,null,"1979-04-01",1979,false,false,false,2,33.5,154.55761554729858,0.37331926900473,0.31723063362491249,null,null,null,null,null,null,null,null,null,null,null,null,null,"1991-04-01",0.39127868413925171,1991,false,false,false,2,-0.19117777335589736,-0.21217613063949697,null,null,null,null,null,null,null,null,null,null,null,null,null,"2005-05-01",27.60666656494141,2005,true,false,false,2,0.28582521880985201,0.25140070585544066]
[null,null,"1979-05-01",1979,false,false,false,2,34.67499923706,170.78239889139508,0.10497563181628733,9.9823282071609176E-2,null,null,null,null,null,null,null,null,null,null,null,null,null,"1991-05-01",0.33436590433120728,1991,false,false,false,2,-0.1454533101726283,-0.15718413798078812,null,null,null,null,null,null,null,null,null,null,null,null,null,"2005-06-01",24.59666633605957,2005,true,false,false,2,-0.10903164356338246,-0.11544636680347251]
[null,null,"1979-06-01",1979,false,false,false,2,33.5,162.35938509779956,-4.9320151539456569E-2,-5.0577920370103731E-2,null,null,null,null,null,null,null,null,null,null,null,null,null,"1991-06-01",0.2959936261177063,1991,false,false,false,2,-0.11476133695584934,-0.12189799457407574,null,null,null,null,null,null,null,null,null,null,null,null,null,"2005-07-01",23.5533332824707,2005,true,false,false,2,-4.2417660968116944E-2,-4.3343567857608324E-2]
[null,null,"1979-07-01",1979,false,false,false,2,34,164.37006683289661,1.2384142338836002E-2,1.2308086131583799E-2,null,null,null,null,null,null,null,null,null,null,null,null,null,"1991-07-01",0.32987168431282038,1991,false,false,false,2,0.11445536391936351,0.10836582272265145,null,null,null,null,null,null,null,null,null,null,null,null,null,"2005-08-01",26.10000038146973,2005,true,false,false,2,0.10812342645761985,0.1026679778409231]
[null,null,"1979-08-01",1979,false,false,false,2,35.5,166.26347316126521,1.1519167478915016E-2,1.1453327005109148E-2,null,null,null,null,null,null,null,null,null,null,null,null,null,"1991-08-01",0.37801539897918701,1991,false,false,false,2,0.14594679372574304,0.13623118940125578,null,null,null,null,null,null,null,null,null,null,null,null,null,"2005-09-01",22.766666412353519,2005,true,false,false,2,-0.12771394331023789,-0.13663786220612797]
[null,null,"1979-09-01",1979,false,false,false,2,37.25,173.70205189967746,4.4739704981365813E-2,4.376776824743514E-2,null,null,null,null,null,null,null,null,null,null,null,null,null,"1991-09-01",0.35384911298751831,1991,false,false,false,2,-6.3929369165723449E-2,-6.6064345058499188E-2,null,null,null,null,null,null,null,null,null,null,null,null,null,"2005-10-01",20.49666786193848,2005,true,false,false,2,-9.97071116737277E-2,-0.1050351371255269]
[null,null,"1979-10-01",1979,false,false,false,2,40.75,187.70199905048986,8.0597477103483861E-2,7.7514107706875848E-2,null,null,null,null,null,null,null,null,null,null,null,null,null,"1991-10-01",0.36814591288566589,1991,false,false,false,2,4.0403661824784276E-2,3.9608774217830545E-2,null,null,null,null,null,null,null,null,null,null,null,null,null,"2005-11-01",20.376667022705082,2005,true,false,false,2,-5.8546511092291142E-3,-5.871856767318313E-3]
[null,null,"1979-11-01",1979,false,false,false,2,39.75,179.21573574223308,-4.5211363497381085E-2,-4.6265286030870725E-2,null,null,null,null,null,null,null,null,null,null,null,null,null,"1991-11-01",0.36278501152992249,1991,false,false,false,2,-1.4561892901981843E-2,-1.4668957915095605E-2,null,null,null,null,null,null,null,null,null,null,null,null,null,"2005-12-01",22.00333213806152,2005,true,false,false,2,7.9829793240665747E-2,7.6803429864889014E-2]
[null,null,"1979-12-01",1979,false,false,false,2,39,175.17167561307889,-2.2565318343310992E-2,-2.2823811189883716E-2,null,null,null,null,null,null,null,null,null,null,null,null,null,"1991-12-01",0.40396395325660711,1991,false,false,false,2,0.11350783637126138,0.10751524529380962,null,null,null,null,null,null,null,null,null,null,null,null,null,"2006-01-01",22.510000228881839,2006,false,true,false,2,2.302688009439624E-2,2.276576237638589E-2]
[null,null,"1980-01-01",1980,true,true,true,3,37.25,166.7828468414649,-4.788918495101524E-2,-4.9073848602622087E-2,null,null,null,null,null,null,null,null,null,null,null,null,null,"1992-01-01",0.46397680044174189,1992,false,true,false,2,0.14855990664843621,0.13850890256025228,null,null,null,null,null,null,null,null,null,null,null,null,null,"2006-02-01",23.510000228881839,2006,false,false,false,2,4.4424699681563373E-2,4.3466207200840101E-2]
[null,null,"1980-02-01",1980,true,false,false,3,37,163.87857579016114,-1.7413487695556729E-2,-1.7566885879104811E-2,null,null,null,null,null,null,null,null,null,null,null,null,null,"1992-02-01",0.48368260264396667,1992,false,false,false,2,4.2471524833705754E-2,4.1594360009581034E-2,null,null,null,null,null,null,null,null,null,null,null,null,null,"2006-03-01",28.293333053588871,2006,false,false,false,2,0.20345949715605482,0.18520032346283744]
[null,null,"1980-03-01",1980,true,false,false,3,36.57500076294,161.58605412853115,-1.3989148066343104E-2,-1.4087918422159803E-2,null,null,null,null,null,null,null,null,null,null,null,null,null,"1992-03-01",0.41818037629127502,1992,false,false,false,2,-0.13542398671077926,-0.1455160502641257,null,null,null,null,null,null,null,null,null,null,null,null,null,"2006-04-01",25.543333053588871,2006,false,false,false,2,-9.7196042431316743E-2,-0.10224985038788252]
[null,null,"1980-04-01",1980,true,false,false,3,37.04999923706,161.2117473378984,-2.316454799589418E-3,-2.319141931557234E-3,null,null,null,null,null,null,null,null,null,null,null,null,null,"1992-04-01",0.43164089322090149,1992,false,false,false,2,3.2188303643045257E-2,3.1681115185092146E-2,null,null,null,null,null,null,null,null,null,null,null,null,null,"2006-05-01",21.629999160766602,2006,false,false,false,2,-0.15320372970168983,-0.16629514419698616]
[null,null,"1980-05-01",1980,true,false,false,3,37,157.34355146141112,-2.3994503752754248E-2,-2.4287061184034293E-2,null,null,null,null,null,null,null,null,null,null,null,null,null,"1992-05-01",0.4289490282535553,1992,false,false,false,2,-6.2363529721651823E-3,-6.2558802496916711E-3,null,null,null,null,null,null,null,null,null,null,null,null,null,"2006-06-01",23.25666618347168,2006,false,false,false,2,7.5204211087330775E-2,7.2510607340955921E-2]
[null,null,"1980-06-01",1980,true,false,false,3,35.375,153.13449729958043,-2.6750725547611487E-2,-2.7115037981304213E-2,null,null,null,null,null,null,null,null,null,null,null,null,null,"1992-06-01",0.34459492564201349,1992,false,false,false,2,-0.1966529751914472,-0.21896849798063325,null,null,null,null,null,null,null,null,null,null,null,null,null,"2006-07-01",21.876667022705082,2006,false,false,false,2,-5.9337789426902154E-2,-6.1171172414089287E-2]
[null,null,"1980-07-01",1980,true,false,false,3,32.949998855590003,136.16798021747533,-0.11079487235925112,-0.11742733033118183,null,null,null,null,null,null,null,null,null,null,null,null,null,"1992-07-01",0.33629655838012701,1992,false,false,false,2,-2.4081513233039753E-2,-2.4376213713641286E-2,null,null,null,null,null,null,null,null,null,null,null,null,null,"2006-08-01",27.5,2006,false,false,false,2,0.25704706166888425,0.22876536858020224]
[null,null,"1980-08-01",1980,true,false,false,3,32.82500076294,133.9984693689772,-1.5932606513169856E-2,-1.6060894959285445E-2,null,null,null,null,null,null,null,null,null,null,null,null,null,"1992-08-01",0.33090117573738098,1992,false,false,false,2,-1.6043526192282442E-2,-1.6173616843479378E-2,null,null,null,null,null,null,null,null,null,null,null,null,null,"2006-09-01",34.216667175292969,2006,false,false,false,2,0.24424244273792617,0.2185268649891772]
[null,null,"1980-09-01",1980,true,false,false,3,37.350000381469997,150.55581664666292,0.12356370453824761,0.11650551289445554,null,null,null,null,null,null,null,null,null,null,null,null,null,"1992-09-01",0.32547962665557861,1992,false,false,false,2,-1.6384194071601521E-2,-1.6519899301543826E-2,null,null,null,null,null,null,null,null,null,null,null,null,null,"2006-10-01",39.159999847412109,2006,false,false,false,2,0.14447148364258577,0.13494294410408256]
[null,null,"1980-10-01",1980,true,false,false,3,40.29999923706,160.65793764410628,6.7098842292834693E-2,6.4943603730070742E-2,null,null,null,null,null,null,null,null,null,null,null,null,null,"1992-10-01",0.37867423892021179,1992,false,false,false,2,0.16343453755071291,0.15137643879164411,null,null,null,null,null,null,null,null,null,null,null,null,null,"2006-11-01",46.276668548583977,2006,false,false,false,2,0.18173311360832844,0.16698210127947175]
[null,null,"1980-11-01",1980,true,false,false,3,39.75,156.34548641737666,-2.6842441089233171E-2,-2.7209278856456801E-2,null,null,null,null,null,null,null,null,null,null,null,null,null,"1992-11-01",0.41473838686943049,1992,false,false,false,2,9.5237922843802281E-2,9.0971620802229439E-2,null,null,null,null,null,null,null,null,null,null,null,null,null,"2006-12-01",42.593334197998047,2006,false,false,false,2,-7.9593766494209683E-2,-8.294014823869908E-2]
[null,null,"1980-12-01",1980,true,false,false,3,39.774999618530003,155.39493754730137,-6.0797973248662984E-3,-6.098354546953769E-3,null,null,null,null,null,null,null,null,null,null,null,null,null,"1992-12-01",0.43188402056694031,1992,false,false,false,2,4.1340840974307236E-2,4.0509152925761016E-2,null,null,null,null,null,null,null,null,null,null,null,null,null,"2007-01-01",42.593334197998047,2007,false,true,false,2,0,0]
[null,null,"1981-01-01",1981,false,true,false,3,37.899999618530003,147.84200084879708,-4.8604779651880259E-2,-4.9825718805572856E-2,null,null,null,null,null,null,null,null,null,null,null,null,null,"1993-01-01",0.43007698655128479,1993,false,true,false,2,-4.1840724120411066E-3,-4.1928501359936136E-3,null,null,null,null,null,null,null,null,null,null,null,null,null,"2007-02-01",46.869998931884773,2007,false,false,false,2,0.10040690202852764,9.5680022339167531E-2]
[null,null,"1981-02-01",1981,false,false,false,3,37.59999847412,145.19206686155923,-1.7924094452347328E-2,-1.808667672321863E-2,null,null,null,null,null,null,null,null,null,null,null,null,null,"1993-02-01",0.38309383392333979,1993,false,false,false,2,-0.10924358683940527,-0.11568427479087776,null,null,null,null,null,null,null,null,null,null,null,null,null,"2007-03-01",45.496665954589837,2007,false,false,false,2,-2.9300896278891986E-2,-2.9738741596917979E-2]
[null,null,"1981-03-01",1981,false,false,false,3,36.369998931879998,139.63505803107296,-3.827350178701483E-2,-3.902517413077753E-2,null,null,null,null,null,null,null,null,null,null,null,null,null,"1993-03-01",0.37306305766105652,1993,false,false,false,2,-2.618360144186116E-2,-2.653249561547686E-2,null,null,null,null,null,null,null,null,null,null,null,null,null,"2007-04-01",43.860000610351563,2007,false,false,false,2,-3.5973302876123436E-2,-3.6636290643161123E-2]
[null,null,"1981-04-01",1981,false,false,false,3,34.284999847409999,131.08052344427338,-6.1263515820618175E-2,-6.3220473685861617E-2,null,null,null,null,null,null,null,null,null,null,null,null,null,"1993-04-01",0.37125217914581299,1993,false,false,false,2,-4.8540815769777534E-3,-4.865900894421505E-3,null,null,null,null,null,null,null,null,null,null,null,null,null,"2007-05-01",55.360000610351563,2007,false,false,false,2,0.26219789876805977,0.23285456542890431]
[null,null,"1981-05-01",1981,false,false,false,3,32.709999084469999,122.89483967633625,-6.2447750076441655E-2,-6.448278943881558E-2,null,null,null,null,null,null,null,null,null,null,null,null,null,"1993-05-01",0.41018837690353388,1993,false,false,false,2,0.10487803155070052,9.9734950190391705E-2,null,null,null,null,null,null,null,null,null,null,null,null,null,"2007-06-01",66.663330078125,2007,false,false,false,2,0.20417863697891425,0.18579770546476701]
[null,null,"1981-06-01",{"$f":"YEAR(C109)","v":1981},{"$f":"MOD(D109,5)=0","v":false},{"$f":"MONTH(C109)=1","v":false},{"$f":"AND(F109,E109)","v":false},3,33.510000228880003,128.60327715874729,4.6449773623084223E-2,4.5403267125367491E-2,null,null,null,null,null,null,null,null,null,null,null,null,null,"1993-06-01",0.28673446178436279,1993,false,false,false,2,-0.30096882815430037,-0.35805994282748649,null,null,null,null,null,null,null,null,null,null,null,null,null,"2007-07-01",71.333335876464844,2007,false,false,false,2,7.0053593075336984E-2,6.7708734205799842E-2]
[null,null,"1981-07-01",1981,false,false,false,{"$f":"H109+G110","v":3},33.984998703000002,130.20389031027247,1.2446130354434093E-2,1.2369313994929604E-2,null,null,null,null,null,null,null,null,null,null,null,null,null,"1993-07-01",0.20143996179103851,1993,false,false,false,2,-0.29746860374763595,-0.35306518659871799,null,null,null,null,null,null,null,null,null,null,null,null,null,"2007-08-01",85.410003662109375,2007,false,false,false,2,0.19733645724942006,0.18009947082975952]
[null,null,"1981-08-01",1981,false,false,false,3,33.985000610349999,129.49210439032686,-5.4667024022818644E-3,-5.4816995012829115E-3,null,null,null,null,null,null,null,null,null,null,null,null,null,"1993-08-01",0.1923658549785614,1993,false,false,false,2,-4.504620995654296E-2,-4.6092327061164499E-2,null,null,null,null,null,null,null,null,null,null,null,null,null,"2007-09-01",98.550003051757813,2007,false,false,false,2,0.15384614010358333,0.14310083173044547]
[null,null,"1981-09-01",1981,false,false,false,3,34.610000610349999,130.62763200237984,8.7690876397388262E-3,8.7308624946135817E-3,null,null,null,null,null,null,null,null,null,null,null,null,null,"1993-09-01",0.17042772471904749,1993,false,false,false,2,-0.11404378527550463,-0.12108774864506239,null,null,null,null,null,null,null,null,null,null,null,null,null,"2007-10-01",124.5100021362305,2007,false,false,false,2,0.26341956652034471,0.2338219865560984]
[null,null,"1981-10-01",1981,false,false,false,3,35.680000305180002,131.63716980305955,7.7283633271505447E-3,7.6986525064549356E-3,null,null,null,null,null,null,null,null,null,null,null,null,null,"1993-10-01",0.22419986128807071,1993,false,false,false,2,0.31551284661968793,0.2742265870299177,null,null,null,null,null,null,null,null,null,null,null,null,null,"2007-11-01",113.8199996948242,2007,false,false,false,2,-8.5856575841272598E-2,-8.9767800627657102E-2]
[null,null,"1981-11-01",1981,false,false,false,3,35.409999847409999,129.15826378775995,-1.8831353021401598E-2,-1.9010920860272854E-2,null,null,null,null,null,null,null,null,null,null,null,null,null,"1993-11-01",0.2296677231788635,1993,false,false,false,2,2.4388337527859738E-2,2.4095690592620518E-2,null,null,null,null,null,null,null,null,null,null,null,null,null,"2007-12-01",113.40000152587891,2007,false,false,false,2,-3.6900208229784237E-3,-3.6968457443898009E-3]
[null,null,"1981-12-01",1981,false,false,false,3,35.049999491370002,125.27147136010831,-3.0093253917059748E-2,-3.0555350165092414E-2,null,null,null,null,null,null,null,null,null,null,null,null,null,"1993-12-01",0.21402961015701291,1993,false,false,false,2,-6.8090164370514294E-2,-7.0519211863258685E-2,null,null,null,null,null,null,null,null,null,null,null,null,null,"2008-01-01",93.879997253417969,2008,false,true,false,2,-0.1721340741605395,-0.18890406302285773]
[null,null,"1982-01-01",1982,false,true,false,3,32.273333485919999,109.75109893879012,-0.12389391018409102,-0.1322680882828314,null,null,null,null,null,null,null,null,null,null,null,null,null,"1994-01-01",0.23963989317417139,1994,false,true,false,2,0.11965766324748572,0.11302298076938738,null,null,null,null,null,null,null,null,null,null,null,null,null,"2008-02-01",103.8000030517578,2008,false,false,false,2,0.10566687354668258,0.10044865840563585]
[null,null,"1982-02-01",1982,false,false,false,3,30.16666653951,101.07787143870704,-7.9026338541906327E-2,-8.2323840901124698E-2,null,null,null,null,null,null,null,null,null,null,null,null,null,"1994-02-01",0.26707935333251948,1994,false,false,false,2,0.11450288929316521,0.10840846629728136,null,null,null,null,null,null,null,null,null,null,null,null,null,"2008-03-01",112.23000335693359,2008,false,false,false,2,8.1213873384688995E-2,7.808436680720858E-2]
[null,null,"1982-03-01",1982,false,false,false,3,31.56666603088,113.63307205957892,0.12421314816156648,0.11708336708902155,null,null,null,null,null,null,null,null,null,null,null,null,null,"1994-03-01",0.24417249858379361,1994,false,false,false,2,-8.5767972937265347E-2,-8.9670880813931292E-2,null,null,null,null,null,null,null,null,null,null,null,null,null,"2008-04-01",121.629997253418,2008,false,false,false,2,8.375651443748855E-2,8.043326010953214E-2]
[null,null,"1982-04-01",1982,false,false,false,3,33.043332926429997,120.06817152705869,5.6630515666299841E-2,5.5085086332639088E-2,null,null,null,null,null,null,null,null,null,null,null,null,null,"1994-04-01",0.2203059196472168,1994,false,false,false,2,-9.7744746337132815E-2,-0.10285781263012123,null,null,null,null,null,null,null,null,null,null,null,null,null,"2008-05-01",138.8699951171875,2008,false,false,false,2,0.14174133234459996,0.13255458150136351]
[null,null,"1982-05-01",1982,false,false,false,3,32.766666666669998,117.4538815097592,-2.1773380772358464E-2,-2.2013918787879234E-2,null,null,null,null,null,null,null,null,null,null,null,null,null,"1994-05-01",0.21479867398738861,1994,false,false,false,2,-2.4998173760592213E-2,-2.5315934919984791E-2,null,null,null,null,null,null,null,null,null,null,null,null,null,"2008-06-01",116.90000152587891,2008,false,false,false,2,-0.15820547536398266,-0.17221932701937739]
[null,null,"1982-06-01",1982,false,false,false,3,32.916667175290002,113.74987019976268,-3.1535878273113993E-2,-3.2043842018090359E-2,null,null,null,null,null,null,null,null,null,null,null,null,null,"1994-06-01",0.19537194073200231,1994,false,false,false,2,-9.0441588370917425E-2,-9.479605919498614E-2,null,null,null,null,null,null,null,null,null,null,null,null,null,"2008-07-01",122.8199996948242,2008,false,false,false,2,5.0641557670422666E-2,4.9400984885633908E-2]
[null,null,"1982-07-01",1982,false,false,false,3,32.416666412349997,110.30552287252399,-3.0280011055747735E-2,-3.0747920349749616E-2,null,null,null,null,null,null,null,null,null,null,null,null,null,"1994-07-01",0.24836194515228269,1994,false,false,false,2,0.27122627856253101,0.23998200827538826,null,null,null,null,null,null,null,null,null,null,null,null,null,"2008-08-01",121.59999847412109,2008,false,false,false,2,-9.9332455930182251E-3,-9.9829094327926523E-3]
[null,null,"1982-08-01",1982,false,false,false,3,33.466666412350001,114.46289898072951,3.7689645993610243E-2,3.6996747737561106E-2,null,null,null,null,null,null,null,null,null,null,null,null,null,"1994-08-01",0.26679369807243353,1994,false,false,false,2,7.4213273329170715E-2,7.1588554891349632E-2,null,null,null,null,null,null,null,null,null,null,null,null,null,"2008-09-01",68.300003051757813,2008,false,false,false,2,-0.43832233627623429,-0.57682714572531057]
[null,null,"1982-09-01",1982,false,false,false,3,33.783333841960001,116.49080445171997,1.7716705491898077E-2,1.7561594028355373E-2,null,null,null,null,null,null,null,null,null,null,null,null,null,"1994-09-01",0.24922220408916471,1994,false,false,false,2,-6.5861728032639788E-2,-6.8130808918940869E-2,null,null,null,null,null,null,null,null,null,null,null,null,null,"2008-10-01",50.430000305175781,2008,false,false,false,2,-0.26163985282753388,-0.30332356911830283]
[null,null,"1982-10-01",1982,false,false,false,3,32.849999745689999,112.02799748830276,-3.8310379814286866E-2,-3.9063520515549698E-2,null,null,null,null,null,null,null,null,null,null,null,null,null,"1994-10-01",0.31950429081916809,1994,false,false,false,2,0.28200571849873546,0.24842581909596778,null,null,null,null,null,null,null,null,null,null,null,null,null,"2008-11-01",42.470001220703118,2008,false,false,false,2,-0.15784253492569789,-0.1717882690722122]
[null,null,"1982-11-01",1982,false,false,false,3,31.46666679382,104.84065811412725,-6.4156635263662221E-2,-6.6307161875503784E-2,null,null,null,null,null,null,null,null,null,null,null,null,null,"1994-11-01",0.27557778358459473,1994,false,false,false,2,-0.13748330929125063,-0.14790077871748492,null,null,null,null,null,null,null,null,null,null,null,null,null,"2008-12-01",40.580001831054688,2008,false,false,false,2,-4.4501985762296137E-2,-4.5522593548130194E-2]
[null,null,"1982-12-01",1982,false,false,false,3,30.653333028159999,101.55025516482695,-3.1384798688677051E-2,-3.1887855029899992E-2,null,null,null,null,null,null,null,null,null,null,null,null,null,"1994-12-01",0.28939226269721979,1994,false,false,false,2,5.0129146598584251E-2,4.8913153366507062E-2,null,null,null,null,null,null,null,null,null,null,null,null,null,"2009-01-01",55.400001525878913,2009,false,true,false,2,0.36520451025418432,0.31130424177641403]
[null,null,"1983-01-01",1983,false,true,false,3,29.113333384200001,95.499238747777682,-5.9586422576957787E-2,-6.1435524497179372E-2,null,null,null,null,null,null,null,null,null,null,null,null,null,"1995-01-01",0.29959538578987122,1995,true,true,true,3,3.5257069410064235E-2,3.4649772118668209E-2,null,null,null,null,null,null,null,null,null,null,null,null,null,"2009-02-01",39.939998626708977,2009,false,false,false,2,-0.27906141648657046,-0.32720132769236115]
[null,null,"1983-02-01",1983,false,false,false,3,28.32000033061,92.281590728895907,-3.3692917986287596E-2,-3.4273605002683505E-2,null,null,null,null,null,null,null,null,null,null,null,null,null,"1995-02-01",0.29310283064842219,1995,true,false,false,3,-2.1671078559276413E-2,-2.1909344998841451E-2,null,null,null,null,null,null,null,null,null,null,null,null,null,"2009-03-01",43.110000610351563,2009,false,false,false,2,7.9369105974949061E-2,7.6376709313230151E-2]
[null,null,"1983-03-01",1983,false,false,false,3,29.693333307900001,97.067463650700603,5.1861621413360703E-2,5.0561567083104719E-2,null,null,null,null,null,null,null,null,null,null,null,null,null,"1995-03-01",0.26228517293930048,1995,true,false,false,3,-0.10514281844683915,-0.1110911471241357,null,null,null,null,null,null,null,null,null,null,null,null,null,"2009-04-01",69.5,2009,false,false,false,2,0.61215492962233164,0.47757174965369903]
[null,null,"1983-04-01",1983,false,false,false,3,29.359999974570002,96.270716282177546,-8.2081815940938663E-3,-8.2420541989728941E-3,null,null,null,null,null,null,null,null,null,null,null,null,null,"1995-04-01",0.28460779786109919,1995,true,false,false,3,8.5108222747172668E-2,8.1679726485714491E-2,null,null,null,null,null,null,null,null,null,null,null,null,null,"2009-05-01",78.639999389648438,2009,false,false,false,2,0.13151078258486959,0.12355371550682735]
[null,null,"1983-05-01",1983,false,false,false,3,29.966667175289999,97.937104490792791,1.7309398672499032E-2,1.7161297615445135E-2,null,null,null,null,null,null,null,null,null,null,null,null,null,"1995-05-01",0.30925509333610529,1995,true,false,false,3,8.6600914171139687E-2,8.3054396448331055E-2,null,null,null,null,null,null,null,null,null,null,null,null,null,"2009-06-01",71.089996337890625,2009,false,false,false,2,-9.6007160609816067E-2,-0.10093383964988967]
[null,null,"1983-06-01",1983,false,false,false,3,30.466666539510001,99.671286997505447,1.7707104122888229E-2,1.755215975823967E-2,null,null,null,null,null,null,null,null,null,null,null,null,null,"1995-06-01",0.34648701548576349,1995,true,false,false,3,0.12039226823402305,0.11367886348213206,null,null,null,null,null,null,null,null,null,null,null,null,null,"2009-07-01",75.989997863769531,2009,false,false,false,2,6.8926737632524437E-2,6.6655096142014425E-2]
[null,null,"1983-07-01",1983,false,false,false,3,30.653333028159999,100.43837596797447,7.6961880755910261E-3,7.6667235001918552E-3,null,null,null,null,null,null,null,null,null,null,null,null,null,"1995-07-01",0.33576121926307678,1995,true,false,false,3,-3.0955838872199881E-2,-3.144509421053196E-2,null,null,null,null,null,null,null,null,null,null,null,null,null,"2009-08-01",73.05999755859375,2009,false,false,false,2,-3.8557710061112416E-2,-3.9320736619018276E-2]
[null,null,"1983-08-01",1983,false,false,false,3,30.07000033061,97.810067443855914,-2.6168369398531621E-2,-2.6516854141142895E-2,null,null,null,null,null,null,null,null,null,null,null,null,null,"1995-08-01",0.32083854079246521,1995,true,false,false,3,-4.4444318207336853E-2,-4.546224196816509E-2,null,null,null,null,null,null,null,null,null,null,null,null,null,"2009-09-01",67.629997253417969,2009,false,false,false,2,-7.4322481338997437E-2,-7.722935697572117E-2]
[null,null,"1983-09-01",1983,false,false,false,3,29.616666793819999,95.972903469686088,-1.8782974208911396E-2,-1.8961614739492098E-2,null,null,null,null,null,null,null,null,null,null,null,null,null,"1995-09-01",0.27869394421577448,1995,true,false,false,3,-0.13135764946628403,-0.14082380283570742,null,null,null,null,null,null,null,null,null,null,null,null,null,"2009-10-01",58.729999542236328,2009,false,false,false,2,-0.13159837457677614,-0.14110096923490645]
[null,null,"1983-10-01",1983,false,false,false,3,29.16666666667,93.663345270459203,-2.4064690300386493E-2,-2.4358975811208092E-2,null,null,null,null,null,null,null,null,null,null,null,null,null,"1995-10-01",0.27168023586273188,{"$f":"YEAR(Z137)","v":1995},{"$f":"MOD(AB137,5)=0","v":true},{"$f":"MONTH(Z137)=1","v":false},{"$f":"AND(AD137,AC137)","v":false},3,-2.5166346447816457E-2,-2.5488434281478851E-2,null,null,null,null,null,null,null,null,null,null,null,null,null,"2009-11-01",57.889999389648438,{"$f":"YEAR(AV137)","v":2009},{"$f":"MOD(AX137,5)=0","v":false},{"$f":"MONTH(AV137)=1","v":false},{"$f":"AND(AZ137,AY137)","v":false},{"$f":"BA137+BB136","v":2},-1.4302744068366513E-2,-1.4406014192438088E-2]
[null,null,"1983-11-01",1983,false,false,false,3,28.813333511349999,92.613119311317888,{"$f":"J138/J137-1","v":-1.1212774390117253E-2},{"$f":"LN(J138/J137)","v":-1.1276111446019255E-2},null,null,null,null,null,null,null,null,null,null,null,null,null,"1995-11-01",0.2852407693862915,1995,true,false,false,{"$f":"AF137+AE138","v":3},{"$f":"AA138/AA137-1","v":4.991358123824341E-2},{"$f":"LN(AA138/AA137)","v":4.8707857199680973E-2},null,null,null,null,null,null,null,null,null,null,null,null,null,"2009-12-01",67.540000915527344,2009,false,false,false,2,{"$f":"AW138/AW137-1","v":0.16669548501678633},{"$f":"LN(AW138/AW137)","v":0.15417538096514238}]
[null,null,"1983-12-01",1983,false,false,false,3,29.043333053590001,94.271782437085292,1.7909591406718883E-2,1.7751104171442003E-2,null,null,null,null,null,null,null,null,null,null,null,null,null,"1995-12-01",0.23922258615493769,1995,true,false,false,3,-0.16133101635633651,-0.17593918714255913,null,null,null,null,null,null,null,null,null,null,null,null,null,"2010-01-01",62.909999847412109,2010,true,true,true,3,-6.8551984088747631E-2,-7.1014897356313486E-2]
[null,null,"1984-01-01",1984,false,true,false,3,29.203332901,94.966755376110555,7.3720144146958155E-3,7.3449739303349144E-3,null,null,null,null,null,null,null,null,null,null,null,null,null,"1996-01-01",0.20732660591602331,1996,false,true,false,3,-0.13333180930606714,-0.14309908514922001,null,null,null,null,null,null,null,null,null,null,null,null,null,"2010-02-01",70.879997253417969,2010,true,false,false,3,0.12668887975420517,0.11928313639063499]
[null,null,"1984-02-01",1984,false,false,false,3,29.533333460489999,95.245049393016984,2.9304361911097754E-3,2.9261508329125876E-3,null,null,null,null,null,null,null,null,null,null,null,null,null,"1996-02-01",0.2063885182142258,1996,false,false,false,3,-4.5246855687083309E-3,-4.5349529412505498E-3,null,null,null,null,null,null,null,null,null,null,null,null,null,"2010-03-01",73.970001220703125,2010,true,false,false,3,4.3594865787556891E-2,4.2671354555376351E-2]
[null,null,"1984-03-01",1984,false,false,false,3,29.573332468669999,95.031294332656401,-2.2442642606919083E-3,-2.2467863959931473E-3,null,null,null,null,null,null,null,null,null,null,null,null,null,"1996-03-01",0.18434226512908941,1996,false,false,false,3,-0.10681918391532308,-0.11296623698449472,null,null,null,null,null,null,null,null,null,null,null,null,null,"2010-04-01",71.19000244140625,2010,true,false,false,3,-3.7582786716499283E-2,-3.8307228692443102E-2]
[null,null,"1984-04-01",1984,false,false,false,3,29.460000356039998,93.955792826447862,-1.1317340395720077E-2,-1.1381868814545714E-2,null,null,null,null,null,null,null,null,null,null,null,null,null,"1996-04-01",0.1829351335763931,1996,false,false,false,3,-7.633255193598365E-3,-7.6625375945590241E-3,null,null,null,null,null,null,null,null,null,null,null,null,null,"2010-05-01",60.689998626708977,2010,true,false,false,3,-0.14749267389531873,-0.1595734761902102]
[null,null,"1984-05-01",1984,false,false,false,3,29.050000508629999,91.4396389808376,-2.6780188532473104E-2,-2.7145311243876931E-2,null,null,null,null,null,null,null,null,null,null,null,null,null,"1996-05-01",0.1960689574480057,1996,false,false,false,3,7.1794977896511902E-2,6.9334792395412514E-2,null,null,null,null,null,null,null,null,null,null,null,null,null,"2010-06-01",49.259998321533203,2010,true,false,false,3,-0.18833416648234291,-0.20866655860103564]
[null,null,"1984-06-01",1984,false,false,false,3,27.98666699727,87.099400856707589,-4.7465608706521278E-2,-4.8629066288239854E-2,null,null,null,null,null,null,null,null,null,null,null,null,null,"1996-06-01",0.1576056778430939,1996,false,false,false,3,-0.19617220444042827,-0.21837021737137211,null,null,null,null,null,null,null,null,null,null,null,null,null,"2010-07-01",57.529998779296882,2010,true,false,false,3,0.16788470847650405,0.1551941710378873]
[null,null,"1984-07-01",1984,false,false,false,3,28.170000076289998,87.423009294563187,3.7153922377488602E-3,3.7085072164421825E-3,null,null,null,null,null,null,null,null,null,null,null,null,null,"1996-07-01",0.16511103510856631,1996,false,false,false,3,4.7621109646471371E-2,4.6521983931860252E-2,null,null,null,null,null,null,null,null,null,null,null,null,null,"2010-08-01",42.840000152587891,2010,true,false,false,3,-0.25534501891898931,-0.29483428051529614]
[null,null,"1984-08-01",1984,false,false,false,3,28.353333155310001,87.892216859889714,5.3670946483388438E-3,5.3527431236162796E-3,null,null,null,null,null,null,null,null,null,null,null,null,null,"1996-08-01",0.1819970905780792,1996,false,false,false,3,0.10227090792816917,9.7372513484421289E-2,null,null,null,null,null,null,null,null,null,null,null,null,null,"2010-09-01",48.689998626708977,2010,true,false,false,3,0.1365545857442696,0.12800139284846643]
[null,null,"1984-09-01",1984,false,false,false,3,27.853333155310001,85.887872339871791,-2.2804573506355896E-2,-2.3068619824767805E-2,null,null,null,null,null,null,null,null,null,null,null,null,null,"1996-09-01",0.1665181368589401,1996,false,false,false,3,-8.5050555863135702E-2,-8.8886467542518735E-2,null,null,null,null,null,null,null,null,null,null,null,null,null,"2010-10-01",56.919998168945313,2010,true,false,false,3,0.16902854332227801,0.15617309906291202]
[null,null,"1984-10-01",1984,false,false,false,3,27.650000254310001,85.251440937705084,-7.4100264080154687E-3,-7.4376170363877649E-3,null,null,null,null,null,null,null,null,null,null,null,null,null,"1996-10-01",0.17261557281017301,1996,false,false,false,3,3.6617248224426913E-2,3.5962765863696726E-2,null,null,null,null,null,null,null,null,null,null,null,null,null,"2010-11-01",61.830001831054688,2010,true,false,false,3,8.6261486648961272E-2,8.274197213208237E-2]
[null,null,"1984-11-01",1984,false,false,false,3,26.813333511349999,82.761158966277677,-2.9211024987215284E-2,-2.9646161794110743E-2,null,null,null,null,null,null,null,null,null,null,null,null,null,"1996-11-01",0.18105897307395941,1996,false,false,false,3,4.8914475828155446E-2,4.7755796851343735E-2,null,null,null,null,null,null,null,null,null,null,null,null,null,"2010-12-01",58.130001068115227,2010,true,false,false,3,-5.984151145667771E-2,-6.1706813096963319E-2]
[null,null,"1984-12-01",1984,false,false,false,3,26.63333333333,82.402771401818129,-4.3303835873731433E-3,-4.3397868547019637E-3,null,null,null,null,null,null,null,null,null,null,null,null,null,"1996-12-01",0.15666753053665161,1996,false,false,false,3,-0.13471545830177845,-0.14469687620228669,null,null,null,null,null,null,null,null,null,null,null,null,null,"2011-01-01",59.110000610351563,2011,false,true,false,3,1.6858756652833984E-2,1.6718225074114128E-2]
[null,null,"1985-01-01",1985,true,true,true,4,27.6,85.975682934523817,4.3359118533564889E-2,4.2445429827983341E-2,null,null,null,null,null,null,null,null,null,null,null,null,null,"1997-01-01",0.1247715130448341,1997,false,true,false,3,-0.20359047840072764,-0.22764175106337453,null,null,null,null,null,null,null,null,null,null,null,null,null,"2011-02-01",66.199996948242188,2011,false,false,false,3,0.11994580045138759,0.11328029168193236]
[null,null,"1985-02-01",1985,true,false,false,4,27.85,85.424481895849269,-6.4111271915610057E-3,-6.43176672992296E-3,null,null,null,null,null,null,null,null,null,null,null,null,null,"1997-02-01",0.121956504881382,1997,false,false,false,3,-2.256130501872311E-2,-2.281970522104108E-2,null,null,null,null,null,null,null,null,null,null,null,null,null,"2011-03-01",56.540000915527337,2011,false,false,false,3,-0.14592139694911799,-0.15773204838589674]
[null,null,"1985-03-01",1985,true,false,false,4,27.8,84.559819603136006,-1.0121949510533468E-2,-1.0173524764714977E-2,null,null,null,null,null,null,null,null,null,null,null,null,null,"1997-03-01",0.13696642220020289,1997,false,false,false,3,0.12307598789765173,0.11607133855853558,null,null,null,null,null,null,null,null,null,null,null,null,null,"2011-04-01",48.650001525878913,2011,false,false,false,3,-0.13954721015014393,-0.15029652846157293]
[null,null,"1985-04-01",1985,true,false,false,4,26.65,80.528041689250443,-4.767959454984505E-2,-4.885374046769933E-2,null,null,null,null,null,null,null,null,null,null,null,null,null,"1997-04-01",0.1275857537984848,1997,false,false,false,3,-6.8488818288663711E-2,-7.0947085028283188E-2,null,null,null,null,null,null,null,null,null,null,null,null,null,"2011-05-01",42.849998474121087,2011,false,false,false,3,-0.11921896957541855,-0.12694623056241919]
[null,null,"1985-05-01",1985,true,false,false,4,26.36666666667,79.677494499896767,-1.0562124342174517E-2,-1.0618299480143345E-2,null,null,null,null,null,null,null,null,null,null,null,null,null,"1997-05-01",0.1247715130448341,1997,false,false,false,3,-2.2057640997251604E-2,-2.2304548309211424E-2,null,null,null,null,null,null,null,null,null,null,null,null,null,"2011-06-01",28.85000038146973,2011,false,false,false,3,-0.32672108730894223,-0.39559560325738247]
[null,null,"1985-06-01",1985,true,false,false,4,26.38333333333,79.883209043283358,2.5818400123871488E-3,2.5785127891373091E-3,null,null,null,null,null,null,null,null,null,null,null,null,null,"1997-06-01",0.1069465354084969,1997,false,false,false,3,-0.14286095600950321,-0.15415512851490745,null,null,null,null,null,null,null,null,null,null,null,null,null,"2011-07-01",25,2011,false,false,false,3,-0.13344888494152585,-0.14323418130842874]
[null,null,"1985-07-01",1985,true,false,false,4,27.016666666670002,81.297969256764901,1.7710357788893738E-2,1.7555356808541533E-2,null,null,null,null,null,null,null,null,null,null,null,null,null,"1997-07-01",0.13133804500103,1997,false,false,false,3,0.22807199409841927,0.20544545512242512,null,null,null,null,null,null,null,null,null,null,null,null,null,"2011-08-01",32.490001678466797,2011,false,false,false,3,0.29960006713867182,0.26205657647383473]
[null,null,"1985-08-01",1985,true,false,false,4,26.983333333329998,81.075084284486366,-2.7415810544368924E-3,-2.7453460707486379E-3,null,null,null,null,null,null,null,null,null,null,null,null,null,"1997-08-01",0.16323402523994451,1997,false,false,false,3,0.24285408115115747,0.21741041316059301,null,null,null,null,null,null,null,null,null,null,null,null,null,"2011-09-01",20.29999923706055,2011,false,false,false,3,-0.37519242264260455,-0.47031155287751863]
[null,null,"1985-09-01",1985,true,false,false,4,27.816666666669999,83.100157792652737,2.4977753967674543E-2,2.4670908908677128E-2,null,null,null,null,null,null,null,null,null,null,null,null,null,"1997-09-01",0.16276499629020691,1997,false,false,false,3,-2.8733528383445561E-3,-2.8774888413086001E-3,null,null,null,null,null,null,null,null,null,null,null,null,null,"2011-10-01",20.20000076293945,2011,false,false,false,3,-4.9260333930721822E-3,-4.9382062880787428E-3]
[null,null,"1985-10-01",1985,true,false,false,4,28.6,86.296599766679094,3.8464932665975837E-2,3.7743596470667433E-2,null,null,null,null,null,null,null,null,null,null,null,null,null,"1997-10-01",0.1278202086687088,1997,false,false,false,3,-0.2146947342362987,-0.24168276320713161,null,null,null,null,null,null,null,null,null,null,null,null,null,"2011-11-01",17.860000610351559,2011,false,false,false,3,-0.11584158733701855,-0.12311903255386626]
[null,null,"1985-11-01",1985,true,false,false,4,26.5,76.569930161412714,-0.11271208403997912,-0.119585754122323,null,null,null,null,null,null,null,null,null,null,null,null,null,"1997-11-01",0.133214145898819,1997,false,false,false,3,4.2199408734267418E-2,4.1333296168183202E-2,null,null,null,null,null,null,null,null,null,null,null,null,null,"2011-12-01",14.5,2011,false,false,false,3,-0.18812992696115149,-0.20841496019604319]
[null,null,"1985-12-01",1985,true,false,false,4,24.683333333330001,76.037113308134479,-6.9585652246910712E-3,-6.9828889441534104E-3,null,null,null,null,null,null,null,null,null,null,null,null,null,"1997-12-01",9.8503924906253815E-2,1997,false,false,false,3,-0.26055957314720057,-0.30186155876082499,null,null,null,null,null,null,null,null,null,null,null,null,null,"2012-01-01",16.629999160766602,2012,false,true,false,3,0.14689649384597248,0.1370595933132793]
[null,null,"1986-01-01",1986,false,true,false,4,15.91666666667,51.658960991783182,-0.32060859829805388,-0.38655787905851363,null,null,null,null,null,null,null,null,null,null,null,null,null,"1998-01-01",0.13743551075458529,1998,false,true,false,3,0.39522877779116583,0.33305840024366506,null,null,null,null,null,null,null,null,null,null,null,null,null,"2012-02-01",14.170000076293951,2012,false,false,false,3,-0.14792538837141178,-0.16008118365303059]
[null,null,"1986-02-01",1986,false,false,false,4,12.65,40.663878095835337,-0.2128397994240866,-0.23932349273369496,null,null,null,null,null,null,null,null,null,null,null,null,null,"1998-02-01",0.17730669677257541,1998,false,false,false,3,0.29010832643673123,0.25472618882992548,null,null,null,null,null,null,null,null,null,null,null,null,null,"2012-03-01",14.69999980926514,2012,false,false,false,3,3.7402944962425577E-2,3.672042172275243E-2]
[null,null,"1986-03-01",1986,false,false,false,4,11.9,36.632095447500632,-9.9148995057301903E-2,-0.10441540137162668,null,null,null,null,null,null,null,null,null,null,null,null,null,"1998-03-01",0.2063885182142258,1998,false,false,false,3,0.16401987049001621,0.15187942003125199,null,null,null,null,null,null,null,null,null,null,null,null,null,"2012-04-01",14.30000019073486,2012,false,false,false,3,-2.7210858756485656E-2,-2.758793020556637E-2]
[null,null,"1986-04-01",1986,false,false,false,4,13.716666666669999,41.559382261115154,0.13450736992853907,0.1261985214075266,null,null,null,null,null,null,null,null,null,null,null,null,null,"1998-04-01",0.20545049011707309,1998,false,false,false,3,-4.5449626038743807E-3,-4.5553223480940775E-3,null,null,null,null,null,null,null,null,null,null,null,null,null,"2012-05-01",10.329999923706049,2012,false,false,false,3,-0.27762239259276522,-0.32520727485808448]
[null,null,"1986-05-01",1986,false,false,false,4,11.85,34.638845589931414,-0.16652164432335437,-0.18214754512288892,null,null,null,null,null,null,null,null,null,null,null,null,null,"1998-05-01",0.1998211741447449,1998,false,false,false,3,-2.7399866357682545E-2,-2.7782243605184234E-2,null,null,null,null,null,null,null,null,null,null,null,null,null,"2012-06-01",7.3899998664855957,2012,false,false,false,3,-0.28460794568580039,-0.33492455885267064]
[null,null,"1986-06-01",1986,false,false,false,4,9.6166666666699996,27.58311948879604,-0.20369403139653952,-0.22777178432618234,null,null,null,null,null,null,null,null,null,null,null,null,null,"1998-06-01",0.215300127863884,1998,false,false,false,3,7.7464031454076876E-2,7.4610160957456609E-2,null,null,null,null,null,null,null,null,null,null,null,null,null,"2012-07-01",7.1500000953674316,2012,false,false,false,3,-3.2476288965387901E-2,-3.3015346849189942E-2]
[null,null,"1986-07-01",1986,false,false,false,4,13.7,39.790366919784006,0.44256225029030594,0.36642087291634368,null,null,null,null,null,null,null,null,null,null,null,null,null,"1998-07-01",0.25986182689666748,1998,false,false,false,3,0.20697479130600449,0.18811705648387317,null,null,null,null,null,null,null,null,null,null,null,null,null,"2012-08-01",6.690000057220459,2012,false,false,false,3,-6.4335668812789515E-2,-6.6498487350748578E-2]
[null,null,"1986-08-01",1986,false,false,false,4,14.08333333333,41.339802515445264,3.8939967524925567E-2,3.8200931357271144E-2,null,null,null,null,null,null,null,null,null,null,null,null,null,"1998-08-01",0.2340632081031799,1998,false,false,false,3,-9.9278216818456499E-2,-0.10455885576017876,null,null,null,null,null,null,null,null,null,null,null,null,null,"2012-09-01",7.5,2012,false,false,false,3,0.12107622359514258,0.11428913784899482]
[null,null,"1986-09-01",1986,false,false,false,4,13.95,40.117116667234242,-2.9576480142937456E-2,-3.0022684365447479E-2,null,null,null,null,null,null,null,null,null,null,null,null,null,"1998-09-01",0.28612932562828058,1998,false,false,false,3,0.22244468896687453,0.20085269714446477,null,null,null,null,null,null,null,null,null,null,null,null,null,"2012-10-01",7.929999828338623,2012,false,false,false,3,5.7333310445149666E-2,5.574999345740745E-2]
[null,null,"1986-10-01",{"$f":"YEAR(C173)","v":1986},{"$f":"MOD(D173,5)=0","v":false},{"$f":"MONTH(C173)=1","v":false},{"$f":"AND(F173,E173)","v":false},4,14.45,42.245921503085128,5.30647517245324E-2,5.1704723877135268E-2,null,null,null,null,null,null,null,null,null,null,null,null,null,"1998-10-01",0.27862399816513062,1998,false,false,false,3,-2.6230542593527639E-2,-2.6580700064622768E-2,null,null,null,null,null,null,null,null,null,null,null,null,null,"2012-11-01",11.60000038146973,2012,false,false,false,3,0.46279957535635807,0.38035211699796773]
[null,null,"1986-11-01",1986,false,false,false,{"$f":"H173+G174","v":4},15.683333333329999,46.11657413258709,9.1621924479012629E-2,8.7664594369124105E-2,null,null,null,null,null,null,null,null,null,null,null,null,null,"1998-11-01",0.23969163000583649,1998,false,false,false,3,-0.13973085023430143,-0.15050997385402923,null,null,null,null,null,null,null,null,null,null,null,null,null,"2012-12-01",11.86999988555908,2012,false,false,false,3,2.3275818552614735E-2,2.3009067982747194E-2]
[null,null,"1986-12-01",1986,false,false,false,4,18.066666666669999,53.319069239505254,0.15618018559250935,0.1451216279934506,null,null,null,null,null,null,null,null,null,null,null,null,null,"1998-12-01",0.30723682045936579,1998,false,false,false,3,0.28180037180223838,0.24826563015054556,null,null,null,null,null,null,null,null,null,null,null,null,null,"2013-01-01",12.97999954223633,2013,false,true,false,3,9.3513030107747808E-2,8.9395477028709508E-2]
[null,null,"1987-01-01",1987,false,true,false,4,17.25,50.0710063663036,-6.0917471357416209E-2,-6.2851913707763343E-2,null,null,null,null,null,null,null,null,null,null,null,null,null,"1999-01-01",0.30911368131637568,1999,false,true,false,3,6.1088409071663463E-3,6.0902575818680598E-3,null,null,null,null,null,null,null,null,null,null,null,null,null,"2013-02-01",13.35999965667725,2013,false,false,false,3,2.9275818786003605E-2,2.885546640159212E-2]
[null,null,"1987-02-01",1987,false,false,false,4,17.75,51.717744795673624,3.288806334993577E-2,3.2358823520587832E-2,null,null,null,null,null,null,null,null,null,null,null,null,null,"1999-02-01",0.2612689733505249,1999,false,false,false,3,-0.15478029882760846,-0.16815868403202072,null,null,null,null,null,null,null,null,null,null,null,null,null,"2013-03-01",14.44999980926514,2013,false,false,false,3,8.1586839865157801E-2,7.842925894810808E-2]
[null,null,"1987-03-01",1987,false,false,false,4,17.899999999999999,52.16554267036652,8.6584957728155221E-3,8.6212259773542996E-3,null,null,null,null,null,null,null,null,null,null,null,null,null,"1999-03-01",0.26971232891082758,1999,false,false,false,3,3.2316717335490353E-2,3.1805516619146143E-2,null,null,null,null,null,null,null,null,null,null,null,null,null,"2013-04-01",16.29000091552734,2013,false,false,false,3,0.1273357183771322,0.11985707745695649]
[null,null,"1987-04-01",1987,false,false,false,4,18.399999999999999,53.872267151004941,3.2717468146036488E-2,3.2193646576891714E-2,null,null,null,null,null,null,null,null,null,null,null,null,null,"1999-04-01",0.34523114562034612,1999,false,false,false,3,0.27999764421034912,0.24685823746916741,null,null,null,null,null,null,null,null,null,null,null,null,null,"2013-05-01",13.960000038146971,2013,false,false,false,3,-0.14303258111909944,-0.15435537874893579]
[null,null,"1987-05-01",1987,false,false,false,4,18.716666666670001,53.989061093296293,2.1679789707749197E-3,2.1656322954491775E-3,null,null,null,null,null,null,null,null,null,null,null,null,null,"1999-05-01",0.3306901752948761,1999,false,false,false,3,-4.2119520529763754E-2,-4.3032269263993242E-2,null,null,null,null,null,null,null,null,null,null,null,null,null,"2013-06-01",10.460000038146971,2013,false,false,false,3,-0.25071633169311824,-0.28863763778310259]
[null,null,"1987-06-01",1987,false,false,false,4,19.61666666667,56.540693634845766,4.7262028453136207E-2,4.6179166530429805E-2,null,null,null,null,null,null,null,null,null,null,null,null,null,"1999-06-01",0.34757634997367859,1999,false,false,false,3,5.1063430184296044E-2,4.9802442294715886E-2,null,null,null,null,null,null,null,null,null,null,null,null,null,"2013-07-01",8.8400001525878906,2013,false,false,false,3,-0.15487570551157182,-0.16827156837308926]
[null,null,"1987-07-01",1987,false,false,false,4,18.816666666669999,53.940025083108871,-4.5996403378647521E-2,-4.708783749761071E-2,null,null,null,null,null,null,null,null,null,null,null,null,null,"1999-07-01",0.41793644428253168,1999,false,false,false,3,0.20243061506970017,0.18434502076729961,null,null,null,null,null,null,null,null,null,null,null,null,null,"2013-08-01",10.11999988555908,2013,false,false,false,3,0.14479634738427838,0.13522675864030267]
[null,null,"1987-08-01",1987,false,false,false,4,18.283333333329999,52.049877927045308,-3.5041643995368799E-2,-3.5670332973674911E-2,null,null,null,null,null,null,null,null,null,null,null,null,null,"1999-08-01",0.48970276117324829,1999,false,false,false,3,0.17171586223813828,0.15846922339852687,null,null,null,null,null,null,null,null,null,null,null,null,null,"2013-09-01",7.9499998092651367,2013,false,false,false,3,-0.21442688743410609,-0.24134174787649459]
[null,null,"1987-09-01",1987,false,false,false,4,18.566666666669999,53.137176677333628,2.0889554281228184E-2,2.0674359267852948E-2,null,null,null,null,null,null,null,null,null,null,null,null,null,"1999-09-01",0.47516191005706793,1999,false,false,false,3,-2.9693218558422774E-2,-3.0142987959973722E-2,null,null,null,null,null,null,null,null,null,null,null,null,null,"2013-10-01",7.929999828338623,2013,false,false,false,3,-2.5157209316162277E-3,-2.5188906747612206E-3]
[null,null,"1987-10-01",1987,false,false,false,4,17.75,50.125203111812098,-5.6682980802898575E-2,-5.8352871299857063E-2,null,null,null,null,null,null,null,null,null,null,null,null,null,"1999-10-01",0.60134071111679077,1999,false,false,false,3,0.26554906525350175,0.23550607168843177,null,null,null,null,null,null,null,null,null,null,null,null,null,"2013-11-01",6.3299999237060547,2013,false,false,false,3,-0.20176544000856267,-0.22535278989634355]
[null,null,"1987-11-01",1987,false,false,false,4,16.63333333333,47.976569605963022,-4.2865332656233157E-2,-4.3811179201512292E-2,null,null,null,null,null,null,null,null,null,null,null,null,null,"1999-11-01",0.73455482721328735,1999,false,false,false,3,0.22152851725121958,0.20010295753501264,null,null,null,null,null,null,null,null,null,null,null,null,null,"2013-12-01",7.440000057220459,2013,false,false,false,3,0.17535547344280644,0.16157063243259354]
[null,null,"1987-12-01",1987,false,false,false,4,16.466666666670001,47.104531935533551,-1.8176323934612548E-2,-1.8343542691329786E-2,null,null,null,null,null,null,null,null,null,null,null,null,null,"1999-12-01",0.77161109447479248,1999,false,false,false,3,5.0447244900815758E-2,4.9216021004123429E-2,null,null,null,null,null,null,null,null,null,null,null,null,null,"2014-01-01",9.4499998092651367,2014,false,true,false,3,0.27016125491746323,0.23914386478614535]
[null,null,"1988-01-01",1988,false,true,false,4,15.85,43.884144003691276,-6.8366838593145185E-2,-7.0816145419504775E-2,null,null,null,null,null,null,null,null,null,null,null,null,null,"2000-01-01",0.77864664793014526,2000,true,true,true,4,9.1180045306913371E-3,9.0766864961483642E-3,null,null,null,null,null,null,null,null,null,null,null,null,null,"2014-02-01",10,2014,false,false,false,3,5.8201079559347946E-2,5.6570371671977905E-2]
[null,null,"1988-02-01",1988,false,false,false,4,14.783333333330001,40.965627431586093,-6.6505035893139275E-2,-6.8819710651374988E-2,null,null,null,null,null,null,null,null,null,null,null,null,null,"2000-02-01",0.86026418209075928,2000,true,false,false,4,0.10481973354354723,9.9682184596754667E-2,null,null,null,null,null,null,null,null,null,null,null,null,null,"2014-03-01",8.0799999237060547,2014,false,false,false,3,-0.19200000762939451,-0.21319322990336165]
[null,null,"1988-03-01",1988,false,false,false,4,16.466666666670001,45.956010417881153,0.12181878563020088,0.11495128392282762,null,null,null,null,null,null,null,null,null,null,null,null,null,"2000-03-01",1.019277095794678,2000,true,false,false,4,0.18484195554609584,0.16960939484523568,null,null,null,null,null,null,null,null,null,null,null,null,null,"2014-04-01",7.6599998474121094,2014,false,false,false,3,-5.1980207952935675E-2,-5.3379899258274403E-2]
[null,null,"1988-04-01",1988,false,false,false,4,16.216666666670001,45.257649819706458,-1.5196284268900961E-2,-1.5312931037066756E-2,null,null,null,null,null,null,null,null,null,null,null,null,null,"2000-04-01",0.93109279870986938,2000,true,false,false,4,-8.6516510033079697E-2,-9.0489976707893438E-2,null,null,null,null,null,null,null,null,null,null,null,null,null,"2014-05-01",7.5999999046325684,2014,false,false,false,3,-7.8328908583218393E-3,-7.8637290884705224E-3]
[null,null,"1988-05-01",1988,false,false,false,4,15.33333333333,42.775714365546392,-5.484013120538489E-2,-5.6401192468952963E-2,null,null,null,null,null,null,null,null,null,null,null,null,null,"2000-05-01",0.63042271137237549,2000,true,false,false,4,-0.32292171924657254,-0.38996838387190297,null,null,null,null,null,null,null,null,null,null,null,null,null,"2014-06-01",10.239999771118161,2014,false,false,false,3,0.34736840784384548,0.29815336251568036]
[null,null,"1988-06-01",1988,false,false,false,4,14.48333333333,40.855070780205608,-4.4900327529953876E-2,-4.5939574868897826E-2,null,null,null,null,null,null,null,null,null,null,null,null,null,"2000-06-01",0.7861519455909729,2000,true,false,false,4,0.24702351518965493,0.22075952392960746,null,null,null,null,null,null,null,null,null,null,null,null,null,"2014-07-01",9.3299999237060547,2014,false,false,false,3,-8.886717458517468E-2,-9.3066590577638705E-2]
[null,null,"1988-07-01",1988,false,false,false,4,14.55,40.85415359787514,-2.2449657116063726E-5,-2.2449909113387548E-5,null,null,null,null,null,null,null,null,null,null,null,null,null,"2000-07-01",0.76269841194152832,2000,true,false,false,4,-2.9833334104151898E-2,-3.028740173297834E-2,null,null,null,null,null,null,null,null,null,null,null,null,null,"2014-08-01",10.180000305175779,2014,false,false,false,3,9.1104007333377091E-2,8.7190034418369894E-2]
[null,null,"1988-08-01",1988,false,false,false,4,13.1,36.2259614757048,-0.11328571796457576,-0.12023246577266672,null,null,null,null,null,null,null,null,null,null,null,null,null,"2000-08-01",0.91467577219009399,2000,true,false,false,4,0.19926272019066027,0.18170696813191081,null,null,null,null,null,null,null,null,null,null,null,null,null,"2014-09-01",9.9399995803833008,2014,false,false,false,3,-2.3575708997813694E-2,-2.3858062646828555E-2]
[null,null,"1988-09-01",1988,false,false,false,4,12.183333333329999,33.795409767395597,-6.7094194585815781E-2,-6.9451042058719589E-2,null,null,null,null,null,null,null,null,null,null,null,null,null,"2000-09-01",0.38650870323181152,2000,true,false,false,4,-0.57743638239552642,-0.86141526930829537,null,null,null,null,null,null,null,null,null,null,null,null,null,"2014-10-01",10.5,2014,false,false,false,3,5.6338072762283309E-2,5.4808278709955659E-2]
[null,null,"1988-10-01",1988,false,false,false,4,12.533333333330001,35.166201008276047,4.0561462349923305E-2,3.9760435121329901E-2,null,null,null,null,null,null,null,null,null,null,null,null,null,"2000-10-01",0.29363399744033808,2000,true,false,false,4,-0.24029136993526157,-0.27482030070499913,null,null,null,null,null,null,null,null,null,null,null,null,null,"2014-11-01",10.39000034332275,2014,false,false,false,3,-1.0476157778785633E-2,-1.0531419008766573E-2]
[null,null,"1988-11-01",1988,false,false,false,4,14.65,40.840377712949461,0.16135313289422548,0.14958581916724956,null,null,null,null,null,null,null,null,null,null,null,null,null,"2000-11-01",0.24766610562801361,2000,true,false,false,4,-0.15654826148550605,-0.17025259438344928,null,null,null,null,null,null,null,null,null,null,null,null,null,"2014-12-01",10.97999954223633,2014,false,false,false,3,5.6785291570538687E-2,5.5231556235992289E-2]
[null,null,"1988-12-01",1988,false,false,false,4,16.483333333329998,45.662631434892958,0.11807563964851586,0.11160902865945939,null,null,null,null,null,null,null,null,null,null,null,null,null,"2000-12-01",0.22327463328838351,2000,true,false,false,4,-9.8485306569423336E-2,-0.10367893760239813,null,null,null,null,null,null,null,null,null,null,null,null,null,"2015-01-01",10.14999961853027,2015,true,true,true,4,-7.5591981631085825E-2,-7.8601726486132312E-2]
[null,null,"1989-01-01",1989,false,true,false,4,16.350000000000001,44.552835883491234,-2.4304239955686757E-2,-2.4604462430289954E-2,null,null,null,null,null,null,null,null,null,null,null,null,null,"2001-01-01",0.32459279894828802,2001,false,true,false,4,0.45378269876740118,0.3741689173010655,null,null,null,null,null,null,null,null,null,null,null,null,null,"2015-02-01",10.810000419616699,2015,true,false,false,4,6.5024711910481647E-2,6.2998002564001163E-2]
[null,null,"1989-02-01",1989,false,false,false,4,18.033333333329999,49.842110419957955,0.11871914394626959,0.1121844093964199,null,null,null,null,null,null,null,null,null,null,null,null,null,"2001-02-01",0.27393370866775513,{"$f":"YEAR(Z201)","v":2001},{"$f":"MOD(AB201,5)=0","v":false},{"$f":"MONTH(Z201)=1","v":false},{"$f":"AND(AD201,AC201)","v":false},4,-0.15606966773345943,-0.16968533250107215,null,null,null,null,null,null,null,null,null,null,null,null,null,"2015-03-01",8.9300003051757813,{"$f":"YEAR(AV201)","v":2015},{"$f":"MOD(AX201,5)=0","v":true},{"$f":"MONTH(AV201)=1","v":false},{"$f":"AND(AZ201,AY201)","v":false},{"$f":"BA201+BB200","v":4},-0.17391304731397772,-0.19105524140594543]
[null,null,"1989-03-01",1989,false,false,false,4,19.2,52.428029930653985,{"$f":"J202/J201-1","v":5.1882223463406207E-2},{"$f":"LN(J202/J201)","v":5.0581153165408739E-2},null,null,null,null,null,null,null,null,null,null,null,null,null,"2001-03-01",0.33127188682556152,2001,false,false,false,{"$f":"AF201+AE202","v":4},{"$f":"AA202/AA201-1","v":0.20931406520454887},{"$f":"LN(AA202/AA201)","v":0.19005331060604491},null,null,null,null,null,null,null,null,null,null,null,null,null,"2015-04-01",10.159999847412109,2015,true,false,false,4,{"$f":"AW202/AW201-1","v":0.13773790595767688},{"$f":"LN(AW202/AW201)","v":0.12904199806921576}]
[null,null,"1989-04-01",1989,false,false,false,4,18.016666666670002,48.509196090629786,-7.4746921545738032E-2,-7.7687980561977371E-2,null,null,null,null,null,null,null,null,null,null,null,null,null,"2001-04-01",0.38260674476623541,2001,false,false,false,4,0.154962917114984,0.14406823706438232,null,null,null,null,null,null,null,null,null,null,null,null,null,"2015-05-01",9.8000001907348633,2015,true,false,false,4,-3.5433037606682927E-2,-3.6076021992575348E-2]
[null,null,"1989-05-01",1989,false,false,false,4,17.63333333333,46.061261293644769,-5.046331405722615E-2,-5.178111235899862E-2,null,null,null,null,null,null,null,null,null,null,null,null,null,"2001-05-01",0.2994505763053894,2001,false,false,false,4,-0.21734109395183987,-0.24505830236279941,null,null,null,null,null,null,null,null,null,null,null,null,null,"2015-06-01",8.1800003051757813,2015,true,false,false,4,-0.16530610755402497,-0.18069021721705955]
[null,null,"1989-06-01",1989,false,false,false,4,17.66666666667,46.523457952632825,1.0034389984275638E-2,9.9843797628791971E-3,null,null,null,null,null,null,null,null,null,null,null,null,null,"2001-06-01",0.34898415207862848,2001,false,false,false,4,0.16541486205965139,0.15307712839964105,null,null,null,null,null,null,null,null,null,null,null,null,null,"2015-07-01",7.7399997711181641,2015,true,false,false,4,-5.3789794332796403E-2,-5.5290529891869021E-2]
[null,null,"1989-07-01",1989,false,false,false,4,16.88333333333,44.638669092650304,-4.0512656258300694E-2,-4.1356154093811777E-2,null,null,null,null,null,null,null,null,null,null,null,null,null,"2001-07-01",0.28203922510147089,2001,false,false,false,4,-0.19182798582233174,-0.21298035428490594,null,null,null,null,null,null,null,null,null,null,null,null,null,"2015-08-01",7.5900001525878906,2015,true,false,false,4,-1.9379796248831571E-2,-1.9570046518993859E-2]
[null,null,"1989-08-01",1989,false,false,false,4,17.66666666667,46.288261790225285,3.6954343198520423E-2,3.6287900504292162E-2,null,null,null,null,null,null,null,null,null,null,null,null,null,"2001-08-01",0.27843654155731201,2001,false,false,false,4,-1.277369678938356E-2,-1.2855981928858182E-2,null,null,null,null,null,null,null,null,null,null,null,null,null,"2015-09-01",6.130000114440918,2015,true,false,false,4,-0.19235836743022594,-0.21363684289423335]
[null,null,"1989-09-01",1989,false,false,false,4,18.41666666667,49.234179511685205,6.3642867706084738E-2,6.1699683923988363E-2,null,null,null,null,null,null,null,null,null,null,null,null,null,"2001-09-01",0.2328057736158371,2001,false,false,false,4,-0.16388211003577091,-0.17898565913573283,null,null,null,null,null,null,null,null,null,null,null,null,null,"2015-10-01",7.2899999618530273,2015,true,false,false,4,0.18923325053117179,0.17330877217067459]
[null,null,"1989-10-01",1989,false,false,false,4,18.36666666667,49.441478676524071,4.2104726207463639E-3,4.2016333837919173E-3,null,null,null,null,null,null,null,null,null,null,null,null,null,"2001-10-01",0.2635762095451355,2001,false,false,false,4,0.1321721340986759,0.12413803014537399,null,null,null,null,null,null,null,null,null,null,null,null,null,"2015-11-01",7.940000057220459,2015,true,false,false,4,8.9163250859909393E-2,8.5409741677865345E-2]
[null,null,"1989-11-01",1989,false,false,false,4,19.350000000000001,51.0547916930959,3.2630759834815892E-2,3.210968174220008E-2,null,null,null,null,null,null,null,null,null,null,null,null,null,"2001-11-01",0.31971409916877752,2001,false,false,false,4,0.21298541974073282,0.19308460989027645,null,null,null,null,null,null,null,null,null,null,null,null,null,"2015-12-01",9.2799997329711914,2015,true,false,false,4,0.1687657010193806,0.15594823555780149]
[null,null,"1989-12-01",1989,false,false,false,4,20.350000000000001,53.6804343772205,5.1427938437356602E-2,5.014918165560233E-2,null,null,null,null,null,null,null,null,null,null,null,null,null,"2001-12-01",0.3287198543548584,2001,false,false,false,4,2.8168151512538486E-2,2.7778725166863968E-2,null,null,null,null,null,null,null,null,null,null,null,null,null,"2016-01-01",7.119999885559082,2016,false,true,false,4,-0.23275861094454353,-0.26495380867273105]
[null,null,"1990-01-01",1990,true,true,true,5,19.600000000000001,50.774964706134931,-5.4125301048579377E-2,-5.5645172242728032E-2,null,null,null,null,null,null,null,null,null,null,null,null,null,"2002-01-01",0.37104904651641851,2002,false,true,false,4,0.12876980687593353,0.12112837321497512,null,null,null,null,null,null,null,null,null,null,null,null,null,"2016-02-01",7.809999942779541,2016,false,false,false,4,9.6910121953784012E-2,9.2497247174309669E-2]
[null,null,"1990-02-01",1990,true,false,false,5,18.216666666670001,46.87449026275079,-7.6818850903363822E-2,-7.99298025262066E-2,null,null,null,null,null,null,null,null,null,null,null,null,null,"2002-02-01",0.32571828365325928,2002,false,false,false,4,-0.1221691937730216,-0.1303014075306673,null,null,null,null,null,null,null,null,null,null,null,null,null,"2016-03-01",8.0900001525878906,2016,false,false,false,4,3.5851499597924219E-2,3.5223793406665475E-2]
[null,null,"1990-03-01",1990,true,false,false,5,16.55,42.374929751551569,-9.5991668090198656E-2,-0.10091670191805219,null,null,null,null,null,null,null,null,null,null,null,null,null,"2002-03-01",0.35528844594955439,2002,false,false,false,4,9.0784471674834721E-2,8.689713616632723E-2,null,null,null,null,null,null,null,null,null,null,null,null,null,"2016-04-01",7.059999942779541,2016,false,false,false,4,-0.12731769967629303,-0.13618370653142711]
[null,null,"1990-04-01",1990,true,false,false,5,16.58333333333,42.086655221707595,-6.8029500351778349E-3,-6.8261955852972657E-3,null,null,null,null,null,null,null,null,null,null,null,null,null,"2002-04-01",0.36429420113563538,2002,false,false,false,4,2.5347728834839822E-2,2.5031802702647019E-2,null,null,null,null,null,null,null,null,null,null,null,null,null,"2016-05-01",7.2699999809265137,2016,false,false,false,4,2.9745048137251873E-2,2.9311245521570013E-2]
[null,null,"1990-05-01",1990,true,false,false,5,15.26666666667,39.425974590817603,-6.3219103938619847E-2,-6.5305859667687455E-2,null,null,null,null,null,null,null,null,null,null,null,null,null,"2002-05-01",0.34973400831222529,2002,false,false,false,4,-3.9968225620997444E-2,-4.0788896756531155E-2,null,null,null,null,null,null,null,null,null,null,null,null,null,"2016-06-01",6.7100000381469727,2016,false,false,false,4,-7.7028878163514447E-2,-8.0157332253156535E-2]
[null,null,"1990-06-01",1990,true,false,false,5,17.16666666667,43.904273188616003,0.11358751798215305,0.10758680182664501,null,null,null,null,null,null,null,null,null,null,null,null,null,"2002-06-01",0.26597863435745239,2002,false,false,false,4,-0.239483069887788,-0.27375690571307582,null,null,null,null,null,null,null,null,null,null,null,null,null,"2016-07-01",7.5999999046325684,2016,false,false,false,4,0.13263783329744627,0.12454927807525593]
[null,null,"1990-07-01",1990,true,false,false,5,26.4,67.405009328677295,0.53527218271215626,0.42870768304801943,null,null,null,null,null,null,null,null,null,null,null,null,null,"2002-07-01",0.22905351221561429,2002,false,false,false,4,-0.13882739954297951,-0.14946032953797458,null,null,null,null,null,null,null,null,null,null,null,null,null,"2016-08-01",7.5900001525878906,2016,false,false,false,4,-1.3157568644944773E-3,-1.316623232594277E-3]
[null,null,"1990-08-01",1990,true,false,false,5,32.700000000000003,84.586514298743808,0.25489952662548898,0.22705551091315135,null,null,null,null,null,null,null,null,null,null,null,null,null,"2002-08-01",0.22139853239059451,2002,false,false,false,4,-3.3420049974234534E-2,-3.3991262569481047E-2,null,null,null,null,null,null,null,null,null,null,null,null,null,"2016-09-01",7.9800000190734863,2016,false,false,false,4,5.1383380585654059E-2,5.0106802340533857E-2]
[null,null,"1990-09-01",1990,true,false,false,5,34.5,88.979223105443339,5.1931550119033165E-2,5.0628045771831789E-2,null,null,null,null,null,null,null,null,null,null,null,null,null,"2002-09-01",0.21764624118804929,2002,false,false,false,4,-1.6948130423581009E-2,-1.7093393618310981E-2,null,null,null,null,null,null,null,null,null,null,null,null,null,"2016-10-01",7.0500001907348633,2016,false,false,false,4,-0.11654133159345537,-0.12391076997311118]
[null,null,"1990-10-01",1990,true,false,false,5,31.08333333333,81.038173646822727,-8.9246109164273113E-2,-9.3482570979913679E-2,null,null,null,null,null,null,null,null,null,null,null,null,null,"2002-10-01",0.24121147394180301,2002,false,false,false,4,0.10827309778069183,0.10280303609576397,null,null,null,null,null,null,null,null,null,null,null,null,null,"2016-11-01",7.7100000381469727,2016,false,false,false,4,9.3616997100153698E-2,8.949054864419724E-2]
[null,null,"1990-11-01",1990,true,false,false,5,26.13333333333,68.411829457394475,-0.155807363631563,-0.1693745682867572,null,null,null,null,null,null,null,null,null,null,null,null,null,"2002-11-01",0.23265616595745089,2002,false,false,false,4,-3.5468080537562896E-2,-3.6112352873499516E-2,null,null,null,null,null,null,null,null,null,null,null,null,null,"2016-12-01",6.8899998664855957,2016,false,false,false,4,-0.10635540435852664,-0.11244712687539551]
[null,null,"1990-12-01",1990,true,false,false,5,22.58333333333,57.498859772225799,-0.15951875241057623,-0.17378063740029842,null,null,null,null,null,null,null,null,null,null,null,null,null,"2002-12-01",0.2150942534208298,2002,false,false,false,4,-7.5484406202382281E-2,-7.8485361020174671E-2,null,null,null,null,null,null,null,null,null,null,null,null,null,"2017-01-01",7.059999942779541,2017,false,true,false,4,2.4673451319042972E-2,2.4373977752700452E-2]
[null,null,"1991-01-01",1991,false,true,false,5,18.13333333333,46.950495660870089,-0.18345344852300849,-0.2026713547528641,null,null,null,null,null,null,null,null,null,null,null,null,null,"2003-01-01",0.2155447453260422,2003,false,true,false,4,2.0943930302546043E-3,2.0922028467089786E-3,null,null,null,null,null,null,null,null,null,null,null,null,null,"2017-02-01",6.9600000381469727,2017,false,false,false,4,-1.4164292555673641E-2,-1.4265563573054692E-2]
[null,null,"1991-02-01",1991,false,false,false,5,18.066666666669999,46.868896708164556,-1.7379785145387183E-3,-1.7394905513762114E-3,null,null,null,null,null,null,null,null,null,null,null,null,null,"2003-02-01",0.22530126571655271,2003,false,false,false,4,4.5264478035650368E-2,4.4269942424479208E-2,null,null,null,null,null,null,null,null,null,null,null,null,null,"2017-03-01",7.75,2017,false,false,false,4,0.11350574102343769,0.1075133635380404]
[null,null,"1991-03-01",1991,false,false,false,5,18.466666666670001,46.202583088004879,-1.4216541607722677E-2,-1.4318564733691206E-2,null,null,null,null,null,null,null,null,null,null,null,null,null,"2003-03-01",0.21224227547645569,2003,false,false,false,4,-5.7962347430956296E-2,-5.9710034324499478E-2,null,null,null,null,null,null,null,null,null,null,null,null,null,"2017-04-01",9.3400001525878906,2017,false,false,false,4,0.20516131001134075,0.18661342521252877]
[null,null,"1991-04-01",1991,false,false,false,5,18.816666666669999,46.138752786811544,-1.3815310081636278E-3,-1.3824862019814973E-3,null,null,null,null,null,null,null,null,null,null,null,null,null,"2003-04-01",0.21344345808029169,2003,false,false,false,4,5.6594879655313957E-3,5.6435332322909036E-3,null,null,null,null,null,null,null,null,null,null,null,null,null,"2017-05-01",10.569999694824221,2017,false,false,false,4,0.13169159765972016,0.12371350243248068]
[null,null,"1991-05-01",1991,false,false,false,5,17.933333333330001,43.334138300151153,-6.0786525800109459E-2,-6.2712483546254472E-2,null,null,null,null,null,null,null,null,null,null,null,null,null,"2003-05-01",0.26943078637123108,2003,false,false,false,4,0.26230519686332321,0.23293957074778368,null,null,null,null,null,null,null,null,null,null,null,null,null,"2017-06-01",9.9899997711181641,2017,false,false,false,4,-5.4872274404138666E-2,-5.6435201260897919E-2]
[null,null,"1991-06-01",1991,false,false,false,5,19.05,46.133623775161077,6.4602310899076087E-2,6.2601312427727915E-2,null,null,null,null,null,null,null,null,null,null,null,null,null,"2003-06-01",0.28609153628349299,2003,false,false,false,4,6.1836845509206873E-2,6.0000281553508526E-2,null,null,null,null,null,null,null,null,null,null,null,null,null,"2017-07-01",9.380000114440918,2017,false,false,false,4,-6.1061028093393976E-2,-6.3004794530709618E-2]
[null,null,"1991-07-01",1991,false,false,false,5,19.36666666667,46.67562092999858,1.1748419276122801E-2,1.1679942406541599E-2,null,null,null,null,null,null,null,null,null,null,null,null,null,"2003-07-01",0.31641232967376709,2003,false,false,false,4,0.10598283956302956,0.10073438721397626,null,null,null,null,null,null,null,null,null,null,null,null,null,"2017-08-01",9.2700004577636719,2017,false,false,false,4,-1.1727042146609024E-2,-1.1796346259700594E-2]
[null,null,"1991-08-01",1991,false,false,false,5,20.05,48.29779432474286,3.4754189926624157E-2,3.416390085486247E-2,null,null,null,null,null,null,null,null,null,null,null,null,null,"2003-08-01",0.33937743306159968,2003,false,false,false,4,7.2579672895523695E-2,7.0066656142959718E-2,null,null,null,null,null,null,null,null,null,null,null,null,null,"2017-09-01",11.180000305175779,2017,false,false,false,4,0.20604096581381204,0.18734306606457704]
[null,null,"1991-09-01",1991,false,false,false,5,21.466666666670001,52.157825697759691,7.9921483516677716E-2,7.6888338045802071E-2,null,null,null,null,null,null,null,null,null,null,null,null,null,"2003-09-01",0.31100845336914063,2003,false,false,false,4,-8.3591237745350822E-2,-8.7292766843697037E-2,null,null,null,null,null,null,null,null,null,null,null,null,null,"2017-10-01",10.939999580383301,2017,false,false,false,4,-2.1466969431241489E-2,-2.1700736385887921E-2]
[null,null,"1991-10-01",1991,false,false,false,5,20.766666666670002,49.806189481850943,-4.5086929611211857E-2,-4.613496841540618E-2,null,null,null,null,null,null,null,null,null,null,null,null,null,"2003-10-01",0.34358018636703491,2003,false,false,false,4,0.10472941376688039,9.960043056396739E-2,null,null,null,null,null,null,null,null,null,null,null,null,null,"2017-11-01",10.77000045776367,2017,false,false,false,4,-1.5539225698368297E-2,-1.5661224965759342E-2]
[null,null,"1991-11-01",1991,false,false,false,5,17.75,43.020565313055265,-0.13624058052600707,-0.1464609986352709,null,null,null,null,null,null,null,null,null,null,null,null,null,"2003-11-01",0.31386047601699829,2003,false,false,false,4,-8.650007052003883E-2,-9.047198036171282E-2,null,null,null,null,null,null,null,null,null,null,null,null,null,"2017-12-01",11.170000076293951,2017,false,false,false,4,3.7140167272874836E-2,3.6467086239477753E-2]
[null,null,"1991-12-01",1991,false,false,false,5,17.38333333333,42.329444900340775,-1.6064884496177378E-2,-1.6195323632625467E-2,null,null,null,null,null,null,null,null,null,null,null,null,null,"2003-12-01",0.3207646906375885,2003,false,false,false,4,2.1997719203791233E-2,2.1759260080188039E-2,null,null,null,null,null,null,null,null,null,null,null,null,null,"2018-01-01",12.659999847412109,2018,false,true,false,4,0.13339299560797491,0.12521578475190953]
[null,null,"1992-01-01",1992,false,true,false,5,17.61666666667,42.122628833168449,-4.8858676899554698E-3,-4.8978425625152916E-3,null,null,null,null,null,null,null,null,null,null,null,null,null,"2004-01-01",0.3386266827583313,2004,false,true,false,4,5.5685655691211755E-2,5.4190466435373744E-2,null,null,null,null,null,null,null,null,null,null,null,null,null,"2018-02-01",12.14000034332275,2018,false,false,false,4,-4.1074210928656152E-2,-4.1941590751629884E-2]
[null,null,"1992-02-01",{"$f":"YEAR(C237)","v":1992},{"$f":"MOD(D237,5)=0","v":false},{"$f":"MONTH(C237)=1","v":false},{"$f":"AND(F237,E237)","v":false},5,17.45,40.864242116095852,-2.9874363303785789E-2,-3.0329693504774987E-2,null,null,null,null,null,null,null,null,null,null,null,null,null,"2004-02-01",0.35904070734977722,2004,false,false,false,4,6.0284749049190678E-2,5.8537503227562938E-2,null,null,null,null,null,null,null,null,null,null,null,null,null,"2018-03-01",11.5,2018,false,false,false,4,-5.2718313445086817E-2,-5.4158778542439868E-2]
[null,null,"1992-03-01",1992,false,false,false,{"$f":"H237+G238","v":5},18.63333333333,43.8838999551106,7.3894869515403139E-2,7.1292104438275342E-2,null,null,null,null,null,null,null,null,null,null,null,null,null,"2004-03-01",0.40587174892425543,2004,false,false,false,4,0.13043379376159558,0.12260144734259201,null,null,null,null,null,null,null,null,null,null,null,null,null,"2018-04-01",10.47000026702881,2018,false,false,false,4,-8.9565194171407847E-2,-9.3832984982574905E-2]
[null,null,"1992-04-01",1992,false,false,false,5,19.5,45.963802745834926,4.7395577714193227E-2,4.6306680698707019E-2,null,null,null,null,null,null,null,null,null,null,null,null,null,"2004-04-01",0.38695922493934631,2004,false,false,false,4,-4.6597290979320194E-2,-4.7717894784066399E-2,null,null,null,null,null,null,null,null,null,null,null,null,null,"2018-05-01",11.829999923706049,2018,false,false,false,4,0.1298949018139024,0.12212462115447309]
[null,null,"1992-05-01",1992,false,false,false,5,20.83333333333,48.729862699751642,6.0179092866013306E-2,5.8437849386571823E-2,null,null,null,null,null,null,null,null,null,null,null,null,null,"2004-05-01",0.42118182778358459,2004,false,false,false,4,8.8439816493850243E-2,8.474530985048663E-2,null,null,null,null,null,null,null,null,null,null,null,null,null,"2018-06-01",9.6499996185302734,2018,false,false,false,4,-0.18427728818554678,-0.20368079572075046]
[null,null,"1992-06-01",1992,false,false,false,5,20.16666666667,46.538146765945825,-4.497685428153253E-2,-4.6019702440686296E-2,null,null,null,null,null,null,null,null,null,null,null,null,null,"2004-06-01",0.48842686414718628,2004,false,false,false,4,0.15965797175407603,0.14812510970475334,null,null,null,null,null,null,null,null,null,null,null,null,null,"2018-07-01",9.8100004196166992,2018,false,false,false,4,1.6580394550398392E-2,1.6444440531301851E-2]
[null,null,"1992-07-01",1992,false,false,false,5,19.61666666667,45.271639490314918,-2.7214389992806343E-2,-2.7591560224221188E-2,null,null,null,null,null,null,null,null,null,null,null,null,null,"2004-07-01",0.48542508482933039,2004,false,false,false,4,-6.1458112528210984E-3,-6.164774487027385E-3,null,null,null,null,null,null,null,null,null,null,null,null,null,"2018-08-01",10.670000076293951,2018,false,false,false,4,8.7665608551610319E-2,8.4033756112331284E-2]
[null,null,"1992-08-01",1992,false,false,false,5,20.149999999999999,46.298024348236346,2.2671696220345705E-2,2.2418512902067478E-2,null,null,null,null,null,null,null,null,null,null,null,null,null,"2004-08-01",0.51769697666168213,2004,false,false,false,4,6.6481714359071908E-2,6.4365113314933636E-2,null,null,null,null,null,null,null,null,null,null,null,null,null,"2018-09-01",11.38000011444092,2018,false,false,false,4,6.6541708816329814E-2,6.4421366290519269E-2]
[null,null,"1992-09-01",1992,false,false,false,5,20.08333333333,46.298593575959991,1.2294859913719591E-5,1.2294784332548948E-5,null,null,null,null,null,null,null,null,null,null,null,null,null,"2004-09-01",0.58163934946060181,2004,false,false,false,4,0.12351312772047796,0.11646049723940351,null,null,null,null,null,null,null,null,null,null,null,null,null,"2018-10-01",9.25,2018,false,false,false,4,-0.18717048269076952,-0.20723388723017078]
[null,null,"1992-10-01",1992,false,false,false,5,18.88333333333,43.67492801119824,-5.6668364244309544E-2,-5.8337376566854234E-2,null,null,null,null,null,null,null,null,null,null,null,null,null,"2004-10-01",0.78652685880661011,2004,false,false,false,4,0.35225867977470227,0.30177629051360016,null,null,null,null,null,null,null,null,null,null,null,null,null,"2018-11-01",8.7899999618530273,2018,false,false,false,4,-4.972973385372681E-2,-5.1008844167063111E-2]
[null,null,"1992-11-01",1992,false,false,false,5,17.933333333330001,41.183286842807291,-5.7049691478646358E-2,-5.874169283642193E-2,null,null,null,null,null,null,null,null,null,null,null,null,null,"2004-11-01",1.0064239501953121,2004,false,false,false,4,0.27957988837450487,0.24653181185069292,null,null,null,null,null,null,null,null,null,null,null,null,null,"2018-12-01",7.1100001335144043,2018,false,false,false,4,-0.19112626116376696,-0.21211244476372423]
[null,null,"1992-12-01",1992,false,false,false,5,17.216666666670001,39.387532944692452,-4.3603948003690496E-2,-4.4583171390270987E-2,null,null,null,null,null,null,null,null,null,null,null,null,null,"2004-12-01",0.9666474461555481,2004,false,false,false,4,-3.9522612743908447E-2,-4.0324839730417873E-2,null,null,null,null,null,null,null,null,null,null,null,null,null,"2019-01-01",8.0699996948242188,2019,false,true,false,4,0.13502103281048683,0.12665118187222818]
[null,null,"1993-01-01",1993,false,true,false,5,18.16666666667,41.652916384913283,5.751524075909642E-2,5.5922043899782573E-2,null,null,null,null,null,null,null,null,null,null,null,null,null,"2005-01-01",1.1542732715606689,2005,true,true,true,5,0.19409954079052016,0.17739237899178181,null,null,null,null,null,null,null,null,null,null,null,null,null,"2019-02-01",8.6999998092651367,2019,false,false,false,4,7.8066931631357583E-2,7.5169559271215616E-2]
[null,null,"1993-02-01",1993,false,false,false,5,18.466666666670001,42.217639706195129,1.3557833887626325E-2,1.346674881182809E-2,null,null,null,null,null,null,null,null,null,null,null,null,null,"2005-02-01",1.346702575683594,2005,true,false,false,5,0.16671035262104383,0.15418812422995976,null,null,null,null,null,null,null,null,null,null,null,null,null,"2019-03-01",10.090000152587891,2019,false,false,false,4,0.15977015790764293,0.14822184575121211]
[null,null,"1993-03-01",1993,false,false,false,5,18.433333333330001,41.886226447449218,-7.8501133898605246E-3,-7.8810877378959823E-3,null,null,null,null,null,null,null,null,null,null,null,null,null,"2005-03-01",1.250937938690186,2005,true,false,false,5,-7.1110458034727708E-2,-7.3765447167194728E-2,null,null,null,null,null,null,null,null,null,null,null,null,null,"2019-04-01",9.1800003051757813,2019,false,false,false,4,-9.0188288766151481E-2,-9.4517611612254651E-2]
[null,null,"1993-04-01",1993,false,false,false,5,18.16666666667,41.439557092893835,-1.066387193212015E-2,-1.072113850051023E-2,null,null,null,null,null,null,null,null,null,null,null,null,null,"2005-04-01",1.082525491714478,2005,true,false,false,5,-0.13462893862827985,-0.14459689134866566,null,null,null,null,null,null,null,null,null,null,null,null,null,"2019-05-01",7.8499999046325684,2019,false,false,false,4,-0.14488021310776478,-0.15651371823034813]
[null,null,"1993-05-01",1993,false,false,false,5,17.466666666670001,39.431262452419247,-4.8463226476399224E-2,-4.967694504361185E-2,null,null,null,null,null,null,null,null,null,null,null,null,null,"2005-05-01",1.193599939346313,2005,true,false,false,5,0.10260677321872391,9.76771701064411E-2,null,null,null,null,null,null,null,null,null,null,null,null,null,"2019-06-01",7.4600000381469727,2019,false,false,false,4,-4.9681512257782612E-2,-5.0958100316394847E-2]
[null,null,"1993-06-01",1993,false,false,false,5,16.316666666669999,37.440099054884904,-5.0497074496081207E-2,-5.1816667635102523E-2,null,null,null,null,null,null,null,null,null,null,null,null,null,"2005-06-01",1.1050406694412229,2005,true,false,false,5,-7.4195102551354419E-2,-7.7091760434986376E-2,null,null,null,null,null,null,null,null,null,null,null,null,null,"2019-07-01",7.3000001907348633,2019,false,false,false,4,-2.144770061581025E-2,-2.1681045046796105E-2]
[null,null,"1993-07-01",1993,false,false,false,5,16.483333333329998,37.132421589378268,-8.2178592811840145E-3,-8.2518120273066525E-3,null,null,null,null,null,null,null,null,null,null,null,null,null,"2005-07-01",1.280357718467712,2005,true,false,false,5,0.15865212374051363,0.14725736722402807,null,null,null,null,null,null,null,null,null,null,null,null,null,"2019-08-01",6.869999885559082,2019,false,false,false,4,-5.890414985489123E-2,-6.0710284706217352E-2]
[null,null,"1993-08-01",1993,false,false,false,5,15.9,35.495120396693373,-4.409357436449135E-2,-4.5095251855811792E-2,null,null,null,null,null,null,null,null,null,null,null,null,null,"2005-08-01",1.4076435565948491,2005,true,false,false,5,9.9414277971837661E-2,9.477756341833965E-2,null,null,null,null,null,null,null,null,null,null,null,null,null,"2019-09-01",5.25,2019,false,false,false,4,-0.23580784753204487,-0.26893601297265873]
[null,null,"1993-09-01",1993,false,false,false,5,16.516666666670002,36.744836698156242,3.5208115580283694E-2,3.4602484359236609E-2,null,null,null,null,null,null,null,null,null,null,null,null,null,"2005-09-01",1.609378457069397,2005,true,false,false,5,0.14331390892915641,0.13393098309062917,null,null,null,null,null,null,null,null,null,null,null,null,null,"2019-10-01",5.2600002288818359,2019,false,false,false,4,1.9048055013020093E-3,1.9029936597421166E-3]
[null,null,"1993-10-01",1993,false,false,false,5,15.2,33.459459633309123,-8.941057737812641E-2,-9.3663171982574844E-2,null,null,null,null,null,null,null,null,null,null,null,null,null,"2005-10-01",1.728858590126038,2005,true,false,false,5,7.4239923202531699E-2,7.16133633194833E-2,null,null,null,null,null,null,null,null,null,null,null,null,null,"2019-11-01",5.570000171661377,2019,false,false,false,4,5.8935347773823255E-2,5.7264014494836257E-2]
[null,null,"1993-11-01",1993,false,false,false,5,13.76666666667,29.970185675637541,-0.10428363147257724,-0.11013146910346513,null,null,null,null,null,null,null,null,null,null,null,null,null,"2005-11-01",2.0359649658203121,2005,true,false,false,5,0.17763533550299515,0.16350847491372189,null,null,null,null,null,null,null,null,null,null,null,null,null,"2019-12-01",6.4200000762939453,2019,false,false,false,4,0.15260320977315822,0.14202304482755101]
[null,null,"1993-12-01",1993,false,false,false,5,14.13333333333,31.331712222588635,4.5429366427244489E-2,4.4427677993819206E-2,null,null,null,null,null,null,null,null,null,null,null,null,null,"2005-12-01",2.1581470966339111,2005,true,false,false,5,6.001190239753007E-2,5.8280136737849812E-2,null,null,null,null,null,null,null,null,null,null,null,null,null,"2020-01-01",6.0999999046325684,2020,true,true,true,5,-4.9844262906317938E-2,-5.1129374040401535E-2]
[null,null,"1994-01-01",1994,false,true,false,5,13.783333333330001,30.279313916478955,-3.3588917791443018E-2,-3.4165984350205382E-2,null,null,null,null,null,null,null,null,null,null,null,null,null,"2006-01-01",2.2668194770812988,2006,false,true,false,5,5.0354482610052598E-2,4.9127709680300072E-2,null,null,null,null,null,null,null,null,null,null,null,null,null,"2020-02-01",5.1700000762939453,2020,true,false,false,5,-0.15245899063577795,-0.16541605226787323]
[null,null,"1994-02-01",1994,false,false,false,5,13.61666666667,30.545127699027773,8.7787254124060965E-3,8.7404164418409969E-3,null,null,null,null,null,null,null,null,null,null,null,null,null,"2006-02-01",2.056078195571899,2006,false,false,false,5,-9.296782723110586E-2,-9.7577357865570077E-2,null,null,null,null,null,null,null,null,null,null,null,null,null,"2020-03-01",4.130000114440918,2020,true,false,false,5,-0.2011605312390129,-0.22459526859478063]
[null,null,"1994-03-01",1994,false,false,false,5,15.08333333333,33.104288342087749,8.378294136715736E-2,8.0457644375847889E-2,null,null,null,null,null,null,null,null,null,null,null,null,null,"2006-03-01",1.8828620910644529,2006,false,false,false,5,-8.4245873955813178E-2,-8.8007371688606034E-2,null,null,null,null,null,null,null,null,null,null,null,null,null,"2020-04-01",4.2800002098083496,2020,true,false,false,5,3.631963467578192E-2,3.5675623931740286E-2]
[null,null,"1994-04-01",1994,false,false,false,5,16.283333333329999,35.329871286263867,6.7229445356980611E-2,6.5065987025147376E-2,null,null,null,null,null,null,null,null,null,null,null,null,null,"2006-04-01",2.1131167411804199,2006,false,false,false,5,0.12228970523581761,0.11537097808150661,null,null,null,null,null,null,null,null,null,null,null,null,null,"2020-05-01",4.6399998664855957,2020,true,false,false,5,8.4112065193886032E-2,8.0761278849160664E-2]
[null,null,"1994-05-01",1994,false,false,false,5,17.16666666667,36.46052815933902,3.2002858541823942E-2,3.1501436960402973E-2,null,null,null,null,null,null,null,null,null,null,null,null,null,"2006-05-01",1.794303417205811,2006,false,false,false,5,-0.15087350251956022,-0.16354710791510582,null,null,null,null,null,null,null,null,null,null,null,null,null,"2020-06-01",4.8899998664855957,2020,true,false,false,5,5.3879311895186355E-2,5.2477938719713832E-2]
[null,null,"1994-06-01",1994,false,false,false,5,17.88333333333,38.232227488430375,4.8592256298337633E-2,4.744855632866294E-2,null,null,null,null,null,null,null,null,null,null,null,null,null,"2006-06-01",1.7192519903182979,{"$f":"YEAR(Z265)","v":2006},{"$f":"MOD(AB265,5)=0","v":false},{"$f":"MONTH(Z265)=1","v":false},{"$f":"AND(AD265,AC265)","v":false},5,-4.1827611856409042E-2,-4.2727571329455913E-2,null,null,null,null,null,null,null,null,null,null,null,null,null,"2020-07-01",4.7399997711181641,{"$f":"YEAR(AV265)","v":2020},{"$f":"MOD(AX265,5)=0","v":true},{"$f":"MONTH(AV265)=1","v":false},{"$f":"AND(AZ265,AY265)","v":false},{"$f":"BA265+BB264","v":5},-3.0674866965842207E-2,-3.1155188763544357E-2]
[null,null,"1994-07-01",1994,false,false,false,5,17,36.411395441429121,{"$f":"J266/J265-1","v":-4.7625580998445938E-2},{"$f":"LN(J266/J265)","v":-4.8797024241330478E-2},null,null,null,null,null,null,null,null,null,null,null,null,null,"2006-07-01",2.0401673316955571,2006,false,false,false,{"$f":"AF265+AE266","v":5},{"$f":"AA266/AA265-1","v":0.18665986323380412},{"$f":"LN(AA266/AA265)","v":0.17114252294945403},null,null,null,null,null,null,null,null,null,null,null,null,null,"2020-08-01",5.2199997901916504,2020,true,false,false,5,{"$f":"AW266/AW265-1","v":0.10126583169860681},{"$f":"LN(AW266/AW265)","v":9.6460274281699412E-2}]
[null,null,"1994-08-01",1994,false,false,false,5,16.2,34.378771768026319,-5.5823833411505874E-2,-5.7442513098621889E-2,null,null,null,null,null,null,null,null,null,null,null,null,null,"2006-08-01",2.0368647575378418,2006,false,false,false,5,-1.6187761201775785E-3,-1.6200877539265803E-3,null,null,null,null,null,null,null,null,null,null,null,null,null,"2020-09-01",4.5900001525878906,2020,true,false,false,5,-0.12068959059874396,-0.12861730438537369]
[null,null,"1994-09-01",1994,false,false,false,5,16.466666666670001,35.373672304581902,2.8939385713624644E-2,2.8528549104858705E-2,null,null,null,null,null,null,null,null,null,null,null,null,null,"2006-09-01",2.310949563980103,2006,false,false,false,5,0.13456210356036324,0.12624676464773965,null,null,null,null,null,null,null,null,null,null,null,null,null,"2020-10-01",4.4899997711181641,2020,true,false,false,5,-2.178657475933754E-2,-2.2027406537750822E-2]
[null,null,"1994-10-01",1994,false,false,false,5,17.08333333333,37.019704148661326,4.6532681987507818E-2,4.5482492218004753E-2,null,null,null,null,null,null,null,null,null,null,null,null,null,"2006-10-01",2.434029340744019,2006,false,false,false,5,5.3259395480677707E-2,5.188954230307187E-2,null,null,null,null,null,null,null,null,null,null,null,null,null,"2020-11-01",5.869999885559082,2020,true,false,false,5,0.30734970707966225,0.26800196356585587]
[null,null,"1994-11-01",1994,false,false,false,5,15.94,34.275360197213963,-7.4131979564904249E-2,-7.7023581021802803E-2,null,null,null,null,null,null,null,null,null,null,null,null,null,"2006-11-01",2.751643180847168,2006,false,false,false,5,0.13048891185759603,0.12265020451228593,null,null,null,null,null,null,null,null,null,null,null,null,null,"2020-12-01",6.630000114440918,2020,true,false,false,5,0.1294719324870055,0.12175020711473708]
[null,null,"1994-12-01",1994,false,false,false,5,16.899999999999999,35.635760652679728,3.9690332869976475E-2,3.8922911959115271E-2,null,null,null,null,null,null,null,null,null,null,null,null,null,"2006-12-01",2.546906709671021,2006,false,false,false,5,-7.4405167283758566E-2,-7.7318685749798735E-2,null,null,null,null,null,null,null,null,null,null,null,null,null,"2021-01-01",14.10000038146973,2021,false,true,false,5,1.1266968534070272,0.75457000297986843]
[null,null,"1995-01-01",1995,true,true,true,6,17.41666666667,36.515788501216456,2.4695076867134347E-2,2.4395082349355224E-2,null,null,null,null,null,null,null,null,null,null,null,null,null,"2007-01-01",2.573624849319458,2007,false,true,false,5,1.0490427288515791E-2,1.04357845742286E-2,null,null,null,null,null,null,null,null,null,null,null,null,null,"2021-02-01",10.05000019073486,2021,false,false,false,5,-0.28723404830948762,-0.33860217095503542]
[null,null,"1995-02-01",1995,true,false,false,6,17.34666666667,36.280689854951895,-6.4382738512336335E-3,-6.4590889265280504E-3,null,null,null,null,null,null,null,null,null,null,null,null,null,"2007-02-01",2.540002584457397,2007,false,false,false,5,-1.3064167013677852E-2,-1.3150253833951032E-2,null,null,null,null,null,null,null,null,null,null,null,null,null,"2021-03-01",8.4300003051757813,2021,false,false,false,5,-0.1611940154043543,-0.17577584526875387]
[null,null,"1995-03-01",1995,true,false,false,6,18.646666666670001,39.728060950475694,9.5019447240562105E-2,9.0772123147799574E-2,null,null,null,null,null,null,null,null,null,null,null,null,null,"2007-03-01",2.7891683578491211,2007,false,false,false,5,9.8096661364205584E-2,9.3578373241902268E-2,null,null,null,null,null,null,null,null,null,null,null,null,null,"2021-04-01",8.8299999237060547,2021,false,false,false,5,4.744953784695416E-2,4.6358197760633969E-2]
[null,null,"1995-04-01",1995,true,false,false,6,18.42333333333,39.013076574021959,-1.7996961325271399E-2,-1.8160876259008012E-2,null,null,null,null,null,null,null,null,null,null,null,null,null,"2007-04-01",2.9960088729858398,2007,false,false,false,5,7.4158490488621664E-2,7.1537555486606411E-2,null,null,null,null,null,null,null,null,null,null,null,null,null,"2021-05-01",10.069999694824221,2021,false,false,false,5,0.14043032636830688,0.13140567044947293]
[null,null,"1995-05-01",1995,true,false,false,6,17.363333333330001,36.730678664144058,-5.8503407326704004E-2,-6.0284549932056501E-2,null,null,null,null,null,null,null,null,null,null,null,null,null,"2007-05-01",3.6381373405456539,2007,false,false,false,5,0.21432795922258574,0.19419080378381304,null,null,null,null,null,null,null,null,null,null,null,null,null,"2021-06-01",12.22000026702881,2021,false,false,false,5,0.21350552506070564,0.1935132991702033]
[null,null,"1995-06-01",1995,true,false,false,6,16.08333333333,33.492583295717502,-8.8157787609504101E-2,-9.2288316605953907E-2,null,null,null,null,null,null,null,null,null,null,null,null,null,"2007-06-01",3.663655281066895,2007,false,false,false,5,7.0140124279678417E-3,6.9895286624203946E-3,null,null,null,null,null,null,null,null,null,null,null,null,null,"2021-07-01",10.159999847412109,2021,false,false,false,5,-0.16857613540114702,-0.18461554846339134]
[null,null,"1995-07-01",1995,true,false,false,6,16.466666666670001,33.85906892195753,1.0942291999521236E-2,1.0882858290034452E-2,null,null,null,null,null,null,null,null,null,null,null,null,null,"2007-07-01",3.955450057983398,2007,false,false,false,5,7.9645805767929456E-2,7.6633029723978924E-2,null,null,null,null,null,null,null,null,null,null,null,null,null,"2021-08-01",11.409999847412109,2021,false,false,false,5,0.12303149791073986,0.11603172336896982]
[null,null,"1995-08-01",1995,true,false,false,6,16.82,35.278977520971331,4.1935843017023799E-2,4.1080370434666433E-2,null,null,null,null,null,null,null,null,null,null,null,null,null,"2007-08-01",4.1571841239929199,2007,false,false,false,5,5.1001545475806598E-2,4.9743562374995144E-2,null,null,null,null,null,null,null,null,null,null,null,null,null,"2021-09-01",9.7299995422363281,2021,false,false,false,5,-0.14723929251908097,-0.15927630134952581]
[null,null,"1995-09-01",1995,true,false,false,6,16.123333333329999,33.820502558784291,-4.1341191402728739E-2,-4.2220045716404066E-2,null,null,null,null,null,null,null,null,null,null,null,null,null,"2007-09-01",4.6071877479553223,2007,false,false,false,5,0.10824721988262098,0.10277968607468291,null,null,null,null,null,null,null,null,null,null,null,null,null,"2021-10-01",10.80000019073486,2021,false,false,false,5,0.10996923934619263,0.10433230263952251]
[null,null,"1995-10-01",1995,true,false,false,6,16.74333333333,35.333343743956725,4.4731481519026062E-2,4.3759896913871964E-2,null,null,null,null,null,null,null,null,null,null,null,null,null,"2007-10-01",5.7023205757141113,2007,false,false,false,5,0.23770093333939135,0.2132555726553314,null,null,null,null,null,null,null,null,null,null,null,null,null,"2021-11-01",9.5200004577636719,2021,false,false,false,5,-0.11851849170051665,-0.12615125490311691]
[null,null,"1995-11-01",1995,true,false,false,6,17.86666666667,37.51352232677862,6.1703149258122147E-2,5.987436327404045E-2,null,null,null,null,null,null,null,null,null,null,null,null,null,"2007-11-01",5.4702663421630859,2007,false,false,false,5,-4.0694701476330919E-2,-4.1545903850577062E-2,null,null,null,null,null,null,null,null,null,null,null,null,null,"2021-12-01",9.3500003814697266,2021,false,false,false,5,-1.7857150012562051E-2,-1.8018512788196064E-2]
[null,null,"1995-12-01",1995,true,false,false,6,17.8,37.393553288826688,-3.1980211537292469E-3,-3.2031457520116033E-3,null,null,null,null,null,null,null,null,null,null,null,null,null,"2007-12-01",5.9463834762573242,2007,false,false,false,5,8.7037285629856465E-2,8.345590895820422E-2,null,null,null,null,null,null,null,null,null,null,null,null,null,"2022-01-01",8.2299995422363281,2022,false,true,false,5,-0.11978618112712269,-0.12759042503186452]
[null,null,"1996-01-01",1996,false,true,false,6,17.696666666670001,37.372172737352436,-5.7177105660721761E-4,-5.7193458001274222E-4,null,null,null,null,null,null,null,null,null,null,null,null,null,"2008-01-01",4.0635242462158203,2008,false,true,false,5,-0.31663938889231924,-0.38073257762035578,null,null,null,null,null,null,null,null,null,null,null,null,null,"2022-02-01",6.869999885559082,2022,false,false,false,5,-0.16524905617524432,-0.18062186949144041]
[null,null,"1996-02-01",1996,false,false,false,6,19.399999999999999,41.482623650966893,0.10998693981487939,0.10434824932248256,null,null,null,null,null,null,null,null,null,null,null,null,null,"2008-02-01",3.7531144618988042,2008,false,false,false,5,-7.6389302858494545E-2,-7.9464619562040636E-2,null,null,null,null,null,null,null,null,null,null,null,null,null,"2022-03-01",7.4600000381469727,2022,false,false,false,5,8.588066410715478E-2,8.2391329753013595E-2]
[null,null,"1996-03-01",1996,false,false,false,6,20.66,43.497661917567243,4.8575477856820148E-2,4.7432555279967994E-2,null,null,null,null,null,null,null,null,null,null,null,null,null,"2008-03-01",4.307887077331543,2008,false,false,false,5,0.14781659900456745,0.13786152817020902,null,null,null,null,null,null,null,null,null,null,null,null,null,"2022-04-01",5.7199997901916504,2022,false,false,false,5,-0.23324399987369571,-0.26558665061728026]
[null,null,"1996-04-01",1996,false,false,false,6,19.06333333333,39.490653033307758,-9.2120098129715555E-2,-9.6643175791532504E-2,null,null,null,null,null,null,null,null,null,null,null,null,null,"2008-04-01",5.2219986915588379,2008,false,false,false,5,0.2121948876137969,0.1924326730816705,null,null,null,null,null,null,null,null,null,null,null,null,null,"2022-05-01",6.0500001907348633,2022,false,false,false,5,5.7692379833488738E-2,5.6089534857248775E-2]
[null,null,"1996-05-01",1996,false,false,false,6,18.513333333329999,37.645541581571734,-4.6722738420653442E-2,-4.7849482091269067E-2,null,null,null,null,null,null,null,null,null,null,null,null,null,"2008-05-01",5.6662960052490234,2008,false,false,false,5,8.5081850826269845E-2,8.1655422696636046E-2,null,null,null,null,null,null,null,null,null,null,null,null,null,"2022-06-01",5.3899998664855957,2022,false,false,false,5,-0.10909095924658152,-0.11551294341902923]
[null,null,"1996-06-01",1996,false,false,false,6,19.586666666669998,40.315247761035188,7.0916928467575246E-2,6.8515224001288219E-2,null,null,null,null,null,null,null,null,null,null,null,null,null,"2008-06-01",5.0265684127807617,2008,false,false,false,5,-0.11290048946889542,-0.11979811521867829,null,null,null,null,null,null,null,null,null,null,null,null,null,"2022-07-01",6.130000114440918,2022,false,false,false,5,0.13729132955207657,0.1286494084669674]
[null,null,"1996-07-01",1996,false,false,false,6,20.440000000000001,42.207013738710728,4.6924329695027689E-2,4.5856655823852358E-2,null,null,null,null,null,null,null,null,null,null,null,null,null,"2008-07-01",4.7716970443725586,2008,false,false,false,5,-5.0704844235314961E-2,-5.2035511062544955E-2,null,null,null,null,null,null,null,null,null,null,null,null,null,"2022-08-01",5.940000057220459,2022,false,false,false,5,-3.0995114791737333E-2,-3.1485625609483994E-2]
[null,null,"1996-08-01",1996,false,false,false,6,22.25666666667,46.219869655614993,9.5075570656253827E-2,9.0823375185035748E-2,null,null,null,null,null,null,null,null,null,null,null,null,null,"2008-08-01",5.0893106460571289,2008,false,false,false,5,6.6561979675374472E-2,6.4440372266791904E-2,null,null,null,null,null,null,null,null,null,null,null,null,null,"2022-09-01",4.6999998092651367,2022,false,false,false,5,-0.20875424848658386,-0.2341466748735011]
[null,null,"1996-09-01",1996,false,false,false,6,23.61,49.351243025213755,6.7749506714983809E-2,6.5553168753833449E-2,null,null,null,null,null,null,null,null,null,null,null,null,null,"2008-09-01",3.4120874404907231,2008,false,false,false,5,-0.32955803294613395,-0.39981813175288006,null,null,null,null,null,null,null,null,null,null,null,null,null,"2022-10-01",4.6599998474121094,2022,false,false,false,5,-8.5106305268726201E-3,-8.5470527407548458E-3]
[null,null,"1996-10-01",1996,false,false,false,6,22.39,46.094697366196932,-6.5987105073585295E-2,-6.8265034717533188E-2,null,null,null,null,null,null,null,null,null,null,null,null,null,"2008-10-01",3.229864120483398,2008,false,false,false,5,-5.3405231602481451E-2,-5.4884188255117615E-2,null,null,null,null,null,null,null,null,null,null,null,null,null,"2022-11-01",4.869999885559082,2022,false,false,false,5,4.5064387344045498E-2,4.4078498201964821E-2]
[null,null,"1996-11-01",1996,false,false,false,6,23.623333333329999,48.530315633972791,5.2839445900386695E-2,5.1490748497571986E-2,null,null,null,null,null,null,null,null,null,null,null,null,null,"2008-11-01",2.7819643020629878,2008,false,false,false,5,-0.13867450818747606,-0.14928280672202357,null,null,null,null,null,null,null,null,null,null,null,null,null,"2022-12-01",3.2599999904632568,2022,false,false,false,5,-0.33059546877401935,-0.40136672114210148]
[null,null,"1996-12-01",1996,false,false,false,6,23.226666666669999,47.527547454830014,-2.0662717026320054E-2,-2.0879177935775178E-2,null,null,null,null,null,null,null,null,null,null,null,null,null,"2008-12-01",2.5622167587280269,2008,false,false,false,5,-7.8990065822198141E-2,-8.2284456489885846E-2,null,null,null,null,null,null,null,null,null,null,null,null,null,"2023-01-01",4.25,2023,false,true,false,5,0.30368098540885602,0.26519179048309049]
[null,null,"1997-01-01",1997,false,true,false,6,20.420000000000002,42.076183876961622,-0.1146990297163839,-0.12182761237158977,null,null,null,null,null,null,null,null,null,null,null,null,null,"2009-01-01",2.7057135105133061,2009,false,true,false,5,5.6004922806186075E-2,5.4492847021486081E-2,null,null,null,null,null,null,null,null,null,null,null,null,null,"2023-02-01",3.880000114440918,2023,false,false,false,5,-8.7058796602137001E-2,-9.1083799806061932E-2]
[null,null,"1997-02-01",1997,false,false,false,6,19.329999999999998,38.707279639227451,-8.0066772395173902E-2,-8.3454190263418077E-2,null,null,null,null,null,null,null,null,null,null,null,null,null,"2009-02-01",2.6810963153839111,2009,false,false,false,5,-9.0982267833392694E-3,-9.1398684177636143E-3,null,null,null,null,null,null,null,null,null,null,null,null,null,"2023-03-01",4.559999942779541,2023,false,false,false,5,0.17525768254690033,0.16148742784768483]
[null,null,"1997-03-01",1997,false,false,false,6,17.88,35.121434242102126,-9.2640077797957465E-2,-9.721608045742694E-2,null,null,null,null,null,null,null,null,null,null,null,null,null,"2009-03-01",3.1557145118713379,2009,false,false,false,5,0.17702392628124031,0.16298915626289293,null,null,null,null,null,null,null,null,null,null,null,null,null,"2023-04-01",3.910000085830688,2023,false,false,false,5,-0.1425438300669466,-0.15378521502909162]
[null,null,"1997-04-01",1997,false,false,false,6,19.367433333329998,38.404846374879774,9.3487415979203625E-2,8.9372053047620539E-2,null,null,null,null,null,null,null,null,null,null,null,null,null,"2009-04-01",3.7774310111999512,2009,false,false,false,5,0.19701291006832422,0.17982921187132891,null,null,null,null,null,null,null,null,null,null,null,null,null,"2023-05-01",5.3499999046325684,2023,false,false,false,5,0.36828639058608847,0.31355914713337008]
[null,null,"1997-05-01",1997,false,false,false,6,17.920000000000002,35.145079705551993,-8.4879044626512634E-2,-8.8699030778150445E-2,null,null,null,null,null,null,null,null,null,null,null,null,null,"2009-05-01",4.077033519744873,2009,false,false,false,5,7.9313826687134936E-2,7.6325493558484697E-2,null,null,null,null,null,null,null,null,null,null,null,null,null,"2023-06-01",5.5300002098083496,2023,false,false,false,5,3.3644917455029955E-2,3.3091310392042834E-2]
[null,null,"1997-06-01",{"$f":"YEAR(C301)","v":1997},{"$f":"MOD(D301,5)=0","v":false},{"$f":"MONTH(C301)=1","v":false},{"$f":"AND(F301,E301)","v":false},6,18.329999999999998,36.777583553392574,4.6450423829389909E-2,4.5403888470146835E-2,null,null,null,null,null,null,null,null,null,null,null,null,null,"2009-06-01",4.2757644653320313,2009,false,false,false,5,4.8744005813225133E-2,4.7593263229405242E-2,null,null,null,null,null,null,null,null,null,null,null,null,null,"2023-07-01",5.0999999046325684,2023,false,false,false,5,-7.7757737587985321E-2,-8.0947332443486286E-2]
[null,null,"1997-07-01",1997,false,false,false,{"$f":"H301+G302","v":6},18.7,37.328557420228584,1.4981241658689193E-2,1.4870131198528425E-2,null,null,null,null,null,null,null,null,null,null,null,null,null,"2009-07-01",4.9049887657165527,2009,false,false,false,5,0.14716065524335642,0.13728989393909971,null,null,null,null,null,null,null,null,null,null,null,null,null,"2023-08-01",5.559999942779541,2023,false,false,false,5,9.0196087597792518E-2,8.6357576940257974E-2]
[null,null,"1997-08-01",1997,false,false,false,6,18.661746031749999,36.742385218462445,-1.5703049950933523E-2,-1.5827648950708911E-2,null,null,null,null,null,null,null,null,null,null,null,null,null,"2009-08-01",5.0496845245361328,2009,false,false,false,5,2.9499712584651006E-2,2.9072968306115912E-2,null,null,null,null,null,null,null,null,null,null,null,null,null,"2023-09-01",4.7100000381469727,2023,false,false,false,5,-0.15287768226264375,-0.16591018184357018]
[null,null,"1997-09-01",1997,false,false,false,6,20.04,39.460263735152814,7.3971205204301116E-2,7.1363184930516993E-2,null,null,null,null,null,null,null,null,null,null,null,null,null,"2009-09-01",5.5642280578613281,2009,false,false,false,5,0.10189617407286677,9.7032490387286008E-2,null,null,null,null,null,null,null,null,null,null,null,null,null,"2023-10-01",3.5799999237060551,2023,false,false,false,5,-0.23991509666430633,-0.27432513702602035]
[null,null,"1997-10-01",1997,false,false,false,6,19.086666666669998,37.705644633493741,-4.4465468184288537E-2,-4.5484375907004757E-2,null,null,null,null,null,null,null,null,null,null,null,null,null,"2009-10-01",5.6587910652160636,2009,false,false,false,5,1.6994811566203527E-2,1.6852015348594533E-2,null,null,null,null,null,null,null,null,null,null,null,null,null,"2023-11-01",3.6700000762939449,2023,false,false,false,5,2.5139707962541058E-2,2.482890375356853E-2]
[null,null,"1997-11-01",1997,false,false,false,6,17.09,33.685726018282608,-0.10661317832609762,-0.11273562092968145,null,null,null,null,null,null,null,null,null,null,null,null,null,"2009-11-01",6.001319408416748,2009,false,false,false,5,6.0530303955939724E-2,5.8769069773168495E-2,null,null,null,null,null,null,null,null,null,null,null,null,null,"2023-12-01",3.5399999618530269,2023,false,false,false,5,-3.5422373770682691E-2,-3.6064966485317637E-2]
[null,null,"1997-12-01",1997,false,false,false,6,15,29.859002720493692,-0.11360073687329753,-0.12058779429959131,null,null,null,null,null,null,null,null,null,null,null,null,null,"2009-12-01",6.3261370658874512,2009,false,false,false,5,5.4124374219301163E-2,5.2710445263068603E-2,null,null,null,null,null,null,null,null,null,null,null,null,null,"2024-01-01",2.7899999618530269,2024,false,true,false,5,-0.21186440906270787,-0.23808513420917796]
[null,null,"1998-01-01",1998,false,true,false,6,14.1,27.78478972870429,-6.9466921290233463E-2,-7.1997654139147618E-2,null,null,null,null,null,null,null,null,null,null,null,null,null,"2010-01-01",5.7656621932983398,2010,true,true,true,6,-8.8596700759357661E-2,-9.2769780188924136E-2,null,null,null,null,null,null,null,null,null,null,null,null,null,"2024-02-01",2.779999971389771,2024,false,false,false,5,-3.584226021499437E-3,-3.5906647494276431E-3]
[null,null,"1998-02-01",1998,false,false,false,6,13.123333333330001,25.817352680997015,-7.0809859168188272E-2,-7.3441888525501375E-2,null,null,null,null,null,null,null,null,null,null,null,null,null,"2010-02-01",6.1427154541015616,2010,true,false,false,6,6.5396349658064512E-2,6.3346889230638734E-2,null,null,null,null,null,null,null,null,null,null,null,null,null,"2024-03-01",2.7599999904632568,2024,false,false,false,5,-7.1942378173894816E-3,-7.2202411373793931E-3]
[null,null,"1998-03-01",1998,false,false,false,6,13.5,26.399171757780817,2.2535969662453192E-2,2.2285786470071463E-2,null,null,null,null,null,null,null,null,null,null,null,null,null,"2010-03-01",7.0547270774841309,2010,true,false,false,6,0.14847043301893614,0.13843099881819002,null,null,null,null,null,null,null,null,null,null,null,null,null,"2024-04-01",2.7899999618530269,2024,false,false,false,5,1.0869554888923938E-2,1.0810905886806998E-2]
[null,null,"1998-04-01",1998,false,false,false,6,14.02666666667,28.337048547150555,7.34067268151537E-2,7.0837447570798143E-2,null,null,null,null,null,null,null,null,null,null,null,null,null,"2010-04-01",7.8379521369934082,2010,true,false,false,6,0.11102131250534386,0.10527969364662501,null,null,null,null,null,null,null,null,null,null,null,null,null,"2024-05-01",2.7899999618530269,2024,false,false,false,5,0,0]
[null,null,"1998-05-01",1998,false,false,false,6,12.478999999999999,23.711762920385077,-0.16322397228735297,-0.1781988336527566,null,null,null,null,null,null,null,null,null,null,null,null,null,"2010-05-01",7.7115693092346191,2010,true,false,false,6,-1.6124470467520413E-2,-1.6255884308533537E-2,null,null,null,null,null,null,null,null,null,null,null,null,null,"2024-06-01",2.4800000190734859,2024,false,false,false,5,-0.1111110921211802,-0.1177830142927114]
[null,null,"1998-06-01",1998,false,false,false,6,12.69966666667,23.584521264904936,-5.366182848039136E-3,-5.3806325234679866E-3,null,null,null,null,null,null,null,null,null,null,null,null,null,"2010-06-01",7.5509605407714844,2010,true,false,false,6,-2.0826988907537314E-2,-2.1046929805244738E-2,null,null,null,null,null,null,null,null,null,null,null,null,null,"2024-07-01",2.4200000762939449,2024,false,false,false,5,-2.4193525128260562E-2,-2.4490996172794488E-2]
[null,null,"1998-07-01",1998,false,false,false,6,12.487966666669999,23.297805565655626,-1.2156943786514662E-2,-1.2231443838615455E-2,null,null,null,null,null,null,null,null,null,null,null,null,null,"2010-07-01",7.7226743698120117,2010,true,false,false,6,2.2740660358818943E-2,2.2485945895006576E-2,null,null,null,null,null,null,null,null,null,null,null,null,null,"2024-08-01",2.3499999046325679,2024,false,false,false,5,-2.8925689857240533E-2,-2.9352284120837308E-2]
[null,null,"1998-08-01",1998,false,false,false,6,13.80333333333,26.164127419777085,0.12302969247656681,0.11603011572427983,null,null,null,null,null,null,null,null,null,null,null,null,null,"2010-08-01",7.2978930473327637,2010,true,false,false,6,-5.5004432679399362E-2,-5.6575042165426574E-2,null,null,null,null,null,null,null,null,null,null,null,null,null,"2024-09-01",2.619999885559082,2024,false,false,false,5,0.11489361356749916,0.10875898651908408]
[null,null,"1998-09-01",1998,false,false,false,6,13.263333333329999,24.56713891175739,-6.103733109068088E-2,-6.2979556784281049E-2,null,null,null,null,null,null,null,null,null,null,null,null,null,"2010-09-01",8.5182085037231445,2010,true,false,false,6,0.16721476301113825,0.15462036637395091,null,null,null,null,null,null,null,null,null,null,null,null,null,"2024-10-01",2.2599999904632568,2024,false,false,false,5,-0.13740454611470521,-0.14780946502886824]
[null,null,"1998-10-01",1998,false,false,false,6,11.88,21.333103447711746,-0.13164070409916118,-0.14114971459976777,null,null,null,null,null,null,null,null,null,null,null,null,null,"2010-10-01",9.0354547500610352,2010,true,false,false,6,6.0722421400205562E-2,5.8950205610963459E-2,null,null,null,null,null,null,null,null,null,null,null,null,null,"2024-11-01",2.5699999332427979,2024,false,false,false,5,0.13716811685295482,0.12854106386716632]
[null,null,"1998-11-01",1998,false,false,false,6,10.41,19.120600742049433,-0.10371218191883058,-0.10949369205206398,null,null,null,null,null,null,null,null,null,null,null,null,null,"2010-11-01",9.3407602310180664,2010,true,false,false,6,3.3789719433321208E-2,3.3231389285899395E-2,null,null,null,null,null,null,null,null,null,null,null,null,null,"2024-12-01",3.779999971389771,2024,false,false,false,5,0.47081714769548966,0.38581812913108954]
[null,null,"1998-12-01",1998,false,false,false,6,11.443333333329999,21.550227980315345,0.12706856186389337,0.11962006893383494,null,null,null,null,null,null,null,null,null,null,null,null,null,"2010-12-01",9.6832914352416992,2010,true,false,false,6,3.6670591659786034E-2,3.6014223682861737E-2,null,null,null,null,null,null,null,null,null,null,null,null,null,"2025-01-01",4.440000057220459,2025,true,true,true,6,0.17460319863125018,0.16093038726897146]
[null,null,"1999-01-01",1999,false,true,false,6,10.75333333333,19.847107857449998,-7.9030260117017304E-2,-8.232809898539388E-2,null,null,null,null,null,null,null,null,null,null,null,null,null,"2011-01-01",10.18642520904541,2011,false,true,false,6,5.195896221532581E-2,5.0654104253614454E-2,null,null,null,null,null,null,null,null,null,null,null,null,null,"2025-02-01",4.7100000381469727,2025,true,false,false,6,6.0810805731281947E-2,5.9033526795847301E-2]
[null,null,"1999-02-01",1999,false,false,false,6,13.16666666667,24.231869620525114,0.22092698818227108,0.19961039660215465,null,null,null,null,null,null,null,null,null,null,null,null,null,"2011-02-01",10.603408813476561,2011,false,false,false,6,4.0935224661628578E-2,4.0119563548537733E-2,null,null,null,null,null,null,null,null,null,null,null,null,null,"2025-03-01",3.7699999809265141,2025,true,false,false,6,-0.19957538208222125,-0.22261291972683203]
[null,null,"1999-03-01",1999,false,false,false,6,15.86666666667,29.688788535676949,0.22519595064714548,0.20310079091645522,null,null,null,null,null,null,null,null,null,null,null,null,null,"2011-03-01",10.46230888366699,2011,false,false,false,6,-1.3307034774537541E-2,-1.3396366742625294E-2,null,null,null,null,null,null,null,null,null,null,null,null,null,"2025-04-01",3.4000000953674321,2025,true,false,false,6,-9.8143206215123402E-2,-0.1032995367292793]
[null,null,"1999-04-01",1999,false,false,false,6,16.06333333333,29.323250891370506,-1.231231257102916E-2,-1.2388737047374499E-2,null,null,null,null,null,null,null,null,null,null,null,null,null,"2011-04-01",10.51094341278076,2011,false,false,false,6,4.6485464780814389E-3,4.6377753530534426E-3,null,null,null,null,null,null,null,null,null,null,null,null,null,"2025-05-01",3.9600000381469731,2025,true,false,false,6,0.16470586090351946,0.15246857522810314]
[null,null,"1999-05-01",1999,false,false,false,6,16.393333333329998,30.490874671427445,3.9819042724234865E-2,3.9046700633437521E-2,null,null,null,null,null,null,null,null,null,null,null,null,null,"2011-05-01",10.44189548492432,2011,false,false,false,6,-6.5691465689445838E-3,-6.5908183745845448E-3,null,null,null,null,null,null,null,null,null,null,null,null,null,"2025-06-01",4.5799999237060547,2025,true,false,false,6,0.15656562615822645,0.14545494656856361]
[null,null,"1999-06-01",1999,false,false,false,6,18.986666666670001,36.695827749102556,0.2035019704924923,0.18523561554126308,null,null,null,null,null,null,null,null,null,null,null,null,null,"2011-06-01",10.076850891113279,2011,false,false,false,6,-3.4959609999743901E-2,-3.5585323596498776E-2,null,null,null,null,null,null,null,null,null,null,null,null,null,"2025-07-01",3.690000057220459,2025,true,false,false,6,-0.19432311819023429,-0.21607250790869165]
[null,null,"1999-07-01",1999,false,false,false,6,20.27,38.962585570405281,6.1771540808427838E-2,5.9938778028451482E-2,null,null,null,null,null,null,null,null,null,null,null,null,null,"2011-07-01",11.722254753112789,2011,false,false,false,6,0.16328552240964322,0.15124834848646493,null,null,null,null,null,null,null,null,null,null,null,null,null,"2025-08-01",3.6947000026702881,2025,true,false,false,6,1.2736979341321231E-3,1.2728874690372321E-3]
[null,null,"1999-08-01",1999,false,false,false,6,22.7,43.082834603795334,0.10574886068443212,0.10052280741029201,null,null,null,null,null,null,null,null,null,null,null,null,null,"2011-08-01",11.55264186859131,2011,false,false,false,6,-1.4469305444538283E-2,-1.457500669939499E-2]
[null,null,"1999-09-01",1999,false,false,false,6,21.95,42.126155459901319,-2.2205575670495414E-2,-2.245583111453239E-2,null,null,null,null,null,null,null,null,null,null,null,null,null,"2011-09-01",11.44727039337158,2011,false,false,false,6,-9.1209851753656368E-3,-9.1628360357410409E-3]
[null,null,"1999-10-01",1999,false,false,false,6,24.163333333330002,47.093465626741867,0.11791510790888071,0.11146543974695039,null,null,null,null,null,null,null,null,null,null,null,null,null,"2011-10-01",12.15154457092285,{"$f":"YEAR(Z329)","v":2011},{"$f":"MOD(AB329,5)=0","v":false},{"$f":"MONTH(Z329)=1","v":false},{"$f":"AND(AD329,AC329)","v":false},6,6.1523328562158586E-2,5.9704978897694404E-2]
[null,null,"1999-11-01",1999,false,false,false,6,25.1,48.903024504011881,{"$f":"J330/J329-1","v":3.8424839904805497E-2},{"$f":"LN(J330/J329)","v":3.7704988007469416E-2},null,null,null,null,null,null,null,null,null,null,null,null,null,"2011-11-01",11.47368717193604,2011,false,false,false,{"$f":"AF329+AE330","v":6},{"$f":"AA330/AA329-1","v":-5.5783640921569622E-2},{"$f":"LN(AA330/AA329)","v":-5.7399945158539488E-2}]
[null,null,"1999-12-01",1999,false,false,false,6,25.31,48.394754157061996,-1.0393433782570849E-2,-1.0447822702115693E-2,null,null,null,null,null,null,null,null,null,null,null,null,null,"2011-12-01",12.15814876556396,2011,false,false,false,6,5.965489413918057E-2,5.7943283547236442E-2]
[null,null,"2000-01-01",2000,true,true,true,7,27.220966666670002,52.708879398162679,8.9144480972038309E-2,8.5392508219435878E-2,null,null,null,null,null,null,null,null,null,null,null,null,null,"2012-01-01",13.70358276367188,2012,false,true,false,6,0.12711096301808045,0.11965768896695479]
[null,null,"2000-02-01",2000,true,false,false,7,27.49,52.12424467538343,-1.1091769156443609E-2,-1.1153741509404607E-2,null,null,null,null,null,null,null,null,null,null,null,null,null,"2012-02-01",16.284109115600589,2012,false,false,false,6,0.1883103416407037,0.17253241716304238]
[null,null,"2000-03-01",2000,true,false,false,7,23.47,42.638315838913762,-0.18198688336964164,-0.20087690750751114,null,null,null,null,null,null,null,null,null,null,null,null,null,"2012-03-01",17.998561859130859,2012,false,false,false,6,0.10528379117085263,0.10010212658493381]
[null,null,"2000-04-01",2000,true,false,false,7,27.18666666667,51.588247986829408,0.20990350983205364,0.19054061248848111,null,null,null,null,null,null,null,null,null,null,null,null,null,"2012-04-01",17.531143188476559,2012,false,false,false,6,-2.5969778825255085E-2,-2.6312947920808506E-2]
[null,null,"2000-05-01",2000,true,false,false,7,29.620766666670001,55.852235869565568,8.2654248770471339E-2,7.9415663833836442E-2,null,null,null,null,null,null,null,null,null,null,null,null,null,"2012-05-01",17.343515396118161,2012,false,false,false,6,-1.0702541776153485E-2,-1.0760225923574479E-2]
[null,null,"2000-06-01",2000,true,false,false,7,28.176666666669998,53.529406484716169,-4.1588834335549496E-2,-4.2478401371151192E-2,null,null,null,null,null,null,null,null,null,null,null,null,null,"2012-06-01",17.5317497253418,2012,false,false,false,6,1.0853297323204281E-2,1.0794823004128772E-2]
[null,null,"2000-07-01",2000,true,false,false,7,29.262899999999998,55.052904986351734,2.8460963826874464E-2,2.8063474919875365E-2,null,null,null,null,null,null,null,null,null,null,null,null,null,"2012-07-01",18.335084915161129,2012,false,false,false,6,4.5821734989641261E-2,4.4802925678552118E-2]
[null,null,"2000-08-01",2000,true,false,false,7,32.082833333330001,60.851783000351425,0.10533282513315689,0.10014648883386533,null,null,null,null,null,null,null,null,null,null,null,null,null,"2012-08-01",19.970582962036129,2012,false,false,false,6,8.920046208908583E-2,8.5443906063692066E-2]
[null,null,"2000-09-01",2000,true,false,false,7,31.40016666667,57.538582391932614,-5.4447058821590733E-2,-5.5985399665959529E-2,null,null,null,null,null,null,null,null,null,null,null,null,null,"2012-09-01",20.11240196228027,2012,false,false,false,6,7.101395112688369E-3,7.0762989482224901E-3]
[null,null,"2000-10-01",2000,true,false,false,7,32.331000000000003,60.328867442893873,4.8494157050217535E-2,4.735499866926729E-2,null,null,null,null,null,null,null,null,null,null,null,null,null,"2012-10-01",17.948312759399411,2012,false,false,false,6,-0.10759973905351994,-0.11384052401403089]
[null,null,"2000-11-01",2000,true,false,false,7,25.204666666670001,46.473833508298377,-0.22965844581303307,-0.26092128561935168,null,null,null,null,null,null,null,null,null,null,null,null,null,"2012-11-01",17.6456184387207,2012,false,false,false,6,-1.6864778585953255E-2,-1.7008608362564341E-2]
[null,null,"2000-12-01",2000,true,false,false,7,25.957272727269999,47.287328622799841,1.7504368654163383E-2,1.7352931843001171E-2,null,null,null,null,null,null,null,null,null,null,null,null,null,"2012-12-01",16.117681503295898,2012,false,false,false,6,-8.6590160652684767E-2,-9.0570606067542594E-2]
[null,null,"2001-01-01",2001,false,true,false,7,27.23883333333,50.397369437288326,6.5769010537612971E-2,6.3696614212385358E-2,null,null,null,null,null,null,null,null,null,null,null,null,null,"2013-01-01",13.795295715332029,2013,false,true,false,6,-0.1440893212518789,-0.15558925554181657]
[null,null,"2001-02-01",2001,false,false,false,7,25.02257575758,44.731592931123096,-0.11242206824337142,-0.11925895105767229,null,null,null,null,null,null,null,null,null,null,null,null,null,"2013-02-01",13.368556022644039,2013,false,false,false,6,-3.09337111355803E-2,-3.1422259870393474E-2]
[null,null,"2001-03-01",2001,false,false,false,7,25.718,46.902777633501508,4.8538059123482746E-2,4.7396869340526435E-2,null,null,null,null,null,null,null,null,null,null,null,null,null,"2013-03-01",13.48484992980957,2013,false,false,false,6,8.6990627086835914E-3,8.6614438710072936E-3]
[null,null,"2001-04-01",2001,false,false,false,7,27.546825396829998,51.902578981251871,0.10659925914876145,0.10129158199742759,null,null,null,null,null,null,null,null,null,null,null,null,null,"2013-04-01",13.488508224487299,2013,false,false,false,6,2.7128923916630576E-4,2.712524468947432E-4]
[null,null,"2001-05-01",2001,false,false,false,7,26.966031746030001,50.428318702157505,-2.8404374272555821E-2,-2.8815583997391161E-2,null,null,null,null,null,null,null,null,null,null,null,null,null,"2013-05-01",13.70022678375244,2013,false,false,false,6,1.5696217531363743E-2,1.557430595457643E-2]
[null,null,"2001-06-01",2001,false,false,false,7,24.80367965368,44.51430611214569,-0.1172756249309338,-0.1247422731205322,null,null,null,null,null,null,null,null,null,null,null,null,null,"2013-06-01",12.15954113006592,2013,false,false,false,6,-0.11245694527580163,-0.11929824644395899]
[null,null,"2001-07-01",2001,false,false,false,7,25.821159420290002,46.513861467567651,4.4919387272587041E-2,4.3939741075280717E-2,null,null,null,null,null,null,null,null,null,null,null,null,null,"2013-07-01",13.87676906585693,2013,false,false,false,6,0.14122473187289608,0.13210201193529034]
[null,null,"2001-08-01",2001,false,false,false,7,25.207666666670001,46.132150106241916,-8.2064001844243117E-3,-8.2402580477679201E-3,null,null,null,null,null,null,null,null,null,null,null,null,null,"2013-08-01",14.94053268432617,2013,false,false,false,6,7.6657874280445792E-2,7.3861682230119519E-2]
[null,null,"2001-09-01",2001,false,false,false,7,20.731884057969999,36.903019414646621,-0.20005854204368734,-0.22321673154642679,null,null,null,null,null,null,null,null,null,null,null,null,null,"2013-09-01",14.716007232666019,2013,false,false,false,6,-1.5027941533550249E-2,-1.5142005251537543E-2]
[null,null,"2001-10-01",2001,false,false,false,7,18.688181818179999,34.075277457811154,-7.6626303258891304E-2,-7.972125454226299E-2,null,null,null,null,null,null,null,null,null,null,null,null,null,"2013-10-01",16.134359359741211,2013,false,false,false,6,9.6381586706942413E-2,9.2015290984911499E-2]
[null,null,"2001-11-01",2001,false,false,false,7,18.51978947368,33.415754899298541,-1.9354869797587826E-2,-1.9544627774458319E-2,null,null,null,null,null,null,null,null,null,null,null,null,null,"2013-11-01",17.164396286010739,2013,false,false,false,6,6.3841203936469748E-2,6.1886135360784751E-2]
[null,null,"2001-12-01",2001,false,false,false,7,19.154812409809999,34.951907343149117,4.5970903499858551E-2,4.4945548334092068E-2,null,null,null,null,null,null,null,null,null,null,null,null,null,"2013-12-01",17.418300628662109,2013,false,false,false,6,1.479250061700732E-2,1.4684158704851132E-2]
[null,null,"2002-01-01",2002,false,true,false,7,19.97523684211,36.364162366330639,4.0405663968960503E-2,3.9610698607683487E-2,null,null,null,null,null,null,null,null,null,null,null,null,null,"2014-01-01",15.542405128479,2014,false,true,false,6,-0.10769681498643391,-0.1139493106398756]
[null,null,"2002-02-01",2002,false,false,false,7,23.64066666667,42.415467259111146,0.16640847744050813,0.15392935028468901,null,null,null,null,null,null,null,null,null,null,null,null,null,"2014-02-01",16.338468551635739,2014,false,false,false,6,5.1218805363532738E-2,4.9950258013169227E-2]
[null,null,"2002-03-01",2002,false,false,false,7,25.434242424240001,45.875047189253067,8.1564112190672056E-2,7.8408245458998604E-2,null,null,null,null,null,null,null,null,null,null,null,null,null,"2014-03-01",16.764217376708981,2014,false,false,false,6,2.6058061912456187E-2,2.5724335705342074E-2]
[null,null,"2002-04-01",2002,false,false,false,7,25.672345191040002,45.336444256318671,-1.1740651311211492E-2,-1.1810117008154984E-2,null,null,null,null,null,null,null,null,null,null,null,null,null,"2014-04-01",18.430511474609379,2014,false,false,false,6,9.9395877568100977E-2,9.4760826726733277E-2]
[null,null,"2002-05-01",2002,false,false,false,7,24.48805750487,43.045290988934383,-5.0536677610418579E-2,-5.1858377817563153E-2,null,null,null,null,null,null,null,null,null,null,null,null,null,"2014-05-01",19.7707405090332,2014,false,false,false,6,7.2717951222904142E-2,7.0195569097523558E-2]
[null,null,"2002-06-01",2002,false,false,false,7,25.754748102139999,45.930347972314998,6.7023753750956816E-2,6.4873234256406898E-2,null,null,null,null,null,null,null,null,null,null,null,null,null,"2014-06-01",20.431123733520511,2014,false,false,false,6,3.3402048051037081E-2,3.2856318725996161E-2]
[null,null,"2002-07-01",2002,false,false,false,7,26.775800865800001,47.414746706194215,3.2318473501963263E-2,3.1807217807308295E-2,null,null,null,null,null,null,null,null,null,null,null,null,null,"2014-07-01",21.018121719360352,2014,false,false,false,6,2.8730577597979812E-2,2.8325593217778031E-2]
[null,null,"2002-08-01",2002,false,false,false,7,28.280793650789999,50.383154675660165,6.260516349185008E-2,6.0723594322588961E-2,null,null,null,null,null,null,null,null,null,null,null,null,null,"2014-08-01",22.535137176513668,2014,false,false,false,6,7.2176547334196428E-2,6.9690738766176125E-2]
[null,null,"2002-09-01",2002,false,false,false,7,27.526811594200002,48.910953661438633,-2.9220103895811533E-2,-2.965551393065493E-2,null,null,null,null,null,null,null,null,null,null,null,null,null,"2014-09-01",22.260555267333981,2014,false,false,false,6,-1.2184612280321971E-2,-1.2259453228491608E-2]
[null,null,"2002-10-01",{"$f":"YEAR(C365)","v":2002},{"$f":"MOD(D365,5)=0","v":false},{"$f":"MONTH(C365)=1","v":false},{"$f":"AND(F365,E365)","v":false},7,24.542481203009999,42.866797680906188,-0.12357469090400608,-0.13190379320222576,null,null,null,null,null,null,null,null,null,null,null,null,null,"2014-10-01",23.862432479858398,2014,false,false,false,6,7.196034390368844E-2,6.948906933720983E-2]
[null,null,"2002-11-01",2002,false,false,false,{"$f":"H365+G366","v":7},27.88698412698,50.461044141420032,0.17715917379796453,0.16310405600613589,null,null,null,null,null,null,null,null,null,null,null,null,null,"2014-11-01",26.27740478515625,2014,false,false,false,6,0.1012039450435851,9.6404076774980807E-2]
[null,null,"2002-12-01",2002,false,false,false,7,30.750317460320002,55.175431155755149,9.3426267619884484E-2,8.9316130987418835E-2,null,null,null,null,null,null,null,null,null,null,null,null,null,"2014-12-01",24.494047164916989,2014,false,false,false,6,-6.7866580996866821E-2,-7.027932110518316E-2]
[null,null,"2003-01-01",2003,false,true,false,7,32.883377192979999,57.527730777214721,4.2633099047640455E-2,4.1749339488699293E-2,null,null,null,null,null,null,null,null,null,null,null,null,null,"2015-01-01",25.99858283996582,2015,true,true,true,7,6.1424543886883232E-2,5.9611915213344309E-2]
[null,null,"2003-02-01",2003,false,false,false,7,30.359206349210002,53.327706390648608,-7.3008692152857102E-2,-7.5811090108416732E-2,null,null,null,null,null,null,null,null,null,null,null,null,null,"2015-02-01",28.50612640380859,2015,true,false,false,7,9.6449240301978989E-2,9.2076995330020811E-2]
[null,null,"2003-03-01",2003,false,false,false,7,25.555968253970001,43.86235921676866,-0.17749398604436817,-0.19539948456918088,null,null,null,null,null,null,null,null,null,null,null,null,null,"2015-03-01",27.7208137512207,2015,true,false,false,7,-2.7548907959762947E-2,-2.7935495715364314E-2]
[null,null,"2003-04-01",2003,false,false,false,7,26.064912698410001,45.170759407490031,2.9829681168202393E-2,2.9393430479264362E-2,null,null,null,null,null,null,null,null,null,null,null,null,null,"2015-04-01",27.881206512451168,2015,true,false,false,7,5.7860047930016201E-3,5.7693301560380736E-3]
[null,null,"2003-05-01",2003,false,false,false,7,27.91714285714,48.127648296200313,6.54602430310256E-2,6.3406858890914755E-2,null,null,null,null,null,null,null,null,null,null,null,null,null,"2015-05-01",29.024082183837891,2015,true,false,false,7,4.0990897251033109E-2,4.0173045359281963E-2]
[null,null,"2003-06-01",2003,false,false,false,7,28.591587615280002,49.53085754771007,2.9155990396076303E-2,2.8739039527961294E-2,null,null,null,null,null,null,null,null,null,null,null,null,null,"2015-06-01",28.060312271118161,2015,true,false,false,7,-3.3205870442869934E-2,-3.3769702205656407E-2]
[null,null,"2003-07-01",2003,false,false,false,7,29.675555555559999,51.930115435390988,4.8439659769061283E-2,4.7303020604216879E-2,null,null,null,null,null,null,null,null,null,null,null,null,null,"2015-07-01",27.136383056640621,2015,true,false,false,7,-3.2926547842752174E-2,-3.3480827615998555E-2]
[null,null,"2003-08-01",2003,false,false,false,7,26.882330447329998,47.097276292213273,-9.3064286544683461E-2,-9.7683709598035753E-2,null,null,null,null,null,null,null,null,null,null,null,null,null,"2015-08-01",25.225870132446289,2015,true,false,false,7,-7.0404110975534229E-2,-7.3005315200135978E-2]
[null,null,"2003-09-01",2003,false,false,false,7,29.014492753620001,51.330652552913662,8.9885797947944379E-2,8.607291822720628E-2,null,null,null,null,null,null,null,null,null,null,null,null,null,"2015-09-01",24.787227630615231,2015,true,false,false,7,-1.7388597480602397E-2,-1.7541554878325795E-2]
[null,null,"2003-10-01",2003,false,false,false,7,29.122740740739999,49.82695301617273,-2.9294377958488993E-2,-2.9732026541250792E-2,null,null,null,null,null,null,null,null,null,null,null,null,null,"2015-10-01",26.854703903198239,2015,true,false,false,7,8.340893557734641E-2,8.0112491925340187E-2]
[null,null,"2003-11-01",2003,false,false,false,7,29.969206349210001,51.751079249542009,3.8616172912374402E-2,3.7889224146216233E-2,null,null,null,null,null,null,null,null,null,null,null,null,null,"2015-11-01",26.58503532409668,2015,true,false,false,7,-1.0041763263285985E-2,-1.0092521857748693E-2]
[null,null,"2003-12-01",2003,false,false,false,7,31.367719298250002,53.826599826572412,4.0105841407138687E-2,3.9322478558793963E-2,null,null,null,null,null,null,null,null,null,null,null,null,null,"2015-12-01",23.755867004394531,2015,true,false,false,7,-0.10641958098651805,-0.11251894394094994]
[null,null,"2004-01-01",2004,false,true,false,7,31.331333333330001,53.208009823119298,-1.1492273438154954E-2,-1.1558819950981833E-2,null,null,null,null,null,null,null,null,null,null,null,null,null,"2016-01-01",21.968423843383789,2016,false,true,false,7,-7.5242177466311344E-2,-7.8223389225936885E-2]
[null,null,"2004-02-01",2004,false,false,false,7,33.665072463770002,58.182794874385763,9.3496920253252513E-2,8.9380744718513178E-2,null,null,null,null,null,null,null,null,null,null,null,null,null,"2016-02-01",21.82172966003418,2016,false,false,false,7,-6.6775015083200273E-3,-6.6998957689958973E-3]
[null,null,"2004-03-01",2004,false,false,false,7,33.711392496389998,57.348405890516624,-1.4340819922290637E-2,-1.4444643283791995E-2,null,null,null,null,null,null,null,null,null,null,null,null,null,"2016-03-01",24.73115158081055,2016,false,false,false,7,0.13332682450488265,0.12515739985358737]
[null,null,"2004-04-01",2004,false,false,false,7,37.557898913949998,65.054022923664036,0.13436497341980425,0.12607299957344084,null,null,null,null,null,null,null,null,null,null,null,null,null,"2016-04-01",21.270742416381839,2016,false,false,false,7,-0.13992106890460043,-0.15073111360265379]
[null,null,"2004-05-01",2004,false,false,false,7,35.542741702740003,60.227684603177792,-7.4189698093684142E-2,-7.7085922874706919E-2,null,null,null,null,null,null,null,null,null,null,null,null,null,"2016-05-01",22.659444808959961,2016,false,false,false,7,6.5286973317330022E-2,6.3244221377888266E-2]
[null,null,"2004-06-01",2004,false,false,false,7,37.891998557000001,65.492841671823427,8.7420878012099967E-2,8.3808725482924243E-2,null,null,null,null,null,null,null,null,null,null,null,null,null,"2016-06-01",21.82487678527832,2016,false,false,false,7,-3.6830912262759252E-2,-3.7526298238635347E-2]
[null,null,"2004-07-01",2004,false,false,false,7,42.084069264070003,73.265870846993835,0.11868517194780015,0.11215404206564225,null,null,null,null,null,null,null,null,null,null,null,null,null,"2016-07-01",23.79047966003418,2016,false,false,false,7,9.0062495843354906E-2,8.6235030233532989E-2]
[null,null,"2004-08-01",2004,false,false,false,7,41.596825396829999,73.703047030204289,5.9669826913466562E-3,5.9492507526114676E-3,null,null,null,null,null,null,null,null,null,null,null,null,null,"2016-08-01",24.221958160400391,2016,false,false,false,7,1.8136603655413364E-2,1.7974097392505196E-2]
[null,null,"2004-09-01",2004,false,false,false,7,46.881111111110002,84.462194962493882,0.14597968965761177,0.13625989532363983,null,null,null,null,null,null,null,null,null,null,null,null,null,"2016-09-01",25.948404312133789,2016,false,false,false,7,7.1276076867967886E-2,6.8850533100760669E-2]
[null,null,"2004-10-01",2004,false,false,false,7,42.12554545455,72.802937026757164,-0.1380411430334495,-0.1485477391947245,null,null,null,null,null,null,null,null,null,null,null,null,null,"2016-10-01",26.060880661010739,2016,false,false,false,7,4.3346152435412844E-3,4.3252478584712021E-3]
[null,null,"2004-11-01",2004,false,false,false,7,39.044944444439999,66.844638059846446,-8.1841464235445249E-2,-8.5385206360761856E-2,null,null,null,null,null,null,null,null,null,null,null,null,null,"2016-11-01",25.36770057678223,2016,false,false,false,7,-2.659849040579676E-2,-2.6958630737259529E-2]
[null,null,"2004-12-01",2004,false,false,false,7,42.97227777778,74.467509265530609,0.1140386338670778,0.10799182121530414,null,null,null,null,null,null,null,null,null,null,null,null,null,"2016-12-01",26.720701217651371,2016,false,false,false,7,5.3335564915468758E-2,5.1961857519101741E-2]
[null,null,"2005-01-01",2005,true,true,true,8,44.818210526320001,76.422721449528012,2.6255909500419339E-2,2.5917140111813897E-2,null,null,null,null,null,null,null,null,null,null,null,null,null,"2017-01-01",27.996524810791019,2017,false,true,false,7,4.7746635941457116E-2,4.6641797072441628E-2]
[null,null,"2005-02-01",2005,true,false,false,8,50.942878787879998,88.829937256276651,0.16234982962420097,0.15044367131718059,null,null,null,null,null,null,null,null,null,null,null,null,null,"2017-02-01",31.604806900024411,{"$f":"YEAR(Z393)","v":2017},{"$f":"MOD(AB393,5)=0","v":false},{"$f":"MONTH(Z393)=1","v":false},{"$f":"AND(AD393,AC393)","v":false},7,0.12888321367095568,0.12122883754149953]
[null,null,"2005-03-01",2005,true,false,false,8,50.640476190480001,86.552915286808528,{"$f":"J394/J393-1","v":-2.5633497442409059E-2},{"$f":"LN(J394/J393)","v":-2.5967760124001937E-2},null,null,null,null,null,null,null,null,null,null,null,null,null,"2017-03-01",33.287330627441413,2017,false,false,false,{"$f":"AF393+AE394","v":7},{"$f":"AA394/AA393-1","v":5.3236323599107349E-2},{"$f":"LN(AA394/AA393)","v":5.1867636840495036E-2}]
[null,null,"2005-04-01",2005,true,false,false,8,47.826572871570001,80.993321047573943,-6.4233471753226024E-2,-6.6389269252575295E-2,null,null,null,null,null,null,null,null,null,null,null,null,null,"2017-04-01",33.285007476806641,2017,false,false,false,7,-6.9790836062288975E-5,-6.9793271556005534E-5]
[null,null,"2005-05-01",2005,true,false,false,8,53.890303030299997,90.173376228802482,0.11334336044618243,0.10736752466872869,null,null,null,null,null,null,null,null,null,null,null,null,null,"2017-05-01",35.395889282226563,2017,false,false,false,7,6.3418396612673344E-2,6.1488621743495328E-2]
[null,null,"2005-06-01",2005,true,false,false,8,56.36580952381,95.407846489439976,5.8048955019226023E-2,5.6426603650337456E-2,null,null,null,null,null,null,null,null,null,null,null,null,null,"2017-06-01",33.508495330810547,2017,false,false,false,7,-5.3322405219629165E-2,-5.4796692779542092E-2]
[null,null,"2005-07-01",2005,true,false,false,8,61.890520421609999,105.92078044946769,0.11018940628946394,0.10453063706434015,null,null,null,null,null,null,null,null,null,null,null,null,null,"2017-07-01",34.604351043701172,2017,false,false,false,7,3.2703817407253144E-2,3.2180428219088369E-2]
[null,null,"2005-08-01",2005,true,false,false,8,61.687698412700001,103.77953933447561,-2.0215496014151846E-2,-2.0422625389717779E-2,null,null,null,null,null,null,null,null,null,null,null,null,null,"2017-08-01",38.157142639160163,2017,false,false,false,7,0.1026689271234198,9.7733538482243448E-2]
[null,null,"2005-09-01",2005,true,false,false,8,58.18507936508,96.063273078838279,-7.4352481280228533E-2,-7.7261766132004348E-2,null,null,null,null,null,null,null,null,null,null,null,null,null,"2017-09-01",35.999221801757813,2017,false,false,false,7,-5.6553522830813496E-2,-5.82156437432104E-2]
[null,null,"2005-10-01",2005,true,false,false,8,55.042825396829997,90.83755146996269,-5.4398746174168844E-2,-5.5934306373239109E-2,null,null,null,null,null,null,null,null,null,null,null,null,null,"2017-10-01",39.484214782714837,2017,false,false,false,7,9.6807453231859908E-2,9.2403644676740782E-2]
[null,null,"2005-11-01",2005,true,false,false,8,56.429642857140003,92.558415705740998,1.8944414594302961E-2,1.8767203777569477E-2,null,null,null,null,null,null,null,null,null,null,null,null,null,"2017-11-01",40.140586853027337,2017,false,false,false,7,1.6623657680026716E-2,1.6486997135089252E-2]
[null,null,"2005-12-01",2005,true,false,false,8,62.45703968254,103.40347710953155,0.11716991179136915,0.1107986229247216,null,null,null,null,null,null,null,null,null,null,null,null,null,"2017-12-01",39.670711517333977,2017,false,false,false,7,-1.1705741558133753E-2,-1.1774793146504656E-2]
[null,null,"2006-01-01",2006,false,true,false,8,59.704921052629999,97.147776798156613,-6.049796860069323E-2,-6.240529791774891E-2,null,null,null,null,null,null,null,null,null,null,null,null,null,"2018-01-01",39.248752593994141,2018,false,true,false,7,-1.0636535297721128E-2,-1.0693507591300317E-2]
[null,null,"2006-02-01",2006,false,false,false,8,60.929275362319999,100.62845427907919,3.5828688989500534E-2,3.5201772045887619E-2,null,null,null,null,null,null,null,null,null,null,null,null,null,"2018-02-01",41.754692077636719,2018,false,false,false,7,6.3847621084040185E-2,6.1892167396574001E-2]
[null,null,"2006-03-01",2006,false,false,false,8,67.970575048729998,113.55220475677764,0.12843037856724115,0.12082762159051588,null,null,null,null,null,null,null,null,null,null,null,null,null,"2018-03-01",39.491161346435547,2018,false,false,false,7,-5.4210212519169576E-2,-5.5734946588291152E-2]
[null,null,"2006-04-01",2006,false,false,false,8,68.675948616599996,112.81337534510907,-6.5065175374718898E-3,-6.5277771904165838E-3,null,null,null,null,null,null,null,null,null,null,null,null,null,"2018-04-01",38.898002624511719,2018,false,false,false,7,-1.5020037438766454E-2,-1.5133980594389076E-2]
[null,null,"2006-05-01",2006,false,false,false,8,68.290151515150001,110.30050807552163,-2.2274550884593958E-2,-2.2526375234348098E-2,null,null,null,null,null,null,null,null,null,null,null,null,null,"2018-05-01",43.984451293945313,2018,false,false,false,7,0.13076374945350921,0.12289328888933841]
[null,null,"2006-06-01",2006,false,false,false,8,72.450133667499998,117.95660723754166,6.9411277387570802E-2,6.7108289004822755E-2,null,null,null,null,null,null,null,null,null,null,null,null,null,"2018-06-01",43.738212585449219,2018,false,false,false,7,-5.5983126139392825E-3,-5.6140418984383239E-3]
[null,null,"2006-07-01",2006,false,false,false,8,71.811884057970005,117.10468787859264,-7.2223114830135549E-3,-7.2485186349744218E-3,null,null,null,null,null,null,null,null,null,null,null,null,null,"2018-07-01",44.962154388427727,2018,false,false,false,7,2.79833520994337E-2,2.7598972446037956E-2]
[null,null,"2006-08-01",2006,false,false,false,8,62.121253968250002,99.548250687400824,-0.14992087429833134,-0.162425844769506,null,null,null,null,null,null,null,null,null,null,null,null,null,"2018-08-01",53.784931182861328,2018,false,false,false,7,0.19622673589467476,0.17917221606795877]
[null,null,"2006-09-01",2006,false,false,false,8,57.910468975470003,92.425883519990052,-7.1546884231811103E-2,-7.4235394059652404E-2,null,null,null,null,null,null,null,null,null,null,null,null,null,"2018-09-01",53.525417327880859,2018,false,false,false,7,-4.8250290420221997E-3,-4.8367070743569902E-3]
[null,null,"2006-10-01",2006,false,false,false,8,58.143045454549998,92.489236380456973,6.854450079800678E-4,6.8521019784408238E-4,null,null,null,null,null,null,null,null,null,null,null,null,null,"2018-10-01",51.894096374511719,2018,false,false,false,7,-3.0477500873578478E-2,-3.0951597630675894E-2]
[null,null,"2006-11-01",2006,false,false,false,8,60.994412280699997,98.388337899377206,6.3781492309592958E-2,6.1830005458619462E-2,null,null,null,null,null,null,null,null,null,null,null,null,null,"2018-11-01",42.343276977539063,2018,false,false,false,7,-0.18404443018037853,-0.20339537425088094]
[null,null,"2006-12-01",2006,false,false,false,8,53.516969696970001,85.553427203338543,-0.13045154507198875,-0.1397812193937463,null,null,null,null,null,null,null,null,null,null,null,null,null,"2018-12-01",37.532382965087891,2018,false,false,false,7,-0.11361647836097111,-0.12060555337059455]
[null,null,"2007-01-01",2007,false,true,false,8,57.5625,90.846033487043215,6.1863170847913596E-2,6.0025073509533684E-2,null,null,null,null,null,null,null,null,null,null,null,null,null,"2019-01-01",39.602436065673828,2019,false,true,false,7,5.5153788197020992E-2,5.3686527107362221E-2]
[null,null,"2007-02-01",2007,false,false,false,8,60.59984848485,97.551579199252927,7.3812201312741799E-2,7.1215121684132535E-2,null,null,null,null,null,null,null,null,null,null,null,null,null,"2019-02-01",41.199016571044922,2019,false,false,false,7,4.0315209466494473E-2,3.9523753257465828E-2]
[null,null,"2007-03-01",2007,false,false,false,8,65.057640350880007,105.55903457956337,8.2084323452672248E-2,7.8889110338388871E-2,null,null,null,null,null,null,null,null,null,null,null,null,null,"2019-03-01",45.390224456787109,2019,false,false,false,7,0.10173077501776606,9.6882375091700626E-2]
[null,null,"2007-04-01",2007,false,false,false,8,65.157259552040003,105.45712056118752,-9.6546940564368189E-4,-9.6593577142906051E-4,null,null,null,null,null,null,null,null,null,null,null,null,null,"2019-04-01",47.951850891113281,2019,false,false,false,7,5.6435641484102295E-2,5.4900639497322941E-2]
[null,null,"2007-05-01",2007,false,false,false,8,68.188095238100004,111.21238949792996,5.4574493463465767E-2,5.3137361839825453E-2,null,null,null,null,null,null,null,null,null,null,null,null,null,"2019-05-01",41.834506988525391,2019,false,false,false,7,-0.1275726335669265,-0.13647587601200853]
[null,null,"2007-06-01",2007,false,false,false,8,73.601695526699999,120.12840580114938,8.0171070358895369E-2,7.7119427072872282E-2,null,null,null,null,null,null,null,null,null,null,null,null,null,"2019-06-01",47.476840972900391,2019,false,false,false,7,0.13487272566454789,0.1265205086672852]
[null,null,"2007-07-01",2007,false,false,false,8,70.126811594200007,109.9445629182047,-8.4774644390121834E-2,-8.8584953747068901E-2,null,null,null,null,null,null,null,null,null,null,null,null,null,"2019-07-01",51.103805541992188,2019,false,false,false,7,7.639439555723726E-2,7.3616933202690069E-2]
[null,null,"2007-08-01",2007,false,false,false,8,76.76243859649,119.58100815600231,8.7648219993987642E-2,8.401776894082999E-2,null,null,null,null,null,null,null,null,null,null,null,null,null,"2019-08-01",50.072334289550781,2019,false,false,false,7,-2.0183844265645567E-2,-2.0390321105319804E-2]
[null,null,"2007-09-01",2007,false,false,false,8,81.967246376809996,128.17570285727075,7.1873408945139605E-2,6.9407967005015503E-2,null,null,null,null,null,null,null,null,null,null,null,null,null,"2019-09-01",53.929817199707031,2019,false,false,false,7,7.7038208122069518E-2,7.4214873981439569E-2]
[null,null,"2007-10-01",2007,false,false,false,8,91.338261183260002,142.72121192790945,0.113481016654426,0.10749115921291143,null,null,null,null,null,null,null,null,null,null,null,null,null,"2019-10-01",59.899009704589837,2019,false,false,false,7,0.11068445648125125,0.10497645274823408]
[null,null,"2007-11-01",2007,false,false,false,8,89.519941520469999,140.56343501017147,-1.511882423495603E-2,-1.5234278827955252E-2,null,null,null,null,null,null,null,null,null,null,null,null,null,"2019-11-01",64.351219177246094,2019,false,false,false,7,7.4328598997106532E-2,7.169590738890344E-2]
[null,null,"2007-12-01",2007,false,false,false,8,90.689935064940002,140.81635555557787,1.7993338408961446E-3,1.7977169789863401E-3,null,null,null,null,null,null,null,null,null,null,null,null,null,"2019-12-01",70.920372009277344,2019,false,false,false,7,0.10208280303031203,9.7201846773921435E-2]
[null,null,"2008-01-01",2008,false,true,false,8,93.387590643270002,144.7467317164168,2.7911361186220063E-2,2.7528938788401854E-2,null,null,null,null,null,null,null,null,null,null,null,null,null,"2020-01-01",74.750778198242188,2020,true,true,true,8,5.4009956243091573E-2,5.2601896225496748E-2]
[null,null,"2008-02-01",{"$f":"YEAR(C429)","v":2008},{"$f":"MOD(D429,5)=0","v":false},{"$f":"MONTH(C429)=1","v":false},{"$f":"AND(F429,E429)","v":false},8,101.84283333333001,157.14519802843432,8.5656278141797326E-2,8.2184668782352269E-2,null,null,null,null,null,null,null,null,null,null,null,null,null,"2020-02-01",66.020057678222656,2020,true,false,false,8,-0.11679772077911077,-0.12420102282304225]
[null,null,"2008-03-01",2008,false,false,false,{"$f":"H429+G430","v":8},108.75818181818001,167.11507655108284,6.344373641531531E-2,6.1512450088783595E-2,null,null,null,null,null,null,null,null,null,null,null,null,null,"2020-03-01",61.560161590576172,2020,true,false,false,8,-6.7553653306147043E-2,-6.9943666177016778E-2]
[null,null,"2008-04-01",2008,false,false,false,8,122.63260894661001,187.36267277840193,0.12115960238410883,0.11436350896378893,null,null,null,null,null,null,null,null,null,null,null,null,null,"2020-04-01",71.124984741210938,2020,true,false,false,8,0.15537358745495844,0.14442374401628075]
[null,null,"2008-05-01",2008,false,false,false,8,131.52111111111,200.45397146084048,6.9871434306031377E-2,6.7538486400465753E-2,null,null,null,null,null,null,null,null,null,null,null,null,null,"2020-05-01",76.968978881835938,2020,true,false,false,8,8.2165137354875295E-2,7.8963791102971762E-2]
[null,null,"2008-06-01",2008,false,false,false,8,132.82518445323001,200.8742653100818,2.0967100136672912E-3,2.0945149849169258E-3,null,null,null,null,null,null,null,null,null,null,null,null,null,"2020-06-01",88.55218505859375,2020,true,false,false,8,0.15049187796216645,0.14018957089614945]
[null,null,"2008-07-01",2008,false,false,false,8,114.56682539683,170.05465758152474,-0.15342735756111925,-0.16655926604196319,null,null,null,null,null,null,null,null,null,null,null,null,null,"2020-07-01",103.1749801635742,2020,true,false,false,8,0.16513195123649127,0.15283434346785102]
[null,null,"2008-08-01",2008,false,false,false,8,99.656767676770002,147.32677048964504,-0.13365048282187664,-0.14346685233123294,null,null,null,null,null,null,null,null,null,null,null,null,null,"2020-08-01",125.293586730957,2020,true,false,false,8,0.21437955725618596,0.19423329390109387]
[null,null,"2008-09-01",2008,false,false,false,8,72.692753623190001,107.8963796496743,-0.26763900891143289,-0.31148172935806673,null,null,null,null,null,null,null,null,null,null,null,null,null,"2020-09-01",112.6504440307617,2020,true,false,false,8,-0.10090813927566722,-0.10637006872470826]
[null,null,"2008-10-01",2008,false,false,false,8,53.972728070179997,78.626389422099777,-0.27127870576019719,-0.3164639325017613,null,null,null,null,null,null,null,null,null,null,null,null,null,"2020-10-01",105.8900604248047,2020,true,false,false,8,-6.001204579460806E-2,-6.1888218475311077E-2]
[null,null,"2008-11-01",2008,false,false,false,8,41.338924963929998,61.352331666462092,-0.21969796505475059,-0.24807420996169505,null,null,null,null,null,null,null,null,null,null,null,null,null,"2020-11-01",115.8020324707031,2020,true,false,false,8,9.3606255451493814E-2,8.9480726465645102E-2]
[null,null,"2008-12-01",2008,false,false,false,8,43.855214285709998,66.185566934226614,7.8778346910107544E-2,7.5829240623074556E-2,null,null,null,null,null,null,null,null,null,null,null,null,null,"2020-12-01",129.2926025390625,2020,true,false,false,8,0.11649683326389293,0.11019595598764291]
[null,null,"2009-01-01",2009,false,true,false,8,41.843675438600002,63.797552497236502,-3.6080592002229905E-2,-3.674758952846939E-2,null,null,null,null,null,null,null,null,null,null,null,null,null,"2021-01-01",128.58128356933591,2021,false,true,false,8,-5.5016215603803653E-3,-5.5168112177254132E-3]
[null,null,"2009-02-01",2009,false,false,false,8,46.645303030299999,69.09017641025963,8.2959670173121225E-2,7.9697728334810675E-2,null,null,null,null,null,null,null,null,null,null,null,null,null,"2021-02-01",118.15525817871089,2021,false,false,false,8,-8.1085093422659016E-2,-8.456175440931285E-2]
[null,null,"2009-03-01",2009,false,false,false,8,50.278095238100001,75.023480843033198,8.5877685382382385E-2,8.2388586607328812E-2,null,null,null,null,null,null,null,null,null,null,null,null,null,"2021-03-01",119.2003173828125,2021,false,false,false,8,8.844796416262346E-3,8.805910329243721E-3]
[null,null,"2009-04-01",2009,false,false,false,8,58.153888888890002,85.546102839290995,0.1402577150248947,0.13125430266869015,null,null,null,null,null,null,null,null,null,null,null,null,null,"2021-04-01",128.2855224609375,2021,false,false,false,8,7.6217960468576651E-2,7.3453006717215982E-2]
[null,null,"2009-05-01",2009,false,false,false,8,69.149696969700003,101.4172756117901,0.18552771249340338,0.17018800245710797,null,null,null,null,null,null,null,null,null,null,null,null,null,"2021-05-01",121.6009216308594,2021,false,false,false,8,-5.2107211334884163E-2,-5.3513875247917078E-2]
[null,null,"2009-06-01",2009,false,false,false,8,64.666673254279999,96.053470282966813,-5.2888477791053323E-2,-5.4338429045447327E-2,null,null,null,null,null,null,null,null,null,null,null,null,null,"2021-06-01",133.87969970703119,2021,false,false,false,8,0.10097602807194295,9.6197084635157207E-2]
[null,null,"2009-07-01",2009,false,false,false,8,71.629682539680005,107.48182725136651,0.1189791158480018,0.11241676592774755,null,null,null,null,null,null,null,null,null,null,null,null,null,"2021-07-01",142.57954406738281,2021,false,false,false,8,6.4982550598705169E-2,6.2958414612801106E-2]
[null,null,"2009-08-01",2009,false,false,false,8,68.346111111110005,100.46478064509121,-6.528588865413143E-2,-6.751455971501924E-2,null,null,null,null,null,null,null,null,null,null,null,null,null,"2021-08-01",148.415283203125,2021,false,false,false,8,4.0929708212450455E-2,4.0114264022049699E-2]
[null,null,"2009-09-01",2009,false,false,false,8,74.080606060609995,108.7562627177135,8.2531231535888594E-2,7.93020317816783E-2,null,null,null,null,null,null,null,null,null,null,null,null,null,"2021-09-01",138.52485656738281,2021,false,false,false,8,-6.6640216710066813E-2,-6.8964532649285981E-2]
[null,null,"2009-10-01",2009,false,false,false,8,77.552301587299993,114.48325595996261,5.2658974289269356E-2,5.1319319623697027E-2,null,null,null,null,null,null,null,null,null,null,null,null,null,"2021-10-01",146.65034484863281,2021,false,false,false,8,5.8657258217751806E-2,5.7001367603377304E-2]
[null,null,"2009-11-01",2009,false,false,false,8,74.881818181819995,110.7971876527009,-3.2197444738563452E-2,-3.2727184348003341E-2,null,null,null,null,null,null,null,null,null,null,null,null,null,"2021-11-01",161.824462890625,2021,false,false,false,8,0.1034714105695036,9.8461038422085242E-2]
[null,null,"2009-12-01",2009,false,false,false,8,77.121087719299993,113.07155372367254,2.0527290621317418E-2,2.0319445312265656E-2,null,null,null,null,null,null,null,null,null,null,null,null,null,"2021-12-01",174.0901184082031,2021,false,false,false,8,7.579605270105727E-2,7.3060901674829634E-2]
[null,null,"2010-01-01",2010,true,true,true,9,74.763015594539993,109.78283587000828,-2.9085280473825526E-2,-2.9516642018339395E-2,null,null,null,null,null,null,null,null,null,null,null,null,null,"2022-01-01",171.35481262207031,2022,false,true,false,8,-1.5712010601998005E-2,-1.5836752597582347E-2]
[null,null,"2010-02-01",2010,true,false,false,9,79.297681159419994,116.90768299697199,6.4899463294973536E-2,6.2880394043368829E-2,null,null,null,null,null,null,null,null,null,null,null,null,null,"2022-02-01",161.88414001464841,2022,false,false,false,8,-5.5269370392939221E-2,-5.6855440157163629E-2]
[null,null,"2010-03-01",2010,true,false,false,9,84.182857142860001,125.08047215197048,6.9908058610743229E-2,6.7572718249903185E-2,null,null,null,null,null,null,null,null,null,null,null,null,null,"2022-03-01",171.40626525878909,2022,false,false,false,8,5.8820618519387136E-2,5.7155664660035251E-2]
[null,null,"2010-04-01",2010,true,false,false,9,75.61831746032,112.02756063567456,-0.10435611004439505,-0.11021238925508078,null,null,null,null,null,null,null,null,null,null,null,null,null,"2022-04-01",154.7574462890625,2022,false,false,false,8,-9.7130749244143555E-2,-0.10217753033915983]
[null,null,"2010-05-01",2010,true,false,false,9,74.724999999999994,109.76874742527235,-2.0163013436917621E-2,-2.0369061395344487E-2,null,null,null,null,null,null,null,null,null,null,null,null,null,"2022-05-01",146.10908508300781,2022,false,false,false,8,-5.5883328482307149E-2,-5.7505527764165641E-2]
[null,null,"2010-06-01",2010,true,false,false,9,74.579401154400003,109.52239569569718,-2.2442793176890019E-3,-2.2468014868582435E-3,null,null,null,null,null,null,null,null,null,null,null,null,null,"2022-06-01",134.40867614746091,{"$f":"YEAR(Z457)","v":2022},{"$f":"MOD(AB457,5)=0","v":false},{"$f":"MONTH(Z457)=1","v":false},{"$f":"AND(AD457,AC457)","v":false},8,-8.0079954842641299E-2,-8.3468520153374817E-2]
[null,null,"2010-07-01",2010,true,false,false,9,75.826269841270005,112.27646171142335,{"$f":"J458/J457-1","v":2.5146144751784005E-2},{"$f":"LN(J458/J457)","v":2.4835182672417282E-2},null,null,null,null,null,null,null,null,null,null,null,null,null,"2022-07-01",159.76264953613281,2022,false,false,false,{"$f":"AF457+AE458","v":8},{"$f":"AA458/AA457-1","v":0.18863345816200017},{"$f":"LN(AA458/AA457)","v":0.17280429277349105}]
[null,null,"2010-08-01",2010,true,false,false,9,76.116240981239997,113.76923117278507,1.3295480090907086E-2,1.3207870878851816E-2,null,null,null,null,null,null,null,null,null,null,null,null,null,"2022-08-01",154.5621032714844,2022,false,false,false,8,-3.2551702664847304E-2,-3.3093294953008889E-2]
[null,null,"2010-09-01",2010,true,false,false,9,81.719365079369993,121.15924806160326,6.4956199603693587E-2,6.2933671182962642E-2,null,null,null,null,null,null,null,null,null,null,null,null,null,"2022-09-01",136.0523681640625,2022,false,false,false,8,-0.11975597326668119,-0.12755610684524066]
[null,null,"2010-10-01",2010,true,false,false,9,84.53406349206,125.05880005652504,3.2185343317243653E-2,3.167824717153659E-2,null,null,null,null,null,null,null,null,null,null,null,null,null,"2022-10-01",150.95709228515619,2022,false,false,false,8,0.1095513758578639,0.10395576773337808]
[null,null,"2010-11-01",2010,true,false,false,9,90.005961791830003,133.8752636702084,7.0498546361378978E-2,6.8124471140446785E-2,null,null,null,null,null,null,null,null,null,null,null,null,null,"2022-11-01",145.7295837402344,2022,false,false,false,8,-3.4629101990432454E-2,-3.5242901217813233E-2]
[null,null,"2010-12-01",2010,true,false,false,9,92.690595238100002,140.2611249391924,4.770008359957445E-2,4.6597365170206941E-2,null,null,null,null,null,null,null,null,null,null,null,null,null,"2022-12-01",128.12306213378909,2022,false,false,false,8,-0.12081638576439813,-0.12876151319606011]
[null,null,"2011-01-01",2011,false,true,false,9,97.914192007799997,151.2162469766547,7.8105191600393198E-2,7.5205048060470792E-2,null,null,null,null,null,null,null,null,null,null,null,null,null,"2023-01-01",142.28334045410159,2023,false,true,false,8,0.11052091703463973,0.10482919986576139]
[null,null,"2011-02-01",2011,false,false,false,9,108.64521739129999,166.18007432241271,9.8956478850239948E-2,9.4361073955136349E-2,null,null,null,null,null,null,null,null,null,null,null,null,null,"2023-02-01",145.3599853515625,2023,false,false,false,8,2.1623367062100884E-2,2.1392898479798094E-2]
[null,null,"2011-03-01",2011,false,false,false,9,116.24316666667001,178.31613014462059,7.3029548648908538E-2,7.048600161879022E-2,null,null,null,null,null,null,null,null,null,null,null,null,null,"2023-03-01",162.8550109863281,2023,false,false,false,8,0.12035654511420568,0.11364697849831988]
[null,null,"2011-04-01",2011,false,false,false,9,108.06851298701,165.40858800552775,-7.2385723762759868E-2,-7.5139283209016208E-2,null,null,null,null,null,null,null,null,null,null,null,null,null,"2023-04-01",167.5757141113281,2023,false,false,false,8,2.8987153028998902E-2,2.8574971865325195E-2]
[null,null,"2011-05-01",2011,false,false,false,9,105.84545454546,163.91665898209453,-9.01965878206612E-3,-9.0605821668387227E-3,null,null,null,null,null,null,null,null,null,null,null,null,null,"2023-05-01",175.0518493652344,2023,false,false,false,8,4.4613476920286832E-2,4.3646938449652777E-2]
[null,null,"2011-06-01",2011,false,false,false,9,107.91661111111,167.32212770818481,2.0775610894206098E-2,2.0562741173873668E-2,null,null,null,null,null,null,null,null,null,null,null,null,null,"2023-06-01",191.82948303222659,2023,false,false,false,8,9.5843795583026026E-2,9.1524656090297862E-2]
[null,null,"2011-07-01",2011,false,false,false,9,100.48642512076999,157.68854642516055,-5.7575058451477146E-2,-5.9299000445513755E-2,null,null,null,null,null,null,null,null,null,null,null,null,null,"2023-07-01",194.2820739746094,2023,false,false,false,8,1.2785265870579376E-2,1.2704224385858118E-2]
[null,null,"2011-08-01",2011,false,false,false,9,100.81935064935,158.3421363607375,4.1448155265173536E-3,4.1362494403832089E-3,null,null,null,null,null,null,null,null,null,null,null,null,null,"2023-08-01",185.79676818847659,2023,false,false,false,8,-4.3675186354258044E-2,-4.4657660409427036E-2]
[null,null,"2011-09-01",2011,false,false,false,9,99.847753968250004,155.83416886100548,-1.5838914122128123E-2,-1.5965690167672287E-2,null,null,null,null,null,null,null,null,null,null,null,null,null,"2023-09-01",169.54927062988281,2023,false,false,false,8,-8.7447686614828157E-2,-9.1509865431602444E-2]
[null,null,"2011-10-01",2011,false,false,false,9,105.40501443001,156.85477883303412,6.549333689063852E-3,6.5279799874813325E-3,null,null,null,null,null,null,null,null,null,null,null,null,null,"2023-10-01",169.11354064941409,2023,false,false,false,8,-2.5699313176044125E-3,-2.5732392597645312E-3]
[null,null,"2011-11-01",2011,false,false,false,9,104.23047619048,152.74576612699153,-2.6196286377837885E-2,-2.6545521703981053E-2,null,null,null,null,null,null,null,null,null,null,null,null,null,"2023-11-01",188.10749816894531,2023,false,false,false,8,0.11231482379584978,0.10644327068324845]
[null,null,"2011-12-01",2011,false,false,false,9,107.07457226399001,156.95979196026275,2.7588495184656781E-2,2.7214790379957197E-2,null,null,null,null,null,null,null,null,null,null,null,null,null,"2023-12-01",190.9136657714844,2023,false,false,false,8,1.4917893384658099E-2,1.4807716004632295E-2]
[null,null,"2012-01-01",2012,false,true,false,9,112.68752380952,168.62193409967963,7.4300188562745895E-2,7.166946221184281E-2,null,null,null,null,null,null,null,null,null,null,null,null,null,"2024-01-01",182.8518981933594,2024,false,true,false,8,-4.2227294445095431E-2,-4.3144788498986161E-2]
[null,null,"2012-02-01",2012,false,false,false,9,117.785,175.56940152835733,4.1201445504537748E-2,4.0375282443627029E-2,null,null,null,null,null,null,null,null,null,null,null,null,null,"2024-02-01",179.23255920410159,2024,false,false,false,8,-1.9793827819225007E-2,-1.9992349667940286E-2]
[null,null,"2012-03-01",2012,false,false,false,9,113.66549999999999,168.92550816029166,-3.784197764661501E-2,-3.8576577405741865E-2,null,null,null,null,null,null,null,null,null,null,null,null,null,"2024-03-01",170.2573547363281,2024,false,false,false,8,-5.0075747998180153E-2,-5.1373032301459974E-2]
[null,null,"2012-04-01",2012,false,false,false,9,104.0860342556,154.69045904473603,-8.4268203603970471E-2,-8.8031755876204529E-2,null,null,null,null,null,null,null,null,null,null,null,null,null,"2024-04-01",169.11555480957031,2024,false,false,false,8,-6.7063177888910808E-3,-6.7289061846493928E-3]
[null,null,"2012-05-01",2012,false,false,false,9,90.728253968250002,133.60181540257673,-0.13632801772254433,-0.14656223240527563,null,null,null,null,null,null,null,null,null,null,null,null,null,"2024-05-01",190.87925720214841,2024,false,false,false,8,0.12869131060761818,0.12105882936525912]
[null,null,"2012-06-01",2012,false,false,false,9,96.754112554109994,143.95869989459217,7.7520537133477285E-2,7.4662602798792291E-2,null,null,null,null,null,null,null,null,null,null,null,null,null,"2024-06-01",209.40191650390619,2024,false,false,false,8,9.703861788471646E-2,9.2614383850063389E-2]
[null,null,"2012-07-01",2012,false,false,false,9,105.27363699103,158.0097878864421,9.7604993669283324E-2,9.3130527604938992E-2,null,null,null,null,null,null,null,null,null,null,null,null,null,"2024-07-01",220.795654296875,2024,false,false,false,8,5.4410857279600267E-2,5.2982181829555372E-2]
[null,null,"2012-08-01",2012,false,false,false,9,106.28496491228,157.84813068203152,-1.0230834847190229E-3,-1.0236071918552601E-3,null,null,null,null,null,null,null,null,null,null,null,null,null,"2024-08-01",227.67564392089841,2024,false,false,false,8,3.1159986576424048E-2,3.0684369113057792E-2]
[null,null,"2012-09-01",2012,false,false,false,9,103.40786561265,155.63060149144508,-1.404849826858845E-2,-1.4148112474194273E-2,null,null,null,null,null,null,null,null,null,null,null,null,null,"2024-09-01",231.920654296875,2024,false,false,false,8,1.8644991193925931E-2,1.8473304131564519E-2]
[null,null,"2012-10-01",2012,false,false,false,9,101.17441558442,152.2155432249898,-2.1943359684586161E-2,-2.2187696191357256E-2,null,null,null,null,null,null,null,null,null,null,null,null,null,"2024-10-01",224.86347961425781,2024,false,false,false,8,-3.0429263422064645E-2,-3.0901845044636615E-2]
[null,null,"2012-11-01",2012,false,false,false,9,101.19366666667,151.94495232662931,-1.7776824404885927E-3,-1.7792643930023382E-3,null,null,null,null,null,null,null,null,null,null,null,null,null,"2024-11-01",236.23057556152341,2024,false,false,false,8,5.0551098678919715E-2,4.9314882365443305E-2]
[null,null,"2012-12-01",2012,false,false,false,9,105.10021645022,156.28781794884242,2.8581835432594405E-2,2.8180994697200919E-2,null,null,null,null,null,null,null,null,null,null,null,null,null,"2024-12-01",249.5341796875,2024,false,false,false,8,5.6316182163776762E-2,5.4787555396184573E-2]
[null,null,"2013-01-01",2013,false,true,false,9,107.63743567252,160.98076454793173,3.0027590510128155E-2,2.9585588785818767E-2,null,null,null,null,null,null,null,null,null,null,null,null,null,"2025-01-01",235.1651916503906,2025,true,true,true,9,-5.7583245930894811E-2,-5.9307688155931827E-2]
[null,null,"2013-02-01",2013,false,false,false,9,102.52249999999999,150.67743465808468,-6.4003484632347174E-2,-6.6143525409281811E-2,null,null,null,null,null,null,null,null,null,null,null,null,null,"2025-02-01",240.9845275878906,2025,true,false,false,9,2.4745736801691898E-2,2.4444520161103669E-2]
[null,null,"2013-03-01",2013,false,false,false,9,98.851969696970002,141.72575044727324,-5.9409587315608858E-2,-6.1247502289039565E-2,null,null,null,null,null,null,null,null,null,null,null,null,null,"2025-03-01",221.5876159667969,2025,true,false,false,9,-8.0490278007659066E-2,-8.3914661864411239E-2]
[null,null,"2013-04-01",2013,false,false,false,9,99.366633414890003,141.80944465582451,5.9053635833383744E-4,5.9036206035473378E-4,null,null,null,null,null,null,null,null,null,null,null,null,null,"2025-04-01",211.98112487792969,2025,true,false,false,9,-4.3353014323267325E-2,-4.4320831571541611E-2]
[null,null,"2013-05-01",2013,false,false,false,9,99.742666666670004,141.76384612627868,-3.2154790293759117E-4,-3.2159961054914607E-4,null,null,null,null,null,null,null,null,null,null,null,null,null,"2025-05-01",200.35957336425781,2025,true,false,false,9,-5.4823520350522736E-2,-5.6383617972354777E-2]
[null,null,"2013-06-01",{"$f":"YEAR(C493)","v":2013},{"$f":"MOD(D493,5)=0","v":false},{"$f":"MONTH(C493)=1","v":false},{"$f":"AND(F493,E493)","v":false},9,105.25790513834001,147.8821750430096,4.3158598499654977E-2,4.2253224381664539E-2,null,null,null,null,null,null,null,null,null,null,null,null,null,"2025-06-01",204.9374084472656,2025,true,false,false,9,2.2848097578473059E-2,2.2590988728602553E-2]
[null,null,"2013-07-01",2013,false,false,false,{"$f":"H493+G494","v":9},108.15763636363999,152.09564261146838,2.8492058405506615E-2,2.8093708550199867E-2,null,null,null,null,null,null,null,null,null,null,null,null,null,"2025-07-01",207.33470153808591,2025,true,false,false,9,1.1697684229461602E-2,1.162979523772506E-2]
[null,null,"2013-08-01",2013,false,false,false,9,108.75773015873,152.80400050462947,4.6573187830936114E-3,4.6465070301603406E-3,null,null,null,null,null,null,null,null,null,null,null,null,null,"2025-08-01",230.7749938964844,2025,true,false,false,9,0.11305532640947069,0.10710878032072021]
[null,null,"2013-09-01",2013,false,false,false,9,105.42713438734999,149.72366336767897,-2.0158746674025618E-2,-2.0364706840800623E-2]
[null,null,"2013-10-01",2013,false,false,false,9,102.62649122806999,147.6875155528686,-1.359937213004303E-2,-1.3692690605484725E-2]
[null,null,"2013-11-01",2013,false,false,false,9,105.48165079365,151.08258209451532,2.2988175601283967E-2,2.2727928350669269E-2]
[null,null,"2013-12-01",2013,false,false,false,9,102.09666666667,146.45846706324272,-3.0606539596866322E-2,-3.1084701618854592E-2]
[null,null,"2014-01-01",2014,false,true,false,9,104.82666666666999,148.16006876841004,1.1618322513457402E-2,1.1551348059152441E-2]
[null,null,"2014-02-01",2014,false,false,false,9,104.04,146.10372252449699,-1.3879220366233347E-2,-1.3976437323774665E-2]
[null,null,"2014-03-01",2014,false,false,false,9,104.86666666667,146.4509806587923,2.3767918318240433E-3,2.3739717297645469E-3]
[null,null,"2014-04-01",2014,false,false,false,9,105.71333333333,148.77888635883255,1.5895459965979297E-2,1.5770450128094384E-2]
[null,null,"2014-05-01",2014,false,false,false,9,108.37333333333,151.48364480547863,1.817971966884202E-2,1.8016444461024211E-2]
[null,null,"2014-06-01",2014,false,false,false,9,105.22666666667,144.61467366002591,-4.5344638718412322E-2,-4.6404881872804109E-2]
[null,null,"2014-07-01",2014,false,false,false,9,100.05,137.54829906323585,-4.886346881646586E-2,-5.0097660828061115E-2]
[null,null,"2014-08-01",2014,false,false,false,9,95.85,131.18289478762841,-4.6277593535933415E-2,-4.7382628425519054E-2]
[null,null,"2014-09-01",2014,false,false,false,9,86.08,117.45073609421502,-0.10467949129834608,-0.1105735145322866]
[null,null,"2014-10-01",2014,false,false,false,9,76.99333333333,105.42193051152505,-0.10241575304424544,-0.10804829455069433]
[null,null,"2014-11-01",2014,false,false,false,9,60.703333333330001,83.678727474279711,-0.20624933476121743,-0.23098589067948283]
[null,null,"2014-12-01",2014,false,false,false,9,47.106666666670002,64.493999321994664,-0.22926649019826273,-0.26041260744736505]
[null,null,"2015-01-01",2015,true,true,true,10,54.79,77.728639416893301,0.20520730973470847,0.18665159341883253]
[null,null,"2015-02-01",2015,true,false,false,10,52.82666666667,74.858823025108336,-3.6920965210684553E-2,-3.7619799119376289E-2]
[null,null,"2015-03-01",2015,true,false,false,10,57.543333333329997,79.694182230006476,6.4593043404867823E-2,6.2592607266701156E-2]
[null,null,"2015-04-01",2015,true,false,false,10,62.50666666667,86.646115015548816,8.7232625908353789E-2,8.3635592518176496E-2]
[null,null,"2015-05-01",2015,true,false,false,10,61.306666666669997,83.669433037126524,-3.4354477149819318E-2,-3.4958465684797546E-2]
[null,null,"2015-06-01",2015,true,false,false,10,54.34,74.978014034122936,-0.10387806738390304,-0.1096787897569627]
[null,null,"2015-07-01",2015,true,false,false,10,45.69,63.052075834848196,-0.15905913690708284,-0.17323393885027838]
[null,null,"2015-08-01",2015,true,false,false,10,46.28,63.377236801717572,5.1570223908419255E-3,5.1437704915736817E-3]
[null,null,"2015-09-01",2015,true,false,false,10,46.956666666670003,64.55978988149954,1.8658956108826841E-2,1.8487013342622219E-2]
[null,null,"2015-10-01",2015,true,false,false,10,43.113333333329997,59.587252826938695,-7.7022200098358584E-2,-8.0150096879439262E-2]
[null,null,"2015-11-01",2015,true,false,false,10,36.573333333329998,50.578429592125268,{"$f":"J522/J521-1","v":-0.1511870879662478},{"$f":"LN(J522/J521)","v":-0.16391647969421147}]
[null,null,"2015-12-01",2015,true,false,false,10,29.78,41.274451408164879,-0.18395150381278258,-0.20328149418203559]
[null,null,"2016-01-01",2016,false,true,false,10,31.03,44.440109549341102,7.6697764190028606E-2,7.3898731297978748E-2]
[null,null,"2016-02-01",2016,false,false,false,10,37.340000000000003,52.253328052814624,0.17581456442627896,0.16196115373212758]
[null,null,"2016-03-01",2016,false,false,false,10,40.75,56.46638993920746,8.0627627816060254E-2,7.7542009208213872E-2]
[null,null,"2016-04-01",2016,false,false,false,10,45.93666666667,62.929724743501069,0.11446339692075469,0.1083730307030699]
[null,null,"2016-05-01",2016,false,false,false,10,47.68666666667,64.677610367344798,2.7775198937672663E-2,2.7396465043242644E-2]
[null,null,"2016-06-01",2016,false,false,false,10,44.126666666669998,60.078593405293596,-7.1106785422814678E-2,-7.3761493408984732E-2]
[null,null,"2016-07-01",2016,false,false,false,10,44.876666666669998,61.462704741935148,2.3038344578147241E-2,2.2776968748121136E-2]
[null,null,"2016-08-01",2016,false,false,false,10,45.043333333329997,61.475122478960756,2.0203694383025272E-4,2.0201653711547719E-4]
[null,null,"2016-09-01",2016,false,false,false,10,49.293333333329997,66.106471735023092,7.5336966716046394E-2,7.263406987239171E-2]
[null,null,"2016-10-01",2016,false,false,false,10,45.26,61.649624750952228,-6.7419223369466819E-2,-6.9799507483310042E-2]
[null,null,"2016-11-01",2016,false,false,false,10,52.62,71.678213498729107,0.16267071840728398,0.15071970224120157]
[null,null,"2016-12-01",2016,false,false,false,10,53.59,72.640844634174627,1.3429898548777075E-2,1.3340516830280421E-2]
[null,null,"2017-01-01",2017,false,true,false,10,54.353333333329999,73.283922889396393,8.8528466107513637E-3,8.8138899138131745E-3]
[null,null,"2017-02-01",2017,false,false,false,10,50.903333333330004,68.480847060022285,-6.5540648480610697E-2,-6.7787150604113347E-2]
[null,null,"2017-03-01",2017,false,false,false,10,52.163333333330002,69.674985015302326,1.7437546504548873E-2,1.7287257094114477E-2]
[null,null,"2017-04-01",2017,false,false,false,10,49.893333333329998,66.778891053974363,-4.1565763676761569E-2,-4.2454329884984265E-2]
[null,null,"2017-05-01",2017,false,false,false,10,46.166666666669997,61.458992902955494,-7.9664367991960749E-2,-8.3016858068695784E-2]
[null,null,"2017-06-01",2017,false,false,false,10,47.656666666669999,63.732151328707296,3.6986587615276179E-2,3.631899533084125E-2]
[null,null,"2017-07-01",2017,false,false,false,10,49.943333333330003,67.144173991174512,5.3536913337025815E-2,5.2152992411458439E-2]
[null,null,"2017-08-01",2017,false,false,false,10,52.95,71.982678980516567,7.2061426952367169E-2,6.958336226849221E-2]
[null,null,"2017-09-01",2017,false,false,false,10,54.92,75.054676288087094,4.2676896040532375E-2,4.1791344747391303E-2]
[null,null,"2017-10-01",2017,false,false,false,10,59.933333333329998,81.36532920796688,8.4080742626311711E-2,8.0732386061154432E-2]
[null,null,"2017-11-01",2017,false,false,false,10,61.18666666667,83.346508540018164,2.4349183507725414E-2,2.4057468009456909E-2]
[null,null,"2017-12-01",2017,false,false,false,10,66.226666666669999,89.395472107227178,7.2576088346935963E-2,7.0063314149196379E-2]
[null,null,"2018-01-01",2018,false,true,false,10,63.46,84.624911484876776,-5.3364678432798685E-2,-5.484134806373895E-2]
[null,null,"2018-02-01",2018,false,false,false,10,64.166666666669997,85.800717904010824,1.389432967790083E-2,1.3798688375593123E-2]
[null,null,"2018-03-01",2018,false,false,false,10,68.793333333329997,92.309585308347806,7.5860290721794899E-2,7.3120611972854757E-2]
[null,null,"2018-04-01",2018,false,false,false,10,73.430000000000007,98.578795975549937,6.7915056126193862E-2,6.5708201912525188E-2]
[null,null,"2018-05-01",2018,false,false,false,10,71.976666666669999,96.478746572650323,-2.1303256771572632E-2,-2.1533446206428768E-2]
[null,null,"2018-06-01",2018,false,false,false,10,72.666666666669997,95.291316273185743,-1.2307687875799944E-2,-1.2384054712603194E-2]
[null,null,"2018-07-01",2018,false,false,false,10,71.083333333330003,93.387878479224739,-1.9974934426387203E-2,-2.0177130528676875E-2]
[null,null,"2018-08-01",2018,false,false,false,10,75.363333333330004,100.48188974329845,7.5962869909844466E-2,7.321595362546264E-2]
[null,null,"2018-09-01",2018,false,false,false,10,76.726666666669999,102.34112835084571,1.8503220951527233E-2,1.8334119125994149E-2]
[null,null,"2018-10-01",{"$f":"YEAR(C557)","v":2018},{"$f":"MOD(D557,5)=0","v":false},{"$f":"MONTH(C557)=1","v":false},{"$f":"AND(F557,E557)","v":false},10,62.316666666670002,82.710821091358795,-0.19181249587350968,-0.21296118782020906]
[null,null,"2018-11-01",2018,false,false,false,{"$f":"H557+G558","v":10},53.96,71.528019027233057,-0.13520361564025218,-0.14526119356348741]
[null,null,"2018-12-01",2018,false,false,false,10,56.583333333330003,74.969646128623268,4.8115789423440747E-2,4.6994065886781212E-2]
[null,null,"2019-01-01",2019,false,true,false,10,61.13333333333,81.012992151041644,8.0610571537845788E-2,7.7526225405928753E-2]
[null,null,"2019-02-01",2019,false,false,false,10,63.786666666670001,83.787821256755564,3.4251655592975716E-2,3.3678127124818311E-2]
[null,null,"2019-03-01",2019,false,false,false,10,68.576666666669993,89.693204790898591,7.048021353899192E-2,6.8107345494241536E-2]
[null,null,"2019-04-01",2019,false,false,false,10,66.833333333330003,88.702939961302661,-1.1040578067251894E-2,-1.1101977591701328E-2]
[null,null,"2019-05-01",2019,false,false,false,10,59.76,79.492410490838864,-0.10383567302822161,-0.1096314821849021]
[null,null,"2019-06-01",2019,false,false,false,10,61.476666666669999,80.262038907504646,9.6817848636565618E-3,9.6352167184945662E-3]
[null,null,"2019-07-01",2019,false,false,false,10,57.67,74.194010092984598,-7.5602724489879369E-2,-7.8613347892485086E-2]
[null,null,"2019-08-01",2019,false,false,false,10,60.04,77.938102310306945,5.046353759056843E-2,4.9231531124675695E-2]
[null,null,"2019-09-01",2019,false,false,false,10,57.273333333330001,74.13198802468645,-4.8835090575680473E-2,-5.0067825135166492E-2]
[null,null,"2019-10-01",2019,false,false,false,10,60.403333333330004,78.225842567852695,5.5223860201927488E-2,5.3752934183825915E-2]
[null,null,"2019-11-01",2019,false,false,false,10,63.353333333329999,81.964660413283966,4.7795175132671064E-2,4.6688123221570337E-2]
[null,null,"2019-12-01",2019,false,false,false,10,61.626666666669998,79.015132334029019,-3.5985363257564629E-2,-3.6648801144081936E-2]
[null,null,"2020-01-01",2020,true,true,true,11,53.346666666669996,68.190979971140464,-0.13698834695524487,-0.14732708504114178]
[null,null,"2020-02-01",2020,true,false,false,11,32.203333333330001,40.811221029526777,-0.4015158449578119,-0.51335522878370632]
[null,null,"2020-03-01",2020,true,false,false,11,21.043333333330001,28.845424348193113,-0.29319869338573457,-0.34700568990465214]
[null,null,"2020-04-01",2020,true,false,false,11,30.38,38.326482749740968,0.32868500345503682,0.28418973392166985]
[null,null,"2020-05-01",2020,true,false,false,11,39.456666666670003,49.33030815698865,0.28710762422680314,0.25239754922553898]
[null,null,"2020-06-01",2020,true,false,false,11,42.066666666670002,52.85995617905396,7.1551306974052764E-2,6.9107418102020021E-2]
[null,null,"2020-07-01",2020,true,false,false,11,43.443333333330003,54.605684270952878,3.3025530440955464E-2,3.249190468297114E-2]
[null,null,"2020-08-01",2020,true,false,false,11,40.596666666669996,50.639765497534817,-7.2628313816913481E-2,-7.5400837808836538E-2]
[null,null,"2020-09-01",2020,true,false,false,11,39.9,49.819093634021932,-1.6206075511009943E-2,-1.6338830194967395E-2]
[null,null,"2020-10-01",2020,true,false,false,11,42.303333333330002,53.164600895389349,6.7153113742774773E-2,6.499446131490115E-2]
[null,null,"2020-11-01",2020,true,false,false,11,48.726666666669999,61.27087590726174,0.15247504684221935,0.14191184432431159]
[null,null,"2020-12-01",2020,true,false,false,11,53.603333333329999,66.945266724928132,9.2611550490236505E-2,8.8570748487061729E-2]
[null,null,"2021-01-01",2021,false,true,false,11,60.463333333329999,75.95099182224331,0.13452370179237416,0.12621291685943462]
[null,null,"2021-02-01",2021,false,false,false,11,63.83,79.799727308550743,5.0673933203072119E-2,4.9431799423281998E-2]
[null,null,"2021-03-01",2021,false,false,false,11,62.95,79.114922387750212,{"$f":"J586/J585-1","v":-8.5815446229871029E-3},{"$f":"LN(J586/J585)","v":-8.6185780988738744E-3}]
[null,null,"2021-04-01",2021,false,false,false,11,66.400000000000006,82.827363855516424,4.692466801106332E-2,4.5856978976129337E-2]
[null,null,"2021-05-01",2021,false,false,false,11,71.803333333330002,88.590138490619537,6.9575733994814426E-2,6.7262059557605489E-2]
[null,null,"2021-06-01",2021,false,false,false,11,73.283333333330006,89.796701352740428,1.3619606907473658E-2,1.3527693669069817E-2]
[null,null,"2021-07-01",2021,false,false,false,11,68.86666666667,84.154317776173158,-6.2835087387038802E-2,-6.4896011575838783E-2]
[null,null,"2021-08-01",2021,false,false,false,11,72.8,89.277258417670367,6.0875553113302949E-2,5.9094560682190767E-2]
[null,null,"2021-09-01",2021,false,false,false,11,82.063333333329993,99.670788227968004,0.11641855937906431,0.11012584685129267]
[null,null,"2021-10-01",2021,false,false,false,11,79.916666666669997,95.756339426569127,-3.927378192741604E-2,-4.006580334594137E-2]
[null,null,"2021-11-01",2021,false,false,false,11,72.86666666667,87.615455976465952,-8.5016652671294102E-2,-8.8849413512989792E-2]
[null,null,"2021-12-01",2021,false,false,false,11,83.92,100.27460903887469,0.14448538698250979,0.13495509229272046]
[null,null,"2022-01-01",2022,false,true,false,11,93.543333333329997,111.59533683083758,0.11289725186137645,0.1069667516450844]
[null,null,"2022-02-01",2022,false,false,false,11,112.39666666667,133.8566936696478,0.19948285897066853,0.18189051305017034]
[null,null,"2022-03-01",2022,false,false,false,11,103.41333333333,121.66250533701174,-9.1098831133023195E-2,-9.5518915834499799E-2]
[null,null,"2022-04-01",2022,false,false,false,11,110.09666666667,128.39014708160147,5.529757689892878E-2,5.3822790566931435E-2]
[null,null,"2022-05-01",2022,false,false,false,11,116.8,136.26124038680939,6.1306054118041242E-2,5.9500276205477355E-2]
[null,null,"2022-06-01",2022,false,false,false,11,105.08333333333,122.70735098623881,-9.9469881252326031E-2,-0.10477166823175767]
[null,null,"2022-07-01",2022,false,false,false,11,95.973333333330004,110.32631393422942,-0.10089890257184253,-0.10635979540695013]
[null,null,"2022-08-01",2022,false,false,false,11,88.22,100.2173376827562,-9.1627970617233268E-2,-9.6101260304966213E-2]
[null,null,"2022-09-01",2022,false,false,false,11,90.326666666669993,102.84086738664739,2.6178401507692461E-2,2.5841612244882406E-2]
[null,null,"2022-10-01",2022,false,false,false,11,87.376666666670005,99.942811090427043,-2.818000635218898E-2,-2.8584683392161057E-2]
[null,null,"2022-11-01",2022,false,false,false,11,78.066666666670002,88.27521858597899,-0.11674268891527728,-0.12413871529656012]
[null,null,"2022-12-01",2022,false,false,false,11,80.41,90.193533994721804,2.173107514737449E-2,2.1498321291571167E-2]
[null,null,"2023-01-01",2023,false,true,false,11,80.253333333330005,89.317401326762791,-9.7139188271554433E-3,-9.7614067158838143E-3]
[null,null,"2023-02-01",2023,false,false,false,11,76.473333333330004,84.39032826175665,-5.5163641035420596E-2,-5.6743531600051411E-2]
[null,null,"2023-03-01",2023,false,false,false,11,82.46,90.021058725985995,6.6722461924360488E-2,6.4590827823640576E-2]
[null,null,"2023-04-01",2023,false,false,false,11,74.123333333329995,80.695740841302936,-0.10359040447489387,-0.1093578326000452]
[null,null,"2023-05-01",2023,false,false,false,11,73.263333333329996,79.568753654056152,-1.3965881910212974E-2,-1.4064322453016226E-2]
[null,null,"2023-06-01",2023,false,false,false,11,78.983333333329995,84.896992161043357,6.6963955853235779E-2,6.4817190917949449E-2]
[null,null,"2023-07-01",2023,false,false,false,11,84.724333333329994,91.085326158855395,7.2892264381678284E-2,7.0358052625882905E-2]
[null,null,"2023-08-01",2023,false,false,false,11,92.22,99.072413111491315,8.7687965663165279E-2,8.4054311034363963E-2]
[null,null,"2023-09-01",2023,false,false,false,11,89.083666666669998,95.684702729252095,-3.4194285531602531E-2,-3.4792588736429444E-2]
[null,null,"2023-10-01",2023,false,false,false,11,81.354333333330004,87.174662530456331,-8.8938356456785383E-2,-9.3144718212048241E-2]
[null,null,"2023-11-01",2023,false,false,false,11,75.719333333329999,81.384363162742147,-6.6421815693192054E-2,-6.8730565563435569E-2]
[null,null,"2023-12-01",2023,false,false,false,11,77.672333333330002,83.630558103106566,2.759983433024793E-2,2.7225825033500545E-2]
[null,null,"2024-01-01",2024,false,true,false,11,80.548000000000002,87.096391407233142,4.1442187912384965E-2,4.0606471692768528E-2]
[null,null,"2024-02-01",{"$f":"YEAR(C621)","v":2024},{"$f":"MOD(D621,5)=0","v":false},{"$f":"MONTH(C621)=1","v":false},{"$f":"AND(F621,E621)","v":false},11,83.545666666670002,88.616792043188099,1.7456528466788912E-2,1.7305913556358937E-2]
[null,null,"2024-03-01",2024,false,false,false,{"$f":"H621+G622","v":11},88.011333333330001,93.129032779029771,5.0918574592980104E-2,4.9664614671818985E-2]
[null,null,"2024-04-01",2024,false,false,false,11,81.444999999999993,84.561822799311386,-9.199290193473908E-2,-9.650308315890832E-2]
[null,null,"2024-05-01",2024,false,false,false,11,81.204999999999998,84.911433541731014,4.1343803958595604E-3,4.1258573288888763E-3]
[null,null,"2024-06-01",2024,false,false,false,11,83.258666666669995,87.516862441849312,3.0684076236185742E-2,3.0222733476034134E-2]
[null,null,"2024-07-01",2024,false,false,false,11,78.120999999999995,82.771372125708822,-5.422372539113407E-2,-5.5749234085022616E-2]
[null,null,"2024-08-01",2024,false,false,false,11,72.424333333329997,75.888103012972522,-8.3160021828348474E-2,-8.68223277642136E-2]
[null,null,"2024-09-01",2024,false,false,false,11,73.970666666669999,77.13134955634041,1.6382627763871893E-2,1.6249880389302598E-2]
[null,null,"2024-10-01",2024,false,false,false,11,72.291666666669997,75.677827054435198,-1.8844769477856627E-2,-1.902459490930122E-2]
[null,null,"2024-11-01",2024,false,false,false,11,72.311000000000007,74.936571580571297,-9.794883160832768E-3,-9.8431685876898597E-3]
[null,null,"2024-12-01",2024,false,false,false,11,78.162000000000006,80.199372877180451,7.023007839303963E-2,6.7873651894473849E-2]
[null,null,"2025-01-01",2025,true,true,true,12,73.819000000000003,75.912341738499137,-5.3454671587601976E-2,-5.4936418922266951E-2]
[null,null,"2025-02-01",2025,true,false,false,12,70.701333333329998,73.133608231229175,-3.6604502556936924E-2,-3.7291258408041296E-2]
[null,null,"2025-03-01",2025,true,false,false,12,65.905000000000001,68.133097921748615,-6.8374997903429935E-2,-7.0824903529834976E-2]
[null,null,"2025-04-01",2025,true,false,false,12,62.748666666669997,64.450982248189121,-5.4042980370398452E-2,-5.5558144757752122E-2]
[null,null,"2025-05-01",2025,true,false,false,12,69.146666666670001,71.586181326596588,0.11070737527212704,0.10499708737068024]
[null,null,"2025-06-01",2025,true,false,false,12,69.190333333330003,70.950999999999993,-8.8729600437648104E-3,-8.9125591687282315E-3]

{"sheet":"Time Line Video","index":8,"n_rows":6,"n_cols":3,"rows_kept":6,"cut":false,"hidden":false,"merged":[]}
[]
[]
[null,null,"Work with Days instead of months"]
[null,null,"Accumulate days for Construction"]
[null,null,"Use time periods for construction and operation"]
[null,null,"End up with days"]

{"sheet":"InputC Partial Month","index":9,"n_rows":60,"n_cols":7,"rows_kept":60,"cut":false,"hidden":false,"merged":[]}
[]
[null,null,null,null,"Project IRR",null,{"$f":"'FM with Complex Timeline'!F26","v":7.255711853504182E-2}]
[]
[]
[null,"Timeline"]
[null,null,null,"Financial Close Date","Date","2026-08-14"]
[null,null,null,"Construction End Date","Date","2028-08-12"]
[null,null,null,"Commercial Operation Date","Date",{"$f":"F7+1","v":"2028-08-13"}]
[null,null,null,"Operating Life","Years",40]
[null,null,null,"End of Operating Life","Date",{"$f":"EDATE(F7,F9*months)","v":"2068-08-12"}]
[]
[null,null,null,"Construction Days","Days",{"$f":"F7-F6","v":729},{"$f":"DATEDIF(F6,F7,\"d\")","v":729}]
[null,null,null,"Operating Days","Days",{"$f":"F10-F8","v":14609},{"$f":"DATEDIF(F8,F10,\"d\")","v":14609}]
[]
[null,null,null,"Months in period - construction","months",1]
[null,null,null,"Months in period - operations","months",1]
[]
[null,"Operations"]
[]
[null,null,null,"Capex","EUR",1000000]
[null,null,null,"EBITDA","EUR",80000]
[null,null,null,"EBITDA/Day","EUR",{"$f":"F21/365.24","v":219.03405979629832}]
[null,null,null,"EBITDA Growth - Annual","% p.a.",0.02]
[]
[null,"Debt Structuring"]
[null,null,"Max Debt to Capital",null,"%",0.8]
[null,null,"Min DSCR",null,"x",1.4]
[]
[null,null,"Debt Tenure",null,"Years",20]
[]
[null,null,"Repayment Months",null,"Months",6]
[null,null,"Repayment Start",null,"Date",{"$f":"EOMONTH(F8,F31)","v":"2029-02-28"}]
[null,null,"Second Repayment",null,"Date",{"$f":"EOMONTH(F32,F31)","v":"2029-08-31"}]
[]
[null,null,"First Repayment Month",null,"Month",{"$f":"MONTH(F32)","v":2}]
[null,null,"Second Repayment Month",null,"Month",{"$f":"MONTH(F33)","v":8}]
[]
[null,null,"Start of Repayment Period",null,"Date",{"$f":"EOMONTH(F8,-1)+1","v":"2028-08-01"}]
[null,null,"End of Repayment",null,"Date",{"$f":"EOMONTH(F8,F29*12)","v":"2048-08-31"}]
[null,null,"Years of Repayment",null,"Years",{"$f":"DATEDIF(F38,F39,\"y\")","v":20}]
[]
[null,null,"Base SOFR Swap Rate",null,"% p.a.",3.5000000000000003E-2]
[null,null,"Credit Spread",null,"% p.a.",1]
[null,null,"Credit Spread",null,"Description",{"$f":"INDEX(InputS!$C$6:$C$8,InputS!$E$3)","v":"Loan Agreeement"}]
[]
[null,null,"Pro-Rata Funding",null,"Flag",true]
[null,null,"Equity Up-front",null,"Flag",{"$f":"NOT(F46)","v":false}]
[]
[]
[]
[]
[null,"Valuation"]
[null,null,null,"Risk Free Rate","% p.a.",3.5000000000000003E-2]
[null,null,null,"Valuation Discount Rate","% p.a.",0.06]
[]
[]
[]
[null,"Constants"]
[null,null,null,"Months in a year",null,12,"months"]
[null,null,null,"One Range Name",null,1,"One"]

{"sheet":"InputS","index":10,"n_rows":54,"n_cols":559,"rows_kept":54,"cut":false,"hidden":false,"merged":[]}
[]
[null,"Varying Credit Spreads"]
[null,null,"Credit Spread Code Number",null,{"$f":"'InputC Partial Month'!F43","v":1}]
[]
[null,null,null,null,null,null,null,null,{"$f":"'InputC Partial Month'!F6","v":"2026-08-14"},{"$f":"'InputC Partial Month'!F8","v":"2028-08-13"},{"$f":"EOMONTH(J5,24)","v":"2030-08-31"},{"$f":"EOMONTH(K5,24)","v":"2032-08-31"},"2034-08-31","2036-08-31"]
[null,null,"Loan Agreeement",null,null,null,null,null,0.01,1.2E-2,1.4E-2,1.4999999999999999E-2,1.55E-2,1.6E-2]
[null,null,"Re-financing - Base",null,null,null,null,null,0.01,1.2E-2,1.2999999999999999E-2,1.2999999999999999E-2,1.2999999999999999E-2,1.2999999999999999E-2]
[null,null,"Re-financing - Low",null,null,null,null,null,0.01,1.2E-2,1.2E-2,1.2E-2,1.2E-2,1.2E-2]
[]
[null,null,{"$f":"INDEX(C6:C8,$E$3)","v":"Loan Agreeement"},null,null,null,null,null,{"$f":"INDEX(I6:I8,$E$3)","v":0.01},{"$f":"INDEX(J6:J8,$E$3)","v":1.2E-2},{"$f":"INDEX(K6:K8,$E$3)","v":1.4E-2},{"$f":"INDEX(L6:L8,$E$3)","v":1.4999999999999999E-2},{"$f":"INDEX(M6:M8,$E$3)","v":1.55E-2},{"$f":"INDEX(N6:N8,$E$3)","v":1.6E-2}]
[]
[]
[null,"Seasonal Variation from Technical Analysis"]
[]
[null,null,null,null,null,null,null,null,null,1,2,3,4,5,6,7,8,9,10,11,12,13,14,15,16,17,18,19,20,21,22,23,24,25,26,27,28,29,30,31,32,33,34,35,36,37,38,39,40,41,42,43,44,45,46,47,48,49,50,51,52,53,54,55,56,57,58,59,60,61,62,63,64,65,66,67,68,69,70,71,72,73,74,75,76,77,78,79,80,81,82,83,84,85,86,87,88,89,90,91,92,93,94,95,96,97,98,99,100,101,102,103,104,105,106,107,108,109,110,111,112,113,114,115,116,117,118,119,120,121,122,123,124,125,126,127,128,129,130,131,132,133,134,135,136,137,138,139,140,141,142,143,144,145,146,147,148,149,150,151,152,153,154,155,156,157,158,159,160,161,162,163,164,165,166,167,168,169,170,171,172,173,174,175,176,177,178,179,180,181,182,183,184,185,186,187,188,189,190,191,192,193,194,195,196,197,198,199,200,201,202,203,204,205,206,207,208,209,210,211,212,213,214,215,216,217,218,219,220,221,222,223,224,225,226,227,228,229,230,231,232,233,234,235,236,237,238,239,240,241,242,243,244,245,246,247,248,249,250,251,252,253,254,255,256,257,258,259,260,261,262,263,264,265,266,267,268,269,270,271,272,273,274,275,276,277,278,279,280,281,282,283,284,285,286,287,288,289,290,291,292,293,294,295,296,297,298,299,300,301,302,303,304,305,306,307,308,309,310,311,312,313,314,315,316,317,318,319,320,321,322,323,324,325,326,327,328,329,330,331,332,333,334,335,336,337,338,339,340,341,342,343,344,345,346,347,348,349,350,351,352,353,354,355,356,357,358,359,360,361,362,363,364,365,366,367,368,369,370,371,372,373,374,375,376,377,378,379,380,381,382,383,384,385,386,387,388,389,390,391,392,393,394,395,396,397,398,399,400,401,402,403,404,405,406,407,408,409,410,411,412,413,414,415,416,417,418,419,420,421,422,423,424,425,426,427,428,429,430,431,432,433,434,435,436,437,438,439,440,441,442,443,444,445,446,447,448,449,450,451,452,453,454,455,456,457,458,459,460,461,462,463,464,465,466,467,468,469,470,471,472,473,474,475,476,477,478,479,480,481,482,483,484,485,486,487,488,489,490,491,492,493,494,495,496,497,498,499,500,501,502,503,504,505,506,507,508,509,510,511,512,513,514,515,516,517,518,519,520,521,522,523,524,525,526,527,528,529,530,531,532,533,534,535,536,537,538,539,540,541,542,543,544,545,546,547,548,549,550]
[null,null,null,null,null,null,null,null,null,{"$f":"'Complex Time Line'!K9","v":"2026-08-14"},{"$f":"'Complex Time Line'!L9","v":"2026-09-01"},{"$f":"'Complex Time Line'!M9","v":"2026-10-01"},{"$f":"'Complex Time Line'!N9","v":"2026-11-01"},{"$f":"'Complex Time Line'!O9","v":"2026-12-01"},{"$f":"'Complex Time Line'!P9","v":"2027-01-01"},{"$f":"'Complex Time Line'!Q9","v":"2027-02-01"},{"$f":"'Complex Time Line'!R9","v":"2027-03-01"},{"$f":"'Complex Time Line'!S9","v":"2027-04-01"},{"$f":"'Complex Time Line'!T9","v":"2027-05-01"},{"$f":"'Complex Time Line'!U9","v":"2027-06-01"},{"$f":"'Complex Time Line'!V9","v":"2027-07-01"},{"$f":"'Complex Time Line'!W9","v":"2027-08-01"},{"$f":"'Complex Time Line'!X9","v":"2027-09-01"},{"$f":"'Complex Time Line'!Y9","v":"2027-10-01"},{"$f":"'Complex Time Line'!Z9","v":"2027-11-01"},{"$f":"'Complex Time Line'!AA9","v":"2027-12-01"},{"$f":"'Complex Time Line'!AB9","v":"2028-01-01"},{"$f":"'Complex Time Line'!AC9","v":"2028-02-01"},{"$f":"'Complex Time Line'!AD9","v":"2028-03-01"},{"$f":"'Complex Time Line'!AE9","v":"2028-04-01"},{"$f":"'Complex Time Line'!AF9","v":"2028-05-01"},{"$f":"'Complex Time Line'!AG9","v":"2028-06-01"},{"$f":"'Complex Time Line'!AH9","v":"2028-07-01"},{"$f":"'Complex Time Line'!AI9","v":"2028-08-01"},{"$f":"'Complex Time Line'!AJ9","v":"2028-09-01"},{"$f":"'Complex Time Line'!AK9","v":"2028-10-01"},{"$f":"'Complex Time Line'!AL9","v":"2028-11-01"},{"$f":"'Complex Time Line'!AM9","v":"2028-12-01"},{"$f":"'Complex Time Line'!AN9","v":"2029-01-01"},{"$f":"'Complex Time Line'!AO9","v":"2029-02-01"},{"$f":"'Complex Time Line'!AP9","v":"2029-03-01"},{"$f":"'Complex Time Line'!AQ9","v":"2029-04-01"},{"$f":"'Complex Time Line'!AR9","v":"2029-05-01"},{"$f":"'Complex Time Line'!AS9","v":"2029-06-01"},{"$f":"'Complex Time Line'!AT9","v":"2029-07-01"},{"$f":"'Complex Time Line'!AU9","v":"2029-08-01"},{"$f":"'Complex Time Line'!AV9","v":"2029-09-01"},{"$f":"'Complex Time Line'!AW9","v":"2029-10-01"},{"$f":"'Complex Time Line'!AX9","v":"2029-11-01"},{"$f":"'Complex Time Line'!AY9","v":"2029-12-01"},{"$f":"'Complex Time Line'!AZ9","v":"2030-01-01"},{"$f":"'Complex Time Line'!BA9","v":"2030-02-01"},{"$f":"'Complex Time Line'!BB9","v":"2030-03-01"},{"$f":"'Complex Time Line'!BC9","v":"2030-04-01"},{"$f":"'Complex Time Line'!BD9","v":"2030-05-01"},{"$f":"'Complex Time Line'!BE9","v":"2030-06-01"},{"$f":"'Complex Time Line'!BF9","v":"2030-07-01"},{"$f":"'Complex Time Line'!BG9","v":"2030-08-01"},{"$f":"'Complex Time Line'!BH9","v":"2030-09-01"},{"$f":"'Complex Time Line'!BI9","v":"2030-10-01"},{"$f":"'Complex Time Line'!BJ9","v":"2030-11-01"},{"$f":"'Complex Time Line'!BK9","v":"2030-12-01"},{"$f":"'Complex Time Line'!BL9","v":"2031-01-01"},{"$f":"'Complex Time Line'!BM9","v":"2031-02-01"},{"$f":"'Complex Time Line'!BN9","v":"2031-03-01"},{"$f":"'Complex Time Line'!BO9","v":"2031-04-01"},{"$f":"'Complex Time Line'!BP9","v":"2031-05-01"},{"$f":"'Complex Time Line'!BQ9","v":"2031-06-01"},{"$f":"'Complex Time Line'!BR9","v":"2031-07-01"},{"$f":"'Complex Time Line'!BS9","v":"2031-08-01"},{"$f":"'Complex Time Line'!BT9","v":"2031-09-01"},{"$f":"'Complex Time Line'!BU9","v":"2031-10-01"},{"$f":"'Complex Time Line'!BV9","v":"2031-11-01"},{"$f":"'Complex Time Line'!BW9","v":"2031-12-01"},{"$f":"'Complex Time Line'!BX9","v":"2032-01-01"},{"$f":"'Complex Time Line'!BY9","v":"2032-02-01"},{"$f":"'Complex Time Line'!BZ9","v":"2032-03-01"},{"$f":"'Complex Time Line'!CA9","v":"2032-04-01"},{"$f":"'Complex Time Line'!CB9","v":"2032-05-01"},{"$f":"'Complex Time Line'!CC9","v":"2032-06-01"},{"$f":"'Complex Time Line'!CD9","v":"2032-07-01"},{"$f":"'Complex Time Line'!CE9","v":"2032-08-01"},{"$f":"'Complex Time Line'!CF9","v":"2032-09-01"},{"$f":"'Complex Time Line'!CG9","v":"2032-10-01"},{"$f":"'Complex Time Line'!CH9","v":"2032-11-01"},{"$f":"'Complex Time Line'!CI9","v":"2032-12-01"},{"$f":"'Complex Time Line'!CJ9","v":"2033-01-01"},{"$f":"'Complex Time Line'!CK9","v":"2033-02-01"},{"$f":"'Complex Time Line'!CL9","v":"2033-03-01"},{"$f":"'Complex Time Line'!CM9","v":"2033-04-01"},{"$f":"'Complex Time Line'!CN9","v":"2033-05-01"},{"$f":"'Complex Time Line'!CO9","v":"2033-06-01"},{"$f":"'Complex Time Line'!CP9","v":"2033-07-01"},{"$f":"'Complex Time Line'!CQ9","v":"2033-08-01"},{"$f":"'Complex Time Line'!CR9","v":"2033-09-01"},{"$f":"'Complex Time Line'!CS9","v":"2033-10-01"},{"$f":"'Complex Time Line'!CT9","v":"2033-11-01"},{"$f":"'Complex Time Line'!CU9","v":"2033-12-01"},{"$f":"'Complex Time Line'!CV9","v":"2034-01-01"},{"$f":"'Complex Time Line'!CW9","v":"2034-02-01"},{"$f":"'Complex Time Line'!CX9","v":"2034-03-01"},{"$f":"'Complex Time Line'!CY9","v":"2034-04-01"},{"$f":"'Complex Time Line'!CZ9","v":"2034-05-01"},{"$f":"'Complex Time Line'!DA9","v":"2034-06-01"},{"$f":"'Complex Time Line'!DB9","v":"2034-07-01"},{"$f":"'Complex Time Line'!DC9","v":"2034-08-01"},{"$f":"'Complex Time Line'!DD9","v":"2034-09-01"},{"$f":"'Complex Time Line'!DE9","v":"2034-10-01"},{"$f":"'Complex Time Line'!DF9","v":"2034-11-01"},{"$f":"'Complex Time Line'!DG9","v":"2034-12-01"},{"$f":"'Complex Time Line'!DH9","v":"2035-01-01"},{"$f":"'Complex Time Line'!DI9","v":"2035-02-01"},{"$f":"'Complex Time Line'!DJ9","v":"2035-03-01"},{"$f":"'Complex Time Line'!DK9","v":"2035-04-01"},{"$f":"'Complex Time Line'!DL9","v":"2035-05-01"},{"$f":"'Complex Time Line'!DM9","v":"2035-06-01"},{"$f":"'Complex Time Line'!DN9","v":"2035-07-01"},{"$f":"'Complex Time Line'!DO9","v":"2035-08-01"},{"$f":"'Complex Time Line'!DP9","v":"2035-09-01"},{"$f":"'Complex Time Line'!DQ9","v":"2035-10-01"},{"$f":"'Complex Time Line'!DR9","v":"2035-11-01"},{"$f":"'Complex Time Line'!DS9","v":"2035-12-01"},{"$f":"'Complex Time Line'!DT9","v":"2036-01-01"},{"$f":"'Complex Time Line'!DU9","v":"2036-02-01"},{"$f":"'Complex Time Line'!DV9","v":"2036-03-01"},{"$f":"'Complex Time Line'!DW9","v":"2036-04-01"},{"$f":"'Complex Time Line'!DX9","v":"2036-05-01"},{"$f":"'Complex Time Line'!DY9","v":"2036-06-01"},{"$f":"'Complex Time Line'!DZ9","v":"2036-07-01"},{"$f":"'Complex Time Line'!EA9","v":"2036-08-01"},{"$f":"'Complex Time Line'!EB9","v":"2036-09-01"},{"$f":"'Complex Time Line'!EC9","v":"2036-10-01"},{"$f":"'Complex Time Line'!ED9","v":"2036-11-01"},{"$f":"'Complex Time Line'!EE9","v":"2036-12-01"},{"$f":"'Complex Time Line'!EF9","v":"2037-01-01"},{"$f":"'Complex Time Line'!EG9","v":"2037-02-01"},{"$f":"'Complex Time Line'!EH9","v":"2037-03-01"},{"$f":"'Complex Time Line'!EI9","v":"2037-04-01"},{"$f":"'Complex Time Line'!EJ9","v":"2037-05-01"},{"$f":"'Complex Time Line'!EK9","v":"2037-06-01"},{"$f":"'Complex Time Line'!EL9","v":"2037-07-01"},{"$f":"'Complex Time Line'!EM9","v":"2037-08-01"},{"$f":"'Complex Time Line'!EN9","v":"2037-09-01"},{"$f":"'Complex Time Line'!EO9","v":"2037-10-01"},{"$f":"'Complex Time Line'!EP9","v":"2037-11-01"},{"$f":"'Complex Time Line'!EQ9","v":"2037-12-01"},{"$f":"'Complex Time Line'!ER9","v":"2038-01-01"},{"$f":"'Complex Time Line'!ES9","v":"2038-02-01"},{"$f":"'Complex Time Line'!ET9","v":"2038-03-01"},{"$f":"'Complex Time Line'!EU9","v":"2038-04-01"},{"$f":"'Complex Time Line'!EV9","v":"2038-05-01"},{"$f":"'Complex Time Line'!EW9","v":"2038-06-01"},{"$f":"'Complex Time Line'!EX9","v":"2038-07-01"},{"$f":"'Complex Time Line'!EY9","v":"2038-08-01"},{"$f":"'Complex Time Line'!EZ9","v":"2038-09-01"},{"$f":"'Complex Time Line'!FA9","v":"2038-10-01"},{"$f":"'Complex Time Line'!FB9","v":"2038-11-01"},{"$f":"'Complex Time Line'!FC9","v":"2038-12-01"},{"$f":"'Complex Time Line'!FD9","v":"2039-01-01"},{"$f":"'Complex Time Line'!FE9","v":"2039-02-01"},{"$f":"'Complex Time Line'!FF9","v":"2039-03-01"},{"$f":"'Complex Time Line'!FG9","v":"2039-04-01"},{"$f":"'Complex Time Line'!FH9","v":"2039-05-01"},{"$f":"'Complex Time Line'!FI9","v":"2039-06-01"},{"$f":"'Complex Time Line'!FJ9","v":"2039-07-01"},{"$f":"'Complex Time Line'!FK9","v":"2039-08-01"},{"$f":"'Complex Time Line'!FL9","v":"2039-09-01"},{"$f":"'Complex Time Line'!FM9","v":"2039-10-01"},{"$f":"'Complex Time Line'!FN9","v":"2039-11-01"},{"$f":"'Complex Time Line'!FO9","v":"2039-12-01"},{"$f":"'Complex Time Line'!FP9","v":"2040-01-01"},{"$f":"'Complex Time Line'!FQ9","v":"2040-02-01"},{"$f":"'Complex Time Line'!FR9","v":"2040-03-01"},{"$f":"'Complex Time Line'!FS9","v":"2040-04-01"},{"$f":"'Complex Time Line'!FT9","v":"2040-05-01"},{"$f":"'Complex Time Line'!FU9","v":"2040-06-01"},{"$f":"'Complex Time Line'!FV9","v":"2040-07-01"},{"$f":"'Complex Time Line'!FW9","v":"2040-08-01"},{"$f":"'Complex Time Line'!FX9","v":"2040-09-01"},{"$f":"'Complex Time Line'!FY9","v":"2040-10-01"},{"$f":"'Complex Time Line'!FZ9","v":"2040-11-01"},{"$f":"'Complex Time Line'!GA9","v":"2040-12-01"},{"$f":"'Complex Time Line'!GB9","v":"2041-01-01"},{"$f":"'Complex Time Line'!GC9","v":"2041-02-01"},{"$f":"'Complex Time Line'!GD9","v":"2041-03-01"},{"$f":"'Complex Time Line'!GE9","v":"2041-04-01"},{"$f":"'Complex Time Line'!GF9","v":"2041-05-01"},{"$f":"'Complex Time Line'!GG9","v":"2041-06-01"},{"$f":"'Complex Time Line'!GH9","v":"2041-07-01"},{"$f":"'Complex Time Line'!GI9","v":"2041-08-01"},{"$f":"'Complex Time Line'!GJ9","v":"2041-09-01"},{"$f":"'Complex Time Line'!GK9","v":"2041-10-01"},{"$f":"'Complex Time Line'!GL9","v":"2041-11-01"},{"$f":"'Complex Time Line'!GM9","v":"2041-12-01"},{"$f":"'Complex Time Line'!GN9","v":"2042-01-01"},{"$f":"'Complex Time Line'!GO9","v":"2042-02-01"},{"$f":"'Complex Time Line'!GP9","v":"2042-03-01"},{"$f":"'Complex Time Line'!GQ9","v":"2042-04-01"},{"$f":"'Complex Time Line'!GR9","v":"2042-05-01"},{"$f":"'Complex Time Line'!GS9","v":"2042-06-01"},{"$f":"'Complex Time Line'!GT9","v":"2042-07-01"},{"$f":"'Complex Time Line'!GU9","v":"2042-08-01"},{"$f":"'Complex Time Line'!GV9","v":"2042-09-01"},{"$f":"'Complex Time Line'!GW9","v":"2042-10-01"},{"$f":"'Complex Time Line'!GX9","v":"2042-11-01"},{"$f":"'Complex Time Line'!GY9","v":"2042-12-01"},{"$f":"'Complex Time Line'!GZ9","v":"2043-01-01"},{"$f":"'Complex Time Line'!HA9","v":"2043-02-01"},{"$f":"'Complex Time Line'!HB9","v":"2043-03-01"},{"$f":"'Complex Time Line'!HC9","v":"2043-04-01"},{"$f":"'Complex Time Line'!HD9","v":"2043-05-01"},{"$f":"'Complex Time Line'!HE9","v":"2043-06-01"},{"$f":"'Complex Time Line'!HF9","v":"2043-07-01"},{"$f":"'Complex Time Line'!HG9","v":"2043-08-01"},{"$f":"'Complex Time Line'!HH9","v":"2043-09-01"},{"$f":"'Complex Time Line'!HI9","v":"2043-10-01"},{"$f":"'Complex Time Line'!HJ9","v":"2043-11-01"},{"$f":"'Complex Time Line'!HK9","v":"2043-12-01"},{"$f":"'Complex Time Line'!HL9","v":"2044-01-01"},{"$f":"'Complex Time Line'!HM9","v":"2044-02-01"},{"$f":"'Complex Time Line'!HN9","v":"2044-03-01"},{"$f":"'Complex Time Line'!HO9","v":"2044-04-01"},{"$f":"'Complex Time Line'!HP9","v":"2044-05-01"},{"$f":"'Complex Time Line'!HQ9","v":"2044-06-01"},{"$f":"'Complex Time Line'!HR9","v":"2044-07-01"},{"$f":"'Complex Time Line'!HS9","v":"2044-08-01"},{"$f":"'Complex Time Line'!HT9","v":"2044-09-01"},{"$f":"'Complex Time Line'!HU9","v":"2044-10-01"},{"$f":"'Complex Time Line'!HV9","v":"2044-11-01"},{"$f":"'Complex Time Line'!HW9","v":"2044-12-01"},{"$f":"'Complex Time Line'!HX9","v":"2045-01-01"},{"$f":"'Complex Time Line'!HY9","v":"2045-02-01"},{"$f":"'Complex Time Line'!HZ9","v":"2045-03-01"},{"$f":"'Complex Time Line'!IA9","v":"2045-04-01"},{"$f":"'Complex Time Line'!IB9","v":"2045-05-01"},{"$f":"'Complex Time Line'!IC9","v":"2045-06-01"},{"$f":"'Complex Time Line'!ID9","v":"2045-07-01"},{"$f":"'Complex Time Line'!IE9","v":"2045-08-01"},{"$f":"'Complex Time Line'!IF9","v":"2045-09-01"},{"$f":"'Complex Time Line'!IG9","v":"2045-10-01"},{"$f":"'Complex Time Line'!IH9","v":"2045-11-01"},{"$f":"'Complex Time Line'!II9","v":"2045-12-01"},{"$f":"'Complex Time Line'!IJ9","v":"2046-01-01"},{"$f":"'Complex Time Line'!IK9","v":"2046-02-01"},{"$f":"'Complex Time Line'!IL9","v":"2046-03-01"},{"$f":"'Complex Time Line'!IM9","v":"2046-04-01"},{"$f":"'Complex Time Line'!IN9","v":"2046-05-01"},{"$f":"'Complex Time Line'!IO9","v":"2046-06-01"},{"$f":"'Complex Time Line'!IP9","v":"2046-07-01"},{"$f":"'Complex Time Line'!IQ9","v":"2046-08-01"},{"$f":"'Complex Time Line'!IR9","v":"2046-09-01"},{"$f":"'Complex Time Line'!IS9","v":"2046-10-01"},{"$f":"'Complex Time Line'!IT9","v":"2046-11-01"},{"$f":"'Complex Time Line'!IU9","v":"2046-12-01"},{"$f":"'Complex Time Line'!IV9","v":"2047-01-01"},{"$f":"'Complex Time Line'!IW9","v":"2047-02-01"},{"$f":"'Complex Time Line'!IX9","v":"2047-03-01"},{"$f":"'Complex Time Line'!IY9","v":"2047-04-01"},{"$f":"'Complex Time Line'!IZ9","v":"2047-05-01"},{"$f":"'Complex Time Line'!JA9","v":"2047-06-01"},{"$f":"'Complex Time Line'!JB9","v":"2047-07-01"},{"$f":"'Complex Time Line'!JC9","v":"2047-08-01"},{"$f":"'Complex Time Line'!JD9","v":"2047-09-01"},{"$f":"'Complex Time Line'!JE9","v":"2047-10-01"},{"$f":"'Complex Time Line'!JF9","v":"2047-11-01"},{"$f":"'Complex Time Line'!JG9","v":"2047-12-01"},{"$f":"'Complex Time Line'!JH9","v":"2048-01-01"},{"$f":"'Complex Time Line'!JI9","v":"2048-02-01"},{"$f":"'Complex Time Line'!JJ9","v":"2048-03-01"},{"$f":"'Complex Time Line'!JK9","v":"2048-04-01"},{"$f":"'Complex Time Line'!JL9","v":"2048-05-01"},{"$f":"'Complex Time Line'!JM9","v":"2048-06-01"},{"$f":"'Complex Time Line'!JN9","v":"2048-07-01"},{"$f":"'Complex Time Line'!JO9","v":"2048-08-01"},{"$f":"'Complex Time Line'!JP9","v":"2048-09-01"},{"$f":"'Complex Time Line'!JQ9","v":"2048-10-01"},{"$f":"'Complex Time Line'!JR9","v":"2048-11-01"},{"$f":"'Complex Time Line'!JS9","v":"2048-12-01"},{"$f":"'Complex Time Line'!JT9","v":"2049-01-01"},{"$f":"'Complex Time Line'!JU9","v":"2049-02-01"},{"$f":"'Complex Time Line'!JV9","v":"2049-03-01"},{"$f":"'Complex Time Line'!JW9","v":"2049-04-01"},{"$f":"'Complex Time Line'!JX9","v":"2049-05-01"},{"$f":"'Complex Time Line'!JY9","v":"2049-06-01"},{"$f":"'Complex Time Line'!JZ9","v":"2049-07-01"},{"$f":"'Complex Time Line'!KA9","v":"2049-08-01"},{"$f":"'Complex Time Line'!KB9","v":"2049-09-01"},{"$f":"'Complex Time Line'!KC9","v":"2049-10-01"},{"$f":"'Complex Time Line'!KD9","v":"2049-11-01"},{"$f":"'Complex Time Line'!KE9","v":"2049-12-01"},{"$f":"'Complex Time Line'!KF9","v":"2050-01-01"},{"$f":"'Complex Time Line'!KG9","v":"2050-02-01"},{"$f":"'Complex Time Line'!KH9","v":"2050-03-01"},{"$f":"'Complex Time Line'!KI9","v":"2050-04-01"},{"$f":"'Complex Time Line'!KJ9","v":"2050-05-01"},{"$f":"'Complex Time Line'!KK9","v":"2050-06-01"},{"$f":"'Complex Time Line'!KL9","v":"2050-07-01"},{"$f":"'Complex Time Line'!KM9","v":"2050-08-01"},{"$f":"'Complex Time Line'!KN9","v":"2050-09-01"},{"$f":"'Complex Time Line'!KO9","v":"2050-10-01"},{"$f":"'Complex Time Line'!KP9","v":"2050-11-01"},{"$f":"'Complex Time Line'!KQ9","v":"2050-12-01"},{"$f":"'Complex Time Line'!KR9","v":"2051-01-01"},{"$f":"'Complex Time Line'!KS9","v":"2051-02-01"},{"$f":"'Complex Time Line'!KT9","v":"2051-03-01"},{"$f":"'Complex Time Line'!KU9","v":"2051-04-01"},{"$f":"'Complex Time Line'!KV9","v":"2051-05-01"},{"$f":"'Complex Time Line'!KW9","v":"2051-06-01"},{"$f":"'Complex Time Line'!KX9","v":"2051-07-01"},{"$f":"'Complex Time Line'!KY9","v":"2051-08-01"},{"$f":"'Complex Time Line'!KZ9","v":"2051-09-01"},{"$f":"'Complex Time Line'!LA9","v":"2051-10-01"},{"$f":"'Complex Time Line'!LB9","v":"2051-11-01"},{"$f":"'Complex Time Line'!LC9","v":"2051-12-01"},{"$f":"'Complex Time Line'!LD9","v":"2052-01-01"},{"$f":"'Complex Time Line'!LE9","v":"2052-02-01"},{"$f":"'Complex Time Line'!LF9","v":"2052-03-01"},{"$f":"'Complex Time Line'!LG9","v":"2052-04-01"},{"$f":"'Complex Time Line'!LH9","v":"2052-05-01"},{"$f":"'Complex Time Line'!LI9","v":"2052-06-01"},{"$f":"'Complex Time Line'!LJ9","v":"2052-07-01"},{"$f":"'Complex Time Line'!LK9","v":"2052-08-01"},{"$f":"'Complex Time Line'!LL9","v":"2052-09-01"},{"$f":"'Complex Time Line'!LM9","v":"2052-10-01"},{"$f":"'Complex Time Line'!LN9","v":"2052-11-01"},{"$f":"'Complex Time Line'!LO9","v":"2052-12-01"},{"$f":"'Complex Time Line'!LP9","v":"2053-01-01"},{"$f":"'Complex Time Line'!LQ9","v":"2053-02-01"},{"$f":"'Complex Time Line'!LR9","v":"2053-03-01"},{"$f":"'Complex Time Line'!LS9","v":"2053-04-01"},{"$f":"'Complex Time Line'!LT9","v":"2053-05-01"},{"$f":"'Complex Time Line'!LU9","v":"2053-06-01"},{"$f":"'Complex Time Line'!LV9","v":"2053-07-01"},{"$f":"'Complex Time Line'!LW9","v":"2053-08-01"},{"$f":"'Complex Time Line'!LX9","v":"2053-09-01"},{"$f":"'Complex Time Line'!LY9","v":"2053-10-01"},{"$f":"'Complex Time Line'!LZ9","v":"2053-11-01"},{"$f":"'Complex Time Line'!MA9","v":"2053-12-01"},{"$f":"'Complex Time Line'!MB9","v":"2054-01-01"},{"$f":"'Complex Time Line'!MC9","v":"2054-02-01"},{"$f":"'Complex Time Line'!MD9","v":"2054-03-01"},{"$f":"'Complex Time Line'!ME9","v":"2054-04-01"},{"$f":"'Complex Time Line'!MF9","v":"2054-05-01"},{"$f":"'Complex Time Line'!MG9","v":"2054-06-01"},{"$f":"'Complex Time Line'!MH9","v":"2054-07-01"},{"$f":"'Complex Time Line'!MI9","v":"2054-08-01"},{"$f":"'Complex Time Line'!MJ9","v":"2054-09-01"},{"$f":"'Complex Time Line'!MK9","v":"2054-10-01"},{"$f":"'Complex Time Line'!ML9","v":"2054-11-01"},{"$f":"'Complex Time Line'!MM9","v":"2054-12-01"},{"$f":"'Complex Time Line'!MN9","v":"2055-01-01"},{"$f":"'Complex Time Line'!MO9","v":"2055-02-01"},{"$f":"'Complex Time Line'!MP9","v":"2055-03-01"},{"$f":"'Complex Time Line'!MQ9","v":"2055-04-01"},{"$f":"'Complex Time Line'!MR9","v":"2055-05-01"},{"$f":"'Complex Time Line'!MS9","v":"2055-06-01"},{"$f":"'Complex Time Line'!MT9","v":"2055-07-01"},{"$f":"'Complex Time Line'!MU9","v":"2055-08-01"},{"$f":"'Complex Time Line'!MV9","v":"2055-09-01"},{"$f":"'Complex Time Line'!MW9","v":"2055-10-01"},{"$f":"'Complex Time Line'!MX9","v":"2055-11-01"},{"$f":"'Complex Time Line'!MY9","v":"2055-12-01"},{"$f":"'Complex Time Line'!MZ9","v":"2056-01-01"},{"$f":"'Complex Time Line'!NA9","v":"2056-02-01"},{"$f":"'Complex Time Line'!NB9","v":"2056-03-01"},{"$f":"'Complex Time Line'!NC9","v":"2056-04-01"},{"$f":"'Complex Time Line'!ND9","v":"2056-05-01"},{"$f":"'Complex Time Line'!NE9","v":"2056-06-01"},{"$f":"'Complex Time Line'!NF9","v":"2056-07-01"},{"$f":"'Complex Time Line'!NG9","v":"2056-08-01"},{"$f":"'Complex Time Line'!NH9","v":"2056-09-01"},{"$f":"'Complex Time Line'!NI9","v":"2056-10-01"},{"$f":"'Complex Time Line'!NJ9","v":"2056-11-01"},{"$f":"'Complex Time Line'!NK9","v":"2056-12-01"},{"$f":"'Complex Time Line'!NL9","v":"2057-01-01"},{"$f":"'Complex Time Line'!NM9","v":"2057-02-01"},{"$f":"'Complex Time Line'!NN9","v":"2057-03-01"},{"$f":"'Complex Time Line'!NO9","v":"2057-04-01"},{"$f":"'Complex Time Line'!NP9","v":"2057-05-01"},{"$f":"'Complex Time Line'!NQ9","v":"2057-06-01"},{"$f":"'Complex Time Line'!NR9","v":"2057-07-01"},{"$f":"'Complex Time Line'!NS9","v":"2057-08-01"},{"$f":"'Complex Time Line'!NT9","v":"2057-09-01"},{"$f":"'Complex Time Line'!NU9","v":"2057-10-01"},{"$f":"'Complex Time Line'!NV9","v":"2057-11-01"},{"$f":"'Complex Time Line'!NW9","v":"2057-12-01"},{"$f":"'Complex Time Line'!NX9","v":"2058-01-01"},{"$f":"'Complex Time Line'!NY9","v":"2058-02-01"},{"$f":"'Complex Time Line'!NZ9","v":"2058-03-01"},{"$f":"'Complex Time Line'!OA9","v":"2058-04-01"},{"$f":"'Complex Time Line'!OB9","v":"2058-05-01"},{"$f":"'Complex Time Line'!OC9","v":"2058-06-01"},{"$f":"'Complex Time Line'!OD9","v":"2058-07-01"},{"$f":"'Complex Time Line'!OE9","v":"2058-08-01"},{"$f":"'Complex Time Line'!OF9","v":"2058-09-01"},{"$f":"'Complex Time Line'!OG9","v":"2058-10-01"},{"$f":"'Complex Time Line'!OH9","v":"2058-11-01"},{"$f":"'Complex Time Line'!OI9","v":"2058-12-01"},{"$f":"'Complex Time Line'!OJ9","v":"2059-01-01"},{"$f":"'Complex Time Line'!OK9","v":"2059-02-01"},{"$f":"'Complex Time Line'!OL9","v":"2059-03-01"},{"$f":"'Complex Time Line'!OM9","v":"2059-04-01"},{"$f":"'Complex Time Line'!ON9","v":"2059-05-01"},{"$f":"'Complex Time Line'!OO9","v":"2059-06-01"},{"$f":"'Complex Time Line'!OP9","v":"2059-07-01"},{"$f":"'Complex Time Line'!OQ9","v":"2059-08-01"},{"$f":"'Complex Time Line'!OR9","v":"2059-09-01"},{"$f":"'Complex Time Line'!OS9","v":"2059-10-01"},{"$f":"'Complex Time Line'!OT9","v":"2059-11-01"},{"$f":"'Complex Time Line'!OU9","v":"2059-12-01"},{"$f":"'Complex Time Line'!OV9","v":"2060-01-01"},{"$f":"'Complex Time Line'!OW9","v":"2060-02-01"},{"$f":"'Complex Time Line'!OX9","v":"2060-03-01"},{"$f":"'Complex Time Line'!OY9","v":"2060-04-01"},{"$f":"'Complex Time Line'!OZ9","v":"2060-05-01"},{"$f":"'Complex Time Line'!PA9","v":"2060-06-01"},{"$f":"'Complex Time Line'!PB9","v":"2060-07-01"},{"$f":"'Complex Time Line'!PC9","v":"2060-08-01"},{"$f":"'Complex Time Line'!PD9","v":"2060-09-01"},{"$f":"'Complex Time Line'!PE9","v":"2060-10-01"},{"$f":"'Complex Time Line'!PF9","v":"2060-11-01"},{"$f":"'Complex Time Line'!PG9","v":"2060-12-01"},{"$f":"'Complex Time Line'!PH9","v":"2061-01-01"},{"$f":"'Complex Time Line'!PI9","v":"2061-02-01"},{"$f":"'Complex Time Line'!PJ9","v":"2061-03-01"},{"$f":"'Complex Time Line'!PK9","v":"2061-04-01"},{"$f":"'Complex Time Line'!PL9","v":"2061-05-01"},{"$f":"'Complex Time Line'!PM9","v":"2061-06-01"},{"$f":"'Complex Time Line'!PN9","v":"2061-07-01"},{"$f":"'Complex Time Line'!PO9","v":"2061-08-01"},{"$f":"'Complex Time Line'!PP9","v":"2061-09-01"},{"$f":"'Complex Time Line'!PQ9","v":"2061-10-01"},{"$f":"'Complex Time Line'!PR9","v":"2061-11-01"},{"$f":"'Complex Time Line'!PS9","v":"2061-12-01"},{"$f":"'Complex Time Line'!PT9","v":"2062-01-01"},{"$f":"'Complex Time Line'!PU9","v":"2062-02-01"},{"$f":"'Complex Time Line'!PV9","v":"2062-03-01"},{"$f":"'Complex Time Line'!PW9","v":"2062-04-01"},{"$f":"'Complex Time Line'!PX9","v":"2062-05-01"},{"$f":"'Complex Time Line'!PY9","v":"2062-06-01"},{"$f":"'Complex Time Line'!PZ9","v":"2062-07-01"},{"$f":"'Complex Time Line'!QA9","v":"2062-08-01"},{"$f":"'Complex Time Line'!QB9","v":"2062-09-01"},{"$f":"'Complex Time Line'!QC9","v":"2062-10-01"},{"$f":"'Complex Time Line'!QD9","v":"2062-11-01"},{"$f":"'Complex Time Line'!QE9","v":"2062-12-01"},{"$f":"'Complex Time Line'!QF9","v":"2063-01-01"},{"$f":"'Complex Time Line'!QG9","v":"2063-02-01"},{"$f":"'Complex Time Line'!QH9","v":"2063-03-01"},{"$f":"'Complex Time Line'!QI9","v":"2063-04-01"},{"$f":"'Complex Time Line'!QJ9","v":"2063-05-01"},{"$f":"'Complex Time Line'!QK9","v":"2063-06-01"},{"$f":"'Complex Time Line'!QL9","v":"2063-07-01"},{"$f":"'Complex Time Line'!QM9","v":"2063-08-01"},{"$f":"'Complex Time Line'!QN9","v":"2063-09-01"},{"$f":"'Complex Time Line'!QO9","v":"2063-10-01"},{"$f":"'Complex Time Line'!QP9","v":"2063-11-01"},{"$f":"'Complex Time Line'!QQ9","v":"2063-12-01"},{"$f":"'Complex Time Line'!QR9","v":"2064-01-01"},{"$f":"'Complex Time Line'!QS9","v":"2064-02-01"},{"$f":"'Complex Time Line'!QT9","v":"2064-03-01"},{"$f":"'Complex Time Line'!QU9","v":"2064-04-01"},{"$f":"'Complex Time Line'!QV9","v":"2064-05-01"},{"$f":"'Complex Time Line'!QW9","v":"2064-06-01"},{"$f":"'Complex Time Line'!QX9","v":"2064-07-01"},{"$f":"'Complex Time Line'!QY9","v":"2064-08-01"},{"$f":"'Complex Time Line'!QZ9","v":"2064-09-01"},{"$f":"'Complex Time Line'!RA9","v":"2064-10-01"},{"$f":"'Complex Time Line'!RB9","v":"2064-11-01"},{"$f":"'Complex Time Line'!RC9","v":"2064-12-01"},{"$f":"'Complex Time Line'!RD9","v":"2065-01-01"},{"$f":"'Complex Time Line'!RE9","v":"2065-02-01"},{"$f":"'Complex Time Line'!RF9","v":"2065-03-01"},{"$f":"'Complex Time Line'!RG9","v":"2065-04-01"},{"$f":"'Complex Time Line'!RH9","v":"2065-05-01"},{"$f":"'Complex Time Line'!RI9","v":"2065-06-01"},{"$f":"'Complex Time Line'!RJ9","v":"2065-07-01"},{"$f":"'Complex Time Line'!RK9","v":"2065-08-01"},{"$f":"'Complex Time Line'!RL9","v":"2065-09-01"},{"$f":"'Complex Time Line'!RM9","v":"2065-10-01"},{"$f":"'Complex Time Line'!RN9","v":"2065-11-01"},{"$f":"'Complex Time Line'!RO9","v":"2065-12-01"},{"$f":"'Complex Time Line'!RP9","v":"2066-01-01"},{"$f":"'Complex Time Line'!RQ9","v":"2066-02-01"},{"$f":"'Complex Time Line'!RR9","v":"2066-03-01"},{"$f":"'Complex Time Line'!RS9","v":"2066-04-01"},{"$f":"'Complex Time Line'!RT9","v":"2066-05-01"},{"$f":"'Complex Time Line'!RU9","v":"2066-06-01"},{"$f":"'Complex Time Line'!RV9","v":"2066-07-01"},{"$f":"'Complex Time Line'!RW9","v":"2066-08-01"},{"$f":"'Complex Time Line'!RX9","v":"2066-09-01"},{"$f":"'Complex Time Line'!RY9","v":"2066-10-01"},{"$f":"'Complex Time Line'!RZ9","v":"2066-11-01"},{"$f":"'Complex Time Line'!SA9","v":"2066-12-01"},{"$f":"'Complex Time Line'!SB9","v":"2067-01-01"},{"$f":"'Complex Time Line'!SC9","v":"2067-02-01"},{"$f":"'Complex Time Line'!SD9","v":"2067-03-01"},{"$f":"'Complex Time Line'!SE9","v":"2067-04-01"},{"$f":"'Complex Time Line'!SF9","v":"2067-05-01"},{"$f":"'Complex Time Line'!SG9","v":"2067-06-01"},{"$f":"'Complex Time Line'!SH9","v":"2067-07-01"},{"$f":"'Complex Time Line'!SI9","v":"2067-08-01"},{"$f":"'Complex Time Line'!SJ9","v":"2067-09-01"},{"$f":"'Complex Time Line'!SK9","v":"2067-10-01"},{"$f":"'Complex Time Line'!SL9","v":"2067-11-01"},{"$f":"'Complex Time Line'!SM9","v":"2067-12-01"},{"$f":"'Complex Time Line'!SN9","v":"2068-01-01"},{"$f":"'Complex Time Line'!SO9","v":"2068-02-01"},{"$f":"'Complex Time Line'!SP9","v":"2068-03-01"},{"$f":"'Complex Time Line'!SQ9","v":"2068-04-01"},{"$f":"'Complex Time Line'!SR9","v":"2068-05-01"},{"$f":"'Complex Time Line'!SS9","v":"2068-06-01"},{"$f":"'Complex Time Line'!ST9","v":"2068-07-01"},{"$f":"'Complex Time Line'!SU9","v":"2068-08-01"},{"$f":"'Complex Time Line'!SV9","v":"2068-09-01"},{"$f":"'Complex Time Line'!SW9","v":"2068-10-01"},{"$f":"'Complex Time Line'!SX9","v":"2068-11-01"},{"$f":"'Complex Time Line'!SY9","v":"2068-12-01"},{"$f":"'Complex Time Line'!SZ9","v":"2069-01-01"},{"$f":"'Complex Time Line'!TA9","v":"2069-02-01"},{"$f":"'Complex Time Line'!TB9","v":"2069-03-01"},{"$f":"'Complex Time Line'!TC9","v":"2069-04-01"},{"$f":"'Complex Time Line'!TD9","v":"2069-05-01"},{"$f":"'Complex Time Line'!TE9","v":"2069-06-01"},{"$f":"'Complex Time Line'!TF9","v":"2069-07-01"},{"$f":"'Complex Time Line'!TG9","v":"2069-08-01"},{"$f":"'Complex Time Line'!TH9","v":"2069-09-01"},{"$f":"'Complex Time Line'!TI9","v":"2069-10-01"},{"$f":"'Complex Time Line'!TJ9","v":"2069-11-01"},{"$f":"'Complex Time Line'!TK9","v":"2069-12-01"},{"$f":"'Complex Time Line'!TL9","v":"2070-01-01"},{"$f":"'Complex Time Line'!TM9","v":"2070-02-01"},{"$f":"'Complex Time Line'!TN9","v":"2070-03-01"},{"$f":"'Complex Time Line'!TO9","v":"2070-04-01"},{"$f":"'Complex Time Line'!TP9","v":"2070-05-01"},{"$f":"'Complex Time Line'!TQ9","v":"2070-06-01"},{"$f":"'Complex Time Line'!TR9","v":"2070-07-01"},{"$f":"'Complex Time Line'!TS9","v":"2070-08-01"},{"$f":"'Complex Time Line'!TT9","v":"2070-09-01"},{"$f":"'Complex Time Line'!TU9","v":"2070-10-01"},{"$f":"'Complex Time Line'!TV9","v":"2070-11-01"},{"$f":"'Complex Time Line'!TW9","v":"2070-12-01"},{"$f":"'Complex Time Line'!TX9","v":"2071-01-01"},{"$f":"'Complex Time Line'!TY9","v":"2071-02-01"},{"$f":"'Complex Time Line'!TZ9","v":"2071-03-01"},{"$f":"'Complex Time Line'!UA9","v":"2071-04-01"},{"$f":"'Complex Time Line'!UB9","v":"2071-05-01"},{"$f":"'Complex Time Line'!UC9","v":"2071-06-01"},{"$f":"'Complex Time Line'!UD9","v":"2071-07-01"},{"$f":"'Complex Time Line'!UE9","v":"2071-08-01"},{"$f":"'Complex Time Line'!UF9","v":"2071-09-01"},{"$f":"'Complex Time Line'!UG9","v":"2071-10-01"},{"$f":"'Complex Time Line'!UH9","v":"2071-11-01"},{"$f":"'Complex Time Line'!UI9","v":"2071-12-01"},{"$f":"'Complex Time Line'!UJ9","v":"2072-01-01"},{"$f":"'Complex Time Line'!UK9","v":"2072-02-01"},{"$f":"'Complex Time Line'!UL9","v":"2072-03-01"},{"$f":"'Complex Time Line'!UM9","v":"2072-04-01"},{"$f":"'Complex Time Line'!UN9","v":"2072-05-01"}]
[null,null,null,null,null,null,null,null,null,{"$f":"'Complex Time Line'!K10","v":"2026-08-31"},{"$f":"'Complex Time Line'!L10","v":"2026-09-30"},{"$f":"'Complex Time Line'!M10","v":"2026-10-31"},{"$f":"'Complex Time Line'!N10","v":"2026-11-30"},{"$f":"'Complex Time Line'!O10","v":"2026-12-31"},{"$f":"'Complex Time Line'!P10","v":"2027-01-31"},{"$f":"'Complex Time Line'!Q10","v":"2027-02-28"},{"$f":"'Complex Time Line'!R10","v":"2027-03-31"},{"$f":"'Complex Time Line'!S10","v":"2027-04-30"},{"$f":"'Complex Time Line'!T10","v":"2027-05-31"},{"$f":"'Complex Time Line'!U10","v":"2027-06-30"},{"$f":"'Complex Time Line'!V10","v":"2027-07-31"},{"$f":"'Complex Time Line'!W10","v":"2027-08-31"},{"$f":"'Complex Time Line'!X10","v":"2027-09-30"},{"$f":"'Complex Time Line'!Y10","v":"2027-10-31"},{"$f":"'Complex Time Line'!Z10","v":"2027-11-30"},{"$f":"'Complex Time Line'!AA10","v":"2027-12-31"},{"$f":"'Complex Time Line'!AB10","v":"2028-01-31"},{"$f":"'Complex Time Line'!AC10","v":"2028-02-29"},{"$f":"'Complex Time Line'!AD10","v":"2028-03-31"},{"$f":"'Complex Time Line'!AE10","v":"2028-04-30"},{"$f":"'Complex Time Line'!AF10","v":"2028-05-31"},{"$f":"'Complex Time Line'!AG10","v":"2028-06-30"},{"$f":"'Complex Time Line'!AH10","v":"2028-07-31"},{"$f":"'Complex Time Line'!AI10","v":"2028-08-31"},{"$f":"'Complex Time Line'!AJ10","v":"2028-09-30"},{"$f":"'Complex Time Line'!AK10","v":"2028-10-31"},{"$f":"'Complex Time Line'!AL10","v":"2028-11-30"},{"$f":"'Complex Time Line'!AM10","v":"2028-12-31"},{"$f":"'Complex Time Line'!AN10","v":"2029-01-31"},{"$f":"'Complex Time Line'!AO10","v":"2029-02-28"},{"$f":"'Complex Time Line'!AP10","v":"2029-03-31"},{"$f":"'Complex Time Line'!AQ10","v":"2029-04-30"},{"$f":"'Complex Time Line'!AR10","v":"2029-05-31"},{"$f":"'Complex Time Line'!AS10","v":"2029-06-30"},{"$f":"'Complex Time Line'!AT10","v":"2029-07-31"},{"$f":"'Complex Time Line'!AU10","v":"2029-08-31"},{"$f":"'Complex Time Line'!AV10","v":"2029-09-30"},{"$f":"'Complex Time Line'!AW10","v":"2029-10-31"},{"$f":"'Complex Time Line'!AX10","v":"2029-11-30"},{"$f":"'Complex Time Line'!AY10","v":"2029-12-31"},{"$f":"'Complex Time Line'!AZ10","v":"2030-01-31"},{"$f":"'Complex Time Line'!BA10","v":"2030-02-28"},{"$f":"'Complex Time Line'!BB10","v":"2030-03-31"},{"$f":"'Complex Time Line'!BC10","v":"2030-04-30"},{"$f":"'Complex Time Line'!BD10","v":"2030-05-31"},{"$f":"'Complex Time Line'!BE10","v":"2030-06-30"},{"$f":"'Complex Time Line'!BF10","v":"2030-07-31"},{"$f":"'Complex Time Line'!BG10","v":"2030-08-31"},{"$f":"'Complex Time Line'!BH10","v":"2030-09-30"},{"$f":"'Complex Time Line'!BI10","v":"2030-10-31"},{"$f":"'Complex Time Line'!BJ10","v":"2030-11-30"},{"$f":"'Complex Time Line'!BK10","v":"2030-12-31"},{"$f":"'Complex Time Line'!BL10","v":"2031-01-31"},{"$f":"'Complex Time Line'!BM10","v":"2031-02-28"},{"$f":"'Complex Time Line'!BN10","v":"2031-03-31"},{"$f":"'Complex Time Line'!BO10","v":"2031-04-30"},{"$f":"'Complex Time Line'!BP10","v":"2031-05-31"},{"$f":"'Complex Time Line'!BQ10","v":"2031-06-30"},{"$f":"'Complex Time Line'!BR10","v":"2031-07-31"},{"$f":"'Complex Time Line'!BS10","v":"2031-08-31"},{"$f":"'Complex Time Line'!BT10","v":"2031-09-30"},{"$f":"'Complex Time Line'!BU10","v":"2031-10-31"},{"$f":"'Complex Time Line'!BV10","v":"2031-11-30"},{"$f":"'Complex Time Line'!BW10","v":"2031-12-31"},{"$f":"'Complex Time Line'!BX10","v":"2032-01-31"},{"$f":"'Complex Time Line'!BY10","v":"2032-02-29"},{"$f":"'Complex Time Line'!BZ10","v":"2032-03-31"},{"$f":"'Complex Time Line'!CA10","v":"2032-04-30"},{"$f":"'Complex Time Line'!CB10","v":"2032-05-31"},{"$f":"'Complex Time Line'!CC10","v":"2032-06-30"},{"$f":"'Complex Time Line'!CD10","v":"2032-07-31"},{"$f":"'Complex Time Line'!CE10","v":"2032-08-31"},{"$f":"'Complex Time Line'!CF10","v":"2032-09-30"},{"$f":"'Complex Time Line'!CG10","v":"2032-10-31"},{"$f":"'Complex Time Line'!CH10","v":"2032-11-30"},{"$f":"'Complex Time Line'!CI10","v":"2032-12-31"},{"$f":"'Complex Time Line'!CJ10","v":"2033-01-31"},{"$f":"'Complex Time Line'!CK10","v":"2033-02-28"},{"$f":"'Complex Time Line'!CL10","v":"2033-03-31"},{"$f":"'Complex Time Line'!CM10","v":"2033-04-30"},{"$f":"'Complex Time Line'!CN10","v":"2033-05-31"},{"$f":"'Complex Time Line'!CO10","v":"2033-06-30"},{"$f":"'Complex Time Line'!CP10","v":"2033-07-31"},{"$f":"'Complex Time Line'!CQ10","v":"2033-08-31"},{"$f":"'Complex Time Line'!CR10","v":"2033-09-30"},{"$f":"'Complex Time Line'!CS10","v":"2033-10-31"},{"$f":"'Complex Time Line'!CT10","v":"2033-11-30"},{"$f":"'Complex Time Line'!CU10","v":"2033-12-31"},{"$f":"'Complex Time Line'!CV10","v":"2034-01-31"},{"$f":"'Complex Time Line'!CW10","v":"2034-02-28"},{"$f":"'Complex Time Line'!CX10","v":"2034-03-31"},{"$f":"'Complex Time Line'!CY10","v":"2034-04-30"},{"$f":"'Complex Time Line'!CZ10","v":"2034-05-31"},{"$f":"'Complex Time Line'!DA10","v":"2034-06-30"},{"$f":"'Complex Time Line'!DB10","v":"2034-07-31"},{"$f":"'Complex Time Line'!DC10","v":"2034-08-31"},{"$f":"'Complex Time Line'!DD10","v":"2034-09-30"},{"$f":"'Complex Time Line'!DE10","v":"2034-10-31"},{"$f":"'Complex Time Line'!DF10","v":"2034-11-30"},{"$f":"'Complex Time Line'!DG10","v":"2034-12-31"},{"$f":"'Complex Time Line'!DH10","v":"2035-01-31"},{"$f":"'Complex Time Line'!DI10","v":"2035-02-28"},{"$f":"'Complex Time Line'!DJ10","v":"2035-03-31"},{"$f":"'Complex Time Line'!DK10","v":"2035-04-30"},{"$f":"'Complex Time Line'!DL10","v":"2035-05-31"},{"$f":"'Complex Time Line'!DM10","v":"2035-06-30"},{"$f":"'Complex Time Line'!DN10","v":"2035-07-31"},{"$f":"'Complex Time Line'!DO10","v":"2035-08-31"},{"$f":"'Complex Time Line'!DP10","v":"2035-09-30"},{"$f":"'Complex Time Line'!DQ10","v":"2035-10-31"},{"$f":"'Complex Time Line'!DR10","v":"2035-11-30"},{"$f":"'Complex Time Line'!DS10","v":"2035-12-31"},{"$f":"'Complex Time Line'!DT10","v":"2036-01-31"},{"$f":"'Complex Time Line'!DU10","v":"2036-02-29"},{"$f":"'Complex Time Line'!DV10","v":"2036-03-31"},{"$f":"'Complex Time Line'!DW10","v":"2036-04-30"},{"$f":"'Complex Time Line'!DX10","v":"2036-05-31"},{"$f":"'Complex Time Line'!DY10","v":"2036-06-30"},{"$f":"'Complex Time Line'!DZ10","v":"2036-07-31"},{"$f":"'Complex Time Line'!EA10","v":"2036-08-31"},{"$f":"'Complex Time Line'!EB10","v":"2036-09-30"},{"$f":"'Complex Time Line'!EC10","v":"2036-10-31"},{"$f":"'Complex Time Line'!ED10","v":"2036-11-30"},{"$f":"'Complex Time Line'!EE10","v":"2036-12-31"},{"$f":"'Complex Time Line'!EF10","v":"2037-01-31"},{"$f":"'Complex Time Line'!EG10","v":"2037-02-28"},{"$f":"'Complex Time Line'!EH10","v":"2037-03-31"},{"$f":"'Complex Time Line'!EI10","v":"2037-04-30"},{"$f":"'Complex Time Line'!EJ10","v":"2037-05-31"},{"$f":"'Complex Time Line'!EK10","v":"2037-06-30"},{"$f":"'Complex Time Line'!EL10","v":"2037-07-31"},{"$f":"'Complex Time Line'!EM10","v":"2037-08-31"},{"$f":"'Complex Time Line'!EN10","v":"2037-09-30"},{"$f":"'Complex Time Line'!EO10","v":"2037-10-31"},{"$f":"'Complex Time Line'!EP10","v":"2037-11-30"},{"$f":"'Complex Time Line'!EQ10","v":"2037-12-31"},{"$f":"'Complex Time Line'!ER10","v":"2038-01-31"},{"$f":"'Complex Time Line'!ES10","v":"2038-02-28"},{"$f":"'Complex Time Line'!ET10","v":"2038-03-31"},{"$f":"'Complex Time Line'!EU10","v":"2038-04-30"},{"$f":"'Complex Time Line'!EV10","v":"2038-05-31"},{"$f":"'Complex Time Line'!EW10","v":"2038-06-30"},{"$f":"'Complex Time Line'!EX10","v":"2038-07-31"},{"$f":"'Complex Time Line'!EY10","v":"2038-08-31"},{"$f":"'Complex Time Line'!EZ10","v":"2038-09-30"},{"$f":"'Complex Time Line'!FA10","v":"2038-10-31"},{"$f":"'Complex Time Line'!FB10","v":"2038-11-30"},{"$f":"'Complex Time Line'!FC10","v":"2038-12-31"},{"$f":"'Complex Time Line'!FD10","v":"2039-01-31"},{"$f":"'Complex Time Line'!FE10","v":"2039-02-28"},{"$f":"'Complex Time Line'!FF10","v":"2039-03-31"},{"$f":"'Complex Time Line'!FG10","v":"2039-04-30"},{"$f":"'Complex Time Line'!FH10","v":"2039-05-31"},{"$f":"'Complex Time Line'!FI10","v":"2039-06-30"},{"$f":"'Complex Time Line'!FJ10","v":"2039-07-31"},{"$f":"'Complex Time Line'!FK10","v":"2039-08-31"},{"$f":"'Complex Time Line'!FL10","v":"2039-09-30"},{"$f":"'Complex Time Line'!FM10","v":"2039-10-31"},{"$f":"'Complex Time Line'!FN10","v":"2039-11-30"},{"$f":"'Complex Time Line'!FO10","v":"2039-12-31"},{"$f":"'Complex Time Line'!FP10","v":"2040-01-31"},{"$f":"'Complex Time Line'!FQ10","v":"2040-02-29"},{"$f":"'Complex Time Line'!FR10","v":"2040-03-31"},{"$f":"'Complex Time Line'!FS10","v":"2040-04-30"},{"$f":"'Complex Time Line'!FT10","v":"2040-05-31"},{"$f":"'Complex Time Line'!FU10","v":"2040-06-30"},{"$f":"'Complex Time Line'!FV10","v":"2040-07-31"},{"$f":"'Complex Time Line'!FW10","v":"2040-08-31"},{"$f":"'Complex Time Line'!FX10","v":"2040-09-30"},{"$f":"'Complex Time Line'!FY10","v":"2040-10-31"},{"$f":"'Complex Time Line'!FZ10","v":"2040-11-30"},{"$f":"'Complex Time Line'!GA10","v":"2040-12-31"},{"$f":"'Complex Time Line'!GB10","v":"2041-01-31"},{"$f":"'Complex Time Line'!GC10","v":"2041-02-28"},{"$f":"'Complex Time Line'!GD10","v":"2041-03-31"},{"$f":"'Complex Time Line'!GE10","v":"2041-04-30"},{"$f":"'Complex Time Line'!GF10","v":"2041-05-31"},{"$f":"'Complex Time Line'!GG10","v":"2041-06-30"},{"$f":"'Complex Time Line'!GH10","v":"2041-07-31"},{"$f":"'Complex Time Line'!GI10","v":"2041-08-31"},{"$f":"'Complex Time Line'!GJ10","v":"2041-09-30"},{"$f":"'Complex Time Line'!GK10","v":"2041-10-31"},{"$f":"'Complex Time Line'!GL10","v":"2041-11-30"},{"$f":"'Complex Time Line'!GM10","v":"2041-12-31"},{"$f":"'Complex Time Line'!GN10","v":"2042-01-31"},{"$f":"'Complex Time Line'!GO10","v":"2042-02-28"},{"$f":"'Complex Time Line'!GP10","v":"2042-03-31"},{"$f":"'Complex Time Line'!GQ10","v":"2042-04-30"},{"$f":"'Complex Time Line'!GR10","v":"2042-05-31"},{"$f":"'Complex Time Line'!GS10","v":"2042-06-30"},{"$f":"'Complex Time Line'!GT10","v":"2042-07-31"},{"$f":"'Complex Time Line'!GU10","v":"2042-08-31"},{"$f":"'Complex Time Line'!GV10","v":"2042-09-30"},{"$f":"'Complex Time Line'!GW10","v":"2042-10-31"},{"$f":"'Complex Time Line'!GX10","v":"2042-11-30"},{"$f":"'Complex Time Line'!GY10","v":"2042-12-31"},{"$f":"'Complex Time Line'!GZ10","v":"2043-01-31"},{"$f":"'Complex Time Line'!HA10","v":"2043-02-28"},{"$f":"'Complex Time Line'!HB10","v":"2043-03-31"},{"$f":"'Complex Time Line'!HC10","v":"2043-04-30"},{"$f":"'Complex Time Line'!HD10","v":"2043-05-31"},{"$f":"'Complex Time Line'!HE10","v":"2043-06-30"},{"$f":"'Complex Time Line'!HF10","v":"2043-07-31"},{"$f":"'Complex Time Line'!HG10","v":"2043-08-31"},{"$f":"'Complex Time Line'!HH10","v":"2043-09-30"},{"$f":"'Complex Time Line'!HI10","v":"2043-10-31"},{"$f":"'Complex Time Line'!HJ10","v":"2043-11-30"},{"$f":"'Complex Time Line'!HK10","v":"2043-12-31"},{"$f":"'Complex Time Line'!HL10","v":"2044-01-31"},{"$f":"'Complex Time Line'!HM10","v":"2044-02-29"},{"$f":"'Complex Time Line'!HN10","v":"2044-03-31"},{"$f":"'Complex Time Line'!HO10","v":"2044-04-30"},{"$f":"'Complex Time Line'!HP10","v":"2044-05-31"},{"$f":"'Complex Time Line'!HQ10","v":"2044-06-30"},{"$f":"'Complex Time Line'!HR10","v":"2044-07-31"},{"$f":"'Complex Time Line'!HS10","v":"2044-08-31"},{"$f":"'Complex Time Line'!HT10","v":"2044-09-30"},{"$f":"'Complex Time Line'!HU10","v":"2044-10-31"},{"$f":"'Complex Time Line'!HV10","v":"2044-11-30"},{"$f":"'Complex Time Line'!HW10","v":"2044-12-31"},{"$f":"'Complex Time Line'!HX10","v":"2045-01-31"},{"$f":"'Complex Time Line'!HY10","v":"2045-02-28"},{"$f":"'Complex Time Line'!HZ10","v":"2045-03-31"},{"$f":"'Complex Time Line'!IA10","v":"2045-04-30"},{"$f":"'Complex Time Line'!IB10","v":"2045-05-31"},{"$f":"'Complex Time Line'!IC10","v":"2045-06-30"},{"$f":"'Complex Time Line'!ID10","v":"2045-07-31"},{"$f":"'Complex Time Line'!IE10","v":"2045-08-31"},{"$f":"'Complex Time Line'!IF10","v":"2045-09-30"},{"$f":"'Complex Time Line'!IG10","v":"2045-10-31"},{"$f":"'Complex Time Line'!IH10","v":"2045-11-30"},{"$f":"'Complex Time Line'!II10","v":"2045-12-31"},{"$f":"'Complex Time Line'!IJ10","v":"2046-01-31"},{"$f":"'Complex Time Line'!IK10","v":"2046-02-28"},{"$f":"'Complex Time Line'!IL10","v":"2046-03-31"},{"$f":"'Complex Time Line'!IM10","v":"2046-04-30"},{"$f":"'Complex Time Line'!IN10","v":"2046-05-31"},{"$f":"'Complex Time Line'!IO10","v":"2046-06-30"},{"$f":"'Complex Time Line'!IP10","v":"2046-07-31"},{"$f":"'Complex Time Line'!IQ10","v":"2046-08-31"},{"$f":"'Complex Time Line'!IR10","v":"2046-09-30"},{"$f":"'Complex Time Line'!IS10","v":"2046-10-31"},{"$f":"'Complex Time Line'!IT10","v":"2046-11-30"},{"$f":"'Complex Time Line'!IU10","v":"2046-12-31"},{"$f":"'Complex Time Line'!IV10","v":"2047-01-31"},{"$f":"'Complex Time Line'!IW10","v":"2047-02-28"},{"$f":"'Complex Time Line'!IX10","v":"2047-03-31"},{"$f":"'Complex Time Line'!IY10","v":"2047-04-30"},{"$f":"'Complex Time Line'!IZ10","v":"2047-05-31"},{"$f":"'Complex Time Line'!JA10","v":"2047-06-30"},{"$f":"'Complex Time Line'!JB10","v":"2047-07-31"},{"$f":"'Complex Time Line'!JC10","v":"2047-08-31"},{"$f":"'Complex Time Line'!JD10","v":"2047-09-30"},{"$f":"'Complex Time Line'!JE10","v":"2047-10-31"},{"$f":"'Complex Time Line'!JF10","v":"2047-11-30"},{"$f":"'Complex Time Line'!JG10","v":"2047-12-31"},{"$f":"'Complex Time Line'!JH10","v":"2048-01-31"},{"$f":"'Complex Time Line'!JI10","v":"2048-02-29"},{"$f":"'Complex Time Line'!JJ10","v":"2048-03-31"},{"$f":"'Complex Time Line'!JK10","v":"2048-04-30"},{"$f":"'Complex Time Line'!JL10","v":"2048-05-31"},{"$f":"'Complex Time Line'!JM10","v":"2048-06-30"},{"$f":"'Complex Time Line'!JN10","v":"2048-07-31"},{"$f":"'Complex Time Line'!JO10","v":"2048-08-31"},{"$f":"'Complex Time Line'!JP10","v":"2048-09-30"},{"$f":"'Complex Time Line'!JQ10","v":"2048-10-31"},{"$f":"'Complex Time Line'!JR10","v":"2048-11-30"},{"$f":"'Complex Time Line'!JS10","v":"2048-12-31"},{"$f":"'Complex Time Line'!JT10","v":"2049-01-31"},{"$f":"'Complex Time Line'!JU10","v":"2049-02-28"},{"$f":"'Complex Time Line'!JV10","v":"2049-03-31"},{"$f":"'Complex Time Line'!JW10","v":"2049-04-30"},{"$f":"'Complex Time Line'!JX10","v":"2049-05-31"},{"$f":"'Complex Time Line'!JY10","v":"2049-06-30"},{"$f":"'Complex Time Line'!JZ10","v":"2049-07-31"},{"$f":"'Complex Time Line'!KA10","v":"2049-08-31"},{"$f":"'Complex Time Line'!KB10","v":"2049-09-30"},{"$f":"'Complex Time Line'!KC10","v":"2049-10-31"},{"$f":"'Complex Time Line'!KD10","v":"2049-11-30"},{"$f":"'Complex Time Line'!KE10","v":"2049-12-31"},{"$f":"'Complex Time Line'!KF10","v":"2050-01-31"},{"$f":"'Complex Time Line'!KG10","v":"2050-02-28"},{"$f":"'Complex Time Line'!KH10","v":"2050-03-31"},{"$f":"'Complex Time Line'!KI10","v":"2050-04-30"},{"$f":"'Complex Time Line'!KJ10","v":"2050-05-31"},{"$f":"'Complex Time Line'!KK10","v":"2050-06-30"},{"$f":"'Complex Time Line'!KL10","v":"2050-07-31"},{"$f":"'Complex Time Line'!KM10","v":"2050-08-31"},{"$f":"'Complex Time Line'!KN10","v":"2050-09-30"},{"$f":"'Complex Time Line'!KO10","v":"2050-10-31"},{"$f":"'Complex Time Line'!KP10","v":"2050-11-30"},{"$f":"'Complex Time Line'!KQ10","v":"2050-12-31"},{"$f":"'Complex Time Line'!KR10","v":"2051-01-31"},{"$f":"'Complex Time Line'!KS10","v":"2051-02-28"},{"$f":"'Complex Time Line'!KT10","v":"2051-03-31"},{"$f":"'Complex Time Line'!KU10","v":"2051-04-30"},{"$f":"'Complex Time Line'!KV10","v":"2051-05-31"},{"$f":"'Complex Time Line'!KW10","v":"2051-06-30"},{"$f":"'Complex Time Line'!KX10","v":"2051-07-31"},{"$f":"'Complex Time Line'!KY10","v":"2051-08-31"},{"$f":"'Complex Time Line'!KZ10","v":"2051-09-30"},{"$f":"'Complex Time Line'!LA10","v":"2051-10-31"},{"$f":"'Complex Time Line'!LB10","v":"2051-11-30"},{"$f":"'Complex Time Line'!LC10","v":"2051-12-31"},{"$f":"'Complex Time Line'!LD10","v":"2052-01-31"},{"$f":"'Complex Time Line'!LE10","v":"2052-02-29"},{"$f":"'Complex Time Line'!LF10","v":"2052-03-31"},{"$f":"'Complex Time Line'!LG10","v":"2052-04-30"},{"$f":"'Complex Time Line'!LH10","v":"2052-05-31"},{"$f":"'Complex Time Line'!LI10","v":"2052-06-30"},{"$f":"'Complex Time Line'!LJ10","v":"2052-07-31"},{"$f":"'Complex Time Line'!LK10","v":"2052-08-31"},{"$f":"'Complex Time Line'!LL10","v":"2052-09-30"},{"$f":"'Complex Time Line'!LM10","v":"2052-10-31"},{"$f":"'Complex Time Line'!LN10","v":"2052-11-30"},{"$f":"'Complex Time Line'!LO10","v":"2052-12-31"},{"$f":"'Complex Time Line'!LP10","v":"2053-01-31"},{"$f":"'Complex Time Line'!LQ10","v":"2053-02-28"},{"$f":"'Complex Time Line'!LR10","v":"2053-03-31"},{"$f":"'Complex Time Line'!LS10","v":"2053-04-30"},{"$f":"'Complex Time Line'!LT10","v":"2053-05-31"},{"$f":"'Complex Time Line'!LU10","v":"2053-06-30"},{"$f":"'Complex Time Line'!LV10","v":"2053-07-31"},{"$f":"'Complex Time Line'!LW10","v":"2053-08-31"},{"$f":"'Complex Time Line'!LX10","v":"2053-09-30"},{"$f":"'Complex Time Line'!LY10","v":"2053-10-31"},{"$f":"'Complex Time Line'!LZ10","v":"2053-11-30"},{"$f":"'Complex Time Line'!MA10","v":"2053-12-31"},{"$f":"'Complex Time Line'!MB10","v":"2054-01-31"},{"$f":"'Complex Time Line'!MC10","v":"2054-02-28"},{"$f":"'Complex Time Line'!MD10","v":"2054-03-31"},{"$f":"'Complex Time Line'!ME10","v":"2054-04-30"},{"$f":"'Complex Time Line'!MF10","v":"2054-05-31"},{"$f":"'Complex Time Line'!MG10","v":"2054-06-30"},{"$f":"'Complex Time Line'!MH10","v":"2054-07-31"},{"$f":"'Complex Time Line'!MI10","v":"2054-08-31"},{"$f":"'Complex Time Line'!MJ10","v":"2054-09-30"},{"$f":"'Complex Time Line'!MK10","v":"2054-10-31"},{"$f":"'Complex Time Line'!ML10","v":"2054-11-30"},{"$f":"'Complex Time Line'!MM10","v":"2054-12-31"},{"$f":"'Complex Time Line'!MN10","v":"2055-01-31"},{"$f":"'Complex Time Line'!MO10","v":"2055-02-28"},{"$f":"'Complex Time Line'!MP10","v":"2055-03-31"},{"$f":"'Complex Time Line'!MQ10","v":"2055-04-30"},{"$f":"'Complex Time Line'!MR10","v":"2055-05-31"},{"$f":"'Complex Time Line'!MS10","v":"2055-06-30"},{"$f":"'Complex Time Line'!MT10","v":"2055-07-31"},{"$f":"'Complex Time Line'!MU10","v":"2055-08-31"},{"$f":"'Complex Time Line'!MV10","v":"2055-09-30"},{"$f":"'Complex Time Line'!MW10","v":"2055-10-31"},{"$f":"'Complex Time Line'!MX10","v":"2055-11-30"},{"$f":"'Complex Time Line'!MY10","v":"2055-12-31"},{"$f":"'Complex Time Line'!MZ10","v":"2056-01-31"},{"$f":"'Complex Time Line'!NA10","v":"2056-02-29"},{"$f":"'Complex Time Line'!NB10","v":"2056-03-31"},{"$f":"'Complex Time Line'!NC10","v":"2056-04-30"},{"$f":"'Complex Time Line'!ND10","v":"2056-05-31"},{"$f":"'Complex Time Line'!NE10","v":"2056-06-30"},{"$f":"'Complex Time Line'!NF10","v":"2056-07-31"},{"$f":"'Complex Time Line'!NG10","v":"2056-08-31"},{"$f":"'Complex Time Line'!NH10","v":"2056-09-30"},{"$f":"'Complex Time Line'!NI10","v":"2056-10-31"},{"$f":"'Complex Time Line'!NJ10","v":"2056-11-30"},{"$f":"'Complex Time Line'!NK10","v":"2056-12-31"},{"$f":"'Complex Time Line'!NL10","v":"2057-01-31"},{"$f":"'Complex Time Line'!NM10","v":"2057-02-28"},{"$f":"'Complex Time Line'!NN10","v":"2057-03-31"},{"$f":"'Complex Time Line'!NO10","v":"2057-04-30"},{"$f":"'Complex Time Line'!NP10","v":"2057-05-31"},{"$f":"'Complex Time Line'!NQ10","v":"2057-06-30"},{"$f":"'Complex Time Line'!NR10","v":"2057-07-31"},{"$f":"'Complex Time Line'!NS10","v":"2057-08-31"},{"$f":"'Complex Time Line'!NT10","v":"2057-09-30"},{"$f":"'Complex Time Line'!NU10","v":"2057-10-31"},{"$f":"'Complex Time Line'!NV10","v":"2057-11-30"},{"$f":"'Complex Time Line'!NW10","v":"2057-12-31"},{"$f":"'Complex Time Line'!NX10","v":"2058-01-31"},{"$f":"'Complex Time Line'!NY10","v":"2058-02-28"},{"$f":"'Complex Time Line'!NZ10","v":"2058-03-31"},{"$f":"'Complex Time Line'!OA10","v":"2058-04-30"},{"$f":"'Complex Time Line'!OB10","v":"2058-05-31"},{"$f":"'Complex Time Line'!OC10","v":"2058-06-30"},{"$f":"'Complex Time Line'!OD10","v":"2058-07-31"},{"$f":"'Complex Time Line'!OE10","v":"2058-08-31"},{"$f":"'Complex Time Line'!OF10","v":"2058-09-30"},{"$f":"'Complex Time Line'!OG10","v":"2058-10-31"},{"$f":"'Complex Time Line'!OH10","v":"2058-11-30"},{"$f":"'Complex Time Line'!OI10","v":"2058-12-31"},{"$f":"'Complex Time Line'!OJ10","v":"2059-01-31"},{"$f":"'Complex Time Line'!OK10","v":"2059-02-28"},{"$f":"'Complex Time Line'!OL10","v":"2059-03-31"},{"$f":"'Complex Time Line'!OM10","v":"2059-04-30"},{"$f":"'Complex Time Line'!ON10","v":"2059-05-31"},{"$f":"'Complex Time Line'!OO10","v":"2059-06-30"},{"$f":"'Complex Time Line'!OP10","v":"2059-07-31"},{"$f":"'Complex Time Line'!OQ10","v":"2059-08-31"},{"$f":"'Complex Time Line'!OR10","v":"2059-09-30"},{"$f":"'Complex Time Line'!OS10","v":"2059-10-31"},{"$f":"'Complex Time Line'!OT10","v":"2059-11-30"},{"$f":"'Complex Time Line'!OU10","v":"2059-12-31"},{"$f":"'Complex Time Line'!OV10","v":"2060-01-31"},{"$f":"'Complex Time Line'!OW10","v":"2060-02-29"},{"$f":"'Complex Time Line'!OX10","v":"2060-03-31"},{"$f":"'Complex Time Line'!OY10","v":"2060-04-30"},{"$f":"'Complex Time Line'!OZ10","v":"2060-05-31"},{"$f":"'Complex Time Line'!PA10","v":"2060-06-30"},{"$f":"'Complex Time Line'!PB10","v":"2060-07-31"},{"$f":"'Complex Time Line'!PC10","v":"2060-08-31"},{"$f":"'Complex Time Line'!PD10","v":"2060-09-30"},{"$f":"'Complex Time Line'!PE10","v":"2060-10-31"},{"$f":"'Complex Time Line'!PF10","v":"2060-11-30"},{"$f":"'Complex Time Line'!PG10","v":"2060-12-31"},{"$f":"'Complex Time Line'!PH10","v":"2061-01-31"},{"$f":"'Complex Time Line'!PI10","v":"2061-02-28"},{"$f":"'Complex Time Line'!PJ10","v":"2061-03-31"},{"$f":"'Complex Time Line'!PK10","v":"2061-04-30"},{"$f":"'Complex Time Line'!PL10","v":"2061-05-31"},{"$f":"'Complex Time Line'!PM10","v":"2061-06-30"},{"$f":"'Complex Time Line'!PN10","v":"2061-07-31"},{"$f":"'Complex Time Line'!PO10","v":"2061-08-31"},{"$f":"'Complex Time Line'!PP10","v":"2061-09-30"},{"$f":"'Complex Time Line'!PQ10","v":"2061-10-31"},{"$f":"'Complex Time Line'!PR10","v":"2061-11-30"},{"$f":"'Complex Time Line'!PS10","v":"2061-12-31"},{"$f":"'Complex Time Line'!PT10","v":"2062-01-31"},{"$f":"'Complex Time Line'!PU10","v":"2062-02-28"},{"$f":"'Complex Time Line'!PV10","v":"2062-03-31"},{"$f":"'Complex Time Line'!PW10","v":"2062-04-30"},{"$f":"'Complex Time Line'!PX10","v":"2062-05-31"},{"$f":"'Complex Time Line'!PY10","v":"2062-06-30"},{"$f":"'Complex Time Line'!PZ10","v":"2062-07-31"},{"$f":"'Complex Time Line'!QA10","v":"2062-08-31"},{"$f":"'Complex Time Line'!QB10","v":"2062-09-30"},{"$f":"'Complex Time Line'!QC10","v":"2062-10-31"},{"$f":"'Complex Time Line'!QD10","v":"2062-11-30"},{"$f":"'Complex Time Line'!QE10","v":"2062-12-31"},{"$f":"'Complex Time Line'!QF10","v":"2063-01-31"},{"$f":"'Complex Time Line'!QG10","v":"2063-02-28"},{"$f":"'Complex Time Line'!QH10","v":"2063-03-31"},{"$f":"'Complex Time Line'!QI10","v":"2063-04-30"},{"$f":"'Complex Time Line'!QJ10","v":"2063-05-31"},{"$f":"'Complex Time Line'!QK10","v":"2063-06-30"},{"$f":"'Complex Time Line'!QL10","v":"2063-07-31"},{"$f":"'Complex Time Line'!QM10","v":"2063-08-31"},{"$f":"'Complex Time Line'!QN10","v":"2063-09-30"},{"$f":"'Complex Time Line'!QO10","v":"2063-10-31"},{"$f":"'Complex Time Line'!QP10","v":"2063-11-30"},{"$f":"'Complex Time Line'!QQ10","v":"2063-12-31"},{"$f":"'Complex Time Line'!QR10","v":"2064-01-31"},{"$f":"'Complex Time Line'!QS10","v":"2064-02-29"},{"$f":"'Complex Time Line'!QT10","v":"2064-03-31"},{"$f":"'Complex Time Line'!QU10","v":"2064-04-30"},{"$f":"'Complex Time Line'!QV10","v":"2064-05-31"},{"$f":"'Complex Time Line'!QW10","v":"2064-06-30"},{"$f":"'Complex Time Line'!QX10","v":"2064-07-31"},{"$f":"'Complex Time Line'!QY10","v":"2064-08-31"},{"$f":"'Complex Time Line'!QZ10","v":"2064-09-30"},{"$f":"'Complex Time Line'!RA10","v":"2064-10-31"},{"$f":"'Complex Time Line'!RB10","v":"2064-11-30"},{"$f":"'Complex Time Line'!RC10","v":"2064-12-31"},{"$f":"'Complex Time Line'!RD10","v":"2065-01-31"},{"$f":"'Complex Time Line'!RE10","v":"2065-02-28"},{"$f":"'Complex Time Line'!RF10","v":"2065-03-31"},{"$f":"'Complex Time Line'!RG10","v":"2065-04-30"},{"$f":"'Complex Time Line'!RH10","v":"2065-05-31"},{"$f":"'Complex Time Line'!RI10","v":"2065-06-30"},{"$f":"'Complex Time Line'!RJ10","v":"2065-07-31"},{"$f":"'Complex Time Line'!RK10","v":"2065-08-31"},{"$f":"'Complex Time Line'!RL10","v":"2065-09-30"},{"$f":"'Complex Time Line'!RM10","v":"2065-10-31"},{"$f":"'Complex Time Line'!RN10","v":"2065-11-30"},{"$f":"'Complex Time Line'!RO10","v":"2065-12-31"},{"$f":"'Complex Time Line'!RP10","v":"2066-01-31"},{"$f":"'Complex Time Line'!RQ10","v":"2066-02-28"},{"$f":"'Complex Time Line'!RR10","v":"2066-03-31"},{"$f":"'Complex Time Line'!RS10","v":"2066-04-30"},{"$f":"'Complex Time Line'!RT10","v":"2066-05-31"},{"$f":"'Complex Time Line'!RU10","v":"2066-06-30"},{"$f":"'Complex Time Line'!RV10","v":"2066-07-31"},{"$f":"'Complex Time Line'!RW10","v":"2066-08-31"},{"$f":"'Complex Time Line'!RX10","v":"2066-09-30"},{"$f":"'Complex Time Line'!RY10","v":"2066-10-31"},{"$f":"'Complex Time Line'!RZ10","v":"2066-11-30"},{"$f":"'Complex Time Line'!SA10","v":"2066-12-31"},{"$f":"'Complex Time Line'!SB10","v":"2067-01-31"},{"$f":"'Complex Time Line'!SC10","v":"2067-02-28"},{"$f":"'Complex Time Line'!SD10","v":"2067-03-31"},{"$f":"'Complex Time Line'!SE10","v":"2067-04-30"},{"$f":"'Complex Time Line'!SF10","v":"2067-05-31"},{"$f":"'Complex Time Line'!SG10","v":"2067-06-30"},{"$f":"'Complex Time Line'!SH10","v":"2067-07-31"},{"$f":"'Complex Time Line'!SI10","v":"2067-08-31"},{"$f":"'Complex Time Line'!SJ10","v":"2067-09-30"},{"$f":"'Complex Time Line'!SK10","v":"2067-10-31"},{"$f":"'Complex Time Line'!SL10","v":"2067-11-30"},{"$f":"'Complex Time Line'!SM10","v":"2067-12-31"},{"$f":"'Complex Time Line'!SN10","v":"2068-01-31"},{"$f":"'Complex Time Line'!SO10","v":"2068-02-29"},{"$f":"'Complex Time Line'!SP10","v":"2068-03-31"},{"$f":"'Complex Time Line'!SQ10","v":"2068-04-30"},{"$f":"'Complex Time Line'!SR10","v":"2068-05-31"},{"$f":"'Complex Time Line'!SS10","v":"2068-06-30"},{"$f":"'Complex Time Line'!ST10","v":"2068-07-31"},{"$f":"'Complex Time Line'!SU10","v":"2068-08-31"},{"$f":"'Complex Time Line'!SV10","v":"2068-09-30"},{"$f":"'Complex Time Line'!SW10","v":"2068-10-31"},{"$f":"'Complex Time Line'!SX10","v":"2068-11-30"},{"$f":"'Complex Time Line'!SY10","v":"2068-12-31"},{"$f":"'Complex Time Line'!SZ10","v":"2069-01-31"},{"$f":"'Complex Time Line'!TA10","v":"2069-02-28"},{"$f":"'Complex Time Line'!TB10","v":"2069-03-31"},{"$f":"'Complex Time Line'!TC10","v":"2069-04-30"},{"$f":"'Complex Time Line'!TD10","v":"2069-05-31"},{"$f":"'Complex Time Line'!TE10","v":"2069-06-30"},{"$f":"'Complex Time Line'!TF10","v":"2069-07-31"},{"$f":"'Complex Time Line'!TG10","v":"2069-08-31"},{"$f":"'Complex Time Line'!TH10","v":"2069-09-30"},{"$f":"'Complex Time Line'!TI10","v":"2069-10-31"},{"$f":"'Complex Time Line'!TJ10","v":"2069-11-30"},{"$f":"'Complex Time Line'!TK10","v":"2069-12-31"},{"$f":"'Complex Time Line'!TL10","v":"2070-01-31"},{"$f":"'Complex Time Line'!TM10","v":"2070-02-28"},{"$f":"'Complex Time Line'!TN10","v":"2070-03-31"},{"$f":"'Complex Time Line'!TO10","v":"2070-04-30"},{"$f":"'Complex Time Line'!TP10","v":"2070-05-31"},{"$f":"'Complex Time Line'!TQ10","v":"2070-06-30"},{"$f":"'Complex Time Line'!TR10","v":"2070-07-31"},{"$f":"'Complex Time Line'!TS10","v":"2070-08-31"},{"$f":"'Complex Time Line'!TT10","v":"2070-09-30"},{"$f":"'Complex Time Line'!TU10","v":"2070-10-31"},{"$f":"'Complex Time Line'!TV10","v":"2070-11-30"},{"$f":"'Complex Time Line'!TW10","v":"2070-12-31"},{"$f":"'Complex Time Line'!TX10","v":"2071-01-31"},{"$f":"'Complex Time Line'!TY10","v":"2071-02-28"},{"$f":"'Complex Time Line'!TZ10","v":"2071-03-31"},{"$f":"'Complex Time Line'!UA10","v":"2071-04-30"},{"$f":"'Complex Time Line'!UB10","v":"2071-05-31"},{"$f":"'Complex Time Line'!UC10","v":"2071-06-30"},{"$f":"'Complex Time Line'!UD10","v":"2071-07-31"},{"$f":"'Complex Time Line'!UE10","v":"2071-08-31"},{"$f":"'Complex Time Line'!UF10","v":"2071-09-30"},{"$f":"'Complex Time Line'!UG10","v":"2071-10-31"},{"$f":"'Complex Time Line'!UH10","v":"2071-11-30"},{"$f":"'Complex Time Line'!UI10","v":"2071-12-31"},{"$f":"'Complex Time Line'!UJ10","v":"2072-01-31"},{"$f":"'Complex Time Line'!UK10","v":"2072-02-29"},{"$f":"'Complex Time Line'!UL10","v":"2072-03-31"},{"$f":"'Complex Time Line'!UM10","v":"2072-04-30"},{"$f":"'Complex Time Line'!UN10","v":"2072-05-31"}]
[]
[null,null,null,null,null,"Month",null,"Pct of Yr"]
[null,null,null,null,null,1,null,0.04,null,{"$f":"Find_Month(J$16,J$17,$F20)","v":false},{"$f":"Find_Month(K$16,K$17,$F20)","v":false},{"$f":"Find_Month(L$16,L$17,$F20)","v":false},{"$f":"Find_Month(M$16,M$17,$F20)","v":false},{"$f":"Find_Month(N$16,N$17,$F20)","v":false},{"$f":"Find_Month(O$16,O$17,$F20)","v":true},{"$f":"Find_Month(P$16,P$17,$F20)","v":false},{"$f":"Find_Month(Q$16,Q$17,$F20)","v":false},{"$f":"Find_Month(R$16,R$17,$F20)","v":false},{"$f":"Find_Month(S$16,S$17,$F20)","v":false},{"$f":"Find_Month(T$16,T$17,$F20)","v":false},{"$f":"Find_Month(U$16,U$17,$F20)","v":false},{"$f":"Find_Month(V$16,V$17,$F20)","v":false},{"$f":"Find_Month(W$16,W$17,$F20)","v":false},{"$f":"Find_Month(X$16,X$17,$F20)","v":false},{"$f":"Find_Month(Y$16,Y$17,$F20)","v":false},{"$f":"Find_Month(Z$16,Z$17,$F20)","v":false},{"$f":"Find_Month(AA$16,AA$17,$F20)","v":true},{"$f":"Find_Month(AB$16,AB$17,$F20)","v":false},{"$f":"Find_Month(AC$16,AC$17,$F20)","v":false},{"$f":"Find_Month(AD$16,AD$17,$F20)","v":false},{"$f":"Find_Month(AE$16,AE$17,$F20)","v":false},{"$f":"Find_Month(AF$16,AF$17,$F20)","v":false},{"$f":"Find_Month(AG$16,AG$17,$F20)","v":false},{"$f":"Find_Month(AH$16,AH$17,$F20)","v":false},{"$f":"Find_Month(AI$16,AI$17,$F20)","v":false},{"$f":"Find_Month(AJ$16,AJ$17,$F20)","v":false},{"$f":"Find_Month(AK$16,AK$17,$F20)","v":false},{"$f":"Find_Month(AL$16,AL$17,$F20)","v":false},{"$f":"Find_Month(AM$16,AM$17,$F20)","v":true},{"$f":"Find_Month(AN$16,AN$17,$F20)","v":false},{"$f":"Find_Month(AO$16,AO$17,$F20)","v":false},{"$f":"Find_Month(AP$16,AP$17,$F20)","v":false},{"$f":"Find_Month(AQ$16,AQ$17,$F20)","v":false},{"$f":"Find_Month(AR$16,AR$17,$F20)","v":false},{"$f":"Find_Month(AS$16,AS$17,$F20)","v":false},{"$f":"Find_Month(AT$16,AT$17,$F20)","v":false},{"$f":"Find_Month(AU$16,AU$17,$F20)","v":false},{"$f":"Find_Month(AV$16,AV$17,$F20)","v":false},{"$f":"Find_Month(AW$16,AW$17,$F20)","v":false},{"$f":"Find_Month(AX$16,AX$17,$F20)","v":false},{"$f":"Find_Month(AY$16,AY$17,$F20)","v":true},{"$f":"Find_Month(AZ$16,AZ$17,$F20)","v":false},{"$f":"Find_Month(BA$16,BA$17,$F20)","v":false},{"$f":"Find_Month(BB$16,BB$17,$F20)","v":false},{"$f":"Find_Month(BC$16,BC$17,$F20)","v":false},{"$f":"Find_Month(BD$16,BD$17,$F20)","v":false},{"$f":"Find_Month(BE$16,BE$17,$F20)","v":false},{"$f":"Find_Month(BF$16,BF$17,$F20)","v":false},{"$f":"Find_Month(BG$16,BG$17,$F20)","v":false},{"$f":"Find_Month(BH$16,BH$17,$F20)","v":false},{"$f":"Find_Month(BI$16,BI$17,$F20)","v":false},{"$f":"Find_Month(BJ$16,BJ$17,$F20)","v":false},{"$f":"Find_Month(BK$16,BK$17,$F20)","v":true},{"$f":"Find_Month(BL$16,BL$17,$F20)","v":false},{"$f":"Find_Month(BM$16,BM$17,$F20)","v":false},{"$f":"Find_Month(BN$16,BN$17,$F20)","v":false},{"$f":"Find_Month(BO$16,BO$17,$F20)","v":false},{"$f":"Find_Month(BP$16,BP$17,$F20)","v":false},{"$f":"Find_Month(BQ$16,BQ$17,$F20)","v":false},{"$f":"Find_Month(BR$16,BR$17,$F20)","v":false},{"$f":"Find_Month(BS$16,BS$17,$F20)","v":false},{"$f":"Find_Month(BT$16,BT$17,$F20)","v":false},{"$f":"Find_Month(BU$16,BU$17,$F20)","v":false},{"$f":"Find_Month(BV$16,BV$17,$F20)","v":false},{"$f":"Find_Month(BW$16,BW$17,$F20)","v":true},{"$f":"Find_Month(BX$16,BX$17,$F20)","v":false},{"$f":"Find_Month(BY$16,BY$17,$F20)","v":false},{"$f":"Find_Month(BZ$16,BZ$17,$F20)","v":false},{"$f":"Find_Month(CA$16,CA$17,$F20)","v":false},{"$f":"Find_Month(CB$16,CB$17,$F20)","v":false},{"$f":"Find_Month(CC$16,CC$17,$F20)","v":false},{"$f":"Find_Month(CD$16,CD$17,$F20)","v":false},{"$f":"Find_Month(CE$16,CE$17,$F20)","v":false},{"$f":"Find_Month(CF$16,CF$17,$F20)","v":false},{"$f":"Find_Month(CG$16,CG$17,$F20)","v":false},{"$f":"Find_Month(CH$16,CH$17,$F20)","v":false},{"$f":"Find_Month(CI$16,CI$17,$F20)","v":true},{"$f":"Find_Month(CJ$16,CJ$17,$F20)","v":false},{"$f":"Find_Month(CK$16,CK$17,$F20)","v":false},{"$f":"Find_Month(CL$16,CL$17,$F20)","v":false},{"$f":"Find_Month(CM$16,CM$17,$F20)","v":false},{"$f":"Find_Month(CN$16,CN$17,$F20)","v":false},{"$f":"Find_Month(CO$16,CO$17,$F20)","v":false},{"$f":"Find_Month(CP$16,CP$17,$F20)","v":false},{"$f":"Find_Month(CQ$16,CQ$17,$F20)","v":false},{"$f":"Find_Month(CR$16,CR$17,$F20)","v":false},{"$f":"Find_Month(CS$16,CS$17,$F20)","v":false},{"$f":"Find_Month(CT$16,CT$17,$F20)","v":false},{"$f":"Find_Month(CU$16,CU$17,$F20)","v":true},{"$f":"Find_Month(CV$16,CV$17,$F20)","v":false},{"$f":"Find_Month(CW$16,CW$17,$F20)","v":false},{"$f":"Find_Month(CX$16,CX$17,$F20)","v":false},{"$f":"Find_Month(CY$16,CY$17,$F20)","v":false},{"$f":"Find_Month(CZ$16,CZ$17,$F20)","v":false},{"$f":"Find_Month(DA$16,DA$17,$F20)","v":false},{"$f":"Find_Month(DB$16,DB$17,$F20)","v":false},{"$f":"Find_Month(DC$16,DC$17,$F20)","v":false},{"$f":"Find_Month(DD$16,DD$17,$F20)","v":false},{"$f":"Find_Month(DE$16,DE$17,$F20)","v":false},{"$f":"Find_Month(DF$16,DF$17,$F20)","v":false},{"$f":"Find_Month(DG$16,DG$17,$F20)","v":true},{"$f":"Find_Month(DH$16,DH$17,$F20)","v":false},{"$f":"Find_Month(DI$16,DI$17,$F20)","v":false},{"$f":"Find_Month(DJ$16,DJ$17,$F20)","v":false},{"$f":"Find_Month(DK$16,DK$17,$F20)","v":false},{"$f":"Find_Month(DL$16,DL$17,$F20)","v":false},{"$f":"Find_Month(DM$16,DM$17,$F20)","v":false},{"$f":"Find_Month(DN$16,DN$17,$F20)","v":false},{"$f":"Find_Month(DO$16,DO$17,$F20)","v":false},{"$f":"Find_Month(DP$16,DP$17,$F20)","v":false},{"$f":"Find_Month(DQ$16,DQ$17,$F20)","v":false},{"$f":"Find_Month(DR$16,DR$17,$F20)","v":false},{"$f":"Find_Month(DS$16,DS$17,$F20)","v":true},{"$f":"Find_Month(DT$16,DT$17,$F20)","v":false},{"$f":"Find_Month(DU$16,DU$17,$F20)","v":false},{"$f":"Find_Month(DV$16,DV$17,$F20)","v":false},{"$f":"Find_Month(DW$16,DW$17,$F20)","v":false},{"$f":"Find_Month(DX$16,DX$17,$F20)","v":false},{"$f":"Find_Month(DY$16,DY$17,$F20)","v":false},{"$f":"Find_Month(DZ$16,DZ$17,$F20)","v":false},{"$f":"Find_Month(EA$16,EA$17,$F20)","v":false},{"$f":"Find_Month(EB$16,EB$17,$F20)","v":false},{"$f":"Find_Month(EC$16,EC$17,$F20)","v":false},{"$f":"Find_Month(ED$16,ED$17,$F20)","v":false},{"$f":"Find_Month(EE$16,EE$17,$F20)","v":true},{"$f":"Find_Month(EF$16,EF$17,$F20)","v":false},{"$f":"Find_Month(EG$16,EG$17,$F20)","v":false},{"$f":"Find_Month(EH$16,EH$17,$F20)","v":false},{"$f":"Find_Month(EI$16,EI$17,$F20)","v":false},{"$f":"Find_Month(EJ$16,EJ$17,$F20)","v":false},{"$f":"Find_Month(EK$16,EK$17,$F20)","v":false},{"$f":"Find_Month(EL$16,EL$17,$F20)","v":false},{"$f":"Find_Month(EM$16,EM$17,$F20)","v":false},{"$f":"Find_Month(EN$16,EN$17,$F20)","v":false},{"$f":"Find_Month(EO$16,EO$17,$F20)","v":false},{"$f":"Find_Month(EP$16,EP$17,$F20)","v":false},{"$f":"Find_Month(EQ$16,EQ$17,$F20)","v":true},{"$f":"Find_Month(ER$16,ER$17,$F20)","v":false},{"$f":"Find_Month(ES$16,ES$17,$F20)","v":false},{"$f":"Find_Month(ET$16,ET$17,$F20)","v":false},{"$f":"Find_Month(EU$16,EU$17,$F20)","v":false},{"$f":"Find_Month(EV$16,EV$17,$F20)","v":false},{"$f":"Find_Month(EW$16,EW$17,$F20)","v":false},{"$f":"Find_Month(EX$16,EX$17,$F20)","v":false},{"$f":"Find_Month(EY$16,EY$17,$F20)","v":false},{"$f":"Find_Month(EZ$16,EZ$17,$F20)","v":false},{"$f":"Find_Month(FA$16,FA$17,$F20)","v":false},{"$f":"Find_Month(FB$16,FB$17,$F20)","v":false},{"$f":"Find_Month(FC$16,FC$17,$F20)","v":true},{"$f":"Find_Month(FD$16,FD$17,$F20)","v":false},{"$f":"Find_Month(FE$16,FE$17,$F20)","v":false},{"$f":"Find_Month(FF$16,FF$17,$F20)","v":false},{"$f":"Find_Month(FG$16,FG$17,$F20)","v":false},{"$f":"Find_Month(FH$16,FH$17,$F20)","v":false},{"$f":"Find_Month(FI$16,FI$17,$F20)","v":false},{"$f":"Find_Month(FJ$16,FJ$17,$F20)","v":false},{"$f":"Find_Month(FK$16,FK$17,$F20)","v":false},{"$f":"Find_Month(FL$16,FL$17,$F20)","v":false},{"$f":"Find_Month(FM$16,FM$17,$F20)","v":false},{"$f":"Find_Month(FN$16,FN$17,$F20)","v":false},{"$f":"Find_Month(FO$16,FO$17,$F20)","v":true},{"$f":"Find_Month(FP$16,FP$17,$F20)","v":false},{"$f":"Find_Month(FQ$16,FQ$17,$F20)","v":false},{"$f":"Find_Month(FR$16,FR$17,$F20)","v":false},{"$f":"Find_Month(FS$16,FS$17,$F20)","v":false},{"$f":"Find_Month(FT$16,FT$17,$F20)","v":false},{"$f":"Find_Month(FU$16,FU$17,$F20)","v":false},{"$f":"Find_Month(FV$16,FV$17,$F20)","v":false},{"$f":"Find_Month(FW$16,FW$17,$F20)","v":false},{"$f":"Find_Month(FX$16,FX$17,$F20)","v":false},{"$f":"Find_Month(FY$16,FY$17,$F20)","v":false},{"$f":"Find_Month(FZ$16,FZ$17,$F20)","v":false},{"$f":"Find_Month(GA$16,GA$17,$F20)","v":true},{"$f":"Find_Month(GB$16,GB$17,$F20)","v":false},{"$f":"Find_Month(GC$16,GC$17,$F20)","v":false},{"$f":"Find_Month(GD$16,GD$17,$F20)","v":false},{"$f":"Find_Month(GE$16,GE$17,$F20)","v":false},{"$f":"Find_Month(GF$16,GF$17,$F20)","v":false},{"$f":"Find_Month(GG$16,GG$17,$F20)","v":false},{"$f":"Find_Month(GH$16,GH$17,$F20)","v":false},{"$f":"Find_Month(GI$16,GI$17,$F20)","v":false},{"$f":"Find_Month(GJ$16,GJ$17,$F20)","v":false},{"$f":"Find_Month(GK$16,GK$17,$F20)","v":false},{"$f":"Find_Month(GL$16,GL$17,$F20)","v":false},{"$f":"Find_Month(GM$16,GM$17,$F20)","v":true},{"$f":"Find_Month(GN$16,GN$17,$F20)","v":false},{"$f":"Find_Month(GO$16,GO$17,$F20)","v":false},{"$f":"Find_Month(GP$16,GP$17,$F20)","v":false},{"$f":"Find_Month(GQ$16,GQ$17,$F20)","v":false},{"$f":"Find_Month(GR$16,GR$17,$F20)","v":false},{"$f":"Find_Month(GS$16,GS$17,$F20)","v":false},{"$f":"Find_Month(GT$16,GT$17,$F20)","v":false},{"$f":"Find_Month(GU$16,GU$17,$F20)","v":false},{"$f":"Find_Month(GV$16,GV$17,$F20)","v":false},{"$f":"Find_Month(GW$16,GW$17,$F20)","v":false},{"$f":"Find_Month(GX$16,GX$17,$F20)","v":false},{"$f":"Find_Month(GY$16,GY$17,$F20)","v":true},{"$f":"Find_Month(GZ$16,GZ$17,$F20)","v":false},{"$f":"Find_Month(HA$16,HA$17,$F20)","v":false},{"$f":"Find_Month(HB$16,HB$17,$F20)","v":false},{"$f":"Find_Month(HC$16,HC$17,$F20)","v":false},{"$f":"Find_Month(HD$16,HD$17,$F20)","v":false},{"$f":"Find_Month(HE$16,HE$17,$F20)","v":false},{"$f":"Find_Month(HF$16,HF$17,$F20)","v":false},{"$f":"Find_Month(HG$16,HG$17,$F20)","v":false},{"$f":"Find_Month(HH$16,HH$17,$F20)","v":false},{"$f":"Find_Month(HI$16,HI$17,$F20)","v":false},{"$f":"Find_Month(HJ$16,HJ$17,$F20)","v":false},{"$f":"Find_Month(HK$16,HK$17,$F20)","v":true},{"$f":"Find_Month(HL$16,HL$17,$F20)","v":false},{"$f":"Find_Month(HM$16,HM$17,$F20)","v":false},{"$f":"Find_Month(HN$16,HN$17,$F20)","v":false},{"$f":"Find_Month(HO$16,HO$17,$F20)","v":false},{"$f":"Find_Month(HP$16,HP$17,$F20)","v":false},{"$f":"Find_Month(HQ$16,HQ$17,$F20)","v":false},{"$f":"Find_Month(HR$16,HR$17,$F20)","v":false},{"$f":"Find_Month(HS$16,HS$17,$F20)","v":false},{"$f":"Find_Month(HT$16,HT$17,$F20)","v":false},{"$f":"Find_Month(HU$16,HU$17,$F20)","v":false},{"$f":"Find_Month(HV$16,HV$17,$F20)","v":false},{"$f":"Find_Month(HW$16,HW$17,$F20)","v":true},{"$f":"Find_Month(HX$16,HX$17,$F20)","v":false},{"$f":"Find_Month(HY$16,HY$17,$F20)","v":false},{"$f":"Find_Month(HZ$16,HZ$17,$F20)","v":false},{"$f":"Find_Month(IA$16,IA$17,$F20)","v":false},{"$f":"Find_Month(IB$16,IB$17,$F20)","v":false},{"$f":"Find_Month(IC$16,IC$17,$F20)","v":false},{"$f":"Find_Month(ID$16,ID$17,$F20)","v":false},{"$f":"Find_Month(IE$16,IE$17,$F20)","v":false},{"$f":"Find_Month(IF$16,IF$17,$F20)","v":false},{"$f":"Find_Month(IG$16,IG$17,$F20)","v":false},{"$f":"Find_Month(IH$16,IH$17,$F20)","v":false},{"$f":"Find_Month(II$16,II$17,$F20)","v":true},{"$f":"Find_Month(IJ$16,IJ$17,$F20)","v":false},{"$f":"Find_Month(IK$16,IK$17,$F20)","v":false},{"$f":"Find_Month(IL$16,IL$17,$F20)","v":false},{"$f":"Find_Month(IM$16,IM$17,$F20)","v":false},{"$f":"Find_Month(IN$16,IN$17,$F20)","v":false},{"$f":"Find_Month(IO$16,IO$17,$F20)","v":false},{"$f":"Find_Month(IP$16,IP$17,$F20)","v":false},{"$f":"Find_Month(IQ$16,IQ$17,$F20)","v":false},{"$f":"Find_Month(IR$16,IR$17,$F20)","v":false},{"$f":"Find_Month(IS$16,IS$17,$F20)","v":false},{"$f":"Find_Month(IT$16,IT$17,$F20)","v":false},{"$f":"Find_Month(IU$16,IU$17,$F20)","v":true},{"$f":"Find_Month(IV$16,IV$17,$F20)","v":false},{"$f":"Find_Month(IW$16,IW$17,$F20)","v":false},{"$f":"Find_Month(IX$16,IX$17,$F20)","v":false},{"$f":"Find_Month(IY$16,IY$17,$F20)","v":false},{"$f":"Find_Month(IZ$16,IZ$17,$F20)","v":false},{"$f":"Find_Month(JA$16,JA$17,$F20)","v":false},{"$f":"Find_Month(JB$16,JB$17,$F20)","v":false},{"$f":"Find_Month(JC$16,JC$17,$F20)","v":false},{"$f":"Find_Month(JD$16,JD$17,$F20)","v":false},{"$f":"Find_Month(JE$16,JE$17,$F20)","v":false},{"$f":"Find_Month(JF$16,JF$17,$F20)","v":false},{"$f":"Find_Month(JG$16,JG$17,$F20)","v":true},{"$f":"Find_Month(JH$16,JH$17,$F20)","v":false},{"$f":"Find_Month(JI$16,JI$17,$F20)","v":false},{"$f":"Find_Month(JJ$16,JJ$17,$F20)","v":false},{"$f":"Find_Month(JK$16,JK$17,$F20)","v":false},{"$f":"Find_Month(JL$16,JL$17,$F20)","v":false},{"$f":"Find_Month(JM$16,JM$17,$F20)","v":false},{"$f":"Find_Month(JN$16,JN$17,$F20)","v":false},{"$f":"Find_Month(JO$16,JO$17,$F20)","v":false},{"$f":"Find_Month(JP$16,JP$17,$F20)","v":false},{"$f":"Find_Month(JQ$16,JQ$17,$F20)","v":false},{"$f":"Find_Month(JR$16,JR$17,$F20)","v":false},{"$f":"Find_Month(JS$16,JS$17,$F20)","v":true},{"$f":"Find_Month(JT$16,JT$17,$F20)","v":false},{"$f":"Find_Month(JU$16,JU$17,$F20)","v":false},{"$f":"Find_Month(JV$16,JV$17,$F20)","v":false},{"$f":"Find_Month(JW$16,JW$17,$F20)","v":false},{"$f":"Find_Month(JX$16,JX$17,$F20)","v":false},{"$f":"Find_Month(JY$16,JY$17,$F20)","v":false},{"$f":"Find_Month(JZ$16,JZ$17,$F20)","v":false},{"$f":"Find_Month(KA$16,KA$17,$F20)","v":false},{"$f":"Find_Month(KB$16,KB$17,$F20)","v":false},{"$f":"Find_Month(KC$16,KC$17,$F20)","v":false},{"$f":"Find_Month(KD$16,KD$17,$F20)","v":false},{"$f":"Find_Month(KE$16,KE$17,$F20)","v":true},{"$f":"Find_Month(KF$16,KF$17,$F20)","v":false},{"$f":"Find_Month(KG$16,KG$17,$F20)","v":false},{"$f":"Find_Month(KH$16,KH$17,$F20)","v":false},{"$f":"Find_Month(KI$16,KI$17,$F20)","v":false},{"$f":"Find_Month(KJ$16,KJ$17,$F20)","v":false},{"$f":"Find_Month(KK$16,KK$17,$F20)","v":false},{"$f":"Find_Month(KL$16,KL$17,$F20)","v":false},{"$f":"Find_Month(KM$16,KM$17,$F20)","v":false},{"$f":"Find_Month(KN$16,KN$17,$F20)","v":false},{"$f":"Find_Month(KO$16,KO$17,$F20)","v":false},{"$f":"Find_Month(KP$16,KP$17,$F20)","v":false},{"$f":"Find_Month(KQ$16,KQ$17,$F20)","v":true},{"$f":"Find_Month(KR$16,KR$17,$F20)","v":false},{"$f":"Find_Month(KS$16,KS$17,$F20)","v":false},{"$f":"Find_Month(KT$16,KT$17,$F20)","v":false},{"$f":"Find_Month(KU$16,KU$17,$F20)","v":false},{"$f":"Find_Month(KV$16,KV$17,$F20)","v":false},{"$f":"Find_Month(KW$16,KW$17,$F20)","v":false},{"$f":"Find_Month(KX$16,KX$17,$F20)","v":false},{"$f":"Find_Month(KY$16,KY$17,$F20)","v":false},{"$f":"Find_Month(KZ$16,KZ$17,$F20)","v":false},{"$f":"Find_Month(LA$16,LA$17,$F20)","v":false},{"$f":"Find_Month(LB$16,LB$17,$F20)","v":false},{"$f":"Find_Month(LC$16,LC$17,$F20)","v":true},{"$f":"Find_Month(LD$16,LD$17,$F20)","v":false},{"$f":"Find_Month(LE$16,LE$17,$F20)","v":false},{"$f":"Find_Month(LF$16,LF$17,$F20)","v":false},{"$f":"Find_Month(LG$16,LG$17,$F20)","v":false},{"$f":"Find_Month(LH$16,LH$17,$F20)","v":false},{"$f":"Find_Month(LI$16,LI$17,$F20)","v":false},{"$f":"Find_Month(LJ$16,LJ$17,$F20)","v":false},{"$f":"Find_Month(LK$16,LK$17,$F20)","v":false},{"$f":"Find_Month(LL$16,LL$17,$F20)","v":false},{"$f":"Find_Month(LM$16,LM$17,$F20)","v":false},{"$f":"Find_Month(LN$16,LN$17,$F20)","v":false},{"$f":"Find_Month(LO$16,LO$17,$F20)","v":true},{"$f":"Find_Month(LP$16,LP$17,$F20)","v":false},{"$f":"Find_Month(LQ$16,LQ$17,$F20)","v":false},{"$f":"Find_Month(LR$16,LR$17,$F20)","v":false},{"$f":"Find_Month(LS$16,LS$17,$F20)","v":false},{"$f":"Find_Month(LT$16,LT$17,$F20)","v":false},{"$f":"Find_Month(LU$16,LU$17,$F20)","v":false},{"$f":"Find_Month(LV$16,LV$17,$F20)","v":false},{"$f":"Find_Month(LW$16,LW$17,$F20)","v":false},{"$f":"Find_Month(LX$16,LX$17,$F20)","v":false},{"$f":"Find_Month(LY$16,LY$17,$F20)","v":false},{"$f":"Find_Month(LZ$16,LZ$17,$F20)","v":false},{"$f":"Find_Month(MA$16,MA$17,$F20)","v":true},{"$f":"Find_Month(MB$16,MB$17,$F20)","v":false},{"$f":"Find_Month(MC$16,MC$17,$F20)","v":false},{"$f":"Find_Month(MD$16,MD$17,$F20)","v":false},{"$f":"Find_Month(ME$16,ME$17,$F20)","v":false},{"$f":"Find_Month(MF$16,MF$17,$F20)","v":false},{"$f":"Find_Month(MG$16,MG$17,$F20)","v":false},{"$f":"Find_Month(MH$16,MH$17,$F20)","v":false},{"$f":"Find_Month(MI$16,MI$17,$F20)","v":false},{"$f":"Find_Month(MJ$16,MJ$17,$F20)","v":false},{"$f":"Find_Month(MK$16,MK$17,$F20)","v":false},{"$f":"Find_Month(ML$16,ML$17,$F20)","v":false},{"$f":"Find_Month(MM$16,MM$17,$F20)","v":true},{"$f":"Find_Month(MN$16,MN$17,$F20)","v":false},{"$f":"Find_Month(MO$16,MO$17,$F20)","v":false},{"$f":"Find_Month(MP$16,MP$17,$F20)","v":false},{"$f":"Find_Month(MQ$16,MQ$17,$F20)","v":false},{"$f":"Find_Month(MR$16,MR$17,$F20)","v":false},{"$f":"Find_Month(MS$16,MS$17,$F20)","v":false},{"$f":"Find_Month(MT$16,MT$17,$F20)","v":false},{"$f":"Find_Month(MU$16,MU$17,$F20)","v":false},{"$f":"Find_Month(MV$16,MV$17,$F20)","v":false},{"$f":"Find_Month(MW$16,MW$17,$F20)","v":false},{"$f":"Find_Month(MX$16,MX$17,$F20)","v":false},{"$f":"Find_Month(MY$16,MY$17,$F20)","v":true},{"$f":"Find_Month(MZ$16,MZ$17,$F20)","v":false},{"$f":"Find_Month(NA$16,NA$17,$F20)","v":false},{"$f":"Find_Month(NB$16,NB$17,$F20)","v":false},{"$f":"Find_Month(NC$16,NC$17,$F20)","v":false},{"$f":"Find_Month(ND$16,ND$17,$F20)","v":false},{"$f":"Find_Month(NE$16,NE$17,$F20)","v":false},{"$f":"Find_Month(NF$16,NF$17,$F20)","v":false},{"$f":"Find_Month(NG$16,NG$17,$F20)","v":false},{"$f":"Find_Month(NH$16,NH$17,$F20)","v":false},{"$f":"Find_Month(NI$16,NI$17,$F20)","v":false},{"$f":"Find_Month(NJ$16,NJ$17,$F20)","v":false},{"$f":"Find_Month(NK$16,NK$17,$F20)","v":true},{"$f":"Find_Month(NL$16,NL$17,$F20)","v":false},{"$f":"Find_Month(NM$16,NM$17,$F20)","v":false},{"$f":"Find_Month(NN$16,NN$17,$F20)","v":false},{"$f":"Find_Month(NO$16,NO$17,$F20)","v":false},{"$f":"Find_Month(NP$16,NP$17,$F20)","v":false},{"$f":"Find_Month(NQ$16,NQ$17,$F20)","v":false},{"$f":"Find_Month(NR$16,NR$17,$F20)","v":false},{"$f":"Find_Month(NS$16,NS$17,$F20)","v":false},{"$f":"Find_Month(NT$16,NT$17,$F20)","v":false},{"$f":"Find_Month(NU$16,NU$17,$F20)","v":false},{"$f":"Find_Month(NV$16,NV$17,$F20)","v":false},{"$f":"Find_Month(NW$16,NW$17,$F20)","v":true},{"$f":"Find_Month(NX$16,NX$17,$F20)","v":false},{"$f":"Find_Month(NY$16,NY$17,$F20)","v":false},{"$f":"Find_Month(NZ$16,NZ$17,$F20)","v":false},{"$f":"Find_Month(OA$16,OA$17,$F20)","v":false},{"$f":"Find_Month(OB$16,OB$17,$F20)","v":false},{"$f":"Find_Month(OC$16,OC$17,$F20)","v":false},{"$f":"Find_Month(OD$16,OD$17,$F20)","v":false},{"$f":"Find_Month(OE$16,OE$17,$F20)","v":false},{"$f":"Find_Month(OF$16,OF$17,$F20)","v":false},{"$f":"Find_Month(OG$16,OG$17,$F20)","v":false},{"$f":"Find_Month(OH$16,OH$17,$F20)","v":false},{"$f":"Find_Month(OI$16,OI$17,$F20)","v":true},{"$f":"Find_Month(OJ$16,OJ$17,$F20)","v":false},{"$f":"Find_Month(OK$16,OK$17,$F20)","v":false},{"$f":"Find_Month(OL$16,OL$17,$F20)","v":false},{"$f":"Find_Month(OM$16,OM$17,$F20)","v":false},{"$f":"Find_Month(ON$16,ON$17,$F20)","v":false},{"$f":"Find_Month(OO$16,OO$17,$F20)","v":false},{"$f":"Find_Month(OP$16,OP$17,$F20)","v":false},{"$f":"Find_Month(OQ$16,OQ$17,$F20)","v":false},{"$f":"Find_Month(OR$16,OR$17,$F20)","v":false},{"$f":"Find_Month(OS$16,OS$17,$F20)","v":false},{"$f":"Find_Month(OT$16,OT$17,$F20)","v":false},{"$f":"Find_Month(OU$16,OU$17,$F20)","v":true},{"$f":"Find_Month(OV$16,OV$17,$F20)","v":false},{"$f":"Find_Month(OW$16,OW$17,$F20)","v":false},{"$f":"Find_Month(OX$16,OX$17,$F20)","v":false},{"$f":"Find_Month(OY$16,OY$17,$F20)","v":false},{"$f":"Find_Month(OZ$16,OZ$17,$F20)","v":false},{"$f":"Find_Month(PA$16,PA$17,$F20)","v":false},{"$f":"Find_Month(PB$16,PB$17,$F20)","v":false},{"$f":"Find_Month(PC$16,PC$17,$F20)","v":false},{"$f":"Find_Month(PD$16,PD$17,$F20)","v":false},{"$f":"Find_Month(PE$16,PE$17,$F20)","v":false},{"$f":"Find_Month(PF$16,PF$17,$F20)","v":false},{"$f":"Find_Month(PG$16,PG$17,$F20)","v":true},{"$f":"Find_Month(PH$16,PH$17,$F20)","v":false},{"$f":"Find_Month(PI$16,PI$17,$F20)","v":false},{"$f":"Find_Month(PJ$16,PJ$17,$F20)","v":false},{"$f":"Find_Month(PK$16,PK$17,$F20)","v":false},{"$f":"Find_Month(PL$16,PL$17,$F20)","v":false},{"$f":"Find_Month(PM$16,PM$17,$F20)","v":false},{"$f":"Find_Month(PN$16,PN$17,$F20)","v":false},{"$f":"Find_Month(PO$16,PO$17,$F20)","v":false},{"$f":"Find_Month(PP$16,PP$17,$F20)","v":false},{"$f":"Find_Month(PQ$16,PQ$17,$F20)","v":false},{"$f":"Find_Month(PR$16,PR$17,$F20)","v":false},{"$f":"Find_Month(PS$16,PS$17,$F20)","v":true},{"$f":"Find_Month(PT$16,PT$17,$F20)","v":false},{"$f":"Find_Month(PU$16,PU$17,$F20)","v":false},{"$f":"Find_Month(PV$16,PV$17,$F20)","v":false},{"$f":"Find_Month(PW$16,PW$17,$F20)","v":false},{"$f":"Find_Month(PX$16,PX$17,$F20)","v":false},{"$f":"Find_Month(PY$16,PY$17,$F20)","v":false},{"$f":"Find_Month(PZ$16,PZ$17,$F20)","v":false},{"$f":"Find_Month(QA$16,QA$17,$F20)","v":false},{"$f":"Find_Month(QB$16,QB$17,$F20)","v":false},{"$f":"Find_Month(QC$16,QC$17,$F20)","v":false},{"$f":"Find_Month(QD$16,QD$17,$F20)","v":false},{"$f":"Find_Month(QE$16,QE$17,$F20)","v":true},{"$f":"Find_Month(QF$16,QF$17,$F20)","v":false},{"$f":"Find_Month(QG$16,QG$17,$F20)","v":false},{"$f":"Find_Month(QH$16,QH$17,$F20)","v":false},{"$f":"Find_Month(QI$16,QI$17,$F20)","v":false},{"$f":"Find_Month(QJ$16,QJ$17,$F20)","v":false},{"$f":"Find_Month(QK$16,QK$17,$F20)","v":false},{"$f":"Find_Month(QL$16,QL$17,$F20)","v":false},{"$f":"Find_Month(QM$16,QM$17,$F20)","v":false},{"$f":"Find_Month(QN$16,QN$17,$F20)","v":false},{"$f":"Find_Month(QO$16,QO$17,$F20)","v":false},{"$f":"Find_Month(QP$16,QP$17,$F20)","v":false},{"$f":"Find_Month(QQ$16,QQ$17,$F20)","v":true},{"$f":"Find_Month(QR$16,QR$17,$F20)","v":false},{"$f":"Find_Month(QS$16,QS$17,$F20)","v":false},{"$f":"Find_Month(QT$16,QT$17,$F20)","v":false},{"$f":"Find_Month(QU$16,QU$17,$F20)","v":false},{"$f":"Find_Month(QV$16,QV$17,$F20)","v":false},{"$f":"Find_Month(QW$16,QW$17,$F20)","v":false},{"$f":"Find_Month(QX$16,QX$17,$F20)","v":false},{"$f":"Find_Month(QY$16,QY$17,$F20)","v":false},{"$f":"Find_Month(QZ$16,QZ$17,$F20)","v":false},{"$f":"Find_Month(RA$16,RA$17,$F20)","v":false},{"$f":"Find_Month(RB$16,RB$17,$F20)","v":false},{"$f":"Find_Month(RC$16,RC$17,$F20)","v":true},{"$f":"Find_Month(RD$16,RD$17,$F20)","v":false},{"$f":"Find_Month(RE$16,RE$17,$F20)","v":false},{"$f":"Find_Month(RF$16,RF$17,$F20)","v":false},{"$f":"Find_Month(RG$16,RG$17,$F20)","v":false},{"$f":"Find_Month(RH$16,RH$17,$F20)","v":false},{"$f":"Find_Month(RI$16,RI$17,$F20)","v":false},{"$f":"Find_Month(RJ$16,RJ$17,$F20)","v":false},{"$f":"Find_Month(RK$16,RK$17,$F20)","v":false},{"$f":"Find_Month(RL$16,RL$17,$F20)","v":false},{"$f":"Find_Month(RM$16,RM$17,$F20)","v":false},{"$f":"Find_Month(RN$16,RN$17,$F20)","v":false},{"$f":"Find_Month(RO$16,RO$17,$F20)","v":true},{"$f":"Find_Month(RP$16,RP$17,$F20)","v":false},{"$f":"Find_Month(RQ$16,RQ$17,$F20)","v":false},{"$f":"Find_Month(RR$16,RR$17,$F20)","v":false},{"$f":"Find_Month(RS$16,RS$17,$F20)","v":false},{"$f":"Find_Month(RT$16,RT$17,$F20)","v":false},{"$f":"Find_Month(RU$16,RU$17,$F20)","v":false},{"$f":"Find_Month(RV$16,RV$17,$F20)","v":false},{"$f":"Find_Month(RW$16,RW$17,$F20)","v":false},{"$f":"Find_Month(RX$16,RX$17,$F20)","v":false},{"$f":"Find_Month(RY$16,RY$17,$F20)","v":false},{"$f":"Find_Month(RZ$16,RZ$17,$F20)","v":false},{"$f":"Find_Month(SA$16,SA$17,$F20)","v":true},{"$f":"Find_Month(SB$16,SB$17,$F20)","v":false},{"$f":"Find_Month(SC$16,SC$17,$F20)","v":false},{"$f":"Find_Month(SD$16,SD$17,$F20)","v":false},{"$f":"Find_Month(SE$16,SE$17,$F20)","v":false},{"$f":"Find_Month(SF$16,SF$17,$F20)","v":false},{"$f":"Find_Month(SG$16,SG$17,$F20)","v":false},{"$f":"Find_Month(SH$16,SH$17,$F20)","v":false},{"$f":"Find_Month(SI$16,SI$17,$F20)","v":false},{"$f":"Find_Month(SJ$16,SJ$17,$F20)","v":false},{"$f":"Find_Month(SK$16,SK$17,$F20)","v":false},{"$f":"Find_Month(SL$16,SL$17,$F20)","v":false},{"$f":"Find_Month(SM$16,SM$17,$F20)","v":true},{"$f":"Find_Month(SN$16,SN$17,$F20)","v":false},{"$f":"Find_Month(SO$16,SO$17,$F20)","v":false},{"$f":"Find_Month(SP$16,SP$17,$F20)","v":false},{"$f":"Find_Month(SQ$16,SQ$17,$F20)","v":false},{"$f":"Find_Month(SR$16,SR$17,$F20)","v":false},{"$f":"Find_Month(SS$16,SS$17,$F20)","v":false},{"$f":"Find_Month(ST$16,ST$17,$F20)","v":false},{"$f":"Find_Month(SU$16,SU$17,$F20)","v":false},{"$f":"Find_Month(SV$16,SV$17,$F20)","v":false},{"$f":"Find_Month(SW$16,SW$17,$F20)","v":false},{"$f":"Find_Month(SX$16,SX$17,$F20)","v":false},{"$f":"Find_Month(SY$16,SY$17,$F20)","v":true},{"$f":"Find_Month(SZ$16,SZ$17,$F20)","v":false},{"$f":"Find_Month(TA$16,TA$17,$F20)","v":false},{"$f":"Find_Month(TB$16,TB$17,$F20)","v":false},{"$f":"Find_Month(TC$16,TC$17,$F20)","v":false},{"$f":"Find_Month(TD$16,TD$17,$F20)","v":false},{"$f":"Find_Month(TE$16,TE$17,$F20)","v":false},{"$f":"Find_Month(TF$16,TF$17,$F20)","v":false},{"$f":"Find_Month(TG$16,TG$17,$F20)","v":false},{"$f":"Find_Month(TH$16,TH$17,$F20)","v":false},{"$f":"Find_Month(TI$16,TI$17,$F20)","v":false},{"$f":"Find_Month(TJ$16,TJ$17,$F20)","v":false},{"$f":"Find_Month(TK$16,TK$17,$F20)","v":true},{"$f":"Find_Month(TL$16,TL$17,$F20)","v":false},{"$f":"Find_Month(TM$16,TM$17,$F20)","v":false},{"$f":"Find_Month(TN$16,TN$17,$F20)","v":false},{"$f":"Find_Month(TO$16,TO$17,$F20)","v":false},{"$f":"Find_Month(TP$16,TP$17,$F20)","v":false},{"$f":"Find_Month(TQ$16,TQ$17,$F20)","v":false},{"$f":"Find_Month(TR$16,TR$17,$F20)","v":false},{"$f":"Find_Month(TS$16,TS$17,$F20)","v":false},{"$f":"Find_Month(TT$16,TT$17,$F20)","v":false},{"$f":"Find_Month(TU$16,TU$17,$F20)","v":false},{"$f":"Find_Month(TV$16,TV$17,$F20)","v":false},{"$f":"Find_Month(TW$16,TW$17,$F20)","v":true},{"$f":"Find_Month(TX$16,TX$17,$F20)","v":false},{"$f":"Find_Month(TY$16,TY$17,$F20)","v":false},{"$f":"Find_Month(TZ$16,TZ$17,$F20)","v":false},{"$f":"Find_Month(UA$16,UA$17,$F20)","v":false},{"$f":"Find_Month(UB$16,UB$17,$F20)","v":false},{"$f":"Find_Month(UC$16,UC$17,$F20)","v":false},{"$f":"Find_Month(UD$16,UD$17,$F20)","v":false},{"$f":"Find_Month(UE$16,UE$17,$F20)","v":false},{"$f":"Find_Month(UF$16,UF$17,$F20)","v":false},{"$f":"Find_Month(UG$16,UG$17,$F20)","v":false},{"$f":"Find_Month(UH$16,UH$17,$F20)","v":false},{"$f":"Find_Month(UI$16,UI$17,$F20)","v":true},{"$f":"Find_Month(UJ$16,UJ$17,$F20)","v":false},{"$f":"Find_Month(UK$16,UK$17,$F20)","v":false},{"$f":"Find_Month(UL$16,UL$17,$F20)","v":false},{"$f":"Find_Month(UM$16,UM$17,$F20)","v":false}]
[null,null,null,null,null,2,null,0.05,null,{"$f":"Find_Month(J$16,J$17,$F21)","v":false},{"$f":"Find_Month(K$16,K$17,$F21)","v":false},{"$f":"Find_Month(L$16,L$17,$F21)","v":false},{"$f":"Find_Month(M$16,M$17,$F21)","v":false},{"$f":"Find_Month(N$16,N$17,$F21)","v":false},{"$f":"Find_Month(O$16,O$17,$F21)","v":false},{"$f":"Find_Month(P$16,P$17,$F21)","v":true},{"$f":"Find_Month(Q$16,Q$17,$F21)","v":false},{"$f":"Find_Month(R$16,R$17,$F21)","v":false},{"$f":"Find_Month(S$16,S$17,$F21)","v":false},{"$f":"Find_Month(T$16,T$17,$F21)","v":false},{"$f":"Find_Month(U$16,U$17,$F21)","v":false},{"$f":"Find_Month(V$16,V$17,$F21)","v":false},{"$f":"Find_Month(W$16,W$17,$F21)","v":false},{"$f":"Find_Month(X$16,X$17,$F21)","v":false},{"$f":"Find_Month(Y$16,Y$17,$F21)","v":false},{"$f":"Find_Month(Z$16,Z$17,$F21)","v":false},{"$f":"Find_Month(AA$16,AA$17,$F21)","v":false},{"$f":"Find_Month(AB$16,AB$17,$F21)","v":true},{"$f":"Find_Month(AC$16,AC$17,$F21)","v":false},{"$f":"Find_Month(AD$16,AD$17,$F21)","v":false},{"$f":"Find_Month(AE$16,AE$17,$F21)","v":false},{"$f":"Find_Month(AF$16,AF$17,$F21)","v":false},{"$f":"Find_Month(AG$16,AG$17,$F21)","v":false},{"$f":"Find_Month(AH$16,AH$17,$F21)","v":false},{"$f":"Find_Month(AI$16,AI$17,$F21)","v":false},{"$f":"Find_Month(AJ$16,AJ$17,$F21)","v":false},{"$f":"Find_Month(AK$16,AK$17,$F21)","v":false},{"$f":"Find_Month(AL$16,AL$17,$F21)","v":false},{"$f":"Find_Month(AM$16,AM$17,$F21)","v":false},{"$f":"Find_Month(AN$16,AN$17,$F21)","v":true},{"$f":"Find_Month(AO$16,AO$17,$F21)","v":false},{"$f":"Find_Month(AP$16,AP$17,$F21)","v":false},{"$f":"Find_Month(AQ$16,AQ$17,$F21)","v":false},{"$f":"Find_Month(AR$16,AR$17,$F21)","v":false},{"$f":"Find_Month(AS$16,AS$17,$F21)","v":false},{"$f":"Find_Month(AT$16,AT$17,$F21)","v":false},{"$f":"Find_Month(AU$16,AU$17,$F21)","v":false},{"$f":"Find_Month(AV$16,AV$17,$F21)","v":false},{"$f":"Find_Month(AW$16,AW$17,$F21)","v":false},{"$f":"Find_Month(AX$16,AX$17,$F21)","v":false},{"$f":"Find_Month(AY$16,AY$17,$F21)","v":false},{"$f":"Find_Month(AZ$16,AZ$17,$F21)","v":true},{"$f":"Find_Month(BA$16,BA$17,$F21)","v":false},{"$f":"Find_Month(BB$16,BB$17,$F21)","v":false},{"$f":"Find_Month(BC$16,BC$17,$F21)","v":false},{"$f":"Find_Month(BD$16,BD$17,$F21)","v":false},{"$f":"Find_Month(BE$16,BE$17,$F21)","v":false},{"$f":"Find_Month(BF$16,BF$17,$F21)","v":false},{"$f":"Find_Month(BG$16,BG$17,$F21)","v":false},{"$f":"Find_Month(BH$16,BH$17,$F21)","v":false},{"$f":"Find_Month(BI$16,BI$17,$F21)","v":false},{"$f":"Find_Month(BJ$16,BJ$17,$F21)","v":false},{"$f":"Find_Month(BK$16,BK$17,$F21)","v":false},{"$f":"Find_Month(BL$16,BL$17,$F21)","v":true},{"$f":"Find_Month(BM$16,BM$17,$F21)","v":false},{"$f":"Find_Month(BN$16,BN$17,$F21)","v":false},{"$f":"Find_Month(BO$16,BO$17,$F21)","v":false},{"$f":"Find_Month(BP$16,BP$17,$F21)","v":false},{"$f":"Find_Month(BQ$16,BQ$17,$F21)","v":false},{"$f":"Find_Month(BR$16,BR$17,$F21)","v":false},{"$f":"Find_Month(BS$16,BS$17,$F21)","v":false},{"$f":"Find_Month(BT$16,BT$17,$F21)","v":false},{"$f":"Find_Month(BU$16,BU$17,$F21)","v":false},{"$f":"Find_Month(BV$16,BV$17,$F21)","v":false},{"$f":"Find_Month(BW$16,BW$17,$F21)","v":false},{"$f":"Find_Month(BX$16,BX$17,$F21)","v":true},{"$f":"Find_Month(BY$16,BY$17,$F21)","v":false},{"$f":"Find_Month(BZ$16,BZ$17,$F21)","v":false},{"$f":"Find_Month(CA$16,CA$17,$F21)","v":false},{"$f":"Find_Month(CB$16,CB$17,$F21)","v":false},{"$f":"Find_Month(CC$16,CC$17,$F21)","v":false},{"$f":"Find_Month(CD$16,CD$17,$F21)","v":false},{"$f":"Find_Month(CE$16,CE$17,$F21)","v":false},{"$f":"Find_Month(CF$16,CF$17,$F21)","v":false},{"$f":"Find_Month(CG$16,CG$17,$F21)","v":false},{"$f":"Find_Month(CH$16,CH$17,$F21)","v":false},{"$f":"Find_Month(CI$16,CI$17,$F21)","v":false},{"$f":"Find_Month(CJ$16,CJ$17,$F21)","v":true},{"$f":"Find_Month(CK$16,CK$17,$F21)","v":false},{"$f":"Find_Month(CL$16,CL$17,$F21)","v":false},{"$f":"Find_Month(CM$16,CM$17,$F21)","v":false},{"$f":"Find_Month(CN$16,CN$17,$F21)","v":false},{"$f":"Find_Month(CO$16,CO$17,$F21)","v":false},{"$f":"Find_Month(CP$16,CP$17,$F21)","v":false},{"$f":"Find_Month(CQ$16,CQ$17,$F21)","v":false},{"$f":"Find_Month(CR$16,CR$17,$F21)","v":false},{"$f":"Find_Month(CS$16,CS$17,$F21)","v":false},{"$f":"Find_Month(CT$16,CT$17,$F21)","v":false},{"$f":"Find_Month(CU$16,CU$17,$F21)","v":false},{"$f":"Find_Month(CV$16,CV$17,$F21)","v":true},{"$f":"Find_Month(CW$16,CW$17,$F21)","v":false},{"$f":"Find_Month(CX$16,CX$17,$F21)","v":false},{"$f":"Find_Month(CY$16,CY$17,$F21)","v":false},{"$f":"Find_Month(CZ$16,CZ$17,$F21)","v":false},{"$f":"Find_Month(DA$16,DA$17,$F21)","v":false},{"$f":"Find_Month(DB$16,DB$17,$F21)","v":false},{"$f":"Find_Month(DC$16,DC$17,$F21)","v":false},{"$f":"Find_Month(DD$16,DD$17,$F21)","v":false},{"$f":"Find_Month(DE$16,DE$17,$F21)","v":false},{"$f":"Find_Month(DF$16,DF$17,$F21)","v":false},{"$f":"Find_Month(DG$16,DG$17,$F21)","v":false},{"$f":"Find_Month(DH$16,DH$17,$F21)","v":true},{"$f":"Find_Month(DI$16,DI$17,$F21)","v":false},{"$f":"Find_Month(DJ$16,DJ$17,$F21)","v":false},{"$f":"Find_Month(DK$16,DK$17,$F21)","v":false},{"$f":"Find_Month(DL$16,DL$17,$F21)","v":false},{"$f":"Find_Month(DM$16,DM$17,$F21)","v":false},{"$f":"Find_Month(DN$16,DN$17,$F21)","v":false},{"$f":"Find_Month(DO$16,DO$17,$F21)","v":false},{"$f":"Find_Month(DP$16,DP$17,$F21)","v":false},{"$f":"Find_Month(DQ$16,DQ$17,$F21)","v":false},{"$f":"Find_Month(DR$16,DR$17,$F21)","v":false},{"$f":"Find_Month(DS$16,DS$17,$F21)","v":false},{"$f":"Find_Month(DT$16,DT$17,$F21)","v":true},{"$f":"Find_Month(DU$16,DU$17,$F21)","v":false},{"$f":"Find_Month(DV$16,DV$17,$F21)","v":false},{"$f":"Find_Month(DW$16,DW$17,$F21)","v":false},{"$f":"Find_Month(DX$16,DX$17,$F21)","v":false},{"$f":"Find_Month(DY$16,DY$17,$F21)","v":false},{"$f":"Find_Month(DZ$16,DZ$17,$F21)","v":false},{"$f":"Find_Month(EA$16,EA$17,$F21)","v":false},{"$f":"Find_Month(EB$16,EB$17,$F21)","v":false},{"$f":"Find_Month(EC$16,EC$17,$F21)","v":false},{"$f":"Find_Month(ED$16,ED$17,$F21)","v":false},{"$f":"Find_Month(EE$16,EE$17,$F21)","v":false},{"$f":"Find_Month(EF$16,EF$17,$F21)","v":true},{"$f":"Find_Month(EG$16,EG$17,$F21)","v":false},{"$f":"Find_Month(EH$16,EH$17,$F21)","v":false},{"$f":"Find_Month(EI$16,EI$17,$F21)","v":false},{"$f":"Find_Month(EJ$16,EJ$17,$F21)","v":false},{"$f":"Find_Month(EK$16,EK$17,$F21)","v":false},{"$f":"Find_Month(EL$16,EL$17,$F21)","v":false},{"$f":"Find_Month(EM$16,EM$17,$F21)","v":false},{"$f":"Find_Month(EN$16,EN$17,$F21)","v":false},{"$f":"Find_Month(EO$16,EO$17,$F21)","v":false},{"$f":"Find_Month(EP$16,EP$17,$F21)","v":false},{"$f":"Find_Month(EQ$16,EQ$17,$F21)","v":false},{"$f":"Find_Month(ER$16,ER$17,$F21)","v":true},{"$f":"Find_Month(ES$16,ES$17,$F21)","v":false},{"$f":"Find_Month(ET$16,ET$17,$F21)","v":false},{"$f":"Find_Month(EU$16,EU$17,$F21)","v":false},{"$f":"Find_Month(EV$16,EV$17,$F21)","v":false},{"$f":"Find_Month(EW$16,EW$17,$F21)","v":false},{"$f":"Find_Month(EX$16,EX$17,$F21)","v":false},{"$f":"Find_Month(EY$16,EY$17,$F21)","v":false},{"$f":"Find_Month(EZ$16,EZ$17,$F21)","v":false},{"$f":"Find_Month(FA$16,FA$17,$F21)","v":false},{"$f":"Find_Month(FB$16,FB$17,$F21)","v":false},{"$f":"Find_Month(FC$16,FC$17,$F21)","v":false},{"$f":"Find_Month(FD$16,FD$17,$F21)","v":true},{"$f":"Find_Month(FE$16,FE$17,$F21)","v":false},{"$f":"Find_Month(FF$16,FF$17,$F21)","v":false},{"$f":"Find_Month(FG$16,FG$17,$F21)","v":false},{"$f":"Find_Month(FH$16,FH$17,$F21)","v":false},{"$f":"Find_Month(FI$16,FI$17,$F21)","v":false},{"$f":"Find_Month(FJ$16,FJ$17,$F21)","v":false},{"$f":"Find_Month(FK$16,FK$17,$F21)","v":false},{"$f":"Find_Month(FL$16,FL$17,$F21)","v":false},{"$f":"Find_Month(FM$16,FM$17,$F21)","v":false},{"$f":"Find_Month(FN$16,FN$17,$F21)","v":false},{"$f":"Find_Month(FO$16,FO$17,$F21)","v":false},{"$f":"Find_Month(FP$16,FP$17,$F21)","v":true},{"$f":"Find_Month(FQ$16,FQ$17,$F21)","v":false},{"$f":"Find_Month(FR$16,FR$17,$F21)","v":false},{"$f":"Find_Month(FS$16,FS$17,$F21)","v":false},{"$f":"Find_Month(FT$16,FT$17,$F21)","v":false},{"$f":"Find_Month(FU$16,FU$17,$F21)","v":false},{"$f":"Find_Month(FV$16,FV$17,$F21)","v":false},{"$f":"Find_Month(FW$16,FW$17,$F21)","v":false},{"$f":"Find_Month(FX$16,FX$17,$F21)","v":false},{"$f":"Find_Month(FY$16,FY$17,$F21)","v":false},{"$f":"Find_Month(FZ$16,FZ$17,$F21)","v":false},{"$f":"Find_Month(GA$16,GA$17,$F21)","v":false},{"$f":"Find_Month(GB$16,GB$17,$F21)","v":true},{"$f":"Find_Month(GC$16,GC$17,$F21)","v":false},{"$f":"Find_Month(GD$16,GD$17,$F21)","v":false},{"$f":"Find_Month(GE$16,GE$17,$F21)","v":false},{"$f":"Find_Month(GF$16,GF$17,$F21)","v":false},{"$f":"Find_Month(GG$16,GG$17,$F21)","v":false},{"$f":"Find_Month(GH$16,GH$17,$F21)","v":false},{"$f":"Find_Month(GI$16,GI$17,$F21)","v":false},{"$f":"Find_Month(GJ$16,GJ$17,$F21)","v":false},{"$f":"Find_Month(GK$16,GK$17,$F21)","v":false},{"$f":"Find_Month(GL$16,GL$17,$F21)","v":false},{"$f":"Find_Month(GM$16,GM$17,$F21)","v":false},{"$f":"Find_Month(GN$16,GN$17,$F21)","v":true},{"$f":"Find_Month(GO$16,GO$17,$F21)","v":false},{"$f":"Find_Month(GP$16,GP$17,$F21)","v":false},{"$f":"Find_Month(GQ$16,GQ$17,$F21)","v":false},{"$f":"Find_Month(GR$16,GR$17,$F21)","v":false},{"$f":"Find_Month(GS$16,GS$17,$F21)","v":false},{"$f":"Find_Month(GT$16,GT$17,$F21)","v":false},{"$f":"Find_Month(GU$16,GU$17,$F21)","v":false},{"$f":"Find_Month(GV$16,GV$17,$F21)","v":false},{"$f":"Find_Month(GW$16,GW$17,$F21)","v":false},{"$f":"Find_Month(GX$16,GX$17,$F21)","v":false},{"$f":"Find_Month(GY$16,GY$17,$F21)","v":false},{"$f":"Find_Month(GZ$16,GZ$17,$F21)","v":true},{"$f":"Find_Month(HA$16,HA$17,$F21)","v":false},{"$f":"Find_Month(HB$16,HB$17,$F21)","v":false},{"$f":"Find_Month(HC$16,HC$17,$F21)","v":false},{"$f":"Find_Month(HD$16,HD$17,$F21)","v":false},{"$f":"Find_Month(HE$16,HE$17,$F21)","v":false},{"$f":"Find_Month(HF$16,HF$17,$F21)","v":false},{"$f":"Find_Month(HG$16,HG$17,$F21)","v":false},{"$f":"Find_Month(HH$16,HH$17,$F21)","v":false},{"$f":"Find_Month(HI$16,HI$17,$F21)","v":false},{"$f":"Find_Month(HJ$16,HJ$17,$F21)","v":false},{"$f":"Find_Month(HK$16,HK$17,$F21)","v":false},{"$f":"Find_Month(HL$16,HL$17,$F21)","v":true},{"$f":"Find_Month(HM$16,HM$17,$F21)","v":false},{"$f":"Find_Month(HN$16,HN$17,$F21)","v":false},{"$f":"Find_Month(HO$16,HO$17,$F21)","v":false},{"$f":"Find_Month(HP$16,HP$17,$F21)","v":false},{"$f":"Find_Month(HQ$16,HQ$17,$F21)","v":false},{"$f":"Find_Month(HR$16,HR$17,$F21)","v":false},{"$f":"Find_Month(HS$16,HS$17,$F21)","v":false},{"$f":"Find_Month(HT$16,HT$17,$F21)","v":false},{"$f":"Find_Month(HU$16,HU$17,$F21)","v":false},{"$f":"Find_Month(HV$16,HV$17,$F21)","v":false},{"$f":"Find_Month(HW$16,HW$17,$F21)","v":false},{"$f":"Find_Month(HX$16,HX$17,$F21)","v":true},{"$f":"Find_Month(HY$16,HY$17,$F21)","v":false},{"$f":"Find_Month(HZ$16,HZ$17,$F21)","v":false},{"$f":"Find_Month(IA$16,IA$17,$F21)","v":false},{"$f":"Find_Month(IB$16,IB$17,$F21)","v":false},{"$f":"Find_Month(IC$16,IC$17,$F21)","v":false},{"$f":"Find_Month(ID$16,ID$17,$F21)","v":false},{"$f":"Find_Month(IE$16,IE$17,$F21)","v":false},{"$f":"Find_Month(IF$16,IF$17,$F21)","v":false},{"$f":"Find_Month(IG$16,IG$17,$F21)","v":false},{"$f":"Find_Month(IH$16,IH$17,$F21)","v":false},{"$f":"Find_Month(II$16,II$17,$F21)","v":false},{"$f":"Find_Month(IJ$16,IJ$17,$F21)","v":true},{"$f":"Find_Month(IK$16,IK$17,$F21)","v":false},{"$f":"Find_Month(IL$16,IL$17,$F21)","v":false},{"$f":"Find_Month(IM$16,IM$17,$F21)","v":false},{"$f":"Find_Month(IN$16,IN$17,$F21)","v":false},{"$f":"Find_Month(IO$16,IO$17,$F21)","v":false},{"$f":"Find_Month(IP$16,IP$17,$F21)","v":false},{"$f":"Find_Month(IQ$16,IQ$17,$F21)","v":false},{"$f":"Find_Month(IR$16,IR$17,$F21)","v":false},{"$f":"Find_Month(IS$16,IS$17,$F21)","v":false},{"$f":"Find_Month(IT$16,IT$17,$F21)","v":false},{"$f":"Find_Month(IU$16,IU$17,$F21)","v":false},{"$f":"Find_Month(IV$16,IV$17,$F21)","v":true},{"$f":"Find_Month(IW$16,IW$17,$F21)","v":false},{"$f":"Find_Month(IX$16,IX$17,$F21)","v":false},{"$f":"Find_Month(IY$16,IY$17,$F21)","v":false},{"$f":"Find_Month(IZ$16,IZ$17,$F21)","v":false},{"$f":"Find_Month(JA$16,JA$17,$F21)","v":false},{"$f":"Find_Month(JB$16,JB$17,$F21)","v":false},{"$f":"Find_Month(JC$16,JC$17,$F21)","v":false},{"$f":"Find_Month(JD$16,JD$17,$F21)","v":false},{"$f":"Find_Month(JE$16,JE$17,$F21)","v":false},{"$f":"Find_Month(JF$16,JF$17,$F21)","v":false},{"$f":"Find_Month(JG$16,JG$17,$F21)","v":false},{"$f":"Find_Month(JH$16,JH$17,$F21)","v":true},{"$f":"Find_Month(JI$16,JI$17,$F21)","v":false},{"$f":"Find_Month(JJ$16,JJ$17,$F21)","v":false},{"$f":"Find_Month(JK$16,JK$17,$F21)","v":false},{"$f":"Find_Month(JL$16,JL$17,$F21)","v":false},{"$f":"Find_Month(JM$16,JM$17,$F21)","v":false},{"$f":"Find_Month(JN$16,JN$17,$F21)","v":false},{"$f":"Find_Month(JO$16,JO$17,$F21)","v":false},{"$f":"Find_Month(JP$16,JP$17,$F21)","v":false},{"$f":"Find_Month(JQ$16,JQ$17,$F21)","v":false},{"$f":"Find_Month(JR$16,JR$17,$F21)","v":false},{"$f":"Find_Month(JS$16,JS$17,$F21)","v":false},{"$f":"Find_Month(JT$16,JT$17,$F21)","v":true},{"$f":"Find_Month(JU$16,JU$17,$F21)","v":false},{"$f":"Find_Month(JV$16,JV$17,$F21)","v":false},{"$f":"Find_Month(JW$16,JW$17,$F21)","v":false},{"$f":"Find_Month(JX$16,JX$17,$F21)","v":false},{"$f":"Find_Month(JY$16,JY$17,$F21)","v":false},{"$f":"Find_Month(JZ$16,JZ$17,$F21)","v":false},{"$f":"Find_Month(KA$16,KA$17,$F21)","v":false},{"$f":"Find_Month(KB$16,KB$17,$F21)","v":false},{"$f":"Find_Month(KC$16,KC$17,$F21)","v":false},{"$f":"Find_Month(KD$16,KD$17,$F21)","v":false},{"$f":"Find_Month(KE$16,KE$17,$F21)","v":false},{"$f":"Find_Month(KF$16,KF$17,$F21)","v":true},{"$f":"Find_Month(KG$16,KG$17,$F21)","v":false},{"$f":"Find_Month(KH$16,KH$17,$F21)","v":false},{"$f":"Find_Month(KI$16,KI$17,$F21)","v":false},{"$f":"Find_Month(KJ$16,KJ$17,$F21)","v":false},{"$f":"Find_Month(KK$16,KK$17,$F21)","v":false},{"$f":"Find_Month(KL$16,KL$17,$F21)","v":false},{"$f":"Find_Month(KM$16,KM$17,$F21)","v":false},{"$f":"Find_Month(KN$16,KN$17,$F21)","v":false},{"$f":"Find_Month(KO$16,KO$17,$F21)","v":false},{"$f":"Find_Month(KP$16,KP$17,$F21)","v":false},{"$f":"Find_Month(KQ$16,KQ$17,$F21)","v":false},{"$f":"Find_Month(KR$16,KR$17,$F21)","v":true},{"$f":"Find_Month(KS$16,KS$17,$F21)","v":false},{"$f":"Find_Month(KT$16,KT$17,$F21)","v":false},{"$f":"Find_Month(KU$16,KU$17,$F21)","v":false},{"$f":"Find_Month(KV$16,KV$17,$F21)","v":false},{"$f":"Find_Month(KW$16,KW$17,$F21)","v":false},{"$f":"Find_Month(KX$16,KX$17,$F21)","v":false},{"$f":"Find_Month(KY$16,KY$17,$F21)","v":false},{"$f":"Find_Month(KZ$16,KZ$17,$F21)","v":false},{"$f":"Find_Month(LA$16,LA$17,$F21)","v":false},{"$f":"Find_Month(LB$16,LB$17,$F21)","v":false},{"$f":"Find_Month(LC$16,LC$17,$F21)","v":false},{"$f":"Find_Month(LD$16,LD$17,$F21)","v":true},{"$f":"Find_Month(LE$16,LE$17,$F21)","v":false},{"$f":"Find_Month(LF$16,LF$17,$F21)","v":false},{"$f":"Find_Month(LG$16,LG$17,$F21)","v":false},{"$f":"Find_Month(LH$16,LH$17,$F21)","v":false},{"$f":"Find_Month(LI$16,LI$17,$F21)","v":false},{"$f":"Find_Month(LJ$16,LJ$17,$F21)","v":false},{"$f":"Find_Month(LK$16,LK$17,$F21)","v":false},{"$f":"Find_Month(LL$16,LL$17,$F21)","v":false},{"$f":"Find_Month(LM$16,LM$17,$F21)","v":false},{"$f":"Find_Month(LN$16,LN$17,$F21)","v":false},{"$f":"Find_Month(LO$16,LO$17,$F21)","v":false},{"$f":"Find_Month(LP$16,LP$17,$F21)","v":true},{"$f":"Find_Month(LQ$16,LQ$17,$F21)","v":false},{"$f":"Find_Month(LR$16,LR$17,$F21)","v":false},{"$f":"Find_Month(LS$16,LS$17,$F21)","v":false},{"$f":"Find_Month(LT$16,LT$17,$F21)","v":false},{"$f":"Find_Month(LU$16,LU$17,$F21)","v":false},{"$f":"Find_Month(LV$16,LV$17,$F21)","v":false},{"$f":"Find_Month(LW$16,LW$17,$F21)","v":false},{"$f":"Find_Month(LX$16,LX$17,$F21)","v":false},{"$f":"Find_Month(LY$16,LY$17,$F21)","v":false},{"$f":"Find_Month(LZ$16,LZ$17,$F21)","v":false},{"$f":"Find_Month(MA$16,MA$17,$F21)","v":false},{"$f":"Find_Month(MB$16,MB$17,$F21)","v":true},{"$f":"Find_Month(MC$16,MC$17,$F21)","v":false},{"$f":"Find_Month(MD$16,MD$17,$F21)","v":false},{"$f":"Find_Month(ME$16,ME$17,$F21)","v":false},{"$f":"Find_Month(MF$16,MF$17,$F21)","v":false},{"$f":"Find_Month(MG$16,MG$17,$F21)","v":false},{"$f":"Find_Month(MH$16,MH$17,$F21)","v":false},{"$f":"Find_Month(MI$16,MI$17,$F21)","v":false},{"$f":"Find_Month(MJ$16,MJ$17,$F21)","v":false},{"$f":"Find_Month(MK$16,MK$17,$F21)","v":false},{"$f":"Find_Month(ML$16,ML$17,$F21)","v":false},{"$f":"Find_Month(MM$16,MM$17,$F21)","v":false},{"$f":"Find_Month(MN$16,MN$17,$F21)","v":true},{"$f":"Find_Month(MO$16,MO$17,$F21)","v":false},{"$f":"Find_Month(MP$16,MP$17,$F21)","v":false},{"$f":"Find_Month(MQ$16,MQ$17,$F21)","v":false},{"$f":"Find_Month(MR$16,MR$17,$F21)","v":false},{"$f":"Find_Month(MS$16,MS$17,$F21)","v":false},{"$f":"Find_Month(MT$16,MT$17,$F21)","v":false},{"$f":"Find_Month(MU$16,MU$17,$F21)","v":false},{"$f":"Find_Month(MV$16,MV$17,$F21)","v":false},{"$f":"Find_Month(MW$16,MW$17,$F21)","v":false},{"$f":"Find_Month(MX$16,MX$17,$F21)","v":false},{"$f":"Find_Month(MY$16,MY$17,$F21)","v":false},{"$f":"Find_Month(MZ$16,MZ$17,$F21)","v":true},{"$f":"Find_Month(NA$16,NA$17,$F21)","v":false},{"$f":"Find_Month(NB$16,NB$17,$F21)","v":false},{"$f":"Find_Month(NC$16,NC$17,$F21)","v":false},{"$f":"Find_Month(ND$16,ND$17,$F21)","v":false},{"$f":"Find_Month(NE$16,NE$17,$F21)","v":false},{"$f":"Find_Month(NF$16,NF$17,$F21)","v":false},{"$f":"Find_Month(NG$16,NG$17,$F21)","v":false},{"$f":"Find_Month(NH$16,NH$17,$F21)","v":false},{"$f":"Find_Month(NI$16,NI$17,$F21)","v":false},{"$f":"Find_Month(NJ$16,NJ$17,$F21)","v":false},{"$f":"Find_Month(NK$16,NK$17,$F21)","v":false},{"$f":"Find_Month(NL$16,NL$17,$F21)","v":true},{"$f":"Find_Month(NM$16,NM$17,$F21)","v":false},{"$f":"Find_Month(NN$16,NN$17,$F21)","v":false},{"$f":"Find_Month(NO$16,NO$17,$F21)","v":false},{"$f":"Find_Month(NP$16,NP$17,$F21)","v":false},{"$f":"Find_Month(NQ$16,NQ$17,$F21)","v":false},{"$f":"Find_Month(NR$16,NR$17,$F21)","v":false},{"$f":"Find_Month(NS$16,NS$17,$F21)","v":false},{"$f":"Find_Month(NT$16,NT$17,$F21)","v":false},{"$f":"Find_Month(NU$16,NU$17,$F21)","v":false},{"$f":"Find_Month(NV$16,NV$17,$F21)","v":false},{"$f":"Find_Month(NW$16,NW$17,$F21)","v":false},{"$f":"Find_Month(NX$16,NX$17,$F21)","v":true},{"$f":"Find_Month(NY$16,NY$17,$F21)","v":false},{"$f":"Find_Month(NZ$16,NZ$17,$F21)","v":false},{"$f":"Find_Month(OA$16,OA$17,$F21)","v":false},{"$f":"Find_Month(OB$16,OB$17,$F21)","v":false},{"$f":"Find_Month(OC$16,OC$17,$F21)","v":false},{"$f":"Find_Month(OD$16,OD$17,$F21)","v":false},{"$f":"Find_Month(OE$16,OE$17,$F21)","v":false},{"$f":"Find_Month(OF$16,OF$17,$F21)","v":false},{"$f":"Find_Month(OG$16,OG$17,$F21)","v":false},{"$f":"Find_Month(OH$16,OH$17,$F21)","v":false},{"$f":"Find_Month(OI$16,OI$17,$F21)","v":false},{"$f":"Find_Month(OJ$16,OJ$17,$F21)","v":true},{"$f":"Find_Month(OK$16,OK$17,$F21)","v":false},{"$f":"Find_Month(OL$16,OL$17,$F21)","v":false},{"$f":"Find_Month(OM$16,OM$17,$F21)","v":false},{"$f":"Find_Month(ON$16,ON$17,$F21)","v":false},{"$f":"Find_Month(OO$16,OO$17,$F21)","v":false},{"$f":"Find_Month(OP$16,OP$17,$F21)","v":false},{"$f":"Find_Month(OQ$16,OQ$17,$F21)","v":false},{"$f":"Find_Month(OR$16,OR$17,$F21)","v":false},{"$f":"Find_Month(OS$16,OS$17,$F21)","v":false},{"$f":"Find_Month(OT$16,OT$17,$F21)","v":false},{"$f":"Find_Month(OU$16,OU$17,$F21)","v":false},{"$f":"Find_Month(OV$16,OV$17,$F21)","v":true},{"$f":"Find_Month(OW$16,OW$17,$F21)","v":false},{"$f":"Find_Month(OX$16,OX$17,$F21)","v":false},{"$f":"Find_Month(OY$16,OY$17,$F21)","v":false},{"$f":"Find_Month(OZ$16,OZ$17,$F21)","v":false},{"$f":"Find_Month(PA$16,PA$17,$F21)","v":false},{"$f":"Find_Month(PB$16,PB$17,$F21)","v":false},{"$f":"Find_Month(PC$16,PC$17,$F21)","v":false},{"$f":"Find_Month(PD$16,PD$17,$F21)","v":false},{"$f":"Find_Month(PE$16,PE$17,$F21)","v":false},{"$f":"Find_Month(PF$16,PF$17,$F21)","v":false},{"$f":"Find_Month(PG$16,PG$17,$F21)","v":false},{"$f":"Find_Month(PH$16,PH$17,$F21)","v":true},{"$f":"Find_Month(PI$16,PI$17,$F21)","v":false},{"$f":"Find_Month(PJ$16,PJ$17,$F21)","v":false},{"$f":"Find_Month(PK$16,PK$17,$F21)","v":false},{"$f":"Find_Month(PL$16,PL$17,$F21)","v":false},{"$f":"Find_Month(PM$16,PM$17,$F21)","v":false},{"$f":"Find_Month(PN$16,PN$17,$F21)","v":false},{"$f":"Find_Month(PO$16,PO$17,$F21)","v":false},{"$f":"Find_Month(PP$16,PP$17,$F21)","v":false},{"$f":"Find_Month(PQ$16,PQ$17,$F21)","v":false},{"$f":"Find_Month(PR$16,PR$17,$F21)","v":false},{"$f":"Find_Month(PS$16,PS$17,$F21)","v":false},{"$f":"Find_Month(PT$16,PT$17,$F21)","v":true},{"$f":"Find_Month(PU$16,PU$17,$F21)","v":false},{"$f":"Find_Month(PV$16,PV$17,$F21)","v":false},{"$f":"Find_Month(PW$16,PW$17,$F21)","v":false},{"$f":"Find_Month(PX$16,PX$17,$F21)","v":false},{"$f":"Find_Month(PY$16,PY$17,$F21)","v":false},{"$f":"Find_Month(PZ$16,PZ$17,$F21)","v":false},{"$f":"Find_Month(QA$16,QA$17,$F21)","v":false},{"$f":"Find_Month(QB$16,QB$17,$F21)","v":false},{"$f":"Find_Month(QC$16,QC$17,$F21)","v":false},{"$f":"Find_Month(QD$16,QD$17,$F21)","v":false},{"$f":"Find_Month(QE$16,QE$17,$F21)","v":false},{"$f":"Find_Month(QF$16,QF$17,$F21)","v":true},{"$f":"Find_Month(QG$16,QG$17,$F21)","v":false},{"$f":"Find_Month(QH$16,QH$17,$F21)","v":false},{"$f":"Find_Month(QI$16,QI$17,$F21)","v":false},{"$f":"Find_Month(QJ$16,QJ$17,$F21)","v":false},{"$f":"Find_Month(QK$16,QK$17,$F21)","v":false},{"$f":"Find_Month(QL$16,QL$17,$F21)","v":false},{"$f":"Find_Month(QM$16,QM$17,$F21)","v":false},{"$f":"Find_Month(QN$16,QN$17,$F21)","v":false},{"$f":"Find_Month(QO$16,QO$17,$F21)","v":false},{"$f":"Find_Month(QP$16,QP$17,$F21)","v":false},{"$f":"Find_Month(QQ$16,QQ$17,$F21)","v":false},{"$f":"Find_Month(QR$16,QR$17,$F21)","v":true},{"$f":"Find_Month(QS$16,QS$17,$F21)","v":false},{"$f":"Find_Month(QT$16,QT$17,$F21)","v":false},{"$f":"Find_Month(QU$16,QU$17,$F21)","v":false},{"$f":"Find_Month(QV$16,QV$17,$F21)","v":false},{"$f":"Find_Month(QW$16,QW$17,$F21)","v":false},{"$f":"Find_Month(QX$16,QX$17,$F21)","v":false},{"$f":"Find_Month(QY$16,QY$17,$F21)","v":false},{"$f":"Find_Month(QZ$16,QZ$17,$F21)","v":false},{"$f":"Find_Month(RA$16,RA$17,$F21)","v":false},{"$f":"Find_Month(RB$16,RB$17,$F21)","v":false},{"$f":"Find_Month(RC$16,RC$17,$F21)","v":false},{"$f":"Find_Month(RD$16,RD$17,$F21)","v":true},{"$f":"Find_Month(RE$16,RE$17,$F21)","v":false},{"$f":"Find_Month(RF$16,RF$17,$F21)","v":false},{"$f":"Find_Month(RG$16,RG$17,$F21)","v":false},{"$f":"Find_Month(RH$16,RH$17,$F21)","v":false},{"$f":"Find_Month(RI$16,RI$17,$F21)","v":false},{"$f":"Find_Month(RJ$16,RJ$17,$F21)","v":false},{"$f":"Find_Month(RK$16,RK$17,$F21)","v":false},{"$f":"Find_Month(RL$16,RL$17,$F21)","v":false},{"$f":"Find_Month(RM$16,RM$17,$F21)","v":false},{"$f":"Find_Month(RN$16,RN$17,$F21)","v":false},{"$f":"Find_Month(RO$16,RO$17,$F21)","v":false},{"$f":"Find_Month(RP$16,RP$17,$F21)","v":true},{"$f":"Find_Month(RQ$16,RQ$17,$F21)","v":false},{"$f":"Find_Month(RR$16,RR$17,$F21)","v":false},{"$f":"Find_Month(RS$16,RS$17,$F21)","v":false},{"$f":"Find_Month(RT$16,RT$17,$F21)","v":false},{"$f":"Find_Month(RU$16,RU$17,$F21)","v":false},{"$f":"Find_Month(RV$16,RV$17,$F21)","v":false},{"$f":"Find_Month(RW$16,RW$17,$F21)","v":false},{"$f":"Find_Month(RX$16,RX$17,$F21)","v":false},{"$f":"Find_Month(RY$16,RY$17,$F21)","v":false},{"$f":"Find_Month(RZ$16,RZ$17,$F21)","v":false},{"$f":"Find_Month(SA$16,SA$17,$F21)","v":false},{"$f":"Find_Month(SB$16,SB$17,$F21)","v":true},{"$f":"Find_Month(SC$16,SC$17,$F21)","v":false},{"$f":"Find_Month(SD$16,SD$17,$F21)","v":false},{"$f":"Find_Month(SE$16,SE$17,$F21)","v":false},{"$f":"Find_Month(SF$16,SF$17,$F21)","v":false},{"$f":"Find_Month(SG$16,SG$17,$F21)","v":false},{"$f":"Find_Month(SH$16,SH$17,$F21)","v":false},{"$f":"Find_Month(SI$16,SI$17,$F21)","v":false},{"$f":"Find_Month(SJ$16,SJ$17,$F21)","v":false},{"$f":"Find_Month(SK$16,SK$17,$F21)","v":false},{"$f":"Find_Month(SL$16,SL$17,$F21)","v":false},{"$f":"Find_Month(SM$16,SM$17,$F21)","v":false},{"$f":"Find_Month(SN$16,SN$17,$F21)","v":true},{"$f":"Find_Month(SO$16,SO$17,$F21)","v":false},{"$f":"Find_Month(SP$16,SP$17,$F21)","v":false},{"$f":"Find_Month(SQ$16,SQ$17,$F21)","v":false},{"$f":"Find_Month(SR$16,SR$17,$F21)","v":false},{"$f":"Find_Month(SS$16,SS$17,$F21)","v":false},{"$f":"Find_Month(ST$16,ST$17,$F21)","v":false},{"$f":"Find_Month(SU$16,SU$17,$F21)","v":false},{"$f":"Find_Month(SV$16,SV$17,$F21)","v":false},{"$f":"Find_Month(SW$16,SW$17,$F21)","v":false},{"$f":"Find_Month(SX$16,SX$17,$F21)","v":false},{"$f":"Find_Month(SY$16,SY$17,$F21)","v":false},{"$f":"Find_Month(SZ$16,SZ$17,$F21)","v":true},{"$f":"Find_Month(TA$16,TA$17,$F21)","v":false},{"$f":"Find_Month(TB$16,TB$17,$F21)","v":false},{"$f":"Find_Month(TC$16,TC$17,$F21)","v":false},{"$f":"Find_Month(TD$16,TD$17,$F21)","v":false},{"$f":"Find_Month(TE$16,TE$17,$F21)","v":false},{"$f":"Find_Month(TF$16,TF$17,$F21)","v":false},{"$f":"Find_Month(TG$16,TG$17,$F21)","v":false},{"$f":"Find_Month(TH$16,TH$17,$F21)","v":false},{"$f":"Find_Month(TI$16,TI$17,$F21)","v":false},{"$f":"Find_Month(TJ$16,TJ$17,$F21)","v":false},{"$f":"Find_Month(TK$16,TK$17,$F21)","v":false},{"$f":"Find_Month(TL$16,TL$17,$F21)","v":true},{"$f":"Find_Month(TM$16,TM$17,$F21)","v":false},{"$f":"Find_Month(TN$16,TN$17,$F21)","v":false},{"$f":"Find_Month(TO$16,TO$17,$F21)","v":false},{"$f":"Find_Month(TP$16,TP$17,$F21)","v":false},{"$f":"Find_Month(TQ$16,TQ$17,$F21)","v":false},{"$f":"Find_Month(TR$16,TR$17,$F21)","v":false},{"$f":"Find_Month(TS$16,TS$17,$F21)","v":false},{"$f":"Find_Month(TT$16,TT$17,$F21)","v":false},{"$f":"Find_Month(TU$16,TU$17,$F21)","v":false},{"$f":"Find_Month(TV$16,TV$17,$F21)","v":false},{"$f":"Find_Month(TW$16,TW$17,$F21)","v":false},{"$f":"Find_Month(TX$16,TX$17,$F21)","v":true},{"$f":"Find_Month(TY$16,TY$17,$F21)","v":false},{"$f":"Find_Month(TZ$16,TZ$17,$F21)","v":false},{"$f":"Find_Month(UA$16,UA$17,$F21)","v":false},{"$f":"Find_Month(UB$16,UB$17,$F21)","v":false},{"$f":"Find_Month(UC$16,UC$17,$F21)","v":false},{"$f":"Find_Month(UD$16,UD$17,$F21)","v":false},{"$f":"Find_Month(UE$16,UE$17,$F21)","v":false},{"$f":"Find_Month(UF$16,UF$17,$F21)","v":false},{"$f":"Find_Month(UG$16,UG$17,$F21)","v":false},{"$f":"Find_Month(UH$16,UH$17,$F21)","v":false},{"$f":"Find_Month(UI$16,UI$17,$F21)","v":false},{"$f":"Find_Month(UJ$16,UJ$17,$F21)","v":true},{"$f":"Find_Month(UK$16,UK$17,$F21)","v":false},{"$f":"Find_Month(UL$16,UL$17,$F21)","v":false},{"$f":"Find_Month(UM$16,UM$17,$F21)","v":false}]
[null,null,null,null,null,3,null,6.5000000000000002E-2,null,{"$f":"Find_Month(J$16,J$17,$F22)","v":false},{"$f":"Find_Month(K$16,K$17,$F22)","v":false},{"$f":"Find_Month(L$16,L$17,$F22)","v":false},{"$f":"Find_Month(M$16,M$17,$F22)","v":false},{"$f":"Find_Month(N$16,N$17,$F22)","v":false},{"$f":"Find_Month(O$16,O$17,$F22)","v":false},{"$f":"Find_Month(P$16,P$17,$F22)","v":false},{"$f":"Find_Month(Q$16,Q$17,$F22)","v":true},{"$f":"Find_Month(R$16,R$17,$F22)","v":false},{"$f":"Find_Month(S$16,S$17,$F22)","v":false},{"$f":"Find_Month(T$16,T$17,$F22)","v":false},{"$f":"Find_Month(U$16,U$17,$F22)","v":false},{"$f":"Find_Month(V$16,V$17,$F22)","v":false},{"$f":"Find_Month(W$16,W$17,$F22)","v":false},{"$f":"Find_Month(X$16,X$17,$F22)","v":false},{"$f":"Find_Month(Y$16,Y$17,$F22)","v":false},{"$f":"Find_Month(Z$16,Z$17,$F22)","v":false},{"$f":"Find_Month(AA$16,AA$17,$F22)","v":false},{"$f":"Find_Month(AB$16,AB$17,$F22)","v":false},{"$f":"Find_Month(AC$16,AC$17,$F22)","v":true},{"$f":"Find_Month(AD$16,AD$17,$F22)","v":false},{"$f":"Find_Month(AE$16,AE$17,$F22)","v":false},{"$f":"Find_Month(AF$16,AF$17,$F22)","v":false},{"$f":"Find_Month(AG$16,AG$17,$F22)","v":false},{"$f":"Find_Month(AH$16,AH$17,$F22)","v":false},{"$f":"Find_Month(AI$16,AI$17,$F22)","v":false},{"$f":"Find_Month(AJ$16,AJ$17,$F22)","v":false},{"$f":"Find_Month(AK$16,AK$17,$F22)","v":false},{"$f":"Find_Month(AL$16,AL$17,$F22)","v":false},{"$f":"Find_Month(AM$16,AM$17,$F22)","v":false},{"$f":"Find_Month(AN$16,AN$17,$F22)","v":false},{"$f":"Find_Month(AO$16,AO$17,$F22)","v":true},{"$f":"Find_Month(AP$16,AP$17,$F22)","v":false},{"$f":"Find_Month(AQ$16,AQ$17,$F22)","v":false},{"$f":"Find_Month(AR$16,AR$17,$F22)","v":false},{"$f":"Find_Month(AS$16,AS$17,$F22)","v":false},{"$f":"Find_Month(AT$16,AT$17,$F22)","v":false},{"$f":"Find_Month(AU$16,AU$17,$F22)","v":false},{"$f":"Find_Month(AV$16,AV$17,$F22)","v":false},{"$f":"Find_Month(AW$16,AW$17,$F22)","v":false},{"$f":"Find_Month(AX$16,AX$17,$F22)","v":false},{"$f":"Find_Month(AY$16,AY$17,$F22)","v":false},{"$f":"Find_Month(AZ$16,AZ$17,$F22)","v":false},{"$f":"Find_Month(BA$16,BA$17,$F22)","v":true},{"$f":"Find_Month(BB$16,BB$17,$F22)","v":false},{"$f":"Find_Month(BC$16,BC$17,$F22)","v":false},{"$f":"Find_Month(BD$16,BD$17,$F22)","v":false},{"$f":"Find_Month(BE$16,BE$17,$F22)","v":false},{"$f":"Find_Month(BF$16,BF$17,$F22)","v":false},{"$f":"Find_Month(BG$16,BG$17,$F22)","v":false},{"$f":"Find_Month(BH$16,BH$17,$F22)","v":false},{"$f":"Find_Month(BI$16,BI$17,$F22)","v":false},{"$f":"Find_Month(BJ$16,BJ$17,$F22)","v":false},{"$f":"Find_Month(BK$16,BK$17,$F22)","v":false},{"$f":"Find_Month(BL$16,BL$17,$F22)","v":false},{"$f":"Find_Month(BM$16,BM$17,$F22)","v":true},{"$f":"Find_Month(BN$16,BN$17,$F22)","v":false},{"$f":"Find_Month(BO$16,BO$17,$F22)","v":false},{"$f":"Find_Month(BP$16,BP$17,$F22)","v":false},{"$f":"Find_Month(BQ$16,BQ$17,$F22)","v":false},{"$f":"Find_Month(BR$16,BR$17,$F22)","v":false},{"$f":"Find_Month(BS$16,BS$17,$F22)","v":false},{"$f":"Find_Month(BT$16,BT$17,$F22)","v":false},{"$f":"Find_Month(BU$16,BU$17,$F22)","v":false},{"$f":"Find_Month(BV$16,BV$17,$F22)","v":false},{"$f":"Find_Month(BW$16,BW$17,$F22)","v":false},{"$f":"Find_Month(BX$16,BX$17,$F22)","v":false},{"$f":"Find_Month(BY$16,BY$17,$F22)","v":true},{"$f":"Find_Month(BZ$16,BZ$17,$F22)","v":false},{"$f":"Find_Month(CA$16,CA$17,$F22)","v":false},{"$f":"Find_Month(CB$16,CB$17,$F22)","v":false},{"$f":"Find_Month(CC$16,CC$17,$F22)","v":false},{"$f":"Find_Month(CD$16,CD$17,$F22)","v":false},{"$f":"Find_Month(CE$16,CE$17,$F22)","v":false},{"$f":"Find_Month(CF$16,CF$17,$F22)","v":false},{"$f":"Find_Month(CG$16,CG$17,$F22)","v":false},{"$f":"Find_Month(CH$16,CH$17,$F22)","v":false},{"$f":"Find_Month(CI$16,CI$17,$F22)","v":false},{"$f":"Find_Month(CJ$16,CJ$17,$F22)","v":false},{"$f":"Find_Month(CK$16,CK$17,$F22)","v":true},{"$f":"Find_Month(CL$16,CL$17,$F22)","v":false},{"$f":"Find_Month(CM$16,CM$17,$F22)","v":false},{"$f":"Find_Month(CN$16,CN$17,$F22)","v":false},{"$f":"Find_Month(CO$16,CO$17,$F22)","v":false},{"$f":"Find_Month(CP$16,CP$17,$F22)","v":false},{"$f":"Find_Month(CQ$16,CQ$17,$F22)","v":false},{"$f":"Find_Month(CR$16,CR$17,$F22)","v":false},{"$f":"Find_Month(CS$16,CS$17,$F22)","v":false},{"$f":"Find_Month(CT$16,CT$17,$F22)","v":false},{"$f":"Find_Month(CU$16,CU$17,$F22)","v":false},{"$f":"Find_Month(CV$16,CV$17,$F22)","v":false},{"$f":"Find_Month(CW$16,CW$17,$F22)","v":true},{"$f":"Find_Month(CX$16,CX$17,$F22)","v":false},{"$f":"Find_Month(CY$16,CY$17,$F22)","v":false},{"$f":"Find_Month(CZ$16,CZ$17,$F22)","v":false},{"$f":"Find_Month(DA$16,DA$17,$F22)","v":false},{"$f":"Find_Month(DB$16,DB$17,$F22)","v":false},{"$f":"Find_Month(DC$16,DC$17,$F22)","v":false},{"$f":"Find_Month(DD$16,DD$17,$F22)","v":false},{"$f":"Find_Month(DE$16,DE$17,$F22)","v":false},{"$f":"Find_Month(DF$16,DF$17,$F22)","v":false},{"$f":"Find_Month(DG$16,DG$17,$F22)","v":false},{"$f":"Find_Month(DH$16,DH$17,$F22)","v":false},{"$f":"Find_Month(DI$16,DI$17,$F22)","v":true},{"$f":"Find_Month(DJ$16,DJ$17,$F22)","v":false},{"$f":"Find_Month(DK$16,DK$17,$F22)","v":false},{"$f":"Find_Month(DL$16,DL$17,$F22)","v":false},{"$f":"Find_Month(DM$16,DM$17,$F22)","v":false},{"$f":"Find_Month(DN$16,DN$17,$F22)","v":false},{"$f":"Find_Month(DO$16,DO$17,$F22)","v":false},{"$f":"Find_Month(DP$16,DP$17,$F22)","v":false},{"$f":"Find_Month(DQ$16,DQ$17,$F22)","v":false},{"$f":"Find_Month(DR$16,DR$17,$F22)","v":false},{"$f":"Find_Month(DS$16,DS$17,$F22)","v":false},{"$f":"Find_Month(DT$16,DT$17,$F22)","v":false},{"$f":"Find_Month(DU$16,DU$17,$F22)","v":true},{"$f":"Find_Month(DV$16,DV$17,$F22)","v":false},{"$f":"Find_Month(DW$16,DW$17,$F22)","v":false},{"$f":"Find_Month(DX$16,DX$17,$F22)","v":false},{"$f":"Find_Month(DY$16,DY$17,$F22)","v":false},{"$f":"Find_Month(DZ$16,DZ$17,$F22)","v":false},{"$f":"Find_Month(EA$16,EA$17,$F22)","v":false},{"$f":"Find_Month(EB$16,EB$17,$F22)","v":false},{"$f":"Find_Month(EC$16,EC$17,$F22)","v":false},{"$f":"Find_Month(ED$16,ED$17,$F22)","v":false},{"$f":"Find_Month(EE$16,EE$17,$F22)","v":false},{"$f":"Find_Month(EF$16,EF$17,$F22)","v":false},{"$f":"Find_Month(EG$16,EG$17,$F22)","v":true},{"$f":"Find_Month(EH$16,EH$17,$F22)","v":false},{"$f":"Find_Month(EI$16,EI$17,$F22)","v":false},{"$f":"Find_Month(EJ$16,EJ$17,$F22)","v":false},{"$f":"Find_Month(EK$16,EK$17,$F22)","v":false},{"$f":"Find_Month(EL$16,EL$17,$F22)","v":false},{"$f":"Find_Month(EM$16,EM$17,$F22)","v":false},{"$f":"Find_Month(EN$16,EN$17,$F22)","v":false},{"$f":"Find_Month(EO$16,EO$17,$F22)","v":false},{"$f":"Find_Month(EP$16,EP$17,$F22)","v":false},{"$f":"Find_Month(EQ$16,EQ$17,$F22)","v":false},{"$f":"Find_Month(ER$16,ER$17,$F22)","v":false},{"$f":"Find_Month(ES$16,ES$17,$F22)","v":true},{"$f":"Find_Month(ET$16,ET$17,$F22)","v":false},{"$f":"Find_Month(EU$16,EU$17,$F22)","v":false},{"$f":"Find_Month(EV$16,EV$17,$F22)","v":false},{"$f":"Find_Month(EW$16,EW$17,$F22)","v":false},{"$f":"Find_Month(EX$16,EX$17,$F22)","v":false},{"$f":"Find_Month(EY$16,EY$17,$F22)","v":false},{"$f":"Find_Month(EZ$16,EZ$17,$F22)","v":false},{"$f":"Find_Month(FA$16,FA$17,$F22)","v":false},{"$f":"Find_Month(FB$16,FB$17,$F22)","v":false},{"$f":"Find_Month(FC$16,FC$17,$F22)","v":false},{"$f":"Find_Month(FD$16,FD$17,$F22)","v":false},{"$f":"Find_Month(FE$16,FE$17,$F22)","v":true},{"$f":"Find_Month(FF$16,FF$17,$F22)","v":false},{"$f":"Find_Month(FG$16,FG$17,$F22)","v":false},{"$f":"Find_Month(FH$16,FH$17,$F22)","v":false},{"$f":"Find_Month(FI$16,FI$17,$F22)","v":false},{"$f":"Find_Month(FJ$16,FJ$17,$F22)","v":false},{"$f":"Find_Month(FK$16,FK$17,$F22)","v":false},{"$f":"Find_Month(FL$16,FL$17,$F22)","v":false},{"$f":"Find_Month(FM$16,FM$17,$F22)","v":false},{"$f":"Find_Month(FN$16,FN$17,$F22)","v":false},{"$f":"Find_Month(FO$16,FO$17,$F22)","v":false},{"$f":"Find_Month(FP$16,FP$17,$F22)","v":false},{"$f":"Find_Month(FQ$16,FQ$17,$F22)","v":true},{"$f":"Find_Month(FR$16,FR$17,$F22)","v":false},{"$f":"Find_Month(FS$16,FS$17,$F22)","v":false},{"$f":"Find_Month(FT$16,FT$17,$F22)","v":false},{"$f":"Find_Month(FU$16,FU$17,$F22)","v":false},{"$f":"Find_Month(FV$16,FV$17,$F22)","v":false},{"$f":"Find_Month(FW$16,FW$17,$F22)","v":false},{"$f":"Find_Month(FX$16,FX$17,$F22)","v":false},{"$f":"Find_Month(FY$16,FY$17,$F22)","v":false},{"$f":"Find_Month(FZ$16,FZ$17,$F22)","v":false},{"$f":"Find_Month(GA$16,GA$17,$F22)","v":false},{"$f":"Find_Month(GB$16,GB$17,$F22)","v":false},{"$f":"Find_Month(GC$16,GC$17,$F22)","v":true},{"$f":"Find_Month(GD$16,GD$17,$F22)","v":false},{"$f":"Find_Month(GE$16,GE$17,$F22)","v":false},{"$f":"Find_Month(GF$16,GF$17,$F22)","v":false},{"$f":"Find_Month(GG$16,GG$17,$F22)","v":false},{"$f":"Find_Month(GH$16,GH$17,$F22)","v":false},{"$f":"Find_Month(GI$16,GI$17,$F22)","v":false},{"$f":"Find_Month(GJ$16,GJ$17,$F22)","v":false},{"$f":"Find_Month(GK$16,GK$17,$F22)","v":false},{"$f":"Find_Month(GL$16,GL$17,$F22)","v":false},{"$f":"Find_Month(GM$16,GM$17,$F22)","v":false},{"$f":"Find_Month(GN$16,GN$17,$F22)","v":false},{"$f":"Find_Month(GO$16,GO$17,$F22)","v":true},{"$f":"Find_Month(GP$16,GP$17,$F22)","v":false},{"$f":"Find_Month(GQ$16,GQ$17,$F22)","v":false},{"$f":"Find_Month(GR$16,GR$17,$F22)","v":false},{"$f":"Find_Month(GS$16,GS$17,$F22)","v":false},{"$f":"Find_Month(GT$16,GT$17,$F22)","v":false},{"$f":"Find_Month(GU$16,GU$17,$F22)","v":false},{"$f":"Find_Month(GV$16,GV$17,$F22)","v":false},{"$f":"Find_Month(GW$16,GW$17,$F22)","v":false},{"$f":"Find_Month(GX$16,GX$17,$F22)","v":false},{"$f":"Find_Month(GY$16,GY$17,$F22)","v":false},{"$f":"Find_Month(GZ$16,GZ$17,$F22)","v":false},{"$f":"Find_Month(HA$16,HA$17,$F22)","v":true},{"$f":"Find_Month(HB$16,HB$17,$F22)","v":false},{"$f":"Find_Month(HC$16,HC$17,$F22)","v":false},{"$f":"Find_Month(HD$16,HD$17,$F22)","v":false},{"$f":"Find_Month(HE$16,HE$17,$F22)","v":false},{"$f":"Find_Month(HF$16,HF$17,$F22)","v":false},{"$f":"Find_Month(HG$16,HG$17,$F22)","v":false},{"$f":"Find_Month(HH$16,HH$17,$F22)","v":false},{"$f":"Find_Month(HI$16,HI$17,$F22)","v":false},{"$f":"Find_Month(HJ$16,HJ$17,$F22)","v":false},{"$f":"Find_Month(HK$16,HK$17,$F22)","v":false},{"$f":"Find_Month(HL$16,HL$17,$F22)","v":false},{"$f":"Find_Month(HM$16,HM$17,$F22)","v":true},{"$f":"Find_Month(HN$16,HN$17,$F22)","v":false},{"$f":"Find_Month(HO$16,HO$17,$F22)","v":false},{"$f":"Find_Month(HP$16,HP$17,$F22)","v":false},{"$f":"Find_Month(HQ$16,HQ$17,$F22)","v":false},{"$f":"Find_Month(HR$16,HR$17,$F22)","v":false},{"$f":"Find_Month(HS$16,HS$17,$F22)","v":false},{"$f":"Find_Month(HT$16,HT$17,$F22)","v":false},{"$f":"Find_Month(HU$16,HU$17,$F22)","v":false},{"$f":"Find_Month(HV$16,HV$17,$F22)","v":false},{"$f":"Find_Month(HW$16,HW$17,$F22)","v":false},{"$f":"Find_Month(HX$16,HX$17,$F22)","v":false},{"$f":"Find_Month(HY$16,HY$17,$F22)","v":true},{"$f":"Find_Month(HZ$16,HZ$17,$F22)","v":false},{"$f":"Find_Month(IA$16,IA$17,$F22)","v":false},{"$f":"Find_Month(IB$16,IB$17,$F22)","v":false},{"$f":"Find_Month(IC$16,IC$17,$F22)","v":false},{"$f":"Find_Month(ID$16,ID$17,$F22)","v":false},{"$f":"Find_Month(IE$16,IE$17,$F22)","v":false},{"$f":"Find_Month(IF$16,IF$17,$F22)","v":false},{"$f":"Find_Month(IG$16,IG$17,$F22)","v":false},{"$f":"Find_Month(IH$16,IH$17,$F22)","v":false},{"$f":"Find_Month(II$16,II$17,$F22)","v":false},{"$f":"Find_Month(IJ$16,IJ$17,$F22)","v":false},{"$f":"Find_Month(IK$16,IK$17,$F22)","v":true},{"$f":"Find_Month(IL$16,IL$17,$F22)","v":false},{"$f":"Find_Month(IM$16,IM$17,$F22)","v":false},{"$f":"Find_Month(IN$16,IN$17,$F22)","v":false},{"$f":"Find_Month(IO$16,IO$17,$F22)","v":false},{"$f":"Find_Month(IP$16,IP$17,$F22)","v":false},{"$f":"Find_Month(IQ$16,IQ$17,$F22)","v":false},{"$f":"Find_Month(IR$16,IR$17,$F22)","v":false},{"$f":"Find_Month(IS$16,IS$17,$F22)","v":false},{"$f":"Find_Month(IT$16,IT$17,$F22)","v":false},{"$f":"Find_Month(IU$16,IU$17,$F22)","v":false},{"$f":"Find_Month(IV$16,IV$17,$F22)","v":false},{"$f":"Find_Month(IW$16,IW$17,$F22)","v":true},{"$f":"Find_Month(IX$16,IX$17,$F22)","v":false},{"$f":"Find_Month(IY$16,IY$17,$F22)","v":false},{"$f":"Find_Month(IZ$16,IZ$17,$F22)","v":false},{"$f":"Find_Month(JA$16,JA$17,$F22)","v":false},{"$f":"Find_Month(JB$16,JB$17,$F22)","v":false},{"$f":"Find_Month(JC$16,JC$17,$F22)","v":false},{"$f":"Find_Month(JD$16,JD$17,$F22)","v":false},{"$f":"Find_Month(JE$16,JE$17,$F22)","v":false},{"$f":"Find_Month(JF$16,JF$17,$F22)","v":false},{"$f":"Find_Month(JG$16,JG$17,$F22)","v":false},{"$f":"Find_Month(JH$16,JH$17,$F22)","v":false},{"$f":"Find_Month(JI$16,JI$17,$F22)","v":true},{"$f":"Find_Month(JJ$16,JJ$17,$F22)","v":false},{"$f":"Find_Month(JK$16,JK$17,$F22)","v":false},{"$f":"Find_Month(JL$16,JL$17,$F22)","v":false},{"$f":"Find_Month(JM$16,JM$17,$F22)","v":false},{"$f":"Find_Month(JN$16,JN$17,$F22)","v":false},{"$f":"Find_Month(JO$16,JO$17,$F22)","v":false},{"$f":"Find_Month(JP$16,JP$17,$F22)","v":false},{"$f":"Find_Month(JQ$16,JQ$17,$F22)","v":false},{"$f":"Find_Month(JR$16,JR$17,$F22)","v":false},{"$f":"Find_Month(JS$16,JS$17,$F22)","v":false},{"$f":"Find_Month(JT$16,JT$17,$F22)","v":false},{"$f":"Find_Month(JU$16,JU$17,$F22)","v":true},{"$f":"Find_Month(JV$16,JV$17,$F22)","v":false},{"$f":"Find_Month(JW$16,JW$17,$F22)","v":false},{"$f":"Find_Month(JX$16,JX$17,$F22)","v":false},{"$f":"Find_Month(JY$16,JY$17,$F22)","v":false},{"$f":"Find_Month(JZ$16,JZ$17,$F22)","v":false},{"$f":"Find_Month(KA$16,KA$17,$F22)","v":false},{"$f":"Find_Month(KB$16,KB$17,$F22)","v":false},{"$f":"Find_Month(KC$16,KC$17,$F22)","v":false},{"$f":"Find_Month(KD$16,KD$17,$F22)","v":false},{"$f":"Find_Month(KE$16,KE$17,$F22)","v":false},{"$f":"Find_Month(KF$16,KF$17,$F22)","v":false},{"$f":"Find_Month(KG$16,KG$17,$F22)","v":true},{"$f":"Find_Month(KH$16,KH$17,$F22)","v":false},{"$f":"Find_Month(KI$16,KI$17,$F22)","v":false},{"$f":"Find_Month(KJ$16,KJ$17,$F22)","v":false},{"$f":"Find_Month(KK$16,KK$17,$F22)","v":false},{"$f":"Find_Month(KL$16,KL$17,$F22)","v":false},{"$f":"Find_Month(KM$16,KM$17,$F22)","v":false},{"$f":"Find_Month(KN$16,KN$17,$F22)","v":false},{"$f":"Find_Month(KO$16,KO$17,$F22)","v":false},{"$f":"Find_Month(KP$16,KP$17,$F22)","v":false},{"$f":"Find_Month(KQ$16,KQ$17,$F22)","v":false},{"$f":"Find_Month(KR$16,KR$17,$F22)","v":false},{"$f":"Find_Month(KS$16,KS$17,$F22)","v":true},{"$f":"Find_Month(KT$16,KT$17,$F22)","v":false},{"$f":"Find_Month(KU$16,KU$17,$F22)","v":false},{"$f":"Find_Month(KV$16,KV$17,$F22)","v":false},{"$f":"Find_Month(KW$16,KW$17,$F22)","v":false},{"$f":"Find_Month(KX$16,KX$17,$F22)","v":false},{"$f":"Find_Month(KY$16,KY$17,$F22)","v":false},{"$f":"Find_Month(KZ$16,KZ$17,$F22)","v":false},{"$f":"Find_Month(LA$16,LA$17,$F22)","v":false},{"$f":"Find_Month(LB$16,LB$17,$F22)","v":false},{"$f":"Find_Month(LC$16,LC$17,$F22)","v":false},{"$f":"Find_Month(LD$16,LD$17,$F22)","v":false},{"$f":"Find_Month(LE$16,LE$17,$F22)","v":true},{"$f":"Find_Month(LF$16,LF$17,$F22)","v":false},{"$f":"Find_Month(LG$16,LG$17,$F22)","v":false},{"$f":"Find_Month(LH$16,LH$17,$F22)","v":false},{"$f":"Find_Month(LI$16,LI$17,$F22)","v":false},{"$f":"Find_Month(LJ$16,LJ$17,$F22)","v":false},{"$f":"Find_Month(LK$16,LK$17,$F22)","v":false},{"$f":"Find_Month(LL$16,LL$17,$F22)","v":false},{"$f":"Find_Month(LM$16,LM$17,$F22)","v":false},{"$f":"Find_Month(LN$16,LN$17,$F22)","v":false},{"$f":"Find_Month(LO$16,LO$17,$F22)","v":false},{"$f":"Find_Month(LP$16,LP$17,$F22)","v":false},{"$f":"Find_Month(LQ$16,LQ$17,$F22)","v":true},{"$f":"Find_Month(LR$16,LR$17,$F22)","v":false},{"$f":"Find_Month(LS$16,LS$17,$F22)","v":false},{"$f":"Find_Month(LT$16,LT$17,$F22)","v":false},{"$f":"Find_Month(LU$16,LU$17,$F22)","v":false},{"$f":"Find_Month(LV$16,LV$17,$F22)","v":false},{"$f":"Find_Month(LW$16,LW$17,$F22)","v":false},{"$f":"Find_Month(LX$16,LX$17,$F22)","v":false},{"$f":"Find_Month(LY$16,LY$17,$F22)","v":false},{"$f":"Find_Month(LZ$16,LZ$17,$F22)","v":false},{"$f":"Find_Month(MA$16,MA$17,$F22)","v":false},{"$f":"Find_Month(MB$16,MB$17,$F22)","v":false},{"$f":"Find_Month(MC$16,MC$17,$F22)","v":true},{"$f":"Find_Month(MD$16,MD$17,$F22)","v":false},{"$f":"Find_Month(ME$16,ME$17,$F22)","v":false},{"$f":"Find_Month(MF$16,MF$17,$F22)","v":false},{"$f":"Find_Month(MG$16,MG$17,$F22)","v":false},{"$f":"Find_Month(MH$16,MH$17,$F22)","v":false},{"$f":"Find_Month(MI$16,MI$17,$F22)","v":false},{"$f":"Find_Month(MJ$16,MJ$17,$F22)","v":false},{"$f":"Find_Month(MK$16,MK$17,$F22)","v":false},{"$f":"Find_Month(ML$16,ML$17,$F22)","v":false},{"$f":"Find_Month(MM$16,MM$17,$F22)","v":false},{"$f":"Find_Month(MN$16,MN$17,$F22)","v":false},{"$f":"Find_Month(MO$16,MO$17,$F22)","v":true},{"$f":"Find_Month(MP$16,MP$17,$F22)","v":false},{"$f":"Find_Month(MQ$16,MQ$17,$F22)","v":false},{"$f":"Find_Month(MR$16,MR$17,$F22)","v":false},{"$f":"Find_Month(MS$16,MS$17,$F22)","v":false},{"$f":"Find_Month(MT$16,MT$17,$F22)","v":false},{"$f":"Find_Month(MU$16,MU$17,$F22)","v":false},{"$f":"Find_Month(MV$16,MV$17,$F22)","v":false},{"$f":"Find_Month(MW$16,MW$17,$F22)","v":false},{"$f":"Find_Month(MX$16,MX$17,$F22)","v":false},{"$f":"Find_Month(MY$16,MY$17,$F22)","v":false},{"$f":"Find_Month(MZ$16,MZ$17,$F22)","v":false},{"$f":"Find_Month(NA$16,NA$17,$F22)","v":true},{"$f":"Find_Month(NB$16,NB$17,$F22)","v":false},{"$f":"Find_Month(NC$16,NC$17,$F22)","v":false},{"$f":"Find_Month(ND$16,ND$17,$F22)","v":false},{"$f":"Find_Month(NE$16,NE$17,$F22)","v":false},{"$f":"Find_Month(NF$16,NF$17,$F22)","v":false},{"$f":"Find_Month(NG$16,NG$17,$F22)","v":false},{"$f":"Find_Month(NH$16,NH$17,$F22)","v":false},{"$f":"Find_Month(NI$16,NI$17,$F22)","v":false},{"$f":"Find_Month(NJ$16,NJ$17,$F22)","v":false},{"$f":"Find_Month(NK$16,NK$17,$F22)","v":false},{"$f":"Find_Month(NL$16,NL$17,$F22)","v":false},{"$f":"Find_Month(NM$16,NM$17,$F22)","v":true},{"$f":"Find_Month(NN$16,NN$17,$F22)","v":false},{"$f":"Find_Month(NO$16,NO$17,$F22)","v":false},{"$f":"Find_Month(NP$16,NP$17,$F22)","v":false},{"$f":"Find_Month(NQ$16,NQ$17,$F22)","v":false},{"$f":"Find_Month(NR$16,NR$17,$F22)","v":false},{"$f":"Find_Month(NS$16,NS$17,$F22)","v":false},{"$f":"Find_Month(NT$16,NT$17,$F22)","v":false},{"$f":"Find_Month(NU$16,NU$17,$F22)","v":false},{"$f":"Find_Month(NV$16,NV$17,$F22)","v":false},{"$f":"Find_Month(NW$16,NW$17,$F22)","v":false},{"$f":"Find_Month(NX$16,NX$17,$F22)","v":false},{"$f":"Find_Month(NY$16,NY$17,$F22)","v":true},{"$f":"Find_Month(NZ$16,NZ$17,$F22)","v":false},{"$f":"Find_Month(OA$16,OA$17,$F22)","v":false},{"$f":"Find_Month(OB$16,OB$17,$F22)","v":false},{"$f":"Find_Month(OC$16,OC$17,$F22)","v":false},{"$f":"Find_Month(OD$16,OD$17,$F22)","v":false},{"$f":"Find_Month(OE$16,OE$17,$F22)","v":false},{"$f":"Find_Month(OF$16,OF$17,$F22)","v":false},{"$f":"Find_Month(OG$16,OG$17,$F22)","v":false},{"$f":"Find_Month(OH$16,OH$17,$F22)","v":false},{"$f":"Find_Month(OI$16,OI$17,$F22)","v":false},{"$f":"Find_Month(OJ$16,OJ$17,$F22)","v":false},{"$f":"Find_Month(OK$16,OK$17,$F22)","v":true},{"$f":"Find_Month(OL$16,OL$17,$F22)","v":false},{"$f":"Find_Month(OM$16,OM$17,$F22)","v":false},{"$f":"Find_Month(ON$16,ON$17,$F22)","v":false},{"$f":"Find_Month(OO$16,OO$17,$F22)","v":false},{"$f":"Find_Month(OP$16,OP$17,$F22)","v":false},{"$f":"Find_Month(OQ$16,OQ$17,$F22)","v":false},{"$f":"Find_Month(OR$16,OR$17,$F22)","v":false},{"$f":"Find_Month(OS$16,OS$17,$F22)","v":false},{"$f":"Find_Month(OT$16,OT$17,$F22)","v":false},{"$f":"Find_Month(OU$16,OU$17,$F22)","v":false},{"$f":"Find_Month(OV$16,OV$17,$F22)","v":false},{"$f":"Find_Month(OW$16,OW$17,$F22)","v":true},{"$f":"Find_Month(OX$16,OX$17,$F22)","v":false},{"$f":"Find_Month(OY$16,OY$17,$F22)","v":false},{"$f":"Find_Month(OZ$16,OZ$17,$F22)","v":false},{"$f":"Find_Month(PA$16,PA$17,$F22)","v":false},{"$f":"Find_Month(PB$16,PB$17,$F22)","v":false},{"$f":"Find_Month(PC$16,PC$17,$F22)","v":false},{"$f":"Find_Month(PD$16,PD$17,$F22)","v":false},{"$f":"Find_Month(PE$16,PE$17,$F22)","v":false},{"$f":"Find_Month(PF$16,PF$17,$F22)","v":false},{"$f":"Find_Month(PG$16,PG$17,$F22)","v":false},{"$f":"Find_Month(PH$16,PH$17,$F22)","v":false},{"$f":"Find_Month(PI$16,PI$17,$F22)","v":true},{"$f":"Find_Month(PJ$16,PJ$17,$F22)","v":false},{"$f":"Find_Month(PK$16,PK$17,$F22)","v":false},{"$f":"Find_Month(PL$16,PL$17,$F22)","v":false},{"$f":"Find_Month(PM$16,PM$17,$F22)","v":false},{"$f":"Find_Month(PN$16,PN$17,$F22)","v":false},{"$f":"Find_Month(PO$16,PO$17,$F22)","v":false},{"$f":"Find_Month(PP$16,PP$17,$F22)","v":false},{"$f":"Find_Month(PQ$16,PQ$17,$F22)","v":false},{"$f":"Find_Month(PR$16,PR$17,$F22)","v":false},{"$f":"Find_Month(PS$16,PS$17,$F22)","v":false},{"$f":"Find_Month(PT$16,PT$17,$F22)","v":false},{"$f":"Find_Month(PU$16,PU$17,$F22)","v":true},{"$f":"Find_Month(PV$16,PV$17,$F22)","v":false},{"$f":"Find_Month(PW$16,PW$17,$F22)","v":false},{"$f":"Find_Month(PX$16,PX$17,$F22)","v":false},{"$f":"Find_Month(PY$16,PY$17,$F22)","v":false},{"$f":"Find_Month(PZ$16,PZ$17,$F22)","v":false},{"$f":"Find_Month(QA$16,QA$17,$F22)","v":false},{"$f":"Find_Month(QB$16,QB$17,$F22)","v":false},{"$f":"Find_Month(QC$16,QC$17,$F22)","v":false},{"$f":"Find_Month(QD$16,QD$17,$F22)","v":false},{"$f":"Find_Month(QE$16,QE$17,$F22)","v":false},{"$f":"Find_Month(QF$16,QF$17,$F22)","v":false},{"$f":"Find_Month(QG$16,QG$17,$F22)","v":true},{"$f":"Find_Month(QH$16,QH$17,$F22)","v":false},{"$f":"Find_Month(QI$16,QI$17,$F22)","v":false},{"$f":"Find_Month(QJ$16,QJ$17,$F22)","v":false},{"$f":"Find_Month(QK$16,QK$17,$F22)","v":false},{"$f":"Find_Month(QL$16,QL$17,$F22)","v":false},{"$f":"Find_Month(QM$16,QM$17,$F22)","v":false},{"$f":"Find_Month(QN$16,QN$17,$F22)","v":false},{"$f":"Find_Month(QO$16,QO$17,$F22)","v":false},{"$f":"Find_Month(QP$16,QP$17,$F22)","v":false},{"$f":"Find_Month(QQ$16,QQ$17,$F22)","v":false},{"$f":"Find_Month(QR$16,QR$17,$F22)","v":false},{"$f":"Find_Month(QS$16,QS$17,$F22)","v":true},{"$f":"Find_Month(QT$16,QT$17,$F22)","v":false},{"$f":"Find_Month(QU$16,QU$17,$F22)","v":false},{"$f":"Find_Month(QV$16,QV$17,$F22)","v":false},{"$f":"Find_Month(QW$16,QW$17,$F22)","v":false},{"$f":"Find_Month(QX$16,QX$17,$F22)","v":false},{"$f":"Find_Month(QY$16,QY$17,$F22)","v":false},{"$f":"Find_Month(QZ$16,QZ$17,$F22)","v":false},{"$f":"Find_Month(RA$16,RA$17,$F22)","v":false},{"$f":"Find_Month(RB$16,RB$17,$F22)","v":false},{"$f":"Find_Month(RC$16,RC$17,$F22)","v":false},{"$f":"Find_Month(RD$16,RD$17,$F22)","v":false},{"$f":"Find_Month(RE$16,RE$17,$F22)","v":true},{"$f":"Find_Month(RF$16,RF$17,$F22)","v":false},{"$f":"Find_Month(RG$16,RG$17,$F22)","v":false},{"$f":"Find_Month(RH$16,RH$17,$F22)","v":false},{"$f":"Find_Month(RI$16,RI$17,$F22)","v":false},{"$f":"Find_Month(RJ$16,RJ$17,$F22)","v":false},{"$f":"Find_Month(RK$16,RK$17,$F22)","v":false},{"$f":"Find_Month(RL$16,RL$17,$F22)","v":false},{"$f":"Find_Month(RM$16,RM$17,$F22)","v":false},{"$f":"Find_Month(RN$16,RN$17,$F22)","v":false},{"$f":"Find_Month(RO$16,RO$17,$F22)","v":false},{"$f":"Find_Month(RP$16,RP$17,$F22)","v":false},{"$f":"Find_Month(RQ$16,RQ$17,$F22)","v":true},{"$f":"Find_Month(RR$16,RR$17,$F22)","v":false},{"$f":"Find_Month(RS$16,RS$17,$F22)","v":false},{"$f":"Find_Month(RT$16,RT$17,$F22)","v":false},{"$f":"Find_Month(RU$16,RU$17,$F22)","v":false},{"$f":"Find_Month(RV$16,RV$17,$F22)","v":false},{"$f":"Find_Month(RW$16,RW$17,$F22)","v":false},{"$f":"Find_Month(RX$16,RX$17,$F22)","v":false},{"$f":"Find_Month(RY$16,RY$17,$F22)","v":false},{"$f":"Find_Month(RZ$16,RZ$17,$F22)","v":false},{"$f":"Find_Month(SA$16,SA$17,$F22)","v":false},{"$f":"Find_Month(SB$16,SB$17,$F22)","v":false},{"$f":"Find_Month(SC$16,SC$17,$F22)","v":true},{"$f":"Find_Month(SD$16,SD$17,$F22)","v":false},{"$f":"Find_Month(SE$16,SE$17,$F22)","v":false},{"$f":"Find_Month(SF$16,SF$17,$F22)","v":false},{"$f":"Find_Month(SG$16,SG$17,$F22)","v":false},{"$f":"Find_Month(SH$16,SH$17,$F22)","v":false},{"$f":"Find_Month(SI$16,SI$17,$F22)","v":false},{"$f":"Find_Month(SJ$16,SJ$17,$F22)","v":false},{"$f":"Find_Month(SK$16,SK$17,$F22)","v":false},{"$f":"Find_Month(SL$16,SL$17,$F22)","v":false},{"$f":"Find_Month(SM$16,SM$17,$F22)","v":false},{"$f":"Find_Month(SN$16,SN$17,$F22)","v":false},{"$f":"Find_Month(SO$16,SO$17,$F22)","v":true},{"$f":"Find_Month(SP$16,SP$17,$F22)","v":false},{"$f":"Find_Month(SQ$16,SQ$17,$F22)","v":false},{"$f":"Find_Month(SR$16,SR$17,$F22)","v":false},{"$f":"Find_Month(SS$16,SS$17,$F22)","v":false},{"$f":"Find_Month(ST$16,ST$17,$F22)","v":false},{"$f":"Find_Month(SU$16,SU$17,$F22)","v":false},{"$f":"Find_Month(SV$16,SV$17,$F22)","v":false},{"$f":"Find_Month(SW$16,SW$17,$F22)","v":false},{"$f":"Find_Month(SX$16,SX$17,$F22)","v":false},{"$f":"Find_Month(SY$16,SY$17,$F22)","v":false},{"$f":"Find_Month(SZ$16,SZ$17,$F22)","v":false},{"$f":"Find_Month(TA$16,TA$17,$F22)","v":true},{"$f":"Find_Month(TB$16,TB$17,$F22)","v":false},{"$f":"Find_Month(TC$16,TC$17,$F22)","v":false},{"$f":"Find_Month(TD$16,TD$17,$F22)","v":false},{"$f":"Find_Month(TE$16,TE$17,$F22)","v":false},{"$f":"Find_Month(TF$16,TF$17,$F22)","v":false},{"$f":"Find_Month(TG$16,TG$17,$F22)","v":false},{"$f":"Find_Month(TH$16,TH$17,$F22)","v":false},{"$f":"Find_Month(TI$16,TI$17,$F22)","v":false},{"$f":"Find_Month(TJ$16,TJ$17,$F22)","v":false},{"$f":"Find_Month(TK$16,TK$17,$F22)","v":false},{"$f":"Find_Month(TL$16,TL$17,$F22)","v":false},{"$f":"Find_Month(TM$16,TM$17,$F22)","v":true},{"$f":"Find_Month(TN$16,TN$17,$F22)","v":false},{"$f":"Find_Month(TO$16,TO$17,$F22)","v":false},{"$f":"Find_Month(TP$16,TP$17,$F22)","v":false},{"$f":"Find_Month(TQ$16,TQ$17,$F22)","v":false},{"$f":"Find_Month(TR$16,TR$17,$F22)","v":false},{"$f":"Find_Month(TS$16,TS$17,$F22)","v":false},{"$f":"Find_Month(TT$16,TT$17,$F22)","v":false},{"$f":"Find_Month(TU$16,TU$17,$F22)","v":false},{"$f":"Find_Month(TV$16,TV$17,$F22)","v":false},{"$f":"Find_Month(TW$16,TW$17,$F22)","v":false},{"$f":"Find_Month(TX$16,TX$17,$F22)","v":false},{"$f":"Find_Month(TY$16,TY$17,$F22)","v":true},{"$f":"Find_Month(TZ$16,TZ$17,$F22)","v":false},{"$f":"Find_Month(UA$16,UA$17,$F22)","v":false},{"$f":"Find_Month(UB$16,UB$17,$F22)","v":false},{"$f":"Find_Month(UC$16,UC$17,$F22)","v":false},{"$f":"Find_Month(UD$16,UD$17,$F22)","v":false},{"$f":"Find_Month(UE$16,UE$17,$F22)","v":false},{"$f":"Find_Month(UF$16,UF$17,$F22)","v":false},{"$f":"Find_Month(UG$16,UG$17,$F22)","v":false},{"$f":"Find_Month(UH$16,UH$17,$F22)","v":false},{"$f":"Find_Month(UI$16,UI$17,$F22)","v":false},{"$f":"Find_Month(UJ$16,UJ$17,$F22)","v":false},{"$f":"Find_Month(UK$16,UK$17,$F22)","v":true},{"$f":"Find_Month(UL$16,UL$17,$F22)","v":false},{"$f":"Find_Month(UM$16,UM$17,$F22)","v":false}]
[null,null,null,null,null,4,null,8.5000000000000006E-2,null,{"$f":"Find_Month(J$16,J$17,$F23)","v":false},{"$f":"Find_Month(K$16,K$17,$F23)","v":false},{"$f":"Find_Month(L$16,L$17,$F23)","v":false},{"$f":"Find_Month(M$16,M$17,$F23)","v":false},{"$f":"Find_Month(N$16,N$17,$F23)","v":false},{"$f":"Find_Month(O$16,O$17,$F23)","v":false},{"$f":"Find_Month(P$16,P$17,$F23)","v":false},{"$f":"Find_Month(Q$16,Q$17,$F23)","v":false},{"$f":"Find_Month(R$16,R$17,$F23)","v":true},{"$f":"Find_Month(S$16,S$17,$F23)","v":false},{"$f":"Find_Month(T$16,T$17,$F23)","v":false},{"$f":"Find_Month(U$16,U$17,$F23)","v":false},{"$f":"Find_Month(V$16,V$17,$F23)","v":false},{"$f":"Find_Month(W$16,W$17,$F23)","v":false},{"$f":"Find_Month(X$16,X$17,$F23)","v":false},{"$f":"Find_Month(Y$16,Y$17,$F23)","v":false},{"$f":"Find_Month(Z$16,Z$17,$F23)","v":false},{"$f":"Find_Month(AA$16,AA$17,$F23)","v":false},{"$f":"Find_Month(AB$16,AB$17,$F23)","v":false},{"$f":"Find_Month(AC$16,AC$17,$F23)","v":false},{"$f":"Find_Month(AD$16,AD$17,$F23)","v":true},{"$f":"Find_Month(AE$16,AE$17,$F23)","v":false},{"$f":"Find_Month(AF$16,AF$17,$F23)","v":false},{"$f":"Find_Month(AG$16,AG$17,$F23)","v":false},{"$f":"Find_Month(AH$16,AH$17,$F23)","v":false},{"$f":"Find_Month(AI$16,AI$17,$F23)","v":false},{"$f":"Find_Month(AJ$16,AJ$17,$F23)","v":false},{"$f":"Find_Month(AK$16,AK$17,$F23)","v":false},{"$f":"Find_Month(AL$16,AL$17,$F23)","v":false},{"$f":"Find_Month(AM$16,AM$17,$F23)","v":false},{"$f":"Find_Month(AN$16,AN$17,$F23)","v":false},{"$f":"Find_Month(AO$16,AO$17,$F23)","v":false},{"$f":"Find_Month(AP$16,AP$17,$F23)","v":true},{"$f":"Find_Month(AQ$16,AQ$17,$F23)","v":false},{"$f":"Find_Month(AR$16,AR$17,$F23)","v":false},{"$f":"Find_Month(AS$16,AS$17,$F23)","v":false},{"$f":"Find_Month(AT$16,AT$17,$F23)","v":false},{"$f":"Find_Month(AU$16,AU$17,$F23)","v":false},{"$f":"Find_Month(AV$16,AV$17,$F23)","v":false},{"$f":"Find_Month(AW$16,AW$17,$F23)","v":false},{"$f":"Find_Month(AX$16,AX$17,$F23)","v":false},{"$f":"Find_Month(AY$16,AY$17,$F23)","v":false},{"$f":"Find_Month(AZ$16,AZ$17,$F23)","v":false},{"$f":"Find_Month(BA$16,BA$17,$F23)","v":false},{"$f":"Find_Month(BB$16,BB$17,$F23)","v":true},{"$f":"Find_Month(BC$16,BC$17,$F23)","v":false},{"$f":"Find_Month(BD$16,BD$17,$F23)","v":false},{"$f":"Find_Month(BE$16,BE$17,$F23)","v":false},{"$f":"Find_Month(BF$16,BF$17,$F23)","v":false},{"$f":"Find_Month(BG$16,BG$17,$F23)","v":false},{"$f":"Find_Month(BH$16,BH$17,$F23)","v":false},{"$f":"Find_Month(BI$16,BI$17,$F23)","v":false},{"$f":"Find_Month(BJ$16,BJ$17,$F23)","v":false},{"$f":"Find_Month(BK$16,BK$17,$F23)","v":false},{"$f":"Find_Month(BL$16,BL$17,$F23)","v":false},{"$f":"Find_Month(BM$16,BM$17,$F23)","v":false},{"$f":"Find_Month(BN$16,BN$17,$F23)","v":true},{"$f":"Find_Month(BO$16,BO$17,$F23)","v":false},{"$f":"Find_Month(BP$16,BP$17,$F23)","v":false},{"$f":"Find_Month(BQ$16,BQ$17,$F23)","v":false},{"$f":"Find_Month(BR$16,BR$17,$F23)","v":false},{"$f":"Find_Month(BS$16,BS$17,$F23)","v":false},{"$f":"Find_Month(BT$16,BT$17,$F23)","v":false},{"$f":"Find_Month(BU$16,BU$17,$F23)","v":false},{"$f":"Find_Month(BV$16,BV$17,$F23)","v":false},{"$f":"Find_Month(BW$16,BW$17,$F23)","v":false},{"$f":"Find_Month(BX$16,BX$17,$F23)","v":false},{"$f":"Find_Month(BY$16,BY$17,$F23)","v":false},{"$f":"Find_Month(BZ$16,BZ$17,$F23)","v":true},{"$f":"Find_Month(CA$16,CA$17,$F23)","v":false},{"$f":"Find_Month(CB$16,CB$17,$F23)","v":false},{"$f":"Find_Month(CC$16,CC$17,$F23)","v":false},{"$f":"Find_Month(CD$16,CD$17,$F23)","v":false},{"$f":"Find_Month(CE$16,CE$17,$F23)","v":false},{"$f":"Find_Month(CF$16,CF$17,$F23)","v":false},{"$f":"Find_Month(CG$16,CG$17,$F23)","v":false},{"$f":"Find_Month(CH$16,CH$17,$F23)","v":false},{"$f":"Find_Month(CI$16,CI$17,$F23)","v":false},{"$f":"Find_Month(CJ$16,CJ$17,$F23)","v":false},{"$f":"Find_Month(CK$16,CK$17,$F23)","v":false},{"$f":"Find_Month(CL$16,CL$17,$F23)","v":true},{"$f":"Find_Month(CM$16,CM$17,$F23)","v":false},{"$f":"Find_Month(CN$16,CN$17,$F23)","v":false},{"$f":"Find_Month(CO$16,CO$17,$F23)","v":false},{"$f":"Find_Month(CP$16,CP$17,$F23)","v":false},{"$f":"Find_Month(CQ$16,CQ$17,$F23)","v":false},{"$f":"Find_Month(CR$16,CR$17,$F23)","v":false},{"$f":"Find_Month(CS$16,CS$17,$F23)","v":false},{"$f":"Find_Month(CT$16,CT$17,$F23)","v":false},{"$f":"Find_Month(CU$16,CU$17,$F23)","v":false},{"$f":"Find_Month(CV$16,CV$17,$F23)","v":false},{"$f":"Find_Month(CW$16,CW$17,$F23)","v":false},{"$f":"Find_Month(CX$16,CX$17,$F23)","v":true},{"$f":"Find_Month(CY$16,CY$17,$F23)","v":false},{"$f":"Find_Month(CZ$16,CZ$17,$F23)","v":false},{"$f":"Find_Month(DA$16,DA$17,$F23)","v":false},{"$f":"Find_Month(DB$16,DB$17,$F23)","v":false},{"$f":"Find_Month(DC$16,DC$17,$F23)","v":false},{"$f":"Find_Month(DD$16,DD$17,$F23)","v":false},{"$f":"Find_Month(DE$16,DE$17,$F23)","v":false},{"$f":"Find_Month(DF$16,DF$17,$F23)","v":false},{"$f":"Find_Month(DG$16,DG$17,$F23)","v":false},{"$f":"Find_Month(DH$16,DH$17,$F23)","v":false},{"$f":"Find_Month(DI$16,DI$17,$F23)","v":false},{"$f":"Find_Month(DJ$16,DJ$17,$F23)","v":true},{"$f":"Find_Month(DK$16,DK$17,$F23)","v":false},{"$f":"Find_Month(DL$16,DL$17,$F23)","v":false},{"$f":"Find_Month(DM$16,DM$17,$F23)","v":false},{"$f":"Find_Month(DN$16,DN$17,$F23)","v":false},{"$f":"Find_Month(DO$16,DO$17,$F23)","v":false},{"$f":"Find_Month(DP$16,DP$17,$F23)","v":false},{"$f":"Find_Month(DQ$16,DQ$17,$F23)","v":false},{"$f":"Find_Month(DR$16,DR$17,$F23)","v":false},{"$f":"Find_Month(DS$16,DS$17,$F23)","v":false},{"$f":"Find_Month(DT$16,DT$17,$F23)","v":false},{"$f":"Find_Month(DU$16,DU$17,$F23)","v":false},{"$f":"Find_Month(DV$16,DV$17,$F23)","v":true},{"$f":"Find_Month(DW$16,DW$17,$F23)","v":false},{"$f":"Find_Month(DX$16,DX$17,$F23)","v":false},{"$f":"Find_Month(DY$16,DY$17,$F23)","v":false},{"$f":"Find_Month(DZ$16,DZ$17,$F23)","v":false},{"$f":"Find_Month(EA$16,EA$17,$F23)","v":false},{"$f":"Find_Month(EB$16,EB$17,$F23)","v":false},{"$f":"Find_Month(EC$16,EC$17,$F23)","v":false},{"$f":"Find_Month(ED$16,ED$17,$F23)","v":false},{"$f":"Find_Month(EE$16,EE$17,$F23)","v":false},{"$f":"Find_Month(EF$16,EF$17,$F23)","v":false},{"$f":"Find_Month(EG$16,EG$17,$F23)","v":false},{"$f":"Find_Month(EH$16,EH$17,$F23)","v":true},{"$f":"Find_Month(EI$16,EI$17,$F23)","v":false},{"$f":"Find_Month(EJ$16,EJ$17,$F23)","v":false},{"$f":"Find_Month(EK$16,EK$17,$F23)","v":false},{"$f":"Find_Month(EL$16,EL$17,$F23)","v":false},{"$f":"Find_Month(EM$16,EM$17,$F23)","v":false},{"$f":"Find_Month(EN$16,EN$17,$F23)","v":false},{"$f":"Find_Month(EO$16,EO$17,$F23)","v":false},{"$f":"Find_Month(EP$16,EP$17,$F23)","v":false},{"$f":"Find_Month(EQ$16,EQ$17,$F23)","v":false},{"$f":"Find_Month(ER$16,ER$17,$F23)","v":false},{"$f":"Find_Month(ES$16,ES$17,$F23)","v":false},{"$f":"Find_Month(ET$16,ET$17,$F23)","v":true},{"$f":"Find_Month(EU$16,EU$17,$F23)","v":false},{"$f":"Find_Month(EV$16,EV$17,$F23)","v":false},{"$f":"Find_Month(EW$16,EW$17,$F23)","v":false},{"$f":"Find_Month(EX$16,EX$17,$F23)","v":false},{"$f":"Find_Month(EY$16,EY$17,$F23)","v":false},{"$f":"Find_Month(EZ$16,EZ$17,$F23)","v":false},{"$f":"Find_Month(FA$16,FA$17,$F23)","v":false},{"$f":"Find_Month(FB$16,FB$17,$F23)","v":false},{"$f":"Find_Month(FC$16,FC$17,$F23)","v":false},{"$f":"Find_Month(FD$16,FD$17,$F23)","v":false},{"$f":"Find_Month(FE$16,FE$17,$F23)","v":false},{"$f":"Find_Month(FF$16,FF$17,$F23)","v":true},{"$f":"Find_Month(FG$16,FG$17,$F23)","v":false},{"$f":"Find_Month(FH$16,FH$17,$F23)","v":false},{"$f":"Find_Month(FI$16,FI$17,$F23)","v":false},{"$f":"Find_Month(FJ$16,FJ$17,$F23)","v":false},{"$f":"Find_Month(FK$16,FK$17,$F23)","v":false},{"$f":"Find_Month(FL$16,FL$17,$F23)","v":false},{"$f":"Find_Month(FM$16,FM$17,$F23)","v":false},{"$f":"Find_Month(FN$16,FN$17,$F23)","v":false},{"$f":"Find_Month(FO$16,FO$17,$F23)","v":false},{"$f":"Find_Month(FP$16,FP$17,$F23)","v":false},{"$f":"Find_Month(FQ$16,FQ$17,$F23)","v":false},{"$f":"Find_Month(FR$16,FR$17,$F23)","v":true},{"$f":"Find_Month(FS$16,FS$17,$F23)","v":false},{"$f":"Find_Month(FT$16,FT$17,$F23)","v":false},{"$f":"Find_Month(FU$16,FU$17,$F23)","v":false},{"$f":"Find_Month(FV$16,FV$17,$F23)","v":false},{"$f":"Find_Month(FW$16,FW$17,$F23)","v":false},{"$f":"Find_Month(FX$16,FX$17,$F23)","v":false},{"$f":"Find_Month(FY$16,FY$17,$F23)","v":false},{"$f":"Find_Month(FZ$16,FZ$17,$F23)","v":false},{"$f":"Find_Month(GA$16,GA$17,$F23)","v":false},{"$f":"Find_Month(GB$16,GB$17,$F23)","v":false},{"$f":"Find_Month(GC$16,GC$17,$F23)","v":false},{"$f":"Find_Month(GD$16,GD$17,$F23)","v":true},{"$f":"Find_Month(GE$16,GE$17,$F23)","v":false},{"$f":"Find_Month(GF$16,GF$17,$F23)","v":false},{"$f":"Find_Month(GG$16,GG$17,$F23)","v":false},{"$f":"Find_Month(GH$16,GH$17,$F23)","v":false},{"$f":"Find_Month(GI$16,GI$17,$F23)","v":false},{"$f":"Find_Month(GJ$16,GJ$17,$F23)","v":false},{"$f":"Find_Month(GK$16,GK$17,$F23)","v":false},{"$f":"Find_Month(GL$16,GL$17,$F23)","v":false},{"$f":"Find_Month(GM$16,GM$17,$F23)","v":false},{"$f":"Find_Month(GN$16,GN$17,$F23)","v":false},{"$f":"Find_Month(GO$16,GO$17,$F23)","v":false},{"$f":"Find_Month(GP$16,GP$17,$F23)","v":true},{"$f":"Find_Month(GQ$16,GQ$17,$F23)","v":false},{"$f":"Find_Month(GR$16,GR$17,$F23)","v":false},{"$f":"Find_Month(GS$16,GS$17,$F23)","v":false},{"$f":"Find_Month(GT$16,GT$17,$F23)","v":false},{"$f":"Find_Month(GU$16,GU$17,$F23)","v":false},{"$f":"Find_Month(GV$16,GV$17,$F23)","v":false},{"$f":"Find_Month(GW$16,GW$17,$F23)","v":false},{"$f":"Find_Month(GX$16,GX$17,$F23)","v":false},{"$f":"Find_Month(GY$16,GY$17,$F23)","v":false},{"$f":"Find_Month(GZ$16,GZ$17,$F23)","v":false},{"$f":"Find_Month(HA$16,HA$17,$F23)","v":false},{"$f":"Find_Month(HB$16,HB$17,$F23)","v":true},{"$f":"Find_Month(HC$16,HC$17,$F23)","v":false},{"$f":"Find_Month(HD$16,HD$17,$F23)","v":false},{"$f":"Find_Month(HE$16,HE$17,$F23)","v":false},{"$f":"Find_Month(HF$16,HF$17,$F23)","v":false},{"$f":"Find_Month(HG$16,HG$17,$F23)","v":false},{"$f":"Find_Month(HH$16,HH$17,$F23)","v":false},{"$f":"Find_Month(HI$16,HI$17,$F23)","v":false},{"$f":"Find_Month(HJ$16,HJ$17,$F23)","v":false},{"$f":"Find_Month(HK$16,HK$17,$F23)","v":false},{"$f":"Find_Month(HL$16,HL$17,$F23)","v":false},{"$f":"Find_Month(HM$16,HM$17,$F23)","v":false},{"$f":"Find_Month(HN$16,HN$17,$F23)","v":true},{"$f":"Find_Month(HO$16,HO$17,$F23)","v":false},{"$f":"Find_Month(HP$16,HP$17,$F23)","v":false},{"$f":"Find_Month(HQ$16,HQ$17,$F23)","v":false},{"$f":"Find_Month(HR$16,HR$17,$F23)","v":false},{"$f":"Find_Month(HS$16,HS$17,$F23)","v":false},{"$f":"Find_Month(HT$16,HT$17,$F23)","v":false},{"$f":"Find_Month(HU$16,HU$17,$F23)","v":false},{"$f":"Find_Month(HV$16,HV$17,$F23)","v":false},{"$f":"Find_Month(HW$16,HW$17,$F23)","v":false},{"$f":"Find_Month(HX$16,HX$17,$F23)","v":false},{"$f":"Find_Month(HY$16,HY$17,$F23)","v":false},{"$f":"Find_Month(HZ$16,HZ$17,$F23)","v":true},{"$f":"Find_Month(IA$16,IA$17,$F23)","v":false},{"$f":"Find_Month(IB$16,IB$17,$F23)","v":false},{"$f":"Find_Month(IC$16,IC$17,$F23)","v":false},{"$f":"Find_Month(ID$16,ID$17,$F23)","v":false},{"$f":"Find_Month(IE$16,IE$17,$F23)","v":false},{"$f":"Find_Month(IF$16,IF$17,$F23)","v":false},{"$f":"Find_Month(IG$16,IG$17,$F23)","v":false},{"$f":"Find_Month(IH$16,IH$17,$F23)","v":false},{"$f":"Find_Month(II$16,II$17,$F23)","v":false},{"$f":"Find_Month(IJ$16,IJ$17,$F23)","v":false},{"$f":"Find_Month(IK$16,IK$17,$F23)","v":false},{"$f":"Find_Month(IL$16,IL$17,$F23)","v":true},{"$f":"Find_Month(IM$16,IM$17,$F23)","v":false},{"$f":"Find_Month(IN$16,IN$17,$F23)","v":false},{"$f":"Find_Month(IO$16,IO$17,$F23)","v":false},{"$f":"Find_Month(IP$16,IP$17,$F23)","v":false},{"$f":"Find_Month(IQ$16,IQ$17,$F23)","v":false},{"$f":"Find_Month(IR$16,IR$17,$F23)","v":false},{"$f":"Find_Month(IS$16,IS$17,$F23)","v":false},{"$f":"Find_Month(IT$16,IT$17,$F23)","v":false},{"$f":"Find_Month(IU$16,IU$17,$F23)","v":false},{"$f":"Find_Month(IV$16,IV$17,$F23)","v":false},{"$f":"Find_Month(IW$16,IW$17,$F23)","v":false},{"$f":"Find_Month(IX$16,IX$17,$F23)","v":true},{"$f":"Find_Month(IY$16,IY$17,$F23)","v":false},{"$f":"Find_Month(IZ$16,IZ$17,$F23)","v":false},{"$f":"Find_Month(JA$16,JA$17,$F23)","v":false},{"$f":"Find_Month(JB$16,JB$17,$F23)","v":false},{"$f":"Find_Month(JC$16,JC$17,$F23)","v":false},{"$f":"Find_Month(JD$16,JD$17,$F23)","v":false},{"$f":"Find_Month(JE$16,JE$17,$F23)","v":false},{"$f":"Find_Month(JF$16,JF$17,$F23)","v":false},{"$f":"Find_Month(JG$16,JG$17,$F23)","v":false},{"$f":"Find_Month(JH$16,JH$17,$F23)","v":false},{"$f":"Find_Month(JI$16,JI$17,$F23)","v":false},{"$f":"Find_Month(JJ$16,JJ$17,$F23)","v":true},{"$f":"Find_Month(JK$16,JK$17,$F23)","v":false},{"$f":"Find_Month(JL$16,JL$17,$F23)","v":false},{"$f":"Find_Month(JM$16,JM$17,$F23)","v":false},{"$f":"Find_Month(JN$16,JN$17,$F23)","v":false},{"$f":"Find_Month(JO$16,JO$17,$F23)","v":false},{"$f":"Find_Month(JP$16,JP$17,$F23)","v":false},{"$f":"Find_Month(JQ$16,JQ$17,$F23)","v":false},{"$f":"Find_Month(JR$16,JR$17,$F23)","v":false},{"$f":"Find_Month(JS$16,JS$17,$F23)","v":false},{"$f":"Find_Month(JT$16,JT$17,$F23)","v":false},{"$f":"Find_Month(JU$16,JU$17,$F23)","v":false},{"$f":"Find_Month(JV$16,JV$17,$F23)","v":true},{"$f":"Find_Month(JW$16,JW$17,$F23)","v":false},{"$f":"Find_Month(JX$16,JX$17,$F23)","v":false},{"$f":"Find_Month(JY$16,JY$17,$F23)","v":false},{"$f":"Find_Month(JZ$16,JZ$17,$F23)","v":false},{"$f":"Find_Month(KA$16,KA$17,$F23)","v":false},{"$f":"Find_Month(KB$16,KB$17,$F23)","v":false},{"$f":"Find_Month(KC$16,KC$17,$F23)","v":false},{"$f":"Find_Month(KD$16,KD$17,$F23)","v":false},{"$f":"Find_Month(KE$16,KE$17,$F23)","v":false},{"$f":"Find_Month(KF$16,KF$17,$F23)","v":false},{"$f":"Find_Month(KG$16,KG$17,$F23)","v":false},{"$f":"Find_Month(KH$16,KH$17,$F23)","v":true},{"$f":"Find_Month(KI$16,KI$17,$F23)","v":false},{"$f":"Find_Month(KJ$16,KJ$17,$F23)","v":false},{"$f":"Find_Month(KK$16,KK$17,$F23)","v":false},{"$f":"Find_Month(KL$16,KL$17,$F23)","v":false},{"$f":"Find_Month(KM$16,KM$17,$F23)","v":false},{"$f":"Find_Month(KN$16,KN$17,$F23)","v":false},{"$f":"Find_Month(KO$16,KO$17,$F23)","v":false},{"$f":"Find_Month(KP$16,KP$17,$F23)","v":false},{"$f":"Find_Month(KQ$16,KQ$17,$F23)","v":false},{"$f":"Find_Month(KR$16,KR$17,$F23)","v":false},{"$f":"Find_Month(KS$16,KS$17,$F23)","v":false},{"$f":"Find_Month(KT$16,KT$17,$F23)","v":true},{"$f":"Find_Month(KU$16,KU$17,$F23)","v":false},{"$f":"Find_Month(KV$16,KV$17,$F23)","v":false},{"$f":"Find_Month(KW$16,KW$17,$F23)","v":false},{"$f":"Find_Month(KX$16,KX$17,$F23)","v":false},{"$f":"Find_Month(KY$16,KY$17,$F23)","v":false},{"$f":"Find_Month(KZ$16,KZ$17,$F23)","v":false},{"$f":"Find_Month(LA$16,LA$17,$F23)","v":false},{"$f":"Find_Month(LB$16,LB$17,$F23)","v":false},{"$f":"Find_Month(LC$16,LC$17,$F23)","v":false},{"$f":"Find_Month(LD$16,LD$17,$F23)","v":false},{"$f":"Find_Month(LE$16,LE$17,$F23)","v":false},{"$f":"Find_Month(LF$16,LF$17,$F23)","v":true},{"$f":"Find_Month(LG$16,LG$17,$F23)","v":false},{"$f":"Find_Month(LH$16,LH$17,$F23)","v":false},{"$f":"Find_Month(LI$16,LI$17,$F23)","v":false},{"$f":"Find_Month(LJ$16,LJ$17,$F23)","v":false},{"$f":"Find_Month(LK$16,LK$17,$F23)","v":false},{"$f":"Find_Month(LL$16,LL$17,$F23)","v":false},{"$f":"Find_Month(LM$16,LM$17,$F23)","v":false},{"$f":"Find_Month(LN$16,LN$17,$F23)","v":false},{"$f":"Find_Month(LO$16,LO$17,$F23)","v":false},{"$f":"Find_Month(LP$16,LP$17,$F23)","v":false},{"$f":"Find_Month(LQ$16,LQ$17,$F23)","v":false},{"$f":"Find_Month(LR$16,LR$17,$F23)","v":true},{"$f":"Find_Month(LS$16,LS$17,$F23)","v":false},{"$f":"Find_Month(LT$16,LT$17,$F23)","v":false},{"$f":"Find_Month(LU$16,LU$17,$F23)","v":false},{"$f":"Find_Month(LV$16,LV$17,$F23)","v":false},{"$f":"Find_Month(LW$16,LW$17,$F23)","v":false},{"$f":"Find_Month(LX$16,LX$17,$F23)","v":false},{"$f":"Find_Month(LY$16,LY$17,$F23)","v":false},{"$f":"Find_Month(LZ$16,LZ$17,$F23)","v":false},{"$f":"Find_Month(MA$16,MA$17,$F23)","v":false},{"$f":"Find_Month(MB$16,MB$17,$F23)","v":false},{"$f":"Find_Month(MC$16,MC$17,$F23)","v":false},{"$f":"Find_Month(MD$16,MD$17,$F23)","v":true},{"$f":"Find_Month(ME$16,ME$17,$F23)","v":false},{"$f":"Find_Month(MF$16,MF$17,$F23)","v":false},{"$f":"Find_Month(MG$16,MG$17,$F23)","v":false},{"$f":"Find_Month(MH$16,MH$17,$F23)","v":false},{"$f":"Find_Month(MI$16,MI$17,$F23)","v":false},{"$f":"Find_Month(MJ$16,MJ$17,$F23)","v":false},{"$f":"Find_Month(MK$16,MK$17,$F23)","v":false},{"$f":"Find_Month(ML$16,ML$17,$F23)","v":false},{"$f":"Find_Month(MM$16,MM$17,$F23)","v":false},{"$f":"Find_Month(MN$16,MN$17,$F23)","v":false},{"$f":"Find_Month(MO$16,MO$17,$F23)","v":false},{"$f":"Find_Month(MP$16,MP$17,$F23)","v":true},{"$f":"Find_Month(MQ$16,MQ$17,$F23)","v":false},{"$f":"Find_Month(MR$16,MR$17,$F23)","v":false},{"$f":"Find_Month(MS$16,MS$17,$F23)","v":false},{"$f":"Find_Month(MT$16,MT$17,$F23)","v":false},{"$f":"Find_Month(MU$16,MU$17,$F23)","v":false},{"$f":"Find_Month(MV$16,MV$17,$F23)","v":false},{"$f":"Find_Month(MW$16,MW$17,$F23)","v":false},{"$f":"Find_Month(MX$16,MX$17,$F23)","v":false},{"$f":"Find_Month(MY$16,MY$17,$F23)","v":false},{"$f":"Find_Month(MZ$16,MZ$17,$F23)","v":false},{"$f":"Find_Month(NA$16,NA$17,$F23)","v":false},{"$f":"Find_Month(NB$16,NB$17,$F23)","v":true},{"$f":"Find_Month(NC$16,NC$17,$F23)","v":false},{"$f":"Find_Month(ND$16,ND$17,$F23)","v":false},{"$f":"Find_Month(NE$16,NE$17,$F23)","v":false},{"$f":"Find_Month(NF$16,NF$17,$F23)","v":false},{"$f":"Find_Month(NG$16,NG$17,$F23)","v":false},{"$f":"Find_Month(NH$16,NH$17,$F23)","v":false},{"$f":"Find_Month(NI$16,NI$17,$F23)","v":false},{"$f":"Find_Month(NJ$16,NJ$17,$F23)","v":false},{"$f":"Find_Month(NK$16,NK$17,$F23)","v":false},{"$f":"Find_Month(NL$16,NL$17,$F23)","v":false},{"$f":"Find_Month(NM$16,NM$17,$F23)","v":false},{"$f":"Find_Month(NN$16,NN$17,$F23)","v":true},{"$f":"Find_Month(NO$16,NO$17,$F23)","v":false},{"$f":"Find_Month(NP$16,NP$17,$F23)","v":false},{"$f":"Find_Month(NQ$16,NQ$17,$F23)","v":false},{"$f":"Find_Month(NR$16,NR$17,$F23)","v":false},{"$f":"Find_Month(NS$16,NS$17,$F23)","v":false},{"$f":"Find_Month(NT$16,NT$17,$F23)","v":false},{"$f":"Find_Month(NU$16,NU$17,$F23)","v":false},{"$f":"Find_Month(NV$16,NV$17,$F23)","v":false},{"$f":"Find_Month(NW$16,NW$17,$F23)","v":false},{"$f":"Find_Month(NX$16,NX$17,$F23)","v":false},{"$f":"Find_Month(NY$16,NY$17,$F23)","v":false},{"$f":"Find_Month(NZ$16,NZ$17,$F23)","v":true},{"$f":"Find_Month(OA$16,OA$17,$F23)","v":false},{"$f":"Find_Month(OB$16,OB$17,$F23)","v":false},{"$f":"Find_Month(OC$16,OC$17,$F23)","v":false},{"$f":"Find_Month(OD$16,OD$17,$F23)","v":false},{"$f":"Find_Month(OE$16,OE$17,$F23)","v":false},{"$f":"Find_Month(OF$16,OF$17,$F23)","v":false},{"$f":"Find_Month(OG$16,OG$17,$F23)","v":false},{"$f":"Find_Month(OH$16,OH$17,$F23)","v":false},{"$f":"Find_Month(OI$16,OI$17,$F23)","v":false},{"$f":"Find_Month(OJ$16,OJ$17,$F23)","v":false},{"$f":"Find_Month(OK$16,OK$17,$F23)","v":false},{"$f":"Find_Month(OL$16,OL$17,$F23)","v":true},{"$f":"Find_Month(OM$16,OM$17,$F23)","v":false},{"$f":"Find_Month(ON$16,ON$17,$F23)","v":false},{"$f":"Find_Month(OO$16,OO$17,$F23)","v":false},{"$f":"Find_Month(OP$16,OP$17,$F23)","v":false},{"$f":"Find_Month(OQ$16,OQ$17,$F23)","v":false},{"$f":"Find_Month(OR$16,OR$17,$F23)","v":false},{"$f":"Find_Month(OS$16,OS$17,$F23)","v":false},{"$f":"Find_Month(OT$16,OT$17,$F23)","v":false},{"$f":"Find_Month(OU$16,OU$17,$F23)","v":false},{"$f":"Find_Month(OV$16,OV$17,$F23)","v":false},{"$f":"Find_Month(OW$16,OW$17,$F23)","v":false},{"$f":"Find_Month(OX$16,OX$17,$F23)","v":true},{"$f":"Find_Month(OY$16,OY$17,$F23)","v":false},{"$f":"Find_Month(OZ$16,OZ$17,$F23)","v":false},{"$f":"Find_Month(PA$16,PA$17,$F23)","v":false},{"$f":"Find_Month(PB$16,PB$17,$F23)","v":false},{"$f":"Find_Month(PC$16,PC$17,$F23)","v":false},{"$f":"Find_Month(PD$16,PD$17,$F23)","v":false},{"$f":"Find_Month(PE$16,PE$17,$F23)","v":false},{"$f":"Find_Month(PF$16,PF$17,$F23)","v":false},{"$f":"Find_Month(PG$16,PG$17,$F23)","v":false},{"$f":"Find_Month(PH$16,PH$17,$F23)","v":false},{"$f":"Find_Month(PI$16,PI$17,$F23)","v":false},{"$f":"Find_Month(PJ$16,PJ$17,$F23)","v":true},{"$f":"Find_Month(PK$16,PK$17,$F23)","v":false},{"$f":"Find_Month(PL$16,PL$17,$F23)","v":false},{"$f":"Find_Month(PM$16,PM$17,$F23)","v":false},{"$f":"Find_Month(PN$16,PN$17,$F23)","v":false},{"$f":"Find_Month(PO$16,PO$17,$F23)","v":false},{"$f":"Find_Month(PP$16,PP$17,$F23)","v":false},{"$f":"Find_Month(PQ$16,PQ$17,$F23)","v":false},{"$f":"Find_Month(PR$16,PR$17,$F23)","v":false},{"$f":"Find_Month(PS$16,PS$17,$F23)","v":false},{"$f":"Find_Month(PT$16,PT$17,$F23)","v":false},{"$f":"Find_Month(PU$16,PU$17,$F23)","v":false},{"$f":"Find_Month(PV$16,PV$17,$F23)","v":true},{"$f":"Find_Month(PW$16,PW$17,$F23)","v":false},{"$f":"Find_Month(PX$16,PX$17,$F23)","v":false},{"$f":"Find_Month(PY$16,PY$17,$F23)","v":false},{"$f":"Find_Month(PZ$16,PZ$17,$F23)","v":false},{"$f":"Find_Month(QA$16,QA$17,$F23)","v":false},{"$f":"Find_Month(QB$16,QB$17,$F23)","v":false},{"$f":"Find_Month(QC$16,QC$17,$F23)","v":false},{"$f":"Find_Month(QD$16,QD$17,$F23)","v":false},{"$f":"Find_Month(QE$16,QE$17,$F23)","v":false},{"$f":"Find_Month(QF$16,QF$17,$F23)","v":false},{"$f":"Find_Month(QG$16,QG$17,$F23)","v":false},{"$f":"Find_Month(QH$16,QH$17,$F23)","v":true},{"$f":"Find_Month(QI$16,QI$17,$F23)","v":false},{"$f":"Find_Month(QJ$16,QJ$17,$F23)","v":false},{"$f":"Find_Month(QK$16,QK$17,$F23)","v":false},{"$f":"Find_Month(QL$16,QL$17,$F23)","v":false},{"$f":"Find_Month(QM$16,QM$17,$F23)","v":false},{"$f":"Find_Month(QN$16,QN$17,$F23)","v":false},{"$f":"Find_Month(QO$16,QO$17,$F23)","v":false},{"$f":"Find_Month(QP$16,QP$17,$F23)","v":false},{"$f":"Find_Month(QQ$16,QQ$17,$F23)","v":false},{"$f":"Find_Month(QR$16,QR$17,$F23)","v":false},{"$f":"Find_Month(QS$16,QS$17,$F23)","v":false},{"$f":"Find_Month(QT$16,QT$17,$F23)","v":true},{"$f":"Find_Month(QU$16,QU$17,$F23)","v":false},{"$f":"Find_Month(QV$16,QV$17,$F23)","v":false},{"$f":"Find_Month(QW$16,QW$17,$F23)","v":false},{"$f":"Find_Month(QX$16,QX$17,$F23)","v":false},{"$f":"Find_Month(QY$16,QY$17,$F23)","v":false},{"$f":"Find_Month(QZ$16,QZ$17,$F23)","v":false},{"$f":"Find_Month(RA$16,RA$17,$F23)","v":false},{"$f":"Find_Month(RB$16,RB$17,$F23)","v":false},{"$f":"Find_Month(RC$16,RC$17,$F23)","v":false},{"$f":"Find_Month(RD$16,RD$17,$F23)","v":false},{"$f":"Find_Month(RE$16,RE$17,$F23)","v":false},{"$f":"Find_Month(RF$16,RF$17,$F23)","v":true},{"$f":"Find_Month(RG$16,RG$17,$F23)","v":false},{"$f":"Find_Month(RH$16,RH$17,$F23)","v":false},{"$f":"Find_Month(RI$16,RI$17,$F23)","v":false},{"$f":"Find_Month(RJ$16,RJ$17,$F23)","v":false},{"$f":"Find_Month(RK$16,RK$17,$F23)","v":false},{"$f":"Find_Month(RL$16,RL$17,$F23)","v":false},{"$f":"Find_Month(RM$16,RM$17,$F23)","v":false},{"$f":"Find_Month(RN$16,RN$17,$F23)","v":false},{"$f":"Find_Month(RO$16,RO$17,$F23)","v":false},{"$f":"Find_Month(RP$16,RP$17,$F23)","v":false},{"$f":"Find_Month(RQ$16,RQ$17,$F23)","v":false},{"$f":"Find_Month(RR$16,RR$17,$F23)","v":true},{"$f":"Find_Month(RS$16,RS$17,$F23)","v":false},{"$f":"Find_Month(RT$16,RT$17,$F23)","v":false},{"$f":"Find_Month(RU$16,RU$17,$F23)","v":false},{"$f":"Find_Month(RV$16,RV$17,$F23)","v":false},{"$f":"Find_Month(RW$16,RW$17,$F23)","v":false},{"$f":"Find_Month(RX$16,RX$17,$F23)","v":false},{"$f":"Find_Month(RY$16,RY$17,$F23)","v":false},{"$f":"Find_Month(RZ$16,RZ$17,$F23)","v":false},{"$f":"Find_Month(SA$16,SA$17,$F23)","v":false},{"$f":"Find_Month(SB$16,SB$17,$F23)","v":false},{"$f":"Find_Month(SC$16,SC$17,$F23)","v":false},{"$f":"Find_Month(SD$16,SD$17,$F23)","v":true},{"$f":"Find_Month(SE$16,SE$17,$F23)","v":false},{"$f":"Find_Month(SF$16,SF$17,$F23)","v":false},{"$f":"Find_Month(SG$16,SG$17,$F23)","v":false},{"$f":"Find_Month(SH$16,SH$17,$F23)","v":false},{"$f":"Find_Month(SI$16,SI$17,$F23)","v":false},{"$f":"Find_Month(SJ$16,SJ$17,$F23)","v":false},{"$f":"Find_Month(SK$16,SK$17,$F23)","v":false},{"$f":"Find_Month(SL$16,SL$17,$F23)","v":false},{"$f":"Find_Month(SM$16,SM$17,$F23)","v":false},{"$f":"Find_Month(SN$16,SN$17,$F23)","v":false},{"$f":"Find_Month(SO$16,SO$17,$F23)","v":false},{"$f":"Find_Month(SP$16,SP$17,$F23)","v":true},{"$f":"Find_Month(SQ$16,SQ$17,$F23)","v":false},{"$f":"Find_Month(SR$16,SR$17,$F23)","v":false},{"$f":"Find_Month(SS$16,SS$17,$F23)","v":false},{"$f":"Find_Month(ST$16,ST$17,$F23)","v":false},{"$f":"Find_Month(SU$16,SU$17,$F23)","v":false},{"$f":"Find_Month(SV$16,SV$17,$F23)","v":false},{"$f":"Find_Month(SW$16,SW$17,$F23)","v":false},{"$f":"Find_Month(SX$16,SX$17,$F23)","v":false},{"$f":"Find_Month(SY$16,SY$17,$F23)","v":false},{"$f":"Find_Month(SZ$16,SZ$17,$F23)","v":false},{"$f":"Find_Month(TA$16,TA$17,$F23)","v":false},{"$f":"Find_Month(TB$16,TB$17,$F23)","v":true},{"$f":"Find_Month(TC$16,TC$17,$F23)","v":false},{"$f":"Find_Month(TD$16,TD$17,$F23)","v":false},{"$f":"Find_Month(TE$16,TE$17,$F23)","v":false},{"$f":"Find_Month(TF$16,TF$17,$F23)","v":false},{"$f":"Find_Month(TG$16,TG$17,$F23)","v":false},{"$f":"Find_Month(TH$16,TH$17,$F23)","v":false},{"$f":"Find_Month(TI$16,TI$17,$F23)","v":false},{"$f":"Find_Month(TJ$16,TJ$17,$F23)","v":false},{"$f":"Find_Month(TK$16,TK$17,$F23)","v":false},{"$f":"Find_Month(TL$16,TL$17,$F23)","v":false},{"$f":"Find_Month(TM$16,TM$17,$F23)","v":false},{"$f":"Find_Month(TN$16,TN$17,$F23)","v":true},{"$f":"Find_Month(TO$16,TO$17,$F23)","v":false},{"$f":"Find_Month(TP$16,TP$17,$F23)","v":false},{"$f":"Find_Month(TQ$16,TQ$17,$F23)","v":false},{"$f":"Find_Month(TR$16,TR$17,$F23)","v":false},{"$f":"Find_Month(TS$16,TS$17,$F23)","v":false},{"$f":"Find_Month(TT$16,TT$17,$F23)","v":false},{"$f":"Find_Month(TU$16,TU$17,$F23)","v":false},{"$f":"Find_Month(TV$16,TV$17,$F23)","v":false},{"$f":"Find_Month(TW$16,TW$17,$F23)","v":false},{"$f":"Find_Month(TX$16,TX$17,$F23)","v":false},{"$f":"Find_Month(TY$16,TY$17,$F23)","v":false},{"$f":"Find_Month(TZ$16,TZ$17,$F23)","v":true},{"$f":"Find_Month(UA$16,UA$17,$F23)","v":false},{"$f":"Find_Month(UB$16,UB$17,$F23)","v":false},{"$f":"Find_Month(UC$16,UC$17,$F23)","v":false},{"$f":"Find_Month(UD$16,UD$17,$F23)","v":false},{"$f":"Find_Month(UE$16,UE$17,$F23)","v":false},{"$f":"Find_Month(UF$16,UF$17,$F23)","v":false},{"$f":"Find_Month(UG$16,UG$17,$F23)","v":false},{"$f":"Find_Month(UH$16,UH$17,$F23)","v":false},{"$f":"Find_Month(UI$16,UI$17,$F23)","v":false},{"$f":"Find_Month(UJ$16,UJ$17,$F23)","v":false},{"$f":"Find_Month(UK$16,UK$17,$F23)","v":false},{"$f":"Find_Month(UL$16,UL$17,$F23)","v":true},{"$f":"Find_Month(UM$16,UM$17,$F23)","v":false}]
[null,null,null,null,null,5,null,0.09,null,{"$f":"Find_Month(J$16,J$17,$F24)","v":false},{"$f":"Find_Month(K$16,K$17,$F24)","v":false},{"$f":"Find_Month(L$16,L$17,$F24)","v":false},{"$f":"Find_Month(M$16,M$17,$F24)","v":false},{"$f":"Find_Month(N$16,N$17,$F24)","v":false},{"$f":"Find_Month(O$16,O$17,$F24)","v":false},{"$f":"Find_Month(P$16,P$17,$F24)","v":false},{"$f":"Find_Month(Q$16,Q$17,$F24)","v":false},{"$f":"Find_Month(R$16,R$17,$F24)","v":false},{"$f":"Find_Month(S$16,S$17,$F24)","v":true},{"$f":"Find_Month(T$16,T$17,$F24)","v":false},{"$f":"Find_Month(U$16,U$17,$F24)","v":false},{"$f":"Find_Month(V$16,V$17,$F24)","v":false},{"$f":"Find_Month(W$16,W$17,$F24)","v":false},{"$f":"Find_Month(X$16,X$17,$F24)","v":false},{"$f":"Find_Month(Y$16,Y$17,$F24)","v":false},{"$f":"Find_Month(Z$16,Z$17,$F24)","v":false},{"$f":"Find_Month(AA$16,AA$17,$F24)","v":false},{"$f":"Find_Month(AB$16,AB$17,$F24)","v":false},{"$f":"Find_Month(AC$16,AC$17,$F24)","v":false},{"$f":"Find_Month(AD$16,AD$17,$F24)","v":false},{"$f":"Find_Month(AE$16,AE$17,$F24)","v":true},{"$f":"Find_Month(AF$16,AF$17,$F24)","v":false},{"$f":"Find_Month(AG$16,AG$17,$F24)","v":false},{"$f":"Find_Month(AH$16,AH$17,$F24)","v":false},{"$f":"Find_Month(AI$16,AI$17,$F24)","v":false},{"$f":"Find_Month(AJ$16,AJ$17,$F24)","v":false},{"$f":"Find_Month(AK$16,AK$17,$F24)","v":false},{"$f":"Find_Month(AL$16,AL$17,$F24)","v":false},{"$f":"Find_Month(AM$16,AM$17,$F24)","v":false},{"$f":"Find_Month(AN$16,AN$17,$F24)","v":false},{"$f":"Find_Month(AO$16,AO$17,$F24)","v":false},{"$f":"Find_Month(AP$16,AP$17,$F24)","v":false},{"$f":"Find_Month(AQ$16,AQ$17,$F24)","v":true},{"$f":"Find_Month(AR$16,AR$17,$F24)","v":false},{"$f":"Find_Month(AS$16,AS$17,$F24)","v":false},{"$f":"Find_Month(AT$16,AT$17,$F24)","v":false},{"$f":"Find_Month(AU$16,AU$17,$F24)","v":false},{"$f":"Find_Month(AV$16,AV$17,$F24)","v":false},{"$f":"Find_Month(AW$16,AW$17,$F24)","v":false},{"$f":"Find_Month(AX$16,AX$17,$F24)","v":false},{"$f":"Find_Month(AY$16,AY$17,$F24)","v":false},{"$f":"Find_Month(AZ$16,AZ$17,$F24)","v":false},{"$f":"Find_Month(BA$16,BA$17,$F24)","v":false},{"$f":"Find_Month(BB$16,BB$17,$F24)","v":false},{"$f":"Find_Month(BC$16,BC$17,$F24)","v":true},{"$f":"Find_Month(BD$16,BD$17,$F24)","v":false},{"$f":"Find_Month(BE$16,BE$17,$F24)","v":false},{"$f":"Find_Month(BF$16,BF$17,$F24)","v":false},{"$f":"Find_Month(BG$16,BG$17,$F24)","v":false},{"$f":"Find_Month(BH$16,BH$17,$F24)","v":false},{"$f":"Find_Month(BI$16,BI$17,$F24)","v":false},{"$f":"Find_Month(BJ$16,BJ$17,$F24)","v":false},{"$f":"Find_Month(BK$16,BK$17,$F24)","v":false},{"$f":"Find_Month(BL$16,BL$17,$F24)","v":false},{"$f":"Find_Month(BM$16,BM$17,$F24)","v":false},{"$f":"Find_Month(BN$16,BN$17,$F24)","v":false},{"$f":"Find_Month(BO$16,BO$17,$F24)","v":true},{"$f":"Find_Month(BP$16,BP$17,$F24)","v":false},{"$f":"Find_Month(BQ$16,BQ$17,$F24)","v":false},{"$f":"Find_Month(BR$16,BR$17,$F24)","v":false},{"$f":"Find_Month(BS$16,BS$17,$F24)","v":false},{"$f":"Find_Month(BT$16,BT$17,$F24)","v":false},{"$f":"Find_Month(BU$16,BU$17,$F24)","v":false},{"$f":"Find_Month(BV$16,BV$17,$F24)","v":false},{"$f":"Find_Month(BW$16,BW$17,$F24)","v":false},{"$f":"Find_Month(BX$16,BX$17,$F24)","v":false},{"$f":"Find_Month(BY$16,BY$17,$F24)","v":false},{"$f":"Find_Month(BZ$16,BZ$17,$F24)","v":false},{"$f":"Find_Month(CA$16,CA$17,$F24)","v":true},{"$f":"Find_Month(CB$16,CB$17,$F24)","v":false},{"$f":"Find_Month(CC$16,CC$17,$F24)","v":false},{"$f":"Find_Month(CD$16,CD$17,$F24)","v":false},{"$f":"Find_Month(CE$16,CE$17,$F24)","v":false},{"$f":"Find_Month(CF$16,CF$17,$F24)","v":false},{"$f":"Find_Month(CG$16,CG$17,$F24)","v":false},{"$f":"Find_Month(CH$16,CH$17,$F24)","v":false},{"$f":"Find_Month(CI$16,CI$17,$F24)","v":false},{"$f":"Find_Month(CJ$16,CJ$17,$F24)","v":false},{"$f":"Find_Month(CK$16,CK$17,$F24)","v":false},{"$f":"Find_Month(CL$16,CL$17,$F24)","v":false},{"$f":"Find_Month(CM$16,CM$17,$F24)","v":true},{"$f":"Find_Month(CN$16,CN$17,$F24)","v":false},{"$f":"Find_Month(CO$16,CO$17,$F24)","v":false},{"$f":"Find_Month(CP$16,CP$17,$F24)","v":false},{"$f":"Find_Month(CQ$16,CQ$17,$F24)","v":false},{"$f":"Find_Month(CR$16,CR$17,$F24)","v":false},{"$f":"Find_Month(CS$16,CS$17,$F24)","v":false},{"$f":"Find_Month(CT$16,CT$17,$F24)","v":false},{"$f":"Find_Month(CU$16,CU$17,$F24)","v":false},{"$f":"Find_Month(CV$16,CV$17,$F24)","v":false},{"$f":"Find_Month(CW$16,CW$17,$F24)","v":false},{"$f":"Find_Month(CX$16,CX$17,$F24)","v":false},{"$f":"Find_Month(CY$16,CY$17,$F24)","v":true},{"$f":"Find_Month(CZ$16,CZ$17,$F24)","v":false},{"$f":"Find_Month(DA$16,DA$17,$F24)","v":false},{"$f":"Find_Month(DB$16,DB$17,$F24)","v":false},{"$f":"Find_Month(DC$16,DC$17,$F24)","v":false},{"$f":"Find_Month(DD$16,DD$17,$F24)","v":false},{"$f":"Find_Month(DE$16,DE$17,$F24)","v":false},{"$f":"Find_Month(DF$16,DF$17,$F24)","v":false},{"$f":"Find_Month(DG$16,DG$17,$F24)","v":false},{"$f":"Find_Month(DH$16,DH$17,$F24)","v":false},{"$f":"Find_Month(DI$16,DI$17,$F24)","v":false},{"$f":"Find_Month(DJ$16,DJ$17,$F24)","v":false},{"$f":"Find_Month(DK$16,DK$17,$F24)","v":true},{"$f":"Find_Month(DL$16,DL$17,$F24)","v":false},{"$f":"Find_Month(DM$16,DM$17,$F24)","v":false},{"$f":"Find_Month(DN$16,DN$17,$F24)","v":false},{"$f":"Find_Month(DO$16,DO$17,$F24)","v":false},{"$f":"Find_Month(DP$16,DP$17,$F24)","v":false},{"$f":"Find_Month(DQ$16,DQ$17,$F24)","v":false},{"$f":"Find_Month(DR$16,DR$17,$F24)","v":false},{"$f":"Find_Month(DS$16,DS$17,$F24)","v":false},{"$f":"Find_Month(DT$16,DT$17,$F24)","v":false},{"$f":"Find_Month(DU$16,DU$17,$F24)","v":false},{"$f":"Find_Month(DV$16,DV$17,$F24)","v":false},{"$f":"Find_Month(DW$16,DW$17,$F24)","v":true},{"$f":"Find_Month(DX$16,DX$17,$F24)","v":false},{"$f":"Find_Month(DY$16,DY$17,$F24)","v":false},{"$f":"Find_Month(DZ$16,DZ$17,$F24)","v":false},{"$f":"Find_Month(EA$16,EA$17,$F24)","v":false},{"$f":"Find_Month(EB$16,EB$17,$F24)","v":false},{"$f":"Find_Month(EC$16,EC$17,$F24)","v":false},{"$f":"Find_Month(ED$16,ED$17,$F24)","v":false},{"$f":"Find_Month(EE$16,EE$17,$F24)","v":false},{"$f":"Find_Month(EF$16,EF$17,$F24)","v":false},{"$f":"Find_Month(EG$16,EG$17,$F24)","v":false},{"$f":"Find_Month(EH$16,EH$17,$F24)","v":false},{"$f":"Find_Month(EI$16,EI$17,$F24)","v":true},{"$f":"Find_Month(EJ$16,EJ$17,$F24)","v":false},{"$f":"Find_Month(EK$16,EK$17,$F24)","v":false},{"$f":"Find_Month(EL$16,EL$17,$F24)","v":false},{"$f":"Find_Month(EM$16,EM$17,$F24)","v":false},{"$f":"Find_Month(EN$16,EN$17,$F24)","v":false},{"$f":"Find_Month(EO$16,EO$17,$F24)","v":false},{"$f":"Find_Month(EP$16,EP$17,$F24)","v":false},{"$f":"Find_Month(EQ$16,EQ$17,$F24)","v":false},{"$f":"Find_Month(ER$16,ER$17,$F24)","v":false},{"$f":"Find_Month(ES$16,ES$17,$F24)","v":false},{"$f":"Find_Month(ET$16,ET$17,$F24)","v":false},{"$f":"Find_Month(EU$16,EU$17,$F24)","v":true},{"$f":"Find_Month(EV$16,EV$17,$F24)","v":false},{"$f":"Find_Month(EW$16,EW$17,$F24)","v":false},{"$f":"Find_Month(EX$16,EX$17,$F24)","v":false},{"$f":"Find_Month(EY$16,EY$17,$F24)","v":false},{"$f":"Find_Month(EZ$16,EZ$17,$F24)","v":false},{"$f":"Find_Month(FA$16,FA$17,$F24)","v":false},{"$f":"Find_Month(FB$16,FB$17,$F24)","v":false},{"$f":"Find_Month(FC$16,FC$17,$F24)","v":false},{"$f":"Find_Month(FD$16,FD$17,$F24)","v":false},{"$f":"Find_Month(FE$16,FE$17,$F24)","v":false},{"$f":"Find_Month(FF$16,FF$17,$F24)","v":false},{"$f":"Find_Month(FG$16,FG$17,$F24)","v":true},{"$f":"Find_Month(FH$16,FH$17,$F24)","v":false},{"$f":"Find_Month(FI$16,FI$17,$F24)","v":false},{"$f":"Find_Month(FJ$16,FJ$17,$F24)","v":false},{"$f":"Find_Month(FK$16,FK$17,$F24)","v":false},{"$f":"Find_Month(FL$16,FL$17,$F24)","v":false},{"$f":"Find_Month(FM$16,FM$17,$F24)","v":false},{"$f":"Find_Month(FN$16,FN$17,$F24)","v":false},{"$f":"Find_Month(FO$16,FO$17,$F24)","v":false},{"$f":"Find_Month(FP$16,FP$17,$F24)","v":false},{"$f":"Find_Month(FQ$16,FQ$17,$F24)","v":false},{"$f":"Find_Month(FR$16,FR$17,$F24)","v":false},{"$f":"Find_Month(FS$16,FS$17,$F24)","v":true},{"$f":"Find_Month(FT$16,FT$17,$F24)","v":false},{"$f":"Find_Month(FU$16,FU$17,$F24)","v":false},{"$f":"Find_Month(FV$16,FV$17,$F24)","v":false},{"$f":"Find_Month(FW$16,FW$17,$F24)","v":false},{"$f":"Find_Month(FX$16,FX$17,$F24)","v":false},{"$f":"Find_Month(FY$16,FY$17,$F24)","v":false},{"$f":"Find_Month(FZ$16,FZ$17,$F24)","v":false},{"$f":"Find_Month(GA$16,GA$17,$F24)","v":false},{"$f":"Find_Month(GB$16,GB$17,$F24)","v":false},{"$f":"Find_Month(GC$16,GC$17,$F24)","v":false},{"$f":"Find_Month(GD$16,GD$17,$F24)","v":false},{"$f":"Find_Month(GE$16,GE$17,$F24)","v":true},{"$f":"Find_Month(GF$16,GF$17,$F24)","v":false},{"$f":"Find_Month(GG$16,GG$17,$F24)","v":false},{"$f":"Find_Month(GH$16,GH$17,$F24)","v":false},{"$f":"Find_Month(GI$16,GI$17,$F24)","v":false},{"$f":"Find_Month(GJ$16,GJ$17,$F24)","v":false},{"$f":"Find_Month(GK$16,GK$17,$F24)","v":false},{"$f":"Find_Month(GL$16,GL$17,$F24)","v":false},{"$f":"Find_Month(GM$16,GM$17,$F24)","v":false},{"$f":"Find_Month(GN$16,GN$17,$F24)","v":false},{"$f":"Find_Month(GO$16,GO$17,$F24)","v":false},{"$f":"Find_Month(GP$16,GP$17,$F24)","v":false},{"$f":"Find_Month(GQ$16,GQ$17,$F24)","v":true},{"$f":"Find_Month(GR$16,GR$17,$F24)","v":false},{"$f":"Find_Month(GS$16,GS$17,$F24)","v":false},{"$f":"Find_Month(GT$16,GT$17,$F24)","v":false},{"$f":"Find_Month(GU$16,GU$17,$F24)","v":false},{"$f":"Find_Month(GV$16,GV$17,$F24)","v":false},{"$f":"Find_Month(GW$16,GW$17,$F24)","v":false},{"$f":"Find_Month(GX$16,GX$17,$F24)","v":false},{"$f":"Find_Month(GY$16,GY$17,$F24)","v":false},{"$f":"Find_Month(GZ$16,GZ$17,$F24)","v":false},{"$f":"Find_Month(HA$16,HA$17,$F24)","v":false},{"$f":"Find_Month(HB$16,HB$17,$F24)","v":false},{"$f":"Find_Month(HC$16,HC$17,$F24)","v":true},{"$f":"Find_Month(HD$16,HD$17,$F24)","v":false},{"$f":"Find_Month(HE$16,HE$17,$F24)","v":false},{"$f":"Find_Month(HF$16,HF$17,$F24)","v":false},{"$f":"Find_Month(HG$16,HG$17,$F24)","v":false},{"$f":"Find_Month(HH$16,HH$17,$F24)","v":false},{"$f":"Find_Month(HI$16,HI$17,$F24)","v":false},{"$f":"Find_Month(HJ$16,HJ$17,$F24)","v":false},{"$f":"Find_Month(HK$16,HK$17,$F24)","v":false},{"$f":"Find_Month(HL$16,HL$17,$F24)","v":false},{"$f":"Find_Month(HM$16,HM$17,$F24)","v":false},{"$f":"Find_Month(HN$16,HN$17,$F24)","v":false},{"$f":"Find_Month(HO$16,HO$17,$F24)","v":true},{"$f":"Find_Month(HP$16,HP$17,$F24)","v":false},{"$f":"Find_Month(HQ$16,HQ$17,$F24)","v":false},{"$f":"Find_Month(HR$16,HR$17,$F24)","v":false},{"$f":"Find_Month(HS$16,HS$17,$F24)","v":false},{"$f":"Find_Month(HT$16,HT$17,$F24)","v":false},{"$f":"Find_Month(HU$16,HU$17,$F24)","v":false},{"$f":"Find_Month(HV$16,HV$17,$F24)","v":false},{"$f":"Find_Month(HW$16,HW$17,$F24)","v":false},{"$f":"Find_Month(HX$16,HX$17,$F24)","v":false},{"$f":"Find_Month(HY$16,HY$17,$F24)","v":false},{"$f":"Find_Month(HZ$16,HZ$17,$F24)","v":false},{"$f":"Find_Month(IA$16,IA$17,$F24)","v":true},{"$f":"Find_Month(IB$16,IB$17,$F24)","v":false},{"$f":"Find_Month(IC$16,IC$17,$F24)","v":false},{"$f":"Find_Month(ID$16,ID$17,$F24)","v":false},{"$f":"Find_Month(IE$16,IE$17,$F24)","v":false},{"$f":"Find_Month(IF$16,IF$17,$F24)","v":false},{"$f":"Find_Month(IG$16,IG$17,$F24)","v":false},{"$f":"Find_Month(IH$16,IH$17,$F24)","v":false},{"$f":"Find_Month(II$16,II$17,$F24)","v":false},{"$f":"Find_Month(IJ$16,IJ$17,$F24)","v":false},{"$f":"Find_Month(IK$16,IK$17,$F24)","v":false},{"$f":"Find_Month(IL$16,IL$17,$F24)","v":false},{"$f":"Find_Month(IM$16,IM$17,$F24)","v":true},{"$f":"Find_Month(IN$16,IN$17,$F24)","v":false},{"$f":"Find_Month(IO$16,IO$17,$F24)","v":false},{"$f":"Find_Month(IP$16,IP$17,$F24)","v":false},{"$f":"Find_Month(IQ$16,IQ$17,$F24)","v":false},{"$f":"Find_Month(IR$16,IR$17,$F24)","v":false},{"$f":"Find_Month(IS$16,IS$17,$F24)","v":false},{"$f":"Find_Month(IT$16,IT$17,$F24)","v":false},{"$f":"Find_Month(IU$16,IU$17,$F24)","v":false},{"$f":"Find_Month(IV$16,IV$17,$F24)","v":false},{"$f":"Find_Month(IW$16,IW$17,$F24)","v":false},{"$f":"Find_Month(IX$16,IX$17,$F24)","v":false},{"$f":"Find_Month(IY$16,IY$17,$F24)","v":true},{"$f":"Find_Month(IZ$16,IZ$17,$F24)","v":false},{"$f":"Find_Month(JA$16,JA$17,$F24)","v":false},{"$f":"Find_Month(JB$16,JB$17,$F24)","v":false},{"$f":"Find_Month(JC$16,JC$17,$F24)","v":false},{"$f":"Find_Month(JD$16,JD$17,$F24)","v":false},{"$f":"Find_Month(JE$16,JE$17,$F24)","v":false},{"$f":"Find_Month(JF$16,JF$17,$F24)","v":false},{"$f":"Find_Month(JG$16,JG$17,$F24)","v":false},{"$f":"Find_Month(JH$16,JH$17,$F24)","v":false},{"$f":"Find_Month(JI$16,JI$17,$F24)","v":false},{"$f":"Find_Month(JJ$16,JJ$17,$F24)","v":false},{"$f":"Find_Month(JK$16,JK$17,$F24)","v":true},{"$f":"Find_Month(JL$16,JL$17,$F24)","v":false},{"$f":"Find_Month(JM$16,JM$17,$F24)","v":false},{"$f":"Find_Month(JN$16,JN$17,$F24)","v":false},{"$f":"Find_Month(JO$16,JO$17,$F24)","v":false},{"$f":"Find_Month(JP$16,JP$17,$F24)","v":false},{"$f":"Find_Month(JQ$16,JQ$17,$F24)","v":false},{"$f":"Find_Month(JR$16,JR$17,$F24)","v":false},{"$f":"Find_Month(JS$16,JS$17,$F24)","v":false},{"$f":"Find_Month(JT$16,JT$17,$F24)","v":false},{"$f":"Find_Month(JU$16,JU$17,$F24)","v":false},{"$f":"Find_Month(JV$16,JV$17,$F24)","v":false},{"$f":"Find_Month(JW$16,JW$17,$F24)","v":true},{"$f":"Find_Month(JX$16,JX$17,$F24)","v":false},{"$f":"Find_Month(JY$16,JY$17,$F24)","v":false},{"$f":"Find_Month(JZ$16,JZ$17,$F24)","v":false},{"$f":"Find_Month(KA$16,KA$17,$F24)","v":false},{"$f":"Find_Month(KB$16,KB$17,$F24)","v":false},{"$f":"Find_Month(KC$16,KC$17,$F24)","v":false},{"$f":"Find_Month(KD$16,KD$17,$F24)","v":false},{"$f":"Find_Month(KE$16,KE$17,$F24)","v":false},{"$f":"Find_Month(KF$16,KF$17,$F24)","v":false},{"$f":"Find_Month(KG$16,KG$17,$F24)","v":false},{"$f":"Find_Month(KH$16,KH$17,$F24)","v":false},{"$f":"Find_Month(KI$16,KI$17,$F24)","v":true},{"$f":"Find_Month(KJ$16,KJ$17,$F24)","v":false},{"$f":"Find_Month(KK$16,KK$17,$F24)","v":false},{"$f":"Find_Month(KL$16,KL$17,$F24)","v":false},{"$f":"Find_Month(KM$16,KM$17,$F24)","v":false},{"$f":"Find_Month(KN$16,KN$17,$F24)","v":false},{"$f":"Find_Month(KO$16,KO$17,$F24)","v":false},{"$f":"Find_Month(KP$16,KP$17,$F24)","v":false},{"$f":"Find_Month(KQ$16,KQ$17,$F24)","v":false},{"$f":"Find_Month(KR$16,KR$17,$F24)","v":false},{"$f":"Find_Month(KS$16,KS$17,$F24)","v":false},{"$f":"Find_Month(KT$16,KT$17,$F24)","v":false},{"$f":"Find_Month(KU$16,KU$17,$F24)","v":true},{"$f":"Find_Month(KV$16,KV$17,$F24)","v":false},{"$f":"Find_Month(KW$16,KW$17,$F24)","v":false},{"$f":"Find_Month(KX$16,KX$17,$F24)","v":false},{"$f":"Find_Month(KY$16,KY$17,$F24)","v":false},{"$f":"Find_Month(KZ$16,KZ$17,$F24)","v":false},{"$f":"Find_Month(LA$16,LA$17,$F24)","v":false},{"$f":"Find_Month(LB$16,LB$17,$F24)","v":false},{"$f":"Find_Month(LC$16,LC$17,$F24)","v":false},{"$f":"Find_Month(LD$16,LD$17,$F24)","v":false},{"$f":"Find_Month(LE$16,LE$17,$F24)","v":false},{"$f":"Find_Month(LF$16,LF$17,$F24)","v":false},{"$f":"Find_Month(LG$16,LG$17,$F24)","v":true},{"$f":"Find_Month(LH$16,LH$17,$F24)","v":false},{"$f":"Find_Month(LI$16,LI$17,$F24)","v":false},{"$f":"Find_Month(LJ$16,LJ$17,$F24)","v":false},{"$f":"Find_Month(LK$16,LK$17,$F24)","v":false},{"$f":"Find_Month(LL$16,LL$17,$F24)","v":false},{"$f":"Find_Month(LM$16,LM$17,$F24)","v":false},{"$f":"Find_Month(LN$16,LN$17,$F24)","v":false},{"$f":"Find_Month(LO$16,LO$17,$F24)","v":false},{"$f":"Find_Month(LP$16,LP$17,$F24)","v":false},{"$f":"Find_Month(LQ$16,LQ$17,$F24)","v":false},{"$f":"Find_Month(LR$16,LR$17,$F24)","v":false},{"$f":"Find_Month(LS$16,LS$17,$F24)","v":true},{"$f":"Find_Month(LT$16,LT$17,$F24)","v":false},{"$f":"Find_Month(LU$16,LU$17,$F24)","v":false},{"$f":"Find_Month(LV$16,LV$17,$F24)","v":false},{"$f":"Find_Month(LW$16,LW$17,$F24)","v":false},{"$f":"Find_Month(LX$16,LX$17,$F24)","v":false},{"$f":"Find_Month(LY$16,LY$17,$F24)","v":false},{"$f":"Find_Month(LZ$16,LZ$17,$F24)","v":false},{"$f":"Find_Month(MA$16,MA$17,$F24)","v":false},{"$f":"Find_Month(MB$16,MB$17,$F24)","v":false},{"$f":"Find_Month(MC$16,MC$17,$F24)","v":false},{"$f":"Find_Month(MD$16,MD$17,$F24)","v":false},{"$f":"Find_Month(ME$16,ME$17,$F24)","v":true},{"$f":"Find_Month(MF$16,MF$17,$F24)","v":false},{"$f":"Find_Month(MG$16,MG$17,$F24)","v":false},{"$f":"Find_Month(MH$16,MH$17,$F24)","v":false},{"$f":"Find_Month(MI$16,MI$17,$F24)","v":false},{"$f":"Find_Month(MJ$16,MJ$17,$F24)","v":false},{"$f":"Find_Month(MK$16,MK$17,$F24)","v":false},{"$f":"Find_Month(ML$16,ML$17,$F24)","v":false},{"$f":"Find_Month(MM$16,MM$17,$F24)","v":false},{"$f":"Find_Month(MN$16,MN$17,$F24)","v":false},{"$f":"Find_Month(MO$16,MO$17,$F24)","v":false},{"$f":"Find_Month(MP$16,MP$17,$F24)","v":false},{"$f":"Find_Month(MQ$16,MQ$17,$F24)","v":true},{"$f":"Find_Month(MR$16,MR$17,$F24)","v":false},{"$f":"Find_Month(MS$16,MS$17,$F24)","v":false},{"$f":"Find_Month(MT$16,MT$17,$F24)","v":false},{"$f":"Find_Month(MU$16,MU$17,$F24)","v":false},{"$f":"Find_Month(MV$16,MV$17,$F24)","v":false},{"$f":"Find_Month(MW$16,MW$17,$F24)","v":false},{"$f":"Find_Month(MX$16,MX$17,$F24)","v":false},{"$f":"Find_Month(MY$16,MY$17,$F24)","v":false},{"$f":"Find_Month(MZ$16,MZ$17,$F24)","v":false},{"$f":"Find_Month(NA$16,NA$17,$F24)","v":false},{"$f":"Find_Month(NB$16,NB$17,$F24)","v":false},{"$f":"Find_Month(NC$16,NC$17,$F24)","v":true},{"$f":"Find_Month(ND$16,ND$17,$F24)","v":false},{"$f":"Find_Month(NE$16,NE$17,$F24)","v":false},{"$f":"Find_Month(NF$16,NF$17,$F24)","v":false},{"$f":"Find_Month(NG$16,NG$17,$F24)","v":false},{"$f":"Find_Month(NH$16,NH$17,$F24)","v":false},{"$f":"Find_Month(NI$16,NI$17,$F24)","v":false},{"$f":"Find_Month(NJ$16,NJ$17,$F24)","v":false},{"$f":"Find_Month(NK$16,NK$17,$F24)","v":false},{"$f":"Find_Month(NL$16,NL$17,$F24)","v":false},{"$f":"Find_Month(NM$16,NM$17,$F24)","v":false},{"$f":"Find_Month(NN$16,NN$17,$F24)","v":false},{"$f":"Find_Month(NO$16,NO$17,$F24)","v":true},{"$f":"Find_Month(NP$16,NP$17,$F24)","v":false},{"$f":"Find_Month(NQ$16,NQ$17,$F24)","v":false},{"$f":"Find_Month(NR$16,NR$17,$F24)","v":false},{"$f":"Find_Month(NS$16,NS$17,$F24)","v":false},{"$f":"Find_Month(NT$16,NT$17,$F24)","v":false},{"$f":"Find_Month(NU$16,NU$17,$F24)","v":false},{"$f":"Find_Month(NV$16,NV$17,$F24)","v":false},{"$f":"Find_Month(NW$16,NW$17,$F24)","v":false},{"$f":"Find_Month(NX$16,NX$17,$F24)","v":false},{"$f":"Find_Month(NY$16,NY$17,$F24)","v":false},{"$f":"Find_Month(NZ$16,NZ$17,$F24)","v":false},{"$f":"Find_Month(OA$16,OA$17,$F24)","v":true},{"$f":"Find_Month(OB$16,OB$17,$F24)","v":false},{"$f":"Find_Month(OC$16,OC$17,$F24)","v":false},{"$f":"Find_Month(OD$16,OD$17,$F24)","v":false},{"$f":"Find_Month(OE$16,OE$17,$F24)","v":false},{"$f":"Find_Month(OF$16,OF$17,$F24)","v":false},{"$f":"Find_Month(OG$16,OG$17,$F24)","v":false},{"$f":"Find_Month(OH$16,OH$17,$F24)","v":false},{"$f":"Find_Month(OI$16,OI$17,$F24)","v":false},{"$f":"Find_Month(OJ$16,OJ$17,$F24)","v":false},{"$f":"Find_Month(OK$16,OK$17,$F24)","v":false},{"$f":"Find_Month(OL$16,OL$17,$F24)","v":false},{"$f":"Find_Month(OM$16,OM$17,$F24)","v":true},{"$f":"Find_Month(ON$16,ON$17,$F24)","v":false},{"$f":"Find_Month(OO$16,OO$17,$F24)","v":false},{"$f":"Find_Month(OP$16,OP$17,$F24)","v":false},{"$f":"Find_Month(OQ$16,OQ$17,$F24)","v":false},{"$f":"Find_Month(OR$16,OR$17,$F24)","v":false},{"$f":"Find_Month(OS$16,OS$17,$F24)","v":false},{"$f":"Find_Month(OT$16,OT$17,$F24)","v":false},{"$f":"Find_Month(OU$16,OU$17,$F24)","v":false},{"$f":"Find_Month(OV$16,OV$17,$F24)","v":false},{"$f":"Find_Month(OW$16,OW$17,$F24)","v":false},{"$f":"Find_Month(OX$16,OX$17,$F24)","v":false},{"$f":"Find_Month(OY$16,OY$17,$F24)","v":true},{"$f":"Find_Month(OZ$16,OZ$17,$F24)","v":false},{"$f":"Find_Month(PA$16,PA$17,$F24)","v":false},{"$f":"Find_Month(PB$16,PB$17,$F24)","v":false},{"$f":"Find_Month(PC$16,PC$17,$F24)","v":false},{"$f":"Find_Month(PD$16,PD$17,$F24)","v":false},{"$f":"Find_Month(PE$16,PE$17,$F24)","v":false},{"$f":"Find_Month(PF$16,PF$17,$F24)","v":false},{"$f":"Find_Month(PG$16,PG$17,$F24)","v":false},{"$f":"Find_Month(PH$16,PH$17,$F24)","v":false},{"$f":"Find_Month(PI$16,PI$17,$F24)","v":false},{"$f":"Find_Month(PJ$16,PJ$17,$F24)","v":false},{"$f":"Find_Month(PK$16,PK$17,$F24)","v":true},{"$f":"Find_Month(PL$16,PL$17,$F24)","v":false},{"$f":"Find_Month(PM$16,PM$17,$F24)","v":false},{"$f":"Find_Month(PN$16,PN$17,$F24)","v":false},{"$f":"Find_Month(PO$16,PO$17,$F24)","v":false},{"$f":"Find_Month(PP$16,PP$17,$F24)","v":false},{"$f":"Find_Month(PQ$16,PQ$17,$F24)","v":false},{"$f":"Find_Month(PR$16,PR$17,$F24)","v":false},{"$f":"Find_Month(PS$16,PS$17,$F24)","v":false},{"$f":"Find_Month(PT$16,PT$17,$F24)","v":false},{"$f":"Find_Month(PU$16,PU$17,$F24)","v":false},{"$f":"Find_Month(PV$16,PV$17,$F24)","v":false},{"$f":"Find_Month(PW$16,PW$17,$F24)","v":true},{"$f":"Find_Month(PX$16,PX$17,$F24)","v":false},{"$f":"Find_Month(PY$16,PY$17,$F24)","v":false},{"$f":"Find_Month(PZ$16,PZ$17,$F24)","v":false},{"$f":"Find_Month(QA$16,QA$17,$F24)","v":false},{"$f":"Find_Month(QB$16,QB$17,$F24)","v":false},{"$f":"Find_Month(QC$16,QC$17,$F24)","v":false},{"$f":"Find_Month(QD$16,QD$17,$F24)","v":false},{"$f":"Find_Month(QE$16,QE$17,$F24)","v":false},{"$f":"Find_Month(QF$16,QF$17,$F24)","v":false},{"$f":"Find_Month(QG$16,QG$17,$F24)","v":false},{"$f":"Find_Month(QH$16,QH$17,$F24)","v":false},{"$f":"Find_Month(QI$16,QI$17,$F24)","v":true},{"$f":"Find_Month(QJ$16,QJ$17,$F24)","v":false},{"$f":"Find_Month(QK$16,QK$17,$F24)","v":false},{"$f":"Find_Month(QL$16,QL$17,$F24)","v":false},{"$f":"Find_Month(QM$16,QM$17,$F24)","v":false},{"$f":"Find_Month(QN$16,QN$17,$F24)","v":false},{"$f":"Find_Month(QO$16,QO$17,$F24)","v":false},{"$f":"Find_Month(QP$16,QP$17,$F24)","v":false},{"$f":"Find_Month(QQ$16,QQ$17,$F24)","v":false},{"$f":"Find_Month(QR$16,QR$17,$F24)","v":false},{"$f":"Find_Month(QS$16,QS$17,$F24)","v":false},{"$f":"Find_Month(QT$16,QT$17,$F24)","v":false},{"$f":"Find_Month(QU$16,QU$17,$F24)","v":true},{"$f":"Find_Month(QV$16,QV$17,$F24)","v":false},{"$f":"Find_Month(QW$16,QW$17,$F24)","v":false},{"$f":"Find_Month(QX$16,QX$17,$F24)","v":false},{"$f":"Find_Month(QY$16,QY$17,$F24)","v":false},{"$f":"Find_Month(QZ$16,QZ$17,$F24)","v":false},{"$f":"Find_Month(RA$16,RA$17,$F24)","v":false},{"$f":"Find_Month(RB$16,RB$17,$F24)","v":false},{"$f":"Find_Month(RC$16,RC$17,$F24)","v":false},{"$f":"Find_Month(RD$16,RD$17,$F24)","v":false},{"$f":"Find_Month(RE$16,RE$17,$F24)","v":false},{"$f":"Find_Month(RF$16,RF$17,$F24)","v":false},{"$f":"Find_Month(RG$16,RG$17,$F24)","v":true},{"$f":"Find_Month(RH$16,RH$17,$F24)","v":false},{"$f":"Find_Month(RI$16,RI$17,$F24)","v":false},{"$f":"Find_Month(RJ$16,RJ$17,$F24)","v":false},{"$f":"Find_Month(RK$16,RK$17,$F24)","v":false},{"$f":"Find_Month(RL$16,RL$17,$F24)","v":false},{"$f":"Find_Month(RM$16,RM$17,$F24)","v":false},{"$f":"Find_Month(RN$16,RN$17,$F24)","v":false},{"$f":"Find_Month(RO$16,RO$17,$F24)","v":false},{"$f":"Find_Month(RP$16,RP$17,$F24)","v":false},{"$f":"Find_Month(RQ$16,RQ$17,$F24)","v":false},{"$f":"Find_Month(RR$16,RR$17,$F24)","v":false},{"$f":"Find_Month(RS$16,RS$17,$F24)","v":true},{"$f":"Find_Month(RT$16,RT$17,$F24)","v":false},{"$f":"Find_Month(RU$16,RU$17,$F24)","v":false},{"$f":"Find_Month(RV$16,RV$17,$F24)","v":false},{"$f":"Find_Month(RW$16,RW$17,$F24)","v":false},{"$f":"Find_Month(RX$16,RX$17,$F24)","v":false},{"$f":"Find_Month(RY$16,RY$17,$F24)","v":false},{"$f":"Find_Month(RZ$16,RZ$17,$F24)","v":false},{"$f":"Find_Month(SA$16,SA$17,$F24)","v":false},{"$f":"Find_Month(SB$16,SB$17,$F24)","v":false},{"$f":"Find_Month(SC$16,SC$17,$F24)","v":false},{"$f":"Find_Month(SD$16,SD$17,$F24)","v":false},{"$f":"Find_Month(SE$16,SE$17,$F24)","v":true},{"$f":"Find_Month(SF$16,SF$17,$F24)","v":false},{"$f":"Find_Month(SG$16,SG$17,$F24)","v":false},{"$f":"Find_Month(SH$16,SH$17,$F24)","v":false},{"$f":"Find_Month(SI$16,SI$17,$F24)","v":false},{"$f":"Find_Month(SJ$16,SJ$17,$F24)","v":false},{"$f":"Find_Month(SK$16,SK$17,$F24)","v":false},{"$f":"Find_Month(SL$16,SL$17,$F24)","v":false},{"$f":"Find_Month(SM$16,SM$17,$F24)","v":false},{"$f":"Find_Month(SN$16,SN$17,$F24)","v":false},{"$f":"Find_Month(SO$16,SO$17,$F24)","v":false},{"$f":"Find_Month(SP$16,SP$17,$F24)","v":false},{"$f":"Find_Month(SQ$16,SQ$17,$F24)","v":true},{"$f":"Find_Month(SR$16,SR$17,$F24)","v":false},{"$f":"Find_Month(SS$16,SS$17,$F24)","v":false},{"$f":"Find_Month(ST$16,ST$17,$F24)","v":false},{"$f":"Find_Month(SU$16,SU$17,$F24)","v":false},{"$f":"Find_Month(SV$16,SV$17,$F24)","v":false},{"$f":"Find_Month(SW$16,SW$17,$F24)","v":false},{"$f":"Find_Month(SX$16,SX$17,$F24)","v":false},{"$f":"Find_Month(SY$16,SY$17,$F24)","v":false},{"$f":"Find_Month(SZ$16,SZ$17,$F24)","v":false},{"$f":"Find_Month(TA$16,TA$17,$F24)","v":false},{"$f":"Find_Month(TB$16,TB$17,$F24)","v":false},{"$f":"Find_Month(TC$16,TC$17,$F24)","v":true},{"$f":"Find_Month(TD$16,TD$17,$F24)","v":false},{"$f":"Find_Month(TE$16,TE$17,$F24)","v":false},{"$f":"Find_Month(TF$16,TF$17,$F24)","v":false},{"$f":"Find_Month(TG$16,TG$17,$F24)","v":false},{"$f":"Find_Month(TH$16,TH$17,$F24)","v":false},{"$f":"Find_Month(TI$16,TI$17,$F24)","v":false},{"$f":"Find_Month(TJ$16,TJ$17,$F24)","v":false},{"$f":"Find_Month(TK$16,TK$17,$F24)","v":false},{"$f":"Find_Month(TL$16,TL$17,$F24)","v":false},{"$f":"Find_Month(TM$16,TM$17,$F24)","v":false},{"$f":"Find_Month(TN$16,TN$17,$F24)","v":false},{"$f":"Find_Month(TO$16,TO$17,$F24)","v":true},{"$f":"Find_Month(TP$16,TP$17,$F24)","v":false},{"$f":"Find_Month(TQ$16,TQ$17,$F24)","v":false},{"$f":"Find_Month(TR$16,TR$17,$F24)","v":false},{"$f":"Find_Month(TS$16,TS$17,$F24)","v":false},{"$f":"Find_Month(TT$16,TT$17,$F24)","v":false},{"$f":"Find_Month(TU$16,TU$17,$F24)","v":false},{"$f":"Find_Month(TV$16,TV$17,$F24)","v":false},{"$f":"Find_Month(TW$16,TW$17,$F24)","v":false},{"$f":"Find_Month(TX$16,TX$17,$F24)","v":false},{"$f":"Find_Month(TY$16,TY$17,$F24)","v":false},{"$f":"Find_Month(TZ$16,TZ$17,$F24)","v":false},{"$f":"Find_Month(UA$16,UA$17,$F24)","v":true},{"$f":"Find_Month(UB$16,UB$17,$F24)","v":false},{"$f":"Find_Month(UC$16,UC$17,$F24)","v":false},{"$f":"Find_Month(UD$16,UD$17,$F24)","v":false},{"$f":"Find_Month(UE$16,UE$17,$F24)","v":false},{"$f":"Find_Month(UF$16,UF$17,$F24)","v":false},{"$f":"Find_Month(UG$16,UG$17,$F24)","v":false},{"$f":"Find_Month(UH$16,UH$17,$F24)","v":false},{"$f":"Find_Month(UI$16,UI$17,$F24)","v":false},{"$f":"Find_Month(UJ$16,UJ$17,$F24)","v":false},{"$f":"Find_Month(UK$16,UK$17,$F24)","v":false},{"$f":"Find_Month(UL$16,UL$17,$F24)","v":false},{"$f":"Find_Month(UM$16,UM$17,$F24)","v":true}]
[null,null,null,null,null,6,null,0.125,null,{"$f":"Find_Month(J$16,J$17,$F25)","v":false},{"$f":"Find_Month(K$16,K$17,$F25)","v":false},{"$f":"Find_Month(L$16,L$17,$F25)","v":false},{"$f":"Find_Month(M$16,M$17,$F25)","v":false},{"$f":"Find_Month(N$16,N$17,$F25)","v":false},{"$f":"Find_Month(O$16,O$17,$F25)","v":false},{"$f":"Find_Month(P$16,P$17,$F25)","v":false},{"$f":"Find_Month(Q$16,Q$17,$F25)","v":false},{"$f":"Find_Month(R$16,R$17,$F25)","v":false},{"$f":"Find_Month(S$16,S$17,$F25)","v":false},{"$f":"Find_Month(T$16,T$17,$F25)","v":true},{"$f":"Find_Month(U$16,U$17,$F25)","v":false},{"$f":"Find_Month(V$16,V$17,$F25)","v":false},{"$f":"Find_Month(W$16,W$17,$F25)","v":false},{"$f":"Find_Month(X$16,X$17,$F25)","v":false},{"$f":"Find_Month(Y$16,Y$17,$F25)","v":false},{"$f":"Find_Month(Z$16,Z$17,$F25)","v":false},{"$f":"Find_Month(AA$16,AA$17,$F25)","v":false},{"$f":"Find_Month(AB$16,AB$17,$F25)","v":false},{"$f":"Find_Month(AC$16,AC$17,$F25)","v":false},{"$f":"Find_Month(AD$16,AD$17,$F25)","v":false},{"$f":"Find_Month(AE$16,AE$17,$F25)","v":false},{"$f":"Find_Month(AF$16,AF$17,$F25)","v":true},{"$f":"Find_Month(AG$16,AG$17,$F25)","v":false},{"$f":"Find_Month(AH$16,AH$17,$F25)","v":false},{"$f":"Find_Month(AI$16,AI$17,$F25)","v":false},{"$f":"Find_Month(AJ$16,AJ$17,$F25)","v":false},{"$f":"Find_Month(AK$16,AK$17,$F25)","v":false},{"$f":"Find_Month(AL$16,AL$17,$F25)","v":false},{"$f":"Find_Month(AM$16,AM$17,$F25)","v":false},{"$f":"Find_Month(AN$16,AN$17,$F25)","v":false},{"$f":"Find_Month(AO$16,AO$17,$F25)","v":false},{"$f":"Find_Month(AP$16,AP$17,$F25)","v":false},{"$f":"Find_Month(AQ$16,AQ$17,$F25)","v":false},{"$f":"Find_Month(AR$16,AR$17,$F25)","v":true},{"$f":"Find_Month(AS$16,AS$17,$F25)","v":false},{"$f":"Find_Month(AT$16,AT$17,$F25)","v":false},{"$f":"Find_Month(AU$16,AU$17,$F25)","v":false},{"$f":"Find_Month(AV$16,AV$17,$F25)","v":false},{"$f":"Find_Month(AW$16,AW$17,$F25)","v":false},{"$f":"Find_Month(AX$16,AX$17,$F25)","v":false},{"$f":"Find_Month(AY$16,AY$17,$F25)","v":false},{"$f":"Find_Month(AZ$16,AZ$17,$F25)","v":false},{"$f":"Find_Month(BA$16,BA$17,$F25)","v":false},{"$f":"Find_Month(BB$16,BB$17,$F25)","v":false},{"$f":"Find_Month(BC$16,BC$17,$F25)","v":false},{"$f":"Find_Month(BD$16,BD$17,$F25)","v":true},{"$f":"Find_Month(BE$16,BE$17,$F25)","v":false},{"$f":"Find_Month(BF$16,BF$17,$F25)","v":false},{"$f":"Find_Month(BG$16,BG$17,$F25)","v":false},{"$f":"Find_Month(BH$16,BH$17,$F25)","v":false},{"$f":"Find_Month(BI$16,BI$17,$F25)","v":false},{"$f":"Find_Month(BJ$16,BJ$17,$F25)","v":false},{"$f":"Find_Month(BK$16,BK$17,$F25)","v":false},{"$f":"Find_Month(BL$16,BL$17,$F25)","v":false},{"$f":"Find_Month(BM$16,BM$17,$F25)","v":false},{"$f":"Find_Month(BN$16,BN$17,$F25)","v":false},{"$f":"Find_Month(BO$16,BO$17,$F25)","v":false},{"$f":"Find_Month(BP$16,BP$17,$F25)","v":true},{"$f":"Find_Month(BQ$16,BQ$17,$F25)","v":false},{"$f":"Find_Month(BR$16,BR$17,$F25)","v":false},{"$f":"Find_Month(BS$16,BS$17,$F25)","v":false},{"$f":"Find_Month(BT$16,BT$17,$F25)","v":false},{"$f":"Find_Month(BU$16,BU$17,$F25)","v":false},{"$f":"Find_Month(BV$16,BV$17,$F25)","v":false},{"$f":"Find_Month(BW$16,BW$17,$F25)","v":false},{"$f":"Find_Month(BX$16,BX$17,$F25)","v":false},{"$f":"Find_Month(BY$16,BY$17,$F25)","v":false},{"$f":"Find_Month(BZ$16,BZ$17,$F25)","v":false},{"$f":"Find_Month(CA$16,CA$17,$F25)","v":false},{"$f":"Find_Month(CB$16,CB$17,$F25)","v":true},{"$f":"Find_Month(CC$16,CC$17,$F25)","v":false},{"$f":"Find_Month(CD$16,CD$17,$F25)","v":false},{"$f":"Find_Month(CE$16,CE$17,$F25)","v":false},{"$f":"Find_Month(CF$16,CF$17,$F25)","v":false},{"$f":"Find_Month(CG$16,CG$17,$F25)","v":false},{"$f":"Find_Month(CH$16,CH$17,$F25)","v":false},{"$f":"Find_Month(CI$16,CI$17,$F25)","v":false},{"$f":"Find_Month(CJ$16,CJ$17,$F25)","v":false},{"$f":"Find_Month(CK$16,CK$17,$F25)","v":false},{"$f":"Find_Month(CL$16,CL$17,$F25)","v":false},{"$f":"Find_Month(CM$16,CM$17,$F25)","v":false},{"$f":"Find_Month(CN$16,CN$17,$F25)","v":true},{"$f":"Find_Month(CO$16,CO$17,$F25)","v":false},{"$f":"Find_Month(CP$16,CP$17,$F25)","v":false},{"$f":"Find_Month(CQ$16,CQ$17,$F25)","v":false},{"$f":"Find_Month(CR$16,CR$17,$F25)","v":false},{"$f":"Find_Month(CS$16,CS$17,$F25)","v":false},{"$f":"Find_Month(CT$16,CT$17,$F25)","v":false},{"$f":"Find_Month(CU$16,CU$17,$F25)","v":false},{"$f":"Find_Month(CV$16,CV$17,$F25)","v":false},{"$f":"Find_Month(CW$16,CW$17,$F25)","v":false},{"$f":"Find_Month(CX$16,CX$17,$F25)","v":false},{"$f":"Find_Month(CY$16,CY$17,$F25)","v":false},{"$f":"Find_Month(CZ$16,CZ$17,$F25)","v":true},{"$f":"Find_Month(DA$16,DA$17,$F25)","v":false},{"$f":"Find_Month(DB$16,DB$17,$F25)","v":false},{"$f":"Find_Month(DC$16,DC$17,$F25)","v":false},{"$f":"Find_Month(DD$16,DD$17,$F25)","v":false},{"$f":"Find_Month(DE$16,DE$17,$F25)","v":false},{"$f":"Find_Month(DF$16,DF$17,$F25)","v":false},{"$f":"Find_Month(DG$16,DG$17,$F25)","v":false},{"$f":"Find_Month(DH$16,DH$17,$F25)","v":false},{"$f":"Find_Month(DI$16,DI$17,$F25)","v":false},{"$f":"Find_Month(DJ$16,DJ$17,$F25)","v":false},{"$f":"Find_Month(DK$16,DK$17,$F25)","v":false},{"$f":"Find_Month(DL$16,DL$17,$F25)","v":true},{"$f":"Find_Month(DM$16,DM$17,$F25)","v":false},{"$f":"Find_Month(DN$16,DN$17,$F25)","v":false},{"$f":"Find_Month(DO$16,DO$17,$F25)","v":false},{"$f":"Find_Month(DP$16,DP$17,$F25)","v":false},{"$f":"Find_Month(DQ$16,DQ$17,$F25)","v":false},{"$f":"Find_Month(DR$16,DR$17,$F25)","v":false},{"$f":"Find_Month(DS$16,DS$17,$F25)","v":false},{"$f":"Find_Month(DT$16,DT$17,$F25)","v":false},{"$f":"Find_Month(DU$16,DU$17,$F25)","v":false},{"$f":"Find_Month(DV$16,DV$17,$F25)","v":false},{"$f":"Find_Month(DW$16,DW$17,$F25)","v":false},{"$f":"Find_Month(DX$16,DX$17,$F25)","v":true},{"$f":"Find_Month(DY$16,DY$17,$F25)","v":false},{"$f":"Find_Month(DZ$16,DZ$17,$F25)","v":false},{"$f":"Find_Month(EA$16,EA$17,$F25)","v":false},{"$f":"Find_Month(EB$16,EB$17,$F25)","v":false},{"$f":"Find_Month(EC$16,EC$17,$F25)","v":false},{"$f":"Find_Month(ED$16,ED$17,$F25)","v":false},{"$f":"Find_Month(EE$16,EE$17,$F25)","v":false},{"$f":"Find_Month(EF$16,EF$17,$F25)","v":false},{"$f":"Find_Month(EG$16,EG$17,$F25)","v":false},{"$f":"Find_Month(EH$16,EH$17,$F25)","v":false},{"$f":"Find_Month(EI$16,EI$17,$F25)","v":false},{"$f":"Find_Month(EJ$16,EJ$17,$F25)","v":true},{"$f":"Find_Month(EK$16,EK$17,$F25)","v":false},{"$f":"Find_Month(EL$16,EL$17,$F25)","v":false},{"$f":"Find_Month(EM$16,EM$17,$F25)","v":false},{"$f":"Find_Month(EN$16,EN$17,$F25)","v":false},{"$f":"Find_Month(EO$16,EO$17,$F25)","v":false},{"$f":"Find_Month(EP$16,EP$17,$F25)","v":false},{"$f":"Find_Month(EQ$16,EQ$17,$F25)","v":false},{"$f":"Find_Month(ER$16,ER$17,$F25)","v":false},{"$f":"Find_Month(ES$16,ES$17,$F25)","v":false},{"$f":"Find_Month(ET$16,ET$17,$F25)","v":false},{"$f":"Find_Month(EU$16,EU$17,$F25)","v":false},{"$f":"Find_Month(EV$16,EV$17,$F25)","v":true},{"$f":"Find_Month(EW$16,EW$17,$F25)","v":false},{"$f":"Find_Month(EX$16,EX$17,$F25)","v":false},{"$f":"Find_Month(EY$16,EY$17,$F25)","v":false},{"$f":"Find_Month(EZ$16,EZ$17,$F25)","v":false},{"$f":"Find_Month(FA$16,FA$17,$F25)","v":false},{"$f":"Find_Month(FB$16,FB$17,$F25)","v":false},{"$f":"Find_Month(FC$16,FC$17,$F25)","v":false},{"$f":"Find_Month(FD$16,FD$17,$F25)","v":false},{"$f":"Find_Month(FE$16,FE$17,$F25)","v":false},{"$f":"Find_Month(FF$16,FF$17,$F25)","v":false},{"$f":"Find_Month(FG$16,FG$17,$F25)","v":false},{"$f":"Find_Month(FH$16,FH$17,$F25)","v":true},{"$f":"Find_Month(FI$16,FI$17,$F25)","v":false},{"$f":"Find_Month(FJ$16,FJ$17,$F25)","v":false},{"$f":"Find_Month(FK$16,FK$17,$F25)","v":false},{"$f":"Find_Month(FL$16,FL$17,$F25)","v":false},{"$f":"Find_Month(FM$16,FM$17,$F25)","v":false},{"$f":"Find_Month(FN$16,FN$17,$F25)","v":false},{"$f":"Find_Month(FO$16,FO$17,$F25)","v":false},{"$f":"Find_Month(FP$16,FP$17,$F25)","v":false},{"$f":"Find_Month(FQ$16,FQ$17,$F25)","v":false},{"$f":"Find_Month(FR$16,FR$17,$F25)","v":false},{"$f":"Find_Month(FS$16,FS$17,$F25)","v":false},{"$f":"Find_Month(FT$16,FT$17,$F25)","v":true},{"$f":"Find_Month(FU$16,FU$17,$F25)","v":false},{"$f":"Find_Month(FV$16,FV$17,$F25)","v":false},{"$f":"Find_Month(FW$16,FW$17,$F25)","v":false},{"$f":"Find_Month(FX$16,FX$17,$F25)","v":false},{"$f":"Find_Month(FY$16,FY$17,$F25)","v":false},{"$f":"Find_Month(FZ$16,FZ$17,$F25)","v":false},{"$f":"Find_Month(GA$16,GA$17,$F25)","v":false},{"$f":"Find_Month(GB$16,GB$17,$F25)","v":false},{"$f":"Find_Month(GC$16,GC$17,$F25)","v":false},{"$f":"Find_Month(GD$16,GD$17,$F25)","v":false},{"$f":"Find_Month(GE$16,GE$17,$F25)","v":false},{"$f":"Find_Month(GF$16,GF$17,$F25)","v":true},{"$f":"Find_Month(GG$16,GG$17,$F25)","v":false},{"$f":"Find_Month(GH$16,GH$17,$F25)","v":false},{"$f":"Find_Month(GI$16,GI$17,$F25)","v":false},{"$f":"Find_Month(GJ$16,GJ$17,$F25)","v":false},{"$f":"Find_Month(GK$16,GK$17,$F25)","v":false},{"$f":"Find_Month(GL$16,GL$17,$F25)","v":false},{"$f":"Find_Month(GM$16,GM$17,$F25)","v":false},{"$f":"Find_Month(GN$16,GN$17,$F25)","v":false},{"$f":"Find_Month(GO$16,GO$17,$F25)","v":false},{"$f":"Find_Month(GP$16,GP$17,$F25)","v":false},{"$f":"Find_Month(GQ$16,GQ$17,$F25)","v":false},{"$f":"Find_Month(GR$16,GR$17,$F25)","v":true},{"$f":"Find_Month(GS$16,GS$17,$F25)","v":false},{"$f":"Find_Month(GT$16,GT$17,$F25)","v":false},{"$f":"Find_Month(GU$16,GU$17,$F25)","v":false},{"$f":"Find_Month(GV$16,GV$17,$F25)","v":false},{"$f":"Find_Month(GW$16,GW$17,$F25)","v":false},{"$f":"Find_Month(GX$16,GX$17,$F25)","v":false},{"$f":"Find_Month(GY$16,GY$17,$F25)","v":false},{"$f":"Find_Month(GZ$16,GZ$17,$F25)","v":false},{"$f":"Find_Month(HA$16,HA$17,$F25)","v":false},{"$f":"Find_Month(HB$16,HB$17,$F25)","v":false},{"$f":"Find_Month(HC$16,HC$17,$F25)","v":false},{"$f":"Find_Month(HD$16,HD$17,$F25)","v":true},{"$f":"Find_Month(HE$16,HE$17,$F25)","v":false},{"$f":"Find_Month(HF$16,HF$17,$F25)","v":false},{"$f":"Find_Month(HG$16,HG$17,$F25)","v":false},{"$f":"Find_Month(HH$16,HH$17,$F25)","v":false},{"$f":"Find_Month(HI$16,HI$17,$F25)","v":false},{"$f":"Find_Month(HJ$16,HJ$17,$F25)","v":false},{"$f":"Find_Month(HK$16,HK$17,$F25)","v":false},{"$f":"Find_Month(HL$16,HL$17,$F25)","v":false},{"$f":"Find_Month(HM$16,HM$17,$F25)","v":false},{"$f":"Find_Month(HN$16,HN$17,$F25)","v":false},{"$f":"Find_Month(HO$16,HO$17,$F25)","v":false},{"$f":"Find_Month(HP$16,HP$17,$F25)","v":true},{"$f":"Find_Month(HQ$16,HQ$17,$F25)","v":false},{"$f":"Find_Month(HR$16,HR$17,$F25)","v":false},{"$f":"Find_Month(HS$16,HS$17,$F25)","v":false},{"$f":"Find_Month(HT$16,HT$17,$F25)","v":false},{"$f":"Find_Month(HU$16,HU$17,$F25)","v":false},{"$f":"Find_Month(HV$16,HV$17,$F25)","v":false},{"$f":"Find_Month(HW$16,HW$17,$F25)","v":false},{"$f":"Find_Month(HX$16,HX$17,$F25)","v":false},{"$f":"Find_Month(HY$16,HY$17,$F25)","v":false},{"$f":"Find_Month(HZ$16,HZ$17,$F25)","v":false},{"$f":"Find_Month(IA$16,IA$17,$F25)","v":false},{"$f":"Find_Month(IB$16,IB$17,$F25)","v":true},{"$f":"Find_Month(IC$16,IC$17,$F25)","v":false},{"$f":"Find_Month(ID$16,ID$17,$F25)","v":false},{"$f":"Find_Month(IE$16,IE$17,$F25)","v":false},{"$f":"Find_Month(IF$16,IF$17,$F25)","v":false},{"$f":"Find_Month(IG$16,IG$17,$F25)","v":false},{"$f":"Find_Month(IH$16,IH$17,$F25)","v":false},{"$f":"Find_Month(II$16,II$17,$F25)","v":false},{"$f":"Find_Month(IJ$16,IJ$17,$F25)","v":false},{"$f":"Find_Month(IK$16,IK$17,$F25)","v":false},{"$f":"Find_Month(IL$16,IL$17,$F25)","v":false},{"$f":"Find_Month(IM$16,IM$17,$F25)","v":false},{"$f":"Find_Month(IN$16,IN$17,$F25)","v":true},{"$f":"Find_Month(IO$16,IO$17,$F25)","v":false},{"$f":"Find_Month(IP$16,IP$17,$F25)","v":false},{"$f":"Find_Month(IQ$16,IQ$17,$F25)","v":false},{"$f":"Find_Month(IR$16,IR$17,$F25)","v":false},{"$f":"Find_Month(IS$16,IS$17,$F25)","v":false},{"$f":"Find_Month(IT$16,IT$17,$F25)","v":false},{"$f":"Find_Month(IU$16,IU$17,$F25)","v":false},{"$f":"Find_Month(IV$16,IV$17,$F25)","v":false},{"$f":"Find_Month(IW$16,IW$17,$F25)","v":false},{"$f":"Find_Month(IX$16,IX$17,$F25)","v":false},{"$f":"Find_Month(IY$16,IY$17,$F25)","v":false},{"$f":"Find_Month(IZ$16,IZ$17,$F25)","v":true},{"$f":"Find_Month(JA$16,JA$17,$F25)","v":false},{"$f":"Find_Month(JB$16,JB$17,$F25)","v":false},{"$f":"Find_Month(JC$16,JC$17,$F25)","v":false},{"$f":"Find_Month(JD$16,JD$17,$F25)","v":false},{"$f":"Find_Month(JE$16,JE$17,$F25)","v":false},{"$f":"Find_Month(JF$16,JF$17,$F25)","v":false},{"$f":"Find_Month(JG$16,JG$17,$F25)","v":false},{"$f":"Find_Month(JH$16,JH$17,$F25)","v":false},{"$f":"Find_Month(JI$16,JI$17,$F25)","v":false},{"$f":"Find_Month(JJ$16,JJ$17,$F25)","v":false},{"$f":"Find_Month(JK$16,JK$17,$F25)","v":false},{"$f":"Find_Month(JL$16,JL$17,$F25)","v":true},{"$f":"Find_Month(JM$16,JM$17,$F25)","v":false},{"$f":"Find_Month(JN$16,JN$17,$F25)","v":false},{"$f":"Find_Month(JO$16,JO$17,$F25)","v":false},{"$f":"Find_Month(JP$16,JP$17,$F25)","v":false},{"$f":"Find_Month(JQ$16,JQ$17,$F25)","v":false},{"$f":"Find_Month(JR$16,JR$17,$F25)","v":false},{"$f":"Find_Month(JS$16,JS$17,$F25)","v":false},{"$f":"Find_Month(JT$16,JT$17,$F25)","v":false},{"$f":"Find_Month(JU$16,JU$17,$F25)","v":false},{"$f":"Find_Month(JV$16,JV$17,$F25)","v":false},{"$f":"Find_Month(JW$16,JW$17,$F25)","v":false},{"$f":"Find_Month(JX$16,JX$17,$F25)","v":true},{"$f":"Find_Month(JY$16,JY$17,$F25)","v":false},{"$f":"Find_Month(JZ$16,JZ$17,$F25)","v":false},{"$f":"Find_Month(KA$16,KA$17,$F25)","v":false},{"$f":"Find_Month(KB$16,KB$17,$F25)","v":false},{"$f":"Find_Month(KC$16,KC$17,$F25)","v":false},{"$f":"Find_Month(KD$16,KD$17,$F25)","v":false},{"$f":"Find_Month(KE$16,KE$17,$F25)","v":false},{"$f":"Find_Month(KF$16,KF$17,$F25)","v":false},{"$f":"Find_Month(KG$16,KG$17,$F25)","v":false},{"$f":"Find_Month(KH$16,KH$17,$F25)","v":false},{"$f":"Find_Month(KI$16,KI$17,$F25)","v":false},{"$f":"Find_Month(KJ$16,KJ$17,$F25)","v":true},{"$f":"Find_Month(KK$16,KK$17,$F25)","v":false},{"$f":"Find_Month(KL$16,KL$17,$F25)","v":false},{"$f":"Find_Month(KM$16,KM$17,$F25)","v":false},{"$f":"Find_Month(KN$16,KN$17,$F25)","v":false},{"$f":"Find_Month(KO$16,KO$17,$F25)","v":false},{"$f":"Find_Month(KP$16,KP$17,$F25)","v":false},{"$f":"Find_Month(KQ$16,KQ$17,$F25)","v":false},{"$f":"Find_Month(KR$16,KR$17,$F25)","v":false},{"$f":"Find_Month(KS$16,KS$17,$F25)","v":false},{"$f":"Find_Month(KT$16,KT$17,$F25)","v":false},{"$f":"Find_Month(KU$16,KU$17,$F25)","v":false},{"$f":"Find_Month(KV$16,KV$17,$F25)","v":true},{"$f":"Find_Month(KW$16,KW$17,$F25)","v":false},{"$f":"Find_Month(KX$16,KX$17,$F25)","v":false},{"$f":"Find_Month(KY$16,KY$17,$F25)","v":false},{"$f":"Find_Month(KZ$16,KZ$17,$F25)","v":false},{"$f":"Find_Month(LA$16,LA$17,$F25)","v":false},{"$f":"Find_Month(LB$16,LB$17,$F25)","v":false},{"$f":"Find_Month(LC$16,LC$17,$F25)","v":false},{"$f":"Find_Month(LD$16,LD$17,$F25)","v":false},{"$f":"Find_Month(LE$16,LE$17,$F25)","v":false},{"$f":"Find_Month(LF$16,LF$17,$F25)","v":false},{"$f":"Find_Month(LG$16,LG$17,$F25)","v":false},{"$f":"Find_Month(LH$16,LH$17,$F25)","v":true},{"$f":"Find_Month(LI$16,LI$17,$F25)","v":false},{"$f":"Find_Month(LJ$16,LJ$17,$F25)","v":false},{"$f":"Find_Month(LK$16,LK$17,$F25)","v":false},{"$f":"Find_Month(LL$16,LL$17,$F25)","v":false},{"$f":"Find_Month(LM$16,LM$17,$F25)","v":false},{"$f":"Find_Month(LN$16,LN$17,$F25)","v":false},{"$f":"Find_Month(LO$16,LO$17,$F25)","v":false},{"$f":"Find_Month(LP$16,LP$17,$F25)","v":false},{"$f":"Find_Month(LQ$16,LQ$17,$F25)","v":false},{"$f":"Find_Month(LR$16,LR$17,$F25)","v":false},{"$f":"Find_Month(LS$16,LS$17,$F25)","v":false},{"$f":"Find_Month(LT$16,LT$17,$F25)","v":true},{"$f":"Find_Month(LU$16,LU$17,$F25)","v":false},{"$f":"Find_Month(LV$16,LV$17,$F25)","v":false},{"$f":"Find_Month(LW$16,LW$17,$F25)","v":false},{"$f":"Find_Month(LX$16,LX$17,$F25)","v":false},{"$f":"Find_Month(LY$16,LY$17,$F25)","v":false},{"$f":"Find_Month(LZ$16,LZ$17,$F25)","v":false},{"$f":"Find_Month(MA$16,MA$17,$F25)","v":false},{"$f":"Find_Month(MB$16,MB$17,$F25)","v":false},{"$f":"Find_Month(MC$16,MC$17,$F25)","v":false},{"$f":"Find_Month(MD$16,MD$17,$F25)","v":false},{"$f":"Find_Month(ME$16,ME$17,$F25)","v":false},{"$f":"Find_Month(MF$16,MF$17,$F25)","v":true},{"$f":"Find_Month(MG$16,MG$17,$F25)","v":false},{"$f":"Find_Month(MH$16,MH$17,$F25)","v":false},{"$f":"Find_Month(MI$16,MI$17,$F25)","v":false},{"$f":"Find_Month(MJ$16,MJ$17,$F25)","v":false},{"$f":"Find_Month(MK$16,MK$17,$F25)","v":false},{"$f":"Find_Month(ML$16,ML$17,$F25)","v":false},{"$f":"Find_Month(MM$16,MM$17,$F25)","v":false},{"$f":"Find_Month(MN$16,MN$17,$F25)","v":false},{"$f":"Find_Month(MO$16,MO$17,$F25)","v":false},{"$f":"Find_Month(MP$16,MP$17,$F25)","v":false},{"$f":"Find_Month(MQ$16,MQ$17,$F25)","v":false},{"$f":"Find_Month(MR$16,MR$17,$F25)","v":true},{"$f":"Find_Month(MS$16,MS$17,$F25)","v":false},{"$f":"Find_Month(MT$16,MT$17,$F25)","v":false},{"$f":"Find_Month(MU$16,MU$17,$F25)","v":false},{"$f":"Find_Month(MV$16,MV$17,$F25)","v":false},{"$f":"Find_Month(MW$16,MW$17,$F25)","v":false},{"$f":"Find_Month(MX$16,MX$17,$F25)","v":false},{"$f":"Find_Month(MY$16,MY$17,$F25)","v":false},{"$f":"Find_Month(MZ$16,MZ$17,$F25)","v":false},{"$f":"Find_Month(NA$16,NA$17,$F25)","v":false},{"$f":"Find_Month(NB$16,NB$17,$F25)","v":false},{"$f":"Find_Month(NC$16,NC$17,$F25)","v":false},{"$f":"Find_Month(ND$16,ND$17,$F25)","v":true},{"$f":"Find_Month(NE$16,NE$17,$F25)","v":false},{"$f":"Find_Month(NF$16,NF$17,$F25)","v":false},{"$f":"Find_Month(NG$16,NG$17,$F25)","v":false},{"$f":"Find_Month(NH$16,NH$17,$F25)","v":false},{"$f":"Find_Month(NI$16,NI$17,$F25)","v":false},{"$f":"Find_Month(NJ$16,NJ$17,$F25)","v":false},{"$f":"Find_Month(NK$16,NK$17,$F25)","v":false},{"$f":"Find_Month(NL$16,NL$17,$F25)","v":false},{"$f":"Find_Month(NM$16,NM$17,$F25)","v":false},{"$f":"Find_Month(NN$16,NN$17,$F25)","v":false},{"$f":"Find_Month(NO$16,NO$17,$F25)","v":false},{"$f":"Find_Month(NP$16,NP$17,$F25)","v":true},{"$f":"Find_Month(NQ$16,NQ$17,$F25)","v":false},{"$f":"Find_Month(NR$16,NR$17,$F25)","v":false},{"$f":"Find_Month(NS$16,NS$17,$F25)","v":false},{"$f":"Find_Month(NT$16,NT$17,$F25)","v":false},{"$f":"Find_Month(NU$16,NU$17,$F25)","v":false},{"$f":"Find_Month(NV$16,NV$17,$F25)","v":false},{"$f":"Find_Month(NW$16,NW$17,$F25)","v":false},{"$f":"Find_Month(NX$16,NX$17,$F25)","v":false},{"$f":"Find_Month(NY$16,NY$17,$F25)","v":false},{"$f":"Find_Month(NZ$16,NZ$17,$F25)","v":false},{"$f":"Find_Month(OA$16,OA$17,$F25)","v":false},{"$f":"Find_Month(OB$16,OB$17,$F25)","v":true},{"$f":"Find_Month(OC$16,OC$17,$F25)","v":false},{"$f":"Find_Month(OD$16,OD$17,$F25)","v":false},{"$f":"Find_Month(OE$16,OE$17,$F25)","v":false},{"$f":"Find_Month(OF$16,OF$17,$F25)","v":false},{"$f":"Find_Month(OG$16,OG$17,$F25)","v":false},{"$f":"Find_Month(OH$16,OH$17,$F25)","v":false},{"$f":"Find_Month(OI$16,OI$17,$F25)","v":false},{"$f":"Find_Month(OJ$16,OJ$17,$F25)","v":false},{"$f":"Find_Month(OK$16,OK$17,$F25)","v":false},{"$f":"Find_Month(OL$16,OL$17,$F25)","v":false},{"$f":"Find_Month(OM$16,OM$17,$F25)","v":false},{"$f":"Find_Month(ON$16,ON$17,$F25)","v":true},{"$f":"Find_Month(OO$16,OO$17,$F25)","v":false},{"$f":"Find_Month(OP$16,OP$17,$F25)","v":false},{"$f":"Find_Month(OQ$16,OQ$17,$F25)","v":false},{"$f":"Find_Month(OR$16,OR$17,$F25)","v":false},{"$f":"Find_Month(OS$16,OS$17,$F25)","v":false},{"$f":"Find_Month(OT$16,OT$17,$F25)","v":false},{"$f":"Find_Month(OU$16,OU$17,$F25)","v":false},{"$f":"Find_Month(OV$16,OV$17,$F25)","v":false},{"$f":"Find_Month(OW$16,OW$17,$F25)","v":false},{"$f":"Find_Month(OX$16,OX$17,$F25)","v":false},{"$f":"Find_Month(OY$16,OY$17,$F25)","v":false},{"$f":"Find_Month(OZ$16,OZ$17,$F25)","v":true},{"$f":"Find_Month(PA$16,PA$17,$F25)","v":false},{"$f":"Find_Month(PB$16,PB$17,$F25)","v":false},{"$f":"Find_Month(PC$16,PC$17,$F25)","v":false},{"$f":"Find_Month(PD$16,PD$17,$F25)","v":false},{"$f":"Find_Month(PE$16,PE$17,$F25)","v":false},{"$f":"Find_Month(PF$16,PF$17,$F25)","v":false},{"$f":"Find_Month(PG$16,PG$17,$F25)","v":false},{"$f":"Find_Month(PH$16,PH$17,$F25)","v":false},{"$f":"Find_Month(PI$16,PI$17,$F25)","v":false},{"$f":"Find_Month(PJ$16,PJ$17,$F25)","v":false},{"$f":"Find_Month(PK$16,PK$17,$F25)","v":false},{"$f":"Find_Month(PL$16,PL$17,$F25)","v":true},{"$f":"Find_Month(PM$16,PM$17,$F25)","v":false},{"$f":"Find_Month(PN$16,PN$17,$F25)","v":false},{"$f":"Find_Month(PO$16,PO$17,$F25)","v":false},{"$f":"Find_Month(PP$16,PP$17,$F25)","v":false},{"$f":"Find_Month(PQ$16,PQ$17,$F25)","v":false},{"$f":"Find_Month(PR$16,PR$17,$F25)","v":false},{"$f":"Find_Month(PS$16,PS$17,$F25)","v":false},{"$f":"Find_Month(PT$16,PT$17,$F25)","v":false},{"$f":"Find_Month(PU$16,PU$17,$F25)","v":false},{"$f":"Find_Month(PV$16,PV$17,$F25)","v":false},{"$f":"Find_Month(PW$16,PW$17,$F25)","v":false},{"$f":"Find_Month(PX$16,PX$17,$F25)","v":true},{"$f":"Find_Month(PY$16,PY$17,$F25)","v":false},{"$f":"Find_Month(PZ$16,PZ$17,$F25)","v":false},{"$f":"Find_Month(QA$16,QA$17,$F25)","v":false},{"$f":"Find_Month(QB$16,QB$17,$F25)","v":false},{"$f":"Find_Month(QC$16,QC$17,$F25)","v":false},{"$f":"Find_Month(QD$16,QD$17,$F25)","v":false},{"$f":"Find_Month(QE$16,QE$17,$F25)","v":false},{"$f":"Find_Month(QF$16,QF$17,$F25)","v":false},{"$f":"Find_Month(QG$16,QG$17,$F25)","v":false},{"$f":"Find_Month(QH$16,QH$17,$F25)","v":false},{"$f":"Find_Month(QI$16,QI$17,$F25)","v":false},{"$f":"Find_Month(QJ$16,QJ$17,$F25)","v":true},{"$f":"Find_Month(QK$16,QK$17,$F25)","v":false},{"$f":"Find_Month(QL$16,QL$17,$F25)","v":false},{"$f":"Find_Month(QM$16,QM$17,$F25)","v":false},{"$f":"Find_Month(QN$16,QN$17,$F25)","v":false},{"$f":"Find_Month(QO$16,QO$17,$F25)","v":false},{"$f":"Find_Month(QP$16,QP$17,$F25)","v":false},{"$f":"Find_Month(QQ$16,QQ$17,$F25)","v":false},{"$f":"Find_Month(QR$16,QR$17,$F25)","v":false},{"$f":"Find_Month(QS$16,QS$17,$F25)","v":false},{"$f":"Find_Month(QT$16,QT$17,$F25)","v":false},{"$f":"Find_Month(QU$16,QU$17,$F25)","v":false},{"$f":"Find_Month(QV$16,QV$17,$F25)","v":true},{"$f":"Find_Month(QW$16,QW$17,$F25)","v":false},{"$f":"Find_Month(QX$16,QX$17,$F25)","v":false},{"$f":"Find_Month(QY$16,QY$17,$F25)","v":false},{"$f":"Find_Month(QZ$16,QZ$17,$F25)","v":false},{"$f":"Find_Month(RA$16,RA$17,$F25)","v":false},{"$f":"Find_Month(RB$16,RB$17,$F25)","v":false},{"$f":"Find_Month(RC$16,RC$17,$F25)","v":false},{"$f":"Find_Month(RD$16,RD$17,$F25)","v":false},{"$f":"Find_Month(RE$16,RE$17,$F25)","v":false},{"$f":"Find_Month(RF$16,RF$17,$F25)","v":false},{"$f":"Find_Month(RG$16,RG$17,$F25)","v":false},{"$f":"Find_Month(RH$16,RH$17,$F25)","v":true},{"$f":"Find_Month(RI$16,RI$17,$F25)","v":false},{"$f":"Find_Month(RJ$16,RJ$17,$F25)","v":false},{"$f":"Find_Month(RK$16,RK$17,$F25)","v":false},{"$f":"Find_Month(RL$16,RL$17,$F25)","v":false},{"$f":"Find_Month(RM$16,RM$17,$F25)","v":false},{"$f":"Find_Month(RN$16,RN$17,$F25)","v":false},{"$f":"Find_Month(RO$16,RO$17,$F25)","v":false},{"$f":"Find_Month(RP$16,RP$17,$F25)","v":false},{"$f":"Find_Month(RQ$16,RQ$17,$F25)","v":false},{"$f":"Find_Month(RR$16,RR$17,$F25)","v":false},{"$f":"Find_Month(RS$16,RS$17,$F25)","v":false},{"$f":"Find_Month(RT$16,RT$17,$F25)","v":true},{"$f":"Find_Month(RU$16,RU$17,$F25)","v":false},{"$f":"Find_Month(RV$16,RV$17,$F25)","v":false},{"$f":"Find_Month(RW$16,RW$17,$F25)","v":false},{"$f":"Find_Month(RX$16,RX$17,$F25)","v":false},{"$f":"Find_Month(RY$16,RY$17,$F25)","v":false},{"$f":"Find_Month(RZ$16,RZ$17,$F25)","v":false},{"$f":"Find_Month(SA$16,SA$17,$F25)","v":false},{"$f":"Find_Month(SB$16,SB$17,$F25)","v":false},{"$f":"Find_Month(SC$16,SC$17,$F25)","v":false},{"$f":"Find_Month(SD$16,SD$17,$F25)","v":false},{"$f":"Find_Month(SE$16,SE$17,$F25)","v":false},{"$f":"Find_Month(SF$16,SF$17,$F25)","v":true},{"$f":"Find_Month(SG$16,SG$17,$F25)","v":false},{"$f":"Find_Month(SH$16,SH$17,$F25)","v":false},{"$f":"Find_Month(SI$16,SI$17,$F25)","v":false},{"$f":"Find_Month(SJ$16,SJ$17,$F25)","v":false},{"$f":"Find_Month(SK$16,SK$17,$F25)","v":false},{"$f":"Find_Month(SL$16,SL$17,$F25)","v":false},{"$f":"Find_Month(SM$16,SM$17,$F25)","v":false},{"$f":"Find_Month(SN$16,SN$17,$F25)","v":false},{"$f":"Find_Month(SO$16,SO$17,$F25)","v":false},{"$f":"Find_Month(SP$16,SP$17,$F25)","v":false},{"$f":"Find_Month(SQ$16,SQ$17,$F25)","v":false},{"$f":"Find_Month(SR$16,SR$17,$F25)","v":true},{"$f":"Find_Month(SS$16,SS$17,$F25)","v":false},{"$f":"Find_Month(ST$16,ST$17,$F25)","v":false},{"$f":"Find_Month(SU$16,SU$17,$F25)","v":false},{"$f":"Find_Month(SV$16,SV$17,$F25)","v":false},{"$f":"Find_Month(SW$16,SW$17,$F25)","v":false},{"$f":"Find_Month(SX$16,SX$17,$F25)","v":false},{"$f":"Find_Month(SY$16,SY$17,$F25)","v":false},{"$f":"Find_Month(SZ$16,SZ$17,$F25)","v":false},{"$f":"Find_Month(TA$16,TA$17,$F25)","v":false},{"$f":"Find_Month(TB$16,TB$17,$F25)","v":false},{"$f":"Find_Month(TC$16,TC$17,$F25)","v":false},{"$f":"Find_Month(TD$16,TD$17,$F25)","v":true},{"$f":"Find_Month(TE$16,TE$17,$F25)","v":false},{"$f":"Find_Month(TF$16,TF$17,$F25)","v":false},{"$f":"Find_Month(TG$16,TG$17,$F25)","v":false},{"$f":"Find_Month(TH$16,TH$17,$F25)","v":false},{"$f":"Find_Month(TI$16,TI$17,$F25)","v":false},{"$f":"Find_Month(TJ$16,TJ$17,$F25)","v":false},{"$f":"Find_Month(TK$16,TK$17,$F25)","v":false},{"$f":"Find_Month(TL$16,TL$17,$F25)","v":false},{"$f":"Find_Month(TM$16,TM$17,$F25)","v":false},{"$f":"Find_Month(TN$16,TN$17,$F25)","v":false},{"$f":"Find_Month(TO$16,TO$17,$F25)","v":false},{"$f":"Find_Month(TP$16,TP$17,$F25)","v":true},{"$f":"Find_Month(TQ$16,TQ$17,$F25)","v":false},{"$f":"Find_Month(TR$16,TR$17,$F25)","v":false},{"$f":"Find_Month(TS$16,TS$17,$F25)","v":false},{"$f":"Find_Month(TT$16,TT$17,$F25)","v":false},{"$f":"Find_Month(TU$16,TU$17,$F25)","v":false},{"$f":"Find_Month(TV$16,TV$17,$F25)","v":false},{"$f":"Find_Month(TW$16,TW$17,$F25)","v":false},{"$f":"Find_Month(TX$16,TX$17,$F25)","v":false},{"$f":"Find_Month(TY$16,TY$17,$F25)","v":false},{"$f":"Find_Month(TZ$16,TZ$17,$F25)","v":false},{"$f":"Find_Month(UA$16,UA$17,$F25)","v":false},{"$f":"Find_Month(UB$16,UB$17,$F25)","v":true},{"$f":"Find_Month(UC$16,UC$17,$F25)","v":false},{"$f":"Find_Month(UD$16,UD$17,$F25)","v":false},{"$f":"Find_Month(UE$16,UE$17,$F25)","v":false},{"$f":"Find_Month(UF$16,UF$17,$F25)","v":false},{"$f":"Find_Month(UG$16,UG$17,$F25)","v":false},{"$f":"Find_Month(UH$16,UH$17,$F25)","v":false},{"$f":"Find_Month(UI$16,UI$17,$F25)","v":false},{"$f":"Find_Month(UJ$16,UJ$17,$F25)","v":false},{"$f":"Find_Month(UK$16,UK$17,$F25)","v":false},{"$f":"Find_Month(UL$16,UL$17,$F25)","v":false},{"$f":"Find_Month(UM$16,UM$17,$F25)","v":false}]
[null,null,null,null,null,7,null,0.14000000000000001,null,{"$f":"Find_Month(J$16,J$17,$F26)","v":false},{"$f":"Find_Month(K$16,K$17,$F26)","v":false},{"$f":"Find_Month(L$16,L$17,$F26)","v":false},{"$f":"Find_Month(M$16,M$17,$F26)","v":false},{"$f":"Find_Month(N$16,N$17,$F26)","v":false},{"$f":"Find_Month(O$16,O$17,$F26)","v":false},{"$f":"Find_Month(P$16,P$17,$F26)","v":false},{"$f":"Find_Month(Q$16,Q$17,$F26)","v":false},{"$f":"Find_Month(R$16,R$17,$F26)","v":false},{"$f":"Find_Month(S$16,S$17,$F26)","v":false},{"$f":"Find_Month(T$16,T$17,$F26)","v":false},{"$f":"Find_Month(U$16,U$17,$F26)","v":true},{"$f":"Find_Month(V$16,V$17,$F26)","v":false},{"$f":"Find_Month(W$16,W$17,$F26)","v":false},{"$f":"Find_Month(X$16,X$17,$F26)","v":false},{"$f":"Find_Month(Y$16,Y$17,$F26)","v":false},{"$f":"Find_Month(Z$16,Z$17,$F26)","v":false},{"$f":"Find_Month(AA$16,AA$17,$F26)","v":false},{"$f":"Find_Month(AB$16,AB$17,$F26)","v":false},{"$f":"Find_Month(AC$16,AC$17,$F26)","v":false},{"$f":"Find_Month(AD$16,AD$17,$F26)","v":false},{"$f":"Find_Month(AE$16,AE$17,$F26)","v":false},{"$f":"Find_Month(AF$16,AF$17,$F26)","v":false},{"$f":"Find_Month(AG$16,AG$17,$F26)","v":true},{"$f":"Find_Month(AH$16,AH$17,$F26)","v":false},{"$f":"Find_Month(AI$16,AI$17,$F26)","v":false},{"$f":"Find_Month(AJ$16,AJ$17,$F26)","v":false},{"$f":"Find_Month(AK$16,AK$17,$F26)","v":false},{"$f":"Find_Month(AL$16,AL$17,$F26)","v":false},{"$f":"Find_Month(AM$16,AM$17,$F26)","v":false},{"$f":"Find_Month(AN$16,AN$17,$F26)","v":false},{"$f":"Find_Month(AO$16,AO$17,$F26)","v":false},{"$f":"Find_Month(AP$16,AP$17,$F26)","v":false},{"$f":"Find_Month(AQ$16,AQ$17,$F26)","v":false},{"$f":"Find_Month(AR$16,AR$17,$F26)","v":false},{"$f":"Find_Month(AS$16,AS$17,$F26)","v":true},{"$f":"Find_Month(AT$16,AT$17,$F26)","v":false},{"$f":"Find_Month(AU$16,AU$17,$F26)","v":false},{"$f":"Find_Month(AV$16,AV$17,$F26)","v":false},{"$f":"Find_Month(AW$16,AW$17,$F26)","v":false},{"$f":"Find_Month(AX$16,AX$17,$F26)","v":false},{"$f":"Find_Month(AY$16,AY$17,$F26)","v":false},{"$f":"Find_Month(AZ$16,AZ$17,$F26)","v":false},{"$f":"Find_Month(BA$16,BA$17,$F26)","v":false},{"$f":"Find_Month(BB$16,BB$17,$F26)","v":false},{"$f":"Find_Month(BC$16,BC$17,$F26)","v":false},{"$f":"Find_Month(BD$16,BD$17,$F26)","v":false},{"$f":"Find_Month(BE$16,BE$17,$F26)","v":true},{"$f":"Find_Month(BF$16,BF$17,$F26)","v":false},{"$f":"Find_Month(BG$16,BG$17,$F26)","v":false},{"$f":"Find_Month(BH$16,BH$17,$F26)","v":false},{"$f":"Find_Month(BI$16,BI$17,$F26)","v":false},{"$f":"Find_Month(BJ$16,BJ$17,$F26)","v":false},{"$f":"Find_Month(BK$16,BK$17,$F26)","v":false},{"$f":"Find_Month(BL$16,BL$17,$F26)","v":false},{"$f":"Find_Month(BM$16,BM$17,$F26)","v":false},{"$f":"Find_Month(BN$16,BN$17,$F26)","v":false},{"$f":"Find_Month(BO$16,BO$17,$F26)","v":false},{"$f":"Find_Month(BP$16,BP$17,$F26)","v":false},{"$f":"Find_Month(BQ$16,BQ$17,$F26)","v":true},{"$f":"Find_Month(BR$16,BR$17,$F26)","v":false},{"$f":"Find_Month(BS$16,BS$17,$F26)","v":false},{"$f":"Find_Month(BT$16,BT$17,$F26)","v":false},{"$f":"Find_Month(BU$16,BU$17,$F26)","v":false},{"$f":"Find_Month(BV$16,BV$17,$F26)","v":false},{"$f":"Find_Month(BW$16,BW$17,$F26)","v":false},{"$f":"Find_Month(BX$16,BX$17,$F26)","v":false},{"$f":"Find_Month(BY$16,BY$17,$F26)","v":false},{"$f":"Find_Month(BZ$16,BZ$17,$F26)","v":false},{"$f":"Find_Month(CA$16,CA$17,$F26)","v":false},{"$f":"Find_Month(CB$16,CB$17,$F26)","v":false},{"$f":"Find_Month(CC$16,CC$17,$F26)","v":true},{"$f":"Find_Month(CD$16,CD$17,$F26)","v":false},{"$f":"Find_Month(CE$16,CE$17,$F26)","v":false},{"$f":"Find_Month(CF$16,CF$17,$F26)","v":false},{"$f":"Find_Month(CG$16,CG$17,$F26)","v":false},{"$f":"Find_Month(CH$16,CH$17,$F26)","v":false},{"$f":"Find_Month(CI$16,CI$17,$F26)","v":false},{"$f":"Find_Month(CJ$16,CJ$17,$F26)","v":false},{"$f":"Find_Month(CK$16,CK$17,$F26)","v":false},{"$f":"Find_Month(CL$16,CL$17,$F26)","v":false},{"$f":"Find_Month(CM$16,CM$17,$F26)","v":false},{"$f":"Find_Month(CN$16,CN$17,$F26)","v":false},{"$f":"Find_Month(CO$16,CO$17,$F26)","v":true},{"$f":"Find_Month(CP$16,CP$17,$F26)","v":false},{"$f":"Find_Month(CQ$16,CQ$17,$F26)","v":false},{"$f":"Find_Month(CR$16,CR$17,$F26)","v":false},{"$f":"Find_Month(CS$16,CS$17,$F26)","v":false},{"$f":"Find_Month(CT$16,CT$17,$F26)","v":false},{"$f":"Find_Month(CU$16,CU$17,$F26)","v":false},{"$f":"Find_Month(CV$16,CV$17,$F26)","v":false},{"$f":"Find_Month(CW$16,CW$17,$F26)","v":false},{"$f":"Find_Month(CX$16,CX$17,$F26)","v":false},{"$f":"Find_Month(CY$16,CY$17,$F26)","v":false},{"$f":"Find_Month(CZ$16,CZ$17,$F26)","v":false},{"$f":"Find_Month(DA$16,DA$17,$F26)","v":true},{"$f":"Find_Month(DB$16,DB$17,$F26)","v":false},{"$f":"Find_Month(DC$16,DC$17,$F26)","v":false},{"$f":"Find_Month(DD$16,DD$17,$F26)","v":false},{"$f":"Find_Month(DE$16,DE$17,$F26)","v":false},{"$f":"Find_Month(DF$16,DF$17,$F26)","v":false},{"$f":"Find_Month(DG$16,DG$17,$F26)","v":false},{"$f":"Find_Month(DH$16,DH$17,$F26)","v":false},{"$f":"Find_Month(DI$16,DI$17,$F26)","v":false},{"$f":"Find_Month(DJ$16,DJ$17,$F26)","v":false},{"$f":"Find_Month(DK$16,DK$17,$F26)","v":false},{"$f":"Find_Month(DL$16,DL$17,$F26)","v":false},{"$f":"Find_Month(DM$16,DM$17,$F26)","v":true},{"$f":"Find_Month(DN$16,DN$17,$F26)","v":false},{"$f":"Find_Month(DO$16,DO$17,$F26)","v":false},{"$f":"Find_Month(DP$16,DP$17,$F26)","v":false},{"$f":"Find_Month(DQ$16,DQ$17,$F26)","v":false},{"$f":"Find_Month(DR$16,DR$17,$F26)","v":false},{"$f":"Find_Month(DS$16,DS$17,$F26)","v":false},{"$f":"Find_Month(DT$16,DT$17,$F26)","v":false},{"$f":"Find_Month(DU$16,DU$17,$F26)","v":false},{"$f":"Find_Month(DV$16,DV$17,$F26)","v":false},{"$f":"Find_Month(DW$16,DW$17,$F26)","v":false},{"$f":"Find_Month(DX$16,DX$17,$F26)","v":false},{"$f":"Find_Month(DY$16,DY$17,$F26)","v":true},{"$f":"Find_Month(DZ$16,DZ$17,$F26)","v":false},{"$f":"Find_Month(EA$16,EA$17,$F26)","v":false},{"$f":"Find_Month(EB$16,EB$17,$F26)","v":false},{"$f":"Find_Month(EC$16,EC$17,$F26)","v":false},{"$f":"Find_Month(ED$16,ED$17,$F26)","v":false},{"$f":"Find_Month(EE$16,EE$17,$F26)","v":false},{"$f":"Find_Month(EF$16,EF$17,$F26)","v":false},{"$f":"Find_Month(EG$16,EG$17,$F26)","v":false},{"$f":"Find_Month(EH$16,EH$17,$F26)","v":false},{"$f":"Find_Month(EI$16,EI$17,$F26)","v":false},{"$f":"Find_Month(EJ$16,EJ$17,$F26)","v":false},{"$f":"Find_Month(EK$16,EK$17,$F26)","v":true},{"$f":"Find_Month(EL$16,EL$17,$F26)","v":false},{"$f":"Find_Month(EM$16,EM$17,$F26)","v":false},{"$f":"Find_Month(EN$16,EN$17,$F26)","v":false},{"$f":"Find_Month(EO$16,EO$17,$F26)","v":false},{"$f":"Find_Month(EP$16,EP$17,$F26)","v":false},{"$f":"Find_Month(EQ$16,EQ$17,$F26)","v":false},{"$f":"Find_Month(ER$16,ER$17,$F26)","v":false},{"$f":"Find_Month(ES$16,ES$17,$F26)","v":false},{"$f":"Find_Month(ET$16,ET$17,$F26)","v":false},{"$f":"Find_Month(EU$16,EU$17,$F26)","v":false},{"$f":"Find_Month(EV$16,EV$17,$F26)","v":false},{"$f":"Find_Month(EW$16,EW$17,$F26)","v":true},{"$f":"Find_Month(EX$16,EX$17,$F26)","v":false},{"$f":"Find_Month(EY$16,EY$17,$F26)","v":false},{"$f":"Find_Month(EZ$16,EZ$17,$F26)","v":false},{"$f":"Find_Month(FA$16,FA$17,$F26)","v":false},{"$f":"Find_Month(FB$16,FB$17,$F26)","v":false},{"$f":"Find_Month(FC$16,FC$17,$F26)","v":false},{"$f":"Find_Month(FD$16,FD$17,$F26)","v":false},{"$f":"Find_Month(FE$16,FE$17,$F26)","v":false},{"$f":"Find_Month(FF$16,FF$17,$F26)","v":false},{"$f":"Find_Month(FG$16,FG$17,$F26)","v":false},{"$f":"Find_Month(FH$16,FH$17,$F26)","v":false},{"$f":"Find_Month(FI$16,FI$17,$F26)","v":true},{"$f":"Find_Month(FJ$16,FJ$17,$F26)","v":false},{"$f":"Find_Month(FK$16,FK$17,$F26)","v":false},{"$f":"Find_Month(FL$16,FL$17,$F26)","v":false},{"$f":"Find_Month(FM$16,FM$17,$F26)","v":false},{"$f":"Find_Month(FN$16,FN$17,$F26)","v":false},{"$f":"Find_Month(FO$16,FO$17,$F26)","v":false},{"$f":"Find_Month(FP$16,FP$17,$F26)","v":false},{"$f":"Find_Month(FQ$16,FQ$17,$F26)","v":false},{"$f":"Find_Month(FR$16,FR$17,$F26)","v":false},{"$f":"Find_Month(FS$16,FS$17,$F26)","v":false},{"$f":"Find_Month(FT$16,FT$17,$F26)","v":false},{"$f":"Find_Month(FU$16,FU$17,$F26)","v":true},{"$f":"Find_Month(FV$16,FV$17,$F26)","v":false},{"$f":"Find_Month(FW$16,FW$17,$F26)","v":false},{"$f":"Find_Month(FX$16,FX$17,$F26)","v":false},{"$f":"Find_Month(FY$16,FY$17,$F26)","v":false},{"$f":"Find_Month(FZ$16,FZ$17,$F26)","v":false},{"$f":"Find_Month(GA$16,GA$17,$F26)","v":false},{"$f":"Find_Month(GB$16,GB$17,$F26)","v":false},{"$f":"Find_Month(GC$16,GC$17,$F26)","v":false},{"$f":"Find_Month(GD$16,GD$17,$F26)","v":false},{"$f":"Find_Month(GE$16,GE$17,$F26)","v":false},{"$f":"Find_Month(GF$16,GF$17,$F26)","v":false},{"$f":"Find_Month(GG$16,GG$17,$F26)","v":true},{"$f":"Find_Month(GH$16,GH$17,$F26)","v":false},{"$f":"Find_Month(GI$16,GI$17,$F26)","v":false},{"$f":"Find_Month(GJ$16,GJ$17,$F26)","v":false},{"$f":"Find_Month(GK$16,GK$17,$F26)","v":false},{"$f":"Find_Month(GL$16,GL$17,$F26)","v":false},{"$f":"Find_Month(GM$16,GM$17,$F26)","v":false},{"$f":"Find_Month(GN$16,GN$17,$F26)","v":false},{"$f":"Find_Month(GO$16,GO$17,$F26)","v":false},{"$f":"Find_Month(GP$16,GP$17,$F26)","v":false},{"$f":"Find_Month(GQ$16,GQ$17,$F26)","v":false},{"$f":"Find_Month(GR$16,GR$17,$F26)","v":false},{"$f":"Find_Month(GS$16,GS$17,$F26)","v":true},{"$f":"Find_Month(GT$16,GT$17,$F26)","v":false},{"$f":"Find_Month(GU$16,GU$17,$F26)","v":false},{"$f":"Find_Month(GV$16,GV$17,$F26)","v":false},{"$f":"Find_Month(GW$16,GW$17,$F26)","v":false},{"$f":"Find_Month(GX$16,GX$17,$F26)","v":false},{"$f":"Find_Month(GY$16,GY$17,$F26)","v":false},{"$f":"Find_Month(GZ$16,GZ$17,$F26)","v":false},{"$f":"Find_Month(HA$16,HA$17,$F26)","v":false},{"$f":"Find_Month(HB$16,HB$17,$F26)","v":false},{"$f":"Find_Month(HC$16,HC$17,$F26)","v":false},{"$f":"Find_Month(HD$16,HD$17,$F26)","v":false},{"$f":"Find_Month(HE$16,HE$17,$F26)","v":true},{"$f":"Find_Month(HF$16,HF$17,$F26)","v":false},{"$f":"Find_Month(HG$16,HG$17,$F26)","v":false},{"$f":"Find_Month(HH$16,HH$17,$F26)","v":false},{"$f":"Find_Month(HI$16,HI$17,$F26)","v":false},{"$f":"Find_Month(HJ$16,HJ$17,$F26)","v":false},{"$f":"Find_Month(HK$16,HK$17,$F26)","v":false},{"$f":"Find_Month(HL$16,HL$17,$F26)","v":false},{"$f":"Find_Month(HM$16,HM$17,$F26)","v":false},{"$f":"Find_Month(HN$16,HN$17,$F26)","v":false},{"$f":"Find_Month(HO$16,HO$17,$F26)","v":false},{"$f":"Find_Month(HP$16,HP$17,$F26)","v":false},{"$f":"Find_Month(HQ$16,HQ$17,$F26)","v":true},{"$f":"Find_Month(HR$16,HR$17,$F26)","v":false},{"$f":"Find_Month(HS$16,HS$17,$F26)","v":false},{"$f":"Find_Month(HT$16,HT$17,$F26)","v":false},{"$f":"Find_Month(HU$16,HU$17,$F26)","v":false},{"$f":"Find_Month(HV$16,HV$17,$F26)","v":false},{"$f":"Find_Month(HW$16,HW$17,$F26)","v":false},{"$f":"Find_Month(HX$16,HX$17,$F26)","v":false},{"$f":"Find_Month(HY$16,HY$17,$F26)","v":false},{"$f":"Find_Month(HZ$16,HZ$17,$F26)","v":false},{"$f":"Find_Month(IA$16,IA$17,$F26)","v":false},{"$f":"Find_Month(IB$16,IB$17,$F26)","v":false},{"$f":"Find_Month(IC$16,IC$17,$F26)","v":true},{"$f":"Find_Month(ID$16,ID$17,$F26)","v":false},{"$f":"Find_Month(IE$16,IE$17,$F26)","v":false},{"$f":"Find_Month(IF$16,IF$17,$F26)","v":false},{"$f":"Find_Month(IG$16,IG$17,$F26)","v":false},{"$f":"Find_Month(IH$16,IH$17,$F26)","v":false},{"$f":"Find_Month(II$16,II$17,$F26)","v":false},{"$f":"Find_Month(IJ$16,IJ$17,$F26)","v":false},{"$f":"Find_Month(IK$16,IK$17,$F26)","v":false},{"$f":"Find_Month(IL$16,IL$17,$F26)","v":false},{"$f":"Find_Month(IM$16,IM$17,$F26)","v":false},{"$f":"Find_Month(IN$16,IN$17,$F26)","v":false},{"$f":"Find_Month(IO$16,IO$17,$F26)","v":true},{"$f":"Find_Month(IP$16,IP$17,$F26)","v":false},{"$f":"Find_Month(IQ$16,IQ$17,$F26)","v":false},{"$f":"Find_Month(IR$16,IR$17,$F26)","v":false},{"$f":"Find_Month(IS$16,IS$17,$F26)","v":false},{"$f":"Find_Month(IT$16,IT$17,$F26)","v":false},{"$f":"Find_Month(IU$16,IU$17,$F26)","v":false},{"$f":"Find_Month(IV$16,IV$17,$F26)","v":false},{"$f":"Find_Month(IW$16,IW$17,$F26)","v":false},{"$f":"Find_Month(IX$16,IX$17,$F26)","v":false},{"$f":"Find_Month(IY$16,IY$17,$F26)","v":false},{"$f":"Find_Month(IZ$16,IZ$17,$F26)","v":false},{"$f":"Find_Month(JA$16,JA$17,$F26)","v":true},{"$f":"Find_Month(JB$16,JB$17,$F26)","v":false},{"$f":"Find_Month(JC$16,JC$17,$F26)","v":false},{"$f":"Find_Month(JD$16,JD$17,$F26)","v":false},{"$f":"Find_Month(JE$16,JE$17,$F26)","v":false},{"$f":"Find_Month(JF$16,JF$17,$F26)","v":false},{"$f":"Find_Month(JG$16,JG$17,$F26)","v":false},{"$f":"Find_Month(JH$16,JH$17,$F26)","v":false},{"$f":"Find_Month(JI$16,JI$17,$F26)","v":false},{"$f":"Find_Month(JJ$16,JJ$17,$F26)","v":false},{"$f":"Find_Month(JK$16,JK$17,$F26)","v":false},{"$f":"Find_Month(JL$16,JL$17,$F26)","v":false},{"$f":"Find_Month(JM$16,JM$17,$F26)","v":true},{"$f":"Find_Month(JN$16,JN$17,$F26)","v":false},{"$f":"Find_Month(JO$16,JO$17,$F26)","v":false},{"$f":"Find_Month(JP$16,JP$17,$F26)","v":false},{"$f":"Find_Month(JQ$16,JQ$17,$F26)","v":false},{"$f":"Find_Month(JR$16,JR$17,$F26)","v":false},{"$f":"Find_Month(JS$16,JS$17,$F26)","v":false},{"$f":"Find_Month(JT$16,JT$17,$F26)","v":false},{"$f":"Find_Month(JU$16,JU$17,$F26)","v":false},{"$f":"Find_Month(JV$16,JV$17,$F26)","v":false},{"$f":"Find_Month(JW$16,JW$17,$F26)","v":false},{"$f":"Find_Month(JX$16,JX$17,$F26)","v":false},{"$f":"Find_Month(JY$16,JY$17,$F26)","v":true},{"$f":"Find_Month(JZ$16,JZ$17,$F26)","v":false},{"$f":"Find_Month(KA$16,KA$17,$F26)","v":false},{"$f":"Find_Month(KB$16,KB$17,$F26)","v":false},{"$f":"Find_Month(KC$16,KC$17,$F26)","v":false},{"$f":"Find_Month(KD$16,KD$17,$F26)","v":false},{"$f":"Find_Month(KE$16,KE$17,$F26)","v":false},{"$f":"Find_Month(KF$16,KF$17,$F26)","v":false},{"$f":"Find_Month(KG$16,KG$17,$F26)","v":false},{"$f":"Find_Month(KH$16,KH$17,$F26)","v":false},{"$f":"Find_Month(KI$16,KI$17,$F26)","v":false},{"$f":"Find_Month(KJ$16,KJ$17,$F26)","v":false},{"$f":"Find_Month(KK$16,KK$17,$F26)","v":true},{"$f":"Find_Month(KL$16,KL$17,$F26)","v":false},{"$f":"Find_Month(KM$16,KM$17,$F26)","v":false},{"$f":"Find_Month(KN$16,KN$17,$F26)","v":false},{"$f":"Find_Month(KO$16,KO$17,$F26)","v":false},{"$f":"Find_Month(KP$16,KP$17,$F26)","v":false},{"$f":"Find_Month(KQ$16,KQ$17,$F26)","v":false},{"$f":"Find_Month(KR$16,KR$17,$F26)","v":false},{"$f":"Find_Month(KS$16,KS$17,$F26)","v":false},{"$f":"Find_Month(KT$16,KT$17,$F26)","v":false},{"$f":"Find_Month(KU$16,KU$17,$F26)","v":false},{"$f":"Find_Month(KV$16,KV$17,$F26)","v":false},{"$f":"Find_Month(KW$16,KW$17,$F26)","v":true},{"$f":"Find_Month(KX$16,KX$17,$F26)","v":false},{"$f":"Find_Month(KY$16,KY$17,$F26)","v":false},{"$f":"Find_Month(KZ$16,KZ$17,$F26)","v":false},{"$f":"Find_Month(LA$16,LA$17,$F26)","v":false},{"$f":"Find_Month(LB$16,LB$17,$F26)","v":false},{"$f":"Find_Month(LC$16,LC$17,$F26)","v":false},{"$f":"Find_Month(LD$16,LD$17,$F26)","v":false},{"$f":"Find_Month(LE$16,LE$17,$F26)","v":false},{"$f":"Find_Month(LF$16,LF$17,$F26)","v":false},{"$f":"Find_Month(LG$16,LG$17,$F26)","v":false},{"$f":"Find_Month(LH$16,LH$17,$F26)","v":false},{"$f":"Find_Month(LI$16,LI$17,$F26)","v":true},{"$f":"Find_Month(LJ$16,LJ$17,$F26)","v":false},{"$f":"Find_Month(LK$16,LK$17,$F26)","v":false},{"$f":"Find_Month(LL$16,LL$17,$F26)","v":false},{"$f":"Find_Month(LM$16,LM$17,$F26)","v":false},{"$f":"Find_Month(LN$16,LN$17,$F26)","v":false},{"$f":"Find_Month(LO$16,LO$17,$F26)","v":false},{"$f":"Find_Month(LP$16,LP$17,$F26)","v":false},{"$f":"Find_Month(LQ$16,LQ$17,$F26)","v":false},{"$f":"Find_Month(LR$16,LR$17,$F26)","v":false},{"$f":"Find_Month(LS$16,LS$17,$F26)","v":false},{"$f":"Find_Month(LT$16,LT$17,$F26)","v":false},{"$f":"Find_Month(LU$16,LU$17,$F26)","v":true},{"$f":"Find_Month(LV$16,LV$17,$F26)","v":false},{"$f":"Find_Month(LW$16,LW$17,$F26)","v":false},{"$f":"Find_Month(LX$16,LX$17,$F26)","v":false},{"$f":"Find_Month(LY$16,LY$17,$F26)","v":false},{"$f":"Find_Month(LZ$16,LZ$17,$F26)","v":false},{"$f":"Find_Month(MA$16,MA$17,$F26)","v":false},{"$f":"Find_Month(MB$16,MB$17,$F26)","v":false},{"$f":"Find_Month(MC$16,MC$17,$F26)","v":false},{"$f":"Find_Month(MD$16,MD$17,$F26)","v":false},{"$f":"Find_Month(ME$16,ME$17,$F26)","v":false},{"$f":"Find_Month(MF$16,MF$17,$F26)","v":false},{"$f":"Find_Month(MG$16,MG$17,$F26)","v":true},{"$f":"Find_Month(MH$16,MH$17,$F26)","v":false},{"$f":"Find_Month(MI$16,MI$17,$F26)","v":false},{"$f":"Find_Month(MJ$16,MJ$17,$F26)","v":false},{"$f":"Find_Month(MK$16,MK$17,$F26)","v":false},{"$f":"Find_Month(ML$16,ML$17,$F26)","v":false},{"$f":"Find_Month(MM$16,MM$17,$F26)","v":false},{"$f":"Find_Month(MN$16,MN$17,$F26)","v":false},{"$f":"Find_Month(MO$16,MO$17,$F26)","v":false},{"$f":"Find_Month(MP$16,MP$17,$F26)","v":false},{"$f":"Find_Month(MQ$16,MQ$17,$F26)","v":false},{"$f":"Find_Month(MR$16,MR$17,$F26)","v":false},{"$f":"Find_Month(MS$16,MS$17,$F26)","v":true},{"$f":"Find_Month(MT$16,MT$17,$F26)","v":false},{"$f":"Find_Month(MU$16,MU$17,$F26)","v":false},{"$f":"Find_Month(MV$16,MV$17,$F26)","v":false},{"$f":"Find_Month(MW$16,MW$17,$F26)","v":false},{"$f":"Find_Month(MX$16,MX$17,$F26)","v":false},{"$f":"Find_Month(MY$16,MY$17,$F26)","v":false},{"$f":"Find_Month(MZ$16,MZ$17,$F26)","v":false},{"$f":"Find_Month(NA$16,NA$17,$F26)","v":false},{"$f":"Find_Month(NB$16,NB$17,$F26)","v":false},{"$f":"Find_Month(NC$16,NC$17,$F26)","v":false},{"$f":"Find_Month(ND$16,ND$17,$F26)","v":false},{"$f":"Find_Month(NE$16,NE$17,$F26)","v":true},{"$f":"Find_Month(NF$16,NF$17,$F26)","v":false},{"$f":"Find_Month(NG$16,NG$17,$F26)","v":false},{"$f":"Find_Month(NH$16,NH$17,$F26)","v":false},{"$f":"Find_Month(NI$16,NI$17,$F26)","v":false},{"$f":"Find_Month(NJ$16,NJ$17,$F26)","v":false},{"$f":"Find_Month(NK$16,NK$17,$F26)","v":false},{"$f":"Find_Month(NL$16,NL$17,$F26)","v":false},{"$f":"Find_Month(NM$16,NM$17,$F26)","v":false},{"$f":"Find_Month(NN$16,NN$17,$F26)","v":false},{"$f":"Find_Month(NO$16,NO$17,$F26)","v":false},{"$f":"Find_Month(NP$16,NP$17,$F26)","v":false},{"$f":"Find_Month(NQ$16,NQ$17,$F26)","v":true},{"$f":"Find_Month(NR$16,NR$17,$F26)","v":false},{"$f":"Find_Month(NS$16,NS$17,$F26)","v":false},{"$f":"Find_Month(NT$16,NT$17,$F26)","v":false},{"$f":"Find_Month(NU$16,NU$17,$F26)","v":false},{"$f":"Find_Month(NV$16,NV$17,$F26)","v":false},{"$f":"Find_Month(NW$16,NW$17,$F26)","v":false},{"$f":"Find_Month(NX$16,NX$17,$F26)","v":false},{"$f":"Find_Month(NY$16,NY$17,$F26)","v":false},{"$f":"Find_Month(NZ$16,NZ$17,$F26)","v":false},{"$f":"Find_Month(OA$16,OA$17,$F26)","v":false},{"$f":"Find_Month(OB$16,OB$17,$F26)","v":false},{"$f":"Find_Month(OC$16,OC$17,$F26)","v":true},{"$f":"Find_Month(OD$16,OD$17,$F26)","v":false},{"$f":"Find_Month(OE$16,OE$17,$F26)","v":false},{"$f":"Find_Month(OF$16,OF$17,$F26)","v":false},{"$f":"Find_Month(OG$16,OG$17,$F26)","v":false},{"$f":"Find_Month(OH$16,OH$17,$F26)","v":false},{"$f":"Find_Month(OI$16,OI$17,$F26)","v":false},{"$f":"Find_Month(OJ$16,OJ$17,$F26)","v":false},{"$f":"Find_Month(OK$16,OK$17,$F26)","v":false},{"$f":"Find_Month(OL$16,OL$17,$F26)","v":false},{"$f":"Find_Month(OM$16,OM$17,$F26)","v":false},{"$f":"Find_Month(ON$16,ON$17,$F26)","v":false},{"$f":"Find_Month(OO$16,OO$17,$F26)","v":true},{"$f":"Find_Month(OP$16,OP$17,$F26)","v":false},{"$f":"Find_Month(OQ$16,OQ$17,$F26)","v":false},{"$f":"Find_Month(OR$16,OR$17,$F26)","v":false},{"$f":"Find_Month(OS$16,OS$17,$F26)","v":false},{"$f":"Find_Month(OT$16,OT$17,$F26)","v":false},{"$f":"Find_Month(OU$16,OU$17,$F26)","v":false},{"$f":"Find_Month(OV$16,OV$17,$F26)","v":false},{"$f":"Find_Month(OW$16,OW$17,$F26)","v":false},{"$f":"Find_Month(OX$16,OX$17,$F26)","v":false},{"$f":"Find_Month(OY$16,OY$17,$F26)","v":false},{"$f":"Find_Month(OZ$16,OZ$17,$F26)","v":false},{"$f":"Find_Month(PA$16,PA$17,$F26)","v":true},{"$f":"Find_Month(PB$16,PB$17,$F26)","v":false},{"$f":"Find_Month(PC$16,PC$17,$F26)","v":false},{"$f":"Find_Month(PD$16,PD$17,$F26)","v":false},{"$f":"Find_Month(PE$16,PE$17,$F26)","v":false},{"$f":"Find_Month(PF$16,PF$17,$F26)","v":false},{"$f":"Find_Month(PG$16,PG$17,$F26)","v":false},{"$f":"Find_Month(PH$16,PH$17,$F26)","v":false},{"$f":"Find_Month(PI$16,PI$17,$F26)","v":false},{"$f":"Find_Month(PJ$16,PJ$17,$F26)","v":false},{"$f":"Find_Month(PK$16,PK$17,$F26)","v":false},{"$f":"Find_Month(PL$16,PL$17,$F26)","v":false},{"$f":"Find_Month(PM$16,PM$17,$F26)","v":true},{"$f":"Find_Month(PN$16,PN$17,$F26)","v":false},{"$f":"Find_Month(PO$16,PO$17,$F26)","v":false},{"$f":"Find_Month(PP$16,PP$17,$F26)","v":false},{"$f":"Find_Month(PQ$16,PQ$17,$F26)","v":false},{"$f":"Find_Month(PR$16,PR$17,$F26)","v":false},{"$f":"Find_Month(PS$16,PS$17,$F26)","v":false},{"$f":"Find_Month(PT$16,PT$17,$F26)","v":false},{"$f":"Find_Month(PU$16,PU$17,$F26)","v":false},{"$f":"Find_Month(PV$16,PV$17,$F26)","v":false},{"$f":"Find_Month(PW$16,PW$17,$F26)","v":false},{"$f":"Find_Month(PX$16,PX$17,$F26)","v":false},{"$f":"Find_Month(PY$16,PY$17,$F26)","v":true},{"$f":"Find_Month(PZ$16,PZ$17,$F26)","v":false},{"$f":"Find_Month(QA$16,QA$17,$F26)","v":false},{"$f":"Find_Month(QB$16,QB$17,$F26)","v":false},{"$f":"Find_Month(QC$16,QC$17,$F26)","v":false},{"$f":"Find_Month(QD$16,QD$17,$F26)","v":false},{"$f":"Find_Month(QE$16,QE$17,$F26)","v":false},{"$f":"Find_Month(QF$16,QF$17,$F26)","v":false},{"$f":"Find_Month(QG$16,QG$17,$F26)","v":false},{"$f":"Find_Month(QH$16,QH$17,$F26)","v":false},{"$f":"Find_Month(QI$16,QI$17,$F26)","v":false},{"$f":"Find_Month(QJ$16,QJ$17,$F26)","v":false},{"$f":"Find_Month(QK$16,QK$17,$F26)","v":true},{"$f":"Find_Month(QL$16,QL$17,$F26)","v":false},{"$f":"Find_Month(QM$16,QM$17,$F26)","v":false},{"$f":"Find_Month(QN$16,QN$17,$F26)","v":false},{"$f":"Find_Month(QO$16,QO$17,$F26)","v":false},{"$f":"Find_Month(QP$16,QP$17,$F26)","v":false},{"$f":"Find_Month(QQ$16,QQ$17,$F26)","v":false},{"$f":"Find_Month(QR$16,QR$17,$F26)","v":false},{"$f":"Find_Month(QS$16,QS$17,$F26)","v":false},{"$f":"Find_Month(QT$16,QT$17,$F26)","v":false},{"$f":"Find_Month(QU$16,QU$17,$F26)","v":false},{"$f":"Find_Month(QV$16,QV$17,$F26)","v":false},{"$f":"Find_Month(QW$16,QW$17,$F26)","v":true},{"$f":"Find_Month(QX$16,QX$17,$F26)","v":false},{"$f":"Find_Month(QY$16,QY$17,$F26)","v":false},{"$f":"Find_Month(QZ$16,QZ$17,$F26)","v":false},{"$f":"Find_Month(RA$16,RA$17,$F26)","v":false},{"$f":"Find_Month(RB$16,RB$17,$F26)","v":false},{"$f":"Find_Month(RC$16,RC$17,$F26)","v":false},{"$f":"Find_Month(RD$16,RD$17,$F26)","v":false},{"$f":"Find_Month(RE$16,RE$17,$F26)","v":false},{"$f":"Find_Month(RF$16,RF$17,$F26)","v":false},{"$f":"Find_Month(RG$16,RG$17,$F26)","v":false},{"$f":"Find_Month(RH$16,RH$17,$F26)","v":false},{"$f":"Find_Month(RI$16,RI$17,$F26)","v":true},{"$f":"Find_Month(RJ$16,RJ$17,$F26)","v":false},{"$f":"Find_Month(RK$16,RK$17,$F26)","v":false},{"$f":"Find_Month(RL$16,RL$17,$F26)","v":false},{"$f":"Find_Month(RM$16,RM$17,$F26)","v":false},{"$f":"Find_Month(RN$16,RN$17,$F26)","v":false},{"$f":"Find_Month(RO$16,RO$17,$F26)","v":false},{"$f":"Find_Month(RP$16,RP$17,$F26)","v":false},{"$f":"Find_Month(RQ$16,RQ$17,$F26)","v":false},{"$f":"Find_Month(RR$16,RR$17,$F26)","v":false},{"$f":"Find_Month(RS$16,RS$17,$F26)","v":false},{"$f":"Find_Month(RT$16,RT$17,$F26)","v":false},{"$f":"Find_Month(RU$16,RU$17,$F26)","v":true},{"$f":"Find_Month(RV$16,RV$17,$F26)","v":false},{"$f":"Find_Month(RW$16,RW$17,$F26)","v":false},{"$f":"Find_Month(RX$16,RX$17,$F26)","v":false},{"$f":"Find_Month(RY$16,RY$17,$F26)","v":false},{"$f":"Find_Month(RZ$16,RZ$17,$F26)","v":false},{"$f":"Find_Month(SA$16,SA$17,$F26)","v":false},{"$f":"Find_Month(SB$16,SB$17,$F26)","v":false},{"$f":"Find_Month(SC$16,SC$17,$F26)","v":false},{"$f":"Find_Month(SD$16,SD$17,$F26)","v":false},{"$f":"Find_Month(SE$16,SE$17,$F26)","v":false},{"$f":"Find_Month(SF$16,SF$17,$F26)","v":false},{"$f":"Find_Month(SG$16,SG$17,$F26)","v":true},{"$f":"Find_Month(SH$16,SH$17,$F26)","v":false},{"$f":"Find_Month(SI$16,SI$17,$F26)","v":false},{"$f":"Find_Month(SJ$16,SJ$17,$F26)","v":false},{"$f":"Find_Month(SK$16,SK$17,$F26)","v":false},{"$f":"Find_Month(SL$16,SL$17,$F26)","v":false},{"$f":"Find_Month(SM$16,SM$17,$F26)","v":false},{"$f":"Find_Month(SN$16,SN$17,$F26)","v":false},{"$f":"Find_Month(SO$16,SO$17,$F26)","v":false},{"$f":"Find_Month(SP$16,SP$17,$F26)","v":false},{"$f":"Find_Month(SQ$16,SQ$17,$F26)","v":false},{"$f":"Find_Month(SR$16,SR$17,$F26)","v":false},{"$f":"Find_Month(SS$16,SS$17,$F26)","v":true},{"$f":"Find_Month(ST$16,ST$17,$F26)","v":false},{"$f":"Find_Month(SU$16,SU$17,$F26)","v":false},{"$f":"Find_Month(SV$16,SV$17,$F26)","v":false},{"$f":"Find_Month(SW$16,SW$17,$F26)","v":false},{"$f":"Find_Month(SX$16,SX$17,$F26)","v":false},{"$f":"Find_Month(SY$16,SY$17,$F26)","v":false},{"$f":"Find_Month(SZ$16,SZ$17,$F26)","v":false},{"$f":"Find_Month(TA$16,TA$17,$F26)","v":false},{"$f":"Find_Month(TB$16,TB$17,$F26)","v":false},{"$f":"Find_Month(TC$16,TC$17,$F26)","v":false},{"$f":"Find_Month(TD$16,TD$17,$F26)","v":false},{"$f":"Find_Month(TE$16,TE$17,$F26)","v":true},{"$f":"Find_Month(TF$16,TF$17,$F26)","v":false},{"$f":"Find_Month(TG$16,TG$17,$F26)","v":false},{"$f":"Find_Month(TH$16,TH$17,$F26)","v":false},{"$f":"Find_Month(TI$16,TI$17,$F26)","v":false},{"$f":"Find_Month(TJ$16,TJ$17,$F26)","v":false},{"$f":"Find_Month(TK$16,TK$17,$F26)","v":false},{"$f":"Find_Month(TL$16,TL$17,$F26)","v":false},{"$f":"Find_Month(TM$16,TM$17,$F26)","v":false},{"$f":"Find_Month(TN$16,TN$17,$F26)","v":false},{"$f":"Find_Month(TO$16,TO$17,$F26)","v":false},{"$f":"Find_Month(TP$16,TP$17,$F26)","v":false},{"$f":"Find_Month(TQ$16,TQ$17,$F26)","v":true},{"$f":"Find_Month(TR$16,TR$17,$F26)","v":false},{"$f":"Find_Month(TS$16,TS$17,$F26)","v":false},{"$f":"Find_Month(TT$16,TT$17,$F26)","v":false},{"$f":"Find_Month(TU$16,TU$17,$F26)","v":false},{"$f":"Find_Month(TV$16,TV$17,$F26)","v":false},{"$f":"Find_Month(TW$16,TW$17,$F26)","v":false},{"$f":"Find_Month(TX$16,TX$17,$F26)","v":false},{"$f":"Find_Month(TY$16,TY$17,$F26)","v":false},{"$f":"Find_Month(TZ$16,TZ$17,$F26)","v":false},{"$f":"Find_Month(UA$16,UA$17,$F26)","v":false},{"$f":"Find_Month(UB$16,UB$17,$F26)","v":false},{"$f":"Find_Month(UC$16,UC$17,$F26)","v":true},{"$f":"Find_Month(UD$16,UD$17,$F26)","v":false},{"$f":"Find_Month(UE$16,UE$17,$F26)","v":false},{"$f":"Find_Month(UF$16,UF$17,$F26)","v":false},{"$f":"Find_Month(UG$16,UG$17,$F26)","v":false},{"$f":"Find_Month(UH$16,UH$17,$F26)","v":false},{"$f":"Find_Month(UI$16,UI$17,$F26)","v":false},{"$f":"Find_Month(UJ$16,UJ$17,$F26)","v":false},{"$f":"Find_Month(UK$16,UK$17,$F26)","v":false},{"$f":"Find_Month(UL$16,UL$17,$F26)","v":false},{"$f":"Find_Month(UM$16,UM$17,$F26)","v":false}]
[null,null,null,null,null,8,null,0.13500000000000001,null,{"$f":"Find_Month(J$16,J$17,$F27)","v":true},{"$f":"Find_Month(K$16,K$17,$F27)","v":false},{"$f":"Find_Month(L$16,L$17,$F27)","v":false},{"$f":"Find_Month(M$16,M$17,$F27)","v":false},{"$f":"Find_Month(N$16,N$17,$F27)","v":false},{"$f":"Find_Month(O$16,O$17,$F27)","v":false},{"$f":"Find_Month(P$16,P$17,$F27)","v":false},{"$f":"Find_Month(Q$16,Q$17,$F27)","v":false},{"$f":"Find_Month(R$16,R$17,$F27)","v":false},{"$f":"Find_Month(S$16,S$17,$F27)","v":false},{"$f":"Find_Month(T$16,T$17,$F27)","v":false},{"$f":"Find_Month(U$16,U$17,$F27)","v":false},{"$f":"Find_Month(V$16,V$17,$F27)","v":true},{"$f":"Find_Month(W$16,W$17,$F27)","v":false},{"$f":"Find_Month(X$16,X$17,$F27)","v":false},{"$f":"Find_Month(Y$16,Y$17,$F27)","v":false},{"$f":"Find_Month(Z$16,Z$17,$F27)","v":false},{"$f":"Find_Month(AA$16,AA$17,$F27)","v":false},{"$f":"Find_Month(AB$16,AB$17,$F27)","v":false},{"$f":"Find_Month(AC$16,AC$17,$F27)","v":false},{"$f":"Find_Month(AD$16,AD$17,$F27)","v":false},{"$f":"Find_Month(AE$16,AE$17,$F27)","v":false},{"$f":"Find_Month(AF$16,AF$17,$F27)","v":false},{"$f":"Find_Month(AG$16,AG$17,$F27)","v":false},{"$f":"Find_Month(AH$16,AH$17,$F27)","v":true},{"$f":"Find_Month(AI$16,AI$17,$F27)","v":false},{"$f":"Find_Month(AJ$16,AJ$17,$F27)","v":false},{"$f":"Find_Month(AK$16,AK$17,$F27)","v":false},{"$f":"Find_Month(AL$16,AL$17,$F27)","v":false},{"$f":"Find_Month(AM$16,AM$17,$F27)","v":false},{"$f":"Find_Month(AN$16,AN$17,$F27)","v":false},{"$f":"Find_Month(AO$16,AO$17,$F27)","v":false},{"$f":"Find_Month(AP$16,AP$17,$F27)","v":false},{"$f":"Find_Month(AQ$16,AQ$17,$F27)","v":false},{"$f":"Find_Month(AR$16,AR$17,$F27)","v":false},{"$f":"Find_Month(AS$16,AS$17,$F27)","v":false},{"$f":"Find_Month(AT$16,AT$17,$F27)","v":true},{"$f":"Find_Month(AU$16,AU$17,$F27)","v":false},{"$f":"Find_Month(AV$16,AV$17,$F27)","v":false},{"$f":"Find_Month(AW$16,AW$17,$F27)","v":false},{"$f":"Find_Month(AX$16,AX$17,$F27)","v":false},{"$f":"Find_Month(AY$16,AY$17,$F27)","v":false},{"$f":"Find_Month(AZ$16,AZ$17,$F27)","v":false},{"$f":"Find_Month(BA$16,BA$17,$F27)","v":false},{"$f":"Find_Month(BB$16,BB$17,$F27)","v":false},{"$f":"Find_Month(BC$16,BC$17,$F27)","v":false},{"$f":"Find_Month(BD$16,BD$17,$F27)","v":false},{"$f":"Find_Month(BE$16,BE$17,$F27)","v":false},{"$f":"Find_Month(BF$16,BF$17,$F27)","v":true},{"$f":"Find_Month(BG$16,BG$17,$F27)","v":false},{"$f":"Find_Month(BH$16,BH$17,$F27)","v":false},{"$f":"Find_Month(BI$16,BI$17,$F27)","v":false},{"$f":"Find_Month(BJ$16,BJ$17,$F27)","v":false},{"$f":"Find_Month(BK$16,BK$17,$F27)","v":false},{"$f":"Find_Month(BL$16,BL$17,$F27)","v":false},{"$f":"Find_Month(BM$16,BM$17,$F27)","v":false},{"$f":"Find_Month(BN$16,BN$17,$F27)","v":false},{"$f":"Find_Month(BO$16,BO$17,$F27)","v":false},{"$f":"Find_Month(BP$16,BP$17,$F27)","v":false},{"$f":"Find_Month(BQ$16,BQ$17,$F27)","v":false},{"$f":"Find_Month(BR$16,BR$17,$F27)","v":true},{"$f":"Find_Month(BS$16,BS$17,$F27)","v":false},{"$f":"Find_Month(BT$16,BT$17,$F27)","v":false},{"$f":"Find_Month(BU$16,BU$17,$F27)","v":false},{"$f":"Find_Month(BV$16,BV$17,$F27)","v":false},{"$f":"Find_Month(BW$16,BW$17,$F27)","v":false},{"$f":"Find_Month(BX$16,BX$17,$F27)","v":false},{"$f":"Find_Month(BY$16,BY$17,$F27)","v":false},{"$f":"Find_Month(BZ$16,BZ$17,$F27)","v":false},{"$f":"Find_Month(CA$16,CA$17,$F27)","v":false},{"$f":"Find_Month(CB$16,CB$17,$F27)","v":false},{"$f":"Find_Month(CC$16,CC$17,$F27)","v":false},{"$f":"Find_Month(CD$16,CD$17,$F27)","v":true},{"$f":"Find_Month(CE$16,CE$17,$F27)","v":false},{"$f":"Find_Month(CF$16,CF$17,$F27)","v":false},{"$f":"Find_Month(CG$16,CG$17,$F27)","v":false},{"$f":"Find_Month(CH$16,CH$17,$F27)","v":false},{"$f":"Find_Month(CI$16,CI$17,$F27)","v":false},{"$f":"Find_Month(CJ$16,CJ$17,$F27)","v":false},{"$f":"Find_Month(CK$16,CK$17,$F27)","v":false},{"$f":"Find_Month(CL$16,CL$17,$F27)","v":false},{"$f":"Find_Month(CM$16,CM$17,$F27)","v":false},{"$f":"Find_Month(CN$16,CN$17,$F27)","v":false},{"$f":"Find_Month(CO$16,CO$17,$F27)","v":false},{"$f":"Find_Month(CP$16,CP$17,$F27)","v":true},{"$f":"Find_Month(CQ$16,CQ$17,$F27)","v":false},{"$f":"Find_Month(CR$16,CR$17,$F27)","v":false},{"$f":"Find_Month(CS$16,CS$17,$F27)","v":false},{"$f":"Find_Month(CT$16,CT$17,$F27)","v":false},{"$f":"Find_Month(CU$16,CU$17,$F27)","v":false},{"$f":"Find_Month(CV$16,CV$17,$F27)","v":false},{"$f":"Find_Month(CW$16,CW$17,$F27)","v":false},{"$f":"Find_Month(CX$16,CX$17,$F27)","v":false},{"$f":"Find_Month(CY$16,CY$17,$F27)","v":false},{"$f":"Find_Month(CZ$16,CZ$17,$F27)","v":false},{"$f":"Find_Month(DA$16,DA$17,$F27)","v":false},{"$f":"Find_Month(DB$16,DB$17,$F27)","v":true},{"$f":"Find_Month(DC$16,DC$17,$F27)","v":false},{"$f":"Find_Month(DD$16,DD$17,$F27)","v":false},{"$f":"Find_Month(DE$16,DE$17,$F27)","v":false},{"$f":"Find_Month(DF$16,DF$17,$F27)","v":false},{"$f":"Find_Month(DG$16,DG$17,$F27)","v":false},{"$f":"Find_Month(DH$16,DH$17,$F27)","v":false},{"$f":"Find_Month(DI$16,DI$17,$F27)","v":false},{"$f":"Find_Month(DJ$16,DJ$17,$F27)","v":false},{"$f":"Find_Month(DK$16,DK$17,$F27)","v":false},{"$f":"Find_Month(DL$16,DL$17,$F27)","v":false},{"$f":"Find_Month(DM$16,DM$17,$F27)","v":false},{"$f":"Find_Month(DN$16,DN$17,$F27)","v":true},{"$f":"Find_Month(DO$16,DO$17,$F27)","v":false},{"$f":"Find_Month(DP$16,DP$17,$F27)","v":false},{"$f":"Find_Month(DQ$16,DQ$17,$F27)","v":false},{"$f":"Find_Month(DR$16,DR$17,$F27)","v":false},{"$f":"Find_Month(DS$16,DS$17,$F27)","v":false},{"$f":"Find_Month(DT$16,DT$17,$F27)","v":false},{"$f":"Find_Month(DU$16,DU$17,$F27)","v":false},{"$f":"Find_Month(DV$16,DV$17,$F27)","v":false},{"$f":"Find_Month(DW$16,DW$17,$F27)","v":false},{"$f":"Find_Month(DX$16,DX$17,$F27)","v":false},{"$f":"Find_Month(DY$16,DY$17,$F27)","v":false},{"$f":"Find_Month(DZ$16,DZ$17,$F27)","v":true},{"$f":"Find_Month(EA$16,EA$17,$F27)","v":false},{"$f":"Find_Month(EB$16,EB$17,$F27)","v":false},{"$f":"Find_Month(EC$16,EC$17,$F27)","v":false},{"$f":"Find_Month(ED$16,ED$17,$F27)","v":false},{"$f":"Find_Month(EE$16,EE$17,$F27)","v":false},{"$f":"Find_Month(EF$16,EF$17,$F27)","v":false},{"$f":"Find_Month(EG$16,EG$17,$F27)","v":false},{"$f":"Find_Month(EH$16,EH$17,$F27)","v":false},{"$f":"Find_Month(EI$16,EI$17,$F27)","v":false},{"$f":"Find_Month(EJ$16,EJ$17,$F27)","v":false},{"$f":"Find_Month(EK$16,EK$17,$F27)","v":false},{"$f":"Find_Month(EL$16,EL$17,$F27)","v":true},{"$f":"Find_Month(EM$16,EM$17,$F27)","v":false},{"$f":"Find_Month(EN$16,EN$17,$F27)","v":false},{"$f":"Find_Month(EO$16,EO$17,$F27)","v":false},{"$f":"Find_Month(EP$16,EP$17,$F27)","v":false},{"$f":"Find_Month(EQ$16,EQ$17,$F27)","v":false},{"$f":"Find_Month(ER$16,ER$17,$F27)","v":false},{"$f":"Find_Month(ES$16,ES$17,$F27)","v":false},{"$f":"Find_Month(ET$16,ET$17,$F27)","v":false},{"$f":"Find_Month(EU$16,EU$17,$F27)","v":false},{"$f":"Find_Month(EV$16,EV$17,$F27)","v":false},{"$f":"Find_Month(EW$16,EW$17,$F27)","v":false},{"$f":"Find_Month(EX$16,EX$17,$F27)","v":true},{"$f":"Find_Month(EY$16,EY$17,$F27)","v":false},{"$f":"Find_Month(EZ$16,EZ$17,$F27)","v":false},{"$f":"Find_Month(FA$16,FA$17,$F27)","v":false},{"$f":"Find_Month(FB$16,FB$17,$F27)","v":false},{"$f":"Find_Month(FC$16,FC$17,$F27)","v":false},{"$f":"Find_Month(FD$16,FD$17,$F27)","v":false},{"$f":"Find_Month(FE$16,FE$17,$F27)","v":false},{"$f":"Find_Month(FF$16,FF$17,$F27)","v":false},{"$f":"Find_Month(FG$16,FG$17,$F27)","v":false},{"$f":"Find_Month(FH$16,FH$17,$F27)","v":false},{"$f":"Find_Month(FI$16,FI$17,$F27)","v":false},{"$f":"Find_Month(FJ$16,FJ$17,$F27)","v":true},{"$f":"Find_Month(FK$16,FK$17,$F27)","v":false},{"$f":"Find_Month(FL$16,FL$17,$F27)","v":false},{"$f":"Find_Month(FM$16,FM$17,$F27)","v":false},{"$f":"Find_Month(FN$16,FN$17,$F27)","v":false},{"$f":"Find_Month(FO$16,FO$17,$F27)","v":false},{"$f":"Find_Month(FP$16,FP$17,$F27)","v":false},{"$f":"Find_Month(FQ$16,FQ$17,$F27)","v":false},{"$f":"Find_Month(FR$16,FR$17,$F27)","v":false},{"$f":"Find_Month(FS$16,FS$17,$F27)","v":false},{"$f":"Find_Month(FT$16,FT$17,$F27)","v":false},{"$f":"Find_Month(FU$16,FU$17,$F27)","v":false},{"$f":"Find_Month(FV$16,FV$17,$F27)","v":true},{"$f":"Find_Month(FW$16,FW$17,$F27)","v":false},{"$f":"Find_Month(FX$16,FX$17,$F27)","v":false},{"$f":"Find_Month(FY$16,FY$17,$F27)","v":false},{"$f":"Find_Month(FZ$16,FZ$17,$F27)","v":false},{"$f":"Find_Month(GA$16,GA$17,$F27)","v":false},{"$f":"Find_Month(GB$16,GB$17,$F27)","v":false},{"$f":"Find_Month(GC$16,GC$17,$F27)","v":false},{"$f":"Find_Month(GD$16,GD$17,$F27)","v":false},{"$f":"Find_Month(GE$16,GE$17,$F27)","v":false},{"$f":"Find_Month(GF$16,GF$17,$F27)","v":false},{"$f":"Find_Month(GG$16,GG$17,$F27)","v":false},{"$f":"Find_Month(GH$16,GH$17,$F27)","v":true},{"$f":"Find_Month(GI$16,GI$17,$F27)","v":false},{"$f":"Find_Month(GJ$16,GJ$17,$F27)","v":false},{"$f":"Find_Month(GK$16,GK$17,$F27)","v":false},{"$f":"Find_Month(GL$16,GL$17,$F27)","v":false},{"$f":"Find_Month(GM$16,GM$17,$F27)","v":false},{"$f":"Find_Month(GN$16,GN$17,$F27)","v":false},{"$f":"Find_Month(GO$16,GO$17,$F27)","v":false},{"$f":"Find_Month(GP$16,GP$17,$F27)","v":false},{"$f":"Find_Month(GQ$16,GQ$17,$F27)","v":false},{"$f":"Find_Month(GR$16,GR$17,$F27)","v":false},{"$f":"Find_Month(GS$16,GS$17,$F27)","v":false},{"$f":"Find_Month(GT$16,GT$17,$F27)","v":true},{"$f":"Find_Month(GU$16,GU$17,$F27)","v":false},{"$f":"Find_Month(GV$16,GV$17,$F27)","v":false},{"$f":"Find_Month(GW$16,GW$17,$F27)","v":false},{"$f":"Find_Month(GX$16,GX$17,$F27)","v":false},{"$f":"Find_Month(GY$16,GY$17,$F27)","v":false},{"$f":"Find_Month(GZ$16,GZ$17,$F27)","v":false},{"$f":"Find_Month(HA$16,HA$17,$F27)","v":false},{"$f":"Find_Month(HB$16,HB$17,$F27)","v":false},{"$f":"Find_Month(HC$16,HC$17,$F27)","v":false},{"$f":"Find_Month(HD$16,HD$17,$F27)","v":false},{"$f":"Find_Month(HE$16,HE$17,$F27)","v":false},{"$f":"Find_Month(HF$16,HF$17,$F27)","v":true},{"$f":"Find_Month(HG$16,HG$17,$F27)","v":false},{"$f":"Find_Month(HH$16,HH$17,$F27)","v":false},{"$f":"Find_Month(HI$16,HI$17,$F27)","v":false},{"$f":"Find_Month(HJ$16,HJ$17,$F27)","v":false},{"$f":"Find_Month(HK$16,HK$17,$F27)","v":false},{"$f":"Find_Month(HL$16,HL$17,$F27)","v":false},{"$f":"Find_Month(HM$16,HM$17,$F27)","v":false},{"$f":"Find_Month(HN$16,HN$17,$F27)","v":false},{"$f":"Find_Month(HO$16,HO$17,$F27)","v":false},{"$f":"Find_Month(HP$16,HP$17,$F27)","v":false},{"$f":"Find_Month(HQ$16,HQ$17,$F27)","v":false},{"$f":"Find_Month(HR$16,HR$17,$F27)","v":true},{"$f":"Find_Month(HS$16,HS$17,$F27)","v":false},{"$f":"Find_Month(HT$16,HT$17,$F27)","v":false},{"$f":"Find_Month(HU$16,HU$17,$F27)","v":false},{"$f":"Find_Month(HV$16,HV$17,$F27)","v":false},{"$f":"Find_Month(HW$16,HW$17,$F27)","v":false},{"$f":"Find_Month(HX$16,HX$17,$F27)","v":false},{"$f":"Find_Month(HY$16,HY$17,$F27)","v":false},{"$f":"Find_Month(HZ$16,HZ$17,$F27)","v":false},{"$f":"Find_Month(IA$16,IA$17,$F27)","v":false},{"$f":"Find_Month(IB$16,IB$17,$F27)","v":false},{"$f":"Find_Month(IC$16,IC$17,$F27)","v":false},{"$f":"Find_Month(ID$16,ID$17,$F27)","v":true},{"$f":"Find_Month(IE$16,IE$17,$F27)","v":false},{"$f":"Find_Month(IF$16,IF$17,$F27)","v":false},{"$f":"Find_Month(IG$16,IG$17,$F27)","v":false},{"$f":"Find_Month(IH$16,IH$17,$F27)","v":false},{"$f":"Find_Month(II$16,II$17,$F27)","v":false},{"$f":"Find_Month(IJ$16,IJ$17,$F27)","v":false},{"$f":"Find_Month(IK$16,IK$17,$F27)","v":false},{"$f":"Find_Month(IL$16,IL$17,$F27)","v":false},{"$f":"Find_Month(IM$16,IM$17,$F27)","v":false},{"$f":"Find_Month(IN$16,IN$17,$F27)","v":false},{"$f":"Find_Month(IO$16,IO$17,$F27)","v":false},{"$f":"Find_Month(IP$16,IP$17,$F27)","v":true},{"$f":"Find_Month(IQ$16,IQ$17,$F27)","v":false},{"$f":"Find_Month(IR$16,IR$17,$F27)","v":false},{"$f":"Find_Month(IS$16,IS$17,$F27)","v":false},{"$f":"Find_Month(IT$16,IT$17,$F27)","v":false},{"$f":"Find_Month(IU$16,IU$17,$F27)","v":false},{"$f":"Find_Month(IV$16,IV$17,$F27)","v":false},{"$f":"Find_Month(IW$16,IW$17,$F27)","v":false},{"$f":"Find_Month(IX$16,IX$17,$F27)","v":false},{"$f":"Find_Month(IY$16,IY$17,$F27)","v":false},{"$f":"Find_Month(IZ$16,IZ$17,$F27)","v":false},{"$f":"Find_Month(JA$16,JA$17,$F27)","v":false},{"$f":"Find_Month(JB$16,JB$17,$F27)","v":true},{"$f":"Find_Month(JC$16,JC$17,$F27)","v":false},{"$f":"Find_Month(JD$16,JD$17,$F27)","v":false},{"$f":"Find_Month(JE$16,JE$17,$F27)","v":false},{"$f":"Find_Month(JF$16,JF$17,$F27)","v":false},{"$f":"Find_Month(JG$16,JG$17,$F27)","v":false},{"$f":"Find_Month(JH$16,JH$17,$F27)","v":false},{"$f":"Find_Month(JI$16,JI$17,$F27)","v":false},{"$f":"Find_Month(JJ$16,JJ$17,$F27)","v":false},{"$f":"Find_Month(JK$16,JK$17,$F27)","v":false},{"$f":"Find_Month(JL$16,JL$17,$F27)","v":false},{"$f":"Find_Month(JM$16,JM$17,$F27)","v":false},{"$f":"Find_Month(JN$16,JN$17,$F27)","v":true},{"$f":"Find_Month(JO$16,JO$17,$F27)","v":false},{"$f":"Find_Month(JP$16,JP$17,$F27)","v":false},{"$f":"Find_Month(JQ$16,JQ$17,$F27)","v":false},{"$f":"Find_Month(JR$16,JR$17,$F27)","v":false},{"$f":"Find_Month(JS$16,JS$17,$F27)","v":false},{"$f":"Find_Month(JT$16,JT$17,$F27)","v":false},{"$f":"Find_Month(JU$16,JU$17,$F27)","v":false},{"$f":"Find_Month(JV$16,JV$17,$F27)","v":false},{"$f":"Find_Month(JW$16,JW$17,$F27)","v":false},{"$f":"Find_Month(JX$16,JX$17,$F27)","v":false},{"$f":"Find_Month(JY$16,JY$17,$F27)","v":false},{"$f":"Find_Month(JZ$16,JZ$17,$F27)","v":true},{"$f":"Find_Month(KA$16,KA$17,$F27)","v":false},{"$f":"Find_Month(KB$16,KB$17,$F27)","v":false},{"$f":"Find_Month(KC$16,KC$17,$F27)","v":false},{"$f":"Find_Month(KD$16,KD$17,$F27)","v":false},{"$f":"Find_Month(KE$16,KE$17,$F27)","v":false},{"$f":"Find_Month(KF$16,KF$17,$F27)","v":false},{"$f":"Find_Month(KG$16,KG$17,$F27)","v":false},{"$f":"Find_Month(KH$16,KH$17,$F27)","v":false},{"$f":"Find_Month(KI$16,KI$17,$F27)","v":false},{"$f":"Find_Month(KJ$16,KJ$17,$F27)","v":false},{"$f":"Find_Month(KK$16,KK$17,$F27)","v":false},{"$f":"Find_Month(KL$16,KL$17,$F27)","v":true},{"$f":"Find_Month(KM$16,KM$17,$F27)","v":false},{"$f":"Find_Month(KN$16,KN$17,$F27)","v":false},{"$f":"Find_Month(KO$16,KO$17,$F27)","v":false},{"$f":"Find_Month(KP$16,KP$17,$F27)","v":false},{"$f":"Find_Month(KQ$16,KQ$17,$F27)","v":false},{"$f":"Find_Month(KR$16,KR$17,$F27)","v":false},{"$f":"Find_Month(KS$16,KS$17,$F27)","v":false},{"$f":"Find_Month(KT$16,KT$17,$F27)","v":false},{"$f":"Find_Month(KU$16,KU$17,$F27)","v":false},{"$f":"Find_Month(KV$16,KV$17,$F27)","v":false},{"$f":"Find_Month(KW$16,KW$17,$F27)","v":false},{"$f":"Find_Month(KX$16,KX$17,$F27)","v":true},{"$f":"Find_Month(KY$16,KY$17,$F27)","v":false},{"$f":"Find_Month(KZ$16,KZ$17,$F27)","v":false},{"$f":"Find_Month(LA$16,LA$17,$F27)","v":false},{"$f":"Find_Month(LB$16,LB$17,$F27)","v":false},{"$f":"Find_Month(LC$16,LC$17,$F27)","v":false},{"$f":"Find_Month(LD$16,LD$17,$F27)","v":false},{"$f":"Find_Month(LE$16,LE$17,$F27)","v":false},{"$f":"Find_Month(LF$16,LF$17,$F27)","v":false},{"$f":"Find_Month(LG$16,LG$17,$F27)","v":false},{"$f":"Find_Month(LH$16,LH$17,$F27)","v":false},{"$f":"Find_Month(LI$16,LI$17,$F27)","v":false},{"$f":"Find_Month(LJ$16,LJ$17,$F27)","v":true},{"$f":"Find_Month(LK$16,LK$17,$F27)","v":false},{"$f":"Find_Month(LL$16,LL$17,$F27)","v":false},{"$f":"Find_Month(LM$16,LM$17,$F27)","v":false},{"$f":"Find_Month(LN$16,LN$17,$F27)","v":false},{"$f":"Find_Month(LO$16,LO$17,$F27)","v":false},{"$f":"Find_Month(LP$16,LP$17,$F27)","v":false},{"$f":"Find_Month(LQ$16,LQ$17,$F27)","v":false},{"$f":"Find_Month(LR$16,LR$17,$F27)","v":false},{"$f":"Find_Month(LS$16,LS$17,$F27)","v":false},{"$f":"Find_Month(LT$16,LT$17,$F27)","v":false},{"$f":"Find_Month(LU$16,LU$17,$F27)","v":false},{"$f":"Find_Month(LV$16,LV$17,$F27)","v":true},{"$f":"Find_Month(LW$16,LW$17,$F27)","v":false},{"$f":"Find_Month(LX$16,LX$17,$F27)","v":false},{"$f":"Find_Month(LY$16,LY$17,$F27)","v":false},{"$f":"Find_Month(LZ$16,LZ$17,$F27)","v":false},{"$f":"Find_Month(MA$16,MA$17,$F27)","v":false},{"$f":"Find_Month(MB$16,MB$17,$F27)","v":false},{"$f":"Find_Month(MC$16,MC$17,$F27)","v":false},{"$f":"Find_Month(MD$16,MD$17,$F27)","v":false},{"$f":"Find_Month(ME$16,ME$17,$F27)","v":false},{"$f":"Find_Month(MF$16,MF$17,$F27)","v":false},{"$f":"Find_Month(MG$16,MG$17,$F27)","v":false},{"$f":"Find_Month(MH$16,MH$17,$F27)","v":true},{"$f":"Find_Month(MI$16,MI$17,$F27)","v":false},{"$f":"Find_Month(MJ$16,MJ$17,$F27)","v":false},{"$f":"Find_Month(MK$16,MK$17,$F27)","v":false},{"$f":"Find_Month(ML$16,ML$17,$F27)","v":false},{"$f":"Find_Month(MM$16,MM$17,$F27)","v":false},{"$f":"Find_Month(MN$16,MN$17,$F27)","v":false},{"$f":"Find_Month(MO$16,MO$17,$F27)","v":false},{"$f":"Find_Month(MP$16,MP$17,$F27)","v":false},{"$f":"Find_Month(MQ$16,MQ$17,$F27)","v":false},{"$f":"Find_Month(MR$16,MR$17,$F27)","v":false},{"$f":"Find_Month(MS$16,MS$17,$F27)","v":false},{"$f":"Find_Month(MT$16,MT$17,$F27)","v":true},{"$f":"Find_Month(MU$16,MU$17,$F27)","v":false},{"$f":"Find_Month(MV$16,MV$17,$F27)","v":false},{"$f":"Find_Month(MW$16,MW$17,$F27)","v":false},{"$f":"Find_Month(MX$16,MX$17,$F27)","v":false},{"$f":"Find_Month(MY$16,MY$17,$F27)","v":false},{"$f":"Find_Month(MZ$16,MZ$17,$F27)","v":false},{"$f":"Find_Month(NA$16,NA$17,$F27)","v":false},{"$f":"Find_Month(NB$16,NB$17,$F27)","v":false},{"$f":"Find_Month(NC$16,NC$17,$F27)","v":false},{"$f":"Find_Month(ND$16,ND$17,$F27)","v":false},{"$f":"Find_Month(NE$16,NE$17,$F27)","v":false},{"$f":"Find_Month(NF$16,NF$17,$F27)","v":true},{"$f":"Find_Month(NG$16,NG$17,$F27)","v":false},{"$f":"Find_Month(NH$16,NH$17,$F27)","v":false},{"$f":"Find_Month(NI$16,NI$17,$F27)","v":false},{"$f":"Find_Month(NJ$16,NJ$17,$F27)","v":false},{"$f":"Find_Month(NK$16,NK$17,$F27)","v":false},{"$f":"Find_Month(NL$16,NL$17,$F27)","v":false},{"$f":"Find_Month(NM$16,NM$17,$F27)","v":false},{"$f":"Find_Month(NN$16,NN$17,$F27)","v":false},{"$f":"Find_Month(NO$16,NO$17,$F27)","v":false},{"$f":"Find_Month(NP$16,NP$17,$F27)","v":false},{"$f":"Find_Month(NQ$16,NQ$17,$F27)","v":false},{"$f":"Find_Month(NR$16,NR$17,$F27)","v":true},{"$f":"Find_Month(NS$16,NS$17,$F27)","v":false},{"$f":"Find_Month(NT$16,NT$17,$F27)","v":false},{"$f":"Find_Month(NU$16,NU$17,$F27)","v":false},{"$f":"Find_Month(NV$16,NV$17,$F27)","v":false},{"$f":"Find_Month(NW$16,NW$17,$F27)","v":false},{"$f":"Find_Month(NX$16,NX$17,$F27)","v":false},{"$f":"Find_Month(NY$16,NY$17,$F27)","v":false},{"$f":"Find_Month(NZ$16,NZ$17,$F27)","v":false},{"$f":"Find_Month(OA$16,OA$17,$F27)","v":false},{"$f":"Find_Month(OB$16,OB$17,$F27)","v":false},{"$f":"Find_Month(OC$16,OC$17,$F27)","v":false},{"$f":"Find_Month(OD$16,OD$17,$F27)","v":true},{"$f":"Find_Month(OE$16,OE$17,$F27)","v":false},{"$f":"Find_Month(OF$16,OF$17,$F27)","v":false},{"$f":"Find_Month(OG$16,OG$17,$F27)","v":false},{"$f":"Find_Month(OH$16,OH$17,$F27)","v":false},{"$f":"Find_Month(OI$16,OI$17,$F27)","v":false},{"$f":"Find_Month(OJ$16,OJ$17,$F27)","v":false},{"$f":"Find_Month(OK$16,OK$17,$F27)","v":false},{"$f":"Find_Month(OL$16,OL$17,$F27)","v":false},{"$f":"Find_Month(OM$16,OM$17,$F27)","v":false},{"$f":"Find_Month(ON$16,ON$17,$F27)","v":false},{"$f":"Find_Month(OO$16,OO$17,$F27)","v":false},{"$f":"Find_Month(OP$16,OP$17,$F27)","v":true},{"$f":"Find_Month(OQ$16,OQ$17,$F27)","v":false},{"$f":"Find_Month(OR$16,OR$17,$F27)","v":false},{"$f":"Find_Month(OS$16,OS$17,$F27)","v":false},{"$f":"Find_Month(OT$16,OT$17,$F27)","v":false},{"$f":"Find_Month(OU$16,OU$17,$F27)","v":false},{"$f":"Find_Month(OV$16,OV$17,$F27)","v":false},{"$f":"Find_Month(OW$16,OW$17,$F27)","v":false},{"$f":"Find_Month(OX$16,OX$17,$F27)","v":false},{"$f":"Find_Month(OY$16,OY$17,$F27)","v":false},{"$f":"Find_Month(OZ$16,OZ$17,$F27)","v":false},{"$f":"Find_Month(PA$16,PA$17,$F27)","v":false},{"$f":"Find_Month(PB$16,PB$17,$F27)","v":true},{"$f":"Find_Month(PC$16,PC$17,$F27)","v":false},{"$f":"Find_Month(PD$16,PD$17,$F27)","v":false},{"$f":"Find_Month(PE$16,PE$17,$F27)","v":false},{"$f":"Find_Month(PF$16,PF$17,$F27)","v":false},{"$f":"Find_Month(PG$16,PG$17,$F27)","v":false},{"$f":"Find_Month(PH$16,PH$17,$F27)","v":false},{"$f":"Find_Month(PI$16,PI$17,$F27)","v":false},{"$f":"Find_Month(PJ$16,PJ$17,$F27)","v":false},{"$f":"Find_Month(PK$16,PK$17,$F27)","v":false},{"$f":"Find_Month(PL$16,PL$17,$F27)","v":false},{"$f":"Find_Month(PM$16,PM$17,$F27)","v":false},{"$f":"Find_Month(PN$16,PN$17,$F27)","v":true},{"$f":"Find_Month(PO$16,PO$17,$F27)","v":false},{"$f":"Find_Month(PP$16,PP$17,$F27)","v":false},{"$f":"Find_Month(PQ$16,PQ$17,$F27)","v":false},{"$f":"Find_Month(PR$16,PR$17,$F27)","v":false},{"$f":"Find_Month(PS$16,PS$17,$F27)","v":false},{"$f":"Find_Month(PT$16,PT$17,$F27)","v":false},{"$f":"Find_Month(PU$16,PU$17,$F27)","v":false},{"$f":"Find_Month(PV$16,PV$17,$F27)","v":false},{"$f":"Find_Month(PW$16,PW$17,$F27)","v":false},{"$f":"Find_Month(PX$16,PX$17,$F27)","v":false},{"$f":"Find_Month(PY$16,PY$17,$F27)","v":false},{"$f":"Find_Month(PZ$16,PZ$17,$F27)","v":true},{"$f":"Find_Month(QA$16,QA$17,$F27)","v":false},{"$f":"Find_Month(QB$16,QB$17,$F27)","v":false},{"$f":"Find_Month(QC$16,QC$17,$F27)","v":false},{"$f":"Find_Month(QD$16,QD$17,$F27)","v":false},{"$f":"Find_Month(QE$16,QE$17,$F27)","v":false},{"$f":"Find_Month(QF$16,QF$17,$F27)","v":false},{"$f":"Find_Month(QG$16,QG$17,$F27)","v":false},{"$f":"Find_Month(QH$16,QH$17,$F27)","v":false},{"$f":"Find_Month(QI$16,QI$17,$F27)","v":false},{"$f":"Find_Month(QJ$16,QJ$17,$F27)","v":false},{"$f":"Find_Month(QK$16,QK$17,$F27)","v":false},{"$f":"Find_Month(QL$16,QL$17,$F27)","v":true},{"$f":"Find_Month(QM$16,QM$17,$F27)","v":false},{"$f":"Find_Month(QN$16,QN$17,$F27)","v":false},{"$f":"Find_Month(QO$16,QO$17,$F27)","v":false},{"$f":"Find_Month(QP$16,QP$17,$F27)","v":false},{"$f":"Find_Month(QQ$16,QQ$17,$F27)","v":false},{"$f":"Find_Month(QR$16,QR$17,$F27)","v":false},{"$f":"Find_Month(QS$16,QS$17,$F27)","v":false},{"$f":"Find_Month(QT$16,QT$17,$F27)","v":false},{"$f":"Find_Month(QU$16,QU$17,$F27)","v":false},{"$f":"Find_Month(QV$16,QV$17,$F27)","v":false},{"$f":"Find_Month(QW$16,QW$17,$F27)","v":false},{"$f":"Find_Month(QX$16,QX$17,$F27)","v":true},{"$f":"Find_Month(QY$16,QY$17,$F27)","v":false},{"$f":"Find_Month(QZ$16,QZ$17,$F27)","v":false},{"$f":"Find_Month(RA$16,RA$17,$F27)","v":false},{"$f":"Find_Month(RB$16,RB$17,$F27)","v":false},{"$f":"Find_Month(RC$16,RC$17,$F27)","v":false},{"$f":"Find_Month(RD$16,RD$17,$F27)","v":false},{"$f":"Find_Month(RE$16,RE$17,$F27)","v":false},{"$f":"Find_Month(RF$16,RF$17,$F27)","v":false},{"$f":"Find_Month(RG$16,RG$17,$F27)","v":false},{"$f":"Find_Month(RH$16,RH$17,$F27)","v":false},{"$f":"Find_Month(RI$16,RI$17,$F27)","v":false},{"$f":"Find_Month(RJ$16,RJ$17,$F27)","v":true},{"$f":"Find_Month(RK$16,RK$17,$F27)","v":false},{"$f":"Find_Month(RL$16,RL$17,$F27)","v":false},{"$f":"Find_Month(RM$16,RM$17,$F27)","v":false},{"$f":"Find_Month(RN$16,RN$17,$F27)","v":false},{"$f":"Find_Month(RO$16,RO$17,$F27)","v":false},{"$f":"Find_Month(RP$16,RP$17,$F27)","v":false},{"$f":"Find_Month(RQ$16,RQ$17,$F27)","v":false},{"$f":"Find_Month(RR$16,RR$17,$F27)","v":false},{"$f":"Find_Month(RS$16,RS$17,$F27)","v":false},{"$f":"Find_Month(RT$16,RT$17,$F27)","v":false},{"$f":"Find_Month(RU$16,RU$17,$F27)","v":false},{"$f":"Find_Month(RV$16,RV$17,$F27)","v":true},{"$f":"Find_Month(RW$16,RW$17,$F27)","v":false},{"$f":"Find_Month(RX$16,RX$17,$F27)","v":false},{"$f":"Find_Month(RY$16,RY$17,$F27)","v":false},{"$f":"Find_Month(RZ$16,RZ$17,$F27)","v":false},{"$f":"Find_Month(SA$16,SA$17,$F27)","v":false},{"$f":"Find_Month(SB$16,SB$17,$F27)","v":false},{"$f":"Find_Month(SC$16,SC$17,$F27)","v":false},{"$f":"Find_Month(SD$16,SD$17,$F27)","v":false},{"$f":"Find_Month(SE$16,SE$17,$F27)","v":false},{"$f":"Find_Month(SF$16,SF$17,$F27)","v":false},{"$f":"Find_Month(SG$16,SG$17,$F27)","v":false},{"$f":"Find_Month(SH$16,SH$17,$F27)","v":true},{"$f":"Find_Month(SI$16,SI$17,$F27)","v":false},{"$f":"Find_Month(SJ$16,SJ$17,$F27)","v":false},{"$f":"Find_Month(SK$16,SK$17,$F27)","v":false},{"$f":"Find_Month(SL$16,SL$17,$F27)","v":false},{"$f":"Find_Month(SM$16,SM$17,$F27)","v":false},{"$f":"Find_Month(SN$16,SN$17,$F27)","v":false},{"$f":"Find_Month(SO$16,SO$17,$F27)","v":false},{"$f":"Find_Month(SP$16,SP$17,$F27)","v":false},{"$f":"Find_Month(SQ$16,SQ$17,$F27)","v":false},{"$f":"Find_Month(SR$16,SR$17,$F27)","v":false},{"$f":"Find_Month(SS$16,SS$17,$F27)","v":false},{"$f":"Find_Month(ST$16,ST$17,$F27)","v":true},{"$f":"Find_Month(SU$16,SU$17,$F27)","v":false},{"$f":"Find_Month(SV$16,SV$17,$F27)","v":false},{"$f":"Find_Month(SW$16,SW$17,$F27)","v":false},{"$f":"Find_Month(SX$16,SX$17,$F27)","v":false},{"$f":"Find_Month(SY$16,SY$17,$F27)","v":false},{"$f":"Find_Month(SZ$16,SZ$17,$F27)","v":false},{"$f":"Find_Month(TA$16,TA$17,$F27)","v":false},{"$f":"Find_Month(TB$16,TB$17,$F27)","v":false},{"$f":"Find_Month(TC$16,TC$17,$F27)","v":false},{"$f":"Find_Month(TD$16,TD$17,$F27)","v":false},{"$f":"Find_Month(TE$16,TE$17,$F27)","v":false},{"$f":"Find_Month(TF$16,TF$17,$F27)","v":true},{"$f":"Find_Month(TG$16,TG$17,$F27)","v":false},{"$f":"Find_Month(TH$16,TH$17,$F27)","v":false},{"$f":"Find_Month(TI$16,TI$17,$F27)","v":false},{"$f":"Find_Month(TJ$16,TJ$17,$F27)","v":false},{"$f":"Find_Month(TK$16,TK$17,$F27)","v":false},{"$f":"Find_Month(TL$16,TL$17,$F27)","v":false},{"$f":"Find_Month(TM$16,TM$17,$F27)","v":false},{"$f":"Find_Month(TN$16,TN$17,$F27)","v":false},{"$f":"Find_Month(TO$16,TO$17,$F27)","v":false},{"$f":"Find_Month(TP$16,TP$17,$F27)","v":false},{"$f":"Find_Month(TQ$16,TQ$17,$F27)","v":false},{"$f":"Find_Month(TR$16,TR$17,$F27)","v":true},{"$f":"Find_Month(TS$16,TS$17,$F27)","v":false},{"$f":"Find_Month(TT$16,TT$17,$F27)","v":false},{"$f":"Find_Month(TU$16,TU$17,$F27)","v":false},{"$f":"Find_Month(TV$16,TV$17,$F27)","v":false},{"$f":"Find_Month(TW$16,TW$17,$F27)","v":false},{"$f":"Find_Month(TX$16,TX$17,$F27)","v":false},{"$f":"Find_Month(TY$16,TY$17,$F27)","v":false},{"$f":"Find_Month(TZ$16,TZ$17,$F27)","v":false},{"$f":"Find_Month(UA$16,UA$17,$F27)","v":false},{"$f":"Find_Month(UB$16,UB$17,$F27)","v":false},{"$f":"Find_Month(UC$16,UC$17,$F27)","v":false},{"$f":"Find_Month(UD$16,UD$17,$F27)","v":true},{"$f":"Find_Month(UE$16,UE$17,$F27)","v":false},{"$f":"Find_Month(UF$16,UF$17,$F27)","v":false},{"$f":"Find_Month(UG$16,UG$17,$F27)","v":false},{"$f":"Find_Month(UH$16,UH$17,$F27)","v":false},{"$f":"Find_Month(UI$16,UI$17,$F27)","v":false},{"$f":"Find_Month(UJ$16,UJ$17,$F27)","v":false},{"$f":"Find_Month(UK$16,UK$17,$F27)","v":false},{"$f":"Find_Month(UL$16,UL$17,$F27)","v":false},{"$f":"Find_Month(UM$16,UM$17,$F27)","v":false}]
[null,null,null,null,null,9,null,0.1,null,{"$f":"Find_Month(J$16,J$17,$F28)","v":false},{"$f":"Find_Month(K$16,K$17,$F28)","v":true},{"$f":"Find_Month(L$16,L$17,$F28)","v":false},{"$f":"Find_Month(M$16,M$17,$F28)","v":false},{"$f":"Find_Month(N$16,N$17,$F28)","v":false},{"$f":"Find_Month(O$16,O$17,$F28)","v":false},{"$f":"Find_Month(P$16,P$17,$F28)","v":false},{"$f":"Find_Month(Q$16,Q$17,$F28)","v":false},{"$f":"Find_Month(R$16,R$17,$F28)","v":false},{"$f":"Find_Month(S$16,S$17,$F28)","v":false},{"$f":"Find_Month(T$16,T$17,$F28)","v":false},{"$f":"Find_Month(U$16,U$17,$F28)","v":false},{"$f":"Find_Month(V$16,V$17,$F28)","v":false},{"$f":"Find_Month(W$16,W$17,$F28)","v":true},{"$f":"Find_Month(X$16,X$17,$F28)","v":false},{"$f":"Find_Month(Y$16,Y$17,$F28)","v":false},{"$f":"Find_Month(Z$16,Z$17,$F28)","v":false},{"$f":"Find_Month(AA$16,AA$17,$F28)","v":false},{"$f":"Find_Month(AB$16,AB$17,$F28)","v":false},{"$f":"Find_Month(AC$16,AC$17,$F28)","v":false},{"$f":"Find_Month(AD$16,AD$17,$F28)","v":false},{"$f":"Find_Month(AE$16,AE$17,$F28)","v":false},{"$f":"Find_Month(AF$16,AF$17,$F28)","v":false},{"$f":"Find_Month(AG$16,AG$17,$F28)","v":false},{"$f":"Find_Month(AH$16,AH$17,$F28)","v":false},{"$f":"Find_Month(AI$16,AI$17,$F28)","v":true},{"$f":"Find_Month(AJ$16,AJ$17,$F28)","v":false},{"$f":"Find_Month(AK$16,AK$17,$F28)","v":false},{"$f":"Find_Month(AL$16,AL$17,$F28)","v":false},{"$f":"Find_Month(AM$16,AM$17,$F28)","v":false},{"$f":"Find_Month(AN$16,AN$17,$F28)","v":false},{"$f":"Find_Month(AO$16,AO$17,$F28)","v":false},{"$f":"Find_Month(AP$16,AP$17,$F28)","v":false},{"$f":"Find_Month(AQ$16,AQ$17,$F28)","v":false},{"$f":"Find_Month(AR$16,AR$17,$F28)","v":false},{"$f":"Find_Month(AS$16,AS$17,$F28)","v":false},{"$f":"Find_Month(AT$16,AT$17,$F28)","v":false},{"$f":"Find_Month(AU$16,AU$17,$F28)","v":true},{"$f":"Find_Month(AV$16,AV$17,$F28)","v":false},{"$f":"Find_Month(AW$16,AW$17,$F28)","v":false},{"$f":"Find_Month(AX$16,AX$17,$F28)","v":false},{"$f":"Find_Month(AY$16,AY$17,$F28)","v":false},{"$f":"Find_Month(AZ$16,AZ$17,$F28)","v":false},{"$f":"Find_Month(BA$16,BA$17,$F28)","v":false},{"$f":"Find_Month(BB$16,BB$17,$F28)","v":false},{"$f":"Find_Month(BC$16,BC$17,$F28)","v":false},{"$f":"Find_Month(BD$16,BD$17,$F28)","v":false},{"$f":"Find_Month(BE$16,BE$17,$F28)","v":false},{"$f":"Find_Month(BF$16,BF$17,$F28)","v":false},{"$f":"Find_Month(BG$16,BG$17,$F28)","v":true},{"$f":"Find_Month(BH$16,BH$17,$F28)","v":false},{"$f":"Find_Month(BI$16,BI$17,$F28)","v":false},{"$f":"Find_Month(BJ$16,BJ$17,$F28)","v":false},{"$f":"Find_Month(BK$16,BK$17,$F28)","v":false},{"$f":"Find_Month(BL$16,BL$17,$F28)","v":false},{"$f":"Find_Month(BM$16,BM$17,$F28)","v":false},{"$f":"Find_Month(BN$16,BN$17,$F28)","v":false},{"$f":"Find_Month(BO$16,BO$17,$F28)","v":false},{"$f":"Find_Month(BP$16,BP$17,$F28)","v":false},{"$f":"Find_Month(BQ$16,BQ$17,$F28)","v":false},{"$f":"Find_Month(BR$16,BR$17,$F28)","v":false},{"$f":"Find_Month(BS$16,BS$17,$F28)","v":true},{"$f":"Find_Month(BT$16,BT$17,$F28)","v":false},{"$f":"Find_Month(BU$16,BU$17,$F28)","v":false},{"$f":"Find_Month(BV$16,BV$17,$F28)","v":false},{"$f":"Find_Month(BW$16,BW$17,$F28)","v":false},{"$f":"Find_Month(BX$16,BX$17,$F28)","v":false},{"$f":"Find_Month(BY$16,BY$17,$F28)","v":false},{"$f":"Find_Month(BZ$16,BZ$17,$F28)","v":false},{"$f":"Find_Month(CA$16,CA$17,$F28)","v":false},{"$f":"Find_Month(CB$16,CB$17,$F28)","v":false},{"$f":"Find_Month(CC$16,CC$17,$F28)","v":false},{"$f":"Find_Month(CD$16,CD$17,$F28)","v":false},{"$f":"Find_Month(CE$16,CE$17,$F28)","v":true},{"$f":"Find_Month(CF$16,CF$17,$F28)","v":false},{"$f":"Find_Month(CG$16,CG$17,$F28)","v":false},{"$f":"Find_Month(CH$16,CH$17,$F28)","v":false},{"$f":"Find_Month(CI$16,CI$17,$F28)","v":false},{"$f":"Find_Month(CJ$16,CJ$17,$F28)","v":false},{"$f":"Find_Month(CK$16,CK$17,$F28)","v":false},{"$f":"Find_Month(CL$16,CL$17,$F28)","v":false},{"$f":"Find_Month(CM$16,CM$17,$F28)","v":false},{"$f":"Find_Month(CN$16,CN$17,$F28)","v":false},{"$f":"Find_Month(CO$16,CO$17,$F28)","v":false},{"$f":"Find_Month(CP$16,CP$17,$F28)","v":false},{"$f":"Find_Month(CQ$16,CQ$17,$F28)","v":true},{"$f":"Find_Month(CR$16,CR$17,$F28)","v":false},{"$f":"Find_Month(CS$16,CS$17,$F28)","v":false},{"$f":"Find_Month(CT$16,CT$17,$F28)","v":false},{"$f":"Find_Month(CU$16,CU$17,$F28)","v":false},{"$f":"Find_Month(CV$16,CV$17,$F28)","v":false},{"$f":"Find_Month(CW$16,CW$17,$F28)","v":false},{"$f":"Find_Month(CX$16,CX$17,$F28)","v":false},{"$f":"Find_Month(CY$16,CY$17,$F28)","v":false},{"$f":"Find_Month(CZ$16,CZ$17,$F28)","v":false},{"$f":"Find_Month(DA$16,DA$17,$F28)","v":false},{"$f":"Find_Month(DB$16,DB$17,$F28)","v":false},{"$f":"Find_Month(DC$16,DC$17,$F28)","v":true},{"$f":"Find_Month(DD$16,DD$17,$F28)","v":false},{"$f":"Find_Month(DE$16,DE$17,$F28)","v":false},{"$f":"Find_Month(DF$16,DF$17,$F28)","v":false},{"$f":"Find_Month(DG$16,DG$17,$F28)","v":false},{"$f":"Find_Month(DH$16,DH$17,$F28)","v":false},{"$f":"Find_Month(DI$16,DI$17,$F28)","v":false},{"$f":"Find_Month(DJ$16,DJ$17,$F28)","v":false},{"$f":"Find_Month(DK$16,DK$17,$F28)","v":false},{"$f":"Find_Month(DL$16,DL$17,$F28)","v":false},{"$f":"Find_Month(DM$16,DM$17,$F28)","v":false},{"$f":"Find_Month(DN$16,DN$17,$F28)","v":false},{"$f":"Find_Month(DO$16,DO$17,$F28)","v":true},{"$f":"Find_Month(DP$16,DP$17,$F28)","v":false},{"$f":"Find_Month(DQ$16,DQ$17,$F28)","v":false},{"$f":"Find_Month(DR$16,DR$17,$F28)","v":false},{"$f":"Find_Month(DS$16,DS$17,$F28)","v":false},{"$f":"Find_Month(DT$16,DT$17,$F28)","v":false},{"$f":"Find_Month(DU$16,DU$17,$F28)","v":false},{"$f":"Find_Month(DV$16,DV$17,$F28)","v":false},{"$f":"Find_Month(DW$16,DW$17,$F28)","v":false},{"$f":"Find_Month(DX$16,DX$17,$F28)","v":false},{"$f":"Find_Month(DY$16,DY$17,$F28)","v":false},{"$f":"Find_Month(DZ$16,DZ$17,$F28)","v":false},{"$f":"Find_Month(EA$16,EA$17,$F28)","v":true},{"$f":"Find_Month(EB$16,EB$17,$F28)","v":false},{"$f":"Find_Month(EC$16,EC$17,$F28)","v":false},{"$f":"Find_Month(ED$16,ED$17,$F28)","v":false},{"$f":"Find_Month(EE$16,EE$17,$F28)","v":false},{"$f":"Find_Month(EF$16,EF$17,$F28)","v":false},{"$f":"Find_Month(EG$16,EG$17,$F28)","v":false},{"$f":"Find_Month(EH$16,EH$17,$F28)","v":false},{"$f":"Find_Month(EI$16,EI$17,$F28)","v":false},{"$f":"Find_Month(EJ$16,EJ$17,$F28)","v":false},{"$f":"Find_Month(EK$16,EK$17,$F28)","v":false},{"$f":"Find_Month(EL$16,EL$17,$F28)","v":false},{"$f":"Find_Month(EM$16,EM$17,$F28)","v":true},{"$f":"Find_Month(EN$16,EN$17,$F28)","v":false},{"$f":"Find_Month(EO$16,EO$17,$F28)","v":false},{"$f":"Find_Month(EP$16,EP$17,$F28)","v":false},{"$f":"Find_Month(EQ$16,EQ$17,$F28)","v":false},{"$f":"Find_Month(ER$16,ER$17,$F28)","v":false},{"$f":"Find_Month(ES$16,ES$17,$F28)","v":false},{"$f":"Find_Month(ET$16,ET$17,$F28)","v":false},{"$f":"Find_Month(EU$16,EU$17,$F28)","v":false},{"$f":"Find_Month(EV$16,EV$17,$F28)","v":false},{"$f":"Find_Month(EW$16,EW$17,$F28)","v":false},{"$f":"Find_Month(EX$16,EX$17,$F28)","v":false},{"$f":"Find_Month(EY$16,EY$17,$F28)","v":true},{"$f":"Find_Month(EZ$16,EZ$17,$F28)","v":false},{"$f":"Find_Month(FA$16,FA$17,$F28)","v":false},{"$f":"Find_Month(FB$16,FB$17,$F28)","v":false},{"$f":"Find_Month(FC$16,FC$17,$F28)","v":false},{"$f":"Find_Month(FD$16,FD$17,$F28)","v":false},{"$f":"Find_Month(FE$16,FE$17,$F28)","v":false},{"$f":"Find_Month(FF$16,FF$17,$F28)","v":false},{"$f":"Find_Month(FG$16,FG$17,$F28)","v":false},{"$f":"Find_Month(FH$16,FH$17,$F28)","v":false},{"$f":"Find_Month(FI$16,FI$17,$F28)","v":false},{"$f":"Find_Month(FJ$16,FJ$17,$F28)","v":false},{"$f":"Find_Month(FK$16,FK$17,$F28)","v":true},{"$f":"Find_Month(FL$16,FL$17,$F28)","v":false},{"$f":"Find_Month(FM$16,FM$17,$F28)","v":false},{"$f":"Find_Month(FN$16,FN$17,$F28)","v":false},{"$f":"Find_Month(FO$16,FO$17,$F28)","v":false},{"$f":"Find_Month(FP$16,FP$17,$F28)","v":false},{"$f":"Find_Month(FQ$16,FQ$17,$F28)","v":false},{"$f":"Find_Month(FR$16,FR$17,$F28)","v":false},{"$f":"Find_Month(FS$16,FS$17,$F28)","v":false},{"$f":"Find_Month(FT$16,FT$17,$F28)","v":false},{"$f":"Find_Month(FU$16,FU$17,$F28)","v":false},{"$f":"Find_Month(FV$16,FV$17,$F28)","v":false},{"$f":"Find_Month(FW$16,FW$17,$F28)","v":true},{"$f":"Find_Month(FX$16,FX$17,$F28)","v":false},{"$f":"Find_Month(FY$16,FY$17,$F28)","v":false},{"$f":"Find_Month(FZ$16,FZ$17,$F28)","v":false},{"$f":"Find_Month(GA$16,GA$17,$F28)","v":false},{"$f":"Find_Month(GB$16,GB$17,$F28)","v":false},{"$f":"Find_Month(GC$16,GC$17,$F28)","v":false},{"$f":"Find_Month(GD$16,GD$17,$F28)","v":false},{"$f":"Find_Month(GE$16,GE$17,$F28)","v":false},{"$f":"Find_Month(GF$16,GF$17,$F28)","v":false},{"$f":"Find_Month(GG$16,GG$17,$F28)","v":false},{"$f":"Find_Month(GH$16,GH$17,$F28)","v":false},{"$f":"Find_Month(GI$16,GI$17,$F28)","v":true},{"$f":"Find_Month(GJ$16,GJ$17,$F28)","v":false},{"$f":"Find_Month(GK$16,GK$17,$F28)","v":false},{"$f":"Find_Month(GL$16,GL$17,$F28)","v":false},{"$f":"Find_Month(GM$16,GM$17,$F28)","v":false},{"$f":"Find_Month(GN$16,GN$17,$F28)","v":false},{"$f":"Find_Month(GO$16,GO$17,$F28)","v":false},{"$f":"Find_Month(GP$16,GP$17,$F28)","v":false},{"$f":"Find_Month(GQ$16,GQ$17,$F28)","v":false},{"$f":"Find_Month(GR$16,GR$17,$F28)","v":false},{"$f":"Find_Month(GS$16,GS$17,$F28)","v":false},{"$f":"Find_Month(GT$16,GT$17,$F28)","v":false},{"$f":"Find_Month(GU$16,GU$17,$F28)","v":true},{"$f":"Find_Month(GV$16,GV$17,$F28)","v":false},{"$f":"Find_Month(GW$16,GW$17,$F28)","v":false},{"$f":"Find_Month(GX$16,GX$17,$F28)","v":false},{"$f":"Find_Month(GY$16,GY$17,$F28)","v":false},{"$f":"Find_Month(GZ$16,GZ$17,$F28)","v":false},{"$f":"Find_Month(HA$16,HA$17,$F28)","v":false},{"$f":"Find_Month(HB$16,HB$17,$F28)","v":false},{"$f":"Find_Month(HC$16,HC$17,$F28)","v":false},{"$f":"Find_Month(HD$16,HD$17,$F28)","v":false},{"$f":"Find_Month(HE$16,HE$17,$F28)","v":false},{"$f":"Find_Month(HF$16,HF$17,$F28)","v":false},{"$f":"Find_Month(HG$16,HG$17,$F28)","v":true},{"$f":"Find_Month(HH$16,HH$17,$F28)","v":false},{"$f":"Find_Month(HI$16,HI$17,$F28)","v":false},{"$f":"Find_Month(HJ$16,HJ$17,$F28)","v":false},{"$f":"Find_Month(HK$16,HK$17,$F28)","v":false},{"$f":"Find_Month(HL$16,HL$17,$F28)","v":false},{"$f":"Find_Month(HM$16,HM$17,$F28)","v":false},{"$f":"Find_Month(HN$16,HN$17,$F28)","v":false},{"$f":"Find_Month(HO$16,HO$17,$F28)","v":false},{"$f":"Find_Month(HP$16,HP$17,$F28)","v":false},{"$f":"Find_Month(HQ$16,HQ$17,$F28)","v":false},{"$f":"Find_Month(HR$16,HR$17,$F28)","v":false},{"$f":"Find_Month(HS$16,HS$17,$F28)","v":true},{"$f":"Find_Month(HT$16,HT$17,$F28)","v":false},{"$f":"Find_Month(HU$16,HU$17,$F28)","v":false},{"$f":"Find_Month(HV$16,HV$17,$F28)","v":false},{"$f":"Find_Month(HW$16,HW$17,$F28)","v":false},{"$f":"Find_Month(HX$16,HX$17,$F28)","v":false},{"$f":"Find_Month(HY$16,HY$17,$F28)","v":false},{"$f":"Find_Month(HZ$16,HZ$17,$F28)","v":false},{"$f":"Find_Month(IA$16,IA$17,$F28)","v":false},{"$f":"Find_Month(IB$16,IB$17,$F28)","v":false},{"$f":"Find_Month(IC$16,IC$17,$F28)","v":false},{"$f":"Find_Month(ID$16,ID$17,$F28)","v":false},{"$f":"Find_Month(IE$16,IE$17,$F28)","v":true},{"$f":"Find_Month(IF$16,IF$17,$F28)","v":false},{"$f":"Find_Month(IG$16,IG$17,$F28)","v":false},{"$f":"Find_Month(IH$16,IH$17,$F28)","v":false},{"$f":"Find_Month(II$16,II$17,$F28)","v":false},{"$f":"Find_Month(IJ$16,IJ$17,$F28)","v":false},{"$f":"Find_Month(IK$16,IK$17,$F28)","v":false},{"$f":"Find_Month(IL$16,IL$17,$F28)","v":false},{"$f":"Find_Month(IM$16,IM$17,$F28)","v":false},{"$f":"Find_Month(IN$16,IN$17,$F28)","v":false},{"$f":"Find_Month(IO$16,IO$17,$F28)","v":false},{"$f":"Find_Month(IP$16,IP$17,$F28)","v":false},{"$f":"Find_Month(IQ$16,IQ$17,$F28)","v":true},{"$f":"Find_Month(IR$16,IR$17,$F28)","v":false},{"$f":"Find_Month(IS$16,IS$17,$F28)","v":false},{"$f":"Find_Month(IT$16,IT$17,$F28)","v":false},{"$f":"Find_Month(IU$16,IU$17,$F28)","v":false},{"$f":"Find_Month(IV$16,IV$17,$F28)","v":false},{"$f":"Find_Month(IW$16,IW$17,$F28)","v":false},{"$f":"Find_Month(IX$16,IX$17,$F28)","v":false},{"$f":"Find_Month(IY$16,IY$17,$F28)","v":false},{"$f":"Find_Month(IZ$16,IZ$17,$F28)","v":false},{"$f":"Find_Month(JA$16,JA$17,$F28)","v":false},{"$f":"Find_Month(JB$16,JB$17,$F28)","v":false},{"$f":"Find_Month(JC$16,JC$17,$F28)","v":true},{"$f":"Find_Month(JD$16,JD$17,$F28)","v":false},{"$f":"Find_Month(JE$16,JE$17,$F28)","v":false},{"$f":"Find_Month(JF$16,JF$17,$F28)","v":false},{"$f":"Find_Month(JG$16,JG$17,$F28)","v":false},{"$f":"Find_Month(JH$16,JH$17,$F28)","v":false},{"$f":"Find_Month(JI$16,JI$17,$F28)","v":false},{"$f":"Find_Month(JJ$16,JJ$17,$F28)","v":false},{"$f":"Find_Month(JK$16,JK$17,$F28)","v":false},{"$f":"Find_Month(JL$16,JL$17,$F28)","v":false},{"$f":"Find_Month(JM$16,JM$17,$F28)","v":false},{"$f":"Find_Month(JN$16,JN$17,$F28)","v":false},{"$f":"Find_Month(JO$16,JO$17,$F28)","v":true},{"$f":"Find_Month(JP$16,JP$17,$F28)","v":false},{"$f":"Find_Month(JQ$16,JQ$17,$F28)","v":false},{"$f":"Find_Month(JR$16,JR$17,$F28)","v":false},{"$f":"Find_Month(JS$16,JS$17,$F28)","v":false},{"$f":"Find_Month(JT$16,JT$17,$F28)","v":false},{"$f":"Find_Month(JU$16,JU$17,$F28)","v":false},{"$f":"Find_Month(JV$16,JV$17,$F28)","v":false},{"$f":"Find_Month(JW$16,JW$17,$F28)","v":false},{"$f":"Find_Month(JX$16,JX$17,$F28)","v":false},{"$f":"Find_Month(JY$16,JY$17,$F28)","v":false},{"$f":"Find_Month(JZ$16,JZ$17,$F28)","v":false},{"$f":"Find_Month(KA$16,KA$17,$F28)","v":true},{"$f":"Find_Month(KB$16,KB$17,$F28)","v":false},{"$f":"Find_Month(KC$16,KC$17,$F28)","v":false},{"$f":"Find_Month(KD$16,KD$17,$F28)","v":false},{"$f":"Find_Month(KE$16,KE$17,$F28)","v":false},{"$f":"Find_Month(KF$16,KF$17,$F28)","v":false},{"$f":"Find_Month(KG$16,KG$17,$F28)","v":false},{"$f":"Find_Month(KH$16,KH$17,$F28)","v":false},{"$f":"Find_Month(KI$16,KI$17,$F28)","v":false},{"$f":"Find_Month(KJ$16,KJ$17,$F28)","v":false},{"$f":"Find_Month(KK$16,KK$17,$F28)","v":false},{"$f":"Find_Month(KL$16,KL$17,$F28)","v":false},{"$f":"Find_Month(KM$16,KM$17,$F28)","v":true},{"$f":"Find_Month(KN$16,KN$17,$F28)","v":false},{"$f":"Find_Month(KO$16,KO$17,$F28)","v":false},{"$f":"Find_Month(KP$16,KP$17,$F28)","v":false},{"$f":"Find_Month(KQ$16,KQ$17,$F28)","v":false},{"$f":"Find_Month(KR$16,KR$17,$F28)","v":false},{"$f":"Find_Month(KS$16,KS$17,$F28)","v":false},{"$f":"Find_Month(KT$16,KT$17,$F28)","v":false},{"$f":"Find_Month(KU$16,KU$17,$F28)","v":false},{"$f":"Find_Month(KV$16,KV$17,$F28)","v":false},{"$f":"Find_Month(KW$16,KW$17,$F28)","v":false},{"$f":"Find_Month(KX$16,KX$17,$F28)","v":false},{"$f":"Find_Month(KY$16,KY$17,$F28)","v":true},{"$f":"Find_Month(KZ$16,KZ$17,$F28)","v":false},{"$f":"Find_Month(LA$16,LA$17,$F28)","v":false},{"$f":"Find_Month(LB$16,LB$17,$F28)","v":false},{"$f":"Find_Month(LC$16,LC$17,$F28)","v":false},{"$f":"Find_Month(LD$16,LD$17,$F28)","v":false},{"$f":"Find_Month(LE$16,LE$17,$F28)","v":false},{"$f":"Find_Month(LF$16,LF$17,$F28)","v":false},{"$f":"Find_Month(LG$16,LG$17,$F28)","v":false},{"$f":"Find_Month(LH$16,LH$17,$F28)","v":false},{"$f":"Find_Month(LI$16,LI$17,$F28)","v":false},{"$f":"Find_Month(LJ$16,LJ$17,$F28)","v":false},{"$f":"Find_Month(LK$16,LK$17,$F28)","v":true},{"$f":"Find_Month(LL$16,LL$17,$F28)","v":false},{"$f":"Find_Month(LM$16,LM$17,$F28)","v":false},{"$f":"Find_Month(LN$16,LN$17,$F28)","v":false},{"$f":"Find_Month(LO$16,LO$17,$F28)","v":false},{"$f":"Find_Month(LP$16,LP$17,$F28)","v":false},{"$f":"Find_Month(LQ$16,LQ$17,$F28)","v":false},{"$f":"Find_Month(LR$16,LR$17,$F28)","v":false},{"$f":"Find_Month(LS$16,LS$17,$F28)","v":false},{"$f":"Find_Month(LT$16,LT$17,$F28)","v":false},{"$f":"Find_Month(LU$16,LU$17,$F28)","v":false},{"$f":"Find_Month(LV$16,LV$17,$F28)","v":false},{"$f":"Find_Month(LW$16,LW$17,$F28)","v":true},{"$f":"Find_Month(LX$16,LX$17,$F28)","v":false},{"$f":"Find_Month(LY$16,LY$17,$F28)","v":false},{"$f":"Find_Month(LZ$16,LZ$17,$F28)","v":false},{"$f":"Find_Month(MA$16,MA$17,$F28)","v":false},{"$f":"Find_Month(MB$16,MB$17,$F28)","v":false},{"$f":"Find_Month(MC$16,MC$17,$F28)","v":false},{"$f":"Find_Month(MD$16,MD$17,$F28)","v":false},{"$f":"Find_Month(ME$16,ME$17,$F28)","v":false},{"$f":"Find_Month(MF$16,MF$17,$F28)","v":false},{"$f":"Find_Month(MG$16,MG$17,$F28)","v":false},{"$f":"Find_Month(MH$16,MH$17,$F28)","v":false},{"$f":"Find_Month(MI$16,MI$17,$F28)","v":true},{"$f":"Find_Month(MJ$16,MJ$17,$F28)","v":false},{"$f":"Find_Month(MK$16,MK$17,$F28)","v":false},{"$f":"Find_Month(ML$16,ML$17,$F28)","v":false},{"$f":"Find_Month(MM$16,MM$17,$F28)","v":false},{"$f":"Find_Month(MN$16,MN$17,$F28)","v":false},{"$f":"Find_Month(MO$16,MO$17,$F28)","v":false},{"$f":"Find_Month(MP$16,MP$17,$F28)","v":false},{"$f":"Find_Month(MQ$16,MQ$17,$F28)","v":false},{"$f":"Find_Month(MR$16,MR$17,$F28)","v":false},{"$f":"Find_Month(MS$16,MS$17,$F28)","v":false},{"$f":"Find_Month(MT$16,MT$17,$F28)","v":false},{"$f":"Find_Month(MU$16,MU$17,$F28)","v":true},{"$f":"Find_Month(MV$16,MV$17,$F28)","v":false},{"$f":"Find_Month(MW$16,MW$17,$F28)","v":false},{"$f":"Find_Month(MX$16,MX$17,$F28)","v":false},{"$f":"Find_Month(MY$16,MY$17,$F28)","v":false},{"$f":"Find_Month(MZ$16,MZ$17,$F28)","v":false},{"$f":"Find_Month(NA$16,NA$17,$F28)","v":false},{"$f":"Find_Month(NB$16,NB$17,$F28)","v":false},{"$f":"Find_Month(NC$16,NC$17,$F28)","v":false},{"$f":"Find_Month(ND$16,ND$17,$F28)","v":false},{"$f":"Find_Month(NE$16,NE$17,$F28)","v":false},{"$f":"Find_Month(NF$16,NF$17,$F28)","v":false},{"$f":"Find_Month(NG$16,NG$17,$F28)","v":true},{"$f":"Find_Month(NH$16,NH$17,$F28)","v":false},{"$f":"Find_Month(NI$16,NI$17,$F28)","v":false},{"$f":"Find_Month(NJ$16,NJ$17,$F28)","v":false},{"$f":"Find_Month(NK$16,NK$17,$F28)","v":false},{"$f":"Find_Month(NL$16,NL$17,$F28)","v":false},{"$f":"Find_Month(NM$16,NM$17,$F28)","v":false},{"$f":"Find_Month(NN$16,NN$17,$F28)","v":false},{"$f":"Find_Month(NO$16,NO$17,$F28)","v":false},{"$f":"Find_Month(NP$16,NP$17,$F28)","v":false},{"$f":"Find_Month(NQ$16,NQ$17,$F28)","v":false},{"$f":"Find_Month(NR$16,NR$17,$F28)","v":false},{"$f":"Find_Month(NS$16,NS$17,$F28)","v":true},{"$f":"Find_Month(NT$16,NT$17,$F28)","v":false},{"$f":"Find_Month(NU$16,NU$17,$F28)","v":false},{"$f":"Find_Month(NV$16,NV$17,$F28)","v":false},{"$f":"Find_Month(NW$16,NW$17,$F28)","v":false},{"$f":"Find_Month(NX$16,NX$17,$F28)","v":false},{"$f":"Find_Month(NY$16,NY$17,$F28)","v":false},{"$f":"Find_Month(NZ$16,NZ$17,$F28)","v":false},{"$f":"Find_Month(OA$16,OA$17,$F28)","v":false},{"$f":"Find_Month(OB$16,OB$17,$F28)","v":false},{"$f":"Find_Month(OC$16,OC$17,$F28)","v":false},{"$f":"Find_Month(OD$16,OD$17,$F28)","v":false},{"$f":"Find_Month(OE$16,OE$17,$F28)","v":true},{"$f":"Find_Month(OF$16,OF$17,$F28)","v":false},{"$f":"Find_Month(OG$16,OG$17,$F28)","v":false},{"$f":"Find_Month(OH$16,OH$17,$F28)","v":false},{"$f":"Find_Month(OI$16,OI$17,$F28)","v":false},{"$f":"Find_Month(OJ$16,OJ$17,$F28)","v":false},{"$f":"Find_Month(OK$16,OK$17,$F28)","v":false},{"$f":"Find_Month(OL$16,OL$17,$F28)","v":false},{"$f":"Find_Month(OM$16,OM$17,$F28)","v":false},{"$f":"Find_Month(ON$16,ON$17,$F28)","v":false},{"$f":"Find_Month(OO$16,OO$17,$F28)","v":false},{"$f":"Find_Month(OP$16,OP$17,$F28)","v":false},{"$f":"Find_Month(OQ$16,OQ$17,$F28)","v":true},{"$f":"Find_Month(OR$16,OR$17,$F28)","v":false},{"$f":"Find_Month(OS$16,OS$17,$F28)","v":false},{"$f":"Find_Month(OT$16,OT$17,$F28)","v":false},{"$f":"Find_Month(OU$16,OU$17,$F28)","v":false},{"$f":"Find_Month(OV$16,OV$17,$F28)","v":false},{"$f":"Find_Month(OW$16,OW$17,$F28)","v":false},{"$f":"Find_Month(OX$16,OX$17,$F28)","v":false},{"$f":"Find_Month(OY$16,OY$17,$F28)","v":false},{"$f":"Find_Month(OZ$16,OZ$17,$F28)","v":false},{"$f":"Find_Month(PA$16,PA$17,$F28)","v":false},{"$f":"Find_Month(PB$16,PB$17,$F28)","v":false},{"$f":"Find_Month(PC$16,PC$17,$F28)","v":true},{"$f":"Find_Month(PD$16,PD$17,$F28)","v":false},{"$f":"Find_Month(PE$16,PE$17,$F28)","v":false},{"$f":"Find_Month(PF$16,PF$17,$F28)","v":false},{"$f":"Find_Month(PG$16,PG$17,$F28)","v":false},{"$f":"Find_Month(PH$16,PH$17,$F28)","v":false},{"$f":"Find_Month(PI$16,PI$17,$F28)","v":false},{"$f":"Find_Month(PJ$16,PJ$17,$F28)","v":false},{"$f":"Find_Month(PK$16,PK$17,$F28)","v":false},{"$f":"Find_Month(PL$16,PL$17,$F28)","v":false},{"$f":"Find_Month(PM$16,PM$17,$F28)","v":false},{"$f":"Find_Month(PN$16,PN$17,$F28)","v":false},{"$f":"Find_Month(PO$16,PO$17,$F28)","v":true},{"$f":"Find_Month(PP$16,PP$17,$F28)","v":false},{"$f":"Find_Month(PQ$16,PQ$17,$F28)","v":false},{"$f":"Find_Month(PR$16,PR$17,$F28)","v":false},{"$f":"Find_Month(PS$16,PS$17,$F28)","v":false},{"$f":"Find_Month(PT$16,PT$17,$F28)","v":false},{"$f":"Find_Month(PU$16,PU$17,$F28)","v":false},{"$f":"Find_Month(PV$16,PV$17,$F28)","v":false},{"$f":"Find_Month(PW$16,PW$17,$F28)","v":false},{"$f":"Find_Month(PX$16,PX$17,$F28)","v":false},{"$f":"Find_Month(PY$16,PY$17,$F28)","v":false},{"$f":"Find_Month(PZ$16,PZ$17,$F28)","v":false},{"$f":"Find_Month(QA$16,QA$17,$F28)","v":true},{"$f":"Find_Month(QB$16,QB$17,$F28)","v":false},{"$f":"Find_Month(QC$16,QC$17,$F28)","v":false},{"$f":"Find_Month(QD$16,QD$17,$F28)","v":false},{"$f":"Find_Month(QE$16,QE$17,$F28)","v":false},{"$f":"Find_Month(QF$16,QF$17,$F28)","v":false},{"$f":"Find_Month(QG$16,QG$17,$F28)","v":false},{"$f":"Find_Month(QH$16,QH$17,$F28)","v":false},{"$f":"Find_Month(QI$16,QI$17,$F28)","v":false},{"$f":"Find_Month(QJ$16,QJ$17,$F28)","v":false},{"$f":"Find_Month(QK$16,QK$17,$F28)","v":false},{"$f":"Find_Month(QL$16,QL$17,$F28)","v":false},{"$f":"Find_Month(QM$16,QM$17,$F28)","v":true},{"$f":"Find_Month(QN$16,QN$17,$F28)","v":false},{"$f":"Find_Month(QO$16,QO$17,$F28)","v":false},{"$f":"Find_Month(QP$16,QP$17,$F28)","v":false},{"$f":"Find_Month(QQ$16,QQ$17,$F28)","v":false},{"$f":"Find_Month(QR$16,QR$17,$F28)","v":false},{"$f":"Find_Month(QS$16,QS$17,$F28)","v":false},{"$f":"Find_Month(QT$16,QT$17,$F28)","v":false},{"$f":"Find_Month(QU$16,QU$17,$F28)","v":false},{"$f":"Find_Month(QV$16,QV$17,$F28)","v":false},{"$f":"Find_Month(QW$16,QW$17,$F28)","v":false},{"$f":"Find_Month(QX$16,QX$17,$F28)","v":false},{"$f":"Find_Month(QY$16,QY$17,$F28)","v":true},{"$f":"Find_Month(QZ$16,QZ$17,$F28)","v":false},{"$f":"Find_Month(RA$16,RA$17,$F28)","v":false},{"$f":"Find_Month(RB$16,RB$17,$F28)","v":false},{"$f":"Find_Month(RC$16,RC$17,$F28)","v":false},{"$f":"Find_Month(RD$16,RD$17,$F28)","v":false},{"$f":"Find_Month(RE$16,RE$17,$F28)","v":false},{"$f":"Find_Month(RF$16,RF$17,$F28)","v":false},{"$f":"Find_Month(RG$16,RG$17,$F28)","v":false},{"$f":"Find_Month(RH$16,RH$17,$F28)","v":false},{"$f":"Find_Month(RI$16,RI$17,$F28)","v":false},{"$f":"Find_Month(RJ$16,RJ$17,$F28)","v":false},{"$f":"Find_Month(RK$16,RK$17,$F28)","v":true},{"$f":"Find_Month(RL$16,RL$17,$F28)","v":false},{"$f":"Find_Month(RM$16,RM$17,$F28)","v":false},{"$f":"Find_Month(RN$16,RN$17,$F28)","v":false},{"$f":"Find_Month(RO$16,RO$17,$F28)","v":false},{"$f":"Find_Month(RP$16,RP$17,$F28)","v":false},{"$f":"Find_Month(RQ$16,RQ$17,$F28)","v":false},{"$f":"Find_Month(RR$16,RR$17,$F28)","v":false},{"$f":"Find_Month(RS$16,RS$17,$F28)","v":false},{"$f":"Find_Month(RT$16,RT$17,$F28)","v":false},{"$f":"Find_Month(RU$16,RU$17,$F28)","v":false},{"$f":"Find_Month(RV$16,RV$17,$F28)","v":false},{"$f":"Find_Month(RW$16,RW$17,$F28)","v":true},{"$f":"Find_Month(RX$16,RX$17,$F28)","v":false},{"$f":"Find_Month(RY$16,RY$17,$F28)","v":false},{"$f":"Find_Month(RZ$16,RZ$17,$F28)","v":false},{"$f":"Find_Month(SA$16,SA$17,$F28)","v":false},{"$f":"Find_Month(SB$16,SB$17,$F28)","v":false},{"$f":"Find_Month(SC$16,SC$17,$F28)","v":false},{"$f":"Find_Month(SD$16,SD$17,$F28)","v":false},{"$f":"Find_Month(SE$16,SE$17,$F28)","v":false},{"$f":"Find_Month(SF$16,SF$17,$F28)","v":false},{"$f":"Find_Month(SG$16,SG$17,$F28)","v":false},{"$f":"Find_Month(SH$16,SH$17,$F28)","v":false},{"$f":"Find_Month(SI$16,SI$17,$F28)","v":true},{"$f":"Find_Month(SJ$16,SJ$17,$F28)","v":false},{"$f":"Find_Month(SK$16,SK$17,$F28)","v":false},{"$f":"Find_Month(SL$16,SL$17,$F28)","v":false},{"$f":"Find_Month(SM$16,SM$17,$F28)","v":false},{"$f":"Find_Month(SN$16,SN$17,$F28)","v":false},{"$f":"Find_Month(SO$16,SO$17,$F28)","v":false},{"$f":"Find_Month(SP$16,SP$17,$F28)","v":false},{"$f":"Find_Month(SQ$16,SQ$17,$F28)","v":false},{"$f":"Find_Month(SR$16,SR$17,$F28)","v":false},{"$f":"Find_Month(SS$16,SS$17,$F28)","v":false},{"$f":"Find_Month(ST$16,ST$17,$F28)","v":false},{"$f":"Find_Month(SU$16,SU$17,$F28)","v":true},{"$f":"Find_Month(SV$16,SV$17,$F28)","v":false},{"$f":"Find_Month(SW$16,SW$17,$F28)","v":false},{"$f":"Find_Month(SX$16,SX$17,$F28)","v":false},{"$f":"Find_Month(SY$16,SY$17,$F28)","v":false},{"$f":"Find_Month(SZ$16,SZ$17,$F28)","v":false},{"$f":"Find_Month(TA$16,TA$17,$F28)","v":false},{"$f":"Find_Month(TB$16,TB$17,$F28)","v":false},{"$f":"Find_Month(TC$16,TC$17,$F28)","v":false},{"$f":"Find_Month(TD$16,TD$17,$F28)","v":false},{"$f":"Find_Month(TE$16,TE$17,$F28)","v":false},{"$f":"Find_Month(TF$16,TF$17,$F28)","v":false},{"$f":"Find_Month(TG$16,TG$17,$F28)","v":true},{"$f":"Find_Month(TH$16,TH$17,$F28)","v":false},{"$f":"Find_Month(TI$16,TI$17,$F28)","v":false},{"$f":"Find_Month(TJ$16,TJ$17,$F28)","v":false},{"$f":"Find_Month(TK$16,TK$17,$F28)","v":false},{"$f":"Find_Month(TL$16,TL$17,$F28)","v":false},{"$f":"Find_Month(TM$16,TM$17,$F28)","v":false},{"$f":"Find_Month(TN$16,TN$17,$F28)","v":false},{"$f":"Find_Month(TO$16,TO$17,$F28)","v":false},{"$f":"Find_Month(TP$16,TP$17,$F28)","v":false},{"$f":"Find_Month(TQ$16,TQ$17,$F28)","v":false},{"$f":"Find_Month(TR$16,TR$17,$F28)","v":false},{"$f":"Find_Month(TS$16,TS$17,$F28)","v":true},{"$f":"Find_Month(TT$16,TT$17,$F28)","v":false},{"$f":"Find_Month(TU$16,TU$17,$F28)","v":false},{"$f":"Find_Month(TV$16,TV$17,$F28)","v":false},{"$f":"Find_Month(TW$16,TW$17,$F28)","v":false},{"$f":"Find_Month(TX$16,TX$17,$F28)","v":false},{"$f":"Find_Month(TY$16,TY$17,$F28)","v":false},{"$f":"Find_Month(TZ$16,TZ$17,$F28)","v":false},{"$f":"Find_Month(UA$16,UA$17,$F28)","v":false},{"$f":"Find_Month(UB$16,UB$17,$F28)","v":false},{"$f":"Find_Month(UC$16,UC$17,$F28)","v":false},{"$f":"Find_Month(UD$16,UD$17,$F28)","v":false},{"$f":"Find_Month(UE$16,UE$17,$F28)","v":true},{"$f":"Find_Month(UF$16,UF$17,$F28)","v":false},{"$f":"Find_Month(UG$16,UG$17,$F28)","v":false},{"$f":"Find_Month(UH$16,UH$17,$F28)","v":false},{"$f":"Find_Month(UI$16,UI$17,$F28)","v":false},{"$f":"Find_Month(UJ$16,UJ$17,$F28)","v":false},{"$f":"Find_Month(UK$16,UK$17,$F28)","v":false},{"$f":"Find_Month(UL$16,UL$17,$F28)","v":false},{"$f":"Find_Month(UM$16,UM$17,$F28)","v":false}]
[null,null,null,null,null,10,null,0.08,null,{"$f":"Find_Month(J$16,J$17,$F29)","v":false},{"$f":"Find_Month(K$16,K$17,$F29)","v":false},{"$f":"Find_Month(L$16,L$17,$F29)","v":true},{"$f":"Find_Month(M$16,M$17,$F29)","v":false},{"$f":"Find_Month(N$16,N$17,$F29)","v":false},{"$f":"Find_Month(O$16,O$17,$F29)","v":false},{"$f":"Find_Month(P$16,P$17,$F29)","v":false},{"$f":"Find_Month(Q$16,Q$17,$F29)","v":false},{"$f":"Find_Month(R$16,R$17,$F29)","v":false},{"$f":"Find_Month(S$16,S$17,$F29)","v":false},{"$f":"Find_Month(T$16,T$17,$F29)","v":false},{"$f":"Find_Month(U$16,U$17,$F29)","v":false},{"$f":"Find_Month(V$16,V$17,$F29)","v":false},{"$f":"Find_Month(W$16,W$17,$F29)","v":false},{"$f":"Find_Month(X$16,X$17,$F29)","v":true},{"$f":"Find_Month(Y$16,Y$17,$F29)","v":false},{"$f":"Find_Month(Z$16,Z$17,$F29)","v":false},{"$f":"Find_Month(AA$16,AA$17,$F29)","v":false},{"$f":"Find_Month(AB$16,AB$17,$F29)","v":false},{"$f":"Find_Month(AC$16,AC$17,$F29)","v":false},{"$f":"Find_Month(AD$16,AD$17,$F29)","v":false},{"$f":"Find_Month(AE$16,AE$17,$F29)","v":false},{"$f":"Find_Month(AF$16,AF$17,$F29)","v":false},{"$f":"Find_Month(AG$16,AG$17,$F29)","v":false},{"$f":"Find_Month(AH$16,AH$17,$F29)","v":false},{"$f":"Find_Month(AI$16,AI$17,$F29)","v":false},{"$f":"Find_Month(AJ$16,AJ$17,$F29)","v":true},{"$f":"Find_Month(AK$16,AK$17,$F29)","v":false},{"$f":"Find_Month(AL$16,AL$17,$F29)","v":false},{"$f":"Find_Month(AM$16,AM$17,$F29)","v":false},{"$f":"Find_Month(AN$16,AN$17,$F29)","v":false},{"$f":"Find_Month(AO$16,AO$17,$F29)","v":false},{"$f":"Find_Month(AP$16,AP$17,$F29)","v":false},{"$f":"Find_Month(AQ$16,AQ$17,$F29)","v":false},{"$f":"Find_Month(AR$16,AR$17,$F29)","v":false},{"$f":"Find_Month(AS$16,AS$17,$F29)","v":false},{"$f":"Find_Month(AT$16,AT$17,$F29)","v":false},{"$f":"Find_Month(AU$16,AU$17,$F29)","v":false},{"$f":"Find_Month(AV$16,AV$17,$F29)","v":true},{"$f":"Find_Month(AW$16,AW$17,$F29)","v":false},{"$f":"Find_Month(AX$16,AX$17,$F29)","v":false},{"$f":"Find_Month(AY$16,AY$17,$F29)","v":false},{"$f":"Find_Month(AZ$16,AZ$17,$F29)","v":false},{"$f":"Find_Month(BA$16,BA$17,$F29)","v":false},{"$f":"Find_Month(BB$16,BB$17,$F29)","v":false},{"$f":"Find_Month(BC$16,BC$17,$F29)","v":false},{"$f":"Find_Month(BD$16,BD$17,$F29)","v":false},{"$f":"Find_Month(BE$16,BE$17,$F29)","v":false},{"$f":"Find_Month(BF$16,BF$17,$F29)","v":false},{"$f":"Find_Month(BG$16,BG$17,$F29)","v":false},{"$f":"Find_Month(BH$16,BH$17,$F29)","v":true},{"$f":"Find_Month(BI$16,BI$17,$F29)","v":false},{"$f":"Find_Month(BJ$16,BJ$17,$F29)","v":false},{"$f":"Find_Month(BK$16,BK$17,$F29)","v":false},{"$f":"Find_Month(BL$16,BL$17,$F29)","v":false},{"$f":"Find_Month(BM$16,BM$17,$F29)","v":false},{"$f":"Find_Month(BN$16,BN$17,$F29)","v":false},{"$f":"Find_Month(BO$16,BO$17,$F29)","v":false},{"$f":"Find_Month(BP$16,BP$17,$F29)","v":false},{"$f":"Find_Month(BQ$16,BQ$17,$F29)","v":false},{"$f":"Find_Month(BR$16,BR$17,$F29)","v":false},{"$f":"Find_Month(BS$16,BS$17,$F29)","v":false},{"$f":"Find_Month(BT$16,BT$17,$F29)","v":true},{"$f":"Find_Month(BU$16,BU$17,$F29)","v":false},{"$f":"Find_Month(BV$16,BV$17,$F29)","v":false},{"$f":"Find_Month(BW$16,BW$17,$F29)","v":false},{"$f":"Find_Month(BX$16,BX$17,$F29)","v":false},{"$f":"Find_Month(BY$16,BY$17,$F29)","v":false},{"$f":"Find_Month(BZ$16,BZ$17,$F29)","v":false},{"$f":"Find_Month(CA$16,CA$17,$F29)","v":false},{"$f":"Find_Month(CB$16,CB$17,$F29)","v":false},{"$f":"Find_Month(CC$16,CC$17,$F29)","v":false},{"$f":"Find_Month(CD$16,CD$17,$F29)","v":false},{"$f":"Find_Month(CE$16,CE$17,$F29)","v":false},{"$f":"Find_Month(CF$16,CF$17,$F29)","v":true},{"$f":"Find_Month(CG$16,CG$17,$F29)","v":false},{"$f":"Find_Month(CH$16,CH$17,$F29)","v":false},{"$f":"Find_Month(CI$16,CI$17,$F29)","v":false},{"$f":"Find_Month(CJ$16,CJ$17,$F29)","v":false},{"$f":"Find_Month(CK$16,CK$17,$F29)","v":false},{"$f":"Find_Month(CL$16,CL$17,$F29)","v":false},{"$f":"Find_Month(CM$16,CM$17,$F29)","v":false},{"$f":"Find_Month(CN$16,CN$17,$F29)","v":false},{"$f":"Find_Month(CO$16,CO$17,$F29)","v":false},{"$f":"Find_Month(CP$16,CP$17,$F29)","v":false},{"$f":"Find_Month(CQ$16,CQ$17,$F29)","v":false},{"$f":"Find_Month(CR$16,CR$17,$F29)","v":true},{"$f":"Find_Month(CS$16,CS$17,$F29)","v":false},{"$f":"Find_Month(CT$16,CT$17,$F29)","v":false},{"$f":"Find_Month(CU$16,CU$17,$F29)","v":false},{"$f":"Find_Month(CV$16,CV$17,$F29)","v":false},{"$f":"Find_Month(CW$16,CW$17,$F29)","v":false},{"$f":"Find_Month(CX$16,CX$17,$F29)","v":false},{"$f":"Find_Month(CY$16,CY$17,$F29)","v":false},{"$f":"Find_Month(CZ$16,CZ$17,$F29)","v":false},{"$f":"Find_Month(DA$16,DA$17,$F29)","v":false},{"$f":"Find_Month(DB$16,DB$17,$F29)","v":false},{"$f":"Find_Month(DC$16,DC$17,$F29)","v":false},{"$f":"Find_Month(DD$16,DD$17,$F29)","v":true},{"$f":"Find_Month(DE$16,DE$17,$F29)","v":false},{"$f":"Find_Month(DF$16,DF$17,$F29)","v":false},{"$f":"Find_Month(DG$16,DG$17,$F29)","v":false},{"$f":"Find_Month(DH$16,DH$17,$F29)","v":false},{"$f":"Find_Month(DI$16,DI$17,$F29)","v":false},{"$f":"Find_Month(DJ$16,DJ$17,$F29)","v":false},{"$f":"Find_Month(DK$16,DK$17,$F29)","v":false},{"$f":"Find_Month(DL$16,DL$17,$F29)","v":false},{"$f":"Find_Month(DM$16,DM$17,$F29)","v":false},{"$f":"Find_Month(DN$16,DN$17,$F29)","v":false},{"$f":"Find_Month(DO$16,DO$17,$F29)","v":false},{"$f":"Find_Month(DP$16,DP$17,$F29)","v":true},{"$f":"Find_Month(DQ$16,DQ$17,$F29)","v":false},{"$f":"Find_Month(DR$16,DR$17,$F29)","v":false},{"$f":"Find_Month(DS$16,DS$17,$F29)","v":false},{"$f":"Find_Month(DT$16,DT$17,$F29)","v":false},{"$f":"Find_Month(DU$16,DU$17,$F29)","v":false},{"$f":"Find_Month(DV$16,DV$17,$F29)","v":false},{"$f":"Find_Month(DW$16,DW$17,$F29)","v":false},{"$f":"Find_Month(DX$16,DX$17,$F29)","v":false},{"$f":"Find_Month(DY$16,DY$17,$F29)","v":false},{"$f":"Find_Month(DZ$16,DZ$17,$F29)","v":false},{"$f":"Find_Month(EA$16,EA$17,$F29)","v":false},{"$f":"Find_Month(EB$16,EB$17,$F29)","v":true},{"$f":"Find_Month(EC$16,EC$17,$F29)","v":false},{"$f":"Find_Month(ED$16,ED$17,$F29)","v":false},{"$f":"Find_Month(EE$16,EE$17,$F29)","v":false},{"$f":"Find_Month(EF$16,EF$17,$F29)","v":false},{"$f":"Find_Month(EG$16,EG$17,$F29)","v":false},{"$f":"Find_Month(EH$16,EH$17,$F29)","v":false},{"$f":"Find_Month(EI$16,EI$17,$F29)","v":false},{"$f":"Find_Month(EJ$16,EJ$17,$F29)","v":false},{"$f":"Find_Month(EK$16,EK$17,$F29)","v":false},{"$f":"Find_Month(EL$16,EL$17,$F29)","v":false},{"$f":"Find_Month(EM$16,EM$17,$F29)","v":false},{"$f":"Find_Month(EN$16,EN$17,$F29)","v":true},{"$f":"Find_Month(EO$16,EO$17,$F29)","v":false},{"$f":"Find_Month(EP$16,EP$17,$F29)","v":false},{"$f":"Find_Month(EQ$16,EQ$17,$F29)","v":false},{"$f":"Find_Month(ER$16,ER$17,$F29)","v":false},{"$f":"Find_Month(ES$16,ES$17,$F29)","v":false},{"$f":"Find_Month(ET$16,ET$17,$F29)","v":false},{"$f":"Find_Month(EU$16,EU$17,$F29)","v":false},{"$f":"Find_Month(EV$16,EV$17,$F29)","v":false},{"$f":"Find_Month(EW$16,EW$17,$F29)","v":false},{"$f":"Find_Month(EX$16,EX$17,$F29)","v":false},{"$f":"Find_Month(EY$16,EY$17,$F29)","v":false},{"$f":"Find_Month(EZ$16,EZ$17,$F29)","v":true},{"$f":"Find_Month(FA$16,FA$17,$F29)","v":false},{"$f":"Find_Month(FB$16,FB$17,$F29)","v":false},{"$f":"Find_Month(FC$16,FC$17,$F29)","v":false},{"$f":"Find_Month(FD$16,FD$17,$F29)","v":false},{"$f":"Find_Month(FE$16,FE$17,$F29)","v":false},{"$f":"Find_Month(FF$16,FF$17,$F29)","v":false},{"$f":"Find_Month(FG$16,FG$17,$F29)","v":false},{"$f":"Find_Month(FH$16,FH$17,$F29)","v":false},{"$f":"Find_Month(FI$16,FI$17,$F29)","v":false},{"$f":"Find_Month(FJ$16,FJ$17,$F29)","v":false},{"$f":"Find_Month(FK$16,FK$17,$F29)","v":false},{"$f":"Find_Month(FL$16,FL$17,$F29)","v":true},{"$f":"Find_Month(FM$16,FM$17,$F29)","v":false},{"$f":"Find_Month(FN$16,FN$17,$F29)","v":false},{"$f":"Find_Month(FO$16,FO$17,$F29)","v":false},{"$f":"Find_Month(FP$16,FP$17,$F29)","v":false},{"$f":"Find_Month(FQ$16,FQ$17,$F29)","v":false},{"$f":"Find_Month(FR$16,FR$17,$F29)","v":false},{"$f":"Find_Month(FS$16,FS$17,$F29)","v":false},{"$f":"Find_Month(FT$16,FT$17,$F29)","v":false},{"$f":"Find_Month(FU$16,FU$17,$F29)","v":false},{"$f":"Find_Month(FV$16,FV$17,$F29)","v":false},{"$f":"Find_Month(FW$16,FW$17,$F29)","v":false},{"$f":"Find_Month(FX$16,FX$17,$F29)","v":true},{"$f":"Find_Month(FY$16,FY$17,$F29)","v":false},{"$f":"Find_Month(FZ$16,FZ$17,$F29)","v":false},{"$f":"Find_Month(GA$16,GA$17,$F29)","v":false},{"$f":"Find_Month(GB$16,GB$17,$F29)","v":false},{"$f":"Find_Month(GC$16,GC$17,$F29)","v":false},{"$f":"Find_Month(GD$16,GD$17,$F29)","v":false},{"$f":"Find_Month(GE$16,GE$17,$F29)","v":false},{"$f":"Find_Month(GF$16,GF$17,$F29)","v":false},{"$f":"Find_Month(GG$16,GG$17,$F29)","v":false},{"$f":"Find_Month(GH$16,GH$17,$F29)","v":false},{"$f":"Find_Month(GI$16,GI$17,$F29)","v":false},{"$f":"Find_Month(GJ$16,GJ$17,$F29)","v":true},{"$f":"Find_Month(GK$16,GK$17,$F29)","v":false},{"$f":"Find_Month(GL$16,GL$17,$F29)","v":false},{"$f":"Find_Month(GM$16,GM$17,$F29)","v":false},{"$f":"Find_Month(GN$16,GN$17,$F29)","v":false},{"$f":"Find_Month(GO$16,GO$17,$F29)","v":false},{"$f":"Find_Month(GP$16,GP$17,$F29)","v":false},{"$f":"Find_Month(GQ$16,GQ$17,$F29)","v":false},{"$f":"Find_Month(GR$16,GR$17,$F29)","v":false},{"$f":"Find_Month(GS$16,GS$17,$F29)","v":false},{"$f":"Find_Month(GT$16,GT$17,$F29)","v":false},{"$f":"Find_Month(GU$16,GU$17,$F29)","v":false},{"$f":"Find_Month(GV$16,GV$17,$F29)","v":true},{"$f":"Find_Month(GW$16,GW$17,$F29)","v":false},{"$f":"Find_Month(GX$16,GX$17,$F29)","v":false},{"$f":"Find_Month(GY$16,GY$17,$F29)","v":false},{"$f":"Find_Month(GZ$16,GZ$17,$F29)","v":false},{"$f":"Find_Month(HA$16,HA$17,$F29)","v":false},{"$f":"Find_Month(HB$16,HB$17,$F29)","v":false},{"$f":"Find_Month(HC$16,HC$17,$F29)","v":false},{"$f":"Find_Month(HD$16,HD$17,$F29)","v":false},{"$f":"Find_Month(HE$16,HE$17,$F29)","v":false},{"$f":"Find_Month(HF$16,HF$17,$F29)","v":false},{"$f":"Find_Month(HG$16,HG$17,$F29)","v":false},{"$f":"Find_Month(HH$16,HH$17,$F29)","v":true},{"$f":"Find_Month(HI$16,HI$17,$F29)","v":false},{"$f":"Find_Month(HJ$16,HJ$17,$F29)","v":false},{"$f":"Find_Month(HK$16,HK$17,$F29)","v":false},{"$f":"Find_Month(HL$16,HL$17,$F29)","v":false},{"$f":"Find_Month(HM$16,HM$17,$F29)","v":false},{"$f":"Find_Month(HN$16,HN$17,$F29)","v":false},{"$f":"Find_Month(HO$16,HO$17,$F29)","v":false},{"$f":"Find_Month(HP$16,HP$17,$F29)","v":false},{"$f":"Find_Month(HQ$16,HQ$17,$F29)","v":false},{"$f":"Find_Month(HR$16,HR$17,$F29)","v":false},{"$f":"Find_Month(HS$16,HS$17,$F29)","v":false},{"$f":"Find_Month(HT$16,HT$17,$F29)","v":true},{"$f":"Find_Month(HU$16,HU$17,$F29)","v":false},{"$f":"Find_Month(HV$16,HV$17,$F29)","v":false},{"$f":"Find_Month(HW$16,HW$17,$F29)","v":false},{"$f":"Find_Month(HX$16,HX$17,$F29)","v":false},{"$f":"Find_Month(HY$16,HY$17,$F29)","v":false},{"$f":"Find_Month(HZ$16,HZ$17,$F29)","v":false},{"$f":"Find_Month(IA$16,IA$17,$F29)","v":false},{"$f":"Find_Month(IB$16,IB$17,$F29)","v":false},{"$f":"Find_Month(IC$16,IC$17,$F29)","v":false},{"$f":"Find_Month(ID$16,ID$17,$F29)","v":false},{"$f":"Find_Month(IE$16,IE$17,$F29)","v":false},{"$f":"Find_Month(IF$16,IF$17,$F29)","v":true},{"$f":"Find_Month(IG$16,IG$17,$F29)","v":false},{"$f":"Find_Month(IH$16,IH$17,$F29)","v":false},{"$f":"Find_Month(II$16,II$17,$F29)","v":false},{"$f":"Find_Month(IJ$16,IJ$17,$F29)","v":false},{"$f":"Find_Month(IK$16,IK$17,$F29)","v":false},{"$f":"Find_Month(IL$16,IL$17,$F29)","v":false},{"$f":"Find_Month(IM$16,IM$17,$F29)","v":false},{"$f":"Find_Month(IN$16,IN$17,$F29)","v":false},{"$f":"Find_Month(IO$16,IO$17,$F29)","v":false},{"$f":"Find_Month(IP$16,IP$17,$F29)","v":false},{"$f":"Find_Month(IQ$16,IQ$17,$F29)","v":false},{"$f":"Find_Month(IR$16,IR$17,$F29)","v":true},{"$f":"Find_Month(IS$16,IS$17,$F29)","v":false},{"$f":"Find_Month(IT$16,IT$17,$F29)","v":false},{"$f":"Find_Month(IU$16,IU$17,$F29)","v":false},{"$f":"Find_Month(IV$16,IV$17,$F29)","v":false},{"$f":"Find_Month(IW$16,IW$17,$F29)","v":false},{"$f":"Find_Month(IX$16,IX$17,$F29)","v":false},{"$f":"Find_Month(IY$16,IY$17,$F29)","v":false},{"$f":"Find_Month(IZ$16,IZ$17,$F29)","v":false},{"$f":"Find_Month(JA$16,JA$17,$F29)","v":false},{"$f":"Find_Month(JB$16,JB$17,$F29)","v":false},{"$f":"Find_Month(JC$16,JC$17,$F29)","v":false},{"$f":"Find_Month(JD$16,JD$17,$F29)","v":true},{"$f":"Find_Month(JE$16,JE$17,$F29)","v":false},{"$f":"Find_Month(JF$16,JF$17,$F29)","v":false},{"$f":"Find_Month(JG$16,JG$17,$F29)","v":false},{"$f":"Find_Month(JH$16,JH$17,$F29)","v":false},{"$f":"Find_Month(JI$16,JI$17,$F29)","v":false},{"$f":"Find_Month(JJ$16,JJ$17,$F29)","v":false},{"$f":"Find_Month(JK$16,JK$17,$F29)","v":false},{"$f":"Find_Month(JL$16,JL$17,$F29)","v":false},{"$f":"Find_Month(JM$16,JM$17,$F29)","v":false},{"$f":"Find_Month(JN$16,JN$17,$F29)","v":false},{"$f":"Find_Month(JO$16,JO$17,$F29)","v":false},{"$f":"Find_Month(JP$16,JP$17,$F29)","v":true},{"$f":"Find_Month(JQ$16,JQ$17,$F29)","v":false},{"$f":"Find_Month(JR$16,JR$17,$F29)","v":false},{"$f":"Find_Month(JS$16,JS$17,$F29)","v":false},{"$f":"Find_Month(JT$16,JT$17,$F29)","v":false},{"$f":"Find_Month(JU$16,JU$17,$F29)","v":false},{"$f":"Find_Month(JV$16,JV$17,$F29)","v":false},{"$f":"Find_Month(JW$16,JW$17,$F29)","v":false},{"$f":"Find_Month(JX$16,JX$17,$F29)","v":false},{"$f":"Find_Month(JY$16,JY$17,$F29)","v":false},{"$f":"Find_Month(JZ$16,JZ$17,$F29)","v":false},{"$f":"Find_Month(KA$16,KA$17,$F29)","v":false},{"$f":"Find_Month(KB$16,KB$17,$F29)","v":true},{"$f":"Find_Month(KC$16,KC$17,$F29)","v":false},{"$f":"Find_Month(KD$16,KD$17,$F29)","v":false},{"$f":"Find_Month(KE$16,KE$17,$F29)","v":false},{"$f":"Find_Month(KF$16,KF$17,$F29)","v":false},{"$f":"Find_Month(KG$16,KG$17,$F29)","v":false},{"$f":"Find_Month(KH$16,KH$17,$F29)","v":false},{"$f":"Find_Month(KI$16,KI$17,$F29)","v":false},{"$f":"Find_Month(KJ$16,KJ$17,$F29)","v":false},{"$f":"Find_Month(KK$16,KK$17,$F29)","v":false},{"$f":"Find_Month(KL$16,KL$17,$F29)","v":false},{"$f":"Find_Month(KM$16,KM$17,$F29)","v":false},{"$f":"Find_Month(KN$16,KN$17,$F29)","v":true},{"$f":"Find_Month(KO$16,KO$17,$F29)","v":false},{"$f":"Find_Month(KP$16,KP$17,$F29)","v":false},{"$f":"Find_Month(KQ$16,KQ$17,$F29)","v":false},{"$f":"Find_Month(KR$16,KR$17,$F29)","v":false},{"$f":"Find_Month(KS$16,KS$17,$F29)","v":false},{"$f":"Find_Month(KT$16,KT$17,$F29)","v":false},{"$f":"Find_Month(KU$16,KU$17,$F29)","v":false},{"$f":"Find_Month(KV$16,KV$17,$F29)","v":false},{"$f":"Find_Month(KW$16,KW$17,$F29)","v":false},{"$f":"Find_Month(KX$16,KX$17,$F29)","v":false},{"$f":"Find_Month(KY$16,KY$17,$F29)","v":false},{"$f":"Find_Month(KZ$16,KZ$17,$F29)","v":true},{"$f":"Find_Month(LA$16,LA$17,$F29)","v":false},{"$f":"Find_Month(LB$16,LB$17,$F29)","v":false},{"$f":"Find_Month(LC$16,LC$17,$F29)","v":false},{"$f":"Find_Month(LD$16,LD$17,$F29)","v":false},{"$f":"Find_Month(LE$16,LE$17,$F29)","v":false},{"$f":"Find_Month(LF$16,LF$17,$F29)","v":false},{"$f":"Find_Month(LG$16,LG$17,$F29)","v":false},{"$f":"Find_Month(LH$16,LH$17,$F29)","v":false},{"$f":"Find_Month(LI$16,LI$17,$F29)","v":false},{"$f":"Find_Month(LJ$16,LJ$17,$F29)","v":false},{"$f":"Find_Month(LK$16,LK$17,$F29)","v":false},{"$f":"Find_Month(LL$16,LL$17,$F29)","v":true},{"$f":"Find_Month(LM$16,LM$17,$F29)","v":false},{"$f":"Find_Month(LN$16,LN$17,$F29)","v":false},{"$f":"Find_Month(LO$16,LO$17,$F29)","v":false},{"$f":"Find_Month(LP$16,LP$17,$F29)","v":false},{"$f":"Find_Month(LQ$16,LQ$17,$F29)","v":false},{"$f":"Find_Month(LR$16,LR$17,$F29)","v":false},{"$f":"Find_Month(LS$16,LS$17,$F29)","v":false},{"$f":"Find_Month(LT$16,LT$17,$F29)","v":false},{"$f":"Find_Month(LU$16,LU$17,$F29)","v":false},{"$f":"Find_Month(LV$16,LV$17,$F29)","v":false},{"$f":"Find_Month(LW$16,LW$17,$F29)","v":false},{"$f":"Find_Month(LX$16,LX$17,$F29)","v":true},{"$f":"Find_Month(LY$16,LY$17,$F29)","v":false},{"$f":"Find_Month(LZ$16,LZ$17,$F29)","v":false},{"$f":"Find_Month(MA$16,MA$17,$F29)","v":false},{"$f":"Find_Month(MB$16,MB$17,$F29)","v":false},{"$f":"Find_Month(MC$16,MC$17,$F29)","v":false},{"$f":"Find_Month(MD$16,MD$17,$F29)","v":false},{"$f":"Find_Month(ME$16,ME$17,$F29)","v":false},{"$f":"Find_Month(MF$16,MF$17,$F29)","v":false},{"$f":"Find_Month(MG$16,MG$17,$F29)","v":false},{"$f":"Find_Month(MH$16,MH$17,$F29)","v":false},{"$f":"Find_Month(MI$16,MI$17,$F29)","v":false},{"$f":"Find_Month(MJ$16,MJ$17,$F29)","v":true},{"$f":"Find_Month(MK$16,MK$17,$F29)","v":false},{"$f":"Find_Month(ML$16,ML$17,$F29)","v":false},{"$f":"Find_Month(MM$16,MM$17,$F29)","v":false},{"$f":"Find_Month(MN$16,MN$17,$F29)","v":false},{"$f":"Find_Month(MO$16,MO$17,$F29)","v":false},{"$f":"Find_Month(MP$16,MP$17,$F29)","v":false},{"$f":"Find_Month(MQ$16,MQ$17,$F29)","v":false},{"$f":"Find_Month(MR$16,MR$17,$F29)","v":false},{"$f":"Find_Month(MS$16,MS$17,$F29)","v":false},{"$f":"Find_Month(MT$16,MT$17,$F29)","v":false},{"$f":"Find_Month(MU$16,MU$17,$F29)","v":false},{"$f":"Find_Month(MV$16,MV$17,$F29)","v":true},{"$f":"Find_Month(MW$16,MW$17,$F29)","v":false},{"$f":"Find_Month(MX$16,MX$17,$F29)","v":false},{"$f":"Find_Month(MY$16,MY$17,$F29)","v":false},{"$f":"Find_Month(MZ$16,MZ$17,$F29)","v":false},{"$f":"Find_Month(NA$16,NA$17,$F29)","v":false},{"$f":"Find_Month(NB$16,NB$17,$F29)","v":false},{"$f":"Find_Month(NC$16,NC$17,$F29)","v":false},{"$f":"Find_Month(ND$16,ND$17,$F29)","v":false},{"$f":"Find_Month(NE$16,NE$17,$F29)","v":false},{"$f":"Find_Month(NF$16,NF$17,$F29)","v":false},{"$f":"Find_Month(NG$16,NG$17,$F29)","v":false},{"$f":"Find_Month(NH$16,NH$17,$F29)","v":true},{"$f":"Find_Month(NI$16,NI$17,$F29)","v":false},{"$f":"Find_Month(NJ$16,NJ$17,$F29)","v":false},{"$f":"Find_Month(NK$16,NK$17,$F29)","v":false},{"$f":"Find_Month(NL$16,NL$17,$F29)","v":false},{"$f":"Find_Month(NM$16,NM$17,$F29)","v":false},{"$f":"Find_Month(NN$16,NN$17,$F29)","v":false},{"$f":"Find_Month(NO$16,NO$17,$F29)","v":false},{"$f":"Find_Month(NP$16,NP$17,$F29)","v":false},{"$f":"Find_Month(NQ$16,NQ$17,$F29)","v":false},{"$f":"Find_Month(NR$16,NR$17,$F29)","v":false},{"$f":"Find_Month(NS$16,NS$17,$F29)","v":false},{"$f":"Find_Month(NT$16,NT$17,$F29)","v":true},{"$f":"Find_Month(NU$16,NU$17,$F29)","v":false},{"$f":"Find_Month(NV$16,NV$17,$F29)","v":false},{"$f":"Find_Month(NW$16,NW$17,$F29)","v":false},{"$f":"Find_Month(NX$16,NX$17,$F29)","v":false},{"$f":"Find_Month(NY$16,NY$17,$F29)","v":false},{"$f":"Find_Month(NZ$16,NZ$17,$F29)","v":false},{"$f":"Find_Month(OA$16,OA$17,$F29)","v":false},{"$f":"Find_Month(OB$16,OB$17,$F29)","v":false},{"$f":"Find_Month(OC$16,OC$17,$F29)","v":false},{"$f":"Find_Month(OD$16,OD$17,$F29)","v":false},{"$f":"Find_Month(OE$16,OE$17,$F29)","v":false},{"$f":"Find_Month(OF$16,OF$17,$F29)","v":true},{"$f":"Find_Month(OG$16,OG$17,$F29)","v":false},{"$f":"Find_Month(OH$16,OH$17,$F29)","v":false},{"$f":"Find_Month(OI$16,OI$17,$F29)","v":false},{"$f":"Find_Month(OJ$16,OJ$17,$F29)","v":false},{"$f":"Find_Month(OK$16,OK$17,$F29)","v":false},{"$f":"Find_Month(OL$16,OL$17,$F29)","v":false},{"$f":"Find_Month(OM$16,OM$17,$F29)","v":false},{"$f":"Find_Month(ON$16,ON$17,$F29)","v":false},{"$f":"Find_Month(OO$16,OO$17,$F29)","v":false},{"$f":"Find_Month(OP$16,OP$17,$F29)","v":false},{"$f":"Find_Month(OQ$16,OQ$17,$F29)","v":false},{"$f":"Find_Month(OR$16,OR$17,$F29)","v":true},{"$f":"Find_Month(OS$16,OS$17,$F29)","v":false},{"$f":"Find_Month(OT$16,OT$17,$F29)","v":false},{"$f":"Find_Month(OU$16,OU$17,$F29)","v":false},{"$f":"Find_Month(OV$16,OV$17,$F29)","v":false},{"$f":"Find_Month(OW$16,OW$17,$F29)","v":false},{"$f":"Find_Month(OX$16,OX$17,$F29)","v":false},{"$f":"Find_Month(OY$16,OY$17,$F29)","v":false},{"$f":"Find_Month(OZ$16,OZ$17,$F29)","v":false},{"$f":"Find_Month(PA$16,PA$17,$F29)","v":false},{"$f":"Find_Month(PB$16,PB$17,$F29)","v":false},{"$f":"Find_Month(PC$16,PC$17,$F29)","v":false},{"$f":"Find_Month(PD$16,PD$17,$F29)","v":true},{"$f":"Find_Month(PE$16,PE$17,$F29)","v":false},{"$f":"Find_Month(PF$16,PF$17,$F29)","v":false},{"$f":"Find_Month(PG$16,PG$17,$F29)","v":false},{"$f":"Find_Month(PH$16,PH$17,$F29)","v":false},{"$f":"Find_Month(PI$16,PI$17,$F29)","v":false},{"$f":"Find_Month(PJ$16,PJ$17,$F29)","v":false},{"$f":"Find_Month(PK$16,PK$17,$F29)","v":false},{"$f":"Find_Month(PL$16,PL$17,$F29)","v":false},{"$f":"Find_Month(PM$16,PM$17,$F29)","v":false},{"$f":"Find_Month(PN$16,PN$17,$F29)","v":false},{"$f":"Find_Month(PO$16,PO$17,$F29)","v":false},{"$f":"Find_Month(PP$16,PP$17,$F29)","v":true},{"$f":"Find_Month(PQ$16,PQ$17,$F29)","v":false},{"$f":"Find_Month(PR$16,PR$17,$F29)","v":false},{"$f":"Find_Month(PS$16,PS$17,$F29)","v":false},{"$f":"Find_Month(PT$16,PT$17,$F29)","v":false},{"$f":"Find_Month(PU$16,PU$17,$F29)","v":false},{"$f":"Find_Month(PV$16,PV$17,$F29)","v":false},{"$f":"Find_Month(PW$16,PW$17,$F29)","v":false},{"$f":"Find_Month(PX$16,PX$17,$F29)","v":false},{"$f":"Find_Month(PY$16,PY$17,$F29)","v":false},{"$f":"Find_Month(PZ$16,PZ$17,$F29)","v":false},{"$f":"Find_Month(QA$16,QA$17,$F29)","v":false},{"$f":"Find_Month(QB$16,QB$17,$F29)","v":true},{"$f":"Find_Month(QC$16,QC$17,$F29)","v":false},{"$f":"Find_Month(QD$16,QD$17,$F29)","v":false},{"$f":"Find_Month(QE$16,QE$17,$F29)","v":false},{"$f":"Find_Month(QF$16,QF$17,$F29)","v":false},{"$f":"Find_Month(QG$16,QG$17,$F29)","v":false},{"$f":"Find_Month(QH$16,QH$17,$F29)","v":false},{"$f":"Find_Month(QI$16,QI$17,$F29)","v":false},{"$f":"Find_Month(QJ$16,QJ$17,$F29)","v":false},{"$f":"Find_Month(QK$16,QK$17,$F29)","v":false},{"$f":"Find_Month(QL$16,QL$17,$F29)","v":false},{"$f":"Find_Month(QM$16,QM$17,$F29)","v":false},{"$f":"Find_Month(QN$16,QN$17,$F29)","v":true},{"$f":"Find_Month(QO$16,QO$17,$F29)","v":false},{"$f":"Find_Month(QP$16,QP$17,$F29)","v":false},{"$f":"Find_Month(QQ$16,QQ$17,$F29)","v":false},{"$f":"Find_Month(QR$16,QR$17,$F29)","v":false},{"$f":"Find_Month(QS$16,QS$17,$F29)","v":false},{"$f":"Find_Month(QT$16,QT$17,$F29)","v":false},{"$f":"Find_Month(QU$16,QU$17,$F29)","v":false},{"$f":"Find_Month(QV$16,QV$17,$F29)","v":false},{"$f":"Find_Month(QW$16,QW$17,$F29)","v":false},{"$f":"Find_Month(QX$16,QX$17,$F29)","v":false},{"$f":"Find_Month(QY$16,QY$17,$F29)","v":false},{"$f":"Find_Month(QZ$16,QZ$17,$F29)","v":true},{"$f":"Find_Month(RA$16,RA$17,$F29)","v":false},{"$f":"Find_Month(RB$16,RB$17,$F29)","v":false},{"$f":"Find_Month(RC$16,RC$17,$F29)","v":false},{"$f":"Find_Month(RD$16,RD$17,$F29)","v":false},{"$f":"Find_Month(RE$16,RE$17,$F29)","v":false},{"$f":"Find_Month(RF$16,RF$17,$F29)","v":false},{"$f":"Find_Month(RG$16,RG$17,$F29)","v":false},{"$f":"Find_Month(RH$16,RH$17,$F29)","v":false},{"$f":"Find_Month(RI$16,RI$17,$F29)","v":false},{"$f":"Find_Month(RJ$16,RJ$17,$F29)","v":false},{"$f":"Find_Month(RK$16,RK$17,$F29)","v":false},{"$f":"Find_Month(RL$16,RL$17,$F29)","v":true},{"$f":"Find_Month(RM$16,RM$17,$F29)","v":false},{"$f":"Find_Month(RN$16,RN$17,$F29)","v":false},{"$f":"Find_Month(RO$16,RO$17,$F29)","v":false},{"$f":"Find_Month(RP$16,RP$17,$F29)","v":false},{"$f":"Find_Month(RQ$16,RQ$17,$F29)","v":false},{"$f":"Find_Month(RR$16,RR$17,$F29)","v":false},{"$f":"Find_Month(RS$16,RS$17,$F29)","v":false},{"$f":"Find_Month(RT$16,RT$17,$F29)","v":false},{"$f":"Find_Month(RU$16,RU$17,$F29)","v":false},{"$f":"Find_Month(RV$16,RV$17,$F29)","v":false},{"$f":"Find_Month(RW$16,RW$17,$F29)","v":false},{"$f":"Find_Month(RX$16,RX$17,$F29)","v":true},{"$f":"Find_Month(RY$16,RY$17,$F29)","v":false},{"$f":"Find_Month(RZ$16,RZ$17,$F29)","v":false},{"$f":"Find_Month(SA$16,SA$17,$F29)","v":false},{"$f":"Find_Month(SB$16,SB$17,$F29)","v":false},{"$f":"Find_Month(SC$16,SC$17,$F29)","v":false},{"$f":"Find_Month(SD$16,SD$17,$F29)","v":false},{"$f":"Find_Month(SE$16,SE$17,$F29)","v":false},{"$f":"Find_Month(SF$16,SF$17,$F29)","v":false},{"$f":"Find_Month(SG$16,SG$17,$F29)","v":false},{"$f":"Find_Month(SH$16,SH$17,$F29)","v":false},{"$f":"Find_Month(SI$16,SI$17,$F29)","v":false},{"$f":"Find_Month(SJ$16,SJ$17,$F29)","v":true},{"$f":"Find_Month(SK$16,SK$17,$F29)","v":false},{"$f":"Find_Month(SL$16,SL$17,$F29)","v":false},{"$f":"Find_Month(SM$16,SM$17,$F29)","v":false},{"$f":"Find_Month(SN$16,SN$17,$F29)","v":false},{"$f":"Find_Month(SO$16,SO$17,$F29)","v":false},{"$f":"Find_Month(SP$16,SP$17,$F29)","v":false},{"$f":"Find_Month(SQ$16,SQ$17,$F29)","v":false},{"$f":"Find_Month(SR$16,SR$17,$F29)","v":false},{"$f":"Find_Month(SS$16,SS$17,$F29)","v":false},{"$f":"Find_Month(ST$16,ST$17,$F29)","v":false},{"$f":"Find_Month(SU$16,SU$17,$F29)","v":false},{"$f":"Find_Month(SV$16,SV$17,$F29)","v":true},{"$f":"Find_Month(SW$16,SW$17,$F29)","v":false},{"$f":"Find_Month(SX$16,SX$17,$F29)","v":false},{"$f":"Find_Month(SY$16,SY$17,$F29)","v":false},{"$f":"Find_Month(SZ$16,SZ$17,$F29)","v":false},{"$f":"Find_Month(TA$16,TA$17,$F29)","v":false},{"$f":"Find_Month(TB$16,TB$17,$F29)","v":false},{"$f":"Find_Month(TC$16,TC$17,$F29)","v":false},{"$f":"Find_Month(TD$16,TD$17,$F29)","v":false},{"$f":"Find_Month(TE$16,TE$17,$F29)","v":false},{"$f":"Find_Month(TF$16,TF$17,$F29)","v":false},{"$f":"Find_Month(TG$16,TG$17,$F29)","v":false},{"$f":"Find_Month(TH$16,TH$17,$F29)","v":true},{"$f":"Find_Month(TI$16,TI$17,$F29)","v":false},{"$f":"Find_Month(TJ$16,TJ$17,$F29)","v":false},{"$f":"Find_Month(TK$16,TK$17,$F29)","v":false},{"$f":"Find_Month(TL$16,TL$17,$F29)","v":false},{"$f":"Find_Month(TM$16,TM$17,$F29)","v":false},{"$f":"Find_Month(TN$16,TN$17,$F29)","v":false},{"$f":"Find_Month(TO$16,TO$17,$F29)","v":false},{"$f":"Find_Month(TP$16,TP$17,$F29)","v":false},{"$f":"Find_Month(TQ$16,TQ$17,$F29)","v":false},{"$f":"Find_Month(TR$16,TR$17,$F29)","v":false},{"$f":"Find_Month(TS$16,TS$17,$F29)","v":false},{"$f":"Find_Month(TT$16,TT$17,$F29)","v":true},{"$f":"Find_Month(TU$16,TU$17,$F29)","v":false},{"$f":"Find_Month(TV$16,TV$17,$F29)","v":false},{"$f":"Find_Month(TW$16,TW$17,$F29)","v":false},{"$f":"Find_Month(TX$16,TX$17,$F29)","v":false},{"$f":"Find_Month(TY$16,TY$17,$F29)","v":false},{"$f":"Find_Month(TZ$16,TZ$17,$F29)","v":false},{"$f":"Find_Month(UA$16,UA$17,$F29)","v":false},{"$f":"Find_Month(UB$16,UB$17,$F29)","v":false},{"$f":"Find_Month(UC$16,UC$17,$F29)","v":false},{"$f":"Find_Month(UD$16,UD$17,$F29)","v":false},{"$f":"Find_Month(UE$16,UE$17,$F29)","v":false},{"$f":"Find_Month(UF$16,UF$17,$F29)","v":true},{"$f":"Find_Month(UG$16,UG$17,$F29)","v":false},{"$f":"Find_Month(UH$16,UH$17,$F29)","v":false},{"$f":"Find_Month(UI$16,UI$17,$F29)","v":false},{"$f":"Find_Month(UJ$16,UJ$17,$F29)","v":false},{"$f":"Find_Month(UK$16,UK$17,$F29)","v":false},{"$f":"Find_Month(UL$16,UL$17,$F29)","v":false},{"$f":"Find_Month(UM$16,UM$17,$F29)","v":false}]
[null,null,null,null,null,11,null,0.05,null,{"$f":"Find_Month(J$16,J$17,$F30)","v":false},{"$f":"Find_Month(K$16,K$17,$F30)","v":false},{"$f":"Find_Month(L$16,L$17,$F30)","v":false},{"$f":"Find_Month(M$16,M$17,$F30)","v":true},{"$f":"Find_Month(N$16,N$17,$F30)","v":false},{"$f":"Find_Month(O$16,O$17,$F30)","v":false},{"$f":"Find_Month(P$16,P$17,$F30)","v":false},{"$f":"Find_Month(Q$16,Q$17,$F30)","v":false},{"$f":"Find_Month(R$16,R$17,$F30)","v":false},{"$f":"Find_Month(S$16,S$17,$F30)","v":false},{"$f":"Find_Month(T$16,T$17,$F30)","v":false},{"$f":"Find_Month(U$16,U$17,$F30)","v":false},{"$f":"Find_Month(V$16,V$17,$F30)","v":false},{"$f":"Find_Month(W$16,W$17,$F30)","v":false},{"$f":"Find_Month(X$16,X$17,$F30)","v":false},{"$f":"Find_Month(Y$16,Y$17,$F30)","v":true},{"$f":"Find_Month(Z$16,Z$17,$F30)","v":false},{"$f":"Find_Month(AA$16,AA$17,$F30)","v":false},{"$f":"Find_Month(AB$16,AB$17,$F30)","v":false},{"$f":"Find_Month(AC$16,AC$17,$F30)","v":false},{"$f":"Find_Month(AD$16,AD$17,$F30)","v":false},{"$f":"Find_Month(AE$16,AE$17,$F30)","v":false},{"$f":"Find_Month(AF$16,AF$17,$F30)","v":false},{"$f":"Find_Month(AG$16,AG$17,$F30)","v":false},{"$f":"Find_Month(AH$16,AH$17,$F30)","v":false},{"$f":"Find_Month(AI$16,AI$17,$F30)","v":false},{"$f":"Find_Month(AJ$16,AJ$17,$F30)","v":false},{"$f":"Find_Month(AK$16,AK$17,$F30)","v":true},{"$f":"Find_Month(AL$16,AL$17,$F30)","v":false},{"$f":"Find_Month(AM$16,AM$17,$F30)","v":false},{"$f":"Find_Month(AN$16,AN$17,$F30)","v":false},{"$f":"Find_Month(AO$16,AO$17,$F30)","v":false},{"$f":"Find_Month(AP$16,AP$17,$F30)","v":false},{"$f":"Find_Month(AQ$16,AQ$17,$F30)","v":false},{"$f":"Find_Month(AR$16,AR$17,$F30)","v":false},{"$f":"Find_Month(AS$16,AS$17,$F30)","v":false},{"$f":"Find_Month(AT$16,AT$17,$F30)","v":false},{"$f":"Find_Month(AU$16,AU$17,$F30)","v":false},{"$f":"Find_Month(AV$16,AV$17,$F30)","v":false},{"$f":"Find_Month(AW$16,AW$17,$F30)","v":true},{"$f":"Find_Month(AX$16,AX$17,$F30)","v":false},{"$f":"Find_Month(AY$16,AY$17,$F30)","v":false},{"$f":"Find_Month(AZ$16,AZ$17,$F30)","v":false},{"$f":"Find_Month(BA$16,BA$17,$F30)","v":false},{"$f":"Find_Month(BB$16,BB$17,$F30)","v":false},{"$f":"Find_Month(BC$16,BC$17,$F30)","v":false},{"$f":"Find_Month(BD$16,BD$17,$F30)","v":false},{"$f":"Find_Month(BE$16,BE$17,$F30)","v":false},{"$f":"Find_Month(BF$16,BF$17,$F30)","v":false},{"$f":"Find_Month(BG$16,BG$17,$F30)","v":false},{"$f":"Find_Month(BH$16,BH$17,$F30)","v":false},{"$f":"Find_Month(BI$16,BI$17,$F30)","v":true},{"$f":"Find_Month(BJ$16,BJ$17,$F30)","v":false},{"$f":"Find_Month(BK$16,BK$17,$F30)","v":false},{"$f":"Find_Month(BL$16,BL$17,$F30)","v":false},{"$f":"Find_Month(BM$16,BM$17,$F30)","v":false},{"$f":"Find_Month(BN$16,BN$17,$F30)","v":false},{"$f":"Find_Month(BO$16,BO$17,$F30)","v":false},{"$f":"Find_Month(BP$16,BP$17,$F30)","v":false},{"$f":"Find_Month(BQ$16,BQ$17,$F30)","v":false},{"$f":"Find_Month(BR$16,BR$17,$F30)","v":false},{"$f":"Find_Month(BS$16,BS$17,$F30)","v":false},{"$f":"Find_Month(BT$16,BT$17,$F30)","v":false},{"$f":"Find_Month(BU$16,BU$17,$F30)","v":true},{"$f":"Find_Month(BV$16,BV$17,$F30)","v":false},{"$f":"Find_Month(BW$16,BW$17,$F30)","v":false},{"$f":"Find_Month(BX$16,BX$17,$F30)","v":false},{"$f":"Find_Month(BY$16,BY$17,$F30)","v":false},{"$f":"Find_Month(BZ$16,BZ$17,$F30)","v":false},{"$f":"Find_Month(CA$16,CA$17,$F30)","v":false},{"$f":"Find_Month(CB$16,CB$17,$F30)","v":false},{"$f":"Find_Month(CC$16,CC$17,$F30)","v":false},{"$f":"Find_Month(CD$16,CD$17,$F30)","v":false},{"$f":"Find_Month(CE$16,CE$17,$F30)","v":false},{"$f":"Find_Month(CF$16,CF$17,$F30)","v":false},{"$f":"Find_Month(CG$16,CG$17,$F30)","v":true},{"$f":"Find_Month(CH$16,CH$17,$F30)","v":false},{"$f":"Find_Month(CI$16,CI$17,$F30)","v":false},{"$f":"Find_Month(CJ$16,CJ$17,$F30)","v":false},{"$f":"Find_Month(CK$16,CK$17,$F30)","v":false},{"$f":"Find_Month(CL$16,CL$17,$F30)","v":false},{"$f":"Find_Month(CM$16,CM$17,$F30)","v":false},{"$f":"Find_Month(CN$16,CN$17,$F30)","v":false},{"$f":"Find_Month(CO$16,CO$17,$F30)","v":false},{"$f":"Find_Month(CP$16,CP$17,$F30)","v":false},{"$f":"Find_Month(CQ$16,CQ$17,$F30)","v":false},{"$f":"Find_Month(CR$16,CR$17,$F30)","v":false},{"$f":"Find_Month(CS$16,CS$17,$F30)","v":true},{"$f":"Find_Month(CT$16,CT$17,$F30)","v":false},{"$f":"Find_Month(CU$16,CU$17,$F30)","v":false},{"$f":"Find_Month(CV$16,CV$17,$F30)","v":false},{"$f":"Find_Month(CW$16,CW$17,$F30)","v":false},{"$f":"Find_Month(CX$16,CX$17,$F30)","v":false},{"$f":"Find_Month(CY$16,CY$17,$F30)","v":false},{"$f":"Find_Month(CZ$16,CZ$17,$F30)","v":false},{"$f":"Find_Month(DA$16,DA$17,$F30)","v":false},{"$f":"Find_Month(DB$16,DB$17,$F30)","v":false},{"$f":"Find_Month(DC$16,DC$17,$F30)","v":false},{"$f":"Find_Month(DD$16,DD$17,$F30)","v":false},{"$f":"Find_Month(DE$16,DE$17,$F30)","v":true},{"$f":"Find_Month(DF$16,DF$17,$F30)","v":false},{"$f":"Find_Month(DG$16,DG$17,$F30)","v":false},{"$f":"Find_Month(DH$16,DH$17,$F30)","v":false},{"$f":"Find_Month(DI$16,DI$17,$F30)","v":false},{"$f":"Find_Month(DJ$16,DJ$17,$F30)","v":false},{"$f":"Find_Month(DK$16,DK$17,$F30)","v":false},{"$f":"Find_Month(DL$16,DL$17,$F30)","v":false},{"$f":"Find_Month(DM$16,DM$17,$F30)","v":false},{"$f":"Find_Month(DN$16,DN$17,$F30)","v":false},{"$f":"Find_Month(DO$16,DO$17,$F30)","v":false},{"$f":"Find_Month(DP$16,DP$17,$F30)","v":false},{"$f":"Find_Month(DQ$16,DQ$17,$F30)","v":true},{"$f":"Find_Month(DR$16,DR$17,$F30)","v":false},{"$f":"Find_Month(DS$16,DS$17,$F30)","v":false},{"$f":"Find_Month(DT$16,DT$17,$F30)","v":false},{"$f":"Find_Month(DU$16,DU$17,$F30)","v":false},{"$f":"Find_Month(DV$16,DV$17,$F30)","v":false},{"$f":"Find_Month(DW$16,DW$17,$F30)","v":false},{"$f":"Find_Month(DX$16,DX$17,$F30)","v":false},{"$f":"Find_Month(DY$16,DY$17,$F30)","v":false},{"$f":"Find_Month(DZ$16,DZ$17,$F30)","v":false},{"$f":"Find_Month(EA$16,EA$17,$F30)","v":false},{"$f":"Find_Month(EB$16,EB$17,$F30)","v":false},{"$f":"Find_Month(EC$16,EC$17,$F30)","v":true},{"$f":"Find_Month(ED$16,ED$17,$F30)","v":false},{"$f":"Find_Month(EE$16,EE$17,$F30)","v":false},{"$f":"Find_Month(EF$16,EF$17,$F30)","v":false},{"$f":"Find_Month(EG$16,EG$17,$F30)","v":false},{"$f":"Find_Month(EH$16,EH$17,$F30)","v":false},{"$f":"Find_Month(EI$16,EI$17,$F30)","v":false},{"$f":"Find_Month(EJ$16,EJ$17,$F30)","v":false},{"$f":"Find_Month(EK$16,EK$17,$F30)","v":false},{"$f":"Find_Month(EL$16,EL$17,$F30)","v":false},{"$f":"Find_Month(EM$16,EM$17,$F30)","v":false},{"$f":"Find_Month(EN$16,EN$17,$F30)","v":false},{"$f":"Find_Month(EO$16,EO$17,$F30)","v":true},{"$f":"Find_Month(EP$16,EP$17,$F30)","v":false},{"$f":"Find_Month(EQ$16,EQ$17,$F30)","v":false},{"$f":"Find_Month(ER$16,ER$17,$F30)","v":false},{"$f":"Find_Month(ES$16,ES$17,$F30)","v":false},{"$f":"Find_Month(ET$16,ET$17,$F30)","v":false},{"$f":"Find_Month(EU$16,EU$17,$F30)","v":false},{"$f":"Find_Month(EV$16,EV$17,$F30)","v":false},{"$f":"Find_Month(EW$16,EW$17,$F30)","v":false},{"$f":"Find_Month(EX$16,EX$17,$F30)","v":false},{"$f":"Find_Month(EY$16,EY$17,$F30)","v":false},{"$f":"Find_Month(EZ$16,EZ$17,$F30)","v":false},{"$f":"Find_Month(FA$16,FA$17,$F30)","v":true},{"$f":"Find_Month(FB$16,FB$17,$F30)","v":false},{"$f":"Find_Month(FC$16,FC$17,$F30)","v":false},{"$f":"Find_Month(FD$16,FD$17,$F30)","v":false},{"$f":"Find_Month(FE$16,FE$17,$F30)","v":false},{"$f":"Find_Month(FF$16,FF$17,$F30)","v":false},{"$f":"Find_Month(FG$16,FG$17,$F30)","v":false},{"$f":"Find_Month(FH$16,FH$17,$F30)","v":false},{"$f":"Find_Month(FI$16,FI$17,$F30)","v":false},{"$f":"Find_Month(FJ$16,FJ$17,$F30)","v":false},{"$f":"Find_Month(FK$16,FK$17,$F30)","v":false},{"$f":"Find_Month(FL$16,FL$17,$F30)","v":false},{"$f":"Find_Month(FM$16,FM$17,$F30)","v":true},{"$f":"Find_Month(FN$16,FN$17,$F30)","v":false},{"$f":"Find_Month(FO$16,FO$17,$F30)","v":false},{"$f":"Find_Month(FP$16,FP$17,$F30)","v":false},{"$f":"Find_Month(FQ$16,FQ$17,$F30)","v":false},{"$f":"Find_Month(FR$16,FR$17,$F30)","v":false},{"$f":"Find_Month(FS$16,FS$17,$F30)","v":false},{"$f":"Find_Month(FT$16,FT$17,$F30)","v":false},{"$f":"Find_Month(FU$16,FU$17,$F30)","v":false},{"$f":"Find_Month(FV$16,FV$17,$F30)","v":false},{"$f":"Find_Month(FW$16,FW$17,$F30)","v":false},{"$f":"Find_Month(FX$16,FX$17,$F30)","v":false},{"$f":"Find_Month(FY$16,FY$17,$F30)","v":true},{"$f":"Find_Month(FZ$16,FZ$17,$F30)","v":false},{"$f":"Find_Month(GA$16,GA$17,$F30)","v":false},{"$f":"Find_Month(GB$16,GB$17,$F30)","v":false},{"$f":"Find_Month(GC$16,GC$17,$F30)","v":false},{"$f":"Find_Month(GD$16,GD$17,$F30)","v":false},{"$f":"Find_Month(GE$16,GE$17,$F30)","v":false},{"$f":"Find_Month(GF$16,GF$17,$F30)","v":false},{"$f":"Find_Month(GG$16,GG$17,$F30)","v":false},{"$f":"Find_Month(GH$16,GH$17,$F30)","v":false},{"$f":"Find_Month(GI$16,GI$17,$F30)","v":false},{"$f":"Find_Month(GJ$16,GJ$17,$F30)","v":false},{"$f":"Find_Month(GK$16,GK$17,$F30)","v":true},{"$f":"Find_Month(GL$16,GL$17,$F30)","v":false},{"$f":"Find_Month(GM$16,GM$17,$F30)","v":false},{"$f":"Find_Month(GN$16,GN$17,$F30)","v":false},{"$f":"Find_Month(GO$16,GO$17,$F30)","v":false},{"$f":"Find_Month(GP$16,GP$17,$F30)","v":false},{"$f":"Find_Month(GQ$16,GQ$17,$F30)","v":false},{"$f":"Find_Month(GR$16,GR$17,$F30)","v":false},{"$f":"Find_Month(GS$16,GS$17,$F30)","v":false},{"$f":"Find_Month(GT$16,GT$17,$F30)","v":false},{"$f":"Find_Month(GU$16,GU$17,$F30)","v":false},{"$f":"Find_Month(GV$16,GV$17,$F30)","v":false},{"$f":"Find_Month(GW$16,GW$17,$F30)","v":true},{"$f":"Find_Month(GX$16,GX$17,$F30)","v":false},{"$f":"Find_Month(GY$16,GY$17,$F30)","v":false},{"$f":"Find_Month(GZ$16,GZ$17,$F30)","v":false},{"$f":"Find_Month(HA$16,HA$17,$F30)","v":false},{"$f":"Find_Month(HB$16,HB$17,$F30)","v":false},{"$f":"Find_Month(HC$16,HC$17,$F30)","v":false},{"$f":"Find_Month(HD$16,HD$17,$F30)","v":false},{"$f":"Find_Month(HE$16,HE$17,$F30)","v":false},{"$f":"Find_Month(HF$16,HF$17,$F30)","v":false},{"$f":"Find_Month(HG$16,HG$17,$F30)","v":false},{"$f":"Find_Month(HH$16,HH$17,$F30)","v":false},{"$f":"Find_Month(HI$16,HI$17,$F30)","v":true},{"$f":"Find_Month(HJ$16,HJ$17,$F30)","v":false},{"$f":"Find_Month(HK$16,HK$17,$F30)","v":false},{"$f":"Find_Month(HL$16,HL$17,$F30)","v":false},{"$f":"Find_Month(HM$16,HM$17,$F30)","v":false},{"$f":"Find_Month(HN$16,HN$17,$F30)","v":false},{"$f":"Find_Month(HO$16,HO$17,$F30)","v":false},{"$f":"Find_Month(HP$16,HP$17,$F30)","v":false},{"$f":"Find_Month(HQ$16,HQ$17,$F30)","v":false},{"$f":"Find_Month(HR$16,HR$17,$F30)","v":false},{"$f":"Find_Month(HS$16,HS$17,$F30)","v":false},{"$f":"Find_Month(HT$16,HT$17,$F30)","v":false},{"$f":"Find_Month(HU$16,HU$17,$F30)","v":true},{"$f":"Find_Month(HV$16,HV$17,$F30)","v":false},{"$f":"Find_Month(HW$16,HW$17,$F30)","v":false},{"$f":"Find_Month(HX$16,HX$17,$F30)","v":false},{"$f":"Find_Month(HY$16,HY$17,$F30)","v":false},{"$f":"Find_Month(HZ$16,HZ$17,$F30)","v":false},{"$f":"Find_Month(IA$16,IA$17,$F30)","v":false},{"$f":"Find_Month(IB$16,IB$17,$F30)","v":false},{"$f":"Find_Month(IC$16,IC$17,$F30)","v":false},{"$f":"Find_Month(ID$16,ID$17,$F30)","v":false},{"$f":"Find_Month(IE$16,IE$17,$F30)","v":false},{"$f":"Find_Month(IF$16,IF$17,$F30)","v":false},{"$f":"Find_Month(IG$16,IG$17,$F30)","v":true},{"$f":"Find_Month(IH$16,IH$17,$F30)","v":false},{"$f":"Find_Month(II$16,II$17,$F30)","v":false},{"$f":"Find_Month(IJ$16,IJ$17,$F30)","v":false},{"$f":"Find_Month(IK$16,IK$17,$F30)","v":false},{"$f":"Find_Month(IL$16,IL$17,$F30)","v":false},{"$f":"Find_Month(IM$16,IM$17,$F30)","v":false},{"$f":"Find_Month(IN$16,IN$17,$F30)","v":false},{"$f":"Find_Month(IO$16,IO$17,$F30)","v":false},{"$f":"Find_Month(IP$16,IP$17,$F30)","v":false},{"$f":"Find_Month(IQ$16,IQ$17,$F30)","v":false},{"$f":"Find_Month(IR$16,IR$17,$F30)","v":false},{"$f":"Find_Month(IS$16,IS$17,$F30)","v":true},{"$f":"Find_Month(IT$16,IT$17,$F30)","v":false},{"$f":"Find_Month(IU$16,IU$17,$F30)","v":false},{"$f":"Find_Month(IV$16,IV$17,$F30)","v":false},{"$f":"Find_Month(IW$16,IW$17,$F30)","v":false},{"$f":"Find_Month(IX$16,IX$17,$F30)","v":false},{"$f":"Find_Month(IY$16,IY$17,$F30)","v":false},{"$f":"Find_Month(IZ$16,IZ$17,$F30)","v":false},{"$f":"Find_Month(JA$16,JA$17,$F30)","v":false},{"$f":"Find_Month(JB$16,JB$17,$F30)","v":false},{"$f":"Find_Month(JC$16,JC$17,$F30)","v":false},{"$f":"Find_Month(JD$16,JD$17,$F30)","v":false},{"$f":"Find_Month(JE$16,JE$17,$F30)","v":true},{"$f":"Find_Month(JF$16,JF$17,$F30)","v":false},{"$f":"Find_Month(JG$16,JG$17,$F30)","v":false},{"$f":"Find_Month(JH$16,JH$17,$F30)","v":false},{"$f":"Find_Month(JI$16,JI$17,$F30)","v":false},{"$f":"Find_Month(JJ$16,JJ$17,$F30)","v":false},{"$f":"Find_Month(JK$16,JK$17,$F30)","v":false},{"$f":"Find_Month(JL$16,JL$17,$F30)","v":false},{"$f":"Find_Month(JM$16,JM$17,$F30)","v":false},{"$f":"Find_Month(JN$16,JN$17,$F30)","v":false},{"$f":"Find_Month(JO$16,JO$17,$F30)","v":false},{"$f":"Find_Month(JP$16,JP$17,$F30)","v":false},{"$f":"Find_Month(JQ$16,JQ$17,$F30)","v":true},{"$f":"Find_Month(JR$16,JR$17,$F30)","v":false},{"$f":"Find_Month(JS$16,JS$17,$F30)","v":false},{"$f":"Find_Month(JT$16,JT$17,$F30)","v":false},{"$f":"Find_Month(JU$16,JU$17,$F30)","v":false},{"$f":"Find_Month(JV$16,JV$17,$F30)","v":false},{"$f":"Find_Month(JW$16,JW$17,$F30)","v":false},{"$f":"Find_Month(JX$16,JX$17,$F30)","v":false},{"$f":"Find_Month(JY$16,JY$17,$F30)","v":false},{"$f":"Find_Month(JZ$16,JZ$17,$F30)","v":false},{"$f":"Find_Month(KA$16,KA$17,$F30)","v":false},{"$f":"Find_Month(KB$16,KB$17,$F30)","v":false},{"$f":"Find_Month(KC$16,KC$17,$F30)","v":true},{"$f":"Find_Month(KD$16,KD$17,$F30)","v":false},{"$f":"Find_Month(KE$16,KE$17,$F30)","v":false},{"$f":"Find_Month(KF$16,KF$17,$F30)","v":false},{"$f":"Find_Month(KG$16,KG$17,$F30)","v":false},{"$f":"Find_Month(KH$16,KH$17,$F30)","v":false},{"$f":"Find_Month(KI$16,KI$17,$F30)","v":false},{"$f":"Find_Month(KJ$16,KJ$17,$F30)","v":false},{"$f":"Find_Month(KK$16,KK$17,$F30)","v":false},{"$f":"Find_Month(KL$16,KL$17,$F30)","v":false},{"$f":"Find_Month(KM$16,KM$17,$F30)","v":false},{"$f":"Find_Month(KN$16,KN$17,$F30)","v":false},{"$f":"Find_Month(KO$16,KO$17,$F30)","v":true},{"$f":"Find_Month(KP$16,KP$17,$F30)","v":false},{"$f":"Find_Month(KQ$16,KQ$17,$F30)","v":false},{"$f":"Find_Month(KR$16,KR$17,$F30)","v":false},{"$f":"Find_Month(KS$16,KS$17,$F30)","v":false},{"$f":"Find_Month(KT$16,KT$17,$F30)","v":false},{"$f":"Find_Month(KU$16,KU$17,$F30)","v":false},{"$f":"Find_Month(KV$16,KV$17,$F30)","v":false},{"$f":"Find_Month(KW$16,KW$17,$F30)","v":false},{"$f":"Find_Month(KX$16,KX$17,$F30)","v":false},{"$f":"Find_Month(KY$16,KY$17,$F30)","v":false},{"$f":"Find_Month(KZ$16,KZ$17,$F30)","v":false},{"$f":"Find_Month(LA$16,LA$17,$F30)","v":true},{"$f":"Find_Month(LB$16,LB$17,$F30)","v":false},{"$f":"Find_Month(LC$16,LC$17,$F30)","v":false},{"$f":"Find_Month(LD$16,LD$17,$F30)","v":false},{"$f":"Find_Month(LE$16,LE$17,$F30)","v":false},{"$f":"Find_Month(LF$16,LF$17,$F30)","v":false},{"$f":"Find_Month(LG$16,LG$17,$F30)","v":false},{"$f":"Find_Month(LH$16,LH$17,$F30)","v":false},{"$f":"Find_Month(LI$16,LI$17,$F30)","v":false},{"$f":"Find_Month(LJ$16,LJ$17,$F30)","v":false},{"$f":"Find_Month(LK$16,LK$17,$F30)","v":false},{"$f":"Find_Month(LL$16,LL$17,$F30)","v":false},{"$f":"Find_Month(LM$16,LM$17,$F30)","v":true},{"$f":"Find_Month(LN$16,LN$17,$F30)","v":false},{"$f":"Find_Month(LO$16,LO$17,$F30)","v":false},{"$f":"Find_Month(LP$16,LP$17,$F30)","v":false},{"$f":"Find_Month(LQ$16,LQ$17,$F30)","v":false},{"$f":"Find_Month(LR$16,LR$17,$F30)","v":false},{"$f":"Find_Month(LS$16,LS$17,$F30)","v":false},{"$f":"Find_Month(LT$16,LT$17,$F30)","v":false},{"$f":"Find_Month(LU$16,LU$17,$F30)","v":false},{"$f":"Find_Month(LV$16,LV$17,$F30)","v":false},{"$f":"Find_Month(LW$16,LW$17,$F30)","v":false},{"$f":"Find_Month(LX$16,LX$17,$F30)","v":false},{"$f":"Find_Month(LY$16,LY$17,$F30)","v":true},{"$f":"Find_Month(LZ$16,LZ$17,$F30)","v":false},{"$f":"Find_Month(MA$16,MA$17,$F30)","v":false},{"$f":"Find_Month(MB$16,MB$17,$F30)","v":false},{"$f":"Find_Month(MC$16,MC$17,$F30)","v":false},{"$f":"Find_Month(MD$16,MD$17,$F30)","v":false},{"$f":"Find_Month(ME$16,ME$17,$F30)","v":false},{"$f":"Find_Month(MF$16,MF$17,$F30)","v":false},{"$f":"Find_Month(MG$16,MG$17,$F30)","v":false},{"$f":"Find_Month(MH$16,MH$17,$F30)","v":false},{"$f":"Find_Month(MI$16,MI$17,$F30)","v":false},{"$f":"Find_Month(MJ$16,MJ$17,$F30)","v":false},{"$f":"Find_Month(MK$16,MK$17,$F30)","v":true},{"$f":"Find_Month(ML$16,ML$17,$F30)","v":false},{"$f":"Find_Month(MM$16,MM$17,$F30)","v":false},{"$f":"Find_Month(MN$16,MN$17,$F30)","v":false},{"$f":"Find_Month(MO$16,MO$17,$F30)","v":false},{"$f":"Find_Month(MP$16,MP$17,$F30)","v":false},{"$f":"Find_Month(MQ$16,MQ$17,$F30)","v":false},{"$f":"Find_Month(MR$16,MR$17,$F30)","v":false},{"$f":"Find_Month(MS$16,MS$17,$F30)","v":false},{"$f":"Find_Month(MT$16,MT$17,$F30)","v":false},{"$f":"Find_Month(MU$16,MU$17,$F30)","v":false},{"$f":"Find_Month(MV$16,MV$17,$F30)","v":false},{"$f":"Find_Month(MW$16,MW$17,$F30)","v":true},{"$f":"Find_Month(MX$16,MX$17,$F30)","v":false},{"$f":"Find_Month(MY$16,MY$17,$F30)","v":false},{"$f":"Find_Month(MZ$16,MZ$17,$F30)","v":false},{"$f":"Find_Month(NA$16,NA$17,$F30)","v":false},{"$f":"Find_Month(NB$16,NB$17,$F30)","v":false},{"$f":"Find_Month(NC$16,NC$17,$F30)","v":false},{"$f":"Find_Month(ND$16,ND$17,$F30)","v":false},{"$f":"Find_Month(NE$16,NE$17,$F30)","v":false},{"$f":"Find_Month(NF$16,NF$17,$F30)","v":false},{"$f":"Find_Month(NG$16,NG$17,$F30)","v":false},{"$f":"Find_Month(NH$16,NH$17,$F30)","v":false},{"$f":"Find_Month(NI$16,NI$17,$F30)","v":true},{"$f":"Find_Month(NJ$16,NJ$17,$F30)","v":false},{"$f":"Find_Month(NK$16,NK$17,$F30)","v":false},{"$f":"Find_Month(NL$16,NL$17,$F30)","v":false},{"$f":"Find_Month(NM$16,NM$17,$F30)","v":false},{"$f":"Find_Month(NN$16,NN$17,$F30)","v":false},{"$f":"Find_Month(NO$16,NO$17,$F30)","v":false},{"$f":"Find_Month(NP$16,NP$17,$F30)","v":false},{"$f":"Find_Month(NQ$16,NQ$17,$F30)","v":false},{"$f":"Find_Month(NR$16,NR$17,$F30)","v":false},{"$f":"Find_Month(NS$16,NS$17,$F30)","v":false},{"$f":"Find_Month(NT$16,NT$17,$F30)","v":false},{"$f":"Find_Month(NU$16,NU$17,$F30)","v":true},{"$f":"Find_Month(NV$16,NV$17,$F30)","v":false},{"$f":"Find_Month(NW$16,NW$17,$F30)","v":false},{"$f":"Find_Month(NX$16,NX$17,$F30)","v":false},{"$f":"Find_Month(NY$16,NY$17,$F30)","v":false},{"$f":"Find_Month(NZ$16,NZ$17,$F30)","v":false},{"$f":"Find_Month(OA$16,OA$17,$F30)","v":false},{"$f":"Find_Month(OB$16,OB$17,$F30)","v":false},{"$f":"Find_Month(OC$16,OC$17,$F30)","v":false},{"$f":"Find_Month(OD$16,OD$17,$F30)","v":false},{"$f":"Find_Month(OE$16,OE$17,$F30)","v":false},{"$f":"Find_Month(OF$16,OF$17,$F30)","v":false},{"$f":"Find_Month(OG$16,OG$17,$F30)","v":true},{"$f":"Find_Month(OH$16,OH$17,$F30)","v":false},{"$f":"Find_Month(OI$16,OI$17,$F30)","v":false},{"$f":"Find_Month(OJ$16,OJ$17,$F30)","v":false},{"$f":"Find_Month(OK$16,OK$17,$F30)","v":false},{"$f":"Find_Month(OL$16,OL$17,$F30)","v":false},{"$f":"Find_Month(OM$16,OM$17,$F30)","v":false},{"$f":"Find_Month(ON$16,ON$17,$F30)","v":false},{"$f":"Find_Month(OO$16,OO$17,$F30)","v":false},{"$f":"Find_Month(OP$16,OP$17,$F30)","v":false},{"$f":"Find_Month(OQ$16,OQ$17,$F30)","v":false},{"$f":"Find_Month(OR$16,OR$17,$F30)","v":false},{"$f":"Find_Month(OS$16,OS$17,$F30)","v":true},{"$f":"Find_Month(OT$16,OT$17,$F30)","v":false},{"$f":"Find_Month(OU$16,OU$17,$F30)","v":false},{"$f":"Find_Month(OV$16,OV$17,$F30)","v":false},{"$f":"Find_Month(OW$16,OW$17,$F30)","v":false},{"$f":"Find_Month(OX$16,OX$17,$F30)","v":false},{"$f":"Find_Month(OY$16,OY$17,$F30)","v":false},{"$f":"Find_Month(OZ$16,OZ$17,$F30)","v":false},{"$f":"Find_Month(PA$16,PA$17,$F30)","v":false},{"$f":"Find_Month(PB$16,PB$17,$F30)","v":false},{"$f":"Find_Month(PC$16,PC$17,$F30)","v":false},{"$f":"Find_Month(PD$16,PD$17,$F30)","v":false},{"$f":"Find_Month(PE$16,PE$17,$F30)","v":true},{"$f":"Find_Month(PF$16,PF$17,$F30)","v":false},{"$f":"Find_Month(PG$16,PG$17,$F30)","v":false},{"$f":"Find_Month(PH$16,PH$17,$F30)","v":false},{"$f":"Find_Month(PI$16,PI$17,$F30)","v":false},{"$f":"Find_Month(PJ$16,PJ$17,$F30)","v":false},{"$f":"Find_Month(PK$16,PK$17,$F30)","v":false},{"$f":"Find_Month(PL$16,PL$17,$F30)","v":false},{"$f":"Find_Month(PM$16,PM$17,$F30)","v":false},{"$f":"Find_Month(PN$16,PN$17,$F30)","v":false},{"$f":"Find_Month(PO$16,PO$17,$F30)","v":false},{"$f":"Find_Month(PP$16,PP$17,$F30)","v":false},{"$f":"Find_Month(PQ$16,PQ$17,$F30)","v":true},{"$f":"Find_Month(PR$16,PR$17,$F30)","v":false},{"$f":"Find_Month(PS$16,PS$17,$F30)","v":false},{"$f":"Find_Month(PT$16,PT$17,$F30)","v":false},{"$f":"Find_Month(PU$16,PU$17,$F30)","v":false},{"$f":"Find_Month(PV$16,PV$17,$F30)","v":false},{"$f":"Find_Month(PW$16,PW$17,$F30)","v":false},{"$f":"Find_Month(PX$16,PX$17,$F30)","v":false},{"$f":"Find_Month(PY$16,PY$17,$F30)","v":false},{"$f":"Find_Month(PZ$16,PZ$17,$F30)","v":false},{"$f":"Find_Month(QA$16,QA$17,$F30)","v":false},{"$f":"Find_Month(QB$16,QB$17,$F30)","v":false},{"$f":"Find_Month(QC$16,QC$17,$F30)","v":true},{"$f":"Find_Month(QD$16,QD$17,$F30)","v":false},{"$f":"Find_Month(QE$16,QE$17,$F30)","v":false},{"$f":"Find_Month(QF$16,QF$17,$F30)","v":false},{"$f":"Find_Month(QG$16,QG$17,$F30)","v":false},{"$f":"Find_Month(QH$16,QH$17,$F30)","v":false},{"$f":"Find_Month(QI$16,QI$17,$F30)","v":false},{"$f":"Find_Month(QJ$16,QJ$17,$F30)","v":false},{"$f":"Find_Month(QK$16,QK$17,$F30)","v":false},{"$f":"Find_Month(QL$16,QL$17,$F30)","v":false},{"$f":"Find_Month(QM$16,QM$17,$F30)","v":false},{"$f":"Find_Month(QN$16,QN$17,$F30)","v":false},{"$f":"Find_Month(QO$16,QO$17,$F30)","v":true},{"$f":"Find_Month(QP$16,QP$17,$F30)","v":false},{"$f":"Find_Month(QQ$16,QQ$17,$F30)","v":false},{"$f":"Find_Month(QR$16,QR$17,$F30)","v":false},{"$f":"Find_Month(QS$16,QS$17,$F30)","v":false},{"$f":"Find_Month(QT$16,QT$17,$F30)","v":false},{"$f":"Find_Month(QU$16,QU$17,$F30)","v":false},{"$f":"Find_Month(QV$16,QV$17,$F30)","v":false},{"$f":"Find_Month(QW$16,QW$17,$F30)","v":false},{"$f":"Find_Month(QX$16,QX$17,$F30)","v":false},{"$f":"Find_Month(QY$16,QY$17,$F30)","v":false},{"$f":"Find_Month(QZ$16,QZ$17,$F30)","v":false},{"$f":"Find_Month(RA$16,RA$17,$F30)","v":true},{"$f":"Find_Month(RB$16,RB$17,$F30)","v":false},{"$f":"Find_Month(RC$16,RC$17,$F30)","v":false},{"$f":"Find_Month(RD$16,RD$17,$F30)","v":false},{"$f":"Find_Month(RE$16,RE$17,$F30)","v":false},{"$f":"Find_Month(RF$16,RF$17,$F30)","v":false},{"$f":"Find_Month(RG$16,RG$17,$F30)","v":false},{"$f":"Find_Month(RH$16,RH$17,$F30)","v":false},{"$f":"Find_Month(RI$16,RI$17,$F30)","v":false},{"$f":"Find_Month(RJ$16,RJ$17,$F30)","v":false},{"$f":"Find_Month(RK$16,RK$17,$F30)","v":false},{"$f":"Find_Month(RL$16,RL$17,$F30)","v":false},{"$f":"Find_Month(RM$16,RM$17,$F30)","v":true},{"$f":"Find_Month(RN$16,RN$17,$F30)","v":false},{"$f":"Find_Month(RO$16,RO$17,$F30)","v":false},{"$f":"Find_Month(RP$16,RP$17,$F30)","v":false},{"$f":"Find_Month(RQ$16,RQ$17,$F30)","v":false},{"$f":"Find_Month(RR$16,RR$17,$F30)","v":false},{"$f":"Find_Month(RS$16,RS$17,$F30)","v":false},{"$f":"Find_Month(RT$16,RT$17,$F30)","v":false},{"$f":"Find_Month(RU$16,RU$17,$F30)","v":false},{"$f":"Find_Month(RV$16,RV$17,$F30)","v":false},{"$f":"Find_Month(RW$16,RW$17,$F30)","v":false},{"$f":"Find_Month(RX$16,RX$17,$F30)","v":false},{"$f":"Find_Month(RY$16,RY$17,$F30)","v":true},{"$f":"Find_Month(RZ$16,RZ$17,$F30)","v":false},{"$f":"Find_Month(SA$16,SA$17,$F30)","v":false},{"$f":"Find_Month(SB$16,SB$17,$F30)","v":false},{"$f":"Find_Month(SC$16,SC$17,$F30)","v":false},{"$f":"Find_Month(SD$16,SD$17,$F30)","v":false},{"$f":"Find_Month(SE$16,SE$17,$F30)","v":false},{"$f":"Find_Month(SF$16,SF$17,$F30)","v":false},{"$f":"Find_Month(SG$16,SG$17,$F30)","v":false},{"$f":"Find_Month(SH$16,SH$17,$F30)","v":false},{"$f":"Find_Month(SI$16,SI$17,$F30)","v":false},{"$f":"Find_Month(SJ$16,SJ$17,$F30)","v":false},{"$f":"Find_Month(SK$16,SK$17,$F30)","v":true},{"$f":"Find_Month(SL$16,SL$17,$F30)","v":false},{"$f":"Find_Month(SM$16,SM$17,$F30)","v":false},{"$f":"Find_Month(SN$16,SN$17,$F30)","v":false},{"$f":"Find_Month(SO$16,SO$17,$F30)","v":false},{"$f":"Find_Month(SP$16,SP$17,$F30)","v":false},{"$f":"Find_Month(SQ$16,SQ$17,$F30)","v":false},{"$f":"Find_Month(SR$16,SR$17,$F30)","v":false},{"$f":"Find_Month(SS$16,SS$17,$F30)","v":false},{"$f":"Find_Month(ST$16,ST$17,$F30)","v":false},{"$f":"Find_Month(SU$16,SU$17,$F30)","v":false},{"$f":"Find_Month(SV$16,SV$17,$F30)","v":false},{"$f":"Find_Month(SW$16,SW$17,$F30)","v":true},{"$f":"Find_Month(SX$16,SX$17,$F30)","v":false},{"$f":"Find_Month(SY$16,SY$17,$F30)","v":false},{"$f":"Find_Month(SZ$16,SZ$17,$F30)","v":false},{"$f":"Find_Month(TA$16,TA$17,$F30)","v":false},{"$f":"Find_Month(TB$16,TB$17,$F30)","v":false},{"$f":"Find_Month(TC$16,TC$17,$F30)","v":false},{"$f":"Find_Month(TD$16,TD$17,$F30)","v":false},{"$f":"Find_Month(TE$16,TE$17,$F30)","v":false},{"$f":"Find_Month(TF$16,TF$17,$F30)","v":false},{"$f":"Find_Month(TG$16,TG$17,$F30)","v":false},{"$f":"Find_Month(TH$16,TH$17,$F30)","v":false},{"$f":"Find_Month(TI$16,TI$17,$F30)","v":true},{"$f":"Find_Month(TJ$16,TJ$17,$F30)","v":false},{"$f":"Find_Month(TK$16,TK$17,$F30)","v":false},{"$f":"Find_Month(TL$16,TL$17,$F30)","v":false},{"$f":"Find_Month(TM$16,TM$17,$F30)","v":false},{"$f":"Find_Month(TN$16,TN$17,$F30)","v":false},{"$f":"Find_Month(TO$16,TO$17,$F30)","v":false},{"$f":"Find_Month(TP$16,TP$17,$F30)","v":false},{"$f":"Find_Month(TQ$16,TQ$17,$F30)","v":false},{"$f":"Find_Month(TR$16,TR$17,$F30)","v":false},{"$f":"Find_Month(TS$16,TS$17,$F30)","v":false},{"$f":"Find_Month(TT$16,TT$17,$F30)","v":false},{"$f":"Find_Month(TU$16,TU$17,$F30)","v":true},{"$f":"Find_Month(TV$16,TV$17,$F30)","v":false},{"$f":"Find_Month(TW$16,TW$17,$F30)","v":false},{"$f":"Find_Month(TX$16,TX$17,$F30)","v":false},{"$f":"Find_Month(TY$16,TY$17,$F30)","v":false},{"$f":"Find_Month(TZ$16,TZ$17,$F30)","v":false},{"$f":"Find_Month(UA$16,UA$17,$F30)","v":false},{"$f":"Find_Month(UB$16,UB$17,$F30)","v":false},{"$f":"Find_Month(UC$16,UC$17,$F30)","v":false},{"$f":"Find_Month(UD$16,UD$17,$F30)","v":false},{"$f":"Find_Month(UE$16,UE$17,$F30)","v":false},{"$f":"Find_Month(UF$16,UF$17,$F30)","v":false},{"$f":"Find_Month(UG$16,UG$17,$F30)","v":true},{"$f":"Find_Month(UH$16,UH$17,$F30)","v":false},{"$f":"Find_Month(UI$16,UI$17,$F30)","v":false},{"$f":"Find_Month(UJ$16,UJ$17,$F30)","v":false},{"$f":"Find_Month(UK$16,UK$17,$F30)","v":false},{"$f":"Find_Month(UL$16,UL$17,$F30)","v":false},{"$f":"Find_Month(UM$16,UM$17,$F30)","v":false}]
[null,null,null,null,null,12,null,0.04,null,{"$f":"Find_Month(J$16,J$17,$F31)","v":false},{"$f":"Find_Month(K$16,K$17,$F31)","v":false},{"$f":"Find_Month(L$16,L$17,$F31)","v":false},{"$f":"Find_Month(M$16,M$17,$F31)","v":false},{"$f":"Find_Month(N$16,N$17,$F31)","v":true},{"$f":"Find_Month(O$16,O$17,$F31)","v":false},{"$f":"Find_Month(P$16,P$17,$F31)","v":false},{"$f":"Find_Month(Q$16,Q$17,$F31)","v":false},{"$f":"Find_Month(R$16,R$17,$F31)","v":false},{"$f":"Find_Month(S$16,S$17,$F31)","v":false},{"$f":"Find_Month(T$16,T$17,$F31)","v":false},{"$f":"Find_Month(U$16,U$17,$F31)","v":false},{"$f":"Find_Month(V$16,V$17,$F31)","v":false},{"$f":"Find_Month(W$16,W$17,$F31)","v":false},{"$f":"Find_Month(X$16,X$17,$F31)","v":false},{"$f":"Find_Month(Y$16,Y$17,$F31)","v":false},{"$f":"Find_Month(Z$16,Z$17,$F31)","v":true},{"$f":"Find_Month(AA$16,AA$17,$F31)","v":false},{"$f":"Find_Month(AB$16,AB$17,$F31)","v":false},{"$f":"Find_Month(AC$16,AC$17,$F31)","v":false},{"$f":"Find_Month(AD$16,AD$17,$F31)","v":false},{"$f":"Find_Month(AE$16,AE$17,$F31)","v":false},{"$f":"Find_Month(AF$16,AF$17,$F31)","v":false},{"$f":"Find_Month(AG$16,AG$17,$F31)","v":false},{"$f":"Find_Month(AH$16,AH$17,$F31)","v":false},{"$f":"Find_Month(AI$16,AI$17,$F31)","v":false},{"$f":"Find_Month(AJ$16,AJ$17,$F31)","v":false},{"$f":"Find_Month(AK$16,AK$17,$F31)","v":false},{"$f":"Find_Month(AL$16,AL$17,$F31)","v":true},{"$f":"Find_Month(AM$16,AM$17,$F31)","v":false},{"$f":"Find_Month(AN$16,AN$17,$F31)","v":false},{"$f":"Find_Month(AO$16,AO$17,$F31)","v":false},{"$f":"Find_Month(AP$16,AP$17,$F31)","v":false},{"$f":"Find_Month(AQ$16,AQ$17,$F31)","v":false},{"$f":"Find_Month(AR$16,AR$17,$F31)","v":false},{"$f":"Find_Month(AS$16,AS$17,$F31)","v":false},{"$f":"Find_Month(AT$16,AT$17,$F31)","v":false},{"$f":"Find_Month(AU$16,AU$17,$F31)","v":false},{"$f":"Find_Month(AV$16,AV$17,$F31)","v":false},{"$f":"Find_Month(AW$16,AW$17,$F31)","v":false},{"$f":"Find_Month(AX$16,AX$17,$F31)","v":true},{"$f":"Find_Month(AY$16,AY$17,$F31)","v":false},{"$f":"Find_Month(AZ$16,AZ$17,$F31)","v":false},{"$f":"Find_Month(BA$16,BA$17,$F31)","v":false},{"$f":"Find_Month(BB$16,BB$17,$F31)","v":false},{"$f":"Find_Month(BC$16,BC$17,$F31)","v":false},{"$f":"Find_Month(BD$16,BD$17,$F31)","v":false},{"$f":"Find_Month(BE$16,BE$17,$F31)","v":false},{"$f":"Find_Month(BF$16,BF$17,$F31)","v":false},{"$f":"Find_Month(BG$16,BG$17,$F31)","v":false},{"$f":"Find_Month(BH$16,BH$17,$F31)","v":false},{"$f":"Find_Month(BI$16,BI$17,$F31)","v":false},{"$f":"Find_Month(BJ$16,BJ$17,$F31)","v":true},{"$f":"Find_Month(BK$16,BK$17,$F31)","v":false},{"$f":"Find_Month(BL$16,BL$17,$F31)","v":false},{"$f":"Find_Month(BM$16,BM$17,$F31)","v":false},{"$f":"Find_Month(BN$16,BN$17,$F31)","v":false},{"$f":"Find_Month(BO$16,BO$17,$F31)","v":false},{"$f":"Find_Month(BP$16,BP$17,$F31)","v":false},{"$f":"Find_Month(BQ$16,BQ$17,$F31)","v":false},{"$f":"Find_Month(BR$16,BR$17,$F31)","v":false},{"$f":"Find_Month(BS$16,BS$17,$F31)","v":false},{"$f":"Find_Month(BT$16,BT$17,$F31)","v":false},{"$f":"Find_Month(BU$16,BU$17,$F31)","v":false},{"$f":"Find_Month(BV$16,BV$17,$F31)","v":true},{"$f":"Find_Month(BW$16,BW$17,$F31)","v":false},{"$f":"Find_Month(BX$16,BX$17,$F31)","v":false},{"$f":"Find_Month(BY$16,BY$17,$F31)","v":false},{"$f":"Find_Month(BZ$16,BZ$17,$F31)","v":false},{"$f":"Find_Month(CA$16,CA$17,$F31)","v":false},{"$f":"Find_Month(CB$16,CB$17,$F31)","v":false},{"$f":"Find_Month(CC$16,CC$17,$F31)","v":false},{"$f":"Find_Month(CD$16,CD$17,$F31)","v":false},{"$f":"Find_Month(CE$16,CE$17,$F31)","v":false},{"$f":"Find_Month(CF$16,CF$17,$F31)","v":false},{"$f":"Find_Month(CG$16,CG$17,$F31)","v":false},{"$f":"Find_Month(CH$16,CH$17,$F31)","v":true},{"$f":"Find_Month(CI$16,CI$17,$F31)","v":false},{"$f":"Find_Month(CJ$16,CJ$17,$F31)","v":false},{"$f":"Find_Month(CK$16,CK$17,$F31)","v":false},{"$f":"Find_Month(CL$16,CL$17,$F31)","v":false},{"$f":"Find_Month(CM$16,CM$17,$F31)","v":false},{"$f":"Find_Month(CN$16,CN$17,$F31)","v":false},{"$f":"Find_Month(CO$16,CO$17,$F31)","v":false},{"$f":"Find_Month(CP$16,CP$17,$F31)","v":false},{"$f":"Find_Month(CQ$16,CQ$17,$F31)","v":false},{"$f":"Find_Month(CR$16,CR$17,$F31)","v":false},{"$f":"Find_Month(CS$16,CS$17,$F31)","v":false},{"$f":"Find_Month(CT$16,CT$17,$F31)","v":true},{"$f":"Find_Month(CU$16,CU$17,$F31)","v":false},{"$f":"Find_Month(CV$16,CV$17,$F31)","v":false},{"$f":"Find_Month(CW$16,CW$17,$F31)","v":false},{"$f":"Find_Month(CX$16,CX$17,$F31)","v":false},{"$f":"Find_Month(CY$16,CY$17,$F31)","v":false},{"$f":"Find_Month(CZ$16,CZ$17,$F31)","v":false},{"$f":"Find_Month(DA$16,DA$17,$F31)","v":false},{"$f":"Find_Month(DB$16,DB$17,$F31)","v":false},{"$f":"Find_Month(DC$16,DC$17,$F31)","v":false},{"$f":"Find_Month(DD$16,DD$17,$F31)","v":false},{"$f":"Find_Month(DE$16,DE$17,$F31)","v":false},{"$f":"Find_Month(DF$16,DF$17,$F31)","v":true},{"$f":"Find_Month(DG$16,DG$17,$F31)","v":false},{"$f":"Find_Month(DH$16,DH$17,$F31)","v":false},{"$f":"Find_Month(DI$16,DI$17,$F31)","v":false},{"$f":"Find_Month(DJ$16,DJ$17,$F31)","v":false},{"$f":"Find_Month(DK$16,DK$17,$F31)","v":false},{"$f":"Find_Month(DL$16,DL$17,$F31)","v":false},{"$f":"Find_Month(DM$16,DM$17,$F31)","v":false},{"$f":"Find_Month(DN$16,DN$17,$F31)","v":false},{"$f":"Find_Month(DO$16,DO$17,$F31)","v":false},{"$f":"Find_Month(DP$16,DP$17,$F31)","v":false},{"$f":"Find_Month(DQ$16,DQ$17,$F31)","v":false},{"$f":"Find_Month(DR$16,DR$17,$F31)","v":true},{"$f":"Find_Month(DS$16,DS$17,$F31)","v":false},{"$f":"Find_Month(DT$16,DT$17,$F31)","v":false},{"$f":"Find_Month(DU$16,DU$17,$F31)","v":false},{"$f":"Find_Month(DV$16,DV$17,$F31)","v":false},{"$f":"Find_Month(DW$16,DW$17,$F31)","v":false},{"$f":"Find_Month(DX$16,DX$17,$F31)","v":false},{"$f":"Find_Month(DY$16,DY$17,$F31)","v":false},{"$f":"Find_Month(DZ$16,DZ$17,$F31)","v":false},{"$f":"Find_Month(EA$16,EA$17,$F31)","v":false},{"$f":"Find_Month(EB$16,EB$17,$F31)","v":false},{"$f":"Find_Month(EC$16,EC$17,$F31)","v":false},{"$f":"Find_Month(ED$16,ED$17,$F31)","v":true},{"$f":"Find_Month(EE$16,EE$17,$F31)","v":false},{"$f":"Find_Month(EF$16,EF$17,$F31)","v":false},{"$f":"Find_Month(EG$16,EG$17,$F31)","v":false},{"$f":"Find_Month(EH$16,EH$17,$F31)","v":false},{"$f":"Find_Month(EI$16,EI$17,$F31)","v":false},{"$f":"Find_Month(EJ$16,EJ$17,$F31)","v":false},{"$f":"Find_Month(EK$16,EK$17,$F31)","v":false},{"$f":"Find_Month(EL$16,EL$17,$F31)","v":false},{"$f":"Find_Month(EM$16,EM$17,$F31)","v":false},{"$f":"Find_Month(EN$16,EN$17,$F31)","v":false},{"$f":"Find_Month(EO$16,EO$17,$F31)","v":false},{"$f":"Find_Month(EP$16,EP$17,$F31)","v":true},{"$f":"Find_Month(EQ$16,EQ$17,$F31)","v":false},{"$f":"Find_Month(ER$16,ER$17,$F31)","v":false},{"$f":"Find_Month(ES$16,ES$17,$F31)","v":false},{"$f":"Find_Month(ET$16,ET$17,$F31)","v":false},{"$f":"Find_Month(EU$16,EU$17,$F31)","v":false},{"$f":"Find_Month(EV$16,EV$17,$F31)","v":false},{"$f":"Find_Month(EW$16,EW$17,$F31)","v":false},{"$f":"Find_Month(EX$16,EX$17,$F31)","v":false},{"$f":"Find_Month(EY$16,EY$17,$F31)","v":false},{"$f":"Find_Month(EZ$16,EZ$17,$F31)","v":false},{"$f":"Find_Month(FA$16,FA$17,$F31)","v":false},{"$f":"Find_Month(FB$16,FB$17,$F31)","v":true},{"$f":"Find_Month(FC$16,FC$17,$F31)","v":false},{"$f":"Find_Month(FD$16,FD$17,$F31)","v":false},{"$f":"Find_Month(FE$16,FE$17,$F31)","v":false},{"$f":"Find_Month(FF$16,FF$17,$F31)","v":false},{"$f":"Find_Month(FG$16,FG$17,$F31)","v":false},{"$f":"Find_Month(FH$16,FH$17,$F31)","v":false},{"$f":"Find_Month(FI$16,FI$17,$F31)","v":false},{"$f":"Find_Month(FJ$16,FJ$17,$F31)","v":false},{"$f":"Find_Month(FK$16,FK$17,$F31)","v":false},{"$f":"Find_Month(FL$16,FL$17,$F31)","v":false},{"$f":"Find_Month(FM$16,FM$17,$F31)","v":false},{"$f":"Find_Month(FN$16,FN$17,$F31)","v":true},{"$f":"Find_Month(FO$16,FO$17,$F31)","v":false},{"$f":"Find_Month(FP$16,FP$17,$F31)","v":false},{"$f":"Find_Month(FQ$16,FQ$17,$F31)","v":false},{"$f":"Find_Month(FR$16,FR$17,$F31)","v":false},{"$f":"Find_Month(FS$16,FS$17,$F31)","v":false},{"$f":"Find_Month(FT$16,FT$17,$F31)","v":false},{"$f":"Find_Month(FU$16,FU$17,$F31)","v":false},{"$f":"Find_Month(FV$16,FV$17,$F31)","v":false},{"$f":"Find_Month(FW$16,FW$17,$F31)","v":false},{"$f":"Find_Month(FX$16,FX$17,$F31)","v":false},{"$f":"Find_Month(FY$16,FY$17,$F31)","v":false},{"$f":"Find_Month(FZ$16,FZ$17,$F31)","v":true},{"$f":"Find_Month(GA$16,GA$17,$F31)","v":false},{"$f":"Find_Month(GB$16,GB$17,$F31)","v":false},{"$f":"Find_Month(GC$16,GC$17,$F31)","v":false},{"$f":"Find_Month(GD$16,GD$17,$F31)","v":false},{"$f":"Find_Month(GE$16,GE$17,$F31)","v":false},{"$f":"Find_Month(GF$16,GF$17,$F31)","v":false},{"$f":"Find_Month(GG$16,GG$17,$F31)","v":false},{"$f":"Find_Month(GH$16,GH$17,$F31)","v":false},{"$f":"Find_Month(GI$16,GI$17,$F31)","v":false},{"$f":"Find_Month(GJ$16,GJ$17,$F31)","v":false},{"$f":"Find_Month(GK$16,GK$17,$F31)","v":false},{"$f":"Find_Month(GL$16,GL$17,$F31)","v":true},{"$f":"Find_Month(GM$16,GM$17,$F31)","v":false},{"$f":"Find_Month(GN$16,GN$17,$F31)","v":false},{"$f":"Find_Month(GO$16,GO$17,$F31)","v":false},{"$f":"Find_Month(GP$16,GP$17,$F31)","v":false},{"$f":"Find_Month(GQ$16,GQ$17,$F31)","v":false},{"$f":"Find_Month(GR$16,GR$17,$F31)","v":false},{"$f":"Find_Month(GS$16,GS$17,$F31)","v":false},{"$f":"Find_Month(GT$16,GT$17,$F31)","v":false},{"$f":"Find_Month(GU$16,GU$17,$F31)","v":false},{"$f":"Find_Month(GV$16,GV$17,$F31)","v":false},{"$f":"Find_Month(GW$16,GW$17,$F31)","v":false},{"$f":"Find_Month(GX$16,GX$17,$F31)","v":true},{"$f":"Find_Month(GY$16,GY$17,$F31)","v":false},{"$f":"Find_Month(GZ$16,GZ$17,$F31)","v":false},{"$f":"Find_Month(HA$16,HA$17,$F31)","v":false},{"$f":"Find_Month(HB$16,HB$17,$F31)","v":false},{"$f":"Find_Month(HC$16,HC$17,$F31)","v":false},{"$f":"Find_Month(HD$16,HD$17,$F31)","v":false},{"$f":"Find_Month(HE$16,HE$17,$F31)","v":false},{"$f":"Find_Month(HF$16,HF$17,$F31)","v":false},{"$f":"Find_Month(HG$16,HG$17,$F31)","v":false},{"$f":"Find_Month(HH$16,HH$17,$F31)","v":false},{"$f":"Find_Month(HI$16,HI$17,$F31)","v":false},{"$f":"Find_Month(HJ$16,HJ$17,$F31)","v":true},{"$f":"Find_Month(HK$16,HK$17,$F31)","v":false},{"$f":"Find_Month(HL$16,HL$17,$F31)","v":false},{"$f":"Find_Month(HM$16,HM$17,$F31)","v":false},{"$f":"Find_Month(HN$16,HN$17,$F31)","v":false},{"$f":"Find_Month(HO$16,HO$17,$F31)","v":false},{"$f":"Find_Month(HP$16,HP$17,$F31)","v":false},{"$f":"Find_Month(HQ$16,HQ$17,$F31)","v":false},{"$f":"Find_Month(HR$16,HR$17,$F31)","v":false},{"$f":"Find_Month(HS$16,HS$17,$F31)","v":false},{"$f":"Find_Month(HT$16,HT$17,$F31)","v":false},{"$f":"Find_Month(HU$16,HU$17,$F31)","v":false},{"$f":"Find_Month(HV$16,HV$17,$F31)","v":true},{"$f":"Find_Month(HW$16,HW$17,$F31)","v":false},{"$f":"Find_Month(HX$16,HX$17,$F31)","v":false},{"$f":"Find_Month(HY$16,HY$17,$F31)","v":false},{"$f":"Find_Month(HZ$16,HZ$17,$F31)","v":false},{"$f":"Find_Month(IA$16,IA$17,$F31)","v":false},{"$f":"Find_Month(IB$16,IB$17,$F31)","v":false},{"$f":"Find_Month(IC$16,IC$17,$F31)","v":false},{"$f":"Find_Month(ID$16,ID$17,$F31)","v":false},{"$f":"Find_Month(IE$16,IE$17,$F31)","v":false},{"$f":"Find_Month(IF$16,IF$17,$F31)","v":false},{"$f":"Find_Month(IG$16,IG$17,$F31)","v":false},{"$f":"Find_Month(IH$16,IH$17,$F31)","v":true},{"$f":"Find_Month(II$16,II$17,$F31)","v":false},{"$f":"Find_Month(IJ$16,IJ$17,$F31)","v":false},{"$f":"Find_Month(IK$16,IK$17,$F31)","v":false},{"$f":"Find_Month(IL$16,IL$17,$F31)","v":false},{"$f":"Find_Month(IM$16,IM$17,$F31)","v":false},{"$f":"Find_Month(IN$16,IN$17,$F31)","v":false},{"$f":"Find_Month(IO$16,IO$17,$F31)","v":false},{"$f":"Find_Month(IP$16,IP$17,$F31)","v":false},{"$f":"Find_Month(IQ$16,IQ$17,$F31)","v":false},{"$f":"Find_Month(IR$16,IR$17,$F31)","v":false},{"$f":"Find_Month(IS$16,IS$17,$F31)","v":false},{"$f":"Find_Month(IT$16,IT$17,$F31)","v":true},{"$f":"Find_Month(IU$16,IU$17,$F31)","v":false},{"$f":"Find_Month(IV$16,IV$17,$F31)","v":false},{"$f":"Find_Month(IW$16,IW$17,$F31)","v":false},{"$f":"Find_Month(IX$16,IX$17,$F31)","v":false},{"$f":"Find_Month(IY$16,IY$17,$F31)","v":false},{"$f":"Find_Month(IZ$16,IZ$17,$F31)","v":false},{"$f":"Find_Month(JA$16,JA$17,$F31)","v":false},{"$f":"Find_Month(JB$16,JB$17,$F31)","v":false},{"$f":"Find_Month(JC$16,JC$17,$F31)","v":false},{"$f":"Find_Month(JD$16,JD$17,$F31)","v":false},{"$f":"Find_Month(JE$16,JE$17,$F31)","v":false},{"$f":"Find_Month(JF$16,JF$17,$F31)","v":true},{"$f":"Find_Month(JG$16,JG$17,$F31)","v":false},{"$f":"Find_Month(JH$16,JH$17,$F31)","v":false},{"$f":"Find_Month(JI$16,JI$17,$F31)","v":false},{"$f":"Find_Month(JJ$16,JJ$17,$F31)","v":false},{"$f":"Find_Month(JK$16,JK$17,$F31)","v":false},{"$f":"Find_Month(JL$16,JL$17,$F31)","v":false},{"$f":"Find_Month(JM$16,JM$17,$F31)","v":false},{"$f":"Find_Month(JN$16,JN$17,$F31)","v":false},{"$f":"Find_Month(JO$16,JO$17,$F31)","v":false},{"$f":"Find_Month(JP$16,JP$17,$F31)","v":false},{"$f":"Find_Month(JQ$16,JQ$17,$F31)","v":false},{"$f":"Find_Month(JR$16,JR$17,$F31)","v":true},{"$f":"Find_Month(JS$16,JS$17,$F31)","v":false},{"$f":"Find_Month(JT$16,JT$17,$F31)","v":false},{"$f":"Find_Month(JU$16,JU$17,$F31)","v":false},{"$f":"Find_Month(JV$16,JV$17,$F31)","v":false},{"$f":"Find_Month(JW$16,JW$17,$F31)","v":false},{"$f":"Find_Month(JX$16,JX$17,$F31)","v":false},{"$f":"Find_Month(JY$16,JY$17,$F31)","v":false},{"$f":"Find_Month(JZ$16,JZ$17,$F31)","v":false},{"$f":"Find_Month(KA$16,KA$17,$F31)","v":false},{"$f":"Find_Month(KB$16,KB$17,$F31)","v":false},{"$f":"Find_Month(KC$16,KC$17,$F31)","v":false},{"$f":"Find_Month(KD$16,KD$17,$F31)","v":true},{"$f":"Find_Month(KE$16,KE$17,$F31)","v":false},{"$f":"Find_Month(KF$16,KF$17,$F31)","v":false},{"$f":"Find_Month(KG$16,KG$17,$F31)","v":false},{"$f":"Find_Month(KH$16,KH$17,$F31)","v":false},{"$f":"Find_Month(KI$16,KI$17,$F31)","v":false},{"$f":"Find_Month(KJ$16,KJ$17,$F31)","v":false},{"$f":"Find_Month(KK$16,KK$17,$F31)","v":false},{"$f":"Find_Month(KL$16,KL$17,$F31)","v":false},{"$f":"Find_Month(KM$16,KM$17,$F31)","v":false},{"$f":"Find_Month(KN$16,KN$17,$F31)","v":false},{"$f":"Find_Month(KO$16,KO$17,$F31)","v":false},{"$f":"Find_Month(KP$16,KP$17,$F31)","v":true},{"$f":"Find_Month(KQ$16,KQ$17,$F31)","v":false},{"$f":"Find_Month(KR$16,KR$17,$F31)","v":false},{"$f":"Find_Month(KS$16,KS$17,$F31)","v":false},{"$f":"Find_Month(KT$16,KT$17,$F31)","v":false},{"$f":"Find_Month(KU$16,KU$17,$F31)","v":false},{"$f":"Find_Month(KV$16,KV$17,$F31)","v":false},{"$f":"Find_Month(KW$16,KW$17,$F31)","v":false},{"$f":"Find_Month(KX$16,KX$17,$F31)","v":false},{"$f":"Find_Month(KY$16,KY$17,$F31)","v":false},{"$f":"Find_Month(KZ$16,KZ$17,$F31)","v":false},{"$f":"Find_Month(LA$16,LA$17,$F31)","v":false},{"$f":"Find_Month(LB$16,LB$17,$F31)","v":true},{"$f":"Find_Month(LC$16,LC$17,$F31)","v":false},{"$f":"Find_Month(LD$16,LD$17,$F31)","v":false},{"$f":"Find_Month(LE$16,LE$17,$F31)","v":false},{"$f":"Find_Month(LF$16,LF$17,$F31)","v":false},{"$f":"Find_Month(LG$16,LG$17,$F31)","v":false},{"$f":"Find_Month(LH$16,LH$17,$F31)","v":false},{"$f":"Find_Month(LI$16,LI$17,$F31)","v":false},{"$f":"Find_Month(LJ$16,LJ$17,$F31)","v":false},{"$f":"Find_Month(LK$16,LK$17,$F31)","v":false},{"$f":"Find_Month(LL$16,LL$17,$F31)","v":false},{"$f":"Find_Month(LM$16,LM$17,$F31)","v":false},{"$f":"Find_Month(LN$16,LN$17,$F31)","v":true},{"$f":"Find_Month(LO$16,LO$17,$F31)","v":false},{"$f":"Find_Month(LP$16,LP$17,$F31)","v":false},{"$f":"Find_Month(LQ$16,LQ$17,$F31)","v":false},{"$f":"Find_Month(LR$16,LR$17,$F31)","v":false},{"$f":"Find_Month(LS$16,LS$17,$F31)","v":false},{"$f":"Find_Month(LT$16,LT$17,$F31)","v":false},{"$f":"Find_Month(LU$16,LU$17,$F31)","v":false},{"$f":"Find_Month(LV$16,LV$17,$F31)","v":false},{"$f":"Find_Month(LW$16,LW$17,$F31)","v":false},{"$f":"Find_Month(LX$16,LX$17,$F31)","v":false},{"$f":"Find_Month(LY$16,LY$17,$F31)","v":false},{"$f":"Find_Month(LZ$16,LZ$17,$F31)","v":true},{"$f":"Find_Month(MA$16,MA$17,$F31)","v":false},{"$f":"Find_Month(MB$16,MB$17,$F31)","v":false},{"$f":"Find_Month(MC$16,MC$17,$F31)","v":false},{"$f":"Find_Month(MD$16,MD$17,$F31)","v":false},{"$f":"Find_Month(ME$16,ME$17,$F31)","v":false},{"$f":"Find_Month(MF$16,MF$17,$F31)","v":false},{"$f":"Find_Month(MG$16,MG$17,$F31)","v":false},{"$f":"Find_Month(MH$16,MH$17,$F31)","v":false},{"$f":"Find_Month(MI$16,MI$17,$F31)","v":false},{"$f":"Find_Month(MJ$16,MJ$17,$F31)","v":false},{"$f":"Find_Month(MK$16,MK$17,$F31)","v":false},{"$f":"Find_Month(ML$16,ML$17,$F31)","v":true},{"$f":"Find_Month(MM$16,MM$17,$F31)","v":false},{"$f":"Find_Month(MN$16,MN$17,$F31)","v":false},{"$f":"Find_Month(MO$16,MO$17,$F31)","v":false},{"$f":"Find_Month(MP$16,MP$17,$F31)","v":false},{"$f":"Find_Month(MQ$16,MQ$17,$F31)","v":false},{"$f":"Find_Month(MR$16,MR$17,$F31)","v":false},{"$f":"Find_Month(MS$16,MS$17,$F31)","v":false},{"$f":"Find_Month(MT$16,MT$17,$F31)","v":false},{"$f":"Find_Month(MU$16,MU$17,$F31)","v":false},{"$f":"Find_Month(MV$16,MV$17,$F31)","v":false},{"$f":"Find_Month(MW$16,MW$17,$F31)","v":false},{"$f":"Find_Month(MX$16,MX$17,$F31)","v":true},{"$f":"Find_Month(MY$16,MY$17,$F31)","v":false},{"$f":"Find_Month(MZ$16,MZ$17,$F31)","v":false},{"$f":"Find_Month(NA$16,NA$17,$F31)","v":false},{"$f":"Find_Month(NB$16,NB$17,$F31)","v":false},{"$f":"Find_Month(NC$16,NC$17,$F31)","v":false},{"$f":"Find_Month(ND$16,ND$17,$F31)","v":false},{"$f":"Find_Month(NE$16,NE$17,$F31)","v":false},{"$f":"Find_Month(NF$16,NF$17,$F31)","v":false},{"$f":"Find_Month(NG$16,NG$17,$F31)","v":false},{"$f":"Find_Month(NH$16,NH$17,$F31)","v":false},{"$f":"Find_Month(NI$16,NI$17,$F31)","v":false},{"$f":"Find_Month(NJ$16,NJ$17,$F31)","v":true},{"$f":"Find_Month(NK$16,NK$17,$F31)","v":false},{"$f":"Find_Month(NL$16,NL$17,$F31)","v":false},{"$f":"Find_Month(NM$16,NM$17,$F31)","v":false},{"$f":"Find_Month(NN$16,NN$17,$F31)","v":false},{"$f":"Find_Month(NO$16,NO$17,$F31)","v":false},{"$f":"Find_Month(NP$16,NP$17,$F31)","v":false},{"$f":"Find_Month(NQ$16,NQ$17,$F31)","v":false},{"$f":"Find_Month(NR$16,NR$17,$F31)","v":false},{"$f":"Find_Month(NS$16,NS$17,$F31)","v":false},{"$f":"Find_Month(NT$16,NT$17,$F31)","v":false},{"$f":"Find_Month(NU$16,NU$17,$F31)","v":false},{"$f":"Find_Month(NV$16,NV$17,$F31)","v":true},{"$f":"Find_Month(NW$16,NW$17,$F31)","v":false},{"$f":"Find_Month(NX$16,NX$17,$F31)","v":false},{"$f":"Find_Month(NY$16,NY$17,$F31)","v":false},{"$f":"Find_Month(NZ$16,NZ$17,$F31)","v":false},{"$f":"Find_Month(OA$16,OA$17,$F31)","v":false},{"$f":"Find_Month(OB$16,OB$17,$F31)","v":false},{"$f":"Find_Month(OC$16,OC$17,$F31)","v":false},{"$f":"Find_Month(OD$16,OD$17,$F31)","v":false},{"$f":"Find_Month(OE$16,OE$17,$F31)","v":false},{"$f":"Find_Month(OF$16,OF$17,$F31)","v":false},{"$f":"Find_Month(OG$16,OG$17,$F31)","v":false},{"$f":"Find_Month(OH$16,OH$17,$F31)","v":true},{"$f":"Find_Month(OI$16,OI$17,$F31)","v":false},{"$f":"Find_Month(OJ$16,OJ$17,$F31)","v":false},{"$f":"Find_Month(OK$16,OK$17,$F31)","v":false},{"$f":"Find_Month(OL$16,OL$17,$F31)","v":false},{"$f":"Find_Month(OM$16,OM$17,$F31)","v":false},{"$f":"Find_Month(ON$16,ON$17,$F31)","v":false},{"$f":"Find_Month(OO$16,OO$17,$F31)","v":false},{"$f":"Find_Month(OP$16,OP$17,$F31)","v":false},{"$f":"Find_Month(OQ$16,OQ$17,$F31)","v":false},{"$f":"Find_Month(OR$16,OR$17,$F31)","v":false},{"$f":"Find_Month(OS$16,OS$17,$F31)","v":false},{"$f":"Find_Month(OT$16,OT$17,$F31)","v":true},{"$f":"Find_Month(OU$16,OU$17,$F31)","v":false},{"$f":"Find_Month(OV$16,OV$17,$F31)","v":false},{"$f":"Find_Month(OW$16,OW$17,$F31)","v":false},{"$f":"Find_Month(OX$16,OX$17,$F31)","v":false},{"$f":"Find_Month(OY$16,OY$17,$F31)","v":false},{"$f":"Find_Month(OZ$16,OZ$17,$F31)","v":false},{"$f":"Find_Month(PA$16,PA$17,$F31)","v":false},{"$f":"Find_Month(PB$16,PB$17,$F31)","v":false},{"$f":"Find_Month(PC$16,PC$17,$F31)","v":false},{"$f":"Find_Month(PD$16,PD$17,$F31)","v":false},{"$f":"Find_Month(PE$16,PE$17,$F31)","v":false},{"$f":"Find_Month(PF$16,PF$17,$F31)","v":true},{"$f":"Find_Month(PG$16,PG$17,$F31)","v":false},{"$f":"Find_Month(PH$16,PH$17,$F31)","v":false},{"$f":"Find_Month(PI$16,PI$17,$F31)","v":false},{"$f":"Find_Month(PJ$16,PJ$17,$F31)","v":false},{"$f":"Find_Month(PK$16,PK$17,$F31)","v":false},{"$f":"Find_Month(PL$16,PL$17,$F31)","v":false},{"$f":"Find_Month(PM$16,PM$17,$F31)","v":false},{"$f":"Find_Month(PN$16,PN$17,$F31)","v":false},{"$f":"Find_Month(PO$16,PO$17,$F31)","v":false},{"$f":"Find_Month(PP$16,PP$17,$F31)","v":false},{"$f":"Find_Month(PQ$16,PQ$17,$F31)","v":false},{"$f":"Find_Month(PR$16,PR$17,$F31)","v":true},{"$f":"Find_Month(PS$16,PS$17,$F31)","v":false},{"$f":"Find_Month(PT$16,PT$17,$F31)","v":false},{"$f":"Find_Month(PU$16,PU$17,$F31)","v":false},{"$f":"Find_Month(PV$16,PV$17,$F31)","v":false},{"$f":"Find_Month(PW$16,PW$17,$F31)","v":false},{"$f":"Find_Month(PX$16,PX$17,$F31)","v":false},{"$f":"Find_Month(PY$16,PY$17,$F31)","v":false},{"$f":"Find_Month(PZ$16,PZ$17,$F31)","v":false},{"$f":"Find_Month(QA$16,QA$17,$F31)","v":false},{"$f":"Find_Month(QB$16,QB$17,$F31)","v":false},{"$f":"Find_Month(QC$16,QC$17,$F31)","v":false},{"$f":"Find_Month(QD$16,QD$17,$F31)","v":true},{"$f":"Find_Month(QE$16,QE$17,$F31)","v":false},{"$f":"Find_Month(QF$16,QF$17,$F31)","v":false},{"$f":"Find_Month(QG$16,QG$17,$F31)","v":false},{"$f":"Find_Month(QH$16,QH$17,$F31)","v":false},{"$f":"Find_Month(QI$16,QI$17,$F31)","v":false},{"$f":"Find_Month(QJ$16,QJ$17,$F31)","v":false},{"$f":"Find_Month(QK$16,QK$17,$F31)","v":false},{"$f":"Find_Month(QL$16,QL$17,$F31)","v":false},{"$f":"Find_Month(QM$16,QM$17,$F31)","v":false},{"$f":"Find_Month(QN$16,QN$17,$F31)","v":false},{"$f":"Find_Month(QO$16,QO$17,$F31)","v":false},{"$f":"Find_Month(QP$16,QP$17,$F31)","v":true},{"$f":"Find_Month(QQ$16,QQ$17,$F31)","v":false},{"$f":"Find_Month(QR$16,QR$17,$F31)","v":false},{"$f":"Find_Month(QS$16,QS$17,$F31)","v":false},{"$f":"Find_Month(QT$16,QT$17,$F31)","v":false},{"$f":"Find_Month(QU$16,QU$17,$F31)","v":false},{"$f":"Find_Month(QV$16,QV$17,$F31)","v":false},{"$f":"Find_Month(QW$16,QW$17,$F31)","v":false},{"$f":"Find_Month(QX$16,QX$17,$F31)","v":false},{"$f":"Find_Month(QY$16,QY$17,$F31)","v":false},{"$f":"Find_Month(QZ$16,QZ$17,$F31)","v":false},{"$f":"Find_Month(RA$16,RA$17,$F31)","v":false},{"$f":"Find_Month(RB$16,RB$17,$F31)","v":true},{"$f":"Find_Month(RC$16,RC$17,$F31)","v":false},{"$f":"Find_Month(RD$16,RD$17,$F31)","v":false},{"$f":"Find_Month(RE$16,RE$17,$F31)","v":false},{"$f":"Find_Month(RF$16,RF$17,$F31)","v":false},{"$f":"Find_Month(RG$16,RG$17,$F31)","v":false},{"$f":"Find_Month(RH$16,RH$17,$F31)","v":false},{"$f":"Find_Month(RI$16,RI$17,$F31)","v":false},{"$f":"Find_Month(RJ$16,RJ$17,$F31)","v":false},{"$f":"Find_Month(RK$16,RK$17,$F31)","v":false},{"$f":"Find_Month(RL$16,RL$17,$F31)","v":false},{"$f":"Find_Month(RM$16,RM$17,$F31)","v":false},{"$f":"Find_Month(RN$16,RN$17,$F31)","v":true},{"$f":"Find_Month(RO$16,RO$17,$F31)","v":false},{"$f":"Find_Month(RP$16,RP$17,$F31)","v":false},{"$f":"Find_Month(RQ$16,RQ$17,$F31)","v":false},{"$f":"Find_Month(RR$16,RR$17,$F31)","v":false},{"$f":"Find_Month(RS$16,RS$17,$F31)","v":false},{"$f":"Find_Month(RT$16,RT$17,$F31)","v":false},{"$f":"Find_Month(RU$16,RU$17,$F31)","v":false},{"$f":"Find_Month(RV$16,RV$17,$F31)","v":false},{"$f":"Find_Month(RW$16,RW$17,$F31)","v":false},{"$f":"Find_Month(RX$16,RX$17,$F31)","v":false},{"$f":"Find_Month(RY$16,RY$17,$F31)","v":false},{"$f":"Find_Month(RZ$16,RZ$17,$F31)","v":true},{"$f":"Find_Month(SA$16,SA$17,$F31)","v":false},{"$f":"Find_Month(SB$16,SB$17,$F31)","v":false},{"$f":"Find_Month(SC$16,SC$17,$F31)","v":false},{"$f":"Find_Month(SD$16,SD$17,$F31)","v":false},{"$f":"Find_Month(SE$16,SE$17,$F31)","v":false},{"$f":"Find_Month(SF$16,SF$17,$F31)","v":false},{"$f":"Find_Month(SG$16,SG$17,$F31)","v":false},{"$f":"Find_Month(SH$16,SH$17,$F31)","v":false},{"$f":"Find_Month(SI$16,SI$17,$F31)","v":false},{"$f":"Find_Month(SJ$16,SJ$17,$F31)","v":false},{"$f":"Find_Month(SK$16,SK$17,$F31)","v":false},{"$f":"Find_Month(SL$16,SL$17,$F31)","v":true},{"$f":"Find_Month(SM$16,SM$17,$F31)","v":false},{"$f":"Find_Month(SN$16,SN$17,$F31)","v":false},{"$f":"Find_Month(SO$16,SO$17,$F31)","v":false},{"$f":"Find_Month(SP$16,SP$17,$F31)","v":false},{"$f":"Find_Month(SQ$16,SQ$17,$F31)","v":false},{"$f":"Find_Month(SR$16,SR$17,$F31)","v":false},{"$f":"Find_Month(SS$16,SS$17,$F31)","v":false},{"$f":"Find_Month(ST$16,ST$17,$F31)","v":false},{"$f":"Find_Month(SU$16,SU$17,$F31)","v":false},{"$f":"Find_Month(SV$16,SV$17,$F31)","v":false},{"$f":"Find_Month(SW$16,SW$17,$F31)","v":false},{"$f":"Find_Month(SX$16,SX$17,$F31)","v":true},{"$f":"Find_Month(SY$16,SY$17,$F31)","v":false},{"$f":"Find_Month(SZ$16,SZ$17,$F31)","v":false},{"$f":"Find_Month(TA$16,TA$17,$F31)","v":false},{"$f":"Find_Month(TB$16,TB$17,$F31)","v":false},{"$f":"Find_Month(TC$16,TC$17,$F31)","v":false},{"$f":"Find_Month(TD$16,TD$17,$F31)","v":false},{"$f":"Find_Month(TE$16,TE$17,$F31)","v":false},{"$f":"Find_Month(TF$16,TF$17,$F31)","v":false},{"$f":"Find_Month(TG$16,TG$17,$F31)","v":false},{"$f":"Find_Month(TH$16,TH$17,$F31)","v":false},{"$f":"Find_Month(TI$16,TI$17,$F31)","v":false},{"$f":"Find_Month(TJ$16,TJ$17,$F31)","v":true},{"$f":"Find_Month(TK$16,TK$17,$F31)","v":false},{"$f":"Find_Month(TL$16,TL$17,$F31)","v":false},{"$f":"Find_Month(TM$16,TM$17,$F31)","v":false},{"$f":"Find_Month(TN$16,TN$17,$F31)","v":false},{"$f":"Find_Month(TO$16,TO$17,$F31)","v":false},{"$f":"Find_Month(TP$16,TP$17,$F31)","v":false},{"$f":"Find_Month(TQ$16,TQ$17,$F31)","v":false},{"$f":"Find_Month(TR$16,TR$17,$F31)","v":false},{"$f":"Find_Month(TS$16,TS$17,$F31)","v":false},{"$f":"Find_Month(TT$16,TT$17,$F31)","v":false},{"$f":"Find_Month(TU$16,TU$17,$F31)","v":false},{"$f":"Find_Month(TV$16,TV$17,$F31)","v":true},{"$f":"Find_Month(TW$16,TW$17,$F31)","v":false},{"$f":"Find_Month(TX$16,TX$17,$F31)","v":false},{"$f":"Find_Month(TY$16,TY$17,$F31)","v":false},{"$f":"Find_Month(TZ$16,TZ$17,$F31)","v":false},{"$f":"Find_Month(UA$16,UA$17,$F31)","v":false},{"$f":"Find_Month(UB$16,UB$17,$F31)","v":false},{"$f":"Find_Month(UC$16,UC$17,$F31)","v":false},{"$f":"Find_Month(UD$16,UD$17,$F31)","v":false},{"$f":"Find_Month(UE$16,UE$17,$F31)","v":false},{"$f":"Find_Month(UF$16,UF$17,$F31)","v":false},{"$f":"Find_Month(UG$16,UG$17,$F31)","v":false},{"$f":"Find_Month(UH$16,UH$17,$F31)","v":true},{"$f":"Find_Month(UI$16,UI$17,$F31)","v":false},{"$f":"Find_Month(UJ$16,UJ$17,$F31)","v":false},{"$f":"Find_Month(UK$16,UK$17,$F31)","v":false},{"$f":"Find_Month(UL$16,UL$17,$F31)","v":false},{"$f":"Find_Month(UM$16,UM$17,$F31)","v":false}]
[]
[null,null,null,null,null,null,null,null,null,{"$f":"COUNTIF(J20:J31,TRUE)","v":1},{"$f":"COUNTIF(K20:K31,TRUE)","v":1},1,1,1,1,1,1,1,1,1,1,1,1,1,1,1,1,1,1,1,1,1,1,1,1,1,1,1,1,1,1,1,1,1,1,1,1,1,1,1,1,1,1,1,1,1,1,1,1,1,1,1,1,1,1,1,1,1,1,1,1,1,1,1,{"$f":"COUNTIF(BW20:BW31,TRUE)","v":1},1,1,1,1,1,1,1,1,1,1,1,1,1,1,1,1,1,1,1,1,1,1,1,1,1,1,1,1,1,1,1,1,1,1,1,1,1,1,1,1,1,1,1,1,1,1,1,1,1,1,1,1,1,1,1,1,1,1,1,1,1,1,1,{"$f":"COUNTIF(EI20:EI31,TRUE)","v":1},1,1,1,1,1,1,1,1,1,1,1,1,1,1,1,1,1,1,1,1,1,1,1,1,1,1,1,1,1,1,1,1,1,1,1,1,1,1,1,1,1,1,1,1,1,1,1,1,1,1,1,1,1,1,1,1,1,1,1,1,1,1,1,{"$f":"COUNTIF(GU20:GU31,TRUE)","v":1},1,1,1,1,1,1,1,1,1,1,1,1,1,1,1,1,1,1,1,1,1,1,1,1,1,1,1,1,1,1,1,1,1,1,1,1,1,1,1,1,1,1,1,1,1,1,1,1,1,1,1,1,1,1,1,1,1,1,1,1,1,1,1,{"$f":"COUNTIF(JG20:JG31,TRUE)","v":1},1,1,1,1,1,1,1,1,1,1,1,1,1,1,1,1,1,1,1,1,1,1,1,1,1,1,1,1,1,1,1,1,1,1,1,1,1,1,1,1,1,1,1,1,1,1,1,1,1,1,1,1,1,1,1,1,1,1,1,1,1,1,1,{"$f":"COUNTIF(LS20:LS31,TRUE)","v":1},1,1,1,1,1,1,1,1,1,1,1,1,1,1,1,1,1,1,1,1,1,1,1,1,1,1,1,1,1,1,1,1,1,1,1,1,1,1,1,1,1,1,1,1,1,1,1,1,1,1,1,1,1,1,1,1,1,1,1,1,1,1,1,{"$f":"COUNTIF(OE20:OE31,TRUE)","v":1},1,1,1,1,1,1,1,1,1,1,1,1,1,1,1,1,1,1,1,1,1,1,1,1,1,1,1,1,1,1,1,1,1,1,1,1,1,1,1,1,1,1,1,1,1,1,1,1,1,1,1,1,1,1,1,1,1,1,1,1,1,1,1,{"$f":"COUNTIF(QQ20:QQ31,TRUE)","v":1},1,1,1,1,1,1,1,1,1,1,1,1,1,1,1,1,1,1,1,1,1,1,1,1,1,1,1,1,1,1,1,1,1,1,1,1,1,1,1,1,1,1,1,1,1,1,1,1,1,1,1,1,1,1,1,1,1,1,1,1,1,1,1,{"$f":"COUNTIF(TC20:TC31,TRUE)","v":1},1,1,1,1,1,1,1,1,1,1,1,1,1,1,1,1,1,1,1,1,1,1,1,1,1,1,1,1,1,1,1,1,1,1,1,1]
[null,null,null,null,null,"Total"]
[null,null,null,null,null,null,null,null,null,{"$f":"J16","v":"2026-08-14"},{"$f":"K16","v":"2026-09-01"},"2026-10-01","2026-11-01","2026-12-01","2027-01-01","2027-02-01","2027-03-01","2027-04-01","2027-05-01","2027-06-01","2027-07-01","2027-08-01","2027-09-01","2027-10-01","2027-11-01","2027-12-01","2028-01-01","2028-02-01","2028-03-01","2028-04-01","2028-05-01","2028-06-01","2028-07-01","2028-08-01","2028-09-01","2028-10-01","2028-11-01","2028-12-01","2029-01-01","2029-02-01","2029-03-01","2029-04-01","2029-05-01","2029-06-01","2029-07-01","2029-08-01","2029-09-01","2029-10-01","2029-11-01","2029-12-01","2030-01-01","2030-02-01","2030-03-01","2030-04-01","2030-05-01","2030-06-01","2030-07-01","2030-08-01","2030-09-01","2030-10-01","2030-11-01","2030-12-01","2031-01-01","2031-02-01","2031-03-01","2031-04-01","2031-05-01","2031-06-01","2031-07-01","2031-08-01","2031-09-01","2031-10-01","2031-11-01","2031-12-01",{"$f":"BW16","v":"2032-01-01"},"2032-02-01","2032-03-01","2032-04-01","2032-05-01","2032-06-01","2032-07-01","2032-08-01","2032-09-01","2032-10-01","2032-11-01","2032-12-01","2033-01-01","2033-02-01","2033-03-01","2033-04-01","2033-05-01","2033-06-01","2033-07-01","2033-08-01","2033-09-01","2033-10-01","2033-11-01","2033-12-01","2034-01-01","2034-02-01","2034-03-01","2034-04-01","2034-05-01","2034-06-01","2034-07-01","2034-08-01","2034-09-01","2034-10-01","2034-11-01","2034-12-01","2035-01-01","2035-02-01","2035-03-01","2035-04-01","2035-05-01","2035-06-01","2035-07-01","2035-08-01","2035-09-01","2035-10-01","2035-11-01","2035-12-01","2036-01-01","2036-02-01","2036-03-01","2036-04-01","2036-05-01","2036-06-01","2036-07-01","2036-08-01","2036-09-01","2036-10-01","2036-11-01","2036-12-01","2037-01-01","2037-02-01","2037-03-01","2037-04-01",{"$f":"EI16","v":"2037-05-01"},"2037-06-01","2037-07-01","2037-08-01","2037-09-01","2037-10-01","2037-11-01","2037-12-01","2038-01-01","2038-02-01","2038-03-01","2038-04-01","2038-05-01","2038-06-01","2038-07-01","2038-08-01","2038-09-01","2038-10-01","2038-11-01","2038-12-01","2039-01-01","2039-02-01","2039-03-01","2039-04-01","2039-05-01","2039-06-01","2039-07-01","2039-08-01","2039-09-01","2039-10-01","2039-11-01","2039-12-01","2040-01-01","2040-02-01","2040-03-01","2040-04-01","2040-05-01","2040-06-01","2040-07-01","2040-08-01","2040-09-01","2040-10-01","2040-11-01","2040-12-01","2041-01-01","2041-02-01","2041-03-01","2041-04-01","2041-05-01","2041-06-01","2041-07-01","2041-08-01","2041-09-01","2041-10-01","2041-11-01","2041-12-01","2042-01-01","2042-02-01","2042-03-01","2042-04-01","2042-05-01","2042-06-01","2042-07-01","2042-08-01",{"$f":"GU16","v":"2042-09-01"},"2042-10-01","2042-11-01","2042-12-01","2043-01-01","2043-02-01","2043-03-01","2043-04-01","2043-05-01","2043-06-01","2043-07-01","2043-08-01","2043-09-01","2043-10-01","2043-11-01","2043-12-01","2044-01-01","2044-02-01","2044-03-01","2044-04-01","2044-05-01","2044-06-01","2044-07-01","2044-08-01","2044-09-01","2044-10-01","2044-11-01","2044-12-01","2045-01-01","2045-02-01","2045-03-01","2045-04-01","2045-05-01","2045-06-01","2045-07-01","2045-08-01","2045-09-01","2045-10-01","2045-11-01","2045-12-01","2046-01-01","2046-02-01","2046-03-01","2046-04-01","2046-05-01","2046-06-01","2046-07-01","2046-08-01","2046-09-01","2046-10-01","2046-11-01","2046-12-01","2047-01-01","2047-02-01","2047-03-01","2047-04-01","2047-05-01","2047-06-01","2047-07-01","2047-08-01","2047-09-01","2047-10-01","2047-11-01","2047-12-01",{"$f":"JG16","v":"2048-01-01"},"2048-02-01","2048-03-01","2048-04-01","2048-05-01","2048-06-01","2048-07-01","2048-08-01","2048-09-01","2048-10-01","2048-11-01","2048-12-01","2049-01-01","2049-02-01","2049-03-01","2049-04-01","2049-05-01","2049-06-01","2049-07-01","2049-08-01","2049-09-01","2049-10-01","2049-11-01","2049-12-01","2050-01-01","2050-02-01","2050-03-01","2050-04-01","2050-05-01","2050-06-01","2050-07-01","2050-08-01","2050-09-01","2050-10-01","2050-11-01","2050-12-01","2051-01-01","2051-02-01","2051-03-01","2051-04-01","2051-05-01","2051-06-01","2051-07-01","2051-08-01","2051-09-01","2051-10-01","2051-11-01","2051-12-01","2052-01-01","2052-02-01","2052-03-01","2052-04-01","2052-05-01","2052-06-01","2052-07-01","2052-08-01","2052-09-01","2052-10-01","2052-11-01","2052-12-01","2053-01-01","2053-02-01","2053-03-01","2053-04-01",{"$f":"LS16","v":"2053-05-01"},"2053-06-01","2053-07-01","2053-08-01","2053-09-01","2053-10-01","2053-11-01","2053-12-01","2054-01-01","2054-02-01","2054-03-01","2054-04-01","2054-05-01","2054-06-01","2054-07-01","2054-08-01","2054-09-01","2054-10-01","2054-11-01","2054-12-01","2055-01-01","2055-02-01","2055-03-01","2055-04-01","2055-05-01","2055-06-01","2055-07-01","2055-08-01","2055-09-01","2055-10-01","2055-11-01","2055-12-01","2056-01-01","2056-02-01","2056-03-01","2056-04-01","2056-05-01","2056-06-01","2056-07-01","2056-08-01","2056-09-01","2056-10-01","2056-11-01","2056-12-01","2057-01-01","2057-02-01","2057-03-01","2057-04-01","2057-05-01","2057-06-01","2057-07-01","2057-08-01","2057-09-01","2057-10-01","2057-11-01","2057-12-01","2058-01-01","2058-02-01","2058-03-01","2058-04-01","2058-05-01","2058-06-01","2058-07-01","2058-08-01",{"$f":"OE16","v":"2058-09-01"},"2058-10-01","2058-11-01","2058-12-01","2059-01-01","2059-02-01","2059-03-01","2059-04-01","2059-05-01","2059-06-01","2059-07-01","2059-08-01","2059-09-01","2059-10-01","2059-11-01","2059-12-01","2060-01-01","2060-02-01","2060-03-01","2060-04-01","2060-05-01","2060-06-01","2060-07-01","2060-08-01","2060-09-01","2060-10-01","2060-11-01","2060-12-01","2061-01-01","2061-02-01","2061-03-01","2061-04-01","2061-05-01","2061-06-01","2061-07-01","2061-08-01","2061-09-01","2061-10-01","2061-11-01","2061-12-01","2062-01-01","2062-02-01","2062-03-01","2062-04-01","2062-05-01","2062-06-01","2062-07-01","2062-08-01","2062-09-01","2062-10-01","2062-11-01","2062-12-01","2063-01-01","2063-02-01","2063-03-01","2063-04-01","2063-05-01","2063-06-01","2063-07-01","2063-08-01","2063-09-01","2063-10-01","2063-11-01","2063-12-01",{"$f":"QQ16","v":"2064-01-01"},"2064-02-01","2064-03-01","2064-04-01","2064-05-01","2064-06-01","2064-07-01","2064-08-01","2064-09-01","2064-10-01","2064-11-01","2064-12-01","2065-01-01","2065-02-01","2065-03-01","2065-04-01","2065-05-01","2065-06-01","2065-07-01","2065-08-01","2065-09-01","2065-10-01","2065-11-01","2065-12-01","2066-01-01","2066-02-01","2066-03-01","2066-04-01","2066-05-01","2066-06-01","2066-07-01","2066-08-01","2066-09-01","2066-10-01","2066-11-01","2066-12-01","2067-01-01","2067-02-01","2067-03-01","2067-04-01","2067-05-01","2067-06-01","2067-07-01","2067-08-01","2067-09-01","2067-10-01","2067-11-01","2067-12-01","2068-01-01","2068-02-01","2068-03-01","2068-04-01","2068-05-01","2068-06-01","2068-07-01","2068-08-01","2068-09-01","2068-10-01","2068-11-01","2068-12-01","2069-01-01","2069-02-01","2069-03-01","2069-04-01",{"$f":"TC16","v":"2069-05-01"},"2069-06-01","2069-07-01","2069-08-01","2069-09-01","2069-10-01","2069-11-01","2069-12-01","2070-01-01","2070-02-01","2070-03-01","2070-04-01","2070-05-01","2070-06-01","2070-07-01","2070-08-01","2070-09-01","2070-10-01","2070-11-01","2070-12-01","2071-01-01","2071-02-01","2071-03-01","2071-04-01","2071-05-01","2071-06-01","2071-07-01","2071-08-01","2071-09-01","2071-10-01","2071-11-01","2071-12-01","2072-01-01","2072-02-01","2072-03-01","2072-04-01","2072-05-01"]
[null,null,null,null,null,null,null,null,null,{"$f":"J17","v":"2026-08-31"},{"$f":"K17","v":"2026-09-30"},"2026-10-31","2026-11-30","2026-12-31","2027-01-31","2027-02-28","2027-03-31","2027-04-30","2027-05-31","2027-06-30","2027-07-31","2027-08-31","2027-09-30","2027-10-31","2027-11-30","2027-12-31","2028-01-31","2028-02-29","2028-03-31","2028-04-30","2028-05-31","2028-06-30","2028-07-31","2028-08-31","2028-09-30","2028-10-31","2028-11-30","2028-12-31","2029-01-31","2029-02-28","2029-03-31","2029-04-30","2029-05-31","2029-06-30","2029-07-31","2029-08-31","2029-09-30","2029-10-31","2029-11-30","2029-12-31","2030-01-31","2030-02-28","2030-03-31","2030-04-30","2030-05-31","2030-06-30","2030-07-31","2030-08-31","2030-09-30","2030-10-31","2030-11-30","2030-12-31","2031-01-31","2031-02-28","2031-03-31","2031-04-30","2031-05-31","2031-06-30","2031-07-31","2031-08-31","2031-09-30","2031-10-31","2031-11-30","2031-12-31",{"$f":"BW17","v":"2032-01-31"},"2032-02-29","2032-03-31","2032-04-30","2032-05-31","2032-06-30","2032-07-31","2032-08-31","2032-09-30","2032-10-31","2032-11-30","2032-12-31","2033-01-31","2033-02-28","2033-03-31","2033-04-30","2033-05-31","2033-06-30","2033-07-31","2033-08-31","2033-09-30","2033-10-31","2033-11-30","2033-12-31","2034-01-31","2034-02-28","2034-03-31","2034-04-30","2034-05-31","2034-06-30","2034-07-31","2034-08-31","2034-09-30","2034-10-31","2034-11-30","2034-12-31","2035-01-31","2035-02-28","2035-03-31","2035-04-30","2035-05-31","2035-06-30","2035-07-31","2035-08-31","2035-09-30","2035-10-31","2035-11-30","2035-12-31","2036-01-31","2036-02-29","2036-03-31","2036-04-30","2036-05-31","2036-06-30","2036-07-31","2036-08-31","2036-09-30","2036-10-31","2036-11-30","2036-12-31","2037-01-31","2037-02-28","2037-03-31","2037-04-30",{"$f":"EI17","v":"2037-05-31"},"2037-06-30","2037-07-31","2037-08-31","2037-09-30","2037-10-31","2037-11-30","2037-12-31","2038-01-31","2038-02-28","2038-03-31","2038-04-30","2038-05-31","2038-06-30","2038-07-31","2038-08-31","2038-09-30","2038-10-31","2038-11-30","2038-12-31","2039-01-31","2039-02-28","2039-03-31","2039-04-30","2039-05-31","2039-06-30","2039-07-31","2039-08-31","2039-09-30","2039-10-31","2039-11-30","2039-12-31","2040-01-31","2040-02-29","2040-03-31","2040-04-30","2040-05-31","2040-06-30","2040-07-31","2040-08-31","2040-09-30","2040-10-31","2040-11-30","2040-12-31","2041-01-31","2041-02-28","2041-03-31","2041-04-30","2041-05-31","2041-06-30","2041-07-31","2041-08-31","2041-09-30","2041-10-31","2041-11-30","2041-12-31","2042-01-31","2042-02-28","2042-03-31","2042-04-30","2042-05-31","2042-06-30","2042-07-31","2042-08-31",{"$f":"GU17","v":"2042-09-30"},"2042-10-31","2042-11-30","2042-12-31","2043-01-31","2043-02-28","2043-03-31","2043-04-30","2043-05-31","2043-06-30","2043-07-31","2043-08-31","2043-09-30","2043-10-31","2043-11-30","2043-12-31","2044-01-31","2044-02-29","2044-03-31","2044-04-30","2044-05-31","2044-06-30","2044-07-31","2044-08-31","2044-09-30","2044-10-31","2044-11-30","2044-12-31","2045-01-31","2045-02-28","2045-03-31","2045-04-30","2045-05-31","2045-06-30","2045-07-31","2045-08-31","2045-09-30","2045-10-31","2045-11-30","2045-12-31","2046-01-31","2046-02-28","2046-03-31","2046-04-30","2046-05-31","2046-06-30","2046-07-31","2046-08-31","2046-09-30","2046-10-31","2046-11-30","2046-12-31","2047-01-31","2047-02-28","2047-03-31","2047-04-30","2047-05-31","2047-06-30","2047-07-31","2047-08-31","2047-09-30","2047-10-31","2047-11-30","2047-12-31",{"$f":"JG17","v":"2048-01-31"},"2048-02-29","2048-03-31","2048-04-30","2048-05-31","2048-06-30","2048-07-31","2048-08-31","2048-09-30","2048-10-31","2048-11-30","2048-12-31","2049-01-31","2049-02-28","2049-03-31","2049-04-30","2049-05-31","2049-06-30","2049-07-31","2049-08-31","2049-09-30","2049-10-31","2049-11-30","2049-12-31","2050-01-31","2050-02-28","2050-03-31","2050-04-30","2050-05-31","2050-06-30","2050-07-31","2050-08-31","2050-09-30","2050-10-31","2050-11-30","2050-12-31","2051-01-31","2051-02-28","2051-03-31","2051-04-30","2051-05-31","2051-06-30","2051-07-31","2051-08-31","2051-09-30","2051-10-31","2051-11-30","2051-12-31","2052-01-31","2052-02-29","2052-03-31","2052-04-30","2052-05-31","2052-06-30","2052-07-31","2052-08-31","2052-09-30","2052-10-31","2052-11-30","2052-12-31","2053-01-31","2053-02-28","2053-03-31","2053-04-30",{"$f":"LS17","v":"2053-05-31"},"2053-06-30","2053-07-31","2053-08-31","2053-09-30","2053-10-31","2053-11-30","2053-12-31","2054-01-31","2054-02-28","2054-03-31","2054-04-30","2054-05-31","2054-06-30","2054-07-31","2054-08-31","2054-09-30","2054-10-31","2054-11-30","2054-12-31","2055-01-31","2055-02-28","2055-03-31","2055-04-30","2055-05-31","2055-06-30","2055-07-31","2055-08-31","2055-09-30","2055-10-31","2055-11-30","2055-12-31","2056-01-31","2056-02-29","2056-03-31","2056-04-30","2056-05-31","2056-06-30","2056-07-31","2056-08-31","2056-09-30","2056-10-31","2056-11-30","2056-12-31","2057-01-31","2057-02-28","2057-03-31","2057-04-30","2057-05-31","2057-06-30","2057-07-31","2057-08-31","2057-09-30","2057-10-31","2057-11-30","2057-12-31","2058-01-31","2058-02-28","2058-03-31","2058-04-30","2058-05-31","2058-06-30","2058-07-31","2058-08-31",{"$f":"OE17","v":"2058-09-30"},"2058-10-31","2058-11-30","2058-12-31","2059-01-31","2059-02-28","2059-03-31","2059-04-30","2059-05-31","2059-06-30","2059-07-31","2059-08-31","2059-09-30","2059-10-31","2059-11-30","2059-12-31","2060-01-31","2060-02-29","2060-03-31","2060-04-30","2060-05-31","2060-06-30","2060-07-31","2060-08-31","2060-09-30","2060-10-31","2060-11-30","2060-12-31","2061-01-31","2061-02-28","2061-03-31","2061-04-30","2061-05-31","2061-06-30","2061-07-31","2061-08-31","2061-09-30","2061-10-31","2061-11-30","2061-12-31","2062-01-31","2062-02-28","2062-03-31","2062-04-30","2062-05-31","2062-06-30","2062-07-31","2062-08-31","2062-09-30","2062-10-31","2062-11-30","2062-12-31","2063-01-31","2063-02-28","2063-03-31","2063-04-30","2063-05-31","2063-06-30","2063-07-31","2063-08-31","2063-09-30","2063-10-31","2063-11-30","2063-12-31",{"$f":"QQ17","v":"2064-01-31"},"2064-02-29","2064-03-31","2064-04-30","2064-05-31","2064-06-30","2064-07-31","2064-08-31","2064-09-30","2064-10-31","2064-11-30","2064-12-31","2065-01-31","2065-02-28","2065-03-31","2065-04-30","2065-05-31","2065-06-30","2065-07-31","2065-08-31","2065-09-30","2065-10-31","2065-11-30","2065-12-31","2066-01-31","2066-02-28","2066-03-31","2066-04-30","2066-05-31","2066-06-30","2066-07-31","2066-08-31","2066-09-30","2066-10-31","2066-11-30","2066-12-31","2067-01-31","2067-02-28","2067-03-31","2067-04-30","2067-05-31","2067-06-30","2067-07-31","2067-08-31","2067-09-30","2067-10-31","2067-11-30","2067-12-31","2068-01-31","2068-02-29","2068-03-31","2068-04-30","2068-05-31","2068-06-30","2068-07-31","2068-08-31","2068-09-30","2068-10-31","2068-11-30","2068-12-31","2069-01-31","2069-02-28","2069-03-31","2069-04-30",{"$f":"TC17","v":"2069-05-31"},"2069-06-30","2069-07-31","2069-08-31","2069-09-30","2069-10-31","2069-11-30","2069-12-31","2070-01-31","2070-02-28","2070-03-31","2070-04-30","2070-05-31","2070-06-30","2070-07-31","2070-08-31","2070-09-30","2070-10-31","2070-11-30","2070-12-31","2071-01-31","2071-02-28","2071-03-31","2071-04-30","2071-05-31","2071-06-30","2071-07-31","2071-08-31","2071-09-30","2071-10-31","2071-11-30","2071-12-31","2072-01-31","2072-02-29","2072-03-31","2072-04-30","2072-05-31"]
[]
[null,null,null,null,null,"Month","Average","Pct of Yr"]
[null,null,null,null,null,1,null,{"$f":"H20","v":0.04},null,{"$f":"IF(J20,$H39)","v":false},{"$f":"IF(K20,$H39)","v":false},false,false,false,0.04,false,false,false,false,false,false,false,false,false,false,false,0.04,false,false,false,false,false,false,false,false,false,false,false,0.04,false,false,false,false,false,false,false,false,false,false,false,0.04,false,false,false,false,false,false,false,false,false,false,false,0.04,false,false,false,false,false,false,false,false,false,false,false,{"$f":"IF(BW20,$H39)","v":0.04},false,false,false,false,false,false,false,false,false,false,false,0.04,false,false,false,false,false,false,false,false,false,false,false,0.04,false,false,false,false,false,false,false,false,false,false,false,0.04,false,false,false,false,false,false,false,false,false,false,false,0.04,false,false,false,false,false,false,false,false,false,false,false,0.04,false,false,false,{"$f":"IF(EI20,$H39)","v":false},false,false,false,false,false,false,false,0.04,false,false,false,false,false,false,false,false,false,false,false,0.04,false,false,false,false,false,false,false,false,false,false,false,0.04,false,false,false,false,false,false,false,false,false,false,false,0.04,false,false,false,false,false,false,false,false,false,false,false,0.04,false,false,false,false,false,false,false,{"$f":"IF(GU20,$H39)","v":false},false,false,false,0.04,false,false,false,false,false,false,false,false,false,false,false,0.04,false,false,false,false,false,false,false,false,false,false,false,0.04,false,false,false,false,false,false,false,false,false,false,false,0.04,false,false,false,false,false,false,false,false,false,false,false,0.04,false,false,false,false,false,false,false,false,false,false,false,{"$f":"IF(JG20,$H39)","v":0.04},false,false,false,false,false,false,false,false,false,false,false,0.04,false,false,false,false,false,false,false,false,false,false,false,0.04,false,false,false,false,false,false,false,false,false,false,false,0.04,false,false,false,false,false,false,false,false,false,false,false,0.04,false,false,false,false,false,false,false,false,false,false,false,0.04,false,false,false,{"$f":"IF(LS20,$H39)","v":false},false,false,false,false,false,false,false,0.04,false,false,false,false,false,false,false,false,false,false,false,0.04,false,false,false,false,false,false,false,false,false,false,false,0.04,false,false,false,false,false,false,false,false,false,false,false,0.04,false,false,false,false,false,false,false,false,false,false,false,0.04,false,false,false,false,false,false,false,{"$f":"IF(OE20,$H39)","v":false},false,false,false,0.04,false,false,false,false,false,false,false,false,false,false,false,0.04,false,false,false,false,false,false,false,false,false,false,false,0.04,false,false,false,false,false,false,false,false,false,false,false,0.04,false,false,false,false,false,false,false,false,false,false,false,0.04,false,false,false,false,false,false,false,false,false,false,false,{"$f":"IF(QQ20,$H39)","v":0.04},false,false,false,false,false,false,false,false,false,false,false,0.04,false,false,false,false,false,false,false,false,false,false,false,0.04,false,false,false,false,false,false,false,false,false,false,false,0.04,false,false,false,false,false,false,false,false,false,false,false,0.04,false,false,false,false,false,false,false,false,false,false,false,0.04,false,false,false,{"$f":"IF(TC20,$H39)","v":false},false,false,false,false,false,false,false,0.04,false,false,false,false,false,false,false,false,false,false,false,0.04,false,false,false,false,false,false,false,false,false,false,false,0.04,false,false,false,false]
[null,null,null,null,null,2,null,{"$f":"H21","v":0.05},null,{"$f":"IF(J21,$H40)","v":false},false,false,false,false,false,0.05,false,false,false,false,false,false,false,false,false,false,false,0.05,false,false,false,false,false,false,false,false,false,false,false,0.05,false,false,false,false,false,false,false,false,false,false,false,0.05,false,false,false,false,false,false,false,false,false,false,false,0.05,false,false,false,false,false,false,false,false,false,false,false,0.05,false,false,false,false,false,false,false,false,false,false,false,0.05,false,false,false,false,false,false,false,false,false,false,false,0.05,false,false,false,false,false,false,false,false,false,false,false,0.05,false,false,false,false,false,false,false,false,false,false,false,0.05,false,false,false,false,false,false,false,false,false,false,false,0.05,false,false,false,false,false,false,false,false,false,false,false,0.05,false,false,false,false,false,false,false,false,false,false,false,0.05,false,false,false,false,false,false,false,false,false,false,false,0.05,false,false,false,false,false,false,false,false,false,false,false,0.05,false,false,false,false,false,false,false,false,false,false,false,0.05,false,false,false,false,false,false,false,false,false,false,false,0.05,false,false,false,false,false,false,false,false,false,false,false,0.05,false,false,false,false,false,false,false,false,false,false,false,0.05,false,false,false,false,false,false,false,false,false,false,false,0.05,false,false,false,false,false,false,false,false,false,false,false,0.05,false,false,false,false,false,false,false,false,false,false,false,0.05,false,false,false,false,false,false,false,false,false,false,false,0.05,false,false,false,false,false,false,false,false,false,false,false,0.05,false,false,false,false,false,false,false,false,false,false,false,0.05,false,false,false,false,false,false,false,false,false,false,false,0.05,false,false,false,false,false,false,false,false,false,false,false,0.05,false,false,false,false,false,false,false,false,false,false,false,0.05,false,false,false,false,false,false,false,false,false,false,false,0.05,false,false,false,false,false,false,false,false,false,false,false,0.05,false,false,false,false,false,false,false,false,false,false,false,0.05,false,false,false,false,false,false,false,false,false,false,false,0.05,false,false,false,false,false,false,false,false,false,false,false,0.05,false,false,false,false,false,false,false,false,false,false,false,0.05,false,false,false,false,false,false,false,false,false,false,false,0.05,false,false,false,false,false,false,false,false,false,false,false,0.05,false,false,false,false,false,false,false,false,false,false,false,0.05,false,false,false,false,false,false,false,false,false,false,false,0.05,false,false,false,false,false,false,false,false,false,false,false,0.05,false,false,false,false,false,false,false,false,false,false,false,0.05,false,false,false,false,false,false,false,false,false,false,false,0.05,false,false,false,false,false,false,false,false,false,false,false,0.05,false,false,false,false,false,false,false,false,false,false,false,0.05,false,false,false,false,false,false,false,false,false,false,false,0.05,false,false,false,false,false,false,false,false,false,false,false,0.05,false,false,false,false,false,false,false,false,false,false,false,0.05,false,false,false]
[null,null,null,null,null,3,null,6.5000000000000002E-2,null,false,false,false,false,false,false,false,6.5000000000000002E-2,false,false,false,false,false,false,false,false,false,false,false,6.5000000000000002E-2,false,false,false,false,false,false,false,false,false,false,false,6.5000000000000002E-2,false,false,false,false,false,false,false,false,false,false,false,6.5000000000000002E-2,false,false,false,false,false,false,false,false,false,false,false,6.5000000000000002E-2,false,false,false,false,false,false,false,false,false,false,false,6.5000000000000002E-2,false,false,false,false,false,false,false,false,false,false,false,6.5000000000000002E-2,false,false,false,false,false,false,false,false,false,false,false,6.5000000000000002E-2,false,false,false,false,false,false,false,false,false,false,false,6.5000000000000002E-2,false,false,false,false,false,false,false,false,false,false,false,6.5000000000000002E-2,false,false,false,false,false,false,false,false,false,false,false,6.5000000000000002E-2,false,false,false,false,false,false,false,false,false,false,false,6.5000000000000002E-2,false,false,false,false,false,false,false,false,false,false,false,6.5000000000000002E-2,false,false,false,false,false,false,false,false,false,false,false,6.5000000000000002E-2,false,false,false,false,false,false,false,false,false,false,false,6.5000000000000002E-2,false,false,false,false,false,false,false,false,false,false,false,6.5000000000000002E-2,false,false,false,false,false,false,false,false,false,false,false,6.5000000000000002E-2,false,false,false,false,false,false,false,false,false,false,false,6.5000000000000002E-2,false,false,false,false,false,false,false,false,false,false,false,6.5000000000000002E-2,false,false,false,false,false,false,false,false,false,false,false,6.5000000000000002E-2,false,false,false,false,false,false,false,false,false,false,false,6.5000000000000002E-2,false,false,false,false,false,false,false,false,false,false,false,6.5000000000000002E-2,false,false,false,false,false,false,false,false,false,false,false,6.5000000000000002E-2,false,false,false,false,false,false,false,false,false,false,false,6.5000000000000002E-2,false,false,false,false,false,false,false,false,false,false,false,6.5000000000000002E-2,false,false,false,false,false,false,false,false,false,false,false,6.5000000000000002E-2,false,false,false,false,false,false,false,false,false,false,false,6.5000000000000002E-2,false,false,false,false,false,false,false,false,false,false,false,6.5000000000000002E-2,false,false,false,false,false,false,false,false,false,false,false,6.5000000000000002E-2,false,false,false,false,false,false,false,false,false,false,false,6.5000000000000002E-2,false,false,false,false,false,false,false,false,false,false,false,6.5000000000000002E-2,false,false,false,false,false,false,false,false,false,false,false,6.5000000000000002E-2,false,false,false,false,false,false,false,false,false,false,false,6.5000000000000002E-2,false,false,false,false,false,false,false,false,false,false,false,6.5000000000000002E-2,false,false,false,false,false,false,false,false,false,false,false,6.5000000000000002E-2,false,false,false,false,false,false,false,false,false,false,false,6.5000000000000002E-2,false,false,false,false,false,false,false,false,false,false,false,6.5000000000000002E-2,false,false,false,false,false,false,false,false,false,false,false,6.5000000000000002E-2,false,false,false,false,false,false,false,false,false,false,false,6.5000000000000002E-2,false,false,false,false,false,false,false,false,false,false,false,6.5000000000000002E-2,false,false,false,false,false,false,false,false,false,false,false,6.5000000000000002E-2,false,false,false,false,false,false,false,false,false,false,false,6.5000000000000002E-2,false,false,false,false,false,false,false,false,false,false,false,6.5000000000000002E-2,false,false,false,false,false,false,false,false,false,false,false,6.5000000000000002E-2,false,false,false,false,false,false,false,false,false,false,false,6.5000000000000002E-2,false,false,false,false,false,false,false,false,false,false,false,6.5000000000000002E-2,false,false]
[null,null,null,null,null,4,null,8.5000000000000006E-2,null,false,false,false,false,false,false,false,false,8.5000000000000006E-2,false,false,false,false,false,false,false,false,false,false,false,8.5000000000000006E-2,false,false,false,false,false,false,false,false,false,false,false,8.5000000000000006E-2,false,false,false,false,false,false,false,false,false,false,false,8.5000000000000006E-2,false,false,false,false,false,false,false,false,false,false,false,8.5000000000000006E-2,false,false,false,false,false,false,false,false,false,false,false,8.5000000000000006E-2,false,false,false,false,false,false,false,false,false,false,false,8.5000000000000006E-2,false,false,false,false,false,false,false,false,false,false,false,8.5000000000000006E-2,false,false,false,false,false,false,false,false,false,false,false,8.5000000000000006E-2,false,false,false,false,false,false,false,false,false,false,false,8.5000000000000006E-2,false,false,false,false,false,false,false,false,false,false,false,{"$f":"IF(EH23,$H42)","v":8.5000000000000006E-2},false,false,false,false,false,false,false,false,false,false,false,8.5000000000000006E-2,false,false,false,false,false,false,false,false,false,false,false,8.5000000000000006E-2,false,false,false,false,false,false,false,false,false,false,false,8.5000000000000006E-2,false,false,false,false,false,false,false,false,false,false,false,8.5000000000000006E-2,false,false,false,false,false,false,false,false,false,false,false,8.5000000000000006E-2,false,false,false,false,false,false,false,false,false,false,false,8.5000000000000006E-2,false,false,false,false,false,false,false,false,false,false,false,8.5000000000000006E-2,false,false,false,false,false,false,false,false,false,false,false,8.5000000000000006E-2,false,false,false,false,false,false,false,false,false,false,false,8.5000000000000006E-2,false,false,false,false,false,false,false,false,false,false,false,8.5000000000000006E-2,false,false,false,false,false,false,false,{"$f":"IF(JF23,$H42)","v":false},false,false,false,8.5000000000000006E-2,false,false,false,false,false,false,false,false,false,false,false,8.5000000000000006E-2,false,false,false,false,false,false,false,false,false,false,false,8.5000000000000006E-2,false,false,false,false,false,false,false,false,false,false,false,8.5000000000000006E-2,false,false,false,false,false,false,false,false,false,false,false,8.5000000000000006E-2,false,false,false,false,false,false,false,false,false,false,false,8.5000000000000006E-2,false,false,false,false,false,false,false,false,false,false,false,8.5000000000000006E-2,false,false,false,false,false,false,false,false,false,false,false,8.5000000000000006E-2,false,false,false,false,false,false,false,false,false,false,false,8.5000000000000006E-2,false,false,false,false,false,false,false,false,false,false,false,8.5000000000000006E-2,false,false,false,false,false,false,false,false,false,false,false,8.5000000000000006E-2,false,false,false,{"$f":"IF(OD23,$H42)","v":false},false,false,false,false,false,false,false,8.5000000000000006E-2,false,false,false,false,false,false,false,false,false,false,false,8.5000000000000006E-2,false,false,false,false,false,false,false,false,false,false,false,8.5000000000000006E-2,false,false,false,false,false,false,false,false,false,false,false,8.5000000000000006E-2,false,false,false,false,false,false,false,false,false,false,false,8.5000000000000006E-2,false,false,false,false,false,false,false,false,false,false,false,8.5000000000000006E-2,false,false,false,false,false,false,false,false,false,false,false,8.5000000000000006E-2,false,false,false,false,false,false,false,false,false,false,false,8.5000000000000006E-2,false,false,false,false,false,false,false,false,false,false,false,8.5000000000000006E-2,false,false,false,false,false,false,false,false,false,false,false,8.5000000000000006E-2,false,false,false,false,false,false,false,false,false,false,false,{"$f":"IF(TB23,$H42)","v":8.5000000000000006E-2},false,false,false,false,false,false,false,false,false,false,false,8.5000000000000006E-2,false,false,false,false,false,false,false,false,false,false,false,8.5000000000000006E-2,false,false,false,false,false,false,false,false,false,false,false,8.5000000000000006E-2,false]
[null,null,null,null,null,5,null,0.09,null,false,false,false,false,false,false,false,false,false,0.09,false,false,false,false,false,false,false,false,false,false,false,0.09,false,false,false,false,false,false,false,false,false,false,false,0.09,false,false,false,false,false,false,false,false,false,false,false,0.09,false,false,false,false,false,false,false,false,false,false,false,0.09,false,false,{"$f":"IF(BR24,$H43)","v":false},false,false,false,false,false,false,false,false,0.09,false,false,false,false,false,false,false,false,false,false,false,0.09,false,false,false,false,false,false,false,false,false,false,false,0.09,false,false,false,false,false,false,false,false,false,false,false,0.09,false,false,false,false,false,false,false,false,false,false,false,0.09,false,false,false,false,false,false,{"$f":"IF(ED24,$H43)","v":false},false,false,false,false,0.09,false,false,false,false,false,false,false,false,false,false,false,0.09,false,false,false,false,false,false,false,false,false,false,false,0.09,false,false,false,false,false,false,false,false,false,false,false,0.09,false,false,false,false,false,false,false,false,false,false,false,0.09,false,false,false,false,false,false,false,false,false,false,false,0.09,false,false,false,{"$f":"IF(GU24,$H43)","v":false},false,false,false,false,false,false,false,0.09,false,false,false,false,false,false,false,false,false,false,false,0.09,false,false,false,false,false,false,false,false,false,false,false,0.09,false,false,false,false,false,false,false,false,false,false,false,0.09,false,false,false,false,false,false,false,false,false,false,false,0.09,false,false,false,false,false,false,false,false,false,false,false,0.09,false,false,false,false,false,false,false,false,false,false,false,0.09,false,false,false,false,false,false,false,false,false,false,false,0.09,false,false,false,false,false,false,false,false,false,false,false,0.09,false,false,false,false,false,false,false,false,false,false,false,0.09,false,false,false,false,false,false,false,false,false,false,false,{"$f":"IF(LS24,$H43)","v":0.09},false,false,false,false,false,false,false,false,false,false,false,0.09,false,false,false,false,false,false,false,false,false,false,false,0.09,false,false,false,false,false,false,false,false,false,false,false,0.09,false,false,false,false,false,false,false,false,false,false,false,0.09,false,false,false,false,false,false,false,false,false,false,false,0.09,false,false,false,false,false,false,false,false,false,false,false,0.09,false,false,false,false,false,false,false,false,false,false,false,0.09,false,false,false,false,false,false,false,false,false,false,false,0.09,false,false,false,false,false,false,false,false,false,false,false,0.09,false,false,false,false,false,false,false,false,false,false,false,0.09,false,false,false,false,false,false,false,{"$f":"IF(QQ24,$H43)","v":false},false,false,false,0.09,false,false,false,false,false,false,false,false,false,false,false,0.09,false,false,false,false,false,false,false,false,false,false,false,0.09,false,false,false,false,false,false,false,false,false,false,false,0.09,false,false,false,false,false,false,false,false,false,false,false,0.09,false,false,false,false,false,false,false,false,false,false,false,0.09,false,false,false,false,false,false,false,false,false,false,false,0.09,false,false,false,false,false,false,false,false,false,false,false,0.09,false,false,false,false,false,false,false,false,false,false,false,0.09]
[null,null,null,null,null,6,null,0.125,null,false,false,false,false,false,false,false,false,false,false,0.125,false,false,false,false,false,{"$f":"IF(Z25,$H44)","v":false},false,false,false,false,false,0.125,false,false,false,false,false,false,false,false,false,false,false,0.125,false,false,false,false,false,false,false,false,false,false,false,0.125,false,false,false,false,false,false,false,false,false,false,false,0.125,false,false,false,false,false,false,false,false,false,false,false,0.125,false,false,false,false,false,false,false,false,false,false,false,0.125,false,false,false,false,false,false,false,false,false,false,false,0.125,false,false,false,false,false,false,false,false,false,false,false,0.125,false,false,false,false,false,false,false,false,false,false,false,0.125,false,false,false,false,false,false,false,false,false,false,false,0.125,false,false,false,false,false,false,false,false,false,false,false,0.125,false,false,false,false,false,false,false,false,false,false,false,0.125,false,false,false,false,false,false,false,false,false,false,false,0.125,false,false,false,false,false,false,false,false,false,false,false,0.125,false,false,false,false,false,false,false,false,false,false,false,0.125,false,false,false,false,false,false,false,false,false,false,false,0.125,false,false,false,false,false,false,false,false,false,false,false,0.125,false,false,false,false,false,false,false,false,false,false,false,0.125,false,false,false,false,false,false,false,false,false,false,false,0.125,false,false,false,false,false,false,false,false,false,false,false,0.125,false,false,false,false,false,false,false,false,false,false,false,0.125,false,false,false,false,false,false,false,false,false,false,false,0.125,false,false,false,false,false,false,false,false,false,false,false,0.125,false,false,false,false,false,false,false,false,false,false,false,0.125,false,false,false,false,false,false,false,false,false,false,false,0.125,false,false,false,false,false,false,false,false,false,false,false,0.125,false,false,false,false,false,false,false,false,false,false,false,0.125,false,false,false,false,false,false,false,false,false,false,false,0.125,false,false,false,false,false,false,false,false,false,false,false,0.125,false,false,false,false,false,false,false,false,false,false,false,0.125,false,false,false,false,false,false,false,false,false,false,false,0.125,false,false,false,false,false,false,false,false,false,false,false,0.125,false,false,false,false,false,false,false,false,false,false,false,0.125,false,false,false,false,false,false,false,false,false,false,false,0.125,false,false,false,false,false,false,false,false,false,false,false,0.125,false,false,false,false,false,false,false,false,false,false,false,0.125,false,false,false,false,false,false,false,false,false,false,false,0.125,false,false,false,false,false,false,false,false,false,false,false,0.125,false,false,false,false,false,false,false,false,false,false,false,0.125,false,false,false,false,false,false,false,false,false,false,false,0.125,false,false,false,false,false,false,false,false,false,false,false,0.125,false,false,false,false,false,false,false,false,false,false,false,0.125,false,false,false,false,false,false,false,false,false,false,false,0.125,false,false,false,false,false,false,false,false,false,false,false,0.125,false,false,false,false,false,false,false,false,false,false,false]
[null,null,null,null,null,7,null,0.14000000000000001,null,false,false,false,false,false,false,false,false,false,false,false,0.14000000000000001,false,false,false,false,false,false,false,false,false,false,false,0.14000000000000001,false,false,false,false,false,false,false,false,false,false,false,0.14000000000000001,false,false,false,false,false,false,false,false,false,false,false,0.14000000000000001,false,false,false,false,false,false,false,false,false,false,false,0.14000000000000001,false,false,false,false,false,false,false,false,false,false,false,0.14000000000000001,false,false,false,false,false,false,false,false,false,false,false,0.14000000000000001,false,false,false,false,false,false,false,false,false,false,false,0.14000000000000001,false,false,false,false,false,false,false,false,false,false,false,0.14000000000000001,false,false,false,false,false,false,false,false,false,false,false,0.14000000000000001,false,false,false,false,false,false,false,false,false,false,false,0.14000000000000001,false,false,false,false,false,false,false,false,false,false,false,0.14000000000000001,false,false,false,false,false,false,false,false,false,false,false,0.14000000000000001,false,false,false,false,false,false,false,false,false,false,false,0.14000000000000001,false,false,false,false,false,false,false,false,false,false,false,0.14000000000000001,false,false,false,false,false,false,false,false,false,false,false,0.14000000000000001,false,false,false,false,false,false,false,false,false,false,false,0.14000000000000001,false,false,false,false,false,false,false,false,false,false,false,0.14000000000000001,false,false,false,false,false,false,false,false,false,false,false,0.14000000000000001,false,false,false,false,false,false,false,false,false,false,false,0.14000000000000001,false,false,false,false,false,false,false,false,false,false,false,0.14000000000000001,false,false,false,false,false,false,false,false,false,false,false,0.14000000000000001,false,false,false,false,false,false,false,false,false,false,false,0.14000000000000001,false,false,false,false,false,false,false,false,false,false,false,0.14000000000000001,false,false,false,false,false,false,false,false,false,false,false,0.14000000000000001,false,false,false,false,false,false,false,false,false,false,false,0.14000000000000001,false,false,false,false,false,false,false,false,false,false,false,0.14000000000000001,false,false,false,false,false,false,false,false,false,false,false,0.14000000000000001,false,false,false,false,false,false,false,false,false,false,false,0.14000000000000001,false,false,false,false,false,false,false,false,false,false,false,0.14000000000000001,false,false,false,false,false,false,false,false,false,false,false,0.14000000000000001,false,false,false,false,false,false,false,false,false,false,false,0.14000000000000001,false,false,false,false,false,false,false,false,false,false,false,0.14000000000000001,false,false,false,false,false,false,false,false,false,false,false,0.14000000000000001,false,false,false,false,false,false,false,false,false,false,false,0.14000000000000001,false,false,false,false,false,false,false,false,false,false,false,0.14000000000000001,false,false,false,false,false,false,false,false,false,false,false,0.14000000000000001,false,false,false,false,false,false,false,false,false,false,false,0.14000000000000001,false,false,false,false,false,false,false,false,false,false,false,0.14000000000000001,false,false,false,false,false,false,false,false,false,false,false,0.14000000000000001,false,false,false,false,false,false,false,false,false,false,false,0.14000000000000001,false,false,false,false,false,false,false,false,false,false,false,0.14000000000000001,false,false,false,false,false,false,false,false,false,false,false,0.14000000000000001,false,false,false,false,false,false,false,false,false,false,false,0.14000000000000001,false,false,false,false,false,false,false,false,false,false,false,0.14000000000000001,false,false,false,false,false,false,false,false,false,false]
[null,null,null,null,null,8,null,0.13500000000000001,null,0.13500000000000001,false,false,false,false,false,false,false,false,false,false,false,0.13500000000000001,false,false,false,false,false,false,false,false,false,false,false,0.13500000000000001,false,false,false,false,false,false,false,false,false,false,false,0.13500000000000001,false,false,false,false,false,false,false,false,false,false,false,0.13500000000000001,false,false,false,false,false,false,false,false,false,false,false,0.13500000000000001,false,false,false,false,false,false,false,false,false,false,false,0.13500000000000001,false,false,false,false,false,false,false,false,false,false,false,0.13500000000000001,false,false,false,false,false,false,false,false,false,false,false,0.13500000000000001,false,false,false,false,false,false,false,false,false,false,false,0.13500000000000001,false,false,false,false,false,false,false,false,false,false,false,0.13500000000000001,false,false,false,false,false,false,false,false,false,false,false,0.13500000000000001,false,false,false,false,false,false,false,false,false,false,false,0.13500000000000001,false,false,false,false,false,false,false,false,false,false,false,0.13500000000000001,false,false,false,false,false,false,false,false,false,false,false,0.13500000000000001,false,false,false,false,false,false,false,false,false,false,false,0.13500000000000001,false,false,false,false,false,false,{"$f":"IF(GO27,$H46)","v":false},false,false,false,false,0.13500000000000001,false,false,false,false,false,false,false,false,false,false,false,0.13500000000000001,false,false,false,false,false,false,false,false,false,false,false,0.13500000000000001,false,false,false,false,false,false,false,false,false,false,false,0.13500000000000001,false,false,false,false,false,false,false,false,false,false,false,0.13500000000000001,false,false,false,false,false,false,false,false,false,false,false,0.13500000000000001,false,false,false,false,false,false,{"$f":"IF(JI27,$H46)","v":false},false,false,false,false,0.13500000000000001,false,false,false,false,false,false,false,false,false,false,false,0.13500000000000001,false,false,false,false,false,false,false,false,false,false,false,0.13500000000000001,false,false,false,false,false,false,false,false,false,false,false,0.13500000000000001,false,false,false,false,false,false,false,false,false,false,false,0.13500000000000001,false,false,false,false,false,false,false,false,false,false,false,0.13500000000000001,false,false,false,false,false,false,false,false,false,false,false,0.13500000000000001,false,false,false,false,false,false,false,false,false,false,false,0.13500000000000001,false,false,false,false,false,false,false,false,false,false,false,0.13500000000000001,false,false,false,false,false,false,false,false,false,false,false,0.13500000000000001,false,false,false,false,false,false,false,false,false,false,false,0.13500000000000001,false,false,{"$f":"IF(OG27,$H46)","v":false},false,false,false,false,false,false,false,false,0.13500000000000001,false,false,false,false,false,false,false,false,false,false,false,0.13500000000000001,false,false,false,false,false,false,false,false,false,false,false,0.13500000000000001,false,false,false,false,false,false,false,false,false,false,false,0.13500000000000001,false,false,false,false,false,false,false,false,false,false,false,0.13500000000000001,false,false,false,false,false,false,false,false,false,false,false,0.13500000000000001,false,false,false,false,false,false,false,false,false,false,false,0.13500000000000001,false,false,false,false,false,false,false,false,false,false,false,0.13500000000000001,false,false,false,false,false,false,false,false,false,false,false,0.13500000000000001,false,false,false,false,false,false,false,false,false,false,false,0.13500000000000001,false,false,false,false,false,false,false,false,false,false,false,0.13500000000000001,false,false,false,false,false,false,false,false,false,false,false,0.13500000000000001,false,false,false,false,false,false,false,false,false,false,false,0.13500000000000001,false,false,false,false,false,false,false,false,false]
[null,null,null,null,null,9,null,0.1,null,false,0.1,false,false,false,false,false,false,false,false,false,false,false,0.1,false,false,false,false,false,false,false,false,false,false,false,0.1,false,false,false,false,false,false,false,false,false,false,false,0.1,false,false,false,false,false,false,false,false,false,false,false,0.1,false,false,false,false,false,false,false,false,false,false,false,0.1,false,false,false,false,false,false,false,false,false,false,false,0.1,false,false,false,false,false,{"$f":"IF(CK28,$H47)","v":false},false,false,false,false,false,0.1,false,false,false,false,false,false,false,false,false,false,false,0.1,false,false,false,false,false,false,false,false,false,false,false,0.1,false,false,false,false,false,false,false,false,false,false,false,0.1,false,false,false,false,false,false,false,false,false,false,false,0.1,false,false,false,false,false,false,false,false,false,{"$f":"IF(EW28,$H47)","v":false},false,0.1,false,false,false,false,false,false,false,false,false,false,false,0.1,false,false,false,false,false,false,false,false,false,false,false,0.1,false,false,false,false,false,false,false,false,false,false,false,0.1,false,false,false,false,false,false,false,false,false,false,false,0.1,false,false,false,false,false,false,false,false,false,false,false,0.1,false,false,false,false,false,false,false,false,false,false,false,0.1,false,false,false,false,false,false,false,false,false,false,false,0.1,false,false,false,false,false,false,false,false,false,false,false,0.1,false,false,false,false,false,false,false,false,false,false,false,0.1,false,false,false,{"$f":"IF(JG28,$H47)","v":false},false,false,false,false,false,false,false,0.1,false,false,false,false,false,false,false,false,false,false,false,0.1,false,false,false,false,false,false,false,false,false,false,false,0.1,false,false,false,false,false,false,false,false,false,false,false,0.1,false,false,false,false,false,false,false,false,false,false,false,0.1,false,false,false,false,false,false,false,false,false,false,{"$f":"IF(LV28,$H47)","v":false},0.1,false,false,false,false,false,false,false,false,false,false,false,0.1,false,false,false,false,false,false,false,false,false,false,false,0.1,false,false,false,false,false,false,false,false,false,false,false,0.1,false,false,false,false,false,false,false,false,false,false,false,0.1,false,false,false,false,false,false,false,false,false,false,false,0.1,false,false,false,false,false,false,false,false,false,false,false,0.1,false,false,false,false,false,false,false,false,false,false,false,0.1,false,false,false,false,false,false,false,false,false,false,false,0.1,false,false,false,false,false,false,false,false,false,false,false,0.1,false,false,false,false,false,false,false,false,false,false,false,0.1,false,false,false,false,false,false,{"$f":"IF(QT28,$H47)","v":false},false,false,false,false,0.1,false,false,false,false,false,false,false,false,false,false,false,0.1,false,false,false,false,false,false,false,false,false,false,false,0.1,false,false,false,false,false,false,false,false,false,false,false,0.1,false,false,false,false,false,false,false,false,false,false,false,0.1,false,false,false,false,false,false,false,false,false,false,false,0.1,false,false,false,false,false,false,false,false,false,false,false,0.1,false,false,false,false,false,false,false,false,false,false,false,0.1,false,false,false,false,false,false,false,false]
[null,null,null,null,null,10,null,0.08,null,false,false,0.08,false,false,false,false,false,false,false,false,false,false,false,0.08,false,{"$f":"IF(Z29,$H48)","v":false},false,false,false,false,false,false,false,false,false,0.08,false,false,false,false,false,false,false,false,false,false,false,0.08,false,false,false,false,false,false,false,false,false,false,false,0.08,false,false,false,false,false,false,false,false,false,false,false,0.08,false,false,false,false,false,false,false,false,false,false,false,0.08,false,false,false,false,false,false,false,false,false,false,false,0.08,false,false,false,false,false,false,false,false,false,false,false,0.08,false,false,false,false,false,false,false,false,false,false,false,0.08,false,false,false,false,false,false,false,false,false,false,false,0.08,false,false,false,false,false,false,false,false,false,false,false,0.08,false,false,false,false,false,false,false,false,false,false,false,0.08,false,false,false,false,false,false,false,false,false,false,false,0.08,false,false,false,false,false,false,false,false,false,false,false,0.08,false,false,false,false,false,false,false,false,false,false,false,0.08,false,false,false,false,false,false,false,false,false,false,false,0.08,false,false,false,false,false,false,false,false,false,false,false,0.08,false,false,false,false,false,false,false,false,false,false,false,0.08,false,false,false,false,false,false,false,false,false,false,false,0.08,false,false,false,false,false,false,false,false,false,false,false,0.08,false,false,false,false,false,false,false,false,false,false,false,0.08,false,false,false,false,false,false,false,false,false,false,false,0.08,false,false,false,false,false,false,false,false,false,false,false,0.08,false,false,false,false,false,false,false,false,false,false,false,0.08,false,false,false,false,false,false,false,false,false,false,false,0.08,false,false,false,false,false,false,false,false,false,false,false,0.08,false,false,false,false,false,false,false,false,{"$f":"IF(LU29,$H48)","v":false},false,false,0.08,false,false,false,false,false,false,false,false,false,false,false,0.08,false,false,false,false,false,false,false,false,false,false,false,0.08,false,false,false,false,false,false,false,false,false,false,false,0.08,false,false,false,false,false,false,false,false,false,false,false,0.08,false,false,false,false,false,false,false,false,false,false,false,0.08,false,false,false,false,false,false,false,false,false,false,false,0.08,false,false,false,false,false,false,false,false,false,false,false,0.08,false,false,false,false,false,false,false,false,false,false,false,0.08,false,false,false,false,false,false,false,false,false,false,false,0.08,false,false,false,false,false,false,false,false,false,false,false,0.08,false,false,false,false,{"$f":"IF(QS29,$H48)","v":false},false,false,false,false,false,false,0.08,false,false,false,false,false,false,false,false,false,false,false,0.08,false,false,false,false,false,false,false,false,false,false,false,0.08,false,false,false,false,false,false,false,false,false,false,false,0.08,false,false,false,false,false,false,false,false,false,false,false,0.08,false,false,false,false,false,false,false,false,false,false,false,0.08,false,false,false,false,false,false,false,false,false,false,false,0.08,false,false,false,false,false,false,false,false,false,false,false,0.08,false,false,false,false,false,false,false]
[null,null,null,null,null,11,null,0.05,null,false,false,false,0.05,false,false,false,false,false,false,false,false,false,false,false,0.05,false,false,false,false,false,false,false,false,false,false,false,0.05,false,false,false,false,false,false,false,false,false,false,false,0.05,false,false,false,false,false,false,false,false,false,false,false,0.05,false,false,false,false,false,false,false,false,false,false,false,0.05,false,false,false,false,false,false,false,false,false,false,false,0.05,false,false,false,false,false,false,false,false,false,false,false,0.05,false,false,false,false,false,false,false,false,false,false,false,0.05,false,false,false,false,false,false,false,false,false,false,false,0.05,false,false,false,false,false,false,false,false,false,false,false,0.05,false,false,false,false,false,false,false,false,false,false,false,0.05,false,false,false,false,false,false,false,false,false,false,false,0.05,false,false,false,false,false,false,false,false,false,false,false,0.05,false,false,false,false,false,false,false,false,false,false,false,0.05,false,false,false,false,false,false,false,false,false,false,false,0.05,false,false,false,false,false,false,false,false,false,false,false,0.05,false,false,false,false,false,false,false,false,false,false,false,0.05,false,false,false,false,false,false,false,false,false,false,false,0.05,false,false,false,false,false,false,false,false,false,false,false,0.05,false,false,false,false,false,false,false,false,false,false,false,0.05,false,false,false,false,false,false,false,false,false,false,false,0.05,false,false,false,false,false,false,false,false,false,false,false,0.05,false,false,false,false,false,false,false,false,false,false,false,0.05,false,false,false,false,false,false,false,false,false,false,false,0.05,false,false,false,false,false,false,false,false,false,false,false,0.05,false,false,false,false,false,false,false,false,false,false,false,0.05,false,false,false,false,false,false,false,false,false,false,false,0.05,false,false,false,false,false,false,false,false,false,false,false,0.05,false,false,false,false,false,false,false,false,false,false,false,0.05,false,false,false,false,false,false,false,false,false,false,false,0.05,false,false,false,false,false,false,false,false,false,false,false,0.05,false,false,false,false,false,false,false,false,false,false,false,0.05,false,false,false,false,false,false,false,false,false,false,false,0.05,false,false,false,false,false,false,false,false,false,false,false,0.05,false,false,false,false,false,false,false,false,false,false,false,0.05,false,false,false,false,false,false,false,false,false,false,false,0.05,false,false,false,false,false,false,false,false,false,false,false,0.05,false,false,false,false,false,false,false,false,false,false,false,0.05,false,false,false,false,false,false,false,false,false,false,false,0.05,false,false,false,false,false,false,false,false,false,false,false,0.05,false,false,false,false,false,false,false,false,false,false,false,0.05,false,false,false,false,false,false,false,false,false,false,false,0.05,false,false,false,false,false,false,false,false,false,{"$f":"IF(TG30,$H49)","v":false},false,0.05,false,false,false,false,false,false,false,false,false,false,false,0.05,false,false,false,false,false,false,false,false,false,false,false,0.05,false,false,false,false,false,false]
[null,null,null,null,null,12,null,0.04,null,false,false,false,false,0.04,false,false,false,false,false,false,false,false,false,false,false,0.04,false,false,false,false,false,false,false,false,false,false,false,0.04,false,false,false,false,false,false,false,false,false,false,false,0.04,false,false,false,false,false,false,false,false,false,false,false,0.04,false,false,false,false,false,false,false,false,false,false,false,0.04,false,false,false,false,false,false,false,false,false,false,false,0.04,false,false,false,false,false,false,false,false,false,false,false,0.04,false,false,false,false,false,false,false,false,false,false,false,0.04,false,false,false,false,false,false,false,false,false,false,false,0.04,false,false,false,false,false,false,false,false,false,false,false,0.04,false,false,false,false,false,false,false,false,false,false,false,0.04,false,false,false,false,false,false,false,false,false,false,false,0.04,false,false,false,false,false,false,false,false,false,false,false,0.04,false,false,false,false,false,false,false,false,false,false,false,0.04,false,false,false,false,false,false,false,false,false,false,false,0.04,false,false,false,false,false,false,false,false,false,false,false,0.04,false,false,false,false,false,false,false,false,false,{"$f":"IF(HH31,$H50)","v":false},false,0.04,false,false,false,false,false,false,false,false,false,false,false,0.04,false,false,false,false,false,false,false,false,false,false,false,0.04,false,false,false,false,false,false,false,false,false,false,false,0.04,false,false,false,false,false,false,false,false,false,false,false,0.04,false,false,false,false,false,false,false,false,false,false,false,0.04,false,false,false,false,false,false,false,false,false,false,false,0.04,false,false,false,false,false,false,false,false,false,false,false,0.04,false,false,false,false,false,false,false,false,false,false,false,0.04,false,false,false,false,false,false,false,false,false,false,false,0.04,false,false,false,false,false,false,false,false,false,false,false,0.04,false,false,false,false,false,false,false,false,false,false,false,0.04,false,false,false,false,false,false,false,false,false,false,false,0.04,false,false,false,false,false,false,false,false,false,false,false,0.04,false,false,false,false,false,false,false,false,false,false,false,0.04,false,false,false,false,false,false,false,false,false,false,false,0.04,false,{"$f":"IF(OJ31,$H50)","v":false},false,false,false,false,false,false,false,false,false,0.04,false,false,false,false,false,false,false,false,false,false,false,0.04,false,false,false,false,false,false,false,false,false,false,false,0.04,false,false,false,false,false,false,false,false,false,false,false,0.04,false,false,false,false,false,false,false,false,false,false,false,0.04,false,false,false,false,false,false,false,false,false,false,false,0.04,false,false,false,false,false,false,false,false,false,false,false,0.04,false,false,false,false,false,false,false,false,false,false,false,0.04,false,false,false,false,false,false,false,false,false,false,false,0.04,false,false,false,false,false,false,false,false,false,false,false,0.04,false,false,false,false,false,false,false,{"$f":"IF(TF31,$H50)","v":false},false,false,false,0.04,false,false,false,false,false,false,false,false,false,false,false,0.04,false,false,false,false,false,false,false,false,false,false,false,0.04,false,false,false,false,false]
[]
[null,null,null,null,null,"Total"]
[]
[null,null,null,null,null,"Percent of Annual",null,null,null,{"$f":"SUM(J39:J50)","v":0.13500000000000001},{"$f":"SUM(K39:K50)","v":0.1},0.08,0.05,0.04,0.04,0.05,6.5000000000000002E-2,8.5000000000000006E-2,0.09,0.125,0.14000000000000001,0.13500000000000001,0.1,0.08,0.05,0.04,0.04,0.05,6.5000000000000002E-2,8.5000000000000006E-2,0.09,0.125,0.14000000000000001,0.13500000000000001,0.1,0.08,0.05,0.04,0.04,0.05,6.5000000000000002E-2,8.5000000000000006E-2,0.09,0.125,0.14000000000000001,0.13500000000000001,0.1,0.08,0.05,0.04,0.04,0.05,6.5000000000000002E-2,8.5000000000000006E-2,0.09,0.125,0.14000000000000001,0.13500000000000001,0.1,0.08,0.05,0.04,0.04,0.05,6.5000000000000002E-2,8.5000000000000006E-2,0.09,0.125,0.14000000000000001,0.13500000000000001,0.1,0.08,0.05,0.04,{"$f":"SUM(BW39:BW50)","v":0.04},0.05,6.5000000000000002E-2,8.5000000000000006E-2,0.09,0.125,0.14000000000000001,0.13500000000000001,0.1,0.08,0.05,0.04,0.04,0.05,6.5000000000000002E-2,8.5000000000000006E-2,0.09,0.125,0.14000000000000001,0.13500000000000001,0.1,0.08,0.05,0.04,0.04,0.05,6.5000000000000002E-2,8.5000000000000006E-2,0.09,0.125,0.14000000000000001,0.13500000000000001,0.1,0.08,0.05,0.04,0.04,0.05,6.5000000000000002E-2,8.5000000000000006E-2,0.09,0.125,0.14000000000000001,0.13500000000000001,0.1,0.08,0.05,0.04,0.04,0.05,6.5000000000000002E-2,8.5000000000000006E-2,0.09,0.125,0.14000000000000001,0.13500000000000001,0.1,0.08,0.05,0.04,0.04,0.05,6.5000000000000002E-2,8.5000000000000006E-2,{"$f":"SUM(EI39:EI50)","v":0.09},0.125,0.14000000000000001,0.13500000000000001,0.1,0.08,0.05,0.04,0.04,0.05,6.5000000000000002E-2,8.5000000000000006E-2,0.09,0.125,0.14000000000000001,0.13500000000000001,0.1,0.08,0.05,0.04,0.04,0.05,6.5000000000000002E-2,8.5000000000000006E-2,0.09,0.125,0.14000000000000001,0.13500000000000001,0.1,0.08,0.05,0.04,0.04,0.05,6.5000000000000002E-2,8.5000000000000006E-2,0.09,0.125,0.14000000000000001,0.13500000000000001,0.1,0.08,0.05,0.04,0.04,0.05,6.5000000000000002E-2,8.5000000000000006E-2,0.09,0.125,0.14000000000000001,0.13500000000000001,0.1,0.08,0.05,0.04,0.04,0.05,6.5000000000000002E-2,8.5000000000000006E-2,0.09,0.125,0.14000000000000001,0.13500000000000001,{"$f":"SUM(GU39:GU50)","v":0.1},0.08,0.05,0.04,0.04,0.05,6.5000000000000002E-2,8.5000000000000006E-2,0.09,0.125,0.14000000000000001,0.13500000000000001,0.1,0.08,0.05,0.04,0.04,0.05,6.5000000000000002E-2,8.5000000000000006E-2,0.09,0.125,0.14000000000000001,0.13500000000000001,0.1,0.08,0.05,0.04,0.04,0.05,6.5000000000000002E-2,8.5000000000000006E-2,0.09,0.125,0.14000000000000001,0.13500000000000001,0.1,0.08,0.05,0.04,0.04,0.05,6.5000000000000002E-2,8.5000000000000006E-2,0.09,0.125,0.14000000000000001,0.13500000000000001,0.1,0.08,0.05,0.04,0.04,0.05,6.5000000000000002E-2,8.5000000000000006E-2,0.09,0.125,0.14000000000000001,0.13500000000000001,0.1,0.08,0.05,0.04,{"$f":"SUM(JG39:JG50)","v":0.04},0.05,6.5000000000000002E-2,8.5000000000000006E-2,0.09,0.125,0.14000000000000001,0.13500000000000001,0.1,0.08,0.05,0.04,0.04,0.05,6.5000000000000002E-2,8.5000000000000006E-2,0.09,0.125,0.14000000000000001,0.13500000000000001,0.1,0.08,0.05,0.04,0.04,0.05,6.5000000000000002E-2,8.5000000000000006E-2,0.09,0.125,0.14000000000000001,0.13500000000000001,0.1,0.08,0.05,0.04,0.04,0.05,6.5000000000000002E-2,8.5000000000000006E-2,0.09,0.125,0.14000000000000001,0.13500000000000001,0.1,0.08,0.05,0.04,0.04,0.05,6.5000000000000002E-2,8.5000000000000006E-2,0.09,0.125,0.14000000000000001,0.13500000000000001,0.1,0.08,0.05,0.04,0.04,0.05,6.5000000000000002E-2,8.5000000000000006E-2,{"$f":"SUM(LS39:LS50)","v":0.09},0.125,0.14000000000000001,0.13500000000000001,0.1,0.08,0.05,0.04,0.04,0.05,6.5000000000000002E-2,8.5000000000000006E-2,0.09,0.125,0.14000000000000001,0.13500000000000001,0.1,0.08,0.05,0.04,0.04,0.05,6.5000000000000002E-2,8.5000000000000006E-2,0.09,0.125,0.14000000000000001,0.13500000000000001,0.1,0.08,0.05,0.04,0.04,0.05,6.5000000000000002E-2,8.5000000000000006E-2,0.09,0.125,0.14000000000000001,0.13500000000000001,0.1,0.08,0.05,0.04,0.04,0.05,6.5000000000000002E-2,8.5000000000000006E-2,0.09,0.125,0.14000000000000001,0.13500000000000001,0.1,0.08,0.05,0.04,0.04,0.05,6.5000000000000002E-2,8.5000000000000006E-2,0.09,0.125,0.14000000000000001,0.13500000000000001,{"$f":"SUM(OE39:OE50)","v":0.1},0.08,0.05,0.04,0.04,0.05,6.5000000000000002E-2,8.5000000000000006E-2,0.09,0.125,0.14000000000000001,0.13500000000000001,0.1,0.08,0.05,0.04,0.04,0.05,6.5000000000000002E-2,8.5000000000000006E-2,0.09,0.125,0.14000000000000001,0.13500000000000001,0.1,0.08,0.05,0.04,0.04,0.05,6.5000000000000002E-2,8.5000000000000006E-2,0.09,0.125,0.14000000000000001,0.13500000000000001,0.1,0.08,0.05,0.04,0.04,0.05,6.5000000000000002E-2,8.5000000000000006E-2,0.09,0.125,0.14000000000000001,0.13500000000000001,0.1,0.08,0.05,0.04,0.04,0.05,6.5000000000000002E-2,8.5000000000000006E-2,0.09,0.125,0.14000000000000001,0.13500000000000001,0.1,0.08,0.05,0.04,{"$f":"SUM(QQ39:QQ50)","v":0.04},0.05,6.5000000000000002E-2,8.5000000000000006E-2,0.09,0.125,0.14000000000000001,0.13500000000000001,0.1,0.08,0.05,0.04,0.04,0.05,6.5000000000000002E-2,8.5000000000000006E-2,0.09,0.125,0.14000000000000001,0.13500000000000001,0.1,0.08,0.05,0.04,0.04,0.05,6.5000000000000002E-2,8.5000000000000006E-2,0.09,0.125,0.14000000000000001,0.13500000000000001,0.1,0.08,0.05,0.04,0.04,0.05,6.5000000000000002E-2,8.5000000000000006E-2,0.09,0.125,0.14000000000000001,0.13500000000000001,0.1,0.08,0.05,0.04,0.04,0.05,6.5000000000000002E-2,8.5000000000000006E-2,0.09,0.125,0.14000000000000001,0.13500000000000001,0.1,0.08,0.05,0.04,0.04,0.05,6.5000000000000002E-2,8.5000000000000006E-2,{"$f":"SUM(TC39:TC50)","v":0.09},0.125,0.14000000000000001,0.13500000000000001,0.1,0.08,0.05,0.04,0.04,0.05,6.5000000000000002E-2,8.5000000000000006E-2,0.09,0.125,0.14000000000000001,0.13500000000000001,0.1,0.08,0.05,0.04,0.04,0.05,6.5000000000000002E-2,8.5000000000000006E-2,0.09,0.125,0.14000000000000001,0.13500000000000001,0.1,0.08,0.05,0.04,0.04,0.05,6.5000000000000002E-2,8.5000000000000006E-2,0.09]

{"sheet":"Complex Time Line","index":11,"n_rows":20,"n_cols":1010,"rows_kept":20,"cut":false,"hidden":false,"merged":[]}
[]
[null,"Timeline",null,null,"Input Units","Constants","Constants","Sum","Model Units","Initial"]
[null,null,"Time Period",null,null,null,null,null,"Period",null,0,1,2,3,4,5,6,7,8,9,10,11,12,13,14,15,16,17,18,19,20,21,22,23,24,25,26,27,28,29,30,31,32,33,34,35,36,37,38,39,40,41,42,43,44,45,46,47,48,49,50,51,52,53,54,55,56,57,58,59,60,61,62,63,64,65,66,67,68,69,70,71,72,73,74,75,76,77,78,79,80,81,82,83,84,85,86,87,88,89,90,91,92,93,94,95,96,97,98,99,100,101,102,103,104,105,106,107,108,109,110,111,112,113,114,115,116,117,118,119,120,121,122,123,124,125,126,127,128,129,130,131,132,133,134,135,136,137,138,139,140,141,142,143,144,145,146,147,148,149,150,151,152,153,154,155,156,157,158,159,160,161,162,163,164,165,166,167,168,169,170,171,172,173,174,175,176,177,178,179,180,181,182,183,184,185,186,187,188,189,190,191,192,193,194,195,196,197,198,199,200,201,202,203,204,205,206,207,208,209,210,211,212,213,214,215,216,217,218,219,220,221,222,223,224,225,226,227,228,229,230,231,232,233,234,235,236,237,238,239,240,241,242,243,244,245,246,247,248,249,250,251,252,253,254,255,256,257,258,259,260,261,262,263,264,265,266,267,268,269,270,271,272,273,274,275,276,277,278,279,280,281,282,283,284,285,286,287,288,289,290,291,292,293,294,295,296,297,298,299,300,301,302,303,304,305,306,307,308,309,310,311,312,313,314,315,316,317,318,319,320,321,322,323,324,325,326,327,328,329,330,331,332,333,334,335,336,337,338,339,340,341,342,343,344,345,346,347,348,349,350,351,352,353,354,355,356,357,358,359,360,361,362,363,364,365,366,367,368,369,370,371,372,373,374,375,376,377,378,379,380,381,382,383,384,385,386,387,388,389,390,391,392,393,394,395,396,397,398,399,400,401,402,403,404,405,406,407,408,409,410,411,412,413,414,415,416,417,418,419,420,421,422,423,424,425,426,427,428,429,430,431,432,433,434,435,436,437,438,439,440,441,442,443,444,445,446,447,448,449,450,451,452,453,454,455,456,457,458,459,460,461,462,463,464,465,466,467,468,469,470,471,472,473,474,475,476,477,478,479,480,481,482,483,484,485,486,487,488,489,490,491,492,493,494,495,496,497,498,499,500,501,502,503,504,505,506,507,508,509,510,511,512,513,514,515,516,517,518,519,520,521,522,523,524,525,526,527,528,529,530,531,532,533,534,535,536,537,538,539,540,541,542,543,544,545,546,547,548,549,550,551,552,553,554,555,556,557,558,559,560,561,562,563,564,565,566,567,568,569,570,571,572,573,574,575,576,577,578,579,580,581,582,583,584,585,586,587,588,589,590,591,592,593,594,595,596,597,598,599,600,601,602,603,604,605,606,607,608,609,610,611,612,613,614,615,616,617,618,619,620,621,622,623,624,625,626,627,628,629,630,631,632,633,634,635,636,637,638,639,640,641,642,643,644,645,646,647,648,649,650,651,652,653,654,655,656,657,658,659,660,661,662,663,664,665,666,667,668,669,670,671,672,673,674,675,676,677,678,679,680,681,682,683,684,685,686,687,688,689,690,691,692,693,694,695,696,697,698,699,700,701,702,703,704,705,706,707,708,709,710,711,712,713,714,715,716,717,718,719,720,721,722,723,724,725,726,727,728,729,730,731,732,733,734,735,736,737,738,739,740,741,742,743,744,745,746,747,748,749,750,751,752,753,754,755,756,757,758,759,760,761,762,763,764,765,766,767,768,769,770,771,772,773,774,775,776,777,778,779,780,781,782,783,784,785,786,787,788,789,790,791,792,793,794,795,796,797,798,799,800,801,802,803,804,805,806,807,808,809,810,811,812,813,814,815,816,817,818,819,820,821,822,823,824,825,826,827,828,829,830,831,832,833,834,835,836,837,838,839,840,841,842,843,844,845,846,847,848,849,850,851,852,853,854,855,856,857,858,859,860,861,862,863,864,865,866,867,868,869,870,871,872,873,874,875,876,877,878,879,880,881,882,883,884,885,886,887,888,889,890,891,892,893,894,895,896,897,898,899,900,901,902,903,904,905,906,907,908,909,910,911,912,913,914,915,916,917,918,919,920,921,922,923,924,925,926,927,928,929,930,931,932,933,934,935,936,937,938,939,940,941,942,943,944,945,946,947,948,949,950,951,952,953,954,955,956,957,958,959,960,961,962,963,964,965,966,967,968,969,970,971,972,973,974,975,976,977,978,979,980,981,982,983,984,985,986,987,988,989,990,991,992,993,994,995,996,997,998,999]
[null,null,"Days in Period",null,null,null,null,null,"Days",null,{"$f":"K10-K9+1","v":18},{"$f":"L10-L9+1","v":30},31,30,31,31,28,31,30,31,30,31,31,30,31,30,31,31,29,31,30,31,30,31,31,30,31,30,31,31,28,31,30,31,30,31,31,30,31,30,31,31,28,31,30,31,30,31,31,30,31,30,31,31,28,31,30,31,30,31,31,30,31,30,31,{"$f":"BX10-BX9+1","v":31},29,31,30,31,30,31,31,30,31,30,31,31,28,31,30,31,30,31,31,30,31,30,31,31,28,31,30,31,30,31,31,30,31,30,31,31,28,31,30,31,30,31,31,30,31,30,31,31,29,31,30,31,30,31,31,30,31,30,31,31,28,31,30,{"$f":"EJ10-EJ9+1","v":31},30,31,31,30,31,30,31,31,28,31,30,31,30,31,31,30,31,30,31,31,28,31,30,31,30,31,31,30,31,30,31,31,29,31,30,31,30,31,31,30,31,30,31,31,28,31,30,31,30,31,31,30,31,30,31,31,28,31,30,31,30,31,31,{"$f":"GV10-GV9+1","v":30},31,30,31,31,28,31,30,31,30,31,31,30,31,30,31,31,29,31,30,31,30,31,31,30,31,30,31,31,28,31,30,31,30,31,31,30,31,30,31,31,28,31,30,31,30,31,31,30,31,30,31,31,28,31,30,31,30,31,31,30,31,30,31,{"$f":"JH10-JH9+1","v":31},29,31,30,31,30,31,31,30,31,30,31,31,28,31,30,31,30,31,31,30,31,30,31,31,28,31,30,31,30,31,31,30,31,30,31,31,28,31,30,31,30,31,31,30,31,30,31,31,29,31,30,31,30,31,31,30,31,30,31,31,28,31,30,{"$f":"LT10-LT9+1","v":31},30,31,31,30,31,30,31,31,28,31,30,31,30,31,31,30,31,30,31,31,28,31,30,31,30,31,31,30,31,30,31,31,29,31,30,31,30,31,31,30,31,30,31,31,28,31,30,31,30,31,31,30,31,30,31,31,28,31,30,31,30,31,31,{"$f":"OF10-OF9+1","v":30},31,30,31,31,28,31,30,31,30,31,31,30,31,30,31,31,29,31,30,31,30,31,31,30,31,30,31,31,28,31,30,31,30,31,31,30,31,30,31,31,28,31,30,31,30,31,31,30,31,30,31,31,28,31,30,31,30,31,31,30,31,30,31,{"$f":"QR10-QR9+1","v":31},29,31,30,31,30,31,31,30,31,30,31,31,28,31,30,31,30,31,31,30,31,30,31,31,28,31,30,31,30,31,31,30,31,30,31,31,28,31,30,31,30,31,31,30,31,30,31,31,29,31,30,31,30,31,31,30,31,30,31,31,28,31,30,{"$f":"TD10-TD9+1","v":31},30,31,31,30,31,30,31,31,28,31,30,31,30,31,31,30,31,30,31,31,28,31,30,31,30,31,31,30,31,30,31,31,29,31,30,31,30,31,31,30,31,30,31,31,28,31,30,31,30,31,31,30,31,30,31,31,28,31,30,31,30,31,31,{"$f":"VP10-VP9+1","v":30},31,30,31,31,28,31,30,31,30,31,31,30,31,30,31,31,29,31,30,31,30,31,31,30,31,30,31,31,28,31,30,31,30,31,31,30,31,30,31,31,28,31,30,31,30,31,31,30,31,30,31,31,28,31,30,31,30,31,31,30,31,30,31,{"$f":"YB10-YB9+1","v":31},29,31,30,31,30,31,31,30,31,30,31,31,28,31,30,31,30,31,31,30,31,30,31,31,28,31,30,31,30,31,31,30,31,30,31,31,28,31,30,31,30,31,31,30,31,30,31,31,29,31,30,31,30,31,31,30,31,30,31,31,28,31,30,{"$f":"AAN10-AAN9+1","v":31},30,31,31,30,31,30,31,31,28,31,30,31,30,31,31,30,31,30,31,31,28,31,30,31,30,31,31,30,31,30,31,31,29,31,30,31,30,31,31,30,31,30,31,31,28,31,30,31,30,31,31,30,31,30,31,31,28,31,30,31,30,31,31,{"$f":"ACZ10-ACZ9+1","v":30},31,30,31,31,28,31,30,31,30,31,31,30,31,30,31,31,29,31,30,31,30,31,31,30,31,30,31,31,28,31,30,31,30,31,31,30,31,30,31,31,28,31,30,31,30,31,31,30,31,30,31,31,28,31,30,31,30,31,31,30,31,30,31,{"$f":"AFL10-AFL9+1","v":31},29,31,30,31,30,31,31,30,31,30,31,31,28,31,30,31,30,31,31,30,31,30,31,31,28,31,30,31,30,31,31,30,31,30,31,31,28,31,30,31,30,31,31,30,31,30,31,31,28,31,30,31,30,31,31,30,31,30,31,31,28,31,30,{"$f":"AHX10-AHX9+1","v":31},30,31,31,30,31,30,31,31,28,31,30,31,30,31,31,30,31,30,31,31,28,31,30,31,30,31,31,30,31,30,31,31,29,31,30,31,30,31,31,30,31,30,31,31,28,31,30,31,30,31,31,30,31,30,31,31,28,31,30,31,30,31,31,{"$f":"AKJ10-AKJ9+1","v":30},31,30,31,31,28,31,30,31,30,31,31,30,31,30,31,31,29,31,30,31,30,31,31,30,31,30,31,31,28,31,30,31,30,31,31,30,31,30]
[null,null,"Accumulated Days",null,null,null,null,null,"Counter",null,{"$f":"J5+J4","v":0},{"$f":"K5+K4","v":18},48,79,109,140,171,199,230,260,291,321,352,383,413,444,474,505,536,565,596,626,657,687,718,749,779,810,840,871,902,930,961,991,1022,1052,1083,1114,1144,1175,1205,1236,1267,1295,1326,1356,1387,1417,1448,1479,1509,1540,1570,1601,1632,1660,1691,1721,1752,1782,1813,1844,1874,1905,1935,{"$f":"BW5+BW4","v":1966},1997,2026,2057,2087,2118,2148,2179,2210,2240,2271,2301,2332,2363,2391,2422,2452,2483,2513,2544,2575,2605,2636,2666,2697,2728,2756,2787,2817,2848,2878,2909,2940,2970,3001,3031,3062,3093,3121,3152,3182,3213,3243,3274,3305,3335,3366,3396,3427,3458,3487,3518,3548,3579,3609,3640,3671,3701,3732,3762,3793,3824,3852,3883,{"$f":"EI5+EI4","v":3913},3944,3974,4005,4036,4066,4097,4127,4158,4189,4217,4248,4278,4309,4339,4370,4401,4431,4462,4492,4523,4554,4582,4613,4643,4674,4704,4735,4766,4796,4827,4857,4888,4919,4948,4979,5009,5040,5070,5101,5132,5162,5193,5223,5254,5285,5313,5344,5374,5405,5435,5466,5497,5527,5558,5588,5619,5650,5678,5709,5739,5770,5800,5831,{"$f":"GU5+GU4","v":5862},5892,5923,5953,5984,6015,6043,6074,6104,6135,6165,6196,6227,6257,6288,6318,6349,6380,6409,6440,6470,6501,6531,6562,6593,6623,6654,6684,6715,6746,6774,6805,6835,6866,6896,6927,6958,6988,7019,7049,7080,7111,7139,7170,7200,7231,7261,7292,7323,7353,7384,7414,7445,7476,7504,7535,7565,7596,7626,7657,7688,7718,7749,7779,{"$f":"JG5+JG4","v":7810},7841,7870,7901,7931,7962,7992,8023,8054,8084,8115,8145,8176,8207,8235,8266,8296,8327,8357,8388,8419,8449,8480,8510,8541,8572,8600,8631,8661,8692,8722,8753,8784,8814,8845,8875,8906,8937,8965,8996,9026,9057,9087,9118,9149,9179,9210,9240,9271,9302,9331,9362,9392,9423,9453,9484,9515,9545,9576,9606,9637,9668,9696,9727,{"$f":"LS5+LS4","v":9757},9788,9818,9849,9880,9910,9941,9971,10002,10033,10061,10092,10122,10153,10183,10214,10245,10275,10306,10336,10367,10398,10426,10457,10487,10518,10548,10579,10610,10640,10671,10701,10732,10763,10792,10823,10853,10884,10914,10945,10976,11006,11037,11067,11098,11129,11157,11188,11218,11249,11279,11310,11341,11371,11402,11432,11463,11494,11522,11553,11583,11614,11644,11675,{"$f":"OE5+OE4","v":11706},11736,11767,11797,11828,11859,11887,11918,11948,11979,12009,12040,12071,12101,12132,12162,12193,12224,12253,12284,12314,12345,12375,12406,12437,12467,12498,12528,12559,12590,12618,12649,12679,12710,12740,12771,12802,12832,12863,12893,12924,12955,12983,13014,13044,13075,13105,13136,13167,13197,13228,13258,13289,13320,13348,13379,13409,13440,13470,13501,13532,13562,13593,13623,{"$f":"QQ5+QQ4","v":13654},13685,13714,13745,13775,13806,13836,13867,13898,13928,13959,13989,14020,14051,14079,14110,14140,14171,14201,14232,14263,14293,14324,14354,14385,14416,14444,14475,14505,14536,14566,14597,14628,14658,14689,14719,14750,14781,14809,14840,14870,14901,14931,14962,14993,15023,15054,15084,15115,15146,15175,15206,15236,15267,15297,15328,15359,15389,15420,15450,15481,15512,15540,15571,{"$f":"TC5+TC4","v":15601},15632,15662,15693,15724,15754,15785,15815,15846,15877,15905,15936,15966,15997,16027,16058,16089,16119,16150,16180,16211,16242,16270,16301,16331,16362,16392,16423,16454,16484,16515,16545,16576,16607,16636,16667,16697,16728,16758,16789,16820,16850,16881,16911,16942,16973,17001,17032,17062,17093,17123,17154,17185,17215,17246,17276,17307,17338,17366,17397,17427,17458,17488,17519,{"$f":"VO5+VO4","v":17550},17580,17611,17641,17672,17703,17731,17762,17792,17823,17853,17884,17915,17945,17976,18006,18037,18068,18097,18128,18158,18189,18219,18250,18281,18311,18342,18372,18403,18434,18462,18493,18523,18554,18584,18615,18646,18676,18707,18737,18768,18799,18827,18858,18888,18919,18949,18980,19011,19041,19072,19102,19133,19164,19192,19223,19253,19284,19314,19345,19376,19406,19437,19467,{"$f":"YA5+YA4","v":19498},19529,19558,19589,19619,19650,19680,19711,19742,19772,19803,19833,19864,19895,19923,19954,19984,20015,20045,20076,20107,20137,20168,20198,20229,20260,20288,20319,20349,20380,20410,20441,20472,20502,20533,20563,20594,20625,20653,20684,20714,20745,20775,20806,20837,20867,20898,20928,20959,20990,21019,21050,21080,21111,21141,21172,21203,21233,21264,21294,21325,21356,21384,21415,{"$f":"AAM5+AAM4","v":21445},21476,21506,21537,21568,21598,21629,21659,21690,21721,21749,21780,21810,21841,21871,21902,21933,21963,21994,22024,22055,22086,22114,22145,22175,22206,22236,22267,22298,22328,22359,22389,22420,22451,22480,22511,22541,22572,22602,22633,22664,22694,22725,22755,22786,22817,22845,22876,22906,22937,22967,22998,23029,23059,23090,23120,23151,23182,23210,23241,23271,23302,23332,23363,{"$f":"ACY5+ACY4","v":23394},23424,23455,23485,23516,23547,23575,23606,23636,23667,23697,23728,23759,23789,23820,23850,23881,23912,23941,23972,24002,24033,24063,24094,24125,24155,24186,24216,24247,24278,24306,24337,24367,24398,24428,24459,24490,24520,24551,24581,24612,24643,24671,24702,24732,24763,24793,24824,24855,24885,24916,24946,24977,25008,25036,25067,25097,25128,25158,25189,25220,25250,25281,25311,{"$f":"AFK5+AFK4","v":25342},25373,25402,25433,25463,25494,25524,25555,25586,25616,25647,25677,25708,25739,25767,25798,25828,25859,25889,25920,25951,25981,26012,26042,26073,26104,26132,26163,26193,26224,26254,26285,26316,26346,26377,26407,26438,26469,26497,26528,26558,26589,26619,26650,26681,26711,26742,26772,26803,26834,26862,26893,26923,26954,26984,27015,27046,27076,27107,27137,27168,27199,27227,27258,{"$f":"AHW5+AHW4","v":27288},27319,27349,27380,27411,27441,27472,27502,27533,27564,27592,27623,27653,27684,27714,27745,27776,27806,27837,27867,27898,27929,27957,27988,28018,28049,28079,28110,28141,28171,28202,28232,28263,28294,28323,28354,28384,28415,28445,28476,28507,28537,28568,28598,28629,28660,28688,28719,28749,28780,28810,28841,28872,28902,28933,28963,28994,29025,29053,29084,29114,29145,29175,29206,{"$f":"AKI5+AKI4","v":29237},29267,29298,29328,29359,29390,29418,29449,29479,29510,29540,29571,29602,29632,29663,29693,29724,29755,29784,29815,29845,29876,29906,29937,29968,29998,30029,30059,30090,30121,30149,30180,30210,30241,30271,30302,30333,30363,30394]
[null,null,"Construction Period",null,"Total Days",{"$f":"'InputC Partial Month'!$F$12","v":729},null,null,"Flag",null,{"$f":"(K5<=$F$6)*1","v":1},{"$f":"(L5<=$F$6)*1","v":1},1,1,1,1,1,1,1,1,1,1,1,1,1,1,1,1,1,1,1,1,1,1,1,0,0,0,0,0,0,0,0,0,0,0,0,0,0,0,0,0,0,0,0,0,0,0,0,0,0,0,0,0,0,0,0,0,0,0,0,0,0,0,{"$f":"(BW5<=$F$6)*1","v":0},0,0,0,0,0,0,0,0,0,0,0,0,0,0,0,0,0,0,0,0,0,0,0,0,0,0,0,0,0,0,0,0,0,0,0,0,0,0,0,0,0,0,0,0,0,0,0,0,0,0,0,0,0,0,0,0,0,0,0,0,0,0,0,{"$f":"(EI5<=$F$6)*1","v":0},0,0,0,0,0,0,0,0,0,0,0,0,0,0,0,0,0,0,0,0,0,0,0,0,0,0,0,0,0,0,0,0,0,0,0,0,0,0,0,0,0,0,0,0,0,0,0,0,0,0,0,0,0,0,0,0,0,0,0,0,0,0,0,{"$f":"(GU5<=$F$6)*1","v":0},0,0,0,0,0,0,0,0,0,0,0,0,0,0,0,0,0,0,0,0,0,0,0,0,0,0,0,0,0,0,0,0,0,0,0,0,0,0,0,0,0,0,0,0,0,0,0,0,0,0,0,0,0,0,0,0,0,0,0,0,0,0,0,{"$f":"(JG5<=$F$6)*1","v":0},0,0,0,0,0,0,0,0,0,0,0,0,0,0,0,0,0,0,0,0,0,0,0,0,0,0,0,0,0,0,0,0,0,0,0,0,0,0,0,0,0,0,0,0,0,0,0,0,0,0,0,0,0,0,0,0,0,0,0,0,0,0,0,{"$f":"(LS5<=$F$6)*1","v":0},0,0,0,0,0,0,0,0,0,0,0,0,0,0,0,0,0,0,0,0,0,0,0,0,0,0,0,0,0,0,0,0,0,0,0,0,0,0,0,0,0,0,0,0,0,0,0,0,0,0,0,0,0,0,0,0,0,0,0,0,0,0,0,{"$f":"(OE5<=$F$6)*1","v":0},0,0,0,0,0,0,0,0,0,0,0,0,0,0,0,0,0,0,0,0,0,0,0,0,0,0,0,0,0,0,0,0,0,0,0,0,0,0,0,0,0,0,0,0,0,0,0,0,0,0,0,0,0,0,0,0,0,0,0,0,0,0,0,{"$f":"(QQ5<=$F$6)*1","v":0},0,0,0,0,0,0,0,0,0,0,0,0,0,0,0,0,0,0,0,0,0,0,0,0,0,0,0,0,0,0,0,0,0,0,0,0,0,0,0,0,0,0,0,0,0,0,0,0,0,0,0,0,0,0,0,0,0,0,0,0,0,0,0,{"$f":"(TC5<=$F$6)*1","v":0},0,0,0,0,0,0,0,0,0,0,0,0,0,0,0,0,0,0,0,0,0,0,0,0,0,0,0,0,0,0,0,0,0,0,0,0,0,0,0,0,0,0,0,0,0,0,0,0,0,0,0,0,0,0,0,0,0,0,0,0,0,0,0,{"$f":"(VO5<=$F$6)*1","v":0},0,0,0,0,0,0,0,0,0,0,0,0,0,0,0,0,0,0,0,0,0,0,0,0,0,0,0,0,0,0,0,0,0,0,0,0,0,0,0,0,0,0,0,0,0,0,0,0,0,0,0,0,0,0,0,0,0,0,0,0,0,0,0,{"$f":"(YA5<=$F$6)*1","v":0},0,0,0,0,0,0,0,0,0,0,0,0,0,0,0,0,0,0,0,0,0,0,0,0,0,0,0,0,0,0,0,0,0,0,0,0,0,0,0,0,0,0,0,0,0,0,0,0,0,0,0,0,0,0,0,0,0,0,0,0,0,0,0,{"$f":"(AAM5<=$F$6)*1","v":0},0,0,0,0,0,0,0,0,0,0,0,0,0,0,0,0,0,0,0,0,0,0,0,0,0,0,0,0,0,0,0,0,0,0,0,0,0,0,0,0,0,0,0,0,0,0,0,0,0,0,0,0,0,0,0,0,0,0,0,0,0,0,0,{"$f":"(ACY5<=$F$6)*1","v":0},0,0,0,0,0,0,0,0,0,0,0,0,0,0,0,0,0,0,0,0,0,0,0,0,0,0,0,0,0,0,0,0,0,0,0,0,0,0,0,0,0,0,0,0,0,0,0,0,0,0,0,0,0,0,0,0,0,0,0,0,0,0,0,{"$f":"(AFK5<=$F$6)*1","v":0},0,0,0,0,0,0,0,0,0,0,0,0,0,0,0,0,0,0,0,0,0,0,0,0,0,0,0,0,0,0,0,0,0,0,0,0,0,0,0,0,0,0,0,0,0,0,0,0,0,0,0,0,0,0,0,0,0,0,0,0,0,0,0,{"$f":"(AHW5<=$F$6)*1","v":0},0,0,0,0,0,0,0,0,0,0,0,0,0,0,0,0,0,0,0,0,0,0,0,0,0,0,0,0,0,0,0,0,0,0,0,0,0,0,0,0,0,0,0,0,0,0,0,0,0,0,0,0,0,0,0,0,0,0,0,0,0,0,0,{"$f":"(AKI5<=$F$6)*1","v":0},0,0,0,0,0,0,0,0,0,0,0,0,0,0,0,0,0,0,0,0,0,0,0,0,0,0,0,0,0,0,0,0,0,0,0,0,0,0,0]
[null,null,"Final Construction Period",null,"Total Days",{"$f":"'InputC Partial Month'!$F$12","v":729},null,{"$f":"SUM(K7:XFD7)","v":1},"Flag",null,{"$f":"(AND(K5<=$F$7,L5>$F$7))*1","v":0},{"$f":"(AND(L5<=$F$7,M5>$F$7))*1","v":0},0,0,0,0,0,0,0,0,0,0,0,0,0,0,0,0,0,0,0,0,0,0,1,0,0,0,0,0,0,0,0,0,0,0,0,0,0,0,0,0,0,0,0,0,0,0,0,0,0,0,0,0,0,0,0,0,0,0,0,0,0,0,0,{"$f":"(AND(BX5<=$F$7,BY5>$F$7))*1","v":0},0,0,0,0,0,0,0,0,0,0,0,0,0,0,0,0,0,0,0,0,0,0,0,0,0,0,0,0,0,0,0,0,0,0,0,0,0,0,0,0,0,0,0,0,0,0,0,0,0,0,0,0,0,0,0,0,0,0,0,0,0,0,0,{"$f":"(AND(EJ5<=$F$7,EK5>$F$7))*1","v":0},0,0,0,0,0,0,0,0,0,0,0,0,0,0,0,0,0,0,0,0,0,0,0,0,0,0,0,0,0,0,0,0,0,0,0,0,0,0,0,0,0,0,0,0,0,0,0,0,0,0,0,0,0,0,0,0,0,0,0,0,0,0,0,{"$f":"(AND(GV5<=$F$7,GW5>$F$7))*1","v":0},0,0,0,0,0,0,0,0,0,0,0,0,0,0,0,0,0,0,0,0,0,0,0,0,0,0,0,0,0,0,0,0,0,0,0,0,0,0,0,0,0,0,0,0,0,0,0,0,0,0,0,0,0,0,0,0,0,0,0,0,0,0,0,{"$f":"(AND(JH5<=$F$7,JI5>$F$7))*1","v":0},0,0,0,0,0,0,0,0,0,0,0,0,0,0,0,0,0,0,0,0,0,0,0,0,0,0,0,0,0,0,0,0,0,0,0,0,0,0,0,0,0,0,0,0,0,0,0,0,0,0,0,0,0,0,0,0,0,0,0,0,0,0,0,{"$f":"(AND(LT5<=$F$7,LU5>$F$7))*1","v":0},0,0,0,0,0,0,0,0,0,0,0,0,0,0,0,0,0,0,0,0,0,0,0,0,0,0,0,0,0,0,0,0,0,0,0,0,0,0,0,0,0,0,0,0,0,0,0,0,0,0,0,0,0,0,0,0,0,0,0,0,0,0,0,{"$f":"(AND(OF5<=$F$7,OG5>$F$7))*1","v":0},0,0,0,0,0,0,0,0,0,0,0,0,0,0,0,0,0,0,0,0,0,0,0,0,0,0,0,0,0,0,0,0,0,0,0,0,0,0,0,0,0,0,0,0,0,0,0,0,0,0,0,0,0,0,0,0,0,0,0,0,0,0,0,{"$f":"(AND(QR5<=$F$7,QS5>$F$7))*1","v":0},0,0,0,0,0,0,0,0,0,0,0,0,0,0,0,0,0,0,0,0,0,0,0,0,0,0,0,0,0,0,0,0,0,0,0,0,0,0,0,0,0,0,0,0,0,0,0,0,0,0,0,0,0,0,0,0,0,0,0,0,0,0,0,{"$f":"(AND(TD5<=$F$7,TE5>$F$7))*1","v":0},0,0,0,0,0,0,0,0,0,0,0,0,0,0,0,0,0,0,0,0,0,0,0,0,0,0,0,0,0,0,0,0,0,0,0,0,0,0,0,0,0,0,0,0,0,0,0,0,0,0,0,0,0,0,0,0,0,0,0,0,0,0,0,{"$f":"(AND(VP5<=$F$7,VQ5>$F$7))*1","v":0},0,0,0,0,0,0,0,0,0,0,0,0,0,0,0,0,0,0,0,0,0,0,0,0,0,0,0,0,0,0,0,0,0,0,0,0,0,0,0,0,0,0,0,0,0,0,0,0,0,0,0,0,0,0,0,0,0,0,0,0,0,0,0,{"$f":"(AND(YB5<=$F$7,YC5>$F$7))*1","v":0},0,0,0,0,0,0,0,0,0,0,0,0,0,0,0,0,0,0,0,0,0,0,0,0,0,0,0,0,0,0,0,0,0,0,0,0,0,0,0,0,0,0,0,0,0,0,0,0,0,0,0,0,0,0,0,0,0,0,0,0,0,0,0,{"$f":"(AND(AAN5<=$F$7,AAO5>$F$7))*1","v":0},0,0,0,0,0,0,0,0,0,0,0,0,0,0,0,0,0,0,0,0,0,0,0,0,0,0,0,0,0,0,0,0,0,0,0,0,0,0,0,0,0,0,0,0,0,0,0,0,0,0,0,0,0,0,0,0,0,0,0,0,0,0,0,{"$f":"(AND(ACZ5<=$F$7,ADA5>$F$7))*1","v":0},0,0,0,0,0,0,0,0,0,0,0,0,0,0,0,0,0,0,0,0,0,0,0,0,0,0,0,0,0,0,0,0,0,0,0,0,0,0,0,0,0,0,0,0,0,0,0,0,0,0,0,0,0,0,0,0,0,0,0,0,0,0,0,{"$f":"(AND(AFL5<=$F$7,AFM5>$F$7))*1","v":0},0,0,0,0,0,0,0,0,0,0,0,0,0,0,0,0,0,0,0,0,0,0,0,0,0,0,0,0,0,0,0,0,0,0,0,0,0,0,0,0,0,0,0,0,0,0,0,0,0,0,0,0,0,0,0,0,0,0,0,0,0,0,0,{"$f":"(AND(AHX5<=$F$7,AHY5>$F$7))*1","v":0},0,0,0,0,0,0,0,0,0,0,0,0,0,0,0,0,0,0,0,0,0,0,0,0,0,0,0,0,0,0,0,0,0,0,0,0,0,0,0,0,0,0,0,0,0,0,0,0,0,0,0,0,0,0,0,0,0,0,0,0,0,0,0,{"$f":"(AND(AKJ5<=$F$7,AKK5>$F$7))*1","v":0},0,0,0,0,0,0,0,0,0,0,0,0,0,0,0,0,0,0,0,0,0,0,0,0,0,0,0,0,0,0,0,0,0,0,0,0,0,0]
[null,null,"Months in Period",null,"Periods",{"$f":"'InputC Partial Month'!F15","v":1},{"$f":"'InputC Partial Month'!F16","v":1},{"$f":"SUM(K8:XFD8)","v":1000},"Flag",null,{"$f":"IF(K6,$F$8,$G$8)","v":1},{"$f":"IF(L6,$F$8,$G$8)","v":1},1,1,1,1,1,1,1,1,1,1,1,1,1,1,1,1,1,1,1,1,1,1,1,1,1,1,1,1,1,1,1,1,1,1,1,1,1,1,1,1,1,1,1,1,1,1,1,1,1,1,1,1,1,1,1,1,1,1,1,1,1,1,{"$f":"IF(BW6,$F$8,$G$8)","v":1},1,1,1,1,1,1,1,1,1,1,1,1,1,1,1,1,1,1,1,1,1,1,1,1,1,1,1,1,1,1,1,1,1,1,1,1,1,1,1,1,1,1,1,1,1,1,1,1,1,1,1,1,1,1,1,1,1,1,1,1,1,1,1,{"$f":"IF(EI6,$F$8,$G$8)","v":1},1,1,1,1,1,1,1,1,1,1,1,1,1,1,1,1,1,1,1,1,1,1,1,1,1,1,1,1,1,1,1,1,1,1,1,1,1,1,1,1,1,1,1,1,1,1,1,1,1,1,1,1,1,1,1,1,1,1,1,1,1,1,1,{"$f":"IF(GU6,$F$8,$G$8)","v":1},1,1,1,1,1,1,1,1,1,1,1,1,1,1,1,1,1,1,1,1,1,1,1,1,1,1,1,1,1,1,1,1,1,1,1,1,1,1,1,1,1,1,1,1,1,1,1,1,1,1,1,1,1,1,1,1,1,1,1,1,1,1,1,{"$f":"IF(JG6,$F$8,$G$8)","v":1},1,1,1,1,1,1,1,1,1,1,1,1,1,1,1,1,1,1,1,1,1,1,1,1,1,1,1,1,1,1,1,1,1,1,1,1,1,1,1,1,1,1,1,1,1,1,1,1,1,1,1,1,1,1,1,1,1,1,1,1,1,1,1,{"$f":"IF(LS6,$F$8,$G$8)","v":1},1,1,1,1,1,1,1,1,1,1,1,1,1,1,1,1,1,1,1,1,1,1,1,1,1,1,1,1,1,1,1,1,1,1,1,1,1,1,1,1,1,1,1,1,1,1,1,1,1,1,1,1,1,1,1,1,1,1,1,1,1,1,1,{"$f":"IF(OE6,$F$8,$G$8)","v":1},1,1,1,1,1,1,1,1,1,1,1,1,1,1,1,1,1,1,1,1,1,1,1,1,1,1,1,1,1,1,1,1,1,1,1,1,1,1,1,1,1,1,1,1,1,1,1,1,1,1,1,1,1,1,1,1,1,1,1,1,1,1,1,{"$f":"IF(QQ6,$F$8,$G$8)","v":1},1,1,1,1,1,1,1,1,1,1,1,1,1,1,1,1,1,1,1,1,1,1,1,1,1,1,1,1,1,1,1,1,1,1,1,1,1,1,1,1,1,1,1,1,1,1,1,1,1,1,1,1,1,1,1,1,1,1,1,1,1,1,1,{"$f":"IF(TC6,$F$8,$G$8)","v":1},1,1,1,1,1,1,1,1,1,1,1,1,1,1,1,1,1,1,1,1,1,1,1,1,1,1,1,1,1,1,1,1,1,1,1,1,1,1,1,1,1,1,1,1,1,1,1,1,1,1,1,1,1,1,1,1,1,1,1,1,1,1,1,{"$f":"IF(VO6,$F$8,$G$8)","v":1},1,1,1,1,1,1,1,1,1,1,1,1,1,1,1,1,1,1,1,1,1,1,1,1,1,1,1,1,1,1,1,1,1,1,1,1,1,1,1,1,1,1,1,1,1,1,1,1,1,1,1,1,1,1,1,1,1,1,1,1,1,1,1,{"$f":"IF(YA6,$F$8,$G$8)","v":1},1,1,1,1,1,1,1,1,1,1,1,1,1,1,1,1,1,1,1,1,1,1,1,1,1,1,1,1,1,1,1,1,1,1,1,1,1,1,1,1,1,1,1,1,1,1,1,1,1,1,1,1,1,1,1,1,1,1,1,1,1,1,1,{"$f":"IF(AAM6,$F$8,$G$8)","v":1},1,1,1,1,1,1,1,1,1,1,1,1,1,1,1,1,1,1,1,1,1,1,1,1,1,1,1,1,1,1,1,1,1,1,1,1,1,1,1,1,1,1,1,1,1,1,1,1,1,1,1,1,1,1,1,1,1,1,1,1,1,1,1,{"$f":"IF(ACY6,$F$8,$G$8)","v":1},1,1,1,1,1,1,1,1,1,1,1,1,1,1,1,1,1,1,1,1,1,1,1,1,1,1,1,1,1,1,1,1,1,1,1,1,1,1,1,1,1,1,1,1,1,1,1,1,1,1,1,1,1,1,1,1,1,1,1,1,1,1,1,{"$f":"IF(AFK6,$F$8,$G$8)","v":1},1,1,1,1,1,1,1,1,1,1,1,1,1,1,1,1,1,1,1,1,1,1,1,1,1,1,1,1,1,1,1,1,1,1,1,1,1,1,1,1,1,1,1,1,1,1,1,1,1,1,1,1,1,1,1,1,1,1,1,1,1,1,1,{"$f":"IF(AHW6,$F$8,$G$8)","v":1},1,1,1,1,1,1,1,1,1,1,1,1,1,1,1,1,1,1,1,1,1,1,1,1,1,1,1,1,1,1,1,1,1,1,1,1,1,1,1,1,1,1,1,1,1,1,1,1,1,1,1,1,1,1,1,1,1,1,1,1,1,1,1,{"$f":"IF(AKI6,$F$8,$G$8)","v":1},1,1,1,1,1,1,1,1,1,1,1,1,1,1,1,1,1,1,1,1,1,1,1,1,1,1,1,1,1,1,1,1,1,1,1,1,1,1,1]
[null,null,"Start of period",null,"Date",null,null,null,"Date",null,{"$f":"J10+1","v":"2026-08-14"},{"$f":"K10+1","v":"2026-09-01"},"2026-10-01","2026-11-01","2026-12-01","2027-01-01","2027-02-01","2027-03-01","2027-04-01","2027-05-01","2027-06-01","2027-07-01","2027-08-01","2027-09-01","2027-10-01","2027-11-01","2027-12-01","2028-01-01","2028-02-01","2028-03-01","2028-04-01","2028-05-01","2028-06-01","2028-07-01","2028-08-01","2028-09-01","2028-10-01","2028-11-01","2028-12-01","2029-01-01","2029-02-01","2029-03-01","2029-04-01","2029-05-01","2029-06-01","2029-07-01","2029-08-01","2029-09-01","2029-10-01","2029-11-01","2029-12-01","2030-01-01","2030-02-01","2030-03-01","2030-04-01","2030-05-01","2030-06-01","2030-07-01","2030-08-01","2030-09-01","2030-10-01","2030-11-01","2030-12-01","2031-01-01","2031-02-01","2031-03-01","2031-04-01","2031-05-01","2031-06-01","2031-07-01","2031-08-01","2031-09-01","2031-10-01","2031-11-01","2031-12-01",{"$f":"BW10+1","v":"2032-01-01"},"2032-02-01","2032-03-01","2032-04-01","2032-05-01","2032-06-01","2032-07-01","2032-08-01","2032-09-01","2032-10-01","2032-11-01","2032-12-01","2033-01-01","2033-02-01","2033-03-01","2033-04-01","2033-05-01","2033-06-01","2033-07-01","2033-08-01","2033-09-01","2033-10-01","2033-11-01","2033-12-01","2034-01-01","2034-02-01","2034-03-01","2034-04-01","2034-05-01","2034-06-01","2034-07-01","2034-08-01","2034-09-01","2034-10-01","2034-11-01","2034-12-01","2035-01-01","2035-02-01","2035-03-01","2035-04-01","2035-05-01","2035-06-01","2035-07-01","2035-08-01","2035-09-01","2035-10-01","2035-11-01","2035-12-01","2036-01-01","2036-02-01","2036-03-01","2036-04-01","2036-05-01","2036-06-01","2036-07-01","2036-08-01","2036-09-01","2036-10-01","2036-11-01","2036-12-01","2037-01-01","2037-02-01","2037-03-01","2037-04-01",{"$f":"EI10+1","v":"2037-05-01"},"2037-06-01","2037-07-01","2037-08-01","2037-09-01","2037-10-01","2037-11-01","2037-12-01","2038-01-01","2038-02-01","2038-03-01","2038-04-01","2038-05-01","2038-06-01","2038-07-01","2038-08-01","2038-09-01","2038-10-01","2038-11-01","2038-12-01","2039-01-01","2039-02-01","2039-03-01","2039-04-01","2039-05-01","2039-06-01","2039-07-01","2039-08-01","2039-09-01","2039-10-01","2039-11-01","2039-12-01","2040-01-01","2040-02-01","2040-03-01","2040-04-01","2040-05-01","2040-06-01","2040-07-01","2040-08-01","2040-09-01","2040-10-01","2040-11-01","2040-12-01","2041-01-01","2041-02-01","2041-03-01","2041-04-01","2041-05-01","2041-06-01","2041-07-01","2041-08-01","2041-09-01","2041-10-01","2041-11-01","2041-12-01","2042-01-01","2042-02-01","2042-03-01","2042-04-01","2042-05-01","2042-06-01","2042-07-01","2042-08-01",{"$f":"GU10+1","v":"2042-09-01"},"2042-10-01","2042-11-01","2042-12-01","2043-01-01","2043-02-01","2043-03-01","2043-04-01","2043-05-01","2043-06-01","2043-07-01","2043-08-01","2043-09-01","2043-10-01","2043-11-01","2043-12-01","2044-01-01","2044-02-01","2044-03-01","2044-04-01","2044-05-01","2044-06-01","2044-07-01","2044-08-01","2044-09-01","2044-10-01","2044-11-01","2044-12-01","2045-01-01","2045-02-01","2045-03-01","2045-04-01","2045-05-01","2045-06-01","2045-07-01","2045-08-01","2045-09-01","2045-10-01","2045-11-01","2045-12-01","2046-01-01","2046-02-01","2046-03-01","2046-04-01","2046-05-01","2046-06-01","2046-07-01","2046-08-01","2046-09-01","2046-10-01","2046-11-01","2046-12-01","2047-01-01","2047-02-01","2047-03-01","2047-04-01","2047-05-01","2047-06-01","2047-07-01","2047-08-01","2047-09-01","2047-10-01","2047-11-01","2047-12-01",{"$f":"JG10+1","v":"2048-01-01"},"2048-02-01","2048-03-01","2048-04-01","2048-05-01","2048-06-01","2048-07-01","2048-08-01","2048-09-01","2048-10-01","2048-11-01","2048-12-01","2049-01-01","2049-02-01","2049-03-01","2049-04-01","2049-05-01","2049-06-01","2049-07-01","2049-08-01","2049-09-01","2049-10-01","2049-11-01","2049-12-01","2050-01-01","2050-02-01","2050-03-01","2050-04-01","2050-05-01","2050-06-01","2050-07-01","2050-08-01","2050-09-01","2050-10-01","2050-11-01","2050-12-01","2051-01-01","2051-02-01","2051-03-01","2051-04-01","2051-05-01","2051-06-01","2051-07-01","2051-08-01","2051-09-01","2051-10-01","2051-11-01","2051-12-01","2052-01-01","2052-02-01","2052-03-01","2052-04-01","2052-05-01","2052-06-01","2052-07-01","2052-08-01","2052-09-01","2052-10-01","2052-11-01","2052-12-01","2053-01-01","2053-02-01","2053-03-01","2053-04-01",{"$f":"LS10+1","v":"2053-05-01"},"2053-06-01","2053-07-01","2053-08-01","2053-09-01","2053-10-01","2053-11-01","2053-12-01","2054-01-01","2054-02-01","2054-03-01","2054-04-01","2054-05-01","2054-06-01","2054-07-01","2054-08-01","2054-09-01","2054-10-01","2054-11-01","2054-12-01","2055-01-01","2055-02-01","2055-03-01","2055-04-01","2055-05-01","2055-06-01","2055-07-01","2055-08-01","2055-09-01","2055-10-01","2055-11-01","2055-12-01","2056-01-01","2056-02-01","2056-03-01","2056-04-01","2056-05-01","2056-06-01","2056-07-01","2056-08-01","2056-09-01","2056-10-01","2056-11-01","2056-12-01","2057-01-01","2057-02-01","2057-03-01","2057-04-01","2057-05-01","2057-06-01","2057-07-01","2057-08-01","2057-09-01","2057-10-01","2057-11-01","2057-12-01","2058-01-01","2058-02-01","2058-03-01","2058-04-01","2058-05-01","2058-06-01","2058-07-01","2058-08-01",{"$f":"OE10+1","v":"2058-09-01"},"2058-10-01","2058-11-01","2058-12-01","2059-01-01","2059-02-01","2059-03-01","2059-04-01","2059-05-01","2059-06-01","2059-07-01","2059-08-01","2059-09-01","2059-10-01","2059-11-01","2059-12-01","2060-01-01","2060-02-01","2060-03-01","2060-04-01","2060-05-01","2060-06-01","2060-07-01","2060-08-01","2060-09-01","2060-10-01","2060-11-01","2060-12-01","2061-01-01","2061-02-01","2061-03-01","2061-04-01","2061-05-01","2061-06-01","2061-07-01","2061-08-01","2061-09-01","2061-10-01","2061-11-01","2061-12-01","2062-01-01","2062-02-01","2062-03-01","2062-04-01","2062-05-01","2062-06-01","2062-07-01","2062-08-01","2062-09-01","2062-10-01","2062-11-01","2062-12-01","2063-01-01","2063-02-01","2063-03-01","2063-04-01","2063-05-01","2063-06-01","2063-07-01","2063-08-01","2063-09-01","2063-10-01","2063-11-01","2063-12-01",{"$f":"QQ10+1","v":"2064-01-01"},"2064-02-01","2064-03-01","2064-04-01","2064-05-01","2064-06-01","2064-07-01","2064-08-01","2064-09-01","2064-10-01","2064-11-01","2064-12-01","2065-01-01","2065-02-01","2065-03-01","2065-04-01","2065-05-01","2065-06-01","2065-07-01","2065-08-01","2065-09-01","2065-10-01","2065-11-01","2065-12-01","2066-01-01","2066-02-01","2066-03-01","2066-04-01","2066-05-01","2066-06-01","2066-07-01","2066-08-01","2066-09-01","2066-10-01","2066-11-01","2066-12-01","2067-01-01","2067-02-01","2067-03-01","2067-04-01","2067-05-01","2067-06-01","2067-07-01","2067-08-01","2067-09-01","2067-10-01","2067-11-01","2067-12-01","2068-01-01","2068-02-01","2068-03-01","2068-04-01","2068-05-01","2068-06-01","2068-07-01","2068-08-01","2068-09-01","2068-10-01","2068-11-01","2068-12-01","2069-01-01","2069-02-01","2069-03-01","2069-04-01",{"$f":"TC10+1","v":"2069-05-01"},"2069-06-01","2069-07-01","2069-08-01","2069-09-01","2069-10-01","2069-11-01","2069-12-01","2070-01-01","2070-02-01","2070-03-01","2070-04-01","2070-05-01","2070-06-01","2070-07-01","2070-08-01","2070-09-01","2070-10-01","2070-11-01","2070-12-01","2071-01-01","2071-02-01","2071-03-01","2071-04-01","2071-05-01","2071-06-01","2071-07-01","2071-08-01","2071-09-01","2071-10-01","2071-11-01","2071-12-01","2072-01-01","2072-02-01","2072-03-01","2072-04-01","2072-05-01","2072-06-01","2072-07-01","2072-08-01","2072-09-01","2072-10-01","2072-11-01","2072-12-01","2073-01-01","2073-02-01","2073-03-01","2073-04-01","2073-05-01","2073-06-01","2073-07-01","2073-08-01","2073-09-01","2073-10-01","2073-11-01","2073-12-01","2074-01-01","2074-02-01","2074-03-01","2074-04-01","2074-05-01","2074-06-01","2074-07-01","2074-08-01",{"$f":"VO10+1","v":"2074-09-01"},"2074-10-01","2074-11-01","2074-12-01","2075-01-01","2075-02-01","2075-03-01","2075-04-01","2075-05-01","2075-06-01","2075-07-01","2075-08-01","2075-09-01","2075-10-01","2075-11-01","2075-12-01","2076-01-01","2076-02-01","2076-03-01","2076-04-01","2076-05-01","2076-06-01","2076-07-01","2076-08-01","2076-09-01","2076-10-01","2076-11-01","2076-12-01","2077-01-01","2077-02-01","2077-03-01","2077-04-01","2077-05-01","2077-06-01","2077-07-01","2077-08-01","2077-09-01","2077-10-01","2077-11-01","2077-12-01","2078-01-01","2078-02-01","2078-03-01","2078-04-01","2078-05-01","2078-06-01","2078-07-01","2078-08-01","2078-09-01","2078-10-01","2078-11-01","2078-12-01","2079-01-01","2079-02-01","2079-03-01","2079-04-01","2079-05-01","2079-06-01","2079-07-01","2079-08-01","2079-09-01","2079-10-01","2079-11-01","2079-12-01",{"$f":"YA10+1","v":"2080-01-01"},"2080-02-01","2080-03-01","2080-04-01","2080-05-01","2080-06-01","2080-07-01","2080-08-01","2080-09-01","2080-10-01","2080-11-01","2080-12-01","2081-01-01","2081-02-01","2081-03-01","2081-04-01","2081-05-01","2081-06-01","2081-07-01","2081-08-01","2081-09-01","2081-10-01","2081-11-01","2081-12-01","2082-01-01","2082-02-01","2082-03-01","2082-04-01","2082-05-01","2082-06-01","2082-07-01","2082-08-01","2082-09-01","2082-10-01","2082-11-01","2082-12-01","2083-01-01","2083-02-01","2083-03-01","2083-04-01","2083-05-01","2083-06-01","2083-07-01","2083-08-01","2083-09-01","2083-10-01","2083-11-01","2083-12-01","2084-01-01","2084-02-01","2084-03-01","2084-04-01","2084-05-01","2084-06-01","2084-07-01","2084-08-01","2084-09-01","2084-10-01","2084-11-01","2084-12-01","2085-01-01","2085-02-01","2085-03-01","2085-04-01",{"$f":"AAM10+1","v":"2085-05-01"},"2085-06-01","2085-07-01","2085-08-01","2085-09-01","2085-10-01","2085-11-01","2085-12-01","2086-01-01","2086-02-01","2086-03-01","2086-04-01","2086-05-01","2086-06-01","2086-07-01","2086-08-01","2086-09-01","2086-10-01","2086-11-01","2086-12-01","2087-01-01","2087-02-01","2087-03-01","2087-04-01","2087-05-01","2087-06-01","2087-07-01","2087-08-01","2087-09-01","2087-10-01","2087-11-01","2087-12-01","2088-01-01","2088-02-01","2088-03-01","2088-04-01","2088-05-01","2088-06-01","2088-07-01","2088-08-01","2088-09-01","2088-10-01","2088-11-01","2088-12-01","2089-01-01","2089-02-01","2089-03-01","2089-04-01","2089-05-01","2089-06-01","2089-07-01","2089-08-01","2089-09-01","2089-10-01","2089-11-01","2089-12-01","2090-01-01","2090-02-01","2090-03-01","2090-04-01","2090-05-01","2090-06-01","2090-07-01","2090-08-01",{"$f":"ACY10+1","v":"2090-09-01"},"2090-10-01","2090-11-01","2090-12-01","2091-01-01","2091-02-01","2091-03-01","2091-04-01","2091-05-01","2091-06-01","2091-07-01","2091-08-01","2091-09-01","2091-10-01","2091-11-01","2091-12-01","2092-01-01","2092-02-01","2092-03-01","2092-04-01","2092-05-01","2092-06-01","2092-07-01","2092-08-01","2092-09-01","2092-10-01","2092-11-01","2092-12-01","2093-01-01","2093-02-01","2093-03-01","2093-04-01","2093-05-01","2093-06-01","2093-07-01","2093-08-01","2093-09-01","2093-10-01","2093-11-01","2093-12-01","2094-01-01","2094-02-01","2094-03-01","2094-04-01","2094-05-01","2094-06-01","2094-07-01","2094-08-01","2094-09-01","2094-10-01","2094-11-01","2094-12-01","2095-01-01","2095-02-01","2095-03-01","2095-04-01","2095-05-01","2095-06-01","2095-07-01","2095-08-01","2095-09-01","2095-10-01","2095-11-01","2095-12-01",{"$f":"AFK10+1","v":"2096-01-01"},"2096-02-01","2096-03-01","2096-04-01","2096-05-01","2096-06-01","2096-07-01","2096-08-01","2096-09-01","2096-10-01","2096-11-01","2096-12-01","2097-01-01","2097-02-01","2097-03-01","2097-04-01","2097-05-01","2097-06-01","2097-07-01","2097-08-01","2097-09-01","2097-10-01","2097-11-01","2097-12-01","2098-01-01","2098-02-01","2098-03-01","2098-04-01","2098-05-01","2098-06-01","2098-07-01","2098-08-01","2098-09-01","2098-10-01","2098-11-01","2098-12-01","2099-01-01","2099-02-01","2099-03-01","2099-04-01","2099-05-01","2099-06-01","2099-07-01","2099-08-01","2099-09-01","2099-10-01","2099-11-01","2099-12-01","2100-01-01","2100-02-01","2100-03-01","2100-04-01","2100-05-01","2100-06-01","2100-07-01","2100-08-01","2100-09-01","2100-10-01","2100-11-01","2100-12-01","2101-01-01","2101-02-01","2101-03-01","2101-04-01",{"$f":"AHW10+1","v":"2101-05-01"},"2101-06-01","2101-07-01","2101-08-01","2101-09-01","2101-10-01","2101-11-01","2101-12-01","2102-01-01","2102-02-01","2102-03-01","2102-04-01","2102-05-01","2102-06-01","2102-07-01","2102-08-01","2102-09-01","2102-10-01","2102-11-01","2102-12-01","2103-01-01","2103-02-01","2103-03-01","2103-04-01","2103-05-01","2103-06-01","2103-07-01","2103-08-01","2103-09-01","2103-10-01","2103-11-01","2103-12-01","2104-01-01","2104-02-01","2104-03-01","2104-04-01","2104-05-01","2104-06-01","2104-07-01","2104-08-01","2104-09-01","2104-10-01","2104-11-01","2104-12-01","2105-01-01","2105-02-01","2105-03-01","2105-04-01","2105-05-01","2105-06-01","2105-07-01","2105-08-01","2105-09-01","2105-10-01","2105-11-01","2105-12-01","2106-01-01","2106-02-01","2106-03-01","2106-04-01","2106-05-01","2106-06-01","2106-07-01","2106-08-01",{"$f":"AKI10+1","v":"2106-09-01"},"2106-10-01","2106-11-01","2106-12-01","2107-01-01","2107-02-01","2107-03-01","2107-04-01","2107-05-01","2107-06-01","2107-07-01","2107-08-01","2107-09-01","2107-10-01","2107-11-01","2107-12-01","2108-01-01","2108-02-01","2108-03-01","2108-04-01","2108-05-01","2108-06-01","2108-07-01","2108-08-01","2108-09-01","2108-10-01","2108-11-01","2108-12-01","2109-01-01","2109-02-01","2109-03-01","2109-04-01","2109-05-01","2109-06-01","2109-07-01","2109-08-01","2109-09-01","2109-10-01","2109-11-01"]
[null,null,"End of period",null,"Date",null,null,null,"Date",{"$f":"'InputC Partial Month'!F6-1","v":"2026-08-13"},{"$f":"EOMONTH(K9,K8-1)","v":"2026-08-31"},{"$f":"EOMONTH(L9,L8-1)","v":"2026-09-30"},"2026-10-31","2026-11-30","2026-12-31","2027-01-31","2027-02-28","2027-03-31","2027-04-30","2027-05-31","2027-06-30","2027-07-31","2027-08-31","2027-09-30","2027-10-31","2027-11-30","2027-12-31","2028-01-31","2028-02-29","2028-03-31","2028-04-30","2028-05-31","2028-06-30","2028-07-31","2028-08-31","2028-09-30","2028-10-31","2028-11-30","2028-12-31","2029-01-31","2029-02-28","2029-03-31","2029-04-30","2029-05-31","2029-06-30","2029-07-31","2029-08-31","2029-09-30","2029-10-31","2029-11-30","2029-12-31","2030-01-31","2030-02-28","2030-03-31","2030-04-30","2030-05-31","2030-06-30","2030-07-31","2030-08-31","2030-09-30","2030-10-31","2030-11-30","2030-12-31","2031-01-31","2031-02-28","2031-03-31","2031-04-30","2031-05-31","2031-06-30","2031-07-31","2031-08-31","2031-09-30","2031-10-31","2031-11-30",{"$f":"EOMONTH(BW9,BW8-1)","v":"2031-12-31"},"2032-01-31","2032-02-29","2032-03-31","2032-04-30","2032-05-31","2032-06-30","2032-07-31","2032-08-31","2032-09-30","2032-10-31","2032-11-30","2032-12-31","2033-01-31","2033-02-28","2033-03-31","2033-04-30","2033-05-31","2033-06-30","2033-07-31","2033-08-31","2033-09-30","2033-10-31","2033-11-30","2033-12-31","2034-01-31","2034-02-28","2034-03-31","2034-04-30","2034-05-31","2034-06-30","2034-07-31","2034-08-31","2034-09-30","2034-10-31","2034-11-30","2034-12-31","2035-01-31","2035-02-28","2035-03-31","2035-04-30","2035-05-31","2035-06-30","2035-07-31","2035-08-31","2035-09-30","2035-10-31","2035-11-30","2035-12-31","2036-01-31","2036-02-29","2036-03-31","2036-04-30","2036-05-31","2036-06-30","2036-07-31","2036-08-31","2036-09-30","2036-10-31","2036-11-30","2036-12-31","2037-01-31","2037-02-28","2037-03-31",{"$f":"EOMONTH(EI9,EI8-1)","v":"2037-04-30"},"2037-05-31","2037-06-30","2037-07-31","2037-08-31","2037-09-30","2037-10-31","2037-11-30","2037-12-31","2038-01-31","2038-02-28","2038-03-31","2038-04-30","2038-05-31","2038-06-30","2038-07-31","2038-08-31","2038-09-30","2038-10-31","2038-11-30","2038-12-31","2039-01-31","2039-02-28","2039-03-31","2039-04-30","2039-05-31","2039-06-30","2039-07-31","2039-08-31","2039-09-30","2039-10-31","2039-11-30","2039-12-31","2040-01-31","2040-02-29","2040-03-31","2040-04-30","2040-05-31","2040-06-30","2040-07-31","2040-08-31","2040-09-30","2040-10-31","2040-11-30","2040-12-31","2041-01-31","2041-02-28","2041-03-31","2041-04-30","2041-05-31","2041-06-30","2041-07-31","2041-08-31","2041-09-30","2041-10-31","2041-11-30","2041-12-31","2042-01-31","2042-02-28","2042-03-31","2042-04-30","2042-05-31","2042-06-30","2042-07-31",{"$f":"EOMONTH(GU9,GU8-1)","v":"2042-08-31"},"2042-09-30","2042-10-31","2042-11-30","2042-12-31","2043-01-31","2043-02-28","2043-03-31","2043-04-30","2043-05-31","2043-06-30","2043-07-31","2043-08-31","2043-09-30","2043-10-31","2043-11-30","2043-12-31","2044-01-31","2044-02-29","2044-03-31","2044-04-30","2044-05-31","2044-06-30","2044-07-31","2044-08-31","2044-09-30","2044-10-31","2044-11-30","2044-12-31","2045-01-31","2045-02-28","2045-03-31","2045-04-30","2045-05-31","2045-06-30","2045-07-31","2045-08-31","2045-09-30","2045-10-31","2045-11-30","2045-12-31","2046-01-31","2046-02-28","2046-03-31","2046-04-30","2046-05-31","2046-06-30","2046-07-31","2046-08-31","2046-09-30","2046-10-31","2046-11-30","2046-12-31","2047-01-31","2047-02-28","2047-03-31","2047-04-30","2047-05-31","2047-06-30","2047-07-31","2047-08-31","2047-09-30","2047-10-31","2047-11-30",{"$f":"EOMONTH(JG9,JG8-1)","v":"2047-12-31"},"2048-01-31","2048-02-29","2048-03-31","2048-04-30","2048-05-31","2048-06-30","2048-07-31","2048-08-31","2048-09-30","2048-10-31","2048-11-30","2048-12-31","2049-01-31","2049-02-28","2049-03-31","2049-04-30","2049-05-31","2049-06-30","2049-07-31","2049-08-31","2049-09-30","2049-10-31","2049-11-30","2049-12-31","2050-01-31","2050-02-28","2050-03-31","2050-04-30","2050-05-31","2050-06-30","2050-07-31","2050-08-31","2050-09-30","2050-10-31","2050-11-30","2050-12-31","2051-01-31","2051-02-28","2051-03-31","2051-04-30","2051-05-31","2051-06-30","2051-07-31","2051-08-31","2051-09-30","2051-10-31","2051-11-30","2051-12-31","2052-01-31","2052-02-29","2052-03-31","2052-04-30","2052-05-31","2052-06-30","2052-07-31","2052-08-31","2052-09-30","2052-10-31","2052-11-30","2052-12-31","2053-01-31","2053-02-28","2053-03-31",{"$f":"EOMONTH(LS9,LS8-1)","v":"2053-04-30"},"2053-05-31","2053-06-30","2053-07-31","2053-08-31","2053-09-30","2053-10-31","2053-11-30","2053-12-31","2054-01-31","2054-02-28","2054-03-31","2054-04-30","2054-05-31","2054-06-30","2054-07-31","2054-08-31","2054-09-30","2054-10-31","2054-11-30","2054-12-31","2055-01-31","2055-02-28","2055-03-31","2055-04-30","2055-05-31","2055-06-30","2055-07-31","2055-08-31","2055-09-30","2055-10-31","2055-11-30","2055-12-31","2056-01-31","2056-02-29","2056-03-31","2056-04-30","2056-05-31","2056-06-30","2056-07-31","2056-08-31","2056-09-30","2056-10-31","2056-11-30","2056-12-31","2057-01-31","2057-02-28","2057-03-31","2057-04-30","2057-05-31","2057-06-30","2057-07-31","2057-08-31","2057-09-30","2057-10-31","2057-11-30","2057-12-31","2058-01-31","2058-02-28","2058-03-31","2058-04-30","2058-05-31","2058-06-30","2058-07-31",{"$f":"EOMONTH(OE9,OE8-1)","v":"2058-08-31"},"2058-09-30","2058-10-31","2058-11-30","2058-12-31","2059-01-31","2059-02-28","2059-03-31","2059-04-30","2059-05-31","2059-06-30","2059-07-31","2059-08-31","2059-09-30","2059-10-31","2059-11-30","2059-12-31","2060-01-31","2060-02-29","2060-03-31","2060-04-30","2060-05-31","2060-06-30","2060-07-31","2060-08-31","2060-09-30","2060-10-31","2060-11-30","2060-12-31","2061-01-31","2061-02-28","2061-03-31","2061-04-30","2061-05-31","2061-06-30","2061-07-31","2061-08-31","2061-09-30","2061-10-31","2061-11-30","2061-12-31","2062-01-31","2062-02-28","2062-03-31","2062-04-30","2062-05-31","2062-06-30","2062-07-31","2062-08-31","2062-09-30","2062-10-31","2062-11-30","2062-12-31","2063-01-31","2063-02-28","2063-03-31","2063-04-30","2063-05-31","2063-06-30","2063-07-31","2063-08-31","2063-09-30","2063-10-31","2063-11-30",{"$f":"EOMONTH(QQ9,QQ8-1)","v":"2063-12-31"},"2064-01-31","2064-02-29","2064-03-31","2064-04-30","2064-05-31","2064-06-30","2064-07-31","2064-08-31","2064-09-30","2064-10-31","2064-11-30","2064-12-31","2065-01-31","2065-02-28","2065-03-31","2065-04-30","2065-05-31","2065-06-30","2065-07-31","2065-08-31","2065-09-30","2065-10-31","2065-11-30","2065-12-31","2066-01-31","2066-02-28","2066-03-31","2066-04-30","2066-05-31","2066-06-30","2066-07-31","2066-08-31","2066-09-30","2066-10-31","2066-11-30","2066-12-31","2067-01-31","2067-02-28","2067-03-31","2067-04-30","2067-05-31","2067-06-30","2067-07-31","2067-08-31","2067-09-30","2067-10-31","2067-11-30","2067-12-31","2068-01-31","2068-02-29","2068-03-31","2068-04-30","2068-05-31","2068-06-30","2068-07-31","2068-08-31","2068-09-30","2068-10-31","2068-11-30","2068-12-31","2069-01-31","2069-02-28","2069-03-31",{"$f":"EOMONTH(TC9,TC8-1)","v":"2069-04-30"},"2069-05-31","2069-06-30","2069-07-31","2069-08-31","2069-09-30","2069-10-31","2069-11-30","2069-12-31","2070-01-31","2070-02-28","2070-03-31","2070-04-30","2070-05-31","2070-06-30","2070-07-31","2070-08-31","2070-09-30","2070-10-31","2070-11-30","2070-12-31","2071-01-31","2071-02-28","2071-03-31","2071-04-30","2071-05-31","2071-06-30","2071-07-31","2071-08-31","2071-09-30","2071-10-31","2071-11-30","2071-12-31","2072-01-31","2072-02-29","2072-03-31","2072-04-30","2072-05-31","2072-06-30","2072-07-31","2072-08-31","2072-09-30","2072-10-31","2072-11-30","2072-12-31","2073-01-31","2073-02-28","2073-03-31","2073-04-30","2073-05-31","2073-06-30","2073-07-31","2073-08-31","2073-09-30","2073-10-31","2073-11-30","2073-12-31","2074-01-31","2074-02-28","2074-03-31","2074-04-30","2074-05-31","2074-06-30","2074-07-31",{"$f":"EOMONTH(VO9,VO8-1)","v":"2074-08-31"},"2074-09-30","2074-10-31","2074-11-30","2074-12-31","2075-01-31","2075-02-28","2075-03-31","2075-04-30","2075-05-31","2075-06-30","2075-07-31","2075-08-31","2075-09-30","2075-10-31","2075-11-30","2075-12-31","2076-01-31","2076-02-29","2076-03-31","2076-04-30","2076-05-31","2076-06-30","2076-07-31","2076-08-31","2076-09-30","2076-10-31","2076-11-30","2076-12-31","2077-01-31","2077-02-28","2077-03-31","2077-04-30","2077-05-31","2077-06-30","2077-07-31","2077-08-31","2077-09-30","2077-10-31","2077-11-30","2077-12-31","2078-01-31","2078-02-28","2078-03-31","2078-04-30","2078-05-31","2078-06-30","2078-07-31","2078-08-31","2078-09-30","2078-10-31","2078-11-30","2078-12-31","2079-01-31","2079-02-28","2079-03-31","2079-04-30","2079-05-31","2079-06-30","2079-07-31","2079-08-31","2079-09-30","2079-10-31","2079-11-30",{"$f":"EOMONTH(YA9,YA8-1)","v":"2079-12-31"},"2080-01-31","2080-02-29","2080-03-31","2080-04-30","2080-05-31","2080-06-30","2080-07-31","2080-08-31","2080-09-30","2080-10-31","2080-11-30","2080-12-31","2081-01-31","2081-02-28","2081-03-31","2081-04-30","2081-05-31","2081-06-30","2081-07-31","2081-08-31","2081-09-30","2081-10-31","2081-11-30","2081-12-31","2082-01-31","2082-02-28","2082-03-31","2082-04-30","2082-05-31","2082-06-30","2082-07-31","2082-08-31","2082-09-30","2082-10-31","2082-11-30","2082-12-31","2083-01-31","2083-02-28","2083-03-31","2083-04-30","2083-05-31","2083-06-30","2083-07-31","2083-08-31","2083-09-30","2083-10-31","2083-11-30","2083-12-31","2084-01-31","2084-02-29","2084-03-31","2084-04-30","2084-05-31","2084-06-30","2084-07-31","2084-08-31","2084-09-30","2084-10-31","2084-11-30","2084-12-31","2085-01-31","2085-02-28","2085-03-31",{"$f":"EOMONTH(AAM9,AAM8-1)","v":"2085-04-30"},"2085-05-31","2085-06-30","2085-07-31","2085-08-31","2085-09-30","2085-10-31","2085-11-30","2085-12-31","2086-01-31","2086-02-28","2086-03-31","2086-04-30","2086-05-31","2086-06-30","2086-07-31","2086-08-31","2086-09-30","2086-10-31","2086-11-30","2086-12-31","2087-01-31","2087-02-28","2087-03-31","2087-04-30","2087-05-31","2087-06-30","2087-07-31","2087-08-31","2087-09-30","2087-10-31","2087-11-30","2087-12-31","2088-01-31","2088-02-29","2088-03-31","2088-04-30","2088-05-31","2088-06-30","2088-07-31","2088-08-31","2088-09-30","2088-10-31","2088-11-30","2088-12-31","2089-01-31","2089-02-28","2089-03-31","2089-04-30","2089-05-31","2089-06-30","2089-07-31","2089-08-31","2089-09-30","2089-10-31","2089-11-30","2089-12-31","2090-01-31","2090-02-28","2090-03-31","2090-04-30","2090-05-31","2090-06-30","2090-07-31",{"$f":"EOMONTH(ACY9,ACY8-1)","v":"2090-08-31"},"2090-09-30","2090-10-31","2090-11-30","2090-12-31","2091-01-31","2091-02-28","2091-03-31","2091-04-30","2091-05-31","2091-06-30","2091-07-31","2091-08-31","2091-09-30","2091-10-31","2091-11-30","2091-12-31","2092-01-31","2092-02-29","2092-03-31","2092-04-30","2092-05-31","2092-06-30","2092-07-31","2092-08-31","2092-09-30","2092-10-31","2092-11-30","2092-12-31","2093-01-31","2093-02-28","2093-03-31","2093-04-30","2093-05-31","2093-06-30","2093-07-31","2093-08-31","2093-09-30","2093-10-31","2093-11-30","2093-12-31","2094-01-31","2094-02-28","2094-03-31","2094-04-30","2094-05-31","2094-06-30","2094-07-31","2094-08-31","2094-09-30","2094-10-31","2094-11-30","2094-12-31","2095-01-31","2095-02-28","2095-03-31","2095-04-30","2095-05-31","2095-06-30","2095-07-31","2095-08-31","2095-09-30","2095-10-31","2095-11-30",{"$f":"EOMONTH(AFK9,AFK8-1)","v":"2095-12-31"},"2096-01-31","2096-02-29","2096-03-31","2096-04-30","2096-05-31","2096-06-30","2096-07-31","2096-08-31","2096-09-30","2096-10-31","2096-11-30","2096-12-31","2097-01-31","2097-02-28","2097-03-31","2097-04-30","2097-05-31","2097-06-30","2097-07-31","2097-08-31","2097-09-30","2097-10-31","2097-11-30","2097-12-31","2098-01-31","2098-02-28","2098-03-31","2098-04-30","2098-05-31","2098-06-30","2098-07-31","2098-08-31","2098-09-30","2098-10-31","2098-11-30","2098-12-31","2099-01-31","2099-02-28","2099-03-31","2099-04-30","2099-05-31","2099-06-30","2099-07-31","2099-08-31","2099-09-30","2099-10-31","2099-11-30","2099-12-31","2100-01-31","2100-02-28","2100-03-31","2100-04-30","2100-05-31","2100-06-30","2100-07-31","2100-08-31","2100-09-30","2100-10-31","2100-11-30","2100-12-31","2101-01-31","2101-02-28","2101-03-31",{"$f":"EOMONTH(AHW9,AHW8-1)","v":"2101-04-30"},"2101-05-31","2101-06-30","2101-07-31","2101-08-31","2101-09-30","2101-10-31","2101-11-30","2101-12-31","2102-01-31","2102-02-28","2102-03-31","2102-04-30","2102-05-31","2102-06-30","2102-07-31","2102-08-31","2102-09-30","2102-10-31","2102-11-30","2102-12-31","2103-01-31","2103-02-28","2103-03-31","2103-04-30","2103-05-31","2103-06-30","2103-07-31","2103-08-31","2103-09-30","2103-10-31","2103-11-30","2103-12-31","2104-01-31","2104-02-29","2104-03-31","2104-04-30","2104-05-31","2104-06-30","2104-07-31","2104-08-31","2104-09-30","2104-10-31","2104-11-30","2104-12-31","2105-01-31","2105-02-28","2105-03-31","2105-04-30","2105-05-31","2105-06-30","2105-07-31","2105-08-31","2105-09-30","2105-10-31","2105-11-30","2105-12-31","2106-01-31","2106-02-28","2106-03-31","2106-04-30","2106-05-31","2106-06-30","2106-07-31",{"$f":"EOMONTH(AKI9,AKI8-1)","v":"2106-08-31"},"2106-09-30","2106-10-31","2106-11-30","2106-12-31","2107-01-31","2107-02-28","2107-03-31","2107-04-30","2107-05-31","2107-06-30","2107-07-31","2107-08-31","2107-09-30","2107-10-31","2107-11-30","2107-12-31","2108-01-31","2108-02-29","2108-03-31","2108-04-30","2108-05-31","2108-06-30","2108-07-31","2108-08-31","2108-09-30","2108-10-31","2108-11-30","2108-12-31","2109-01-31","2109-02-28","2109-03-31","2109-04-30","2109-05-31","2109-06-30","2109-07-31","2109-08-31","2109-09-30","2109-10-31","2109-11-30"]
[]
[null,null,"End of Construction Period",null,"Date",{"$f":"'InputC Partial Month'!F7","v":"2028-08-12"},null,null,"Date",null,{"$f":"$F$12","v":"2028-08-12"},{"$f":"$F$12","v":"2028-08-12"},"2028-08-12","2028-08-12","2028-08-12","2028-08-12","2028-08-12","2028-08-12","2028-08-12","2028-08-12","2028-08-12","2028-08-12","2028-08-12","2028-08-12","2028-08-12","2028-08-12","2028-08-12","2028-08-12","2028-08-12","2028-08-12","2028-08-12","2028-08-12","2028-08-12","2028-08-12","2028-08-12","2028-08-12","2028-08-12","2028-08-12","2028-08-12","2028-08-12","2028-08-12","2028-08-12","2028-08-12","2028-08-12","2028-08-12","2028-08-12","2028-08-12","2028-08-12","2028-08-12","2028-08-12","2028-08-12","2028-08-12","2028-08-12","2028-08-12","2028-08-12","2028-08-12","2028-08-12","2028-08-12","2028-08-12","2028-08-12","2028-08-12","2028-08-12","2028-08-12","2028-08-12","2028-08-12","2028-08-12","2028-08-12","2028-08-12","2028-08-12","2028-08-12","2028-08-12","2028-08-12","2028-08-12","2028-08-12","2028-08-12",{"$f":"$F$12","v":"2028-08-12"},"2028-08-12","2028-08-12","2028-08-12","2028-08-12","2028-08-12","2028-08-12","2028-08-12","2028-08-12","2028-08-12","2028-08-12","2028-08-12","2028-08-12","2028-08-12","2028-08-12","2028-08-12","2028-08-12","2028-08-12","2028-08-12","2028-08-12","2028-08-12","2028-08-12","2028-08-12","2028-08-12","2028-08-12","2028-08-12","2028-08-12","2028-08-12","2028-08-12","2028-08-12","2028-08-12","2028-08-12","2028-08-12","2028-08-12","2028-08-12","2028-08-12","2028-08-12","2028-08-12","2028-08-12","2028-08-12","2028-08-12","2028-08-12","2028-08-12","2028-08-12","2028-08-12","2028-08-12","2028-08-12","2028-08-12","2028-08-12","2028-08-12","2028-08-12","2028-08-12","2028-08-12","2028-08-12","2028-08-12","2028-08-12","2028-08-12","2028-08-12","2028-08-12","2028-08-12","2028-08-12","2028-08-12","2028-08-12","2028-08-12",{"$f":"$F$12","v":"2028-08-12"},"2028-08-12","2028-08-12","2028-08-12","2028-08-12","2028-08-12","2028-08-12","2028-08-12","2028-08-12","2028-08-12","2028-08-12","2028-08-12","2028-08-12","2028-08-12","2028-08-12","2028-08-12","2028-08-12","2028-08-12","2028-08-12","2028-08-12","2028-08-12","2028-08-12","2028-08-12","2028-08-12","2028-08-12","2028-08-12","2028-08-12","2028-08-12","2028-08-12","2028-08-12","2028-08-12","2028-08-12","2028-08-12","2028-08-12","2028-08-12","2028-08-12","2028-08-12","2028-08-12","2028-08-12","2028-08-12","2028-08-12","2028-08-12","2028-08-12","2028-08-12","2028-08-12","2028-08-12","2028-08-12","2028-08-12","2028-08-12","2028-08-12","2028-08-12","2028-08-12","2028-08-12","2028-08-12","2028-08-12","2028-08-12","2028-08-12","2028-08-12","2028-08-12","2028-08-12","2028-08-12","2028-08-12","2028-08-12","2028-08-12",{"$f":"$F$12","v":"2028-08-12"},"2028-08-12","2028-08-12","2028-08-12","2028-08-12","2028-08-12","2028-08-12","2028-08-12","2028-08-12","2028-08-12","2028-08-12","2028-08-12","2028-08-12","2028-08-12","2028-08-12","2028-08-12","2028-08-12","2028-08-12","2028-08-12","2028-08-12","2028-08-12","2028-08-12","2028-08-12","2028-08-12","2028-08-12","2028-08-12","2028-08-12","2028-08-12","2028-08-12","2028-08-12","2028-08-12","2028-08-12","2028-08-12","2028-08-12","2028-08-12","2028-08-12","2028-08-12","2028-08-12","2028-08-12","2028-08-12","2028-08-12","2028-08-12","2028-08-12","2028-08-12","2028-08-12","2028-08-12","2028-08-12","2028-08-12","2028-08-12","2028-08-12","2028-08-12","2028-08-12","2028-08-12","2028-08-12","2028-08-12","2028-08-12","2028-08-12","2028-08-12","2028-08-12","2028-08-12","2028-08-12","2028-08-12","2028-08-12","2028-08-12",{"$f":"$F$12","v":"2028-08-12"},"2028-08-12","2028-08-12","2028-08-12","2028-08-12","2028-08-12","2028-08-12","2028-08-12","2028-08-12","2028-08-12","2028-08-12","2028-08-12","2028-08-12","2028-08-12","2028-08-12","2028-08-12","2028-08-12","2028-08-12","2028-08-12","2028-08-12","2028-08-12","2028-08-12","2028-08-12","2028-08-12","2028-08-12","2028-08-12","2028-08-12","2028-08-12","2028-08-12","2028-08-12","2028-08-12","2028-08-12","2028-08-12","2028-08-12","2028-08-12","2028-08-12","2028-08-12","2028-08-12","2028-08-12","2028-08-12","2028-08-12","2028-08-12","2028-08-12","2028-08-12","2028-08-12","2028-08-12","2028-08-12","2028-08-12","2028-08-12","2028-08-12","2028-08-12","2028-08-12","2028-08-12","2028-08-12","2028-08-12","2028-08-12","2028-08-12","2028-08-12","2028-08-12","2028-08-12","2028-08-12","2028-08-12","2028-08-12","2028-08-12",{"$f":"$F$12","v":"2028-08-12"},"2028-08-12","2028-08-12","2028-08-12","2028-08-12","2028-08-12","2028-08-12","2028-08-12","2028-08-12","2028-08-12","2028-08-12","2028-08-12","2028-08-12","2028-08-12","2028-08-12","2028-08-12","2028-08-12","2028-08-12","2028-08-12","2028-08-12","2028-08-12","2028-08-12","2028-08-12","2028-08-12","2028-08-12","2028-08-12","2028-08-12","2028-08-12","2028-08-12","2028-08-12","2028-08-12","2028-08-12","2028-08-12","2028-08-12","2028-08-12","2028-08-12","2028-08-12","2028-08-12","2028-08-12","2028-08-12","2028-08-12","2028-08-12","2028-08-12","2028-08-12","2028-08-12","2028-08-12","2028-08-12","2028-08-12","2028-08-12","2028-08-12","2028-08-12","2028-08-12","2028-08-12","2028-08-12","2028-08-12","2028-08-12","2028-08-12","2028-08-12","2028-08-12","2028-08-12","2028-08-12","2028-08-12","2028-08-12","2028-08-12",{"$f":"$F$12","v":"2028-08-12"},"2028-08-12","2028-08-12","2028-08-12","2028-08-12","2028-08-12","2028-08-12","2028-08-12","2028-08-12","2028-08-12","2028-08-12","2028-08-12","2028-08-12","2028-08-12","2028-08-12","2028-08-12","2028-08-12","2028-08-12","2028-08-12","2028-08-12","2028-08-12","2028-08-12","2028-08-12","2028-08-12","2028-08-12","2028-08-12","2028-08-12","2028-08-12","2028-08-12","2028-08-12","2028-08-12","2028-08-12","2028-08-12","2028-08-12","2028-08-12","2028-08-12","2028-08-12","2028-08-12","2028-08-12","2028-08-12","2028-08-12","2028-08-12","2028-08-12","2028-08-12","2028-08-12","2028-08-12","2028-08-12","2028-08-12","2028-08-12","2028-08-12","2028-08-12","2028-08-12","2028-08-12","2028-08-12","2028-08-12","2028-08-12","2028-08-12","2028-08-12","2028-08-12","2028-08-12","2028-08-12","2028-08-12","2028-08-12","2028-08-12",{"$f":"$F$12","v":"2028-08-12"},"2028-08-12","2028-08-12","2028-08-12","2028-08-12","2028-08-12","2028-08-12","2028-08-12","2028-08-12","2028-08-12","2028-08-12","2028-08-12","2028-08-12","2028-08-12","2028-08-12","2028-08-12","2028-08-12","2028-08-12","2028-08-12","2028-08-12","2028-08-12","2028-08-12","2028-08-12","2028-08-12","2028-08-12","2028-08-12","2028-08-12","2028-08-12","2028-08-12","2028-08-12","2028-08-12","2028-08-12","2028-08-12","2028-08-12","2028-08-12","2028-08-12","2028-08-12","2028-08-12","2028-08-12","2028-08-12","2028-08-12","2028-08-12","2028-08-12","2028-08-12","2028-08-12","2028-08-12","2028-08-12","2028-08-12","2028-08-12","2028-08-12","2028-08-12","2028-08-12","2028-08-12","2028-08-12","2028-08-12","2028-08-12","2028-08-12","2028-08-12","2028-08-12","2028-08-12","2028-08-12","2028-08-12","2028-08-12","2028-08-12",{"$f":"$F$12","v":"2028-08-12"},"2028-08-12","2028-08-12","2028-08-12","2028-08-12","2028-08-12","2028-08-12","2028-08-12","2028-08-12","2028-08-12","2028-08-12","2028-08-12","2028-08-12","2028-08-12","2028-08-12","2028-08-12","2028-08-12","2028-08-12","2028-08-12","2028-08-12","2028-08-12","2028-08-12","2028-08-12","2028-08-12","2028-08-12","2028-08-12","2028-08-12","2028-08-12","2028-08-12","2028-08-12","2028-08-12","2028-08-12","2028-08-12","2028-08-12","2028-08-12","2028-08-12","2028-08-12","2028-08-12","2028-08-12","2028-08-12","2028-08-12","2028-08-12","2028-08-12","2028-08-12","2028-08-12","2028-08-12","2028-08-12","2028-08-12","2028-08-12","2028-08-12","2028-08-12","2028-08-12","2028-08-12","2028-08-12","2028-08-12","2028-08-12","2028-08-12","2028-08-12","2028-08-12","2028-08-12","2028-08-12","2028-08-12","2028-08-12","2028-08-12",{"$f":"$F$12","v":"2028-08-12"},"2028-08-12","2028-08-12","2028-08-12","2028-08-12","2028-08-12","2028-08-12","2028-08-12","2028-08-12","2028-08-12","2028-08-12","2028-08-12","2028-08-12","2028-08-12","2028-08-12","2028-08-12","2028-08-12","2028-08-12","2028-08-12","2028-08-12","2028-08-12","2028-08-12","2028-08-12","2028-08-12","2028-08-12","2028-08-12","2028-08-12","2028-08-12","2028-08-12","2028-08-12","2028-08-12","2028-08-12","2028-08-12","2028-08-12","2028-08-12","2028-08-12","2028-08-12","2028-08-12","2028-08-12","2028-08-12","2028-08-12","2028-08-12","2028-08-12","2028-08-12","2028-08-12","2028-08-12","2028-08-12","2028-08-12","2028-08-12","2028-08-12","2028-08-12","2028-08-12","2028-08-12","2028-08-12","2028-08-12","2028-08-12","2028-08-12","2028-08-12","2028-08-12","2028-08-12","2028-08-12","2028-08-12","2028-08-12","2028-08-12",{"$f":"$F$12","v":"2028-08-12"},"2028-08-12","2028-08-12","2028-08-12","2028-08-12","2028-08-12","2028-08-12","2028-08-12","2028-08-12","2028-08-12","2028-08-12","2028-08-12","2028-08-12","2028-08-12","2028-08-12","2028-08-12","2028-08-12","2028-08-12","2028-08-12","2028-08-12","2028-08-12","2028-08-12","2028-08-12","2028-08-12","2028-08-12","2028-08-12","2028-08-12","2028-08-12","2028-08-12","2028-08-12","2028-08-12","2028-08-12","2028-08-12","2028-08-12","2028-08-12","2028-08-12","2028-08-12","2028-08-12","2028-08-12","2028-08-12","2028-08-12","2028-08-12","2028-08-12","2028-08-12","2028-08-12","2028-08-12","2028-08-12","2028-08-12","2028-08-12","2028-08-12","2028-08-12","2028-08-12","2028-08-12","2028-08-12","2028-08-12","2028-08-12","2028-08-12","2028-08-12","2028-08-12","2028-08-12","2028-08-12","2028-08-12","2028-08-12","2028-08-12",{"$f":"$F$12","v":"2028-08-12"},"2028-08-12","2028-08-12","2028-08-12","2028-08-12","2028-08-12","2028-08-12","2028-08-12","2028-08-12","2028-08-12","2028-08-12","2028-08-12","2028-08-12","2028-08-12","2028-08-12","2028-08-12","2028-08-12","2028-08-12","2028-08-12","2028-08-12","2028-08-12","2028-08-12","2028-08-12","2028-08-12","2028-08-12","2028-08-12","2028-08-12","2028-08-12","2028-08-12","2028-08-12","2028-08-12","2028-08-12","2028-08-12","2028-08-12","2028-08-12","2028-08-12","2028-08-12","2028-08-12","2028-08-12","2028-08-12","2028-08-12","2028-08-12","2028-08-12","2028-08-12","2028-08-12","2028-08-12","2028-08-12","2028-08-12","2028-08-12","2028-08-12","2028-08-12","2028-08-12","2028-08-12","2028-08-12","2028-08-12","2028-08-12","2028-08-12","2028-08-12","2028-08-12","2028-08-12","2028-08-12","2028-08-12","2028-08-12","2028-08-12",{"$f":"$F$12","v":"2028-08-12"},"2028-08-12","2028-08-12","2028-08-12","2028-08-12","2028-08-12","2028-08-12","2028-08-12","2028-08-12","2028-08-12","2028-08-12","2028-08-12","2028-08-12","2028-08-12","2028-08-12","2028-08-12","2028-08-12","2028-08-12","2028-08-12","2028-08-12","2028-08-12","2028-08-12","2028-08-12","2028-08-12","2028-08-12","2028-08-12","2028-08-12","2028-08-12","2028-08-12","2028-08-12","2028-08-12","2028-08-12","2028-08-12","2028-08-12","2028-08-12","2028-08-12","2028-08-12","2028-08-12","2028-08-12","2028-08-12","2028-08-12","2028-08-12","2028-08-12","2028-08-12","2028-08-12","2028-08-12","2028-08-12","2028-08-12","2028-08-12","2028-08-12","2028-08-12","2028-08-12","2028-08-12","2028-08-12","2028-08-12","2028-08-12","2028-08-12","2028-08-12","2028-08-12","2028-08-12","2028-08-12","2028-08-12","2028-08-12","2028-08-12",{"$f":"$F$12","v":"2028-08-12"},"2028-08-12","2028-08-12","2028-08-12","2028-08-12","2028-08-12","2028-08-12","2028-08-12","2028-08-12","2028-08-12","2028-08-12","2028-08-12","2028-08-12","2028-08-12","2028-08-12","2028-08-12","2028-08-12","2028-08-12","2028-08-12","2028-08-12","2028-08-12","2028-08-12","2028-08-12","2028-08-12","2028-08-12","2028-08-12","2028-08-12","2028-08-12","2028-08-12","2028-08-12","2028-08-12","2028-08-12","2028-08-12","2028-08-12","2028-08-12","2028-08-12","2028-08-12","2028-08-12","2028-08-12","2028-08-12","2028-08-12","2028-08-12","2028-08-12","2028-08-12","2028-08-12","2028-08-12","2028-08-12","2028-08-12","2028-08-12","2028-08-12","2028-08-12","2028-08-12","2028-08-12","2028-08-12","2028-08-12","2028-08-12","2028-08-12","2028-08-12","2028-08-12","2028-08-12","2028-08-12","2028-08-12","2028-08-12","2028-08-12",{"$f":"$F$12","v":"2028-08-12"},"2028-08-12","2028-08-12","2028-08-12","2028-08-12","2028-08-12","2028-08-12","2028-08-12","2028-08-12","2028-08-12","2028-08-12","2028-08-12","2028-08-12","2028-08-12","2028-08-12","2028-08-12","2028-08-12","2028-08-12","2028-08-12","2028-08-12","2028-08-12","2028-08-12","2028-08-12","2028-08-12","2028-08-12","2028-08-12","2028-08-12","2028-08-12","2028-08-12","2028-08-12","2028-08-12","2028-08-12","2028-08-12","2028-08-12","2028-08-12","2028-08-12","2028-08-12","2028-08-12","2028-08-12","2028-08-12","2028-08-12","2028-08-12","2028-08-12","2028-08-12","2028-08-12","2028-08-12","2028-08-12","2028-08-12","2028-08-12","2028-08-12","2028-08-12","2028-08-12","2028-08-12","2028-08-12","2028-08-12","2028-08-12","2028-08-12","2028-08-12","2028-08-12","2028-08-12","2028-08-12","2028-08-12","2028-08-12","2028-08-12",{"$f":"$F$12","v":"2028-08-12"},"2028-08-12","2028-08-12","2028-08-12","2028-08-12","2028-08-12","2028-08-12","2028-08-12","2028-08-12","2028-08-12","2028-08-12","2028-08-12","2028-08-12","2028-08-12","2028-08-12","2028-08-12","2028-08-12","2028-08-12","2028-08-12","2028-08-12","2028-08-12","2028-08-12","2028-08-12","2028-08-12","2028-08-12","2028-08-12","2028-08-12","2028-08-12","2028-08-12","2028-08-12","2028-08-12","2028-08-12","2028-08-12","2028-08-12","2028-08-12","2028-08-12","2028-08-12","2028-08-12","2028-08-12"]
[null,null,"Days of Construction",null,null,null,null,{"$f":"SUM(K13:XFD13)","v":729},"Days",null,{"$f":"IF(K7,K12-K9,K10-K9+1)*K6","v":18},30,31,30,31,31,28,31,30,31,30,31,31,30,31,30,31,31,29,31,{"$f":"IF(AE7,AE12-AE9,AE10-AE9+1)*AE6","v":30},31,30,31,11,0,0,0,0,0,0,0,0,0,0,0,0,0,0,0,0,0,0,0,0,0,0,0,0,0,0,0,0,0,0,0,0,0,0,0,0,0,0,0,{"$f":"IF(BW7,BW12-BW9,BW10-BW9+1)*BW6","v":0},0,0,0,0,0,0,0,0,0,0,0,0,0,0,0,0,0,0,0,0,0,0,0,0,0,0,0,0,0,0,0,0,0,0,0,0,0,0,0,0,0,0,0,0,0,0,0,0,0,0,0,0,0,0,0,0,0,0,0,0,0,0,0,{"$f":"IF(EI7,EI12-EI9,EI10-EI9+1)*EI6","v":0},0,0,0,0,0,0,0,0,0,0,0,0,0,0,0,0,0,0,0,0,0,0,0,0,0,0,0,0,0,0,0,0,0,0,0,0,0,0,0,0,0,0,0,0,0,0,0,0,0,0,0,0,0,0,0,0,0,0,0,0,0,0,0,{"$f":"IF(GU7,GU12-GU9,GU10-GU9+1)*GU6","v":0},0,0,0,0,0,0,0,0,0,0,0,0,0,0,0,0,0,0,0,0,0,0,0,0,0,0,0,0,0,0,0,0,0,0,0,0,0,0,0,0,0,0,0,0,0,0,0,0,0,0,0,0,0,0,0,0,0,0,0,0,0,0,0,{"$f":"IF(JG7,JG12-JG9,JG10-JG9+1)*JG6","v":0},0,0,0,0,0,0,0,0,0,0,0,0,0,0,0,0,0,0,0,0,0,0,0,0,0,0,0,0,0,0,0,0,0,0,0,0,0,0,0,0,0,0,0,0,0,0,0,0,0,0,0,0,0,0,0,0,0,0,0,0,0,0,0,{"$f":"IF(LS7,LS12-LS9,LS10-LS9+1)*LS6","v":0},0,0,0,0,0,0,0,0,0,0,0,0,0,0,0,0,0,0,0,0,0,0,0,0,0,0,0,0,0,0,0,0,0,0,0,0,0,0,0,0,0,0,0,0,0,0,0,0,0,0,0,0,0,0,0,0,0,0,0,0,0,0,0,{"$f":"IF(OE7,OE12-OE9,OE10-OE9+1)*OE6","v":0},0,0,0,0,0,0,0,0,0,0,0,0,0,0,0,0,0,0,0,0,0,0,0,0,0,0,0,0,0,0,0,0,0,0,0,0,0,0,0,0,0,0,0,0,0,0,0,0,0,0,0,0,0,0,0,0,0,0,0,0,0,0,0,{"$f":"IF(QQ7,QQ12-QQ9,QQ10-QQ9+1)*QQ6","v":0},0,0,0,0,0,0,0,0,0,0,0,0,0,0,0,0,0,0,0,0,0,0,0,0,0,0,0,0,0,0,0,0,0,0,0,0,0,0,0,0,0,0,0,0,0,0,0,0,0,0,0,0,0,0,0,0,0,0,0,0,0,0,0,{"$f":"IF(TC7,TC12-TC9,TC10-TC9+1)*TC6","v":0},0,0,0,0,0,0,0,0,0,0,0,0,0,0,0,0,0,0,0,0,0,0,0,0,0,0,0,0,0,0,0,0,0,0,0,0,0,0,0,0,0,0,0,0,0,0,0,0,0,0,0,0,0,0,0,0,0,0,0,0,0,0,0,{"$f":"IF(VO7,VO12-VO9,VO10-VO9+1)*VO6","v":0},0,0,0,0,0,0,0,0,0,0,0,0,0,0,0,0,0,0,0,0,0,0,0,0,0,0,0,0,0,0,0,0,0,0,0,0,0,0,0,0,0,0,0,0,0,0,0,0,0,0,0,0,0,0,0,0,0,0,0,0,0,0,0,{"$f":"IF(YA7,YA12-YA9,YA10-YA9+1)*YA6","v":0},0,0,0,0,0,0,0,0,0,0,0,0,0,0,0,0,0,0,0,0,0,0,0,0,0,0,0,0,0,0,0,0,0,0,0,0,0,0,0,0,0,0,0,0,0,0,0,0,0,0,0,0,0,0,0,0,0,0,0,0,0,0,0,{"$f":"IF(AAM7,AAM12-AAM9,AAM10-AAM9+1)*AAM6","v":0},0,0,0,0,0,0,0,0,0,0,0,0,0,0,0,0,0,0,0,0,0,0,0,0,0,0,0,0,0,0,0,0,0,0,0,0,0,0,0,0,0,0,0,0,0,0,0,0,0,0,0,0,0,0,0,0,0,0,0,0,0,0,0,{"$f":"IF(ACY7,ACY12-ACY9,ACY10-ACY9+1)*ACY6","v":0},0,0,0,0,0,0,0,0,0,0,0,0,0,0,0,0,0,0,0,0,0,0,0,0,0,0,0,0,0,0,0,0,0,0,0,0,0,0,0,0,0,0,0,0,0,0,0,0,0,0,0,0,0,0,0,0,0,0,0,0,0,0,0,{"$f":"IF(AFK7,AFK12-AFK9,AFK10-AFK9+1)*AFK6","v":0},0,0,0,0,0,0,0,0,0,0,0,0,0,0,0,0,0,0,0,0,0,0,0,0,0,0,0,0,0,0,0,0,0,0,0,0,0,0,0,0,0,0,0,0,0,0,0,0,0,0,0,0,0,0,0,0,0,0,0,0,0,0,0,{"$f":"IF(AHW7,AHW12-AHW9,AHW10-AHW9+1)*AHW6","v":0},0,0,0,0,0,0,0,0,0,0,0,0,0,0,0,0,0,0,0,0,0,0,0,0,0,0,0,0,0,0,0,0,0,0,0,0,0,0,0,0,0,0,0,0,0,0,0,0,0,0,0,0,0,0,0,0,0,0,0,0,0,0,0,{"$f":"IF(AKI7,AKI12-AKI9,AKI10-AKI9+1)*AKI6","v":0},0,0,0,0,0,0,0,0,0,0,0,0,0,0,0,0,0,0,0,0,0,0,0,0,0,0,0,0,0,0,0,0,0,0,0,0,0,0,0]
[null,null,"Day Counter Post Constuction",null,null,null,null,null,"Days",null,{"$f":"K4-K13","v":0},{"$f":"L4-L13","v":0},0,0,0,0,0,0,0,0,0,0,0,0,0,0,0,0,0,0,0,0,0,0,20,30,31,30,31,31,28,31,30,31,30,31,31,30,31,30,31,31,28,31,30,31,30,31,31,30,31,30,31,31,28,31,30,31,30,31,31,30,31,30,{"$f":"BW4-BW13","v":31},31,29,31,30,31,30,31,31,30,31,30,31,31,28,31,30,31,30,31,31,30,31,30,31,31,28,31,30,31,30,31,31,30,31,30,31,31,28,31,30,31,30,31,31,30,31,30,31,31,29,31,30,31,30,31,31,30,31,30,31,31,28,31,{"$f":"EI4-EI13","v":30},31,30,31,31,30,31,30,31,31,28,31,30,31,30,31,31,30,31,30,31,31,28,31,30,31,30,31,31,30,31,30,31,31,29,31,30,31,30,31,31,30,31,30,31,31,28,31,30,31,30,31,31,30,31,30,31,31,28,31,30,31,30,31,{"$f":"GU4-GU13","v":31},30,31,30,31,31,28,31,30,31,30,31,31,30,31,30,31,31,29,31,30,31,30,31,31,30,31,30,31,31,28,31,30,31,30,31,31,30,31,30,31,31,28,31,30,31,30,31,31,30,31,30,31,31,28,31,30,31,30,31,31,30,31,30,{"$f":"JG4-JG13","v":31},31,29,31,30,31,30,31,31,30,31,30,31,31,28,31,30,31,30,31,31,30,31,30,31,31,28,31,30,31,30,31,31,30,31,30,31,31,28,31,30,31,30,31,31,30,31,30,31,31,29,31,30,31,30,31,31,30,31,30,31,31,28,31,{"$f":"LS4-LS13","v":30},31,30,31,31,30,31,30,31,31,28,31,30,31,30,31,31,30,31,30,31,31,28,31,30,31,30,31,31,30,31,30,31,31,29,31,30,31,30,31,31,30,31,30,31,31,28,31,30,31,30,31,31,30,31,30,31,31,28,31,30,31,30,31,{"$f":"OE4-OE13","v":31},30,31,30,31,31,28,31,30,31,30,31,31,30,31,30,31,31,29,31,30,31,30,31,31,30,31,30,31,31,28,31,30,31,30,31,31,30,31,30,31,31,28,31,30,31,30,31,31,30,31,30,31,31,28,31,30,31,30,31,31,30,31,30,{"$f":"QQ4-QQ13","v":31},31,29,31,30,31,30,31,31,30,31,30,31,31,28,31,30,31,30,31,31,30,31,30,31,31,28,31,30,31,30,31,31,30,31,30,31,31,28,31,30,31,30,31,31,30,31,30,31,31,29,31,30,31,30,31,31,30,31,30,31,31,28,31,{"$f":"TC4-TC13","v":30},31,30,31,31,30,31,30,31,31,28,31,30,31,30,31,31,30,31,30,31,31,28,31,30,31,30,31,31,30,31,30,31,31,29,31,30,31,30,31,31,30,31,30,31,31,28,31,30,31,30,31,31,30,31,30,31,31,28,31,30,31,30,31,{"$f":"VO4-VO13","v":31},30,31,30,31,31,28,31,30,31,30,31,31,30,31,30,31,31,29,31,30,31,30,31,31,30,31,30,31,31,28,31,30,31,30,31,31,30,31,30,31,31,28,31,30,31,30,31,31,30,31,30,31,31,28,31,30,31,30,31,31,30,31,30,{"$f":"YA4-YA13","v":31},31,29,31,30,31,30,31,31,30,31,30,31,31,28,31,30,31,30,31,31,30,31,30,31,31,28,31,30,31,30,31,31,30,31,30,31,31,28,31,30,31,30,31,31,30,31,30,31,31,29,31,30,31,30,31,31,30,31,30,31,31,28,31,{"$f":"AAM4-AAM13","v":30},31,30,31,31,30,31,30,31,31,28,31,30,31,30,31,31,30,31,30,31,31,28,31,30,31,30,31,31,30,31,30,31,31,29,31,30,31,30,31,31,30,31,30,31,31,28,31,30,31,30,31,31,30,31,30,31,31,28,31,30,31,30,31,{"$f":"ACY4-ACY13","v":31},30,31,30,31,31,28,31,30,31,30,31,31,30,31,30,31,31,29,31,30,31,30,31,31,30,31,30,31,31,28,31,30,31,30,31,31,30,31,30,31,31,28,31,30,31,30,31,31,30,31,30,31,31,28,31,30,31,30,31,31,30,31,30,{"$f":"AFK4-AFK13","v":31},31,29,31,30,31,30,31,31,30,31,30,31,31,28,31,30,31,30,31,31,30,31,30,31,31,28,31,30,31,30,31,31,30,31,30,31,31,28,31,30,31,30,31,31,30,31,30,31,31,28,31,30,31,30,31,31,30,31,30,31,31,28,31,{"$f":"AHW4-AHW13","v":30},31,30,31,31,30,31,30,31,31,28,31,30,31,30,31,31,30,31,30,31,31,28,31,30,31,30,31,31,30,31,30,31,31,29,31,30,31,30,31,31,30,31,30,31,31,28,31,30,31,30,31,31,30,31,30,31,31,28,31,30,31,30,31,{"$f":"AKI4-AKI13","v":31},30,31,30,31,31,28,31,30,31,30,31,31,30,31,30,31,31,29,31,30,31,30,31,31,30,31,30,31,31,28,31,30,31,30,31,31,30,31,30]
[null,null,"Accumulated Days",null,null,null,null,null,"Counter",null,{"$f":"J15+K14","v":0},{"$f":"K15+L14","v":0},0,0,0,0,0,0,0,0,0,0,0,0,0,0,0,0,0,0,0,0,0,0,20,50,81,111,142,173,201,232,262,293,323,354,385,415,446,476,507,538,566,597,627,658,688,719,750,780,811,841,872,903,931,962,992,1023,1053,1084,1115,1145,1176,1206,1237,{"$f":"BW15+BX14","v":1268},1297,1328,1358,1389,1419,1450,1481,1511,1542,1572,1603,1634,1662,1693,1723,1754,1784,1815,1846,1876,1907,1937,1968,1999,2027,2058,2088,2119,2149,2180,2211,2241,2272,2302,2333,2364,2392,2423,2453,2484,2514,2545,2576,2606,2637,2667,2698,2729,2758,2789,2819,2850,2880,2911,2942,2972,3003,3033,3064,3095,3123,3154,3184,{"$f":"EI15+EJ14","v":3215},3245,3276,3307,3337,3368,3398,3429,3460,3488,3519,3549,3580,3610,3641,3672,3702,3733,3763,3794,3825,3853,3884,3914,3945,3975,4006,4037,4067,4098,4128,4159,4190,4219,4250,4280,4311,4341,4372,4403,4433,4464,4494,4525,4556,4584,4615,4645,4676,4706,4737,4768,4798,4829,4859,4890,4921,4949,4980,5010,5041,5071,5102,5133,{"$f":"GU15+GV14","v":5163},5194,5224,5255,5286,5314,5345,5375,5406,5436,5467,5498,5528,5559,5589,5620,5651,5680,5711,5741,5772,5802,5833,5864,5894,5925,5955,5986,6017,6045,6076,6106,6137,6167,6198,6229,6259,6290,6320,6351,6382,6410,6441,6471,6502,6532,6563,6594,6624,6655,6685,6716,6747,6775,6806,6836,6867,6897,6928,6959,6989,7020,7050,7081,{"$f":"JG15+JH14","v":7112},7141,7172,7202,7233,7263,7294,7325,7355,7386,7416,7447,7478,7506,7537,7567,7598,7628,7659,7690,7720,7751,7781,7812,7843,7871,7902,7932,7963,7993,8024,8055,8085,8116,8146,8177,8208,8236,8267,8297,8328,8358,8389,8420,8450,8481,8511,8542,8573,8602,8633,8663,8694,8724,8755,8786,8816,8847,8877,8908,8939,8967,8998,9028,{"$f":"LS15+LT14","v":9059},9089,9120,9151,9181,9212,9242,9273,9304,9332,9363,9393,9424,9454,9485,9516,9546,9577,9607,9638,9669,9697,9728,9758,9789,9819,9850,9881,9911,9942,9972,10003,10034,10063,10094,10124,10155,10185,10216,10247,10277,10308,10338,10369,10400,10428,10459,10489,10520,10550,10581,10612,10642,10673,10703,10734,10765,10793,10824,10854,10885,10915,10946,10977,{"$f":"OE15+OF14","v":11007},11038,11068,11099,11130,11158,11189,11219,11250,11280,11311,11342,11372,11403,11433,11464,11495,11524,11555,11585,11616,11646,11677,11708,11738,11769,11799,11830,11861,11889,11920,11950,11981,12011,12042,12073,12103,12134,12164,12195,12226,12254,12285,12315,12346,12376,12407,12438,12468,12499,12529,12560,12591,12619,12650,12680,12711,12741,12772,12803,12833,12864,12894,12925,{"$f":"QQ15+QR14","v":12956},12985,13016,13046,13077,13107,13138,13169,13199,13230,13260,13291,13322,13350,13381,13411,13442,13472,13503,13534,13564,13595,13625,13656,13687,13715,13746,13776,13807,13837,13868,13899,13929,13960,13990,14021,14052,14080,14111,14141,14172,14202,14233,14264,14294,14325,14355,14386,14417,14446,14477,14507,14538,14568,14599,14630,14660,14691,14721,14752,14783,14811,14842,14872,{"$f":"TC15+TD14","v":14903},14933,14964,14995,15025,15056,15086,15117,15148,15176,15207,15237,15268,15298,15329,15360,15390,15421,15451,15482,15513,15541,15572,15602,15633,15663,15694,15725,15755,15786,15816,15847,15878,15907,15938,15968,15999,16029,16060,16091,16121,16152,16182,16213,16244,16272,16303,16333,16364,16394,16425,16456,16486,16517,16547,16578,16609,16637,16668,16698,16729,16759,16790,16821,{"$f":"VO15+VP14","v":16851},16882,16912,16943,16974,17002,17033,17063,17094,17124,17155,17186,17216,17247,17277,17308,17339,17368,17399,17429,17460,17490,17521,17552,17582,17613,17643,17674,17705,17733,17764,17794,17825,17855,17886,17917,17947,17978,18008,18039,18070,18098,18129,18159,18190,18220,18251,18282,18312,18343,18373,18404,18435,18463,18494,18524,18555,18585,18616,18647,18677,18708,18738,18769,{"$f":"YA15+YB14","v":18800},18829,18860,18890,18921,18951,18982,19013,19043,19074,19104,19135,19166,19194,19225,19255,19286,19316,19347,19378,19408,19439,19469,19500,19531,19559,19590,19620,19651,19681,19712,19743,19773,19804,19834,19865,19896,19924,19955,19985,20016,20046,20077,20108,20138,20169,20199,20230,20261,20290,20321,20351,20382,20412,20443,20474,20504,20535,20565,20596,20627,20655,20686,20716,{"$f":"AAM15+AAN14","v":20747},20777,20808,20839,20869,20900,20930,20961,20992,21020,21051,21081,21112,21142,21173,21204,21234,21265,21295,21326,21357,21385,21416,21446,21477,21507,21538,21569,21599,21630,21660,21691,21722,21751,21782,21812,21843,21873,21904,21935,21965,21996,22026,22057,22088,22116,22147,22177,22208,22238,22269,22300,22330,22361,22391,22422,22453,22481,22512,22542,22573,22603,22634,22665,{"$f":"ACY15+ACZ14","v":22695},22726,22756,22787,22818,22846,22877,22907,22938,22968,22999,23030,23060,23091,23121,23152,23183,23212,23243,23273,23304,23334,23365,23396,23426,23457,23487,23518,23549,23577,23608,23638,23669,23699,23730,23761,23791,23822,23852,23883,23914,23942,23973,24003,24034,24064,24095,24126,24156,24187,24217,24248,24279,24307,24338,24368,24399,24429,24460,24491,24521,24552,24582,24613,{"$f":"AFK15+AFL14","v":24644},24673,24704,24734,24765,24795,24826,24857,24887,24918,24948,24979,25010,25038,25069,25099,25130,25160,25191,25222,25252,25283,25313,25344,25375,25403,25434,25464,25495,25525,25556,25587,25617,25648,25678,25709,25740,25768,25799,25829,25860,25890,25921,25952,25982,26013,26043,26074,26105,26133,26164,26194,26225,26255,26286,26317,26347,26378,26408,26439,26470,26498,26529,26559,{"$f":"AHW15+AHX14","v":26590},26620,26651,26682,26712,26743,26773,26804,26835,26863,26894,26924,26955,26985,27016,27047,27077,27108,27138,27169,27200,27228,27259,27289,27320,27350,27381,27412,27442,27473,27503,27534,27565,27594,27625,27655,27686,27716,27747,27778,27808,27839,27869,27900,27931,27959,27990,28020,28051,28081,28112,28143,28173,28204,28234,28265,28296,28324,28355,28385,28416,28446,28477,28508,{"$f":"AKI15+AKJ14","v":28538},28569,28599,28630,28661,28689,28720,28750,28781,28811,28842,28873,28903,28934,28964,28995,29026,29055,29086,29116,29147,29177,29208,29239,29269,29300,29330,29361,29392,29420,29451,29481,29512,29542,29573,29604,29634,29665,29695]
[null,null,"Operating Period",null,"Total Days",{"$f":"'InputC Partial Month'!F13","v":14609},null,{"$f":"SUM(K16:XFD16)","v":481},"Flag",null,{"$f":"(AND(K15>0,J15<=$F$16))*1","v":0},{"$f":"(AND(L15>0,K15<=$F$16))*1","v":0},0,0,0,0,0,0,0,0,0,0,0,0,0,0,0,0,0,0,{"$f":"(AND(AE15>0,AD15<=$F$16))*1","v":0},0,0,0,1,1,1,1,1,1,1,1,1,1,1,1,1,1,1,1,1,1,1,1,1,1,1,1,1,1,1,1,1,1,1,1,1,1,1,1,1,1,1,1,1,{"$f":"(AND(BX15>0,BW15<=$F$16))*1","v":1},1,1,1,1,1,1,1,1,1,1,1,1,1,1,1,1,1,1,1,1,1,1,1,1,1,1,1,1,1,1,1,1,1,1,1,1,1,1,1,1,1,1,1,1,1,1,1,1,1,1,1,1,1,1,1,1,1,1,1,1,1,1,1,{"$f":"(AND(EJ15>0,EI15<=$F$16))*1","v":1},1,1,1,1,1,1,1,1,1,1,1,1,1,1,1,1,1,1,1,1,1,1,1,1,1,1,1,1,1,1,1,1,1,1,1,1,1,1,1,1,1,1,1,1,1,1,1,1,1,1,1,1,1,1,1,1,1,1,1,1,1,1,1,{"$f":"(AND(GV15>0,GU15<=$F$16))*1","v":1},1,1,1,1,1,1,1,1,1,1,1,1,1,1,1,1,1,1,1,1,1,1,1,1,1,1,1,1,1,1,1,1,1,1,1,1,1,1,1,1,1,1,1,1,1,1,1,1,1,1,1,1,1,1,1,1,1,1,1,1,1,1,1,{"$f":"(AND(JH15>0,JG15<=$F$16))*1","v":1},1,1,1,1,1,1,1,1,1,1,1,1,1,1,1,1,1,1,1,1,1,1,1,1,1,1,1,1,1,1,1,1,1,1,1,1,1,1,1,1,1,1,1,1,1,1,1,1,1,1,1,1,1,1,1,1,1,1,1,1,1,1,1,{"$f":"(AND(LT15>0,LS15<=$F$16))*1","v":1},1,1,1,1,1,1,1,1,1,1,1,1,1,1,1,1,1,1,1,1,1,1,1,1,1,1,1,1,1,1,1,1,1,1,1,1,1,1,1,1,1,1,1,1,1,1,1,1,1,1,1,1,1,1,1,1,1,1,1,1,1,1,1,{"$f":"(AND(OF15>0,OE15<=$F$16))*1","v":1},1,1,1,1,1,1,1,1,1,1,1,1,1,1,1,1,1,1,1,1,1,1,1,1,1,1,1,1,1,1,1,1,1,1,1,1,1,1,1,1,1,1,1,1,1,1,1,1,1,1,1,1,1,1,1,1,1,1,1,1,1,1,1,{"$f":"(AND(QR15>0,QQ15<=$F$16))*1","v":1},1,1,1,1,1,1,1,1,1,1,1,1,1,1,1,1,1,1,1,1,1,1,1,1,1,1,1,1,1,1,1,1,1,1,1,1,1,1,1,1,1,1,1,1,1,1,1,1,1,1,1,1,1,1,1,0,0,0,0,0,0,0,0,{"$f":"(AND(TD15>0,TC15<=$F$16))*1","v":0},0,0,0,0,0,0,0,0,0,0,0,0,0,0,0,0,0,0,0,0,0,0,0,0,0,0,0,0,0,0,0,0,0,0,0,0,0,0,0,0,0,0,0,0,0,0,0,0,0,0,0,0,0,0,0,0,0,0,0,0,0,0,0,{"$f":"(AND(VP15>0,VO15<=$F$16))*1","v":0},0,0,0,0,0,0,0,0,0,0,0,0,0,0,0,0,0,0,0,0,0,0,0,0,0,0,0,0,0,0,0,0,0,0,0,0,0,0,0,0,0,0,0,0,0,0,0,0,0,0,0,0,0,0,0,0,0,0,0,0,0,0,0,{"$f":"(AND(YB15>0,YA15<=$F$16))*1","v":0},0,0,0,0,0,0,0,0,0,0,0,0,0,0,0,0,0,0,0,0,0,0,0,0,0,0,0,0,0,0,0,0,0,0,0,0,0,0,0,0,0,0,0,0,0,0,0,0,0,0,0,0,0,0,0,0,0,0,0,0,0,0,0,{"$f":"(AND(AAN15>0,AAM15<=$F$16))*1","v":0},0,0,0,0,0,0,0,0,0,0,0,0,0,0,0,0,0,0,0,0,0,0,0,0,0,0,0,0,0,0,0,0,0,0,0,0,0,0,0,0,0,0,0,0,0,0,0,0,0,0,0,0,0,0,0,0,0,0,0,0,0,0,0,{"$f":"(AND(ACZ15>0,ACY15<=$F$16))*1","v":0},0,0,0,0,0,0,0,0,0,0,0,0,0,0,0,0,0,0,0,0,0,0,0,0,0,0,0,0,0,0,0,0,0,0,0,0,0,0,0,0,0,0,0,0,0,0,0,0,0,0,0,0,0,0,0,0,0,0,0,0,0,0,0,{"$f":"(AND(AFL15>0,AFK15<=$F$16))*1","v":0},0,0,0,0,0,0,0,0,0,0,0,0,0,0,0,0,0,0,0,0,0,0,0,0,0,0,0,0,0,0,0,0,0,0,0,0,0,0,0,0,0,0,0,0,0,0,0,0,0,0,0,0,0,0,0,0,0,0,0,0,0,0,0,{"$f":"(AND(AHX15>0,AHW15<=$F$16))*1","v":0},0,0,0,0,0,0,0,0,0,0,0,0,0,0,0,0,0,0,0,0,0,0,0,0,0,0,0,0,0,0,0,0,0,0,0,0,0,0,0,0,0,0,0,0,0,0,0,0,0,0,0,0,0,0,0,0,0,0,0,0,0,0,0,{"$f":"(AND(AKJ15>0,AKI15<=$F$16))*1","v":0},0,0,0,0,0,0,0,0,0,0,0,0,0,0,0,0,0,0,0,0,0,0,0,0,0,0,0,0,0,0,0,0,0,0,0,0,0,0]
[null,null,"Final Operating Period",null,"Total Days",{"$f":"'InputC Partial Month'!F13","v":14609},null,{"$f":"SUM(K17:XFD17)","v":1},"Flag",null,{"$f":"(AND(J15<=$F$17,K15>$F$17))*1","v":0},{"$f":"(AND(K15<=$F$17,L15>$F$17))*1","v":0},0,0,0,0,0,0,0,0,0,0,0,0,0,0,0,0,0,0,0,0,0,0,0,0,0,0,0,0,0,0,0,0,0,0,0,0,0,0,0,0,0,0,0,0,0,0,0,0,0,0,0,0,0,0,0,0,0,0,0,0,0,0,0,{"$f":"(AND(BW15<=$F$17,BX15>$F$17))*1","v":0},0,0,0,0,0,0,0,0,0,0,0,0,0,0,0,0,0,0,0,0,0,0,0,0,0,0,0,0,0,0,0,0,0,0,0,0,0,0,0,0,0,0,0,0,0,0,0,0,0,0,0,0,0,0,0,0,0,0,0,0,0,0,0,{"$f":"(AND(EI15<=$F$17,EJ15>$F$17))*1","v":0},0,0,0,0,0,0,0,0,0,0,0,0,0,0,0,0,0,0,0,0,0,0,0,0,0,0,0,0,0,0,0,0,0,0,0,0,0,0,0,0,0,0,0,0,0,0,0,0,0,0,0,0,0,0,0,0,0,0,0,0,0,0,0,{"$f":"(AND(GU15<=$F$17,GV15>$F$17))*1","v":0},0,0,0,0,0,0,0,0,0,0,0,0,0,0,0,0,0,0,0,0,0,0,0,0,0,0,0,0,0,0,0,0,0,0,0,0,0,0,0,0,0,0,0,0,0,0,0,0,0,0,0,0,0,0,0,0,0,0,0,0,0,0,0,{"$f":"(AND(JG15<=$F$17,JH15>$F$17))*1","v":0},0,0,0,0,0,0,0,0,0,0,0,0,0,0,0,0,0,0,0,0,0,0,0,0,0,0,0,0,0,0,0,0,0,0,0,0,0,0,0,0,0,0,0,0,0,0,0,0,0,0,0,0,0,0,0,0,0,0,0,0,0,0,0,{"$f":"(AND(LS15<=$F$17,LT15>$F$17))*1","v":0},0,0,0,0,0,0,0,0,0,0,0,0,0,0,0,0,0,0,0,0,0,0,0,0,0,0,0,0,0,0,0,0,0,0,0,0,0,0,0,0,0,0,0,0,0,0,0,0,0,0,0,0,0,0,0,0,0,0,0,0,0,0,0,{"$f":"(AND(OE15<=$F$17,OF15>$F$17))*1","v":0},0,0,0,0,0,0,0,0,0,0,0,0,0,0,0,0,0,0,0,0,0,0,0,0,0,0,0,0,0,0,0,0,0,0,0,0,0,0,0,0,0,0,0,0,0,0,0,0,0,0,0,0,0,0,0,0,0,0,0,0,0,0,0,{"$f":"(AND(QQ15<=$F$17,QR15>$F$17))*1","v":0},0,0,0,0,0,0,0,0,0,0,0,0,0,0,0,0,0,0,0,0,0,0,0,0,0,0,0,0,0,0,0,0,0,0,0,0,0,0,0,0,0,0,0,0,0,0,0,0,0,0,0,0,0,0,1,0,0,0,0,0,0,0,0,{"$f":"(AND(TC15<=$F$17,TD15>$F$17))*1","v":0},0,0,0,0,0,0,0,0,0,0,0,0,0,0,0,0,0,0,0,0,0,0,0,0,0,0,0,0,0,0,0,0,0,0,0,0,0,0,0,0,0,0,0,0,0,0,0,0,0,0,0,0,0,0,0,0,0,0,0,0,0,0,0,{"$f":"(AND(VO15<=$F$17,VP15>$F$17))*1","v":0},0,0,0,0,0,0,0,0,0,0,0,0,0,0,0,0,0,0,0,0,0,0,0,0,0,0,0,0,0,0,0,0,0,0,0,0,0,0,0,0,0,0,0,0,0,0,0,0,0,0,0,0,0,0,0,0,0,0,0,0,0,0,0,{"$f":"(AND(YA15<=$F$17,YB15>$F$17))*1","v":0},0,0,0,0,0,0,0,0,0,0,0,0,0,0,0,0,0,0,0,0,0,0,0,0,0,0,0,0,0,0,0,0,0,0,0,0,0,0,0,0,0,0,0,0,0,0,0,0,0,0,0,0,0,0,0,0,0,0,0,0,0,0,0,{"$f":"(AND(AAM15<=$F$17,AAN15>$F$17))*1","v":0},0,0,0,0,0,0,0,0,0,0,0,0,0,0,0,0,0,0,0,0,0,0,0,0,0,0,0,0,0,0,0,0,0,0,0,0,0,0,0,0,0,0,0,0,0,0,0,0,0,0,0,0,0,0,0,0,0,0,0,0,0,0,0,{"$f":"(AND(ACY15<=$F$17,ACZ15>$F$17))*1","v":0},0,0,0,0,0,0,0,0,0,0,0,0,0,0,0,0,0,0,0,0,0,0,0,0,0,0,0,0,0,0,0,0,0,0,0,0,0,0,0,0,0,0,0,0,0,0,0,0,0,0,0,0,0,0,0,0,0,0,0,0,0,0,0,{"$f":"(AND(AFK15<=$F$17,AFL15>$F$17))*1","v":0},0,0,0,0,0,0,0,0,0,0,0,0,0,0,0,0,0,0,0,0,0,0,0,0,0,0,0,0,0,0,0,0,0,0,0,0,0,0,0,0,0,0,0,0,0,0,0,0,0,0,0,0,0,0,0,0,0,0,0,0,0,0,0,{"$f":"(AND(AHW15<=$F$17,AHX15>$F$17))*1","v":0},0,0,0,0,0,0,0,0,0,0,0,0,0,0,0,0,0,0,0,0,0,0,0,0,0,0,0,0,0,0,0,0,0,0,0,0,0,0,0,0,0,0,0,0,0,0,0,0,0,0,0,0,0,0,0,0,0,0,0,0,0,0,0,{"$f":"(AND(AKI15<=$F$17,AKJ15>$F$17))*1","v":0},0,0,0,0,0,0,0,0,0,0,0,0,0,0,0,0,0,0,0,0,0,0,0,0,0,0,0,0,0,0,0,0,0,0,0,0,0,0]
[]
[null,null,"End of Operating Period",null,"Date",{"$f":"'InputC Partial Month'!F10","v":"2068-08-12"},null,null,"Date",null,{"$f":"$F$19","v":"2068-08-12"},{"$f":"$F$19","v":"2068-08-12"},"2068-08-12","2068-08-12","2068-08-12","2068-08-12","2068-08-12","2068-08-12","2068-08-12","2068-08-12","2068-08-12","2068-08-12","2068-08-12","2068-08-12","2068-08-12","2068-08-12","2068-08-12","2068-08-12","2068-08-12","2068-08-12","2068-08-12","2068-08-12","2068-08-12","2068-08-12","2068-08-12","2068-08-12","2068-08-12","2068-08-12","2068-08-12","2068-08-12","2068-08-12","2068-08-12","2068-08-12","2068-08-12","2068-08-12","2068-08-12","2068-08-12","2068-08-12","2068-08-12","2068-08-12","2068-08-12","2068-08-12","2068-08-12","2068-08-12","2068-08-12","2068-08-12","2068-08-12","2068-08-12","2068-08-12","2068-08-12","2068-08-12","2068-08-12","2068-08-12","2068-08-12","2068-08-12","2068-08-12","2068-08-12","2068-08-12","2068-08-12","2068-08-12","2068-08-12","2068-08-12","2068-08-12","2068-08-12","2068-08-12",{"$f":"$F$19","v":"2068-08-12"},"2068-08-12","2068-08-12","2068-08-12","2068-08-12","2068-08-12","2068-08-12","2068-08-12","2068-08-12","2068-08-12","2068-08-12","2068-08-12","2068-08-12","2068-08-12","2068-08-12","2068-08-12","2068-08-12","2068-08-12","2068-08-12","2068-08-12","2068-08-12","2068-08-12","2068-08-12","2068-08-12","2068-08-12","2068-08-12","2068-08-12","2068-08-12","2068-08-12","2068-08-12","2068-08-12","2068-08-12","2068-08-12","2068-08-12","2068-08-12","2068-08-12","2068-08-12","2068-08-12","2068-08-12","2068-08-12","2068-08-12","2068-08-12","2068-08-12","2068-08-12","2068-08-12","2068-08-12","2068-08-12","2068-08-12","2068-08-12","2068-08-12","2068-08-12","2068-08-12","2068-08-12","2068-08-12","2068-08-12","2068-08-12","2068-08-12","2068-08-12","2068-08-12","2068-08-12","2068-08-12","2068-08-12","2068-08-12","2068-08-12",{"$f":"$F$19","v":"2068-08-12"},"2068-08-12","2068-08-12","2068-08-12","2068-08-12","2068-08-12","2068-08-12","2068-08-12","2068-08-12","2068-08-12","2068-08-12","2068-08-12","2068-08-12","2068-08-12","2068-08-12","2068-08-12","2068-08-12","2068-08-12","2068-08-12","2068-08-12","2068-08-12","2068-08-12","2068-08-12","2068-08-12","2068-08-12","2068-08-12","2068-08-12","2068-08-12","2068-08-12","2068-08-12","2068-08-12","2068-08-12","2068-08-12","2068-08-12","2068-08-12","2068-08-12","2068-08-12","2068-08-12","2068-08-12","2068-08-12","2068-08-12","2068-08-12","2068-08-12","2068-08-12","2068-08-12","2068-08-12","2068-08-12","2068-08-12","2068-08-12","2068-08-12","2068-08-12","2068-08-12","2068-08-12","2068-08-12","2068-08-12","2068-08-12","2068-08-12","2068-08-12","2068-08-12","2068-08-12","2068-08-12","2068-08-12","2068-08-12","2068-08-12",{"$f":"$F$19","v":"2068-08-12"},"2068-08-12","2068-08-12","2068-08-12","2068-08-12","2068-08-12","2068-08-12","2068-08-12","2068-08-12","2068-08-12","2068-08-12","2068-08-12","2068-08-12","2068-08-12","2068-08-12","2068-08-12","2068-08-12","2068-08-12","2068-08-12","2068-08-12","2068-08-12","2068-08-12","2068-08-12","2068-08-12","2068-08-12","2068-08-12","2068-08-12","2068-08-12","2068-08-12","2068-08-12","2068-08-12","2068-08-12","2068-08-12","2068-08-12","2068-08-12","2068-08-12","2068-08-12","2068-08-12","2068-08-12","2068-08-12","2068-08-12","2068-08-12","2068-08-12","2068-08-12","2068-08-12","2068-08-12","2068-08-12","2068-08-12","2068-08-12","2068-08-12","2068-08-12","2068-08-12","2068-08-12","2068-08-12","2068-08-12","2068-08-12","2068-08-12","2068-08-12","2068-08-12","2068-08-12","2068-08-12","2068-08-12","2068-08-12","2068-08-12",{"$f":"$F$19","v":"2068-08-12"},"2068-08-12","2068-08-12","2068-08-12","2068-08-12","2068-08-12","2068-08-12","2068-08-12","2068-08-12","2068-08-12","2068-08-12","2068-08-12","2068-08-12","2068-08-12","2068-08-12","2068-08-12","2068-08-12","2068-08-12","2068-08-12","2068-08-12","2068-08-12","2068-08-12","2068-08-12","2068-08-12","2068-08-12","2068-08-12","2068-08-12","2068-08-12","2068-08-12","2068-08-12","2068-08-12","2068-08-12","2068-08-12","2068-08-12","2068-08-12","2068-08-12","2068-08-12","2068-08-12","2068-08-12","2068-08-12","2068-08-12","2068-08-12","2068-08-12","2068-08-12","2068-08-12","2068-08-12","2068-08-12","2068-08-12","2068-08-12","2068-08-12","2068-08-12","2068-08-12","2068-08-12","2068-08-12","2068-08-12","2068-08-12","2068-08-12","2068-08-12","2068-08-12","2068-08-12","2068-08-12","2068-08-12","2068-08-12","2068-08-12",{"$f":"$F$19","v":"2068-08-12"},"2068-08-12","2068-08-12","2068-08-12","2068-08-12","2068-08-12","2068-08-12","2068-08-12","2068-08-12","2068-08-12","2068-08-12","2068-08-12","2068-08-12","2068-08-12","2068-08-12","2068-08-12","2068-08-12","2068-08-12","2068-08-12","2068-08-12","2068-08-12","2068-08-12","2068-08-12","2068-08-12","2068-08-12","2068-08-12","2068-08-12","2068-08-12","2068-08-12","2068-08-12","2068-08-12","2068-08-12","2068-08-12","2068-08-12","2068-08-12","2068-08-12","2068-08-12","2068-08-12","2068-08-12","2068-08-12","2068-08-12","2068-08-12","2068-08-12","2068-08-12","2068-08-12","2068-08-12","2068-08-12","2068-08-12","2068-08-12","2068-08-12","2068-08-12","2068-08-12","2068-08-12","2068-08-12","2068-08-12","2068-08-12","2068-08-12","2068-08-12","2068-08-12","2068-08-12","2068-08-12","2068-08-12","2068-08-12","2068-08-12",{"$f":"$F$19","v":"2068-08-12"},"2068-08-12","2068-08-12","2068-08-12","2068-08-12","2068-08-12","2068-08-12","2068-08-12","2068-08-12","2068-08-12","2068-08-12","2068-08-12","2068-08-12","2068-08-12","2068-08-12","2068-08-12","2068-08-12","2068-08-12","2068-08-12","2068-08-12","2068-08-12","2068-08-12","2068-08-12","2068-08-12","2068-08-12","2068-08-12","2068-08-12","2068-08-12","2068-08-12","2068-08-12","2068-08-12","2068-08-12","2068-08-12","2068-08-12","2068-08-12","2068-08-12","2068-08-12","2068-08-12","2068-08-12","2068-08-12","2068-08-12","2068-08-12","2068-08-12","2068-08-12","2068-08-12","2068-08-12","2068-08-12","2068-08-12","2068-08-12","2068-08-12","2068-08-12","2068-08-12","2068-08-12","2068-08-12","2068-08-12","2068-08-12","2068-08-12","2068-08-12","2068-08-12","2068-08-12","2068-08-12","2068-08-12","2068-08-12","2068-08-12",{"$f":"$F$19","v":"2068-08-12"},"2068-08-12","2068-08-12","2068-08-12","2068-08-12","2068-08-12","2068-08-12","2068-08-12","2068-08-12","2068-08-12","2068-08-12","2068-08-12","2068-08-12","2068-08-12","2068-08-12","2068-08-12","2068-08-12","2068-08-12","2068-08-12","2068-08-12","2068-08-12","2068-08-12","2068-08-12","2068-08-12","2068-08-12","2068-08-12","2068-08-12","2068-08-12","2068-08-12","2068-08-12","2068-08-12","2068-08-12","2068-08-12","2068-08-12","2068-08-12","2068-08-12","2068-08-12","2068-08-12","2068-08-12","2068-08-12","2068-08-12","2068-08-12","2068-08-12","2068-08-12","2068-08-12","2068-08-12","2068-08-12","2068-08-12","2068-08-12","2068-08-12","2068-08-12","2068-08-12","2068-08-12","2068-08-12","2068-08-12","2068-08-12","2068-08-12","2068-08-12","2068-08-12","2068-08-12","2068-08-12","2068-08-12","2068-08-12","2068-08-12",{"$f":"$F$19","v":"2068-08-12"},"2068-08-12","2068-08-12","2068-08-12","2068-08-12","2068-08-12","2068-08-12","2068-08-12","2068-08-12","2068-08-12","2068-08-12","2068-08-12","2068-08-12","2068-08-12","2068-08-12","2068-08-12","2068-08-12","2068-08-12","2068-08-12","2068-08-12","2068-08-12","2068-08-12","2068-08-12","2068-08-12","2068-08-12","2068-08-12","2068-08-12","2068-08-12","2068-08-12","2068-08-12","2068-08-12","2068-08-12","2068-08-12","2068-08-12","2068-08-12","2068-08-12","2068-08-12","2068-08-12","2068-08-12","2068-08-12","2068-08-12","2068-08-12","2068-08-12","2068-08-12","2068-08-12","2068-08-12","2068-08-12","2068-08-12","2068-08-12","2068-08-12","2068-08-12","2068-08-12","2068-08-12","2068-08-12","2068-08-12","2068-08-12","2068-08-12","2068-08-12","2068-08-12","2068-08-12","2068-08-12","2068-08-12","2068-08-12","2068-08-12",{"$f":"$F$19","v":"2068-08-12"},"2068-08-12","2068-08-12","2068-08-12","2068-08-12","2068-08-12","2068-08-12","2068-08-12","2068-08-12","2068-08-12","2068-08-12","2068-08-12","2068-08-12","2068-08-12","2068-08-12","2068-08-12","2068-08-12","2068-08-12","2068-08-12","2068-08-12","2068-08-12","2068-08-12","2068-08-12","2068-08-12","2068-08-12","2068-08-12","2068-08-12","2068-08-12","2068-08-12","2068-08-12","2068-08-12","2068-08-12","2068-08-12","2068-08-12","2068-08-12","2068-08-12","2068-08-12","2068-08-12","2068-08-12","2068-08-12","2068-08-12","2068-08-12","2068-08-12","2068-08-12","2068-08-12","2068-08-12","2068-08-12","2068-08-12","2068-08-12","2068-08-12","2068-08-12","2068-08-12","2068-08-12","2068-08-12","2068-08-12","2068-08-12","2068-08-12","2068-08-12","2068-08-12","2068-08-12","2068-08-12","2068-08-12","2068-08-12","2068-08-12",{"$f":"$F$19","v":"2068-08-12"},"2068-08-12","2068-08-12","2068-08-12","2068-08-12","2068-08-12","2068-08-12","2068-08-12","2068-08-12","2068-08-12","2068-08-12","2068-08-12","2068-08-12","2068-08-12","2068-08-12","2068-08-12","2068-08-12","2068-08-12","2068-08-12","2068-08-12","2068-08-12","2068-08-12","2068-08-12","2068-08-12","2068-08-12","2068-08-12","2068-08-12","2068-08-12","2068-08-12","2068-08-12","2068-08-12","2068-08-12","2068-08-12","2068-08-12","2068-08-12","2068-08-12","2068-08-12","2068-08-12","2068-08-12","2068-08-12","2068-08-12","2068-08-12","2068-08-12","2068-08-12","2068-08-12","2068-08-12","2068-08-12","2068-08-12","2068-08-12","2068-08-12","2068-08-12","2068-08-12","2068-08-12","2068-08-12","2068-08-12","2068-08-12","2068-08-12","2068-08-12","2068-08-12","2068-08-12","2068-08-12","2068-08-12","2068-08-12","2068-08-12",{"$f":"$F$19","v":"2068-08-12"},"2068-08-12","2068-08-12","2068-08-12","2068-08-12","2068-08-12","2068-08-12","2068-08-12","2068-08-12","2068-08-12","2068-08-12","2068-08-12","2068-08-12","2068-08-12","2068-08-12","2068-08-12","2068-08-12","2068-08-12","2068-08-12","2068-08-12","2068-08-12","2068-08-12","2068-08-12","2068-08-12","2068-08-12","2068-08-12","2068-08-12","2068-08-12","2068-08-12","2068-08-12","2068-08-12","2068-08-12","2068-08-12","2068-08-12","2068-08-12","2068-08-12","2068-08-12","2068-08-12","2068-08-12","2068-08-12","2068-08-12","2068-08-12","2068-08-12","2068-08-12","2068-08-12","2068-08-12","2068-08-12","2068-08-12","2068-08-12","2068-08-12","2068-08-12","2068-08-12","2068-08-12","2068-08-12","2068-08-12","2068-08-12","2068-08-12","2068-08-12","2068-08-12","2068-08-12","2068-08-12","2068-08-12","2068-08-12","2068-08-12",{"$f":"$F$19","v":"2068-08-12"},"2068-08-12","2068-08-12","2068-08-12","2068-08-12","2068-08-12","2068-08-12","2068-08-12","2068-08-12","2068-08-12","2068-08-12","2068-08-12","2068-08-12","2068-08-12","2068-08-12","2068-08-12","2068-08-12","2068-08-12","2068-08-12","2068-08-12","2068-08-12","2068-08-12","2068-08-12","2068-08-12","2068-08-12","2068-08-12","2068-08-12","2068-08-12","2068-08-12","2068-08-12","2068-08-12","2068-08-12","2068-08-12","2068-08-12","2068-08-12","2068-08-12","2068-08-12","2068-08-12","2068-08-12","2068-08-12","2068-08-12","2068-08-12","2068-08-12","2068-08-12","2068-08-12","2068-08-12","2068-08-12","2068-08-12","2068-08-12","2068-08-12","2068-08-12","2068-08-12","2068-08-12","2068-08-12","2068-08-12","2068-08-12","2068-08-12","2068-08-12","2068-08-12","2068-08-12","2068-08-12","2068-08-12","2068-08-12","2068-08-12",{"$f":"$F$19","v":"2068-08-12"},"2068-08-12","2068-08-12","2068-08-12","2068-08-12","2068-08-12","2068-08-12","2068-08-12","2068-08-12","2068-08-12","2068-08-12","2068-08-12","2068-08-12","2068-08-12","2068-08-12","2068-08-12","2068-08-12","2068-08-12","2068-08-12","2068-08-12","2068-08-12","2068-08-12","2068-08-12","2068-08-12","2068-08-12","2068-08-12","2068-08-12","2068-08-12","2068-08-12","2068-08-12","2068-08-12","2068-08-12","2068-08-12","2068-08-12","2068-08-12","2068-08-12","2068-08-12","2068-08-12","2068-08-12","2068-08-12","2068-08-12","2068-08-12","2068-08-12","2068-08-12","2068-08-12","2068-08-12","2068-08-12","2068-08-12","2068-08-12","2068-08-12","2068-08-12","2068-08-12","2068-08-12","2068-08-12","2068-08-12","2068-08-12","2068-08-12","2068-08-12","2068-08-12","2068-08-12","2068-08-12","2068-08-12","2068-08-12","2068-08-12",{"$f":"$F$19","v":"2068-08-12"},"2068-08-12","2068-08-12","2068-08-12","2068-08-12","2068-08-12","2068-08-12","2068-08-12","2068-08-12","2068-08-12","2068-08-12","2068-08-12","2068-08-12","2068-08-12","2068-08-12","2068-08-12","2068-08-12","2068-08-12","2068-08-12","2068-08-12","2068-08-12","2068-08-12","2068-08-12","2068-08-12","2068-08-12","2068-08-12","2068-08-12","2068-08-12","2068-08-12","2068-08-12","2068-08-12","2068-08-12","2068-08-12","2068-08-12","2068-08-12","2068-08-12","2068-08-12","2068-08-12","2068-08-12","2068-08-12","2068-08-12","2068-08-12","2068-08-12","2068-08-12","2068-08-12","2068-08-12","2068-08-12","2068-08-12","2068-08-12","2068-08-12","2068-08-12","2068-08-12","2068-08-12","2068-08-12","2068-08-12","2068-08-12","2068-08-12","2068-08-12","2068-08-12","2068-08-12","2068-08-12","2068-08-12","2068-08-12","2068-08-12",{"$f":"$F$19","v":"2068-08-12"},"2068-08-12","2068-08-12","2068-08-12","2068-08-12","2068-08-12","2068-08-12","2068-08-12","2068-08-12","2068-08-12","2068-08-12","2068-08-12","2068-08-12","2068-08-12","2068-08-12","2068-08-12","2068-08-12","2068-08-12","2068-08-12","2068-08-12","2068-08-12","2068-08-12","2068-08-12","2068-08-12","2068-08-12","2068-08-12","2068-08-12","2068-08-12","2068-08-12","2068-08-12","2068-08-12","2068-08-12","2068-08-12","2068-08-12","2068-08-12","2068-08-12","2068-08-12","2068-08-12","2068-08-12"]
[null,null,"Operating Days",null,null,null,null,{"$f":"SUM(K20:XFD20)","v":14609},"Days",null,{"$f":"IF(K17,K19-K9-1,K4-K13)*K16","v":0},{"$f":"IF(L17,L19-L9-1,L4-L13)*L16","v":0},0,0,0,0,0,0,0,0,0,0,0,0,0,0,0,0,0,0,{"$f":"IF(AE17,AE19-AE9-1,AE4-AE13)*AE16","v":0},0,0,0,20,30,31,30,31,31,28,31,30,31,30,31,31,30,31,30,31,31,28,31,30,31,30,31,31,30,31,30,31,31,28,31,30,31,30,31,{"$f":"IF(BS17,BS19-BS9-1,BS4-BS13)*BS16","v":31},30,31,30,{"$f":"IF(BW17,BW19-BW9-1,BW4-BW13)*BW16","v":31},31,29,31,30,31,30,31,31,30,31,30,31,31,28,31,30,31,30,31,31,30,31,30,31,31,28,31,30,31,30,31,31,30,31,30,31,31,28,31,30,31,30,31,31,30,31,30,31,31,29,31,30,31,30,31,31,30,31,30,31,31,28,31,{"$f":"IF(EI17,EI19-EI9-1,EI4-EI13)*EI16","v":30},31,30,31,31,30,31,30,31,31,28,31,30,31,30,31,31,30,31,30,31,31,28,31,30,31,30,31,31,30,31,30,31,31,29,31,30,31,30,31,31,30,31,30,31,31,28,31,30,31,30,31,31,30,31,30,31,31,28,31,30,31,30,31,{"$f":"IF(GU17,GU19-GU9-1,GU4-GU13)*GU16","v":31},30,31,30,31,31,28,31,30,31,30,31,31,30,31,30,31,31,29,31,30,31,30,31,31,30,31,30,31,31,28,31,30,31,30,31,31,30,31,30,31,31,28,31,30,31,30,31,31,30,31,30,31,31,28,31,30,31,30,31,31,30,31,30,{"$f":"IF(JG17,JG19-JG9-1,JG4-JG13)*JG16","v":31},31,29,31,30,31,30,31,31,30,31,30,31,31,28,31,30,31,30,31,31,30,31,30,31,31,28,31,30,31,30,31,31,30,31,30,31,31,28,31,30,31,30,31,31,30,31,30,31,31,29,31,30,31,30,31,31,30,31,30,31,31,28,31,{"$f":"IF(LS17,LS19-LS9-1,LS4-LS13)*LS16","v":30},31,30,31,31,30,31,30,31,31,28,31,30,31,30,31,31,30,31,30,31,31,28,31,30,31,30,31,31,30,31,30,31,31,29,31,30,31,30,31,31,30,31,30,31,31,28,31,30,31,30,31,31,30,31,30,31,31,28,31,30,31,30,31,{"$f":"IF(OE17,OE19-OE9-1,OE4-OE13)*OE16","v":31},30,31,30,31,31,28,31,30,31,30,31,31,30,31,30,31,31,29,31,30,31,30,31,31,30,31,30,31,31,28,31,30,31,30,31,31,30,31,30,31,31,28,31,30,31,30,31,31,30,31,30,31,31,28,31,30,31,30,31,31,30,31,30,{"$f":"IF(QQ17,QQ19-QQ9-1,QQ4-QQ13)*QQ16","v":31},31,29,31,30,31,30,31,31,30,31,30,31,31,28,31,30,31,30,31,31,30,31,30,31,31,28,31,30,31,30,31,31,30,31,30,31,31,28,31,30,31,30,31,31,30,31,30,31,31,29,31,30,31,30,31,10,0,0,0,0,0,0,0,{"$f":"IF(TC17,TC19-TC9-1,TC4-TC13)*TC16","v":0},0,0,0,0,0,0,0,0,0,0,0,0,0,0,0,0,0,0,0,0,0,0,0,0,0,0,0,0,0,0,0,0,0,0,0,0,0,0,0,0,0,0,0,0,0,0,0,0,0,0,0,0,0,0,0,0,0,0,0,0,0,0,0,{"$f":"IF(VO17,VO19-VO9-1,VO4-VO13)*VO16","v":0},0,0,0,0,0,0,0,0,0,0,0,0,0,0,0,0,0,0,0,0,0,0,0,0,0,0,0,0,0,0,0,0,0,0,0,0,0,0,0,0,0,0,0,0,0,0,0,0,0,0,0,0,0,0,0,0,0,0,0,0,0,0,0,{"$f":"IF(YA17,YA19-YA9-1,YA4-YA13)*YA16","v":0},0,0,0,0,0,0,0,0,0,0,0,0,0,0,0,0,0,0,0,0,0,0,0,0,0,0,0,0,0,0,0,0,0,0,0,0,0,0,0,0,0,0,0,0,0,0,0,0,0,0,0,0,0,0,0,0,0,0,0,0,0,0,0,{"$f":"IF(AAM17,AAM19-AAM9-1,AAM4-AAM13)*AAM16","v":0},0,0,0,0,0,0,0,0,0,0,0,0,0,0,0,0,0,0,0,0,0,0,0,0,0,0,0,0,0,0,0,0,0,0,0,0,0,0,0,0,0,0,0,0,0,0,0,0,0,0,0,0,0,0,0,0,0,0,0,0,0,0,0,{"$f":"IF(ACY17,ACY19-ACY9-1,ACY4-ACY13)*ACY16","v":0},0,0,0,0,0,0,0,0,0,0,0,0,0,0,0,0,0,0,0,0,0,0,0,0,0,0,0,0,0,0,0,0,0,0,0,0,0,0,0,0,0,0,0,0,0,0,0,0,0,0,0,0,0,0,0,0,0,0,0,0,0,0,0,{"$f":"IF(AFK17,AFK19-AFK9-1,AFK4-AFK13)*AFK16","v":0},0,0,0,0,0,0,0,0,0,0,0,0,0,0,0,0,0,0,0,0,0,0,0,0,0,0,0,0,0,0,0,0,0,0,0,0,0,0,0,0,0,0,0,0,0,0,0,0,0,0,0,0,0,0,0,0,0,0,0,0,0,0,0,{"$f":"IF(AHW17,AHW19-AHW9-1,AHW4-AHW13)*AHW16","v":0},0,0,0,0,0,0,0,0,0,0,0,0,0,0,0,0,0,0,0,0,0,0,0,0,0,0,0,0,0,0,0,0,0,0,0,0,0,0,0,0,0,0,0,0,0,0,0,0,0,0,0,0,0,0,0,0,0,0,0,0,0,0,0,{"$f":"IF(AKI17,AKI19-AKI9-1,AKI4-AKI13)*AKI16","v":0},0,0,0,0,0,0,0,0,0,0,0,0,0,0,0,0,0,0,0,0,0,0,0,0,0,0,0,0,0,0,0,0,0,0,0,0,0,0,0]

{"sheet":"FM with Complex Timeline","index":12,"n_rows":269,"n_cols":561,"rows_kept":269,"cut":false,"hidden":false,"merged":[]}
[]
[null,"Timeline",null,null,"Input Units","Constants","Constants","Sum","Model Units","Initial"]
[null,null,"Time Period",null,null,null,null,null,"Period",null,0,1,2,3,4,5,6,7,8,9,10,11,12,13,14,15,16,17,18,19,20,21,22,23,24,25,26,27,28,29,30,31,32,33,34,35,36,37,38,39,40,41,42,43,44,45,46,47,48,49,50,51,52,53,54,55,56,57,58,59,60,61,62,63,64,65,66,67,68,69,70,71,72,73,74,75,76,77,78,79,80,81,82,83,84,85,86,87,88,89,90,91,92,93,94,95,96,97,98,99,100,101,102,103,104,105,106,107,108,109,110,111,112,113,114,115,116,117,118,119,120,121,122,123,124,125,126,127,128,129,130,131,132,133,134,135,136,137,138,139,140,141,142,143,144,145,146,147,148,149,150,151,152,153,154,155,156,157,158,159,160,161,162,163,164,165,166,167,168,169,170,171,172,173,174,175,176,177,178,179,180,181,182,183,184,185,186,187,188,189,190,191,192,193,194,195,196,197,198,199,200,201,202,203,204,205,206,207,208,209,210,211,212,213,214,215,216,217,218,219,220,221,222,223,224,225,226,227,228,229,230,231,232,233,234,235,236,237,238,239,240,241,242,243,244,245,246,247,248,249,250,251,252,253,254,255,256,257,258,259,260,261,262,263,264,265,266,267,268,269,270,271,272,273,274,275,276,277,278,279,280,281,282,283,284,285,286,287,288,289,290,291,292,293,294,295,296,297,298,299,300,301,302,303,304,305,306,307,308,309,310,311,312,313,314,315,316,317,318,319,320,321,322,323,324,325,326,327,328,329,330,331,332,333,334,335,336,337,338,339,340,341,342,343,344,345,346,347,348,349,350,351,352,353,354,355,356,357,358,359,360,361,362,363,364,365,366,367,368,369,370,371,372,373,374,375,376,377,378,379,380,381,382,383,384,385,386,387,388,389,390,391,392,393,394,395,396,397,398,399,400,401,402,403,404,405,406,407,408,409,410,411,412,413,414,415,416,417,418,419,420,421,422,423,424,425,426,427,428,429,430,431,432,433,434,435,436,437,438,439,440,441,442,443,444,445,446,447,448,449,450,451,452,453,454,455,456,457,458,459,460,461,462,463,464,465,466,467,468,469,470,471,472,473,474,475,476,477,478,479,480,481,482,483,484,485,486,487,488,489,490,491,492,493,494,495,496,497,498,499,500,501,502,503,504,505,506,507,508,509,510,511,512,513,514,515,516,517,518,519,520,521,522,523,524,525,526,527,528,529,530,531,532,533,534,535,536,537,538,539,540,541,542,543,544,545,546,547,548,549,550]
[null,null,"Construction Period",null,"Total Days",{"$f":"'InputC Partial Month'!$F$12","v":729},null,null,"Flag",null,{"$f":"'Complex Time Line'!K6","v":1},{"$f":"'Complex Time Line'!L6","v":1},{"$f":"'Complex Time Line'!M6","v":1},{"$f":"'Complex Time Line'!N6","v":1},{"$f":"'Complex Time Line'!O6","v":1},{"$f":"'Complex Time Line'!P6","v":1},{"$f":"'Complex Time Line'!Q6","v":1},{"$f":"'Complex Time Line'!R6","v":1},{"$f":"'Complex Time Line'!S6","v":1},{"$f":"'Complex Time Line'!T6","v":1},{"$f":"'Complex Time Line'!U6","v":1},{"$f":"'Complex Time Line'!V6","v":1},{"$f":"'Complex Time Line'!W6","v":1},{"$f":"'Complex Time Line'!X6","v":1},{"$f":"'Complex Time Line'!Y6","v":1},{"$f":"'Complex Time Line'!Z6","v":1},{"$f":"'Complex Time Line'!AA6","v":1},{"$f":"'Complex Time Line'!AB6","v":1},{"$f":"'Complex Time Line'!AC6","v":1},{"$f":"'Complex Time Line'!AD6","v":1},{"$f":"'Complex Time Line'!AE6","v":1},{"$f":"'Complex Time Line'!AF6","v":1},{"$f":"'Complex Time Line'!AG6","v":1},{"$f":"'Complex Time Line'!AH6","v":1},{"$f":"'Complex Time Line'!AI6","v":1},{"$f":"'Complex Time Line'!AJ6","v":0},{"$f":"'Complex Time Line'!AK6","v":0},{"$f":"'Complex Time Line'!AL6","v":0},{"$f":"'Complex Time Line'!AM6","v":0},{"$f":"'Complex Time Line'!AN6","v":0},{"$f":"'Complex Time Line'!AO6","v":0},{"$f":"'Complex Time Line'!AP6","v":0},{"$f":"'Complex Time Line'!AQ6","v":0},{"$f":"'Complex Time Line'!AR6","v":0},{"$f":"'Complex Time Line'!AS6","v":0},{"$f":"'Complex Time Line'!AT6","v":0},{"$f":"'Complex Time Line'!AU6","v":0},{"$f":"'Complex Time Line'!AV6","v":0},{"$f":"'Complex Time Line'!AW6","v":0},{"$f":"'Complex Time Line'!AX6","v":0},{"$f":"'Complex Time Line'!AY6","v":0},{"$f":"'Complex Time Line'!AZ6","v":0},{"$f":"'Complex Time Line'!BA6","v":0},{"$f":"'Complex Time Line'!BB6","v":0},{"$f":"'Complex Time Line'!BC6","v":0},{"$f":"'Complex Time Line'!BD6","v":0},{"$f":"'Complex Time Line'!BE6","v":0},{"$f":"'Complex Time Line'!BF6","v":0},{"$f":"'Complex Time Line'!BG6","v":0},{"$f":"'Complex Time Line'!BH6","v":0},{"$f":"'Complex Time Line'!BI6","v":0},{"$f":"'Complex Time Line'!BJ6","v":0},{"$f":"'Complex Time Line'!BK6","v":0},{"$f":"'Complex Time Line'!BL6","v":0},{"$f":"'Complex Time Line'!BM6","v":0},{"$f":"'Complex Time Line'!BN6","v":0},{"$f":"'Complex Time Line'!BO6","v":0},{"$f":"'Complex Time Line'!BP6","v":0},{"$f":"'Complex Time Line'!BQ6","v":0},{"$f":"'Complex Time Line'!BR6","v":0},{"$f":"'Complex Time Line'!BS6","v":0},{"$f":"'Complex Time Line'!BT6","v":0},{"$f":"'Complex Time Line'!BU6","v":0},{"$f":"'Complex Time Line'!BV6","v":0},{"$f":"'Complex Time Line'!BW6","v":0},{"$f":"'Complex Time Line'!BX6","v":0},{"$f":"'Complex Time Line'!BY6","v":0},{"$f":"'Complex Time Line'!BZ6","v":0},{"$f":"'Complex Time Line'!CA6","v":0},{"$f":"'Complex Time Line'!CB6","v":0},{"$f":"'Complex Time Line'!CC6","v":0},{"$f":"'Complex Time Line'!CD6","v":0},{"$f":"'Complex Time Line'!CE6","v":0},{"$f":"'Complex Time Line'!CF6","v":0},{"$f":"'Complex Time Line'!CG6","v":0},{"$f":"'Complex Time Line'!CH6","v":0},{"$f":"'Complex Time Line'!CI6","v":0},{"$f":"'Complex Time Line'!CJ6","v":0},{"$f":"'Complex Time Line'!CK6","v":0},{"$f":"'Complex Time Line'!CL6","v":0},{"$f":"'Complex Time Line'!CM6","v":0},{"$f":"'Complex Time Line'!CN6","v":0},{"$f":"'Complex Time Line'!CO6","v":0},{"$f":"'Complex Time Line'!CP6","v":0},{"$f":"'Complex Time Line'!CQ6","v":0},{"$f":"'Complex Time Line'!CR6","v":0},{"$f":"'Complex Time Line'!CS6","v":0},{"$f":"'Complex Time Line'!CT6","v":0},{"$f":"'Complex Time Line'!CU6","v":0},{"$f":"'Complex Time Line'!CV6","v":0},{"$f":"'Complex Time Line'!CW6","v":0},{"$f":"'Complex Time Line'!CX6","v":0},{"$f":"'Complex Time Line'!CY6","v":0},{"$f":"'Complex Time Line'!CZ6","v":0},{"$f":"'Complex Time Line'!DA6","v":0},{"$f":"'Complex Time Line'!DB6","v":0},{"$f":"'Complex Time Line'!DC6","v":0},{"$f":"'Complex Time Line'!DD6","v":0},{"$f":"'Complex Time Line'!DE6","v":0},{"$f":"'Complex Time Line'!DF6","v":0},{"$f":"'Complex Time Line'!DG6","v":0},{"$f":"'Complex Time Line'!DH6","v":0},{"$f":"'Complex Time Line'!DI6","v":0},{"$f":"'Complex Time Line'!DJ6","v":0},{"$f":"'Complex Time Line'!DK6","v":0},{"$f":"'Complex Time Line'!DL6","v":0},{"$f":"'Complex Time Line'!DM6","v":0},{"$f":"'Complex Time Line'!DN6","v":0},{"$f":"'Complex Time Line'!DO6","v":0},{"$f":"'Complex Time Line'!DP6","v":0},{"$f":"'Complex Time Line'!DQ6","v":0},{"$f":"'Complex Time Line'!DR6","v":0},{"$f":"'Complex Time Line'!DS6","v":0},{"$f":"'Complex Time Line'!DT6","v":0},{"$f":"'Complex Time Line'!DU6","v":0},{"$f":"'Complex Time Line'!DV6","v":0},{"$f":"'Complex Time Line'!DW6","v":0},{"$f":"'Complex Time Line'!DX6","v":0},{"$f":"'Complex Time Line'!DY6","v":0},{"$f":"'Complex Time Line'!DZ6","v":0},{"$f":"'Complex Time Line'!EA6","v":0},{"$f":"'Complex Time Line'!EB6","v":0},{"$f":"'Complex Time Line'!EC6","v":0},{"$f":"'Complex Time Line'!ED6","v":0},{"$f":"'Complex Time Line'!EE6","v":0},{"$f":"'Complex Time Line'!EF6","v":0},{"$f":"'Complex Time Line'!EG6","v":0},{"$f":"'Complex Time Line'!EH6","v":0},{"$f":"'Complex Time Line'!EI6","v":0},{"$f":"'Complex Time Line'!EJ6","v":0},{"$f":"'Complex Time Line'!EK6","v":0},{"$f":"'Complex Time Line'!EL6","v":0},{"$f":"'Complex Time Line'!EM6","v":0},{"$f":"'Complex Time Line'!EN6","v":0},{"$f":"'Complex Time Line'!EO6","v":0},{"$f":"'Complex Time Line'!EP6","v":0},{"$f":"'Complex Time Line'!EQ6","v":0},{"$f":"'Complex Time Line'!ER6","v":0},{"$f":"'Complex Time Line'!ES6","v":0},{"$f":"'Complex Time Line'!ET6","v":0},{"$f":"'Complex Time Line'!EU6","v":0},{"$f":"'Complex Time Line'!EV6","v":0},{"$f":"'Complex Time Line'!EW6","v":0},{"$f":"'Complex Time Line'!EX6","v":0},{"$f":"'Complex Time Line'!EY6","v":0},{"$f":"'Complex Time Line'!EZ6","v":0},{"$f":"'Complex Time Line'!FA6","v":0},{"$f":"'Complex Time Line'!FB6","v":0},{"$f":"'Complex Time Line'!FC6","v":0},{"$f":"'Complex Time Line'!FD6","v":0},{"$f":"'Complex Time Line'!FE6","v":0},{"$f":"'Complex Time Line'!FF6","v":0},{"$f":"'Complex Time Line'!FG6","v":0},{"$f":"'Complex Time Line'!FH6","v":0},{"$f":"'Complex Time Line'!FI6","v":0},{"$f":"'Complex Time Line'!FJ6","v":0},{"$f":"'Complex Time Line'!FK6","v":0},{"$f":"'Complex Time Line'!FL6","v":0},{"$f":"'Complex Time Line'!FM6","v":0},{"$f":"'Complex Time Line'!FN6","v":0},{"$f":"'Complex Time Line'!FO6","v":0},{"$f":"'Complex Time Line'!FP6","v":0},{"$f":"'Complex Time Line'!FQ6","v":0},{"$f":"'Complex Time Line'!FR6","v":0},{"$f":"'Complex Time Line'!FS6","v":0},{"$f":"'Complex Time Line'!FT6","v":0},{"$f":"'Complex Time Line'!FU6","v":0},{"$f":"'Complex Time Line'!FV6","v":0},{"$f":"'Complex Time Line'!FW6","v":0},{"$f":"'Complex Time Line'!FX6","v":0},{"$f":"'Complex Time Line'!FY6","v":0},{"$f":"'Complex Time Line'!FZ6","v":0},{"$f":"'Complex Time Line'!GA6","v":0},{"$f":"'Complex Time Line'!GB6","v":0},{"$f":"'Complex Time Line'!GC6","v":0},{"$f":"'Complex Time Line'!GD6","v":0},{"$f":"'Complex Time Line'!GE6","v":0},{"$f":"'Complex Time Line'!GF6","v":0},{"$f":"'Complex Time Line'!GG6","v":0},{"$f":"'Complex Time Line'!GH6","v":0},{"$f":"'Complex Time Line'!GI6","v":0},{"$f":"'Complex Time Line'!GJ6","v":0},{"$f":"'Complex Time Line'!GK6","v":0},{"$f":"'Complex Time Line'!GL6","v":0},{"$f":"'Complex Time Line'!GM6","v":0},{"$f":"'Complex Time Line'!GN6","v":0},{"$f":"'Complex Time Line'!GO6","v":0},{"$f":"'Complex Time Line'!GP6","v":0},{"$f":"'Complex Time Line'!GQ6","v":0},{"$f":"'Complex Time Line'!GR6","v":0},{"$f":"'Complex Time Line'!GS6","v":0},{"$f":"'Complex Time Line'!GT6","v":0},{"$f":"'Complex Time Line'!GU6","v":0},{"$f":"'Complex Time Line'!GV6","v":0},{"$f":"'Complex Time Line'!GW6","v":0},{"$f":"'Complex Time Line'!GX6","v":0},{"$f":"'Complex Time Line'!GY6","v":0},{"$f":"'Complex Time Line'!GZ6","v":0},{"$f":"'Complex Time Line'!HA6","v":0},{"$f":"'Complex Time Line'!HB6","v":0},{"$f":"'Complex Time Line'!HC6","v":0},{"$f":"'Complex Time Line'!HD6","v":0},{"$f":"'Complex Time Line'!HE6","v":0},{"$f":"'Complex Time Line'!HF6","v":0},{"$f":"'Complex Time Line'!HG6","v":0},{"$f":"'Complex Time Line'!HH6","v":0},{"$f":"'Complex Time Line'!HI6","v":0},{"$f":"'Complex Time Line'!HJ6","v":0},{"$f":"'Complex Time Line'!HK6","v":0},{"$f":"'Complex Time Line'!HL6","v":0},{"$f":"'Complex Time Line'!HM6","v":0},{"$f":"'Complex Time Line'!HN6","v":0},{"$f":"'Complex Time Line'!HO6","v":0},{"$f":"'Complex Time Line'!HP6","v":0},{"$f":"'Complex Time Line'!HQ6","v":0},{"$f":"'Complex Time Line'!HR6","v":0},{"$f":"'Complex Time Line'!HS6","v":0},{"$f":"'Complex Time Line'!HT6","v":0},{"$f":"'Complex Time Line'!HU6","v":0},{"$f":"'Complex Time Line'!HV6","v":0},{"$f":"'Complex Time Line'!HW6","v":0},{"$f":"'Complex Time Line'!HX6","v":0},{"$f":"'Complex Time Line'!HY6","v":0},{"$f":"'Complex Time Line'!HZ6","v":0},{"$f":"'Complex Time Line'!IA6","v":0},{"$f":"'Complex Time Line'!IB6","v":0},{"$f":"'Complex Time Line'!IC6","v":0},{"$f":"'Complex Time Line'!ID6","v":0},{"$f":"'Complex Time Line'!IE6","v":0},{"$f":"'Complex Time Line'!IF6","v":0},{"$f":"'Complex Time Line'!IG6","v":0},{"$f":"'Complex Time Line'!IH6","v":0},{"$f":"'Complex Time Line'!II6","v":0},{"$f":"'Complex Time Line'!IJ6","v":0},{"$f":"'Complex Time Line'!IK6","v":0},{"$f":"'Complex Time Line'!IL6","v":0},{"$f":"'Complex Time Line'!IM6","v":0},{"$f":"'Complex Time Line'!IN6","v":0},{"$f":"'Complex Time Line'!IO6","v":0},{"$f":"'Complex Time Line'!IP6","v":0},{"$f":"'Complex Time Line'!IQ6","v":0},{"$f":"'Complex Time Line'!IR6","v":0},{"$f":"'Complex Time Line'!IS6","v":0},{"$f":"'Complex Time Line'!IT6","v":0},{"$f":"'Complex Time Line'!IU6","v":0},{"$f":"'Complex Time Line'!IV6","v":0},{"$f":"'Complex Time Line'!IW6","v":0},{"$f":"'Complex Time Line'!IX6","v":0},{"$f":"'Complex Time Line'!IY6","v":0},{"$f":"'Complex Time Line'!IZ6","v":0},{"$f":"'Complex Time Line'!JA6","v":0},{"$f":"'Complex Time Line'!JB6","v":0},{"$f":"'Complex Time Line'!JC6","v":0},{"$f":"'Complex Time Line'!JD6","v":0},{"$f":"'Complex Time Line'!JE6","v":0},{"$f":"'Complex Time Line'!JF6","v":0},{"$f":"'Complex Time Line'!JG6","v":0},{"$f":"'Complex Time Line'!JH6","v":0},{"$f":"'Complex Time Line'!JI6","v":0},{"$f":"'Complex Time Line'!JJ6","v":0},{"$f":"'Complex Time Line'!JK6","v":0},{"$f":"'Complex Time Line'!JL6","v":0},{"$f":"'Complex Time Line'!JM6","v":0},{"$f":"'Complex Time Line'!JN6","v":0},{"$f":"'Complex Time Line'!JO6","v":0},{"$f":"'Complex Time Line'!JP6","v":0},{"$f":"'Complex Time Line'!JQ6","v":0},{"$f":"'Complex Time Line'!JR6","v":0},{"$f":"'Complex Time Line'!JS6","v":0},{"$f":"'Complex Time Line'!JT6","v":0},{"$f":"'Complex Time Line'!JU6","v":0},{"$f":"'Complex Time Line'!JV6","v":0},{"$f":"'Complex Time Line'!JW6","v":0},{"$f":"'Complex Time Line'!JX6","v":0},{"$f":"'Complex Time Line'!JY6","v":0},{"$f":"'Complex Time Line'!JZ6","v":0},{"$f":"'Complex Time Line'!KA6","v":0},{"$f":"'Complex Time Line'!KB6","v":0},{"$f":"'Complex Time Line'!KC6","v":0},{"$f":"'Complex Time Line'!KD6","v":0},{"$f":"'Complex Time Line'!KE6","v":0},{"$f":"'Complex Time Line'!KF6","v":0},{"$f":"'Complex Time Line'!KG6","v":0},{"$f":"'Complex Time Line'!KH6","v":0},{"$f":"'Complex Time Line'!KI6","v":0},{"$f":"'Complex Time Line'!KJ6","v":0},{"$f":"'Complex Time Line'!KK6","v":0},{"$f":"'Complex Time Line'!KL6","v":0},{"$f":"'Complex Time Line'!KM6","v":0},{"$f":"'Complex Time Line'!KN6","v":0},{"$f":"'Complex Time Line'!KO6","v":0},{"$f":"'Complex Time Line'!KP6","v":0},{"$f":"'Complex Time Line'!KQ6","v":0},{"$f":"'Complex Time Line'!KR6","v":0},{"$f":"'Complex Time Line'!KS6","v":0},{"$f":"'Complex Time Line'!KT6","v":0},{"$f":"'Complex Time Line'!KU6","v":0},{"$f":"'Complex Time Line'!KV6","v":0},{"$f":"'Complex Time Line'!KW6","v":0},{"$f":"'Complex Time Line'!KX6","v":0},{"$f":"'Complex Time Line'!KY6","v":0},{"$f":"'Complex Time Line'!KZ6","v":0},{"$f":"'Complex Time Line'!LA6","v":0},{"$f":"'Complex Time Line'!LB6","v":0},{"$f":"'Complex Time Line'!LC6","v":0},{"$f":"'Complex Time Line'!LD6","v":0},{"$f":"'Complex Time Line'!LE6","v":0},{"$f":"'Complex Time Line'!LF6","v":0},{"$f":"'Complex Time Line'!LG6","v":0},{"$f":"'Complex Time Line'!LH6","v":0},{"$f":"'Complex Time Line'!LI6","v":0},{"$f":"'Complex Time Line'!LJ6","v":0},{"$f":"'Complex Time Line'!LK6","v":0},{"$f":"'Complex Time Line'!LL6","v":0},{"$f":"'Complex Time Line'!LM6","v":0},{"$f":"'Complex Time Line'!LN6","v":0},{"$f":"'Complex Time Line'!LO6","v":0},{"$f":"'Complex Time Line'!LP6","v":0},{"$f":"'Complex Time Line'!LQ6","v":0},{"$f":"'Complex Time Line'!LR6","v":0},{"$f":"'Complex Time Line'!LS6","v":0},{"$f":"'Complex Time Line'!LT6","v":0},{"$f":"'Complex Time Line'!LU6","v":0},{"$f":"'Complex Time Line'!LV6","v":0},{"$f":"'Complex Time Line'!LW6","v":0},{"$f":"'Complex Time Line'!LX6","v":0},{"$f":"'Complex Time Line'!LY6","v":0},{"$f":"'Complex Time Line'!LZ6","v":0},{"$f":"'Complex Time Line'!MA6","v":0},{"$f":"'Complex Time Line'!MB6","v":0},{"$f":"'Complex Time Line'!MC6","v":0},{"$f":"'Complex Time Line'!MD6","v":0},{"$f":"'Complex Time Line'!ME6","v":0},{"$f":"'Complex Time Line'!MF6","v":0},{"$f":"'Complex Time Line'!MG6","v":0},{"$f":"'Complex Time Line'!MH6","v":0},{"$f":"'Complex Time Line'!MI6","v":0},{"$f":"'Complex Time Line'!MJ6","v":0},{"$f":"'Complex Time Line'!MK6","v":0},{"$f":"'Complex Time Line'!ML6","v":0},{"$f":"'Complex Time Line'!MM6","v":0},{"$f":"'Complex Time Line'!MN6","v":0},{"$f":"'Complex Time Line'!MO6","v":0},{"$f":"'Complex Time Line'!MP6","v":0},{"$f":"'Complex Time Line'!MQ6","v":0},{"$f":"'Complex Time Line'!MR6","v":0},{"$f":"'Complex Time Line'!MS6","v":0},{"$f":"'Complex Time Line'!MT6","v":0},{"$f":"'Complex Time Line'!MU6","v":0},{"$f":"'Complex Time Line'!MV6","v":0},{"$f":"'Complex Time Line'!MW6","v":0},{"$f":"'Complex Time Line'!MX6","v":0},{"$f":"'Complex Time Line'!MY6","v":0},{"$f":"'Complex Time Line'!MZ6","v":0},{"$f":"'Complex Time Line'!NA6","v":0},{"$f":"'Complex Time Line'!NB6","v":0},{"$f":"'Complex Time Line'!NC6","v":0},{"$f":"'Complex Time Line'!ND6","v":0},{"$f":"'Complex Time Line'!NE6","v":0},{"$f":"'Complex Time Line'!NF6","v":0},{"$f":"'Complex Time Line'!NG6","v":0},{"$f":"'Complex Time Line'!NH6","v":0},{"$f":"'Complex Time Line'!NI6","v":0},{"$f":"'Complex Time Line'!NJ6","v":0},{"$f":"'Complex Time Line'!NK6","v":0},{"$f":"'Complex Time Line'!NL6","v":0},{"$f":"'Complex Time Line'!NM6","v":0},{"$f":"'Complex Time Line'!NN6","v":0},{"$f":"'Complex Time Line'!NO6","v":0},{"$f":"'Complex Time Line'!NP6","v":0},{"$f":"'Complex Time Line'!NQ6","v":0},{"$f":"'Complex Time Line'!NR6","v":0},{"$f":"'Complex Time Line'!NS6","v":0},{"$f":"'Complex Time Line'!NT6","v":0},{"$f":"'Complex Time Line'!NU6","v":0},{"$f":"'Complex Time Line'!NV6","v":0},{"$f":"'Complex Time Line'!NW6","v":0},{"$f":"'Complex Time Line'!NX6","v":0},{"$f":"'Complex Time Line'!NY6","v":0},{"$f":"'Complex Time Line'!NZ6","v":0},{"$f":"'Complex Time Line'!OA6","v":0},{"$f":"'Complex Time Line'!OB6","v":0},{"$f":"'Complex Time Line'!OC6","v":0},{"$f":"'Complex Time Line'!OD6","v":0},{"$f":"'Complex Time Line'!OE6","v":0},{"$f":"'Complex Time Line'!OF6","v":0},{"$f":"'Complex Time Line'!OG6","v":0},{"$f":"'Complex Time Line'!OH6","v":0},{"$f":"'Complex Time Line'!OI6","v":0},{"$f":"'Complex Time Line'!OJ6","v":0},{"$f":"'Complex Time Line'!OK6","v":0},{"$f":"'Complex Time Line'!OL6","v":0},{"$f":"'Complex Time Line'!OM6","v":0},{"$f":"'Complex Time Line'!ON6","v":0},{"$f":"'Complex Time Line'!OO6","v":0},{"$f":"'Complex Time Line'!OP6","v":0},{"$f":"'Complex Time Line'!OQ6","v":0},{"$f":"'Complex Time Line'!OR6","v":0},{"$f":"'Complex Time Line'!OS6","v":0},{"$f":"'Complex Time Line'!OT6","v":0},{"$f":"'Complex Time Line'!OU6","v":0},{"$f":"'Complex Time Line'!OV6","v":0},{"$f":"'Complex Time Line'!OW6","v":0},{"$f":"'Complex Time Line'!OX6","v":0},{"$f":"'Complex Time Line'!OY6","v":0},{"$f":"'Complex Time Line'!OZ6","v":0},{"$f":"'Complex Time Line'!PA6","v":0},{"$f":"'Complex Time Line'!PB6","v":0},{"$f":"'Complex Time Line'!PC6","v":0},{"$f":"'Complex Time Line'!PD6","v":0},{"$f":"'Complex Time Line'!PE6","v":0},{"$f":"'Complex Time Line'!PF6","v":0},{"$f":"'Complex Time Line'!PG6","v":0},{"$f":"'Complex Time Line'!PH6","v":0},{"$f":"'Complex Time Line'!PI6","v":0},{"$f":"'Complex Time Line'!PJ6","v":0},{"$f":"'Complex Time Line'!PK6","v":0},{"$f":"'Complex Time Line'!PL6","v":0},{"$f":"'Complex Time Line'!PM6","v":0},{"$f":"'Complex Time Line'!PN6","v":0},{"$f":"'Complex Time Line'!PO6","v":0},{"$f":"'Complex Time Line'!PP6","v":0},{"$f":"'Complex Time Line'!PQ6","v":0},{"$f":"'Complex Time Line'!PR6","v":0},{"$f":"'Complex Time Line'!PS6","v":0},{"$f":"'Complex Time Line'!PT6","v":0},{"$f":"'Complex Time Line'!PU6","v":0},{"$f":"'Complex Time Line'!PV6","v":0},{"$f":"'Complex Time Line'!PW6","v":0},{"$f":"'Complex Time Line'!PX6","v":0},{"$f":"'Complex Time Line'!PY6","v":0},{"$f":"'Complex Time Line'!PZ6","v":0},{"$f":"'Complex Time Line'!QA6","v":0},{"$f":"'Complex Time Line'!QB6","v":0},{"$f":"'Complex Time Line'!QC6","v":0},{"$f":"'Complex Time Line'!QD6","v":0},{"$f":"'Complex Time Line'!QE6","v":0},{"$f":"'Complex Time Line'!QF6","v":0},{"$f":"'Complex Time Line'!QG6","v":0},{"$f":"'Complex Time Line'!QH6","v":0},{"$f":"'Complex Time Line'!QI6","v":0},{"$f":"'Complex Time Line'!QJ6","v":0},{"$f":"'Complex Time Line'!QK6","v":0},{"$f":"'Complex Time Line'!QL6","v":0},{"$f":"'Complex Time Line'!QM6","v":0},{"$f":"'Complex Time Line'!QN6","v":0},{"$f":"'Complex Time Line'!QO6","v":0},{"$f":"'Complex Time Line'!QP6","v":0},{"$f":"'Complex Time Line'!QQ6","v":0},{"$f":"'Complex Time Line'!QR6","v":0},{"$f":"'Complex Time Line'!QS6","v":0},{"$f":"'Complex Time Line'!QT6","v":0},{"$f":"'Complex Time Line'!QU6","v":0},{"$f":"'Complex Time Line'!QV6","v":0},{"$f":"'Complex Time Line'!QW6","v":0},{"$f":"'Complex Time Line'!QX6","v":0},{"$f":"'Complex Time Line'!QY6","v":0},{"$f":"'Complex Time Line'!QZ6","v":0},{"$f":"'Complex Time Line'!RA6","v":0},{"$f":"'Complex Time Line'!RB6","v":0},{"$f":"'Complex Time Line'!RC6","v":0},{"$f":"'Complex Time Line'!RD6","v":0},{"$f":"'Complex Time Line'!RE6","v":0},{"$f":"'Complex Time Line'!RF6","v":0},{"$f":"'Complex Time Line'!RG6","v":0},{"$f":"'Complex Time Line'!RH6","v":0},{"$f":"'Complex Time Line'!RI6","v":0},{"$f":"'Complex Time Line'!RJ6","v":0},{"$f":"'Complex Time Line'!RK6","v":0},{"$f":"'Complex Time Line'!RL6","v":0},{"$f":"'Complex Time Line'!RM6","v":0},{"$f":"'Complex Time Line'!RN6","v":0},{"$f":"'Complex Time Line'!RO6","v":0},{"$f":"'Complex Time Line'!RP6","v":0},{"$f":"'Complex Time Line'!RQ6","v":0},{"$f":"'Complex Time Line'!RR6","v":0},{"$f":"'Complex Time Line'!RS6","v":0},{"$f":"'Complex Time Line'!RT6","v":0},{"$f":"'Complex Time Line'!RU6","v":0},{"$f":"'Complex Time Line'!RV6","v":0},{"$f":"'Complex Time Line'!RW6","v":0},{"$f":"'Complex Time Line'!RX6","v":0},{"$f":"'Complex Time Line'!RY6","v":0},{"$f":"'Complex Time Line'!RZ6","v":0},{"$f":"'Complex Time Line'!SA6","v":0},{"$f":"'Complex Time Line'!SB6","v":0},{"$f":"'Complex Time Line'!SC6","v":0},{"$f":"'Complex Time Line'!SD6","v":0},{"$f":"'Complex Time Line'!SE6","v":0},{"$f":"'Complex Time Line'!SF6","v":0},{"$f":"'Complex Time Line'!SG6","v":0},{"$f":"'Complex Time Line'!SH6","v":0},{"$f":"'Complex Time Line'!SI6","v":0},{"$f":"'Complex Time Line'!SJ6","v":0},{"$f":"'Complex Time Line'!SK6","v":0},{"$f":"'Complex Time Line'!SL6","v":0},{"$f":"'Complex Time Line'!SM6","v":0},{"$f":"'Complex Time Line'!SN6","v":0},{"$f":"'Complex Time Line'!SO6","v":0},{"$f":"'Complex Time Line'!SP6","v":0},{"$f":"'Complex Time Line'!SQ6","v":0},{"$f":"'Complex Time Line'!SR6","v":0},{"$f":"'Complex Time Line'!SS6","v":0},{"$f":"'Complex Time Line'!ST6","v":0},{"$f":"'Complex Time Line'!SU6","v":0},{"$f":"'Complex Time Line'!SV6","v":0},{"$f":"'Complex Time Line'!SW6","v":0},{"$f":"'Complex Time Line'!SX6","v":0},{"$f":"'Complex Time Line'!SY6","v":0},{"$f":"'Complex Time Line'!SZ6","v":0},{"$f":"'Complex Time Line'!TA6","v":0},{"$f":"'Complex Time Line'!TB6","v":0},{"$f":"'Complex Time Line'!TC6","v":0},{"$f":"'Complex Time Line'!TD6","v":0},{"$f":"'Complex Time Line'!TE6","v":0},{"$f":"'Complex Time Line'!TF6","v":0},{"$f":"'Complex Time Line'!TG6","v":0},{"$f":"'Complex Time Line'!TH6","v":0},{"$f":"'Complex Time Line'!TI6","v":0},{"$f":"'Complex Time Line'!TJ6","v":0},{"$f":"'Complex Time Line'!TK6","v":0},{"$f":"'Complex Time Line'!TL6","v":0},{"$f":"'Complex Time Line'!TM6","v":0},{"$f":"'Complex Time Line'!TN6","v":0},{"$f":"'Complex Time Line'!TO6","v":0},{"$f":"'Complex Time Line'!TP6","v":0},{"$f":"'Complex Time Line'!TQ6","v":0},{"$f":"'Complex Time Line'!TR6","v":0},{"$f":"'Complex Time Line'!TS6","v":0},{"$f":"'Complex Time Line'!TT6","v":0},{"$f":"'Complex Time Line'!TU6","v":0},{"$f":"'Complex Time Line'!TV6","v":0},{"$f":"'Complex Time Line'!TW6","v":0},{"$f":"'Complex Time Line'!TX6","v":0},{"$f":"'Complex Time Line'!TY6","v":0},{"$f":"'Complex Time Line'!TZ6","v":0},{"$f":"'Complex Time Line'!UA6","v":0},{"$f":"'Complex Time Line'!UB6","v":0},{"$f":"'Complex Time Line'!UC6","v":0},{"$f":"'Complex Time Line'!UD6","v":0},{"$f":"'Complex Time Line'!UE6","v":0},{"$f":"'Complex Time Line'!UF6","v":0},{"$f":"'Complex Time Line'!UG6","v":0},{"$f":"'Complex Time Line'!UH6","v":0},{"$f":"'Complex Time Line'!UI6","v":0},{"$f":"'Complex Time Line'!UJ6","v":0},{"$f":"'Complex Time Line'!UK6","v":0},{"$f":"'Complex Time Line'!UL6","v":0},{"$f":"'Complex Time Line'!UM6","v":0},{"$f":"'Complex Time Line'!UN6","v":0},{"$f":"'Complex Time Line'!UO6","v":0}]
[null,null,"Final Construction Period",null,"Total Days",{"$f":"'InputC Partial Month'!$F$12","v":729},null,{"$f":"SUM(K5:XFD5)","v":1},"Flag",null,{"$f":"'Complex Time Line'!K7","v":0},{"$f":"'Complex Time Line'!L7","v":0},{"$f":"'Complex Time Line'!M7","v":0},{"$f":"'Complex Time Line'!N7","v":0},{"$f":"'Complex Time Line'!O7","v":0},{"$f":"'Complex Time Line'!P7","v":0},{"$f":"'Complex Time Line'!Q7","v":0},{"$f":"'Complex Time Line'!R7","v":0},{"$f":"'Complex Time Line'!S7","v":0},{"$f":"'Complex Time Line'!T7","v":0},{"$f":"'Complex Time Line'!U7","v":0},{"$f":"'Complex Time Line'!V7","v":0},{"$f":"'Complex Time Line'!W7","v":0},{"$f":"'Complex Time Line'!X7","v":0},{"$f":"'Complex Time Line'!Y7","v":0},{"$f":"'Complex Time Line'!Z7","v":0},{"$f":"'Complex Time Line'!AA7","v":0},{"$f":"'Complex Time Line'!AB7","v":0},{"$f":"'Complex Time Line'!AC7","v":0},{"$f":"'Complex Time Line'!AD7","v":0},{"$f":"'Complex Time Line'!AE7","v":0},{"$f":"'Complex Time Line'!AF7","v":0},{"$f":"'Complex Time Line'!AG7","v":0},{"$f":"'Complex Time Line'!AH7","v":0},{"$f":"'Complex Time Line'!AI7","v":1},{"$f":"'Complex Time Line'!AJ7","v":0},{"$f":"'Complex Time Line'!AK7","v":0},{"$f":"'Complex Time Line'!AL7","v":0},{"$f":"'Complex Time Line'!AM7","v":0},{"$f":"'Complex Time Line'!AN7","v":0},{"$f":"'Complex Time Line'!AO7","v":0},{"$f":"'Complex Time Line'!AP7","v":0},{"$f":"'Complex Time Line'!AQ7","v":0},{"$f":"'Complex Time Line'!AR7","v":0},{"$f":"'Complex Time Line'!AS7","v":0},{"$f":"'Complex Time Line'!AT7","v":0},{"$f":"'Complex Time Line'!AU7","v":0},{"$f":"'Complex Time Line'!AV7","v":0},{"$f":"'Complex Time Line'!AW7","v":0},{"$f":"'Complex Time Line'!AX7","v":0},{"$f":"'Complex Time Line'!AY7","v":0},{"$f":"'Complex Time Line'!AZ7","v":0},{"$f":"'Complex Time Line'!BA7","v":0},{"$f":"'Complex Time Line'!BB7","v":0},{"$f":"'Complex Time Line'!BC7","v":0},{"$f":"'Complex Time Line'!BD7","v":0},{"$f":"'Complex Time Line'!BE7","v":0},{"$f":"'Complex Time Line'!BF7","v":0},{"$f":"'Complex Time Line'!BG7","v":0},{"$f":"'Complex Time Line'!BH7","v":0},{"$f":"'Complex Time Line'!BI7","v":0},{"$f":"'Complex Time Line'!BJ7","v":0},{"$f":"'Complex Time Line'!BK7","v":0},{"$f":"'Complex Time Line'!BL7","v":0},{"$f":"'Complex Time Line'!BM7","v":0},{"$f":"'Complex Time Line'!BN7","v":0},{"$f":"'Complex Time Line'!BO7","v":0},{"$f":"'Complex Time Line'!BP7","v":0},{"$f":"'Complex Time Line'!BQ7","v":0},{"$f":"'Complex Time Line'!BR7","v":0},{"$f":"'Complex Time Line'!BS7","v":0},{"$f":"'Complex Time Line'!BT7","v":0},{"$f":"'Complex Time Line'!BU7","v":0},{"$f":"'Complex Time Line'!BV7","v":0},{"$f":"'Complex Time Line'!BW7","v":0},{"$f":"'Complex Time Line'!BX7","v":0},{"$f":"'Complex Time Line'!BY7","v":0},{"$f":"'Complex Time Line'!BZ7","v":0},{"$f":"'Complex Time Line'!CA7","v":0},{"$f":"'Complex Time Line'!CB7","v":0},{"$f":"'Complex Time Line'!CC7","v":0},{"$f":"'Complex Time Line'!CD7","v":0},{"$f":"'Complex Time Line'!CE7","v":0},{"$f":"'Complex Time Line'!CF7","v":0},{"$f":"'Complex Time Line'!CG7","v":0},{"$f":"'Complex Time Line'!CH7","v":0},{"$f":"'Complex Time Line'!CI7","v":0},{"$f":"'Complex Time Line'!CJ7","v":0},{"$f":"'Complex Time Line'!CK7","v":0},{"$f":"'Complex Time Line'!CL7","v":0},{"$f":"'Complex Time Line'!CM7","v":0},{"$f":"'Complex Time Line'!CN7","v":0},{"$f":"'Complex Time Line'!CO7","v":0},{"$f":"'Complex Time Line'!CP7","v":0},{"$f":"'Complex Time Line'!CQ7","v":0},{"$f":"'Complex Time Line'!CR7","v":0},{"$f":"'Complex Time Line'!CS7","v":0},{"$f":"'Complex Time Line'!CT7","v":0},{"$f":"'Complex Time Line'!CU7","v":0},{"$f":"'Complex Time Line'!CV7","v":0},{"$f":"'Complex Time Line'!CW7","v":0},{"$f":"'Complex Time Line'!CX7","v":0},{"$f":"'Complex Time Line'!CY7","v":0},{"$f":"'Complex Time Line'!CZ7","v":0},{"$f":"'Complex Time Line'!DA7","v":0},{"$f":"'Complex Time Line'!DB7","v":0},{"$f":"'Complex Time Line'!DC7","v":0},{"$f":"'Complex Time Line'!DD7","v":0},{"$f":"'Complex Time Line'!DE7","v":0},{"$f":"'Complex Time Line'!DF7","v":0},{"$f":"'Complex Time Line'!DG7","v":0},{"$f":"'Complex Time Line'!DH7","v":0},{"$f":"'Complex Time Line'!DI7","v":0},{"$f":"'Complex Time Line'!DJ7","v":0},{"$f":"'Complex Time Line'!DK7","v":0},{"$f":"'Complex Time Line'!DL7","v":0},{"$f":"'Complex Time Line'!DM7","v":0},{"$f":"'Complex Time Line'!DN7","v":0},{"$f":"'Complex Time Line'!DO7","v":0},{"$f":"'Complex Time Line'!DP7","v":0},{"$f":"'Complex Time Line'!DQ7","v":0},{"$f":"'Complex Time Line'!DR7","v":0},{"$f":"'Complex Time Line'!DS7","v":0},{"$f":"'Complex Time Line'!DT7","v":0},{"$f":"'Complex Time Line'!DU7","v":0},{"$f":"'Complex Time Line'!DV7","v":0},{"$f":"'Complex Time Line'!DW7","v":0},{"$f":"'Complex Time Line'!DX7","v":0},{"$f":"'Complex Time Line'!DY7","v":0},{"$f":"'Complex Time Line'!DZ7","v":0},{"$f":"'Complex Time Line'!EA7","v":0},{"$f":"'Complex Time Line'!EB7","v":0},{"$f":"'Complex Time Line'!EC7","v":0},{"$f":"'Complex Time Line'!ED7","v":0},{"$f":"'Complex Time Line'!EE7","v":0},{"$f":"'Complex Time Line'!EF7","v":0},{"$f":"'Complex Time Line'!EG7","v":0},{"$f":"'Complex Time Line'!EH7","v":0},{"$f":"'Complex Time Line'!EI7","v":0},{"$f":"'Complex Time Line'!EJ7","v":0},{"$f":"'Complex Time Line'!EK7","v":0},{"$f":"'Complex Time Line'!EL7","v":0},{"$f":"'Complex Time Line'!EM7","v":0},{"$f":"'Complex Time Line'!EN7","v":0},{"$f":"'Complex Time Line'!EO7","v":0},{"$f":"'Complex Time Line'!EP7","v":0},{"$f":"'Complex Time Line'!EQ7","v":0},{"$f":"'Complex Time Line'!ER7","v":0},{"$f":"'Complex Time Line'!ES7","v":0},{"$f":"'Complex Time Line'!ET7","v":0},{"$f":"'Complex Time Line'!EU7","v":0},{"$f":"'Complex Time Line'!EV7","v":0},{"$f":"'Complex Time Line'!EW7","v":0},{"$f":"'Complex Time Line'!EX7","v":0},{"$f":"'Complex Time Line'!EY7","v":0},{"$f":"'Complex Time Line'!EZ7","v":0},{"$f":"'Complex Time Line'!FA7","v":0},{"$f":"'Complex Time Line'!FB7","v":0},{"$f":"'Complex Time Line'!FC7","v":0},{"$f":"'Complex Time Line'!FD7","v":0},{"$f":"'Complex Time Line'!FE7","v":0},{"$f":"'Complex Time Line'!FF7","v":0},{"$f":"'Complex Time Line'!FG7","v":0},{"$f":"'Complex Time Line'!FH7","v":0},{"$f":"'Complex Time Line'!FI7","v":0},{"$f":"'Complex Time Line'!FJ7","v":0},{"$f":"'Complex Time Line'!FK7","v":0},{"$f":"'Complex Time Line'!FL7","v":0},{"$f":"'Complex Time Line'!FM7","v":0},{"$f":"'Complex Time Line'!FN7","v":0},{"$f":"'Complex Time Line'!FO7","v":0},{"$f":"'Complex Time Line'!FP7","v":0},{"$f":"'Complex Time Line'!FQ7","v":0},{"$f":"'Complex Time Line'!FR7","v":0},{"$f":"'Complex Time Line'!FS7","v":0},{"$f":"'Complex Time Line'!FT7","v":0},{"$f":"'Complex Time Line'!FU7","v":0},{"$f":"'Complex Time Line'!FV7","v":0},{"$f":"'Complex Time Line'!FW7","v":0},{"$f":"'Complex Time Line'!FX7","v":0},{"$f":"'Complex Time Line'!FY7","v":0},{"$f":"'Complex Time Line'!FZ7","v":0},{"$f":"'Complex Time Line'!GA7","v":0},{"$f":"'Complex Time Line'!GB7","v":0},{"$f":"'Complex Time Line'!GC7","v":0},{"$f":"'Complex Time Line'!GD7","v":0},{"$f":"'Complex Time Line'!GE7","v":0},{"$f":"'Complex Time Line'!GF7","v":0},{"$f":"'Complex Time Line'!GG7","v":0},{"$f":"'Complex Time Line'!GH7","v":0},{"$f":"'Complex Time Line'!GI7","v":0},{"$f":"'Complex Time Line'!GJ7","v":0},{"$f":"'Complex Time Line'!GK7","v":0},{"$f":"'Complex Time Line'!GL7","v":0},{"$f":"'Complex Time Line'!GM7","v":0},{"$f":"'Complex Time Line'!GN7","v":0},{"$f":"'Complex Time Line'!GO7","v":0},{"$f":"'Complex Time Line'!GP7","v":0},{"$f":"'Complex Time Line'!GQ7","v":0},{"$f":"'Complex Time Line'!GR7","v":0},{"$f":"'Complex Time Line'!GS7","v":0},{"$f":"'Complex Time Line'!GT7","v":0},{"$f":"'Complex Time Line'!GU7","v":0},{"$f":"'Complex Time Line'!GV7","v":0},{"$f":"'Complex Time Line'!GW7","v":0},{"$f":"'Complex Time Line'!GX7","v":0},{"$f":"'Complex Time Line'!GY7","v":0},{"$f":"'Complex Time Line'!GZ7","v":0},{"$f":"'Complex Time Line'!HA7","v":0},{"$f":"'Complex Time Line'!HB7","v":0},{"$f":"'Complex Time Line'!HC7","v":0},{"$f":"'Complex Time Line'!HD7","v":0},{"$f":"'Complex Time Line'!HE7","v":0},{"$f":"'Complex Time Line'!HF7","v":0},{"$f":"'Complex Time Line'!HG7","v":0},{"$f":"'Complex Time Line'!HH7","v":0},{"$f":"'Complex Time Line'!HI7","v":0},{"$f":"'Complex Time Line'!HJ7","v":0},{"$f":"'Complex Time Line'!HK7","v":0},{"$f":"'Complex Time Line'!HL7","v":0},{"$f":"'Complex Time Line'!HM7","v":0},{"$f":"'Complex Time Line'!HN7","v":0},{"$f":"'Complex Time Line'!HO7","v":0},{"$f":"'Complex Time Line'!HP7","v":0},{"$f":"'Complex Time Line'!HQ7","v":0},{"$f":"'Complex Time Line'!HR7","v":0},{"$f":"'Complex Time Line'!HS7","v":0},{"$f":"'Complex Time Line'!HT7","v":0},{"$f":"'Complex Time Line'!HU7","v":0},{"$f":"'Complex Time Line'!HV7","v":0},{"$f":"'Complex Time Line'!HW7","v":0},{"$f":"'Complex Time Line'!HX7","v":0},{"$f":"'Complex Time Line'!HY7","v":0},{"$f":"'Complex Time Line'!HZ7","v":0},{"$f":"'Complex Time Line'!IA7","v":0},{"$f":"'Complex Time Line'!IB7","v":0},{"$f":"'Complex Time Line'!IC7","v":0},{"$f":"'Complex Time Line'!ID7","v":0},{"$f":"'Complex Time Line'!IE7","v":0},{"$f":"'Complex Time Line'!IF7","v":0},{"$f":"'Complex Time Line'!IG7","v":0},{"$f":"'Complex Time Line'!IH7","v":0},{"$f":"'Complex Time Line'!II7","v":0},{"$f":"'Complex Time Line'!IJ7","v":0},{"$f":"'Complex Time Line'!IK7","v":0},{"$f":"'Complex Time Line'!IL7","v":0},{"$f":"'Complex Time Line'!IM7","v":0},{"$f":"'Complex Time Line'!IN7","v":0},{"$f":"'Complex Time Line'!IO7","v":0},{"$f":"'Complex Time Line'!IP7","v":0},{"$f":"'Complex Time Line'!IQ7","v":0},{"$f":"'Complex Time Line'!IR7","v":0},{"$f":"'Complex Time Line'!IS7","v":0},{"$f":"'Complex Time Line'!IT7","v":0},{"$f":"'Complex Time Line'!IU7","v":0},{"$f":"'Complex Time Line'!IV7","v":0},{"$f":"'Complex Time Line'!IW7","v":0},{"$f":"'Complex Time Line'!IX7","v":0},{"$f":"'Complex Time Line'!IY7","v":0},{"$f":"'Complex Time Line'!IZ7","v":0},{"$f":"'Complex Time Line'!JA7","v":0},{"$f":"'Complex Time Line'!JB7","v":0},{"$f":"'Complex Time Line'!JC7","v":0},{"$f":"'Complex Time Line'!JD7","v":0},{"$f":"'Complex Time Line'!JE7","v":0},{"$f":"'Complex Time Line'!JF7","v":0},{"$f":"'Complex Time Line'!JG7","v":0},{"$f":"'Complex Time Line'!JH7","v":0},{"$f":"'Complex Time Line'!JI7","v":0},{"$f":"'Complex Time Line'!JJ7","v":0},{"$f":"'Complex Time Line'!JK7","v":0},{"$f":"'Complex Time Line'!JL7","v":0},{"$f":"'Complex Time Line'!JM7","v":0},{"$f":"'Complex Time Line'!JN7","v":0},{"$f":"'Complex Time Line'!JO7","v":0},{"$f":"'Complex Time Line'!JP7","v":0},{"$f":"'Complex Time Line'!JQ7","v":0},{"$f":"'Complex Time Line'!JR7","v":0},{"$f":"'Complex Time Line'!JS7","v":0},{"$f":"'Complex Time Line'!JT7","v":0},{"$f":"'Complex Time Line'!JU7","v":0},{"$f":"'Complex Time Line'!JV7","v":0},{"$f":"'Complex Time Line'!JW7","v":0},{"$f":"'Complex Time Line'!JX7","v":0},{"$f":"'Complex Time Line'!JY7","v":0},{"$f":"'Complex Time Line'!JZ7","v":0},{"$f":"'Complex Time Line'!KA7","v":0},{"$f":"'Complex Time Line'!KB7","v":0},{"$f":"'Complex Time Line'!KC7","v":0},{"$f":"'Complex Time Line'!KD7","v":0},{"$f":"'Complex Time Line'!KE7","v":0},{"$f":"'Complex Time Line'!KF7","v":0},{"$f":"'Complex Time Line'!KG7","v":0},{"$f":"'Complex Time Line'!KH7","v":0},{"$f":"'Complex Time Line'!KI7","v":0},{"$f":"'Complex Time Line'!KJ7","v":0},{"$f":"'Complex Time Line'!KK7","v":0},{"$f":"'Complex Time Line'!KL7","v":0},{"$f":"'Complex Time Line'!KM7","v":0},{"$f":"'Complex Time Line'!KN7","v":0},{"$f":"'Complex Time Line'!KO7","v":0},{"$f":"'Complex Time Line'!KP7","v":0},{"$f":"'Complex Time Line'!KQ7","v":0},{"$f":"'Complex Time Line'!KR7","v":0},{"$f":"'Complex Time Line'!KS7","v":0},{"$f":"'Complex Time Line'!KT7","v":0},{"$f":"'Complex Time Line'!KU7","v":0},{"$f":"'Complex Time Line'!KV7","v":0},{"$f":"'Complex Time Line'!KW7","v":0},{"$f":"'Complex Time Line'!KX7","v":0},{"$f":"'Complex Time Line'!KY7","v":0},{"$f":"'Complex Time Line'!KZ7","v":0},{"$f":"'Complex Time Line'!LA7","v":0},{"$f":"'Complex Time Line'!LB7","v":0},{"$f":"'Complex Time Line'!LC7","v":0},{"$f":"'Complex Time Line'!LD7","v":0},{"$f":"'Complex Time Line'!LE7","v":0},{"$f":"'Complex Time Line'!LF7","v":0},{"$f":"'Complex Time Line'!LG7","v":0},{"$f":"'Complex Time Line'!LH7","v":0},{"$f":"'Complex Time Line'!LI7","v":0},{"$f":"'Complex Time Line'!LJ7","v":0},{"$f":"'Complex Time Line'!LK7","v":0},{"$f":"'Complex Time Line'!LL7","v":0},{"$f":"'Complex Time Line'!LM7","v":0},{"$f":"'Complex Time Line'!LN7","v":0},{"$f":"'Complex Time Line'!LO7","v":0},{"$f":"'Complex Time Line'!LP7","v":0},{"$f":"'Complex Time Line'!LQ7","v":0},{"$f":"'Complex Time Line'!LR7","v":0},{"$f":"'Complex Time Line'!LS7","v":0},{"$f":"'Complex Time Line'!LT7","v":0},{"$f":"'Complex Time Line'!LU7","v":0},{"$f":"'Complex Time Line'!LV7","v":0},{"$f":"'Complex Time Line'!LW7","v":0},{"$f":"'Complex Time Line'!LX7","v":0},{"$f":"'Complex Time Line'!LY7","v":0},{"$f":"'Complex Time Line'!LZ7","v":0},{"$f":"'Complex Time Line'!MA7","v":0},{"$f":"'Complex Time Line'!MB7","v":0},{"$f":"'Complex Time Line'!MC7","v":0},{"$f":"'Complex Time Line'!MD7","v":0},{"$f":"'Complex Time Line'!ME7","v":0},{"$f":"'Complex Time Line'!MF7","v":0},{"$f":"'Complex Time Line'!MG7","v":0},{"$f":"'Complex Time Line'!MH7","v":0},{"$f":"'Complex Time Line'!MI7","v":0},{"$f":"'Complex Time Line'!MJ7","v":0},{"$f":"'Complex Time Line'!MK7","v":0},{"$f":"'Complex Time Line'!ML7","v":0},{"$f":"'Complex Time Line'!MM7","v":0},{"$f":"'Complex Time Line'!MN7","v":0},{"$f":"'Complex Time Line'!MO7","v":0},{"$f":"'Complex Time Line'!MP7","v":0},{"$f":"'Complex Time Line'!MQ7","v":0},{"$f":"'Complex Time Line'!MR7","v":0},{"$f":"'Complex Time Line'!MS7","v":0},{"$f":"'Complex Time Line'!MT7","v":0},{"$f":"'Complex Time Line'!MU7","v":0},{"$f":"'Complex Time Line'!MV7","v":0},{"$f":"'Complex Time Line'!MW7","v":0},{"$f":"'Complex Time Line'!MX7","v":0},{"$f":"'Complex Time Line'!MY7","v":0},{"$f":"'Complex Time Line'!MZ7","v":0},{"$f":"'Complex Time Line'!NA7","v":0},{"$f":"'Complex Time Line'!NB7","v":0},{"$f":"'Complex Time Line'!NC7","v":0},{"$f":"'Complex Time Line'!ND7","v":0},{"$f":"'Complex Time Line'!NE7","v":0},{"$f":"'Complex Time Line'!NF7","v":0},{"$f":"'Complex Time Line'!NG7","v":0},{"$f":"'Complex Time Line'!NH7","v":0},{"$f":"'Complex Time Line'!NI7","v":0},{"$f":"'Complex Time Line'!NJ7","v":0},{"$f":"'Complex Time Line'!NK7","v":0},{"$f":"'Complex Time Line'!NL7","v":0},{"$f":"'Complex Time Line'!NM7","v":0},{"$f":"'Complex Time Line'!NN7","v":0},{"$f":"'Complex Time Line'!NO7","v":0},{"$f":"'Complex Time Line'!NP7","v":0},{"$f":"'Complex Time Line'!NQ7","v":0},{"$f":"'Complex Time Line'!NR7","v":0},{"$f":"'Complex Time Line'!NS7","v":0},{"$f":"'Complex Time Line'!NT7","v":0},{"$f":"'Complex Time Line'!NU7","v":0},{"$f":"'Complex Time Line'!NV7","v":0},{"$f":"'Complex Time Line'!NW7","v":0},{"$f":"'Complex Time Line'!NX7","v":0},{"$f":"'Complex Time Line'!NY7","v":0},{"$f":"'Complex Time Line'!NZ7","v":0},{"$f":"'Complex Time Line'!OA7","v":0},{"$f":"'Complex Time Line'!OB7","v":0},{"$f":"'Complex Time Line'!OC7","v":0},{"$f":"'Complex Time Line'!OD7","v":0},{"$f":"'Complex Time Line'!OE7","v":0},{"$f":"'Complex Time Line'!OF7","v":0},{"$f":"'Complex Time Line'!OG7","v":0},{"$f":"'Complex Time Line'!OH7","v":0},{"$f":"'Complex Time Line'!OI7","v":0},{"$f":"'Complex Time Line'!OJ7","v":0},{"$f":"'Complex Time Line'!OK7","v":0},{"$f":"'Complex Time Line'!OL7","v":0},{"$f":"'Complex Time Line'!OM7","v":0},{"$f":"'Complex Time Line'!ON7","v":0},{"$f":"'Complex Time Line'!OO7","v":0},{"$f":"'Complex Time Line'!OP7","v":0},{"$f":"'Complex Time Line'!OQ7","v":0},{"$f":"'Complex Time Line'!OR7","v":0},{"$f":"'Complex Time Line'!OS7","v":0},{"$f":"'Complex Time Line'!OT7","v":0},{"$f":"'Complex Time Line'!OU7","v":0},{"$f":"'Complex Time Line'!OV7","v":0},{"$f":"'Complex Time Line'!OW7","v":0},{"$f":"'Complex Time Line'!OX7","v":0},{"$f":"'Complex Time Line'!OY7","v":0},{"$f":"'Complex Time Line'!OZ7","v":0},{"$f":"'Complex Time Line'!PA7","v":0},{"$f":"'Complex Time Line'!PB7","v":0},{"$f":"'Complex Time Line'!PC7","v":0},{"$f":"'Complex Time Line'!PD7","v":0},{"$f":"'Complex Time Line'!PE7","v":0},{"$f":"'Complex Time Line'!PF7","v":0},{"$f":"'Complex Time Line'!PG7","v":0},{"$f":"'Complex Time Line'!PH7","v":0},{"$f":"'Complex Time Line'!PI7","v":0},{"$f":"'Complex Time Line'!PJ7","v":0},{"$f":"'Complex Time Line'!PK7","v":0},{"$f":"'Complex Time Line'!PL7","v":0},{"$f":"'Complex Time Line'!PM7","v":0},{"$f":"'Complex Time Line'!PN7","v":0},{"$f":"'Complex Time Line'!PO7","v":0},{"$f":"'Complex Time Line'!PP7","v":0},{"$f":"'Complex Time Line'!PQ7","v":0},{"$f":"'Complex Time Line'!PR7","v":0},{"$f":"'Complex Time Line'!PS7","v":0},{"$f":"'Complex Time Line'!PT7","v":0},{"$f":"'Complex Time Line'!PU7","v":0},{"$f":"'Complex Time Line'!PV7","v":0},{"$f":"'Complex Time Line'!PW7","v":0},{"$f":"'Complex Time Line'!PX7","v":0},{"$f":"'Complex Time Line'!PY7","v":0},{"$f":"'Complex Time Line'!PZ7","v":0},{"$f":"'Complex Time Line'!QA7","v":0},{"$f":"'Complex Time Line'!QB7","v":0},{"$f":"'Complex Time Line'!QC7","v":0},{"$f":"'Complex Time Line'!QD7","v":0},{"$f":"'Complex Time Line'!QE7","v":0},{"$f":"'Complex Time Line'!QF7","v":0},{"$f":"'Complex Time Line'!QG7","v":0},{"$f":"'Complex Time Line'!QH7","v":0},{"$f":"'Complex Time Line'!QI7","v":0},{"$f":"'Complex Time Line'!QJ7","v":0},{"$f":"'Complex Time Line'!QK7","v":0},{"$f":"'Complex Time Line'!QL7","v":0},{"$f":"'Complex Time Line'!QM7","v":0},{"$f":"'Complex Time Line'!QN7","v":0},{"$f":"'Complex Time Line'!QO7","v":0},{"$f":"'Complex Time Line'!QP7","v":0},{"$f":"'Complex Time Line'!QQ7","v":0},{"$f":"'Complex Time Line'!QR7","v":0},{"$f":"'Complex Time Line'!QS7","v":0},{"$f":"'Complex Time Line'!QT7","v":0},{"$f":"'Complex Time Line'!QU7","v":0},{"$f":"'Complex Time Line'!QV7","v":0},{"$f":"'Complex Time Line'!QW7","v":0},{"$f":"'Complex Time Line'!QX7","v":0},{"$f":"'Complex Time Line'!QY7","v":0},{"$f":"'Complex Time Line'!QZ7","v":0},{"$f":"'Complex Time Line'!RA7","v":0},{"$f":"'Complex Time Line'!RB7","v":0},{"$f":"'Complex Time Line'!RC7","v":0},{"$f":"'Complex Time Line'!RD7","v":0},{"$f":"'Complex Time Line'!RE7","v":0},{"$f":"'Complex Time Line'!RF7","v":0},{"$f":"'Complex Time Line'!RG7","v":0},{"$f":"'Complex Time Line'!RH7","v":0},{"$f":"'Complex Time Line'!RI7","v":0},{"$f":"'Complex Time Line'!RJ7","v":0},{"$f":"'Complex Time Line'!RK7","v":0},{"$f":"'Complex Time Line'!RL7","v":0},{"$f":"'Complex Time Line'!RM7","v":0},{"$f":"'Complex Time Line'!RN7","v":0},{"$f":"'Complex Time Line'!RO7","v":0},{"$f":"'Complex Time Line'!RP7","v":0},{"$f":"'Complex Time Line'!RQ7","v":0},{"$f":"'Complex Time Line'!RR7","v":0},{"$f":"'Complex Time Line'!RS7","v":0},{"$f":"'Complex Time Line'!RT7","v":0},{"$f":"'Complex Time Line'!RU7","v":0},{"$f":"'Complex Time Line'!RV7","v":0},{"$f":"'Complex Time Line'!RW7","v":0},{"$f":"'Complex Time Line'!RX7","v":0},{"$f":"'Complex Time Line'!RY7","v":0},{"$f":"'Complex Time Line'!RZ7","v":0},{"$f":"'Complex Time Line'!SA7","v":0},{"$f":"'Complex Time Line'!SB7","v":0},{"$f":"'Complex Time Line'!SC7","v":0},{"$f":"'Complex Time Line'!SD7","v":0},{"$f":"'Complex Time Line'!SE7","v":0},{"$f":"'Complex Time Line'!SF7","v":0},{"$f":"'Complex Time Line'!SG7","v":0},{"$f":"'Complex Time Line'!SH7","v":0},{"$f":"'Complex Time Line'!SI7","v":0},{"$f":"'Complex Time Line'!SJ7","v":0},{"$f":"'Complex Time Line'!SK7","v":0},{"$f":"'Complex Time Line'!SL7","v":0},{"$f":"'Complex Time Line'!SM7","v":0},{"$f":"'Complex Time Line'!SN7","v":0},{"$f":"'Complex Time Line'!SO7","v":0},{"$f":"'Complex Time Line'!SP7","v":0},{"$f":"'Complex Time Line'!SQ7","v":0},{"$f":"'Complex Time Line'!SR7","v":0},{"$f":"'Complex Time Line'!SS7","v":0},{"$f":"'Complex Time Line'!ST7","v":0},{"$f":"'Complex Time Line'!SU7","v":0},{"$f":"'Complex Time Line'!SV7","v":0},{"$f":"'Complex Time Line'!SW7","v":0},{"$f":"'Complex Time Line'!SX7","v":0},{"$f":"'Complex Time Line'!SY7","v":0},{"$f":"'Complex Time Line'!SZ7","v":0},{"$f":"'Complex Time Line'!TA7","v":0},{"$f":"'Complex Time Line'!TB7","v":0},{"$f":"'Complex Time Line'!TC7","v":0},{"$f":"'Complex Time Line'!TD7","v":0},{"$f":"'Complex Time Line'!TE7","v":0},{"$f":"'Complex Time Line'!TF7","v":0},{"$f":"'Complex Time Line'!TG7","v":0},{"$f":"'Complex Time Line'!TH7","v":0},{"$f":"'Complex Time Line'!TI7","v":0},{"$f":"'Complex Time Line'!TJ7","v":0},{"$f":"'Complex Time Line'!TK7","v":0},{"$f":"'Complex Time Line'!TL7","v":0},{"$f":"'Complex Time Line'!TM7","v":0},{"$f":"'Complex Time Line'!TN7","v":0},{"$f":"'Complex Time Line'!TO7","v":0},{"$f":"'Complex Time Line'!TP7","v":0},{"$f":"'Complex Time Line'!TQ7","v":0},{"$f":"'Complex Time Line'!TR7","v":0},{"$f":"'Complex Time Line'!TS7","v":0},{"$f":"'Complex Time Line'!TT7","v":0},{"$f":"'Complex Time Line'!TU7","v":0},{"$f":"'Complex Time Line'!TV7","v":0},{"$f":"'Complex Time Line'!TW7","v":0},{"$f":"'Complex Time Line'!TX7","v":0},{"$f":"'Complex Time Line'!TY7","v":0},{"$f":"'Complex Time Line'!TZ7","v":0},{"$f":"'Complex Time Line'!UA7","v":0},{"$f":"'Complex Time Line'!UB7","v":0},{"$f":"'Complex Time Line'!UC7","v":0},{"$f":"'Complex Time Line'!UD7","v":0},{"$f":"'Complex Time Line'!UE7","v":0},{"$f":"'Complex Time Line'!UF7","v":0},{"$f":"'Complex Time Line'!UG7","v":0},{"$f":"'Complex Time Line'!UH7","v":0},{"$f":"'Complex Time Line'!UI7","v":0},{"$f":"'Complex Time Line'!UJ7","v":0},{"$f":"'Complex Time Line'!UK7","v":0},{"$f":"'Complex Time Line'!UL7","v":0},{"$f":"'Complex Time Line'!UM7","v":0},{"$f":"'Complex Time Line'!UN7","v":0},{"$f":"'Complex Time Line'!UO7","v":0}]
[null,null,"Months in Period",null,"Periods",{"$f":"'InputC Partial Month'!F15","v":1},{"$f":"'InputC Partial Month'!F16","v":1},{"$f":"SUM(K6:XFD6)","v":551},"Flag",null,{"$f":"IF(K4,$F$6,$G$6)","v":1},1,1,1,1,1,1,1,1,1,1,1,1,1,1,1,1,1,1,1,1,1,1,1,1,1,1,1,1,1,1,1,1,1,1,1,1,1,1,1,1,1,1,1,1,1,1,1,1,1,1,1,1,1,1,1,1,1,1,1,1,1,1,1,{"$f":"IF(BW4,$F$6,$G$6)","v":1},1,1,1,1,1,1,1,1,1,1,1,1,1,1,1,1,1,1,1,1,1,1,1,1,1,1,1,1,1,1,1,1,1,1,1,1,1,1,1,1,1,1,1,1,1,1,1,1,1,1,1,1,1,1,1,1,1,1,1,1,1,1,1,{"$f":"IF(EI4,$F$6,$G$6)","v":1},1,1,1,1,1,1,1,1,1,1,1,1,1,1,1,1,1,1,1,1,1,1,1,1,1,1,1,1,1,1,1,1,1,1,1,1,1,1,1,1,1,1,1,1,1,1,1,1,1,1,1,1,1,1,1,1,1,1,1,1,1,1,1,{"$f":"IF(GU4,$F$6,$G$6)","v":1},1,1,1,1,1,1,1,1,1,1,1,1,1,1,1,1,1,1,1,1,1,1,1,1,1,1,1,1,1,1,1,1,1,1,1,1,1,1,1,1,1,1,1,1,1,1,1,1,1,1,1,1,1,1,1,1,1,1,1,1,1,1,1,{"$f":"IF(JG4,$F$6,$G$6)","v":1},1,1,1,1,1,1,1,1,1,1,1,1,1,1,1,1,1,1,1,1,1,1,1,1,1,1,1,1,1,1,1,1,1,1,1,1,1,1,1,1,1,1,1,1,1,1,1,1,1,1,1,1,1,1,1,1,1,1,1,1,1,1,1,{"$f":"IF(LS4,$F$6,$G$6)","v":1},1,1,1,1,1,1,1,1,1,1,1,1,1,1,1,1,1,1,1,1,1,1,1,1,1,1,1,1,1,1,1,1,1,1,1,1,1,1,1,1,1,1,1,1,1,1,1,1,1,1,1,1,1,1,1,1,1,1,1,1,1,1,1,{"$f":"IF(OE4,$F$6,$G$6)","v":1},1,1,1,1,1,1,1,1,1,1,1,1,1,1,1,1,1,1,1,1,1,1,1,1,1,1,1,1,1,1,1,1,1,1,1,1,1,1,1,1,1,1,1,1,1,1,1,1,1,1,1,1,1,1,1,1,1,1,1,1,1,1,1,{"$f":"IF(QQ4,$F$6,$G$6)","v":1},1,1,1,1,1,1,1,1,1,1,1,1,1,1,1,1,1,1,1,1,1,1,1,1,1,1,1,1,1,1,1,1,1,1,1,1,1,1,1,1,1,1,1,1,1,1,1,1,1,1,1,1,1,1,1,1,1,1,1,1,1,1,1,{"$f":"IF(TC4,$F$6,$G$6)","v":1},1,1,1,1,1,1,1,1,1,1,1,1,1,1,1,1,1,1,1,1,1,1,1,1,1,1,1,1,1,1,1,1,1,1,1,1,1,1]
[null,null,"Start of period",null,"Date",null,null,null,"Date",null,{"$f":"J8+1","v":"2026-08-14"},{"$f":"K8+1","v":"2026-09-01"},"2026-10-01","2026-11-01","2026-12-01","2027-01-01","2027-02-01","2027-03-01","2027-04-01","2027-05-01","2027-06-01","2027-07-01","2027-08-01","2027-09-01","2027-10-01","2027-11-01","2027-12-01","2028-01-01","2028-02-01","2028-03-01","2028-04-01","2028-05-01","2028-06-01","2028-07-01","2028-08-01","2028-09-01","2028-10-01","2028-11-01","2028-12-01","2029-01-01","2029-02-01","2029-03-01","2029-04-01","2029-05-01","2029-06-01","2029-07-01","2029-08-01","2029-09-01","2029-10-01","2029-11-01","2029-12-01","2030-01-01","2030-02-01","2030-03-01","2030-04-01","2030-05-01","2030-06-01","2030-07-01","2030-08-01","2030-09-01","2030-10-01","2030-11-01","2030-12-01","2031-01-01","2031-02-01","2031-03-01","2031-04-01","2031-05-01","2031-06-01","2031-07-01","2031-08-01","2031-09-01","2031-10-01","2031-11-01","2031-12-01",{"$f":"BW8+1","v":"2032-01-01"},"2032-02-01","2032-03-01","2032-04-01","2032-05-01","2032-06-01","2032-07-01","2032-08-01","2032-09-01","2032-10-01","2032-11-01","2032-12-01","2033-01-01","2033-02-01","2033-03-01","2033-04-01","2033-05-01","2033-06-01","2033-07-01","2033-08-01","2033-09-01","2033-10-01","2033-11-01","2033-12-01","2034-01-01","2034-02-01","2034-03-01","2034-04-01","2034-05-01","2034-06-01","2034-07-01","2034-08-01","2034-09-01","2034-10-01","2034-11-01","2034-12-01","2035-01-01","2035-02-01","2035-03-01","2035-04-01","2035-05-01","2035-06-01","2035-07-01","2035-08-01","2035-09-01","2035-10-01","2035-11-01","2035-12-01","2036-01-01","2036-02-01","2036-03-01","2036-04-01","2036-05-01","2036-06-01","2036-07-01","2036-08-01","2036-09-01","2036-10-01","2036-11-01","2036-12-01","2037-01-01","2037-02-01","2037-03-01","2037-04-01",{"$f":"EI8+1","v":"2037-05-01"},"2037-06-01","2037-07-01","2037-08-01","2037-09-01","2037-10-01","2037-11-01","2037-12-01","2038-01-01","2038-02-01","2038-03-01","2038-04-01","2038-05-01","2038-06-01","2038-07-01","2038-08-01","2038-09-01","2038-10-01","2038-11-01","2038-12-01","2039-01-01","2039-02-01","2039-03-01","2039-04-01","2039-05-01","2039-06-01","2039-07-01","2039-08-01","2039-09-01","2039-10-01","2039-11-01","2039-12-01","2040-01-01","2040-02-01","2040-03-01","2040-04-01","2040-05-01","2040-06-01","2040-07-01","2040-08-01","2040-09-01","2040-10-01","2040-11-01","2040-12-01","2041-01-01","2041-02-01","2041-03-01","2041-04-01","2041-05-01","2041-06-01","2041-07-01","2041-08-01","2041-09-01","2041-10-01","2041-11-01","2041-12-01","2042-01-01","2042-02-01","2042-03-01","2042-04-01","2042-05-01","2042-06-01","2042-07-01","2042-08-01",{"$f":"GU8+1","v":"2042-09-01"},"2042-10-01","2042-11-01","2042-12-01","2043-01-01","2043-02-01","2043-03-01","2043-04-01","2043-05-01","2043-06-01","2043-07-01","2043-08-01","2043-09-01","2043-10-01","2043-11-01","2043-12-01","2044-01-01","2044-02-01","2044-03-01","2044-04-01","2044-05-01","2044-06-01","2044-07-01","2044-08-01","2044-09-01","2044-10-01","2044-11-01","2044-12-01","2045-01-01","2045-02-01","2045-03-01","2045-04-01","2045-05-01","2045-06-01","2045-07-01","2045-08-01","2045-09-01","2045-10-01","2045-11-01","2045-12-01","2046-01-01","2046-02-01","2046-03-01","2046-04-01","2046-05-01","2046-06-01","2046-07-01","2046-08-01","2046-09-01","2046-10-01","2046-11-01","2046-12-01","2047-01-01","2047-02-01","2047-03-01","2047-04-01","2047-05-01","2047-06-01","2047-07-01","2047-08-01","2047-09-01","2047-10-01","2047-11-01","2047-12-01",{"$f":"JG8+1","v":"2048-01-01"},"2048-02-01","2048-03-01","2048-04-01","2048-05-01","2048-06-01","2048-07-01","2048-08-01","2048-09-01","2048-10-01","2048-11-01","2048-12-01","2049-01-01","2049-02-01","2049-03-01","2049-04-01","2049-05-01","2049-06-01","2049-07-01","2049-08-01","2049-09-01","2049-10-01","2049-11-01","2049-12-01","2050-01-01","2050-02-01","2050-03-01","2050-04-01","2050-05-01","2050-06-01","2050-07-01","2050-08-01","2050-09-01","2050-10-01","2050-11-01","2050-12-01","2051-01-01","2051-02-01","2051-03-01","2051-04-01","2051-05-01","2051-06-01","2051-07-01","2051-08-01","2051-09-01","2051-10-01","2051-11-01","2051-12-01","2052-01-01","2052-02-01","2052-03-01","2052-04-01","2052-05-01","2052-06-01","2052-07-01","2052-08-01","2052-09-01","2052-10-01","2052-11-01","2052-12-01","2053-01-01","2053-02-01","2053-03-01","2053-04-01",{"$f":"LS8+1","v":"2053-05-01"},"2053-06-01","2053-07-01","2053-08-01","2053-09-01","2053-10-01","2053-11-01","2053-12-01","2054-01-01","2054-02-01","2054-03-01","2054-04-01","2054-05-01","2054-06-01","2054-07-01","2054-08-01","2054-09-01","2054-10-01","2054-11-01","2054-12-01","2055-01-01","2055-02-01","2055-03-01","2055-04-01","2055-05-01","2055-06-01","2055-07-01","2055-08-01","2055-09-01","2055-10-01","2055-11-01","2055-12-01","2056-01-01","2056-02-01","2056-03-01","2056-04-01","2056-05-01","2056-06-01","2056-07-01","2056-08-01","2056-09-01","2056-10-01","2056-11-01","2056-12-01","2057-01-01","2057-02-01","2057-03-01","2057-04-01","2057-05-01","2057-06-01","2057-07-01","2057-08-01","2057-09-01","2057-10-01","2057-11-01","2057-12-01","2058-01-01","2058-02-01","2058-03-01","2058-04-01","2058-05-01","2058-06-01","2058-07-01","2058-08-01",{"$f":"OE8+1","v":"2058-09-01"},"2058-10-01","2058-11-01","2058-12-01","2059-01-01","2059-02-01","2059-03-01","2059-04-01","2059-05-01","2059-06-01","2059-07-01","2059-08-01","2059-09-01","2059-10-01","2059-11-01","2059-12-01","2060-01-01","2060-02-01","2060-03-01","2060-04-01","2060-05-01","2060-06-01","2060-07-01","2060-08-01","2060-09-01","2060-10-01","2060-11-01","2060-12-01","2061-01-01","2061-02-01","2061-03-01","2061-04-01","2061-05-01","2061-06-01","2061-07-01","2061-08-01","2061-09-01","2061-10-01","2061-11-01","2061-12-01","2062-01-01","2062-02-01","2062-03-01","2062-04-01","2062-05-01","2062-06-01","2062-07-01","2062-08-01","2062-09-01","2062-10-01","2062-11-01","2062-12-01","2063-01-01","2063-02-01","2063-03-01","2063-04-01","2063-05-01","2063-06-01","2063-07-01","2063-08-01","2063-09-01","2063-10-01","2063-11-01","2063-12-01",{"$f":"QQ8+1","v":"2064-01-01"},"2064-02-01","2064-03-01","2064-04-01","2064-05-01","2064-06-01","2064-07-01","2064-08-01","2064-09-01","2064-10-01","2064-11-01","2064-12-01","2065-01-01","2065-02-01","2065-03-01","2065-04-01","2065-05-01","2065-06-01","2065-07-01","2065-08-01","2065-09-01","2065-10-01","2065-11-01","2065-12-01","2066-01-01","2066-02-01","2066-03-01","2066-04-01","2066-05-01","2066-06-01","2066-07-01","2066-08-01","2066-09-01","2066-10-01","2066-11-01","2066-12-01","2067-01-01","2067-02-01","2067-03-01","2067-04-01","2067-05-01","2067-06-01","2067-07-01","2067-08-01","2067-09-01","2067-10-01","2067-11-01","2067-12-01","2068-01-01","2068-02-01","2068-03-01","2068-04-01","2068-05-01","2068-06-01","2068-07-01","2068-08-01","2068-09-01","2068-10-01","2068-11-01","2068-12-01","2069-01-01","2069-02-01","2069-03-01","2069-04-01",{"$f":"TC8+1","v":"2069-05-01"},"2069-06-01","2069-07-01","2069-08-01","2069-09-01","2069-10-01","2069-11-01","2069-12-01","2070-01-01","2070-02-01","2070-03-01","2070-04-01","2070-05-01","2070-06-01","2070-07-01","2070-08-01","2070-09-01","2070-10-01","2070-11-01","2070-12-01","2071-01-01","2071-02-01","2071-03-01","2071-04-01","2071-05-01","2071-06-01","2071-07-01","2071-08-01","2071-09-01","2071-10-01","2071-11-01","2071-12-01","2072-01-01","2072-02-01","2072-03-01","2072-04-01","2072-05-01","2072-06-01"]
[null,null,"End of period",null,"Date",null,null,null,"Date",{"$f":"'InputC Partial Month'!F6-1","v":"2026-08-13"},{"$f":"EOMONTH(K7,K6-1)","v":"2026-08-31"},"2026-09-30","2026-10-31","2026-11-30","2026-12-31","2027-01-31","2027-02-28","2027-03-31","2027-04-30","2027-05-31","2027-06-30","2027-07-31","2027-08-31","2027-09-30","2027-10-31","2027-11-30","2027-12-31","2028-01-31","2028-02-29","2028-03-31","2028-04-30","2028-05-31","2028-06-30","2028-07-31","2028-08-31","2028-09-30","2028-10-31","2028-11-30","2028-12-31","2029-01-31","2029-02-28","2029-03-31","2029-04-30","2029-05-31","2029-06-30","2029-07-31","2029-08-31","2029-09-30","2029-10-31","2029-11-30","2029-12-31","2030-01-31","2030-02-28","2030-03-31","2030-04-30","2030-05-31","2030-06-30","2030-07-31","2030-08-31","2030-09-30","2030-10-31","2030-11-30","2030-12-31","2031-01-31","2031-02-28","2031-03-31","2031-04-30","2031-05-31","2031-06-30","2031-07-31","2031-08-31","2031-09-30","2031-10-31","2031-11-30",{"$f":"EOMONTH(BW7,BW6-1)","v":"2031-12-31"},"2032-01-31","2032-02-29","2032-03-31","2032-04-30","2032-05-31","2032-06-30","2032-07-31","2032-08-31","2032-09-30","2032-10-31","2032-11-30","2032-12-31","2033-01-31","2033-02-28","2033-03-31","2033-04-30","2033-05-31","2033-06-30","2033-07-31","2033-08-31","2033-09-30","2033-10-31","2033-11-30","2033-12-31","2034-01-31","2034-02-28","2034-03-31","2034-04-30","2034-05-31","2034-06-30","2034-07-31","2034-08-31","2034-09-30","2034-10-31","2034-11-30","2034-12-31","2035-01-31","2035-02-28","2035-03-31","2035-04-30","2035-05-31","2035-06-30","2035-07-31","2035-08-31","2035-09-30","2035-10-31","2035-11-30","2035-12-31","2036-01-31","2036-02-29","2036-03-31","2036-04-30","2036-05-31","2036-06-30","2036-07-31","2036-08-31","2036-09-30","2036-10-31","2036-11-30","2036-12-31","2037-01-31","2037-02-28","2037-03-31",{"$f":"EOMONTH(EI7,EI6-1)","v":"2037-04-30"},"2037-05-31","2037-06-30","2037-07-31","2037-08-31","2037-09-30","2037-10-31","2037-11-30","2037-12-31","2038-01-31","2038-02-28","2038-03-31","2038-04-30","2038-05-31","2038-06-30","2038-07-31","2038-08-31","2038-09-30","2038-10-31","2038-11-30","2038-12-31","2039-01-31","2039-02-28","2039-03-31","2039-04-30","2039-05-31","2039-06-30","2039-07-31","2039-08-31","2039-09-30","2039-10-31","2039-11-30","2039-12-31","2040-01-31","2040-02-29","2040-03-31","2040-04-30","2040-05-31","2040-06-30","2040-07-31","2040-08-31","2040-09-30","2040-10-31","2040-11-30","2040-12-31","2041-01-31","2041-02-28","2041-03-31","2041-04-30","2041-05-31","2041-06-30","2041-07-31","2041-08-31","2041-09-30","2041-10-31","2041-11-30","2041-12-31","2042-01-31","2042-02-28","2042-03-31","2042-04-30","2042-05-31","2042-06-30","2042-07-31",{"$f":"EOMONTH(GU7,GU6-1)","v":"2042-08-31"},"2042-09-30","2042-10-31","2042-11-30","2042-12-31","2043-01-31","2043-02-28","2043-03-31","2043-04-30","2043-05-31","2043-06-30","2043-07-31","2043-08-31","2043-09-30","2043-10-31","2043-11-30","2043-12-31","2044-01-31","2044-02-29","2044-03-31","2044-04-30","2044-05-31","2044-06-30","2044-07-31","2044-08-31","2044-09-30","2044-10-31","2044-11-30","2044-12-31","2045-01-31","2045-02-28","2045-03-31","2045-04-30","2045-05-31","2045-06-30","2045-07-31","2045-08-31","2045-09-30","2045-10-31","2045-11-30","2045-12-31","2046-01-31","2046-02-28","2046-03-31","2046-04-30","2046-05-31","2046-06-30","2046-07-31","2046-08-31","2046-09-30","2046-10-31","2046-11-30","2046-12-31","2047-01-31","2047-02-28","2047-03-31","2047-04-30","2047-05-31","2047-06-30","2047-07-31","2047-08-31","2047-09-30","2047-10-31","2047-11-30",{"$f":"EOMONTH(JG7,JG6-1)","v":"2047-12-31"},"2048-01-31","2048-02-29","2048-03-31","2048-04-30","2048-05-31","2048-06-30","2048-07-31","2048-08-31","2048-09-30","2048-10-31","2048-11-30","2048-12-31","2049-01-31","2049-02-28","2049-03-31","2049-04-30","2049-05-31","2049-06-30","2049-07-31","2049-08-31","2049-09-30","2049-10-31","2049-11-30","2049-12-31","2050-01-31","2050-02-28","2050-03-31","2050-04-30","2050-05-31","2050-06-30","2050-07-31","2050-08-31","2050-09-30","2050-10-31","2050-11-30","2050-12-31","2051-01-31","2051-02-28","2051-03-31","2051-04-30","2051-05-31","2051-06-30","2051-07-31","2051-08-31","2051-09-30","2051-10-31","2051-11-30","2051-12-31","2052-01-31","2052-02-29","2052-03-31","2052-04-30","2052-05-31","2052-06-30","2052-07-31","2052-08-31","2052-09-30","2052-10-31","2052-11-30","2052-12-31","2053-01-31","2053-02-28","2053-03-31",{"$f":"EOMONTH(LS7,LS6-1)","v":"2053-04-30"},"2053-05-31","2053-06-30","2053-07-31","2053-08-31","2053-09-30","2053-10-31","2053-11-30","2053-12-31","2054-01-31","2054-02-28","2054-03-31","2054-04-30","2054-05-31","2054-06-30","2054-07-31","2054-08-31","2054-09-30","2054-10-31","2054-11-30","2054-12-31","2055-01-31","2055-02-28","2055-03-31","2055-04-30","2055-05-31","2055-06-30","2055-07-31","2055-08-31","2055-09-30","2055-10-31","2055-11-30","2055-12-31","2056-01-31","2056-02-29","2056-03-31","2056-04-30","2056-05-31","2056-06-30","2056-07-31","2056-08-31","2056-09-30","2056-10-31","2056-11-30","2056-12-31","2057-01-31","2057-02-28","2057-03-31","2057-04-30","2057-05-31","2057-06-30","2057-07-31","2057-08-31","2057-09-30","2057-10-31","2057-11-30","2057-12-31","2058-01-31","2058-02-28","2058-03-31","2058-04-30","2058-05-31","2058-06-30","2058-07-31",{"$f":"EOMONTH(OE7,OE6-1)","v":"2058-08-31"},"2058-09-30","2058-10-31","2058-11-30","2058-12-31","2059-01-31","2059-02-28","2059-03-31","2059-04-30","2059-05-31","2059-06-30","2059-07-31","2059-08-31","2059-09-30","2059-10-31","2059-11-30","2059-12-31","2060-01-31","2060-02-29","2060-03-31","2060-04-30","2060-05-31","2060-06-30","2060-07-31","2060-08-31","2060-09-30","2060-10-31","2060-11-30","2060-12-31","2061-01-31","2061-02-28","2061-03-31","2061-04-30","2061-05-31","2061-06-30","2061-07-31","2061-08-31","2061-09-30","2061-10-31","2061-11-30","2061-12-31","2062-01-31","2062-02-28","2062-03-31","2062-04-30","2062-05-31","2062-06-30","2062-07-31","2062-08-31","2062-09-30","2062-10-31","2062-11-30","2062-12-31","2063-01-31","2063-02-28","2063-03-31","2063-04-30","2063-05-31","2063-06-30","2063-07-31","2063-08-31","2063-09-30","2063-10-31","2063-11-30",{"$f":"EOMONTH(QQ7,QQ6-1)","v":"2063-12-31"},"2064-01-31","2064-02-29","2064-03-31","2064-04-30","2064-05-31","2064-06-30","2064-07-31","2064-08-31","2064-09-30","2064-10-31","2064-11-30","2064-12-31","2065-01-31","2065-02-28","2065-03-31","2065-04-30","2065-05-31","2065-06-30","2065-07-31","2065-08-31","2065-09-30","2065-10-31","2065-11-30","2065-12-31","2066-01-31","2066-02-28","2066-03-31","2066-04-30","2066-05-31","2066-06-30","2066-07-31","2066-08-31","2066-09-30","2066-10-31","2066-11-30","2066-12-31","2067-01-31","2067-02-28","2067-03-31","2067-04-30","2067-05-31","2067-06-30","2067-07-31","2067-08-31","2067-09-30","2067-10-31","2067-11-30","2067-12-31","2068-01-31","2068-02-29","2068-03-31","2068-04-30","2068-05-31","2068-06-30","2068-07-31","2068-08-31","2068-09-30","2068-10-31","2068-11-30","2068-12-31","2069-01-31","2069-02-28","2069-03-31",{"$f":"EOMONTH(TC7,TC6-1)","v":"2069-04-30"},"2069-05-31","2069-06-30","2069-07-31","2069-08-31","2069-09-30","2069-10-31","2069-11-30","2069-12-31","2070-01-31","2070-02-28","2070-03-31","2070-04-30","2070-05-31","2070-06-30","2070-07-31","2070-08-31","2070-09-30","2070-10-31","2070-11-30","2070-12-31","2071-01-31","2071-02-28","2071-03-31","2071-04-30","2071-05-31","2071-06-30","2071-07-31","2071-08-31","2071-09-30","2071-10-31","2071-11-30","2071-12-31","2072-01-31","2072-02-29","2072-03-31","2072-04-30","2072-05-31","2072-06-30"]
[null,null,"Days of Construction",null,null,null,null,{"$f":"SUM(K9:XFD9)","v":729},"Days",null,{"$f":"'Complex Time Line'!K13","v":18},{"$f":"'Complex Time Line'!L13","v":30},{"$f":"'Complex Time Line'!M13","v":31},{"$f":"'Complex Time Line'!N13","v":30},{"$f":"'Complex Time Line'!O13","v":31},{"$f":"'Complex Time Line'!P13","v":31},{"$f":"'Complex Time Line'!Q13","v":28},{"$f":"'Complex Time Line'!R13","v":31},{"$f":"'Complex Time Line'!S13","v":30},{"$f":"'Complex Time Line'!T13","v":31},{"$f":"'Complex Time Line'!U13","v":30},{"$f":"'Complex Time Line'!V13","v":31},{"$f":"'Complex Time Line'!W13","v":31},{"$f":"'Complex Time Line'!X13","v":30},{"$f":"'Complex Time Line'!Y13","v":31},{"$f":"'Complex Time Line'!Z13","v":30},{"$f":"'Complex Time Line'!AA13","v":31},{"$f":"'Complex Time Line'!AB13","v":31},{"$f":"'Complex Time Line'!AC13","v":29},{"$f":"'Complex Time Line'!AD13","v":31},{"$f":"'Complex Time Line'!AE13","v":30},{"$f":"'Complex Time Line'!AF13","v":31},{"$f":"'Complex Time Line'!AG13","v":30},{"$f":"'Complex Time Line'!AH13","v":31},{"$f":"'Complex Time Line'!AI13","v":11},{"$f":"'Complex Time Line'!AJ13","v":0},{"$f":"'Complex Time Line'!AK13","v":0},{"$f":"'Complex Time Line'!AL13","v":0},{"$f":"'Complex Time Line'!AM13","v":0},{"$f":"'Complex Time Line'!AN13","v":0},{"$f":"'Complex Time Line'!AO13","v":0},{"$f":"'Complex Time Line'!AP13","v":0},{"$f":"'Complex Time Line'!AQ13","v":0},{"$f":"'Complex Time Line'!AR13","v":0},{"$f":"'Complex Time Line'!AS13","v":0},{"$f":"'Complex Time Line'!AT13","v":0},{"$f":"'Complex Time Line'!AU13","v":0},{"$f":"'Complex Time Line'!AV13","v":0},{"$f":"'Complex Time Line'!AW13","v":0},{"$f":"'Complex Time Line'!AX13","v":0},{"$f":"'Complex Time Line'!AY13","v":0},{"$f":"'Complex Time Line'!AZ13","v":0},{"$f":"'Complex Time Line'!BA13","v":0},{"$f":"'Complex Time Line'!BB13","v":0},{"$f":"'Complex Time Line'!BC13","v":0},{"$f":"'Complex Time Line'!BD13","v":0},{"$f":"'Complex Time Line'!BE13","v":0},{"$f":"'Complex Time Line'!BF13","v":0},{"$f":"'Complex Time Line'!BG13","v":0},{"$f":"'Complex Time Line'!BH13","v":0},{"$f":"'Complex Time Line'!BI13","v":0},{"$f":"'Complex Time Line'!BJ13","v":0},{"$f":"'Complex Time Line'!BK13","v":0},{"$f":"'Complex Time Line'!BL13","v":0},{"$f":"'Complex Time Line'!BM13","v":0},{"$f":"'Complex Time Line'!BN13","v":0},{"$f":"'Complex Time Line'!BO13","v":0},{"$f":"'Complex Time Line'!BP13","v":0},{"$f":"'Complex Time Line'!BQ13","v":0},{"$f":"'Complex Time Line'!BR13","v":0},{"$f":"'Complex Time Line'!BS13","v":0},{"$f":"'Complex Time Line'!BT13","v":0},{"$f":"'Complex Time Line'!BU13","v":0},{"$f":"'Complex Time Line'!BV13","v":0},{"$f":"'Complex Time Line'!BW13","v":0},{"$f":"'Complex Time Line'!BX13","v":0},{"$f":"'Complex Time Line'!BY13","v":0},{"$f":"'Complex Time Line'!BZ13","v":0},{"$f":"'Complex Time Line'!CA13","v":0},{"$f":"'Complex Time Line'!CB13","v":0},{"$f":"'Complex Time Line'!CC13","v":0},{"$f":"'Complex Time Line'!CD13","v":0},{"$f":"'Complex Time Line'!CE13","v":0},{"$f":"'Complex Time Line'!CF13","v":0},{"$f":"'Complex Time Line'!CG13","v":0},{"$f":"'Complex Time Line'!CH13","v":0},{"$f":"'Complex Time Line'!CI13","v":0},{"$f":"'Complex Time Line'!CJ13","v":0},{"$f":"'Complex Time Line'!CK13","v":0},{"$f":"'Complex Time Line'!CL13","v":0},{"$f":"'Complex Time Line'!CM13","v":0},{"$f":"'Complex Time Line'!CN13","v":0},{"$f":"'Complex Time Line'!CO13","v":0},{"$f":"'Complex Time Line'!CP13","v":0},{"$f":"'Complex Time Line'!CQ13","v":0},{"$f":"'Complex Time Line'!CR13","v":0},{"$f":"'Complex Time Line'!CS13","v":0},{"$f":"'Complex Time Line'!CT13","v":0},{"$f":"'Complex Time Line'!CU13","v":0},{"$f":"'Complex Time Line'!CV13","v":0},{"$f":"'Complex Time Line'!CW13","v":0},{"$f":"'Complex Time Line'!CX13","v":0},{"$f":"'Complex Time Line'!CY13","v":0},{"$f":"'Complex Time Line'!CZ13","v":0},{"$f":"'Complex Time Line'!DA13","v":0},{"$f":"'Complex Time Line'!DB13","v":0},{"$f":"'Complex Time Line'!DC13","v":0},{"$f":"'Complex Time Line'!DD13","v":0},{"$f":"'Complex Time Line'!DE13","v":0},{"$f":"'Complex Time Line'!DF13","v":0},{"$f":"'Complex Time Line'!DG13","v":0},{"$f":"'Complex Time Line'!DH13","v":0},{"$f":"'Complex Time Line'!DI13","v":0},{"$f":"'Complex Time Line'!DJ13","v":0},{"$f":"'Complex Time Line'!DK13","v":0},{"$f":"'Complex Time Line'!DL13","v":0},{"$f":"'Complex Time Line'!DM13","v":0},{"$f":"'Complex Time Line'!DN13","v":0},{"$f":"'Complex Time Line'!DO13","v":0},{"$f":"'Complex Time Line'!DP13","v":0},{"$f":"'Complex Time Line'!DQ13","v":0},{"$f":"'Complex Time Line'!DR13","v":0},{"$f":"'Complex Time Line'!DS13","v":0},{"$f":"'Complex Time Line'!DT13","v":0},{"$f":"'Complex Time Line'!DU13","v":0},{"$f":"'Complex Time Line'!DV13","v":0},{"$f":"'Complex Time Line'!DW13","v":0},{"$f":"'Complex Time Line'!DX13","v":0},{"$f":"'Complex Time Line'!DY13","v":0},{"$f":"'Complex Time Line'!DZ13","v":0},{"$f":"'Complex Time Line'!EA13","v":0},{"$f":"'Complex Time Line'!EB13","v":0},{"$f":"'Complex Time Line'!EC13","v":0},{"$f":"'Complex Time Line'!ED13","v":0},{"$f":"'Complex Time Line'!EE13","v":0},{"$f":"'Complex Time Line'!EF13","v":0},{"$f":"'Complex Time Line'!EG13","v":0},{"$f":"'Complex Time Line'!EH13","v":0},{"$f":"'Complex Time Line'!EI13","v":0},{"$f":"'Complex Time Line'!EJ13","v":0},{"$f":"'Complex Time Line'!EK13","v":0},{"$f":"'Complex Time Line'!EL13","v":0},{"$f":"'Complex Time Line'!EM13","v":0},{"$f":"'Complex Time Line'!EN13","v":0},{"$f":"'Complex Time Line'!EO13","v":0},{"$f":"'Complex Time Line'!EP13","v":0},{"$f":"'Complex Time Line'!EQ13","v":0},{"$f":"'Complex Time Line'!ER13","v":0},{"$f":"'Complex Time Line'!ES13","v":0},{"$f":"'Complex Time Line'!ET13","v":0},{"$f":"'Complex Time Line'!EU13","v":0},{"$f":"'Complex Time Line'!EV13","v":0},{"$f":"'Complex Time Line'!EW13","v":0},{"$f":"'Complex Time Line'!EX13","v":0},{"$f":"'Complex Time Line'!EY13","v":0},{"$f":"'Complex Time Line'!EZ13","v":0},{"$f":"'Complex Time Line'!FA13","v":0},{"$f":"'Complex Time Line'!FB13","v":0},{"$f":"'Complex Time Line'!FC13","v":0},{"$f":"'Complex Time Line'!FD13","v":0},{"$f":"'Complex Time Line'!FE13","v":0},{"$f":"'Complex Time Line'!FF13","v":0},{"$f":"'Complex Time Line'!FG13","v":0},{"$f":"'Complex Time Line'!FH13","v":0},{"$f":"'Complex Time Line'!FI13","v":0},{"$f":"'Complex Time Line'!FJ13","v":0},{"$f":"'Complex Time Line'!FK13","v":0},{"$f":"'Complex Time Line'!FL13","v":0},{"$f":"'Complex Time Line'!FM13","v":0},{"$f":"'Complex Time Line'!FN13","v":0},{"$f":"'Complex Time Line'!FO13","v":0},{"$f":"'Complex Time Line'!FP13","v":0},{"$f":"'Complex Time Line'!FQ13","v":0},{"$f":"'Complex Time Line'!FR13","v":0},{"$f":"'Complex Time Line'!FS13","v":0},{"$f":"'Complex Time Line'!FT13","v":0},{"$f":"'Complex Time Line'!FU13","v":0},{"$f":"'Complex Time Line'!FV13","v":0},{"$f":"'Complex Time Line'!FW13","v":0},{"$f":"'Complex Time Line'!FX13","v":0},{"$f":"'Complex Time Line'!FY13","v":0},{"$f":"'Complex Time Line'!FZ13","v":0},{"$f":"'Complex Time Line'!GA13","v":0},{"$f":"'Complex Time Line'!GB13","v":0},{"$f":"'Complex Time Line'!GC13","v":0},{"$f":"'Complex Time Line'!GD13","v":0},{"$f":"'Complex Time Line'!GE13","v":0},{"$f":"'Complex Time Line'!GF13","v":0},{"$f":"'Complex Time Line'!GG13","v":0},{"$f":"'Complex Time Line'!GH13","v":0},{"$f":"'Complex Time Line'!GI13","v":0},{"$f":"'Complex Time Line'!GJ13","v":0},{"$f":"'Complex Time Line'!GK13","v":0},{"$f":"'Complex Time Line'!GL13","v":0},{"$f":"'Complex Time Line'!GM13","v":0},{"$f":"'Complex Time Line'!GN13","v":0},{"$f":"'Complex Time Line'!GO13","v":0},{"$f":"'Complex Time Line'!GP13","v":0},{"$f":"'Complex Time Line'!GQ13","v":0},{"$f":"'Complex Time Line'!GR13","v":0},{"$f":"'Complex Time Line'!GS13","v":0},{"$f":"'Complex Time Line'!GT13","v":0},{"$f":"'Complex Time Line'!GU13","v":0},{"$f":"'Complex Time Line'!GV13","v":0},{"$f":"'Complex Time Line'!GW13","v":0},{"$f":"'Complex Time Line'!GX13","v":0},{"$f":"'Complex Time Line'!GY13","v":0},{"$f":"'Complex Time Line'!GZ13","v":0},{"$f":"'Complex Time Line'!HA13","v":0},{"$f":"'Complex Time Line'!HB13","v":0},{"$f":"'Complex Time Line'!HC13","v":0},{"$f":"'Complex Time Line'!HD13","v":0},{"$f":"'Complex Time Line'!HE13","v":0},{"$f":"'Complex Time Line'!HF13","v":0},{"$f":"'Complex Time Line'!HG13","v":0},{"$f":"'Complex Time Line'!HH13","v":0},{"$f":"'Complex Time Line'!HI13","v":0},{"$f":"'Complex Time Line'!HJ13","v":0},{"$f":"'Complex Time Line'!HK13","v":0},{"$f":"'Complex Time Line'!HL13","v":0},{"$f":"'Complex Time Line'!HM13","v":0},{"$f":"'Complex Time Line'!HN13","v":0},{"$f":"'Complex Time Line'!HO13","v":0},{"$f":"'Complex Time Line'!HP13","v":0},{"$f":"'Complex Time Line'!HQ13","v":0},{"$f":"'Complex Time Line'!HR13","v":0},{"$f":"'Complex Time Line'!HS13","v":0},{"$f":"'Complex Time Line'!HT13","v":0},{"$f":"'Complex Time Line'!HU13","v":0},{"$f":"'Complex Time Line'!HV13","v":0},{"$f":"'Complex Time Line'!HW13","v":0},{"$f":"'Complex Time Line'!HX13","v":0},{"$f":"'Complex Time Line'!HY13","v":0},{"$f":"'Complex Time Line'!HZ13","v":0},{"$f":"'Complex Time Line'!IA13","v":0},{"$f":"'Complex Time Line'!IB13","v":0},{"$f":"'Complex Time Line'!IC13","v":0},{"$f":"'Complex Time Line'!ID13","v":0},{"$f":"'Complex Time Line'!IE13","v":0},{"$f":"'Complex Time Line'!IF13","v":0},{"$f":"'Complex Time Line'!IG13","v":0},{"$f":"'Complex Time Line'!IH13","v":0},{"$f":"'Complex Time Line'!II13","v":0},{"$f":"'Complex Time Line'!IJ13","v":0},{"$f":"'Complex Time Line'!IK13","v":0},{"$f":"'Complex Time Line'!IL13","v":0},{"$f":"'Complex Time Line'!IM13","v":0},{"$f":"'Complex Time Line'!IN13","v":0},{"$f":"'Complex Time Line'!IO13","v":0},{"$f":"'Complex Time Line'!IP13","v":0},{"$f":"'Complex Time Line'!IQ13","v":0},{"$f":"'Complex Time Line'!IR13","v":0},{"$f":"'Complex Time Line'!IS13","v":0},{"$f":"'Complex Time Line'!IT13","v":0},{"$f":"'Complex Time Line'!IU13","v":0},{"$f":"'Complex Time Line'!IV13","v":0},{"$f":"'Complex Time Line'!IW13","v":0},{"$f":"'Complex Time Line'!IX13","v":0},{"$f":"'Complex Time Line'!IY13","v":0},{"$f":"'Complex Time Line'!IZ13","v":0},{"$f":"'Complex Time Line'!JA13","v":0},{"$f":"'Complex Time Line'!JB13","v":0},{"$f":"'Complex Time Line'!JC13","v":0},{"$f":"'Complex Time Line'!JD13","v":0},{"$f":"'Complex Time Line'!JE13","v":0},{"$f":"'Complex Time Line'!JF13","v":0},{"$f":"'Complex Time Line'!JG13","v":0},{"$f":"'Complex Time Line'!JH13","v":0},{"$f":"'Complex Time Line'!JI13","v":0},{"$f":"'Complex Time Line'!JJ13","v":0},{"$f":"'Complex Time Line'!JK13","v":0},{"$f":"'Complex Time Line'!JL13","v":0},{"$f":"'Complex Time Line'!JM13","v":0},{"$f":"'Complex Time Line'!JN13","v":0},{"$f":"'Complex Time Line'!JO13","v":0},{"$f":"'Complex Time Line'!JP13","v":0},{"$f":"'Complex Time Line'!JQ13","v":0},{"$f":"'Complex Time Line'!JR13","v":0},{"$f":"'Complex Time Line'!JS13","v":0},{"$f":"'Complex Time Line'!JT13","v":0},{"$f":"'Complex Time Line'!JU13","v":0},{"$f":"'Complex Time Line'!JV13","v":0},{"$f":"'Complex Time Line'!JW13","v":0},{"$f":"'Complex Time Line'!JX13","v":0},{"$f":"'Complex Time Line'!JY13","v":0},{"$f":"'Complex Time Line'!JZ13","v":0},{"$f":"'Complex Time Line'!KA13","v":0},{"$f":"'Complex Time Line'!KB13","v":0},{"$f":"'Complex Time Line'!KC13","v":0},{"$f":"'Complex Time Line'!KD13","v":0},{"$f":"'Complex Time Line'!KE13","v":0},{"$f":"'Complex Time Line'!KF13","v":0},{"$f":"'Complex Time Line'!KG13","v":0},{"$f":"'Complex Time Line'!KH13","v":0},{"$f":"'Complex Time Line'!KI13","v":0},{"$f":"'Complex Time Line'!KJ13","v":0},{"$f":"'Complex Time Line'!KK13","v":0},{"$f":"'Complex Time Line'!KL13","v":0},{"$f":"'Complex Time Line'!KM13","v":0},{"$f":"'Complex Time Line'!KN13","v":0},{"$f":"'Complex Time Line'!KO13","v":0},{"$f":"'Complex Time Line'!KP13","v":0},{"$f":"'Complex Time Line'!KQ13","v":0},{"$f":"'Complex Time Line'!KR13","v":0},{"$f":"'Complex Time Line'!KS13","v":0},{"$f":"'Complex Time Line'!KT13","v":0},{"$f":"'Complex Time Line'!KU13","v":0},{"$f":"'Complex Time Line'!KV13","v":0},{"$f":"'Complex Time Line'!KW13","v":0},{"$f":"'Complex Time Line'!KX13","v":0},{"$f":"'Complex Time Line'!KY13","v":0},{"$f":"'Complex Time Line'!KZ13","v":0},{"$f":"'Complex Time Line'!LA13","v":0},{"$f":"'Complex Time Line'!LB13","v":0},{"$f":"'Complex Time Line'!LC13","v":0},{"$f":"'Complex Time Line'!LD13","v":0},{"$f":"'Complex Time Line'!LE13","v":0},{"$f":"'Complex Time Line'!LF13","v":0},{"$f":"'Complex Time Line'!LG13","v":0},{"$f":"'Complex Time Line'!LH13","v":0},{"$f":"'Complex Time Line'!LI13","v":0},{"$f":"'Complex Time Line'!LJ13","v":0},{"$f":"'Complex Time Line'!LK13","v":0},{"$f":"'Complex Time Line'!LL13","v":0},{"$f":"'Complex Time Line'!LM13","v":0},{"$f":"'Complex Time Line'!LN13","v":0},{"$f":"'Complex Time Line'!LO13","v":0},{"$f":"'Complex Time Line'!LP13","v":0},{"$f":"'Complex Time Line'!LQ13","v":0},{"$f":"'Complex Time Line'!LR13","v":0},{"$f":"'Complex Time Line'!LS13","v":0},{"$f":"'Complex Time Line'!LT13","v":0},{"$f":"'Complex Time Line'!LU13","v":0},{"$f":"'Complex Time Line'!LV13","v":0},{"$f":"'Complex Time Line'!LW13","v":0},{"$f":"'Complex Time Line'!LX13","v":0},{"$f":"'Complex Time Line'!LY13","v":0},{"$f":"'Complex Time Line'!LZ13","v":0},{"$f":"'Complex Time Line'!MA13","v":0},{"$f":"'Complex Time Line'!MB13","v":0},{"$f":"'Complex Time Line'!MC13","v":0},{"$f":"'Complex Time Line'!MD13","v":0},{"$f":"'Complex Time Line'!ME13","v":0},{"$f":"'Complex Time Line'!MF13","v":0},{"$f":"'Complex Time Line'!MG13","v":0},{"$f":"'Complex Time Line'!MH13","v":0},{"$f":"'Complex Time Line'!MI13","v":0},{"$f":"'Complex Time Line'!MJ13","v":0},{"$f":"'Complex Time Line'!MK13","v":0},{"$f":"'Complex Time Line'!ML13","v":0},{"$f":"'Complex Time Line'!MM13","v":0},{"$f":"'Complex Time Line'!MN13","v":0},{"$f":"'Complex Time Line'!MO13","v":0},{"$f":"'Complex Time Line'!MP13","v":0},{"$f":"'Complex Time Line'!MQ13","v":0},{"$f":"'Complex Time Line'!MR13","v":0},{"$f":"'Complex Time Line'!MS13","v":0},{"$f":"'Complex Time Line'!MT13","v":0},{"$f":"'Complex Time Line'!MU13","v":0},{"$f":"'Complex Time Line'!MV13","v":0},{"$f":"'Complex Time Line'!MW13","v":0},{"$f":"'Complex Time Line'!MX13","v":0},{"$f":"'Complex Time Line'!MY13","v":0},{"$f":"'Complex Time Line'!MZ13","v":0},{"$f":"'Complex Time Line'!NA13","v":0},{"$f":"'Complex Time Line'!NB13","v":0},{"$f":"'Complex Time Line'!NC13","v":0},{"$f":"'Complex Time Line'!ND13","v":0},{"$f":"'Complex Time Line'!NE13","v":0},{"$f":"'Complex Time Line'!NF13","v":0},{"$f":"'Complex Time Line'!NG13","v":0},{"$f":"'Complex Time Line'!NH13","v":0},{"$f":"'Complex Time Line'!NI13","v":0},{"$f":"'Complex Time Line'!NJ13","v":0},{"$f":"'Complex Time Line'!NK13","v":0},{"$f":"'Complex Time Line'!NL13","v":0},{"$f":"'Complex Time Line'!NM13","v":0},{"$f":"'Complex Time Line'!NN13","v":0},{"$f":"'Complex Time Line'!NO13","v":0},{"$f":"'Complex Time Line'!NP13","v":0},{"$f":"'Complex Time Line'!NQ13","v":0},{"$f":"'Complex Time Line'!NR13","v":0},{"$f":"'Complex Time Line'!NS13","v":0},{"$f":"'Complex Time Line'!NT13","v":0},{"$f":"'Complex Time Line'!NU13","v":0},{"$f":"'Complex Time Line'!NV13","v":0},{"$f":"'Complex Time Line'!NW13","v":0},{"$f":"'Complex Time Line'!NX13","v":0},{"$f":"'Complex Time Line'!NY13","v":0},{"$f":"'Complex Time Line'!NZ13","v":0},{"$f":"'Complex Time Line'!OA13","v":0},{"$f":"'Complex Time Line'!OB13","v":0},{"$f":"'Complex Time Line'!OC13","v":0},{"$f":"'Complex Time Line'!OD13","v":0},{"$f":"'Complex Time Line'!OE13","v":0},{"$f":"'Complex Time Line'!OF13","v":0},{"$f":"'Complex Time Line'!OG13","v":0},{"$f":"'Complex Time Line'!OH13","v":0},{"$f":"'Complex Time Line'!OI13","v":0},{"$f":"'Complex Time Line'!OJ13","v":0},{"$f":"'Complex Time Line'!OK13","v":0},{"$f":"'Complex Time Line'!OL13","v":0},{"$f":"'Complex Time Line'!OM13","v":0},{"$f":"'Complex Time Line'!ON13","v":0},{"$f":"'Complex Time Line'!OO13","v":0},{"$f":"'Complex Time Line'!OP13","v":0},{"$f":"'Complex Time Line'!OQ13","v":0},{"$f":"'Complex Time Line'!OR13","v":0},{"$f":"'Complex Time Line'!OS13","v":0},{"$f":"'Complex Time Line'!OT13","v":0},{"$f":"'Complex Time Line'!OU13","v":0},{"$f":"'Complex Time Line'!OV13","v":0},{"$f":"'Complex Time Line'!OW13","v":0},{"$f":"'Complex Time Line'!OX13","v":0},{"$f":"'Complex Time Line'!OY13","v":0},{"$f":"'Complex Time Line'!OZ13","v":0},{"$f":"'Complex Time Line'!PA13","v":0},{"$f":"'Complex Time Line'!PB13","v":0},{"$f":"'Complex Time Line'!PC13","v":0},{"$f":"'Complex Time Line'!PD13","v":0},{"$f":"'Complex Time Line'!PE13","v":0},{"$f":"'Complex Time Line'!PF13","v":0},{"$f":"'Complex Time Line'!PG13","v":0},{"$f":"'Complex Time Line'!PH13","v":0},{"$f":"'Complex Time Line'!PI13","v":0},{"$f":"'Complex Time Line'!PJ13","v":0},{"$f":"'Complex Time Line'!PK13","v":0},{"$f":"'Complex Time Line'!PL13","v":0},{"$f":"'Complex Time Line'!PM13","v":0},{"$f":"'Complex Time Line'!PN13","v":0},{"$f":"'Complex Time Line'!PO13","v":0},{"$f":"'Complex Time Line'!PP13","v":0},{"$f":"'Complex Time Line'!PQ13","v":0},{"$f":"'Complex Time Line'!PR13","v":0},{"$f":"'Complex Time Line'!PS13","v":0},{"$f":"'Complex Time Line'!PT13","v":0},{"$f":"'Complex Time Line'!PU13","v":0},{"$f":"'Complex Time Line'!PV13","v":0},{"$f":"'Complex Time Line'!PW13","v":0},{"$f":"'Complex Time Line'!PX13","v":0},{"$f":"'Complex Time Line'!PY13","v":0},{"$f":"'Complex Time Line'!PZ13","v":0},{"$f":"'Complex Time Line'!QA13","v":0},{"$f":"'Complex Time Line'!QB13","v":0},{"$f":"'Complex Time Line'!QC13","v":0},{"$f":"'Complex Time Line'!QD13","v":0},{"$f":"'Complex Time Line'!QE13","v":0},{"$f":"'Complex Time Line'!QF13","v":0},{"$f":"'Complex Time Line'!QG13","v":0},{"$f":"'Complex Time Line'!QH13","v":0},{"$f":"'Complex Time Line'!QI13","v":0},{"$f":"'Complex Time Line'!QJ13","v":0},{"$f":"'Complex Time Line'!QK13","v":0},{"$f":"'Complex Time Line'!QL13","v":0},{"$f":"'Complex Time Line'!QM13","v":0},{"$f":"'Complex Time Line'!QN13","v":0},{"$f":"'Complex Time Line'!QO13","v":0},{"$f":"'Complex Time Line'!QP13","v":0},{"$f":"'Complex Time Line'!QQ13","v":0},{"$f":"'Complex Time Line'!QR13","v":0},{"$f":"'Complex Time Line'!QS13","v":0},{"$f":"'Complex Time Line'!QT13","v":0},{"$f":"'Complex Time Line'!QU13","v":0},{"$f":"'Complex Time Line'!QV13","v":0},{"$f":"'Complex Time Line'!QW13","v":0},{"$f":"'Complex Time Line'!QX13","v":0},{"$f":"'Complex Time Line'!QY13","v":0},{"$f":"'Complex Time Line'!QZ13","v":0},{"$f":"'Complex Time Line'!RA13","v":0},{"$f":"'Complex Time Line'!RB13","v":0},{"$f":"'Complex Time Line'!RC13","v":0},{"$f":"'Complex Time Line'!RD13","v":0},{"$f":"'Complex Time Line'!RE13","v":0},{"$f":"'Complex Time Line'!RF13","v":0},{"$f":"'Complex Time Line'!RG13","v":0},{"$f":"'Complex Time Line'!RH13","v":0},{"$f":"'Complex Time Line'!RI13","v":0},{"$f":"'Complex Time Line'!RJ13","v":0},{"$f":"'Complex Time Line'!RK13","v":0},{"$f":"'Complex Time Line'!RL13","v":0},{"$f":"'Complex Time Line'!RM13","v":0},{"$f":"'Complex Time Line'!RN13","v":0},{"$f":"'Complex Time Line'!RO13","v":0},{"$f":"'Complex Time Line'!RP13","v":0},{"$f":"'Complex Time Line'!RQ13","v":0},{"$f":"'Complex Time Line'!RR13","v":0},{"$f":"'Complex Time Line'!RS13","v":0},{"$f":"'Complex Time Line'!RT13","v":0},{"$f":"'Complex Time Line'!RU13","v":0},{"$f":"'Complex Time Line'!RV13","v":0},{"$f":"'Complex Time Line'!RW13","v":0},{"$f":"'Complex Time Line'!RX13","v":0},{"$f":"'Complex Time Line'!RY13","v":0},{"$f":"'Complex Time Line'!RZ13","v":0},{"$f":"'Complex Time Line'!SA13","v":0},{"$f":"'Complex Time Line'!SB13","v":0},{"$f":"'Complex Time Line'!SC13","v":0},{"$f":"'Complex Time Line'!SD13","v":0},{"$f":"'Complex Time Line'!SE13","v":0},{"$f":"'Complex Time Line'!SF13","v":0},{"$f":"'Complex Time Line'!SG13","v":0},{"$f":"'Complex Time Line'!SH13","v":0},{"$f":"'Complex Time Line'!SI13","v":0},{"$f":"'Complex Time Line'!SJ13","v":0},{"$f":"'Complex Time Line'!SK13","v":0},{"$f":"'Complex Time Line'!SL13","v":0},{"$f":"'Complex Time Line'!SM13","v":0},{"$f":"'Complex Time Line'!SN13","v":0},{"$f":"'Complex Time Line'!SO13","v":0},{"$f":"'Complex Time Line'!SP13","v":0},{"$f":"'Complex Time Line'!SQ13","v":0},{"$f":"'Complex Time Line'!SR13","v":0},{"$f":"'Complex Time Line'!SS13","v":0},{"$f":"'Complex Time Line'!ST13","v":0},{"$f":"'Complex Time Line'!SU13","v":0},{"$f":"'Complex Time Line'!SV13","v":0},{"$f":"'Complex Time Line'!SW13","v":0},{"$f":"'Complex Time Line'!SX13","v":0},{"$f":"'Complex Time Line'!SY13","v":0},{"$f":"'Complex Time Line'!SZ13","v":0},{"$f":"'Complex Time Line'!TA13","v":0},{"$f":"'Complex Time Line'!TB13","v":0},{"$f":"'Complex Time Line'!TC13","v":0},{"$f":"'Complex Time Line'!TD13","v":0},{"$f":"'Complex Time Line'!TE13","v":0},{"$f":"'Complex Time Line'!TF13","v":0},{"$f":"'Complex Time Line'!TG13","v":0},{"$f":"'Complex Time Line'!TH13","v":0},{"$f":"'Complex Time Line'!TI13","v":0},{"$f":"'Complex Time Line'!TJ13","v":0},{"$f":"'Complex Time Line'!TK13","v":0},{"$f":"'Complex Time Line'!TL13","v":0},{"$f":"'Complex Time Line'!TM13","v":0},{"$f":"'Complex Time Line'!TN13","v":0},{"$f":"'Complex Time Line'!TO13","v":0},{"$f":"'Complex Time Line'!TP13","v":0},{"$f":"'Complex Time Line'!TQ13","v":0},{"$f":"'Complex Time Line'!TR13","v":0},{"$f":"'Complex Time Line'!TS13","v":0},{"$f":"'Complex Time Line'!TT13","v":0},{"$f":"'Complex Time Line'!TU13","v":0},{"$f":"'Complex Time Line'!TV13","v":0},{"$f":"'Complex Time Line'!TW13","v":0},{"$f":"'Complex Time Line'!TX13","v":0},{"$f":"'Complex Time Line'!TY13","v":0},{"$f":"'Complex Time Line'!TZ13","v":0},{"$f":"'Complex Time Line'!UA13","v":0},{"$f":"'Complex Time Line'!UB13","v":0},{"$f":"'Complex Time Line'!UC13","v":0},{"$f":"'Complex Time Line'!UD13","v":0},{"$f":"'Complex Time Line'!UE13","v":0},{"$f":"'Complex Time Line'!UF13","v":0},{"$f":"'Complex Time Line'!UG13","v":0},{"$f":"'Complex Time Line'!UH13","v":0},{"$f":"'Complex Time Line'!UI13","v":0},{"$f":"'Complex Time Line'!UJ13","v":0},{"$f":"'Complex Time Line'!UK13","v":0},{"$f":"'Complex Time Line'!UL13","v":0},{"$f":"'Complex Time Line'!UM13","v":0},{"$f":"'Complex Time Line'!UN13","v":0},{"$f":"'Complex Time Line'!UO13","v":0}]
[null,null,"Operating Period",null,"Total Days",{"$f":"'InputC Partial Month'!F13","v":14609},null,{"$f":"SUM(K10:XFD10)","v":481},"Flag",null,{"$f":"'Complex Time Line'!K16","v":0},{"$f":"'Complex Time Line'!L16","v":0},{"$f":"'Complex Time Line'!M16","v":0},{"$f":"'Complex Time Line'!N16","v":0},{"$f":"'Complex Time Line'!O16","v":0},{"$f":"'Complex Time Line'!P16","v":0},{"$f":"'Complex Time Line'!Q16","v":0},{"$f":"'Complex Time Line'!R16","v":0},{"$f":"'Complex Time Line'!S16","v":0},{"$f":"'Complex Time Line'!T16","v":0},{"$f":"'Complex Time Line'!U16","v":0},{"$f":"'Complex Time Line'!V16","v":0},{"$f":"'Complex Time Line'!W16","v":0},{"$f":"'Complex Time Line'!X16","v":0},{"$f":"'Complex Time Line'!Y16","v":0},{"$f":"'Complex Time Line'!Z16","v":0},{"$f":"'Complex Time Line'!AA16","v":0},{"$f":"'Complex Time Line'!AB16","v":0},{"$f":"'Complex Time Line'!AC16","v":0},{"$f":"'Complex Time Line'!AD16","v":0},{"$f":"'Complex Time Line'!AE16","v":0},{"$f":"'Complex Time Line'!AF16","v":0},{"$f":"'Complex Time Line'!AG16","v":0},{"$f":"'Complex Time Line'!AH16","v":0},{"$f":"'Complex Time Line'!AI16","v":1},{"$f":"'Complex Time Line'!AJ16","v":1},{"$f":"'Complex Time Line'!AK16","v":1},{"$f":"'Complex Time Line'!AL16","v":1},{"$f":"'Complex Time Line'!AM16","v":1},{"$f":"'Complex Time Line'!AN16","v":1},{"$f":"'Complex Time Line'!AO16","v":1},{"$f":"'Complex Time Line'!AP16","v":1},{"$f":"'Complex Time Line'!AQ16","v":1},{"$f":"'Complex Time Line'!AR16","v":1},{"$f":"'Complex Time Line'!AS16","v":1},{"$f":"'Complex Time Line'!AT16","v":1},{"$f":"'Complex Time Line'!AU16","v":1},{"$f":"'Complex Time Line'!AV16","v":1},{"$f":"'Complex Time Line'!AW16","v":1},{"$f":"'Complex Time Line'!AX16","v":1},{"$f":"'Complex Time Line'!AY16","v":1},{"$f":"'Complex Time Line'!AZ16","v":1},{"$f":"'Complex Time Line'!BA16","v":1},{"$f":"'Complex Time Line'!BB16","v":1},{"$f":"'Complex Time Line'!BC16","v":1},{"$f":"'Complex Time Line'!BD16","v":1},{"$f":"'Complex Time Line'!BE16","v":1},{"$f":"'Complex Time Line'!BF16","v":1},{"$f":"'Complex Time Line'!BG16","v":1},{"$f":"'Complex Time Line'!BH16","v":1},{"$f":"'Complex Time Line'!BI16","v":1},{"$f":"'Complex Time Line'!BJ16","v":1},{"$f":"'Complex Time Line'!BK16","v":1},{"$f":"'Complex Time Line'!BL16","v":1},{"$f":"'Complex Time Line'!BM16","v":1},{"$f":"'Complex Time Line'!BN16","v":1},{"$f":"'Complex Time Line'!BO16","v":1},{"$f":"'Complex Time Line'!BP16","v":1},{"$f":"'Complex Time Line'!BQ16","v":1},{"$f":"'Complex Time Line'!BR16","v":1},{"$f":"'Complex Time Line'!BS16","v":1},{"$f":"'Complex Time Line'!BT16","v":1},{"$f":"'Complex Time Line'!BU16","v":1},{"$f":"'Complex Time Line'!BV16","v":1},{"$f":"'Complex Time Line'!BW16","v":1},{"$f":"'Complex Time Line'!BX16","v":1},{"$f":"'Complex Time Line'!BY16","v":1},{"$f":"'Complex Time Line'!BZ16","v":1},{"$f":"'Complex Time Line'!CA16","v":1},{"$f":"'Complex Time Line'!CB16","v":1},{"$f":"'Complex Time Line'!CC16","v":1},{"$f":"'Complex Time Line'!CD16","v":1},{"$f":"'Complex Time Line'!CE16","v":1},{"$f":"'Complex Time Line'!CF16","v":1},{"$f":"'Complex Time Line'!CG16","v":1},{"$f":"'Complex Time Line'!CH16","v":1},{"$f":"'Complex Time Line'!CI16","v":1},{"$f":"'Complex Time Line'!CJ16","v":1},{"$f":"'Complex Time Line'!CK16","v":1},{"$f":"'Complex Time Line'!CL16","v":1},{"$f":"'Complex Time Line'!CM16","v":1},{"$f":"'Complex Time Line'!CN16","v":1},{"$f":"'Complex Time Line'!CO16","v":1},{"$f":"'Complex Time Line'!CP16","v":1},{"$f":"'Complex Time Line'!CQ16","v":1},{"$f":"'Complex Time Line'!CR16","v":1},{"$f":"'Complex Time Line'!CS16","v":1},{"$f":"'Complex Time Line'!CT16","v":1},{"$f":"'Complex Time Line'!CU16","v":1},{"$f":"'Complex Time Line'!CV16","v":1},{"$f":"'Complex Time Line'!CW16","v":1},{"$f":"'Complex Time Line'!CX16","v":1},{"$f":"'Complex Time Line'!CY16","v":1},{"$f":"'Complex Time Line'!CZ16","v":1},{"$f":"'Complex Time Line'!DA16","v":1},{"$f":"'Complex Time Line'!DB16","v":1},{"$f":"'Complex Time Line'!DC16","v":1},{"$f":"'Complex Time Line'!DD16","v":1},{"$f":"'Complex Time Line'!DE16","v":1},{"$f":"'Complex Time Line'!DF16","v":1},{"$f":"'Complex Time Line'!DG16","v":1},{"$f":"'Complex Time Line'!DH16","v":1},{"$f":"'Complex Time Line'!DI16","v":1},{"$f":"'Complex Time Line'!DJ16","v":1},{"$f":"'Complex Time Line'!DK16","v":1},{"$f":"'Complex Time Line'!DL16","v":1},{"$f":"'Complex Time Line'!DM16","v":1},{"$f":"'Complex Time Line'!DN16","v":1},{"$f":"'Complex Time Line'!DO16","v":1},{"$f":"'Complex Time Line'!DP16","v":1},{"$f":"'Complex Time Line'!DQ16","v":1},{"$f":"'Complex Time Line'!DR16","v":1},{"$f":"'Complex Time Line'!DS16","v":1},{"$f":"'Complex Time Line'!DT16","v":1},{"$f":"'Complex Time Line'!DU16","v":1},{"$f":"'Complex Time Line'!DV16","v":1},{"$f":"'Complex Time Line'!DW16","v":1},{"$f":"'Complex Time Line'!DX16","v":1},{"$f":"'Complex Time Line'!DY16","v":1},{"$f":"'Complex Time Line'!DZ16","v":1},{"$f":"'Complex Time Line'!EA16","v":1},{"$f":"'Complex Time Line'!EB16","v":1},{"$f":"'Complex Time Line'!EC16","v":1},{"$f":"'Complex Time Line'!ED16","v":1},{"$f":"'Complex Time Line'!EE16","v":1},{"$f":"'Complex Time Line'!EF16","v":1},{"$f":"'Complex Time Line'!EG16","v":1},{"$f":"'Complex Time Line'!EH16","v":1},{"$f":"'Complex Time Line'!EI16","v":1},{"$f":"'Complex Time Line'!EJ16","v":1},{"$f":"'Complex Time Line'!EK16","v":1},{"$f":"'Complex Time Line'!EL16","v":1},{"$f":"'Complex Time Line'!EM16","v":1},{"$f":"'Complex Time Line'!EN16","v":1},{"$f":"'Complex Time Line'!EO16","v":1},{"$f":"'Complex Time Line'!EP16","v":1},{"$f":"'Complex Time Line'!EQ16","v":1},{"$f":"'Complex Time Line'!ER16","v":1},{"$f":"'Complex Time Line'!ES16","v":1},{"$f":"'Complex Time Line'!ET16","v":1},{"$f":"'Complex Time Line'!EU16","v":1},{"$f":"'Complex Time Line'!EV16","v":1},{"$f":"'Complex Time Line'!EW16","v":1},{"$f":"'Complex Time Line'!EX16","v":1},{"$f":"'Complex Time Line'!EY16","v":1},{"$f":"'Complex Time Line'!EZ16","v":1},{"$f":"'Complex Time Line'!FA16","v":1},{"$f":"'Complex Time Line'!FB16","v":1},{"$f":"'Complex Time Line'!FC16","v":1},{"$f":"'Complex Time Line'!FD16","v":1},{"$f":"'Complex Time Line'!FE16","v":1},{"$f":"'Complex Time Line'!FF16","v":1},{"$f":"'Complex Time Line'!FG16","v":1},{"$f":"'Complex Time Line'!FH16","v":1},{"$f":"'Complex Time Line'!FI16","v":1},{"$f":"'Complex Time Line'!FJ16","v":1},{"$f":"'Complex Time Line'!FK16","v":1},{"$f":"'Complex Time Line'!FL16","v":1},{"$f":"'Complex Time Line'!FM16","v":1},{"$f":"'Complex Time Line'!FN16","v":1},{"$f":"'Complex Time Line'!FO16","v":1},{"$f":"'Complex Time Line'!FP16","v":1},{"$f":"'Complex Time Line'!FQ16","v":1},{"$f":"'Complex Time Line'!FR16","v":1},{"$f":"'Complex Time Line'!FS16","v":1},{"$f":"'Complex Time Line'!FT16","v":1},{"$f":"'Complex Time Line'!FU16","v":1},{"$f":"'Complex Time Line'!FV16","v":1},{"$f":"'Complex Time Line'!FW16","v":1},{"$f":"'Complex Time Line'!FX16","v":1},{"$f":"'Complex Time Line'!FY16","v":1},{"$f":"'Complex Time Line'!FZ16","v":1},{"$f":"'Complex Time Line'!GA16","v":1},{"$f":"'Complex Time Line'!GB16","v":1},{"$f":"'Complex Time Line'!GC16","v":1},{"$f":"'Complex Time Line'!GD16","v":1},{"$f":"'Complex Time Line'!GE16","v":1},{"$f":"'Complex Time Line'!GF16","v":1},{"$f":"'Complex Time Line'!GG16","v":1},{"$f":"'Complex Time Line'!GH16","v":1},{"$f":"'Complex Time Line'!GI16","v":1},{"$f":"'Complex Time Line'!GJ16","v":1},{"$f":"'Complex Time Line'!GK16","v":1},{"$f":"'Complex Time Line'!GL16","v":1},{"$f":"'Complex Time Line'!GM16","v":1},{"$f":"'Complex Time Line'!GN16","v":1},{"$f":"'Complex Time Line'!GO16","v":1},{"$f":"'Complex Time Line'!GP16","v":1},{"$f":"'Complex Time Line'!GQ16","v":1},{"$f":"'Complex Time Line'!GR16","v":1},{"$f":"'Complex Time Line'!GS16","v":1},{"$f":"'Complex Time Line'!GT16","v":1},{"$f":"'Complex Time Line'!GU16","v":1},{"$f":"'Complex Time Line'!GV16","v":1},{"$f":"'Complex Time Line'!GW16","v":1},{"$f":"'Complex Time Line'!GX16","v":1},{"$f":"'Complex Time Line'!GY16","v":1},{"$f":"'Complex Time Line'!GZ16","v":1},{"$f":"'Complex Time Line'!HA16","v":1},{"$f":"'Complex Time Line'!HB16","v":1},{"$f":"'Complex Time Line'!HC16","v":1},{"$f":"'Complex Time Line'!HD16","v":1},{"$f":"'Complex Time Line'!HE16","v":1},{"$f":"'Complex Time Line'!HF16","v":1},{"$f":"'Complex Time Line'!HG16","v":1},{"$f":"'Complex Time Line'!HH16","v":1},{"$f":"'Complex Time Line'!HI16","v":1},{"$f":"'Complex Time Line'!HJ16","v":1},{"$f":"'Complex Time Line'!HK16","v":1},{"$f":"'Complex Time Line'!HL16","v":1},{"$f":"'Complex Time Line'!HM16","v":1},{"$f":"'Complex Time Line'!HN16","v":1},{"$f":"'Complex Time Line'!HO16","v":1},{"$f":"'Complex Time Line'!HP16","v":1},{"$f":"'Complex Time Line'!HQ16","v":1},{"$f":"'Complex Time Line'!HR16","v":1},{"$f":"'Complex Time Line'!HS16","v":1},{"$f":"'Complex Time Line'!HT16","v":1},{"$f":"'Complex Time Line'!HU16","v":1},{"$f":"'Complex Time Line'!HV16","v":1},{"$f":"'Complex Time Line'!HW16","v":1},{"$f":"'Complex Time Line'!HX16","v":1},{"$f":"'Complex Time Line'!HY16","v":1},{"$f":"'Complex Time Line'!HZ16","v":1},{"$f":"'Complex Time Line'!IA16","v":1},{"$f":"'Complex Time Line'!IB16","v":1},{"$f":"'Complex Time Line'!IC16","v":1},{"$f":"'Complex Time Line'!ID16","v":1},{"$f":"'Complex Time Line'!IE16","v":1},{"$f":"'Complex Time Line'!IF16","v":1},{"$f":"'Complex Time Line'!IG16","v":1},{"$f":"'Complex Time Line'!IH16","v":1},{"$f":"'Complex Time Line'!II16","v":1},{"$f":"'Complex Time Line'!IJ16","v":1},{"$f":"'Complex Time Line'!IK16","v":1},{"$f":"'Complex Time Line'!IL16","v":1},{"$f":"'Complex Time Line'!IM16","v":1},{"$f":"'Complex Time Line'!IN16","v":1},{"$f":"'Complex Time Line'!IO16","v":1},{"$f":"'Complex Time Line'!IP16","v":1},{"$f":"'Complex Time Line'!IQ16","v":1},{"$f":"'Complex Time Line'!IR16","v":1},{"$f":"'Complex Time Line'!IS16","v":1},{"$f":"'Complex Time Line'!IT16","v":1},{"$f":"'Complex Time Line'!IU16","v":1},{"$f":"'Complex Time Line'!IV16","v":1},{"$f":"'Complex Time Line'!IW16","v":1},{"$f":"'Complex Time Line'!IX16","v":1},{"$f":"'Complex Time Line'!IY16","v":1},{"$f":"'Complex Time Line'!IZ16","v":1},{"$f":"'Complex Time Line'!JA16","v":1},{"$f":"'Complex Time Line'!JB16","v":1},{"$f":"'Complex Time Line'!JC16","v":1},{"$f":"'Complex Time Line'!JD16","v":1},{"$f":"'Complex Time Line'!JE16","v":1},{"$f":"'Complex Time Line'!JF16","v":1},{"$f":"'Complex Time Line'!JG16","v":1},{"$f":"'Complex Time Line'!JH16","v":1},{"$f":"'Complex Time Line'!JI16","v":1},{"$f":"'Complex Time Line'!JJ16","v":1},{"$f":"'Complex Time Line'!JK16","v":1},{"$f":"'Complex Time Line'!JL16","v":1},{"$f":"'Complex Time Line'!JM16","v":1},{"$f":"'Complex Time Line'!JN16","v":1},{"$f":"'Complex Time Line'!JO16","v":1},{"$f":"'Complex Time Line'!JP16","v":1},{"$f":"'Complex Time Line'!JQ16","v":1},{"$f":"'Complex Time Line'!JR16","v":1},{"$f":"'Complex Time Line'!JS16","v":1},{"$f":"'Complex Time Line'!JT16","v":1},{"$f":"'Complex Time Line'!JU16","v":1},{"$f":"'Complex Time Line'!JV16","v":1},{"$f":"'Complex Time Line'!JW16","v":1},{"$f":"'Complex Time Line'!JX16","v":1},{"$f":"'Complex Time Line'!JY16","v":1},{"$f":"'Complex Time Line'!JZ16","v":1},{"$f":"'Complex Time Line'!KA16","v":1},{"$f":"'Complex Time Line'!KB16","v":1},{"$f":"'Complex Time Line'!KC16","v":1},{"$f":"'Complex Time Line'!KD16","v":1},{"$f":"'Complex Time Line'!KE16","v":1},{"$f":"'Complex Time Line'!KF16","v":1},{"$f":"'Complex Time Line'!KG16","v":1},{"$f":"'Complex Time Line'!KH16","v":1},{"$f":"'Complex Time Line'!KI16","v":1},{"$f":"'Complex Time Line'!KJ16","v":1},{"$f":"'Complex Time Line'!KK16","v":1},{"$f":"'Complex Time Line'!KL16","v":1},{"$f":"'Complex Time Line'!KM16","v":1},{"$f":"'Complex Time Line'!KN16","v":1},{"$f":"'Complex Time Line'!KO16","v":1},{"$f":"'Complex Time Line'!KP16","v":1},{"$f":"'Complex Time Line'!KQ16","v":1},{"$f":"'Complex Time Line'!KR16","v":1},{"$f":"'Complex Time Line'!KS16","v":1},{"$f":"'Complex Time Line'!KT16","v":1},{"$f":"'Complex Time Line'!KU16","v":1},{"$f":"'Complex Time Line'!KV16","v":1},{"$f":"'Complex Time Line'!KW16","v":1},{"$f":"'Complex Time Line'!KX16","v":1},{"$f":"'Complex Time Line'!KY16","v":1},{"$f":"'Complex Time Line'!KZ16","v":1},{"$f":"'Complex Time Line'!LA16","v":1},{"$f":"'Complex Time Line'!LB16","v":1},{"$f":"'Complex Time Line'!LC16","v":1},{"$f":"'Complex Time Line'!LD16","v":1},{"$f":"'Complex Time Line'!LE16","v":1},{"$f":"'Complex Time Line'!LF16","v":1},{"$f":"'Complex Time Line'!LG16","v":1},{"$f":"'Complex Time Line'!LH16","v":1},{"$f":"'Complex Time Line'!LI16","v":1},{"$f":"'Complex Time Line'!LJ16","v":1},{"$f":"'Complex Time Line'!LK16","v":1},{"$f":"'Complex Time Line'!LL16","v":1},{"$f":"'Complex Time Line'!LM16","v":1},{"$f":"'Complex Time Line'!LN16","v":1},{"$f":"'Complex Time Line'!LO16","v":1},{"$f":"'Complex Time Line'!LP16","v":1},{"$f":"'Complex Time Line'!LQ16","v":1},{"$f":"'Complex Time Line'!LR16","v":1},{"$f":"'Complex Time Line'!LS16","v":1},{"$f":"'Complex Time Line'!LT16","v":1},{"$f":"'Complex Time Line'!LU16","v":1},{"$f":"'Complex Time Line'!LV16","v":1},{"$f":"'Complex Time Line'!LW16","v":1},{"$f":"'Complex Time Line'!LX16","v":1},{"$f":"'Complex Time Line'!LY16","v":1},{"$f":"'Complex Time Line'!LZ16","v":1},{"$f":"'Complex Time Line'!MA16","v":1},{"$f":"'Complex Time Line'!MB16","v":1},{"$f":"'Complex Time Line'!MC16","v":1},{"$f":"'Complex Time Line'!MD16","v":1},{"$f":"'Complex Time Line'!ME16","v":1},{"$f":"'Complex Time Line'!MF16","v":1},{"$f":"'Complex Time Line'!MG16","v":1},{"$f":"'Complex Time Line'!MH16","v":1},{"$f":"'Complex Time Line'!MI16","v":1},{"$f":"'Complex Time Line'!MJ16","v":1},{"$f":"'Complex Time Line'!MK16","v":1},{"$f":"'Complex Time Line'!ML16","v":1},{"$f":"'Complex Time Line'!MM16","v":1},{"$f":"'Complex Time Line'!MN16","v":1},{"$f":"'Complex Time Line'!MO16","v":1},{"$f":"'Complex Time Line'!MP16","v":1},{"$f":"'Complex Time Line'!MQ16","v":1},{"$f":"'Complex Time Line'!MR16","v":1},{"$f":"'Complex Time Line'!MS16","v":1},{"$f":"'Complex Time Line'!MT16","v":1},{"$f":"'Complex Time Line'!MU16","v":1},{"$f":"'Complex Time Line'!MV16","v":1},{"$f":"'Complex Time Line'!MW16","v":1},{"$f":"'Complex Time Line'!MX16","v":1},{"$f":"'Complex Time Line'!MY16","v":1},{"$f":"'Complex Time Line'!MZ16","v":1},{"$f":"'Complex Time Line'!NA16","v":1},{"$f":"'Complex Time Line'!NB16","v":1},{"$f":"'Complex Time Line'!NC16","v":1},{"$f":"'Complex Time Line'!ND16","v":1},{"$f":"'Complex Time Line'!NE16","v":1},{"$f":"'Complex Time Line'!NF16","v":1},{"$f":"'Complex Time Line'!NG16","v":1},{"$f":"'Complex Time Line'!NH16","v":1},{"$f":"'Complex Time Line'!NI16","v":1},{"$f":"'Complex Time Line'!NJ16","v":1},{"$f":"'Complex Time Line'!NK16","v":1},{"$f":"'Complex Time Line'!NL16","v":1},{"$f":"'Complex Time Line'!NM16","v":1},{"$f":"'Complex Time Line'!NN16","v":1},{"$f":"'Complex Time Line'!NO16","v":1},{"$f":"'Complex Time Line'!NP16","v":1},{"$f":"'Complex Time Line'!NQ16","v":1},{"$f":"'Complex Time Line'!NR16","v":1},{"$f":"'Complex Time Line'!NS16","v":1},{"$f":"'Complex Time Line'!NT16","v":1},{"$f":"'Complex Time Line'!NU16","v":1},{"$f":"'Complex Time Line'!NV16","v":1},{"$f":"'Complex Time Line'!NW16","v":1},{"$f":"'Complex Time Line'!NX16","v":1},{"$f":"'Complex Time Line'!NY16","v":1},{"$f":"'Complex Time Line'!NZ16","v":1},{"$f":"'Complex Time Line'!OA16","v":1},{"$f":"'Complex Time Line'!OB16","v":1},{"$f":"'Complex Time Line'!OC16","v":1},{"$f":"'Complex Time Line'!OD16","v":1},{"$f":"'Complex Time Line'!OE16","v":1},{"$f":"'Complex Time Line'!OF16","v":1},{"$f":"'Complex Time Line'!OG16","v":1},{"$f":"'Complex Time Line'!OH16","v":1},{"$f":"'Complex Time Line'!OI16","v":1},{"$f":"'Complex Time Line'!OJ16","v":1},{"$f":"'Complex Time Line'!OK16","v":1},{"$f":"'Complex Time Line'!OL16","v":1},{"$f":"'Complex Time Line'!OM16","v":1},{"$f":"'Complex Time Line'!ON16","v":1},{"$f":"'Complex Time Line'!OO16","v":1},{"$f":"'Complex Time Line'!OP16","v":1},{"$f":"'Complex Time Line'!OQ16","v":1},{"$f":"'Complex Time Line'!OR16","v":1},{"$f":"'Complex Time Line'!OS16","v":1},{"$f":"'Complex Time Line'!OT16","v":1},{"$f":"'Complex Time Line'!OU16","v":1},{"$f":"'Complex Time Line'!OV16","v":1},{"$f":"'Complex Time Line'!OW16","v":1},{"$f":"'Complex Time Line'!OX16","v":1},{"$f":"'Complex Time Line'!OY16","v":1},{"$f":"'Complex Time Line'!OZ16","v":1},{"$f":"'Complex Time Line'!PA16","v":1},{"$f":"'Complex Time Line'!PB16","v":1},{"$f":"'Complex Time Line'!PC16","v":1},{"$f":"'Complex Time Line'!PD16","v":1},{"$f":"'Complex Time Line'!PE16","v":1},{"$f":"'Complex Time Line'!PF16","v":1},{"$f":"'Complex Time Line'!PG16","v":1},{"$f":"'Complex Time Line'!PH16","v":1},{"$f":"'Complex Time Line'!PI16","v":1},{"$f":"'Complex Time Line'!PJ16","v":1},{"$f":"'Complex Time Line'!PK16","v":1},{"$f":"'Complex Time Line'!PL16","v":1},{"$f":"'Complex Time Line'!PM16","v":1},{"$f":"'Complex Time Line'!PN16","v":1},{"$f":"'Complex Time Line'!PO16","v":1},{"$f":"'Complex Time Line'!PP16","v":1},{"$f":"'Complex Time Line'!PQ16","v":1},{"$f":"'Complex Time Line'!PR16","v":1},{"$f":"'Complex Time Line'!PS16","v":1},{"$f":"'Complex Time Line'!PT16","v":1},{"$f":"'Complex Time Line'!PU16","v":1},{"$f":"'Complex Time Line'!PV16","v":1},{"$f":"'Complex Time Line'!PW16","v":1},{"$f":"'Complex Time Line'!PX16","v":1},{"$f":"'Complex Time Line'!PY16","v":1},{"$f":"'Complex Time Line'!PZ16","v":1},{"$f":"'Complex Time Line'!QA16","v":1},{"$f":"'Complex Time Line'!QB16","v":1},{"$f":"'Complex Time Line'!QC16","v":1},{"$f":"'Complex Time Line'!QD16","v":1},{"$f":"'Complex Time Line'!QE16","v":1},{"$f":"'Complex Time Line'!QF16","v":1},{"$f":"'Complex Time Line'!QG16","v":1},{"$f":"'Complex Time Line'!QH16","v":1},{"$f":"'Complex Time Line'!QI16","v":1},{"$f":"'Complex Time Line'!QJ16","v":1},{"$f":"'Complex Time Line'!QK16","v":1},{"$f":"'Complex Time Line'!QL16","v":1},{"$f":"'Complex Time Line'!QM16","v":1},{"$f":"'Complex Time Line'!QN16","v":1},{"$f":"'Complex Time Line'!QO16","v":1},{"$f":"'Complex Time Line'!QP16","v":1},{"$f":"'Complex Time Line'!QQ16","v":1},{"$f":"'Complex Time Line'!QR16","v":1},{"$f":"'Complex Time Line'!QS16","v":1},{"$f":"'Complex Time Line'!QT16","v":1},{"$f":"'Complex Time Line'!QU16","v":1},{"$f":"'Complex Time Line'!QV16","v":1},{"$f":"'Complex Time Line'!QW16","v":1},{"$f":"'Complex Time Line'!QX16","v":1},{"$f":"'Complex Time Line'!QY16","v":1},{"$f":"'Complex Time Line'!QZ16","v":1},{"$f":"'Complex Time Line'!RA16","v":1},{"$f":"'Complex Time Line'!RB16","v":1},{"$f":"'Complex Time Line'!RC16","v":1},{"$f":"'Complex Time Line'!RD16","v":1},{"$f":"'Complex Time Line'!RE16","v":1},{"$f":"'Complex Time Line'!RF16","v":1},{"$f":"'Complex Time Line'!RG16","v":1},{"$f":"'Complex Time Line'!RH16","v":1},{"$f":"'Complex Time Line'!RI16","v":1},{"$f":"'Complex Time Line'!RJ16","v":1},{"$f":"'Complex Time Line'!RK16","v":1},{"$f":"'Complex Time Line'!RL16","v":1},{"$f":"'Complex Time Line'!RM16","v":1},{"$f":"'Complex Time Line'!RN16","v":1},{"$f":"'Complex Time Line'!RO16","v":1},{"$f":"'Complex Time Line'!RP16","v":1},{"$f":"'Complex Time Line'!RQ16","v":1},{"$f":"'Complex Time Line'!RR16","v":1},{"$f":"'Complex Time Line'!RS16","v":1},{"$f":"'Complex Time Line'!RT16","v":1},{"$f":"'Complex Time Line'!RU16","v":1},{"$f":"'Complex Time Line'!RV16","v":1},{"$f":"'Complex Time Line'!RW16","v":1},{"$f":"'Complex Time Line'!RX16","v":1},{"$f":"'Complex Time Line'!RY16","v":1},{"$f":"'Complex Time Line'!RZ16","v":1},{"$f":"'Complex Time Line'!SA16","v":1},{"$f":"'Complex Time Line'!SB16","v":1},{"$f":"'Complex Time Line'!SC16","v":1},{"$f":"'Complex Time Line'!SD16","v":1},{"$f":"'Complex Time Line'!SE16","v":1},{"$f":"'Complex Time Line'!SF16","v":1},{"$f":"'Complex Time Line'!SG16","v":1},{"$f":"'Complex Time Line'!SH16","v":1},{"$f":"'Complex Time Line'!SI16","v":1},{"$f":"'Complex Time Line'!SJ16","v":1},{"$f":"'Complex Time Line'!SK16","v":1},{"$f":"'Complex Time Line'!SL16","v":1},{"$f":"'Complex Time Line'!SM16","v":1},{"$f":"'Complex Time Line'!SN16","v":1},{"$f":"'Complex Time Line'!SO16","v":1},{"$f":"'Complex Time Line'!SP16","v":1},{"$f":"'Complex Time Line'!SQ16","v":1},{"$f":"'Complex Time Line'!SR16","v":1},{"$f":"'Complex Time Line'!SS16","v":1},{"$f":"'Complex Time Line'!ST16","v":1},{"$f":"'Complex Time Line'!SU16","v":1},{"$f":"'Complex Time Line'!SV16","v":0},{"$f":"'Complex Time Line'!SW16","v":0},{"$f":"'Complex Time Line'!SX16","v":0},{"$f":"'Complex Time Line'!SY16","v":0},{"$f":"'Complex Time Line'!SZ16","v":0},{"$f":"'Complex Time Line'!TA16","v":0},{"$f":"'Complex Time Line'!TB16","v":0},{"$f":"'Complex Time Line'!TC16","v":0},{"$f":"'Complex Time Line'!TD16","v":0},{"$f":"'Complex Time Line'!TE16","v":0},{"$f":"'Complex Time Line'!TF16","v":0},{"$f":"'Complex Time Line'!TG16","v":0},{"$f":"'Complex Time Line'!TH16","v":0},{"$f":"'Complex Time Line'!TI16","v":0},{"$f":"'Complex Time Line'!TJ16","v":0},{"$f":"'Complex Time Line'!TK16","v":0},{"$f":"'Complex Time Line'!TL16","v":0},{"$f":"'Complex Time Line'!TM16","v":0},{"$f":"'Complex Time Line'!TN16","v":0},{"$f":"'Complex Time Line'!TO16","v":0},{"$f":"'Complex Time Line'!TP16","v":0},{"$f":"'Complex Time Line'!TQ16","v":0},{"$f":"'Complex Time Line'!TR16","v":0},{"$f":"'Complex Time Line'!TS16","v":0},{"$f":"'Complex Time Line'!TT16","v":0},{"$f":"'Complex Time Line'!TU16","v":0},{"$f":"'Complex Time Line'!TV16","v":0},{"$f":"'Complex Time Line'!TW16","v":0},{"$f":"'Complex Time Line'!TX16","v":0},{"$f":"'Complex Time Line'!TY16","v":0},{"$f":"'Complex Time Line'!TZ16","v":0},{"$f":"'Complex Time Line'!UA16","v":0},{"$f":"'Complex Time Line'!UB16","v":0},{"$f":"'Complex Time Line'!UC16","v":0},{"$f":"'Complex Time Line'!UD16","v":0},{"$f":"'Complex Time Line'!UE16","v":0},{"$f":"'Complex Time Line'!UF16","v":0},{"$f":"'Complex Time Line'!UG16","v":0},{"$f":"'Complex Time Line'!UH16","v":0},{"$f":"'Complex Time Line'!UI16","v":0},{"$f":"'Complex Time Line'!UJ16","v":0},{"$f":"'Complex Time Line'!UK16","v":0},{"$f":"'Complex Time Line'!UL16","v":0},{"$f":"'Complex Time Line'!UM16","v":0},{"$f":"'Complex Time Line'!UN16","v":0},{"$f":"'Complex Time Line'!UO16","v":0}]
[null,null,"Operating Days",null,null,null,null,{"$f":"SUM(K11:XFD11)","v":14609},"Days",null,{"$f":"'Complex Time Line'!K20","v":0},{"$f":"'Complex Time Line'!L20","v":0},{"$f":"'Complex Time Line'!M20","v":0},{"$f":"'Complex Time Line'!N20","v":0},{"$f":"'Complex Time Line'!O20","v":0},{"$f":"'Complex Time Line'!P20","v":0},{"$f":"'Complex Time Line'!Q20","v":0},{"$f":"'Complex Time Line'!R20","v":0},{"$f":"'Complex Time Line'!S20","v":0},{"$f":"'Complex Time Line'!T20","v":0},{"$f":"'Complex Time Line'!U20","v":0},{"$f":"'Complex Time Line'!V20","v":0},{"$f":"'Complex Time Line'!W20","v":0},{"$f":"'Complex Time Line'!X20","v":0},{"$f":"'Complex Time Line'!Y20","v":0},{"$f":"'Complex Time Line'!Z20","v":0},{"$f":"'Complex Time Line'!AA20","v":0},{"$f":"'Complex Time Line'!AB20","v":0},{"$f":"'Complex Time Line'!AC20","v":0},{"$f":"'Complex Time Line'!AD20","v":0},{"$f":"'Complex Time Line'!AE20","v":0},{"$f":"'Complex Time Line'!AF20","v":0},{"$f":"'Complex Time Line'!AG20","v":0},{"$f":"'Complex Time Line'!AH20","v":0},{"$f":"'Complex Time Line'!AI20","v":20},{"$f":"'Complex Time Line'!AJ20","v":30},{"$f":"'Complex Time Line'!AK20","v":31},{"$f":"'Complex Time Line'!AL20","v":30},{"$f":"'Complex Time Line'!AM20","v":31},{"$f":"'Complex Time Line'!AN20","v":31},{"$f":"'Complex Time Line'!AO20","v":28},{"$f":"'Complex Time Line'!AP20","v":31},{"$f":"'Complex Time Line'!AQ20","v":30},{"$f":"'Complex Time Line'!AR20","v":31},{"$f":"'Complex Time Line'!AS20","v":30},{"$f":"'Complex Time Line'!AT20","v":31},{"$f":"'Complex Time Line'!AU20","v":31},{"$f":"'Complex Time Line'!AV20","v":30},{"$f":"'Complex Time Line'!AW20","v":31},{"$f":"'Complex Time Line'!AX20","v":30},{"$f":"'Complex Time Line'!AY20","v":31},{"$f":"'Complex Time Line'!AZ20","v":31},{"$f":"'Complex Time Line'!BA20","v":28},{"$f":"'Complex Time Line'!BB20","v":31},{"$f":"'Complex Time Line'!BC20","v":30},{"$f":"'Complex Time Line'!BD20","v":31},{"$f":"'Complex Time Line'!BE20","v":30},{"$f":"'Complex Time Line'!BF20","v":31},{"$f":"'Complex Time Line'!BG20","v":31},{"$f":"'Complex Time Line'!BH20","v":30},{"$f":"'Complex Time Line'!BI20","v":31},{"$f":"'Complex Time Line'!BJ20","v":30},{"$f":"'Complex Time Line'!BK20","v":31},{"$f":"'Complex Time Line'!BL20","v":31},{"$f":"'Complex Time Line'!BM20","v":28},{"$f":"'Complex Time Line'!BN20","v":31},{"$f":"'Complex Time Line'!BO20","v":30},{"$f":"'Complex Time Line'!BP20","v":31},{"$f":"'Complex Time Line'!BQ20","v":30},{"$f":"'Complex Time Line'!BR20","v":31},{"$f":"'Complex Time Line'!BS20","v":31},{"$f":"'Complex Time Line'!BT20","v":30},{"$f":"'Complex Time Line'!BU20","v":31},{"$f":"'Complex Time Line'!BV20","v":30},{"$f":"'Complex Time Line'!BW20","v":31},{"$f":"'Complex Time Line'!BX20","v":31},{"$f":"'Complex Time Line'!BY20","v":29},{"$f":"'Complex Time Line'!BZ20","v":31},{"$f":"'Complex Time Line'!CA20","v":30},{"$f":"'Complex Time Line'!CB20","v":31},{"$f":"'Complex Time Line'!CC20","v":30},{"$f":"'Complex Time Line'!CD20","v":31},{"$f":"'Complex Time Line'!CE20","v":31},{"$f":"'Complex Time Line'!CF20","v":30},{"$f":"'Complex Time Line'!CG20","v":31},{"$f":"'Complex Time Line'!CH20","v":30},{"$f":"'Complex Time Line'!CI20","v":31},{"$f":"'Complex Time Line'!CJ20","v":31},{"$f":"'Complex Time Line'!CK20","v":28},{"$f":"'Complex Time Line'!CL20","v":31},{"$f":"'Complex Time Line'!CM20","v":30},{"$f":"'Complex Time Line'!CN20","v":31},{"$f":"'Complex Time Line'!CO20","v":30},{"$f":"'Complex Time Line'!CP20","v":31},{"$f":"'Complex Time Line'!CQ20","v":31},{"$f":"'Complex Time Line'!CR20","v":30},{"$f":"'Complex Time Line'!CS20","v":31},{"$f":"'Complex Time Line'!CT20","v":30},{"$f":"'Complex Time Line'!CU20","v":31},{"$f":"'Complex Time Line'!CV20","v":31},{"$f":"'Complex Time Line'!CW20","v":28},{"$f":"'Complex Time Line'!CX20","v":31},{"$f":"'Complex Time Line'!CY20","v":30},{"$f":"'Complex Time Line'!CZ20","v":31},{"$f":"'Complex Time Line'!DA20","v":30},{"$f":"'Complex Time Line'!DB20","v":31},{"$f":"'Complex Time Line'!DC20","v":31},{"$f":"'Complex Time Line'!DD20","v":30},{"$f":"'Complex Time Line'!DE20","v":31},{"$f":"'Complex Time Line'!DF20","v":30},{"$f":"'Complex Time Line'!DG20","v":31},{"$f":"'Complex Time Line'!DH20","v":31},{"$f":"'Complex Time Line'!DI20","v":28},{"$f":"'Complex Time Line'!DJ20","v":31},{"$f":"'Complex Time Line'!DK20","v":30},{"$f":"'Complex Time Line'!DL20","v":31},{"$f":"'Complex Time Line'!DM20","v":30},{"$f":"'Complex Time Line'!DN20","v":31},{"$f":"'Complex Time Line'!DO20","v":31},{"$f":"'Complex Time Line'!DP20","v":30},{"$f":"'Complex Time Line'!DQ20","v":31},{"$f":"'Complex Time Line'!DR20","v":30},{"$f":"'Complex Time Line'!DS20","v":31},{"$f":"'Complex Time Line'!DT20","v":31},{"$f":"'Complex Time Line'!DU20","v":29},{"$f":"'Complex Time Line'!DV20","v":31},{"$f":"'Complex Time Line'!DW20","v":30},{"$f":"'Complex Time Line'!DX20","v":31},{"$f":"'Complex Time Line'!DY20","v":30},{"$f":"'Complex Time Line'!DZ20","v":31},{"$f":"'Complex Time Line'!EA20","v":31},{"$f":"'Complex Time Line'!EB20","v":30},{"$f":"'Complex Time Line'!EC20","v":31},{"$f":"'Complex Time Line'!ED20","v":30},{"$f":"'Complex Time Line'!EE20","v":31},{"$f":"'Complex Time Line'!EF20","v":31},{"$f":"'Complex Time Line'!EG20","v":28},{"$f":"'Complex Time Line'!EH20","v":31},{"$f":"'Complex Time Line'!EI20","v":30},{"$f":"'Complex Time Line'!EJ20","v":31},{"$f":"'Complex Time Line'!EK20","v":30},{"$f":"'Complex Time Line'!EL20","v":31},{"$f":"'Complex Time Line'!EM20","v":31},{"$f":"'Complex Time Line'!EN20","v":30},{"$f":"'Complex Time Line'!EO20","v":31},{"$f":"'Complex Time Line'!EP20","v":30},{"$f":"'Complex Time Line'!EQ20","v":31},{"$f":"'Complex Time Line'!ER20","v":31},{"$f":"'Complex Time Line'!ES20","v":28},{"$f":"'Complex Time Line'!ET20","v":31},{"$f":"'Complex Time Line'!EU20","v":30},{"$f":"'Complex Time Line'!EV20","v":31},{"$f":"'Complex Time Line'!EW20","v":30},{"$f":"'Complex Time Line'!EX20","v":31},{"$f":"'Complex Time Line'!EY20","v":31},{"$f":"'Complex Time Line'!EZ20","v":30},{"$f":"'Complex Time Line'!FA20","v":31},{"$f":"'Complex Time Line'!FB20","v":30},{"$f":"'Complex Time Line'!FC20","v":31},{"$f":"'Complex Time Line'!FD20","v":31},{"$f":"'Complex Time Line'!FE20","v":28},{"$f":"'Complex Time Line'!FF20","v":31},{"$f":"'Complex Time Line'!FG20","v":30},{"$f":"'Complex Time Line'!FH20","v":31},{"$f":"'Complex Time Line'!FI20","v":30},{"$f":"'Complex Time Line'!FJ20","v":31},{"$f":"'Complex Time Line'!FK20","v":31},{"$f":"'Complex Time Line'!FL20","v":30},{"$f":"'Complex Time Line'!FM20","v":31},{"$f":"'Complex Time Line'!FN20","v":30},{"$f":"'Complex Time Line'!FO20","v":31},{"$f":"'Complex Time Line'!FP20","v":31},{"$f":"'Complex Time Line'!FQ20","v":29},{"$f":"'Complex Time Line'!FR20","v":31},{"$f":"'Complex Time Line'!FS20","v":30},{"$f":"'Complex Time Line'!FT20","v":31},{"$f":"'Complex Time Line'!FU20","v":30},{"$f":"'Complex Time Line'!FV20","v":31},{"$f":"'Complex Time Line'!FW20","v":31},{"$f":"'Complex Time Line'!FX20","v":30},{"$f":"'Complex Time Line'!FY20","v":31},{"$f":"'Complex Time Line'!FZ20","v":30},{"$f":"'Complex Time Line'!GA20","v":31},{"$f":"'Complex Time Line'!GB20","v":31},{"$f":"'Complex Time Line'!GC20","v":28},{"$f":"'Complex Time Line'!GD20","v":31},{"$f":"'Complex Time Line'!GE20","v":30},{"$f":"'Complex Time Line'!GF20","v":31},{"$f":"'Complex Time Line'!GG20","v":30},{"$f":"'Complex Time Line'!GH20","v":31},{"$f":"'Complex Time Line'!GI20","v":31},{"$f":"'Complex Time Line'!GJ20","v":30},{"$f":"'Complex Time Line'!GK20","v":31},{"$f":"'Complex Time Line'!GL20","v":30},{"$f":"'Complex Time Line'!GM20","v":31},{"$f":"'Complex Time Line'!GN20","v":31},{"$f":"'Complex Time Line'!GO20","v":28},{"$f":"'Complex Time Line'!GP20","v":31},{"$f":"'Complex Time Line'!GQ20","v":30},{"$f":"'Complex Time Line'!GR20","v":31},{"$f":"'Complex Time Line'!GS20","v":30},{"$f":"'Complex Time Line'!GT20","v":31},{"$f":"'Complex Time Line'!GU20","v":31},{"$f":"'Complex Time Line'!GV20","v":30},{"$f":"'Complex Time Line'!GW20","v":31},{"$f":"'Complex Time Line'!GX20","v":30},{"$f":"'Complex Time Line'!GY20","v":31},{"$f":"'Complex Time Line'!GZ20","v":31},{"$f":"'Complex Time Line'!HA20","v":28},{"$f":"'Complex Time Line'!HB20","v":31},{"$f":"'Complex Time Line'!HC20","v":30},{"$f":"'Complex Time Line'!HD20","v":31},{"$f":"'Complex Time Line'!HE20","v":30},{"$f":"'Complex Time Line'!HF20","v":31},{"$f":"'Complex Time Line'!HG20","v":31},{"$f":"'Complex Time Line'!HH20","v":30},{"$f":"'Complex Time Line'!HI20","v":31},{"$f":"'Complex Time Line'!HJ20","v":30},{"$f":"'Complex Time Line'!HK20","v":31},{"$f":"'Complex Time Line'!HL20","v":31},{"$f":"'Complex Time Line'!HM20","v":29},{"$f":"'Complex Time Line'!HN20","v":31},{"$f":"'Complex Time Line'!HO20","v":30},{"$f":"'Complex Time Line'!HP20","v":31},{"$f":"'Complex Time Line'!HQ20","v":30},{"$f":"'Complex Time Line'!HR20","v":31},{"$f":"'Complex Time Line'!HS20","v":31},{"$f":"'Complex Time Line'!HT20","v":30},{"$f":"'Complex Time Line'!HU20","v":31},{"$f":"'Complex Time Line'!HV20","v":30},{"$f":"'Complex Time Line'!HW20","v":31},{"$f":"'Complex Time Line'!HX20","v":31},{"$f":"'Complex Time Line'!HY20","v":28},{"$f":"'Complex Time Line'!HZ20","v":31},{"$f":"'Complex Time Line'!IA20","v":30},{"$f":"'Complex Time Line'!IB20","v":31},{"$f":"'Complex Time Line'!IC20","v":30},{"$f":"'Complex Time Line'!ID20","v":31},{"$f":"'Complex Time Line'!IE20","v":31},{"$f":"'Complex Time Line'!IF20","v":30},{"$f":"'Complex Time Line'!IG20","v":31},{"$f":"'Complex Time Line'!IH20","v":30},{"$f":"'Complex Time Line'!II20","v":31},{"$f":"'Complex Time Line'!IJ20","v":31},{"$f":"'Complex Time Line'!IK20","v":28},{"$f":"'Complex Time Line'!IL20","v":31},{"$f":"'Complex Time Line'!IM20","v":30},{"$f":"'Complex Time Line'!IN20","v":31},{"$f":"'Complex Time Line'!IO20","v":30},{"$f":"'Complex Time Line'!IP20","v":31},{"$f":"'Complex Time Line'!IQ20","v":31},{"$f":"'Complex Time Line'!IR20","v":30},{"$f":"'Complex Time Line'!IS20","v":31},{"$f":"'Complex Time Line'!IT20","v":30},{"$f":"'Complex Time Line'!IU20","v":31},{"$f":"'Complex Time Line'!IV20","v":31},{"$f":"'Complex Time Line'!IW20","v":28},{"$f":"'Complex Time Line'!IX20","v":31},{"$f":"'Complex Time Line'!IY20","v":30},{"$f":"'Complex Time Line'!IZ20","v":31},{"$f":"'Complex Time Line'!JA20","v":30},{"$f":"'Complex Time Line'!JB20","v":31},{"$f":"'Complex Time Line'!JC20","v":31},{"$f":"'Complex Time Line'!JD20","v":30},{"$f":"'Complex Time Line'!JE20","v":31},{"$f":"'Complex Time Line'!JF20","v":30},{"$f":"'Complex Time Line'!JG20","v":31},{"$f":"'Complex Time Line'!JH20","v":31},{"$f":"'Complex Time Line'!JI20","v":29},{"$f":"'Complex Time Line'!JJ20","v":31},{"$f":"'Complex Time Line'!JK20","v":30},{"$f":"'Complex Time Line'!JL20","v":31},{"$f":"'Complex Time Line'!JM20","v":30},{"$f":"'Complex Time Line'!JN20","v":31},{"$f":"'Complex Time Line'!JO20","v":31},{"$f":"'Complex Time Line'!JP20","v":30},{"$f":"'Complex Time Line'!JQ20","v":31},{"$f":"'Complex Time Line'!JR20","v":30},{"$f":"'Complex Time Line'!JS20","v":31},{"$f":"'Complex Time Line'!JT20","v":31},{"$f":"'Complex Time Line'!JU20","v":28},{"$f":"'Complex Time Line'!JV20","v":31},{"$f":"'Complex Time Line'!JW20","v":30},{"$f":"'Complex Time Line'!JX20","v":31},{"$f":"'Complex Time Line'!JY20","v":30},{"$f":"'Complex Time Line'!JZ20","v":31},{"$f":"'Complex Time Line'!KA20","v":31},{"$f":"'Complex Time Line'!KB20","v":30},{"$f":"'Complex Time Line'!KC20","v":31},{"$f":"'Complex Time Line'!KD20","v":30},{"$f":"'Complex Time Line'!KE20","v":31},{"$f":"'Complex Time Line'!KF20","v":31},{"$f":"'Complex Time Line'!KG20","v":28},{"$f":"'Complex Time Line'!KH20","v":31},{"$f":"'Complex Time Line'!KI20","v":30},{"$f":"'Complex Time Line'!KJ20","v":31},{"$f":"'Complex Time Line'!KK20","v":30},{"$f":"'Complex Time Line'!KL20","v":31},{"$f":"'Complex Time Line'!KM20","v":31},{"$f":"'Complex Time Line'!KN20","v":30},{"$f":"'Complex Time Line'!KO20","v":31},{"$f":"'Complex Time Line'!KP20","v":30},{"$f":"'Complex Time Line'!KQ20","v":31},{"$f":"'Complex Time Line'!KR20","v":31},{"$f":"'Complex Time Line'!KS20","v":28},{"$f":"'Complex Time Line'!KT20","v":31},{"$f":"'Complex Time Line'!KU20","v":30},{"$f":"'Complex Time Line'!KV20","v":31},{"$f":"'Complex Time Line'!KW20","v":30},{"$f":"'Complex Time Line'!KX20","v":31},{"$f":"'Complex Time Line'!KY20","v":31},{"$f":"'Complex Time Line'!KZ20","v":30},{"$f":"'Complex Time Line'!LA20","v":31},{"$f":"'Complex Time Line'!LB20","v":30},{"$f":"'Complex Time Line'!LC20","v":31},{"$f":"'Complex Time Line'!LD20","v":31},{"$f":"'Complex Time Line'!LE20","v":29},{"$f":"'Complex Time Line'!LF20","v":31},{"$f":"'Complex Time Line'!LG20","v":30},{"$f":"'Complex Time Line'!LH20","v":31},{"$f":"'Complex Time Line'!LI20","v":30},{"$f":"'Complex Time Line'!LJ20","v":31},{"$f":"'Complex Time Line'!LK20","v":31},{"$f":"'Complex Time Line'!LL20","v":30},{"$f":"'Complex Time Line'!LM20","v":31},{"$f":"'Complex Time Line'!LN20","v":30},{"$f":"'Complex Time Line'!LO20","v":31},{"$f":"'Complex Time Line'!LP20","v":31},{"$f":"'Complex Time Line'!LQ20","v":28},{"$f":"'Complex Time Line'!LR20","v":31},{"$f":"'Complex Time Line'!LS20","v":30},{"$f":"'Complex Time Line'!LT20","v":31},{"$f":"'Complex Time Line'!LU20","v":30},{"$f":"'Complex Time Line'!LV20","v":31},{"$f":"'Complex Time Line'!LW20","v":31},{"$f":"'Complex Time Line'!LX20","v":30},{"$f":"'Complex Time Line'!LY20","v":31},{"$f":"'Complex Time Line'!LZ20","v":30},{"$f":"'Complex Time Line'!MA20","v":31},{"$f":"'Complex Time Line'!MB20","v":31},{"$f":"'Complex Time Line'!MC20","v":28},{"$f":"'Complex Time Line'!MD20","v":31},{"$f":"'Complex Time Line'!ME20","v":30},{"$f":"'Complex Time Line'!MF20","v":31},{"$f":"'Complex Time Line'!MG20","v":30},{"$f":"'Complex Time Line'!MH20","v":31},{"$f":"'Complex Time Line'!MI20","v":31},{"$f":"'Complex Time Line'!MJ20","v":30},{"$f":"'Complex Time Line'!MK20","v":31},{"$f":"'Complex Time Line'!ML20","v":30},{"$f":"'Complex Time Line'!MM20","v":31},{"$f":"'Complex Time Line'!MN20","v":31},{"$f":"'Complex Time Line'!MO20","v":28},{"$f":"'Complex Time Line'!MP20","v":31},{"$f":"'Complex Time Line'!MQ20","v":30},{"$f":"'Complex Time Line'!MR20","v":31},{"$f":"'Complex Time Line'!MS20","v":30},{"$f":"'Complex Time Line'!MT20","v":31},{"$f":"'Complex Time Line'!MU20","v":31},{"$f":"'Complex Time Line'!MV20","v":30},{"$f":"'Complex Time Line'!MW20","v":31},{"$f":"'Complex Time Line'!MX20","v":30},{"$f":"'Complex Time Line'!MY20","v":31},{"$f":"'Complex Time Line'!MZ20","v":31},{"$f":"'Complex Time Line'!NA20","v":29},{"$f":"'Complex Time Line'!NB20","v":31},{"$f":"'Complex Time Line'!NC20","v":30},{"$f":"'Complex Time Line'!ND20","v":31},{"$f":"'Complex Time Line'!NE20","v":30},{"$f":"'Complex Time Line'!NF20","v":31},{"$f":"'Complex Time Line'!NG20","v":31},{"$f":"'Complex Time Line'!NH20","v":30},{"$f":"'Complex Time Line'!NI20","v":31},{"$f":"'Complex Time Line'!NJ20","v":30},{"$f":"'Complex Time Line'!NK20","v":31},{"$f":"'Complex Time Line'!NL20","v":31},{"$f":"'Complex Time Line'!NM20","v":28},{"$f":"'Complex Time Line'!NN20","v":31},{"$f":"'Complex Time Line'!NO20","v":30},{"$f":"'Complex Time Line'!NP20","v":31},{"$f":"'Complex Time Line'!NQ20","v":30},{"$f":"'Complex Time Line'!NR20","v":31},{"$f":"'Complex Time Line'!NS20","v":31},{"$f":"'Complex Time Line'!NT20","v":30},{"$f":"'Complex Time Line'!NU20","v":31},{"$f":"'Complex Time Line'!NV20","v":30},{"$f":"'Complex Time Line'!NW20","v":31},{"$f":"'Complex Time Line'!NX20","v":31},{"$f":"'Complex Time Line'!NY20","v":28},{"$f":"'Complex Time Line'!NZ20","v":31},{"$f":"'Complex Time Line'!OA20","v":30},{"$f":"'Complex Time Line'!OB20","v":31},{"$f":"'Complex Time Line'!OC20","v":30},{"$f":"'Complex Time Line'!OD20","v":31},{"$f":"'Complex Time Line'!OE20","v":31},{"$f":"'Complex Time Line'!OF20","v":30},{"$f":"'Complex Time Line'!OG20","v":31},{"$f":"'Complex Time Line'!OH20","v":30},{"$f":"'Complex Time Line'!OI20","v":31},{"$f":"'Complex Time Line'!OJ20","v":31},{"$f":"'Complex Time Line'!OK20","v":28},{"$f":"'Complex Time Line'!OL20","v":31},{"$f":"'Complex Time Line'!OM20","v":30},{"$f":"'Complex Time Line'!ON20","v":31},{"$f":"'Complex Time Line'!OO20","v":30},{"$f":"'Complex Time Line'!OP20","v":31},{"$f":"'Complex Time Line'!OQ20","v":31},{"$f":"'Complex Time Line'!OR20","v":30},{"$f":"'Complex Time Line'!OS20","v":31},{"$f":"'Complex Time Line'!OT20","v":30},{"$f":"'Complex Time Line'!OU20","v":31},{"$f":"'Complex Time Line'!OV20","v":31},{"$f":"'Complex Time Line'!OW20","v":29},{"$f":"'Complex Time Line'!OX20","v":31},{"$f":"'Complex Time Line'!OY20","v":30},{"$f":"'Complex Time Line'!OZ20","v":31},{"$f":"'Complex Time Line'!PA20","v":30},{"$f":"'Complex Time Line'!PB20","v":31},{"$f":"'Complex Time Line'!PC20","v":31},{"$f":"'Complex Time Line'!PD20","v":30},{"$f":"'Complex Time Line'!PE20","v":31},{"$f":"'Complex Time Line'!PF20","v":30},{"$f":"'Complex Time Line'!PG20","v":31},{"$f":"'Complex Time Line'!PH20","v":31},{"$f":"'Complex Time Line'!PI20","v":28},{"$f":"'Complex Time Line'!PJ20","v":31},{"$f":"'Complex Time Line'!PK20","v":30},{"$f":"'Complex Time Line'!PL20","v":31},{"$f":"'Complex Time Line'!PM20","v":30},{"$f":"'Complex Time Line'!PN20","v":31},{"$f":"'Complex Time Line'!PO20","v":31},{"$f":"'Complex Time Line'!PP20","v":30},{"$f":"'Complex Time Line'!PQ20","v":31},{"$f":"'Complex Time Line'!PR20","v":30},{"$f":"'Complex Time Line'!PS20","v":31},{"$f":"'Complex Time Line'!PT20","v":31},{"$f":"'Complex Time Line'!PU20","v":28},{"$f":"'Complex Time Line'!PV20","v":31},{"$f":"'Complex Time Line'!PW20","v":30},{"$f":"'Complex Time Line'!PX20","v":31},{"$f":"'Complex Time Line'!PY20","v":30},{"$f":"'Complex Time Line'!PZ20","v":31},{"$f":"'Complex Time Line'!QA20","v":31},{"$f":"'Complex Time Line'!QB20","v":30},{"$f":"'Complex Time Line'!QC20","v":31},{"$f":"'Complex Time Line'!QD20","v":30},{"$f":"'Complex Time Line'!QE20","v":31},{"$f":"'Complex Time Line'!QF20","v":31},{"$f":"'Complex Time Line'!QG20","v":28},{"$f":"'Complex Time Line'!QH20","v":31},{"$f":"'Complex Time Line'!QI20","v":30},{"$f":"'Complex Time Line'!QJ20","v":31},{"$f":"'Complex Time Line'!QK20","v":30},{"$f":"'Complex Time Line'!QL20","v":31},{"$f":"'Complex Time Line'!QM20","v":31},{"$f":"'Complex Time Line'!QN20","v":30},{"$f":"'Complex Time Line'!QO20","v":31},{"$f":"'Complex Time Line'!QP20","v":30},{"$f":"'Complex Time Line'!QQ20","v":31},{"$f":"'Complex Time Line'!QR20","v":31},{"$f":"'Complex Time Line'!QS20","v":29},{"$f":"'Complex Time Line'!QT20","v":31},{"$f":"'Complex Time Line'!QU20","v":30},{"$f":"'Complex Time Line'!QV20","v":31},{"$f":"'Complex Time Line'!QW20","v":30},{"$f":"'Complex Time Line'!QX20","v":31},{"$f":"'Complex Time Line'!QY20","v":31},{"$f":"'Complex Time Line'!QZ20","v":30},{"$f":"'Complex Time Line'!RA20","v":31},{"$f":"'Complex Time Line'!RB20","v":30},{"$f":"'Complex Time Line'!RC20","v":31},{"$f":"'Complex Time Line'!RD20","v":31},{"$f":"'Complex Time Line'!RE20","v":28},{"$f":"'Complex Time Line'!RF20","v":31},{"$f":"'Complex Time Line'!RG20","v":30},{"$f":"'Complex Time Line'!RH20","v":31},{"$f":"'Complex Time Line'!RI20","v":30},{"$f":"'Complex Time Line'!RJ20","v":31},{"$f":"'Complex Time Line'!RK20","v":31},{"$f":"'Complex Time Line'!RL20","v":30},{"$f":"'Complex Time Line'!RM20","v":31},{"$f":"'Complex Time Line'!RN20","v":30},{"$f":"'Complex Time Line'!RO20","v":31},{"$f":"'Complex Time Line'!RP20","v":31},{"$f":"'Complex Time Line'!RQ20","v":28},{"$f":"'Complex Time Line'!RR20","v":31},{"$f":"'Complex Time Line'!RS20","v":30},{"$f":"'Complex Time Line'!RT20","v":31},{"$f":"'Complex Time Line'!RU20","v":30},{"$f":"'Complex Time Line'!RV20","v":31},{"$f":"'Complex Time Line'!RW20","v":31},{"$f":"'Complex Time Line'!RX20","v":30},{"$f":"'Complex Time Line'!RY20","v":31},{"$f":"'Complex Time Line'!RZ20","v":30},{"$f":"'Complex Time Line'!SA20","v":31},{"$f":"'Complex Time Line'!SB20","v":31},{"$f":"'Complex Time Line'!SC20","v":28},{"$f":"'Complex Time Line'!SD20","v":31},{"$f":"'Complex Time Line'!SE20","v":30},{"$f":"'Complex Time Line'!SF20","v":31},{"$f":"'Complex Time Line'!SG20","v":30},{"$f":"'Complex Time Line'!SH20","v":31},{"$f":"'Complex Time Line'!SI20","v":31},{"$f":"'Complex Time Line'!SJ20","v":30},{"$f":"'Complex Time Line'!SK20","v":31},{"$f":"'Complex Time Line'!SL20","v":30},{"$f":"'Complex Time Line'!SM20","v":31},{"$f":"'Complex Time Line'!SN20","v":31},{"$f":"'Complex Time Line'!SO20","v":29},{"$f":"'Complex Time Line'!SP20","v":31},{"$f":"'Complex Time Line'!SQ20","v":30},{"$f":"'Complex Time Line'!SR20","v":31},{"$f":"'Complex Time Line'!SS20","v":30},{"$f":"'Complex Time Line'!ST20","v":31},{"$f":"'Complex Time Line'!SU20","v":10},{"$f":"'Complex Time Line'!SV20","v":0},{"$f":"'Complex Time Line'!SW20","v":0},{"$f":"'Complex Time Line'!SX20","v":0},{"$f":"'Complex Time Line'!SY20","v":0},{"$f":"'Complex Time Line'!SZ20","v":0},{"$f":"'Complex Time Line'!TA20","v":0},{"$f":"'Complex Time Line'!TB20","v":0},{"$f":"'Complex Time Line'!TC20","v":0},{"$f":"'Complex Time Line'!TD20","v":0},{"$f":"'Complex Time Line'!TE20","v":0},{"$f":"'Complex Time Line'!TF20","v":0},{"$f":"'Complex Time Line'!TG20","v":0},{"$f":"'Complex Time Line'!TH20","v":0},{"$f":"'Complex Time Line'!TI20","v":0},{"$f":"'Complex Time Line'!TJ20","v":0},{"$f":"'Complex Time Line'!TK20","v":0},{"$f":"'Complex Time Line'!TL20","v":0},{"$f":"'Complex Time Line'!TM20","v":0},{"$f":"'Complex Time Line'!TN20","v":0},{"$f":"'Complex Time Line'!TO20","v":0},{"$f":"'Complex Time Line'!TP20","v":0},{"$f":"'Complex Time Line'!TQ20","v":0},{"$f":"'Complex Time Line'!TR20","v":0},{"$f":"'Complex Time Line'!TS20","v":0},{"$f":"'Complex Time Line'!TT20","v":0},{"$f":"'Complex Time Line'!TU20","v":0},{"$f":"'Complex Time Line'!TV20","v":0},{"$f":"'Complex Time Line'!TW20","v":0},{"$f":"'Complex Time Line'!TX20","v":0},{"$f":"'Complex Time Line'!TY20","v":0},{"$f":"'Complex Time Line'!TZ20","v":0},{"$f":"'Complex Time Line'!UA20","v":0},{"$f":"'Complex Time Line'!UB20","v":0},{"$f":"'Complex Time Line'!UC20","v":0},{"$f":"'Complex Time Line'!UD20","v":0},{"$f":"'Complex Time Line'!UE20","v":0},{"$f":"'Complex Time Line'!UF20","v":0},{"$f":"'Complex Time Line'!UG20","v":0},{"$f":"'Complex Time Line'!UH20","v":0},{"$f":"'Complex Time Line'!UI20","v":0},{"$f":"'Complex Time Line'!UJ20","v":0},{"$f":"'Complex Time Line'!UK20","v":0},{"$f":"'Complex Time Line'!UL20","v":0},{"$f":"'Complex Time Line'!UM20","v":0},{"$f":"'Complex Time Line'!UN20","v":0},{"$f":"'Complex Time Line'!UO20","v":0}]
[]
[null,"Operations"]
[]
[null,null,"Total Cost",null,"EUR",{"$f":"InputC!F19","v":1000000},null,null,"EUR",null,{"$f":"$F$15","v":1000000},1000000,1000000,1000000,1000000,1000000,1000000,1000000,1000000,1000000,1000000,1000000,1000000,1000000,1000000,1000000,1000000,1000000,1000000,1000000,1000000,1000000,1000000,1000000,1000000,1000000,1000000,1000000,1000000,1000000,1000000,1000000,1000000,1000000,1000000,1000000,1000000,1000000,1000000,1000000,1000000,1000000,1000000,1000000,1000000,1000000,1000000,1000000,1000000,1000000,1000000,1000000,1000000,1000000,1000000,1000000,1000000,1000000,1000000,1000000,1000000,1000000,1000000,1000000,{"$f":"$F$15","v":1000000},1000000,1000000,1000000,1000000,1000000,1000000,1000000,1000000,1000000,1000000,1000000,1000000,1000000,1000000,1000000,1000000,1000000,1000000,1000000,1000000,1000000,1000000,1000000,1000000,1000000,1000000,1000000,1000000,1000000,1000000,1000000,1000000,1000000,1000000,1000000,1000000,1000000,1000000,1000000,1000000,1000000,1000000,1000000,1000000,1000000,1000000,1000000,1000000,1000000,1000000,1000000,1000000,1000000,1000000,1000000,1000000,1000000,1000000,1000000,1000000,1000000,1000000,1000000,{"$f":"$F$15","v":1000000},1000000,1000000,1000000,1000000,1000000,1000000,1000000,1000000,1000000,1000000,1000000,1000000,1000000,1000000,1000000,1000000,1000000,1000000,1000000,1000000,1000000,1000000,1000000,1000000,1000000,1000000,1000000,1000000,1000000,1000000,1000000,1000000,1000000,1000000,1000000,1000000,1000000,1000000,1000000,1000000,1000000,1000000,1000000,1000000,1000000,1000000,1000000,1000000,1000000,1000000,1000000,1000000,1000000,1000000,1000000,1000000,1000000,1000000,1000000,1000000,1000000,1000000,1000000,{"$f":"$F$15","v":1000000},1000000,1000000,1000000,1000000,1000000,1000000,1000000,1000000,1000000,1000000,1000000,1000000,1000000,1000000,1000000,1000000,1000000,1000000,1000000,1000000,1000000,1000000,1000000,1000000,1000000,1000000,1000000,1000000,1000000,1000000,1000000,1000000,1000000,1000000,1000000,1000000,1000000,1000000,1000000,1000000,1000000,1000000,1000000,1000000,1000000,1000000,1000000,1000000,1000000,1000000,1000000,1000000,1000000,1000000,1000000,1000000,1000000,1000000,1000000,1000000,1000000,1000000,1000000,{"$f":"$F$15","v":1000000},1000000,1000000,1000000,1000000,1000000,1000000,1000000,1000000,1000000,1000000,1000000,1000000,1000000,1000000,1000000,1000000,1000000,1000000,1000000,1000000,1000000,1000000,1000000,1000000,1000000,1000000,1000000,1000000,1000000,1000000,1000000,1000000,1000000,1000000,1000000,1000000,1000000,1000000,1000000,1000000,1000000,1000000,1000000,1000000,1000000,1000000,1000000,1000000,1000000,1000000,1000000,1000000,1000000,1000000,1000000,1000000,1000000,1000000,1000000,1000000,1000000,1000000,1000000,{"$f":"$F$15","v":1000000},1000000,1000000,1000000,1000000,1000000,1000000,1000000,1000000,1000000,1000000,1000000,1000000,1000000,1000000,1000000,1000000,1000000,1000000,1000000,1000000,1000000,1000000,1000000,1000000,1000000,1000000,1000000,1000000,1000000,1000000,1000000,1000000,1000000,1000000,1000000,1000000,1000000,1000000,1000000,1000000,1000000,1000000,1000000,1000000,1000000,1000000,1000000,1000000,1000000,1000000,1000000,1000000,1000000,1000000,1000000,1000000,1000000,1000000,1000000,1000000,1000000,1000000,1000000,{"$f":"$F$15","v":1000000},1000000,1000000,1000000,1000000,1000000,1000000,1000000,1000000,1000000,1000000,1000000,1000000,1000000,1000000,1000000,1000000,1000000,1000000,1000000,1000000,1000000,1000000,1000000,1000000,1000000,1000000,1000000,1000000,1000000,1000000,1000000,1000000,1000000,1000000,1000000,1000000,1000000,1000000,1000000,1000000,1000000,1000000,1000000,1000000,1000000,1000000,1000000,1000000,1000000,1000000,1000000,1000000,1000000,1000000,1000000,1000000,1000000,1000000,1000000,1000000,1000000,1000000,1000000,{"$f":"$F$15","v":1000000},1000000,1000000,1000000,1000000,1000000,1000000,1000000,1000000,1000000,1000000,1000000,1000000,1000000,1000000,1000000,1000000,1000000,1000000,1000000,1000000,1000000,1000000,1000000,1000000,1000000,1000000,1000000,1000000,1000000,1000000,1000000,1000000,1000000,1000000,1000000,1000000,1000000,1000000,1000000,1000000,1000000,1000000,1000000,1000000,1000000,1000000,1000000,1000000,1000000,1000000,1000000,{"$f":"$F$15","v":1000000},1000000,1000000,1000000,1000000,1000000,1000000,1000000,1000000,1000000,1000000,1000000,1000000,1000000,1000000,1000000,1000000,1000000,1000000,1000000,1000000,1000000,1000000,1000000,1000000,1000000,1000000,1000000,1000000,1000000,1000000,1000000,1000000,1000000,1000000,1000000,1000000,1000000,1000000,1000000,1000000,1000000,1000000,1000000,1000000,1000000,1000000,1000000,1000000,1000000,1000000]
[null,null,"Capital Expenditures",null,"Cost/Day",{"$f":"F15/F5","v":1371.7421124828531},null,{"$f":"SUM(K16:XFD16)","v":999999.99999999965},"EUR",null,{"$f":"$F$16*K9","v":24691.358024691355},{"$f":"$F$16*L9","v":41152.263374485592},42524.005486968446,41152.263374485592,42524.005486968446,42524.005486968446,38408.779149519891,42524.005486968446,41152.263374485592,42524.005486968446,41152.263374485592,42524.005486968446,42524.005486968446,41152.263374485592,42524.005486968446,41152.263374485592,42524.005486968446,42524.005486968446,39780.521262002738,42524.005486968446,41152.263374485592,42524.005486968446,41152.263374485592,42524.005486968446,15089.163237311384,0,0,0,0,0,0,0,0,0,0,0,0,0,0,0,0,0,0,0,0,0,0,0,0,0,0,0,0,0,0,0,0,0,0,0,0,0,0,0,0,{"$f":"$F$16*BX9","v":0},0,0,0,0,0,0,0,0,0,0,0,0,0,0,0,0,0,0,0,0,0,0,0,0,0,0,0,0,0,0,0,0,0,0,0,0,0,0,0,0,0,0,0,0,0,0,0,0,0,0,0,0,0,0,0,0,0,0,0,0,0,0,0,{"$f":"$F$16*EJ9","v":0},0,0,0,0,0,0,0,0,0,0,0,0,0,0,0,0,0,0,0,0,0,0,0,0,0,0,0,0,0,0,0,0,0,0,0,0,0,0,0,0,0,0,0,0,0,0,0,0,0,0,0,0,0,0,0,0,0,0,0,0,0,0,0,{"$f":"$F$16*GV9","v":0},0,0,0,0,0,0,0,0,0,0,0,0,0,0,0,0,0,0,0,0,0,0,0,0,0,0,0,0,0,0,0,0,0,0,0,0,0,0,0,0,0,0,0,0,0,0,0,0,0,0,0,0,0,0,0,0,0,0,0,0,0,0,0,{"$f":"$F$16*JH9","v":0},0,0,0,0,0,0,0,0,0,0,0,0,0,0,0,0,0,0,0,0,0,0,0,0,0,0,0,0,0,0,0,0,0,0,0,0,0,0,0,0,0,0,0,0,0,0,0,0,0,0,0,0,0,0,0,0,0,0,0,0,0,0,0,{"$f":"$F$16*LT9","v":0},0,0,0,0,0,0,0,0,0,0,0,0,0,0,0,0,0,0,0,0,0,0,0,0,0,0,0,0,0,0,0,0,0,0,0,0,0,0,0,0,0,0,0,0,0,0,0,0,0,0,0,0,0,0,0,0,0,0,0,0,0,0,0,{"$f":"$F$16*OF9","v":0},0,0,0,0,0,0,0,0,0,0,0,0,0,0,0,0,0,0,0,0,0,0,0,0,0,0,0,0,0,0,0,0,0,0,0,0,0,0,0,0,0,0,0,0,0,0,0,0,0,0,0,0,0,0,0,0,0,0,0,0,0,0,0,{"$f":"$F$16*QR9","v":0},0,0,0,0,0,0,0,0,0,0,0,0,0,0,0,0,0,0,0,0,0,0,0,0,0,0,0,0,0,0,0,0,0,0,0,0,0,0,0,0,0,0,0,0,0,0,0,0,0,0,0,0,0,0,0,0,0,0,0,0,0,0,0,{"$f":"$F$16*TD9","v":0},0,0,0,0,0,0,0,0,0,0,0,0,0,0,0,0,0,0,0,0,0,0,0,0,0,0,0,0,0,0,0,0,0,0,0,0,0]
[]
[null,null,"Base EBITDA Annual",null,"EUR/Day",{"$f":"'InputC Partial Month'!F21","v":80000},{"$f":"F18","v":80000},null,"EUR",null,{"$f":"$G$18","v":80000},{"$f":"$G$18","v":80000},80000,80000,80000,80000,80000,80000,80000,80000,80000,80000,80000,80000,80000,80000,80000,80000,80000,80000,80000,80000,80000,80000,80000,80000,80000,80000,80000,80000,80000,80000,80000,80000,80000,80000,80000,80000,80000,80000,80000,80000,80000,80000,80000,80000,80000,80000,80000,80000,80000,80000,80000,80000,80000,80000,80000,80000,80000,80000,80000,80000,80000,80000,80000,{"$f":"$G$18","v":80000},80000,80000,80000,80000,80000,80000,80000,80000,80000,80000,80000,80000,80000,80000,80000,80000,80000,80000,80000,80000,80000,80000,80000,80000,80000,80000,80000,80000,80000,80000,80000,80000,80000,80000,80000,80000,80000,80000,80000,80000,80000,80000,80000,80000,80000,80000,80000,80000,80000,80000,80000,80000,80000,80000,80000,80000,80000,80000,80000,80000,80000,80000,80000,{"$f":"$G$18","v":80000},80000,80000,80000,80000,80000,80000,80000,80000,80000,80000,80000,80000,80000,80000,80000,80000,80000,80000,80000,80000,80000,80000,80000,80000,80000,80000,80000,80000,80000,80000,80000,80000,80000,80000,80000,80000,80000,80000,80000,80000,80000,80000,80000,80000,80000,80000,80000,80000,80000,80000,80000,80000,80000,80000,80000,80000,80000,80000,80000,80000,80000,80000,80000,{"$f":"$G$18","v":80000},80000,80000,80000,80000,80000,80000,80000,80000,80000,80000,80000,80000,80000,80000,80000,80000,80000,80000,80000,80000,80000,80000,80000,80000,80000,80000,80000,80000,80000,80000,80000,80000,80000,80000,80000,80000,80000,80000,80000,80000,80000,80000,80000,80000,80000,80000,80000,80000,80000,80000,80000,80000,80000,80000,80000,80000,80000,80000,80000,80000,80000,80000,80000,{"$f":"$G$18","v":80000},80000,80000,80000,80000,80000,80000,80000,80000,80000,80000,80000,80000,80000,80000,80000,80000,80000,80000,80000,80000,80000,80000,80000,80000,80000,80000,80000,80000,80000,80000,80000,80000,80000,80000,80000,80000,80000,80000,80000,80000,80000,80000,80000,80000,80000,80000,80000,80000,80000,80000,80000,80000,80000,80000,80000,80000,80000,80000,80000,80000,80000,80000,80000,{"$f":"$G$18","v":80000},80000,80000,80000,80000,80000,80000,80000,80000,80000,80000,80000,80000,80000,80000,80000,80000,80000,80000,80000,80000,80000,80000,80000,80000,80000,80000,80000,80000,80000,80000,80000,80000,80000,80000,80000,80000,80000,80000,80000,80000,80000,80000,80000,80000,80000,80000,80000,80000,80000,80000,80000,80000,80000,80000,80000,80000,80000,80000,80000,80000,80000,80000,80000,{"$f":"$G$18","v":80000},80000,80000,80000,80000,80000,80000,80000,80000,80000,80000,80000,80000,80000,80000,80000,80000,80000,80000,80000,80000,80000,80000,80000,80000,80000,80000,80000,80000,80000,80000,80000,80000,80000,80000,80000,80000,80000,80000,80000,80000,80000,80000,80000,80000,80000,80000,80000,80000,80000,80000,80000,80000,80000,80000,80000,80000,80000,80000,80000,80000,80000,80000,80000,{"$f":"$G$18","v":80000},80000,80000,80000,80000,80000,80000,80000,80000,80000,80000,80000,80000,80000,80000,80000,80000,80000,80000,80000,80000,80000,80000,80000,80000,80000,80000,80000,80000,80000,80000,80000,80000,80000,80000,80000,80000,80000,80000,80000,80000,80000,80000,80000,80000,80000,80000,80000,80000,80000,80000,80000,80000,80000,80000,80000,80000,80000,80000,80000,80000,80000,80000,80000,{"$f":"$G$18","v":80000},80000,80000,80000,80000,80000,80000,80000,80000,80000,80000,80000,80000,80000,80000,80000,80000,80000,80000,80000,80000,80000,80000,80000,80000,80000,80000,80000,80000,80000,80000,80000,80000,80000,80000,80000,80000,80000]
[null,null,"Growth Rate",null,"% p.a.",{"$f":"InputC!F21","v":0},365,null,"% p.p.",null,{"$f":"(1+$F$19)^(K11/$G$19)-1","v":0},{"$f":"(1+$F$19)^(L11/$G$19)-1","v":0},0,0,0,0,0,0,0,0,0,0,0,0,0,0,0,0,0,0,0,0,0,0,0,0,0,0,0,0,0,0,0,0,0,0,0,0,0,0,0,0,0,0,0,0,0,0,0,0,0,0,0,0,0,0,0,0,0,0,0,0,0,0,0,{"$f":"(1+$F$19)^(BX11/$G$19)-1","v":0},0,0,0,0,0,0,0,0,0,0,0,0,0,0,0,0,0,0,0,0,0,0,0,0,0,0,0,0,0,0,0,0,0,0,0,0,0,0,0,0,0,0,0,0,0,0,0,0,0,0,0,0,0,0,0,0,0,0,0,0,0,0,0,{"$f":"(1+$F$19)^(EJ11/$G$19)-1","v":0},0,0,0,0,0,0,0,0,0,0,0,0,0,0,0,0,0,0,0,0,0,0,0,0,0,0,0,0,0,0,0,0,0,0,0,0,0,0,0,0,0,0,0,0,0,0,0,0,0,0,0,0,0,0,0,0,0,0,0,0,0,0,0,{"$f":"(1+$F$19)^(GV11/$G$19)-1","v":0},0,0,0,0,0,0,0,0,0,0,0,0,0,0,0,0,0,0,0,0,0,0,0,0,0,0,0,0,0,0,0,0,0,0,0,0,0,0,0,0,0,0,0,0,0,0,0,0,0,0,0,0,0,0,0,0,0,0,0,0,0,0,0,{"$f":"(1+$F$19)^(JH11/$G$19)-1","v":0},0,0,0,0,0,0,0,0,0,0,0,0,0,0,0,0,0,0,0,0,0,0,0,0,0,0,0,0,0,0,0,0,0,0,0,0,0,0,0,0,0,0,0,0,0,0,0,0,0,0,0,0,0,0,0,0,0,0,0,0,0,0,0,{"$f":"(1+$F$19)^(LT11/$G$19)-1","v":0},0,0,0,0,0,0,0,0,0,0,0,0,0,0,0,0,0,0,0,0,0,0,0,0,0,0,0,0,0,0,0,0,0,0,0,0,0,0,0,0,0,0,0,0,0,0,0,0,0,0,0,0,0,0,0,0,0,0,0,0,0,0,0,{"$f":"(1+$F$19)^(OF11/$G$19)-1","v":0},0,0,0,0,0,0,0,0,0,0,0,0,0,0,0,0,0,0,0,0,0,0,0,0,0,0,0,0,0,0,0,0,0,0,0,0,0,0,0,0,0,0,0,0,0,0,0,0,0,0,0,0,0,0,0,0,0,0,0,0,0,0,0,{"$f":"(1+$F$19)^(QR11/$G$19)-1","v":0},0,0,0,0,0,0,0,0,0,0,0,0,0,0,0,0,0,0,0,0,0,0,0,0,0,0,0,0,0,0,0,0,0,0,0,0,0,0,0,0,0,0,0,0,0,0,0,0,0,0,0,0,0,0,0,0,0,0,0,0,0,0,0,{"$f":"(1+$F$19)^(TD11/$G$19)-1","v":0},0,0,0,0,0,0,0,0,0,0,0,0,0,0,0,0,0,0,0,0,0,0,0,0,0,0,0,0,0,0,0,0,0,0,0,0,0]
[null,null,"Inflation Index",null,null,null,null,null,"Index",{"$f":"One","v":1},{"$f":"J20*(1+K19*K10)","v":1},{"$f":"K20*(1+L19*L10)","v":1},1,1,1,1,1,1,1,1,1,1,1,1,1,1,1,1,1,1,1,1,1,1,1,1,1,1,1,1,1,1,1,1,1,1,1,1,1,1,1,1,1,1,1,1,1,1,1,1,1,1,1,1,1,1,1,1,1,1,1,1,1,1,1,{"$f":"BW20*(1+BX19*BX10)","v":1},1,1,1,1,1,1,1,1,1,1,1,1,1,1,1,1,1,1,1,1,1,1,1,1,1,1,1,1,1,1,1,1,1,1,1,1,1,1,1,1,1,1,1,1,1,1,1,1,1,1,1,1,1,1,1,1,1,1,1,1,1,1,1,{"$f":"EI20*(1+EJ19*EJ10)","v":1},1,1,1,1,1,1,1,1,1,1,1,1,1,1,1,1,1,1,1,1,1,1,1,1,1,1,1,1,1,1,1,1,1,1,1,1,1,1,1,1,1,1,1,1,1,1,1,1,1,1,1,1,1,1,1,1,1,1,1,1,1,1,1,{"$f":"GU20*(1+GV19*GV10)","v":1},1,1,1,1,1,1,1,1,1,1,1,1,1,1,1,1,1,1,1,1,1,1,1,1,1,1,1,1,1,1,1,1,1,1,1,1,1,1,1,1,1,1,1,1,1,1,1,1,1,1,1,1,1,1,1,1,1,1,1,1,1,1,1,{"$f":"JG20*(1+JH19*JH10)","v":1},1,1,1,1,1,1,1,1,1,1,1,1,1,1,1,1,1,1,1,1,1,1,1,1,1,1,1,1,1,1,1,1,1,1,1,1,1,1,1,1,1,1,1,1,1,1,1,1,1,1,1,1,1,1,1,1,1,1,1,1,1,1,1,{"$f":"LS20*(1+LT19*LT10)","v":1},1,1,1,1,1,1,1,1,1,1,1,1,1,1,1,1,1,1,1,1,1,1,1,1,1,1,1,1,1,1,1,1,1,1,1,1,1,1,1,1,1,1,1,1,1,1,1,1,1,1,1,1,1,1,1,1,1,1,1,1,1,1,1,{"$f":"OE20*(1+OF19*OF10)","v":1},1,1,1,1,1,1,1,1,1,1,1,1,1,1,1,1,1,1,1,1,1,1,1,1,1,1,1,1,1,1,1,1,1,1,1,1,1,1,1,1,1,1,1,1,1,1,1,1,1,1,1,1,1,1,1,1,1,1,1,1,1,1,1,{"$f":"QQ20*(1+QR19*QR10)","v":1},1,1,1,1,1,1,1,1,1,1,1,1,1,1,1,1,1,1,1,1,1,1,1,1,1,1,1,1,1,1,1,1,1,1,1,1,1,1,1,1,1,1,1,1,1,1,1,1,1,1,1,1,1,1,1,1,1,1,1,1,1,1,1,{"$f":"TC20*(1+TD19*TD10)","v":1},1,1,1,1,1,1,1,1,1,1,1,1,1,1,1,1,1,1,1,1,1,1,1,1,1,1,1,1,1,1,1,1,1,1,1,1,1]
[null,null,"Annual EBITDA with Inflation",null,null,null,null,null,"EUR",null,{"$f":"K20*K18*K10","v":0},{"$f":"L20*L18*L10","v":0},0,0,0,0,0,0,0,0,0,0,0,0,0,0,0,0,0,0,0,0,0,0,80000,80000,80000,80000,80000,80000,80000,80000,80000,80000,80000,80000,80000,80000,80000,80000,80000,80000,80000,80000,80000,80000,80000,80000,80000,80000,80000,80000,80000,80000,80000,80000,80000,80000,80000,80000,80000,80000,80000,80000,80000,{"$f":"BX20*BX18*BX10","v":80000},80000,80000,80000,80000,80000,80000,80000,80000,80000,80000,80000,80000,80000,80000,80000,80000,80000,80000,80000,80000,80000,80000,80000,80000,80000,80000,80000,80000,80000,80000,80000,80000,80000,80000,80000,80000,80000,80000,80000,80000,80000,80000,80000,80000,80000,80000,80000,80000,80000,80000,80000,80000,80000,80000,80000,80000,80000,80000,80000,80000,80000,80000,80000,{"$f":"EJ20*EJ18*EJ10","v":80000},80000,80000,80000,80000,80000,80000,80000,80000,80000,80000,80000,80000,80000,80000,80000,80000,80000,80000,80000,80000,80000,80000,80000,80000,80000,80000,80000,80000,80000,80000,80000,80000,80000,80000,80000,80000,80000,80000,80000,80000,80000,80000,80000,80000,80000,80000,80000,80000,80000,80000,80000,80000,80000,80000,80000,80000,80000,80000,80000,80000,80000,80000,80000,{"$f":"GV20*GV18*GV10","v":80000},80000,80000,80000,80000,80000,80000,80000,80000,80000,80000,80000,80000,80000,80000,80000,80000,80000,80000,80000,80000,80000,80000,80000,80000,80000,80000,80000,80000,80000,80000,80000,80000,80000,80000,80000,80000,80000,80000,80000,80000,80000,80000,80000,80000,80000,80000,80000,80000,80000,80000,80000,80000,80000,80000,80000,80000,80000,80000,80000,80000,80000,80000,80000,{"$f":"JH20*JH18*JH10","v":80000},80000,80000,80000,80000,80000,80000,80000,80000,80000,80000,80000,80000,80000,80000,80000,80000,80000,80000,80000,80000,80000,80000,80000,80000,80000,80000,80000,80000,80000,80000,80000,80000,80000,80000,80000,80000,80000,80000,80000,80000,80000,80000,80000,80000,80000,80000,80000,80000,80000,80000,80000,80000,80000,80000,80000,80000,80000,80000,80000,80000,80000,80000,80000,{"$f":"LT20*LT18*LT10","v":80000},80000,80000,80000,80000,80000,80000,80000,80000,80000,80000,80000,80000,80000,80000,80000,80000,80000,80000,80000,80000,80000,80000,80000,80000,80000,80000,80000,80000,80000,80000,80000,80000,80000,80000,80000,80000,80000,80000,80000,80000,80000,80000,80000,80000,80000,80000,80000,80000,80000,80000,80000,80000,80000,80000,80000,80000,80000,80000,80000,80000,80000,80000,80000,{"$f":"OF20*OF18*OF10","v":80000},80000,80000,80000,80000,80000,80000,80000,80000,80000,80000,80000,80000,80000,80000,80000,80000,80000,80000,80000,80000,80000,80000,80000,80000,80000,80000,80000,80000,80000,80000,80000,80000,80000,80000,80000,80000,80000,80000,80000,80000,80000,80000,80000,80000,80000,80000,80000,80000,80000,80000,80000,80000,80000,80000,80000,80000,80000,80000,80000,80000,80000,80000,80000,{"$f":"QR20*QR18*QR10","v":80000},80000,80000,80000,80000,80000,80000,80000,80000,80000,80000,80000,80000,80000,80000,80000,80000,80000,80000,80000,80000,80000,80000,80000,80000,80000,80000,80000,80000,80000,80000,80000,80000,80000,80000,80000,80000,80000,80000,80000,80000,80000,80000,80000,80000,80000,80000,80000,80000,80000,80000,80000,80000,80000,80000,80000,0,0,0,0,0,0,0,0,{"$f":"TD20*TD18*TD10","v":0},0,0,0,0,0,0,0,0,0,0,0,0,0,0,0,0,0,0,0,0,0,0,0,0,0,0,0,0,0,0,0,0,0,0,0,0,0]
[null,null,"Seasonal Factor",null,null,null,null,null,"%",null,{"$f":"InputS!J54","v":0.13500000000000001},{"$f":"InputS!K54","v":0.1},{"$f":"InputS!L54","v":0.08},{"$f":"InputS!M54","v":0.05},{"$f":"InputS!N54","v":0.04},{"$f":"InputS!O54","v":0.04},{"$f":"InputS!P54","v":0.05},{"$f":"InputS!Q54","v":6.5000000000000002E-2},{"$f":"InputS!R54","v":8.5000000000000006E-2},{"$f":"InputS!S54","v":0.09},{"$f":"InputS!T54","v":0.125},{"$f":"InputS!U54","v":0.14000000000000001},{"$f":"InputS!V54","v":0.13500000000000001},{"$f":"InputS!W54","v":0.1},{"$f":"InputS!X54","v":0.08},{"$f":"InputS!Y54","v":0.05},{"$f":"InputS!Z54","v":0.04},{"$f":"InputS!AA54","v":0.04},{"$f":"InputS!AB54","v":0.05},{"$f":"InputS!AC54","v":6.5000000000000002E-2},{"$f":"InputS!AD54","v":8.5000000000000006E-2},{"$f":"InputS!AE54","v":0.09},{"$f":"InputS!AF54","v":0.125},{"$f":"InputS!AG54","v":0.14000000000000001},{"$f":"InputS!AH54","v":0.13500000000000001},{"$f":"InputS!AI54","v":0.1},{"$f":"InputS!AJ54","v":0.08},{"$f":"InputS!AK54","v":0.05},{"$f":"InputS!AL54","v":0.04},{"$f":"InputS!AM54","v":0.04},{"$f":"InputS!AN54","v":0.05},{"$f":"InputS!AO54","v":6.5000000000000002E-2},{"$f":"InputS!AP54","v":8.5000000000000006E-2},{"$f":"InputS!AQ54","v":0.09},{"$f":"InputS!AR54","v":0.125},{"$f":"InputS!AS54","v":0.14000000000000001},{"$f":"InputS!AT54","v":0.13500000000000001},{"$f":"InputS!AU54","v":0.1},{"$f":"InputS!AV54","v":0.08},{"$f":"InputS!AW54","v":0.05},{"$f":"InputS!AX54","v":0.04},{"$f":"InputS!AY54","v":0.04},{"$f":"InputS!AZ54","v":0.05},{"$f":"InputS!BA54","v":6.5000000000000002E-2},{"$f":"InputS!BB54","v":8.5000000000000006E-2},{"$f":"InputS!BC54","v":0.09},{"$f":"InputS!BD54","v":0.125},{"$f":"InputS!BE54","v":0.14000000000000001},{"$f":"InputS!BF54","v":0.13500000000000001},{"$f":"InputS!BG54","v":0.1},{"$f":"InputS!BH54","v":0.08},{"$f":"InputS!BI54","v":0.05},{"$f":"InputS!BJ54","v":0.04},{"$f":"InputS!BK54","v":0.04},{"$f":"InputS!BL54","v":0.05},{"$f":"InputS!BM54","v":6.5000000000000002E-2},{"$f":"InputS!BN54","v":8.5000000000000006E-2},{"$f":"InputS!BO54","v":0.09},{"$f":"InputS!BP54","v":0.125},{"$f":"InputS!BQ54","v":0.14000000000000001},{"$f":"InputS!BR54","v":0.13500000000000001},{"$f":"InputS!BS54","v":0.1},{"$f":"InputS!BT54","v":0.08},{"$f":"InputS!BU54","v":0.05},{"$f":"InputS!BV54","v":0.04},{"$f":"InputS!BW54","v":0.04},{"$f":"InputS!BX54","v":0.05},{"$f":"InputS!BY54","v":6.5000000000000002E-2},{"$f":"InputS!BZ54","v":8.5000000000000006E-2},{"$f":"InputS!CA54","v":0.09},{"$f":"InputS!CB54","v":0.125},{"$f":"InputS!CC54","v":0.14000000000000001},{"$f":"InputS!CD54","v":0.13500000000000001},{"$f":"InputS!CE54","v":0.1},{"$f":"InputS!CF54","v":0.08},{"$f":"InputS!CG54","v":0.05},{"$f":"InputS!CH54","v":0.04},{"$f":"InputS!CI54","v":0.04},{"$f":"InputS!CJ54","v":0.05},{"$f":"InputS!CK54","v":6.5000000000000002E-2},{"$f":"InputS!CL54","v":8.5000000000000006E-2},{"$f":"InputS!CM54","v":0.09},{"$f":"InputS!CN54","v":0.125},{"$f":"InputS!CO54","v":0.14000000000000001},{"$f":"InputS!CP54","v":0.13500000000000001},{"$f":"InputS!CQ54","v":0.1},{"$f":"InputS!CR54","v":0.08},{"$f":"InputS!CS54","v":0.05},{"$f":"InputS!CT54","v":0.04},{"$f":"InputS!CU54","v":0.04},{"$f":"InputS!CV54","v":0.05},{"$f":"InputS!CW54","v":6.5000000000000002E-2},{"$f":"InputS!CX54","v":8.5000000000000006E-2},{"$f":"InputS!CY54","v":0.09},{"$f":"InputS!CZ54","v":0.125},{"$f":"InputS!DA54","v":0.14000000000000001},{"$f":"InputS!DB54","v":0.13500000000000001},{"$f":"InputS!DC54","v":0.1},{"$f":"InputS!DD54","v":0.08},{"$f":"InputS!DE54","v":0.05},{"$f":"InputS!DF54","v":0.04},{"$f":"InputS!DG54","v":0.04},{"$f":"InputS!DH54","v":0.05},{"$f":"InputS!DI54","v":6.5000000000000002E-2},{"$f":"InputS!DJ54","v":8.5000000000000006E-2},{"$f":"InputS!DK54","v":0.09},{"$f":"InputS!DL54","v":0.125},{"$f":"InputS!DM54","v":0.14000000000000001},{"$f":"InputS!DN54","v":0.13500000000000001},{"$f":"InputS!DO54","v":0.1},{"$f":"InputS!DP54","v":0.08},{"$f":"InputS!DQ54","v":0.05},{"$f":"InputS!DR54","v":0.04},{"$f":"InputS!DS54","v":0.04},{"$f":"InputS!DT54","v":0.05},{"$f":"InputS!DU54","v":6.5000000000000002E-2},{"$f":"InputS!DV54","v":8.5000000000000006E-2},{"$f":"InputS!DW54","v":0.09},{"$f":"InputS!DX54","v":0.125},{"$f":"InputS!DY54","v":0.14000000000000001},{"$f":"InputS!DZ54","v":0.13500000000000001},{"$f":"InputS!EA54","v":0.1},{"$f":"InputS!EB54","v":0.08},{"$f":"InputS!EC54","v":0.05},{"$f":"InputS!ED54","v":0.04},{"$f":"InputS!EE54","v":0.04},{"$f":"InputS!EF54","v":0.05},{"$f":"InputS!EG54","v":6.5000000000000002E-2},{"$f":"InputS!EH54","v":8.5000000000000006E-2},{"$f":"InputS!EI54","v":0.09},{"$f":"InputS!EJ54","v":0.125},{"$f":"InputS!EK54","v":0.14000000000000001},{"$f":"InputS!EL54","v":0.13500000000000001},{"$f":"InputS!EM54","v":0.1},{"$f":"InputS!EN54","v":0.08},{"$f":"InputS!EO54","v":0.05},{"$f":"InputS!EP54","v":0.04},{"$f":"InputS!EQ54","v":0.04},{"$f":"InputS!ER54","v":0.05},{"$f":"InputS!ES54","v":6.5000000000000002E-2},{"$f":"InputS!ET54","v":8.5000000000000006E-2},{"$f":"InputS!EU54","v":0.09},{"$f":"InputS!EV54","v":0.125},{"$f":"InputS!EW54","v":0.14000000000000001},{"$f":"InputS!EX54","v":0.13500000000000001},{"$f":"InputS!EY54","v":0.1},{"$f":"InputS!EZ54","v":0.08},{"$f":"InputS!FA54","v":0.05},{"$f":"InputS!FB54","v":0.04},{"$f":"InputS!FC54","v":0.04},{"$f":"InputS!FD54","v":0.05},{"$f":"InputS!FE54","v":6.5000000000000002E-2},{"$f":"InputS!FF54","v":8.5000000000000006E-2},{"$f":"InputS!FG54","v":0.09},{"$f":"InputS!FH54","v":0.125},{"$f":"InputS!FI54","v":0.14000000000000001},{"$f":"InputS!FJ54","v":0.13500000000000001},{"$f":"InputS!FK54","v":0.1},{"$f":"InputS!FL54","v":0.08},{"$f":"InputS!FM54","v":0.05},{"$f":"InputS!FN54","v":0.04},{"$f":"InputS!FO54","v":0.04},{"$f":"InputS!FP54","v":0.05},{"$f":"InputS!FQ54","v":6.5000000000000002E-2},{"$f":"InputS!FR54","v":8.5000000000000006E-2},{"$f":"InputS!FS54","v":0.09},{"$f":"InputS!FT54","v":0.125},{"$f":"InputS!FU54","v":0.14000000000000001},{"$f":"InputS!FV54","v":0.13500000000000001},{"$f":"InputS!FW54","v":0.1},{"$f":"InputS!FX54","v":0.08},{"$f":"InputS!FY54","v":0.05},{"$f":"InputS!FZ54","v":0.04},{"$f":"InputS!GA54","v":0.04},{"$f":"InputS!GB54","v":0.05},{"$f":"InputS!GC54","v":6.5000000000000002E-2},{"$f":"InputS!GD54","v":8.5000000000000006E-2},{"$f":"InputS!GE54","v":0.09},{"$f":"InputS!GF54","v":0.125},{"$f":"InputS!GG54","v":0.14000000000000001},{"$f":"InputS!GH54","v":0.13500000000000001},{"$f":"InputS!GI54","v":0.1},{"$f":"InputS!GJ54","v":0.08},{"$f":"InputS!GK54","v":0.05},{"$f":"InputS!GL54","v":0.04},{"$f":"InputS!GM54","v":0.04},{"$f":"InputS!GN54","v":0.05},{"$f":"InputS!GO54","v":6.5000000000000002E-2},{"$f":"InputS!GP54","v":8.5000000000000006E-2},{"$f":"InputS!GQ54","v":0.09},{"$f":"InputS!GR54","v":0.125},{"$f":"InputS!GS54","v":0.14000000000000001},{"$f":"InputS!GT54","v":0.13500000000000001},{"$f":"InputS!GU54","v":0.1},{"$f":"InputS!GV54","v":0.08},{"$f":"InputS!GW54","v":0.05},{"$f":"InputS!GX54","v":0.04},{"$f":"InputS!GY54","v":0.04},{"$f":"InputS!GZ54","v":0.05},{"$f":"InputS!HA54","v":6.5000000000000002E-2},{"$f":"InputS!HB54","v":8.5000000000000006E-2},{"$f":"InputS!HC54","v":0.09},{"$f":"InputS!HD54","v":0.125},{"$f":"InputS!HE54","v":0.14000000000000001},{"$f":"InputS!HF54","v":0.13500000000000001},{"$f":"InputS!HG54","v":0.1},{"$f":"InputS!HH54","v":0.08},{"$f":"InputS!HI54","v":0.05},{"$f":"InputS!HJ54","v":0.04},{"$f":"InputS!HK54","v":0.04},{"$f":"InputS!HL54","v":0.05},{"$f":"InputS!HM54","v":6.5000000000000002E-2},{"$f":"InputS!HN54","v":8.5000000000000006E-2},{"$f":"InputS!HO54","v":0.09},{"$f":"InputS!HP54","v":0.125},{"$f":"InputS!HQ54","v":0.14000000000000001},{"$f":"InputS!HR54","v":0.13500000000000001},{"$f":"InputS!HS54","v":0.1},{"$f":"InputS!HT54","v":0.08},{"$f":"InputS!HU54","v":0.05},{"$f":"InputS!HV54","v":0.04},{"$f":"InputS!HW54","v":0.04},{"$f":"InputS!HX54","v":0.05},{"$f":"InputS!HY54","v":6.5000000000000002E-2},{"$f":"InputS!HZ54","v":8.5000000000000006E-2},{"$f":"InputS!IA54","v":0.09},{"$f":"InputS!IB54","v":0.125},{"$f":"InputS!IC54","v":0.14000000000000001},{"$f":"InputS!ID54","v":0.13500000000000001},{"$f":"InputS!IE54","v":0.1},{"$f":"InputS!IF54","v":0.08},{"$f":"InputS!IG54","v":0.05},{"$f":"InputS!IH54","v":0.04},{"$f":"InputS!II54","v":0.04},{"$f":"InputS!IJ54","v":0.05},{"$f":"InputS!IK54","v":6.5000000000000002E-2},{"$f":"InputS!IL54","v":8.5000000000000006E-2},{"$f":"InputS!IM54","v":0.09},{"$f":"InputS!IN54","v":0.125},{"$f":"InputS!IO54","v":0.14000000000000001},{"$f":"InputS!IP54","v":0.13500000000000001},{"$f":"InputS!IQ54","v":0.1},{"$f":"InputS!IR54","v":0.08},{"$f":"InputS!IS54","v":0.05},{"$f":"InputS!IT54","v":0.04},{"$f":"InputS!IU54","v":0.04},{"$f":"InputS!IV54","v":0.05},{"$f":"InputS!IW54","v":6.5000000000000002E-2},{"$f":"InputS!IX54","v":8.5000000000000006E-2},{"$f":"InputS!IY54","v":0.09},{"$f":"InputS!IZ54","v":0.125},{"$f":"InputS!JA54","v":0.14000000000000001},{"$f":"InputS!JB54","v":0.13500000000000001},{"$f":"InputS!JC54","v":0.1},{"$f":"InputS!JD54","v":0.08},{"$f":"InputS!JE54","v":0.05},{"$f":"InputS!JF54","v":0.04},{"$f":"InputS!JG54","v":0.04},{"$f":"InputS!JH54","v":0.05},{"$f":"InputS!JI54","v":6.5000000000000002E-2},{"$f":"InputS!JJ54","v":8.5000000000000006E-2},{"$f":"InputS!JK54","v":0.09},{"$f":"InputS!JL54","v":0.125},{"$f":"InputS!JM54","v":0.14000000000000001},{"$f":"InputS!JN54","v":0.13500000000000001},{"$f":"InputS!JO54","v":0.1},{"$f":"InputS!JP54","v":0.08},{"$f":"InputS!JQ54","v":0.05},{"$f":"InputS!JR54","v":0.04},{"$f":"InputS!JS54","v":0.04},{"$f":"InputS!JT54","v":0.05},{"$f":"InputS!JU54","v":6.5000000000000002E-2},{"$f":"InputS!JV54","v":8.5000000000000006E-2},{"$f":"InputS!JW54","v":0.09},{"$f":"InputS!JX54","v":0.125},{"$f":"InputS!JY54","v":0.14000000000000001},{"$f":"InputS!JZ54","v":0.13500000000000001},{"$f":"InputS!KA54","v":0.1},{"$f":"InputS!KB54","v":0.08},{"$f":"InputS!KC54","v":0.05},{"$f":"InputS!KD54","v":0.04},{"$f":"InputS!KE54","v":0.04},{"$f":"InputS!KF54","v":0.05},{"$f":"InputS!KG54","v":6.5000000000000002E-2},{"$f":"InputS!KH54","v":8.5000000000000006E-2},{"$f":"InputS!KI54","v":0.09},{"$f":"InputS!KJ54","v":0.125},{"$f":"InputS!KK54","v":0.14000000000000001},{"$f":"InputS!KL54","v":0.13500000000000001},{"$f":"InputS!KM54","v":0.1},{"$f":"InputS!KN54","v":0.08},{"$f":"InputS!KO54","v":0.05},{"$f":"InputS!KP54","v":0.04},{"$f":"InputS!KQ54","v":0.04},{"$f":"InputS!KR54","v":0.05},{"$f":"InputS!KS54","v":6.5000000000000002E-2},{"$f":"InputS!KT54","v":8.5000000000000006E-2},{"$f":"InputS!KU54","v":0.09},{"$f":"InputS!KV54","v":0.125},{"$f":"InputS!KW54","v":0.14000000000000001},{"$f":"InputS!KX54","v":0.13500000000000001},{"$f":"InputS!KY54","v":0.1},{"$f":"InputS!KZ54","v":0.08},{"$f":"InputS!LA54","v":0.05},{"$f":"InputS!LB54","v":0.04},{"$f":"InputS!LC54","v":0.04},{"$f":"InputS!LD54","v":0.05},{"$f":"InputS!LE54","v":6.5000000000000002E-2},{"$f":"InputS!LF54","v":8.5000000000000006E-2},{"$f":"InputS!LG54","v":0.09},{"$f":"InputS!LH54","v":0.125},{"$f":"InputS!LI54","v":0.14000000000000001},{"$f":"InputS!LJ54","v":0.13500000000000001},{"$f":"InputS!LK54","v":0.1},{"$f":"InputS!LL54","v":0.08},{"$f":"InputS!LM54","v":0.05},{"$f":"InputS!LN54","v":0.04},{"$f":"InputS!LO54","v":0.04},{"$f":"InputS!LP54","v":0.05},{"$f":"InputS!LQ54","v":6.5000000000000002E-2},{"$f":"InputS!LR54","v":8.5000000000000006E-2},{"$f":"InputS!LS54","v":0.09},{"$f":"InputS!LT54","v":0.125},{"$f":"InputS!LU54","v":0.14000000000000001},{"$f":"InputS!LV54","v":0.13500000000000001},{"$f":"InputS!LW54","v":0.1},{"$f":"InputS!LX54","v":0.08},{"$f":"InputS!LY54","v":0.05},{"$f":"InputS!LZ54","v":0.04},{"$f":"InputS!MA54","v":0.04},{"$f":"InputS!MB54","v":0.05},{"$f":"InputS!MC54","v":6.5000000000000002E-2},{"$f":"InputS!MD54","v":8.5000000000000006E-2},{"$f":"InputS!ME54","v":0.09},{"$f":"InputS!MF54","v":0.125},{"$f":"InputS!MG54","v":0.14000000000000001},{"$f":"InputS!MH54","v":0.13500000000000001},{"$f":"InputS!MI54","v":0.1},{"$f":"InputS!MJ54","v":0.08},{"$f":"InputS!MK54","v":0.05},{"$f":"InputS!ML54","v":0.04},{"$f":"InputS!MM54","v":0.04},{"$f":"InputS!MN54","v":0.05},{"$f":"InputS!MO54","v":6.5000000000000002E-2},{"$f":"InputS!MP54","v":8.5000000000000006E-2},{"$f":"InputS!MQ54","v":0.09},{"$f":"InputS!MR54","v":0.125},{"$f":"InputS!MS54","v":0.14000000000000001},{"$f":"InputS!MT54","v":0.13500000000000001},{"$f":"InputS!MU54","v":0.1},{"$f":"InputS!MV54","v":0.08},{"$f":"InputS!MW54","v":0.05},{"$f":"InputS!MX54","v":0.04},{"$f":"InputS!MY54","v":0.04},{"$f":"InputS!MZ54","v":0.05},{"$f":"InputS!NA54","v":6.5000000000000002E-2},{"$f":"InputS!NB54","v":8.5000000000000006E-2},{"$f":"InputS!NC54","v":0.09},{"$f":"InputS!ND54","v":0.125},{"$f":"InputS!NE54","v":0.14000000000000001},{"$f":"InputS!NF54","v":0.13500000000000001},{"$f":"InputS!NG54","v":0.1},{"$f":"InputS!NH54","v":0.08},{"$f":"InputS!NI54","v":0.05},{"$f":"InputS!NJ54","v":0.04},{"$f":"InputS!NK54","v":0.04},{"$f":"InputS!NL54","v":0.05},{"$f":"InputS!NM54","v":6.5000000000000002E-2},{"$f":"InputS!NN54","v":8.5000000000000006E-2},{"$f":"InputS!NO54","v":0.09},{"$f":"InputS!NP54","v":0.125},{"$f":"InputS!NQ54","v":0.14000000000000001},{"$f":"InputS!NR54","v":0.13500000000000001},{"$f":"InputS!NS54","v":0.1},{"$f":"InputS!NT54","v":0.08},{"$f":"InputS!NU54","v":0.05},{"$f":"InputS!NV54","v":0.04},{"$f":"InputS!NW54","v":0.04},{"$f":"InputS!NX54","v":0.05},{"$f":"InputS!NY54","v":6.5000000000000002E-2},{"$f":"InputS!NZ54","v":8.5000000000000006E-2},{"$f":"InputS!OA54","v":0.09},{"$f":"InputS!OB54","v":0.125},{"$f":"InputS!OC54","v":0.14000000000000001},{"$f":"InputS!OD54","v":0.13500000000000001},{"$f":"InputS!OE54","v":0.1},{"$f":"InputS!OF54","v":0.08},{"$f":"InputS!OG54","v":0.05},{"$f":"InputS!OH54","v":0.04},{"$f":"InputS!OI54","v":0.04},{"$f":"InputS!OJ54","v":0.05},{"$f":"InputS!OK54","v":6.5000000000000002E-2},{"$f":"InputS!OL54","v":8.5000000000000006E-2},{"$f":"InputS!OM54","v":0.09},{"$f":"InputS!ON54","v":0.125},{"$f":"InputS!OO54","v":0.14000000000000001},{"$f":"InputS!OP54","v":0.13500000000000001},{"$f":"InputS!OQ54","v":0.1},{"$f":"InputS!OR54","v":0.08},{"$f":"InputS!OS54","v":0.05},{"$f":"InputS!OT54","v":0.04},{"$f":"InputS!OU54","v":0.04},{"$f":"InputS!OV54","v":0.05},{"$f":"InputS!OW54","v":6.5000000000000002E-2},{"$f":"InputS!OX54","v":8.5000000000000006E-2},{"$f":"InputS!OY54","v":0.09},{"$f":"InputS!OZ54","v":0.125},{"$f":"InputS!PA54","v":0.14000000000000001},{"$f":"InputS!PB54","v":0.13500000000000001},{"$f":"InputS!PC54","v":0.1},{"$f":"InputS!PD54","v":0.08},{"$f":"InputS!PE54","v":0.05},{"$f":"InputS!PF54","v":0.04},{"$f":"InputS!PG54","v":0.04},{"$f":"InputS!PH54","v":0.05},{"$f":"InputS!PI54","v":6.5000000000000002E-2},{"$f":"InputS!PJ54","v":8.5000000000000006E-2},{"$f":"InputS!PK54","v":0.09},{"$f":"InputS!PL54","v":0.125},{"$f":"InputS!PM54","v":0.14000000000000001},{"$f":"InputS!PN54","v":0.13500000000000001},{"$f":"InputS!PO54","v":0.1},{"$f":"InputS!PP54","v":0.08},{"$f":"InputS!PQ54","v":0.05},{"$f":"InputS!PR54","v":0.04},{"$f":"InputS!PS54","v":0.04},{"$f":"InputS!PT54","v":0.05},{"$f":"InputS!PU54","v":6.5000000000000002E-2},{"$f":"InputS!PV54","v":8.5000000000000006E-2},{"$f":"InputS!PW54","v":0.09},{"$f":"InputS!PX54","v":0.125},{"$f":"InputS!PY54","v":0.14000000000000001},{"$f":"InputS!PZ54","v":0.13500000000000001},{"$f":"InputS!QA54","v":0.1},{"$f":"InputS!QB54","v":0.08},{"$f":"InputS!QC54","v":0.05},{"$f":"InputS!QD54","v":0.04},{"$f":"InputS!QE54","v":0.04},{"$f":"InputS!QF54","v":0.05},{"$f":"InputS!QG54","v":6.5000000000000002E-2},{"$f":"InputS!QH54","v":8.5000000000000006E-2},{"$f":"InputS!QI54","v":0.09},{"$f":"InputS!QJ54","v":0.125},{"$f":"InputS!QK54","v":0.14000000000000001},{"$f":"InputS!QL54","v":0.13500000000000001},{"$f":"InputS!QM54","v":0.1},{"$f":"InputS!QN54","v":0.08},{"$f":"InputS!QO54","v":0.05},{"$f":"InputS!QP54","v":0.04},{"$f":"InputS!QQ54","v":0.04},{"$f":"InputS!QR54","v":0.05},{"$f":"InputS!QS54","v":6.5000000000000002E-2},{"$f":"InputS!QT54","v":8.5000000000000006E-2},{"$f":"InputS!QU54","v":0.09},{"$f":"InputS!QV54","v":0.125},{"$f":"InputS!QW54","v":0.14000000000000001},{"$f":"InputS!QX54","v":0.13500000000000001},{"$f":"InputS!QY54","v":0.1},{"$f":"InputS!QZ54","v":0.08},{"$f":"InputS!RA54","v":0.05},{"$f":"InputS!RB54","v":0.04},{"$f":"InputS!RC54","v":0.04},{"$f":"InputS!RD54","v":0.05},{"$f":"InputS!RE54","v":6.5000000000000002E-2},{"$f":"InputS!RF54","v":8.5000000000000006E-2},{"$f":"InputS!RG54","v":0.09},{"$f":"InputS!RH54","v":0.125},{"$f":"InputS!RI54","v":0.14000000000000001},{"$f":"InputS!RJ54","v":0.13500000000000001},{"$f":"InputS!RK54","v":0.1},{"$f":"InputS!RL54","v":0.08},{"$f":"InputS!RM54","v":0.05},{"$f":"InputS!RN54","v":0.04},{"$f":"InputS!RO54","v":0.04},{"$f":"InputS!RP54","v":0.05},{"$f":"InputS!RQ54","v":6.5000000000000002E-2},{"$f":"InputS!RR54","v":8.5000000000000006E-2},{"$f":"InputS!RS54","v":0.09},{"$f":"InputS!RT54","v":0.125},{"$f":"InputS!RU54","v":0.14000000000000001},{"$f":"InputS!RV54","v":0.13500000000000001},{"$f":"InputS!RW54","v":0.1},{"$f":"InputS!RX54","v":0.08},{"$f":"InputS!RY54","v":0.05},{"$f":"InputS!RZ54","v":0.04},{"$f":"InputS!SA54","v":0.04},{"$f":"InputS!SB54","v":0.05},{"$f":"InputS!SC54","v":6.5000000000000002E-2},{"$f":"InputS!SD54","v":8.5000000000000006E-2},{"$f":"InputS!SE54","v":0.09},{"$f":"InputS!SF54","v":0.125},{"$f":"InputS!SG54","v":0.14000000000000001},{"$f":"InputS!SH54","v":0.13500000000000001},{"$f":"InputS!SI54","v":0.1},{"$f":"InputS!SJ54","v":0.08},{"$f":"InputS!SK54","v":0.05},{"$f":"InputS!SL54","v":0.04},{"$f":"InputS!SM54","v":0.04},{"$f":"InputS!SN54","v":0.05},{"$f":"InputS!SO54","v":6.5000000000000002E-2},{"$f":"InputS!SP54","v":8.5000000000000006E-2},{"$f":"InputS!SQ54","v":0.09},{"$f":"InputS!SR54","v":0.125},{"$f":"InputS!SS54","v":0.14000000000000001},{"$f":"InputS!ST54","v":0.13500000000000001},{"$f":"InputS!SU54","v":0.1},{"$f":"InputS!SV54","v":0.08},{"$f":"InputS!SW54","v":0.05},{"$f":"InputS!SX54","v":0.04},{"$f":"InputS!SY54","v":0.04},{"$f":"InputS!SZ54","v":0.05},{"$f":"InputS!TA54","v":6.5000000000000002E-2},{"$f":"InputS!TB54","v":8.5000000000000006E-2},{"$f":"InputS!TC54","v":0.09},{"$f":"InputS!TD54","v":0.125},{"$f":"InputS!TE54","v":0.14000000000000001},{"$f":"InputS!TF54","v":0.13500000000000001},{"$f":"InputS!TG54","v":0.1},{"$f":"InputS!TH54","v":0.08},{"$f":"InputS!TI54","v":0.05},{"$f":"InputS!TJ54","v":0.04},{"$f":"InputS!TK54","v":0.04},{"$f":"InputS!TL54","v":0.05},{"$f":"InputS!TM54","v":6.5000000000000002E-2},{"$f":"InputS!TN54","v":8.5000000000000006E-2},{"$f":"InputS!TO54","v":0.09},{"$f":"InputS!TP54","v":0.125},{"$f":"InputS!TQ54","v":0.14000000000000001},{"$f":"InputS!TR54","v":0.13500000000000001},{"$f":"InputS!TS54","v":0.1},{"$f":"InputS!TT54","v":0.08},{"$f":"InputS!TU54","v":0.05},{"$f":"InputS!TV54","v":0.04},{"$f":"InputS!TW54","v":0.04},{"$f":"InputS!TX54","v":0.05},{"$f":"InputS!TY54","v":6.5000000000000002E-2},{"$f":"InputS!TZ54","v":8.5000000000000006E-2},{"$f":"InputS!UA54","v":0.09},{"$f":"InputS!UB54","v":0.125},{"$f":"InputS!UC54","v":0.14000000000000001},{"$f":"InputS!UD54","v":0.13500000000000001},{"$f":"InputS!UE54","v":0.1},{"$f":"InputS!UF54","v":0.08},{"$f":"InputS!UG54","v":0.05},{"$f":"InputS!UH54","v":0.04},{"$f":"InputS!UI54","v":0.04},{"$f":"InputS!UJ54","v":0.05},{"$f":"InputS!UK54","v":6.5000000000000002E-2},{"$f":"InputS!UL54","v":8.5000000000000006E-2},{"$f":"InputS!UM54","v":0.09},{"$f":"InputS!UN54","v":0}]
[null,null,"EBITDA for Period",null,null,null,null,null,"EUR",null,{"$f":"K21*K22","v":0},{"$f":"L21*L22","v":0},0,0,0,0,0,0,0,0,0,0,0,0,0,0,0,0,0,0,0,0,0,0,10800,8000,6400,4000,3200,3200,4000,5200,6800.0000000000009,7200,10000,11200.000000000002,10800,8000,6400,4000,3200,3200,4000,5200,6800.0000000000009,7200,10000,11200.000000000002,10800,8000,6400,4000,3200,3200,4000,5200,6800.0000000000009,7200,10000,11200.000000000002,10800,8000,6400,4000,3200,{"$f":"BX21*BX22","v":3200},4000,5200,6800.0000000000009,7200,10000,11200.000000000002,10800,8000,6400,4000,3200,3200,4000,5200,6800.0000000000009,7200,10000,11200.000000000002,10800,8000,6400,4000,3200,3200,4000,5200,6800.0000000000009,7200,10000,11200.000000000002,10800,8000,6400,4000,3200,3200,4000,5200,6800.0000000000009,7200,10000,11200.000000000002,10800,8000,6400,4000,3200,3200,4000,5200,6800.0000000000009,7200,10000,11200.000000000002,10800,8000,6400,4000,3200,3200,4000,5200,6800.0000000000009,{"$f":"EJ21*EJ22","v":7200},10000,11200.000000000002,10800,8000,6400,4000,3200,3200,4000,5200,6800.0000000000009,7200,10000,11200.000000000002,10800,8000,6400,4000,3200,3200,4000,5200,6800.0000000000009,7200,10000,11200.000000000002,10800,8000,6400,4000,3200,3200,4000,5200,6800.0000000000009,7200,10000,11200.000000000002,10800,8000,6400,4000,3200,3200,4000,5200,6800.0000000000009,7200,10000,11200.000000000002,10800,8000,6400,4000,3200,3200,4000,5200,6800.0000000000009,7200,10000,11200.000000000002,10800,{"$f":"GV21*GV22","v":8000},6400,4000,3200,3200,4000,5200,6800.0000000000009,7200,10000,11200.000000000002,10800,8000,6400,4000,3200,3200,4000,5200,6800.0000000000009,7200,10000,11200.000000000002,10800,8000,6400,4000,3200,3200,4000,5200,6800.0000000000009,7200,10000,11200.000000000002,10800,8000,6400,4000,3200,3200,4000,5200,6800.0000000000009,7200,10000,11200.000000000002,10800,8000,6400,4000,3200,3200,4000,5200,6800.0000000000009,7200,10000,11200.000000000002,10800,8000,6400,4000,3200,{"$f":"JH21*JH22","v":3200},4000,5200,6800.0000000000009,7200,10000,11200.000000000002,10800,8000,6400,4000,3200,3200,4000,5200,6800.0000000000009,7200,10000,11200.000000000002,10800,8000,6400,4000,3200,3200,4000,5200,6800.0000000000009,7200,10000,11200.000000000002,10800,8000,6400,4000,3200,3200,4000,5200,6800.0000000000009,7200,10000,11200.000000000002,10800,8000,6400,4000,3200,3200,4000,5200,6800.0000000000009,7200,10000,11200.000000000002,10800,8000,6400,4000,3200,3200,4000,5200,6800.0000000000009,{"$f":"LT21*LT22","v":7200},10000,11200.000000000002,10800,8000,6400,4000,3200,3200,4000,5200,6800.0000000000009,7200,10000,11200.000000000002,10800,8000,6400,4000,3200,3200,4000,5200,6800.0000000000009,7200,10000,11200.000000000002,10800,8000,6400,4000,3200,3200,4000,5200,6800.0000000000009,7200,10000,11200.000000000002,10800,8000,6400,4000,3200,3200,4000,5200,6800.0000000000009,7200,10000,11200.000000000002,10800,8000,6400,4000,3200,3200,4000,5200,6800.0000000000009,7200,10000,11200.000000000002,10800,{"$f":"OF21*OF22","v":8000},6400,4000,3200,3200,4000,5200,6800.0000000000009,7200,10000,11200.000000000002,10800,8000,6400,4000,3200,3200,4000,5200,6800.0000000000009,7200,10000,11200.000000000002,10800,8000,6400,4000,3200,3200,4000,5200,6800.0000000000009,7200,10000,11200.000000000002,10800,8000,6400,4000,3200,3200,4000,5200,6800.0000000000009,7200,10000,11200.000000000002,10800,8000,6400,4000,3200,3200,4000,5200,6800.0000000000009,7200,10000,11200.000000000002,10800,8000,6400,4000,3200,{"$f":"QR21*QR22","v":3200},4000,5200,6800.0000000000009,7200,10000,11200.000000000002,10800,8000,6400,4000,3200,3200,4000,5200,6800.0000000000009,7200,10000,11200.000000000002,10800,8000,6400,4000,3200,3200,4000,5200,6800.0000000000009,7200,10000,11200.000000000002,10800,8000,6400,4000,3200,3200,4000,5200,6800.0000000000009,7200,10000,11200.000000000002,10800,8000,6400,4000,3200,3200,4000,5200,6800.0000000000009,7200,10000,11200.000000000002,10800,0,0,0,0,0,0,0,0,{"$f":"TD21*TD22","v":0},0,0,0,0,0,0,0,0,0,0,0,0,0,0,0,0,0,0,0,0,0,0,0,0,0,0,0,0,0,0,0,0,0,0,0,0,0]
[]
[null,null,"Pre tax free cashflow",null,null,null,null,null,"EUR",null,{"$f":"K23-K16","v":-24691.358024691355},{"$f":"L23-L16","v":-41152.263374485592},-42524.005486968446,-41152.263374485592,-42524.005486968446,-42524.005486968446,-38408.779149519891,-42524.005486968446,-41152.263374485592,-42524.005486968446,-41152.263374485592,-42524.005486968446,-42524.005486968446,-41152.263374485592,-42524.005486968446,-41152.263374485592,-42524.005486968446,-42524.005486968446,-39780.521262002738,-42524.005486968446,-41152.263374485592,-42524.005486968446,-41152.263374485592,-42524.005486968446,-4289.1632373113844,8000,6400,4000,3200,3200,4000,5200,6800.0000000000009,7200,10000,11200.000000000002,10800,8000,6400,4000,3200,3200,4000,5200,6800.0000000000009,7200,10000,11200.000000000002,10800,8000,6400,4000,3200,3200,4000,5200,6800.0000000000009,7200,10000,11200.000000000002,10800,8000,6400,4000,3200,{"$f":"BX23-BX16","v":3200},4000,5200,6800.0000000000009,7200,10000,11200.000000000002,10800,8000,6400,4000,3200,3200,4000,5200,6800.0000000000009,7200,10000,11200.000000000002,10800,8000,6400,4000,3200,3200,4000,5200,6800.0000000000009,7200,10000,11200.000000000002,10800,8000,6400,4000,3200,3200,4000,5200,6800.0000000000009,7200,10000,11200.000000000002,10800,8000,6400,4000,3200,3200,4000,5200,6800.0000000000009,7200,10000,11200.000000000002,10800,8000,6400,4000,3200,3200,4000,5200,6800.0000000000009,{"$f":"EJ23-EJ16","v":7200},10000,11200.000000000002,10800,8000,6400,4000,3200,3200,4000,5200,6800.0000000000009,7200,10000,11200.000000000002,10800,8000,6400,4000,3200,3200,4000,5200,6800.0000000000009,7200,10000,11200.000000000002,10800,8000,6400,4000,3200,3200,4000,5200,6800.0000000000009,7200,10000,11200.000000000002,10800,8000,6400,4000,3200,3200,4000,5200,6800.0000000000009,7200,10000,11200.000000000002,10800,8000,6400,4000,3200,3200,4000,5200,6800.0000000000009,7200,10000,11200.000000000002,10800,{"$f":"GV23-GV16","v":8000},6400,4000,3200,3200,4000,5200,6800.0000000000009,7200,10000,11200.000000000002,10800,8000,6400,4000,3200,3200,4000,5200,6800.0000000000009,7200,10000,11200.000000000002,10800,8000,6400,4000,3200,3200,4000,5200,6800.0000000000009,7200,10000,11200.000000000002,10800,8000,6400,4000,3200,3200,4000,5200,6800.0000000000009,7200,10000,11200.000000000002,10800,8000,6400,4000,3200,3200,4000,5200,6800.0000000000009,7200,10000,11200.000000000002,10800,8000,6400,4000,3200,{"$f":"JH23-JH16","v":3200},4000,5200,6800.0000000000009,7200,10000,11200.000000000002,10800,8000,6400,4000,3200,3200,4000,5200,6800.0000000000009,7200,10000,11200.000000000002,10800,8000,6400,4000,3200,3200,4000,5200,6800.0000000000009,7200,10000,11200.000000000002,10800,8000,6400,4000,3200,3200,4000,5200,6800.0000000000009,7200,10000,11200.000000000002,10800,8000,6400,4000,3200,3200,4000,5200,6800.0000000000009,7200,10000,11200.000000000002,10800,8000,6400,4000,3200,3200,4000,5200,6800.0000000000009,{"$f":"LT23-LT16","v":7200},10000,11200.000000000002,10800,8000,6400,4000,3200,3200,4000,5200,6800.0000000000009,7200,10000,11200.000000000002,10800,8000,6400,4000,3200,3200,4000,5200,6800.0000000000009,7200,10000,11200.000000000002,10800,8000,6400,4000,3200,3200,4000,5200,6800.0000000000009,7200,10000,11200.000000000002,10800,8000,6400,4000,3200,3200,4000,5200,6800.0000000000009,7200,10000,11200.000000000002,10800,8000,6400,4000,3200,3200,4000,5200,6800.0000000000009,7200,10000,11200.000000000002,10800,{"$f":"OF23-OF16","v":8000},6400,4000,3200,3200,4000,5200,6800.0000000000009,7200,10000,11200.000000000002,10800,8000,6400,4000,3200,3200,4000,5200,6800.0000000000009,7200,10000,11200.000000000002,10800,8000,6400,4000,3200,3200,4000,5200,6800.0000000000009,7200,10000,11200.000000000002,10800,8000,6400,4000,3200,3200,4000,5200,6800.0000000000009,7200,10000,11200.000000000002,10800,8000,6400,4000,3200,3200,4000,5200,6800.0000000000009,7200,10000,11200.000000000002,10800,8000,6400,4000,3200,{"$f":"QR23-QR16","v":3200},4000,5200,6800.0000000000009,7200,10000,11200.000000000002,10800,8000,6400,4000,3200,3200,4000,5200,6800.0000000000009,7200,10000,11200.000000000002,10800,8000,6400,4000,3200,3200,4000,5200,6800.0000000000009,7200,10000,11200.000000000002,10800,8000,6400,4000,3200,3200,4000,5200,6800.0000000000009,7200,10000,11200.000000000002,10800,8000,6400,4000,3200,3200,4000,5200,6800.0000000000009,7200,10000,11200.000000000002,10800,0,0,0,0,0,0,0,0,{"$f":"TD23-TD16","v":0},0,0,0,0,0,0,0,0,0,0,0,0,0,0,0,0,0,0,0,0,0,0,0,0,0,0,0,0,0,0,0,0,0,0,0,0,0]
[null,null,"Pre tax XIRR",null,"%",{"$f":"XIRR(K25:UO25,K8:UO8)","v":7.255711853504182E-2},null,null,"%"]
[]
[]
[null,"Debt Sizing"]
[null,null,"Total Funding Requirements"]
[null,null,null,"Capital Expenditures",null,null,null,{"$f":"SUM(K31:XFD31)","v":999999.99999999965},"EUR",null,{"$f":"K16","v":24691.358024691355},{"$f":"L16","v":41152.263374485592},42524.005486968446,41152.263374485592,42524.005486968446,42524.005486968446,38408.779149519891,42524.005486968446,41152.263374485592,42524.005486968446,41152.263374485592,42524.005486968446,42524.005486968446,41152.263374485592,42524.005486968446,41152.263374485592,42524.005486968446,42524.005486968446,39780.521262002738,42524.005486968446,41152.263374485592,42524.005486968446,41152.263374485592,42524.005486968446,15089.163237311384,0,0,0,0,0,0,0,0,0,0,0,0,0,0,0,0,0,0,0,0,0,0,0,0,0,0,0,0,0,0,0,0,0,0,0,0,0,0,0,0,{"$f":"BX16","v":0},0,0,0,0,0,0,0,0,0,0,0,0,0,0,0,0,0,0,0,0,0,0,0,0,0,0,0,0,0,0,0,0,0,0,0,0,0,0,0,0,0,0,0,0,0,0,0,0,0,0,0,0,0,0,0,0,0,0,0,0,0,0,0,{"$f":"EJ16","v":0},0,0,0,0,0,0,0,0,0,0,0,0,0,0,0,0,0,0,0,0,0,0,0,0,0,0,0,0,0,0,0,0,0,0,0,0,0,0,0,0,0,0,0,0,0,0,0,0,0,0,0,0,0,0,0,0,0,0,0,0,0,0,0,{"$f":"GV16","v":0},0,0,0,0,0,0,0,0,0,0,0,0,0,0,0,0,0,0,0,0,0,0,0,0,0,0,0,0,0,0,0,0,0,0,0,0,0,0,0,0,0,0,0,0,0,0,0,0,0,0,0,0,0,0,0,0,0,0,0,0,0,0,0,{"$f":"JH16","v":0},0,0,0,0,0,0,0,0,0,0,0,0,0,0,0,0,0,0,0,0,0,0,0,0,0,0,0,0,0,0,0,0,0,0,0,0,0,0,0,0,0,0,0,0,0,0,0,0,0,0,0,0,0,0,0,0,0,0,0,0,0,0,0,{"$f":"LT16","v":0},0,0,0,0,0,0,0,0,0,0,0,0,0,0,0,0,0,0,0,0,0,0,0,0,0,0,0,0,0,0,0,0,0,0,0,0,0,0,0,0,0,0,0,0,0,0,0,0,0,0,0,0,0,0,0,0,0,0,0,0,0,0,0,{"$f":"OF16","v":0},0,0,0,0,0,0,0,0,0,0,0,0,0,0,0,0,0,0,0,0,0,0,0,0,0,0,0,0,0,0,0,0,0,0,0,0,0,0,0,0,0,0,0,0,0,0,0,0,0,0,0,0,0,0,0,0,0,0,0,0,0,0,0,{"$f":"QR16","v":0},0,0,0,0,0,0,0,0,0,0,0,0,0,0,0,0,0,0,0,0,0,0,0,0,0,0,0,0,0,0,0,0,0,0,0,0,0,0,0,0,0,0,0,0,0,0,0,0,0,0,0,0,0,0,0,0,0,0,0,0,0,0,0,{"$f":"TD16","v":0},0,0,0,0,0,0,0,0,0,0,0,0,0,0,0,0,0,0,0,0,0,0,0,0,0,0,0,0,0,0,0,0,0,0,0,0,0]
[null,null,null,"IDC",null,null,null,{"$f":"SUM(K32:XFD32)","v":0},"EUR"]
[null,null,null,"Up-Front Fees",null,null,null,{"$f":"SUM(K33:XFD33)","v":0},"EUR"]
[null,null,null,"Commitment Fees",null,null,null,{"$f":"SUM(K34:XFD34)","v":0},"EUR"]
[null,null,null,"Total Requirements",null,null,null,{"$f":"SUM(K35:XFD35)","v":999999.99999999965},"EUR",null,{"$f":"SUM(K31:K34)","v":24691.358024691355},{"$f":"SUM(L31:L34)","v":41152.263374485592},42524.005486968446,41152.263374485592,42524.005486968446,42524.005486968446,38408.779149519891,42524.005486968446,41152.263374485592,42524.005486968446,41152.263374485592,42524.005486968446,42524.005486968446,41152.263374485592,42524.005486968446,41152.263374485592,42524.005486968446,42524.005486968446,39780.521262002738,42524.005486968446,41152.263374485592,42524.005486968446,41152.263374485592,42524.005486968446,15089.163237311384,0,0,0,0,0,0,0,0,0,0,0,0,0,0,0,0,0,0,0,0,0,0,0,0,0,0,0,0,0,0,0,0,0,0,0,0,0,0,0,0,{"$f":"SUM(BX31:BX34)","v":0},0,0,0,0,0,0,0,0,0,0,0,0,0,0,0,0,0,0,0,0,0,0,0,0,0,0,0,0,0,0,0,0,0,0,0,0,0,0,0,0,0,0,0,0,0,0,0,0,0,0,0,0,0,0,0,0,0,0,0,0,0,0,0,{"$f":"SUM(EJ31:EJ34)","v":0},0,0,0,0,0,0,0,0,0,0,0,0,0,0,0,0,0,0,0,0,0,0,0,0,0,0,0,0,0,0,0,0,0,0,0,0,0,0,0,0,0,0,0,0,0,0,0,0,0,0,0,0,0,0,0,0,0,0,0,0,0,0,0,{"$f":"SUM(GV31:GV34)","v":0},0,0,0,0,0,0,0,0,0,0,0,0,0,0,0,0,0,0,0,0,0,0,0,0,0,0,0,0,0,0,0,0,0,0,0,0,0,0,0,0,0,0,0,0,0,0,0,0,0,0,0,0,0,0,0,0,0,0,0,0,0,0,0,{"$f":"SUM(JH31:JH34)","v":0},0,0,0,0,0,0,0,0,0,0,0,0,0,0,0,0,0,0,0,0,0,0,0,0,0,0,0,0,0,0,0,0,0,0,0,0,0,0,0,0,0,0,0,0,0,0,0,0,0,0,0,0,0,0,0,0,0,0,0,0,0,0,0,{"$f":"SUM(LT31:LT34)","v":0},0,0,0,0,0,0,0,0,0,0,0,0,0,0,0,0,0,0,0,0,0,0,0,0,0,0,0,0,0,0,0,0,0,0,0,0,0,0,0,0,0,0,0,0,0,0,0,0,0,0,0,0,0,0,0,0,0,0,0,0,0,0,0,{"$f":"SUM(OF31:OF34)","v":0},0,0,0,0,0,0,0,0,0,0,0,0,0,0,0,0,0,0,0,0,0,0,0,0,0,0,0,0,0,0,0,0,0,0,0,0,0,0,0,0,0,0,0,0,0,0,0,0,0,0,0,0,0,0,0,0,0,0,0,0,0,0,0,{"$f":"SUM(QR31:QR34)","v":0},0,0,0,0,0,0,0,0,0,0,0,0,0,0,0,0,0,0,0,0,0,0,0,0,0,0,0,0,0,0,0,0,0,0,0,0,0,0,0,0,0,0,0,0,0,0,0,0,0,0,0,0,0,0,0,0,0,0,0,0,0,0,0,{"$f":"SUM(TD31:TD34)","v":0},0,0,0,0,0,0,0,0,0,0,0,0,0,0,0,0,0,0,0,0,0,0,0,0,0,0,0,0,0,0,0,0,0,0,0,0,0]
[]
[null,null,"Total Funding Sources"]
[null,null,null,"Debt","%",{"$f":"'InputC Partial Month'!F26","v":0.8},null,{"$f":"SUM(K38:XFD38)","v":799999.99999999977},"EUR",null,{"$f":"$F$38*K35","v":19753.086419753086},{"$f":"$F$38*L35","v":32921.810699588474},34019.204389574756,32921.810699588474,34019.204389574756,34019.204389574756,30727.023319615913,34019.204389574756,32921.810699588474,34019.204389574756,32921.810699588474,34019.204389574756,34019.204389574756,32921.810699588474,34019.204389574756,32921.810699588474,34019.204389574756,34019.204389574756,31824.417009602192,34019.204389574756,32921.810699588474,34019.204389574756,32921.810699588474,34019.204389574756,12071.330589849109,0,0,0,0,0,0,0,0,0,0,0,0,0,0,0,0,0,0,0,0,0,0,0,0,0,0,0,0,0,0,0,0,0,0,0,0,0,0,0,0,{"$f":"$F$38*BX35","v":0},0,0,0,0,0,0,0,0,0,0,0,0,0,0,0,0,0,0,0,0,0,0,0,0,0,0,0,0,0,0,0,0,0,0,0,0,0,0,0,0,0,0,0,0,0,0,0,0,0,0,0,0,0,0,0,0,0,0,0,0,0,0,0,{"$f":"$F$38*EJ35","v":0},0,0,0,0,0,0,0,0,0,0,0,0,0,0,0,0,0,0,0,0,0,0,0,0,0,0,0,0,0,0,0,0,0,0,0,0,0,0,0,0,0,0,0,0,0,0,0,0,0,0,0,0,0,0,0,0,0,0,0,0,0,0,0,{"$f":"$F$38*GV35","v":0},0,0,0,0,0,0,0,0,0,0,0,0,0,0,0,0,0,0,0,0,0,0,0,0,0,0,0,0,0,0,0,0,0,0,0,0,0,0,0,0,0,0,0,0,0,0,0,0,0,0,0,0,0,0,0,0,0,0,0,0,0,0,0,{"$f":"$F$38*JH35","v":0},0,0,0,0,0,0,0,0,0,0,0,0,0,0,0,0,0,0,0,0,0,0,0,0,0,0,0,0,0,0,0,0,0,0,0,0,0,0,0,0,0,0,0,0,0,0,0,0,0,0,0,0,0,0,0,0,0,0,0,0,0,0,0,{"$f":"$F$38*LT35","v":0},0,0,0,0,0,0,0,0,0,0,0,0,0,0,0,0,0,0,0,0,0,0,0,0,0,0,0,0,0,0,0,0,0,0,0,0,0,0,0,0,0,0,0,0,0,0,0,0,0,0,0,0,0,0,0,0,0,0,0,0,0,0,0,{"$f":"$F$38*OF35","v":0},0,0,0,0,0,0,0,0,0,0,0,0,0,0,0,0,0,0,0,0,0,0,0,0,0,0,0,0,0,0,0,0,0,0,0,0,0,0,0,0,0,0,0,0,0,0,0,0,0,0,0,0,0,0,0,0,0,0,0,0,0,0,0,{"$f":"$F$38*QR35","v":0},0,0,0,0,0,0,0,0,0,0,0,0,0,0,0,0,0,0,0,0,0,0,0,0,0,0,0,0,0,0,0,0,0,0,0,0,0,0,0,0,0,0,0,0,0,0,0,0,0,0,0,0,0,0,0,0,0,0,0,0,0,0,0,{"$f":"$F$38*TD35","v":0},0,0,0,0,0,0,0,0,0,0,0,0,0,0,0,0,0,0,0,0,0,0,0,0,0,0,0,0,0,0,0,0,0,0,0,0,0]
[null,null,null,"Equity",null,null,null,{"$f":"SUM(K39:XFD39)","v":200000.00000000003},"EUR",null,{"$f":"K35-K38","v":4938.2716049382689},{"$f":"L35-L38","v":8230.4526748971184},8504.8010973936907,8230.4526748971184,8504.8010973936907,8504.8010973936907,7681.7558299039774,8504.8010973936907,8230.4526748971184,8504.8010973936907,8230.4526748971184,8504.8010973936907,8504.8010973936907,8230.4526748971184,8504.8010973936907,8230.4526748971184,8504.8010973936907,8504.8010973936907,7956.1042524005461,8504.8010973936907,8230.4526748971184,8504.8010973936907,8230.4526748971184,8504.8010973936907,3017.8326474622754,0,0,0,0,0,0,0,0,0,0,0,0,0,0,0,0,0,0,0,0,0,0,0,0,0,0,0,0,0,0,0,0,0,0,0,0,0,0,0,0,{"$f":"BX35-BX38","v":0},0,0,0,0,0,0,0,0,0,0,0,0,0,0,0,0,0,0,0,0,0,0,0,0,0,0,0,0,0,0,0,0,0,0,0,0,0,0,0,0,0,0,0,0,0,0,0,0,0,0,0,0,0,0,0,0,0,0,0,0,0,0,0,{"$f":"EJ35-EJ38","v":0},0,0,0,0,0,0,0,0,0,0,0,0,0,0,0,0,0,0,0,0,0,0,0,0,0,0,0,0,0,0,0,0,0,0,0,0,0,0,0,0,0,0,0,0,0,0,0,0,0,0,0,0,0,0,0,0,0,0,0,0,0,0,0,{"$f":"GV35-GV38","v":0},0,0,0,0,0,0,0,0,0,0,0,0,0,0,0,0,0,0,0,0,0,0,0,0,0,0,0,0,0,0,0,0,0,0,0,0,0,0,0,0,0,0,0,0,0,0,0,0,0,0,0,0,0,0,0,0,0,0,0,0,0,0,0,{"$f":"JH35-JH38","v":0},0,0,0,0,0,0,0,0,0,0,0,0,0,0,0,0,0,0,0,0,0,0,0,0,0,0,0,0,0,0,0,0,0,0,0,0,0,0,0,0,0,0,0,0,0,0,0,0,0,0,0,0,0,0,0,0,0,0,0,0,0,0,0,{"$f":"LT35-LT38","v":0},0,0,0,0,0,0,0,0,0,0,0,0,0,0,0,0,0,0,0,0,0,0,0,0,0,0,0,0,0,0,0,0,0,0,0,0,0,0,0,0,0,0,0,0,0,0,0,0,0,0,0,0,0,0,0,0,0,0,0,0,0,0,0,{"$f":"OF35-OF38","v":0},0,0,0,0,0,0,0,0,0,0,0,0,0,0,0,0,0,0,0,0,0,0,0,0,0,0,0,0,0,0,0,0,0,0,0,0,0,0,0,0,0,0,0,0,0,0,0,0,0,0,0,0,0,0,0,0,0,0,0,0,0,0,0,{"$f":"QR35-QR38","v":0},0,0,0,0,0,0,0,0,0,0,0,0,0,0,0,0,0,0,0,0,0,0,0,0,0,0,0,0,0,0,0,0,0,0,0,0,0,0,0,0,0,0,0,0,0,0,0,0,0,0,0,0,0,0,0,0,0,0,0,0,0,0,0,{"$f":"TD35-TD38","v":0},0,0,0,0,0,0,0,0,0,0,0,0,0,0,0,0,0,0,0,0,0,0,0,0,0,0,0,0,0,0,0,0,0,0,0,0,0]
[null,null,null,"Total Sources",null,null,null,{"$f":"SUM(K40:XFD40)","v":999999.99999999965},"EUR",null,{"$f":"SUM(K38:K39)","v":24691.358024691355},{"$f":"SUM(L38:L39)","v":41152.263374485592},42524.005486968446,41152.263374485592,42524.005486968446,42524.005486968446,38408.779149519891,42524.005486968446,41152.263374485592,42524.005486968446,41152.263374485592,42524.005486968446,42524.005486968446,41152.263374485592,42524.005486968446,41152.263374485592,42524.005486968446,42524.005486968446,39780.521262002738,42524.005486968446,41152.263374485592,42524.005486968446,41152.263374485592,42524.005486968446,15089.163237311384,0,0,0,0,0,0,0,0,0,0,0,0,0,0,0,0,0,0,0,0,0,0,0,0,0,0,0,0,0,0,0,0,0,0,0,0,0,0,0,0,{"$f":"SUM(BX38:BX39)","v":0},0,0,0,0,0,0,0,0,0,0,0,0,0,0,0,0,0,0,0,0,0,0,0,0,0,0,0,0,0,0,0,0,0,0,0,0,0,0,0,0,0,0,0,0,0,0,0,0,0,0,0,0,0,0,0,0,0,0,0,0,0,0,0,{"$f":"SUM(EJ38:EJ39)","v":0},0,0,0,0,0,0,0,0,0,0,0,0,0,0,0,0,0,0,0,0,0,0,0,0,0,0,0,0,0,0,0,0,0,0,0,0,0,0,0,0,0,0,0,0,0,0,0,0,0,0,0,0,0,0,0,0,0,0,0,0,0,0,0,{"$f":"SUM(GV38:GV39)","v":0},0,0,0,0,0,0,0,0,0,0,0,0,0,0,0,0,0,0,0,0,0,0,0,0,0,0,0,0,0,0,0,0,0,0,0,0,0,0,0,0,0,0,0,0,0,0,0,0,0,0,0,0,0,0,0,0,0,0,0,0,0,0,0,{"$f":"SUM(JH38:JH39)","v":0},0,0,0,0,0,0,0,0,0,0,0,0,0,0,0,0,0,0,0,0,0,0,0,0,0,0,0,0,0,0,0,0,0,0,0,0,0,0,0,0,0,0,0,0,0,0,0,0,0,0,0,0,0,0,0,0,0,0,0,0,0,0,0,{"$f":"SUM(LT38:LT39)","v":0},0,0,0,0,0,0,0,0,0,0,0,0,0,0,0,0,0,0,0,0,0,0,0,0,0,0,0,0,0,0,0,0,0,0,0,0,0,0,0,0,0,0,0,0,0,0,0,0,0,0,0,0,0,0,0,0,0,0,0,0,0,0,0,{"$f":"SUM(OF38:OF39)","v":0},0,0,0,0,0,0,0,0,0,0,0,0,0,0,0,0,0,0,0,0,0,0,0,0,0,0,0,0,0,0,0,0,0,0,0,0,0,0,0,0,0,0,0,0,0,0,0,0,0,0,0,0,0,0,0,0,0,0,0,0,0,0,0,{"$f":"SUM(QR38:QR39)","v":0},0,0,0,0,0,0,0,0,0,0,0,0,0,0,0,0,0,0,0,0,0,0,0,0,0,0,0,0,0,0,0,0,0,0,0,0,0,0,0,0,0,0,0,0,0,0,0,0,0,0,0,0,0,0,0,0,0,0,0,0,0,0,0,{"$f":"SUM(TD38:TD39)","v":0},0,0,0,0,0,0,0,0,0,0,0,0,0,0,0,0,0,0,0,0,0,0,0,0,0,0,0,0,0,0,0,0,0,0,0,0,0]
[]
[null,"Debt Repayment"]
[]
[null,null,"Debt Flags"]
[null,null,null,"Debt Repayment Periods","Years",{"$f":"'InputC Partial Month'!F38","v":"2028-08-01"},{"$f":"'InputC Partial Month'!F39","v":"2048-08-31"},{"$f":"SUM(K45:XFD45)","v":240},"Flag",null,{"$f":"(AND(K7>$F$45,K8<=$G$45))*1","v":0},{"$f":"(AND(L7>$F$45,L8<=$G$45))*1","v":0},{"$f":"(AND(M7>$F$45,M8<=$G$45))*1","v":0},{"$f":"(AND(N7>$F$45,N8<=$G$45))*1","v":0},{"$f":"(AND(O7>$F$45,O8<=$G$45))*1","v":0},{"$f":"(AND(P7>$F$45,P8<=$G$45))*1","v":0},{"$f":"(AND(Q7>$F$45,Q8<=$G$45))*1","v":0},{"$f":"(AND(R7>$F$45,R8<=$G$45))*1","v":0},{"$f":"(AND(S7>$F$45,S8<=$G$45))*1","v":0},{"$f":"(AND(T7>$F$45,T8<=$G$45))*1","v":0},{"$f":"(AND(U7>$F$45,U8<=$G$45))*1","v":0},{"$f":"(AND(V7>$F$45,V8<=$G$45))*1","v":0},{"$f":"(AND(W7>$F$45,W8<=$G$45))*1","v":0},{"$f":"(AND(X7>$F$45,X8<=$G$45))*1","v":0},{"$f":"(AND(Y7>$F$45,Y8<=$G$45))*1","v":0},{"$f":"(AND(Z7>$F$45,Z8<=$G$45))*1","v":0},{"$f":"(AND(AA7>$F$45,AA8<=$G$45))*1","v":0},{"$f":"(AND(AB7>$F$45,AB8<=$G$45))*1","v":0},{"$f":"(AND(AC7>$F$45,AC8<=$G$45))*1","v":0},{"$f":"(AND(AD7>$F$45,AD8<=$G$45))*1","v":0},{"$f":"(AND(AE7>$F$45,AE8<=$G$45))*1","v":0},{"$f":"(AND(AF7>$F$45,AF8<=$G$45))*1","v":0},{"$f":"(AND(AG7>$F$45,AG8<=$G$45))*1","v":0},{"$f":"(AND(AH7>$F$45,AH8<=$G$45))*1","v":0},{"$f":"(AND(AI7>$F$45,AI8<=$G$45))*1","v":0},{"$f":"(AND(AJ7>$F$45,AJ8<=$G$45))*1","v":1},{"$f":"(AND(AK7>$F$45,AK8<=$G$45))*1","v":1},{"$f":"(AND(AL7>$F$45,AL8<=$G$45))*1","v":1},{"$f":"(AND(AM7>$F$45,AM8<=$G$45))*1","v":1},{"$f":"(AND(AN7>$F$45,AN8<=$G$45))*1","v":1},{"$f":"(AND(AO7>$F$45,AO8<=$G$45))*1","v":1},{"$f":"(AND(AP7>$F$45,AP8<=$G$45))*1","v":1},{"$f":"(AND(AQ7>$F$45,AQ8<=$G$45))*1","v":1},{"$f":"(AND(AR7>$F$45,AR8<=$G$45))*1","v":1},{"$f":"(AND(AS7>$F$45,AS8<=$G$45))*1","v":1},{"$f":"(AND(AT7>$F$45,AT8<=$G$45))*1","v":1},{"$f":"(AND(AU7>$F$45,AU8<=$G$45))*1","v":1},{"$f":"(AND(AV7>$F$45,AV8<=$G$45))*1","v":1},{"$f":"(AND(AW7>$F$45,AW8<=$G$45))*1","v":1},{"$f":"(AND(AX7>$F$45,AX8<=$G$45))*1","v":1},{"$f":"(AND(AY7>$F$45,AY8<=$G$45))*1","v":1},{"$f":"(AND(AZ7>$F$45,AZ8<=$G$45))*1","v":1},{"$f":"(AND(BA7>$F$45,BA8<=$G$45))*1","v":1},{"$f":"(AND(BB7>$F$45,BB8<=$G$45))*1","v":1},{"$f":"(AND(BC7>$F$45,BC8<=$G$45))*1","v":1},{"$f":"(AND(BD7>$F$45,BD8<=$G$45))*1","v":1},{"$f":"(AND(BE7>$F$45,BE8<=$G$45))*1","v":1},{"$f":"(AND(BF7>$F$45,BF8<=$G$45))*1","v":1},{"$f":"(AND(BG7>$F$45,BG8<=$G$45))*1","v":1},{"$f":"(AND(BH7>$F$45,BH8<=$G$45))*1","v":1},{"$f":"(AND(BI7>$F$45,BI8<=$G$45))*1","v":1},{"$f":"(AND(BJ7>$F$45,BJ8<=$G$45))*1","v":1},{"$f":"(AND(BK7>$F$45,BK8<=$G$45))*1","v":1},{"$f":"(AND(BL7>$F$45,BL8<=$G$45))*1","v":1},{"$f":"(AND(BM7>$F$45,BM8<=$G$45))*1","v":1},{"$f":"(AND(BN7>$F$45,BN8<=$G$45))*1","v":1},{"$f":"(AND(BO7>$F$45,BO8<=$G$45))*1","v":1},{"$f":"(AND(BP7>$F$45,BP8<=$G$45))*1","v":1},{"$f":"(AND(BQ7>$F$45,BQ8<=$G$45))*1","v":1},{"$f":"(AND(BR7>$F$45,BR8<=$G$45))*1","v":1},{"$f":"(AND(BS7>$F$45,BS8<=$G$45))*1","v":1},{"$f":"(AND(BT7>$F$45,BT8<=$G$45))*1","v":1},{"$f":"(AND(BU7>$F$45,BU8<=$G$45))*1","v":1},{"$f":"(AND(BV7>$F$45,BV8<=$G$45))*1","v":1},{"$f":"(AND(BW7>$F$45,BW8<=$G$45))*1","v":1},{"$f":"(AND(BX7>$F$45,BX8<=$G$45))*1","v":1},{"$f":"(AND(BY7>$F$45,BY8<=$G$45))*1","v":1},{"$f":"(AND(BZ7>$F$45,BZ8<=$G$45))*1","v":1},{"$f":"(AND(CA7>$F$45,CA8<=$G$45))*1","v":1},{"$f":"(AND(CB7>$F$45,CB8<=$G$45))*1","v":1},{"$f":"(AND(CC7>$F$45,CC8<=$G$45))*1","v":1},{"$f":"(AND(CD7>$F$45,CD8<=$G$45))*1","v":1},{"$f":"(AND(CE7>$F$45,CE8<=$G$45))*1","v":1},{"$f":"(AND(CF7>$F$45,CF8<=$G$45))*1","v":1},{"$f":"(AND(CG7>$F$45,CG8<=$G$45))*1","v":1},{"$f":"(AND(CH7>$F$45,CH8<=$G$45))*1","v":1},{"$f":"(AND(CI7>$F$45,CI8<=$G$45))*1","v":1},{"$f":"(AND(CJ7>$F$45,CJ8<=$G$45))*1","v":1},{"$f":"(AND(CK7>$F$45,CK8<=$G$45))*1","v":1},{"$f":"(AND(CL7>$F$45,CL8<=$G$45))*1","v":1},{"$f":"(AND(CM7>$F$45,CM8<=$G$45))*1","v":1},{"$f":"(AND(CN7>$F$45,CN8<=$G$45))*1","v":1},{"$f":"(AND(CO7>$F$45,CO8<=$G$45))*1","v":1},{"$f":"(AND(CP7>$F$45,CP8<=$G$45))*1","v":1},{"$f":"(AND(CQ7>$F$45,CQ8<=$G$45))*1","v":1},{"$f":"(AND(CR7>$F$45,CR8<=$G$45))*1","v":1},{"$f":"(AND(CS7>$F$45,CS8<=$G$45))*1","v":1},{"$f":"(AND(CT7>$F$45,CT8<=$G$45))*1","v":1},{"$f":"(AND(CU7>$F$45,CU8<=$G$45))*1","v":1},{"$f":"(AND(CV7>$F$45,CV8<=$G$45))*1","v":1},{"$f":"(AND(CW7>$F$45,CW8<=$G$45))*1","v":1},{"$f":"(AND(CX7>$F$45,CX8<=$G$45))*1","v":1},{"$f":"(AND(CY7>$F$45,CY8<=$G$45))*1","v":1},{"$f":"(AND(CZ7>$F$45,CZ8<=$G$45))*1","v":1},{"$f":"(AND(DA7>$F$45,DA8<=$G$45))*1","v":1},{"$f":"(AND(DB7>$F$45,DB8<=$G$45))*1","v":1},{"$f":"(AND(DC7>$F$45,DC8<=$G$45))*1","v":1},{"$f":"(AND(DD7>$F$45,DD8<=$G$45))*1","v":1},{"$f":"(AND(DE7>$F$45,DE8<=$G$45))*1","v":1},{"$f":"(AND(DF7>$F$45,DF8<=$G$45))*1","v":1},{"$f":"(AND(DG7>$F$45,DG8<=$G$45))*1","v":1},{"$f":"(AND(DH7>$F$45,DH8<=$G$45))*1","v":1},{"$f":"(AND(DI7>$F$45,DI8<=$G$45))*1","v":1},{"$f":"(AND(DJ7>$F$45,DJ8<=$G$45))*1","v":1},{"$f":"(AND(DK7>$F$45,DK8<=$G$45))*1","v":1},{"$f":"(AND(DL7>$F$45,DL8<=$G$45))*1","v":1},{"$f":"(AND(DM7>$F$45,DM8<=$G$45))*1","v":1},{"$f":"(AND(DN7>$F$45,DN8<=$G$45))*1","v":1},{"$f":"(AND(DO7>$F$45,DO8<=$G$45))*1","v":1},{"$f":"(AND(DP7>$F$45,DP8<=$G$45))*1","v":1},{"$f":"(AND(DQ7>$F$45,DQ8<=$G$45))*1","v":1},{"$f":"(AND(DR7>$F$45,DR8<=$G$45))*1","v":1},{"$f":"(AND(DS7>$F$45,DS8<=$G$45))*1","v":1},{"$f":"(AND(DT7>$F$45,DT8<=$G$45))*1","v":1},{"$f":"(AND(DU7>$F$45,DU8<=$G$45))*1","v":1},{"$f":"(AND(DV7>$F$45,DV8<=$G$45))*1","v":1},{"$f":"(AND(DW7>$F$45,DW8<=$G$45))*1","v":1},{"$f":"(AND(DX7>$F$45,DX8<=$G$45))*1","v":1},{"$f":"(AND(DY7>$F$45,DY8<=$G$45))*1","v":1},{"$f":"(AND(DZ7>$F$45,DZ8<=$G$45))*1","v":1},{"$f":"(AND(EA7>$F$45,EA8<=$G$45))*1","v":1},{"$f":"(AND(EB7>$F$45,EB8<=$G$45))*1","v":1},{"$f":"(AND(EC7>$F$45,EC8<=$G$45))*1","v":1},{"$f":"(AND(ED7>$F$45,ED8<=$G$45))*1","v":1},{"$f":"(AND(EE7>$F$45,EE8<=$G$45))*1","v":1},{"$f":"(AND(EF7>$F$45,EF8<=$G$45))*1","v":1},{"$f":"(AND(EG7>$F$45,EG8<=$G$45))*1","v":1},{"$f":"(AND(EH7>$F$45,EH8<=$G$45))*1","v":1},{"$f":"(AND(EI7>$F$45,EI8<=$G$45))*1","v":1},{"$f":"(AND(EJ7>$F$45,EJ8<=$G$45))*1","v":1},{"$f":"(AND(EK7>$F$45,EK8<=$G$45))*1","v":1},{"$f":"(AND(EL7>$F$45,EL8<=$G$45))*1","v":1},{"$f":"(AND(EM7>$F$45,EM8<=$G$45))*1","v":1},{"$f":"(AND(EN7>$F$45,EN8<=$G$45))*1","v":1},{"$f":"(AND(EO7>$F$45,EO8<=$G$45))*1","v":1},{"$f":"(AND(EP7>$F$45,EP8<=$G$45))*1","v":1},{"$f":"(AND(EQ7>$F$45,EQ8<=$G$45))*1","v":1},{"$f":"(AND(ER7>$F$45,ER8<=$G$45))*1","v":1},{"$f":"(AND(ES7>$F$45,ES8<=$G$45))*1","v":1},{"$f":"(AND(ET7>$F$45,ET8<=$G$45))*1","v":1},{"$f":"(AND(EU7>$F$45,EU8<=$G$45))*1","v":1},{"$f":"(AND(EV7>$F$45,EV8<=$G$45))*1","v":1},{"$f":"(AND(EW7>$F$45,EW8<=$G$45))*1","v":1},{"$f":"(AND(EX7>$F$45,EX8<=$G$45))*1","v":1},{"$f":"(AND(EY7>$F$45,EY8<=$G$45))*1","v":1},{"$f":"(AND(EZ7>$F$45,EZ8<=$G$45))*1","v":1},{"$f":"(AND(FA7>$F$45,FA8<=$G$45))*1","v":1},{"$f":"(AND(FB7>$F$45,FB8<=$G$45))*1","v":1},{"$f":"(AND(FC7>$F$45,FC8<=$G$45))*1","v":1},{"$f":"(AND(FD7>$F$45,FD8<=$G$45))*1","v":1},{"$f":"(AND(FE7>$F$45,FE8<=$G$45))*1","v":1},{"$f":"(AND(FF7>$F$45,FF8<=$G$45))*1","v":1},{"$f":"(AND(FG7>$F$45,FG8<=$G$45))*1","v":1},{"$f":"(AND(FH7>$F$45,FH8<=$G$45))*1","v":1},{"$f":"(AND(FI7>$F$45,FI8<=$G$45))*1","v":1},{"$f":"(AND(FJ7>$F$45,FJ8<=$G$45))*1","v":1},{"$f":"(AND(FK7>$F$45,FK8<=$G$45))*1","v":1},{"$f":"(AND(FL7>$F$45,FL8<=$G$45))*1","v":1},{"$f":"(AND(FM7>$F$45,FM8<=$G$45))*1","v":1},{"$f":"(AND(FN7>$F$45,FN8<=$G$45))*1","v":1},{"$f":"(AND(FO7>$F$45,FO8<=$G$45))*1","v":1},{"$f":"(AND(FP7>$F$45,FP8<=$G$45))*1","v":1},{"$f":"(AND(FQ7>$F$45,FQ8<=$G$45))*1","v":1},{"$f":"(AND(FR7>$F$45,FR8<=$G$45))*1","v":1},{"$f":"(AND(FS7>$F$45,FS8<=$G$45))*1","v":1},{"$f":"(AND(FT7>$F$45,FT8<=$G$45))*1","v":1},{"$f":"(AND(FU7>$F$45,FU8<=$G$45))*1","v":1},{"$f":"(AND(FV7>$F$45,FV8<=$G$45))*1","v":1},{"$f":"(AND(FW7>$F$45,FW8<=$G$45))*1","v":1},{"$f":"(AND(FX7>$F$45,FX8<=$G$45))*1","v":1},{"$f":"(AND(FY7>$F$45,FY8<=$G$45))*1","v":1},{"$f":"(AND(FZ7>$F$45,FZ8<=$G$45))*1","v":1},{"$f":"(AND(GA7>$F$45,GA8<=$G$45))*1","v":1},{"$f":"(AND(GB7>$F$45,GB8<=$G$45))*1","v":1},{"$f":"(AND(GC7>$F$45,GC8<=$G$45))*1","v":1},{"$f":"(AND(GD7>$F$45,GD8<=$G$45))*1","v":1},{"$f":"(AND(GE7>$F$45,GE8<=$G$45))*1","v":1},{"$f":"(AND(GF7>$F$45,GF8<=$G$45))*1","v":1},{"$f":"(AND(GG7>$F$45,GG8<=$G$45))*1","v":1},{"$f":"(AND(GH7>$F$45,GH8<=$G$45))*1","v":1},{"$f":"(AND(GI7>$F$45,GI8<=$G$45))*1","v":1},{"$f":"(AND(GJ7>$F$45,GJ8<=$G$45))*1","v":1},{"$f":"(AND(GK7>$F$45,GK8<=$G$45))*1","v":1},{"$f":"(AND(GL7>$F$45,GL8<=$G$45))*1","v":1},{"$f":"(AND(GM7>$F$45,GM8<=$G$45))*1","v":1},{"$f":"(AND(GN7>$F$45,GN8<=$G$45))*1","v":1},{"$f":"(AND(GO7>$F$45,GO8<=$G$45))*1","v":1},{"$f":"(AND(GP7>$F$45,GP8<=$G$45))*1","v":1},{"$f":"(AND(GQ7>$F$45,GQ8<=$G$45))*1","v":1},{"$f":"(AND(GR7>$F$45,GR8<=$G$45))*1","v":1},{"$f":"(AND(GS7>$F$45,GS8<=$G$45))*1","v":1},{"$f":"(AND(GT7>$F$45,GT8<=$G$45))*1","v":1},{"$f":"(AND(GU7>$F$45,GU8<=$G$45))*1","v":1},{"$f":"(AND(GV7>$F$45,GV8<=$G$45))*1","v":1},{"$f":"(AND(GW7>$F$45,GW8<=$G$45))*1","v":1},{"$f":"(AND(GX7>$F$45,GX8<=$G$45))*1","v":1},{"$f":"(AND(GY7>$F$45,GY8<=$G$45))*1","v":1},{"$f":"(AND(GZ7>$F$45,GZ8<=$G$45))*1","v":1},{"$f":"(AND(HA7>$F$45,HA8<=$G$45))*1","v":1},{"$f":"(AND(HB7>$F$45,HB8<=$G$45))*1","v":1},{"$f":"(AND(HC7>$F$45,HC8<=$G$45))*1","v":1},{"$f":"(AND(HD7>$F$45,HD8<=$G$45))*1","v":1},{"$f":"(AND(HE7>$F$45,HE8<=$G$45))*1","v":1},{"$f":"(AND(HF7>$F$45,HF8<=$G$45))*1","v":1},{"$f":"(AND(HG7>$F$45,HG8<=$G$45))*1","v":1},{"$f":"(AND(HH7>$F$45,HH8<=$G$45))*1","v":1},{"$f":"(AND(HI7>$F$45,HI8<=$G$45))*1","v":1},{"$f":"(AND(HJ7>$F$45,HJ8<=$G$45))*1","v":1},{"$f":"(AND(HK7>$F$45,HK8<=$G$45))*1","v":1},{"$f":"(AND(HL7>$F$45,HL8<=$G$45))*1","v":1},{"$f":"(AND(HM7>$F$45,HM8<=$G$45))*1","v":1},{"$f":"(AND(HN7>$F$45,HN8<=$G$45))*1","v":1},{"$f":"(AND(HO7>$F$45,HO8<=$G$45))*1","v":1},{"$f":"(AND(HP7>$F$45,HP8<=$G$45))*1","v":1},{"$f":"(AND(HQ7>$F$45,HQ8<=$G$45))*1","v":1},{"$f":"(AND(HR7>$F$45,HR8<=$G$45))*1","v":1},{"$f":"(AND(HS7>$F$45,HS8<=$G$45))*1","v":1},{"$f":"(AND(HT7>$F$45,HT8<=$G$45))*1","v":1},{"$f":"(AND(HU7>$F$45,HU8<=$G$45))*1","v":1},{"$f":"(AND(HV7>$F$45,HV8<=$G$45))*1","v":1},{"$f":"(AND(HW7>$F$45,HW8<=$G$45))*1","v":1},{"$f":"(AND(HX7>$F$45,HX8<=$G$45))*1","v":1},{"$f":"(AND(HY7>$F$45,HY8<=$G$45))*1","v":1},{"$f":"(AND(HZ7>$F$45,HZ8<=$G$45))*1","v":1},{"$f":"(AND(IA7>$F$45,IA8<=$G$45))*1","v":1},{"$f":"(AND(IB7>$F$45,IB8<=$G$45))*1","v":1},{"$f":"(AND(IC7>$F$45,IC8<=$G$45))*1","v":1},{"$f":"(AND(ID7>$F$45,ID8<=$G$45))*1","v":1},{"$f":"(AND(IE7>$F$45,IE8<=$G$45))*1","v":1},{"$f":"(AND(IF7>$F$45,IF8<=$G$45))*1","v":1},{"$f":"(AND(IG7>$F$45,IG8<=$G$45))*1","v":1},{"$f":"(AND(IH7>$F$45,IH8<=$G$45))*1","v":1},{"$f":"(AND(II7>$F$45,II8<=$G$45))*1","v":1},{"$f":"(AND(IJ7>$F$45,IJ8<=$G$45))*1","v":1},{"$f":"(AND(IK7>$F$45,IK8<=$G$45))*1","v":1},{"$f":"(AND(IL7>$F$45,IL8<=$G$45))*1","v":1},{"$f":"(AND(IM7>$F$45,IM8<=$G$45))*1","v":1},{"$f":"(AND(IN7>$F$45,IN8<=$G$45))*1","v":1},{"$f":"(AND(IO7>$F$45,IO8<=$G$45))*1","v":1},{"$f":"(AND(IP7>$F$45,IP8<=$G$45))*1","v":1},{"$f":"(AND(IQ7>$F$45,IQ8<=$G$45))*1","v":1},{"$f":"(AND(IR7>$F$45,IR8<=$G$45))*1","v":1},{"$f":"(AND(IS7>$F$45,IS8<=$G$45))*1","v":1},{"$f":"(AND(IT7>$F$45,IT8<=$G$45))*1","v":1},{"$f":"(AND(IU7>$F$45,IU8<=$G$45))*1","v":1},{"$f":"(AND(IV7>$F$45,IV8<=$G$45))*1","v":1},{"$f":"(AND(IW7>$F$45,IW8<=$G$45))*1","v":1},{"$f":"(AND(IX7>$F$45,IX8<=$G$45))*1","v":1},{"$f":"(AND(IY7>$F$45,IY8<=$G$45))*1","v":1},{"$f":"(AND(IZ7>$F$45,IZ8<=$G$45))*1","v":1},{"$f":"(AND(JA7>$F$45,JA8<=$G$45))*1","v":1},{"$f":"(AND(JB7>$F$45,JB8<=$G$45))*1","v":1},{"$f":"(AND(JC7>$F$45,JC8<=$G$45))*1","v":1},{"$f":"(AND(JD7>$F$45,JD8<=$G$45))*1","v":1},{"$f":"(AND(JE7>$F$45,JE8<=$G$45))*1","v":1},{"$f":"(AND(JF7>$F$45,JF8<=$G$45))*1","v":1},{"$f":"(AND(JG7>$F$45,JG8<=$G$45))*1","v":1},{"$f":"(AND(JH7>$F$45,JH8<=$G$45))*1","v":1},{"$f":"(AND(JI7>$F$45,JI8<=$G$45))*1","v":1},{"$f":"(AND(JJ7>$F$45,JJ8<=$G$45))*1","v":1},{"$f":"(AND(JK7>$F$45,JK8<=$G$45))*1","v":1},{"$f":"(AND(JL7>$F$45,JL8<=$G$45))*1","v":1},{"$f":"(AND(JM7>$F$45,JM8<=$G$45))*1","v":1},{"$f":"(AND(JN7>$F$45,JN8<=$G$45))*1","v":1},{"$f":"(AND(JO7>$F$45,JO8<=$G$45))*1","v":1},{"$f":"(AND(JP7>$F$45,JP8<=$G$45))*1","v":0},{"$f":"(AND(JQ7>$F$45,JQ8<=$G$45))*1","v":0},{"$f":"(AND(JR7>$F$45,JR8<=$G$45))*1","v":0},{"$f":"(AND(JS7>$F$45,JS8<=$G$45))*1","v":0},{"$f":"(AND(JT7>$F$45,JT8<=$G$45))*1","v":0},{"$f":"(AND(JU7>$F$45,JU8<=$G$45))*1","v":0},{"$f":"(AND(JV7>$F$45,JV8<=$G$45))*1","v":0},{"$f":"(AND(JW7>$F$45,JW8<=$G$45))*1","v":0},{"$f":"(AND(JX7>$F$45,JX8<=$G$45))*1","v":0},{"$f":"(AND(JY7>$F$45,JY8<=$G$45))*1","v":0},{"$f":"(AND(JZ7>$F$45,JZ8<=$G$45))*1","v":0},{"$f":"(AND(KA7>$F$45,KA8<=$G$45))*1","v":0},{"$f":"(AND(KB7>$F$45,KB8<=$G$45))*1","v":0},{"$f":"(AND(KC7>$F$45,KC8<=$G$45))*1","v":0},{"$f":"(AND(KD7>$F$45,KD8<=$G$45))*1","v":0},{"$f":"(AND(KE7>$F$45,KE8<=$G$45))*1","v":0},{"$f":"(AND(KF7>$F$45,KF8<=$G$45))*1","v":0},{"$f":"(AND(KG7>$F$45,KG8<=$G$45))*1","v":0},{"$f":"(AND(KH7>$F$45,KH8<=$G$45))*1","v":0},{"$f":"(AND(KI7>$F$45,KI8<=$G$45))*1","v":0},{"$f":"(AND(KJ7>$F$45,KJ8<=$G$45))*1","v":0},{"$f":"(AND(KK7>$F$45,KK8<=$G$45))*1","v":0},{"$f":"(AND(KL7>$F$45,KL8<=$G$45))*1","v":0},{"$f":"(AND(KM7>$F$45,KM8<=$G$45))*1","v":0},{"$f":"(AND(KN7>$F$45,KN8<=$G$45))*1","v":0},{"$f":"(AND(KO7>$F$45,KO8<=$G$45))*1","v":0},{"$f":"(AND(KP7>$F$45,KP8<=$G$45))*1","v":0},{"$f":"(AND(KQ7>$F$45,KQ8<=$G$45))*1","v":0},{"$f":"(AND(KR7>$F$45,KR8<=$G$45))*1","v":0},{"$f":"(AND(KS7>$F$45,KS8<=$G$45))*1","v":0},{"$f":"(AND(KT7>$F$45,KT8<=$G$45))*1","v":0},{"$f":"(AND(KU7>$F$45,KU8<=$G$45))*1","v":0},{"$f":"(AND(KV7>$F$45,KV8<=$G$45))*1","v":0},{"$f":"(AND(KW7>$F$45,KW8<=$G$45))*1","v":0},{"$f":"(AND(KX7>$F$45,KX8<=$G$45))*1","v":0},{"$f":"(AND(KY7>$F$45,KY8<=$G$45))*1","v":0},{"$f":"(AND(KZ7>$F$45,KZ8<=$G$45))*1","v":0},{"$f":"(AND(LA7>$F$45,LA8<=$G$45))*1","v":0},{"$f":"(AND(LB7>$F$45,LB8<=$G$45))*1","v":0},{"$f":"(AND(LC7>$F$45,LC8<=$G$45))*1","v":0},{"$f":"(AND(LD7>$F$45,LD8<=$G$45))*1","v":0},{"$f":"(AND(LE7>$F$45,LE8<=$G$45))*1","v":0},{"$f":"(AND(LF7>$F$45,LF8<=$G$45))*1","v":0},{"$f":"(AND(LG7>$F$45,LG8<=$G$45))*1","v":0},{"$f":"(AND(LH7>$F$45,LH8<=$G$45))*1","v":0},{"$f":"(AND(LI7>$F$45,LI8<=$G$45))*1","v":0},{"$f":"(AND(LJ7>$F$45,LJ8<=$G$45))*1","v":0},{"$f":"(AND(LK7>$F$45,LK8<=$G$45))*1","v":0},{"$f":"(AND(LL7>$F$45,LL8<=$G$45))*1","v":0},{"$f":"(AND(LM7>$F$45,LM8<=$G$45))*1","v":0},{"$f":"(AND(LN7>$F$45,LN8<=$G$45))*1","v":0},{"$f":"(AND(LO7>$F$45,LO8<=$G$45))*1","v":0},{"$f":"(AND(LP7>$F$45,LP8<=$G$45))*1","v":0},{"$f":"(AND(LQ7>$F$45,LQ8<=$G$45))*1","v":0},{"$f":"(AND(LR7>$F$45,LR8<=$G$45))*1","v":0},{"$f":"(AND(LS7>$F$45,LS8<=$G$45))*1","v":0},{"$f":"(AND(LT7>$F$45,LT8<=$G$45))*1","v":0},{"$f":"(AND(LU7>$F$45,LU8<=$G$45))*1","v":0},{"$f":"(AND(LV7>$F$45,LV8<=$G$45))*1","v":0},{"$f":"(AND(LW7>$F$45,LW8<=$G$45))*1","v":0},{"$f":"(AND(LX7>$F$45,LX8<=$G$45))*1","v":0},{"$f":"(AND(LY7>$F$45,LY8<=$G$45))*1","v":0},{"$f":"(AND(LZ7>$F$45,LZ8<=$G$45))*1","v":0},{"$f":"(AND(MA7>$F$45,MA8<=$G$45))*1","v":0},{"$f":"(AND(MB7>$F$45,MB8<=$G$45))*1","v":0},{"$f":"(AND(MC7>$F$45,MC8<=$G$45))*1","v":0},{"$f":"(AND(MD7>$F$45,MD8<=$G$45))*1","v":0},{"$f":"(AND(ME7>$F$45,ME8<=$G$45))*1","v":0},{"$f":"(AND(MF7>$F$45,MF8<=$G$45))*1","v":0},{"$f":"(AND(MG7>$F$45,MG8<=$G$45))*1","v":0},{"$f":"(AND(MH7>$F$45,MH8<=$G$45))*1","v":0},{"$f":"(AND(MI7>$F$45,MI8<=$G$45))*1","v":0},{"$f":"(AND(MJ7>$F$45,MJ8<=$G$45))*1","v":0},{"$f":"(AND(MK7>$F$45,MK8<=$G$45))*1","v":0},{"$f":"(AND(ML7>$F$45,ML8<=$G$45))*1","v":0},{"$f":"(AND(MM7>$F$45,MM8<=$G$45))*1","v":0},{"$f":"(AND(MN7>$F$45,MN8<=$G$45))*1","v":0},{"$f":"(AND(MO7>$F$45,MO8<=$G$45))*1","v":0},{"$f":"(AND(MP7>$F$45,MP8<=$G$45))*1","v":0},{"$f":"(AND(MQ7>$F$45,MQ8<=$G$45))*1","v":0},{"$f":"(AND(MR7>$F$45,MR8<=$G$45))*1","v":0},{"$f":"(AND(MS7>$F$45,MS8<=$G$45))*1","v":0},{"$f":"(AND(MT7>$F$45,MT8<=$G$45))*1","v":0},{"$f":"(AND(MU7>$F$45,MU8<=$G$45))*1","v":0},{"$f":"(AND(MV7>$F$45,MV8<=$G$45))*1","v":0},{"$f":"(AND(MW7>$F$45,MW8<=$G$45))*1","v":0},{"$f":"(AND(MX7>$F$45,MX8<=$G$45))*1","v":0},{"$f":"(AND(MY7>$F$45,MY8<=$G$45))*1","v":0},{"$f":"(AND(MZ7>$F$45,MZ8<=$G$45))*1","v":0},{"$f":"(AND(NA7>$F$45,NA8<=$G$45))*1","v":0},{"$f":"(AND(NB7>$F$45,NB8<=$G$45))*1","v":0},{"$f":"(AND(NC7>$F$45,NC8<=$G$45))*1","v":0},{"$f":"(AND(ND7>$F$45,ND8<=$G$45))*1","v":0},{"$f":"(AND(NE7>$F$45,NE8<=$G$45))*1","v":0},{"$f":"(AND(NF7>$F$45,NF8<=$G$45))*1","v":0},{"$f":"(AND(NG7>$F$45,NG8<=$G$45))*1","v":0},{"$f":"(AND(NH7>$F$45,NH8<=$G$45))*1","v":0},{"$f":"(AND(NI7>$F$45,NI8<=$G$45))*1","v":0},{"$f":"(AND(NJ7>$F$45,NJ8<=$G$45))*1","v":0},{"$f":"(AND(NK7>$F$45,NK8<=$G$45))*1","v":0},{"$f":"(AND(NL7>$F$45,NL8<=$G$45))*1","v":0},{"$f":"(AND(NM7>$F$45,NM8<=$G$45))*1","v":0},{"$f":"(AND(NN7>$F$45,NN8<=$G$45))*1","v":0},{"$f":"(AND(NO7>$F$45,NO8<=$G$45))*1","v":0},{"$f":"(AND(NP7>$F$45,NP8<=$G$45))*1","v":0},{"$f":"(AND(NQ7>$F$45,NQ8<=$G$45))*1","v":0},{"$f":"(AND(NR7>$F$45,NR8<=$G$45))*1","v":0},{"$f":"(AND(NS7>$F$45,NS8<=$G$45))*1","v":0},{"$f":"(AND(NT7>$F$45,NT8<=$G$45))*1","v":0},{"$f":"(AND(NU7>$F$45,NU8<=$G$45))*1","v":0},{"$f":"(AND(NV7>$F$45,NV8<=$G$45))*1","v":0},{"$f":"(AND(NW7>$F$45,NW8<=$G$45))*1","v":0},{"$f":"(AND(NX7>$F$45,NX8<=$G$45))*1","v":0},{"$f":"(AND(NY7>$F$45,NY8<=$G$45))*1","v":0},{"$f":"(AND(NZ7>$F$45,NZ8<=$G$45))*1","v":0},{"$f":"(AND(OA7>$F$45,OA8<=$G$45))*1","v":0},{"$f":"(AND(OB7>$F$45,OB8<=$G$45))*1","v":0},{"$f":"(AND(OC7>$F$45,OC8<=$G$45))*1","v":0},{"$f":"(AND(OD7>$F$45,OD8<=$G$45))*1","v":0},{"$f":"(AND(OE7>$F$45,OE8<=$G$45))*1","v":0},{"$f":"(AND(OF7>$F$45,OF8<=$G$45))*1","v":0},{"$f":"(AND(OG7>$F$45,OG8<=$G$45))*1","v":0},{"$f":"(AND(OH7>$F$45,OH8<=$G$45))*1","v":0},{"$f":"(AND(OI7>$F$45,OI8<=$G$45))*1","v":0},{"$f":"(AND(OJ7>$F$45,OJ8<=$G$45))*1","v":0},{"$f":"(AND(OK7>$F$45,OK8<=$G$45))*1","v":0},{"$f":"(AND(OL7>$F$45,OL8<=$G$45))*1","v":0},{"$f":"(AND(OM7>$F$45,OM8<=$G$45))*1","v":0},{"$f":"(AND(ON7>$F$45,ON8<=$G$45))*1","v":0},{"$f":"(AND(OO7>$F$45,OO8<=$G$45))*1","v":0},{"$f":"(AND(OP7>$F$45,OP8<=$G$45))*1","v":0},{"$f":"(AND(OQ7>$F$45,OQ8<=$G$45))*1","v":0},{"$f":"(AND(OR7>$F$45,OR8<=$G$45))*1","v":0},{"$f":"(AND(OS7>$F$45,OS8<=$G$45))*1","v":0},{"$f":"(AND(OT7>$F$45,OT8<=$G$45))*1","v":0},{"$f":"(AND(OU7>$F$45,OU8<=$G$45))*1","v":0},{"$f":"(AND(OV7>$F$45,OV8<=$G$45))*1","v":0},{"$f":"(AND(OW7>$F$45,OW8<=$G$45))*1","v":0},{"$f":"(AND(OX7>$F$45,OX8<=$G$45))*1","v":0},{"$f":"(AND(OY7>$F$45,OY8<=$G$45))*1","v":0},{"$f":"(AND(OZ7>$F$45,OZ8<=$G$45))*1","v":0},{"$f":"(AND(PA7>$F$45,PA8<=$G$45))*1","v":0},{"$f":"(AND(PB7>$F$45,PB8<=$G$45))*1","v":0},{"$f":"(AND(PC7>$F$45,PC8<=$G$45))*1","v":0},{"$f":"(AND(PD7>$F$45,PD8<=$G$45))*1","v":0},{"$f":"(AND(PE7>$F$45,PE8<=$G$45))*1","v":0},{"$f":"(AND(PF7>$F$45,PF8<=$G$45))*1","v":0},{"$f":"(AND(PG7>$F$45,PG8<=$G$45))*1","v":0},{"$f":"(AND(PH7>$F$45,PH8<=$G$45))*1","v":0},{"$f":"(AND(PI7>$F$45,PI8<=$G$45))*1","v":0},{"$f":"(AND(PJ7>$F$45,PJ8<=$G$45))*1","v":0},{"$f":"(AND(PK7>$F$45,PK8<=$G$45))*1","v":0},{"$f":"(AND(PL7>$F$45,PL8<=$G$45))*1","v":0},{"$f":"(AND(PM7>$F$45,PM8<=$G$45))*1","v":0},{"$f":"(AND(PN7>$F$45,PN8<=$G$45))*1","v":0},{"$f":"(AND(PO7>$F$45,PO8<=$G$45))*1","v":0},{"$f":"(AND(PP7>$F$45,PP8<=$G$45))*1","v":0},{"$f":"(AND(PQ7>$F$45,PQ8<=$G$45))*1","v":0},{"$f":"(AND(PR7>$F$45,PR8<=$G$45))*1","v":0},{"$f":"(AND(PS7>$F$45,PS8<=$G$45))*1","v":0},{"$f":"(AND(PT7>$F$45,PT8<=$G$45))*1","v":0},{"$f":"(AND(PU7>$F$45,PU8<=$G$45))*1","v":0},{"$f":"(AND(PV7>$F$45,PV8<=$G$45))*1","v":0},{"$f":"(AND(PW7>$F$45,PW8<=$G$45))*1","v":0},{"$f":"(AND(PX7>$F$45,PX8<=$G$45))*1","v":0},{"$f":"(AND(PY7>$F$45,PY8<=$G$45))*1","v":0},{"$f":"(AND(PZ7>$F$45,PZ8<=$G$45))*1","v":0},{"$f":"(AND(QA7>$F$45,QA8<=$G$45))*1","v":0},{"$f":"(AND(QB7>$F$45,QB8<=$G$45))*1","v":0},{"$f":"(AND(QC7>$F$45,QC8<=$G$45))*1","v":0},{"$f":"(AND(QD7>$F$45,QD8<=$G$45))*1","v":0},{"$f":"(AND(QE7>$F$45,QE8<=$G$45))*1","v":0},{"$f":"(AND(QF7>$F$45,QF8<=$G$45))*1","v":0},{"$f":"(AND(QG7>$F$45,QG8<=$G$45))*1","v":0},{"$f":"(AND(QH7>$F$45,QH8<=$G$45))*1","v":0},{"$f":"(AND(QI7>$F$45,QI8<=$G$45))*1","v":0},{"$f":"(AND(QJ7>$F$45,QJ8<=$G$45))*1","v":0},{"$f":"(AND(QK7>$F$45,QK8<=$G$45))*1","v":0},{"$f":"(AND(QL7>$F$45,QL8<=$G$45))*1","v":0},{"$f":"(AND(QM7>$F$45,QM8<=$G$45))*1","v":0},{"$f":"(AND(QN7>$F$45,QN8<=$G$45))*1","v":0},{"$f":"(AND(QO7>$F$45,QO8<=$G$45))*1","v":0},{"$f":"(AND(QP7>$F$45,QP8<=$G$45))*1","v":0},{"$f":"(AND(QQ7>$F$45,QQ8<=$G$45))*1","v":0},{"$f":"(AND(QR7>$F$45,QR8<=$G$45))*1","v":0},{"$f":"(AND(QS7>$F$45,QS8<=$G$45))*1","v":0},{"$f":"(AND(QT7>$F$45,QT8<=$G$45))*1","v":0},{"$f":"(AND(QU7>$F$45,QU8<=$G$45))*1","v":0},{"$f":"(AND(QV7>$F$45,QV8<=$G$45))*1","v":0},{"$f":"(AND(QW7>$F$45,QW8<=$G$45))*1","v":0},{"$f":"(AND(QX7>$F$45,QX8<=$G$45))*1","v":0},{"$f":"(AND(QY7>$F$45,QY8<=$G$45))*1","v":0},{"$f":"(AND(QZ7>$F$45,QZ8<=$G$45))*1","v":0},{"$f":"(AND(RA7>$F$45,RA8<=$G$45))*1","v":0},{"$f":"(AND(RB7>$F$45,RB8<=$G$45))*1","v":0},{"$f":"(AND(RC7>$F$45,RC8<=$G$45))*1","v":0},{"$f":"(AND(RD7>$F$45,RD8<=$G$45))*1","v":0},{"$f":"(AND(RE7>$F$45,RE8<=$G$45))*1","v":0},{"$f":"(AND(RF7>$F$45,RF8<=$G$45))*1","v":0},{"$f":"(AND(RG7>$F$45,RG8<=$G$45))*1","v":0},{"$f":"(AND(RH7>$F$45,RH8<=$G$45))*1","v":0},{"$f":"(AND(RI7>$F$45,RI8<=$G$45))*1","v":0},{"$f":"(AND(RJ7>$F$45,RJ8<=$G$45))*1","v":0},{"$f":"(AND(RK7>$F$45,RK8<=$G$45))*1","v":0},{"$f":"(AND(RL7>$F$45,RL8<=$G$45))*1","v":0},{"$f":"(AND(RM7>$F$45,RM8<=$G$45))*1","v":0},{"$f":"(AND(RN7>$F$45,RN8<=$G$45))*1","v":0},{"$f":"(AND(RO7>$F$45,RO8<=$G$45))*1","v":0},{"$f":"(AND(RP7>$F$45,RP8<=$G$45))*1","v":0},{"$f":"(AND(RQ7>$F$45,RQ8<=$G$45))*1","v":0},{"$f":"(AND(RR7>$F$45,RR8<=$G$45))*1","v":0},{"$f":"(AND(RS7>$F$45,RS8<=$G$45))*1","v":0},{"$f":"(AND(RT7>$F$45,RT8<=$G$45))*1","v":0},{"$f":"(AND(RU7>$F$45,RU8<=$G$45))*1","v":0},{"$f":"(AND(RV7>$F$45,RV8<=$G$45))*1","v":0},{"$f":"(AND(RW7>$F$45,RW8<=$G$45))*1","v":0},{"$f":"(AND(RX7>$F$45,RX8<=$G$45))*1","v":0},{"$f":"(AND(RY7>$F$45,RY8<=$G$45))*1","v":0},{"$f":"(AND(RZ7>$F$45,RZ8<=$G$45))*1","v":0},{"$f":"(AND(SA7>$F$45,SA8<=$G$45))*1","v":0},{"$f":"(AND(SB7>$F$45,SB8<=$G$45))*1","v":0},{"$f":"(AND(SC7>$F$45,SC8<=$G$45))*1","v":0},{"$f":"(AND(SD7>$F$45,SD8<=$G$45))*1","v":0},{"$f":"(AND(SE7>$F$45,SE8<=$G$45))*1","v":0},{"$f":"(AND(SF7>$F$45,SF8<=$G$45))*1","v":0},{"$f":"(AND(SG7>$F$45,SG8<=$G$45))*1","v":0},{"$f":"(AND(SH7>$F$45,SH8<=$G$45))*1","v":0},{"$f":"(AND(SI7>$F$45,SI8<=$G$45))*1","v":0},{"$f":"(AND(SJ7>$F$45,SJ8<=$G$45))*1","v":0},{"$f":"(AND(SK7>$F$45,SK8<=$G$45))*1","v":0},{"$f":"(AND(SL7>$F$45,SL8<=$G$45))*1","v":0},{"$f":"(AND(SM7>$F$45,SM8<=$G$45))*1","v":0},{"$f":"(AND(SN7>$F$45,SN8<=$G$45))*1","v":0},{"$f":"(AND(SO7>$F$45,SO8<=$G$45))*1","v":0},{"$f":"(AND(SP7>$F$45,SP8<=$G$45))*1","v":0},{"$f":"(AND(SQ7>$F$45,SQ8<=$G$45))*1","v":0},{"$f":"(AND(SR7>$F$45,SR8<=$G$45))*1","v":0},{"$f":"(AND(SS7>$F$45,SS8<=$G$45))*1","v":0},{"$f":"(AND(ST7>$F$45,ST8<=$G$45))*1","v":0},{"$f":"(AND(SU7>$F$45,SU8<=$G$45))*1","v":0},{"$f":"(AND(SV7>$F$45,SV8<=$G$45))*1","v":0},{"$f":"(AND(SW7>$F$45,SW8<=$G$45))*1","v":0},{"$f":"(AND(SX7>$F$45,SX8<=$G$45))*1","v":0},{"$f":"(AND(SY7>$F$45,SY8<=$G$45))*1","v":0},{"$f":"(AND(SZ7>$F$45,SZ8<=$G$45))*1","v":0},{"$f":"(AND(TA7>$F$45,TA8<=$G$45))*1","v":0},{"$f":"(AND(TB7>$F$45,TB8<=$G$45))*1","v":0},{"$f":"(AND(TC7>$F$45,TC8<=$G$45))*1","v":0},{"$f":"(AND(TD7>$F$45,TD8<=$G$45))*1","v":0},{"$f":"(AND(TE7>$F$45,TE8<=$G$45))*1","v":0},{"$f":"(AND(TF7>$F$45,TF8<=$G$45))*1","v":0},{"$f":"(AND(TG7>$F$45,TG8<=$G$45))*1","v":0},{"$f":"(AND(TH7>$F$45,TH8<=$G$45))*1","v":0},{"$f":"(AND(TI7>$F$45,TI8<=$G$45))*1","v":0},{"$f":"(AND(TJ7>$F$45,TJ8<=$G$45))*1","v":0},{"$f":"(AND(TK7>$F$45,TK8<=$G$45))*1","v":0},{"$f":"(AND(TL7>$F$45,TL8<=$G$45))*1","v":0},{"$f":"(AND(TM7>$F$45,TM8<=$G$45))*1","v":0},{"$f":"(AND(TN7>$F$45,TN8<=$G$45))*1","v":0},{"$f":"(AND(TO7>$F$45,TO8<=$G$45))*1","v":0},{"$f":"(AND(TP7>$F$45,TP8<=$G$45))*1","v":0},{"$f":"(AND(TQ7>$F$45,TQ8<=$G$45))*1","v":0},{"$f":"(AND(TR7>$F$45,TR8<=$G$45))*1","v":0},{"$f":"(AND(TS7>$F$45,TS8<=$G$45))*1","v":0},{"$f":"(AND(TT7>$F$45,TT8<=$G$45))*1","v":0},{"$f":"(AND(TU7>$F$45,TU8<=$G$45))*1","v":0},{"$f":"(AND(TV7>$F$45,TV8<=$G$45))*1","v":0},{"$f":"(AND(TW7>$F$45,TW8<=$G$45))*1","v":0},{"$f":"(AND(TX7>$F$45,TX8<=$G$45))*1","v":0},{"$f":"(AND(TY7>$F$45,TY8<=$G$45))*1","v":0},{"$f":"(AND(TZ7>$F$45,TZ8<=$G$45))*1","v":0},{"$f":"(AND(UA7>$F$45,UA8<=$G$45))*1","v":0},{"$f":"(AND(UB7>$F$45,UB8<=$G$45))*1","v":0},{"$f":"(AND(UC7>$F$45,UC8<=$G$45))*1","v":0},{"$f":"(AND(UD7>$F$45,UD8<=$G$45))*1","v":0},{"$f":"(AND(UE7>$F$45,UE8<=$G$45))*1","v":0},{"$f":"(AND(UF7>$F$45,UF8<=$G$45))*1","v":0},{"$f":"(AND(UG7>$F$45,UG8<=$G$45))*1","v":0},{"$f":"(AND(UH7>$F$45,UH8<=$G$45))*1","v":0},{"$f":"(AND(UI7>$F$45,UI8<=$G$45))*1","v":0},{"$f":"(AND(UJ7>$F$45,UJ8<=$G$45))*1","v":0},{"$f":"(AND(UK7>$F$45,UK8<=$G$45))*1","v":0},{"$f":"(AND(UL7>$F$45,UL8<=$G$45))*1","v":0},{"$f":"(AND(UM7>$F$45,UM8<=$G$45))*1","v":0},{"$f":"(AND(UN7>$F$45,UN8<=$G$45))*1","v":0},{"$f":"(AND(UO7>$F$45,UO8<=$G$45))*1","v":0}]
[null,null,null,"Month Number",null,null,null,null,"Month",null,{"$f":"MONTH(K8)","v":8},{"$f":"MONTH(L8)","v":9},10,11,12,1,2,3,4,5,6,7,8,9,10,11,12,1,2,3,4,5,6,7,8,9,10,11,12,1,2,3,4,5,6,7,8,9,10,11,12,1,2,3,4,5,6,7,8,9,10,11,12,1,2,3,4,5,6,7,8,9,10,11,12,{"$f":"MONTH(BX8)","v":1},2,3,4,5,6,7,8,9,10,11,12,1,2,3,4,5,6,7,8,9,10,11,12,1,2,3,4,5,6,7,8,9,10,11,12,1,2,3,4,5,6,7,8,9,10,11,12,1,2,3,4,5,6,7,8,9,10,11,12,1,2,3,4,{"$f":"MONTH(EJ8)","v":5},6,7,8,9,10,11,12,1,2,3,4,5,6,7,8,9,10,11,12,1,2,3,4,5,6,7,8,9,10,11,12,1,2,3,4,5,6,7,8,9,10,11,12,1,2,3,4,5,6,7,8,9,10,11,12,1,2,3,4,5,6,7,8,{"$f":"MONTH(GV8)","v":9},10,11,12,1,2,3,4,5,6,7,8,9,10,11,12,1,2,3,4,5,6,7,8,9,10,11,12,1,2,3,4,5,6,7,8,9,10,11,12,1,2,3,4,5,6,7,8,9,10,11,12,1,2,3,4,5,6,7,8,9,10,11,12,{"$f":"MONTH(JH8)","v":1},2,3,4,5,6,7,8,9,10,11,12,1,2,3,4,5,6,7,8,9,10,11,12,1,2,3,4,5,6,7,8,9,10,11,12,1,2,3,4,5,6,7,8,9,10,11,12,1,2,3,4,5,6,7,8,9,10,11,12,1,2,3,4,{"$f":"MONTH(LT8)","v":5},6,7,8,9,10,11,12,1,2,3,4,5,6,7,8,9,10,11,12,1,2,3,4,5,6,7,8,9,10,11,12,1,2,3,4,5,6,7,8,9,10,11,12,1,2,3,4,5,6,7,8,9,10,11,12,1,2,3,4,5,6,7,8,{"$f":"MONTH(OF8)","v":9},10,11,12,1,2,3,4,5,6,7,8,9,10,11,12,1,2,3,4,5,6,7,8,9,10,11,12,1,2,3,4,5,6,7,8,9,10,11,12,1,2,3,4,5,6,7,8,9,10,11,12,1,2,3,4,5,6,7,8,9,10,11,12,{"$f":"MONTH(QR8)","v":1},2,3,4,5,6,7,8,9,10,11,12,1,2,3,4,5,6,7,8,9,10,11,12,1,2,3,4,5,6,7,8,9,10,11,12,1,2,3,4,5,6,7,8,9,10,11,12,1,2,3,4,5,6,7,8,9,10,11,12,1,2,3,4,{"$f":"MONTH(TD8)","v":5},6,7,8,9,10,11,12,1,2,3,4,5,6,7,8,9,10,11,12,1,2,3,4,5,6,7,8,9,10,11,12,1,2,3,4,5,6]
[null,null,null,"Repayment Period Flag","Month",{"$f":"'InputC Partial Month'!F35","v":2},{"$f":"'InputC Partial Month'!F36","v":8},null,"Flag",null,{"$f":"(OR(K46=$F$47,K46=$G$47,K5))*K45","v":0},{"$f":"(OR(L46=$F$47,L46=$G$47,L5))*L45","v":0},0,0,0,0,0,0,0,0,0,0,0,0,0,0,0,0,0,0,0,0,0,0,0,0,0,0,0,0,1,0,0,0,0,0,1,0,0,0,0,0,1,0,0,0,0,0,1,0,0,0,0,0,1,0,0,0,0,0,1,0,0,0,0,{"$f":"(OR(BX46=$F$47,BX46=$G$47,BX5))*BX45","v":0},1,0,0,0,0,0,1,0,0,0,0,0,1,0,0,0,0,0,1,0,0,0,0,0,1,0,0,0,0,0,1,0,0,0,0,0,1,0,0,0,0,0,1,0,0,0,0,0,1,0,0,0,0,0,1,0,0,0,0,0,1,0,0,{"$f":"(OR(EJ46=$F$47,EJ46=$G$47,EJ5))*EJ45","v":0},0,0,1,0,0,0,0,0,1,0,0,0,0,0,1,0,0,0,0,0,1,0,0,0,0,0,1,0,0,0,0,0,1,0,0,0,0,0,1,0,0,0,0,0,1,0,0,0,0,0,1,0,0,0,0,0,1,0,0,0,0,0,1,{"$f":"(OR(GV46=$F$47,GV46=$G$47,GV5))*GV45","v":0},0,0,0,0,1,0,0,0,0,0,1,0,0,0,0,0,1,0,0,0,0,0,1,0,0,0,0,0,1,0,0,0,0,0,1,0,0,0,0,0,1,0,0,0,0,0,1,0,0,0,0,0,1,0,0,0,0,0,1,0,0,0,0,{"$f":"(OR(JH46=$F$47,JH46=$G$47,JH5))*JH45","v":0},1,0,0,0,0,0,1,0,0,0,0,0,0,0,0,0,0,0,0,0,0,0,0,0,0,0,0,0,0,0,0,0,0,0,0,0,0,0,0,0,0,0,0,0,0,0,0,0,0,0,0,0,0,0,0,0,0,0,0,0,0,0,0,{"$f":"(OR(LT46=$F$47,LT46=$G$47,LT5))*LT45","v":0},0,0,0,0,0,0,0,0,0,0,0,0,0,0,0,0,0,0,0,0,0,0,0,0,0,0,0,0,0,0,0,0,0,0,0,0,0,0,0,0,0,0,0,0,0,0,0,0,0,0,0,0,0,0,0,0,0,0,0,0,0,0,0,{"$f":"(OR(OF46=$F$47,OF46=$G$47,OF5))*OF45","v":0},0,0,0,0,0,0,0,0,0,0,0,0,0,0,0,0,0,0,0,0,0,0,0,0,0,0,0,0,0,0,0,0,0,0,0,0,0,0,0,0,0,0,0,0,0,0,0,0,0,0,0,0,0,0,0,0,0,0,0,0,0,0,0,{"$f":"(OR(QR46=$F$47,QR46=$G$47,QR5))*QR45","v":0},0,0,0,0,0,0,0,0,0,0,0,0,0,0,0,0,0,0,0,0,0,0,0,0,0,0,0,0,0,0,0,0,0,0,0,0,0,0,0,0,0,0,0,0,0,0,0,0,0,0,0,0,0,0,0,0,0,0,0,0,0,0,0,{"$f":"(OR(TD46=$F$47,TD46=$G$47,TD5))*TD45","v":0},0,0,0,0,0,0,0,0,0,0,0,0,0,0,0,0,0,0,0,0,0,0,0,0,0,0,0,0,0,0,0,0,0,0,0,0,0]
[null,null,null,"Repayment Counter (Prior)",null,null,null,null,"Counter",null,{"$f":"J48+J47","v":0},{"$f":"K48+K47","v":0},0,0,0,0,0,0,0,0,0,0,0,0,0,0,0,0,0,0,0,0,0,0,{"$f":"AH48+AH47","v":0},{"$f":"AI48+AI47","v":0},0,0,0,0,0,1,1,1,1,1,1,2,2,2,2,2,2,3,3,3,3,3,3,4,4,4,4,4,4,5,5,5,5,5,5,6,6,6,6,6,6,7,7,7,7,7,7,8,8,8,8,8,8,9,9,9,9,9,9,10,10,10,10,{"$f":"CU48+CU47","v":10},10,11,11,11,11,11,11,12,12,12,12,12,12,13,13,13,13,13,13,14,14,14,14,14,14,15,15,15,15,15,15,16,16,16,16,16,16,17,17,17,17,17,17,18,18,18,18,18,18,19,19,19,19,19,19,20,20,20,20,20,20,21,21,{"$f":"FG48+FG47","v":21},21,21,21,22,22,22,22,22,22,23,23,23,23,23,23,24,24,24,24,24,24,25,25,25,25,25,25,26,26,26,26,26,26,27,27,27,27,27,27,28,28,28,28,28,28,29,29,29,29,29,29,30,30,30,30,30,30,31,31,31,31,31,31,{"$f":"HS48+HS47","v":32},32,32,32,32,32,33,33,33,33,33,33,34,34,34,34,34,34,35,35,35,35,35,35,36,36,36,36,36,36,37,37,37,37,37,37,38,38,38,38,38,38,39,39,39,39,39,39,40,40,40,40,40,40,40,40,40,40,40,40,40,40,40,40,{"$f":"KE48+KE47","v":40},40,40,40,40,40,40,40,40,40,40,40,40,40,40,40,40,40,40,40,40,40,40,40,40,40,40,40,40,40,40,40,40,40,40,40,40,40,40,40,40,40,40,40,40,40,40,40,40,40,40,40,40,40,40,40,40,40,40,40,40,40,40,40,{"$f":"MQ48+MQ47","v":40},40,40,40,40,40,40,40,40,40,40,40,40,40,40,40,40,40,40,40,40,40,40,40,40,40,40,40,40,40,40,40,40,40,40,40,40,40,40,40,40,40,40,40,40,40,40,40,40,40,40,40,40,40,40,40,40,40,40,40,40,40,40,40,{"$f":"PC48+PC47","v":40},40,40,40,40,40,40,40,40,40,40,40,40,40,40,40,40,40,40,40,40,40,40,40,40,40,40,40,40,40,40,40,40,40,40,40,40,40,40,40,40,40,40,40,40,40,40,40,40,40,40,40,40,40,40,40,40,40,40,40,40,40,40,40,{"$f":"RO48+RO47","v":40},40,40,40,40,40,40,40,40,40,40,40,40,40,40,40,40,40,40,40,40,40,40,40,40,40,40,40,40,40,40,40,40,40,40,40,40,40,40,40,40,40,40,40,40,40,40,40,40,40,40,40,40,40,40,40,40,40,40,40,40,40,40,40,{"$f":"UA48+UA47","v":40},40,40,40,40,40,40,40,40,40,40,40,40,40]
[null,null,null,"Semi-Annual Flag Post-COD","Month",{"$f":"F47","v":2},{"$f":"G47","v":8},null,"Flag",null,{"$f":"OR(K46=$F$49,K46=$G$49)*K10","v":0},{"$f":"OR(L46=$F$49,L46=$G$49)*L10","v":0},0,0,0,0,0,0,0,0,0,0,0,0,0,0,0,0,0,0,0,0,0,0,1,0,0,0,0,0,1,0,0,0,0,0,1,0,0,0,0,0,1,0,0,0,0,0,1,0,0,0,0,0,1,0,0,0,0,0,1,0,0,0,0,{"$f":"OR(BX46=$F$49,BX46=$G$49)*BX10","v":0},1,0,0,0,0,0,1,0,0,0,0,0,1,0,0,0,0,0,1,0,0,0,0,0,1,0,0,0,0,0,1,0,0,0,0,0,1,0,0,0,0,0,1,0,0,0,0,0,1,0,0,0,0,0,1,0,0,0,0,0,1,0,0,{"$f":"OR(EJ46=$F$49,EJ46=$G$49)*EJ10","v":0},0,0,1,0,0,0,0,0,1,0,0,0,0,0,1,0,0,0,0,0,1,0,0,0,0,0,1,0,0,0,0,0,1,0,0,0,0,0,1,0,0,0,0,0,1,0,0,0,0,0,1,0,0,0,0,0,1,0,0,0,0,0,1,{"$f":"OR(GV46=$F$49,GV46=$G$49)*GV10","v":0},0,0,0,0,1,0,0,0,0,0,1,0,0,0,0,0,1,0,0,0,0,0,1,0,0,0,0,0,1,0,0,0,0,0,1,0,0,0,0,0,1,0,0,0,0,0,1,0,0,0,0,0,1,0,0,0,0,0,1,0,0,0,0,{"$f":"OR(JH46=$F$49,JH46=$G$49)*JH10","v":0},1,0,0,0,0,0,1,0,0,0,0,0,1,0,0,0,0,0,1,0,0,0,0,0,1,0,0,0,0,0,1,0,0,0,0,0,1,0,0,0,0,0,1,0,0,0,0,0,1,0,0,0,0,0,1,0,0,0,0,0,1,0,0,{"$f":"OR(LT46=$F$49,LT46=$G$49)*LT10","v":0},0,0,1,0,0,0,0,0,1,0,0,0,0,0,1,0,0,0,0,0,1,0,0,0,0,0,1,0,0,0,0,0,1,0,0,0,0,0,1,0,0,0,0,0,1,0,0,0,0,0,1,0,0,0,0,0,1,0,0,0,0,0,1,{"$f":"OR(OF46=$F$49,OF46=$G$49)*OF10","v":0},0,0,0,0,1,0,0,0,0,0,1,0,0,0,0,0,1,0,0,0,0,0,1,0,0,0,0,0,1,0,0,0,0,0,1,0,0,0,0,0,1,0,0,0,0,0,1,0,0,0,0,0,1,0,0,0,0,0,1,0,0,0,0,{"$f":"OR(QR46=$F$49,QR46=$G$49)*QR10","v":0},1,0,0,0,0,0,1,0,0,0,0,0,1,0,0,0,0,0,1,0,0,0,0,0,1,0,0,0,0,0,1,0,0,0,0,0,1,0,0,0,0,0,1,0,0,0,0,0,1,0,0,0,0,0,1,0,0,0,0,0,0,0,0,{"$f":"OR(TD46=$F$49,TD46=$G$49)*TD10","v":0},0,0,0,0,0,0,0,0,0,0,0,0,0,0,0,0,0,0,0,0,0,0,0,0,0,0,0,0,0,0,0,0,0,0,0,0,0]
[null,null,null,"Semi-Annual Counter Post-COD",null,null,null,null,"Counter",null,{"$f":"J50+K49","v":0},{"$f":"K50+L49","v":0},0,0,0,0,0,0,0,0,0,0,0,0,0,0,0,0,0,0,0,0,0,0,1,1,1,1,1,1,2,2,2,2,2,2,3,3,3,3,3,3,4,4,4,4,4,4,5,5,5,5,5,5,6,6,6,6,6,6,7,7,7,7,7,{"$f":"BW50+BX49","v":7},8,8,8,8,8,8,9,9,9,9,9,9,10,10,10,10,10,10,11,11,11,11,11,11,12,12,12,12,12,12,13,13,13,13,13,13,14,14,14,14,14,14,15,15,15,15,15,15,16,16,16,16,16,16,17,17,17,17,17,17,18,18,18,{"$f":"EI50+EJ49","v":18},18,18,19,19,19,19,19,19,20,20,20,20,20,20,21,21,21,21,21,21,22,22,22,22,22,22,23,23,23,23,23,23,24,24,24,24,24,24,25,25,25,25,25,25,26,26,26,26,26,26,27,27,27,27,27,27,28,28,28,28,28,28,29,{"$f":"GU50+GV49","v":29},29,29,29,29,30,30,30,30,30,30,31,31,31,31,31,31,32,32,32,32,32,32,33,33,33,33,33,33,34,34,34,34,34,34,35,35,35,35,35,35,36,36,36,36,36,36,37,37,37,37,37,37,38,38,38,38,38,38,39,39,39,39,39,{"$f":"JG50+JH49","v":39},40,40,40,40,40,40,41,41,41,41,41,41,42,42,42,42,42,42,43,43,43,43,43,43,44,44,44,44,44,44,45,45,45,45,45,45,46,46,46,46,46,46,47,47,47,47,47,47,48,48,48,48,48,48,49,49,49,49,49,49,50,50,50,{"$f":"LS50+LT49","v":50},50,50,51,51,51,51,51,51,52,52,52,52,52,52,53,53,53,53,53,53,54,54,54,54,54,54,55,55,55,55,55,55,56,56,56,56,56,56,57,57,57,57,57,57,58,58,58,58,58,58,59,59,59,59,59,59,60,60,60,60,60,60,61,{"$f":"OE50+OF49","v":61},61,61,61,61,62,62,62,62,62,62,63,63,63,63,63,63,64,64,64,64,64,64,65,65,65,65,65,65,66,66,66,66,66,66,67,67,67,67,67,67,68,68,68,68,68,68,69,69,69,69,69,69,70,70,70,70,70,70,71,71,71,71,71,{"$f":"QQ50+QR49","v":71},72,72,72,72,72,72,73,73,73,73,73,73,74,74,74,74,74,74,75,75,75,75,75,75,76,76,76,76,76,76,77,77,77,77,77,77,78,78,78,78,78,78,79,79,79,79,79,79,80,80,80,80,80,80,81,81,81,81,81,81,81,81,81,{"$f":"TC50+TD49","v":81},81,81,81,81,81,81,81,81,81,81,81,81,81,81,81,81,81,81,81,81,81,81,81,81,81,81,81,81,81,81,81,81,81,81,81,81,81]
[]
[null,null,"Debt Repayment"]
[null,null,null,"Base Interest Rate","% p.a",{"$f":"'InputC Partial Month'!F42","v":3.5000000000000003E-2},null,null,"% p.p.",null,{"$f":"$F$53/months*K6","v":2.9166666666666668E-3},{"$f":"$F$53/months*L6","v":2.9166666666666668E-3},{"$f":"$F$53/months*M6","v":2.9166666666666668E-3},{"$f":"$F$53/months*N6","v":2.9166666666666668E-3},{"$f":"$F$53/months*O6","v":2.9166666666666668E-3},{"$f":"$F$53/months*P6","v":2.9166666666666668E-3},{"$f":"$F$53/months*Q6","v":2.9166666666666668E-3},{"$f":"$F$53/months*R6","v":2.9166666666666668E-3},{"$f":"$F$53/months*S6","v":2.9166666666666668E-3},{"$f":"$F$53/months*T6","v":2.9166666666666668E-3},{"$f":"$F$53/months*U6","v":2.9166666666666668E-3},{"$f":"$F$53/months*V6","v":2.9166666666666668E-3},{"$f":"$F$53/months*W6","v":2.9166666666666668E-3},{"$f":"$F$53/months*X6","v":2.9166666666666668E-3},{"$f":"$F$53/months*Y6","v":2.9166666666666668E-3},{"$f":"$F$53/months*Z6","v":2.9166666666666668E-3},{"$f":"$F$53/months*AA6","v":2.9166666666666668E-3},{"$f":"$F$53/months*AB6","v":2.9166666666666668E-3},{"$f":"$F$53/months*AC6","v":2.9166666666666668E-3},{"$f":"$F$53/months*AD6","v":2.9166666666666668E-3},{"$f":"$F$53/months*AE6","v":2.9166666666666668E-3},{"$f":"$F$53/months*AF6","v":2.9166666666666668E-3},{"$f":"$F$53/months*AG6","v":2.9166666666666668E-3},{"$f":"$F$53/months*AH6","v":2.9166666666666668E-3},{"$f":"$F$53/months*AI6","v":2.9166666666666668E-3},{"$f":"$F$53/months*AJ6","v":2.9166666666666668E-3},{"$f":"$F$53/months*AK6","v":2.9166666666666668E-3},{"$f":"$F$53/months*AL6","v":2.9166666666666668E-3},{"$f":"$F$53/months*AM6","v":2.9166666666666668E-3},{"$f":"$F$53/months*AN6","v":2.9166666666666668E-3},{"$f":"$F$53/months*AO6","v":2.9166666666666668E-3},{"$f":"$F$53/months*AP6","v":2.9166666666666668E-3},{"$f":"$F$53/months*AQ6","v":2.9166666666666668E-3},{"$f":"$F$53/months*AR6","v":2.9166666666666668E-3},{"$f":"$F$53/months*AS6","v":2.9166666666666668E-3},{"$f":"$F$53/months*AT6","v":2.9166666666666668E-3},{"$f":"$F$53/months*AU6","v":2.9166666666666668E-3},{"$f":"$F$53/months*AV6","v":2.9166666666666668E-3},{"$f":"$F$53/months*AW6","v":2.9166666666666668E-3},{"$f":"$F$53/months*AX6","v":2.9166666666666668E-3},{"$f":"$F$53/months*AY6","v":2.9166666666666668E-3},{"$f":"$F$53/months*AZ6","v":2.9166666666666668E-3},{"$f":"$F$53/months*BA6","v":2.9166666666666668E-3},{"$f":"$F$53/months*BB6","v":2.9166666666666668E-3},{"$f":"$F$53/months*BC6","v":2.9166666666666668E-3},{"$f":"$F$53/months*BD6","v":2.9166666666666668E-3},{"$f":"$F$53/months*BE6","v":2.9166666666666668E-3},{"$f":"$F$53/months*BF6","v":2.9166666666666668E-3},{"$f":"$F$53/months*BG6","v":2.9166666666666668E-3},{"$f":"$F$53/months*BH6","v":2.9166666666666668E-3},{"$f":"$F$53/months*BI6","v":2.9166666666666668E-3},{"$f":"$F$53/months*BJ6","v":2.9166666666666668E-3},{"$f":"$F$53/months*BK6","v":2.9166666666666668E-3},{"$f":"$F$53/months*BL6","v":2.9166666666666668E-3},{"$f":"$F$53/months*BM6","v":2.9166666666666668E-3},{"$f":"$F$53/months*BN6","v":2.9166666666666668E-3},{"$f":"$F$53/months*BO6","v":2.9166666666666668E-3},{"$f":"$F$53/months*BP6","v":2.9166666666666668E-3},{"$f":"$F$53/months*BQ6","v":2.9166666666666668E-3},{"$f":"$F$53/months*BR6","v":2.9166666666666668E-3},{"$f":"$F$53/months*BS6","v":2.9166666666666668E-3},{"$f":"$F$53/months*BT6","v":2.9166666666666668E-3},{"$f":"$F$53/months*BU6","v":2.9166666666666668E-3},{"$f":"$F$53/months*BV6","v":2.9166666666666668E-3},{"$f":"$F$53/months*BW6","v":2.9166666666666668E-3},{"$f":"$F$53/months*BX6","v":2.9166666666666668E-3},{"$f":"$F$53/months*BY6","v":2.9166666666666668E-3},{"$f":"$F$53/months*BZ6","v":2.9166666666666668E-3},{"$f":"$F$53/months*CA6","v":2.9166666666666668E-3},{"$f":"$F$53/months*CB6","v":2.9166666666666668E-3},{"$f":"$F$53/months*CC6","v":2.9166666666666668E-3},{"$f":"$F$53/months*CD6","v":2.9166666666666668E-3},{"$f":"$F$53/months*CE6","v":2.9166666666666668E-3},{"$f":"$F$53/months*CF6","v":2.9166666666666668E-3},{"$f":"$F$53/months*CG6","v":2.9166666666666668E-3},{"$f":"$F$53/months*CH6","v":2.9166666666666668E-3},{"$f":"$F$53/months*CI6","v":2.9166666666666668E-3},{"$f":"$F$53/months*CJ6","v":2.9166666666666668E-3},{"$f":"$F$53/months*CK6","v":2.9166666666666668E-3},{"$f":"$F$53/months*CL6","v":2.9166666666666668E-3},{"$f":"$F$53/months*CM6","v":2.9166666666666668E-3},{"$f":"$F$53/months*CN6","v":2.9166666666666668E-3},{"$f":"$F$53/months*CO6","v":2.9166666666666668E-3},{"$f":"$F$53/months*CP6","v":2.9166666666666668E-3},{"$f":"$F$53/months*CQ6","v":2.9166666666666668E-3},{"$f":"$F$53/months*CR6","v":2.9166666666666668E-3},{"$f":"$F$53/months*CS6","v":2.9166666666666668E-3},{"$f":"$F$53/months*CT6","v":2.9166666666666668E-3},{"$f":"$F$53/months*CU6","v":2.9166666666666668E-3},{"$f":"$F$53/months*CV6","v":2.9166666666666668E-3},{"$f":"$F$53/months*CW6","v":2.9166666666666668E-3},{"$f":"$F$53/months*CX6","v":2.9166666666666668E-3},{"$f":"$F$53/months*CY6","v":2.9166666666666668E-3},{"$f":"$F$53/months*CZ6","v":2.9166666666666668E-3},{"$f":"$F$53/months*DA6","v":2.9166666666666668E-3},{"$f":"$F$53/months*DB6","v":2.9166666666666668E-3},{"$f":"$F$53/months*DC6","v":2.9166666666666668E-3},{"$f":"$F$53/months*DD6","v":2.9166666666666668E-3},{"$f":"$F$53/months*DE6","v":2.9166666666666668E-3},{"$f":"$F$53/months*DF6","v":2.9166666666666668E-3},{"$f":"$F$53/months*DG6","v":2.9166666666666668E-3},{"$f":"$F$53/months*DH6","v":2.9166666666666668E-3},{"$f":"$F$53/months*DI6","v":2.9166666666666668E-3},{"$f":"$F$53/months*DJ6","v":2.9166666666666668E-3},{"$f":"$F$53/months*DK6","v":2.9166666666666668E-3},{"$f":"$F$53/months*DL6","v":2.9166666666666668E-3},{"$f":"$F$53/months*DM6","v":2.9166666666666668E-3},{"$f":"$F$53/months*DN6","v":2.9166666666666668E-3},{"$f":"$F$53/months*DO6","v":2.9166666666666668E-3},{"$f":"$F$53/months*DP6","v":2.9166666666666668E-3},{"$f":"$F$53/months*DQ6","v":2.9166666666666668E-3},{"$f":"$F$53/months*DR6","v":2.9166666666666668E-3},{"$f":"$F$53/months*DS6","v":2.9166666666666668E-3},{"$f":"$F$53/months*DT6","v":2.9166666666666668E-3},{"$f":"$F$53/months*DU6","v":2.9166666666666668E-3},{"$f":"$F$53/months*DV6","v":2.9166666666666668E-3},{"$f":"$F$53/months*DW6","v":2.9166666666666668E-3},{"$f":"$F$53/months*DX6","v":2.9166666666666668E-3},{"$f":"$F$53/months*DY6","v":2.9166666666666668E-3},{"$f":"$F$53/months*DZ6","v":2.9166666666666668E-3},{"$f":"$F$53/months*EA6","v":2.9166666666666668E-3},{"$f":"$F$53/months*EB6","v":2.9166666666666668E-3},{"$f":"$F$53/months*EC6","v":2.9166666666666668E-3},{"$f":"$F$53/months*ED6","v":2.9166666666666668E-3},{"$f":"$F$53/months*EE6","v":2.9166666666666668E-3},{"$f":"$F$53/months*EF6","v":2.9166666666666668E-3},{"$f":"$F$53/months*EG6","v":2.9166666666666668E-3},{"$f":"$F$53/months*EH6","v":2.9166666666666668E-3},{"$f":"$F$53/months*EI6","v":2.9166666666666668E-3},{"$f":"$F$53/months*EJ6","v":2.9166666666666668E-3},{"$f":"$F$53/months*EK6","v":2.9166666666666668E-3},{"$f":"$F$53/months*EL6","v":2.9166666666666668E-3},{"$f":"$F$53/months*EM6","v":2.9166666666666668E-3},{"$f":"$F$53/months*EN6","v":2.9166666666666668E-3},{"$f":"$F$53/months*EO6","v":2.9166666666666668E-3},{"$f":"$F$53/months*EP6","v":2.9166666666666668E-3},{"$f":"$F$53/months*EQ6","v":2.9166666666666668E-3},{"$f":"$F$53/months*ER6","v":2.9166666666666668E-3},{"$f":"$F$53/months*ES6","v":2.9166666666666668E-3},{"$f":"$F$53/months*ET6","v":2.9166666666666668E-3},{"$f":"$F$53/months*EU6","v":2.9166666666666668E-3},{"$f":"$F$53/months*EV6","v":2.9166666666666668E-3},{"$f":"$F$53/months*EW6","v":2.9166666666666668E-3},{"$f":"$F$53/months*EX6","v":2.9166666666666668E-3},{"$f":"$F$53/months*EY6","v":2.9166666666666668E-3},{"$f":"$F$53/months*EZ6","v":2.9166666666666668E-3},{"$f":"$F$53/months*FA6","v":2.9166666666666668E-3},{"$f":"$F$53/months*FB6","v":2.9166666666666668E-3},{"$f":"$F$53/months*FC6","v":2.9166666666666668E-3},{"$f":"$F$53/months*FD6","v":2.9166666666666668E-3},{"$f":"$F$53/months*FE6","v":2.9166666666666668E-3},{"$f":"$F$53/months*FF6","v":2.9166666666666668E-3},{"$f":"$F$53/months*FG6","v":2.9166666666666668E-3},{"$f":"$F$53/months*FH6","v":2.9166666666666668E-3},{"$f":"$F$53/months*FI6","v":2.9166666666666668E-3},{"$f":"$F$53/months*FJ6","v":2.9166666666666668E-3},{"$f":"$F$53/months*FK6","v":2.9166666666666668E-3},{"$f":"$F$53/months*FL6","v":2.9166666666666668E-3},{"$f":"$F$53/months*FM6","v":2.9166666666666668E-3},{"$f":"$F$53/months*FN6","v":2.9166666666666668E-3},{"$f":"$F$53/months*FO6","v":2.9166666666666668E-3},{"$f":"$F$53/months*FP6","v":2.9166666666666668E-3},{"$f":"$F$53/months*FQ6","v":2.9166666666666668E-3},{"$f":"$F$53/months*FR6","v":2.9166666666666668E-3},{"$f":"$F$53/months*FS6","v":2.9166666666666668E-3},{"$f":"$F$53/months*FT6","v":2.9166666666666668E-3},{"$f":"$F$53/months*FU6","v":2.9166666666666668E-3},{"$f":"$F$53/months*FV6","v":2.9166666666666668E-3},{"$f":"$F$53/months*FW6","v":2.9166666666666668E-3},{"$f":"$F$53/months*FX6","v":2.9166666666666668E-3},{"$f":"$F$53/months*FY6","v":2.9166666666666668E-3},{"$f":"$F$53/months*FZ6","v":2.9166666666666668E-3},{"$f":"$F$53/months*GA6","v":2.9166666666666668E-3},{"$f":"$F$53/months*GB6","v":2.9166666666666668E-3},{"$f":"$F$53/months*GC6","v":2.9166666666666668E-3},{"$f":"$F$53/months*GD6","v":2.9166666666666668E-3},{"$f":"$F$53/months*GE6","v":2.9166666666666668E-3},{"$f":"$F$53/months*GF6","v":2.9166666666666668E-3},{"$f":"$F$53/months*GG6","v":2.9166666666666668E-3},{"$f":"$F$53/months*GH6","v":2.9166666666666668E-3},{"$f":"$F$53/months*GI6","v":2.9166666666666668E-3},{"$f":"$F$53/months*GJ6","v":2.9166666666666668E-3},{"$f":"$F$53/months*GK6","v":2.9166666666666668E-3},{"$f":"$F$53/months*GL6","v":2.9166666666666668E-3},{"$f":"$F$53/months*GM6","v":2.9166666666666668E-3},{"$f":"$F$53/months*GN6","v":2.9166666666666668E-3},{"$f":"$F$53/months*GO6","v":2.9166666666666668E-3},{"$f":"$F$53/months*GP6","v":2.9166666666666668E-3},{"$f":"$F$53/months*GQ6","v":2.9166666666666668E-3},{"$f":"$F$53/months*GR6","v":2.9166666666666668E-3},{"$f":"$F$53/months*GS6","v":2.9166666666666668E-3},{"$f":"$F$53/months*GT6","v":2.9166666666666668E-3},{"$f":"$F$53/months*GU6","v":2.9166666666666668E-3},{"$f":"$F$53/months*GV6","v":2.9166666666666668E-3},{"$f":"$F$53/months*GW6","v":2.9166666666666668E-3},{"$f":"$F$53/months*GX6","v":2.9166666666666668E-3},{"$f":"$F$53/months*GY6","v":2.9166666666666668E-3},{"$f":"$F$53/months*GZ6","v":2.9166666666666668E-3},{"$f":"$F$53/months*HA6","v":2.9166666666666668E-3},{"$f":"$F$53/months*HB6","v":2.9166666666666668E-3},{"$f":"$F$53/months*HC6","v":2.9166666666666668E-3},{"$f":"$F$53/months*HD6","v":2.9166666666666668E-3},{"$f":"$F$53/months*HE6","v":2.9166666666666668E-3},{"$f":"$F$53/months*HF6","v":2.9166666666666668E-3},{"$f":"$F$53/months*HG6","v":2.9166666666666668E-3},{"$f":"$F$53/months*HH6","v":2.9166666666666668E-3},{"$f":"$F$53/months*HI6","v":2.9166666666666668E-3},{"$f":"$F$53/months*HJ6","v":2.9166666666666668E-3},{"$f":"$F$53/months*HK6","v":2.9166666666666668E-3},{"$f":"$F$53/months*HL6","v":2.9166666666666668E-3},{"$f":"$F$53/months*HM6","v":2.9166666666666668E-3},{"$f":"$F$53/months*HN6","v":2.9166666666666668E-3},{"$f":"$F$53/months*HO6","v":2.9166666666666668E-3},{"$f":"$F$53/months*HP6","v":2.9166666666666668E-3},{"$f":"$F$53/months*HQ6","v":2.9166666666666668E-3},{"$f":"$F$53/months*HR6","v":2.9166666666666668E-3},{"$f":"$F$53/months*HS6","v":2.9166666666666668E-3},{"$f":"$F$53/months*HT6","v":2.9166666666666668E-3},{"$f":"$F$53/months*HU6","v":2.9166666666666668E-3},{"$f":"$F$53/months*HV6","v":2.9166666666666668E-3},{"$f":"$F$53/months*HW6","v":2.9166666666666668E-3},{"$f":"$F$53/months*HX6","v":2.9166666666666668E-3},{"$f":"$F$53/months*HY6","v":2.9166666666666668E-3},{"$f":"$F$53/months*HZ6","v":2.9166666666666668E-3},{"$f":"$F$53/months*IA6","v":2.9166666666666668E-3},{"$f":"$F$53/months*IB6","v":2.9166666666666668E-3},{"$f":"$F$53/months*IC6","v":2.9166666666666668E-3},{"$f":"$F$53/months*ID6","v":2.9166666666666668E-3},{"$f":"$F$53/months*IE6","v":2.9166666666666668E-3},{"$f":"$F$53/months*IF6","v":2.9166666666666668E-3},{"$f":"$F$53/months*IG6","v":2.9166666666666668E-3},{"$f":"$F$53/months*IH6","v":2.9166666666666668E-3},{"$f":"$F$53/months*II6","v":2.9166666666666668E-3},{"$f":"$F$53/months*IJ6","v":2.9166666666666668E-3},{"$f":"$F$53/months*IK6","v":2.9166666666666668E-3},{"$f":"$F$53/months*IL6","v":2.9166666666666668E-3},{"$f":"$F$53/months*IM6","v":2.9166666666666668E-3},{"$f":"$F$53/months*IN6","v":2.9166666666666668E-3},{"$f":"$F$53/months*IO6","v":2.9166666666666668E-3},{"$f":"$F$53/months*IP6","v":2.9166666666666668E-3},{"$f":"$F$53/months*IQ6","v":2.9166666666666668E-3},{"$f":"$F$53/months*IR6","v":2.9166666666666668E-3},{"$f":"$F$53/months*IS6","v":2.9166666666666668E-3},{"$f":"$F$53/months*IT6","v":2.9166666666666668E-3},{"$f":"$F$53/months*IU6","v":2.9166666666666668E-3},{"$f":"$F$53/months*IV6","v":2.9166666666666668E-3},{"$f":"$F$53/months*IW6","v":2.9166666666666668E-3},{"$f":"$F$53/months*IX6","v":2.9166666666666668E-3},{"$f":"$F$53/months*IY6","v":2.9166666666666668E-3},{"$f":"$F$53/months*IZ6","v":2.9166666666666668E-3},{"$f":"$F$53/months*JA6","v":2.9166666666666668E-3},{"$f":"$F$53/months*JB6","v":2.9166666666666668E-3},{"$f":"$F$53/months*JC6","v":2.9166666666666668E-3},{"$f":"$F$53/months*JD6","v":2.9166666666666668E-3},{"$f":"$F$53/months*JE6","v":2.9166666666666668E-3},{"$f":"$F$53/months*JF6","v":2.9166666666666668E-3},{"$f":"$F$53/months*JG6","v":2.9166666666666668E-3},{"$f":"$F$53/months*JH6","v":2.9166666666666668E-3},{"$f":"$F$53/months*JI6","v":2.9166666666666668E-3},{"$f":"$F$53/months*JJ6","v":2.9166666666666668E-3},{"$f":"$F$53/months*JK6","v":2.9166666666666668E-3},{"$f":"$F$53/months*JL6","v":2.9166666666666668E-3},{"$f":"$F$53/months*JM6","v":2.9166666666666668E-3},{"$f":"$F$53/months*JN6","v":2.9166666666666668E-3},{"$f":"$F$53/months*JO6","v":2.9166666666666668E-3},{"$f":"$F$53/months*JP6","v":2.9166666666666668E-3},{"$f":"$F$53/months*JQ6","v":2.9166666666666668E-3},{"$f":"$F$53/months*JR6","v":2.9166666666666668E-3},{"$f":"$F$53/months*JS6","v":2.9166666666666668E-3},{"$f":"$F$53/months*JT6","v":2.9166666666666668E-3},{"$f":"$F$53/months*JU6","v":2.9166666666666668E-3},{"$f":"$F$53/months*JV6","v":2.9166666666666668E-3},{"$f":"$F$53/months*JW6","v":2.9166666666666668E-3},{"$f":"$F$53/months*JX6","v":2.9166666666666668E-3},{"$f":"$F$53/months*JY6","v":2.9166666666666668E-3},{"$f":"$F$53/months*JZ6","v":2.9166666666666668E-3},{"$f":"$F$53/months*KA6","v":2.9166666666666668E-3},{"$f":"$F$53/months*KB6","v":2.9166666666666668E-3},{"$f":"$F$53/months*KC6","v":2.9166666666666668E-3},{"$f":"$F$53/months*KD6","v":2.9166666666666668E-3},{"$f":"$F$53/months*KE6","v":2.9166666666666668E-3},{"$f":"$F$53/months*KF6","v":2.9166666666666668E-3},{"$f":"$F$53/months*KG6","v":2.9166666666666668E-3},{"$f":"$F$53/months*KH6","v":2.9166666666666668E-3},{"$f":"$F$53/months*KI6","v":2.9166666666666668E-3},{"$f":"$F$53/months*KJ6","v":2.9166666666666668E-3},{"$f":"$F$53/months*KK6","v":2.9166666666666668E-3},{"$f":"$F$53/months*KL6","v":2.9166666666666668E-3},{"$f":"$F$53/months*KM6","v":2.9166666666666668E-3},{"$f":"$F$53/months*KN6","v":2.9166666666666668E-3},{"$f":"$F$53/months*KO6","v":2.9166666666666668E-3},{"$f":"$F$53/months*KP6","v":2.9166666666666668E-3},{"$f":"$F$53/months*KQ6","v":2.9166666666666668E-3},{"$f":"$F$53/months*KR6","v":2.9166666666666668E-3},{"$f":"$F$53/months*KS6","v":2.9166666666666668E-3},{"$f":"$F$53/months*KT6","v":2.9166666666666668E-3},{"$f":"$F$53/months*KU6","v":2.9166666666666668E-3},{"$f":"$F$53/months*KV6","v":2.9166666666666668E-3},{"$f":"$F$53/months*KW6","v":2.9166666666666668E-3},{"$f":"$F$53/months*KX6","v":2.9166666666666668E-3},{"$f":"$F$53/months*KY6","v":2.9166666666666668E-3},{"$f":"$F$53/months*KZ6","v":2.9166666666666668E-3},{"$f":"$F$53/months*LA6","v":2.9166666666666668E-3},{"$f":"$F$53/months*LB6","v":2.9166666666666668E-3},{"$f":"$F$53/months*LC6","v":2.9166666666666668E-3},{"$f":"$F$53/months*LD6","v":2.9166666666666668E-3},{"$f":"$F$53/months*LE6","v":2.9166666666666668E-3},{"$f":"$F$53/months*LF6","v":2.9166666666666668E-3},{"$f":"$F$53/months*LG6","v":2.9166666666666668E-3},{"$f":"$F$53/months*LH6","v":2.9166666666666668E-3},{"$f":"$F$53/months*LI6","v":2.9166666666666668E-3},{"$f":"$F$53/months*LJ6","v":2.9166666666666668E-3},{"$f":"$F$53/months*LK6","v":2.9166666666666668E-3},{"$f":"$F$53/months*LL6","v":2.9166666666666668E-3},{"$f":"$F$53/months*LM6","v":2.9166666666666668E-3},{"$f":"$F$53/months*LN6","v":2.9166666666666668E-3},{"$f":"$F$53/months*LO6","v":2.9166666666666668E-3},{"$f":"$F$53/months*LP6","v":2.9166666666666668E-3},{"$f":"$F$53/months*LQ6","v":2.9166666666666668E-3},{"$f":"$F$53/months*LR6","v":2.9166666666666668E-3},{"$f":"$F$53/months*LS6","v":2.9166666666666668E-3},{"$f":"$F$53/months*LT6","v":2.9166666666666668E-3},{"$f":"$F$53/months*LU6","v":2.9166666666666668E-3},{"$f":"$F$53/months*LV6","v":2.9166666666666668E-3},{"$f":"$F$53/months*LW6","v":2.9166666666666668E-3},{"$f":"$F$53/months*LX6","v":2.9166666666666668E-3},{"$f":"$F$53/months*LY6","v":2.9166666666666668E-3},{"$f":"$F$53/months*LZ6","v":2.9166666666666668E-3},{"$f":"$F$53/months*MA6","v":2.9166666666666668E-3},{"$f":"$F$53/months*MB6","v":2.9166666666666668E-3},{"$f":"$F$53/months*MC6","v":2.9166666666666668E-3},{"$f":"$F$53/months*MD6","v":2.9166666666666668E-3},{"$f":"$F$53/months*ME6","v":2.9166666666666668E-3},{"$f":"$F$53/months*MF6","v":2.9166666666666668E-3},{"$f":"$F$53/months*MG6","v":2.9166666666666668E-3},{"$f":"$F$53/months*MH6","v":2.9166666666666668E-3},{"$f":"$F$53/months*MI6","v":2.9166666666666668E-3},{"$f":"$F$53/months*MJ6","v":2.9166666666666668E-3},{"$f":"$F$53/months*MK6","v":2.9166666666666668E-3},{"$f":"$F$53/months*ML6","v":2.9166666666666668E-3},{"$f":"$F$53/months*MM6","v":2.9166666666666668E-3},{"$f":"$F$53/months*MN6","v":2.9166666666666668E-3},{"$f":"$F$53/months*MO6","v":2.9166666666666668E-3},{"$f":"$F$53/months*MP6","v":2.9166666666666668E-3},{"$f":"$F$53/months*MQ6","v":2.9166666666666668E-3},{"$f":"$F$53/months*MR6","v":2.9166666666666668E-3},{"$f":"$F$53/months*MS6","v":2.9166666666666668E-3},{"$f":"$F$53/months*MT6","v":2.9166666666666668E-3},{"$f":"$F$53/months*MU6","v":2.9166666666666668E-3},{"$f":"$F$53/months*MV6","v":2.9166666666666668E-3},{"$f":"$F$53/months*MW6","v":2.9166666666666668E-3},{"$f":"$F$53/months*MX6","v":2.9166666666666668E-3},{"$f":"$F$53/months*MY6","v":2.9166666666666668E-3},{"$f":"$F$53/months*MZ6","v":2.9166666666666668E-3},{"$f":"$F$53/months*NA6","v":2.9166666666666668E-3},{"$f":"$F$53/months*NB6","v":2.9166666666666668E-3},{"$f":"$F$53/months*NC6","v":2.9166666666666668E-3},{"$f":"$F$53/months*ND6","v":2.9166666666666668E-3},{"$f":"$F$53/months*NE6","v":2.9166666666666668E-3},{"$f":"$F$53/months*NF6","v":2.9166666666666668E-3},{"$f":"$F$53/months*NG6","v":2.9166666666666668E-3},{"$f":"$F$53/months*NH6","v":2.9166666666666668E-3},{"$f":"$F$53/months*NI6","v":2.9166666666666668E-3},{"$f":"$F$53/months*NJ6","v":2.9166666666666668E-3},{"$f":"$F$53/months*NK6","v":2.9166666666666668E-3},{"$f":"$F$53/months*NL6","v":2.9166666666666668E-3},{"$f":"$F$53/months*NM6","v":2.9166666666666668E-3},{"$f":"$F$53/months*NN6","v":2.9166666666666668E-3},{"$f":"$F$53/months*NO6","v":2.9166666666666668E-3},{"$f":"$F$53/months*NP6","v":2.9166666666666668E-3},{"$f":"$F$53/months*NQ6","v":2.9166666666666668E-3},{"$f":"$F$53/months*NR6","v":2.9166666666666668E-3},{"$f":"$F$53/months*NS6","v":2.9166666666666668E-3},{"$f":"$F$53/months*NT6","v":2.9166666666666668E-3},{"$f":"$F$53/months*NU6","v":2.9166666666666668E-3},{"$f":"$F$53/months*NV6","v":2.9166666666666668E-3},{"$f":"$F$53/months*NW6","v":2.9166666666666668E-3},{"$f":"$F$53/months*NX6","v":2.9166666666666668E-3},{"$f":"$F$53/months*NY6","v":2.9166666666666668E-3},{"$f":"$F$53/months*NZ6","v":2.9166666666666668E-3},{"$f":"$F$53/months*OA6","v":2.9166666666666668E-3},{"$f":"$F$53/months*OB6","v":2.9166666666666668E-3},{"$f":"$F$53/months*OC6","v":2.9166666666666668E-3},{"$f":"$F$53/months*OD6","v":2.9166666666666668E-3},{"$f":"$F$53/months*OE6","v":2.9166666666666668E-3},{"$f":"$F$53/months*OF6","v":2.9166666666666668E-3},{"$f":"$F$53/months*OG6","v":2.9166666666666668E-3},{"$f":"$F$53/months*OH6","v":2.9166666666666668E-3},{"$f":"$F$53/months*OI6","v":2.9166666666666668E-3},{"$f":"$F$53/months*OJ6","v":2.9166666666666668E-3},{"$f":"$F$53/months*OK6","v":2.9166666666666668E-3},{"$f":"$F$53/months*OL6","v":2.9166666666666668E-3},{"$f":"$F$53/months*OM6","v":2.9166666666666668E-3},{"$f":"$F$53/months*ON6","v":2.9166666666666668E-3},{"$f":"$F$53/months*OO6","v":2.9166666666666668E-3},{"$f":"$F$53/months*OP6","v":2.9166666666666668E-3},{"$f":"$F$53/months*OQ6","v":2.9166666666666668E-3},{"$f":"$F$53/months*OR6","v":2.9166666666666668E-3},{"$f":"$F$53/months*OS6","v":2.9166666666666668E-3},{"$f":"$F$53/months*OT6","v":2.9166666666666668E-3},{"$f":"$F$53/months*OU6","v":2.9166666666666668E-3},{"$f":"$F$53/months*OV6","v":2.9166666666666668E-3},{"$f":"$F$53/months*OW6","v":2.9166666666666668E-3},{"$f":"$F$53/months*OX6","v":2.9166666666666668E-3},{"$f":"$F$53/months*OY6","v":2.9166666666666668E-3},{"$f":"$F$53/months*OZ6","v":2.9166666666666668E-3},{"$f":"$F$53/months*PA6","v":2.9166666666666668E-3},{"$f":"$F$53/months*PB6","v":2.9166666666666668E-3},{"$f":"$F$53/months*PC6","v":2.9166666666666668E-3},{"$f":"$F$53/months*PD6","v":2.9166666666666668E-3},{"$f":"$F$53/months*PE6","v":2.9166666666666668E-3},{"$f":"$F$53/months*PF6","v":2.9166666666666668E-3},{"$f":"$F$53/months*PG6","v":2.9166666666666668E-3},{"$f":"$F$53/months*PH6","v":2.9166666666666668E-3},{"$f":"$F$53/months*PI6","v":2.9166666666666668E-3},{"$f":"$F$53/months*PJ6","v":2.9166666666666668E-3},{"$f":"$F$53/months*PK6","v":2.9166666666666668E-3},{"$f":"$F$53/months*PL6","v":2.9166666666666668E-3},{"$f":"$F$53/months*PM6","v":2.9166666666666668E-3},{"$f":"$F$53/months*PN6","v":2.9166666666666668E-3},{"$f":"$F$53/months*PO6","v":2.9166666666666668E-3},{"$f":"$F$53/months*PP6","v":2.9166666666666668E-3},{"$f":"$F$53/months*PQ6","v":2.9166666666666668E-3},{"$f":"$F$53/months*PR6","v":2.9166666666666668E-3},{"$f":"$F$53/months*PS6","v":2.9166666666666668E-3},{"$f":"$F$53/months*PT6","v":2.9166666666666668E-3},{"$f":"$F$53/months*PU6","v":2.9166666666666668E-3},{"$f":"$F$53/months*PV6","v":2.9166666666666668E-3},{"$f":"$F$53/months*PW6","v":2.9166666666666668E-3},{"$f":"$F$53/months*PX6","v":2.9166666666666668E-3},{"$f":"$F$53/months*PY6","v":2.9166666666666668E-3},{"$f":"$F$53/months*PZ6","v":2.9166666666666668E-3},{"$f":"$F$53/months*QA6","v":2.9166666666666668E-3},{"$f":"$F$53/months*QB6","v":2.9166666666666668E-3},{"$f":"$F$53/months*QC6","v":2.9166666666666668E-3},{"$f":"$F$53/months*QD6","v":2.9166666666666668E-3},{"$f":"$F$53/months*QE6","v":2.9166666666666668E-3},{"$f":"$F$53/months*QF6","v":2.9166666666666668E-3},{"$f":"$F$53/months*QG6","v":2.9166666666666668E-3},{"$f":"$F$53/months*QH6","v":2.9166666666666668E-3},{"$f":"$F$53/months*QI6","v":2.9166666666666668E-3},{"$f":"$F$53/months*QJ6","v":2.9166666666666668E-3},{"$f":"$F$53/months*QK6","v":2.9166666666666668E-3},{"$f":"$F$53/months*QL6","v":2.9166666666666668E-3},{"$f":"$F$53/months*QM6","v":2.9166666666666668E-3},{"$f":"$F$53/months*QN6","v":2.9166666666666668E-3},{"$f":"$F$53/months*QO6","v":2.9166666666666668E-3},{"$f":"$F$53/months*QP6","v":2.9166666666666668E-3},{"$f":"$F$53/months*QQ6","v":2.9166666666666668E-3},{"$f":"$F$53/months*QR6","v":2.9166666666666668E-3},{"$f":"$F$53/months*QS6","v":2.9166666666666668E-3},{"$f":"$F$53/months*QT6","v":2.9166666666666668E-3},{"$f":"$F$53/months*QU6","v":2.9166666666666668E-3},{"$f":"$F$53/months*QV6","v":2.9166666666666668E-3},{"$f":"$F$53/months*QW6","v":2.9166666666666668E-3},{"$f":"$F$53/months*QX6","v":2.9166666666666668E-3},{"$f":"$F$53/months*QY6","v":2.9166666666666668E-3},{"$f":"$F$53/months*QZ6","v":2.9166666666666668E-3},{"$f":"$F$53/months*RA6","v":2.9166666666666668E-3},{"$f":"$F$53/months*RB6","v":2.9166666666666668E-3},{"$f":"$F$53/months*RC6","v":2.9166666666666668E-3},{"$f":"$F$53/months*RD6","v":2.9166666666666668E-3},{"$f":"$F$53/months*RE6","v":2.9166666666666668E-3},{"$f":"$F$53/months*RF6","v":2.9166666666666668E-3},{"$f":"$F$53/months*RG6","v":2.9166666666666668E-3},{"$f":"$F$53/months*RH6","v":2.9166666666666668E-3},{"$f":"$F$53/months*RI6","v":2.9166666666666668E-3},{"$f":"$F$53/months*RJ6","v":2.9166666666666668E-3},{"$f":"$F$53/months*RK6","v":2.9166666666666668E-3},{"$f":"$F$53/months*RL6","v":2.9166666666666668E-3},{"$f":"$F$53/months*RM6","v":2.9166666666666668E-3},{"$f":"$F$53/months*RN6","v":2.9166666666666668E-3},{"$f":"$F$53/months*RO6","v":2.9166666666666668E-3},{"$f":"$F$53/months*RP6","v":2.9166666666666668E-3},{"$f":"$F$53/months*RQ6","v":2.9166666666666668E-3},{"$f":"$F$53/months*RR6","v":2.9166666666666668E-3},{"$f":"$F$53/months*RS6","v":2.9166666666666668E-3},{"$f":"$F$53/months*RT6","v":2.9166666666666668E-3},{"$f":"$F$53/months*RU6","v":2.9166666666666668E-3},{"$f":"$F$53/months*RV6","v":2.9166666666666668E-3},{"$f":"$F$53/months*RW6","v":2.9166666666666668E-3},{"$f":"$F$53/months*RX6","v":2.9166666666666668E-3},{"$f":"$F$53/months*RY6","v":2.9166666666666668E-3},{"$f":"$F$53/months*RZ6","v":2.9166666666666668E-3},{"$f":"$F$53/months*SA6","v":2.9166666666666668E-3},{"$f":"$F$53/months*SB6","v":2.9166666666666668E-3},{"$f":"$F$53/months*SC6","v":2.9166666666666668E-3},{"$f":"$F$53/months*SD6","v":2.9166666666666668E-3},{"$f":"$F$53/months*SE6","v":2.9166666666666668E-3},{"$f":"$F$53/months*SF6","v":2.9166666666666668E-3},{"$f":"$F$53/months*SG6","v":2.9166666666666668E-3},{"$f":"$F$53/months*SH6","v":2.9166666666666668E-3},{"$f":"$F$53/months*SI6","v":2.9166666666666668E-3},{"$f":"$F$53/months*SJ6","v":2.9166666666666668E-3},{"$f":"$F$53/months*SK6","v":2.9166666666666668E-3},{"$f":"$F$53/months*SL6","v":2.9166666666666668E-3},{"$f":"$F$53/months*SM6","v":2.9166666666666668E-3},{"$f":"$F$53/months*SN6","v":2.9166666666666668E-3},{"$f":"$F$53/months*SO6","v":2.9166666666666668E-3},{"$f":"$F$53/months*SP6","v":2.9166666666666668E-3},{"$f":"$F$53/months*SQ6","v":2.9166666666666668E-3},{"$f":"$F$53/months*SR6","v":2.9166666666666668E-3},{"$f":"$F$53/months*SS6","v":2.9166666666666668E-3},{"$f":"$F$53/months*ST6","v":2.9166666666666668E-3},{"$f":"$F$53/months*SU6","v":2.9166666666666668E-3},{"$f":"$F$53/months*SV6","v":2.9166666666666668E-3},{"$f":"$F$53/months*SW6","v":2.9166666666666668E-3},{"$f":"$F$53/months*SX6","v":2.9166666666666668E-3},{"$f":"$F$53/months*SY6","v":2.9166666666666668E-3},{"$f":"$F$53/months*SZ6","v":2.9166666666666668E-3},{"$f":"$F$53/months*TA6","v":2.9166666666666668E-3},{"$f":"$F$53/months*TB6","v":2.9166666666666668E-3},{"$f":"$F$53/months*TC6","v":2.9166666666666668E-3},{"$f":"$F$53/months*TD6","v":2.9166666666666668E-3},{"$f":"$F$53/months*TE6","v":2.9166666666666668E-3},{"$f":"$F$53/months*TF6","v":2.9166666666666668E-3},{"$f":"$F$53/months*TG6","v":2.9166666666666668E-3},{"$f":"$F$53/months*TH6","v":2.9166666666666668E-3},{"$f":"$F$53/months*TI6","v":2.9166666666666668E-3},{"$f":"$F$53/months*TJ6","v":2.9166666666666668E-3},{"$f":"$F$53/months*TK6","v":2.9166666666666668E-3},{"$f":"$F$53/months*TL6","v":2.9166666666666668E-3},{"$f":"$F$53/months*TM6","v":2.9166666666666668E-3},{"$f":"$F$53/months*TN6","v":2.9166666666666668E-3},{"$f":"$F$53/months*TO6","v":2.9166666666666668E-3},{"$f":"$F$53/months*TP6","v":2.9166666666666668E-3},{"$f":"$F$53/months*TQ6","v":2.9166666666666668E-3},{"$f":"$F$53/months*TR6","v":2.9166666666666668E-3},{"$f":"$F$53/months*TS6","v":2.9166666666666668E-3},{"$f":"$F$53/months*TT6","v":2.9166666666666668E-3},{"$f":"$F$53/months*TU6","v":2.9166666666666668E-3},{"$f":"$F$53/months*TV6","v":2.9166666666666668E-3},{"$f":"$F$53/months*TW6","v":2.9166666666666668E-3},{"$f":"$F$53/months*TX6","v":2.9166666666666668E-3},{"$f":"$F$53/months*TY6","v":2.9166666666666668E-3},{"$f":"$F$53/months*TZ6","v":2.9166666666666668E-3},{"$f":"$F$53/months*UA6","v":2.9166666666666668E-3},{"$f":"$F$53/months*UB6","v":2.9166666666666668E-3},{"$f":"$F$53/months*UC6","v":2.9166666666666668E-3},{"$f":"$F$53/months*UD6","v":2.9166666666666668E-3},{"$f":"$F$53/months*UE6","v":2.9166666666666668E-3},{"$f":"$F$53/months*UF6","v":2.9166666666666668E-3},{"$f":"$F$53/months*UG6","v":2.9166666666666668E-3},{"$f":"$F$53/months*UH6","v":2.9166666666666668E-3},{"$f":"$F$53/months*UI6","v":2.9166666666666668E-3},{"$f":"$F$53/months*UJ6","v":2.9166666666666668E-3},{"$f":"$F$53/months*UK6","v":2.9166666666666668E-3},{"$f":"$F$53/months*UL6","v":2.9166666666666668E-3},{"$f":"$F$53/months*UM6","v":2.9166666666666668E-3},{"$f":"$F$53/months*UN6","v":2.9166666666666668E-3},{"$f":"$F$53/months*UO6","v":2.9166666666666668E-3}]
[null,null,null,"Credit Spread","% p.a",null,null,null,null,null,{"$f":"LOOKUP(K7,InputS!5:5,InputS!10:10)","v":0.01},{"$f":"LOOKUP(L7,InputS!5:5,InputS!10:10)","v":0.01},{"$f":"LOOKUP(M7,InputS!5:5,InputS!10:10)","v":0.01},{"$f":"LOOKUP(N7,InputS!5:5,InputS!10:10)","v":0.01},{"$f":"LOOKUP(O7,InputS!5:5,InputS!10:10)","v":0.01},{"$f":"LOOKUP(P7,InputS!5:5,InputS!10:10)","v":0.01},{"$f":"LOOKUP(Q7,InputS!5:5,InputS!10:10)","v":0.01},{"$f":"LOOKUP(R7,InputS!5:5,InputS!10:10)","v":0.01},{"$f":"LOOKUP(S7,InputS!5:5,InputS!10:10)","v":0.01},{"$f":"LOOKUP(T7,InputS!5:5,InputS!10:10)","v":0.01},{"$f":"LOOKUP(U7,InputS!5:5,InputS!10:10)","v":0.01},{"$f":"LOOKUP(V7,InputS!5:5,InputS!10:10)","v":0.01},{"$f":"LOOKUP(W7,InputS!5:5,InputS!10:10)","v":0.01},{"$f":"LOOKUP(X7,InputS!5:5,InputS!10:10)","v":0.01},{"$f":"LOOKUP(Y7,InputS!5:5,InputS!10:10)","v":0.01},{"$f":"LOOKUP(Z7,InputS!5:5,InputS!10:10)","v":0.01},{"$f":"LOOKUP(AA7,InputS!5:5,InputS!10:10)","v":0.01},{"$f":"LOOKUP(AB7,InputS!5:5,InputS!10:10)","v":0.01},{"$f":"LOOKUP(AC7,InputS!5:5,InputS!10:10)","v":0.01},{"$f":"LOOKUP(AD7,InputS!5:5,InputS!10:10)","v":0.01},{"$f":"LOOKUP(AE7,InputS!5:5,InputS!10:10)","v":0.01},{"$f":"LOOKUP(AF7,InputS!5:5,InputS!10:10)","v":0.01},{"$f":"LOOKUP(AG7,InputS!5:5,InputS!10:10)","v":0.01},{"$f":"LOOKUP(AH7,InputS!5:5,InputS!10:10)","v":0.01},{"$f":"LOOKUP(AI7,InputS!5:5,InputS!10:10)","v":0.01},{"$f":"LOOKUP(AJ7,InputS!5:5,InputS!10:10)","v":1.2E-2},{"$f":"LOOKUP(AK7,InputS!5:5,InputS!10:10)","v":1.2E-2},{"$f":"LOOKUP(AL7,InputS!5:5,InputS!10:10)","v":1.2E-2},{"$f":"LOOKUP(AM7,InputS!5:5,InputS!10:10)","v":1.2E-2},{"$f":"LOOKUP(AN7,InputS!5:5,InputS!10:10)","v":1.2E-2},{"$f":"LOOKUP(AO7,InputS!5:5,InputS!10:10)","v":1.2E-2},{"$f":"LOOKUP(AP7,InputS!5:5,InputS!10:10)","v":1.2E-2},{"$f":"LOOKUP(AQ7,InputS!5:5,InputS!10:10)","v":1.2E-2},{"$f":"LOOKUP(AR7,InputS!5:5,InputS!10:10)","v":1.2E-2},{"$f":"LOOKUP(AS7,InputS!5:5,InputS!10:10)","v":1.2E-2},{"$f":"LOOKUP(AT7,InputS!5:5,InputS!10:10)","v":1.2E-2},{"$f":"LOOKUP(AU7,InputS!5:5,InputS!10:10)","v":1.2E-2},{"$f":"LOOKUP(AV7,InputS!5:5,InputS!10:10)","v":1.2E-2},{"$f":"LOOKUP(AW7,InputS!5:5,InputS!10:10)","v":1.2E-2},{"$f":"LOOKUP(AX7,InputS!5:5,InputS!10:10)","v":1.2E-2},{"$f":"LOOKUP(AY7,InputS!5:5,InputS!10:10)","v":1.2E-2},{"$f":"LOOKUP(AZ7,InputS!5:5,InputS!10:10)","v":1.2E-2},{"$f":"LOOKUP(BA7,InputS!5:5,InputS!10:10)","v":1.2E-2},{"$f":"LOOKUP(BB7,InputS!5:5,InputS!10:10)","v":1.2E-2},{"$f":"LOOKUP(BC7,InputS!5:5,InputS!10:10)","v":1.2E-2},{"$f":"LOOKUP(BD7,InputS!5:5,InputS!10:10)","v":1.2E-2},{"$f":"LOOKUP(BE7,InputS!5:5,InputS!10:10)","v":1.2E-2},{"$f":"LOOKUP(BF7,InputS!5:5,InputS!10:10)","v":1.2E-2},{"$f":"LOOKUP(BG7,InputS!5:5,InputS!10:10)","v":1.2E-2},{"$f":"LOOKUP(BH7,InputS!5:5,InputS!10:10)","v":1.4E-2},{"$f":"LOOKUP(BI7,InputS!5:5,InputS!10:10)","v":1.4E-2},{"$f":"LOOKUP(BJ7,InputS!5:5,InputS!10:10)","v":1.4E-2},{"$f":"LOOKUP(BK7,InputS!5:5,InputS!10:10)","v":1.4E-2},{"$f":"LOOKUP(BL7,InputS!5:5,InputS!10:10)","v":1.4E-2},{"$f":"LOOKUP(BM7,InputS!5:5,InputS!10:10)","v":1.4E-2},{"$f":"LOOKUP(BN7,InputS!5:5,InputS!10:10)","v":1.4E-2},{"$f":"LOOKUP(BO7,InputS!5:5,InputS!10:10)","v":1.4E-2},{"$f":"LOOKUP(BP7,InputS!5:5,InputS!10:10)","v":1.4E-2},{"$f":"LOOKUP(BQ7,InputS!5:5,InputS!10:10)","v":1.4E-2},{"$f":"LOOKUP(BR7,InputS!5:5,InputS!10:10)","v":1.4E-2},{"$f":"LOOKUP(BS7,InputS!5:5,InputS!10:10)","v":1.4E-2},{"$f":"LOOKUP(BT7,InputS!5:5,InputS!10:10)","v":1.4E-2},{"$f":"LOOKUP(BU7,InputS!5:5,InputS!10:10)","v":1.4E-2},{"$f":"LOOKUP(BV7,InputS!5:5,InputS!10:10)","v":1.4E-2},{"$f":"LOOKUP(BW7,InputS!5:5,InputS!10:10)","v":1.4E-2},{"$f":"LOOKUP(BX7,InputS!5:5,InputS!10:10)","v":1.4E-2},{"$f":"LOOKUP(BY7,InputS!5:5,InputS!10:10)","v":1.4E-2},{"$f":"LOOKUP(BZ7,InputS!5:5,InputS!10:10)","v":1.4E-2},{"$f":"LOOKUP(CA7,InputS!5:5,InputS!10:10)","v":1.4E-2},{"$f":"LOOKUP(CB7,InputS!5:5,InputS!10:10)","v":1.4E-2},{"$f":"LOOKUP(CC7,InputS!5:5,InputS!10:10)","v":1.4E-2},{"$f":"LOOKUP(CD7,InputS!5:5,InputS!10:10)","v":1.4E-2},{"$f":"LOOKUP(CE7,InputS!5:5,InputS!10:10)","v":1.4E-2},{"$f":"LOOKUP(CF7,InputS!5:5,InputS!10:10)","v":1.4999999999999999E-2},{"$f":"LOOKUP(CG7,InputS!5:5,InputS!10:10)","v":1.4999999999999999E-2},{"$f":"LOOKUP(CH7,InputS!5:5,InputS!10:10)","v":1.4999999999999999E-2},{"$f":"LOOKUP(CI7,InputS!5:5,InputS!10:10)","v":1.4999999999999999E-2},{"$f":"LOOKUP(CJ7,InputS!5:5,InputS!10:10)","v":1.4999999999999999E-2},{"$f":"LOOKUP(CK7,InputS!5:5,InputS!10:10)","v":1.4999999999999999E-2},{"$f":"LOOKUP(CL7,InputS!5:5,InputS!10:10)","v":1.4999999999999999E-2},{"$f":"LOOKUP(CM7,InputS!5:5,InputS!10:10)","v":1.4999999999999999E-2},{"$f":"LOOKUP(CN7,InputS!5:5,InputS!10:10)","v":1.4999999999999999E-2},{"$f":"LOOKUP(CO7,InputS!5:5,InputS!10:10)","v":1.4999999999999999E-2},{"$f":"LOOKUP(CP7,InputS!5:5,InputS!10:10)","v":1.4999999999999999E-2},{"$f":"LOOKUP(CQ7,InputS!5:5,InputS!10:10)","v":1.4999999999999999E-2},{"$f":"LOOKUP(CR7,InputS!5:5,InputS!10:10)","v":1.4999999999999999E-2},{"$f":"LOOKUP(CS7,InputS!5:5,InputS!10:10)","v":1.4999999999999999E-2},{"$f":"LOOKUP(CT7,InputS!5:5,InputS!10:10)","v":1.4999999999999999E-2},{"$f":"LOOKUP(CU7,InputS!5:5,InputS!10:10)","v":1.4999999999999999E-2},{"$f":"LOOKUP(CV7,InputS!5:5,InputS!10:10)","v":1.4999999999999999E-2},{"$f":"LOOKUP(CW7,InputS!5:5,InputS!10:10)","v":1.4999999999999999E-2},{"$f":"LOOKUP(CX7,InputS!5:5,InputS!10:10)","v":1.4999999999999999E-2},{"$f":"LOOKUP(CY7,InputS!5:5,InputS!10:10)","v":1.4999999999999999E-2},{"$f":"LOOKUP(CZ7,InputS!5:5,InputS!10:10)","v":1.4999999999999999E-2},{"$f":"LOOKUP(DA7,InputS!5:5,InputS!10:10)","v":1.4999999999999999E-2},{"$f":"LOOKUP(DB7,InputS!5:5,InputS!10:10)","v":1.4999999999999999E-2},{"$f":"LOOKUP(DC7,InputS!5:5,InputS!10:10)","v":1.4999999999999999E-2},{"$f":"LOOKUP(DD7,InputS!5:5,InputS!10:10)","v":1.55E-2},{"$f":"LOOKUP(DE7,InputS!5:5,InputS!10:10)","v":1.55E-2},{"$f":"LOOKUP(DF7,InputS!5:5,InputS!10:10)","v":1.55E-2},{"$f":"LOOKUP(DG7,InputS!5:5,InputS!10:10)","v":1.55E-2},{"$f":"LOOKUP(DH7,InputS!5:5,InputS!10:10)","v":1.55E-2},{"$f":"LOOKUP(DI7,InputS!5:5,InputS!10:10)","v":1.55E-2},{"$f":"LOOKUP(DJ7,InputS!5:5,InputS!10:10)","v":1.55E-2},{"$f":"LOOKUP(DK7,InputS!5:5,InputS!10:10)","v":1.55E-2},{"$f":"LOOKUP(DL7,InputS!5:5,InputS!10:10)","v":1.55E-2},{"$f":"LOOKUP(DM7,InputS!5:5,InputS!10:10)","v":1.55E-2},{"$f":"LOOKUP(DN7,InputS!5:5,InputS!10:10)","v":1.55E-2},{"$f":"LOOKUP(DO7,InputS!5:5,InputS!10:10)","v":1.55E-2},{"$f":"LOOKUP(DP7,InputS!5:5,InputS!10:10)","v":1.55E-2},{"$f":"LOOKUP(DQ7,InputS!5:5,InputS!10:10)","v":1.55E-2},{"$f":"LOOKUP(DR7,InputS!5:5,InputS!10:10)","v":1.55E-2},{"$f":"LOOKUP(DS7,InputS!5:5,InputS!10:10)","v":1.55E-2},{"$f":"LOOKUP(DT7,InputS!5:5,InputS!10:10)","v":1.55E-2},{"$f":"LOOKUP(DU7,InputS!5:5,InputS!10:10)","v":1.55E-2},{"$f":"LOOKUP(DV7,InputS!5:5,InputS!10:10)","v":1.55E-2},{"$f":"LOOKUP(DW7,InputS!5:5,InputS!10:10)","v":1.55E-2},{"$f":"LOOKUP(DX7,InputS!5:5,InputS!10:10)","v":1.55E-2},{"$f":"LOOKUP(DY7,InputS!5:5,InputS!10:10)","v":1.55E-2},{"$f":"LOOKUP(DZ7,InputS!5:5,InputS!10:10)","v":1.55E-2},{"$f":"LOOKUP(EA7,InputS!5:5,InputS!10:10)","v":1.55E-2},{"$f":"LOOKUP(EB7,InputS!5:5,InputS!10:10)","v":1.6E-2},{"$f":"LOOKUP(EC7,InputS!5:5,InputS!10:10)","v":1.6E-2},{"$f":"LOOKUP(ED7,InputS!5:5,InputS!10:10)","v":1.6E-2},{"$f":"LOOKUP(EE7,InputS!5:5,InputS!10:10)","v":1.6E-2},{"$f":"LOOKUP(EF7,InputS!5:5,InputS!10:10)","v":1.6E-2},{"$f":"LOOKUP(EG7,InputS!5:5,InputS!10:10)","v":1.6E-2},{"$f":"LOOKUP(EH7,InputS!5:5,InputS!10:10)","v":1.6E-2},{"$f":"LOOKUP(EI7,InputS!5:5,InputS!10:10)","v":1.6E-2},{"$f":"LOOKUP(EJ7,InputS!5:5,InputS!10:10)","v":1.6E-2},{"$f":"LOOKUP(EK7,InputS!5:5,InputS!10:10)","v":1.6E-2},{"$f":"LOOKUP(EL7,InputS!5:5,InputS!10:10)","v":1.6E-2},{"$f":"LOOKUP(EM7,InputS!5:5,InputS!10:10)","v":1.6E-2},{"$f":"LOOKUP(EN7,InputS!5:5,InputS!10:10)","v":1.6E-2},{"$f":"LOOKUP(EO7,InputS!5:5,InputS!10:10)","v":1.6E-2},{"$f":"LOOKUP(EP7,InputS!5:5,InputS!10:10)","v":1.6E-2},{"$f":"LOOKUP(EQ7,InputS!5:5,InputS!10:10)","v":1.6E-2},{"$f":"LOOKUP(ER7,InputS!5:5,InputS!10:10)","v":1.6E-2},{"$f":"LOOKUP(ES7,InputS!5:5,InputS!10:10)","v":1.6E-2},{"$f":"LOOKUP(ET7,InputS!5:5,InputS!10:10)","v":1.6E-2},{"$f":"LOOKUP(EU7,InputS!5:5,InputS!10:10)","v":1.6E-2},{"$f":"LOOKUP(EV7,InputS!5:5,InputS!10:10)","v":1.6E-2},{"$f":"LOOKUP(EW7,InputS!5:5,InputS!10:10)","v":1.6E-2},{"$f":"LOOKUP(EX7,InputS!5:5,InputS!10:10)","v":1.6E-2},{"$f":"LOOKUP(EY7,InputS!5:5,InputS!10:10)","v":1.6E-2},{"$f":"LOOKUP(EZ7,InputS!5:5,InputS!10:10)","v":1.6E-2},{"$f":"LOOKUP(FA7,InputS!5:5,InputS!10:10)","v":1.6E-2},{"$f":"LOOKUP(FB7,InputS!5:5,InputS!10:10)","v":1.6E-2},{"$f":"LOOKUP(FC7,InputS!5:5,InputS!10:10)","v":1.6E-2},{"$f":"LOOKUP(FD7,InputS!5:5,InputS!10:10)","v":1.6E-2},{"$f":"LOOKUP(FE7,InputS!5:5,InputS!10:10)","v":1.6E-2},{"$f":"LOOKUP(FF7,InputS!5:5,InputS!10:10)","v":1.6E-2},{"$f":"LOOKUP(FG7,InputS!5:5,InputS!10:10)","v":1.6E-2},{"$f":"LOOKUP(FH7,InputS!5:5,InputS!10:10)","v":1.6E-2},{"$f":"LOOKUP(FI7,InputS!5:5,InputS!10:10)","v":1.6E-2},{"$f":"LOOKUP(FJ7,InputS!5:5,InputS!10:10)","v":1.6E-2},{"$f":"LOOKUP(FK7,InputS!5:5,InputS!10:10)","v":1.6E-2},{"$f":"LOOKUP(FL7,InputS!5:5,InputS!10:10)","v":1.6E-2},{"$f":"LOOKUP(FM7,InputS!5:5,InputS!10:10)","v":1.6E-2},{"$f":"LOOKUP(FN7,InputS!5:5,InputS!10:10)","v":1.6E-2},{"$f":"LOOKUP(FO7,InputS!5:5,InputS!10:10)","v":1.6E-2},{"$f":"LOOKUP(FP7,InputS!5:5,InputS!10:10)","v":1.6E-2},{"$f":"LOOKUP(FQ7,InputS!5:5,InputS!10:10)","v":1.6E-2},{"$f":"LOOKUP(FR7,InputS!5:5,InputS!10:10)","v":1.6E-2},{"$f":"LOOKUP(FS7,InputS!5:5,InputS!10:10)","v":1.6E-2},{"$f":"LOOKUP(FT7,InputS!5:5,InputS!10:10)","v":1.6E-2},{"$f":"LOOKUP(FU7,InputS!5:5,InputS!10:10)","v":1.6E-2},{"$f":"LOOKUP(FV7,InputS!5:5,InputS!10:10)","v":1.6E-2},{"$f":"LOOKUP(FW7,InputS!5:5,InputS!10:10)","v":1.6E-2},{"$f":"LOOKUP(FX7,InputS!5:5,InputS!10:10)","v":1.6E-2},{"$f":"LOOKUP(FY7,InputS!5:5,InputS!10:10)","v":1.6E-2},{"$f":"LOOKUP(FZ7,InputS!5:5,InputS!10:10)","v":1.6E-2},{"$f":"LOOKUP(GA7,InputS!5:5,InputS!10:10)","v":1.6E-2},{"$f":"LOOKUP(GB7,InputS!5:5,InputS!10:10)","v":1.6E-2},{"$f":"LOOKUP(GC7,InputS!5:5,InputS!10:10)","v":1.6E-2},{"$f":"LOOKUP(GD7,InputS!5:5,InputS!10:10)","v":1.6E-2},{"$f":"LOOKUP(GE7,InputS!5:5,InputS!10:10)","v":1.6E-2},{"$f":"LOOKUP(GF7,InputS!5:5,InputS!10:10)","v":1.6E-2},{"$f":"LOOKUP(GG7,InputS!5:5,InputS!10:10)","v":1.6E-2},{"$f":"LOOKUP(GH7,InputS!5:5,InputS!10:10)","v":1.6E-2},{"$f":"LOOKUP(GI7,InputS!5:5,InputS!10:10)","v":1.6E-2},{"$f":"LOOKUP(GJ7,InputS!5:5,InputS!10:10)","v":1.6E-2},{"$f":"LOOKUP(GK7,InputS!5:5,InputS!10:10)","v":1.6E-2},{"$f":"LOOKUP(GL7,InputS!5:5,InputS!10:10)","v":1.6E-2},{"$f":"LOOKUP(GM7,InputS!5:5,InputS!10:10)","v":1.6E-2},{"$f":"LOOKUP(GN7,InputS!5:5,InputS!10:10)","v":1.6E-2},{"$f":"LOOKUP(GO7,InputS!5:5,InputS!10:10)","v":1.6E-2},{"$f":"LOOKUP(GP7,InputS!5:5,InputS!10:10)","v":1.6E-2},{"$f":"LOOKUP(GQ7,InputS!5:5,InputS!10:10)","v":1.6E-2},{"$f":"LOOKUP(GR7,InputS!5:5,InputS!10:10)","v":1.6E-2},{"$f":"LOOKUP(GS7,InputS!5:5,InputS!10:10)","v":1.6E-2},{"$f":"LOOKUP(GT7,InputS!5:5,InputS!10:10)","v":1.6E-2},{"$f":"LOOKUP(GU7,InputS!5:5,InputS!10:10)","v":1.6E-2},{"$f":"LOOKUP(GV7,InputS!5:5,InputS!10:10)","v":1.6E-2},{"$f":"LOOKUP(GW7,InputS!5:5,InputS!10:10)","v":1.6E-2},{"$f":"LOOKUP(GX7,InputS!5:5,InputS!10:10)","v":1.6E-2},{"$f":"LOOKUP(GY7,InputS!5:5,InputS!10:10)","v":1.6E-2},{"$f":"LOOKUP(GZ7,InputS!5:5,InputS!10:10)","v":1.6E-2},{"$f":"LOOKUP(HA7,InputS!5:5,InputS!10:10)","v":1.6E-2},{"$f":"LOOKUP(HB7,InputS!5:5,InputS!10:10)","v":1.6E-2},{"$f":"LOOKUP(HC7,InputS!5:5,InputS!10:10)","v":1.6E-2},{"$f":"LOOKUP(HD7,InputS!5:5,InputS!10:10)","v":1.6E-2},{"$f":"LOOKUP(HE7,InputS!5:5,InputS!10:10)","v":1.6E-2},{"$f":"LOOKUP(HF7,InputS!5:5,InputS!10:10)","v":1.6E-2},{"$f":"LOOKUP(HG7,InputS!5:5,InputS!10:10)","v":1.6E-2},{"$f":"LOOKUP(HH7,InputS!5:5,InputS!10:10)","v":1.6E-2},{"$f":"LOOKUP(HI7,InputS!5:5,InputS!10:10)","v":1.6E-2},{"$f":"LOOKUP(HJ7,InputS!5:5,InputS!10:10)","v":1.6E-2},{"$f":"LOOKUP(HK7,InputS!5:5,InputS!10:10)","v":1.6E-2},{"$f":"LOOKUP(HL7,InputS!5:5,InputS!10:10)","v":1.6E-2},{"$f":"LOOKUP(HM7,InputS!5:5,InputS!10:10)","v":1.6E-2},{"$f":"LOOKUP(HN7,InputS!5:5,InputS!10:10)","v":1.6E-2},{"$f":"LOOKUP(HO7,InputS!5:5,InputS!10:10)","v":1.6E-2},{"$f":"LOOKUP(HP7,InputS!5:5,InputS!10:10)","v":1.6E-2},{"$f":"LOOKUP(HQ7,InputS!5:5,InputS!10:10)","v":1.6E-2},{"$f":"LOOKUP(HR7,InputS!5:5,InputS!10:10)","v":1.6E-2},{"$f":"LOOKUP(HS7,InputS!5:5,InputS!10:10)","v":1.6E-2},{"$f":"LOOKUP(HT7,InputS!5:5,InputS!10:10)","v":1.6E-2},{"$f":"LOOKUP(HU7,InputS!5:5,InputS!10:10)","v":1.6E-2},{"$f":"LOOKUP(HV7,InputS!5:5,InputS!10:10)","v":1.6E-2},{"$f":"LOOKUP(HW7,InputS!5:5,InputS!10:10)","v":1.6E-2},{"$f":"LOOKUP(HX7,InputS!5:5,InputS!10:10)","v":1.6E-2},{"$f":"LOOKUP(HY7,InputS!5:5,InputS!10:10)","v":1.6E-2},{"$f":"LOOKUP(HZ7,InputS!5:5,InputS!10:10)","v":1.6E-2},{"$f":"LOOKUP(IA7,InputS!5:5,InputS!10:10)","v":1.6E-2},{"$f":"LOOKUP(IB7,InputS!5:5,InputS!10:10)","v":1.6E-2},{"$f":"LOOKUP(IC7,InputS!5:5,InputS!10:10)","v":1.6E-2},{"$f":"LOOKUP(ID7,InputS!5:5,InputS!10:10)","v":1.6E-2},{"$f":"LOOKUP(IE7,InputS!5:5,InputS!10:10)","v":1.6E-2},{"$f":"LOOKUP(IF7,InputS!5:5,InputS!10:10)","v":1.6E-2},{"$f":"LOOKUP(IG7,InputS!5:5,InputS!10:10)","v":1.6E-2},{"$f":"LOOKUP(IH7,InputS!5:5,InputS!10:10)","v":1.6E-2},{"$f":"LOOKUP(II7,InputS!5:5,InputS!10:10)","v":1.6E-2},{"$f":"LOOKUP(IJ7,InputS!5:5,InputS!10:10)","v":1.6E-2},{"$f":"LOOKUP(IK7,InputS!5:5,InputS!10:10)","v":1.6E-2},{"$f":"LOOKUP(IL7,InputS!5:5,InputS!10:10)","v":1.6E-2},{"$f":"LOOKUP(IM7,InputS!5:5,InputS!10:10)","v":1.6E-2},{"$f":"LOOKUP(IN7,InputS!5:5,InputS!10:10)","v":1.6E-2},{"$f":"LOOKUP(IO7,InputS!5:5,InputS!10:10)","v":1.6E-2},{"$f":"LOOKUP(IP7,InputS!5:5,InputS!10:10)","v":1.6E-2},{"$f":"LOOKUP(IQ7,InputS!5:5,InputS!10:10)","v":1.6E-2},{"$f":"LOOKUP(IR7,InputS!5:5,InputS!10:10)","v":1.6E-2},{"$f":"LOOKUP(IS7,InputS!5:5,InputS!10:10)","v":1.6E-2},{"$f":"LOOKUP(IT7,InputS!5:5,InputS!10:10)","v":1.6E-2},{"$f":"LOOKUP(IU7,InputS!5:5,InputS!10:10)","v":1.6E-2},{"$f":"LOOKUP(IV7,InputS!5:5,InputS!10:10)","v":1.6E-2},{"$f":"LOOKUP(IW7,InputS!5:5,InputS!10:10)","v":1.6E-2},{"$f":"LOOKUP(IX7,InputS!5:5,InputS!10:10)","v":1.6E-2},{"$f":"LOOKUP(IY7,InputS!5:5,InputS!10:10)","v":1.6E-2},{"$f":"LOOKUP(IZ7,InputS!5:5,InputS!10:10)","v":1.6E-2},{"$f":"LOOKUP(JA7,InputS!5:5,InputS!10:10)","v":1.6E-2},{"$f":"LOOKUP(JB7,InputS!5:5,InputS!10:10)","v":1.6E-2},{"$f":"LOOKUP(JC7,InputS!5:5,InputS!10:10)","v":1.6E-2},{"$f":"LOOKUP(JD7,InputS!5:5,InputS!10:10)","v":1.6E-2},{"$f":"LOOKUP(JE7,InputS!5:5,InputS!10:10)","v":1.6E-2},{"$f":"LOOKUP(JF7,InputS!5:5,InputS!10:10)","v":1.6E-2},{"$f":"LOOKUP(JG7,InputS!5:5,InputS!10:10)","v":1.6E-2},{"$f":"LOOKUP(JH7,InputS!5:5,InputS!10:10)","v":1.6E-2},{"$f":"LOOKUP(JI7,InputS!5:5,InputS!10:10)","v":1.6E-2},{"$f":"LOOKUP(JJ7,InputS!5:5,InputS!10:10)","v":1.6E-2},{"$f":"LOOKUP(JK7,InputS!5:5,InputS!10:10)","v":1.6E-2},{"$f":"LOOKUP(JL7,InputS!5:5,InputS!10:10)","v":1.6E-2},{"$f":"LOOKUP(JM7,InputS!5:5,InputS!10:10)","v":1.6E-2},{"$f":"LOOKUP(JN7,InputS!5:5,InputS!10:10)","v":1.6E-2},{"$f":"LOOKUP(JO7,InputS!5:5,InputS!10:10)","v":1.6E-2},{"$f":"LOOKUP(JP7,InputS!5:5,InputS!10:10)","v":1.6E-2},{"$f":"LOOKUP(JQ7,InputS!5:5,InputS!10:10)","v":1.6E-2},{"$f":"LOOKUP(JR7,InputS!5:5,InputS!10:10)","v":1.6E-2},{"$f":"LOOKUP(JS7,InputS!5:5,InputS!10:10)","v":1.6E-2},{"$f":"LOOKUP(JT7,InputS!5:5,InputS!10:10)","v":1.6E-2},{"$f":"LOOKUP(JU7,InputS!5:5,InputS!10:10)","v":1.6E-2},{"$f":"LOOKUP(JV7,InputS!5:5,InputS!10:10)","v":1.6E-2},{"$f":"LOOKUP(JW7,InputS!5:5,InputS!10:10)","v":1.6E-2},{"$f":"LOOKUP(JX7,InputS!5:5,InputS!10:10)","v":1.6E-2},{"$f":"LOOKUP(JY7,InputS!5:5,InputS!10:10)","v":1.6E-2},{"$f":"LOOKUP(JZ7,InputS!5:5,InputS!10:10)","v":1.6E-2},{"$f":"LOOKUP(KA7,InputS!5:5,InputS!10:10)","v":1.6E-2},{"$f":"LOOKUP(KB7,InputS!5:5,InputS!10:10)","v":1.6E-2},{"$f":"LOOKUP(KC7,InputS!5:5,InputS!10:10)","v":1.6E-2},{"$f":"LOOKUP(KD7,InputS!5:5,InputS!10:10)","v":1.6E-2},{"$f":"LOOKUP(KE7,InputS!5:5,InputS!10:10)","v":1.6E-2},{"$f":"LOOKUP(KF7,InputS!5:5,InputS!10:10)","v":1.6E-2},{"$f":"LOOKUP(KG7,InputS!5:5,InputS!10:10)","v":1.6E-2},{"$f":"LOOKUP(KH7,InputS!5:5,InputS!10:10)","v":1.6E-2},{"$f":"LOOKUP(KI7,InputS!5:5,InputS!10:10)","v":1.6E-2},{"$f":"LOOKUP(KJ7,InputS!5:5,InputS!10:10)","v":1.6E-2},{"$f":"LOOKUP(KK7,InputS!5:5,InputS!10:10)","v":1.6E-2},{"$f":"LOOKUP(KL7,InputS!5:5,InputS!10:10)","v":1.6E-2},{"$f":"LOOKUP(KM7,InputS!5:5,InputS!10:10)","v":1.6E-2},{"$f":"LOOKUP(KN7,InputS!5:5,InputS!10:10)","v":1.6E-2},{"$f":"LOOKUP(KO7,InputS!5:5,InputS!10:10)","v":1.6E-2},{"$f":"LOOKUP(KP7,InputS!5:5,InputS!10:10)","v":1.6E-2},{"$f":"LOOKUP(KQ7,InputS!5:5,InputS!10:10)","v":1.6E-2},{"$f":"LOOKUP(KR7,InputS!5:5,InputS!10:10)","v":1.6E-2},{"$f":"LOOKUP(KS7,InputS!5:5,InputS!10:10)","v":1.6E-2},{"$f":"LOOKUP(KT7,InputS!5:5,InputS!10:10)","v":1.6E-2},{"$f":"LOOKUP(KU7,InputS!5:5,InputS!10:10)","v":1.6E-2},{"$f":"LOOKUP(KV7,InputS!5:5,InputS!10:10)","v":1.6E-2},{"$f":"LOOKUP(KW7,InputS!5:5,InputS!10:10)","v":1.6E-2},{"$f":"LOOKUP(KX7,InputS!5:5,InputS!10:10)","v":1.6E-2},{"$f":"LOOKUP(KY7,InputS!5:5,InputS!10:10)","v":1.6E-2},{"$f":"LOOKUP(KZ7,InputS!5:5,InputS!10:10)","v":1.6E-2},{"$f":"LOOKUP(LA7,InputS!5:5,InputS!10:10)","v":1.6E-2},{"$f":"LOOKUP(LB7,InputS!5:5,InputS!10:10)","v":1.6E-2},{"$f":"LOOKUP(LC7,InputS!5:5,InputS!10:10)","v":1.6E-2},{"$f":"LOOKUP(LD7,InputS!5:5,InputS!10:10)","v":1.6E-2},{"$f":"LOOKUP(LE7,InputS!5:5,InputS!10:10)","v":1.6E-2},{"$f":"LOOKUP(LF7,InputS!5:5,InputS!10:10)","v":1.6E-2},{"$f":"LOOKUP(LG7,InputS!5:5,InputS!10:10)","v":1.6E-2},{"$f":"LOOKUP(LH7,InputS!5:5,InputS!10:10)","v":1.6E-2},{"$f":"LOOKUP(LI7,InputS!5:5,InputS!10:10)","v":1.6E-2},{"$f":"LOOKUP(LJ7,InputS!5:5,InputS!10:10)","v":1.6E-2},{"$f":"LOOKUP(LK7,InputS!5:5,InputS!10:10)","v":1.6E-2},{"$f":"LOOKUP(LL7,InputS!5:5,InputS!10:10)","v":1.6E-2},{"$f":"LOOKUP(LM7,InputS!5:5,InputS!10:10)","v":1.6E-2},{"$f":"LOOKUP(LN7,InputS!5:5,InputS!10:10)","v":1.6E-2},{"$f":"LOOKUP(LO7,InputS!5:5,InputS!10:10)","v":1.6E-2},{"$f":"LOOKUP(LP7,InputS!5:5,InputS!10:10)","v":1.6E-2},{"$f":"LOOKUP(LQ7,InputS!5:5,InputS!10:10)","v":1.6E-2},{"$f":"LOOKUP(LR7,InputS!5:5,InputS!10:10)","v":1.6E-2},{"$f":"LOOKUP(LS7,InputS!5:5,InputS!10:10)","v":1.6E-2},{"$f":"LOOKUP(LT7,InputS!5:5,InputS!10:10)","v":1.6E-2},{"$f":"LOOKUP(LU7,InputS!5:5,InputS!10:10)","v":1.6E-2},{"$f":"LOOKUP(LV7,InputS!5:5,InputS!10:10)","v":1.6E-2},{"$f":"LOOKUP(LW7,InputS!5:5,InputS!10:10)","v":1.6E-2},{"$f":"LOOKUP(LX7,InputS!5:5,InputS!10:10)","v":1.6E-2},{"$f":"LOOKUP(LY7,InputS!5:5,InputS!10:10)","v":1.6E-2},{"$f":"LOOKUP(LZ7,InputS!5:5,InputS!10:10)","v":1.6E-2},{"$f":"LOOKUP(MA7,InputS!5:5,InputS!10:10)","v":1.6E-2},{"$f":"LOOKUP(MB7,InputS!5:5,InputS!10:10)","v":1.6E-2},{"$f":"LOOKUP(MC7,InputS!5:5,InputS!10:10)","v":1.6E-2},{"$f":"LOOKUP(MD7,InputS!5:5,InputS!10:10)","v":1.6E-2},{"$f":"LOOKUP(ME7,InputS!5:5,InputS!10:10)","v":1.6E-2},{"$f":"LOOKUP(MF7,InputS!5:5,InputS!10:10)","v":1.6E-2},{"$f":"LOOKUP(MG7,InputS!5:5,InputS!10:10)","v":1.6E-2},{"$f":"LOOKUP(MH7,InputS!5:5,InputS!10:10)","v":1.6E-2},{"$f":"LOOKUP(MI7,InputS!5:5,InputS!10:10)","v":1.6E-2},{"$f":"LOOKUP(MJ7,InputS!5:5,InputS!10:10)","v":1.6E-2},{"$f":"LOOKUP(MK7,InputS!5:5,InputS!10:10)","v":1.6E-2},{"$f":"LOOKUP(ML7,InputS!5:5,InputS!10:10)","v":1.6E-2},{"$f":"LOOKUP(MM7,InputS!5:5,InputS!10:10)","v":1.6E-2},{"$f":"LOOKUP(MN7,InputS!5:5,InputS!10:10)","v":1.6E-2},{"$f":"LOOKUP(MO7,InputS!5:5,InputS!10:10)","v":1.6E-2},{"$f":"LOOKUP(MP7,InputS!5:5,InputS!10:10)","v":1.6E-2},{"$f":"LOOKUP(MQ7,InputS!5:5,InputS!10:10)","v":1.6E-2},{"$f":"LOOKUP(MR7,InputS!5:5,InputS!10:10)","v":1.6E-2},{"$f":"LOOKUP(MS7,InputS!5:5,InputS!10:10)","v":1.6E-2},{"$f":"LOOKUP(MT7,InputS!5:5,InputS!10:10)","v":1.6E-2},{"$f":"LOOKUP(MU7,InputS!5:5,InputS!10:10)","v":1.6E-2},{"$f":"LOOKUP(MV7,InputS!5:5,InputS!10:10)","v":1.6E-2},{"$f":"LOOKUP(MW7,InputS!5:5,InputS!10:10)","v":1.6E-2},{"$f":"LOOKUP(MX7,InputS!5:5,InputS!10:10)","v":1.6E-2},{"$f":"LOOKUP(MY7,InputS!5:5,InputS!10:10)","v":1.6E-2},{"$f":"LOOKUP(MZ7,InputS!5:5,InputS!10:10)","v":1.6E-2},{"$f":"LOOKUP(NA7,InputS!5:5,InputS!10:10)","v":1.6E-2},{"$f":"LOOKUP(NB7,InputS!5:5,InputS!10:10)","v":1.6E-2},{"$f":"LOOKUP(NC7,InputS!5:5,InputS!10:10)","v":1.6E-2},{"$f":"LOOKUP(ND7,InputS!5:5,InputS!10:10)","v":1.6E-2},{"$f":"LOOKUP(NE7,InputS!5:5,InputS!10:10)","v":1.6E-2},{"$f":"LOOKUP(NF7,InputS!5:5,InputS!10:10)","v":1.6E-2},{"$f":"LOOKUP(NG7,InputS!5:5,InputS!10:10)","v":1.6E-2},{"$f":"LOOKUP(NH7,InputS!5:5,InputS!10:10)","v":1.6E-2},{"$f":"LOOKUP(NI7,InputS!5:5,InputS!10:10)","v":1.6E-2},{"$f":"LOOKUP(NJ7,InputS!5:5,InputS!10:10)","v":1.6E-2},{"$f":"LOOKUP(NK7,InputS!5:5,InputS!10:10)","v":1.6E-2},{"$f":"LOOKUP(NL7,InputS!5:5,InputS!10:10)","v":1.6E-2},{"$f":"LOOKUP(NM7,InputS!5:5,InputS!10:10)","v":1.6E-2},{"$f":"LOOKUP(NN7,InputS!5:5,InputS!10:10)","v":1.6E-2},{"$f":"LOOKUP(NO7,InputS!5:5,InputS!10:10)","v":1.6E-2},{"$f":"LOOKUP(NP7,InputS!5:5,InputS!10:10)","v":1.6E-2},{"$f":"LOOKUP(NQ7,InputS!5:5,InputS!10:10)","v":1.6E-2},{"$f":"LOOKUP(NR7,InputS!5:5,InputS!10:10)","v":1.6E-2},{"$f":"LOOKUP(NS7,InputS!5:5,InputS!10:10)","v":1.6E-2},{"$f":"LOOKUP(NT7,InputS!5:5,InputS!10:10)","v":1.6E-2},{"$f":"LOOKUP(NU7,InputS!5:5,InputS!10:10)","v":1.6E-2},{"$f":"LOOKUP(NV7,InputS!5:5,InputS!10:10)","v":1.6E-2},{"$f":"LOOKUP(NW7,InputS!5:5,InputS!10:10)","v":1.6E-2},{"$f":"LOOKUP(NX7,InputS!5:5,InputS!10:10)","v":1.6E-2},{"$f":"LOOKUP(NY7,InputS!5:5,InputS!10:10)","v":1.6E-2},{"$f":"LOOKUP(NZ7,InputS!5:5,InputS!10:10)","v":1.6E-2},{"$f":"LOOKUP(OA7,InputS!5:5,InputS!10:10)","v":1.6E-2},{"$f":"LOOKUP(OB7,InputS!5:5,InputS!10:10)","v":1.6E-2},{"$f":"LOOKUP(OC7,InputS!5:5,InputS!10:10)","v":1.6E-2},{"$f":"LOOKUP(OD7,InputS!5:5,InputS!10:10)","v":1.6E-2},{"$f":"LOOKUP(OE7,InputS!5:5,InputS!10:10)","v":1.6E-2},{"$f":"LOOKUP(OF7,InputS!5:5,InputS!10:10)","v":1.6E-2},{"$f":"LOOKUP(OG7,InputS!5:5,InputS!10:10)","v":1.6E-2},{"$f":"LOOKUP(OH7,InputS!5:5,InputS!10:10)","v":1.6E-2},{"$f":"LOOKUP(OI7,InputS!5:5,InputS!10:10)","v":1.6E-2},{"$f":"LOOKUP(OJ7,InputS!5:5,InputS!10:10)","v":1.6E-2},{"$f":"LOOKUP(OK7,InputS!5:5,InputS!10:10)","v":1.6E-2},{"$f":"LOOKUP(OL7,InputS!5:5,InputS!10:10)","v":1.6E-2},{"$f":"LOOKUP(OM7,InputS!5:5,InputS!10:10)","v":1.6E-2},{"$f":"LOOKUP(ON7,InputS!5:5,InputS!10:10)","v":1.6E-2},{"$f":"LOOKUP(OO7,InputS!5:5,InputS!10:10)","v":1.6E-2},{"$f":"LOOKUP(OP7,InputS!5:5,InputS!10:10)","v":1.6E-2},{"$f":"LOOKUP(OQ7,InputS!5:5,InputS!10:10)","v":1.6E-2},{"$f":"LOOKUP(OR7,InputS!5:5,InputS!10:10)","v":1.6E-2},{"$f":"LOOKUP(OS7,InputS!5:5,InputS!10:10)","v":1.6E-2},{"$f":"LOOKUP(OT7,InputS!5:5,InputS!10:10)","v":1.6E-2},{"$f":"LOOKUP(OU7,InputS!5:5,InputS!10:10)","v":1.6E-2},{"$f":"LOOKUP(OV7,InputS!5:5,InputS!10:10)","v":1.6E-2},{"$f":"LOOKUP(OW7,InputS!5:5,InputS!10:10)","v":1.6E-2},{"$f":"LOOKUP(OX7,InputS!5:5,InputS!10:10)","v":1.6E-2},{"$f":"LOOKUP(OY7,InputS!5:5,InputS!10:10)","v":1.6E-2},{"$f":"LOOKUP(OZ7,InputS!5:5,InputS!10:10)","v":1.6E-2},{"$f":"LOOKUP(PA7,InputS!5:5,InputS!10:10)","v":1.6E-2},{"$f":"LOOKUP(PB7,InputS!5:5,InputS!10:10)","v":1.6E-2},{"$f":"LOOKUP(PC7,InputS!5:5,InputS!10:10)","v":1.6E-2},{"$f":"LOOKUP(PD7,InputS!5:5,InputS!10:10)","v":1.6E-2},{"$f":"LOOKUP(PE7,InputS!5:5,InputS!10:10)","v":1.6E-2},{"$f":"LOOKUP(PF7,InputS!5:5,InputS!10:10)","v":1.6E-2},{"$f":"LOOKUP(PG7,InputS!5:5,InputS!10:10)","v":1.6E-2},{"$f":"LOOKUP(PH7,InputS!5:5,InputS!10:10)","v":1.6E-2},{"$f":"LOOKUP(PI7,InputS!5:5,InputS!10:10)","v":1.6E-2},{"$f":"LOOKUP(PJ7,InputS!5:5,InputS!10:10)","v":1.6E-2},{"$f":"LOOKUP(PK7,InputS!5:5,InputS!10:10)","v":1.6E-2},{"$f":"LOOKUP(PL7,InputS!5:5,InputS!10:10)","v":1.6E-2},{"$f":"LOOKUP(PM7,InputS!5:5,InputS!10:10)","v":1.6E-2},{"$f":"LOOKUP(PN7,InputS!5:5,InputS!10:10)","v":1.6E-2},{"$f":"LOOKUP(PO7,InputS!5:5,InputS!10:10)","v":1.6E-2},{"$f":"LOOKUP(PP7,InputS!5:5,InputS!10:10)","v":1.6E-2},{"$f":"LOOKUP(PQ7,InputS!5:5,InputS!10:10)","v":1.6E-2},{"$f":"LOOKUP(PR7,InputS!5:5,InputS!10:10)","v":1.6E-2},{"$f":"LOOKUP(PS7,InputS!5:5,InputS!10:10)","v":1.6E-2},{"$f":"LOOKUP(PT7,InputS!5:5,InputS!10:10)","v":1.6E-2},{"$f":"LOOKUP(PU7,InputS!5:5,InputS!10:10)","v":1.6E-2},{"$f":"LOOKUP(PV7,InputS!5:5,InputS!10:10)","v":1.6E-2},{"$f":"LOOKUP(PW7,InputS!5:5,InputS!10:10)","v":1.6E-2},{"$f":"LOOKUP(PX7,InputS!5:5,InputS!10:10)","v":1.6E-2},{"$f":"LOOKUP(PY7,InputS!5:5,InputS!10:10)","v":1.6E-2},{"$f":"LOOKUP(PZ7,InputS!5:5,InputS!10:10)","v":1.6E-2},{"$f":"LOOKUP(QA7,InputS!5:5,InputS!10:10)","v":1.6E-2},{"$f":"LOOKUP(QB7,InputS!5:5,InputS!10:10)","v":1.6E-2},{"$f":"LOOKUP(QC7,InputS!5:5,InputS!10:10)","v":1.6E-2},{"$f":"LOOKUP(QD7,InputS!5:5,InputS!10:10)","v":1.6E-2},{"$f":"LOOKUP(QE7,InputS!5:5,InputS!10:10)","v":1.6E-2},{"$f":"LOOKUP(QF7,InputS!5:5,InputS!10:10)","v":1.6E-2},{"$f":"LOOKUP(QG7,InputS!5:5,InputS!10:10)","v":1.6E-2},{"$f":"LOOKUP(QH7,InputS!5:5,InputS!10:10)","v":1.6E-2},{"$f":"LOOKUP(QI7,InputS!5:5,InputS!10:10)","v":1.6E-2},{"$f":"LOOKUP(QJ7,InputS!5:5,InputS!10:10)","v":1.6E-2},{"$f":"LOOKUP(QK7,InputS!5:5,InputS!10:10)","v":1.6E-2},{"$f":"LOOKUP(QL7,InputS!5:5,InputS!10:10)","v":1.6E-2},{"$f":"LOOKUP(QM7,InputS!5:5,InputS!10:10)","v":1.6E-2},{"$f":"LOOKUP(QN7,InputS!5:5,InputS!10:10)","v":1.6E-2},{"$f":"LOOKUP(QO7,InputS!5:5,InputS!10:10)","v":1.6E-2},{"$f":"LOOKUP(QP7,InputS!5:5,InputS!10:10)","v":1.6E-2},{"$f":"LOOKUP(QQ7,InputS!5:5,InputS!10:10)","v":1.6E-2},{"$f":"LOOKUP(QR7,InputS!5:5,InputS!10:10)","v":1.6E-2},{"$f":"LOOKUP(QS7,InputS!5:5,InputS!10:10)","v":1.6E-2},{"$f":"LOOKUP(QT7,InputS!5:5,InputS!10:10)","v":1.6E-2},{"$f":"LOOKUP(QU7,InputS!5:5,InputS!10:10)","v":1.6E-2},{"$f":"LOOKUP(QV7,InputS!5:5,InputS!10:10)","v":1.6E-2},{"$f":"LOOKUP(QW7,InputS!5:5,InputS!10:10)","v":1.6E-2},{"$f":"LOOKUP(QX7,InputS!5:5,InputS!10:10)","v":1.6E-2},{"$f":"LOOKUP(QY7,InputS!5:5,InputS!10:10)","v":1.6E-2},{"$f":"LOOKUP(QZ7,InputS!5:5,InputS!10:10)","v":1.6E-2},{"$f":"LOOKUP(RA7,InputS!5:5,InputS!10:10)","v":1.6E-2},{"$f":"LOOKUP(RB7,InputS!5:5,InputS!10:10)","v":1.6E-2},{"$f":"LOOKUP(RC7,InputS!5:5,InputS!10:10)","v":1.6E-2},{"$f":"LOOKUP(RD7,InputS!5:5,InputS!10:10)","v":1.6E-2},{"$f":"LOOKUP(RE7,InputS!5:5,InputS!10:10)","v":1.6E-2},{"$f":"LOOKUP(RF7,InputS!5:5,InputS!10:10)","v":1.6E-2},{"$f":"LOOKUP(RG7,InputS!5:5,InputS!10:10)","v":1.6E-2},{"$f":"LOOKUP(RH7,InputS!5:5,InputS!10:10)","v":1.6E-2},{"$f":"LOOKUP(RI7,InputS!5:5,InputS!10:10)","v":1.6E-2},{"$f":"LOOKUP(RJ7,InputS!5:5,InputS!10:10)","v":1.6E-2},{"$f":"LOOKUP(RK7,InputS!5:5,InputS!10:10)","v":1.6E-2},{"$f":"LOOKUP(RL7,InputS!5:5,InputS!10:10)","v":1.6E-2},{"$f":"LOOKUP(RM7,InputS!5:5,InputS!10:10)","v":1.6E-2},{"$f":"LOOKUP(RN7,InputS!5:5,InputS!10:10)","v":1.6E-2},{"$f":"LOOKUP(RO7,InputS!5:5,InputS!10:10)","v":1.6E-2},{"$f":"LOOKUP(RP7,InputS!5:5,InputS!10:10)","v":1.6E-2},{"$f":"LOOKUP(RQ7,InputS!5:5,InputS!10:10)","v":1.6E-2},{"$f":"LOOKUP(RR7,InputS!5:5,InputS!10:10)","v":1.6E-2},{"$f":"LOOKUP(RS7,InputS!5:5,InputS!10:10)","v":1.6E-2},{"$f":"LOOKUP(RT7,InputS!5:5,InputS!10:10)","v":1.6E-2},{"$f":"LOOKUP(RU7,InputS!5:5,InputS!10:10)","v":1.6E-2},{"$f":"LOOKUP(RV7,InputS!5:5,InputS!10:10)","v":1.6E-2},{"$f":"LOOKUP(RW7,InputS!5:5,InputS!10:10)","v":1.6E-2},{"$f":"LOOKUP(RX7,InputS!5:5,InputS!10:10)","v":1.6E-2},{"$f":"LOOKUP(RY7,InputS!5:5,InputS!10:10)","v":1.6E-2},{"$f":"LOOKUP(RZ7,InputS!5:5,InputS!10:10)","v":1.6E-2},{"$f":"LOOKUP(SA7,InputS!5:5,InputS!10:10)","v":1.6E-2},{"$f":"LOOKUP(SB7,InputS!5:5,InputS!10:10)","v":1.6E-2},{"$f":"LOOKUP(SC7,InputS!5:5,InputS!10:10)","v":1.6E-2},{"$f":"LOOKUP(SD7,InputS!5:5,InputS!10:10)","v":1.6E-2},{"$f":"LOOKUP(SE7,InputS!5:5,InputS!10:10)","v":1.6E-2},{"$f":"LOOKUP(SF7,InputS!5:5,InputS!10:10)","v":1.6E-2},{"$f":"LOOKUP(SG7,InputS!5:5,InputS!10:10)","v":1.6E-2},{"$f":"LOOKUP(SH7,InputS!5:5,InputS!10:10)","v":1.6E-2},{"$f":"LOOKUP(SI7,InputS!5:5,InputS!10:10)","v":1.6E-2},{"$f":"LOOKUP(SJ7,InputS!5:5,InputS!10:10)","v":1.6E-2},{"$f":"LOOKUP(SK7,InputS!5:5,InputS!10:10)","v":1.6E-2},{"$f":"LOOKUP(SL7,InputS!5:5,InputS!10:10)","v":1.6E-2},{"$f":"LOOKUP(SM7,InputS!5:5,InputS!10:10)","v":1.6E-2},{"$f":"LOOKUP(SN7,InputS!5:5,InputS!10:10)","v":1.6E-2},{"$f":"LOOKUP(SO7,InputS!5:5,InputS!10:10)","v":1.6E-2},{"$f":"LOOKUP(SP7,InputS!5:5,InputS!10:10)","v":1.6E-2},{"$f":"LOOKUP(SQ7,InputS!5:5,InputS!10:10)","v":1.6E-2},{"$f":"LOOKUP(SR7,InputS!5:5,InputS!10:10)","v":1.6E-2},{"$f":"LOOKUP(SS7,InputS!5:5,InputS!10:10)","v":1.6E-2},{"$f":"LOOKUP(ST7,InputS!5:5,InputS!10:10)","v":1.6E-2},{"$f":"LOOKUP(SU7,InputS!5:5,InputS!10:10)","v":1.6E-2},{"$f":"LOOKUP(SV7,InputS!5:5,InputS!10:10)","v":1.6E-2},{"$f":"LOOKUP(SW7,InputS!5:5,InputS!10:10)","v":1.6E-2},{"$f":"LOOKUP(SX7,InputS!5:5,InputS!10:10)","v":1.6E-2},{"$f":"LOOKUP(SY7,InputS!5:5,InputS!10:10)","v":1.6E-2},{"$f":"LOOKUP(SZ7,InputS!5:5,InputS!10:10)","v":1.6E-2},{"$f":"LOOKUP(TA7,InputS!5:5,InputS!10:10)","v":1.6E-2},{"$f":"LOOKUP(TB7,InputS!5:5,InputS!10:10)","v":1.6E-2},{"$f":"LOOKUP(TC7,InputS!5:5,InputS!10:10)","v":1.6E-2},{"$f":"LOOKUP(TD7,InputS!5:5,InputS!10:10)","v":1.6E-2},{"$f":"LOOKUP(TE7,InputS!5:5,InputS!10:10)","v":1.6E-2},{"$f":"LOOKUP(TF7,InputS!5:5,InputS!10:10)","v":1.6E-2},{"$f":"LOOKUP(TG7,InputS!5:5,InputS!10:10)","v":1.6E-2},{"$f":"LOOKUP(TH7,InputS!5:5,InputS!10:10)","v":1.6E-2},{"$f":"LOOKUP(TI7,InputS!5:5,InputS!10:10)","v":1.6E-2},{"$f":"LOOKUP(TJ7,InputS!5:5,InputS!10:10)","v":1.6E-2},{"$f":"LOOKUP(TK7,InputS!5:5,InputS!10:10)","v":1.6E-2},{"$f":"LOOKUP(TL7,InputS!5:5,InputS!10:10)","v":1.6E-2},{"$f":"LOOKUP(TM7,InputS!5:5,InputS!10:10)","v":1.6E-2},{"$f":"LOOKUP(TN7,InputS!5:5,InputS!10:10)","v":1.6E-2},{"$f":"LOOKUP(TO7,InputS!5:5,InputS!10:10)","v":1.6E-2},{"$f":"LOOKUP(TP7,InputS!5:5,InputS!10:10)","v":1.6E-2},{"$f":"LOOKUP(TQ7,InputS!5:5,InputS!10:10)","v":1.6E-2},{"$f":"LOOKUP(TR7,InputS!5:5,InputS!10:10)","v":1.6E-2},{"$f":"LOOKUP(TS7,InputS!5:5,InputS!10:10)","v":1.6E-2},{"$f":"LOOKUP(TT7,InputS!5:5,InputS!10:10)","v":1.6E-2},{"$f":"LOOKUP(TU7,InputS!5:5,InputS!10:10)","v":1.6E-2},{"$f":"LOOKUP(TV7,InputS!5:5,InputS!10:10)","v":1.6E-2},{"$f":"LOOKUP(TW7,InputS!5:5,InputS!10:10)","v":1.6E-2},{"$f":"LOOKUP(TX7,InputS!5:5,InputS!10:10)","v":1.6E-2},{"$f":"LOOKUP(TY7,InputS!5:5,InputS!10:10)","v":1.6E-2},{"$f":"LOOKUP(TZ7,InputS!5:5,InputS!10:10)","v":1.6E-2},{"$f":"LOOKUP(UA7,InputS!5:5,InputS!10:10)","v":1.6E-2},{"$f":"LOOKUP(UB7,InputS!5:5,InputS!10:10)","v":1.6E-2},{"$f":"LOOKUP(UC7,InputS!5:5,InputS!10:10)","v":1.6E-2},{"$f":"LOOKUP(UD7,InputS!5:5,InputS!10:10)","v":1.6E-2},{"$f":"LOOKUP(UE7,InputS!5:5,InputS!10:10)","v":1.6E-2},{"$f":"LOOKUP(UF7,InputS!5:5,InputS!10:10)","v":1.6E-2},{"$f":"LOOKUP(UG7,InputS!5:5,InputS!10:10)","v":1.6E-2},{"$f":"LOOKUP(UH7,InputS!5:5,InputS!10:10)","v":1.6E-2},{"$f":"LOOKUP(UI7,InputS!5:5,InputS!10:10)","v":1.6E-2},{"$f":"LOOKUP(UJ7,InputS!5:5,InputS!10:10)","v":1.6E-2},{"$f":"LOOKUP(UK7,InputS!5:5,InputS!10:10)","v":1.6E-2},{"$f":"LOOKUP(UL7,InputS!5:5,InputS!10:10)","v":1.6E-2},{"$f":"LOOKUP(UM7,InputS!5:5,InputS!10:10)","v":1.6E-2},{"$f":"LOOKUP(UN7,InputS!5:5,InputS!10:10)","v":1.6E-2},{"$f":"LOOKUP(UO7,InputS!5:5,InputS!10:10)","v":1.6E-2}]
[null,null,null,"Total Rate","% p.a",null,null,null,null,null,{"$f":"SUM(K53:K54)","v":1.2916666666666667E-2},{"$f":"SUM(L53:L54)","v":1.2916666666666667E-2},1.2916666666666667E-2,1.2916666666666667E-2,1.2916666666666667E-2,1.2916666666666667E-2,1.2916666666666667E-2,1.2916666666666667E-2,1.2916666666666667E-2,1.2916666666666667E-2,1.2916666666666667E-2,1.2916666666666667E-2,1.2916666666666667E-2,1.2916666666666667E-2,1.2916666666666667E-2,1.2916666666666667E-2,1.2916666666666667E-2,1.2916666666666667E-2,1.2916666666666667E-2,1.2916666666666667E-2,1.2916666666666667E-2,1.2916666666666667E-2,1.2916666666666667E-2,1.2916666666666667E-2,1.2916666666666667E-2,1.4916666666666667E-2,1.4916666666666667E-2,1.4916666666666667E-2,1.4916666666666667E-2,1.4916666666666667E-2,1.4916666666666667E-2,1.4916666666666667E-2,1.4916666666666667E-2,1.4916666666666667E-2,1.4916666666666667E-2,1.4916666666666667E-2,1.4916666666666667E-2,1.4916666666666667E-2,1.4916666666666667E-2,1.4916666666666667E-2,1.4916666666666667E-2,1.4916666666666667E-2,1.4916666666666667E-2,1.4916666666666667E-2,1.4916666666666667E-2,1.4916666666666667E-2,1.4916666666666667E-2,1.4916666666666667E-2,1.4916666666666667E-2,1.6916666666666667E-2,1.6916666666666667E-2,1.6916666666666667E-2,1.6916666666666667E-2,1.6916666666666667E-2,1.6916666666666667E-2,1.6916666666666667E-2,1.6916666666666667E-2,1.6916666666666667E-2,1.6916666666666667E-2,1.6916666666666667E-2,1.6916666666666667E-2,1.6916666666666667E-2,1.6916666666666667E-2,1.6916666666666667E-2,1.6916666666666667E-2,{"$f":"SUM(BX53:BX54)","v":1.6916666666666667E-2},1.6916666666666667E-2,1.6916666666666667E-2,1.6916666666666667E-2,1.6916666666666667E-2,1.6916666666666667E-2,1.6916666666666667E-2,1.6916666666666667E-2,1.7916666666666668E-2,1.7916666666666668E-2,1.7916666666666668E-2,1.7916666666666668E-2,1.7916666666666668E-2,1.7916666666666668E-2,1.7916666666666668E-2,1.7916666666666668E-2,1.7916666666666668E-2,1.7916666666666668E-2,1.7916666666666668E-2,1.7916666666666668E-2,1.7916666666666668E-2,1.7916666666666668E-2,1.7916666666666668E-2,1.7916666666666668E-2,1.7916666666666668E-2,1.7916666666666668E-2,1.7916666666666668E-2,1.7916666666666668E-2,1.7916666666666668E-2,1.7916666666666668E-2,1.7916666666666668E-2,1.7916666666666668E-2,1.8416666666666668E-2,1.8416666666666668E-2,1.8416666666666668E-2,1.8416666666666668E-2,1.8416666666666668E-2,1.8416666666666668E-2,1.8416666666666668E-2,1.8416666666666668E-2,1.8416666666666668E-2,1.8416666666666668E-2,1.8416666666666668E-2,1.8416666666666668E-2,1.8416666666666668E-2,1.8416666666666668E-2,1.8416666666666668E-2,1.8416666666666668E-2,1.8416666666666668E-2,1.8416666666666668E-2,1.8416666666666668E-2,1.8416666666666668E-2,1.8416666666666668E-2,1.8416666666666668E-2,1.8416666666666668E-2,1.8416666666666668E-2,1.8916666666666668E-2,1.8916666666666668E-2,1.8916666666666668E-2,1.8916666666666668E-2,1.8916666666666668E-2,1.8916666666666668E-2,1.8916666666666668E-2,1.8916666666666668E-2,{"$f":"SUM(EJ53:EJ54)","v":1.8916666666666668E-2},1.8916666666666668E-2,1.8916666666666668E-2,1.8916666666666668E-2,1.8916666666666668E-2,1.8916666666666668E-2,1.8916666666666668E-2,1.8916666666666668E-2,1.8916666666666668E-2,1.8916666666666668E-2,1.8916666666666668E-2,1.8916666666666668E-2,1.8916666666666668E-2,1.8916666666666668E-2,1.8916666666666668E-2,1.8916666666666668E-2,1.8916666666666668E-2,1.8916666666666668E-2,1.8916666666666668E-2,1.8916666666666668E-2,1.8916666666666668E-2,1.8916666666666668E-2,1.8916666666666668E-2,1.8916666666666668E-2,1.8916666666666668E-2,1.8916666666666668E-2,1.8916666666666668E-2,1.8916666666666668E-2,1.8916666666666668E-2,1.8916666666666668E-2,1.8916666666666668E-2,1.8916666666666668E-2,1.8916666666666668E-2,1.8916666666666668E-2,1.8916666666666668E-2,1.8916666666666668E-2,1.8916666666666668E-2,1.8916666666666668E-2,1.8916666666666668E-2,1.8916666666666668E-2,1.8916666666666668E-2,1.8916666666666668E-2,1.8916666666666668E-2,1.8916666666666668E-2,1.8916666666666668E-2,1.8916666666666668E-2,1.8916666666666668E-2,1.8916666666666668E-2,1.8916666666666668E-2,1.8916666666666668E-2,1.8916666666666668E-2,1.8916666666666668E-2,1.8916666666666668E-2,1.8916666666666668E-2,1.8916666666666668E-2,1.8916666666666668E-2,1.8916666666666668E-2,1.8916666666666668E-2,1.8916666666666668E-2,1.8916666666666668E-2,1.8916666666666668E-2,1.8916666666666668E-2,1.8916666666666668E-2,1.8916666666666668E-2,{"$f":"SUM(GV53:GV54)","v":1.8916666666666668E-2},1.8916666666666668E-2,1.8916666666666668E-2,1.8916666666666668E-2,1.8916666666666668E-2,1.8916666666666668E-2,1.8916666666666668E-2,1.8916666666666668E-2,1.8916666666666668E-2,1.8916666666666668E-2,1.8916666666666668E-2,1.8916666666666668E-2,1.8916666666666668E-2,1.8916666666666668E-2,1.8916666666666668E-2,1.8916666666666668E-2,1.8916666666666668E-2,1.8916666666666668E-2,1.8916666666666668E-2,1.8916666666666668E-2,1.8916666666666668E-2,1.8916666666666668E-2,1.8916666666666668E-2,1.8916666666666668E-2,1.8916666666666668E-2,1.8916666666666668E-2,1.8916666666666668E-2,1.8916666666666668E-2,1.8916666666666668E-2,1.8916666666666668E-2,1.8916666666666668E-2,1.8916666666666668E-2,1.8916666666666668E-2,1.8916666666666668E-2,1.8916666666666668E-2,1.8916666666666668E-2,1.8916666666666668E-2,1.8916666666666668E-2,1.8916666666666668E-2,1.8916666666666668E-2,1.8916666666666668E-2,1.8916666666666668E-2,1.8916666666666668E-2,1.8916666666666668E-2,1.8916666666666668E-2,1.8916666666666668E-2,1.8916666666666668E-2,1.8916666666666668E-2,1.8916666666666668E-2,1.8916666666666668E-2,1.8916666666666668E-2,1.8916666666666668E-2,1.8916666666666668E-2,1.8916666666666668E-2,1.8916666666666668E-2,1.8916666666666668E-2,1.8916666666666668E-2,1.8916666666666668E-2,1.8916666666666668E-2,1.8916666666666668E-2,1.8916666666666668E-2,1.8916666666666668E-2,1.8916666666666668E-2,1.8916666666666668E-2,{"$f":"SUM(JH53:JH54)","v":1.8916666666666668E-2},1.8916666666666668E-2,1.8916666666666668E-2,1.8916666666666668E-2,1.8916666666666668E-2,1.8916666666666668E-2,1.8916666666666668E-2,1.8916666666666668E-2,1.8916666666666668E-2,1.8916666666666668E-2,1.8916666666666668E-2,1.8916666666666668E-2,1.8916666666666668E-2,1.8916666666666668E-2,1.8916666666666668E-2,1.8916666666666668E-2,1.8916666666666668E-2,1.8916666666666668E-2,1.8916666666666668E-2,1.8916666666666668E-2,1.8916666666666668E-2,1.8916666666666668E-2,1.8916666666666668E-2,1.8916666666666668E-2,1.8916666666666668E-2,1.8916666666666668E-2,1.8916666666666668E-2,1.8916666666666668E-2,1.8916666666666668E-2,1.8916666666666668E-2,1.8916666666666668E-2,1.8916666666666668E-2,1.8916666666666668E-2,1.8916666666666668E-2,1.8916666666666668E-2,1.8916666666666668E-2,1.8916666666666668E-2,1.8916666666666668E-2,1.8916666666666668E-2,1.8916666666666668E-2,1.8916666666666668E-2,1.8916666666666668E-2,1.8916666666666668E-2,1.8916666666666668E-2,1.8916666666666668E-2,1.8916666666666668E-2,1.8916666666666668E-2,1.8916666666666668E-2,1.8916666666666668E-2,1.8916666666666668E-2,1.8916666666666668E-2,1.8916666666666668E-2,1.8916666666666668E-2,1.8916666666666668E-2,1.8916666666666668E-2,1.8916666666666668E-2,1.8916666666666668E-2,1.8916666666666668E-2,1.8916666666666668E-2,1.8916666666666668E-2,1.8916666666666668E-2,1.8916666666666668E-2,1.8916666666666668E-2,1.8916666666666668E-2,{"$f":"SUM(LT53:LT54)","v":1.8916666666666668E-2},1.8916666666666668E-2,1.8916666666666668E-2,1.8916666666666668E-2,1.8916666666666668E-2,1.8916666666666668E-2,1.8916666666666668E-2,1.8916666666666668E-2,1.8916666666666668E-2,1.8916666666666668E-2,1.8916666666666668E-2,1.8916666666666668E-2,1.8916666666666668E-2,1.8916666666666668E-2,1.8916666666666668E-2,1.8916666666666668E-2,1.8916666666666668E-2,1.8916666666666668E-2,1.8916666666666668E-2,1.8916666666666668E-2,1.8916666666666668E-2,1.8916666666666668E-2,1.8916666666666668E-2,1.8916666666666668E-2,1.8916666666666668E-2,1.8916666666666668E-2,1.8916666666666668E-2,1.8916666666666668E-2,1.8916666666666668E-2,1.8916666666666668E-2,1.8916666666666668E-2,1.8916666666666668E-2,1.8916666666666668E-2,1.8916666666666668E-2,1.8916666666666668E-2,1.8916666666666668E-2,1.8916666666666668E-2,1.8916666666666668E-2,1.8916666666666668E-2,1.8916666666666668E-2,1.8916666666666668E-2,1.8916666666666668E-2,1.8916666666666668E-2,1.8916666666666668E-2,1.8916666666666668E-2,1.8916666666666668E-2,1.8916666666666668E-2,1.8916666666666668E-2,1.8916666666666668E-2,1.8916666666666668E-2,1.8916666666666668E-2,1.8916666666666668E-2,1.8916666666666668E-2,1.8916666666666668E-2,1.8916666666666668E-2,1.8916666666666668E-2,1.8916666666666668E-2,1.8916666666666668E-2,1.8916666666666668E-2,1.8916666666666668E-2,1.8916666666666668E-2,1.8916666666666668E-2,1.8916666666666668E-2,1.8916666666666668E-2,{"$f":"SUM(OF53:OF54)","v":1.8916666666666668E-2},1.8916666666666668E-2,1.8916666666666668E-2,1.8916666666666668E-2,1.8916666666666668E-2,1.8916666666666668E-2,1.8916666666666668E-2,1.8916666666666668E-2,1.8916666666666668E-2,1.8916666666666668E-2,1.8916666666666668E-2,1.8916666666666668E-2,1.8916666666666668E-2,1.8916666666666668E-2,1.8916666666666668E-2,1.8916666666666668E-2,1.8916666666666668E-2,1.8916666666666668E-2,1.8916666666666668E-2,1.8916666666666668E-2,1.8916666666666668E-2,1.8916666666666668E-2,1.8916666666666668E-2,1.8916666666666668E-2,1.8916666666666668E-2,1.8916666666666668E-2,1.8916666666666668E-2,1.8916666666666668E-2,1.8916666666666668E-2,1.8916666666666668E-2,1.8916666666666668E-2,1.8916666666666668E-2,1.8916666666666668E-2,1.8916666666666668E-2,1.8916666666666668E-2,1.8916666666666668E-2,1.8916666666666668E-2,1.8916666666666668E-2,1.8916666666666668E-2,1.8916666666666668E-2,1.8916666666666668E-2,1.8916666666666668E-2,1.8916666666666668E-2,1.8916666666666668E-2,1.8916666666666668E-2,1.8916666666666668E-2,1.8916666666666668E-2,1.8916666666666668E-2,1.8916666666666668E-2,1.8916666666666668E-2,1.8916666666666668E-2,1.8916666666666668E-2,1.8916666666666668E-2,1.8916666666666668E-2,1.8916666666666668E-2,1.8916666666666668E-2,1.8916666666666668E-2,1.8916666666666668E-2,1.8916666666666668E-2,1.8916666666666668E-2,1.8916666666666668E-2,1.8916666666666668E-2,1.8916666666666668E-2,1.8916666666666668E-2,{"$f":"SUM(QR53:QR54)","v":1.8916666666666668E-2},1.8916666666666668E-2,1.8916666666666668E-2,1.8916666666666668E-2,1.8916666666666668E-2,1.8916666666666668E-2,1.8916666666666668E-2,1.8916666666666668E-2,1.8916666666666668E-2,1.8916666666666668E-2,1.8916666666666668E-2,1.8916666666666668E-2,1.8916666666666668E-2,1.8916666666666668E-2,1.8916666666666668E-2,1.8916666666666668E-2,1.8916666666666668E-2,1.8916666666666668E-2,1.8916666666666668E-2,1.8916666666666668E-2,1.8916666666666668E-2,1.8916666666666668E-2,1.8916666666666668E-2,1.8916666666666668E-2,1.8916666666666668E-2,1.8916666666666668E-2,1.8916666666666668E-2,1.8916666666666668E-2,1.8916666666666668E-2,1.8916666666666668E-2,1.8916666666666668E-2,1.8916666666666668E-2,1.8916666666666668E-2,1.8916666666666668E-2,1.8916666666666668E-2,1.8916666666666668E-2,1.8916666666666668E-2,1.8916666666666668E-2,1.8916666666666668E-2,1.8916666666666668E-2,1.8916666666666668E-2,1.8916666666666668E-2,1.8916666666666668E-2,1.8916666666666668E-2,1.8916666666666668E-2,1.8916666666666668E-2,1.8916666666666668E-2,1.8916666666666668E-2,1.8916666666666668E-2,1.8916666666666668E-2,1.8916666666666668E-2,1.8916666666666668E-2,1.8916666666666668E-2,1.8916666666666668E-2,1.8916666666666668E-2,1.8916666666666668E-2,1.8916666666666668E-2,1.8916666666666668E-2,1.8916666666666668E-2,1.8916666666666668E-2,1.8916666666666668E-2,1.8916666666666668E-2,1.8916666666666668E-2,1.8916666666666668E-2,{"$f":"SUM(TD53:TD54)","v":1.8916666666666668E-2},1.8916666666666668E-2,1.8916666666666668E-2,1.8916666666666668E-2,1.8916666666666668E-2,1.8916666666666668E-2,1.8916666666666668E-2,1.8916666666666668E-2,1.8916666666666668E-2,1.8916666666666668E-2,1.8916666666666668E-2,1.8916666666666668E-2,1.8916666666666668E-2,1.8916666666666668E-2,1.8916666666666668E-2,1.8916666666666668E-2,1.8916666666666668E-2,1.8916666666666668E-2,1.8916666666666668E-2,1.8916666666666668E-2,1.8916666666666668E-2,1.8916666666666668E-2,1.8916666666666668E-2,1.8916666666666668E-2,1.8916666666666668E-2,1.8916666666666668E-2,1.8916666666666668E-2,1.8916666666666668E-2,1.8916666666666668E-2,1.8916666666666668E-2,1.8916666666666668E-2,1.8916666666666668E-2,1.8916666666666668E-2,1.8916666666666668E-2,1.8916666666666668E-2,1.8916666666666668E-2,1.8916666666666668E-2,1.8916666666666668E-2]
[]
[null,null,null,"Days in Period",null,null,null,null,"Days",null,{"$f":"K9+K11","v":18},{"$f":"L9+L11","v":30},{"$f":"M9+M11","v":31},{"$f":"N9+N11","v":30},{"$f":"O9+O11","v":31},{"$f":"P9+P11","v":31},{"$f":"Q9+Q11","v":28},{"$f":"R9+R11","v":31},{"$f":"S9+S11","v":30},{"$f":"T9+T11","v":31},{"$f":"U9+U11","v":30},{"$f":"V9+V11","v":31},{"$f":"W9+W11","v":31},{"$f":"X9+X11","v":30},{"$f":"Y9+Y11","v":31},{"$f":"Z9+Z11","v":30},{"$f":"AA9+AA11","v":31},{"$f":"AB9+AB11","v":31},{"$f":"AC9+AC11","v":29},{"$f":"AD9+AD11","v":31},{"$f":"AE9+AE11","v":30},{"$f":"AF9+AF11","v":31},{"$f":"AG9+AG11","v":30},{"$f":"AH9+AH11","v":31},{"$f":"AI9+AI11","v":31},{"$f":"AJ9+AJ11","v":30},{"$f":"AK9+AK11","v":31},{"$f":"AL9+AL11","v":30},{"$f":"AM9+AM11","v":31},{"$f":"AN9+AN11","v":31},{"$f":"AO9+AO11","v":28},{"$f":"AP9+AP11","v":31},{"$f":"AQ9+AQ11","v":30},{"$f":"AR9+AR11","v":31},{"$f":"AS9+AS11","v":30},{"$f":"AT9+AT11","v":31},{"$f":"AU9+AU11","v":31},{"$f":"AV9+AV11","v":30},{"$f":"AW9+AW11","v":31},{"$f":"AX9+AX11","v":30},{"$f":"AY9+AY11","v":31},{"$f":"AZ9+AZ11","v":31},{"$f":"BA9+BA11","v":28},{"$f":"BB9+BB11","v":31},{"$f":"BC9+BC11","v":30},{"$f":"BD9+BD11","v":31},{"$f":"BE9+BE11","v":30},{"$f":"BF9+BF11","v":31},{"$f":"BG9+BG11","v":31},{"$f":"BH9+BH11","v":30},{"$f":"BI9+BI11","v":31},{"$f":"BJ9+BJ11","v":30},{"$f":"BK9+BK11","v":31},{"$f":"BL9+BL11","v":31},{"$f":"BM9+BM11","v":28},{"$f":"BN9+BN11","v":31},{"$f":"BO9+BO11","v":30},{"$f":"BP9+BP11","v":31},{"$f":"BQ9+BQ11","v":30},{"$f":"BR9+BR11","v":31},{"$f":"BS9+BS11","v":31},{"$f":"BT9+BT11","v":30},{"$f":"BU9+BU11","v":31},{"$f":"BV9+BV11","v":30},{"$f":"BW9+BW11","v":31},{"$f":"BX9+BX11","v":31},{"$f":"BY9+BY11","v":29},{"$f":"BZ9+BZ11","v":31},{"$f":"CA9+CA11","v":30},{"$f":"CB9+CB11","v":31},{"$f":"CC9+CC11","v":30},{"$f":"CD9+CD11","v":31},{"$f":"CE9+CE11","v":31},{"$f":"CF9+CF11","v":30},{"$f":"CG9+CG11","v":31},{"$f":"CH9+CH11","v":30},{"$f":"CI9+CI11","v":31},{"$f":"CJ9+CJ11","v":31},{"$f":"CK9+CK11","v":28},{"$f":"CL9+CL11","v":31},{"$f":"CM9+CM11","v":30},{"$f":"CN9+CN11","v":31},{"$f":"CO9+CO11","v":30},{"$f":"CP9+CP11","v":31},{"$f":"CQ9+CQ11","v":31},{"$f":"CR9+CR11","v":30},{"$f":"CS9+CS11","v":31},{"$f":"CT9+CT11","v":30},{"$f":"CU9+CU11","v":31},{"$f":"CV9+CV11","v":31},{"$f":"CW9+CW11","v":28},{"$f":"CX9+CX11","v":31},{"$f":"CY9+CY11","v":30},{"$f":"CZ9+CZ11","v":31},{"$f":"DA9+DA11","v":30},{"$f":"DB9+DB11","v":31},{"$f":"DC9+DC11","v":31},{"$f":"DD9+DD11","v":30},{"$f":"DE9+DE11","v":31},{"$f":"DF9+DF11","v":30},{"$f":"DG9+DG11","v":31},{"$f":"DH9+DH11","v":31},{"$f":"DI9+DI11","v":28},{"$f":"DJ9+DJ11","v":31},{"$f":"DK9+DK11","v":30},{"$f":"DL9+DL11","v":31},{"$f":"DM9+DM11","v":30},{"$f":"DN9+DN11","v":31},{"$f":"DO9+DO11","v":31},{"$f":"DP9+DP11","v":30},{"$f":"DQ9+DQ11","v":31},{"$f":"DR9+DR11","v":30},{"$f":"DS9+DS11","v":31},{"$f":"DT9+DT11","v":31},{"$f":"DU9+DU11","v":29},{"$f":"DV9+DV11","v":31},{"$f":"DW9+DW11","v":30},{"$f":"DX9+DX11","v":31},{"$f":"DY9+DY11","v":30},{"$f":"DZ9+DZ11","v":31},{"$f":"EA9+EA11","v":31},{"$f":"EB9+EB11","v":30},{"$f":"EC9+EC11","v":31},{"$f":"ED9+ED11","v":30},{"$f":"EE9+EE11","v":31},{"$f":"EF9+EF11","v":31},{"$f":"EG9+EG11","v":28},{"$f":"EH9+EH11","v":31},{"$f":"EI9+EI11","v":30},{"$f":"EJ9+EJ11","v":31},{"$f":"EK9+EK11","v":30},{"$f":"EL9+EL11","v":31},{"$f":"EM9+EM11","v":31},{"$f":"EN9+EN11","v":30},{"$f":"EO9+EO11","v":31},{"$f":"EP9+EP11","v":30},{"$f":"EQ9+EQ11","v":31},{"$f":"ER9+ER11","v":31},{"$f":"ES9+ES11","v":28},{"$f":"ET9+ET11","v":31},{"$f":"EU9+EU11","v":30},{"$f":"EV9+EV11","v":31},{"$f":"EW9+EW11","v":30},{"$f":"EX9+EX11","v":31},{"$f":"EY9+EY11","v":31},{"$f":"EZ9+EZ11","v":30},{"$f":"FA9+FA11","v":31},{"$f":"FB9+FB11","v":30},{"$f":"FC9+FC11","v":31},{"$f":"FD9+FD11","v":31},{"$f":"FE9+FE11","v":28},{"$f":"FF9+FF11","v":31},{"$f":"FG9+FG11","v":30},{"$f":"FH9+FH11","v":31},{"$f":"FI9+FI11","v":30},{"$f":"FJ9+FJ11","v":31},{"$f":"FK9+FK11","v":31},{"$f":"FL9+FL11","v":30},{"$f":"FM9+FM11","v":31},{"$f":"FN9+FN11","v":30},{"$f":"FO9+FO11","v":31},{"$f":"FP9+FP11","v":31},{"$f":"FQ9+FQ11","v":29},{"$f":"FR9+FR11","v":31},{"$f":"FS9+FS11","v":30},{"$f":"FT9+FT11","v":31},{"$f":"FU9+FU11","v":30},{"$f":"FV9+FV11","v":31},{"$f":"FW9+FW11","v":31},{"$f":"FX9+FX11","v":30},{"$f":"FY9+FY11","v":31},{"$f":"FZ9+FZ11","v":30},{"$f":"GA9+GA11","v":31},{"$f":"GB9+GB11","v":31},{"$f":"GC9+GC11","v":28},{"$f":"GD9+GD11","v":31},{"$f":"GE9+GE11","v":30},{"$f":"GF9+GF11","v":31},{"$f":"GG9+GG11","v":30},{"$f":"GH9+GH11","v":31},{"$f":"GI9+GI11","v":31},{"$f":"GJ9+GJ11","v":30},{"$f":"GK9+GK11","v":31},{"$f":"GL9+GL11","v":30},{"$f":"GM9+GM11","v":31},{"$f":"GN9+GN11","v":31},{"$f":"GO9+GO11","v":28},{"$f":"GP9+GP11","v":31},{"$f":"GQ9+GQ11","v":30},{"$f":"GR9+GR11","v":31},{"$f":"GS9+GS11","v":30},{"$f":"GT9+GT11","v":31},{"$f":"GU9+GU11","v":31},{"$f":"GV9+GV11","v":30},{"$f":"GW9+GW11","v":31},{"$f":"GX9+GX11","v":30},{"$f":"GY9+GY11","v":31},{"$f":"GZ9+GZ11","v":31},{"$f":"HA9+HA11","v":28},{"$f":"HB9+HB11","v":31},{"$f":"HC9+HC11","v":30},{"$f":"HD9+HD11","v":31},{"$f":"HE9+HE11","v":30},{"$f":"HF9+HF11","v":31},{"$f":"HG9+HG11","v":31},{"$f":"HH9+HH11","v":30},{"$f":"HI9+HI11","v":31},{"$f":"HJ9+HJ11","v":30},{"$f":"HK9+HK11","v":31},{"$f":"HL9+HL11","v":31},{"$f":"HM9+HM11","v":29},{"$f":"HN9+HN11","v":31},{"$f":"HO9+HO11","v":30},{"$f":"HP9+HP11","v":31},{"$f":"HQ9+HQ11","v":30},{"$f":"HR9+HR11","v":31},{"$f":"HS9+HS11","v":31},{"$f":"HT9+HT11","v":30},{"$f":"HU9+HU11","v":31},{"$f":"HV9+HV11","v":30},{"$f":"HW9+HW11","v":31},{"$f":"HX9+HX11","v":31},{"$f":"HY9+HY11","v":28},{"$f":"HZ9+HZ11","v":31},{"$f":"IA9+IA11","v":30},{"$f":"IB9+IB11","v":31},{"$f":"IC9+IC11","v":30},{"$f":"ID9+ID11","v":31},{"$f":"IE9+IE11","v":31},{"$f":"IF9+IF11","v":30},{"$f":"IG9+IG11","v":31},{"$f":"IH9+IH11","v":30},{"$f":"II9+II11","v":31},{"$f":"IJ9+IJ11","v":31},{"$f":"IK9+IK11","v":28},{"$f":"IL9+IL11","v":31},{"$f":"IM9+IM11","v":30},{"$f":"IN9+IN11","v":31},{"$f":"IO9+IO11","v":30},{"$f":"IP9+IP11","v":31},{"$f":"IQ9+IQ11","v":31},{"$f":"IR9+IR11","v":30},{"$f":"IS9+IS11","v":31},{"$f":"IT9+IT11","v":30},{"$f":"IU9+IU11","v":31},{"$f":"IV9+IV11","v":31},{"$f":"IW9+IW11","v":28},{"$f":"IX9+IX11","v":31},{"$f":"IY9+IY11","v":30},{"$f":"IZ9+IZ11","v":31},{"$f":"JA9+JA11","v":30},{"$f":"JB9+JB11","v":31},{"$f":"JC9+JC11","v":31},{"$f":"JD9+JD11","v":30},{"$f":"JE9+JE11","v":31},{"$f":"JF9+JF11","v":30},{"$f":"JG9+JG11","v":31},{"$f":"JH9+JH11","v":31},{"$f":"JI9+JI11","v":29},{"$f":"JJ9+JJ11","v":31},{"$f":"JK9+JK11","v":30},{"$f":"JL9+JL11","v":31},{"$f":"JM9+JM11","v":30},{"$f":"JN9+JN11","v":31},{"$f":"JO9+JO11","v":31},{"$f":"JP9+JP11","v":30},{"$f":"JQ9+JQ11","v":31},{"$f":"JR9+JR11","v":30},{"$f":"JS9+JS11","v":31},{"$f":"JT9+JT11","v":31},{"$f":"JU9+JU11","v":28},{"$f":"JV9+JV11","v":31},{"$f":"JW9+JW11","v":30},{"$f":"JX9+JX11","v":31},{"$f":"JY9+JY11","v":30},{"$f":"JZ9+JZ11","v":31},{"$f":"KA9+KA11","v":31},{"$f":"KB9+KB11","v":30},{"$f":"KC9+KC11","v":31},{"$f":"KD9+KD11","v":30},{"$f":"KE9+KE11","v":31},{"$f":"KF9+KF11","v":31},{"$f":"KG9+KG11","v":28},{"$f":"KH9+KH11","v":31},{"$f":"KI9+KI11","v":30},{"$f":"KJ9+KJ11","v":31},{"$f":"KK9+KK11","v":30},{"$f":"KL9+KL11","v":31},{"$f":"KM9+KM11","v":31},{"$f":"KN9+KN11","v":30},{"$f":"KO9+KO11","v":31},{"$f":"KP9+KP11","v":30},{"$f":"KQ9+KQ11","v":31},{"$f":"KR9+KR11","v":31},{"$f":"KS9+KS11","v":28},{"$f":"KT9+KT11","v":31},{"$f":"KU9+KU11","v":30},{"$f":"KV9+KV11","v":31},{"$f":"KW9+KW11","v":30},{"$f":"KX9+KX11","v":31},{"$f":"KY9+KY11","v":31},{"$f":"KZ9+KZ11","v":30},{"$f":"LA9+LA11","v":31},{"$f":"LB9+LB11","v":30},{"$f":"LC9+LC11","v":31},{"$f":"LD9+LD11","v":31},{"$f":"LE9+LE11","v":29},{"$f":"LF9+LF11","v":31},{"$f":"LG9+LG11","v":30},{"$f":"LH9+LH11","v":31},{"$f":"LI9+LI11","v":30},{"$f":"LJ9+LJ11","v":31},{"$f":"LK9+LK11","v":31},{"$f":"LL9+LL11","v":30},{"$f":"LM9+LM11","v":31},{"$f":"LN9+LN11","v":30},{"$f":"LO9+LO11","v":31},{"$f":"LP9+LP11","v":31},{"$f":"LQ9+LQ11","v":28},{"$f":"LR9+LR11","v":31},{"$f":"LS9+LS11","v":30},{"$f":"LT9+LT11","v":31},{"$f":"LU9+LU11","v":30},{"$f":"LV9+LV11","v":31},{"$f":"LW9+LW11","v":31},{"$f":"LX9+LX11","v":30},{"$f":"LY9+LY11","v":31},{"$f":"LZ9+LZ11","v":30},{"$f":"MA9+MA11","v":31},{"$f":"MB9+MB11","v":31},{"$f":"MC9+MC11","v":28},{"$f":"MD9+MD11","v":31},{"$f":"ME9+ME11","v":30},{"$f":"MF9+MF11","v":31},{"$f":"MG9+MG11","v":30},{"$f":"MH9+MH11","v":31},{"$f":"MI9+MI11","v":31},{"$f":"MJ9+MJ11","v":30},{"$f":"MK9+MK11","v":31},{"$f":"ML9+ML11","v":30},{"$f":"MM9+MM11","v":31},{"$f":"MN9+MN11","v":31},{"$f":"MO9+MO11","v":28},{"$f":"MP9+MP11","v":31},{"$f":"MQ9+MQ11","v":30},{"$f":"MR9+MR11","v":31},{"$f":"MS9+MS11","v":30},{"$f":"MT9+MT11","v":31},{"$f":"MU9+MU11","v":31},{"$f":"MV9+MV11","v":30},{"$f":"MW9+MW11","v":31},{"$f":"MX9+MX11","v":30},{"$f":"MY9+MY11","v":31},{"$f":"MZ9+MZ11","v":31},{"$f":"NA9+NA11","v":29},{"$f":"NB9+NB11","v":31},{"$f":"NC9+NC11","v":30},{"$f":"ND9+ND11","v":31},{"$f":"NE9+NE11","v":30},{"$f":"NF9+NF11","v":31},{"$f":"NG9+NG11","v":31},{"$f":"NH9+NH11","v":30},{"$f":"NI9+NI11","v":31},{"$f":"NJ9+NJ11","v":30},{"$f":"NK9+NK11","v":31},{"$f":"NL9+NL11","v":31},{"$f":"NM9+NM11","v":28},{"$f":"NN9+NN11","v":31},{"$f":"NO9+NO11","v":30},{"$f":"NP9+NP11","v":31},{"$f":"NQ9+NQ11","v":30},{"$f":"NR9+NR11","v":31},{"$f":"NS9+NS11","v":31},{"$f":"NT9+NT11","v":30},{"$f":"NU9+NU11","v":31},{"$f":"NV9+NV11","v":30},{"$f":"NW9+NW11","v":31},{"$f":"NX9+NX11","v":31},{"$f":"NY9+NY11","v":28},{"$f":"NZ9+NZ11","v":31},{"$f":"OA9+OA11","v":30},{"$f":"OB9+OB11","v":31},{"$f":"OC9+OC11","v":30},{"$f":"OD9+OD11","v":31},{"$f":"OE9+OE11","v":31},{"$f":"OF9+OF11","v":30},{"$f":"OG9+OG11","v":31},{"$f":"OH9+OH11","v":30},{"$f":"OI9+OI11","v":31},{"$f":"OJ9+OJ11","v":31},{"$f":"OK9+OK11","v":28},{"$f":"OL9+OL11","v":31},{"$f":"OM9+OM11","v":30},{"$f":"ON9+ON11","v":31},{"$f":"OO9+OO11","v":30},{"$f":"OP9+OP11","v":31},{"$f":"OQ9+OQ11","v":31},{"$f":"OR9+OR11","v":30},{"$f":"OS9+OS11","v":31},{"$f":"OT9+OT11","v":30},{"$f":"OU9+OU11","v":31},{"$f":"OV9+OV11","v":31},{"$f":"OW9+OW11","v":29},{"$f":"OX9+OX11","v":31},{"$f":"OY9+OY11","v":30},{"$f":"OZ9+OZ11","v":31},{"$f":"PA9+PA11","v":30},{"$f":"PB9+PB11","v":31},{"$f":"PC9+PC11","v":31},{"$f":"PD9+PD11","v":30},{"$f":"PE9+PE11","v":31},{"$f":"PF9+PF11","v":30},{"$f":"PG9+PG11","v":31},{"$f":"PH9+PH11","v":31},{"$f":"PI9+PI11","v":28},{"$f":"PJ9+PJ11","v":31},{"$f":"PK9+PK11","v":30},{"$f":"PL9+PL11","v":31},{"$f":"PM9+PM11","v":30},{"$f":"PN9+PN11","v":31},{"$f":"PO9+PO11","v":31},{"$f":"PP9+PP11","v":30},{"$f":"PQ9+PQ11","v":31},{"$f":"PR9+PR11","v":30},{"$f":"PS9+PS11","v":31},{"$f":"PT9+PT11","v":31},{"$f":"PU9+PU11","v":28},{"$f":"PV9+PV11","v":31},{"$f":"PW9+PW11","v":30},{"$f":"PX9+PX11","v":31},{"$f":"PY9+PY11","v":30},{"$f":"PZ9+PZ11","v":31},{"$f":"QA9+QA11","v":31},{"$f":"QB9+QB11","v":30},{"$f":"QC9+QC11","v":31},{"$f":"QD9+QD11","v":30},{"$f":"QE9+QE11","v":31},{"$f":"QF9+QF11","v":31},{"$f":"QG9+QG11","v":28},{"$f":"QH9+QH11","v":31},{"$f":"QI9+QI11","v":30},{"$f":"QJ9+QJ11","v":31},{"$f":"QK9+QK11","v":30},{"$f":"QL9+QL11","v":31},{"$f":"QM9+QM11","v":31},{"$f":"QN9+QN11","v":30},{"$f":"QO9+QO11","v":31},{"$f":"QP9+QP11","v":30},{"$f":"QQ9+QQ11","v":31},{"$f":"QR9+QR11","v":31},{"$f":"QS9+QS11","v":29},{"$f":"QT9+QT11","v":31},{"$f":"QU9+QU11","v":30},{"$f":"QV9+QV11","v":31},{"$f":"QW9+QW11","v":30},{"$f":"QX9+QX11","v":31},{"$f":"QY9+QY11","v":31},{"$f":"QZ9+QZ11","v":30},{"$f":"RA9+RA11","v":31},{"$f":"RB9+RB11","v":30},{"$f":"RC9+RC11","v":31},{"$f":"RD9+RD11","v":31},{"$f":"RE9+RE11","v":28},{"$f":"RF9+RF11","v":31},{"$f":"RG9+RG11","v":30},{"$f":"RH9+RH11","v":31},{"$f":"RI9+RI11","v":30},{"$f":"RJ9+RJ11","v":31},{"$f":"RK9+RK11","v":31},{"$f":"RL9+RL11","v":30},{"$f":"RM9+RM11","v":31},{"$f":"RN9+RN11","v":30},{"$f":"RO9+RO11","v":31},{"$f":"RP9+RP11","v":31},{"$f":"RQ9+RQ11","v":28},{"$f":"RR9+RR11","v":31},{"$f":"RS9+RS11","v":30},{"$f":"RT9+RT11","v":31},{"$f":"RU9+RU11","v":30},{"$f":"RV9+RV11","v":31},{"$f":"RW9+RW11","v":31},{"$f":"RX9+RX11","v":30},{"$f":"RY9+RY11","v":31},{"$f":"RZ9+RZ11","v":30},{"$f":"SA9+SA11","v":31},{"$f":"SB9+SB11","v":31},{"$f":"SC9+SC11","v":28},{"$f":"SD9+SD11","v":31},{"$f":"SE9+SE11","v":30},{"$f":"SF9+SF11","v":31},{"$f":"SG9+SG11","v":30},{"$f":"SH9+SH11","v":31},{"$f":"SI9+SI11","v":31},{"$f":"SJ9+SJ11","v":30},{"$f":"SK9+SK11","v":31},{"$f":"SL9+SL11","v":30},{"$f":"SM9+SM11","v":31},{"$f":"SN9+SN11","v":31},{"$f":"SO9+SO11","v":29},{"$f":"SP9+SP11","v":31},{"$f":"SQ9+SQ11","v":30},{"$f":"SR9+SR11","v":31},{"$f":"SS9+SS11","v":30},{"$f":"ST9+ST11","v":31},{"$f":"SU9+SU11","v":10},{"$f":"SV9+SV11","v":0},{"$f":"SW9+SW11","v":0},{"$f":"SX9+SX11","v":0},{"$f":"SY9+SY11","v":0},{"$f":"SZ9+SZ11","v":0},{"$f":"TA9+TA11","v":0},{"$f":"TB9+TB11","v":0},{"$f":"TC9+TC11","v":0},{"$f":"TD9+TD11","v":0},{"$f":"TE9+TE11","v":0},{"$f":"TF9+TF11","v":0},{"$f":"TG9+TG11","v":0},{"$f":"TH9+TH11","v":0},{"$f":"TI9+TI11","v":0},{"$f":"TJ9+TJ11","v":0},{"$f":"TK9+TK11","v":0},{"$f":"TL9+TL11","v":0},{"$f":"TM9+TM11","v":0},{"$f":"TN9+TN11","v":0},{"$f":"TO9+TO11","v":0},{"$f":"TP9+TP11","v":0},{"$f":"TQ9+TQ11","v":0},{"$f":"TR9+TR11","v":0},{"$f":"TS9+TS11","v":0},{"$f":"TT9+TT11","v":0},{"$f":"TU9+TU11","v":0},{"$f":"TV9+TV11","v":0},{"$f":"TW9+TW11","v":0},{"$f":"TX9+TX11","v":0},{"$f":"TY9+TY11","v":0},{"$f":"TZ9+TZ11","v":0},{"$f":"UA9+UA11","v":0},{"$f":"UB9+UB11","v":0},{"$f":"UC9+UC11","v":0},{"$f":"UD9+UD11","v":0},{"$f":"UE9+UE11","v":0},{"$f":"UF9+UF11","v":0},{"$f":"UG9+UG11","v":0},{"$f":"UH9+UH11","v":0},{"$f":"UI9+UI11","v":0},{"$f":"UJ9+UJ11","v":0},{"$f":"UK9+UK11","v":0},{"$f":"UL9+UL11","v":0},{"$f":"UM9+UM11","v":0},{"$f":"UN9+UN11","v":0},{"$f":"UO9+UO11","v":0}]
[null,null,null,"Interest Factor","Days",360,null,null,"%",null,{"$f":"K57/$F$58","v":0.05},{"$f":"L57/$F$58","v":8.3333333333333329E-2},8.611111111111111E-2,8.3333333333333329E-2,8.611111111111111E-2,8.611111111111111E-2,7.7777777777777779E-2,8.611111111111111E-2,8.3333333333333329E-2,8.611111111111111E-2,8.3333333333333329E-2,8.611111111111111E-2,8.611111111111111E-2,8.3333333333333329E-2,8.611111111111111E-2,8.3333333333333329E-2,8.611111111111111E-2,8.611111111111111E-2,8.0555555555555561E-2,8.611111111111111E-2,8.3333333333333329E-2,8.611111111111111E-2,8.3333333333333329E-2,8.611111111111111E-2,8.611111111111111E-2,8.3333333333333329E-2,8.611111111111111E-2,8.3333333333333329E-2,8.611111111111111E-2,8.611111111111111E-2,7.7777777777777779E-2,8.611111111111111E-2,8.3333333333333329E-2,8.611111111111111E-2,8.3333333333333329E-2,8.611111111111111E-2,8.611111111111111E-2,8.3333333333333329E-2,8.611111111111111E-2,8.3333333333333329E-2,8.611111111111111E-2,8.611111111111111E-2,7.7777777777777779E-2,8.611111111111111E-2,8.3333333333333329E-2,8.611111111111111E-2,8.3333333333333329E-2,8.611111111111111E-2,8.611111111111111E-2,8.3333333333333329E-2,8.611111111111111E-2,8.3333333333333329E-2,8.611111111111111E-2,8.611111111111111E-2,7.7777777777777779E-2,8.611111111111111E-2,8.3333333333333329E-2,8.611111111111111E-2,8.3333333333333329E-2,8.611111111111111E-2,8.611111111111111E-2,8.3333333333333329E-2,8.611111111111111E-2,8.3333333333333329E-2,8.611111111111111E-2,{"$f":"BX57/$F$58","v":8.611111111111111E-2},8.0555555555555561E-2,8.611111111111111E-2,8.3333333333333329E-2,8.611111111111111E-2,8.3333333333333329E-2,8.611111111111111E-2,8.611111111111111E-2,8.3333333333333329E-2,8.611111111111111E-2,8.3333333333333329E-2,8.611111111111111E-2,8.611111111111111E-2,7.7777777777777779E-2,8.611111111111111E-2,8.3333333333333329E-2,8.611111111111111E-2,8.3333333333333329E-2,8.611111111111111E-2,8.611111111111111E-2,8.3333333333333329E-2,8.611111111111111E-2,8.3333333333333329E-2,8.611111111111111E-2,8.611111111111111E-2,7.7777777777777779E-2,8.611111111111111E-2,8.3333333333333329E-2,8.611111111111111E-2,8.3333333333333329E-2,8.611111111111111E-2,8.611111111111111E-2,8.3333333333333329E-2,8.611111111111111E-2,8.3333333333333329E-2,8.611111111111111E-2,8.611111111111111E-2,7.7777777777777779E-2,8.611111111111111E-2,8.3333333333333329E-2,8.611111111111111E-2,8.3333333333333329E-2,8.611111111111111E-2,8.611111111111111E-2,8.3333333333333329E-2,8.611111111111111E-2,8.3333333333333329E-2,8.611111111111111E-2,8.611111111111111E-2,8.0555555555555561E-2,8.611111111111111E-2,8.3333333333333329E-2,8.611111111111111E-2,8.3333333333333329E-2,8.611111111111111E-2,8.611111111111111E-2,8.3333333333333329E-2,8.611111111111111E-2,8.3333333333333329E-2,8.611111111111111E-2,8.611111111111111E-2,7.7777777777777779E-2,8.611111111111111E-2,8.3333333333333329E-2,{"$f":"EJ57/$F$58","v":8.611111111111111E-2},8.3333333333333329E-2,8.611111111111111E-2,8.611111111111111E-2,8.3333333333333329E-2,8.611111111111111E-2,8.3333333333333329E-2,8.611111111111111E-2,8.611111111111111E-2,7.7777777777777779E-2,8.611111111111111E-2,8.3333333333333329E-2,8.611111111111111E-2,8.3333333333333329E-2,8.611111111111111E-2,8.611111111111111E-2,8.3333333333333329E-2,8.611111111111111E-2,8.3333333333333329E-2,8.611111111111111E-2,8.611111111111111E-2,7.7777777777777779E-2,8.611111111111111E-2,8.3333333333333329E-2,8.611111111111111E-2,8.3333333333333329E-2,8.611111111111111E-2,8.611111111111111E-2,8.3333333333333329E-2,8.611111111111111E-2,8.3333333333333329E-2,8.611111111111111E-2,8.611111111111111E-2,8.0555555555555561E-2,8.611111111111111E-2,8.3333333333333329E-2,8.611111111111111E-2,8.3333333333333329E-2,8.611111111111111E-2,8.611111111111111E-2,8.3333333333333329E-2,8.611111111111111E-2,8.3333333333333329E-2,8.611111111111111E-2,8.611111111111111E-2,7.7777777777777779E-2,8.611111111111111E-2,8.3333333333333329E-2,8.611111111111111E-2,8.3333333333333329E-2,8.611111111111111E-2,8.611111111111111E-2,8.3333333333333329E-2,8.611111111111111E-2,8.3333333333333329E-2,8.611111111111111E-2,8.611111111111111E-2,7.7777777777777779E-2,8.611111111111111E-2,8.3333333333333329E-2,8.611111111111111E-2,8.3333333333333329E-2,8.611111111111111E-2,8.611111111111111E-2,{"$f":"GV57/$F$58","v":8.3333333333333329E-2},8.611111111111111E-2,8.3333333333333329E-2,8.611111111111111E-2,8.611111111111111E-2,7.7777777777777779E-2,8.611111111111111E-2,8.3333333333333329E-2,8.611111111111111E-2,8.3333333333333329E-2,8.611111111111111E-2,8.611111111111111E-2,8.3333333333333329E-2,8.611111111111111E-2,8.3333333333333329E-2,8.611111111111111E-2,8.611111111111111E-2,8.0555555555555561E-2,8.611111111111111E-2,8.3333333333333329E-2,8.611111111111111E-2,8.3333333333333329E-2,8.611111111111111E-2,8.611111111111111E-2,8.3333333333333329E-2,8.611111111111111E-2,8.3333333333333329E-2,8.611111111111111E-2,8.611111111111111E-2,7.7777777777777779E-2,8.611111111111111E-2,8.3333333333333329E-2,8.611111111111111E-2,8.3333333333333329E-2,8.611111111111111E-2,8.611111111111111E-2,8.3333333333333329E-2,8.611111111111111E-2,8.3333333333333329E-2,8.611111111111111E-2,8.611111111111111E-2,7.7777777777777779E-2,8.611111111111111E-2,8.3333333333333329E-2,8.611111111111111E-2,8.3333333333333329E-2,8.611111111111111E-2,8.611111111111111E-2,8.3333333333333329E-2,8.611111111111111E-2,8.3333333333333329E-2,8.611111111111111E-2,8.611111111111111E-2,7.7777777777777779E-2,8.611111111111111E-2,8.3333333333333329E-2,8.611111111111111E-2,8.3333333333333329E-2,8.611111111111111E-2,8.611111111111111E-2,8.3333333333333329E-2,8.611111111111111E-2,8.3333333333333329E-2,8.611111111111111E-2,{"$f":"JH57/$F$58","v":8.611111111111111E-2},8.0555555555555561E-2,8.611111111111111E-2,8.3333333333333329E-2,8.611111111111111E-2,8.3333333333333329E-2,8.611111111111111E-2,8.611111111111111E-2,8.3333333333333329E-2,8.611111111111111E-2,8.3333333333333329E-2,8.611111111111111E-2,8.611111111111111E-2,7.7777777777777779E-2,8.611111111111111E-2,8.3333333333333329E-2,8.611111111111111E-2,8.3333333333333329E-2,8.611111111111111E-2,8.611111111111111E-2,8.3333333333333329E-2,8.611111111111111E-2,8.3333333333333329E-2,8.611111111111111E-2,8.611111111111111E-2,7.7777777777777779E-2,8.611111111111111E-2,8.3333333333333329E-2,8.611111111111111E-2,8.3333333333333329E-2,8.611111111111111E-2,8.611111111111111E-2,8.3333333333333329E-2,8.611111111111111E-2,8.3333333333333329E-2,8.611111111111111E-2,8.611111111111111E-2,7.7777777777777779E-2,8.611111111111111E-2,8.3333333333333329E-2,8.611111111111111E-2,8.3333333333333329E-2,8.611111111111111E-2,8.611111111111111E-2,8.3333333333333329E-2,8.611111111111111E-2,8.3333333333333329E-2,8.611111111111111E-2,8.611111111111111E-2,8.0555555555555561E-2,8.611111111111111E-2,8.3333333333333329E-2,8.611111111111111E-2,8.3333333333333329E-2,8.611111111111111E-2,8.611111111111111E-2,8.3333333333333329E-2,8.611111111111111E-2,8.3333333333333329E-2,8.611111111111111E-2,8.611111111111111E-2,7.7777777777777779E-2,8.611111111111111E-2,8.3333333333333329E-2,{"$f":"LT57/$F$58","v":8.611111111111111E-2},8.3333333333333329E-2,8.611111111111111E-2,8.611111111111111E-2,8.3333333333333329E-2,8.611111111111111E-2,8.3333333333333329E-2,8.611111111111111E-2,8.611111111111111E-2,7.7777777777777779E-2,8.611111111111111E-2,8.3333333333333329E-2,8.611111111111111E-2,8.3333333333333329E-2,8.611111111111111E-2,8.611111111111111E-2,8.3333333333333329E-2,8.611111111111111E-2,8.3333333333333329E-2,8.611111111111111E-2,8.611111111111111E-2,7.7777777777777779E-2,8.611111111111111E-2,8.3333333333333329E-2,8.611111111111111E-2,8.3333333333333329E-2,8.611111111111111E-2,8.611111111111111E-2,8.3333333333333329E-2,8.611111111111111E-2,8.3333333333333329E-2,8.611111111111111E-2,8.611111111111111E-2,8.0555555555555561E-2,8.611111111111111E-2,8.3333333333333329E-2,8.611111111111111E-2,8.3333333333333329E-2,8.611111111111111E-2,8.611111111111111E-2,8.3333333333333329E-2,8.611111111111111E-2,8.3333333333333329E-2,8.611111111111111E-2,8.611111111111111E-2,7.7777777777777779E-2,8.611111111111111E-2,8.3333333333333329E-2,8.611111111111111E-2,8.3333333333333329E-2,8.611111111111111E-2,8.611111111111111E-2,8.3333333333333329E-2,8.611111111111111E-2,8.3333333333333329E-2,8.611111111111111E-2,8.611111111111111E-2,7.7777777777777779E-2,8.611111111111111E-2,8.3333333333333329E-2,8.611111111111111E-2,8.3333333333333329E-2,8.611111111111111E-2,8.611111111111111E-2,{"$f":"OF57/$F$58","v":8.3333333333333329E-2},8.611111111111111E-2,8.3333333333333329E-2,8.611111111111111E-2,8.611111111111111E-2,7.7777777777777779E-2,8.611111111111111E-2,8.3333333333333329E-2,8.611111111111111E-2,8.3333333333333329E-2,8.611111111111111E-2,8.611111111111111E-2,8.3333333333333329E-2,8.611111111111111E-2,8.3333333333333329E-2,8.611111111111111E-2,8.611111111111111E-2,8.0555555555555561E-2,8.611111111111111E-2,8.3333333333333329E-2,8.611111111111111E-2,8.3333333333333329E-2,8.611111111111111E-2,8.611111111111111E-2,8.3333333333333329E-2,8.611111111111111E-2,8.3333333333333329E-2,8.611111111111111E-2,8.611111111111111E-2,7.7777777777777779E-2,8.611111111111111E-2,8.3333333333333329E-2,8.611111111111111E-2,8.3333333333333329E-2,8.611111111111111E-2,8.611111111111111E-2,8.3333333333333329E-2,8.611111111111111E-2,8.3333333333333329E-2,8.611111111111111E-2,8.611111111111111E-2,7.7777777777777779E-2,8.611111111111111E-2,8.3333333333333329E-2,8.611111111111111E-2,8.3333333333333329E-2,8.611111111111111E-2,8.611111111111111E-2,8.3333333333333329E-2,8.611111111111111E-2,8.3333333333333329E-2,8.611111111111111E-2,8.611111111111111E-2,7.7777777777777779E-2,8.611111111111111E-2,8.3333333333333329E-2,8.611111111111111E-2,8.3333333333333329E-2,8.611111111111111E-2,8.611111111111111E-2,8.3333333333333329E-2,8.611111111111111E-2,8.3333333333333329E-2,8.611111111111111E-2,{"$f":"QR57/$F$58","v":8.611111111111111E-2},8.0555555555555561E-2,8.611111111111111E-2,8.3333333333333329E-2,8.611111111111111E-2,8.3333333333333329E-2,8.611111111111111E-2,8.611111111111111E-2,8.3333333333333329E-2,8.611111111111111E-2,8.3333333333333329E-2,8.611111111111111E-2,8.611111111111111E-2,7.7777777777777779E-2,8.611111111111111E-2,8.3333333333333329E-2,8.611111111111111E-2,8.3333333333333329E-2,8.611111111111111E-2,8.611111111111111E-2,8.3333333333333329E-2,8.611111111111111E-2,8.3333333333333329E-2,8.611111111111111E-2,8.611111111111111E-2,7.7777777777777779E-2,8.611111111111111E-2,8.3333333333333329E-2,8.611111111111111E-2,8.3333333333333329E-2,8.611111111111111E-2,8.611111111111111E-2,8.3333333333333329E-2,8.611111111111111E-2,8.3333333333333329E-2,8.611111111111111E-2,8.611111111111111E-2,7.7777777777777779E-2,8.611111111111111E-2,8.3333333333333329E-2,8.611111111111111E-2,8.3333333333333329E-2,8.611111111111111E-2,8.611111111111111E-2,8.3333333333333329E-2,8.611111111111111E-2,8.3333333333333329E-2,8.611111111111111E-2,8.611111111111111E-2,8.0555555555555561E-2,8.611111111111111E-2,8.3333333333333329E-2,8.611111111111111E-2,8.3333333333333329E-2,8.611111111111111E-2,2.7777777777777776E-2,0,0,0,0,0,0,0,0,{"$f":"TD57/$F$58","v":0},0,0,0,0,0,0,0,0,0,0,0,0,0,0,0,0,0,0,0,0,0,0,0,0,0,0,0,0,0,0,0,0,0,0,0,0,0]
[null,null,null,"Periodic Interest Rate",null,null,null,null,"% p.p",null,{"$f":"K58*K55","v":6.4583333333333333E-4},{"$f":"L58*L55","v":1.0763888888888889E-3},1.1122685185185185E-3,1.0763888888888889E-3,1.1122685185185185E-3,1.1122685185185185E-3,1.0046296296296296E-3,1.1122685185185185E-3,1.0763888888888889E-3,1.1122685185185185E-3,1.0763888888888889E-3,1.1122685185185185E-3,1.1122685185185185E-3,1.0763888888888889E-3,1.1122685185185185E-3,1.0763888888888889E-3,1.1122685185185185E-3,1.1122685185185185E-3,1.0405092592592593E-3,1.1122685185185185E-3,1.0763888888888889E-3,1.1122685185185185E-3,1.0763888888888889E-3,1.1122685185185185E-3,1.1122685185185185E-3,1.2430555555555554E-3,1.2844907407407408E-3,1.2430555555555554E-3,1.2844907407407408E-3,1.2844907407407408E-3,1.1601851851851851E-3,1.2844907407407408E-3,1.2430555555555554E-3,1.2844907407407408E-3,1.2430555555555554E-3,1.2844907407407408E-3,1.2844907407407408E-3,1.2430555555555554E-3,1.2844907407407408E-3,1.2430555555555554E-3,1.2844907407407408E-3,1.2844907407407408E-3,1.1601851851851851E-3,1.2844907407407408E-3,1.2430555555555554E-3,1.2844907407407408E-3,1.2430555555555554E-3,1.2844907407407408E-3,1.2844907407407408E-3,1.4097222222222221E-3,1.456712962962963E-3,1.4097222222222221E-3,1.456712962962963E-3,1.456712962962963E-3,1.3157407407407408E-3,1.456712962962963E-3,1.4097222222222221E-3,1.456712962962963E-3,1.4097222222222221E-3,1.456712962962963E-3,1.456712962962963E-3,1.4097222222222221E-3,1.456712962962963E-3,1.4097222222222221E-3,1.456712962962963E-3,{"$f":"BX58*BX55","v":1.456712962962963E-3},1.3627314814814815E-3,1.456712962962963E-3,1.4097222222222221E-3,1.456712962962963E-3,1.4097222222222221E-3,1.456712962962963E-3,1.456712962962963E-3,1.4930555555555556E-3,1.5428240740740741E-3,1.4930555555555556E-3,1.5428240740740741E-3,1.5428240740740741E-3,1.3935185185185185E-3,1.5428240740740741E-3,1.4930555555555556E-3,1.5428240740740741E-3,1.4930555555555556E-3,1.5428240740740741E-3,1.5428240740740741E-3,1.4930555555555556E-3,1.5428240740740741E-3,1.4930555555555556E-3,1.5428240740740741E-3,1.5428240740740741E-3,1.3935185185185185E-3,1.5428240740740741E-3,1.4930555555555556E-3,1.5428240740740741E-3,1.4930555555555556E-3,1.5428240740740741E-3,1.5428240740740741E-3,1.5347222222222223E-3,1.5858796296296298E-3,1.5347222222222223E-3,1.5858796296296298E-3,1.5858796296296298E-3,1.4324074074074076E-3,1.5858796296296298E-3,1.5347222222222223E-3,1.5858796296296298E-3,1.5347222222222223E-3,1.5858796296296298E-3,1.5858796296296298E-3,1.5347222222222223E-3,1.5858796296296298E-3,1.5347222222222223E-3,1.5858796296296298E-3,1.5858796296296298E-3,1.4835648148148149E-3,1.5858796296296298E-3,1.5347222222222223E-3,1.5858796296296298E-3,1.5347222222222223E-3,1.5858796296296298E-3,1.5858796296296298E-3,1.5763888888888889E-3,1.6289351851851853E-3,1.5763888888888889E-3,1.6289351851851853E-3,1.6289351851851853E-3,1.4712962962962965E-3,1.6289351851851853E-3,1.5763888888888889E-3,{"$f":"EJ58*EJ55","v":1.6289351851851853E-3},1.5763888888888889E-3,1.6289351851851853E-3,1.6289351851851853E-3,1.5763888888888889E-3,1.6289351851851853E-3,1.5763888888888889E-3,1.6289351851851853E-3,1.6289351851851853E-3,1.4712962962962965E-3,1.6289351851851853E-3,1.5763888888888889E-3,1.6289351851851853E-3,1.5763888888888889E-3,1.6289351851851853E-3,1.6289351851851853E-3,1.5763888888888889E-3,1.6289351851851853E-3,1.5763888888888889E-3,1.6289351851851853E-3,1.6289351851851853E-3,1.4712962962962965E-3,1.6289351851851853E-3,1.5763888888888889E-3,1.6289351851851853E-3,1.5763888888888889E-3,1.6289351851851853E-3,1.6289351851851853E-3,1.5763888888888889E-3,1.6289351851851853E-3,1.5763888888888889E-3,1.6289351851851853E-3,1.6289351851851853E-3,1.5238425925925929E-3,1.6289351851851853E-3,1.5763888888888889E-3,1.6289351851851853E-3,1.5763888888888889E-3,1.6289351851851853E-3,1.6289351851851853E-3,1.5763888888888889E-3,1.6289351851851853E-3,1.5763888888888889E-3,1.6289351851851853E-3,1.6289351851851853E-3,1.4712962962962965E-3,1.6289351851851853E-3,1.5763888888888889E-3,1.6289351851851853E-3,1.5763888888888889E-3,1.6289351851851853E-3,1.6289351851851853E-3,1.5763888888888889E-3,1.6289351851851853E-3,1.5763888888888889E-3,1.6289351851851853E-3,1.6289351851851853E-3,1.4712962962962965E-3,1.6289351851851853E-3,1.5763888888888889E-3,1.6289351851851853E-3,1.5763888888888889E-3,1.6289351851851853E-3,1.6289351851851853E-3,{"$f":"GV58*GV55","v":1.5763888888888889E-3},1.6289351851851853E-3,1.5763888888888889E-3,1.6289351851851853E-3,1.6289351851851853E-3,1.4712962962962965E-3,1.6289351851851853E-3,1.5763888888888889E-3,1.6289351851851853E-3,1.5763888888888889E-3,1.6289351851851853E-3,1.6289351851851853E-3,1.5763888888888889E-3,1.6289351851851853E-3,1.5763888888888889E-3,1.6289351851851853E-3,1.6289351851851853E-3,1.5238425925925929E-3,1.6289351851851853E-3,1.5763888888888889E-3,1.6289351851851853E-3,1.5763888888888889E-3,1.6289351851851853E-3,1.6289351851851853E-3,1.5763888888888889E-3,1.6289351851851853E-3,1.5763888888888889E-3,1.6289351851851853E-3,1.6289351851851853E-3,1.4712962962962965E-3,1.6289351851851853E-3,1.5763888888888889E-3,1.6289351851851853E-3,1.5763888888888889E-3,1.6289351851851853E-3,1.6289351851851853E-3,1.5763888888888889E-3,1.6289351851851853E-3,1.5763888888888889E-3,1.6289351851851853E-3,1.6289351851851853E-3,1.4712962962962965E-3,1.6289351851851853E-3,1.5763888888888889E-3,1.6289351851851853E-3,1.5763888888888889E-3,1.6289351851851853E-3,1.6289351851851853E-3,1.5763888888888889E-3,1.6289351851851853E-3,1.5763888888888889E-3,1.6289351851851853E-3,1.6289351851851853E-3,1.4712962962962965E-3,1.6289351851851853E-3,1.5763888888888889E-3,1.6289351851851853E-3,1.5763888888888889E-3,1.6289351851851853E-3,1.6289351851851853E-3,1.5763888888888889E-3,1.6289351851851853E-3,1.5763888888888889E-3,1.6289351851851853E-3,{"$f":"JH58*JH55","v":1.6289351851851853E-3},1.5238425925925929E-3,1.6289351851851853E-3,1.5763888888888889E-3,1.6289351851851853E-3,1.5763888888888889E-3,1.6289351851851853E-3,1.6289351851851853E-3,1.5763888888888889E-3,1.6289351851851853E-3,1.5763888888888889E-3,1.6289351851851853E-3,1.6289351851851853E-3,1.4712962962962965E-3,1.6289351851851853E-3,1.5763888888888889E-3,1.6289351851851853E-3,1.5763888888888889E-3,1.6289351851851853E-3,1.6289351851851853E-3,1.5763888888888889E-3,1.6289351851851853E-3,1.5763888888888889E-3,1.6289351851851853E-3,1.6289351851851853E-3,1.4712962962962965E-3,1.6289351851851853E-3,1.5763888888888889E-3,1.6289351851851853E-3,1.5763888888888889E-3,1.6289351851851853E-3,1.6289351851851853E-3,1.5763888888888889E-3,1.6289351851851853E-3,1.5763888888888889E-3,1.6289351851851853E-3,1.6289351851851853E-3,1.4712962962962965E-3,1.6289351851851853E-3,1.5763888888888889E-3,1.6289351851851853E-3,1.5763888888888889E-3,1.6289351851851853E-3,1.6289351851851853E-3,1.5763888888888889E-3,1.6289351851851853E-3,1.5763888888888889E-3,1.6289351851851853E-3,1.6289351851851853E-3,1.5238425925925929E-3,1.6289351851851853E-3,1.5763888888888889E-3,1.6289351851851853E-3,1.5763888888888889E-3,1.6289351851851853E-3,1.6289351851851853E-3,1.5763888888888889E-3,1.6289351851851853E-3,1.5763888888888889E-3,1.6289351851851853E-3,1.6289351851851853E-3,1.4712962962962965E-3,1.6289351851851853E-3,1.5763888888888889E-3,{"$f":"LT58*LT55","v":1.6289351851851853E-3},1.5763888888888889E-3,1.6289351851851853E-3,1.6289351851851853E-3,1.5763888888888889E-3,1.6289351851851853E-3,1.5763888888888889E-3,1.6289351851851853E-3,1.6289351851851853E-3,1.4712962962962965E-3,1.6289351851851853E-3,1.5763888888888889E-3,1.6289351851851853E-3,1.5763888888888889E-3,1.6289351851851853E-3,1.6289351851851853E-3,1.5763888888888889E-3,1.6289351851851853E-3,1.5763888888888889E-3,1.6289351851851853E-3,1.6289351851851853E-3,1.4712962962962965E-3,1.6289351851851853E-3,1.5763888888888889E-3,1.6289351851851853E-3,1.5763888888888889E-3,1.6289351851851853E-3,1.6289351851851853E-3,1.5763888888888889E-3,1.6289351851851853E-3,1.5763888888888889E-3,1.6289351851851853E-3,1.6289351851851853E-3,1.5238425925925929E-3,1.6289351851851853E-3,1.5763888888888889E-3,1.6289351851851853E-3,1.5763888888888889E-3,1.6289351851851853E-3,1.6289351851851853E-3,1.5763888888888889E-3,1.6289351851851853E-3,1.5763888888888889E-3,1.6289351851851853E-3,1.6289351851851853E-3,1.4712962962962965E-3,1.6289351851851853E-3,1.5763888888888889E-3,1.6289351851851853E-3,1.5763888888888889E-3,1.6289351851851853E-3,1.6289351851851853E-3,1.5763888888888889E-3,1.6289351851851853E-3,1.5763888888888889E-3,1.6289351851851853E-3,1.6289351851851853E-3,1.4712962962962965E-3,1.6289351851851853E-3,1.5763888888888889E-3,1.6289351851851853E-3,1.5763888888888889E-3,1.6289351851851853E-3,1.6289351851851853E-3,{"$f":"OF58*OF55","v":1.5763888888888889E-3},1.6289351851851853E-3,1.5763888888888889E-3,1.6289351851851853E-3,1.6289351851851853E-3,1.4712962962962965E-3,1.6289351851851853E-3,1.5763888888888889E-3,1.6289351851851853E-3,1.5763888888888889E-3,1.6289351851851853E-3,1.6289351851851853E-3,1.5763888888888889E-3,1.6289351851851853E-3,1.5763888888888889E-3,1.6289351851851853E-3,1.6289351851851853E-3,1.5238425925925929E-3,1.6289351851851853E-3,1.5763888888888889E-3,1.6289351851851853E-3,1.5763888888888889E-3,1.6289351851851853E-3,1.6289351851851853E-3,1.5763888888888889E-3,1.6289351851851853E-3,1.5763888888888889E-3,1.6289351851851853E-3,1.6289351851851853E-3,1.4712962962962965E-3,1.6289351851851853E-3,1.5763888888888889E-3,1.6289351851851853E-3,1.5763888888888889E-3,1.6289351851851853E-3,1.6289351851851853E-3,1.5763888888888889E-3,1.6289351851851853E-3,1.5763888888888889E-3,1.6289351851851853E-3,1.6289351851851853E-3,1.4712962962962965E-3,1.6289351851851853E-3,1.5763888888888889E-3,1.6289351851851853E-3,1.5763888888888889E-3,1.6289351851851853E-3,1.6289351851851853E-3,1.5763888888888889E-3,1.6289351851851853E-3,1.5763888888888889E-3,1.6289351851851853E-3,1.6289351851851853E-3,1.4712962962962965E-3,1.6289351851851853E-3,1.5763888888888889E-3,1.6289351851851853E-3,1.5763888888888889E-3,1.6289351851851853E-3,1.6289351851851853E-3,1.5763888888888889E-3,1.6289351851851853E-3,1.5763888888888889E-3,1.6289351851851853E-3,{"$f":"QR58*QR55","v":1.6289351851851853E-3},1.5238425925925929E-3,1.6289351851851853E-3,1.5763888888888889E-3,1.6289351851851853E-3,1.5763888888888889E-3,1.6289351851851853E-3,1.6289351851851853E-3,1.5763888888888889E-3,1.6289351851851853E-3,1.5763888888888889E-3,1.6289351851851853E-3,1.6289351851851853E-3,1.4712962962962965E-3,1.6289351851851853E-3,1.5763888888888889E-3,1.6289351851851853E-3,1.5763888888888889E-3,1.6289351851851853E-3,1.6289351851851853E-3,1.5763888888888889E-3,1.6289351851851853E-3,1.5763888888888889E-3,1.6289351851851853E-3,1.6289351851851853E-3,1.4712962962962965E-3,1.6289351851851853E-3,1.5763888888888889E-3,1.6289351851851853E-3,1.5763888888888889E-3,1.6289351851851853E-3,1.6289351851851853E-3,1.5763888888888889E-3,1.6289351851851853E-3,1.5763888888888889E-3,1.6289351851851853E-3,1.6289351851851853E-3,1.4712962962962965E-3,1.6289351851851853E-3,1.5763888888888889E-3,1.6289351851851853E-3,1.5763888888888889E-3,1.6289351851851853E-3,1.6289351851851853E-3,1.5763888888888889E-3,1.6289351851851853E-3,1.5763888888888889E-3,1.6289351851851853E-3,1.6289351851851853E-3,1.5238425925925929E-3,1.6289351851851853E-3,1.5763888888888889E-3,1.6289351851851853E-3,1.5763888888888889E-3,1.6289351851851853E-3,5.2546296296296304E-4,0,0,0,0,0,0,0,0,{"$f":"TD58*TD55","v":0},0,0,0,0,0,0,0,0,0,0,0,0,0,0,0,0,0,0,0,0,0,0,0,0,0,0,0,0,0,0,0,0,0,0,0,0,0]
[]
[null,null,null,"Level Repayment ","Periods",{"$f":"H45","v":240},{"$f":"H38","v":799999.99999999977},{"$f":"SUM(K61:XFD61)","v":800000.00000000198},"EUR",null,{"$f":"$G$61/$F$61*K45","v":0},{"$f":"$G$61/$F$61*L45","v":0},0,0,0,0,0,0,0,0,0,0,0,0,0,0,0,0,0,0,0,0,0,0,0,3333.3333333333326,3333.3333333333326,3333.3333333333326,3333.3333333333326,3333.3333333333326,3333.3333333333326,3333.3333333333326,3333.3333333333326,3333.3333333333326,3333.3333333333326,3333.3333333333326,3333.3333333333326,3333.3333333333326,3333.3333333333326,3333.3333333333326,3333.3333333333326,3333.3333333333326,3333.3333333333326,3333.3333333333326,3333.3333333333326,3333.3333333333326,3333.3333333333326,3333.3333333333326,3333.3333333333326,3333.3333333333326,3333.3333333333326,3333.3333333333326,3333.3333333333326,3333.3333333333326,3333.3333333333326,3333.3333333333326,3333.3333333333326,3333.3333333333326,3333.3333333333326,3333.3333333333326,3333.3333333333326,3333.3333333333326,3333.3333333333326,3333.3333333333326,3333.3333333333326,{"$f":"$G$61/$F$61*BX45","v":3333.3333333333326},3333.3333333333326,3333.3333333333326,3333.3333333333326,3333.3333333333326,3333.3333333333326,3333.3333333333326,3333.3333333333326,3333.3333333333326,3333.3333333333326,3333.3333333333326,3333.3333333333326,3333.3333333333326,3333.3333333333326,3333.3333333333326,3333.3333333333326,3333.3333333333326,3333.3333333333326,3333.3333333333326,3333.3333333333326,3333.3333333333326,3333.3333333333326,3333.3333333333326,3333.3333333333326,3333.3333333333326,3333.3333333333326,3333.3333333333326,3333.3333333333326,3333.3333333333326,3333.3333333333326,3333.3333333333326,3333.3333333333326,3333.3333333333326,3333.3333333333326,3333.3333333333326,3333.3333333333326,3333.3333333333326,3333.3333333333326,3333.3333333333326,3333.3333333333326,3333.3333333333326,3333.3333333333326,3333.3333333333326,3333.3333333333326,3333.3333333333326,3333.3333333333326,3333.3333333333326,3333.3333333333326,3333.3333333333326,3333.3333333333326,3333.3333333333326,3333.3333333333326,3333.3333333333326,3333.3333333333326,3333.3333333333326,3333.3333333333326,3333.3333333333326,3333.3333333333326,3333.3333333333326,3333.3333333333326,3333.3333333333326,3333.3333333333326,3333.3333333333326,3333.3333333333326,{"$f":"$G$61/$F$61*EJ45","v":3333.3333333333326},3333.3333333333326,3333.3333333333326,3333.3333333333326,3333.3333333333326,3333.3333333333326,3333.3333333333326,3333.3333333333326,3333.3333333333326,3333.3333333333326,3333.3333333333326,3333.3333333333326,3333.3333333333326,3333.3333333333326,3333.3333333333326,3333.3333333333326,3333.3333333333326,3333.3333333333326,3333.3333333333326,3333.3333333333326,3333.3333333333326,3333.3333333333326,3333.3333333333326,3333.3333333333326,3333.3333333333326,3333.3333333333326,3333.3333333333326,3333.3333333333326,3333.3333333333326,3333.3333333333326,3333.3333333333326,3333.3333333333326,3333.3333333333326,3333.3333333333326,3333.3333333333326,3333.3333333333326,3333.3333333333326,3333.3333333333326,3333.3333333333326,3333.3333333333326,3333.3333333333326,3333.3333333333326,3333.3333333333326,3333.3333333333326,3333.3333333333326,3333.3333333333326,3333.3333333333326,3333.3333333333326,3333.3333333333326,3333.3333333333326,3333.3333333333326,3333.3333333333326,3333.3333333333326,3333.3333333333326,3333.3333333333326,3333.3333333333326,3333.3333333333326,3333.3333333333326,3333.3333333333326,3333.3333333333326,3333.3333333333326,3333.3333333333326,3333.3333333333326,3333.3333333333326,{"$f":"$G$61/$F$61*GV45","v":3333.3333333333326},3333.3333333333326,3333.3333333333326,3333.3333333333326,3333.3333333333326,3333.3333333333326,3333.3333333333326,3333.3333333333326,3333.3333333333326,3333.3333333333326,3333.3333333333326,3333.3333333333326,3333.3333333333326,3333.3333333333326,3333.3333333333326,3333.3333333333326,3333.3333333333326,3333.3333333333326,3333.3333333333326,3333.3333333333326,3333.3333333333326,3333.3333333333326,3333.3333333333326,3333.3333333333326,3333.3333333333326,3333.3333333333326,3333.3333333333326,3333.3333333333326,3333.3333333333326,3333.3333333333326,3333.3333333333326,3333.3333333333326,3333.3333333333326,3333.3333333333326,3333.3333333333326,3333.3333333333326,3333.3333333333326,3333.3333333333326,3333.3333333333326,3333.3333333333326,3333.3333333333326,3333.3333333333326,3333.3333333333326,3333.3333333333326,3333.3333333333326,3333.3333333333326,3333.3333333333326,3333.3333333333326,3333.3333333333326,3333.3333333333326,3333.3333333333326,3333.3333333333326,3333.3333333333326,3333.3333333333326,3333.3333333333326,3333.3333333333326,3333.3333333333326,3333.3333333333326,3333.3333333333326,3333.3333333333326,3333.3333333333326,3333.3333333333326,3333.3333333333326,3333.3333333333326,{"$f":"$G$61/$F$61*JH45","v":3333.3333333333326},3333.3333333333326,3333.3333333333326,3333.3333333333326,3333.3333333333326,3333.3333333333326,3333.3333333333326,3333.3333333333326,0,0,0,0,0,0,0,0,0,0,0,0,0,0,0,0,0,0,0,0,0,0,0,0,0,0,0,0,0,0,0,0,0,0,0,0,0,0,0,0,0,0,0,0,0,0,0,0,0,0,0,0,0,0,0,0,{"$f":"$G$61/$F$61*LT45","v":0},0,0,0,0,0,0,0,0,0,0,0,0,0,0,0,0,0,0,0,0,0,0,0,0,0,0,0,0,0,0,0,0,0,0,0,0,0,0,0,0,0,0,0,0,0,0,0,0,0,0,0,0,0,0,0,0,0,0,0,0,0,0,0,{"$f":"$G$61/$F$61*OF45","v":0},0,0,0,0,0,0,0,0,0,0,0,0,0,0,0,0,0,0,0,0,0,0,0,0,0,0,0,0,0,0,0,0,0,0,0,0,0,0,0,0,0,0,0,0,0,0,0,0,0,0,0,0,0,0,0,0,0,0,0,0,0,0,0,{"$f":"$G$61/$F$61*QR45","v":0},0,0,0,0,0,0,0,0,0,0,0,0,0,0,0,0,0,0,0,0,0,0,0,0,0,0,0,0,0,0,0,0,0,0,0,0,0,0,0,0,0,0,0,0,0,0,0,0,0,0,0,0,0,0,0,0,0,0,0,0,0,0,0,{"$f":"$G$61/$F$61*TD45","v":0},0,0,0,0,0,0,0,0,0,0,0,0,0,0,0,0,0,0,0,0,0,0,0,0,0,0,0,0,0,0,0,0,0,0,0,0,0]
[null,null,null,"Accumulated Repayment for Period - SUMIF",null,null,null,{"$f":"SUM(K62:XFD62)","v":799999.99999999988},null,null,{"$f":"SUMIF(48:48,K48,61:61)*K47","v":0},{"$f":"SUMIF(48:48,L48,61:61)*L47","v":0},0,0,0,0,0,0,0,0,0,0,0,0,0,0,0,0,0,0,0,0,0,0,0,0,0,0,0,0,19999.999999999996,0,0,0,0,0,19999.999999999996,0,0,0,0,0,19999.999999999996,0,0,0,0,0,19999.999999999996,0,0,0,0,0,19999.999999999996,0,0,0,0,0,19999.999999999996,0,0,0,0,{"$f":"SUMIF(48:48,BX48,61:61)*BX47","v":0},19999.999999999996,0,0,0,0,0,19999.999999999996,0,0,0,0,0,19999.999999999996,0,0,0,0,0,19999.999999999996,0,0,0,0,0,19999.999999999996,0,0,0,0,0,19999.999999999996,0,0,0,0,0,19999.999999999996,0,0,0,0,0,19999.999999999996,0,0,0,0,0,19999.999999999996,0,0,0,0,0,19999.999999999996,0,0,0,0,0,19999.999999999996,0,0,{"$f":"SUMIF(48:48,EJ48,61:61)*EJ47","v":0},0,0,19999.999999999996,0,0,0,0,0,19999.999999999996,0,0,0,0,0,19999.999999999996,0,0,0,0,0,19999.999999999996,0,0,0,0,0,19999.999999999996,0,0,0,0,0,19999.999999999996,0,0,0,0,0,19999.999999999996,0,0,0,0,0,19999.999999999996,0,0,0,0,0,19999.999999999996,0,0,0,0,0,19999.999999999996,0,0,0,0,0,19999.999999999996,{"$f":"SUMIF(48:48,GV48,61:61)*GV47","v":0},0,0,0,0,19999.999999999996,0,0,0,0,0,19999.999999999996,0,0,0,0,0,19999.999999999996,0,0,0,0,0,19999.999999999996,0,0,0,0,0,19999.999999999996,0,0,0,0,0,19999.999999999996,0,0,0,0,0,19999.999999999996,0,0,0,0,0,19999.999999999996,0,0,0,0,0,19999.999999999996,0,0,0,0,0,19999.999999999996,0,0,0,0,{"$f":"SUMIF(48:48,JH48,61:61)*JH47","v":0},19999.999999999996,0,0,0,0,0,19999.999999999996,0,0,0,0,0,0,0,0,0,0,0,0,0,0,0,0,0,0,0,0,0,0,0,0,0,0,0,0,0,0,0,0,0,0,0,0,0,0,0,0,0,0,0,0,0,0,0,0,0,0,0,0,0,0,0,0,{"$f":"SUMIF(48:48,LT48,61:61)*LT47","v":0},0,0,0,0,0,0,0,0,0,0,0,0,0,0,0,0,0,0,0,0,0,0,0,0,0,0,0,0,0,0,0,0,0,0,0,0,0,0,0,0,0,0,0,0,0,0,0,0,0,0,0,0,0,0,0,0,0,0,0,0,0,0,0,{"$f":"SUMIF(48:48,OF48,61:61)*OF47","v":0},0,0,0,0,0,0,0,0,0,0,0,0,0,0,0,0,0,0,0,0,0,0,0,0,0,0,0,0,0,0,0,0,0,0,0,0,0,0,0,0,0,0,0,0,0,0,0,0,0,0,0,0,0,0,0,0,0,0,0,0,0,0,0,{"$f":"SUMIF(48:48,QR48,61:61)*QR47","v":0},0,0,0,0,0,0,0,0,0,0,0,0,0,0,0,0,0,0,0,0,0,0,0,0,0,0,0,0,0,0,0,0,0,0,0,0,0,0,0,0,0,0,0,0,0,0,0,0,0,0,0,0,0,0,0,0,0,0,0,0,0,0,0,{"$f":"SUMIF(48:48,TD48,61:61)*TD47","v":0},0,0,0,0,0,0,0,0,0,0,0,0,0,0,0,0,0,0,0,0,0,0,0,0,0,0,0,0,0,0,0,0,0,0,0,0,0]
[]
[null,null,"Scheduled Debt"]
[null,null,null,"Opening Balance",null,null,null,null,"EUR",null,{"$f":"J68","v":0},{"$f":"K68","v":19753.086419753086},52674.897119341564,86694.101508916327,119615.9122085048,153635.11659807956,187654.32098765433,218381.34430727025,252400.54869684501,285322.35939643346,319341.56378600822,352263.37448559667,386282.57887517143,420301.78326474619,453223.59396433469,487242.79835390946,520164.6090534979,554183.81344307261,588203.01783264731,620027.43484224949,654046.6392318242,686968.4499314127,720987.65432098741,753909.46502057591,787928.66941015061,799999.99999999977,799999.99999999977,799999.99999999977,799999.99999999977,799999.99999999977,799999.99999999977,779999.99999999977,779999.99999999977,779999.99999999977,779999.99999999977,779999.99999999977,779999.99999999977,759999.99999999977,759999.99999999977,759999.99999999977,759999.99999999977,759999.99999999977,759999.99999999977,739999.99999999977,739999.99999999977,739999.99999999977,739999.99999999977,739999.99999999977,739999.99999999977,719999.99999999977,719999.99999999977,719999.99999999977,719999.99999999977,719999.99999999977,719999.99999999977,699999.99999999977,699999.99999999977,699999.99999999977,699999.99999999977,699999.99999999977,699999.99999999977,679999.99999999977,679999.99999999977,679999.99999999977,679999.99999999977,{"$f":"BW68","v":679999.99999999977},679999.99999999977,659999.99999999977,659999.99999999977,659999.99999999977,659999.99999999977,659999.99999999977,659999.99999999977,639999.99999999977,639999.99999999977,639999.99999999977,639999.99999999977,639999.99999999977,639999.99999999977,619999.99999999977,619999.99999999977,619999.99999999977,619999.99999999977,619999.99999999977,619999.99999999977,599999.99999999977,599999.99999999977,599999.99999999977,599999.99999999977,599999.99999999977,599999.99999999977,579999.99999999977,579999.99999999977,579999.99999999977,579999.99999999977,579999.99999999977,579999.99999999977,559999.99999999977,559999.99999999977,559999.99999999977,559999.99999999977,559999.99999999977,559999.99999999977,539999.99999999977,539999.99999999977,539999.99999999977,539999.99999999977,539999.99999999977,539999.99999999977,519999.99999999977,519999.99999999977,519999.99999999977,519999.99999999977,519999.99999999977,519999.99999999977,499999.99999999977,499999.99999999977,499999.99999999977,499999.99999999977,499999.99999999977,499999.99999999977,479999.99999999977,479999.99999999977,479999.99999999977,479999.99999999977,479999.99999999977,479999.99999999977,459999.99999999977,459999.99999999977,{"$f":"EI68","v":459999.99999999977},459999.99999999977,459999.99999999977,459999.99999999977,439999.99999999977,439999.99999999977,439999.99999999977,439999.99999999977,439999.99999999977,439999.99999999977,419999.99999999977,419999.99999999977,419999.99999999977,419999.99999999977,419999.99999999977,419999.99999999977,399999.99999999977,399999.99999999977,399999.99999999977,399999.99999999977,399999.99999999977,399999.99999999977,379999.99999999977,379999.99999999977,379999.99999999977,379999.99999999977,379999.99999999977,379999.99999999977,359999.99999999977,359999.99999999977,359999.99999999977,359999.99999999977,359999.99999999977,359999.99999999977,339999.99999999977,339999.99999999977,339999.99999999977,339999.99999999977,339999.99999999977,339999.99999999977,319999.99999999977,319999.99999999977,319999.99999999977,319999.99999999977,319999.99999999977,319999.99999999977,299999.99999999977,299999.99999999977,299999.99999999977,299999.99999999977,299999.99999999977,299999.99999999977,279999.99999999977,279999.99999999977,279999.99999999977,279999.99999999977,279999.99999999977,279999.99999999977,259999.99999999977,259999.99999999977,259999.99999999977,259999.99999999977,259999.99999999977,259999.99999999977,{"$f":"GU68","v":239999.99999999977},239999.99999999977,239999.99999999977,239999.99999999977,239999.99999999977,239999.99999999977,219999.99999999977,219999.99999999977,219999.99999999977,219999.99999999977,219999.99999999977,219999.99999999977,199999.99999999977,199999.99999999977,199999.99999999977,199999.99999999977,199999.99999999977,199999.99999999977,179999.99999999977,179999.99999999977,179999.99999999977,179999.99999999977,179999.99999999977,179999.99999999977,159999.99999999977,159999.99999999977,159999.99999999977,159999.99999999977,159999.99999999977,159999.99999999977,139999.99999999977,139999.99999999977,139999.99999999977,139999.99999999977,139999.99999999977,139999.99999999977,119999.99999999977,119999.99999999977,119999.99999999977,119999.99999999977,119999.99999999977,119999.99999999977,99999.999999999767,99999.999999999767,99999.999999999767,99999.999999999767,99999.999999999767,99999.999999999767,79999.999999999767,79999.999999999767,79999.999999999767,79999.999999999767,79999.999999999767,79999.999999999767,59999.999999999767,59999.999999999767,59999.999999999767,59999.999999999767,59999.999999999767,59999.999999999767,39999.999999999767,39999.999999999767,39999.999999999767,39999.999999999767,{"$f":"JG68","v":39999.999999999767},39999.999999999767,19999.999999999771,19999.999999999771,19999.999999999771,19999.999999999771,19999.999999999771,19999.999999999771,-2.255546860396862E-10,-2.255546860396862E-10,-2.255546860396862E-10,-2.255546860396862E-10,-2.255546860396862E-10,-2.255546860396862E-10,-2.255546860396862E-10,-2.255546860396862E-10,-2.255546860396862E-10,-2.255546860396862E-10,-2.255546860396862E-10,-2.255546860396862E-10,-2.255546860396862E-10,-2.255546860396862E-10,-2.255546860396862E-10,-2.255546860396862E-10,-2.255546860396862E-10,-2.255546860396862E-10,-2.255546860396862E-10,-2.255546860396862E-10,-2.255546860396862E-10,-2.255546860396862E-10,-2.255546860396862E-10,-2.255546860396862E-10,-2.255546860396862E-10,-2.255546860396862E-10,-2.255546860396862E-10,-2.255546860396862E-10,-2.255546860396862E-10,-2.255546860396862E-10,-2.255546860396862E-10,-2.255546860396862E-10,-2.255546860396862E-10,-2.255546860396862E-10,-2.255546860396862E-10,-2.255546860396862E-10,-2.255546860396862E-10,-2.255546860396862E-10,-2.255546860396862E-10,-2.255546860396862E-10,-2.255546860396862E-10,-2.255546860396862E-10,-2.255546860396862E-10,-2.255546860396862E-10,-2.255546860396862E-10,-2.255546860396862E-10,-2.255546860396862E-10,-2.255546860396862E-10,-2.255546860396862E-10,-2.255546860396862E-10,-2.255546860396862E-10,-2.255546860396862E-10,-2.255546860396862E-10,-2.255546860396862E-10,-2.255546860396862E-10,-2.255546860396862E-10,{"$f":"LS68","v":-2.255546860396862E-10},-2.255546860396862E-10,-2.255546860396862E-10,-2.255546860396862E-10,-2.255546860396862E-10,-2.255546860396862E-10,-2.255546860396862E-10,-2.255546860396862E-10,-2.255546860396862E-10,-2.255546860396862E-10,-2.255546860396862E-10,-2.255546860396862E-10,-2.255546860396862E-10,-2.255546860396862E-10,-2.255546860396862E-10,-2.255546860396862E-10,-2.255546860396862E-10,-2.255546860396862E-10,-2.255546860396862E-10,-2.255546860396862E-10,-2.255546860396862E-10,-2.255546860396862E-10,-2.255546860396862E-10,-2.255546860396862E-10,-2.255546860396862E-10,-2.255546860396862E-10,-2.255546860396862E-10,-2.255546860396862E-10,-2.255546860396862E-10,-2.255546860396862E-10,-2.255546860396862E-10,-2.255546860396862E-10,-2.255546860396862E-10,-2.255546860396862E-10,-2.255546860396862E-10,-2.255546860396862E-10,-2.255546860396862E-10,-2.255546860396862E-10,-2.255546860396862E-10,-2.255546860396862E-10,-2.255546860396862E-10,-2.255546860396862E-10,-2.255546860396862E-10,-2.255546860396862E-10,-2.255546860396862E-10,-2.255546860396862E-10,-2.255546860396862E-10,-2.255546860396862E-10,-2.255546860396862E-10,-2.255546860396862E-10,-2.255546860396862E-10,-2.255546860396862E-10,-2.255546860396862E-10,-2.255546860396862E-10,-2.255546860396862E-10,-2.255546860396862E-10,-2.255546860396862E-10,-2.255546860396862E-10,-2.255546860396862E-10,-2.255546860396862E-10,-2.255546860396862E-10,-2.255546860396862E-10,-2.255546860396862E-10,-2.255546860396862E-10,{"$f":"OE68","v":-2.255546860396862E-10},-2.255546860396862E-10,-2.255546860396862E-10,-2.255546860396862E-10,-2.255546860396862E-10,-2.255546860396862E-10,-2.255546860396862E-10,-2.255546860396862E-10,-2.255546860396862E-10,-2.255546860396862E-10,-2.255546860396862E-10,-2.255546860396862E-10,-2.255546860396862E-10,-2.255546860396862E-10,-2.255546860396862E-10,-2.255546860396862E-10,-2.255546860396862E-10,-2.255546860396862E-10,-2.255546860396862E-10,-2.255546860396862E-10,-2.255546860396862E-10,-2.255546860396862E-10,-2.255546860396862E-10,-2.255546860396862E-10,-2.255546860396862E-10,-2.255546860396862E-10,-2.255546860396862E-10,-2.255546860396862E-10,-2.255546860396862E-10,-2.255546860396862E-10,-2.255546860396862E-10,-2.255546860396862E-10,-2.255546860396862E-10,-2.255546860396862E-10,-2.255546860396862E-10,-2.255546860396862E-10,-2.255546860396862E-10,-2.255546860396862E-10,-2.255546860396862E-10,-2.255546860396862E-10,-2.255546860396862E-10,-2.255546860396862E-10,-2.255546860396862E-10,-2.255546860396862E-10,-2.255546860396862E-10,-2.255546860396862E-10,-2.255546860396862E-10,-2.255546860396862E-10,-2.255546860396862E-10,-2.255546860396862E-10,-2.255546860396862E-10,-2.255546860396862E-10,-2.255546860396862E-10,-2.255546860396862E-10,-2.255546860396862E-10,-2.255546860396862E-10,-2.255546860396862E-10,-2.255546860396862E-10,-2.255546860396862E-10,-2.255546860396862E-10,-2.255546860396862E-10,-2.255546860396862E-10,-2.255546860396862E-10,-2.255546860396862E-10,{"$f":"QQ68","v":-2.255546860396862E-10},-2.255546860396862E-10,-2.255546860396862E-10,-2.255546860396862E-10,-2.255546860396862E-10,-2.255546860396862E-10,-2.255546860396862E-10,-2.255546860396862E-10,-2.255546860396862E-10,-2.255546860396862E-10,-2.255546860396862E-10,-2.255546860396862E-10,-2.255546860396862E-10,-2.255546860396862E-10,-2.255546860396862E-10,-2.255546860396862E-10,-2.255546860396862E-10,-2.255546860396862E-10,-2.255546860396862E-10,-2.255546860396862E-10,-2.255546860396862E-10,-2.255546860396862E-10,-2.255546860396862E-10,-2.255546860396862E-10,-2.255546860396862E-10,-2.255546860396862E-10,-2.255546860396862E-10,-2.255546860396862E-10,-2.255546860396862E-10,-2.255546860396862E-10,-2.255546860396862E-10,-2.255546860396862E-10,-2.255546860396862E-10,-2.255546860396862E-10,-2.255546860396862E-10,-2.255546860396862E-10,-2.255546860396862E-10,-2.255546860396862E-10,-2.255546860396862E-10,-2.255546860396862E-10,-2.255546860396862E-10,-2.255546860396862E-10,-2.255546860396862E-10,-2.255546860396862E-10,-2.255546860396862E-10,-2.255546860396862E-10,-2.255546860396862E-10,-2.255546860396862E-10,-2.255546860396862E-10,-2.255546860396862E-10,-2.255546860396862E-10,-2.255546860396862E-10,-2.255546860396862E-10,-2.255546860396862E-10,-2.255546860396862E-10,-2.255546860396862E-10,-2.255546860396862E-10,-2.255546860396862E-10,-2.255546860396862E-10,-2.255546860396862E-10,-2.255546860396862E-10,-2.255546860396862E-10,-2.255546860396862E-10,-2.255546860396862E-10,{"$f":"TC68","v":-2.255546860396862E-10},-2.255546860396862E-10,-2.255546860396862E-10,-2.255546860396862E-10,-2.255546860396862E-10,-2.255546860396862E-10,-2.255546860396862E-10,-2.255546860396862E-10,-2.255546860396862E-10,-2.255546860396862E-10,-2.255546860396862E-10,-2.255546860396862E-10,-2.255546860396862E-10,-2.255546860396862E-10,-2.255546860396862E-10,-2.255546860396862E-10,-2.255546860396862E-10,-2.255546860396862E-10,-2.255546860396862E-10,-2.255546860396862E-10,-2.255546860396862E-10,-2.255546860396862E-10,-2.255546860396862E-10,-2.255546860396862E-10,-2.255546860396862E-10,-2.255546860396862E-10,-2.255546860396862E-10,-2.255546860396862E-10,-2.255546860396862E-10,-2.255546860396862E-10,-2.255546860396862E-10,-2.255546860396862E-10,-2.255546860396862E-10,-2.255546860396862E-10,-2.255546860396862E-10,-2.255546860396862E-10,-2.255546860396862E-10,-2.255546860396862E-10]
[null,null,null,"Add Debt Issued",null,null,null,null,"EUR",null,{"$f":"K38","v":19753.086419753086},{"$f":"L38","v":32921.810699588474},{"$f":"M38","v":34019.204389574756},{"$f":"N38","v":32921.810699588474},{"$f":"O38","v":34019.204389574756},{"$f":"P38","v":34019.204389574756},{"$f":"Q38","v":30727.023319615913},{"$f":"R38","v":34019.204389574756},{"$f":"S38","v":32921.810699588474},{"$f":"T38","v":34019.204389574756},{"$f":"U38","v":32921.810699588474},{"$f":"V38","v":34019.204389574756},{"$f":"W38","v":34019.204389574756},{"$f":"X38","v":32921.810699588474},{"$f":"Y38","v":34019.204389574756},{"$f":"Z38","v":32921.810699588474},{"$f":"AA38","v":34019.204389574756},{"$f":"AB38","v":34019.204389574756},{"$f":"AC38","v":31824.417009602192},{"$f":"AD38","v":34019.204389574756},{"$f":"AE38","v":32921.810699588474},{"$f":"AF38","v":34019.204389574756},{"$f":"AG38","v":32921.810699588474},{"$f":"AH38","v":34019.204389574756},{"$f":"AI38","v":12071.330589849109},{"$f":"AJ38","v":0},{"$f":"AK38","v":0},{"$f":"AL38","v":0},{"$f":"AM38","v":0},{"$f":"AN38","v":0},{"$f":"AO38","v":0},{"$f":"AP38","v":0},{"$f":"AQ38","v":0},{"$f":"AR38","v":0},{"$f":"AS38","v":0},{"$f":"AT38","v":0},{"$f":"AU38","v":0},{"$f":"AV38","v":0},{"$f":"AW38","v":0},{"$f":"AX38","v":0},{"$f":"AY38","v":0},{"$f":"AZ38","v":0},{"$f":"BA38","v":0},{"$f":"BB38","v":0},{"$f":"BC38","v":0},{"$f":"BD38","v":0},{"$f":"BE38","v":0},{"$f":"BF38","v":0},{"$f":"BG38","v":0},{"$f":"BH38","v":0},{"$f":"BI38","v":0},{"$f":"BJ38","v":0},{"$f":"BK38","v":0},{"$f":"BL38","v":0},{"$f":"BM38","v":0},{"$f":"BN38","v":0},{"$f":"BO38","v":0},{"$f":"BP38","v":0},{"$f":"BQ38","v":0},{"$f":"BR38","v":0},{"$f":"BS38","v":0},{"$f":"BT38","v":0},{"$f":"BU38","v":0},{"$f":"BV38","v":0},{"$f":"BW38","v":0},{"$f":"BX38","v":0},{"$f":"BY38","v":0},{"$f":"BZ38","v":0},{"$f":"CA38","v":0},{"$f":"CB38","v":0},{"$f":"CC38","v":0},{"$f":"CD38","v":0},{"$f":"CE38","v":0},{"$f":"CF38","v":0},{"$f":"CG38","v":0},{"$f":"CH38","v":0},{"$f":"CI38","v":0},{"$f":"CJ38","v":0},{"$f":"CK38","v":0},{"$f":"CL38","v":0},{"$f":"CM38","v":0},{"$f":"CN38","v":0},{"$f":"CO38","v":0},{"$f":"CP38","v":0},{"$f":"CQ38","v":0},{"$f":"CR38","v":0},{"$f":"CS38","v":0},{"$f":"CT38","v":0},{"$f":"CU38","v":0},{"$f":"CV38","v":0},{"$f":"CW38","v":0},{"$f":"CX38","v":0},{"$f":"CY38","v":0},{"$f":"CZ38","v":0},{"$f":"DA38","v":0},{"$f":"DB38","v":0},{"$f":"DC38","v":0},{"$f":"DD38","v":0},{"$f":"DE38","v":0},{"$f":"DF38","v":0},{"$f":"DG38","v":0},{"$f":"DH38","v":0},{"$f":"DI38","v":0},{"$f":"DJ38","v":0},{"$f":"DK38","v":0},{"$f":"DL38","v":0},{"$f":"DM38","v":0},{"$f":"DN38","v":0},{"$f":"DO38","v":0},{"$f":"DP38","v":0},{"$f":"DQ38","v":0},{"$f":"DR38","v":0},{"$f":"DS38","v":0},{"$f":"DT38","v":0},{"$f":"DU38","v":0},{"$f":"DV38","v":0},{"$f":"DW38","v":0},{"$f":"DX38","v":0},{"$f":"DY38","v":0},{"$f":"DZ38","v":0},{"$f":"EA38","v":0},{"$f":"EB38","v":0},{"$f":"EC38","v":0},{"$f":"ED38","v":0},{"$f":"EE38","v":0},{"$f":"EF38","v":0},{"$f":"EG38","v":0},{"$f":"EH38","v":0},{"$f":"EI38","v":0},{"$f":"EJ38","v":0},{"$f":"EK38","v":0},{"$f":"EL38","v":0},{"$f":"EM38","v":0},{"$f":"EN38","v":0},{"$f":"EO38","v":0},{"$f":"EP38","v":0},{"$f":"EQ38","v":0},{"$f":"ER38","v":0},{"$f":"ES38","v":0},{"$f":"ET38","v":0},{"$f":"EU38","v":0},{"$f":"EV38","v":0},{"$f":"EW38","v":0},{"$f":"EX38","v":0},{"$f":"EY38","v":0},{"$f":"EZ38","v":0},{"$f":"FA38","v":0},{"$f":"FB38","v":0},{"$f":"FC38","v":0},{"$f":"FD38","v":0},{"$f":"FE38","v":0},{"$f":"FF38","v":0},{"$f":"FG38","v":0},{"$f":"FH38","v":0},{"$f":"FI38","v":0},{"$f":"FJ38","v":0},{"$f":"FK38","v":0},{"$f":"FL38","v":0},{"$f":"FM38","v":0},{"$f":"FN38","v":0},{"$f":"FO38","v":0},{"$f":"FP38","v":0},{"$f":"FQ38","v":0},{"$f":"FR38","v":0},{"$f":"FS38","v":0},{"$f":"FT38","v":0},{"$f":"FU38","v":0},{"$f":"FV38","v":0},{"$f":"FW38","v":0},{"$f":"FX38","v":0},{"$f":"FY38","v":0},{"$f":"FZ38","v":0},{"$f":"GA38","v":0},{"$f":"GB38","v":0},{"$f":"GC38","v":0},{"$f":"GD38","v":0},{"$f":"GE38","v":0},{"$f":"GF38","v":0},{"$f":"GG38","v":0},{"$f":"GH38","v":0},{"$f":"GI38","v":0},{"$f":"GJ38","v":0},{"$f":"GK38","v":0},{"$f":"GL38","v":0},{"$f":"GM38","v":0},{"$f":"GN38","v":0},{"$f":"GO38","v":0},{"$f":"GP38","v":0},{"$f":"GQ38","v":0},{"$f":"GR38","v":0},{"$f":"GS38","v":0},{"$f":"GT38","v":0},{"$f":"GU38","v":0},{"$f":"GV38","v":0},{"$f":"GW38","v":0},{"$f":"GX38","v":0},{"$f":"GY38","v":0},{"$f":"GZ38","v":0},{"$f":"HA38","v":0},{"$f":"HB38","v":0},{"$f":"HC38","v":0},{"$f":"HD38","v":0},{"$f":"HE38","v":0},{"$f":"HF38","v":0},{"$f":"HG38","v":0},{"$f":"HH38","v":0},{"$f":"HI38","v":0},{"$f":"HJ38","v":0},{"$f":"HK38","v":0},{"$f":"HL38","v":0},{"$f":"HM38","v":0},{"$f":"HN38","v":0},{"$f":"HO38","v":0},{"$f":"HP38","v":0},{"$f":"HQ38","v":0},{"$f":"HR38","v":0},{"$f":"HS38","v":0},{"$f":"HT38","v":0},{"$f":"HU38","v":0},{"$f":"HV38","v":0},{"$f":"HW38","v":0},{"$f":"HX38","v":0},{"$f":"HY38","v":0},{"$f":"HZ38","v":0},{"$f":"IA38","v":0},{"$f":"IB38","v":0},{"$f":"IC38","v":0},{"$f":"ID38","v":0},{"$f":"IE38","v":0},{"$f":"IF38","v":0},{"$f":"IG38","v":0},{"$f":"IH38","v":0},{"$f":"II38","v":0},{"$f":"IJ38","v":0},{"$f":"IK38","v":0},{"$f":"IL38","v":0},{"$f":"IM38","v":0},{"$f":"IN38","v":0},{"$f":"IO38","v":0},{"$f":"IP38","v":0},{"$f":"IQ38","v":0},{"$f":"IR38","v":0},{"$f":"IS38","v":0},{"$f":"IT38","v":0},{"$f":"IU38","v":0},{"$f":"IV38","v":0},{"$f":"IW38","v":0},{"$f":"IX38","v":0},{"$f":"IY38","v":0},{"$f":"IZ38","v":0},{"$f":"JA38","v":0},{"$f":"JB38","v":0},{"$f":"JC38","v":0},{"$f":"JD38","v":0},{"$f":"JE38","v":0},{"$f":"JF38","v":0},{"$f":"JG38","v":0},{"$f":"JH38","v":0},{"$f":"JI38","v":0},{"$f":"JJ38","v":0},{"$f":"JK38","v":0},{"$f":"JL38","v":0},{"$f":"JM38","v":0},{"$f":"JN38","v":0},{"$f":"JO38","v":0},{"$f":"JP38","v":0},{"$f":"JQ38","v":0},{"$f":"JR38","v":0},{"$f":"JS38","v":0},{"$f":"JT38","v":0},{"$f":"JU38","v":0},{"$f":"JV38","v":0},{"$f":"JW38","v":0},{"$f":"JX38","v":0},{"$f":"JY38","v":0},{"$f":"JZ38","v":0},{"$f":"KA38","v":0},{"$f":"KB38","v":0},{"$f":"KC38","v":0},{"$f":"KD38","v":0},{"$f":"KE38","v":0},{"$f":"KF38","v":0},{"$f":"KG38","v":0},{"$f":"KH38","v":0},{"$f":"KI38","v":0},{"$f":"KJ38","v":0},{"$f":"KK38","v":0},{"$f":"KL38","v":0},{"$f":"KM38","v":0},{"$f":"KN38","v":0},{"$f":"KO38","v":0},{"$f":"KP38","v":0},{"$f":"KQ38","v":0},{"$f":"KR38","v":0},{"$f":"KS38","v":0},{"$f":"KT38","v":0},{"$f":"KU38","v":0},{"$f":"KV38","v":0},{"$f":"KW38","v":0},{"$f":"KX38","v":0},{"$f":"KY38","v":0},{"$f":"KZ38","v":0},{"$f":"LA38","v":0},{"$f":"LB38","v":0},{"$f":"LC38","v":0},{"$f":"LD38","v":0},{"$f":"LE38","v":0},{"$f":"LF38","v":0},{"$f":"LG38","v":0},{"$f":"LH38","v":0},{"$f":"LI38","v":0},{"$f":"LJ38","v":0},{"$f":"LK38","v":0},{"$f":"LL38","v":0},{"$f":"LM38","v":0},{"$f":"LN38","v":0},{"$f":"LO38","v":0},{"$f":"LP38","v":0},{"$f":"LQ38","v":0},{"$f":"LR38","v":0},{"$f":"LS38","v":0},{"$f":"LT38","v":0},{"$f":"LU38","v":0},{"$f":"LV38","v":0},{"$f":"LW38","v":0},{"$f":"LX38","v":0},{"$f":"LY38","v":0},{"$f":"LZ38","v":0},{"$f":"MA38","v":0},{"$f":"MB38","v":0},{"$f":"MC38","v":0},{"$f":"MD38","v":0},{"$f":"ME38","v":0},{"$f":"MF38","v":0},{"$f":"MG38","v":0},{"$f":"MH38","v":0},{"$f":"MI38","v":0},{"$f":"MJ38","v":0},{"$f":"MK38","v":0},{"$f":"ML38","v":0},{"$f":"MM38","v":0},{"$f":"MN38","v":0},{"$f":"MO38","v":0},{"$f":"MP38","v":0},{"$f":"MQ38","v":0},{"$f":"MR38","v":0},{"$f":"MS38","v":0},{"$f":"MT38","v":0},{"$f":"MU38","v":0},{"$f":"MV38","v":0},{"$f":"MW38","v":0},{"$f":"MX38","v":0},{"$f":"MY38","v":0},{"$f":"MZ38","v":0},{"$f":"NA38","v":0},{"$f":"NB38","v":0},{"$f":"NC38","v":0},{"$f":"ND38","v":0},{"$f":"NE38","v":0},{"$f":"NF38","v":0},{"$f":"NG38","v":0},{"$f":"NH38","v":0},{"$f":"NI38","v":0},{"$f":"NJ38","v":0},{"$f":"NK38","v":0},{"$f":"NL38","v":0},{"$f":"NM38","v":0},{"$f":"NN38","v":0},{"$f":"NO38","v":0},{"$f":"NP38","v":0},{"$f":"NQ38","v":0},{"$f":"NR38","v":0},{"$f":"NS38","v":0},{"$f":"NT38","v":0},{"$f":"NU38","v":0},{"$f":"NV38","v":0},{"$f":"NW38","v":0},{"$f":"NX38","v":0},{"$f":"NY38","v":0},{"$f":"NZ38","v":0},{"$f":"OA38","v":0},{"$f":"OB38","v":0},{"$f":"OC38","v":0},{"$f":"OD38","v":0},{"$f":"OE38","v":0},{"$f":"OF38","v":0},{"$f":"OG38","v":0},{"$f":"OH38","v":0},{"$f":"OI38","v":0},{"$f":"OJ38","v":0},{"$f":"OK38","v":0},{"$f":"OL38","v":0},{"$f":"OM38","v":0},{"$f":"ON38","v":0},{"$f":"OO38","v":0},{"$f":"OP38","v":0},{"$f":"OQ38","v":0},{"$f":"OR38","v":0},{"$f":"OS38","v":0},{"$f":"OT38","v":0},{"$f":"OU38","v":0},{"$f":"OV38","v":0},{"$f":"OW38","v":0},{"$f":"OX38","v":0},{"$f":"OY38","v":0},{"$f":"OZ38","v":0},{"$f":"PA38","v":0},{"$f":"PB38","v":0},{"$f":"PC38","v":0},{"$f":"PD38","v":0},{"$f":"PE38","v":0},{"$f":"PF38","v":0},{"$f":"PG38","v":0},{"$f":"PH38","v":0},{"$f":"PI38","v":0},{"$f":"PJ38","v":0},{"$f":"PK38","v":0},{"$f":"PL38","v":0},{"$f":"PM38","v":0},{"$f":"PN38","v":0},{"$f":"PO38","v":0},{"$f":"PP38","v":0},{"$f":"PQ38","v":0},{"$f":"PR38","v":0},{"$f":"PS38","v":0},{"$f":"PT38","v":0},{"$f":"PU38","v":0},{"$f":"PV38","v":0},{"$f":"PW38","v":0},{"$f":"PX38","v":0},{"$f":"PY38","v":0},{"$f":"PZ38","v":0},{"$f":"QA38","v":0},{"$f":"QB38","v":0},{"$f":"QC38","v":0},{"$f":"QD38","v":0},{"$f":"QE38","v":0},{"$f":"QF38","v":0},{"$f":"QG38","v":0},{"$f":"QH38","v":0},{"$f":"QI38","v":0},{"$f":"QJ38","v":0},{"$f":"QK38","v":0},{"$f":"QL38","v":0},{"$f":"QM38","v":0},{"$f":"QN38","v":0},{"$f":"QO38","v":0},{"$f":"QP38","v":0},{"$f":"QQ38","v":0},{"$f":"QR38","v":0},{"$f":"QS38","v":0},{"$f":"QT38","v":0},{"$f":"QU38","v":0},{"$f":"QV38","v":0},{"$f":"QW38","v":0},{"$f":"QX38","v":0},{"$f":"QY38","v":0},{"$f":"QZ38","v":0},{"$f":"RA38","v":0},{"$f":"RB38","v":0},{"$f":"RC38","v":0},{"$f":"RD38","v":0},{"$f":"RE38","v":0},{"$f":"RF38","v":0},{"$f":"RG38","v":0},{"$f":"RH38","v":0},{"$f":"RI38","v":0},{"$f":"RJ38","v":0},{"$f":"RK38","v":0},{"$f":"RL38","v":0},{"$f":"RM38","v":0},{"$f":"RN38","v":0},{"$f":"RO38","v":0},{"$f":"RP38","v":0},{"$f":"RQ38","v":0},{"$f":"RR38","v":0},{"$f":"RS38","v":0},{"$f":"RT38","v":0},{"$f":"RU38","v":0},{"$f":"RV38","v":0},{"$f":"RW38","v":0},{"$f":"RX38","v":0},{"$f":"RY38","v":0},{"$f":"RZ38","v":0},{"$f":"SA38","v":0},{"$f":"SB38","v":0},{"$f":"SC38","v":0},{"$f":"SD38","v":0},{"$f":"SE38","v":0},{"$f":"SF38","v":0},{"$f":"SG38","v":0},{"$f":"SH38","v":0},{"$f":"SI38","v":0},{"$f":"SJ38","v":0},{"$f":"SK38","v":0},{"$f":"SL38","v":0},{"$f":"SM38","v":0},{"$f":"SN38","v":0},{"$f":"SO38","v":0},{"$f":"SP38","v":0},{"$f":"SQ38","v":0},{"$f":"SR38","v":0},{"$f":"SS38","v":0},{"$f":"ST38","v":0},{"$f":"SU38","v":0},{"$f":"SV38","v":0},{"$f":"SW38","v":0},{"$f":"SX38","v":0},{"$f":"SY38","v":0},{"$f":"SZ38","v":0},{"$f":"TA38","v":0},{"$f":"TB38","v":0},{"$f":"TC38","v":0},{"$f":"TD38","v":0},{"$f":"TE38","v":0},{"$f":"TF38","v":0},{"$f":"TG38","v":0},{"$f":"TH38","v":0},{"$f":"TI38","v":0},{"$f":"TJ38","v":0},{"$f":"TK38","v":0},{"$f":"TL38","v":0},{"$f":"TM38","v":0},{"$f":"TN38","v":0},{"$f":"TO38","v":0},{"$f":"TP38","v":0},{"$f":"TQ38","v":0},{"$f":"TR38","v":0},{"$f":"TS38","v":0},{"$f":"TT38","v":0},{"$f":"TU38","v":0},{"$f":"TV38","v":0},{"$f":"TW38","v":0},{"$f":"TX38","v":0},{"$f":"TY38","v":0},{"$f":"TZ38","v":0},{"$f":"UA38","v":0},{"$f":"UB38","v":0},{"$f":"UC38","v":0},{"$f":"UD38","v":0},{"$f":"UE38","v":0},{"$f":"UF38","v":0},{"$f":"UG38","v":0},{"$f":"UH38","v":0},{"$f":"UI38","v":0},{"$f":"UJ38","v":0},{"$f":"UK38","v":0},{"$f":"UL38","v":0},{"$f":"UM38","v":0},{"$f":"UN38","v":0},{"$f":"UO38","v":0}]
[null,null,null,"Less: Debt Repaid",null,null,null,{"$f":"SUM(K67:XFD67)","v":799999.99999999988},"EUR",null,{"$f":"K62","v":0},{"$f":"L62","v":0},0,0,0,0,0,0,0,0,0,0,0,0,0,0,0,0,0,0,0,0,0,0,0,0,0,0,0,0,19999.999999999996,0,0,0,0,0,19999.999999999996,0,0,0,0,0,19999.999999999996,0,0,0,0,0,19999.999999999996,0,0,0,0,0,19999.999999999996,0,0,0,0,0,19999.999999999996,0,0,0,0,{"$f":"BX62","v":0},19999.999999999996,0,0,0,0,0,19999.999999999996,0,0,0,0,0,19999.999999999996,0,0,0,0,0,19999.999999999996,0,0,0,0,0,19999.999999999996,0,0,0,0,0,19999.999999999996,0,0,0,0,0,19999.999999999996,0,0,0,0,0,19999.999999999996,0,0,0,0,0,19999.999999999996,0,0,0,0,0,19999.999999999996,0,0,0,0,0,19999.999999999996,0,0,{"$f":"EJ62","v":0},0,0,19999.999999999996,0,0,0,0,0,19999.999999999996,0,0,0,0,0,19999.999999999996,0,0,0,0,0,19999.999999999996,0,0,0,0,0,19999.999999999996,0,0,0,0,0,19999.999999999996,0,0,0,0,0,19999.999999999996,0,0,0,0,0,19999.999999999996,0,0,0,0,0,19999.999999999996,0,0,0,0,0,19999.999999999996,0,0,0,0,0,19999.999999999996,{"$f":"GV62","v":0},0,0,0,0,19999.999999999996,0,0,0,0,0,19999.999999999996,0,0,0,0,0,19999.999999999996,0,0,0,0,0,19999.999999999996,0,0,0,0,0,19999.999999999996,0,0,0,0,0,19999.999999999996,0,0,0,0,0,19999.999999999996,0,0,0,0,0,19999.999999999996,0,0,0,0,0,19999.999999999996,0,0,0,0,0,19999.999999999996,0,0,0,0,{"$f":"JH62","v":0},19999.999999999996,0,0,0,0,0,19999.999999999996,0,0,0,0,0,0,0,0,0,0,0,0,0,0,0,0,0,0,0,0,0,0,0,0,0,0,0,0,0,0,0,0,0,0,0,0,0,0,0,0,0,0,0,0,0,0,0,0,0,0,0,0,0,0,0,0,{"$f":"LT62","v":0},0,0,0,0,0,0,0,0,0,0,0,0,0,0,0,0,0,0,0,0,0,0,0,0,0,0,0,0,0,0,0,0,0,0,0,0,0,0,0,0,0,0,0,0,0,0,0,0,0,0,0,0,0,0,0,0,0,0,0,0,0,0,0,{"$f":"OF62","v":0},0,0,0,0,0,0,0,0,0,0,0,0,0,0,0,0,0,0,0,0,0,0,0,0,0,0,0,0,0,0,0,0,0,0,0,0,0,0,0,0,0,0,0,0,0,0,0,0,0,0,0,0,0,0,0,0,0,0,0,0,0,0,0,{"$f":"QR62","v":0},0,0,0,0,0,0,0,0,0,0,0,0,0,0,0,0,0,0,0,0,0,0,0,0,0,0,0,0,0,0,0,0,0,0,0,0,0,0,0,0,0,0,0,0,0,0,0,0,0,0,0,0,0,0,0,0,0,0,0,0,0,0,0,{"$f":"TD62","v":0},0,0,0,0,0,0,0,0,0,0,0,0,0,0,0,0,0,0,0,0,0,0,0,0,0,0,0,0,0,0,0,0,0,0,0,0,0]
[null,null,null,"Closing Balance",null,null,null,null,"EUR",null,{"$f":"K65+K66-K67","v":19753.086419753086},{"$f":"L65+L66-L67","v":52674.897119341564},86694.101508916327,119615.9122085048,153635.11659807956,187654.32098765433,218381.34430727025,252400.54869684501,285322.35939643346,319341.56378600822,352263.37448559667,386282.57887517143,420301.78326474619,453223.59396433469,487242.79835390946,520164.6090534979,554183.81344307261,588203.01783264731,620027.43484224949,654046.6392318242,686968.4499314127,720987.65432098741,753909.46502057591,787928.66941015061,799999.99999999977,799999.99999999977,799999.99999999977,799999.99999999977,799999.99999999977,799999.99999999977,779999.99999999977,779999.99999999977,779999.99999999977,779999.99999999977,779999.99999999977,779999.99999999977,759999.99999999977,759999.99999999977,759999.99999999977,759999.99999999977,759999.99999999977,759999.99999999977,739999.99999999977,739999.99999999977,739999.99999999977,739999.99999999977,739999.99999999977,739999.99999999977,719999.99999999977,719999.99999999977,719999.99999999977,719999.99999999977,719999.99999999977,719999.99999999977,699999.99999999977,699999.99999999977,699999.99999999977,699999.99999999977,699999.99999999977,699999.99999999977,679999.99999999977,679999.99999999977,679999.99999999977,679999.99999999977,679999.99999999977,{"$f":"BX65+BX66-BX67","v":679999.99999999977},659999.99999999977,659999.99999999977,659999.99999999977,659999.99999999977,659999.99999999977,659999.99999999977,639999.99999999977,639999.99999999977,639999.99999999977,639999.99999999977,639999.99999999977,639999.99999999977,619999.99999999977,619999.99999999977,619999.99999999977,619999.99999999977,619999.99999999977,619999.99999999977,599999.99999999977,599999.99999999977,599999.99999999977,599999.99999999977,599999.99999999977,599999.99999999977,579999.99999999977,579999.99999999977,579999.99999999977,579999.99999999977,579999.99999999977,579999.99999999977,559999.99999999977,559999.99999999977,559999.99999999977,559999.99999999977,559999.99999999977,559999.99999999977,539999.99999999977,539999.99999999977,539999.99999999977,539999.99999999977,539999.99999999977,539999.99999999977,519999.99999999977,519999.99999999977,519999.99999999977,519999.99999999977,519999.99999999977,519999.99999999977,499999.99999999977,499999.99999999977,499999.99999999977,499999.99999999977,499999.99999999977,499999.99999999977,479999.99999999977,479999.99999999977,479999.99999999977,479999.99999999977,479999.99999999977,479999.99999999977,459999.99999999977,459999.99999999977,459999.99999999977,{"$f":"EJ65+EJ66-EJ67","v":459999.99999999977},459999.99999999977,459999.99999999977,439999.99999999977,439999.99999999977,439999.99999999977,439999.99999999977,439999.99999999977,439999.99999999977,419999.99999999977,419999.99999999977,419999.99999999977,419999.99999999977,419999.99999999977,419999.99999999977,399999.99999999977,399999.99999999977,399999.99999999977,399999.99999999977,399999.99999999977,399999.99999999977,379999.99999999977,379999.99999999977,379999.99999999977,379999.99999999977,379999.99999999977,379999.99999999977,359999.99999999977,359999.99999999977,359999.99999999977,359999.99999999977,359999.99999999977,359999.99999999977,339999.99999999977,339999.99999999977,339999.99999999977,339999.99999999977,339999.99999999977,339999.99999999977,319999.99999999977,319999.99999999977,319999.99999999977,319999.99999999977,319999.99999999977,319999.99999999977,299999.99999999977,299999.99999999977,299999.99999999977,299999.99999999977,299999.99999999977,299999.99999999977,279999.99999999977,279999.99999999977,279999.99999999977,279999.99999999977,279999.99999999977,279999.99999999977,259999.99999999977,259999.99999999977,259999.99999999977,259999.99999999977,259999.99999999977,259999.99999999977,239999.99999999977,{"$f":"GV65+GV66-GV67","v":239999.99999999977},239999.99999999977,239999.99999999977,239999.99999999977,239999.99999999977,219999.99999999977,219999.99999999977,219999.99999999977,219999.99999999977,219999.99999999977,219999.99999999977,199999.99999999977,199999.99999999977,199999.99999999977,199999.99999999977,199999.99999999977,199999.99999999977,179999.99999999977,179999.99999999977,179999.99999999977,179999.99999999977,179999.99999999977,179999.99999999977,159999.99999999977,159999.99999999977,159999.99999999977,159999.99999999977,159999.99999999977,159999.99999999977,139999.99999999977,139999.99999999977,139999.99999999977,139999.99999999977,139999.99999999977,139999.99999999977,119999.99999999977,119999.99999999977,119999.99999999977,119999.99999999977,119999.99999999977,119999.99999999977,99999.999999999767,99999.999999999767,99999.999999999767,99999.999999999767,99999.999999999767,99999.999999999767,79999.999999999767,79999.999999999767,79999.999999999767,79999.999999999767,79999.999999999767,79999.999999999767,59999.999999999767,59999.999999999767,59999.999999999767,59999.999999999767,59999.999999999767,59999.999999999767,39999.999999999767,39999.999999999767,39999.999999999767,39999.999999999767,39999.999999999767,{"$f":"JH65+JH66-JH67","v":39999.999999999767},19999.999999999771,19999.999999999771,19999.999999999771,19999.999999999771,19999.999999999771,19999.999999999771,-2.255546860396862E-10,-2.255546860396862E-10,-2.255546860396862E-10,-2.255546860396862E-10,-2.255546860396862E-10,-2.255546860396862E-10,-2.255546860396862E-10,-2.255546860396862E-10,-2.255546860396862E-10,-2.255546860396862E-10,-2.255546860396862E-10,-2.255546860396862E-10,-2.255546860396862E-10,-2.255546860396862E-10,-2.255546860396862E-10,-2.255546860396862E-10,-2.255546860396862E-10,-2.255546860396862E-10,-2.255546860396862E-10,-2.255546860396862E-10,-2.255546860396862E-10,-2.255546860396862E-10,-2.255546860396862E-10,-2.255546860396862E-10,-2.255546860396862E-10,-2.255546860396862E-10,-2.255546860396862E-10,-2.255546860396862E-10,-2.255546860396862E-10,-2.255546860396862E-10,-2.255546860396862E-10,-2.255546860396862E-10,-2.255546860396862E-10,-2.255546860396862E-10,-2.255546860396862E-10,-2.255546860396862E-10,-2.255546860396862E-10,-2.255546860396862E-10,-2.255546860396862E-10,-2.255546860396862E-10,-2.255546860396862E-10,-2.255546860396862E-10,-2.255546860396862E-10,-2.255546860396862E-10,-2.255546860396862E-10,-2.255546860396862E-10,-2.255546860396862E-10,-2.255546860396862E-10,-2.255546860396862E-10,-2.255546860396862E-10,-2.255546860396862E-10,-2.255546860396862E-10,-2.255546860396862E-10,-2.255546860396862E-10,-2.255546860396862E-10,-2.255546860396862E-10,-2.255546860396862E-10,{"$f":"LT65+LT66-LT67","v":-2.255546860396862E-10},-2.255546860396862E-10,-2.255546860396862E-10,-2.255546860396862E-10,-2.255546860396862E-10,-2.255546860396862E-10,-2.255546860396862E-10,-2.255546860396862E-10,-2.255546860396862E-10,-2.255546860396862E-10,-2.255546860396862E-10,-2.255546860396862E-10,-2.255546860396862E-10,-2.255546860396862E-10,-2.255546860396862E-10,-2.255546860396862E-10,-2.255546860396862E-10,-2.255546860396862E-10,-2.255546860396862E-10,-2.255546860396862E-10,-2.255546860396862E-10,-2.255546860396862E-10,-2.255546860396862E-10,-2.255546860396862E-10,-2.255546860396862E-10,-2.255546860396862E-10,-2.255546860396862E-10,-2.255546860396862E-10,-2.255546860396862E-10,-2.255546860396862E-10,-2.255546860396862E-10,-2.255546860396862E-10,-2.255546860396862E-10,-2.255546860396862E-10,-2.255546860396862E-10,-2.255546860396862E-10,-2.255546860396862E-10,-2.255546860396862E-10,-2.255546860396862E-10,-2.255546860396862E-10,-2.255546860396862E-10,-2.255546860396862E-10,-2.255546860396862E-10,-2.255546860396862E-10,-2.255546860396862E-10,-2.255546860396862E-10,-2.255546860396862E-10,-2.255546860396862E-10,-2.255546860396862E-10,-2.255546860396862E-10,-2.255546860396862E-10,-2.255546860396862E-10,-2.255546860396862E-10,-2.255546860396862E-10,-2.255546860396862E-10,-2.255546860396862E-10,-2.255546860396862E-10,-2.255546860396862E-10,-2.255546860396862E-10,-2.255546860396862E-10,-2.255546860396862E-10,-2.255546860396862E-10,-2.255546860396862E-10,-2.255546860396862E-10,{"$f":"OF65+OF66-OF67","v":-2.255546860396862E-10},-2.255546860396862E-10,-2.255546860396862E-10,-2.255546860396862E-10,-2.255546860396862E-10,-2.255546860396862E-10,-2.255546860396862E-10,-2.255546860396862E-10,-2.255546860396862E-10,-2.255546860396862E-10,-2.255546860396862E-10,-2.255546860396862E-10,-2.255546860396862E-10,-2.255546860396862E-10,-2.255546860396862E-10,-2.255546860396862E-10,-2.255546860396862E-10,-2.255546860396862E-10,-2.255546860396862E-10,-2.255546860396862E-10,-2.255546860396862E-10,-2.255546860396862E-10,-2.255546860396862E-10,-2.255546860396862E-10,-2.255546860396862E-10,-2.255546860396862E-10,-2.255546860396862E-10,-2.255546860396862E-10,-2.255546860396862E-10,-2.255546860396862E-10,-2.255546860396862E-10,-2.255546860396862E-10,-2.255546860396862E-10,-2.255546860396862E-10,-2.255546860396862E-10,-2.255546860396862E-10,-2.255546860396862E-10,-2.255546860396862E-10,-2.255546860396862E-10,-2.255546860396862E-10,-2.255546860396862E-10,-2.255546860396862E-10,-2.255546860396862E-10,-2.255546860396862E-10,-2.255546860396862E-10,-2.255546860396862E-10,-2.255546860396862E-10,-2.255546860396862E-10,-2.255546860396862E-10,-2.255546860396862E-10,-2.255546860396862E-10,-2.255546860396862E-10,-2.255546860396862E-10,-2.255546860396862E-10,-2.255546860396862E-10,-2.255546860396862E-10,-2.255546860396862E-10,-2.255546860396862E-10,-2.255546860396862E-10,-2.255546860396862E-10,-2.255546860396862E-10,-2.255546860396862E-10,-2.255546860396862E-10,-2.255546860396862E-10,{"$f":"QR65+QR66-QR67","v":-2.255546860396862E-10},-2.255546860396862E-10,-2.255546860396862E-10,-2.255546860396862E-10,-2.255546860396862E-10,-2.255546860396862E-10,-2.255546860396862E-10,-2.255546860396862E-10,-2.255546860396862E-10,-2.255546860396862E-10,-2.255546860396862E-10,-2.255546860396862E-10,-2.255546860396862E-10,-2.255546860396862E-10,-2.255546860396862E-10,-2.255546860396862E-10,-2.255546860396862E-10,-2.255546860396862E-10,-2.255546860396862E-10,-2.255546860396862E-10,-2.255546860396862E-10,-2.255546860396862E-10,-2.255546860396862E-10,-2.255546860396862E-10,-2.255546860396862E-10,-2.255546860396862E-10,-2.255546860396862E-10,-2.255546860396862E-10,-2.255546860396862E-10,-2.255546860396862E-10,-2.255546860396862E-10,-2.255546860396862E-10,-2.255546860396862E-10,-2.255546860396862E-10,-2.255546860396862E-10,-2.255546860396862E-10,-2.255546860396862E-10,-2.255546860396862E-10,-2.255546860396862E-10,-2.255546860396862E-10,-2.255546860396862E-10,-2.255546860396862E-10,-2.255546860396862E-10,-2.255546860396862E-10,-2.255546860396862E-10,-2.255546860396862E-10,-2.255546860396862E-10,-2.255546860396862E-10,-2.255546860396862E-10,-2.255546860396862E-10,-2.255546860396862E-10,-2.255546860396862E-10,-2.255546860396862E-10,-2.255546860396862E-10,-2.255546860396862E-10,-2.255546860396862E-10,-2.255546860396862E-10,-2.255546860396862E-10,-2.255546860396862E-10,-2.255546860396862E-10,-2.255546860396862E-10,-2.255546860396862E-10,-2.255546860396862E-10,-2.255546860396862E-10,{"$f":"TD65+TD66-TD67","v":-2.255546860396862E-10},-2.255546860396862E-10,-2.255546860396862E-10,-2.255546860396862E-10,-2.255546860396862E-10,-2.255546860396862E-10,-2.255546860396862E-10,-2.255546860396862E-10,-2.255546860396862E-10,-2.255546860396862E-10,-2.255546860396862E-10,-2.255546860396862E-10,-2.255546860396862E-10,-2.255546860396862E-10,-2.255546860396862E-10,-2.255546860396862E-10,-2.255546860396862E-10,-2.255546860396862E-10,-2.255546860396862E-10,-2.255546860396862E-10,-2.255546860396862E-10,-2.255546860396862E-10,-2.255546860396862E-10,-2.255546860396862E-10,-2.255546860396862E-10,-2.255546860396862E-10,-2.255546860396862E-10,-2.255546860396862E-10,-2.255546860396862E-10,-2.255546860396862E-10,-2.255546860396862E-10,-2.255546860396862E-10,-2.255546860396862E-10,-2.255546860396862E-10,-2.255546860396862E-10,-2.255546860396862E-10,-2.255546860396862E-10,-2.255546860396862E-10]
[]
[null,null,null,"Periodic Interest Rate",null,null,null,null,"%",null,{"$f":"K53","v":2.9166666666666668E-3},{"$f":"L53","v":2.9166666666666668E-3},2.9166666666666668E-3,2.9166666666666668E-3,2.9166666666666668E-3,2.9166666666666668E-3,2.9166666666666668E-3,2.9166666666666668E-3,2.9166666666666668E-3,2.9166666666666668E-3,2.9166666666666668E-3,2.9166666666666668E-3,2.9166666666666668E-3,2.9166666666666668E-3,2.9166666666666668E-3,2.9166666666666668E-3,2.9166666666666668E-3,2.9166666666666668E-3,2.9166666666666668E-3,2.9166666666666668E-3,2.9166666666666668E-3,2.9166666666666668E-3,2.9166666666666668E-3,2.9166666666666668E-3,2.9166666666666668E-3,2.9166666666666668E-3,2.9166666666666668E-3,2.9166666666666668E-3,2.9166666666666668E-3,2.9166666666666668E-3,2.9166666666666668E-3,2.9166666666666668E-3,2.9166666666666668E-3,2.9166666666666668E-3,2.9166666666666668E-3,2.9166666666666668E-3,2.9166666666666668E-3,2.9166666666666668E-3,2.9166666666666668E-3,2.9166666666666668E-3,2.9166666666666668E-3,2.9166666666666668E-3,2.9166666666666668E-3,2.9166666666666668E-3,2.9166666666666668E-3,2.9166666666666668E-3,2.9166666666666668E-3,2.9166666666666668E-3,2.9166666666666668E-3,2.9166666666666668E-3,2.9166666666666668E-3,2.9166666666666668E-3,2.9166666666666668E-3,2.9166666666666668E-3,2.9166666666666668E-3,2.9166666666666668E-3,2.9166666666666668E-3,2.9166666666666668E-3,2.9166666666666668E-3,2.9166666666666668E-3,2.9166666666666668E-3,2.9166666666666668E-3,2.9166666666666668E-3,2.9166666666666668E-3,2.9166666666666668E-3,{"$f":"BX53","v":2.9166666666666668E-3},2.9166666666666668E-3,2.9166666666666668E-3,2.9166666666666668E-3,2.9166666666666668E-3,2.9166666666666668E-3,2.9166666666666668E-3,2.9166666666666668E-3,2.9166666666666668E-3,2.9166666666666668E-3,2.9166666666666668E-3,2.9166666666666668E-3,2.9166666666666668E-3,2.9166666666666668E-3,2.9166666666666668E-3,2.9166666666666668E-3,2.9166666666666668E-3,2.9166666666666668E-3,2.9166666666666668E-3,2.9166666666666668E-3,2.9166666666666668E-3,2.9166666666666668E-3,2.9166666666666668E-3,2.9166666666666668E-3,2.9166666666666668E-3,2.9166666666666668E-3,2.9166666666666668E-3,2.9166666666666668E-3,2.9166666666666668E-3,2.9166666666666668E-3,2.9166666666666668E-3,2.9166666666666668E-3,2.9166666666666668E-3,2.9166666666666668E-3,2.9166666666666668E-3,2.9166666666666668E-3,2.9166666666666668E-3,2.9166666666666668E-3,2.9166666666666668E-3,2.9166666666666668E-3,2.9166666666666668E-3,2.9166666666666668E-3,2.9166666666666668E-3,2.9166666666666668E-3,2.9166666666666668E-3,2.9166666666666668E-3,2.9166666666666668E-3,2.9166666666666668E-3,2.9166666666666668E-3,2.9166666666666668E-3,2.9166666666666668E-3,2.9166666666666668E-3,2.9166666666666668E-3,2.9166666666666668E-3,2.9166666666666668E-3,2.9166666666666668E-3,2.9166666666666668E-3,2.9166666666666668E-3,2.9166666666666668E-3,2.9166666666666668E-3,2.9166666666666668E-3,2.9166666666666668E-3,2.9166666666666668E-3,2.9166666666666668E-3,{"$f":"EJ53","v":2.9166666666666668E-3},2.9166666666666668E-3,2.9166666666666668E-3,2.9166666666666668E-3,2.9166666666666668E-3,2.9166666666666668E-3,2.9166666666666668E-3,2.9166666666666668E-3,2.9166666666666668E-3,2.9166666666666668E-3,2.9166666666666668E-3,2.9166666666666668E-3,2.9166666666666668E-3,2.9166666666666668E-3,2.9166666666666668E-3,2.9166666666666668E-3,2.9166666666666668E-3,2.9166666666666668E-3,2.9166666666666668E-3,2.9166666666666668E-3,2.9166666666666668E-3,2.9166666666666668E-3,2.9166666666666668E-3,2.9166666666666668E-3,2.9166666666666668E-3,2.9166666666666668E-3,2.9166666666666668E-3,2.9166666666666668E-3,2.9166666666666668E-3,2.9166666666666668E-3,2.9166666666666668E-3,2.9166666666666668E-3,2.9166666666666668E-3,2.9166666666666668E-3,2.9166666666666668E-3,2.9166666666666668E-3,2.9166666666666668E-3,2.9166666666666668E-3,2.9166666666666668E-3,2.9166666666666668E-3,2.9166666666666668E-3,2.9166666666666668E-3,2.9166666666666668E-3,2.9166666666666668E-3,2.9166666666666668E-3,2.9166666666666668E-3,2.9166666666666668E-3,2.9166666666666668E-3,2.9166666666666668E-3,2.9166666666666668E-3,2.9166666666666668E-3,2.9166666666666668E-3,2.9166666666666668E-3,2.9166666666666668E-3,2.9166666666666668E-3,2.9166666666666668E-3,2.9166666666666668E-3,2.9166666666666668E-3,2.9166666666666668E-3,2.9166666666666668E-3,2.9166666666666668E-3,2.9166666666666668E-3,2.9166666666666668E-3,2.9166666666666668E-3,{"$f":"GV53","v":2.9166666666666668E-3},2.9166666666666668E-3,2.9166666666666668E-3,2.9166666666666668E-3,2.9166666666666668E-3,2.9166666666666668E-3,2.9166666666666668E-3,2.9166666666666668E-3,2.9166666666666668E-3,2.9166666666666668E-3,2.9166666666666668E-3,2.9166666666666668E-3,2.9166666666666668E-3,2.9166666666666668E-3,2.9166666666666668E-3,2.9166666666666668E-3,2.9166666666666668E-3,2.9166666666666668E-3,2.9166666666666668E-3,2.9166666666666668E-3,2.9166666666666668E-3,2.9166666666666668E-3,2.9166666666666668E-3,2.9166666666666668E-3,2.9166666666666668E-3,2.9166666666666668E-3,2.9166666666666668E-3,2.9166666666666668E-3,2.9166666666666668E-3,2.9166666666666668E-3,2.9166666666666668E-3,2.9166666666666668E-3,2.9166666666666668E-3,2.9166666666666668E-3,2.9166666666666668E-3,2.9166666666666668E-3,2.9166666666666668E-3,2.9166666666666668E-3,2.9166666666666668E-3,2.9166666666666668E-3,2.9166666666666668E-3,2.9166666666666668E-3,2.9166666666666668E-3,2.9166666666666668E-3,2.9166666666666668E-3,2.9166666666666668E-3,2.9166666666666668E-3,2.9166666666666668E-3,2.9166666666666668E-3,2.9166666666666668E-3,2.9166666666666668E-3,2.9166666666666668E-3,2.9166666666666668E-3,2.9166666666666668E-3,2.9166666666666668E-3,2.9166666666666668E-3,2.9166666666666668E-3,2.9166666666666668E-3,2.9166666666666668E-3,2.9166666666666668E-3,2.9166666666666668E-3,2.9166666666666668E-3,2.9166666666666668E-3,2.9166666666666668E-3,{"$f":"JH53","v":2.9166666666666668E-3},2.9166666666666668E-3,2.9166666666666668E-3,2.9166666666666668E-3,2.9166666666666668E-3,2.9166666666666668E-3,2.9166666666666668E-3,2.9166666666666668E-3,2.9166666666666668E-3,2.9166666666666668E-3,2.9166666666666668E-3,2.9166666666666668E-3,2.9166666666666668E-3,2.9166666666666668E-3,2.9166666666666668E-3,2.9166666666666668E-3,2.9166666666666668E-3,2.9166666666666668E-3,2.9166666666666668E-3,2.9166666666666668E-3,2.9166666666666668E-3,2.9166666666666668E-3,2.9166666666666668E-3,2.9166666666666668E-3,2.9166666666666668E-3,2.9166666666666668E-3,2.9166666666666668E-3,2.9166666666666668E-3,2.9166666666666668E-3,2.9166666666666668E-3,2.9166666666666668E-3,2.9166666666666668E-3,2.9166666666666668E-3,2.9166666666666668E-3,2.9166666666666668E-3,2.9166666666666668E-3,2.9166666666666668E-3,2.9166666666666668E-3,2.9166666666666668E-3,2.9166666666666668E-3,2.9166666666666668E-3,2.9166666666666668E-3,2.9166666666666668E-3,2.9166666666666668E-3,2.9166666666666668E-3,2.9166666666666668E-3,2.9166666666666668E-3,2.9166666666666668E-3,2.9166666666666668E-3,2.9166666666666668E-3,2.9166666666666668E-3,2.9166666666666668E-3,2.9166666666666668E-3,2.9166666666666668E-3,2.9166666666666668E-3,2.9166666666666668E-3,2.9166666666666668E-3,2.9166666666666668E-3,2.9166666666666668E-3,2.9166666666666668E-3,2.9166666666666668E-3,2.9166666666666668E-3,2.9166666666666668E-3,2.9166666666666668E-3,{"$f":"LT53","v":2.9166666666666668E-3},2.9166666666666668E-3,2.9166666666666668E-3,2.9166666666666668E-3,2.9166666666666668E-3,2.9166666666666668E-3,2.9166666666666668E-3,2.9166666666666668E-3,2.9166666666666668E-3,2.9166666666666668E-3,2.9166666666666668E-3,2.9166666666666668E-3,2.9166666666666668E-3,2.9166666666666668E-3,2.9166666666666668E-3,2.9166666666666668E-3,2.9166666666666668E-3,2.9166666666666668E-3,2.9166666666666668E-3,2.9166666666666668E-3,2.9166666666666668E-3,2.9166666666666668E-3,2.9166666666666668E-3,2.9166666666666668E-3,2.9166666666666668E-3,2.9166666666666668E-3,2.9166666666666668E-3,2.9166666666666668E-3,2.9166666666666668E-3,2.9166666666666668E-3,2.9166666666666668E-3,2.9166666666666668E-3,2.9166666666666668E-3,2.9166666666666668E-3,2.9166666666666668E-3,2.9166666666666668E-3,2.9166666666666668E-3,2.9166666666666668E-3,2.9166666666666668E-3,2.9166666666666668E-3,2.9166666666666668E-3,2.9166666666666668E-3,2.9166666666666668E-3,2.9166666666666668E-3,2.9166666666666668E-3,2.9166666666666668E-3,2.9166666666666668E-3,2.9166666666666668E-3,2.9166666666666668E-3,2.9166666666666668E-3,2.9166666666666668E-3,2.9166666666666668E-3,2.9166666666666668E-3,2.9166666666666668E-3,2.9166666666666668E-3,2.9166666666666668E-3,2.9166666666666668E-3,2.9166666666666668E-3,2.9166666666666668E-3,2.9166666666666668E-3,2.9166666666666668E-3,2.9166666666666668E-3,2.9166666666666668E-3,2.9166666666666668E-3,{"$f":"OF53","v":2.9166666666666668E-3},2.9166666666666668E-3,2.9166666666666668E-3,2.9166666666666668E-3,2.9166666666666668E-3,2.9166666666666668E-3,2.9166666666666668E-3,2.9166666666666668E-3,2.9166666666666668E-3,2.9166666666666668E-3,2.9166666666666668E-3,2.9166666666666668E-3,2.9166666666666668E-3,2.9166666666666668E-3,2.9166666666666668E-3,2.9166666666666668E-3,2.9166666666666668E-3,2.9166666666666668E-3,2.9166666666666668E-3,2.9166666666666668E-3,2.9166666666666668E-3,2.9166666666666668E-3,2.9166666666666668E-3,2.9166666666666668E-3,2.9166666666666668E-3,2.9166666666666668E-3,2.9166666666666668E-3,2.9166666666666668E-3,2.9166666666666668E-3,2.9166666666666668E-3,2.9166666666666668E-3,2.9166666666666668E-3,2.9166666666666668E-3,2.9166666666666668E-3,2.9166666666666668E-3,2.9166666666666668E-3,2.9166666666666668E-3,2.9166666666666668E-3,2.9166666666666668E-3,2.9166666666666668E-3,2.9166666666666668E-3,2.9166666666666668E-3,2.9166666666666668E-3,2.9166666666666668E-3,2.9166666666666668E-3,2.9166666666666668E-3,2.9166666666666668E-3,2.9166666666666668E-3,2.9166666666666668E-3,2.9166666666666668E-3,2.9166666666666668E-3,2.9166666666666668E-3,2.9166666666666668E-3,2.9166666666666668E-3,2.9166666666666668E-3,2.9166666666666668E-3,2.9166666666666668E-3,2.9166666666666668E-3,2.9166666666666668E-3,2.9166666666666668E-3,2.9166666666666668E-3,2.9166666666666668E-3,2.9166666666666668E-3,2.9166666666666668E-3,{"$f":"QR53","v":2.9166666666666668E-3},2.9166666666666668E-3,2.9166666666666668E-3,2.9166666666666668E-3,2.9166666666666668E-3,2.9166666666666668E-3,2.9166666666666668E-3,2.9166666666666668E-3,2.9166666666666668E-3,2.9166666666666668E-3,2.9166666666666668E-3,2.9166666666666668E-3,2.9166666666666668E-3,2.9166666666666668E-3,2.9166666666666668E-3,2.9166666666666668E-3,2.9166666666666668E-3,2.9166666666666668E-3,2.9166666666666668E-3,2.9166666666666668E-3,2.9166666666666668E-3,2.9166666666666668E-3,2.9166666666666668E-3,2.9166666666666668E-3,2.9166666666666668E-3,2.9166666666666668E-3,2.9166666666666668E-3,2.9166666666666668E-3,2.9166666666666668E-3,2.9166666666666668E-3,2.9166666666666668E-3,2.9166666666666668E-3,2.9166666666666668E-3,2.9166666666666668E-3,2.9166666666666668E-3,2.9166666666666668E-3,2.9166666666666668E-3,2.9166666666666668E-3,2.9166666666666668E-3,2.9166666666666668E-3,2.9166666666666668E-3,2.9166666666666668E-3,2.9166666666666668E-3,2.9166666666666668E-3,2.9166666666666668E-3,2.9166666666666668E-3,2.9166666666666668E-3,2.9166666666666668E-3,2.9166666666666668E-3,2.9166666666666668E-3,2.9166666666666668E-3,2.9166666666666668E-3,2.9166666666666668E-3,2.9166666666666668E-3,2.9166666666666668E-3,2.9166666666666668E-3,2.9166666666666668E-3,2.9166666666666668E-3,2.9166666666666668E-3,2.9166666666666668E-3,2.9166666666666668E-3,2.9166666666666668E-3,2.9166666666666668E-3,2.9166666666666668E-3,{"$f":"TD53","v":2.9166666666666668E-3},2.9166666666666668E-3,2.9166666666666668E-3,2.9166666666666668E-3,2.9166666666666668E-3,2.9166666666666668E-3,2.9166666666666668E-3,2.9166666666666668E-3,2.9166666666666668E-3,2.9166666666666668E-3,2.9166666666666668E-3,2.9166666666666668E-3,2.9166666666666668E-3,2.9166666666666668E-3,2.9166666666666668E-3,2.9166666666666668E-3,2.9166666666666668E-3,2.9166666666666668E-3,2.9166666666666668E-3,2.9166666666666668E-3,2.9166666666666668E-3,2.9166666666666668E-3,2.9166666666666668E-3,2.9166666666666668E-3,2.9166666666666668E-3,2.9166666666666668E-3,2.9166666666666668E-3,2.9166666666666668E-3,2.9166666666666668E-3,2.9166666666666668E-3,2.9166666666666668E-3,2.9166666666666668E-3,2.9166666666666668E-3,2.9166666666666668E-3,2.9166666666666668E-3,2.9166666666666668E-3,2.9166666666666668E-3,2.9166666666666668E-3]
[null,null,null,"Periodic Interest Cost",null,null,null,null,"EUR",null,{"$f":"K70*K65","v":0},{"$f":"L70*L65","v":57.613168724279838},153.63511659807958,252.85779606767264,348.87974394147233,448.10242341106539,547.32510288065851,636.94558756287154,736.16826703246466,832.19021490626426,931.41289437585738,1027.4348422496571,1126.6575217192501,1225.8802011888431,1321.9021490626428,1421.1248285322361,1517.1467764060355,1616.3694558756285,1715.5921353452213,1808.4133516232278,1907.6360310928208,2003.6579789666205,2102.8806584362133,2198.9026063100132,2298.1252857796062,2333.3333333333326,2333.3333333333326,2333.3333333333326,2333.3333333333326,2333.3333333333326,2333.3333333333326,2274.9999999999995,2274.9999999999995,2274.9999999999995,2274.9999999999995,2274.9999999999995,2274.9999999999995,2216.6666666666661,2216.6666666666661,2216.6666666666661,2216.6666666666661,2216.6666666666661,2216.6666666666661,2158.3333333333326,2158.3333333333326,2158.3333333333326,2158.3333333333326,2158.3333333333326,2158.3333333333326,2099.9999999999995,2099.9999999999995,2099.9999999999995,2099.9999999999995,2099.9999999999995,2099.9999999999995,2041.6666666666661,2041.6666666666661,2041.6666666666661,2041.6666666666661,2041.6666666666661,2041.6666666666661,1983.3333333333328,1983.3333333333328,1983.3333333333328,1983.3333333333328,{"$f":"BX70*BX65","v":1983.3333333333328},1983.3333333333328,1924.9999999999993,1924.9999999999993,1924.9999999999993,1924.9999999999993,1924.9999999999993,1924.9999999999993,1866.6666666666661,1866.6666666666661,1866.6666666666661,1866.6666666666661,1866.6666666666661,1866.6666666666661,1808.3333333333328,1808.3333333333328,1808.3333333333328,1808.3333333333328,1808.3333333333328,1808.3333333333328,1749.9999999999993,1749.9999999999993,1749.9999999999993,1749.9999999999993,1749.9999999999993,1749.9999999999993,1691.6666666666661,1691.6666666666661,1691.6666666666661,1691.6666666666661,1691.6666666666661,1691.6666666666661,1633.3333333333328,1633.3333333333328,1633.3333333333328,1633.3333333333328,1633.3333333333328,1633.3333333333328,1574.9999999999993,1574.9999999999993,1574.9999999999993,1574.9999999999993,1574.9999999999993,1574.9999999999993,1516.6666666666661,1516.6666666666661,1516.6666666666661,1516.6666666666661,1516.6666666666661,1516.6666666666661,1458.3333333333328,1458.3333333333328,1458.3333333333328,1458.3333333333328,1458.3333333333328,1458.3333333333328,1399.9999999999993,1399.9999999999993,1399.9999999999993,1399.9999999999993,1399.9999999999993,1399.9999999999993,1341.6666666666661,1341.6666666666661,{"$f":"EJ70*EJ65","v":1341.6666666666661},1341.6666666666661,1341.6666666666661,1341.6666666666661,1283.3333333333328,1283.3333333333328,1283.3333333333328,1283.3333333333328,1283.3333333333328,1283.3333333333328,1224.9999999999993,1224.9999999999993,1224.9999999999993,1224.9999999999993,1224.9999999999993,1224.9999999999993,1166.6666666666661,1166.6666666666661,1166.6666666666661,1166.6666666666661,1166.6666666666661,1166.6666666666661,1108.3333333333328,1108.3333333333328,1108.3333333333328,1108.3333333333328,1108.3333333333328,1108.3333333333328,1049.9999999999993,1049.9999999999993,1049.9999999999993,1049.9999999999993,1049.9999999999993,1049.9999999999993,991.66666666666606,991.66666666666606,991.66666666666606,991.66666666666606,991.66666666666606,991.66666666666606,933.33333333333269,933.33333333333269,933.33333333333269,933.33333333333269,933.33333333333269,933.33333333333269,874.99999999999932,874.99999999999932,874.99999999999932,874.99999999999932,874.99999999999932,874.99999999999932,816.66666666666606,816.66666666666606,816.66666666666606,816.66666666666606,816.66666666666606,816.66666666666606,758.33333333333269,758.33333333333269,758.33333333333269,758.33333333333269,758.33333333333269,758.33333333333269,{"$f":"GV70*GV65","v":699.99999999999932},699.99999999999932,699.99999999999932,699.99999999999932,699.99999999999932,699.99999999999932,641.66666666666606,641.66666666666606,641.66666666666606,641.66666666666606,641.66666666666606,641.66666666666606,583.33333333333269,583.33333333333269,583.33333333333269,583.33333333333269,583.33333333333269,583.33333333333269,524.99999999999932,524.99999999999932,524.99999999999932,524.99999999999932,524.99999999999932,524.99999999999932,466.666666666666,466.666666666666,466.666666666666,466.666666666666,466.666666666666,466.666666666666,408.33333333333269,408.33333333333269,408.33333333333269,408.33333333333269,408.33333333333269,408.33333333333269,349.99999999999932,349.99999999999932,349.99999999999932,349.99999999999932,349.99999999999932,349.99999999999932,291.666666666666,291.666666666666,291.666666666666,291.666666666666,291.666666666666,291.666666666666,233.33333333333266,233.33333333333266,233.33333333333266,233.33333333333266,233.33333333333266,233.33333333333266,174.99999999999932,174.99999999999932,174.99999999999932,174.99999999999932,174.99999999999932,174.99999999999932,116.66666666666599,116.66666666666599,116.66666666666599,116.66666666666599,{"$f":"JH70*JH65","v":116.66666666666599},116.66666666666599,58.333333333332668,58.333333333332668,58.333333333332668,58.333333333332668,58.333333333332668,58.333333333332668,-6.5786783428241814E-13,-6.5786783428241814E-13,-6.5786783428241814E-13,-6.5786783428241814E-13,-6.5786783428241814E-13,-6.5786783428241814E-13,-6.5786783428241814E-13,-6.5786783428241814E-13,-6.5786783428241814E-13,-6.5786783428241814E-13,-6.5786783428241814E-13,-6.5786783428241814E-13,-6.5786783428241814E-13,-6.5786783428241814E-13,-6.5786783428241814E-13,-6.5786783428241814E-13,-6.5786783428241814E-13,-6.5786783428241814E-13,-6.5786783428241814E-13,-6.5786783428241814E-13,-6.5786783428241814E-13,-6.5786783428241814E-13,-6.5786783428241814E-13,-6.5786783428241814E-13,-6.5786783428241814E-13,-6.5786783428241814E-13,-6.5786783428241814E-13,-6.5786783428241814E-13,-6.5786783428241814E-13,-6.5786783428241814E-13,-6.5786783428241814E-13,-6.5786783428241814E-13,-6.5786783428241814E-13,-6.5786783428241814E-13,-6.5786783428241814E-13,-6.5786783428241814E-13,-6.5786783428241814E-13,-6.5786783428241814E-13,-6.5786783428241814E-13,-6.5786783428241814E-13,-6.5786783428241814E-13,-6.5786783428241814E-13,-6.5786783428241814E-13,-6.5786783428241814E-13,-6.5786783428241814E-13,-6.5786783428241814E-13,-6.5786783428241814E-13,-6.5786783428241814E-13,-6.5786783428241814E-13,-6.5786783428241814E-13,-6.5786783428241814E-13,-6.5786783428241814E-13,-6.5786783428241814E-13,-6.5786783428241814E-13,-6.5786783428241814E-13,-6.5786783428241814E-13,{"$f":"LT70*LT65","v":-6.5786783428241814E-13},-6.5786783428241814E-13,-6.5786783428241814E-13,-6.5786783428241814E-13,-6.5786783428241814E-13,-6.5786783428241814E-13,-6.5786783428241814E-13,-6.5786783428241814E-13,-6.5786783428241814E-13,-6.5786783428241814E-13,-6.5786783428241814E-13,-6.5786783428241814E-13,-6.5786783428241814E-13,-6.5786783428241814E-13,-6.5786783428241814E-13,-6.5786783428241814E-13,-6.5786783428241814E-13,-6.5786783428241814E-13,-6.5786783428241814E-13,-6.5786783428241814E-13,-6.5786783428241814E-13,-6.5786783428241814E-13,-6.5786783428241814E-13,-6.5786783428241814E-13,-6.5786783428241814E-13,-6.5786783428241814E-13,-6.5786783428241814E-13,-6.5786783428241814E-13,-6.5786783428241814E-13,-6.5786783428241814E-13,-6.5786783428241814E-13,-6.5786783428241814E-13,-6.5786783428241814E-13,-6.5786783428241814E-13,-6.5786783428241814E-13,-6.5786783428241814E-13,-6.5786783428241814E-13,-6.5786783428241814E-13,-6.5786783428241814E-13,-6.5786783428241814E-13,-6.5786783428241814E-13,-6.5786783428241814E-13,-6.5786783428241814E-13,-6.5786783428241814E-13,-6.5786783428241814E-13,-6.5786783428241814E-13,-6.5786783428241814E-13,-6.5786783428241814E-13,-6.5786783428241814E-13,-6.5786783428241814E-13,-6.5786783428241814E-13,-6.5786783428241814E-13,-6.5786783428241814E-13,-6.5786783428241814E-13,-6.5786783428241814E-13,-6.5786783428241814E-13,-6.5786783428241814E-13,-6.5786783428241814E-13,-6.5786783428241814E-13,-6.5786783428241814E-13,-6.5786783428241814E-13,-6.5786783428241814E-13,-6.5786783428241814E-13,-6.5786783428241814E-13,{"$f":"OF70*OF65","v":-6.5786783428241814E-13},-6.5786783428241814E-13,-6.5786783428241814E-13,-6.5786783428241814E-13,-6.5786783428241814E-13,-6.5786783428241814E-13,-6.5786783428241814E-13,-6.5786783428241814E-13,-6.5786783428241814E-13,-6.5786783428241814E-13,-6.5786783428241814E-13,-6.5786783428241814E-13,-6.5786783428241814E-13,-6.5786783428241814E-13,-6.5786783428241814E-13,-6.5786783428241814E-13,-6.5786783428241814E-13,-6.5786783428241814E-13,-6.5786783428241814E-13,-6.5786783428241814E-13,-6.5786783428241814E-13,-6.5786783428241814E-13,-6.5786783428241814E-13,-6.5786783428241814E-13,-6.5786783428241814E-13,-6.5786783428241814E-13,-6.5786783428241814E-13,-6.5786783428241814E-13,-6.5786783428241814E-13,-6.5786783428241814E-13,-6.5786783428241814E-13,-6.5786783428241814E-13,-6.5786783428241814E-13,-6.5786783428241814E-13,-6.5786783428241814E-13,-6.5786783428241814E-13,-6.5786783428241814E-13,-6.5786783428241814E-13,-6.5786783428241814E-13,-6.5786783428241814E-13,-6.5786783428241814E-13,-6.5786783428241814E-13,-6.5786783428241814E-13,-6.5786783428241814E-13,-6.5786783428241814E-13,-6.5786783428241814E-13,-6.5786783428241814E-13,-6.5786783428241814E-13,-6.5786783428241814E-13,-6.5786783428241814E-13,-6.5786783428241814E-13,-6.5786783428241814E-13,-6.5786783428241814E-13,-6.5786783428241814E-13,-6.5786783428241814E-13,-6.5786783428241814E-13,-6.5786783428241814E-13,-6.5786783428241814E-13,-6.5786783428241814E-13,-6.5786783428241814E-13,-6.5786783428241814E-13,-6.5786783428241814E-13,-6.5786783428241814E-13,-6.5786783428241814E-13,{"$f":"QR70*QR65","v":-6.5786783428241814E-13},-6.5786783428241814E-13,-6.5786783428241814E-13,-6.5786783428241814E-13,-6.5786783428241814E-13,-6.5786783428241814E-13,-6.5786783428241814E-13,-6.5786783428241814E-13,-6.5786783428241814E-13,-6.5786783428241814E-13,-6.5786783428241814E-13,-6.5786783428241814E-13,-6.5786783428241814E-13,-6.5786783428241814E-13,-6.5786783428241814E-13,-6.5786783428241814E-13,-6.5786783428241814E-13,-6.5786783428241814E-13,-6.5786783428241814E-13,-6.5786783428241814E-13,-6.5786783428241814E-13,-6.5786783428241814E-13,-6.5786783428241814E-13,-6.5786783428241814E-13,-6.5786783428241814E-13,-6.5786783428241814E-13,-6.5786783428241814E-13,-6.5786783428241814E-13,-6.5786783428241814E-13,-6.5786783428241814E-13,-6.5786783428241814E-13,-6.5786783428241814E-13,-6.5786783428241814E-13,-6.5786783428241814E-13,-6.5786783428241814E-13,-6.5786783428241814E-13,-6.5786783428241814E-13,-6.5786783428241814E-13,-6.5786783428241814E-13,-6.5786783428241814E-13,-6.5786783428241814E-13,-6.5786783428241814E-13,-6.5786783428241814E-13,-6.5786783428241814E-13,-6.5786783428241814E-13,-6.5786783428241814E-13,-6.5786783428241814E-13,-6.5786783428241814E-13,-6.5786783428241814E-13,-6.5786783428241814E-13,-6.5786783428241814E-13,-6.5786783428241814E-13,-6.5786783428241814E-13,-6.5786783428241814E-13,-6.5786783428241814E-13,-6.5786783428241814E-13,-6.5786783428241814E-13,-6.5786783428241814E-13,-6.5786783428241814E-13,-6.5786783428241814E-13,-6.5786783428241814E-13,-6.5786783428241814E-13,-6.5786783428241814E-13,-6.5786783428241814E-13,{"$f":"TD70*TD65","v":-6.5786783428241814E-13},-6.5786783428241814E-13,-6.5786783428241814E-13,-6.5786783428241814E-13,-6.5786783428241814E-13,-6.5786783428241814E-13,-6.5786783428241814E-13,-6.5786783428241814E-13,-6.5786783428241814E-13,-6.5786783428241814E-13,-6.5786783428241814E-13,-6.5786783428241814E-13,-6.5786783428241814E-13,-6.5786783428241814E-13,-6.5786783428241814E-13,-6.5786783428241814E-13,-6.5786783428241814E-13,-6.5786783428241814E-13,-6.5786783428241814E-13,-6.5786783428241814E-13,-6.5786783428241814E-13,-6.5786783428241814E-13,-6.5786783428241814E-13,-6.5786783428241814E-13,-6.5786783428241814E-13,-6.5786783428241814E-13,-6.5786783428241814E-13,-6.5786783428241814E-13,-6.5786783428241814E-13,-6.5786783428241814E-13,-6.5786783428241814E-13,-6.5786783428241814E-13,-6.5786783428241814E-13,-6.5786783428241814E-13,-6.5786783428241814E-13,-6.5786783428241814E-13,-6.5786783428241814E-13,-6.5786783428241814E-13]
[null,null,null,"Operating Days/Total Days",null,null,null,null,"%",null,{"$f":"IF(K11+K9,K11/(K11+K9))","v":0},{"$f":"IF(L11+L9,L11/(L11+L9))","v":0},0,0,0,0,0,0,0,0,0,0,0,0,0,0,0,0,0,0,0,0,0,0,0.64516129032258063,1,1,1,1,1,1,1,1,1,1,1,1,1,1,1,1,1,1,1,1,1,1,1,1,1,1,1,1,1,1,1,1,1,1,1,1,1,1,1,1,{"$f":"IF(BX11+BX9,BX11/(BX11+BX9))","v":1},1,1,1,1,1,1,1,1,1,1,1,1,1,1,1,1,1,1,1,1,1,1,1,1,1,1,1,1,1,1,1,1,1,1,1,1,1,1,1,1,1,1,1,1,1,1,1,1,1,1,1,1,1,1,1,1,1,1,1,1,1,1,1,{"$f":"IF(EJ11+EJ9,EJ11/(EJ11+EJ9))","v":1},1,1,1,1,1,1,1,1,1,1,1,1,1,1,1,1,1,1,1,1,1,1,1,1,1,1,1,1,1,1,1,1,1,1,1,1,1,1,1,1,1,1,1,1,1,1,1,1,1,1,1,1,1,1,1,1,1,1,1,1,1,1,1,{"$f":"IF(GV11+GV9,GV11/(GV11+GV9))","v":1},1,1,1,1,1,1,1,1,1,1,1,1,1,1,1,1,1,1,1,1,1,1,1,1,1,1,1,1,1,1,1,1,1,1,1,1,1,1,1,1,1,1,1,1,1,1,1,1,1,1,1,1,1,1,1,1,1,1,1,1,1,1,1,{"$f":"IF(JH11+JH9,JH11/(JH11+JH9))","v":1},1,1,1,1,1,1,1,1,1,1,1,1,1,1,1,1,1,1,1,1,1,1,1,1,1,1,1,1,1,1,1,1,1,1,1,1,1,1,1,1,1,1,1,1,1,1,1,1,1,1,1,1,1,1,1,1,1,1,1,1,1,1,1,{"$f":"IF(LT11+LT9,LT11/(LT11+LT9))","v":1},1,1,1,1,1,1,1,1,1,1,1,1,1,1,1,1,1,1,1,1,1,1,1,1,1,1,1,1,1,1,1,1,1,1,1,1,1,1,1,1,1,1,1,1,1,1,1,1,1,1,1,1,1,1,1,1,1,1,1,1,1,1,1,{"$f":"IF(OF11+OF9,OF11/(OF11+OF9))","v":1},1,1,1,1,1,1,1,1,1,1,1,1,1,1,1,1,1,1,1,1,1,1,1,1,1,1,1,1,1,1,1,1,1,1,1,1,1,1,1,1,1,1,1,1,1,1,1,1,1,1,1,1,1,1,1,1,1,1,1,1,1,1,1,{"$f":"IF(QR11+QR9,QR11/(QR11+QR9))","v":1},1,1,1,1,1,1,1,1,1,1,1,1,1,1,1,1,1,1,1,1,1,1,1,1,1,1,1,1,1,1,1,1,1,1,1,1,1,1,1,1,1,1,1,1,1,1,1,1,1,1,1,1,1,1,1,false,false,false,false,false,false,false,false,{"$f":"IF(TD11+TD9,TD11/(TD11+TD9))","v":false},false,false,false,false,false,false,false,false,false,false,false,false,false,false,false,false,false,false,false,false,false,false,false,false,false,false,false,false,false,false,false,false,false,false,false,false,false]
[null,null,null,"Periodic Accrued Interest Expense",null,null,null,null,"EUR",null,{"$f":"K72*K71","v":0},{"$f":"L72*L71","v":0},0,0,0,0,0,0,0,0,0,0,0,0,0,0,0,0,0,0,0,0,0,0,1482.6614746965201,2333.3333333333326,2333.3333333333326,2333.3333333333326,2333.3333333333326,2333.3333333333326,2333.3333333333326,2274.9999999999995,2274.9999999999995,2274.9999999999995,2274.9999999999995,2274.9999999999995,2274.9999999999995,2216.6666666666661,2216.6666666666661,2216.6666666666661,2216.6666666666661,2216.6666666666661,2216.6666666666661,2158.3333333333326,2158.3333333333326,2158.3333333333326,2158.3333333333326,2158.3333333333326,2158.3333333333326,2099.9999999999995,2099.9999999999995,2099.9999999999995,2099.9999999999995,2099.9999999999995,2099.9999999999995,2041.6666666666661,2041.6666666666661,2041.6666666666661,2041.6666666666661,2041.6666666666661,2041.6666666666661,1983.3333333333328,1983.3333333333328,1983.3333333333328,1983.3333333333328,{"$f":"BX72*BX71","v":1983.3333333333328},1983.3333333333328,1924.9999999999993,1924.9999999999993,1924.9999999999993,1924.9999999999993,1924.9999999999993,1924.9999999999993,1866.6666666666661,1866.6666666666661,1866.6666666666661,1866.6666666666661,1866.6666666666661,1866.6666666666661,1808.3333333333328,1808.3333333333328,1808.3333333333328,1808.3333333333328,1808.3333333333328,1808.3333333333328,1749.9999999999993,1749.9999999999993,1749.9999999999993,1749.9999999999993,1749.9999999999993,1749.9999999999993,1691.6666666666661,1691.6666666666661,1691.6666666666661,1691.6666666666661,1691.6666666666661,1691.6666666666661,1633.3333333333328,1633.3333333333328,1633.3333333333328,1633.3333333333328,1633.3333333333328,1633.3333333333328,1574.9999999999993,1574.9999999999993,1574.9999999999993,1574.9999999999993,1574.9999999999993,1574.9999999999993,1516.6666666666661,1516.6666666666661,1516.6666666666661,1516.6666666666661,1516.6666666666661,1516.6666666666661,1458.3333333333328,1458.3333333333328,1458.3333333333328,1458.3333333333328,1458.3333333333328,1458.3333333333328,1399.9999999999993,1399.9999999999993,1399.9999999999993,1399.9999999999993,1399.9999999999993,1399.9999999999993,1341.6666666666661,1341.6666666666661,{"$f":"EJ72*EJ71","v":1341.6666666666661},1341.6666666666661,1341.6666666666661,1341.6666666666661,1283.3333333333328,1283.3333333333328,1283.3333333333328,1283.3333333333328,1283.3333333333328,1283.3333333333328,1224.9999999999993,1224.9999999999993,1224.9999999999993,1224.9999999999993,1224.9999999999993,1224.9999999999993,1166.6666666666661,1166.6666666666661,1166.6666666666661,1166.6666666666661,1166.6666666666661,1166.6666666666661,1108.3333333333328,1108.3333333333328,1108.3333333333328,1108.3333333333328,1108.3333333333328,1108.3333333333328,1049.9999999999993,1049.9999999999993,1049.9999999999993,1049.9999999999993,1049.9999999999993,1049.9999999999993,991.66666666666606,991.66666666666606,991.66666666666606,991.66666666666606,991.66666666666606,991.66666666666606,933.33333333333269,933.33333333333269,933.33333333333269,933.33333333333269,933.33333333333269,933.33333333333269,874.99999999999932,874.99999999999932,874.99999999999932,874.99999999999932,874.99999999999932,874.99999999999932,816.66666666666606,816.66666666666606,816.66666666666606,816.66666666666606,816.66666666666606,816.66666666666606,758.33333333333269,758.33333333333269,758.33333333333269,758.33333333333269,758.33333333333269,758.33333333333269,{"$f":"GV72*GV71","v":699.99999999999932},699.99999999999932,699.99999999999932,699.99999999999932,699.99999999999932,699.99999999999932,641.66666666666606,641.66666666666606,641.66666666666606,641.66666666666606,641.66666666666606,641.66666666666606,583.33333333333269,583.33333333333269,583.33333333333269,583.33333333333269,583.33333333333269,583.33333333333269,524.99999999999932,524.99999999999932,524.99999999999932,524.99999999999932,524.99999999999932,524.99999999999932,466.666666666666,466.666666666666,466.666666666666,466.666666666666,466.666666666666,466.666666666666,408.33333333333269,408.33333333333269,408.33333333333269,408.33333333333269,408.33333333333269,408.33333333333269,349.99999999999932,349.99999999999932,349.99999999999932,349.99999999999932,349.99999999999932,349.99999999999932,291.666666666666,291.666666666666,291.666666666666,291.666666666666,291.666666666666,291.666666666666,233.33333333333266,233.33333333333266,233.33333333333266,233.33333333333266,233.33333333333266,233.33333333333266,174.99999999999932,174.99999999999932,174.99999999999932,174.99999999999932,174.99999999999932,174.99999999999932,116.66666666666599,116.66666666666599,116.66666666666599,116.66666666666599,{"$f":"JH72*JH71","v":116.66666666666599},116.66666666666599,58.333333333332668,58.333333333332668,58.333333333332668,58.333333333332668,58.333333333332668,58.333333333332668,-6.5786783428241814E-13,-6.5786783428241814E-13,-6.5786783428241814E-13,-6.5786783428241814E-13,-6.5786783428241814E-13,-6.5786783428241814E-13,-6.5786783428241814E-13,-6.5786783428241814E-13,-6.5786783428241814E-13,-6.5786783428241814E-13,-6.5786783428241814E-13,-6.5786783428241814E-13,-6.5786783428241814E-13,-6.5786783428241814E-13,-6.5786783428241814E-13,-6.5786783428241814E-13,-6.5786783428241814E-13,-6.5786783428241814E-13,-6.5786783428241814E-13,-6.5786783428241814E-13,-6.5786783428241814E-13,-6.5786783428241814E-13,-6.5786783428241814E-13,-6.5786783428241814E-13,-6.5786783428241814E-13,-6.5786783428241814E-13,-6.5786783428241814E-13,-6.5786783428241814E-13,-6.5786783428241814E-13,-6.5786783428241814E-13,-6.5786783428241814E-13,-6.5786783428241814E-13,-6.5786783428241814E-13,-6.5786783428241814E-13,-6.5786783428241814E-13,-6.5786783428241814E-13,-6.5786783428241814E-13,-6.5786783428241814E-13,-6.5786783428241814E-13,-6.5786783428241814E-13,-6.5786783428241814E-13,-6.5786783428241814E-13,-6.5786783428241814E-13,-6.5786783428241814E-13,-6.5786783428241814E-13,-6.5786783428241814E-13,-6.5786783428241814E-13,-6.5786783428241814E-13,-6.5786783428241814E-13,-6.5786783428241814E-13,-6.5786783428241814E-13,-6.5786783428241814E-13,-6.5786783428241814E-13,-6.5786783428241814E-13,-6.5786783428241814E-13,-6.5786783428241814E-13,{"$f":"LT72*LT71","v":-6.5786783428241814E-13},-6.5786783428241814E-13,-6.5786783428241814E-13,-6.5786783428241814E-13,-6.5786783428241814E-13,-6.5786783428241814E-13,-6.5786783428241814E-13,-6.5786783428241814E-13,-6.5786783428241814E-13,-6.5786783428241814E-13,-6.5786783428241814E-13,-6.5786783428241814E-13,-6.5786783428241814E-13,-6.5786783428241814E-13,-6.5786783428241814E-13,-6.5786783428241814E-13,-6.5786783428241814E-13,-6.5786783428241814E-13,-6.5786783428241814E-13,-6.5786783428241814E-13,-6.5786783428241814E-13,-6.5786783428241814E-13,-6.5786783428241814E-13,-6.5786783428241814E-13,-6.5786783428241814E-13,-6.5786783428241814E-13,-6.5786783428241814E-13,-6.5786783428241814E-13,-6.5786783428241814E-13,-6.5786783428241814E-13,-6.5786783428241814E-13,-6.5786783428241814E-13,-6.5786783428241814E-13,-6.5786783428241814E-13,-6.5786783428241814E-13,-6.5786783428241814E-13,-6.5786783428241814E-13,-6.5786783428241814E-13,-6.5786783428241814E-13,-6.5786783428241814E-13,-6.5786783428241814E-13,-6.5786783428241814E-13,-6.5786783428241814E-13,-6.5786783428241814E-13,-6.5786783428241814E-13,-6.5786783428241814E-13,-6.5786783428241814E-13,-6.5786783428241814E-13,-6.5786783428241814E-13,-6.5786783428241814E-13,-6.5786783428241814E-13,-6.5786783428241814E-13,-6.5786783428241814E-13,-6.5786783428241814E-13,-6.5786783428241814E-13,-6.5786783428241814E-13,-6.5786783428241814E-13,-6.5786783428241814E-13,-6.5786783428241814E-13,-6.5786783428241814E-13,-6.5786783428241814E-13,-6.5786783428241814E-13,-6.5786783428241814E-13,-6.5786783428241814E-13,{"$f":"OF72*OF71","v":-6.5786783428241814E-13},-6.5786783428241814E-13,-6.5786783428241814E-13,-6.5786783428241814E-13,-6.5786783428241814E-13,-6.5786783428241814E-13,-6.5786783428241814E-13,-6.5786783428241814E-13,-6.5786783428241814E-13,-6.5786783428241814E-13,-6.5786783428241814E-13,-6.5786783428241814E-13,-6.5786783428241814E-13,-6.5786783428241814E-13,-6.5786783428241814E-13,-6.5786783428241814E-13,-6.5786783428241814E-13,-6.5786783428241814E-13,-6.5786783428241814E-13,-6.5786783428241814E-13,-6.5786783428241814E-13,-6.5786783428241814E-13,-6.5786783428241814E-13,-6.5786783428241814E-13,-6.5786783428241814E-13,-6.5786783428241814E-13,-6.5786783428241814E-13,-6.5786783428241814E-13,-6.5786783428241814E-13,-6.5786783428241814E-13,-6.5786783428241814E-13,-6.5786783428241814E-13,-6.5786783428241814E-13,-6.5786783428241814E-13,-6.5786783428241814E-13,-6.5786783428241814E-13,-6.5786783428241814E-13,-6.5786783428241814E-13,-6.5786783428241814E-13,-6.5786783428241814E-13,-6.5786783428241814E-13,-6.5786783428241814E-13,-6.5786783428241814E-13,-6.5786783428241814E-13,-6.5786783428241814E-13,-6.5786783428241814E-13,-6.5786783428241814E-13,-6.5786783428241814E-13,-6.5786783428241814E-13,-6.5786783428241814E-13,-6.5786783428241814E-13,-6.5786783428241814E-13,-6.5786783428241814E-13,-6.5786783428241814E-13,-6.5786783428241814E-13,-6.5786783428241814E-13,-6.5786783428241814E-13,-6.5786783428241814E-13,-6.5786783428241814E-13,-6.5786783428241814E-13,-6.5786783428241814E-13,-6.5786783428241814E-13,-6.5786783428241814E-13,-6.5786783428241814E-13,{"$f":"QR72*QR71","v":-6.5786783428241814E-13},-6.5786783428241814E-13,-6.5786783428241814E-13,-6.5786783428241814E-13,-6.5786783428241814E-13,-6.5786783428241814E-13,-6.5786783428241814E-13,-6.5786783428241814E-13,-6.5786783428241814E-13,-6.5786783428241814E-13,-6.5786783428241814E-13,-6.5786783428241814E-13,-6.5786783428241814E-13,-6.5786783428241814E-13,-6.5786783428241814E-13,-6.5786783428241814E-13,-6.5786783428241814E-13,-6.5786783428241814E-13,-6.5786783428241814E-13,-6.5786783428241814E-13,-6.5786783428241814E-13,-6.5786783428241814E-13,-6.5786783428241814E-13,-6.5786783428241814E-13,-6.5786783428241814E-13,-6.5786783428241814E-13,-6.5786783428241814E-13,-6.5786783428241814E-13,-6.5786783428241814E-13,-6.5786783428241814E-13,-6.5786783428241814E-13,-6.5786783428241814E-13,-6.5786783428241814E-13,-6.5786783428241814E-13,-6.5786783428241814E-13,-6.5786783428241814E-13,-6.5786783428241814E-13,-6.5786783428241814E-13,-6.5786783428241814E-13,-6.5786783428241814E-13,-6.5786783428241814E-13,-6.5786783428241814E-13,-6.5786783428241814E-13,-6.5786783428241814E-13,-6.5786783428241814E-13,-6.5786783428241814E-13,-6.5786783428241814E-13,-6.5786783428241814E-13,-6.5786783428241814E-13,-6.5786783428241814E-13,-6.5786783428241814E-13,-6.5786783428241814E-13,-6.5786783428241814E-13,-6.5786783428241814E-13,-6.5786783428241814E-13,-6.5786783428241814E-13,0,0,0,0,0,0,0,0,{"$f":"TD72*TD71","v":0},0,0,0,0,0,0,0,0,0,0,0,0,0,0,0,0,0,0,0,0,0,0,0,0,0,0,0,0,0,0,0,0,0,0,0,0,0]
[null,null,null,"Accumulated Interest Expense at Repayment Period",null,null,null,null,"EUR",null,{"$f":"(IF(K47,SUMIF(48:48,K48,73:73)))*1","v":0},{"$f":"(IF(L47,SUMIF(48:48,L48,73:73)))*1","v":0},0,0,0,0,0,0,0,0,0,0,0,0,0,0,0,0,0,0,0,0,0,0,0,0,0,0,0,0,15482.661474696513,0,0,0,0,0,13649.999999999998,0,0,0,0,0,13299.999999999996,0,0,0,0,0,12949.999999999995,0,0,0,0,0,12599.999999999998,0,0,0,0,0,12249.999999999996,0,0,0,0,{"$f":"(IF(BX47,SUMIF(48:48,BX48,73:73)))*1","v":0},11899.999999999996,0,0,0,0,0,11549.999999999996,0,0,0,0,0,11199.999999999996,0,0,0,0,0,10849.999999999996,0,0,0,0,0,10499.999999999996,0,0,0,0,0,10149.999999999996,0,0,0,0,0,9799.9999999999964,0,0,0,0,0,9449.9999999999964,0,0,0,0,0,9099.9999999999964,0,0,0,0,0,8749.9999999999964,0,0,0,0,0,8399.9999999999964,0,0,{"$f":"(IF(EJ47,SUMIF(48:48,EJ48,73:73)))*1","v":0},0,0,8049.9999999999964,0,0,0,0,0,7699.9999999999973,0,0,0,0,0,7349.9999999999955,0,0,0,0,0,6999.9999999999964,0,0,0,0,0,6649.9999999999973,0,0,0,0,0,6299.9999999999955,0,0,0,0,0,5949.9999999999964,0,0,0,0,0,5599.9999999999964,0,0,0,0,0,5249.9999999999955,0,0,0,0,0,4899.9999999999964,0,0,0,0,0,4549.9999999999964,{"$f":"(IF(GV47,SUMIF(48:48,GV48,73:73)))*1","v":0},0,0,0,0,4199.9999999999955,0,0,0,0,0,3849.9999999999964,0,0,0,0,0,3499.9999999999959,0,0,0,0,0,3149.9999999999955,0,0,0,0,0,2799.9999999999959,0,0,0,0,0,2449.9999999999959,0,0,0,0,0,2099.9999999999959,0,0,0,0,0,1749.9999999999961,0,0,0,0,0,1399.9999999999959,0,0,0,0,0,1049.9999999999959,0,0,0,0,{"$f":"(IF(JH47,SUMIF(48:48,JH48,73:73)))*1","v":0},699.99999999999591,0,0,0,0,0,349.99999999999602,0,0,0,0,0,0,0,0,0,0,0,0,0,0,0,0,0,0,0,0,0,0,0,0,0,0,0,0,0,0,0,0,0,0,0,0,0,0,0,0,0,0,0,0,0,0,0,0,0,0,0,0,0,0,0,0,{"$f":"(IF(LT47,SUMIF(48:48,LT48,73:73)))*1","v":0},0,0,0,0,0,0,0,0,0,0,0,0,0,0,0,0,0,0,0,0,0,0,0,0,0,0,0,0,0,0,0,0,0,0,0,0,0,0,0,0,0,0,0,0,0,0,0,0,0,0,0,0,0,0,0,0,0,0,0,0,0,0,0,{"$f":"(IF(OF47,SUMIF(48:48,OF48,73:73)))*1","v":0},0,0,0,0,0,0,0,0,0,0,0,0,0,0,0,0,0,0,0,0,0,0,0,0,0,0,0,0,0,0,0,0,0,0,0,0,0,0,0,0,0,0,0,0,0,0,0,0,0,0,0,0,0,0,0,0,0,0,0,0,0,0,0,{"$f":"(IF(QR47,SUMIF(48:48,QR48,73:73)))*1","v":0},0,0,0,0,0,0,0,0,0,0,0,0,0,0,0,0,0,0,0,0,0,0,0,0,0,0,0,0,0,0,0,0,0,0,0,0,0,0,0,0,0,0,0,0,0,0,0,0,0,0,0,0,0,0,0,0,0,0,0,0,0,0,0,{"$f":"(IF(TD47,SUMIF(48:48,TD48,73:73)))*1","v":0},0,0,0,0,0,0,0,0,0,0,0,0,0,0,0,0,0,0,0,0,0,0,0,0,0,0,0,0,0,0,0,0,0,0,0,0,0]
[]
[null,null,null,"Test of Closing Balance","Periods",{"$f":"G45","v":"2048-08-31"},{"$f":"LOOKUP(F76,45:45,68:68)","v":-2.255546860396862E-10}]
[]
[null,null,null,"Debt Service =Interest + Repayment",null,null,null,null,"EUR",null,{"$f":"IF(K45,K71+K67)","v":false},{"$f":"IF(L45,L71+L67)","v":false},false,false,false,false,false,false,false,false,false,false,false,false,false,false,false,false,false,false,false,false,false,false,false,2333.3333333333326,2333.3333333333326,2333.3333333333326,2333.3333333333326,2333.3333333333326,22333.333333333328,2274.9999999999995,2274.9999999999995,2274.9999999999995,2274.9999999999995,2274.9999999999995,22274.999999999996,2216.6666666666661,2216.6666666666661,2216.6666666666661,2216.6666666666661,2216.6666666666661,22216.666666666664,2158.3333333333326,2158.3333333333326,2158.3333333333326,2158.3333333333326,2158.3333333333326,22158.333333333328,2099.9999999999995,2099.9999999999995,2099.9999999999995,2099.9999999999995,2099.9999999999995,22099.999999999996,2041.6666666666661,2041.6666666666661,2041.6666666666661,2041.6666666666661,2041.6666666666661,22041.666666666664,1983.3333333333328,1983.3333333333328,1983.3333333333328,1983.3333333333328,{"$f":"IF(BX45,BX71+BX67)","v":1983.3333333333328},21983.333333333328,1924.9999999999993,1924.9999999999993,1924.9999999999993,1924.9999999999993,1924.9999999999993,21924.999999999996,1866.6666666666661,1866.6666666666661,1866.6666666666661,1866.6666666666661,1866.6666666666661,21866.666666666664,1808.3333333333328,1808.3333333333328,1808.3333333333328,1808.3333333333328,1808.3333333333328,21808.333333333328,1749.9999999999993,1749.9999999999993,1749.9999999999993,1749.9999999999993,1749.9999999999993,21749.999999999996,1691.6666666666661,1691.6666666666661,1691.6666666666661,1691.6666666666661,1691.6666666666661,21691.666666666664,1633.3333333333328,1633.3333333333328,1633.3333333333328,1633.3333333333328,1633.3333333333328,21633.333333333328,1574.9999999999993,1574.9999999999993,1574.9999999999993,1574.9999999999993,1574.9999999999993,21574.999999999996,1516.6666666666661,1516.6666666666661,1516.6666666666661,1516.6666666666661,1516.6666666666661,21516.666666666664,1458.3333333333328,1458.3333333333328,1458.3333333333328,1458.3333333333328,1458.3333333333328,21458.333333333328,1399.9999999999993,1399.9999999999993,1399.9999999999993,1399.9999999999993,1399.9999999999993,21399.999999999996,1341.6666666666661,1341.6666666666661,{"$f":"IF(EJ45,EJ71+EJ67)","v":1341.6666666666661},1341.6666666666661,1341.6666666666661,21341.666666666664,1283.3333333333328,1283.3333333333328,1283.3333333333328,1283.3333333333328,1283.3333333333328,21283.333333333328,1224.9999999999993,1224.9999999999993,1224.9999999999993,1224.9999999999993,1224.9999999999993,21224.999999999996,1166.6666666666661,1166.6666666666661,1166.6666666666661,1166.6666666666661,1166.6666666666661,21166.666666666664,1108.3333333333328,1108.3333333333328,1108.3333333333328,1108.3333333333328,1108.3333333333328,21108.333333333328,1049.9999999999993,1049.9999999999993,1049.9999999999993,1049.9999999999993,1049.9999999999993,21049.999999999996,991.66666666666606,991.66666666666606,991.66666666666606,991.66666666666606,991.66666666666606,20991.666666666664,933.33333333333269,933.33333333333269,933.33333333333269,933.33333333333269,933.33333333333269,20933.333333333328,874.99999999999932,874.99999999999932,874.99999999999932,874.99999999999932,874.99999999999932,20874.999999999996,816.66666666666606,816.66666666666606,816.66666666666606,816.66666666666606,816.66666666666606,20816.666666666664,758.33333333333269,758.33333333333269,758.33333333333269,758.33333333333269,758.33333333333269,20758.333333333328,{"$f":"IF(GV45,GV71+GV67)","v":699.99999999999932},699.99999999999932,699.99999999999932,699.99999999999932,699.99999999999932,20699.999999999996,641.66666666666606,641.66666666666606,641.66666666666606,641.66666666666606,641.66666666666606,20641.666666666664,583.33333333333269,583.33333333333269,583.33333333333269,583.33333333333269,583.33333333333269,20583.333333333328,524.99999999999932,524.99999999999932,524.99999999999932,524.99999999999932,524.99999999999932,20524.999999999996,466.666666666666,466.666666666666,466.666666666666,466.666666666666,466.666666666666,20466.666666666661,408.33333333333269,408.33333333333269,408.33333333333269,408.33333333333269,408.33333333333269,20408.333333333328,349.99999999999932,349.99999999999932,349.99999999999932,349.99999999999932,349.99999999999932,20349.999999999996,291.666666666666,291.666666666666,291.666666666666,291.666666666666,291.666666666666,20291.666666666661,233.33333333333266,233.33333333333266,233.33333333333266,233.33333333333266,233.33333333333266,20233.333333333328,174.99999999999932,174.99999999999932,174.99999999999932,174.99999999999932,174.99999999999932,20174.999999999996,116.66666666666599,116.66666666666599,116.66666666666599,116.66666666666599,{"$f":"IF(JH45,JH71+JH67)","v":116.66666666666599},20116.666666666661,58.333333333332668,58.333333333332668,58.333333333332668,58.333333333332668,58.333333333332668,20058.333333333328,false,false,false,false,false,false,false,false,false,false,false,false,false,false,false,false,false,false,false,false,false,false,false,false,false,false,false,false,false,false,false,false,false,false,false,false,false,false,false,false,false,false,false,false,false,false,false,false,false,false,false,false,false,false,false,false,{"$f":"IF(LT45,LT71+LT67)","v":false},false,false,false,false,false,false,false,false,false,false,false,false,false,false,false,false,false,false,false,false,false,false,false,false,false,false,false,false,false,false,false,false,false,false,false,false,false,false,false,false,false,false,false,false,false,false,false,false,false,false,false,false,false,false,false,false,false,false,false,false,false,false,false,{"$f":"IF(OF45,OF71+OF67)","v":false},false,false,false,false,false,false,false,false,false,false,false,false,false,false,false,false,false,false,false,false,false,false,false,false,false,false,false,false,false,false,false,false,false,false,false,false,false,false,false,false,false,false,false,false,false,false,false,false,false,false,false,false,false,false,false,false,false,false,false,false,false,false,false,{"$f":"IF(QR45,QR71+QR67)","v":false},false,false,false,false,false,false,false,false,false,false,false,false,false,false,false,false,false,false,false,false,false,false,false,false,false,false,false,false,false,false,false,false,false,false,false,false,false,false,false,false,false,false,false,false,false,false,false,false,false,false,false,false,false,false,false,false,false,false,false,false,false,false,false,{"$f":"IF(TD45,TD71+TD67)","v":false},false,false,false,false,false,false,false,false,false,false,false,false,false,false,false,false,false,false,false,false,false,false,false,false,false,false,false,false,false,false,false,false,false,false,false,false,false]
[]
[null,null,null,"Interest Rate in Period",null,null,null,null,null,null,{"$f":"IF(K45,K74/K65)","v":false},{"$f":"IF(L45,L74/L65)","v":false},false,false,false,false,false,false,false,false,false,false,false,false,false,false,false,false,false,false,false,false,false,false,false,0,0,0,0,0,1.9353326843370648E-2,0,0,0,0,0,1.7500000000000002E-2,0,0,0,0,0,1.7500000000000002E-2,0,0,0,0,0,1.7499999999999998E-2,0,0,0,0,0,1.7500000000000002E-2,0,0,0,0,0,1.7500000000000002E-2,0,0,0,0,{"$f":"IF(BX45,BX74/BX65)","v":0},1.7500000000000002E-2,0,0,0,0,0,1.7500000000000002E-2,0,0,0,0,0,1.7500000000000002E-2,0,0,0,0,0,1.7500000000000002E-2,0,0,0,0,0,1.7500000000000002E-2,0,0,0,0,0,1.7500000000000002E-2,0,0,0,0,0,1.7500000000000002E-2,0,0,0,0,0,1.7500000000000002E-2,0,0,0,0,0,1.7500000000000002E-2,0,0,0,0,0,1.7500000000000002E-2,0,0,0,0,0,1.7500000000000002E-2,0,0,{"$f":"IF(EJ45,EJ74/EJ65)","v":0},0,0,1.7500000000000002E-2,0,0,0,0,0,1.7500000000000002E-2,0,0,0,0,0,1.7499999999999998E-2,0,0,0,0,0,1.7500000000000002E-2,0,0,0,0,0,1.7500000000000005E-2,0,0,0,0,0,1.7499999999999998E-2,0,0,0,0,0,1.7500000000000002E-2,0,0,0,0,0,1.7500000000000002E-2,0,0,0,0,0,1.7499999999999998E-2,0,0,0,0,0,1.7500000000000002E-2,0,0,0,0,0,1.7500000000000002E-2,{"$f":"IF(GV45,GV74/GV65)","v":0},0,0,0,0,1.7499999999999998E-2,0,0,0,0,0,1.7500000000000002E-2,0,0,0,0,0,1.7499999999999998E-2,0,0,0,0,0,1.7499999999999998E-2,0,0,0,0,0,1.7499999999999998E-2,0,0,0,0,0,1.7499999999999998E-2,0,0,0,0,0,1.7499999999999998E-2,0,0,0,0,0,1.7500000000000002E-2,0,0,0,0,0,1.7499999999999998E-2,0,0,0,0,0,1.7499999999999998E-2,0,0,0,0,{"$f":"IF(JH45,JH74/JH65)","v":0},1.7499999999999998E-2,0,0,0,0,0,1.7500000000000002E-2,false,false,false,false,false,false,false,false,false,false,false,false,false,false,false,false,false,false,false,false,false,false,false,false,false,false,false,false,false,false,false,false,false,false,false,false,false,false,false,false,false,false,false,false,false,false,false,false,false,false,false,false,false,false,false,false,{"$f":"IF(LT45,LT74/LT65)","v":false},false,false,false,false,false,false,false,false,false,false,false,false,false,false,false,false,false,false,false,false,false,false,false,false,false,false,false,false,false,false,false,false,false,false,false,false,false,false,false,false,false,false,false,false,false,false,false,false,false,false,false,false,false,false,false,false,false,false,false,false,false,false,false,{"$f":"IF(OF45,OF74/OF65)","v":false},false,false,false,false,false,false,false,false,false,false,false,false,false,false,false,false,false,false,false,false,false,false,false,false,false,false,false,false,false,false,false,false,false,false,false,false,false,false,false,false,false,false,false,false,false,false,false,false,false,false,false,false,false,false,false,false,false,false,false,false,false,false,false,{"$f":"IF(QR45,QR74/QR65)","v":false},false,false,false,false,false,false,false,false,false,false,false,false,false,false,false,false,false,false,false,false,false,false,false,false,false,false,false,false,false,false,false,false,false,false,false,false,false,false,false,false,false,false,false,false,false,false,false,false,false,false,false,false,false,false,false,false,false,false,false,false,false,false,false,{"$f":"IF(TD45,TD74/TD65)","v":false},false,false,false,false,false,false,false,false,false,false,false,false,false,false,false,false,false,false,false,false,false,false,false,false,false,false,false,false,false,false,false,false,false,false,false,false,false]
[null,null,null,"Accumulated Interest Rate in "]
[null,null,null,"Interest Rate Factor",null,null,null,null,null,1,{"$f":"J82*(1+K80)","v":1},{"$f":"K82*(1+L80)","v":1},1,1,1,1,1,1,1,1,1,1,1,1,1,1,1,1,1,1,1,1,1,1,1,1,1,1,1,1,1.0193533268433705,1.0193533268433705,1.0193533268433705,1.0193533268433705,1.0193533268433705,1.0193533268433705,1.0371920100631296,1.0371920100631296,1.0371920100631296,1.0371920100631296,1.0371920100631296,1.0371920100631296,1.0553428702392345,1.0553428702392345,1.0553428702392345,1.0553428702392345,1.0553428702392345,1.0553428702392345,1.0738113704684211,1.0738113704684211,1.0738113704684211,1.0738113704684211,1.0738113704684211,1.0738113704684211,1.0926030694516187,1.0926030694516187,1.0926030694516187,1.0926030694516187,1.0926030694516187,1.0926030694516187,1.111723623167022,1.111723623167022,1.111723623167022,1.111723623167022,1.111723623167022,{"$f":"BW82*(1+BX80)","v":1.111723623167022},1.131178786572445,1.131178786572445,1.131178786572445,1.131178786572445,1.131178786572445,1.131178786572445,1.1509744153374628,1.1509744153374628,1.1509744153374628,1.1509744153374628,1.1509744153374628,1.1509744153374628,1.1711164676058685,1.1711164676058685,1.1711164676058685,1.1711164676058685,1.1711164676058685,1.1711164676058685,1.1916110057889713,1.1916110057889713,1.1916110057889713,1.1916110057889713,1.1916110057889713,1.1916110057889713,1.2124641983902784,1.2124641983902784,1.2124641983902784,1.2124641983902784,1.2124641983902784,1.2124641983902784,1.2336823218621085,1.2336823218621085,1.2336823218621085,1.2336823218621085,1.2336823218621085,1.2336823218621085,1.2552717624946954,1.2552717624946954,1.2552717624946954,1.2552717624946954,1.2552717624946954,1.2552717624946954,1.2772390183383526,1.2772390183383526,1.2772390183383526,1.2772390183383526,1.2772390183383526,1.2772390183383526,1.299590701159274,1.299590701159274,1.299590701159274,1.299590701159274,1.299590701159274,1.299590701159274,1.3223335384295614,1.3223335384295614,1.3223335384295614,1.3223335384295614,1.3223335384295614,1.3223335384295614,1.3454743753520788,1.3454743753520788,1.3454743753520788,{"$f":"EI82*(1+EJ80)","v":1.3454743753520788},1.3454743753520788,1.3454743753520788,1.3690201769207402,1.3690201769207402,1.3690201769207402,1.3690201769207402,1.3690201769207402,1.3690201769207402,1.3929780300168533,1.3929780300168533,1.3929780300168533,1.3929780300168533,1.3929780300168533,1.3929780300168533,1.4173551455421483,1.4173551455421483,1.4173551455421483,1.4173551455421483,1.4173551455421483,1.4173551455421483,1.442158860589136,1.442158860589136,1.442158860589136,1.442158860589136,1.442158860589136,1.442158860589136,1.4673966406494461,1.4673966406494461,1.4673966406494461,1.4673966406494461,1.4673966406494461,1.4673966406494461,1.4930760818608115,1.4930760818608115,1.4930760818608115,1.4930760818608115,1.4930760818608115,1.4930760818608115,1.5192049132933758,1.5192049132933758,1.5192049132933758,1.5192049132933758,1.5192049132933758,1.5192049132933758,1.5457909992760099,1.5457909992760099,1.5457909992760099,1.5457909992760099,1.5457909992760099,1.5457909992760099,1.5728423417633401,1.5728423417633401,1.5728423417633401,1.5728423417633401,1.5728423417633401,1.5728423417633401,1.6003670827441987,1.6003670827441987,1.6003670827441987,1.6003670827441987,1.6003670827441987,1.6003670827441987,1.6283735066922223,{"$f":"GU82*(1+GV80)","v":1.6283735066922223},1.6283735066922223,1.6283735066922223,1.6283735066922223,1.6283735066922223,1.6568700430593362,1.6568700430593362,1.6568700430593362,1.6568700430593362,1.6568700430593362,1.6568700430593362,1.6858652688128746,1.6858652688128746,1.6858652688128746,1.6858652688128746,1.6858652688128746,1.6858652688128746,1.7153679110171001,1.7153679110171001,1.7153679110171001,1.7153679110171001,1.7153679110171001,1.7153679110171001,1.7453868494598994,1.7453868494598994,1.7453868494598994,1.7453868494598994,1.7453868494598994,1.7453868494598994,1.7759311193254477,1.7759311193254477,1.7759311193254477,1.7759311193254477,1.7759311193254477,1.7759311193254477,1.8070099139136431,1.8070099139136431,1.8070099139136431,1.8070099139136431,1.8070099139136431,1.8070099139136431,1.8386325874071319,1.8386325874071319,1.8386325874071319,1.8386325874071319,1.8386325874071319,1.8386325874071319,1.8708086576867569,1.8708086576867569,1.8708086576867569,1.8708086576867569,1.8708086576867569,1.8708086576867569,1.9035478091962752,1.9035478091962752,1.9035478091962752,1.9035478091962752,1.9035478091962752,1.9035478091962752,1.9368598958572101,1.9368598958572101,1.9368598958572101,1.9368598958572101,1.9368598958572101,{"$f":"JG82*(1+JH80)","v":1.9368598958572101},1.9707549440347114,1.9707549440347114,1.9707549440347114,1.9707549440347114,1.9707549440347114,1.9707549440347114,2.005243155555319,2.005243155555319,2.005243155555319,2.005243155555319,2.005243155555319,2.005243155555319,2.005243155555319,2.005243155555319,2.005243155555319,2.005243155555319,2.005243155555319,2.005243155555319,2.005243155555319,2.005243155555319,2.005243155555319,2.005243155555319,2.005243155555319,2.005243155555319,2.005243155555319,2.005243155555319,2.005243155555319,2.005243155555319,2.005243155555319,2.005243155555319,2.005243155555319,2.005243155555319,2.005243155555319,2.005243155555319,2.005243155555319,2.005243155555319,2.005243155555319,2.005243155555319,2.005243155555319,2.005243155555319,2.005243155555319,2.005243155555319,2.005243155555319,2.005243155555319,2.005243155555319,2.005243155555319,2.005243155555319,2.005243155555319,2.005243155555319,2.005243155555319,2.005243155555319,2.005243155555319,2.005243155555319,2.005243155555319,2.005243155555319,2.005243155555319,2.005243155555319,2.005243155555319,2.005243155555319,2.005243155555319,2.005243155555319,2.005243155555319,2.005243155555319,{"$f":"LS82*(1+LT80)","v":2.005243155555319},2.005243155555319,2.005243155555319,2.005243155555319,2.005243155555319,2.005243155555319,2.005243155555319,2.005243155555319,2.005243155555319,2.005243155555319,2.005243155555319,2.005243155555319,2.005243155555319,2.005243155555319,2.005243155555319,2.005243155555319,2.005243155555319,2.005243155555319,2.005243155555319,2.005243155555319,2.005243155555319,2.005243155555319,2.005243155555319,2.005243155555319,2.005243155555319,2.005243155555319,2.005243155555319,2.005243155555319,2.005243155555319,2.005243155555319,2.005243155555319,2.005243155555319,2.005243155555319,2.005243155555319,2.005243155555319,2.005243155555319,2.005243155555319,2.005243155555319,2.005243155555319,2.005243155555319,2.005243155555319,2.005243155555319,2.005243155555319,2.005243155555319,2.005243155555319,2.005243155555319,2.005243155555319,2.005243155555319,2.005243155555319,2.005243155555319,2.005243155555319,2.005243155555319,2.005243155555319,2.005243155555319,2.005243155555319,2.005243155555319,2.005243155555319,2.005243155555319,2.005243155555319,2.005243155555319,2.005243155555319,2.005243155555319,2.005243155555319,2.005243155555319,{"$f":"OE82*(1+OF80)","v":2.005243155555319},2.005243155555319,2.005243155555319,2.005243155555319,2.005243155555319,2.005243155555319,2.005243155555319,2.005243155555319,2.005243155555319,2.005243155555319,2.005243155555319,2.005243155555319,2.005243155555319,2.005243155555319,2.005243155555319,2.005243155555319,2.005243155555319,2.005243155555319,2.005243155555319,2.005243155555319,2.005243155555319,2.005243155555319,2.005243155555319,2.005243155555319,2.005243155555319,2.005243155555319,2.005243155555319,2.005243155555319,2.005243155555319,2.005243155555319,2.005243155555319,2.005243155555319,2.005243155555319,2.005243155555319,2.005243155555319,2.005243155555319,2.005243155555319,2.005243155555319,2.005243155555319,2.005243155555319,2.005243155555319,2.005243155555319,2.005243155555319,2.005243155555319,2.005243155555319,2.005243155555319,2.005243155555319,2.005243155555319,2.005243155555319,2.005243155555319,2.005243155555319,2.005243155555319,2.005243155555319,2.005243155555319,2.005243155555319,2.005243155555319,2.005243155555319,2.005243155555319,2.005243155555319,2.005243155555319,2.005243155555319,2.005243155555319,2.005243155555319,2.005243155555319,{"$f":"QQ82*(1+QR80)","v":2.005243155555319},2.005243155555319,2.005243155555319,2.005243155555319,2.005243155555319,2.005243155555319,2.005243155555319,2.005243155555319,2.005243155555319,2.005243155555319,2.005243155555319,2.005243155555319,2.005243155555319,2.005243155555319,2.005243155555319,2.005243155555319,2.005243155555319,2.005243155555319,2.005243155555319,2.005243155555319,2.005243155555319,2.005243155555319,2.005243155555319,2.005243155555319,2.005243155555319,2.005243155555319,2.005243155555319,2.005243155555319,2.005243155555319,2.005243155555319,2.005243155555319,2.005243155555319,2.005243155555319,2.005243155555319,2.005243155555319,2.005243155555319,2.005243155555319,2.005243155555319,2.005243155555319,2.005243155555319,2.005243155555319,2.005243155555319,2.005243155555319,2.005243155555319,2.005243155555319,2.005243155555319,2.005243155555319,2.005243155555319,2.005243155555319,2.005243155555319,2.005243155555319,2.005243155555319,2.005243155555319,2.005243155555319,2.005243155555319,2.005243155555319,2.005243155555319,2.005243155555319,2.005243155555319,2.005243155555319,2.005243155555319,2.005243155555319,2.005243155555319,2.005243155555319,{"$f":"TC82*(1+TD80)","v":2.005243155555319},2.005243155555319,2.005243155555319,2.005243155555319,2.005243155555319,2.005243155555319,2.005243155555319,2.005243155555319,2.005243155555319,2.005243155555319,2.005243155555319,2.005243155555319,2.005243155555319,2.005243155555319,2.005243155555319,2.005243155555319,2.005243155555319,2.005243155555319,2.005243155555319,2.005243155555319,2.005243155555319,2.005243155555319,2.005243155555319,2.005243155555319,2.005243155555319,2.005243155555319,2.005243155555319,2.005243155555319,2.005243155555319,2.005243155555319,2.005243155555319,2.005243155555319,2.005243155555319,2.005243155555319,2.005243155555319,2.005243155555319,2.005243155555319,2.005243155555319]
[null,null,null,"PV of Debt Service =Debt",null,{"$f":"SUMPRODUCT(K78:UO78/K82:UO82)","v":801887.33447236393},null,null,"EUR"]
[]
[null,null,null,"CFADS for Debt Service Period",null,null,null,null,null,null,{"$f":"SUMIF(50:50,K50,23:23)","v":0},{"$f":"SUMIF(50:50,L50,23:23)","v":0},0,0,0,0,0,0,0,0,0,0,0,0,0,0,0,0,0,0,0,0,0,0,35600,35600,35600,35600,35600,35600,44400,44400,44400,44400,44400,44400,35600,35600,35600,35600,35600,35600,44400,44400,44400,44400,44400,44400,35600,35600,35600,35600,35600,35600,44400,44400,44400,44400,44400,44400,35600,35600,35600,35600,35600,{"$f":"SUMIF(50:50,BX50,23:23)","v":35600},44400,44400,44400,44400,44400,44400,35600,35600,35600,35600,35600,35600,44400,44400,44400,44400,44400,44400,35600,35600,35600,35600,35600,35600,44400,44400,44400,44400,44400,44400,35600,35600,35600,35600,35600,35600,44400,44400,44400,44400,44400,44400,35600,35600,35600,35600,35600,35600,44400,44400,44400,44400,44400,44400,35600,35600,35600,35600,35600,35600,44400,44400,44400,{"$f":"SUMIF(50:50,EJ50,23:23)","v":44400},44400,44400,35600,35600,35600,35600,35600,35600,44400,44400,44400,44400,44400,44400,35600,35600,35600,35600,35600,35600,44400,44400,44400,44400,44400,44400,35600,35600,35600,35600,35600,35600,44400,44400,44400,44400,44400,44400,35600,35600,35600,35600,35600,35600,44400,44400,44400,44400,44400,44400,35600,35600,35600,35600,35600,35600,44400,44400,44400,44400,44400,44400,35600,{"$f":"SUMIF(50:50,GV50,23:23)","v":35600},35600,35600,35600,35600,44400,44400,44400,44400,44400,44400,35600,35600,35600,35600,35600,35600,44400,44400,44400,44400,44400,44400,35600,35600,35600,35600,35600,35600,44400,44400,44400,44400,44400,44400,35600,35600,35600,35600,35600,35600,44400,44400,44400,44400,44400,44400,35600,35600,35600,35600,35600,35600,44400,44400,44400,44400,44400,44400,35600,35600,35600,35600,35600,{"$f":"SUMIF(50:50,JH50,23:23)","v":35600},44400,44400,44400,44400,44400,44400,35600,35600,35600,35600,35600,35600,44400,44400,44400,44400,44400,44400,35600,35600,35600,35600,35600,35600,44400,44400,44400,44400,44400,44400,35600,35600,35600,35600,35600,35600,44400,44400,44400,44400,44400,44400,35600,35600,35600,35600,35600,35600,44400,44400,44400,44400,44400,44400,35600,35600,35600,35600,35600,35600,44400,44400,44400,{"$f":"SUMIF(50:50,LT50,23:23)","v":44400},44400,44400,35600,35600,35600,35600,35600,35600,44400,44400,44400,44400,44400,44400,35600,35600,35600,35600,35600,35600,44400,44400,44400,44400,44400,44400,35600,35600,35600,35600,35600,35600,44400,44400,44400,44400,44400,44400,35600,35600,35600,35600,35600,35600,44400,44400,44400,44400,44400,44400,35600,35600,35600,35600,35600,35600,44400,44400,44400,44400,44400,44400,35600,{"$f":"SUMIF(50:50,OF50,23:23)","v":35600},35600,35600,35600,35600,44400,44400,44400,44400,44400,44400,35600,35600,35600,35600,35600,35600,44400,44400,44400,44400,44400,44400,35600,35600,35600,35600,35600,35600,44400,44400,44400,44400,44400,44400,35600,35600,35600,35600,35600,35600,44400,44400,44400,44400,44400,44400,35600,35600,35600,35600,35600,35600,44400,44400,44400,44400,44400,44400,35600,35600,35600,35600,35600,{"$f":"SUMIF(50:50,QR50,23:23)","v":35600},44400,44400,44400,44400,44400,44400,35600,35600,35600,35600,35600,35600,44400,44400,44400,44400,44400,44400,35600,35600,35600,35600,35600,35600,44400,44400,44400,44400,44400,44400,35600,35600,35600,35600,35600,35600,44400,44400,44400,44400,44400,44400,35600,35600,35600,35600,35600,35600,44400,44400,44400,44400,44400,44400,10800,10800,10800,10800,10800,10800,10800,10800,10800,{"$f":"SUMIF(50:50,TD50,23:23)","v":10800},10800,10800,10800,10800,10800,10800,10800,10800,10800,10800,10800,10800,10800,10800,10800,10800,10800,10800,10800,10800,10800,10800,10800,10800,10800,10800,10800,10800,10800,10800,10800,10800,10800,10800,10800,10800,10800]
[]
[null,null,"Defaulted Debt"]
[null,null,null,"Opening Balance",null,null,null,null,"EUR"]
[null,null,null,"Add: Defaulted Debt",null,null,null,null,"EUR"]
[null,null,null,"Less: Repayment of Default",null,null,null,null,"EUR"]
[null,null,null,"Closing Balance",null,null,null,null,"EUR"]
[null,null,null,"Interest on Default",null,null,null,null,"EUR"]
[]
[null,"Cash Waterfall"]
[]
[null,null,null,"EBITDA",null,null,null,null,"EUR",null,{"$f":"K85","v":0},{"$f":"L85","v":0},0,0,0,0,0,0,0,0,0,0,0,0,0,0,0,0,0,0,0,0,0,0,35600,35600,35600,35600,35600,35600,44400,44400,44400,44400,44400,44400,35600,35600,35600,35600,35600,35600,44400,44400,44400,44400,44400,44400,35600,35600,35600,35600,35600,35600,44400,44400,44400,44400,44400,44400,35600,35600,35600,35600,35600,{"$f":"BX85","v":35600},44400,44400,44400,44400,44400,44400,35600,35600,35600,35600,35600,35600,44400,44400,44400,44400,44400,44400,35600,35600,35600,35600,35600,35600,44400,44400,44400,44400,44400,44400,35600,35600,35600,35600,35600,35600,44400,44400,44400,44400,44400,44400,35600,35600,35600,35600,35600,35600,44400,44400,44400,44400,44400,44400,35600,35600,35600,35600,35600,35600,44400,44400,44400,{"$f":"EJ85","v":44400},44400,44400,35600,35600,35600,35600,35600,35600,44400,44400,44400,44400,44400,44400,35600,35600,35600,35600,35600,35600,44400,44400,44400,44400,44400,44400,35600,35600,35600,35600,35600,35600,44400,44400,44400,44400,44400,44400,35600,35600,35600,35600,35600,35600,44400,44400,44400,44400,44400,44400,35600,35600,35600,35600,35600,35600,44400,44400,44400,44400,44400,44400,35600,{"$f":"GV85","v":35600},35600,35600,35600,35600,44400,44400,44400,44400,44400,44400,35600,35600,35600,35600,35600,35600,44400,44400,44400,44400,44400,44400,35600,35600,35600,35600,35600,35600,44400,44400,44400,44400,44400,44400,35600,35600,35600,35600,35600,35600,44400,44400,44400,44400,44400,44400,35600,35600,35600,35600,35600,35600,44400,44400,44400,44400,44400,44400,35600,35600,35600,35600,35600,{"$f":"JH85","v":35600},44400,44400,44400,44400,44400,44400,35600,35600,35600,35600,35600,35600,44400,44400,44400,44400,44400,44400,35600,35600,35600,35600,35600,35600,44400,44400,44400,44400,44400,44400,35600,35600,35600,35600,35600,35600,44400,44400,44400,44400,44400,44400,35600,35600,35600,35600,35600,35600,44400,44400,44400,44400,44400,44400,35600,35600,35600,35600,35600,35600,44400,44400,44400,{"$f":"LT85","v":44400},44400,44400,35600,35600,35600,35600,35600,35600,44400,44400,44400,44400,44400,44400,35600,35600,35600,35600,35600,35600,44400,44400,44400,44400,44400,44400,35600,35600,35600,35600,35600,35600,44400,44400,44400,44400,44400,44400,35600,35600,35600,35600,35600,35600,44400,44400,44400,44400,44400,44400,35600,35600,35600,35600,35600,35600,44400,44400,44400,44400,44400,44400,35600,{"$f":"OF85","v":35600},35600,35600,35600,35600,44400,44400,44400,44400,44400,44400,35600,35600,35600,35600,35600,35600,44400,44400,44400,44400,44400,44400,35600,35600,35600,35600,35600,35600,44400,44400,44400,44400,44400,44400,35600,35600,35600,35600,35600,35600,44400,44400,44400,44400,44400,44400,35600,35600,35600,35600,35600,35600,44400,44400,44400,44400,44400,44400,35600,35600,35600,35600,35600,{"$f":"QR85","v":35600},44400,44400,44400,44400,44400,44400,35600,35600,35600,35600,35600,35600,44400,44400,44400,44400,44400,44400,35600,35600,35600,35600,35600,35600,44400,44400,44400,44400,44400,44400,35600,35600,35600,35600,35600,35600,44400,44400,44400,44400,44400,44400,35600,35600,35600,35600,35600,35600,44400,44400,44400,44400,44400,44400,10800,10800,10800,10800,10800,10800,10800,10800,10800,{"$f":"TD85","v":10800},10800,10800,10800,10800,10800,10800,10800,10800,10800,10800,10800,10800,10800,10800,10800,10800,10800,10800,10800,10800,10800,10800,10800,10800,10800,10800,10800,10800,10800,10800,10800,10800,10800,10800,10800,10800,10800]
[null,null,null,"Less: Debt Service",null,null,null,null,"EUR",null,{"$f":"(K78)*1","v":0},{"$f":"(L78)*1","v":0},0,0,0,0,0,0,0,0,0,0,0,0,0,0,0,0,0,0,0,0,0,0,0,2333.3333333333326,2333.3333333333326,2333.3333333333326,2333.3333333333326,2333.3333333333326,22333.333333333328,2274.9999999999995,2274.9999999999995,2274.9999999999995,2274.9999999999995,2274.9999999999995,22274.999999999996,2216.6666666666661,2216.6666666666661,2216.6666666666661,2216.6666666666661,2216.6666666666661,22216.666666666664,2158.3333333333326,2158.3333333333326,2158.3333333333326,2158.3333333333326,2158.3333333333326,22158.333333333328,2099.9999999999995,2099.9999999999995,2099.9999999999995,2099.9999999999995,2099.9999999999995,22099.999999999996,2041.6666666666661,2041.6666666666661,2041.6666666666661,2041.6666666666661,2041.6666666666661,22041.666666666664,1983.3333333333328,1983.3333333333328,1983.3333333333328,1983.3333333333328,{"$f":"(BX78)*1","v":1983.3333333333328},21983.333333333328,1924.9999999999993,1924.9999999999993,1924.9999999999993,1924.9999999999993,1924.9999999999993,21924.999999999996,1866.6666666666661,1866.6666666666661,1866.6666666666661,1866.6666666666661,1866.6666666666661,21866.666666666664,1808.3333333333328,1808.3333333333328,1808.3333333333328,1808.3333333333328,1808.3333333333328,21808.333333333328,1749.9999999999993,1749.9999999999993,1749.9999999999993,1749.9999999999993,1749.9999999999993,21749.999999999996,1691.6666666666661,1691.6666666666661,1691.6666666666661,1691.6666666666661,1691.6666666666661,21691.666666666664,1633.3333333333328,1633.3333333333328,1633.3333333333328,1633.3333333333328,1633.3333333333328,21633.333333333328,1574.9999999999993,1574.9999999999993,1574.9999999999993,1574.9999999999993,1574.9999999999993,21574.999999999996,1516.6666666666661,1516.6666666666661,1516.6666666666661,1516.6666666666661,1516.6666666666661,21516.666666666664,1458.3333333333328,1458.3333333333328,1458.3333333333328,1458.3333333333328,1458.3333333333328,21458.333333333328,1399.9999999999993,1399.9999999999993,1399.9999999999993,1399.9999999999993,1399.9999999999993,21399.999999999996,1341.6666666666661,1341.6666666666661,{"$f":"(EJ78)*1","v":1341.6666666666661},1341.6666666666661,1341.6666666666661,21341.666666666664,1283.3333333333328,1283.3333333333328,1283.3333333333328,1283.3333333333328,1283.3333333333328,21283.333333333328,1224.9999999999993,1224.9999999999993,1224.9999999999993,1224.9999999999993,1224.9999999999993,21224.999999999996,1166.6666666666661,1166.6666666666661,1166.6666666666661,1166.6666666666661,1166.6666666666661,21166.666666666664,1108.3333333333328,1108.3333333333328,1108.3333333333328,1108.3333333333328,1108.3333333333328,21108.333333333328,1049.9999999999993,1049.9999999999993,1049.9999999999993,1049.9999999999993,1049.9999999999993,21049.999999999996,991.66666666666606,991.66666666666606,991.66666666666606,991.66666666666606,991.66666666666606,20991.666666666664,933.33333333333269,933.33333333333269,933.33333333333269,933.33333333333269,933.33333333333269,20933.333333333328,874.99999999999932,874.99999999999932,874.99999999999932,874.99999999999932,874.99999999999932,20874.999999999996,816.66666666666606,816.66666666666606,816.66666666666606,816.66666666666606,816.66666666666606,20816.666666666664,758.33333333333269,758.33333333333269,758.33333333333269,758.33333333333269,758.33333333333269,20758.333333333328,{"$f":"(GV78)*1","v":699.99999999999932},699.99999999999932,699.99999999999932,699.99999999999932,699.99999999999932,20699.999999999996,641.66666666666606,641.66666666666606,641.66666666666606,641.66666666666606,641.66666666666606,20641.666666666664,583.33333333333269,583.33333333333269,583.33333333333269,583.33333333333269,583.33333333333269,20583.333333333328,524.99999999999932,524.99999999999932,524.99999999999932,524.99999999999932,524.99999999999932,20524.999999999996,466.666666666666,466.666666666666,466.666666666666,466.666666666666,466.666666666666,20466.666666666661,408.33333333333269,408.33333333333269,408.33333333333269,408.33333333333269,408.33333333333269,20408.333333333328,349.99999999999932,349.99999999999932,349.99999999999932,349.99999999999932,349.99999999999932,20349.999999999996,291.666666666666,291.666666666666,291.666666666666,291.666666666666,291.666666666666,20291.666666666661,233.33333333333266,233.33333333333266,233.33333333333266,233.33333333333266,233.33333333333266,20233.333333333328,174.99999999999932,174.99999999999932,174.99999999999932,174.99999999999932,174.99999999999932,20174.999999999996,116.66666666666599,116.66666666666599,116.66666666666599,116.66666666666599,{"$f":"(JH78)*1","v":116.66666666666599},20116.666666666661,58.333333333332668,58.333333333332668,58.333333333332668,58.333333333332668,58.333333333332668,20058.333333333328,0,0,0,0,0,0,0,0,0,0,0,0,0,0,0,0,0,0,0,0,0,0,0,0,0,0,0,0,0,0,0,0,0,0,0,0,0,0,0,0,0,0,0,0,0,0,0,0,0,0,0,0,0,0,0,0,{"$f":"(LT78)*1","v":0},0,0,0,0,0,0,0,0,0,0,0,0,0,0,0,0,0,0,0,0,0,0,0,0,0,0,0,0,0,0,0,0,0,0,0,0,0,0,0,0,0,0,0,0,0,0,0,0,0,0,0,0,0,0,0,0,0,0,0,0,0,0,0,{"$f":"(OF78)*1","v":0},0,0,0,0,0,0,0,0,0,0,0,0,0,0,0,0,0,0,0,0,0,0,0,0,0,0,0,0,0,0,0,0,0,0,0,0,0,0,0,0,0,0,0,0,0,0,0,0,0,0,0,0,0,0,0,0,0,0,0,0,0,0,0,{"$f":"(QR78)*1","v":0},0,0,0,0,0,0,0,0,0,0,0,0,0,0,0,0,0,0,0,0,0,0,0,0,0,0,0,0,0,0,0,0,0,0,0,0,0,0,0,0,0,0,0,0,0,0,0,0,0,0,0,0,0,0,0,0,0,0,0,0,0,0,0,{"$f":"(TD78)*1","v":0},0,0,0,0,0,0,0,0,0,0,0,0,0,0,0,0,0,0,0,0,0,0,0,0,0,0,0,0,0,0,0,0,0,0,0,0,0]
[null,null,null,"Less: Interest on Default",null,null,null,null,"EUR",null,{"$f":"K92","v":0},{"$f":"L92","v":0},{"$f":"M92","v":0},{"$f":"N92","v":0},{"$f":"O92","v":0},{"$f":"P92","v":0},{"$f":"Q92","v":0},{"$f":"R92","v":0},{"$f":"S92","v":0},{"$f":"T92","v":0},{"$f":"U92","v":0},{"$f":"V92","v":0},{"$f":"W92","v":0},{"$f":"X92","v":0},{"$f":"Y92","v":0},{"$f":"Z92","v":0},{"$f":"AA92","v":0},{"$f":"AB92","v":0},{"$f":"AC92","v":0},{"$f":"AD92","v":0},{"$f":"AE92","v":0},{"$f":"AF92","v":0},{"$f":"AG92","v":0},{"$f":"AH92","v":0},{"$f":"AI92","v":0},{"$f":"AJ92","v":0},{"$f":"AK92","v":0},{"$f":"AL92","v":0},{"$f":"AM92","v":0},{"$f":"AN92","v":0},{"$f":"AO92","v":0},{"$f":"AP92","v":0},{"$f":"AQ92","v":0},{"$f":"AR92","v":0},{"$f":"AS92","v":0},{"$f":"AT92","v":0},{"$f":"AU92","v":0},{"$f":"AV92","v":0},{"$f":"AW92","v":0},{"$f":"AX92","v":0},{"$f":"AY92","v":0},{"$f":"AZ92","v":0},{"$f":"BA92","v":0},{"$f":"BB92","v":0},{"$f":"BC92","v":0},{"$f":"BD92","v":0},{"$f":"BE92","v":0},{"$f":"BF92","v":0},{"$f":"BG92","v":0},{"$f":"BH92","v":0},{"$f":"BI92","v":0},{"$f":"BJ92","v":0},{"$f":"BK92","v":0},{"$f":"BL92","v":0},{"$f":"BM92","v":0},{"$f":"BN92","v":0},{"$f":"BO92","v":0},{"$f":"BP92","v":0},{"$f":"BQ92","v":0},{"$f":"BR92","v":0},{"$f":"BS92","v":0},{"$f":"BT92","v":0},{"$f":"BU92","v":0},{"$f":"BV92","v":0},{"$f":"BW92","v":0},{"$f":"BX92","v":0},{"$f":"BY92","v":0},{"$f":"BZ92","v":0},{"$f":"CA92","v":0},{"$f":"CB92","v":0},{"$f":"CC92","v":0},{"$f":"CD92","v":0},{"$f":"CE92","v":0},{"$f":"CF92","v":0},{"$f":"CG92","v":0},{"$f":"CH92","v":0},{"$f":"CI92","v":0},{"$f":"CJ92","v":0},{"$f":"CK92","v":0},{"$f":"CL92","v":0},{"$f":"CM92","v":0},{"$f":"CN92","v":0},{"$f":"CO92","v":0},{"$f":"CP92","v":0},{"$f":"CQ92","v":0},{"$f":"CR92","v":0},{"$f":"CS92","v":0},{"$f":"CT92","v":0},{"$f":"CU92","v":0},{"$f":"CV92","v":0},{"$f":"CW92","v":0},{"$f":"CX92","v":0},{"$f":"CY92","v":0},{"$f":"CZ92","v":0},{"$f":"DA92","v":0},{"$f":"DB92","v":0},{"$f":"DC92","v":0},{"$f":"DD92","v":0},{"$f":"DE92","v":0},{"$f":"DF92","v":0},{"$f":"DG92","v":0},{"$f":"DH92","v":0},{"$f":"DI92","v":0},{"$f":"DJ92","v":0},{"$f":"DK92","v":0},{"$f":"DL92","v":0},{"$f":"DM92","v":0},{"$f":"DN92","v":0},{"$f":"DO92","v":0},{"$f":"DP92","v":0},{"$f":"DQ92","v":0},{"$f":"DR92","v":0},{"$f":"DS92","v":0},{"$f":"DT92","v":0},{"$f":"DU92","v":0},{"$f":"DV92","v":0},{"$f":"DW92","v":0},{"$f":"DX92","v":0},{"$f":"DY92","v":0},{"$f":"DZ92","v":0},{"$f":"EA92","v":0},{"$f":"EB92","v":0},{"$f":"EC92","v":0},{"$f":"ED92","v":0},{"$f":"EE92","v":0},{"$f":"EF92","v":0},{"$f":"EG92","v":0},{"$f":"EH92","v":0},{"$f":"EI92","v":0},{"$f":"EJ92","v":0},{"$f":"EK92","v":0},{"$f":"EL92","v":0},{"$f":"EM92","v":0},{"$f":"EN92","v":0},{"$f":"EO92","v":0},{"$f":"EP92","v":0},{"$f":"EQ92","v":0},{"$f":"ER92","v":0},{"$f":"ES92","v":0},{"$f":"ET92","v":0},{"$f":"EU92","v":0},{"$f":"EV92","v":0},{"$f":"EW92","v":0},{"$f":"EX92","v":0},{"$f":"EY92","v":0},{"$f":"EZ92","v":0},{"$f":"FA92","v":0},{"$f":"FB92","v":0},{"$f":"FC92","v":0},{"$f":"FD92","v":0},{"$f":"FE92","v":0},{"$f":"FF92","v":0},{"$f":"FG92","v":0},{"$f":"FH92","v":0},{"$f":"FI92","v":0},{"$f":"FJ92","v":0},{"$f":"FK92","v":0},{"$f":"FL92","v":0},{"$f":"FM92","v":0},{"$f":"FN92","v":0},{"$f":"FO92","v":0},{"$f":"FP92","v":0},{"$f":"FQ92","v":0},{"$f":"FR92","v":0},{"$f":"FS92","v":0},{"$f":"FT92","v":0},{"$f":"FU92","v":0},{"$f":"FV92","v":0},{"$f":"FW92","v":0},{"$f":"FX92","v":0},{"$f":"FY92","v":0},{"$f":"FZ92","v":0},{"$f":"GA92","v":0},{"$f":"GB92","v":0},{"$f":"GC92","v":0},{"$f":"GD92","v":0},{"$f":"GE92","v":0},{"$f":"GF92","v":0},{"$f":"GG92","v":0},{"$f":"GH92","v":0},{"$f":"GI92","v":0},{"$f":"GJ92","v":0},{"$f":"GK92","v":0},{"$f":"GL92","v":0},{"$f":"GM92","v":0},{"$f":"GN92","v":0},{"$f":"GO92","v":0},{"$f":"GP92","v":0},{"$f":"GQ92","v":0},{"$f":"GR92","v":0},{"$f":"GS92","v":0},{"$f":"GT92","v":0},{"$f":"GU92","v":0},{"$f":"GV92","v":0},{"$f":"GW92","v":0},{"$f":"GX92","v":0},{"$f":"GY92","v":0},{"$f":"GZ92","v":0},{"$f":"HA92","v":0},{"$f":"HB92","v":0},{"$f":"HC92","v":0},{"$f":"HD92","v":0},{"$f":"HE92","v":0},{"$f":"HF92","v":0},{"$f":"HG92","v":0},{"$f":"HH92","v":0},{"$f":"HI92","v":0},{"$f":"HJ92","v":0},{"$f":"HK92","v":0},{"$f":"HL92","v":0},{"$f":"HM92","v":0},{"$f":"HN92","v":0},{"$f":"HO92","v":0},{"$f":"HP92","v":0},{"$f":"HQ92","v":0},{"$f":"HR92","v":0},{"$f":"HS92","v":0},{"$f":"HT92","v":0},{"$f":"HU92","v":0},{"$f":"HV92","v":0},{"$f":"HW92","v":0},{"$f":"HX92","v":0},{"$f":"HY92","v":0},{"$f":"HZ92","v":0},{"$f":"IA92","v":0},{"$f":"IB92","v":0},{"$f":"IC92","v":0},{"$f":"ID92","v":0},{"$f":"IE92","v":0},{"$f":"IF92","v":0},{"$f":"IG92","v":0},{"$f":"IH92","v":0},{"$f":"II92","v":0},{"$f":"IJ92","v":0},{"$f":"IK92","v":0},{"$f":"IL92","v":0},{"$f":"IM92","v":0},{"$f":"IN92","v":0},{"$f":"IO92","v":0},{"$f":"IP92","v":0},{"$f":"IQ92","v":0},{"$f":"IR92","v":0},{"$f":"IS92","v":0},{"$f":"IT92","v":0},{"$f":"IU92","v":0},{"$f":"IV92","v":0},{"$f":"IW92","v":0},{"$f":"IX92","v":0},{"$f":"IY92","v":0},{"$f":"IZ92","v":0},{"$f":"JA92","v":0},{"$f":"JB92","v":0},{"$f":"JC92","v":0},{"$f":"JD92","v":0},{"$f":"JE92","v":0},{"$f":"JF92","v":0},{"$f":"JG92","v":0},{"$f":"JH92","v":0},{"$f":"JI92","v":0},{"$f":"JJ92","v":0},{"$f":"JK92","v":0},{"$f":"JL92","v":0},{"$f":"JM92","v":0},{"$f":"JN92","v":0},{"$f":"JO92","v":0},{"$f":"JP92","v":0},{"$f":"JQ92","v":0},{"$f":"JR92","v":0},{"$f":"JS92","v":0},{"$f":"JT92","v":0},{"$f":"JU92","v":0},{"$f":"JV92","v":0},{"$f":"JW92","v":0},{"$f":"JX92","v":0},{"$f":"JY92","v":0},{"$f":"JZ92","v":0},{"$f":"KA92","v":0},{"$f":"KB92","v":0},{"$f":"KC92","v":0},{"$f":"KD92","v":0},{"$f":"KE92","v":0},{"$f":"KF92","v":0},{"$f":"KG92","v":0},{"$f":"KH92","v":0},{"$f":"KI92","v":0},{"$f":"KJ92","v":0},{"$f":"KK92","v":0},{"$f":"KL92","v":0},{"$f":"KM92","v":0},{"$f":"KN92","v":0},{"$f":"KO92","v":0},{"$f":"KP92","v":0},{"$f":"KQ92","v":0},{"$f":"KR92","v":0},{"$f":"KS92","v":0},{"$f":"KT92","v":0},{"$f":"KU92","v":0},{"$f":"KV92","v":0},{"$f":"KW92","v":0},{"$f":"KX92","v":0},{"$f":"KY92","v":0},{"$f":"KZ92","v":0},{"$f":"LA92","v":0},{"$f":"LB92","v":0},{"$f":"LC92","v":0},{"$f":"LD92","v":0},{"$f":"LE92","v":0},{"$f":"LF92","v":0},{"$f":"LG92","v":0},{"$f":"LH92","v":0},{"$f":"LI92","v":0},{"$f":"LJ92","v":0},{"$f":"LK92","v":0},{"$f":"LL92","v":0},{"$f":"LM92","v":0},{"$f":"LN92","v":0},{"$f":"LO92","v":0},{"$f":"LP92","v":0},{"$f":"LQ92","v":0},{"$f":"LR92","v":0},{"$f":"LS92","v":0},{"$f":"LT92","v":0},{"$f":"LU92","v":0},{"$f":"LV92","v":0},{"$f":"LW92","v":0},{"$f":"LX92","v":0},{"$f":"LY92","v":0},{"$f":"LZ92","v":0},{"$f":"MA92","v":0},{"$f":"MB92","v":0},{"$f":"MC92","v":0},{"$f":"MD92","v":0},{"$f":"ME92","v":0},{"$f":"MF92","v":0},{"$f":"MG92","v":0},{"$f":"MH92","v":0},{"$f":"MI92","v":0},{"$f":"MJ92","v":0},{"$f":"MK92","v":0},{"$f":"ML92","v":0},{"$f":"MM92","v":0},{"$f":"MN92","v":0},{"$f":"MO92","v":0},{"$f":"MP92","v":0},{"$f":"MQ92","v":0},{"$f":"MR92","v":0},{"$f":"MS92","v":0},{"$f":"MT92","v":0},{"$f":"MU92","v":0},{"$f":"MV92","v":0},{"$f":"MW92","v":0},{"$f":"MX92","v":0},{"$f":"MY92","v":0},{"$f":"MZ92","v":0},{"$f":"NA92","v":0},{"$f":"NB92","v":0},{"$f":"NC92","v":0},{"$f":"ND92","v":0},{"$f":"NE92","v":0},{"$f":"NF92","v":0},{"$f":"NG92","v":0},{"$f":"NH92","v":0},{"$f":"NI92","v":0},{"$f":"NJ92","v":0},{"$f":"NK92","v":0},{"$f":"NL92","v":0},{"$f":"NM92","v":0},{"$f":"NN92","v":0},{"$f":"NO92","v":0},{"$f":"NP92","v":0},{"$f":"NQ92","v":0},{"$f":"NR92","v":0},{"$f":"NS92","v":0},{"$f":"NT92","v":0},{"$f":"NU92","v":0},{"$f":"NV92","v":0},{"$f":"NW92","v":0},{"$f":"NX92","v":0},{"$f":"NY92","v":0},{"$f":"NZ92","v":0},{"$f":"OA92","v":0},{"$f":"OB92","v":0},{"$f":"OC92","v":0},{"$f":"OD92","v":0},{"$f":"OE92","v":0},{"$f":"OF92","v":0},{"$f":"OG92","v":0},{"$f":"OH92","v":0},{"$f":"OI92","v":0},{"$f":"OJ92","v":0},{"$f":"OK92","v":0},{"$f":"OL92","v":0},{"$f":"OM92","v":0},{"$f":"ON92","v":0},{"$f":"OO92","v":0},{"$f":"OP92","v":0},{"$f":"OQ92","v":0},{"$f":"OR92","v":0},{"$f":"OS92","v":0},{"$f":"OT92","v":0},{"$f":"OU92","v":0},{"$f":"OV92","v":0},{"$f":"OW92","v":0},{"$f":"OX92","v":0},{"$f":"OY92","v":0},{"$f":"OZ92","v":0},{"$f":"PA92","v":0},{"$f":"PB92","v":0},{"$f":"PC92","v":0},{"$f":"PD92","v":0},{"$f":"PE92","v":0},{"$f":"PF92","v":0},{"$f":"PG92","v":0},{"$f":"PH92","v":0},{"$f":"PI92","v":0},{"$f":"PJ92","v":0},{"$f":"PK92","v":0},{"$f":"PL92","v":0},{"$f":"PM92","v":0},{"$f":"PN92","v":0},{"$f":"PO92","v":0},{"$f":"PP92","v":0},{"$f":"PQ92","v":0},{"$f":"PR92","v":0},{"$f":"PS92","v":0},{"$f":"PT92","v":0},{"$f":"PU92","v":0},{"$f":"PV92","v":0},{"$f":"PW92","v":0},{"$f":"PX92","v":0},{"$f":"PY92","v":0},{"$f":"PZ92","v":0},{"$f":"QA92","v":0},{"$f":"QB92","v":0},{"$f":"QC92","v":0},{"$f":"QD92","v":0},{"$f":"QE92","v":0},{"$f":"QF92","v":0},{"$f":"QG92","v":0},{"$f":"QH92","v":0},{"$f":"QI92","v":0},{"$f":"QJ92","v":0},{"$f":"QK92","v":0},{"$f":"QL92","v":0},{"$f":"QM92","v":0},{"$f":"QN92","v":0},{"$f":"QO92","v":0},{"$f":"QP92","v":0},{"$f":"QQ92","v":0},{"$f":"QR92","v":0},{"$f":"QS92","v":0},{"$f":"QT92","v":0},{"$f":"QU92","v":0},{"$f":"QV92","v":0},{"$f":"QW92","v":0},{"$f":"QX92","v":0},{"$f":"QY92","v":0},{"$f":"QZ92","v":0},{"$f":"RA92","v":0},{"$f":"RB92","v":0},{"$f":"RC92","v":0},{"$f":"RD92","v":0},{"$f":"RE92","v":0},{"$f":"RF92","v":0},{"$f":"RG92","v":0},{"$f":"RH92","v":0},{"$f":"RI92","v":0},{"$f":"RJ92","v":0},{"$f":"RK92","v":0},{"$f":"RL92","v":0},{"$f":"RM92","v":0},{"$f":"RN92","v":0},{"$f":"RO92","v":0},{"$f":"RP92","v":0},{"$f":"RQ92","v":0},{"$f":"RR92","v":0},{"$f":"RS92","v":0},{"$f":"RT92","v":0},{"$f":"RU92","v":0},{"$f":"RV92","v":0},{"$f":"RW92","v":0},{"$f":"RX92","v":0},{"$f":"RY92","v":0},{"$f":"RZ92","v":0},{"$f":"SA92","v":0},{"$f":"SB92","v":0},{"$f":"SC92","v":0},{"$f":"SD92","v":0},{"$f":"SE92","v":0},{"$f":"SF92","v":0},{"$f":"SG92","v":0},{"$f":"SH92","v":0},{"$f":"SI92","v":0},{"$f":"SJ92","v":0},{"$f":"SK92","v":0},{"$f":"SL92","v":0},{"$f":"SM92","v":0},{"$f":"SN92","v":0},{"$f":"SO92","v":0},{"$f":"SP92","v":0},{"$f":"SQ92","v":0},{"$f":"SR92","v":0},{"$f":"SS92","v":0},{"$f":"ST92","v":0},{"$f":"SU92","v":0},{"$f":"SV92","v":0},{"$f":"SW92","v":0},{"$f":"SX92","v":0},{"$f":"SY92","v":0},{"$f":"SZ92","v":0},{"$f":"TA92","v":0},{"$f":"TB92","v":0},{"$f":"TC92","v":0},{"$f":"TD92","v":0},{"$f":"TE92","v":0},{"$f":"TF92","v":0},{"$f":"TG92","v":0},{"$f":"TH92","v":0},{"$f":"TI92","v":0},{"$f":"TJ92","v":0},{"$f":"TK92","v":0},{"$f":"TL92","v":0},{"$f":"TM92","v":0},{"$f":"TN92","v":0},{"$f":"TO92","v":0},{"$f":"TP92","v":0},{"$f":"TQ92","v":0},{"$f":"TR92","v":0},{"$f":"TS92","v":0},{"$f":"TT92","v":0},{"$f":"TU92","v":0},{"$f":"TV92","v":0},{"$f":"TW92","v":0},{"$f":"TX92","v":0},{"$f":"TY92","v":0},{"$f":"TZ92","v":0},{"$f":"UA92","v":0},{"$f":"UB92","v":0},{"$f":"UC92","v":0},{"$f":"UD92","v":0},{"$f":"UE92","v":0},{"$f":"UF92","v":0},{"$f":"UG92","v":0},{"$f":"UH92","v":0},{"$f":"UI92","v":0},{"$f":"UJ92","v":0},{"$f":"UK92","v":0},{"$f":"UL92","v":0},{"$f":"UM92","v":0},{"$f":"UN92","v":0},{"$f":"UO92","v":0}]
[null,null,null,"Cash Flow After Debt Service",null,null,null,null,"EUR",null,{"$f":"K96-K97-K98","v":0},{"$f":"L96-L97-L98","v":0},0,0,0,0,0,0,0,0,0,0,0,0,0,0,0,0,0,0,0,0,0,0,35600,33266.666666666664,33266.666666666664,33266.666666666664,33266.666666666664,33266.666666666664,22066.666666666672,42125,42125,42125,42125,42125,13325.000000000004,33383.333333333336,33383.333333333336,33383.333333333336,33383.333333333336,33383.333333333336,22183.333333333336,42241.666666666664,42241.666666666664,42241.666666666664,42241.666666666664,42241.666666666664,13441.666666666672,33500,33500,33500,33500,33500,22300.000000000004,42358.333333333336,42358.333333333336,42358.333333333336,42358.333333333336,42358.333333333336,13558.333333333336,33616.666666666664,33616.666666666664,33616.666666666664,33616.666666666664,{"$f":"BX96-BX97-BX98","v":33616.666666666664},22416.666666666672,42475,42475,42475,42475,42475,13675.000000000004,33733.333333333336,33733.333333333336,33733.333333333336,33733.333333333336,33733.333333333336,22533.333333333336,42591.666666666664,42591.666666666664,42591.666666666664,42591.666666666664,42591.666666666664,13791.666666666672,33850,33850,33850,33850,33850,22650.000000000004,42708.333333333336,42708.333333333336,42708.333333333336,42708.333333333336,42708.333333333336,13908.333333333336,33966.666666666664,33966.666666666664,33966.666666666664,33966.666666666664,33966.666666666664,22766.666666666672,42825,42825,42825,42825,42825,14025.000000000004,34083.333333333336,34083.333333333336,34083.333333333336,34083.333333333336,34083.333333333336,22883.333333333336,42941.666666666664,42941.666666666664,42941.666666666664,42941.666666666664,42941.666666666664,14141.666666666672,34200,34200,34200,34200,34200,23000.000000000004,43058.333333333336,43058.333333333336,{"$f":"EJ96-EJ97-EJ98","v":43058.333333333336},43058.333333333336,43058.333333333336,14258.333333333336,34316.666666666664,34316.666666666664,34316.666666666664,34316.666666666664,34316.666666666664,23116.666666666672,43175,43175,43175,43175,43175,14375.000000000004,34433.333333333336,34433.333333333336,34433.333333333336,34433.333333333336,34433.333333333336,23233.333333333336,43291.666666666664,43291.666666666664,43291.666666666664,43291.666666666664,43291.666666666664,14491.666666666672,34550,34550,34550,34550,34550,23350.000000000004,43408.333333333336,43408.333333333336,43408.333333333336,43408.333333333336,43408.333333333336,14608.333333333336,34666.666666666664,34666.666666666664,34666.666666666664,34666.666666666664,34666.666666666664,23466.666666666672,43525,43525,43525,43525,43525,14725.000000000004,34783.333333333336,34783.333333333336,34783.333333333336,34783.333333333336,34783.333333333336,23583.333333333336,43641.666666666664,43641.666666666664,43641.666666666664,43641.666666666664,43641.666666666664,14841.666666666672,{"$f":"GV96-GV97-GV98","v":34900},34900,34900,34900,34900,23700.000000000004,43758.333333333336,43758.333333333336,43758.333333333336,43758.333333333336,43758.333333333336,14958.333333333336,35016.666666666664,35016.666666666664,35016.666666666664,35016.666666666664,35016.666666666664,23816.666666666672,43875,43875,43875,43875,43875,15075.000000000004,35133.333333333336,35133.333333333336,35133.333333333336,35133.333333333336,35133.333333333336,23933.333333333339,43991.666666666664,43991.666666666664,43991.666666666664,43991.666666666664,43991.666666666664,15191.666666666672,35250,35250,35250,35250,35250,24050.000000000004,44108.333333333336,44108.333333333336,44108.333333333336,44108.333333333336,44108.333333333336,15308.333333333339,35366.666666666664,35366.666666666664,35366.666666666664,35366.666666666664,35366.666666666664,24166.666666666672,44225,44225,44225,44225,44225,15425.000000000004,35483.333333333336,35483.333333333336,35483.333333333336,35483.333333333336,{"$f":"JH96-JH97-JH98","v":35483.333333333336},24283.333333333339,44341.666666666664,44341.666666666664,44341.666666666664,44341.666666666664,44341.666666666664,15541.666666666672,35600,35600,35600,35600,35600,44400,44400,44400,44400,44400,44400,35600,35600,35600,35600,35600,35600,44400,44400,44400,44400,44400,44400,35600,35600,35600,35600,35600,35600,44400,44400,44400,44400,44400,44400,35600,35600,35600,35600,35600,35600,44400,44400,44400,44400,44400,44400,35600,35600,35600,35600,35600,35600,44400,44400,44400,{"$f":"LT96-LT97-LT98","v":44400},44400,44400,35600,35600,35600,35600,35600,35600,44400,44400,44400,44400,44400,44400,35600,35600,35600,35600,35600,35600,44400,44400,44400,44400,44400,44400,35600,35600,35600,35600,35600,35600,44400,44400,44400,44400,44400,44400,35600,35600,35600,35600,35600,35600,44400,44400,44400,44400,44400,44400,35600,35600,35600,35600,35600,35600,44400,44400,44400,44400,44400,44400,35600,{"$f":"OF96-OF97-OF98","v":35600},35600,35600,35600,35600,44400,44400,44400,44400,44400,44400,35600,35600,35600,35600,35600,35600,44400,44400,44400,44400,44400,44400,35600,35600,35600,35600,35600,35600,44400,44400,44400,44400,44400,44400,35600,35600,35600,35600,35600,35600,44400,44400,44400,44400,44400,44400,35600,35600,35600,35600,35600,35600,44400,44400,44400,44400,44400,44400,35600,35600,35600,35600,35600,{"$f":"QR96-QR97-QR98","v":35600},44400,44400,44400,44400,44400,44400,35600,35600,35600,35600,35600,35600,44400,44400,44400,44400,44400,44400,35600,35600,35600,35600,35600,35600,44400,44400,44400,44400,44400,44400,35600,35600,35600,35600,35600,35600,44400,44400,44400,44400,44400,44400,35600,35600,35600,35600,35600,35600,44400,44400,44400,44400,44400,44400,10800,10800,10800,10800,10800,10800,10800,10800,10800,{"$f":"TD96-TD97-TD98","v":10800},10800,10800,10800,10800,10800,10800,10800,10800,10800,10800,10800,10800,10800,10800,10800,10800,10800,10800,10800,10800,10800,10800,10800,10800,10800,10800,10800,10800,10800,10800,10800,10800,10800,10800,10800,10800,10800]
[null,null,null,"Add: Default",null,null,null,null,"EUR",null,{"$f":"MAX(-K99,0)","v":0},{"$f":"MAX(-L99,0)","v":0},0,0,0,0,0,0,0,0,0,0,0,0,0,0,0,0,0,0,0,0,0,0,0,0,0,0,0,0,0,0,0,0,0,0,0,0,0,0,0,0,0,0,0,0,0,0,0,0,0,0,0,0,0,0,0,0,0,0,0,0,0,0,0,{"$f":"MAX(-BX99,0)","v":0},0,0,0,0,0,0,0,0,0,0,0,0,0,0,0,0,0,0,0,0,0,0,0,0,0,0,0,0,0,0,0,0,0,0,0,0,0,0,0,0,0,0,0,0,0,0,0,0,0,0,0,0,0,0,0,0,0,0,0,0,0,0,0,{"$f":"MAX(-EJ99,0)","v":0},0,0,0,0,0,0,0,0,0,0,0,0,0,0,0,0,0,0,0,0,0,0,0,0,0,0,0,0,0,0,0,0,0,0,0,0,0,0,0,0,0,0,0,0,0,0,0,0,0,0,0,0,0,0,0,0,0,0,0,0,0,0,0,{"$f":"MAX(-GV99,0)","v":0},0,0,0,0,0,0,0,0,0,0,0,0,0,0,0,0,0,0,0,0,0,0,0,0,0,0,0,0,0,0,0,0,0,0,0,0,0,0,0,0,0,0,0,0,0,0,0,0,0,0,0,0,0,0,0,0,0,0,0,0,0,0,0,{"$f":"MAX(-JH99,0)","v":0},0,0,0,0,0,0,0,0,0,0,0,0,0,0,0,0,0,0,0,0,0,0,0,0,0,0,0,0,0,0,0,0,0,0,0,0,0,0,0,0,0,0,0,0,0,0,0,0,0,0,0,0,0,0,0,0,0,0,0,0,0,0,0,{"$f":"MAX(-LT99,0)","v":0},0,0,0,0,0,0,0,0,0,0,0,0,0,0,0,0,0,0,0,0,0,0,0,0,0,0,0,0,0,0,0,0,0,0,0,0,0,0,0,0,0,0,0,0,0,0,0,0,0,0,0,0,0,0,0,0,0,0,0,0,0,0,0,{"$f":"MAX(-OF99,0)","v":0},0,0,0,0,0,0,0,0,0,0,0,0,0,0,0,0,0,0,0,0,0,0,0,0,0,0,0,0,0,0,0,0,0,0,0,0,0,0,0,0,0,0,0,0,0,0,0,0,0,0,0,0,0,0,0,0,0,0,0,0,0,0,0,{"$f":"MAX(-QR99,0)","v":0},0,0,0,0,0,0,0,0,0,0,0,0,0,0,0,0,0,0,0,0,0,0,0,0,0,0,0,0,0,0,0,0,0,0,0,0,0,0,0,0,0,0,0,0,0,0,0,0,0,0,0,0,0,0,0,0,0,0,0,0,0,0,0,{"$f":"MAX(-TD99,0)","v":0},0,0,0,0,0,0,0,0,0,0,0,0,0,0,0,0,0,0,0,0,0,0,0,0,0,0,0,0,0,0,0,0,0,0,0,0,0]
[null,null,null,"Less: Repayment of Default",null,null,null,null,"EUR",null,{"$f":"MIN(MAX(K99,0),K88)","v":0},{"$f":"MIN(MAX(L99,0),L88)","v":0},{"$f":"MIN(MAX(M99,0),M88)","v":0},{"$f":"MIN(MAX(N99,0),N88)","v":0},{"$f":"MIN(MAX(O99,0),O88)","v":0},{"$f":"MIN(MAX(P99,0),P88)","v":0},{"$f":"MIN(MAX(Q99,0),Q88)","v":0},{"$f":"MIN(MAX(R99,0),R88)","v":0},{"$f":"MIN(MAX(S99,0),S88)","v":0},{"$f":"MIN(MAX(T99,0),T88)","v":0},{"$f":"MIN(MAX(U99,0),U88)","v":0},{"$f":"MIN(MAX(V99,0),V88)","v":0},{"$f":"MIN(MAX(W99,0),W88)","v":0},{"$f":"MIN(MAX(X99,0),X88)","v":0},{"$f":"MIN(MAX(Y99,0),Y88)","v":0},{"$f":"MIN(MAX(Z99,0),Z88)","v":0},{"$f":"MIN(MAX(AA99,0),AA88)","v":0},{"$f":"MIN(MAX(AB99,0),AB88)","v":0},{"$f":"MIN(MAX(AC99,0),AC88)","v":0},{"$f":"MIN(MAX(AD99,0),AD88)","v":0},{"$f":"MIN(MAX(AE99,0),AE88)","v":0},{"$f":"MIN(MAX(AF99,0),AF88)","v":0},{"$f":"MIN(MAX(AG99,0),AG88)","v":0},{"$f":"MIN(MAX(AH99,0),AH88)","v":0},{"$f":"MIN(MAX(AI99,0),AI88)","v":35600},{"$f":"MIN(MAX(AJ99,0),AJ88)","v":33266.666666666664},{"$f":"MIN(MAX(AK99,0),AK88)","v":33266.666666666664},{"$f":"MIN(MAX(AL99,0),AL88)","v":33266.666666666664},{"$f":"MIN(MAX(AM99,0),AM88)","v":33266.666666666664},{"$f":"MIN(MAX(AN99,0),AN88)","v":33266.666666666664},{"$f":"MIN(MAX(AO99,0),AO88)","v":22066.666666666672},{"$f":"MIN(MAX(AP99,0),AP88)","v":42125},{"$f":"MIN(MAX(AQ99,0),AQ88)","v":42125},{"$f":"MIN(MAX(AR99,0),AR88)","v":42125},{"$f":"MIN(MAX(AS99,0),AS88)","v":42125},{"$f":"MIN(MAX(AT99,0),AT88)","v":42125},{"$f":"MIN(MAX(AU99,0),AU88)","v":13325.000000000004},{"$f":"MIN(MAX(AV99,0),AV88)","v":33383.333333333336},{"$f":"MIN(MAX(AW99,0),AW88)","v":33383.333333333336},{"$f":"MIN(MAX(AX99,0),AX88)","v":33383.333333333336},{"$f":"MIN(MAX(AY99,0),AY88)","v":33383.333333333336},{"$f":"MIN(MAX(AZ99,0),AZ88)","v":33383.333333333336},{"$f":"MIN(MAX(BA99,0),BA88)","v":22183.333333333336},{"$f":"MIN(MAX(BB99,0),BB88)","v":42241.666666666664},{"$f":"MIN(MAX(BC99,0),BC88)","v":42241.666666666664},{"$f":"MIN(MAX(BD99,0),BD88)","v":42241.666666666664},{"$f":"MIN(MAX(BE99,0),BE88)","v":42241.666666666664},{"$f":"MIN(MAX(BF99,0),BF88)","v":42241.666666666664},{"$f":"MIN(MAX(BG99,0),BG88)","v":13441.666666666672},{"$f":"MIN(MAX(BH99,0),BH88)","v":33500},{"$f":"MIN(MAX(BI99,0),BI88)","v":33500},{"$f":"MIN(MAX(BJ99,0),BJ88)","v":33500},{"$f":"MIN(MAX(BK99,0),BK88)","v":33500},{"$f":"MIN(MAX(BL99,0),BL88)","v":33500},{"$f":"MIN(MAX(BM99,0),BM88)","v":22300.000000000004},{"$f":"MIN(MAX(BN99,0),BN88)","v":42358.333333333336},{"$f":"MIN(MAX(BO99,0),BO88)","v":42358.333333333336},{"$f":"MIN(MAX(BP99,0),BP88)","v":42358.333333333336},{"$f":"MIN(MAX(BQ99,0),BQ88)","v":42358.333333333336},{"$f":"MIN(MAX(BR99,0),BR88)","v":42358.333333333336},{"$f":"MIN(MAX(BS99,0),BS88)","v":13558.333333333336},{"$f":"MIN(MAX(BT99,0),BT88)","v":33616.666666666664},{"$f":"MIN(MAX(BU99,0),BU88)","v":33616.666666666664},{"$f":"MIN(MAX(BV99,0),BV88)","v":33616.666666666664},{"$f":"MIN(MAX(BW99,0),BW88)","v":33616.666666666664},{"$f":"MIN(MAX(BX99,0),BX88)","v":33616.666666666664},{"$f":"MIN(MAX(BY99,0),BY88)","v":22416.666666666672},{"$f":"MIN(MAX(BZ99,0),BZ88)","v":42475},{"$f":"MIN(MAX(CA99,0),CA88)","v":42475},{"$f":"MIN(MAX(CB99,0),CB88)","v":42475},{"$f":"MIN(MAX(CC99,0),CC88)","v":42475},{"$f":"MIN(MAX(CD99,0),CD88)","v":42475},{"$f":"MIN(MAX(CE99,0),CE88)","v":13675.000000000004},{"$f":"MIN(MAX(CF99,0),CF88)","v":33733.333333333336},{"$f":"MIN(MAX(CG99,0),CG88)","v":33733.333333333336},{"$f":"MIN(MAX(CH99,0),CH88)","v":33733.333333333336},{"$f":"MIN(MAX(CI99,0),CI88)","v":33733.333333333336},{"$f":"MIN(MAX(CJ99,0),CJ88)","v":33733.333333333336},{"$f":"MIN(MAX(CK99,0),CK88)","v":22533.333333333336},{"$f":"MIN(MAX(CL99,0),CL88)","v":42591.666666666664},{"$f":"MIN(MAX(CM99,0),CM88)","v":42591.666666666664},{"$f":"MIN(MAX(CN99,0),CN88)","v":42591.666666666664},{"$f":"MIN(MAX(CO99,0),CO88)","v":42591.666666666664},{"$f":"MIN(MAX(CP99,0),CP88)","v":42591.666666666664},{"$f":"MIN(MAX(CQ99,0),CQ88)","v":13791.666666666672},{"$f":"MIN(MAX(CR99,0),CR88)","v":33850},{"$f":"MIN(MAX(CS99,0),CS88)","v":33850},{"$f":"MIN(MAX(CT99,0),CT88)","v":33850},{"$f":"MIN(MAX(CU99,0),CU88)","v":33850},{"$f":"MIN(MAX(CV99,0),CV88)","v":33850},{"$f":"MIN(MAX(CW99,0),CW88)","v":22650.000000000004},{"$f":"MIN(MAX(CX99,0),CX88)","v":42708.333333333336},{"$f":"MIN(MAX(CY99,0),CY88)","v":42708.333333333336},{"$f":"MIN(MAX(CZ99,0),CZ88)","v":42708.333333333336},{"$f":"MIN(MAX(DA99,0),DA88)","v":42708.333333333336},{"$f":"MIN(MAX(DB99,0),DB88)","v":42708.333333333336},{"$f":"MIN(MAX(DC99,0),DC88)","v":13908.333333333336},{"$f":"MIN(MAX(DD99,0),DD88)","v":33966.666666666664},{"$f":"MIN(MAX(DE99,0),DE88)","v":33966.666666666664},{"$f":"MIN(MAX(DF99,0),DF88)","v":33966.666666666664},{"$f":"MIN(MAX(DG99,0),DG88)","v":33966.666666666664},{"$f":"MIN(MAX(DH99,0),DH88)","v":33966.666666666664},{"$f":"MIN(MAX(DI99,0),DI88)","v":22766.666666666672},{"$f":"MIN(MAX(DJ99,0),DJ88)","v":42825},{"$f":"MIN(MAX(DK99,0),DK88)","v":42825},{"$f":"MIN(MAX(DL99,0),DL88)","v":42825},{"$f":"MIN(MAX(DM99,0),DM88)","v":42825},{"$f":"MIN(MAX(DN99,0),DN88)","v":42825},{"$f":"MIN(MAX(DO99,0),DO88)","v":14025.000000000004},{"$f":"MIN(MAX(DP99,0),DP88)","v":34083.333333333336},{"$f":"MIN(MAX(DQ99,0),DQ88)","v":34083.333333333336},{"$f":"MIN(MAX(DR99,0),DR88)","v":34083.333333333336},{"$f":"MIN(MAX(DS99,0),DS88)","v":34083.333333333336},{"$f":"MIN(MAX(DT99,0),DT88)","v":34083.333333333336},{"$f":"MIN(MAX(DU99,0),DU88)","v":22883.333333333336},{"$f":"MIN(MAX(DV99,0),DV88)","v":42941.666666666664},{"$f":"MIN(MAX(DW99,0),DW88)","v":42941.666666666664},{"$f":"MIN(MAX(DX99,0),DX88)","v":42941.666666666664},{"$f":"MIN(MAX(DY99,0),DY88)","v":42941.666666666664},{"$f":"MIN(MAX(DZ99,0),DZ88)","v":42941.666666666664},{"$f":"MIN(MAX(EA99,0),EA88)","v":14141.666666666672},{"$f":"MIN(MAX(EB99,0),EB88)","v":34200},{"$f":"MIN(MAX(EC99,0),EC88)","v":34200},{"$f":"MIN(MAX(ED99,0),ED88)","v":34200},{"$f":"MIN(MAX(EE99,0),EE88)","v":34200},{"$f":"MIN(MAX(EF99,0),EF88)","v":34200},{"$f":"MIN(MAX(EG99,0),EG88)","v":23000.000000000004},{"$f":"MIN(MAX(EH99,0),EH88)","v":43058.333333333336},{"$f":"MIN(MAX(EI99,0),EI88)","v":43058.333333333336},{"$f":"MIN(MAX(EJ99,0),EJ88)","v":43058.333333333336},{"$f":"MIN(MAX(EK99,0),EK88)","v":43058.333333333336},{"$f":"MIN(MAX(EL99,0),EL88)","v":43058.333333333336},{"$f":"MIN(MAX(EM99,0),EM88)","v":14258.333333333336},{"$f":"MIN(MAX(EN99,0),EN88)","v":34316.666666666664},{"$f":"MIN(MAX(EO99,0),EO88)","v":34316.666666666664},{"$f":"MIN(MAX(EP99,0),EP88)","v":34316.666666666664},{"$f":"MIN(MAX(EQ99,0),EQ88)","v":34316.666666666664},{"$f":"MIN(MAX(ER99,0),ER88)","v":34316.666666666664},{"$f":"MIN(MAX(ES99,0),ES88)","v":23116.666666666672},{"$f":"MIN(MAX(ET99,0),ET88)","v":43175},{"$f":"MIN(MAX(EU99,0),EU88)","v":43175},{"$f":"MIN(MAX(EV99,0),EV88)","v":43175},{"$f":"MIN(MAX(EW99,0),EW88)","v":43175},{"$f":"MIN(MAX(EX99,0),EX88)","v":43175},{"$f":"MIN(MAX(EY99,0),EY88)","v":14375.000000000004},{"$f":"MIN(MAX(EZ99,0),EZ88)","v":34433.333333333336},{"$f":"MIN(MAX(FA99,0),FA88)","v":34433.333333333336},{"$f":"MIN(MAX(FB99,0),FB88)","v":34433.333333333336},{"$f":"MIN(MAX(FC99,0),FC88)","v":34433.333333333336},{"$f":"MIN(MAX(FD99,0),FD88)","v":34433.333333333336},{"$f":"MIN(MAX(FE99,0),FE88)","v":23233.333333333336},{"$f":"MIN(MAX(FF99,0),FF88)","v":43291.666666666664},{"$f":"MIN(MAX(FG99,0),FG88)","v":43291.666666666664},{"$f":"MIN(MAX(FH99,0),FH88)","v":43291.666666666664},{"$f":"MIN(MAX(FI99,0),FI88)","v":43291.666666666664},{"$f":"MIN(MAX(FJ99,0),FJ88)","v":43291.666666666664},{"$f":"MIN(MAX(FK99,0),FK88)","v":14491.666666666672},{"$f":"MIN(MAX(FL99,0),FL88)","v":34550},{"$f":"MIN(MAX(FM99,0),FM88)","v":34550},{"$f":"MIN(MAX(FN99,0),FN88)","v":34550},{"$f":"MIN(MAX(FO99,0),FO88)","v":34550},{"$f":"MIN(MAX(FP99,0),FP88)","v":34550},{"$f":"MIN(MAX(FQ99,0),FQ88)","v":23350.000000000004},{"$f":"MIN(MAX(FR99,0),FR88)","v":43408.333333333336},{"$f":"MIN(MAX(FS99,0),FS88)","v":43408.333333333336},{"$f":"MIN(MAX(FT99,0),FT88)","v":43408.333333333336},{"$f":"MIN(MAX(FU99,0),FU88)","v":43408.333333333336},{"$f":"MIN(MAX(FV99,0),FV88)","v":43408.333333333336},{"$f":"MIN(MAX(FW99,0),FW88)","v":14608.333333333336},{"$f":"MIN(MAX(FX99,0),FX88)","v":34666.666666666664},{"$f":"MIN(MAX(FY99,0),FY88)","v":34666.666666666664},{"$f":"MIN(MAX(FZ99,0),FZ88)","v":34666.666666666664},{"$f":"MIN(MAX(GA99,0),GA88)","v":34666.666666666664},{"$f":"MIN(MAX(GB99,0),GB88)","v":34666.666666666664},{"$f":"MIN(MAX(GC99,0),GC88)","v":23466.666666666672},{"$f":"MIN(MAX(GD99,0),GD88)","v":43525},{"$f":"MIN(MAX(GE99,0),GE88)","v":43525},{"$f":"MIN(MAX(GF99,0),GF88)","v":43525},{"$f":"MIN(MAX(GG99,0),GG88)","v":43525},{"$f":"MIN(MAX(GH99,0),GH88)","v":43525},{"$f":"MIN(MAX(GI99,0),GI88)","v":14725.000000000004},{"$f":"MIN(MAX(GJ99,0),GJ88)","v":34783.333333333336},{"$f":"MIN(MAX(GK99,0),GK88)","v":34783.333333333336},{"$f":"MIN(MAX(GL99,0),GL88)","v":34783.333333333336},{"$f":"MIN(MAX(GM99,0),GM88)","v":34783.333333333336},{"$f":"MIN(MAX(GN99,0),GN88)","v":34783.333333333336},{"$f":"MIN(MAX(GO99,0),GO88)","v":23583.333333333336},{"$f":"MIN(MAX(GP99,0),GP88)","v":43641.666666666664},{"$f":"MIN(MAX(GQ99,0),GQ88)","v":43641.666666666664},{"$f":"MIN(MAX(GR99,0),GR88)","v":43641.666666666664},{"$f":"MIN(MAX(GS99,0),GS88)","v":43641.666666666664},{"$f":"MIN(MAX(GT99,0),GT88)","v":43641.666666666664},{"$f":"MIN(MAX(GU99,0),GU88)","v":14841.666666666672},{"$f":"MIN(MAX(GV99,0),GV88)","v":34900},{"$f":"MIN(MAX(GW99,0),GW88)","v":34900},{"$f":"MIN(MAX(GX99,0),GX88)","v":34900},{"$f":"MIN(MAX(GY99,0),GY88)","v":34900},{"$f":"MIN(MAX(GZ99,0),GZ88)","v":34900},{"$f":"MIN(MAX(HA99,0),HA88)","v":23700.000000000004},{"$f":"MIN(MAX(HB99,0),HB88)","v":43758.333333333336},{"$f":"MIN(MAX(HC99,0),HC88)","v":43758.333333333336},{"$f":"MIN(MAX(HD99,0),HD88)","v":43758.333333333336},{"$f":"MIN(MAX(HE99,0),HE88)","v":43758.333333333336},{"$f":"MIN(MAX(HF99,0),HF88)","v":43758.333333333336},{"$f":"MIN(MAX(HG99,0),HG88)","v":14958.333333333336},{"$f":"MIN(MAX(HH99,0),HH88)","v":35016.666666666664},{"$f":"MIN(MAX(HI99,0),HI88)","v":35016.666666666664},{"$f":"MIN(MAX(HJ99,0),HJ88)","v":35016.666666666664},{"$f":"MIN(MAX(HK99,0),HK88)","v":35016.666666666664},{"$f":"MIN(MAX(HL99,0),HL88)","v":35016.666666666664},{"$f":"MIN(MAX(HM99,0),HM88)","v":23816.666666666672},{"$f":"MIN(MAX(HN99,0),HN88)","v":43875},{"$f":"MIN(MAX(HO99,0),HO88)","v":43875},{"$f":"MIN(MAX(HP99,0),HP88)","v":43875},{"$f":"MIN(MAX(HQ99,0),HQ88)","v":43875},{"$f":"MIN(MAX(HR99,0),HR88)","v":43875},{"$f":"MIN(MAX(HS99,0),HS88)","v":15075.000000000004},{"$f":"MIN(MAX(HT99,0),HT88)","v":35133.333333333336},{"$f":"MIN(MAX(HU99,0),HU88)","v":35133.333333333336},{"$f":"MIN(MAX(HV99,0),HV88)","v":35133.333333333336},{"$f":"MIN(MAX(HW99,0),HW88)","v":35133.333333333336},{"$f":"MIN(MAX(HX99,0),HX88)","v":35133.333333333336},{"$f":"MIN(MAX(HY99,0),HY88)","v":23933.333333333339},{"$f":"MIN(MAX(HZ99,0),HZ88)","v":43991.666666666664},{"$f":"MIN(MAX(IA99,0),IA88)","v":43991.666666666664},{"$f":"MIN(MAX(IB99,0),IB88)","v":43991.666666666664},{"$f":"MIN(MAX(IC99,0),IC88)","v":43991.666666666664},{"$f":"MIN(MAX(ID99,0),ID88)","v":43991.666666666664},{"$f":"MIN(MAX(IE99,0),IE88)","v":15191.666666666672},{"$f":"MIN(MAX(IF99,0),IF88)","v":35250},{"$f":"MIN(MAX(IG99,0),IG88)","v":35250},{"$f":"MIN(MAX(IH99,0),IH88)","v":35250},{"$f":"MIN(MAX(II99,0),II88)","v":35250},{"$f":"MIN(MAX(IJ99,0),IJ88)","v":35250},{"$f":"MIN(MAX(IK99,0),IK88)","v":24050.000000000004},{"$f":"MIN(MAX(IL99,0),IL88)","v":44108.333333333336},{"$f":"MIN(MAX(IM99,0),IM88)","v":44108.333333333336},{"$f":"MIN(MAX(IN99,0),IN88)","v":44108.333333333336},{"$f":"MIN(MAX(IO99,0),IO88)","v":44108.333333333336},{"$f":"MIN(MAX(IP99,0),IP88)","v":44108.333333333336},{"$f":"MIN(MAX(IQ99,0),IQ88)","v":15308.333333333339},{"$f":"MIN(MAX(IR99,0),IR88)","v":35366.666666666664},{"$f":"MIN(MAX(IS99,0),IS88)","v":35366.666666666664},{"$f":"MIN(MAX(IT99,0),IT88)","v":35366.666666666664},{"$f":"MIN(MAX(IU99,0),IU88)","v":35366.666666666664},{"$f":"MIN(MAX(IV99,0),IV88)","v":35366.666666666664},{"$f":"MIN(MAX(IW99,0),IW88)","v":24166.666666666672},{"$f":"MIN(MAX(IX99,0),IX88)","v":44225},{"$f":"MIN(MAX(IY99,0),IY88)","v":44225},{"$f":"MIN(MAX(IZ99,0),IZ88)","v":44225},{"$f":"MIN(MAX(JA99,0),JA88)","v":44225},{"$f":"MIN(MAX(JB99,0),JB88)","v":44225},{"$f":"MIN(MAX(JC99,0),JC88)","v":15425.000000000004},{"$f":"MIN(MAX(JD99,0),JD88)","v":35483.333333333336},{"$f":"MIN(MAX(JE99,0),JE88)","v":35483.333333333336},{"$f":"MIN(MAX(JF99,0),JF88)","v":35483.333333333336},{"$f":"MIN(MAX(JG99,0),JG88)","v":35483.333333333336},{"$f":"MIN(MAX(JH99,0),JH88)","v":35483.333333333336},{"$f":"MIN(MAX(JI99,0),JI88)","v":24283.333333333339},{"$f":"MIN(MAX(JJ99,0),JJ88)","v":44341.666666666664},{"$f":"MIN(MAX(JK99,0),JK88)","v":44341.666666666664},{"$f":"MIN(MAX(JL99,0),JL88)","v":44341.666666666664},{"$f":"MIN(MAX(JM99,0),JM88)","v":44341.666666666664},{"$f":"MIN(MAX(JN99,0),JN88)","v":44341.666666666664},{"$f":"MIN(MAX(JO99,0),JO88)","v":15541.666666666672},{"$f":"MIN(MAX(JP99,0),JP88)","v":35600},{"$f":"MIN(MAX(JQ99,0),JQ88)","v":35600},{"$f":"MIN(MAX(JR99,0),JR88)","v":35600},{"$f":"MIN(MAX(JS99,0),JS88)","v":35600},{"$f":"MIN(MAX(JT99,0),JT88)","v":35600},{"$f":"MIN(MAX(JU99,0),JU88)","v":44400},{"$f":"MIN(MAX(JV99,0),JV88)","v":44400},{"$f":"MIN(MAX(JW99,0),JW88)","v":44400},{"$f":"MIN(MAX(JX99,0),JX88)","v":44400},{"$f":"MIN(MAX(JY99,0),JY88)","v":44400},{"$f":"MIN(MAX(JZ99,0),JZ88)","v":44400},{"$f":"MIN(MAX(KA99,0),KA88)","v":35600},{"$f":"MIN(MAX(KB99,0),KB88)","v":35600},{"$f":"MIN(MAX(KC99,0),KC88)","v":35600},{"$f":"MIN(MAX(KD99,0),KD88)","v":35600},{"$f":"MIN(MAX(KE99,0),KE88)","v":35600},{"$f":"MIN(MAX(KF99,0),KF88)","v":35600},{"$f":"MIN(MAX(KG99,0),KG88)","v":44400},{"$f":"MIN(MAX(KH99,0),KH88)","v":44400},{"$f":"MIN(MAX(KI99,0),KI88)","v":44400},{"$f":"MIN(MAX(KJ99,0),KJ88)","v":44400},{"$f":"MIN(MAX(KK99,0),KK88)","v":44400},{"$f":"MIN(MAX(KL99,0),KL88)","v":44400},{"$f":"MIN(MAX(KM99,0),KM88)","v":35600},{"$f":"MIN(MAX(KN99,0),KN88)","v":35600},{"$f":"MIN(MAX(KO99,0),KO88)","v":35600},{"$f":"MIN(MAX(KP99,0),KP88)","v":35600},{"$f":"MIN(MAX(KQ99,0),KQ88)","v":35600},{"$f":"MIN(MAX(KR99,0),KR88)","v":35600},{"$f":"MIN(MAX(KS99,0),KS88)","v":44400},{"$f":"MIN(MAX(KT99,0),KT88)","v":44400},{"$f":"MIN(MAX(KU99,0),KU88)","v":44400},{"$f":"MIN(MAX(KV99,0),KV88)","v":44400},{"$f":"MIN(MAX(KW99,0),KW88)","v":44400},{"$f":"MIN(MAX(KX99,0),KX88)","v":44400},{"$f":"MIN(MAX(KY99,0),KY88)","v":35600},{"$f":"MIN(MAX(KZ99,0),KZ88)","v":35600},{"$f":"MIN(MAX(LA99,0),LA88)","v":35600},{"$f":"MIN(MAX(LB99,0),LB88)","v":35600},{"$f":"MIN(MAX(LC99,0),LC88)","v":35600},{"$f":"MIN(MAX(LD99,0),LD88)","v":35600},{"$f":"MIN(MAX(LE99,0),LE88)","v":44400},{"$f":"MIN(MAX(LF99,0),LF88)","v":44400},{"$f":"MIN(MAX(LG99,0),LG88)","v":44400},{"$f":"MIN(MAX(LH99,0),LH88)","v":44400},{"$f":"MIN(MAX(LI99,0),LI88)","v":44400},{"$f":"MIN(MAX(LJ99,0),LJ88)","v":44400},{"$f":"MIN(MAX(LK99,0),LK88)","v":35600},{"$f":"MIN(MAX(LL99,0),LL88)","v":35600},{"$f":"MIN(MAX(LM99,0),LM88)","v":35600},{"$f":"MIN(MAX(LN99,0),LN88)","v":35600},{"$f":"MIN(MAX(LO99,0),LO88)","v":35600},{"$f":"MIN(MAX(LP99,0),LP88)","v":35600},{"$f":"MIN(MAX(LQ99,0),LQ88)","v":44400},{"$f":"MIN(MAX(LR99,0),LR88)","v":44400},{"$f":"MIN(MAX(LS99,0),LS88)","v":44400},{"$f":"MIN(MAX(LT99,0),LT88)","v":44400},{"$f":"MIN(MAX(LU99,0),LU88)","v":44400},{"$f":"MIN(MAX(LV99,0),LV88)","v":44400},{"$f":"MIN(MAX(LW99,0),LW88)","v":35600},{"$f":"MIN(MAX(LX99,0),LX88)","v":35600},{"$f":"MIN(MAX(LY99,0),LY88)","v":35600},{"$f":"MIN(MAX(LZ99,0),LZ88)","v":35600},{"$f":"MIN(MAX(MA99,0),MA88)","v":35600},{"$f":"MIN(MAX(MB99,0),MB88)","v":35600},{"$f":"MIN(MAX(MC99,0),MC88)","v":44400},{"$f":"MIN(MAX(MD99,0),MD88)","v":44400},{"$f":"MIN(MAX(ME99,0),ME88)","v":44400},{"$f":"MIN(MAX(MF99,0),MF88)","v":44400},{"$f":"MIN(MAX(MG99,0),MG88)","v":44400},{"$f":"MIN(MAX(MH99,0),MH88)","v":44400},{"$f":"MIN(MAX(MI99,0),MI88)","v":35600},{"$f":"MIN(MAX(MJ99,0),MJ88)","v":35600},{"$f":"MIN(MAX(MK99,0),MK88)","v":35600},{"$f":"MIN(MAX(ML99,0),ML88)","v":35600},{"$f":"MIN(MAX(MM99,0),MM88)","v":35600},{"$f":"MIN(MAX(MN99,0),MN88)","v":35600},{"$f":"MIN(MAX(MO99,0),MO88)","v":44400},{"$f":"MIN(MAX(MP99,0),MP88)","v":44400},{"$f":"MIN(MAX(MQ99,0),MQ88)","v":44400},{"$f":"MIN(MAX(MR99,0),MR88)","v":44400},{"$f":"MIN(MAX(MS99,0),MS88)","v":44400},{"$f":"MIN(MAX(MT99,0),MT88)","v":44400},{"$f":"MIN(MAX(MU99,0),MU88)","v":35600},{"$f":"MIN(MAX(MV99,0),MV88)","v":35600},{"$f":"MIN(MAX(MW99,0),MW88)","v":35600},{"$f":"MIN(MAX(MX99,0),MX88)","v":35600},{"$f":"MIN(MAX(MY99,0),MY88)","v":35600},{"$f":"MIN(MAX(MZ99,0),MZ88)","v":35600},{"$f":"MIN(MAX(NA99,0),NA88)","v":44400},{"$f":"MIN(MAX(NB99,0),NB88)","v":44400},{"$f":"MIN(MAX(NC99,0),NC88)","v":44400},{"$f":"MIN(MAX(ND99,0),ND88)","v":44400},{"$f":"MIN(MAX(NE99,0),NE88)","v":44400},{"$f":"MIN(MAX(NF99,0),NF88)","v":44400},{"$f":"MIN(MAX(NG99,0),NG88)","v":35600},{"$f":"MIN(MAX(NH99,0),NH88)","v":35600},{"$f":"MIN(MAX(NI99,0),NI88)","v":35600},{"$f":"MIN(MAX(NJ99,0),NJ88)","v":35600},{"$f":"MIN(MAX(NK99,0),NK88)","v":35600},{"$f":"MIN(MAX(NL99,0),NL88)","v":35600},{"$f":"MIN(MAX(NM99,0),NM88)","v":44400},{"$f":"MIN(MAX(NN99,0),NN88)","v":44400},{"$f":"MIN(MAX(NO99,0),NO88)","v":44400},{"$f":"MIN(MAX(NP99,0),NP88)","v":44400},{"$f":"MIN(MAX(NQ99,0),NQ88)","v":44400},{"$f":"MIN(MAX(NR99,0),NR88)","v":44400},{"$f":"MIN(MAX(NS99,0),NS88)","v":35600},{"$f":"MIN(MAX(NT99,0),NT88)","v":35600},{"$f":"MIN(MAX(NU99,0),NU88)","v":35600},{"$f":"MIN(MAX(NV99,0),NV88)","v":35600},{"$f":"MIN(MAX(NW99,0),NW88)","v":35600},{"$f":"MIN(MAX(NX99,0),NX88)","v":35600},{"$f":"MIN(MAX(NY99,0),NY88)","v":44400},{"$f":"MIN(MAX(NZ99,0),NZ88)","v":44400},{"$f":"MIN(MAX(OA99,0),OA88)","v":44400},{"$f":"MIN(MAX(OB99,0),OB88)","v":44400},{"$f":"MIN(MAX(OC99,0),OC88)","v":44400},{"$f":"MIN(MAX(OD99,0),OD88)","v":44400},{"$f":"MIN(MAX(OE99,0),OE88)","v":35600},{"$f":"MIN(MAX(OF99,0),OF88)","v":35600},{"$f":"MIN(MAX(OG99,0),OG88)","v":35600},{"$f":"MIN(MAX(OH99,0),OH88)","v":35600},{"$f":"MIN(MAX(OI99,0),OI88)","v":35600},{"$f":"MIN(MAX(OJ99,0),OJ88)","v":35600},{"$f":"MIN(MAX(OK99,0),OK88)","v":44400},{"$f":"MIN(MAX(OL99,0),OL88)","v":44400},{"$f":"MIN(MAX(OM99,0),OM88)","v":44400},{"$f":"MIN(MAX(ON99,0),ON88)","v":44400},{"$f":"MIN(MAX(OO99,0),OO88)","v":44400},{"$f":"MIN(MAX(OP99,0),OP88)","v":44400},{"$f":"MIN(MAX(OQ99,0),OQ88)","v":35600},{"$f":"MIN(MAX(OR99,0),OR88)","v":35600},{"$f":"MIN(MAX(OS99,0),OS88)","v":35600},{"$f":"MIN(MAX(OT99,0),OT88)","v":35600},{"$f":"MIN(MAX(OU99,0),OU88)","v":35600},{"$f":"MIN(MAX(OV99,0),OV88)","v":35600},{"$f":"MIN(MAX(OW99,0),OW88)","v":44400},{"$f":"MIN(MAX(OX99,0),OX88)","v":44400},{"$f":"MIN(MAX(OY99,0),OY88)","v":44400},{"$f":"MIN(MAX(OZ99,0),OZ88)","v":44400},{"$f":"MIN(MAX(PA99,0),PA88)","v":44400},{"$f":"MIN(MAX(PB99,0),PB88)","v":44400},{"$f":"MIN(MAX(PC99,0),PC88)","v":35600},{"$f":"MIN(MAX(PD99,0),PD88)","v":35600},{"$f":"MIN(MAX(PE99,0),PE88)","v":35600},{"$f":"MIN(MAX(PF99,0),PF88)","v":35600},{"$f":"MIN(MAX(PG99,0),PG88)","v":35600},{"$f":"MIN(MAX(PH99,0),PH88)","v":35600},{"$f":"MIN(MAX(PI99,0),PI88)","v":44400},{"$f":"MIN(MAX(PJ99,0),PJ88)","v":44400},{"$f":"MIN(MAX(PK99,0),PK88)","v":44400},{"$f":"MIN(MAX(PL99,0),PL88)","v":44400},{"$f":"MIN(MAX(PM99,0),PM88)","v":44400},{"$f":"MIN(MAX(PN99,0),PN88)","v":44400},{"$f":"MIN(MAX(PO99,0),PO88)","v":35600},{"$f":"MIN(MAX(PP99,0),PP88)","v":35600},{"$f":"MIN(MAX(PQ99,0),PQ88)","v":35600},{"$f":"MIN(MAX(PR99,0),PR88)","v":35600},{"$f":"MIN(MAX(PS99,0),PS88)","v":35600},{"$f":"MIN(MAX(PT99,0),PT88)","v":35600},{"$f":"MIN(MAX(PU99,0),PU88)","v":44400},{"$f":"MIN(MAX(PV99,0),PV88)","v":44400},{"$f":"MIN(MAX(PW99,0),PW88)","v":44400},{"$f":"MIN(MAX(PX99,0),PX88)","v":44400},{"$f":"MIN(MAX(PY99,0),PY88)","v":44400},{"$f":"MIN(MAX(PZ99,0),PZ88)","v":44400},{"$f":"MIN(MAX(QA99,0),QA88)","v":35600},{"$f":"MIN(MAX(QB99,0),QB88)","v":35600},{"$f":"MIN(MAX(QC99,0),QC88)","v":35600},{"$f":"MIN(MAX(QD99,0),QD88)","v":35600},{"$f":"MIN(MAX(QE99,0),QE88)","v":35600},{"$f":"MIN(MAX(QF99,0),QF88)","v":35600},{"$f":"MIN(MAX(QG99,0),QG88)","v":44400},{"$f":"MIN(MAX(QH99,0),QH88)","v":44400},{"$f":"MIN(MAX(QI99,0),QI88)","v":44400},{"$f":"MIN(MAX(QJ99,0),QJ88)","v":44400},{"$f":"MIN(MAX(QK99,0),QK88)","v":44400},{"$f":"MIN(MAX(QL99,0),QL88)","v":44400},{"$f":"MIN(MAX(QM99,0),QM88)","v":35600},{"$f":"MIN(MAX(QN99,0),QN88)","v":35600},{"$f":"MIN(MAX(QO99,0),QO88)","v":35600},{"$f":"MIN(MAX(QP99,0),QP88)","v":35600},{"$f":"MIN(MAX(QQ99,0),QQ88)","v":35600},{"$f":"MIN(MAX(QR99,0),QR88)","v":35600},{"$f":"MIN(MAX(QS99,0),QS88)","v":44400},{"$f":"MIN(MAX(QT99,0),QT88)","v":44400},{"$f":"MIN(MAX(QU99,0),QU88)","v":44400},{"$f":"MIN(MAX(QV99,0),QV88)","v":44400},{"$f":"MIN(MAX(QW99,0),QW88)","v":44400},{"$f":"MIN(MAX(QX99,0),QX88)","v":44400},{"$f":"MIN(MAX(QY99,0),QY88)","v":35600},{"$f":"MIN(MAX(QZ99,0),QZ88)","v":35600},{"$f":"MIN(MAX(RA99,0),RA88)","v":35600},{"$f":"MIN(MAX(RB99,0),RB88)","v":35600},{"$f":"MIN(MAX(RC99,0),RC88)","v":35600},{"$f":"MIN(MAX(RD99,0),RD88)","v":35600},{"$f":"MIN(MAX(RE99,0),RE88)","v":44400},{"$f":"MIN(MAX(RF99,0),RF88)","v":44400},{"$f":"MIN(MAX(RG99,0),RG88)","v":44400},{"$f":"MIN(MAX(RH99,0),RH88)","v":44400},{"$f":"MIN(MAX(RI99,0),RI88)","v":44400},{"$f":"MIN(MAX(RJ99,0),RJ88)","v":44400},{"$f":"MIN(MAX(RK99,0),RK88)","v":35600},{"$f":"MIN(MAX(RL99,0),RL88)","v":35600},{"$f":"MIN(MAX(RM99,0),RM88)","v":35600},{"$f":"MIN(MAX(RN99,0),RN88)","v":35600},{"$f":"MIN(MAX(RO99,0),RO88)","v":35600},{"$f":"MIN(MAX(RP99,0),RP88)","v":35600},{"$f":"MIN(MAX(RQ99,0),RQ88)","v":44400},{"$f":"MIN(MAX(RR99,0),RR88)","v":44400},{"$f":"MIN(MAX(RS99,0),RS88)","v":44400},{"$f":"MIN(MAX(RT99,0),RT88)","v":44400},{"$f":"MIN(MAX(RU99,0),RU88)","v":44400},{"$f":"MIN(MAX(RV99,0),RV88)","v":44400},{"$f":"MIN(MAX(RW99,0),RW88)","v":35600},{"$f":"MIN(MAX(RX99,0),RX88)","v":35600},{"$f":"MIN(MAX(RY99,0),RY88)","v":35600},{"$f":"MIN(MAX(RZ99,0),RZ88)","v":35600},{"$f":"MIN(MAX(SA99,0),SA88)","v":35600},{"$f":"MIN(MAX(SB99,0),SB88)","v":35600},{"$f":"MIN(MAX(SC99,0),SC88)","v":44400},{"$f":"MIN(MAX(SD99,0),SD88)","v":44400},{"$f":"MIN(MAX(SE99,0),SE88)","v":44400},{"$f":"MIN(MAX(SF99,0),SF88)","v":44400},{"$f":"MIN(MAX(SG99,0),SG88)","v":44400},{"$f":"MIN(MAX(SH99,0),SH88)","v":44400},{"$f":"MIN(MAX(SI99,0),SI88)","v":35600},{"$f":"MIN(MAX(SJ99,0),SJ88)","v":35600},{"$f":"MIN(MAX(SK99,0),SK88)","v":35600},{"$f":"MIN(MAX(SL99,0),SL88)","v":35600},{"$f":"MIN(MAX(SM99,0),SM88)","v":35600},{"$f":"MIN(MAX(SN99,0),SN88)","v":35600},{"$f":"MIN(MAX(SO99,0),SO88)","v":44400},{"$f":"MIN(MAX(SP99,0),SP88)","v":44400},{"$f":"MIN(MAX(SQ99,0),SQ88)","v":44400},{"$f":"MIN(MAX(SR99,0),SR88)","v":44400},{"$f":"MIN(MAX(SS99,0),SS88)","v":44400},{"$f":"MIN(MAX(ST99,0),ST88)","v":44400},{"$f":"MIN(MAX(SU99,0),SU88)","v":10800},{"$f":"MIN(MAX(SV99,0),SV88)","v":10800},{"$f":"MIN(MAX(SW99,0),SW88)","v":10800},{"$f":"MIN(MAX(SX99,0),SX88)","v":10800},{"$f":"MIN(MAX(SY99,0),SY88)","v":10800},{"$f":"MIN(MAX(SZ99,0),SZ88)","v":10800},{"$f":"MIN(MAX(TA99,0),TA88)","v":10800},{"$f":"MIN(MAX(TB99,0),TB88)","v":10800},{"$f":"MIN(MAX(TC99,0),TC88)","v":10800},{"$f":"MIN(MAX(TD99,0),TD88)","v":10800},{"$f":"MIN(MAX(TE99,0),TE88)","v":10800},{"$f":"MIN(MAX(TF99,0),TF88)","v":10800},{"$f":"MIN(MAX(TG99,0),TG88)","v":10800},{"$f":"MIN(MAX(TH99,0),TH88)","v":10800},{"$f":"MIN(MAX(TI99,0),TI88)","v":10800},{"$f":"MIN(MAX(TJ99,0),TJ88)","v":10800},{"$f":"MIN(MAX(TK99,0),TK88)","v":10800},{"$f":"MIN(MAX(TL99,0),TL88)","v":10800},{"$f":"MIN(MAX(TM99,0),TM88)","v":10800},{"$f":"MIN(MAX(TN99,0),TN88)","v":10800},{"$f":"MIN(MAX(TO99,0),TO88)","v":10800},{"$f":"MIN(MAX(TP99,0),TP88)","v":10800},{"$f":"MIN(MAX(TQ99,0),TQ88)","v":10800},{"$f":"MIN(MAX(TR99,0),TR88)","v":10800},{"$f":"MIN(MAX(TS99,0),TS88)","v":10800},{"$f":"MIN(MAX(TT99,0),TT88)","v":10800},{"$f":"MIN(MAX(TU99,0),TU88)","v":10800},{"$f":"MIN(MAX(TV99,0),TV88)","v":10800},{"$f":"MIN(MAX(TW99,0),TW88)","v":10800},{"$f":"MIN(MAX(TX99,0),TX88)","v":10800},{"$f":"MIN(MAX(TY99,0),TY88)","v":10800},{"$f":"MIN(MAX(TZ99,0),TZ88)","v":10800},{"$f":"MIN(MAX(UA99,0),UA88)","v":10800},{"$f":"MIN(MAX(UB99,0),UB88)","v":10800},{"$f":"MIN(MAX(UC99,0),UC88)","v":10800},{"$f":"MIN(MAX(UD99,0),UD88)","v":10800},{"$f":"MIN(MAX(UE99,0),UE88)","v":10800},{"$f":"MIN(MAX(UF99,0),UF88)","v":10800},{"$f":"MIN(MAX(UG99,0),UG88)","v":10800},{"$f":"MIN(MAX(UH99,0),UH88)","v":10800},{"$f":"MIN(MAX(UI99,0),UI88)","v":10800},{"$f":"MIN(MAX(UJ99,0),UJ88)","v":10800},{"$f":"MIN(MAX(UK99,0),UK88)","v":10800},{"$f":"MIN(MAX(UL99,0),UL88)","v":10800},{"$f":"MIN(MAX(UM99,0),UM88)","v":10800},{"$f":"MIN(MAX(UN99,0),UN88)","v":10800},{"$f":"MIN(MAX(UO99,0),UO88)","v":10800}]
[null,null,null,"Dividends",null,null,null,null,"EUR",null,{"$f":"K99+K100-K101","v":0},{"$f":"L99+L100-L101","v":0},0,0,0,0,0,0,0,0,0,0,0,0,0,0,0,0,0,0,0,0,0,0,0,0,0,0,0,0,0,0,0,0,0,0,0,0,0,0,0,0,0,0,0,0,0,0,0,0,0,0,0,0,0,0,0,0,0,0,0,0,0,0,0,{"$f":"BX99+BX100-BX101","v":0},0,0,0,0,0,0,0,0,0,0,0,0,0,0,0,0,0,0,0,0,0,0,0,0,0,0,0,0,0,0,0,0,0,0,0,0,0,0,0,0,0,0,0,0,0,0,0,0,0,0,0,0,0,0,0,0,0,0,0,0,0,0,0,{"$f":"EJ99+EJ100-EJ101","v":0},0,0,0,0,0,0,0,0,0,0,0,0,0,0,0,0,0,0,0,0,0,0,0,0,0,0,0,0,0,0,0,0,0,0,0,0,0,0,0,0,0,0,0,0,0,0,0,0,0,0,0,0,0,0,0,0,0,0,0,0,0,0,0,{"$f":"GV99+GV100-GV101","v":0},0,0,0,0,0,0,0,0,0,0,0,0,0,0,0,0,0,0,0,0,0,0,0,0,0,0,0,0,0,0,0,0,0,0,0,0,0,0,0,0,0,0,0,0,0,0,0,0,0,0,0,0,0,0,0,0,0,0,0,0,0,0,0,{"$f":"JH99+JH100-JH101","v":0},0,0,0,0,0,0,0,0,0,0,0,0,0,0,0,0,0,0,0,0,0,0,0,0,0,0,0,0,0,0,0,0,0,0,0,0,0,0,0,0,0,0,0,0,0,0,0,0,0,0,0,0,0,0,0,0,0,0,0,0,0,0,0,{"$f":"LT99+LT100-LT101","v":0},0,0,0,0,0,0,0,0,0,0,0,0,0,0,0,0,0,0,0,0,0,0,0,0,0,0,0,0,0,0,0,0,0,0,0,0,0,0,0,0,0,0,0,0,0,0,0,0,0,0,0,0,0,0,0,0,0,0,0,0,0,0,0,{"$f":"OF99+OF100-OF101","v":0},0,0,0,0,0,0,0,0,0,0,0,0,0,0,0,0,0,0,0,0,0,0,0,0,0,0,0,0,0,0,0,0,0,0,0,0,0,0,0,0,0,0,0,0,0,0,0,0,0,0,0,0,0,0,0,0,0,0,0,0,0,0,0,{"$f":"QR99+QR100-QR101","v":0},0,0,0,0,0,0,0,0,0,0,0,0,0,0,0,0,0,0,0,0,0,0,0,0,0,0,0,0,0,0,0,0,0,0,0,0,0,0,0,0,0,0,0,0,0,0,0,0,0,0,0,0,0,0,0,0,0,0,0,0,0,0,0,{"$f":"TD99+TD100-TD101","v":0},0,0,0,0,0,0,0,0,0,0,0,0,0,0,0,0,0,0,0,0,0,0,0,0,0,0,0,0,0,0,0,0,0,0,0,0,0]
[]
[null,"Ratios"]
[]
[null,null,null,"Equity Cash Flow",null,null,null,{"$f":"SUM(K106:XFD106)","v":-200000.00000000003},"EUR",null,{"$f":"K102-K39","v":-4938.2716049382689},{"$f":"L102-L39","v":-8230.4526748971184},{"$f":"M102-M39","v":-8504.8010973936907},{"$f":"N102-N39","v":-8230.4526748971184},{"$f":"O102-O39","v":-8504.8010973936907},{"$f":"P102-P39","v":-8504.8010973936907},{"$f":"Q102-Q39","v":-7681.7558299039774},{"$f":"R102-R39","v":-8504.8010973936907},{"$f":"S102-S39","v":-8230.4526748971184},{"$f":"T102-T39","v":-8504.8010973936907},{"$f":"U102-U39","v":-8230.4526748971184},{"$f":"V102-V39","v":-8504.8010973936907},{"$f":"W102-W39","v":-8504.8010973936907},{"$f":"X102-X39","v":-8230.4526748971184},{"$f":"Y102-Y39","v":-8504.8010973936907},{"$f":"Z102-Z39","v":-8230.4526748971184},{"$f":"AA102-AA39","v":-8504.8010973936907},{"$f":"AB102-AB39","v":-8504.8010973936907},{"$f":"AC102-AC39","v":-7956.1042524005461},{"$f":"AD102-AD39","v":-8504.8010973936907},{"$f":"AE102-AE39","v":-8230.4526748971184},{"$f":"AF102-AF39","v":-8504.8010973936907},{"$f":"AG102-AG39","v":-8230.4526748971184},{"$f":"AH102-AH39","v":-8504.8010973936907},{"$f":"AI102-AI39","v":-3017.8326474622754},{"$f":"AJ102-AJ39","v":0},{"$f":"AK102-AK39","v":0},{"$f":"AL102-AL39","v":0},{"$f":"AM102-AM39","v":0},{"$f":"AN102-AN39","v":0},{"$f":"AO102-AO39","v":0},{"$f":"AP102-AP39","v":0},{"$f":"AQ102-AQ39","v":0},{"$f":"AR102-AR39","v":0},{"$f":"AS102-AS39","v":0},{"$f":"AT102-AT39","v":0},{"$f":"AU102-AU39","v":0},{"$f":"AV102-AV39","v":0},{"$f":"AW102-AW39","v":0},{"$f":"AX102-AX39","v":0},{"$f":"AY102-AY39","v":0},{"$f":"AZ102-AZ39","v":0},{"$f":"BA102-BA39","v":0},{"$f":"BB102-BB39","v":0},{"$f":"BC102-BC39","v":0},{"$f":"BD102-BD39","v":0},{"$f":"BE102-BE39","v":0},{"$f":"BF102-BF39","v":0},{"$f":"BG102-BG39","v":0},{"$f":"BH102-BH39","v":0},{"$f":"BI102-BI39","v":0},{"$f":"BJ102-BJ39","v":0},{"$f":"BK102-BK39","v":0},{"$f":"BL102-BL39","v":0},{"$f":"BM102-BM39","v":0},{"$f":"BN102-BN39","v":0},{"$f":"BO102-BO39","v":0},{"$f":"BP102-BP39","v":0},{"$f":"BQ102-BQ39","v":0},{"$f":"BR102-BR39","v":0},{"$f":"BS102-BS39","v":0},{"$f":"BT102-BT39","v":0},{"$f":"BU102-BU39","v":0},{"$f":"BV102-BV39","v":0},{"$f":"BW102-BW39","v":0},{"$f":"BX102-BX39","v":0},{"$f":"BY102-BY39","v":0},{"$f":"BZ102-BZ39","v":0},{"$f":"CA102-CA39","v":0},{"$f":"CB102-CB39","v":0},{"$f":"CC102-CC39","v":0},{"$f":"CD102-CD39","v":0},{"$f":"CE102-CE39","v":0},{"$f":"CF102-CF39","v":0},{"$f":"CG102-CG39","v":0},{"$f":"CH102-CH39","v":0},{"$f":"CI102-CI39","v":0},{"$f":"CJ102-CJ39","v":0},{"$f":"CK102-CK39","v":0},{"$f":"CL102-CL39","v":0},{"$f":"CM102-CM39","v":0},{"$f":"CN102-CN39","v":0},{"$f":"CO102-CO39","v":0},{"$f":"CP102-CP39","v":0},{"$f":"CQ102-CQ39","v":0},{"$f":"CR102-CR39","v":0},{"$f":"CS102-CS39","v":0},{"$f":"CT102-CT39","v":0},{"$f":"CU102-CU39","v":0},{"$f":"CV102-CV39","v":0},{"$f":"CW102-CW39","v":0},{"$f":"CX102-CX39","v":0},{"$f":"CY102-CY39","v":0},{"$f":"CZ102-CZ39","v":0},{"$f":"DA102-DA39","v":0},{"$f":"DB102-DB39","v":0},{"$f":"DC102-DC39","v":0},{"$f":"DD102-DD39","v":0},{"$f":"DE102-DE39","v":0},{"$f":"DF102-DF39","v":0},{"$f":"DG102-DG39","v":0},{"$f":"DH102-DH39","v":0},{"$f":"DI102-DI39","v":0},{"$f":"DJ102-DJ39","v":0},{"$f":"DK102-DK39","v":0},{"$f":"DL102-DL39","v":0},{"$f":"DM102-DM39","v":0},{"$f":"DN102-DN39","v":0},{"$f":"DO102-DO39","v":0},{"$f":"DP102-DP39","v":0},{"$f":"DQ102-DQ39","v":0},{"$f":"DR102-DR39","v":0},{"$f":"DS102-DS39","v":0},{"$f":"DT102-DT39","v":0},{"$f":"DU102-DU39","v":0},{"$f":"DV102-DV39","v":0},{"$f":"DW102-DW39","v":0},{"$f":"DX102-DX39","v":0},{"$f":"DY102-DY39","v":0},{"$f":"DZ102-DZ39","v":0},{"$f":"EA102-EA39","v":0},{"$f":"EB102-EB39","v":0},{"$f":"EC102-EC39","v":0},{"$f":"ED102-ED39","v":0},{"$f":"EE102-EE39","v":0},{"$f":"EF102-EF39","v":0},{"$f":"EG102-EG39","v":0},{"$f":"EH102-EH39","v":0},{"$f":"EI102-EI39","v":0},{"$f":"EJ102-EJ39","v":0},{"$f":"EK102-EK39","v":0},{"$f":"EL102-EL39","v":0},{"$f":"EM102-EM39","v":0},{"$f":"EN102-EN39","v":0},{"$f":"EO102-EO39","v":0},{"$f":"EP102-EP39","v":0},{"$f":"EQ102-EQ39","v":0},{"$f":"ER102-ER39","v":0},{"$f":"ES102-ES39","v":0},{"$f":"ET102-ET39","v":0},{"$f":"EU102-EU39","v":0},{"$f":"EV102-EV39","v":0},{"$f":"EW102-EW39","v":0},{"$f":"EX102-EX39","v":0},{"$f":"EY102-EY39","v":0},{"$f":"EZ102-EZ39","v":0},{"$f":"FA102-FA39","v":0},{"$f":"FB102-FB39","v":0},{"$f":"FC102-FC39","v":0},{"$f":"FD102-FD39","v":0},{"$f":"FE102-FE39","v":0},{"$f":"FF102-FF39","v":0},{"$f":"FG102-FG39","v":0},{"$f":"FH102-FH39","v":0},{"$f":"FI102-FI39","v":0},{"$f":"FJ102-FJ39","v":0},{"$f":"FK102-FK39","v":0},{"$f":"FL102-FL39","v":0},{"$f":"FM102-FM39","v":0},{"$f":"FN102-FN39","v":0},{"$f":"FO102-FO39","v":0},{"$f":"FP102-FP39","v":0},{"$f":"FQ102-FQ39","v":0},{"$f":"FR102-FR39","v":0},{"$f":"FS102-FS39","v":0},{"$f":"FT102-FT39","v":0},{"$f":"FU102-FU39","v":0},{"$f":"FV102-FV39","v":0},{"$f":"FW102-FW39","v":0},{"$f":"FX102-FX39","v":0},{"$f":"FY102-FY39","v":0},{"$f":"FZ102-FZ39","v":0},{"$f":"GA102-GA39","v":0},{"$f":"GB102-GB39","v":0},{"$f":"GC102-GC39","v":0},{"$f":"GD102-GD39","v":0},{"$f":"GE102-GE39","v":0},{"$f":"GF102-GF39","v":0},{"$f":"GG102-GG39","v":0},{"$f":"GH102-GH39","v":0},{"$f":"GI102-GI39","v":0},{"$f":"GJ102-GJ39","v":0},{"$f":"GK102-GK39","v":0},{"$f":"GL102-GL39","v":0},{"$f":"GM102-GM39","v":0},{"$f":"GN102-GN39","v":0},{"$f":"GO102-GO39","v":0},{"$f":"GP102-GP39","v":0},{"$f":"GQ102-GQ39","v":0},{"$f":"GR102-GR39","v":0},{"$f":"GS102-GS39","v":0},{"$f":"GT102-GT39","v":0},{"$f":"GU102-GU39","v":0},{"$f":"GV102-GV39","v":0},{"$f":"GW102-GW39","v":0},{"$f":"GX102-GX39","v":0},{"$f":"GY102-GY39","v":0},{"$f":"GZ102-GZ39","v":0},{"$f":"HA102-HA39","v":0},{"$f":"HB102-HB39","v":0},{"$f":"HC102-HC39","v":0},{"$f":"HD102-HD39","v":0},{"$f":"HE102-HE39","v":0},{"$f":"HF102-HF39","v":0},{"$f":"HG102-HG39","v":0},{"$f":"HH102-HH39","v":0},{"$f":"HI102-HI39","v":0},{"$f":"HJ102-HJ39","v":0},{"$f":"HK102-HK39","v":0},{"$f":"HL102-HL39","v":0},{"$f":"HM102-HM39","v":0},{"$f":"HN102-HN39","v":0},{"$f":"HO102-HO39","v":0},{"$f":"HP102-HP39","v":0},{"$f":"HQ102-HQ39","v":0},{"$f":"HR102-HR39","v":0},{"$f":"HS102-HS39","v":0},{"$f":"HT102-HT39","v":0},{"$f":"HU102-HU39","v":0},{"$f":"HV102-HV39","v":0},{"$f":"HW102-HW39","v":0},{"$f":"HX102-HX39","v":0},{"$f":"HY102-HY39","v":0},{"$f":"HZ102-HZ39","v":0},{"$f":"IA102-IA39","v":0},{"$f":"IB102-IB39","v":0},{"$f":"IC102-IC39","v":0},{"$f":"ID102-ID39","v":0},{"$f":"IE102-IE39","v":0},{"$f":"IF102-IF39","v":0},{"$f":"IG102-IG39","v":0},{"$f":"IH102-IH39","v":0},{"$f":"II102-II39","v":0},{"$f":"IJ102-IJ39","v":0},{"$f":"IK102-IK39","v":0},{"$f":"IL102-IL39","v":0},{"$f":"IM102-IM39","v":0},{"$f":"IN102-IN39","v":0},{"$f":"IO102-IO39","v":0},{"$f":"IP102-IP39","v":0},{"$f":"IQ102-IQ39","v":0},{"$f":"IR102-IR39","v":0},{"$f":"IS102-IS39","v":0},{"$f":"IT102-IT39","v":0},{"$f":"IU102-IU39","v":0},{"$f":"IV102-IV39","v":0},{"$f":"IW102-IW39","v":0},{"$f":"IX102-IX39","v":0},{"$f":"IY102-IY39","v":0},{"$f":"IZ102-IZ39","v":0},{"$f":"JA102-JA39","v":0},{"$f":"JB102-JB39","v":0},{"$f":"JC102-JC39","v":0},{"$f":"JD102-JD39","v":0},{"$f":"JE102-JE39","v":0},{"$f":"JF102-JF39","v":0},{"$f":"JG102-JG39","v":0},{"$f":"JH102-JH39","v":0},{"$f":"JI102-JI39","v":0},{"$f":"JJ102-JJ39","v":0},{"$f":"JK102-JK39","v":0},{"$f":"JL102-JL39","v":0},{"$f":"JM102-JM39","v":0},{"$f":"JN102-JN39","v":0},{"$f":"JO102-JO39","v":0},{"$f":"JP102-JP39","v":0},{"$f":"JQ102-JQ39","v":0},{"$f":"JR102-JR39","v":0},{"$f":"JS102-JS39","v":0},{"$f":"JT102-JT39","v":0},{"$f":"JU102-JU39","v":0},{"$f":"JV102-JV39","v":0},{"$f":"JW102-JW39","v":0},{"$f":"JX102-JX39","v":0},{"$f":"JY102-JY39","v":0},{"$f":"JZ102-JZ39","v":0},{"$f":"KA102-KA39","v":0},{"$f":"KB102-KB39","v":0},{"$f":"KC102-KC39","v":0},{"$f":"KD102-KD39","v":0},{"$f":"KE102-KE39","v":0},{"$f":"KF102-KF39","v":0},{"$f":"KG102-KG39","v":0},{"$f":"KH102-KH39","v":0},{"$f":"KI102-KI39","v":0},{"$f":"KJ102-KJ39","v":0},{"$f":"KK102-KK39","v":0},{"$f":"KL102-KL39","v":0},{"$f":"KM102-KM39","v":0},{"$f":"KN102-KN39","v":0},{"$f":"KO102-KO39","v":0},{"$f":"KP102-KP39","v":0},{"$f":"KQ102-KQ39","v":0},{"$f":"KR102-KR39","v":0},{"$f":"KS102-KS39","v":0},{"$f":"KT102-KT39","v":0},{"$f":"KU102-KU39","v":0},{"$f":"KV102-KV39","v":0},{"$f":"KW102-KW39","v":0},{"$f":"KX102-KX39","v":0},{"$f":"KY102-KY39","v":0},{"$f":"KZ102-KZ39","v":0},{"$f":"LA102-LA39","v":0},{"$f":"LB102-LB39","v":0},{"$f":"LC102-LC39","v":0},{"$f":"LD102-LD39","v":0},{"$f":"LE102-LE39","v":0},{"$f":"LF102-LF39","v":0},{"$f":"LG102-LG39","v":0},{"$f":"LH102-LH39","v":0},{"$f":"LI102-LI39","v":0},{"$f":"LJ102-LJ39","v":0},{"$f":"LK102-LK39","v":0},{"$f":"LL102-LL39","v":0},{"$f":"LM102-LM39","v":0},{"$f":"LN102-LN39","v":0},{"$f":"LO102-LO39","v":0},{"$f":"LP102-LP39","v":0},{"$f":"LQ102-LQ39","v":0},{"$f":"LR102-LR39","v":0},{"$f":"LS102-LS39","v":0},{"$f":"LT102-LT39","v":0},{"$f":"LU102-LU39","v":0},{"$f":"LV102-LV39","v":0},{"$f":"LW102-LW39","v":0},{"$f":"LX102-LX39","v":0},{"$f":"LY102-LY39","v":0},{"$f":"LZ102-LZ39","v":0},{"$f":"MA102-MA39","v":0},{"$f":"MB102-MB39","v":0},{"$f":"MC102-MC39","v":0},{"$f":"MD102-MD39","v":0},{"$f":"ME102-ME39","v":0},{"$f":"MF102-MF39","v":0},{"$f":"MG102-MG39","v":0},{"$f":"MH102-MH39","v":0},{"$f":"MI102-MI39","v":0},{"$f":"MJ102-MJ39","v":0},{"$f":"MK102-MK39","v":0},{"$f":"ML102-ML39","v":0},{"$f":"MM102-MM39","v":0},{"$f":"MN102-MN39","v":0},{"$f":"MO102-MO39","v":0},{"$f":"MP102-MP39","v":0},{"$f":"MQ102-MQ39","v":0},{"$f":"MR102-MR39","v":0},{"$f":"MS102-MS39","v":0},{"$f":"MT102-MT39","v":0},{"$f":"MU102-MU39","v":0},{"$f":"MV102-MV39","v":0},{"$f":"MW102-MW39","v":0},{"$f":"MX102-MX39","v":0},{"$f":"MY102-MY39","v":0},{"$f":"MZ102-MZ39","v":0},{"$f":"NA102-NA39","v":0},{"$f":"NB102-NB39","v":0},{"$f":"NC102-NC39","v":0},{"$f":"ND102-ND39","v":0},{"$f":"NE102-NE39","v":0},{"$f":"NF102-NF39","v":0},{"$f":"NG102-NG39","v":0},{"$f":"NH102-NH39","v":0},{"$f":"NI102-NI39","v":0},{"$f":"NJ102-NJ39","v":0},{"$f":"NK102-NK39","v":0},{"$f":"NL102-NL39","v":0},{"$f":"NM102-NM39","v":0},{"$f":"NN102-NN39","v":0},{"$f":"NO102-NO39","v":0},{"$f":"NP102-NP39","v":0},{"$f":"NQ102-NQ39","v":0},{"$f":"NR102-NR39","v":0},{"$f":"NS102-NS39","v":0},{"$f":"NT102-NT39","v":0},{"$f":"NU102-NU39","v":0},{"$f":"NV102-NV39","v":0},{"$f":"NW102-NW39","v":0},{"$f":"NX102-NX39","v":0},{"$f":"NY102-NY39","v":0},{"$f":"NZ102-NZ39","v":0},{"$f":"OA102-OA39","v":0},{"$f":"OB102-OB39","v":0},{"$f":"OC102-OC39","v":0},{"$f":"OD102-OD39","v":0},{"$f":"OE102-OE39","v":0},{"$f":"OF102-OF39","v":0},{"$f":"OG102-OG39","v":0},{"$f":"OH102-OH39","v":0},{"$f":"OI102-OI39","v":0},{"$f":"OJ102-OJ39","v":0},{"$f":"OK102-OK39","v":0},{"$f":"OL102-OL39","v":0},{"$f":"OM102-OM39","v":0},{"$f":"ON102-ON39","v":0},{"$f":"OO102-OO39","v":0},{"$f":"OP102-OP39","v":0},{"$f":"OQ102-OQ39","v":0},{"$f":"OR102-OR39","v":0},{"$f":"OS102-OS39","v":0},{"$f":"OT102-OT39","v":0},{"$f":"OU102-OU39","v":0},{"$f":"OV102-OV39","v":0},{"$f":"OW102-OW39","v":0},{"$f":"OX102-OX39","v":0},{"$f":"OY102-OY39","v":0},{"$f":"OZ102-OZ39","v":0},{"$f":"PA102-PA39","v":0},{"$f":"PB102-PB39","v":0},{"$f":"PC102-PC39","v":0},{"$f":"PD102-PD39","v":0},{"$f":"PE102-PE39","v":0},{"$f":"PF102-PF39","v":0},{"$f":"PG102-PG39","v":0},{"$f":"PH102-PH39","v":0},{"$f":"PI102-PI39","v":0},{"$f":"PJ102-PJ39","v":0},{"$f":"PK102-PK39","v":0},{"$f":"PL102-PL39","v":0},{"$f":"PM102-PM39","v":0},{"$f":"PN102-PN39","v":0},{"$f":"PO102-PO39","v":0},{"$f":"PP102-PP39","v":0},{"$f":"PQ102-PQ39","v":0},{"$f":"PR102-PR39","v":0},{"$f":"PS102-PS39","v":0},{"$f":"PT102-PT39","v":0},{"$f":"PU102-PU39","v":0},{"$f":"PV102-PV39","v":0},{"$f":"PW102-PW39","v":0},{"$f":"PX102-PX39","v":0},{"$f":"PY102-PY39","v":0},{"$f":"PZ102-PZ39","v":0},{"$f":"QA102-QA39","v":0},{"$f":"QB102-QB39","v":0},{"$f":"QC102-QC39","v":0},{"$f":"QD102-QD39","v":0},{"$f":"QE102-QE39","v":0},{"$f":"QF102-QF39","v":0},{"$f":"QG102-QG39","v":0},{"$f":"QH102-QH39","v":0},{"$f":"QI102-QI39","v":0},{"$f":"QJ102-QJ39","v":0},{"$f":"QK102-QK39","v":0},{"$f":"QL102-QL39","v":0},{"$f":"QM102-QM39","v":0},{"$f":"QN102-QN39","v":0},{"$f":"QO102-QO39","v":0},{"$f":"QP102-QP39","v":0},{"$f":"QQ102-QQ39","v":0},{"$f":"QR102-QR39","v":0},{"$f":"QS102-QS39","v":0},{"$f":"QT102-QT39","v":0},{"$f":"QU102-QU39","v":0},{"$f":"QV102-QV39","v":0},{"$f":"QW102-QW39","v":0},{"$f":"QX102-QX39","v":0},{"$f":"QY102-QY39","v":0},{"$f":"QZ102-QZ39","v":0},{"$f":"RA102-RA39","v":0},{"$f":"RB102-RB39","v":0},{"$f":"RC102-RC39","v":0},{"$f":"RD102-RD39","v":0},{"$f":"RE102-RE39","v":0},{"$f":"RF102-RF39","v":0},{"$f":"RG102-RG39","v":0},{"$f":"RH102-RH39","v":0},{"$f":"RI102-RI39","v":0},{"$f":"RJ102-RJ39","v":0},{"$f":"RK102-RK39","v":0},{"$f":"RL102-RL39","v":0},{"$f":"RM102-RM39","v":0},{"$f":"RN102-RN39","v":0},{"$f":"RO102-RO39","v":0},{"$f":"RP102-RP39","v":0},{"$f":"RQ102-RQ39","v":0},{"$f":"RR102-RR39","v":0},{"$f":"RS102-RS39","v":0},{"$f":"RT102-RT39","v":0},{"$f":"RU102-RU39","v":0},{"$f":"RV102-RV39","v":0},{"$f":"RW102-RW39","v":0},{"$f":"RX102-RX39","v":0},{"$f":"RY102-RY39","v":0},{"$f":"RZ102-RZ39","v":0},{"$f":"SA102-SA39","v":0},{"$f":"SB102-SB39","v":0},{"$f":"SC102-SC39","v":0},{"$f":"SD102-SD39","v":0},{"$f":"SE102-SE39","v":0},{"$f":"SF102-SF39","v":0},{"$f":"SG102-SG39","v":0},{"$f":"SH102-SH39","v":0},{"$f":"SI102-SI39","v":0},{"$f":"SJ102-SJ39","v":0},{"$f":"SK102-SK39","v":0},{"$f":"SL102-SL39","v":0},{"$f":"SM102-SM39","v":0},{"$f":"SN102-SN39","v":0},{"$f":"SO102-SO39","v":0},{"$f":"SP102-SP39","v":0},{"$f":"SQ102-SQ39","v":0},{"$f":"SR102-SR39","v":0},{"$f":"SS102-SS39","v":0},{"$f":"ST102-ST39","v":0},{"$f":"SU102-SU39","v":0},{"$f":"SV102-SV39","v":0},{"$f":"SW102-SW39","v":0},{"$f":"SX102-SX39","v":0},{"$f":"SY102-SY39","v":0},{"$f":"SZ102-SZ39","v":0},{"$f":"TA102-TA39","v":0},{"$f":"TB102-TB39","v":0},{"$f":"TC102-TC39","v":0},{"$f":"TD102-TD39","v":0},{"$f":"TE102-TE39","v":0},{"$f":"TF102-TF39","v":0},{"$f":"TG102-TG39","v":0},{"$f":"TH102-TH39","v":0},{"$f":"TI102-TI39","v":0},{"$f":"TJ102-TJ39","v":0},{"$f":"TK102-TK39","v":0},{"$f":"TL102-TL39","v":0},{"$f":"TM102-TM39","v":0},{"$f":"TN102-TN39","v":0},{"$f":"TO102-TO39","v":0},{"$f":"TP102-TP39","v":0},{"$f":"TQ102-TQ39","v":0},{"$f":"TR102-TR39","v":0},{"$f":"TS102-TS39","v":0},{"$f":"TT102-TT39","v":0},{"$f":"TU102-TU39","v":0},{"$f":"TV102-TV39","v":0},{"$f":"TW102-TW39","v":0},{"$f":"TX102-TX39","v":0},{"$f":"TY102-TY39","v":0},{"$f":"TZ102-TZ39","v":0},{"$f":"UA102-UA39","v":0},{"$f":"UB102-UB39","v":0},{"$f":"UC102-UC39","v":0},{"$f":"UD102-UD39","v":0},{"$f":"UE102-UE39","v":0},{"$f":"UF102-UF39","v":0},{"$f":"UG102-UG39","v":0},{"$f":"UH102-UH39","v":0},{"$f":"UI102-UI39","v":0},{"$f":"UJ102-UJ39","v":0},{"$f":"UK102-UK39","v":0},{"$f":"UL102-UL39","v":0},{"$f":"UM102-UM39","v":0},{"$f":"UN102-UN39","v":0},{"$f":"UO102-UO39","v":0}]
[null,null,null,"Equity IRR","%",{"$f":"IFERROR(XIRR(K106:UO106,K5:UO5),FALSE)","v":false},null,null,"%"]
[]
[null,null,null,"Debt Cash Flow","%",{"$f":"XIRR(K109:UO109,K5:UO5)","v":{"$error":"#NUM!"}},null,null,"EUR",null,{"$f":"K97+K98-K100+K101-K38","v":-19753.086419753086},{"$f":"L97+L98-L100+L101-L38","v":-32921.810699588474},{"$f":"M97+M98-M100+M101-M38","v":-34019.204389574756},{"$f":"N97+N98-N100+N101-N38","v":-32921.810699588474},{"$f":"O97+O98-O100+O101-O38","v":-34019.204389574756},{"$f":"P97+P98-P100+P101-P38","v":-34019.204389574756},{"$f":"Q97+Q98-Q100+Q101-Q38","v":-30727.023319615913},{"$f":"R97+R98-R100+R101-R38","v":-34019.204389574756},{"$f":"S97+S98-S100+S101-S38","v":-32921.810699588474},{"$f":"T97+T98-T100+T101-T38","v":-34019.204389574756},{"$f":"U97+U98-U100+U101-U38","v":-32921.810699588474},{"$f":"V97+V98-V100+V101-V38","v":-34019.204389574756},{"$f":"W97+W98-W100+W101-W38","v":-34019.204389574756},{"$f":"X97+X98-X100+X101-X38","v":-32921.810699588474},{"$f":"Y97+Y98-Y100+Y101-Y38","v":-34019.204389574756},{"$f":"Z97+Z98-Z100+Z101-Z38","v":-32921.810699588474},{"$f":"AA97+AA98-AA100+AA101-AA38","v":-34019.204389574756},{"$f":"AB97+AB98-AB100+AB101-AB38","v":-34019.204389574756},{"$f":"AC97+AC98-AC100+AC101-AC38","v":-31824.417009602192},{"$f":"AD97+AD98-AD100+AD101-AD38","v":-34019.204389574756},{"$f":"AE97+AE98-AE100+AE101-AE38","v":-32921.810699588474},{"$f":"AF97+AF98-AF100+AF101-AF38","v":-34019.204389574756},{"$f":"AG97+AG98-AG100+AG101-AG38","v":-32921.810699588474},{"$f":"AH97+AH98-AH100+AH101-AH38","v":-34019.204389574756},{"$f":"AI97+AI98-AI100+AI101-AI38","v":23528.669410150891},{"$f":"AJ97+AJ98-AJ100+AJ101-AJ38","v":35600},{"$f":"AK97+AK98-AK100+AK101-AK38","v":35600},{"$f":"AL97+AL98-AL100+AL101-AL38","v":35600},{"$f":"AM97+AM98-AM100+AM101-AM38","v":35600},{"$f":"AN97+AN98-AN100+AN101-AN38","v":35600},{"$f":"AO97+AO98-AO100+AO101-AO38","v":44400},{"$f":"AP97+AP98-AP100+AP101-AP38","v":44400},{"$f":"AQ97+AQ98-AQ100+AQ101-AQ38","v":44400},{"$f":"AR97+AR98-AR100+AR101-AR38","v":44400},{"$f":"AS97+AS98-AS100+AS101-AS38","v":44400},{"$f":"AT97+AT98-AT100+AT101-AT38","v":44400},{"$f":"AU97+AU98-AU100+AU101-AU38","v":35600},{"$f":"AV97+AV98-AV100+AV101-AV38","v":35600},{"$f":"AW97+AW98-AW100+AW101-AW38","v":35600},{"$f":"AX97+AX98-AX100+AX101-AX38","v":35600},{"$f":"AY97+AY98-AY100+AY101-AY38","v":35600},{"$f":"AZ97+AZ98-AZ100+AZ101-AZ38","v":35600},{"$f":"BA97+BA98-BA100+BA101-BA38","v":44400},{"$f":"BB97+BB98-BB100+BB101-BB38","v":44400},{"$f":"BC97+BC98-BC100+BC101-BC38","v":44400},{"$f":"BD97+BD98-BD100+BD101-BD38","v":44400},{"$f":"BE97+BE98-BE100+BE101-BE38","v":44400},{"$f":"BF97+BF98-BF100+BF101-BF38","v":44400},{"$f":"BG97+BG98-BG100+BG101-BG38","v":35600},{"$f":"BH97+BH98-BH100+BH101-BH38","v":35600},{"$f":"BI97+BI98-BI100+BI101-BI38","v":35600},{"$f":"BJ97+BJ98-BJ100+BJ101-BJ38","v":35600},{"$f":"BK97+BK98-BK100+BK101-BK38","v":35600},{"$f":"BL97+BL98-BL100+BL101-BL38","v":35600},{"$f":"BM97+BM98-BM100+BM101-BM38","v":44400},{"$f":"BN97+BN98-BN100+BN101-BN38","v":44400},{"$f":"BO97+BO98-BO100+BO101-BO38","v":44400},{"$f":"BP97+BP98-BP100+BP101-BP38","v":44400},{"$f":"BQ97+BQ98-BQ100+BQ101-BQ38","v":44400},{"$f":"BR97+BR98-BR100+BR101-BR38","v":44400},{"$f":"BS97+BS98-BS100+BS101-BS38","v":35600},{"$f":"BT97+BT98-BT100+BT101-BT38","v":35600},{"$f":"BU97+BU98-BU100+BU101-BU38","v":35600},{"$f":"BV97+BV98-BV100+BV101-BV38","v":35600},{"$f":"BW97+BW98-BW100+BW101-BW38","v":35600},{"$f":"BX97+BX98-BX100+BX101-BX38","v":35600},{"$f":"BY97+BY98-BY100+BY101-BY38","v":44400},{"$f":"BZ97+BZ98-BZ100+BZ101-BZ38","v":44400},{"$f":"CA97+CA98-CA100+CA101-CA38","v":44400},{"$f":"CB97+CB98-CB100+CB101-CB38","v":44400},{"$f":"CC97+CC98-CC100+CC101-CC38","v":44400},{"$f":"CD97+CD98-CD100+CD101-CD38","v":44400},{"$f":"CE97+CE98-CE100+CE101-CE38","v":35600},{"$f":"CF97+CF98-CF100+CF101-CF38","v":35600},{"$f":"CG97+CG98-CG100+CG101-CG38","v":35600},{"$f":"CH97+CH98-CH100+CH101-CH38","v":35600},{"$f":"CI97+CI98-CI100+CI101-CI38","v":35600},{"$f":"CJ97+CJ98-CJ100+CJ101-CJ38","v":35600},{"$f":"CK97+CK98-CK100+CK101-CK38","v":44400},{"$f":"CL97+CL98-CL100+CL101-CL38","v":44400},{"$f":"CM97+CM98-CM100+CM101-CM38","v":44400},{"$f":"CN97+CN98-CN100+CN101-CN38","v":44400},{"$f":"CO97+CO98-CO100+CO101-CO38","v":44400},{"$f":"CP97+CP98-CP100+CP101-CP38","v":44400},{"$f":"CQ97+CQ98-CQ100+CQ101-CQ38","v":35600},{"$f":"CR97+CR98-CR100+CR101-CR38","v":35600},{"$f":"CS97+CS98-CS100+CS101-CS38","v":35600},{"$f":"CT97+CT98-CT100+CT101-CT38","v":35600},{"$f":"CU97+CU98-CU100+CU101-CU38","v":35600},{"$f":"CV97+CV98-CV100+CV101-CV38","v":35600},{"$f":"CW97+CW98-CW100+CW101-CW38","v":44400},{"$f":"CX97+CX98-CX100+CX101-CX38","v":44400},{"$f":"CY97+CY98-CY100+CY101-CY38","v":44400},{"$f":"CZ97+CZ98-CZ100+CZ101-CZ38","v":44400},{"$f":"DA97+DA98-DA100+DA101-DA38","v":44400},{"$f":"DB97+DB98-DB100+DB101-DB38","v":44400},{"$f":"DC97+DC98-DC100+DC101-DC38","v":35600},{"$f":"DD97+DD98-DD100+DD101-DD38","v":35600},{"$f":"DE97+DE98-DE100+DE101-DE38","v":35600},{"$f":"DF97+DF98-DF100+DF101-DF38","v":35600},{"$f":"DG97+DG98-DG100+DG101-DG38","v":35600},{"$f":"DH97+DH98-DH100+DH101-DH38","v":35600},{"$f":"DI97+DI98-DI100+DI101-DI38","v":44400},{"$f":"DJ97+DJ98-DJ100+DJ101-DJ38","v":44400},{"$f":"DK97+DK98-DK100+DK101-DK38","v":44400},{"$f":"DL97+DL98-DL100+DL101-DL38","v":44400},{"$f":"DM97+DM98-DM100+DM101-DM38","v":44400},{"$f":"DN97+DN98-DN100+DN101-DN38","v":44400},{"$f":"DO97+DO98-DO100+DO101-DO38","v":35600},{"$f":"DP97+DP98-DP100+DP101-DP38","v":35600},{"$f":"DQ97+DQ98-DQ100+DQ101-DQ38","v":35600},{"$f":"DR97+DR98-DR100+DR101-DR38","v":35600},{"$f":"DS97+DS98-DS100+DS101-DS38","v":35600},{"$f":"DT97+DT98-DT100+DT101-DT38","v":35600},{"$f":"DU97+DU98-DU100+DU101-DU38","v":44400},{"$f":"DV97+DV98-DV100+DV101-DV38","v":44400},{"$f":"DW97+DW98-DW100+DW101-DW38","v":44400},{"$f":"DX97+DX98-DX100+DX101-DX38","v":44400},{"$f":"DY97+DY98-DY100+DY101-DY38","v":44400},{"$f":"DZ97+DZ98-DZ100+DZ101-DZ38","v":44400},{"$f":"EA97+EA98-EA100+EA101-EA38","v":35600},{"$f":"EB97+EB98-EB100+EB101-EB38","v":35600},{"$f":"EC97+EC98-EC100+EC101-EC38","v":35600},{"$f":"ED97+ED98-ED100+ED101-ED38","v":35600},{"$f":"EE97+EE98-EE100+EE101-EE38","v":35600},{"$f":"EF97+EF98-EF100+EF101-EF38","v":35600},{"$f":"EG97+EG98-EG100+EG101-EG38","v":44400},{"$f":"EH97+EH98-EH100+EH101-EH38","v":44400},{"$f":"EI97+EI98-EI100+EI101-EI38","v":44400},{"$f":"EJ97+EJ98-EJ100+EJ101-EJ38","v":44400},{"$f":"EK97+EK98-EK100+EK101-EK38","v":44400},{"$f":"EL97+EL98-EL100+EL101-EL38","v":44400},{"$f":"EM97+EM98-EM100+EM101-EM38","v":35600},{"$f":"EN97+EN98-EN100+EN101-EN38","v":35600},{"$f":"EO97+EO98-EO100+EO101-EO38","v":35600},{"$f":"EP97+EP98-EP100+EP101-EP38","v":35600},{"$f":"EQ97+EQ98-EQ100+EQ101-EQ38","v":35600},{"$f":"ER97+ER98-ER100+ER101-ER38","v":35600},{"$f":"ES97+ES98-ES100+ES101-ES38","v":44400},{"$f":"ET97+ET98-ET100+ET101-ET38","v":44400},{"$f":"EU97+EU98-EU100+EU101-EU38","v":44400},{"$f":"EV97+EV98-EV100+EV101-EV38","v":44400},{"$f":"EW97+EW98-EW100+EW101-EW38","v":44400},{"$f":"EX97+EX98-EX100+EX101-EX38","v":44400},{"$f":"EY97+EY98-EY100+EY101-EY38","v":35600},{"$f":"EZ97+EZ98-EZ100+EZ101-EZ38","v":35600},{"$f":"FA97+FA98-FA100+FA101-FA38","v":35600},{"$f":"FB97+FB98-FB100+FB101-FB38","v":35600},{"$f":"FC97+FC98-FC100+FC101-FC38","v":35600},{"$f":"FD97+FD98-FD100+FD101-FD38","v":35600},{"$f":"FE97+FE98-FE100+FE101-FE38","v":44400},{"$f":"FF97+FF98-FF100+FF101-FF38","v":44400},{"$f":"FG97+FG98-FG100+FG101-FG38","v":44400},{"$f":"FH97+FH98-FH100+FH101-FH38","v":44400},{"$f":"FI97+FI98-FI100+FI101-FI38","v":44400},{"$f":"FJ97+FJ98-FJ100+FJ101-FJ38","v":44400},{"$f":"FK97+FK98-FK100+FK101-FK38","v":35600},{"$f":"FL97+FL98-FL100+FL101-FL38","v":35600},{"$f":"FM97+FM98-FM100+FM101-FM38","v":35600},{"$f":"FN97+FN98-FN100+FN101-FN38","v":35600},{"$f":"FO97+FO98-FO100+FO101-FO38","v":35600},{"$f":"FP97+FP98-FP100+FP101-FP38","v":35600},{"$f":"FQ97+FQ98-FQ100+FQ101-FQ38","v":44400},{"$f":"FR97+FR98-FR100+FR101-FR38","v":44400},{"$f":"FS97+FS98-FS100+FS101-FS38","v":44400},{"$f":"FT97+FT98-FT100+FT101-FT38","v":44400},{"$f":"FU97+FU98-FU100+FU101-FU38","v":44400},{"$f":"FV97+FV98-FV100+FV101-FV38","v":44400},{"$f":"FW97+FW98-FW100+FW101-FW38","v":35600},{"$f":"FX97+FX98-FX100+FX101-FX38","v":35600},{"$f":"FY97+FY98-FY100+FY101-FY38","v":35600},{"$f":"FZ97+FZ98-FZ100+FZ101-FZ38","v":35600},{"$f":"GA97+GA98-GA100+GA101-GA38","v":35600},{"$f":"GB97+GB98-GB100+GB101-GB38","v":35600},{"$f":"GC97+GC98-GC100+GC101-GC38","v":44400},{"$f":"GD97+GD98-GD100+GD101-GD38","v":44400},{"$f":"GE97+GE98-GE100+GE101-GE38","v":44400},{"$f":"GF97+GF98-GF100+GF101-GF38","v":44400},{"$f":"GG97+GG98-GG100+GG101-GG38","v":44400},{"$f":"GH97+GH98-GH100+GH101-GH38","v":44400},{"$f":"GI97+GI98-GI100+GI101-GI38","v":35600},{"$f":"GJ97+GJ98-GJ100+GJ101-GJ38","v":35600},{"$f":"GK97+GK98-GK100+GK101-GK38","v":35600},{"$f":"GL97+GL98-GL100+GL101-GL38","v":35600},{"$f":"GM97+GM98-GM100+GM101-GM38","v":35600},{"$f":"GN97+GN98-GN100+GN101-GN38","v":35600},{"$f":"GO97+GO98-GO100+GO101-GO38","v":44400},{"$f":"GP97+GP98-GP100+GP101-GP38","v":44400},{"$f":"GQ97+GQ98-GQ100+GQ101-GQ38","v":44400},{"$f":"GR97+GR98-GR100+GR101-GR38","v":44400},{"$f":"GS97+GS98-GS100+GS101-GS38","v":44400},{"$f":"GT97+GT98-GT100+GT101-GT38","v":44400},{"$f":"GU97+GU98-GU100+GU101-GU38","v":35600},{"$f":"GV97+GV98-GV100+GV101-GV38","v":35600},{"$f":"GW97+GW98-GW100+GW101-GW38","v":35600},{"$f":"GX97+GX98-GX100+GX101-GX38","v":35600},{"$f":"GY97+GY98-GY100+GY101-GY38","v":35600},{"$f":"GZ97+GZ98-GZ100+GZ101-GZ38","v":35600},{"$f":"HA97+HA98-HA100+HA101-HA38","v":44400},{"$f":"HB97+HB98-HB100+HB101-HB38","v":44400},{"$f":"HC97+HC98-HC100+HC101-HC38","v":44400},{"$f":"HD97+HD98-HD100+HD101-HD38","v":44400},{"$f":"HE97+HE98-HE100+HE101-HE38","v":44400},{"$f":"HF97+HF98-HF100+HF101-HF38","v":44400},{"$f":"HG97+HG98-HG100+HG101-HG38","v":35600},{"$f":"HH97+HH98-HH100+HH101-HH38","v":35600},{"$f":"HI97+HI98-HI100+HI101-HI38","v":35600},{"$f":"HJ97+HJ98-HJ100+HJ101-HJ38","v":35600},{"$f":"HK97+HK98-HK100+HK101-HK38","v":35600},{"$f":"HL97+HL98-HL100+HL101-HL38","v":35600},{"$f":"HM97+HM98-HM100+HM101-HM38","v":44400},{"$f":"HN97+HN98-HN100+HN101-HN38","v":44400},{"$f":"HO97+HO98-HO100+HO101-HO38","v":44400},{"$f":"HP97+HP98-HP100+HP101-HP38","v":44400},{"$f":"HQ97+HQ98-HQ100+HQ101-HQ38","v":44400},{"$f":"HR97+HR98-HR100+HR101-HR38","v":44400},{"$f":"HS97+HS98-HS100+HS101-HS38","v":35600},{"$f":"HT97+HT98-HT100+HT101-HT38","v":35600},{"$f":"HU97+HU98-HU100+HU101-HU38","v":35600},{"$f":"HV97+HV98-HV100+HV101-HV38","v":35600},{"$f":"HW97+HW98-HW100+HW101-HW38","v":35600},{"$f":"HX97+HX98-HX100+HX101-HX38","v":35600},{"$f":"HY97+HY98-HY100+HY101-HY38","v":44400},{"$f":"HZ97+HZ98-HZ100+HZ101-HZ38","v":44400},{"$f":"IA97+IA98-IA100+IA101-IA38","v":44400},{"$f":"IB97+IB98-IB100+IB101-IB38","v":44400},{"$f":"IC97+IC98-IC100+IC101-IC38","v":44400},{"$f":"ID97+ID98-ID100+ID101-ID38","v":44400},{"$f":"IE97+IE98-IE100+IE101-IE38","v":35600},{"$f":"IF97+IF98-IF100+IF101-IF38","v":35600},{"$f":"IG97+IG98-IG100+IG101-IG38","v":35600},{"$f":"IH97+IH98-IH100+IH101-IH38","v":35600},{"$f":"II97+II98-II100+II101-II38","v":35600},{"$f":"IJ97+IJ98-IJ100+IJ101-IJ38","v":35600},{"$f":"IK97+IK98-IK100+IK101-IK38","v":44400},{"$f":"IL97+IL98-IL100+IL101-IL38","v":44400},{"$f":"IM97+IM98-IM100+IM101-IM38","v":44400},{"$f":"IN97+IN98-IN100+IN101-IN38","v":44400},{"$f":"IO97+IO98-IO100+IO101-IO38","v":44400},{"$f":"IP97+IP98-IP100+IP101-IP38","v":44400},{"$f":"IQ97+IQ98-IQ100+IQ101-IQ38","v":35600},{"$f":"IR97+IR98-IR100+IR101-IR38","v":35600},{"$f":"IS97+IS98-IS100+IS101-IS38","v":35600},{"$f":"IT97+IT98-IT100+IT101-IT38","v":35600},{"$f":"IU97+IU98-IU100+IU101-IU38","v":35600},{"$f":"IV97+IV98-IV100+IV101-IV38","v":35600},{"$f":"IW97+IW98-IW100+IW101-IW38","v":44400},{"$f":"IX97+IX98-IX100+IX101-IX38","v":44400},{"$f":"IY97+IY98-IY100+IY101-IY38","v":44400},{"$f":"IZ97+IZ98-IZ100+IZ101-IZ38","v":44400},{"$f":"JA97+JA98-JA100+JA101-JA38","v":44400},{"$f":"JB97+JB98-JB100+JB101-JB38","v":44400},{"$f":"JC97+JC98-JC100+JC101-JC38","v":35600},{"$f":"JD97+JD98-JD100+JD101-JD38","v":35600},{"$f":"JE97+JE98-JE100+JE101-JE38","v":35600},{"$f":"JF97+JF98-JF100+JF101-JF38","v":35600},{"$f":"JG97+JG98-JG100+JG101-JG38","v":35600},{"$f":"JH97+JH98-JH100+JH101-JH38","v":35600},{"$f":"JI97+JI98-JI100+JI101-JI38","v":44400},{"$f":"JJ97+JJ98-JJ100+JJ101-JJ38","v":44400},{"$f":"JK97+JK98-JK100+JK101-JK38","v":44400},{"$f":"JL97+JL98-JL100+JL101-JL38","v":44400},{"$f":"JM97+JM98-JM100+JM101-JM38","v":44400},{"$f":"JN97+JN98-JN100+JN101-JN38","v":44400},{"$f":"JO97+JO98-JO100+JO101-JO38","v":35600},{"$f":"JP97+JP98-JP100+JP101-JP38","v":35600},{"$f":"JQ97+JQ98-JQ100+JQ101-JQ38","v":35600},{"$f":"JR97+JR98-JR100+JR101-JR38","v":35600},{"$f":"JS97+JS98-JS100+JS101-JS38","v":35600},{"$f":"JT97+JT98-JT100+JT101-JT38","v":35600},{"$f":"JU97+JU98-JU100+JU101-JU38","v":44400},{"$f":"JV97+JV98-JV100+JV101-JV38","v":44400},{"$f":"JW97+JW98-JW100+JW101-JW38","v":44400},{"$f":"JX97+JX98-JX100+JX101-JX38","v":44400},{"$f":"JY97+JY98-JY100+JY101-JY38","v":44400},{"$f":"JZ97+JZ98-JZ100+JZ101-JZ38","v":44400},{"$f":"KA97+KA98-KA100+KA101-KA38","v":35600},{"$f":"KB97+KB98-KB100+KB101-KB38","v":35600},{"$f":"KC97+KC98-KC100+KC101-KC38","v":35600},{"$f":"KD97+KD98-KD100+KD101-KD38","v":35600},{"$f":"KE97+KE98-KE100+KE101-KE38","v":35600},{"$f":"KF97+KF98-KF100+KF101-KF38","v":35600},{"$f":"KG97+KG98-KG100+KG101-KG38","v":44400},{"$f":"KH97+KH98-KH100+KH101-KH38","v":44400},{"$f":"KI97+KI98-KI100+KI101-KI38","v":44400},{"$f":"KJ97+KJ98-KJ100+KJ101-KJ38","v":44400},{"$f":"KK97+KK98-KK100+KK101-KK38","v":44400},{"$f":"KL97+KL98-KL100+KL101-KL38","v":44400},{"$f":"KM97+KM98-KM100+KM101-KM38","v":35600},{"$f":"KN97+KN98-KN100+KN101-KN38","v":35600},{"$f":"KO97+KO98-KO100+KO101-KO38","v":35600},{"$f":"KP97+KP98-KP100+KP101-KP38","v":35600},{"$f":"KQ97+KQ98-KQ100+KQ101-KQ38","v":35600},{"$f":"KR97+KR98-KR100+KR101-KR38","v":35600},{"$f":"KS97+KS98-KS100+KS101-KS38","v":44400},{"$f":"KT97+KT98-KT100+KT101-KT38","v":44400},{"$f":"KU97+KU98-KU100+KU101-KU38","v":44400},{"$f":"KV97+KV98-KV100+KV101-KV38","v":44400},{"$f":"KW97+KW98-KW100+KW101-KW38","v":44400},{"$f":"KX97+KX98-KX100+KX101-KX38","v":44400},{"$f":"KY97+KY98-KY100+KY101-KY38","v":35600},{"$f":"KZ97+KZ98-KZ100+KZ101-KZ38","v":35600},{"$f":"LA97+LA98-LA100+LA101-LA38","v":35600},{"$f":"LB97+LB98-LB100+LB101-LB38","v":35600},{"$f":"LC97+LC98-LC100+LC101-LC38","v":35600},{"$f":"LD97+LD98-LD100+LD101-LD38","v":35600},{"$f":"LE97+LE98-LE100+LE101-LE38","v":44400},{"$f":"LF97+LF98-LF100+LF101-LF38","v":44400},{"$f":"LG97+LG98-LG100+LG101-LG38","v":44400},{"$f":"LH97+LH98-LH100+LH101-LH38","v":44400},{"$f":"LI97+LI98-LI100+LI101-LI38","v":44400},{"$f":"LJ97+LJ98-LJ100+LJ101-LJ38","v":44400},{"$f":"LK97+LK98-LK100+LK101-LK38","v":35600},{"$f":"LL97+LL98-LL100+LL101-LL38","v":35600},{"$f":"LM97+LM98-LM100+LM101-LM38","v":35600},{"$f":"LN97+LN98-LN100+LN101-LN38","v":35600},{"$f":"LO97+LO98-LO100+LO101-LO38","v":35600},{"$f":"LP97+LP98-LP100+LP101-LP38","v":35600},{"$f":"LQ97+LQ98-LQ100+LQ101-LQ38","v":44400},{"$f":"LR97+LR98-LR100+LR101-LR38","v":44400},{"$f":"LS97+LS98-LS100+LS101-LS38","v":44400},{"$f":"LT97+LT98-LT100+LT101-LT38","v":44400},{"$f":"LU97+LU98-LU100+LU101-LU38","v":44400},{"$f":"LV97+LV98-LV100+LV101-LV38","v":44400},{"$f":"LW97+LW98-LW100+LW101-LW38","v":35600},{"$f":"LX97+LX98-LX100+LX101-LX38","v":35600},{"$f":"LY97+LY98-LY100+LY101-LY38","v":35600},{"$f":"LZ97+LZ98-LZ100+LZ101-LZ38","v":35600},{"$f":"MA97+MA98-MA100+MA101-MA38","v":35600},{"$f":"MB97+MB98-MB100+MB101-MB38","v":35600},{"$f":"MC97+MC98-MC100+MC101-MC38","v":44400},{"$f":"MD97+MD98-MD100+MD101-MD38","v":44400},{"$f":"ME97+ME98-ME100+ME101-ME38","v":44400},{"$f":"MF97+MF98-MF100+MF101-MF38","v":44400},{"$f":"MG97+MG98-MG100+MG101-MG38","v":44400},{"$f":"MH97+MH98-MH100+MH101-MH38","v":44400},{"$f":"MI97+MI98-MI100+MI101-MI38","v":35600},{"$f":"MJ97+MJ98-MJ100+MJ101-MJ38","v":35600},{"$f":"MK97+MK98-MK100+MK101-MK38","v":35600},{"$f":"ML97+ML98-ML100+ML101-ML38","v":35600},{"$f":"MM97+MM98-MM100+MM101-MM38","v":35600},{"$f":"MN97+MN98-MN100+MN101-MN38","v":35600},{"$f":"MO97+MO98-MO100+MO101-MO38","v":44400},{"$f":"MP97+MP98-MP100+MP101-MP38","v":44400},{"$f":"MQ97+MQ98-MQ100+MQ101-MQ38","v":44400},{"$f":"MR97+MR98-MR100+MR101-MR38","v":44400},{"$f":"MS97+MS98-MS100+MS101-MS38","v":44400},{"$f":"MT97+MT98-MT100+MT101-MT38","v":44400},{"$f":"MU97+MU98-MU100+MU101-MU38","v":35600},{"$f":"MV97+MV98-MV100+MV101-MV38","v":35600},{"$f":"MW97+MW98-MW100+MW101-MW38","v":35600},{"$f":"MX97+MX98-MX100+MX101-MX38","v":35600},{"$f":"MY97+MY98-MY100+MY101-MY38","v":35600},{"$f":"MZ97+MZ98-MZ100+MZ101-MZ38","v":35600},{"$f":"NA97+NA98-NA100+NA101-NA38","v":44400},{"$f":"NB97+NB98-NB100+NB101-NB38","v":44400},{"$f":"NC97+NC98-NC100+NC101-NC38","v":44400},{"$f":"ND97+ND98-ND100+ND101-ND38","v":44400},{"$f":"NE97+NE98-NE100+NE101-NE38","v":44400},{"$f":"NF97+NF98-NF100+NF101-NF38","v":44400},{"$f":"NG97+NG98-NG100+NG101-NG38","v":35600},{"$f":"NH97+NH98-NH100+NH101-NH38","v":35600},{"$f":"NI97+NI98-NI100+NI101-NI38","v":35600},{"$f":"NJ97+NJ98-NJ100+NJ101-NJ38","v":35600},{"$f":"NK97+NK98-NK100+NK101-NK38","v":35600},{"$f":"NL97+NL98-NL100+NL101-NL38","v":35600},{"$f":"NM97+NM98-NM100+NM101-NM38","v":44400},{"$f":"NN97+NN98-NN100+NN101-NN38","v":44400},{"$f":"NO97+NO98-NO100+NO101-NO38","v":44400},{"$f":"NP97+NP98-NP100+NP101-NP38","v":44400},{"$f":"NQ97+NQ98-NQ100+NQ101-NQ38","v":44400},{"$f":"NR97+NR98-NR100+NR101-NR38","v":44400},{"$f":"NS97+NS98-NS100+NS101-NS38","v":35600},{"$f":"NT97+NT98-NT100+NT101-NT38","v":35600},{"$f":"NU97+NU98-NU100+NU101-NU38","v":35600},{"$f":"NV97+NV98-NV100+NV101-NV38","v":35600},{"$f":"NW97+NW98-NW100+NW101-NW38","v":35600},{"$f":"NX97+NX98-NX100+NX101-NX38","v":35600},{"$f":"NY97+NY98-NY100+NY101-NY38","v":44400},{"$f":"NZ97+NZ98-NZ100+NZ101-NZ38","v":44400},{"$f":"OA97+OA98-OA100+OA101-OA38","v":44400},{"$f":"OB97+OB98-OB100+OB101-OB38","v":44400},{"$f":"OC97+OC98-OC100+OC101-OC38","v":44400},{"$f":"OD97+OD98-OD100+OD101-OD38","v":44400},{"$f":"OE97+OE98-OE100+OE101-OE38","v":35600},{"$f":"OF97+OF98-OF100+OF101-OF38","v":35600},{"$f":"OG97+OG98-OG100+OG101-OG38","v":35600},{"$f":"OH97+OH98-OH100+OH101-OH38","v":35600},{"$f":"OI97+OI98-OI100+OI101-OI38","v":35600},{"$f":"OJ97+OJ98-OJ100+OJ101-OJ38","v":35600},{"$f":"OK97+OK98-OK100+OK101-OK38","v":44400},{"$f":"OL97+OL98-OL100+OL101-OL38","v":44400},{"$f":"OM97+OM98-OM100+OM101-OM38","v":44400},{"$f":"ON97+ON98-ON100+ON101-ON38","v":44400},{"$f":"OO97+OO98-OO100+OO101-OO38","v":44400},{"$f":"OP97+OP98-OP100+OP101-OP38","v":44400},{"$f":"OQ97+OQ98-OQ100+OQ101-OQ38","v":35600},{"$f":"OR97+OR98-OR100+OR101-OR38","v":35600},{"$f":"OS97+OS98-OS100+OS101-OS38","v":35600},{"$f":"OT97+OT98-OT100+OT101-OT38","v":35600},{"$f":"OU97+OU98-OU100+OU101-OU38","v":35600},{"$f":"OV97+OV98-OV100+OV101-OV38","v":35600},{"$f":"OW97+OW98-OW100+OW101-OW38","v":44400},{"$f":"OX97+OX98-OX100+OX101-OX38","v":44400},{"$f":"OY97+OY98-OY100+OY101-OY38","v":44400},{"$f":"OZ97+OZ98-OZ100+OZ101-OZ38","v":44400},{"$f":"PA97+PA98-PA100+PA101-PA38","v":44400},{"$f":"PB97+PB98-PB100+PB101-PB38","v":44400},{"$f":"PC97+PC98-PC100+PC101-PC38","v":35600},{"$f":"PD97+PD98-PD100+PD101-PD38","v":35600},{"$f":"PE97+PE98-PE100+PE101-PE38","v":35600},{"$f":"PF97+PF98-PF100+PF101-PF38","v":35600},{"$f":"PG97+PG98-PG100+PG101-PG38","v":35600},{"$f":"PH97+PH98-PH100+PH101-PH38","v":35600},{"$f":"PI97+PI98-PI100+PI101-PI38","v":44400},{"$f":"PJ97+PJ98-PJ100+PJ101-PJ38","v":44400},{"$f":"PK97+PK98-PK100+PK101-PK38","v":44400},{"$f":"PL97+PL98-PL100+PL101-PL38","v":44400},{"$f":"PM97+PM98-PM100+PM101-PM38","v":44400},{"$f":"PN97+PN98-PN100+PN101-PN38","v":44400},{"$f":"PO97+PO98-PO100+PO101-PO38","v":35600},{"$f":"PP97+PP98-PP100+PP101-PP38","v":35600},{"$f":"PQ97+PQ98-PQ100+PQ101-PQ38","v":35600},{"$f":"PR97+PR98-PR100+PR101-PR38","v":35600},{"$f":"PS97+PS98-PS100+PS101-PS38","v":35600},{"$f":"PT97+PT98-PT100+PT101-PT38","v":35600},{"$f":"PU97+PU98-PU100+PU101-PU38","v":44400},{"$f":"PV97+PV98-PV100+PV101-PV38","v":44400},{"$f":"PW97+PW98-PW100+PW101-PW38","v":44400},{"$f":"PX97+PX98-PX100+PX101-PX38","v":44400},{"$f":"PY97+PY98-PY100+PY101-PY38","v":44400},{"$f":"PZ97+PZ98-PZ100+PZ101-PZ38","v":44400},{"$f":"QA97+QA98-QA100+QA101-QA38","v":35600},{"$f":"QB97+QB98-QB100+QB101-QB38","v":35600},{"$f":"QC97+QC98-QC100+QC101-QC38","v":35600},{"$f":"QD97+QD98-QD100+QD101-QD38","v":35600},{"$f":"QE97+QE98-QE100+QE101-QE38","v":35600},{"$f":"QF97+QF98-QF100+QF101-QF38","v":35600},{"$f":"QG97+QG98-QG100+QG101-QG38","v":44400},{"$f":"QH97+QH98-QH100+QH101-QH38","v":44400},{"$f":"QI97+QI98-QI100+QI101-QI38","v":44400},{"$f":"QJ97+QJ98-QJ100+QJ101-QJ38","v":44400},{"$f":"QK97+QK98-QK100+QK101-QK38","v":44400},{"$f":"QL97+QL98-QL100+QL101-QL38","v":44400},{"$f":"QM97+QM98-QM100+QM101-QM38","v":35600},{"$f":"QN97+QN98-QN100+QN101-QN38","v":35600},{"$f":"QO97+QO98-QO100+QO101-QO38","v":35600},{"$f":"QP97+QP98-QP100+QP101-QP38","v":35600},{"$f":"QQ97+QQ98-QQ100+QQ101-QQ38","v":35600},{"$f":"QR97+QR98-QR100+QR101-QR38","v":35600},{"$f":"QS97+QS98-QS100+QS101-QS38","v":44400},{"$f":"QT97+QT98-QT100+QT101-QT38","v":44400},{"$f":"QU97+QU98-QU100+QU101-QU38","v":44400},{"$f":"QV97+QV98-QV100+QV101-QV38","v":44400},{"$f":"QW97+QW98-QW100+QW101-QW38","v":44400},{"$f":"QX97+QX98-QX100+QX101-QX38","v":44400},{"$f":"QY97+QY98-QY100+QY101-QY38","v":35600},{"$f":"QZ97+QZ98-QZ100+QZ101-QZ38","v":35600},{"$f":"RA97+RA98-RA100+RA101-RA38","v":35600},{"$f":"RB97+RB98-RB100+RB101-RB38","v":35600},{"$f":"RC97+RC98-RC100+RC101-RC38","v":35600},{"$f":"RD97+RD98-RD100+RD101-RD38","v":35600},{"$f":"RE97+RE98-RE100+RE101-RE38","v":44400},{"$f":"RF97+RF98-RF100+RF101-RF38","v":44400},{"$f":"RG97+RG98-RG100+RG101-RG38","v":44400},{"$f":"RH97+RH98-RH100+RH101-RH38","v":44400},{"$f":"RI97+RI98-RI100+RI101-RI38","v":44400},{"$f":"RJ97+RJ98-RJ100+RJ101-RJ38","v":44400},{"$f":"RK97+RK98-RK100+RK101-RK38","v":35600},{"$f":"RL97+RL98-RL100+RL101-RL38","v":35600},{"$f":"RM97+RM98-RM100+RM101-RM38","v":35600},{"$f":"RN97+RN98-RN100+RN101-RN38","v":35600},{"$f":"RO97+RO98-RO100+RO101-RO38","v":35600},{"$f":"RP97+RP98-RP100+RP101-RP38","v":35600},{"$f":"RQ97+RQ98-RQ100+RQ101-RQ38","v":44400},{"$f":"RR97+RR98-RR100+RR101-RR38","v":44400},{"$f":"RS97+RS98-RS100+RS101-RS38","v":44400},{"$f":"RT97+RT98-RT100+RT101-RT38","v":44400},{"$f":"RU97+RU98-RU100+RU101-RU38","v":44400},{"$f":"RV97+RV98-RV100+RV101-RV38","v":44400},{"$f":"RW97+RW98-RW100+RW101-RW38","v":35600},{"$f":"RX97+RX98-RX100+RX101-RX38","v":35600},{"$f":"RY97+RY98-RY100+RY101-RY38","v":35600},{"$f":"RZ97+RZ98-RZ100+RZ101-RZ38","v":35600},{"$f":"SA97+SA98-SA100+SA101-SA38","v":35600},{"$f":"SB97+SB98-SB100+SB101-SB38","v":35600},{"$f":"SC97+SC98-SC100+SC101-SC38","v":44400},{"$f":"SD97+SD98-SD100+SD101-SD38","v":44400},{"$f":"SE97+SE98-SE100+SE101-SE38","v":44400},{"$f":"SF97+SF98-SF100+SF101-SF38","v":44400},{"$f":"SG97+SG98-SG100+SG101-SG38","v":44400},{"$f":"SH97+SH98-SH100+SH101-SH38","v":44400},{"$f":"SI97+SI98-SI100+SI101-SI38","v":35600},{"$f":"SJ97+SJ98-SJ100+SJ101-SJ38","v":35600},{"$f":"SK97+SK98-SK100+SK101-SK38","v":35600},{"$f":"SL97+SL98-SL100+SL101-SL38","v":35600},{"$f":"SM97+SM98-SM100+SM101-SM38","v":35600},{"$f":"SN97+SN98-SN100+SN101-SN38","v":35600},{"$f":"SO97+SO98-SO100+SO101-SO38","v":44400},{"$f":"SP97+SP98-SP100+SP101-SP38","v":44400},{"$f":"SQ97+SQ98-SQ100+SQ101-SQ38","v":44400},{"$f":"SR97+SR98-SR100+SR101-SR38","v":44400},{"$f":"SS97+SS98-SS100+SS101-SS38","v":44400},{"$f":"ST97+ST98-ST100+ST101-ST38","v":44400},{"$f":"SU97+SU98-SU100+SU101-SU38","v":10800},{"$f":"SV97+SV98-SV100+SV101-SV38","v":10800},{"$f":"SW97+SW98-SW100+SW101-SW38","v":10800},{"$f":"SX97+SX98-SX100+SX101-SX38","v":10800},{"$f":"SY97+SY98-SY100+SY101-SY38","v":10800},{"$f":"SZ97+SZ98-SZ100+SZ101-SZ38","v":10800},{"$f":"TA97+TA98-TA100+TA101-TA38","v":10800},{"$f":"TB97+TB98-TB100+TB101-TB38","v":10800},{"$f":"TC97+TC98-TC100+TC101-TC38","v":10800},{"$f":"TD97+TD98-TD100+TD101-TD38","v":10800},{"$f":"TE97+TE98-TE100+TE101-TE38","v":10800},{"$f":"TF97+TF98-TF100+TF101-TF38","v":10800},{"$f":"TG97+TG98-TG100+TG101-TG38","v":10800},{"$f":"TH97+TH98-TH100+TH101-TH38","v":10800},{"$f":"TI97+TI98-TI100+TI101-TI38","v":10800},{"$f":"TJ97+TJ98-TJ100+TJ101-TJ38","v":10800},{"$f":"TK97+TK98-TK100+TK101-TK38","v":10800},{"$f":"TL97+TL98-TL100+TL101-TL38","v":10800},{"$f":"TM97+TM98-TM100+TM101-TM38","v":10800},{"$f":"TN97+TN98-TN100+TN101-TN38","v":10800},{"$f":"TO97+TO98-TO100+TO101-TO38","v":10800},{"$f":"TP97+TP98-TP100+TP101-TP38","v":10800},{"$f":"TQ97+TQ98-TQ100+TQ101-TQ38","v":10800},{"$f":"TR97+TR98-TR100+TR101-TR38","v":10800},{"$f":"TS97+TS98-TS100+TS101-TS38","v":10800},{"$f":"TT97+TT98-TT100+TT101-TT38","v":10800},{"$f":"TU97+TU98-TU100+TU101-TU38","v":10800},{"$f":"TV97+TV98-TV100+TV101-TV38","v":10800},{"$f":"TW97+TW98-TW100+TW101-TW38","v":10800},{"$f":"TX97+TX98-TX100+TX101-TX38","v":10800},{"$f":"TY97+TY98-TY100+TY101-TY38","v":10800},{"$f":"TZ97+TZ98-TZ100+TZ101-TZ38","v":10800},{"$f":"UA97+UA98-UA100+UA101-UA38","v":10800},{"$f":"UB97+UB98-UB100+UB101-UB38","v":10800},{"$f":"UC97+UC98-UC100+UC101-UC38","v":10800},{"$f":"UD97+UD98-UD100+UD101-UD38","v":10800},{"$f":"UE97+UE98-UE100+UE101-UE38","v":10800},{"$f":"UF97+UF98-UF100+UF101-UF38","v":10800},{"$f":"UG97+UG98-UG100+UG101-UG38","v":10800},{"$f":"UH97+UH98-UH100+UH101-UH38","v":10800},{"$f":"UI97+UI98-UI100+UI101-UI38","v":10800},{"$f":"UJ97+UJ98-UJ100+UJ101-UJ38","v":10800},{"$f":"UK97+UK98-UK100+UK101-UK38","v":10800},{"$f":"UL97+UL98-UL100+UL101-UL38","v":10800},{"$f":"UM97+UM98-UM100+UM101-UM38","v":10800},{"$f":"UN97+UN98-UN100+UN101-UN38","v":10800},{"$f":"UO97+UO98-UO100+UO101-UO38","v":10800}]
[]
[null,null,null,"CFADS =EBITDA",null,null,null,null,"EUR",null,{"$f":"IF(K6,K21)","v":0},{"$f":"IF(L6,L21)","v":0},{"$f":"IF(M6,M21)","v":0},{"$f":"IF(N6,N21)","v":0},{"$f":"IF(O6,O21)","v":0},{"$f":"IF(P6,P21)","v":0},{"$f":"IF(Q6,Q21)","v":0},{"$f":"IF(R6,R21)","v":0},{"$f":"IF(S6,S21)","v":0},{"$f":"IF(T6,T21)","v":0},{"$f":"IF(U6,U21)","v":0},{"$f":"IF(V6,V21)","v":0},{"$f":"IF(W6,W21)","v":0},{"$f":"IF(X6,X21)","v":0},{"$f":"IF(Y6,Y21)","v":0},{"$f":"IF(Z6,Z21)","v":0},{"$f":"IF(AA6,AA21)","v":0},{"$f":"IF(AB6,AB21)","v":0},{"$f":"IF(AC6,AC21)","v":0},{"$f":"IF(AD6,AD21)","v":0},{"$f":"IF(AE6,AE21)","v":0},{"$f":"IF(AF6,AF21)","v":0},{"$f":"IF(AG6,AG21)","v":0},{"$f":"IF(AH6,AH21)","v":0},{"$f":"IF(AI6,AI21)","v":80000},{"$f":"IF(AJ6,AJ21)","v":80000},{"$f":"IF(AK6,AK21)","v":80000},{"$f":"IF(AL6,AL21)","v":80000},{"$f":"IF(AM6,AM21)","v":80000},{"$f":"IF(AN6,AN21)","v":80000},{"$f":"IF(AO6,AO21)","v":80000},{"$f":"IF(AP6,AP21)","v":80000},{"$f":"IF(AQ6,AQ21)","v":80000},{"$f":"IF(AR6,AR21)","v":80000},{"$f":"IF(AS6,AS21)","v":80000},{"$f":"IF(AT6,AT21)","v":80000},{"$f":"IF(AU6,AU21)","v":80000},{"$f":"IF(AV6,AV21)","v":80000},{"$f":"IF(AW6,AW21)","v":80000},{"$f":"IF(AX6,AX21)","v":80000},{"$f":"IF(AY6,AY21)","v":80000},{"$f":"IF(AZ6,AZ21)","v":80000},{"$f":"IF(BA6,BA21)","v":80000},{"$f":"IF(BB6,BB21)","v":80000},{"$f":"IF(BC6,BC21)","v":80000},{"$f":"IF(BD6,BD21)","v":80000},{"$f":"IF(BE6,BE21)","v":80000},{"$f":"IF(BF6,BF21)","v":80000},{"$f":"IF(BG6,BG21)","v":80000},{"$f":"IF(BH6,BH21)","v":80000},{"$f":"IF(BI6,BI21)","v":80000},{"$f":"IF(BJ6,BJ21)","v":80000},{"$f":"IF(BK6,BK21)","v":80000},{"$f":"IF(BL6,BL21)","v":80000},{"$f":"IF(BM6,BM21)","v":80000},{"$f":"IF(BN6,BN21)","v":80000},{"$f":"IF(BO6,BO21)","v":80000},{"$f":"IF(BP6,BP21)","v":80000},{"$f":"IF(BQ6,BQ21)","v":80000},{"$f":"IF(BR6,BR21)","v":80000},{"$f":"IF(BS6,BS21)","v":80000},{"$f":"IF(BT6,BT21)","v":80000},{"$f":"IF(BU6,BU21)","v":80000},{"$f":"IF(BV6,BV21)","v":80000},{"$f":"IF(BW6,BW21)","v":80000},{"$f":"IF(BX6,BX21)","v":80000},{"$f":"IF(BY6,BY21)","v":80000},{"$f":"IF(BZ6,BZ21)","v":80000},{"$f":"IF(CA6,CA21)","v":80000},{"$f":"IF(CB6,CB21)","v":80000},{"$f":"IF(CC6,CC21)","v":80000},{"$f":"IF(CD6,CD21)","v":80000},{"$f":"IF(CE6,CE21)","v":80000},{"$f":"IF(CF6,CF21)","v":80000},{"$f":"IF(CG6,CG21)","v":80000},{"$f":"IF(CH6,CH21)","v":80000},{"$f":"IF(CI6,CI21)","v":80000},{"$f":"IF(CJ6,CJ21)","v":80000},{"$f":"IF(CK6,CK21)","v":80000},{"$f":"IF(CL6,CL21)","v":80000},{"$f":"IF(CM6,CM21)","v":80000},{"$f":"IF(CN6,CN21)","v":80000},{"$f":"IF(CO6,CO21)","v":80000},{"$f":"IF(CP6,CP21)","v":80000},{"$f":"IF(CQ6,CQ21)","v":80000},{"$f":"IF(CR6,CR21)","v":80000},{"$f":"IF(CS6,CS21)","v":80000},{"$f":"IF(CT6,CT21)","v":80000},{"$f":"IF(CU6,CU21)","v":80000},{"$f":"IF(CV6,CV21)","v":80000},{"$f":"IF(CW6,CW21)","v":80000},{"$f":"IF(CX6,CX21)","v":80000},{"$f":"IF(CY6,CY21)","v":80000},{"$f":"IF(CZ6,CZ21)","v":80000},{"$f":"IF(DA6,DA21)","v":80000},{"$f":"IF(DB6,DB21)","v":80000},{"$f":"IF(DC6,DC21)","v":80000},{"$f":"IF(DD6,DD21)","v":80000},{"$f":"IF(DE6,DE21)","v":80000},{"$f":"IF(DF6,DF21)","v":80000},{"$f":"IF(DG6,DG21)","v":80000},{"$f":"IF(DH6,DH21)","v":80000},{"$f":"IF(DI6,DI21)","v":80000},{"$f":"IF(DJ6,DJ21)","v":80000},{"$f":"IF(DK6,DK21)","v":80000},{"$f":"IF(DL6,DL21)","v":80000},{"$f":"IF(DM6,DM21)","v":80000},{"$f":"IF(DN6,DN21)","v":80000},{"$f":"IF(DO6,DO21)","v":80000},{"$f":"IF(DP6,DP21)","v":80000},{"$f":"IF(DQ6,DQ21)","v":80000},{"$f":"IF(DR6,DR21)","v":80000},{"$f":"IF(DS6,DS21)","v":80000},{"$f":"IF(DT6,DT21)","v":80000},{"$f":"IF(DU6,DU21)","v":80000},{"$f":"IF(DV6,DV21)","v":80000},{"$f":"IF(DW6,DW21)","v":80000},{"$f":"IF(DX6,DX21)","v":80000},{"$f":"IF(DY6,DY21)","v":80000},{"$f":"IF(DZ6,DZ21)","v":80000},{"$f":"IF(EA6,EA21)","v":80000},{"$f":"IF(EB6,EB21)","v":80000},{"$f":"IF(EC6,EC21)","v":80000},{"$f":"IF(ED6,ED21)","v":80000},{"$f":"IF(EE6,EE21)","v":80000},{"$f":"IF(EF6,EF21)","v":80000},{"$f":"IF(EG6,EG21)","v":80000},{"$f":"IF(EH6,EH21)","v":80000},{"$f":"IF(EI6,EI21)","v":80000},{"$f":"IF(EJ6,EJ21)","v":80000},{"$f":"IF(EK6,EK21)","v":80000},{"$f":"IF(EL6,EL21)","v":80000},{"$f":"IF(EM6,EM21)","v":80000},{"$f":"IF(EN6,EN21)","v":80000},{"$f":"IF(EO6,EO21)","v":80000},{"$f":"IF(EP6,EP21)","v":80000},{"$f":"IF(EQ6,EQ21)","v":80000},{"$f":"IF(ER6,ER21)","v":80000},{"$f":"IF(ES6,ES21)","v":80000},{"$f":"IF(ET6,ET21)","v":80000},{"$f":"IF(EU6,EU21)","v":80000},{"$f":"IF(EV6,EV21)","v":80000},{"$f":"IF(EW6,EW21)","v":80000},{"$f":"IF(EX6,EX21)","v":80000},{"$f":"IF(EY6,EY21)","v":80000},{"$f":"IF(EZ6,EZ21)","v":80000},{"$f":"IF(FA6,FA21)","v":80000},{"$f":"IF(FB6,FB21)","v":80000},{"$f":"IF(FC6,FC21)","v":80000},{"$f":"IF(FD6,FD21)","v":80000},{"$f":"IF(FE6,FE21)","v":80000},{"$f":"IF(FF6,FF21)","v":80000},{"$f":"IF(FG6,FG21)","v":80000},{"$f":"IF(FH6,FH21)","v":80000},{"$f":"IF(FI6,FI21)","v":80000},{"$f":"IF(FJ6,FJ21)","v":80000},{"$f":"IF(FK6,FK21)","v":80000},{"$f":"IF(FL6,FL21)","v":80000},{"$f":"IF(FM6,FM21)","v":80000},{"$f":"IF(FN6,FN21)","v":80000},{"$f":"IF(FO6,FO21)","v":80000},{"$f":"IF(FP6,FP21)","v":80000},{"$f":"IF(FQ6,FQ21)","v":80000},{"$f":"IF(FR6,FR21)","v":80000},{"$f":"IF(FS6,FS21)","v":80000},{"$f":"IF(FT6,FT21)","v":80000},{"$f":"IF(FU6,FU21)","v":80000},{"$f":"IF(FV6,FV21)","v":80000},{"$f":"IF(FW6,FW21)","v":80000},{"$f":"IF(FX6,FX21)","v":80000},{"$f":"IF(FY6,FY21)","v":80000},{"$f":"IF(FZ6,FZ21)","v":80000},{"$f":"IF(GA6,GA21)","v":80000},{"$f":"IF(GB6,GB21)","v":80000},{"$f":"IF(GC6,GC21)","v":80000},{"$f":"IF(GD6,GD21)","v":80000},{"$f":"IF(GE6,GE21)","v":80000},{"$f":"IF(GF6,GF21)","v":80000},{"$f":"IF(GG6,GG21)","v":80000},{"$f":"IF(GH6,GH21)","v":80000},{"$f":"IF(GI6,GI21)","v":80000},{"$f":"IF(GJ6,GJ21)","v":80000},{"$f":"IF(GK6,GK21)","v":80000},{"$f":"IF(GL6,GL21)","v":80000},{"$f":"IF(GM6,GM21)","v":80000},{"$f":"IF(GN6,GN21)","v":80000},{"$f":"IF(GO6,GO21)","v":80000},{"$f":"IF(GP6,GP21)","v":80000},{"$f":"IF(GQ6,GQ21)","v":80000},{"$f":"IF(GR6,GR21)","v":80000},{"$f":"IF(GS6,GS21)","v":80000},{"$f":"IF(GT6,GT21)","v":80000},{"$f":"IF(GU6,GU21)","v":80000},{"$f":"IF(GV6,GV21)","v":80000},{"$f":"IF(GW6,GW21)","v":80000},{"$f":"IF(GX6,GX21)","v":80000},{"$f":"IF(GY6,GY21)","v":80000},{"$f":"IF(GZ6,GZ21)","v":80000},{"$f":"IF(HA6,HA21)","v":80000},{"$f":"IF(HB6,HB21)","v":80000},{"$f":"IF(HC6,HC21)","v":80000},{"$f":"IF(HD6,HD21)","v":80000},{"$f":"IF(HE6,HE21)","v":80000},{"$f":"IF(HF6,HF21)","v":80000},{"$f":"IF(HG6,HG21)","v":80000},{"$f":"IF(HH6,HH21)","v":80000},{"$f":"IF(HI6,HI21)","v":80000},{"$f":"IF(HJ6,HJ21)","v":80000},{"$f":"IF(HK6,HK21)","v":80000},{"$f":"IF(HL6,HL21)","v":80000},{"$f":"IF(HM6,HM21)","v":80000},{"$f":"IF(HN6,HN21)","v":80000},{"$f":"IF(HO6,HO21)","v":80000},{"$f":"IF(HP6,HP21)","v":80000},{"$f":"IF(HQ6,HQ21)","v":80000},{"$f":"IF(HR6,HR21)","v":80000},{"$f":"IF(HS6,HS21)","v":80000},{"$f":"IF(HT6,HT21)","v":80000},{"$f":"IF(HU6,HU21)","v":80000},{"$f":"IF(HV6,HV21)","v":80000},{"$f":"IF(HW6,HW21)","v":80000},{"$f":"IF(HX6,HX21)","v":80000},{"$f":"IF(HY6,HY21)","v":80000},{"$f":"IF(HZ6,HZ21)","v":80000},{"$f":"IF(IA6,IA21)","v":80000},{"$f":"IF(IB6,IB21)","v":80000},{"$f":"IF(IC6,IC21)","v":80000},{"$f":"IF(ID6,ID21)","v":80000},{"$f":"IF(IE6,IE21)","v":80000},{"$f":"IF(IF6,IF21)","v":80000},{"$f":"IF(IG6,IG21)","v":80000},{"$f":"IF(IH6,IH21)","v":80000},{"$f":"IF(II6,II21)","v":80000},{"$f":"IF(IJ6,IJ21)","v":80000},{"$f":"IF(IK6,IK21)","v":80000},{"$f":"IF(IL6,IL21)","v":80000},{"$f":"IF(IM6,IM21)","v":80000},{"$f":"IF(IN6,IN21)","v":80000},{"$f":"IF(IO6,IO21)","v":80000},{"$f":"IF(IP6,IP21)","v":80000},{"$f":"IF(IQ6,IQ21)","v":80000},{"$f":"IF(IR6,IR21)","v":80000},{"$f":"IF(IS6,IS21)","v":80000},{"$f":"IF(IT6,IT21)","v":80000},{"$f":"IF(IU6,IU21)","v":80000},{"$f":"IF(IV6,IV21)","v":80000},{"$f":"IF(IW6,IW21)","v":80000},{"$f":"IF(IX6,IX21)","v":80000},{"$f":"IF(IY6,IY21)","v":80000},{"$f":"IF(IZ6,IZ21)","v":80000},{"$f":"IF(JA6,JA21)","v":80000},{"$f":"IF(JB6,JB21)","v":80000},{"$f":"IF(JC6,JC21)","v":80000},{"$f":"IF(JD6,JD21)","v":80000},{"$f":"IF(JE6,JE21)","v":80000},{"$f":"IF(JF6,JF21)","v":80000},{"$f":"IF(JG6,JG21)","v":80000},{"$f":"IF(JH6,JH21)","v":80000},{"$f":"IF(JI6,JI21)","v":80000},{"$f":"IF(JJ6,JJ21)","v":80000},{"$f":"IF(JK6,JK21)","v":80000},{"$f":"IF(JL6,JL21)","v":80000},{"$f":"IF(JM6,JM21)","v":80000},{"$f":"IF(JN6,JN21)","v":80000},{"$f":"IF(JO6,JO21)","v":80000},{"$f":"IF(JP6,JP21)","v":80000},{"$f":"IF(JQ6,JQ21)","v":80000},{"$f":"IF(JR6,JR21)","v":80000},{"$f":"IF(JS6,JS21)","v":80000},{"$f":"IF(JT6,JT21)","v":80000},{"$f":"IF(JU6,JU21)","v":80000},{"$f":"IF(JV6,JV21)","v":80000},{"$f":"IF(JW6,JW21)","v":80000},{"$f":"IF(JX6,JX21)","v":80000},{"$f":"IF(JY6,JY21)","v":80000},{"$f":"IF(JZ6,JZ21)","v":80000},{"$f":"IF(KA6,KA21)","v":80000},{"$f":"IF(KB6,KB21)","v":80000},{"$f":"IF(KC6,KC21)","v":80000},{"$f":"IF(KD6,KD21)","v":80000},{"$f":"IF(KE6,KE21)","v":80000},{"$f":"IF(KF6,KF21)","v":80000},{"$f":"IF(KG6,KG21)","v":80000},{"$f":"IF(KH6,KH21)","v":80000},{"$f":"IF(KI6,KI21)","v":80000},{"$f":"IF(KJ6,KJ21)","v":80000},{"$f":"IF(KK6,KK21)","v":80000},{"$f":"IF(KL6,KL21)","v":80000},{"$f":"IF(KM6,KM21)","v":80000},{"$f":"IF(KN6,KN21)","v":80000},{"$f":"IF(KO6,KO21)","v":80000},{"$f":"IF(KP6,KP21)","v":80000},{"$f":"IF(KQ6,KQ21)","v":80000},{"$f":"IF(KR6,KR21)","v":80000},{"$f":"IF(KS6,KS21)","v":80000},{"$f":"IF(KT6,KT21)","v":80000},{"$f":"IF(KU6,KU21)","v":80000},{"$f":"IF(KV6,KV21)","v":80000},{"$f":"IF(KW6,KW21)","v":80000},{"$f":"IF(KX6,KX21)","v":80000},{"$f":"IF(KY6,KY21)","v":80000},{"$f":"IF(KZ6,KZ21)","v":80000},{"$f":"IF(LA6,LA21)","v":80000},{"$f":"IF(LB6,LB21)","v":80000},{"$f":"IF(LC6,LC21)","v":80000},{"$f":"IF(LD6,LD21)","v":80000},{"$f":"IF(LE6,LE21)","v":80000},{"$f":"IF(LF6,LF21)","v":80000},{"$f":"IF(LG6,LG21)","v":80000},{"$f":"IF(LH6,LH21)","v":80000},{"$f":"IF(LI6,LI21)","v":80000},{"$f":"IF(LJ6,LJ21)","v":80000},{"$f":"IF(LK6,LK21)","v":80000},{"$f":"IF(LL6,LL21)","v":80000},{"$f":"IF(LM6,LM21)","v":80000},{"$f":"IF(LN6,LN21)","v":80000},{"$f":"IF(LO6,LO21)","v":80000},{"$f":"IF(LP6,LP21)","v":80000},{"$f":"IF(LQ6,LQ21)","v":80000},{"$f":"IF(LR6,LR21)","v":80000},{"$f":"IF(LS6,LS21)","v":80000},{"$f":"IF(LT6,LT21)","v":80000},{"$f":"IF(LU6,LU21)","v":80000},{"$f":"IF(LV6,LV21)","v":80000},{"$f":"IF(LW6,LW21)","v":80000},{"$f":"IF(LX6,LX21)","v":80000},{"$f":"IF(LY6,LY21)","v":80000},{"$f":"IF(LZ6,LZ21)","v":80000},{"$f":"IF(MA6,MA21)","v":80000},{"$f":"IF(MB6,MB21)","v":80000},{"$f":"IF(MC6,MC21)","v":80000},{"$f":"IF(MD6,MD21)","v":80000},{"$f":"IF(ME6,ME21)","v":80000},{"$f":"IF(MF6,MF21)","v":80000},{"$f":"IF(MG6,MG21)","v":80000},{"$f":"IF(MH6,MH21)","v":80000},{"$f":"IF(MI6,MI21)","v":80000},{"$f":"IF(MJ6,MJ21)","v":80000},{"$f":"IF(MK6,MK21)","v":80000},{"$f":"IF(ML6,ML21)","v":80000},{"$f":"IF(MM6,MM21)","v":80000},{"$f":"IF(MN6,MN21)","v":80000},{"$f":"IF(MO6,MO21)","v":80000},{"$f":"IF(MP6,MP21)","v":80000},{"$f":"IF(MQ6,MQ21)","v":80000},{"$f":"IF(MR6,MR21)","v":80000},{"$f":"IF(MS6,MS21)","v":80000},{"$f":"IF(MT6,MT21)","v":80000},{"$f":"IF(MU6,MU21)","v":80000},{"$f":"IF(MV6,MV21)","v":80000},{"$f":"IF(MW6,MW21)","v":80000},{"$f":"IF(MX6,MX21)","v":80000},{"$f":"IF(MY6,MY21)","v":80000},{"$f":"IF(MZ6,MZ21)","v":80000},{"$f":"IF(NA6,NA21)","v":80000},{"$f":"IF(NB6,NB21)","v":80000},{"$f":"IF(NC6,NC21)","v":80000},{"$f":"IF(ND6,ND21)","v":80000},{"$f":"IF(NE6,NE21)","v":80000},{"$f":"IF(NF6,NF21)","v":80000},{"$f":"IF(NG6,NG21)","v":80000},{"$f":"IF(NH6,NH21)","v":80000},{"$f":"IF(NI6,NI21)","v":80000},{"$f":"IF(NJ6,NJ21)","v":80000},{"$f":"IF(NK6,NK21)","v":80000},{"$f":"IF(NL6,NL21)","v":80000},{"$f":"IF(NM6,NM21)","v":80000},{"$f":"IF(NN6,NN21)","v":80000},{"$f":"IF(NO6,NO21)","v":80000},{"$f":"IF(NP6,NP21)","v":80000},{"$f":"IF(NQ6,NQ21)","v":80000},{"$f":"IF(NR6,NR21)","v":80000},{"$f":"IF(NS6,NS21)","v":80000},{"$f":"IF(NT6,NT21)","v":80000},{"$f":"IF(NU6,NU21)","v":80000},{"$f":"IF(NV6,NV21)","v":80000},{"$f":"IF(NW6,NW21)","v":80000},{"$f":"IF(NX6,NX21)","v":80000},{"$f":"IF(NY6,NY21)","v":80000},{"$f":"IF(NZ6,NZ21)","v":80000},{"$f":"IF(OA6,OA21)","v":80000},{"$f":"IF(OB6,OB21)","v":80000},{"$f":"IF(OC6,OC21)","v":80000},{"$f":"IF(OD6,OD21)","v":80000},{"$f":"IF(OE6,OE21)","v":80000},{"$f":"IF(OF6,OF21)","v":80000},{"$f":"IF(OG6,OG21)","v":80000},{"$f":"IF(OH6,OH21)","v":80000},{"$f":"IF(OI6,OI21)","v":80000},{"$f":"IF(OJ6,OJ21)","v":80000},{"$f":"IF(OK6,OK21)","v":80000},{"$f":"IF(OL6,OL21)","v":80000},{"$f":"IF(OM6,OM21)","v":80000},{"$f":"IF(ON6,ON21)","v":80000},{"$f":"IF(OO6,OO21)","v":80000},{"$f":"IF(OP6,OP21)","v":80000},{"$f":"IF(OQ6,OQ21)","v":80000},{"$f":"IF(OR6,OR21)","v":80000},{"$f":"IF(OS6,OS21)","v":80000},{"$f":"IF(OT6,OT21)","v":80000},{"$f":"IF(OU6,OU21)","v":80000},{"$f":"IF(OV6,OV21)","v":80000},{"$f":"IF(OW6,OW21)","v":80000},{"$f":"IF(OX6,OX21)","v":80000},{"$f":"IF(OY6,OY21)","v":80000},{"$f":"IF(OZ6,OZ21)","v":80000},{"$f":"IF(PA6,PA21)","v":80000},{"$f":"IF(PB6,PB21)","v":80000},{"$f":"IF(PC6,PC21)","v":80000},{"$f":"IF(PD6,PD21)","v":80000},{"$f":"IF(PE6,PE21)","v":80000},{"$f":"IF(PF6,PF21)","v":80000},{"$f":"IF(PG6,PG21)","v":80000},{"$f":"IF(PH6,PH21)","v":80000},{"$f":"IF(PI6,PI21)","v":80000},{"$f":"IF(PJ6,PJ21)","v":80000},{"$f":"IF(PK6,PK21)","v":80000},{"$f":"IF(PL6,PL21)","v":80000},{"$f":"IF(PM6,PM21)","v":80000},{"$f":"IF(PN6,PN21)","v":80000},{"$f":"IF(PO6,PO21)","v":80000},{"$f":"IF(PP6,PP21)","v":80000},{"$f":"IF(PQ6,PQ21)","v":80000},{"$f":"IF(PR6,PR21)","v":80000},{"$f":"IF(PS6,PS21)","v":80000},{"$f":"IF(PT6,PT21)","v":80000},{"$f":"IF(PU6,PU21)","v":80000},{"$f":"IF(PV6,PV21)","v":80000},{"$f":"IF(PW6,PW21)","v":80000},{"$f":"IF(PX6,PX21)","v":80000},{"$f":"IF(PY6,PY21)","v":80000},{"$f":"IF(PZ6,PZ21)","v":80000},{"$f":"IF(QA6,QA21)","v":80000},{"$f":"IF(QB6,QB21)","v":80000},{"$f":"IF(QC6,QC21)","v":80000},{"$f":"IF(QD6,QD21)","v":80000},{"$f":"IF(QE6,QE21)","v":80000},{"$f":"IF(QF6,QF21)","v":80000},{"$f":"IF(QG6,QG21)","v":80000},{"$f":"IF(QH6,QH21)","v":80000},{"$f":"IF(QI6,QI21)","v":80000},{"$f":"IF(QJ6,QJ21)","v":80000},{"$f":"IF(QK6,QK21)","v":80000},{"$f":"IF(QL6,QL21)","v":80000},{"$f":"IF(QM6,QM21)","v":80000},{"$f":"IF(QN6,QN21)","v":80000},{"$f":"IF(QO6,QO21)","v":80000},{"$f":"IF(QP6,QP21)","v":80000},{"$f":"IF(QQ6,QQ21)","v":80000},{"$f":"IF(QR6,QR21)","v":80000},{"$f":"IF(QS6,QS21)","v":80000},{"$f":"IF(QT6,QT21)","v":80000},{"$f":"IF(QU6,QU21)","v":80000},{"$f":"IF(QV6,QV21)","v":80000},{"$f":"IF(QW6,QW21)","v":80000},{"$f":"IF(QX6,QX21)","v":80000},{"$f":"IF(QY6,QY21)","v":80000},{"$f":"IF(QZ6,QZ21)","v":80000},{"$f":"IF(RA6,RA21)","v":80000},{"$f":"IF(RB6,RB21)","v":80000},{"$f":"IF(RC6,RC21)","v":80000},{"$f":"IF(RD6,RD21)","v":80000},{"$f":"IF(RE6,RE21)","v":80000},{"$f":"IF(RF6,RF21)","v":80000},{"$f":"IF(RG6,RG21)","v":80000},{"$f":"IF(RH6,RH21)","v":80000},{"$f":"IF(RI6,RI21)","v":80000},{"$f":"IF(RJ6,RJ21)","v":80000},{"$f":"IF(RK6,RK21)","v":80000},{"$f":"IF(RL6,RL21)","v":80000},{"$f":"IF(RM6,RM21)","v":80000},{"$f":"IF(RN6,RN21)","v":80000},{"$f":"IF(RO6,RO21)","v":80000},{"$f":"IF(RP6,RP21)","v":80000},{"$f":"IF(RQ6,RQ21)","v":80000},{"$f":"IF(RR6,RR21)","v":80000},{"$f":"IF(RS6,RS21)","v":80000},{"$f":"IF(RT6,RT21)","v":80000},{"$f":"IF(RU6,RU21)","v":80000},{"$f":"IF(RV6,RV21)","v":80000},{"$f":"IF(RW6,RW21)","v":80000},{"$f":"IF(RX6,RX21)","v":80000},{"$f":"IF(RY6,RY21)","v":80000},{"$f":"IF(RZ6,RZ21)","v":80000},{"$f":"IF(SA6,SA21)","v":80000},{"$f":"IF(SB6,SB21)","v":80000},{"$f":"IF(SC6,SC21)","v":80000},{"$f":"IF(SD6,SD21)","v":80000},{"$f":"IF(SE6,SE21)","v":80000},{"$f":"IF(SF6,SF21)","v":80000},{"$f":"IF(SG6,SG21)","v":80000},{"$f":"IF(SH6,SH21)","v":80000},{"$f":"IF(SI6,SI21)","v":80000},{"$f":"IF(SJ6,SJ21)","v":80000},{"$f":"IF(SK6,SK21)","v":80000},{"$f":"IF(SL6,SL21)","v":80000},{"$f":"IF(SM6,SM21)","v":80000},{"$f":"IF(SN6,SN21)","v":80000},{"$f":"IF(SO6,SO21)","v":80000},{"$f":"IF(SP6,SP21)","v":80000},{"$f":"IF(SQ6,SQ21)","v":80000},{"$f":"IF(SR6,SR21)","v":80000},{"$f":"IF(SS6,SS21)","v":80000},{"$f":"IF(ST6,ST21)","v":80000},{"$f":"IF(SU6,SU21)","v":80000},{"$f":"IF(SV6,SV21)","v":0},{"$f":"IF(SW6,SW21)","v":0},{"$f":"IF(SX6,SX21)","v":0},{"$f":"IF(SY6,SY21)","v":0},{"$f":"IF(SZ6,SZ21)","v":0},{"$f":"IF(TA6,TA21)","v":0},{"$f":"IF(TB6,TB21)","v":0},{"$f":"IF(TC6,TC21)","v":0},{"$f":"IF(TD6,TD21)","v":0},{"$f":"IF(TE6,TE21)","v":0},{"$f":"IF(TF6,TF21)","v":0},{"$f":"IF(TG6,TG21)","v":0},{"$f":"IF(TH6,TH21)","v":0},{"$f":"IF(TI6,TI21)","v":0},{"$f":"IF(TJ6,TJ21)","v":0},{"$f":"IF(TK6,TK21)","v":0},{"$f":"IF(TL6,TL21)","v":0},{"$f":"IF(TM6,TM21)","v":0},{"$f":"IF(TN6,TN21)","v":0},{"$f":"IF(TO6,TO21)","v":0},{"$f":"IF(TP6,TP21)","v":0},{"$f":"IF(TQ6,TQ21)","v":0},{"$f":"IF(TR6,TR21)","v":0},{"$f":"IF(TS6,TS21)","v":0},{"$f":"IF(TT6,TT21)","v":0},{"$f":"IF(TU6,TU21)","v":0},{"$f":"IF(TV6,TV21)","v":0},{"$f":"IF(TW6,TW21)","v":0},{"$f":"IF(TX6,TX21)","v":0},{"$f":"IF(TY6,TY21)","v":0},{"$f":"IF(TZ6,TZ21)","v":0},{"$f":"IF(UA6,UA21)","v":0},{"$f":"IF(UB6,UB21)","v":0},{"$f":"IF(UC6,UC21)","v":0},{"$f":"IF(UD6,UD21)","v":0},{"$f":"IF(UE6,UE21)","v":0},{"$f":"IF(UF6,UF21)","v":0},{"$f":"IF(UG6,UG21)","v":0},{"$f":"IF(UH6,UH21)","v":0},{"$f":"IF(UI6,UI21)","v":0},{"$f":"IF(UJ6,UJ21)","v":0},{"$f":"IF(UK6,UK21)","v":0},{"$f":"IF(UL6,UL21)","v":0},{"$f":"IF(UM6,UM21)","v":0},{"$f":"IF(UN6,UN21)","v":0},{"$f":"IF(UO6,UO21)","v":0}]
[null,null,null,"Debt Service",null,null,null,null,"EUR",null,{"$f":"IF(K6,K67+K71)","v":0},{"$f":"IF(L6,L67+L71)","v":57.613168724279838},{"$f":"IF(M6,M67+M71)","v":153.63511659807958},{"$f":"IF(N6,N67+N71)","v":252.85779606767264},{"$f":"IF(O6,O67+O71)","v":348.87974394147233},{"$f":"IF(P6,P67+P71)","v":448.10242341106539},{"$f":"IF(Q6,Q67+Q71)","v":547.32510288065851},{"$f":"IF(R6,R67+R71)","v":636.94558756287154},{"$f":"IF(S6,S67+S71)","v":736.16826703246466},{"$f":"IF(T6,T67+T71)","v":832.19021490626426},{"$f":"IF(U6,U67+U71)","v":931.41289437585738},{"$f":"IF(V6,V67+V71)","v":1027.4348422496571},{"$f":"IF(W6,W67+W71)","v":1126.6575217192501},{"$f":"IF(X6,X67+X71)","v":1225.8802011888431},{"$f":"IF(Y6,Y67+Y71)","v":1321.9021490626428},{"$f":"IF(Z6,Z67+Z71)","v":1421.1248285322361},{"$f":"IF(AA6,AA67+AA71)","v":1517.1467764060355},{"$f":"IF(AB6,AB67+AB71)","v":1616.3694558756285},{"$f":"IF(AC6,AC67+AC71)","v":1715.5921353452213},{"$f":"IF(AD6,AD67+AD71)","v":1808.4133516232278},{"$f":"IF(AE6,AE67+AE71)","v":1907.6360310928208},{"$f":"IF(AF6,AF67+AF71)","v":2003.6579789666205},{"$f":"IF(AG6,AG67+AG71)","v":2102.8806584362133},{"$f":"IF(AH6,AH67+AH71)","v":2198.9026063100132},{"$f":"IF(AI6,AI67+AI71)","v":2298.1252857796062},{"$f":"IF(AJ6,AJ67+AJ71)","v":2333.3333333333326},{"$f":"IF(AK6,AK67+AK71)","v":2333.3333333333326},{"$f":"IF(AL6,AL67+AL71)","v":2333.3333333333326},{"$f":"IF(AM6,AM67+AM71)","v":2333.3333333333326},{"$f":"IF(AN6,AN67+AN71)","v":2333.3333333333326},{"$f":"IF(AO6,AO67+AO71)","v":22333.333333333328},{"$f":"IF(AP6,AP67+AP71)","v":2274.9999999999995},{"$f":"IF(AQ6,AQ67+AQ71)","v":2274.9999999999995},{"$f":"IF(AR6,AR67+AR71)","v":2274.9999999999995},{"$f":"IF(AS6,AS67+AS71)","v":2274.9999999999995},{"$f":"IF(AT6,AT67+AT71)","v":2274.9999999999995},{"$f":"IF(AU6,AU67+AU71)","v":22274.999999999996},{"$f":"IF(AV6,AV67+AV71)","v":2216.6666666666661},{"$f":"IF(AW6,AW67+AW71)","v":2216.6666666666661},{"$f":"IF(AX6,AX67+AX71)","v":2216.6666666666661},{"$f":"IF(AY6,AY67+AY71)","v":2216.6666666666661},{"$f":"IF(AZ6,AZ67+AZ71)","v":2216.6666666666661},{"$f":"IF(BA6,BA67+BA71)","v":22216.666666666664},{"$f":"IF(BB6,BB67+BB71)","v":2158.3333333333326},{"$f":"IF(BC6,BC67+BC71)","v":2158.3333333333326},{"$f":"IF(BD6,BD67+BD71)","v":2158.3333333333326},{"$f":"IF(BE6,BE67+BE71)","v":2158.3333333333326},{"$f":"IF(BF6,BF67+BF71)","v":2158.3333333333326},{"$f":"IF(BG6,BG67+BG71)","v":22158.333333333328},{"$f":"IF(BH6,BH67+BH71)","v":2099.9999999999995},{"$f":"IF(BI6,BI67+BI71)","v":2099.9999999999995},{"$f":"IF(BJ6,BJ67+BJ71)","v":2099.9999999999995},{"$f":"IF(BK6,BK67+BK71)","v":2099.9999999999995},{"$f":"IF(BL6,BL67+BL71)","v":2099.9999999999995},{"$f":"IF(BM6,BM67+BM71)","v":22099.999999999996},{"$f":"IF(BN6,BN67+BN71)","v":2041.6666666666661},{"$f":"IF(BO6,BO67+BO71)","v":2041.6666666666661},{"$f":"IF(BP6,BP67+BP71)","v":2041.6666666666661},{"$f":"IF(BQ6,BQ67+BQ71)","v":2041.6666666666661},{"$f":"IF(BR6,BR67+BR71)","v":2041.6666666666661},{"$f":"IF(BS6,BS67+BS71)","v":22041.666666666664},{"$f":"IF(BT6,BT67+BT71)","v":1983.3333333333328},{"$f":"IF(BU6,BU67+BU71)","v":1983.3333333333328},{"$f":"IF(BV6,BV67+BV71)","v":1983.3333333333328},{"$f":"IF(BW6,BW67+BW71)","v":1983.3333333333328},{"$f":"IF(BX6,BX67+BX71)","v":1983.3333333333328},{"$f":"IF(BY6,BY67+BY71)","v":21983.333333333328},{"$f":"IF(BZ6,BZ67+BZ71)","v":1924.9999999999993},{"$f":"IF(CA6,CA67+CA71)","v":1924.9999999999993},{"$f":"IF(CB6,CB67+CB71)","v":1924.9999999999993},{"$f":"IF(CC6,CC67+CC71)","v":1924.9999999999993},{"$f":"IF(CD6,CD67+CD71)","v":1924.9999999999993},{"$f":"IF(CE6,CE67+CE71)","v":21924.999999999996},{"$f":"IF(CF6,CF67+CF71)","v":1866.6666666666661},{"$f":"IF(CG6,CG67+CG71)","v":1866.6666666666661},{"$f":"IF(CH6,CH67+CH71)","v":1866.6666666666661},{"$f":"IF(CI6,CI67+CI71)","v":1866.6666666666661},{"$f":"IF(CJ6,CJ67+CJ71)","v":1866.6666666666661},{"$f":"IF(CK6,CK67+CK71)","v":21866.666666666664},{"$f":"IF(CL6,CL67+CL71)","v":1808.3333333333328},{"$f":"IF(CM6,CM67+CM71)","v":1808.3333333333328},{"$f":"IF(CN6,CN67+CN71)","v":1808.3333333333328},{"$f":"IF(CO6,CO67+CO71)","v":1808.3333333333328},{"$f":"IF(CP6,CP67+CP71)","v":1808.3333333333328},{"$f":"IF(CQ6,CQ67+CQ71)","v":21808.333333333328},{"$f":"IF(CR6,CR67+CR71)","v":1749.9999999999993},{"$f":"IF(CS6,CS67+CS71)","v":1749.9999999999993},{"$f":"IF(CT6,CT67+CT71)","v":1749.9999999999993},{"$f":"IF(CU6,CU67+CU71)","v":1749.9999999999993},{"$f":"IF(CV6,CV67+CV71)","v":1749.9999999999993},{"$f":"IF(CW6,CW67+CW71)","v":21749.999999999996},{"$f":"IF(CX6,CX67+CX71)","v":1691.6666666666661},{"$f":"IF(CY6,CY67+CY71)","v":1691.6666666666661},{"$f":"IF(CZ6,CZ67+CZ71)","v":1691.6666666666661},{"$f":"IF(DA6,DA67+DA71)","v":1691.6666666666661},{"$f":"IF(DB6,DB67+DB71)","v":1691.6666666666661},{"$f":"IF(DC6,DC67+DC71)","v":21691.666666666664},{"$f":"IF(DD6,DD67+DD71)","v":1633.3333333333328},{"$f":"IF(DE6,DE67+DE71)","v":1633.3333333333328},{"$f":"IF(DF6,DF67+DF71)","v":1633.3333333333328},{"$f":"IF(DG6,DG67+DG71)","v":1633.3333333333328},{"$f":"IF(DH6,DH67+DH71)","v":1633.3333333333328},{"$f":"IF(DI6,DI67+DI71)","v":21633.333333333328},{"$f":"IF(DJ6,DJ67+DJ71)","v":1574.9999999999993},{"$f":"IF(DK6,DK67+DK71)","v":1574.9999999999993},{"$f":"IF(DL6,DL67+DL71)","v":1574.9999999999993},{"$f":"IF(DM6,DM67+DM71)","v":1574.9999999999993},{"$f":"IF(DN6,DN67+DN71)","v":1574.9999999999993},{"$f":"IF(DO6,DO67+DO71)","v":21574.999999999996},{"$f":"IF(DP6,DP67+DP71)","v":1516.6666666666661},{"$f":"IF(DQ6,DQ67+DQ71)","v":1516.6666666666661},{"$f":"IF(DR6,DR67+DR71)","v":1516.6666666666661},{"$f":"IF(DS6,DS67+DS71)","v":1516.6666666666661},{"$f":"IF(DT6,DT67+DT71)","v":1516.6666666666661},{"$f":"IF(DU6,DU67+DU71)","v":21516.666666666664},{"$f":"IF(DV6,DV67+DV71)","v":1458.3333333333328},{"$f":"IF(DW6,DW67+DW71)","v":1458.3333333333328},{"$f":"IF(DX6,DX67+DX71)","v":1458.3333333333328},{"$f":"IF(DY6,DY67+DY71)","v":1458.3333333333328},{"$f":"IF(DZ6,DZ67+DZ71)","v":1458.3333333333328},{"$f":"IF(EA6,EA67+EA71)","v":21458.333333333328},{"$f":"IF(EB6,EB67+EB71)","v":1399.9999999999993},{"$f":"IF(EC6,EC67+EC71)","v":1399.9999999999993},{"$f":"IF(ED6,ED67+ED71)","v":1399.9999999999993},{"$f":"IF(EE6,EE67+EE71)","v":1399.9999999999993},{"$f":"IF(EF6,EF67+EF71)","v":1399.9999999999993},{"$f":"IF(EG6,EG67+EG71)","v":21399.999999999996},{"$f":"IF(EH6,EH67+EH71)","v":1341.6666666666661},{"$f":"IF(EI6,EI67+EI71)","v":1341.6666666666661},{"$f":"IF(EJ6,EJ67+EJ71)","v":1341.6666666666661},{"$f":"IF(EK6,EK67+EK71)","v":1341.6666666666661},{"$f":"IF(EL6,EL67+EL71)","v":1341.6666666666661},{"$f":"IF(EM6,EM67+EM71)","v":21341.666666666664},{"$f":"IF(EN6,EN67+EN71)","v":1283.3333333333328},{"$f":"IF(EO6,EO67+EO71)","v":1283.3333333333328},{"$f":"IF(EP6,EP67+EP71)","v":1283.3333333333328},{"$f":"IF(EQ6,EQ67+EQ71)","v":1283.3333333333328},{"$f":"IF(ER6,ER67+ER71)","v":1283.3333333333328},{"$f":"IF(ES6,ES67+ES71)","v":21283.333333333328},{"$f":"IF(ET6,ET67+ET71)","v":1224.9999999999993},{"$f":"IF(EU6,EU67+EU71)","v":1224.9999999999993},{"$f":"IF(EV6,EV67+EV71)","v":1224.9999999999993},{"$f":"IF(EW6,EW67+EW71)","v":1224.9999999999993},{"$f":"IF(EX6,EX67+EX71)","v":1224.9999999999993},{"$f":"IF(EY6,EY67+EY71)","v":21224.999999999996},{"$f":"IF(EZ6,EZ67+EZ71)","v":1166.6666666666661},{"$f":"IF(FA6,FA67+FA71)","v":1166.6666666666661},{"$f":"IF(FB6,FB67+FB71)","v":1166.6666666666661},{"$f":"IF(FC6,FC67+FC71)","v":1166.6666666666661},{"$f":"IF(FD6,FD67+FD71)","v":1166.6666666666661},{"$f":"IF(FE6,FE67+FE71)","v":21166.666666666664},{"$f":"IF(FF6,FF67+FF71)","v":1108.3333333333328},{"$f":"IF(FG6,FG67+FG71)","v":1108.3333333333328},{"$f":"IF(FH6,FH67+FH71)","v":1108.3333333333328},{"$f":"IF(FI6,FI67+FI71)","v":1108.3333333333328},{"$f":"IF(FJ6,FJ67+FJ71)","v":1108.3333333333328},{"$f":"IF(FK6,FK67+FK71)","v":21108.333333333328},{"$f":"IF(FL6,FL67+FL71)","v":1049.9999999999993},{"$f":"IF(FM6,FM67+FM71)","v":1049.9999999999993},{"$f":"IF(FN6,FN67+FN71)","v":1049.9999999999993},{"$f":"IF(FO6,FO67+FO71)","v":1049.9999999999993},{"$f":"IF(FP6,FP67+FP71)","v":1049.9999999999993},{"$f":"IF(FQ6,FQ67+FQ71)","v":21049.999999999996},{"$f":"IF(FR6,FR67+FR71)","v":991.66666666666606},{"$f":"IF(FS6,FS67+FS71)","v":991.66666666666606},{"$f":"IF(FT6,FT67+FT71)","v":991.66666666666606},{"$f":"IF(FU6,FU67+FU71)","v":991.66666666666606},{"$f":"IF(FV6,FV67+FV71)","v":991.66666666666606},{"$f":"IF(FW6,FW67+FW71)","v":20991.666666666664},{"$f":"IF(FX6,FX67+FX71)","v":933.33333333333269},{"$f":"IF(FY6,FY67+FY71)","v":933.33333333333269},{"$f":"IF(FZ6,FZ67+FZ71)","v":933.33333333333269},{"$f":"IF(GA6,GA67+GA71)","v":933.33333333333269},{"$f":"IF(GB6,GB67+GB71)","v":933.33333333333269},{"$f":"IF(GC6,GC67+GC71)","v":20933.333333333328},{"$f":"IF(GD6,GD67+GD71)","v":874.99999999999932},{"$f":"IF(GE6,GE67+GE71)","v":874.99999999999932},{"$f":"IF(GF6,GF67+GF71)","v":874.99999999999932},{"$f":"IF(GG6,GG67+GG71)","v":874.99999999999932},{"$f":"IF(GH6,GH67+GH71)","v":874.99999999999932},{"$f":"IF(GI6,GI67+GI71)","v":20874.999999999996},{"$f":"IF(GJ6,GJ67+GJ71)","v":816.66666666666606},{"$f":"IF(GK6,GK67+GK71)","v":816.66666666666606},{"$f":"IF(GL6,GL67+GL71)","v":816.66666666666606},{"$f":"IF(GM6,GM67+GM71)","v":816.66666666666606},{"$f":"IF(GN6,GN67+GN71)","v":816.66666666666606},{"$f":"IF(GO6,GO67+GO71)","v":20816.666666666664},{"$f":"IF(GP6,GP67+GP71)","v":758.33333333333269},{"$f":"IF(GQ6,GQ67+GQ71)","v":758.33333333333269},{"$f":"IF(GR6,GR67+GR71)","v":758.33333333333269},{"$f":"IF(GS6,GS67+GS71)","v":758.33333333333269},{"$f":"IF(GT6,GT67+GT71)","v":758.33333333333269},{"$f":"IF(GU6,GU67+GU71)","v":20758.333333333328},{"$f":"IF(GV6,GV67+GV71)","v":699.99999999999932},{"$f":"IF(GW6,GW67+GW71)","v":699.99999999999932},{"$f":"IF(GX6,GX67+GX71)","v":699.99999999999932},{"$f":"IF(GY6,GY67+GY71)","v":699.99999999999932},{"$f":"IF(GZ6,GZ67+GZ71)","v":699.99999999999932},{"$f":"IF(HA6,HA67+HA71)","v":20699.999999999996},{"$f":"IF(HB6,HB67+HB71)","v":641.66666666666606},{"$f":"IF(HC6,HC67+HC71)","v":641.66666666666606},{"$f":"IF(HD6,HD67+HD71)","v":641.66666666666606},{"$f":"IF(HE6,HE67+HE71)","v":641.66666666666606},{"$f":"IF(HF6,HF67+HF71)","v":641.66666666666606},{"$f":"IF(HG6,HG67+HG71)","v":20641.666666666664},{"$f":"IF(HH6,HH67+HH71)","v":583.33333333333269},{"$f":"IF(HI6,HI67+HI71)","v":583.33333333333269},{"$f":"IF(HJ6,HJ67+HJ71)","v":583.33333333333269},{"$f":"IF(HK6,HK67+HK71)","v":583.33333333333269},{"$f":"IF(HL6,HL67+HL71)","v":583.33333333333269},{"$f":"IF(HM6,HM67+HM71)","v":20583.333333333328},{"$f":"IF(HN6,HN67+HN71)","v":524.99999999999932},{"$f":"IF(HO6,HO67+HO71)","v":524.99999999999932},{"$f":"IF(HP6,HP67+HP71)","v":524.99999999999932},{"$f":"IF(HQ6,HQ67+HQ71)","v":524.99999999999932},{"$f":"IF(HR6,HR67+HR71)","v":524.99999999999932},{"$f":"IF(HS6,HS67+HS71)","v":20524.999999999996},{"$f":"IF(HT6,HT67+HT71)","v":466.666666666666},{"$f":"IF(HU6,HU67+HU71)","v":466.666666666666},{"$f":"IF(HV6,HV67+HV71)","v":466.666666666666},{"$f":"IF(HW6,HW67+HW71)","v":466.666666666666},{"$f":"IF(HX6,HX67+HX71)","v":466.666666666666},{"$f":"IF(HY6,HY67+HY71)","v":20466.666666666661},{"$f":"IF(HZ6,HZ67+HZ71)","v":408.33333333333269},{"$f":"IF(IA6,IA67+IA71)","v":408.33333333333269},{"$f":"IF(IB6,IB67+IB71)","v":408.33333333333269},{"$f":"IF(IC6,IC67+IC71)","v":408.33333333333269},{"$f":"IF(ID6,ID67+ID71)","v":408.33333333333269},{"$f":"IF(IE6,IE67+IE71)","v":20408.333333333328},{"$f":"IF(IF6,IF67+IF71)","v":349.99999999999932},{"$f":"IF(IG6,IG67+IG71)","v":349.99999999999932},{"$f":"IF(IH6,IH67+IH71)","v":349.99999999999932},{"$f":"IF(II6,II67+II71)","v":349.99999999999932},{"$f":"IF(IJ6,IJ67+IJ71)","v":349.99999999999932},{"$f":"IF(IK6,IK67+IK71)","v":20349.999999999996},{"$f":"IF(IL6,IL67+IL71)","v":291.666666666666},{"$f":"IF(IM6,IM67+IM71)","v":291.666666666666},{"$f":"IF(IN6,IN67+IN71)","v":291.666666666666},{"$f":"IF(IO6,IO67+IO71)","v":291.666666666666},{"$f":"IF(IP6,IP67+IP71)","v":291.666666666666},{"$f":"IF(IQ6,IQ67+IQ71)","v":20291.666666666661},{"$f":"IF(IR6,IR67+IR71)","v":233.33333333333266},{"$f":"IF(IS6,IS67+IS71)","v":233.33333333333266},{"$f":"IF(IT6,IT67+IT71)","v":233.33333333333266},{"$f":"IF(IU6,IU67+IU71)","v":233.33333333333266},{"$f":"IF(IV6,IV67+IV71)","v":233.33333333333266},{"$f":"IF(IW6,IW67+IW71)","v":20233.333333333328},{"$f":"IF(IX6,IX67+IX71)","v":174.99999999999932},{"$f":"IF(IY6,IY67+IY71)","v":174.99999999999932},{"$f":"IF(IZ6,IZ67+IZ71)","v":174.99999999999932},{"$f":"IF(JA6,JA67+JA71)","v":174.99999999999932},{"$f":"IF(JB6,JB67+JB71)","v":174.99999999999932},{"$f":"IF(JC6,JC67+JC71)","v":20174.999999999996},{"$f":"IF(JD6,JD67+JD71)","v":116.66666666666599},{"$f":"IF(JE6,JE67+JE71)","v":116.66666666666599},{"$f":"IF(JF6,JF67+JF71)","v":116.66666666666599},{"$f":"IF(JG6,JG67+JG71)","v":116.66666666666599},{"$f":"IF(JH6,JH67+JH71)","v":116.66666666666599},{"$f":"IF(JI6,JI67+JI71)","v":20116.666666666661},{"$f":"IF(JJ6,JJ67+JJ71)","v":58.333333333332668},{"$f":"IF(JK6,JK67+JK71)","v":58.333333333332668},{"$f":"IF(JL6,JL67+JL71)","v":58.333333333332668},{"$f":"IF(JM6,JM67+JM71)","v":58.333333333332668},{"$f":"IF(JN6,JN67+JN71)","v":58.333333333332668},{"$f":"IF(JO6,JO67+JO71)","v":20058.333333333328},{"$f":"IF(JP6,JP67+JP71)","v":-6.5786783428241814E-13},{"$f":"IF(JQ6,JQ67+JQ71)","v":-6.5786783428241814E-13},{"$f":"IF(JR6,JR67+JR71)","v":-6.5786783428241814E-13},{"$f":"IF(JS6,JS67+JS71)","v":-6.5786783428241814E-13},{"$f":"IF(JT6,JT67+JT71)","v":-6.5786783428241814E-13},{"$f":"IF(JU6,JU67+JU71)","v":-6.5786783428241814E-13},{"$f":"IF(JV6,JV67+JV71)","v":-6.5786783428241814E-13},{"$f":"IF(JW6,JW67+JW71)","v":-6.5786783428241814E-13},{"$f":"IF(JX6,JX67+JX71)","v":-6.5786783428241814E-13},{"$f":"IF(JY6,JY67+JY71)","v":-6.5786783428241814E-13},{"$f":"IF(JZ6,JZ67+JZ71)","v":-6.5786783428241814E-13},{"$f":"IF(KA6,KA67+KA71)","v":-6.5786783428241814E-13},{"$f":"IF(KB6,KB67+KB71)","v":-6.5786783428241814E-13},{"$f":"IF(KC6,KC67+KC71)","v":-6.5786783428241814E-13},{"$f":"IF(KD6,KD67+KD71)","v":-6.5786783428241814E-13},{"$f":"IF(KE6,KE67+KE71)","v":-6.5786783428241814E-13},{"$f":"IF(KF6,KF67+KF71)","v":-6.5786783428241814E-13},{"$f":"IF(KG6,KG67+KG71)","v":-6.5786783428241814E-13},{"$f":"IF(KH6,KH67+KH71)","v":-6.5786783428241814E-13},{"$f":"IF(KI6,KI67+KI71)","v":-6.5786783428241814E-13},{"$f":"IF(KJ6,KJ67+KJ71)","v":-6.5786783428241814E-13},{"$f":"IF(KK6,KK67+KK71)","v":-6.5786783428241814E-13},{"$f":"IF(KL6,KL67+KL71)","v":-6.5786783428241814E-13},{"$f":"IF(KM6,KM67+KM71)","v":-6.5786783428241814E-13},{"$f":"IF(KN6,KN67+KN71)","v":-6.5786783428241814E-13},{"$f":"IF(KO6,KO67+KO71)","v":-6.5786783428241814E-13},{"$f":"IF(KP6,KP67+KP71)","v":-6.5786783428241814E-13},{"$f":"IF(KQ6,KQ67+KQ71)","v":-6.5786783428241814E-13},{"$f":"IF(KR6,KR67+KR71)","v":-6.5786783428241814E-13},{"$f":"IF(KS6,KS67+KS71)","v":-6.5786783428241814E-13},{"$f":"IF(KT6,KT67+KT71)","v":-6.5786783428241814E-13},{"$f":"IF(KU6,KU67+KU71)","v":-6.5786783428241814E-13},{"$f":"IF(KV6,KV67+KV71)","v":-6.5786783428241814E-13},{"$f":"IF(KW6,KW67+KW71)","v":-6.5786783428241814E-13},{"$f":"IF(KX6,KX67+KX71)","v":-6.5786783428241814E-13},{"$f":"IF(KY6,KY67+KY71)","v":-6.5786783428241814E-13},{"$f":"IF(KZ6,KZ67+KZ71)","v":-6.5786783428241814E-13},{"$f":"IF(LA6,LA67+LA71)","v":-6.5786783428241814E-13},{"$f":"IF(LB6,LB67+LB71)","v":-6.5786783428241814E-13},{"$f":"IF(LC6,LC67+LC71)","v":-6.5786783428241814E-13},{"$f":"IF(LD6,LD67+LD71)","v":-6.5786783428241814E-13},{"$f":"IF(LE6,LE67+LE71)","v":-6.5786783428241814E-13},{"$f":"IF(LF6,LF67+LF71)","v":-6.5786783428241814E-13},{"$f":"IF(LG6,LG67+LG71)","v":-6.5786783428241814E-13},{"$f":"IF(LH6,LH67+LH71)","v":-6.5786783428241814E-13},{"$f":"IF(LI6,LI67+LI71)","v":-6.5786783428241814E-13},{"$f":"IF(LJ6,LJ67+LJ71)","v":-6.5786783428241814E-13},{"$f":"IF(LK6,LK67+LK71)","v":-6.5786783428241814E-13},{"$f":"IF(LL6,LL67+LL71)","v":-6.5786783428241814E-13},{"$f":"IF(LM6,LM67+LM71)","v":-6.5786783428241814E-13},{"$f":"IF(LN6,LN67+LN71)","v":-6.5786783428241814E-13},{"$f":"IF(LO6,LO67+LO71)","v":-6.5786783428241814E-13},{"$f":"IF(LP6,LP67+LP71)","v":-6.5786783428241814E-13},{"$f":"IF(LQ6,LQ67+LQ71)","v":-6.5786783428241814E-13},{"$f":"IF(LR6,LR67+LR71)","v":-6.5786783428241814E-13},{"$f":"IF(LS6,LS67+LS71)","v":-6.5786783428241814E-13},{"$f":"IF(LT6,LT67+LT71)","v":-6.5786783428241814E-13},{"$f":"IF(LU6,LU67+LU71)","v":-6.5786783428241814E-13},{"$f":"IF(LV6,LV67+LV71)","v":-6.5786783428241814E-13},{"$f":"IF(LW6,LW67+LW71)","v":-6.5786783428241814E-13},{"$f":"IF(LX6,LX67+LX71)","v":-6.5786783428241814E-13},{"$f":"IF(LY6,LY67+LY71)","v":-6.5786783428241814E-13},{"$f":"IF(LZ6,LZ67+LZ71)","v":-6.5786783428241814E-13},{"$f":"IF(MA6,MA67+MA71)","v":-6.5786783428241814E-13},{"$f":"IF(MB6,MB67+MB71)","v":-6.5786783428241814E-13},{"$f":"IF(MC6,MC67+MC71)","v":-6.5786783428241814E-13},{"$f":"IF(MD6,MD67+MD71)","v":-6.5786783428241814E-13},{"$f":"IF(ME6,ME67+ME71)","v":-6.5786783428241814E-13},{"$f":"IF(MF6,MF67+MF71)","v":-6.5786783428241814E-13},{"$f":"IF(MG6,MG67+MG71)","v":-6.5786783428241814E-13},{"$f":"IF(MH6,MH67+MH71)","v":-6.5786783428241814E-13},{"$f":"IF(MI6,MI67+MI71)","v":-6.5786783428241814E-13},{"$f":"IF(MJ6,MJ67+MJ71)","v":-6.5786783428241814E-13},{"$f":"IF(MK6,MK67+MK71)","v":-6.5786783428241814E-13},{"$f":"IF(ML6,ML67+ML71)","v":-6.5786783428241814E-13},{"$f":"IF(MM6,MM67+MM71)","v":-6.5786783428241814E-13},{"$f":"IF(MN6,MN67+MN71)","v":-6.5786783428241814E-13},{"$f":"IF(MO6,MO67+MO71)","v":-6.5786783428241814E-13},{"$f":"IF(MP6,MP67+MP71)","v":-6.5786783428241814E-13},{"$f":"IF(MQ6,MQ67+MQ71)","v":-6.5786783428241814E-13},{"$f":"IF(MR6,MR67+MR71)","v":-6.5786783428241814E-13},{"$f":"IF(MS6,MS67+MS71)","v":-6.5786783428241814E-13},{"$f":"IF(MT6,MT67+MT71)","v":-6.5786783428241814E-13},{"$f":"IF(MU6,MU67+MU71)","v":-6.5786783428241814E-13},{"$f":"IF(MV6,MV67+MV71)","v":-6.5786783428241814E-13},{"$f":"IF(MW6,MW67+MW71)","v":-6.5786783428241814E-13},{"$f":"IF(MX6,MX67+MX71)","v":-6.5786783428241814E-13},{"$f":"IF(MY6,MY67+MY71)","v":-6.5786783428241814E-13},{"$f":"IF(MZ6,MZ67+MZ71)","v":-6.5786783428241814E-13},{"$f":"IF(NA6,NA67+NA71)","v":-6.5786783428241814E-13},{"$f":"IF(NB6,NB67+NB71)","v":-6.5786783428241814E-13},{"$f":"IF(NC6,NC67+NC71)","v":-6.5786783428241814E-13},{"$f":"IF(ND6,ND67+ND71)","v":-6.5786783428241814E-13},{"$f":"IF(NE6,NE67+NE71)","v":-6.5786783428241814E-13},{"$f":"IF(NF6,NF67+NF71)","v":-6.5786783428241814E-13},{"$f":"IF(NG6,NG67+NG71)","v":-6.5786783428241814E-13},{"$f":"IF(NH6,NH67+NH71)","v":-6.5786783428241814E-13},{"$f":"IF(NI6,NI67+NI71)","v":-6.5786783428241814E-13},{"$f":"IF(NJ6,NJ67+NJ71)","v":-6.5786783428241814E-13},{"$f":"IF(NK6,NK67+NK71)","v":-6.5786783428241814E-13},{"$f":"IF(NL6,NL67+NL71)","v":-6.5786783428241814E-13},{"$f":"IF(NM6,NM67+NM71)","v":-6.5786783428241814E-13},{"$f":"IF(NN6,NN67+NN71)","v":-6.5786783428241814E-13},{"$f":"IF(NO6,NO67+NO71)","v":-6.5786783428241814E-13},{"$f":"IF(NP6,NP67+NP71)","v":-6.5786783428241814E-13},{"$f":"IF(NQ6,NQ67+NQ71)","v":-6.5786783428241814E-13},{"$f":"IF(NR6,NR67+NR71)","v":-6.5786783428241814E-13},{"$f":"IF(NS6,NS67+NS71)","v":-6.5786783428241814E-13},{"$f":"IF(NT6,NT67+NT71)","v":-6.5786783428241814E-13},{"$f":"IF(NU6,NU67+NU71)","v":-6.5786783428241814E-13},{"$f":"IF(NV6,NV67+NV71)","v":-6.5786783428241814E-13},{"$f":"IF(NW6,NW67+NW71)","v":-6.5786783428241814E-13},{"$f":"IF(NX6,NX67+NX71)","v":-6.5786783428241814E-13},{"$f":"IF(NY6,NY67+NY71)","v":-6.5786783428241814E-13},{"$f":"IF(NZ6,NZ67+NZ71)","v":-6.5786783428241814E-13},{"$f":"IF(OA6,OA67+OA71)","v":-6.5786783428241814E-13},{"$f":"IF(OB6,OB67+OB71)","v":-6.5786783428241814E-13},{"$f":"IF(OC6,OC67+OC71)","v":-6.5786783428241814E-13},{"$f":"IF(OD6,OD67+OD71)","v":-6.5786783428241814E-13},{"$f":"IF(OE6,OE67+OE71)","v":-6.5786783428241814E-13},{"$f":"IF(OF6,OF67+OF71)","v":-6.5786783428241814E-13},{"$f":"IF(OG6,OG67+OG71)","v":-6.5786783428241814E-13},{"$f":"IF(OH6,OH67+OH71)","v":-6.5786783428241814E-13},{"$f":"IF(OI6,OI67+OI71)","v":-6.5786783428241814E-13},{"$f":"IF(OJ6,OJ67+OJ71)","v":-6.5786783428241814E-13},{"$f":"IF(OK6,OK67+OK71)","v":-6.5786783428241814E-13},{"$f":"IF(OL6,OL67+OL71)","v":-6.5786783428241814E-13},{"$f":"IF(OM6,OM67+OM71)","v":-6.5786783428241814E-13},{"$f":"IF(ON6,ON67+ON71)","v":-6.5786783428241814E-13},{"$f":"IF(OO6,OO67+OO71)","v":-6.5786783428241814E-13},{"$f":"IF(OP6,OP67+OP71)","v":-6.5786783428241814E-13},{"$f":"IF(OQ6,OQ67+OQ71)","v":-6.5786783428241814E-13},{"$f":"IF(OR6,OR67+OR71)","v":-6.5786783428241814E-13},{"$f":"IF(OS6,OS67+OS71)","v":-6.5786783428241814E-13},{"$f":"IF(OT6,OT67+OT71)","v":-6.5786783428241814E-13},{"$f":"IF(OU6,OU67+OU71)","v":-6.5786783428241814E-13},{"$f":"IF(OV6,OV67+OV71)","v":-6.5786783428241814E-13},{"$f":"IF(OW6,OW67+OW71)","v":-6.5786783428241814E-13},{"$f":"IF(OX6,OX67+OX71)","v":-6.5786783428241814E-13},{"$f":"IF(OY6,OY67+OY71)","v":-6.5786783428241814E-13},{"$f":"IF(OZ6,OZ67+OZ71)","v":-6.5786783428241814E-13},{"$f":"IF(PA6,PA67+PA71)","v":-6.5786783428241814E-13},{"$f":"IF(PB6,PB67+PB71)","v":-6.5786783428241814E-13},{"$f":"IF(PC6,PC67+PC71)","v":-6.5786783428241814E-13},{"$f":"IF(PD6,PD67+PD71)","v":-6.5786783428241814E-13},{"$f":"IF(PE6,PE67+PE71)","v":-6.5786783428241814E-13},{"$f":"IF(PF6,PF67+PF71)","v":-6.5786783428241814E-13},{"$f":"IF(PG6,PG67+PG71)","v":-6.5786783428241814E-13},{"$f":"IF(PH6,PH67+PH71)","v":-6.5786783428241814E-13},{"$f":"IF(PI6,PI67+PI71)","v":-6.5786783428241814E-13},{"$f":"IF(PJ6,PJ67+PJ71)","v":-6.5786783428241814E-13},{"$f":"IF(PK6,PK67+PK71)","v":-6.5786783428241814E-13},{"$f":"IF(PL6,PL67+PL71)","v":-6.5786783428241814E-13},{"$f":"IF(PM6,PM67+PM71)","v":-6.5786783428241814E-13},{"$f":"IF(PN6,PN67+PN71)","v":-6.5786783428241814E-13},{"$f":"IF(PO6,PO67+PO71)","v":-6.5786783428241814E-13},{"$f":"IF(PP6,PP67+PP71)","v":-6.5786783428241814E-13},{"$f":"IF(PQ6,PQ67+PQ71)","v":-6.5786783428241814E-13},{"$f":"IF(PR6,PR67+PR71)","v":-6.5786783428241814E-13},{"$f":"IF(PS6,PS67+PS71)","v":-6.5786783428241814E-13},{"$f":"IF(PT6,PT67+PT71)","v":-6.5786783428241814E-13},{"$f":"IF(PU6,PU67+PU71)","v":-6.5786783428241814E-13},{"$f":"IF(PV6,PV67+PV71)","v":-6.5786783428241814E-13},{"$f":"IF(PW6,PW67+PW71)","v":-6.5786783428241814E-13},{"$f":"IF(PX6,PX67+PX71)","v":-6.5786783428241814E-13},{"$f":"IF(PY6,PY67+PY71)","v":-6.5786783428241814E-13},{"$f":"IF(PZ6,PZ67+PZ71)","v":-6.5786783428241814E-13},{"$f":"IF(QA6,QA67+QA71)","v":-6.5786783428241814E-13},{"$f":"IF(QB6,QB67+QB71)","v":-6.5786783428241814E-13},{"$f":"IF(QC6,QC67+QC71)","v":-6.5786783428241814E-13},{"$f":"IF(QD6,QD67+QD71)","v":-6.5786783428241814E-13},{"$f":"IF(QE6,QE67+QE71)","v":-6.5786783428241814E-13},{"$f":"IF(QF6,QF67+QF71)","v":-6.5786783428241814E-13},{"$f":"IF(QG6,QG67+QG71)","v":-6.5786783428241814E-13},{"$f":"IF(QH6,QH67+QH71)","v":-6.5786783428241814E-13},{"$f":"IF(QI6,QI67+QI71)","v":-6.5786783428241814E-13},{"$f":"IF(QJ6,QJ67+QJ71)","v":-6.5786783428241814E-13},{"$f":"IF(QK6,QK67+QK71)","v":-6.5786783428241814E-13},{"$f":"IF(QL6,QL67+QL71)","v":-6.5786783428241814E-13},{"$f":"IF(QM6,QM67+QM71)","v":-6.5786783428241814E-13},{"$f":"IF(QN6,QN67+QN71)","v":-6.5786783428241814E-13},{"$f":"IF(QO6,QO67+QO71)","v":-6.5786783428241814E-13},{"$f":"IF(QP6,QP67+QP71)","v":-6.5786783428241814E-13},{"$f":"IF(QQ6,QQ67+QQ71)","v":-6.5786783428241814E-13},{"$f":"IF(QR6,QR67+QR71)","v":-6.5786783428241814E-13},{"$f":"IF(QS6,QS67+QS71)","v":-6.5786783428241814E-13},{"$f":"IF(QT6,QT67+QT71)","v":-6.5786783428241814E-13},{"$f":"IF(QU6,QU67+QU71)","v":-6.5786783428241814E-13},{"$f":"IF(QV6,QV67+QV71)","v":-6.5786783428241814E-13},{"$f":"IF(QW6,QW67+QW71)","v":-6.5786783428241814E-13},{"$f":"IF(QX6,QX67+QX71)","v":-6.5786783428241814E-13},{"$f":"IF(QY6,QY67+QY71)","v":-6.5786783428241814E-13},{"$f":"IF(QZ6,QZ67+QZ71)","v":-6.5786783428241814E-13},{"$f":"IF(RA6,RA67+RA71)","v":-6.5786783428241814E-13},{"$f":"IF(RB6,RB67+RB71)","v":-6.5786783428241814E-13},{"$f":"IF(RC6,RC67+RC71)","v":-6.5786783428241814E-13},{"$f":"IF(RD6,RD67+RD71)","v":-6.5786783428241814E-13},{"$f":"IF(RE6,RE67+RE71)","v":-6.5786783428241814E-13},{"$f":"IF(RF6,RF67+RF71)","v":-6.5786783428241814E-13},{"$f":"IF(RG6,RG67+RG71)","v":-6.5786783428241814E-13},{"$f":"IF(RH6,RH67+RH71)","v":-6.5786783428241814E-13},{"$f":"IF(RI6,RI67+RI71)","v":-6.5786783428241814E-13},{"$f":"IF(RJ6,RJ67+RJ71)","v":-6.5786783428241814E-13},{"$f":"IF(RK6,RK67+RK71)","v":-6.5786783428241814E-13},{"$f":"IF(RL6,RL67+RL71)","v":-6.5786783428241814E-13},{"$f":"IF(RM6,RM67+RM71)","v":-6.5786783428241814E-13},{"$f":"IF(RN6,RN67+RN71)","v":-6.5786783428241814E-13},{"$f":"IF(RO6,RO67+RO71)","v":-6.5786783428241814E-13},{"$f":"IF(RP6,RP67+RP71)","v":-6.5786783428241814E-13},{"$f":"IF(RQ6,RQ67+RQ71)","v":-6.5786783428241814E-13},{"$f":"IF(RR6,RR67+RR71)","v":-6.5786783428241814E-13},{"$f":"IF(RS6,RS67+RS71)","v":-6.5786783428241814E-13},{"$f":"IF(RT6,RT67+RT71)","v":-6.5786783428241814E-13},{"$f":"IF(RU6,RU67+RU71)","v":-6.5786783428241814E-13},{"$f":"IF(RV6,RV67+RV71)","v":-6.5786783428241814E-13},{"$f":"IF(RW6,RW67+RW71)","v":-6.5786783428241814E-13},{"$f":"IF(RX6,RX67+RX71)","v":-6.5786783428241814E-13},{"$f":"IF(RY6,RY67+RY71)","v":-6.5786783428241814E-13},{"$f":"IF(RZ6,RZ67+RZ71)","v":-6.5786783428241814E-13},{"$f":"IF(SA6,SA67+SA71)","v":-6.5786783428241814E-13},{"$f":"IF(SB6,SB67+SB71)","v":-6.5786783428241814E-13},{"$f":"IF(SC6,SC67+SC71)","v":-6.5786783428241814E-13},{"$f":"IF(SD6,SD67+SD71)","v":-6.5786783428241814E-13},{"$f":"IF(SE6,SE67+SE71)","v":-6.5786783428241814E-13},{"$f":"IF(SF6,SF67+SF71)","v":-6.5786783428241814E-13},{"$f":"IF(SG6,SG67+SG71)","v":-6.5786783428241814E-13},{"$f":"IF(SH6,SH67+SH71)","v":-6.5786783428241814E-13},{"$f":"IF(SI6,SI67+SI71)","v":-6.5786783428241814E-13},{"$f":"IF(SJ6,SJ67+SJ71)","v":-6.5786783428241814E-13},{"$f":"IF(SK6,SK67+SK71)","v":-6.5786783428241814E-13},{"$f":"IF(SL6,SL67+SL71)","v":-6.5786783428241814E-13},{"$f":"IF(SM6,SM67+SM71)","v":-6.5786783428241814E-13},{"$f":"IF(SN6,SN67+SN71)","v":-6.5786783428241814E-13},{"$f":"IF(SO6,SO67+SO71)","v":-6.5786783428241814E-13},{"$f":"IF(SP6,SP67+SP71)","v":-6.5786783428241814E-13},{"$f":"IF(SQ6,SQ67+SQ71)","v":-6.5786783428241814E-13},{"$f":"IF(SR6,SR67+SR71)","v":-6.5786783428241814E-13},{"$f":"IF(SS6,SS67+SS71)","v":-6.5786783428241814E-13},{"$f":"IF(ST6,ST67+ST71)","v":-6.5786783428241814E-13},{"$f":"IF(SU6,SU67+SU71)","v":-6.5786783428241814E-13},{"$f":"IF(SV6,SV67+SV71)","v":-6.5786783428241814E-13},{"$f":"IF(SW6,SW67+SW71)","v":-6.5786783428241814E-13},{"$f":"IF(SX6,SX67+SX71)","v":-6.5786783428241814E-13},{"$f":"IF(SY6,SY67+SY71)","v":-6.5786783428241814E-13},{"$f":"IF(SZ6,SZ67+SZ71)","v":-6.5786783428241814E-13},{"$f":"IF(TA6,TA67+TA71)","v":-6.5786783428241814E-13},{"$f":"IF(TB6,TB67+TB71)","v":-6.5786783428241814E-13},{"$f":"IF(TC6,TC67+TC71)","v":-6.5786783428241814E-13},{"$f":"IF(TD6,TD67+TD71)","v":-6.5786783428241814E-13},{"$f":"IF(TE6,TE67+TE71)","v":-6.5786783428241814E-13},{"$f":"IF(TF6,TF67+TF71)","v":-6.5786783428241814E-13},{"$f":"IF(TG6,TG67+TG71)","v":-6.5786783428241814E-13},{"$f":"IF(TH6,TH67+TH71)","v":-6.5786783428241814E-13},{"$f":"IF(TI6,TI67+TI71)","v":-6.5786783428241814E-13},{"$f":"IF(TJ6,TJ67+TJ71)","v":-6.5786783428241814E-13},{"$f":"IF(TK6,TK67+TK71)","v":-6.5786783428241814E-13},{"$f":"IF(TL6,TL67+TL71)","v":-6.5786783428241814E-13},{"$f":"IF(TM6,TM67+TM71)","v":-6.5786783428241814E-13},{"$f":"IF(TN6,TN67+TN71)","v":-6.5786783428241814E-13},{"$f":"IF(TO6,TO67+TO71)","v":-6.5786783428241814E-13},{"$f":"IF(TP6,TP67+TP71)","v":-6.5786783428241814E-13},{"$f":"IF(TQ6,TQ67+TQ71)","v":-6.5786783428241814E-13},{"$f":"IF(TR6,TR67+TR71)","v":-6.5786783428241814E-13},{"$f":"IF(TS6,TS67+TS71)","v":-6.5786783428241814E-13},{"$f":"IF(TT6,TT67+TT71)","v":-6.5786783428241814E-13},{"$f":"IF(TU6,TU67+TU71)","v":-6.5786783428241814E-13},{"$f":"IF(TV6,TV67+TV71)","v":-6.5786783428241814E-13},{"$f":"IF(TW6,TW67+TW71)","v":-6.5786783428241814E-13},{"$f":"IF(TX6,TX67+TX71)","v":-6.5786783428241814E-13},{"$f":"IF(TY6,TY67+TY71)","v":-6.5786783428241814E-13},{"$f":"IF(TZ6,TZ67+TZ71)","v":-6.5786783428241814E-13},{"$f":"IF(UA6,UA67+UA71)","v":-6.5786783428241814E-13},{"$f":"IF(UB6,UB67+UB71)","v":-6.5786783428241814E-13},{"$f":"IF(UC6,UC67+UC71)","v":-6.5786783428241814E-13},{"$f":"IF(UD6,UD67+UD71)","v":-6.5786783428241814E-13},{"$f":"IF(UE6,UE67+UE71)","v":-6.5786783428241814E-13},{"$f":"IF(UF6,UF67+UF71)","v":-6.5786783428241814E-13},{"$f":"IF(UG6,UG67+UG71)","v":-6.5786783428241814E-13},{"$f":"IF(UH6,UH67+UH71)","v":-6.5786783428241814E-13},{"$f":"IF(UI6,UI67+UI71)","v":-6.5786783428241814E-13},{"$f":"IF(UJ6,UJ67+UJ71)","v":-6.5786783428241814E-13},{"$f":"IF(UK6,UK67+UK71)","v":-6.5786783428241814E-13},{"$f":"IF(UL6,UL67+UL71)","v":-6.5786783428241814E-13},{"$f":"IF(UM6,UM67+UM71)","v":-6.5786783428241814E-13},{"$f":"IF(UN6,UN67+UN71)","v":-6.5786783428241814E-13},{"$f":"IF(UO6,UO67+UO71)","v":-6.5786783428241814E-13}]
[null,null,null,"Discount Rate","%",{"$f":"G53","v":0}]
[null,null,null,"DSCR =CFADS/Debt Service","x",{"$f":"MIN(K114:UO114)","v":24.000000000000007},null,null,"x",null,{"$f":"IF(K61,K111/K61)","v":false},{"$f":"IF(L61,L111/L61)","v":false},{"$f":"IF(M61,M111/M61)","v":false},{"$f":"IF(N61,N111/N61)","v":false},{"$f":"IF(O61,O111/O61)","v":false},{"$f":"IF(P61,P111/P61)","v":false},{"$f":"IF(Q61,Q111/Q61)","v":false},{"$f":"IF(R61,R111/R61)","v":false},{"$f":"IF(S61,S111/S61)","v":false},{"$f":"IF(T61,T111/T61)","v":false},{"$f":"IF(U61,U111/U61)","v":false},{"$f":"IF(V61,V111/V61)","v":false},{"$f":"IF(W61,W111/W61)","v":false},{"$f":"IF(X61,X111/X61)","v":false},{"$f":"IF(Y61,Y111/Y61)","v":false},{"$f":"IF(Z61,Z111/Z61)","v":false},{"$f":"IF(AA61,AA111/AA61)","v":false},{"$f":"IF(AB61,AB111/AB61)","v":false},{"$f":"IF(AC61,AC111/AC61)","v":false},{"$f":"IF(AD61,AD111/AD61)","v":false},{"$f":"IF(AE61,AE111/AE61)","v":false},{"$f":"IF(AF61,AF111/AF61)","v":false},{"$f":"IF(AG61,AG111/AG61)","v":false},{"$f":"IF(AH61,AH111/AH61)","v":false},{"$f":"IF(AI61,AI111/AI61)","v":false},{"$f":"IF(AJ61,AJ111/AJ61)","v":24.000000000000007},{"$f":"IF(AK61,AK111/AK61)","v":24.000000000000007},{"$f":"IF(AL61,AL111/AL61)","v":24.000000000000007},{"$f":"IF(AM61,AM111/AM61)","v":24.000000000000007},{"$f":"IF(AN61,AN111/AN61)","v":24.000000000000007},{"$f":"IF(AO61,AO111/AO61)","v":24.000000000000007},{"$f":"IF(AP61,AP111/AP61)","v":24.000000000000007},{"$f":"IF(AQ61,AQ111/AQ61)","v":24.000000000000007},{"$f":"IF(AR61,AR111/AR61)","v":24.000000000000007},{"$f":"IF(AS61,AS111/AS61)","v":24.000000000000007},{"$f":"IF(AT61,AT111/AT61)","v":24.000000000000007},{"$f":"IF(AU61,AU111/AU61)","v":24.000000000000007},{"$f":"IF(AV61,AV111/AV61)","v":24.000000000000007},{"$f":"IF(AW61,AW111/AW61)","v":24.000000000000007},{"$f":"IF(AX61,AX111/AX61)","v":24.000000000000007},{"$f":"IF(AY61,AY111/AY61)","v":24.000000000000007},{"$f":"IF(AZ61,AZ111/AZ61)","v":24.000000000000007},{"$f":"IF(BA61,BA111/BA61)","v":24.000000000000007},{"$f":"IF(BB61,BB111/BB61)","v":24.000000000000007},{"$f":"IF(BC61,BC111/BC61)","v":24.000000000000007},{"$f":"IF(BD61,BD111/BD61)","v":24.000000000000007},{"$f":"IF(BE61,BE111/BE61)","v":24.000000000000007},{"$f":"IF(BF61,BF111/BF61)","v":24.000000000000007},{"$f":"IF(BG61,BG111/BG61)","v":24.000000000000007},{"$f":"IF(BH61,BH111/BH61)","v":24.000000000000007},{"$f":"IF(BI61,BI111/BI61)","v":24.000000000000007},{"$f":"IF(BJ61,BJ111/BJ61)","v":24.000000000000007},{"$f":"IF(BK61,BK111/BK61)","v":24.000000000000007},{"$f":"IF(BL61,BL111/BL61)","v":24.000000000000007},{"$f":"IF(BM61,BM111/BM61)","v":24.000000000000007},{"$f":"IF(BN61,BN111/BN61)","v":24.000000000000007},{"$f":"IF(BO61,BO111/BO61)","v":24.000000000000007},{"$f":"IF(BP61,BP111/BP61)","v":24.000000000000007},{"$f":"IF(BQ61,BQ111/BQ61)","v":24.000000000000007},{"$f":"IF(BR61,BR111/BR61)","v":24.000000000000007},{"$f":"IF(BS61,BS111/BS61)","v":24.000000000000007},{"$f":"IF(BT61,BT111/BT61)","v":24.000000000000007},{"$f":"IF(BU61,BU111/BU61)","v":24.000000000000007},{"$f":"IF(BV61,BV111/BV61)","v":24.000000000000007},{"$f":"IF(BW61,BW111/BW61)","v":24.000000000000007},{"$f":"IF(BX61,BX111/BX61)","v":24.000000000000007},{"$f":"IF(BY61,BY111/BY61)","v":24.000000000000007},{"$f":"IF(BZ61,BZ111/BZ61)","v":24.000000000000007},{"$f":"IF(CA61,CA111/CA61)","v":24.000000000000007},{"$f":"IF(CB61,CB111/CB61)","v":24.000000000000007},{"$f":"IF(CC61,CC111/CC61)","v":24.000000000000007},{"$f":"IF(CD61,CD111/CD61)","v":24.000000000000007},{"$f":"IF(CE61,CE111/CE61)","v":24.000000000000007},{"$f":"IF(CF61,CF111/CF61)","v":24.000000000000007},{"$f":"IF(CG61,CG111/CG61)","v":24.000000000000007},{"$f":"IF(CH61,CH111/CH61)","v":24.000000000000007},{"$f":"IF(CI61,CI111/CI61)","v":24.000000000000007},{"$f":"IF(CJ61,CJ111/CJ61)","v":24.000000000000007},{"$f":"IF(CK61,CK111/CK61)","v":24.000000000000007},{"$f":"IF(CL61,CL111/CL61)","v":24.000000000000007},{"$f":"IF(CM61,CM111/CM61)","v":24.000000000000007},{"$f":"IF(CN61,CN111/CN61)","v":24.000000000000007},{"$f":"IF(CO61,CO111/CO61)","v":24.000000000000007},{"$f":"IF(CP61,CP111/CP61)","v":24.000000000000007},{"$f":"IF(CQ61,CQ111/CQ61)","v":24.000000000000007},{"$f":"IF(CR61,CR111/CR61)","v":24.000000000000007},{"$f":"IF(CS61,CS111/CS61)","v":24.000000000000007},{"$f":"IF(CT61,CT111/CT61)","v":24.000000000000007},{"$f":"IF(CU61,CU111/CU61)","v":24.000000000000007},{"$f":"IF(CV61,CV111/CV61)","v":24.000000000000007},{"$f":"IF(CW61,CW111/CW61)","v":24.000000000000007},{"$f":"IF(CX61,CX111/CX61)","v":24.000000000000007},{"$f":"IF(CY61,CY111/CY61)","v":24.000000000000007},{"$f":"IF(CZ61,CZ111/CZ61)","v":24.000000000000007},{"$f":"IF(DA61,DA111/DA61)","v":24.000000000000007},{"$f":"IF(DB61,DB111/DB61)","v":24.000000000000007},{"$f":"IF(DC61,DC111/DC61)","v":24.000000000000007},{"$f":"IF(DD61,DD111/DD61)","v":24.000000000000007},{"$f":"IF(DE61,DE111/DE61)","v":24.000000000000007},{"$f":"IF(DF61,DF111/DF61)","v":24.000000000000007},{"$f":"IF(DG61,DG111/DG61)","v":24.000000000000007},{"$f":"IF(DH61,DH111/DH61)","v":24.000000000000007},{"$f":"IF(DI61,DI111/DI61)","v":24.000000000000007},{"$f":"IF(DJ61,DJ111/DJ61)","v":24.000000000000007},{"$f":"IF(DK61,DK111/DK61)","v":24.000000000000007},{"$f":"IF(DL61,DL111/DL61)","v":24.000000000000007},{"$f":"IF(DM61,DM111/DM61)","v":24.000000000000007},{"$f":"IF(DN61,DN111/DN61)","v":24.000000000000007},{"$f":"IF(DO61,DO111/DO61)","v":24.000000000000007},{"$f":"IF(DP61,DP111/DP61)","v":24.000000000000007},{"$f":"IF(DQ61,DQ111/DQ61)","v":24.000000000000007},{"$f":"IF(DR61,DR111/DR61)","v":24.000000000000007},{"$f":"IF(DS61,DS111/DS61)","v":24.000000000000007},{"$f":"IF(DT61,DT111/DT61)","v":24.000000000000007},{"$f":"IF(DU61,DU111/DU61)","v":24.000000000000007},{"$f":"IF(DV61,DV111/DV61)","v":24.000000000000007},{"$f":"IF(DW61,DW111/DW61)","v":24.000000000000007},{"$f":"IF(DX61,DX111/DX61)","v":24.000000000000007},{"$f":"IF(DY61,DY111/DY61)","v":24.000000000000007},{"$f":"IF(DZ61,DZ111/DZ61)","v":24.000000000000007},{"$f":"IF(EA61,EA111/EA61)","v":24.000000000000007},{"$f":"IF(EB61,EB111/EB61)","v":24.000000000000007},{"$f":"IF(EC61,EC111/EC61)","v":24.000000000000007},{"$f":"IF(ED61,ED111/ED61)","v":24.000000000000007},{"$f":"IF(EE61,EE111/EE61)","v":24.000000000000007},{"$f":"IF(EF61,EF111/EF61)","v":24.000000000000007},{"$f":"IF(EG61,EG111/EG61)","v":24.000000000000007},{"$f":"IF(EH61,EH111/EH61)","v":24.000000000000007},{"$f":"IF(EI61,EI111/EI61)","v":24.000000000000007},{"$f":"IF(EJ61,EJ111/EJ61)","v":24.000000000000007},{"$f":"IF(EK61,EK111/EK61)","v":24.000000000000007},{"$f":"IF(EL61,EL111/EL61)","v":24.000000000000007},{"$f":"IF(EM61,EM111/EM61)","v":24.000000000000007},{"$f":"IF(EN61,EN111/EN61)","v":24.000000000000007},{"$f":"IF(EO61,EO111/EO61)","v":24.000000000000007},{"$f":"IF(EP61,EP111/EP61)","v":24.000000000000007},{"$f":"IF(EQ61,EQ111/EQ61)","v":24.000000000000007},{"$f":"IF(ER61,ER111/ER61)","v":24.000000000000007},{"$f":"IF(ES61,ES111/ES61)","v":24.000000000000007},{"$f":"IF(ET61,ET111/ET61)","v":24.000000000000007},{"$f":"IF(EU61,EU111/EU61)","v":24.000000000000007},{"$f":"IF(EV61,EV111/EV61)","v":24.000000000000007},{"$f":"IF(EW61,EW111/EW61)","v":24.000000000000007},{"$f":"IF(EX61,EX111/EX61)","v":24.000000000000007},{"$f":"IF(EY61,EY111/EY61)","v":24.000000000000007},{"$f":"IF(EZ61,EZ111/EZ61)","v":24.000000000000007},{"$f":"IF(FA61,FA111/FA61)","v":24.000000000000007},{"$f":"IF(FB61,FB111/FB61)","v":24.000000000000007},{"$f":"IF(FC61,FC111/FC61)","v":24.000000000000007},{"$f":"IF(FD61,FD111/FD61)","v":24.000000000000007},{"$f":"IF(FE61,FE111/FE61)","v":24.000000000000007},{"$f":"IF(FF61,FF111/FF61)","v":24.000000000000007},{"$f":"IF(FG61,FG111/FG61)","v":24.000000000000007},{"$f":"IF(FH61,FH111/FH61)","v":24.000000000000007},{"$f":"IF(FI61,FI111/FI61)","v":24.000000000000007},{"$f":"IF(FJ61,FJ111/FJ61)","v":24.000000000000007},{"$f":"IF(FK61,FK111/FK61)","v":24.000000000000007},{"$f":"IF(FL61,FL111/FL61)","v":24.000000000000007},{"$f":"IF(FM61,FM111/FM61)","v":24.000000000000007},{"$f":"IF(FN61,FN111/FN61)","v":24.000000000000007},{"$f":"IF(FO61,FO111/FO61)","v":24.000000000000007},{"$f":"IF(FP61,FP111/FP61)","v":24.000000000000007},{"$f":"IF(FQ61,FQ111/FQ61)","v":24.000000000000007},{"$f":"IF(FR61,FR111/FR61)","v":24.000000000000007},{"$f":"IF(FS61,FS111/FS61)","v":24.000000000000007},{"$f":"IF(FT61,FT111/FT61)","v":24.000000000000007},{"$f":"IF(FU61,FU111/FU61)","v":24.000000000000007},{"$f":"IF(FV61,FV111/FV61)","v":24.000000000000007},{"$f":"IF(FW61,FW111/FW61)","v":24.000000000000007},{"$f":"IF(FX61,FX111/FX61)","v":24.000000000000007},{"$f":"IF(FY61,FY111/FY61)","v":24.000000000000007},{"$f":"IF(FZ61,FZ111/FZ61)","v":24.000000000000007},{"$f":"IF(GA61,GA111/GA61)","v":24.000000000000007},{"$f":"IF(GB61,GB111/GB61)","v":24.000000000000007},{"$f":"IF(GC61,GC111/GC61)","v":24.000000000000007},{"$f":"IF(GD61,GD111/GD61)","v":24.000000000000007},{"$f":"IF(GE61,GE111/GE61)","v":24.000000000000007},{"$f":"IF(GF61,GF111/GF61)","v":24.000000000000007},{"$f":"IF(GG61,GG111/GG61)","v":24.000000000000007},{"$f":"IF(GH61,GH111/GH61)","v":24.000000000000007},{"$f":"IF(GI61,GI111/GI61)","v":24.000000000000007},{"$f":"IF(GJ61,GJ111/GJ61)","v":24.000000000000007},{"$f":"IF(GK61,GK111/GK61)","v":24.000000000000007},{"$f":"IF(GL61,GL111/GL61)","v":24.000000000000007},{"$f":"IF(GM61,GM111/GM61)","v":24.000000000000007},{"$f":"IF(GN61,GN111/GN61)","v":24.000000000000007},{"$f":"IF(GO61,GO111/GO61)","v":24.000000000000007},{"$f":"IF(GP61,GP111/GP61)","v":24.000000000000007},{"$f":"IF(GQ61,GQ111/GQ61)","v":24.000000000000007},{"$f":"IF(GR61,GR111/GR61)","v":24.000000000000007},{"$f":"IF(GS61,GS111/GS61)","v":24.000000000000007},{"$f":"IF(GT61,GT111/GT61)","v":24.000000000000007},{"$f":"IF(GU61,GU111/GU61)","v":24.000000000000007},{"$f":"IF(GV61,GV111/GV61)","v":24.000000000000007},{"$f":"IF(GW61,GW111/GW61)","v":24.000000000000007},{"$f":"IF(GX61,GX111/GX61)","v":24.000000000000007},{"$f":"IF(GY61,GY111/GY61)","v":24.000000000000007},{"$f":"IF(GZ61,GZ111/GZ61)","v":24.000000000000007},{"$f":"IF(HA61,HA111/HA61)","v":24.000000000000007},{"$f":"IF(HB61,HB111/HB61)","v":24.000000000000007},{"$f":"IF(HC61,HC111/HC61)","v":24.000000000000007},{"$f":"IF(HD61,HD111/HD61)","v":24.000000000000007},{"$f":"IF(HE61,HE111/HE61)","v":24.000000000000007},{"$f":"IF(HF61,HF111/HF61)","v":24.000000000000007},{"$f":"IF(HG61,HG111/HG61)","v":24.000000000000007},{"$f":"IF(HH61,HH111/HH61)","v":24.000000000000007},{"$f":"IF(HI61,HI111/HI61)","v":24.000000000000007},{"$f":"IF(HJ61,HJ111/HJ61)","v":24.000000000000007},{"$f":"IF(HK61,HK111/HK61)","v":24.000000000000007},{"$f":"IF(HL61,HL111/HL61)","v":24.000000000000007},{"$f":"IF(HM61,HM111/HM61)","v":24.000000000000007},{"$f":"IF(HN61,HN111/HN61)","v":24.000000000000007},{"$f":"IF(HO61,HO111/HO61)","v":24.000000000000007},{"$f":"IF(HP61,HP111/HP61)","v":24.000000000000007},{"$f":"IF(HQ61,HQ111/HQ61)","v":24.000000000000007},{"$f":"IF(HR61,HR111/HR61)","v":24.000000000000007},{"$f":"IF(HS61,HS111/HS61)","v":24.000000000000007},{"$f":"IF(HT61,HT111/HT61)","v":24.000000000000007},{"$f":"IF(HU61,HU111/HU61)","v":24.000000000000007},{"$f":"IF(HV61,HV111/HV61)","v":24.000000000000007},{"$f":"IF(HW61,HW111/HW61)","v":24.000000000000007},{"$f":"IF(HX61,HX111/HX61)","v":24.000000000000007},{"$f":"IF(HY61,HY111/HY61)","v":24.000000000000007},{"$f":"IF(HZ61,HZ111/HZ61)","v":24.000000000000007},{"$f":"IF(IA61,IA111/IA61)","v":24.000000000000007},{"$f":"IF(IB61,IB111/IB61)","v":24.000000000000007},{"$f":"IF(IC61,IC111/IC61)","v":24.000000000000007},{"$f":"IF(ID61,ID111/ID61)","v":24.000000000000007},{"$f":"IF(IE61,IE111/IE61)","v":24.000000000000007},{"$f":"IF(IF61,IF111/IF61)","v":24.000000000000007},{"$f":"IF(IG61,IG111/IG61)","v":24.000000000000007},{"$f":"IF(IH61,IH111/IH61)","v":24.000000000000007},{"$f":"IF(II61,II111/II61)","v":24.000000000000007},{"$f":"IF(IJ61,IJ111/IJ61)","v":24.000000000000007},{"$f":"IF(IK61,IK111/IK61)","v":24.000000000000007},{"$f":"IF(IL61,IL111/IL61)","v":24.000000000000007},{"$f":"IF(IM61,IM111/IM61)","v":24.000000000000007},{"$f":"IF(IN61,IN111/IN61)","v":24.000000000000007},{"$f":"IF(IO61,IO111/IO61)","v":24.000000000000007},{"$f":"IF(IP61,IP111/IP61)","v":24.000000000000007},{"$f":"IF(IQ61,IQ111/IQ61)","v":24.000000000000007},{"$f":"IF(IR61,IR111/IR61)","v":24.000000000000007},{"$f":"IF(IS61,IS111/IS61)","v":24.000000000000007},{"$f":"IF(IT61,IT111/IT61)","v":24.000000000000007},{"$f":"IF(IU61,IU111/IU61)","v":24.000000000000007},{"$f":"IF(IV61,IV111/IV61)","v":24.000000000000007},{"$f":"IF(IW61,IW111/IW61)","v":24.000000000000007},{"$f":"IF(IX61,IX111/IX61)","v":24.000000000000007},{"$f":"IF(IY61,IY111/IY61)","v":24.000000000000007},{"$f":"IF(IZ61,IZ111/IZ61)","v":24.000000000000007},{"$f":"IF(JA61,JA111/JA61)","v":24.000000000000007},{"$f":"IF(JB61,JB111/JB61)","v":24.000000000000007},{"$f":"IF(JC61,JC111/JC61)","v":24.000000000000007},{"$f":"IF(JD61,JD111/JD61)","v":24.000000000000007},{"$f":"IF(JE61,JE111/JE61)","v":24.000000000000007},{"$f":"IF(JF61,JF111/JF61)","v":24.000000000000007},{"$f":"IF(JG61,JG111/JG61)","v":24.000000000000007},{"$f":"IF(JH61,JH111/JH61)","v":24.000000000000007},{"$f":"IF(JI61,JI111/JI61)","v":24.000000000000007},{"$f":"IF(JJ61,JJ111/JJ61)","v":24.000000000000007},{"$f":"IF(JK61,JK111/JK61)","v":24.000000000000007},{"$f":"IF(JL61,JL111/JL61)","v":24.000000000000007},{"$f":"IF(JM61,JM111/JM61)","v":24.000000000000007},{"$f":"IF(JN61,JN111/JN61)","v":24.000000000000007},{"$f":"IF(JO61,JO111/JO61)","v":24.000000000000007},{"$f":"IF(JP61,JP111/JP61)","v":false},{"$f":"IF(JQ61,JQ111/JQ61)","v":false},{"$f":"IF(JR61,JR111/JR61)","v":false},{"$f":"IF(JS61,JS111/JS61)","v":false},{"$f":"IF(JT61,JT111/JT61)","v":false},{"$f":"IF(JU61,JU111/JU61)","v":false},{"$f":"IF(JV61,JV111/JV61)","v":false},{"$f":"IF(JW61,JW111/JW61)","v":false},{"$f":"IF(JX61,JX111/JX61)","v":false},{"$f":"IF(JY61,JY111/JY61)","v":false},{"$f":"IF(JZ61,JZ111/JZ61)","v":false},{"$f":"IF(KA61,KA111/KA61)","v":false},{"$f":"IF(KB61,KB111/KB61)","v":false},{"$f":"IF(KC61,KC111/KC61)","v":false},{"$f":"IF(KD61,KD111/KD61)","v":false},{"$f":"IF(KE61,KE111/KE61)","v":false},{"$f":"IF(KF61,KF111/KF61)","v":false},{"$f":"IF(KG61,KG111/KG61)","v":false},{"$f":"IF(KH61,KH111/KH61)","v":false},{"$f":"IF(KI61,KI111/KI61)","v":false},{"$f":"IF(KJ61,KJ111/KJ61)","v":false},{"$f":"IF(KK61,KK111/KK61)","v":false},{"$f":"IF(KL61,KL111/KL61)","v":false},{"$f":"IF(KM61,KM111/KM61)","v":false},{"$f":"IF(KN61,KN111/KN61)","v":false},{"$f":"IF(KO61,KO111/KO61)","v":false},{"$f":"IF(KP61,KP111/KP61)","v":false},{"$f":"IF(KQ61,KQ111/KQ61)","v":false},{"$f":"IF(KR61,KR111/KR61)","v":false},{"$f":"IF(KS61,KS111/KS61)","v":false},{"$f":"IF(KT61,KT111/KT61)","v":false},{"$f":"IF(KU61,KU111/KU61)","v":false},{"$f":"IF(KV61,KV111/KV61)","v":false},{"$f":"IF(KW61,KW111/KW61)","v":false},{"$f":"IF(KX61,KX111/KX61)","v":false},{"$f":"IF(KY61,KY111/KY61)","v":false},{"$f":"IF(KZ61,KZ111/KZ61)","v":false},{"$f":"IF(LA61,LA111/LA61)","v":false},{"$f":"IF(LB61,LB111/LB61)","v":false},{"$f":"IF(LC61,LC111/LC61)","v":false},{"$f":"IF(LD61,LD111/LD61)","v":false},{"$f":"IF(LE61,LE111/LE61)","v":false},{"$f":"IF(LF61,LF111/LF61)","v":false},{"$f":"IF(LG61,LG111/LG61)","v":false},{"$f":"IF(LH61,LH111/LH61)","v":false},{"$f":"IF(LI61,LI111/LI61)","v":false},{"$f":"IF(LJ61,LJ111/LJ61)","v":false},{"$f":"IF(LK61,LK111/LK61)","v":false},{"$f":"IF(LL61,LL111/LL61)","v":false},{"$f":"IF(LM61,LM111/LM61)","v":false},{"$f":"IF(LN61,LN111/LN61)","v":false},{"$f":"IF(LO61,LO111/LO61)","v":false},{"$f":"IF(LP61,LP111/LP61)","v":false},{"$f":"IF(LQ61,LQ111/LQ61)","v":false},{"$f":"IF(LR61,LR111/LR61)","v":false},{"$f":"IF(LS61,LS111/LS61)","v":false},{"$f":"IF(LT61,LT111/LT61)","v":false},{"$f":"IF(LU61,LU111/LU61)","v":false},{"$f":"IF(LV61,LV111/LV61)","v":false},{"$f":"IF(LW61,LW111/LW61)","v":false},{"$f":"IF(LX61,LX111/LX61)","v":false},{"$f":"IF(LY61,LY111/LY61)","v":false},{"$f":"IF(LZ61,LZ111/LZ61)","v":false},{"$f":"IF(MA61,MA111/MA61)","v":false},{"$f":"IF(MB61,MB111/MB61)","v":false},{"$f":"IF(MC61,MC111/MC61)","v":false},{"$f":"IF(MD61,MD111/MD61)","v":false},{"$f":"IF(ME61,ME111/ME61)","v":false},{"$f":"IF(MF61,MF111/MF61)","v":false},{"$f":"IF(MG61,MG111/MG61)","v":false},{"$f":"IF(MH61,MH111/MH61)","v":false},{"$f":"IF(MI61,MI111/MI61)","v":false},{"$f":"IF(MJ61,MJ111/MJ61)","v":false},{"$f":"IF(MK61,MK111/MK61)","v":false},{"$f":"IF(ML61,ML111/ML61)","v":false},{"$f":"IF(MM61,MM111/MM61)","v":false},{"$f":"IF(MN61,MN111/MN61)","v":false},{"$f":"IF(MO61,MO111/MO61)","v":false},{"$f":"IF(MP61,MP111/MP61)","v":false},{"$f":"IF(MQ61,MQ111/MQ61)","v":false},{"$f":"IF(MR61,MR111/MR61)","v":false},{"$f":"IF(MS61,MS111/MS61)","v":false},{"$f":"IF(MT61,MT111/MT61)","v":false},{"$f":"IF(MU61,MU111/MU61)","v":false},{"$f":"IF(MV61,MV111/MV61)","v":false},{"$f":"IF(MW61,MW111/MW61)","v":false},{"$f":"IF(MX61,MX111/MX61)","v":false},{"$f":"IF(MY61,MY111/MY61)","v":false},{"$f":"IF(MZ61,MZ111/MZ61)","v":false},{"$f":"IF(NA61,NA111/NA61)","v":false},{"$f":"IF(NB61,NB111/NB61)","v":false},{"$f":"IF(NC61,NC111/NC61)","v":false},{"$f":"IF(ND61,ND111/ND61)","v":false},{"$f":"IF(NE61,NE111/NE61)","v":false},{"$f":"IF(NF61,NF111/NF61)","v":false},{"$f":"IF(NG61,NG111/NG61)","v":false},{"$f":"IF(NH61,NH111/NH61)","v":false},{"$f":"IF(NI61,NI111/NI61)","v":false},{"$f":"IF(NJ61,NJ111/NJ61)","v":false},{"$f":"IF(NK61,NK111/NK61)","v":false},{"$f":"IF(NL61,NL111/NL61)","v":false},{"$f":"IF(NM61,NM111/NM61)","v":false},{"$f":"IF(NN61,NN111/NN61)","v":false},{"$f":"IF(NO61,NO111/NO61)","v":false},{"$f":"IF(NP61,NP111/NP61)","v":false},{"$f":"IF(NQ61,NQ111/NQ61)","v":false},{"$f":"IF(NR61,NR111/NR61)","v":false},{"$f":"IF(NS61,NS111/NS61)","v":false},{"$f":"IF(NT61,NT111/NT61)","v":false},{"$f":"IF(NU61,NU111/NU61)","v":false},{"$f":"IF(NV61,NV111/NV61)","v":false},{"$f":"IF(NW61,NW111/NW61)","v":false},{"$f":"IF(NX61,NX111/NX61)","v":false},{"$f":"IF(NY61,NY111/NY61)","v":false},{"$f":"IF(NZ61,NZ111/NZ61)","v":false},{"$f":"IF(OA61,OA111/OA61)","v":false},{"$f":"IF(OB61,OB111/OB61)","v":false},{"$f":"IF(OC61,OC111/OC61)","v":false},{"$f":"IF(OD61,OD111/OD61)","v":false},{"$f":"IF(OE61,OE111/OE61)","v":false},{"$f":"IF(OF61,OF111/OF61)","v":false},{"$f":"IF(OG61,OG111/OG61)","v":false},{"$f":"IF(OH61,OH111/OH61)","v":false},{"$f":"IF(OI61,OI111/OI61)","v":false},{"$f":"IF(OJ61,OJ111/OJ61)","v":false},{"$f":"IF(OK61,OK111/OK61)","v":false},{"$f":"IF(OL61,OL111/OL61)","v":false},{"$f":"IF(OM61,OM111/OM61)","v":false},{"$f":"IF(ON61,ON111/ON61)","v":false},{"$f":"IF(OO61,OO111/OO61)","v":false},{"$f":"IF(OP61,OP111/OP61)","v":false},{"$f":"IF(OQ61,OQ111/OQ61)","v":false},{"$f":"IF(OR61,OR111/OR61)","v":false},{"$f":"IF(OS61,OS111/OS61)","v":false},{"$f":"IF(OT61,OT111/OT61)","v":false},{"$f":"IF(OU61,OU111/OU61)","v":false},{"$f":"IF(OV61,OV111/OV61)","v":false},{"$f":"IF(OW61,OW111/OW61)","v":false},{"$f":"IF(OX61,OX111/OX61)","v":false},{"$f":"IF(OY61,OY111/OY61)","v":false},{"$f":"IF(OZ61,OZ111/OZ61)","v":false},{"$f":"IF(PA61,PA111/PA61)","v":false},{"$f":"IF(PB61,PB111/PB61)","v":false},{"$f":"IF(PC61,PC111/PC61)","v":false},{"$f":"IF(PD61,PD111/PD61)","v":false},{"$f":"IF(PE61,PE111/PE61)","v":false},{"$f":"IF(PF61,PF111/PF61)","v":false},{"$f":"IF(PG61,PG111/PG61)","v":false},{"$f":"IF(PH61,PH111/PH61)","v":false},{"$f":"IF(PI61,PI111/PI61)","v":false},{"$f":"IF(PJ61,PJ111/PJ61)","v":false},{"$f":"IF(PK61,PK111/PK61)","v":false},{"$f":"IF(PL61,PL111/PL61)","v":false},{"$f":"IF(PM61,PM111/PM61)","v":false},{"$f":"IF(PN61,PN111/PN61)","v":false},{"$f":"IF(PO61,PO111/PO61)","v":false},{"$f":"IF(PP61,PP111/PP61)","v":false},{"$f":"IF(PQ61,PQ111/PQ61)","v":false},{"$f":"IF(PR61,PR111/PR61)","v":false},{"$f":"IF(PS61,PS111/PS61)","v":false},{"$f":"IF(PT61,PT111/PT61)","v":false},{"$f":"IF(PU61,PU111/PU61)","v":false},{"$f":"IF(PV61,PV111/PV61)","v":false},{"$f":"IF(PW61,PW111/PW61)","v":false},{"$f":"IF(PX61,PX111/PX61)","v":false},{"$f":"IF(PY61,PY111/PY61)","v":false},{"$f":"IF(PZ61,PZ111/PZ61)","v":false},{"$f":"IF(QA61,QA111/QA61)","v":false},{"$f":"IF(QB61,QB111/QB61)","v":false},{"$f":"IF(QC61,QC111/QC61)","v":false},{"$f":"IF(QD61,QD111/QD61)","v":false},{"$f":"IF(QE61,QE111/QE61)","v":false},{"$f":"IF(QF61,QF111/QF61)","v":false},{"$f":"IF(QG61,QG111/QG61)","v":false},{"$f":"IF(QH61,QH111/QH61)","v":false},{"$f":"IF(QI61,QI111/QI61)","v":false},{"$f":"IF(QJ61,QJ111/QJ61)","v":false},{"$f":"IF(QK61,QK111/QK61)","v":false},{"$f":"IF(QL61,QL111/QL61)","v":false},{"$f":"IF(QM61,QM111/QM61)","v":false},{"$f":"IF(QN61,QN111/QN61)","v":false},{"$f":"IF(QO61,QO111/QO61)","v":false},{"$f":"IF(QP61,QP111/QP61)","v":false},{"$f":"IF(QQ61,QQ111/QQ61)","v":false},{"$f":"IF(QR61,QR111/QR61)","v":false},{"$f":"IF(QS61,QS111/QS61)","v":false},{"$f":"IF(QT61,QT111/QT61)","v":false},{"$f":"IF(QU61,QU111/QU61)","v":false},{"$f":"IF(QV61,QV111/QV61)","v":false},{"$f":"IF(QW61,QW111/QW61)","v":false},{"$f":"IF(QX61,QX111/QX61)","v":false},{"$f":"IF(QY61,QY111/QY61)","v":false},{"$f":"IF(QZ61,QZ111/QZ61)","v":false},{"$f":"IF(RA61,RA111/RA61)","v":false},{"$f":"IF(RB61,RB111/RB61)","v":false},{"$f":"IF(RC61,RC111/RC61)","v":false},{"$f":"IF(RD61,RD111/RD61)","v":false},{"$f":"IF(RE61,RE111/RE61)","v":false},{"$f":"IF(RF61,RF111/RF61)","v":false},{"$f":"IF(RG61,RG111/RG61)","v":false},{"$f":"IF(RH61,RH111/RH61)","v":false},{"$f":"IF(RI61,RI111/RI61)","v":false},{"$f":"IF(RJ61,RJ111/RJ61)","v":false},{"$f":"IF(RK61,RK111/RK61)","v":false},{"$f":"IF(RL61,RL111/RL61)","v":false},{"$f":"IF(RM61,RM111/RM61)","v":false},{"$f":"IF(RN61,RN111/RN61)","v":false},{"$f":"IF(RO61,RO111/RO61)","v":false},{"$f":"IF(RP61,RP111/RP61)","v":false},{"$f":"IF(RQ61,RQ111/RQ61)","v":false},{"$f":"IF(RR61,RR111/RR61)","v":false},{"$f":"IF(RS61,RS111/RS61)","v":false},{"$f":"IF(RT61,RT111/RT61)","v":false},{"$f":"IF(RU61,RU111/RU61)","v":false},{"$f":"IF(RV61,RV111/RV61)","v":false},{"$f":"IF(RW61,RW111/RW61)","v":false},{"$f":"IF(RX61,RX111/RX61)","v":false},{"$f":"IF(RY61,RY111/RY61)","v":false},{"$f":"IF(RZ61,RZ111/RZ61)","v":false},{"$f":"IF(SA61,SA111/SA61)","v":false},{"$f":"IF(SB61,SB111/SB61)","v":false},{"$f":"IF(SC61,SC111/SC61)","v":false},{"$f":"IF(SD61,SD111/SD61)","v":false},{"$f":"IF(SE61,SE111/SE61)","v":false},{"$f":"IF(SF61,SF111/SF61)","v":false},{"$f":"IF(SG61,SG111/SG61)","v":false},{"$f":"IF(SH61,SH111/SH61)","v":false},{"$f":"IF(SI61,SI111/SI61)","v":false},{"$f":"IF(SJ61,SJ111/SJ61)","v":false},{"$f":"IF(SK61,SK111/SK61)","v":false},{"$f":"IF(SL61,SL111/SL61)","v":false},{"$f":"IF(SM61,SM111/SM61)","v":false},{"$f":"IF(SN61,SN111/SN61)","v":false},{"$f":"IF(SO61,SO111/SO61)","v":false},{"$f":"IF(SP61,SP111/SP61)","v":false},{"$f":"IF(SQ61,SQ111/SQ61)","v":false},{"$f":"IF(SR61,SR111/SR61)","v":false},{"$f":"IF(SS61,SS111/SS61)","v":false},{"$f":"IF(ST61,ST111/ST61)","v":false},{"$f":"IF(SU61,SU111/SU61)","v":false},{"$f":"IF(SV61,SV111/SV61)","v":false},{"$f":"IF(SW61,SW111/SW61)","v":false},{"$f":"IF(SX61,SX111/SX61)","v":false},{"$f":"IF(SY61,SY111/SY61)","v":false},{"$f":"IF(SZ61,SZ111/SZ61)","v":false},{"$f":"IF(TA61,TA111/TA61)","v":false},{"$f":"IF(TB61,TB111/TB61)","v":false},{"$f":"IF(TC61,TC111/TC61)","v":false},{"$f":"IF(TD61,TD111/TD61)","v":false},{"$f":"IF(TE61,TE111/TE61)","v":false},{"$f":"IF(TF61,TF111/TF61)","v":false},{"$f":"IF(TG61,TG111/TG61)","v":false},{"$f":"IF(TH61,TH111/TH61)","v":false},{"$f":"IF(TI61,TI111/TI61)","v":false},{"$f":"IF(TJ61,TJ111/TJ61)","v":false},{"$f":"IF(TK61,TK111/TK61)","v":false},{"$f":"IF(TL61,TL111/TL61)","v":false},{"$f":"IF(TM61,TM111/TM61)","v":false},{"$f":"IF(TN61,TN111/TN61)","v":false},{"$f":"IF(TO61,TO111/TO61)","v":false},{"$f":"IF(TP61,TP111/TP61)","v":false},{"$f":"IF(TQ61,TQ111/TQ61)","v":false},{"$f":"IF(TR61,TR111/TR61)","v":false},{"$f":"IF(TS61,TS111/TS61)","v":false},{"$f":"IF(TT61,TT111/TT61)","v":false},{"$f":"IF(TU61,TU111/TU61)","v":false},{"$f":"IF(TV61,TV111/TV61)","v":false},{"$f":"IF(TW61,TW111/TW61)","v":false},{"$f":"IF(TX61,TX111/TX61)","v":false},{"$f":"IF(TY61,TY111/TY61)","v":false},{"$f":"IF(TZ61,TZ111/TZ61)","v":false},{"$f":"IF(UA61,UA111/UA61)","v":false},{"$f":"IF(UB61,UB111/UB61)","v":false},{"$f":"IF(UC61,UC111/UC61)","v":false},{"$f":"IF(UD61,UD111/UD61)","v":false},{"$f":"IF(UE61,UE111/UE61)","v":false},{"$f":"IF(UF61,UF111/UF61)","v":false},{"$f":"IF(UG61,UG111/UG61)","v":false},{"$f":"IF(UH61,UH111/UH61)","v":false},{"$f":"IF(UI61,UI111/UI61)","v":false},{"$f":"IF(UJ61,UJ111/UJ61)","v":false},{"$f":"IF(UK61,UK111/UK61)","v":false},{"$f":"IF(UL61,UL111/UL61)","v":false},{"$f":"IF(UM61,UM111/UM61)","v":false},{"$f":"IF(UN61,UN111/UN61)","v":false},{"$f":"IF(UO61,UO111/UO61)","v":false}]
[null,null,null,"Break-Even Percent Reduction DSCR","%",{"$f":"(F114-1)/F114","v":0.95833333333333337}]
[]
[null,null,null,"PV of CFADS over Life","EUR",{"$f":"NPV(F113,K111:UO111)","v":38480000}]
[null,null,null,"PV of Debt Service =Debt","EUR",{"$f":"NPV(F113,K112:UO112)","v":1115236.8541380886}]
[null,null,null,"PLCR=PV of CFADS/PV of Debt Service","x",{"$f":"F117/F118","v":34.503881267212321}]
[null,null,null,"Break-Even Percent Reduction PLCR","%",{"$f":"(F119-1)/F119","v":0.97101775327083972}]
[]
[null,null,null,"CFADS for Loan Life",null,null,null,null,"EUR",null,{"$f":"IF(K45,K111)","v":false},{"$f":"IF(L45,L111)","v":false},{"$f":"IF(M45,M111)","v":false},{"$f":"IF(N45,N111)","v":false},{"$f":"IF(O45,O111)","v":false},{"$f":"IF(P45,P111)","v":false},{"$f":"IF(Q45,Q111)","v":false},{"$f":"IF(R45,R111)","v":false},{"$f":"IF(S45,S111)","v":false},{"$f":"IF(T45,T111)","v":false},{"$f":"IF(U45,U111)","v":false},{"$f":"IF(V45,V111)","v":false},{"$f":"IF(W45,W111)","v":false},{"$f":"IF(X45,X111)","v":false},{"$f":"IF(Y45,Y111)","v":false},{"$f":"IF(Z45,Z111)","v":false},{"$f":"IF(AA45,AA111)","v":false},{"$f":"IF(AB45,AB111)","v":false},{"$f":"IF(AC45,AC111)","v":false},{"$f":"IF(AD45,AD111)","v":false},{"$f":"IF(AE45,AE111)","v":false},{"$f":"IF(AF45,AF111)","v":false},{"$f":"IF(AG45,AG111)","v":false},{"$f":"IF(AH45,AH111)","v":false},{"$f":"IF(AI45,AI111)","v":false},{"$f":"IF(AJ45,AJ111)","v":80000},{"$f":"IF(AK45,AK111)","v":80000},{"$f":"IF(AL45,AL111)","v":80000},{"$f":"IF(AM45,AM111)","v":80000},{"$f":"IF(AN45,AN111)","v":80000},{"$f":"IF(AO45,AO111)","v":80000},{"$f":"IF(AP45,AP111)","v":80000},{"$f":"IF(AQ45,AQ111)","v":80000},{"$f":"IF(AR45,AR111)","v":80000},{"$f":"IF(AS45,AS111)","v":80000},{"$f":"IF(AT45,AT111)","v":80000},{"$f":"IF(AU45,AU111)","v":80000},{"$f":"IF(AV45,AV111)","v":80000},{"$f":"IF(AW45,AW111)","v":80000},{"$f":"IF(AX45,AX111)","v":80000},{"$f":"IF(AY45,AY111)","v":80000},{"$f":"IF(AZ45,AZ111)","v":80000},{"$f":"IF(BA45,BA111)","v":80000},{"$f":"IF(BB45,BB111)","v":80000},{"$f":"IF(BC45,BC111)","v":80000},{"$f":"IF(BD45,BD111)","v":80000},{"$f":"IF(BE45,BE111)","v":80000},{"$f":"IF(BF45,BF111)","v":80000},{"$f":"IF(BG45,BG111)","v":80000},{"$f":"IF(BH45,BH111)","v":80000},{"$f":"IF(BI45,BI111)","v":80000},{"$f":"IF(BJ45,BJ111)","v":80000},{"$f":"IF(BK45,BK111)","v":80000},{"$f":"IF(BL45,BL111)","v":80000},{"$f":"IF(BM45,BM111)","v":80000},{"$f":"IF(BN45,BN111)","v":80000},{"$f":"IF(BO45,BO111)","v":80000},{"$f":"IF(BP45,BP111)","v":80000},{"$f":"IF(BQ45,BQ111)","v":80000},{"$f":"IF(BR45,BR111)","v":80000},{"$f":"IF(BS45,BS111)","v":80000},{"$f":"IF(BT45,BT111)","v":80000},{"$f":"IF(BU45,BU111)","v":80000},{"$f":"IF(BV45,BV111)","v":80000},{"$f":"IF(BW45,BW111)","v":80000},{"$f":"IF(BX45,BX111)","v":80000},{"$f":"IF(BY45,BY111)","v":80000},{"$f":"IF(BZ45,BZ111)","v":80000},{"$f":"IF(CA45,CA111)","v":80000},{"$f":"IF(CB45,CB111)","v":80000},{"$f":"IF(CC45,CC111)","v":80000},{"$f":"IF(CD45,CD111)","v":80000},{"$f":"IF(CE45,CE111)","v":80000},{"$f":"IF(CF45,CF111)","v":80000},{"$f":"IF(CG45,CG111)","v":80000},{"$f":"IF(CH45,CH111)","v":80000},{"$f":"IF(CI45,CI111)","v":80000},{"$f":"IF(CJ45,CJ111)","v":80000},{"$f":"IF(CK45,CK111)","v":80000},{"$f":"IF(CL45,CL111)","v":80000},{"$f":"IF(CM45,CM111)","v":80000},{"$f":"IF(CN45,CN111)","v":80000},{"$f":"IF(CO45,CO111)","v":80000},{"$f":"IF(CP45,CP111)","v":80000},{"$f":"IF(CQ45,CQ111)","v":80000},{"$f":"IF(CR45,CR111)","v":80000},{"$f":"IF(CS45,CS111)","v":80000},{"$f":"IF(CT45,CT111)","v":80000},{"$f":"IF(CU45,CU111)","v":80000},{"$f":"IF(CV45,CV111)","v":80000},{"$f":"IF(CW45,CW111)","v":80000},{"$f":"IF(CX45,CX111)","v":80000},{"$f":"IF(CY45,CY111)","v":80000},{"$f":"IF(CZ45,CZ111)","v":80000},{"$f":"IF(DA45,DA111)","v":80000},{"$f":"IF(DB45,DB111)","v":80000},{"$f":"IF(DC45,DC111)","v":80000},{"$f":"IF(DD45,DD111)","v":80000},{"$f":"IF(DE45,DE111)","v":80000},{"$f":"IF(DF45,DF111)","v":80000},{"$f":"IF(DG45,DG111)","v":80000},{"$f":"IF(DH45,DH111)","v":80000},{"$f":"IF(DI45,DI111)","v":80000},{"$f":"IF(DJ45,DJ111)","v":80000},{"$f":"IF(DK45,DK111)","v":80000},{"$f":"IF(DL45,DL111)","v":80000},{"$f":"IF(DM45,DM111)","v":80000},{"$f":"IF(DN45,DN111)","v":80000},{"$f":"IF(DO45,DO111)","v":80000},{"$f":"IF(DP45,DP111)","v":80000},{"$f":"IF(DQ45,DQ111)","v":80000},{"$f":"IF(DR45,DR111)","v":80000},{"$f":"IF(DS45,DS111)","v":80000},{"$f":"IF(DT45,DT111)","v":80000},{"$f":"IF(DU45,DU111)","v":80000},{"$f":"IF(DV45,DV111)","v":80000},{"$f":"IF(DW45,DW111)","v":80000},{"$f":"IF(DX45,DX111)","v":80000},{"$f":"IF(DY45,DY111)","v":80000},{"$f":"IF(DZ45,DZ111)","v":80000},{"$f":"IF(EA45,EA111)","v":80000},{"$f":"IF(EB45,EB111)","v":80000},{"$f":"IF(EC45,EC111)","v":80000},{"$f":"IF(ED45,ED111)","v":80000},{"$f":"IF(EE45,EE111)","v":80000},{"$f":"IF(EF45,EF111)","v":80000},{"$f":"IF(EG45,EG111)","v":80000},{"$f":"IF(EH45,EH111)","v":80000},{"$f":"IF(EI45,EI111)","v":80000},{"$f":"IF(EJ45,EJ111)","v":80000},{"$f":"IF(EK45,EK111)","v":80000},{"$f":"IF(EL45,EL111)","v":80000},{"$f":"IF(EM45,EM111)","v":80000},{"$f":"IF(EN45,EN111)","v":80000},{"$f":"IF(EO45,EO111)","v":80000},{"$f":"IF(EP45,EP111)","v":80000},{"$f":"IF(EQ45,EQ111)","v":80000},{"$f":"IF(ER45,ER111)","v":80000},{"$f":"IF(ES45,ES111)","v":80000},{"$f":"IF(ET45,ET111)","v":80000},{"$f":"IF(EU45,EU111)","v":80000},{"$f":"IF(EV45,EV111)","v":80000},{"$f":"IF(EW45,EW111)","v":80000},{"$f":"IF(EX45,EX111)","v":80000},{"$f":"IF(EY45,EY111)","v":80000},{"$f":"IF(EZ45,EZ111)","v":80000},{"$f":"IF(FA45,FA111)","v":80000},{"$f":"IF(FB45,FB111)","v":80000},{"$f":"IF(FC45,FC111)","v":80000},{"$f":"IF(FD45,FD111)","v":80000},{"$f":"IF(FE45,FE111)","v":80000},{"$f":"IF(FF45,FF111)","v":80000},{"$f":"IF(FG45,FG111)","v":80000},{"$f":"IF(FH45,FH111)","v":80000},{"$f":"IF(FI45,FI111)","v":80000},{"$f":"IF(FJ45,FJ111)","v":80000},{"$f":"IF(FK45,FK111)","v":80000},{"$f":"IF(FL45,FL111)","v":80000},{"$f":"IF(FM45,FM111)","v":80000},{"$f":"IF(FN45,FN111)","v":80000},{"$f":"IF(FO45,FO111)","v":80000},{"$f":"IF(FP45,FP111)","v":80000},{"$f":"IF(FQ45,FQ111)","v":80000},{"$f":"IF(FR45,FR111)","v":80000},{"$f":"IF(FS45,FS111)","v":80000},{"$f":"IF(FT45,FT111)","v":80000},{"$f":"IF(FU45,FU111)","v":80000},{"$f":"IF(FV45,FV111)","v":80000},{"$f":"IF(FW45,FW111)","v":80000},{"$f":"IF(FX45,FX111)","v":80000},{"$f":"IF(FY45,FY111)","v":80000},{"$f":"IF(FZ45,FZ111)","v":80000},{"$f":"IF(GA45,GA111)","v":80000},{"$f":"IF(GB45,GB111)","v":80000},{"$f":"IF(GC45,GC111)","v":80000},{"$f":"IF(GD45,GD111)","v":80000},{"$f":"IF(GE45,GE111)","v":80000},{"$f":"IF(GF45,GF111)","v":80000},{"$f":"IF(GG45,GG111)","v":80000},{"$f":"IF(GH45,GH111)","v":80000},{"$f":"IF(GI45,GI111)","v":80000},{"$f":"IF(GJ45,GJ111)","v":80000},{"$f":"IF(GK45,GK111)","v":80000},{"$f":"IF(GL45,GL111)","v":80000},{"$f":"IF(GM45,GM111)","v":80000},{"$f":"IF(GN45,GN111)","v":80000},{"$f":"IF(GO45,GO111)","v":80000},{"$f":"IF(GP45,GP111)","v":80000},{"$f":"IF(GQ45,GQ111)","v":80000},{"$f":"IF(GR45,GR111)","v":80000},{"$f":"IF(GS45,GS111)","v":80000},{"$f":"IF(GT45,GT111)","v":80000},{"$f":"IF(GU45,GU111)","v":80000},{"$f":"IF(GV45,GV111)","v":80000},{"$f":"IF(GW45,GW111)","v":80000},{"$f":"IF(GX45,GX111)","v":80000},{"$f":"IF(GY45,GY111)","v":80000},{"$f":"IF(GZ45,GZ111)","v":80000},{"$f":"IF(HA45,HA111)","v":80000},{"$f":"IF(HB45,HB111)","v":80000},{"$f":"IF(HC45,HC111)","v":80000},{"$f":"IF(HD45,HD111)","v":80000},{"$f":"IF(HE45,HE111)","v":80000},{"$f":"IF(HF45,HF111)","v":80000},{"$f":"IF(HG45,HG111)","v":80000},{"$f":"IF(HH45,HH111)","v":80000},{"$f":"IF(HI45,HI111)","v":80000},{"$f":"IF(HJ45,HJ111)","v":80000},{"$f":"IF(HK45,HK111)","v":80000},{"$f":"IF(HL45,HL111)","v":80000},{"$f":"IF(HM45,HM111)","v":80000},{"$f":"IF(HN45,HN111)","v":80000},{"$f":"IF(HO45,HO111)","v":80000},{"$f":"IF(HP45,HP111)","v":80000},{"$f":"IF(HQ45,HQ111)","v":80000},{"$f":"IF(HR45,HR111)","v":80000},{"$f":"IF(HS45,HS111)","v":80000},{"$f":"IF(HT45,HT111)","v":80000},{"$f":"IF(HU45,HU111)","v":80000},{"$f":"IF(HV45,HV111)","v":80000},{"$f":"IF(HW45,HW111)","v":80000},{"$f":"IF(HX45,HX111)","v":80000},{"$f":"IF(HY45,HY111)","v":80000},{"$f":"IF(HZ45,HZ111)","v":80000},{"$f":"IF(IA45,IA111)","v":80000},{"$f":"IF(IB45,IB111)","v":80000},{"$f":"IF(IC45,IC111)","v":80000},{"$f":"IF(ID45,ID111)","v":80000},{"$f":"IF(IE45,IE111)","v":80000},{"$f":"IF(IF45,IF111)","v":80000},{"$f":"IF(IG45,IG111)","v":80000},{"$f":"IF(IH45,IH111)","v":80000},{"$f":"IF(II45,II111)","v":80000},{"$f":"IF(IJ45,IJ111)","v":80000},{"$f":"IF(IK45,IK111)","v":80000},{"$f":"IF(IL45,IL111)","v":80000},{"$f":"IF(IM45,IM111)","v":80000},{"$f":"IF(IN45,IN111)","v":80000},{"$f":"IF(IO45,IO111)","v":80000},{"$f":"IF(IP45,IP111)","v":80000},{"$f":"IF(IQ45,IQ111)","v":80000},{"$f":"IF(IR45,IR111)","v":80000},{"$f":"IF(IS45,IS111)","v":80000},{"$f":"IF(IT45,IT111)","v":80000},{"$f":"IF(IU45,IU111)","v":80000},{"$f":"IF(IV45,IV111)","v":80000},{"$f":"IF(IW45,IW111)","v":80000},{"$f":"IF(IX45,IX111)","v":80000},{"$f":"IF(IY45,IY111)","v":80000},{"$f":"IF(IZ45,IZ111)","v":80000},{"$f":"IF(JA45,JA111)","v":80000},{"$f":"IF(JB45,JB111)","v":80000},{"$f":"IF(JC45,JC111)","v":80000},{"$f":"IF(JD45,JD111)","v":80000},{"$f":"IF(JE45,JE111)","v":80000},{"$f":"IF(JF45,JF111)","v":80000},{"$f":"IF(JG45,JG111)","v":80000},{"$f":"IF(JH45,JH111)","v":80000},{"$f":"IF(JI45,JI111)","v":80000},{"$f":"IF(JJ45,JJ111)","v":80000},{"$f":"IF(JK45,JK111)","v":80000},{"$f":"IF(JL45,JL111)","v":80000},{"$f":"IF(JM45,JM111)","v":80000},{"$f":"IF(JN45,JN111)","v":80000},{"$f":"IF(JO45,JO111)","v":80000},{"$f":"IF(JP45,JP111)","v":false},{"$f":"IF(JQ45,JQ111)","v":false},{"$f":"IF(JR45,JR111)","v":false},{"$f":"IF(JS45,JS111)","v":false},{"$f":"IF(JT45,JT111)","v":false},{"$f":"IF(JU45,JU111)","v":false},{"$f":"IF(JV45,JV111)","v":false},{"$f":"IF(JW45,JW111)","v":false},{"$f":"IF(JX45,JX111)","v":false},{"$f":"IF(JY45,JY111)","v":false},{"$f":"IF(JZ45,JZ111)","v":false},{"$f":"IF(KA45,KA111)","v":false},{"$f":"IF(KB45,KB111)","v":false},{"$f":"IF(KC45,KC111)","v":false},{"$f":"IF(KD45,KD111)","v":false},{"$f":"IF(KE45,KE111)","v":false},{"$f":"IF(KF45,KF111)","v":false},{"$f":"IF(KG45,KG111)","v":false},{"$f":"IF(KH45,KH111)","v":false},{"$f":"IF(KI45,KI111)","v":false},{"$f":"IF(KJ45,KJ111)","v":false},{"$f":"IF(KK45,KK111)","v":false},{"$f":"IF(KL45,KL111)","v":false},{"$f":"IF(KM45,KM111)","v":false},{"$f":"IF(KN45,KN111)","v":false},{"$f":"IF(KO45,KO111)","v":false},{"$f":"IF(KP45,KP111)","v":false},{"$f":"IF(KQ45,KQ111)","v":false},{"$f":"IF(KR45,KR111)","v":false},{"$f":"IF(KS45,KS111)","v":false},{"$f":"IF(KT45,KT111)","v":false},{"$f":"IF(KU45,KU111)","v":false},{"$f":"IF(KV45,KV111)","v":false},{"$f":"IF(KW45,KW111)","v":false},{"$f":"IF(KX45,KX111)","v":false},{"$f":"IF(KY45,KY111)","v":false},{"$f":"IF(KZ45,KZ111)","v":false},{"$f":"IF(LA45,LA111)","v":false},{"$f":"IF(LB45,LB111)","v":false},{"$f":"IF(LC45,LC111)","v":false},{"$f":"IF(LD45,LD111)","v":false},{"$f":"IF(LE45,LE111)","v":false},{"$f":"IF(LF45,LF111)","v":false},{"$f":"IF(LG45,LG111)","v":false},{"$f":"IF(LH45,LH111)","v":false},{"$f":"IF(LI45,LI111)","v":false},{"$f":"IF(LJ45,LJ111)","v":false},{"$f":"IF(LK45,LK111)","v":false},{"$f":"IF(LL45,LL111)","v":false},{"$f":"IF(LM45,LM111)","v":false},{"$f":"IF(LN45,LN111)","v":false},{"$f":"IF(LO45,LO111)","v":false},{"$f":"IF(LP45,LP111)","v":false},{"$f":"IF(LQ45,LQ111)","v":false},{"$f":"IF(LR45,LR111)","v":false},{"$f":"IF(LS45,LS111)","v":false},{"$f":"IF(LT45,LT111)","v":false},{"$f":"IF(LU45,LU111)","v":false},{"$f":"IF(LV45,LV111)","v":false},{"$f":"IF(LW45,LW111)","v":false},{"$f":"IF(LX45,LX111)","v":false},{"$f":"IF(LY45,LY111)","v":false},{"$f":"IF(LZ45,LZ111)","v":false},{"$f":"IF(MA45,MA111)","v":false},{"$f":"IF(MB45,MB111)","v":false},{"$f":"IF(MC45,MC111)","v":false},{"$f":"IF(MD45,MD111)","v":false},{"$f":"IF(ME45,ME111)","v":false},{"$f":"IF(MF45,MF111)","v":false},{"$f":"IF(MG45,MG111)","v":false},{"$f":"IF(MH45,MH111)","v":false},{"$f":"IF(MI45,MI111)","v":false},{"$f":"IF(MJ45,MJ111)","v":false},{"$f":"IF(MK45,MK111)","v":false},{"$f":"IF(ML45,ML111)","v":false},{"$f":"IF(MM45,MM111)","v":false},{"$f":"IF(MN45,MN111)","v":false},{"$f":"IF(MO45,MO111)","v":false},{"$f":"IF(MP45,MP111)","v":false},{"$f":"IF(MQ45,MQ111)","v":false},{"$f":"IF(MR45,MR111)","v":false},{"$f":"IF(MS45,MS111)","v":false},{"$f":"IF(MT45,MT111)","v":false},{"$f":"IF(MU45,MU111)","v":false},{"$f":"IF(MV45,MV111)","v":false},{"$f":"IF(MW45,MW111)","v":false},{"$f":"IF(MX45,MX111)","v":false},{"$f":"IF(MY45,MY111)","v":false},{"$f":"IF(MZ45,MZ111)","v":false},{"$f":"IF(NA45,NA111)","v":false},{"$f":"IF(NB45,NB111)","v":false},{"$f":"IF(NC45,NC111)","v":false},{"$f":"IF(ND45,ND111)","v":false},{"$f":"IF(NE45,NE111)","v":false},{"$f":"IF(NF45,NF111)","v":false},{"$f":"IF(NG45,NG111)","v":false},{"$f":"IF(NH45,NH111)","v":false},{"$f":"IF(NI45,NI111)","v":false},{"$f":"IF(NJ45,NJ111)","v":false},{"$f":"IF(NK45,NK111)","v":false},{"$f":"IF(NL45,NL111)","v":false},{"$f":"IF(NM45,NM111)","v":false},{"$f":"IF(NN45,NN111)","v":false},{"$f":"IF(NO45,NO111)","v":false},{"$f":"IF(NP45,NP111)","v":false},{"$f":"IF(NQ45,NQ111)","v":false},{"$f":"IF(NR45,NR111)","v":false},{"$f":"IF(NS45,NS111)","v":false},{"$f":"IF(NT45,NT111)","v":false},{"$f":"IF(NU45,NU111)","v":false},{"$f":"IF(NV45,NV111)","v":false},{"$f":"IF(NW45,NW111)","v":false},{"$f":"IF(NX45,NX111)","v":false},{"$f":"IF(NY45,NY111)","v":false},{"$f":"IF(NZ45,NZ111)","v":false},{"$f":"IF(OA45,OA111)","v":false},{"$f":"IF(OB45,OB111)","v":false},{"$f":"IF(OC45,OC111)","v":false},{"$f":"IF(OD45,OD111)","v":false},{"$f":"IF(OE45,OE111)","v":false},{"$f":"IF(OF45,OF111)","v":false},{"$f":"IF(OG45,OG111)","v":false},{"$f":"IF(OH45,OH111)","v":false},{"$f":"IF(OI45,OI111)","v":false},{"$f":"IF(OJ45,OJ111)","v":false},{"$f":"IF(OK45,OK111)","v":false},{"$f":"IF(OL45,OL111)","v":false},{"$f":"IF(OM45,OM111)","v":false},{"$f":"IF(ON45,ON111)","v":false},{"$f":"IF(OO45,OO111)","v":false},{"$f":"IF(OP45,OP111)","v":false},{"$f":"IF(OQ45,OQ111)","v":false},{"$f":"IF(OR45,OR111)","v":false},{"$f":"IF(OS45,OS111)","v":false},{"$f":"IF(OT45,OT111)","v":false},{"$f":"IF(OU45,OU111)","v":false},{"$f":"IF(OV45,OV111)","v":false},{"$f":"IF(OW45,OW111)","v":false},{"$f":"IF(OX45,OX111)","v":false},{"$f":"IF(OY45,OY111)","v":false},{"$f":"IF(OZ45,OZ111)","v":false},{"$f":"IF(PA45,PA111)","v":false},{"$f":"IF(PB45,PB111)","v":false},{"$f":"IF(PC45,PC111)","v":false},{"$f":"IF(PD45,PD111)","v":false},{"$f":"IF(PE45,PE111)","v":false},{"$f":"IF(PF45,PF111)","v":false},{"$f":"IF(PG45,PG111)","v":false},{"$f":"IF(PH45,PH111)","v":false},{"$f":"IF(PI45,PI111)","v":false},{"$f":"IF(PJ45,PJ111)","v":false},{"$f":"IF(PK45,PK111)","v":false},{"$f":"IF(PL45,PL111)","v":false},{"$f":"IF(PM45,PM111)","v":false},{"$f":"IF(PN45,PN111)","v":false},{"$f":"IF(PO45,PO111)","v":false},{"$f":"IF(PP45,PP111)","v":false},{"$f":"IF(PQ45,PQ111)","v":false},{"$f":"IF(PR45,PR111)","v":false},{"$f":"IF(PS45,PS111)","v":false},{"$f":"IF(PT45,PT111)","v":false},{"$f":"IF(PU45,PU111)","v":false},{"$f":"IF(PV45,PV111)","v":false},{"$f":"IF(PW45,PW111)","v":false},{"$f":"IF(PX45,PX111)","v":false},{"$f":"IF(PY45,PY111)","v":false},{"$f":"IF(PZ45,PZ111)","v":false},{"$f":"IF(QA45,QA111)","v":false},{"$f":"IF(QB45,QB111)","v":false},{"$f":"IF(QC45,QC111)","v":false},{"$f":"IF(QD45,QD111)","v":false},{"$f":"IF(QE45,QE111)","v":false},{"$f":"IF(QF45,QF111)","v":false},{"$f":"IF(QG45,QG111)","v":false},{"$f":"IF(QH45,QH111)","v":false},{"$f":"IF(QI45,QI111)","v":false},{"$f":"IF(QJ45,QJ111)","v":false},{"$f":"IF(QK45,QK111)","v":false},{"$f":"IF(QL45,QL111)","v":false},{"$f":"IF(QM45,QM111)","v":false},{"$f":"IF(QN45,QN111)","v":false},{"$f":"IF(QO45,QO111)","v":false},{"$f":"IF(QP45,QP111)","v":false},{"$f":"IF(QQ45,QQ111)","v":false},{"$f":"IF(QR45,QR111)","v":false},{"$f":"IF(QS45,QS111)","v":false},{"$f":"IF(QT45,QT111)","v":false},{"$f":"IF(QU45,QU111)","v":false},{"$f":"IF(QV45,QV111)","v":false},{"$f":"IF(QW45,QW111)","v":false},{"$f":"IF(QX45,QX111)","v":false},{"$f":"IF(QY45,QY111)","v":false},{"$f":"IF(QZ45,QZ111)","v":false},{"$f":"IF(RA45,RA111)","v":false},{"$f":"IF(RB45,RB111)","v":false},{"$f":"IF(RC45,RC111)","v":false},{"$f":"IF(RD45,RD111)","v":false},{"$f":"IF(RE45,RE111)","v":false},{"$f":"IF(RF45,RF111)","v":false},{"$f":"IF(RG45,RG111)","v":false},{"$f":"IF(RH45,RH111)","v":false},{"$f":"IF(RI45,RI111)","v":false},{"$f":"IF(RJ45,RJ111)","v":false},{"$f":"IF(RK45,RK111)","v":false},{"$f":"IF(RL45,RL111)","v":false},{"$f":"IF(RM45,RM111)","v":false},{"$f":"IF(RN45,RN111)","v":false},{"$f":"IF(RO45,RO111)","v":false},{"$f":"IF(RP45,RP111)","v":false},{"$f":"IF(RQ45,RQ111)","v":false},{"$f":"IF(RR45,RR111)","v":false},{"$f":"IF(RS45,RS111)","v":false},{"$f":"IF(RT45,RT111)","v":false},{"$f":"IF(RU45,RU111)","v":false},{"$f":"IF(RV45,RV111)","v":false},{"$f":"IF(RW45,RW111)","v":false},{"$f":"IF(RX45,RX111)","v":false},{"$f":"IF(RY45,RY111)","v":false},{"$f":"IF(RZ45,RZ111)","v":false},{"$f":"IF(SA45,SA111)","v":false},{"$f":"IF(SB45,SB111)","v":false},{"$f":"IF(SC45,SC111)","v":false},{"$f":"IF(SD45,SD111)","v":false},{"$f":"IF(SE45,SE111)","v":false},{"$f":"IF(SF45,SF111)","v":false},{"$f":"IF(SG45,SG111)","v":false},{"$f":"IF(SH45,SH111)","v":false},{"$f":"IF(SI45,SI111)","v":false},{"$f":"IF(SJ45,SJ111)","v":false},{"$f":"IF(SK45,SK111)","v":false},{"$f":"IF(SL45,SL111)","v":false},{"$f":"IF(SM45,SM111)","v":false},{"$f":"IF(SN45,SN111)","v":false},{"$f":"IF(SO45,SO111)","v":false},{"$f":"IF(SP45,SP111)","v":false},{"$f":"IF(SQ45,SQ111)","v":false},{"$f":"IF(SR45,SR111)","v":false},{"$f":"IF(SS45,SS111)","v":false},{"$f":"IF(ST45,ST111)","v":false},{"$f":"IF(SU45,SU111)","v":false},{"$f":"IF(SV45,SV111)","v":false},{"$f":"IF(SW45,SW111)","v":false},{"$f":"IF(SX45,SX111)","v":false},{"$f":"IF(SY45,SY111)","v":false},{"$f":"IF(SZ45,SZ111)","v":false},{"$f":"IF(TA45,TA111)","v":false},{"$f":"IF(TB45,TB111)","v":false},{"$f":"IF(TC45,TC111)","v":false},{"$f":"IF(TD45,TD111)","v":false},{"$f":"IF(TE45,TE111)","v":false},{"$f":"IF(TF45,TF111)","v":false},{"$f":"IF(TG45,TG111)","v":false},{"$f":"IF(TH45,TH111)","v":false},{"$f":"IF(TI45,TI111)","v":false},{"$f":"IF(TJ45,TJ111)","v":false},{"$f":"IF(TK45,TK111)","v":false},{"$f":"IF(TL45,TL111)","v":false},{"$f":"IF(TM45,TM111)","v":false},{"$f":"IF(TN45,TN111)","v":false},{"$f":"IF(TO45,TO111)","v":false},{"$f":"IF(TP45,TP111)","v":false},{"$f":"IF(TQ45,TQ111)","v":false},{"$f":"IF(TR45,TR111)","v":false},{"$f":"IF(TS45,TS111)","v":false},{"$f":"IF(TT45,TT111)","v":false},{"$f":"IF(TU45,TU111)","v":false},{"$f":"IF(TV45,TV111)","v":false},{"$f":"IF(TW45,TW111)","v":false},{"$f":"IF(TX45,TX111)","v":false},{"$f":"IF(TY45,TY111)","v":false},{"$f":"IF(TZ45,TZ111)","v":false},{"$f":"IF(UA45,UA111)","v":false},{"$f":"IF(UB45,UB111)","v":false},{"$f":"IF(UC45,UC111)","v":false},{"$f":"IF(UD45,UD111)","v":false},{"$f":"IF(UE45,UE111)","v":false},{"$f":"IF(UF45,UF111)","v":false},{"$f":"IF(UG45,UG111)","v":false},{"$f":"IF(UH45,UH111)","v":false},{"$f":"IF(UI45,UI111)","v":false},{"$f":"IF(UJ45,UJ111)","v":false},{"$f":"IF(UK45,UK111)","v":false},{"$f":"IF(UL45,UL111)","v":false},{"$f":"IF(UM45,UM111)","v":false},{"$f":"IF(UN45,UN111)","v":false},{"$f":"IF(UO45,UO111)","v":false}]
[null,null,null,"PV of CFADS over Loan Life",null,{"$f":"NPV(F113,K122:UO122)","v":19200000},null,null,"EUR"]
[null,null,null,"PV of Debt Service =Debt",null,{"$f":"F118","v":1115236.8541380886},null,null,"EUR"]
[null,null,null,"LLCR =PV of CFADS LL/Loan Amount","x",{"$f":"F123/F124","v":17.216073813162076}]
[null,null,null,"Break-Even Percent Reduction LLCR","%",{"$f":"(F125-1)/F125","v":0.94191474718030788}]
[]
[null,"Graphts"]
[null,null,null,null,null,null,null,null,null,null,{"$f":"IF(K10,K8,NA())","v":{"$error":"#N/A"}},{"$f":"IF(L10,L8,NA())","v":{"$error":"#N/A"}},{"$error":"#N/A"},{"$error":"#N/A"},{"$error":"#N/A"},{"$error":"#N/A"},{"$error":"#N/A"},{"$error":"#N/A"},{"$error":"#N/A"},{"$error":"#N/A"},{"$error":"#N/A"},{"$error":"#N/A"},{"$error":"#N/A"},{"$error":"#N/A"},{"$error":"#N/A"},{"$error":"#N/A"},{"$error":"#N/A"},{"$error":"#N/A"},{"$error":"#N/A"},{"$error":"#N/A"},{"$error":"#N/A"},{"$error":"#N/A"},{"$error":"#N/A"},{"$error":"#N/A"},"2028-08-31","2028-09-30","2028-10-31","2028-11-30","2028-12-31","2029-01-31","2029-02-28","2029-03-31","2029-04-30","2029-05-31","2029-06-30","2029-07-31","2029-08-31","2029-09-30","2029-10-31","2029-11-30","2029-12-31","2030-01-31","2030-02-28","2030-03-31","2030-04-30","2030-05-31","2030-06-30","2030-07-31","2030-08-31","2030-09-30","2030-10-31","2030-11-30","2030-12-31","2031-01-31","2031-02-28","2031-03-31","2031-04-30","2031-05-31","2031-06-30","2031-07-31","2031-08-31","2031-09-30","2031-10-31","2031-11-30","2031-12-31",{"$f":"IF(BX10,BX8,NA())","v":"2032-01-31"},"2032-02-29","2032-03-31","2032-04-30","2032-05-31","2032-06-30","2032-07-31","2032-08-31","2032-09-30","2032-10-31","2032-11-30","2032-12-31","2033-01-31","2033-02-28","2033-03-31","2033-04-30","2033-05-31","2033-06-30","2033-07-31","2033-08-31","2033-09-30","2033-10-31","2033-11-30","2033-12-31","2034-01-31","2034-02-28","2034-03-31","2034-04-30","2034-05-31","2034-06-30","2034-07-31","2034-08-31","2034-09-30","2034-10-31","2034-11-30","2034-12-31","2035-01-31","2035-02-28","2035-03-31","2035-04-30","2035-05-31","2035-06-30","2035-07-31","2035-08-31","2035-09-30","2035-10-31","2035-11-30","2035-12-31","2036-01-31","2036-02-29","2036-03-31","2036-04-30","2036-05-31","2036-06-30","2036-07-31","2036-08-31","2036-09-30","2036-10-31","2036-11-30","2036-12-31","2037-01-31","2037-02-28","2037-03-31","2037-04-30",{"$f":"IF(EJ10,EJ8,NA())","v":"2037-05-31"},"2037-06-30","2037-07-31","2037-08-31","2037-09-30","2037-10-31","2037-11-30","2037-12-31","2038-01-31","2038-02-28","2038-03-31","2038-04-30","2038-05-31","2038-06-30","2038-07-31","2038-08-31","2038-09-30","2038-10-31","2038-11-30","2038-12-31","2039-01-31","2039-02-28","2039-03-31","2039-04-30","2039-05-31","2039-06-30","2039-07-31","2039-08-31","2039-09-30","2039-10-31","2039-11-30","2039-12-31","2040-01-31","2040-02-29","2040-03-31","2040-04-30","2040-05-31","2040-06-30","2040-07-31","2040-08-31","2040-09-30","2040-10-31","2040-11-30","2040-12-31","2041-01-31","2041-02-28","2041-03-31","2041-04-30","2041-05-31","2041-06-30","2041-07-31","2041-08-31","2041-09-30","2041-10-31","2041-11-30","2041-12-31","2042-01-31","2042-02-28","2042-03-31","2042-04-30","2042-05-31","2042-06-30","2042-07-31","2042-08-31",{"$f":"IF(GV10,GV8,NA())","v":"2042-09-30"},"2042-10-31","2042-11-30","2042-12-31","2043-01-31","2043-02-28","2043-03-31","2043-04-30","2043-05-31","2043-06-30","2043-07-31","2043-08-31","2043-09-30","2043-10-31","2043-11-30","2043-12-31","2044-01-31","2044-02-29","2044-03-31","2044-04-30","2044-05-31","2044-06-30","2044-07-31","2044-08-31","2044-09-30","2044-10-31","2044-11-30","2044-12-31","2045-01-31","2045-02-28","2045-03-31","2045-04-30","2045-05-31","2045-06-30","2045-07-31","2045-08-31","2045-09-30","2045-10-31","2045-11-30","2045-12-31","2046-01-31","2046-02-28","2046-03-31","2046-04-30","2046-05-31","2046-06-30","2046-07-31","2046-08-31","2046-09-30","2046-10-31","2046-11-30","2046-12-31","2047-01-31","2047-02-28","2047-03-31","2047-04-30","2047-05-31","2047-06-30","2047-07-31","2047-08-31","2047-09-30","2047-10-31","2047-11-30","2047-12-31",{"$f":"IF(JH10,JH8,NA())","v":"2048-01-31"},"2048-02-29","2048-03-31","2048-04-30","2048-05-31","2048-06-30","2048-07-31","2048-08-31","2048-09-30","2048-10-31","2048-11-30","2048-12-31","2049-01-31","2049-02-28","2049-03-31","2049-04-30","2049-05-31","2049-06-30","2049-07-31","2049-08-31","2049-09-30","2049-10-31","2049-11-30","2049-12-31","2050-01-31","2050-02-28","2050-03-31","2050-04-30","2050-05-31","2050-06-30","2050-07-31","2050-08-31","2050-09-30","2050-10-31","2050-11-30","2050-12-31","2051-01-31","2051-02-28","2051-03-31","2051-04-30","2051-05-31","2051-06-30","2051-07-31","2051-08-31","2051-09-30","2051-10-31","2051-11-30","2051-12-31","2052-01-31","2052-02-29","2052-03-31","2052-04-30","2052-05-31","2052-06-30","2052-07-31","2052-08-31","2052-09-30","2052-10-31","2052-11-30","2052-12-31","2053-01-31","2053-02-28","2053-03-31","2053-04-30",{"$f":"IF(LT10,LT8,NA())","v":"2053-05-31"},"2053-06-30","2053-07-31","2053-08-31","2053-09-30","2053-10-31","2053-11-30","2053-12-31","2054-01-31","2054-02-28","2054-03-31","2054-04-30","2054-05-31","2054-06-30","2054-07-31","2054-08-31","2054-09-30","2054-10-31","2054-11-30","2054-12-31","2055-01-31","2055-02-28","2055-03-31","2055-04-30","2055-05-31","2055-06-30","2055-07-31","2055-08-31","2055-09-30","2055-10-31","2055-11-30","2055-12-31","2056-01-31","2056-02-29","2056-03-31","2056-04-30","2056-05-31","2056-06-30","2056-07-31","2056-08-31","2056-09-30","2056-10-31","2056-11-30","2056-12-31","2057-01-31","2057-02-28","2057-03-31","2057-04-30","2057-05-31","2057-06-30","2057-07-31","2057-08-31","2057-09-30","2057-10-31","2057-11-30","2057-12-31","2058-01-31","2058-02-28","2058-03-31","2058-04-30","2058-05-31","2058-06-30","2058-07-31","2058-08-31",{"$f":"IF(OF10,OF8,NA())","v":"2058-09-30"},"2058-10-31","2058-11-30","2058-12-31","2059-01-31","2059-02-28","2059-03-31","2059-04-30","2059-05-31","2059-06-30","2059-07-31","2059-08-31","2059-09-30","2059-10-31","2059-11-30","2059-12-31","2060-01-31","2060-02-29","2060-03-31","2060-04-30","2060-05-31","2060-06-30","2060-07-31","2060-08-31","2060-09-30","2060-10-31","2060-11-30","2060-12-31","2061-01-31","2061-02-28","2061-03-31","2061-04-30","2061-05-31","2061-06-30","2061-07-31","2061-08-31","2061-09-30","2061-10-31","2061-11-30","2061-12-31","2062-01-31","2062-02-28","2062-03-31","2062-04-30","2062-05-31","2062-06-30","2062-07-31","2062-08-31","2062-09-30","2062-10-31","2062-11-30","2062-12-31","2063-01-31","2063-02-28","2063-03-31","2063-04-30","2063-05-31","2063-06-30","2063-07-31","2063-08-31","2063-09-30","2063-10-31","2063-11-30","2063-12-31",{"$f":"IF(QR10,QR8,NA())","v":"2064-01-31"},"2064-02-29","2064-03-31","2064-04-30","2064-05-31","2064-06-30","2064-07-31","2064-08-31","2064-09-30","2064-10-31","2064-11-30","2064-12-31","2065-01-31","2065-02-28","2065-03-31","2065-04-30","2065-05-31","2065-06-30","2065-07-31","2065-08-31","2065-09-30","2065-10-31","2065-11-30","2065-12-31","2066-01-31","2066-02-28","2066-03-31","2066-04-30","2066-05-31","2066-06-30","2066-07-31","2066-08-31","2066-09-30","2066-10-31","2066-11-30","2066-12-31","2067-01-31","2067-02-28","2067-03-31","2067-04-30","2067-05-31","2067-06-30","2067-07-31","2067-08-31","2067-09-30","2067-10-31","2067-11-30","2067-12-31","2068-01-31","2068-02-29","2068-03-31","2068-04-30","2068-05-31","2068-06-30","2068-07-31","2068-08-31",{"$error":"#N/A"},{"$error":"#N/A"},{"$error":"#N/A"},{"$error":"#N/A"},{"$error":"#N/A"},{"$error":"#N/A"},{"$error":"#N/A"},{"$error":"#N/A"},{"$f":"IF(TD10,TD8,NA())","v":{"$error":"#N/A"}},{"$error":"#N/A"},{"$error":"#N/A"},{"$error":"#N/A"},{"$error":"#N/A"},{"$error":"#N/A"},{"$error":"#N/A"},{"$error":"#N/A"},{"$error":"#N/A"},{"$error":"#N/A"},{"$error":"#N/A"},{"$error":"#N/A"},{"$error":"#N/A"},{"$error":"#N/A"},{"$error":"#N/A"},{"$error":"#N/A"},{"$error":"#N/A"},{"$error":"#N/A"},{"$error":"#N/A"},{"$error":"#N/A"},{"$error":"#N/A"},{"$error":"#N/A"},{"$error":"#N/A"},{"$error":"#N/A"},{"$error":"#N/A"},{"$error":"#N/A"},{"$error":"#N/A"},{"$error":"#N/A"},{"$error":"#N/A"},{"$error":"#N/A"},{"$error":"#N/A"},{"$error":"#N/A"},{"$error":"#N/A"},{"$error":"#N/A"},{"$error":"#N/A"},{"$error":"#N/A"},{"$error":"#N/A"},{"$error":"#N/A"}]
[null,null,null,"CFADS",null,null,null,null,null,null,{"$f":"K96","v":0},{"$f":"L96","v":0},0,0,0,0,0,0,0,0,0,0,0,0,0,0,0,0,0,0,0,0,0,0,35600,35600,35600,35600,35600,35600,44400,44400,44400,44400,44400,44400,35600,35600,35600,35600,35600,35600,44400,44400,44400,44400,44400,44400,35600,35600,35600,35600,35600,35600,44400,44400,44400,44400,44400,44400,35600,35600,35600,35600,35600,{"$f":"BX96","v":35600},44400,44400,44400,44400,44400,44400,35600,35600,35600,35600,35600,35600,44400,44400,44400,44400,44400,44400,35600,35600,35600,35600,35600,35600,44400,44400,44400,44400,44400,44400,35600,35600,35600,35600,35600,35600,44400,44400,44400,44400,44400,44400,35600,35600,35600,35600,35600,35600,44400,44400,44400,44400,44400,44400,35600,35600,35600,35600,35600,35600,44400,44400,44400,{"$f":"EJ96","v":44400},44400,44400,35600,35600,35600,35600,35600,35600,44400,44400,44400,44400,44400,44400,35600,35600,35600,35600,35600,35600,44400,44400,44400,44400,44400,44400,35600,35600,35600,35600,35600,35600,44400,44400,44400,44400,44400,44400,35600,35600,35600,35600,35600,35600,44400,44400,44400,44400,44400,44400,35600,35600,35600,35600,35600,35600,44400,44400,44400,44400,44400,44400,35600,{"$f":"GV96","v":35600},35600,35600,35600,35600,44400,44400,44400,44400,44400,44400,35600,35600,35600,35600,35600,35600,44400,44400,44400,44400,44400,44400,35600,35600,35600,35600,35600,35600,44400,44400,44400,44400,44400,44400,35600,35600,35600,35600,35600,35600,44400,44400,44400,44400,44400,44400,35600,35600,35600,35600,35600,35600,44400,44400,44400,44400,44400,44400,35600,35600,35600,35600,35600,{"$f":"JH96","v":35600},44400,44400,44400,44400,44400,44400,35600,35600,35600,35600,35600,35600,44400,44400,44400,44400,44400,44400,35600,35600,35600,35600,35600,35600,44400,44400,44400,44400,44400,44400,35600,35600,35600,35600,35600,35600,44400,44400,44400,44400,44400,44400,35600,35600,35600,35600,35600,35600,44400,44400,44400,44400,44400,44400,35600,35600,35600,35600,35600,35600,44400,44400,44400,{"$f":"LT96","v":44400},44400,44400,35600,35600,35600,35600,35600,35600,44400,44400,44400,44400,44400,44400,35600,35600,35600,35600,35600,35600,44400,44400,44400,44400,44400,44400,35600,35600,35600,35600,35600,35600,44400,44400,44400,44400,44400,44400,35600,35600,35600,35600,35600,35600,44400,44400,44400,44400,44400,44400,35600,35600,35600,35600,35600,35600,44400,44400,44400,44400,44400,44400,35600,{"$f":"OF96","v":35600},35600,35600,35600,35600,44400,44400,44400,44400,44400,44400,35600,35600,35600,35600,35600,35600,44400,44400,44400,44400,44400,44400,35600,35600,35600,35600,35600,35600,44400,44400,44400,44400,44400,44400,35600,35600,35600,35600,35600,35600,44400,44400,44400,44400,44400,44400,35600,35600,35600,35600,35600,35600,44400,44400,44400,44400,44400,44400,35600,35600,35600,35600,35600,{"$f":"QR96","v":35600},44400,44400,44400,44400,44400,44400,35600,35600,35600,35600,35600,35600,44400,44400,44400,44400,44400,44400,35600,35600,35600,35600,35600,35600,44400,44400,44400,44400,44400,44400,35600,35600,35600,35600,35600,35600,44400,44400,44400,44400,44400,44400,35600,35600,35600,35600,35600,35600,44400,44400,44400,44400,44400,44400,10800,10800,10800,10800,10800,10800,10800,10800,10800,{"$f":"TD96","v":10800},10800,10800,10800,10800,10800,10800,10800,10800,10800,10800,10800,10800,10800,10800,10800,10800,10800,10800,10800,10800,10800,10800,10800,10800,10800,10800,10800,10800,10800,10800,10800,10800,10800,10800,10800,10800,10800]
[null,null,null,"Debt Service",null,null,null,null,null,null,{"$f":"K67+K74","v":0},{"$f":"L67+L74","v":0},0,0,0,0,0,0,0,0,0,0,0,0,0,0,0,0,0,0,0,0,0,0,0,0,0,0,0,0,35482.661474696506,0,0,0,0,0,33649.999999999993,0,0,0,0,0,33299.999999999993,0,0,0,0,0,32949.999999999993,0,0,0,0,0,32599.999999999993,0,0,0,0,0,32249.999999999993,0,0,0,0,{"$f":"BX67+BX74","v":0},31899.999999999993,0,0,0,0,0,31549.999999999993,0,0,0,0,0,31199.999999999993,0,0,0,0,0,30849.999999999993,0,0,0,0,0,30499.999999999993,0,0,0,0,0,30149.999999999993,0,0,0,0,0,29799.999999999993,0,0,0,0,0,29449.999999999993,0,0,0,0,0,29099.999999999993,0,0,0,0,0,28749.999999999993,0,0,0,0,0,28399.999999999993,0,0,{"$f":"EJ67+EJ74","v":0},0,0,28049.999999999993,0,0,0,0,0,27699.999999999993,0,0,0,0,0,27349.999999999993,0,0,0,0,0,26999.999999999993,0,0,0,0,0,26649.999999999993,0,0,0,0,0,26299.999999999993,0,0,0,0,0,25949.999999999993,0,0,0,0,0,25599.999999999993,0,0,0,0,0,25249.999999999993,0,0,0,0,0,24899.999999999993,0,0,0,0,0,24549.999999999993,{"$f":"GV67+GV74","v":0},0,0,0,0,24199.999999999993,0,0,0,0,0,23849.999999999993,0,0,0,0,0,23499.999999999993,0,0,0,0,0,23149.999999999993,0,0,0,0,0,22799.999999999993,0,0,0,0,0,22449.999999999993,0,0,0,0,0,22099.999999999993,0,0,0,0,0,21749.999999999993,0,0,0,0,0,21399.999999999993,0,0,0,0,0,21049.999999999993,0,0,0,0,{"$f":"JH67+JH74","v":0},20699.999999999993,0,0,0,0,0,20349.999999999993,0,0,0,0,0,0,0,0,0,0,0,0,0,0,0,0,0,0,0,0,0,0,0,0,0,0,0,0,0,0,0,0,0,0,0,0,0,0,0,0,0,0,0,0,0,0,0,0,0,0,0,0,0,0,0,0,{"$f":"LT67+LT74","v":0},0,0,0,0,0,0,0,0,0,0,0,0,0,0,0,0,0,0,0,0,0,0,0,0,0,0,0,0,0,0,0,0,0,0,0,0,0,0,0,0,0,0,0,0,0,0,0,0,0,0,0,0,0,0,0,0,0,0,0,0,0,0,0,{"$f":"OF67+OF74","v":0},0,0,0,0,0,0,0,0,0,0,0,0,0,0,0,0,0,0,0,0,0,0,0,0,0,0,0,0,0,0,0,0,0,0,0,0,0,0,0,0,0,0,0,0,0,0,0,0,0,0,0,0,0,0,0,0,0,0,0,0,0,0,0,{"$f":"QR67+QR74","v":0},0,0,0,0,0,0,0,0,0,0,0,0,0,0,0,0,0,0,0,0,0,0,0,0,0,0,0,0,0,0,0,0,0,0,0,0,0,0,0,0,0,0,0,0,0,0,0,0,0,0,0,0,0,0,0,0,0,0,0,0,0,0,0,{"$f":"TD67+TD74","v":0},0,0,0,0,0,0,0,0,0,0,0,0,0,0,0,0,0,0,0,0,0,0,0,0,0,0,0,0,0,0,0,0,0,0,0,0,0]
[]
[null,null,null,{"$f":"InputC!F2","v":"Project IRR"},": EBITDA",{"$f":"EBITDA","v":100000},"\nDSCR",{"$f":"F114","v":24.000000000000007},"LLCR",{"$f":"F125","v":17.216073813162076},"PLCR",{"$f":"F119","v":34.503881267212321}]
[]
[null,null,null,null,null,null,null,null,null,null,{"$f":"K129","v":{"$error":"#N/A"}},{"$f":"L129","v":{"$error":"#N/A"}},{"$error":"#N/A"},{"$error":"#N/A"},{"$error":"#N/A"},{"$error":"#N/A"},{"$error":"#N/A"},{"$error":"#N/A"},{"$error":"#N/A"},{"$error":"#N/A"},{"$error":"#N/A"},{"$error":"#N/A"},{"$error":"#N/A"},{"$error":"#N/A"},{"$error":"#N/A"},{"$error":"#N/A"},{"$error":"#N/A"},{"$error":"#N/A"},{"$error":"#N/A"},{"$error":"#N/A"},{"$error":"#N/A"},{"$error":"#N/A"},{"$error":"#N/A"},{"$error":"#N/A"},"2028-08-31","2028-09-30","2028-10-31","2028-11-30","2028-12-31","2029-01-31","2029-02-28","2029-03-31","2029-04-30","2029-05-31","2029-06-30","2029-07-31","2029-08-31","2029-09-30","2029-10-31","2029-11-30","2029-12-31","2030-01-31","2030-02-28","2030-03-31","2030-04-30","2030-05-31","2030-06-30","2030-07-31","2030-08-31","2030-09-30","2030-10-31","2030-11-30","2030-12-31","2031-01-31","2031-02-28","2031-03-31","2031-04-30","2031-05-31","2031-06-30","2031-07-31","2031-08-31","2031-09-30","2031-10-31","2031-11-30","2031-12-31",{"$f":"BX129","v":"2032-01-31"},"2032-02-29","2032-03-31","2032-04-30","2032-05-31","2032-06-30","2032-07-31","2032-08-31","2032-09-30","2032-10-31","2032-11-30","2032-12-31","2033-01-31","2033-02-28","2033-03-31","2033-04-30","2033-05-31","2033-06-30","2033-07-31","2033-08-31","2033-09-30","2033-10-31","2033-11-30","2033-12-31","2034-01-31","2034-02-28","2034-03-31","2034-04-30","2034-05-31","2034-06-30","2034-07-31","2034-08-31","2034-09-30","2034-10-31","2034-11-30","2034-12-31","2035-01-31","2035-02-28","2035-03-31","2035-04-30","2035-05-31","2035-06-30","2035-07-31","2035-08-31","2035-09-30","2035-10-31","2035-11-30","2035-12-31","2036-01-31","2036-02-29","2036-03-31","2036-04-30","2036-05-31","2036-06-30","2036-07-31","2036-08-31","2036-09-30","2036-10-31","2036-11-30","2036-12-31","2037-01-31","2037-02-28","2037-03-31","2037-04-30",{"$f":"EJ129","v":"2037-05-31"},"2037-06-30","2037-07-31","2037-08-31","2037-09-30","2037-10-31","2037-11-30","2037-12-31","2038-01-31","2038-02-28","2038-03-31","2038-04-30","2038-05-31","2038-06-30","2038-07-31","2038-08-31","2038-09-30","2038-10-31","2038-11-30","2038-12-31","2039-01-31","2039-02-28","2039-03-31","2039-04-30","2039-05-31","2039-06-30","2039-07-31","2039-08-31","2039-09-30","2039-10-31","2039-11-30","2039-12-31","2040-01-31","2040-02-29","2040-03-31","2040-04-30","2040-05-31","2040-06-30","2040-07-31","2040-08-31","2040-09-30","2040-10-31","2040-11-30","2040-12-31","2041-01-31","2041-02-28","2041-03-31","2041-04-30","2041-05-31","2041-06-30","2041-07-31","2041-08-31","2041-09-30","2041-10-31","2041-11-30","2041-12-31","2042-01-31","2042-02-28","2042-03-31","2042-04-30","2042-05-31","2042-06-30","2042-07-31","2042-08-31",{"$f":"GV129","v":"2042-09-30"},"2042-10-31","2042-11-30","2042-12-31","2043-01-31","2043-02-28","2043-03-31","2043-04-30","2043-05-31","2043-06-30","2043-07-31","2043-08-31","2043-09-30","2043-10-31","2043-11-30","2043-12-31","2044-01-31","2044-02-29","2044-03-31","2044-04-30","2044-05-31","2044-06-30","2044-07-31","2044-08-31","2044-09-30","2044-10-31","2044-11-30","2044-12-31","2045-01-31","2045-02-28","2045-03-31","2045-04-30","2045-05-31","2045-06-30","2045-07-31","2045-08-31","2045-09-30","2045-10-31","2045-11-30","2045-12-31","2046-01-31","2046-02-28","2046-03-31","2046-04-30","2046-05-31","2046-06-30","2046-07-31","2046-08-31","2046-09-30","2046-10-31","2046-11-30","2046-12-31","2047-01-31","2047-02-28","2047-03-31","2047-04-30","2047-05-31","2047-06-30","2047-07-31","2047-08-31","2047-09-30","2047-10-31","2047-11-30","2047-12-31",{"$f":"JH129","v":"2048-01-31"},"2048-02-29","2048-03-31","2048-04-30","2048-05-31","2048-06-30","2048-07-31","2048-08-31","2048-09-30","2048-10-31","2048-11-30","2048-12-31","2049-01-31","2049-02-28","2049-03-31","2049-04-30","2049-05-31","2049-06-30","2049-07-31","2049-08-31","2049-09-30","2049-10-31","2049-11-30","2049-12-31","2050-01-31","2050-02-28","2050-03-31","2050-04-30","2050-05-31","2050-06-30","2050-07-31","2050-08-31","2050-09-30","2050-10-31","2050-11-30","2050-12-31","2051-01-31","2051-02-28","2051-03-31","2051-04-30","2051-05-31","2051-06-30","2051-07-31","2051-08-31","2051-09-30","2051-10-31","2051-11-30","2051-12-31","2052-01-31","2052-02-29","2052-03-31","2052-04-30","2052-05-31","2052-06-30","2052-07-31","2052-08-31","2052-09-30","2052-10-31","2052-11-30","2052-12-31","2053-01-31","2053-02-28","2053-03-31","2053-04-30",{"$f":"LT129","v":"2053-05-31"},"2053-06-30","2053-07-31","2053-08-31","2053-09-30","2053-10-31","2053-11-30","2053-12-31","2054-01-31","2054-02-28","2054-03-31","2054-04-30","2054-05-31","2054-06-30","2054-07-31","2054-08-31","2054-09-30","2054-10-31","2054-11-30","2054-12-31","2055-01-31","2055-02-28","2055-03-31","2055-04-30","2055-05-31","2055-06-30","2055-07-31","2055-08-31","2055-09-30","2055-10-31","2055-11-30","2055-12-31","2056-01-31","2056-02-29","2056-03-31","2056-04-30","2056-05-31","2056-06-30","2056-07-31","2056-08-31","2056-09-30","2056-10-31","2056-11-30","2056-12-31","2057-01-31","2057-02-28","2057-03-31","2057-04-30","2057-05-31","2057-06-30","2057-07-31","2057-08-31","2057-09-30","2057-10-31","2057-11-30","2057-12-31","2058-01-31","2058-02-28","2058-03-31","2058-04-30","2058-05-31","2058-06-30","2058-07-31","2058-08-31",{"$f":"OF129","v":"2058-09-30"},"2058-10-31","2058-11-30","2058-12-31","2059-01-31","2059-02-28","2059-03-31","2059-04-30","2059-05-31","2059-06-30","2059-07-31","2059-08-31","2059-09-30","2059-10-31","2059-11-30","2059-12-31","2060-01-31","2060-02-29","2060-03-31","2060-04-30","2060-05-31","2060-06-30","2060-07-31","2060-08-31","2060-09-30","2060-10-31","2060-11-30","2060-12-31","2061-01-31","2061-02-28","2061-03-31","2061-04-30","2061-05-31","2061-06-30","2061-07-31","2061-08-31","2061-09-30","2061-10-31","2061-11-30","2061-12-31","2062-01-31","2062-02-28","2062-03-31","2062-04-30","2062-05-31","2062-06-30","2062-07-31","2062-08-31","2062-09-30","2062-10-31","2062-11-30","2062-12-31","2063-01-31","2063-02-28","2063-03-31","2063-04-30","2063-05-31","2063-06-30","2063-07-31","2063-08-31","2063-09-30","2063-10-31","2063-11-30","2063-12-31",{"$f":"QR129","v":"2064-01-31"},"2064-02-29","2064-03-31","2064-04-30","2064-05-31","2064-06-30","2064-07-31","2064-08-31","2064-09-30","2064-10-31","2064-11-30","2064-12-31","2065-01-31","2065-02-28","2065-03-31","2065-04-30","2065-05-31","2065-06-30","2065-07-31","2065-08-31","2065-09-30","2065-10-31","2065-11-30","2065-12-31","2066-01-31","2066-02-28","2066-03-31","2066-04-30","2066-05-31","2066-06-30","2066-07-31","2066-08-31","2066-09-30","2066-10-31","2066-11-30","2066-12-31","2067-01-31","2067-02-28","2067-03-31","2067-04-30","2067-05-31","2067-06-30","2067-07-31","2067-08-31","2067-09-30","2067-10-31","2067-11-30","2067-12-31","2068-01-31","2068-02-29","2068-03-31","2068-04-30","2068-05-31","2068-06-30","2068-07-31","2068-08-31",{"$error":"#N/A"},{"$error":"#N/A"},{"$error":"#N/A"},{"$error":"#N/A"},{"$error":"#N/A"},{"$error":"#N/A"},{"$error":"#N/A"},{"$error":"#N/A"},{"$f":"TD129","v":{"$error":"#N/A"}},{"$error":"#N/A"},{"$error":"#N/A"},{"$error":"#N/A"},{"$error":"#N/A"},{"$error":"#N/A"},{"$error":"#N/A"},{"$error":"#N/A"},{"$error":"#N/A"},{"$error":"#N/A"},{"$error":"#N/A"},{"$error":"#N/A"},{"$error":"#N/A"},{"$error":"#N/A"},{"$error":"#N/A"},{"$error":"#N/A"},{"$error":"#N/A"},{"$error":"#N/A"},{"$error":"#N/A"},{"$error":"#N/A"},{"$error":"#N/A"},{"$error":"#N/A"},{"$error":"#N/A"},{"$error":"#N/A"},{"$error":"#N/A"},{"$error":"#N/A"},{"$error":"#N/A"},{"$error":"#N/A"},{"$error":"#N/A"},{"$error":"#N/A"},{"$error":"#N/A"},{"$error":"#N/A"},{"$error":"#N/A"},{"$error":"#N/A"},{"$error":"#N/A"},{"$error":"#N/A"},{"$error":"#N/A"},{"$error":"#N/A"}]
[null,null,null,"Accumulated Default",null,null,null,null,null,null,{"$f":"K91","v":0},{"$f":"L91","v":0},0,0,0,0,0,0,0,0,0,0,0,0,0,0,0,0,0,0,0,0,0,0,0,0,0,0,0,0,0,0,0,0,0,0,0,0,0,0,0,0,0,0,0,0,0,0,0,0,0,0,0,0,0,0,0,0,0,0,0,0,0,0,0,{"$f":"BX91","v":0},0,0,0,0,0,0,0,0,0,0,0,0,0,0,0,0,0,0,0,0,0,0,0,0,0,0,0,0,0,0,0,0,0,0,0,0,0,0,0,0,0,0,0,0,0,0,0,0,0,0,0,0,0,0,0,0,0,0,0,0,0,0,0,{"$f":"EJ91","v":0},0,0,0,0,0,0,0,0,0,0,0,0,0,0,0,0,0,0,0,0,0,0,0,0,0,0,0,0,0,0,0,0,0,0,0,0,0,0,0,0,0,0,0,0,0,0,0,0,0,0,0,0,0,0,0,0,0,0,0,0,0,0,0,{"$f":"GV91","v":0},0,0,0,0,0,0,0,0,0,0,0,0,0,0,0,0,0,0,0,0,0,0,0,0,0,0,0,0,0,0,0,0,0,0,0,0,0,0,0,0,0,0,0,0,0,0,0,0,0,0,0,0,0,0,0,0,0,0,0,0,0,0,0,{"$f":"JH91","v":0},0,0,0,0,0,0,0,0,0,0,0,0,0,0,0,0,0,0,0,0,0,0,0,0,0,0,0,0,0,0,0,0,0,0,0,0,0,0,0,0,0,0,0,0,0,0,0,0,0,0,0,0,0,0,0,0,0,0,0,0,0,0,0,{"$f":"LT91","v":0},0,0,0,0,0,0,0,0,0,0,0,0,0,0,0,0,0,0,0,0,0,0,0,0,0,0,0,0,0,0,0,0,0,0,0,0,0,0,0,0,0,0,0,0,0,0,0,0,0,0,0,0,0,0,0,0,0,0,0,0,0,0,0,{"$f":"OF91","v":0},0,0,0,0,0,0,0,0,0,0,0,0,0,0,0,0,0,0,0,0,0,0,0,0,0,0,0,0,0,0,0,0,0,0,0,0,0,0,0,0,0,0,0,0,0,0,0,0,0,0,0,0,0,0,0,0,0,0,0,0,0,0,0,{"$f":"QR91","v":0},0,0,0,0,0,0,0,0,0,0,0,0,0,0,0,0,0,0,0,0,0,0,0,0,0,0,0,0,0,0,0,0,0,0,0,0,0,0,0,0,0,0,0,0,0,0,0,0,0,0,0,0,0,0,0,0,0,0,0,0,0,0,0,{"$f":"TD91","v":0},0,0,0,0,0,0,0,0,0,0,0,0,0,0,0,0,0,0,0,0,0,0,0,0,0,0,0,0,0,0,0,0,0,0,0,0,0]
[]
[null,null,null,"Case"]
[]
[]
[]
[]
[]
[]
[]
[]
[]
[]
[]
[]
[]
[]
[]
[]
[]
[]
[]
[]
[]
[]
[]
[]
[]
[]
[]
[]
[]
[]
[]
[]
[]
[]
[]
[]
[]
[]
[]
[]
[]
[]
[]
[]
[]
[]
[]
[]
[]
[]
[]
[]
[]
[]
[]
[]
[]
[]
[]
[]
[]
[]
[]
[]
[]
[]
[]
[]
[]
[]
[]
[]
[]
[]
[]
[]
[]
[]
[]
[]
[]
[]
[]
[]
[]
[]
[]
[]
[]
[]
[]
[]
[]
[]
[]
[]
[]
[]
[]
[]
[]
[]
[]
[]
[]
[]
[]
[]
[]
[]
[]
[]
[]
[]
[null,"Investment Account"]
[]
[null,null,"Cash Before COD"]
[null,null,null,"Opening Balance",null,null,null,null,"EUR",null,{"$f":"J259","v":0},{"$f":"K259","v":24691.358024691355},65990.769965171916,108921.15766617467,150722.53852302235,194174.71864626466,237894.48457237639,277626.48418143525,321860.16005678917,364930.55450190703,409701.86346458155,453295.7520276854,498611.22867673577,544205.7656207392,588601.23246492469,634749.94292440161,679685.00932548894,726394.62893821159,773391.89421175828,817627.82281921897,865186.91738104878,911495.27683104842,959632.42289625097,1006503.6319346505,1055225.8553632349,1072620.8519260962,1072620.8519260962,1072620.8519260962,1072620.8519260962,1072620.8519260962,1072620.8519260962,1072620.8519260962,1072620.8519260962,1072620.8519260962,1072620.8519260962,1072620.8519260962,1072620.8519260962,1072620.8519260962,1072620.8519260962,1072620.8519260962,1072620.8519260962,1072620.8519260962,1072620.8519260962,1072620.8519260962,1072620.8519260962,1072620.8519260962,1072620.8519260962,1072620.8519260962,1072620.8519260962,1072620.8519260962,1072620.8519260962,1072620.8519260962,1072620.8519260962,1072620.8519260962,1072620.8519260962,1072620.8519260962,1072620.8519260962,1072620.8519260962,1072620.8519260962,1072620.8519260962,1072620.8519260962,1072620.8519260962,1072620.8519260962,1072620.8519260962,1072620.8519260962,{"$f":"BW259","v":1072620.8519260962},1072620.8519260962,1072620.8519260962,1072620.8519260962,1072620.8519260962,1072620.8519260962,1072620.8519260962,1072620.8519260962,1072620.8519260962,1072620.8519260962,1072620.8519260962,1072620.8519260962,1072620.8519260962,1072620.8519260962,1072620.8519260962,1072620.8519260962,1072620.8519260962,1072620.8519260962,1072620.8519260962,1072620.8519260962,1072620.8519260962,1072620.8519260962,1072620.8519260962,1072620.8519260962,1072620.8519260962,1072620.8519260962,1072620.8519260962,1072620.8519260962,1072620.8519260962,1072620.8519260962,1072620.8519260962,1072620.8519260962,1072620.8519260962,1072620.8519260962,1072620.8519260962,1072620.8519260962,1072620.8519260962,1072620.8519260962,1072620.8519260962,1072620.8519260962,1072620.8519260962,1072620.8519260962,1072620.8519260962,1072620.8519260962,1072620.8519260962,1072620.8519260962,1072620.8519260962,1072620.8519260962,1072620.8519260962,1072620.8519260962,1072620.8519260962,1072620.8519260962,1072620.8519260962,1072620.8519260962,1072620.8519260962,1072620.8519260962,1072620.8519260962,1072620.8519260962,1072620.8519260962,1072620.8519260962,1072620.8519260962,1072620.8519260962,1072620.8519260962,1072620.8519260962,{"$f":"EI259","v":1072620.8519260962},1072620.8519260962,1072620.8519260962,1072620.8519260962,1072620.8519260962,1072620.8519260962,1072620.8519260962,1072620.8519260962,1072620.8519260962,1072620.8519260962,1072620.8519260962,1072620.8519260962,1072620.8519260962,1072620.8519260962,1072620.8519260962,1072620.8519260962,1072620.8519260962,1072620.8519260962,1072620.8519260962,1072620.8519260962,1072620.8519260962,1072620.8519260962,1072620.8519260962,1072620.8519260962,1072620.8519260962,1072620.8519260962,1072620.8519260962,1072620.8519260962,1072620.8519260962,1072620.8519260962,1072620.8519260962,1072620.8519260962,1072620.8519260962,1072620.8519260962,1072620.8519260962,1072620.8519260962,1072620.8519260962,1072620.8519260962,1072620.8519260962,1072620.8519260962,1072620.8519260962,1072620.8519260962,1072620.8519260962,1072620.8519260962,1072620.8519260962,1072620.8519260962,1072620.8519260962,1072620.8519260962,1072620.8519260962,1072620.8519260962,1072620.8519260962,1072620.8519260962,1072620.8519260962,1072620.8519260962,1072620.8519260962,1072620.8519260962,1072620.8519260962,1072620.8519260962,1072620.8519260962,1072620.8519260962,1072620.8519260962,1072620.8519260962,1072620.8519260962,1072620.8519260962,{"$f":"GU259","v":1072620.8519260962},1072620.8519260962,1072620.8519260962,1072620.8519260962,1072620.8519260962,1072620.8519260962,1072620.8519260962,1072620.8519260962,1072620.8519260962,1072620.8519260962,1072620.8519260962,1072620.8519260962,1072620.8519260962,1072620.8519260962,1072620.8519260962,1072620.8519260962,1072620.8519260962,1072620.8519260962,1072620.8519260962,1072620.8519260962,1072620.8519260962,1072620.8519260962,1072620.8519260962,1072620.8519260962,1072620.8519260962,1072620.8519260962,1072620.8519260962,1072620.8519260962,1072620.8519260962,1072620.8519260962,1072620.8519260962,1072620.8519260962,1072620.8519260962,1072620.8519260962,1072620.8519260962,1072620.8519260962,1072620.8519260962,1072620.8519260962,1072620.8519260962,1072620.8519260962,1072620.8519260962,1072620.8519260962,1072620.8519260962,1072620.8519260962,1072620.8519260962,1072620.8519260962,1072620.8519260962,1072620.8519260962,1072620.8519260962,1072620.8519260962,1072620.8519260962,1072620.8519260962,1072620.8519260962,1072620.8519260962,1072620.8519260962,1072620.8519260962,1072620.8519260962,1072620.8519260962,1072620.8519260962,1072620.8519260962,1072620.8519260962,1072620.8519260962,1072620.8519260962,1072620.8519260962,{"$f":"JG259","v":1072620.8519260962},1072620.8519260962,1072620.8519260962,1072620.8519260962,1072620.8519260962,1072620.8519260962,1072620.8519260962,1072620.8519260962,1072620.8519260962,1072620.8519260962,1072620.8519260962,1072620.8519260962,1072620.8519260962,1072620.8519260962,1072620.8519260962,1072620.8519260962,1072620.8519260962,1072620.8519260962,1072620.8519260962,1072620.8519260962,1072620.8519260962,1072620.8519260962,1072620.8519260962,1072620.8519260962,1072620.8519260962,1072620.8519260962,1072620.8519260962,1072620.8519260962,1072620.8519260962,1072620.8519260962,1072620.8519260962,1072620.8519260962,1072620.8519260962,1072620.8519260962,1072620.8519260962,1072620.8519260962,1072620.8519260962,1072620.8519260962,1072620.8519260962,1072620.8519260962,1072620.8519260962,1072620.8519260962,1072620.8519260962,1072620.8519260962,1072620.8519260962,1072620.8519260962,1072620.8519260962,1072620.8519260962,1072620.8519260962,1072620.8519260962,1072620.8519260962,1072620.8519260962,1072620.8519260962,1072620.8519260962,1072620.8519260962,1072620.8519260962,1072620.8519260962,1072620.8519260962,1072620.8519260962,1072620.8519260962,1072620.8519260962,1072620.8519260962,1072620.8519260962,1072620.8519260962,{"$f":"LS259","v":1072620.8519260962},1072620.8519260962,1072620.8519260962,1072620.8519260962,1072620.8519260962,1072620.8519260962,1072620.8519260962,1072620.8519260962,1072620.8519260962,1072620.8519260962,1072620.8519260962,1072620.8519260962,1072620.8519260962,1072620.8519260962,1072620.8519260962,1072620.8519260962,1072620.8519260962,1072620.8519260962,1072620.8519260962,1072620.8519260962,1072620.8519260962,1072620.8519260962,1072620.8519260962,1072620.8519260962,1072620.8519260962,1072620.8519260962,1072620.8519260962,1072620.8519260962,1072620.8519260962,1072620.8519260962,1072620.8519260962,1072620.8519260962,1072620.8519260962,1072620.8519260962,1072620.8519260962,1072620.8519260962,1072620.8519260962,1072620.8519260962,1072620.8519260962,1072620.8519260962,1072620.8519260962,1072620.8519260962,1072620.8519260962,1072620.8519260962,1072620.8519260962,1072620.8519260962,1072620.8519260962,1072620.8519260962,1072620.8519260962,1072620.8519260962,1072620.8519260962,1072620.8519260962,1072620.8519260962,1072620.8519260962,1072620.8519260962,1072620.8519260962,1072620.8519260962,1072620.8519260962,1072620.8519260962,1072620.8519260962,1072620.8519260962,1072620.8519260962,1072620.8519260962,1072620.8519260962,{"$f":"OE259","v":1072620.8519260962},1072620.8519260962,1072620.8519260962,1072620.8519260962,1072620.8519260962,1072620.8519260962,1072620.8519260962,1072620.8519260962,1072620.8519260962,1072620.8519260962,1072620.8519260962,1072620.8519260962,1072620.8519260962,1072620.8519260962,1072620.8519260962,1072620.8519260962,1072620.8519260962,1072620.8519260962,1072620.8519260962,1072620.8519260962,1072620.8519260962,1072620.8519260962,1072620.8519260962,1072620.8519260962,1072620.8519260962,1072620.8519260962,1072620.8519260962,1072620.8519260962,1072620.8519260962,1072620.8519260962,1072620.8519260962,1072620.8519260962,1072620.8519260962,1072620.8519260962,1072620.8519260962,1072620.8519260962,1072620.8519260962,1072620.8519260962,1072620.8519260962,1072620.8519260962,1072620.8519260962,1072620.8519260962,1072620.8519260962,1072620.8519260962,1072620.8519260962,1072620.8519260962,1072620.8519260962,1072620.8519260962,1072620.8519260962,1072620.8519260962,1072620.8519260962,1072620.8519260962,1072620.8519260962,1072620.8519260962,1072620.8519260962,1072620.8519260962,1072620.8519260962,1072620.8519260962,1072620.8519260962,1072620.8519260962,1072620.8519260962,1072620.8519260962,1072620.8519260962,1072620.8519260962,{"$f":"QQ259","v":1072620.8519260962},1072620.8519260962,1072620.8519260962,1072620.8519260962,1072620.8519260962,1072620.8519260962,1072620.8519260962,1072620.8519260962,1072620.8519260962,1072620.8519260962,1072620.8519260962,1072620.8519260962,1072620.8519260962,1072620.8519260962,1072620.8519260962,1072620.8519260962,1072620.8519260962,1072620.8519260962,1072620.8519260962,1072620.8519260962,1072620.8519260962,1072620.8519260962,1072620.8519260962,1072620.8519260962,1072620.8519260962,1072620.8519260962,1072620.8519260962,1072620.8519260962,1072620.8519260962,1072620.8519260962,1072620.8519260962,1072620.8519260962,1072620.8519260962,1072620.8519260962,1072620.8519260962,1072620.8519260962,1072620.8519260962,1072620.8519260962,1072620.8519260962,1072620.8519260962,1072620.8519260962,1072620.8519260962,1072620.8519260962,1072620.8519260962,1072620.8519260962,1072620.8519260962,1072620.8519260962,1072620.8519260962,1072620.8519260962,1072620.8519260962,1072620.8519260962,1072620.8519260962,1072620.8519260962,1072620.8519260962,1072620.8519260962,1072620.8519260962,1072620.8519260962,1072620.8519260962,1072620.8519260962,1072620.8519260962,1072620.8519260962,1072620.8519260962,1072620.8519260962,1072620.8519260962,{"$f":"TC259","v":1072620.8519260962},1072620.8519260962,1072620.8519260962,1072620.8519260962,1072620.8519260962,1072620.8519260962,1072620.8519260962,1072620.8519260962,1072620.8519260962,1072620.8519260962,1072620.8519260962,1072620.8519260962,1072620.8519260962,1072620.8519260962,1072620.8519260962,1072620.8519260962,1072620.8519260962,1072620.8519260962,1072620.8519260962,1072620.8519260962,1072620.8519260962,1072620.8519260962,1072620.8519260962,1072620.8519260962,1072620.8519260962,1072620.8519260962,1072620.8519260962,1072620.8519260962,1072620.8519260962,1072620.8519260962,1072620.8519260962,1072620.8519260962,1072620.8519260962,1072620.8519260962,1072620.8519260962,1072620.8519260962,1072620.8519260962,1072620.8519260962]
[null,null,null,"Financing Cost",null,{"$f":"F26","v":7.255711853504182E-2},null,null,"EUR",null,{"$f":"K256*$F$257*(K9/365.25)","v":0},{"$f":"L256*$F$257*(L9/365.25)","v":147.14856599496397},{"$f":"M256*$F$257*(M9/365.25)","v":406.38221403430902},{"$f":"N256*$F$257*(N9/365.25)","v":649.11748236210383},{"$f":"O256*$F$257*(O9/365.25)","v":928.17463627388793},{"$f":"P256*$F$257*(P9/365.25)","v":1195.7604391432938},{"$f":"Q256*$F$257*(Q9/365.25)","v":1323.2204595389912},{"$f":"R256*$F$257*(R9/365.25)","v":1709.6703883854857},{"$f":"S256*$F$257*(S9/365.25)","v":1918.1310706322779},{"$f":"T256*$F$257*(T9/365.25)","v":2247.3034757061073},{"$f":"U256*$F$257*(U9/365.25)","v":2441.6251886182472},{"$f":"V256*$F$257*(V9/365.25)","v":2791.4711620819016},{"$f":"W256*$F$257*(W9/365.25)","v":3070.5314570349719},{"$f":"X256*$F$257*(X9/365.25)","v":3243.2034696999722},{"$f":"Y256*$F$257*(Y9/365.25)","v":3624.7049725084371},{"$f":"Z256*$F$257*(Z9/365.25)","v":3782.8030266017936},{"$f":"AA256*$F$257*(AA9/365.25)","v":4185.6141257542386},{"$f":"AB256*$F$257*(AB9/365.25)","v":4473.2597865782718},{"$f":"AC256*$F$257*(AC9/365.25)","v":4455.4073454579848},{"$f":"AD256*$F$257*(AD9/365.25)","v":5035.0890748613538},{"$f":"AE256*$F$257*(AE9/365.25)","v":5156.0960755141023},{"$f":"AF256*$F$257*(AF9/365.25)","v":5613.1405782340735},{"$f":"AG256*$F$257*(AG9/365.25)","v":5718.9456639139762},{"$f":"AH256*$F$257*(AH9/365.25)","v":6198.2179416159033},{"$f":"AI256*$F$257*(AI9/365.25)","v":2305.8333255500133},{"$f":"AJ256*$F$257*(AJ9/365.25)","v":0},{"$f":"AK256*$F$257*(AK9/365.25)","v":0},{"$f":"AL256*$F$257*(AL9/365.25)","v":0},{"$f":"AM256*$F$257*(AM9/365.25)","v":0},{"$f":"AN256*$F$257*(AN9/365.25)","v":0},{"$f":"AO256*$F$257*(AO9/365.25)","v":0},{"$f":"AP256*$F$257*(AP9/365.25)","v":0},{"$f":"AQ256*$F$257*(AQ9/365.25)","v":0},{"$f":"AR256*$F$257*(AR9/365.25)","v":0},{"$f":"AS256*$F$257*(AS9/365.25)","v":0},{"$f":"AT256*$F$257*(AT9/365.25)","v":0},{"$f":"AU256*$F$257*(AU9/365.25)","v":0},{"$f":"AV256*$F$257*(AV9/365.25)","v":0},{"$f":"AW256*$F$257*(AW9/365.25)","v":0},{"$f":"AX256*$F$257*(AX9/365.25)","v":0},{"$f":"AY256*$F$257*(AY9/365.25)","v":0},{"$f":"AZ256*$F$257*(AZ9/365.25)","v":0},{"$f":"BA256*$F$257*(BA9/365.25)","v":0},{"$f":"BB256*$F$257*(BB9/365.25)","v":0},{"$f":"BC256*$F$257*(BC9/365.25)","v":0},{"$f":"BD256*$F$257*(BD9/365.25)","v":0},{"$f":"BE256*$F$257*(BE9/365.25)","v":0},{"$f":"BF256*$F$257*(BF9/365.25)","v":0},{"$f":"BG256*$F$257*(BG9/365.25)","v":0},{"$f":"BH256*$F$257*(BH9/365.25)","v":0},{"$f":"BI256*$F$257*(BI9/365.25)","v":0},{"$f":"BJ256*$F$257*(BJ9/365.25)","v":0},{"$f":"BK256*$F$257*(BK9/365.25)","v":0},{"$f":"BL256*$F$257*(BL9/365.25)","v":0},{"$f":"BM256*$F$257*(BM9/365.25)","v":0},{"$f":"BN256*$F$257*(BN9/365.25)","v":0},{"$f":"BO256*$F$257*(BO9/365.25)","v":0},{"$f":"BP256*$F$257*(BP9/365.25)","v":0},{"$f":"BQ256*$F$257*(BQ9/365.25)","v":0},{"$f":"BR256*$F$257*(BR9/365.25)","v":0},{"$f":"BS256*$F$257*(BS9/365.25)","v":0},{"$f":"BT256*$F$257*(BT9/365.25)","v":0},{"$f":"BU256*$F$257*(BU9/365.25)","v":0},{"$f":"BV256*$F$257*(BV9/365.25)","v":0},{"$f":"BW256*$F$257*(BW9/365.25)","v":0},{"$f":"BX256*$F$257*(BX9/365.25)","v":0},{"$f":"BY256*$F$257*(BY9/365.25)","v":0},{"$f":"BZ256*$F$257*(BZ9/365.25)","v":0},{"$f":"CA256*$F$257*(CA9/365.25)","v":0},{"$f":"CB256*$F$257*(CB9/365.25)","v":0},{"$f":"CC256*$F$257*(CC9/365.25)","v":0},{"$f":"CD256*$F$257*(CD9/365.25)","v":0},{"$f":"CE256*$F$257*(CE9/365.25)","v":0},{"$f":"CF256*$F$257*(CF9/365.25)","v":0},{"$f":"CG256*$F$257*(CG9/365.25)","v":0},{"$f":"CH256*$F$257*(CH9/365.25)","v":0},{"$f":"CI256*$F$257*(CI9/365.25)","v":0},{"$f":"CJ256*$F$257*(CJ9/365.25)","v":0},{"$f":"CK256*$F$257*(CK9/365.25)","v":0},{"$f":"CL256*$F$257*(CL9/365.25)","v":0},{"$f":"CM256*$F$257*(CM9/365.25)","v":0},{"$f":"CN256*$F$257*(CN9/365.25)","v":0},{"$f":"CO256*$F$257*(CO9/365.25)","v":0},{"$f":"CP256*$F$257*(CP9/365.25)","v":0},{"$f":"CQ256*$F$257*(CQ9/365.25)","v":0},{"$f":"CR256*$F$257*(CR9/365.25)","v":0},{"$f":"CS256*$F$257*(CS9/365.25)","v":0},{"$f":"CT256*$F$257*(CT9/365.25)","v":0},{"$f":"CU256*$F$257*(CU9/365.25)","v":0},{"$f":"CV256*$F$257*(CV9/365.25)","v":0},{"$f":"CW256*$F$257*(CW9/365.25)","v":0},{"$f":"CX256*$F$257*(CX9/365.25)","v":0},{"$f":"CY256*$F$257*(CY9/365.25)","v":0},{"$f":"CZ256*$F$257*(CZ9/365.25)","v":0},{"$f":"DA256*$F$257*(DA9/365.25)","v":0},{"$f":"DB256*$F$257*(DB9/365.25)","v":0},{"$f":"DC256*$F$257*(DC9/365.25)","v":0},{"$f":"DD256*$F$257*(DD9/365.25)","v":0},{"$f":"DE256*$F$257*(DE9/365.25)","v":0},{"$f":"DF256*$F$257*(DF9/365.25)","v":0},{"$f":"DG256*$F$257*(DG9/365.25)","v":0},{"$f":"DH256*$F$257*(DH9/365.25)","v":0},{"$f":"DI256*$F$257*(DI9/365.25)","v":0},{"$f":"DJ256*$F$257*(DJ9/365.25)","v":0},{"$f":"DK256*$F$257*(DK9/365.25)","v":0},{"$f":"DL256*$F$257*(DL9/365.25)","v":0},{"$f":"DM256*$F$257*(DM9/365.25)","v":0},{"$f":"DN256*$F$257*(DN9/365.25)","v":0},{"$f":"DO256*$F$257*(DO9/365.25)","v":0},{"$f":"DP256*$F$257*(DP9/365.25)","v":0},{"$f":"DQ256*$F$257*(DQ9/365.25)","v":0},{"$f":"DR256*$F$257*(DR9/365.25)","v":0},{"$f":"DS256*$F$257*(DS9/365.25)","v":0},{"$f":"DT256*$F$257*(DT9/365.25)","v":0},{"$f":"DU256*$F$257*(DU9/365.25)","v":0},{"$f":"DV256*$F$257*(DV9/365.25)","v":0},{"$f":"DW256*$F$257*(DW9/365.25)","v":0},{"$f":"DX256*$F$257*(DX9/365.25)","v":0},{"$f":"DY256*$F$257*(DY9/365.25)","v":0},{"$f":"DZ256*$F$257*(DZ9/365.25)","v":0},{"$f":"EA256*$F$257*(EA9/365.25)","v":0},{"$f":"EB256*$F$257*(EB9/365.25)","v":0},{"$f":"EC256*$F$257*(EC9/365.25)","v":0},{"$f":"ED256*$F$257*(ED9/365.25)","v":0},{"$f":"EE256*$F$257*(EE9/365.25)","v":0},{"$f":"EF256*$F$257*(EF9/365.25)","v":0},{"$f":"EG256*$F$257*(EG9/365.25)","v":0},{"$f":"EH256*$F$257*(EH9/365.25)","v":0},{"$f":"EI256*$F$257*(EI9/365.25)","v":0},{"$f":"EJ256*$F$257*(EJ9/365.25)","v":0},{"$f":"EK256*$F$257*(EK9/365.25)","v":0},{"$f":"EL256*$F$257*(EL9/365.25)","v":0},{"$f":"EM256*$F$257*(EM9/365.25)","v":0},{"$f":"EN256*$F$257*(EN9/365.25)","v":0},{"$f":"EO256*$F$257*(EO9/365.25)","v":0},{"$f":"EP256*$F$257*(EP9/365.25)","v":0},{"$f":"EQ256*$F$257*(EQ9/365.25)","v":0},{"$f":"ER256*$F$257*(ER9/365.25)","v":0},{"$f":"ES256*$F$257*(ES9/365.25)","v":0},{"$f":"ET256*$F$257*(ET9/365.25)","v":0},{"$f":"EU256*$F$257*(EU9/365.25)","v":0},{"$f":"EV256*$F$257*(EV9/365.25)","v":0},{"$f":"EW256*$F$257*(EW9/365.25)","v":0},{"$f":"EX256*$F$257*(EX9/365.25)","v":0},{"$f":"EY256*$F$257*(EY9/365.25)","v":0},{"$f":"EZ256*$F$257*(EZ9/365.25)","v":0},{"$f":"FA256*$F$257*(FA9/365.25)","v":0},{"$f":"FB256*$F$257*(FB9/365.25)","v":0},{"$f":"FC256*$F$257*(FC9/365.25)","v":0},{"$f":"FD256*$F$257*(FD9/365.25)","v":0},{"$f":"FE256*$F$257*(FE9/365.25)","v":0},{"$f":"FF256*$F$257*(FF9/365.25)","v":0},{"$f":"FG256*$F$257*(FG9/365.25)","v":0},{"$f":"FH256*$F$257*(FH9/365.25)","v":0},{"$f":"FI256*$F$257*(FI9/365.25)","v":0},{"$f":"FJ256*$F$257*(FJ9/365.25)","v":0},{"$f":"FK256*$F$257*(FK9/365.25)","v":0},{"$f":"FL256*$F$257*(FL9/365.25)","v":0},{"$f":"FM256*$F$257*(FM9/365.25)","v":0},{"$f":"FN256*$F$257*(FN9/365.25)","v":0},{"$f":"FO256*$F$257*(FO9/365.25)","v":0},{"$f":"FP256*$F$257*(FP9/365.25)","v":0},{"$f":"FQ256*$F$257*(FQ9/365.25)","v":0},{"$f":"FR256*$F$257*(FR9/365.25)","v":0},{"$f":"FS256*$F$257*(FS9/365.25)","v":0},{"$f":"FT256*$F$257*(FT9/365.25)","v":0},{"$f":"FU256*$F$257*(FU9/365.25)","v":0},{"$f":"FV256*$F$257*(FV9/365.25)","v":0},{"$f":"FW256*$F$257*(FW9/365.25)","v":0},{"$f":"FX256*$F$257*(FX9/365.25)","v":0},{"$f":"FY256*$F$257*(FY9/365.25)","v":0},{"$f":"FZ256*$F$257*(FZ9/365.25)","v":0},{"$f":"GA256*$F$257*(GA9/365.25)","v":0},{"$f":"GB256*$F$257*(GB9/365.25)","v":0},{"$f":"GC256*$F$257*(GC9/365.25)","v":0},{"$f":"GD256*$F$257*(GD9/365.25)","v":0},{"$f":"GE256*$F$257*(GE9/365.25)","v":0},{"$f":"GF256*$F$257*(GF9/365.25)","v":0},{"$f":"GG256*$F$257*(GG9/365.25)","v":0},{"$f":"GH256*$F$257*(GH9/365.25)","v":0},{"$f":"GI256*$F$257*(GI9/365.25)","v":0},{"$f":"GJ256*$F$257*(GJ9/365.25)","v":0},{"$f":"GK256*$F$257*(GK9/365.25)","v":0},{"$f":"GL256*$F$257*(GL9/365.25)","v":0},{"$f":"GM256*$F$257*(GM9/365.25)","v":0},{"$f":"GN256*$F$257*(GN9/365.25)","v":0},{"$f":"GO256*$F$257*(GO9/365.25)","v":0},{"$f":"GP256*$F$257*(GP9/365.25)","v":0},{"$f":"GQ256*$F$257*(GQ9/365.25)","v":0},{"$f":"GR256*$F$257*(GR9/365.25)","v":0},{"$f":"GS256*$F$257*(GS9/365.25)","v":0},{"$f":"GT256*$F$257*(GT9/365.25)","v":0},{"$f":"GU256*$F$257*(GU9/365.25)","v":0},{"$f":"GV256*$F$257*(GV9/365.25)","v":0},{"$f":"GW256*$F$257*(GW9/365.25)","v":0},{"$f":"GX256*$F$257*(GX9/365.25)","v":0},{"$f":"GY256*$F$257*(GY9/365.25)","v":0},{"$f":"GZ256*$F$257*(GZ9/365.25)","v":0},{"$f":"HA256*$F$257*(HA9/365.25)","v":0},{"$f":"HB256*$F$257*(HB9/365.25)","v":0},{"$f":"HC256*$F$257*(HC9/365.25)","v":0},{"$f":"HD256*$F$257*(HD9/365.25)","v":0},{"$f":"HE256*$F$257*(HE9/365.25)","v":0},{"$f":"HF256*$F$257*(HF9/365.25)","v":0},{"$f":"HG256*$F$257*(HG9/365.25)","v":0},{"$f":"HH256*$F$257*(HH9/365.25)","v":0},{"$f":"HI256*$F$257*(HI9/365.25)","v":0},{"$f":"HJ256*$F$257*(HJ9/365.25)","v":0},{"$f":"HK256*$F$257*(HK9/365.25)","v":0},{"$f":"HL256*$F$257*(HL9/365.25)","v":0},{"$f":"HM256*$F$257*(HM9/365.25)","v":0},{"$f":"HN256*$F$257*(HN9/365.25)","v":0},{"$f":"HO256*$F$257*(HO9/365.25)","v":0},{"$f":"HP256*$F$257*(HP9/365.25)","v":0},{"$f":"HQ256*$F$257*(HQ9/365.25)","v":0},{"$f":"HR256*$F$257*(HR9/365.25)","v":0},{"$f":"HS256*$F$257*(HS9/365.25)","v":0},{"$f":"HT256*$F$257*(HT9/365.25)","v":0},{"$f":"HU256*$F$257*(HU9/365.25)","v":0},{"$f":"HV256*$F$257*(HV9/365.25)","v":0},{"$f":"HW256*$F$257*(HW9/365.25)","v":0},{"$f":"HX256*$F$257*(HX9/365.25)","v":0},{"$f":"HY256*$F$257*(HY9/365.25)","v":0},{"$f":"HZ256*$F$257*(HZ9/365.25)","v":0},{"$f":"IA256*$F$257*(IA9/365.25)","v":0},{"$f":"IB256*$F$257*(IB9/365.25)","v":0},{"$f":"IC256*$F$257*(IC9/365.25)","v":0},{"$f":"ID256*$F$257*(ID9/365.25)","v":0},{"$f":"IE256*$F$257*(IE9/365.25)","v":0},{"$f":"IF256*$F$257*(IF9/365.25)","v":0},{"$f":"IG256*$F$257*(IG9/365.25)","v":0},{"$f":"IH256*$F$257*(IH9/365.25)","v":0},{"$f":"II256*$F$257*(II9/365.25)","v":0},{"$f":"IJ256*$F$257*(IJ9/365.25)","v":0},{"$f":"IK256*$F$257*(IK9/365.25)","v":0},{"$f":"IL256*$F$257*(IL9/365.25)","v":0},{"$f":"IM256*$F$257*(IM9/365.25)","v":0},{"$f":"IN256*$F$257*(IN9/365.25)","v":0},{"$f":"IO256*$F$257*(IO9/365.25)","v":0},{"$f":"IP256*$F$257*(IP9/365.25)","v":0},{"$f":"IQ256*$F$257*(IQ9/365.25)","v":0},{"$f":"IR256*$F$257*(IR9/365.25)","v":0},{"$f":"IS256*$F$257*(IS9/365.25)","v":0},{"$f":"IT256*$F$257*(IT9/365.25)","v":0},{"$f":"IU256*$F$257*(IU9/365.25)","v":0},{"$f":"IV256*$F$257*(IV9/365.25)","v":0},{"$f":"IW256*$F$257*(IW9/365.25)","v":0},{"$f":"IX256*$F$257*(IX9/365.25)","v":0},{"$f":"IY256*$F$257*(IY9/365.25)","v":0},{"$f":"IZ256*$F$257*(IZ9/365.25)","v":0},{"$f":"JA256*$F$257*(JA9/365.25)","v":0},{"$f":"JB256*$F$257*(JB9/365.25)","v":0},{"$f":"JC256*$F$257*(JC9/365.25)","v":0},{"$f":"JD256*$F$257*(JD9/365.25)","v":0},{"$f":"JE256*$F$257*(JE9/365.25)","v":0},{"$f":"JF256*$F$257*(JF9/365.25)","v":0},{"$f":"JG256*$F$257*(JG9/365.25)","v":0},{"$f":"JH256*$F$257*(JH9/365.25)","v":0},{"$f":"JI256*$F$257*(JI9/365.25)","v":0},{"$f":"JJ256*$F$257*(JJ9/365.25)","v":0},{"$f":"JK256*$F$257*(JK9/365.25)","v":0},{"$f":"JL256*$F$257*(JL9/365.25)","v":0},{"$f":"JM256*$F$257*(JM9/365.25)","v":0},{"$f":"JN256*$F$257*(JN9/365.25)","v":0},{"$f":"JO256*$F$257*(JO9/365.25)","v":0},{"$f":"JP256*$F$257*(JP9/365.25)","v":0},{"$f":"JQ256*$F$257*(JQ9/365.25)","v":0},{"$f":"JR256*$F$257*(JR9/365.25)","v":0},{"$f":"JS256*$F$257*(JS9/365.25)","v":0},{"$f":"JT256*$F$257*(JT9/365.25)","v":0},{"$f":"JU256*$F$257*(JU9/365.25)","v":0},{"$f":"JV256*$F$257*(JV9/365.25)","v":0},{"$f":"JW256*$F$257*(JW9/365.25)","v":0},{"$f":"JX256*$F$257*(JX9/365.25)","v":0},{"$f":"JY256*$F$257*(JY9/365.25)","v":0},{"$f":"JZ256*$F$257*(JZ9/365.25)","v":0},{"$f":"KA256*$F$257*(KA9/365.25)","v":0},{"$f":"KB256*$F$257*(KB9/365.25)","v":0},{"$f":"KC256*$F$257*(KC9/365.25)","v":0},{"$f":"KD256*$F$257*(KD9/365.25)","v":0},{"$f":"KE256*$F$257*(KE9/365.25)","v":0},{"$f":"KF256*$F$257*(KF9/365.25)","v":0},{"$f":"KG256*$F$257*(KG9/365.25)","v":0},{"$f":"KH256*$F$257*(KH9/365.25)","v":0},{"$f":"KI256*$F$257*(KI9/365.25)","v":0},{"$f":"KJ256*$F$257*(KJ9/365.25)","v":0},{"$f":"KK256*$F$257*(KK9/365.25)","v":0},{"$f":"KL256*$F$257*(KL9/365.25)","v":0},{"$f":"KM256*$F$257*(KM9/365.25)","v":0},{"$f":"KN256*$F$257*(KN9/365.25)","v":0},{"$f":"KO256*$F$257*(KO9/365.25)","v":0},{"$f":"KP256*$F$257*(KP9/365.25)","v":0},{"$f":"KQ256*$F$257*(KQ9/365.25)","v":0},{"$f":"KR256*$F$257*(KR9/365.25)","v":0},{"$f":"KS256*$F$257*(KS9/365.25)","v":0},{"$f":"KT256*$F$257*(KT9/365.25)","v":0},{"$f":"KU256*$F$257*(KU9/365.25)","v":0},{"$f":"KV256*$F$257*(KV9/365.25)","v":0},{"$f":"KW256*$F$257*(KW9/365.25)","v":0},{"$f":"KX256*$F$257*(KX9/365.25)","v":0},{"$f":"KY256*$F$257*(KY9/365.25)","v":0},{"$f":"KZ256*$F$257*(KZ9/365.25)","v":0},{"$f":"LA256*$F$257*(LA9/365.25)","v":0},{"$f":"LB256*$F$257*(LB9/365.25)","v":0},{"$f":"LC256*$F$257*(LC9/365.25)","v":0},{"$f":"LD256*$F$257*(LD9/365.25)","v":0},{"$f":"LE256*$F$257*(LE9/365.25)","v":0},{"$f":"LF256*$F$257*(LF9/365.25)","v":0},{"$f":"LG256*$F$257*(LG9/365.25)","v":0},{"$f":"LH256*$F$257*(LH9/365.25)","v":0},{"$f":"LI256*$F$257*(LI9/365.25)","v":0},{"$f":"LJ256*$F$257*(LJ9/365.25)","v":0},{"$f":"LK256*$F$257*(LK9/365.25)","v":0},{"$f":"LL256*$F$257*(LL9/365.25)","v":0},{"$f":"LM256*$F$257*(LM9/365.25)","v":0},{"$f":"LN256*$F$257*(LN9/365.25)","v":0},{"$f":"LO256*$F$257*(LO9/365.25)","v":0},{"$f":"LP256*$F$257*(LP9/365.25)","v":0},{"$f":"LQ256*$F$257*(LQ9/365.25)","v":0},{"$f":"LR256*$F$257*(LR9/365.25)","v":0},{"$f":"LS256*$F$257*(LS9/365.25)","v":0},{"$f":"LT256*$F$257*(LT9/365.25)","v":0},{"$f":"LU256*$F$257*(LU9/365.25)","v":0},{"$f":"LV256*$F$257*(LV9/365.25)","v":0},{"$f":"LW256*$F$257*(LW9/365.25)","v":0},{"$f":"LX256*$F$257*(LX9/365.25)","v":0},{"$f":"LY256*$F$257*(LY9/365.25)","v":0},{"$f":"LZ256*$F$257*(LZ9/365.25)","v":0},{"$f":"MA256*$F$257*(MA9/365.25)","v":0},{"$f":"MB256*$F$257*(MB9/365.25)","v":0},{"$f":"MC256*$F$257*(MC9/365.25)","v":0},{"$f":"MD256*$F$257*(MD9/365.25)","v":0},{"$f":"ME256*$F$257*(ME9/365.25)","v":0},{"$f":"MF256*$F$257*(MF9/365.25)","v":0},{"$f":"MG256*$F$257*(MG9/365.25)","v":0},{"$f":"MH256*$F$257*(MH9/365.25)","v":0},{"$f":"MI256*$F$257*(MI9/365.25)","v":0},{"$f":"MJ256*$F$257*(MJ9/365.25)","v":0},{"$f":"MK256*$F$257*(MK9/365.25)","v":0},{"$f":"ML256*$F$257*(ML9/365.25)","v":0},{"$f":"MM256*$F$257*(MM9/365.25)","v":0},{"$f":"MN256*$F$257*(MN9/365.25)","v":0},{"$f":"MO256*$F$257*(MO9/365.25)","v":0},{"$f":"MP256*$F$257*(MP9/365.25)","v":0},{"$f":"MQ256*$F$257*(MQ9/365.25)","v":0},{"$f":"MR256*$F$257*(MR9/365.25)","v":0},{"$f":"MS256*$F$257*(MS9/365.25)","v":0},{"$f":"MT256*$F$257*(MT9/365.25)","v":0},{"$f":"MU256*$F$257*(MU9/365.25)","v":0},{"$f":"MV256*$F$257*(MV9/365.25)","v":0},{"$f":"MW256*$F$257*(MW9/365.25)","v":0},{"$f":"MX256*$F$257*(MX9/365.25)","v":0},{"$f":"MY256*$F$257*(MY9/365.25)","v":0},{"$f":"MZ256*$F$257*(MZ9/365.25)","v":0},{"$f":"NA256*$F$257*(NA9/365.25)","v":0},{"$f":"NB256*$F$257*(NB9/365.25)","v":0},{"$f":"NC256*$F$257*(NC9/365.25)","v":0},{"$f":"ND256*$F$257*(ND9/365.25)","v":0},{"$f":"NE256*$F$257*(NE9/365.25)","v":0},{"$f":"NF256*$F$257*(NF9/365.25)","v":0},{"$f":"NG256*$F$257*(NG9/365.25)","v":0},{"$f":"NH256*$F$257*(NH9/365.25)","v":0},{"$f":"NI256*$F$257*(NI9/365.25)","v":0},{"$f":"NJ256*$F$257*(NJ9/365.25)","v":0},{"$f":"NK256*$F$257*(NK9/365.25)","v":0},{"$f":"NL256*$F$257*(NL9/365.25)","v":0},{"$f":"NM256*$F$257*(NM9/365.25)","v":0},{"$f":"NN256*$F$257*(NN9/365.25)","v":0},{"$f":"NO256*$F$257*(NO9/365.25)","v":0},{"$f":"NP256*$F$257*(NP9/365.25)","v":0},{"$f":"NQ256*$F$257*(NQ9/365.25)","v":0},{"$f":"NR256*$F$257*(NR9/365.25)","v":0},{"$f":"NS256*$F$257*(NS9/365.25)","v":0},{"$f":"NT256*$F$257*(NT9/365.25)","v":0},{"$f":"NU256*$F$257*(NU9/365.25)","v":0},{"$f":"NV256*$F$257*(NV9/365.25)","v":0},{"$f":"NW256*$F$257*(NW9/365.25)","v":0},{"$f":"NX256*$F$257*(NX9/365.25)","v":0},{"$f":"NY256*$F$257*(NY9/365.25)","v":0},{"$f":"NZ256*$F$257*(NZ9/365.25)","v":0},{"$f":"OA256*$F$257*(OA9/365.25)","v":0},{"$f":"OB256*$F$257*(OB9/365.25)","v":0},{"$f":"OC256*$F$257*(OC9/365.25)","v":0},{"$f":"OD256*$F$257*(OD9/365.25)","v":0},{"$f":"OE256*$F$257*(OE9/365.25)","v":0},{"$f":"OF256*$F$257*(OF9/365.25)","v":0},{"$f":"OG256*$F$257*(OG9/365.25)","v":0},{"$f":"OH256*$F$257*(OH9/365.25)","v":0},{"$f":"OI256*$F$257*(OI9/365.25)","v":0},{"$f":"OJ256*$F$257*(OJ9/365.25)","v":0},{"$f":"OK256*$F$257*(OK9/365.25)","v":0},{"$f":"OL256*$F$257*(OL9/365.25)","v":0},{"$f":"OM256*$F$257*(OM9/365.25)","v":0},{"$f":"ON256*$F$257*(ON9/365.25)","v":0},{"$f":"OO256*$F$257*(OO9/365.25)","v":0},{"$f":"OP256*$F$257*(OP9/365.25)","v":0},{"$f":"OQ256*$F$257*(OQ9/365.25)","v":0},{"$f":"OR256*$F$257*(OR9/365.25)","v":0},{"$f":"OS256*$F$257*(OS9/365.25)","v":0},{"$f":"OT256*$F$257*(OT9/365.25)","v":0},{"$f":"OU256*$F$257*(OU9/365.25)","v":0},{"$f":"OV256*$F$257*(OV9/365.25)","v":0},{"$f":"OW256*$F$257*(OW9/365.25)","v":0},{"$f":"OX256*$F$257*(OX9/365.25)","v":0},{"$f":"OY256*$F$257*(OY9/365.25)","v":0},{"$f":"OZ256*$F$257*(OZ9/365.25)","v":0},{"$f":"PA256*$F$257*(PA9/365.25)","v":0},{"$f":"PB256*$F$257*(PB9/365.25)","v":0},{"$f":"PC256*$F$257*(PC9/365.25)","v":0},{"$f":"PD256*$F$257*(PD9/365.25)","v":0},{"$f":"PE256*$F$257*(PE9/365.25)","v":0},{"$f":"PF256*$F$257*(PF9/365.25)","v":0},{"$f":"PG256*$F$257*(PG9/365.25)","v":0},{"$f":"PH256*$F$257*(PH9/365.25)","v":0},{"$f":"PI256*$F$257*(PI9/365.25)","v":0},{"$f":"PJ256*$F$257*(PJ9/365.25)","v":0},{"$f":"PK256*$F$257*(PK9/365.25)","v":0},{"$f":"PL256*$F$257*(PL9/365.25)","v":0},{"$f":"PM256*$F$257*(PM9/365.25)","v":0},{"$f":"PN256*$F$257*(PN9/365.25)","v":0},{"$f":"PO256*$F$257*(PO9/365.25)","v":0},{"$f":"PP256*$F$257*(PP9/365.25)","v":0},{"$f":"PQ256*$F$257*(PQ9/365.25)","v":0},{"$f":"PR256*$F$257*(PR9/365.25)","v":0},{"$f":"PS256*$F$257*(PS9/365.25)","v":0},{"$f":"PT256*$F$257*(PT9/365.25)","v":0},{"$f":"PU256*$F$257*(PU9/365.25)","v":0},{"$f":"PV256*$F$257*(PV9/365.25)","v":0},{"$f":"PW256*$F$257*(PW9/365.25)","v":0},{"$f":"PX256*$F$257*(PX9/365.25)","v":0},{"$f":"PY256*$F$257*(PY9/365.25)","v":0},{"$f":"PZ256*$F$257*(PZ9/365.25)","v":0},{"$f":"QA256*$F$257*(QA9/365.25)","v":0},{"$f":"QB256*$F$257*(QB9/365.25)","v":0},{"$f":"QC256*$F$257*(QC9/365.25)","v":0},{"$f":"QD256*$F$257*(QD9/365.25)","v":0},{"$f":"QE256*$F$257*(QE9/365.25)","v":0},{"$f":"QF256*$F$257*(QF9/365.25)","v":0},{"$f":"QG256*$F$257*(QG9/365.25)","v":0},{"$f":"QH256*$F$257*(QH9/365.25)","v":0},{"$f":"QI256*$F$257*(QI9/365.25)","v":0},{"$f":"QJ256*$F$257*(QJ9/365.25)","v":0},{"$f":"QK256*$F$257*(QK9/365.25)","v":0},{"$f":"QL256*$F$257*(QL9/365.25)","v":0},{"$f":"QM256*$F$257*(QM9/365.25)","v":0},{"$f":"QN256*$F$257*(QN9/365.25)","v":0},{"$f":"QO256*$F$257*(QO9/365.25)","v":0},{"$f":"QP256*$F$257*(QP9/365.25)","v":0},{"$f":"QQ256*$F$257*(QQ9/365.25)","v":0},{"$f":"QR256*$F$257*(QR9/365.25)","v":0},{"$f":"QS256*$F$257*(QS9/365.25)","v":0},{"$f":"QT256*$F$257*(QT9/365.25)","v":0},{"$f":"QU256*$F$257*(QU9/365.25)","v":0},{"$f":"QV256*$F$257*(QV9/365.25)","v":0},{"$f":"QW256*$F$257*(QW9/365.25)","v":0},{"$f":"QX256*$F$257*(QX9/365.25)","v":0},{"$f":"QY256*$F$257*(QY9/365.25)","v":0},{"$f":"QZ256*$F$257*(QZ9/365.25)","v":0},{"$f":"RA256*$F$257*(RA9/365.25)","v":0},{"$f":"RB256*$F$257*(RB9/365.25)","v":0},{"$f":"RC256*$F$257*(RC9/365.25)","v":0},{"$f":"RD256*$F$257*(RD9/365.25)","v":0},{"$f":"RE256*$F$257*(RE9/365.25)","v":0},{"$f":"RF256*$F$257*(RF9/365.25)","v":0},{"$f":"RG256*$F$257*(RG9/365.25)","v":0},{"$f":"RH256*$F$257*(RH9/365.25)","v":0},{"$f":"RI256*$F$257*(RI9/365.25)","v":0},{"$f":"RJ256*$F$257*(RJ9/365.25)","v":0},{"$f":"RK256*$F$257*(RK9/365.25)","v":0},{"$f":"RL256*$F$257*(RL9/365.25)","v":0},{"$f":"RM256*$F$257*(RM9/365.25)","v":0},{"$f":"RN256*$F$257*(RN9/365.25)","v":0},{"$f":"RO256*$F$257*(RO9/365.25)","v":0},{"$f":"RP256*$F$257*(RP9/365.25)","v":0},{"$f":"RQ256*$F$257*(RQ9/365.25)","v":0},{"$f":"RR256*$F$257*(RR9/365.25)","v":0},{"$f":"RS256*$F$257*(RS9/365.25)","v":0},{"$f":"RT256*$F$257*(RT9/365.25)","v":0},{"$f":"RU256*$F$257*(RU9/365.25)","v":0},{"$f":"RV256*$F$257*(RV9/365.25)","v":0},{"$f":"RW256*$F$257*(RW9/365.25)","v":0},{"$f":"RX256*$F$257*(RX9/365.25)","v":0},{"$f":"RY256*$F$257*(RY9/365.25)","v":0},{"$f":"RZ256*$F$257*(RZ9/365.25)","v":0},{"$f":"SA256*$F$257*(SA9/365.25)","v":0},{"$f":"SB256*$F$257*(SB9/365.25)","v":0},{"$f":"SC256*$F$257*(SC9/365.25)","v":0},{"$f":"SD256*$F$257*(SD9/365.25)","v":0},{"$f":"SE256*$F$257*(SE9/365.25)","v":0},{"$f":"SF256*$F$257*(SF9/365.25)","v":0},{"$f":"SG256*$F$257*(SG9/365.25)","v":0},{"$f":"SH256*$F$257*(SH9/365.25)","v":0},{"$f":"SI256*$F$257*(SI9/365.25)","v":0},{"$f":"SJ256*$F$257*(SJ9/365.25)","v":0},{"$f":"SK256*$F$257*(SK9/365.25)","v":0},{"$f":"SL256*$F$257*(SL9/365.25)","v":0},{"$f":"SM256*$F$257*(SM9/365.25)","v":0},{"$f":"SN256*$F$257*(SN9/365.25)","v":0},{"$f":"SO256*$F$257*(SO9/365.25)","v":0},{"$f":"SP256*$F$257*(SP9/365.25)","v":0},{"$f":"SQ256*$F$257*(SQ9/365.25)","v":0},{"$f":"SR256*$F$257*(SR9/365.25)","v":0},{"$f":"SS256*$F$257*(SS9/365.25)","v":0},{"$f":"ST256*$F$257*(ST9/365.25)","v":0},{"$f":"SU256*$F$257*(SU9/365.25)","v":0},{"$f":"SV256*$F$257*(SV9/365.25)","v":0},{"$f":"SW256*$F$257*(SW9/365.25)","v":0},{"$f":"SX256*$F$257*(SX9/365.25)","v":0},{"$f":"SY256*$F$257*(SY9/365.25)","v":0},{"$f":"SZ256*$F$257*(SZ9/365.25)","v":0},{"$f":"TA256*$F$257*(TA9/365.25)","v":0},{"$f":"TB256*$F$257*(TB9/365.25)","v":0},{"$f":"TC256*$F$257*(TC9/365.25)","v":0},{"$f":"TD256*$F$257*(TD9/365.25)","v":0},{"$f":"TE256*$F$257*(TE9/365.25)","v":0},{"$f":"TF256*$F$257*(TF9/365.25)","v":0},{"$f":"TG256*$F$257*(TG9/365.25)","v":0},{"$f":"TH256*$F$257*(TH9/365.25)","v":0},{"$f":"TI256*$F$257*(TI9/365.25)","v":0},{"$f":"TJ256*$F$257*(TJ9/365.25)","v":0},{"$f":"TK256*$F$257*(TK9/365.25)","v":0},{"$f":"TL256*$F$257*(TL9/365.25)","v":0},{"$f":"TM256*$F$257*(TM9/365.25)","v":0},{"$f":"TN256*$F$257*(TN9/365.25)","v":0},{"$f":"TO256*$F$257*(TO9/365.25)","v":0},{"$f":"TP256*$F$257*(TP9/365.25)","v":0},{"$f":"TQ256*$F$257*(TQ9/365.25)","v":0},{"$f":"TR256*$F$257*(TR9/365.25)","v":0},{"$f":"TS256*$F$257*(TS9/365.25)","v":0},{"$f":"TT256*$F$257*(TT9/365.25)","v":0},{"$f":"TU256*$F$257*(TU9/365.25)","v":0},{"$f":"TV256*$F$257*(TV9/365.25)","v":0},{"$f":"TW256*$F$257*(TW9/365.25)","v":0},{"$f":"TX256*$F$257*(TX9/365.25)","v":0},{"$f":"TY256*$F$257*(TY9/365.25)","v":0},{"$f":"TZ256*$F$257*(TZ9/365.25)","v":0},{"$f":"UA256*$F$257*(UA9/365.25)","v":0},{"$f":"UB256*$F$257*(UB9/365.25)","v":0},{"$f":"UC256*$F$257*(UC9/365.25)","v":0},{"$f":"UD256*$F$257*(UD9/365.25)","v":0},{"$f":"UE256*$F$257*(UE9/365.25)","v":0},{"$f":"UF256*$F$257*(UF9/365.25)","v":0},{"$f":"UG256*$F$257*(UG9/365.25)","v":0},{"$f":"UH256*$F$257*(UH9/365.25)","v":0},{"$f":"UI256*$F$257*(UI9/365.25)","v":0},{"$f":"UJ256*$F$257*(UJ9/365.25)","v":0},{"$f":"UK256*$F$257*(UK9/365.25)","v":0},{"$f":"UL256*$F$257*(UL9/365.25)","v":0},{"$f":"UM256*$F$257*(UM9/365.25)","v":0},{"$f":"UN256*$F$257*(UN9/365.25)","v":0},{"$f":"UO256*$F$257*(UO9/365.25)","v":0}]
[null,null,null,"Payments",null,null,null,null,"EUR",null,{"$f":"K16","v":24691.358024691355},{"$f":"L16","v":41152.263374485592},{"$f":"M16","v":42524.005486968446},{"$f":"N16","v":41152.263374485592},{"$f":"O16","v":42524.005486968446},{"$f":"P16","v":42524.005486968446},{"$f":"Q16","v":38408.779149519891},{"$f":"R16","v":42524.005486968446},{"$f":"S16","v":41152.263374485592},{"$f":"T16","v":42524.005486968446},{"$f":"U16","v":41152.263374485592},{"$f":"V16","v":42524.005486968446},{"$f":"W16","v":42524.005486968446},{"$f":"X16","v":41152.263374485592},{"$f":"Y16","v":42524.005486968446},{"$f":"Z16","v":41152.263374485592},{"$f":"AA16","v":42524.005486968446},{"$f":"AB16","v":42524.005486968446},{"$f":"AC16","v":39780.521262002738},{"$f":"AD16","v":42524.005486968446},{"$f":"AE16","v":41152.263374485592},{"$f":"AF16","v":42524.005486968446},{"$f":"AG16","v":41152.263374485592},{"$f":"AH16","v":42524.005486968446},{"$f":"AI16","v":15089.163237311384},{"$f":"AJ16","v":0},{"$f":"AK16","v":0},{"$f":"AL16","v":0},{"$f":"AM16","v":0},{"$f":"AN16","v":0},{"$f":"AO16","v":0},{"$f":"AP16","v":0},{"$f":"AQ16","v":0},{"$f":"AR16","v":0},{"$f":"AS16","v":0},{"$f":"AT16","v":0},{"$f":"AU16","v":0},{"$f":"AV16","v":0},{"$f":"AW16","v":0},{"$f":"AX16","v":0},{"$f":"AY16","v":0},{"$f":"AZ16","v":0},{"$f":"BA16","v":0},{"$f":"BB16","v":0},{"$f":"BC16","v":0},{"$f":"BD16","v":0},{"$f":"BE16","v":0},{"$f":"BF16","v":0},{"$f":"BG16","v":0},{"$f":"BH16","v":0},{"$f":"BI16","v":0},{"$f":"BJ16","v":0},{"$f":"BK16","v":0},{"$f":"BL16","v":0},{"$f":"BM16","v":0},{"$f":"BN16","v":0},{"$f":"BO16","v":0},{"$f":"BP16","v":0},{"$f":"BQ16","v":0},{"$f":"BR16","v":0},{"$f":"BS16","v":0},{"$f":"BT16","v":0},{"$f":"BU16","v":0},{"$f":"BV16","v":0},{"$f":"BW16","v":0},{"$f":"BX16","v":0},{"$f":"BY16","v":0},{"$f":"BZ16","v":0},{"$f":"CA16","v":0},{"$f":"CB16","v":0},{"$f":"CC16","v":0},{"$f":"CD16","v":0},{"$f":"CE16","v":0},{"$f":"CF16","v":0},{"$f":"CG16","v":0},{"$f":"CH16","v":0},{"$f":"CI16","v":0},{"$f":"CJ16","v":0},{"$f":"CK16","v":0},{"$f":"CL16","v":0},{"$f":"CM16","v":0},{"$f":"CN16","v":0},{"$f":"CO16","v":0},{"$f":"CP16","v":0},{"$f":"CQ16","v":0},{"$f":"CR16","v":0},{"$f":"CS16","v":0},{"$f":"CT16","v":0},{"$f":"CU16","v":0},{"$f":"CV16","v":0},{"$f":"CW16","v":0},{"$f":"CX16","v":0},{"$f":"CY16","v":0},{"$f":"CZ16","v":0},{"$f":"DA16","v":0},{"$f":"DB16","v":0},{"$f":"DC16","v":0},{"$f":"DD16","v":0},{"$f":"DE16","v":0},{"$f":"DF16","v":0},{"$f":"DG16","v":0},{"$f":"DH16","v":0},{"$f":"DI16","v":0},{"$f":"DJ16","v":0},{"$f":"DK16","v":0},{"$f":"DL16","v":0},{"$f":"DM16","v":0},{"$f":"DN16","v":0},{"$f":"DO16","v":0},{"$f":"DP16","v":0},{"$f":"DQ16","v":0},{"$f":"DR16","v":0},{"$f":"DS16","v":0},{"$f":"DT16","v":0},{"$f":"DU16","v":0},{"$f":"DV16","v":0},{"$f":"DW16","v":0},{"$f":"DX16","v":0},{"$f":"DY16","v":0},{"$f":"DZ16","v":0},{"$f":"EA16","v":0},{"$f":"EB16","v":0},{"$f":"EC16","v":0},{"$f":"ED16","v":0},{"$f":"EE16","v":0},{"$f":"EF16","v":0},{"$f":"EG16","v":0},{"$f":"EH16","v":0},{"$f":"EI16","v":0},{"$f":"EJ16","v":0},{"$f":"EK16","v":0},{"$f":"EL16","v":0},{"$f":"EM16","v":0},{"$f":"EN16","v":0},{"$f":"EO16","v":0},{"$f":"EP16","v":0},{"$f":"EQ16","v":0},{"$f":"ER16","v":0},{"$f":"ES16","v":0},{"$f":"ET16","v":0},{"$f":"EU16","v":0},{"$f":"EV16","v":0},{"$f":"EW16","v":0},{"$f":"EX16","v":0},{"$f":"EY16","v":0},{"$f":"EZ16","v":0},{"$f":"FA16","v":0},{"$f":"FB16","v":0},{"$f":"FC16","v":0},{"$f":"FD16","v":0},{"$f":"FE16","v":0},{"$f":"FF16","v":0},{"$f":"FG16","v":0},{"$f":"FH16","v":0},{"$f":"FI16","v":0},{"$f":"FJ16","v":0},{"$f":"FK16","v":0},{"$f":"FL16","v":0},{"$f":"FM16","v":0},{"$f":"FN16","v":0},{"$f":"FO16","v":0},{"$f":"FP16","v":0},{"$f":"FQ16","v":0},{"$f":"FR16","v":0},{"$f":"FS16","v":0},{"$f":"FT16","v":0},{"$f":"FU16","v":0},{"$f":"FV16","v":0},{"$f":"FW16","v":0},{"$f":"FX16","v":0},{"$f":"FY16","v":0},{"$f":"FZ16","v":0},{"$f":"GA16","v":0},{"$f":"GB16","v":0},{"$f":"GC16","v":0},{"$f":"GD16","v":0},{"$f":"GE16","v":0},{"$f":"GF16","v":0},{"$f":"GG16","v":0},{"$f":"GH16","v":0},{"$f":"GI16","v":0},{"$f":"GJ16","v":0},{"$f":"GK16","v":0},{"$f":"GL16","v":0},{"$f":"GM16","v":0},{"$f":"GN16","v":0},{"$f":"GO16","v":0},{"$f":"GP16","v":0},{"$f":"GQ16","v":0},{"$f":"GR16","v":0},{"$f":"GS16","v":0},{"$f":"GT16","v":0},{"$f":"GU16","v":0},{"$f":"GV16","v":0},{"$f":"GW16","v":0},{"$f":"GX16","v":0},{"$f":"GY16","v":0},{"$f":"GZ16","v":0},{"$f":"HA16","v":0},{"$f":"HB16","v":0},{"$f":"HC16","v":0},{"$f":"HD16","v":0},{"$f":"HE16","v":0},{"$f":"HF16","v":0},{"$f":"HG16","v":0},{"$f":"HH16","v":0},{"$f":"HI16","v":0},{"$f":"HJ16","v":0},{"$f":"HK16","v":0},{"$f":"HL16","v":0},{"$f":"HM16","v":0},{"$f":"HN16","v":0},{"$f":"HO16","v":0},{"$f":"HP16","v":0},{"$f":"HQ16","v":0},{"$f":"HR16","v":0},{"$f":"HS16","v":0},{"$f":"HT16","v":0},{"$f":"HU16","v":0},{"$f":"HV16","v":0},{"$f":"HW16","v":0},{"$f":"HX16","v":0},{"$f":"HY16","v":0},{"$f":"HZ16","v":0},{"$f":"IA16","v":0},{"$f":"IB16","v":0},{"$f":"IC16","v":0},{"$f":"ID16","v":0},{"$f":"IE16","v":0},{"$f":"IF16","v":0},{"$f":"IG16","v":0},{"$f":"IH16","v":0},{"$f":"II16","v":0},{"$f":"IJ16","v":0},{"$f":"IK16","v":0},{"$f":"IL16","v":0},{"$f":"IM16","v":0},{"$f":"IN16","v":0},{"$f":"IO16","v":0},{"$f":"IP16","v":0},{"$f":"IQ16","v":0},{"$f":"IR16","v":0},{"$f":"IS16","v":0},{"$f":"IT16","v":0},{"$f":"IU16","v":0},{"$f":"IV16","v":0},{"$f":"IW16","v":0},{"$f":"IX16","v":0},{"$f":"IY16","v":0},{"$f":"IZ16","v":0},{"$f":"JA16","v":0},{"$f":"JB16","v":0},{"$f":"JC16","v":0},{"$f":"JD16","v":0},{"$f":"JE16","v":0},{"$f":"JF16","v":0},{"$f":"JG16","v":0},{"$f":"JH16","v":0},{"$f":"JI16","v":0},{"$f":"JJ16","v":0},{"$f":"JK16","v":0},{"$f":"JL16","v":0},{"$f":"JM16","v":0},{"$f":"JN16","v":0},{"$f":"JO16","v":0},{"$f":"JP16","v":0},{"$f":"JQ16","v":0},{"$f":"JR16","v":0},{"$f":"JS16","v":0},{"$f":"JT16","v":0},{"$f":"JU16","v":0},{"$f":"JV16","v":0},{"$f":"JW16","v":0},{"$f":"JX16","v":0},{"$f":"JY16","v":0},{"$f":"JZ16","v":0},{"$f":"KA16","v":0},{"$f":"KB16","v":0},{"$f":"KC16","v":0},{"$f":"KD16","v":0},{"$f":"KE16","v":0},{"$f":"KF16","v":0},{"$f":"KG16","v":0},{"$f":"KH16","v":0},{"$f":"KI16","v":0},{"$f":"KJ16","v":0},{"$f":"KK16","v":0},{"$f":"KL16","v":0},{"$f":"KM16","v":0},{"$f":"KN16","v":0},{"$f":"KO16","v":0},{"$f":"KP16","v":0},{"$f":"KQ16","v":0},{"$f":"KR16","v":0},{"$f":"KS16","v":0},{"$f":"KT16","v":0},{"$f":"KU16","v":0},{"$f":"KV16","v":0},{"$f":"KW16","v":0},{"$f":"KX16","v":0},{"$f":"KY16","v":0},{"$f":"KZ16","v":0},{"$f":"LA16","v":0},{"$f":"LB16","v":0},{"$f":"LC16","v":0},{"$f":"LD16","v":0},{"$f":"LE16","v":0},{"$f":"LF16","v":0},{"$f":"LG16","v":0},{"$f":"LH16","v":0},{"$f":"LI16","v":0},{"$f":"LJ16","v":0},{"$f":"LK16","v":0},{"$f":"LL16","v":0},{"$f":"LM16","v":0},{"$f":"LN16","v":0},{"$f":"LO16","v":0},{"$f":"LP16","v":0},{"$f":"LQ16","v":0},{"$f":"LR16","v":0},{"$f":"LS16","v":0},{"$f":"LT16","v":0},{"$f":"LU16","v":0},{"$f":"LV16","v":0},{"$f":"LW16","v":0},{"$f":"LX16","v":0},{"$f":"LY16","v":0},{"$f":"LZ16","v":0},{"$f":"MA16","v":0},{"$f":"MB16","v":0},{"$f":"MC16","v":0},{"$f":"MD16","v":0},{"$f":"ME16","v":0},{"$f":"MF16","v":0},{"$f":"MG16","v":0},{"$f":"MH16","v":0},{"$f":"MI16","v":0},{"$f":"MJ16","v":0},{"$f":"MK16","v":0},{"$f":"ML16","v":0},{"$f":"MM16","v":0},{"$f":"MN16","v":0},{"$f":"MO16","v":0},{"$f":"MP16","v":0},{"$f":"MQ16","v":0},{"$f":"MR16","v":0},{"$f":"MS16","v":0},{"$f":"MT16","v":0},{"$f":"MU16","v":0},{"$f":"MV16","v":0},{"$f":"MW16","v":0},{"$f":"MX16","v":0},{"$f":"MY16","v":0},{"$f":"MZ16","v":0},{"$f":"NA16","v":0},{"$f":"NB16","v":0},{"$f":"NC16","v":0},{"$f":"ND16","v":0},{"$f":"NE16","v":0},{"$f":"NF16","v":0},{"$f":"NG16","v":0},{"$f":"NH16","v":0},{"$f":"NI16","v":0},{"$f":"NJ16","v":0},{"$f":"NK16","v":0},{"$f":"NL16","v":0},{"$f":"NM16","v":0},{"$f":"NN16","v":0},{"$f":"NO16","v":0},{"$f":"NP16","v":0},{"$f":"NQ16","v":0},{"$f":"NR16","v":0},{"$f":"NS16","v":0},{"$f":"NT16","v":0},{"$f":"NU16","v":0},{"$f":"NV16","v":0},{"$f":"NW16","v":0},{"$f":"NX16","v":0},{"$f":"NY16","v":0},{"$f":"NZ16","v":0},{"$f":"OA16","v":0},{"$f":"OB16","v":0},{"$f":"OC16","v":0},{"$f":"OD16","v":0},{"$f":"OE16","v":0},{"$f":"OF16","v":0},{"$f":"OG16","v":0},{"$f":"OH16","v":0},{"$f":"OI16","v":0},{"$f":"OJ16","v":0},{"$f":"OK16","v":0},{"$f":"OL16","v":0},{"$f":"OM16","v":0},{"$f":"ON16","v":0},{"$f":"OO16","v":0},{"$f":"OP16","v":0},{"$f":"OQ16","v":0},{"$f":"OR16","v":0},{"$f":"OS16","v":0},{"$f":"OT16","v":0},{"$f":"OU16","v":0},{"$f":"OV16","v":0},{"$f":"OW16","v":0},{"$f":"OX16","v":0},{"$f":"OY16","v":0},{"$f":"OZ16","v":0},{"$f":"PA16","v":0},{"$f":"PB16","v":0},{"$f":"PC16","v":0},{"$f":"PD16","v":0},{"$f":"PE16","v":0},{"$f":"PF16","v":0},{"$f":"PG16","v":0},{"$f":"PH16","v":0},{"$f":"PI16","v":0},{"$f":"PJ16","v":0},{"$f":"PK16","v":0},{"$f":"PL16","v":0},{"$f":"PM16","v":0},{"$f":"PN16","v":0},{"$f":"PO16","v":0},{"$f":"PP16","v":0},{"$f":"PQ16","v":0},{"$f":"PR16","v":0},{"$f":"PS16","v":0},{"$f":"PT16","v":0},{"$f":"PU16","v":0},{"$f":"PV16","v":0},{"$f":"PW16","v":0},{"$f":"PX16","v":0},{"$f":"PY16","v":0},{"$f":"PZ16","v":0},{"$f":"QA16","v":0},{"$f":"QB16","v":0},{"$f":"QC16","v":0},{"$f":"QD16","v":0},{"$f":"QE16","v":0},{"$f":"QF16","v":0},{"$f":"QG16","v":0},{"$f":"QH16","v":0},{"$f":"QI16","v":0},{"$f":"QJ16","v":0},{"$f":"QK16","v":0},{"$f":"QL16","v":0},{"$f":"QM16","v":0},{"$f":"QN16","v":0},{"$f":"QO16","v":0},{"$f":"QP16","v":0},{"$f":"QQ16","v":0},{"$f":"QR16","v":0},{"$f":"QS16","v":0},{"$f":"QT16","v":0},{"$f":"QU16","v":0},{"$f":"QV16","v":0},{"$f":"QW16","v":0},{"$f":"QX16","v":0},{"$f":"QY16","v":0},{"$f":"QZ16","v":0},{"$f":"RA16","v":0},{"$f":"RB16","v":0},{"$f":"RC16","v":0},{"$f":"RD16","v":0},{"$f":"RE16","v":0},{"$f":"RF16","v":0},{"$f":"RG16","v":0},{"$f":"RH16","v":0},{"$f":"RI16","v":0},{"$f":"RJ16","v":0},{"$f":"RK16","v":0},{"$f":"RL16","v":0},{"$f":"RM16","v":0},{"$f":"RN16","v":0},{"$f":"RO16","v":0},{"$f":"RP16","v":0},{"$f":"RQ16","v":0},{"$f":"RR16","v":0},{"$f":"RS16","v":0},{"$f":"RT16","v":0},{"$f":"RU16","v":0},{"$f":"RV16","v":0},{"$f":"RW16","v":0},{"$f":"RX16","v":0},{"$f":"RY16","v":0},{"$f":"RZ16","v":0},{"$f":"SA16","v":0},{"$f":"SB16","v":0},{"$f":"SC16","v":0},{"$f":"SD16","v":0},{"$f":"SE16","v":0},{"$f":"SF16","v":0},{"$f":"SG16","v":0},{"$f":"SH16","v":0},{"$f":"SI16","v":0},{"$f":"SJ16","v":0},{"$f":"SK16","v":0},{"$f":"SL16","v":0},{"$f":"SM16","v":0},{"$f":"SN16","v":0},{"$f":"SO16","v":0},{"$f":"SP16","v":0},{"$f":"SQ16","v":0},{"$f":"SR16","v":0},{"$f":"SS16","v":0},{"$f":"ST16","v":0},{"$f":"SU16","v":0},{"$f":"SV16","v":0},{"$f":"SW16","v":0},{"$f":"SX16","v":0},{"$f":"SY16","v":0},{"$f":"SZ16","v":0},{"$f":"TA16","v":0},{"$f":"TB16","v":0},{"$f":"TC16","v":0},{"$f":"TD16","v":0},{"$f":"TE16","v":0},{"$f":"TF16","v":0},{"$f":"TG16","v":0},{"$f":"TH16","v":0},{"$f":"TI16","v":0},{"$f":"TJ16","v":0},{"$f":"TK16","v":0},{"$f":"TL16","v":0},{"$f":"TM16","v":0},{"$f":"TN16","v":0},{"$f":"TO16","v":0},{"$f":"TP16","v":0},{"$f":"TQ16","v":0},{"$f":"TR16","v":0},{"$f":"TS16","v":0},{"$f":"TT16","v":0},{"$f":"TU16","v":0},{"$f":"TV16","v":0},{"$f":"TW16","v":0},{"$f":"TX16","v":0},{"$f":"TY16","v":0},{"$f":"TZ16","v":0},{"$f":"UA16","v":0},{"$f":"UB16","v":0},{"$f":"UC16","v":0},{"$f":"UD16","v":0},{"$f":"UE16","v":0},{"$f":"UF16","v":0},{"$f":"UG16","v":0},{"$f":"UH16","v":0},{"$f":"UI16","v":0},{"$f":"UJ16","v":0},{"$f":"UK16","v":0},{"$f":"UL16","v":0},{"$f":"UM16","v":0},{"$f":"UN16","v":0},{"$f":"UO16","v":0}]
[null,null,null,"Closing Balance",null,null,null,null,"EUR",null,{"$f":"SUM(K256:K258)","v":24691.358024691355},{"$f":"SUM(L256:L258)","v":65990.769965171916},108921.15766617467,150722.53852302235,194174.71864626466,237894.48457237639,277626.48418143525,321860.16005678917,364930.55450190703,409701.86346458155,453295.7520276854,498611.22867673577,544205.7656207392,588601.23246492469,634749.94292440161,679685.00932548894,726394.62893821159,773391.89421175828,817627.82281921897,865186.91738104878,911495.27683104842,959632.42289625097,1006503.6319346505,1055225.8553632349,1072620.8519260962,1072620.8519260962,1072620.8519260962,1072620.8519260962,1072620.8519260962,1072620.8519260962,1072620.8519260962,1072620.8519260962,1072620.8519260962,1072620.8519260962,1072620.8519260962,1072620.8519260962,1072620.8519260962,1072620.8519260962,1072620.8519260962,1072620.8519260962,1072620.8519260962,1072620.8519260962,1072620.8519260962,1072620.8519260962,1072620.8519260962,1072620.8519260962,1072620.8519260962,1072620.8519260962,1072620.8519260962,1072620.8519260962,1072620.8519260962,1072620.8519260962,1072620.8519260962,1072620.8519260962,1072620.8519260962,1072620.8519260962,1072620.8519260962,1072620.8519260962,1072620.8519260962,1072620.8519260962,1072620.8519260962,1072620.8519260962,1072620.8519260962,1072620.8519260962,1072620.8519260962,{"$f":"SUM(BX256:BX258)","v":1072620.8519260962},1072620.8519260962,1072620.8519260962,1072620.8519260962,1072620.8519260962,1072620.8519260962,1072620.8519260962,1072620.8519260962,1072620.8519260962,1072620.8519260962,1072620.8519260962,1072620.8519260962,1072620.8519260962,1072620.8519260962,1072620.8519260962,1072620.8519260962,1072620.8519260962,1072620.8519260962,1072620.8519260962,1072620.8519260962,1072620.8519260962,1072620.8519260962,1072620.8519260962,1072620.8519260962,1072620.8519260962,1072620.8519260962,1072620.8519260962,1072620.8519260962,1072620.8519260962,1072620.8519260962,1072620.8519260962,1072620.8519260962,1072620.8519260962,1072620.8519260962,1072620.8519260962,1072620.8519260962,1072620.8519260962,1072620.8519260962,1072620.8519260962,1072620.8519260962,1072620.8519260962,1072620.8519260962,1072620.8519260962,1072620.8519260962,1072620.8519260962,1072620.8519260962,1072620.8519260962,1072620.8519260962,1072620.8519260962,1072620.8519260962,1072620.8519260962,1072620.8519260962,1072620.8519260962,1072620.8519260962,1072620.8519260962,1072620.8519260962,1072620.8519260962,1072620.8519260962,1072620.8519260962,1072620.8519260962,1072620.8519260962,1072620.8519260962,1072620.8519260962,1072620.8519260962,{"$f":"SUM(EJ256:EJ258)","v":1072620.8519260962},1072620.8519260962,1072620.8519260962,1072620.8519260962,1072620.8519260962,1072620.8519260962,1072620.8519260962,1072620.8519260962,1072620.8519260962,1072620.8519260962,1072620.8519260962,1072620.8519260962,1072620.8519260962,1072620.8519260962,1072620.8519260962,1072620.8519260962,1072620.8519260962,1072620.8519260962,1072620.8519260962,1072620.8519260962,1072620.8519260962,1072620.8519260962,1072620.8519260962,1072620.8519260962,1072620.8519260962,1072620.8519260962,1072620.8519260962,1072620.8519260962,1072620.8519260962,1072620.8519260962,1072620.8519260962,1072620.8519260962,1072620.8519260962,1072620.8519260962,1072620.8519260962,1072620.8519260962,1072620.8519260962,1072620.8519260962,1072620.8519260962,1072620.8519260962,1072620.8519260962,1072620.8519260962,1072620.8519260962,1072620.8519260962,1072620.8519260962,1072620.8519260962,1072620.8519260962,1072620.8519260962,1072620.8519260962,1072620.8519260962,1072620.8519260962,1072620.8519260962,1072620.8519260962,1072620.8519260962,1072620.8519260962,1072620.8519260962,1072620.8519260962,1072620.8519260962,1072620.8519260962,1072620.8519260962,1072620.8519260962,1072620.8519260962,1072620.8519260962,1072620.8519260962,{"$f":"SUM(GV256:GV258)","v":1072620.8519260962},1072620.8519260962,1072620.8519260962,1072620.8519260962,1072620.8519260962,1072620.8519260962,1072620.8519260962,1072620.8519260962,1072620.8519260962,1072620.8519260962,1072620.8519260962,1072620.8519260962,1072620.8519260962,1072620.8519260962,1072620.8519260962,1072620.8519260962,1072620.8519260962,1072620.8519260962,1072620.8519260962,1072620.8519260962,1072620.8519260962,1072620.8519260962,1072620.8519260962,1072620.8519260962,1072620.8519260962,1072620.8519260962,1072620.8519260962,1072620.8519260962,1072620.8519260962,1072620.8519260962,1072620.8519260962,1072620.8519260962,1072620.8519260962,1072620.8519260962,1072620.8519260962,1072620.8519260962,1072620.8519260962,1072620.8519260962,1072620.8519260962,1072620.8519260962,1072620.8519260962,1072620.8519260962,1072620.8519260962,1072620.8519260962,1072620.8519260962,1072620.8519260962,1072620.8519260962,1072620.8519260962,1072620.8519260962,1072620.8519260962,1072620.8519260962,1072620.8519260962,1072620.8519260962,1072620.8519260962,1072620.8519260962,1072620.8519260962,1072620.8519260962,1072620.8519260962,1072620.8519260962,1072620.8519260962,1072620.8519260962,1072620.8519260962,1072620.8519260962,1072620.8519260962,{"$f":"SUM(JH256:JH258)","v":1072620.8519260962},1072620.8519260962,1072620.8519260962,1072620.8519260962,1072620.8519260962,1072620.8519260962,1072620.8519260962,1072620.8519260962,1072620.8519260962,1072620.8519260962,1072620.8519260962,1072620.8519260962,1072620.8519260962,1072620.8519260962,1072620.8519260962,1072620.8519260962,1072620.8519260962,1072620.8519260962,1072620.8519260962,1072620.8519260962,1072620.8519260962,1072620.8519260962,1072620.8519260962,1072620.8519260962,1072620.8519260962,1072620.8519260962,1072620.8519260962,1072620.8519260962,1072620.8519260962,1072620.8519260962,1072620.8519260962,1072620.8519260962,1072620.8519260962,1072620.8519260962,1072620.8519260962,1072620.8519260962,1072620.8519260962,1072620.8519260962,1072620.8519260962,1072620.8519260962,1072620.8519260962,1072620.8519260962,1072620.8519260962,1072620.8519260962,1072620.8519260962,1072620.8519260962,1072620.8519260962,1072620.8519260962,1072620.8519260962,1072620.8519260962,1072620.8519260962,1072620.8519260962,1072620.8519260962,1072620.8519260962,1072620.8519260962,1072620.8519260962,1072620.8519260962,1072620.8519260962,1072620.8519260962,1072620.8519260962,1072620.8519260962,1072620.8519260962,1072620.8519260962,1072620.8519260962,{"$f":"SUM(LT256:LT258)","v":1072620.8519260962},1072620.8519260962,1072620.8519260962,1072620.8519260962,1072620.8519260962,1072620.8519260962,1072620.8519260962,1072620.8519260962,1072620.8519260962,1072620.8519260962,1072620.8519260962,1072620.8519260962,1072620.8519260962,1072620.8519260962,1072620.8519260962,1072620.8519260962,1072620.8519260962,1072620.8519260962,1072620.8519260962,1072620.8519260962,1072620.8519260962,1072620.8519260962,1072620.8519260962,1072620.8519260962,1072620.8519260962,1072620.8519260962,1072620.8519260962,1072620.8519260962,1072620.8519260962,1072620.8519260962,1072620.8519260962,1072620.8519260962,1072620.8519260962,1072620.8519260962,1072620.8519260962,1072620.8519260962,1072620.8519260962,1072620.8519260962,1072620.8519260962,1072620.8519260962,1072620.8519260962,1072620.8519260962,1072620.8519260962,1072620.8519260962,1072620.8519260962,1072620.8519260962,1072620.8519260962,1072620.8519260962,1072620.8519260962,1072620.8519260962,1072620.8519260962,1072620.8519260962,1072620.8519260962,1072620.8519260962,1072620.8519260962,1072620.8519260962,1072620.8519260962,1072620.8519260962,1072620.8519260962,1072620.8519260962,1072620.8519260962,1072620.8519260962,1072620.8519260962,1072620.8519260962,{"$f":"SUM(OF256:OF258)","v":1072620.8519260962},1072620.8519260962,1072620.8519260962,1072620.8519260962,1072620.8519260962,1072620.8519260962,1072620.8519260962,1072620.8519260962,1072620.8519260962,1072620.8519260962,1072620.8519260962,1072620.8519260962,1072620.8519260962,1072620.8519260962,1072620.8519260962,1072620.8519260962,1072620.8519260962,1072620.8519260962,1072620.8519260962,1072620.8519260962,1072620.8519260962,1072620.8519260962,1072620.8519260962,1072620.8519260962,1072620.8519260962,1072620.8519260962,1072620.8519260962,1072620.8519260962,1072620.8519260962,1072620.8519260962,1072620.8519260962,1072620.8519260962,1072620.8519260962,1072620.8519260962,1072620.8519260962,1072620.8519260962,1072620.8519260962,1072620.8519260962,1072620.8519260962,1072620.8519260962,1072620.8519260962,1072620.8519260962,1072620.8519260962,1072620.8519260962,1072620.8519260962,1072620.8519260962,1072620.8519260962,1072620.8519260962,1072620.8519260962,1072620.8519260962,1072620.8519260962,1072620.8519260962,1072620.8519260962,1072620.8519260962,1072620.8519260962,1072620.8519260962,1072620.8519260962,1072620.8519260962,1072620.8519260962,1072620.8519260962,1072620.8519260962,1072620.8519260962,1072620.8519260962,1072620.8519260962,{"$f":"SUM(QR256:QR258)","v":1072620.8519260962},1072620.8519260962,1072620.8519260962,1072620.8519260962,1072620.8519260962,1072620.8519260962,1072620.8519260962,1072620.8519260962,1072620.8519260962,1072620.8519260962,1072620.8519260962,1072620.8519260962,1072620.8519260962,1072620.8519260962,1072620.8519260962,1072620.8519260962,1072620.8519260962,1072620.8519260962,1072620.8519260962,1072620.8519260962,1072620.8519260962,1072620.8519260962,1072620.8519260962,1072620.8519260962,1072620.8519260962,1072620.8519260962,1072620.8519260962,1072620.8519260962,1072620.8519260962,1072620.8519260962,1072620.8519260962,1072620.8519260962,1072620.8519260962,1072620.8519260962,1072620.8519260962,1072620.8519260962,1072620.8519260962,1072620.8519260962,1072620.8519260962,1072620.8519260962,1072620.8519260962,1072620.8519260962,1072620.8519260962,1072620.8519260962,1072620.8519260962,1072620.8519260962,1072620.8519260962,1072620.8519260962,1072620.8519260962,1072620.8519260962,1072620.8519260962,1072620.8519260962,1072620.8519260962,1072620.8519260962,1072620.8519260962,1072620.8519260962,1072620.8519260962,1072620.8519260962,1072620.8519260962,1072620.8519260962,1072620.8519260962,1072620.8519260962,1072620.8519260962,1072620.8519260962,{"$f":"SUM(TD256:TD258)","v":1072620.8519260962},1072620.8519260962,1072620.8519260962,1072620.8519260962,1072620.8519260962,1072620.8519260962,1072620.8519260962,1072620.8519260962,1072620.8519260962,1072620.8519260962,1072620.8519260962,1072620.8519260962,1072620.8519260962,1072620.8519260962,1072620.8519260962,1072620.8519260962,1072620.8519260962,1072620.8519260962,1072620.8519260962,1072620.8519260962,1072620.8519260962,1072620.8519260962,1072620.8519260962,1072620.8519260962,1072620.8519260962,1072620.8519260962,1072620.8519260962,1072620.8519260962,1072620.8519260962,1072620.8519260962,1072620.8519260962,1072620.8519260962,1072620.8519260962,1072620.8519260962,1072620.8519260962,1072620.8519260962,1072620.8519260962,1072620.8519260962]
[]
[null,null,null,"Cash in Final Construction Period","Period",{"$f":"H6","v":551},{"$f":"LOOKUP(F261,3:3,259:259)","v":1072620.8519260962}]
[]
[null,null,"Cash After COD"]
[null,null,null,"Opening Balance","EUR",null,null,null,"EUR",null,{"$f":"J267","v":0},0,0,0,0,0,0,0,0,0,0,0,0,0,0,0,0,0,0,0,0,0,0,0,0,80000,160476.76135382368,241465.00412799406,322904.01890635787,404892.51593697286,487385.91186430072,570096.85748134251,653607.60941346188,737502.79502262967,822044.46075642796,906943.44863159664,992528.55828940694,1078640.7153868738,1165068.8929838387,1252243.5823605978,1339706.3491811384,1427956.4852626447,1516750.0804628818,1605186.5717169079,1695071.5794732461,1785173.3872364676,1876166.783948207,1967347.8316471342,2059463.0890993855,2152145.6077351258,2244971.3559047445,2338796.2655176749,2432734.3614409994,2527715.5470898636,2623281.6427880567,2717872.9013752821,2814610.0179100288,2911383.7339428351,3009312.5225950601,3107246.5714994473,3206381.5163098034,3306126.9507141048,3405829.8702257974,3506803.540998498,{"$f":"BV267","v":3607702.3960459996},3709919.2316437024,3812765.5356349959,3914730.3683428573,4018837.9336171243,4122788.2662924901,4228177.086949301,4333374.9798515541,4440060.6287609758,4547403.2657648288,4654503.5924819326,4763166.8051727638,4871552.9783542911,4981552.8175162505,5092230.054111301,5200554.1365480646,5312580.0199455619,5424240.4304781361,5537643.8115381766,5650645.4935454549,5765443.1149037434,5880947.6792414533,5995995.2864579707,6112919.6296825772,6229349.6776633626,6347711.0563128134,6466801.3241559668,6582771.06862179,6703308.8753902121,6823257.3580718292,6945276.1196889849,7066666.6102577625,7190184.3268177379,7314462.6861638874,7438053.3503232412,7563858.1286309492,7688935.0691501535,7816284.8191017965,7944418.8101430554,8068607.3819278274,8198295.2175716897,8327153.0966588864,8458433.1001170799,8588841.2753175665,8721732.7984092794,8855442.6897577792,8988216.8503262419,9123567.7950990312,9257939.8517702017,9394951.7959609497,9532807.4826517273,9667724.7125825267,9807260.180579748,9945706.7135921773,10086954.041309956,10227067.414618609,10370047.408657538,10513907.897447033,10656565.709486587,10802190.625960646,10946566.463799328,11093977.253489768,11242295.823512498,11384827.898909714,{"$f":"EH267","v":11534937.57592061},11683680.231607705,11835630.291337203,11986164.930350386,12139977.741516961,12294737.757736329,12448008.455464898,12604665.376411865,12759783.093028773,12918359.974412022,13077913.398790378,13230655.575257666,13392132.168251447,13551942.806540463,13715397.940115884,13877135.086242886,14042592.808342157,14209069.446806114,14373748.636631539,14542264.588150362,14708929.460059222,14879509.511227107,15051140.022920005,15214857.711682372,15388553.353760101,15560261.697889185,15736084.395564614,15909863.856818527,16087839.463142421,16266911.073058639,16443854.004880151,16625118.011972157,16804195.684107989,16987678.735613186,17172291.706480559,17351218.984074254,17538070.696679875,17722589.125789933,17911727.797927868,18098473.042856134,18289926.471110992,18482558.901642982,18672706.024193898,18867695.675324328,19060138.026995588,19257513.549289055,19456104.543106616,19644323.595097858,19845296.629963122,20043565.011067294,20246996.641439799,20447658.960560255,20653579.069154177,20860767.268265739,21065087.363823477,21274809.699935857,21481597.288371891,21693884.56235959,21907479.136935841,22109333.263411388,22325486.240670927,22538535.353731856,22757331.429349311,22972954.131120197,{"$f":"GT267","v":23194425.430328261},23417260.586890385,23636816.147643484,23862375.620337483,24084583.851664998,24312900.752875578,24542623.667803902,24759135.036810122,24991605.937197305,25220543.835707884,25455856.168758605,25687560.774380583,25925749.075958867,26165404.180991687,26401337.350000106,26643921.207279272,26882706.106603697,27128254.313308984,27375314.646997266,27613020.176206056,27863065.779269986,28109116.191302523,28362216.836716995,28611241.947923422,28867434.767846644,29125205.266063895,29378777.419726912,29639696.851637632,29896335.126611512,30160441.765565354,30426174.817436274,30675411.767575372,30944316.090969395,31208729.266377877,31480917.848253213,31748528.910915028,32024041.669410788,32301251.081618138,32573750.934066527,32854345.547994722,33130141.576275386,33414162.536966443,33699932.54630322,33967378.843389548,34256555.651397757,34540708.174518965,34833415.64057342,35121005.970562205,35417287.007636964,35715392.592961222,36008239.07952328,36309983.846682936,36606373.809883691,36911801.990892634,37219111.049795441,37506131.777137943,37817100.818406895,38122472.470705278,38437237.041194208,38746304.405806728,39064910.637835681,39385478.900403835,39700197.328423217,40024677.7928342,{"$f":"JF267","v":40343205.537470058},40671645.754127793,41002108.560649142,41318316.228492066,41652761.340103373,41980991.676190905,42319517.654198594,42651721.53582336,42994377.98064512,43339144.561244555,43677424.926676795,44026397.8247713,44368773.887657776,44722004.228445888,45077409.820834026,45408140.101719558,45767771.033734076,46120524.839728266,46484542.756274551,46841568.175479002,47210026.397652142,47580753.647269346,47944311.953829639,48319561.056884989,48687522.29870557,49067348.215542652,49449513.163991481,49804562.027147993,50191266.861722335,50570382.565961339,50961803.451678589,51345511.181765072,51741705.439322323,52140339.527474955,52531070.763249271,52934565.895274989,53330030.336528741,53738445.59542197,54149375.943883665,54530566.45802699,54946374.819430463,55353828.670013152,55774706.818003662,56187097.127149545,56613106.681860648,57041739.674760677,57461680.887658142,57895539.542642526,58320568.990301311,58759716.822074264,59201568.999746785,59622621.326979853,60069787.415118769,60507774.329767928,60960391.338349536,61403685.8221507,61861820.00375583,62322775.452382751,62774189.087366842,63240763.057620503,63697647.455272928,64169908.23682332,64645077.27936399,65084647.149251029,{"$f":"LR267","v":65565449.307221204},66036187.711918317,66522849.61604397,66999293.664083399,67491886.535970107,67987512.877264738,68472685.610795617,68974351.877064005,69465405.694314256,69973185.29712455,70484091.891775385,70956139.620964542,71473099.412973538,71979044.558449835,72502303.570387036,73014382.275456458,73544017.070460483,74076913.445239022,74598376.064504415,75137765.358559579,75665550.142754987,76211511.273521692,76760834.52437298,77267794.850571871,77823622.872604296,78367414.070106879,78930013.731464997,79480398.484014183,80049852.089803442,80622812.48627317,81183285.50164853,81763225.770903632,82330495.098547727,82917500.076643094,83508119.929709211,84069199.048490793,84666911.256720021,85251485.147155315,85856478.071197554,86448141.205194518,87060503.337666363,87676636.498712599,88279146.897660509,88902784.669855997,89512602.319579691,90143835.916850969,90778956.756337598,91363888.903425887,92006523.033546731,92634837.464572772,93285298.30880037,93921233.622719735,94579616.309943691,95242053.42802605,95889650.057192221,96560154.582503617,97215606.457805842,97894276.44471252,98577125.795066893,99205433.041151434,99896356.713428214,100571690.74178755,101271028.0578151,101954554.46331461,{"$f":"OD267","v":102662407.68575087},103374619.98688704,104070682.7840865,104791567.47914582,105496074.59890412,106225737.09549353,106959892.97594585,107634826.98204641,108377660.2740242,109103538.7744803,109855416.63966586,110590101.85419075,111351134.223801,112116853.15820625,112865015.44193323,113640057.11043499,114397296.95389214,115181774.66858162,115971083.32842788,116719177.24095695,117517953.48333867,118298303.71585499,119106804.48355211,119896623.50049201,120714966.98912054,121538349.97401385,122342659.82745269,123176066.41746166,123990136.26975998,124833688.29563138,125682435.056162,126461507.88153638,127320279.02771544,128159046.38519622,129028271.25779627,129877217.42387623,130757023.08150358,131642246.72972652,132506770.92686722,133402769.81538174,134277785.87964436,135184690.97485986,136097180.94354641,136934182.83299246,137857446.46555835,138759010.25070331,139693511.47614211,140606017.32178897,141551892.72612098,142503592.98961461,143432845.56359544,144396129.04969719,145336660.2243551,146311667.72000179,147292679.47510764,148191953.14331445,149184544.01098022,150153611.82563326,151158282.91601685,152139113.26107565,153156011.40184417,154179171.77168065,155178005.15499666,156213617.3010225,{"$f":"QP267","v":157224574.99689913},158272790.26278502,159327460.61384055,160325324.82170838,161392635.02435037,162434457.16399264,163514755.75685045,164569224.71091026,165662669.55986756,166762848.0253424,167836674.04024309,168950240.38942534,170037102.20613658,171164219.16050729,172298277.08986032,173336637.28807357,174484073.33210769,175603914.11988878,176765312.43439236,177898748.30520844,179074278.59297988,180257047.99314931,181411292.92111775,182608454.04693913,183776712.2190775,184988439.99311242,186207629.78972837,187323356.80922163,188556925.41465911,189760633.60257816,191009211.36672106,192227533.99427095,193491303.34419936,194762855.19744945,196003547.72893071,197290570.40386996,198546326.89689991,199849008.43183768,201159712.09784967,202358605.82571945,203684764.01280764,204978626.81085768,206320919.5259915,207630492.53743348,208989115.88586429,210356105.86442634,211689726.63713887,213073347.42902416,214423161.64882424,215823615.39132604,217232693.36253178,218564141.87773439,{"$f":"SP267","v":219990096.47004572},221381131.1728065,222824433.25700563,224232359.2378132,225693219.66197997,226221560.51595861,226221560.51595861,226221560.51595861,226221560.51595861,226221560.51595861,226221560.51595861,226221560.51595861,226221560.51595861,226221560.51595861,226221560.51595861,226221560.51595861,226221560.51595861,226221560.51595861,226221560.51595861,226221560.51595861,226221560.51595861,226221560.51595861,226221560.51595861,226221560.51595861,226221560.51595861,226221560.51595861,226221560.51595861,226221560.51595861,226221560.51595861,226221560.51595861,226221560.51595861,226221560.51595861,226221560.51595861,226221560.51595861,226221560.51595861,226221560.51595861,226221560.51595861,226221560.51595861,226221560.51595861,226221560.51595861,226221560.51595861,226221560.51595861,226221560.51595861,226221560.51595861,226221560.51595861,226221560.51595861,226221560.51595861,226221560.51595861,226221560.51595861,226221560.51595861,226221560.51595861]
[null,null,null,"Reinvestment income","EUR",{"$f":"F257","v":7.255711853504182E-2},null,null,"EUR",null,{"$f":"$F$265*(K11/365.25)*K264","v":0},{"$f":"$F$265*(L11/365.25)*L264","v":0},{"$f":"$F$265*(M11/365.25)*M264","v":0},{"$f":"$F$265*(N11/365.25)*N264","v":0},{"$f":"$F$265*(O11/365.25)*O264","v":0},{"$f":"$F$265*(P11/365.25)*P264","v":0},{"$f":"$F$265*(Q11/365.25)*Q264","v":0},{"$f":"$F$265*(R11/365.25)*R264","v":0},{"$f":"$F$265*(S11/365.25)*S264","v":0},{"$f":"$F$265*(T11/365.25)*T264","v":0},{"$f":"$F$265*(U11/365.25)*U264","v":0},{"$f":"$F$265*(V11/365.25)*V264","v":0},{"$f":"$F$265*(W11/365.25)*W264","v":0},{"$f":"$F$265*(X11/365.25)*X264","v":0},{"$f":"$F$265*(Y11/365.25)*Y264","v":0},{"$f":"$F$265*(Z11/365.25)*Z264","v":0},{"$f":"$F$265*(AA11/365.25)*AA264","v":0},{"$f":"$F$265*(AB11/365.25)*AB264","v":0},{"$f":"$F$265*(AC11/365.25)*AC264","v":0},{"$f":"$F$265*(AD11/365.25)*AD264","v":0},{"$f":"$F$265*(AE11/365.25)*AE264","v":0},{"$f":"$F$265*(AF11/365.25)*AF264","v":0},{"$f":"$F$265*(AG11/365.25)*AG264","v":0},{"$f":"$F$265*(AH11/365.25)*AH264","v":0},{"$f":"$F$265*(AI11/365.25)*AI264","v":0},{"$f":"$F$265*(AJ11/365.25)*AJ264","v":476.76135382368341},{"$f":"$F$265*(AK11/365.25)*AK264","v":988.24277417040128},{"$f":"$F$265*(AL11/365.25)*AL264","v":1439.0147783637969},{"$f":"$F$265*(AM11/365.25)*AM264","v":1988.4970306150028},{"$f":"$F$265*(AN11/365.25)*AN264","v":2493.3959273278515},{"$f":"$F$265*(AO11/365.25)*AO264","v":2710.9456170418348},{"$f":"$F$265*(AP11/365.25)*AP264","v":3510.7519321193345},{"$f":"$F$265*(AQ11/365.25)*AQ264","v":3895.1856091677919},{"$f":"$F$265*(AR11/365.25)*AR264","v":4541.6657337983006},{"$f":"$F$265*(AS11/365.25)*AS264","v":4898.9878751686792},{"$f":"$F$265*(AT11/365.25)*AT264","v":5585.1096578103034},{"$f":"$F$265*(AU11/365.25)*AU264","v":6112.1570974668821},{"$f":"$F$265*(AV11/365.25)*AV264","v":6428.1775969649043},{"$f":"$F$265*(AW11/365.25)*AW264","v":7174.68937675912},{"$f":"$F$265*(AX11/365.25)*AX264","v":7462.7668205407226},{"$f":"$F$265*(AY11/365.25)*AY264","v":8250.1360815063763},{"$f":"$F$265*(AZ11/365.25)*AZ264","v":8793.5952002370595},{"$f":"$F$265*(BA11/365.25)*BA264","v":8436.491254026083},{"$f":"$F$265*(BB11/365.25)*BB264","v":9885.0077563382729},{"$f":"$F$265*(BC11/365.25)*BC264","v":10101.807763221426},{"$f":"$F$265*(BD11/365.25)*BD264","v":10993.396711739557},{"$f":"$F$265*(BE11/365.25)*BE264","v":11181.047698927166},{"$f":"$F$265*(BF11/365.25)*BF264","v":12115.257452251435},{"$f":"$F$265*(BG11/365.25)*BG264","v":12682.518635740322},{"$f":"$F$265*(BH11/365.25)*BH264","v":12825.748169618655},{"$f":"$F$265*(BI11/365.25)*BI264","v":13824.90961293026},{"$f":"$F$265*(BJ11/365.25)*BJ264","v":13938.09592332477},{"$f":"$F$265*(BK11/365.25)*BK264","v":14981.18564886423},{"$f":"$F$265*(BL11/365.25)*BL264","v":15566.095698193256},{"$f":"$F$265*(BM11/365.25)*BM264","v":14591.258587225251},{"$f":"$F$265*(BN11/365.25)*BN264","v":16737.116534746601},{"$f":"$F$265*(BO11/365.25)*BO264","v":16773.716032806089},{"$f":"$F$265*(BP11/365.25)*BP264","v":17928.788652224972},{"$f":"$F$265*(BQ11/365.25)*BQ264","v":17934.048904387309},{"$f":"$F$265*(BR11/365.25)*BR264","v":19134.944810355973},{"$f":"$F$265*(BS11/365.25)*BS264","v":19745.434404301664},{"$f":"$F$265*(BT11/365.25)*BT264","v":19702.919511692784},{"$f":"$F$265*(BU11/365.25)*BU264","v":20973.67077270072},{"$f":"$F$265*(BV11/365.25)*BV264","v":20898.855047501635},{"$f":"$F$265*(BW11/365.25)*BW264","v":22216.835597702899},{"$f":"$F$265*(BX11/365.25)*BX264","v":22846.303991293375},{"$f":"$F$265*(BY11/365.25)*BY264","v":21964.832707861267},{"$f":"$F$265*(BZ11/365.25)*BZ264","v":24107.565274266937},{"$f":"$F$265*(CA11/365.25)*CA264","v":23950.332675365931},{"$f":"$F$265*(CB11/365.25)*CB264","v":25388.820656810887},{"$f":"$F$265*(CC11/365.25)*CC264","v":25197.892902252832},{"$f":"$F$265*(CD11/365.25)*CD264","v":26685.648909421176},{"$f":"$F$265*(CE11/365.25)*CE264","v":27342.637003852855},{"$f":"$F$265*(CF11/365.25)*CF264","v":27100.326717103486},{"$f":"$F$265*(CG11/365.25)*CG264","v":28663.21269083142},{"$f":"$F$265*(CH11/365.25)*CH264","v":28386.173181527447},{"$f":"$F$265*(CI11/365.25)*CI264","v":29999.839161959859},{"$f":"$F$265*(CJ11/365.25)*CJ264","v":30677.236595050083},{"$f":"$F$265*(CK11/365.25)*CK264","v":28324.082436763776},{"$f":"$F$265*(CL11/365.25)*CL264","v":32025.883397497659},{"$f":"$F$265*(CM11/365.25)*CM264","v":31660.410532573715},{"$f":"$F$265*(CN11/365.25)*CN264","v":33403.381060040578},{"$f":"$F$265*(CO11/365.25)*CO264","v":33001.682007278541},{"$f":"$F$265*(CP11/365.25)*CP264","v":34797.621358288845},{"$f":"$F$265*(CQ11/365.25)*CQ264","v":35504.564337709679},{"$f":"$F$265*(CR11/365.25)*CR264","v":35047.60721651755},{"$f":"$F$265*(CS11/365.25)*CS264","v":36924.343224606637},{"$f":"$F$265*(CT11/365.25)*CT264","v":36430.047980785435},{"$f":"$F$265*(CU11/365.25)*CU264","v":38361.378649450511},{"$f":"$F$265*(CV11/365.25)*CV264","v":39090.267843152949},{"$f":"$F$265*(CW11/365.25)*CW264","v":35969.744465822849},{"$f":"$F$265*(CX11/365.25)*CX264","v":40537.806768421869},{"$f":"$F$265*(CY11/365.25)*CY264","v":39948.482681616879},{"$f":"$F$265*(CZ11/365.25)*CZ264","v":42018.761617155738},{"$f":"$F$265*(DA11/365.25)*DA264","v":41390.490568777735},{"$f":"$F$265*(DB11/365.25)*DB264","v":43517.716559975182},{"$f":"$F$265*(DC11/365.25)*DC264","v":44278.35934614962},{"$f":"$F$265*(DD11/365.25)*DD264","v":43590.664159353888},{"$f":"$F$265*(DE11/365.25)*DE264","v":45804.778307708199},{"$f":"$F$265*(DF11/365.25)*DF264","v":45076.940519204545},{"$f":"$F$265*(DG11/365.25)*DG264","v":47349.749951642982},{"$f":"$F$265*(DH11/365.25)*DH264","v":48133.991041258661},{"$f":"$F$265*(DI11/365.25)*DI264","v":44188.571784771615},{"$f":"$F$265*(DJ11/365.25)*DJ264","v":49687.835643862491},{"$f":"$F$265*(DK11/365.25)*DK264","v":48857.87908719635},{"$f":"$F$265*(DL11/365.25)*DL264","v":51280.003458193845},{"$f":"$F$265*(DM11/365.25)*DM264","v":50408.17520048593},{"$f":"$F$265*(DN11/365.25)*DN264","v":52891.523091712988},{"$f":"$F$265*(DO11/365.25)*DO264","v":53709.891348499565},{"$f":"$F$265*(DP11/365.25)*DP264","v":52774.160568461994},{"$f":"$F$265*(DQ11/365.25)*DQ264","v":55350.944772789109},{"$f":"$F$265*(DR11/365.25)*DR264","v":54372.056671169652},{"$f":"$F$265*(DS11/365.25)*DS264","v":57011.944190747483},{"$f":"$F$265*(DT11/365.25)*DT264","v":57855.686690778435},{"$f":"$F$265*(DU11/365.25)*DU264","v":54917.229930799062},{"$f":"$F$265*(DV11/365.25)*DV264","v":59535.467997221378},{"$f":"$F$265*(DW11/365.25)*DW264","v":58446.533012428779},{"$f":"$F$265*(DX11/365.25)*DX264","v":61247.327717779423},{"$f":"$F$265*(DY11/365.25)*DY264","v":60113.373308652619},{"$f":"$F$265*(DZ11/365.25)*DZ264","v":62979.994038928759},{"$f":"$F$265*(EA11/365.25)*EA264","v":63860.488789494906},{"$f":"$F$265*(EB11/365.25)*EB264","v":62657.812039554548},{"$f":"$F$265*(EC11/365.25)*EC264","v":65624.916474059108},{"$f":"$F$265*(ED11/365.25)*ED264","v":64375.837838681247},{"$f":"$F$265*(EE11/365.25)*EE264","v":67410.78969044119},{"$f":"$F$265*(EF11/365.25)*EF264","v":68318.570022729531},{"$f":"$F$265*(EG11/365.25)*EG264","v":62532.075397215194},{"$f":"$F$265*(EH11/365.25)*EH264","v":70109.677010895393},{"$f":"$F$265*(EI11/365.25)*EI264","v":68742.655687094841},{"$f":"$F$265*(EJ11/365.25)*EJ264","v":71950.059729497167},{"$f":"$F$265*(EK11/365.25)*EK264","v":70534.639013181513},{"$f":"$F$265*(EL11/365.25)*EL264","v":73812.811166575833},{"$f":"$F$265*(EM11/365.25)*EM264","v":74760.016219368859},{"$f":"$F$265*(EN11/365.25)*EN264","v":73270.697728569125},{"$f":"$F$265*(EO11/365.25)*EO264","v":76656.920946966333},{"$f":"$F$265*(EP11/365.25)*EP264","v":75117.716616907855},{"$f":"$F$265*(EQ11/365.25)*EQ264","v":78576.881383248867},{"$f":"$F$265*(ER11/365.25)*ER264","v":79553.424378355485},{"$f":"$F$265*(ES11/365.25)*ES264","v":72742.176467288868},{"$f":"$F$265*(ET11/365.25)*ET264","v":81476.592993781669},{"$f":"$F$265*(EU11/365.25)*EU264","v":79810.638289015755},{"$f":"$F$265*(EV11/365.25)*EV264","v":83455.133575420055},{"$f":"$F$265*(EW11/365.25)*EW264","v":81737.14612700259},{"$f":"$F$265*(EX11/365.25)*EX264","v":85457.722099270904},{"$f":"$F$265*(EY11/365.25)*EY264","v":86476.638463957395},{"$f":"$F$265*(EZ11/365.25)*EZ264","v":84679.189825425245},{"$f":"$F$265*(FA11/365.25)*FA264","v":88515.951518822942},{"$f":"$F$265*(FB11/365.25)*FB264","v":86664.871908859699},{"$f":"$F$265*(FC11/365.25)*FC264","v":90580.05116788407},{"$f":"$F$265*(FD11/365.25)*FD264","v":91630.511692898042},{"$f":"$F$265*(FE11/365.25)*FE264","v":83717.688762366932},{"$f":"$F$265*(FF11/365.25)*FF264","v":93695.642077728466},{"$f":"$F$265*(FG11/365.25)*FG264","v":91708.344129083111},{"$f":"$F$265*(FH11/365.25)*FH264","v":95822.697675429197},{"$f":"$F$265*(FI11/365.25)*FI264","v":93779.461253914051},{"$f":"$F$265*(FJ11/365.25)*FJ264","v":97975.606323894172},{"$f":"$F$265*(FK11/365.25)*FK264","v":99071.609916217378},{"$f":"$F$265*(FL11/365.25)*FL264","v":96942.931821511287},{"$f":"$F$265*(FM11/365.25)*FM264","v":101264.00709200643},{"$f":"$F$265*(FN11/365.25)*FN264","v":99077.672135829373},{"$f":"$F$265*(FO11/365.25)*FO264","v":103483.05150519838},{"$f":"$F$265*(FP11/365.25)*FP264","v":104612.9708673729},{"$f":"$F$265*(FQ11/365.25)*FQ264","v":98927.27759369566},{"$f":"$F$265*(FR11/365.25)*FR264","v":106851.71260562149},{"$f":"$F$265*(FS11/365.25)*FS264","v":104518.4291100571},{"$f":"$F$265*(FT11/365.25)*FT264","v":109138.67213793643},{"$f":"$F$265*(FU11/365.25)*FU264","v":106745.24492826742},{"$f":"$F$265*(FV11/365.25)*FV264","v":111453.4282548581},{"$f":"$F$265*(FW11/365.25)*FW264","v":112632.43053199064},{"$f":"$F$265*(FX11/365.25)*FX264","v":110147.12255091598},{"$f":"$F$265*(FY11/365.25)*FY264","v":114989.65113043178},{"$f":"$F$265*(FZ11/365.25)*FZ264","v":112442.35167126104},{"$f":"$F$265*(GA11/365.25)*GA264","v":117375.52229346553},{"$f":"$F$265*(GB11/365.25)*GB264","v":118590.99381756096},{"$f":"$F$265*(GC11/365.25)*GC264","v":108219.05199124398},{"$f":"$F$265*(GD11/365.25)*GD264","v":120973.03486526286},{"$f":"$F$265*(GE11/365.25)*GE264","v":118268.3811041725},{"$f":"$F$265*(GF11/365.25)*GF264","v":123431.63037250546},{"$f":"$F$265*(GG11/365.25)*GG264","v":120662.31912045513},{"$f":"$F$265*(GH11/365.25)*GH264","v":125920.10859392167},{"$f":"$F$265*(GI11/365.25)*GI264","v":127188.19911156147},{"$f":"$F$265*(GJ11/365.25)*GJ264","v":124320.09555773945},{"$f":"$F$265*(GK11/365.25)*GK264","v":129722.3361123792},{"$f":"$F$265*(GL11/365.25)*GL264","v":126787.58843603314},{"$f":"$F$265*(GM11/365.25)*GM264","v":132287.27398769994},{"$f":"$F$265*(GN11/365.25)*GN264","v":133594.57457625133},{"$f":"$F$265*(GO11/365.25)*GO264","v":121854.12647554568},{"$f":"$F$265*(GP11/365.25)*GP264","v":136152.97725953886},{"$f":"$F$265*(GQ11/365.25)*GQ264","v":133049.11306092859},{"$f":"$F$265*(GR11/365.25)*GR264","v":138796.0756174553},{"$f":"$F$265*(GS11/365.25)*GS264","v":135622.70177088547},{"$f":"$F$265*(GT11/365.25)*GT264","v":141471.29920806235},{"$f":"$F$265*(GU11/365.25)*GU264","v":142835.15656212455},{"$f":"$F$265*(GV11/365.25)*GV264","v":139555.56075309802},{"$f":"$F$265*(GW11/365.25)*GW264","v":145559.47269399679},{"$f":"$F$265*(GX11/365.25)*GX264","v":142208.23132751693},{"$f":"$F$265*(GY11/365.25)*GY264","v":148316.9012105811},{"$f":"$F$265*(GZ11/365.25)*GZ264","v":149722.91492832341},{"$f":"$F$265*(HA11/365.25)*HA264","v":136511.3690062192},{"$f":"$F$265*(HB11/365.25)*HB264","v":152470.90038718443},{"$f":"$F$265*(HC11/365.25)*HC264","v":148937.89851057739},{"$f":"$F$265*(HD11/365.25)*HD264","v":155312.33305072124},{"$f":"$F$265*(HE11/365.25)*HE264","v":151704.60562197893},{"$f":"$F$265*(HF11/365.25)*HF264","v":158188.301578282},{"$f":"$F$265*(HG11/365.25)*HG264","v":159655.10503281877},{"$f":"$F$265*(HH11/365.25)*HH264","v":155933.16900841828},{"$f":"$F$265*(HI11/365.25)*HI264","v":162583.8572791653},{"$f":"$F$265*(HJ11/365.25)*HJ264","v":158784.89932442518},{"$f":"$F$265*(HK11/365.25)*HK264","v":165548.20670528582},{"$f":"$F$265*(HL11/365.25)*HL264","v":167060.33368828229},{"$f":"$F$265*(HM11/365.25)*HM264","v":157705.5292087917},{"$f":"$F$265*(HN11/365.25)*HN264","v":170045.60306392884},{"$f":"$F$265*(HO11/365.25)*HO264","v":166050.41203253879},{"$f":"$F$265*(HP11/365.25)*HP264","v":173100.64541447122},{"$f":"$F$265*(HQ11/365.25)*HQ264","v":169025.11120642576},{"$f":"$F$265*(HR11/365.25)*HR264","v":176192.81992322369},{"$f":"$F$265*(HS11/365.25)*HS264","v":177770.49821724935},{"$f":"$F$265*(HT11/365.25)*HT264","v":173572.15366301619},{"$f":"$F$265*(HU11/365.25)*HU264","v":180919.43191071815},{"$f":"$F$265*(HV11/365.25)*HV264","v":176638.27497387904},{"$f":"$F$265*(HW11/365.25)*HW264","v":184106.63895384385},{"$f":"$F$265*(HX11/365.25)*HX264","v":185733.05187092099},{"$f":"$F$265*(HY11/365.25)*HY264","v":169236.9501390981},{"$f":"$F$265*(HZ11/365.25)*HZ264","v":188904.32339402239},{"$f":"$F$265*(IA11/365.25)*IA264","v":184413.175408482},{"$f":"$F$265*(IB11/365.25)*IB264","v":192188.58187533705},{"$f":"$F$265*(IC11/365.25)*IC264","v":187611.06266181701},{"$f":"$F$265*(ID11/365.25)*ID264","v":195512.75849576012},{"$f":"$F$265*(IE11/365.25)*IE264","v":197209.41220735185},{"$f":"$F$265*(IF11/365.25)*IF264","v":192499.85244838728},{"$f":"$F$265*(IG11/365.25)*IG264","v":200594.61392819663},{"$f":"$F$265*(IH11/365.25)*IH264","v":195796.02828066336},{"$f":"$F$265*(II11/365.25)*II264","v":204020.96069105665},{"$f":"$F$265*(IJ11/365.25)*IJ264","v":205770.00933677936},{"$f":"$F$265*(IK11/365.25)*IK264","v":187446.29708632719},{"$f":"$F$265*(IL11/365.25)*IL264","v":209176.80800821108},{"$f":"$F$265*(IM11/365.25)*IM264","v":204152.52312120935},{"$f":"$F$265*(IN11/365.25)*IN264","v":212707.46605445223},{"$f":"$F$265*(IO11/365.25)*IO264","v":207590.32998878564},{"$f":"$F$265*(IP11/365.25)*IP264","v":216281.0370747592},{"$f":"$F$265*(IQ11/365.25)*IQ264","v":218105.58532425482},{"$f":"$F$265*(IR11/365.25)*IR264","v":212846.48656205682},{"$f":"$F$265*(IS11/365.25)*IS264","v":221744.76715965496},{"$f":"$F$265*(IT11/365.25)*IT264","v":216389.96320075789},{"$f":"$F$265*(IU11/365.25)*IU264","v":225428.18100893969},{"$f":"$F$265*(IV11/365.25)*IV264","v":227309.0589028087},{"$f":"$F$265*(IW11/365.25)*IW264","v":207020.72734250236},{"$f":"$F$265*(IX11/365.25)*IX264","v":230969.04126895437},{"$f":"$F$265*(IY11/365.25)*IY264","v":225371.65229837995},{"$f":"$F$265*(IZ11/365.25)*IZ264","v":234764.57048892751},{"$f":"$F$265*(JA11/365.25)*JA264","v":229067.36461251977},{"$f":"$F$265*(JB11/365.25)*JB264","v":238606.23202895248},{"$f":"$F$265*(JC11/365.25)*JC264","v":240568.26256815347},{"$f":"$F$265*(JD11/365.25)*JD264","v":234718.42801938311},{"$f":"$F$265*(JE11/365.25)*JE264","v":244480.46441098308},{"$f":"$F$265*(JF11/365.25)*JF264","v":238527.74463585438},{"$f":"$F$265*(JG11/365.25)*JG264","v":248440.21665773823},{"$f":"$F$265*(JH11/365.25)*JH264","v":250462.80652134676},{"$f":"$F$265*(JI11/365.25)*JI264","v":236207.66784292544},{"$f":"$F$265*(JJ11/365.25)*JJ264","v":254445.11161130806},{"$f":"$F$265*(JK11/365.25)*JK264","v":248230.33608753083},{"$f":"$F$265*(JL11/365.25)*JL264","v":258525.97800768682},{"$f":"$F$265*(JM11/365.25)*JM264","v":252203.88162476241},{"$f":"$F$265*(JN11/365.25)*JN264","v":262656.44482176122},{"$f":"$F$265*(JO11/365.25)*JO264","v":264766.58059943561},{"$f":"$F$265*(JP11/365.25)*JP264","v":258280.365432241},{"$f":"$F$265*(JQ11/365.25)*JQ264","v":268972.89809450688},{"$f":"$F$265*(JR11/365.25)*JR264","v":262376.06288647541},{"$f":"$F$265*(JS11/365.25)*JS264","v":273230.34078811458},{"$f":"$F$265*(JT11/365.25)*JT264","v":275405.59238813876},{"$f":"$F$265*(JU11/365.25)*JU264","v":250730.28088553468},{"$f":"$F$265*(JV11/365.25)*JV264","v":279630.93201452104},{"$f":"$F$265*(JW11/365.25)*JW264","v":272753.80599419272},{"$f":"$F$265*(JX11/365.25)*JX264","v":284017.91654628236},{"$f":"$F$265*(JY11/365.25)*JY264","v":277025.4192044544},{"$f":"$F$265*(JZ11/365.25)*JZ264","v":288458.22217314073},{"$f":"$F$265*(KA11/365.25)*KA264","v":290727.24961720436},{"$f":"$F$265*(KB11/365.25)*KB264","v":283558.30656029121},{"$f":"$F$265*(KC11/365.25)*KC264","v":295249.10305534903},{"$f":"$F$265*(KD11/365.25)*KD264","v":287961.24182058271},{"$f":"$F$265*(KE11/365.25)*KE264","v":299825.9168370837},{"$f":"$F$265*(KF11/365.25)*KF264","v":302164.94844882772},{"$f":"$F$265*(KG11/365.25)*KG264","v":275048.86315651069},{"$f":"$F$265*(KH11/365.25)*KH264","v":306704.83457434142},{"$f":"$F$265*(KI11/365.25)*KI264","v":299115.70423900645},{"$f":"$F$265*(KJ11/365.25)*KJ264","v":311420.88571725378},{"$f":"$F$265*(KK11/365.25)*KK264","v":303707.73008648434},{"$f":"$F$265*(KL11/365.25)*KL264","v":316194.25755725382},{"$f":"$F$265*(KM11/365.25)*KM264","v":318634.08815263509},{"$f":"$F$265*(KN11/365.25)*KN264","v":310731.2357743184},{"$f":"$F$265*(KO11/365.25)*KO264","v":323495.13202571979},{"$f":"$F$265*(KP11/365.25)*KP264","v":315464.44125375355},{"$f":"$F$265*(KQ11/365.25)*KQ264","v":328415.25889322837},{"$f":"$F$265*(KR11/365.25)*KR264","v":330930.34846169408},{"$f":"$F$265*(KS11/365.25)*KS264","v":301190.51414332498},{"$f":"$F$265*(KT11/365.25)*KT264","v":335808.36140347499},{"$f":"$F$265*(KU11/365.25)*KU264","v":327453.85058269021},{"$f":"$F$265*(KV11/365.25)*KV264","v":340878.14799051266},{"$f":"$F$265*(KW11/365.25)*KW264","v":332390.30914588063},{"$f":"$F$265*(KX11/365.25)*KX264","v":346009.55471110035},{"$f":"$F$265*(KY11/365.25)*KY264","v":348632.99290002644},{"$f":"$F$265*(KZ11/365.25)*KZ264","v":339941.21289746265},{"$f":"$F$265*(LA11/365.25)*LA264","v":353858.65498438146},{"$f":"$F$265*(LB11/365.25)*LB264","v":345029.44765878556},{"$f":"$F$265*(LC11/365.25)*LC264","v":359147.83177295461},{"$f":"$F$265*(LD11/365.25)*LD264","v":361852.17767251673},{"$f":"$F$265*(LE11/365.25)*LE264","v":341052.32723306632},{"$f":"$F$265*(LF11/365.25)*LF264","v":367166.08813891659},{"$f":"$F$265*(LG11/365.25)*LG264","v":357986.91464916104},{"$f":"$F$265*(LH11/365.25)*LH264","v":372617.00858160848},{"$f":"$F$265*(LI11/365.25)*LI264","v":363294.48380116333},{"$f":"$F$265*(LJ11/365.25)*LJ264","v":378134.18160513049},{"$f":"$F$265*(LK11/365.25)*LK264","v":380955.44862692384},{"$f":"$F$265*(LL11/365.25)*LL264","v":371413.63498409279},{"$f":"$F$265*(LM11/365.25)*LM264","v":386573.97025366005},{"$f":"$F$265*(LN11/365.25)*LN264","v":376884.39765242417},{"$f":"$F$265*(LO11/365.25)*LO264","v":392260.78155039513},{"$f":"$F$265*(LP11/365.25)*LP264","v":395169.04254067165},{"$f":"$F$265*(LQ11/365.25)*LQ264","v":359569.86988703912},{"$f":"$F$265*(LR11/365.25)*LR264","v":400802.15797017643},{"$f":"$F$265*(LS11/365.25)*LS264","v":390738.40469711082},{"$f":"$F$265*(LT11/365.25)*LT264","v":406661.90412565041},{"$f":"$F$265*(LU11/365.25)*LU264","v":396444.04803943023},{"$f":"$F$265*(LV11/365.25)*LV264","v":412592.87188670295},{"$f":"$F$265*(LW11/365.25)*LW264","v":415626.34129462903},{"$f":"$F$265*(LX11/365.25)*LX264","v":405172.73353087308},{"$f":"$F$265*(LY11/365.25)*LY264","v":421666.26626839058},{"$f":"$F$265*(LZ11/365.25)*LZ264","v":411053.81725025189},{"$f":"$F$265*(MA11/365.25)*MA264","v":427779.60281029704},{"$f":"$F$265*(MB11/365.25)*MB264","v":430906.59465082892},{"$f":"$F$265*(MC11/365.25)*MC264","v":392047.72918915021},{"$f":"$F$265*(MD11/365.25)*MD264","v":436959.79200899752},{"$f":"$F$265*(ME11/365.25)*ME264","v":425945.14547629969},{"$f":"$F$265*(MF11/365.25)*MF264","v":443259.01193719794},{"$f":"$F$265*(MG11/365.25)*MG264","v":432078.70506941748},{"$f":"$F$265*(MH11/365.25)*MH264","v":449634.79500401829},{"$f":"$F$265*(MI11/365.25)*MI264","v":452896.37477853731},{"$f":"$F$265*(MJ11/365.25)*MJ264","v":441462.61926539964},{"$f":"$F$265*(MK11/365.25)*MK264","v":459389.29405516788},{"$f":"$F$265*(ML11/365.25)*ML264","v":447784.78419541405},{"$f":"$F$265*(MM11/365.25)*MM264","v":465961.13076670159},{"$f":"$F$265*(MN11/365.25)*MN264","v":469323.25085129438},{"$f":"$F$265*(MO11/365.25)*MO264","v":426960.32619888429},{"$f":"$F$265*(MP11/365.25)*MP264","v":475828.02203241986},{"$f":"$F$265*(MQ11/365.25)*MQ264","v":463791.19750258245},{"$f":"$F$265*(MR11/365.25)*MR264","v":482599.66135811887},{"$f":"$F$265*(MS11/365.25)*MS264","v":470384.75254918967},{"$f":"$F$265*(MT11/365.25)*MT264","v":489453.60578925733},{"$f":"$F$265*(MU11/365.25)*MU264","v":492960.39646972058},{"$f":"$F$265*(MV11/365.25)*MV264","v":480473.015375357},{"$f":"$F$265*(MW11/365.25)*MW264","v":499940.26925509894},{"$f":"$F$265*(MX11/365.25)*MX264","v":487269.32764409372},{"$f":"$F$265*(MY11/365.25)*MY264","v":507004.97809537087},{"$f":"$F$265*(MZ11/365.25)*MZ264","v":510619.85306611989},{"$f":"$F$265*(NA11/365.25)*NA264","v":481079.11878158408},{"$f":"$F$265*(NB11/365.25)*NB264","v":517712.20822923619},{"$f":"$F$265*(NC11/365.25)*NC264","v":504573.89043529372},{"$f":"$F$265*(ND11/365.25)*ND264","v":524992.92404223315},{"$f":"$F$265*(NE11/365.25)*NE264","v":511663.13399696915},{"$f":"$F$265*(NF11/365.25)*NF264","v":532362.1324718392},{"$f":"$F$265*(NG11/365.25)*NG264","v":536133.16104622954},{"$f":"$F$265*(NH11/365.25)*NH264","v":522510.39894791489},{"$f":"$F$265*(NI11/365.25)*NI264","v":543637.77219549241},{"$f":"$F$265*(NJ11/365.25)*NJ264","v":529817.64972369943},{"$f":"$F$265*(NK11/365.25)*NK264","v":551233.59727128234},{"$f":"$F$265*(NL11/365.25)*NL264","v":555120.83948663052},{"$f":"$F$265*(NM11/365.25)*NM264","v":504932.14708828641},{"$f":"$F$265*(NN11/365.25)*NN264","v":562634.13012083829},{"$f":"$F$265*(NO11/365.25)*NO264","v":548314.43102604558},{"$f":"$F$265*(NP11/365.25)*NP264","v":570460.84422760166},{"$f":"$F$265*(NQ11/365.25)*NQ264","v":555935.31391937286},{"$f":"$F$265*(NR11/365.25)*NR264","v":578382.68722396158},{"$f":"$F$265*(NS11/365.25)*NS264","v":582437.11808235489},{"$f":"$F$265*(NT11/365.25)*NT264","v":567596.62916616607},{"$f":"$F$265*(NU11/365.25)*NU264","v":590504.52531138854},{"$f":"$F$265*(NV11/365.25)*NV264","v":575451.8753022321},{"$f":"$F$265*(NW11/365.25)*NW264","v":598669.98690667993},{"$f":"$F$265*(NX11/365.25)*NX264","v":602849.35035437625},{"$f":"$F$265*(NY11/365.25)*NY264","v":548307.24608454236},{"$f":"$F$265*(NZ11/365.25)*NZ264","v":610923.67227678676},{"$f":"$F$265*(OA11/365.25)*OA264","v":595334.02835934551},{"$f":"$F$265*(OB11/365.25)*OB264","v":619337.31602755608},{"$f":"$F$265*(OC11/365.25)*OC264","v":603526.40549950197},{"$f":"$F$265*(OD11/365.25)*OD264","v":627853.22243626264},{"$f":"$F$265*(OE11/365.25)*OE264","v":632212.30113615945},{"$f":"$F$265*(OF11/365.25)*OF264","v":616062.79719946336},{"$f":"$F$265*(OG11/365.25)*OG264","v":640884.69505932566},{"$f":"$F$265*(OH11/365.25)*OH264","v":624507.11975829292},{"$f":"$F$265*(OI11/365.25)*OI264","v":649662.49658941361},{"$f":"$F$265*(OJ11/365.25)*OJ264","v":654155.88045231288},{"$f":"$F$265*(OK11/365.25)*OK264","v":594934.00610056252},{"$f":"$F$265*(OL11/365.25)*OL264","v":662833.29197778739},{"$f":"$F$265*(OM11/365.25)*OM264","v":645878.50045608764},{"$f":"$F$265*(ON11/365.25)*ON264","v":671877.8651855645},{"$f":"$F$265*(OO11/365.25)*OO264","v":654685.21452489868},{"$f":"$F$265*(OP11/365.25)*OP264","v":681032.36961024744},{"$f":"$F$265*(OQ11/365.25)*OQ264","v":685718.93440525152},{"$f":"$F$265*(OR11/365.25)*OR264","v":668162.28372696904},{"$f":"$F$265*(OS11/365.25)*OS264","v":695041.6685017657},{"$f":"$F$265*(OT11/365.25)*OT264","v":677239.84345714608},{"$f":"$F$265*(OU11/365.25)*OU264","v":704477.71468947257},{"$f":"$F$265*(OV11/365.25)*OV264","v":709308.65984626242},{"$f":"$F$265*(OW11/365.25)*OW264","v":668093.91252906411},{"$f":"$F$265*(OX11/365.25)*OX264","v":718776.24238172406},{"$f":"$F$265*(OY11/365.25)*OY264","v":700350.23251631495},{"$f":"$F$265*(OZ11/365.25)*OZ264","v":728500.7676971273},{"$f":"$F$265*(PA11/365.25)*PA264","v":709819.01693988836},{"$f":"$F$265*(PB11/365.25)*PB264","v":738343.48862853076},{"$f":"$F$265*(PC11/365.25)*PC264","v":743382.98489331058},{"$f":"$F$265*(PD11/365.25)*PD264","v":724309.85343884351},{"$f":"$F$265*(PE11/365.25)*PE264","v":753406.59000897},{"$f":"$F$265*(PF11/365.25)*PF264","v":734069.85229831212},{"$f":"$F$265*(PG11/365.25)*PG264","v":763552.0258714027},{"$f":"$F$265*(PH11/365.25)*PH264","v":768746.76053062349},{"$f":"$F$265*(PI11/365.25)*PI264","v":699072.82537438453},{"$f":"$F$265*(PJ11/365.25)*PJ264","v":778771.14617906522},{"$f":"$F$265*(PK11/365.25)*PK264","v":758767.3574807843},{"$f":"$F$265*(PL11/365.25)*PL264","v":789224.87260004587},{"$f":"$F$265*(PM11/365.25)*PM264","v":768946.16607995506},{"$f":"$F$265*(PN11/365.25)*PN264","v":799805.65762735985},{"$f":"$F$265*(PO11/365.25)*PO264","v":805223.64822294179},{"$f":"$F$265*(PP11/365.25)*PP264","v":784524.19714069716},{"$f":"$F$265*(PQ11/365.25)*PQ264","v":815998.88851451466},{"$f":"$F$265*(PR11/365.25)*PR264","v":795016.06426263251},{"$f":"$F$265*(PS11/365.25)*PS264","v":826905.09521550161},{"$f":"$F$265*(PT11/365.25)*PT264","v":832489.9686865519},{"$f":"$F$265*(PU11/365.25)*PU264","v":757001.8894460398},{"$f":"$F$265*(PV11/365.25)*PV264","v":843263.63256588147},{"$f":"$F$265*(PW11/365.25)*PW264","v":821563.78514494444},{"$f":"$F$265*(PX11/365.25)*PX264","v":854501.2254388124},{"$f":"$F$265*(PY11/365.25)*PY264","v":832505.84564687207},{"$f":"$F$265*(PZ11/365.25)*PZ264","v":865875.40433202672},{"$f":"$F$265*(QA11/365.25)*QA264","v":871700.26349363232},{"$f":"$F$265*(QB11/365.25)*QB264","v":849252.57398084772},{"$f":"$F$265*(QC11/365.25)*QC264","v":883283.48610173957},{"$f":"$F$265*(QD11/365.25)*QD264","v":860531.17465791164},{"$f":"$F$265*(QE11/365.25)*QE264","v":895007.49564669281},{"$f":"$F$265*(QF11/365.25)*QF264","v":901011.7551058575},{"$f":"$F$265*(QG11/365.25)*QG264","v":819273.66820681875},{"$f":"$F$265*(QH11/365.25)*QH264","v":912590.86766577337},{"$f":"$F$265*(QI11/365.25)*QI264","v":889067.81465304759},{"$f":"$F$265*(QJ11/365.25)*QJ264","v":924671.090383603},{"$f":"$F$265*(QK11/365.25)*QK264","v":900830.34505879437},{"$f":"$F$265*(QL11/365.25)*QL264","v":936898.14076851634},{"$f":"$F$265*(QM11/365.25)*QM264","v":943160.36983647512},{"$f":"$F$265*(QN11/365.25)*QN264","v":918833.38331600872},{"$f":"$F$265*(QO11/365.25)*QO264","v":955612.14602583193},{"$f":"$F$265*(QP11/365.25)*QP264","v":930957.69587662828},{"$f":"$F$265*(QQ11/365.25)*QQ264","v":968215.26588588383},{"$f":"$F$265*(QR11/365.25)*QR264","v":974670.35105552326},{"$f":"$F$265*(QS11/365.25)*QS264","v":917864.20786782599},{"$f":"$F$265*(QT11/365.25)*QT264","v":987310.20264200168},{"$f":"$F$265*(QU11/365.25)*QU264","v":961822.13964226132},{"$f":"$F$265*(QV11/365.25)*QV264","v":1000298.5928578032},{"$f":"$F$265*(QW11/365.25)*QW264","v":974468.95405981189},{"$f":"$F$265*(QX11/365.25)*QX264","v":1013444.8489572975},{"$f":"$F$265*(QY11/365.25)*QY264","v":1020178.4654748529},{"$f":"$F$265*(QZ11/365.25)*QZ264","v":993826.01490069262},{"$f":"$F$265*(RA11/365.25)*RA264","v":1033566.349182253},{"$f":"$F$265*(RB11/365.25)*RB264","v":1006861.8167112397},{"$f":"$F$265*(RC11/365.25)*RC264","v":1047116.9543706937},{"$f":"$F$265*(RD11/365.25)*RD264","v":1054057.9293530211},{"$f":"$F$265*(RE11/365.25)*RE264","v":958360.19821324921},{"$f":"$F$265*(RF11/365.25)*RF264","v":1067436.0440341285},{"$f":"$F$265*(RG11/365.25)*RG264","v":1039840.7877810815},{"$f":"$F$265*(RH11/365.25)*RH264","v":1081398.3145035901},{"$f":"$F$265*(RI11/365.25)*RI264","v":1053435.8708160911},{"$f":"$F$265*(RJ11/365.25)*RJ264","v":1095530.2877714278},{"$f":"$F$265*(RK11/365.25)*RK264","v":1102769.4001694352},{"$f":"$F$265*(RL11/365.25)*RL264","v":1074244.9279684317},{"$f":"$F$265*(RM11/365.25)*RM264","v":1117161.1258213683},{"$f":"$F$265*(RN11/365.25)*RN264","v":1088258.1721383573},{"$f":"$F$265*(RO11/365.25)*RO264","v":1131727.7740349243},{"$f":"$F$265*(RP11/365.25)*RP264","v":1139189.7966159468},{"$f":"$F$265*(RQ11/365.25)*RQ264","v":1035727.0194932515},{"$f":"$F$265*(RR11/365.25)*RR264","v":1153568.6054375016},{"$f":"$F$265*(RS11/365.25)*RS264","v":1123708.1879190521},{"$f":"$F$265*(RT11/365.25)*RT264","v":1168577.7641428995},{"$f":"$F$265*(RU11/365.25)*RU264","v":1138322.6275499004},{"$f":"$F$265*(RV11/365.25)*RV264","v":1183769.3499284163},{"$f":"$F$265*(RW11/365.25)*RW264","v":1191551.8532500726},{"$f":"$F$265*(RX11/365.25)*RX264","v":1160692.5314812751},{"$f":"$F$265*(RY11/365.25)*RY264","v":1207022.6749392452},{"$f":"$F$265*(RZ11/365.25)*RZ264","v":1175756.4930299472},{"$f":"$F$265*(SA11/365.25)*SA264","v":1222681.5349377724},{"$f":"$F$265*(SB11/365.25)*SB264","v":1230703.6660119973},{"$f":"$F$265*(SC11/365.25)*SC264","v":1118893.727869787},{"$f":"$F$265*(SD11/365.25)*SD264","v":1246158.187088182},{"$f":"$F$265*(SE11/365.25)*SE264","v":1213862.7980500455},{"$f":"$F$265*(SF11/365.25)*SF264","v":1262292.7151338276},{"$f":"$F$265*(SG11/365.25)*SG264","v":1229573.0114419868},{"$f":"$F$265*(SH11/365.25)*SH264","v":1278623.3484308226},{"$f":"$F$265*(SI11/365.25)*SI264","v":1286989.9785620579},{"$f":"$F$265*(SJ11/365.25)*SJ264","v":1253620.7727125247},{"$f":"$F$265*(SK11/365.25)*SK264","v":1303620.7918853005},{"$f":"$F$265*(SL11/365.25)*SL264","v":1269814.2198000702},{"$f":"$F$265*(SM11/365.25)*SM264","v":1320453.7425017862},{"$f":"$F$265*(SN11/365.25)*SN264","v":1329077.971205753},{"$f":"$F$265*(SO11/365.25)*SO264","v":1251448.5152026194},{"$f":"$F$265*(SP11/365.25)*SP264","v":1345954.5923113117},{"$f":"$F$265*(SQ11/365.25)*SQ264","v":1311034.7027607714},{"$f":"$F$265*(SR11/365.25)*SR264","v":1363302.0841991398},{"$f":"$F$265*(SS11/365.25)*SS264","v":1327925.9808075624},{"$f":"$F$265*(ST11/365.25)*ST264","v":1380860.4241667704},{"$f":"$F$265*(SU11/365.25)*SU264","v":448340.85397863138},{"$f":"$F$265*(SV11/365.25)*SV264","v":0},{"$f":"$F$265*(SW11/365.25)*SW264","v":0},{"$f":"$F$265*(SX11/365.25)*SX264","v":0},{"$f":"$F$265*(SY11/365.25)*SY264","v":0},{"$f":"$F$265*(SZ11/365.25)*SZ264","v":0},{"$f":"$F$265*(TA11/365.25)*TA264","v":0},{"$f":"$F$265*(TB11/365.25)*TB264","v":0},{"$f":"$F$265*(TC11/365.25)*TC264","v":0},{"$f":"$F$265*(TD11/365.25)*TD264","v":0},{"$f":"$F$265*(TE11/365.25)*TE264","v":0},{"$f":"$F$265*(TF11/365.25)*TF264","v":0},{"$f":"$F$265*(TG11/365.25)*TG264","v":0},{"$f":"$F$265*(TH11/365.25)*TH264","v":0},{"$f":"$F$265*(TI11/365.25)*TI264","v":0},{"$f":"$F$265*(TJ11/365.25)*TJ264","v":0},{"$f":"$F$265*(TK11/365.25)*TK264","v":0},{"$f":"$F$265*(TL11/365.25)*TL264","v":0},{"$f":"$F$265*(TM11/365.25)*TM264","v":0},{"$f":"$F$265*(TN11/365.25)*TN264","v":0},{"$f":"$F$265*(TO11/365.25)*TO264","v":0},{"$f":"$F$265*(TP11/365.25)*TP264","v":0},{"$f":"$F$265*(TQ11/365.25)*TQ264","v":0},{"$f":"$F$265*(TR11/365.25)*TR264","v":0},{"$f":"$F$265*(TS11/365.25)*TS264","v":0},{"$f":"$F$265*(TT11/365.25)*TT264","v":0},{"$f":"$F$265*(TU11/365.25)*TU264","v":0},{"$f":"$F$265*(TV11/365.25)*TV264","v":0},{"$f":"$F$265*(TW11/365.25)*TW264","v":0},{"$f":"$F$265*(TX11/365.25)*TX264","v":0},{"$f":"$F$265*(TY11/365.25)*TY264","v":0},{"$f":"$F$265*(TZ11/365.25)*TZ264","v":0},{"$f":"$F$265*(UA11/365.25)*UA264","v":0},{"$f":"$F$265*(UB11/365.25)*UB264","v":0},{"$f":"$F$265*(UC11/365.25)*UC264","v":0},{"$f":"$F$265*(UD11/365.25)*UD264","v":0},{"$f":"$F$265*(UE11/365.25)*UE264","v":0},{"$f":"$F$265*(UF11/365.25)*UF264","v":0},{"$f":"$F$265*(UG11/365.25)*UG264","v":0},{"$f":"$F$265*(UH11/365.25)*UH264","v":0},{"$f":"$F$265*(UI11/365.25)*UI264","v":0},{"$f":"$F$265*(UJ11/365.25)*UJ264","v":0},{"$f":"$F$265*(UK11/365.25)*UK264","v":0},{"$f":"$F$265*(UL11/365.25)*UL264","v":0},{"$f":"$F$265*(UM11/365.25)*UM264","v":0},{"$f":"$F$265*(UN11/365.25)*UN264","v":0},{"$f":"$F$265*(UO11/365.25)*UO264","v":0}]
[null,null,null,"Dividends","EUR",null,null,null,"EUR",null,{"$f":"K21","v":0},{"$f":"L21","v":0},{"$f":"M21","v":0},{"$f":"N21","v":0},{"$f":"O21","v":0},{"$f":"P21","v":0},{"$f":"Q21","v":0},{"$f":"R21","v":0},{"$f":"S21","v":0},{"$f":"T21","v":0},{"$f":"U21","v":0},{"$f":"V21","v":0},{"$f":"W21","v":0},{"$f":"X21","v":0},{"$f":"Y21","v":0},{"$f":"Z21","v":0},{"$f":"AA21","v":0},{"$f":"AB21","v":0},{"$f":"AC21","v":0},{"$f":"AD21","v":0},{"$f":"AE21","v":0},{"$f":"AF21","v":0},{"$f":"AG21","v":0},{"$f":"AH21","v":0},{"$f":"AI21","v":80000},{"$f":"AJ21","v":80000},{"$f":"AK21","v":80000},{"$f":"AL21","v":80000},{"$f":"AM21","v":80000},{"$f":"AN21","v":80000},{"$f":"AO21","v":80000},{"$f":"AP21","v":80000},{"$f":"AQ21","v":80000},{"$f":"AR21","v":80000},{"$f":"AS21","v":80000},{"$f":"AT21","v":80000},{"$f":"AU21","v":80000},{"$f":"AV21","v":80000},{"$f":"AW21","v":80000},{"$f":"AX21","v":80000},{"$f":"AY21","v":80000},{"$f":"AZ21","v":80000},{"$f":"BA21","v":80000},{"$f":"BB21","v":80000},{"$f":"BC21","v":80000},{"$f":"BD21","v":80000},{"$f":"BE21","v":80000},{"$f":"BF21","v":80000},{"$f":"BG21","v":80000},{"$f":"BH21","v":80000},{"$f":"BI21","v":80000},{"$f":"BJ21","v":80000},{"$f":"BK21","v":80000},{"$f":"BL21","v":80000},{"$f":"BM21","v":80000},{"$f":"BN21","v":80000},{"$f":"BO21","v":80000},{"$f":"BP21","v":80000},{"$f":"BQ21","v":80000},{"$f":"BR21","v":80000},{"$f":"BS21","v":80000},{"$f":"BT21","v":80000},{"$f":"BU21","v":80000},{"$f":"BV21","v":80000},{"$f":"BW21","v":80000},{"$f":"BX21","v":80000},{"$f":"BY21","v":80000},{"$f":"BZ21","v":80000},{"$f":"CA21","v":80000},{"$f":"CB21","v":80000},{"$f":"CC21","v":80000},{"$f":"CD21","v":80000},{"$f":"CE21","v":80000},{"$f":"CF21","v":80000},{"$f":"CG21","v":80000},{"$f":"CH21","v":80000},{"$f":"CI21","v":80000},{"$f":"CJ21","v":80000},{"$f":"CK21","v":80000},{"$f":"CL21","v":80000},{"$f":"CM21","v":80000},{"$f":"CN21","v":80000},{"$f":"CO21","v":80000},{"$f":"CP21","v":80000},{"$f":"CQ21","v":80000},{"$f":"CR21","v":80000},{"$f":"CS21","v":80000},{"$f":"CT21","v":80000},{"$f":"CU21","v":80000},{"$f":"CV21","v":80000},{"$f":"CW21","v":80000},{"$f":"CX21","v":80000},{"$f":"CY21","v":80000},{"$f":"CZ21","v":80000},{"$f":"DA21","v":80000},{"$f":"DB21","v":80000},{"$f":"DC21","v":80000},{"$f":"DD21","v":80000},{"$f":"DE21","v":80000},{"$f":"DF21","v":80000},{"$f":"DG21","v":80000},{"$f":"DH21","v":80000},{"$f":"DI21","v":80000},{"$f":"DJ21","v":80000},{"$f":"DK21","v":80000},{"$f":"DL21","v":80000},{"$f":"DM21","v":80000},{"$f":"DN21","v":80000},{"$f":"DO21","v":80000},{"$f":"DP21","v":80000},{"$f":"DQ21","v":80000},{"$f":"DR21","v":80000},{"$f":"DS21","v":80000},{"$f":"DT21","v":80000},{"$f":"DU21","v":80000},{"$f":"DV21","v":80000},{"$f":"DW21","v":80000},{"$f":"DX21","v":80000},{"$f":"DY21","v":80000},{"$f":"DZ21","v":80000},{"$f":"EA21","v":80000},{"$f":"EB21","v":80000},{"$f":"EC21","v":80000},{"$f":"ED21","v":80000},{"$f":"EE21","v":80000},{"$f":"EF21","v":80000},{"$f":"EG21","v":80000},{"$f":"EH21","v":80000},{"$f":"EI21","v":80000},{"$f":"EJ21","v":80000},{"$f":"EK21","v":80000},{"$f":"EL21","v":80000},{"$f":"EM21","v":80000},{"$f":"EN21","v":80000},{"$f":"EO21","v":80000},{"$f":"EP21","v":80000},{"$f":"EQ21","v":80000},{"$f":"ER21","v":80000},{"$f":"ES21","v":80000},{"$f":"ET21","v":80000},{"$f":"EU21","v":80000},{"$f":"EV21","v":80000},{"$f":"EW21","v":80000},{"$f":"EX21","v":80000},{"$f":"EY21","v":80000},{"$f":"EZ21","v":80000},{"$f":"FA21","v":80000},{"$f":"FB21","v":80000},{"$f":"FC21","v":80000},{"$f":"FD21","v":80000},{"$f":"FE21","v":80000},{"$f":"FF21","v":80000},{"$f":"FG21","v":80000},{"$f":"FH21","v":80000},{"$f":"FI21","v":80000},{"$f":"FJ21","v":80000},{"$f":"FK21","v":80000},{"$f":"FL21","v":80000},{"$f":"FM21","v":80000},{"$f":"FN21","v":80000},{"$f":"FO21","v":80000},{"$f":"FP21","v":80000},{"$f":"FQ21","v":80000},{"$f":"FR21","v":80000},{"$f":"FS21","v":80000},{"$f":"FT21","v":80000},{"$f":"FU21","v":80000},{"$f":"FV21","v":80000},{"$f":"FW21","v":80000},{"$f":"FX21","v":80000},{"$f":"FY21","v":80000},{"$f":"FZ21","v":80000},{"$f":"GA21","v":80000},{"$f":"GB21","v":80000},{"$f":"GC21","v":80000},{"$f":"GD21","v":80000},{"$f":"GE21","v":80000},{"$f":"GF21","v":80000},{"$f":"GG21","v":80000},{"$f":"GH21","v":80000},{"$f":"GI21","v":80000},{"$f":"GJ21","v":80000},{"$f":"GK21","v":80000},{"$f":"GL21","v":80000},{"$f":"GM21","v":80000},{"$f":"GN21","v":80000},{"$f":"GO21","v":80000},{"$f":"GP21","v":80000},{"$f":"GQ21","v":80000},{"$f":"GR21","v":80000},{"$f":"GS21","v":80000},{"$f":"GT21","v":80000},{"$f":"GU21","v":80000},{"$f":"GV21","v":80000},{"$f":"GW21","v":80000},{"$f":"GX21","v":80000},{"$f":"GY21","v":80000},{"$f":"GZ21","v":80000},{"$f":"HA21","v":80000},{"$f":"HB21","v":80000},{"$f":"HC21","v":80000},{"$f":"HD21","v":80000},{"$f":"HE21","v":80000},{"$f":"HF21","v":80000},{"$f":"HG21","v":80000},{"$f":"HH21","v":80000},{"$f":"HI21","v":80000},{"$f":"HJ21","v":80000},{"$f":"HK21","v":80000},{"$f":"HL21","v":80000},{"$f":"HM21","v":80000},{"$f":"HN21","v":80000},{"$f":"HO21","v":80000},{"$f":"HP21","v":80000},{"$f":"HQ21","v":80000},{"$f":"HR21","v":80000},{"$f":"HS21","v":80000},{"$f":"HT21","v":80000},{"$f":"HU21","v":80000},{"$f":"HV21","v":80000},{"$f":"HW21","v":80000},{"$f":"HX21","v":80000},{"$f":"HY21","v":80000},{"$f":"HZ21","v":80000},{"$f":"IA21","v":80000},{"$f":"IB21","v":80000},{"$f":"IC21","v":80000},{"$f":"ID21","v":80000},{"$f":"IE21","v":80000},{"$f":"IF21","v":80000},{"$f":"IG21","v":80000},{"$f":"IH21","v":80000},{"$f":"II21","v":80000},{"$f":"IJ21","v":80000},{"$f":"IK21","v":80000},{"$f":"IL21","v":80000},{"$f":"IM21","v":80000},{"$f":"IN21","v":80000},{"$f":"IO21","v":80000},{"$f":"IP21","v":80000},{"$f":"IQ21","v":80000},{"$f":"IR21","v":80000},{"$f":"IS21","v":80000},{"$f":"IT21","v":80000},{"$f":"IU21","v":80000},{"$f":"IV21","v":80000},{"$f":"IW21","v":80000},{"$f":"IX21","v":80000},{"$f":"IY21","v":80000},{"$f":"IZ21","v":80000},{"$f":"JA21","v":80000},{"$f":"JB21","v":80000},{"$f":"JC21","v":80000},{"$f":"JD21","v":80000},{"$f":"JE21","v":80000},{"$f":"JF21","v":80000},{"$f":"JG21","v":80000},{"$f":"JH21","v":80000},{"$f":"JI21","v":80000},{"$f":"JJ21","v":80000},{"$f":"JK21","v":80000},{"$f":"JL21","v":80000},{"$f":"JM21","v":80000},{"$f":"JN21","v":80000},{"$f":"JO21","v":80000},{"$f":"JP21","v":80000},{"$f":"JQ21","v":80000},{"$f":"JR21","v":80000},{"$f":"JS21","v":80000},{"$f":"JT21","v":80000},{"$f":"JU21","v":80000},{"$f":"JV21","v":80000},{"$f":"JW21","v":80000},{"$f":"JX21","v":80000},{"$f":"JY21","v":80000},{"$f":"JZ21","v":80000},{"$f":"KA21","v":80000},{"$f":"KB21","v":80000},{"$f":"KC21","v":80000},{"$f":"KD21","v":80000},{"$f":"KE21","v":80000},{"$f":"KF21","v":80000},{"$f":"KG21","v":80000},{"$f":"KH21","v":80000},{"$f":"KI21","v":80000},{"$f":"KJ21","v":80000},{"$f":"KK21","v":80000},{"$f":"KL21","v":80000},{"$f":"KM21","v":80000},{"$f":"KN21","v":80000},{"$f":"KO21","v":80000},{"$f":"KP21","v":80000},{"$f":"KQ21","v":80000},{"$f":"KR21","v":80000},{"$f":"KS21","v":80000},{"$f":"KT21","v":80000},{"$f":"KU21","v":80000},{"$f":"KV21","v":80000},{"$f":"KW21","v":80000},{"$f":"KX21","v":80000},{"$f":"KY21","v":80000},{"$f":"KZ21","v":80000},{"$f":"LA21","v":80000},{"$f":"LB21","v":80000},{"$f":"LC21","v":80000},{"$f":"LD21","v":80000},{"$f":"LE21","v":80000},{"$f":"LF21","v":80000},{"$f":"LG21","v":80000},{"$f":"LH21","v":80000},{"$f":"LI21","v":80000},{"$f":"LJ21","v":80000},{"$f":"LK21","v":80000},{"$f":"LL21","v":80000},{"$f":"LM21","v":80000},{"$f":"LN21","v":80000},{"$f":"LO21","v":80000},{"$f":"LP21","v":80000},{"$f":"LQ21","v":80000},{"$f":"LR21","v":80000},{"$f":"LS21","v":80000},{"$f":"LT21","v":80000},{"$f":"LU21","v":80000},{"$f":"LV21","v":80000},{"$f":"LW21","v":80000},{"$f":"LX21","v":80000},{"$f":"LY21","v":80000},{"$f":"LZ21","v":80000},{"$f":"MA21","v":80000},{"$f":"MB21","v":80000},{"$f":"MC21","v":80000},{"$f":"MD21","v":80000},{"$f":"ME21","v":80000},{"$f":"MF21","v":80000},{"$f":"MG21","v":80000},{"$f":"MH21","v":80000},{"$f":"MI21","v":80000},{"$f":"MJ21","v":80000},{"$f":"MK21","v":80000},{"$f":"ML21","v":80000},{"$f":"MM21","v":80000},{"$f":"MN21","v":80000},{"$f":"MO21","v":80000},{"$f":"MP21","v":80000},{"$f":"MQ21","v":80000},{"$f":"MR21","v":80000},{"$f":"MS21","v":80000},{"$f":"MT21","v":80000},{"$f":"MU21","v":80000},{"$f":"MV21","v":80000},{"$f":"MW21","v":80000},{"$f":"MX21","v":80000},{"$f":"MY21","v":80000},{"$f":"MZ21","v":80000},{"$f":"NA21","v":80000},{"$f":"NB21","v":80000},{"$f":"NC21","v":80000},{"$f":"ND21","v":80000},{"$f":"NE21","v":80000},{"$f":"NF21","v":80000},{"$f":"NG21","v":80000},{"$f":"NH21","v":80000},{"$f":"NI21","v":80000},{"$f":"NJ21","v":80000},{"$f":"NK21","v":80000},{"$f":"NL21","v":80000},{"$f":"NM21","v":80000},{"$f":"NN21","v":80000},{"$f":"NO21","v":80000},{"$f":"NP21","v":80000},{"$f":"NQ21","v":80000},{"$f":"NR21","v":80000},{"$f":"NS21","v":80000},{"$f":"NT21","v":80000},{"$f":"NU21","v":80000},{"$f":"NV21","v":80000},{"$f":"NW21","v":80000},{"$f":"NX21","v":80000},{"$f":"NY21","v":80000},{"$f":"NZ21","v":80000},{"$f":"OA21","v":80000},{"$f":"OB21","v":80000},{"$f":"OC21","v":80000},{"$f":"OD21","v":80000},{"$f":"OE21","v":80000},{"$f":"OF21","v":80000},{"$f":"OG21","v":80000},{"$f":"OH21","v":80000},{"$f":"OI21","v":80000},{"$f":"OJ21","v":80000},{"$f":"OK21","v":80000},{"$f":"OL21","v":80000},{"$f":"OM21","v":80000},{"$f":"ON21","v":80000},{"$f":"OO21","v":80000},{"$f":"OP21","v":80000},{"$f":"OQ21","v":80000},{"$f":"OR21","v":80000},{"$f":"OS21","v":80000},{"$f":"OT21","v":80000},{"$f":"OU21","v":80000},{"$f":"OV21","v":80000},{"$f":"OW21","v":80000},{"$f":"OX21","v":80000},{"$f":"OY21","v":80000},{"$f":"OZ21","v":80000},{"$f":"PA21","v":80000},{"$f":"PB21","v":80000},{"$f":"PC21","v":80000},{"$f":"PD21","v":80000},{"$f":"PE21","v":80000},{"$f":"PF21","v":80000},{"$f":"PG21","v":80000},{"$f":"PH21","v":80000},{"$f":"PI21","v":80000},{"$f":"PJ21","v":80000},{"$f":"PK21","v":80000},{"$f":"PL21","v":80000},{"$f":"PM21","v":80000},{"$f":"PN21","v":80000},{"$f":"PO21","v":80000},{"$f":"PP21","v":80000},{"$f":"PQ21","v":80000},{"$f":"PR21","v":80000},{"$f":"PS21","v":80000},{"$f":"PT21","v":80000},{"$f":"PU21","v":80000},{"$f":"PV21","v":80000},{"$f":"PW21","v":80000},{"$f":"PX21","v":80000},{"$f":"PY21","v":80000},{"$f":"PZ21","v":80000},{"$f":"QA21","v":80000},{"$f":"QB21","v":80000},{"$f":"QC21","v":80000},{"$f":"QD21","v":80000},{"$f":"QE21","v":80000},{"$f":"QF21","v":80000},{"$f":"QG21","v":80000},{"$f":"QH21","v":80000},{"$f":"QI21","v":80000},{"$f":"QJ21","v":80000},{"$f":"QK21","v":80000},{"$f":"QL21","v":80000},{"$f":"QM21","v":80000},{"$f":"QN21","v":80000},{"$f":"QO21","v":80000},{"$f":"QP21","v":80000},{"$f":"QQ21","v":80000},{"$f":"QR21","v":80000},{"$f":"QS21","v":80000},{"$f":"QT21","v":80000},{"$f":"QU21","v":80000},{"$f":"QV21","v":80000},{"$f":"QW21","v":80000},{"$f":"QX21","v":80000},{"$f":"QY21","v":80000},{"$f":"QZ21","v":80000},{"$f":"RA21","v":80000},{"$f":"RB21","v":80000},{"$f":"RC21","v":80000},{"$f":"RD21","v":80000},{"$f":"RE21","v":80000},{"$f":"RF21","v":80000},{"$f":"RG21","v":80000},{"$f":"RH21","v":80000},{"$f":"RI21","v":80000},{"$f":"RJ21","v":80000},{"$f":"RK21","v":80000},{"$f":"RL21","v":80000},{"$f":"RM21","v":80000},{"$f":"RN21","v":80000},{"$f":"RO21","v":80000},{"$f":"RP21","v":80000},{"$f":"RQ21","v":80000},{"$f":"RR21","v":80000},{"$f":"RS21","v":80000},{"$f":"RT21","v":80000},{"$f":"RU21","v":80000},{"$f":"RV21","v":80000},{"$f":"RW21","v":80000},{"$f":"RX21","v":80000},{"$f":"RY21","v":80000},{"$f":"RZ21","v":80000},{"$f":"SA21","v":80000},{"$f":"SB21","v":80000},{"$f":"SC21","v":80000},{"$f":"SD21","v":80000},{"$f":"SE21","v":80000},{"$f":"SF21","v":80000},{"$f":"SG21","v":80000},{"$f":"SH21","v":80000},{"$f":"SI21","v":80000},{"$f":"SJ21","v":80000},{"$f":"SK21","v":80000},{"$f":"SL21","v":80000},{"$f":"SM21","v":80000},{"$f":"SN21","v":80000},{"$f":"SO21","v":80000},{"$f":"SP21","v":80000},{"$f":"SQ21","v":80000},{"$f":"SR21","v":80000},{"$f":"SS21","v":80000},{"$f":"ST21","v":80000},{"$f":"SU21","v":80000},{"$f":"SV21","v":0},{"$f":"SW21","v":0},{"$f":"SX21","v":0},{"$f":"SY21","v":0},{"$f":"SZ21","v":0},{"$f":"TA21","v":0},{"$f":"TB21","v":0},{"$f":"TC21","v":0},{"$f":"TD21","v":0},{"$f":"TE21","v":0},{"$f":"TF21","v":0},{"$f":"TG21","v":0},{"$f":"TH21","v":0},{"$f":"TI21","v":0},{"$f":"TJ21","v":0},{"$f":"TK21","v":0},{"$f":"TL21","v":0},{"$f":"TM21","v":0},{"$f":"TN21","v":0},{"$f":"TO21","v":0},{"$f":"TP21","v":0},{"$f":"TQ21","v":0},{"$f":"TR21","v":0},{"$f":"TS21","v":0},{"$f":"TT21","v":0},{"$f":"TU21","v":0},{"$f":"TV21","v":0},{"$f":"TW21","v":0},{"$f":"TX21","v":0},{"$f":"TY21","v":0},{"$f":"TZ21","v":0},{"$f":"UA21","v":0},{"$f":"UB21","v":0},{"$f":"UC21","v":0},{"$f":"UD21","v":0},{"$f":"UE21","v":0},{"$f":"UF21","v":0},{"$f":"UG21","v":0},{"$f":"UH21","v":0},{"$f":"UI21","v":0},{"$f":"UJ21","v":0},{"$f":"UK21","v":0},{"$f":"UL21","v":0},{"$f":"UM21","v":0},{"$f":"UN21","v":0},{"$f":"UO21","v":0}]
[null,null,null,"Closing Balance","EUR",null,null,null,"EUR",null,{"$f":"SUM(K264:K266)","v":0},0,0,0,0,0,0,0,0,0,0,0,0,0,0,0,0,0,0,0,0,0,0,0,80000,160476.76135382368,241465.00412799406,322904.01890635787,404892.51593697286,487385.91186430072,570096.85748134251,653607.60941346188,737502.79502262967,822044.46075642796,906943.44863159664,992528.55828940694,1078640.7153868738,1165068.8929838387,1252243.5823605978,1339706.3491811384,1427956.4852626447,1516750.0804628818,1605186.5717169079,1695071.5794732461,1785173.3872364676,1876166.783948207,1967347.8316471342,2059463.0890993855,2152145.6077351258,2244971.3559047445,2338796.2655176749,2432734.3614409994,2527715.5470898636,2623281.6427880567,2717872.9013752821,2814610.0179100288,2911383.7339428351,3009312.5225950601,3107246.5714994473,3206381.5163098034,3306126.9507141048,3405829.8702257974,3506803.540998498,3607702.3960459996,{"$f":"SUM(BW264:BW266)","v":3709919.2316437024},3812765.5356349959,3914730.3683428573,4018837.9336171243,4122788.2662924901,4228177.086949301,4333374.9798515541,4440060.6287609758,4547403.2657648288,4654503.5924819326,4763166.8051727638,4871552.9783542911,4981552.8175162505,5092230.054111301,5200554.1365480646,5312580.0199455619,5424240.4304781361,5537643.8115381766,5650645.4935454549,5765443.1149037434,5880947.6792414533,5995995.2864579707,6112919.6296825772,6229349.6776633626,6347711.0563128134,6466801.3241559668,6582771.06862179,6703308.8753902121,6823257.3580718292,6945276.1196889849,7066666.6102577625,7190184.3268177379,7314462.6861638874,7438053.3503232412,7563858.1286309492,7688935.0691501535,7816284.8191017965,7944418.8101430554,8068607.3819278274,8198295.2175716897,8327153.0966588864,8458433.1001170799,8588841.2753175665,8721732.7984092794,8855442.6897577792,8988216.8503262419,9123567.7950990312,9257939.8517702017,9394951.7959609497,9532807.4826517273,9667724.7125825267,9807260.180579748,9945706.7135921773,10086954.041309956,10227067.414618609,10370047.408657538,10513907.897447033,10656565.709486587,10802190.625960646,10946566.463799328,11093977.253489768,11242295.823512498,11384827.898909714,11534937.57592061,{"$f":"SUM(EI264:EI266)","v":11683680.231607705},11835630.291337203,11986164.930350386,12139977.741516961,12294737.757736329,12448008.455464898,12604665.376411865,12759783.093028773,12918359.974412022,13077913.398790378,13230655.575257666,13392132.168251447,13551942.806540463,13715397.940115884,13877135.086242886,14042592.808342157,14209069.446806114,14373748.636631539,14542264.588150362,14708929.460059222,14879509.511227107,15051140.022920005,15214857.711682372,15388553.353760101,15560261.697889185,15736084.395564614,15909863.856818527,16087839.463142421,16266911.073058639,16443854.004880151,16625118.011972157,16804195.684107989,16987678.735613186,17172291.706480559,17351218.984074254,17538070.696679875,17722589.125789933,17911727.797927868,18098473.042856134,18289926.471110992,18482558.901642982,18672706.024193898,18867695.675324328,19060138.026995588,19257513.549289055,19456104.543106616,19644323.595097858,19845296.629963122,20043565.011067294,20246996.641439799,20447658.960560255,20653579.069154177,20860767.268265739,21065087.363823477,21274809.699935857,21481597.288371891,21693884.56235959,21907479.136935841,22109333.263411388,22325486.240670927,22538535.353731856,22757331.429349311,22972954.131120197,23194425.430328261,{"$f":"SUM(GU264:GU266)","v":23417260.586890385},23636816.147643484,23862375.620337483,24084583.851664998,24312900.752875578,24542623.667803902,24759135.036810122,24991605.937197305,25220543.835707884,25455856.168758605,25687560.774380583,25925749.075958867,26165404.180991687,26401337.350000106,26643921.207279272,26882706.106603697,27128254.313308984,27375314.646997266,27613020.176206056,27863065.779269986,28109116.191302523,28362216.836716995,28611241.947923422,28867434.767846644,29125205.266063895,29378777.419726912,29639696.851637632,29896335.126611512,30160441.765565354,30426174.817436274,30675411.767575372,30944316.090969395,31208729.266377877,31480917.848253213,31748528.910915028,32024041.669410788,32301251.081618138,32573750.934066527,32854345.547994722,33130141.576275386,33414162.536966443,33699932.54630322,33967378.843389548,34256555.651397757,34540708.174518965,34833415.64057342,35121005.970562205,35417287.007636964,35715392.592961222,36008239.07952328,36309983.846682936,36606373.809883691,36911801.990892634,37219111.049795441,37506131.777137943,37817100.818406895,38122472.470705278,38437237.041194208,38746304.405806728,39064910.637835681,39385478.900403835,39700197.328423217,40024677.7928342,40343205.537470058,{"$f":"SUM(JG264:JG266)","v":40671645.754127793},41002108.560649142,41318316.228492066,41652761.340103373,41980991.676190905,42319517.654198594,42651721.53582336,42994377.98064512,43339144.561244555,43677424.926676795,44026397.8247713,44368773.887657776,44722004.228445888,45077409.820834026,45408140.101719558,45767771.033734076,46120524.839728266,46484542.756274551,46841568.175479002,47210026.397652142,47580753.647269346,47944311.953829639,48319561.056884989,48687522.29870557,49067348.215542652,49449513.163991481,49804562.027147993,50191266.861722335,50570382.565961339,50961803.451678589,51345511.181765072,51741705.439322323,52140339.527474955,52531070.763249271,52934565.895274989,53330030.336528741,53738445.59542197,54149375.943883665,54530566.45802699,54946374.819430463,55353828.670013152,55774706.818003662,56187097.127149545,56613106.681860648,57041739.674760677,57461680.887658142,57895539.542642526,58320568.990301311,58759716.822074264,59201568.999746785,59622621.326979853,60069787.415118769,60507774.329767928,60960391.338349536,61403685.8221507,61861820.00375583,62322775.452382751,62774189.087366842,63240763.057620503,63697647.455272928,64169908.23682332,64645077.27936399,65084647.149251029,65565449.307221204,{"$f":"SUM(LS264:LS266)","v":66036187.711918317},66522849.61604397,66999293.664083399,67491886.535970107,67987512.877264738,68472685.610795617,68974351.877064005,69465405.694314256,69973185.29712455,70484091.891775385,70956139.620964542,71473099.412973538,71979044.558449835,72502303.570387036,73014382.275456458,73544017.070460483,74076913.445239022,74598376.064504415,75137765.358559579,75665550.142754987,76211511.273521692,76760834.52437298,77267794.850571871,77823622.872604296,78367414.070106879,78930013.731464997,79480398.484014183,80049852.089803442,80622812.48627317,81183285.50164853,81763225.770903632,82330495.098547727,82917500.076643094,83508119.929709211,84069199.048490793,84666911.256720021,85251485.147155315,85856478.071197554,86448141.205194518,87060503.337666363,87676636.498712599,88279146.897660509,88902784.669855997,89512602.319579691,90143835.916850969,90778956.756337598,91363888.903425887,92006523.033546731,92634837.464572772,93285298.30880037,93921233.622719735,94579616.309943691,95242053.42802605,95889650.057192221,96560154.582503617,97215606.457805842,97894276.44471252,98577125.795066893,99205433.041151434,99896356.713428214,100571690.74178755,101271028.0578151,101954554.46331461,102662407.68575087,{"$f":"SUM(OE264:OE266)","v":103374619.98688704},104070682.7840865,104791567.47914582,105496074.59890412,106225737.09549353,106959892.97594585,107634826.98204641,108377660.2740242,109103538.7744803,109855416.63966586,110590101.85419075,111351134.223801,112116853.15820625,112865015.44193323,113640057.11043499,114397296.95389214,115181774.66858162,115971083.32842788,116719177.24095695,117517953.48333867,118298303.71585499,119106804.48355211,119896623.50049201,120714966.98912054,121538349.97401385,122342659.82745269,123176066.41746166,123990136.26975998,124833688.29563138,125682435.056162,126461507.88153638,127320279.02771544,128159046.38519622,129028271.25779627,129877217.42387623,130757023.08150358,131642246.72972652,132506770.92686722,133402769.81538174,134277785.87964436,135184690.97485986,136097180.94354641,136934182.83299246,137857446.46555835,138759010.25070331,139693511.47614211,140606017.32178897,141551892.72612098,142503592.98961461,143432845.56359544,144396129.04969719,145336660.2243551,146311667.72000179,147292679.47510764,148191953.14331445,149184544.01098022,150153611.82563326,151158282.91601685,152139113.26107565,153156011.40184417,154179171.77168065,155178005.15499666,156213617.3010225,157224574.99689913,{"$f":"SUM(QQ264:QQ266)","v":158272790.26278502},159327460.61384055,160325324.82170838,161392635.02435037,162434457.16399264,163514755.75685045,164569224.71091026,165662669.55986756,166762848.0253424,167836674.04024309,168950240.38942534,170037102.20613658,171164219.16050729,172298277.08986032,173336637.28807357,174484073.33210769,175603914.11988878,176765312.43439236,177898748.30520844,179074278.59297988,180257047.99314931,181411292.92111775,182608454.04693913,183776712.2190775,184988439.99311242,186207629.78972837,187323356.80922163,188556925.41465911,189760633.60257816,191009211.36672106,192227533.99427095,193491303.34419936,194762855.19744945,196003547.72893071,197290570.40386996,198546326.89689991,199849008.43183768,201159712.09784967,202358605.82571945,203684764.01280764,204978626.81085768,206320919.5259915,207630492.53743348,208989115.88586429,210356105.86442634,211689726.63713887,213073347.42902416,214423161.64882424,215823615.39132604,217232693.36253178,218564141.87773439,219990096.47004572,{"$f":"SUM(SQ264:SQ266)","v":221381131.1728065},222824433.25700563,224232359.2378132,225693219.66197997,226221560.51595861,226221560.51595861,226221560.51595861,226221560.51595861,226221560.51595861,226221560.51595861,226221560.51595861,226221560.51595861,226221560.51595861,226221560.51595861,226221560.51595861,226221560.51595861,226221560.51595861,226221560.51595861,226221560.51595861,226221560.51595861,226221560.51595861,226221560.51595861,226221560.51595861,226221560.51595861,226221560.51595861,226221560.51595861,226221560.51595861,226221560.51595861,226221560.51595861,226221560.51595861,226221560.51595861,226221560.51595861,226221560.51595861,226221560.51595861,226221560.51595861,226221560.51595861,226221560.51595861,226221560.51595861,226221560.51595861,226221560.51595861,226221560.51595861,226221560.51595861,226221560.51595861,226221560.51595861,226221560.51595861,226221560.51595861,226221560.51595861,226221560.51595861,226221560.51595861,226221560.51595861,226221560.51595861]
[]
[null,null,"MIRR",null,"% p.a.",null,{"$f":"MIRR(K25:SP25,F265,F265)","v":6.5264757644168503E-2}]